BOTTLE,20220629CCHSIOAMB
EXPOCODE,SECT_ID,STNNBR,CASTNO,SAMPNO,BTLNBR,BTLNBR_FLAG_W,DATE,TIME,LATITUDE,LONGITUDE,DEPTH,CTDRAW,CTDPRS,CTDTMP,CTDSAL,CTDSAL_FLAG_W,SALNTY,SALNTY_FLAG_W,CTDOXY,CTDOXY_FLAG_W,THETA,OXYGEN,OXYGEN_FLAG_W,SILCAT,SILCAT_FLAG_W,NITRAT,NITRAT_FLAG_W,NITRIT,NITRIT_FLAG_W,PHSPHT,PHSPHT_FLAG_W,CFC-11,CFC-11_FLAG_W,CFC-12,CFC-12_FLAG_W,CFC113,CFC113_FLAG_W,TRITUM,TRITUM_FLAG_W,HELIUM,HELIUM_FLAG_W,DELHE3,DELHE3_FLAG_W,DELC14,DELC14_FLAG_W,DELC13,DELC13_FLAG_W,NEON,NEON_FLAG_W,TCARBN,TCARBN_FLAG_W,PCO2,PCO2_FLAG_W,ALKALI,ALKALI_FLAG_W,PH,PH_FLAG_W,PH_TMP,C14ERR,DELHER,HELIER,NEONER,TRITER
,,,,,,,,,,,,,DBAR,ITS-90,PSS-78,,PSS-78,,UMOL/KG,,ITS-90,UMOL/KG,,UMOL/KG,,UMOL/KG,,UMOL/KG,,UMOL/KG,,PMOL/KG,,PMOL/KG,,PMOL/KG,,TU,,NMOL/KG,,PERCNT,,/MILLE,,/MILLE,,NMOL/KG,,UMOL/KG,,UATM,,UMOL/KG,,,,DEG C,/MILLE,PERCNT,NMOL/KG,NMOL/KG,TU
     316N151_4,   A22,    61,  1,     33,     33,2,19970830,1740, 36.2172, -66.0022, 4766,  190.2,      4.5,  26.3386,  35.9912,2,-999.0000,9,    196.9,2, 26.3376,   -999.0,9,  -999.00,9,  -999.00,9,  -999.00,9,  -999.00,9, -999.000,9, -999.000,9, -999.000,9, -999.000,9,-999.0000,5,  -999.00,9,   -999.0,9,  -999.00,9,-999.000,9,   -999.0,9,   -999.0,9,   -999.0,9,-999.0000,9,-999,  -999.0, -999.00,-999.0000,-999.000,-999.000
     316N151_4,   A22,    61,  1,     32,     32,2,19970830,1740, 36.2172, -66.0022, 4766,  403.9,     26.3,  26.0304,  36.0061,2,  36.0066,2,    184.6,2, 26.0247,    211.4,2,     0.63,2,     0.02,2,     0.00,2,     0.01,2,    1.791,2,    1.063,2,    0.137,2, -999.000,9,-999.0000,5,  -999.00,9,   -999.0,9,  -999.00,9,-999.000,9,   2003.0,2,    276.0,2,   2353.0,2,   8.1010,2,25,  -999.0, -999.00,-999.0000,-999.000,-999.000
     316N151_4,   A22,    61,  1,     31,     31,2,19970830,1740, 36.2172, -66.0022, 4766,  683.4,     54.4,  22.2082,  36.5876,2,  36.5973,2,    232.2,2, 22.1973,    232.1,2,     0.44,2,     0.02,2,     0.00,2,     0.01,2,    2.214,6,    1.264,6,    0.156,2, -999.000,9,-999.0000,5,  -999.00,9,   -999.0,9,  -999.00,9,-999.000,9,   2041.9,2,   -999.0,9,   2390.8,6,   8.0810,2,25,  -999.0, -999.00,-999.0000,-999.000,-999.000
     316N151_4,   A22,    61,  1,     30,     30,2,19970830,1740, 36.2172, -66.0022, 4766,  870.3,     73.1,  21.0422,  36.6244,2,  36.6215,2,    235.1,2, 21.0281,    234.6,2,     0.34,2,     0.02,2,     0.00,2,     0.01,2, -999.000,9, -999.000,9, -999.000,9, -999.000,9,-999.0000,5,  -999.00,9,   -999.0,9,  -999.00,9,-999.000,9,   2048.8,2,   -999.0,9,   2394.0,2,   8.0770,2,25,  -999.0, -999.00,-999.0000,-999.000,-999.000
     316N151_4,   A22,    61,  1,     29,     29,2,19970830,1740, 36.2172, -66.0022, 4766, 1152.7,    101.1,  19.8789,  36.7243,2,  36.7350,2,    212.8,2, 19.8601,    216.7,2,     0.45,2,     0.06,2,     0.05,2,     0.02,2,    2.280,6,    1.297,6,    0.146,2, -999.000,9,-999.0000,5,  -999.00,9,   -999.0,9,  -999.00,9,-999.000,9,   2072.5,2,   -999.0,9,   2401.6,2,   8.0440,2,25,  -999.0, -999.00,-999.0000,-999.000,-999.000
     316N151_4,   A22,    61,  1,     28,     28,2,19970830,1740, 36.2172, -66.0022, 4766, 1651.4,    150.6,  18.7379,  36.6191,2,  36.6191,2,    206.6,2, 18.7111,    207.3,2,     0.84,2,     1.86,2,     0.08,2,     0.08,2,    2.369,2,    1.339,2,    0.118,2, -999.000,9,-999.0000,5,  -999.00,9,   -999.0,9,  -999.00,9,-999.000,9,   2081.6,2,   -999.0,9,   2392.6,2,   8.0190,2,25,  -999.0, -999.00,-999.0000,-999.000,-999.000
     316N151_4,   A22,    61,  1,     27,     27,2,19970830,1740, 36.2172, -66.0022, 4766, 2131.2,    198.3,  18.4115,  36.5896,2,  36.5892,2,    206.8,2, 18.3765,    208.5,2,     1.04,2,     2.57,2,     0.02,2,     0.12,2,    2.406,2,    1.350,2,    0.100,2, -999.000,9,-999.0000,5,  -999.00,9,   -999.0,9,  -999.00,9,-999.000,9,   2083.9,2,   -999.0,9,   2392.0,2,   8.0090,2,25,  -999.0, -999.00,-999.0000,-999.000,-999.000
     316N151_4,   A22,    61,  1,     26,     26,2,19970830,1740, 36.2172, -66.0022, 4766, 2652.2,    249.9,  18.2904,  36.5787,2,  36.5797,2,    212.0,2, 18.2465,    209.3,2,     1.04,2,     2.70,2,     0.01,2,     0.13,2,    2.288,2,    1.330,2,    0.091,2, -999.000,9,-999.0000,5,  -999.00,9,   -999.0,9,  -999.00,9,-999.000,9,   2086.0,2,   -999.0,9,   2390.5,2,   8.0140,2,25,  -999.0, -999.00,-999.0000,-999.000,-999.000
     316N151_4,   A22,    61,  1,     25,     25,2,19970830,1740, 36.2172, -66.0022, 4766, 3164.3,    300.7,  18.2037,  36.5696,2,  36.5695,2,    212.0,2, 18.1510,    211.5,2,     1.05,2,     2.78,2,     0.01,2,     0.14,2,    2.368,2,    1.330,2,    0.105,2, -999.000,9,-999.0000,5,  -999.00,9,   -999.0,9,  -999.00,9,-999.000,9,   2085.5,2,   -999.0,9,   2390.7,2,   8.0100,2,25,  -999.0, -999.00,-999.0000,-999.000,-999.000
     316N151_4,   A22,    61,  1,     24,     24,2,19970830,1740, 36.2172, -66.0022, 4766, 4170.5,    400.9,  18.0377,  36.5459,2,  36.5472,2,    211.4,2, 17.9677,    211.4,2,     1.15,2,     3.15,2,     0.01,2,     0.16,2,    2.380,2,    1.338,2,    0.091,2, -999.000,9,-999.0000,5,  -999.00,9,   -999.0,9,  -999.00,9,-999.000,9,   2086.3,2,   -999.0,9,   2389.0,2,   8.0070,2,25,  -999.0, -999.00,-999.0000,-999.000,-999.000
     316N151_4,   A22,    61,  1,     23,     23,2,19970830,1740, 36.2172, -66.0022, 4766, 5181.3,    501.9,  17.6377,  36.4669,2,  36.4676,2,    199.7,2, 17.5512,    202.6,2,     1.65,2,     4.66,2,     0.01,2,     0.25,2,    2.321,2,    1.288,2,    0.071,2, -999.000,9,-999.0000,5,  -999.00,9,   -999.0,9,  -999.00,9,-999.000,9,   2096.7,2,   -999.0,9,   2384.4,2,   7.9870,2,25,  -999.0, -999.00,-999.0000,-999.000,-999.000
     316N151_4,   A22,    61,  1,     22,     22,2,19970830,1740, 36.2172, -66.0022, 4766, 6179.7,    602.1,  16.3320,  36.2266,2,  36.2277,2,    186.3,2, 16.2334,    187.4,2,     2.82,2,     8.28,2,     0.01,2,     0.48,2,    2.142,2,    1.169,2,    0.056,2, -999.000,9,-999.0000,5,  -999.00,9,   -999.0,9,  -999.00,9,-999.000,9,   2115.3,2,   -999.0,9,   2371.8,2,   7.9330,2,25,  -999.0, -999.00,-999.0000,-999.000,-999.000
     316N151_4,   A22,    61,  1,     21,     21,2,19970830,1740, 36.2172, -66.0022, 4766, 7173.1,    701.8,  14.4941,  35.9141,2,  35.9116,2,    171.6,2, 14.3877,    170.2,2,     5.08,2,    12.94,2,     0.00,2,     0.78,2,    1.804,2,    0.965,2,    0.029,2, -999.000,9,-999.0000,5,  -999.00,9,   -999.0,9,  -999.00,9,-999.000,9,   2138.4,2,   -999.0,9,   2353.6,6,   7.8630,6,25,  -999.0, -999.00,-999.0000,-999.000,-999.000
     316N151_4,   A22,    61,  1,     20,     20,2,19970830,1740, 36.2172, -66.0022, 4766, 8190.0,    803.9,  12.3508,  35.5940,2,  35.5963,2,    159.3,2, 12.2408,    158.1,2,     8.23,2,    17.70,2,     0.00,2,     1.09,2,    1.372,2,    0.734,2,    0.027,2, -999.000,9,-999.0000,5,  -999.00,9,   -999.0,9,  -999.00,9,-999.000,9,   2156.6,2,   -999.0,9,   2340.4,2,   7.7950,2,25,  -999.0, -999.00,-999.0000,-999.000,-999.000
     316N151_4,   A22,    61,  1,     19,     19,2,19970830,1740, 36.2172, -66.0022, 4766, 9150.8,    900.4,  10.2788,  35.3277,2,  35.3261,2,    148.4,2, 10.1685,    150.1,2,    11.86,2,    21.78,2,     0.00,2,     1.37,2,    1.040,2,    0.531,2,    0.025,2, -999.000,9,-999.0000,5,  -999.00,9,   -999.0,9,  -999.00,9,-999.000,9,   2175.5,2,   -999.0,9,   2330.7,2,   7.7280,2,25,  -999.0, -999.00,-999.0000,-999.000,-999.000
     316N151_4,   A22,    61,  1,     18,     18,2,19970830,1740, 36.2172, -66.0022, 4766,10201.2,   1005.7,   8.2544,  35.1621,2,  35.1601,2,    160.1,2,  8.1453,    163.6,2,    13.82,2,    22.84,2,     0.00,2,     1.46,2,    0.887,2,    0.444,2,    0.023,2, -999.000,9,-999.0000,5,  -999.00,9,   -999.0,9,  -999.00,9,-999.000,9,   2179.8,2,   -999.0,9,   2323.0,2,   7.7030,2,25,  -999.0, -999.00,-999.0000,-999.000,-999.000
     316N151_4,   A22,    61,  1,     17,     17,2,19970830,1740, 36.2172, -66.0022, 4766,11211.1,   1106.8,   6.8355,  35.1115,2,  35.1141,2,    186.7,2,  6.7262,    189.8,2,    13.64,2,    21.46,2,     0.00,2,     1.39,2,    0.997,2,    0.496,2,    0.041,2, -999.000,9,-999.0000,5,  -999.00,9,   -999.0,9,  -999.00,9,-999.000,9,   2179.0,2,   -999.0,9,   2322.8,2,   7.7050,2,25,  -999.0, -999.00,-999.0000,-999.000,-999.000
     316N151_4,   A22,    61,  1,     16,     16,2,19970830,1740, 36.2172, -66.0022, 4766,13167.0,   1302.5,   5.2651,  35.0618,2,  35.0634,2,    229.6,2,  5.1501,    230.0,2,    12.57,2,    19.18,2,     0.00,2,     1.26,2,    1.349,2,    0.658,2,    0.060,2, -999.000,9,-999.0000,5,  -999.00,9,   -999.0,9,  -999.00,9,-999.000,9,   2169.7,2,   -999.0,9,   2318.3,2,   7.7280,2,25,  -999.0, -999.00,-999.0000,-999.000,-999.000
     316N151_4,   A22,    61,  1,     15,     15,2,19970830,1740, 36.2172, -66.0022, 4766,15179.2,   1503.8,   4.5420,  35.0127,2,  34.9909,2,    247.6,2,  4.4152,    256.0,2,    12.37,2,    18.12,2,     0.00,2,     1.20,2,    1.400,6,    0.696,6, -999.000,9, -999.000,9,-999.0000,5,  -999.00,9,   -999.0,9,  -999.00,9,-999.000,9,   2159.1,2,   -999.0,9,   2314.8,2,   7.7350,2,25,  -999.0, -999.00,-999.0000,-999.000,-999.000
     316N151_4,   A22,    61,  1,     14,     14,2,19970830,1740, 36.2172, -66.0022, 4766,17649.6,   1750.7,   4.0194,  34.9671,2,  34.9675,2,    262.2,2,  3.8757,    262.0,2,    12.18,2,    17.84,2,     0.00,2,     1.18,2,    1.486,2,    0.713,2,    0.067,2, -999.000,9,-999.0000,5,  -999.00,9,   -999.0,9,  -999.00,9,-999.000,9,   2157.7,2,   -999.0,9,   2311.3,2,   7.7420,2,25,  -999.0, -999.00,-999.0000,-999.000,-999.000
     316N151_4,   A22,    61,  1,     13,     13,2,19970830,1740, 36.2172, -66.0022, 4766,20144.9,   2000.1,   3.7519,  34.9551,2,  34.9572,2,    266.0,2,  3.5881,    268.2,2,    12.87,2,    17.67,2,     0.00,2,     1.17,2,    1.297,2,    0.636,2,    0.057,2, -999.000,9,-999.0000,5,  -999.00,9,   -999.0,9,  -999.00,9,-999.000,9,   2156.4,2,   -999.0,9,   2313.8,2,   7.7430,2,25,  -999.0, -999.00,-999.0000,-999.000,-999.000
     316N151_4,   A22,    61,  1,     12,     12,2,19970830,1740, 36.2172, -66.0022, 4766,22656.8,   2251.0,   3.6079,  34.9592,2,  34.9606,2,    264.5,2,  3.4219,    264.9,2,    14.35,2,    17.76,2,     0.00,2,     1.18,2,    0.939,2,    0.453,2,    0.038,2, -999.000,9,-999.0000,5,  -999.00,9,   -999.0,9,  -999.00,9,-999.000,9,   2155.4,2,   -999.0,9,   2314.5,2,   7.7500,2,25,  -999.0, -999.00,-999.0000,-999.000,-999.000
     316N151_4,   A22,    61,  1,     11,     11,2,19970830,1740, 36.2172, -66.0022, 4766,25151.5,   2500.3,   3.4807,  34.9694,2,  34.9717,2,    262.9,2,  3.2718,    261.7,2,    16.80,2,    18.08,2,     0.00,2,     1.20,2,    0.478,2,    0.244,2,    0.019,2, -999.000,9,-999.0000,5,  -999.00,9,   -999.0,9,  -999.00,9,-999.000,9,   2158.5,2,   -999.0,9,   2320.0,2,   7.7500,2,25,  -999.0, -999.00,-999.0000,-999.000,-999.000
     316N151_4,   A22,    61,  1,     10,     10,2,19970830,1740, 36.2172, -66.0022, 4766,27627.1,   2747.8,   3.2499,  34.9570,2,  34.9573,2,    263.1,2,  3.0202,    262.7,2,    18.48,2,    18.08,2,     0.00,2,     1.21,2,    0.406,2,    0.203,2,    0.012,2, -999.000,9,-999.0000,5,  -999.00,9,   -999.0,9,  -999.00,9,-999.000,9,   2159.9,2,   -999.0,9,   2317.6,2,   7.7510,2,25,  -999.0, -999.00,-999.0000,-999.000,-999.000
     316N151_4,   A22,    61,  1,      9,      9,2,19970830,1740, 36.2172, -66.0022, 4766,30148.4,   2999.9,   2.9730,  34.9436,2,  34.9367,3,    264.2,2,  2.7227,    263.7,2,    20.75,2,    18.17,2,     0.00,2,     1.22,2,    0.346,2,    0.175,2,    0.008,2, -999.000,9,-999.0000,5,  -999.00,9,   -999.0,9,  -999.00,9,-999.000,9,   2161.6,2,   -999.0,9,   2321.3,2,   7.7510,2,25,  -999.0, -999.00,-999.0000,-999.000,-999.000
     316N151_4,   A22,    61,  1,      8,      8,2,19970830,1740, 36.2172, -66.0022, 4766,32662.7,   3251.2,   2.7256,  34.9291,2,  34.9297,2,    266.8,2,  2.4545,    266.3,2,    21.93,2,    18.00,2,     0.00,2,     1.21,2,    0.393,2,    0.196,2,    0.012,2, -999.000,9,-999.0000,5,  -999.00,9,   -999.0,9,  -999.00,9,-999.000,9,   2161.3,2,   -999.0,9,   2320.4,2,   7.7560,2,25,  -999.0, -999.00,-999.0000,-999.000,-999.000
     316N151_4,   A22,    61,  1,      7,      7,2,19970830,1740, 36.2172, -66.0022, 4766,35123.6,   3497.3,   2.5277,  34.9181,2,  34.9168,2,    268.1,2,  2.2349,    267.9,2,    23.70,2,    17.97,2,     0.00,2,     1.22,2,    0.437,2,    0.221,2,    0.016,2, -999.000,9,-999.0000,5,  -999.00,9,   -999.0,9,  -999.00,9,-999.000,9,   2162.8,2,   -999.0,9,   2324.1,2,   7.7590,2,25,  -999.0, -999.00,-999.0000,-999.000,-999.000
     316N151_4,   A22,    61,  1,      6,      6,2,19970830,1740, 36.2172, -66.0022, 4766,37641.1,   3748.9,   2.3830,  34.9075,2,  34.9075,2,    268.4,2,  2.0663,    268.2,2,    25.87,2,    18.13,2,     0.00,2,     1.23,2,    0.496,2,    0.248,2,    0.027,2, -999.000,9,-999.0000,5,  -999.00,9,   -999.0,9,  -999.00,9,-999.000,9,   2165.0,2,   -999.0,9,   2323.5,2,   7.7500,2,25,  -999.0, -999.00,-999.0000,-999.000,-999.000
     316N151_4,   A22,    61,  1,      5,      5,2,19970830,1740, 36.2172, -66.0022, 4766,40158.2,   4000.5,   2.3082,  34.9001,2,  34.9015,2,    267.4,2,  1.9653,    266.6,2,    28.33,2,    18.45,2,     0.00,2,     1.25,2,    0.490,2,    0.247,2,    0.025,2, -999.000,9,-999.0000,5,  -999.00,9,   -999.0,9,  -999.00,9,-999.000,9,   2168.6,2,   -999.0,9,   2326.4,2,   7.7410,2,25,  -999.0, -999.00,-999.0000,-999.000,-999.000
     316N151_4,   A22,    61,  1,      4,      4,2,19970830,1740, 36.2172, -66.0022, 4766,42658.1,   4250.4,   2.2762,  34.8964,2,  34.8950,2,    265.6,2,  1.9053,    265.0,2,    30.88,2,    18.78,2,     0.00,2,     1.28,2,    0.438,2,    0.225,2,    0.022,2, -999.000,9,-999.0000,5,  -999.00,9,   -999.0,9,  -999.00,9,-999.000,9,   2171.9,2,   -999.0,9,   2328.1,2,   7.7440,2,25,  -999.0, -999.00,-999.0000,-999.000,-999.000
     316N151_4,   A22,    61,  1,      3,      3,2,19970830,1740, 36.2172, -66.0022, 4766,45150.5,   4499.5,   2.2554,  34.8899,2,  34.8901,2,    263.7,2,  1.8558,    262.9,2,    33.75,2,    19.19,2,     0.01,2,     1.31,2,    0.396,2,    0.208,2,    0.026,2, -999.000,9,-999.0000,5,  -999.00,9,   -999.0,9,  -999.00,9,-999.000,9,   2175.1,2,   -999.0,9,   2333.2,2,   7.7410,2,25,  -999.0, -999.00,-999.0000,-999.000,-999.000
     316N151_4,   A22,    61,  1,      2,      2,2,19970830,1740, 36.2172, -66.0022, 4766,47655.9,   4750.1,   2.2529,  34.8870,2,  34.8865,2,    261.8,2,  1.8230,    260.9,2,    36.21,2,    19.60,2,     0.00,2,     1.34,2,    0.325,2,    0.173,2,    0.022,2, -999.000,9,-999.0000,5,  -999.00,9,   -999.0,9,  -999.00,9,-999.000,9,   2179.1,2,   -999.0,9,   2334.5,2,   7.7410,2,25,  -999.0, -999.00,-999.0000,-999.000,-999.000
     316N151_4,   A22,    61,  1,      1,      1,2,19970830,1740, 36.2172, -66.0022, 4766,49129.4,   4897.1,   2.2330,  34.8807,2,  34.8818,2,    259.4,2,  1.7856,    258.6,2,    39.31,6,    20.13,6,     0.00,6,     1.37,6,    0.227,2,    0.134,2,    0.024,2, -999.000,9,-999.0000,5,  -999.00,9,   -999.0,9,  -999.00,9,-999.000,9,   2182.9,2,   -999.0,9,   2342.3,2,   7.7460,2,25,  -999.0, -999.00,-999.0000,-999.000,-999.000