BOTTLE,20220629CCHSIOAMB
EXPOCODE,SECT_ID,STNNBR,CASTNO,SAMPNO,BTLNBR,BTLNBR_FLAG_W,DATE,TIME,LATITUDE,LONGITUDE,DEPTH,CTDRAW,CTDPRS,CTDTMP,CTDSAL,CTDSAL_FLAG_W,SALNTY,SALNTY_FLAG_W,CTDOXY,CTDOXY_FLAG_W,THETA,OXYGEN,OXYGEN_FLAG_W,SILCAT,SILCAT_FLAG_W,NITRAT,NITRAT_FLAG_W,NITRIT,NITRIT_FLAG_W,PHSPHT,PHSPHT_FLAG_W,CFC-11,CFC-11_FLAG_W,CFC-12,CFC-12_FLAG_W,CFC113,CFC113_FLAG_W,TRITUM,TRITUM_FLAG_W,HELIUM,HELIUM_FLAG_W,DELHE3,DELHE3_FLAG_W,DELC14,DELC14_FLAG_W,DELC13,DELC13_FLAG_W,NEON,NEON_FLAG_W,TCARBN,TCARBN_FLAG_W,PCO2,PCO2_FLAG_W,ALKALI,ALKALI_FLAG_W,PH,PH_FLAG_W,PH_TMP,C14ERR,DELHER,HELIER,NEONER,TRITER
,,,,,,,,,,,,,DBAR,ITS-90,PSS-78,,PSS-78,,UMOL/KG,,ITS-90,UMOL/KG,,UMOL/KG,,UMOL/KG,,UMOL/KG,,UMOL/KG,,PMOL/KG,,PMOL/KG,,PMOL/KG,,TU,,NMOL/KG,,PERCNT,,/MILLE,,/MILLE,,NMOL/KG,,UMOL/KG,,UATM,,UMOL/KG,,,,DEG C,/MILLE,PERCNT,NMOL/KG,NMOL/KG,TU
     316N151_4,   A22,    35,  1,     36,     36,2,19970822,2158, 19.6887, -66.0003, 7337,  197.0,      2.7,  28.6426,  36.1929,2,  36.1947,2,    213.8,2, 28.6419,    209.5,2,     0.98,2,     0.04,2,     0.00,2,     0.01,2,    1.619,2,    0.978,2,    0.136,2, -999.000,9,   1.7281,2,    -1.91,2,   -999.0,9,  -999.00,9,   6.764,2,   2000.1,2,   -999.0,9,   -999.0,9,-999.0000,9,-999,  -999.0,    0.15,  0.0086,   0.034,-999.000
     316N151_4,   A22,    35,  1,     35,     35,2,19970822,2158, 19.6887, -66.0003, 7337,  664.0,     49.5,  28.5948,  36.2076,2,  36.2095,2,    209.4,2, 28.5829,    212.6,2,     1.00,2,     0.04,2,     0.00,2,     0.01,2,    1.646,6,    0.998,6,    0.127,2, -999.000,9,-999.0000,5,  -999.00,9,   -999.0,9,  -999.00,9,-999.000,9,   1999.9,2,   -999.0,9,   -999.0,9,-999.0000,9,-999,  -999.0, -999.00,-999.0000,-999.000,-999.000
     316N151_4,   A22,    35,  1,     34,     34,2,19970822,2158, 19.6887, -66.0003, 7337, 1148.0,     96.7,  25.6616,  36.6844,2,  36.7147,2,    210.7,2, 25.6401,    219.4,2,     0.84,2,     0.04,2,     0.00,2,     0.01,2,    1.867,2,    1.109,2,    0.136,2,    0.863,2,   1.7736,2,    -2.09,2,   -999.0,9,  -999.00,9,   7.095,2,   2027.5,2,   -999.0,9,   -999.0,9,-999.0000,9,-999,  -999.0,    0.15,  0.0089,   0.035,   0.013
     316N151_4,   A22,    35,  1,     33,     33,2,19970822,2158, 19.6887, -66.0003, 7337, 1631.5,    146.6,  24.3579,  37.1677,2,  37.1671,2,    199.7,2, 24.3264,    206.1,2,     0.57,2,     0.30,2,     0.04,2,     0.02,2,    1.945,2,    1.140,2,    0.142,2,    0.974,2,   1.7469,2,    -2.87,2,   -999.0,9,  -999.00,9,   7.031,2,   2071.9,2,   -999.0,9,   -999.0,9,-999.0000,9,-999,  -999.0,    0.15,  0.0087,   0.035,   0.013
     316N151_4,   A22,    35,  1,     32,     32,2,19970822,2158, 19.6887, -66.0003, 7337, 2142.5,    198.0,  22.0634,  37.1679,2,  37.1736,2,    184.6,2, 22.0238,    186.9,2,     0.50,2,     1.32,2,     0.02,2,     0.06,2,    2.086,2,    1.200,2,    0.088,2,    1.109,2,   1.7665,2,    -1.77,2,   -999.0,9,  -999.00,9,   7.141,2,   2111.4,2,   -999.0,9,   -999.0,9,-999.0000,9,-999,  -999.0,    0.15,  0.0088,   0.036,   0.013
     316N151_4,   A22,    35,  1,     31,     31,2,19970822,2158, 19.6887, -66.0003, 7337, 2609.7,    244.8,  20.0669,  36.9005,2,  36.9000,2,    175.5,2, 20.0210,    172.0,2,     1.02,2,     3.84,2,     0.01,2,     0.18,2,    2.190,2,    1.224,2,    0.026,2,    1.169,2,   1.7587,2,    -1.04,2,   -999.0,9,  -999.00,9,   7.151,2,   2124.9,2,   -999.0,9,   -999.0,9,-999.0000,9,-999,  -999.0,    0.15,  0.0088,   0.036,   0.014
     316N151_4,   A22,    35,  1,     30,     30,2,19970822,2158, 19.6887, -66.0003, 7337, 3136.4,    297.8,  18.7537,  36.6889,2,  36.6877,2,    166.3,2, 18.7004,    166.9,2,     1.66,2,     6.56,2,     0.01,2,     0.35,2,    2.182,2,    1.197,2,    0.021,2,    1.204,2,   1.7703,2,    -0.26,2,   -999.0,9,  -999.00,9,   7.324,2,   2134.5,2,   -999.0,9,   -999.0,9,-999.0000,9,-999,  -999.0,    0.15,  0.0089,   0.037,   0.014
     316N151_4,   A22,    35,  1,     29,     29,2,19970822,2158, 19.6887, -66.0003, 7337, 4139.7,    398.6,  16.1445,  36.2264,2,  36.2223,2,    168.0,2, 16.0801,    164.1,2,     3.18,2,    10.71,2,     0.00,2,     0.62,2,    2.004,2,    1.077,2,    0.018,2,    1.288,2,   1.7851,2,     2.97,2,   -999.0,9,  -999.00,9,   7.388,2,   2140.1,2,   -999.0,9,   -999.0,9,-999.0000,9,-999,  -999.0,    0.15,  0.0089,   0.037,   0.014
     316N151_4,   A22,    35,  1,     28,     28,2,19970822,2158, 19.6887, -66.0003, 7337, 5140.3,    499.0,  13.1072,  35.6806,2,  35.6792,2,    132.1,2, 13.0370,    130.6,2,     7.49,2,    19.35,2,     0.00,2,     1.18,2,    1.249,2,    0.653,2,    0.015,2,    1.025,2,   1.7892,2,     5.40,2,   -999.0,9,  -999.00,9,   7.502,2,   2172.8,2,   -999.0,9,   -999.0,9,-999.0000,9,-999,  -999.0,    0.15,  0.0089,   0.038,   0.013
     316N151_4,   A22,    35,  1,     27,     27,2,19970822,2158, 19.6887, -66.0003, 7337, 6129.8,    598.3,  11.7288,  35.4997,2,  35.4979,2,    134.8,2, 11.6502,    135.8,2,     9.32,2,    21.12,2,     0.00,2,     1.30,2,    0.913,2,    0.486,2,    0.011,2,    0.930,2,   1.7952,2,     7.43,2,   -999.0,9,  -999.00,9,   7.475,2,   2177.0,2,   -999.0,9,   -999.0,9,-999.0000,9,-999,  -999.0,    0.15,  0.0090,   0.037,   0.013
     316N151_4,   A22,    35,  1,     26,     26,2,19970822,2158, 19.6887, -66.0003, 7337, 7137.1,    699.3,   9.7860,  35.2463,2,  35.2435,2,    126.7,2,  9.7037,    134.6,2,    13.54,2,    25.03,2,     0.00,2,     1.58,2,    0.457,2,    0.247,2,    0.004,2,    0.601,2,   1.8250,2,     6.11,2,   -999.0,9,  -999.00,9,   7.605,2,   2189.4,2,   -999.0,9,   -999.0,9,-999.0000,9,-999,  -999.0,    0.15,  0.0091,   0.038,   0.011
     316N151_4,   A22,    35,  1,     25,     25,2,19970822,2158, 19.6887, -66.0003, 7337, 8135.0,    799.2,   8.1736,  35.0343,2,  35.0320,2,    131.4,2,  8.0886,    130.9,2,    17.87,2,    28.19,2,     0.00,2,     1.82,2,    0.228,2,    0.127,2,    0.001,2,    0.303,2,   1.8232,2,     3.00,2,   -999.0,9,  -999.00,9,   7.602,2,   2202.1,2,   -999.0,9,   -999.0,9,-999.0000,9,-999,  -999.0,    0.15,  0.0091,   0.038,   0.010
     316N151_4,   A22,    35,  1,     24,     24,2,19970822,2158, 19.6887, -66.0003, 7337, 9163.2,    902.1,   7.0476,  34.9588,2,  34.9574,2,    140.3,2,  6.9586,    141.6,2,    20.29,2,    28.54,2,     0.00,2,     1.88,2,    0.134,2,    0.074,2,   -0.001,2,    0.187,2,   1.8253,2,     1.83,2,   -999.0,9,  -999.00,9,   7.806,2,   2204.3,2,   -999.0,9,   -999.0,9,-999.0000,9,-999,  -999.0,    0.15,  0.0091,   0.039,   0.010
     316N151_4,   A22,    35,  1,     23,     23,2,19970822,2158, 19.6887, -66.0003, 7337,10138.1,    999.6,   6.0038,  34.9013,2,  34.9011,2,    156.7,2,  5.9123,    154.4,2,    22.22,2,    28.54,2,     0.00,2,     1.90,2,    0.093,2,    0.049,2,    0.000,2,    0.132,2,   1.8250,2,     1.07,2,   -999.0,9,  -999.00,9,   7.846,2,   2205.5,2,   -999.0,9,   -999.0,9,-999.0000,9,-999,  -999.0,    0.15,  0.0091,   0.039,   0.010
     316N151_4,   A22,    35,  1,     22,     22,2,19970822,2158, 19.6887, -66.0003, 7337,11170.1,   1102.8,   5.9162,  35.0227,2,  35.0224,2,    189.0,2,  5.8149,    190.6,2,    17.36,2,    23.41,2,     0.00,2,     1.55,2,    0.350,2,    0.174,2,    0.004,2,    0.349,2,   1.8710,2,     2.55,2,   -999.0,9,  -999.00,9,   8.031,2,   2186.3,2,   -999.0,9,   -999.0,9,-999.0000,9,-999,  -999.0,    0.15,  0.0094,   0.040,   0.011
     316N151_4,   A22,    35,  1,     21,     21,2,19970822,2158, 19.6887, -66.0003, 7337,13122.8,   1298.0,   4.8997,  35.0192,2,  35.0164,2,    226.0,2,  4.7888,    225.1,2,    15.89,2,    20.57,2,     0.00,2,     1.37,2,    0.530,2,    0.271,2,    0.014,2,    0.431,2,   1.8229,2,     4.02,2,   -999.0,9,  -999.00,9,   7.891,2,   2173.8,2,   -999.0,9,   -999.0,9,-999.0000,9,-999,  -999.0,    0.15,  0.0091,   0.039,   0.011
     316N151_4,   A22,    35,  1,     20,     20,2,19970822,2158, 19.6887, -66.0003, 7337,15168.4,   1502.6,   4.4050,  35.0125,2,  35.0125,2,    248.0,2,  4.2800,    250.0,2,    13.02,2,    18.48,2,     0.00,2,     1.23,2,    0.800,2,    0.411,2,    0.028,2,    0.620,2,   1.9253,2,     4.05,2,   -999.0,9,  -999.00,9,   7.919,2,   2163.7,2,   -999.0,9,   -999.0,9,-999.0000,9,-999,  -999.0,    0.15,  0.0096,   0.040,   0.012
     316N151_4,   A22,    35,  1,     19,     19,2,19970822,2158, 19.6887, -66.0003, 7337,17690.8,   1754.7,   3.9881,  34.9946,2,  34.9935,2,    256.5,2,  3.8444,    257.9,2,    13.85,2,    18.12,2,     0.00,2,     1.22,2,    0.582,2,    0.300,2,    0.019,2, -999.000,9,   1.8472,2,     3.39,2,   -999.0,9,  -999.00,9,   7.980,2,   2158.9,2,   -999.0,9,   -999.0,9,-999.0000,9,-999,  -999.0,    0.15,  0.0092,   0.040,-999.000
     316N151_4,   A22,    35,  1,     18,     18,2,19970822,2158, 19.6887, -66.0003, 7337,20167.6,   2002.2,   3.7098,  34.9870,2,  34.9865,2,    259.1,2,  3.5463,    259.2,2,    15.68,2,    18.20,2,     0.00,2,     1.22,2,    0.365,2,    0.187,2,    0.017,2, -999.000,9,   1.8834,2,     1.97,2,   -999.0,9,  -999.00,9,   8.073,2,   2160.6,2,   -999.0,9,   -999.0,9,-999.0000,9,-999,  -999.0,    0.15,  0.0094,   0.040,-999.000
     316N151_4,   A22,    35,  1,     17,     17,2,19970822,2158, 19.6887, -66.0003, 7337,22687.3,   2254.0,   3.4669,  34.9759,2,  34.9762,2,    259.6,2,  3.2827,    260.0,2,    17.71,2,    18.32,2,     0.00,2,     1.24,2,    0.241,6,    0.126,6,    0.007,2, -999.000,9,-999.0000,5,  -999.00,9,   -999.0,9,  -999.00,9,-999.000,9,   2161.0,2,   -999.0,9,   -999.0,9,-999.0000,9,-999,  -999.0, -999.00,-999.0000,-999.000,-999.000
     316N151_4,   A22,    35,  1,     16,     16,2,19970822,2158, 19.6887, -66.0003, 7337,25047.7,   2490.0,   3.2408,  34.9619,2,  34.9627,2,    262.1,2,  3.0374,    261.7,2,    19.14,2,    18.28,2,     0.00,2,     1.24,2,    0.257,2,    0.138,2,    0.010,2, -999.000,9,   1.8658,2,     1.07,2,   -999.0,9,  -999.00,9,   8.102,2,   2163.5,2,   -999.0,9,   -999.0,9,-999.0000,9,-999,  -999.0,    0.15,  0.0093,   0.041,-999.000
     316N151_4,   A22,    35,  1,     15,     15,2,19970822,2158, 19.6887, -66.0003, 7337,27584.2,   2743.6,   2.9841,  34.9448,2,  34.9438,2,    264.2,2,  2.7601,    263.8,2,    20.47,2,    18.16,2,     0.00,2,     1.23,2,    0.348,2,    0.176,2,    0.013,2, -999.000,9,-999.0000,5,  -999.00,9,   -999.0,9,  -999.00,9,-999.000,9,   2163.9,2,   -999.0,9,   -999.0,9,-999.0000,9,-999,  -999.0, -999.00,-999.0000,-999.000,-999.000
     316N151_4,   A22,    35,  1,     14,     14,2,19970822,2158, 19.6887, -66.0003, 7337,30174.1,   3002.4,   2.8132,  34.9348,2,  34.9357,2,    265.1,2,  2.5662,    265.2,2,    21.79,2,    18.11,2,     0.00,2,     1.23,2,    0.349,2,    0.177,2,    0.014,2,    0.274,2,   1.8583,2,     1.36,2,   -999.0,9,  -999.00,9,   8.086,2,   2164.2,2,   -999.0,9,   -999.0,9,-999.0000,9,-999,  -999.0,    0.15,  0.0093,   0.040,   0.010
     316N151_4,   A22,    35,  1,     13,     13,2,19970822,2158, 19.6887, -66.0003, 7337,32641.5,   3249.1,   2.6680,  34.9251,2,  34.9252,2,    266.9,2,  2.3984,    267.0,2,    22.62,2,    18.00,2,     0.00,2,     1.23,2,    0.404,2,    0.199,2,    0.013,2, -999.000,9,-999.0000,5,  -999.00,9,   -999.0,9,  -999.00,9,-999.000,9,   2164.1,2,   -999.0,9,   -999.0,9,-999.0000,9,-999,  -999.0, -999.00,-999.0000,-999.000,-999.000
     316N151_4,   A22,    35,  1,     12,     12,2,19970822,2158, 19.6887, -66.0003, 7337,35119.7,   3496.7,   2.5150,  34.9163,2,  34.9147,2,    268.1,2,  2.2226,    268.3,2,    23.85,2,    17.92,2,     0.00,2,     1.23,2,    0.459,2,    0.229,2,    0.018,2,    0.334,2,   1.8696,2,     2.27,2,   -999.0,9,  -999.00,9,   8.153,2,   2166.3,2,   -999.0,9,   -999.0,9,-999.0000,9,-999,  -999.0,    0.15,  0.0093,   0.041,   0.011
     316N151_4,   A22,    35,  1,     11,     11,2,19970822,2158, 19.6887, -66.0003, 7337,37591.9,   3743.7,   2.4222,  34.9097,2,  34.9088,2,    266.4,2,  2.1050,    268.3,2,    25.58,2,    18.11,2,     0.00,2,     1.24,2,    0.459,2,    0.231,2,    0.018,2, -999.000,9,-999.0000,5,  -999.00,9,   -999.0,9,  -999.00,9,-999.000,9,   2167.4,2,   -999.0,9,   -999.0,9,-999.0000,9,-999,  -999.0, -999.00,-999.0000,-999.000,-999.000
     316N151_4,   A22,    35,  1,     10,     10,2,19970822,2158, 19.6887, -66.0003, 7337,40151.3,   3999.6,   2.3664,  34.9045,2,  34.9033,2,    267.1,2,  2.0219,    267.3,2,    27.71,2,    18.35,2,     0.00,2,     1.26,2,    0.392,2,    0.199,2,    0.018,2, -999.000,9,   1.9091,2,     2.90,2,   -999.0,9,  -999.00,9,   8.289,2,   2169.7,2,   -999.0,9,   -999.0,9,-999.0000,9,-999,  -999.0,    0.15,  0.0095,   0.041,-999.000
     316N151_4,   A22,    35,  1,      9,      9,2,19970822,2158, 19.6887, -66.0003, 7337,42664.7,   4250.8,   2.3376,  34.8997,2,  34.9010,2,    266.3,2,  1.9649,    266.8,2,    28.94,2,    18.50,2,     0.00,2,     1.27,2,    0.413,2,    0.206,2,    0.020,2, -999.000,9,-999.0000,5,  -999.00,9,   -999.0,9,  -999.00,9,-999.000,9,   2171.0,2,   -999.0,9,   -999.0,9,-999.0000,9,-999,  -999.0, -999.00,-999.0000,-999.000,-999.000
     316N151_4,   A22,    35,  1,      8,      8,2,19970822,2158, 19.6887, -66.0003, 7337,45173.9,   4501.5,   2.3137,  34.8958,2,  34.8965,2,    264.9,2,  1.9120,    265.2,2,    31.07,2,    18.82,2,     0.00,2,     1.29,2,    0.351,6,    0.182,6,    0.020,2, -999.000,9,-999.0000,5,  -999.00,9,   -999.0,9,  -999.00,9,-999.000,9,   2175.3,2,   -999.0,9,   -999.0,9,-999.0000,9,-999,  -999.0, -999.00,-999.0000,-999.000,-999.000
     316N151_4,   A22,    35,  1,      7,      7,2,19970822,2158, 19.6887, -66.0003, 7337,47283.2,   4712.3,   2.3010,  34.8917,2,  34.8920,2,    263.4,2,  1.8742,    264.0,2,    33.09,2,    19.13,2,     0.00,2,     1.32,2,    0.309,2,    0.161,2,    0.022,2, -999.000,9,-999.0000,5,  -999.00,9,   -999.0,9,  -999.00,9,-999.000,9,   2174.8,2,   -999.0,9,   -999.0,9,-999.0000,9,-999,  -999.0, -999.00,-999.0000,-999.000,-999.000
     316N151_4,   A22,    35,  1,      6,      6,2,19970822,2158, 19.6887, -66.0003, 7337,49994.1,   4983.4,   2.2683,  34.8843,2,  34.8848,2,    260.6,2,  1.8089,    260.8,2,    37.42,2,    19.79,2,     0.00,2,     1.36,2,    0.241,2,    0.131,2,    0.019,2,    0.220,2,   1.9301,2,     1.89,2,   -999.0,9,  -999.00,9,   8.346,2,   2181.4,2,   -999.0,9,   -999.0,9,-999.0000,9,-999,  -999.0,    0.15,  0.0097,   0.042,   0.010
     316N151_4,   A22,    35,  1,      5,      5,2,19970822,2158, 19.6887, -66.0003, 7337,52661.1,   5249.9,   2.1435,  34.8647,2,  34.8643,2,    254.6,2,  1.6546,    254.3,2,    47.44,2,    21.37,2,     0.00,2,     1.47,2,    0.129,2,    0.081,2,    0.016,2, -999.000,9,-999.0000,5,  -999.00,9,   -999.0,9,  -999.00,9,-999.000,9,   2193.4,2,   -999.0,9,   -999.0,9,-999.0000,9,-999,  -999.0, -999.00,-999.0000,-999.000,-999.000
     316N151_4,   A22,    35,  1,      4,      4,2,19970822,2158, 19.6887, -66.0003, 7337,55145.2,   5498.3,   1.9889,  34.8422,2,  34.8418,2,    247.6,2,  1.4736,    247.3,2,    58.96,2,    23.22,2,     0.00,2,     1.60,2,    0.045,2,    0.033,2,    0.006,2, -999.000,9,-999.0000,5,  -999.00,9,   -999.0,9,  -999.00,9,-999.000,9,   2204.2,2,   -999.0,9,   -999.0,9,-999.0000,9,-999,  -999.0, -999.00,-999.0000,-999.000,-999.000
     316N151_4,   A22,    35,  1,      3,      3,2,19970822,2158, 19.6887, -66.0003, 7337,57633.5,   5747.0,   1.9659,  34.8358,2,  34.8356,2,    245.6,2,  1.4188,    245.7,2,    62.19,2,    23.69,2,     0.00,2,     1.64,2,    0.027,2,    0.024,2,    0.005,2, -999.000,9,-999.0000,5,  -999.00,9,   -999.0,9,  -999.00,9,-999.000,9,   2208.5,2,   -999.0,9,   -999.0,9,-999.0000,9,-999,  -999.0, -999.00,-999.0000,-999.000,-999.000
     316N151_4,   A22,    35,  1,      2,      2,2,19970822,2158, 19.6887, -66.0003, 7337,60155.7,   5999.2,   1.9775,  34.8334,2,  34.8326,2,    244.7,2,  1.3960,    245.1,2,    63.31,2,    23.88,2,     0.00,2,     1.65,2,    0.023,2,    0.020,2,    0.008,2,    0.043,2,   1.9348,2,     1.29,2,   -999.0,9,  -999.00,9,   8.363,2,   2209.6,2,   -999.0,9,   -999.0,9,-999.0000,9,-999,  -999.0,    0.15,  0.0097,   0.042,   0.009
     316N151_4,   A22,    35,  1,      1,      1,2,19970822,2158, 19.6887, -66.0003, 7337,61247.4,   6108.6,   1.9879,  34.8324,2,  34.8323,2,    244.7,2,  1.3911,    244.1,2,    63.64,6,    23.92,6,     0.00,6,     1.65,6,    0.021,2,    0.019,2,    0.006,2, -999.000,9,-999.0000,5,  -999.00,9,   -999.0,9,  -999.00,9,-999.000,9,   2209.4,2,   -999.0,9,   -999.0,9,-999.0000,9,-999,  -999.0, -999.00,-999.0000,-999.000,-999.000