BOTTLE,20220629CCHSIOAMB
EXPOCODE,SECT_ID,STNNBR,CASTNO,SAMPNO,BTLNBR,BTLNBR_FLAG_W,DATE,TIME,LATITUDE,LONGITUDE,DEPTH,CTDRAW,CTDPRS,CTDTMP,CTDSAL,CTDSAL_FLAG_W,SALNTY,SALNTY_FLAG_W,CTDOXY,CTDOXY_FLAG_W,THETA,OXYGEN,OXYGEN_FLAG_W,SILCAT,SILCAT_FLAG_W,NITRAT,NITRAT_FLAG_W,NITRIT,NITRIT_FLAG_W,PHSPHT,PHSPHT_FLAG_W,CFC-11,CFC-11_FLAG_W,CFC-12,CFC-12_FLAG_W,CFC113,CFC113_FLAG_W,TRITUM,TRITUM_FLAG_W,HELIUM,HELIUM_FLAG_W,DELHE3,DELHE3_FLAG_W,DELC14,DELC14_FLAG_W,DELC13,DELC13_FLAG_W,NEON,NEON_FLAG_W,TCARBN,TCARBN_FLAG_W,PCO2,PCO2_FLAG_W,ALKALI,ALKALI_FLAG_W,PH,PH_FLAG_W,PH_TMP,C14ERR,DELHER,HELIER,NEONER,TRITER
,,,,,,,,,,,,,DBAR,ITS-90,PSS-78,,PSS-78,,UMOL/KG,,ITS-90,UMOL/KG,,UMOL/KG,,UMOL/KG,,UMOL/KG,,UMOL/KG,,PMOL/KG,,PMOL/KG,,PMOL/KG,,TU,,NMOL/KG,,PERCNT,,/MILLE,,/MILLE,,NMOL/KG,,UMOL/KG,,UATM,,UMOL/KG,,,,DEG C,/MILLE,PERCNT,NMOL/KG,NMOL/KG,TU
     316N151_4,   A22,    15,  1,     31,     31,2,19970819,1036, 16.3695, -65.9988, 4415,  193.4,      1.3,  28.6302,  35.3119,2,  35.3153,2,    200.4,2, 28.6299,    203.5,2,     1.76,2,     0.01,2,     0.00,2,     0.00,2,    1.607,2,    0.985,2,    0.125,2, -999.000,9,-999.0000,5,  -999.00,9,   -999.0,9,  -999.00,9,-999.000,9,   -999.0,9,    261.0,2,   2318.7,2,   8.1170,2,25,  -999.0, -999.00,-999.0000,-999.000,-999.000
     316N151_4,   A22,    15,  1,     30,     30,2,19970819,1036, 16.3695, -65.9988, 4415,  695.7,     51.7,  28.4756,  35.6445,2,  35.7337,2,    212.8,2, 28.4633,    208.5,2,     1.18,2,     0.05,2,     0.00,2,     0.01,2,    1.623,2,    0.993,2,    0.125,2, -999.000,9,-999.0000,5,  -999.00,9,   -999.0,9,  -999.00,9,-999.000,9,   -999.0,9,   -999.0,9,   -999.0,9,-999.0000,9,-999,  -999.0, -999.00,-999.0000,-999.000,-999.000
     316N151_4,   A22,    15,  1,     29,     29,2,19970819,1036, 16.3695, -65.9988, 4415, 1161.8,     99.1,  25.7766,  36.4073,2,  36.3843,2,    195.1,2, 25.7545,    188.4,2,     1.28,2,     1.19,2,     0.06,2,     0.10,2,    1.795,2,    1.072,2,    0.128,2, -999.000,9,-999.0000,5,  -999.00,9,   -999.0,9,  -999.00,9,-999.000,9,   -999.0,9,   -999.0,9,   -999.0,9,-999.0000,9,-999,  -999.0, -999.00,-999.0000,-999.000,-999.000
     316N151_4,   A22,    15,  1,     28,     28,2,19970819,1036, 16.3695, -65.9988, 4415, 1657.4,    149.3,  23.5063,  37.1067,2,  37.1088,2,    175.9,2, 23.4750,    175.6,2,     1.19,2,     2.36,2,     0.03,2,     0.14,2,    1.930,2,    1.129,2,    0.089,2, -999.000,9,-999.0000,5,  -999.00,9,   -999.0,9,  -999.00,9,-999.000,9,   -999.0,9,   -999.0,9,   -999.0,9,-999.0000,9,-999,  -999.0, -999.00,-999.0000,-999.000,-999.000
     316N151_4,   A22,    15,  1,     27,     27,2,19970819,1036, 16.3695, -65.9988, 4415, 2154.1,    199.6,  20.0971,  36.8045,2,  36.8133,2,    159.8,2, 20.0596,    156.2,2,     2.08,2,     6.11,2,     0.02,2,     0.34,2, -999.000,9, -999.000,9, -999.000,9, -999.000,9,-999.0000,5,  -999.00,9,   -999.0,9,  -999.00,9,-999.000,9,   -999.0,9,   -999.0,9,   -999.0,9,-999.0000,9,-999,  -999.0, -999.00,-999.0000,-999.000,-999.000
     316N151_4,   A22,    15,  1,     26,     26,2,19970819,1036, 16.3695, -65.9988, 4415, 2642.7,    249.0,  17.5576,  36.4305,2,  36.4229,2,    154.1,2, 17.5151,    154.8,2,     3.26,2,     9.67,2,     0.01,2,     0.55,2,    1.957,2,    1.081,2,    0.012,2, -999.000,9,-999.0000,5,  -999.00,9,   -999.0,9,  -999.00,9,-999.000,9,   -999.0,9,   -999.0,9,   -999.0,9,-999.0000,9,-999,  -999.0, -999.00,-999.0000,-999.000,-999.000
     316N151_4,   A22,    15,  1,     25,     25,2,19970819,1036, 16.3695, -65.9988, 4415, 3151.4,    300.4,  15.2309,  35.9905,2,  35.9977,2,    141.0,2, 15.1845,    135.9,2,     5.81,2,    15.36,2,     0.01,2,     0.92,2,    1.599,2,    0.880,2,    0.014,2, -999.000,9,-999.0000,5,  -999.00,9,   -999.0,9,  -999.00,9,-999.000,9,   -999.0,9,   -999.0,9,   -999.0,9,-999.0000,9,-999,  -999.0, -999.00,-999.0000,-999.000,-999.000
     316N151_4,   A22,    15,  1,     24,     24,2,19970819,1036, 16.3695, -65.9988, 4415, 4145.9,    400.2,  11.8008,  35.3810,2,  35.3786,2,    120.9,2, 11.7485,    120.6,2,    10.81,2,    23.05,2,     0.00,2,     1.45,2,    1.035,2,    0.563,2,    0.008,2, -999.000,9,-999.0000,5,  -999.00,9,   -999.0,9,  -999.00,9,-999.000,9,   -999.0,9,   -999.0,9,   -999.0,9,-999.0000,9,-999,  -999.0, -999.00,-999.0000,-999.000,-999.000
     316N151_4,   A22,    15,  1,     23,     23,2,19970819,1036, 16.3695, -65.9988, 4415, 5144.3,    500.5,   9.6246,  35.0685,2,  35.0582,2,    118.9,2,  9.5669,    118.7,2,    14.74,2,    27.28,2,     0.00,2,     1.75,2,    0.624,2,    0.355,2,    0.009,2, -999.000,9,-999.0000,5,  -999.00,9,   -999.0,9,  -999.00,9,-999.000,9,   -999.0,9,   -999.0,9,   -999.0,9,-999.0000,9,-999,  -999.0, -999.00,-999.0000,-999.000,-999.000
     316N151_4,   A22,    15,  1,     22,     22,2,19970819,1036, 16.3695, -65.9988, 4415, 6159.5,    602.1,   8.1525,  34.8852,2,  34.8548,2,    120.2,2,  8.0894,    120.3,2,    18.97,2,    30.50,2,     0.00,2,     1.98,2,    0.334,2,    0.199,2,    0.001,2, -999.000,9,-999.0000,5,  -999.00,9,   -999.0,9,  -999.00,9,-999.000,9,   -999.0,9,   -999.0,9,   -999.0,9,-999.0000,9,-999,  -999.0, -999.00,-999.0000,-999.000,-999.000
     316N151_4,   A22,    15,  1,     21,     21,2,19970819,1036, 16.3695, -65.9988, 4415, 7112.3,    697.4,   6.9567,  34.7834,2,  34.7840,2,    125.8,2,  6.8895,    125.3,2,    22.22,2,    31.67,2,     0.00,2,     2.08,2,    0.186,2,    0.105,2,    0.006,2, -999.000,9,-999.0000,5,  -999.00,9,   -999.0,9,  -999.00,9,-999.000,9,   -999.0,9,   -999.0,9,   -999.0,9,-999.0000,9,-999,  -999.0, -999.00,-999.0000,-999.000,-999.000
     316N151_4,   A22,    15,  1,     20,     20,2,19970819,1036, 16.3695, -65.9988, 4415, 8150.3,    801.3,   6.1773,  34.7965,2,  34.7976,2,    137.0,2,  6.1041,    138.8,2,    24.38,2,    30.88,2,     0.00,2,     2.05,2, -999.000,9, -999.000,9, -999.000,9, -999.000,9,-999.0000,5,  -999.00,9,   -999.0,9,  -999.00,9,-999.000,9,   -999.0,9,   -999.0,9,   -999.0,9,-999.0000,9,-999,  -999.0, -999.00,-999.0000,-999.000,-999.000
     316N151_4,   A22,    15,  1,     19,     19,2,19970819,1036, 16.3695, -65.9988, 4415, 9152.3,    901.6,   5.7938,  34.8829,2,  34.8863,2,    155.1,2,  5.7133,    158.5,2,    24.00,2,    28.17,2,     0.00,2,     1.88,2, -999.000,9, -999.000,9, -999.000,9, -999.000,9,-999.0000,5,  -999.00,9,   -999.0,9,  -999.00,9,-999.000,9,   -999.0,9,   -999.0,9,   -999.0,9,-999.0000,9,-999,  -999.0, -999.00,-999.0000,-999.000,-999.000
     316N151_4,   A22,    15,  1,     18,     18,2,19970819,1036, 16.3695, -65.9988, 4415,10143.9,   1000.8,   5.4114,  34.9513,2,  34.9535,2,    179.1,2,  5.3242,    180.2,2,    23.72,2,    25.34,2,     0.00,2,     1.70,2, -999.000,9, -999.000,9, -999.000,9, -999.000,9,-999.0000,5,  -999.00,9,   -999.0,9,  -999.00,9,-999.000,9,   -999.0,9,   -999.0,9,   -999.0,9,-999.0000,9,-999,  -999.0, -999.00,-999.0000,-999.000,-999.000
     316N151_4,   A22,    15,  1,     17,     17,2,19970819,1036, 16.3695, -65.9988, 4415,11153.1,   1101.8,   4.8783,  34.9569,2,  34.9590,2,    193.2,2,  4.7860,    194.2,2,    24.21,2,    24.19,2,     0.00,2,     1.63,2, -999.000,9, -999.000,9, -999.000,9, -999.000,9,-999.0000,5,  -999.00,9,   -999.0,9,  -999.00,9,-999.000,9,   -999.0,9,   -999.0,9,   -999.0,9,-999.0000,9,-999,  -999.0, -999.00,-999.0000,-999.000,-999.000
     316N151_4,   A22,    15,  1,     16,     16,2,19970819,1036, 16.3695, -65.9988, 4415,13140.6,   1300.4,   4.4330,  34.9627,2,  34.9650,2,    205.1,2,  4.3265,    203.6,2,    25.88,2,    23.32,2,     0.00,2,     1.59,2, -999.000,9, -999.000,9, -999.000,9, -999.000,9,-999.0000,5,  -999.00,9,   -999.0,9,  -999.00,9,-999.000,9,   -999.0,9,   -999.0,9,   -999.0,9,-999.0000,9,-999,  -999.0, -999.00,-999.0000,-999.000,-999.000
     316N151_4,   A22,    15,  1,     15,     15,2,19970819,1036, 16.3695, -65.9988, 4415,15142.6,   1500.6,   4.2431,  34.9696,2,  34.9718,2,    209.6,2,  4.1201,    210.0,2,    26.68,2,    22.68,2,     0.00,2,     1.55,2, -999.000,9, -999.000,9, -999.000,9, -999.000,9,-999.0000,5,  -999.00,9,   -999.0,9,  -999.00,9,-999.000,9,   -999.0,9,   -999.0,9,   -999.0,9,-999.0000,9,-999,  -999.0, -999.00,-999.0000,-999.000,-999.000
     316N151_4,   A22,    15,  1,     14,     14,2,19970819,1036, 16.3695, -65.9988, 4415,16636.6,   1649.9,   4.1801,  34.9718,2,  34.9738,2,    211.9,2,  4.0438,    212.1,2,    27.08,2,    22.49,2,     0.00,2,     1.53,2,    0.036,2,    0.030,2,    0.002,2, -999.000,9,-999.0000,5,  -999.00,9,   -999.0,9,  -999.00,9,-999.000,9,   -999.0,9,   -999.0,9,   -999.0,9,-999.0000,9,-999,  -999.0, -999.00,-999.0000,-999.000,-999.000
     316N151_4,   A22,    15,  1,     13,     13,2,19970819,1036, 16.3695, -65.9988, 4415,18149.5,   1801.0,   4.1389,  34.9736,2,  34.9757,2,    214.1,2,  3.9887,    214.1,2,    27.29,2,    22.29,2,     0.00,2,     1.52,2,    0.035,2,    0.033,2,    0.004,2, -999.000,9,-999.0000,5,  -999.00,9,   -999.0,9,  -999.00,9,-999.000,9,   -999.0,9,   -999.0,9,   -999.0,9,-999.0000,9,-999,  -999.0, -999.00,-999.0000,-999.000,-999.000
     316N151_4,   A22,    15,  1,     12,     12,2,19970819,1036, 16.3695, -65.9988, 4415,19634.5,   1949.4,   4.1185,  34.9758,2,  34.9793,2,    215.4,2,  3.9543,    217.5,2,    26.71,2,    21.97,2,     0.00,2,     1.49,2,    0.070,2,    0.046,2,    0.003,2, -999.000,9,-999.0000,5,  -999.00,9,   -999.0,9,  -999.00,9,-999.000,9,   -999.0,9,   -999.0,9,   -999.0,9,-999.0000,9,-999,  -999.0, -999.00,-999.0000,-999.000,-999.000
     316N151_4,   A22,    15,  1,     11,     11,2,19970819,1036, 16.3695, -65.9988, 4415,21141.5,   2100.1,   4.1055,  34.9760,2,  34.9794,2,    217.1,2,  3.9265,    217.7,2,    27.02,2,    21.89,2,     0.00,2,     1.49,2,    0.056,2,    0.042,2,    0.002,2, -999.000,9,-999.0000,5,  -999.00,9,   -999.0,9,  -999.00,9,-999.000,9,   -999.0,9,   -999.0,9,   -999.0,9,-999.0000,9,-999,  -999.0, -999.00,-999.0000,-999.000,-999.000
     316N151_4,   A22,    15,  1,     10,     10,2,19970819,1036, 16.3695, -65.9988, 4415,22642.4,   2250.2,   4.1011,  34.9767,2,  34.9776,2,    218.3,2,  3.9070,    217.2,2,    27.61,2,    21.93,2,     0.00,2,     1.49,2,    0.044,2,    0.038,2,    0.002,2, -999.000,9,-999.0000,5,  -999.00,9,   -999.0,9,  -999.00,9,-999.000,9,   -999.0,9,   -999.0,9,   -999.0,9,-999.0000,9,-999,  -999.0, -999.00,-999.0000,-999.000,-999.000
     316N151_4,   A22,    15,  1,      9,      9,2,19970819,1036, 16.3695, -65.9988, 4415,25142.5,   2499.9,   4.1088,  34.9761,2,  34.9786,2,    216.5,2,  3.8886,    216.3,2,    28.30,2,    22.02,2,     0.00,2,     1.50,2,    0.025,2,    0.030,2,    0.001,2, -999.000,9,-999.0000,5,  -999.00,9,   -999.0,9,  -999.00,9,-999.000,9,   -999.0,9,   -999.0,9,   -999.0,9,-999.0000,9,-999,  -999.0, -999.00,-999.0000,-999.000,-999.000
     316N151_4,   A22,    15,  1,      8,      8,2,19970819,1036, 16.3695, -65.9988, 4415,27656.5,   2751.3,   4.1266,  34.9764,2,  34.9784,2,    216.3,2,  3.8791,    216.8,2,    28.51,2,    22.02,2,     0.00,2,     1.50,2,    0.024,2,    0.030,2,    0.001,2, -999.000,9,-999.0000,5,  -999.00,9,   -999.0,9,  -999.00,9,-999.000,9,   -999.0,9,   -999.0,9,   -999.0,9,-999.0000,9,-999,  -999.0, -999.00,-999.0000,-999.000,-999.000
     316N151_4,   A22,    15,  1,      7,      7,2,19970819,1036, 16.3695, -65.9988, 4415,30139.1,   2999.4,   4.1486,  34.9760,2,  34.9780,2,    216.4,2,  3.8732,    216.7,2,    28.72,2,    22.02,2,     0.00,2,     1.50,2,    0.018,2,    0.028,2,    0.000,2, -999.000,9,-999.0000,5,  -999.00,9,   -999.0,9,  -999.00,9,-999.000,9,   -999.0,9,   -999.0,9,   -999.0,9,-999.0000,9,-999,  -999.0, -999.00,-999.0000,-999.000,-999.000
     316N151_4,   A22,    15,  1,      6,      6,2,19970819,1036, 16.3695, -65.9988, 4415,32640.9,   3249.5,   4.1745,  34.9769,2,  34.9779,2,    216.6,2,  3.8700,    216.9,2,    28.63,2,    21.94,2,     0.00,2,     1.50,2,    0.027,2,    0.017,2,   -0.001,2, -999.000,9,-999.0000,5,  -999.00,9,   -999.0,9,  -999.00,9,-999.000,9,   -999.0,9,   -999.0,9,   -999.0,9,-999.0000,9,-999,  -999.0, -999.00,-999.0000,-999.000,-999.000
     316N151_4,   A22,    15,  1,      5,      5,2,19970819,1036, 16.3695, -65.9988, 4415,35144.0,   3499.6,   4.2009,  34.9772,2,  34.9780,2,    216.4,2,  3.8665,    216.4,2,    28.94,2,    22.03,2,     0.00,2,     1.50,2,    0.025,2,    0.029,2,    0.002,2, -999.000,9,-999.0000,5,  -999.00,9,   -999.0,9,  -999.00,9,-999.000,9,   -999.0,9,   -999.0,9,   -999.0,9,-999.0000,9,-999,  -999.0, -999.00,-999.0000,-999.000,-999.000
     316N151_4,   A22,    15,  1,      4,      4,2,19970819,1036, 16.3695, -65.9988, 4415,37638.5,   3749.0,   4.2303,  34.9782,2,  34.9790,2,    217.2,2,  3.8651,    218.0,2,    28.45,2,    21.91,2,     0.00,2,     1.49,2,    0.038,2,    0.038,2,    0.004,2, -999.000,9,-999.0000,5,  -999.00,9,   -999.0,9,  -999.00,9,-999.000,9,   -999.0,9,   -999.0,9,   -999.0,9,-999.0000,9,-999,  -999.0, -999.00,-999.0000,-999.000,-999.000
     316N151_4,   A22,    15,  1,      3,      3,2,19970819,1036, 16.3695, -65.9988, 4415,40171.9,   4002.2,   4.2615,  34.9784,2,  34.9793,2,    217.9,2,  3.8641,    219.1,2,    28.27,2,    21.71,2,     0.00,2,     1.48,2,    0.052,2,    0.042,2,    0.005,2, -999.000,9,-999.0000,5,  -999.00,9,   -999.0,9,  -999.00,9,-999.000,9,   -999.0,9,   -999.0,9,   -999.0,9,-999.0000,9,-999,  -999.0, -999.00,-999.0000,-999.000,-999.000
     316N151_4,   A22,    15,  1,      2,      2,2,19970819,1036, 16.3695, -65.9988, 4415,42655.8,   4250.5,   4.2939,  34.9799,2,  34.9804,2,    219.1,2,  3.8641,    220.5,2,    27.68,2,    21.71,2,     0.00,2,     1.47,2,    0.060,6,    0.047,6,    0.009,2, -999.000,9,-999.0000,5,  -999.00,9,   -999.0,9,  -999.00,9,-999.000,9,   -999.0,9,   -999.0,9,   -999.0,9,-999.0000,9,-999,  -999.0, -999.00,-999.0000,-999.000,-999.000
     316N151_4,   A22,    15,  1,      1,      1,2,19970819,1036, 16.3695, -65.9988, 4415,45207.6,   4505.4,   4.3286,  34.9814,2,  34.9798,2,    219.4,2,  3.8647,    221.8,2,    27.11,6,    21.46,6,     0.00,6,     1.46,6,    0.080,2,    0.062,2,    0.009,2, -999.000,9,-999.0000,5,  -999.00,9,   -999.0,9,  -999.00,9,-999.000,9,   -999.0,9,   -999.0,9,   -999.0,9,-999.0000,9,-999,  -999.0, -999.00,-999.0000,-999.000,-999.000