BOTTLE,20220629CCHSIOAMB
EXPOCODE,SECT_ID,STNNBR,CASTNO,SAMPNO,BTLNBR,BTLNBR_FLAG_W,DATE,TIME,LATITUDE,LONGITUDE,DEPTH,CTDRAW,CTDPRS,CTDTMP,CTDSAL,CTDSAL_FLAG_W,SALNTY,SALNTY_FLAG_W,CTDOXY,CTDOXY_FLAG_W,THETA,OXYGEN,OXYGEN_FLAG_W,SILCAT,SILCAT_FLAG_W,NITRAT,NITRAT_FLAG_W,NITRIT,NITRIT_FLAG_W,PHSPHT,PHSPHT_FLAG_W,CFC-11,CFC-11_FLAG_W,CFC-12,CFC-12_FLAG_W,CFC113,CFC113_FLAG_W,TRITUM,TRITUM_FLAG_W,HELIUM,HELIUM_FLAG_W,DELHE3,DELHE3_FLAG_W,DELC14,DELC14_FLAG_W,DELC13,DELC13_FLAG_W,NEON,NEON_FLAG_W,TCARBN,TCARBN_FLAG_W,PCO2,PCO2_FLAG_W,ALKALI,ALKALI_FLAG_W,PH,PH_FLAG_W,PH_TMP,C14ERR,DELHER,HELIER,NEONER,TRITER
,,,,,,,,,,,,,DBAR,ITS-90,PSS-78,,PSS-78,,UMOL/KG,,ITS-90,UMOL/KG,,UMOL/KG,,UMOL/KG,,UMOL/KG,,UMOL/KG,,PMOL/KG,,PMOL/KG,,PMOL/KG,,TU,,NMOL/KG,,PERCNT,,/MILLE,,/MILLE,,NMOL/KG,,UMOL/KG,,UATM,,UMOL/KG,,,,DEG C,/MILLE,PERCNT,NMOL/KG,NMOL/KG,TU
     316N151_4,   A22,     8,  1,     29,     29,2,19970817,1402, 12.3337, -66.0003, 4275,  190.9,      2.1,  27.1197,  36.7912,2,-999.0000,9,    195.5,2, 27.1193,   -999.0,9,     0.62,2,     0.07,2,     0.01,2,     0.04,2,    1.753,2,    1.044,2,    0.128,2, -999.000,9,-999.0000,5,  -999.00,9,   -999.0,9,  -999.00,9,-999.000,9,   -999.0,9,    315.0,2,   2410.2,2,   8.0670,2,25,  -999.0, -999.00,-999.0000,-999.000,-999.000
     316N151_4,   A22,     8,  1,     28,     28,2,19970817,1402, 12.3337, -66.0003, 4275,  690.0,     53.1,  22.2616,  36.8328,2,  36.8265,2,    182.4,2, 22.2509,    180.6,2,     1.43,2,     0.36,2,     0.16,2,     0.13,2,    1.950,6,    1.108,6,    0.066,2, -999.000,9,-999.0000,5,  -999.00,9,   -999.0,9,  -999.00,9,-999.000,9,   2114.1,2,    384.0,2,   2412.9,6,   7.9980,6,25,  -999.0, -999.00,-999.0000,-999.000,-999.000
     316N151_4,   A22,     8,  1,     27,     27,2,19970817,1402, 12.3337, -66.0003, 4275, 1161.6,    100.9,  18.4694,  36.5259,2,  36.5365,2,    137.9,2, 18.4516,    136.3,2,     3.63,2,    10.47,2,     0.04,2,     0.60,2,    1.935,2,    1.060,2,    0.015,2, -999.000,9,-999.0000,5,  -999.00,9,   -999.0,9,  -999.00,9,-999.000,9,   2155.5,2,    516.0,2,   2389.3,2,   7.8890,2,25,  -999.0, -999.00,-999.0000,-999.000,-999.000
     316N151_4,   A22,     8,  1,     26,     26,2,19970817,1402, 12.3337, -66.0003, 4275, 1659.5,    151.0,  16.2207,  36.1533,2,  36.1444,2,    133.8,2, 16.1964,    135.5,2,     5.23,2,    14.06,2,     0.02,2,     0.84,2,    1.737,2,    0.939,2,    0.010,2, -999.000,9,-999.0000,5,  -999.00,9,   -999.0,9,  -999.00,9,-999.000,9,   2161.5,2,    583.0,2,   2368.1,2,   7.8400,2,25,  -999.0, -999.00,-999.0000,-999.000,-999.000
     316N151_4,   A22,     8,  1,     25,     25,2,19970817,1402, 12.3337, -66.0003, 4275, 2143.2,    199.8,  14.0555,  35.7804,2,  35.7920,2,    131.2,2, 14.0264,    132.6,2,     6.94,2,    17.58,2,     0.01,2,     1.08,2,    1.483,2,    0.792,2,    0.011,2, -999.000,9,-999.0000,5,  -999.00,9,   -999.0,9,  -999.00,9,-999.000,9,   2167.9,2,    666.0,2,   2349.2,2,   7.7910,2,25,  -999.0, -999.00,-999.0000,-999.000,-999.000
     316N151_4,   A22,     8,  1,     24,     24,2,19970817,1402, 12.3337, -66.0003, 4275, 2658.5,    251.6,  12.2354,  35.4615,2,  35.4624,2,    124.3,2, 12.2019,    123.8,2,     9.63,2,    21.77,2,     0.01,2,     1.37,2, -999.000,9,    0.601,2,    0.007,2, -999.000,9,-999.0000,5,  -999.00,9,   -999.0,9,  -999.00,9,-999.000,9,   2183.1,2,    781.0,2,   2333.9,2,   7.7290,2,25,  -999.0, -999.00,-999.0000,-999.000,-999.000
     316N151_4,   A22,     8,  1,     23,     23,2,19970817,1402, 12.3337, -66.0003, 4275, 3150.8,    301.1,  10.9004,  35.2495,2,  35.2480,2,    120.0,2, 10.8632,    120.7,2,    11.93,2,    24.64,2,     0.01,2,     1.57,2,    0.875,2,    0.469,2,    0.005,2, -999.000,9,-999.0000,5,  -999.00,9,   -999.0,9,  -999.00,9,-999.000,9,   2191.2,2,    860.0,2,   2323.5,2,   7.6880,2,25,  -999.0, -999.00,-999.0000,-999.000,-999.000
     316N151_4,   A22,     8,  1,     22,     22,2,19970817,1402, 12.3337, -66.0003, 4275, 4157.4,    401.8,   8.6213,  34.9251,2,  34.9287,2,    116.8,2,  8.5782,    117.4,2,    17.28,2,    29.42,2,     0.01,2,     1.90,2,    0.460,6,    0.253,6,    0.003,2, -999.000,9,-999.0000,5,  -999.00,9,   -999.0,9,  -999.00,9,-999.000,9,   2206.3,2,   1016.0,2,   2313.0,2,   7.6190,2,25,  -999.0, -999.00,-999.0000,-999.000,-999.000
     316N151_4,   A22,     8,  1,     21,     21,2,19970817,1402, 12.3337, -66.0003, 4275, 5140.8,    500.3,   7.7082,  34.8303,2,  34.8268,2,    119.2,2,  7.6578,    133.5,4,    19.98,2,    30.99,2,     0.01,2,     2.02,2,    0.260,2,    0.169,2,    0.003,2, -999.000,9,-999.0000,5,  -999.00,9,   -999.0,9,  -999.00,9,-999.000,9,   2212.0,2,   1065.0,2,   2309.1,2,   7.6000,2,25,  -999.0, -999.00,-999.0000,-999.000,-999.000
     316N151_4,   A22,     8,  1,     20,     20,2,19970817,1402, 12.3337, -66.0003, 4275, 6149.9,    601.2,   7.0098,  34.7746,2,  34.7741,2,    123.3,2,  6.9520,    124.7,2,    22.27,2,    31.81,2,     0.00,2,     2.10,2,    0.122,2,    0.103,2,    0.001,2, -999.000,9,-999.0000,5,  -999.00,9,   -999.0,9,  -999.00,9,-999.000,9,   2215.1,2,   1097.0,2,   2309.5,2,   7.5940,2,25,  -999.0, -999.00,-999.0000,-999.000,-999.000
     316N151_4,   A22,     8,  1,     19,     19,2,19970817,1402, 12.3337, -66.0003, 4275, 7135.4,    700.0,   6.2983,  34.7675,2,  34.7686,2,    132.0,2,  6.2343,    133.2,2,    24.37,2,    31.62,2,     0.01,2,     2.10,2,    0.100,2,    0.057,2,    0.001,2, -999.000,9,-999.0000,5,  -999.00,9,   -999.0,9,  -999.00,9,-999.000,9,   2216.5,2,   1077.0,2,   2312.8,2,   7.5930,2,25,  -999.0, -999.00,-999.0000,-999.000,-999.000
     316N151_4,   A22,     8,  1,     18,     18,2,19970817,1402, 12.3337, -66.0003, 4275, 8141.9,    800.5,   5.8297,  34.8083,2,  34.8096,2,    146.6,2,  5.7587,    146.4,2,    25.29,2,    30.17,2,     0.00,2,     2.02,2,    0.062,2,    0.042,2,    0.001,2, -999.000,9,-999.0000,5,  -999.00,9,   -999.0,9,  -999.00,9,-999.000,9,   2210.4,2,   1036.0,2,   2318.1,2,   7.6180,2,25,  -999.0, -999.00,-999.0000,-999.000,-999.000
     316N151_4,   A22,     8,  1,     17,     17,2,19970817,1402, 12.3337, -66.0003, 4275, 9135.3,    899.9,   5.3858,  34.8760,2,  34.8791,2,    163.0,2,  5.3083,    164.8,2,    25.51,2,    27.79,2,     0.00,2,     1.88,2,    0.045,2,    0.029,2,    0.001,2, -999.000,9,-999.0000,5,  -999.00,9,   -999.0,9,  -999.00,9,-999.000,9,   2208.9,2,    964.0,2,   2322.1,2,   7.6410,2,25,  -999.0, -999.00,-999.0000,-999.000,-999.000
     316N151_4,   A22,     8,  1,     16,     16,2,19970817,1402, 12.3337, -66.0003, 4275,10130.5,    999.4,   5.0694,  34.9178,2,  34.9183,2,    177.2,2,  4.9850,    178.4,2,    25.54,2,    26.15,2,     0.00,2,     1.77,2,    0.034,2,    0.024,2,    0.001,2, -999.000,9,-999.0000,5,  -999.00,9,   -999.0,9,  -999.00,9,-999.000,9,   2204.2,2,    911.0,2,   2328.6,2,   7.6630,2,25,  -999.0, -999.00,-999.0000,-999.000,-999.000
     316N151_4,   A22,     8,  1,     15,     15,2,19970817,1402, 12.3337, -66.0003, 4275,11138.7,   1100.3,   4.7702,  34.9414,2,  34.9422,2,    188.2,2,  4.6789,    190.3,2,    25.57,2,    24.82,2,     0.00,2,     1.69,2,    0.032,2,    0.022,2,    0.000,2, -999.000,9,-999.0000,5,  -999.00,9,   -999.0,9,  -999.00,9,-999.000,9,   2201.2,2,    882.0,2,   2327.9,2,   7.6750,2,25,  -999.0, -999.00,-999.0000,-999.000,-999.000
     316N151_4,   A22,     8,  1,     14,     14,2,19970817,1402, 12.3337, -66.0003, 4275,13144.6,   1300.8,   4.4506,  34.9602,2,  34.9608,2,    201.5,2,  4.3439,    201.9,2,    25.99,2,    23.57,2,     0.00,2,     1.61,2,    0.041,2,    0.020,2,    0.000,2, -999.000,9,-999.0000,5,  -999.00,9,   -999.0,9,  -999.00,9,-999.000,9,   2196.4,2,    847.0,2,   2333.9,2,   7.6990,2,25,  -999.0, -999.00,-999.0000,-999.000,-999.000
     316N151_4,   A22,     8,  1,     13,     13,2,19970817,1402, 12.3337, -66.0003, 4275,15148.6,   1501.1,   4.2462,  34.9684,2,  34.9702,2,    207.4,2,  4.1231,    208.6,2,    27.01,2,    22.78,2,     0.00,2,     1.56,2,    0.020,2,    0.017,2,    0.001,2, -999.000,9,-999.0000,5,  -999.00,9,   -999.0,9,  -999.00,9,-999.000,9,   2197.6,2,    828.0,2,   2336.2,2,   7.7020,2,25,  -999.0, -999.00,-999.0000,-999.000,-999.000
     316N151_4,   A22,     8,  1,     12,     12,2,19970817,1402, 12.3337, -66.0003, 4275,17628.0,   1749.0,   4.1356,  34.9728,2,  34.9747,2,    212.3,2,  3.9905,    212.5,2,    27.73,2,    22.44,2,     0.00,2,     1.53,2,    0.021,2,    0.018,2,    0.001,2, -999.000,9,-999.0000,5,  -999.00,9,   -999.0,9,  -999.00,9,-999.000,9,   2197.6,2,    812.0,2,   2341.1,3,   7.7140,2,25,  -999.0, -999.00,-999.0000,-999.000,-999.000
     316N151_4,   A22,     8,  1,     11,     11,2,19970817,1402, 12.3337, -66.0003, 4275,20137.5,   1999.7,   4.0979,  34.9746,2,  34.9769,2,    214.6,2,  3.9290,    215.1,2,    27.86,2,    22.16,2,     0.00,2,     1.52,2,    0.026,2,    0.023,2,    0.001,2, -999.000,9,-999.0000,5,  -999.00,9,   -999.0,9,  -999.00,9,-999.000,9,   2196.3,2,    809.0,2,   2340.3,2,   7.7150,2,25,  -999.0, -999.00,-999.0000,-999.000,-999.000
     316N151_4,   A22,     8,  1,     10,     10,2,19970817,1402, 12.3337, -66.0003, 4275,22649.4,   2250.8,   4.0934,  34.9743,2,  34.9750,2,    215.3,2,  3.8993,    216.0,2,    28.18,2,    22.09,2,     0.00,2,     1.51,2,    0.018,2,    0.019,2,    0.001,2, -999.000,9,-999.0000,5,  -999.00,9,   -999.0,9,  -999.00,9,-999.000,9,   2196.9,2,    806.0,2,   2342.6,2,   7.7180,2,25,  -999.0, -999.00,-999.0000,-999.000,-999.000
     316N151_4,   A22,     8,  1,      9,      9,2,19970817,1402, 12.3337, -66.0003, 4275,25147.1,   2500.5,   4.1044,  34.9759,2,  34.9751,2,    215.2,2,  3.8842,    216.4,2,    28.40,2,    22.05,2,     0.00,2,     1.51,2,    0.018,2,    0.021,2,    0.000,2, -999.000,9,-999.0000,5,  -999.00,9,   -999.0,9,  -999.00,9,-999.000,9,   2197.9,2,    805.0,2,   2343.0,2,   7.7220,2,25,  -999.0, -999.00,-999.0000,-999.000,-999.000
     316N151_4,   A22,     8,  1,      8,      8,2,19970817,1402, 12.3337, -66.0003, 4275,27647.5,   2750.4,   4.1228,  34.9761,2,  34.9756,2,    215.4,2,  3.8755,    216.1,2,    28.53,2,    22.05,2,     0.00,2,     1.51,2,    0.017,2,    0.024,2,    0.001,2, -999.000,9,-999.0000,5,  -999.00,9,   -999.0,9,  -999.00,9,-999.000,9,   2197.7,2,    801.0,2,   2345.8,2,   7.7190,2,25,  -999.0, -999.00,-999.0000,-999.000,-999.000
     316N151_4,   A22,     8,  1,      7,      7,2,19970817,1402, 12.3337, -66.0003, 4275,30138.7,   2999.4,   4.1458,  34.9764,2,  34.9759,2,    215.5,2,  3.8704,    216.1,2,    28.75,2,    22.05,2,     0.00,2,     1.50,2,    0.023,2,    0.022,2,    0.000,2, -999.000,9,-999.0000,5,  -999.00,9,   -999.0,9,  -999.00,9,-999.000,9,   2196.3,2,    800.0,2,   2345.3,2,   7.7230,2,25,  -999.0, -999.00,-999.0000,-999.000,-999.000
     316N151_4,   A22,     8,  1,      6,      6,2,19970817,1402, 12.3337, -66.0003, 4275,32656.4,   3251.0,   4.1730,  34.9767,2,  34.9762,2,    215.5,2,  3.8684,    216.8,2,    28.69,2,    22.01,2,     0.00,2,     1.50,2,    0.018,2,    0.019,2,    0.001,2, -999.000,9,-999.0000,5,  -999.00,9,   -999.0,9,  -999.00,9,-999.000,9,   2197.1,2,    801.0,2,   2344.9,2,   7.7170,2,25,  -999.0, -999.00,-999.0000,-999.000,-999.000
     316N151_4,   A22,     8,  1,      5,      5,2,19970817,1402, 12.3337, -66.0003, 4275,35151.2,   3500.4,   4.1994,  34.9772,2,  34.9752,2,    216.0,2,  3.8650,    217.5,2,    28.62,2,    21.97,2,     0.00,2,     1.50,2,    0.018,2,    0.018,2,    0.003,2, -999.000,9,-999.0000,5,  -999.00,9,   -999.0,9,  -999.00,9,-999.000,9,   2198.2,2,    799.0,2,   2342.8,2,   7.7170,2,25,  -999.0, -999.00,-999.0000,-999.000,-999.000
     316N151_4,   A22,     8,  1,      4,      4,2,19970817,1402, 12.3337, -66.0003, 4275,37670.4,   3752.1,   4.2287,  34.9782,2,  34.9778,2,    216.4,2,  3.8632,    217.5,2,    28.84,2,    21.93,2,     0.00,2,     1.49,2,    0.024,6,    0.026,6,    0.002,2, -999.000,9,-999.0000,5,  -999.00,9,   -999.0,9,  -999.00,9,-999.000,9,   2198.3,2,    778.0,2,   2344.6,2,   7.7180,2,25,  -999.0, -999.00,-999.0000,-999.000,-999.000
     316N151_4,   A22,     8,  1,      3,      3,2,19970817,1402, 12.3337, -66.0003, 4275,40142.1,   3999.2,   4.2611,  34.9787,2,  34.9753,2,    217.0,2,  3.8642,    218.7,2,    28.47,2,    21.82,2,     0.00,2,     1.49,2,    0.040,2,    0.036,2,    0.001,2, -999.000,9,-999.0000,5,  -999.00,9,   -999.0,9,  -999.00,9,-999.000,9,   2197.6,2,    785.0,2,   2343.4,2,   7.7180,2,25,  -999.0, -999.00,-999.0000,-999.000,-999.000
     316N151_4,   A22,     8,  1,      2,      2,2,19970817,1402, 12.3337, -66.0003, 4275,42628.2,   4247.7,   4.2938,  34.9791,2,  34.9787,2,    217.5,2,  3.8644,    218.6,2,    28.40,2,    21.78,2,     0.00,2,     1.49,2,    0.039,2,    0.035,2,    0.001,2, -999.000,9,-999.0000,5,  -999.00,9,   -999.0,9,  -999.00,9,-999.000,9,   2197.0,2,    788.0,2,   2347.6,6,   7.7170,6,25,  -999.0, -999.00,-999.0000,-999.000,-999.000
     316N151_4,   A22,     8,  1,      1,      1,2,19970817,1402, 12.3337, -66.0003, 4275,43735.7,   4358.7,   4.3080,  34.9789,2,  34.9778,2,    216.6,2,  3.8639,    218.7,2,    28.56,6,    21.88,6,     0.01,6,     1.49,6,    0.037,2,    0.034,2,    0.001,2, -999.000,9,-999.0000,5,  -999.00,9,   -999.0,9,  -999.00,9,-999.000,9,   2197.8,2,    789.0,2,   2345.2,2,   7.7260,2,25,  -999.0, -999.00,-999.0000,-999.000,-999.000