BOTTLE,20220629CCHSIOAMB
EXPOCODE,SECT_ID,STNNBR,CASTNO,SAMPNO,BTLNBR,BTLNBR_FLAG_W,DATE,TIME,LATITUDE,LONGITUDE,DEPTH,CTDRAW,CTDPRS,CTDTMP,CTDSAL,CTDSAL_FLAG_W,SALNTY,SALNTY_FLAG_W,CTDOXY,CTDOXY_FLAG_W,THETA,OXYGEN,OXYGEN_FLAG_W,SILCAT,SILCAT_FLAG_W,NITRAT,NITRAT_FLAG_W,NITRIT,NITRIT_FLAG_W,PHSPHT,PHSPHT_FLAG_W,CFC-11,CFC-11_FLAG_W,CFC-12,CFC-12_FLAG_W,CFC113,CFC113_FLAG_W,TRITUM,TRITUM_FLAG_W,HELIUM,HELIUM_FLAG_W,DELHE3,DELHE3_FLAG_W,DELC14,DELC14_FLAG_W,DELC13,DELC13_FLAG_W,NEON,NEON_FLAG_W,TCARBN,TCARBN_FLAG_W,PCO2,PCO2_FLAG_W,ALKALI,ALKALI_FLAG_W,PH,PH_FLAG_W,PH_TMP,C14ERR,DELHER,HELIER,NEONER,TRITER
,,,,,,,,,,,,,DBAR,ITS-90,PSS-78,,PSS-78,,UMOL/KG,,ITS-90,UMOL/KG,,UMOL/KG,,UMOL/KG,,UMOL/KG,,UMOL/KG,,PMOL/KG,,PMOL/KG,,PMOL/KG,,TU,,NMOL/KG,,PERCNT,,/MILLE,,/MILLE,,NMOL/KG,,UMOL/KG,,UATM,,UMOL/KG,,,,DEG C,/MILLE,PERCNT,NMOL/KG,NMOL/KG,TU
     316N151_4,   A22,    33,  1,     34,     34,2,19970822,1102, 19.0305, -66.0003, 4521,  194.8,      2.4,  28.7102,  36.1935,2,  36.1960,2,    198.3,2, 28.7096,    206.7,2,     0.81,2,     0.00,2,     0.00,2,     0.01,2,    1.643,2,    0.987,2,    0.124,2, -999.000,9,-999.0000,5,  -999.00,9,   -999.0,9,  -999.00,9,-999.000,9,   -999.0,9,   -999.0,9,   -999.0,9,-999.0000,9,-999,  -999.0, -999.00,-999.0000,-999.000,-999.000
     316N151_4,   A22,    33,  1,     33,     33,2,19970822,1102, 19.0305, -66.0003, 4521,  660.4,     49.1,  28.6275,  36.1884,2,  36.1898,2,    207.7,2, 28.6157,    208.2,2,     0.74,2,     0.00,2,     0.00,2,     0.01,2, -999.000,9, -999.000,9, -999.000,9, -999.000,9,-999.0000,5,  -999.00,9,   -999.0,9,  -999.00,9,-999.000,9,   -999.0,9,   -999.0,9,   -999.0,9,-999.0000,9,-999,  -999.0, -999.00,-999.0000,-999.000,-999.000
     316N151_4,   A22,    33,  1,     32,     32,2,19970822,1102, 19.0305, -66.0003, 4521, 1176.2,    100.9,  25.4216,  36.9107,2,  36.9061,2,    221.3,2, 25.3993,    221.1,2,     0.66,2,     0.01,2,     0.00,2,     0.02,2,    1.934,2,    1.136,2,    0.152,2, -999.000,9,   1.7336,2,    -2.21,2,   -999.0,9,  -999.00,9,   6.747,2,   -999.0,9,   -999.0,9,   -999.0,9,-999.0000,9,-999,  -999.0,    0.15,  0.0087,   0.034,-999.000
     316N151_4,   A22,    33,  1,     31,     31,2,19970822,1102, 19.0305, -66.0003, 4521, 1673.8,    150.8,  23.9790,  37.1887,2,  37.1860,2,    198.8,2, 23.9471,    201.7,2,     0.49,2,     0.29,2,     0.08,2,     0.03,2, -999.000,9, -999.000,9, -999.000,9, -999.000,9,   1.7332,2,    -2.14,2,   -999.0,9,  -999.00,9,   6.916,2,   -999.0,9,   -999.0,9,   -999.0,9,-999.0000,9,-999,  -999.0,    0.15,  0.0087,   0.035,-999.000
     316N151_4,   A22,    33,  1,     30,     30,2,19970822,1102, 19.0305, -66.0003, 4521, 2153.8,    199.1,  22.0706,  37.1603,2,  37.1660,2,    179.1,2, 22.0307,    184.7,2,     0.42,2,     1.41,2,     0.03,2,     0.07,2,    2.131,2,    1.223,2,    0.089,2, -999.000,9,   1.7552,2,    -2.13,2,   -999.0,9,  -999.00,9,   7.091,2,   -999.0,9,   -999.0,9,   -999.0,9,-999.0000,9,-999,  -999.0,    0.15,  0.0088,   0.035,-999.000
     316N151_4,   A22,    33,  1,     29,     29,2,19970822,1102, 19.0305, -66.0003, 4521, 2661.9,    250.0,  19.5193,  36.8041,2,  36.7829,2,    180.5,2, 19.4733,    178.2,2,     0.93,2,     3.90,2,     0.01,2,     0.18,2, -999.000,9, -999.000,9, -999.000,9, -999.000,9,   1.7501,2,    -0.98,2,   -999.0,9,  -999.00,9,   7.080,2,   -999.0,9,   -999.0,9,   -999.0,9,-999.0000,9,-999,  -999.0,    0.15,  0.0088,   0.035,-999.000
     316N151_4,   A22,    33,  1,     28,     28,2,19970822,1102, 19.0305, -66.0003, 4521, 3168.5,    301.0,  18.2995,  36.5902,2,  36.5889,2,    183.5,2, 18.2465,    187.1,2,     1.25,2,     5.05,2,     0.01,2,     0.26,2,    2.292,2,    1.276,2,    0.025,2, -999.000,9,   1.7681,2,    -0.50,2,   -999.0,9,  -999.00,9,   7.239,2,   -999.0,9,   -999.0,9,   -999.0,9,-999.0000,9,-999,  -999.0,    0.15,  0.0088,   0.036,-999.000
     316N151_4,   A22,    33,  1,     27,     27,2,19970822,1102, 19.0305, -66.0003, 4521, 4161.0,    400.7,  15.9680,  36.1849,2,  36.1850,2,    162.0,2, 15.9038,    160.3,2,     3.43,2,    11.46,2,     0.01,2,     0.67,2, -999.000,9, -999.000,9, -999.000,9, -999.000,9,   1.7922,2,     3.57,2,   -999.0,9,  -999.00,9,   7.402,2,   -999.0,9,   -999.0,9,   -999.0,9,-999.0000,9,-999,  -999.0,    0.15,  0.0090,   0.037,-999.000
     316N151_4,   A22,    33,  1,     26,     26,2,19970822,1102, 19.0305, -66.0003, 4521, 5152.5,    500.3,  13.3345,  35.7596,2,  35.7622,2,    148.2,2, 13.2632,    148.3,2,     6.21,2,    16.88,2,     0.00,2,     1.02,2,    1.384,2,    0.743,2,    0.014,2, -999.000,9,   1.7856,2,     7.24,2,   -999.0,9,  -999.00,9,   7.460,2,   -999.0,9,   -999.0,9,   -999.0,9,-999.0000,9,-999,  -999.0,    0.15,  0.0089,   0.037,-999.000
     316N151_4,   A22,    33,  1,     25,     25,2,19970822,1102, 19.0305, -66.0003, 4521, 6151.9,    600.6,  10.9324,  35.3741,2,  35.3738,2,    129.9,2, 10.8570,    131.6,2,    10.95,2,    23.21,2,     0.00,2,     1.44,2, -999.000,9, -999.000,9, -999.000,9, -999.000,9,   1.7936,2,     5.65,2,   -999.0,9,  -999.00,9,   7.587,2,   -999.0,9,   -999.0,9,   -999.0,9,-999.0000,9,-999,  -999.0,    0.15,  0.0090,   0.038,-999.000
     316N151_4,   A22,    33,  1,     24,     24,2,19970822,1102, 19.0305, -66.0003, 4521, 7148.2,    700.3,   9.2018,  35.1417,2,  35.1441,2,    128.9,2,  9.1223,    129.6,2,    15.20,2,    26.21,2,     0.00,2,     1.70,2,    0.374,2,    0.206,2,    0.003,2, -999.000,9,   1.8037,2,     4.64,2,   -999.0,9,  -999.00,9,   7.673,2,   -999.0,9,   -999.0,9,   -999.0,9,-999.0000,9,-999,  -999.0,    0.15,  0.0090,   0.038,-999.000
     316N151_4,   A22,    33,  1,     23,     23,2,19970822,1102, 19.0305, -66.0003, 4521, 8133.9,    799.1,   8.1457,  35.0635,2,  35.0621,2,    136.7,2,  8.0609,    136.7,2,    17.49,2,    27.21,2,     0.00,2,     1.77,2, -999.000,9, -999.000,9, -999.000,9, -999.000,9,   1.8120,2,     2.80,2,   -999.0,9,  -999.00,9,   7.739,2,   -999.0,9,   -999.0,9,   -999.0,9,-999.0000,9,-999,  -999.0,    0.15,  0.0091,   0.039,-999.000
     316N151_4,   A22,    33,  1,     22,     22,2,19970822,1102, 19.0305, -66.0003, 4521, 9131.4,    898.9,   7.1737,  35.0171,2,  35.0142,2,    151.7,2,  7.0840,    153.2,2,    18.70,2,    26.73,2,     0.00,2,     1.75,2,    0.236,2,    0.130,2,    0.004,2, -999.000,9,   1.8206,2,     2.03,2,   -999.0,9,  -999.00,9,   7.772,2,   -999.0,9,   -999.0,9,   -999.0,9,-999.0000,9,-999,  -999.0,    0.15,  0.0091,   0.039,-999.000
     316N151_4,   A22,    33,  1,     21,     21,2,19970822,1102, 19.0305, -66.0003, 4521,10144.7,   1000.3,   6.2236,  35.0020,2,  35.0029,2,    176.1,2,  6.1302,    175.6,2,    18.52,2,    25.02,2,     0.00,2,     1.65,2, -999.000,9, -999.000,9, -999.000,9, -999.000,9,   1.8291,2,     2.27,2,   -999.0,9,  -999.00,9,   7.813,2,   -999.0,9,   -999.0,9,   -999.0,9,-999.0000,9,-999,  -999.0,    0.15,  0.0091,   0.039,-999.000
     316N151_4,   A22,    33,  1,     20,     20,2,19970822,1102, 19.0305, -66.0003, 4521,11145.9,   1100.5,   5.6698,  35.0461,2,  35.0361,2,    202.4,2,  5.5709,    204.0,2,    16.29,2,    22.00,2,     0.00,2,     1.47,2,    0.453,2,    0.231,2,    0.012,2, -999.000,9,   1.8416,2,     3.81,2,   -999.0,9,  -999.00,9,   7.794,2,   -999.0,9,   -999.0,9,   -999.0,9,-999.0000,9,-999,  -999.0,    0.15,  0.0092,   0.039,-999.000
     316N151_4,   A22,    33,  1,     19,     19,2,19970822,1102, 19.0305, -66.0003, 4521,13135.7,   1299.5,   4.7278,  35.0337,2,  35.0333,2,    239.5,2,  4.6183,    241.4,2,    13.17,2,    18.98,2,     0.00,2,     1.26,2, -999.000,9, -999.000,9, -999.000,9, -999.000,9,   1.8376,2,     5.27,2,   -999.0,9,  -999.00,9,   7.816,2,   -999.0,9,   -999.0,9,   -999.0,9,-999.0000,9,-999,  -999.0,    0.15,  0.0092,   0.039,-999.000
     316N151_4,   A22,    33,  1,     18,     18,2,19970822,1102, 19.0305, -66.0003, 4521,15137.2,   1499.6,   4.1786,  35.0002,2,  34.9995,2,    253.1,2,  4.0563,    255.2,2,    13.00,2,    18.26,2,     0.00,2,     1.22,2,    0.786,2,    0.399,2,    0.026,2, -999.000,9,   1.8559,2,     4.61,2,   -999.0,9,  -999.00,9,   7.894,2,   -999.0,9,   -999.0,9,   2314.6,2,   7.7430,2,25,  -999.0,    0.15,  0.0093,   0.039,-999.000
     316N151_4,   A22,    33,  1,     17,     17,2,19970822,1102, 19.0305, -66.0003, 4521,16639.1,   1649.6,   3.9618,  34.9867,2,  34.9881,2,    258.4,2,  3.8283,    258.6,2,    13.61,2,    18.10,2,     0.00,2,     1.21,2, -999.000,9, -999.000,9, -999.000,9, -999.000,9,   1.8489,2,     7.15,2,   -999.0,9,  -999.00,9,   7.891,2,   -999.0,9,   -999.0,9,   2316.1,2,   7.7450,6,25,  -999.0,    0.15,  0.0092,   0.039,-999.000
     316N151_4,   A22,    33,  1,     16,     16,2,19970822,1102, 19.0305, -66.0003, 4521,18145.0,   1800.2,   3.8431,  34.9848,2,  34.9856,2,    259.7,2,  3.6969,    260.0,2,    14.13,2,    18.11,2,     0.00,2,     1.21,2,    0.592,2,    0.307,2,    0.024,2, -999.000,9,   1.8914,2,     6.72,2,   -999.0,9,  -999.00,9,   7.983,2,   -999.0,9,   -999.0,9,   2315.7,2,   7.7530,2,25,  -999.0,    0.15,  0.0095,   0.040,-999.000
     316N151_4,   A22,    33,  1,     15,     15,2,19970822,1102, 19.0305, -66.0003, 4521,20147.2,   2000.3,   3.6424,  34.9771,2,  34.9768,2,    260.5,2,  3.4802,    260.5,2,    15.44,2,    18.07,2,     0.00,2,     1.21,2, -999.000,9, -999.000,9, -999.000,9, -999.000,9,   1.8786,2,     5.76,2,   -999.0,9,  -999.00,9,   7.980,2,   -999.0,9,   -999.0,9,   2316.4,2,   7.7460,2,25,  -999.0,    0.15,  0.0094,   0.040,-999.000
     316N151_4,   A22,    33,  1,     14,     14,2,19970822,1102, 19.0305, -66.0003, 4521,22637.4,   2249.2,   3.4572,  34.9713,2,  34.9713,2,    260.8,2,  3.2738,    261.4,2,    17.04,2,    18.15,2,     0.00,2,     1.22,2,    0.334,2,    0.181,2,    0.012,2, -999.000,9,-999.0000,5,  -999.00,9,   -999.0,9,  -999.00,9,-999.000,9,   -999.0,9,   -999.0,9,   2317.7,2,   7.7520,2,25,  -999.0, -999.00,-999.0000,-999.000,-999.000
     316N151_4,   A22,    33,  1,     13,     13,2,19970822,1102, 19.0305, -66.0003, 4521,24141.6,   2399.4,   3.3242,  34.9646,2,  34.9635,2,    261.9,2,  3.1282,    262.2,2,    18.04,2,    18.20,2,     0.00,2,     1.23,2, -999.000,9, -999.000,9, -999.000,9, -999.000,9,-999.0000,5,  -999.00,9,   -999.0,9,  -999.00,9,-999.000,9,   -999.0,9,   -999.0,9,   2320.7,2,   7.7510,2,25,  -999.0, -999.00,-999.0000,-999.000,-999.000
     316N151_4,   A22,    33,  1,     12,     12,2,19970822,1102, 19.0305, -66.0003, 4521,25643.1,   2549.5,   3.2045,  34.9592,2,  34.9599,2,    261.7,2,  2.9959,    262.0,2,    19.16,2,    18.24,2,     0.00,2,     1.23,2,    0.269,2,    0.143,2,    0.014,2, -999.000,9,   1.9075,2,     5.31,2,   -999.0,9,  -999.00,9,   8.033,2,   -999.0,9,   -999.0,9,   2319.7,2,   7.7530,2,25,  -999.0,    0.15,  0.0095,   0.040,-999.000
     316N151_4,   A22,    33,  1,     11,     11,2,19970822,1102, 19.0305, -66.0003, 4521,26892.5,   2674.5,   3.0731,  34.9512,2,  34.9503,2,    262.2,2,  2.8543,    263.4,2,    19.87,2,    18.16,2,     0.00,2,     1.23,2, -999.000,9, -999.000,9, -999.000,9, -999.000,9,-999.0000,5,  -999.00,9,   -999.0,9,  -999.00,9,-999.000,9,   -999.0,9,   -999.0,9,   2322.8,2,   7.7520,2,25,  -999.0, -999.00,-999.0000,-999.000,-999.000
     316N151_4,   A22,    33,  1,     10,     10,2,19970822,1102, 19.0305, -66.0003, 4521,28138.5,   2799.0,   2.9605,  34.9468,2,  34.9448,2,    260.5,2,  2.7313,    262.2,2,    22.06,2,    18.48,2,     0.00,2,     1.25,2,    0.242,2,    0.126,2,    0.012,2, -999.000,9,-999.0000,5,  -999.00,9,   -999.0,9,  -999.00,9,-999.000,9,   -999.0,9,   -999.0,9,   2322.3,2,   7.7520,2,25,  -999.0, -999.00,-999.0000,-999.000,-999.000
     316N151_4,   A22,    33,  1,      9,      9,2,19970822,1102, 19.0305, -66.0003, 4521,31154.1,   3100.5,   2.7155,  34.9298,2,  34.9302,2,    266.2,2,  2.4605,    266.5,2,    21.99,2,    17.97,2,     0.00,2,     1.23,2, -999.000,9, -999.000,9, -999.000,9, -999.000,9,   1.9036,2,     5.92,2,   -999.0,9,  -999.00,9,   8.052,2,   -999.0,9,   -999.0,9,   2322.2,2,   7.7390,3,25,  -999.0,    0.15,  0.0095,   0.040,-999.000
     316N151_4,   A22,    33,  1,      8,      8,2,19970822,1102, 19.0305, -66.0003, 4521,33132.9,   3298.2,   2.5821,  34.9212,2,  34.9201,2,    267.3,2,  2.3093,    267.3,2,    23.20,2,    18.01,2,     0.00,2,     1.23,2,    0.428,2,    0.220,2,    0.016,2, -999.000,9,-999.0000,5,  -999.00,9,   -999.0,9,  -999.00,9,-999.000,9,   -999.0,9,   -999.0,9,   2321.2,2,   7.7450,2,25,  -999.0, -999.00,-999.0000,-999.000,-999.000
     316N151_4,   A22,    33,  1,      7,      7,2,19970822,1102, 19.0305, -66.0003, 4521,35138.4,   3498.8,   2.4924,  34.9156,2,  34.9157,2,    268.0,2,  2.2003,    267.8,2,    24.61,2,    18.05,2,     0.00,2,     1.24,2, -999.000,9, -999.000,9, -999.000,9, -999.000,9,   1.9379,2,     6.42,2,   -999.0,9,  -999.00,9,   8.129,2,   -999.0,9,   -999.0,9,   2323.6,2,   7.7490,2,25,  -999.0,    0.15,  0.0097,   0.041,-999.000
     316N151_4,   A22,    33,  1,      6,      6,2,19970822,1102, 19.0305, -66.0003, 4521,37132.9,   3698.0,   2.4360,  34.9101,2,  34.9101,2,    267.8,2,  2.1235,    268.0,2,    25.42,2,    18.13,2,     0.00,2,     1.24,2,    0.452,2,    0.226,2,    0.015,2, -999.000,9,-999.0000,5,  -999.00,9,   -999.0,9,  -999.00,9,-999.000,9,   -999.0,9,   -999.0,9,   2323.3,2,   7.7500,2,25,  -999.0, -999.00,-999.0000,-999.000,-999.000
     316N151_4,   A22,    33,  1,      5,      5,2,19970822,1102, 19.0305, -66.0003, 4521,39128.8,   3897.6,   2.3952,  34.9064,2,  34.9067,2,    267.3,2,  2.0615,    267.5,2,    26.43,2,    18.22,2,     0.00,2,     1.25,2, -999.000,9, -999.000,9, -999.000,9, -999.000,9,   1.9029,2,     6.07,2,   -999.0,9,  -999.00,9,   8.074,2,   -999.0,9,   -999.0,9,   2325.5,2,   7.7460,2,25,  -999.0,    0.15,  0.0095,   0.040,-999.000
     316N151_4,   A22,    33,  1,      4,      4,2,19970822,1102, 19.0305, -66.0003, 4521,41153.9,   4100.1,   2.3709,  34.9039,2,  34.9043,2,    266.7,2,  2.0147,    267.4,2,    27.54,2,    18.34,2,     0.00,2,     1.26,2,    0.416,2,    0.219,2,    0.017,2, -999.000,9,-999.0000,5,  -999.00,9,   -999.0,9,  -999.00,9,-999.000,9,   -999.0,9,   -999.0,9,   2325.0,2,   7.7500,2,25,  -999.0, -999.00,-999.0000,-999.000,-999.000
     316N151_4,   A22,    33,  1,      3,      3,2,19970822,1102, 19.0305, -66.0003, 4521,43190.7,   4303.8,   2.3505,  34.9006,2,  34.9015,2,    265.6,2,  1.9712,    266.1,2,    28.85,2,    18.50,2,     0.00,2,     1.27,2, -999.000,9, -999.000,9, -999.000,9, -999.000,9,-999.0000,5,  -999.00,9,   -999.0,9,  -999.00,9,-999.000,9,   -999.0,9,   -999.0,9,   2327.7,2,   7.7450,2,25,  -999.0, -999.00,-999.0000,-999.000,-999.000
     316N151_4,   A22,    33,  1,      2,      2,2,19970822,1102, 19.0305, -66.0003, 4521,45189.0,   4503.5,   2.3337,  34.8979,2,  34.8976,2,    265.0,2,  1.9311,    265.7,2,    30.26,2,    18.79,2,     0.00,2,     1.28,2,    0.358,2,    0.183,2,    0.017,2, -999.000,9,   1.9950,2,     6.71,2,   -999.0,9,  -999.00,9,   8.347,2,   -999.0,9,   -999.0,9,   2328.5,6,   7.7460,6,25,  -999.0,    0.15,  0.0100,   0.042,-999.000
     316N151_4,   A22,    33,  1,      1,      1,2,19970822,1102, 19.0305, -66.0003, 4521,47798.3,   4764.1,   2.3133,  34.8909,2,  34.8936,2,    264.0,2,  1.8796,    263.7,2,    32.84,6,    19.08,6,     0.00,6,     1.31,6,    0.312,2,    0.168,2,    0.016,2, -999.000,9,-999.0000,5,  -999.00,9,   -999.0,9,  -999.00,9,-999.000,9,   -999.0,9,   -999.0,9,   2333.3,2,   7.7430,2,25,  -999.0, -999.00,-999.0000,-999.000,-999.000