BOTTLE,20220629CCHSIOAMB
EXPOCODE,SECT_ID,STNNBR,CASTNO,SAMPNO,BTLNBR,BTLNBR_FLAG_W,DATE,TIME,LATITUDE,LONGITUDE,DEPTH,CTDRAW,CTDPRS,CTDTMP,CTDSAL,CTDSAL_FLAG_W,SALNTY,SALNTY_FLAG_W,CTDOXY,CTDOXY_FLAG_W,THETA,OXYGEN,OXYGEN_FLAG_W,SILCAT,SILCAT_FLAG_W,NITRAT,NITRAT_FLAG_W,NITRIT,NITRIT_FLAG_W,PHSPHT,PHSPHT_FLAG_W,CFC-11,CFC-11_FLAG_W,CFC-12,CFC-12_FLAG_W,CFC113,CFC113_FLAG_W,TRITUM,TRITUM_FLAG_W,HELIUM,HELIUM_FLAG_W,DELHE3,DELHE3_FLAG_W,DELC14,DELC14_FLAG_W,DELC13,DELC13_FLAG_W,NEON,NEON_FLAG_W,TCARBN,TCARBN_FLAG_W,PCO2,PCO2_FLAG_W,ALKALI,ALKALI_FLAG_W,PH,PH_FLAG_W,PH_TMP,C14ERR,DELHER,HELIER,NEONER,TRITER
,,,,,,,,,,,,,DBAR,ITS-90,PSS-78,,PSS-78,,UMOL/KG,,ITS-90,UMOL/KG,,UMOL/KG,,UMOL/KG,,UMOL/KG,,UMOL/KG,,PMOL/KG,,PMOL/KG,,PMOL/KG,,TU,,NMOL/KG,,PERCNT,,/MILLE,,/MILLE,,NMOL/KG,,UMOL/KG,,UATM,,UMOL/KG,,,,DEG C,/MILLE,PERCNT,NMOL/KG,NMOL/KG,TU
     316N151_4,   A22,    44,  1,     34,     34,2,19970825,1135, 24.8742, -66.0005, 5492,  194.7,      3.2,  28.9204,  36.4640,2,  36.4686,2,    202.4,2, 28.9197,    209.6,2,     1.17,2,     0.01,2,     0.00,2,     0.01,2,    1.614,2,    0.983,2,    0.125,2, -999.000,9,-999.0000,5,  -999.00,9,   -999.0,9,  -999.00,9,-999.000,9,   2010.6,2,    258.0,2,   2385.3,2,   8.1290,2,25,  -999.0, -999.00,-999.0000,-999.000,-999.000
     316N151_4,   A22,    44,  1,     33,     33,2,19970825,1135, 24.8742, -66.0005, 5492,  629.4,     47.1,  28.9163,  36.4806,2,  36.4855,2,    217.9,2, 28.9048,    208.4,2,     1.28,2,     0.01,2,     0.00,2,     0.01,2, -999.000,9, -999.000,9, -999.000,9, -999.000,9,-999.0000,5,  -999.00,9,   -999.0,9,  -999.00,9,-999.000,9,   2011.4,2,    261.0,2,   2387.6,6,   8.1230,6,25,  -999.0, -999.00,-999.0000,-999.000,-999.000
     316N151_4,   A22,    44,  1,     32,     32,2,19970825,1135, 24.8742, -66.0005, 5492, 1152.7,     99.6,  24.7555,  37.0581,2,  37.0593,2,    220.0,2, 24.7339,    218.1,2,     0.90,2,     0.01,2,     0.00,2,     0.01,2,    1.952,2,    1.150,2,    0.142,2, -999.000,9,-999.0000,5,  -999.00,9,   -999.0,9,  -999.00,9,-999.000,9,   2050.3,2,    277.0,2,   2421.6,2,   8.1090,2,25,  -999.0, -999.00,-999.0000,-999.000,-999.000
     316N151_4,   A22,    44,  1,     31,     31,2,19970825,1135, 24.8742, -66.0005, 5492, 1665.1,    150.9,  22.6704,  37.0930,2,  37.0986,2,    193.3,2, 22.6396,    196.5,2,     0.71,2,     0.13,2,     0.13,2,     0.02,2,    2.085,2,    1.205,2,    0.133,2, -999.000,9,-999.0000,5,  -999.00,9,   -999.0,9,  -999.00,9,-999.000,9,   2085.2,2,    323.0,2,   2425.0,2,   8.0350,2,25,  -999.0, -999.00,-999.0000,-999.000,-999.000
     316N151_4,   A22,    44,  1,     30,     30,2,19970825,1135, 24.8742, -66.0005, 5492, 2175.2,    201.8,  20.8560,  36.9513,2,  36.9577,2,    183.3,2, 20.8171,    181.6,2,     0.82,2,     1.44,2,     0.02,2,     0.05,2,    2.194,6,    1.249,6, -999.000,9, -999.000,9,-999.0000,5,  -999.00,9,   -999.0,9,  -999.00,9,-999.000,9,   2110.0,2,    371.0,2,   2415.3,2,   7.9970,2,25,  -999.0, -999.00,-999.0000,-999.000,-999.000
     316N151_4,   A22,    44,  1,     29,     29,2,19970825,1135, 24.8742, -66.0005, 5492, 2668.2,    250.9,  19.0288,  36.6477,2,  36.6501,2,    193.4,2, 18.9834,    195.8,2,     0.93,2,     2.16,2,     0.01,2,     0.08,2,    2.311,2,    1.306,2,    0.048,2, -999.000,9,-999.0000,5,  -999.00,9,   -999.0,9,  -999.00,9,-999.000,9,   2093.6,2,    371.0,2,   2394.7,2,   8.0070,2,25,  -999.0, -999.00,-999.0000,-999.000,-999.000
     316N151_4,   A22,    44,  1,     28,     28,2,19970825,1135, 24.8742, -66.0005, 5492, 3157.5,    299.7,  18.4214,  36.5713,2,  36.5751,2,    199.7,2, 18.3685,    198.9,2,     1.23,2,     3.41,2,     0.01,2,     0.16,2,    2.355,2,    1.320,2,    0.029,2, -999.000,9,-999.0000,5,  -999.00,9,   -999.0,9,  -999.00,9,-999.000,9,   2093.1,2,    378.0,2,   2390.4,2,   7.9910,2,25,  -999.0, -999.00,-999.0000,-999.000,-999.000
     316N151_4,   A22,    44,  1,     27,     27,2,19970825,1135, 24.8742, -66.0005, 5492, 4145.6,    398.6,  17.6810,  36.4639,2,  36.4663,2,    190.6,2, 17.6124,    192.6,2,     1.82,2,     5.45,2,     0.01,2,     0.28,2, -999.000,9, -999.000,9, -999.000,9, -999.000,9,-999.0000,5,  -999.00,9,   -999.0,9,  -999.00,9,-999.000,9,   2103.7,2,    408.0,2,   2383.7,2,   7.9770,2,25,  -999.0, -999.00,-999.0000,-999.000,-999.000
     316N151_4,   A22,    44,  1,     26,     26,2,19970825,1135, 24.8742, -66.0005, 5492, 5140.8,    498.3,  15.7041,  36.1267,2,  36.1296,2,    178.6,2, 15.6249,    178.8,2,     3.51,2,     9.93,2,     0.00,2,     0.57,2,    1.984,2,    1.059,2,    0.023,2, -999.000,9,-999.0000,5,  -999.00,9,   -999.0,9,  -999.00,9,-999.000,9,   2125.7,2,    486.0,2,   2365.1,2,   7.9090,2,25,  -999.0, -999.00,-999.0000,-999.000,-999.000
     316N151_4,   A22,    44,  1,     25,     25,2,19970825,1135, 24.8742, -66.0005, 5492, 6138.2,    598.5,  13.7115,  35.8308,2,  35.8314,2,    163.0,2, 13.6244,    162.9,2,     5.59,2,    14.65,2,     0.00,2,     0.87,2,    1.554,2,    0.907,2,    0.028,2, -999.000,9,-999.0000,5,  -999.00,9,   -999.0,9,  -999.00,9,-999.000,9,   2147.0,2,    588.0,2,   2349.3,2,   7.8380,2,25,  -999.0, -999.00,-999.0000,-999.000,-999.000
     316N151_4,   A22,    44,  1,     24,     24,2,19970825,1135, 24.8742, -66.0005, 5492, 7128.7,    697.9,  11.6933,  35.5284,2,  35.5287,2,    150.3,2, 11.6014,    147.2,2,     9.05,2,    19.92,2,     0.00,2,     1.21,2,    0.886,2,    0.472,2,    0.004,2, -999.000,9,-999.0000,5,  -999.00,9,   -999.0,9,  -999.00,9,-999.000,9,   2169.4,2,    710.0,2,   2334.9,2,   7.7670,2,25,  -999.0, -999.00,-999.0000,-999.000,-999.000
     316N151_4,   A22,    44,  1,     23,     23,2,19970825,1135, 24.8742, -66.0005, 5492, 8132.8,    798.6,  10.0207,  35.3121,2,  35.3123,2,    142.3,2,  9.9247,    142.3,2,    12.71,2,    23.39,2,     0.00,2,     1.46,2,    0.460,2,    0.252,2,    0.000,2, -999.000,9,-999.0000,5,  -999.00,9,   -999.0,9,  -999.00,9,-999.000,9,   2181.8,2,    795.0,2,   2328.3,2,   7.7210,2,25,  -999.0, -999.00,-999.0000,-999.000,-999.000
     316N151_4,   A22,    44,  1,     22,     22,2,19970825,1135, 24.8742, -66.0005, 5492, 9140.6,    899.7,   8.3929,  35.1510,2,  35.1433,2,    147.2,2,  8.2949,    146.7,2,    15.87,2,    25.28,2,     0.00,2,     1.62,2,    0.317,6,    0.173,6,    0.002,2, -999.000,9,-999.0000,5,  -999.00,9,   -999.0,9,  -999.00,9,-999.000,9,   2189.8,2,    858.0,2,   2323.2,2,   7.6900,2,25,  -999.0, -999.00,-999.0000,-999.000,-999.000
     316N151_4,   A22,    44,  1,     21,     21,2,19970825,1135, 24.8742, -66.0005, 5492,10129.0,    998.6,   7.0877,  35.0711,2,  35.0715,2,    167.3,2,  6.9880,    166.2,2,    16.87,2,    24.74,2,     0.00,2,     1.61,2,    0.301,2,    0.163,2,    0.003,2, -999.000,9,-999.0000,5,  -999.00,9,   -999.0,9,  -999.00,9,-999.000,9,   2189.2,2,    862.0,2,   2322.4,2,   7.6880,2,25,  -999.0, -999.00,-999.0000,-999.000,-999.000
     316N151_4,   A22,    44,  1,     20,     20,2,19970825,1135, 24.8742, -66.0005, 5492,11146.9,   1100.4,   6.0282,  35.0686,2,  35.0684,2,    193.0,2,  5.9262,    198.4,2,    15.50,2,    22.19,2,     0.00,2,     1.45,2, -999.000,9, -999.000,9, -999.000,9, -999.000,9,-999.0000,5,  -999.00,9,   -999.0,9,  -999.00,9,-999.000,9,   2179.6,2,    813.0,2,   2321.4,2,   7.7110,2,25,  -999.0, -999.00,-999.0000,-999.000,-999.000
     316N151_4,   A22,    44,  1,     19,     19,2,19970825,1135, 24.8742, -66.0005, 5492,13114.1,   1297.3,   5.0438,  35.0618,2,  35.0637,2,    230.9,2,  4.9313,    233.7,2,    13.44,2,    19.40,2,     0.00,2,     1.28,2,    0.545,2,    0.276,2,    0.014,2, -999.000,9,-999.0000,5,  -999.00,9,   -999.0,9,  -999.00,9,-999.000,9,   2166.6,2,    755.0,2,   -999.0,9,-999.0000,9,-999,  -999.0, -999.00,-999.0000,-999.000,-999.000
     316N151_4,   A22,    44,  1,     18,     18,2,19970825,1135, 24.8742, -66.0005, 5492,15147.8,   1500.6,   4.4049,  35.0259,2,  35.0285,2,    248.4,2,  4.2800,    250.1,2,    13.36,2,    18.50,2,     0.00,2,     1.22,2,    0.576,2,    0.298,2,    0.014,2, -999.000,9,-999.0000,5,  -999.00,9,   -999.0,9,  -999.00,9,-999.000,9,   2161.4,2,    739.0,2,   2318.1,2,   7.7450,2,25,  -999.0, -999.00,-999.0000,-999.000,-999.000
     316N151_4,   A22,    44,  1,     17,     17,2,19970825,1135, 24.8742, -66.0005, 5492,17639.5,   1749.5,   3.9869,  35.0078,2,  35.0094,2,    255.9,2,  3.8436,    255.4,2,    14.95,2,    18.39,2,     0.00,2,     1.22,2,    0.300,2,    0.165,2,    0.009,2, -999.000,9,-999.0000,5,  -999.00,9,   -999.0,9,  -999.00,9,-999.000,9,   2159.6,2,   -999.0,9,   -999.0,9,-999.0000,9,-999,  -999.0, -999.00,-999.0000,-999.000,-999.000
     316N151_4,   A22,    44,  1,     16,     16,2,19970825,1135, 24.8742, -66.0005, 5492,20136.3,   1999.1,   3.6988,  34.9992,2,  35.0009,2,    256.0,2,  3.5358,    255.7,2,    17.52,2,    18.59,2,     0.00,2,     1.24,2,    0.136,2,    0.076,2,    0.003,2, -999.000,9,-999.0000,5,  -999.00,9,   -999.0,9,  -999.00,9,-999.000,9,   2161.9,2,    726.0,2,   2320.5,2,   7.7530,2,25,  -999.0, -999.00,-999.0000,-999.000,-999.000
     316N151_4,   A22,    44,  1,     15,     15,2,19970825,1135, 24.8742, -66.0005, 5492,22628.4,   2248.2,   3.3764,  34.9812,2,  34.9833,2,    254.7,2,  3.1943,    254.1,2,    21.68,2,    19.07,2,     0.00,2,     1.28,2,    0.063,2,    0.039,2,    0.005,2, -999.000,9,-999.0000,5,  -999.00,9,   -999.0,9,  -999.00,9,-999.000,9,   2166.5,2,   -999.0,9,   -999.0,9,-999.0000,9,-999,  -999.0, -999.00,-999.0000,-999.000,-999.000
     316N151_4,   A22,    44,  1,     14,     14,2,19970825,1135, 24.8742, -66.0005, 5492,25151.5,   2500.4,   3.1308,  34.9631,2,  34.9648,2,    255.3,2,  2.9284,    255.8,2,    24.16,2,    19.23,2,     0.00,2,     1.29,2,    0.065,2,    0.040,2,    0.005,2, -999.000,9,-999.0000,5,  -999.00,9,   -999.0,9,  -999.00,9,-999.000,9,   2168.1,2,    730.0,2,   2328.3,2,   7.7530,2,25,  -999.0, -999.00,-999.0000,-999.000,-999.000
     316N151_4,   A22,    44,  1,     13,     13,2,19970825,1135, 24.8742, -66.0005, 5492,27627.3,   2747.9,   2.9373,  34.9488,2,  34.9516,2,    253.5,2,  2.7138,    253.9,2,    28.61,2,    19.79,2,     0.00,2,     1.33,2,    0.032,2,    0.017,2,    0.002,2, -999.000,9,-999.0000,5,  -999.00,9,   -999.0,9,  -999.00,9,-999.000,9,   2172.9,2,   -999.0,9,   -999.0,9,-999.0000,9,-999,  -999.0, -999.00,-999.0000,-999.000,-999.000
     316N151_4,   A22,    44,  1,     12,     12,2,19970825,1135, 24.8742, -66.0005, 5492,30160.8,   3001.0,   2.7634,  34.9343,2,  34.9380,2,    255.1,2,  2.5177,    256.1,2,    29.70,2,    19.71,2,     0.00,2,     1.33,2,    0.045,6,    0.028,6, -999.000,9, -999.000,9,-999.0000,5,  -999.00,9,   -999.0,9,  -999.00,9,-999.000,9,   2172.5,2,    731.0,2,   2331.8,3,   7.7540,2,25,  -999.0, -999.00,-999.0000,-999.000,-999.000
     316N151_4,   A22,    44,  1,     11,     11,2,19970825,1135, 24.8742, -66.0005, 5492,32630.4,   3247.9,   2.6201,  34.9236,2,  34.9257,2,    257.3,2,  2.3517,    257.4,2,    31.20,2,    19.72,2,     0.00,2,     1.33,2,    0.044,2,    0.029,2,    0.001,2, -999.000,9,-999.0000,5,  -999.00,9,   -999.0,9,  -999.00,9,-999.000,9,   2173.0,2,   -999.0,9,   -999.0,9,-999.0000,9,-999,  -999.0, -999.00,-999.0000,-999.000,-999.000
     316N151_4,   A22,    44,  1,     10,     10,2,19970825,1135, 24.8742, -66.0005, 5492,35142.4,   3499.0,   2.5028,  34.9147,2,  34.9155,2,    261.6,2,  2.2105,    262.2,2,    29.54,2,    19.14,2,     0.00,2,     1.30,2,    0.140,2,    0.076,2,    0.007,2, -999.000,9,-999.0000,5,  -999.00,9,   -999.0,9,  -999.00,9,-999.000,9,   2170.1,2,    734.0,2,   2329.5,2,   7.7500,2,25,  -999.0, -999.00,-999.0000,-999.000,-999.000
     316N151_4,   A22,    44,  1,      9,      9,2,19970825,1135, 24.8742, -66.0005, 5492,37653.1,   3749.9,   2.4151,  34.9076,2,  34.9084,2,    262.0,2,  2.0975,    262.5,2,    31.13,2,    19.25,2,     0.00,2,     1.31,2,    0.105,2,    0.060,2,    0.005,2, -999.000,9,-999.0000,5,  -999.00,9,   -999.0,9,  -999.00,9,-999.000,9,   2171.1,2,   -999.0,9,   -999.0,9,-999.0000,9,-999,  -999.0, -999.00,-999.0000,-999.000,-999.000
     316N151_4,   A22,    44,  1,      8,      8,2,19970825,1135, 24.8742, -66.0005, 5492,40162.1,   4000.7,   2.3394,  34.9013,2,  34.9031,2,    263.0,2,  1.9956,    263.3,2,    32.12,2,    19.23,2,     0.00,2,     1.31,2,    0.099,2,    0.058,2,    0.004,2, -999.000,9,-999.0000,5,  -999.00,9,   -999.0,9,  -999.00,9,-999.000,9,   2172.2,2,    736.0,2,   2330.6,2,   7.7510,2,25,  -999.0, -999.00,-999.0000,-999.000,-999.000
     316N151_4,   A22,    44,  1,      7,      7,2,19970825,1135, 24.8742, -66.0005, 5492,42664.9,   4250.9,   2.3006,  34.8957,2,  34.8972,2,    262.5,2,  1.9290,    262.9,2,    33.52,2,    19.34,2,     0.00,2,     1.32,2,    0.105,2,    0.062,2,    0.004,2, -999.000,9,-999.0000,5,  -999.00,9,   -999.0,9,  -999.00,9,-999.000,9,   2174.8,2,   -999.0,9,   -999.0,9,-999.0000,9,-999,  -999.0, -999.00,-999.0000,-999.000,-999.000
     316N151_4,   A22,    44,  1,      6,      6,2,19970825,1135, 24.8742, -66.0005, 5492,45150.2,   4499.3,   2.2608,  34.8899,2,  34.8899,2,    260.9,2,  1.8610,    261.6,2,    36.00,2,    19.70,2,     0.00,2,     1.35,2,    0.105,2,    0.063,2,    0.006,2, -999.000,9,-999.0000,5,  -999.00,9,   -999.0,9,  -999.00,9,-999.000,9,   2177.4,2,    728.0,2,   2335.4,2,   7.7450,2,25,  -999.0, -999.00,-999.0000,-999.000,-999.000
     316N151_4,   A22,    44,  1,      5,      5,2,19970825,1135, 24.8742, -66.0005, 5492,47662.1,   4750.3,   2.2156,  34.8815,2,  34.8822,2,    258.1,2,  1.7868,    258.6,2,    40.17,2,    20.34,2,     0.00,2,     1.39,2,    0.081,2,    0.052,2,    0.006,2, -999.000,9,-999.0000,5,  -999.00,9,   -999.0,9,  -999.00,9,-999.000,9,   2183.6,2,   -999.0,9,   -999.0,9,-999.0000,9,-999,  -999.0, -999.00,-999.0000,-999.000,-999.000
     316N151_4,   A22,    44,  1,      4,      4,2,19970825,1135, 24.8742, -66.0005, 5492,50142.4,   4998.3,   2.1220,  34.8658,2,  34.8677,2,    254.1,2,  1.6657,    253.8,2,    47.59,2,    21.49,2,     0.00,2,     1.47,2,    0.046,2,    0.037,2,    0.005,2, -999.000,9,-999.0000,5,  -999.00,9,   -999.0,9,  -999.00,9,-999.000,9,   2191.8,2,    751.0,2,   2345.0,2,   7.7360,2,25,  -999.0, -999.00,-999.0000,-999.000,-999.000
     316N151_4,   A22,    44,  1,      3,      3,2,19970825,1135, 24.8742, -66.0005, 5492,52632.8,   5247.3,   2.0718,  34.8557,2,  34.8575,2,    251.0,2,  1.5858,    250.7,2,    52.54,2,    22.24,2,     0.00,2,     1.52,2,    0.036,6,    0.032,6,    0.003,2, -999.000,9,-999.0000,5,  -999.00,9,   -999.0,9,  -999.00,9,-999.000,9,   2197.0,2,   -999.0,9,   -999.0,9,-999.0000,9,-999,  -999.0, -999.00,-999.0000,-999.000,-999.000
     316N151_4,   A22,    44,  1,      2,      2,2,19970825,1135, 24.8742, -66.0005, 5492,55187.6,   5502.7,   2.0408,  34.8481,2,  34.8484,2,    249.1,2,  1.5230,    248.5,2,    56.21,2,    22.80,2,     0.00,2,     1.56,2,    0.026,2,    0.026,2,    0.003,2, -999.000,9,-999.0000,5,  -999.00,9,   -999.0,9,  -999.00,9,-999.000,9,   2201.2,2,    776.0,2,   2350.5,6,   7.7270,6,25,  -999.0, -999.00,-999.0000,-999.000,-999.000
     316N151_4,   A22,    44,  1,      1,      1,2,19970825,1135, 24.8742, -66.0005, 5492,56656.3,   5649.5,   2.0516,  34.8471,2,  34.8460,2,    247.1,2,  1.5140,    247.6,2,    56.84,6,    22.89,6,     0.00,6,     1.57,6,    0.026,2,    0.029,2,    0.007,2, -999.000,9,-999.0000,5,  -999.00,9,   -999.0,9,  -999.00,9,-999.000,9,   2202.0,2,    774.0,2,   -999.0,9,-999.0000,9,-999,  -999.0, -999.00,-999.0000,-999.000,-999.000