BOTTLE,20220629CCHSIOAMB
EXPOCODE,SECT_ID,STNNBR,CASTNO,SAMPNO,BTLNBR,BTLNBR_FLAG_W,DATE,TIME,LATITUDE,LONGITUDE,DEPTH,CTDRAW,CTDPRS,CTDTMP,CTDSAL,CTDSAL_FLAG_W,SALNTY,SALNTY_FLAG_W,CTDOXY,CTDOXY_FLAG_W,THETA,OXYGEN,OXYGEN_FLAG_W,SILCAT,SILCAT_FLAG_W,NITRAT,NITRAT_FLAG_W,NITRIT,NITRIT_FLAG_W,PHSPHT,PHSPHT_FLAG_W,CFC-11,CFC-11_FLAG_W,CFC-12,CFC-12_FLAG_W,CFC113,CFC113_FLAG_W,TRITUM,TRITUM_FLAG_W,HELIUM,HELIUM_FLAG_W,DELHE3,DELHE3_FLAG_W,DELC14,DELC14_FLAG_W,DELC13,DELC13_FLAG_W,NEON,NEON_FLAG_W,TCARBN,TCARBN_FLAG_W,PCO2,PCO2_FLAG_W,ALKALI,ALKALI_FLAG_W,PH,PH_FLAG_W,PH_TMP,C14ERR,DELHER,HELIER,NEONER,TRITER
,,,,,,,,,,,,,DBAR,ITS-90,PSS-78,,PSS-78,,UMOL/KG,,ITS-90,UMOL/KG,,UMOL/KG,,UMOL/KG,,UMOL/KG,,UMOL/KG,,PMOL/KG,,PMOL/KG,,PMOL/KG,,TU,,NMOL/KG,,PERCNT,,/MILLE,,/MILLE,,NMOL/KG,,UMOL/KG,,UATM,,UMOL/KG,,,,DEG C,/MILLE,PERCNT,NMOL/KG,NMOL/KG,TU
     316N151_4,   A22,    76,  1,     13,     13,2,19970902,1701, 40.7038, -66.7120,  833,  174.2,      3.3,  23.2549,  34.9055,2,  34.9164,2,    246.5,2, 23.2543,    218.8,2,     0.83,2,     0.00,2,     0.00,2,     0.04,2,    2.105,2,    1.223,2,    0.166,2, -999.000,9,   1.7318,2,    -2.11,2,   -999.0,9,  -999.00,9,   7.097,2,   1999.3,2,   -999.0,9,   -999.0,9,-999.0000,9,-999,  -999.0,    0.15,  0.0087,   0.035,-999.000
     316N151_4,   A22,    76,  1,     12,     12,2,19970902,1701, 40.7038, -66.7120,  833,  644.6,     50.7,  17.1350,  34.7698,2,  34.6918,2,    235.0,2, 17.1266,    227.9,2,     2.51,2,     2.40,2,     0.15,2,     0.32,2,    2.915,2,    1.628,2,    0.209,2, -999.000,9,-999.0000,5,  -999.00,9,   -999.0,9,  -999.00,9,-999.000,9,   2055.3,2,   -999.0,9,   -999.0,9,-999.0000,9,-999,  -999.0, -999.00,-999.0000,-999.000,-999.000
     316N151_4,   A22,    76,  1,     11,     11,2,19970902,1701, 40.7038, -66.7120,  833,  904.0,     76.9,  11.9252,  34.0791,2,  34.1350,2,    204.6,2, 11.9154,    215.4,2,     5.36,2,     8.37,2,     0.05,2,     0.73,2,    3.330,2,    1.823,2,    0.226,2, -999.000,9,   1.7981,2,    -0.60,2,   -999.0,9,  -999.00,9,   7.827,2,   2091.6,2,   -999.0,9,   -999.0,9,-999.0000,9,-999,  -999.0,    0.15,  0.0090,   0.039,-999.000
     316N151_4,   A22,    76,  1,     10,     10,2,19970902,1701, 40.7038, -66.7120,  833, 1145.6,    101.4,  14.2651,  35.2629,2,  35.2867,2,    179.4,2, 14.2503,    183.6,2,     4.77,2,     9.41,2,     0.03,2,     0.67,2,    2.502,2,    1.390,2,    0.135,2, -999.000,9,   1.7703,2,     0.04,2,   -999.0,9,  -999.00,9,   7.546,2,   2115.6,2,   -999.0,9,   -999.0,9,-999.0000,9,-999,  -999.0,    0.15,  0.0089,   0.038,-999.000
     316N151_4,   A22,    76,  1,      9,      9,2,19970902,1701, 40.7038, -66.7120,  833, 1652.9,    152.8,  12.4737,  35.5251,2,  35.5263,2,    151.1,2, 12.4532,    149.3,2,     8.90,2,    17.81,2,     0.01,2,     1.12,2,    1.459,2,    0.786,2,    0.053,2,    1.041,2,   1.8000,2,     6.01,2,   -999.0,9,  -999.00,9,   5.932,2,   2162.4,2,   -999.0,9,   -999.0,9,-999.0000,9,-999,  -999.0,    0.15,  0.0090,   0.030,   0.013
     316N151_4,   A22,    76,  1,      8,      8,2,19970902,1701, 40.7038, -66.7120,  833, 2142.5,    202.3,  10.4478,  35.3273,2,  35.3262,2,    142.8,2, 10.4235,    138.1,2,    12.45,2,    22.53,2,     0.02,2,     1.43,2,    0.932,2,    0.499,2,    0.022,2,    0.802,2,   1.8072,2,     7.28,2,   -999.0,9,  -999.00,9,   5.925,2,   2183.1,2,   -999.0,9,   -999.0,9,-999.0000,9,-999,  -999.0,    0.15,  0.0090,   0.030,   0.017
     316N151_4,   A22,    76,  1,      7,      7,2,19970902,1701, 40.7038, -66.7120,  833, 2615.4,    250.2,   9.1551,  35.1927,2,  35.1876,2,    148.4,2,  9.1274,    145.8,2,    14.03,2,    23.47,2,     0.02,2,     1.51,2,    0.930,2,    0.505,2,    0.031,2,    0.693,2,   1.8159,2,     7.36,2,   -999.0,9,  -999.00,9,   5.622,2,   2187.6,2,   -999.0,9,   -999.0,9,-999.0000,9,-999,  -999.0,    0.15,  0.0091,   0.028,   0.012
     316N151_4,   A22,    76,  1,      6,      6,2,19970902,1701, 40.7038, -66.7120,  833, 3115.6,    300.8,   7.9429,  35.1103,2,  35.1087,2,    156.9,2,  7.9123,    159.8,2,    14.72,2,    23.57,2,     0.01,2,     1.52,2,    0.882,2,    0.450,2,    0.029,2,    0.678,2,   1.8317,2,     7.21,2,   -999.0,9,  -999.00,9,   5.680,2,   2187.7,2,   -999.0,9,   -999.0,9,-999.0000,9,-999,  -999.0,    0.15,  0.0092,   0.028,   0.012
     316N151_4,   A22,    76,  1,      5,      5,2,19970902,1701, 40.7038, -66.7120,  833, 4108.8,    400.7,   6.2995,  35.0188,2,  35.0173,2,    187.2,2,  6.2635,    193.6,2,    14.14,2,    21.40,2,     0.01,2,     1.40,2,    1.439,2,    0.734,2,    0.074,2,    0.864,2,   1.8542,2,     7.96,2,   -999.0,9,  -999.00,9,   5.624,2,   2180.7,2,   -999.0,9,   -999.0,9,-999.0000,9,-999,  -999.0,    0.15,  0.0093,   0.028,   0.013
     316N151_4,   A22,    76,  1,      4,      4,2,19970902,1701, 40.7038, -66.7120,  833, 5097.0,    500.1,   5.4525,  34.9973,2,  34.9960,2,    209.7,2,  5.4105,    217.2,2,    13.36,2,    20.04,2,     0.02,2,     1.32,2,    1.719,6,    0.857,6,    0.091,2,    0.939,2,   1.8483,2,     8.49,2,   -999.0,9,  -999.00,9,   5.683,2,   2173.9,2,   -999.0,9,   -999.0,9,-999.0000,9,-999,  -999.0,    0.15,  0.0092,   0.028,   0.013
     316N151_4,   A22,    76,  1,      3,      3,2,19970902,1701, 40.7038, -66.7120,  833, 5990.8,    590.1,   5.0286,  34.9803,2,  34.9774,2,    223.2,2,  4.9806,    229.9,2,    12.87,2,    19.27,2,     0.01,2,     1.28,2,    1.918,2,    0.962,2,    0.118,2,    0.968,2,   1.8661,2,     8.04,2,   -999.0,9,  -999.00,9,   5.953,2,   2170.4,2,   -999.0,9,   -999.0,9,-999.0000,9,-999,  -999.0,    0.15,  0.0093,   0.030,   0.013
     316N151_4,   A22,    76,  1,      2,      2,2,19970902,1701, 40.7038, -66.7120,  833, 7100.5,    701.7,   4.7652,  34.9738,2,  34.9699,2,    242.8,2,  4.7090,    237.9,2,    12.67,2,    18.87,2,     0.02,2,     1.25,2,    1.981,2,    0.987,2,    0.118,2, -999.000,9,-999.0000,5,  -999.00,9,   -999.0,9,  -999.00,9,-999.000,9,   2168.2,2,   -999.0,9,   -999.0,9,-999.0000,9,-999,  -999.0, -999.00,-999.0000,-999.000,-999.000
     316N151_4,   A22,    76,  1,      1,      1,2,19970902,1701, 40.7038, -66.7120,  833, 8302.7,    822.6,   4.5343,  34.9691,2,  34.9658,2,    249.9,2,  4.4691,    244.5,2,    12.53,6,    18.55,6,     0.01,6,     1.23,6,    2.011,2,    0.998,2,    0.112,2, -999.000,9,   1.8471,2,     7.95,2,   -999.0,9,  -999.00,9,   5.787,2,   2166.2,2,   -999.0,9,   -999.0,9,-999.0000,9,-999,  -999.0,    0.15,  0.0092,   0.029,-999.000
     316N151_4,   A22,    77,  1,     20,     20,2,19970902,1855, 40.7745, -66.7772,  197,  148.8,      4.3,  23.9155,  34.9745,2,  34.9608,2,   -999.0,9, 23.9146,    218.0,2,     0.78,2,     0.00,2,     0.00,2,     0.04,2,    2.134,2,    1.316,2,    0.173,2, -999.000,9,   1.7331,2,    -2.00,2,   -999.0,9,  -999.00,9,   7.070,2,   2000.1,2,   -999.0,9,   2316.1,2,   8.0640,2,25,  -999.0,    0.15,  0.0087,   0.035,-999.000
     316N151_4,   A22,    77,  1,     19,     19,2,19970902,1855, 40.7745, -66.7772,  197,  234.9,     14.1,  23.1194,  34.9653,2,  34.9665,2,    250.0,2, 23.1166,    218.5,2,     0.79,2,     0.00,2,     0.00,2,     0.04,2,    2.113,2,    1.243,2,    0.171,2, -999.000,9,-999.0000,5,  -999.00,9,   -999.0,9,  -999.00,9,-999.000,9,   1999.1,2,   -999.0,9,   -999.0,9,-999.0000,9,-999,  -999.0, -999.00,-999.0000,-999.000,-999.000
     316N151_4,   A22,    77,  1,     18,     18,2,19970902,1855, 40.7745, -66.7772,  197,  379.1,     29.4,  22.8081,  34.9580,2,  34.9604,2,    258.7,2, 22.8022,    219.5,2,     0.79,2,     0.02,2,     0.00,2,     0.04,2,    2.139,2,    1.252,2,    0.169,2, -999.000,9,-999.0000,5,  -999.00,9,   -999.0,9,  -999.00,9,-999.000,9,   2000.1,2,   -999.0,9,   -999.0,9,-999.0000,9,-999,  -999.0, -999.00,-999.0000,-999.000,-999.000
     316N151_4,   A22,    77,  1,     17,     17,2,19970902,1855, 40.7745, -66.7772,  197,  575.7,     49.7,  18.0876,  34.7158,2,  34.7469,2,    262.2,2, 18.0791,    234.2,2,     1.79,2,     0.83,2,     0.13,2,     0.21,2,    2.799,6,    1.553,6,    0.196,2, -999.000,9,   1.7674,2,    -1.62,2,   -999.0,9,  -999.00,9,   7.452,2,   2041.0,2,   -999.0,9,   -999.0,9,-999.0000,9,-999,  -999.0,    0.15,  0.0088,   0.037,-999.000
     316N151_4,   A22,    77,  1,     16,     16,2,19970902,1855, 40.7745, -66.7772,  197, 1093.0,    102.2,  14.6843,  35.2914,2,  35.2887,2,    192.8,2, 14.6690,    188.7,2,     3.95,2,     8.01,2,     0.04,2,     0.59,2,    2.623,2,    1.460,2,    0.148,2, -999.000,9,   1.7758,2,     0.32,2,   -999.0,9,  -999.00,9,   7.556,2,   2109.0,2,   -999.0,9,   -999.0,9,-999.0000,9,-999,  -999.0,    0.15,  0.0089,   0.038,-999.000
     316N151_4,   A22,    77,  1,     15,     15,2,19970902,1855, 40.7745, -66.7772,  197, 1532.5,    146.3,  13.9087,  35.5752,2,  35.5757,2,    170.3,2, 13.8876,    167.0,2,     6.02,2,    12.90,2,     0.03,2,     0.83,2,    2.048,2,    1.137,2,    0.093,2, -999.000,9,   1.7678,2,     2.53,2,   -999.0,9,  -999.00,9,   7.647,2,   2137.9,2,   -999.0,9,   -999.0,9,-999.0000,9,-999,  -999.0,    0.15,  0.0088,   0.038,-999.000
     316N151_4,   A22,    77,  1,     14,     14,2,19970902,1855, 40.7745, -66.7772,  197, 2068.4,    199.1,  10.6035,  35.3421,2,  35.3714,2,    141.5,2, 10.5794,    139.4,2,    11.99,6,    21.66,6,     0.04,6,     1.36,6,    1.039,2,    0.568,2,    0.025,2, -999.000,9,   1.7799,2,     5.01,2,   -999.0,9,  -999.00,9,   7.796,2,   2179.1,2,   -999.0,9,   -999.0,9,-999.0000,9,-999,  -999.0,    0.15,  0.0089,   0.039,-999.000