BOTTLE,20220629CCHSIOAMB
EXPOCODE,SECT_ID,STNNBR,CASTNO,SAMPNO,BTLNBR,BTLNBR_FLAG_W,DATE,TIME,LATITUDE,LONGITUDE,DEPTH,CTDRAW,CTDPRS,CTDTMP,CTDSAL,CTDSAL_FLAG_W,SALNTY,SALNTY_FLAG_W,CTDOXY,CTDOXY_FLAG_W,THETA,OXYGEN,OXYGEN_FLAG_W,SILCAT,SILCAT_FLAG_W,NITRAT,NITRAT_FLAG_W,NITRIT,NITRIT_FLAG_W,PHSPHT,PHSPHT_FLAG_W,CFC-11,CFC-11_FLAG_W,CFC-12,CFC-12_FLAG_W,CFC113,CFC113_FLAG_W,TRITUM,TRITUM_FLAG_W,HELIUM,HELIUM_FLAG_W,DELHE3,DELHE3_FLAG_W,DELC14,DELC14_FLAG_W,DELC13,DELC13_FLAG_W,NEON,NEON_FLAG_W,TCARBN,TCARBN_FLAG_W,PCO2,PCO2_FLAG_W,ALKALI,ALKALI_FLAG_W,PH,PH_FLAG_W,PH_TMP,C14ERR,DELHER,HELIER,NEONER,TRITER
,,,,,,,,,,,,,DBAR,ITS-90,PSS-78,,PSS-78,,UMOL/KG,,ITS-90,UMOL/KG,,UMOL/KG,,UMOL/KG,,UMOL/KG,,UMOL/KG,,PMOL/KG,,PMOL/KG,,PMOL/KG,,TU,,NMOL/KG,,PERCNT,,/MILLE,,/MILLE,,NMOL/KG,,UMOL/KG,,UATM,,UMOL/KG,,,,DEG C,/MILLE,PERCNT,NMOL/KG,NMOL/KG,TU
     316N151_4,   A22,    39,  1,     33,     33,2,19970823,2320, 21.4958, -65.9995, 5451,  244.6,      8.0,  28.8046,  36.3211,2,  36.3256,2,    202.5,2, 28.8026,    206.3,2,     0.70,2,     0.04,2,     0.00,2,     0.01,2,    1.622,2,    0.973,2,    0.126,2,    0.815,2,   1.7175,2,    -2.60,2,   -999.0,9,  -999.00,9,   6.652,2,   -999.0,9,    258.0,2,   -999.0,9,-999.0000,9,-999,  -999.0,    0.15,  0.0086,   0.033,   0.012
     316N151_4,   A22,    39,  1,     32,     32,2,19970823,2320, 21.4958, -65.9995, 5451,  665.9,     50.5,  28.7579,  36.3194,2,  36.3252,2,    207.3,2, 28.7457,    207.5,2,     0.78,2,     0.04,2,     0.00,2,     0.01,2,    1.640,6,    0.981,6,    0.120,2, -999.000,9,-999.0000,5,  -999.00,9,   -999.0,9,  -999.00,9,-999.000,9,   -999.0,9,   -999.0,9,   -999.0,9,-999.0000,9,-999,  -999.0, -999.00,-999.0000,-999.000,-999.000
     316N151_4,   A22,    39,  1,     31,     31,2,19970823,2320, 21.4958, -65.9995, 5451, 1166.8,    100.7,  25.0711,  36.9246,2,  36.9152,2,    221.3,2, 25.0490,    219.9,2,     0.55,2,     0.04,2,     0.00,2,     0.01,2,    1.928,2,    1.122,2,    0.145,2,    0.938,2,   1.7352,2,    -3.15,2,   -999.0,9,  -999.00,9,   6.925,2,   -999.0,9,   -999.0,9,   -999.0,9,-999.0000,9,-999,  -999.0,    0.15,  0.0087,   0.035,   0.013
     316N151_4,   A22,    39,  1,     30,     30,2,19970823,2320, 21.4958, -65.9995, 5451, 1671.5,    151.3,  23.5660,  37.1266,2,  37.1250,2,    198.4,2, 23.5344,    208.5,2,     0.21,2,     0.02,2,     0.02,2,     0.01,2,    2.030,2,    1.173,2,    0.154,2,    1.019,2,   1.7267,2,    -2.21,2,   -999.0,9,  -999.00,9,   6.878,2,   -999.0,9,   -999.0,9,   -999.0,9,-999.0000,9,-999,  -999.0,    0.15,  0.0086,   0.034,   0.013
     316N151_4,   A22,    39,  1,     29,     29,2,19970823,2320, 21.4958, -65.9995, 5451, 2175.1,    201.8,  21.6594,  37.0341,2,  37.0338,2,    187.6,2, 21.6195,    188.9,2,     0.19,2,     0.85,2,     0.02,2,     0.03,2,    2.164,2,    1.223,2,    0.098,2, -999.000,9,   1.7661,2,    -1.56,2,   -999.0,9,  -999.00,9,   7.106,2,   -999.0,9,   -999.0,9,   -999.0,9,-999.0000,9,-999,  -999.0,    0.15,  0.0088,   0.036,-999.000
     316N151_4,   A22,    39,  1,     28,     28,2,19970823,2320, 21.4958, -65.9995, 5451, 2670.0,    251.2,  19.5858,  36.7661,2,  36.7679,2,    184.9,2, 19.5395,    185.1,2,     0.46,2,     2.56,2,     0.01,2,     0.10,2,    2.277,2,    1.260,2,    0.029,2,    1.140,2,   1.7436,2,    -1.21,2,   -999.0,9,  -999.00,9,   7.094,2,   -999.0,9,   -999.0,9,   -999.0,9,-999.0000,9,-999,  -999.0,    0.15,  0.0087,   0.035,   0.018
     316N151_4,   A22,    39,  1,     27,     27,2,19970823,2320, 21.4958, -65.9995, 5451, 3173.1,    301.5,  18.3942,  36.5779,2,  36.5804,2,    198.4,2, 18.3410,    196.8,2,     0.73,2,     3.68,2,     0.01,2,     0.17,2,    2.338,2,    1.294,2,    0.030,2, -999.000,9,   1.7620,2,    -1.32,2,   -999.0,9,  -999.00,9,   7.197,2,   -999.0,9,   -999.0,9,   -999.0,9,-999.0000,9,-999,  -999.0,    0.15,  0.0088,   0.036,-999.000
     316N151_4,   A22,    39,  1,     26,     26,2,19970823,2320, 21.4958, -65.9995, 5451, 4175.3,    401.9,  16.9506,  36.3542,2,  36.3554,2,    176.4,2, 16.8834,    178.4,2,     2.00,2,     7.96,2,     0.01,2,     0.44,2,    2.132,2,    1.138,2,    0.026,2, -999.000,9,   1.7532,2,     3.01,2,   -999.0,9,  -999.00,9,   7.205,2,   -999.0,9,   -999.0,9,   -999.0,9,-999.0000,9,-999,  -999.0,    0.15,  0.0088,   0.036,-999.000
     316N151_4,   A22,    39,  1,     25,     25,2,19970823,2320, 21.4958, -65.9995, 5451, 5162.1,    500.9,  14.7899,  35.9926,2,  35.9929,2,    164.3,2, 14.7135,    168.9,2,     3.99,6,    12.33,6,     0.01,6,     0.72,6,    1.774,2,    0.926,2,    0.025,2,    1.294,2,   1.7677,2,     5.79,2,   -999.0,9,  -999.00,9,   7.351,2,   -999.0,9,   -999.0,9,   -999.0,9,-999.0000,9,-999,  -999.0,    0.15,  0.0088,   0.037,   0.014
     316N151_4,   A22,    39,  1,     24,     24,2,19970823,2320, 21.4958, -65.9995, 5451, 6153.1,    600.4,  12.4663,  35.6104,2,  35.6118,2,    140.4,2, 12.3842,    139.9,2,     7.63,2,    19.35,2,     0.00,2,     1.18,2,    1.130,2,    0.589,2,    0.010,2,    1.077,2,   1.7849,2,     7.57,2,   -999.0,9,  -999.00,9,   7.472,2,   -999.0,9,   -999.0,9,   -999.0,9,-999.0000,9,-999,  -999.0,    0.15,  0.0089,   0.037,   0.013
     316N151_4,   A22,    39,  1,     23,     23,2,19970823,2320, 21.4958, -65.9995, 5451, 7156.0,    701.0,  10.6872,  35.3549,2,  35.3522,2,    133.6,2, 10.6001,    133.9,2,    11.30,2,    23.52,2,     0.00,2,     1.46,2,    0.645,6,    0.344,6,    0.005,2,    0.742,2,   1.8027,2,     6.47,2,   -999.0,9,  -999.00,9,   7.674,2,   -999.0,9,   -999.0,9,   -999.0,9,-999.0000,9,-999,  -999.0,    0.15,  0.0090,   0.038,   0.012
     316N151_4,   A22,    39,  1,     22,     22,2,19970823,2320, 21.4958, -65.9995, 5451, 8164.5,    802.0,   9.0372,  35.1445,2,  35.1430,2,    130.8,2,  8.9468,    131.1,2,    15.27,2,    26.66,2,     0.00,2,     1.70,2,    0.323,2,    0.181,2,    0.002,2, -999.000,9,   1.7994,2,     4.53,2,   -999.0,9,  -999.00,9,   7.652,2,   -999.0,9,   -999.0,9,   -999.0,9,-999.0000,9,-999,  -999.0,    0.15,  0.0090,   0.038,-999.000
     316N151_4,   A22,    39,  1,     21,     21,2,19970823,2320, 21.4958, -65.9995, 5451, 9173.7,    903.0,   7.4074,  34.9511,2,  34.9517,2,    132.0,2,  7.3158,    132.3,2,    19.73,2,    29.48,2,     0.00,2,     1.92,2,    0.143,2,    0.086,2,    0.003,2,    0.221,2,   1.8209,2,     2.05,2,   -999.0,9,  -999.00,9,   7.878,2,   -999.0,9,   -999.0,9,   -999.0,9,-999.0000,9,-999,  -999.0,    0.15,  0.0091,   0.039,   0.010
     316N151_4,   A22,    39,  1,     20,     20,2,19970823,2320, 21.4958, -65.9995, 5451,10176.6,   1003.3,   6.9613,  34.9628,2,  34.9633,2,    145.4,2,  6.8623,    145.1,2,    19.91,2,    28.36,2,     0.00,2,     1.86,2,    0.153,2,    0.086,2,    0.002,2,    0.207,2,   1.8074,2,     2.61,2,   -999.0,9,  -999.00,9,   7.667,2,   -999.0,9,   -999.0,9,   -999.0,9,-999.0000,9,-999,  -999.0,    0.15,  0.0090,   0.038,   0.010
     316N151_4,   A22,    39,  1,     19,     19,2,19970823,2320, 21.4958, -65.9995, 5451,11179.5,   1103.6,   6.2872,  34.9874,2,  34.9886,2,    168.0,2,  6.1830,    169.3,2,    18.92,6,    25.89,6,     0.00,6,     1.71,6,    0.203,2,    0.115,2,    0.008,2,    0.235,2,   1.8549,2,     2.01,2,   -999.0,9,  -999.00,9,   8.026,2,   -999.0,9,   -999.0,9,   -999.0,9,-999.0000,9,-999,  -999.0,    0.15,  0.0093,   0.040,   0.010
     316N151_4,   A22,    39,  1,     18,     18,2,19970823,2320, 21.4958, -65.9995, 5451,13144.0,   1300.2,   5.3079,  35.0401,2,  35.0405,2,    217.6,2,  5.1928,    218.2,2,    14.85,2,    20.86,2,     0.00,2,     1.38,2,    0.572,2,    0.291,2,    0.021,2, -999.000,9,   1.8271,2,     4.29,2,   -999.0,9,  -999.00,9,   7.980,2,   -999.0,9,   -999.0,9,   -999.0,9,-999.0000,9,-999,  -999.0,    0.15,  0.0091,   0.040,-999.000
     316N151_4,   A22,    39,  1,     17,     17,2,19970823,2320, 21.4958, -65.9995, 5451,15155.5,   1501.2,   4.4977,  35.0184,2,  35.0192,2,    248.4,2,  4.3718,    247.9,2,    12.73,2,    18.61,2,     0.00,2,     1.24,2,    0.761,2,    0.391,2,    0.028,2,    0.597,2,   1.8281,2,     5.26,2,   -999.0,9,  -999.00,9,   8.008,2,   -999.0,9,   -999.0,9,   -999.0,9,-999.0000,9,-999,  -999.0,    0.15,  0.0091,   0.040,   0.012
     316N151_4,   A22,    39,  1,     16,     16,2,19970823,2320, 21.4958, -65.9995, 5451,17633.6,   1749.0,   4.0256,  34.9942,2,  34.9958,2,    257.7,2,  3.8819,    257.5,2,    13.40,2,    18.29,2,     0.00,2,     1.22,2,    0.602,2,    0.307,2,    0.019,2,    0.468,2,   1.8310,2,     3.76,2,   -999.0,9,  -999.00,9,   7.947,2,   -999.0,9,   -999.0,9,   -999.0,9,-999.0000,9,-999,  -999.0,    0.15,  0.0092,   0.040,   0.011
     316N151_4,   A22,    39,  1,     15,     15,2,19970823,2320, 21.4958, -65.9995, 5451,20157.6,   2001.2,   3.7410,  34.9833,2,  34.9848,2,    260.4,2,  3.5772,    259.9,2,    14.87,2,    18.16,2,     0.00,2,     1.22,2,    0.439,2,    0.229,2,    0.015,2, -999.000,9,   1.8496,2,     2.41,2,   -999.0,9,  -999.00,9,   8.011,2,   -999.0,9,   -999.0,9,   -999.0,9,-999.0000,9,-999,  -999.0,    0.15,  0.0092,   0.040,-999.000
     316N151_4,   A22,    39,  1,     14,     14,2,19970823,2320, 21.4958, -65.9995, 5451,22660.2,   2251.4,   3.4672,  34.9738,2,  34.9756,2,    259.2,2,  3.2834,    260.5,2,    17.14,2,    18.33,2,     0.00,2,     1.23,2,    0.283,6,    0.148,6,    0.007,2, -999.000,9,-999.0000,5,  -999.00,9,   -999.0,9,  -999.00,9,-999.000,9,   -999.0,9,   -999.0,9,   -999.0,9,-999.0000,9,-999,  -999.0, -999.00,-999.0000,-999.000,-999.000
     316N151_4,   A22,    39,  1,     13,     13,2,19970823,2320, 21.4958, -65.9995, 5451,25165.1,   2501.7,   3.2100,  34.9593,2,  34.9613,2,    262.4,2,  3.0060,    261.6,2,    19.01,2,    18.29,2,     0.00,2,     1.24,2,    0.271,2,    0.143,2,    0.009,2,    0.239,2,   1.8592,2,     1.71,2,   -999.0,9,  -999.00,9,   8.056,2,   -999.0,9,   -999.0,9,   -999.0,9,-999.0000,9,-999,  -999.0,    0.15,  0.0093,   0.040,   0.010
     316N151_4,   A22,    39,  1,     12,     12,2,19970823,2320, 21.4958, -65.9995, 5451,27608.7,   2746.0,   2.9809,  34.9456,2,  34.9479,2,    263.4,2,  2.7567,    263.0,2,    20.71,6,    18.36,6,     0.00,6,     1.24,6,    0.284,2,    0.148,2,    0.013,2, -999.000,9,-999.0000,5,  -999.00,9,   -999.0,9,  -999.00,9,-999.000,9,   -999.0,9,   -999.0,9,   -999.0,9,-999.0000,9,-999,  -999.0, -999.00,-999.0000,-999.000,-999.000
     316N151_4,   A22,    39,  1,     11,     11,2,19970823,2320, 21.4958, -65.9995, 5451,30146.9,   2999.7,   2.7863,  34.9332,2,  34.9346,2,    265.9,2,  2.5403,    265.6,2,    21.34,2,    18.04,2,     0.00,2,     1.23,2,    0.377,2,    0.187,2,    0.018,2,    0.295,2,   1.8612,2,     2.41,2,   -999.0,9,  -999.00,9,   8.086,2,   -999.0,9,   -999.0,9,   -999.0,9,-999.0000,9,-999,  -999.0,    0.15,  0.0093,   0.040,   0.010
     316N151_4,   A22,    39,  1,     10,     10,2,19970823,2320, 21.4958, -65.9995, 5451,32637.5,   3248.7,   2.6141,  34.9231,2,  34.9222,2,    267.5,2,  2.3458,    267.5,2,    22.42,2,    18.00,2,     0.00,2,     1.23,2,    0.445,2,    0.226,2,    0.018,2, -999.000,9,-999.0000,5,  -999.00,9,   -999.0,9,  -999.00,9,-999.000,9,   -999.0,9,   -999.0,9,   -999.0,9,-999.0000,9,-999,  -999.0, -999.00,-999.0000,-999.000,-999.000
     316N151_4,   A22,    39,  1,      9,      9,2,19970823,2320, 21.4958, -65.9995, 5451,35126.5,   3497.4,   2.4781,  34.9138,2,  34.9138,2,    268.7,2,  2.1866,    268.3,2,    23.59,2,    18.01,2,     0.00,2,     1.23,2,    0.489,2,    0.256,2,    0.016,2,    0.375,2,   1.8651,2,     3.02,2,   -999.0,9,  -999.00,9,   8.143,2,   -999.0,9,   -999.0,9,   -999.0,9,-999.0000,9,-999,  -999.0,    0.15,  0.0093,   0.041,   0.011
     316N151_4,   A22,    39,  1,      8,      8,2,19970823,2320, 21.4958, -65.9995, 5451,37680.1,   3752.7,   2.3908,  34.9075,2,  34.9069,2,    268.1,2,  2.0735,    267.9,2,    25.66,2,    18.16,2,     0.00,2,     1.24,2,    0.490,2,    0.248,2,    0.021,2, -999.000,9,-999.0000,5,  -999.00,9,   -999.0,9,  -999.00,9,-999.000,9,   -999.0,9,   -999.0,9,   -999.0,9,-999.0000,9,-999,  -999.0, -999.00,-999.0000,-999.000,-999.000
     316N151_4,   A22,    39,  1,      7,      7,2,19970823,2320, 21.4958, -65.9995, 5451,40106.5,   3995.2,   2.3488,  34.9030,2,  34.9027,2,    267.0,2,  2.0053,    267.3,2,    27.23,2,    18.41,2,     0.00,2,     1.26,2,    0.457,2,    0.231,2,    0.019,2,    0.354,2,   1.8933,2,     3.07,2,   -999.0,9,  -999.00,9,   8.247,2,   -999.0,9,   -999.0,9,   -999.0,9,-999.0000,9,-999,  -999.0,    0.15,  0.0095,   0.041,   0.011
     316N151_4,   A22,    39,  1,      6,      6,2,19970823,2320, 21.4958, -65.9995, 5451,42636.0,   4248.0,   2.3275,  34.8992,2,  34.8995,2,    266.0,2,  1.9554,    266.3,2,    29.00,2,    18.56,2,     0.00,2,     1.28,2,    0.374,2,    0.195,2,    0.017,2, -999.000,9,-999.0000,5,  -999.00,9,   -999.0,9,  -999.00,9,-999.000,9,   -999.0,9,   -999.0,9,   -999.0,9,-999.0000,9,-999,  -999.0, -999.00,-999.0000,-999.000,-999.000
     316N151_4,   A22,    39,  1,      5,      5,2,19970823,2320, 21.4958, -65.9995, 5451,45136.4,   4497.9,   2.3149,  34.8959,2,  34.8924,2,    264.7,2,  1.9135,    265.1,2,    30.57,2,    18.84,2,     0.00,2,     1.29,2, -999.000,9, -999.000,9, -999.000,9, -999.000,9,-999.0000,5,  -999.00,9,   -999.0,9,  -999.00,9,-999.000,9,   -999.0,9,   -999.0,9,   -999.0,9,-999.0000,9,-999,  -999.0, -999.00,-999.0000,-999.000,-999.000
     316N151_4,   A22,    39,  1,      4,      4,2,19970823,2320, 21.4958, -65.9995, 5451,47639.4,   4748.2,   2.3104,  34.8926,2,  34.8907,2,    263.5,2,  1.8788,    263.8,2,    32.44,2,    19.07,2,     0.00,2,     1.31,2,    0.338,6,    0.178,6,    0.018,2, -999.000,9,-999.0000,5,  -999.00,9,   -999.0,9,  -999.00,9,-999.000,9,   -999.0,9,   -999.0,9,   -999.0,9,-999.0000,9,-999,  -999.0, -999.00,-999.0000,-999.000,-999.000
     316N151_4,   A22,    39,  1,      3,      3,2,19970823,2320, 21.4958, -65.9995, 5451,50150.3,   4999.1,   2.3005,  34.8882,2,  34.8877,2,    261.6,2,  1.8380,    261.9,2,    35.25,6,    19.56,6,     0.00,6,     1.34,6,    0.288,2,    0.154,2,    0.019,2,    0.243,2,   1.9313,2,     2.60,2,   -999.0,9,  -999.00,9,   8.381,2,   -999.0,9,   -999.0,9,   -999.0,9,-999.0000,9,-999,  -999.0,    0.15,  0.0097,   0.042,   0.010
     316N151_4,   A22,    39,  1,      2,      2,2,19970823,2320, 21.4958, -65.9995, 5451,52666.7,   5250.7,   2.2777,  34.8820,2,  34.8804,2,    259.9,2,  1.7839,    259.5,2,    38.78,2,    20.07,2,     0.00,2,     1.38,2,    0.226,6,    0.125,6,    0.017,2, -999.000,9,-999.0000,5,  -999.00,9,   -999.0,9,  -999.00,9,-999.000,9,   -999.0,9,   -999.0,9,   -999.0,9,-999.0000,9,-999,  -999.0, -999.00,-999.0000,-999.000,-999.000
     316N151_4,   A22,    39,  1,      1,      1,2,19970823,2320, 21.4958, -65.9995, 5451,56217.2,   5605.7,   1.9879,  34.8406,2,  34.8396,2,    245.8,2,  1.4586,    247.1,2,    59.51,6,    23.35,6,     0.00,6,     1.61,6,    0.049,2,    0.040,2,    0.009,2, -999.000,9,   1.9109,2,     2.11,2,   -999.0,9,  -999.00,9,   8.322,2,   -999.0,9,   -999.0,9,   -999.0,9,-999.0000,9,-999,  -999.0,    0.15,  0.0096,   0.042,-999.000