BOTTLE,20220629CCHSIOAMB
EXPOCODE,SECT_ID,STNNBR,CASTNO,SAMPNO,BTLNBR,BTLNBR_FLAG_W,DATE,TIME,LATITUDE,LONGITUDE,DEPTH,CTDRAW,CTDPRS,CTDTMP,CTDSAL,CTDSAL_FLAG_W,SALNTY,SALNTY_FLAG_W,CTDOXY,CTDOXY_FLAG_W,THETA,OXYGEN,OXYGEN_FLAG_W,SILCAT,SILCAT_FLAG_W,NITRAT,NITRAT_FLAG_W,NITRIT,NITRIT_FLAG_W,PHSPHT,PHSPHT_FLAG_W,CFC-11,CFC-11_FLAG_W,CFC-12,CFC-12_FLAG_W,CFC113,CFC113_FLAG_W,TRITUM,TRITUM_FLAG_W,HELIUM,HELIUM_FLAG_W,DELHE3,DELHE3_FLAG_W,DELC14,DELC14_FLAG_W,DELC13,DELC13_FLAG_W,NEON,NEON_FLAG_W,TCARBN,TCARBN_FLAG_W,PCO2,PCO2_FLAG_W,ALKALI,ALKALI_FLAG_W,PH,PH_FLAG_W,PH_TMP,C14ERR,DELHER,HELIER,NEONER,TRITER
,,,,,,,,,,,,,DBAR,ITS-90,PSS-78,,PSS-78,,UMOL/KG,,ITS-90,UMOL/KG,,UMOL/KG,,UMOL/KG,,UMOL/KG,,UMOL/KG,,PMOL/KG,,PMOL/KG,,PMOL/KG,,TU,,NMOL/KG,,PERCNT,,/MILLE,,/MILLE,,NMOL/KG,,UMOL/KG,,UATM,,UMOL/KG,,,,DEG C,/MILLE,PERCNT,NMOL/KG,NMOL/KG,TU
     316N151_4,   A22,     2,  1,     10,     10,2,19970816,1913, 11.0013, -66.0028,  221,  125.1,      2.7,  25.6644,  36.7552,2,  36.7620,2,   -999.0,9, 25.6638,    230.0,2,     0.01,2,     0.05,2,     0.01,2,     0.02,2, -999.000,9, -999.000,9, -999.000,9, -999.000,9,-999.0000,5,  -999.00,9,   -999.0,9,  -999.00,9,-999.000,9,   2062.3,2,    303.0,2,   2411.0,2,   8.0770,2,25,  -999.0, -999.00,-999.0000,-999.000,-999.000
     316N151_4,   A22,     2,  1,      9,      9,2,19970816,1913, 11.0013, -66.0028,  221,  329.1,     23.9,  23.5025,  36.7940,2,  36.7942,2,    203.3,2, 23.4975,    196.6,2,     1.17,2,     1.34,2,     0.13,2,     0.12,2,    1.901,6,    1.099,6,    0.090,2, -999.000,9,-999.0000,5,  -999.00,9,   -999.0,9,  -999.00,9,-999.000,9,   2093.8,2,    356.0,2,   2409.0,2,   8.0230,2,25,  -999.0, -999.00,-999.0000,-999.000,-999.000
     316N151_4,   A22,     2,  1,      8,      8,2,19970816,1913, 11.0013, -66.0028,  221,  587.8,     50.2,  20.4482,  36.7693,2,  36.7508,2,    139.6,2, 20.4387,    152.5,2,     2.83,2,     8.00,2,     0.07,2,     0.47,2,    1.960,2,    1.098,2,    0.038,2, -999.000,9,-999.0000,5,  -999.00,9,   -999.0,9,  -999.00,9,-999.000,9,   2143.8,2,    465.0,2,   2402.4,2,   7.9240,2,25,  -999.0, -999.00,-999.0000,-999.000,-999.000
     316N151_4,   A22,     2,  1,      7,      7,2,19970816,1913, 11.0013, -66.0028,  221,  855.5,     77.4,  18.9802,  36.5905,2,  36.5872,2,    132.6,2, 18.9663,    148.3,2,     3.62,2,     9.72,2,     0.03,2,     0.56,2,    1.933,2,    1.077,2,    0.021,2, -999.000,9,-999.0000,5,  -999.00,9,   -999.0,9,  -999.00,9,-999.000,9,   2150.0,2,    498.0,2,   2390.8,2,   7.8900,2,25,  -999.0, -999.00,-999.0000,-999.000,-999.000
     316N151_4,   A22,     2,  1,      6,      6,2,19970816,1913, 11.0013, -66.0028,  221, 1074.6,     99.8,  18.7879,  36.5611,2,  36.5591,2,    128.5,2, 18.7701,    148.6,2,     3.82,2,    10.15,2,     0.03,2,     0.59,2,    1.955,6,    1.069,6,    0.017,2, -999.000,9,-999.0000,5,  -999.00,9,   -999.0,9,  -999.00,9,-999.000,9,   2151.7,2,    506.0,2,   2392.0,2,   7.8890,2,25,  -999.0, -999.00,-999.0000,-999.000,-999.000
     316N151_4,   A22,     2,  1,      5,      5,2,19970816,1913, 11.0013, -66.0028,  221, 1315.8,    124.3,  18.1753,  36.4690,2,  36.4590,2,    127.0,2, 18.1536,    134.4,2,     4.23,2,    11.16,2,     0.03,2,     0.66,2,    1.895,6,    1.047,6, -999.000,9, -999.000,9,-999.0000,5,  -999.00,9,   -999.0,9,  -999.00,9,-999.000,9,   2154.5,2,   -999.0,9,   2384.6,2,   7.8760,2,25,  -999.0, -999.00,-999.0000,-999.000,-999.000
     316N151_4,   A22,     2,  1,      4,      4,2,19970816,1913, 11.0013, -66.0028,  221, 1504.1,    143.8,  17.4836,  36.3646,2,  36.3627,2,    127.2,2, 17.4592,    144.6,2,     4.45,2,    11.98,2,     0.03,2,     0.70,2,    1.847,2,    1.010,2,    0.014,2, -999.000,9,-999.0000,5,  -999.00,9,   -999.0,9,  -999.00,9,-999.000,9,   2155.6,2,    533.0,2,   2380.2,2,   7.8670,2,25,  -999.0, -999.00,-999.0000,-999.000,-999.000
     316N151_4,   A22,     2,  1,      3,      3,2,19970816,1913, 11.0013, -66.0028,  221, 1806.0,    174.7,  17.3634,  36.3474,2,  36.3491,2,    128.2,2, 17.3339,    142.3,2,     4.65,2,    12.09,2,     0.03,2,     0.71,2,    1.880,2,    1.015,2,    0.012,2, -999.000,9,-999.0000,5,  -999.00,9,   -999.0,9,  -999.00,9,-999.000,9,   2156.9,2,    537.0,2,   2381.6,2,   7.8610,2,25,  -999.0, -999.00,-999.0000,-999.000,-999.000
     316N151_4,   A22,     2,  1,      2,      2,2,19970816,1913, 11.0013, -66.0028,  221, 2055.3,    200.0,  16.6537,  36.2271,2,  36.1873,2,    128.4,2, 16.6208,    142.5,2,     5.26,2,    13.76,2,     0.05,2,     0.82,2,    1.786,2,    0.960,2,    0.012,2, -999.000,9,-999.0000,5,  -999.00,9,   -999.0,9,  -999.00,9,-999.000,9,   2159.4,2,   -999.0,9,   2372.5,6,   7.8340,6,25,  -999.0, -999.00,-999.0000,-999.000,-999.000
     316N151_4,   A22,     2,  1,      1,      1,2,19970816,1913, 11.0013, -66.0028,  221, 2270.0,    221.6,  15.7193,  36.0673,2,  36.0731,2,    128.1,2, 15.6844,    142.2,2,     5.91,6,    15.01,6,     0.06,6,     0.90,6,    1.677,6,    0.885,6, -999.000,9, -999.000,9,-999.0000,5,  -999.00,9,   -999.0,9,  -999.00,9,-999.000,9,   2163.6,2,    591.0,2,   2364.8,2,   7.8210,2,25,  -999.0, -999.00,-999.0000,-999.000,-999.000
     316N151_4,   A22,     3,  1,     22,     22,2,19970816,2118, 11.2495, -66.0000,  574,  255.7,     12.4,  25.6417,  36.7448,2,  36.7431,2,    203.5,2, 25.6390,    218.0,2,     0.91,2,     0.05,2,     0.01,2,     0.04,2,    1.859,2,    1.103,2,    0.119,2,    0.863,2,-999.0000,5,  -999.00,9,   -999.0,9,  -999.00,9,-999.000,9,   -999.0,9,    320.0,2,   -999.0,9,-999.0000,9,-999,  -999.0, -999.00,-999.0000,-999.000,   0.014
     316N151_4,   A22,     3,  1,     21,     21,2,19970816,2118, 11.2495, -66.0000,  574,  614.8,     48.9,  21.7864,  36.8240,2,  36.8350,2,    142.0,2, 21.7768,    153.3,2,     2.08,2,     4.99,2,     0.29,2,     0.32,2,    1.919,6,    1.102,6,    0.074,2,    0.994,2,   1.7229,2,    -0.90,2,   -999.0,9,  -999.00,9,   6.815,2,   -999.0,9,   -999.0,9,   -999.0,9,-999.0000,9,-999,  -999.0,    0.15,  0.0086,   0.034,   0.014
     316N151_4,   A22,     3,  1,     20,     20,3,19970816,2118, 11.2495, -66.0000,  574,  880.1,     75.8,  18.8028,  36.5682,2,  36.5680,2,    137.1,2, 18.7893,    138.2,2,     3.55,2,     9.90,2,     0.03,2,     0.57,2, -999.000,9, -999.000,9, -999.000,9, -999.000,9,-999.0000,5,  -999.00,9,   -999.0,9,  -999.00,9,-999.000,9,   -999.0,9,   -999.0,9,   -999.0,9,-999.0000,9,-999,  -999.0, -999.00,-999.0000,-999.000,-999.000
     316N151_4,   A22,     3,  1,     19,     19,2,19970816,2118, 11.2495, -66.0000,  574, 1140.1,    102.1,  18.0193,  36.4494,2,  36.4470,2,    130.7,2, 18.0016,    134.6,2,     4.24,2,    11.29,2,     0.05,2,     0.66,2,    1.845,2,    1.028,2,    0.019,2, -999.000,9,-999.0000,5,  -999.00,9,   -999.0,9,  -999.00,9,-999.000,9,   -999.0,9,   -999.0,9,   -999.0,9,-999.0000,9,-999,  -999.0, -999.00,-999.0000,-999.000,-999.000
     316N151_4,   A22,     3,  1,     18,     18,2,19970816,2118, 11.2495, -66.0000,  574, 1359.5,    124.5,  17.3945,  36.3584,2,  36.3452,2,    132.6,2, 17.3734,    138.6,2,     4.26,2,    11.89,2,     0.04,2,     0.69,2,    1.826,2,    1.092,2,    0.019,2,    1.042,2,   1.7444,2,     1.69,2,   -999.0,9,  -999.00,9,   7.016,2,   -999.0,9,   -999.0,9,   -999.0,9,-999.0000,9,-999,  -999.0,    0.15,  0.0087,   0.035,   0.014
     316N151_4,   A22,     3,  1,     17,     17,2,19970816,2118, 11.2495, -66.0000,  574, 1595.4,    148.7,  16.0320,  36.1289,2,  36.1254,2,    133.7,2, 16.0083,    134.9,2,     5.25,2,    14.26,2,     0.02,2,     0.84,2,    1.725,6,    0.926,6, -999.000,9, -999.000,9,-999.0000,5,  -999.00,9,   -999.0,9,  -999.00,9,-999.000,9,   -999.0,9,   -999.0,9,   -999.0,9,-999.0000,9,-999,  -999.0, -999.00,-999.0000,-999.000,-999.000
     316N151_4,   A22,     3,  1,     16,     16,2,19970816,2118, 11.2495, -66.0000,  574, 2091.6,    199.4,  14.6089,  35.8782,2,  35.8672,2,    129.1,2, 14.5790,    127.8,2,     6.91,2,    17.38,2,     0.02,2,     1.04,2,    1.518,6,    0.811,6, -999.000,9,    0.927,2,   1.7697,2,     3.78,2,   -999.0,9,  -999.00,9,   7.171,2,   -999.0,9,   -999.0,9,   -999.0,9,-999.0000,9,-999,  -999.0,    0.15,  0.0088,   0.036,   0.014
     316N151_4,   A22,     3,  1,     15,     15,2,19970816,2118, 11.2495, -66.0000,  574, 2598.5,    250.7,  12.9834,  35.5782,2,  35.5784,2,    123.2,2, 12.9487,    121.9,2,     8.95,2,    20.68,2,     0.02,2,     1.27,2,    1.255,2,    0.666,2,    0.006,2, -999.000,9,-999.0000,5,  -999.00,9,   -999.0,9,  -999.00,9,-999.000,9,   -999.0,9,   -999.0,9,   -999.0,9,-999.0000,9,-999,  -999.0, -999.00,-999.0000,-999.000,-999.000
     316N151_4,   A22,     3,  1,     14,     14,2,19970816,2118, 11.2495, -66.0000,  574, 3128.5,    304.6,  11.6572,  35.3751,2,  35.3683,2,    116.6,2, 11.6179,    117.1,2,    11.10,2,    23.55,2,     0.02,2,     1.46,2,    0.985,2,    0.527,2,    0.003,2, -999.000,9,-999.0000,5,  -999.00,9,   -999.0,9,  -999.00,9,-999.000,9,   -999.0,9,   -999.0,9,   -999.0,9,-999.0000,9,-999,  -999.0, -999.00,-999.0000,-999.000,-999.000
     316N151_4,   A22,     3,  1,     13,     13,2,19970816,2118, 11.2495, -66.0000,  574, 4102.9,    403.3,  10.3133,  35.1550,2,  35.1507,2,    114.6,2, 10.2650,    115.8,2,    13.43,2,    26.23,2,     0.01,2,     1.65,2,    0.745,2,    0.402,2,    0.003,2,    0.485,2,   1.7870,2,     2.43,2,   -999.0,9,  -999.00,9,   7.333,2,   -999.0,9,   -999.0,9,   -999.0,9,-999.0000,9,-999,  -999.0,    0.15,  0.0089,   0.037,   0.012
     316N151_4,   A22,     3,  1,     12,     12,2,19970816,2118, 11.2495, -66.0000,  574, 5111.4,    505.3,   8.5797,  34.9196,2,  34.9169,2,    116.3,2,  8.5255,    117.5,2,    17.42,2,    29.50,2,     0.01,2,     1.88,2,    0.452,2,    0.244,2,   -0.001,2, -999.000,9,   1.8035,2,     0.88,2,   -999.0,9,  -999.00,9,   7.446,2,   -999.0,9,   -999.0,9,   -999.0,9,-999.0000,9,-999,  -999.0,    0.15,  0.0090,   0.037,-999.000
     316N151_4,   A22,     3,  1,     11,     11,2,19970816,2118, 11.2495, -66.0000,  574, 5788.4,    573.7,   7.8244,  34.8421,2,  34.8454,2,    118.4,2,  7.7658,    119.2,2,    19.52,6,    30.73,6,     0.01,6,     1.96,6,    0.306,6,    0.180,6,    0.002,2,    0.219,2,   1.7939,2,    -0.13,2,   -999.0,9,  -999.00,9,   7.427,2,   -999.0,9,   -999.0,9,   -999.0,9,-999.0000,9,-999,  -999.0,    0.15,  0.0090,   0.037,   0.012
     316N151_4,   A22,     4,  1,      2,      2,2,19970816,2346, 11.5017, -65.9987, 1019,  278.6,     12.9,  27.2750,  36.7899,2,  36.7940,2,    206.3,2, 27.2720,    209.0,2,     0.58,2,     0.03,2,     0.00,2,     0.03,2,    1.717,6,    1.024,6, -999.000,9, -999.000,9,-999.0000,5,  -999.00,9,   -999.0,9,  -999.00,9,-999.000,9,   2063.2,2,   -999.0,9,   2408.6,2,   8.0740,2,25,  -999.0, -999.00,-999.0000,-999.000,-999.000
     316N151_4,   A22,     4,  1,      1,      1,2,19970816,2346, 11.5017, -65.9987, 1019,  668.3,     52.3,  20.0983,  36.6360,2,  36.6376,2,    151.2,2, 20.0886,    147.4,2,     3.15,2,     7.91,2,     0.15,2,     0.50,2,    1.922,2,    1.073,2,    0.043,2, -999.000,9,-999.0000,5,  -999.00,9,   -999.0,9,  -999.00,9,-999.000,9,   2139.3,2,   -999.0,9,   2397.6,6,   7.9250,2,25,  -999.0, -999.00,-999.0000,-999.000,-999.000
     316N151_4,   A22,     4,  1,     36,     36,2,19970816,2346, 11.5017, -65.9987, 1019, 1142.6,    100.3,  18.3352,  36.5025,2,  36.5026,2,    132.7,2, 18.3176,    133.9,2,     4.05,2,    10.82,2,     0.03,2,     0.64,2,    1.897,2,    1.034,2,    0.016,2, -999.000,9,-999.0000,5,  -999.00,9,   -999.0,9,  -999.00,9,-999.000,9,   2153.7,2,   -999.0,9,   2388.6,2,   7.8810,2,25,  -999.0, -999.00,-999.0000,-999.000,-999.000
     316N151_4,   A22,     4,  1,     35,     35,2,19970816,2346, 11.5017, -65.9987, 1019, 1650.2,    151.3,  15.7195,  36.0700,2,  36.0694,2,    132.4,2, 15.6957,    132.6,2,     5.64,2,    15.04,2,     0.02,2,     0.91,2,    1.662,2,    0.893,2,    0.014,2, -999.000,9,-999.0000,5,  -999.00,9,   -999.0,9,  -999.00,9,-999.000,9,   2163.6,2,   -999.0,9,   2363.4,2,   7.8270,2,25,  -999.0, -999.00,-999.0000,-999.000,-999.000
     316N151_4,   A22,     4,  1,     34,     34,2,19970816,2346, 11.5017, -65.9987, 1019, 2128.0,    199.4,  14.2572,  35.8140,2,  35.8038,2,    124.7,2, 14.2278,    125.7,2,     7.52,2,    18.29,2,     0.01,2,     1.12,2,    1.405,2,    0.739,2,    0.003,2, -999.000,9,-999.0000,5,  -999.00,9,   -999.0,9,  -999.00,9,-999.000,9,   2171.4,2,   -999.0,9,   2350.8,2,   7.7820,2,25,  -999.0, -999.00,-999.0000,-999.000,-999.000
     316N151_4,   A22,     4,  1,     33,     33,2,19970816,2346, 11.5017, -65.9987, 1019, 2630.8,    250.2,  13.6212,  35.7061,2,  35.6932,2,    123.4,2, 13.5854,    122.9,2,     8.33,2,    19.66,2,     0.01,2,     1.22,2,    1.306,6,    0.687,6,    0.007,2, -999.000,9,-999.0000,5,  -999.00,9,   -999.0,9,  -999.00,9,-999.000,9,   2176.8,2,   -999.0,9,   2344.4,2,   7.7580,2,25,  -999.0, -999.00,-999.0000,-999.000,-999.000
     316N151_4,   A22,     4,  1,     32,     32,2,19970816,2346, 11.5017, -65.9987, 1019, 3113.5,    298.9,  12.2022,  35.4533,2,  35.4511,2,    120.3,2, 12.1624,    119.4,2,    10.32,2,    22.47,2,     0.01,2,     1.41,2,    1.078,2,    0.580,2,    0.005,2, -999.000,9,-999.0000,5,  -999.00,9,   -999.0,9,  -999.00,9,-999.000,9,   2185.8,2,   -999.0,9,   2333.9,2,   7.7190,2,25,  -999.0, -999.00,-999.0000,-999.000,-999.000
     316N151_4,   A22,     4,  1,     31,     31,2,19970816,2346, 11.5017, -65.9987, 1019, 4102.5,    398.3,   9.9195,  35.0930,2,  35.0913,2,    116.8,2,  9.8730,    116.2,2,    14.27,2,    27.12,2,     0.01,2,     1.74,2,    0.669,2,    0.369,2,    0.006,2, -999.000,9,-999.0000,5,  -999.00,9,   -999.0,9,  -999.00,9,-999.000,9,   2195.0,2,   -999.0,9,   2318.1,2,   7.6520,2,25,  -999.0, -999.00,-999.0000,-999.000,-999.000
     316N151_4,   A22,     4,  1,     30,     30,2,19970816,2346, 11.5017, -65.9987, 1019, 5109.7,    499.6,   8.6219,  34.9245,2,  34.9229,2,    117.6,2,  8.5681,    117.3,2,    17.44,2,    29.64,2,     0.01,2,     1.92,2,    0.448,2,    0.247,2,    0.002,2, -999.000,9,-999.0000,5,  -999.00,9,   -999.0,9,  -999.00,9,-999.000,9,   2205.5,2,   -999.0,9,   2313.4,2,   7.6210,2,25,  -999.0, -999.00,-999.0000,-999.000,-999.000
     316N151_4,   A22,     4,  1,     29,     29,2,19970816,2346, 11.5017, -65.9987, 1019, 6119.2,    601.1,   7.4261,  34.8045,2,  34.8025,2,    122.4,2,  7.3664,    121.3,2,    20.81,2,    31.50,2,     0.01,2,     2.06,2,    0.253,2,    0.141,2,   -0.001,2, -999.000,9,-999.0000,5,  -999.00,9,   -999.0,9,  -999.00,9,-999.000,9,   2209.8,2,   -999.0,9,   -999.0,9,-999.0000,9,-999,  -999.0, -999.00,-999.0000,-999.000,-999.000
     316N151_4,   A22,     4,  1,     28,     28,2,19970816,2346, 11.5017, -65.9987, 1019, 7089.7,    698.8,   6.5602,  34.7635,2,  34.7610,2,    129.1,2,  6.4949,    128.6,2,    23.68,2,    32.10,2,     0.00,2,     2.12,2,    0.125,2,    0.069,6,   -0.002,2, -999.000,9,-999.0000,5,  -999.00,9,   -999.0,9,  -999.00,9,-999.000,9,   2213.4,2,   -999.0,9,   2310.9,2,   7.5850,2,25,  -999.0, -999.00,-999.0000,-999.000,-999.000
     316N151_4,   A22,     4,  1,     27,     27,2,19970816,2346, 11.5017, -65.9987, 1019, 8077.2,    798.1,   5.9476,  34.8023,2,  34.8016,2,    142.9,2,  5.8761,    142.4,2,    25.17,2,    30.75,2,     0.00,2,     2.06,2,    0.067,2,    0.044,2,    0.002,2, -999.000,9,-999.0000,5,  -999.00,9,   -999.0,9,  -999.00,9,-999.000,9,   2213.2,2,   -999.0,9,   2315.9,2,   7.6050,2,25,  -999.0, -999.00,-999.0000,-999.000,-999.000
     316N151_4,   A22,     4,  1,     26,     26,2,19970816,2346, 11.5017, -65.9987, 1019, 9008.1,    892.1,   5.5051,  34.8652,2,  34.8652,2,    159.9,2,  5.4275,    159.8,2,    25.58,2,    28.55,2,     0.00,2,     1.92,2, -999.000,9, -999.000,9, -999.000,9, -999.000,9,-999.0000,5,  -999.00,9,   -999.0,9,  -999.00,9,-999.000,9,   2207.9,2,   -999.0,9,   2321.9,2,   7.6350,2,25,  -999.0, -999.00,-999.0000,-999.000,-999.000
     316N151_4,   A22,     4,  1,     25,     25,2,19970816,2346, 11.5017, -65.9987, 1019, 9008.7,    892.7,   5.5017,  34.8660,2,  34.8644,2,    159.9,2,  5.4241,    160.0,2,    25.50,2,    28.51,2,     0.00,2,     1.92,2,    0.047,2,    0.032,2,    0.000,2, -999.000,9,-999.0000,5,  -999.00,9,   -999.0,9,  -999.00,9,-999.000,9,   2207.5,2,   -999.0,9,   2322.2,2,   7.6330,2,25,  -999.0, -999.00,-999.0000,-999.000,-999.000
     316N151_4,   A22,     4,  1,     24,     24,2,19970816,2346, 11.5017, -65.9987, 1019, 9827.7,    975.2,   5.0801,  34.9166,2,  34.9160,2,    175.0,2,  4.9978,    177.1,2,    25.71,2,    26.37,2,     0.01,2,     1.79,2,    0.032,2,    0.026,2,    0.000,2, -999.000,9,-999.0000,5,  -999.00,9,   -999.0,9,  -999.00,9,-999.000,9,   2203.9,2,   -999.0,9,   2328.9,2,   7.6620,2,25,  -999.0, -999.00,-999.0000,-999.000,-999.000
     316N151_4,   A22,     4,  1,     23,     23,2,19970816,2346, 11.5017, -65.9987, 1019,10225.8,   1015.3,   4.8740,  34.9341,2,  34.9332,2,    183.1,2,  4.7896,    185.3,2,    25.78,6,    25.45,6,     0.01,6,     1.73,6,    0.033,6,    0.021,6,    0.000,2, -999.000,9,-999.0000,5,  -999.00,9,   -999.0,9,  -999.00,9,-999.000,9,   2200.9,2,   -999.0,9,   2325.4,2,   7.6730,2,25,  -999.0, -999.00,-999.0000,-999.000,-999.000