BOTTLE,20220629CCHSIOAMB
EXPOCODE,SECT_ID,STNNBR,CASTNO,SAMPNO,BTLNBR,BTLNBR_FLAG_W,DATE,TIME,LATITUDE,LONGITUDE,DEPTH,CTDRAW,CTDPRS,CTDTMP,CTDSAL,CTDSAL_FLAG_W,SALNTY,SALNTY_FLAG_W,CTDOXY,CTDOXY_FLAG_W,THETA,OXYGEN,OXYGEN_FLAG_W,SILCAT,SILCAT_FLAG_W,NITRAT,NITRAT_FLAG_W,NITRIT,NITRIT_FLAG_W,PHSPHT,PHSPHT_FLAG_W,CFC-11,CFC-11_FLAG_W,CFC-12,CFC-12_FLAG_W,CFC113,CFC113_FLAG_W,TRITUM,TRITUM_FLAG_W,HELIUM,HELIUM_FLAG_W,DELHE3,DELHE3_FLAG_W,DELC14,DELC14_FLAG_W,DELC13,DELC13_FLAG_W,NEON,NEON_FLAG_W,TCARBN,TCARBN_FLAG_W,PCO2,PCO2_FLAG_W,ALKALI,ALKALI_FLAG_W,PH,PH_FLAG_W,PH_TMP,C14ERR,DELHER,HELIER,NEONER,TRITER
,,,,,,,,,,,,,DBAR,ITS-90,PSS-78,,PSS-78,,UMOL/KG,,ITS-90,UMOL/KG,,UMOL/KG,,UMOL/KG,,UMOL/KG,,UMOL/KG,,PMOL/KG,,PMOL/KG,,PMOL/KG,,TU,,NMOL/KG,,PERCNT,,/MILLE,,/MILLE,,NMOL/KG,,UMOL/KG,,UATM,,UMOL/KG,,,,DEG C,/MILLE,PERCNT,NMOL/KG,NMOL/KG,TU
     316N151_4,   A22,    65,  1,     31,     31,2,19970831,1637, 37.9955, -65.9872, 4798,  203.3,      4.4,  28.1789,  36.1228,2,  36.1266,2,    194.5,2, 28.1779,    201.2,2,     1.25,2,     0.00,2,     0.00,2,     0.01,2,    1.638,2,    0.991,2,    0.129,2, -999.000,9,-999.0000,5,  -999.00,9,      0.8,2,     1.43,2,-999.000,9,   1991.9,2,    259.0,2,   2359.9,2,   8.1240,2,25,     4.1, -999.00,-999.0000,-999.000,-999.000
     316N151_4,   A22,    65,  1,     30,     30,2,19970831,1637, 37.9955, -65.9872, 4798,  641.9,     48.8,  27.6950,  36.1817,2,  36.1898,2,    197.4,2, 27.6836,    205.2,2,     1.25,2,     0.00,2,     0.00,2,     0.01,2,    1.689,2,    1.021,2,    0.126,2, -999.000,9,-999.0000,5,  -999.00,9,     87.1,2,     1.40,2,-999.000,9,   2002.8,2,    269.0,2,   2364.2,2,   8.1150,2,25,     2.9, -999.00,-999.0000,-999.000,-999.000
     316N151_4,   A22,    65,  1,     29,     29,2,19970831,1637, 37.9955, -65.9872, 4798, 1142.7,     99.0,  24.9443,  36.6585,2,-999.0000,9,    176.8,2, 24.9227,    179.1,2,     1.14,2,     0.98,2,     0.09,2,     0.07,2,    1.884,2,    1.099,2,    0.092,2, -999.000,9,-999.0000,5,  -999.00,9,   -999.0,9,     0.92,2,-999.000,9,   -999.0,9,    326.0,2,   2395.5,6,   8.0480,6,25,  -999.0, -999.00,-999.0000,-999.000,-999.000
     316N151_4,   A22,    65,  1,     28,     28,2,19970831,1637, 37.9955, -65.9872, 4798, 1650.2,    149.8,  22.2380,  36.7470,2,  36.7622,2,    201.0,2, 22.2079,    189.2,2,     0.95,2,     1.47,2,     0.05,2,     0.08,2,    2.057,2,    1.196,2,    0.100,2, -999.000,9,-999.0000,5,  -999.00,9,     97.4,2,     1.09,2,-999.000,9,   2077.8,2,    332.0,2,   2400.1,2,   8.0370,2,25,     3.2, -999.00,-999.0000,-999.000,-999.000
     316N151_4,   A22,    65,  1,     27,     27,2,19970831,1637, 37.9955, -65.9872, 4798, 2151.9,    199.7,  19.6777,  36.6895,2,  36.6920,2,    188.8,2, 19.6408,    190.0,2,     1.14,2,     2.39,2,     0.01,2,     0.12,2,    2.215,2,    1.258,2,    0.063,2, -999.000,9,-999.0000,5,  -999.00,9,     93.2,6,     0.96,2,-999.000,9,   2092.9,2,    365.0,2,   2396.5,2,   8.0090,2,25,     1.9, -999.00,-999.0000,-999.000,-999.000
     316N151_4,   A22,    65,  1,     26,     26,2,19970831,1637, 37.9955, -65.9872, 4798, 2651.9,    249.3,  18.7535,  36.6120,2,  36.6129,2,    194.9,2, 18.7090,    196.3,2,     1.24,2,     3.04,2,     0.01,2,     0.15,2,    2.326,2,    1.319,2,    0.065,2, -999.000,9,-999.0000,5,  -999.00,9,     94.3,6,     0.97,2,-999.000,9,   2092.7,2,    374.0,2,   2392.3,2,   8.0010,2,25,     2.1, -999.00,-999.0000,-999.000,-999.000
     316N151_4,   A22,    65,  1,     25,     25,2,19970831,1637, 37.9955, -65.9872, 4798, 3188.4,    302.7,  18.3610,  36.5821,2,  36.5843,2,    200.9,2, 18.3076,    210.5,2,     1.14,2,     2.56,2,     0.01,2,     0.13,2,    2.349,2,    1.334,2,    0.096,2, -999.000,9,-999.0000,5,  -999.00,9,     84.6,2,     0.96,2,-999.000,9,   2083.4,2,    362.0,2,   2390.1,6,   8.0160,2,25,     6.3, -999.00,-999.0000,-999.000,-999.000
     316N151_4,   A22,    65,  1,     24,     24,2,19970831,1637, 37.9955, -65.9872, 4798, 4159.7,    399.6,  18.0981,  36.5539,2,  36.5567,2,    210.9,2, 18.0282,    212.5,2,     1.23,2,     2.93,2,     0.01,2,     0.15,2,    2.337,2,    1.336,2,    0.090,2, -999.000,9,-999.0000,5,  -999.00,9,     97.5,6,     0.99,2,-999.000,9,   2086.4,2,    368.0,2,   2388.2,2,   8.0120,2,25,     2.7, -999.00,-999.0000,-999.000,-999.000
     316N151_4,   A22,    65,  1,     23,     23,2,19970831,1637, 37.9955, -65.9872, 4798, 5183.4,    502.3,  17.2539,  36.3879,2,  36.3905,2,    190.7,2, 17.1687,    190.9,2,     2.20,2,     6.38,2,     0.01,2,     0.35,2,    2.208,2,    1.221,2,    0.044,2, -999.000,9,-999.0000,5,  -999.00,9,     96.2,2,     0.90,2,-999.000,9,   2106.6,2,    422.0,2,   2380.2,2,   7.9640,2,25,     2.7, -999.00,-999.0000,-999.000,-999.000
     316N151_4,   A22,    65,  1,     22,     22,2,19970831,1637, 37.9955, -65.9872, 4798, 6172.0,    601.5,  15.4179,  36.0676,2,  36.0686,2,    177.0,2, 15.3232,    175.6,2,     4.06,2,    10.85,2,     0.00,2,     0.64,2,    1.928,2,    1.057,2,    0.039,2, -999.000,9,-999.0000,5,  -999.00,9,     77.3,2,     0.80,2,-999.000,9,   2127.2,2,   -999.0,9,   2363.3,2,   7.8980,2,25,     2.7, -999.00,-999.0000,-999.000,-999.000
     316N151_4,   A22,    65,  1,     21,     21,2,19970831,1637, 37.9955, -65.9872, 4798, 7164.8,    701.4,  13.2309,  35.7241,2,  35.7277,2,    163.5,2, 13.1309,    163.0,2,     6.78,2,    15.64,2,     0.00,2,     0.96,2,    1.569,2,    0.848,2,    0.025,2, -999.000,9,-999.0000,5,  -999.00,9,     43.3,6,     0.81,6,-999.000,9,   2149.5,2,    606.0,2,   2343.6,6,   7.8250,6,25,    10.7, -999.00,-999.0000,-999.000,-999.000
     316N151_4,   A22,    65,  1,     20,     20,2,19970831,1637, 37.9955, -65.9872, 4798, 8160.9,    801.5,  10.5328,  35.3589,2,  35.3602,2,    152.7,2, 10.4335,    150.7,2,    11.47,2,    21.33,2,     0.00,2,     1.34,2,    1.032,2,    0.554,2,    0.023,2, -999.000,9,-999.0000,5,  -999.00,9,    -26.4,2,     0.71,2,-999.000,9,   2175.0,2,    750.0,2,   2330.0,2,   7.7380,2,25,     3.1, -999.00,-999.0000,-999.000,-999.000
     316N151_4,   A22,    65,  1,     19,     19,2,19970831,1637, 37.9955, -65.9872, 4798, 9163.7,    902.0,   8.4168,  35.1624,2,  35.1699,2,    157.0,2,  8.3185,    161.0,2,    13.91,2,    22.92,2,     0.00,2,     1.47,2, -999.000,9, -999.000,9, -999.000,9, -999.000,9,-999.0000,5,  -999.00,9,   -999.0,9,     0.69,2,-999.000,9,   2182.2,2,    804.0,2,   2323.3,2,   7.7030,2,25,  -999.0, -999.00,-999.0000,-999.000,-999.000
     316N151_4,   A22,    65,  1,     18,     18,2,19970831,1637, 37.9955, -65.9872, 4798,10172.5,   1003.1,   6.8969,  35.1127,2,  35.1144,2,    186.8,2,  6.7982,    188.5,2,    13.72,2,    21.54,2,     0.00,2,     1.40,2,    0.979,2,    0.497,2,    0.033,2, -999.000,9,-999.0000,5,  -999.00,9,    -61.3,2,     0.74,2,-999.000,9,   2180.0,2,    795.0,2,   2320.7,2,   7.7100,2,25,     2.5, -999.00,-999.0000,-999.000,-999.000
     316N151_4,   A22,    65,  1,     17,     17,2,19970831,1637, 37.9955, -65.9872, 4798,11162.5,   1102.3,   5.7704,  35.0811,2,  35.0840,2,    215.1,2,  5.6704,    215.4,2,    13.23,2,    20.12,2,     0.00,2,     1.32,2,    1.025,2,    0.521,2,    0.036,2, -999.000,9,-999.0000,5,  -999.00,9,    -63.2,2,     0.81,2,-999.000,9,   2173.3,2,    776.0,2,   2321.6,2,   7.7220,2,25,     3.0, -999.00,-999.0000,-999.000,-999.000
     316N151_4,   A22,    65,  1,     16,     16,2,19970831,1637, 37.9955, -65.9872, 4798,13060.8,   1292.0,   4.6061,  34.9870,2,  34.9899,2,    245.9,2,  4.4986,    244.6,2,    12.45,2,    18.66,2,     0.00,2,     1.23,2,    1.796,2,    0.840,2,    0.097,2, -999.000,9,-999.0000,5,  -999.00,9,    -29.0,2,     0.86,2,-999.000,9,   2164.4,2,    760.0,2,   2312.9,2,   7.7260,2,25,     3.2, -999.00,-999.0000,-999.000,-999.000
     316N151_4,   A22,    65,  1,     15,     15,2,19970831,1637, 37.9955, -65.9872, 4798,15142.5,   1500.0,   4.2442,  34.9775,2,  34.9804,2,    256.1,2,  4.1212,    255.7,2,    12.16,2,    18.13,2,     0.00,2,     1.20,2,    1.568,2,    0.763,2,    0.081,2, -999.000,9,-999.0000,5,  -999.00,9,    -35.8,2,     0.94,2,-999.000,9,   2160.9,2,   -999.0,9,   2308.0,2,   7.7330,2,25,     2.7, -999.00,-999.0000,-999.000,-999.000
     316N151_4,   A22,    65,  1,     14,     14,2,19970831,1637, 37.9955, -65.9872, 4798,17623.9,   1748.1,   3.8654,  34.9498,2,  34.9534,2,    264.9,2,  3.7239,    264.8,2,    12.34,2,    17.76,2,     0.00,2,     1.18,2,    1.580,2,    0.776,2,    0.076,2, -999.000,9,-999.0000,5,  -999.00,9,    -35.7,2,     0.97,2,-999.000,9,   2157.7,2,   -999.0,9,   2310.2,2,   7.7370,2,25,     3.8, -999.00,-999.0000,-999.000,-999.000
     316N151_4,   A22,    65,  1,     13,     13,2,19970831,1637, 37.9955, -65.9872, 4798,20138.5,   1999.3,   3.6641,  34.9432,2,  34.9459,2,    268.6,2,  3.5017,    268.5,2,    12.93,2,    17.64,2,     0.00,2,     1.17,2,    1.408,2,    0.695,2,    0.065,2, -999.000,9,-999.0000,5,  -999.00,9,    -85.5,2,     1.02,2,-999.000,9,   2156.1,2,   -999.0,9,   2312.9,2,   7.7400,2,25,     3.8, -999.00,-999.0000,-999.000,-999.000
     316N151_4,   A22,    65,  1,     12,     12,2,19970831,1637, 37.9955, -65.9872, 4798,22655.5,   2251.0,   3.5509,  34.9509,2,  34.9540,2,    265.8,2,  3.3659,    266.6,2,    14.29,2,    17.68,2,     0.00,2,     1.18,2,    1.008,2,    0.510,2,    0.049,2, -999.000,9,-999.0000,5,  -999.00,9,    -99.7,2,     1.08,2,-999.000,9,   2155.8,2,   -999.0,9,   2314.6,2,   7.7450,2,25,     4.8, -999.00,-999.0000,-999.000,-999.000
     316N151_4,   A22,    65,  1,     11,     11,2,19970831,1637, 37.9955, -65.9872, 4798,25152.4,   2500.4,   3.4081,  34.9562,2,  34.9597,2,    265.0,2,  3.2006,    264.7,2,    16.05,2,    17.84,2,     0.00,2,     1.19,2,    0.644,2,    0.327,2,    0.027,2, -999.000,9,-999.0000,5,  -999.00,9,     -0.9,2,     1.10,2,-999.000,9,   2158.1,2,   -999.0,9,   2315.7,2,   7.7490,2,25,     3.3, -999.00,-999.0000,-999.000,-999.000
     316N151_4,   A22,    65,  1,     10,     10,2,19970831,1637, 37.9955, -65.9872, 4798,27672.4,   2752.4,   3.1757,  34.9463,2,  34.9488,2,    264.6,2,  2.9470,    265.2,2,    17.52,2,    17.80,2,     0.00,2,     1.19,2,    0.592,2,    0.307,2,    0.024,2, -999.000,9,-999.0000,5,  -999.00,9,   -101.9,2,     0.82,3,-999.000,9,   2159.7,2,   -999.0,9,   2316.9,2,   7.7500,2,25,     3.4, -999.00,-999.0000,-999.000,-999.000
     316N151_4,   A22,    65,  1,      9,      9,2,19970831,1637, 37.9955, -65.9872, 4798,30144.1,   2999.5,   2.9493,  34.9366,2,  34.9362,2,    264.9,2,  2.6998,    266.8,2,    18.98,2,    17.76,2,     0.00,2,     1.19,2,    0.569,2,    0.298,2,    0.017,2, -999.000,9,-999.0000,5,  -999.00,9,    -72.3,2,     1.04,2,-999.000,9,   2160.0,2,   -999.0,9,   2315.8,2,   7.7530,2,25,     3.2, -999.00,-999.0000,-999.000,-999.000
     316N151_4,   A22,    65,  1,      8,      8,2,19970831,1637, 37.9955, -65.9872, 4798,32655.5,   3250.4,   2.7336,  34.9268,2,  34.9283,2,    267.3,2,  2.4625,    267.6,2,    21.03,2,    17.84,2,     0.00,2,     1.20,2,    0.519,2,    0.268,2,    0.019,2, -999.000,9,-999.0000,5,  -999.00,9,    -79.1,2,     1.02,2,-999.000,9,   2160.2,2,   -999.0,9,   2320.4,2,   7.7540,2,25,     3.1, -999.00,-999.0000,-999.000,-999.000
     316N151_4,   A22,    65,  1,      7,      7,2,19970831,1637, 37.9955, -65.9872, 4798,35136.2,   3498.4,   2.5376,  34.9153,2,  34.9164,2,    268.1,2,  2.2445,    268.4,2,    22.98,2,    17.88,2,     0.00,2,     1.21,2,    0.548,2,    0.277,2,    0.023,2, -999.000,9,-999.0000,5,  -999.00,9,   -999.0,9,  -999.00,9,-999.000,9,   2159.6,2,   -999.0,9,   2317.0,3,   7.7460,2,25,  -999.0, -999.00,-999.0000,-999.000,-999.000
     316N151_4,   A22,    65,  1,      6,      6,2,19970831,1637, 37.9955, -65.9872, 4798,37648.5,   3749.5,   2.3896,  34.9050,2,  34.9052,2,    269.8,2,  2.0727,    269.8,2,    24.17,2,    17.79,2,     0.00,2,     1.20,2,    0.761,2,    0.377,2,    0.036,2, -999.000,9,-999.0000,5,  -999.00,9,    -70.4,2,     1.01,2,-999.000,9,   2165.5,2,   -999.0,9,   2321.0,2,   7.7470,2,25,     3.1, -999.00,-999.0000,-999.000,-999.000
     316N151_4,   A22,    65,  1,      5,      5,2,19970831,1637, 37.9955, -65.9872, 4798,40163.5,   4000.9,   2.3173,  34.8993,2,  34.8998,2,    267.3,2,  1.9741,    269.8,2,    27.88,2,    18.37,2,     0.00,2,     1.24,2,    0.582,2,    0.294,2,    0.029,2, -999.000,9,-999.0000,5,  -999.00,9,    -79.9,2,     1.01,2,-999.000,9,   2169.3,2,   -999.0,9,   2325.5,2,   7.7430,2,25,     3.1, -999.00,-999.0000,-999.000,-999.000
     316N151_4,   A22,    65,  1,      4,      4,2,19970831,1637, 37.9955, -65.9872, 4798,42673.7,   4251.9,   2.2792,  34.8941,2,  34.8954,2,    265.1,2,  1.9080,    265.5,2,    30.51,2,    18.73,2,     0.00,2,     1.27,2,    0.521,2,    0.259,2,    0.028,2, -999.000,9,-999.0000,5,  -999.00,9,    -81.8,2,     1.03,2,-999.000,9,   2171.9,2,   -999.0,9,   2327.9,2,   7.7400,2,25,     3.5, -999.00,-999.0000,-999.000,-999.000
     316N151_4,   A22,    65,  1,      3,      3,2,19970831,1637, 37.9955, -65.9872, 4798,45144.9,   4499.0,   2.2674,  34.8895,2,  34.8917,2,    263.7,2,  1.8675,    263.7,2,    32.76,2,    19.09,2,     0.00,2,     1.30,2,    0.463,2,    0.234,2,    0.025,2, -999.000,9,-999.0000,5,  -999.00,9,    -89.3,2,     1.05,2,-999.000,9,   2175.5,2,   -999.0,9,   2329.8,2,   7.7290,3,25,     3.1, -999.00,-999.0000,-999.000,-999.000
     316N151_4,   A22,    65,  1,      2,      2,2,19970831,1637, 37.9955, -65.9872, 4798,47663.5,   4751.0,   2.2638,  34.8862,2,  34.8874,2,    262.2,2,  1.8334,    261.8,2,    35.01,2,    19.45,2,     0.00,2,     1.32,2,    0.400,2,    0.212,2,    0.018,2, -999.000,9,-999.0000,5,  -999.00,9,    -92.2,2,     1.03,2,-999.000,9,   2179.4,2,   -999.0,9,   2334.0,2,   7.7380,2,25,     3.1, -999.00,-999.0000,-999.000,-999.000
     316N151_4,   A22,    65,  1,      1,      1,2,19970831,1637, 37.9955, -65.9872, 4798,49402.0,   4924.3,   2.2728,  34.8846,2,  34.8865,2,    259.7,2,  1.8206,    261.4,2,    36.18,6,    19.58,6,     0.01,6,     1.34,6,    0.377,2,    0.201,2,    0.023,2, -999.000,9,-999.0000,5,  -999.00,9,   -109.9,2,     0.93,2,-999.000,9,   2180.9,2,   -999.0,9,   2336.3,2,   7.7390,2,25,     2.5, -999.00,-999.0000,-999.000,-999.000