BOTTLE,20220629CCHSIOAMB
EXPOCODE,SECT_ID,STNNBR,CASTNO,SAMPNO,BTLNBR,BTLNBR_FLAG_W,DATE,TIME,LATITUDE,LONGITUDE,DEPTH,CTDRAW,CTDPRS,CTDTMP,CTDSAL,CTDSAL_FLAG_W,SALNTY,SALNTY_FLAG_W,CTDOXY,CTDOXY_FLAG_W,THETA,OXYGEN,OXYGEN_FLAG_W,SILCAT,SILCAT_FLAG_W,NITRAT,NITRAT_FLAG_W,NITRIT,NITRIT_FLAG_W,PHSPHT,PHSPHT_FLAG_W,CFC-11,CFC-11_FLAG_W,CFC-12,CFC-12_FLAG_W,CFC113,CFC113_FLAG_W,TRITUM,TRITUM_FLAG_W,HELIUM,HELIUM_FLAG_W,DELHE3,DELHE3_FLAG_W,DELC14,DELC14_FLAG_W,DELC13,DELC13_FLAG_W,NEON,NEON_FLAG_W,TCARBN,TCARBN_FLAG_W,PCO2,PCO2_FLAG_W,ALKALI,ALKALI_FLAG_W,PH,PH_FLAG_W,PH_TMP,C14ERR,DELHER,HELIER,NEONER,TRITER
,,,,,,,,,,,,,DBAR,ITS-90,PSS-78,,PSS-78,,UMOL/KG,,ITS-90,UMOL/KG,,UMOL/KG,,UMOL/KG,,UMOL/KG,,UMOL/KG,,PMOL/KG,,PMOL/KG,,PMOL/KG,,TU,,NMOL/KG,,PERCNT,,/MILLE,,/MILLE,,NMOL/KG,,UMOL/KG,,UATM,,UMOL/KG,,,,DEG C,/MILLE,PERCNT,NMOL/KG,NMOL/KG,TU
     316N151_4,   A22,    12,  1,     33,     33,2,19970818,1414, 14.3480, -66.0000, 4861,  204.0,      2.4,  28.6320,  35.3872,2,  35.3936,2,    188.4,2, 28.6314,    210.0,2,     1.53,2,     0.00,2,     0.00,2,     0.01,2, -999.000,9, -999.000,9,    0.115,2, -999.000,9,   1.7308,2,    -1.34,2,     60.8,2,     1.64,2,   6.626,2,   1962.9,2,   -999.0,9,   2324.1,2,   8.1190,2,25,     3.0,    0.15,  0.0087,   0.033,-999.000
     316N151_4,   A22,    12,  1,     32,     32,2,19970818,1414, 14.3480, -66.0000, 4861,  710.5,     53.4,  28.0246,  35.7242,2,  35.7129,2,    204.5,2, 28.0120,    205.8,2,     1.34,2,     0.00,2,     0.00,2,     0.02,2,    1.626,2,    0.986,2,    0.125,2, -999.000,9,-999.0000,5,  -999.00,9,     76.8,2,     1.58,2,-999.000,9,   1989.0,2,   -999.0,9,   2342.0,6,   8.1030,6,25,     3.2, -999.00,-999.0000,-999.000,-999.000
     316N151_4,   A22,    12,  1,     31,     31,2,19970818,1414, 14.3480, -66.0000, 4861, 1173.7,    100.6,  25.8335,  36.3842,2,  36.3933,2,    187.7,2, 25.8111,    184.7,2,     1.23,2,     1.02,2,     0.05,2,     0.11,2,    1.755,6,    1.058,6,    0.121,2,    0.813,2,   1.7902,2,    -0.24,2,     78.0,2,     1.31,2,   6.905,2,   2043.7,2,   -999.0,9,   2382.8,2,   8.0660,2,25,     3.7,    0.15,  0.0090,   0.035,   0.014
     316N151_4,   A22,    12,  1,     30,     30,2,19970818,1414, 14.3480, -66.0000, 4861, 1687.0,    152.5,  22.4892,  37.0315,2,  37.0295,2,    160.3,2, 22.4583,    161.6,2,     1.62,2,     4.42,2,     0.02,2,     0.26,2,    1.927,2,    1.116,2,    0.060,2,    1.007,2,   1.7456,2,     0.25,2,     83.0,2,     1.07,2,   6.819,2,   2121.5,2,   -999.0,9,   2419.4,2,   7.9850,2,25,     2.8,    0.15,  0.0087,   0.034,   0.014
     316N151_4,   A22,    12,  1,     29,     29,2,19970818,1414, 14.3480, -66.0000, 4861, 2162.5,    200.6,  18.8472,  36.6267,2,  36.6275,2,    153.0,2, 18.8113,    150.9,2,     2.70,2,     8.23,2,     0.01,2,     0.46,2,    1.998,2,    1.117,2,    0.015,2,    1.085,2,   1.7769,2,     2.36,2,     81.3,6,     0.87,2,   7.028,2,   2139.3,2,   -999.0,9,   2394.7,2,   7.9210,2,25,     2.1,    0.15,  0.0089,   0.035,   0.015
     316N151_4,   A22,    12,  1,     28,     28,2,19970818,1414, 14.3480, -66.0000, 4861, 2672.2,    252.2,  16.6689,  36.2608,2,  36.2507,2,    146.7,2, 16.6273,    144.1,2,     4.17,2,    12.44,2,     0.01,2,     0.73,2,    1.794,2,    0.992,2,    0.011,2,    1.075,2,   1.7847,2,     4.05,2,     56.2,2,     0.70,2,   7.129,2,   2147.9,2,   -999.0,9,   2373.9,2,   7.8660,2,25,     6.8,    0.15,  0.0089,   0.036,   0.015
     316N151_4,   A22,    12,  1,     27,     27,2,19970818,1414, 14.3480, -66.0000, 4861, 3144.0,    299.7,  14.3490,  35.8210,2,  35.7962,2,    128.7,2, 14.3045,    128.3,2,     7.44,2,    17.96,2,     0.01,2,     1.11,2,    1.411,2,    0.783,2,    0.007,2,    0.859,2,   1.8068,2,     5.26,2,     16.4,2,     0.68,2,   7.244,2,   2167.7,2,   -999.0,9,   2349.7,2,   7.7900,2,25,     4.0,    0.15,  0.0090,   0.036,   0.017
     316N151_4,   A22,    12,  1,     26,     26,2,19970818,1414, 14.3480, -66.0000, 4861, 4141.4,    399.9,  11.4358,  35.3327,2,  35.3286,2,    120.1,2, 11.3846,    119.8,2,    11.28,2,    23.93,2,     0.00,2,     1.51,2,    0.933,2,    0.517,2,    0.009,2, -999.000,9,   1.8131,2,     5.41,2,    -36.6,2,     0.62,2,   7.356,2,   2182.5,2,   -999.0,9,   2326.6,2,   7.7000,2,25,     4.2,    0.15,  0.0091,   0.037,-999.000
     316N151_4,   A22,    12,  1,     25,     25,2,19970818,1414, 14.3480, -66.0000, 4861, 5137.5,    499.8,   8.9721,  34.9654,2,  34.8591,4,    118.1,2,  8.9170,    118.8,2,    16.13,2,    28.76,2,     0.00,2,     1.85,2,    0.523,6,    0.298,6,    0.002,2,    0.322,2,-999.0000,5,  -999.00,9,    -61.2,6,     0.62,2,-999.000,9,   2198.2,2,   -999.0,9,   2312.6,2,   7.6380,2,25,     3.2, -999.00,-999.0000,-999.000,   0.012
     316N151_4,   A22,    12,  1,     24,     24,2,19970818,1414, 14.3480, -66.0000, 4861, 6166.2,    602.8,   7.8690,  34.8651,2,  34.8593,2,    121.9,2,  7.8071,    121.8,2,    19.29,2,    30.69,2,     0.00,2,     1.99,2,    0.299,2,    0.173,2,    0.002,2,    0.261,2,   1.8098,2,     2.07,2,    -75.6,6,     0.63,2,   7.561,2,   2209.7,2,   -999.0,9,   2308.7,2,   7.6160,2,25,     2.5,    0.15,  0.0090,   0.038,   0.012
     316N151_4,   A22,    12,  1,     23,     23,2,19970818,1414, 14.3480, -66.0000, 4861, 7132.4,    699.5,   6.7753,  34.7693,2,  34.7643,2,    127.8,2,  6.7088,    127.2,2,    22.85,2,    32.22,2,     0.00,2,     2.11,2,    0.157,2,    0.091,2,    0.001,2,    0.139,2,   1.8448,2,     0.44,2,    -87.5,2,     0.67,2,   7.728,2,   2209.3,2,   -999.0,9,   2309.4,2,   7.5950,2,25,     3.7,    0.15,  0.0092,   0.039,   0.012
     316N151_4,   A22,    12,  1,     22,     22,2,19970818,1414, 14.3480, -66.0000, 4861, 8146.8,    801.0,   6.0169,  34.7614,2,  34.7609,2,    139.1,2,  5.9447,    138.5,2,    25.02,2,    31.46,2,     0.00,2,     2.10,2,    0.081,2,    0.052,2,    0.001,2,    0.093,2,   1.8217,2,     1.25,2,   -100.6,2,     0.70,2,   7.703,2,   2210.8,2,   -999.0,9,   2312.4,2,   7.6000,2,25,     4.2,    0.15,  0.0091,   0.039,   0.016
     316N151_4,   A22,    12,  1,     21,     21,2,19970818,1414, 14.3480, -66.0000, 4861, 9144.1,    900.7,   5.7129,  34.8636,2,  34.8638,2,    156.6,2,  5.6331,    156.9,2,    24.52,2,    28.82,2,     0.00,2,     1.92,2, -999.000,9, -999.000,9, -999.000,9,    0.099,2,   1.8732,2,     0.39,2,   -105.7,2,     0.71,2,   7.848,2,   2205.1,2,   -999.0,9,   2319.4,2,   7.6350,2,25,     2.6,    0.15,  0.0094,   0.039,   0.012
     316N151_4,   A22,    12,  1,     20,     20,2,19970818,1414, 14.3480, -66.0000, 4861,10127.2,    999.2,   5.1565,  34.9264,2,  34.9231,2,    176.8,2,  5.0714,    178.8,2,    24.81,2,    26.11,2,     0.00,2,     1.76,2, -999.000,9, -999.000,9, -999.000,9,    0.062,2,   1.8548,2,    -0.16,2,   -108.5,2,     0.77,2,   7.856,2,   2197.7,2,   -999.0,9,   2323.5,2,   7.6640,2,25,     3.6,    0.15,  0.0093,   0.039,   0.012
     316N151_4,   A22,    12,  1,     19,     19,2,19970818,1414, 14.3480, -66.0000, 4861,11134.7,   1099.8,   4.7377,  34.9460,2,  34.9463,2,    191.4,2,  4.6467,    192.3,2,    25.90,2,    24.89,2,     0.00,2,     1.67,2, -999.000,9, -999.000,9, -999.000,9,    0.034,2,   1.8813,2,    -0.38,2,    -99.9,2,     0.83,2,   7.990,2,   2195.6,2,   -999.0,9,   2329.9,2,   7.6820,2,25,     3.8,    0.15,  0.0094,   0.040,   0.011
     316N151_4,   A22,    12,  1,     18,     18,2,19970818,1414, 14.3480, -66.0000, 4861,13143.2,   1300.7,   4.3774,  34.9623,2,  34.9618,2,    203.0,2,  4.2714,    203.6,2,    26.78,2,    23.55,2,     0.00,2,     1.60,2, -999.000,9, -999.000,9, -999.000,9,    0.050,2,   1.8476,2,     0.04,2,   -100.7,2,     0.76,2,   7.852,2,   2194.6,2,   -999.0,9,   2333.7,2,   7.6960,2,25,     2.8,    0.15,  0.0092,   0.039,   0.011
     316N151_4,   A22,    12,  1,     17,     17,2,19970818,1414, 14.3480, -66.0000, 4861,15150.9,   1501.3,   4.2342,  34.9692,2,  34.9694,2,    208.3,2,  4.1112,    209.2,2,    27.07,2,    22.95,2,     0.00,2,     1.56,2, -999.000,9, -999.000,9, -999.000,9,    0.033,2,   1.8561,2,    -0.30,2,   -102.8,2,     0.87,2,   7.854,2,   2193.5,2,   -999.0,9,   2336.8,2,   7.7040,2,25,     3.8,    0.15,  0.0093,   0.039,   0.011
     316N151_4,   A22,    12,  1,     16,     16,2,19970818,1414, 14.3480, -66.0000, 4861,16641.2,   1650.3,   4.1720,  34.9715,2,  34.9717,2,    211.2,2,  4.0358,    211.2,2,    27.48,2,    22.83,2,     0.00,2,     1.54,2, -999.000,9, -999.000,9, -999.000,9,    0.011,2,   1.8618,2,    -1.10,2,    -93.2,2,     0.88,2,   7.813,2,   2193.9,2,   -999.0,9,   2337.4,2,   7.7050,2,25,     6.4,    0.15,  0.0093,   0.039,   0.011
     316N151_4,   A22,    12,  1,     15,     15,2,19970818,1414, 14.3480, -66.0000, 4861,18149.0,   1801.0,   4.1285,  34.9728,2,  34.9703,2,    213.2,2,  3.9785,    213.3,2,    27.77,2,    22.67,2,     0.00,2,     1.53,2, -999.000,9, -999.000,9, -999.000,9,    0.072,2,   1.9275,2,    -1.63,2,    -93.4,2,     0.85,2,   8.127,2,   2193.8,2,   -999.0,9,   2338.8,2,   7.7100,2,25,     4.5,    0.15,  0.0096,   0.041,   0.013
     316N151_4,   A22,    12,  1,     14,     14,2,19970818,1414, 14.3480, -66.0000, 4861,19642.7,   1950.3,   4.1103,  34.9736,2,  34.9721,2,    214.0,2,  3.9461,    214.5,2,    28.16,2,    22.51,2,     0.00,2,     1.52,2, -999.000,9, -999.000,9, -999.000,9, -999.000,9,-999.0000,5,  -999.00,9,    -98.0,2,     0.91,2,-999.000,9,   2191.5,2,   -999.0,9,   2338.4,2,   7.7090,2,25,     3.3, -999.00,-999.0000,-999.000,-999.000
     316N151_4,   A22,    12,  1,     13,     13,2,19970818,1414, 14.3480, -66.0000, 4861,21128.8,   2098.9,   4.1027,  34.9748,2,  34.9738,2,    215.7,2,  3.9239,    217.5,3,    28.26,2,    22.42,2,     0.00,2,     1.52,2, -999.000,9, -999.000,9, -999.000,9,    0.015,2,   1.8724,2,    -1.76,2,   -101.8,2,     0.87,2,   7.953,2,   2193.4,2,   -999.0,9,   2341.5,2,   7.7190,2,25,     3.3,    0.15,  0.0094,   0.040,   0.011
     316N151_4,   A22,    12,  1,     12,     12,2,19970818,1414, 14.3480, -66.0000, 4861,22640.4,   2249.9,   4.0995,  34.9745,2,  34.9753,2,    214.9,2,  3.9054,    215.7,2,    28.34,2,    22.42,2,     0.00,2,     1.51,2, -999.000,9, -999.000,9, -999.000,9, -999.000,9,-999.0000,5,  -999.00,9,    -95.1,2,     0.86,2,-999.000,9,   2193.0,2,   -999.0,9,   2342.0,2,   7.7150,2,25,     4.5, -999.00,-999.0000,-999.000,-999.000
     316N151_4,   A22,    12,  1,     11,     11,2,19970818,1414, 14.3480, -66.0000, 4861,25164.7,   2502.2,   4.1087,  34.9753,2,  34.9753,2,    215.8,2,  3.8883,    215.7,2,    28.74,2,    22.37,2,     0.00,2,     1.51,2, -999.000,9, -999.000,9, -999.000,9,    0.024,2,   1.9091,2,    -1.86,2,    -88.4,2,     0.91,2,   8.041,2,   2192.2,2,   -999.0,9,   2335.6,3,   7.7150,2,25,     3.4,    0.15,  0.0095,   0.040,   0.011
     316N151_4,   A22,    12,  1,     10,     10,2,19970818,1414, 14.3480, -66.0000, 4861,27663.1,   2751.9,   4.1285,  34.9753,2,  34.9740,2,    215.9,2,  3.8810,    216.0,2,    28.94,2,    22.41,2,     0.00,2,     1.51,2, -999.000,9, -999.000,9, -999.000,9, -999.000,9,-999.0000,5,  -999.00,9,   -106.5,2,     0.92,2,-999.000,9,   2192.9,2,   -999.0,9,   2342.1,2,   7.7150,2,25,     3.4, -999.00,-999.0000,-999.000,-999.000
     316N151_4,   A22,    12,  1,      9,      9,2,19970818,1414, 14.3480, -66.0000, 4861,30159.4,   3001.4,   4.1517,  34.9763,2,  34.9757,2,    216.1,2,  3.8760,    216.0,2,    28.92,2,    22.24,2,     0.00,2,     1.51,2, -999.000,9, -999.000,9, -999.000,9,    0.013,2,   1.8984,2,    -0.84,2,   -119.9,2,     0.90,2,   7.964,2,   2194.4,2,   -999.0,9,   2342.4,2,   7.7170,2,25,     2.6,    0.15,  0.0095,   0.040,   0.011
     316N151_4,   A22,    12,  1,      8,      8,2,19970818,1414, 14.3480, -66.0000, 4861,32649.2,   3250.2,   4.1762,  34.9762,2,  34.9757,2,    215.8,2,  3.8716,    216.1,2,    28.83,2,    22.31,2,     0.00,2,     1.51,2, -999.000,9, -999.000,9, -999.000,9, -999.000,9,-999.0000,5,  -999.00,9,   -122.8,2,     0.89,2,-999.000,9,   2192.6,2,   -999.0,9,   2344.2,2,   7.7160,2,25,     2.5, -999.00,-999.0000,-999.000,-999.000
     316N151_4,   A22,    12,  1,      7,      7,2,19970818,1414, 14.3480, -66.0000, 4861,35139.8,   3499.1,   4.2032,  34.9769,2,  34.9751,2,    216.0,2,  3.8688,    216.4,2,    28.93,2,    22.23,2,     0.00,2,     1.51,2, -999.000,9, -999.000,9, -999.000,9,    0.031,2,   1.8984,2,    -1.84,2,   -119.7,2,     0.85,2,   7.948,2,   2196.4,2,   -999.0,9,   2330.3,4,   7.7260,2,25,     3.3,    0.15,  0.0095,   0.040,   0.011
     316N151_4,   A22,    12,  1,      6,      6,2,19970818,1414, 14.3480, -66.0000, 4861,37640.3,   3749.0,   4.2318,  34.9774,2,  34.9756,2,    216.3,2,  3.8665,    216.5,2,    29.02,2,    22.22,2,     0.00,2,     1.51,2,    0.014,2,    0.021,2,    0.000,2, -999.000,9,-999.0000,5,  -999.00,9,   -999.0,9,  -999.00,9,-999.000,9,   2193.7,2,   -999.0,9,   2344.9,2,   7.7190,2,25,  -999.0, -999.00,-999.0000,-999.000,-999.000
     316N151_4,   A22,    12,  1,      5,      5,2,19970818,1414, 14.3480, -66.0000, 4861,40147.7,   3999.7,   4.2618,  34.9774,2,  34.9745,2,    216.5,2,  3.8648,    216.9,2,    29.02,2,    22.18,2,     0.00,2,     1.50,2, -999.000,9, -999.000,9, -999.000,9,    0.009,2,   1.9470,2,    -1.56,2,   -110.1,2,     0.88,2,   8.151,2,   2195.3,2,   -999.0,9,   2343.3,2,   7.7160,2,25,     2.5,    0.15,  0.0097,   0.041,   0.011
     316N151_4,   A22,    12,  1,      4,      4,2,19970818,1414, 14.3480, -66.0000, 4861,42650.1,   4249.9,   4.2929,  34.9780,2,  34.9766,2,    217.2,2,  3.8633,    217.4,2,    29.02,2,    22.10,2,     0.00,2,     1.50,2,    0.019,2,    0.021,2,    0.004,2, -999.000,9,-999.0000,5,  -999.00,9,    -91.8,2,     0.87,2,-999.000,9,   2196.1,2,   -999.0,9,   2332.7,4,   7.7310,4,25,     4.0, -999.00,-999.0000,-999.000,-999.000
     316N151_4,   A22,    12,  1,      3,      3,2,19970818,1414, 14.3480, -66.0000, 4861,45154.5,   4500.1,   4.3260,  34.9781,2,  34.9763,2,    217.5,2,  3.8629,    217.1,2,    29.51,2,    22.20,2,     0.00,2,     1.50,2,    0.030,2,    0.028,2,    0.007,2, -999.000,9,-999.0000,5,  -999.00,9,   -111.1,2,     0.91,2,-999.000,9,   2195.8,2,   -999.0,9,   2346.4,2,   7.7190,2,25,     2.3, -999.00,-999.0000,-999.000,-999.000
     316N151_4,   A22,    12,  1,      2,      2,2,19970818,1414, 14.3480, -66.0000, 4861,47638.8,   4748.5,   4.3600,  34.9786,2,  34.9734,2,    217.9,2,  3.8629,    216.7,2,    29.30,2,    22.01,2,     0.00,2,     1.50,2,    0.024,2,    0.026,2,    0.003,2,    0.004,2,   1.9459,2,    -1.87,2,   -110.8,2,     0.86,2,   8.155,2,   2192.4,2,   -999.0,9,   2340.8,3,   7.7220,6,25,     3.4,    0.15,  0.0097,   0.041,   0.011
     316N151_4,   A22,    12,  1,      1,      1,2,19970818,1414, 14.3480, -66.0000, 4861,49891.7,   4973.8,   4.3915,  34.9786,2,  34.9770,2,    217.5,2,  3.8628,    217.3,2,    29.35,6,    22.13,6,     0.00,6,     1.50,6,    0.039,2,    0.020,6,    0.004,2, -999.000,9,-999.0000,5,  -999.00,9,   -100.0,2,     0.87,2,-999.000,9,   2194.3,2,   -999.0,9,   2345.8,2,   7.7150,2,25,     3.6, -999.00,-999.0000,-999.000,-999.000