BOTTLE,20220629CCHSIOAMB
EXPOCODE,SECT_ID,STNNBR,CASTNO,SAMPNO,BTLNBR,BTLNBR_FLAG_W,DATE,TIME,LATITUDE,LONGITUDE,DEPTH,CTDRAW,CTDPRS,CTDTMP,CTDSAL,CTDSAL_FLAG_W,SALNTY,SALNTY_FLAG_W,CTDOXY,CTDOXY_FLAG_W,THETA,OXYGEN,OXYGEN_FLAG_W,SILCAT,SILCAT_FLAG_W,NITRAT,NITRAT_FLAG_W,NITRIT,NITRIT_FLAG_W,PHSPHT,PHSPHT_FLAG_W,CFC-11,CFC-11_FLAG_W,CFC-12,CFC-12_FLAG_W,CFC113,CFC113_FLAG_W,TRITUM,TRITUM_FLAG_W,HELIUM,HELIUM_FLAG_W,DELHE3,DELHE3_FLAG_W,DELC14,DELC14_FLAG_W,DELC13,DELC13_FLAG_W,NEON,NEON_FLAG_W,TCARBN,TCARBN_FLAG_W,PCO2,PCO2_FLAG_W,ALKALI,ALKALI_FLAG_W,PH,PH_FLAG_W,PH_TMP,C14ERR,DELHER,HELIER,NEONER,TRITER
,,,,,,,,,,,,,DBAR,ITS-90,PSS-78,,PSS-78,,UMOL/KG,,ITS-90,UMOL/KG,,UMOL/KG,,UMOL/KG,,UMOL/KG,,UMOL/KG,,PMOL/KG,,PMOL/KG,,PMOL/KG,,TU,,NMOL/KG,,PERCNT,,/MILLE,,/MILLE,,NMOL/KG,,UMOL/KG,,UATM,,UMOL/KG,,,,DEG C,/MILLE,PERCNT,NMOL/KG,NMOL/KG,TU
     316N151_4,   A22,    60,  1,     31,     31,2,19970830,1100, 35.5572, -65.9972, 4839,  177.0,      3.3,  26.1120,  36.0632,2,  36.0647,2,    205.1,2, 26.1113,    213.6,2,     0.45,2,     0.01,2,     0.00,2,     0.01,2,    1.820,2,    1.076,2,    0.151,2,    1.076,2,   1.7376,2,    -1.60,2,   -999.0,9,  -999.00,9,   5.784,2,   -999.0,9,    279.0,2,   -999.0,9,-999.0000,9,-999,  -999.0,    0.15,  0.0087,   0.029,   0.013
     316N151_4,   A22,    60,  1,     30,     30,2,19970830,1100, 35.5572, -65.9972, 4839,  654.4,     51.2,  22.0142,  36.6079,2,  36.6357,2,    220.5,2, 22.0040,    219.0,2,     0.33,2,     0.01,2,     0.00,2,     0.01,2,    2.134,2,    1.237,2,    0.130,2, -999.000,9,-999.0000,5,  -999.00,9,   -999.0,9,  -999.00,9,-999.000,9,   -999.0,9,   -999.0,9,   -999.0,9,-999.0000,9,-999,  -999.0, -999.00,-999.0000,-999.000,-999.000
     316N151_4,   A22,    60,  1,     29,     29,2,19970830,1100, 35.5572, -65.9972, 4839, 1154.5,    101.0,  19.7180,  36.6500,2,  36.6516,2,    219.5,2, 19.6993,    214.7,2,     0.31,2,     0.37,2,     0.09,2,     0.03,2,    2.324,2,    1.326,2,    0.140,2,    1.047,2,   1.7654,2,    -0.14,2,   -999.0,9,  -999.00,9,   5.848,2,   -999.0,9,   -999.0,9,   -999.0,9,-999.0000,9,-999,  -999.0,    0.15,  0.0088,   0.029,   0.013
     316N151_4,   A22,    60,  1,     28,     28,2,19970830,1100, 35.5572, -65.9972, 4839, 1649.0,    150.1,  18.8392,  36.6147,2,  36.6154,2,    209.3,2, 18.8123,    208.5,2,     0.68,2,     1.66,2,     0.03,2,     0.07,2,    2.382,2,    1.350,2,    0.132,2,    1.144,2,   1.7573,2,     0.34,2,   -999.0,9,  -999.00,9,   5.808,2,   -999.0,9,   -999.0,9,   -999.0,9,-999.0000,9,-999,  -999.0,    0.15,  0.0088,   0.029,   0.016
     316N151_4,   A22,    60,  1,     27,     27,2,19970830,1100, 35.5572, -65.9972, 4839, 2164.1,    201.3,  18.4648,  36.5908,2,  36.5910,2,    208.2,2, 18.4293,    210.0,2,     0.76,2,     2.42,2,     0.01,2,     0.12,2,    2.389,2,    1.349,2,    0.104,2,    1.062,2,   1.7825,2,     0.64,2,   -999.0,9,  -999.00,9,   5.773,2,   -999.0,9,   -999.0,9,   -999.0,9,-999.0000,9,-999,  -999.0,    0.15,  0.0089,   0.029,   0.013
     316N151_4,   A22,    60,  1,     26,     26,2,19970830,1100, 35.5572, -65.9972, 4839, 2664.6,    250.9,  18.3122,  36.5814,2,  36.5819,2,    212.5,2, 18.2681,    211.6,2,     0.94,2,     2.54,2,     0.01,2,     0.13,2,    2.407,2,    1.353,2,    0.104,2,    1.087,2,   1.7665,2,     1.45,2,   -999.0,9,  -999.00,9,   5.934,2,   -999.0,9,   -999.0,9,   -999.0,9,-999.0000,9,-999,  -999.0,    0.15,  0.0088,   0.030,   0.013
     316N151_4,   A22,    60,  1,     25,     25,2,19970830,1100, 35.5572, -65.9972, 4839, 3171.7,    301.3,  18.1902,  36.5634,2,  36.5637,2,    210.2,2, 18.1374,    211.4,2,     1.01,2,     2.79,2,     0.01,2,     0.14,2,    2.405,2,    1.353,2,    0.090,2,    1.113,2,   1.7649,2,     1.14,2,   -999.0,9,  -999.00,9,   5.993,2,   -999.0,9,   -999.0,9,   -999.0,9,-999.0000,9,-999,  -999.0,    0.15,  0.0088,   0.030,   0.013
     316N151_4,   A22,    60,  1,     24,     24,2,19970830,1100, 35.5572, -65.9972, 4839, 4154.2,    399.2,  17.9991,  36.5389,2,  36.5391,2,    210.4,2, 17.9295,    211.2,2,     1.09,2,     3.24,2,     0.01,2,     0.17,2,    2.384,6,    1.342,6,    0.087,2,    1.107,2,   1.7640,2,    -0.11,2,   -999.0,9,  -999.00,9,   5.799,2,   -999.0,9,   -999.0,9,   -999.0,9,-999.0000,9,-999,  -999.0,    0.15,  0.0088,   0.029,   0.013
     316N151_4,   A22,    60,  1,     23,     23,2,19970830,1100, 35.5572, -65.9972, 4839, 5172.2,    500.9,  17.6396,  36.4710,2,  36.4709,2,    204.2,2, 17.5533,    203.9,2,     1.46,2,     4.52,2,     0.01,2,     0.24,2,    2.339,2,    1.299,2,    0.070,2,    1.155,2,   1.7680,2,     2.04,2,   -999.0,9,  -999.00,9,   5.964,2,   -999.0,9,   -999.0,9,   -999.0,9,-999.0000,9,-999,  -999.0,    0.15,  0.0088,   0.030,   0.013
     316N151_4,   A22,    60,  1,     22,     22,2,19970830,1100, 35.5572, -65.9972, 4839, 6169.2,    600.8,  16.2708,  36.2101,2,  36.2117,2,    175.1,2, 16.1727,    175.1,2,     3.21,2,     9.51,2,     0.00,2,     0.55,2,    1.976,2,    1.069,2,    0.031,2,    1.278,2,   1.7697,2,     5.77,2,   -999.0,9,  -999.00,9,   6.552,2,   -999.0,9,   -999.0,9,   -999.0,9,-999.0000,9,-999,  -999.0,    0.15,  0.0088,   0.033,   0.014
     316N151_4,   A22,    60,  1,     21,     21,2,19970830,1100, 35.5572, -65.9972, 4839, 7153.6,    699.7,  14.6687,  35.9403,2,  35.9406,2,    167.4,2, 14.5618,    165.3,2,     5.05,2,    13.16,2,     0.00,2,     0.79,2,    1.726,2,    0.925,2,    0.017,2,    1.213,2,   1.7820,2,     7.65,2,   -999.0,9,  -999.00,9,   6.563,2,   -999.0,9,   -999.0,9,   -999.0,9,-999.0000,9,-999,  -999.0,    0.15,  0.0089,   0.033,   0.014
     316N151_4,   A22,    60,  1,     20,     20,2,19970830,1100, 35.5572, -65.9972, 4839, 8163.1,    801.1,  12.8749,  35.6596,2,  35.6618,2,    153.7,2, 12.7623,    152.5,2,     7.89,2,    17.47,2,     0.00,2,     1.08,2,    1.333,2,    0.717,2,    0.014,2,    1.042,2,   1.7999,2,     8.50,2,   -999.0,9,  -999.00,9,   6.665,2,   -999.0,9,   -999.0,9,   -999.0,9,-999.0000,9,-999,  -999.0,    0.15,  0.0090,   0.033,   0.013
     316N151_4,   A22,    60,  1,     19,     19,2,19970830,1100, 35.5572, -65.9972, 4839, 9151.5,    900.4,  10.4452,  35.3366,2,  35.3366,2,    144.2,2, 10.3337,    143.8,2,    12.19,2,    22.39,2,     0.00,2,     1.41,2,    0.883,2,    0.472,2,    0.010,2,    0.748,2,   1.8161,2,     8.53,2,   -999.0,9,  -999.00,9,   6.698,2,   -999.0,9,   -999.0,9,   -999.0,9,-999.0000,9,-999,  -999.0,    0.15,  0.0091,   0.033,   0.012
     316N151_4,   A22,    60,  1,     18,     18,2,19970830,1100, 35.5572, -65.9972, 4839,10162.5,   1001.8,   8.5184,  35.1746,2,  35.1730,2,    159.0,2,  8.4078,    159.7,2,    13.94,2,    23.06,2,     0.00,2,     1.48,2,    0.833,2,    0.435,2,    0.022,2,    0.728,2,   1.8353,2,     7.83,2,   -999.0,9,  -999.00,9,   6.496,2,   -999.0,9,   -999.0,9,   -999.0,9,-999.0000,9,-999,  -999.0,    0.15,  0.0092,   0.032,   0.012
     316N151_4,   A22,    60,  1,     17,     17,2,19970830,1100, 35.5572, -65.9972, 4839,11160.8,   1101.8,   6.9423,  35.1177,2,  35.1171,2,    185.0,2,  6.8328,    188.5,2,    13.52,2,    21.51,2,     0.00,2,     1.40,2,    1.003,2,    0.509,2,    0.036,2,    0.706,2,   1.8413,2,     8.57,2,   -999.0,9,  -999.00,9,   6.525,2,   -999.0,9,   -999.0,9,   -999.0,9,-999.0000,9,-999,  -999.0,    0.15,  0.0092,   0.033,   0.012
     316N151_4,   A22,    60,  1,     16,     16,2,19970830,1100, 35.5572, -65.9972, 4839,12664.8,   1252.4,   5.4403,  35.0676,2,  35.0692,2,    222.8,2,  5.3284,    225.1,2,    12.62,2,    19.46,2,     0.00,2,     1.28,2,    1.302,2,    0.647,2,    0.057,2,    0.806,2,   1.8521,2,     8.52,2,   -999.0,9,  -999.00,9,   6.514,2,   -999.0,9,   -999.0,9,   -999.0,9,-999.0000,9,-999,  -999.0,    0.15,  0.0093,   0.033,   0.012
     316N151_4,   A22,    60,  1,     15,     15,2,19970830,1100, 35.5572, -65.9972, 4839,15171.0,   1502.9,   4.4806,  35.0046,2,  35.0077,2,    247.9,2,  4.3547,    250.8,2,    12.02,2,    18.27,2,     0.00,2,     1.21,2,    1.433,2,    0.706,2,    0.057,2,    0.884,2,   1.8653,2,     8.22,2,   -999.0,9,  -999.00,9,   6.572,2,   -999.0,9,   -999.0,9,   -999.0,9,-999.0000,9,-999,  -999.0,    0.15,  0.0093,   0.033,   0.013
     316N151_4,   A22,    60,  1,     14,     14,2,19970830,1100, 35.5572, -65.9972, 4839,17664.7,   1752.1,   3.9946,  34.9666,2,  34.9673,2,    261.9,2,  3.8512,    262.4,2,    12.10,2,    17.82,2,     0.00,2,     1.18,2,    1.454,2,    0.717,2,    0.062,2,    0.832,2,   1.8679,2,     8.27,2,   -999.0,9,  -999.00,9,   6.412,2,   -999.0,9,   -999.0,9,   -999.0,9,-999.0000,9,-999,  -999.0,    0.15,  0.0093,   0.032,   0.012
     316N151_4,   A22,    60,  1,     13,     13,2,19970830,1100, 35.5572, -65.9972, 4839,20122.5,   1997.7,   3.7474,  34.9512,2,  34.9509,2,    265.1,2,  3.5839,    266.7,2,    12.57,2,    17.65,2,     0.00,2,     1.18,2,    1.317,4,    0.554,4,    0.060,2,    0.765,2,   1.8676,2,     8.50,2,   -999.0,9,  -999.00,9,   6.497,2,   -999.0,9,   -999.0,9,   -999.0,9,-999.0000,9,-999,  -999.0,    0.15,  0.0093,   0.032,   0.012
     316N151_4,   A22,    60,  1,     12,     12,2,19970830,1100, 35.5572, -65.9972, 4839,22662.9,   2251.6,   3.5709,  34.9525,2,  34.9522,2,    265.6,2,  3.3855,    266.6,2,    13.83,2,    17.65,2,     0.00,2,     1.18,2,    1.053,2,    0.535,2,    0.052,2, -999.000,9,-999.0000,5,  -999.00,9,   -999.0,9,  -999.00,9,-999.000,9,   -999.0,9,   -999.0,9,   -999.0,9,-999.0000,9,-999,  -999.0, -999.00,-999.0000,-999.000,-999.000
     316N151_4,   A22,    60,  1,     11,     11,2,19970830,1100, 35.5572, -65.9972, 4839,25025.3,   2487.8,   3.4543,  34.9605,2,  34.9612,2,    263.4,2,  3.2472,    264.2,2,    15.77,2,    17.87,2,     0.00,2,     1.20,2,    0.645,2,    0.327,2,    0.030,2,    0.427,2,   1.8730,2,     6.46,2,   -999.0,9,  -999.00,9,   6.315,2,   -999.0,9,   -999.0,9,   -999.0,9,-999.0000,9,-999,  -999.0,    0.15,  0.0094,   0.032,   0.011
     316N151_4,   A22,    60,  1,     10,     10,2,19970830,1100, 35.5572, -65.9972, 4839,27643.0,   2749.4,   3.2420,  34.9563,2,  34.9563,2,    262.0,2,  3.0123,    263.4,2,    18.11,2,    18.03,2,     0.00,2,     1.21,2,    0.424,2,    0.221,2,    0.016,2, -999.000,9,-999.0000,5,  -999.00,9,   -999.0,9,  -999.00,9,-999.000,9,   -999.0,9,   -999.0,9,   -999.0,9,-999.0000,9,-999,  -999.0, -999.00,-999.0000,-999.000,-999.000
     316N151_4,   A22,    60,  1,      9,      9,2,19970830,1100, 35.5572, -65.9972, 4839,30147.3,   2999.7,   2.9903,  34.9432,2,  34.9431,2,    264.6,2,  2.7397,    264.8,2,    19.46,2,    17.95,2,     0.00,2,     1.21,2,    0.433,6,    0.226,6, -999.000,9,    0.340,2,   1.8780,2,     6.72,2,   -999.0,9,  -999.00,9,   6.328,2,   -999.0,9,   -999.0,9,   -999.0,9,-999.0000,9,-999,  -999.0,    0.15,  0.0094,   0.032,   0.011
     316N151_4,   A22,    60,  1,      8,      8,2,19970830,1100, 35.5572, -65.9972, 4839,32635.9,   3248.6,   2.7615,  34.9305,2,  34.9300,2,    266.6,2,  2.4899,    266.6,2,    21.22,2,    17.91,2,     0.00,2,     1.21,2,    0.432,2,    0.218,2,    0.016,2, -999.000,9,-999.0000,5,  -999.00,9,   -999.0,9,  -999.00,9,-999.000,9,   -999.0,9,   -999.0,9,   -999.0,9,-999.0000,9,-999,  -999.0, -999.00,-999.0000,-999.000,-999.000
     316N151_4,   A22,    60,  1,      7,      7,2,19970830,1100, 35.5572, -65.9972, 4839,35158.3,   3500.7,   2.5445,  34.9177,2,  34.9174,2,    267.9,2,  2.2509,    268.2,2,    22.77,2,    17.83,2,     0.00,2,     1.21,2,    0.518,2,    0.257,2,    0.030,2,    0.365,2,   1.9009,2,     6.58,2,   -999.0,9,  -999.00,9,   6.376,2,   -999.0,9,   -999.0,9,   -999.0,9,-999.0000,9,-999,  -999.0,    0.15,  0.0095,   0.032,   0.011
     316N151_4,   A22,    60,  1,      6,      6,2,19970830,1100, 35.5572, -65.9972, 4839,37625.5,   3747.2,   2.4116,  34.9091,2,  34.9078,2,    267.6,2,  2.0943,    268.0,2,    25.30,2,    18.07,2,     0.00,2,     1.23,2,    0.481,2,    0.244,2,    0.028,2, -999.000,9,-999.0000,5,  -999.00,9,   -999.0,9,  -999.00,9,-999.000,9,   -999.0,9,   -999.0,9,   -999.0,9,-999.0000,9,-999,  -999.0, -999.00,-999.0000,-999.000,-999.000
     316N151_4,   A22,    60,  1,      5,      5,2,19970830,1100, 35.5572, -65.9972, 4839,40147.0,   3999.4,   2.3195,  34.9016,2,  34.8998,2,    266.6,2,  1.9764,    266.9,2,    27.94,2,    18.37,2,     0.00,2,     1.25,2,    0.485,2,    0.253,2,    0.025,2,    0.352,2,   1.9063,2,     6.52,2,   -999.0,9,  -999.00,9,   6.396,2,   -999.0,9,   -999.0,9,   -999.0,9,-999.0000,9,-999,  -999.0,    0.15,  0.0095,   0.032,   0.011
     316N151_4,   A22,    60,  1,      4,      4,2,19970830,1100, 35.5572, -65.9972, 4839,42663.8,   4251.0,   2.2819,  34.8965,2,  34.8962,2,    265.1,2,  1.9107,    266.5,2,    29.49,2,    18.53,2,     0.00,2,     1.27,2,    0.565,6,    0.284,6,    0.024,2, -999.000,9,-999.0000,5,  -999.00,9,   -999.0,9,  -999.00,9,-999.000,9,   -999.0,9,   -999.0,9,   -999.0,9,-999.0000,9,-999,  -999.0, -999.00,-999.0000,-999.000,-999.000
     316N151_4,   A22,    60,  1,      3,      3,2,19970830,1100, 35.5572, -65.9972, 4839,45156.5,   4500.2,   2.2651,  34.8915,2,  34.8899,2,    263.6,2,  1.8651,    264.7,2,    31.83,2,    18.90,2,     0.00,2,     1.29,2,    0.535,2,    0.268,2,    0.024,2, -999.000,9,-999.0000,5,  -999.00,9,   -999.0,9,  -999.00,9,-999.000,9,   -999.0,9,   -999.0,9,   -999.0,9,-999.0000,9,-999,  -999.0, -999.00,-999.0000,-999.000,-999.000
     316N151_4,   A22,    60,  1,      2,      2,2,19970830,1100, 35.5572, -65.9972, 4839,47654.7,   4750.0,   2.2598,  34.8875,2,  34.8877,2,    261.2,2,  1.8296,    261.8,2,    35.26,2,    19.48,2,     0.00,2,     1.33,2,    0.365,2,    0.193,2,    0.020,2, -999.000,9,-999.0000,5,  -999.00,9,   -999.0,9,  -999.00,9,-999.000,9,   -999.0,9,   -999.0,9,   -999.0,9,-999.0000,9,-999,  -999.0, -999.00,-999.0000,-999.000,-999.000
     316N151_4,   A22,    60,  1,      1,      1,2,19970830,1100, 35.5572, -65.9972, 4839,49779.4,   4962.7,   2.2467,  34.8832,2,  34.8812,2,    258.5,2,  1.7906,    259.2,2,    38.67,6,    20.04,6,     0.00,6,     1.37,6,    0.222,2,    0.130,2,    0.018,2,    0.196,2,   1.8977,2,     5.62,2,   -999.0,9,  -999.00,9,   6.303,2,   -999.0,9,   -999.0,9,   -999.0,9,-999.0000,9,-999,  -999.0,    0.15,  0.0095,   0.032,   0.010