BOTTLE,20220629CCHSIOAMB
EXPOCODE,SECT_ID,STNNBR,CASTNO,SAMPNO,BTLNBR,BTLNBR_FLAG_W,DATE,TIME,LATITUDE,LONGITUDE,DEPTH,CTDRAW,CTDPRS,CTDTMP,CTDSAL,CTDSAL_FLAG_W,SALNTY,SALNTY_FLAG_W,CTDOXY,CTDOXY_FLAG_W,THETA,OXYGEN,OXYGEN_FLAG_W,SILCAT,SILCAT_FLAG_W,NITRAT,NITRAT_FLAG_W,NITRIT,NITRIT_FLAG_W,PHSPHT,PHSPHT_FLAG_W,CFC-11,CFC-11_FLAG_W,CFC-12,CFC-12_FLAG_W,CFC113,CFC113_FLAG_W,TRITUM,TRITUM_FLAG_W,HELIUM,HELIUM_FLAG_W,DELHE3,DELHE3_FLAG_W,DELC14,DELC14_FLAG_W,DELC13,DELC13_FLAG_W,NEON,NEON_FLAG_W,TCARBN,TCARBN_FLAG_W,PCO2,PCO2_FLAG_W,ALKALI,ALKALI_FLAG_W,PH,PH_FLAG_W,PH_TMP,C14ERR,DELHER,HELIER,NEONER,TRITER
,,,,,,,,,,,,,DBAR,ITS-90,PSS-78,,PSS-78,,UMOL/KG,,ITS-90,UMOL/KG,,UMOL/KG,,UMOL/KG,,UMOL/KG,,UMOL/KG,,PMOL/KG,,PMOL/KG,,PMOL/KG,,TU,,NMOL/KG,,PERCNT,,/MILLE,,/MILLE,,NMOL/KG,,UMOL/KG,,UATM,,UMOL/KG,,,,DEG C,/MILLE,PERCNT,NMOL/KG,NMOL/KG,TU
     316N151_4,   A22,    50,  1,     32,     32,2,19970827,0417, 28.8845, -66.0017, 5182,  217.3,      7.1,  28.6532,  36.3134,2,  36.3187,2,    202.7,2, 28.6515,    205.6,2,     0.68,2,     0.04,2,     0.00,2,     0.01,2,    1.631,2,    0.972,2,    0.129,2, -999.000,9,-999.0000,5,  -999.00,9,     58.8,2,     1.25,2,-999.000,9,   -999.0,9,    267.0,2,   2369.7,2,   8.1140,2,25,     2.6, -999.00,-999.0000,-999.000,-999.000
     316N151_4,   A22,    50,  1,     31,     31,2,19970827,0417, 28.8845, -66.0017, 5182,  666.8,     52.3,  22.9638,  36.8273,2,  36.8279,2,    236.5,2, 22.9530,    229.8,2,     0.50,2,     0.00,2,     0.00,2,     0.01,2, -999.000,9, -999.000,9, -999.000,9, -999.000,9,-999.0000,5,  -999.00,9,     77.8,2,     1.35,2,-999.000,9,   -999.0,9,   -999.0,9,   -999.0,9,-999.0000,9,-999,     3.8, -999.00,-999.0000,-999.000,-999.000
     316N151_4,   A22,    50,  1,     30,     30,2,19970827,0417, 28.8845, -66.0017, 5182, 1173.5,    102.7,  20.5088,  36.7787,2,  36.8000,2,    211.2,2, 20.4893,    210.8,2,     0.51,2,     0.00,2,     0.00,2,     0.01,2,    2.243,2,    1.274,2,    0.137,2, -999.000,9,-999.0000,5,  -999.00,9,    104.3,2,     1.11,2,-999.000,9,   -999.0,9,   -999.0,9,   -999.0,9,-999.0000,9,-999,     3.8, -999.00,-999.0000,-999.000,-999.000
     316N151_4,   A22,    50,  1,     29,     29,2,19970827,0417, 28.8845, -66.0017, 5182, 1668.0,    151.9,  19.4882,  36.6967,2,  36.7063,2,    201.4,2, 19.4604,    199.9,2,     0.70,2,     0.96,2,     0.04,2,     0.03,2, -999.000,9, -999.000,9, -999.000,9, -999.000,9,-999.0000,5,  -999.00,9,     96.7,2,     1.00,2,-999.000,9,   -999.0,9,   -999.0,9,   -999.0,9,-999.0000,9,-999,     2.5, -999.00,-999.0000,-999.000,-999.000
     316N151_4,   A22,    50,  1,     28,     28,2,19970827,0417, 28.8845, -66.0017, 5182, 2169.2,    201.6,  18.8480,  36.6282,2,  36.6310,2,    199.0,2, 18.8119,    197.4,2,     0.91,2,     2.53,2,     0.02,2,     0.10,2,    2.325,2,    1.304,2,    0.055,2, -999.000,9,-999.0000,5,  -999.00,9,     93.3,2,     0.93,2,-999.000,9,   -999.0,9,   -999.0,9,   -999.0,9,-999.0000,9,-999,     4.2, -999.00,-999.0000,-999.000,-999.000
     316N151_4,   A22,    50,  1,     27,     27,2,19970827,0417, 28.8845, -66.0017, 5182, 2663.4,    250.6,  18.4012,  36.5724,2,  36.5757,2,    202.6,2, 18.3570,    199.3,2,     1.10,2,     3.33,2,     0.01,2,     0.16,2, -999.000,9, -999.000,9, -999.000,9, -999.000,9,-999.0000,5,  -999.00,9,     82.8,6,     0.96,2,-999.000,9,   -999.0,9,   -999.0,9,   -999.0,9,-999.0000,9,-999,     2.5, -999.00,-999.0000,-999.000,-999.000
     316N151_4,   A22,    50,  1,     26,     26,2,19970827,0417, 28.8845, -66.0017, 5182, 3151.6,    299.3,  18.1879,  36.5468,2,  36.5485,2,    206.3,2, 18.1355,    203.4,2,     1.11,2,     3.50,2,     0.01,2,     0.17,2,    2.354,2,    1.315,2,    0.039,2, -999.000,9,-999.0000,5,  -999.00,9,     96.6,2,     0.98,2,-999.000,9,   -999.0,9,   -999.0,9,   -999.0,9,-999.0000,9,-999,     4.1, -999.00,-999.0000,-999.000,-999.000
     316N151_4,   A22,    50,  1,     25,     25,2,19970827,0417, 28.8845, -66.0017, 5182, 4127.5,    396.7,  17.8215,  36.4956,2,  36.4974,2,    205.6,2, 17.7528,    202.5,2,     1.40,2,     4.25,2,     0.01,2,     0.22,2,    2.314,2,    1.293,2,    0.050,2, -999.000,9,-999.0000,5,  -999.00,9,    100.6,2,     0.96,2,-999.000,9,   -999.0,9,   -999.0,9,   -999.0,9,-999.0000,9,-999,     3.9, -999.00,-999.0000,-999.000,-999.000
     316N151_4,   A22,    50,  1,     24,     24,2,19970827,0417, 28.8845, -66.0017, 5182, 5118.8,    496.1,  16.6576,  36.2831,2,  36.2878,2,    190.1,2, 16.5755,    186.1,2,     2.47,2,     7.72,2,     0.01,2,     0.43,2, -999.000,9, -999.000,9, -999.000,9, -999.000,9,-999.0000,5,  -999.00,9,     82.7,2,     0.95,2,-999.000,9,   -999.0,9,   -999.0,9,   -999.0,9,-999.0000,9,-999,     4.3, -999.00,-999.0000,-999.000,-999.000
     316N151_4,   A22,    50,  1,     23,     23,2,19970827,0417, 28.8845, -66.0017, 5182, 6122.2,    596.8,  14.8099,  35.9776,2,  35.9758,2,    174.8,2, 14.7185,    170.2,2,     4.49,2,    12.22,2,     0.00,2,     0.72,2,    1.761,2,    0.937,2,    0.020,2, -999.000,9,-999.0000,5,  -999.00,9,     62.3,2,     0.85,2,-999.000,9,   -999.0,9,   -999.0,9,   -999.0,9,-999.0000,9,-999,     3.1, -999.00,-999.0000,-999.000,-999.000
     316N151_4,   A22,    50,  1,     22,     22,2,19970827,0417, 28.8845, -66.0017, 5182, 7054.2,    690.5,  12.8912,  35.6880,2,  35.6907,2,    163.2,2, 12.7943,    159.7,2,     6.99,2,    16.48,2,     0.00,2,     0.99,2,    1.337,2,    0.716,2,    0.027,2, -999.000,9,-999.0000,5,  -999.00,9,     21.4,2,     0.81,2,-999.000,9,   -999.0,9,   -999.0,9,   -999.0,9,-999.0000,9,-999,     3.0, -999.00,-999.0000,-999.000,-999.000
     316N151_4,   A22,    50,  1,     21,     21,2,19970827,0417, 28.8845, -66.0017, 5182, 8142.5,    799.6,  10.4492,  35.3774,2,  35.3775,2,    153.8,2, 10.3505,    154.8,2,    10.83,2,    20.96,2,     0.00,2,     1.30,2,    0.885,2,    0.462,2,    0.013,2, -999.000,9,-999.0000,5,  -999.00,9,    -18.5,2,     0.69,2,-999.000,9,   -999.0,9,   -999.0,9,   -999.0,9,-999.0000,9,-999,     3.1, -999.00,-999.0000,-999.000,-999.000
     316N151_4,   A22,    50,  1,     20,     20,2,19970827,0417, 28.8845, -66.0017, 5182, 9149.9,    900.6,   8.4344,  35.1776,2,  35.1742,2,    156.8,2,  8.3360,    154.9,2,    14.49,2,    24.01,2,     0.00,2,     1.52,2,    0.497,2,    0.266,2,    0.009,2, -999.000,9,-999.0000,5,  -999.00,9,    -55.4,2,     0.78,2,-999.000,9,   -999.0,9,   -999.0,9,   -999.0,9,-999.0000,9,-999,     3.0, -999.00,-999.0000,-999.000,-999.000
     316N151_4,   A22,    50,  1,     19,     19,2,19970827,0417, 28.8845, -66.0017, 5182,10154.5,   1001.1,   7.0908,  35.1122,2,  35.1121,2,    172.6,2,  6.9908,    173.9,2,    15.44,2,    23.51,2,     0.00,2,     1.51,2,    0.398,2,    0.208,2,    0.008,2, -999.000,9,-999.0000,5,  -999.00,9,   -999.0,9,  -999.00,9,-999.000,9,   -999.0,9,   -999.0,9,   -999.0,9,-999.0000,9,-999,  -999.0, -999.00,-999.0000,-999.000,-999.000
     316N151_4,   A22,    50,  1,     18,     18,2,19970827,0417, 28.8845, -66.0017, 5182,11137.7,   1099.5,   6.3707,  35.1116,2,  35.1128,2,    192.9,2,  6.2659,    194.8,2,    14.68,2,    21.93,2,     0.00,2,     1.41,2,    0.461,2,    0.241,2,    0.011,2, -999.000,9,-999.0000,5,  -999.00,9,    -53.6,2,     0.87,2,-999.000,9,   -999.0,9,   -999.0,9,   -999.0,9,-999.0000,9,-999,     3.3, -999.00,-999.0000,-999.000,-999.000
     316N151_4,   A22,    50,  1,     17,     17,2,19970827,0417, 28.8845, -66.0017, 5182,13153.1,   1301.1,   5.3790,  35.0997,2,  35.1012,2,    226.2,2,  5.2628,    225.8,2,    13.44,2,    19.72,2,     0.00,2,     1.28,2,    0.550,2,    0.288,2,    0.014,2, -999.000,9,-999.0000,5,  -999.00,9,    -58.6,2,     0.90,2,-999.000,9,   -999.0,9,   -999.0,9,   -999.0,9,-999.0000,9,-999,     2.9, -999.00,-999.0000,-999.000,-999.000
     316N151_4,   A22,    50,  1,     16,     16,2,19970827,0417, 28.8845, -66.0017, 5182,15144.2,   1500.1,   4.7064,  35.0588,2,  35.0621,2,    244.5,2,  4.5781,    243.8,2,    13.36,2,    18.76,2,     0.00,2,     1.23,2,    0.625,2,    0.327,2,    0.020,2, -999.000,9,-999.0000,5,  -999.00,9,    -56.3,2,     0.91,2,-999.000,9,   -999.0,9,   -999.0,9,   -999.0,9,-999.0000,9,-999,     3.5, -999.00,-999.0000,-999.000,-999.000
     316N151_4,   A22,    50,  1,     15,     15,2,19970827,0417, 28.8845, -66.0017, 5182,17666.1,   1752.2,   4.1494,  35.0199,2,  35.0210,2,    253.7,2,  4.0036,    254.1,2,    14.23,2,    18.39,2,     0.00,2,     1.21,2,    0.516,2,    0.273,2,    0.018,2, -999.000,9,-999.0000,5,  -999.00,9,    -59.2,2,     0.42,3,-999.000,9,   -999.0,9,   -999.0,9,   -999.0,9,-999.0000,9,-999,     3.2, -999.00,-999.0000,-999.000,-999.000
     316N151_4,   A22,    50,  1,     14,     14,2,19970827,0417, 28.8845, -66.0017, 5182,20141.9,   1999.5,   3.8120,  35.0043,2,  35.0062,2,    255.0,2,  3.6472,    254.5,2,    16.34,2,    18.52,2,     0.00,2,     1.22,2,    0.230,2,    0.133,2,    0.007,2, -999.000,9,-999.0000,5,  -999.00,9,    -77.9,2,     0.97,2,-999.000,9,   -999.0,9,   -999.0,9,   -999.0,9,-999.0000,9,-999,     3.3, -999.00,-999.0000,-999.000,-999.000
     316N151_4,   A22,    50,  1,     13,     13,2,19970827,0417, 28.8845, -66.0017, 5182,22663.7,   2251.7,   3.4795,  34.9820,2,  34.9843,2,    257.7,2,  3.2954,    256.8,2,    18.55,2,    18.57,2,     0.00,2,     1.23,2,    0.140,2,    0.078,2,    0.003,2, -999.000,9,-999.0000,5,  -999.00,9,    -86.3,2,     1.05,2,-999.000,9,   -999.0,9,   -999.0,9,   -999.0,9,-999.0000,9,-999,     3.3, -999.00,-999.0000,-999.000,-999.000
     316N151_4,   A22,    50,  1,     12,     12,2,19970827,0417, 28.8845, -66.0017, 5182,25141.7,   2499.4,   3.1748,  34.9610,2,  34.9629,2,    258.7,2,  2.9717,    259.5,2,    20.47,2,    18.53,2,     0.00,2,     1.23,2,    0.145,2,    0.082,2,    0.003,2, -999.000,9,-999.0000,5,  -999.00,9,    -86.5,2,     1.01,2,-999.000,9,   -999.0,9,   -999.0,9,   -999.0,9,-999.0000,9,-999,     4.3, -999.00,-999.0000,-999.000,-999.000
     316N151_4,   A22,    50,  1,     11,     11,2,19970827,0417, 28.8845, -66.0017, 5182,27656.8,   2750.8,   2.9258,  34.9430,2,  34.9455,2,    262.8,2,  2.7023,    263.0,2,    21.16,2,    18.33,2,     0.00,2,     1.22,2,    0.189,2,    0.109,2,    0.003,2, -999.000,9,-999.0000,5,  -999.00,9,    -73.8,2,     0.99,2,-999.000,9,   -999.0,9,   -999.0,9,   -999.0,9,-999.0000,9,-999,     4.4, -999.00,-999.0000,-999.000,-999.000
     316N151_4,   A22,    50,  1,     10,     10,2,19970827,0417, 28.8845, -66.0017, 5182,30156.9,   3000.7,   2.6996,  34.9298,2,  34.9313,2,    265.7,2,  2.4553,    265.7,2,    22.31,2,    18.16,2,     0.00,2,     1.21,2,    0.226,2,    0.127,2,    0.003,2, -999.000,9,-999.0000,5,  -999.00,9,    -85.5,2,     1.05,2,-999.000,9,   -999.0,9,   -999.0,9,   -999.0,9,-999.0000,9,-999,     3.4, -999.00,-999.0000,-999.000,-999.000
     316N151_4,   A22,    50,  1,      9,      9,2,19970827,0417, 28.8845, -66.0017, 5182,32654.6,   3250.3,   2.5194,  34.9183,2,  34.9198,2,    267.4,2,  2.2533,    267.1,2,    23.56,2,    18.08,2,     0.00,2,     1.21,2,    0.282,2,    0.148,2,    0.010,2, -999.000,9,-999.0000,5,  -999.00,9,    -70.8,2,     1.02,2,-999.000,9,   -999.0,9,   -999.0,9,   -999.0,9,-999.0000,9,-999,     3.5, -999.00,-999.0000,-999.000,-999.000
     316N151_4,   A22,    50,  1,      8,      8,2,19970827,0417, 28.8845, -66.0017, 5182,35159.2,   3500.7,   2.4030,  34.9097,2,  34.9113,2,    266.8,2,  2.1130,    267.8,2,    25.20,2,    18.13,2,     0.00,2,     1.22,2,    0.342,2,    0.187,2,    0.017,2, -999.000,9,-999.0000,5,  -999.00,9,    -83.3,2,     0.88,2,-999.000,9,   -999.0,9,   -999.0,9,   -999.0,9,-999.0000,9,-999,     3.4, -999.00,-999.0000,-999.000,-999.000
     316N151_4,   A22,    50,  1,      7,      7,2,19970827,0417, 28.8845, -66.0017, 5182,37662.5,   3751.0,   2.3248,  34.9031,2,  34.9037,2,    267.2,2,  2.0095,    267.1,2,    27.21,2,    18.39,2,     0.00,2,     1.24,2,    0.333,2,    0.177,2,    0.013,2, -999.000,9,-999.0000,5,  -999.00,9,    -73.6,2,     0.97,2,-999.000,9,   -999.0,9,   -999.0,9,   -999.0,9,-999.0000,9,-999,     4.2, -999.00,-999.0000,-999.000,-999.000
     316N151_4,   A22,    50,  1,      6,      6,2,19970827,0417, 28.8845, -66.0017, 5182,40193.6,   4004.0,   2.2968,  34.8998,2,  34.9010,2,    266.3,2,  1.9538,    266.2,2,    28.95,2,    18.59,2,     0.00,2,     1.25,2,    0.305,2,    0.166,2,    0.013,2, -999.000,9,-999.0000,5,  -999.00,9,    -74.9,2,     1.00,2,-999.000,9,   -999.0,9,   -999.0,9,   -999.0,9,-999.0000,9,-999,     4.3, -999.00,-999.0000,-999.000,-999.000
     316N151_4,   A22,    50,  1,      5,      5,2,19970827,0417, 28.8845, -66.0017, 5182,42660.3,   4250.4,   2.2862,  34.8967,2,  34.8976,2,    265.1,2,  1.9149,    265.0,2,    30.48,2,    18.81,2,     0.00,2,     1.27,2,    0.282,2,    0.154,2,    0.016,2, -999.000,9,-999.0000,5,  -999.00,9,    -85.2,2,     0.99,2,-999.000,9,   -999.0,9,   -999.0,9,   -999.0,9,-999.0000,9,-999,     3.4, -999.00,-999.0000,-999.000,-999.000
     316N151_4,   A22,    50,  1,      4,      4,2,19970827,0417, 28.8845, -66.0017, 5182,45170.5,   4501.4,   2.2655,  34.8909,2,  34.8938,2,    263.5,2,  1.8653,    263.5,2,    32.98,2,    19.23,2,     0.00,2,     1.30,2,    0.261,2,    0.148,2,    0.017,2, -999.000,9,-999.0000,5,  -999.00,9,   -101.0,2,     0.87,2,-999.000,9,   -999.0,9,   -999.0,9,   -999.0,9,-999.0000,9,-999,     3.5, -999.00,-999.0000,-999.000,-999.000
     316N151_4,   A22,    50,  1,      3,      3,2,19970827,0417, 28.8845, -66.0017, 5182,47656.2,   4749.8,   2.2386,  34.8840,2,  34.8855,2,    260.7,2,  1.8091,    260.3,2,    37.11,2,    19.85,2,     0.00,2,     1.34,2,    0.199,2,    0.118,2,    0.018,2, -999.000,9,-999.0000,5,  -999.00,9,    -99.5,2,     1.06,2,-999.000,9,   -999.0,9,   -999.0,9,   -999.0,9,-999.0000,9,-999,     3.7, -999.00,-999.0000,-999.000,-999.000
     316N151_4,   A22,    50,  1,      2,      2,2,19970827,0417, 28.8845, -66.0017, 5182,50156.9,   4999.8,   2.2066,  34.8761,2,  34.8780,2,    257.2,2,  1.7472,    257.1,2,    41.71,2,    20.65,2,     0.00,2,     1.40,2,    0.133,2,    0.082,2,    0.015,2, -999.000,9,-999.0000,5,  -999.00,9,   -105.4,2,     1.02,2,-999.000,9,   -999.0,9,   -999.0,9,   -999.0,9,-999.0000,9,-999,     3.7, -999.00,-999.0000,-999.000,-999.000
     316N151_4,   A22,    50,  1,      1,      1,2,19970827,0417, 28.8845, -66.0017, 5182,53512.4,   5335.3,   2.2105,  34.8709,2,  34.8709,2,    253.6,2,  1.7082,    255.4,2,    44.42,6,    21.11,6,     0.00,6,     1.42,6,    0.099,2,    0.068,2,    0.015,2, -999.000,9,-999.0000,5,  -999.00,9,    -95.6,2,     1.03,2,-999.000,9,   -999.0,9,   -999.0,9,   -999.0,9,-999.0000,9,-999,     3.4, -999.00,-999.0000,-999.000,-999.000