BOTTLE,20220629CCHSIOAMB
EXPOCODE,SECT_ID,STNNBR,CASTNO,SAMPNO,BTLNBR,BTLNBR_FLAG_W,DATE,TIME,LATITUDE,LONGITUDE,DEPTH,CTDRAW,CTDPRS,CTDTMP,CTDSAL,CTDSAL_FLAG_W,SALNTY,SALNTY_FLAG_W,CTDOXY,CTDOXY_FLAG_W,THETA,OXYGEN,OXYGEN_FLAG_W,SILCAT,SILCAT_FLAG_W,NITRAT,NITRAT_FLAG_W,NITRIT,NITRIT_FLAG_W,PHSPHT,PHSPHT_FLAG_W,CFC-11,CFC-11_FLAG_W,CFC-12,CFC-12_FLAG_W,CFC113,CFC113_FLAG_W,TRITUM,TRITUM_FLAG_W,HELIUM,HELIUM_FLAG_W,DELHE3,DELHE3_FLAG_W,DELC14,DELC14_FLAG_W,DELC13,DELC13_FLAG_W,NEON,NEON_FLAG_W,TCARBN,TCARBN_FLAG_W,PCO2,PCO2_FLAG_W,ALKALI,ALKALI_FLAG_W,PH,PH_FLAG_W,PH_TMP,C14ERR,DELHER,HELIER,NEONER,TRITER
,,,,,,,,,,,,,DBAR,ITS-90,PSS-78,,PSS-78,,UMOL/KG,,ITS-90,UMOL/KG,,UMOL/KG,,UMOL/KG,,UMOL/KG,,UMOL/KG,,PMOL/KG,,PMOL/KG,,PMOL/KG,,TU,,NMOL/KG,,PERCNT,,/MILLE,,/MILLE,,NMOL/KG,,UMOL/KG,,UATM,,UMOL/KG,,,,DEG C,/MILLE,PERCNT,NMOL/KG,NMOL/KG,TU
     316N151_4,   A22,    51,  1,     32,     32,2,19970827,1102, 29.5575, -65.9845, 4985,  190.7,      3.8,  28.3595,  36.7310,2,  36.7314,2,    198.8,2, 28.3586,    207.8,2,     0.58,2,     0.01,2,     0.00,2,     0.01,2,    1.645,2,    0.991,2,    0.126,2, -999.000,9,-999.0000,5,  -999.00,9,   -999.0,9,  -999.00,9,-999.000,9,   2037.2,2,    283.0,2,   2397.5,2,   8.0990,2,25,  -999.0, -999.00,-999.0000,-999.000,-999.000
     316N151_4,   A22,    51,  1,     31,     31,2,19970827,1102, 29.5575, -65.9845, 4985,  647.5,     49.9,  23.3237,  36.9299,2,  36.9360,2,    243.2,2, 23.3134,    233.9,2,     0.58,2,     0.01,2,     0.00,2,     0.01,2,    2.202,2,    1.264,2,    0.170,2, -999.000,9,-999.0000,5,  -999.00,9,   -999.0,9,  -999.00,9,-999.000,9,   2057.7,2,    295.0,2,   2411.5,6,   8.0870,6,25,  -999.0, -999.00,-999.0000,-999.000,-999.000
     316N151_4,   A22,    51,  1,     30,     30,2,19970827,1102, 29.5575, -65.9845, 4985, 1134.9,     98.5,  20.7679,  36.8689,2,  36.8558,2,    221.8,2, 20.7491,    219.7,2,     0.49,2,     0.00,2,     0.01,2,     0.01,2,    2.279,2,    1.294,2,    0.153,2, -999.000,9,-999.0000,5,  -999.00,9,   -999.0,9,  -999.00,9,-999.000,9,   2074.4,2,    324.0,2,   2407.7,2,   8.0530,2,25,  -999.0, -999.00,-999.0000,-999.000,-999.000
     316N151_4,   A22,    51,  1,     29,     29,2,19970827,1102, 29.5575, -65.9845, 4985, 1651.5,    149.8,  19.3699,  36.7012,2,  36.6949,2,    202.6,2, 19.3427,    202.5,2,     0.68,2,     0.78,2,     0.06,2,     0.02,2,    2.342,2,    1.320,2,    0.112,2, -999.000,9,-999.0000,5,  -999.00,9,   -999.0,9,  -999.00,9,-999.000,9,   2089.8,2,    358.0,2,   2396.7,2,   8.0150,2,25,  -999.0, -999.00,-999.0000,-999.000,-999.000
     316N151_4,   A22,    51,  1,     28,     28,2,19970827,1102, 29.5575, -65.9845, 4985, 2176.9,    202.0,  18.6058,  36.6005,2,  36.6040,2,    199.1,2, 18.5700,    199.4,2,     0.98,2,     2.76,2,     0.01,2,     0.12,2,    2.353,6,    1.317,6,    0.052,2, -999.000,9,-999.0000,5,  -999.00,9,   -999.0,9,  -999.00,9,-999.000,9,   2093.2,2,    375.0,2,   2391.0,2,   8.0040,2,25,  -999.0, -999.00,-999.0000,-999.000,-999.000
     316N151_4,   A22,    51,  1,     27,     27,2,19970827,1102, 29.5575, -65.9845, 4985, 2661.1,    250.2,  18.2424,  36.5479,2,  36.5505,2,    203.6,2, 18.1985,    200.7,2,     1.17,2,     3.55,2,     0.01,2,     0.17,2,    2.396,2,    1.322,2,    0.034,2, -999.000,9,-999.0000,5,  -999.00,9,   -999.0,9,  -999.00,9,-999.000,9,   2094.2,2,    380.0,2,   2387.9,2,   7.9980,2,25,  -999.0, -999.00,-999.0000,-999.000,-999.000
     316N151_4,   A22,    51,  1,     26,     26,2,19970827,1102, 29.5575, -65.9845, 4985, 3157.3,    299.6,  18.0370,  36.5266,2,  36.5285,2,    207.0,2, 17.9848,    204.8,2,     1.28,2,     3.68,2,     0.01,2,     0.19,2,    2.387,2,    1.319,2,    0.045,2, -999.000,9,-999.0000,5,  -999.00,9,   -999.0,9,  -999.00,9,-999.000,9,   2092.1,2,    382.0,2,   2387.3,2,   7.9970,2,25,  -999.0, -999.00,-999.0000,-999.000,-999.000
     316N151_4,   A22,    51,  1,     25,     25,2,19970827,1102, 29.5575, -65.9845, 4985, 4148.8,    398.9,  17.3923,  36.4159,2,  36.4190,2,    199.5,2, 17.3244,    195.9,2,     1.85,2,     5.58,2,     0.00,2,     0.30,2,    2.284,2,    1.242,2,    0.049,2, -999.000,9,-999.0000,5,  -999.00,9,   -999.0,9,  -999.00,9,-999.000,9,   2103.4,2,   -999.0,9,   2380.2,2,   7.9730,2,25,  -999.0, -999.00,-999.0000,-999.000,-999.000
     316N151_4,   A22,    51,  1,     24,     24,2,19970827,1102, 29.5575, -65.9845, 4985, 5143.6,    498.6,  15.8991,  36.1585,2,  36.1577,2,    191.5,2, 15.8191,    185.9,2,     3.11,2,     8.93,2,     0.00,2,     0.52,2,    2.146,2,    1.146,2,    0.031,2, -999.000,9,-999.0000,5,  -999.00,9,   -999.0,9,  -999.00,9,-999.000,9,   2120.7,2,    471.0,2,   2367.7,2,   7.9210,2,25,  -999.0, -999.00,-999.0000,-999.000,-999.000
     316N151_4,   A22,    51,  1,     23,     23,2,19970827,1102, 29.5575, -65.9845, 4985, 6174.4,    602.1,  14.1470,  35.8762,2,  35.8757,2,    177.5,2, 14.0575,    174.3,2,     5.04,2,    12.85,2,     0.00,2,     0.77,2,    1.811,2,    0.955,2,    0.031,2, -999.000,9,-999.0000,5,  -999.00,9,   -999.0,9,  -999.00,9,-999.000,9,   2137.9,2,   -999.0,9,   2351.8,2,   7.8630,2,25,  -999.0, -999.00,-999.0000,-999.000,-999.000
     316N151_4,   A22,    51,  1,     22,     22,2,19970827,1102, 29.5575, -65.9845, 4985, 7148.2,    699.9,  12.2011,  35.5979,2,  35.5976,2,    166.2,2, 12.1063,    166.3,2,     7.64,2,    16.86,2,     0.00,2,     1.03,2,    1.449,2,    0.757,2,    0.021,2, -999.000,9,-999.0000,5,  -999.00,9,   -999.0,9,  -999.00,9,-999.000,9,   2154.9,2,    638.0,2,   2339.9,2,   7.8000,2,25,  -999.0, -999.00,-999.0000,-999.000,-999.000
     316N151_4,   A22,    51,  1,     21,     21,2,19970827,1102, 29.5575, -65.9845, 4985, 8142.2,    799.7,   9.7920,  35.2913,2,  35.2942,2,    154.1,2,  9.6974,    153.0,2,    12.26,2,    22.07,2,     0.00,2,     1.39,2,    0.849,2,    0.444,2,    0.017,2, -999.000,9,-999.0000,5,  -999.00,9,   -999.0,9,  -999.00,9,-999.000,9,   2177.8,2,    760.0,2,   2327.0,2,   7.7270,2,25,  -999.0, -999.00,-999.0000,-999.000,-999.000
     316N151_4,   A22,    51,  1,     20,     20,2,19970827,1102, 29.5575, -65.9845, 4985, 9158.0,    901.5,   8.0250,  35.1582,2,  35.1597,2,    160.6,2,  7.9292,    162.3,2,    14.58,2,    23.53,2,     0.00,2,     1.51,2,    0.516,2,    0.266,2,    0.010,2, -999.000,9,-999.0000,5,  -999.00,9,   -999.0,9,  -999.00,9,-999.000,9,   2186.0,2,    808.0,2,   2324.6,2,   7.6980,2,25,  -999.0, -999.00,-999.0000,-999.000,-999.000
     316N151_4,   A22,    51,  1,     19,     19,2,19970827,1102, 29.5575, -65.9845, 4985,10149.1,   1000.6,   6.8842,  35.1199,2,  35.1210,2,    178.5,2,  6.7858,    181.8,2,    15.06,2,    22.70,2,     0.00,2,     1.48,2,    0.470,6,    0.240,6,    0.006,2, -999.000,9,-999.0000,5,  -999.00,9,   -999.0,9,  -999.00,9,-999.000,9,   2183.0,2,    803.0,2,   2321.8,2,   7.7070,2,25,  -999.0, -999.00,-999.0000,-999.000,-999.000
     316N151_4,   A22,    51,  1,     18,     18,2,19970827,1102, 29.5575, -65.9845, 4985,11140.9,   1099.9,   6.0905,  35.1134,2,  35.1159,2,    201.0,2,  5.9881,    204.6,2,    14.20,2,    21.05,2,     0.00,2,     1.37,2,    0.552,2,    0.282,2,    0.012,2, -999.000,9,-999.0000,5,  -999.00,9,   -999.0,9,  -999.00,9,-999.000,9,   2177.2,2,    771.0,2,   2323.9,2,   7.7170,2,25,  -999.0, -999.00,-999.0000,-999.000,-999.000
     316N151_4,   A22,    51,  1,     17,     17,2,19970827,1102, 29.5575, -65.9845, 4985,13151.2,   1300.8,   5.0759,  35.0819,2,  35.0835,2,    231.8,2,  4.9628,    234.8,2,    13.15,2,    19.07,2,     0.00,2,     1.25,2,    0.718,2,    0.369,2,    0.024,2, -999.000,9,-999.0000,5,  -999.00,9,   -999.0,9,  -999.00,9,-999.000,9,   2167.3,2,   -999.0,9,   2319.6,2,   7.7370,2,25,  -999.0, -999.00,-999.0000,-999.000,-999.000
     316N151_4,   A22,    51,  1,     16,     16,2,19970827,1102, 29.5575, -65.9845, 4985,15142.0,   1499.9,   4.5289,  35.0441,2,  35.0475,2,    250.1,2,  4.4025,    247.8,2,    13.25,2,    18.53,2,     0.00,2,     1.22,2,    0.696,2,    0.359,2,    0.019,2, -999.000,9,-999.0000,5,  -999.00,9,   -999.0,9,  -999.00,9,-999.000,9,   2163.1,2,   -999.0,9,   2318.5,2,   7.7390,2,25,  -999.0, -999.00,-999.0000,-999.000,-999.000
     316N151_4,   A22,    51,  1,     15,     15,2,19970827,1102, 29.5575, -65.9845, 4985,17649.2,   1750.5,   3.9715,  34.9961,2,  34.9998,2,    259.1,2,  3.8284,    258.2,2,    13.83,2,    18.08,2,     0.00,2,     1.19,2,    0.664,2,    0.344,2,    0.023,2, -999.000,9,-999.0000,5,  -999.00,9,   -999.0,9,  -999.00,9,-999.000,9,   2159.1,2,   -999.0,9,   2315.1,2,   7.7470,2,25,  -999.0, -999.00,-999.0000,-999.000,-999.000
     316N151_4,   A22,    51,  1,     14,     14,2,19970827,1102, 29.5575, -65.9845, 4985,20160.5,   2001.5,   3.7311,  34.9960,2,  34.9975,2,    257.3,2,  3.5673,    257.2,2,    16.43,2,    18.37,2,     0.00,2,     1.22,2,    0.292,2,    0.160,2,    0.007,2, -999.000,9,-999.0000,5,  -999.00,9,   -999.0,9,  -999.00,9,-999.000,9,   2161.4,2,   -999.0,9,   2320.0,2,   7.7500,2,25,  -999.0, -999.00,-999.0000,-999.000,-999.000
     316N151_4,   A22,    51,  1,     13,     13,2,19970827,1102, 29.5575, -65.9845, 4985,22641.7,   2249.5,   3.4021,  34.9747,2,  34.9763,2,    258.5,2,  3.2195,    259.4,2,    18.55,2,    18.41,2,     0.00,2,     1.22,2,    0.200,2,    0.112,2,    0.001,2, -999.000,9,-999.0000,5,  -999.00,9,   -999.0,9,  -999.00,9,-999.000,9,   2161.7,2,   -999.0,9,   2320.1,2,   7.7390,2,25,  -999.0, -999.00,-999.0000,-999.000,-999.000
     316N151_4,   A22,    51,  1,     12,     12,2,19970827,1102, 29.5575, -65.9845, 4985,25639.6,   2549.2,   3.0963,  34.9546,2,  34.9576,2,    261.2,2,  2.8896,    261.0,2,    20.57,2,    18.45,2,     0.00,2,     1.23,2,    0.155,2,    0.090,2,    0.004,2, -999.000,9,-999.0000,5,  -999.00,9,   -999.0,9,  -999.00,9,-999.000,9,   2162.4,2,   -999.0,9,   2322.6,2,   7.7560,2,25,  -999.0, -999.00,-999.0000,-999.000,-999.000
     316N151_4,   A22,    51,  1,     11,     11,2,19970827,1102, 29.5575, -65.9845, 4985,27651.7,   2750.3,   2.9020,  34.9416,2,  34.9450,2,    264.2,2,  2.6790,    263.2,2,    21.44,2,    18.30,2,     0.00,2,     1.22,2,    0.194,6,    0.110,6,    0.005,2, -999.000,9,-999.0000,5,  -999.00,9,   -999.0,9,  -999.00,9,-999.000,9,   2162.2,2,   -999.0,9,   2321.5,2,   7.7560,2,25,  -999.0, -999.00,-999.0000,-999.000,-999.000
     316N151_4,   A22,    51,  1,     10,     10,2,19970827,1102, 29.5575, -65.9845, 4985,30141.9,   2999.2,   2.6707,  34.9280,2,  34.9281,2,    267.0,2,  2.4271,    266.1,2,    22.41,2,    18.04,2,     0.00,2,     1.21,2,    0.245,2,    0.132,2,    0.006,2, -999.000,9,-999.0000,5,  -999.00,9,   -999.0,9,  -999.00,9,-999.000,9,   2162.3,2,   -999.0,9,   2322.4,2,   7.7540,2,25,  -999.0, -999.00,-999.0000,-999.000,-999.000
     316N151_4,   A22,    51,  1,      9,      9,2,19970827,1102, 29.5575, -65.9845, 4985,32645.7,   3249.5,   2.5024,  34.9171,2,  34.9189,2,    267.6,2,  2.2367,    267.3,2,    23.67,2,    18.01,2,     0.00,2,     1.21,2,    0.294,2,    0.159,2,    0.008,2, -999.000,9,-999.0000,5,  -999.00,9,   -999.0,9,  -999.00,9,-999.000,9,   2163.5,2,   -999.0,9,   2321.7,2,   7.7510,2,25,  -999.0, -999.00,-999.0000,-999.000,-999.000
     316N151_4,   A22,    51,  1,      8,      8,2,19970827,1102, 29.5575, -65.9845, 4985,35150.9,   3500.0,   2.3855,  34.9086,2,  34.9088,2,    268.3,2,  2.0960,    267.6,2,    25.49,2,    18.13,2,     0.00,2,     1.22,2,    0.311,2,    0.165,2,    0.011,2, -999.000,9,-999.0000,5,  -999.00,9,   -999.0,9,  -999.00,9,-999.000,9,   2165.8,2,   -999.0,9,   2323.4,2,   7.7470,2,25,  -999.0, -999.00,-999.0000,-999.000,-999.000
     316N151_4,   A22,    51,  1,      7,      7,2,19970827,1102, 29.5575, -65.9845, 4985,37650.9,   3749.8,   2.3262,  34.9033,2,  34.9039,2,    267.5,2,  2.0109,    267.2,2,    27.23,2,    18.30,2,     0.00,2,     1.24,2,    0.315,2,    0.169,2,    0.016,2, -999.000,9,-999.0000,5,  -999.00,9,   -999.0,9,  -999.00,9,-999.000,9,   2167.7,2,   -999.0,9,   2324.9,2,   7.7490,2,25,  -999.0, -999.00,-999.0000,-999.000,-999.000
     316N151_4,   A22,    51,  1,      6,      6,2,19970827,1102, 29.5575, -65.9845, 4985,40169.6,   4001.5,   2.2892,  34.8987,2,  34.8989,2,    266.5,2,  1.9466,    266.3,2,    29.16,2,    18.55,2,     0.00,2,     1.26,2,    0.299,2,    0.166,2,    0.016,2, -999.000,9,-999.0000,5,  -999.00,9,   -999.0,9,  -999.00,9,-999.000,9,   2170.2,2,   -999.0,9,   2329.8,2,   7.7390,2,25,  -999.0, -999.00,-999.0000,-999.000,-999.000
     316N151_4,   A22,    51,  1,      5,      5,2,19970827,1102, 29.5575, -65.9845, 4985,42656.4,   4250.1,   2.2668,  34.8945,2,  34.8943,2,    265.2,2,  1.8962,    264.6,2,    31.28,2,    18.88,2,     0.00,2,     1.28,2,    0.279,2,    0.157,2,    0.017,2, -999.000,9,-999.0000,5,  -999.00,9,   -999.0,9,  -999.00,9,-999.000,9,   2173.1,2,   -999.0,9,   2329.6,2,   7.7450,2,25,  -999.0, -999.00,-999.0000,-999.000,-999.000
     316N151_4,   A22,    51,  1,      4,      4,2,19970827,1102, 29.5575, -65.9845, 4985,45173.3,   4501.7,   2.2509,  34.8889,2,  34.8915,2,    262.9,2,  1.8511,    262.8,2,    34.07,2,    19.29,2,     0.00,2,     1.31,2,    0.238,6,    0.136,6, -999.000,9, -999.000,9,-999.0000,5,  -999.00,9,   -999.0,9,  -999.00,9,-999.000,9,   2176.8,2,   -999.0,9,   2332.8,2,   7.7410,2,25,  -999.0, -999.00,-999.0000,-999.000,-999.000
     316N151_4,   A22,    51,  1,      3,      3,2,19970827,1102, 29.5575, -65.9845, 4985,47663.0,   4750.7,   2.2025,  34.8795,2,  34.8806,2,    259.0,2,  1.7742,    258.6,2,    39.74,2,    20.25,2,     0.00,2,     1.37,2,    0.155,2,    0.099,2,    0.020,2, -999.000,9,-999.0000,5,  -999.00,9,   -999.0,9,  -999.00,9,-999.000,9,   2183.7,2,   -999.0,9,   2339.9,2,   7.7380,2,25,  -999.0, -999.00,-999.0000,-999.000,-999.000
     316N151_4,   A22,    51,  1,      2,      2,2,19970827,1102, 29.5575, -65.9845, 4985,50153.2,   4999.6,   2.1894,  34.8739,2,  34.8760,2,    256.8,2,  1.7306,    256.4,2,    42.83,2,    20.75,2,     0.00,2,     1.41,2,    0.120,2,    0.083,2,    0.018,2, -999.000,9,-999.0000,5,  -999.00,9,   -999.0,9,  -999.00,9,-999.000,9,   2187.6,2,   -999.0,9,   2341.9,6,   7.7390,2,25,  -999.0, -999.00,-999.0000,-999.000,-999.000
     316N151_4,   A22,    51,  1,      1,      1,2,19970827,1102, 29.5575, -65.9845, 4985,51157.9,   5100.2,   2.1963,  34.8735,2,  34.8737,2,    254.1,2,  1.7246,    255.8,2,    43.33,6,    20.83,6,     0.00,6,     1.41,6,    0.115,2,    0.081,2,    0.020,2, -999.000,9,-999.0000,5,  -999.00,9,   -999.0,9,  -999.00,9,-999.000,9,   2188.7,2,   -999.0,9,   2342.7,2,   7.7340,2,25,  -999.0, -999.00,-999.0000,-999.000,-999.000