BOTTLE,20220629CCHSIOAMB
EXPOCODE,SECT_ID,STNNBR,CASTNO,SAMPNO,BTLNBR,BTLNBR_FLAG_W,DATE,TIME,LATITUDE,LONGITUDE,DEPTH,CTDRAW,CTDPRS,CTDTMP,CTDSAL,CTDSAL_FLAG_W,SALNTY,SALNTY_FLAG_W,CTDOXY,CTDOXY_FLAG_W,THETA,OXYGEN,OXYGEN_FLAG_W,SILCAT,SILCAT_FLAG_W,NITRAT,NITRAT_FLAG_W,NITRIT,NITRIT_FLAG_W,PHSPHT,PHSPHT_FLAG_W,CFC-11,CFC-11_FLAG_W,CFC-12,CFC-12_FLAG_W,CFC113,CFC113_FLAG_W,TRITUM,TRITUM_FLAG_W,HELIUM,HELIUM_FLAG_W,DELHE3,DELHE3_FLAG_W,DELC14,DELC14_FLAG_W,DELC13,DELC13_FLAG_W,NEON,NEON_FLAG_W,TCARBN,TCARBN_FLAG_W,PCO2,PCO2_FLAG_W,ALKALI,ALKALI_FLAG_W,PH,PH_FLAG_W,PH_TMP,C14ERR,DELHER,HELIER,NEONER,TRITER
,,,,,,,,,,,,,DBAR,ITS-90,PSS-78,,PSS-78,,UMOL/KG,,ITS-90,UMOL/KG,,UMOL/KG,,UMOL/KG,,UMOL/KG,,UMOL/KG,,PMOL/KG,,PMOL/KG,,PMOL/KG,,TU,,NMOL/KG,,PERCNT,,/MILLE,,/MILLE,,NMOL/KG,,UMOL/KG,,UATM,,UMOL/KG,,,,DEG C,/MILLE,PERCNT,NMOL/KG,NMOL/KG,TU
     316N151_4,   A22,    67,  1,     31,     31,2,19970901,0317, 38.5987, -65.9618, 4623,  203.9,      3.0,  28.1518,  36.1180,2,  36.1219,2,    284.9,2, 28.1510,    209.5,2,     1.01,2,     0.03,2,     0.00,2,     0.01,2,    1.638,2,    0.982,2,    0.125,2,    0.896,2,   1.7241,2,    -1.91,2,   -999.0,9,  -999.00,9,   6.924,2,   1990.8,2,   -999.0,9,   2359.3,2,   8.1260,2,25,  -999.0,    0.15,  0.0086,   0.035,   0.013
     316N151_4,   A22,    67,  1,     30,     30,2,19970901,0317, 38.5987, -65.9618, 4623,  656.7,     48.9,  27.1017,  36.2718,2,  36.2658,2,    182.9,2, 27.0904,    213.3,2,     0.92,2,     0.03,2,     0.00,2,     0.01,2,    1.758,2,    1.063,2,    0.127,2, -999.000,9,-999.0000,5,  -999.00,9,   -999.0,9,  -999.00,9,-999.000,9,   2016.0,2,   -999.0,9,   2369.3,6,   8.1010,6,25,  -999.0, -999.00,-999.0000,-999.000,-999.000
     316N151_4,   A22,    67,  1,     29,     29,2,19970901,0317, 38.5987, -65.9618, 4623, 1169.5,    100.6,  23.9438,  36.7808,2,  36.7807,2,    166.1,2, 23.9225,    178.3,2,     0.92,2,     1.90,2,     0.04,2,     0.11,2,    1.926,2,    1.126,2,    0.071,2,    0.934,2,   1.7439,2,    -1.43,2,   -999.0,9,  -999.00,9,   7.162,2,   2079.4,2,   -999.0,9,   2400.2,2,   8.0370,2,25,  -999.0,    0.15,  0.0087,   0.036,   0.013
     316N151_4,   A22,    67,  1,     28,     28,2,19970901,0317, 38.5987, -65.9618, 4623, 1657.0,    149.5,  21.6890,  36.8168,2,  36.8183,2,    142.5,2, 21.6594,    178.3,2,     1.02,2,     2.90,2,     0.02,2,     0.16,2,    2.065,2,    1.180,2,    0.067,2, -999.000,9,   1.7412,2,    -1.13,2,   -999.0,9,  -999.00,9,   7.249,2,   2097.9,2,   -999.0,9,   2403.6,2,   8.0130,2,25,  -999.0,    0.15,  0.0087,   0.036,-999.000
     316N151_4,   A22,    67,  1,     27,     27,2,19970901,0317, 38.5987, -65.9618, 4623, 2154.1,    199.3,  18.2867,  36.3800,2,  36.3904,2,    174.1,2, 18.2518,    141.4,2,     3.98,2,    10.33,2,     0.01,2,     0.59,2,    1.801,2,    1.010,2,    0.030,2,    1.062,2,   1.7736,2,     1.49,2,   -999.0,9,  -999.00,9,   7.394,2,   2142.5,2,   -999.0,9,   2382.2,2,   7.9030,2,25,  -999.0,    0.15,  0.0089,   0.037,   0.013
     316N151_4,   A22,    67,  1,     26,     26,2,19970901,0317, 38.5987, -65.9618, 4623, 2675.1,    251.6,  17.2692,  36.3616,2,  36.3656,2,    154.0,2, 17.2268,    159.1,2,     3.09,2,     9.60,2,     0.01,2,     0.55,2,    1.948,2,    1.050,2,    0.019,2,    1.140,2,   1.7634,2,     2.13,2,   -999.0,9,  -999.00,9,   7.439,2,   2133.8,2,   -999.0,9,   2377.9,2,   7.9160,2,25,  -999.0,    0.15,  0.0088,   0.037,   0.014
     316N151_4,   A22,    67,  1,     25,     25,2,19970901,0317, 38.5987, -65.9618, 4623, 3172.5,    301.6,  16.5231,  36.2452,2,  36.2452,2,    154.4,2, 16.4737,    162.1,2,     3.59,2,    10.50,2,     0.00,2,     0.61,2,    1.858,2,    1.054,2,    0.017,2, -999.000,9,   1.7607,2,     3.44,2,   -999.0,9,  -999.00,9,   7.403,2,   2133.8,2,   -999.0,9,   2370.6,2,   7.8980,2,25,  -999.0,    0.15,  0.0088,   0.037,-999.000
     316N151_4,   A22,    67,  1,     24,     24,2,19970901,0317, 38.5987, -65.9618, 4623, 4157.7,    400.6,  14.2087,  35.8667,2,  35.8724,2,    146.7,2, 14.1493,    152.5,2,     6.06,2,    15.24,2,     0.00,2,     0.92,2,    1.461,2,    0.786,2,    0.016,2,    1.147,2,   1.7717,2,     5.82,2,   -999.0,9,  -999.00,9,   7.619,2,   2152.1,2,   -999.0,9,   2352.3,2,   7.8310,2,25,  -999.0,    0.15,  0.0089,   0.038,   0.014
     316N151_4,   A22,    67,  1,     23,     23,2,19970901,0317, 38.5987, -65.9618, 4623, 5130.3,    498.3,  11.4044,  35.4406,2,  35.4415,2,    132.7,2, 11.3404,    134.1,2,    11.09,2,    22.06,2,     0.00,2,     1.38,2,    0.863,2,    0.469,2,    0.007,2,    0.798,2,   1.7031,2,     5.16,2,   -999.0,9,  -999.00,9,   7.530,2,   2178.1,2,   -999.0,9,   2332.7,2,   7.7340,2,25,  -999.0,    0.15,  0.0085,   0.038,   0.014
     316N151_4,   A22,    67,  1,     22,     22,2,19970901,0317, 38.5987, -65.9618, 4623, 6148.0,    600.5,   9.6587,  35.2626,2,  35.2611,2,    139.2,2,  9.5889,    147.5,2,    12.96,2,    23.08,2,     0.00,2,     1.47,2,    0.805,2,    0.423,2,    0.014,2,    0.736,2,   1.8233,2,     8.81,2,   -999.0,9,  -999.00,9,   6.740,2,   2183.3,2,   -999.0,9,   2325.8,2,   7.7100,2,25,  -999.0,    0.15,  0.0091,   0.034,   0.012
     316N151_4,   A22,    67,  1,     21,     21,2,19970901,0317, 38.5987, -65.9618, 4623, 7123.4,    698.3,   7.8169,  35.1394,2,  35.1385,2,    170.8,2,  7.7447,    168.8,2,    13.95,2,    22.80,2,     0.00,2,     1.48,2,    0.844,2,    0.438,2,    0.028,2,    0.702,2,   1.8446,2,     8.90,2,   -999.0,9,  -999.00,9,   6.873,2,   2184.4,2,   -999.0,9,   2322.3,2,   7.6950,2,25,  -999.0,    0.15,  0.0092,   0.034,   0.012
     316N151_4,   A22,    67,  1,     20,     20,2,19970901,0317, 38.5987, -65.9618, 4623, 8152.8,    801.4,   6.3171,  35.0901,2,  35.0911,2,    202.0,2,  6.2428,    199.7,2,    13.56,2,    21.14,2,     0.00,2,     1.39,2,    0.983,2,    0.493,2,    0.033,2,    0.712,2,   1.8497,2,     8.90,2,   -999.0,9,  -999.00,9,   6.945,2,   2178.8,2,   -999.0,9,   2318.7,2,   7.6590,3,25,  -999.0,    0.15,  0.0092,   0.035,   0.012
     316N151_4,   A22,    67,  1,     19,     19,2,19970901,0317, 38.5987, -65.9618, 4623, 9160.2,    902.2,   5.2671,  35.0355,2,  35.0361,2,    224.4,2,  5.1901,    225.9,2,    12.78,2,    19.67,2,     0.00,2,     1.30,2,    1.374,2,    0.684,2,    0.060,2,    0.818,2,   1.8512,2,     8.97,2,   -999.0,9,  -999.00,9,   6.983,2,   2171.3,2,   -999.0,9,   2315.6,2,   7.7160,2,25,  -999.0,    0.15,  0.0093,   0.035,   0.012
     316N151_4,   A22,    67,  1,     18,     18,2,19970901,0317, 38.5987, -65.9618, 4623,10114.3,    997.5,   4.7925,  35.0083,2,  35.0081,2,    236.5,2,  4.7103,    239.4,2,    12.39,2,    18.98,2,     0.00,2,     1.26,2,    1.583,2,    0.781,2,    0.081,2,    0.872,2,   1.8533,2,     8.78,2,   -999.0,9,  -999.00,9,   8.362,2,   2167.7,2,   -999.0,9,   2312.6,2,   7.7220,2,25,  -999.0,    0.15,  0.0093,   0.042,   0.013
     316N151_4,   A22,    67,  1,     17,     17,2,19970901,0317, 38.5987, -65.9618, 4623,11127.6,   1098.8,   4.5805,  35.0036,2,  35.0053,2,    245.7,2,  4.4908,    246.2,2,    12.29,2,    18.66,2,     0.00,2,     1.24,2,    1.475,2,    0.734,2,    0.077,2,    0.881,2,   1.8716,2,     9.73,2,   -999.0,9,  -999.00,9,   8.450,2,   2164.8,2,   -999.0,9,   2315.0,2,   7.7240,2,25,  -999.0,    0.15,  0.0094,   0.042,   0.013
     316N151_4,   A22,    67,  1,     16,     16,2,19970901,0317, 38.5987, -65.9618, 4623,13129.7,   1299.0,   4.2277,  34.9851,2,  34.9866,2,    257.9,2,  4.1232,    255.8,2,    12.19,2,    18.17,2,     0.00,2,     1.21,2,    1.366,2,    0.684,2,    0.057,2,    0.835,2,   1.8575,2,     9.25,2,   -999.0,9,  -999.00,9,   8.535,2,   2161.5,2,   -999.0,9,   2311.8,2,   7.7330,2,25,  -999.0,    0.15,  0.0093,   0.043,   0.013
     316N151_4,   A22,    67,  1,     15,     15,2,19970901,0317, 38.5987, -65.9618, 4623,15121.1,   1498.0,   3.9179,  34.9551,2,  34.9574,2,    263.8,2,  3.7988,    264.3,2,    12.00,2,    17.80,2,     0.00,2,     1.19,2,    1.594,2,    0.787,2,    0.075,2,    0.895,2,   1.8653,2,     9.22,2,   -999.0,9,  -999.00,9,   8.543,2,   2159.7,2,   -999.0,9,   2309.7,2,   7.7380,2,25,  -999.0,    0.15,  0.0093,   0.043,   0.013
     316N151_4,   A22,    67,  1,     14,     14,2,19970901,0317, 38.5987, -65.9618, 4623,17646.3,   1750.3,   3.6824,  34.9438,2,  34.9463,2,    267.4,2,  3.5432,    267.9,2,    12.60,2,    17.68,2,     0.00,2,     1.18,2,    1.435,2,    0.710,2,    0.069,2,    0.784,2,   1.8655,2,     7.40,2,   -999.0,9,  -999.00,9,   8.532,2,   2157.5,2,   -999.0,9,   2310.7,2,   7.7430,2,25,  -999.0,    0.15,  0.0093,   0.043,   0.012
     316N151_4,   A22,    67,  1,     13,     13,2,19970901,0317, 38.5987, -65.9618, 4623,18591.1,   1844.7,   3.6142,  34.9419,2,  34.9431,2,    267.8,2,  3.4672,    268.9,2,    12.90,2,    17.60,2,     0.00,2,     1.18,2,    1.417,2,    0.704,2,    0.066,2,    0.785,2,   1.8821,2,     7.00,2,   -999.0,9,  -999.00,9,   8.539,2,   2157.3,2,   -999.0,9,   2313.7,2,   7.7430,2,25,  -999.0,    0.15,  0.0094,   0.043,   0.012
     316N151_4,   A22,    67,  1,     12,     12,2,19970901,0317, 38.5987, -65.9618, 4623,20143.4,   1999.8,   3.5202,  34.9409,2,  34.9428,2,    268.8,2,  3.3599,    269.4,2,    13.40,2,    17.56,2,     0.00,2,     1.18,2,    1.292,6,    0.652,6,    0.066,2, -999.000,9,-999.0000,5,  -999.00,9,   -999.0,9,  -999.00,9,-999.000,9,   2156.7,2,   -999.0,9,   2310.9,2,   7.7460,2,25,  -999.0, -999.00,-999.0000,-999.000,-999.000
     316N151_4,   A22,    67,  1,     11,     11,2,19970901,0317, 38.5987, -65.9618, 4623,22632.5,   2248.6,   3.4117,  34.9574,2,  34.9585,2,    265.6,2,  3.2291,    264.8,2,    15.76,2,    17.84,2,     0.00,2,     1.20,2,    0.646,2,    0.334,2,    0.027,2, -999.000,9,   1.8700,2,     6.61,2,   -999.0,9,  -999.00,9,   8.472,2,   2159.6,2,   -999.0,9,   2315.0,2,   7.7440,2,25,  -999.0,    0.15,  0.0094,   0.042,-999.000
     316N151_4,   A22,    67,  1,     10,     10,2,19970901,0317, 38.5987, -65.9618, 4623,25138.0,   2498.9,   3.2327,  34.9551,2,  34.9563,2,    263.8,2,  3.0286,    263.9,2,    17.73,2,    18.00,2,     0.00,2,     1.21,2,    0.453,2,    0.228,2,    0.014,2,    0.328,2,   1.8906,2,     6.14,2,   -999.0,9,  -999.00,9,   8.471,2,   2161.1,2,   -999.0,9,   2316.1,2,   7.7490,2,25,  -999.0,    0.15,  0.0095,   0.042,   0.011
     316N151_4,   A22,    67,  1,      9,      9,2,19970901,0317, 38.5987, -65.9618, 4623,27644.1,   2749.5,   2.9638,  34.9384,2,  34.9389,2,    267.5,2,  2.7396,    267.0,2,    18.33,2,    17.68,2,     0.00,2,     1.20,2,    0.599,2,    0.307,2,    0.023,2, -999.000,9,-999.0000,5,  -999.00,9,   -999.0,9,  -999.00,9,-999.000,9,   2160.4,2,   -999.0,9,   2315.9,2,   7.7440,2,25,  -999.0, -999.00,-999.0000,-999.000,-999.000
     316N151_4,   A22,    67,  1,      8,      8,2,19970901,0317, 38.5987, -65.9618, 4623,30186.8,   3003.7,   2.7134,  34.9263,2,  34.9254,2,    269.8,2,  2.4686,    269.3,2,    19.91,2,    17.59,2,     0.00,2,     1.19,2,    0.657,2,    0.337,2,    0.028,2,    0.424,2,   1.8891,2,     7.14,2,   -999.0,9,  -999.00,9,   8.486,2,   2161.4,2,   -999.0,9,   2316.3,2,   7.7500,2,25,  -999.0,    0.15,  0.0094,   0.042,   0.011
     316N151_4,   A22,    67,  1,      7,      7,2,19970901,0317, 38.5987, -65.9618, 4623,32703.9,   3255.3,   2.4826,  34.9143,2,  34.9139,2,    270.4,2,  2.2167,    270.0,2,    22.38,2,    17.76,2,     0.00,2,     1.21,2,    0.630,2,    0.320,2,    0.031,2, -999.000,9,   1.9206,2,     7.16,2,   -999.0,9,  -999.00,9,   8.637,2,   2164.2,2,   -999.0,9,   2320.2,2,   7.7490,2,25,  -999.0,    0.15,  0.0096,   0.043,-999.000
     316N151_4,   A22,    67,  1,      6,      6,3,19970901,0317, 38.5987, -65.9618, 4623,35176.7,   3502.6,   2.3535,  34.9056,2,  36.1484,4,    269.3,2,  2.0645,   -999.0,9,     3.65,3,    10.26,3,     0.01,3,     0.60,3, -999.000,9, -999.000,9, -999.000,9, -999.000,9,-999.0000,5,  -999.00,9,   -999.0,9,  -999.00,9,-999.000,9,   2135.3,4,   -999.0,9,   -999.0,9,-999.0000,9,-999,  -999.0, -999.00,-999.0000,-999.000,-999.000
     316N151_4,   A22,    67,  1,      5,      5,2,19970901,0317, 38.5987, -65.9618, 4623,37659.6,   3750.7,   2.2793,  34.8992,2,  34.8986,2,    268.2,2,  1.9651,    267.7,2,    27.61,2,    18.28,2,     0.00,2,     1.25,2,    0.583,2,    0.291,2,    0.024,2, -999.000,9,-999.0000,5,  -999.00,9,   -999.0,9,  -999.00,9,-999.000,9,   2171.1,2,   -999.0,9,   2324.0,2,   7.7480,2,25,  -999.0, -999.00,-999.0000,-999.000,-999.000
     316N151_4,   A22,    67,  1,      4,      4,2,19970901,0317, 38.5987, -65.9618, 4623,40168.3,   4001.5,   2.2539,  34.8947,2,  34.8952,2,    266.0,2,  1.9123,    266.7,2,    29.39,2,    18.56,2,     0.00,2,     1.27,2,    0.593,2,    0.306,2,    0.034,2, -999.000,9,   1.9228,2,     6.42,2,   -999.0,9,  -999.00,9,   8.580,2,   2172.7,2,   -999.0,9,   2326.9,2,   7.7430,2,25,  -999.0,    0.15,  0.0096,   0.043,-999.000
     316N151_4,   A22,    67,  1,      3,      3,2,19970901,0317, 38.5987, -65.9618, 4623,42666.2,   4251.2,   2.2492,  34.8917,2,  34.8917,2,    264.6,2,  1.8790,    265.0,2,    31.46,2,    18.85,2,     0.00,2,     1.30,2,    0.515,2,    0.266,2,    0.029,2, -999.000,9,-999.0000,5,  -999.00,9,   -999.0,9,  -999.00,9,-999.000,9,   2175.0,2,   -999.0,9,   2326.2,2,   7.7390,2,25,  -999.0, -999.00,-999.0000,-999.000,-999.000
     316N151_4,   A22,    67,  1,      2,      2,2,19970901,0317, 38.5987, -65.9618, 4623,45159.2,   4500.4,   2.2384,  34.8875,2,  34.8897,2,    262.4,2,  1.8392,    262.3,2,    34.32,2,    19.29,2,     0.00,2,     1.33,2,    0.417,6,    0.213,6,    0.023,2, -999.000,9,-999.0000,5,  -999.00,9,   -999.0,9,  -999.00,9,-999.000,9,   2179.7,2,   -999.0,9,   2332.3,6,   7.7430,6,25,  -999.0, -999.00,-999.0000,-999.000,-999.000
     316N151_4,   A22,    67,  1,      1,      1,2,19970901,0317, 38.5987, -65.9618, 4623,47381.3,   4722.6,   2.2446,  34.8850,2,  34.8846,2,    259.4,2,  1.8183,    261.5,2,    36.10,6,    19.64,6,     0.00,6,     1.35,6,    0.373,2,    0.196,2,    0.021,2,    0.298,2,   1.9041,2,     5.71,2,   -999.0,9,  -999.00,9,   8.450,2,   2180.0,2,   -999.0,9,   2334.8,2,   7.7410,2,25,  -999.0,    0.15,  0.0095,   0.042,   0.012