BOTTLE,20220629CCHSIOAMB
EXPOCODE,SECT_ID,STNNBR,CASTNO,SAMPNO,BTLNBR,BTLNBR_FLAG_W,DATE,TIME,LATITUDE,LONGITUDE,DEPTH,CTDRAW,CTDPRS,CTDTMP,CTDSAL,CTDSAL_FLAG_W,SALNTY,SALNTY_FLAG_W,CTDOXY,CTDOXY_FLAG_W,THETA,OXYGEN,OXYGEN_FLAG_W,SILCAT,SILCAT_FLAG_W,NITRAT,NITRAT_FLAG_W,NITRIT,NITRIT_FLAG_W,PHSPHT,PHSPHT_FLAG_W,CFC-11,CFC-11_FLAG_W,CFC-12,CFC-12_FLAG_W,CFC113,CFC113_FLAG_W,TRITUM,TRITUM_FLAG_W,HELIUM,HELIUM_FLAG_W,DELHE3,DELHE3_FLAG_W,DELC14,DELC14_FLAG_W,DELC13,DELC13_FLAG_W,NEON,NEON_FLAG_W,TCARBN,TCARBN_FLAG_W,PCO2,PCO2_FLAG_W,ALKALI,ALKALI_FLAG_W,PH,PH_FLAG_W,PH_TMP,C14ERR,DELHER,HELIER,NEONER,TRITER
,,,,,,,,,,,,,DBAR,ITS-90,PSS-78,,PSS-78,,UMOL/KG,,ITS-90,UMOL/KG,,UMOL/KG,,UMOL/KG,,UMOL/KG,,UMOL/KG,,PMOL/KG,,PMOL/KG,,PMOL/KG,,TU,,NMOL/KG,,PERCNT,,/MILLE,,/MILLE,,NMOL/KG,,UMOL/KG,,UATM,,UMOL/KG,,,,DEG C,/MILLE,PERCNT,NMOL/KG,NMOL/KG,TU
     316N151_4,   A22,    71,  1,     32,     32,2,19970902,0029, 40.1803, -66.1903, 3493,  199.6,      3.9,  23.4946,  34.2027,2,  34.2045,2,    259.3,2, 23.4938,    221.9,2,     0.39,2,     0.02,2,     0.00,2,     0.07,2,    2.105,2,    1.223,2,    0.167,2, -999.000,9,-999.0000,5,  -999.00,9,   -999.0,9,  -999.00,9,-999.000,9,   1970.3,2,   -999.0,9,   2271.1,2,   8.0540,2,25,  -999.0, -999.00,-999.0000,-999.000,-999.000
     316N151_4,   A22,    71,  1,     31,     31,2,19970902,0029, 40.1803, -66.1903, 3493,  636.3,     48.2,  18.6203,  34.5589,2,  34.6251,2,    251.7,2, 18.6119,    236.1,2,     1.18,2,     0.50,2,     0.18,2,     0.19,2, -999.000,9, -999.000,9, -999.000,9, -999.000,9,-999.0000,5,  -999.00,9,   -999.0,9,  -999.00,9,-999.000,9,   2028.9,2,   -999.0,9,   2300.1,2,   7.9950,2,25,  -999.0, -999.00,-999.0000,-999.000,-999.000
     316N151_4,   A22,    71,  1,     30,     30,2,19970902,0029, 40.1803, -66.1903, 3493, 1173.4,    102.4,  14.4478,  35.5111,2,  35.5112,2,    194.4,2, 14.4326,    181.0,2,     4.15,2,     9.84,2,     0.02,2,     0.66,2,    2.410,2,    1.299,2,    0.119,2, -999.000,9,-999.0000,5,  -999.00,9,   -999.0,9,  -999.00,9,-999.000,9,   2121.1,2,   -999.0,9,   2339.6,6,   7.8760,6,25,  -999.0, -999.00,-999.0000,-999.000,-999.000
     316N151_4,   A22,    71,  1,     29,     29,2,19970902,0029, 40.1803, -66.1903, 3493, 1654.0,    150.8,  12.6884,  35.5867,2,  35.5892,2,    159.4,2, 12.6679,    144.7,2,     8.30,2,    18.22,2,     0.01,2,     1.14,2, -999.000,9, -999.000,9, -999.000,9, -999.000,9,-999.0000,5,  -999.00,9,   -999.0,9,  -999.00,9,-999.000,9,   2164.3,2,   -999.0,9,   2337.5,2,   7.7860,2,25,  -999.0, -999.00,-999.0000,-999.000,-999.000
     316N151_4,   A22,    71,  1,     28,     28,2,19970902,0029, 40.1803, -66.1903, 3493, 2137.3,    199.5,  10.9325,  35.3900,2,  35.3970,2,    146.3,2, 10.9079,    141.8,2,    11.17,2,    21.45,2,     0.01,2,     1.35,2,    1.031,2,    0.557,2,    0.024,2, -999.000,9,-999.0000,5,  -999.00,9,   -999.0,9,  -999.00,9,-999.000,9,   2176.4,2,   -999.0,9,   2329.8,2,   7.7330,2,25,  -999.0, -999.00,-999.0000,-999.000,-999.000
     316N151_4,   A22,    71,  1,     27,     27,2,19970902,0029, 40.1803, -66.1903, 3493, 2645.4,    250.6,   9.3411,  35.2043,2,  35.2023,2,    141.3,2,  9.3131,    143.6,2,    13.74,2,    23.77,2,     0.01,2,     1.52,2, -999.000,9, -999.000,9, -999.000,9, -999.000,9,-999.0000,5,  -999.00,9,   -999.0,9,  -999.00,9,-999.000,9,   2186.9,2,   -999.0,9,   2320.4,2,   7.6960,2,25,  -999.0, -999.00,-999.0000,-999.000,-999.000
     316N151_4,   A22,    71,  1,     26,     26,2,19970902,0029, 40.1803, -66.1903, 3493, 3131.6,    299.2,   8.4052,  35.1379,2,  35.1352,2,    149.9,2,  8.3738,    151.3,2,    14.72,2,    24.26,2,     0.01,2,     1.56,2,    0.715,2,    0.382,2,    0.022,2, -999.000,9,-999.0000,5,  -999.00,9,   -999.0,9,  -999.00,9,-999.000,9,   2188.6,2,   -999.0,9,   2321.7,2,   7.6890,2,25,  -999.0, -999.00,-999.0000,-999.000,-999.000
     316N151_4,   A22,    71,  1,     25,     25,2,19970902,0029, 40.1803, -66.1903, 3493, 4148.1,    401.0,   7.2041,  35.0848,2,  35.0828,2,    171.9,2,  7.1653,    175.2,2,    14.13,2,    22.73,2,     0.00,2,     1.48,2, -999.000,9, -999.000,9, -999.000,9, -999.000,9,-999.0000,5,  -999.00,9,   -999.0,9,  -999.00,9,-999.000,9,   2184.4,2,   -999.0,9,   2317.8,2,   7.6950,6,25,  -999.0, -999.00,-999.0000,-999.000,-999.000
     316N151_4,   A22,    71,  1,     24,     24,2,19970902,0029, 40.1803, -66.1903, 3493, 5159.3,    502.3,   5.9633,  35.0523,2,  35.0528,2,    208.5,2,  5.9191,    205.5,2,    13.34,2,    20.74,2,     0.00,2,     1.37,2,    1.234,2,    0.616,2,    0.058,2, -999.000,9,-999.0000,5,  -999.00,9,   -999.0,9,  -999.00,9,-999.000,9,   2177.0,2,   -999.0,9,   2317.4,2,   7.7050,2,25,  -999.0, -999.00,-999.0000,-999.000,-999.000
     316N151_4,   A22,    71,  1,     23,     23,2,19970902,0029, 40.1803, -66.1903, 3493, 6141.3,    600.5,   5.3154,  35.0390,2,  35.0403,2,    225.1,2,  5.2651,    224.5,2,    12.64,2,    19.65,2,     0.00,2,     1.30,2, -999.000,9, -999.000,9, -999.000,9, -999.000,9,-999.0000,5,  -999.00,9,   -999.0,9,  -999.00,9,-999.000,9,   2171.8,2,   -999.0,9,   2315.6,2,   7.7200,2,25,  -999.0, -999.00,-999.0000,-999.000,-999.000
     316N151_4,   A22,    71,  1,     22,     22,2,19970902,0029, 40.1803, -66.1903, 3493, 7144.6,    700.8,   4.8325,  35.0060,2,  35.0094,2,    242.0,2,  4.7761,    238.6,2,    12.15,2,    18.84,2,     0.00,2,     1.25,2, -999.000,9, -999.000,9, -999.000,9, -999.000,9,-999.0000,5,  -999.00,9,   -999.0,9,  -999.00,9,-999.000,9,   2167.3,2,   -999.0,9,   2314.8,2,   7.7230,2,25,  -999.0, -999.00,-999.0000,-999.000,-999.000
     316N151_4,   A22,    71,  1,     21,     21,2,19970902,0029, 40.1803, -66.1903, 3493, 8152.1,    801.6,   4.4803,  34.9876,2,  34.9885,2,    248.2,2,  4.4172,    249.3,2,    11.85,2,    18.36,2,     0.00,2,     1.22,2,    2.032,4,    1.327,4,    0.157,2, -999.000,9,-999.0000,5,  -999.00,9,   -999.0,9,  -999.00,9,-999.000,9,   2164.9,2,   -999.0,9,   2311.7,2,   7.7310,2,25,  -999.0, -999.00,-999.0000,-999.000,-999.000
     316N151_4,   A22,    71,  1,     20,     20,2,19970902,0029, 40.1803, -66.1903, 3493, 9167.1,    902.9,   4.3549,  34.9868,2,  34.9879,2,    253.5,2,  4.2841,    252.6,2,    11.85,2,    18.19,2,     0.00,2,     1.21,2, -999.000,9, -999.000,9, -999.000,9, -999.000,9,-999.0000,5,  -999.00,9,   -999.0,9,  -999.00,9,-999.000,9,   2162.3,2,   -999.0,9,   2313.4,2,   7.7320,2,25,  -999.0, -999.00,-999.0000,-999.000,-999.000
     316N151_4,   A22,    71,  1,     19,     19,2,19970902,0029, 40.1803, -66.1903, 3493,10140.7,   1000.2,   4.2187,  34.9761,2,  34.9783,2,    256.4,2,  4.1406,    257.0,2,    11.76,2,    18.03,2,     0.00,2,     1.20,2,    1.674,2,    0.817,2,    0.082,2, -999.000,9,-999.0000,5,  -999.00,9,   -999.0,9,  -999.00,9,-999.000,9,   2161.5,2,   -999.0,9,   2309.4,2,   7.7330,2,25,  -999.0, -999.00,-999.0000,-999.000,-999.000
     316N151_4,   A22,    71,  1,     18,     18,2,19970902,0029, 40.1803, -66.1903, 3493,11145.3,   1100.7,   4.0263,  34.9586,2,  34.9600,2,    261.7,2,  3.9412,    261.9,2,    11.76,2,    17.79,2,     0.00,2,     1.19,2,    1.817,2,    0.894,2,    0.098,2, -999.000,9,-999.0000,5,  -999.00,9,   -999.0,9,  -999.00,9,-999.000,9,   2159.6,2,   -999.0,9,   2308.2,2,   7.7350,2,25,  -999.0, -999.00,-999.0000,-999.000,-999.000
     316N151_4,   A22,    71,  1,     17,     17,2,19970902,0029, 40.1803, -66.1903, 3493,12647.9,   1250.8,   3.8342,  34.9487,2,  34.9506,2,    265.0,2,  3.7379,    266.0,2,    11.95,2,    17.62,2,     0.00,2,     1.18,2,    1.679,2,    0.823,2,    0.086,2, -999.000,9,-999.0000,5,  -999.00,9,   -999.0,9,  -999.00,9,-999.000,9,   2157.5,2,   -999.0,9,   2310.4,2,   7.7370,2,25,  -999.0, -999.00,-999.0000,-999.000,-999.000
     316N151_4,   A22,    71,  1,     16,     16,2,19970902,0029, 40.1803, -66.1903, 3493,14157.8,   1401.8,   3.7066,  34.9454,2,  34.9472,2,    267.5,2,  3.5984,    267.5,2,    12.34,2,    17.55,2,     0.00,2,     1.18,2,    1.509,2,    0.750,2,    0.076,2, -999.000,9,-999.0000,5,  -999.00,9,   -999.0,9,  -999.00,9,-999.000,9,   2158.0,2,   -999.0,9,   2308.9,2,   7.7400,2,25,  -999.0, -999.00,-999.0000,-999.000,-999.000
     316N151_4,   A22,    71,  1,     15,     15,2,19970902,0029, 40.1803, -66.1903, 3493,15656.1,   1551.5,   3.6044,  34.9425,2,  34.9434,2,    269.3,2,  3.4843,    268.5,2,    12.74,2,    17.51,2,     0.00,2,     1.18,2,    1.422,2,    0.704,2,    0.066,2, -999.000,9,-999.0000,5,  -999.00,9,   -999.0,9,  -999.00,9,-999.000,9,   2156.5,2,   -999.0,9,   2309.7,2,   7.7370,2,25,  -999.0, -999.00,-999.0000,-999.000,-999.000
     316N151_4,   A22,    71,  1,     14,     14,2,19970902,0029, 40.1803, -66.1903, 3493,17137.5,   1699.6,   3.4968,  34.9377,2,  34.9385,2,    270.9,2,  3.3647,    270.2,2,    13.03,2,    17.47,2,     0.00,2,     1.17,2,    1.390,2,    0.687,2,    0.074,2, -999.000,9,-999.0000,5,  -999.00,9,   -999.0,9,  -999.00,9,-999.000,9,   2157.5,2,   -999.0,9,   2308.1,2,   7.7420,2,25,  -999.0, -999.00,-999.0000,-999.000,-999.000
     316N151_4,   A22,    71,  1,     13,     13,2,19970902,0029, 40.1803, -66.1903, 3493,18247.7,   1810.5,   3.3617,  34.9256,2,  34.9240,2,    274.6,2,  3.2213,    273.1,2,    13.04,2,    17.30,2,     0.00,2,     1.16,2,    1.638,6,    0.803,6,    0.091,2, -999.000,9,-999.0000,5,  -999.00,9,   -999.0,9,  -999.00,9,-999.000,9,   2156.9,2,   -999.0,9,   2310.0,6,   7.7400,6,25,  -999.0, -999.00,-999.0000,-999.000,-999.000
     316N151_4,   A22,    71,  1,     12,     12,2,19970902,0029, 40.1803, -66.1903, 3493,19165.6,   1902.2,   3.3284,  34.9297,2,  34.9314,2,    273.3,2,  3.1801,    271.8,2,    13.63,2,    17.35,2,     0.00,2,     1.17,2,    1.436,2,    0.710,2,    0.078,2, -999.000,9,-999.0000,5,  -999.00,9,   -999.0,9,  -999.00,9,-999.000,9,   2155.9,2,   -999.0,9,   2308.9,2,   7.7440,2,25,  -999.0, -999.00,-999.0000,-999.000,-999.000
     316N151_4,   A22,    71,  1,     11,     11,2,19970902,0029, 40.1803, -66.1903, 3493,20168.9,   2002.5,   3.3453,  34.9441,2,  34.9431,2,    270.8,2,  3.1873,    268.6,2,    14.62,2,    17.51,2,     0.00,2,     1.18,2,    1.007,2,    0.517,2,    0.045,2, -999.000,9,-999.0000,5,  -999.00,9,   -999.0,9,  -999.00,9,-999.000,9,   2157.6,2,   -999.0,9,   2311.9,2,   7.7120,4,25,  -999.0, -999.00,-999.0000,-999.000,-999.000
     316N151_4,   A22,    71,  1,     10,     10,2,19970902,0029, 40.1803, -66.1903, 3493,21672.5,   2152.9,   3.1913,  34.9360,2,  34.9378,2,    271.3,2,  3.0216,    269.8,2,    15.10,2,    17.38,2,     0.00,2,     1.17,2,    1.079,6,    0.539,6,    0.051,2, -999.000,9,-999.0000,5,  -999.00,9,   -999.0,9,  -999.00,9,-999.000,9,   2158.2,2,   -999.0,9,   2310.3,2,   7.7330,2,25,  -999.0, -999.00,-999.0000,-999.000,-999.000
     316N151_4,   A22,    71,  1,      9,      9,2,19970902,0029, 40.1803, -66.1903, 3493,23155.7,   2301.2,   3.0839,  34.9364,2,  34.9362,2,    270.1,2,  2.9018,    269.5,2,    15.90,2,    17.35,2,     0.00,2,     1.17,2,    0.984,2,    0.491,2,    0.037,2, -999.000,9,-999.0000,5,  -999.00,9,    -45.6,2,     1.02,2,-999.000,9,   2158.7,2,   -999.0,9,   2314.1,2,   7.7440,2,25,     2.9, -999.00,-999.0000,-999.000,-999.000
     316N151_4,   A22,    71,  1,      8,      8,2,19970902,0029, 40.1803, -66.1903, 3493,24641.8,   2449.7,   2.9716,  34.9326,2,  34.9325,2,    270.6,2,  2.7771,    270.1,2,    16.48,2,    17.26,2,     0.00,2,     1.17,2,    0.979,2,    0.490,2,    0.039,2, -999.000,9,-999.0000,5,  -999.00,9,    -50.7,2,     1.04,2,-999.000,9,   2159.0,2,   -999.0,9,   2317.1,2,   7.7500,2,25,     3.3, -999.00,-999.0000,-999.000,-999.000
     316N151_4,   A22,    71,  1,      7,      7,2,19970902,0029, 40.1803, -66.1903, 3493,26192.6,   2604.6,   2.8015,  34.9256,2,  34.9252,2,    271.5,2,  2.5952,    271.8,2,    16.98,2,    17.11,2,     0.00,2,     1.16,2,    1.055,2,    0.530,2,    0.043,2, -999.000,9,-999.0000,5,  -999.00,9,    -42.1,2,     1.03,2,-999.000,9,   2159.0,2,   -999.0,9,   2315.6,2,   7.7450,2,25,     4.1, -999.00,-999.0000,-999.000,-999.000
     316N151_4,   A22,    71,  1,      6,      6,2,19970902,0029, 40.1803, -66.1903, 3493,27650.6,   2750.5,   2.6580,  34.9192,2,  34.9196,2,    273.1,2,  2.4399,    273.1,2,    17.57,2,    16.98,2,     0.00,2,     1.16,2, -999.000,9, -999.000,9, -999.000,9, -999.000,9,-999.0000,5,  -999.00,9,    -49.3,2,     1.04,2,-999.000,9,   2160.2,2,   -999.0,9,   2314.4,2,   7.7450,2,25,     6.0, -999.00,-999.0000,-999.000,-999.000
     316N151_4,   A22,    71,  1,      5,      5,2,19970902,0029, 40.1803, -66.1903, 3493,29174.2,   2902.9,   2.5189,  34.9128,2,  34.9110,2,    273.8,2,  2.2886,    274.0,2,    18.36,2,    16.94,2,     0.00,2,     1.15,2,    1.214,2,    0.588,2,    0.051,2, -999.000,9,-999.0000,5,  -999.00,9,    -50.5,2,     1.00,2,-999.000,9,   2160.3,2,   -999.0,9,   2311.0,3,   7.7410,2,25,     3.7, -999.00,-999.0000,-999.000,-999.000
     316N151_4,   A22,    71,  1,      4,      4,2,19970902,0029, 40.1803, -66.1903, 3493,30641.1,   3049.6,   2.4615,  34.9103,2,  34.9084,2,    273.9,2,  2.2175,    273.7,2,    19.05,2,    16.98,2,     0.00,2,     1.16,2, -999.000,9, -999.000,9, -999.000,9, -999.000,9,-999.0000,5,  -999.00,9,    -45.1,2,     0.98,2,-999.000,9,   2161.5,2,   -999.0,9,   2317.8,2,   7.7460,2,25,     3.7, -999.00,-999.0000,-999.000,-999.000
     316N151_4,   A22,    71,  1,      3,      3,2,19970902,0029, 40.1803, -66.1903, 3493,32156.3,   3201.1,   2.3464,  34.9050,2,  34.9037,2,    273.9,2,  2.0895,    273.6,2,    20.73,2,    17.11,2,     0.00,2,     1.17,2,    1.186,2,    0.580,2,    0.051,2, -999.000,9,-999.0000,5,  -999.00,9,    -51.9,2,     0.92,2,-999.000,9,   2165.0,2,   -999.0,9,   2318.6,2,   7.7460,2,25,     3.0, -999.00,-999.0000,-999.000,-999.000
     316N151_4,   A22,    71,  1,      2,      2,2,19970902,0029, 40.1803, -66.1903, 3493,33637.6,   3349.2,   2.2769,  34.9010,2,  34.9006,2,    273.4,2,  2.0061,    273.0,2,    22.30,2,    17.30,2,     0.00,2,     1.18,2,    1.148,2,    0.568,2,    0.050,2, -999.000,9,-999.0000,5,  -999.00,9,    -59.9,2,     0.92,2,-999.000,9,   2165.4,2,   -999.0,9,   2318.4,2,   7.7450,2,25,     3.9, -999.00,-999.0000,-999.000,-999.000
     316N151_4,   A22,    71,  1,      1,      1,2,19970902,0029, 40.1803, -66.1903, 3493,35397.7,   3525.6,   2.2301,  34.8968,2,  34.8963,2,    271.0,2,  1.9417,    271.3,2,    25.02,6,    17.62,6,     0.00,6,     1.21,6,    1.052,2,    0.523,2,    0.048,2, -999.000,9,-999.0000,5,  -999.00,9,   -999.0,9,  -999.00,9,-999.000,9,   2169.2,2,   -999.0,9,   2319.4,2,   7.7410,2,25,  -999.0, -999.00,-999.0000,-999.000,-999.000