BOTTLE,20220629CCHSIOAMB
EXPOCODE,SECT_ID,STNNBR,CASTNO,SAMPNO,BTLNBR,BTLNBR_FLAG_W,DATE,TIME,LATITUDE,LONGITUDE,DEPTH,CTDRAW,CTDPRS,CTDTMP,CTDSAL,CTDSAL_FLAG_W,SALNTY,SALNTY_FLAG_W,CTDOXY,CTDOXY_FLAG_W,THETA,OXYGEN,OXYGEN_FLAG_W,SILCAT,SILCAT_FLAG_W,NITRAT,NITRAT_FLAG_W,NITRIT,NITRIT_FLAG_W,PHSPHT,PHSPHT_FLAG_W,CFC-11,CFC-11_FLAG_W,CFC-12,CFC-12_FLAG_W,CFC113,CFC113_FLAG_W,TRITUM,TRITUM_FLAG_W,HELIUM,HELIUM_FLAG_W,DELHE3,DELHE3_FLAG_W,DELC14,DELC14_FLAG_W,DELC13,DELC13_FLAG_W,NEON,NEON_FLAG_W,TCARBN,TCARBN_FLAG_W,PCO2,PCO2_FLAG_W,ALKALI,ALKALI_FLAG_W,PH,PH_FLAG_W,PH_TMP,C14ERR,DELHER,HELIER,NEONER,TRITER
,,,,,,,,,,,,,DBAR,ITS-90,PSS-78,,PSS-78,,UMOL/KG,,ITS-90,UMOL/KG,,UMOL/KG,,UMOL/KG,,UMOL/KG,,UMOL/KG,,PMOL/KG,,PMOL/KG,,PMOL/KG,,TU,,NMOL/KG,,PERCNT,,/MILLE,,/MILLE,,NMOL/KG,,UMOL/KG,,UATM,,UMOL/KG,,,,DEG C,/MILLE,PERCNT,NMOL/KG,NMOL/KG,TU
     316N151_4,   A22,     7,  1,     28,     28,2,19970817,0845, 12.1720, -65.9933, 4226,  278.3,     11.4,  27.1708,  36.8539,3,  36.8529,2,    203.0,3, 27.1682,    211.7,2,     0.59,2,     0.08,2,     0.00,2,     0.03,2,    1.751,6,    1.048,6,    0.129,2, -999.000,9,-999.0000,5,  -999.00,9,   -999.0,9,  -999.00,9,-999.000,9,   -999.0,9,   -999.0,9,   -999.0,9,-999.0000,9,-999,  -999.0, -999.00,-999.0000,-999.000,-999.000
     316N151_4,   A22,     7,  1,     27,     27,2,19970817,0845, 12.1720, -65.9933, 4226,  658.0,     50.1,  22.4616,  36.8070,2,  36.8117,2,    205.0,2, 22.4515,    196.8,2,     1.02,2,     0.11,2,     0.01,2,     0.06,2,    1.938,2,    1.111,2,    0.076,2, -999.000,9,-999.0000,5,  -999.00,9,   -999.0,9,  -999.00,9,-999.000,9,   -999.0,9,   -999.0,9,   -999.0,9,-999.0000,9,-999,  -999.0, -999.00,-999.0000,-999.000,-999.000
     316N151_4,   A22,     7,  1,     26,     26,2,19970817,0845, 12.1720, -65.9933, 4226, 1165.5,    101.5,  18.7568,  36.5729,2,  36.5840,2,    137.3,2, 18.7387,    135.0,2,     3.61,2,    10.17,2,     0.06,2,     0.59,2,    1.926,2,    1.066,2,    0.019,2, -999.000,9,-999.0000,5,  -999.00,9,   -999.0,9,  -999.00,9,-999.000,9,   -999.0,9,   -999.0,9,   -999.0,9,-999.0000,9,-999,  -999.0, -999.00,-999.0000,-999.000,-999.000
     316N151_4,   A22,     7,  1,     25,     25,2,19970817,0845, 12.1720, -65.9933, 4226, 1673.4,    152.6,  16.1479,  36.1486,2,  36.1453,2,    134.4,2, 16.1234,    134.0,2,     5.21,2,    14.30,2,     0.02,2,     0.85,2,    1.704,2,    0.926,2,    0.015,2, -999.000,9,-999.0000,5,  -999.00,9,   -999.0,9,  -999.00,9,-999.000,9,   -999.0,9,   -999.0,9,   -999.0,9,-999.0000,9,-999,  -999.0, -999.00,-999.0000,-999.000,-999.000
     316N151_4,   A22,     7,  1,     24,     24,2,19970817,0845, 12.1720, -65.9933, 4226, 2163.4,    201.8,  13.7747,  35.7238,2,  35.7175,2,    124.9,2, 13.7457,    125.9,2,     8.00,2,    19.12,2,     0.01,2,     1.18,2,    1.369,2,    0.736,2,    0.009,2, -999.000,9,-999.0000,5,  -999.00,9,   -999.0,9,  -999.00,9,-999.000,9,   -999.0,9,   -999.0,9,   -999.0,9,-999.0000,9,-999,  -999.0, -999.00,-999.0000,-999.000,-999.000
     316N151_4,   A22,     7,  1,     23,     23,2,19970817,0845, 12.1720, -65.9933, 4226, 2662.0,    251.8,  12.0218,  35.4243,2,  35.4153,2,    119.6,2, 11.9887,    119.3,2,    10.70,2,    22.91,2,     0.01,2,     1.44,2,    1.043,2,    0.561,2,    0.005,2, -999.000,9,-999.0000,5,  -999.00,9,   -999.0,9,  -999.00,9,-999.000,9,   -999.0,9,   -999.0,9,   -999.0,9,-999.0000,9,-999,  -999.0, -999.00,-999.0000,-999.000,-999.000
     316N151_4,   A22,     7,  1,     22,     22,2,19970817,0845, 12.1720, -65.9933, 4226, 2662.8,    251.9,  12.0218,  35.4243,2,  35.4082,3,    119.6,2, 11.9887,    119.1,2,    10.72,2,    23.03,2,     0.01,2,     1.45,2,    1.019,2,    0.550,2,    0.004,2, -999.000,9,-999.0000,5,  -999.00,9,   -999.0,9,  -999.00,9,-999.000,9,   -999.0,9,   -999.0,9,   -999.0,9,-999.0000,9,-999,  -999.0, -999.00,-999.0000,-999.000,-999.000
     316N151_4,   A22,     7,  1,     21,     21,2,19970817,0845, 12.1720, -65.9933, 4226, 4160.2,    402.1,   9.1491,  34.9909,2,  34.9812,2,    116.8,2,  9.1044,    116.6,2,    16.28,2,    28.74,2,     0.01,2,     1.85,2,    0.546,2,    0.318,2,    0.018,2, -999.000,9,-999.0000,5,  -999.00,9,   -999.0,9,  -999.00,9,-999.000,9,   -999.0,9,   -999.0,9,   -999.0,9,-999.0000,9,-999,  -999.0, -999.00,-999.0000,-999.000,-999.000
     316N151_4,   A22,     7,  1,     20,     20,2,19970817,0845, 12.1720, -65.9933, 4226, 5148.7,    501.1,   7.6326,  34.8220,2,  34.8199,2,    120.8,2,  7.5824,    120.3,2,    20.25,2,    31.20,2,     0.00,2,     2.04,2,    0.281,6,    0.163,6,    0.002,2, -999.000,9,-999.0000,5,  -999.00,9,   -999.0,9,  -999.00,9,-999.000,9,   -999.0,9,   -999.0,9,   -999.0,9,-999.0000,9,-999,  -999.0, -999.00,-999.0000,-999.000,-999.000
     316N151_4,   A22,     7,  1,     19,     19,2,19970817,0845, 12.1720, -65.9933, 4226, 6151.0,    601.4,   7.0721,  34.7801,2,  34.7779,2,    125.0,2,  7.0139,    123.8,2,    22.05,2,    31.90,2,     0.00,2,     2.09,2,    0.189,2,    0.111,2,    0.002,2, -999.000,9,-999.0000,5,  -999.00,9,   -999.0,9,  -999.00,9,-999.000,9,   -999.0,9,   -999.0,9,   -999.0,9,-999.0000,9,-999,  -999.0, -999.00,-999.0000,-999.000,-999.000
     316N151_4,   A22,     7,  1,     18,     18,2,19970817,0845, 12.1720, -65.9933, 4226, 6151.5,    601.5,   7.0721,  34.7801,2,  34.7746,2,    125.0,2,  7.0139,    124.0,2,    21.98,2,    31.87,2,     0.00,2,     2.09,2,    0.203,2,    0.117,2,    0.003,2, -999.000,9,-999.0000,5,  -999.00,9,   -999.0,9,  -999.00,9,-999.000,9,   -999.0,9,   -999.0,9,   -999.0,9,-999.0000,9,-999,  -999.0, -999.00,-999.0000,-999.000,-999.000
     316N151_4,   A22,     7,  1,     17,     17,2,19970817,0845, 12.1720, -65.9933, 4226, 7135.3,    699.8,   6.2892,  34.7670,2,  34.7620,2,    134.1,2,  6.2253,    133.1,2,    24.37,2,    31.80,2,     0.00,2,     2.11,2,    0.095,2,    0.059,2,    0.001,2, -999.000,9,-999.0000,5,  -999.00,9,   -999.0,9,  -999.00,9,-999.000,9,   -999.0,9,   -999.0,9,   -999.0,9,-999.0000,9,-999,  -999.0, -999.00,-999.0000,-999.000,-999.000
     316N151_4,   A22,     7,  1,     16,     16,2,19970817,0845, 12.1720, -65.9933, 4226, 9144.0,    900.8,   5.4225,  34.8779,2,  34.8829,2,    167.2,2,  5.3446,    164.9,2,    25.29,2,    27.86,2,     0.00,2,     1.87,2,    0.038,2,    0.026,2,    0.002,2, -999.000,9,-999.0000,5,  -999.00,9,   -999.0,9,  -999.00,9,-999.000,9,   -999.0,9,   -999.0,9,   -999.0,9,-999.0000,9,-999,  -999.0, -999.00,-999.0000,-999.000,-999.000
     316N151_4,   A22,     7,  1,     15,     15,2,19970817,0845, 12.1720, -65.9933, 4226, 9144.2,    900.9,   5.4225,  34.8779,2,  34.8827,2,    167.2,2,  5.3446,    165.1,2,    25.31,2,    27.86,2,     0.00,2,     1.87,2,    0.040,2,    0.031,2,    0.002,2, -999.000,9,-999.0000,5,  -999.00,9,   -999.0,9,  -999.00,9,-999.000,9,   -999.0,9,   -999.0,9,   -999.0,9,-999.0000,9,-999,  -999.0, -999.00,-999.0000,-999.000,-999.000
     316N151_4,   A22,     7,  1,     14,     14,2,19970817,0845, 12.1720, -65.9933, 4226,10146.5,   1001.0,   5.0531,  34.9190,2,  34.9202,2,    180.6,2,  4.9686,    178.9,2,    25.44,2,    26.16,2,     0.00,2,     1.77,2,    0.035,2,    0.021,2,    0.003,2, -999.000,9,-999.0000,5,  -999.00,9,   -999.0,9,  -999.00,9,-999.000,9,   -999.0,9,   -999.0,9,   -999.0,9,-999.0000,9,-999,  -999.0, -999.00,-999.0000,-999.000,-999.000
     316N151_4,   A22,     7,  1,     13,     13,2,19970817,0845, 12.1720, -65.9933, 4226,11148.2,   1101.3,   4.7846,  34.9409,2,  34.9430,2,    190.5,2,  4.6930,    189.7,2,    25.46,2,    24.95,2,     0.00,2,     1.69,2,    0.031,2,    0.023,2,    0.001,2, -999.000,9,-999.0000,5,  -999.00,9,   -999.0,9,  -999.00,9,-999.000,9,   -999.0,9,   -999.0,9,   -999.0,9,-999.0000,9,-999,  -999.0, -999.00,-999.0000,-999.000,-999.000
     316N151_4,   A22,     7,  1,     12,     12,2,19970817,0845, 12.1720, -65.9933, 4226,13153.2,   1301.7,   4.4437,  34.9612,2,  34.9626,2,    204.7,2,  4.3370,    202.6,2,    25.88,2,    23.56,2,     0.00,2,     1.60,2,    0.030,2,    0.024,2,    0.000,2, -999.000,9,-999.0000,5,  -999.00,9,   -999.0,9,  -999.00,9,-999.000,9,   -999.0,9,   -999.0,9,   -999.0,9,-999.0000,9,-999,  -999.0, -999.00,-999.0000,-999.000,-999.000
     316N151_4,   A22,     7,  1,     11,     11,2,19970817,0845, 12.1720, -65.9933, 4226,15151.2,   1501.4,   4.2424,  34.9694,2,  34.9702,2,    208.4,2,  4.1193,    208.3,2,    27.39,2,    22.94,2,     0.00,2,     1.57,2,    0.038,2,    0.021,2,    0.002,2, -999.000,9,-999.0000,5,  -999.00,9,   -999.0,9,  -999.00,9,-999.000,9,   -999.0,9,   -999.0,9,   -999.0,9,-999.0000,9,-999,  -999.0, -999.00,-999.0000,-999.000,-999.000
     316N151_4,   A22,     7,  1,     10,     10,2,19970817,0845, 12.1720, -65.9933, 4226,17640.9,   1750.2,   4.1464,  34.9725,2,  34.9717,2,    213.2,2,  4.0010,    212.0,2,    27.81,2,    22.62,2,     0.00,2,     1.54,2,    0.023,6,    0.018,6,    0.003,2, -999.000,9,-999.0000,5,  -999.00,9,   -999.0,9,  -999.00,9,-999.000,9,   -999.0,9,   -999.0,9,   -999.0,9,-999.0000,9,-999,  -999.0, -999.00,-999.0000,-999.000,-999.000
     316N151_4,   A22,     7,  1,      9,      9,2,19970817,0845, 12.1720, -65.9933, 4226,20150.7,   2001.1,   4.0868,  34.9746,2,  34.9758,2,    215.6,2,  3.9180,    214.9,2,    28.33,2,    22.27,2,     0.00,2,     1.52,2,    0.018,2,    0.023,2,    0.002,2, -999.000,9,-999.0000,5,  -999.00,9,   -999.0,9,  -999.00,9,-999.000,9,   -999.0,9,   -999.0,9,   -999.0,9,-999.0000,9,-999,  -999.0, -999.00,-999.0000,-999.000,-999.000
     316N151_4,   A22,     7,  1,      8,      8,2,19970817,0845, 12.1720, -65.9933, 4226,22643.7,   2250.2,   4.0860,  34.9756,2,  34.9764,2,    216.1,2,  3.8921,    215.7,2,    28.45,2,    22.19,2,     0.00,2,     1.51,2,    0.019,2,    0.023,2,    0.001,2, -999.000,9,-999.0000,5,  -999.00,9,   -999.0,9,  -999.00,9,-999.000,9,   -999.0,9,   -999.0,9,   -999.0,9,-999.0000,9,-999,  -999.0, -999.00,-999.0000,-999.000,-999.000
     316N151_4,   A22,     7,  1,      7,      7,2,19970817,0845, 12.1720, -65.9933, 4226,25147.1,   2500.4,   4.1079,  34.9757,2,  34.9762,2,    215.9,2,  3.8877,    216.1,2,    28.48,2,    22.15,2,     0.00,2,     1.51,2,    0.031,2,    0.025,2,    0.002,2, -999.000,9,-999.0000,5,  -999.00,9,   -999.0,9,  -999.00,9,-999.000,9,   -999.0,9,   -999.0,9,   -999.0,9,-999.0000,9,-999,  -999.0, -999.00,-999.0000,-999.000,-999.000
     316N151_4,   A22,     7,  1,      6,      6,2,19970817,0845, 12.1720, -65.9933, 4226,27658.3,   2751.4,   4.1240,  34.9765,2,  34.9758,2,    216.0,2,  3.8765,    215.7,2,    28.90,2,    22.19,2,     0.00,2,     1.51,2,    0.013,2,    0.022,2,   -0.001,2, -999.000,9,-999.0000,5,  -999.00,9,   -999.0,9,  -999.00,9,-999.000,9,   -999.0,9,   -999.0,9,   -999.0,9,-999.0000,9,-999,  -999.0, -999.00,-999.0000,-999.000,-999.000
     316N151_4,   A22,     7,  1,      5,      5,2,19970817,0845, 12.1720, -65.9933, 4226,30139.5,   2999.5,   4.1467,  34.9766,2,  34.9755,2,    215.6,2,  3.8713,    216.1,2,    29.03,2,    22.15,2,     0.00,2,     1.51,2,    0.020,2,    0.022,2,    0.000,2, -999.000,9,-999.0000,5,  -999.00,9,   -999.0,9,  -999.00,9,-999.000,9,   -999.0,9,   -999.0,9,   -999.0,9,-999.0000,9,-999,  -999.0, -999.00,-999.0000,-999.000,-999.000
     316N151_4,   A22,     7,  1,      4,      4,2,19970817,0845, 12.1720, -65.9933, 4226,32661.5,   3251.5,   4.1751,  34.9766,2,  34.9768,2,    215.9,2,  3.8703,    216.1,2,    29.06,2,    22.15,2,     0.00,2,     1.51,2,    0.017,2,    0.023,2,   -0.003,2, -999.000,9,-999.0000,5,  -999.00,9,   -999.0,9,  -999.00,9,-999.000,9,   -999.0,9,   -999.0,9,   -999.0,9,-999.0000,9,-999,  -999.0, -999.00,-999.0000,-999.000,-999.000
     316N151_4,   A22,     7,  1,      3,      3,2,19970817,0845, 12.1720, -65.9933, 4226,35143.8,   3499.6,   4.2029,  34.9774,2,  34.9765,2,    216.0,2,  3.8685,    216.4,2,    29.08,2,    22.15,2,     0.00,2,     1.51,2,    0.017,2,    0.030,2,   -0.001,2, -999.000,9,-999.0000,5,  -999.00,9,   -999.0,9,  -999.00,9,-999.000,9,   -999.0,9,   -999.0,9,   -999.0,9,-999.0000,9,-999,  -999.0, -999.00,-999.0000,-999.000,-999.000
     316N151_4,   A22,     7,  1,      2,      2,2,19970817,0845, 12.1720, -65.9933, 4226,37636.5,   3748.8,   4.2319,  34.9774,2,  34.9765,2,    216.3,2,  3.8667,    217.0,2,    29.01,2,    22.11,2,     0.00,2,     1.51,2,    0.023,6,    0.025,6,    0.000,2, -999.000,9,-999.0000,5,  -999.00,9,   -999.0,9,  -999.00,9,-999.000,9,   -999.0,9,   -999.0,9,   -999.0,9,-999.0000,9,-999,  -999.0, -999.00,-999.0000,-999.000,-999.000
     316N151_4,   A22,     7,  1,      1,      1,2,19970817,0845, 12.1720, -65.9933, 4226,40161.0,   4001.1,   4.2633,  34.9769,2,  34.9762,2,    216.5,2,  3.8660,    216.8,2,    28.96,6,    22.11,6,     0.00,6,     1.50,6,    0.029,2,    0.024,2,   -0.002,2, -999.000,9,-999.0000,5,  -999.00,9,   -999.0,9,  -999.00,9,-999.000,9,   -999.0,9,   -999.0,9,   -999.0,9,-999.0000,9,-999,  -999.0, -999.00,-999.0000,-999.000,-999.000