BOTTLE,20220629CCHSIOAMB
EXPOCODE,SECT_ID,STNNBR,CASTNO,SAMPNO,BTLNBR,BTLNBR_FLAG_W,DATE,TIME,LATITUDE,LONGITUDE,DEPTH,CTDRAW,CTDPRS,CTDTMP,CTDSAL,CTDSAL_FLAG_W,SALNTY,SALNTY_FLAG_W,CTDOXY,CTDOXY_FLAG_W,THETA,OXYGEN,OXYGEN_FLAG_W,SILCAT,SILCAT_FLAG_W,NITRAT,NITRAT_FLAG_W,NITRIT,NITRIT_FLAG_W,PHSPHT,PHSPHT_FLAG_W,CFC-11,CFC-11_FLAG_W,CFC-12,CFC-12_FLAG_W,CFC113,CFC113_FLAG_W,TRITUM,TRITUM_FLAG_W,HELIUM,HELIUM_FLAG_W,DELHE3,DELHE3_FLAG_W,DELC14,DELC14_FLAG_W,DELC13,DELC13_FLAG_W,NEON,NEON_FLAG_W,TCARBN,TCARBN_FLAG_W,PCO2,PCO2_FLAG_W,ALKALI,ALKALI_FLAG_W,PH,PH_FLAG_W,PH_TMP,C14ERR,DELHER,HELIER,NEONER,TRITER
,,,,,,,,,,,,,DBAR,ITS-90,PSS-78,,PSS-78,,UMOL/KG,,ITS-90,UMOL/KG,,UMOL/KG,,UMOL/KG,,UMOL/KG,,UMOL/KG,,PMOL/KG,,PMOL/KG,,PMOL/KG,,TU,,NMOL/KG,,PERCNT,,/MILLE,,/MILLE,,NMOL/KG,,UMOL/KG,,UATM,,UMOL/KG,,,,DEG C,/MILLE,PERCNT,NMOL/KG,NMOL/KG,TU
     316N151_4,   A22,     5,  1,     12,     12,2,19970817,0217, 11.7537, -65.9857,  763,  273.0,     13.0,  27.3459,  36.8039,2,  36.8093,2,    206.9,2, 27.3429,    205.9,2,     0.56,2,     0.06,2,     0.00,2,     0.03,2,    1.727,2,    1.033,2,    0.124,2, -999.000,9,-999.0000,5,  -999.00,9,   -999.0,9,  -999.00,9,-999.000,9,   -999.0,9,   -999.0,9,   -999.0,9,-999.0000,9,-999,  -999.0, -999.00,-999.0000,-999.000,-999.000
     316N151_4,   A22,     5,  1,     11,     11,2,19970817,0217, 11.7537, -65.9857,  763,  665.1,     53.0,  20.8270,  36.7882,2,  36.7860,2,    161.5,2, 20.8169,    151.7,2,     2.34,2,     5.77,2,     0.39,2,     0.37,2,    1.938,2,    1.100,2,    0.054,2, -999.000,9,-999.0000,5,  -999.00,9,   -999.0,9,  -999.00,9,-999.000,9,   -999.0,9,   -999.0,9,   -999.0,9,-999.0000,9,-999,  -999.0, -999.00,-999.0000,-999.000,-999.000
     316N151_4,   A22,     5,  1,     10,     10,2,19970817,0217, 11.7537, -65.9857,  763, 1130.3,    100.4,  17.7874,  36.4205,2,  36.3994,2,    137.3,2, 17.7702,    138.2,2,     4.22,2,    11.71,2,     0.04,2,     0.69,2,    1.852,6,    1.020,6,    0.011,2, -999.000,9,-999.0000,5,  -999.00,9,   -999.0,9,  -999.00,9,-999.000,9,   -999.0,9,   -999.0,9,   -999.0,9,-999.0000,9,-999,  -999.0, -999.00,-999.0000,-999.000,-999.000
     316N151_4,   A22,     5,  1,      9,      9,2,19970817,0217, 11.7537, -65.9857,  763, 1628.7,    151.1,  15.9025,  36.0939,2,  36.1034,2,    130.1,2, 15.8785,    133.2,2,     5.62,2,    14.69,2,     0.02,2,     0.88,2,    1.686,2,    0.913,2,    0.008,2, -999.000,9,-999.0000,5,  -999.00,9,   -999.0,9,  -999.00,9,-999.000,9,   -999.0,9,   -999.0,9,   -999.0,9,-999.0000,9,-999,  -999.0, -999.00,-999.0000,-999.000,-999.000
     316N151_4,   A22,     5,  1,      8,      8,2,19970817,0217, 11.7537, -65.9857,  763, 2103.8,    199.1,  12.8452,  35.5680,2,  35.5745,2,    121.8,2, 12.8179,    122.9,2,     9.28,2,    21.04,2,     0.01,2,     1.31,2,    1.187,2,    0.645,2,    0.008,2, -999.000,9,-999.0000,5,  -999.00,9,   -999.0,9,  -999.00,9,-999.000,9,   -999.0,9,   -999.0,9,   -999.0,9,-999.0000,9,-999,  -999.0, -999.00,-999.0000,-999.000,-999.000
     316N151_4,   A22,     5,  1,      7,      7,2,19970817,0217, 11.7537, -65.9857,  763, 2594.3,    248.7,  11.8415,  35.4003,2,  35.4009,2,    116.7,2, 11.8091,    117.8,2,    10.87,2,    23.22,2,     0.01,2,     1.46,2,    1.020,6,    0.547,6, -999.000,9, -999.000,9,-999.0000,5,  -999.00,9,   -999.0,9,  -999.00,9,-999.000,9,   -999.0,9,   -999.0,9,   -999.0,9,-999.0000,9,-999,  -999.0, -999.00,-999.0000,-999.000,-999.000
     316N151_4,   A22,     5,  1,      6,      6,2,19970817,0217, 11.7537, -65.9857,  763, 3091.4,    299.0,  10.8118,  35.2302,2,  35.2270,2,    116.3,2, 10.7751,    117.4,2,    12.57,2,    25.26,2,     0.01,2,     1.61,2,    0.861,2,    0.463,2,    0.007,2, -999.000,9,-999.0000,5,  -999.00,9,   -999.0,9,  -999.00,9,-999.000,9,   -999.0,9,   -999.0,9,   -999.0,9,-999.0000,9,-999,  -999.0, -999.00,-999.0000,-999.000,-999.000
     316N151_4,   A22,     5,  1,      5,      5,2,19970817,0217, 11.7537, -65.9857,  763, 4074.5,    398.2,   9.6365,  35.0620,2,  35.0499,2,    114.9,2,  9.5908,    115.7,2,    15.14,2,    27.83,2,     0.00,2,     1.79,2,    0.604,6,    0.337,6, -999.000,9, -999.000,9,-999.0000,5,  -999.00,9,   -999.0,9,  -999.00,9,-999.000,9,   -999.0,9,   -999.0,9,   -999.0,9,-999.0000,9,-999,  -999.0, -999.00,-999.0000,-999.000,-999.000
     316N151_4,   A22,     5,  1,      4,      4,2,19970817,0217, 11.7537, -65.9857,  763, 5059.3,    497.8,   8.1488,  34.8736,2,  34.8731,2,    118.1,2,  8.0971,    118.6,2,    18.81,2,    30.44,2,     0.00,2,     1.98,2,    0.372,2,    0.185,2,    0.001,2, -999.000,9,-999.0000,5,  -999.00,9,   -999.0,9,  -999.00,9,-999.000,9,   -999.0,9,   -999.0,9,   -999.0,9,-999.0000,9,-999,  -999.0, -999.00,-999.0000,-999.000,-999.000
     316N151_4,   A22,     5,  1,      3,      3,2,19970817,0217, 11.7537, -65.9857,  763, 6064.9,    599.2,   6.8547,  34.7686,2,  34.7665,2,    124.2,2,  6.7978,    125.1,2,    22.76,2,    32.10,2,     0.00,2,     2.11,2,    0.167,2,    0.090,2,    0.000,2, -999.000,9,-999.0000,5,  -999.00,9,   -999.0,9,  -999.00,9,-999.000,9,   -999.0,9,   -999.0,9,   -999.0,9,-999.0000,9,-999,  -999.0, -999.00,-999.0000,-999.000,-999.000
     316N151_4,   A22,     5,  1,      2,      2,2,19970817,0217, 11.7537, -65.9857,  763, 7051.7,    698.8,   6.3741,  34.7677,2,  34.7657,2,    130.8,2,  6.3098,    131.3,2,    24.26,2,    31.94,2,     0.00,2,     2.12,2,    0.104,2,    0.062,2,    0.001,2, -999.000,9,-999.0000,5,  -999.00,9,   -999.0,9,  -999.00,9,-999.000,9,   -999.0,9,   -999.0,9,   -999.0,9,-999.0000,9,-999,  -999.0, -999.00,-999.0000,-999.000,-999.000
     316N151_4,   A22,     5,  1,      1,      1,2,19970817,0217, 11.7537, -65.9857,  763, 7548.9,    749.0,   6.2135,  34.7740,2,  34.7716,2,    135.0,2,  6.1452,    135.1,2,    24.68,6,    31.73,6,     0.00,6,     2.11,6,    0.092,6,    0.052,6, -999.000,9, -999.000,9,-999.0000,5,  -999.00,9,   -999.0,9,  -999.00,9,-999.000,9,   -999.0,9,   -999.0,9,   -999.0,9,-999.0000,9,-999,  -999.0, -999.00,-999.0000,-999.000,-999.000
     316N151_4,   A22,     6,  1,     28,     28,2,19970817,0514, 12.0910, -65.9972, 1267,  275.5,     11.8,  27.1803,  36.8530,2,  36.8552,2,    203.7,2, 27.1776,    207.0,2,     0.65,2,     0.04,2,     0.00,2,     0.03,2,    1.750,2,    1.046,2,    0.116,2,    0.932,2,   1.7050,2,    -2.09,2,   -999.0,9,  -999.00,9,   6.597,2,   2072.5,2,    317.0,2,   2412.8,2,   8.0640,2,25,  -999.0,    0.15,  0.0085,   0.033,   0.014
     316N151_4,   A22,     6,  1,     27,     27,2,19970817,0514, 12.0910, -65.9972, 1267,  671.1,     52.1,  21.5033,  36.8405,2,  36.8445,2,    165.3,2, 21.4931,    149.4,2,     2.15,2,     4.44,2,     0.78,2,     0.31,2,    1.946,2,    1.108,2,    0.053,2,    1.008,2,   1.7489,2,    -0.87,2,   -999.0,9,  -999.00,9,   6.902,2,   2134.0,2,    433.0,2,   2407.6,6,   7.9540,2,25,  -999.0,    0.15,  0.0087,   0.035,   0.014
     316N151_4,   A22,     6,  1,     26,     26,2,19970817,0514, 12.0910, -65.9972, 1267, 1159.8,    101.7,  17.7966,  36.4313,2,  36.4196,2,    137.3,2, 17.7792,    135.8,2,     4.13,2,    11.53,2,     0.04,2,     0.67,2,    1.884,2,    1.031,2,    0.016,2,    1.059,2,   1.7737,2,     0.92,2,   -999.0,9,  -999.00,9,   7.129,2,   2155.9,3,    534.0,2,   2375.7,2,   7.8560,2,25,  -999.0,    0.15,  0.0089,   0.036,   0.014
     316N151_4,   A22,     6,  1,     25,     25,2,19970817,0514, 12.0910, -65.9972, 1267, 1645.4,    150.7,  15.5213,  36.0205,2,  35.9793,2,    129.8,2, 15.4978,    130.0,2,     6.30,2,    16.02,2,     0.02,2,     0.97,2,    1.610,6,    0.864,6, -999.000,9,    0.907,2,   1.7666,2,     1.88,2,   -999.0,9,  -999.00,9,   7.179,2,   2165.6,2,    627.0,2,   2359.8,2,   7.8100,2,25,  -999.0,    0.15,  0.0088,   0.036,   0.014
     316N151_4,   A22,     6,  1,     24,     24,2,19970817,0514, 12.0910, -65.9972, 1267, 2137.4,    200.1,  13.4653,  35.6677,2,  35.6599,2,    123.3,2, 13.4369,    123.5,2,     8.59,2,    19.88,2,     0.01,2,     1.23,2,    1.275,2,    0.696,2,    0.012,2, -999.000,9,-999.0000,5,  -999.00,9,   -999.0,9,  -999.00,9,-999.000,9,   2179.0,2,    719.0,2,   2343.2,2,   7.7600,2,25,  -999.0, -999.00,-999.0000,-999.000,-999.000
     316N151_4,   A22,     6,  1,     23,     23,2,19970817,0514, 12.0910, -65.9972, 1267, 2658.3,    252.5,  11.9235,  35.4129,2,  35.4072,2,    118.4,2, 11.8905,    118.2,2,    10.77,2,    23.10,2,     0.01,2,     1.45,2,    1.027,6,    0.549,6,    0.007,2,    0.679,2,   1.8110,2,     2.48,2,   -999.0,9,  -999.00,9,   7.407,2,   2186.6,2,    811.0,2,   2331.3,2,   7.7100,2,25,  -999.0,    0.15,  0.0091,   0.037,   0.013
     316N151_4,   A22,     6,  1,     22,     22,2,19970817,0514, 12.0910, -65.9972, 1267, 3092.5,    296.2,  10.9752,  35.2562,2,  35.2510,2,    116.9,2, 10.9385,    117.0,2,    12.46,2,    24.98,2,     0.01,2,     1.59,2,    0.862,2,    0.473,2,    0.005,2,    0.559,2,   1.8216,2,     2.51,2,   -999.0,9,  -999.00,9,   7.420,2,   2191.7,2,    875.0,2,   2324.2,2,   7.6830,2,25,  -999.0,    0.15,  0.0091,   0.037,   0.013
     316N151_4,   A22,     6,  1,     21,     21,2,19970817,0514, 12.0910, -65.9972, 1267, 4142.7,    401.7,   9.2302,  35.0051,2,  35.0014,2,    115.4,2,  9.1854,    116.4,2,    15.91,2,    28.45,2,     0.01,2,     1.83,2,    0.564,2,    0.302,2,    0.003,2,    0.356,2,   1.8223,2,     1.51,2,   -999.0,9,  -999.00,9,   7.498,2,   2203.0,2,    983.0,2,   2315.9,2,   7.6330,2,25,  -999.0,    0.15,  0.0091,   0.037,   0.012
     316N151_4,   A22,     6,  1,     20,     20,2,19970817,0514, 12.0910, -65.9972, 1267, 5126.2,    500.3,   7.9317,  34.8503,2,  34.8505,2,    118.0,2,  7.8804,    118.8,2,    19.38,2,    30.77,2,     0.00,2,     2.00,2,    0.328,6,    0.182,6,    0.000,2,    0.201,2,   1.8043,2,     1.08,2,   -999.0,9,  -999.00,9,   7.489,2,   2208.9,2,   1047.0,2,   2310.3,2,   7.6080,2,25,  -999.0,    0.15,  0.0090,   0.037,   0.011
     316N151_4,   A22,     6,  1,     19,     19,2,19970817,0514, 12.0910, -65.9972, 1267, 6111.1,    599.1,   7.2339,  34.7919,2,  34.7887,2,    121.9,2,  7.1753,    122.3,2,    21.46,2,    31.68,2,     0.00,2,     2.08,2,    0.224,2,    0.124,2,    0.000,2, -999.000,9,-999.0000,5,  -999.00,9,   -999.0,9,  -999.00,9,-999.000,9,   2212.2,2,   1081.0,2,   2310.0,2,   7.5900,2,25,  -999.0, -999.00,-999.0000,-999.000,-999.000
     316N151_4,   A22,     6,  1,     18,     18,9,19970817,0514, 12.0910, -65.9972, 1267, 7123.7,    700.8,   6.2872,  34.7718,2,-999.0000,9,    131.6,2,  6.2231,   -999.0,9,  -999.00,9,  -999.00,9,  -999.00,9,  -999.00,9, -999.000,9, -999.000,9, -999.000,9, -999.000,9,-999.0000,5,  -999.00,9,   -999.0,9,  -999.00,9,-999.000,9,   -999.0,9,   -999.0,9,   -999.0,9,-999.0000,9,-999,  -999.0, -999.00,-999.0000,-999.000,-999.000
     316N151_4,   A22,     6,  1,     17,     17,2,19970817,0514, 12.0910, -65.9972, 1267, 8120.8,    800.9,   5.7822,  34.8245,2,  34.8218,2,    148.0,2,  5.7115,    148.3,2,    25.43,2,    29.95,2,     0.00,2,     2.00,2,    0.060,6,    0.038,6,   -0.001,2,    0.078,2,   1.7978,2,    -0.10,2,   -999.0,9,  -999.00,9,   7.512,2,   2213.8,2,   1024.0,2,   2317.7,2,   7.6160,2,25,  -999.0,    0.15,  0.0090,   0.038,   0.011
     316N151_4,   A22,     6,  1,     16,     16,2,19970817,0514, 12.0910, -65.9972, 1267, 9110.5,    900.4,   5.4460,  34.8762,2,  34.8717,2,    161.5,2,  5.3680,    163.4,2,    25.44,2,    28.18,2,     0.00,2,     1.90,2,    0.044,2,    0.033,2,    0.002,2,    0.075,2,   1.8287,2,    -0.90,2,   -999.0,9,  -999.00,9,   7.639,2,   2210.5,2,    940.0,2,   2322.3,2,   7.6400,2,25,  -999.0,    0.15,  0.0091,   0.038,   0.014
     316N151_4,   A22,     6,  1,     15,     15,2,19970817,0514, 12.0910, -65.9972, 1267,10107.0,   1000.6,   5.0676,  34.9196,2,  34.9158,2,    175.6,2,  4.9830,    179.4,2,    25.45,2,    26.18,2,     0.00,2,     1.77,2,    0.035,2,    0.026,2,    0.000,2,    0.070,2,   1.8256,2,    -0.03,2,   -999.0,9,  -999.00,9,   7.615,2,   2204.4,2,    900.0,2,   2328.2,2,   7.6590,2,25,  -999.0,    0.15,  0.0091,   0.038,   0.011
     316N151_4,   A22,     6,  1,     14,     14,2,19970817,0514, 12.0910, -65.9972, 1267,11113.2,   1101.9,   4.7473,  34.9446,2,  34.9426,2,    189.5,2,  4.6560,    192.9,2,    25.56,2,    24.80,2,     0.00,2,     1.69,2,    0.033,2,    0.024,2,    0.000,2,    0.061,2,   1.8339,2,    -0.96,2,   -999.0,9,  -999.00,9,   7.639,2,   2198.7,2,    866.0,2,   2331.1,6,   7.6820,2,25,  -999.0,    0.15,  0.0092,   0.038,   0.011
     316N151_4,   A22,     6,  1,     13,     13,2,19970817,0514, 12.0910, -65.9972, 1267,12878.9,   1279.4,   4.5002,  34.9596,2,  34.9551,2,    197.6,2,  4.3949,    201.8,2,    25.97,6,    23.77,6,     0.00,6,     1.62,6,    0.034,6,    0.025,6,   -0.002,2,    0.056,2,   1.8420,2,    -0.53,2,   -999.0,9,  -999.00,9,   7.699,2,   2198.5,2,    832.0,2,   2333.5,2,   7.6980,2,25,  -999.0,    0.15,  0.0092,   0.038,   0.011