BOTTLE,20220629CCHSIOAMB
EXPOCODE,SECT_ID,STNNBR,CASTNO,SAMPNO,BTLNBR,BTLNBR_FLAG_W,DATE,TIME,LATITUDE,LONGITUDE,DEPTH,CTDRAW,CTDPRS,CTDTMP,CTDSAL,CTDSAL_FLAG_W,SALNTY,SALNTY_FLAG_W,CTDOXY,CTDOXY_FLAG_W,THETA,OXYGEN,OXYGEN_FLAG_W,SILCAT,SILCAT_FLAG_W,NITRAT,NITRAT_FLAG_W,NITRIT,NITRIT_FLAG_W,PHSPHT,PHSPHT_FLAG_W,CFC-11,CFC-11_FLAG_W,CFC-12,CFC-12_FLAG_W,CFC113,CFC113_FLAG_W,TRITUM,TRITUM_FLAG_W,HELIUM,HELIUM_FLAG_W,DELHE3,DELHE3_FLAG_W,DELC14,DELC14_FLAG_W,DELC13,DELC13_FLAG_W,NEON,NEON_FLAG_W,TCARBN,TCARBN_FLAG_W,PCO2,PCO2_FLAG_W,ALKALI,ALKALI_FLAG_W,PH,PH_FLAG_W,PH_TMP,C14ERR,DELHER,HELIER,NEONER,TRITER
,,,,,,,,,,,,,DBAR,ITS-90,PSS-78,,PSS-78,,UMOL/KG,,ITS-90,UMOL/KG,,UMOL/KG,,UMOL/KG,,UMOL/KG,,UMOL/KG,,PMOL/KG,,PMOL/KG,,PMOL/KG,,TU,,NMOL/KG,,PERCNT,,/MILLE,,/MILLE,,NMOL/KG,,UMOL/KG,,UATM,,UMOL/KG,,,,DEG C,/MILLE,PERCNT,NMOL/KG,NMOL/KG,TU
     316N151_4,   A22,    52,  1,     33,     33,2,19970827,1746, 30.2237, -66.0042, 5005,  223.8,      7.3,  28.5229,  36.9886,2,  36.9922,2,    206.6,2, 28.5212,    210.5,2,     0.55,2,     0.06,2,     0.00,2,     0.01,2,    1.652,2,    0.988,2,    0.119,2, -999.000,9,-999.0000,5,  -999.00,9,   -999.0,9,  -999.00,9,-999.000,9,   -999.0,9,    283.0,2,   2415.6,2,   8.1010,2,25,  -999.0, -999.00,-999.0000,-999.000,-999.000
     316N151_4,   A22,    52,  1,     32,     32,2,19970827,1746, 30.2237, -66.0042, 5005,  350.8,     20.3,  28.3945,  36.9809,2,  36.9860,2,    212.2,2, 28.3896,    210.6,2,     0.47,2,     0.02,2,     0.00,2,     0.01,2, -999.000,9, -999.000,9, -999.000,9, -999.000,9,-999.0000,5,  -999.00,9,   -999.0,9,  -999.00,9,-999.000,9,   2053.2,2,   -999.0,9,   2416.3,2,   8.1000,2,25,  -999.0, -999.00,-999.0000,-999.000,-999.000
     316N151_4,   A22,    52,  1,     31,     31,2,19970827,1746, 30.2237, -66.0042, 5005,  551.6,     40.6,  24.5499,  36.9344,2,  36.9465,2,    236.7,2, 24.5411,    240.0,2,     0.48,2,     0.06,2,     0.00,2,     0.02,2,    2.128,6,    1.217,6,    0.166,2, -999.000,9,-999.0000,5,  -999.00,9,   -999.0,9,  -999.00,9,-999.000,9,   2061.2,2,   -999.0,9,   -999.0,9,-999.0000,9,-999,  -999.0, -999.00,-999.0000,-999.000,-999.000
     316N151_4,   A22,    52,  1,     30,     30,2,19970827,1746, 30.2237, -66.0042, 5005,  642.2,     49.7,  23.3996,  36.9563,2,  36.9453,2,    238.6,2, 23.3892,    241.5,2,     0.49,2,     0.01,2,     0.00,2,     0.01,2,    2.161,6,    1.242,6,    0.152,2, -999.000,9,-999.0000,5,  -999.00,9,   -999.0,9,  -999.00,9,-999.000,9,   2058.4,2,   -999.0,9,   2412.4,2,   8.0840,2,25,  -999.0, -999.00,-999.0000,-999.000,-999.000
     316N151_4,   A22,    52,  1,     29,     29,2,19970827,1746, 30.2237, -66.0042, 5005, 1165.4,    101.8,  20.7001,  36.8520,2,  36.8518,2,    210.9,2, 20.6806,    222.0,2,     0.41,2,     0.06,2,     0.00,2,     0.02,2,    2.258,2,    1.286,2,    0.145,2, -999.000,9,-999.0000,5,  -999.00,9,   -999.0,9,  -999.00,9,-999.000,9,   2075.6,2,   -999.0,9,   2407.5,2,   8.0510,2,25,  -999.0, -999.00,-999.0000,-999.000,-999.000
     316N151_4,   A22,    52,  1,     28,     28,2,19970827,1746, 30.2237, -66.0042, 5005, 1665.0,    151.4,  19.5065,  36.7325,2,  36.7348,2,    189.5,2, 19.4787,    201.4,2,     0.51,2,     0.66,2,     0.05,2,     0.03,2,    2.316,2,    1.308,2,    0.099,2, -999.000,9,-999.0000,5,  -999.00,9,   -999.0,9,  -999.00,9,-999.000,9,   2096.4,2,   -999.0,9,   2401.3,2,   8.0160,2,25,  -999.0, -999.00,-999.0000,-999.000,-999.000
     316N151_4,   A22,    52,  1,     27,     27,2,19970827,1746, 30.2237, -66.0042, 5005, 2163.1,    200.8,  18.6455,  36.6097,2,  36.6144,2,    194.8,2, 18.6097,    205.1,2,     0.69,2,     2.51,2,     0.01,2,     0.11,2,    2.383,2,    1.338,2,    0.064,2, -999.000,9,-999.0000,5,  -999.00,9,   -999.0,9,  -999.00,9,-999.000,9,   2094.7,2,   -999.0,9,   2392.0,2,   8.0030,2,25,  -999.0, -999.00,-999.0000,-999.000,-999.000
     316N151_4,   A22,    52,  1,     26,     26,2,19970827,1746, 30.2237, -66.0042, 5005, 2660.4,    250.3,  18.2734,  36.5567,2,  36.5593,2,    198.4,2, 18.2295,    203.0,2,     0.98,2,     3.49,2,     0.00,2,     0.17,2,    2.333,2,    1.301,2,    0.032,2, -999.000,9,-999.0000,5,  -999.00,9,   -999.0,9,  -999.00,9,-999.000,9,   -999.0,9,   -999.0,9,   2388.6,2,   7.9980,2,25,  -999.0, -999.00,-999.0000,-999.000,-999.000
     316N151_4,   A22,    52,  1,     25,     25,2,19970827,1746, 30.2237, -66.0042, 5005, 3166.9,    300.8,  18.0119,  36.5219,2,  36.5252,2,    201.9,2, 17.9596,    203.8,2,     1.08,2,     3.99,2,     0.00,2,     0.20,2,    2.356,2,    1.304,2,    0.042,2, -999.000,9,-999.0000,5,  -999.00,9,   -999.0,9,  -999.00,9,-999.000,9,   2097.1,2,   -999.0,9,   2386.6,2,   7.9930,2,25,  -999.0, -999.00,-999.0000,-999.000,-999.000
     316N151_4,   A22,    52,  1,     24,     24,2,19970827,1746, 30.2237, -66.0042, 5005, 4135.6,    397.6,  17.3606,  36.4118,2,  36.4157,2,    195.2,2, 17.2930,    194.8,2,     1.73,2,     5.91,2,     0.00,2,     0.32,2,    2.227,2,    1.221,2,    0.031,2, -999.000,9,-999.0000,5,  -999.00,9,   -999.0,9,  -999.00,9,-999.000,9,   2107.8,2,   -999.0,9,   2381.8,2,   7.9680,2,25,  -999.0, -999.00,-999.0000,-999.000,-999.000
     316N151_4,   A22,    52,  1,     23,     23,2,19970827,1746, 30.2237, -66.0042, 5005, 5142.7,    498.6,  15.8988,  36.1586,2,  36.1613,2,    190.5,2, 15.8188,    191.7,2,     2.83,2,     8.87,2,     0.00,2,     0.51,2,    2.107,2,    1.139,2,    0.028,2, -999.000,9,-999.0000,5,  -999.00,9,   -999.0,9,  -999.00,9,-999.000,9,   2122.0,2,   -999.0,9,   2368.0,2,   7.9190,2,25,  -999.0, -999.00,-999.0000,-999.000,-999.000
     316N151_4,   A22,    52,  1,     22,     22,2,19970827,1746, 30.2237, -66.0042, 5005, 6131.9,    597.9,  14.2873,  35.8960,2,  35.8978,2,    181.4,2, 14.1979,    180.0,2,     4.49,2,    12.23,2,     0.00,2,     0.72,2,    1.947,2,    1.034,2,    0.029,2, -999.000,9,-999.0000,5,  -999.00,9,   -999.0,9,  -999.00,9,-999.000,9,   2136.5,2,   -999.0,9,   2353.9,2,   7.8720,2,25,  -999.0, -999.00,-999.0000,-999.000,-999.000
     316N151_4,   A22,    52,  1,     21,     21,4,19970827,1746, 30.2237, -66.0042, 5005, 7148.2,    699.9,  12.3255,  35.6080,2,  35.2415,4,    167.7,2, 12.2303,    202.8,4,    17.11,3,    18.74,3,     0.00,3,     1.19,3,    0.772,2,    0.417,2,    0.021,2, -999.000,9,-999.0000,5,  -999.00,9,   -999.0,9,  -999.00,9,-999.000,9,   2168.5,3,   -999.0,9,   2332.2,3,   7.7610,3,25,  -999.0, -999.00,-999.0000,-999.000,-999.000
     316N151_4,   A22,    52,  1,     20,     20,2,19970827,1746, 30.2237, -66.0042, 5005, 8139.8,    799.3,  10.3181,  35.3647,2,  35.3643,2,    157.4,2, 10.2203,    156.2,2,    10.74,2,    20.97,2,     0.00,2,     1.29,2,    0.901,2,    0.477,2,    0.024,2, -999.000,9,-999.0000,5,  -999.00,9,   -999.0,9,  -999.00,9,-999.000,9,   2174.2,2,   -999.0,9,   2328.9,2,   7.7320,2,25,  -999.0, -999.00,-999.0000,-999.000,-999.000
     316N151_4,   A22,    52,  1,     19,     19,2,19970827,1746, 30.2237, -66.0042, 5005, 9161.3,    901.7,   8.4483,  35.1876,2,  35.1893,2,    159.0,2,  8.3497,    159.3,2,    13.77,2,    23.26,2,     0.00,2,     1.47,2,    0.592,2,    0.312,2,    0.010,2, -999.000,9,-999.0000,5,  -999.00,9,   -999.0,9,  -999.00,9,-999.000,9,   2185.3,2,   -999.0,9,   2323.9,2,   7.7010,2,25,  -999.0, -999.00,-999.0000,-999.000,-999.000
     316N151_4,   A22,    52,  1,     18,     18,2,19970827,1746, 30.2237, -66.0042, 5005,10154.4,   1001.1,   7.1209,  35.1429,2,  35.1427,2,    176.8,2,  7.0206,    181.9,2,    14.08,2,    22.24,2,     0.00,2,     1.42,2,    0.634,2,    0.318,2,    0.019,2, -999.000,9,-999.0000,5,  -999.00,9,   -999.0,9,  -999.00,9,-999.000,9,   2184.3,2,   -999.0,9,   2325.1,2,   7.7080,2,25,  -999.0, -999.00,-999.0000,-999.000,-999.000
     316N151_4,   A22,    52,  1,     17,     17,2,19970827,1746, 30.2237, -66.0042, 5005,11140.2,   1099.8,   6.2577,  35.1238,2,  35.1274,2,    198.8,2,  6.1538,    204.2,2,    13.73,2,    21.05,2,     0.00,2,     1.35,2,    0.637,2,    0.326,2,    0.021,2, -999.000,9,-999.0000,5,  -999.00,9,   -999.0,9,  -999.00,9,-999.000,9,   2179.5,2,   -999.0,9,   2323.4,2,   7.7150,2,25,  -999.0, -999.00,-999.0000,-999.000,-999.000
     316N151_4,   A22,    52,  1,     16,     16,2,19970827,1746, 30.2237, -66.0042, 5005,13157.8,   1301.6,   5.3483,  35.1073,2,  35.1091,2,    228.1,2,  5.2324,    229.6,2,    12.93,2,    19.36,2,     0.00,2,     1.25,2,    0.751,2,    0.380,2,    0.022,2, -999.000,9,-999.0000,5,  -999.00,9,   -999.0,9,  -999.00,9,-999.000,9,   -999.0,9,   -999.0,9,   -999.0,9,-999.0000,9,-999,  -999.0, -999.00,-999.0000,-999.000,-999.000
     316N151_4,   A22,    52,  1,     15,     15,2,19970827,1746, 30.2237, -66.0042, 5005,15152.5,   1500.9,   4.5962,  35.0432,2,  35.0466,2,    249.2,2,  4.4690,    247.3,2,    12.66,2,    18.58,2,     0.00,2,     1.20,2,    0.862,2,    0.435,2,    0.033,2, -999.000,9,-999.0000,5,  -999.00,9,   -999.0,9,  -999.00,9,-999.000,9,   -999.0,9,   -999.0,9,   -999.0,9,-999.0000,9,-999,  -999.0, -999.00,-999.0000,-999.000,-999.000
     316N151_4,   A22,    52,  1,     14,     14,2,19970827,1746, 30.2237, -66.0042, 5005,17671.8,   1752.9,   4.1678,  35.0249,2,  35.0281,2,    253.2,2,  4.0217,    253.1,2,    14.25,2,    18.50,2,     0.00,2,     1.20,2,    0.497,2,    0.259,2,    0.018,2, -999.000,9,-999.0000,5,  -999.00,9,   -999.0,9,  -999.00,9,-999.000,9,   -999.0,9,   -999.0,9,   -999.0,9,-999.0000,9,-999,  -999.0, -999.00,-999.0000,-999.000,-999.000
     316N151_4,   A22,    52,  1,     13,     13,2,19970827,1746, 30.2237, -66.0042, 5005,20139.1,   1999.2,   3.7757,  34.9961,2,  34.9995,2,    257.0,2,  3.6115,    257.5,2,    15.75,2,    18.41,2,     0.00,2,     1.21,2,    0.369,2,    0.194,2,    0.013,2, -999.000,9,-999.0000,5,  -999.00,9,   -999.0,9,  -999.00,9,-999.000,9,   -999.0,9,   -999.0,9,   -999.0,9,-999.0000,9,-999,  -999.0, -999.00,-999.0000,-999.000,-999.000
     316N151_4,   A22,    52,  1,     12,     12,2,19970827,1746, 30.2237, -66.0042, 5005,22645.4,   2249.9,   3.5015,  34.9860,2,  34.9899,2,    256.2,2,  3.3171,    256.6,2,    18.90,2,    18.75,2,     0.00,2,     1.23,2,    0.138,6,    0.081,6,    0.000,2, -999.000,9,-999.0000,5,  -999.00,9,   -999.0,9,  -999.00,9,-999.000,9,   -999.0,9,   -999.0,9,   -999.0,9,-999.0000,9,-999,  -999.0, -999.00,-999.0000,-999.000,-999.000
     316N151_4,   A22,    52,  1,     11,     11,2,19970827,1746, 30.2237, -66.0042, 5005,25131.8,   2498.3,   3.2192,  34.9645,2,  34.9700,2,    258.8,2,  3.0154,    259.2,2,    20.49,2,    18.74,2,     0.00,2,     1.24,2,    0.127,2,    0.074,2,    0.003,2, -999.000,9,-999.0000,5,  -999.00,9,   -999.0,9,  -999.00,9,-999.000,9,   -999.0,9,   -999.0,9,   -999.0,9,-999.0000,9,-999,  -999.0, -999.00,-999.0000,-999.000,-999.000
     316N151_4,   A22,    52,  1,     10,     10,2,19970827,1746, 30.2237, -66.0042, 5005,27634.8,   2748.7,   2.9680,  34.9459,2,  34.9491,2,    261.7,2,  2.7437,    261.9,2,    21.63,2,    18.57,2,     0.00,2,     1.23,2,    0.163,2,    0.091,2,    0.002,2, -999.000,9,-999.0000,5,  -999.00,9,   -999.0,9,  -999.00,9,-999.000,9,   -999.0,9,   -999.0,9,   -999.0,9,-999.0000,9,-999,  -999.0, -999.00,-999.0000,-999.000,-999.000
     316N151_4,   A22,    52,  1,      9,      9,2,19970827,1746, 30.2237, -66.0042, 5005,30147.9,   2999.9,   2.7535,  34.9333,2,  34.9358,2,    262.7,2,  2.5081,    262.9,2,    23.79,2,    18.66,2,     0.00,2,     1.24,2,    0.150,2,    0.089,2,    0.006,2, -999.000,9,-999.0000,5,  -999.00,9,   -999.0,9,  -999.00,9,-999.000,9,   -999.0,9,   -999.0,9,   -999.0,9,-999.0000,9,-999,  -999.0, -999.00,-999.0000,-999.000,-999.000
     316N151_4,   A22,    52,  1,      8,      8,2,19970827,1746, 30.2237, -66.0042, 5005,32689.9,   3253.9,   2.5710,  34.9208,2,  34.9233,2,    266.3,2,  2.3031,    266.9,2,    23.63,2,    18.24,2,     0.00,2,     1.22,2,    0.219,2,    0.121,2,    0.010,2, -999.000,9,-999.0000,5,  -999.00,9,   -999.0,9,  -999.00,9,-999.000,9,   -999.0,9,   -999.0,9,   -999.0,9,-999.0000,9,-999,  -999.0, -999.00,-999.0000,-999.000,-999.000
     316N151_4,   A22,    52,  1,      7,      7,2,19970827,1746, 30.2237, -66.0042, 5005,35435.3,   3528.3,   2.4082,  34.9103,2,  34.9115,2,    267.5,2,  2.1151,    267.4,2,    25.42,2,    18.28,2,     0.00,2,     1.22,2,    0.257,2,    0.144,2,    0.010,2, -999.000,9,-999.0000,5,  -999.00,9,   -999.0,9,  -999.00,9,-999.000,9,   -999.0,9,   -999.0,9,   -999.0,9,-999.0000,9,-999,  -999.0, -999.00,-999.0000,-999.000,-999.000
     316N151_4,   A22,    52,  1,      6,      6,2,19970827,1746, 30.2237, -66.0042, 5005,37679.6,   3752.6,   2.3333,  34.9039,2,  34.9037,2,    267.1,2,  2.0175,    267.3,2,    27.39,2,    18.48,2,     0.00,2,     1.24,2,    0.270,2,    0.150,2,    0.010,2, -999.000,9,-999.0000,5,  -999.00,9,   -999.0,9,  -999.00,9,-999.000,9,   -999.0,9,   -999.0,9,   -999.0,9,-999.0000,9,-999,  -999.0, -999.00,-999.0000,-999.000,-999.000
     316N151_4,   A22,    52,  1,      5,      5,2,19970827,1746, 30.2237, -66.0042, 5005,40119.9,   3996.6,   2.2826,  34.8975,2,  34.8985,2,    265.8,2,  1.9407,    265.7,2,    29.74,2,    18.77,2,     0.00,2,     1.26,2,    0.296,2,    0.163,2,    0.013,2, -999.000,9,-999.0000,5,  -999.00,9,   -999.0,9,  -999.00,9,-999.000,9,   -999.0,9,   -999.0,9,   -999.0,9,-999.0000,9,-999,  -999.0, -999.00,-999.0000,-999.000,-999.000
     316N151_4,   A22,    52,  1,      4,      4,2,19970827,1746, 30.2237, -66.0042, 5005,42642.0,   4248.7,   2.2501,  34.8922,2,  34.8908,2,    263.8,2,  1.8802,    264.0,2,    32.38,2,    19.18,2,     0.00,2,     1.29,2,    0.293,2,    0.160,2,    0.016,2, -999.000,9,-999.0000,5,  -999.00,9,   -999.0,9,  -999.00,9,-999.000,9,   -999.0,9,   -999.0,9,   -999.0,9,-999.0000,9,-999,  -999.0, -999.00,-999.0000,-999.000,-999.000
     316N151_4,   A22,    52,  1,      3,      3,2,19970827,1746, 30.2237, -66.0042, 5005,45168.6,   4501.2,   2.2353,  34.8863,2,  34.8852,2,    261.5,2,  1.8361,    261.7,2,    35.20,2,    19.58,2,     0.00,2,     1.31,2,    0.273,2,    0.152,2,    0.018,2, -999.000,9,-999.0000,5,  -999.00,9,   -999.0,9,  -999.00,9,-999.000,9,   -999.0,9,   -999.0,9,   -999.0,9,-999.0000,9,-999,  -999.0, -999.00,-999.0000,-999.000,-999.000
     316N151_4,   A22,    52,  1,      2,      2,2,19970827,1746, 30.2237, -66.0042, 5005,47675.4,   4751.9,   2.2413,  34.8840,2,  34.8846,2,    260.4,2,  1.8115,    260.5,2,    36.91,2,    19.86,2,     0.00,2,     1.33,2,    0.240,2,    0.129,2,    0.020,2, -999.000,9,-999.0000,5,  -999.00,9,   -999.0,9,  -999.00,9,-999.000,9,   -999.0,9,   -999.0,9,   -999.0,9,-999.0000,9,-999,  -999.0, -999.00,-999.0000,-999.000,-999.000
     316N151_4,   A22,    52,  1,      1,      1,2,19970827,1746, 30.2237, -66.0042, 5005,50801.9,   5064.2,   2.2192,  34.8764,2,  34.8761,2,    256.0,2,  1.7512,    257.0,2,    41.26,6,    20.51,6,     0.00,6,     1.38,6,    0.146,6,    0.090,6,    0.016,2, -999.000,9,-999.0000,5,  -999.00,9,   -999.0,9,  -999.00,9,-999.000,9,   -999.0,9,   -999.0,9,   -999.0,9,-999.0000,9,-999,  -999.0, -999.00,-999.0000,-999.000,-999.000