BOTTLE,20220629CCHSIOAMB
EXPOCODE,SECT_ID,STNNBR,CASTNO,SAMPNO,BTLNBR,BTLNBR_FLAG_W,DATE,TIME,LATITUDE,LONGITUDE,DEPTH,CTDRAW,CTDPRS,CTDTMP,CTDSAL,CTDSAL_FLAG_W,SALNTY,SALNTY_FLAG_W,CTDOXY,CTDOXY_FLAG_W,THETA,OXYGEN,OXYGEN_FLAG_W,SILCAT,SILCAT_FLAG_W,NITRAT,NITRAT_FLAG_W,NITRIT,NITRIT_FLAG_W,PHSPHT,PHSPHT_FLAG_W,CFC-11,CFC-11_FLAG_W,CFC-12,CFC-12_FLAG_W,CFC113,CFC113_FLAG_W,TRITUM,TRITUM_FLAG_W,HELIUM,HELIUM_FLAG_W,DELHE3,DELHE3_FLAG_W,DELC14,DELC14_FLAG_W,DELC13,DELC13_FLAG_W,NEON,NEON_FLAG_W,TCARBN,TCARBN_FLAG_W,PCO2,PCO2_FLAG_W,ALKALI,ALKALI_FLAG_W,PH,PH_FLAG_W,PH_TMP,C14ERR,DELHER,HELIER,NEONER,TRITER
,,,,,,,,,,,,,DBAR,ITS-90,PSS-78,,PSS-78,,UMOL/KG,,ITS-90,UMOL/KG,,UMOL/KG,,UMOL/KG,,UMOL/KG,,UMOL/KG,,PMOL/KG,,PMOL/KG,,PMOL/KG,,TU,,NMOL/KG,,PERCNT,,/MILLE,,/MILLE,,NMOL/KG,,UMOL/KG,,UATM,,UMOL/KG,,,,DEG C,/MILLE,PERCNT,NMOL/KG,NMOL/KG,TU
     316N151_4,   A22,    55,  1,     31,     31,2,19970828,1327, 32.2245, -65.9970, 4841,  184.3,      3.6,  27.5768,  36.4322,2,  36.4359,2,    206.0,2, 27.5760,    206.9,2,     0.53,2,     0.00,2,     0.00,2,     0.01,2,    1.715,2,    1.035,2,    0.137,2, -999.000,9,-999.0000,5,  -999.00,9,   -999.0,9,  -999.00,9,-999.000,9,   2024.5,2,    285.0,2,   2375.5,2,   8.0910,2,25,  -999.0, -999.00,-999.0000,-999.000,-999.000
     316N151_4,   A22,    55,  1,     30,     30,2,19970828,1327, 32.2245, -65.9970, 4841,  629.5,     48.6,  23.4836,  36.5565,2,  36.5571,2,    242.4,2, 23.4735,    234.7,2,     0.43,2,     0.00,2,     0.00,2,     0.01,2,    2.219,2,    1.280,2,    0.170,2, -999.000,9,-999.0000,5,  -999.00,9,   -999.0,9,  -999.00,9,-999.000,9,   2041.0,2,    297.0,2,   2388.7,6,   8.0820,6,25,  -999.0, -999.00,-999.0000,-999.000,-999.000
     316N151_4,   A22,    55,  1,     29,     29,2,19970828,1327, 32.2245, -65.9970, 4841, 1142.3,     99.7,  19.4391,  36.6725,2,  36.6895,2,    206.2,2, 19.4209,    213.0,2,     0.62,2,     0.32,2,     0.09,2,     0.02,2,    2.336,2,    1.334,2,    0.132,2, -999.000,9,-999.0000,5,  -999.00,9,   -999.0,9,  -999.00,9,-999.000,9,   2080.0,2,    341.0,2,   2397.6,2,   8.0330,2,25,  -999.0, -999.00,-999.0000,-999.000,-999.000
     316N151_4,   A22,    55,  1,     28,     28,2,19970828,1327, 32.2245, -65.9970, 4841, 1653.1,    150.3,  18.5577,  36.5957,2,  36.5998,2,    195.4,2, 18.5312,    202.7,2,     1.01,2,     2.64,2,     0.02,2,     0.12,2,    2.390,6,    1.343,6, -999.000,9, -999.000,9,-999.0000,5,  -999.00,9,   -999.0,9,  -999.00,9,-999.000,9,   2090.3,2,   -999.0,9,   2392.2,2,   8.0080,2,25,  -999.0, -999.00,-999.0000,-999.000,-999.000
     316N151_4,   A22,    55,  1,     27,     27,2,19970828,1327, 32.2245, -65.9970, 4841, 2156.8,    200.3,  18.3002,  36.5701,2,  36.5717,2,    201.9,2, 18.2650,    207.7,2,     1.12,2,     2.90,2,     0.01,2,     0.14,2,    2.389,2,    1.349,2,    0.077,2, -999.000,9,-999.0000,5,  -999.00,9,   -999.0,9,  -999.00,9,-999.000,9,   2088.2,2,    367.0,2,   2388.0,2,   8.0120,2,25,  -999.0, -999.00,-999.0000,-999.000,-999.000
     316N151_4,   A22,    55,  1,     26,     26,2,19970828,1327, 32.2245, -65.9970, 4841, 2668.7,    251.2,  18.1785,  36.5573,2,  36.5567,2,    204.9,2, 18.1346,    205.9,2,     1.22,2,     3.32,2,     0.01,2,     0.17,2,    2.368,2,    1.324,2,    0.068,2, -999.000,9,-999.0000,5,  -999.00,9,   -999.0,9,  -999.00,9,-999.000,9,   2090.1,2,    372.0,2,   2387.7,2,   8.0040,2,25,  -999.0, -999.00,-999.0000,-999.000,-999.000
     316N151_4,   A22,    55,  1,     25,     25,2,19970828,1327, 32.2245, -65.9970, 4841, 3157.6,    299.9,  18.0239,  36.5312,2,  36.5318,2,    203.9,2, 17.9717,    203.4,2,     1.32,2,     3.85,2,     0.01,2,     0.20,2,    2.340,2,    1.305,2,    0.047,2, -999.000,9,-999.0000,5,  -999.00,9,   -999.0,9,  -999.00,9,-999.000,9,   2093.5,2,    383.0,2,   2386.9,2,   7.9980,2,25,  -999.0, -999.00,-999.0000,-999.000,-999.000
     316N151_4,   A22,    55,  1,     24,     24,2,19970828,1327, 32.2245, -65.9970, 4841, 4152.0,    399.1,  17.6642,  36.4753,2,  36.4787,2,    208.4,2, 17.5955,    204.5,2,     1.52,2,     4.39,2,     0.01,2,     0.24,2,    2.342,2,    1.305,2,    0.079,2, -999.000,9,-999.0000,5,  -999.00,9,   -999.0,9,  -999.00,9,-999.000,9,   2097.3,2,    393.0,2,   2383.1,2,   7.9860,2,25,  -999.0, -999.00,-999.0000,-999.000,-999.000
     316N151_4,   A22,    55,  1,     23,     23,2,19970828,1327, 32.2245, -65.9970, 4841, 5158.0,    499.9,  16.4362,  36.2432,2,  36.2471,2,    188.6,2, 16.3542,    183.3,2,     2.88,2,     8.42,2,     0.01,2,     0.48,2,    2.088,2,    1.136,2,    0.028,2, -999.000,9,-999.0000,5,  -999.00,9,   -999.0,9,  -999.00,9,-999.000,9,   2118.0,2,   -999.0,9,   2370.1,2,   7.9280,2,25,  -999.0, -999.00,-999.0000,-999.000,-999.000
     316N151_4,   A22,    55,  1,     22,     22,2,19970828,1327, 32.2245, -65.9970, 4841, 6154.3,    600.1,  14.8479,  35.9743,2,  35.9810,2,    177.3,2, 14.7559,    173.4,2,     4.53,2,    11.91,2,     0.01,2,     0.71,2,    1.861,2,    1.005,2,    0.025,2, -999.000,9,-999.0000,5,  -999.00,9,   -999.0,9,  -999.00,9,-999.000,9,   2133.8,2,    525.0,2,   2358.2,2,   7.8750,2,25,  -999.0, -999.00,-999.0000,-999.000,-999.000
     316N151_4,   A22,    55,  1,     21,     21,2,19970828,1327, 32.2245, -65.9970, 4841, 7165.0,    701.6,  12.5544,  35.6277,2,  35.6307,2,    163.1,2, 12.4576,    159.2,2,     7.83,2,    17.15,2,     0.00,2,     1.06,2,    1.416,2,    0.758,2,    0.025,2, -999.000,9,-999.0000,5,  -999.00,9,   -999.0,9,  -999.00,9,-999.000,9,   2156.5,2,    641.0,2,   2344.4,2,   7.8000,2,25,  -999.0, -999.00,-999.0000,-999.000,-999.000
     316N151_4,   A22,    55,  1,     20,     20,2,19970828,1327, 32.2245, -65.9970, 4841, 8158.3,    801.0,  10.0582,  35.3186,2,  35.3181,2,    154.2,2,  9.9617,    155.0,2,    11.71,2,    21.55,2,     0.00,2,     1.36,2,    1.014,2,    0.533,2,    0.019,2, -999.000,9,-999.0000,5,  -999.00,9,   -999.0,9,  -999.00,9,-999.000,9,   2175.9,2,    748.0,2,   2328.3,2,   7.7270,2,25,  -999.0, -999.00,-999.0000,-999.000,-999.000
     316N151_4,   A22,    55,  1,     19,     19,2,19970828,1327, 32.2245, -65.9970, 4841, 9137.1,    899.2,   8.3266,  35.1792,2,  35.1776,2,    162.7,2,  8.2292,    163.8,2,    13.75,2,    22.83,2,     0.00,2,     1.46,2,    0.744,2,    0.389,2,    0.010,2, -999.000,9,-999.0000,5,  -999.00,9,   -999.0,9,  -999.00,9,-999.000,9,   2182.1,2,    800.0,2,   2322.6,2,   7.7030,2,25,  -999.0, -999.00,-999.0000,-999.000,-999.000
     316N151_4,   A22,    55,  1,     18,     18,2,19970828,1327, 32.2245, -65.9970, 4841,10139.0,    999.5,   7.2378,  35.1310,2,  35.1299,2,    177.9,2,  7.1368,    179.4,2,    14.23,2,    22.39,2,     0.00,2,     1.45,2,    0.721,2,    0.369,2,    0.022,2, -999.000,9,-999.0000,5,  -999.00,9,   -999.0,9,  -999.00,9,-999.000,9,   2182.9,2,    800.0,2,   2323.8,2,   7.7050,2,25,  -999.0, -999.00,-999.0000,-999.000,-999.000
     316N151_4,   A22,    55,  1,     17,     17,2,19970828,1327, 32.2245, -65.9970, 4841,11149.0,   1100.6,   6.5124,  35.1177,2,  35.1171,2,    195.0,2,  6.4065,    197.1,2,    13.85,2,    21.27,2,     0.00,2,     1.39,2,    0.811,2,    0.407,2,    0.025,2, -999.000,9,-999.0000,5,  -999.00,9,   -999.0,9,  -999.00,9,-999.000,9,   2178.2,2,    782.0,2,   2321.4,2,   7.7140,2,25,  -999.0, -999.00,-999.0000,-999.000,-999.000
     316N151_4,   A22,    55,  1,     16,     16,2,19970828,1327, 32.2245, -65.9970, 4841,13135.1,   1299.2,   5.3392,  35.0767,2,  35.0768,2,    230.1,2,  5.2237,    229.6,2,    12.69,2,    19.26,2,     0.00,2,     1.27,2,    1.142,2,    0.578,2,    0.046,2, -999.000,9,-999.0000,5,  -999.00,9,   -999.0,9,  -999.00,9,-999.000,9,   2169.8,2,   -999.0,9,   2321.0,2,   7.7280,2,25,  -999.0, -999.00,-999.0000,-999.000,-999.000
     316N151_4,   A22,    55,  1,     15,     15,2,19970828,1327, 32.2245, -65.9970, 4841,15121.5,   1497.9,   4.6207,  35.0305,2,  35.0307,2,    249.7,2,  4.4935,    247.9,2,    12.41,2,    18.44,2,     0.00,2,     1.22,2,    1.150,6,    0.577,6,    0.045,2, -999.000,9,-999.0000,5,  -999.00,9,   -999.0,9,  -999.00,9,-999.000,9,   2163.7,2,   -999.0,9,   2314.7,2,   7.7390,2,25,  -999.0, -999.00,-999.0000,-999.000,-999.000
     316N151_4,   A22,    55,  1,     14,     14,2,19970828,1327, 32.2245, -65.9970, 4841,17634.5,   1749.0,   4.0029,  34.9713,2,  34.9737,2,    262.4,2,  3.8596,    261.9,2,    12.41,2,    17.83,2,     0.00,2,     1.18,2,    1.325,2,    0.655,2,    0.057,2, -999.000,9,-999.0000,5,  -999.00,9,   -999.0,9,  -999.00,9,-999.000,9,   2158.5,2,   -999.0,9,   2312.5,2,   7.7360,2,25,  -999.0, -999.00,-999.0000,-999.000,-999.000
     316N151_4,   A22,    55,  1,     13,     13,2,19970828,1327, 32.2245, -65.9970, 4841,20128.3,   1998.3,   3.7235,  34.9571,2,  34.9583,2,    263.4,2,  3.5603,    266.1,2,    13.19,2,    17.70,2,     0.00,2,     1.18,2,    1.149,2,    0.563,2,    0.053,2, -999.000,9,-999.0000,5,  -999.00,9,   -999.0,9,  -999.00,9,-999.000,9,   2157.2,2,   -999.0,9,   2310.1,2,   7.7440,2,25,  -999.0, -999.00,-999.0000,-999.000,-999.000
     316N151_4,   A22,    55,  1,     12,     12,2,19970828,1327, 32.2245, -65.9970, 4841,22597.7,   2245.0,   3.6908,  34.9862,2,  34.9904,2,    258.5,2,  3.5039,    259.1,2,    16.29,2,    18.24,2,     0.00,2,     1.22,2,    0.439,2,    0.226,2,    0.016,2, -999.000,9,-999.0000,5,  -999.00,9,   -999.0,9,  -999.00,9,-999.000,9,   2161.0,2,   -999.0,9,   2318.2,2,   7.7460,2,25,  -999.0, -999.00,-999.0000,-999.000,-999.000
     316N151_4,   A22,    55,  1,     11,     11,2,19970828,1327, 32.2245, -65.9970, 4841,25131.3,   2498.3,   3.4176,  34.9725,2,  34.9752,2,    259.2,2,  3.2100,    259.4,2,    18.42,2,    18.33,2,     0.00,2,     1.23,2,    0.289,2,    0.153,2,    0.008,2, -999.000,9,-999.0000,5,  -999.00,9,   -999.0,9,  -999.00,9,-999.000,9,   2161.7,2,   -999.0,9,   2318.3,2,   7.7530,2,25,  -999.0, -999.00,-999.0000,-999.000,-999.000
     316N151_4,   A22,    55,  1,     10,     10,2,19970828,1327, 32.2245, -65.9970, 4841,27647.8,   2749.9,   3.1430,  34.9535,2,  34.9549,2,    262.9,2,  2.9152,    262.7,2,    19.68,2,    18.20,2,     0.00,2,     1.23,2,    0.299,6,    0.153,6,    0.010,2, -999.000,9,-999.0000,5,  -999.00,9,   -999.0,9,  -999.00,9,-999.000,9,   2161.9,2,   -999.0,9,   2319.7,2,   7.7500,2,25,  -999.0, -999.00,-999.0000,-999.000,-999.000
     316N151_4,   A22,    55,  1,      9,      9,2,19970828,1327, 32.2245, -65.9970, 4841,30120.8,   2997.1,   2.9058,  34.9394,2,  34.9419,2,    263.7,2,  2.6574,    264.1,2,    21.24,2,    18.21,2,     0.00,2,     1.23,2,    0.284,2,    0.150,2,    0.010,2, -999.000,9,-999.0000,5,  -999.00,9,   -999.0,9,  -999.00,9,-999.000,9,   2162.0,2,   -999.0,9,   2319.9,2,   7.7540,2,25,  -999.0, -999.00,-999.0000,-999.000,-999.000
     316N151_4,   A22,    55,  1,      8,      8,2,19970828,1327, 32.2245, -65.9970, 4841,32672.7,   3252.1,   2.6608,  34.9254,2,  34.9269,2,    267.2,2,  2.3910,    266.9,2,    22.40,2,    18.00,2,     0.00,2,     1.22,2,    0.364,2,    0.184,2,    0.010,2, -999.000,9,-999.0000,5,  -999.00,9,   -999.0,9,  -999.00,9,-999.000,9,   2162.5,2,   -999.0,9,   2320.7,2,   7.7480,2,25,  -999.0, -999.00,-999.0000,-999.000,-999.000
     316N151_4,   A22,    55,  1,      7,      7,2,19970828,1327, 32.2245, -65.9970, 4841,35154.6,   3500.3,   2.4686,  34.9137,2,  34.9135,2,    267.5,2,  2.1769,    267.7,2,    24.53,2,    18.08,2,     0.00,2,     1.23,2,    0.373,2,    0.195,2,    0.013,2, -999.000,9,-999.0000,5,  -999.00,9,   -999.0,9,  -999.00,9,-999.000,9,   2165.0,2,   -999.0,9,   2322.0,2,   7.7510,2,25,  -999.0, -999.00,-999.0000,-999.000,-999.000
     316N151_4,   A22,    55,  1,      6,      6,2,19970828,1327, 32.2245, -65.9970, 4841,37664.0,   3751.2,   2.3500,  34.9044,2,  34.9056,2,    267.0,2,  2.0340,    267.0,2,    27.14,2,    18.38,2,     0.00,2,     1.25,2,    0.361,2,    0.185,2,    0.017,2, -999.000,9,-999.0000,5,  -999.00,9,   -999.0,9,  -999.00,9,-999.000,9,   2168.8,2,   -999.0,9,   2325.5,2,   7.7470,2,25,  -999.0, -999.00,-999.0000,-999.000,-999.000
     316N151_4,   A22,    55,  1,      5,      5,2,19970828,1327, 32.2245, -65.9970, 4841,40159.4,   4000.6,   2.2904,  34.8981,2,  34.8980,2,    265.6,2,  1.9479,    265.7,2,    29.57,2,    18.67,2,     0.00,2,     1.27,2,    0.343,6,    0.180,6,    0.015,2, -999.000,9,-999.0000,5,  -999.00,9,   -999.0,9,  -999.00,9,-999.000,9,   2171.7,2,   -999.0,9,   2326.8,2,   7.7480,2,25,  -999.0, -999.00,-999.0000,-999.000,-999.000
     316N151_4,   A22,    55,  1,      4,      4,2,19970828,1327, 32.2245, -65.9970, 4841,42676.5,   4252.1,   2.2554,  34.8925,2,  34.8937,2,    264.1,2,  1.8849,    263.8,2,    32.28,2,    19.04,2,     0.00,2,     1.30,2,    0.296,2,    0.162,2,    0.018,2, -999.000,9,-999.0000,5,  -999.00,9,   -999.0,9,  -999.00,9,-999.000,9,   2175.3,2,   -999.0,9,   2330.9,2,   7.7430,2,25,  -999.0, -999.00,-999.0000,-999.000,-999.000
     316N151_4,   A22,    55,  1,      3,      3,2,19970828,1327, 32.2245, -65.9970, 4841,45159.2,   4500.4,   2.2420,  34.8879,2,  34.8877,2,    261.9,2,  1.8427,    261.9,2,    34.90,2,    19.41,2,     0.00,2,     1.33,2,    0.283,2,    0.151,2,    0.021,2, -999.000,9,-999.0000,5,  -999.00,9,   -999.0,9,  -999.00,9,-999.000,9,   2177.9,2,   -999.0,9,   2333.6,2,   7.7420,2,25,  -999.0, -999.00,-999.0000,-999.000,-999.000
     316N151_4,   A22,    55,  1,      2,      2,2,19970828,1327, 32.2245, -65.9970, 4841,47656.0,   4750.0,   2.2485,  34.8854,2,  34.8847,2,    260.5,2,  1.8187,    260.9,2,    36.54,2,    19.70,2,     0.00,2,     1.35,2,    0.283,2,    0.161,2,    0.017,2, -999.000,9,-999.0000,5,  -999.00,9,   -999.0,9,  -999.00,9,-999.000,9,   2180.3,2,   -999.0,9,   2334.8,6,   7.7420,6,25,  -999.0, -999.00,-999.0000,-999.000,-999.000
     316N151_4,   A22,    55,  1,      1,      1,2,19970828,1327, 32.2245, -65.9970, 4841,49781.5,   4962.3,   2.2477,  34.8803,2,  34.8816,2,    257.6,2,  1.7916,    260.7,2,    38.54,6,    20.07,6,     0.00,6,     1.37,6,    0.208,2,    0.118,2,    0.020,2, -999.000,9,-999.0000,5,  -999.00,9,   -999.0,9,  -999.00,9,-999.000,9,   2183.2,2,   -999.0,9,   2336.7,2,   7.7380,2,25,  -999.0, -999.00,-999.0000,-999.000,-999.000