BOTTLE,20220629CCHSIOAMB
EXPOCODE,SECT_ID,STNNBR,CASTNO,SAMPNO,BTLNBR,BTLNBR_FLAG_W,DATE,TIME,LATITUDE,LONGITUDE,DEPTH,CTDRAW,CTDPRS,CTDTMP,CTDSAL,CTDSAL_FLAG_W,SALNTY,SALNTY_FLAG_W,CTDOXY,CTDOXY_FLAG_W,THETA,OXYGEN,OXYGEN_FLAG_W,SILCAT,SILCAT_FLAG_W,NITRAT,NITRAT_FLAG_W,NITRIT,NITRIT_FLAG_W,PHSPHT,PHSPHT_FLAG_W,CFC-11,CFC-11_FLAG_W,CFC-12,CFC-12_FLAG_W,CFC113,CFC113_FLAG_W,TRITUM,TRITUM_FLAG_W,HELIUM,HELIUM_FLAG_W,DELHE3,DELHE3_FLAG_W,DELC14,DELC14_FLAG_W,DELC13,DELC13_FLAG_W,NEON,NEON_FLAG_W,TCARBN,TCARBN_FLAG_W,PCO2,PCO2_FLAG_W,ALKALI,ALKALI_FLAG_W,PH,PH_FLAG_W,PH_TMP,C14ERR,DELHER,HELIER,NEONER,TRITER
,,,,,,,,,,,,,DBAR,ITS-90,PSS-78,,PSS-78,,UMOL/KG,,ITS-90,UMOL/KG,,UMOL/KG,,UMOL/KG,,UMOL/KG,,UMOL/KG,,PMOL/KG,,PMOL/KG,,PMOL/KG,,TU,,NMOL/KG,,PERCNT,,/MILLE,,/MILLE,,NMOL/KG,,UMOL/KG,,UATM,,UMOL/KG,,,,DEG C,/MILLE,PERCNT,NMOL/KG,NMOL/KG,TU
     316N151_4,   A22,    27,  1,     19,     19,2,19970821,1538, 18.5725, -66.0025,  858,  164.3,      1.5,  28.7195,  36.1649,2,  36.1670,2,   -999.0,9, 28.7192,    201.9,2,     0.77,2,     0.00,2,     0.00,2,     0.01,2,    1.645,2,    1.005,2,    0.126,2,    0.785,2,   1.7099,2,    -1.98,2,   -999.0,9,  -999.00,9,   6.615,2,   -999.0,9,   -999.0,9,   -999.0,9,-999.0000,9,-999,  -999.0,    0.15,  0.0085,   0.033,   0.013
     316N151_4,   A22,    27,  1,     18,     18,2,19970821,1538, 18.5725, -66.0025,  858,  648.6,     50.4,  28.4911,  36.1643,2,  36.1700,2,    202.6,2, 28.4791,    201.9,2,     0.99,2,     0.00,2,     0.00,2,     0.01,2,    1.635,2,    0.996,2,    0.125,2, -999.000,9,-999.0000,5,  -999.00,9,   -999.0,9,  -999.00,9,-999.000,9,   -999.0,9,   -999.0,9,   -999.0,9,-999.0000,9,-999,  -999.0, -999.00,-999.0000,-999.000,-999.000
     316N151_4,   A22,    27,  1,     17,     17,2,19970821,1538, 18.5725, -66.0025,  858, 1132.8,     99.4,  25.6119,  36.7827,2,  36.7863,2,    200.8,2, 25.5899,    201.5,2,     0.89,2,     0.01,2,     0.37,2,     0.02,2,    1.866,2,    1.107,2,    0.140,2,    0.897,2,   1.7298,2,    -1.98,2,   -999.0,9,  -999.00,9,   6.781,2,   -999.0,9,   -999.0,9,   -999.0,9,-999.0000,9,-999,  -999.0,    0.15,  0.0086,   0.034,   0.013
     316N151_4,   A22,    27,  1,     16,     16,2,19970821,1538, 18.5725, -66.0025,  858, 1649.0,    151.8,  23.6327,  37.2499,2,  37.2371,2,    191.5,2, 23.6008,    196.5,2,     0.51,2,     0.46,2,     0.04,2,     0.03,2,    1.996,2,    1.172,2,    0.145,2,    1.027,2,   1.7505,2,    -1.93,2,   -999.0,9,  -999.00,9,   6.862,2,   -999.0,9,   -999.0,9,   -999.0,9,-999.0000,9,-999,  -999.0,    0.15,  0.0088,   0.034,   0.014
     316N151_4,   A22,    27,  1,     15,     15,2,19970821,1538, 18.5725, -66.0025,  858, 2136.5,    201.2,  21.3227,  37.0930,2,  37.0665,2,    175.9,2, 21.2833,    176.6,2,     0.71,2,     2.20,2,     0.02,2,     0.10,2,    2.159,2,    1.235,2,    0.050,2,    1.101,2,   1.7806,2,    -1.82,2,   -999.0,9,  -999.00,9,   7.078,2,   -999.0,9,   -999.0,9,   -999.0,9,-999.0000,9,-999,  -999.0,    0.15,  0.0089,   0.035,   0.014
     316N151_4,   A22,    27,  1,     14,     14,2,19970821,1538, 18.5725, -66.0025,  858, 2641.2,    252.3,  19.0438,  36.7068,2,  36.7017,2,    182.7,2, 18.9982,    183.9,2,     1.02,2,     3.55,2,     0.01,2,     0.16,2,    2.263,2,    1.271,2,    0.018,2,    1.123,2,   1.7610,2,    -0.45,2,   -999.0,9,  -999.00,9,   7.075,2,   -999.0,9,   -999.0,9,   -999.0,9,-999.0000,9,-999,  -999.0,    0.15,  0.0088,   0.035,   0.014
     316N151_4,   A22,    27,  1,     13,     13,2,19970821,1538, 18.5725, -66.0025,  858, 3105.3,    299.4,  17.8053,  36.5040,2,  36.4997,2,    186.3,2, 17.7536,    184.8,2,     1.74,2,     5.87,2,     0.01,2,     0.32,2, -999.000,9, -999.000,9, -999.000,9,    1.210,2,   1.7649,2,     0.71,2,   -999.0,9,  -999.00,9,   7.131,2,   -999.0,9,   -999.0,9,   -999.0,9,-999.0000,9,-999,  -999.0,    0.15,  0.0088,   0.036,   0.014
     316N151_4,   A22,    27,  1,     12,     12,2,19970821,1538, 18.5725, -66.0025,  858, 4098.0,    399.7,  15.1888,  36.0589,2,  36.0554,2,    158.8,2, 15.1269,    156.0,2,     4.24,2,    12.99,2,     0.01,2,     0.77,2,    1.788,2,    0.957,2,    0.013,2,    1.236,2,   1.7807,2,     4.11,2,   -999.0,9,  -999.00,9,   7.241,2,   -999.0,9,   -999.0,9,   -999.0,9,-999.0000,9,-999,  -999.0,    0.15,  0.0089,   0.036,   0.014
     316N151_4,   A22,    27,  1,     11,     11,2,19970821,1538, 18.5725, -66.0025,  858, 5079.9,    499.1,  13.1358,  35.7251,2,  35.7169,2,    145.9,2, 13.0655,    147.6,2,     6.85,2,    17.35,2,     0.01,2,     1.06,2,    1.290,6,    0.683,6,    0.008,2,    1.124,2,   1.7758,2,     6.13,2,   -999.0,9,  -999.00,9,   7.328,2,   -999.0,9,   -999.0,9,   -999.0,9,-999.0000,9,-999,  -999.0,    0.15,  0.0089,   0.037,   0.014
     316N151_4,   A22,    27,  1,     10,     10,2,19970821,1538, 18.5725, -66.0025,  858, 6076.6,    600.2,  10.7688,  35.3929,2,  35.3868,2,    136.8,2, 10.6941,    137.2,2,    11.24,2,    22.66,2,     0.00,2,     1.42,2,    0.643,2,    0.346,2,    0.003,2,    0.783,2,   1.7930,2,     7.43,2,   -999.0,9,  -999.00,9,   7.454,2,   -999.0,9,   -999.0,9,   -999.0,9,-999.0000,9,-999,  -999.0,    0.15,  0.0090,   0.037,   0.013
     316N151_4,   A22,    27,  1,      9,      9,2,19970821,1538, 18.5725, -66.0025,  858, 7056.4,    699.7,   8.3742,  35.0727,2,  35.0660,2,    132.1,2,  8.2990,    131.7,2,    17.35,2,    27.67,2,     0.00,2,     1.79,2,    0.256,2,    0.147,2,   -0.005,2,    0.369,2,-999.0000,5,  -999.00,9,   -999.0,9,  -999.00,9,-999.000,9,   -999.0,9,   -999.0,9,   -999.0,9,-999.0000,9,-999,  -999.0, -999.00,-999.0000,-999.000,   0.011
     316N151_4,   A22,    27,  1,      8,      8,2,19970821,1538, 18.5725, -66.0025,  858, 8019.7,    797.1,   7.4741,  34.9893,2,  34.9836,2,    136.3,2,  7.3935,    136.7,2,    19.56,2,    28.58,2,     0.00,2,     1.87,2,    0.169,2,    0.096,2,   -0.001,2,    0.243,2,   1.8351,2,     1.81,2,   -999.0,9,  -999.00,9,   7.722,2,   -999.0,9,   -999.0,9,   -999.0,9,-999.0000,9,-999,  -999.0,    0.15,  0.0092,   0.039,   0.011
     316N151_4,   A22,    27,  1,      7,      7,2,19970821,1538, 18.5725, -66.0025,  858, 8704.2,    859.7,   6.3359,  34.9554,2,  34.9489,2,    154.2,2,  6.2559,    156.8,2,    20.32,6,    27.50,6,     0.00,6,     1.81,6, -999.000,9, -999.000,9, -999.000,9, -999.000,9,-999.0000,5,  -999.00,9,   -999.0,9,  -999.00,9,-999.000,9,   -999.0,9,   -999.0,9,   -999.0,9,-999.0000,9,-999,  -999.0, -999.00,-999.0000,-999.000,-999.000
     316N151_4,   A22,    28,  1,     18,     18,2,19970821,1736, 18.6537, -66.0018, 1510,  183.4,      2.0,  28.8566,  36.1787,2,  36.1806,2,    206.6,2, 28.8562,    201.3,2,     0.67,2,     0.01,2,     0.00,2,     0.01,2,    1.649,2,    1.007,2,    0.119,2, -999.000,9,-999.0000,5,  -999.00,9,   -999.0,9,  -999.00,9,-999.000,9,   2000.3,2,    269.0,2,   2361.6,2,   8.1110,2,25,  -999.0, -999.00,-999.0000,-999.000,-999.000
     316N151_4,   A22,    28,  1,     17,     17,2,19970821,1736, 18.6537, -66.0018, 1510,  664.7,     50.3,  28.5973,  36.1892,2,  36.1911,2,    206.6,2, 28.5852,    202.9,2,     0.48,2,     0.05,2,     0.00,2,     0.01,2,    1.629,2,    1.015,2,    0.115,2, -999.000,9,-999.0000,5,  -999.00,9,   -999.0,9,  -999.00,9,-999.000,9,   1998.4,2,   -999.0,9,   -999.0,9,-999.0000,9,-999,  -999.0, -999.00,-999.0000,-999.000,-999.000
     316N151_4,   A22,    28,  1,     16,     16,2,19970821,1736, 18.6537, -66.0018, 1510, 1167.6,    100.7,  25.3903,  36.8148,2,  36.8236,2,    207.5,2, 25.3681,    206.3,2,     0.79,2,     0.03,2,     0.02,2,     0.01,2,    1.893,2,    1.103,2,    0.138,2, -999.000,9,-999.0000,5,  -999.00,9,   -999.0,9,  -999.00,9,-999.000,9,   2037.9,2,   -999.0,9,   -999.0,9,-999.0000,9,-999,  -999.0, -999.00,-999.0000,-999.000,-999.000
     316N151_4,   A22,    28,  1,     15,     15,2,19970821,1736, 18.6537, -66.0018, 1510, 1667.8,    151.1,  23.9192,  37.2067,2,  37.2289,2,    195.8,2, 23.8872,    196.4,2,     0.51,2,     0.43,2,     0.06,2,     0.02,2,    1.991,6,    1.175,6,    0.134,2, -999.000,9,-999.0000,5,  -999.00,9,   -999.0,9,  -999.00,9,-999.000,9,   2082.2,2,   -999.0,9,   -999.0,9,-999.0000,9,-999,  -999.0, -999.00,-999.0000,-999.000,-999.000
     316N151_4,   A22,    28,  1,     14,     14,2,19970821,1736, 18.6537, -66.0018, 1510, 2155.1,    200.2,  21.7520,  37.1459,2,  37.1444,2,    178.0,2, 21.7123,    178.1,2,     0.61,2,     1.82,2,     0.02,2,     0.08,2,    2.138,2,    1.206,2,    0.064,2, -999.000,9,-999.0000,5,  -999.00,9,   -999.0,9,  -999.00,9,-999.000,9,   2114.6,2,   -999.0,9,   -999.0,9,-999.0000,9,-999,  -999.0, -999.00,-999.0000,-999.000,-999.000
     316N151_4,   A22,    28,  1,     13,     13,2,19970821,1736, 18.6537, -66.0018, 1510, 2658.3,    250.6,  19.4155,  36.7938,2,  36.7875,2,    179.4,2, 19.3696,    178.0,2,     1.03,2,     4.06,2,     0.01,2,     0.18,2, -999.000,9, -999.000,9, -999.000,9, -999.000,9,-999.0000,5,  -999.00,9,   -999.0,9,  -999.00,9,-999.000,9,   2117.7,2,   -999.0,9,   -999.0,9,-999.0000,9,-999,  -999.0, -999.00,-999.0000,-999.000,-999.000
     316N151_4,   A22,    28,  1,     12,     12,2,19970821,1736, 18.6537, -66.0018, 1510, 3129.3,    298.3,  18.2315,  36.5863,2,  36.5913,2,    184.2,2, 18.1791,    182.4,2,     1.44,2,     5.48,2,     0.01,2,     0.28,2,    2.267,2,    1.234,2,    0.015,2, -999.000,9,-999.0000,5,  -999.00,9,   -999.0,9,  -999.00,9,-999.000,9,   2114.4,2,   -999.0,9,   -999.0,9,-999.0000,9,-999,  -999.0, -999.00,-999.0000,-999.000,-999.000
     316N151_4,   A22,    28,  1,     11,     11,2,19970821,1736, 18.6537, -66.0018, 1510, 4136.9,    399.8,  15.6619,  36.1464,2,  36.1328,2,    170.7,2, 15.5988,    173.5,2,     3.36,2,    10.57,2,     0.00,2,     0.60,2,    2.010,2,    1.082,2,    0.019,2, -999.000,9,-999.0000,5,  -999.00,9,   -999.0,9,  -999.00,9,-999.000,9,   2129.5,2,   -999.0,9,   -999.0,9,-999.0000,9,-999,  -999.0, -999.00,-999.0000,-999.000,-999.000
     316N151_4,   A22,    28,  1,     10,     10,2,19970821,1736, 18.6537, -66.0018, 1510, 5129.4,    499.7,  12.7085,  35.6214,2,  35.6117,2,    131.7,2, 12.6396,    132.9,2,     8.06,2,    19.90,2,     0.00,2,     1.21,2,    1.210,2,    0.633,2,    0.008,2, -999.000,9,-999.0000,5,  -999.00,9,   -999.0,9,  -999.00,9,-999.000,9,   2171.3,2,   -999.0,9,   -999.0,9,-999.0000,9,-999,  -999.0, -999.00,-999.0000,-999.000,-999.000
     316N151_4,   A22,    28,  1,      9,      9,2,19970821,1736, 18.6537, -66.0018, 1510, 6132.7,    600.7,  11.0851,  35.4212,2,  35.4195,2,    135.3,2, 11.0090,    135.5,2,    10.58,2,    22.44,2,     0.00,2,     1.38,2,    0.758,2,    0.396,2,    0.003,2, -999.000,9,-999.0000,5,  -999.00,9,   -999.0,9,  -999.00,9,-999.000,9,   2178.5,2,   -999.0,9,   -999.0,9,-999.0000,9,-999,  -999.0, -999.00,-999.0000,-999.000,-999.000
     316N151_4,   A22,    28,  1,      8,      8,2,19970821,1736, 18.6537, -66.0018, 1510, 7120.2,    700.0,   8.8080,  35.1220,2,  35.1139,2,    130.6,2,  8.7306,    131.2,2,    16.29,2,    27.17,2,     0.00,2,     1.73,2,    0.296,2,    0.163,2,    0.003,2, -999.000,9,-999.0000,5,  -999.00,9,   -999.0,9,  -999.00,9,-999.000,9,   2195.0,2,   -999.0,9,   -999.0,9,-999.0000,9,-999,  -999.0, -999.00,-999.0000,-999.000,-999.000
     316N151_4,   A22,    28,  1,      7,      7,2,19970821,1736, 18.6537, -66.0018, 1510, 8124.5,    800.8,   7.3062,  34.9657,2,  34.9616,2,    135.4,2,  7.2262,    136.3,2,    20.11,2,    29.12,2,     0.00,2,     1.90,2,    0.144,6,    0.081,6,    0.003,2, -999.000,9,-999.0000,5,  -999.00,9,   -999.0,9,  -999.00,9,-999.000,9,   2203.2,2,   -999.0,9,   -999.0,9,-999.0000,9,-999,  -999.0, -999.00,-999.0000,-999.000,-999.000
     316N151_4,   A22,    28,  1,      6,      6,2,19970821,1736, 18.6537, -66.0018, 1510, 9112.2,    900.0,   6.3500,  34.9223,2,  34.9188,2,    150.0,2,  6.2659,    150.7,2,    21.63,2,    28.65,2,     0.00,2,     1.89,2,    0.119,2,    0.067,2,    0.002,2, -999.000,9,-999.0000,5,  -999.00,9,   -999.0,9,  -999.00,9,-999.000,9,   2202.5,2,   -999.0,9,   -999.0,9,-999.0000,9,-999,  -999.0, -999.00,-999.0000,-999.000,-999.000
     316N151_4,   A22,    28,  1,      5,      5,2,19970821,1736, 18.6537, -66.0018, 1510,10111.2,   1000.3,   5.9470,  35.0008,2,  34.9969,2,    182.1,2,  5.8557,    182.6,2,    18.93,2,    24.58,2,     0.00,2,     1.62,2,    0.273,2,    0.147,2,    0.008,2, -999.000,9,-999.0000,5,  -999.00,9,   -999.0,9,  -999.00,9,-999.000,9,   2188.6,2,   -999.0,9,   -999.0,9,-999.0000,9,-999,  -999.0, -999.00,-999.0000,-999.000,-999.000
     316N151_4,   A22,    28,  1,      4,      4,2,19970821,1736, 18.6537, -66.0018, 1510,11100.4,   1099.8,   5.3280,  35.0291,2,  35.0262,2,    210.4,2,  5.2320,    211.5,2,    16.34,2,    21.68,2,     0.00,2,     1.44,2,    0.469,2,    0.238,2,    0.015,2, -999.000,9,-999.0000,5,  -999.00,9,   -999.0,9,  -999.00,9,-999.000,9,   2177.0,2,   -999.0,9,   -999.0,9,-999.0000,9,-999,  -999.0, -999.00,-999.0000,-999.000,-999.000
     316N151_4,   A22,    28,  1,      3,      3,2,19970821,1736, 18.6537, -66.0018, 1510,13067.4,   1297.5,   4.6645,  35.0234,2,  35.0206,2,    240.8,2,  4.5558,    239.0,2,    14.06,2,    19.42,2,     0.00,2,     1.29,2,    0.691,2,    0.346,2,    0.020,2, -999.000,9,-999.0000,5,  -999.00,9,   -999.0,9,  -999.00,9,-999.000,9,   2165.2,2,   -999.0,9,   -999.0,9,-999.0000,9,-999,  -999.0, -999.00,-999.0000,-999.000,-999.000
     316N151_4,   A22,    28,  1,      2,      2,2,19970821,1736, 18.6537, -66.0018, 1510,14593.3,   1450.9,   4.2436,  35.0053,2,  35.0026,2,    253.8,2,  4.1251,    252.1,2,    13.38,2,    18.46,2,     0.00,2,     1.23,2,    0.773,2,    0.392,2,    0.029,2, -999.000,9,-999.0000,5,  -999.00,9,   -999.0,9,  -999.00,9,-999.000,9,   2160.2,2,   -999.0,9,   -999.0,9,-999.0000,9,-999,  -999.0, -999.00,-999.0000,-999.000,-999.000
     316N151_4,   A22,    28,  1,      1,      1,2,19970821,1736, 18.6537, -66.0018, 1510,15253.6,   1513.1,   4.1906,  35.0017,2,  35.0008,2,    251.7,2,  4.0669,    253.8,2,    13.48,6,    18.40,6,     0.00,6,     1.22,6,    0.772,6,    0.384,6,    0.021,2, -999.000,9,-999.0000,5,  -999.00,9,   -999.0,9,  -999.00,9,-999.000,9,   2159.9,2,   -999.0,9,   -999.0,9,-999.0000,9,-999,  -999.0, -999.00,-999.0000,-999.000,-999.000