BOTTLE,20220629CCHSIOAMB
EXPOCODE,SECT_ID,STNNBR,CASTNO,SAMPNO,BTLNBR,BTLNBR_FLAG_W,DATE,TIME,LATITUDE,LONGITUDE,DEPTH,CTDRAW,CTDPRS,CTDTMP,CTDSAL,CTDSAL_FLAG_W,SALNTY,SALNTY_FLAG_W,CTDOXY,CTDOXY_FLAG_W,THETA,OXYGEN,OXYGEN_FLAG_W,SILCAT,SILCAT_FLAG_W,NITRAT,NITRAT_FLAG_W,NITRIT,NITRIT_FLAG_W,PHSPHT,PHSPHT_FLAG_W,CFC-11,CFC-11_FLAG_W,CFC-12,CFC-12_FLAG_W,CFC113,CFC113_FLAG_W,TRITUM,TRITUM_FLAG_W,HELIUM,HELIUM_FLAG_W,DELHE3,DELHE3_FLAG_W,DELC14,DELC14_FLAG_W,DELC13,DELC13_FLAG_W,NEON,NEON_FLAG_W,TCARBN,TCARBN_FLAG_W,PCO2,PCO2_FLAG_W,ALKALI,ALKALI_FLAG_W,PH,PH_FLAG_W,PH_TMP,C14ERR,DELHER,HELIER,NEONER,TRITER
,,,,,,,,,,,,,DBAR,ITS-90,PSS-78,,PSS-78,,UMOL/KG,,ITS-90,UMOL/KG,,UMOL/KG,,UMOL/KG,,UMOL/KG,,UMOL/KG,,PMOL/KG,,PMOL/KG,,PMOL/KG,,TU,,NMOL/KG,,PERCNT,,/MILLE,,/MILLE,,NMOL/KG,,UMOL/KG,,UATM,,UMOL/KG,,,,DEG C,/MILLE,PERCNT,NMOL/KG,NMOL/KG,TU
     316N151_4,   A22,    22,  1,     13,     13,2,19970820,1420, 17.7497, -66.0000,  810,  163.0,      1.5,  28.7743,  35.8306,2,  35.8345,2,   -999.0,9, 28.7739,    204.6,2,     0.97,2,     0.00,2,     0.00,2,     0.01,2,    1.591,6,    0.998,6,    0.125,2, -999.000,9,-999.0000,5,  -999.00,9,   -999.0,9,  -999.00,9,-999.000,9,   1983.9,2,    259.0,2,   2350.4,2,   8.1220,2,25,  -999.0, -999.00,-999.0000,-999.000,-999.000
     316N151_4,   A22,    22,  1,     12,     12,2,19970820,1420, 17.7497, -66.0000,  810,  640.6,     49.9,  28.7748,  35.9503,2,  35.9616,2,    195.5,2, 28.7627,    209.6,2,     0.78,2,     0.03,2,     0.00,2,     0.01,2,    1.637,2,    1.018,2,    0.123,2, -999.000,9,-999.0000,5,  -999.00,9,   -999.0,9,  -999.00,9,-999.000,9,   1990.1,2,    263.0,2,   2355.0,6,   8.1170,2,25,  -999.0, -999.00,-999.0000,-999.000,-999.000
     316N151_4,   A22,    22,  1,     11,     11,2,19970820,1420, 17.7497, -66.0000,  810, 1136.8,    100.1,  25.0176,  36.9511,2,  36.9522,2,    207.1,2, 24.9957,    205.2,2,     0.69,2,     0.22,2,     0.09,2,     0.02,2,    1.916,2,    1.134,2,    0.137,2, -999.000,9,-999.0000,5,  -999.00,9,   -999.0,9,  -999.00,9,-999.000,9,   2051.5,2,    284.0,2,   2416.5,2,   8.0920,2,25,  -999.0, -999.00,-999.0000,-999.000,-999.000
     316N151_4,   A22,    22,  1,     10,     10,2,19970820,1420, 17.7497, -66.0000,  810, 1638.5,    150.7,  23.2239,  37.2725,2,  37.2709,2,    188.9,2, 23.1926,    191.3,2,     0.50,2,     0.79,2,     0.04,2,     0.04,2,    2.044,2,    1.186,2,    0.117,2, -999.000,9,-999.0000,5,  -999.00,9,   -999.0,9,  -999.00,9,-999.000,9,   2099.3,2,    335.0,2,   2435.5,2,   8.0460,2,25,  -999.0, -999.00,-999.0000,-999.000,-999.000
     316N151_4,   A22,    22,  1,      9,      9,2,19970820,1420, 17.7497, -66.0000,  810, 2110.3,    198.7,  21.8006,  37.1711,2,  37.1673,2,    181.1,2, 21.7611,    182.2,2,     0.51,2,     1.62,2,     0.02,2,     0.07,2,    2.132,2,    1.224,2,    0.056,2, -999.000,9,-999.0000,5,  -999.00,9,   -999.0,9,  -999.00,9,-999.000,9,   2110.8,2,    360.0,2,   2429.2,2,   8.0210,2,25,  -999.0, -999.00,-999.0000,-999.000,-999.000
     316N151_4,   A22,    22,  1,      8,      8,2,19970820,1420, 17.7497, -66.0000,  810, 2604.5,    248.9,  19.7270,  36.8362,2,  36.8437,2,    180.7,2, 19.6809,    177.6,2,     0.92,2,     3.52,2,     0.01,2,     0.16,2,    2.238,2,    1.238,2,    0.018,2, -999.000,9,-999.0000,5,  -999.00,9,   -999.0,9,  -999.00,9,-999.000,9,   2116.3,2,    398.0,2,   2407.7,2,   7.9800,2,25,  -999.0, -999.00,-999.0000,-999.000,-999.000
     316N151_4,   A22,    22,  1,      7,      7,2,19970820,1420, 17.7497, -66.0000,  810, 3093.2,    298.6,  18.5103,  36.6462,2,  36.6461,2,    176.0,2, 18.4573,    174.9,2,     1.43,2,     5.81,2,     0.01,2,     0.30,2,    2.229,2,    1.232,2,    0.014,2, -999.000,9,-999.0000,5,  -999.00,9,   -999.0,9,  -999.00,9,-999.000,9,   2120.8,2,    428.0,2,   2393.5,2,   7.9540,2,25,  -999.0, -999.00,-999.0000,-999.000,-999.000
     316N151_4,   A22,    22,  1,      6,      6,2,19970820,1420, 17.7497, -66.0000,  810, 4110.0,    401.7,  14.7641,  35.9928,2,  35.9744,2,    163.3,2, 14.7030,    160.4,2,     4.54,2,    13.58,2,     0.00,2,     0.80,2,    1.746,2,    0.929,2,    0.011,2, -999.000,9,-999.0000,5,  -999.00,9,   -999.0,9,  -999.00,9,-999.000,9,   2143.8,2,    563.0,2,   2357.9,2,   7.8500,2,25,  -999.0, -999.00,-999.0000,-999.000,-999.000
     316N151_4,   A22,    22,  1,      5,      5,2,19970820,1420, 17.7497, -66.0000,  810, 5090.1,    501.2,  12.3619,  35.6115,2,  35.6039,2,    142.6,2, 12.2940,    142.7,2,     8.04,2,    19.54,2,     0.00,2,     1.19,2,    1.094,2,    0.567,2,    0.007,2, -999.000,9,-999.0000,5,  -999.00,9,   -999.0,9,  -999.00,9,-999.000,9,   2167.0,2,    699.0,2,   2338.7,2,   7.7640,2,25,  -999.0, -999.00,-999.0000,-999.000,-999.000
     316N151_4,   A22,    22,  1,      4,      4,2,19970820,1420, 17.7497, -66.0000,  810, 6069.7,    600.4,  10.1656,  35.2832,2,  35.2878,2,    133.1,2, 10.0936,    132.4,2,    12.86,2,    24.74,2,     0.00,2,     1.55,2,    0.591,2,    0.317,2,    0.003,2, -999.000,9,-999.0000,5,  -999.00,9,   -999.0,9,  -999.00,9,-999.000,9,   2187.0,2,    811.0,2,   2327.3,2,   7.6980,2,25,  -999.0, -999.00,-999.0000,-999.000,-999.000
     316N151_4,   A22,    22,  1,      3,      3,2,19970820,1420, 17.7497, -66.0000,  810, 7040.3,    698.4,   8.2698,  35.0370,2,  35.0294,2,    130.0,2,  8.1954,    130.4,2,    18.06,2,    28.65,2,     0.00,2,     1.85,2,    0.277,2,    0.152,2,    0.004,2, -999.000,9,-999.0000,5,  -999.00,9,   -999.0,9,  -999.00,9,-999.000,9,   2200.0,2,    926.0,2,   2316.7,2,   7.6420,2,25,  -999.0, -999.00,-999.0000,-999.000,-999.000
     316N151_4,   A22,    22,  1,      2,      2,2,19970820,1420, 17.7497, -66.0000,  810, 7547.8,    749.8,   7.5267,  34.9646,2,  34.9623,2,    134.0,2,  7.4508,    133.2,2,    19.88,2,    29.45,2,     0.00,2,     1.92,2,    0.201,2,    0.116,2,    0.003,2, -999.000,9,-999.0000,5,  -999.00,9,   -999.0,9,  -999.00,9,-999.000,9,   2203.4,2,    956.0,2,   2317.3,6,   7.6290,6,25,  -999.0, -999.00,-999.0000,-999.000,-999.000
     316N151_4,   A22,    22,  1,      1,      1,2,19970820,1420, 17.7497, -66.0000,  810, 8212.8,    816.8,   6.8926,  34.9225,2,  34.9221,2,    141.0,2,  6.8135,    140.0,2,    21.30,6,    29.62,6,     0.00,6,     1.95,6,    0.141,2,    0.079,2,    0.001,2, -999.000,9,-999.0000,5,  -999.00,9,   -999.0,9,  -999.00,9,-999.000,9,   2204.5,2,    956.0,2,   2317.4,2,   7.6290,2,25,  -999.0, -999.00,-999.0000,-999.000,-999.000
     316N151_4,   A22,    23,  1,      9,      9,2,19970820,1710, 17.9350, -65.9987,  404,  138.4,      2.4,  29.1750,  35.8533,2,  35.8589,2,   -999.0,9, 29.1744,    202.2,2,     1.16,2,     0.02,2,     0.00,2,     0.01,2,    1.586,2,    1.019,2,    0.115,2, -999.000,9,-999.0000,5,  -999.00,9,   -999.0,9,  -999.00,9,-999.000,9,   1976.2,2,    266.0,2,   2332.5,3,   8.1070,2,25,  -999.0, -999.00,-999.0000,-999.000,-999.000
     316N151_4,   A22,    23,  1,      8,      8,2,19970820,1710, 17.9350, -65.9987,  404,  608.6,     50.3,  27.0069,  36.3053,2,  36.3188,2,    205.6,2, 26.9953,    208.6,2,     0.87,2,     0.02,2,     0.01,2,     0.01,2, -999.000,9, -999.000,9, -999.000,9, -999.000,9,-999.0000,5,  -999.00,9,   -999.0,9,  -999.00,9,-999.000,9,   2014.6,2,    271.0,2,   2378.1,2,   8.1100,2,25,  -999.0, -999.00,-999.0000,-999.000,-999.000
     316N151_4,   A22,    23,  1,      7,      7,2,19970820,1710, 17.9350, -65.9987,  404, 1105.9,    100.9,  24.9597,  36.9872,2,  37.0043,2,    198.2,2, 24.9377,    203.4,2,     0.68,2,     0.24,2,     0.11,2,     0.02,2,    1.850,6,    1.132,6,    0.137,2, -999.000,9,-999.0000,5,  -999.00,9,   -999.0,9,  -999.00,9,-999.000,9,   2057.0,2,    288.0,2,   2420.6,2,   8.0930,2,25,  -999.0, -999.00,-999.0000,-999.000,-999.000
     316N151_4,   A22,    23,  1,      6,      6,2,19970820,1710, 17.9350, -65.9987,  404, 1594.5,    150.6,  22.6103,  37.2121,2,  37.2149,2,    186.1,2, 22.5796,    186.3,2,     0.50,2,     1.07,2,     0.04,2,     0.05,2,    2.000,2,    1.183,2,    0.106,2, -999.000,9,-999.0000,5,  -999.00,9,   -999.0,9,  -999.00,9,-999.000,9,   2104.8,2,    343.0,2,   2433.1,2,   8.0340,2,25,  -999.0, -999.00,-999.0000,-999.000,-999.000
     316N151_4,   A22,    23,  1,      5,      5,2,19970820,1710, 17.9350, -65.9987,  404, 2084.3,    200.9,  20.4080,  36.9381,2,  36.9178,2,    176.5,2, 20.3699,    179.6,2,     0.80,2,     2.58,2,     0.02,2,     0.11,2,    2.116,2,    1.234,2,    0.037,2, -999.000,9,-999.0000,5,  -999.00,9,   -999.0,9,  -999.00,9,-999.000,9,   2115.6,2,    381.0,2,   2413.5,2,   7.9940,2,25,  -999.0, -999.00,-999.0000,-999.000,-999.000
     316N151_4,   A22,    23,  1,      4,      4,2,19970820,1710, 17.9350, -65.9987,  404, 2585.6,    251.8,  18.5729,  36.6432,2,  36.6536,2,    177.1,2, 18.5283,    179.8,2,     1.41,2,     4.95,2,     0.01,2,     0.25,2,    2.184,6,    1.241,2,    0.020,2, -999.000,9,-999.0000,5,  -999.00,9,   -999.0,9,  -999.00,9,-999.000,9,   2117.0,2,    410.0,2,   2396.9,6,   7.9650,2,25,  -999.0, -999.00,-999.0000,-999.000,-999.000
     316N151_4,   A22,    23,  1,      3,      3,2,19970820,1710, 17.9350, -65.9987,  404, 3077.4,    301.5,  17.6650,  36.4877,2,  36.4846,2,    176.7,2, 17.6133,    178.4,2,     1.92,2,     6.85,2,     0.01,2,     0.37,2,    2.155,2,    1.197,2,    0.014,2, -999.000,9,-999.0000,5,  -999.00,9,   -999.0,9,  -999.00,9,-999.000,9,   2120.3,2,    428.0,2,   2386.5,2,   7.9470,2,25,  -999.0, -999.00,-999.0000,-999.000,-999.000
     316N151_4,   A22,    23,  1,      2,      2,2,19970820,1710, 17.9350, -65.9987,  404, 3584.7,    352.6,  16.9973,  36.3719,2,  36.3580,2,    174.2,2, 16.9383,    174.9,2,     2.43,2,     8.38,2,     0.01,2,     0.47,2,    2.098,2,    1.141,2,    0.019,2, -999.000,9,-999.0000,5,  -999.00,9,   -999.0,9,  -999.00,9,-999.000,9,   2126.4,2,    453.0,2,   2380.2,2,   7.9260,2,25,  -999.0, -999.00,-999.0000,-999.000,-999.000
     316N151_4,   A22,    23,  1,      1,      1,2,19970820,1710, 17.9350, -65.9987,  404, 4135.7,    407.6,  15.4087,  36.1060,2,  36.1123,2,    168.0,2, 15.3449,    169.6,2,     3.64,6,    11.27,6,     0.01,6,     0.65,6,    1.918,6,    1.038,6,    0.017,2, -999.000,9,-999.0000,5,  -999.00,9,   -999.0,9,  -999.00,9,-999.000,9,   2135.9,2,    504.0,2,   2363.7,2,   7.8810,2,25,  -999.0, -999.00,-999.0000,-999.000,-999.000