BOTTLE,20220629CCHSIOAMB
EXPOCODE,SECT_ID,STNNBR,CASTNO,SAMPNO,BTLNBR,BTLNBR_FLAG_W,DATE,TIME,LATITUDE,LONGITUDE,DEPTH,CTDRAW,CTDPRS,CTDTMP,CTDSAL,CTDSAL_FLAG_W,SALNTY,SALNTY_FLAG_W,CTDOXY,CTDOXY_FLAG_W,THETA,OXYGEN,OXYGEN_FLAG_W,SILCAT,SILCAT_FLAG_W,NITRAT,NITRAT_FLAG_W,NITRIT,NITRIT_FLAG_W,PHSPHT,PHSPHT_FLAG_W,CFC-11,CFC-11_FLAG_W,CFC-12,CFC-12_FLAG_W,CFC113,CFC113_FLAG_W,TRITUM,TRITUM_FLAG_W,HELIUM,HELIUM_FLAG_W,DELHE3,DELHE3_FLAG_W,DELC14,DELC14_FLAG_W,DELC13,DELC13_FLAG_W,NEON,NEON_FLAG_W,TCARBN,TCARBN_FLAG_W,PCO2,PCO2_FLAG_W,ALKALI,ALKALI_FLAG_W,PH,PH_FLAG_W,PH_TMP,C14ERR,DELHER,HELIER,NEONER,TRITER
,,,,,,,,,,,,,DBAR,ITS-90,PSS-78,,PSS-78,,UMOL/KG,,ITS-90,UMOL/KG,,UMOL/KG,,UMOL/KG,,UMOL/KG,,UMOL/KG,,PMOL/KG,,PMOL/KG,,PMOL/KG,,TU,,NMOL/KG,,PERCNT,,/MILLE,,/MILLE,,NMOL/KG,,UMOL/KG,,UATM,,UMOL/KG,,,,DEG C,/MILLE,PERCNT,NMOL/KG,NMOL/KG,TU
     316N151_4,   A22,    59,  1,     32,     32,2,19970830,0418, 34.8972, -66.0070, 4994,  211.7,      7.0,  26.5957,  36.1305,2,  36.1339,2,    196.6,2, 26.5941,    209.8,2,     0.42,2,     0.02,2,     0.00,2,     0.01,2,    1.773,6,    1.051,6,    0.135,2, -999.000,9,-999.0000,5,  -999.00,9,     82.4,2,     1.20,2,-999.000,9,   2009.5,2,    278.0,2,   2359.8,2,   8.1030,2,25,     4.8, -999.00,-999.0000,-999.000,-999.000
     316N151_4,   A22,    59,  1,     31,     31,2,19970830,0418, 34.8972, -66.0070, 4994,  661.5,     52.4,  23.2738,  36.5998,2,  36.6039,2,    222.3,2, 23.2630,    212.0,2,     0.46,2,     0.02,2,     0.00,2,     0.01,2,    2.051,2,    1.189,2,    0.131,2, -999.000,9,-999.0000,5,  -999.00,9,     87.6,2,     1.18,2,-999.000,9,   2049.0,2,    300.0,2,   2391.0,6,   8.0750,6,25,     3.5, -999.00,-999.0000,-999.000,-999.000
     316N151_4,   A22,    59,  1,     30,     30,2,19970830,0418, 34.8972, -66.0070, 4994, 1161.6,    102.3,  20.4539,  36.6335,2,  36.6366,2,    208.5,2, 20.4346,    207.5,2,     0.31,2,     0.55,2,     0.18,2,     0.04,2,    2.250,2,    1.287,2,    0.132,2, -999.000,9,-999.0000,5,  -999.00,9,     80.7,2,     1.05,2,-999.000,9,   2071.2,2,    332.0,2,   2394.3,2,   8.0290,2,25,     3.5, -999.00,-999.0000,-999.000,-999.000
     316N151_4,   A22,    59,  1,     29,     29,2,19970830,0418, 34.8972, -66.0070, 4994, 1674.3,    153.3,  19.1827,  36.6315,2,  36.6283,2,    203.1,2, 19.1549,    200.4,2,     0.64,2,     2.10,2,     0.02,2,     0.10,2,    2.299,2,    1.297,2,    0.095,2, -999.000,9,-999.0000,5,  -999.00,9,     82.9,2,     0.98,2,-999.000,9,   2085.3,2,    356.0,2,   2392.6,2,   8.0080,2,25,     3.4, -999.00,-999.0000,-999.000,-999.000
     316N151_4,   A22,    59,  1,     28,     28,2,19970830,0418, 34.8972, -66.0070, 4994, 2166.1,    202.0,  18.6190,  36.6037,2,  36.6053,2,    206.7,2, 18.5831,    207.0,2,     0.69,2,     2.38,2,     0.01,2,     0.11,2,    2.375,2,    1.347,2,    0.104,2, -999.000,9,-999.0000,5,  -999.00,9,     87.6,2,     0.96,2,-999.000,9,   2084.9,2,    358.0,2,   2391.7,2,   8.0150,2,25,     3.5, -999.00,-999.0000,-999.000,-999.000
     316N151_4,   A22,    59,  1,     27,     27,2,19970830,0418, 34.8972, -66.0070, 4994, 2664.1,    251.4,  18.3978,  36.5843,2,  36.5850,2,    210.9,2, 18.3535,    207.5,2,     0.83,2,     2.76,2,     0.01,2,     0.14,2,    2.383,2,    1.340,2,    0.081,2, -999.000,9,-999.0000,5,  -999.00,9,     86.6,2,     0.94,2,-999.000,9,   2087.4,2,    363.0,2,   2391.6,2,   8.0130,2,25,     3.1, -999.00,-999.0000,-999.000,-999.000
     316N151_4,   A22,    59,  1,     26,     26,2,19970830,0418, 34.8972, -66.0070, 4994, 3021.6,    286.7,  18.2747,  36.5672,2,  36.5692,2,    204.8,2, 18.2243,    205.4,2,     0.97,2,     3.21,2,     0.01,2,     0.16,2,    2.371,2,    1.330,2,    0.070,2, -999.000,9,-999.0000,5,  -999.00,9,     93.9,2,     0.94,2,-999.000,9,   2090.0,2,    371.0,2,   2386.1,2,   8.0070,2,25,     3.6, -999.00,-999.0000,-999.000,-999.000
     316N151_4,   A22,    59,  1,     25,     25,2,19970830,0418, 34.8972, -66.0070, 4994, 4150.4,    399.1,  18.1123,  36.5567,2,  36.5573,2,    214.5,2, 18.0424,    212.4,2,     0.92,2,     2.93,2,     0.01,2,     0.15,2,    2.407,2,    1.354,2,    0.093,2, -999.000,9,-999.0000,5,  -999.00,9,     93.3,2,     1.03,2,-999.000,9,   2087.9,2,    367.0,2,   2389.7,2,   8.0130,2,25,     4.7, -999.00,-999.0000,-999.000,-999.000
     316N151_4,   A22,    59,  1,     24,     24,2,19970830,0418, 34.8972, -66.0070, 4994, 5156.7,    499.6,  17.7585,  36.4874,2,  36.4877,2,    200.9,2, 17.6722,    201.3,2,     1.35,2,     4.56,2,     0.01,2,     0.24,2,    2.314,2,    1.283,2,    0.060,2, -999.000,9,-999.0000,5,  -999.00,9,    114.4,2,     0.91,2,-999.000,9,   2098.3,2,    393.0,2,   2385.2,2,   7.9860,2,25,     3.4, -999.00,-999.0000,-999.000,-999.000
     316N151_4,   A22,    59,  1,     23,     23,2,19970830,0418, 34.8972, -66.0070, 4994, 6167.5,    600.7,  16.6853,  36.2835,2,  36.2787,2,    183.6,2, 16.5855,    182.7,2,     2.56,2,     8.16,2,     0.01,2,     0.46,2,    2.075,2,    1.129,2,    0.034,2, -999.000,9,-999.0000,5,  -999.00,9,     95.3,2,     0.89,2,-999.000,9,   2117.1,2,    453.0,2,   2374.1,2,   7.9370,2,25,     3.8, -999.00,-999.0000,-999.000,-999.000
     316N151_4,   A22,    59,  1,     22,     22,2,19970830,0418, 34.8972, -66.0070, 4994, 7155.4,    699.8,  15.0720,  36.0080,2,  36.0082,2,    176.8,2, 14.9632,    169.9,2,     4.25,2,    11.98,2,     0.00,2,     0.71,2,    1.832,2,    0.983,2,    0.026,2, -999.000,9,-999.0000,5,  -999.00,9,     78.7,2,     0.74,2,-999.000,9,   2135.2,2,    528.0,2,   2359.6,2,   7.8810,2,25,     4.3, -999.00,-999.0000,-999.000,-999.000
     316N151_4,   A22,    59,  1,     21,     21,2,19970830,0418, 34.8972, -66.0070, 4994, 8178.3,    802.6,  12.8970,  35.6599,2,  35.6565,2,    158.8,2, 12.7840,    149.6,2,     7.81,2,    17.84,2,     0.00,2,     1.09,2,    1.300,2,    0.696,2,    0.018,2, -999.000,9,-999.0000,5,  -999.00,9,      0.2,2,     0.60,2,-999.000,9,   2161.1,2,    657.0,2,   2343.4,2,   7.7960,2,25,     4.9, -999.00,-999.0000,-999.000,-999.000
     316N151_4,   A22,    59,  1,     20,     20,2,19970830,0418, 34.8972, -66.0070, 4994, 9159.7,    901.2,  10.7230,  35.3594,2,  35.3581,2,    148.3,2, 10.6097,    140.1,2,    11.74,2,    22.43,2,     0.00,2,     1.41,2,    0.851,2,    0.453,2,    0.014,2, -999.000,9,-999.0000,5,  -999.00,9,      3.7,2,     0.58,2,-999.000,9,   2180.2,2,    775.0,2,   2330.8,2,   7.7270,2,25,     4.8, -999.00,-999.0000,-999.000,-999.000
     316N151_4,   A22,    59,  1,     19,     19,2,19970830,0418, 34.8972, -66.0070, 4994,10146.7,   1000.2,   8.8459,  35.1887,2,  35.1899,2,    154.4,2,  8.7331,    154.5,2,    13.64,2,    23.21,2,     0.00,2,     1.49,2,    0.844,2,    0.429,2,    0.021,2, -999.000,9,-999.0000,5,  -999.00,9,     -7.5,2,     0.66,2,-999.000,9,   2185.6,2,    826.0,2,   2324.2,2,   7.7070,2,25,     4.5, -999.00,-999.0000,-999.000,-999.000
     316N151_4,   A22,    59,  1,     18,     18,2,19970830,0418, 34.8972, -66.0070, 4994,11167.0,   1102.6,   6.7405,  35.0739,2,  35.0739,2,    185.9,2,  6.6325,    187.2,2,    13.88,2,    21.95,2,     0.00,2,     1.44,2,    1.052,2,    0.532,2,    0.046,2, -999.000,9,-999.0000,5,  -999.00,9,    -27.8,2,     0.72,2,-999.000,9,   2182.0,2,    832.0,2,   2317.5,2,   7.7020,2,25,     2.8, -999.00,-999.0000,-999.000,-999.000
     316N151_4,   A22,    59,  1,     17,     17,2,19970830,0418, 34.8972, -66.0070, 4994,13165.2,   1302.4,   5.0159,  35.0304,2,  35.0299,2,    238.2,2,  4.9033,    234.8,2,    12.37,2,    19.09,2,     0.00,2,     1.26,2,    1.450,2,    0.709,2,    0.065,2, -999.000,9,-999.0000,5,  -999.00,9,    -30.8,2,     0.78,2,-999.000,9,   2168.9,2,    781.0,2,   2315.3,2,   7.7280,2,25,     3.2, -999.00,-999.0000,-999.000,-999.000
     316N151_4,   A22,    59,  1,     16,     16,2,19970830,0418, 34.8972, -66.0070, 4994,15160.8,   1502.0,   4.4935,  35.0099,2,-999.0000,9,    254.7,2,  4.3675,    250.2,2,    12.02,2,    18.31,2,     0.00,2,     1.21,2,    1.376,2,    0.675,2,    0.054,2, -999.000,9,-999.0000,5,  -999.00,9,    -36.6,2,     0.86,2,-999.000,9,   -999.0,9,    756.0,2,   2314.8,2,   7.7390,2,25,     3.5, -999.00,-999.0000,-999.000,-999.000
     316N151_4,   A22,    59,  1,     15,     15,2,19970830,0418, 34.8972, -66.0070, 4994,17644.1,   1750.1,   3.9549,  34.9567,2,-999.0000,9,    268.5,2,  3.8121,    263.1,2,    11.87,2,    17.78,2,     0.00,2,     1.18,2,    1.614,2,    0.802,2,    0.081,2, -999.000,9,-999.0000,5,  -999.00,9,    -34.9,2,     0.88,2,-999.000,9,   -999.0,9,    752.0,2,   2310.2,2,   7.7430,2,25,     3.6, -999.00,-999.0000,-999.000,-999.000
     316N151_4,   A22,    59,  1,     14,     14,2,19970830,0418, 34.8972, -66.0070, 4994,20149.0,   2000.5,   3.6903,  34.9409,2,  34.9420,2,    274.6,2,  3.5275,    268.7,2,    12.40,2,    17.54,2,     0.00,2,     1.17,2,    1.536,2,    0.754,2,    0.074,2, -999.000,9,-999.0000,5,  -999.00,9,    -31.0,2,     0.90,2,-999.000,9,   2157.6,2,    745.0,2,   2309.9,2,   7.7420,2,25,     6.4, -999.00,-999.0000,-999.000,-999.000
     316N151_4,   A22,    59,  1,     13,     13,2,19970830,0418, 34.8972, -66.0070, 4994,22646.0,   2250.0,   3.5445,  34.9444,2,  34.9461,2,    272.5,2,  3.3597,    267.7,2,    13.52,2,    17.62,2,     0.00,2,     1.18,2,    1.212,2,    0.594,2,    0.053,2, -999.000,9,-999.0000,5,  -999.00,9,     -0.5,2,     0.99,2,-999.000,9,   2157.4,2,    739.0,2,   2312.2,2,   7.7470,2,25,     3.6, -999.00,-999.0000,-999.000,-999.000
     316N151_4,   A22,    59,  1,     12,     12,2,19970830,0418, 34.8972, -66.0070, 4994,25166.0,   2501.8,   3.4927,  34.9656,2,  34.9679,2,    266.9,2,  3.2834,    262.8,2,    15.99,2,    17.98,2,     0.00,2,     1.20,2,    0.555,2,    0.282,2,    0.026,2, -999.000,9,-999.0000,5,  -999.00,9,    -59.2,2,     0.98,2,-999.000,9,   2158.5,2,    731.0,2,   2314.5,2,   7.7490,2,25,     4.6, -999.00,-999.0000,-999.000,-999.000
     316N151_4,   A22,    59,  1,     11,     11,2,19970830,0418, 34.8972, -66.0070, 4994,27687.6,   2753.9,   3.2641,  34.9554,2,  34.9564,2,    265.2,2,  3.0335,    263.4,2,    17.51,2,    17.91,2,     0.00,2,     1.21,2,    0.491,2,    0.249,2,    0.016,2, -999.000,9,-999.0000,5,  -999.00,9,    -80.8,2,     1.02,2,-999.000,9,   2161.3,2,    731.0,2,   2316.9,2,   7.7550,2,25,     2.9, -999.00,-999.0000,-999.000,-999.000
     316N151_4,   A22,    59,  1,     10,     10,2,19970830,0418, 34.8972, -66.0070, 4994,30168.3,   3001.8,   3.0391,  34.9457,2,  34.9473,2,    265.6,2,  2.7872,    263.8,2,    19.79,2,    18.07,2,     0.00,2,     1.22,2,    0.386,2,    0.191,2,    0.013,2, -999.000,9,-999.0000,5,  -999.00,9,   -999.0,9,  -999.00,9,-999.000,9,   2162.7,2,    730.0,2,   2318.9,2,   7.7500,2,25,  -999.0, -999.00,-999.0000,-999.000,-999.000
     316N151_4,   A22,    59,  1,      9,      9,2,19970830,0418, 34.8972, -66.0070, 4994,32650.6,   3249.9,   2.8131,  34.9315,2,  34.9330,2,    267.1,2,  2.5401,    267.3,2,    20.12,2,    17.75,2,     0.00,2,     1.20,2,    0.528,6,    0.267,6, -999.000,9, -999.000,9,-999.0000,5,  -999.00,9,    -71.8,6,     1.03,6,-999.000,9,   2162.4,2,    732.0,2,   2321.3,2,   7.7520,2,25,     2.4, -999.00,-999.0000,-999.000,-999.000
     316N151_4,   A22,    59,  1,      8,      8,2,19970830,0418, 34.8972, -66.0070, 4994,35168.4,   3501.6,   2.5986,  34.9197,2,  34.9223,2,    267.1,2,  2.3035,    267.6,2,    22.80,2,    17.96,2,     0.00,2,     1.22,2,    0.417,2,    0.214,2,    0.014,2, -999.000,9,-999.0000,5,  -999.00,9,    -68.9,2,     1.01,2,-999.000,9,   2164.4,2,    732.0,2,   2318.3,3,   7.7510,2,25,     3.0, -999.00,-999.0000,-999.000,-999.000
     316N151_4,   A22,    59,  1,      7,      7,2,19970830,0418, 34.8972, -66.0070, 4994,37684.5,   3753.2,   2.4398,  34.9105,2,  34.9105,2,    266.8,2,  2.1211,    267.5,2,    25.08,2,    18.08,2,     0.00,2,     1.23,2,    0.441,2,    0.225,2,    0.012,2, -999.000,9,-999.0000,5,  -999.00,9,    -77.5,2,     1.01,2,-999.000,9,   2167.9,2,    736.0,2,   2323.0,2,   7.7490,2,25,     3.3, -999.00,-999.0000,-999.000,-999.000
     316N151_4,   A22,    59,  1,      6,      6,2,19970830,0418, 34.8972, -66.0070, 4994,40150.3,   3999.7,   2.3509,  34.9029,2,  34.9046,2,    266.2,2,  2.0069,    266.4,2,    27.37,2,    18.33,2,     0.00,2,     1.25,2,    0.426,2,    0.220,2,    0.023,2, -999.000,9,-999.0000,5,  -999.00,9,    -69.1,2,     1.04,2,-999.000,9,   2169.8,2,    740.0,2,   2321.7,3,   7.7460,2,25,     3.4, -999.00,-999.0000,-999.000,-999.000
     316N151_4,   A22,    59,  1,      5,      5,2,19970830,0418, 34.8972, -66.0070, 4994,42646.0,   4249.2,   2.2950,  34.8964,2,  34.8922,2,    264.9,2,  1.9238,    265.7,2,    29.56,2,    18.61,2,     0.00,2,     1.27,2,    0.496,2,    0.253,2,    0.024,2, -999.000,9,-999.0000,5,  -999.00,9,    -80.1,2,     1.02,2,-999.000,9,   2173.1,2,    747.0,2,   2327.8,2,   7.7410,2,25,     3.1, -999.00,-999.0000,-999.000,-999.000
     316N151_4,   A22,    59,  1,      4,      4,2,19970830,0418, 34.8972, -66.0070, 4994,45163.5,   4500.8,   2.2772,  34.8916,2,  34.8908,2,    262.8,2,  1.8767,    264.0,2,    32.13,2,    19.03,2,     0.00,2,     1.30,2,    0.444,6,    0.227,6,    0.023,2, -999.000,9,-999.0000,5,  -999.00,9,    -69.8,2,     0.99,2,-999.000,9,   2176.0,2,    746.0,2,   2331.6,2,   7.7460,2,25,     3.8, -999.00,-999.0000,-999.000,-999.000
     316N151_4,   A22,    59,  1,      3,      3,2,19970830,0418, 34.8972, -66.0070, 4994,47660.9,   4750.4,   2.2763,  34.8885,2,  34.8881,2,    261.3,2,  1.8456,    262.9,2,    34.03,2,    19.31,2,     0.00,2,     1.32,2,    0.410,2,    0.213,2,    0.022,2, -999.000,9,-999.0000,5,  -999.00,9,    -88.5,2,     0.76,2,-999.000,9,   2178.7,2,    747.0,2,   2332.8,2,   7.7440,2,25,     3.2, -999.00,-999.0000,-999.000,-999.000
     316N151_4,   A22,    59,  1,      2,      2,2,19970830,0418, 34.8972, -66.0070, 4994,50157.5,   5000.0,   2.2777,  34.8857,2,  34.8846,2,    259.1,2,  1.8159,    260.1,2,    36.41,2,    19.68,2,     0.00,2,     1.35,2,    0.322,2,    0.178,2,    0.020,2, -999.000,9,-999.0000,5,  -999.00,9,    -78.3,2,     0.96,2,-999.000,9,   2181.9,2,    752.0,2,   2335.0,6,   7.7420,2,25,     3.2, -999.00,-999.0000,-999.000,-999.000
     316N151_4,   A22,    59,  1,      1,      1,2,19970830,0418, 34.8972, -66.0070, 4994,51391.8,   5123.4,   2.2867,  34.8850,2,  34.8826,2,    257.8,2,  1.8088,    260.6,2,    36.94,6,    19.73,6,     0.00,6,     1.35,6,    0.341,2,    0.183,2,    0.026,2, -999.000,9,-999.0000,5,  -999.00,9,   -109.9,6,     0.88,2,-999.000,9,   2182.7,2,    747.0,2,   2336.5,2,   7.7440,2,25,     2.2, -999.00,-999.0000,-999.000,-999.000