BOTTLE,20220629CCHSIOAMB
EXPOCODE,SECT_ID,STNNBR,CASTNO,SAMPNO,BTLNBR,BTLNBR_FLAG_W,DATE,TIME,LATITUDE,LONGITUDE,DEPTH,CTDRAW,CTDPRS,CTDTMP,CTDSAL,CTDSAL_FLAG_W,SALNTY,SALNTY_FLAG_W,CTDOXY,CTDOXY_FLAG_W,THETA,OXYGEN,OXYGEN_FLAG_W,SILCAT,SILCAT_FLAG_W,NITRAT,NITRAT_FLAG_W,NITRIT,NITRIT_FLAG_W,PHSPHT,PHSPHT_FLAG_W,CFC-11,CFC-11_FLAG_W,CFC-12,CFC-12_FLAG_W,CFC113,CFC113_FLAG_W,TRITUM,TRITUM_FLAG_W,HELIUM,HELIUM_FLAG_W,DELHE3,DELHE3_FLAG_W,DELC14,DELC14_FLAG_W,DELC13,DELC13_FLAG_W,NEON,NEON_FLAG_W,TCARBN,TCARBN_FLAG_W,PCO2,PCO2_FLAG_W,ALKALI,ALKALI_FLAG_W,PH,PH_FLAG_W,PH_TMP,C14ERR,DELHER,HELIER,NEONER,TRITER
,,,,,,,,,,,,,DBAR,ITS-90,PSS-78,,PSS-78,,UMOL/KG,,ITS-90,UMOL/KG,,UMOL/KG,,UMOL/KG,,UMOL/KG,,UMOL/KG,,PMOL/KG,,PMOL/KG,,PMOL/KG,,TU,,NMOL/KG,,PERCNT,,/MILLE,,/MILLE,,NMOL/KG,,UMOL/KG,,UATM,,UMOL/KG,,,,DEG C,/MILLE,PERCNT,NMOL/KG,NMOL/KG,TU
     316N151_4,   A22,    49,  1,     33,     33,9,19970826,2125, 28.2263, -65.9822, 5195,  185.6,      3.4,  29.1879,  36.6595,2,  36.6651,9,    197.1,2, 29.1871,    207.5,9,     0.83,2,     0.08,2,     0.00,2,     0.01,2,    1.610,2,    0.975,2,    0.125,2, -999.000,9,-999.0000,5,  -999.00,9,   -999.0,9,  -999.00,9,-999.000,9,   2019.4,2,    264.0,2,   2395.0,2,   8.1200,2,25,  -999.0, -999.00,-999.0000,-999.000,-999.000
     316N151_4,   A22,    49,  1,     32,     32,2,19970826,2125, 28.2263, -65.9822, 5195,  712.9,     56.4,  24.1252,  36.9712,2,  36.9719,2,    227.9,2, 24.1132,    226.5,2,     0.65,2,     0.08,2,     0.00,2,     0.02,2,    2.007,2,    1.181,2,    0.151,2, -999.000,9,-999.0000,5,  -999.00,9,   -999.0,9,  -999.00,9,-999.000,9,   2047.7,2,    278.0,2,   2414.5,2,   8.1010,2,25,  -999.0, -999.00,-999.0000,-999.000,-999.000
     316N151_4,   A22,    49,  1,     31,     31,2,19970826,2125, 28.2263, -65.9822, 5195, 1200.2,    105.1,  22.0275,  36.9764,2,  36.9745,2,    205.0,2, 22.0065,    206.0,2,     0.48,2,     0.04,2,     0.00,2,     0.02,2,    2.135,2,    1.231,2,    0.146,2, -999.000,9,-999.0000,5,  -999.00,9,   -999.0,9,  -999.00,9,-999.000,9,   2078.4,2,    317.0,2,   2415.4,2,   8.0600,2,25,  -999.0, -999.00,-999.0000,-999.000,-999.000
     316N151_4,   A22,    49,  1,     30,     30,2,19970826,2125, 28.2263, -65.9822, 5195, 1705.5,    155.5,  20.2865,  36.8439,2,  36.8427,2,    182.8,2, 20.2572,    185.2,2,     0.59,2,     0.88,2,     0.03,2,     0.03,2,    2.229,6,    1.285,6,    0.067,2, -999.000,9,-999.0000,5,  -999.00,9,   -999.0,9,  -999.00,9,-999.000,9,   2105.7,2,    370.0,2,   2407.7,6,   8.0050,6,25,  -999.0, -999.00,-999.0000,-999.000,-999.000
     316N151_4,   A22,    49,  1,     29,     29,2,19970826,2125, 28.2263, -65.9822, 5195, 2203.8,    205.0,  18.9243,  36.6420,2,  36.6349,2,    188.6,2, 18.8874,    197.5,2,     0.80,2,     2.39,2,     0.01,2,     0.10,2,    2.335,6,    1.326,6,    0.052,2, -999.000,9,-999.0000,5,  -999.00,9,   -999.0,9,  -999.00,9,-999.000,9,   2093.4,2,    368.0,2,   2394.3,2,   8.0090,2,25,  -999.0, -999.00,-999.0000,-999.000,-999.000
     316N151_4,   A22,    49,  1,     28,     28,2,19970826,2125, 28.2263, -65.9822, 5195, 2613.3,    245.7,  18.5087,  36.5861,2,  36.5885,2,    195.9,2, 18.4652,    196.8,2,     1.00,2,     3.38,2,     0.01,2,     0.15,2,    2.355,2,    1.327,2,    0.024,2, -999.000,9,-999.0000,5,  -999.00,9,   -999.0,9,  -999.00,9,-999.000,9,   2095.9,2,    376.0,2,   2391.2,2,   7.9970,2,25,  -999.0, -999.00,-999.0000,-999.000,-999.000
     316N151_4,   A22,    49,  1,     27,     27,2,19970826,2125, 28.2263, -65.9822, 5195, 3189.1,    303.0,  18.2193,  36.5493,2,  36.5519,2,    198.9,2, 18.1662,    200.9,2,     1.12,2,     3.72,2,     0.01,2,     0.18,2,    2.360,2,    1.313,2,    0.027,2, -999.000,9,-999.0000,5,  -999.00,9,   -999.0,9,  -999.00,9,-999.000,9,   2094.7,2,    379.0,2,   2388.6,2,   7.9970,2,25,  -999.0, -999.00,-999.0000,-999.000,-999.000
     316N151_4,   A22,    49,  1,     26,     26,2,19970826,2125, 28.2263, -65.9822, 5195, 4192.2,    403.3,  17.6309,  36.4566,2,  36.4601,2,    193.0,2, 17.5616,    193.1,2,     1.61,2,     5.63,2,     0.00,2,     0.29,2,    2.231,2,    1.224,2,    0.023,2, -999.000,9,-999.0000,5,  -999.00,9,   -999.0,9,  -999.00,9,-999.000,9,   2105.2,2,    409.0,2,   2382.4,2,   7.9710,2,25,  -999.0, -999.00,-999.0000,-999.000,-999.000
     316N151_4,   A22,    49,  1,     25,     25,2,19970826,2125, 28.2263, -65.9822, 5195, 5183.5,    502.6,  16.3745,  36.2514,2,  36.2544,2,    181.6,2, 16.2922,    179.5,2,     2.67,2,     8.69,2,     0.00,2,     0.49,2,    2.083,2,    1.119,2,    0.021,2, -999.000,9,-999.0000,5,  -999.00,9,   -999.0,9,  -999.00,9,-999.000,9,   2122.7,2,    469.0,2,   2371.5,2,   7.9250,2,25,  -999.0, -999.00,-999.0000,-999.000,-999.000
     316N151_4,   A22,    49,  1,     24,     24,2,19970826,2125, 28.2263, -65.9822, 5195, 6177.5,    602.2,  14.3232,  35.9132,2,  35.9132,2,    176.8,2, 14.2329,    173.4,2,     4.60,2,    12.67,2,     0.00,2,     0.74,2,    1.772,2,    0.940,2,    0.014,2, -999.000,9,-999.0000,5,  -999.00,9,   -999.0,9,  -999.00,9,-999.000,9,   2138.3,2,    543.0,2,   2353.9,2,   7.8660,2,25,  -999.0, -999.00,-999.0000,-999.000,-999.000
     316N151_4,   A22,    49,  1,     23,     23,2,19970826,2125, 28.2263, -65.9822, 5195, 7179.6,    703.0,  12.7174,  35.6789,2,  35.6779,2,    165.6,2, 12.6198,    164.9,2,     6.71,2,    16.20,2,     0.00,2,     0.97,2,    1.359,2,    0.718,2,    0.015,2, -999.000,9,-999.0000,5,  -999.00,9,   -999.0,9,  -999.00,9,-999.000,9,   2153.0,2,    619.0,2,   2342.1,2,   7.8110,2,25,  -999.0, -999.00,-999.0000,-999.000,-999.000
     316N151_4,   A22,    49,  1,     22,     22,2,19970826,2125, 28.2263, -65.9822, 5195, 8168.0,    802.1,  10.6099,  35.3963,2,  35.3965,2,    153.2,2, 10.5100,    149.6,2,    10.82,2,    21.30,2,     0.00,2,     1.31,2,    0.698,2,    0.376,2,    0.009,2, -999.000,9,-999.0000,5,  -999.00,9,   -999.0,9,  -999.00,9,-999.000,9,   2175.8,2,    742.0,2,   2330.6,2,   7.7430,2,25,  -999.0, -999.00,-999.0000,-999.000,-999.000
     316N151_4,   A22,    49,  1,     21,     21,2,19970826,2125, 28.2263, -65.9822, 5195, 9140.8,    899.5,   8.8789,  35.1941,2,  35.1918,2,    149.0,2,  8.7777,    146.5,2,    14.56,2,    24.53,2,     0.00,2,     1.54,2,    0.386,2,    0.208,2,    0.004,2, -999.000,9,-999.0000,5,  -999.00,9,   -999.0,9,  -999.00,9,-999.000,9,   2187.9,2,    833.0,2,   2324.1,2,   7.6960,2,25,  -999.0, -999.00,-999.0000,-999.000,-999.000
     316N151_4,   A22,    49,  1,     20,     20,2,19970826,2125, 28.2263, -65.9822, 5195,10153.0,   1000.9,   7.6279,  35.1445,2,  35.1468,2,    167.0,2,  7.5239,    166.8,2,    15.04,2,    23.53,2,     0.00,2,     1.51,2,    0.425,2,    0.219,2,    0.011,2, -999.000,9,-999.0000,5,  -999.00,9,   -999.0,9,  -999.00,9,-999.000,9,   2186.6,2,    829.0,2,   2323.9,2,   7.7000,2,25,  -999.0, -999.00,-999.0000,-999.000,-999.000
     316N151_4,   A22,    49,  1,     19,     19,2,19970826,2125, 28.2263, -65.9822, 5195,11155.4,   1101.2,   6.5419,  35.1087,2,  35.1094,2,    187.6,2,  6.4357,    188.8,2,    14.97,2,    22.37,2,     0.00,2,     1.44,2,    0.414,2,    0.213,2,    0.007,2, -999.000,9,-999.0000,5,  -999.00,9,   -999.0,9,  -999.00,9,-999.000,9,   2184.5,2,    872.0,2,   2322.1,2,   7.7040,2,25,  -999.0, -999.00,-999.0000,-999.000,-999.000
     316N151_4,   A22,    49,  1,     18,     18,2,19970826,2125, 28.2263, -65.9822, 5195,13159.4,   1301.6,   5.4189,  35.0930,2,  35.0939,2,    224.4,2,  5.3023,    224.9,2,    13.17,2,    19.67,2,     0.00,2,     1.28,2,    0.665,2,    0.341,2,    0.019,2, -999.000,9,-999.0000,5,  -999.00,9,   -999.0,9,  -999.00,9,-999.000,9,   2171.8,2,    763.0,2,   2322.0,2,   7.7310,2,25,  -999.0, -999.00,-999.0000,-999.000,-999.000
     316N151_4,   A22,    49,  1,     17,     17,2,19970826,2125, 28.2263, -65.9822, 5195,15146.4,   1500.4,   4.5669,  35.0335,2,  35.0357,2,    247.7,2,  4.4401,    248.0,2,    12.62,2,    18.43,2,     0.00,2,     1.21,2,    0.870,2,    0.436,2,    0.027,2, -999.000,9,-999.0000,5,  -999.00,9,   -999.0,9,  -999.00,9,-999.000,9,   2164.3,2,    747.0,2,   2316.6,2,   7.7420,2,25,  -999.0, -999.00,-999.0000,-999.000,-999.000
     316N151_4,   A22,    49,  1,     16,     16,2,19970826,2125, 28.2263, -65.9822, 5195,17402.1,   1725.8,   4.2518,  35.0313,2,  35.0322,2,    250.4,2,  4.1073,    251.4,2,    14.07,2,    18.42,2,     0.00,2,     1.21,2,    0.475,2,    0.255,2,    0.016,2, -999.000,9,-999.0000,5,  -999.00,9,   -999.0,9,  -999.00,9,-999.000,9,   2163.5,2,    733.0,2,   2319.2,2,   7.7420,2,25,  -999.0, -999.00,-999.0000,-999.000,-999.000
     316N151_4,   A22,    49,  1,     15,     15,2,19970826,2125, 28.2263, -65.9822, 5195,20156.2,   2001.1,   3.8074,  35.0027,2,  35.0021,2,    256.1,2,  3.6424,    255.9,2,    16.18,2,    18.38,2,     0.00,2,     1.22,2,    0.239,6,    0.127,6,    0.005,2, -999.000,9,-999.0000,5,  -999.00,9,   -999.0,9,  -999.00,9,-999.000,9,   2162.8,2,    736.0,2,   2318.9,2,   7.7520,2,25,  -999.0, -999.00,-999.0000,-999.000,-999.000
     316N151_4,   A22,    49,  1,     14,     14,2,19970826,2125, 28.2263, -65.9822, 5195,22627.7,   2248.2,   3.4504,  34.9787,2,  34.9791,2,    259.8,2,  3.2671,    259.1,2,    18.00,2,    18.38,2,     0.00,2,     1.22,2,    0.174,2,    0.101,2,    0.006,2, -999.000,9,-999.0000,5,  -999.00,9,   -999.0,9,  -999.00,9,-999.000,9,   2162.9,2,    727.0,2,   2320.7,2,   7.7480,2,25,  -999.0, -999.00,-999.0000,-999.000,-999.000
     316N151_4,   A22,    49,  1,     13,     13,2,19970826,2125, 28.2263, -65.9822, 5195,25138.7,   2499.1,   3.1734,  34.9613,2,  34.9617,2,    258.8,2,  2.9704,    259.3,2,    20.78,2,    18.58,2,     0.00,2,     1.24,2,    0.147,2,    0.083,2,    0.004,2, -999.000,9,-999.0000,5,  -999.00,9,   -999.0,9,  -999.00,9,-999.000,9,   2163.8,2,    725.0,2,   2322.0,2,   7.7550,2,25,  -999.0, -999.00,-999.0000,-999.000,-999.000
     316N151_4,   A22,    49,  1,     12,     12,2,19970826,2125, 28.2263, -65.9822, 5195,27636.7,   2748.8,   2.9545,  34.9464,2,  34.9489,2,    259.2,2,  2.7305,    260.6,2,    22.60,2,    18.62,2,     0.00,2,     1.25,2,    0.150,2,    0.086,2,    0.005,2, -999.000,9,-999.0000,5,  -999.00,9,   -999.0,9,  -999.00,9,-999.000,9,   2167.4,2,    727.0,2,   2324.6,2,   7.7480,2,25,  -999.0, -999.00,-999.0000,-999.000,-999.000
     316N151_4,   A22,    49,  1,     10,     10,2,19970826,2125, 28.2263, -65.9822, 5195,30133.5,   2998.3,   2.7354,  34.9316,2,  34.9324,2,    265.3,2,  2.4906,    264.5,2,    22.81,2,    18.25,2,     0.00,2,     1.22,2,    0.224,2,    0.113,2,    0.009,2, -999.000,9,-999.0000,5,  -999.00,9,   -999.0,9,  -999.00,9,-999.000,9,   2165.8,2,    730.0,2,   2322.1,2,   7.7540,2,25,  -999.0, -999.00,-999.0000,-999.000,-999.000
     316N151_4,   A22,    49,  1,      9,      9,2,19970826,2125, 28.2263, -65.9822, 5195,32644.1,   3249.4,   2.5868,  34.9223,2,  34.9223,2,    260.6,2,  2.3190,    263.7,2,    25.78,2,    18.62,2,     0.00,2,     1.25,2,    0.189,2,    0.103,2,    0.006,2, -999.000,9,-999.0000,5,  -999.00,9,   -999.0,9,  -999.00,9,-999.000,9,   2168.5,2,    732.0,2,   2322.7,2,   7.7490,2,25,  -999.0, -999.00,-999.0000,-999.000,-999.000
     316N151_4,   A22,    49,  1,      8,      8,2,19970826,2125, 28.2263, -65.9822, 5195,35120.1,   3496.8,   2.4759,  34.9133,2,  34.9151,2,    266.3,2,  2.1845,    266.4,2,    25.42,2,    18.24,2,     0.00,2,     1.23,2,    0.225,2,    0.119,2,    0.011,2, -999.000,9,-999.0000,5,  -999.00,9,   -999.0,9,  -999.00,9,-999.000,9,   2166.3,2,    729.0,2,   2324.4,2,   7.7530,2,25,  -999.0, -999.00,-999.0000,-999.000,-999.000
     316N151_4,   A22,    49,  1,      7,      7,2,19970826,2125, 28.2263, -65.9822, 5195,37621.3,   3746.9,   2.3739,  34.9072,2,  34.9078,2,    266.8,2,  2.0577,    266.7,2,    26.96,2,    18.36,2,     0.00,2,     1.24,2,    0.230,2,    0.115,2,    0.013,2, -999.000,9,-999.0000,5,  -999.00,9,   -999.0,9,  -999.00,9,-999.000,9,   2168.6,2,    735.0,2,   2325.7,2,   7.7470,2,25,  -999.0, -999.00,-999.0000,-999.000,-999.000
     316N151_4,   A22,    49,  1,      6,      6,2,19970826,2125, 28.2263, -65.9822, 5195,40146.1,   3999.2,   2.3188,  34.9012,2,  34.9027,2,    266.2,2,  1.9757,    266.1,2,    28.69,2,    18.52,2,     0.00,2,     1.25,2,    0.236,2,    0.116,2,    0.013,2, -999.000,9,-999.0000,5,  -999.00,9,   -999.0,9,  -999.00,9,-999.000,9,   2170.5,2,    738.0,2,   2327.2,2,   7.7510,2,25,  -999.0, -999.00,-999.0000,-999.000,-999.000
     316N151_4,   A22,    49,  1,      5,      5,2,19970826,2125, 28.2263, -65.9822, 5195,42645.9,   4249.1,   2.2959,  34.8969,2,  34.8976,2,    265.3,2,  1.9247,    265.4,2,    30.03,2,    18.69,2,     0.00,2,     1.27,2,    0.264,2,    0.144,2,    0.015,2, -999.000,9,-999.0000,5,  -999.00,9,   -999.0,9,  -999.00,9,-999.000,9,   2172.7,2,    739.0,2,   2328.4,2,   7.7460,2,25,  -999.0, -999.00,-999.0000,-999.000,-999.000
     316N151_4,   A22,    49,  1,      4,      4,2,19970826,2125, 28.2263, -65.9822, 5195,45157.1,   4500.2,   2.2788,  34.8925,2,  34.8946,2,    263.7,2,  1.8783,    263.9,2,    32.14,2,    19.01,2,     0.00,2,     1.28,2,    0.263,2,    0.142,2,    0.016,2, -999.000,9,-999.0000,5,  -999.00,9,   -999.0,9,  -999.00,9,-999.000,9,   2176.1,2,    729.0,2,   2331.0,6,   7.7400,6,25,  -999.0, -999.00,-999.0000,-999.000,-999.000
     316N151_4,   A22,    49,  1,      3,      3,2,19970826,2125, 28.2263, -65.9822, 5195,47659.6,   4750.2,   2.2321,  34.8834,2,  34.8850,2,    260.2,2,  1.8028,    260.3,2,    37.58,2,    19.84,2,     0.01,2,     1.34,2,    0.164,2,    0.097,2,    0.012,2, -999.000,9,-999.0000,5,  -999.00,9,   -999.0,9,  -999.00,9,-999.000,9,   2182.4,2,    738.0,2,   2335.8,2,   7.7370,2,25,  -999.0, -999.00,-999.0000,-999.000,-999.000
     316N151_4,   A22,    49,  1,      2,      2,2,19970826,2125, 28.2263, -65.9822, 5195,50159.2,   5000.2,   2.1919,  34.8746,2,  34.8754,2,    256.6,2,  1.7330,    256.5,2,    42.46,2,    20.66,2,     0.00,2,     1.40,2,    0.115,2,    0.070,2,    0.013,2, -999.000,9,-999.0000,5,  -999.00,9,   -999.0,9,  -999.00,9,-999.000,9,   2187.9,2,    752.0,2,   2341.7,2,   7.7320,2,25,  -999.0, -999.00,-999.0000,-999.000,-999.000
     316N151_4,   A22,    49,  1,      1,      1,2,19970826,2125, 28.2263, -65.9822, 5195,52896.9,   5274.0,   2.1860,  34.8694,2,  34.8700,2,    252.0,2,  1.6924,    254.9,2,    45.39,6,    21.15,6,     0.00,6,     1.43,6,    0.090,6,    0.061,6,    0.008,2, -999.000,9,-999.0000,5,  -999.00,9,   -999.0,9,  -999.00,9,-999.000,9,   2192.7,2,    754.0,2,   2344.0,2,   7.7250,2,25,  -999.0, -999.00,-999.0000,-999.000,-999.000