BOTTLE,20220629CCHSIOAMB
EXPOCODE,SECT_ID,STNNBR,CASTNO,SAMPNO,BTLNBR,BTLNBR_FLAG_W,DATE,TIME,LATITUDE,LONGITUDE,DEPTH,CTDRAW,CTDPRS,CTDTMP,CTDSAL,CTDSAL_FLAG_W,SALNTY,SALNTY_FLAG_W,CTDOXY,CTDOXY_FLAG_W,THETA,OXYGEN,OXYGEN_FLAG_W,SILCAT,SILCAT_FLAG_W,NITRAT,NITRAT_FLAG_W,NITRIT,NITRIT_FLAG_W,PHSPHT,PHSPHT_FLAG_W,CFC-11,CFC-11_FLAG_W,CFC-12,CFC-12_FLAG_W,CFC113,CFC113_FLAG_W,TRITUM,TRITUM_FLAG_W,HELIUM,HELIUM_FLAG_W,DELHE3,DELHE3_FLAG_W,DELC14,DELC14_FLAG_W,DELC13,DELC13_FLAG_W,NEON,NEON_FLAG_W,TCARBN,TCARBN_FLAG_W,PCO2,PCO2_FLAG_W,ALKALI,ALKALI_FLAG_W,PH,PH_FLAG_W,PH_TMP,C14ERR,DELHER,HELIER,NEONER,TRITER
,,,,,,,,,,,,,DBAR,ITS-90,PSS-78,,PSS-78,,UMOL/KG,,ITS-90,UMOL/KG,,UMOL/KG,,UMOL/KG,,UMOL/KG,,UMOL/KG,,PMOL/KG,,PMOL/KG,,PMOL/KG,,TU,,NMOL/KG,,PERCNT,,/MILLE,,/MILLE,,NMOL/KG,,UMOL/KG,,UATM,,UMOL/KG,,,,DEG C,/MILLE,PERCNT,NMOL/KG,NMOL/KG,TU
     316N151_4,   A22,    46,  1,     33,     33,2,19970826,0122, 26.2103, -65.9997, 5224,  228.7,      7.4,  28.9615,  36.7371,2,  36.7377,2,    210.3,2, 28.9597,    206.5,2,     0.77,2,     0.00,2,     0.00,2,     0.01,2,    1.604,2,    0.976,2,    0.118,2, -999.000,9,-999.0000,5,  -999.00,9,   -999.0,9,  -999.00,9,-999.000,9,   -999.0,9,    263.0,2,   -999.0,9,-999.0000,9,-999,  -999.0, -999.00,-999.0000,-999.000,-999.000
     316N151_4,   A22,    46,  1,     32,     32,2,19970826,0122, 26.2103, -65.9997, 5224,  684.1,     53.1,  24.8074,  36.9806,2,  36.9914,2,    237.8,2, 24.7958,    229.9,2,     0.58,2,     0.01,2,     0.00,2,     0.01,2,    2.016,2,    1.182,2,    0.148,2, -999.000,9,-999.0000,5,  -999.00,9,   -999.0,9,  -999.00,9,-999.000,9,   -999.0,9,   -999.0,9,   -999.0,9,-999.0000,9,-999,  -999.0, -999.00,-999.0000,-999.000,-999.000
     316N151_4,   A22,    46,  1,     31,     31,2,19970826,0122, 26.2103, -65.9997, 5224, 1163.7,    101.1,  22.2755,  36.9595,2,  36.8881,2,    214.3,2, 22.2551,    212.1,2,     0.50,2,     0.01,2,     0.00,2,     0.01,2,    2.125,6,    1.230,6,    0.155,2, -999.000,9,-999.0000,5,  -999.00,9,   -999.0,9,  -999.00,9,-999.000,9,   -999.0,9,   -999.0,9,   -999.0,9,-999.0000,9,-999,  -999.0, -999.00,-999.0000,-999.000,-999.000
     316N151_4,   A22,    46,  1,     30,     30,2,19970826,0122, 26.2103, -65.9997, 5224, 1689.2,    153.5,  20.8523,  36.8842,2,  36.8885,2,    198.7,2, 20.8228,    200.8,2,     0.41,2,     0.17,2,     0.04,2,     0.02,2,    2.199,6,    1.272,6,    0.139,2, -999.000,9,-999.0000,5,  -999.00,9,   -999.0,9,  -999.00,9,-999.000,9,   -999.0,9,   -999.0,9,   -999.0,9,-999.0000,9,-999,  -999.0, -999.00,-999.0000,-999.000,-999.000
     316N151_4,   A22,    46,  1,     29,     29,2,19970826,0122, 26.2103, -65.9997, 5224, 2163.7,    200.8,  19.4210,  36.7135,2,  36.7160,2,    186.2,2, 19.3842,    188.6,2,     0.62,2,     1.62,2,     0.02,2,     0.05,2,    2.307,2,    1.307,2,    0.045,2, -999.000,9,-999.0000,5,  -999.00,9,   -999.0,9,  -999.00,9,-999.000,9,   -999.0,9,   -999.0,9,   -999.0,9,-999.0000,9,-999,  -999.0, -999.00,-999.0000,-999.000,-999.000
     316N151_4,   A22,    46,  1,     28,     28,2,19970826,0122, 26.2103, -65.9997, 5224, 2700.0,    254.2,  18.4315,  36.5758,2,  36.5778,2,    205.4,2, 18.3866,    202.4,2,     0.93,2,     3.08,2,     0.01,2,     0.14,2,    2.379,2,    1.338,2,    0.050,2, -999.000,9,-999.0000,5,  -999.00,9,   -999.0,9,  -999.00,9,-999.000,9,   -999.0,9,   -999.0,9,   -999.0,9,-999.0000,9,-999,  -999.0, -999.00,-999.0000,-999.000,-999.000
     316N151_4,   A22,    46,  1,     27,     27,2,19970826,0122, 26.2103, -65.9997, 5224, 3174.9,    301.4,  18.1821,  36.5508,2,  36.5525,2,    207.5,2, 18.1293,    206.9,2,     1.04,2,     3.21,2,     0.01,2,     0.16,2,    2.372,2,    1.341,2,    0.057,2, -999.000,9,-999.0000,5,  -999.00,9,   -999.0,9,  -999.00,9,-999.000,9,   -999.0,9,   -999.0,9,   -999.0,9,-999.0000,9,-999,  -999.0, -999.00,-999.0000,-999.000,-999.000
     316N151_4,   A22,    46,  1,     26,     26,2,19970826,0122, 26.2103, -65.9997, 5224, 4179.6,    402.0,  17.6664,  36.4624,2,  36.4682,2,    195.6,2, 17.5972,    193.5,2,     1.55,2,     5.34,2,     0.01,2,     0.28,2,    2.260,2,    1.241,2,    0.029,2, -999.000,9,-999.0000,5,  -999.00,9,   -999.0,9,  -999.00,9,-999.000,9,   -999.0,9,   -999.0,9,   -999.0,9,-999.0000,9,-999,  -999.0, -999.00,-999.0000,-999.000,-999.000
     316N151_4,   A22,    46,  1,     25,     25,2,19970826,0122, 26.2103, -65.9997, 5224, 5222.5,    506.5,  15.8876,  36.1626,2,  36.1663,2,    184.2,2, 15.8064,    179.2,2,     3.06,2,     9.46,2,     0.00,2,     0.55,2,    2.022,2,    1.089,2,    0.024,2, -999.000,9,-999.0000,5,  -999.00,9,   -999.0,9,  -999.00,9,-999.000,9,   -999.0,9,   -999.0,9,   -999.0,9,-999.0000,9,-999,  -999.0, -999.00,-999.0000,-999.000,-999.000
     316N151_4,   A22,    46,  1,     24,     24,2,19970826,0122, 26.2103, -65.9997, 5224, 6215.5,    606.2,  14.2159,  35.9010,2,  35.9017,2,    175.0,2, 14.1255,    172.2,2,     4.67,2,    12.83,2,     0.00,2,     0.76,2,    1.749,2,    0.928,2,    0.018,2, -999.000,9,-999.0000,5,  -999.00,9,   -999.0,9,  -999.00,9,-999.000,9,   -999.0,9,   -999.0,9,   -999.0,9,-999.0000,9,-999,  -999.0, -999.00,-999.0000,-999.000,-999.000
     316N151_4,   A22,    46,  1,     23,     23,2,19970826,0122, 26.2103, -65.9997, 5224, 7210.0,    706.1,  12.2131,  35.6127,2,  35.6144,2,    164.3,2, 12.1174,    163.6,2,     7.38,2,    16.95,2,     0.00,2,     1.04,2,    1.247,2,    0.661,2,    0.020,2, -999.000,9,-999.0000,5,  -999.00,9,   -999.0,9,  -999.00,9,-999.000,9,   -999.0,9,   -999.0,9,   -999.0,9,-999.0000,9,-999,  -999.0, -999.00,-999.0000,-999.000,-999.000
     316N151_4,   A22,    46,  1,     22,     22,2,19970826,0122, 26.2103, -65.9997, 5224, 8178.2,    803.1,  10.2794,  35.3647,2,  35.3605,2,    153.5,2, 10.1814,    152.8,2,    11.18,2,    21.36,2,     0.00,2,     1.34,2,    0.688,2,    0.375,2,    0.010,2, -999.000,9,-999.0000,5,  -999.00,9,   -999.0,9,  -999.00,9,-999.000,9,   -999.0,9,   -999.0,9,   -999.0,9,-999.0000,9,-999,  -999.0, -999.00,-999.0000,-999.000,-999.000
     316N151_4,   A22,    46,  1,     21,     21,2,19970826,0122, 26.2103, -65.9997, 5224, 9181.0,    903.8,   8.3127,  35.1535,2,  35.1523,2,    150.5,2,  8.2148,    150.6,2,    15.38,2,    24.74,2,     0.00,2,     1.59,2,    0.332,2,    0.183,2,    0.005,2, -999.000,9,-999.0000,5,  -999.00,9,   -999.0,9,  -999.00,9,-999.000,9,   -999.0,9,   -999.0,9,   -999.0,9,-999.0000,9,-999,  -999.0, -999.00,-999.0000,-999.000,-999.000
     316N151_4,   A22,    46,  1,     20,     20,2,19970826,0122, 26.2103, -65.9997, 5224,10097.9,    995.5,   7.1255,  35.0749,2,  35.0750,2,    163.6,2,  7.0259,    163.3,2,    16.89,2,    24.97,2,     0.00,2,     1.63,2,    0.246,2,    0.136,2,    0.004,2, -999.000,9,-999.0000,5,  -999.00,9,   -999.0,9,  -999.00,9,-999.000,9,   -999.0,9,   -999.0,9,   -999.0,9,-999.0000,9,-999,  -999.0, -999.00,-999.0000,-999.000,-999.000
     316N151_4,   A22,    46,  1,     19,     19,2,19970826,0122, 26.2103, -65.9997, 5224,11160.7,   1101.8,   6.3429,  35.1108,2,  35.1117,2,    186.8,2,  6.2381,    192.8,2,    15.21,2,    22.21,2,     0.00,2,     1.45,2,    0.330,2,    0.177,2,    0.006,2, -999.000,9,-999.0000,5,  -999.00,9,   -999.0,9,  -999.00,9,-999.000,9,   -999.0,9,   -999.0,9,   -999.0,9,-999.0000,9,-999,  -999.0, -999.00,-999.0000,-999.000,-999.000
     316N151_4,   A22,    46,  1,     18,     18,2,19970826,0122, 26.2103, -65.9997, 5224,13150.3,   1300.7,   5.2271,  35.0740,2,  35.0752,2,    224.8,2,  5.1126,    227.0,2,    13.63,2,    19.80,2,     0.00,2,     1.31,2,    0.428,2,    0.224,2,    0.004,2, -999.000,9,-999.0000,5,  -999.00,9,   -999.0,9,  -999.00,9,-999.000,9,   -999.0,9,   -999.0,9,   -999.0,9,-999.0000,9,-999,  -999.0, -999.00,-999.0000,-999.000,-999.000
     316N151_4,   A22,    46,  1,     17,     17,2,19970826,0122, 26.2103, -65.9997, 5224,15161.3,   1501.8,   4.6189,  35.0506,2,  35.0520,2,    245.9,2,  4.4913,    244.9,2,    13.34,2,    18.70,2,     0.00,2,     1.24,2,    0.545,6,    0.284,6,    0.014,2, -999.000,9,-999.0000,5,  -999.00,9,   -999.0,9,  -999.00,9,-999.000,9,   -999.0,9,   -999.0,9,   -999.0,9,-999.0000,9,-999,  -999.0, -999.00,-999.0000,-999.000,-999.000
     316N151_4,   A22,    46,  1,     16,     16,2,19970826,0122, 26.2103, -65.9997, 5224,17593.0,   1744.9,   4.1855,  35.0368,2,  35.0381,2,    249.5,2,  4.0400,    249.6,2,    15.35,2,    18.74,2,     0.00,2,     1.24,2,    0.216,2,    0.121,2,    0.004,2, -999.000,9,-999.0000,5,  -999.00,9,   -999.0,9,  -999.00,9,-999.000,9,   -999.0,9,   -999.0,9,   -999.0,9,-999.0000,9,-999,  -999.0, -999.00,-999.0000,-999.000,-999.000
     316N151_4,   A22,    46,  1,     15,     15,2,19970826,0122, 26.2103, -65.9997, 5224,20163.6,   2001.9,   3.7096,  35.0078,2,  35.0087,2,    252.7,2,  3.5460,    252.1,2,    18.65,2,    18.86,2,     0.00,2,     1.26,2,    0.078,2,    0.049,2,    0.004,2, -999.000,9,-999.0000,5,  -999.00,9,   -999.0,9,  -999.00,9,-999.000,9,   -999.0,9,   -999.0,9,   -999.0,9,-999.0000,9,-999,  -999.0, -999.00,-999.0000,-999.000,-999.000
     316N151_4,   A22,    46,  1,     14,     14,2,19970826,0122, 26.2103, -65.9997, 5224,22643.7,   2249.7,   3.4001,  34.9867,2,  34.9881,2,    252.5,2,  3.2174,    252.0,2,    22.55,2,    19.30,2,     0.00,2,     1.29,2,    0.035,2,    0.026,2,    0.002,2, -999.000,9,-999.0000,5,  -999.00,9,   -999.0,9,  -999.00,9,-999.000,9,   -999.0,9,   -999.0,9,   -999.0,9,-999.0000,9,-999,  -999.0, -999.00,-999.0000,-999.000,-999.000
     316N151_4,   A22,    46,  1,     13,     13,2,19970826,0122, 26.2103, -65.9997, 5224,25164.2,   2501.6,   3.1372,  34.9671,2,  34.9680,2,    252.1,2,  2.9345,    251.9,2,    26.16,2,    19.74,2,     0.00,2,     1.32,2,    0.026,2,    0.018,2,    0.001,2, -999.000,9,-999.0000,5,  -999.00,9,   -999.0,9,  -999.00,9,-999.000,9,   -999.0,9,   -999.0,9,   -999.0,9,-999.0000,9,-999,  -999.0, -999.00,-999.0000,-999.000,-999.000
     316N151_4,   A22,    46,  1,     12,     12,2,19970826,0122, 26.2103, -65.9997, 5224,27652.7,   2750.4,   2.9594,  34.9510,2,  34.9503,2,    253.2,2,  2.7352,    253.1,2,    27.96,2,    19.83,2,     0.00,2,     1.33,2,    0.025,2,    0.017,2,    0.000,2, -999.000,9,-999.0000,5,  -999.00,9,   -999.0,9,  -999.00,9,-999.000,9,   -999.0,9,   -999.0,9,   -999.0,9,-999.0000,9,-999,  -999.0, -999.00,-999.0000,-999.000,-999.000
     316N151_4,   A22,    46,  1,     11,     11,2,19970826,0122, 26.2103, -65.9997, 5224,30151.0,   3000.1,   2.8097,  34.9382,2,  34.9383,2,    253.5,2,  2.5631,    254.2,2,    29.98,2,    19.91,2,     0.00,2,     1.35,2,    0.025,2,    0.014,2,    0.000,2, -999.000,9,-999.0000,5,  -999.00,9,   -999.0,9,  -999.00,9,-999.000,9,   -999.0,9,   -999.0,9,   -999.0,9,-999.0000,9,-999,  -999.0, -999.00,-999.0000,-999.000,-999.000
     316N151_4,   A22,    46,  1,     10,     10,2,19970826,0122, 26.2103, -65.9997, 5224,32631.4,   3248.0,   2.6644,  34.9267,2,  34.9264,2,    256.8,2,  2.3950,    257.9,2,    29.69,2,    19.52,2,     0.00,2,     1.32,2,    0.070,2,    0.038,2,    0.000,2, -999.000,9,-999.0000,5,  -999.00,9,   -999.0,9,  -999.00,9,-999.000,9,   -999.0,9,   -999.0,9,   -999.0,9,-999.0000,9,-999,  -999.0, -999.00,-999.0000,-999.000,-999.000
     316N151_4,   A22,    46,  1,      9,      9,2,19970826,0122, 26.2103, -65.9997, 5224,35164.7,   3501.2,   2.5292,  34.9164,2,  34.9163,2,    259.7,2,  2.2360,    258.9,2,    30.80,2,    19.53,2,     0.00,2,     1.32,2,    0.079,2,    0.042,2,    0.001,2, -999.000,9,-999.0000,5,  -999.00,9,   -999.0,9,  -999.00,9,-999.000,9,   -999.0,9,   -999.0,9,   -999.0,9,-999.0000,9,-999,  -999.0, -999.00,-999.0000,-999.000,-999.000
     316N151_4,   A22,    46,  1,      8,      8,2,19970826,0122, 26.2103, -65.9997, 5224,37614.2,   3746.1,   2.4338,  34.9096,2,  34.9095,2,    262.7,2,  2.1161,    262.3,2,    30.02,2,    19.13,2,     0.00,2,     1.30,2,    0.101,2,    0.056,2,    0.005,2, -999.000,9,-999.0000,5,  -999.00,9,   -999.0,9,  -999.00,9,-999.000,9,   -999.0,9,   -999.0,9,   -999.0,9,-999.0000,9,-999,  -999.0, -999.00,-999.0000,-999.000,-999.000
     316N151_4,   A22,    46,  1,      7,      7,2,19970826,0122, 26.2103, -65.9997, 5224,40135.7,   3998.2,   2.3543,  34.9025,2,  34.9020,2,    264.0,2,  2.0103,    264.0,2,    30.63,2,    18.98,2,     0.00,2,     1.30,2,    0.124,2,    0.067,2,    0.004,2, -999.000,9,-999.0000,5,  -999.00,9,   -999.0,9,  -999.00,9,-999.000,9,   -999.0,9,   -999.0,9,   -999.0,9,-999.0000,9,-999,  -999.0, -999.00,-999.0000,-999.000,-999.000
     316N151_4,   A22,    46,  1,      6,      6,2,19970826,0122, 26.2103, -65.9997, 5224,42666.9,   4251.1,   2.2989,  34.8952,2,  34.8972,2,    262.5,2,  1.9274,    262.7,2,    33.34,2,    19.38,2,     0.00,2,     1.32,2,    0.101,2,    0.059,2,    0.002,2, -999.000,9,-999.0000,5,  -999.00,9,   -999.0,9,  -999.00,9,-999.000,9,   -999.0,9,   -999.0,9,   -999.0,9,-999.0000,9,-999,  -999.0, -999.00,-999.0000,-999.000,-999.000
     316N151_4,   A22,    46,  1,      5,      5,2,19970826,0122, 26.2103, -65.9997, 5224,45160.8,   4500.4,   2.2580,  34.8901,2,  34.8909,2,    262.0,2,  1.8582,    261.9,2,    34.74,2,    19.42,2,     0.00,2,     1.33,2,    0.160,2,    0.087,2,    0.009,2, -999.000,9,-999.0000,5,  -999.00,9,   -999.0,9,  -999.00,9,-999.000,9,   -999.0,9,   -999.0,9,   -999.0,9,-999.0000,9,-999,  -999.0, -999.00,-999.0000,-999.000,-999.000
     316N151_4,   A22,    46,  1,      4,      4,2,19970826,0122, 26.2103, -65.9997, 5224,47666.5,   4750.9,   2.2151,  34.8810,2,  34.8830,2,    259.0,2,  1.7863,    258.6,2,    39.24,2,    20.18,2,     0.00,2,     1.38,2,    0.123,2,    0.074,2,    0.011,2, -999.000,9,-999.0000,5,  -999.00,9,   -999.0,9,  -999.00,9,-999.000,9,   -999.0,9,   -999.0,9,   -999.0,9,-999.0000,9,-999,  -999.0, -999.00,-999.0000,-999.000,-999.000
     316N151_4,   A22,    46,  1,      3,      3,2,19970826,0122, 26.2103, -65.9997, 5224,50166.1,   5000.7,   2.1970,  34.8753,2,  34.8759,2,    257.1,2,  1.7378,    256.7,2,    42.65,2,    20.75,2,     0.00,2,     1.42,2,    0.105,2,    0.063,2,    0.012,2, -999.000,9,-999.0000,5,  -999.00,9,   -999.0,9,  -999.00,9,-999.000,9,   -999.0,9,   -999.0,9,   -999.0,9,-999.0000,9,-999,  -999.0, -999.00,-999.0000,-999.000,-999.000
     316N151_4,   A22,    46,  1,      2,      2,2,19970826,0122, 26.2103, -65.9997, 5224,52675.5,   5251.7,   2.1764,  34.8686,2,  34.8695,2,    254.7,2,  1.6861,    254.0,2,    46.06,2,    21.23,2,     0.00,2,     1.46,2,    0.073,2,    0.049,2,    0.003,2, -999.000,9,-999.0000,5,  -999.00,9,   -999.0,9,  -999.00,9,-999.000,9,   -999.0,9,   -999.0,9,   -999.0,9,-999.0000,9,-999,  -999.0, -999.00,-999.0000,-999.000,-999.000
     316N151_4,   A22,    46,  1,      1,      1,2,19970826,0122, 26.2103, -65.9997, 5224,53612.7,   5345.6,   2.1501,  34.8637,2,  34.8628,2,    251.8,2,  1.6487,    253.6,2,    48.42,6,    21.67,6,     0.00,6,     1.48,6,    0.056,6,    0.044,6,    0.006,2, -999.000,9,-999.0000,5,  -999.00,9,   -999.0,9,  -999.00,9,-999.000,9,   -999.0,9,   -999.0,9,   -999.0,9,-999.0000,9,-999,  -999.0, -999.00,-999.0000,-999.000,-999.000