BOTTLE,20220629CCHSIOAMB
EXPOCODE,SECT_ID,STNNBR,CASTNO,SAMPNO,BTLNBR,BTLNBR_FLAG_W,DATE,TIME,LATITUDE,LONGITUDE,DEPTH,CTDRAW,CTDPRS,CTDTMP,CTDSAL,CTDSAL_FLAG_W,SALNTY,SALNTY_FLAG_W,CTDOXY,CTDOXY_FLAG_W,THETA,OXYGEN,OXYGEN_FLAG_W,SILCAT,SILCAT_FLAG_W,NITRAT,NITRAT_FLAG_W,NITRIT,NITRIT_FLAG_W,PHSPHT,PHSPHT_FLAG_W,CFC-11,CFC-11_FLAG_W,CFC-12,CFC-12_FLAG_W,CFC113,CFC113_FLAG_W,TRITUM,TRITUM_FLAG_W,HELIUM,HELIUM_FLAG_W,DELHE3,DELHE3_FLAG_W,DELC14,DELC14_FLAG_W,DELC13,DELC13_FLAG_W,NEON,NEON_FLAG_W,TCARBN,TCARBN_FLAG_W,PCO2,PCO2_FLAG_W,ALKALI,ALKALI_FLAG_W,PH,PH_FLAG_W,PH_TMP,C14ERR,DELHER,HELIER,NEONER,TRITER
,,,,,,,,,,,,,DBAR,ITS-90,PSS-78,,PSS-78,,UMOL/KG,,ITS-90,UMOL/KG,,UMOL/KG,,UMOL/KG,,UMOL/KG,,UMOL/KG,,PMOL/KG,,PMOL/KG,,PMOL/KG,,TU,,NMOL/KG,,PERCNT,,/MILLE,,/MILLE,,NMOL/KG,,UMOL/KG,,UATM,,UMOL/KG,,,,DEG C,/MILLE,PERCNT,NMOL/KG,NMOL/KG,TU
     316N151_4,   A22,    57,  1,     33,     33,2,19970829,0243, 33.5603, -65.9990, 5033,  219.5,      7.5,  27.6266,  36.2916,2,  36.2953,2,    210.2,2, 27.6249,    208.0,2,     0.35,2,     0.02,2,     0.00,2,     0.01,2,    1.688,2,    1.016,2,    0.135,2,    1.049,2,   1.7188,2,    -1.77,2,   -999.0,9,  -999.00,9,   6.936,2,   2019.0,2,    283.0,2,   2368.2,2,   8.0820,2,25,  -999.0,    0.15,  0.0086,   0.035,   0.015
     316N151_4,   A22,    57,  1,     32,     32,2,19970829,0243, 33.5603, -65.9990, 5033,  659.5,     52.0,  23.8477,  36.7192,2,  36.7133,2,    223.4,2, 23.8367,    226.1,2,     0.45,2,     0.02,2,     0.00,2,     0.01,2,    2.088,2,    1.209,2,    0.147,2, -999.000,9,-999.0000,5,  -999.00,9,   -999.0,9,  -999.00,9,-999.000,9,   2051.1,2,    298.0,2,   2397.6,6,   8.0640,6,25,  -999.0, -999.00,-999.0000,-999.000,-999.000
     316N151_4,   A22,    57,  1,     31,     31,2,19970829,0243, 33.5603, -65.9990, 5033, 1156.4,    101.6,  20.6951,  36.6747,2,  36.6746,2,    212.4,2, 20.6757,    214.1,2,     0.36,2,     0.54,2,     0.07,2,     0.04,2,    2.256,6,    1.291,6,    0.144,2,    1.022,2,   1.7587,2,    -1.64,2,   -999.0,9,  -999.00,9,   7.324,2,   2069.0,2,    325.0,2,   2395.3,2,   8.0330,2,25,  -999.0,    0.15,  0.0088,   0.037,   0.013
     316N151_4,   A22,    57,  1,     29,     29,3,19970829,0243, 33.5603, -65.9990, 5033, 1667.1,    152.2,  19.1556,  36.6323,2,  36.6374,3,    206.3,2, 19.1280,   -999.0,9,     0.66,2,     1.61,2,     0.02,2,     0.08,2, -999.000,9, -999.000,9, -999.000,9,    1.068,2,   1.7512,2,    -1.18,2,   -999.0,9,  -999.00,9,   7.255,2,   2085.7,2,   -999.0,9,   -999.0,9,-999.0000,9,-999,  -999.0,    0.15,  0.0088,   0.036,   0.013
     316N151_4,   A22,    57,  1,     30,     30,2,19970829,0243, 33.5603, -65.9990, 5033, 1671.5,    152.8,  19.1350,  36.6279,2,  36.6386,2,    206.2,2, 19.1073,    205.7,2,     0.66,2,     1.61,2,     0.02,2,     0.08,2,    2.341,2,    1.332,2,    0.124,2, -999.000,9,-999.0000,5,  -999.00,9,   -999.0,9,  -999.00,9,-999.000,9,   2084.3,2,    352.0,2,   2393.2,2,   7.9990,2,25,  -999.0, -999.00,-999.0000,-999.000,-999.000
     316N151_4,   A22,    57,  1,     28,     28,2,19970829,0243, 33.5603, -65.9990, 5033, 2165.5,    201.6,  18.5588,  36.5938,2,  36.5949,2,    210.7,2, 18.5232,    209.7,2,     0.77,2,     2.32,2,     0.01,2,     0.11,2,    2.402,2,    1.362,2,    0.115,2,    1.048,2,   1.7652,2,    -1.47,2,   -999.0,9,  -999.00,9,   7.357,2,   2085.7,2,    355.0,2,   2389.8,2,   8.0080,2,25,  -999.0,    0.15,  0.0088,   0.037,   0.013
     316N151_4,   A22,    57,  1,     27,     27,2,19970829,0243, 33.5603, -65.9990, 5033, 2667.9,    251.5,  18.3134,  36.5678,2,  36.5686,2,    214.5,2, 18.2692,    206.6,2,     0.98,2,     2.97,2,     0.01,2,     0.15,2,    2.401,2,    1.352,2,    0.077,2,    1.096,2,   1.7624,2,    -1.49,2,   -999.0,9,  -999.00,9,   7.370,2,   2091.0,2,    367.0,2,   2389.6,2,   8.0080,2,25,  -999.0,    0.15,  0.0088,   0.037,   0.013
     316N151_4,   A22,    57,  1,     26,     26,2,19970829,0243, 33.5603, -65.9990, 5033, 3155.1,    299.8,  18.1821,  36.5563,2,  36.5573,2,    215.1,2, 18.1296,    209.6,2,     0.98,2,     3.02,2,     0.01,2,     0.15,2,    2.411,2,    1.359,2,    0.090,2, -999.000,9,   1.7405,2,    -1.01,2,   -999.0,9,  -999.00,9,   7.257,2,   2089.4,2,    368.0,2,   2388.2,2,   8.0010,2,25,  -999.0,    0.15,  0.0087,   0.036,-999.000
     316N151_4,   A22,    57,  1,     25,     25,2,19970829,0243, 33.5603, -65.9990, 5033, 4164.3,    400.4,  17.9708,  36.5303,2,  36.5314,2,    218.0,2, 17.9011,    210.2,2,     1.08,2,     3.43,2,     0.01,2,     0.18,2,    2.410,2,    1.345,2,    0.084,2,    1.109,2,   1.7560,2,    -0.98,2,   -999.0,9,  -999.00,9,   7.391,2,   2091.5,2,    376.0,2,   2387.0,2,   8.0030,2,25,  -999.0,    0.15,  0.0088,   0.037,   0.013
     316N151_4,   A22,    57,  1,     24,     24,2,19970829,0243, 33.5603, -65.9990, 5033, 5157.5,    499.7,  17.4992,  36.4421,2,  36.4431,2,    208.6,2, 17.4136,    205.1,2,     1.38,2,     4.67,2,     0.01,2,     0.26,2,    2.356,2,    1.311,2,    0.093,2,    1.158,2,   1.7463,2,    -0.25,2,   -999.0,9,  -999.00,9,   7.292,2,   2098.7,2,    397.0,2,   2382.9,2,   7.9870,2,25,  -999.0,    0.15,  0.0087,   0.036,   0.013
     316N151_4,   A22,    57,  1,     23,     23,2,19970829,0243, 33.5603, -65.9990, 5033, 6133.7,    597.5,  15.8436,  36.1376,2,  36.1371,2,    182.1,2, 15.7478,    180.4,2,     3.25,2,     9.70,2,     0.00,2,     0.57,2,    2.043,2,    1.103,2,    0.039,2,    1.239,2,   1.7741,2,     3.19,2,   -999.0,9,  -999.00,9,   7.469,2,   2126.9,2,    482.0,2,   2366.5,2,   7.9060,2,25,  -999.0,    0.15,  0.0089,   0.037,   0.014
     316N151_4,   A22,    57,  1,     22,     22,2,19970829,0243, 33.5603, -65.9990, 5033, 7159.9,    700.7,  13.9432,  35.8278,2,  35.8297,2,    172.9,2, 13.8397,    165.4,2,     5.61,2,    14.30,2,     0.00,2,     0.87,2,    1.683,2,    0.904,2,    0.032,2,    1.200,2,   1.7786,2,     4.88,2,   -999.0,9,  -999.00,9,   7.575,2,   2147.1,2,    575.0,2,   2350.2,2,   7.8460,2,25,  -999.0,    0.15,  0.0089,   0.038,   0.014
     316N151_4,   A22,    57,  1,     21,     21,2,19970829,0243, 33.5603, -65.9990, 5033, 8154.5,    800.6,  11.8652,  35.5300,2,  35.5307,2,    157.0,2, 11.7583,    153.8,2,     8.85,2,    18.84,2,     0.00,2,     1.17,2,    1.273,2,    0.672,2,    0.030,2,    1.002,2,   1.7907,2,     6.89,2,   -999.0,9,  -999.00,9,   7.734,2,   2166.9,2,    682.0,2,   2337.0,2,   7.7710,2,25,  -999.0,    0.15,  0.0090,   0.039,   0.013
     316N151_4,   A22,    57,  1,     20,     20,2,19970829,0243, 33.5603, -65.9990, 5033, 9158.0,    901.3,   9.5058,  35.2576,2,  35.2567,2,    152.6,2,  9.4004,    152.8,2,    12.59,2,    22.47,2,     0.00,2,     1.43,2,    0.907,2,    0.470,2,    0.027,2,    0.781,2,-999.0000,5,  -999.00,9,   -999.0,9,  -999.00,9,-999.000,9,   2184.1,2,    794.0,2,   2326.1,2,   7.7180,2,25,  -999.0, -999.00,-999.0000,-999.000,   0.012
     316N151_4,   A22,    57,  1,     19,     19,2,19970829,0243, 33.5603, -65.9990, 5033,10141.9,    999.8,   7.8863,  35.1539,2,  35.1539,2,    168.1,2,  7.7805,    171.2,2,    13.48,2,    22.39,2,     0.00,2,     1.45,2,    0.888,2,    0.452,2,    0.026,2,    0.701,2,   1.8107,2,     5.53,2,   -999.0,9,  -999.00,9,   7.985,2,   2186.2,2,    819.0,2,   2322.0,2,   7.7040,2,25,  -999.0,    0.15,  0.0091,   0.040,   0.012
     316N151_4,   A22,    57,  1,     18,     18,2,19970829,0243, 33.5603, -65.9990, 5033,11141.4,   1099.8,   6.6054,  35.1195,2,  35.1196,2,    188.7,2,  6.4987,    193.1,2,    13.87,2,    21.60,2,     0.00,2,     1.41,2,    0.700,2,    0.356,2,    0.023,2,    0.619,2,   1.8292,2,     5.93,2,   -999.0,9,  -999.00,9,   8.109,2,   2183.4,2,    802.0,2,   2321.2,2,   7.7120,2,25,  -999.0,    0.15,  0.0091,   0.041,   0.012
     316N151_4,   A22,    57,  1,     17,     17,2,19970829,0243, 33.5603, -65.9990, 5033,13144.0,   1300.1,   5.4121,  35.0941,2,  35.0947,2,    222.3,2,  5.2958,    226.1,2,    12.91,2,    19.55,2,     0.00,2,     1.28,2,    0.754,6,    0.381,6,    0.027,2,    0.593,2,   1.8268,2,     5.65,2,   -999.0,9,  -999.00,9,   8.147,2,   2173.7,2,    766.0,2,   2320.4,2,   7.7330,2,25,  -999.0,    0.15,  0.0091,   0.041,   0.011
     316N151_4,   A22,    57,  1,     16,     16,2,19970829,0243, 33.5603, -65.9990, 5033,15128.4,   1498.6,   4.6753,  35.0400,2,  35.0407,2,    242.7,2,  4.5475,    245.7,2,    12.42,2,    18.52,2,     0.00,2,     1.22,2,    0.996,2,    0.495,2,    0.039,2,    0.705,2,   1.8363,2,     5.95,2,   -999.0,9,  -999.00,9,   8.235,2,   2166.8,2,    750.0,2,   2315.7,2,   7.7450,2,25,  -999.0,    0.15,  0.0092,   0.041,   0.012
     316N151_4,   A22,    57,  1,     15,     15,2,19970829,0243, 33.5603, -65.9990, 5033,17629.3,   1748.5,   4.1448,  34.9977,2,  34.9988,2,    256.9,2,  3.9995,    257.3,2,    12.62,2,    18.06,2,     0.00,2,     1.20,2,    0.992,2,    0.494,2,    0.046,2,    0.670,2,   1.8457,2,     5.70,2,   -999.0,9,  -999.00,9,   8.232,2,   2163.9,2,    742.0,2,   2314.1,2,   7.7450,2,25,  -999.0,    0.15,  0.0092,   0.041,   0.012
     316N151_4,   A22,    57,  1,     14,     14,2,19970829,0243, 33.5603, -65.9990, 5033,20143.2,   1999.8,   3.8918,  34.9940,2,  34.9934,2,    257.1,2,  3.7258,    258.1,2,    14.39,2,    18.10,2,     0.00,2,     1.21,2,    0.610,2,    0.312,2,    0.025,2,    0.423,2,   1.8566,2,     3.37,2,   -999.0,9,  -999.00,9,   8.278,2,   2162.1,2,    732.0,2,   2317.2,2,   7.7540,2,25,  -999.0,    0.15,  0.0093,   0.041,   0.011
     316N151_4,   A22,    57,  1,     13,     13,3,19970829,0243, 33.5603, -65.9990, 5033,22646.8,   2250.0,   3.6460,  34.9825,2,  34.9830,2,    259.7,2,  3.4594,    258.8,2,    16.07,2,    18.19,2,     0.00,2,     1.21,2,    0.418,2,    0.214,2,    0.020,2, -999.000,9,-999.0000,5,  -999.00,9,   -999.0,9,  -999.00,9,-999.000,9,   2162.8,2,    729.0,2,   2315.9,2,   7.7450,2,25,  -999.0, -999.00,-999.0000,-999.000,-999.000
     316N151_4,   A22,    57,  1,     12,     12,2,19970829,0243, 33.5603, -65.9990, 5033,25099.5,   2495.2,   3.3886,  34.9694,2,  34.9699,2,    259.8,2,  3.1819,    260.1,2,    18.03,2,    18.28,2,     0.00,2,     1.23,2,    0.301,2,    0.162,2,    0.009,2,    0.256,2,   1.8754,2,     1.82,2,   -999.0,9,  -999.00,9,   8.443,2,   2163.9,2,    729.0,2,   -999.0,9,-999.0000,9,-999,  -999.0,    0.15,  0.0094,   0.042,   0.010
     316N151_4,   A22,    57,  1,     11,     11,2,19970829,0243, 33.5603, -65.9990, 5033,27636.2,   2748.8,   3.1444,  34.9549,2,  34.9559,2,    261.7,2,  2.9167,    261.8,2,    19.91,2,    18.32,2,     0.00,2,     1.24,2,    0.265,2,    0.129,2,    0.014,2, -999.000,9,-999.0000,5,  -999.00,9,   -999.0,9,  -999.00,9,-999.000,9,   2165.0,2,    730.0,2,   2320.2,2,   7.7480,2,25,  -999.0, -999.00,-999.0000,-999.000,-999.000
     316N151_4,   A22,    57,  1,     10,     10,2,19970829,0243, 33.5603, -65.9990, 5033,30148.8,   2999.9,   2.8916,  34.9389,2,  34.9389,2,    263.9,2,  2.6432,    264.0,2,    21.19,2,    18.19,2,     0.00,2,     1.23,2,    0.278,2,    0.141,2,    0.010,2,    0.235,2,   1.8648,2,     2.01,2,   -999.0,9,  -999.00,9,   8.269,2,   2165.1,2,    725.0,2,   2317.6,2,   7.7480,2,25,  -999.0,    0.15,  0.0093,   0.041,   0.010
     316N151_4,   A22,    57,  1,      9,      9,2,19970829,0243, 33.5603, -65.9990, 5033,32646.3,   3249.6,   2.6782,  34.9261,2,  34.9265,2,    265.5,2,  2.4082,    266.1,2,    22.37,2,    18.07,2,     0.00,2,     1.22,2,    0.304,2,    0.152,2,    0.007,2, -999.000,9,-999.0000,5,  -999.00,9,   -999.0,9,  -999.00,9,-999.000,9,   2163.6,2,    729.0,2,   2322.6,2,   7.7520,2,25,  -999.0, -999.00,-999.0000,-999.000,-999.000
     316N151_4,   A22,    57,  1,      8,      8,2,19970829,0243, 33.5603, -65.9990, 5033,35144.3,   3499.2,   2.4836,  34.9150,2,  34.9143,2,    267.2,2,  2.1917,    267.3,2,    24.34,2,    18.15,2,     0.00,2,     1.23,2,    0.326,2,    0.165,2,    0.016,2,    0.271,2,   1.8671,2,     2.94,2,   -999.0,9,  -999.00,9,   8.186,2,   2167.0,2,    734.0,2,   -999.0,9,-999.0000,9,-999,  -999.0,    0.15,  0.0093,   0.041,   0.010
     316N151_4,   A22,    57,  1,      7,      7,2,19970829,0243, 33.5603, -65.9990, 5033,37646.5,   3749.4,   2.3626,  34.9058,2,  34.9052,2,    266.9,2,  2.0464,    267.0,2,    26.71,2,    18.32,2,     0.00,2,     1.25,2,    0.348,2,    0.162,2,    0.012,2, -999.000,9,-999.0000,5,  -999.00,9,   -999.0,9,  -999.00,9,-999.000,9,   2170.4,2,    734.0,2,   2326.5,2,   7.7480,2,25,  -999.0, -999.00,-999.0000,-999.000,-999.000
     316N151_4,   A22,    57,  1,      6,      6,2,19970829,0243, 33.5603, -65.9990, 5033,40165.8,   4001.2,   2.2999,  34.8989,2,  34.8968,2,    265.5,2,  1.9571,    265.7,2,    29.17,2,    18.60,2,     0.00,2,     1.27,2,    0.339,2,    0.176,2,    0.014,2,    0.293,2,   1.8821,2,     3.11,2,   -999.0,9,  -999.00,9,   8.434,2,   2174.1,2,    743.0,2,   2327.6,2,   7.7500,2,25,  -999.0,    0.15,  0.0094,   0.042,   0.010
     316N151_4,   A22,    57,  1,      5,      5,2,19970829,0243, 33.5603, -65.9990, 5033,42670.8,   4251.6,   2.2568,  34.8926,2,  34.8907,2,    263.7,2,  1.8864,    264.0,2,    32.11,2,    19.05,2,     0.00,2,     1.30,2,    0.318,2,    0.161,2,    0.014,2, -999.000,9,-999.0000,5,  -999.00,9,   -999.0,9,  -999.00,9,-999.000,9,   2176.5,2,    748.0,2,   2330.4,2,   7.7380,2,25,  -999.0, -999.00,-999.0000,-999.000,-999.000
     316N151_4,   A22,    57,  1,      4,      4,2,19970829,0243, 33.5603, -65.9990, 5033,45161.5,   4500.6,   2.2516,  34.8885,2,  34.8901,2,    261.8,2,  1.8520,    262.6,2,    34.09,2,    19.38,2,     0.00,2,     1.32,2,    0.291,2,    0.154,2,    0.019,2,    0.246,2,   1.8891,2,     3.07,2,   -999.0,9,  -999.00,9,   8.312,2,   2180.2,2,    732.0,2,   2332.3,2,   7.7450,2,25,  -999.0,    0.15,  0.0094,   0.042,   0.010
     316N151_4,   A22,    57,  1,      3,      3,2,19970829,0243, 33.5603, -65.9990, 5033,47656.3,   4749.9,   2.2564,  34.8855,2,  34.8864,2,    260.3,2,  1.8264,    260.9,2,    35.95,2,    19.63,2,     0.00,2,     1.34,2,    0.268,2,    0.141,2,    0.019,2, -999.000,9,-999.0000,5,  -999.00,9,   -999.0,9,  -999.00,9,-999.000,9,   2182.3,2,    739.0,2,   2347.4,4,   7.7380,2,25,  -999.0, -999.00,-999.0000,-999.000,-999.000
     316N151_4,   A22,    57,  1,      2,      2,2,19970829,0243, 33.5603, -65.9990, 5033,50169.8,   5001.2,   2.2685,  34.8832,2,  34.8832,2,    259.0,2,  1.8068,    258.9,2,    37.34,2,    19.88,2,     0.00,2,     1.36,2,    0.242,6,    0.137,6,    0.021,2, -999.000,9,-999.0000,5,  -999.00,9,   -999.0,9,  -999.00,9,-999.000,9,   2184.9,2,    743.0,2,   2337.5,6,   7.7400,2,25,  -999.0, -999.00,-999.0000,-999.000,-999.000
     316N151_4,   A22,    57,  1,      1,      1,2,19970829,0243, 33.5603, -65.9990, 5033,51828.9,   5167.1,   2.2615,  34.8804,2,  34.8797,2,    255.9,2,  1.7790,    258.4,2,    39.43,6,    20.21,6,     0.00,6,     1.38,6,    0.197,2,    0.114,2,    0.022,2,    0.184,2,   1.8761,2,     2.63,2,   -999.0,9,  -999.00,9,   8.422,2,   2188.2,2,    744.0,2,   2339.4,2,   7.7440,2,25,  -999.0,    0.15,  0.0094,   0.042,   0.010
     316N151_4,   A22,    58,  1,     11,     11,2,19970829,1806, 34.2242, -65.9963, 5119,27654.2,   2750.5,   3.1742,  34.9548,2,  34.9561,2,    262.3,2,  2.9458,    262.7,2,    19.08,2,    18.10,2,     0.00,2,     1.21,2,    0.328,2,    0.167,2,    0.017,2, -999.000,9,-999.0000,5,  -999.00,9,   -999.0,9,  -999.00,9,-999.000,9,   2162.9,2,   -999.0,9,   -999.0,9,-999.0000,9,-999,  -999.0, -999.00,-999.0000,-999.000,-999.000
     316N151_4,   A22,    58,  1,     10,     10,2,19970829,1806, 34.2242, -65.9963, 5119,30168.0,   3001.8,   2.9394,  34.9422,2,  34.9430,2,    264.0,2,  2.6898,    263.8,2,    21.16,2,    18.19,2,     0.00,2,     1.22,2,    0.266,2,    0.137,2,    0.002,2, -999.000,9,-999.0000,5,  -999.00,9,   -999.0,9,  -999.00,9,-999.000,9,   2164.5,2,   -999.0,9,   -999.0,9,-999.0000,9,-999,  -999.0, -999.00,-999.0000,-999.000,-999.000
     316N151_4,   A22,    58,  1,      9,      9,2,19970829,1806, 34.2242, -65.9963, 5119,32679.2,   3252.8,   2.7184,  34.9287,2,  34.9288,2,    266.2,2,  2.4472,    266.3,2,    22.06,2,    18.02,2,     0.00,2,     1.22,2,    0.317,2,    0.160,2,    0.010,2, -999.000,9,-999.0000,5,  -999.00,9,   -999.0,9,  -999.00,9,-999.000,9,   2164.1,2,   -999.0,9,   -999.0,9,-999.0000,9,-999,  -999.0, -999.00,-999.0000,-999.000,-999.000
     316N151_4,   A22,    58,  1,      8,      8,2,19970829,1806, 34.2242, -65.9963, 5119,35152.4,   3500.0,   2.5257,  34.9172,2,  34.9178,2,    267.9,2,  2.2327,    267.3,2,    23.94,2,    18.03,2,     0.00,2,     1.22,2,    0.338,2,    0.176,2,    0.006,2, -999.000,9,-999.0000,5,  -999.00,9,   -999.0,9,  -999.00,9,-999.000,9,   2166.0,2,   -999.0,9,   -999.0,9,-999.0000,9,-999,  -999.0, -999.00,-999.0000,-999.000,-999.000
     316N151_4,   A22,    58,  1,      7,      7,2,19970829,1806, 34.2242, -65.9963, 5119,37664.7,   3751.2,   2.3983,  34.9087,2,  34.9076,2,    266.8,2,  2.0810,    267.3,2,    26.23,2,    18.24,2,     0.00,2,     1.24,2,    0.331,2,    0.174,2,    0.013,2, -999.000,9,-999.0000,5,  -999.00,9,   -999.0,9,  -999.00,9,-999.000,9,   2168.8,2,   -999.0,9,   -999.0,9,-999.0000,9,-999,  -999.0, -999.00,-999.0000,-999.000,-999.000
     316N151_4,   A22,    58,  1,      6,      6,2,19970829,1806, 34.2242, -65.9963, 5119,40149.7,   3999.5,   2.3193,  34.9012,2,  34.9018,2,    266.4,2,  1.9762,    266.2,2,    28.70,2,    18.53,2,     0.00,2,     1.26,2,    0.333,2,    0.173,2,    0.010,2, -999.000,9,-999.0000,5,  -999.00,9,   -999.0,9,  -999.00,9,-999.000,9,   2171.7,2,   -999.0,9,   -999.0,9,-999.0000,9,-999,  -999.0, -999.00,-999.0000,-999.000,-999.000
     316N151_4,   A22,    58,  1,      5,      5,2,19970829,1806, 34.2242, -65.9963, 5119,42630.3,   4247.5,   2.2831,  34.8962,2,  34.8950,2,    264.8,2,  1.9123,    264.6,2,    31.08,2,    18.82,2,     0.00,2,     1.28,2,    0.322,2,    0.169,2,    0.014,2, -999.000,9,-999.0000,5,  -999.00,9,   -999.0,9,  -999.00,9,-999.000,9,   2175.2,2,   -999.0,9,   -999.0,9,-999.0000,9,-999,  -999.0, -999.00,-999.0000,-999.000,-999.000
     316N151_4,   A22,    58,  1,      4,      4,2,19970829,1806, 34.2242, -65.9963, 5119,45134.5,   4497.9,   2.2594,  34.8905,2,  34.8906,2,    262.7,2,  1.8598,    262.9,2,    33.85,2,    19.27,2,     0.00,2,     1.31,2, -999.000,9, -999.000,9, -999.000,9, -999.000,9,-999.0000,5,  -999.00,9,   -999.0,9,  -999.00,9,-999.000,9,   2178.3,2,   -999.0,9,   -999.0,9,-999.0000,9,-999,  -999.0, -999.00,-999.0000,-999.000,-999.000
     316N151_4,   A22,    58,  1,      3,      3,2,19970829,1806, 34.2242, -65.9963, 5119,47630.5,   4747.3,   2.2639,  34.8871,2,  34.8871,2,    261.3,2,  1.8339,    261.3,2,    35.53,2,    19.52,2,     0.00,2,     1.33,2,    0.281,2,    0.154,2,    0.017,2, -999.000,9,-999.0000,5,  -999.00,9,   -999.0,9,  -999.00,9,-999.000,9,   2180.7,2,   -999.0,9,   -999.0,9,-999.0000,9,-999,  -999.0, -999.00,-999.0000,-999.000,-999.000
     316N151_4,   A22,    58,  1,      2,      2,2,19970829,1806, 34.2242, -65.9963, 5119,50156.2,   4999.8,   2.2723,  34.8847,2,  34.8850,2,    260.1,2,  1.8106,    260.2,2,    37.12,2,    19.81,2,     0.00,2,     1.35,2,    0.236,2,    0.132,2,    0.021,2, -999.000,9,-999.0000,5,  -999.00,9,   -999.0,9,  -999.00,9,-999.000,9,   2185.6,2,   -999.0,9,   -999.0,9,-999.0000,9,-999,  -999.0, -999.00,-999.0000,-999.000,-999.000
     316N151_4,   A22,    58,  1,      1,      1,2,19970829,1806, 34.2242, -65.9963, 5119,52768.3,   5260.8,   2.2813,  34.8823,2,  34.8822,2,    257.0,2,  1.7860,    259.2,2,    38.76,6,    20.05,6,     0.00,6,     1.37,6,    0.203,2,    0.120,2,    0.015,2, -999.000,9,-999.0000,5,  -999.00,9,   -999.0,9,  -999.00,9,-999.000,9,   2185.1,2,   -999.0,9,   -999.0,9,-999.0000,9,-999,  -999.0, -999.00,-999.0000,-999.000,-999.000