BOTTLE,20220629CCHSIOAMB
EXPOCODE,SECT_ID,STNNBR,CASTNO,SAMPNO,BTLNBR,BTLNBR_FLAG_W,DATE,TIME,LATITUDE,LONGITUDE,DEPTH,CTDRAW,CTDPRS,CTDTMP,CTDSAL,CTDSAL_FLAG_W,SALNTY,SALNTY_FLAG_W,CTDOXY,CTDOXY_FLAG_W,THETA,OXYGEN,OXYGEN_FLAG_W,SILCAT,SILCAT_FLAG_W,NITRAT,NITRAT_FLAG_W,NITRIT,NITRIT_FLAG_W,PHSPHT,PHSPHT_FLAG_W,CFC-11,CFC-11_FLAG_W,CFC-12,CFC-12_FLAG_W,CFC113,CFC113_FLAG_W,TRITUM,TRITUM_FLAG_W,HELIUM,HELIUM_FLAG_W,DELHE3,DELHE3_FLAG_W,DELC14,DELC14_FLAG_W,DELC13,DELC13_FLAG_W,NEON,NEON_FLAG_W,TCARBN,TCARBN_FLAG_W,PCO2,PCO2_FLAG_W,ALKALI,ALKALI_FLAG_W,PH,PH_FLAG_W,PH_TMP,C14ERR,DELHER,HELIER,NEONER,TRITER
,,,,,,,,,,,,,DBAR,ITS-90,PSS-78,,PSS-78,,UMOL/KG,,ITS-90,UMOL/KG,,UMOL/KG,,UMOL/KG,,UMOL/KG,,UMOL/KG,,PMOL/KG,,PMOL/KG,,PMOL/KG,,TU,,NMOL/KG,,PERCNT,,/MILLE,,/MILLE,,NMOL/KG,,UMOL/KG,,UATM,,UMOL/KG,,,,DEG C,/MILLE,PERCNT,NMOL/KG,NMOL/KG,TU
     316N151_4,   A22,    63,  1,     31,     31,2,19970831,0628, 37.4108, -65.9897, 4945,  173.6,      2.6,  25.8047,  35.9848,2,  35.9856,2,    178.8,2, 25.8041,    210.8,2,     0.49,2,     0.00,2,     0.00,2,     0.01,2, -999.000,9, -999.000,9, -999.000,9, -999.000,9,-999.0000,5,  -999.00,9,   -999.0,9,  -999.00,9,-999.000,9,   2005.5,2,    281.0,2,   2350.2,2,   8.0910,2,25,  -999.0, -999.00,-999.0000,-999.000,-999.000
     316N151_4,   A22,    63,  1,     30,     30,2,19970831,0628, 37.4108, -65.9897, 4945,  637.2,     49.8,  21.4908,  36.5856,2,  36.5886,2,    238.0,2, 21.4811,    237.4,2,     0.29,2,     0.00,2,     0.00,2,     0.01,2,    2.298,2,    1.334,2,    0.166,2, -999.000,9,-999.0000,5,  -999.00,9,   -999.0,9,  -999.00,9,-999.000,9,   2049.6,2,    300.0,2,   2389.5,6,   8.0730,6,25,  -999.0, -999.00,-999.0000,-999.000,-999.000
     316N151_4,   A22,    63,  1,     29,     29,2,19970831,0628, 37.4108, -65.9897, 4945, 1139.1,     99.7,  19.3982,  36.7023,2,  36.7051,2,    215.2,2, 19.3800,    208.1,2,     0.59,2,     0.61,2,     0.04,2,     0.02,2, -999.000,9, -999.000,9, -999.000,9, -999.000,9,-999.0000,5,  -999.00,9,   -999.0,9,  -999.00,9,-999.000,9,   2084.2,2,    345.0,2,   2398.0,2,   8.0180,2,25,  -999.0, -999.00,-999.0000,-999.000,-999.000
     316N151_4,   A22,    63,  1,     28,     28,2,19970831,0628, 37.4108, -65.9897, 4945, 1665.6,    151.9,  18.5574,  36.5973,2,  36.5975,2,    208.3,2, 18.5306,    208.8,2,     0.89,2,     2.40,2,     0.01,2,     0.11,2,    2.365,2,    1.367,2,    0.109,2, -999.000,9,-999.0000,5,  -999.00,9,   -999.0,9,  -999.00,9,-999.000,9,   2086.3,2,    356.0,2,   2390.5,2,   8.0100,2,25,  -999.0, -999.00,-999.0000,-999.000,-999.000
     316N151_4,   A22,    63,  1,     27,     27,2,19970831,0628, 37.4108, -65.9897, 4945, 2196.8,    204.6,  18.3144,  36.5789,2,  36.5793,2,    211.2,2, 18.2785,    210.9,2,     0.98,2,     2.64,2,     0.01,2,     0.12,2, -999.000,9, -999.000,9, -999.000,9, -999.000,9,-999.0000,5,  -999.00,9,   -999.0,9,  -999.00,9,-999.000,9,   2086.9,2,    358.0,2,   2388.7,2,   8.0170,2,25,  -999.0, -999.00,-999.0000,-999.000,-999.000
     316N151_4,   A22,    63,  1,     26,     26,2,19970831,0628, 37.4108, -65.9897, 4945, 2450.3,    229.5,  18.2564,  36.5730,2,  36.5734,2,    212.1,2, 18.2161,    211.2,2,     0.98,2,     2.73,2,     0.01,2,     0.13,2,    2.382,6,    1.366,6,    0.095,2, -999.000,9,-999.0000,5,  -999.00,9,   -999.0,9,  -999.00,9,-999.000,9,   2087.8,2,    362.0,2,   2388.5,2,   8.0130,2,25,  -999.0, -999.00,-999.0000,-999.000,-999.000
     316N151_4,   A22,    63,  1,     25,     25,2,19970831,0628, 37.4108, -65.9897, 4945, 3163.7,    300.5,  18.1396,  36.5618,2,  36.5618,2,    212.0,2, 18.0872,    212.4,2,     1.08,2,     2.90,2,     0.01,2,     0.14,2, -999.000,9, -999.000,9, -999.000,9, -999.000,9,-999.0000,5,  -999.00,9,   -999.0,9,  -999.00,9,-999.000,9,   2089.3,2,    366.0,2,   2387.6,2,   8.0100,2,25,  -999.0, -999.00,-999.0000,-999.000,-999.000
     316N151_4,   A22,    63,  1,     24,     24,2,19970831,0628, 37.4108, -65.9897, 4945, 4156.9,    399.7,  17.9254,  36.5250,2,  36.5242,2,    205.0,2, 17.8559,    208.3,2,     1.38,2,     3.63,2,     0.01,2,     0.19,2,    2.364,2,    1.341,2,    0.082,2, -999.000,9,-999.0000,5,  -999.00,9,   -999.0,9,  -999.00,9,-999.000,9,   2093.5,2,    379.0,2,   2385.9,2,   7.9990,2,25,  -999.0, -999.00,-999.0000,-999.000,-999.000
     316N151_4,   A22,    63,  1,     23,     23,2,19970831,0628, 37.4108, -65.9897, 4945, 5155.1,    499.5,  17.0824,  36.3597,2,  36.3593,2,    192.4,2, 16.9982,    189.5,2,     2.25,2,     6.82,2,     0.00,2,     0.38,2, -999.000,9, -999.000,9, -999.000,9, -999.000,9,-999.0000,5,  -999.00,9,   -999.0,9,  -999.00,9,-999.000,9,   2111.8,2,    428.0,2,   2378.0,2,   7.9440,2,25,  -999.0, -999.00,-999.0000,-999.000,-999.000
     316N151_4,   A22,    63,  1,     22,     22,2,19970831,0628, 37.4108, -65.9897, 4945, 6171.5,    601.3,  15.5220,  36.0856,2,  36.0834,2,    177.9,2, 15.4268,    176.1,2,     3.83,2,    10.66,2,     0.00,2,     0.62,2,    1.961,2,    1.047,2,    0.023,2, -999.000,9,-999.0000,5,  -999.00,9,   -999.0,9,  -999.00,9,-999.000,9,   2131.5,2,    501.0,2,   2362.8,2,   7.8940,2,25,  -999.0, -999.00,-999.0000,-999.000,-999.000
     316N151_4,   A22,    63,  1,     21,     21,2,19970831,0628, 37.4108, -65.9897, 4945, 7172.7,    701.8,  13.7697,  35.8010,2,  35.8002,2,    166.4,2, 13.6669,    165.9,2,     5.99,2,    14.55,2,     0.00,2,     0.88,2, -999.000,9, -999.000,9, -999.000,9, -999.000,9,-999.0000,5,  -999.00,9,   -999.0,9,  -999.00,9,-999.000,9,   2148.6,2,    583.0,2,   2352.3,2,   7.8440,2,25,  -999.0, -999.00,-999.0000,-999.000,-999.000
     316N151_4,   A22,    63,  1,     20,     20,2,19970831,0628, 37.4108, -65.9897, 4945, 8182.7,    803.2,  11.7343,  35.5095,2,  35.4946,2,    153.9,2, 11.6278,    152.9,2,     9.53,2,    19.37,2,     0.00,2,     1.21,2,    1.225,2,    0.630,2,    0.023,2, -999.000,9,-999.0000,5,  -999.00,9,   -999.0,9,  -999.00,9,-999.000,9,   2169.2,2,    698.0,2,   2337.0,2,   7.7710,2,25,  -999.0, -999.00,-999.0000,-999.000,-999.000
     316N151_4,   A22,    63,  1,     19,     19,2,19970831,0628, 37.4108, -65.9897, 4945, 9000.1,    885.3,  10.3423,  35.3359,2,  35.3312,2,    148.3,2, 10.2334,    149.4,2,    11.89,2,    21.80,2,     0.00,2,     1.38,2, -999.000,9, -999.000,9, -999.000,9, -999.000,9,-999.0000,5,  -999.00,9,   -999.0,9,  -999.00,9,-999.000,9,   2179.9,2,    770.0,2,   2329.9,2,   7.7320,2,25,  -999.0, -999.00,-999.0000,-999.000,-999.000
     316N151_4,   A22,    63,  1,     18,     18,2,19970831,0628, 37.4108, -65.9897, 4945,10165.4,   1002.3,   7.7436,  35.1206,2,  35.1173,2,    168.8,2,  7.6387,    169.4,2,    14.25,2,    22.82,2,     0.00,2,     1.48,2,    0.918,2,    0.464,2,    0.031,2, -999.000,9,-999.0000,5,  -999.00,9,   -999.0,9,  -999.00,9,-999.000,9,   2186.5,2,    836.0,2,   2320.6,2,   7.6990,2,25,  -999.0, -999.00,-999.0000,-999.000,-999.000
     316N151_4,   A22,    63,  1,     17,     17,2,19970831,0628, 37.4108, -65.9897, 4945,11150.0,   1100.9,   6.4828,  35.0939,2,  35.0931,2,    200.5,2,  6.3771,    198.1,2,    13.56,2,    21.02,2,     0.00,2,     1.38,2, -999.000,9, -999.000,9, -999.000,9, -999.000,9,-999.0000,5,  -999.00,9,   -999.0,9,  -999.00,9,-999.000,9,   2181.1,2,    816.0,2,   2321.3,2,   7.7080,2,25,  -999.0, -999.00,-999.0000,-999.000,-999.000
     316N151_4,   A22,    63,  1,     16,     16,2,19970831,0628, 37.4108, -65.9897, 4945,13111.5,   1297.1,   4.7862,  34.9960,2,  34.9956,2,    240.3,2,  4.6764,    239.3,2,    12.49,2,    18.89,2,     0.00,2,     1.26,2,    1.765,2,    0.880,2,    0.088,2, -999.000,9,-999.0000,5,  -999.00,9,   -999.0,9,  -999.00,9,-999.000,9,   2170.3,2,    785.0,2,   2312.9,2,   7.7240,2,25,  -999.0, -999.00,-999.0000,-999.000,-999.000
     316N151_4,   A22,    63,  1,     15,     15,2,19970831,0628, 37.4108, -65.9897, 4945,15144.7,   1500.3,   4.3421,  34.9782,2,  34.9788,2,    255.4,2,  4.2179,    253.1,2,    12.09,2,    18.28,2,     0.00,2,     1.21,2, -999.000,9, -999.000,9, -999.000,9, -999.000,9,-999.0000,5,  -999.00,9,   -999.0,9,  -999.00,9,-999.000,9,   2163.7,2,    768.0,2,   2311.0,2,   7.7290,2,25,  -999.0, -999.00,-999.0000,-999.000,-999.000
     316N151_4,   A22,    63,  1,     14,     14,2,19970831,0628, 37.4108, -65.9897, 4945,17528.6,   1738.7,   4.0089,  34.9621,2,  34.9618,2,    262.5,2,  3.8666,    261.9,2,    12.29,2,    17.91,2,     0.00,2,     1.19,2,    1.525,2,    0.749,2,    0.074,2, -999.000,9,-999.0000,5,  -999.00,9,   -999.0,9,  -999.00,9,-999.000,9,   2160.2,2,    752.0,2,   2310.8,2,   7.7410,2,25,  -999.0, -999.00,-999.0000,-999.000,-999.000
     316N151_4,   A22,    63,  1,     13,     13,2,19970831,0628, 37.4108, -65.9897, 4945,20104.5,   1996.0,   3.7202,  34.9413,2,  34.9420,2,    268.6,2,  3.5573,    268.0,2,    12.59,2,    17.62,2,     0.00,2,     1.18,2, -999.000,9, -999.000,9, -999.000,9, -999.000,9,-999.0000,5,  -999.00,9,   -999.0,9,  -999.00,9,-999.000,9,   2158.2,2,    751.0,2,   2311.1,2,   7.7440,2,25,  -999.0, -999.00,-999.0000,-999.000,-999.000
     316N151_4,   A22,    63,  1,     12,     12,2,19970831,0628, 37.4108, -65.9897, 4945,22636.7,   2249.1,   3.5811,  34.9413,2,  34.9430,2,    268.7,2,  3.3958,    268.7,2,    13.38,2,    17.58,2,     0.00,2,     1.18,2,    1.336,2,    0.654,2,    0.061,2, -999.000,9,-999.0000,5,  -999.00,9,   -999.0,9,  -999.00,9,-999.000,9,   2157.8,2,    740.0,2,   2310.8,2,   7.7470,2,25,  -999.0, -999.00,-999.0000,-999.000,-999.000
     316N151_4,   A22,    63,  1,     11,     11,2,19970831,0628, 37.4108, -65.9897, 4945,25162.0,   2501.4,   3.4287,  34.9465,2,  34.9456,2,    267.2,2,  3.2207,    267.5,2,    14.85,2,    17.61,2,     0.00,2,     1.18,2, -999.000,9, -999.000,9, -999.000,9, -999.000,9,-999.0000,5,  -999.00,9,   -999.0,9,  -999.00,9,-999.000,9,   2158.8,2,    736.0,2,   2312.2,2,   7.7500,2,25,  -999.0, -999.00,-999.0000,-999.000,-999.000
     316N151_4,   A22,    63,  1,     10,     10,2,19970831,0628, 37.4108, -65.9897, 4945,27627.2,   2747.7,   3.2792,  34.9519,2,  34.9517,2,    265.2,2,  3.0489,    265.3,2,    16.91,2,    17.78,2,     0.00,2,     1.20,2,    0.613,2,    0.307,2,    0.023,2, -999.000,9,-999.0000,5,  -999.00,9,   -999.0,9,  -999.00,9,-999.000,9,   2161.3,2,    733.0,2,   2316.4,2,   7.7500,2,25,  -999.0, -999.00,-999.0000,-999.000,-999.000
     316N151_4,   A22,    63,  1,      9,      9,2,19970831,0628, 37.4108, -65.9897, 4945,30124.1,   2997.4,   3.1380,  34.9519,2,  34.9510,2,    264.1,2,  2.8845,    263.3,2,    19.37,2,    18.06,2,     0.00,2,     1.22,2, -999.000,9, -999.000,9, -999.000,9, -999.000,9,-999.0000,5,  -999.00,9,   -999.0,9,  -999.00,9,-999.000,9,   2163.3,2,    732.0,2,   2319.2,2,   7.7500,2,25,  -999.0, -999.00,-999.0000,-999.000,-999.000
     316N151_4,   A22,    63,  1,      8,      8,2,19970831,0628, 37.4108, -65.9897, 4945,32636.6,   3248.6,   2.8910,  34.9379,2,  34.9381,2,    265.1,2,  2.6163,    264.9,2,    21.25,2,    18.10,2,     0.00,2,     1.23,2,    0.335,2,    0.175,2,    0.011,2, -999.000,9,-999.0000,5,  -999.00,9,   -999.0,9,  -999.00,9,-999.000,9,   2166.1,2,    731.0,2,   2320.1,2,   7.7520,2,25,  -999.0, -999.00,-999.0000,-999.000,-999.000
     316N151_4,   A22,    63,  1,      7,      7,2,19970831,0628, 37.4108, -65.9897, 4945,35161.0,   3500.9,   2.6809,  34.9253,2,  34.9255,2,    265.9,2,  2.3838,    266.7,2,    22.62,2,    18.02,2,     0.00,2,     1.22,2, -999.000,9, -999.000,9, -999.000,9, -999.000,9,-999.0000,5,  -999.00,9,   -999.0,9,  -999.00,9,-999.000,9,   2165.2,2,    731.0,2,   2321.1,2,   7.7520,2,25,  -999.0, -999.00,-999.0000,-999.000,-999.000
     316N151_4,   A22,    63,  1,      6,      6,2,19970831,0628, 37.4108, -65.9897, 4945,37643.5,   3749.1,   2.5318,  34.9160,2,  34.9149,2,    267.0,2,  2.2111,    267.4,2,    24.39,2,    18.10,2,     0.00,2,     1.23,2,    0.330,6,    0.176,6,    0.009,2, -999.000,9,-999.0000,5,  -999.00,9,   -999.0,9,  -999.00,9,-999.000,9,   2167.3,2,    735.0,2,   2322.3,2,   7.7530,2,25,  -999.0, -999.00,-999.0000,-999.000,-999.000
     316N151_4,   A22,    63,  1,      5,      5,2,19970831,0628, 37.4108, -65.9897, 4945,40155.1,   4000.2,   2.3856,  34.9046,2,  34.9036,2,    268.6,2,  2.0405,    269.7,2,    24.60,2,    17.78,2,     0.00,2,     1.22,2, -999.000,9, -999.000,9, -999.000,9, -999.000,9,-999.0000,5,  -999.00,9,   -999.0,9,  -999.00,9,-999.000,9,   2167.7,2,    746.0,3,   2323.2,2,   7.7430,2,25,  -999.0, -999.00,-999.0000,-999.000,-999.000
     316N151_4,   A22,    63,  1,      4,      4,2,19970831,0628, 37.4108, -65.9897, 4945,42666.6,   4251.2,   2.3260,  34.8977,2,  34.8980,2,    267.1,2,  1.9536,    269.0,2,    26.46,2,    17.98,2,     0.00,2,     1.23,2,    0.783,2,    0.390,2,    0.037,2, -999.000,9,-999.0000,5,  -999.00,9,   -999.0,9,  -999.00,9,-999.000,9,   2170.3,2,    734.0,2,   2326.4,2,   7.7450,2,25,  -999.0, -999.00,-999.0000,-999.000,-999.000
     316N151_4,   A22,    63,  1,      3,      3,2,19970831,0628, 37.4108, -65.9897, 4945,45159.4,   4500.4,   2.3052,  34.8955,2,  34.8937,2,    264.9,2,  1.9039,    266.3,2,    29.71,2,    18.51,2,     0.00,2,     1.27,2, -999.000,9, -999.000,9, -999.000,9, -999.000,9,-999.0000,5,  -999.00,9,   -999.0,9,  -999.00,9,-999.000,9,   2173.5,2,    737.0,2,   2326.3,2,   7.7500,2,25,  -999.0, -999.00,-999.0000,-999.000,-999.000
     316N151_4,   A22,    63,  1,      2,      2,2,19970831,0628, 37.4108, -65.9897, 4945,47679.7,   4752.3,   2.2886,  34.8904,2,  34.8901,2,    262.9,2,  1.8573,    263.4,2,    33.65,2,    19.17,2,     0.00,2,     1.32,2,    0.376,2,    0.198,2,    0.024,2, -999.000,9,-999.0000,5,  -999.00,9,   -999.0,9,  -999.00,9,-999.000,9,   2179.1,2,    742.0,2,   2332.9,6,   7.7480,6,25,  -999.0, -999.00,-999.0000,-999.000,-999.000
     316N151_4,   A22,    63,  1,      1,      1,2,19970831,0628, 37.4108, -65.9897, 4945,50905.3,   5074.8,   2.2703,  34.8841,2,  34.8825,2,    259.3,2,  1.7993,    259.3,2,    38.16,6,    19.86,6,     0.00,6,     1.38,6, -999.000,9, -999.000,9, -999.000,9, -999.000,9,-999.0000,5,  -999.00,9,   -999.0,9,  -999.00,9,-999.000,9,   2185.2,2,    747.0,2,   2337.3,2,   7.7380,2,25,  -999.0, -999.00,-999.0000,-999.000,-999.000