BOTTLE,20220629CCHSIOAMB
EXPOCODE,SECT_ID,STNNBR,CASTNO,SAMPNO,BTLNBR,BTLNBR_FLAG_W,DATE,TIME,LATITUDE,LONGITUDE,DEPTH,CTDRAW,CTDPRS,CTDTMP,CTDSAL,CTDSAL_FLAG_W,SALNTY,SALNTY_FLAG_W,CTDOXY,CTDOXY_FLAG_W,THETA,OXYGEN,OXYGEN_FLAG_W,SILCAT,SILCAT_FLAG_W,NITRAT,NITRAT_FLAG_W,NITRIT,NITRIT_FLAG_W,PHSPHT,PHSPHT_FLAG_W,CFC-11,CFC-11_FLAG_W,CFC-12,CFC-12_FLAG_W,CFC113,CFC113_FLAG_W,TRITUM,TRITUM_FLAG_W,HELIUM,HELIUM_FLAG_W,DELHE3,DELHE3_FLAG_W,DELC14,DELC14_FLAG_W,DELC13,DELC13_FLAG_W,NEON,NEON_FLAG_W,TCARBN,TCARBN_FLAG_W,PCO2,PCO2_FLAG_W,ALKALI,ALKALI_FLAG_W,PH,PH_FLAG_W,PH_TMP,C14ERR,DELHER,HELIER,NEONER,TRITER
,,,,,,,,,,,,,DBAR,ITS-90,PSS-78,,PSS-78,,UMOL/KG,,ITS-90,UMOL/KG,,UMOL/KG,,UMOL/KG,,UMOL/KG,,UMOL/KG,,PMOL/KG,,PMOL/KG,,PMOL/KG,,TU,,NMOL/KG,,PERCNT,,/MILLE,,/MILLE,,NMOL/KG,,UMOL/KG,,UATM,,UMOL/KG,,,,DEG C,/MILLE,PERCNT,NMOL/KG,NMOL/KG,TU
     316N151_4,   A22,    66,  1,     33,     33,2,19970831,2150, 38.2872, -65.9813, 4701,  201.1,      3.7,  28.4774,  36.1594,2,  36.1611,2,    208.1,2, 28.4765,    208.4,2,     0.92,2,     0.00,2,     0.00,2,     0.01,2,    1.619,2,    0.990,2,    0.122,2, -999.000,9,-999.0000,5,  -999.00,9,   -999.0,9,  -999.00,9,-999.000,9,   -999.0,9,   -999.0,9,   -999.0,9,-999.0000,9,-999,  -999.0, -999.00,-999.0000,-999.000,-999.000
     316N151_4,   A22,    66,  1,     32,     32,2,19970831,2150, 38.2872, -65.9813, 4701,  472.9,     31.0,  27.8282,  36.1908,2,  36.1932,2,    179.5,2, 27.8209,    217.7,2,     1.02,2,     0.00,2,     0.00,2,     0.01,2, -999.000,9, -999.000,9, -999.000,9, -999.000,9,-999.0000,5,  -999.00,9,   -999.0,9,  -999.00,9,-999.000,9,   -999.0,9,   -999.0,9,   -999.0,9,-999.0000,9,-999,  -999.0, -999.00,-999.0000,-999.000,-999.000
     316N151_4,   A22,    66,  1,     31,     31,2,19970831,2150, 38.2872, -65.9813, 4701,  636.2,     47.7,  26.9158,  36.2533,2,  36.2525,2,    180.9,2, 26.9048,    204.3,2,     0.93,2,     0.00,2,     0.00,2,     0.01,2,    1.748,2,    1.051,2,    0.126,2, -999.000,9,-999.0000,5,  -999.00,9,   -999.0,9,  -999.00,9,-999.000,9,   -999.0,9,   -999.0,9,   -999.0,9,-999.0000,9,-999,  -999.0, -999.00,-999.0000,-999.000,-999.000
     316N151_4,   A22,    66,  1,     30,     30,2,19970831,2150, 38.2872, -65.9813, 4701, 1197.3,    103.9,  24.0758,  36.6575,2,  36.6667,2,    186.6,2, 24.0537,    206.2,2,     0.54,2,     0.01,2,     0.20,2,     0.02,2,    1.974,2,    1.166,2,    0.138,2, -999.000,9,-999.0000,5,  -999.00,9,   -999.0,9,  -999.00,9,-999.000,9,   -999.0,9,   -999.0,9,   -999.0,9,-999.0000,9,-999,  -999.0, -999.00,-999.0000,-999.000,-999.000
     316N151_4,   A22,    66,  1,     29,     29,2,19970831,2150, 38.2872, -65.9813, 4701, 1721.8,    156.4,  21.6174,  36.7973,2,-999.0000,5,    183.8,2, 21.5866,    179.9,2,     0.84,2,     2.31,2,     0.02,2,     0.12,2,    2.090,2,    1.209,2,    0.080,2, -999.000,9,-999.0000,5,  -999.00,9,   -999.0,9,  -999.00,9,-999.000,9,   -999.0,9,   -999.0,9,   -999.0,9,-999.0000,9,-999,  -999.0, -999.00,-999.0000,-999.000,-999.000
     316N151_4,   A22,    66,  1,     28,     28,2,19970831,2150, 38.2872, -65.9813, 4701, 2207.5,    204.7,  19.5646,  36.6826,2,  36.6862,2,    187.9,2, 19.5269,    197.8,2,     0.55,2,     1.54,2,     0.01,2,     0.07,2,    2.296,2,    1.308,2,    0.075,2, -999.000,9,-999.0000,5,  -999.00,9,   -999.0,9,  -999.00,9,-999.000,9,   -999.0,9,   -999.0,9,   -999.0,9,-999.0000,9,-999,  -999.0, -999.00,-999.0000,-999.000,-999.000
     316N151_4,   A22,    66,  1,     27,     27,2,19970831,2150, 38.2872, -65.9813, 4701, 2658.6,    249.6,  18.7921,  36.6220,2,  36.6278,2,    190.9,2, 18.7474,    197.1,2,     0.85,2,     2.77,2,     0.01,2,     0.13,2,    2.303,2,    1.306,2,    0.058,2, -999.000,9,-999.0000,5,  -999.00,9,   -999.0,9,  -999.00,9,-999.000,9,   -999.0,9,   -999.0,9,   -999.0,9,-999.0000,9,-999,  -999.0, -999.00,-999.0000,-999.000,-999.000
     316N151_4,   A22,    66,  1,     26,     26,2,19970831,2150, 38.2872, -65.9813, 4701, 3172.7,    300.9,  18.2980,  36.5631,2,  36.5625,2,    192.6,2, 18.2450,    201.8,2,     1.04,2,     3.63,2,     0.01,2,     0.18,2,    2.345,2,    1.315,2,    0.047,2, -999.000,9,-999.0000,5,  -999.00,9,   -999.0,9,  -999.00,9,-999.000,9,   -999.0,9,   -999.0,9,   -999.0,9,-999.0000,9,-999,  -999.0, -999.00,-999.0000,-999.000,-999.000
     316N151_4,   A22,    66,  1,     25,     25,2,19970831,2150, 38.2872, -65.9813, 4701, 4197.6,    403.6,  17.6775,  36.4636,2,  36.4641,2,    179.4,2, 17.6080,    192.8,2,     1.64,2,     5.42,2,     0.01,2,     0.29,2,    2.244,2,    1.246,2,    0.036,2, -999.000,9,-999.0000,5,  -999.00,9,   -999.0,9,  -999.00,9,-999.000,9,   -999.0,9,   -999.0,9,   -999.0,9,-999.0000,9,-999,  -999.0, -999.00,-999.0000,-999.000,-999.000
     316N151_4,   A22,    66,  1,     24,     24,2,19970831,2150, 38.2872, -65.9813, 4701, 5185.0,    502.9,  15.9473,  36.1593,2,  36.1593,2,    155.9,2, 15.8665,    169.8,2,     3.49,2,    10.45,2,     0.00,2,     0.61,2,    1.885,2,    1.015,2,    0.020,2, -999.000,9,-999.0000,5,  -999.00,9,   -999.0,9,  -999.00,9,-999.000,9,   -999.0,9,   -999.0,9,   -999.0,9,-999.0000,9,-999,  -999.0, -999.00,-999.0000,-999.000,-999.000
     316N151_4,   A22,    66,  1,     23,     23,2,19970831,2150, 38.2872, -65.9813, 4701, 6155.4,    600.4,  13.2314,  35.7136,2,  35.7097,2,    152.0,2, 13.1460,    146.0,2,     7.61,2,    17.59,2,     0.00,2,     1.09,2,    1.254,2,    0.686,2,    0.012,2, -999.000,9,-999.0000,5,  -999.00,9,   -999.0,9,  -999.00,9,-999.000,9,   -999.0,9,   -999.0,9,   -999.0,9,-999.0000,9,-999,  -999.0, -999.00,-999.0000,-999.000,-999.000
     316N151_4,   A22,    66,  1,     22,     22,2,19970831,2150, 38.2872, -65.9813, 4701, 7188.1,    704.1,  10.7847,  35.3957,2,  35.3891,2,    152.0,2, 10.6966,    149.8,2,    10.84,2,    20.96,2,     0.00,2,     1.33,2,    1.066,2,    0.567,2,    0.021,2, -999.000,9,-999.0000,5,  -999.00,9,   -999.0,9,  -999.00,9,-999.000,9,   -999.0,9,   -999.0,9,   -999.0,9,-999.0000,9,-999,  -999.0, -999.00,-999.0000,-999.000,-999.000
     316N151_4,   A22,    66,  1,     21,     21,2,19970831,2150, 38.2872, -65.9813, 4701, 8169.5,    802.5,   8.8853,  35.2010,2,  35.2027,2,    163.6,2,  8.7955,    155.9,2,    13.39,2,    22.87,2,     0.00,2,     1.48,2,    0.863,2,    0.456,2,    0.020,2, -999.000,9,-999.0000,5,  -999.00,9,   -999.0,9,  -999.00,9,-999.000,9,   -999.0,9,   -999.0,9,   -999.0,9,-999.0000,9,-999,  -999.0, -999.00,-999.0000,-999.000,-999.000
     316N151_4,   A22,    66,  1,     20,     20,2,19970831,2150, 38.2872, -65.9813, 4701, 9174.0,    903.3,   7.1002,  35.1203,2,  35.1189,2,    193.8,2,  7.0104,    184.2,2,    13.60,2,    21.73,2,     0.00,2,     1.43,2,    0.966,2,    0.486,2,    0.036,2, -999.000,9,-999.0000,5,  -999.00,9,   -999.0,9,  -999.00,9,-999.000,9,   -999.0,9,   -999.0,9,   -999.0,9,-999.0000,9,-999,  -999.0, -999.00,-999.0000,-999.000,-999.000
     316N151_4,   A22,    66,  1,     19,     19,2,19970831,2150, 38.2872, -65.9813, 4701,10178.5,   1003.9,   5.9662,  35.0794,2,  35.0785,2,    210.1,2,  5.8743,    209.6,2,    13.01,2,    20.35,2,     0.00,2,     1.35,2,    1.121,2,    0.586,2,    0.045,2, -999.000,9,-999.0000,5,  -999.00,9,   -999.0,9,  -999.00,9,-999.000,9,   -999.0,9,   -999.0,9,   -999.0,9,-999.0000,9,-999,  -999.0, -999.00,-999.0000,-999.000,-999.000
     316N151_4,   A22,    66,  1,     18,     18,2,19970831,2150, 38.2872, -65.9813, 4701,11176.5,   1103.7,   4.9920,  35.0167,2,  35.0148,2,    235.6,2,  4.8984,    233.5,2,    12.43,2,    19.17,2,     0.00,2,     1.28,2,    1.599,2,    0.788,2,    0.083,2, -999.000,9,-999.0000,5,  -999.00,9,   -999.0,9,  -999.00,9,-999.000,9,   -999.0,9,   -999.0,9,   -999.0,9,-999.0000,9,-999,  -999.0, -999.00,-999.0000,-999.000,-999.000
     316N151_4,   A22,    66,  1,     17,     17,2,19970831,2150, 38.2872, -65.9813, 4701,13158.4,   1301.8,   4.3066,  34.9788,2,  34.9852,2,    251.6,2,  4.2011,    253.9,2,    11.95,2,    18.14,2,     0.00,2,     1.22,2,    1.678,2,    0.870,2,    0.090,2, -999.000,9,-999.0000,5,  -999.00,9,   -999.0,9,  -999.00,9,-999.000,9,   -999.0,9,   -999.0,9,   -999.0,9,-999.0000,9,-999,  -999.0, -999.00,-999.0000,-999.000,-999.000
     316N151_4,   A22,    66,  1,     16,     16,2,19970831,2150, 38.2872, -65.9813, 4701,15160.9,   1502.0,   4.0077,  34.9609,2,  34.9622,2,    262.5,2,  3.8874,    262.0,2,    11.85,2,    17.73,2,     0.00,2,     1.19,2,    1.664,2,    0.825,2,    0.081,2, -999.000,9,-999.0000,5,  -999.00,9,   -999.0,9,  -999.00,9,-999.000,9,   -999.0,9,   -999.0,9,   -999.0,9,-999.0000,9,-999,  -999.0, -999.00,-999.0000,-999.000,-999.000
     316N151_4,   A22,    66,  1,     15,     15,2,19970831,2150, 38.2872, -65.9813, 4701,17447.7,   1730.5,   3.7478,  34.9433,2,  34.9437,2,    268.7,2,  3.6095,    267.6,2,    12.16,2,    17.49,2,     0.00,2,     1.18,2,    1.635,2,    0.810,2,    0.079,2, -999.000,9,-999.0000,5,  -999.00,9,   -999.0,9,  -999.00,9,-999.000,9,   -999.0,9,   -999.0,9,   -999.0,9,-999.0000,9,-999,  -999.0, -999.00,-999.0000,-999.000,-999.000
     316N151_4,   A22,    66,  1,     14,     14,2,19970831,2150, 38.2872, -65.9813, 4701,18620.5,   1847.7,   3.7447,  34.9581,2,  34.9585,2,    267.3,2,  3.5955,    265.5,2,    12.84,2,    17.61,2,     0.00,2,     1.19,2,    1.174,2,    0.584,2,    0.048,2, -999.000,9,-999.0000,5,  -999.00,9,   -999.0,9,  -999.00,9,-999.000,9,   -999.0,9,   -999.0,9,   -999.0,9,-999.0000,9,-999,  -999.0, -999.00,-999.0000,-999.000,-999.000
     316N151_4,   A22,    66,  1,     13,     13,2,19970831,2150, 38.2872, -65.9813, 4701,19628.1,   1948.3,   3.6849,  34.9562,2,  34.9577,2,    265.5,2,  3.5271,    265.9,2,    13.24,2,    17.57,2,     0.00,2,     1.19,2,    1.077,6,    0.541,6, -999.000,9, -999.000,9,-999.0000,5,  -999.00,9,   -999.0,9,  -999.00,9,-999.000,9,   -999.0,9,   -999.0,9,   -999.0,9,-999.0000,9,-999,  -999.0, -999.00,-999.0000,-999.000,-999.000
     316N151_4,   A22,    66,  1,     12,     12,2,19970831,2150, 38.2872, -65.9813, 4701,20671.3,   2052.6,   3.5719,  34.9488,2,  34.9498,2,    268.3,2,  3.4058,    267.8,2,    13.54,2,    17.61,2,     0.00,2,     1.19,2,    1.164,2,    0.586,2,    0.056,2, -999.000,9,-999.0000,5,  -999.00,9,   -999.0,9,  -999.00,9,-999.000,9,   -999.0,9,   -999.0,9,   -999.0,9,-999.0000,9,-999,  -999.0, -999.00,-999.0000,-999.000,-999.000
     316N151_4,   A22,    66,  1,     11,     11,2,19970831,2150, 38.2872, -65.9813, 4701,22605.6,   2245.9,   3.4645,  34.9502,2,  34.9506,2,    266.9,2,  3.2813,    267.3,2,    14.52,2,    17.61,2,     0.00,2,     1.19,2,    0.966,2,    0.490,2,    0.045,2, -999.000,9,-999.0000,5,  -999.00,9,   -999.0,9,  -999.00,9,-999.000,9,   -999.0,9,   -999.0,9,   -999.0,9,-999.0000,9,-999,  -999.0, -999.00,-999.0000,-999.000,-999.000
     316N151_4,   A22,    66,  1,     10,     10,2,19970831,2150, 38.2872, -65.9813, 4701,25145.5,   2499.8,   3.2983,  34.9519,2,  34.9526,2,    265.1,2,  3.0929,    265.5,2,    16.38,2,    17.69,2,     0.00,2,     1.20,2,    0.637,2,    0.326,2,    0.025,2, -999.000,9,-999.0000,5,  -999.00,9,   -999.0,9,  -999.00,9,-999.000,9,   -999.0,9,   -999.0,9,   -999.0,9,-999.0000,9,-999,  -999.0, -999.00,-999.0000,-999.000,-999.000
     316N151_4,   A22,    66,  1,      9,      9,2,19970831,2150, 38.2872, -65.9813, 4701,27634.2,   2748.6,   3.0796,  34.9456,2,  34.9451,2,    264.5,2,  2.8532,    265.3,2,    18.36,2,    17.82,2,     0.00,2,     1.21,2,    0.507,2,    0.255,2,    0.017,2, -999.000,9,-999.0000,5,  -999.00,9,   -999.0,9,  -999.00,9,-999.000,9,   -999.0,9,   -999.0,9,   -999.0,9,-999.0000,9,-999,  -999.0, -999.00,-999.0000,-999.000,-999.000
     316N151_4,   A22,    66,  1,      8,      8,2,19970831,2150, 38.2872, -65.9813, 4701,30128.7,   2998.1,   2.8178,  34.9319,2,  34.9307,2,    268.1,2,  2.5712,    268.0,2,    19.43,2,    17.58,2,     0.00,2,     1.20,2,    0.602,2,    0.303,2,    0.020,2, -999.000,9,-999.0000,5,  -999.00,9,   -999.0,9,  -999.00,9,-999.000,9,   -999.0,9,   -999.0,9,   -999.0,9,-999.0000,9,-999,  -999.0, -999.00,-999.0000,-999.000,-999.000
     316N151_4,   A22,    66,  1,      7,      7,2,19970831,2150, 38.2872, -65.9813, 4701,32202.2,   3205.2,   2.6005,  34.9203,2,  34.9195,2,    269.6,2,  2.3371,    269.8,2,    20.91,2,    17.58,2,     0.00,2,     1.20,2,    0.673,2,    0.336,2,    0.026,2, -999.000,9,-999.0000,5,  -999.00,9,   -999.0,9,  -999.00,9,-999.000,9,   -999.0,9,   -999.0,9,   -999.0,9,-999.0000,9,-999,  -999.0, -999.00,-999.0000,-999.000,-999.000
     316N151_4,   A22,    66,  1,      6,      6,2,19970831,2150, 38.2872, -65.9813, 4701,35138.0,   3498.6,   2.3909,  34.9082,2,  34.9071,2,    269.2,2,  2.1014,    269.4,2,    24.15,2,    17.87,2,     0.00,2,     1.22,2,    0.643,2,    0.322,2,    0.029,2, -999.000,9,-999.0000,5,  -999.00,9,   -999.0,9,  -999.00,9,-999.000,9,   -999.0,9,   -999.0,9,   -999.0,9,-999.0000,9,-999,  -999.0, -999.00,-999.0000,-999.000,-999.000
     316N151_4,   A22,    66,  1,      5,      5,2,19970831,2150, 38.2872, -65.9813, 4701,37633.6,   3748.1,   2.3072,  34.9015,2,  34.9008,2,    267.8,2,  1.9926,    267.9,2,    27.10,2,    18.23,2,     0.00,2,     1.25,2,    0.564,2,    0.283,2,    0.026,2, -999.000,9,-999.0000,5,  -999.00,9,   -999.0,9,  -999.00,9,-999.000,9,   -999.0,9,   -999.0,9,   -999.0,9,-999.0000,9,-999,  -999.0, -999.00,-999.0000,-999.000,-999.000
     316N151_4,   A22,    66,  1,      4,      4,2,19970831,2150, 38.2872, -65.9813, 4701,40147.1,   3999.4,   2.2652,  34.8967,2,  34.8967,2,    266.4,2,  1.9235,    267.9,2,    28.08,2,    18.31,2,     0.00,2,     1.26,2,    0.661,2,    0.333,2,    0.025,2, -999.000,9,-999.0000,5,  -999.00,9,   -999.0,9,  -999.00,9,-999.000,9,   -999.0,9,   -999.0,9,   -999.0,9,-999.0000,9,-999,  -999.0, -999.00,-999.0000,-999.000,-999.000
     316N151_4,   A22,    66,  1,      3,      3,2,19970831,2150, 38.2872, -65.9813, 4701,42653.5,   4250.0,   2.2414,  34.8904,2,  34.8902,2,    264.9,2,  1.8717,    264.6,2,    32.20,2,    19.01,2,     0.00,2,     1.31,2,    0.468,2,    0.239,2,    0.021,2, -999.000,9,-999.0000,5,  -999.00,9,   -999.0,9,  -999.00,9,-999.000,9,   -999.0,9,   -999.0,9,   -999.0,9,-999.0000,9,-999,  -999.0, -999.00,-999.0000,-999.000,-999.000
     316N151_4,   A22,    66,  1,      2,      2,2,19970831,2150, 38.2872, -65.9813, 4701,45160.7,   4500.6,   2.2445,  34.8872,2,  34.8892,2,    263.5,2,  1.8451,    262.9,2,    33.87,2,    19.22,2,     0.00,2,     1.33,2,    0.415,6,    0.216,6,    0.026,2, -999.000,9,-999.0000,5,  -999.00,9,   -999.0,9,  -999.00,9,-999.000,9,   -999.0,9,   -999.0,9,   -999.0,9,-999.0000,9,-999,  -999.0, -999.00,-999.0000,-999.000,-999.000
     316N151_4,   A22,    66,  1,      1,      1,2,19970831,2150, 38.2872, -65.9813, 4701,48342.2,   4818.6,   2.2551,  34.8855,2,  34.8853,2,    258.7,2,  1.8166,    261.3,2,    36.17,6,    19.55,6,     0.01,6,     1.36,6,    0.373,2,    0.196,2,    0.023,2, -999.000,9,-999.0000,5,  -999.00,9,   -999.0,9,  -999.00,9,-999.000,9,   -999.0,9,   -999.0,9,   -999.0,9,-999.0000,9,-999,  -999.0, -999.00,-999.0000,-999.000,-999.000