BOTTLE,20220629CCHSIOAMB
EXPOCODE,SECT_ID,STNNBR,CASTNO,SAMPNO,BTLNBR,BTLNBR_FLAG_W,DATE,TIME,LATITUDE,LONGITUDE,DEPTH,CTDRAW,CTDPRS,CTDTMP,CTDSAL,CTDSAL_FLAG_W,SALNTY,SALNTY_FLAG_W,CTDOXY,CTDOXY_FLAG_W,THETA,OXYGEN,OXYGEN_FLAG_W,SILCAT,SILCAT_FLAG_W,NITRAT,NITRAT_FLAG_W,NITRIT,NITRIT_FLAG_W,PHSPHT,PHSPHT_FLAG_W,CFC-11,CFC-11_FLAG_W,CFC-12,CFC-12_FLAG_W,CFC113,CFC113_FLAG_W,TRITUM,TRITUM_FLAG_W,HELIUM,HELIUM_FLAG_W,DELHE3,DELHE3_FLAG_W,DELC14,DELC14_FLAG_W,DELC13,DELC13_FLAG_W,NEON,NEON_FLAG_W,TCARBN,TCARBN_FLAG_W,PCO2,PCO2_FLAG_W,ALKALI,ALKALI_FLAG_W,PH,PH_FLAG_W,PH_TMP,C14ERR,DELHER,HELIER,NEONER,TRITER
,,,,,,,,,,,,,DBAR,ITS-90,PSS-78,,PSS-78,,UMOL/KG,,ITS-90,UMOL/KG,,UMOL/KG,,UMOL/KG,,UMOL/KG,,UMOL/KG,,PMOL/KG,,PMOL/KG,,PMOL/KG,,TU,,NMOL/KG,,PERCNT,,/MILLE,,/MILLE,,NMOL/KG,,UMOL/KG,,UATM,,UMOL/KG,,,,DEG C,/MILLE,PERCNT,NMOL/KG,NMOL/KG,TU
     316N151_4,   A22,    11,  1,     31,     31,2,19970818,0731, 13.6863, -66.0077, 4869,  207.3,      2.5,  28.6542,  34.4779,2,  34.4798,2,    207.3,2, 28.6536,    211.7,2,     3.15,2,     0.09,2,     0.00,2,     0.01,2,    1.605,2,    0.996,2,    0.133,2, -999.000,9,-999.0000,5,  -999.00,9,   -999.0,9,  -999.00,9,-999.000,9,   -999.0,9,   -999.0,9,   -999.0,9,-999.0000,9,-999,  -999.0, -999.00,-999.0000,-999.000,-999.000
     316N151_4,   A22,    11,  1,     30,     30,2,19970818,0731, 13.6863, -66.0077, 4869,  686.5,     51.2,  28.2170,  35.6831,2,  35.6828,2,    209.7,2, 28.2049,    209.3,2,     1.48,2,     0.09,2,     0.00,2,     0.01,2,    1.623,2,    0.993,2,    0.132,2, -999.000,9,-999.0000,5,  -999.00,9,   -999.0,9,  -999.00,9,-999.000,9,   -999.0,9,   -999.0,9,   -999.0,9,-999.0000,9,-999,  -999.0, -999.00,-999.0000,-999.000,-999.000
     316N151_4,   A22,    11,  1,     29,     29,2,19970818,0731, 13.6863, -66.0077, 4869, 1165.7,    100.0,  25.5576,  36.6278,2,  36.6246,2,    196.8,2, 25.5354,    197.2,2,     1.20,2,     0.95,2,     0.05,2,     0.06,2,    1.800,2,    1.082,2,    0.133,2, -999.000,9,-999.0000,5,  -999.00,9,   -999.0,9,  -999.00,9,-999.000,9,   -999.0,9,   -999.0,9,   -999.0,9,-999.0000,9,-999,  -999.0, -999.00,-999.0000,-999.000,-999.000
     316N151_4,   A22,    11,  1,     28,     28,2,19970818,0731, 13.6863, -66.0077, 4869, 1679.1,    151.9,  21.0249,  36.8745,2,  36.8966,2,    162.4,2, 20.9956,    159.2,2,     2.09,2,     5.44,2,     0.02,2,     0.31,2,    1.976,2,    1.124,2,    0.049,2, -999.000,9,-999.0000,5,  -999.00,9,   -999.0,9,  -999.00,9,-999.000,9,   -999.0,9,   -999.0,9,   -999.0,9,-999.0000,9,-999,  -999.0, -999.00,-999.0000,-999.000,-999.000
     316N151_4,   A22,    11,  1,     27,     27,2,19970818,0731, 13.6863, -66.0077, 4869, 2154.8,    199.9,  18.2473,  36.5091,2,  36.5152,2,    142.9,2, 18.2123,    142.0,2,     3.56,2,    10.27,2,     0.01,2,     0.58,2,    1.909,2,    1.051,2,    0.019,2, -999.000,9,-999.0000,5,  -999.00,9,   -999.0,9,  -999.00,9,-999.000,9,   -999.0,9,   -999.0,9,   -999.0,9,-999.0000,9,-999,  -999.0, -999.00,-999.0000,-999.000,-999.000
     316N151_4,   A22,    11,  1,     26,     26,2,19970818,0731, 13.6863, -66.0077, 4869, 2683.8,    253.2,  15.8148,  36.0866,2,  36.0919,2,    135.0,2, 15.7746,    134.6,2,     5.53,2,    14.63,2,     0.01,2,     0.87,2,    1.655,2,    0.906,2,    0.008,2, -999.000,9,-999.0000,5,  -999.00,9,   -999.0,9,  -999.00,9,-999.000,9,   -999.0,9,   -999.0,9,   -999.0,9,-999.0000,9,-999,  -999.0, -999.00,-999.0000,-999.000,-999.000
     316N151_4,   A22,    11,  1,     25,     25,2,19970818,0731, 13.6863, -66.0077, 4869, 3135.8,    298.9,  14.1749,  35.7983,2,  35.8211,2,    131.3,2, 14.1308,    130.7,2,     7.10,2,    17.62,2,     0.01,2,     1.07,2, -999.000,9, -999.000,9, -999.000,9, -999.000,9,-999.0000,5,  -999.00,9,   -999.0,9,  -999.00,9,-999.000,9,   -999.0,9,   -999.0,9,   -999.0,9,-999.0000,9,-999,  -999.0, -999.00,-999.0000,-999.000,-999.000
     316N151_4,   A22,    11,  1,     24,     24,2,19970818,0731, 13.6863, -66.0077, 4869, 4163.0,    402.1,  11.1876,  35.2812,2,  35.2808,2,    120.1,2, 11.1369,    120.4,2,    11.71,2,    24.22,2,     0.01,2,     1.53,2,    0.899,6,    0.507,6, -999.000,9, -999.000,9,-999.0000,5,  -999.00,9,   -999.0,9,  -999.00,9,-999.000,9,   -999.0,9,   -999.0,9,   -999.0,9,-999.0000,9,-999,  -999.0, -999.00,-999.0000,-999.000,-999.000
     316N151_4,   A22,    11,  1,     23,     23,2,19970818,0731, 13.6863, -66.0077, 4869, 5152.6,    501.4,   8.8674,  34.9624,2,  34.9668,2,    118.9,2,  8.8125,    119.1,2,    16.43,2,    28.66,2,     0.01,2,     1.85,2,    0.469,2,    0.273,2,    0.003,2, -999.000,9,-999.0000,5,  -999.00,9,   -999.0,9,  -999.00,9,-999.000,9,   -999.0,9,   -999.0,9,   -999.0,9,-999.0000,9,-999,  -999.0, -999.00,-999.0000,-999.000,-999.000
     316N151_4,   A22,    11,  1,     22,     22,2,19970818,0731, 13.6863, -66.0077, 4869, 6145.5,    600.9,   7.3882,  34.8038,2,  34.8043,2,    123.8,2,  7.3287,    122.2,2,    20.76,2,    31.34,2,     0.00,2,     2.05,2,    0.233,2,    0.143,2,   -0.002,2, -999.000,9,-999.0000,5,  -999.00,9,   -999.0,9,  -999.00,9,-999.000,9,   -999.0,9,   -999.0,9,   -999.0,9,-999.0000,9,-999,  -999.0, -999.00,-999.0000,-999.000,-999.000
     316N151_4,   A22,    11,  1,     21,     21,2,19970818,0731, 13.6863, -66.0077, 4869, 7152.3,    701.7,   6.3753,  34.7562,2,  34.7549,2,    130.4,2,  6.3107,    130.3,2,    24.10,2,    32.05,2,     0.00,2,     2.12,2,    0.119,2,    0.068,2,    0.003,2, -999.000,9,-999.0000,5,  -999.00,9,   -999.0,9,  -999.00,9,-999.000,9,   -999.0,9,   -999.0,9,   -999.0,9,-999.0000,9,-999,  -999.0, -999.00,-999.0000,-999.000,-999.000
     316N151_4,   A22,    11,  1,     20,     20,2,19970818,0731, 13.6863, -66.0077, 4869, 8158.4,    802.3,   5.7670,  34.8094,2,  34.8085,2,    148.0,2,  5.6962,    148.2,2,    25.28,2,    30.12,2,     0.00,2,     2.01,2,    0.070,2,    0.039,2,    0.003,2, -999.000,9,-999.0000,5,  -999.00,9,   -999.0,9,  -999.00,9,-999.000,9,   -999.0,9,   -999.0,9,   -999.0,9,-999.0000,9,-999,  -999.0, -999.00,-999.0000,-999.000,-999.000
     316N151_4,   A22,    11,  1,     19,     19,2,19970818,0731, 13.6863, -66.0077, 4869, 9145.9,    901.0,   5.3096,  34.8908,2,  34.8902,2,    168.9,2,  5.2325,    169.2,2,    25.48,2,    27.25,2,     0.00,2,     1.83,2,    0.050,2,    0.028,2,    0.002,2, -999.000,9,-999.0000,5,  -999.00,9,   -999.0,9,  -999.00,9,-999.000,9,   -999.0,9,   -999.0,9,   -999.0,9,-999.0000,9,-999,  -999.0, -999.00,-999.0000,-999.000,-999.000
     316N151_4,   A22,    11,  1,     18,     18,2,19970818,0731, 13.6863, -66.0077, 4869,10144.6,   1000.9,   4.9220,  34.9292,2,  34.9304,2,    183.9,2,  4.8385,    184.2,2,    25.69,2,    25.49,2,     0.00,2,     1.73,2,    0.045,6,    0.024,6,    0.001,2, -999.000,9,-999.0000,5,  -999.00,9,   -999.0,9,  -999.00,9,-999.000,9,   -999.0,9,   -999.0,9,   -999.0,9,-999.0000,9,-999,  -999.0, -999.00,-999.0000,-999.000,-999.000
     316N151_4,   A22,    11,  1,     17,     17,2,19970818,0731, 13.6863, -66.0077, 4869,11140.8,   1100.5,   4.6884,  34.9460,2,  34.9470,2,    193.7,2,  4.5977,    193.2,2,    25.70,2,    24.39,2,     0.00,2,     1.66,2,    0.030,2,    0.018,2,    0.001,2, -999.000,9,-999.0000,5,  -999.00,9,   -999.0,9,  -999.00,9,-999.000,9,   -999.0,9,   -999.0,9,   -999.0,9,-999.0000,9,-999,  -999.0, -999.00,-999.0000,-999.000,-999.000
     316N151_4,   A22,    11,  1,     16,     16,2,19970818,0731, 13.6863, -66.0077, 4869,13126.0,   1299.0,   4.4709,  34.9595,2,  34.9594,2,    203.6,2,  4.3642,    202.3,2,    25.99,2,    23.57,2,     0.00,2,     1.60,2,    0.033,2,    0.019,2,    0.001,2, -999.000,9,-999.0000,5,  -999.00,9,   -999.0,9,  -999.00,9,-999.000,9,   -999.0,9,   -999.0,9,   -999.0,9,-999.0000,9,-999,  -999.0, -999.00,-999.0000,-999.000,-999.000
     316N151_4,   A22,    11,  1,     15,     15,2,19970818,0731, 13.6863, -66.0077, 4869,15146.3,   1500.9,   4.3092,  34.9664,2,  34.9665,2,    206.9,2,  4.1854,    207.1,2,    26.78,2,    23.02,2,     0.00,2,     1.57,2,    0.036,2,    0.020,2,    0.000,2, -999.000,9,-999.0000,5,  -999.00,9,   -999.0,9,  -999.00,9,-999.000,9,   -999.0,9,   -999.0,9,   -999.0,9,-999.0000,9,-999,  -999.0, -999.00,-999.0000,-999.000,-999.000
     316N151_4,   A22,    11,  1,     14,     14,2,19970818,0731, 13.6863, -66.0077, 4869,17633.3,   1749.5,   4.1593,  34.9722,2,  34.9715,2,    212.4,2,  4.0138,    212.1,2,    27.68,2,    22.52,2,     0.00,2,     1.53,2,    0.018,2,    0.021,2,   -0.001,2, -999.000,9,-999.0000,5,  -999.00,9,   -999.0,9,  -999.00,9,-999.000,9,   -999.0,9,   -999.0,9,   -999.0,9,-999.0000,9,-999,  -999.0, -999.00,-999.0000,-999.000,-999.000
     316N151_4,   A22,    11,  1,     13,     13,2,19970818,0731, 13.6863, -66.0077, 4869,20145.2,   2000.5,   4.1150,  34.9741,2,  34.9732,2,    214.9,2,  3.9458,    214.5,2,    28.18,2,    22.27,2,     0.00,2,     1.52,2,    0.018,2,    0.017,2,   -0.001,2, -999.000,9,-999.0000,5,  -999.00,9,   -999.0,9,  -999.00,9,-999.000,9,   -999.0,9,   -999.0,9,   -999.0,9,-999.0000,9,-999,  -999.0, -999.00,-999.0000,-999.000,-999.000
     316N151_4,   A22,    11,  1,     12,     12,2,19970818,0731, 13.6863, -66.0077, 4869,22676.4,   2253.4,   4.1024,  34.9750,2,  34.9765,2,    215.5,2,  3.9079,    215.6,2,    28.28,2,    22.08,2,     0.00,2,     1.51,2,    0.018,6,    0.020,6,    0.002,2, -999.000,9,-999.0000,5,  -999.00,9,   -999.0,9,  -999.00,9,-999.000,9,   -999.0,9,   -999.0,9,   -999.0,9,-999.0000,9,-999,  -999.0, -999.00,-999.0000,-999.000,-999.000
     316N151_4,   A22,    11,  1,     11,     11,2,19970818,0731, 13.6863, -66.0077, 4869,25118.7,   2497.6,   4.1127,  34.9755,2,  34.9759,2,    215.8,2,  3.8927,    215.8,2,    28.58,2,    22.11,2,     0.00,2,     1.51,2,    0.016,2,    0.020,2,    0.001,2, -999.000,9,-999.0000,5,  -999.00,9,   -999.0,9,  -999.00,9,-999.000,9,   -999.0,9,   -999.0,9,   -999.0,9,-999.0000,9,-999,  -999.0, -999.00,-999.0000,-999.000,-999.000
     316N151_4,   A22,    11,  1,     10,     10,2,19970818,0731, 13.6863, -66.0077, 4869,27658.0,   2751.3,   4.1311,  34.9752,2,  34.9758,2,    216.1,2,  3.8835,    216.3,2,    28.49,2,    22.09,2,     0.00,2,     1.50,2,    0.016,2,    0.021,2,    0.001,2, -999.000,9,-999.0000,5,  -999.00,9,   -999.0,9,  -999.00,9,-999.000,9,   -999.0,9,   -999.0,9,   -999.0,9,-999.0000,9,-999,  -999.0, -999.00,-999.0000,-999.000,-999.000
     316N151_4,   A22,    11,  1,      9,      9,2,19970818,0731, 13.6863, -66.0077, 4869,30153.1,   3000.8,   4.1531,  34.9759,2,  34.9768,2,    216.0,2,  3.8774,    216.0,2,    28.79,2,    22.01,2,     0.00,2,     1.50,2,    0.023,2,    0.020,2,    0.003,2, -999.000,9,-999.0000,5,  -999.00,9,   -999.0,9,  -999.00,9,-999.000,9,   -999.0,9,   -999.0,9,   -999.0,9,-999.0000,9,-999,  -999.0, -999.00,-999.0000,-999.000,-999.000
     316N151_4,   A22,    11,  1,      8,      8,2,19970818,0731, 13.6863, -66.0077, 4869,32642.3,   3249.5,   4.1771,  34.9765,2,  34.9768,2,    216.0,2,  3.8726,    216.4,2,    28.90,2,    22.05,2,     0.00,2,     1.50,2,    0.014,2,    0.020,2,    0.003,2, -999.000,9,-999.0000,5,  -999.00,9,   -999.0,9,  -999.00,9,-999.000,9,   -999.0,9,   -999.0,9,   -999.0,9,-999.0000,9,-999,  -999.0, -999.00,-999.0000,-999.000,-999.000
     316N151_4,   A22,    11,  1,      7,      7,2,19970818,0731, 13.6863, -66.0077, 4869,35128.2,   3498.0,   4.2035,  34.9763,2,  34.9761,2,    216.3,2,  3.8692,    216.4,2,    29.01,2,    22.05,2,     0.00,2,     1.50,2,    0.020,2,    0.019,2,    0.003,2, -999.000,9,-999.0000,5,  -999.00,9,   -999.0,9,  -999.00,9,-999.000,9,   -999.0,9,   -999.0,9,   -999.0,9,-999.0000,9,-999,  -999.0, -999.00,-999.0000,-999.000,-999.000
     316N151_4,   A22,    11,  1,      6,      6,2,19970818,0731, 13.6863, -66.0077, 4869,37633.8,   3748.4,   4.2318,  34.9766,2,  34.9765,2,    216.4,2,  3.8666,    216.6,2,    29.11,2,    22.05,2,     0.00,2,     1.50,2,    0.016,6,    0.020,6,    0.004,2, -999.000,9,-999.0000,5,  -999.00,9,   -999.0,9,  -999.00,9,-999.000,9,   -999.0,9,   -999.0,9,   -999.0,9,-999.0000,9,-999,  -999.0, -999.00,-999.0000,-999.000,-999.000
     316N151_4,   A22,    11,  1,      5,      5,2,19970818,0731, 13.6863, -66.0077, 4869,40142.9,   3999.3,   4.2616,  34.9770,2,  34.9765,2,    216.7,2,  3.8646,    216.7,2,    29.02,2,    22.05,2,     0.00,2,     1.50,2,    0.015,2,    0.022,2,    0.005,2, -999.000,9,-999.0000,5,  -999.00,9,   -999.0,9,  -999.00,9,-999.000,9,   -999.0,9,   -999.0,9,   -999.0,9,-999.0000,9,-999,  -999.0, -999.00,-999.0000,-999.000,-999.000
     316N151_4,   A22,    11,  1,      4,      4,2,19970818,0731, 13.6863, -66.0077, 4869,42664.9,   4251.3,   4.2929,  34.9775,2,  34.9771,2,    217.3,2,  3.8631,    217.2,2,    29.13,2,    22.01,2,     0.00,2,     1.49,2,    0.025,2,    0.023,2,    0.004,2, -999.000,9,-999.0000,5,  -999.00,9,   -999.0,9,  -999.00,9,-999.000,9,   -999.0,9,   -999.0,9,   -999.0,9,-999.0000,9,-999,  -999.0, -999.00,-999.0000,-999.000,-999.000
     316N151_4,   A22,    11,  1,      3,      3,2,19970818,0731, 13.6863, -66.0077, 4869,45164.2,   4501.1,   4.3258,  34.9780,2,  34.9770,2,    217.5,2,  3.8626,    217.2,2,    29.43,2,    21.97,2,     0.00,2,     1.49,2,    0.034,2,    0.023,2,    0.007,2, -999.000,9,-999.0000,5,  -999.00,9,   -999.0,9,  -999.00,9,-999.000,9,   -999.0,9,   -999.0,9,   -999.0,9,-999.0000,9,-999,  -999.0, -999.00,-999.0000,-999.000,-999.000
     316N151_4,   A22,    11,  1,      2,      2,2,19970818,0731, 13.6863, -66.0077, 4869,47668.1,   4751.4,   4.3602,  34.9785,2,  34.9765,2,    217.9,2,  3.8627,    217.3,2,    29.47,2,    21.92,2,     0.00,2,     1.49,2,    0.027,2,    0.025,2,    0.005,2, -999.000,9,-999.0000,5,  -999.00,9,   -999.0,9,  -999.00,9,-999.000,9,   -999.0,9,   -999.0,9,   -999.0,9,-999.0000,9,-999,  -999.0, -999.00,-999.0000,-999.000,-999.000
     316N151_4,   A22,    11,  1,      1,      1,2,19970818,0731, 13.6863, -66.0077, 4869,49933.0,   4978.1,   4.3916,  34.9792,2,  34.9772,2,    217.9,2,  3.8623,    216.9,2,    29.50,6,    21.96,6,     0.00,6,     1.49,6,    0.024,2,    0.025,2,    0.007,2, -999.000,9,-999.0000,5,  -999.00,9,   -999.0,9,  -999.00,9,-999.000,9,   -999.0,9,   -999.0,9,   -999.0,9,-999.0000,9,-999,  -999.0, -999.00,-999.0000,-999.000,-999.000