BOTTLE,20220629CCHSIOAMB
EXPOCODE,SECT_ID,STNNBR,CASTNO,SAMPNO,BTLNBR,BTLNBR_FLAG_W,DATE,TIME,LATITUDE,LONGITUDE,DEPTH,CTDRAW,CTDPRS,CTDTMP,CTDSAL,CTDSAL_FLAG_W,SALNTY,SALNTY_FLAG_W,CTDOXY,CTDOXY_FLAG_W,THETA,OXYGEN,OXYGEN_FLAG_W,SILCAT,SILCAT_FLAG_W,NITRAT,NITRAT_FLAG_W,NITRIT,NITRIT_FLAG_W,PHSPHT,PHSPHT_FLAG_W,CFC-11,CFC-11_FLAG_W,CFC-12,CFC-12_FLAG_W,CFC113,CFC113_FLAG_W,TRITUM,TRITUM_FLAG_W,HELIUM,HELIUM_FLAG_W,DELHE3,DELHE3_FLAG_W,DELC14,DELC14_FLAG_W,DELC13,DELC13_FLAG_W,NEON,NEON_FLAG_W,TCARBN,TCARBN_FLAG_W,PCO2,PCO2_FLAG_W,ALKALI,ALKALI_FLAG_W,PH,PH_FLAG_W,PH_TMP,C14ERR,DELHER,HELIER,NEONER,TRITER
,,,,,,,,,,,,,DBAR,ITS-90,PSS-78,,PSS-78,,UMOL/KG,,ITS-90,UMOL/KG,,UMOL/KG,,UMOL/KG,,UMOL/KG,,UMOL/KG,,PMOL/KG,,PMOL/KG,,PMOL/KG,,TU,,NMOL/KG,,PERCNT,,/MILLE,,/MILLE,,NMOL/KG,,UMOL/KG,,UATM,,UMOL/KG,,,,DEG C,/MILLE,PERCNT,NMOL/KG,NMOL/KG,TU
     316N151_4,   A22,    18,  1,     27,     27,2,19970820,0208, 17.4925, -66.0003, 3359,  195.7,      2.3,  28.8442,  35.4975,2,  35.5023,2,    173.6,2, 28.8436,    204.9,2,     1.67,2,     0.03,2,     0.00,2,     0.00,2,    1.592,2,    0.963,2,    0.115,2, -999.000,9,-999.0000,5,  -999.00,9,   -999.0,9,  -999.00,9,-999.000,9,   1969.7,2,    259.0,2,   2332.2,2,   8.1250,2,25,  -999.0, -999.00,-999.0000,-999.000,-999.000
     316N151_4,   A22,    18,  1,     26,     26,2,19970820,0208, 17.4925, -66.0003, 3359,  710.8,     53.9,  28.6487,  36.0687,2,  36.0747,2,    206.2,2, 28.6357,    206.4,2,     1.38,2,     0.03,2,     0.00,2,     0.01,2,    1.634,2,    0.989,2,    0.123,2, -999.000,9,-999.0000,5,  -999.00,9,   -999.0,9,  -999.00,9,-999.000,9,   1994.1,2,   -999.0,9,   2364.3,6,   8.1230,6,25,  -999.0, -999.00,-999.0000,-999.000,-999.000
     316N151_4,   A22,    18,  1,     25,     25,2,19970820,0208, 17.4925, -66.0003, 3359, 1165.6,     99.6,  25.2831,  36.9004,2,  36.8995,2,    223.5,2, 25.2611,    219.9,2,     0.99,2,     0.02,2,     0.01,2,     0.01,2,    1.905,2,    1.119,2,    0.149,2, -999.000,9,-999.0000,5,  -999.00,9,   -999.0,9,  -999.00,9,-999.000,9,   2038.0,2,   -999.0,9,   2409.6,2,   8.1170,2,25,  -999.0, -999.00,-999.0000,-999.000,-999.000
     316N151_4,   A22,    18,  1,     24,     24,2,19970820,0208, 17.4925, -66.0003, 3359, 1688.7,    152.4,  23.9606,  37.2065,2,  37.1834,2,    208.4,2, 23.9284,    212.3,2,     0.80,2,     0.01,2,     0.02,2,     0.01,2,    1.936,2,    1.138,2,    0.144,2, -999.000,9,-999.0000,5,  -999.00,9,   -999.0,9,  -999.00,9,-999.000,9,   2067.9,2,   -999.0,9,   2431.4,2,   8.0890,2,25,  -999.0, -999.00,-999.0000,-999.000,-999.000
     316N151_4,   A22,    18,  1,     23,     23,2,19970820,0208, 17.4925, -66.0003, 3359, 2194.1,    203.3,  21.2266,  37.0397,2,  37.0360,2,    186.7,2, 21.1870,    182.2,2,     0.81,2,     1.69,2,     0.02,2,     0.07,2,    2.169,2,    1.231,2,    0.068,2, -999.000,9,-999.0000,5,  -999.00,9,   -999.0,9,  -999.00,9,-999.000,9,   2110.4,2,   -999.0,9,   2419.4,2,   8.0100,2,25,  -999.0, -999.00,-999.0000,-999.000,-999.000
     316N151_4,   A22,    18,  1,     22,     22,2,19970820,0208, 17.4925, -66.0003, 3359, 2671.6,    251.3,  19.1294,  36.7315,2,  36.7263,2,    185.0,2, 19.0838,    179.6,2,     1.41,2,     4.18,2,     0.01,2,     0.20,2, -999.000,9, -999.000,9, -999.000,9, -999.000,9,-999.0000,5,  -999.00,9,   -999.0,9,  -999.00,9,-999.000,9,   2115.3,2,   -999.0,9,   2401.1,2,   7.9760,2,25,  -999.0, -999.00,-999.0000,-999.000,-999.000
     316N151_4,   A22,    18,  1,     21,     21,2,19970820,0208, 17.4925, -66.0003, 3359, 3164.2,    301.0,  17.4361,  36.3920,2,  36.3920,2,    151.8,2, 17.3849,    153.3,2,     3.40,2,    10.07,2,     0.01,2,     0.59,2,    1.965,2,    1.070,2,    0.016,2, -999.000,9,-999.0000,5,  -999.00,9,   -999.0,9,  -999.00,9,-999.000,9,   2143.6,2,   -999.0,9,   2383.0,2,   7.8970,2,25,  -999.0, -999.00,-999.0000,-999.000,-999.000
     316N151_4,   A22,    18,  1,     20,     20,2,19970820,0208, 17.4925, -66.0003, 3359, 4167.0,    401.6,  14.4723,  35.8864,2,  35.8834,2,    136.6,2, 14.4121,    136.8,2,     6.19,2,    16.45,2,     0.01,2,     1.00,2,    1.536,2,    0.816,2,    0.014,2, -999.000,9,-999.0000,5,  -999.00,9,   -999.0,9,  -999.00,9,-999.000,9,   2162.4,2,   -999.0,9,   2353.6,2,   7.8060,2,25,  -999.0, -999.00,-999.0000,-999.000,-999.000
     316N151_4,   A22,    18,  1,     19,     19,2,19970820,0208, 17.4925, -66.0003, 3359, 5150.6,    500.4,  12.5524,  35.6234,2,  35.6221,2,    140.5,2, 12.4839,    142.1,2,     7.98,2,    19.08,2,     0.01,2,     1.16,2,    1.158,2,    0.617,2,    0.006,2, -999.000,9,-999.0000,5,  -999.00,9,   -999.0,9,  -999.00,9,-999.000,9,   2167.2,2,   -999.0,9,   2338.4,2,   7.7730,2,25,  -999.0, -999.00,-999.0000,-999.000,-999.000
     316N151_4,   A22,    18,  1,     18,     18,2,19970820,0208, 17.4925, -66.0003, 3359, 6144.3,    600.2,  10.5040,  35.3532,2,  35.3510,2,    132.5,2, 10.4304,    135.3,2,    12.06,2,    23.53,2,     0.01,2,     1.47,2,    0.611,2,    0.325,2,    0.005,2, -999.000,9,-999.0000,5,  -999.00,9,   -999.0,9,  -999.00,9,-999.000,9,   2183.5,2,   -999.0,9,   2329.3,2,   7.7100,2,25,  -999.0, -999.00,-999.0000,-999.000,-999.000
     316N151_4,   A22,    18,  1,     17,     17,2,19970820,0208, 17.4925, -66.0003, 3359, 7141.1,    700.2,   8.0926,  35.0010,2,  34.9964,2,    129.8,2,  8.0189,    129.8,2,    18.72,2,    28.82,2,     0.00,2,     1.87,2,    0.251,2,    0.149,2,    0.004,2, -999.000,9,-999.0000,5,  -999.00,9,   -999.0,9,  -999.00,9,-999.000,9,   2202.1,2,   -999.0,9,   2316.2,2,   7.6370,2,25,  -999.0, -999.00,-999.0000,-999.000,-999.000
     316N151_4,   A22,    18,  1,     16,     16,2,19970820,0208, 17.4925, -66.0003, 3359, 8149.3,    801.2,   7.0835,  34.9382,2,  34.9381,2,    137.1,2,  7.0048,    138.2,2,    20.91,2,    29.27,2,     0.00,2,     1.92,2,    0.135,2,    0.081,2,    0.000,2, -999.000,9,-999.0000,5,  -999.00,9,   -999.0,9,  -999.00,9,-999.000,9,   2204.1,2,   -999.0,9,   2316.4,2,   7.6290,2,25,  -999.0, -999.00,-999.0000,-999.000,-999.000
     316N151_4,   A22,    18,  1,     15,     15,2,19970820,0208, 17.4925, -66.0003, 3359, 9140.6,    900.4,   6.1877,  34.9406,2,  34.9408,2,    160.9,2,  6.1046,    160.3,2,    21.22,2,    27.51,2,     0.00,2,     1.83,2,    0.152,2,    0.082,2,    0.001,2, -999.000,9,-999.0000,5,  -999.00,9,   -999.0,9,  -999.00,9,-999.000,9,   2199.8,2,   -999.0,9,   2318.6,2,   7.6500,2,25,  -999.0, -999.00,-999.0000,-999.000,-999.000
     316N151_4,   A22,    18,  1,     14,     14,2,19970820,0208, 17.4925, -66.0003, 3359,10147.3,   1001.1,   5.6067,  34.9817,2,  34.9824,2,    188.4,2,  5.5179,    186.9,2,    20.34,2,    24.61,2,     0.00,2,     1.64,2,    0.233,2,    0.121,2,    0.005,2, -999.000,9,-999.0000,5,  -999.00,9,   -999.0,9,  -999.00,9,-999.000,9,   2189.3,3,   -999.0,9,   2323.3,2,   7.6860,2,25,  -999.0, -999.00,-999.0000,-999.000,-999.000
     316N151_4,   A22,    18,  1,     13,     13,2,19970820,0208, 17.4925, -66.0003, 3359,11157.3,   1102.2,   4.9594,  34.9657,2,  34.9661,2,    196.5,2,  4.8663,    196.4,2,    23.42,2,    24.08,2,     0.00,2,     1.62,2,    0.123,2,    0.072,2,    0.004,2, -999.000,9,-999.0000,5,  -999.00,9,   -999.0,9,  -999.00,9,-999.000,9,   2192.5,2,   -999.0,9,   2327.2,2,   7.6900,2,25,  -999.0, -999.00,-999.0000,-999.000,-999.000
     316N151_4,   A22,    18,  1,     12,     12,2,19970820,0208, 17.4925, -66.0003, 3359,13144.8,   1300.9,   4.3953,  34.9693,2,  34.9699,2,    209.9,2,  4.2891,    209.6,2,    24.83,2,    22.90,2,     0.00,2,     1.56,2,    0.075,2,    0.047,2,    0.000,2, -999.000,9,-999.0000,5,  -999.00,9,   -999.0,9,  -999.00,9,-999.000,9,   2191.1,2,   -999.0,9,   2331.6,2,   7.7050,2,25,  -999.0, -999.00,-999.0000,-999.000,-999.000
     316N151_4,   A22,    18,  1,     11,     11,2,19970820,0208, 17.4925, -66.0003, 3359,15147.2,   1501.0,   4.2264,  34.9720,2,  34.9744,2,    212.4,2,  4.1035,    213.4,2,    26.13,2,    22.56,2,     0.00,2,     1.54,2,    0.067,2,    0.037,2,    0.002,2, -999.000,9,-999.0000,5,  -999.00,9,   -999.0,9,  -999.00,9,-999.000,9,   2191.4,2,   -999.0,9,   2332.6,2,   7.7090,2,25,  -999.0, -999.00,-999.0000,-999.000,-999.000
     316N151_4,   A22,    18,  1,     10,     10,2,19970820,0208, 17.4925, -66.0003, 3359,16642.6,   1650.5,   4.1722,  34.9747,2,  34.9752,2,    214.8,2,  4.0360,    216.7,2,    25.84,2,    22.20,2,     0.00,2,     1.52,2,    0.090,2,    0.048,2,    0.002,2, -999.000,9,-999.0000,5,  -999.00,9,   -999.0,9,  -999.00,9,-999.000,9,   2190.7,2,   -999.0,9,   2335.0,2,   7.7140,2,25,  -999.0, -999.00,-999.0000,-999.000,-999.000
     316N151_4,   A22,    18,  1,      9,      9,2,19970820,0208, 17.4925, -66.0003, 3359,18135.4,   1799.8,   4.1289,  34.9754,2,  34.9773,2,    216.8,2,  3.9790,    217.8,2,    26.34,2,    22.16,2,     0.00,2,     1.51,2,    0.078,2,    0.049,2,    0.002,2, -999.000,9,-999.0000,5,  -999.00,9,   -999.0,9,  -999.00,9,-999.000,9,   2191.5,2,   -999.0,9,   2335.7,2,   7.7110,2,25,  -999.0, -999.00,-999.0000,-999.000,-999.000
     316N151_4,   A22,    18,  1,      8,      8,2,19970820,0208, 17.4925, -66.0003, 3359,19640.0,   1950.1,   4.1011,  34.9762,2,  34.9737,2,    217.3,2,  3.9370,    217.9,2,    27.06,2,    22.11,2,     0.00,2,     1.51,2,    0.065,2,    0.043,2,    0.001,2, -999.000,9,-999.0000,5,  -999.00,9,   -999.0,9,  -999.00,9,-999.000,9,   2192.3,2,   -999.0,9,   2337.3,2,   7.7170,2,25,  -999.0, -999.00,-999.0000,-999.000,-999.000
     316N151_4,   A22,    18,  1,      7,      7,2,19970820,0208, 17.4925, -66.0003, 3359,21150.9,   2101.2,   4.0867,  34.9753,2,  34.9738,2,    217.0,2,  3.9079,    216.5,2,    27.95,2,    22.28,2,     0.00,2,     1.52,2,    0.031,2,    0.031,2,    0.000,2, -999.000,9,-999.0000,5,  -999.00,9,   -999.0,9,  -999.00,9,-999.000,9,   2194.4,2,   -999.0,9,   2339.7,2,   7.7150,2,25,  -999.0, -999.00,-999.0000,-999.000,-999.000
     316N151_4,   A22,    18,  1,      6,      6,2,19970820,0208, 17.4925, -66.0003, 3359,22646.0,   2250.6,   4.0927,  34.9754,2,  34.9749,2,    216.6,2,  3.8987,    216.2,2,    28.27,2,    22.20,2,     0.00,2,     1.52,2,    0.028,2,    0.030,2,    0.003,2, -999.000,9,-999.0000,5,  -999.00,9,   -999.0,9,  -999.00,9,-999.000,9,   2195.4,2,   -999.0,9,   2340.9,2,   7.7170,2,25,  -999.0, -999.00,-999.0000,-999.000,-999.000
     316N151_4,   A22,    18,  1,      5,      5,2,19970820,0208, 17.4925, -66.0003, 3359,25138.4,   2499.8,   4.1063,  34.9759,2,  34.9744,2,    216.2,2,  3.8862,    215.6,2,    28.87,2,    22.28,2,     0.00,2,     1.52,2,    0.031,2,    0.025,2,    0.000,2, -999.000,9,-999.0000,5,  -999.00,9,   -999.0,9,  -999.00,9,-999.000,9,   2196.2,2,   -999.0,9,   2341.1,2,   7.7110,2,25,  -999.0, -999.00,-999.0000,-999.000,-999.000
     316N151_4,   A22,    18,  1,      4,      4,2,19970820,0208, 17.4925, -66.0003, 3359,27636.3,   2749.5,   4.1265,  34.9756,2,  34.9768,2,    216.3,2,  3.8792,    215.8,2,    28.78,2,    22.20,2,     0.00,2,     1.52,2,    0.015,2,    0.024,2,    0.001,2, -999.000,9,-999.0000,5,  -999.00,9,   -999.0,9,  -999.00,9,-999.000,9,   2195.4,2,   -999.0,9,   2342.9,2,   7.7180,2,25,  -999.0, -999.00,-999.0000,-999.000,-999.000
     316N151_4,   A22,    18,  1,      3,      3,2,19970820,0208, 17.4925, -66.0003, 3359,30128.0,   2998.6,   4.1491,  34.9763,2,  34.9773,2,    216.2,2,  3.8738,    215.6,2,    29.19,2,    22.24,2,     0.00,2,     1.52,2,    0.015,2,    0.020,2,    0.001,2, -999.000,9,-999.0000,5,  -999.00,9,   -999.0,9,  -999.00,9,-999.000,9,   2197.3,2,   -999.0,9,   2343.0,2,   7.7140,2,25,  -999.0, -999.00,-999.0000,-999.000,-999.000
     316N151_4,   A22,    18,  1,      2,      2,2,19970820,0208, 17.4925, -66.0003, 3359,32651.5,   3251.0,   4.1778,  34.9767,2,  34.9773,2,    216.1,2,  3.8731,    216.1,2,    29.01,2,    22.24,2,     0.00,2,     1.52,2,    0.017,2,    0.025,2,    0.002,2, -999.000,9,-999.0000,5,  -999.00,9,   -999.0,9,  -999.00,9,-999.000,9,   2197.4,2,   -999.0,9,   2342.6,6,   7.7170,2,25,  -999.0, -999.00,-999.0000,-999.000,-999.000
     316N151_4,   A22,    18,  1,      1,      1,2,19970820,0208, 17.4925, -66.0003, 3359,33838.4,   3369.6,   4.1920,  34.9769,2,  34.9782,2,    216.1,2,  3.8731,    218.1,2,    28.39,6,    22.04,6,     0.00,6,     1.51,6,    0.041,2,    0.035,2,    0.003,2, -999.000,9,-999.0000,5,  -999.00,9,   -999.0,9,  -999.00,9,-999.000,9,   2195.9,2,   -999.0,9,   2342.0,2,   7.7150,2,25,  -999.0, -999.00,-999.0000,-999.000,-999.000