BOTTLE,20220629CCHSIOAMB
EXPOCODE,SECT_ID,STNNBR,CASTNO,SAMPNO,BTLNBR,BTLNBR_FLAG_W,DATE,TIME,LATITUDE,LONGITUDE,DEPTH,CTDRAW,CTDPRS,CTDTMP,CTDSAL,CTDSAL_FLAG_W,SALNTY,SALNTY_FLAG_W,CTDOXY,CTDOXY_FLAG_W,THETA,OXYGEN,OXYGEN_FLAG_W,SILCAT,SILCAT_FLAG_W,NITRAT,NITRAT_FLAG_W,NITRIT,NITRIT_FLAG_W,PHSPHT,PHSPHT_FLAG_W,CFC-11,CFC-11_FLAG_W,CFC-12,CFC-12_FLAG_W,CFC113,CFC113_FLAG_W,TRITUM,TRITUM_FLAG_W,HELIUM,HELIUM_FLAG_W,DELHE3,DELHE3_FLAG_W,DELC14,DELC14_FLAG_W,DELC13,DELC13_FLAG_W,NEON,NEON_FLAG_W,TCARBN,TCARBN_FLAG_W,PCO2,PCO2_FLAG_W,ALKALI,ALKALI_FLAG_W,PH,PH_FLAG_W,PH_TMP,C14ERR,DELHER,HELIER,NEONER,TRITER
,,,,,,,,,,,,,DBAR,ITS-90,PSS-78,,PSS-78,,UMOL/KG,,ITS-90,UMOL/KG,,UMOL/KG,,UMOL/KG,,UMOL/KG,,UMOL/KG,,PMOL/KG,,PMOL/KG,,PMOL/KG,,TU,,NMOL/KG,,PERCNT,,/MILLE,,/MILLE,,NMOL/KG,,UMOL/KG,,UATM,,UMOL/KG,,,,DEG C,/MILLE,PERCNT,NMOL/KG,NMOL/KG,TU
     316N151_4,   A22,    70,  1,     33,     33,2,19970901,2005, 39.9830, -66.0045, 3840,  185.1,      2.0,  24.5879,  34.1910,2,  34.1943,2,    195.7,2, 24.5874,    219.8,2,     0.57,2,     0.04,2,     0.00,2,     0.06,2,    2.007,2,    1.164,2,    0.157,2, -999.000,9,   1.7392,2,    -2.19,2,   -999.0,9,  -999.00,9,   7.052,2,   1961.3,2,   -999.0,9,   -999.0,9,-999.0000,9,-999,  -999.0,    0.15,  0.0087,   0.035,-999.000
     316N151_4,   A22,    70,  1,     32,     32,2,19970901,2005, 39.9830, -66.0045, 3840,  654.1,     50.0,  18.3880,  35.0291,2,  35.0297,2,    204.6,2, 18.3793,    222.4,2,     1.79,2,     1.59,2,     0.23,2,     0.24,2, -999.000,9, -999.000,9, -999.000,9, -999.000,9,   1.7820,2,    -1.87,2,   -999.0,9,  -999.00,9,   7.403,2,   2051.2,2,   -999.0,9,   -999.0,9,-999.0000,9,-999,  -999.0,    0.15,  0.0089,   0.037,-999.000
     316N151_4,   A22,    70,  1,     31,     31,2,19970901,2005, 39.9830, -66.0045, 3840, 1184.2,    103.5,  15.0040,  35.2968,2,  35.3295,2,    186.0,2, 14.9884,    191.8,2,     3.67,2,     7.55,2,     0.03,2,     0.56,2,    2.713,2,    1.493,2,    0.194,2, -999.000,9,   1.7801,2,    -0.34,2,   -999.0,9,  -999.00,9,   7.512,2,   2105.5,2,   -999.0,9,   -999.0,9,-999.0000,9,-999,  -999.0,    0.15,  0.0089,   0.038,-999.000
     316N151_4,   A22,    70,  1,     30,     30,2,19970901,2005, 39.9830, -66.0045, 3840, 1628.1,    148.2,  13.3539,  35.6446,2,  35.6455,2,    159.2,2, 13.3331,    158.9,2,     7.07,2,    15.41,2,     0.01,2,     0.96,2, -999.000,9, -999.000,9, -999.000,9, -999.000,9,   1.8051,2,     3.29,2,   -999.0,9,  -999.00,9,   7.588,2,   2148.5,2,   -999.0,9,   -999.0,9,-999.0000,9,-999,  -999.0,    0.15,  0.0090,   0.038,-999.000
     316N151_4,   A22,    70,  1,     29,     29,2,19970901,2005, 39.9830, -66.0045, 3840, 2164.4,    202.2,  11.3321,  35.4225,2,  35.4133,2,    139.3,2, 11.3066,    140.1,2,    11.13,2,    21.47,2,     0.01,2,     1.34,2,    1.063,2,    0.568,2,    0.031,2, -999.000,9,   1.7805,2,     5.21,2,   -999.0,9,  -999.00,9,   7.574,2,   2176.3,2,   -999.0,9,   -999.0,9,-999.0000,9,-999,  -999.0,    0.15,  0.0089,   0.038,-999.000
     316N151_4,   A22,    70,  1,     28,     28,2,19970901,2005, 39.9830, -66.0045, 3840, 2646.7,    250.6,   9.4460,  35.2174,2,  35.1075,2,    141.2,2,  9.4178,    186.0,2,    13.78,2,    22.53,2,     0.01,2,     1.45,2,    0.755,2,    0.402,2,    0.028,2, -999.000,9,   1.8073,2,     5.84,2,   -999.0,9,  -999.00,9,   7.842,2,   2180.0,2,   -999.0,9,   -999.0,9,-999.0000,9,-999,  -999.0,    0.15,  0.0090,   0.039,-999.000
     316N151_4,   A22,    70,  1,     27,     27,2,19970901,2005, 39.9830, -66.0045, 3840, 3143.7,    300.5,   8.4147,  35.1298,2,  35.1298,2,    152.0,2,  8.3831,    150.0,2,    14.93,2,    24.53,2,     0.00,2,     1.57,2, -999.000,9, -999.000,9, -999.000,9, -999.000,9,   1.8116,2,     5.04,2,   -999.0,9,  -999.00,9,   7.863,2,   2188.6,2,   -999.0,9,   -999.0,9,-999.0000,9,-999,  -999.0,    0.15,  0.0091,   0.039,-999.000
     316N151_4,   A22,    70,  1,     26,     26,2,19970901,2005, 39.9830, -66.0045, 3840, 4136.0,    399.9,   6.8230,  35.0740,2,  35.0738,2,    185.9,2,  6.7854,    183.7,2,    14.09,2,    22.33,2,     0.01,2,     1.45,2,    0.992,2,    0.515,2,    0.036,2, -999.000,9,   1.8146,2,     6.07,2,   -999.0,9,  -999.00,9,   7.959,2,   2181.3,2,   -999.0,9,   -999.0,9,-999.0000,9,-999,  -999.0,    0.15,  0.0091,   0.040,-999.000
     316N151_4,   A22,    70,  1,     25,     25,2,19970901,2005, 39.9830, -66.0045, 3840, 5151.3,    501.5,   5.6970,  35.0406,2,  35.0438,2,    208.7,2,  5.6539,    212.2,2,    13.24,2,    20.49,2,     0.00,2,     1.34,2, -999.000,9, -999.000,9, -999.000,9, -999.000,9,   1.8408,2,     5.88,2,   -999.0,9,  -999.00,9,   8.133,2,   2175.6,2,   -999.0,9,   -999.0,9,-999.0000,9,-999,  -999.0,    0.15,  0.0092,   0.041,-999.000
     316N151_4,   A22,    70,  1,     24,     24,2,19970901,2005, 39.9830, -66.0045, 3840, 6156.9,    602.1,   5.3974,  35.0630,2,  35.0638,2,    225.2,2,  5.3466,    224.7,2,    12.78,2,    19.63,2,     0.01,2,     1.29,2,    1.282,2,    0.650,2,    0.059,2, -999.000,9,   1.8511,2,     5.90,2,   -999.0,9,  -999.00,9,   8.183,2,   2170.8,2,   -999.0,9,   -999.0,9,-999.0000,9,-999,  -999.0,    0.15,  0.0093,   0.041,-999.000
     316N151_4,   A22,    70,  1,     23,     23,2,19970901,2005, 39.9830, -66.0045, 3840, 7158.0,    702.1,   4.8724,  35.0294,2,  35.0251,2,    241.2,2,  4.8155,    238.9,2,    12.41,2,    18.98,2,     0.01,2,     1.25,2,    1.478,2,    0.738,2,    0.066,2, -999.000,9,   1.8541,2,     6.18,2,   -999.0,9,  -999.00,9,   8.216,2,   2166.8,2,   -999.0,9,   -999.0,9,-999.0000,9,-999,  -999.0,    0.15,  0.0093,   0.041,-999.000
     316N151_4,   A22,    70,  1,     22,     22,2,19970901,2005, 39.9830, -66.0045, 3840, 8139.9,    800.3,   4.5208,  35.0009,2,  35.0011,2,    247.4,2,  4.4576,    247.5,2,    12.23,2,    18.61,2,     0.01,2,     1.23,2,    1.503,2,    0.757,2,    0.070,2, -999.000,9,   1.8411,2,     6.02,2,   -999.0,9,  -999.00,9,   8.218,2,   2164.7,2,   -999.0,9,   -999.0,9,-999.0000,9,-999,  -999.0,    0.15,  0.0092,   0.041,-999.000
     316N151_4,   A22,    70,  1,     21,     21,2,19970901,2005, 39.9830, -66.0045, 3840, 9154.4,    901.7,   4.3380,  34.9912,2,  34.9907,2,    251.6,2,  4.2673,    252.7,2,    12.15,2,    18.33,2,     0.00,2,     1.21,2,    1.520,2,    0.750,2,    0.069,2, -999.000,9,   1.8347,2,     6.14,2,   -999.0,9,  -999.00,9,   8.043,2,   2161.8,2,   -999.0,9,   -999.0,9,-999.0000,9,-999,  -999.0,    0.15,  0.0092,   0.040,-999.000
     316N151_4,   A22,    70,  1,     20,     20,2,19970901,2005, 39.9830, -66.0045, 3840,10143.6,   1000.5,   4.2112,  34.9830,2,  34.9858,2,    256.2,2,  4.1330,    256.3,2,    12.06,2,    18.16,2,     0.00,2,     1.20,2,    1.461,2,    0.729,2,    0.067,2, -999.000,9,   1.8296,2,     6.09,2,   -999.0,9,  -999.00,9,   8.234,2,   2160.5,2,   -999.0,9,   -999.0,9,-999.0000,9,-999,  -999.0,    0.15,  0.0091,   0.041,-999.000
     316N151_4,   A22,    70,  1,     19,     19,2,19970901,2005, 39.9830, -66.0045, 3840,11153.4,   1101.4,   4.0332,  34.9706,2,  34.9714,2,    260.7,2,  3.9480,    260.8,2,    12.07,2,    17.99,2,     0.00,2,     1.19,2,    1.498,2,    0.732,2,    0.065,2, -999.000,9,   1.8378,2,     5.72,2,   -999.0,9,  -999.00,9,   8.156,2,   2158.8,2,   -999.0,9,   -999.0,9,-999.0000,9,-999,  -999.0,    0.15,  0.0092,   0.041,-999.000
     316N151_4,   A22,    70,  1,     18,     18,2,19970901,2005, 39.9830, -66.0045, 3840,12648.3,   1250.8,   3.8298,  34.9523,2,  34.9532,2,    266.0,2,  3.7335,    265.5,2,    12.18,2,    17.79,2,     0.00,2,     1.18,2,    1.523,2,    0.757,2,    0.075,2, -999.000,9,   1.8425,2,     5.33,2,   -999.0,9,  -999.00,9,   8.172,2,   2157.5,2,   -999.0,9,   -999.0,9,-999.0000,9,-999,  -999.0,    0.15,  0.0092,   0.041,-999.000
     316N151_4,   A22,    70,  1,     17,     17,2,19970901,2005, 39.9830, -66.0045, 3840,14149.2,   1400.9,   3.7021,  34.9452,2,  34.9456,2,    268.3,2,  3.5941,    267.8,2,    12.47,2,    17.71,2,     0.00,2,     1.18,2,    1.521,2,    0.736,2,    0.069,2, -999.000,9,   1.8391,2,     5.42,2,   -999.0,9,  -999.00,9,   8.251,2,   2157.3,2,   -999.0,9,   -999.0,9,-999.0000,9,-999,  -999.0,    0.15,  0.0092,   0.041,-999.000
     316N151_4,   A22,    70,  1,     16,     16,2,19970901,2005, 39.9830, -66.0045, 3840,15629.0,   1548.8,   3.5811,  34.9377,2,  34.9383,2,    270.5,2,  3.4615,    269.5,2,    12.76,2,    17.62,2,     0.00,2,     1.17,2,    1.507,2,    0.746,2,    0.079,2, -999.000,9,   1.8406,2,     5.27,2,   -999.0,9,  -999.00,9,   8.297,2,   -999.0,9,   -999.0,9,   -999.0,9,-999.0000,9,-999,  -999.0,    0.15,  0.0092,   0.041,-999.000
     316N151_4,   A22,    70,  1,     15,     15,2,19970901,2005, 39.9830, -66.0045, 3840,17124.2,   1698.2,   3.4822,  34.9347,2,  34.9354,2,    269.0,2,  3.3503,    270.8,2,    13.15,2,    17.58,2,     0.00,2,     1.17,2,    1.481,2,    0.733,2,    0.078,2, -999.000,9,   1.8410,2,     4.59,2,   -999.0,9,  -999.00,9,   8.316,2,   -999.0,9,   -999.0,9,   -999.0,9,-999.0000,9,-999,  -999.0,    0.15,  0.0092,   0.042,-999.000
     316N151_4,   A22,    70,  1,     14,     14,2,19970901,2005, 39.9830, -66.0045, 3840,18625.4,   1848.2,   3.4272,  34.9401,2,  34.9403,2,    269.9,2,  3.2824,    269.8,2,    13.92,2,    17.62,2,     0.00,2,     1.17,2,    1.234,2,    0.615,2,    0.061,2, -999.000,9,-999.0000,5,  -999.00,9,   -999.0,9,  -999.00,9,-999.000,9,   -999.0,9,   -999.0,9,   -999.0,9,-999.0000,9,-999,  -999.0, -999.00,-999.0000,-999.000,-999.000
     316N151_4,   A22,    70,  1,     13,     13,2,19970901,2005, 39.9830, -66.0045, 3840,20147.5,   2000.2,   3.3922,  34.9493,2,  34.9494,2,    266.9,2,  3.2337,    267.1,2,    14.99,2,    17.78,2,     0.00,2,     1.18,2, -999.000,9, -999.000,9, -999.000,9, -999.000,9,   1.8509,2,     4.21,2,   -999.0,9,  -999.00,9,   8.370,2,   -999.0,9,   -999.0,9,   -999.0,9,-999.0000,9,-999,  -999.0,    0.15,  0.0093,   0.042,-999.000
     316N151_4,   A22,    70,  1,     12,     12,2,19970901,2005, 39.9830, -66.0045, 3840,21638.7,   2149.4,   3.3305,  34.9519,2,  34.9534,2,    266.5,2,  3.1588,    265.7,2,    15.86,2,    17.86,2,     0.00,2,     1.19,2,    0.702,2,    0.366,2,    0.031,2, -999.000,9,-999.0000,5,  -999.00,9,   -999.0,9,  -999.00,9,-999.000,9,   -999.0,9,   -999.0,9,   -999.0,9,-999.0000,9,-999,  -999.0, -999.00,-999.0000,-999.000,-999.000
     316N151_4,   A22,    70,  1,     11,     11,2,19970901,2005, 39.9830, -66.0045, 3840,23151.3,   2300.6,   3.2094,  34.9512,2,  34.9510,2,    266.0,2,  3.0253,    265.0,2,    17.40,2,    17.98,2,     0.00,2,     1.20,2,    0.534,2,    0.273,2,    0.019,2, -999.000,9,-999.0000,5,  -999.00,9,   -999.0,9,  -999.00,9,-999.000,9,   -999.0,9,   -999.0,9,   -999.0,9,-999.0000,9,-999,  -999.0, -999.00,-999.0000,-999.000,-999.000
     316N151_4,   A22,    70,  1,     10,     10,2,19970901,2005, 39.9830, -66.0045, 3840,24631.9,   2448.6,   3.0859,  34.9462,2,  34.9461,2,    267.1,2,  2.8894,    264.6,2,    18.27,2,    17.93,2,     0.00,2,     1.20,2,    0.515,2,    0.264,2,    0.020,2, -999.000,9,   1.8526,2,     3.80,2,   -999.0,9,  -999.00,9,   8.356,2,   -999.0,9,   -999.0,9,   -999.0,9,-999.0000,9,-999,  -999.0,    0.15,  0.0093,   0.042,-999.000
     316N151_4,   A22,    70,  1,      9,      9,2,19970901,2005, 39.9830, -66.0045, 3840,26146.4,   2600.0,   2.9063,  34.9333,2,  34.9332,2,    269.5,2,  2.6983,    269.2,2,    17.81,2,    17.57,2,     0.00,2,     1.18,2,    0.800,2,    0.400,2,    0.034,2, -999.000,9,-999.0000,5,  -999.00,9,   -999.0,9,  -999.00,9,-999.000,9,   -999.0,9,   -999.0,9,   -999.0,9,-999.0000,9,-999,  -999.0, -999.00,-999.0000,-999.000,-999.000
     316N151_4,   A22,    70,  1,      8,      8,2,19970901,2005, 39.9830, -66.0045, 3840,27655.2,   2750.8,   2.7521,  34.9274,2,  34.9269,2,    271.4,2,  2.5322,    269.9,2,    18.78,2,    17.48,2,     0.00,2,     1.18,2, -999.000,9, -999.000,9, -999.000,9, -999.000,9,-999.0000,5,  -999.00,9,   -999.0,9,  -999.00,9,-999.000,9,   -999.0,9,   -999.0,9,   -999.0,9,-999.0000,9,-999,  -999.0, -999.00,-999.0000,-999.000,-999.000
     316N151_4,   A22,    70,  1,      7,      7,2,19970901,2005, 39.9830, -66.0045, 3840,29169.3,   2902.2,   2.5779,  34.9158,2,  34.9149,2,    272.9,2,  2.3463,    273.0,2,    18.50,2,    17.16,2,     0.00,2,     1.16,2,    1.135,2,    0.561,2,    0.058,2, -999.000,9,-999.0000,5,  -999.00,9,   -999.0,9,  -999.00,9,-999.000,9,   -999.0,9,   -999.0,9,   -999.0,9,-999.0000,9,-999,  -999.0, -999.00,-999.0000,-999.000,-999.000
     316N151_4,   A22,    70,  1,      6,      6,2,19970901,2005, 39.9830, -66.0045, 3840,30651.4,   3050.5,   2.4593,  34.9103,2,  34.9107,2,    273.2,2,  2.2153,    273.4,2,    19.48,2,    17.15,2,     0.00,2,     1.16,2, -999.000,9, -999.000,9, -999.000,9, -999.000,9,   1.9299,2,     4.01,2,   -999.0,9,  -999.00,9,   8.714,2,   -999.0,9,   -999.0,9,   -999.0,9,-999.0000,9,-999,  -999.0,    0.15,  0.0096,   0.044,-999.000
     316N151_4,   A22,    70,  1,      5,      5,2,19970901,2005, 39.9830, -66.0045, 3840,32156.7,   3200.8,   2.3664,  34.9064,2,  34.9057,2,    273.2,2,  2.1090,    273.5,2,    20.74,2,    17.22,2,     0.00,2,     1.17,2,    0.807,2,    0.407,2,    0.035,2, -999.000,9,-999.0000,5,  -999.00,9,   -999.0,9,  -999.00,9,-999.000,9,   -999.0,9,   -999.0,9,   -999.0,9,-999.0000,9,-999,  -999.0, -999.00,-999.0000,-999.000,-999.000
     316N151_4,   A22,    70,  1,      4,      4,2,19970901,2005, 39.9830, -66.0045, 3840,33654.2,   3350.7,   2.3060,  34.9033,2,  34.9025,2,    272.3,2,  2.0344,    272.7,2,    22.39,2,    17.43,2,     0.00,2,     1.18,2, -999.000,9, -999.000,9, -999.000,9, -999.000,9,-999.0000,5,  -999.00,9,   -999.0,9,  -999.00,9,-999.000,9,   -999.0,9,   -999.0,9,   -999.0,9,-999.0000,9,-999,  -999.0, -999.00,-999.0000,-999.000,-999.000
     316N151_4,   A22,    70,  1,      3,      3,2,19970901,2005, 39.9830, -66.0045, 3840,35161.6,   3501.3,   2.2420,  34.8981,2,  34.8974,2,    271.2,2,  1.9559,    272.0,2,    24.42,2,    17.66,2,     0.00,2,     1.20,2,    1.041,2,    0.510,2,    0.053,2, -999.000,9,   1.9036,2,     4.44,2,   -999.0,9,  -999.00,9,   8.640,2,   -999.0,9,   -999.0,9,   -999.0,9,-999.0000,9,-999,  -999.0,    0.15,  0.0095,   0.043,-999.000
     316N151_4,   A22,    70,  1,      2,      2,2,19970901,2005, 39.9830, -66.0045, 3840,37497.9,   3734.9,   2.1820,  34.8911,2,  34.8909,2,    268.4,2,  1.8722,    267.7,2,    29.25,2,    18.44,2,     0.00,2,     1.26,2, -999.000,9, -999.000,9, -999.000,9, -999.000,9,-999.0000,5,  -999.00,9,   -999.0,9,  -999.00,9,-999.000,9,   -999.0,9,   -999.0,9,   -999.0,9,-999.0000,9,-999,  -999.0, -999.00,-999.0000,-999.000,-999.000
     316N151_4,   A22,    70,  1,      1,      1,2,19970901,2005, 39.9830, -66.0045, 3840,39136.7,   3899.0,   2.1726,  34.8882,2,  34.8874,2,    265.1,2,  1.8449,    264.4,2,    32.64,6,    18.98,6,     0.00,6,     1.30,6,    0.646,2,    0.324,2,    0.034,2, -999.000,9,   1.8779,2,     3.55,2,   -999.0,9,  -999.00,9,   8.550,2,   -999.0,9,   -999.0,9,   -999.0,9,-999.0000,9,-999,  -999.0,    0.15,  0.0094,   0.043,-999.000