BOTTLE,20220629CCHSIOAMB
EXPOCODE,SECT_ID,STNNBR,CASTNO,SAMPNO,BTLNBR,BTLNBR_FLAG_W,DATE,TIME,LATITUDE,LONGITUDE,DEPTH,CTDRAW,CTDPRS,CTDTMP,CTDSAL,CTDSAL_FLAG_W,SALNTY,SALNTY_FLAG_W,CTDOXY,CTDOXY_FLAG_W,THETA,OXYGEN,OXYGEN_FLAG_W,SILCAT,SILCAT_FLAG_W,NITRAT,NITRAT_FLAG_W,NITRIT,NITRIT_FLAG_W,PHSPHT,PHSPHT_FLAG_W,CFC-11,CFC-11_FLAG_W,CFC-12,CFC-12_FLAG_W,CFC113,CFC113_FLAG_W,TRITUM,TRITUM_FLAG_W,HELIUM,HELIUM_FLAG_W,DELHE3,DELHE3_FLAG_W,DELC14,DELC14_FLAG_W,DELC13,DELC13_FLAG_W,NEON,NEON_FLAG_W,TCARBN,TCARBN_FLAG_W,PCO2,PCO2_FLAG_W,ALKALI,ALKALI_FLAG_W,PH,PH_FLAG_W,PH_TMP,C14ERR,DELHER,HELIER,NEONER,TRITER
,,,,,,,,,,,,,DBAR,ITS-90,PSS-78,,PSS-78,,UMOL/KG,,ITS-90,UMOL/KG,,UMOL/KG,,UMOL/KG,,UMOL/KG,,UMOL/KG,,PMOL/KG,,PMOL/KG,,PMOL/KG,,TU,,NMOL/KG,,PERCNT,,/MILLE,,/MILLE,,NMOL/KG,,UMOL/KG,,UATM,,UMOL/KG,,,,DEG C,/MILLE,PERCNT,NMOL/KG,NMOL/KG,TU
     316N151_4,   A22,    24,  1,     30,     30,2,19970821,0114, 17.8767, -65.3495, 4069,  215.6,      4.2,  28.8115,  35.4431,2,  35.4469,2,    200.5,2, 28.8105,    211.7,2,     1.59,2,     0.02,2,     0.00,2,     0.01,2,    1.562,2,    0.974,2,    0.128,2, -999.000,9,-999.0000,5,  -999.00,9,   -999.0,9,  -999.00,9,-999.000,9,   1969.3,2,    259.0,2,   2328.4,2,   8.1180,2,25,  -999.0, -999.00,-999.0000,-999.000,-999.000
     316N151_4,   A22,    24,  1,     29,     29,2,19970821,0114, 17.8767, -65.3495, 4069,  686.2,     51.4,  28.6478,  36.3635,2,  36.3645,2,    205.7,2, 28.6354,    207.1,2,     1.12,2,     0.02,2,     0.00,2,     0.01,2,    1.559,2,    0.976,2,    0.124,2, -999.000,9,-999.0000,5,  -999.00,9,   -999.0,9,  -999.00,9,-999.000,9,   2008.0,2,    259.0,2,   2384.0,2,   8.1230,6,25,  -999.0, -999.00,-999.0000,-999.000,-999.000
     316N151_4,   A22,    24,  1,     28,     28,2,19970821,0114, 17.8767, -65.3495, 4069, 1195.0,    102.6,  25.5066,  36.8791,2,  36.8692,2,    209.8,2, 25.4839,    219.3,2,     0.86,2,     0.10,2,     0.01,2,     0.01,2,    1.934,6,    1.224,2,    0.143,2, -999.000,9,-999.0000,5,  -999.00,9,     89.9,2,     1.42,2,-999.000,9,   2036.5,2,    271.0,2,   2412.2,2,   8.1120,2,25,     3.5, -999.00,-999.0000,-999.000,-999.000
     316N151_4,   A22,    24,  1,     27,     27,2,19970821,0114, 17.8767, -65.3495, 4069, 1696.9,    153.1,  23.8811,  37.2740,2,  37.2745,2,    198.4,2, 23.8486,    212.1,2,     0.58,2,     0.02,2,     0.01,2,     0.01,2,    2.007,2,    1.204,2,    0.152,2, -999.000,9,-999.0000,5,  -999.00,9,   -999.0,9,  -999.00,9,-999.000,9,   2070.7,2,    290.0,2,   2437.0,2,   8.0970,2,25,  -999.0, -999.00,-999.0000,-999.000,-999.000
     316N151_4,   A22,    24,  1,     26,     26,2,19970821,0114, 17.8767, -65.3495, 4069, 2180.0,    201.7,  20.7504,  36.9899,2,  37.0068,2,    177.6,2, 20.7117,    181.9,2,     0.72,2,     1.95,2,     0.02,2,     0.08,2,    2.208,2,    1.286,2,    0.049,2, -999.000,9,-999.0000,5,  -999.00,9,   -999.0,9,  -999.00,9,-999.000,9,   2114.5,2,    376.0,2,   2418.1,2,   8.0030,2,25,  -999.0, -999.00,-999.0000,-999.000,-999.000
     316N151_4,   A22,    24,  1,     25,     25,2,19970821,0114, 17.8767, -65.3495, 4069, 2674.0,    251.3,  19.0411,  36.7310,2,  36.7306,2,    180.4,2, 18.9957,    177.1,2,     1.25,2,     4.51,2,     0.01,2,     0.22,2,    2.231,2,    1.266,2,    0.022,2, -999.000,9,-999.0000,5,  -999.00,9,   -999.0,9,  -999.00,9,-999.000,9,   2119.4,2,    413.0,2,   2402.8,2,   7.9740,2,25,  -999.0, -999.00,-999.0000,-999.000,-999.000
     316N151_4,   A22,    24,  1,     24,     24,2,19970821,0114, 17.8767, -65.3495, 4069, 3183.5,    302.7,  17.9200,  36.5330,2,  36.5299,2,    175.3,2, 17.8675,    177.3,2,     1.88,2,     6.50,2,     0.01,2,     0.35,2,    2.199,2,    1.225,2,    0.019,2, -999.000,9,-999.0000,5,  -999.00,9,   -999.0,9,  -999.00,9,-999.000,9,   2122.4,2,    437.0,2,   2389.4,2,   7.9520,2,25,  -999.0, -999.00,-999.0000,-999.000,-999.000
     316N151_4,   A22,    24,  1,     23,     23,2,19970821,0114, 17.8767, -65.3495, 4069, 4160.5,    400.9,  15.2313,  36.0616,2,  36.0420,2,    155.5,2, 15.1691,    155.3,2,     4.41,2,    13.23,2,     0.01,2,     0.78,2,    1.736,2,    0.927,2,    0.020,2, -999.000,9,-999.0000,5,  -999.00,9,     40.5,2,     0.81,2,-999.000,9,   2148.1,2,    560.0,2,   2361.8,2,   7.8550,2,25,     4.1, -999.00,-999.0000,-999.000,-999.000
     316N151_4,   A22,    24,  1,     22,     22,2,19970821,0114, 17.8767, -65.3495, 4069, 5156.8,    501.1,  12.7364,  35.6646,2,  35.6608,2,    145.5,2, 12.6672,    145.2,2,     7.53,2,    18.35,2,     0.01,2,     1.11,2,    1.189,6,    0.651,6,    0.011,2, -999.000,9,-999.0000,5,  -999.00,9,   -999.0,9,  -999.00,9,-999.000,9,   2164.2,2,    675.0,2,   2342.0,2,   7.7830,2,25,  -999.0, -999.00,-999.0000,-999.000,-999.000
     316N151_4,   A22,    24,  1,     21,     21,2,19970821,0114, 17.8767, -65.3495, 4069, 6155.7,    601.3,  10.3486,  35.3525,2,  35.3426,2,    134.4,2, 10.2756,    135.2,2,    12.16,2,    23.74,2,     0.00,2,     1.48,2,    0.504,2,    0.280,2,    0.011,2, -999.000,9,-999.0000,5,  -999.00,9,   -999.0,9,  -999.00,9,-999.000,9,   2185.1,2,    846.0,2,   2328.1,2,   7.7040,2,25,  -999.0, -999.00,-999.0000,-999.000,-999.000
     316N151_4,   A22,    24,  1,     20,     20,2,19970821,0114, 17.8767, -65.3495, 4069, 7148.6,    700.8,   8.1031,  35.0077,2,  35.0061,2,    129.7,2,  8.0293,    129.9,2,    18.38,2,    28.62,2,     0.00,2,     1.85,2,    0.260,2,    0.146,2,    0.004,2, -999.000,9,-999.0000,5,  -999.00,9,    -63.7,2,     0.71,2,-999.000,9,   2201.4,2,    961.0,2,   2317.3,2,   7.6430,2,25,     3.1, -999.00,-999.0000,-999.000,-999.000
     316N151_4,   A22,    24,  1,     19,     19,2,19970821,0114, 17.8767, -65.3495, 4069, 8153.9,    801.4,   7.1974,  34.9337,2,  34.9344,2,    137.2,2,  7.1180,    135.5,2,    20.62,2,    29.43,2,     0.00,2,     1.92,2,    0.132,2,    0.083,2,    0.001,2, -999.000,9,-999.0000,5,  -999.00,9,   -999.0,9,  -999.00,9,-999.000,9,   2204.9,2,    987.0,2,   2315.2,2,   7.6250,2,25,  -999.0, -999.00,-999.0000,-999.000,-999.000
     316N151_4,   A22,    24,  1,     18,     18,2,19970821,0114, 17.8767, -65.3495, 4069, 9157.5,    901.9,   6.3370,  34.9176,2,  34.9169,2,    152.9,2,  6.2528,    152.6,2,    21.75,2,    28.34,2,     0.00,2,     1.87,2,    0.127,2,    0.075,2,    0.003,2, -999.000,9,-999.0000,5,  -999.00,9,   -999.0,9,  -999.00,9,-999.000,9,   2202.5,2,    964.0,2,   2318.3,2,   7.6430,2,25,  -999.0, -999.00,-999.0000,-999.000,-999.000
     316N151_4,   A22,    24,  1,     17,     17,2,19970821,0114, 17.8767, -65.3495, 4069,10137.9,   1000.1,   5.7372,  34.9576,2,  34.9574,2,    179.3,2,  5.6475,    176.0,2,    21.69,2,    25.78,2,     0.00,2,     1.72,2,    0.167,2,    0.097,2,    0.007,2, -999.000,9,-999.0000,5,  -999.00,9,    -87.9,2,     0.79,2,-999.000,9,   2195.6,2,    894.0,2,   2323.5,2,   7.6680,2,25,     3.9, -999.00,-999.0000,-999.000,-999.000
     316N151_4,   A22,    24,  1,     16,     16,2,19970821,0114, 17.8767, -65.3495, 4069,11140.1,   1100.3,   4.9929,  34.9729,2,  34.9745,2,    195.0,2,  4.8996,    198.0,2,    22.32,2,    23.67,2,     0.00,2,     1.59,2,    0.166,2,    0.098,2,    0.007,2, -999.000,9,-999.0000,5,  -999.00,9,   -999.0,9,  -999.00,9,-999.000,9,   2190.9,2,    845.0,2,   2326.1,2,   7.7000,2,25,  -999.0, -999.00,-999.0000,-999.000,-999.000
     316N151_4,   A22,    24,  1,     15,     15,2,19970821,0114, 17.8767, -65.3495, 4069,13170.8,   1303.4,   4.3349,  34.9698,2,  34.9685,2,    209.6,2,  4.2290,    209.8,2,    25.44,2,    22.82,2,     0.00,2,     1.55,2,    0.056,2,    0.041,2,    0.004,2, -999.000,9,-999.0000,5,  -999.00,9,    -97.8,2,     0.83,2,-999.000,9,   2192.7,2,    822.0,2,   2333.9,2,   7.7030,2,25,     2.5, -999.00,-999.0000,-999.000,-999.000
     316N151_4,   A22,    24,  1,     14,     14,2,19970821,0114, 17.8767, -65.3495, 4069,15167.5,   1503.0,   4.1589,  34.9753,2,  34.9749,2,    221.3,2,  4.0366,    218.2,2,    25.28,2,    21.97,2,     0.00,2,     1.49,2,    0.112,2,    0.064,2,    0.004,2, -999.000,9,-999.0000,5,  -999.00,9,    -88.9,2,     0.88,2,-999.000,9,   2190.7,2,    807.0,2,   2334.1,2,   7.7140,2,25,     3.9, -999.00,-999.0000,-999.000,-999.000
     316N151_4,   A22,    24,  1,     13,     13,2,19970821,0114, 17.8767, -65.3495, 4069,16667.1,   1652.9,   4.0948,  34.9768,2,  34.9771,2,    226.6,2,  3.9593,    220.3,2,    25.61,2,    21.77,2,     0.00,2,     1.48,2,    0.111,2,    0.066,2,    0.005,2, -999.000,9,-999.0000,5,  -999.00,9,    -92.3,2,     0.86,2,-999.000,9,   2189.7,2,    795.0,2,   2335.9,2,   7.7140,2,25,     3.1, -999.00,-999.0000,-999.000,-999.000
     316N151_4,   A22,    24,  1,     12,     12,2,19970821,0114, 17.8767, -65.3495, 4069,18665.2,   1852.7,   4.0383,  34.9798,2,  34.9795,2,    227.6,2,  3.8846,    227.6,2,    23.95,2,    21.04,2,     0.00,2,     1.43,2,    0.175,2,    0.104,2,    0.001,2, -999.000,9,-999.0000,5,  -999.00,9,    -94.5,2,     0.86,2,-999.000,9,   2184.6,2,    783.0,2,   2333.3,2,   7.7230,2,25,     3.3, -999.00,-999.0000,-999.000,-999.000
     316N151_4,   A22,    24,  1,     11,     11,2,19970821,0114, 17.8767, -65.3495, 4069,19651.3,   1951.2,   3.9414,  34.9858,2,  34.9867,2,    247.6,2,  3.7794,    252.2,2,    16.38,2,    18.85,2,     0.00,2,     1.27,2,    0.427,2,    0.239,2,    0.014,2, -999.000,9,-999.0000,5,  -999.00,9,   -999.0,9,  -999.00,9,-999.000,9,   2163.6,2,    745.0,2,   2319.8,2,   7.7380,2,25,  -999.0, -999.00,-999.0000,-999.000,-999.000
     316N151_4,   A22,    24,  1,     10,     10,2,19970821,0114, 17.8767, -65.3495, 4069,21178.5,   2103.9,   3.8765,  34.9865,2,  34.9864,2,    257.8,2,  3.7006,    257.8,2,    15.02,2,    18.28,2,     0.00,2,     1.22,2,    0.455,2,    0.254,2,    0.013,2, -999.000,9,-999.0000,5,  -999.00,9,   -999.0,9,  -999.00,9,-999.000,9,   2159.7,2,    737.0,2,   2317.8,2,   7.7450,2,25,  -999.0, -999.00,-999.0000,-999.000,-999.000
     316N151_4,   A22,    24,  1,      9,      9,2,19970821,0114, 17.8767, -65.3495, 4069,22664.7,   2252.4,   3.8633,  34.9861,2,  34.9862,2,    258.9,2,  3.6728,    257.7,2,    14.95,2,    18.24,2,     0.00,2,     1.22,2,    0.409,6,    0.229,6,    0.014,2, -999.000,9,-999.0000,5,  -999.00,9,   -999.0,9,  -999.00,9,-999.000,9,   2159.9,2,    733.0,2,   2314.8,2,   7.7460,2,25,  -999.0, -999.00,-999.0000,-999.000,-999.000
     316N151_4,   A22,    24,  1,      8,      8,2,19970821,0114, 17.8767, -65.3495, 4069,25148.5,   2500.6,   3.8747,  34.9877,2,  34.9890,2,    258.4,2,  3.6585,    258.6,2,    15.18,2,    18.29,2,     0.00,2,     1.22,2,    0.331,2,    0.202,2,    0.018,2, -999.000,9,-999.0000,5,  -999.00,9,   -999.0,9,  -999.00,9,-999.000,9,   2159.5,2,    730.0,2,   2317.8,2,   7.7470,2,25,  -999.0, -999.00,-999.0000,-999.000,-999.000
     316N151_4,   A22,    24,  1,      7,      7,2,19970821,0114, 17.8767, -65.3495, 4069,27659.2,   2751.5,   3.8994,  34.9889,2,  34.9886,2,    258.2,2,  3.6562,    257.9,2,    15.42,2,    18.33,2,     0.00,2,     1.23,2,    0.283,2,    0.168,2,    0.015,2, -999.000,9,-999.0000,5,  -999.00,9,   -999.0,9,  -999.00,9,-999.000,9,   2159.0,2,    728.0,2,   2321.3,2,   7.7450,2,25,  -999.0, -999.00,-999.0000,-999.000,-999.000
     316N151_4,   A22,    24,  1,      6,      6,2,19970821,0114, 17.8767, -65.3495, 4069,30162.9,   3001.8,   3.9251,  34.9893,2,  34.9890,2,    257.5,2,  3.6541,    257.6,2,    15.54,2,    18.37,2,     0.00,2,     1.23,2,    0.253,2,    0.156,2,    0.015,2, -999.000,9,-999.0000,5,  -999.00,9,   -999.0,9,  -999.00,9,-999.000,9,   2160.8,2,    731.0,2,   2318.8,2,   7.7480,2,25,  -999.0, -999.00,-999.0000,-999.000,-999.000
     316N151_4,   A22,    24,  1,      5,      5,2,19970821,0114, 17.8767, -65.3495, 4069,32652.5,   3250.7,   3.9512,  34.9896,2,  34.9879,2,    257.3,2,  3.6515,    257.8,2,    15.68,2,    18.40,2,     0.00,2,     1.23,2,    0.228,2,    0.144,2,    0.017,2, -999.000,9,-999.0000,5,  -999.00,9,   -999.0,9,  -999.00,9,-999.000,9,   2161.3,2,   -999.0,9,   2320.6,2,   7.7490,2,25,  -999.0, -999.00,-999.0000,-999.000,-999.000
     316N151_4,   A22,    24,  1,      4,      4,2,19970821,0114, 17.8767, -65.3495, 4069,35097.0,   3495.0,   3.9787,  34.9892,2,  34.9888,2,    257.3,2,  3.6502,    257.5,2,    15.71,2,    18.40,2,     0.00,2,     1.24,2,    0.225,2,    0.140,2,    0.028,2, -999.000,9,-999.0000,5,  -999.00,9,   -999.0,9,  -999.00,9,-999.000,9,   2161.5,2,    714.0,2,   2322.0,2,   7.7520,2,25,  -999.0, -999.00,-999.0000,-999.000,-999.000
     316N151_4,   A22,    24,  1,      3,      3,2,19970821,0114, 17.8767, -65.3495, 4069,37625.7,   3747.8,   4.0092,  34.9895,2,  34.9886,2,    257.3,2,  3.6498,    257.2,2,    15.85,2,    18.40,2,     0.00,2,     1.23,2,    0.215,2,    0.143,2,    0.030,2, -999.000,9,-999.0000,5,  -999.00,9,   -999.0,9,  -999.00,9,-999.000,9,   2161.2,2,    717.0,2,   2321.9,2,   7.7500,2,25,  -999.0, -999.00,-999.0000,-999.000,-999.000
     316N151_4,   A22,    24,  1,      2,      2,2,19970821,0114, 17.8767, -65.3495, 4069,40147.4,   3999.9,   4.0407,  34.9898,2,  34.9890,2,    257.6,2,  3.6496,    257.4,2,    15.78,2,    18.40,2,     0.00,2,     1.23,2,    0.215,2,    0.139,2,    0.031,2, -999.000,9,-999.0000,5,  -999.00,9,   -999.0,9,  -999.00,9,-999.000,9,   2161.0,2,    724.0,2,   2322.4,2,   7.7490,2,25,  -999.0, -999.00,-999.0000,-999.000,-999.000
     316N151_4,   A22,    24,  1,      1,      1,2,19970821,0114, 17.8767, -65.3495, 4069,41636.0,   4148.8,   4.0599,  34.9902,2,  34.9872,2,    255.9,2,  3.6497,    257.8,2,    15.83,6,    18.41,6,     0.00,6,     1.24,6,    0.221,6,    0.140,6,    0.032,2, -999.000,9,-999.0000,5,  -999.00,9,   -999.0,9,  -999.00,9,-999.000,9,   2161.5,2,    724.0,2,   2322.0,6,   7.7520,6,25,  -999.0, -999.00,-999.0000,-999.000,-999.000