BOTTLE,20220629CCHSIOAMB
EXPOCODE,SECT_ID,STNNBR,CASTNO,SAMPNO,BTLNBR,BTLNBR_FLAG_W,DATE,TIME,LATITUDE,LONGITUDE,DEPTH,CTDRAW,CTDPRS,CTDTMP,CTDSAL,CTDSAL_FLAG_W,SALNTY,SALNTY_FLAG_W,CTDOXY,CTDOXY_FLAG_W,THETA,OXYGEN,OXYGEN_FLAG_W,SILCAT,SILCAT_FLAG_W,NITRAT,NITRAT_FLAG_W,NITRIT,NITRIT_FLAG_W,PHSPHT,PHSPHT_FLAG_W,CFC-11,CFC-11_FLAG_W,CFC-12,CFC-12_FLAG_W,CFC113,CFC113_FLAG_W,TRITUM,TRITUM_FLAG_W,HELIUM,HELIUM_FLAG_W,DELHE3,DELHE3_FLAG_W,DELC14,DELC14_FLAG_W,DELC13,DELC13_FLAG_W,NEON,NEON_FLAG_W,TCARBN,TCARBN_FLAG_W,PCO2,PCO2_FLAG_W,ALKALI,ALKALI_FLAG_W,PH,PH_FLAG_W,PH_TMP,C14ERR,DELHER,HELIER,NEONER,TRITER
,,,,,,,,,,,,,DBAR,ITS-90,PSS-78,,PSS-78,,UMOL/KG,,ITS-90,UMOL/KG,,UMOL/KG,,UMOL/KG,,UMOL/KG,,UMOL/KG,,PMOL/KG,,PMOL/KG,,PMOL/KG,,TU,,NMOL/KG,,PERCNT,,/MILLE,,/MILLE,,NMOL/KG,,UMOL/KG,,UATM,,UMOL/KG,,,,DEG C,/MILLE,PERCNT,NMOL/KG,NMOL/KG,TU
     316N151_4,   A22,    19,  1,     23,     23,2,19970820,0541, 17.6282, -66.0047, 2525,  209.3,      4.2,  28.7689,  35.5628,2,  35.5683,2,    174.3,2, 28.7679,    201.8,2,     1.59,2,     0.00,2,     0.00,2,     0.01,2,    1.633,2,    0.976,2,    0.123,2, -999.000,9,-999.0000,5,  -999.00,9,   -999.0,9,  -999.00,9,-999.000,9,   -999.0,9,    258.0,2,   2334.3,2,   8.1200,2,25,  -999.0, -999.00,-999.0000,-999.000,-999.000
     316N151_4,   A22,    19,  1,     22,     22,2,19970820,0541, 17.6282, -66.0047, 2525,  680.2,     51.4,  28.6342,  36.1316,2,  36.1659,2,    208.4,2, 28.6219,    204.7,2,     0.90,2,     0.00,2,     0.00,2,     0.01,2,    1.669,2,    1.026,2,    0.122,2, -999.000,9,-999.0000,5,  -999.00,9,   -999.0,9,  -999.00,9,-999.000,9,   -999.0,9,   -999.0,9,   -999.0,9,-999.0000,9,-999,  -999.0, -999.00,-999.0000,-999.000,-999.000
     316N151_4,   A22,    19,  1,     21,     21,2,19970820,0541, 17.6282, -66.0047, 2525, 1190.8,    102.4,  25.1858,  36.8890,2,  36.8857,2,    212.0,2, 25.1633,    205.6,2,     0.91,2,     0.02,2,     0.02,2,     0.01,2,    1.884,2,    1.102,2,    0.136,2, -999.000,9,-999.0000,5,  -999.00,9,   -999.0,9,  -999.00,9,-999.000,9,   -999.0,9,   -999.0,9,   -999.0,9,-999.0000,9,-999,  -999.0, -999.00,-999.0000,-999.000,-999.000
     316N151_4,   A22,    19,  1,     20,     20,2,19970820,0541, 17.6282, -66.0047, 2525, 1683.5,    151.9,  23.7787,  37.2209,2,  37.2267,2,    202.3,2, 23.7467,    195.1,2,     0.72,2,     0.39,2,     0.06,2,     0.02,2,    1.971,2,    1.155,2,    0.141,2, -999.000,9,-999.0000,5,  -999.00,9,   -999.0,9,  -999.00,9,-999.000,9,   -999.0,9,   -999.0,9,   -999.0,9,-999.0000,9,-999,  -999.0, -999.00,-999.0000,-999.000,-999.000
     316N151_4,   A22,    19,  1,     19,     19,2,19970820,0541, 17.6282, -66.0047, 2525, 2170.9,    201.0,  21.4795,  37.0773,2,  37.0786,2,    183.8,2, 21.4401,    181.4,2,     0.73,2,     1.61,2,     0.02,2,     0.07,2,    2.161,2,    1.223,2,    0.078,2, -999.000,9,-999.0000,5,  -999.00,9,   -999.0,9,  -999.00,9,-999.000,9,   -999.0,9,   -999.0,9,   -999.0,9,-999.0000,9,-999,  -999.0, -999.00,-999.0000,-999.000,-999.000
     316N151_4,   A22,    19,  1,     18,     18,2,19970820,0541, 17.6282, -66.0047, 2525, 2580.4,    242.2,  19.6475,  36.8160,2,  36.8258,2,    184.2,2, 19.6028,    176.6,2,     1.24,2,     3.66,2,     0.01,2,     0.17,2,    2.198,2,    1.225,2,    0.019,2, -999.000,9,-999.0000,5,  -999.00,9,   -999.0,9,  -999.00,9,-999.000,9,   -999.0,9,   -999.0,9,   -999.0,9,-999.0000,9,-999,  -999.0, -999.00,-999.0000,-999.000,-999.000
     316N151_4,   A22,    19,  1,     17,     17,2,19970820,0541, 17.6282, -66.0047, 2525, 3158.0,    300.3,  17.5805,  36.4723,2,  36.4751,2,    181.1,2, 17.5291,    177.6,2,     2.15,2,     7.01,2,     0.01,2,     0.38,2,    2.191,2,    1.188,2,    0.016,2, -999.000,9,-999.0000,5,  -999.00,9,   -999.0,9,  -999.00,9,-999.000,9,   -999.0,9,   -999.0,9,   -999.0,9,-999.0000,9,-999,  -999.0, -999.00,-999.0000,-999.000,-999.000
     316N151_4,   A22,    19,  1,     16,     16,2,19970820,0541, 17.6282, -66.0047, 2525, 4159.5,    401.1,  14.9796,  36.0247,2,  36.0247,2,    159.1,2, 14.9180,    161.4,2,     4.46,2,    12.89,2,     0.00,2,     0.76,2,    1.806,2,    0.957,2,    0.019,2, -999.000,9,-999.0000,5,  -999.00,9,   -999.0,9,  -999.00,9,-999.000,9,   -999.0,9,   -999.0,9,   -999.0,9,-999.0000,9,-999,  -999.0, -999.00,-999.0000,-999.000,-999.000
     316N151_4,   A22,    19,  1,     15,     15,2,19970820,0541, 17.6282, -66.0047, 2525, 5144.0,    499.9,  12.7545,  35.6819,2,  35.6759,2,    148.1,2, 12.6854,    150.4,2,     7.37,2,    17.96,2,     0.00,2,     1.08,2,    1.241,2,    0.656,2,    0.012,2, -999.000,9,-999.0000,5,  -999.00,9,   -999.0,9,  -999.00,9,-999.000,9,   -999.0,9,   -999.0,9,   -999.0,9,-999.0000,9,-999,  -999.0, -999.00,-999.0000,-999.000,-999.000
     316N151_4,   A22,    19,  1,     14,     14,2,19970820,0541, 17.6282, -66.0047, 2525, 6136.4,    599.6,  10.3566,  35.3138,2,  35.3038,2,    133.7,2, 10.2838,    132.8,2,    12.68,2,    24.33,2,     0.00,2,     1.53,2,    0.574,2,    0.320,2,    0.001,2, -999.000,9,-999.0000,5,  -999.00,9,   -999.0,9,  -999.00,9,-999.000,9,   -999.0,9,   -999.0,9,   -999.0,9,-999.0000,9,-999,  -999.0, -999.00,-999.0000,-999.000,-999.000
     316N151_4,   A22,    19,  1,     13,     13,2,19970820,0541, 17.6282, -66.0047, 2525, 7143.0,    700.5,   8.4996,  35.0575,2,  35.0573,2,    129.9,2,  8.4237,    129.6,2,    17.40,2,    27.96,2,     0.00,2,     1.81,2,    0.305,2,    0.169,2,    0.004,2, -999.000,9,-999.0000,5,  -999.00,9,   -999.0,9,  -999.00,9,-999.000,9,   -999.0,9,   -999.0,9,   -999.0,9,-999.0000,9,-999,  -999.0, -999.00,-999.0000,-999.000,-999.000
     316N151_4,   A22,    19,  1,     12,     12,2,19970820,0541, 17.6282, -66.0047, 2525, 8131.8,    799.5,   7.1854,  34.9506,2,  34.9525,2,    137.2,2,  7.1062,    137.4,2,    20.51,2,    29.18,2,     0.00,2,     1.91,2, -999.000,9, -999.000,9, -999.000,9, -999.000,9,-999.0000,5,  -999.00,9,   -999.0,9,  -999.00,9,-999.000,9,   -999.0,9,   -999.0,9,   -999.0,9,-999.0000,9,-999,  -999.0, -999.00,-999.0000,-999.000,-999.000
     316N151_4,   A22,    19,  1,     11,     11,2,19970820,0541, 17.6282, -66.0047, 2525, 9137.9,    900.3,   6.3978,  34.9438,2,  34.9463,2,    155.7,2,  6.3133,    155.8,2,    21.02,2,    27.95,2,     0.00,2,     1.84,2,    0.152,2,    0.079,2,    0.002,2, -999.000,9,-999.0000,5,  -999.00,9,   -999.0,9,  -999.00,9,-999.000,9,   -999.0,9,   -999.0,9,   -999.0,9,-999.0000,9,-999,  -999.0, -999.00,-999.0000,-999.000,-999.000
     316N151_4,   A22,    19,  1,     10,     10,2,19970820,0541, 17.6282, -66.0047, 2525,10146.6,   1001.3,   5.6092,  34.9740,2,  34.9756,2,    181.4,2,  5.5204,    182.8,2,    21.13,2,    25.18,2,     0.00,2,     1.68,2,    0.189,2,    0.102,2,    0.005,2, -999.000,9,-999.0000,5,  -999.00,9,   -999.0,9,  -999.00,9,-999.000,9,   -999.0,9,   -999.0,9,   -999.0,9,-999.0000,9,-999,  -999.0, -999.00,-999.0000,-999.000,-999.000
     316N151_4,   A22,    19,  1,      9,      9,2,19970820,0541, 17.6282, -66.0047, 2525,11138.2,   1100.6,   5.0127,  34.9613,2,  34.9639,2,    193.2,2,  4.9192,    192.8,2,    23.84,2,    24.53,2,     0.00,2,     1.65,2,    0.096,2,    0.056,2,    0.000,2, -999.000,9,-999.0000,5,  -999.00,9,   -999.0,9,  -999.00,9,-999.000,9,   -999.0,9,   -999.0,9,   -999.0,9,-999.0000,9,-999,  -999.0, -999.00,-999.0000,-999.000,-999.000
     316N151_4,   A22,    19,  1,      8,      8,2,19970820,0541, 17.6282, -66.0047, 2525,13123.6,   1299.2,   4.3813,  34.9708,2,  34.9717,2,    210.1,2,  4.2754,    209.9,2,    25.05,2,    22.81,2,     0.00,2,     1.56,2,    0.078,2,    0.045,2,    0.002,2, -999.000,9,-999.0000,5,  -999.00,9,   -999.0,9,  -999.00,9,-999.000,9,   -999.0,9,   -999.0,9,   -999.0,9,-999.0000,9,-999,  -999.0, -999.00,-999.0000,-999.000,-999.000
     316N151_4,   A22,    19,  1,      7,      7,2,19970820,0541, 17.6282, -66.0047, 2525,15128.2,   1499.7,   4.2417,  34.9717,2,  34.9705,2,    211.4,2,  4.1188,    211.6,2,    26.26,2,    22.64,2,     0.00,2,     1.55,2,    0.049,2,    0.033,2,    0.002,2, -999.000,9,-999.0000,5,  -999.00,9,   -999.0,9,  -999.00,9,-999.000,9,   -999.0,9,   -999.0,9,   -999.0,9,-999.0000,9,-999,  -999.0, -999.00,-999.0000,-999.000,-999.000
     316N151_4,   A22,    19,  1,      6,      6,2,19970820,0541, 17.6282, -66.0047, 2525,16613.7,   1648.2,   4.1584,  34.9743,2,  34.9751,2,    213.7,2,  4.0226,    214.3,2,    26.78,2,    22.23,2,     0.00,2,     1.53,2,    0.060,2,    0.043,2,    0.003,2, -999.000,9,-999.0000,5,  -999.00,9,   -999.0,9,  -999.00,9,-999.000,9,   -999.0,9,   -999.0,9,   -999.0,9,-999.0000,9,-999,  -999.0, -999.00,-999.0000,-999.000,-999.000
     316N151_4,   A22,    19,  1,      5,      5,2,19970820,0541, 17.6282, -66.0047, 2525,18130.2,   1799.9,   4.1445,  34.9755,2,  34.9756,2,    215.3,2,  3.9943,    216.0,2,    26.79,2,    22.14,2,     0.00,2,     1.52,2,    0.066,2,    0.038,2,    0.002,2, -999.000,9,-999.0000,5,  -999.00,9,   -999.0,9,  -999.00,9,-999.000,9,   -999.0,9,   -999.0,9,   -999.0,9,-999.0000,9,-999,  -999.0, -999.00,-999.0000,-999.000,-999.000
     316N151_4,   A22,    19,  1,      4,      4,2,19970820,0541, 17.6282, -66.0047, 2525,19639.0,   1950.8,   4.1439,  34.9758,2,  34.9761,2,    216.0,2,  3.9791,    216.8,2,    26.70,2,    22.03,2,     0.00,2,     1.52,2,    0.073,2,    0.044,2,    0.004,2, -999.000,9,-999.0000,5,  -999.00,9,   -999.0,9,  -999.00,9,-999.000,9,   -999.0,9,   -999.0,9,   -999.0,9,-999.0000,9,-999,  -999.0, -999.00,-999.0000,-999.000,-999.000
     316N151_4,   A22,    19,  1,      3,      3,2,19970820,0541, 17.6282, -66.0047, 2525,21142.8,   2101.3,   4.1531,  34.9768,2,  34.9774,2,    216.4,2,  3.9732,    217.8,2,    26.51,2,    22.02,2,     0.00,2,     1.51,2,    0.086,2,    0.049,2,    0.003,2, -999.000,9,-999.0000,5,  -999.00,9,   -999.0,9,  -999.00,9,-999.000,9,   -999.0,9,   -999.0,9,   -999.0,9,-999.0000,9,-999,  -999.0, -999.00,-999.0000,-999.000,-999.000
     316N151_4,   A22,    19,  1,      2,      2,2,19970820,0541, 17.6282, -66.0047, 2525,22637.6,   2251.0,   4.1628,  34.9770,2,  34.9776,2,    216.9,2,  3.9675,    217.7,2,    26.32,2,    22.11,2,     0.00,2,     1.50,2,    0.088,2,    0.054,2,    0.003,2, -999.000,9,-999.0000,5,  -999.00,9,   -999.0,9,  -999.00,9,-999.000,9,   -999.0,9,   -999.0,9,   -999.0,9,-999.0000,9,-999,  -999.0, -999.00,-999.0000,-999.000,-999.000
     316N151_4,   A22,    19,  1,      1,      1,2,19970820,0541, 17.6282, -66.0047, 2525,25587.0,   2546.4,   4.1269,  34.9785,2,  34.9785,2,    218.7,2,  3.9015,    222.2,2,    26.05,6,    21.63,6,     0.00,6,     1.48,6,    0.113,2,    0.067,2,    0.004,2, -999.000,9,-999.0000,5,  -999.00,9,   -999.0,9,  -999.00,9,-999.000,9,   -999.0,9,   -999.0,9,   -999.0,9,-999.0000,9,-999,  -999.0, -999.00,-999.0000,-999.000,-999.000