BOTTLE,20220629CCHSIOAMB
EXPOCODE,SECT_ID,STNNBR,CASTNO,SAMPNO,BTLNBR,BTLNBR_FLAG_W,DATE,TIME,LATITUDE,LONGITUDE,DEPTH,CTDRAW,CTDPRS,CTDTMP,CTDSAL,CTDSAL_FLAG_W,SALNTY,SALNTY_FLAG_W,CTDOXY,CTDOXY_FLAG_W,THETA,OXYGEN,OXYGEN_FLAG_W,SILCAT,SILCAT_FLAG_W,NITRAT,NITRAT_FLAG_W,NITRIT,NITRIT_FLAG_W,PHSPHT,PHSPHT_FLAG_W,CFC-11,CFC-11_FLAG_W,CFC-12,CFC-12_FLAG_W,CFC113,CFC113_FLAG_W,TRITUM,TRITUM_FLAG_W,HELIUM,HELIUM_FLAG_W,DELHE3,DELHE3_FLAG_W,DELC14,DELC14_FLAG_W,DELC13,DELC13_FLAG_W,NEON,NEON_FLAG_W,TCARBN,TCARBN_FLAG_W,PCO2,PCO2_FLAG_W,ALKALI,ALKALI_FLAG_W,PH,PH_FLAG_W,PH_TMP,C14ERR,DELHER,HELIER,NEONER,TRITER
,,,,,,,,,,,,,DBAR,ITS-90,PSS-78,,PSS-78,,UMOL/KG,,ITS-90,UMOL/KG,,UMOL/KG,,UMOL/KG,,UMOL/KG,,UMOL/KG,,PMOL/KG,,PMOL/KG,,PMOL/KG,,TU,,NMOL/KG,,PERCNT,,/MILLE,,/MILLE,,NMOL/KG,,UMOL/KG,,UATM,,UMOL/KG,,,,DEG C,/MILLE,PERCNT,NMOL/KG,NMOL/KG,TU
     316N151_4,   A22,    34,  1,     16,     16,2,19970822,1625, 19.3538, -66.0003, 7744,25115.4,   2496.7,   3.1673,  34.9562,2,  34.9543,2,    260.6,2,  2.9647,    262.9,2,    19.13,2,    18.18,2,     0.00,2,     1.23,2, -999.000,9, -999.000,9, -999.000,9, -999.000,9,-999.0000,5,  -999.00,9,   -999.0,9,  -999.00,9,-999.000,9,   2162.1,2,    726.0,2,   2319.4,6,   7.7490,6,25,  -999.0, -999.00,-999.0000,-999.000,-999.000
     316N151_4,   A22,    34,  1,     15,     15,2,19970822,1625, 19.3538, -66.0003, 7744,27353.1,   2720.4,   2.9932,  34.9473,2,  34.9454,2,    262.6,2,  2.7714,    262.5,2,    21.22,2,    18.35,2,     0.00,2,     1.24,2, -999.000,9, -999.000,9, -999.000,9, -999.000,9,-999.0000,5,  -999.00,9,   -999.0,9,  -999.00,9,-999.000,9,   2164.2,2,    728.0,2,   2321.9,2,   7.7520,2,25,  -999.0, -999.00,-999.0000,-999.000,-999.000
     316N151_4,   A22,    34,  1,     14,     14,2,19970822,1625, 19.3538, -66.0003, 7744,30087.3,   2993.7,   2.7537,  34.9330,2,  34.9309,2,    264.4,2,  2.5090,    264.7,2,    22.92,2,    18.27,2,     0.00,2,     1.24,2, -999.000,9, -999.000,9, -999.000,9, -999.000,9,-999.0000,5,  -999.00,9,   -999.0,9,  -999.00,9,-999.000,9,   2164.8,2,    727.0,2,   2322.4,6,   7.7490,2,25,  -999.0, -999.00,-999.0000,-999.000,-999.000
     316N151_4,   A22,    34,  1,     13,     13,2,19970822,1625, 19.3538, -66.0003, 7744,32648.4,   3249.8,   2.5516,  34.9194,2,  34.9174,2,    268.0,2,  2.2847,    268.0,2,    23.03,2,    17.92,2,     0.00,2,     1.22,2, -999.000,9, -999.000,9, -999.000,9, -999.000,9,-999.0000,5,  -999.00,9,   -999.0,9,  -999.00,9,-999.000,9,   2164.3,2,   -999.0,9,   2324.0,2,   7.7460,2,25,  -999.0, -999.00,-999.0000,-999.000,-999.000
     316N151_4,   A22,    34,  1,     12,     12,2,19970822,1625, 19.3538, -66.0003, 7744,35135.8,   3498.4,   2.4067,  34.9098,2,  34.9092,2,    268.2,2,  2.1168,    268.3,2,    25.32,2,    18.07,2,     0.00,2,     1.24,2, -999.000,9, -999.000,9, -999.000,9, -999.000,9,-999.0000,5,  -999.00,9,   -999.0,9,  -999.00,9,-999.000,9,   2166.5,2,    734.0,2,   2324.9,2,   7.7480,2,25,  -999.0, -999.00,-999.0000,-999.000,-999.000
     316N151_4,   A22,    34,  1,     11,     11,2,19970822,1625, 19.3538, -66.0003, 7744,37649.1,   3749.6,   2.3560,  34.9054,2,  34.9022,2,    266.9,2,  2.0400,    267.5,2,    27.11,2,    18.27,2,     0.00,2,     1.25,2, -999.000,9, -999.000,9, -999.000,9, -999.000,9,-999.0000,5,  -999.00,9,   -999.0,9,  -999.00,9,-999.000,9,   2168.9,2,    737.0,2,   2326.8,2,   7.7450,2,25,  -999.0, -999.00,-999.0000,-999.000,-999.000
     316N151_4,   A22,    34,  1,     10,     10,2,19970822,1625, 19.3538, -66.0003, 7744,40155.2,   4000.0,   2.3348,  34.9028,2,  34.9004,2,    266.4,2,  1.9912,    266.8,2,    28.40,2,    18.46,2,     0.00,2,     1.26,2, -999.000,9, -999.000,9, -999.000,9, -999.000,9,-999.0000,5,  -999.00,9,   -999.0,9,  -999.00,9,-999.000,9,   2170.6,2,    740.0,2,   2328.6,2,   7.7460,2,25,  -999.0, -999.00,-999.0000,-999.000,-999.000
     316N151_4,   A22,    34,  1,      9,      9,2,19970822,1625, 19.3538, -66.0003, 7744,42661.8,   4250.5,   2.3295,  34.8994,2,  34.8970,2,    265.8,2,  1.9571,    266.2,2,    29.42,6,    18.56,6,     0.00,6,     1.28,6, -999.000,9, -999.000,9, -999.000,9, -999.000,9,-999.0000,5,  -999.00,9,   -999.0,9,  -999.00,9,-999.000,9,   2172.2,2,    739.0,2,   2328.9,2,   7.7430,2,25,  -999.0, -999.00,-999.0000,-999.000,-999.000
     316N151_4,   A22,    34,  1,      8,      8,2,19970822,1625, 19.3538, -66.0003, 7744,45173.5,   4501.5,   2.3248,  34.8966,2,  34.8955,2,    265.2,2,  1.9227,    265.4,2,    30.71,2,    18.79,2,     0.00,2,     1.29,2, -999.000,9, -999.000,9, -999.000,9, -999.000,9,-999.0000,5,  -999.00,9,   -999.0,9,  -999.00,9,-999.000,9,   2173.5,2,    744.0,2,   2330.1,2,   7.7460,2,25,  -999.0, -999.00,-999.0000,-999.000,-999.000
     316N151_4,   A22,    34,  1,      7,      7,2,19970822,1625, 19.3538, -66.0003, 7744,47666.2,   4750.7,   2.3225,  34.8932,2,  34.8918,2,    264.1,2,  1.8902,    264.3,2,    32.31,2,    19.02,2,     0.00,2,     1.31,2, -999.000,9, -999.000,9, -999.000,9, -999.000,9,-999.0000,5,  -999.00,9,   -999.0,9,  -999.00,9,-999.000,9,   2175.4,2,   -999.0,9,   2329.8,2,   7.7420,2,25,  -999.0, -999.00,-999.0000,-999.000,-999.000
     316N151_4,   A22,    34,  1,      6,      6,2,19970822,1625, 19.3538, -66.0003, 7744,50165.0,   5000.4,   2.3169,  34.8899,2,  34.8886,2,    262.9,2,  1.8537,    262.9,2,    34.40,2,    19.26,2,     0.00,2,     1.33,2, -999.000,9, -999.000,9, -999.000,9, -999.000,9,-999.0000,5,  -999.00,9,   -999.0,9,  -999.00,9,-999.000,9,   2178.6,2,    753.0,2,   2335.5,2,   7.7450,2,25,  -999.0, -999.00,-999.0000,-999.000,-999.000
     316N151_4,   A22,    34,  1,      5,      5,2,19970822,1625, 19.3538, -66.0003, 7744,52667.7,   5250.6,   2.2722,  34.8810,2,  34.8791,2,    260.1,2,  1.7785,    259.5,2,    39.34,2,    20.16,2,     0.00,2,     1.38,2, -999.000,9, -999.000,9, -999.000,9, -999.000,9,-999.0000,5,  -999.00,9,   -999.0,9,  -999.00,9,-999.000,9,   2183.7,2,    756.0,2,   2340.0,2,   7.7360,2,25,  -999.0, -999.00,-999.0000,-999.000,-999.000
     316N151_4,   A22,    34,  1,      4,      4,2,19970822,1625, 19.3538, -66.0003, 7744,55656.2,   5549.4,   2.0913,  34.8542,2,  34.8527,2,    251.6,2,  1.5654,    251.1,2,    53.15,2,    22.33,2,     0.00,2,     1.54,2, -999.000,9, -999.000,9, -999.000,9, -999.000,9,-999.0000,5,  -999.00,9,   -999.0,9,  -999.00,9,-999.000,9,   2198.5,2,    787.0,2,   2348.1,2,   7.7260,2,25,  -999.0, -999.00,-999.0000,-999.000,-999.000
     316N151_4,   A22,    34,  1,      3,      3,2,19970822,1625, 19.3538, -66.0003, 7744,57646.4,   5748.3,   2.0087,  34.8408,2,  34.8395,2,    247.2,2,  1.4597,    247.1,2,    59.57,2,    23.23,2,     0.00,2,     1.61,2, -999.000,9, -999.000,9, -999.000,9, -999.000,9,-999.0000,5,  -999.00,9,   -999.0,9,  -999.00,9,-999.000,9,   2204.9,2,    789.0,2,   2349.7,6,   7.7120,6,25,  -999.0, -999.00,-999.0000,-999.000,-999.000
     316N151_4,   A22,    34,  1,      2,      2,2,19970822,1625, 19.3538, -66.0003, 7744,60166.3,   6000.3,   1.9874,  34.8337,2,  34.8331,2,    244.7,2,  1.4054,    245.0,2,    62.60,6,    23.78,6,     0.00,6,     1.64,6, -999.000,9, -999.000,9, -999.000,9, -999.000,9,-999.0000,5,  -999.00,9,   -999.0,9,  -999.00,9,-999.000,9,   2209.0,2,    796.0,2,   2352.8,2,   7.7160,2,25,  -999.0, -999.00,-999.0000,-999.000,-999.000
     316N151_4,   A22,    34,  1,      1,      1,2,19970822,1625, 19.3538, -66.0003, 7744,61228.1,   6107.1,   1.9941,  34.8338,2,  34.8336,2,    243.3,2,  1.3972,    245.9,2,    63.12,6,    23.86,6,     0.00,6,     1.65,6, -999.000,9, -999.000,9, -999.000,9, -999.000,9,-999.0000,5,  -999.00,9,   -999.0,9,  -999.00,9,-999.000,9,   2208.8,2,    796.0,2,   -999.0,9,-999.0000,9,-999,  -999.0, -999.00,-999.0000,-999.000,-999.000