BOTTLE,20220629CCHSIOAMB
EXPOCODE,SECT_ID,STNNBR,CASTNO,SAMPNO,BTLNBR,BTLNBR_FLAG_W,DATE,TIME,LATITUDE,LONGITUDE,DEPTH,CTDRAW,CTDPRS,CTDTMP,CTDSAL,CTDSAL_FLAG_W,SALNTY,SALNTY_FLAG_W,CTDOXY,CTDOXY_FLAG_W,THETA,OXYGEN,OXYGEN_FLAG_W,SILCAT,SILCAT_FLAG_W,NITRAT,NITRAT_FLAG_W,NITRIT,NITRIT_FLAG_W,PHSPHT,PHSPHT_FLAG_W,CFC-11,CFC-11_FLAG_W,CFC-12,CFC-12_FLAG_W,CFC113,CFC113_FLAG_W,TRITUM,TRITUM_FLAG_W,HELIUM,HELIUM_FLAG_W,DELHE3,DELHE3_FLAG_W,DELC14,DELC14_FLAG_W,DELC13,DELC13_FLAG_W,NEON,NEON_FLAG_W,TCARBN,TCARBN_FLAG_W,PCO2,PCO2_FLAG_W,ALKALI,ALKALI_FLAG_W,PH,PH_FLAG_W,PH_TMP,C14ERR,DELHER,HELIER,NEONER,TRITER
,,,,,,,,,,,,,DBAR,ITS-90,PSS-78,,PSS-78,,UMOL/KG,,ITS-90,UMOL/KG,,UMOL/KG,,UMOL/KG,,UMOL/KG,,UMOL/KG,,PMOL/KG,,PMOL/KG,,PMOL/KG,,TU,,NMOL/KG,,PERCNT,,/MILLE,,/MILLE,,NMOL/KG,,UMOL/KG,,UATM,,UMOL/KG,,,,DEG C,/MILLE,PERCNT,NMOL/KG,NMOL/KG,TU
     316N151_4,   A22,    30,  1,     24,     24,2,19970821,2254, 18.8403, -66.0005, 2519,  188.8,      2.1,  28.7714,  36.1943,2,  36.1963,2,    248.0,2, 28.7709,    203.2,2,     1.05,2,     0.04,2,     0.00,2,     0.01,2, -999.000,9, -999.000,9, -999.000,9,    0.802,2,   1.7302,2,    -0.91,2,   -999.0,9,  -999.00,9,   6.661,2,   1998.1,2,    258.0,2,   -999.0,9,-999.0000,9,-999,  -999.0,    0.15,  0.0087,   0.033,   0.012
     316N151_4,   A22,    30,  1,     23,     23,2,19970821,2254, 18.8403, -66.0005, 2519,  726.8,     56.1,  28.6805,  36.2034,2,  36.2062,2,    205.4,2, 28.6670,    203.4,2,     0.97,2,     0.04,2,     0.00,2,     0.01,2, -999.000,9, -999.000,9, -999.000,9,    0.792,2,-999.0000,5,  -999.00,9,   -999.0,9,  -999.00,9,-999.000,9,   1997.6,2,   -999.0,9,   -999.0,9,-999.0000,9,-999,  -999.0, -999.00,-999.0000,-999.000,   0.012
     316N151_4,   A22,    30,  1,     22,     22,2,19970821,2254, 18.8403, -66.0005, 2519, 1164.9,    100.1,  25.3090,  36.8429,2,  36.8524,2,    208.9,2, 25.2869,    217.3,2,     0.87,2,     0.04,2,     0.04,2,     0.01,2, -999.000,9, -999.000,9, -999.000,9,    0.956,2,   1.7400,2,    -0.85,2,   -999.0,9,  -999.00,9,   6.795,2,   2042.3,2,   -999.0,9,   -999.0,9,-999.0000,9,-999,  -999.0,    0.15,  0.0087,   0.034,   0.012
     316N151_4,   A22,    30,  1,     21,     21,2,19970821,2254, 18.8403, -66.0005, 2519, 1640.0,    147.8,  23.5289,  37.2511,2,  37.2575,2,    190.5,2, 23.4980,    194.6,2,     0.58,2,     0.75,2,     0.04,2,     0.04,2, -999.000,9, -999.000,9, -999.000,9,    1.082,2,   1.7622,2,    -0.03,2,   -999.0,9,  -999.00,9,   6.874,2,   2096.2,2,   -999.0,9,   -999.0,9,-999.0000,9,-999,  -999.0,    0.15,  0.0088,   0.034,   0.013
     316N151_4,   A22,    30,  1,     20,     20,2,19970821,2254, 18.8403, -66.0005, 2519, 2169.3,    200.9,  21.2969,  37.0851,2,  37.0839,2,    179.9,2, 21.2576,    182.9,2,     0.69,2,     1.96,2,     0.02,2,     0.08,2, -999.000,9, -999.000,9, -999.000,9,    1.149,2,   1.7587,2,     0.25,2,   -999.0,9,  -999.00,9,   6.909,2,   2114.7,2,   -999.0,9,   -999.0,9,-999.0000,9,-999,  -999.0,    0.15,  0.0088,   0.035,   0.013
     316N151_4,   A22,    30,  1,     19,     19,2,19970821,2254, 18.8403, -66.0005, 2519, 2627.7,    246.8,  19.3113,  36.7729,2,  36.7661,2,    180.9,2, 19.2662,    181.9,2,     1.19,2,     4.02,2,     0.01,2,     0.19,2, -999.000,9, -999.000,9, -999.000,9,    1.226,2,   1.7847,2,     1.51,2,   -999.0,9,  -999.00,9,   7.034,2,   2116.9,2,   -999.0,9,   -999.0,9,-999.0000,9,-999,  -999.0,    0.15,  0.0089,   0.035,   0.013
     316N151_4,   A22,    30,  1,     18,     18,2,19970821,2254, 18.8403, -66.0005, 2519, 3162.3,    300.6,  18.0177,  36.5469,2,  36.5405,2,    181.7,2, 17.9654,    182.6,2,     1.70,2,     5.91,2,     0.01,2,     0.31,2, -999.000,9, -999.000,9, -999.000,9,    1.218,2,   1.7696,2,     2.67,2,   -999.0,9,  -999.00,9,   7.024,2,   2114.2,2,   -999.0,9,   -999.0,9,-999.0000,9,-999,  -999.0,    0.15,  0.0088,   0.035,   0.014
     316N151_4,   A22,    30,  1,     17,     17,2,19970821,2254, 18.8403, -66.0005, 2519, 4159.0,    400.8,  15.6717,  36.1416,2,  36.1230,2,    145.0,2, 15.6083,    147.7,2,     4.18,2,    13.46,2,     0.01,2,     0.79,2, -999.000,9, -999.000,9, -999.000,9,    1.223,2,   1.8010,2,     6.16,2,   -999.0,9,  -999.00,9,   7.186,2,   2151.1,2,   -999.0,9,   -999.0,9,-999.0000,9,-999,  -999.0,    0.15,  0.0090,   0.036,   0.013
     316N151_4,   A22,    30,  1,     16,     16,2,19970821,2254, 18.8403, -66.0005, 2519, 5110.7,    496.3,  13.0981,  35.6783,2,  35.6708,2,    132.2,2, 13.0283,    132.6,2,     7.55,2,    19.36,2,     0.00,2,     1.18,2, -999.000,9, -999.000,9, -999.000,9,    1.087,2,   1.7806,2,     5.84,2,   -999.0,9,  -999.00,9,   7.299,2,   2171.6,2,   -999.0,9,   -999.0,9,-999.0000,9,-999,  -999.0,    0.15,  0.0089,   0.036,   0.015
     316N151_4,   A22,    30,  1,     15,     15,2,19970821,2254, 18.8403, -66.0005, 2519, 6141.6,    599.9,  11.1434,  35.4295,2,  35.4216,2,    135.0,2, 11.0671,    137.3,2,    10.63,2,    22.37,2,     0.00,2,     1.38,2, -999.000,9, -999.000,9, -999.000,9,    0.871,2,   1.8129,2,     7.27,2,   -999.0,9,  -999.00,9,   7.512,2,   2179.2,2,   -999.0,9,   -999.0,9,-999.0000,9,-999,  -999.0,    0.15,  0.0091,   0.038,   0.012
     316N151_4,   A22,    30,  1,     14,     14,2,19970821,2254, 18.8403, -66.0005, 2519, 7156.7,    701.7,   9.0503,  35.1435,2,  35.1396,2,    130.4,2,  8.9714,    130.6,2,    15.59,2,    26.84,2,     0.00,2,     1.71,2, -999.000,9, -999.000,9, -999.000,9,    0.438,2,   1.7930,2,     4.79,2,   -999.0,9,  -999.00,9,   7.404,2,   2194.8,2,   -999.0,9,   -999.0,9,-999.0000,9,-999,  -999.0,    0.15,  0.0090,   0.037,   0.011
     316N151_4,   A22,    30,  1,     13,     13,2,19970821,2254, 18.8403, -66.0005, 2519, 8128.1,    799.0,   7.4437,  34.9699,2,  34.9688,2,    135.5,2,  7.3630,    134.0,2,    19.96,2,    29.21,2,     0.00,2,     1.90,2,    0.146,2,    0.085,2,    0.003,2,    0.219,2,   1.8218,2,     2.37,2,   -999.0,9,  -999.00,9,   7.670,2,   2203.4,2,   -999.0,9,   -999.0,9,-999.0000,9,-999,  -999.0,    0.15,  0.0091,   0.038,   0.010
     316N151_4,   A22,    30,  1,     12,     12,2,19970821,2254, 18.8403, -66.0005, 2519, 9134.3,    899.6,   6.5016,  34.9424,2,  34.9522,2,    150.9,2,  6.4166,    154.7,2,    20.66,2,    27.80,2,     0.00,2,     1.83,2,    0.157,2,    0.090,2,    0.005,2,    0.203,2,   1.8228,2,     2.04,2,   -999.0,9,  -999.00,9,   7.735,2,   2199.3,2,   -999.0,9,   -999.0,9,-999.0000,9,-999,  -999.0,    0.15,  0.0091,   0.039,   0.010
     316N151_4,   A22,    30,  1,     11,     11,2,19970821,2254, 18.8403, -66.0005, 2519,10127.0,    999.1,   6.0412,  34.9995,2,  34.9990,2,    178.4,2,  5.9495,    180.3,2,    18.49,2,    24.87,2,     0.00,2,     1.64,2,    0.282,6,    0.147,6,    0.005,2,    0.280,2,   1.8509,2,     2.53,2,   -999.0,9,  -999.00,9,   7.829,2,   2188.6,2,   -999.0,9,   -999.0,9,-999.0000,9,-999,  -999.0,    0.15,  0.0093,   0.039,   0.010
     316N151_4,   A22,    30,  1,     10,     10,2,19970821,2254, 18.8403, -66.0005, 2519,11142.0,   1100.7,   5.5200,  35.0267,2,  35.0243,2,    203.9,2,  5.4223,    205.1,2,    16.71,2,    22.34,2,     0.00,2,     1.48,2,    0.434,2,    0.219,2,    0.014,2,    0.389,2,   1.8200,2,     3.31,2,   -999.0,9,  -999.00,9,   7.710,2,   2180.1,2,   -999.0,9,   -999.0,9,-999.0000,9,-999,  -999.0,    0.15,  0.0091,   0.039,   0.011
     316N151_4,   A22,    30,  1,      9,      9,2,19970821,2254, 18.8403, -66.0005, 2519,13142.5,   1300.7,   4.7214,  35.0250,2,  35.0237,2,    237.7,2,  4.6118,    237.6,2,    14.15,2,    19.53,2,     0.00,2,     1.30,2,    0.699,2,    0.352,2,    0.025,2, -999.000,9,   1.8291,2,     4.78,2,   -999.0,9,  -999.00,9,   7.813,2,   2166.5,2,   -999.0,9,   -999.0,9,-999.0000,9,-999,  -999.0,    0.15,  0.0091,   0.039,-999.000
     316N151_4,   A22,    30,  1,      8,      8,2,19970821,2254, 18.8403, -66.0005, 2519,15140.4,   1500.7,   4.2408,  35.0045,2,  35.0031,2,    254.7,2,  4.1177,    254.3,2,    13.06,2,    18.38,2,     0.00,2,     1.22,2,    0.821,2,    0.403,2,    0.030,2,    0.607,2,   1.8349,2,     4.33,2,   -999.0,9,  -999.00,9,   7.826,2,   2160.1,2,   -999.0,9,   2314.6,2,   7.7380,2,25,  -999.0,    0.15,  0.0092,   0.039,   0.012
     316N151_4,   A22,    30,  1,      7,      7,2,19970821,2254, 18.8403, -66.0005, 2519,16622.6,   1648.9,   3.9260,  34.9864,2,  34.9857,2,    259.6,2,  3.7929,    259.3,2,    13.77,2,    18.18,2,     0.00,2,     1.21,2,    0.737,6,    0.365,6,    0.023,2,    0.527,2,   1.8547,2,     4.37,2,   -999.0,9,  -999.00,9,   7.975,2,   2157.5,2,   -999.0,9,   2314.7,2,   7.7480,2,25,  -999.0,    0.15,  0.0093,   0.040,   0.012
     316N151_4,   A22,    30,  1,      6,      6,2,19970821,2254, 18.8403, -66.0005, 2519,18147.0,   1801.5,   3.7772,  34.9813,2,  34.9807,2,    260.9,2,  3.6318,    261.2,2,    14.47,2,    18.14,2,     0.00,2,     1.21,2,    0.596,2,    0.301,2,    0.020,2,    0.442,2,   1.8422,2,     3.73,2,   -999.0,9,  -999.00,9,   7.858,2,   2157.9,2,   -999.0,9,   2314.2,2,   7.7470,2,25,  -999.0,    0.15,  0.0092,   0.039,   0.012
     316N151_4,   A22,    30,  1,      5,      5,2,19970821,2254, 18.8403, -66.0005, 2519,20141.4,   2001.1,   3.6083,  34.9763,2,  34.9751,2,    262.3,2,  3.4465,    261.5,2,    15.67,2,    18.14,2,     0.00,2,     1.21,2,    0.473,2,    0.248,2,    0.015,2,    0.389,2,   1.8566,2,     2.35,2,   -999.0,9,  -999.00,9,   7.969,2,   2157.9,2,   -999.0,9,   2318.5,6,   7.7540,6,25,  -999.0,    0.15,  0.0093,   0.040,   0.012
     316N151_4,   A22,    30,  1,      4,      4,2,19970821,2254, 18.8403, -66.0005, 2519,22629.3,   2250.1,   3.4440,  34.9717,2,  34.9705,2,    262.0,2,  3.2607,    261.0,2,    17.16,2,    18.23,2,     0.00,2,     1.22,2,    0.341,2,    0.178,2,    0.009,2,    0.283,2,   1.9062,2,     1.58,2,   -999.0,9,  -999.00,9,   8.098,2,   2158.6,2,   -999.0,9,   2322.8,2,   7.7660,2,25,  -999.0,    0.15,  0.0095,   0.040,   0.011
     316N151_4,   A22,    30,  1,      3,      3,2,19970821,2254, 18.8403, -66.0005, 2519,24147.4,   2402.2,   3.3113,  34.9660,2,  34.9644,2,    262.4,2,  3.1154,    262.3,2,    18.26,2,    18.22,2,     0.00,2,     1.23,2,    0.305,2,    0.155,2,    0.006,2,    0.247,2,   1.8876,2,     1.61,2,   -999.0,9,  -999.00,9,   8.062,2,   2159.1,2,   -999.0,9,   2323.6,2,   7.7700,2,25,  -999.0,    0.15,  0.0094,   0.040,   0.011
     316N151_4,   A22,    30,  1,      2,      2,2,19970821,2254, 18.8403, -66.0005, 2519,25622.9,   2548.4,   3.2290,  34.9606,2,  34.9590,2,    259.5,2,  3.0200,    262.8,2,    18.86,2,    18.26,2,     0.00,2,     1.23,2, -999.000,9, -999.000,9, -999.000,9,    0.228,2,   1.8723,2,     1.57,2,   -999.0,9,  -999.00,9,   8.016,2,   2159.9,2,   -999.0,9,   2323.1,6,   7.7620,2,25,  -999.0,    0.15,  0.0094,   0.040,   0.011
     316N151_4,   A22,    30,  1,      1,      1,2,19970821,2254, 18.8403, -66.0005, 2519,25624.9,   2550.1,   3.2331,  34.9614,2,  34.9597,2,    259.4,2,  3.0239,    262.6,2,    18.84,6,    18.23,6,     0.00,6,     1.23,6,    0.292,2,    0.155,2,    0.004,2, -999.000,9,-999.0000,5,  -999.00,9,   -999.0,9,  -999.00,9,-999.000,9,   -999.0,9,   -999.0,9,   -999.0,9,-999.0000,9,-999,  -999.0, -999.00,-999.0000,-999.000,-999.000