BOTTLE,20220629CCHSIOAMB
EXPOCODE,SECT_ID,STNNBR,CASTNO,SAMPNO,BTLNBR,BTLNBR_FLAG_W,DATE,TIME,LATITUDE,LONGITUDE,DEPTH,CTDRAW,CTDPRS,CTDTMP,CTDSAL,CTDSAL_FLAG_W,SALNTY,SALNTY_FLAG_W,CTDOXY,CTDOXY_FLAG_W,THETA,OXYGEN,OXYGEN_FLAG_W,SILCAT,SILCAT_FLAG_W,NITRAT,NITRAT_FLAG_W,NITRIT,NITRIT_FLAG_W,PHSPHT,PHSPHT_FLAG_W,CFC-11,CFC-11_FLAG_W,CFC-12,CFC-12_FLAG_W,CFC113,CFC113_FLAG_W,TRITUM,TRITUM_FLAG_W,HELIUM,HELIUM_FLAG_W,DELHE3,DELHE3_FLAG_W,DELC14,DELC14_FLAG_W,DELC13,DELC13_FLAG_W,NEON,NEON_FLAG_W,TCARBN,TCARBN_FLAG_W,PCO2,PCO2_FLAG_W,ALKALI,ALKALI_FLAG_W,PH,PH_FLAG_W,PH_TMP,C14ERR,DELHER,HELIER,NEONER,TRITER
,,,,,,,,,,,,,DBAR,ITS-90,PSS-78,,PSS-78,,UMOL/KG,,ITS-90,UMOL/KG,,UMOL/KG,,UMOL/KG,,UMOL/KG,,UMOL/KG,,PMOL/KG,,PMOL/KG,,PMOL/KG,,TU,,NMOL/KG,,PERCNT,,/MILLE,,/MILLE,,NMOL/KG,,UMOL/KG,,UATM,,UMOL/KG,,,,DEG C,/MILLE,PERCNT,NMOL/KG,NMOL/KG,TU
     316N151_4,   A22,    47,  1,     30,     30,2,19970826,0804, 26.8770, -66.0007, 4604,  184.7,      3.3,  28.9708,  36.8406,2,  36.8439,2,    341.2,2, 28.9700,    208.7,2,     0.94,2,     0.00,2,     0.00,2,     0.01,2,    1.595,2,    0.969,2,    0.130,2, -999.000,9,-999.0000,5,  -999.00,9,   -999.0,9,  -999.00,9,-999.000,9,   2028.6,2,    262.0,2,   2407.9,2,   8.1150,2,25,  -999.0, -999.00,-999.0000,-999.000,-999.000
     316N151_4,   A22,    47,  1,     29,     29,2,19970826,0804, 26.8770, -66.0007, 4604,  658.3,     50.8,  24.6628,  37.0410,2,  37.0599,2,    238.8,2, 24.6518,    227.0,2,     0.65,2,     0.06,2,     0.00,2,     0.01,2,    2.026,6,    1.177,6,    0.153,2, -999.000,9,-999.0000,5,  -999.00,9,   -999.0,9,  -999.00,9,-999.000,9,   2048.9,2,   -999.0,9,   2420.6,2,   8.1070,2,25,  -999.0, -999.00,-999.0000,-999.000,-999.000
     316N151_4,   A22,    47,  1,     28,     28,2,19970826,0804, 26.8770, -66.0007, 4604, 1156.2,    100.6,  22.8811,  37.1120,2,-999.0000,9,    218.1,2, 22.8605,    220.0,2,     0.66,2,     0.07,2,     0.00,2,     0.01,2,    2.049,2,    1.192,2,    0.157,2, -999.000,9,-999.0000,5,  -999.00,9,   -999.0,9,  -999.00,9,-999.000,9,   -999.0,9,   -999.0,9,   2424.3,2,   8.0960,2,25,  -999.0, -999.00,-999.0000,-999.000,-999.000
     316N151_4,   A22,    47,  1,     27,     27,2,19970826,0804, 26.8770, -66.0007, 4604, 1667.1,    151.6,  21.9565,  37.0544,2,  37.0595,2,    207.2,2, 21.9263,    208.0,2,     0.58,2,     0.00,2,     0.03,2,     0.01,2,    2.125,2,    1.226,2,    0.157,2, -999.000,9,-999.0000,5,  -999.00,9,   -999.0,9,  -999.00,9,-999.000,9,   2077.4,2,   -999.0,9,   2420.8,2,   8.0670,2,25,  -999.0, -999.00,-999.0000,-999.000,-999.000
     316N151_4,   A22,    47,  1,     26,     26,2,19970826,0804, 26.8770, -66.0007, 4604, 2163.0,    201.0,  20.0668,  36.7856,2,  36.7884,2,    199.0,2, 20.0292,    197.8,2,     0.68,2,     0.86,2,     0.02,2,     0.03,2,    2.276,2,    1.295,2,    0.100,2, -999.000,9,-999.0000,5,  -999.00,9,   -999.0,9,  -999.00,9,-999.000,9,   2094.5,2,   -999.0,9,   2403.2,2,   8.0210,2,25,  -999.0, -999.00,-999.0000,-999.000,-999.000
     316N151_4,   A22,    47,  1,     25,     25,2,19970826,0804, 26.8770, -66.0007, 4604, 2676.7,    252.0,  18.8000,  36.6184,2,  36.6210,2,    196.4,2, 18.7549,    195.0,2,     0.88,2,     2.49,2,     0.01,2,     0.10,2,    2.370,2,    1.331,2,    0.030,2, -999.000,9,-999.0000,5,  -999.00,9,   -999.0,9,  -999.00,9,-999.000,9,   2097.4,2,   -999.0,9,   2392.5,2,   7.9960,2,25,  -999.0, -999.00,-999.0000,-999.000,-999.000
     316N151_4,   A22,    47,  1,     24,     24,2,19970826,0804, 26.8770, -66.0007, 4604, 3181.2,    302.3,  18.3206,  36.5592,2,  36.5618,2,    202.3,2, 18.2673,    201.3,2,     1.07,2,     3.58,2,     0.01,2,     0.17,2,    2.366,2,    1.315,2,    0.026,2, -999.000,9,-999.0000,5,  -999.00,9,   -999.0,9,  -999.00,9,-999.000,9,   2094.2,2,   -999.0,9,   2389.4,2,   8.0010,2,25,  -999.0, -999.00,-999.0000,-999.000,-999.000
     316N151_4,   A22,    47,  1,     23,     23,2,19970826,0804, 26.8770, -66.0007, 4604, 4171.4,    401.2,  17.8487,  36.4950,2,  36.4960,2,    201.3,2, 17.7792,    199.4,2,     1.46,2,     4.59,2,     0.00,2,     0.23,2,    2.324,6,    1.278,6,    0.038,2, -999.000,9,-999.0000,5,  -999.00,9,   -999.0,9,  -999.00,9,-999.000,9,   2098.7,2,   -999.0,9,   2384.6,2,   7.9860,2,25,  -999.0, -999.00,-999.0000,-999.000,-999.000
     316N151_4,   A22,    47,  1,     22,     22,2,19970826,0804, 26.8770, -66.0007, 4604, 5140.3,    498.2,  16.5609,  36.2730,2,  36.2759,2,    187.2,2, 16.4787,    183.5,2,     2.52,2,     8.04,2,     0.00,2,     0.46,2,    2.124,2,    1.145,2,    0.026,2, -999.000,9,-999.0000,5,  -999.00,9,   -999.0,9,  -999.00,9,-999.000,9,   2119.7,2,   -999.0,9,   2372.2,2,   7.9370,2,25,  -999.0, -999.00,-999.0000,-999.000,-999.000
     316N151_4,   A22,    47,  1,     21,     21,2,19970826,0804, 26.8770, -66.0007, 4604, 6159.4,    600.5,  14.8872,  35.9995,2,  35.9988,2,    173.5,2, 14.7948,    172.5,2,     4.15,2,    11.88,2,     0.00,2,     0.70,2,    1.805,2,    0.957,2,    0.021,2, -999.000,9,-999.0000,5,  -999.00,9,   -999.0,9,  -999.00,9,-999.000,9,   2134.7,2,   -999.0,9,   2359.0,2,   7.8830,2,25,  -999.0, -999.00,-999.0000,-999.000,-999.000
     316N151_4,   A22,    47,  1,     20,     20,2,19970826,0804, 26.8770, -66.0007, 4604, 7156.9,    700.7,  12.7071,  35.6718,2,  35.6719,2,    161.9,2, 12.6098,    158.6,2,     7.10,2,    16.91,2,     0.00,2,     1.03,2,    1.207,2,    0.635,2,    0.016,2, -999.000,9,-999.0000,5,  -999.00,9,   -999.0,9,  -999.00,9,-999.000,9,   2155.7,2,   -999.0,9,   2342.4,2,   7.8120,2,25,  -999.0, -999.00,-999.0000,-999.000,-999.000
     316N151_4,   A22,    47,  1,     19,     19,2,19970826,0804, 26.8770, -66.0007, 4604, 8110.9,    796.4,  10.7221,  35.4170,2,  35.4149,2,    155.5,2, 10.6223,    154.8,2,    10.45,2,    20.63,2,     0.00,2,     1.29,2,    0.797,2,    0.417,2,    0.016,2, -999.000,9,-999.0000,5,  -999.00,9,   -999.0,9,  -999.00,9,-999.000,9,   2170.4,2,   -999.0,9,   2329.7,2,   7.7520,2,25,  -999.0, -999.00,-999.0000,-999.000,-999.000
     316N151_4,   A22,    47,  1,     18,     18,2,19970826,0804, 26.8770, -66.0007, 4604, 9148.8,    900.4,   8.8882,  35.2027,2,  35.2048,2,    148.7,2,  8.7869,    147.6,2,    14.47,2,    24.37,2,     0.00,2,     1.55,2,    0.379,2,    0.200,2,    0.006,2, -999.000,9,-999.0000,5,  -999.00,9,   -999.0,9,  -999.00,9,-999.000,9,   2185.8,2,   -999.0,9,   2324.7,2,   7.6970,2,25,  -999.0, -999.00,-999.0000,-999.000,-999.000
     316N151_4,   A22,    47,  1,     17,     17,2,19970826,0804, 26.8770, -66.0007, 4604,10145.7,   1000.1,   7.4128,  35.0676,2,  35.0680,2,    154.6,2,  7.3106,    155.0,2,    17.33,2,    25.92,2,     0.00,2,     1.68,2,    0.227,2,    0.126,2,    0.007,2, -999.000,9,-999.0000,5,  -999.00,9,   -999.0,9,  -999.00,9,-999.000,9,   2193.7,2,   -999.0,9,   2320.2,2,   7.6740,2,25,  -999.0, -999.00,-999.0000,-999.000,-999.000
     316N151_4,   A22,    47,  1,     16,     16,2,19970826,0804, 26.8770, -66.0007, 4604,11139.7,   1099.6,   6.7117,  35.0971,2,  35.0980,2,    180.3,2,  6.6042,    181.4,2,    15.72,2,    23.21,2,     0.00,2,     1.52,2,    0.343,2,    0.187,2,    0.010,2, -999.000,9,-999.0000,5,  -999.00,9,   -999.0,9,  -999.00,9,-999.000,9,   2184.9,2,   -999.0,9,   2322.7,2,   7.7000,2,25,  -999.0, -999.00,-999.0000,-999.000,-999.000
     316N151_4,   A22,    47,  1,     15,     15,2,19970826,0804, 26.8770, -66.0007, 4604,13162.4,   1302.0,   5.4796,  35.0921,2,  35.0909,2,    221.9,2,  5.3624,    222.5,2,    13.73,2,    19.97,2,     0.00,2,     1.32,2,    0.542,2,    0.274,2,    0.016,2, -999.000,9,-999.0000,5,  -999.00,9,   -999.0,9,  -999.00,9,-999.000,9,   2171.9,2,   -999.0,9,   2320.8,2,   7.7260,2,25,  -999.0, -999.00,-999.0000,-999.000,-999.000
     316N151_4,   A22,    47,  1,     14,     14,2,19970826,0804, 26.8770, -66.0007, 4604,15127.1,   1498.4,   4.7300,  35.0569,2,  35.0586,2,    242.6,2,  4.6015,    242.5,2,    13.44,2,    18.91,2,     0.00,2,     1.25,2,    0.566,2,    0.294,2,    0.014,2, -999.000,9,-999.0000,5,  -999.00,9,   -999.0,9,  -999.00,9,-999.000,9,   2165.8,2,   -999.0,9,   2318.8,2,   7.7430,2,25,  -999.0, -999.00,-999.0000,-999.000,-999.000
     316N151_4,   A22,    47,  1,     13,     13,2,19970826,0804, 26.8770, -66.0007, 4604,17626.3,   1748.2,   4.2354,  35.0411,2,  35.0392,2,    251.5,2,  4.0889,    250.5,2,    14.98,2,    18.63,2,     0.00,2,     1.24,2,    0.365,2,    0.192,2,    0.014,2, -999.000,9,-999.0000,5,  -999.00,9,   -999.0,9,  -999.00,9,-999.000,9,   2164.5,2,   -999.0,9,   2320.3,2,   7.7490,2,25,  -999.0, -999.00,-999.0000,-999.000,-999.000
     316N151_4,   A22,    47,  1,     12,     12,2,19970826,0804, 26.8770, -66.0007, 4604,19919.1,   1977.4,   3.8530,  35.0122,2,  35.0142,2,    252.8,2,  3.6897,    253.5,2,    16.89,2,    18.72,2,     0.00,2,     1.25,2,    0.168,2,    0.100,2,    0.009,2, -999.000,9,-999.0000,5,  -999.00,9,   -999.0,9,  -999.00,9,-999.000,9,   2162.2,2,   -999.0,9,   2321.2,2,   7.7520,2,25,  -999.0, -999.00,-999.0000,-999.000,-999.000
     316N151_4,   A22,    47,  1,     11,     11,2,19970826,0804, 26.8770, -66.0007, 4604,22656.0,   2251.0,   3.4430,  34.9853,2,  34.9875,2,    255.3,2,  3.2596,    254.8,2,    20.43,2,    18.92,2,     0.00,2,     1.27,2,    0.089,2,    0.054,2,    0.004,2, -999.000,9,-999.0000,5,  -999.00,9,   -999.0,9,  -999.00,9,-999.000,9,   2164.3,2,   -999.0,9,   2324.2,2,   7.7530,2,25,  -999.0, -999.00,-999.0000,-999.000,-999.000
     316N151_4,   A22,    47,  1,     10,     10,2,19970826,0804, 26.8770, -66.0007, 4604,25142.1,   2499.5,   3.1747,  34.9658,2,  34.9662,2,    255.3,2,  2.9716,    256.0,2,    23.11,2,    19.09,2,     0.00,2,     1.29,2,    0.088,2,    0.050,2,    0.007,2, -999.000,9,-999.0000,5,  -999.00,9,   -999.0,9,  -999.00,9,-999.000,9,   2167.5,2,   -999.0,9,   2325.6,2,   7.7530,2,25,  -999.0, -999.00,-999.0000,-999.000,-999.000
     316N151_4,   A22,    47,  1,      9,      9,2,19970826,0804, 26.8770, -66.0007, 4604,27633.6,   2748.6,   2.9679,  34.9490,2,  34.9508,2,    257.1,2,  2.7437,    257.7,2,    24.64,2,    19.17,2,     0.00,2,     1.29,2,    0.108,2,    0.063,2,    0.004,2, -999.000,9,-999.0000,5,  -999.00,9,   -999.0,9,  -999.00,9,-999.000,9,   2167.0,2,   -999.0,9,   2325.8,2,   7.7480,2,25,  -999.0, -999.00,-999.0000,-999.000,-999.000
     316N151_4,   A22,    47,  1,      8,      8,2,19970826,0804, 26.8770, -66.0007, 4604,30128.2,   2997.9,   2.8123,  34.9367,2,  34.9374,2,    259.6,2,  2.5658,    260.3,2,    25.03,2,    18.97,2,     0.00,2,     1.28,2,    0.148,2,    0.087,2,    0.005,2, -999.000,9,-999.0000,5,  -999.00,9,   -999.0,9,  -999.00,9,-999.000,9,   2167.3,2,   -999.0,9,   2326.2,2,   7.7520,2,25,  -999.0, -999.00,-999.0000,-999.000,-999.000
     316N151_4,   A22,    47,  1,      7,      7,2,19970826,0804, 26.8770, -66.0007, 4604,32642.6,   3249.2,   2.6519,  34.9258,2,  34.9258,2,    261.8,2,  2.3826,    262.4,2,    26.28,2,    18.93,2,     0.00,2,     1.28,2,    0.172,2,    0.099,2,    0.006,2, -999.000,9,-999.0000,5,  -999.00,9,   -999.0,9,  -999.00,9,-999.000,9,   2168.6,2,   -999.0,9,   2323.0,2,   7.7520,2,25,  -999.0, -999.00,-999.0000,-999.000,-999.000
     316N151_4,   A22,    47,  1,      6,      6,2,19970826,0804, 26.8770, -66.0007, 4604,35150.5,   3500.0,   2.5434,  34.9182,2,  34.9191,2,    264.4,2,  2.2499,    264.6,2,    26.38,2,    18.69,2,     0.00,2,     1.27,2,    0.181,6,    0.103,6,    0.007,2, -999.000,9,-999.0000,5,  -999.00,9,   -999.0,9,  -999.00,9,-999.000,9,   2167.1,2,   -999.0,9,   2325.7,2,   7.7530,2,25,  -999.0, -999.00,-999.0000,-999.000,-999.000
     316N151_4,   A22,    47,  1,      5,      5,2,19970826,0804, 26.8770, -66.0007, 4604,37640.2,   3748.8,   2.4222,  34.9103,2,  34.9111,2,    265.7,2,  2.1044,    265.7,2,    27.53,2,    18.56,2,     0.00,2,     1.27,2,    0.170,2,    0.100,2,    0.006,2, -999.000,9,-999.0000,5,  -999.00,9,   -999.0,9,  -999.00,9,-999.000,9,   2167.4,2,   -999.0,9,   2326.3,2,   7.7550,2,25,  -999.0, -999.00,-999.0000,-999.000,-999.000
     316N151_4,   A22,    47,  1,      4,      4,2,19970826,0804, 26.8770, -66.0007, 4604,40145.3,   3999.3,   2.3471,  34.9033,2,  34.9027,2,    264.8,2,  2.0032,    264.6,2,    30.02,2,    18.89,2,     0.00,2,     1.29,2,    0.134,2,    0.082,2,    0.007,2, -999.000,9,-999.0000,5,  -999.00,9,   -999.0,9,  -999.00,9,-999.000,9,   2170.7,2,   -999.0,9,   2328.2,2,   7.7500,2,25,  -999.0, -999.00,-999.0000,-999.000,-999.000
     316N151_4,   A22,    47,  1,      3,      3,2,19970826,0804, 26.8770, -66.0007, 4604,42667.4,   4251.4,   2.3015,  34.8969,2,  34.8977,2,    264.9,2,  1.9298,    264.5,2,    31.17,2,    18.93,2,     0.00,2,     1.30,2,    0.178,2,    0.099,2,    0.013,2, -999.000,9,-999.0000,5,  -999.00,9,   -999.0,9,  -999.00,9,-999.000,9,   2171.7,2,   -999.0,9,   2329.1,2,   7.7470,2,25,  -999.0, -999.00,-999.0000,-999.000,-999.000
     316N151_4,   A22,    47,  1,      2,      2,2,19970826,0804, 26.8770, -66.0007, 4604,45165.8,   4501.2,   2.2525,  34.8897,2,  34.8901,2,    262.4,2,  1.8527,    262.2,2,    34.99,2,    19.55,2,     0.00,2,     1.34,2,    0.165,2,    0.100,2,    0.013,2, -999.000,9,-999.0000,5,  -999.00,9,   -999.0,9,  -999.00,9,-999.000,9,   2178.2,2,   -999.0,9,   2334.2,6,   7.7440,6,25,  -999.0, -999.00,-999.0000,-999.000,-999.000
     316N151_4,   A22,    47,  1,      1,      1,2,19970826,0804, 26.8770, -66.0007, 4604,47828.5,   4767.4,   2.1986,  34.8793,2,  34.8788,2,    257.4,2,  1.7683,    257.5,2,    40.32,6,    20.38,6,     0.00,6,     1.40,6,    0.125,2,    0.079,2,    0.017,2, -999.000,9,-999.0000,5,  -999.00,9,   -999.0,9,  -999.00,9,-999.000,9,   2184.5,2,   -999.0,9,   2338.5,2,   7.7430,2,25,  -999.0, -999.00,-999.0000,-999.000,-999.000