BOTTLE,20220629CCHSIOAMB
EXPOCODE,SECT_ID,STNNBR,CASTNO,SAMPNO,BTLNBR,BTLNBR_FLAG_W,DATE,TIME,LATITUDE,LONGITUDE,DEPTH,CTDRAW,CTDPRS,CTDTMP,CTDSAL,CTDSAL_FLAG_W,SALNTY,SALNTY_FLAG_W,CTDOXY,CTDOXY_FLAG_W,THETA,OXYGEN,OXYGEN_FLAG_W,SILCAT,SILCAT_FLAG_W,NITRAT,NITRAT_FLAG_W,NITRIT,NITRIT_FLAG_W,PHSPHT,PHSPHT_FLAG_W,CFC-11,CFC-11_FLAG_W,CFC-12,CFC-12_FLAG_W,CFC113,CFC113_FLAG_W,TRITUM,TRITUM_FLAG_W,HELIUM,HELIUM_FLAG_W,DELHE3,DELHE3_FLAG_W,DELC14,DELC14_FLAG_W,DELC13,DELC13_FLAG_W,NEON,NEON_FLAG_W,TCARBN,TCARBN_FLAG_W,PCO2,PCO2_FLAG_W,ALKALI,ALKALI_FLAG_W,PH,PH_FLAG_W,PH_TMP,C14ERR,DELHER,HELIER,NEONER,TRITER
,,,,,,,,,,,,,DBAR,ITS-90,PSS-78,,PSS-78,,UMOL/KG,,ITS-90,UMOL/KG,,UMOL/KG,,UMOL/KG,,UMOL/KG,,UMOL/KG,,PMOL/KG,,PMOL/KG,,PMOL/KG,,TU,,NMOL/KG,,PERCNT,,/MILLE,,/MILLE,,NMOL/KG,,UMOL/KG,,UATM,,UMOL/KG,,,,DEG C,/MILLE,PERCNT,NMOL/KG,NMOL/KG,TU
     316N151_4,   A22,    53,  1,     31,     31,2,19970828,0024, 30.8872, -66.0000, 4862,  192.1,      4.2,  28.4273,  36.9603,2,  36.9615,2,    204.6,2, 28.4263,    208.7,2,     0.48,2,     0.02,2,     0.00,2,     0.01,2,    1.671,2,    0.994,2,    0.134,2,    1.075,2,   1.7269,2,    -1.75,2,   -999.0,9,  -999.00,9,   6.782,2,   2047.3,2,    281.0,2,   2413.2,2,   8.0990,2,25,  -999.0,    0.15,  0.0086,   0.034,   0.013
     316N151_4,   A22,    53,  1,     30,     30,2,19970828,0024, 30.8872, -66.0000, 4862,  669.8,     52.2,  23.5808,  36.9468,2,  36.9372,2,    243.3,2, 23.5699,    237.3,2,     0.40,2,     0.00,2,     0.00,2,     0.01,2,    2.187,6,    1.254,2,    0.163,2, -999.000,9,-999.0000,5,  -999.00,9,   -999.0,9,  -999.00,9,-999.000,9,   2056.5,2,    295.0,2,   2411.5,2,   8.0830,2,25,  -999.0, -999.00,-999.0000,-999.000,-999.000
     316N151_4,   A22,    53,  1,     29,     29,2,19970828,0024, 30.8872, -66.0000, 4862, 1178.5,    102.8,  20.7712,  36.8527,2,  36.8638,2,    221.7,2, 20.7515,    221.9,2,     0.31,2,     0.03,2,     0.00,2,     0.01,2,    2.253,6,    1.316,6,    0.168,2,    1.076,2,   1.7654,2,    -1.98,2,   -999.0,9,  -999.00,9,   7.263,2,   2070.8,2,    317.0,2,   2408.0,2,   8.0570,2,25,  -999.0,    0.15,  0.0088,   0.036,   0.013
     316N151_4,   A22,    53,  1,     28,     28,2,19970828,0024, 30.8872, -66.0000, 4862, 1669.1,    151.7,  19.4161,  36.7119,2,  36.7144,2,    204.1,2, 19.3884,    209.5,2,     0.53,2,     0.46,2,     0.07,2,     0.02,2,    2.333,2,    1.319,2,    0.139,2,    1.092,2,   1.7890,2,    -2.07,2,   -999.0,9,  -999.00,9,   7.435,2,   2083.8,2,    374.0,2,   2398.7,6,   8.0270,6,25,  -999.0,    0.15,  0.0089,   0.037,   0.013
     316N151_4,   A22,    53,  1,     27,     27,2,19970828,0024, 30.8872, -66.0000, 4862, 2173.1,    201.8,  18.7168,  36.6191,2,  36.6201,2,    200.6,2, 18.6808,    206.7,2,     0.63,2,     2.16,2,     0.01,2,     0.10,2,    2.366,2,    1.328,2,    0.077,2,    1.133,2,   1.8141,2,    -1.54,2,   -999.0,9,  -999.00,9,   7.519,2,   2086.9,2,    360.0,2,   2396.2,2,   8.0160,2,25,  -999.0,    0.15,  0.0091,   0.038,   0.015
     316N151_4,   A22,    53,  1,     26,     26,2,19970828,0024, 30.8872, -66.0000, 4862, 2675.7,    251.7,  18.3052,  36.5577,2,  36.5577,2,    207.0,2, 18.2609,    205.2,2,     0.95,2,     3.35,2,     0.01,2,     0.16,2,    2.404,2,    1.344,2,    0.042,2,    1.108,2,   1.7493,2,    -0.76,2,   -999.0,9,  -999.00,9,   7.198,2,   2094.1,2,    374.0,2,   2388.7,2,   8.0030,2,25,  -999.0,    0.15,  0.0087,   0.036,   0.013
     316N151_4,   A22,    53,  1,     25,     25,2,19970828,0024, 30.8872, -66.0000, 4862, 3168.5,    300.8,  18.1149,  36.5355,2,  36.5368,2,    204.1,2, 18.0623,    204.2,2,     1.05,2,     3.64,2,     0.01,2,     0.18,2,    2.397,2,    1.331,2,    0.042,2,    1.116,2,   1.7661,2,    -0.68,2,   -999.0,9,  -999.00,9,   7.364,2,   2090.8,2,    378.0,2,   2387.3,6,   8.0020,6,25,  -999.0,    0.15,  0.0088,   0.037,   0.013
     316N151_4,   A22,    53,  1,     24,     24,2,19970828,0024, 30.8872, -66.0000, 4862, 4146.5,    398.5,  17.7226,  36.4734,2,  36.4745,2,    201.4,2, 17.6540,    199.0,2,     1.46,2,     4.80,2,     0.00,2,     0.25,2,    2.318,2,    1.270,2,    0.034,2,    1.137,2,   1.7716,2,    -0.44,2,   -999.0,9,  -999.00,9,   7.415,2,   2098.2,2,    396.0,2,   2384.4,2,   7.9820,2,25,  -999.0,    0.15,  0.0089,   0.037,   0.013
     316N151_4,   A22,    53,  1,     23,     23,2,19970828,0024, 30.8872, -66.0000, 4862, 5173.9,    501.5,  16.4966,  36.2598,2,  36.2560,2,    193.7,2, 16.4143,    189.5,2,     2.35,2,     7.68,2,     0.00,2,     0.43,2, -999.000,9, -999.000,9, -999.000,9,    1.264,2,   1.7754,2,     2.53,2,   -999.0,9,  -999.00,9,   7.315,2,   2113.5,2,    449.0,2,   2373.1,2,   7.9400,2,25,  -999.0,    0.15,  0.0089,   0.037,   0.014
     316N151_4,   A22,    53,  1,     22,     22,2,19970828,0024, 30.8872, -66.0000, 4862, 6170.1,    601.5,  14.8239,  35.9796,2,  35.9807,2,    186.4,2, 14.7318,    180.6,2,     4.01,2,    11.14,2,     0.00,2,     0.66,2,    2.007,2,    1.065,2,    0.027,2,    1.319,2,   1.7794,2,     3.83,2,   -999.0,9,  -999.00,9,   7.532,2,   2129.6,2,    513.0,2,   2355.9,2,   7.8800,2,25,  -999.0,    0.15,  0.0089,   0.038,   0.014
     316N151_4,   A22,    53,  1,     21,     21,2,19970828,0024, 30.8872, -66.0000, 4862, 7156.8,    700.6,  12.9115,  35.6960,2,  35.6897,2,    175.8,2, 12.8131,    173.6,2,     6.26,2,    14.94,2,     0.00,2,     0.91,2,    1.750,2,    0.912,2,    0.031,2,    1.238,2,   1.7994,2,     5.22,2,   -999.0,9,  -999.00,9,   7.630,2,   2146.6,2,    597.0,2,   2344.0,2,   7.8290,2,25,  -999.0,    0.15,  0.0090,   0.038,   0.014
     316N151_4,   A22,    53,  1,     20,     20,2,19970828,0024, 30.8872, -66.0000, 4862, 8163.3,    801.6,  10.7650,  35.4261,2,  35.4198,2,    161.9,2, 10.6643,    159.9,2,     9.88,2,    19.72,2,     0.00,2,     1.23,2,    1.078,2,    0.561,2,    0.018,2,    0.979,2,   1.7883,2,     7.31,2,   -999.0,9,  -999.00,9,   7.699,2,   2166.3,2,    713.0,2,   2331.3,2,   7.7590,2,25,  -999.0,    0.15,  0.0089,   0.038,   0.013
     316N151_4,   A22,    53,  1,     19,     19,2,19970828,0024, 30.8872, -66.0000, 4862, 9162.1,    901.8,   8.9948,  35.2365,2,  35.2419,2,    159.5,2,  8.8926,    158.4,2,    12.91,2,    22.48,2,     0.00,2,     1.43,2,    0.689,2,    0.359,2,    0.012,2,    0.697,2,   1.8225,2,     6.71,2,   -999.0,9,  -999.00,9,   7.771,2,   2179.9,2,    792.0,2,   2324.9,2,   7.7110,2,25,  -999.0,    0.15,  0.0091,   0.039,   0.012
     316N151_4,   A22,    53,  1,     18,     18,2,19970828,0024, 30.8872, -66.0000, 4862,10136.6,    999.3,   7.3652,  35.1375,2,  35.1358,2,    170.9,2,  7.2634,    173.3,2,    14.58,2,    22.89,2,     0.00,2,     1.48,2,    0.542,2,    0.280,2,    0.010,2,    0.554,2,   1.8430,2,     4.80,2,   -999.0,9,  -999.00,9,   8.119,2,   2185.0,2,    822.0,2,   2323.9,2,   7.7010,2,25,  -999.0,    0.15,  0.0092,   0.041,   0.011
     316N151_4,   A22,    53,  1,     17,     17,2,19970828,0024, 30.8872, -66.0000, 4862,11157.9,   1101.5,   6.4072,  35.1193,2,  35.1205,2,    193.5,2,  6.3020,    198.7,2,    13.91,2,    21.24,2,     0.00,2,     1.39,2,    0.629,2,    0.320,2,    0.016,2,    0.577,2,   1.8592,2,     5.13,2,   -999.0,9,  -999.00,9,   8.277,2,   2178.2,2,    798.0,2,   2324.7,2,   7.7170,2,25,  -999.0,    0.15,  0.0093,   0.041,   0.011
     316N151_4,   A22,    53,  1,     16,     16,2,19970828,0024, 30.8872, -66.0000, 4862,13165.2,   1302.3,   5.1365,  35.0616,2,  35.0611,2,    232.8,2,  5.0227,    234.2,2,    12.47,2,    18.98,2,     0.00,2,     1.25,2,    1.196,2,    0.594,2,    0.047,2,    0.786,2,   1.8369,2,     6.50,2,   -999.0,9,  -999.00,9,   8.234,2,   2167.5,2,    768.0,2,   2323.2,2,   7.7310,2,25,  -999.0,    0.15,  0.0092,   0.041,   0.012
     316N151_4,   A22,    53,  1,     15,     15,2,19970828,0024, 30.8872, -66.0000, 4862,15160.4,   1501.8,   4.5281,  35.0296,2,  35.0304,2,    249.6,2,  4.4016,    249.1,2,    12.58,2,    18.36,2,     0.00,2,     1.21,2,    1.003,2,    0.499,2,    0.040,2,    0.697,2,   1.8317,2,     5.81,2,   -999.0,9,  -999.00,9,   8.218,2,   2162.5,2,    747.0,2,   2316.3,2,   7.7420,2,25,  -999.0,    0.15,  0.0092,   0.041,   0.012
     316N151_4,   A22,    53,  1,     14,     14,2,19970828,0024, 30.8872, -66.0000, 4862,17655.1,   1751.1,   4.0269,  34.9872,2,  34.9902,2,    259.7,2,  3.8830,    259.8,2,    12.89,2,    17.92,2,     0.00,2,     1.19,2,    1.028,2,    0.515,2,    0.037,2,    0.696,2,   1.8424,2,     5.92,2,   -999.0,9,  -999.00,9,   8.235,2,   2158.7,2,    741.0,2,   2315.1,2,   7.7420,2,25,  -999.0,    0.15,  0.0092,   0.041,   0.013
     316N151_4,   A22,    53,  1,     13,     13,2,19970828,0024, 30.8872, -66.0000, 4862,20177.2,   2003.2,   3.7803,  34.9823,2,  34.9812,2,    260.5,2,  3.6156,    259.9,2,    14.56,2,    18.04,2,     0.00,2,     1.20,2,    0.696,2,    0.347,2,    0.025,2,    0.480,2,   1.8588,2,     3.75,2,   -999.0,9,  -999.00,9,   8.336,2,   2160.0,2,    733.0,2,   2315.5,2,   7.7480,2,25,  -999.0,    0.15,  0.0093,   0.042,   0.012
     316N151_4,   A22,    53,  1,     12,     12,2,19970828,0024, 30.8872, -66.0000, 4862,22642.5,   2249.6,   3.6286,  34.9955,2,  34.9951,2,    255.3,2,  3.4422,    255.0,2,    18.26,2,    18.62,2,     0.00,2,     1.24,2,    0.164,2,    0.089,2,    0.005,2, -999.000,9,-999.0000,5,  -999.00,9,   -999.0,9,  -999.00,9,-999.000,9,   2163.8,2,    730.0,2,   2321.0,2,   7.7470,2,25,  -999.0, -999.00,-999.0000,-999.000,-999.000
     316N151_4,   A22,    53,  1,     11,     11,2,19970828,0024, 30.8872, -66.0000, 4862,25167.0,   2501.9,   3.2617,  34.9617,2,  34.9638,2,    260.9,2,  3.0568,    260.6,2,    19.16,2,    18.29,2,     0.00,2,     1.23,2,    0.281,2,    0.149,2,    0.008,2,    0.257,2,   1.8624,2,     2.46,2,   -999.0,9,  -999.00,9,   8.182,2,   2161.7,2,    727.0,2,   2320.2,2,   7.7530,2,25,  -999.0,    0.15,  0.0093,   0.041,   0.011
     316N151_4,   A22,    53,  1,     10,     10,2,19970828,0024, 30.8872, -66.0000, 4862,27654.3,   2750.5,   3.0295,  34.9496,2,  34.9504,2,    262.0,2,  2.8038,    261.8,2,    21.11,2,    18.41,2,     0.00,2,     1.24,2,    0.166,2,    0.096,2,    0.006,2, -999.000,9,-999.0000,5,  -999.00,9,   -999.0,9,  -999.00,9,-999.000,9,   2162.3,2,    726.0,2,   2321.7,2,   7.7500,2,25,  -999.0, -999.00,-999.0000,-999.000,-999.000
     316N151_4,   A22,    53,  1,      9,      9,2,19970828,0024, 30.8872, -66.0000, 4862,30168.7,   3002.0,   2.7873,  34.9333,2,  34.9338,2,    265.0,2,  2.5410,    264.6,2,    21.91,2,    18.21,2,     0.00,2,     1.23,2,    0.231,2,    0.110,2,    0.006,2,    0.213,2,   1.8779,2,     2.26,2,   -999.0,9,  -999.00,9,   8.404,2,   2162.2,2,    726.0,2,   2321.3,2,   7.7550,2,25,  -999.0,    0.15,  0.0094,   0.042,   0.011
     316N151_4,   A22,    53,  1,      8,      8,2,19970828,0024, 30.8872, -66.0000, 4862,32650.2,   3250.0,   2.5664,  34.9205,2,  34.9208,2,    267.5,2,  2.2991,    266.7,2,    23.38,2,    18.08,2,     0.00,2,     1.23,2,    0.248,6,    0.122,6,    0.005,2, -999.000,9,-999.0000,5,  -999.00,9,   -999.0,9,  -999.00,9,-999.000,9,   2163.0,2,    729.0,2,   2322.9,2,   7.7290,4,25,  -999.0, -999.00,-999.0000,-999.000,-999.000
     316N151_4,   A22,    53,  1,      7,      7,2,19970828,0024, 30.8872, -66.0000, 4862,35151.2,   3500.0,   2.4101,  34.9098,2,  34.9082,2,    267.8,2,  2.1200,    267.4,2,    25.44,2,    18.17,2,     0.00,2,     1.23,2,    0.278,2,    0.150,2,    0.016,2,    0.224,2,   1.8574,2,     3.16,2,   -999.0,9,  -999.00,9,   8.432,2,   2165.4,2,    733.0,2,   2323.9,2,   7.7500,2,25,  -999.0,    0.15,  0.0093,   0.042,   0.011
     316N151_4,   A22,    53,  1,      6,      6,2,19970828,0024, 30.8872, -66.0000, 4862,37659.4,   3750.7,   2.3269,  34.9034,2,  34.9033,2,    267.4,2,  2.0115,    266.3,2,    27.40,2,    18.34,2,     0.00,2,     1.25,2,    0.285,2,    0.151,2,    0.011,2, -999.000,9,-999.0000,5,  -999.00,9,   -999.0,9,  -999.00,9,-999.000,9,   2168.7,2,    737.0,2,   2322.0,2,   7.7490,2,25,  -999.0, -999.00,-999.0000,-999.000,-999.000
     316N151_4,   A22,    53,  1,      5,      5,2,19970828,0024, 30.8872, -66.0000, 4862,40137.8,   3998.5,   2.2844,  34.8981,2,  34.8974,2,    266.1,2,  1.9423,    265.0,2,    29.36,2,    18.62,2,     0.00,2,     1.27,2,    0.280,2,    0.143,2,    0.009,2,    0.267,2,   1.9070,2,     3.19,2,   -999.0,9,  -999.00,9,   8.615,2,   2170.3,2,    739.0,2,   2327.6,2,   7.7500,2,25,  -999.0,    0.15,  0.0095,   0.043,   0.011
     316N151_4,   A22,    53,  1,      4,      4,2,19970828,0024, 30.8872, -66.0000, 4862,42646.9,   4249.2,   2.2545,  34.8925,2,  34.8938,2,    264.3,2,  1.8844,    264.0,2,    32.00,2,    18.99,2,     0.00,2,     1.29,2,    0.276,2,    0.151,2,    0.016,2, -999.000,9,-999.0000,5,  -999.00,9,   -999.0,9,  -999.00,9,-999.000,9,   2173.7,2,    730.0,2,   2331.4,2,   7.7490,2,25,  -999.0, -999.00,-999.0000,-999.000,-999.000
     316N151_4,   A22,    53,  1,      3,      3,2,19970828,0024, 30.8872, -66.0000, 4862,45146.4,   4499.1,   2.2309,  34.8858,2,  34.8861,2,    261.6,2,  1.8321,    261.4,2,    35.61,2,    19.52,2,     0.01,2,     1.33,2,    0.242,2,    0.136,2,    0.013,2,    0.211,2,   1.9122,2,     2.61,2,   -999.0,9,  -999.00,9,   8.627,2,   2177.9,2,    734.0,2,   2335.8,2,   7.7430,2,25,  -999.0,    0.15,  0.0096,   0.043,   0.011
     316N151_4,   A22,    53,  1,      2,      2,2,19970828,0024, 30.8872, -66.0000, 4862,47640.1,   4748.5,   2.2080,  34.8796,2,  34.8795,2,    258.9,2,  1.7798,    258.7,2,    39.22,2,    20.14,2,     0.00,2,     1.37,2,    0.171,6,    0.103,6,    0.015,2, -999.000,9,-999.0000,5,  -999.00,9,   -999.0,9,  -999.00,9,-999.000,9,   2184.2,2,    743.0,2,   2339.8,2,   7.7430,2,25,  -999.0, -999.00,-999.0000,-999.000,-999.000
     316N151_4,   A22,    53,  1,      1,      1,2,19970828,0024, 30.8872, -66.0000, 4862,49788.5,   4963.0,   2.1951,  34.8746,2,  34.8745,2,    254.3,2,  1.7407,    256.9,2,    42.23,6,    20.63,6,     0.00,6,     1.41,6,    0.128,2,    0.088,2,    0.015,2,    0.135,2,   1.9002,2,     1.86,2,   -999.0,9,  -999.00,9,   8.648,2,   2189.3,2,    749.0,2,   2343.0,2,   7.7350,2,25,  -999.0,    0.15,  0.0095,   0.043,   0.011