BOTTLE,20220629CCHSIOAMB
EXPOCODE,SECT_ID,STNNBR,CASTNO,SAMPNO,BTLNBR,BTLNBR_FLAG_W,DATE,TIME,LATITUDE,LONGITUDE,DEPTH,CTDRAW,CTDPRS,CTDTMP,CTDSAL,CTDSAL_FLAG_W,SALNTY,SALNTY_FLAG_W,CTDOXY,CTDOXY_FLAG_W,THETA,OXYGEN,OXYGEN_FLAG_W,SILCAT,SILCAT_FLAG_W,NITRAT,NITRAT_FLAG_W,NITRIT,NITRIT_FLAG_W,PHSPHT,PHSPHT_FLAG_W,CFC-11,CFC-11_FLAG_W,CFC-12,CFC-12_FLAG_W,CFC113,CFC113_FLAG_W,TRITUM,TRITUM_FLAG_W,HELIUM,HELIUM_FLAG_W,DELHE3,DELHE3_FLAG_W,DELC14,DELC14_FLAG_W,DELC13,DELC13_FLAG_W,NEON,NEON_FLAG_W,TCARBN,TCARBN_FLAG_W,PCO2,PCO2_FLAG_W,ALKALI,ALKALI_FLAG_W,PH,PH_FLAG_W,PH_TMP,C14ERR,DELHER,HELIER,NEONER,TRITER
,,,,,,,,,,,,,DBAR,ITS-90,PSS-78,,PSS-78,,UMOL/KG,,ITS-90,UMOL/KG,,UMOL/KG,,UMOL/KG,,UMOL/KG,,UMOL/KG,,PMOL/KG,,PMOL/KG,,PMOL/KG,,TU,,NMOL/KG,,PERCNT,,/MILLE,,/MILLE,,NMOL/KG,,UMOL/KG,,UATM,,UMOL/KG,,,,DEG C,/MILLE,PERCNT,NMOL/KG,NMOL/KG,TU
     316N151_4,   A22,    68,  1,     30,     30,2,19970901,0914, 38.9913, -65.9742, 4632,  196.5,      3.1,  24.2011,  34.7736,2,  34.7754,2,    251.6,2, 24.2004,    217.8,2,     0.51,2,     0.05,2,     0.00,2,     0.06,2,    2.010,6,    1.182,6,    0.144,2, -999.000,9,-999.0000,5,  -999.00,9,   -999.0,9,  -999.00,9,-999.000,9,   -999.0,9,   -999.0,9,   -999.0,9,-999.0000,9,-999,  -999.0, -999.00,-999.0000,-999.000,-999.000
     316N151_4,   A22,    68,  1,     29,     29,2,19970901,0914, 38.9913, -65.9742, 4632,  668.6,     51.3,  22.4146,  34.9675,2,  34.7553,2,    258.0,2, 22.4043,    231.0,2,     1.01,2,     0.12,2,     0.01,2,     0.12,2, -999.000,9, -999.000,9, -999.000,9, -999.000,9,-999.0000,5,  -999.00,9,   -999.0,9,  -999.00,9,-999.000,9,   -999.0,9,   -999.0,9,   -999.0,9,-999.0000,9,-999,  -999.0, -999.00,-999.0000,-999.000,-999.000
     316N151_4,   A22,    68,  1,     28,     28,2,19970901,0914, 38.9913, -65.9742, 4632, 1175.9,    102.1,  15.4327,  35.1901,2,  35.1946,2,    193.5,2, 15.4170,    194.7,2,     3.46,2,     6.44,2,     0.07,2,     0.52,2, -999.000,9, -999.000,9, -999.000,9, -999.000,9,-999.0000,5,  -999.00,9,   -999.0,9,  -999.00,9,-999.000,9,   -999.0,9,   -999.0,9,   -999.0,9,-999.0000,9,-999,  -999.0, -999.00,-999.0000,-999.000,-999.000
     316N151_4,   A22,    68,  1,     27,     27,2,19970901,0914, 38.9913, -65.9742, 4632, 1670.9,    151.7,  14.8799,  35.7776,2,  35.7766,2,    164.5,2, 14.8569,    170.6,2,     4.54,2,    11.15,2,     0.02,2,     0.70,2, -999.000,9, -999.000,9, -999.000,9, -999.000,9,-999.0000,5,  -999.00,9,   -999.0,9,  -999.00,9,-999.000,9,   -999.0,9,   -999.0,9,   -999.0,9,-999.0000,9,-999,  -999.0, -999.00,-999.0000,-999.000,-999.000
     316N151_4,   A22,    68,  1,     26,     26,2,19970901,0914, 38.9913, -65.9742, 4632, 2156.4,    200.5,  13.7786,  35.7298,2,  35.7318,2,    152.2,2, 13.7497,    154.5,2,     6.70,2,    15.33,2,     0.01,2,     0.95,2,    1.645,2,    0.902,2,    0.043,2, -999.000,9,-999.0000,5,  -999.00,9,   -999.0,9,  -999.00,9,-999.000,9,   -999.0,9,   -999.0,9,   -999.0,9,-999.0000,9,-999,  -999.0, -999.00,-999.0000,-999.000,-999.000
     316N151_4,   A22,    68,  1,     25,     25,2,19970901,0914, 38.9913, -65.9742, 4632, 2674.4,    252.7,  12.4782,  35.6034,2,  35.6029,2,    153.8,2, 12.4441,    145.4,2,     8.57,2,    18.85,2,     0.01,2,     1.17,2, -999.000,9, -999.000,9, -999.000,9, -999.000,9,-999.0000,5,  -999.00,9,   -999.0,9,  -999.00,9,-999.000,9,   -999.0,9,   -999.0,9,   -999.0,9,-999.0000,9,-999,  -999.0, -999.00,-999.0000,-999.000,-999.000
     316N151_4,   A22,    68,  1,     24,     24,2,19970901,0914, 38.9913, -65.9742, 4632, 3131.3,    298.8,  11.2532,  35.4320,2,  35.4314,2,    142.6,2, 11.2155,    141.0,2,    10.83,2,    21.31,2,     0.01,2,     1.34,2,    1.021,2,    0.548,2,    0.023,2, -999.000,9,-999.0000,5,  -999.00,9,   -999.0,9,  -999.00,9,-999.000,9,   -999.0,9,   -999.0,9,   -999.0,9,-999.0000,9,-999,  -999.0, -999.00,-999.0000,-999.000,-999.000
     316N151_4,   A22,    68,  1,     23,     23,2,19970901,0914, 38.9913, -65.9742, 4632, 4135.7,    399.7,   8.8840,  35.1603,2,  35.1636,2,    143.2,2,  8.8403,    142.6,2,    14.66,2,    24.67,2,     0.00,2,     1.59,2, -999.000,9, -999.000,9, -999.000,9, -999.000,9,-999.0000,5,  -999.00,9,   -999.0,9,  -999.00,9,-999.000,9,   -999.0,9,   -999.0,9,   -999.0,9,-999.0000,9,-999,  -999.0, -999.00,-999.0000,-999.000,-999.000
     316N151_4,   A22,    68,  1,     22,     22,2,19970901,0914, 38.9913, -65.9742, 4632, 5143.7,    500.5,   6.9365,  35.0667,2,  35.0675,2,    180.5,2,  6.8888,    181.0,2,    14.18,2,    22.46,2,     0.00,2,     1.47,2,    1.107,2,    0.559,2,    0.049,2, -999.000,9,-999.0000,5,  -999.00,9,   -999.0,9,  -999.00,9,-999.000,9,   -999.0,9,   -999.0,9,   -999.0,9,-999.0000,9,-999,  -999.0, -999.00,-999.0000,-999.000,-999.000
     316N151_4,   A22,    68,  1,     21,     21,2,19970901,0914, 38.9913, -65.9742, 4632, 6130.3,    599.3,   5.9751,  35.0415,2,  35.0419,2,    205.6,2,  5.9219,    204.8,2,    13.49,2,    20.95,2,     0.00,2,     1.38,2, -999.000,9, -999.000,9, -999.000,9, -999.000,9,-999.0000,5,  -999.00,9,   -999.0,9,  -999.00,9,-999.000,9,   -999.0,9,   -999.0,9,   -999.0,9,-999.0000,9,-999,  -999.0, -999.00,-999.0000,-999.000,-999.000
     316N151_4,   A22,    68,  1,     20,     20,2,19970901,0914, 38.9913, -65.9742, 4632, 7162.4,    702.5,   5.1313,  35.0086,2,  35.0094,2,    227.0,2,  5.0730,    228.6,2,    12.71,2,    19.52,2,     0.00,2,     1.30,2,    1.661,2,    0.814,2,    0.087,2, -999.000,9,-999.0000,5,  -999.00,9,   -999.0,9,  -999.00,9,-999.000,9,   -999.0,9,   -999.0,9,   -999.0,9,-999.0000,9,-999,  -999.0, -999.00,-999.0000,-999.000,-999.000
     316N151_4,   A22,    68,  1,     19,     19,2,19970901,0914, 38.9913, -65.9742, 4632, 8131.4,    799.3,   4.7763,  35.0085,2,  35.0110,2,    238.2,2,  4.7116,    240.1,2,    12.32,2,    18.95,2,     0.00,2,     1.26,2, -999.000,9, -999.000,9, -999.000,9, -999.000,9,-999.0000,5,  -999.00,9,   -999.0,9,  -999.00,9,-999.000,9,   -999.0,9,   -999.0,9,   -999.0,9,-999.0000,9,-999,  -999.0, -999.00,-999.0000,-999.000,-999.000
     316N151_4,   A22,    68,  1,     18,     18,2,19970901,0914, 38.9913, -65.9742, 4632, 9155.0,    901.7,   4.5374,  34.9936,2,  34.9951,2,    247.3,2,  4.4654,    246.9,2,    12.22,2,    18.58,2,     0.00,2,     1.24,2,    1.696,6,    0.815,6,    0.093,2, -999.000,9,-999.0000,5,  -999.00,9,   -999.0,9,  -999.00,9,-999.000,9,   -999.0,9,   -999.0,9,   -999.0,9,-999.0000,9,-999,  -999.0, -999.00,-999.0000,-999.000,-999.000
     316N151_4,   A22,    68,  1,     17,     17,2,19970901,0914, 38.9913, -65.9742, 4632,10145.3,   1000.7,   4.3065,  34.9770,2,  34.9789,2,    253.4,2,  4.2276,    253.9,2,    12.03,2,    18.30,2,     0.00,2,     1.22,2, -999.000,9, -999.000,9, -999.000,9, -999.000,9,-999.0000,5,  -999.00,9,   -999.0,9,  -999.00,9,-999.000,9,   -999.0,9,   -999.0,9,   -999.0,9,-999.0000,9,-999,  -999.0, -999.00,-999.0000,-999.000,-999.000
     316N151_4,   A22,    68,  1,     16,     16,2,19970901,0914, 38.9913, -65.9742, 4632,11150.4,   1101.1,   4.1367,  34.9653,2,  34.9664,2,    259.8,2,  4.0506,    258.0,2,    11.93,2,    18.04,2,     0.00,2,     1.21,2,    1.801,2,    0.867,2,    0.107,2, -999.000,9,-999.0000,5,  -999.00,9,   -999.0,9,  -999.00,9,-999.000,9,   -999.0,9,   -999.0,9,   -999.0,9,-999.0000,9,-999,  -999.0, -999.00,-999.0000,-999.000,-999.000
     316N151_4,   A22,    68,  1,     15,     15,2,19970901,0914, 38.9913, -65.9742, 4632,13184.4,   1304.4,   3.8915,  34.9532,2,  34.9547,2,    265.0,2,  3.7899,    264.3,2,    12.04,2,    17.80,2,     0.00,2,     1.19,2, -999.000,9, -999.000,9, -999.000,9, -999.000,9,-999.0000,5,  -999.00,9,   -999.0,9,  -999.00,9,-999.000,9,   -999.0,9,   -999.0,9,   -999.0,9,-999.0000,9,-999,  -999.0, -999.00,-999.0000,-999.000,-999.000
     316N151_4,   A22,    68,  1,     14,     14,2,19970901,0914, 38.9913, -65.9742, 4632,15181.4,   1504.0,   3.6376,  34.9315,2,  34.9322,2,    268.8,2,  3.5213,    269.8,2,    12.23,2,    17.56,2,     0.00,2,     1.18,2,    1.851,2,    0.903,2,    0.093,2, -999.000,9,-999.0000,5,  -999.00,9,   -999.0,9,  -999.00,9,-999.000,9,   -999.0,9,   -999.0,9,   -999.0,9,-999.0000,9,-999,  -999.0, -999.00,-999.0000,-999.000,-999.000
     316N151_4,   A22,    68,  1,     13,     13,2,19970901,0914, 38.9913, -65.9742, 4632,17672.2,   1752.9,   3.4900,  34.9294,2,  34.9305,2,    270.8,2,  3.3531,    271.8,2,    12.83,2,    17.48,2,     0.00,2,     1.17,2, -999.000,9, -999.000,9, -999.000,9, -999.000,9,-999.0000,5,  -999.00,9,   -999.0,9,  -999.00,9,-999.000,9,   -999.0,9,   -999.0,9,   -999.0,9,-999.0000,9,-999,  -999.0, -999.00,-999.0000,-999.000,-999.000
     316N151_4,   A22,    68,  1,     12,     12,2,19970901,0914, 38.9913, -65.9742, 4632,20140.4,   1999.6,   3.3637,  34.9297,2,  34.9317,2,    270.2,2,  3.2058,    271.2,2,    13.62,2,    17.44,2,     0.00,2,     1.17,2,    1.478,2,    0.729,2,    0.073,2, -999.000,9,-999.0000,5,  -999.00,9,   -999.0,9,  -999.00,9,-999.000,9,   -999.0,9,   -999.0,9,   -999.0,9,-999.0000,9,-999,  -999.0, -999.00,-999.0000,-999.000,-999.000
     316N151_4,   A22,    68,  1,     11,     11,2,19970901,0914, 38.9913, -65.9742, 4632,22672.7,   2252.6,   3.2484,  34.9404,2,  34.9415,2,    267.8,2,  3.0683,    268.9,2,    15.39,2,    17.52,2,     0.00,2,     1.18,2, -999.000,9, -999.000,9, -999.000,9, -999.000,9,-999.0000,5,  -999.00,9,   -999.0,9,  -999.00,9,-999.000,9,   -999.0,9,   -999.0,9,   -999.0,9,-999.0000,9,-999,  -999.0, -999.00,-999.0000,-999.000,-999.000
     316N151_4,   A22,    68,  1,     10,     10,2,19970901,0914, 38.9913, -65.9742, 4632,25159.8,   2501.2,   3.1044,  34.9452,2,  34.9459,2,    266.7,2,  2.9024,    265.9,2,    17.75,2,    17.80,2,     0.00,2,     1.20,2,    0.569,2,    0.283,2,    0.021,2, -999.000,9,-999.0000,5,  -999.00,9,   -999.0,9,  -999.00,9,-999.000,9,   -999.0,9,   -999.0,9,   -999.0,9,-999.0000,9,-999,  -999.0, -999.00,-999.0000,-999.000,-999.000
     316N151_4,   A22,    68,  1,      9,      9,2,19970901,0914, 38.9913, -65.9742, 4632,27643.1,   2749.5,   2.8887,  34.9352,2,  34.9356,2,    266.6,2,  2.6661,    267.6,2,    18.93,2,    17.72,2,     0.00,2,     1.20,2, -999.000,9, -999.000,9, -999.000,9, -999.000,9,-999.0000,5,  -999.00,9,   -999.0,9,  -999.00,9,-999.000,9,   -999.0,9,   -999.0,9,   -999.0,9,-999.0000,9,-999,  -999.0, -999.00,-999.0000,-999.000,-999.000
     316N151_4,   A22,    68,  1,      8,      8,2,19970901,0914, 38.9913, -65.9742, 4632,30150.4,   3000.1,   2.6429,  34.9217,2,  34.9218,2,    268.5,2,  2.3998,    269.9,2,    19.92,2,    17.52,2,     0.00,2,     1.19,2,    0.780,2,    0.385,2,    0.028,2, -999.000,9,-999.0000,5,  -999.00,9,   -999.0,9,  -999.00,9,-999.000,9,   -999.0,9,   -999.0,9,   -999.0,9,-999.0000,9,-999,  -999.0, -999.00,-999.0000,-999.000,-999.000
     316N151_4,   A22,    68,  1,      7,      7,2,19970901,0914, 38.9913, -65.9742, 4632,32644.2,   3249.4,   2.4856,  34.9139,2,  34.9139,2,    270.0,2,  2.2203,    269.6,2,    22.09,2,    17.68,2,     0.00,2,     1.20,2, -999.000,9, -999.000,9, -999.000,9, -999.000,9,-999.0000,5,  -999.00,9,   -999.0,9,  -999.00,9,-999.000,9,   -999.0,9,   -999.0,9,   -999.0,9,-999.0000,9,-999,  -999.0, -999.00,-999.0000,-999.000,-999.000
     316N151_4,   A22,    68,  1,      6,      6,2,19970901,0914, 38.9913, -65.9742, 4632,35137.6,   3498.6,   2.3785,  34.9071,2,  34.9069,2,    268.1,2,  2.0894,    269.0,2,    24.94,2,    18.01,2,     0.00,2,     1.23,2,    0.595,2,    0.293,2,    0.027,2, -999.000,9,-999.0000,5,  -999.00,9,   -999.0,9,  -999.00,9,-999.000,9,   -999.0,9,   -999.0,9,   -999.0,9,-999.0000,9,-999,  -999.0, -999.00,-999.0000,-999.000,-999.000
     316N151_4,   A22,    68,  1,      5,      5,2,19970901,0914, 38.9913, -65.9742, 4632,37638.2,   3748.6,   2.3173,  34.9014,2,  34.9023,2,    266.9,2,  2.0024,    268.2,2,    26.81,2,    18.21,2,     0.00,2,     1.25,2, -999.000,9, -999.000,9, -999.000,9, -999.000,9,-999.0000,5,  -999.00,9,   -999.0,9,  -999.00,9,-999.000,9,   -999.0,9,   -999.0,9,   -999.0,9,-999.0000,9,-999,  -999.0, -999.00,-999.0000,-999.000,-999.000
     316N151_4,   A22,    68,  1,      4,      4,2,19970901,0914, 38.9913, -65.9742, 4632,40178.3,   4002.5,   2.2682,  34.8962,2,  34.8955,2,    265.9,2,  1.9260,    266.6,2,    29.37,2,    18.54,2,     0.00,2,     1.28,2,    0.546,2,    0.272,2,    0.013,2, -999.000,9,-999.0000,5,  -999.00,9,   -999.0,9,  -999.00,9,-999.000,9,   -999.0,9,   -999.0,9,   -999.0,9,-999.0000,9,-999,  -999.0, -999.00,-999.0000,-999.000,-999.000
     316N151_4,   A22,    68,  1,      3,      3,2,19970901,0914, 38.9913, -65.9742, 4632,42668.0,   4251.5,   2.2413,  34.8914,2,  34.8908,2,    265.1,2,  1.8714,    264.6,2,    32.33,2,    18.99,2,     0.00,2,     1.31,2, -999.000,9, -999.000,9, -999.000,9, -999.000,9,-999.0000,5,  -999.00,9,   -999.0,9,  -999.00,9,-999.000,9,   -999.0,9,   -999.0,9,   -999.0,9,-999.0000,9,-999,  -999.0, -999.00,-999.0000,-999.000,-999.000
     316N151_4,   A22,    68,  1,      2,      2,2,19970901,0914, 38.9913, -65.9742, 4632,45137.9,   4498.3,   2.2326,  34.8869,2,  34.8862,2,    263.1,2,  1.8338,    262.2,2,    34.69,2,    19.35,2,     0.00,2,     1.34,2,    0.424,2,    0.221,2,    0.031,2, -999.000,9,-999.0000,5,  -999.00,9,   -999.0,9,  -999.00,9,-999.000,9,   -999.0,9,   -999.0,9,   -999.0,9,-999.0000,9,-999,  -999.0, -999.00,-999.0000,-999.000,-999.000
     316N151_4,   A22,    68,  1,      1,      1,2,19970901,0914, 38.9913, -65.9742, 4632,47404.6,   4724.9,   2.2410,  34.8846,2,  34.8833,2,    260.4,2,  1.8145,    260.8,2,    36.46,6,    19.66,6,     0.00,6,     1.36,6,    0.380,6,    0.203,6, -999.000,9, -999.000,9,-999.0000,5,  -999.00,9,   -999.0,9,  -999.00,9,-999.000,9,   -999.0,9,   -999.0,9,   -999.0,9,-999.0000,9,-999,  -999.0, -999.00,-999.0000,-999.000,-999.000