BOTTLE,20220629CCHSIOAMB
EXPOCODE,SECT_ID,STNNBR,CASTNO,SAMPNO,BTLNBR,BTLNBR_FLAG_W,DATE,TIME,LATITUDE,LONGITUDE,DEPTH,CTDRAW,CTDPRS,CTDTMP,CTDSAL,CTDSAL_FLAG_W,SALNTY,SALNTY_FLAG_W,CTDOXY,CTDOXY_FLAG_W,THETA,OXYGEN,OXYGEN_FLAG_W,SILCAT,SILCAT_FLAG_W,NITRAT,NITRAT_FLAG_W,NITRIT,NITRIT_FLAG_W,PHSPHT,PHSPHT_FLAG_W,CFC-11,CFC-11_FLAG_W,CFC-12,CFC-12_FLAG_W,CFC113,CFC113_FLAG_W,TRITUM,TRITUM_FLAG_W,HELIUM,HELIUM_FLAG_W,DELHE3,DELHE3_FLAG_W,DELC14,DELC14_FLAG_W,DELC13,DELC13_FLAG_W,NEON,NEON_FLAG_W,TCARBN,TCARBN_FLAG_W,PCO2,PCO2_FLAG_W,ALKALI,ALKALI_FLAG_W,PH,PH_FLAG_W,PH_TMP,C14ERR,DELHER,HELIER,NEONER,TRITER
,,,,,,,,,,,,,DBAR,ITS-90,PSS-78,,PSS-78,,UMOL/KG,,ITS-90,UMOL/KG,,UMOL/KG,,UMOL/KG,,UMOL/KG,,UMOL/KG,,PMOL/KG,,PMOL/KG,,PMOL/KG,,TU,,NMOL/KG,,PERCNT,,/MILLE,,/MILLE,,NMOL/KG,,UMOL/KG,,UATM,,UMOL/KG,,,,DEG C,/MILLE,PERCNT,NMOL/KG,NMOL/KG,TU
     316N151_4,   A22,    48,  1,     30,     30,2,19970826,1445, 27.5480, -65.9992, 4870,  210.0,      5.1,  29.1332,  36.6188,2,  36.6226,2,   -999.0,9, 29.1320,    204.0,2,     1.11,2,     0.03,2,     0.00,2,     0.01,2, -999.000,9, -999.000,9, -999.000,9,    0.908,2,   1.7387,2,    -1.29,2,   -999.0,9,  -999.00,9,   6.717,2,   2016.9,2,    259.0,2,   2392.0,2,   8.1210,2,25,  -999.0,    0.15,  0.0087,   0.034,   0.013
     316N151_4,   A22,    48,  1,     29,     29,2,19970826,1445, 27.5480, -65.9992, 4870,  301.3,     14.4,  29.0878,  36.6165,2,  36.6197,2,    207.7,2, 29.0843,    204.6,2,     1.12,2,     0.03,2,     0.00,2,     0.01,2,    1.607,2,    0.966,2,    0.116,2, -999.000,9,-999.0000,5,  -999.00,9,   -999.0,9,  -999.00,9,-999.000,9,   2015.5,2,   -999.0,9,   -999.0,9,-999.0000,9,-999,  -999.0, -999.00,-999.0000,-999.000,-999.000
     316N151_4,   A22,    48,  1,     28,     28,2,19970826,1445, 27.5480, -65.9992, 4870,  449.6,     29.5,  29.0803,  36.6159,2,  36.6191,2,    211.2,2, 29.0731,    205.2,2,     1.12,2,     0.03,2,     0.00,2,     0.01,2, -999.000,9, -999.000,9, -999.000,9, -999.000,9,-999.0000,5,  -999.00,9,   -999.0,9,  -999.00,9,-999.000,9,   2016.2,2,   -999.0,9,   2393.2,2,   8.1220,2,25,  -999.0, -999.00,-999.0000,-999.000,-999.000
     316N151_4,   A22,    48,  1,     27,     27,2,19970826,1445, 27.5480, -65.9992, 4870,  655.9,     50.4,  26.3706,  36.7447,2,  36.7449,2,    231.1,2, 26.3592,    222.3,2,     0.85,2,     0.03,2,     0.00,2,     0.01,2,    1.905,6,    1.107,6,    0.151,2,    0.956,2,   1.7422,2,    -1.09,2,   -999.0,9,  -999.00,9,   6.878,2,   2029.1,2,    271.0,2,   2400.2,2,   8.1090,2,25,  -999.0,    0.15,  0.0087,   0.034,   0.013
     316N151_4,   A22,    48,  1,     26,     26,2,19970826,1445, 27.5480, -65.9992, 4870, 1172.2,    102.1,  23.0040,  36.9103,2,  36.9159,2,    214.2,2, 22.9830,    216.7,2,     0.66,2,     0.03,2,     0.00,2,     0.02,2,    2.072,2,    1.200,2,    0.148,2,    1.023,2,   1.7453,2,    -0.86,2,   -999.0,9,  -999.00,9,   6.950,2,   2056.3,2,    294.0,2,   -999.0,9,-999.0000,9,-999,  -999.0,    0.15,  0.0087,   0.035,   0.013
     316N151_4,   A22,    48,  1,     25,     25,2,19970826,1445, 27.5480, -65.9992, 4870, 1673.6,    152.2,  21.2600,  36.9015,2,  36.8938,2,    198.5,2, 21.2304,    201.5,2,     0.67,2,     0.14,2,     0.06,2,     0.02,2,    2.188,2,    1.246,2,    0.129,2,    1.092,2,   1.7660,2,    -0.23,2,   -999.0,9,  -999.00,9,   6.979,2,   2083.8,2,   -999.0,9,   2409.9,2,   8.0440,2,25,  -999.0,    0.15,  0.0088,   0.035,   0.014
     316N151_4,   A22,    48,  1,     24,     24,2,19970826,1445, 27.5480, -65.9992, 4870, 2182.0,    202.8,  19.6123,  36.7215,2,  36.7293,2,    199.0,2, 19.5750,    200.4,2,     0.77,2,     1.19,2,     0.03,2,     0.04,2,    2.301,2,    1.301,2,    0.092,2,    1.047,2,   1.7686,2,     0.30,2,   -999.0,9,  -999.00,9,   7.014,2,   2089.0,2,    355.0,2,   2399.0,2,   8.0200,2,25,  -999.0,    0.15,  0.0088,   0.035,   0.014
     316N151_4,   A22,    48,  1,     23,     23,2,19970826,1445, 27.5480, -65.9992, 4870, 2364.9,    220.9,  19.2973,  36.6825,2,  36.6849,2,    204.3,2, 19.2571,    204.7,2,     0.78,2,     1.37,2,     0.02,2,     0.05,2,    2.348,2,    1.328,2,    0.107,2,    1.013,2,   1.7560,2,    -0.37,2,   -999.0,9,  -999.00,9,   6.967,2,   2087.0,2,    354.0,2,   2395.8,2,   8.0190,2,25,  -999.0,    0.15,  0.0088,   0.035,   0.015
     316N151_4,   A22,    48,  1,     22,     22,2,19970826,1445, 27.5480, -65.9992, 4870, 3163.1,    300.4,  18.4102,  36.5735,2,  36.5753,2,    199.6,2, 18.3571,    198.6,2,     1.17,2,     3.51,2,     0.01,2,     0.17,2,    2.347,6,    1.304,6,    0.027,2,    1.176,2,   1.7602,2,     0.49,2,   -999.0,9,  -999.00,9,   6.972,2,   2094.1,2,    379.0,2,   2388.8,2,   8.0010,2,25,  -999.0,    0.15,  0.0088,   0.035,   0.015
     316N151_4,   A22,    48,  1,     21,     21,2,19970826,1445, 27.5480, -65.9992, 4870, 4147.1,    398.8,  17.9435,  36.5105,2,  36.5104,2,    201.4,2, 17.8742,    201.3,2,     1.46,2,     4.29,2,     0.01,2,     0.22,2,    2.339,2,    1.294,2,    0.033,2,    1.118,2,   1.7841,2,     1.27,2,   -999.0,9,  -999.00,9,   7.059,2,   2096.1,2,    388.0,2,   2386.2,2,   7.9910,2,25,  -999.0,    0.15,  0.0089,   0.035,   0.014
     316N151_4,   A22,    48,  1,     20,     20,2,19970826,1445, 27.5480, -65.9992, 4870, 5148.0,    499.1,  16.7857,  36.3156,2,  36.3142,2,    187.1,2, 16.7026,    182.9,2,     2.51,2,     7.85,2,     0.01,2,     0.44,2,    2.100,2,    1.124,2,    0.022,2,    1.288,2,   1.7828,2,     4.22,2,   -999.0,9,  -999.00,9,   7.076,2,   2117.2,2,   -999.0,9,   2375.3,2,   7.9330,2,25,  -999.0,    0.15,  0.0089,   0.035,   0.014
     316N151_4,   A22,    48,  1,     19,     19,2,19970826,1445, 27.5480, -65.9992, 4870, 6148.8,    599.4,  15.0553,  36.0314,2,  36.0234,2,    179.2,2, 14.9624,    174.5,2,     4.04,2,    11.40,2,     0.01,2,     0.67,2,    1.881,2,    0.985,2,    0.023,2,    1.301,2,   1.7920,2,     6.97,2,   -999.0,9,  -999.00,9,   7.200,2,   2132.8,2,    516.0,2,   2358.1,6,   7.8850,6,25,  -999.0,    0.15,  0.0090,   0.036,   0.014
     316N151_4,   A22,    48,  1,     18,     18,2,19970826,1445, 27.5480, -65.9992, 4870, 7131.1,    698.1,  12.9275,  35.7104,2,  35.7081,2,    169.5,2, 12.8294,    166.9,2,     6.52,2,    15.67,2,     0.00,2,     0.94,2,    1.431,2,    0.729,2,    0.015,2,    1.230,2,   1.8037,2,    10.31,2,   -999.0,9,  -999.00,9,   7.277,2,   2149.4,2,    605.0,2,   2343.6,2,   7.8190,2,25,  -999.0,    0.15,  0.0090,   0.036,   0.014
     316N151_4,   A22,    48,  1,     17,     17,2,19970826,1445, 27.5480, -65.9992, 4870, 8133.4,    798.7,  10.6905,  35.4109,2,  35.4077,2,    154.3,2, 10.5907,    151.4,2,    10.81,2,    21.11,2,     0.00,2,     1.30,2,    0.718,2,    0.380,2,    0.006,2,    0.876,2,   1.8541,2,    10.88,2,   -999.0,9,  -999.00,9,   7.503,2,   2173.0,2,    731.0,2,   2331.3,2,   7.7510,2,25,  -999.0,    0.15,  0.0093,   0.038,   0.015
     316N151_4,   A22,    48,  1,     16,     16,2,19970826,1445, 27.5480, -65.9992, 4870, 9154.7,    901.2,   9.0497,  35.2290,2,  35.2178,2,    149.0,2,  8.9473,    148.6,2,    14.15,2,    24.05,2,     0.00,2,     1.52,2,    0.427,2,    0.234,2,    0.010,2,    0.540,2,   1.8251,2,     8.06,2,   -999.0,9,  -999.00,9,   7.503,2,   2184.9,2,    799.0,2,   2336.3,3,   7.7060,2,25,  -999.0,    0.15,  0.0091,   0.038,   0.012
     316N151_4,   A22,    48,  1,     15,     15,2,19970826,1445, 27.5480, -65.9992, 4870,10144.7,   1000.1,   7.5589,  35.0929,2,  35.0909,2,    155.6,2,  7.4555,    157.2,2,    16.73,2,    25.35,2,     0.01,2,     1.62,2,    0.263,2,    0.145,2,    0.006,2,    0.321,2,   1.8347,2,     6.44,2,   -999.0,9,  -999.00,9,   7.510,2,   2190.4,2,    842.0,2,   2322.0,2,   7.6880,2,25,  -999.0,    0.15,  0.0092,   0.038,   0.011
     316N151_4,   A22,    48,  1,     14,     14,2,19970826,1445, 27.5480, -65.9992, 4870,11142.0,   1100.0,   6.5897,  35.0866,2,  35.0861,2,    178.6,2,  6.4832,    182.3,2,    15.97,2,    23.34,2,     0.00,2,     1.51,2,    0.323,2,    0.169,2,    0.006,2,    0.392,2,   1.8310,2,     6.45,2,   -999.0,9,  -999.00,9,   7.607,2,   2185.3,2,    811.0,2,   2322.8,2,   7.6990,2,25,  -999.0,    0.15,  0.0092,   0.038,   0.013
     316N151_4,   A22,    48,  1,     13,     13,2,19970826,1445, 27.5480, -65.9992, 4870,13144.7,   1300.1,   5.6850,  35.1214,2,  35.1230,2,    218.0,2,  5.5661,    217.9,2,    13.89,2,    20.15,2,     0.00,2,     1.31,2,    0.495,2,    0.252,2,    0.012,2,    0.471,2,   1.8509,2,     7.01,2,   -999.0,9,  -999.00,9,   7.718,2,   -999.0,9,    748.0,2,   2323.2,2,   7.7300,2,25,  -999.0,    0.15,  0.0093,   0.039,   0.012
     316N151_4,   A22,    48,  1,     12,     12,2,19970826,1445, 27.5480, -65.9992, 4870,15157.3,   1501.4,   4.9729,  35.0910,2,  35.0930,2,    237.6,2,  4.8414,    236.3,2,    13.80,2,    19.20,2,     0.00,2,     1.25,2,    0.445,6,    0.230,6,    0.012,2,    0.422,2,   1.8373,2,     3.93,2,   -999.0,9,  -999.00,9,   8.004,2,   -999.0,9,   -999.0,9,   -999.0,9,-999.0000,9,-999,  -999.0,    0.15,  0.0092,   0.040,   0.012
     316N151_4,   A22,    48,  1,     11,     11,2,19970826,1445, 27.5480, -65.9992, 4870,17638.6,   1749.5,   4.1948,  35.0259,2,  35.0277,2,    251.8,2,  4.0487,    252.2,2,    14.38,2,    18.42,2,     0.00,2,     1.21,2,    0.485,2,    0.252,2,    0.015,2,    0.408,2,   1.8412,2,     3.81,2,   -999.0,9,  -999.00,9,   8.164,2,   -999.0,9,   -999.0,9,   -999.0,9,-999.0000,9,-999,  -999.0,    0.15,  0.0092,   0.041,   0.012
     316N151_4,   A22,    48,  1,     10,     10,2,19970826,1445, 27.5480, -65.9992, 4870,20119.4,   1997.4,   3.8190,  35.0107,2,  35.0119,2,    253.6,2,  3.6543,    253.7,2,    17.24,2,    18.62,2,     0.00,2,     1.23,2,    0.185,2,    0.101,2,    0.005,2,    0.164,2,   1.8587,2,     0.96,2,   -999.0,9,  -999.00,9,   8.218,2,   -999.0,9,   -999.0,9,   -999.0,9,-999.0000,9,-999,  -999.0,    0.15,  0.0093,   0.041,   0.011
     316N151_4,   A22,    48,  1,      9,      9,2,19970826,1445, 27.5480, -65.9992, 4870,30146.9,   2999.7,   2.8387,  34.9394,2,  34.9399,2,    257.0,2,  2.5915,    258.0,2,    26.40,2,    19.27,2,     0.00,2,     1.28,2,    0.108,2,    0.058,2,    0.006,2,    0.110,2,   1.8638,2,     1.14,2,   -999.0,9,  -999.00,9,   8.055,2,   -999.0,9,   -999.0,9,   -999.0,9,-999.0000,9,-999,  -999.0,    0.15,  0.0093,   0.040,   0.011
     316N151_4,   A22,    48,  1,      8,      8,2,19970826,1445, 27.5480, -65.9992, 4870,32654.0,   3250.3,   2.6940,  34.9281,2,  34.9293,2,    260.4,2,  2.4237,    261.3,2,    26.50,2,    18.89,2,     0.00,2,     1.27,2,    0.144,2,    0.079,2,    0.008,2, -999.000,9,-999.0000,5,  -999.00,9,   -999.0,9,  -999.00,9,-999.000,9,   -999.0,9,   -999.0,9,   -999.0,9,-999.0000,9,-999,  -999.0, -999.00,-999.0000,-999.000,-999.000
     316N151_4,   A22,    48,  1,      7,      7,2,19970826,1445, 27.5480, -65.9992, 4870,35143.2,   3499.1,   2.5733,  34.9195,2,  34.9189,2,    261.9,2,  2.2792,    262.6,2,    27.75,2,    18.89,2,     0.00,2,     1.27,2,    0.116,2,    0.067,2,    0.003,2,    0.146,2,   1.8644,2,     1.63,2,   -999.0,9,  -999.00,9,   8.245,2,   -999.0,9,   -999.0,9,   -999.0,9,-999.0000,9,-999,  -999.0,    0.15,  0.0093,   0.041,   0.011
     316N151_4,   A22,    48,  1,      6,      6,2,19970826,1445, 27.5480, -65.9992, 4870,37644.5,   3749.1,   2.4441,  34.9119,2,  34.9113,2,    265.3,2,  2.1257,    265.6,2,    27.18,2,    18.52,2,     0.00,2,     1.25,2,    0.181,6,    0.096,6, -999.000,9, -999.000,9,-999.0000,5,  -999.00,9,   -999.0,9,  -999.00,9,-999.000,9,   -999.0,9,   -999.0,9,   -999.0,9,-999.0000,9,-999,  -999.0, -999.00,-999.0000,-999.000,-999.000
     316N151_4,   A22,    48,  1,      5,      5,2,19970826,1445, 27.5480, -65.9992, 4870,40163.0,   4000.8,   2.3626,  34.9045,2,  34.9029,2,    265.0,2,  2.0181,    265.9,2,    28.63,2,    18.55,2,     0.00,2,     1.25,2,    0.181,2,    0.100,2,    0.006,2,    0.205,2,   1.9390,2,     1.49,2,   -999.0,9,  -999.00,9,   8.574,2,   -999.0,9,   -999.0,9,   -999.0,9,-999.0000,9,-999,  -999.0,    0.15,  0.0097,   0.043,   0.011
     316N151_4,   A22,    48,  1,      4,      4,2,19970826,1445, 27.5480, -65.9992, 4870,42639.6,   4248.4,   2.3149,  34.8983,2,  34.8985,2,    265.2,2,  1.9431,    265.3,2,    30.16,2,    18.72,2,     0.00,2,     1.27,2,    0.197,2,    0.112,2,    0.010,2, -999.000,9,-999.0000,5,  -999.00,9,   -999.0,9,  -999.00,9,-999.000,9,   -999.0,9,   -999.0,9,   -999.0,9,-999.0000,9,-999,  -999.0, -999.00,-999.0000,-999.000,-999.000
     316N151_4,   A22,    48,  1,      3,      3,2,19970826,1445, 27.5480, -65.9992, 4870,45180.4,   4502.5,   2.2830,  34.8927,2,  34.8920,2,    263.0,2,  1.8820,    263.7,2,    33.12,2,    19.11,2,     0.00,2,     1.29,2,    0.192,2,    0.113,2,    0.014,2,    0.212,2,   1.9061,2,     2.33,2,   -999.0,9,  -999.00,9,   8.401,2,   -999.0,9,   -999.0,9,   -999.0,9,-999.0000,9,-999,  -999.0,    0.15,  0.0095,   0.042,   0.011
     316N151_4,   A22,    48,  1,      2,      2,2,19970826,1445, 27.5480, -65.9992, 4870,47652.2,   4749.6,   2.2274,  34.8826,2,  34.8831,2,    259.2,2,  1.7983,    259.6,2,    38.46,2,    20.01,2,     0.00,2,     1.35,2,    0.141,2,    0.086,2,    0.011,2, -999.000,9,-999.0000,5,  -999.00,9,   -999.0,9,  -999.00,9,-999.000,9,   -999.0,9,   -999.0,9,   -999.0,9,-999.0000,9,-999,  -999.0, -999.00,-999.0000,-999.000,-999.000
     316N151_4,   A22,    48,  1,      1,      1,2,19970826,1445, 27.5480, -65.9992, 4870,50429.0,   5027.0,   2.2070,  34.8764,2,  34.8750,2,    255.0,2,  1.7441,    258.6,2,    42.00,6,    20.53,6,     0.00,6,     1.39,6,    0.121,2,    0.074,2,    0.010,2,    0.114,2,   1.8948,2,     1.69,2,   -999.0,9,  -999.00,9,   8.374,2,   -999.0,9,   -999.0,9,   -999.0,9,-999.0000,9,-999,  -999.0,    0.15,  0.0095,   0.042,   0.011