BOTTLE,20220629CCHSIOAMB
EXPOCODE,SECT_ID,STNNBR,CASTNO,SAMPNO,BTLNBR,BTLNBR_FLAG_W,DATE,TIME,LATITUDE,LONGITUDE,DEPTH,CTDRAW,CTDPRS,CTDTMP,CTDSAL,CTDSAL_FLAG_W,SALNTY,SALNTY_FLAG_W,CTDOXY,CTDOXY_FLAG_W,THETA,OXYGEN,OXYGEN_FLAG_W,SILCAT,SILCAT_FLAG_W,NITRAT,NITRAT_FLAG_W,NITRIT,NITRIT_FLAG_W,PHSPHT,PHSPHT_FLAG_W,CFC-11,CFC-11_FLAG_W,CFC-12,CFC-12_FLAG_W,CFC113,CFC113_FLAG_W,TRITUM,TRITUM_FLAG_W,HELIUM,HELIUM_FLAG_W,DELHE3,DELHE3_FLAG_W,DELC14,DELC14_FLAG_W,DELC13,DELC13_FLAG_W,NEON,NEON_FLAG_W,TCARBN,TCARBN_FLAG_W,PCO2,PCO2_FLAG_W,ALKALI,ALKALI_FLAG_W,PH,PH_FLAG_W,PH_TMP,C14ERR,DELHER,HELIER,NEONER,TRITER
,,,,,,,,,,,,,DBAR,ITS-90,PSS-78,,PSS-78,,UMOL/KG,,ITS-90,UMOL/KG,,UMOL/KG,,UMOL/KG,,UMOL/KG,,UMOL/KG,,PMOL/KG,,PMOL/KG,,PMOL/KG,,TU,,NMOL/KG,,PERCNT,,/MILLE,,/MILLE,,NMOL/KG,,UMOL/KG,,UATM,,UMOL/KG,,,,DEG C,/MILLE,PERCNT,NMOL/KG,NMOL/KG,TU
     316N151_4,   A22,    69,  1,     32,     32,2,19970901,1453, 39.4995, -66.0003, 4343,  193.1,      3.6,  23.6267,  34.4570,2,  34.4587,2,    187.6,2, 23.6259,    216.9,2,     0.69,2,     0.00,2,     0.00,2,     0.06,2,    2.055,2,    1.199,2,    0.153,2, -999.000,9,-999.0000,5,  -999.00,9,   -999.0,9,  -999.00,9,-999.000,9,   1974.2,2,   -999.0,9,   2283.9,2,   8.0650,2,25,  -999.0, -999.00,-999.0000,-999.000,-999.000
     316N151_4,   A22,    69,  1,     31,     31,2,19970901,1453, 39.4995, -66.0003, 4343,  656.2,     50.5,  17.9317,  35.1180,2,  35.1196,2,    210.5,2, 17.9231,    217.1,2,     2.08,2,     2.38,2,     0.19,2,     0.28,2, -999.000,9, -999.000,9, -999.000,9, -999.000,9,-999.0000,5,  -999.00,9,   -999.0,9,  -999.00,9,-999.000,9,   2060.7,2,   -999.0,9,   2326.4,2,   7.9660,2,25,  -999.0, -999.00,-999.0000,-999.000,-999.000
     316N151_4,   A22,    69,  1,     30,     30,2,19970901,1453, 39.4995, -66.0003, 4343, 1151.2,    100.0,  13.7500,  35.4411,2,  35.4571,2,    193.3,2, 13.7357,    186.2,2,     4.55,2,    11.12,2,     0.02,2,     0.73,2,    2.407,2,    1.307,2,    0.132,2, -999.000,9,-999.0000,5,  -999.00,9,   -999.0,9,  -999.00,9,-999.000,9,   2124.0,2,   -999.0,9,   2335.4,6,   7.8600,2,25,  -999.0, -999.00,-999.0000,-999.000,-999.000
     316N151_4,   A22,    69,  1,     29,     29,2,19970901,1453, 39.4995, -66.0003, 4343, 1672.5,    152.4,  12.7843,  35.5270,2,  35.5273,2,    158.9,2, 12.7635,    163.2,2,     7.11,2,    15.83,2,     0.01,2,     1.00,2,    1.878,2,    1.012,2,    0.080,2, -999.000,9,-999.0000,5,  -999.00,9,   -999.0,9,  -999.00,9,-999.000,9,   2149.3,2,   -999.0,9,   2337.7,2,   7.8050,2,25,  -999.0, -999.00,-999.0000,-999.000,-999.000
     316N151_4,   A22,    69,  1,     28,     28,2,19970901,1453, 39.4995, -66.0003, 4343, 2147.2,    200.1,  11.5120,  35.4287,2,  35.4293,2,    140.2,2, 11.4865,    141.7,2,    10.28,2,    20.67,2,     0.01,2,     1.30,2,    1.268,2,    0.688,2,    0.028,2, -999.000,9,-999.0000,5,  -999.00,9,   -999.0,9,  -999.00,9,-999.000,9,   2173.1,2,   -999.0,9,   2330.3,2,   7.7480,2,25,  -999.0, -999.00,-999.0000,-999.000,-999.000
     316N151_4,   A22,    69,  1,     27,     27,2,19970901,1453, 39.4995, -66.0003, 4343, 2651.2,    250.9,  10.3617,  35.3028,2,  35.3020,2,    136.3,2, 10.3317,    137.1,2,    12.45,2,    23.17,2,     0.01,2,     1.47,2,    0.978,6,    0.528,6, -999.000,9, -999.000,9,-999.0000,5,  -999.00,9,   -999.0,9,  -999.00,9,-999.000,9,   2183.1,2,   -999.0,9,   2326.6,2,   7.7130,2,25,  -999.0, -999.00,-999.0000,-999.000,-999.000
     316N151_4,   A22,    69,  1,     26,     26,2,19970901,1453, 39.4995, -66.0003, 4343, 3123.9,    298.4,   9.3967,  35.2016,2,  35.2038,2,    141.3,2,  9.3632,    138.7,2,    13.93,2,    24.49,2,     0.00,2,     1.56,2,    0.819,2,    0.441,2,    0.025,2, -999.000,9,-999.0000,5,  -999.00,9,   -999.0,9,  -999.00,9,-999.000,9,   2188.3,2,   -999.0,9,   2323.6,2,   7.6960,2,25,  -999.0, -999.00,-999.0000,-999.000,-999.000
     316N151_4,   A22,    69,  1,     25,     25,2,19970901,1453, 39.4995, -66.0003, 4343, 4125.1,    398.7,   7.4967,  35.0797,2,  35.0798,2,    166.0,2,  7.4573,    166.9,2,    14.72,2,    23.63,2,     0.00,2,     1.53,2, -999.000,9, -999.000,9, -999.000,9, -999.000,9,-999.0000,5,  -999.00,9,   -999.0,9,  -999.00,9,-999.000,9,   2185.8,2,   -999.0,9,   2319.0,6,   7.6860,2,25,  -999.0, -999.00,-999.0000,-999.000,-999.000
     316N151_4,   A22,    69,  1,     24,     24,2,19970901,1453, 39.4995, -66.0003, 4343, 5143.4,    500.7,   6.1555,  35.0615,2,  35.0603,2,    194.3,2,  6.1107,    200.4,2,    13.64,2,    21.38,2,     0.00,2,     1.40,2,    1.121,2,    0.575,2,    0.040,2, -999.000,9,-999.0000,5,  -999.00,9,   -999.0,9,  -999.00,9,-999.000,9,   2177.0,2,   -999.0,9,   2320.8,2,   7.7080,2,25,  -999.0, -999.00,-999.0000,-999.000,-999.000
     316N151_4,   A22,    69,  1,     23,     23,2,19970901,1453, 39.4995, -66.0003, 4343, 6117.4,    598.1,   5.2719,  35.0311,2,  35.0310,2,    221.1,2,  5.2220,    225.3,2,    12.85,2,    19.86,2,     0.00,2,     1.31,2, -999.000,9, -999.000,9, -999.000,9, -999.000,9,-999.0000,5,  -999.00,9,   -999.0,9,  -999.00,9,-999.000,9,   2170.9,2,   -999.0,9,   2316.0,2,   7.7200,2,25,  -999.0, -999.00,-999.0000,-999.000,-999.000
     316N151_4,   A22,    69,  1,     22,     22,2,19970901,1453, 39.4995, -66.0003, 4343, 7126.2,    698.9,   4.6905,  35.0014,2,  35.0033,2,    232.5,2,  4.6348,    242.0,2,    12.35,2,    19.00,2,     0.00,2,     1.25,2,    1.671,2,    0.839,2,    0.081,2, -999.000,9,-999.0000,5,  -999.00,9,   -999.0,9,  -999.00,9,-999.000,9,   2166.7,2,   -999.0,9,   2311.6,2,   7.7260,2,25,  -999.0, -999.00,-999.0000,-999.000,-999.000
     316N151_4,   A22,    69,  1,     21,     21,2,19970901,1453, 39.4995, -66.0003, 4343, 8123.4,    798.6,   4.5244,  34.9995,2,  34.9975,2,    244.3,2,  4.4613,    247.0,2,    12.25,2,    18.76,2,     0.00,2,     1.24,2,    1.584,2,    0.799,2,    0.080,2, -999.000,9,-999.0000,5,  -999.00,9,   -999.0,9,  -999.00,9,-999.000,9,   2163.4,2,   -999.0,9,   2312.9,2,   7.7270,2,25,  -999.0, -999.00,-999.0000,-999.000,-999.000
     316N151_4,   A22,    69,  1,     20,     20,2,19970901,1453, 39.4995, -66.0003, 4343, 9149.0,    901.2,   4.3187,  34.9842,2,  34.9814,2,    254.8,2,  4.2482,    253.6,2,    12.06,2,    18.46,2,     0.00,2,     1.22,2,    1.678,2,    0.842,2,    0.090,2, -999.000,9,-999.0000,5,  -999.00,9,   -999.0,9,  -999.00,9,-999.000,9,   2161.8,2,   -999.0,9,   2315.2,2,   7.7330,2,25,  -999.0, -999.00,-999.0000,-999.000,-999.000
     316N151_4,   A22,    69,  1,     19,     19,2,19970901,1453, 39.4995, -66.0003, 4343,10143.8,   1000.5,   4.1640,  34.9726,2,  34.9709,2,    257.8,2,  4.0863,    257.8,2,    12.06,2,    18.26,2,     0.00,2,     1.21,2, -999.000,9, -999.000,9, -999.000,9, -999.000,9,-999.0000,5,  -999.00,9,   -999.0,9,  -999.00,9,-999.000,9,   2159.4,2,   -999.0,9,   2307.7,2,   7.7290,2,25,  -999.0, -999.00,-999.0000,-999.000,-999.000
     316N151_4,   A22,    69,  1,     18,     18,2,19970901,1453, 39.4995, -66.0003, 4343,11146.0,   1100.7,   4.0038,  34.9584,2,  34.9590,2,    261.6,2,  3.9189,    261.8,2,    11.96,2,    18.09,2,     0.00,2,     1.20,2,    1.737,2,    0.865,2,    0.099,2, -999.000,9,-999.0000,5,  -999.00,9,   -999.0,9,  -999.00,9,-999.000,9,   2157.4,2,   -999.0,9,   2310.7,2,   7.7370,2,25,  -999.0, -999.00,-999.0000,-999.000,-999.000
     316N151_4,   A22,    69,  1,     17,     17,2,19970901,1453, 39.4995, -66.0003, 4343,13146.4,   1300.6,   3.7489,  34.9392,2,  34.9400,2,    269.7,2,  3.6491,    267.8,2,    12.16,2,    17.86,2,     0.00,2,     1.19,2,    1.806,2,    0.903,2,    0.099,2, -999.000,9,-999.0000,5,  -999.00,9,   -999.0,9,  -999.00,9,-999.000,9,   2157.5,2,   -999.0,9,   2309.3,2,   7.7350,2,25,  -999.0, -999.00,-999.0000,-999.000,-999.000
     316N151_4,   A22,    69,  1,     16,     16,2,19970901,1453, 39.4995, -66.0003, 4343,15147.5,   1500.6,   3.5860,  34.9291,2,  34.9283,2,    269.6,2,  3.4706,    270.8,2,    12.46,2,    17.77,2,     0.00,2,     1.18,2,    1.824,6,    0.908,6,    0.093,2, -999.000,9,-999.0000,5,  -999.00,9,   -999.0,9,  -999.00,9,-999.000,9,   2155.1,2,   -999.0,9,   2309.2,2,   7.7440,2,25,  -999.0, -999.00,-999.0000,-999.000,-999.000
     316N151_4,   A22,    69,  1,     15,     15,2,19970901,1453, 39.4995, -66.0003, 4343,17150.5,   1700.7,   3.4955,  34.9293,2,  34.9286,2,    270.4,2,  3.3633,    271.3,2,    12.85,2,    17.73,2,     0.00,2,     1.18,2,    1.635,2,    0.822,2,    0.089,2, -999.000,9,-999.0000,5,  -999.00,9,   -999.0,9,  -999.00,9,-999.000,9,   2155.1,2,   -999.0,9,   2307.8,2,   7.7350,2,25,  -999.0, -999.00,-999.0000,-999.000,-999.000
     316N151_4,   A22,    69,  1,     14,     14,2,19970901,1453, 39.4995, -66.0003, 4343,18640.3,   1849.5,   3.4011,  34.9291,2,  34.9301,2,    270.5,2,  3.2565,    271.6,2,    13.54,2,    17.64,2,     0.00,2,     1.18,2,    1.549,2,    0.769,2,    0.083,2, -999.000,9,-999.0000,5,  -999.00,9,   -999.0,9,  -999.00,9,-999.000,9,   2155.9,2,   -999.0,9,   2311.6,2,   7.7460,2,25,  -999.0, -999.00,-999.0000,-999.000,-999.000
     316N151_4,   A22,    69,  1,     13,     13,2,19970901,1453, 39.4995, -66.0003, 4343,20131.9,   1998.6,   3.3709,  34.9389,2,  34.9402,2,    269.3,2,  3.2129,    269.6,2,    14.33,2,    17.73,2,     0.00,2,     1.18,2,    1.174,2,    0.594,2,    0.059,2, -999.000,9,-999.0000,5,  -999.00,9,   -999.0,9,  -999.00,9,-999.000,9,   2156.1,2,   -999.0,9,   2311.0,2,   7.7450,2,25,  -999.0, -999.00,-999.0000,-999.000,-999.000
     316N151_4,   A22,    69,  1,     12,     12,2,19970901,1453, 39.4995, -66.0003, 4343,21641.7,   2149.6,   3.2970,  34.9440,2,  34.9444,2,    267.5,2,  3.1259,    267.8,2,    15.42,2,    17.81,2,     0.00,2,     1.19,2,    0.938,2,    0.464,2,    0.043,2, -999.000,9,-999.0000,5,  -999.00,9,   -999.0,9,  -999.00,9,-999.000,9,   2156.4,2,   -999.0,9,   2313.9,2,   7.7460,2,25,  -999.0, -999.00,-999.0000,-999.000,-999.000
     316N151_4,   A22,    69,  1,     11,     11,2,19970901,1453, 39.4995, -66.0003, 4343,23161.9,   2301.5,   3.1684,  34.9421,2,  34.9423,2,    267.3,2,  2.9849,    267.8,2,    16.41,2,    17.77,2,     0.00,2,     1.19,2,    0.833,2,    0.421,2,    0.035,2, -999.000,9,-999.0000,5,  -999.00,9,   -999.0,9,  -999.00,9,-999.000,9,   2157.8,2,   -999.0,9,   2315.0,2,   7.7450,2,25,  -999.0, -999.00,-999.0000,-999.000,-999.000
     316N151_4,   A22,    69,  1,     10,     10,2,19970901,1453, 39.4995, -66.0003, 4343,24150.2,   2400.4,   3.0641,  34.9382,2,  34.9395,2,    267.6,2,  2.8727,    268.2,2,    16.90,2,    17.73,2,     0.00,2,     1.19,2,    0.836,2,    0.406,2,    0.032,2, -999.000,9,-999.0000,5,  -999.00,9,   -999.0,9,  -999.00,9,-999.000,9,   2157.6,2,   -999.0,9,   2314.5,2,   7.7470,2,25,  -999.0, -999.00,-999.0000,-999.000,-999.000
     316N151_4,   A22,    69,  1,      9,      9,2,19970901,1453, 39.4995, -66.0003, 4343,26154.7,   2600.7,   2.7977,  34.9282,2,  34.9290,2,    269.2,2,  2.5918,    269.6,2,    18.39,2,    17.60,2,     0.00,2,     1.19,2,    0.879,2,    0.443,2,    0.037,2, -999.000,9,-999.0000,5,  -999.00,9,   -999.0,9,  -999.00,9,-999.000,9,   2159.4,2,   -999.0,9,   2319.1,2,   7.7450,2,25,  -999.0, -999.00,-999.0000,-999.000,-999.000
     316N151_4,   A22,    69,  1,      8,      8,2,19970901,1453, 39.4995, -66.0003, 4343,27650.1,   2750.2,   2.6398,  34.9234,2,  34.9240,2,    270.2,2,  2.4221,    269.6,2,    20.17,2,    17.77,2,     0.00,2,     1.20,2,    0.723,6,    0.357,6,    0.031,2, -999.000,9,-999.0000,5,  -999.00,9,   -999.0,9,  -999.00,9,-999.000,9,   2161.2,2,   -999.0,9,   2319.7,2,   7.7470,2,25,  -999.0, -999.00,-999.0000,-999.000,-999.000
     316N151_4,   A22,    69,  1,      7,      7,2,19970901,1453, 39.4995, -66.0003, 4343,30150.9,   3000.3,   2.4392,  34.9122,2,  34.9128,2,    271.4,2,  2.2007,    271.0,2,    21.85,2,    17.77,2,     0.00,2,     1.21,2,    0.810,2,    0.398,2,    0.037,2, -999.000,9,-999.0000,5,  -999.00,9,   -999.0,9,  -999.00,9,-999.000,9,   2162.1,2,   -999.0,9,   2320.0,2,   7.7450,2,25,  -999.0, -999.00,-999.0000,-999.000,-999.000
     316N151_4,   A22,    69,  1,      6,      6,2,19970901,1453, 39.4995, -66.0003, 4343,32653.8,   3250.4,   2.2971,  34.9035,2,  34.9048,2,    270.7,2,  2.0362,    269.9,2,    25.02,2,    18.13,2,     0.00,2,     1.24,2,    0.714,2,    0.355,2,    0.034,2, -999.000,9,-999.0000,5,  -999.00,9,   -999.0,9,  -999.00,9,-999.000,9,   2166.3,2,   -999.0,9,   2323.0,2,   7.7460,2,25,  -999.0, -999.00,-999.0000,-999.000,-999.000
     316N151_4,   A22,    69,  1,      5,      5,2,19970901,1453, 39.4995, -66.0003, 4343,35086.5,   3493.6,   2.2424,  34.8978,2,  34.8979,2,    268.6,2,  1.9571,    268.2,2,    27.10,2,    18.39,2,     0.00,2,     1.25,2,    0.720,2,    0.359,2,    0.037,2, -999.000,9,-999.0000,5,  -999.00,9,   -999.0,9,  -999.00,9,-999.000,9,   2168.8,2,   -999.0,9,   2323.3,2,   7.7440,2,25,  -999.0, -999.00,-999.0000,-999.000,-999.000
     316N151_4,   A22,    69,  1,      4,      4,2,19970901,1453, 39.4995, -66.0003, 4343,37629.4,   3747.8,   2.2146,  34.8938,2,  34.8930,2,    267.7,2,  1.9025,    266.5,2,    29.57,2,    18.71,2,     0.00,2,     1.28,2,    0.634,2,    0.322,2,    0.028,2, -999.000,9,-999.0000,5,  -999.00,9,   -999.0,9,  -999.00,9,-999.000,9,   2171.7,2,   -999.0,9,   2327.9,2,   7.7430,2,25,  -999.0, -999.00,-999.0000,-999.000,-999.000
     316N151_4,   A22,    69,  1,      3,      3,2,19970901,1453, 39.4995, -66.0003, 4343,40151.7,   3999.9,   2.2142,  34.8907,2,  34.8901,2,    266.1,2,  1.8740,    265.6,2,    31.65,2,    19.07,2,     0.00,2,     1.30,2,    0.577,2,    0.293,2,    0.028,2, -999.000,9,-999.0000,5,  -999.00,9,   -999.0,9,  -999.00,9,-999.000,9,   2174.3,2,   -999.0,9,   2328.5,2,   7.7380,2,25,  -999.0, -999.00,-999.0000,-999.000,-999.000
     316N151_4,   A22,    69,  1,      2,      2,2,19970901,1453, 39.4995, -66.0003, 4343,42654.7,   4250.2,   2.2203,  34.8889,2,  34.8879,2,    264.6,2,  1.8512,    264.1,2,    33.62,2,    19.40,2,     0.00,2,     1.33,2,    0.452,2,    0.233,2,    0.023,2, -999.000,9,-999.0000,5,  -999.00,9,   -999.0,9,  -999.00,9,-999.000,9,   2175.7,2,   -999.0,9,   2332.5,2,   7.7430,2,25,  -999.0, -999.00,-999.0000,-999.000,-999.000
     316N151_4,   A22,    69,  1,      1,      1,2,19970901,1453, 39.4995, -66.0003, 4343,44116.9,   4396.1,   2.2110,  34.8856,2,  34.8829,2,    262.0,2,  1.8251,    263.3,2,    35.69,6,    19.70,6,     0.00,6,     1.35,6,    0.407,2,    0.207,2,    0.024,2, -999.000,9,-999.0000,5,  -999.00,9,   -999.0,9,  -999.00,9,-999.000,9,   2180.3,2,   -999.0,9,   2335.0,2,   7.7370,2,25,  -999.0, -999.00,-999.0000,-999.000,-999.000