BOTTLE,20220629CCHSIOAMB
EXPOCODE,SECT_ID,STNNBR,CASTNO,SAMPNO,BTLNBR,BTLNBR_FLAG_W,DATE,TIME,LATITUDE,LONGITUDE,DEPTH,CTDRAW,CTDPRS,CTDTMP,CTDSAL,CTDSAL_FLAG_W,SALNTY,SALNTY_FLAG_W,CTDOXY,CTDOXY_FLAG_W,THETA,OXYGEN,OXYGEN_FLAG_W,SILCAT,SILCAT_FLAG_W,NITRAT,NITRAT_FLAG_W,NITRIT,NITRIT_FLAG_W,PHSPHT,PHSPHT_FLAG_W,CFC-11,CFC-11_FLAG_W,CFC-12,CFC-12_FLAG_W,CFC113,CFC113_FLAG_W,TRITUM,TRITUM_FLAG_W,HELIUM,HELIUM_FLAG_W,DELHE3,DELHE3_FLAG_W,DELC14,DELC14_FLAG_W,DELC13,DELC13_FLAG_W,NEON,NEON_FLAG_W,TCARBN,TCARBN_FLAG_W,PCO2,PCO2_FLAG_W,ALKALI,ALKALI_FLAG_W,PH,PH_FLAG_W,PH_TMP,C14ERR,DELHER,HELIER,NEONER,TRITER
,,,,,,,,,,,,,DBAR,ITS-90,PSS-78,,PSS-78,,UMOL/KG,,ITS-90,UMOL/KG,,UMOL/KG,,UMOL/KG,,UMOL/KG,,UMOL/KG,,PMOL/KG,,PMOL/KG,,PMOL/KG,,TU,,NMOL/KG,,PERCNT,,/MILLE,,/MILLE,,NMOL/KG,,UMOL/KG,,UATM,,UMOL/KG,,,,DEG C,/MILLE,PERCNT,NMOL/KG,NMOL/KG,TU
     316N151_4,   A22,    62,  1,     32,     32,2,19970831,0028, 36.9033, -65.9995, 4984,  188.4,      4.6,  26.0201,  36.0982,2,  36.1024,2,    179.1,2, 26.0190,    210.7,2,     0.33,2,     0.02,2,     0.00,2,     0.01,2,    1.807,2,    1.070,2,    0.153,2, -999.000,9,-999.0000,5,  -999.00,9,   -999.0,9,  -999.00,9,-999.000,9,   -999.0,9,    282.0,2,   -999.0,9,-999.0000,9,-999,  -999.0, -999.00,-999.0000,-999.000,-999.000
     316N151_4,   A22,    62,  1,     31,     31,2,19970831,0028, 36.9033, -65.9995, 4984,  679.7,     53.8,  20.5985,  36.6543,2,  36.6442,2,    230.6,2, 20.5883,    228.9,2,     0.23,2,     0.06,2,     0.00,2,     0.01,2,    2.271,2,    1.302,2,    0.148,2, -999.000,9,-999.0000,5,  -999.00,9,   -999.0,9,  -999.00,9,-999.000,9,   -999.0,9,   -999.0,9,   -999.0,9,-999.0000,9,-999,  -999.0, -999.00,-999.0000,-999.000,-999.000
     316N151_4,   A22,    62,  1,     30,     30,2,19970831,0028, 36.9033, -65.9995, 4984, 1129.5,     98.5,  19.1240,  36.6393,2,  36.6407,2,    213.6,2, 19.1062,    210.5,2,     0.54,2,     0.74,2,     0.21,2,     0.03,2, -999.000,9, -999.000,9, -999.000,9, -999.000,9,-999.0000,5,  -999.00,9,   -999.0,9,  -999.00,9,-999.000,9,   -999.0,9,   -999.0,9,   -999.0,9,-999.0000,9,-999,  -999.0, -999.00,-999.0000,-999.000,-999.000
     316N151_4,   A22,    62,  1,     29,     29,2,19970831,0028, 36.9033, -65.9995, 4984, 1638.5,    149.0,  18.5546,  36.5963,2,  36.5938,2,    207.0,2, 18.5283,    207.1,2,     0.73,2,     2.40,2,     0.02,2,     0.11,2,    2.370,6,    1.329,6,    0.097,2, -999.000,9,-999.0000,5,  -999.00,9,   -999.0,9,  -999.00,9,-999.000,9,   -999.0,9,   -999.0,9,   -999.0,9,-999.0000,9,-999,  -999.0, -999.00,-999.0000,-999.000,-999.000
     316N151_4,   A22,    62,  1,     28,     28,2,19970831,0028, 36.9033, -65.9995, 4984, 2210.6,    205.9,  18.3557,  36.5804,2,  36.5808,2,    208.5,2, 18.3195,    209.0,2,     0.84,2,     2.73,2,     0.01,2,     0.13,2,    2.396,2,    1.344,2,    0.092,2, -999.000,9,-999.0000,5,  -999.00,9,   -999.0,9,  -999.00,9,-999.000,9,   -999.0,9,   -999.0,9,   -999.0,9,-999.0000,9,-999,  -999.0, -999.00,-999.0000,-999.000,-999.000
     316N151_4,   A22,    62,  1,     27,     27,2,19970831,0028, 36.9033, -65.9995, 4984, 2656.3,    250.1,  18.2267,  36.5647,2,  36.5650,2,    211.0,2, 18.1829,    208.6,2,     0.94,2,     2.98,2,     0.01,2,     0.15,2,    2.399,2,    1.345,2,    0.086,2, -999.000,9,-999.0000,5,  -999.00,9,   -999.0,9,  -999.00,9,-999.000,9,   -999.0,9,   -999.0,9,   -999.0,9,-999.0000,9,-999,  -999.0, -999.00,-999.0000,-999.000,-999.000
     316N151_4,   A22,    62,  1,     26,     26,2,19970831,0028, 36.9033, -65.9995, 4984, 3181.6,    302.3,  18.1065,  36.5509,2,  36.5505,2,    210.6,2, 18.0537,    209.1,2,     1.04,2,     3.23,2,     0.01,2,     0.16,2,    2.387,2,    1.338,2,    0.083,2, -999.000,9,-999.0000,5,  -999.00,9,   -999.0,9,  -999.00,9,-999.000,9,   -999.0,9,   -999.0,9,   -999.0,9,-999.0000,9,-999,  -999.0, -999.00,-999.0000,-999.000,-999.000
     316N151_4,   A22,    62,  1,     25,     25,2,19970831,0028, 36.9033, -65.9995, 4984, 4186.7,    402.6,  17.8658,  36.5115,2,  36.5121,2,    208.6,2, 17.7960,    208.2,2,     1.14,2,     3.83,2,     0.01,2,     0.20,2,    2.321,2,    1.283,2,    0.077,2, -999.000,9,-999.0000,5,  -999.00,9,   -999.0,9,  -999.00,9,-999.000,9,   -999.0,9,   -999.0,9,   -999.0,9,-999.0000,9,-999,  -999.0, -999.00,-999.0000,-999.000,-999.000
     316N151_4,   A22,    62,  1,     24,     24,2,19970831,0028, 36.9033, -65.9995, 4984, 5184.5,    502.4,  17.1556,  36.3725,2,  36.3727,2,    194.3,2, 17.0707,    189.7,2,     2.03,2,     6.69,2,     0.01,2,     0.37,2,    2.188,2,    1.186,2,    0.044,2, -999.000,9,-999.0000,5,  -999.00,9,   -999.0,9,  -999.00,9,-999.000,9,   -999.0,9,   -999.0,9,   -999.0,9,-999.0000,9,-999,  -999.0, -999.00,-999.0000,-999.000,-999.000
     316N151_4,   A22,    62,  1,     23,     23,2,19970831,0028, 36.9033, -65.9995, 4984, 6194.9,    603.7,  15.8575,  36.1446,2,  36.1441,2,    181.6,2, 15.7606,    179.4,2,     3.21,2,     9.78,2,     0.01,2,     0.56,2,    1.997,2,    1.064,2,    0.031,2, -999.000,9,-999.0000,5,  -999.00,9,   -999.0,9,  -999.00,9,-999.000,9,   -999.0,9,   -999.0,9,   -999.0,9,-999.0000,9,-999,  -999.0, -999.00,-999.0000,-999.000,-999.000
     316N151_4,   A22,    62,  1,     22,     22,2,19970831,0028, 36.9033, -65.9995, 4984, 7190.0,    703.5,  14.0735,  35.8482,2,  35.8503,2,    170.5,2, 13.9689,    167.7,2,     5.37,2,    13.90,2,     0.00,2,     0.83,2,    1.733,2,    0.926,2,    0.024,2, -999.000,9,-999.0000,5,  -999.00,9,   -999.0,9,  -999.00,9,-999.000,9,   -999.0,9,   -999.0,9,   -999.0,9,-999.0000,9,-999,  -999.0, -999.00,-999.0000,-999.000,-999.000
     316N151_4,   A22,    62,  1,     21,     21,2,19970831,0028, 36.9033, -65.9995, 4984, 8178.9,    802.7,  12.2323,  35.5809,2,  35.5818,2,    158.8,2, 12.1230,    157.7,2,     8.11,2,    17.98,2,     0.00,2,     1.10,2,    1.367,2,    0.719,2,    0.020,2, -999.000,9,-999.0000,5,  -999.00,9,   -999.0,9,  -999.00,9,-999.000,9,   -999.0,9,   -999.0,9,   -999.0,9,-999.0000,9,-999,  -999.0, -999.00,-999.0000,-999.000,-999.000
     316N151_4,   A22,    62,  1,     20,     20,2,19970831,0028, 36.9033, -65.9995, 4984, 9149.4,    900.3,  10.4302,  35.3496,2,  35.3466,2,    150.9,2, 10.3188,    152.7,2,    11.25,2,    21.48,2,     0.00,2,     1.35,2,    1.053,2,    0.552,2,    0.016,2, -999.000,9,-999.0000,5,  -999.00,9,   -999.0,9,  -999.00,9,-999.000,9,   -999.0,9,   -999.0,9,   -999.0,9,-999.0000,9,-999,  -999.0, -999.00,-999.0000,-999.000,-999.000
     316N151_4,   A22,    62,  1,     19,     19,2,19970831,0028, 36.9033, -65.9995, 4984,10156.7,   1001.4,   8.2692,  35.1536,2,  35.1553,2,    163.9,2,  8.1605,    162.5,2,    13.80,2,    23.04,2,     0.00,2,     1.48,2,    0.876,2,    0.438,2,    0.027,2, -999.000,9,-999.0000,5,  -999.00,9,   -999.0,9,  -999.00,9,-999.000,9,   -999.0,9,   -999.0,9,   -999.0,9,-999.0000,9,-999,  -999.0, -999.00,-999.0000,-999.000,-999.000
     316N151_4,   A22,    62,  1,     18,     18,2,19970831,0028, 36.9033, -65.9995, 4984,11173.4,   1103.2,   6.6138,  35.1012,2,  35.0966,2,    193.9,2,  6.5067,    196.4,2,    13.33,2,    21.13,2,     0.00,2,     1.37,2,    1.125,6,    0.563,6,    0.047,2, -999.000,9,-999.0000,5,  -999.00,9,   -999.0,9,  -999.00,9,-999.000,9,   -999.0,9,   -999.0,9,   -999.0,9,-999.0000,9,-999,  -999.0, -999.00,-999.0000,-999.000,-999.000
     316N151_4,   A22,    62,  1,     17,     17,2,19970831,0028, 36.9033, -65.9995, 4984,13156.6,   1301.6,   4.9831,  35.0175,2,  35.0172,2,    234.0,2,  4.8709,    235.0,2,    12.45,2,    19.21,2,     0.00,2,     1.26,2,    1.539,2,    0.746,2,    0.075,2, -999.000,9,-999.0000,5,  -999.00,9,   -999.0,9,  -999.00,9,-999.000,9,   -999.0,9,   -999.0,9,   -999.0,9,-999.0000,9,-999,  -999.0, -999.00,-999.0000,-999.000,-999.000
     316N151_4,   A22,    62,  1,     16,     16,2,19970831,0028, 36.9033, -65.9995, 4984,15116.4,   1497.5,   4.4458,  34.9953,2,  34.9963,2,    251.3,2,  4.3208,    251.9,2,    12.06,2,    18.39,2,     0.00,2,     1.21,2,    1.535,2,    0.749,2,    0.079,2, -999.000,9,-999.0000,5,  -999.00,9,   -999.0,9,  -999.00,9,-999.000,9,   -999.0,9,   -999.0,9,   -999.0,9,-999.0000,9,-999,  -999.0, -999.00,-999.0000,-999.000,-999.000
     316N151_4,   A22,    62,  1,     15,     15,2,19970831,0028, 36.9033, -65.9995, 4984,17609.1,   1746.7,   4.0423,  34.9708,2,  34.9694,2,    262.1,2,  3.8987,    262.3,2,    12.16,2,    17.96,2,     0.00,2,     1.18,2,    1.442,6,    0.709,6,    0.062,2, -999.000,9,-999.0000,5,  -999.00,9,   -999.0,9,  -999.00,9,-999.000,9,   -999.0,9,   -999.0,9,   -999.0,9,-999.0000,9,-999,  -999.0, -999.00,-999.0000,-999.000,-999.000
     316N151_4,   A22,    62,  1,     14,     14,2,19970831,0028, 36.9033, -65.9995, 4984,20142.5,   1999.8,   3.7805,  34.9534,2,  34.9519,2,    268.1,2,  3.6163,    266.5,2,    12.56,2,    17.75,2,     0.00,2,     1.17,2,    1.395,2,    0.685,2,    0.071,2, -999.000,9,-999.0000,5,  -999.00,9,   -999.0,9,  -999.00,9,-999.000,9,   -999.0,9,   -999.0,9,   -999.0,9,-999.0000,9,-999,  -999.0, -999.00,-999.0000,-999.000,-999.000
     316N151_4,   A22,    62,  1,     13,     13,2,19970831,0028, 36.9033, -65.9995, 4984,22621.6,   2247.5,   3.5722,  34.9419,2,  34.9421,2,    267.9,2,  3.3872,    271.0,2,    13.25,2,    17.62,2,     0.00,2,     1.17,2,    1.352,2,    0.650,2,    0.067,2, -999.000,9,-999.0000,5,  -999.00,9,   -999.0,9,  -999.00,9,-999.000,9,   -999.0,9,   -999.0,9,   -999.0,9,-999.0000,9,-999,  -999.0, -999.00,-999.0000,-999.000,-999.000
     316N151_4,   A22,    62,  1,     12,     12,2,19970831,0028, 36.9033, -65.9995, 4984,25108.6,   2496.0,   3.4865,  34.9570,2,  34.9560,2,    265.3,2,  3.2780,    265.7,2,    15.11,2,    17.83,2,     0.00,2,     1.18,2,    0.772,2,    0.386,2,    0.033,2, -999.000,9,-999.0000,5,  -999.00,9,   -999.0,9,  -999.00,9,-999.000,9,   -999.0,9,   -999.0,9,   -999.0,9,-999.0000,9,-999,  -999.0, -999.00,-999.0000,-999.000,-999.000
     316N151_4,   A22,    62,  1,     11,     11,2,19970831,0028, 36.9033, -65.9995, 4984,27644.5,   2749.5,   3.3278,  34.9582,2,  34.9583,2,    263.3,2,  3.0964,    263.3,2,    17.27,2,    18.03,2,     0.00,2,     1.20,2,    0.458,2,    0.237,2,    0.016,2, -999.000,9,-999.0000,5,  -999.00,9,   -999.0,9,  -999.00,9,-999.000,9,   -999.0,9,   -999.0,9,   -999.0,9,-999.0000,9,-999,  -999.0, -999.00,-999.0000,-999.000,-999.000
     316N151_4,   A22,    62,  1,     10,     10,2,19970831,0028, 36.9033, -65.9995, 4984,30168.2,   3001.8,   3.1055,  34.9499,2,  34.9502,2,    263.6,2,  2.8522,    263.3,2,    19.63,2,    18.20,2,     0.00,2,     1.22,2,    0.362,2,    0.186,2,    0.015,2, -999.000,9,-999.0000,5,  -999.00,9,   -999.0,9,  -999.00,9,-999.000,9,   -999.0,9,   -999.0,9,   -999.0,9,-999.0000,9,-999,  -999.0, -999.00,-999.0000,-999.000,-999.000
     316N151_4,   A22,    62,  1,      9,      9,2,19970831,0028, 36.9033, -65.9995, 4984,32620.1,   3246.9,   2.8859,  34.9373,2,  34.9377,2,    265.2,2,  2.6115,    265.0,2,    21.10,2,    18.15,2,     0.00,2,     1.22,2,    0.359,2,    0.179,2,    0.011,2, -999.000,9,-999.0000,5,  -999.00,9,   -999.0,9,  -999.00,9,-999.000,9,   -999.0,9,   -999.0,9,   -999.0,9,-999.0000,9,-999,  -999.0, -999.00,-999.0000,-999.000,-999.000
     316N151_4,   A22,    62,  1,      8,      8,2,19970831,0028, 36.9033, -65.9995, 4984,35151.1,   3500.0,   2.6595,  34.9241,2,  34.9227,2,    267.0,2,  2.3630,    267.6,2,    22.28,2,    18.00,2,     0.00,2,     1.21,2,    0.428,2,    0.215,2,    0.018,2, -999.000,9,-999.0000,5,  -999.00,9,   -999.0,9,  -999.00,9,-999.000,9,   -999.0,9,   -999.0,9,   -999.0,9,-999.0000,9,-999,  -999.0, -999.00,-999.0000,-999.000,-999.000
     316N151_4,   A22,    62,  1,      7,      7,2,19970831,0028, 36.9033, -65.9995, 4984,37645.8,   3749.3,   2.4823,  34.9126,2,  34.9127,2,    267.6,2,  2.1629,    267.8,2,    24.45,2,    18.11,2,     0.00,2,     1.22,2,    0.459,2,    0.227,2,    0.017,2, -999.000,9,-999.0000,5,  -999.00,9,   -999.0,9,  -999.00,9,-999.000,9,   -999.0,9,   -999.0,9,   -999.0,9,-999.0000,9,-999,  -999.0, -999.00,-999.0000,-999.000,-999.000
     316N151_4,   A22,    62,  1,      6,      6,2,19970831,0028, 36.9033, -65.9995, 4984,40153.2,   3999.9,   2.3589,  34.9040,2,  34.9027,2,    267.4,2,  2.0146,    267.3,2,    27.00,2,    18.36,2,     0.00,2,     1.24,2,    0.477,2,    0.244,2,    0.022,2, -999.000,9,-999.0000,5,  -999.00,9,   -999.0,9,  -999.00,9,-999.000,9,   -999.0,9,   -999.0,9,   -999.0,9,-999.0000,9,-999,  -999.0, -999.00,-999.0000,-999.000,-999.000
     316N151_4,   A22,    62,  1,      5,      5,2,19970831,0028, 36.9033, -65.9995, 4984,42652.6,   4249.8,   2.3102,  34.8981,2,  34.8972,2,    266.0,2,  1.9385,    266.0,2,    29.35,2,    18.65,2,     0.00,2,     1.26,2,    0.466,2,    0.237,2,    0.020,2, -999.000,9,-999.0000,5,  -999.00,9,   -999.0,9,  -999.00,9,-999.000,9,   -999.0,9,   -999.0,9,   -999.0,9,-999.0000,9,-999,  -999.0, -999.00,-999.0000,-999.000,-999.000
     316N151_4,   A22,    62,  1,      4,      4,2,19970831,0028, 36.9033, -65.9995, 4984,45184.4,   4502.9,   2.2837,  34.8927,2,  34.8919,2,    264.3,2,  1.8827,    263.9,2,    31.91,2,    19.01,2,     0.00,2,     1.29,2,    0.423,2,    0.217,2,    0.019,2, -999.000,9,-999.0000,5,  -999.00,9,   -999.0,9,  -999.00,9,-999.000,9,   -999.0,9,   -999.0,9,   -999.0,9,-999.0000,9,-999,  -999.0, -999.00,-999.0000,-999.000,-999.000
     316N151_4,   A22,    62,  1,      3,      3,2,19970831,0028, 36.9033, -65.9995, 4984,47676.3,   4752.0,   2.2774,  34.8898,2,  34.8876,2,    262.3,2,  1.8464,    262.5,2,    34.26,2,    19.37,2,     0.00,2,     1.32,2,    0.367,2,    0.192,2,    0.017,2, -999.000,9,-999.0000,5,  -999.00,9,   -999.0,9,  -999.00,9,-999.000,9,   -999.0,9,   -999.0,9,   -999.0,9,-999.0000,9,-999,  -999.0, -999.00,-999.0000,-999.000,-999.000
     316N151_4,   A22,    62,  1,      2,      2,2,19970831,0028, 36.9033, -65.9995, 4984,50168.2,   5001.1,   2.2811,  34.8862,2,  34.8852,2,    260.6,2,  1.8189,    260.7,2,    36.33,2,    19.74,2,     0.00,2,     1.34,2,    0.322,2,    0.170,2,    0.020,2, -999.000,9,-999.0000,5,  -999.00,9,   -999.0,9,  -999.00,9,-999.000,9,   -999.0,9,   -999.0,9,   -999.0,9,-999.0000,9,-999,  -999.0, -999.00,-999.0000,-999.000,-999.000
     316N151_4,   A22,    62,  1,      1,      1,2,19970831,0028, 36.9033, -65.9995, 4984,51251.2,   5109.4,   2.2534,  34.8802,2,  34.8780,2,    259.0,2,  1.7785,    257.9,2,    39.85,6,    20.29,6,     0.00,6,     1.38,6,    0.228,2,    0.132,2,    0.022,2, -999.000,9,-999.0000,5,  -999.00,9,   -999.0,9,  -999.00,9,-999.000,9,   -999.0,9,   -999.0,9,   -999.0,9,-999.0000,9,-999,  -999.0, -999.00,-999.0000,-999.000,-999.000