BOTTLE,20220629CCHSIOAMB
EXPOCODE,SECT_ID,STNNBR,CASTNO,SAMPNO,BTLNBR,BTLNBR_FLAG_W,DATE,TIME,LATITUDE,LONGITUDE,DEPTH,CTDRAW,CTDPRS,CTDTMP,CTDSAL,CTDSAL_FLAG_W,SALNTY,SALNTY_FLAG_W,CTDOXY,CTDOXY_FLAG_W,THETA,OXYGEN,OXYGEN_FLAG_W,SILCAT,SILCAT_FLAG_W,NITRAT,NITRAT_FLAG_W,NITRIT,NITRIT_FLAG_W,PHSPHT,PHSPHT_FLAG_W,CFC-11,CFC-11_FLAG_W,CFC-12,CFC-12_FLAG_W,CFC113,CFC113_FLAG_W,TRITUM,TRITUM_FLAG_W,HELIUM,HELIUM_FLAG_W,DELHE3,DELHE3_FLAG_W,DELC14,DELC14_FLAG_W,DELC13,DELC13_FLAG_W,NEON,NEON_FLAG_W,TCARBN,TCARBN_FLAG_W,PCO2,PCO2_FLAG_W,ALKALI,ALKALI_FLAG_W,PH,PH_FLAG_W,PH_TMP,C14ERR,DELHER,HELIER,NEONER,TRITER
,,,,,,,,,,,,,DBAR,ITS-90,PSS-78,,PSS-78,,UMOL/KG,,ITS-90,UMOL/KG,,UMOL/KG,,UMOL/KG,,UMOL/KG,,UMOL/KG,,PMOL/KG,,PMOL/KG,,PMOL/KG,,TU,,NMOL/KG,,PERCNT,,/MILLE,,/MILLE,,NMOL/KG,,UMOL/KG,,UATM,,UMOL/KG,,,,DEG C,/MILLE,PERCNT,NMOL/KG,NMOL/KG,TU
     316N151_4,   A22,    43,  1,     33,     33,2,19970825,0424, 24.2042, -66.0003, 5329,  219.6,      6.6,  29.0126,  36.5780,2,  36.5862,2,    181.9,2, 29.0110,    204.3,2,     1.11,2,     0.05,2,     0.00,2,     0.01,2,    1.626,2,    0.970,2,    0.126,2,    0.916,2,   1.7281,2,    -2.10,2,   -999.0,9,  -999.00,9,   6.785,2,   -999.0,9,    262.0,2,   2388.5,2,   8.1210,2,25,  -999.0,    0.15,  0.0086,   0.034,   0.014
     316N151_4,   A22,    43,  1,     32,     32,2,19970825,0424, 24.2042, -66.0003, 5329,  677.4,     52.8,  25.4127,  36.8293,2,  36.8239,2,    237.5,2, 25.4011,    226.1,2,     0.81,2,     0.01,2,     0.00,2,     0.01,2,    2.009,2,    1.163,2,    0.152,2, -999.000,9,-999.0000,5,  -999.00,9,   -999.0,9,  -999.00,9,-999.000,9,   -999.0,9,   -999.0,9,   -999.0,9,-999.0000,9,-999,  -999.0, -999.00,-999.0000,-999.000,-999.000
     316N151_4,   A22,    43,  1,     31,     31,2,19970825,0424, 24.2042, -66.0003, 5329, 1155.3,    100.6,  22.4196,  36.8884,2,  36.8933,2,    224.8,2, 22.3993,    225.9,2,     0.71,2,     0.00,2,     0.00,2,     0.01,2,    2.162,2,    1.240,2,    0.147,2,    1.024,2,   1.7386,2,    -2.43,2,   -999.0,9,  -999.00,9,   6.955,2,   -999.0,9,   -999.0,9,   -999.0,9,-999.0000,9,-999,  -999.0,    0.15,  0.0087,   0.035,   0.013
     316N151_4,   A22,    43,  1,     30,     30,2,19970825,0424, 24.2042, -66.0003, 5329, 1653.9,    150.3,  20.3125,  36.7827,2,  36.7839,2,    203.4,2, 20.2841,    213.4,2,     0.71,2,     0.13,2,     0.11,2,     0.01,2,    2.287,2,    1.295,2,    0.134,2,    1.063,2,   1.7425,2,    -2.04,2,   -999.0,9,  -999.00,9,   7.135,2,   -999.0,9,   -999.0,9,   -999.0,9,-999.0000,9,-999,  -999.0,    0.15,  0.0087,   0.036,   0.014
     316N151_4,   A22,    43,  1,     29,     29,2,19970825,0424, 24.2042, -66.0003, 5329, 2177.6,    202.2,  19.3229,  36.6997,2,  36.7015,2,    197.4,2, 19.2860,    189.8,2,     1.01,2,     2.39,2,     0.02,2,     0.09,2,    2.309,2,    1.289,2,    0.050,2,    1.083,2,   1.7688,2,    -1.42,2,   -999.0,9,  -999.00,9,   7.284,2,   -999.0,9,   -999.0,9,   -999.0,9,-999.0000,9,-999,  -999.0,    0.15,  0.0088,   0.036,   0.014
     316N151_4,   A22,    43,  1,     28,     28,2,19970825,0424, 24.2042, -66.0003, 5329, 2676.7,    251.9,  18.5889,  36.6022,2,  36.6084,2,    201.2,2, 18.5441,    195.4,2,     1.21,2,     3.38,2,     0.01,2,     0.15,2,    2.363,6,    1.323,6,    0.028,2,    1.115,2,   1.7625,2,    -0.93,2,   -999.0,9,  -999.00,9,   7.293,2,   -999.0,9,   -999.0,9,   -999.0,9,-999.0000,9,-999,  -999.0,    0.15,  0.0088,   0.036,   0.016
     316N151_4,   A22,    43,  1,     27,     27,2,19970825,0424, 24.2042, -66.0003, 5329, 3160.1,    300.0,  18.2678,  36.5551,2,  36.5609,2,    200.8,2, 18.2151,    200.1,2,     1.32,2,     3.66,2,     0.01,2,     0.17,2,    2.362,2,    1.318,2,    0.024,2,    1.100,2,   1.7506,2,    -1.09,2,   -999.0,9,  -999.00,9,   7.275,2,   -999.0,9,   -999.0,9,   -999.0,9,-999.0000,9,-999,  -999.0,    0.15,  0.0088,   0.036,   0.013
     316N151_4,   A22,    43,  1,     26,     26,2,19970825,0424, 24.2042, -66.0003, 5329, 4180.3,    401.9,  17.6124,  36.4527,2,  36.4550,2,    191.8,2, 17.5435,    193.3,2,     1.81,2,     5.51,2,     0.01,2,     0.29,2,    2.239,2,    1.232,2,    0.027,2,    1.215,2,   1.7713,2,     1.01,2,   -999.0,9,  -999.00,9,   7.386,2,   -999.0,9,   -999.0,9,   -999.0,9,-999.0000,9,-999,  -999.0,    0.15,  0.0089,   0.037,   0.014
     316N151_4,   A22,    43,  1,     25,     25,2,19970825,0424, 24.2042, -66.0003, 5329, 5035.0,    487.7,  16.2997,  36.2282,2,  36.2327,2,    182.8,2, 16.2202,    182.3,2,     2.92,2,     8.58,2,     0.00,2,     0.49,2,    2.087,2,    1.120,2,    0.025,2, -999.000,9,   1.7685,2,     3.58,2,   -999.0,9,  -999.00,9,   7.324,2,   -999.0,9,   -999.0,9,   -999.0,9,-999.0000,9,-999,  -999.0,    0.15,  0.0088,   0.037,-999.000
     316N151_4,   A22,    43,  1,     24,     24,2,19970825,0424, 24.2042, -66.0003, 5329, 6134.5,    598.2,  13.9807,  35.8526,2,  35.8571,2,    173.3,2, 13.8925,    172.0,2,     5.32,2,    13.33,2,     0.00,2,     0.80,2,    1.716,2,    0.907,2,    0.022,2,    1.275,2,-999.0000,5,  -999.00,9,   -999.0,9,  -999.00,9,-999.000,9,   -999.0,9,   -999.0,9,   -999.0,9,-999.0000,9,-999,  -999.0, -999.00,-999.0000,-999.000,   0.014
     316N151_4,   A22,    43,  1,     23,     23,2,19970825,0424, 24.2042, -66.0003, 5329, 7156.9,    700.9,  11.5111,  35.5058,2,  35.5074,2,    153.1,2, 11.4198,    157.1,2,     9.22,2,    18.97,2,     0.00,2,     1.18,2,    1.090,2,    0.574,2,    0.015,2,    0.986,2,   1.8060,2,     7.47,2,   -999.0,9,  -999.00,9,   7.623,2,   -999.0,9,   -999.0,9,   -999.0,9,-999.0000,9,-999,  -999.0,    0.15,  0.0090,   0.038,   0.013
     316N151_4,   A22,    43,  1,     22,     22,2,19970825,0424, 24.2042, -66.0003, 5329, 8127.5,    798.3,   9.4345,  35.2542,2,  35.2561,2,    148.4,2,  9.3421,    149.3,2,    13.32,2,    23.20,2,     0.00,2,     1.47,2,    0.570,2,    0.308,2,    0.010,2,    0.630,2,   1.7990,2,     5.96,2,   -999.0,9,  -999.00,9,   7.655,2,   -999.0,9,   -999.0,9,   -999.0,9,-999.0000,9,-999,  -999.0,    0.15,  0.0090,   0.038,   0.012
     316N151_4,   A22,    43,  1,     21,     21,2,19970825,0424, 24.2042, -66.0003, 5329, 9107.3,    896.4,   7.7035,  35.1048,2,  35.0972,2,    153.4,2,  7.6105,    155.4,2,    16.63,2,    25.19,2,     0.00,2,     1.63,2,    0.312,2,    0.170,2,    0.008,2,    0.378,2,   1.8225,2,     3.99,2,   -999.0,9,  -999.00,9,   7.791,2,   -999.0,9,   -999.0,9,   -999.0,9,-999.0000,9,-999,  -999.0,    0.15,  0.0091,   0.039,   0.011
     316N151_4,   A22,    43,  1,     20,     20,2,19970825,0424, 24.2042, -66.0003, 5329,10129.4,    998.6,   6.6175,  35.0623,2,  35.0620,2,    178.0,2,  6.5212,    176.9,2,    16.63,2,    23.96,2,     0.00,2,     1.57,2,    0.318,2,    0.169,2,    0.000,2,    0.364,2,   1.8171,2,     3.97,2,   -999.0,9,  -999.00,9,   7.895,2,   -999.0,9,   -999.0,9,   -999.0,9,-999.0000,9,-999,  -999.0,    0.15,  0.0091,   0.039,   0.011
     316N151_4,   A22,    43,  1,     19,     19,2,19970825,0424, 24.2042, -66.0003, 5329,11158.8,   1101.6,   5.9373,  35.0817,2,  35.0831,2,    202.8,2,  5.8360,    204.0,2,    14.83,2,    21.43,2,     0.00,2,     1.41,2,    0.448,2,    0.232,2,    0.009,2,    0.441,2,   1.8253,2,     4.56,2,   -999.0,9,  -999.00,9,   7.928,2,   -999.0,9,   -999.0,9,   -999.0,9,-999.0000,9,-999,  -999.0,    0.15,  0.0091,   0.040,   0.012
     316N151_4,   A22,    43,  1,     18,     18,2,19970825,0424, 24.2042, -66.0003, 5329,13141.0,   1299.9,   4.9571,  35.0584,2,  35.0594,2,    234.3,2,  4.8452,    236.0,2,    13.33,2,    19.17,2,     0.00,2,     1.27,2,    0.599,6,    0.308,6,    0.013,2, -999.000,9,   1.8315,2,     4.54,2,   -999.0,9,  -999.00,9,   8.028,2,   -999.0,9,   -999.0,9,   -999.0,9,-999.0000,9,-999,  -999.0,    0.15,  0.0092,   0.040,-999.000
     316N151_4,   A22,    43,  1,     17,     17,2,19970825,0424, 24.2042, -66.0003, 5329,15139.6,   1499.6,   4.3655,  35.0235,2,  35.0222,2,    251.4,2,  4.2411,    250.9,2,    13.43,2,    18.45,2,     0.00,2,     1.22,2,    0.628,2,    0.317,2,    0.019,2, -999.000,9,   1.8336,2,     4.75,2,   -999.0,9,  -999.00,9,   8.171,2,   -999.0,9,   -999.0,9,   -999.0,9,-999.0000,9,-999,  -999.0,    0.15,  0.0092,   0.041,-999.000
     316N151_4,   A22,    43,  1,     16,     16,2,19970825,0424, 24.2042, -66.0003, 5329,17642.6,   1749.9,   3.9010,  35.0030,2,  35.0019,2,    256.0,2,  3.7588,    256.0,2,    15.23,2,    18.37,2,     0.00,2,     1.22,2,    0.250,2,    0.130,2,    0.008,2,    0.256,2,   1.8523,2,     1.83,2,   -999.0,9,  -999.00,9,   8.225,2,   -999.0,9,   -999.0,9,   -999.0,9,-999.0000,9,-999,  -999.0,    0.15,  0.0093,   0.041,   0.011
     316N151_4,   A22,    43,  1,     15,     15,2,19970825,0424, 24.2042, -66.0003, 5329,20154.6,   2000.9,   3.5778,  34.9875,2,  34.9890,2,    257.9,2,  3.4164,    257.3,2,    17.63,2,    18.41,2,     0.00,2,     1.24,2,    0.186,2,    0.101,2,    0.008,2,    0.168,2,   1.8729,2,     1.28,2,   -999.0,9,  -999.00,9,   8.225,2,   -999.0,9,   -999.0,9,   -999.0,9,-999.0000,9,-999,  -999.0,    0.15,  0.0094,   0.041,   0.011
     316N151_4,   A22,    43,  1,     14,     14,2,19970825,0424, 24.2042, -66.0003, 5329,22641.8,   2249.5,   3.3216,  34.9775,2,  34.9780,2,    256.1,2,  3.1404,    256.2,2,    21.64,2,    18.96,2,     0.00,2,     1.28,2,    0.081,2,    0.043,2,    0.004,2, -999.000,9,-999.0000,5,  -999.00,9,   -999.0,9,  -999.00,9,-999.000,9,   -999.0,9,   -999.0,9,   -999.0,9,-999.0000,9,-999,  -999.0, -999.00,-999.0000,-999.000,-999.000
     316N151_4,   A22,    43,  1,     13,     13,2,19970825,0424, 24.2042, -66.0003, 5329,25155.5,   2500.7,   3.0766,  34.9602,2,  34.9605,2,    253.1,2,  2.8750,    254.8,2,    25.14,2,    19.36,2,     0.00,2,     1.30,2,    0.069,2,    0.040,2,    0.003,2,    0.080,2,   1.8507,2,     1.09,2,   -999.0,9,  -999.00,9,   8.240,2,   -999.0,9,   -999.0,9,   -999.0,9,-999.0000,9,-999,  -999.0,    0.15,  0.0093,   0.041,   0.011
     316N151_4,   A22,    43,  1,     12,     12,2,19970825,0424, 24.2042, -66.0003, 5329,27552.1,   2740.3,   2.8915,  34.9452,2,  34.9477,2,    256.5,2,  2.6697,    256.2,2,    26.74,2,    19.31,2,     0.00,2,     1.31,2,    0.077,2,    0.042,2,    0.002,2, -999.000,9,-999.0000,5,  -999.00,9,   -999.0,9,  -999.00,9,-999.000,9,   -999.0,9,   -999.0,9,   -999.0,9,-999.0000,9,-999,  -999.0, -999.00,-999.0000,-999.000,-999.000
     316N151_4,   A22,    43,  1,     11,     11,2,19970825,0424, 24.2042, -66.0003, 5329,30169.5,   3001.9,   2.7256,  34.9330,2,  34.9349,2,    258.4,2,  2.4806,    258.4,2,    28.15,2,    19.31,2,     0.00,2,     1.31,2,    0.101,6,    0.054,6,    0.003,2,    0.105,2,   1.8705,2,     1.48,2,   -999.0,9,  -999.00,9,   8.369,2,   -999.0,9,   -999.0,9,   -999.0,9,-999.0000,9,-999,  -999.0,    0.15,  0.0094,   0.042,   0.011
     316N151_4,   A22,    43,  1,     10,     10,2,19970825,0424, 24.2042, -66.0003, 5329,32658.2,   3250.7,   2.5782,  34.9218,2,  34.9221,2,    260.6,2,  2.3105,    260.5,2,    29.25,2,    19.24,2,     0.00,2,     1.30,2,    0.116,2,    0.064,2,    0.004,2, -999.000,9,-999.0000,5,  -999.00,9,   -999.0,9,  -999.00,9,-999.000,9,   -999.0,9,   -999.0,9,   -999.0,9,-999.0000,9,-999,  -999.0, -999.00,-999.0000,-999.000,-999.000
     316N151_4,   A22,    43,  1,      9,      9,2,19970825,0424, 24.2042, -66.0003, 5329,35156.7,   3500.4,   2.4598,  34.9129,2,  34.9137,2,    263.3,2,  2.1683,    262.2,2,    29.46,2,    19.03,2,     0.00,2,     1.30,2,    0.148,2,    0.079,2,    0.007,2,    0.141,2,   1.8650,2,     1.29,2,   -999.0,9,  -999.00,9,   8.312,2,   -999.0,9,   -999.0,9,   -999.0,9,-999.0000,9,-999,  -999.0,    0.15,  0.0093,   0.042,   0.011
     316N151_4,   A22,    43,  1,      8,      8,2,19970825,0424, 24.2042, -66.0003, 5329,37682.6,   3752.8,   2.3587,  34.9056,2,  34.9068,2,    264.6,2,  2.0422,    264.7,2,    29.65,2,    18.80,2,     0.00,2,     1.28,2,    0.172,2,    0.096,2,    0.010,2, -999.000,9,-999.0000,5,  -999.00,9,   -999.0,9,  -999.00,9,-999.000,9,   -999.0,9,   -999.0,9,   -999.0,9,-999.0000,9,-999,  -999.0, -999.00,-999.0000,-999.000,-999.000
     316N151_4,   A22,    43,  1,      7,      7,2,19970825,0424, 24.2042, -66.0003, 5329,40186.0,   4003.1,   2.3068,  34.8999,2,  34.9005,2,    263.5,2,  1.9636,    263.6,2,    31.76,2,    19.07,2,     0.00,2,     1.30,2,    0.159,2,    0.085,2,    0.007,2,    0.149,2,   1.8759,2,     1.66,2,   -999.0,9,  -999.00,9,   8.215,2,   -999.0,9,   -999.0,9,   -999.0,9,-999.0000,9,-999,  -999.0,    0.15,  0.0094,   0.041,   0.011
     316N151_4,   A22,    43,  1,      6,      6,2,19970825,0424, 24.2042, -66.0003, 5329,42694.8,   4253.8,   2.2797,  34.8956,2,  34.8960,2,    263.0,2,  1.9083,    263.3,2,    33.16,2,    19.23,2,     0.00,2,     1.31,2,    0.160,2,    0.091,2,    0.009,2, -999.000,9,-999.0000,5,  -999.00,9,   -999.0,9,  -999.00,9,-999.000,9,   -999.0,9,   -999.0,9,   -999.0,9,-999.0000,9,-999,  -999.0, -999.00,-999.0000,-999.000,-999.000
     316N151_4,   A22,    43,  1,      5,      5,2,19970825,0424, 24.2042, -66.0003, 5329,45159.2,   4500.1,   2.2588,  34.8906,2,  34.8909,2,    261.6,2,  1.8590,    261.9,2,    35.17,2,    19.50,2,     0.00,2,     1.33,2,    0.148,2,    0.085,2,    0.009,2, -999.000,9,-999.0000,5,  -999.00,9,   -999.0,9,  -999.00,9,-999.000,9,   -999.0,9,   -999.0,9,   -999.0,9,-999.0000,9,-999,  -999.0, -999.00,-999.0000,-999.000,-999.000
     316N151_4,   A22,    43,  1,      4,      4,2,19970825,0424, 24.2042, -66.0003, 5329,47635.2,   4747.6,   2.2011,  34.8799,2,  34.8818,2,    258.1,2,  1.7731,    258.0,2,    40.97,2,    20.45,2,     0.00,2,     1.40,2,    0.090,2,    0.056,2,    0.011,2, -999.000,9,-999.0000,5,  -999.00,9,   -999.0,9,  -999.00,9,-999.000,9,   -999.0,9,   -999.0,9,   -999.0,9,-999.0000,9,-999,  -999.0, -999.00,-999.0000,-999.000,-999.000
     316N151_4,   A22,    43,  1,      3,      3,2,19970825,0424, 24.2042, -66.0003, 5329,50123.2,   4996.5,   2.0831,  34.8615,2,  34.8620,2,    252.7,2,  1.6283,    252.3,2,    50.18,2,    21.82,2,     0.00,2,     1.50,2,    0.039,2,    0.034,2,    0.004,2,    0.070,2,   1.9135,2,     0.81,2,   -999.0,9,  -999.00,9,   8.341,2,   -999.0,9,   -999.0,9,   -999.0,9,-999.0000,9,-999,  -999.0,    0.15,  0.0096,   0.042,   0.011
     316N151_4,   A22,    43,  1,      2,      2,2,19970825,0424, 24.2042, -66.0003, 5329,52642.7,   5248.3,   1.9998,  34.8471,2,  34.8475,2,    248.4,2,  1.5162,    248.1,2,    56.69,2,    22.85,2,     0.00,2,     1.57,2,    0.030,2,    0.025,2,    0.005,2, -999.000,9,-999.0000,5,  -999.00,9,   -999.0,9,  -999.00,9,-999.000,9,   -999.0,9,   -999.0,9,   -999.0,9,-999.0000,9,-999,  -999.0, -999.00,-999.0000,-999.000,-999.000
     316N151_4,   A22,    43,  1,      1,      1,2,19970825,0424, 24.2042, -66.0003, 5329,54913.1,   5475.4,   2.0185,  34.8461,2,  34.8437,2,    245.5,2,  1.5050,    248.3,2,    57.46,6,    22.99,6,     0.00,6,     1.58,6,    0.032,6,    0.029,6,    0.006,2,    0.050,2,   1.9166,2,     1.15,2,   -999.0,9,  -999.00,9,   8.463,2,   -999.0,9,   -999.0,9,   -999.0,9,-999.0000,9,-999,  -999.0,    0.15,  0.0096,   0.042,   0.011