BOTTLE,20220629CCHSIOAMB
EXPOCODE,SECT_ID,STNNBR,CASTNO,SAMPNO,BTLNBR,BTLNBR_FLAG_W,DATE,TIME,LATITUDE,LONGITUDE,DEPTH,CTDRAW,CTDPRS,CTDTMP,CTDSAL,CTDSAL_FLAG_W,SALNTY,SALNTY_FLAG_W,CTDOXY,CTDOXY_FLAG_W,THETA,OXYGEN,OXYGEN_FLAG_W,SILCAT,SILCAT_FLAG_W,NITRAT,NITRAT_FLAG_W,NITRIT,NITRIT_FLAG_W,PHSPHT,PHSPHT_FLAG_W,CFC-11,CFC-11_FLAG_W,CFC-12,CFC-12_FLAG_W,CFC113,CFC113_FLAG_W,TRITUM,TRITUM_FLAG_W,HELIUM,HELIUM_FLAG_W,DELHE3,DELHE3_FLAG_W,DELC14,DELC14_FLAG_W,DELC13,DELC13_FLAG_W,NEON,NEON_FLAG_W,TCARBN,TCARBN_FLAG_W,PCO2,PCO2_FLAG_W,ALKALI,ALKALI_FLAG_W,PH,PH_FLAG_W,PH_TMP,C14ERR,DELHER,HELIER,NEONER,TRITER
,,,,,,,,,,,,,DBAR,ITS-90,PSS-78,,PSS-78,,UMOL/KG,,ITS-90,UMOL/KG,,UMOL/KG,,UMOL/KG,,UMOL/KG,,UMOL/KG,,PMOL/KG,,PMOL/KG,,PMOL/KG,,TU,,NMOL/KG,,PERCNT,,/MILLE,,/MILLE,,NMOL/KG,,UMOL/KG,,UATM,,UMOL/KG,,,,DEG C,/MILLE,PERCNT,NMOL/KG,NMOL/KG,TU
     316N151_4,   A22,    29,  1,     21,     21,2,19970821,1956, 18.7513, -66.0008, 1974,  186.8,      2.1,  28.9086,  36.2189,2,  36.2197,2,    195.5,2, 28.9081,    200.0,2,     0.80,2,     0.05,2,     0.00,2,     0.00,2,    1.604,2,    0.974,2,    0.124,2, -999.000,9,-999.0000,5,  -999.00,9,   -999.0,9,  -999.00,9,-999.000,9,   1999.0,2,    264.0,2,   2368.2,2,   8.1350,2,25,  -999.0, -999.00,-999.0000,-999.000,-999.000
     316N151_4,   A22,    29,  1,     20,     20,2,19970821,1956, 18.7513, -66.0008, 1974,  670.1,     50.6,  28.6433,  36.2101,2,  36.2120,2,    203.2,2, 28.6311,    197.5,2,     0.80,2,     0.01,2,     0.00,2,     0.00,2,    1.621,2,    0.986,2,    0.124,2, -999.000,9,-999.0000,5,  -999.00,9,   -999.0,9,  -999.00,9,-999.000,9,   1998.3,2,    264.0,2,   2366.6,2,   8.1350,2,25,  -999.0, -999.00,-999.0000,-999.000,-999.000
     316N151_4,   A22,    29,  1,     19,     19,2,19970821,1956, 18.7513, -66.0008, 1974, 1159.6,     99.7,  25.1343,  36.9158,2,  36.9283,2,    206.9,2, 25.1124,    200.4,2,     0.80,2,     0.04,2,     0.18,2,     0.01,2,    1.912,2,    1.120,2,    0.146,2, -999.000,9,-999.0000,5,  -999.00,9,   -999.0,9,  -999.00,9,-999.000,9,   2049.5,2,    283.0,2,   2412.4,2,   8.1110,2,25,  -999.0, -999.00,-999.0000,-999.000,-999.000
     316N151_4,   A22,    29,  1,     18,     18,2,19970821,1956, 18.7513, -66.0008, 1974, 1663.8,    150.3,  23.9034,  37.2104,2,  37.2148,2,    195.1,2, 23.8715,    192.8,2,     0.59,2,     0.53,2,     0.04,2,     0.03,2,    1.966,2,    1.138,2,    0.139,2, -999.000,9,-999.0000,5,  -999.00,9,   -999.0,9,  -999.00,9,-999.000,9,   2082.0,2,    311.0,2,   2429.8,2,   8.0810,2,25,  -999.0, -999.00,-999.0000,-999.000,-999.000
     316N151_4,   A22,    29,  1,     17,     17,2,19970821,1956, 18.7513, -66.0008, 1974, 2159.4,    200.1,  21.2538,  37.0772,2,  37.0584,2,    179.9,2, 21.2147,    175.4,2,     0.70,2,     2.39,2,     0.01,2,     0.10,2,    2.160,6,    1.215,6, -999.000,9, -999.000,9,-999.0000,5,  -999.00,9,   -999.0,9,  -999.00,9,-999.000,9,   2118.7,2,    384.0,2,   2418.3,2,   8.0000,2,25,  -999.0, -999.00,-999.0000,-999.000,-999.000
     316N151_4,   A22,    29,  1,     16,     16,2,19970821,1956, 18.7513, -66.0008, 1974, 2656.0,    250.0,  19.3593,  36.7836,2,  36.7857,2,    180.4,2, 19.3136,    176.8,2,     1.09,2,     4.02,2,     0.01,2,     0.18,2,    2.240,2,    1.247,2,    0.022,2, -999.000,9,-999.0000,5,  -999.00,9,   -999.0,9,  -999.00,9,-999.000,9,   2117.7,2,    407.0,2,   2402.1,2,   7.9760,2,25,  -999.0, -999.00,-999.0000,-999.000,-999.000
     316N151_4,   A22,    29,  1,     15,     15,2,19970821,1956, 18.7513, -66.0008, 1974, 3141.7,    298.9,  17.9732,  36.5457,2,  36.5464,2,    178.1,2, 17.9212,    174.8,2,     1.79,2,     6.69,2,     0.01,2,     0.35,2,    2.210,2,    1.205,2,    0.017,2, -999.000,9,-999.0000,5,  -999.00,9,   -999.0,9,  -999.00,9,-999.000,9,   2122.0,2,    439.0,2,   2390.1,2,   7.9480,2,25,  -999.0, -999.00,-999.0000,-999.000,-999.000
     316N151_4,   A22,    29,  1,     14,     14,2,19970821,1956, 18.7513, -66.0008, 1974, 4148.1,    400.1,  15.5526,  36.1238,2,  36.1092,2,    163.7,2, 15.4896,    165.6,2,     3.69,2,    11.59,2,     0.01,2,     0.67,2,    1.925,2,    1.017,2,    0.019,2, -999.000,9,-999.0000,5,  -999.00,9,   -999.0,9,  -999.00,9,-999.000,9,   2136.8,2,    527.0,2,   2364.1,2,   7.8780,2,25,  -999.0, -999.00,-999.0000,-999.000,-999.000
     316N151_4,   A22,    29,  1,     13,     13,2,19970821,1956, 18.7513, -66.0008, 1974, 5124.4,    498.1,  12.5992,  35.6071,2,  35.6063,2,    133.6,2, 12.5309,    133.0,2,     8.19,2,    20.05,2,     0.00,2,     1.22,2,    1.152,2,    0.604,2,    0.010,2, -999.000,9,-999.0000,5,  -999.00,9,   -999.0,9,  -999.00,9,-999.000,9,   2171.5,2,    717.0,2,   2336.6,2,   7.7570,2,25,  -999.0, -999.00,-999.0000,-999.000,-999.000
     316N151_4,   A22,    29,  1,     12,     12,2,19970821,1956, 18.7513, -66.0008, 1974, 6147.3,    601.0,  11.0576,  35.4177,2,  35.4108,2,    134.7,2, 10.9817,    135.4,2,    10.69,2,    22.57,2,     0.00,2,     1.39,2,    0.727,2,    0.378,2,    0.001,2, -999.000,9,-999.0000,5,  -999.00,9,   -999.0,9,  -999.00,9,-999.000,9,   2177.2,2,    780.0,2,   2329.3,2,   7.7190,2,25,  -999.0, -999.00,-999.0000,-999.000,-999.000
     316N151_4,   A22,    29,  1,     11,     11,2,19970821,1956, 18.7513, -66.0008, 1974, 7145.6,    701.1,   9.1234,  35.1615,2,  35.1484,2,    133.6,2,  9.0442,    132.3,2,    15.48,2,    26.52,2,     0.00,2,     1.69,2,    0.340,2,    0.186,2,    0.145,2, -999.000,9,-999.0000,5,  -999.00,9,   -999.0,9,  -999.00,9,-999.000,9,   2192.8,2,    885.0,2,   2323.5,2,   7.6690,2,25,  -999.0, -999.00,-999.0000,-999.000,-999.000
     316N151_4,   A22,    29,  1,     10,     10,2,19970821,1956, 18.7513, -66.0008, 1974, 8142.0,    801.0,   6.8396,  34.8584,2,  34.8561,2,    129.6,2,  6.7625,    128.9,2,    22.28,2,    31.21,2,     0.00,2,     2.05,2,    0.093,2,    0.058,2,   -0.001,2, -999.000,9,-999.0000,5,  -999.00,9,   -999.0,9,  -999.00,9,-999.000,9,   2210.5,3,   1043.0,3,   2315.4,2,   7.6130,2,25,  -999.0, -999.00,-999.0000,-999.000,-999.000
     316N151_4,   A22,    29,  1,      9,      9,2,19970821,1956, 18.7513, -66.0008, 1974, 9130.3,    899.9,   6.7677,  34.9915,2,  34.9790,2,    148.7,2,  6.6807,    155.2,2,    19.58,2,    27.18,2,     0.00,2,     1.78,2,    0.189,2,    0.107,2,    0.002,2, -999.000,9,-999.0000,5,  -999.00,9,   -999.0,9,  -999.00,9,-999.000,9,   2197.8,2,    922.0,2,   2321.4,2,   7.6610,2,25,  -999.0, -999.00,-999.0000,-999.000,-999.000
     316N151_4,   A22,    29,  1,      8,      8,2,19970821,1956, 18.7513, -66.0008, 1974,10124.1,    999.5,   6.0774,  35.0126,2,  35.0099,2,    180.0,2,  5.9853,    182.9,2,    18.18,2,    24.36,2,     0.00,2,     1.61,2,    0.306,2,    0.164,2,    0.008,2, -999.000,9,-999.0000,5,  -999.00,9,   -999.0,9,  -999.00,9,-999.000,9,   2187.4,2,    860.0,2,   2320.9,2,   7.6900,2,25,  -999.0, -999.00,-999.0000,-999.000,-999.000
     316N151_4,   A22,    29,  1,      7,      7,2,19970821,1956, 18.7513, -66.0008, 1974,11126.4,   1100.0,   5.4446,  35.0293,2,  35.0286,2,    208.1,2,  5.3475,    208.5,2,    16.49,2,    21.93,2,     0.00,2,     1.45,2,    0.472,2,    0.241,2,    0.015,2, -999.000,9,-999.0000,5,  -999.00,9,   -999.0,9,  -999.00,9,-999.000,9,   2177.1,2,    806.0,2,   2321.9,2,   7.7100,2,25,  -999.0, -999.00,-999.0000,-999.000,-999.000
     316N151_4,   A22,    29,  1,      6,      6,2,19970821,1956, 18.7513, -66.0008, 1974,13124.7,   1300.1,   4.8020,  35.0281,2,  35.0254,2,    235.7,2,  4.6919,    235.0,2,    14.39,2,    19.74,2,     0.00,2,     1.31,2,    0.664,2,    0.332,2,    0.017,2, -999.000,9,-999.0000,5,  -999.00,9,   -999.0,9,  -999.00,9,-999.000,9,   2168.1,2,    765.0,2,   2312.3,2,   7.7230,2,25,  -999.0, -999.00,-999.0000,-999.000,-999.000
     316N151_4,   A22,    29,  1,      5,      5,2,19970821,1956, 18.7513, -66.0008, 1974,15121.1,   1500.2,   4.2825,  35.0056,2,  35.0031,2,    251.3,2,  4.1590,    251.4,2,    13.59,2,    18.59,2,     0.00,2,     1.24,2,    0.763,2,    0.378,2,    0.028,2, -999.000,9,-999.0000,5,  -999.00,9,   -999.0,9,  -999.00,9,-999.000,9,   2161.1,2,    744.0,2,   2315.5,2,   7.7380,2,25,  -999.0, -999.00,-999.0000,-999.000,-999.000
     316N151_4,   A22,    29,  1,      4,      4,2,19970821,1956, 18.7513, -66.0008, 1974,16620.4,   1650.5,   4.0299,  34.9918,2,  34.9905,2,    258.3,2,  3.8954,    257.1,2,    13.59,2,    18.24,2,     0.00,2,     1.21,2,    0.758,2,    0.371,2,    0.028,2, -999.000,9,-999.0000,5,  -999.00,9,   -999.0,9,  -999.00,9,-999.000,9,   2158.8,2,    722.0,2,   2315.9,6,   7.7420,6,25,  -999.0, -999.00,-999.0000,-999.000,-999.000
     316N151_4,   A22,    29,  1,      3,      3,2,19970821,1956, 18.7513, -66.0008, 1974,18107.2,   1799.7,   3.8349,  34.9859,2,  34.9828,2,    261.0,2,  3.6889,    260.1,2,    14.29,2,    18.12,2,     0.00,2,     1.21,2,    0.612,2,    0.315,2,    0.019,2, -999.000,9,-999.0000,5,  -999.00,9,   -999.0,9,  -999.00,9,-999.000,9,   2157.1,2,    715.0,2,   2316.3,2,   7.7460,2,25,  -999.0, -999.00,-999.0000,-999.000,-999.000
     316N151_4,   A22,    29,  1,      2,      2,2,19970821,1956, 18.7513, -66.0008, 1974,19115.6,   1900.8,   3.7301,  34.9813,2,  34.9793,2,    261.6,2,  3.5760,    261.1,2,    14.89,2,    18.08,2,     0.00,2,     1.21,2,    0.540,2,    0.282,2,    0.018,2, -999.000,9,-999.0000,5,  -999.00,9,   -999.0,9,  -999.00,9,-999.000,9,   2157.4,2,    715.0,2,   2316.3,2,   7.7490,2,25,  -999.0, -999.00,-999.0000,-999.000,-999.000
     316N151_4,   A22,    29,  1,      1,      1,2,19970821,1956, 18.7513, -66.0008, 1974,19960.8,   1983.0,   3.6410,  34.9781,2,  34.9740,2,    258.5,2,  3.4805,    261.7,2,    15.52,6,    18.12,6,     0.00,6,     1.21,6,    0.489,6,    0.247,6,    0.015,2, -999.000,9,-999.0000,5,  -999.00,9,   -999.0,9,  -999.00,9,-999.000,9,   2158.6,2,    717.0,2,   2317.2,2,   7.7470,2,25,  -999.0, -999.00,-999.0000,-999.000,-999.000