BOTTLE,20220629CCHSIOAMB
EXPOCODE,SECT_ID,STNNBR,CASTNO,SAMPNO,BTLNBR,BTLNBR_FLAG_W,DATE,TIME,LATITUDE,LONGITUDE,DEPTH,CTDRAW,CTDPRS,CTDTMP,CTDSAL,CTDSAL_FLAG_W,SALNTY,SALNTY_FLAG_W,CTDOXY,CTDOXY_FLAG_W,THETA,OXYGEN,OXYGEN_FLAG_W,SILCAT,SILCAT_FLAG_W,NITRAT,NITRAT_FLAG_W,NITRIT,NITRIT_FLAG_W,PHSPHT,PHSPHT_FLAG_W,CFC-11,CFC-11_FLAG_W,CFC-12,CFC-12_FLAG_W,CFC113,CFC113_FLAG_W,TRITUM,TRITUM_FLAG_W,HELIUM,HELIUM_FLAG_W,DELHE3,DELHE3_FLAG_W,DELC14,DELC14_FLAG_W,DELC13,DELC13_FLAG_W,NEON,NEON_FLAG_W,TCARBN,TCARBN_FLAG_W,PCO2,PCO2_FLAG_W,ALKALI,ALKALI_FLAG_W,PH,PH_FLAG_W,PH_TMP,C14ERR,DELHER,HELIER,NEONER,TRITER
,,,,,,,,,,,,,DBAR,ITS-90,PSS-78,,PSS-78,,UMOL/KG,,ITS-90,UMOL/KG,,UMOL/KG,,UMOL/KG,,UMOL/KG,,UMOL/KG,,PMOL/KG,,PMOL/KG,,PMOL/KG,,TU,,NMOL/KG,,PERCNT,,/MILLE,,/MILLE,,NMOL/KG,,UMOL/KG,,UATM,,UMOL/KG,,,,DEG C,/MILLE,PERCNT,NMOL/KG,NMOL/KG,TU
     316N151_4,   A22,    45,  1,     34,     34,2,19970825,1824, 25.5425, -65.9978, 5050,  198.4,      3.7,  29.3198,  36.7056,2,  36.7117,2,    205.5,2, 29.3189,    210.2,2,     0.85,2,     0.07,2,     0.00,2,     0.01,2, -999.000,9, -999.000,9, -999.000,9, -999.000,9,-999.0000,5,  -999.00,9,   -999.0,9,  -999.00,9,-999.000,9,   2021.6,2,    260.0,2,   2399.0,2,   8.1300,2,25,  -999.0, -999.00,-999.0000,-999.000,-999.000
     316N151_4,   A22,    45,  1,     33,     33,2,19970825,1824, 25.5425, -65.9978, 5050,  309.3,     14.9,  29.1286,  36.7060,2,  36.7099,2,    209.5,2, 29.1249,    209.4,2,     0.86,2,     0.02,2,     0.00,2,     0.01,2, -999.000,9, -999.000,9, -999.000,9, -999.000,9,-999.0000,5,  -999.00,9,   -999.0,9,  -999.00,9,-999.000,9,   2020.5,2,    262.0,2,   2398.1,2,   8.1280,2,25,  -999.0, -999.00,-999.0000,-999.000,-999.000
     316N151_4,   A22,    45,  1,     32,     32,2,19970825,1824, 25.5425, -65.9978, 5050,  460.2,     30.4,  29.0981,  36.7146,2,  36.7197,2,    208.8,2, 29.0907,    211.6,2,     0.76,2,     0.03,2,     0.00,2,     0.01,2, -999.000,9, -999.000,9, -999.000,9, -999.000,9,-999.0000,5,  -999.00,9,   -999.0,9,  -999.00,9,-999.000,9,   2021.1,2,    261.0,2,   2397.1,2,   8.1310,2,25,  -999.0, -999.00,-999.0000,-999.000,-999.000
     316N151_4,   A22,    45,  1,     31,     31,2,19970825,1824, 25.5425, -65.9978, 5050,  682.4,     52.6,  25.8478,  37.0184,2,  37.0061,2,    233.5,2, 25.8361,    229.8,2,     0.57,2,     0.02,2,     0.00,2,     0.01,2,    1.972,6,    1.148,6,    0.149,2, -999.000,9,-999.0000,5,  -999.00,9,   -999.0,9,  -999.00,9,-999.000,9,   2042.5,2,    271.0,2,   2417.3,2,   8.1150,2,25,  -999.0, -999.00,-999.0000,-999.000,-999.000
     316N151_4,   A22,    45,  1,     30,     30,2,19970825,1824, 25.5425, -65.9978, 5050, 1180.1,    102.3,  23.2706,  37.0329,2,  37.0337,2,    214.5,2, 23.2493,    227.1,2,     0.38,2,     0.10,2,     0.00,2,     0.01,2,    2.091,6,    1.220,6,    0.152,2, -999.000,9,-999.0000,5,  -999.00,9,   -999.0,9,  -999.00,9,-999.000,9,   2057.5,2,    286.0,2,   2413.5,2,   8.0940,2,25,  -999.0, -999.00,-999.0000,-999.000,-999.000
     316N151_4,   A22,    45,  1,     29,     29,2,19970825,1824, 25.5425, -65.9978, 5050, 1690.0,    153.4,  21.7617,  36.9751,2,  36.9847,2,    202.1,2, 21.7313,    207.8,2,     0.28,2,     0.09,2,     0.01,2,     0.02,2,    2.109,2,    1.236,2,    0.136,2, -999.000,9,-999.0000,5,  -999.00,9,   -999.0,9,  -999.00,9,-999.000,9,   2078.4,2,    320.0,2,   2415.7,6,   8.0580,2,25,  -999.0, -999.00,-999.0000,-999.000,-999.000
     316N151_4,   A22,    45,  1,     28,     28,2,19970825,1824, 25.5425, -65.9978, 5050, 2187.4,    203.0,  19.9992,  36.7808,2,  36.7864,2,    192.3,2, 19.9613,    190.1,2,     0.39,2,     0.90,2,     0.02,2,     0.03,2,    2.295,2,    1.301,2,    0.082,2, -999.000,9,-999.0000,5,  -999.00,9,   -999.0,9,  -999.00,9,-999.000,9,   2099.4,2,    368.0,2,   2399.3,2,   8.0070,2,25,  -999.0, -999.00,-999.0000,-999.000,-999.000
     316N151_4,   A22,    45,  1,     27,     27,2,19970825,1824, 25.5425, -65.9978, 5050, 2676.1,    251.6,  18.8455,  36.6290,2,  36.6300,2,    190.3,2, 18.8004,    192.6,2,     0.69,2,     2.76,2,     0.01,2,     0.11,2,    2.359,2,    1.316,2,    0.026,2, -999.000,9,-999.0000,5,  -999.00,9,   -999.0,9,  -999.00,9,-999.000,9,   2097.5,2,    378.0,2,   2393.1,2,   7.9980,2,25,  -999.0, -999.00,-999.0000,-999.000,-999.000
     316N151_4,   A22,    45,  1,     26,     26,2,19970825,1824, 25.5425, -65.9978, 5050, 3173.8,    301.2,  18.2963,  36.5557,2,  36.5583,2,    198.0,2, 18.2433,    205.8,2,     0.90,2,     3.58,2,     0.01,2,     0.17,2,    2.351,2,    1.314,2,    0.026,2, -999.000,9,-999.0000,5,  -999.00,9,   -999.0,9,  -999.00,9,-999.000,9,   2092.9,2,    376.0,2,   2385.2,2,   8.0000,2,25,  -999.0, -999.00,-999.0000,-999.000,-999.000
     316N151_4,   A22,    45,  1,     25,     25,2,19970825,1824, 25.5425, -65.9978, 5050, 4183.9,    402.5,  17.6992,  36.4679,2,  36.4669,2,    197.0,2, 17.6298,    196.5,2,     1.39,2,     5.19,2,     0.01,2,     0.27,2,    2.245,2,    1.242,2,    0.029,2, -999.000,9,-999.0000,5,  -999.00,9,   -999.0,9,  -999.00,9,-999.000,9,   2101.3,2,    403.0,2,   2383.3,2,   7.9790,2,25,  -999.0, -999.00,-999.0000,-999.000,-999.000
     316N151_4,   A22,    45,  1,     24,     24,2,19970825,1824, 25.5425, -65.9978, 5050, 5174.8,    501.8,  16.1779,  36.2078,2,  36.2124,2,    179.8,2, 16.0964,    179.7,2,     2.70,2,     9.03,2,     0.00,2,     0.52,2,    2.025,2,    1.077,2,    0.024,2, -999.000,9,-999.0000,5,  -999.00,9,   -999.0,9,  -999.00,9,-999.000,9,   2122.2,2,    471.0,2,   2369.6,2,   7.9200,2,25,  -999.0, -999.00,-999.0000,-999.000,-999.000
     316N151_4,   A22,    45,  1,     23,     23,2,19970825,1824, 25.5425, -65.9978, 5050, 6135.6,    598.3,  14.2726,  35.9039,2,  35.9025,2,    174.1,2, 14.1832,    172.4,2,     4.50,2,    12.88,2,     0.00,2,     0.76,2,    1.763,2,    0.935,2,    0.020,2, -999.000,9,-999.0000,5,  -999.00,9,   -999.0,9,  -999.00,9,-999.000,9,   2139.4,2,    546.0,2,   2354.8,2,   7.8630,2,25,  -999.0, -999.00,-999.0000,-999.000,-999.000
     316N151_4,   A22,    45,  1,     22,     22,2,19970825,1824, 25.5425, -65.9978, 5050, 7156.0,    700.8,  11.9370,  35.5687,2,  35.5697,2,    158.8,2, 11.8436,    158.0,2,     7.99,2,    18.26,2,     0.00,2,     1.12,2, -999.000,9, -999.000,9, -999.000,9, -999.000,9,-999.0000,5,  -999.00,9,   -999.0,9,  -999.00,9,-999.000,9,   2163.4,2,    667.0,2,   2337.3,2,   7.7840,2,25,  -999.0, -999.00,-999.0000,-999.000,-999.000
     316N151_4,   A22,    45,  1,     21,     21,2,19970825,1824, 25.5425, -65.9978, 5050, 8155.9,    801.0,  10.0663,  35.3342,2,  35.3336,2,    148.4,2,  9.9697,    148.4,2,    11.78,2,    22.38,2,     0.00,2,     1.40,2,    0.574,2,    0.302,2,    0.007,2, -999.000,9,-999.0000,5,  -999.00,9,   -999.0,9,  -999.00,9,-999.000,9,   2180.3,2,    774.0,2,   2327.6,2,   7.7270,2,25,  -999.0, -999.00,-999.0000,-999.000,-999.000
     316N151_4,   A22,    45,  1,     20,     20,2,19970825,1824, 25.5425, -65.9978, 5050, 9130.2,    898.7,   8.4821,  35.1577,2,  35.1580,2,    147.9,2,  8.3837,    146.8,2,    15.28,2,    25.18,2,     0.00,2,     1.61,2,    0.308,2,    0.170,2,    0.002,2, -999.000,9,-999.0000,5,  -999.00,9,   -999.0,9,  -999.00,9,-999.000,9,   2191.4,2,    853.0,2,   2323.0,2,   7.6900,2,25,  -999.0, -999.00,-999.0000,-999.000,-999.000
     316N151_4,   A22,    45,  1,     19,     19,2,19970825,1824, 25.5425, -65.9978, 5050,10144.8,   1000.1,   7.0884,  35.0545,2,  35.0554,2,    161.6,2,  6.9886,    160.6,2,    17.28,2,    25.52,2,     0.00,2,     1.66,2,    0.224,2,    0.120,2,    0.003,2, -999.000,9,-999.0000,5,  -999.00,9,   -999.0,9,  -999.00,9,-999.000,9,   2194.0,2,    880.0,2,   2320.5,2,   7.6730,2,25,  -999.0, -999.00,-999.0000,-999.000,-999.000
     316N151_4,   A22,    45,  1,     18,     18,2,19970825,1824, 25.5425, -65.9978, 5050,11135.5,   1099.3,   6.2015,  35.0634,2,  35.0644,2,    187.4,2,  6.0983,    189.2,2,    15.88,2,    23.01,2,     0.00,2,     1.51,2,    0.312,2,    0.161,2,    0.006,2, -999.000,9,-999.0000,5,  -999.00,9,   -999.0,9,  -999.00,9,-999.000,9,   2185.7,2,    827.0,2,   2321.8,2,   7.7020,2,25,  -999.0, -999.00,-999.0000,-999.000,-999.000
     316N151_4,   A22,    45,  1,     17,     17,2,19970825,1824, 25.5425, -65.9978, 5050,13160.5,   1301.8,   5.2130,  35.0711,2,  35.0732,2,    225.3,2,  5.0985,    226.7,2,    13.71,2,    19.87,2,     0.00,2,     1.31,2,    0.404,2,    0.206,2,    0.009,2, -999.000,9,-999.0000,5,  -999.00,9,   -999.0,9,  -999.00,9,-999.000,9,   2171.7,2,    765.0,2,   2317.6,2,   7.7300,2,25,  -999.0, -999.00,-999.0000,-999.000,-999.000
     316N151_4,   A22,    45,  1,     16,     16,2,19970825,1824, 25.5425, -65.9978, 5050,15641.6,   1549.8,   4.6193,  35.0673,2,  35.0684,2,    242.4,2,  4.4871,    242.6,2,    14.11,2,    18.92,2,     0.00,2,     1.25,2,    0.321,6,    0.171,6,    0.004,2, -999.000,9,-999.0000,5,  -999.00,9,   -999.0,9,  -999.00,9,-999.000,9,   2165.8,2,    738.0,2,   2321.4,2,   7.7500,2,25,  -999.0, -999.00,-999.0000,-999.000,-999.000
     316N151_4,   A22,    45,  1,     15,     15,2,19970825,1824, 25.5425, -65.9978, 5050,17629.5,   1748.6,   4.2282,  35.0511,2,  35.0526,2,    245.3,2,  4.0816,    246.3,2,    16.21,2,    19.00,2,     0.00,2,     1.26,2,    0.144,2,    0.085,2,    0.004,2, -999.000,9,-999.0000,5,  -999.00,9,   -999.0,9,  -999.00,9,-999.000,9,   2168.2,2,    732.0,2,   2323.4,2,   7.7460,2,25,  -999.0, -999.00,-999.0000,-999.000,-999.000
     316N151_4,   A22,    45,  1,     14,     14,2,19970825,1824, 25.5425, -65.9978, 5050,20128.5,   1998.3,   3.7365,  35.0116,2,  35.0122,2,    251.1,2,  3.5729,    251.7,2,    18.71,2,    19.00,2,     0.00,2,     1.27,2,    0.059,2,    0.038,2,    0.002,2, -999.000,9,-999.0000,5,  -999.00,9,   -999.0,9,  -999.00,9,-999.000,9,   2166.4,2,    729.0,2,   2323.3,6,   7.7490,6,25,  -999.0, -999.00,-999.0000,-999.000,-999.000
     316N151_4,   A22,    45,  1,     13,     13,2,19970825,1824, 25.5425, -65.9978, 5050,22622.5,   2247.7,   3.4125,  34.9883,2,  34.9909,2,    252.4,2,  3.2299,    252.1,2,    22.20,2,    19.23,2,     0.00,2,     1.29,2,    0.031,2,    0.020,2,    0.000,2, -999.000,9,-999.0000,5,  -999.00,9,   -999.0,9,  -999.00,9,-999.000,9,   2169.4,2,    731.0,2,   2326.7,2,   7.7500,2,25,  -999.0, -999.00,-999.0000,-999.000,-999.000
     316N151_4,   A22,    45,  1,     12,     12,2,19970825,1824, 25.5425, -65.9978, 5050,25147.9,   2500.0,   3.1495,  34.9655,2,  34.9676,2,    255.0,2,  2.9468,    254.6,2,    24.11,2,    19.22,2,     0.00,2,     1.30,2,    0.062,2,    0.040,2,    0.002,2, -999.000,9,-999.0000,5,  -999.00,9,   -999.0,9,  -999.00,9,-999.000,9,   2171.2,2,    727.0,2,   2328.2,2,   7.7520,2,25,  -999.0, -999.00,-999.0000,-999.000,-999.000
     316N151_4,   A22,    45,  1,     11,     11,2,19970825,1824, 25.5425, -65.9978, 5050,27616.3,   2746.7,   2.9436,  34.9469,2,  34.9479,2,    259.1,2,  2.7200,    258.8,2,    23.81,2,    18.87,2,     0.00,2,     1.28,2,    0.152,2,    0.078,2,    0.005,2, -999.000,9,-999.0000,5,  -999.00,9,   -999.0,9,  -999.00,9,-999.000,9,   2168.9,2,    730.0,2,   2325.6,2,   7.7490,2,25,  -999.0, -999.00,-999.0000,-999.000,-999.000
     316N151_4,   A22,    45,  1,     10,     10,2,19970825,1824, 25.5425, -65.9978, 5050,30137.9,   2998.8,   2.7823,  34.9350,2,  34.9356,2,    259.7,2,  2.5364,    259.6,2,    25.92,2,    19.07,2,     0.00,2,     1.29,2,    0.160,2,    0.082,2,    0.006,2, -999.000,9,-999.0000,5,  -999.00,9,   -999.0,9,  -999.00,9,-999.000,9,   2168.3,2,    731.0,2,   2326.4,2,   7.7510,2,25,  -999.0, -999.00,-999.0000,-999.000,-999.000
     316N151_4,   A22,    45,  1,      9,      9,2,19970825,1824, 25.5425, -65.9978, 5050,32655.1,   3250.5,   2.6491,  34.9263,2,  34.9248,2,    257.1,2,  2.3798,    256.6,2,    30.72,2,    19.81,2,     0.00,2,     1.34,2,    0.037,2,    0.024,2,    0.002,2, -999.000,9,-999.0000,5,  -999.00,9,   -999.0,9,  -999.00,9,-999.000,9,   2176.1,3,    736.0,2,   2332.1,3,   7.7470,2,25,  -999.0, -999.00,-999.0000,-999.000,-999.000
     316N151_4,   A22,    45,  1,      8,      8,2,19970825,1824, 25.5425, -65.9978, 5050,35159.6,   3500.8,   2.5291,  34.9167,2,  34.9160,2,    259.9,2,  2.2359,    259.5,2,    30.83,2,    19.33,2,     0.00,2,     1.32,2,    0.068,2,    0.038,2,    0.004,2, -999.000,9,-999.0000,5,  -999.00,9,   -999.0,9,  -999.00,9,-999.000,9,   2172.5,2,    733.0,2,   2330.0,2,   7.7480,2,25,  -999.0, -999.00,-999.0000,-999.000,-999.000
     316N151_4,   A22,    45,  1,      7,      7,2,19970825,1824, 25.5425, -65.9978, 5050,37676.9,   3752.4,   2.4177,  34.9080,2,  34.9056,2,    261.9,2,  2.0997,    262.3,2,    30.93,2,    19.26,2,     0.00,2,     1.31,2,    0.075,2,    0.042,2,    0.002,2, -999.000,9,-999.0000,5,  -999.00,9,   -999.0,9,  -999.00,9,-999.000,9,   2171.6,2,    735.0,2,   2330.1,2,   7.7470,2,25,  -999.0, -999.00,-999.0000,-999.000,-999.000
     316N151_4,   A22,    45,  1,      6,      6,2,19970825,1824, 25.5425, -65.9978, 5050,40187.0,   4003.3,   2.3337,  34.9013,2,  34.8997,2,    262.5,2,  1.9897,    262.6,2,    32.13,2,    19.26,2,     0.00,2,     1.32,2,    0.085,2,    0.051,2,    0.002,2, -999.000,9,-999.0000,5,  -999.00,9,   -999.0,9,  -999.00,9,-999.000,9,   2174.9,2,    738.0,2,   2329.8,2,   7.7490,2,25,  -999.0, -999.00,-999.0000,-999.000,-999.000
     316N151_4,   A22,    45,  1,      5,      5,2,19970825,1824, 25.5425, -65.9978, 5050,42655.2,   4249.9,   2.2862,  34.8954,2,  34.8924,2,    262.4,2,  1.9151,    262.1,2,    33.75,2,    19.40,2,     0.00,2,     1.33,2,    0.100,2,    0.059,2,    0.004,2, -999.000,9,-999.0000,5,  -999.00,9,   -999.0,9,  -999.00,9,-999.000,9,   2176.4,2,    743.0,2,   2331.2,2,   7.7490,2,25,  -999.0, -999.00,-999.0000,-999.000,-999.000
     316N151_4,   A22,    45,  1,      4,      4,2,19970825,1824, 25.5425, -65.9978, 5050,45173.7,   4501.8,   2.2412,  34.8871,2,  34.8884,2,    260.7,2,  1.8417,    260.2,2,    36.84,2,    19.91,2,     0.00,2,     1.36,2,    0.100,2,    0.062,2,    0.003,2, -999.000,9,-999.0000,5,  -999.00,9,   -999.0,9,  -999.00,9,-999.000,9,   2179.2,2,    747.0,2,   2335.4,6,   7.7440,2,25,  -999.0, -999.00,-999.0000,-999.000,-999.000
     316N151_4,   A22,    45,  1,      3,      3,2,19970825,1824, 25.5425, -65.9978, 5050,47642.0,   4748.5,   2.2009,  34.8798,2,  34.8794,2,    258.0,2,  1.7728,    258.0,2,    40.65,2,    20.46,2,     0.00,2,     1.40,2,    0.087,2,    0.058,2,    0.007,2, -999.000,9,-999.0000,5,  -999.00,9,   -999.0,9,  -999.00,9,-999.000,9,   2184.7,2,    741.0,2,   2337.8,2,   7.7420,2,25,  -999.0, -999.00,-999.0000,-999.000,-999.000
     316N151_4,   A22,    45,  1,      2,      2,2,19970825,1824, 25.5425, -65.9978, 5050,50167.6,   5001.0,   2.1410,  34.8685,2,  34.8682,2,    254.4,2,  1.6837,    254.3,2,    45.94,2,    21.28,2,     0.00,2,     1.45,2,    0.066,2,    0.046,2,    0.003,2, -999.000,9,-999.0000,5,  -999.00,9,   -999.0,9,  -999.00,9,-999.000,9,   2192.2,2,    752.0,2,   2344.0,2,   7.7330,2,25,  -999.0, -999.00,-999.0000,-999.000,-999.000
     316N151_4,   A22,    45,  1,      1,      1,2,19970825,1824, 25.5425, -65.9978, 5050,51913.8,   5175.4,   2.0923,  34.8598,2,  34.8577,2,    250.0,2,  1.6147,    252.1,2,    50.31,6,    21.88,6,     0.00,6,     1.50,6,    0.050,6,    0.038,6, -999.000,9, -999.000,9,-999.0000,5,  -999.00,9,   -999.0,9,  -999.00,9,-999.000,9,   2196.9,2,    758.0,2,   2345.1,2,   7.7300,2,25,  -999.0, -999.00,-999.0000,-999.000,-999.000