BOTTLE,20220629CCHSIOAMB
EXPOCODE,SECT_ID,STNNBR,CASTNO,SAMPNO,BTLNBR,BTLNBR_FLAG_W,DATE,TIME,LATITUDE,LONGITUDE,DEPTH,CTDRAW,CTDPRS,CTDTMP,CTDSAL,CTDSAL_FLAG_W,SALNTY,SALNTY_FLAG_W,CTDOXY,CTDOXY_FLAG_W,THETA,OXYGEN,OXYGEN_FLAG_W,SILCAT,SILCAT_FLAG_W,NITRAT,NITRAT_FLAG_W,NITRIT,NITRIT_FLAG_W,PHSPHT,PHSPHT_FLAG_W,CFC-11,CFC-11_FLAG_W,CFC-12,CFC-12_FLAG_W,CFC113,CFC113_FLAG_W,TRITUM,TRITUM_FLAG_W,HELIUM,HELIUM_FLAG_W,DELHE3,DELHE3_FLAG_W,DELC14,DELC14_FLAG_W,DELC13,DELC13_FLAG_W,NEON,NEON_FLAG_W,TCARBN,TCARBN_FLAG_W,PCO2,PCO2_FLAG_W,ALKALI,ALKALI_FLAG_W,PH,PH_FLAG_W,PH_TMP,C14ERR,DELHER,HELIER,NEONER,TRITER
,,,,,,,,,,,,,DBAR,ITS-90,PSS-78,,PSS-78,,UMOL/KG,,ITS-90,UMOL/KG,,UMOL/KG,,UMOL/KG,,UMOL/KG,,UMOL/KG,,PMOL/KG,,PMOL/KG,,PMOL/KG,,TU,,NMOL/KG,,PERCNT,,/MILLE,,/MILLE,,NMOL/KG,,UMOL/KG,,UATM,,UMOL/KG,,,,DEG C,/MILLE,PERCNT,NMOL/KG,NMOL/KG,TU
     316N151_4,   A22,    42,  1,     35,     35,2,19970824,2112, 23.5342, -65.9958, 5766,  195.5,      3.9,  29.1927,  36.4815,2,  36.4868,2,    204.2,2, 29.1918,    213.8,2,     1.11,2,     0.04,2,     0.00,2,     0.01,2,    1.597,2,    0.965,2,    0.126,2, -999.000,9,-999.0000,5,  -999.00,9,     88.6,6,     1.35,2,-999.000,9,   2009.3,2,    261.0,2,   2384.5,2,   8.1230,2,25,     0.0, -999.00,-999.0000,-999.000,-999.000
     316N151_4,   A22,    42,  1,     34,     34,2,19970824,2112, 23.5342, -65.9958, 5766,  681.7,     53.1,  25.9706,  36.7447,2,  36.7390,2,    229.7,2, 25.9587,    232.5,2,     0.71,2,     0.05,2,     0.00,2,     0.01,2,    1.966,6,    1.133,6,    0.146,2, -999.000,9,-999.0000,5,  -999.00,9,     87.1,2,     1.39,2,-999.000,9,   2032.7,2,   -999.0,9,   2399.5,2,   8.1080,2,25,     3.7, -999.00,-999.0000,-999.000,-999.000
     316N151_4,   A22,    42,  1,     33,     33,2,19970824,2112, 23.5342, -65.9958, 5766, 1183.3,    103.2,  22.6689,  36.8877,2,  36.8885,2,    203.9,2, 22.6478,    214.4,2,     0.61,2,     0.00,2,     0.00,2,     0.01,2,    2.105,2,    1.211,2,    0.144,2, -999.000,9,-999.0000,5,  -999.00,9,     90.4,6,     1.29,2,-999.000,9,   2061.0,2,   -999.0,9,   2405.7,6,   8.0610,6,25,     2.5, -999.00,-999.0000,-999.000,-999.000
     316N151_4,   A22,    42,  1,     32,     32,2,19970824,2112, 23.5342, -65.9958, 5766, 1678.0,    152.5,  20.6734,  36.8269,2,  36.8183,2,    198.8,2, 20.6442,    209.1,2,     0.52,2,     0.04,2,     0.05,2,     0.02,2,    2.199,2,    1.257,2,    0.120,2, -999.000,9,-999.0000,5,  -999.00,9,    103.8,2,     1.15,2,-999.000,9,   2079.2,2,   -999.0,9,   2406.5,2,   8.0460,2,25,     3.8, -999.00,-999.0000,-999.000,-999.000
     316N151_4,   A22,    42,  1,     31,     31,2,19970824,2112, 23.5342, -65.9958, 5766, 2200.4,    204.5,  19.6092,  36.7536,2,  36.7548,2,    193.6,2, 19.5715,    193.5,2,     0.81,2,     1.83,2,     0.02,2,     0.07,2,    2.280,2,    1.278,2,    0.075,2, -999.000,9,-999.0000,5,  -999.00,9,     95.8,2,     0.93,2,-999.000,9,   2098.4,2,   -999.0,9,   2400.6,2,   8.0120,2,25,     3.6, -999.00,-999.0000,-999.000,-999.000
     316N151_4,   A22,    42,  1,     30,     30,2,19970824,2112, 23.5342, -65.9958, 5766, 2693.0,    253.4,  18.7066,  36.6301,2,  36.6313,2,    197.0,2, 18.6614,    188.5,2,     1.22,2,     3.92,2,     0.01,2,     0.18,2,    2.289,2,    1.261,2,    0.020,2, -999.000,9,-999.0000,5,  -999.00,9,     92.7,6,     0.91,2,-999.000,9,   2104.8,2,   -999.0,9,   2393.6,2,   7.9860,2,25,     4.5, -999.00,-999.0000,-999.000,-999.000
     316N151_4,   A22,    42,  1,     29,     29,2,19970824,2112, 23.5342, -65.9958, 5766, 3183.4,    302.4,  18.2517,  36.5542,2,  36.5515,2,    200.8,2, 18.1986,    199.8,2,     1.22,2,     3.80,2,     0.01,2,     0.18,2, -999.000,9, -999.000,9, -999.000,9, -999.000,9,-999.0000,5,  -999.00,9,     91.1,2,     0.95,2,-999.000,9,   2093.6,2,   -999.0,9,   2388.9,2,   7.9990,2,25,     3.0, -999.00,-999.0000,-999.000,-999.000
     316N151_4,   A22,    42,  1,     28,     28,2,19970824,2112, 23.5342, -65.9958, 5766, 4155.4,    399.7,  17.6703,  36.4639,2,  36.4632,2,    192.8,2, 17.6015,    195.0,2,     1.72,2,     5.33,2,     0.00,2,     0.28,2,    2.273,2,    1.246,2,    0.029,2, -999.000,9,-999.0000,5,  -999.00,9,     78.9,2,     0.93,2,-999.000,9,   2102.0,2,   -999.0,9,   2384.0,2,   7.9760,2,25,     4.1, -999.00,-999.0000,-999.000,-999.000
     316N151_4,   A22,    42,  1,     27,     27,2,19970824,2112, 23.5342, -65.9958, 5766, 5155.1,    500.0,  15.9826,  36.1767,2,  36.1748,2,    177.0,2, 15.9021,    177.6,2,     3.22,2,     9.62,2,     0.00,2,     0.55,2,    2.085,2,    1.244,2,    0.047,2, -999.000,9,-999.0000,5,  -999.00,9,     69.6,2,     0.90,2,-999.000,9,   2125.5,2,   -999.0,9,   2367.9,2,   7.9130,2,25,     2.8, -999.00,-999.0000,-999.000,-999.000
     316N151_4,   A22,    42,  1,     26,     26,2,19970824,2112, 23.5342, -65.9958, 5766, 6144.1,    599.2,  13.9564,  35.8576,2,  35.8602,2,    162.0,2, 13.8683,    164.9,2,     5.32,2,    14.23,2,     0.00,2,     0.85,2,    1.550,2,    0.817,2,    0.013,2, -999.000,9,-999.0000,5,  -999.00,9,     41.5,2,     0.82,2,-999.000,9,   2145.8,2,   -999.0,9,   2351.9,2,   7.8420,2,25,     3.1, -999.00,-999.0000,-999.000,-999.000
     316N151_4,   A22,    42,  1,     25,     25,2,19970824,2112, 23.5342, -65.9958, 5766, 7144.7,    699.7,  11.7178,  35.5347,2,  35.5340,2,    152.5,2, 11.6255,    151.9,2,     8.92,2,    19.31,2,     0.00,2,     1.19,2,    0.914,2,    0.481,2,    0.005,2, -999.000,9,-999.0000,5,  -999.00,9,     -2.5,2,     0.58,3,-999.000,9,   2164.0,2,   -999.0,9,   2336.0,2,   7.7740,2,25,     3.2, -999.00,-999.0000,-999.000,-999.000
     316N151_4,   A22,    42,  1,     24,     24,2,19970824,2112, 23.5342, -65.9958, 5766, 8153.4,    800.7,   9.7190,  35.2792,2,  35.2779,2,    144.3,2,  9.6245,    143.7,2,    13.12,2,    23.56,2,     0.00,2,     1.49,2,    0.470,2,    0.250,2,   -0.001,2, -999.000,9,-999.0000,5,  -999.00,9,    -29.5,2,     0.74,2,-999.000,9,   2181.9,2,   -999.0,9,   2327.1,2,   7.7120,2,25,     3.5, -999.00,-999.0000,-999.000,-999.000
     316N151_4,   A22,    42,  1,     23,     23,2,19970824,2112, 23.5342, -65.9958, 5766, 9149.5,    900.5,   7.9485,  35.1103,2,  35.1089,2,    151.7,2,  7.8534,    151.0,2,    16.43,2,    25.41,2,     0.00,2,     1.64,2,    0.299,2,    0.159,2,    0.000,2, -999.000,9,-999.0000,5,  -999.00,9,    -54.9,2,     0.76,2,-999.000,9,   2191.0,2,   -999.0,9,   2321.2,2,   7.6820,2,25,     3.6, -999.00,-999.0000,-999.000,-999.000
     316N151_4,   A22,    42,  1,     22,     22,2,19970824,2112, 23.5342, -65.9958, 5766,10157.0,   1001.3,   6.7619,  35.0661,2,  35.0645,2,    171.7,2,  6.6643,    173.0,2,    16.72,2,    24.25,2,     0.00,2,     1.59,2,    0.299,2,    0.155,2,    0.005,2, -999.000,9,-999.0000,5,  -999.00,9,    -64.3,2,     0.80,2,-999.000,9,   2188.2,2,   -999.0,9,   2321.4,2,   7.6870,2,25,     4.0, -999.00,-999.0000,-999.000,-999.000
     316N151_4,   A22,    42,  1,     21,     21,2,19970824,2112, 23.5342, -65.9958, 5766,11127.4,   1098.5,   6.0826,  35.0776,2,  35.0735,2,    197.4,2,  5.9805,    199.0,2,    15.03,2,    21.93,2,     0.00,2,     1.44,2,    0.439,2,    0.218,2,    0.006,2, -999.000,9,-999.0000,5,  -999.00,9,    -62.6,2,     0.83,2,-999.000,9,   2179.5,2,   -999.0,9,   2321.1,2,   7.7130,2,25,     3.5, -999.00,-999.0000,-999.000,-999.000
     316N151_4,   A22,    42,  1,     20,     20,2,19970824,2112, 23.5342, -65.9958, 5766,13107.1,   1296.5,   5.1370,  35.0780,2,  35.0778,2,    230.4,2,  5.0237,    231.6,2,    13.53,2,    19.40,2,     0.00,2,     1.28,2,    0.532,2,    0.262,2,    0.015,2, -999.000,9,-999.0000,5,  -999.00,9,    -68.7,2,     0.97,2,-999.000,9,   2169.1,2,   -999.0,9,   2321.9,2,   7.7330,2,25,     2.4, -999.00,-999.0000,-999.000,-999.000
     316N151_4,   A22,    42,  1,     19,     19,2,19970824,2112, 23.5342, -65.9958, 5766,15166.5,   1502.4,   4.3803,  35.0261,2,  35.0259,2,    251.7,2,  4.2556,    250.7,2,    13.33,2,    18.48,2,     0.00,2,     1.23,2,    0.597,6,    0.301,6,    0.012,2, -999.000,9,-999.0000,5,  -999.00,9,    -62.4,6,     1.00,2,-999.000,9,   2161.0,2,   -999.0,9,   2317.1,2,   7.7460,2,25,     2.9, -999.00,-999.0000,-999.000,-999.000
     316N151_4,   A22,    42,  1,     18,     18,2,19970824,2112, 23.5342, -65.9958, 5766,17642.8,   1749.8,   4.0345,  35.0255,2,  35.0251,2,    254.2,2,  3.8905,    252.2,2,    15.93,2,    18.64,2,     0.00,2,     1.24,2,    0.216,2,    0.114,2,    0.007,2, -999.000,9,-999.0000,5,  -999.00,9,    -86.0,2,     1.04,2,-999.000,9,   2162.1,2,   -999.0,9,   2321.0,2,   7.7470,2,25,     3.0, -999.00,-999.0000,-999.000,-999.000
     316N151_4,   A22,    42,  1,     17,     17,2,19970824,2112, 23.5342, -65.9958, 5766,20130.6,   1998.5,   3.6264,  34.9928,2,  34.9940,2,    258.2,2,  3.4646,    257.1,2,    17.63,2,    18.56,2,     0.00,2,     1.24,2,    0.178,2,    0.098,2,    0.002,2, -999.000,9,-999.0000,5,  -999.00,9,    -88.4,2,     1.07,2,-999.000,9,   2161.6,2,   -999.0,9,   2321.7,2,   7.7520,2,25,     2.8, -999.00,-999.0000,-999.000,-999.000
     316N151_4,   A22,    42,  1,     16,     16,2,19970824,2112, 23.5342, -65.9958, 5766,22657.8,   2251.2,   3.2871,  34.9694,2,  34.9700,2,    259.7,2,  3.1064,    259.2,2,    19.74,2,    18.56,2,     0.00,2,     1.25,2,    0.174,2,    0.092,2,    0.004,2, -999.000,9,-999.0000,5,  -999.00,9,    -85.4,2,     1.08,2,-999.000,9,   2163.5,2,   -999.0,9,   2320.5,2,   7.7480,2,25,     2.5, -999.00,-999.0000,-999.000,-999.000
     316N151_4,   A22,    42,  1,     15,     15,2,19970824,2112, 23.5342, -65.9958, 5766,25143.3,   2499.5,   3.0687,  34.9574,2,  34.9576,2,    258.0,2,  2.8675,    257.7,2,    23.35,2,    19.00,2,     0.00,2,     1.28,2,    0.094,2,    0.054,2,    0.007,2, -999.000,9,-999.0000,5,  -999.00,9,    -93.1,2,     1.04,2,-999.000,9,   2167.0,2,   -999.0,9,   2325.0,2,   7.7510,2,25,     4.5, -999.00,-999.0000,-999.000,-999.000
     316N151_4,   A22,    42,  1,     14,     14,2,19970824,2112, 23.5342, -65.9958, 5766,27662.6,   2751.3,   2.8689,  34.9425,2,  34.9433,2,    258.0,2,  2.6465,    258.2,2,    26.05,2,    19.23,2,     0.00,2,     1.30,2,    0.099,2,    0.055,2,    0.004,2, -999.000,9,-999.0000,5,  -999.00,9,    -93.0,2,     1.05,2,-999.000,9,   2169.4,2,   -999.0,9,   2329.5,3,   7.7490,2,25,     4.7, -999.00,-999.0000,-999.000,-999.000
     316N151_4,   A22,    42,  1,     13,     13,2,19970824,2112, 23.5342, -65.9958, 5766,30132.5,   2998.2,   2.7051,  34.9309,2,  34.9308,2,    261.2,2,  2.4608,    261.3,2,    26.15,2,    18.87,2,     0.00,2,     1.28,2,    0.152,2,    0.084,2,    0.006,2, -999.000,9,-999.0000,5,  -999.00,9,    -90.3,2,     1.00,2,-999.000,9,   2168.2,2,   -999.0,9,   2326.3,2,   7.7520,2,25,     4.8, -999.00,-999.0000,-999.000,-999.000
     316N151_4,   A22,    42,  1,     12,     12,2,19970824,2112, 23.5342, -65.9958, 5766,32669.0,   3251.7,   2.5602,  34.9206,2,  34.9147,2,    264.5,2,  2.2928,    264.7,2,    26.05,2,    18.55,2,     0.00,2,     1.26,2,    0.251,2,    0.132,2,    0.010,2, -999.000,9,-999.0000,5,  -999.00,9,    -78.7,2,     1.08,2,-999.000,9,   2166.9,2,   -999.0,9,   2325.9,2,   7.7540,2,25,     5.1, -999.00,-999.0000,-999.000,-999.000
     316N151_4,   A22,    42,  1,     11,     11,2,19970824,2112, 23.5342, -65.9958, 5766,35159.1,   3500.7,   2.4403,  34.9124,2,  34.9131,2,    266.1,2,  2.1493,    266.0,2,    26.95,2,    18.47,2,     0.00,2,     1.26,2,    0.253,2,    0.137,2,    0.011,2, -999.000,9,-999.0000,5,  -999.00,9,    -84.9,2,     1.07,2,-999.000,9,   2167.0,2,   -999.0,9,   2325.8,2,   7.7510,2,25,     5.3, -999.00,-999.0000,-999.000,-999.000
     316N151_4,   A22,    42,  1,     10,     10,2,19970824,2112, 23.5342, -65.9958, 5766,37647.9,   3749.4,   2.3605,  34.9056,2,  34.9063,2,    265.9,2,  2.0444,    266.3,2,    28.45,2,    18.59,2,     0.00,2,     1.27,2,    0.253,2,    0.134,2,    0.015,2, -999.000,9,-999.0000,5,  -999.00,9,   -999.0,9,  -999.00,9,-999.000,9,   2169.6,2,   -999.0,9,   2328.5,2,   7.7440,2,25,  -999.0, -999.00,-999.0000,-999.000,-999.000
     316N151_4,   A22,    42,  1,      9,      9,2,19970824,2112, 23.5342, -65.9958, 5766,40157.3,   4000.2,   2.3131,  34.9015,2,  34.8995,2,    266.1,2,  1.9701,    266.4,2,    29.16,2,    18.55,2,     0.00,2,     1.27,2,    0.319,6,    0.167,6,    0.016,2, -999.000,9,-999.0000,5,  -999.00,9,    -97.5,2,     1.06,2,-999.000,9,   2170.2,2,   -999.0,9,   2327.9,2,   7.7490,2,25,     4.2, -999.00,-999.0000,-999.000,-999.000
     316N151_4,   A22,    42,  1,      8,      8,2,19970824,2112, 23.5342, -65.9958, 5766,42663.5,   4250.7,   2.2942,  34.8964,2,  34.8970,2,    265.2,2,  1.9228,    265.6,2,    30.56,2,    18.75,2,     0.00,2,     1.28,2,    0.329,2,    0.171,2,    0.016,2, -999.000,9,-999.0000,5,  -999.00,9,   -999.0,9,  -999.00,9,-999.000,9,   2174.4,2,   -999.0,9,   2327.1,2,   7.7430,2,25,  -999.0, -999.00,-999.0000,-999.000,-999.000
     316N151_4,   A22,    42,  1,      7,      7,2,19970824,2112, 23.5342, -65.9958, 5766,45156.7,   4499.9,   2.2858,  34.8930,2,  34.8926,2,    264.0,2,  1.8850,    264.5,2,    32.56,2,    19.03,2,     0.00,2,     1.30,2,    0.305,2,    0.162,2,    0.019,2, -999.000,9,-999.0000,5,  -999.00,9,    -93.6,2,     0.99,2,-999.000,9,   2174.5,2,   -999.0,9,   2331.5,2,   7.7460,2,25,     3.2, -999.00,-999.0000,-999.000,-999.000
     316N151_4,   A22,    42,  1,      6,      6,2,19970824,2112, 23.5342, -65.9958, 5766,47640.7,   4748.2,   2.2767,  34.8893,2,  34.8890,2,    262.2,2,  1.8462,    262.6,2,    34.87,2,    19.43,2,     0.00,2,     1.33,2,    0.245,2,    0.132,2,    0.018,2, -999.000,9,-999.0000,5,  -999.00,9,    -93.4,2,     1.03,2,-999.000,9,   2177.4,2,   -999.0,9,   2333.5,2,   7.7380,2,25,     2.9, -999.00,-999.0000,-999.000,-999.000
     316N151_4,   A22,    42,  1,      5,      5,2,19970824,2112, 23.5342, -65.9958, 5766,50165.2,   5000.6,   2.2355,  34.8800,2,  34.8799,2,    258.6,2,  1.7750,    258.7,2,    40.27,2,    20.31,2,     0.00,2,     1.40,2,    0.142,2,    0.076,2,    0.015,2, -999.000,9,-999.0000,5,  -999.00,9,    -99.0,2,     0.99,2,-999.000,9,   2183.7,2,   -999.0,9,   2338.7,2,   7.7410,2,25,     2.9, -999.00,-999.0000,-999.000,-999.000
     316N151_4,   A22,    42,  1,      4,      4,2,19970824,2112, 23.5342, -65.9958, 5766,52654.1,   5249.4,   2.1384,  34.8650,2,  34.8640,2,    254.2,2,  1.6497,    253.1,2,    48.68,2,    21.67,2,     0.00,2,     1.49,2,    0.050,2,    0.033,2,    0.005,2, -999.000,9,-999.0000,5,  -999.00,9,   -999.0,9,  -999.00,9,-999.000,9,   2193.0,2,   -999.0,9,   2345.3,2,   7.7260,2,25,  -999.0, -999.00,-999.0000,-999.000,-999.000
     316N151_4,   A22,    42,  1,      3,      3,2,19970824,2112, 23.5342, -65.9958, 5766,55160.8,   5499.9,   2.0669,  34.8518,2,  34.8503,2,    250.4,2,  1.5484,    249.8,2,    54.69,2,    22.51,2,     0.00,2,     1.55,2,    0.040,6,    0.035,6, -999.000,9, -999.000,9,-999.0000,5,  -999.00,9,   -111.6,2,     0.88,2,-999.000,9,   2199.6,2,   -999.0,9,   2349.6,2,   7.7200,2,25,     4.1, -999.00,-999.0000,-999.000,-999.000
     316N151_4,   A22,    42,  1,      2,      2,2,19970824,2112, 23.5342, -65.9958, 5766,57659.2,   5749.8,   2.0644,  34.8472,2,  34.8446,2,    248.7,2,  1.5130,    248.4,2,    56.69,2,    22.87,2,     0.00,2,     1.57,2,    0.034,2,    0.035,2,    0.007,2, -999.000,9,-999.0000,5,  -999.00,9,   -114.9,2,     0.86,2,-999.000,9,   2201.6,2,   -999.0,9,   2349.7,6,   7.7220,2,25,     3.5, -999.00,-999.0000,-999.000,-999.000
     316N151_4,   A22,    42,  1,      1,      1,2,19970824,2112, 23.5342, -65.9958, 5766,59490.7,   5933.0,   2.0772,  34.8458,2,  34.8458,2,    246.4,2,  1.5007,    248.0,2,    57.64,6,    23.00,6,     0.00,6,     1.58,6,    0.037,2,    0.037,2,    0.018,2, -999.000,9,-999.0000,5,  -999.00,9,   -117.6,2,     0.80,2,-999.000,9,   2202.3,2,   -999.0,9,   2350.1,2,   7.7270,2,25,     3.9, -999.00,-999.0000,-999.000,-999.000