BOTTLE,20220629CCHSIOAMB
EXPOCODE,SECT_ID,STNNBR,CASTNO,SAMPNO,BTLNBR,BTLNBR_FLAG_W,DATE,TIME,LATITUDE,LONGITUDE,DEPTH,CTDRAW,CTDPRS,CTDTMP,CTDSAL,CTDSAL_FLAG_W,SALNTY,SALNTY_FLAG_W,CTDOXY,CTDOXY_FLAG_W,THETA,OXYGEN,OXYGEN_FLAG_W,SILCAT,SILCAT_FLAG_W,NITRAT,NITRAT_FLAG_W,NITRIT,NITRIT_FLAG_W,PHSPHT,PHSPHT_FLAG_W,CFC-11,CFC-11_FLAG_W,CFC-12,CFC-12_FLAG_W,CFC113,CFC113_FLAG_W,TRITUM,TRITUM_FLAG_W,HELIUM,HELIUM_FLAG_W,DELHE3,DELHE3_FLAG_W,DELC14,DELC14_FLAG_W,DELC13,DELC13_FLAG_W,NEON,NEON_FLAG_W,TCARBN,TCARBN_FLAG_W,PCO2,PCO2_FLAG_W,ALKALI,ALKALI_FLAG_W,PH,PH_FLAG_W,PH_TMP,C14ERR,DELHER,HELIER,NEONER,TRITER
,,,,,,,,,,,,,DBAR,ITS-90,PSS-78,,PSS-78,,UMOL/KG,,ITS-90,UMOL/KG,,UMOL/KG,,UMOL/KG,,UMOL/KG,,UMOL/KG,,PMOL/KG,,PMOL/KG,,PMOL/KG,,TU,,NMOL/KG,,PERCNT,,/MILLE,,/MILLE,,NMOL/KG,,UMOL/KG,,UATM,,UMOL/KG,,,,DEG C,/MILLE,PERCNT,NMOL/KG,NMOL/KG,TU
     316N151_4,   A22,    32,  1,     28,     28,2,19970822,0613, 18.9782, -66.0027, 3482,  217.6,      5.2,  28.7303,  36.1958,2,  36.1975,2,    186.9,2, 28.7291,    208.2,2,     1.09,2,     0.04,2,     0.00,2,     0.01,2,    1.635,2,    0.991,2,    0.128,2, -999.000,9,-999.0000,5,  -999.00,9,     74.8,6,     1.44,2,-999.000,9,   1997.5,2,    261.0,2,   2371.1,2,   8.1250,2,25,     3.2, -999.00,-999.0000,-999.000,-999.000
     316N151_4,   A22,    32,  1,     27,     27,2,19970822,0613, 18.9782, -66.0027, 3482,  689.7,     52.5,  28.6459,  36.1936,2,  36.2007,2,    211.3,2, 28.6333,    203.1,2,     1.00,2,     0.04,2,     0.00,2,     0.01,2, -999.000,9, -999.000,9, -999.000,9, -999.000,9,-999.0000,5,  -999.00,9,     75.5,2,     1.40,2,-999.000,9,   1997.4,2,    262.0,2,   2366.0,6,   8.1190,2,25,     3.8, -999.00,-999.0000,-999.000,-999.000
     316N151_4,   A22,    32,  1,     26,     26,2,19970822,0613, 18.9782, -66.0027, 3482, 1170.6,    100.8,  25.4412,  36.8555,2,  36.8613,2,    212.1,2, 25.4189,    215.5,2,     0.91,2,     0.04,2,     0.03,2,     0.01,2,    1.901,6,    1.120,6,    0.137,2, -999.000,9,-999.0000,5,  -999.00,9,     82.6,2,     1.44,2,-999.000,9,   2035.1,2,    271.0,2,   2411.0,2,   8.1110,2,25,     3.5, -999.00,-999.0000,-999.000,-999.000
     316N151_4,   A22,    32,  1,     25,     25,2,19970822,0613, 18.9782, -66.0027, 3482, 1674.1,    151.3,  24.0270,  37.1830,2,  37.1844,2,    197.9,2, 23.9948,    198.0,2,     0.72,2,     0.30,2,     0.09,2,     0.02,2,    1.980,2,    1.154,2,    0.141,2, -999.000,9,-999.0000,5,  -999.00,9,     91.8,2,     1.32,2,-999.000,9,   2074.1,2,    302.0,2,   2429.0,2,   8.0750,2,25,     3.5, -999.00,-999.0000,-999.000,-999.000
     316N151_4,   A22,    32,  1,     24,     24,2,19970822,0613, 18.9782, -66.0027, 3482, 2163.5,    200.4,  21.3709,  37.0986,2,  37.0921,2,    182.7,2, 21.3316,    179.3,2,     0.73,2,     1.94,2,     0.02,2,     0.08,2,    2.143,2,    1.225,2,    0.057,2, -999.000,9,-999.0000,5,  -999.00,9,     92.4,2,     1.00,2,-999.000,9,   2113.6,2,    372.0,2,   2424.0,2,   8.0070,2,25,     2.5, -999.00,-999.0000,-999.000,-999.000
     316N151_4,   A22,    32,  1,     23,     23,2,19970822,0613, 18.9782, -66.0027, 3482, 2695.0,    253.6,  19.2957,  36.7597,2,  36.7593,2,    184.5,2, 19.2494,    180.4,2,     1.12,2,     3.69,2,     0.01,2,     0.17,2,    2.259,2,    1.259,2,    0.020,2, -999.000,9,-999.0000,5,  -999.00,9,     92.3,2,     0.93,2,-999.000,9,   2113.9,2,    400.0,2,   2401.9,2,   7.9760,2,25,     4.6, -999.00,-999.0000,-999.000,-999.000
     316N151_4,   A22,    32,  1,     22,     22,2,19970822,0613, 18.9782, -66.0027, 3482, 3157.8,    300.2,  18.0526,  36.5518,2,  36.5528,2,    184.1,2, 18.0003,    177.3,2,     1.79,2,     6.24,2,     0.01,2,     0.33,2,    2.215,2,    1.222,2,    0.016,2, -999.000,9,-999.0000,5,  -999.00,9,     77.5,2,     0.87,2,-999.000,9,   2119.5,2,    432.0,2,   2390.1,2,   7.9530,2,25,     4.4, -999.00,-999.0000,-999.000,-999.000
     316N151_4,   A22,    32,  1,     21,     21,2,19970822,0613, 18.9782, -66.0027, 3482, 4174.5,    402.3,  15.4824,  36.1089,2,  36.1080,2,    155.2,2, 15.4192,    148.9,2,     4.30,2,    13.33,2,     0.00,2,     0.78,2,    1.816,2,    0.966,2,    0.015,2, -999.000,9,-999.0000,5,  -999.00,9,     53.3,2,     0.69,2,-999.000,9,   2151.5,2,    563.0,2,   2364.5,2,   7.8440,2,25,     3.8, -999.00,-999.0000,-999.000,-999.000
     316N151_4,   A22,    32,  1,     20,     20,2,19970822,0613, 18.9782, -66.0027, 3482, 5160.8,    501.3,  13.2808,  35.7377,2,  35.7426,2,    145.0,2, 13.2096,    146.4,2,     6.62,2,    17.18,2,     0.00,2,     1.04,2,    1.347,6,    0.710,6,    0.016,2, -999.000,9,-999.0000,5,  -999.00,9,     45.7,6,     0.68,2,-999.000,9,   2159.0,2,    648.0,2,   2345.6,2,   7.8030,2,25,     3.9, -999.00,-999.0000,-999.000,-999.000
     316N151_4,   A22,    32,  1,     19,     19,2,19970822,0613, 18.9782, -66.0027, 3482, 6164.6,    602.0,  11.0684,  35.3993,2,  35.3985,2,    136.2,2, 10.9922,    132.5,2,    10.85,2,    22.70,2,     0.00,2,     1.41,2,    0.766,2,    0.403,2,    0.004,2, -999.000,9,-999.0000,5,  -999.00,9,    -38.2,6,     0.67,2,-999.000,9,   2180.9,2,    784.0,2,   2330.5,2,   7.7200,2,25,     3.8, -999.00,-999.0000,-999.000,-999.000
     316N151_4,   A22,    32,  1,     18,     18,2,19970822,0613, 18.9782, -66.0027, 3482, 7151.2,    700.6,   9.3511,  35.1743,2,  35.1793,2,    131.3,2,  9.2708,    130.6,2,    14.82,2,    26.09,2,     0.00,2,     1.66,2,    0.413,2,    0.221,2,    0.004,2, -999.000,9,-999.0000,5,  -999.00,9,    -45.9,2,     0.62,2,-999.000,9,   2191.6,2,    879.0,2,   2322.1,2,   7.6820,2,25,     5.6, -999.00,-999.0000,-999.000,-999.000
     316N151_4,   A22,    32,  1,     17,     17,2,19970822,0613, 18.9782, -66.0027, 3482, 8148.7,    800.6,   8.0046,  35.0425,2,  35.0402,2,    136.0,2,  7.9204,    136.0,2,    18.10,2,    27.71,2,     0.00,2,     1.80,2,    0.236,2,    0.131,2,    0.004,2, -999.000,9,-999.0000,5,  -999.00,9,    -83.2,2,     0.66,6,-999.000,9,   2198.1,2,    928.0,2,   2320.2,2,   7.6540,2,25,     2.5, -999.00,-999.0000,-999.000,-999.000
     316N151_4,   A22,    32,  1,     16,     16,2,19970822,0613, 18.9782, -66.0027, 3482, 9131.5,    899.0,   7.3365,  35.0308,2,  35.0275,2,    152.8,2,  7.2459,    152.5,2,    18.50,2,    26.57,2,     0.00,2,     1.74,2,    0.257,2,    0.138,2,    0.004,2, -999.000,9,-999.0000,5,  -999.00,9,    -78.9,2,     0.75,2,-999.000,9,   2194.5,2,    905.0,2,   2320.2,2,   7.6710,2,25,     2.5, -999.00,-999.0000,-999.000,-999.000
     316N151_4,   A22,    32,  1,     15,     15,2,19970822,0613, 18.9782, -66.0027, 3482,10138.6,    999.7,   6.3094,  34.9902,2,  34.9936,2,    175.1,2,  6.2155,    170.4,2,    19.09,2,    25.62,2,     0.00,2,     1.69,2,    0.234,2,    0.122,2,    0.008,2, -999.000,9,-999.0000,5,  -999.00,9,    -71.6,2,     0.70,2,-999.000,9,   2192.1,2,    891.0,2,   2320.0,2,   7.6710,2,25,     3.4, -999.00,-999.0000,-999.000,-999.000
     316N151_4,   A22,    32,  1,     14,     14,2,19970822,0613, 18.9782, -66.0027, 3482,11146.2,   1100.6,   5.6680,  35.0380,2,  35.0241,2,    201.0,2,  5.5691,    201.8,2,    17.16,2,    22.47,2,     0.00,2,     1.50,2,    0.401,2,    0.206,2,    0.013,2, -999.000,9,-999.0000,5,  -999.00,9,    -53.3,2,     0.85,2,-999.000,9,   2181.3,2,    815.0,2,   2322.4,2,   7.7060,2,25,     4.5, -999.00,-999.0000,-999.000,-999.000
     316N151_4,   A22,    32,  1,     13,     13,2,19970822,0613, 18.9782, -66.0027, 3482,13137.1,   1299.7,   4.7149,  35.0261,2,  35.0235,2,    239.8,2,  4.6055,    238.7,2,    13.89,2,    19.23,2,     0.00,2,     1.28,2,    0.730,2,    0.367,2,    0.019,2, -999.000,9,-999.0000,5,  -999.00,9,    -54.4,2,     0.99,2,-999.000,9,   2165.8,2,    760.0,2,   -999.0,9,-999.0000,9,-999,     6.3, -999.00,-999.0000,-999.000,-999.000
     316N151_4,   A22,    32,  1,     12,     12,2,19970822,0613, 18.9782, -66.0027, 3482,15136.4,   1499.6,   4.2321,  35.0008,2,  35.0007,2,    254.2,2,  4.1092,    252.9,2,    13.42,2,    18.40,2,     0.00,2,     1.23,2,    0.782,2,    0.390,2,    0.021,2, -999.000,9,-999.0000,5,  -999.00,9,    -50.3,6,     1.03,6,-999.000,9,   2159.9,2,    745.0,2,   2315.5,2,   7.7450,2,25,     2.0, -999.00,-999.0000,-999.000,-999.000
     316N151_4,   A22,    32,  1,     11,     11,2,19970822,0613, 18.9782, -66.0027, 3482,16649.0,   1650.8,   3.9930,  34.9905,2,  34.9902,2,    257.9,2,  3.8590,    258.5,2,    13.63,2,    18.09,2,     0.00,2,     1.21,2,    0.713,2,    0.364,2,    0.027,2, -999.000,9,-999.0000,5,  -999.00,9,    -59.2,2,     1.06,2,-999.000,9,   2157.8,2,    738.0,2,   2315.5,2,   7.7470,2,25,     2.9, -999.00,-999.0000,-999.000,-999.000
     316N151_4,   A22,    32,  1,     10,     10,2,19970822,0613, 18.9782, -66.0027, 3482,18147.6,   1800.5,   3.8056,  34.9811,2,  34.9808,2,    260.7,2,  3.6599,    260.5,2,    14.51,2,    18.05,2,     0.00,2,     1.21,2,    0.620,2,    0.310,2,    0.018,2, -999.000,9,-999.0000,5,  -999.00,9,    -60.5,2,     1.01,2,-999.000,9,   2158.4,2,    733.0,2,   2314.3,2,   7.7470,2,25,     2.7, -999.00,-999.0000,-999.000,-999.000
     316N151_4,   A22,    32,  1,      9,      9,2,19970822,0613, 18.9782, -66.0027, 3482,20150.7,   2000.9,   3.6335,  34.9765,2,  34.9757,2,    261.1,2,  3.4714,    261.0,2,    15.57,2,    18.09,2,     0.00,2,     1.21,2,    0.467,2,    0.239,2,    0.014,2, -999.000,9,-999.0000,5,  -999.00,9,    -67.9,2,     1.06,6,-999.000,9,   2158.6,2,   -999.0,9,   2317.2,2,   7.7470,2,25,     2.5, -999.00,-999.0000,-999.000,-999.000
     316N151_4,   A22,    32,  1,      8,      8,2,19970822,0613, 18.9782, -66.0027, 3482,22652.7,   2250.9,   3.4363,  34.9701,2,  34.9700,2,    262.1,2,  3.2531,    261.5,2,    17.23,2,    18.13,2,     0.00,2,     1.22,2,    0.350,2,    0.178,2,    0.012,2, -999.000,9,-999.0000,5,  -999.00,9,    -73.3,2,     1.06,2,-999.000,9,   2159.0,2,    728.0,2,   2316.9,2,   7.7490,2,25,     2.6, -999.00,-999.0000,-999.000,-999.000
     316N151_4,   A22,    32,  1,      7,      7,2,19970822,0613, 18.9782, -66.0027, 3482,24145.6,   2400.2,   3.3257,  34.9646,2,  34.9648,2,    262.0,2,  3.1296,    261.5,2,    18.21,2,    18.20,2,     0.00,2,     1.22,2,    0.295,6,    0.153,6,    0.008,2, -999.000,9,-999.0000,5,  -999.00,9,    -72.9,2,     1.08,2,-999.000,9,   2159.1,2,    727.0,2,   2321.0,2,   7.7520,2,25,     2.4, -999.00,-999.0000,-999.000,-999.000
     316N151_4,   A22,    32,  1,      6,      6,2,19970822,0613, 18.9782, -66.0027, 3482,25647.3,   2550.4,   3.1988,  34.9586,2,  34.9582,2,    262.4,2,  2.9902,    262.3,2,    19.19,2,    18.20,2,     0.00,2,     1.23,2,    0.286,2,    0.143,2,    0.007,2, -999.000,9,-999.0000,5,  -999.00,9,    -72.9,6,     1.04,6,-999.000,9,   2160.0,2,    727.0,2,   2320.2,2,   7.7510,2,25,     1.9, -999.00,-999.0000,-999.000,-999.000
     316N151_4,   A22,    32,  1,      5,      5,2,19970822,0613, 18.9782, -66.0027, 3482,27145.8,   2700.2,   3.0627,  34.9519,2,  34.9503,2,    262.9,2,  2.8415,    262.4,2,    20.55,2,    18.28,2,     0.00,2,     1.24,2,    0.282,2,    0.143,2,    0.002,2, -999.000,9,-999.0000,5,  -999.00,9,    -89.9,6,     1.06,2,-999.000,9,   2162.7,2,    726.0,2,   2322.3,2,   7.7480,2,25,     2.2, -999.00,-999.0000,-999.000,-999.000
     316N151_4,   A22,    32,  1,      4,      4,2,19970822,0613, 18.9782, -66.0027, 3482,28648.9,   2850.6,   2.9217,  34.9446,2,  34.9444,2,    262.4,2,  2.6881,    261.6,2,    22.89,2,    18.55,2,     0.00,2,     1.25,2,    0.236,2,    0.119,2,    0.003,2, -999.000,9,-999.0000,5,  -999.00,9,    -78.1,2,     1.03,2,-999.000,9,   2164.5,2,    713.0,2,   2323.8,2,   7.7540,2,25,     3.3, -999.00,-999.0000,-999.000,-999.000
     316N151_4,   A22,    32,  1,      3,      3,2,19970822,0613, 18.9782, -66.0027, 3482,31162.5,   3102.0,   2.7329,  34.9310,2,  34.9309,2,    266.8,2,  2.4774,    266.1,2,    22.31,2,    18.04,2,     0.00,2,     1.22,2,    0.407,2,    0.203,2,    0.010,2, -999.000,9,-999.0000,5,  -999.00,9,    -77.5,6,     1.03,2,-999.000,9,   2162.4,2,    718.0,2,   2321.5,2,   7.7540,2,25,     0.0, -999.00,-999.0000,-999.000,-999.000
     316N151_4,   A22,    32,  1,      2,      2,2,19970822,0613, 18.9782, -66.0027, 3482,33149.3,   3300.7,   2.6152,  34.9240,2,  34.9301,2,    267.7,2,  2.3413,    267.0,2,    22.91,2,    17.96,2,     0.00,2,     1.22,2,    0.438,2,    0.218,2,    0.011,2, -999.000,9,-999.0000,5,  -999.00,9,    -78.7,2,     1.08,2,-999.000,9,   2163.0,2,    720.0,2,   2322.3,6,   7.7470,6,25,     2.5, -999.00,-999.0000,-999.000,-999.000
     316N151_4,   A22,    32,  1,      1,      1,2,19970822,0613, 18.9782, -66.0027, 3482,35386.8,   3524.5,   2.5669,  34.9196,2,  34.9172,2,    265.5,2,  2.2702,    268.2,2,    23.78,6,    17.99,6,     0.00,6,     1.23,6,    0.455,2,    0.224,2,    0.011,2, -999.000,9,-999.0000,5,  -999.00,9,    -78.4,2,     1.11,2,-999.000,9,   2165.5,2,    717.0,2,   2322.9,2,   7.7530,2,25,     2.6, -999.00,-999.0000,-999.000,-999.000