BOTTLE,20220629CCHSIOAMB
EXPOCODE,SECT_ID,STNNBR,CASTNO,SAMPNO,BTLNBR,BTLNBR_FLAG_W,DATE,TIME,LATITUDE,LONGITUDE,DEPTH,CTDRAW,CTDPRS,CTDTMP,CTDSAL,CTDSAL_FLAG_W,SALNTY,SALNTY_FLAG_W,CTDOXY,CTDOXY_FLAG_W,THETA,OXYGEN,OXYGEN_FLAG_W,SILCAT,SILCAT_FLAG_W,NITRAT,NITRAT_FLAG_W,NITRIT,NITRIT_FLAG_W,PHSPHT,PHSPHT_FLAG_W,CFC-11,CFC-11_FLAG_W,CFC-12,CFC-12_FLAG_W,CFC113,CFC113_FLAG_W,TRITUM,TRITUM_FLAG_W,HELIUM,HELIUM_FLAG_W,DELHE3,DELHE3_FLAG_W,DELC14,DELC14_FLAG_W,DELC13,DELC13_FLAG_W,NEON,NEON_FLAG_W,TCARBN,TCARBN_FLAG_W,PCO2,PCO2_FLAG_W,ALKALI,ALKALI_FLAG_W,PH,PH_FLAG_W,PH_TMP,C14ERR,DELHER,HELIER,NEONER,TRITER
,,,,,,,,,,,,,DBAR,ITS-90,PSS-78,,PSS-78,,UMOL/KG,,ITS-90,UMOL/KG,,UMOL/KG,,UMOL/KG,,UMOL/KG,,UMOL/KG,,PMOL/KG,,PMOL/KG,,PMOL/KG,,TU,,NMOL/KG,,PERCNT,,/MILLE,,/MILLE,,NMOL/KG,,UMOL/KG,,UATM,,UMOL/KG,,,,DEG C,/MILLE,PERCNT,NMOL/KG,NMOL/KG,TU
     316N151_4,   A22,    14,  1,     31,     31,2,19970819,0414, 15.6893, -65.9977, 4551,  199.0,      2.3,  28.5365,  35.2316,2,  35.6048,2,    198.2,2, 28.5359,    206.1,2,     1.45,2,     0.02,2,     0.00,2,     0.00,2,    1.659,2,    0.988,2,    0.125,2, -999.000,9,-999.0000,5,  -999.00,9,   -999.0,9,  -999.00,9,-999.000,9,   1977.5,2,    261.0,2,   2338.2,2,   8.1220,2,25,  -999.0, -999.00,-999.0000,-999.000,-999.000
     316N151_4,   A22,    14,  1,     30,     30,2,19970819,0414, 15.6893, -65.9977, 4551,  680.0,     50.5,  28.5365,  35.6211,2,  35.6009,2,    207.1,2, 28.5245,    206.1,2,     1.46,2,     0.02,2,     0.00,2,     0.00,2,    1.667,6,    0.985,6,    0.120,2, -999.000,9,-999.0000,5,  -999.00,9,   -999.0,9,  -999.00,9,-999.000,9,   1977.4,2,    267.0,2,   2335.3,6,   8.1150,2,25,  -999.0, -999.00,-999.0000,-999.000,-999.000
     316N151_4,   A22,    14,  1,     29,     29,2,19970819,0414, 15.6893, -65.9977, 4551, 1164.9,     99.7,  26.3648,  36.2533,2,  36.2490,2,    196.1,2, 26.3422,    198.6,2,     1.27,2,     0.19,2,     0.36,2,     0.04,2,    1.809,2,    0.994,2,    0.134,2, -999.000,9,-999.0000,5,  -999.00,9,   -999.0,9,  -999.00,9,-999.000,9,   2025.1,2,   -999.0,9,   2372.0,2,   8.0930,2,25,  -999.0, -999.00,-999.0000,-999.000,-999.000
     316N151_4,   A22,    14,  1,     28,     28,2,19970819,0414, 15.6893, -65.9977, 4551, 1665.7,    150.4,  22.9311,  36.9932,2,  36.9949,2,    164.1,2, 22.9002,    167.7,2,     1.68,2,     3.47,2,     0.04,2,     0.22,2,    1.996,6,    1.135,6,    0.086,2, -999.000,9,-999.0000,5,  -999.00,9,   -999.0,9,  -999.00,9,-999.000,9,   2111.6,2,    375.0,2,   2418.0,2,   8.0070,2,25,  -999.0, -999.00,-999.0000,-999.000,-999.000
     316N151_4,   A22,    14,  1,     27,     27,2,19970819,0414, 15.6893, -65.9977, 4551, 2172.5,    201.2,  19.1492,  36.7055,2,  36.7090,2,    173.0,2, 19.1128,    160.6,2,     2.27,2,     6.43,2,     0.01,2,     0.34,2,    2.132,2,    1.171,2,    0.019,2, -999.000,9,-999.0000,5,  -999.00,9,   -999.0,9,  -999.00,9,-999.000,9,   2133.2,2,   -999.0,9,   2399.9,2,   7.9480,2,25,  -999.0, -999.00,-999.0000,-999.000,-999.000
     316N151_4,   A22,    14,  1,     26,     26,2,19970819,0414, 15.6893, -65.9977, 4551, 2682.2,    252.5,  17.1882,  36.3485,2,  36.3513,2,    153.3,2, 17.1457,    154.3,2,     3.67,2,    10.35,2,     0.01,2,     0.60,2,    1.991,2,    1.074,2,    0.023,2, -999.000,9,-999.0000,5,  -999.00,9,   -999.0,9,  -999.00,9,-999.000,9,   2142.5,2,    506.0,2,   2378.2,2,   7.8950,2,25,  -999.0, -999.00,-999.0000,-999.000,-999.000
     316N151_4,   A22,    14,  1,     25,     25,2,19970819,0414, 15.6893, -65.9977, 4551, 3189.5,    303.7,  16.1013,  36.2054,2,  36.2061,2,    162.9,2, 16.0524,    163.0,2,     3.78,2,    10.83,2,     0.01,2,     0.63,2,    1.946,2,    1.044,2,    0.015,2, -999.000,9,-999.0000,5,  -999.00,9,   -999.0,9,  -999.00,9,-999.000,9,   2139.4,2,   -999.0,9,   2370.5,2,   7.8920,2,25,  -999.0, -999.00,-999.0000,-999.000,-999.000
     316N151_4,   A22,    14,  1,     24,     24,2,19970819,0414, 15.6893, -65.9977, 4551, 4179.0,    403.2,  13.1907,  35.7155,2,  35.7210,2,    137.9,2, 13.1339,    145.8,2,     7.26,2,    17.45,2,     0.00,2,     1.05,2,    1.311,6,    0.699,6,    0.014,2, -999.000,9,-999.0000,5,  -999.00,9,   -999.0,9,  -999.00,9,-999.000,9,   2162.8,2,    654.0,2,   2345.6,2,   7.7990,2,25,  -999.0, -999.00,-999.0000,-999.000,-999.000
     316N151_4,   A22,    14,  1,     23,     23,2,19970819,0414, 15.6893, -65.9977, 4551, 5160.4,    501.7,  11.2028,  35.4075,2,  35.4073,2,    131.3,2, 11.1391,    133.6,2,    10.84,2,    22.24,2,     0.00,2,     1.39,2,    0.825,2,    0.448,2,    0.005,2, -999.000,9,-999.0000,5,  -999.00,9,   -999.0,9,  -999.00,9,-999.000,9,   2181.2,2,   -999.0,9,   2331.1,2,   7.7270,2,25,  -999.0, -999.00,-999.0000,-999.000,-999.000
     316N151_4,   A22,    14,  1,     22,     22,2,19970819,0414, 15.6893, -65.9977, 4551, 6161.7,    602.3,   8.9570,  35.0792,2,  35.0840,2,    129.7,2,  8.8902,    126.9,2,    16.30,2,    27.39,2,     0.00,2,     1.75,2,    0.404,2,    0.228,2,    0.002,2, -999.000,9,-999.0000,5,  -999.00,9,   -999.0,9,  -999.00,9,-999.000,9,   2198.4,2,    920.0,2,   2320.2,2,   7.6580,2,25,  -999.0, -999.00,-999.0000,-999.000,-999.000
     316N151_4,   A22,    14,  1,     21,     21,2,19970819,0414, 15.6893, -65.9977, 4551, 7154.8,    701.8,   7.6757,  34.9635,2,  34.9648,2,    132.7,2,  7.6041,    131.8,2,    19.79,2,    29.03,2,     0.00,2,     1.89,2,    0.205,2,    0.122,2,    0.001,2, -999.000,9,-999.0000,5,  -999.00,9,   -999.0,9,  -999.00,9,-999.000,9,   2205.4,2,    975.0,2,   2317.0,2,   7.6330,2,25,  -999.0, -999.00,-999.0000,-999.000,-999.000
     316N151_4,   A22,    14,  1,     20,     20,2,19970819,0414, 15.6893, -65.9977, 4551, 8163.6,    802.7,   6.1086,  34.8219,2,  34.8249,2,    143.6,2,  6.0358,    142.5,2,    24.27,2,    30.26,2,     0.00,2,     2.02,2,    0.090,2,    0.053,2,    0.002,2, -999.000,9,-999.0000,5,  -999.00,9,   -999.0,9,  -999.00,9,-999.000,9,   2210.4,2,   1022.0,2,   2315.2,2,   7.6160,2,25,  -999.0, -999.00,-999.0000,-999.000,-999.000
     316N151_4,   A22,    14,  1,     19,     19,2,19970819,0414, 15.6893, -65.9977, 4551, 9168.1,    903.2,   5.6099,  34.8850,2,  34.8852,2,    161.9,2,  5.5306,    161.3,2,    24.67,2,    27.92,2,     0.00,2,     1.87,2,    0.056,2,    0.036,2,   -0.001,2, -999.000,9,-999.0000,5,  -999.00,9,   -999.0,9,  -999.00,9,-999.000,9,   2208.5,2,    936.0,2,   2321.3,2,   7.6410,2,25,  -999.0, -999.00,-999.0000,-999.000,-999.000
     316N151_4,   A22,    14,  1,     18,     18,2,19970819,0414, 15.6893, -65.9977, 4551,10130.5,    999.4,   5.1649,  34.9130,2,  34.9143,2,    177.1,2,  5.0797,    175.8,2,    25.57,2,    26.29,2,     0.00,2,     1.78,2,    0.044,2,    0.032,2,    0.002,2, -999.000,9,-999.0000,5,  -999.00,9,   -999.0,9,  -999.00,9,-999.000,9,   2205.9,2,    900.0,2,   2326.8,2,   7.6630,2,25,  -999.0, -999.00,-999.0000,-999.000,-999.000
     316N151_4,   A22,    14,  1,     17,     17,2,19970819,0414, 15.6893, -65.9977, 4551,11129.9,   1099.4,   4.8438,  34.9458,2,  34.9471,2,    190.5,2,  4.7520,    191.1,2,    24.79,2,    24.60,2,     0.00,2,     1.67,2,    0.052,2,    0.030,2,    0.003,2, -999.000,9,-999.0000,5,  -999.00,9,   -999.0,9,  -999.00,9,-999.000,9,   2199.8,2,    855.0,2,   2328.6,2,   7.6830,2,25,  -999.0, -999.00,-999.0000,-999.000,-999.000
     316N151_4,   A22,    14,  1,     16,     16,2,19970819,0414, 15.6893, -65.9977, 4551,13148.5,   1301.2,   4.4959,  34.9609,2,  34.9609,2,    204.5,2,  4.3886,    202.1,2,    25.49,2,    23.44,2,     0.00,2,     1.60,2,    0.034,6,    0.026,6,    0.002,2, -999.000,9,-999.0000,5,  -999.00,9,   -999.0,9,  -999.00,9,-999.000,9,   2195.3,2,    820.0,2,   2332.8,2,   7.6960,2,25,  -999.0, -999.00,-999.0000,-999.000,-999.000
     316N151_4,   A22,    14,  1,     15,     15,2,19970819,0414, 15.6893, -65.9977, 4551,15137.8,   1500.0,   4.2873,  34.9676,2,  34.9692,2,    207.2,2,  4.1638,    207.2,2,    26.99,2,    22.93,2,     0.00,2,     1.56,2,    0.031,2,    0.020,2,    0.005,2, -999.000,9,-999.0000,5,  -999.00,9,   -999.0,9,  -999.00,9,-999.000,9,   2196.5,2,   -999.0,9,   2335.3,2,   7.7010,2,25,  -999.0, -999.00,-999.0000,-999.000,-999.000
     316N151_4,   A22,    14,  1,     14,     14,2,19970819,0414, 15.6893, -65.9977, 4551,16649.9,   1651.2,   4.2112,  34.9706,2,  34.9728,2,    211.6,2,  4.0744,    210.2,2,    27.40,2,    22.69,2,     0.00,2,     1.55,2,    0.029,2,    0.022,2,    0.004,2, -999.000,9,-999.0000,5,  -999.00,9,   -999.0,9,  -999.00,9,-999.000,9,   2195.1,2,   -999.0,9,   2337.3,2,   7.7080,2,25,  -999.0, -999.00,-999.0000,-999.000,-999.000
     316N151_4,   A22,    14,  1,     13,     13,2,19970819,0414, 15.6893, -65.9977, 4551,18159.6,   1802.1,   4.1644,  34.9743,2,  34.9751,2,    215.0,2,  4.0138,    215.4,2,    26.61,2,    22.13,2,     0.00,2,     1.51,2,    0.071,2,    0.040,2,    0.003,2, -999.000,9,-999.0000,5,  -999.00,9,   -999.0,9,  -999.00,9,-999.000,9,   2192.4,2,   -999.0,9,   2336.0,2,   7.7130,2,25,  -999.0, -999.00,-999.0000,-999.000,-999.000
     316N151_4,   A22,    14,  1,     12,     12,2,19970819,0414, 15.6893, -65.9977, 4551,19661.4,   1952.2,   4.1276,  34.9755,2,  34.9778,2,    215.6,2,  3.9629,    216.1,2,    27.02,2,    22.02,2,     0.00,2,     1.50,2,    0.073,2,    0.034,2,    0.005,2, -999.000,9,-999.0000,5,  -999.00,9,   -999.0,9,  -999.00,9,-999.000,9,   2193.1,2,   -999.0,9,   2336.7,2,   7.7160,2,25,  -999.0, -999.00,-999.0000,-999.000,-999.000
     316N151_4,   A22,    14,  1,     11,     11,2,19970819,0414, 15.6893, -65.9977, 4551,21123.2,   2098.3,   4.1096,  34.9748,2,  34.9776,2,    214.4,2,  3.9307,    215.4,2,    27.91,2,    22.10,2,     0.00,2,     1.51,2,    0.029,2,    0.022,2,    0.006,2, -999.000,9,-999.0000,5,  -999.00,9,   -999.0,9,  -999.00,9,-999.000,9,   2194.3,2,   -999.0,9,   2340.9,2,   7.7180,2,25,  -999.0, -999.00,-999.0000,-999.000,-999.000
     316N151_4,   A22,    14,  1,     10,     10,2,19970819,0414, 15.6893, -65.9977, 4551,22655.5,   2251.4,   4.1037,  34.9751,2,  34.9762,2,    215.3,2,  3.9095,    215.2,2,    28.42,2,    22.13,2,     0.00,2,     1.51,2,    0.018,2,    0.018,2,    0.002,2, -999.000,9,-999.0000,5,  -999.00,9,   -999.0,9,  -999.00,9,-999.000,9,   2195.2,2,   -999.0,9,   2340.7,2,   7.7140,2,25,  -999.0, -999.00,-999.0000,-999.000,-999.000
     316N151_4,   A22,    14,  1,      9,      9,2,19970819,0414, 15.6893, -65.9977, 4551,25149.0,   2500.6,   4.1118,  34.9751,2,  34.9762,2,    215.8,2,  3.8915,    215.3,2,    28.63,2,    22.10,2,     0.00,2,     1.51,2,    0.019,2,    0.020,2,    0.005,2, -999.000,9,-999.0000,5,  -999.00,9,   -999.0,9,  -999.00,9,-999.000,9,   2195.2,2,   -999.0,9,   2340.9,2,   7.7190,2,25,  -999.0, -999.00,-999.0000,-999.000,-999.000
     316N151_4,   A22,    14,  1,      8,      8,2,19970819,0414, 15.6893, -65.9977, 4551,27644.5,   2750.1,   4.1304,  34.9753,2,  34.9775,2,    215.7,2,  3.8830,    215.3,2,    28.93,2,    22.10,2,     0.00,2,     1.51,2,    0.014,2,    0.020,2,    0.003,2, -999.000,9,-999.0000,5,  -999.00,9,   -999.0,9,  -999.00,9,-999.000,9,   2196.9,2,   -999.0,9,   2342.2,2,   7.7140,2,25,  -999.0, -999.00,-999.0000,-999.000,-999.000
     316N151_4,   A22,    14,  1,      7,      7,2,19970819,0414, 15.6893, -65.9977, 4551,30152.6,   3000.7,   4.1524,  34.9759,2,  34.9778,2,    215.9,2,  3.8768,    215.8,2,    29.04,2,    22.06,2,     0.00,2,     1.50,2,    0.015,2,    0.020,2,    0.004,2, -999.000,9,-999.0000,5,  -999.00,9,   -999.0,9,  -999.00,9,-999.000,9,   2198.7,2,   -999.0,9,   2341.6,2,   7.7140,2,25,  -999.0, -999.00,-999.0000,-999.000,-999.000
     316N151_4,   A22,    14,  1,      6,      6,2,19970819,0414, 15.6893, -65.9977, 4551,32642.3,   3249.6,   4.1772,  34.9764,2,  34.9772,2,    215.8,2,  3.8727,    215.6,2,    29.05,2,    22.10,2,     0.00,2,     1.51,2,    0.025,2,    0.020,2,    0.003,2, -999.000,9,-999.0000,5,  -999.00,9,   -999.0,9,  -999.00,9,-999.000,9,   2197.4,2,   -999.0,9,   2343.6,2,   7.7150,2,25,  -999.0, -999.00,-999.0000,-999.000,-999.000
     316N151_4,   A22,    14,  1,      5,      5,2,19970819,0414, 15.6893, -65.9977, 4551,35138.2,   3499.1,   4.2048,  34.9768,2,  34.9770,2,    215.8,2,  3.8704,    215.9,2,    29.25,2,    22.06,2,     0.00,2,     1.51,2,    0.013,2,    0.019,2,    0.006,2, -999.000,9,-999.0000,5,  -999.00,9,   -999.0,9,  -999.00,9,-999.000,9,   2198.1,2,   -999.0,9,   2343.0,2,   7.7180,2,25,  -999.0, -999.00,-999.0000,-999.000,-999.000
     316N151_4,   A22,    14,  1,      4,      4,2,19970819,0414, 15.6893, -65.9977, 4551,37645.1,   3749.5,   4.2338,  34.9774,2,  34.9781,2,    215.8,2,  3.8685,    215.7,2,    29.36,2,    22.06,2,     0.00,2,     1.50,2,    0.012,2,    0.018,2,    0.004,2, -999.000,9,-999.0000,5,  -999.00,9,   -999.0,9,  -999.00,9,-999.000,9,   2198.1,2,   -999.0,9,   2343.8,2,   7.7160,2,25,  -999.0, -999.00,-999.0000,-999.000,-999.000
     316N151_4,   A22,    14,  1,      3,      3,2,19970819,0414, 15.6893, -65.9977, 4551,40150.6,   4000.1,   4.2640,  34.9776,2,  34.9783,2,    216.2,2,  3.8669,    215.8,2,    29.47,2,    22.02,2,     0.00,2,     1.50,2,    0.025,2,    0.019,2,    0.003,2, -999.000,9,-999.0000,5,  -999.00,9,   -999.0,9,  -999.00,9,-999.000,9,   2198.4,2,   -999.0,9,   2343.9,2,   7.7190,2,25,  -999.0, -999.00,-999.0000,-999.000,-999.000
     316N151_4,   A22,    14,  1,      2,      2,2,19970819,0414, 15.6893, -65.9977, 4551,43156.2,   4300.5,   4.3017,  34.9779,2,  34.9780,2,    216.9,2,  3.8653,    216.4,2,    29.28,2,    21.98,2,     0.00,2,     1.50,2,    0.016,2,    0.019,2,    0.004,2, -999.000,9,-999.0000,5,  -999.00,9,   -999.0,9,  -999.00,9,-999.000,9,   2197.6,2,   -999.0,9,   2343.4,6,   7.7200,6,25,  -999.0, -999.00,-999.0000,-999.000,-999.000
     316N151_4,   A22,    14,  1,      1,      1,2,19970819,0414, 15.6893, -65.9977, 4551,46976.7,   4682.3,   4.3534,  34.9795,2,  34.9788,2,    217.9,2,  3.8653,    219.5,2,    28.74,6,    21.76,6,     0.00,6,     1.49,6,    0.048,6,    0.039,6, -999.000,9, -999.000,9,-999.0000,5,  -999.00,9,   -999.0,9,  -999.00,9,-999.000,9,   2197.0,2,   -999.0,9,   2343.0,2,   7.7220,2,25,  -999.0, -999.00,-999.0000,-999.000,-999.000