BOTTLE,20220629CCHSIOAMB
EXPOCODE,SECT_ID,STNNBR,CASTNO,SAMPNO,BTLNBR,BTLNBR_FLAG_W,DATE,TIME,LATITUDE,LONGITUDE,DEPTH,CTDRAW,CTDPRS,CTDTMP,CTDSAL,CTDSAL_FLAG_W,SALNTY,SALNTY_FLAG_W,CTDOXY,CTDOXY_FLAG_W,THETA,OXYGEN,OXYGEN_FLAG_W,SILCAT,SILCAT_FLAG_W,NITRAT,NITRAT_FLAG_W,NITRIT,NITRIT_FLAG_W,PHSPHT,PHSPHT_FLAG_W,CFC-11,CFC-11_FLAG_W,CFC-12,CFC-12_FLAG_W,CFC113,CFC113_FLAG_W,TRITUM,TRITUM_FLAG_W,HELIUM,HELIUM_FLAG_W,DELHE3,DELHE3_FLAG_W,DELC14,DELC14_FLAG_W,DELC13,DELC13_FLAG_W,NEON,NEON_FLAG_W,TCARBN,TCARBN_FLAG_W,PCO2,PCO2_FLAG_W,ALKALI,ALKALI_FLAG_W,PH,PH_FLAG_W,PH_TMP,C14ERR,DELHER,HELIER,NEONER,TRITER
,,,,,,,,,,,,,DBAR,ITS-90,PSS-78,,PSS-78,,UMOL/KG,,ITS-90,UMOL/KG,,UMOL/KG,,UMOL/KG,,UMOL/KG,,UMOL/KG,,PMOL/KG,,PMOL/KG,,PMOL/KG,,TU,,NMOL/KG,,PERCNT,,/MILLE,,/MILLE,,NMOL/KG,,UMOL/KG,,UATM,,UMOL/KG,,,,DEG C,/MILLE,PERCNT,NMOL/KG,NMOL/KG,TU
     316N151_4,   A22,    16,  1,     32,     32,2,19970819,1653, 17.0300, -66.0003, 4627,  226.9,      5.1,  28.8301,  35.2970,2,  35.3017,2,    197.8,2, 28.8289,    204.6,2,     1.63,2,     0.04,2,     0.00,2,     0.01,2,    1.617,2,    0.977,2,    0.127,2,    0.717,2,   1.7404,2,    -0.69,2,   -999.0,9,  -999.00,9,   6.653,2,   1963.3,2,    259.0,2,   2319.4,2,   8.1210,2,25,  -999.0,    0.15,  0.0087,   0.033,   0.013
     316N151_4,   A22,    16,  1,     31,     31,2,19970819,1653, 17.0300, -66.0003, 4627,  629.3,     45.3,  28.6461,  35.3018,2,  35.3122,2,    199.9,2, 28.6353,    205.3,2,     1.54,2,     0.04,2,     0.00,2,     0.01,2, -999.000,9, -999.000,9, -999.000,9, -999.000,9,-999.0000,5,  -999.00,9,   -999.0,9,  -999.00,9,-999.000,9,   1961.6,2,    258.0,2,   2320.6,6,   8.1260,2,25,  -999.0, -999.00,-999.0000,-999.000,-999.000
     316N151_4,   A22,    16,  1,     30,     30,2,19970819,1653, 17.0300, -66.0003, 4627, 1137.5,     96.7,  26.3190,  36.2515,2,  36.2604,2,    196.5,2, 26.2971,    211.9,2,     0.96,2,     0.03,2,     0.04,2,     0.04,2, -999.000,9, -999.000,9, -999.000,9,    0.731,2,   1.7667,2,    -0.47,2,   -999.0,9,  -999.00,9,   6.798,2,   2028.4,2,    289.0,2,   2375.4,2,   8.0910,2,25,  -999.0,    0.15,  0.0088,   0.034,   0.013
     316N151_4,   A22,    16,  1,     29,     29,2,19970819,1653, 17.0300, -66.0003, 4627, 1624.5,    145.9,  24.1263,  36.9052,2,  36.9141,2,    171.1,2, 24.0953,    172.8,2,     1.17,2,     2.63,2,     0.04,2,     0.19,2,    1.883,2,    1.082,2,    0.114,2,    0.887,2,   1.7478,2,    -0.13,2,   -999.0,9,  -999.00,9,   6.806,2,   2093.1,2,    346.0,2,   2415.0,2,   8.0310,2,25,  -999.0,    0.15,  0.0087,   0.034,   0.013
     316N151_4,   A22,    16,  1,     28,     28,2,19970819,1653, 17.0300, -66.0003, 4627, 2147.0,    198.6,  20.8679,  36.7723,2,  36.8034,2,    162.6,2, 20.8296,    159.9,2,     1.78,2,     5.57,2,     0.02,2,     0.35,2,    1.979,2,    1.131,2,    0.052,2,    0.949,2,   1.7704,2,     0.48,2,   -999.0,9,  -999.00,9,   6.994,2,   2128.8,2,    422.0,2,   2407.9,2,   7.9620,2,25,  -999.0,    0.15,  0.0089,   0.035,   0.013
     316N151_4,   A22,    16,  1,     27,     27,2,19970819,1653, 17.0300, -66.0003, 4627, 2629.2,    247.3,  18.6954,  36.5865,2,  36.5677,2,    153.7,2, 18.6513,    148.3,2,     2.98,2,     8.98,2,     0.01,2,     0.52,2,    1.997,2,    1.098,2,    0.018,2,    1.046,2,   1.7564,2,     2.27,2,   -999.0,9,  -999.00,9,   6.841,2,   2145.1,2,    486.0,2,   2391.5,2,   7.9080,2,25,  -999.0,    0.15,  0.0088,   0.034,   0.014
     316N151_4,   A22,    16,  1,     26,     26,2,19970819,1653, 17.0300, -66.0003, 4627, 3137.0,    298.5,  16.1917,  36.1932,2,  36.1805,2,    146.7,2, 16.1435,    146.8,2,     4.19,2,    12.91,2,     0.01,2,     0.76,2, -999.000,9, -999.000,9, -999.000,9,    1.096,2,   1.7970,2,     5.28,2,   -999.0,9,  -999.00,9,   6.937,2,   2152.6,2,    554.0,2,   2369.2,2,   7.8590,2,25,  -999.0,    0.15,  0.0090,   0.035,   0.014
     316N151_4,   A22,    16,  1,     25,     25,2,19970819,1653, 17.0300, -66.0003, 4627, 4122.2,    397.6,  13.5937,  35.8153,2,  35.8220,2,    154.3,2, 13.5365,    156.7,2,     5.60,2,    15.50,2,     0.00,2,     0.93,2,    1.491,2,    0.774,2,    0.011,2,    1.256,2,   1.8003,2,     9.64,2,   -999.0,9,  -999.00,9,   7.322,2,   2153.2,2,    610.0,2,   2348.8,2,   7.8240,2,25,  -999.0,    0.15,  0.0090,   0.037,   0.014
     316N151_4,   A22,    16,  1,     24,     24,2,19970819,1653, 17.0300, -66.0003, 4627, 5139.7,    499.8,  10.8680,  35.3857,2,  35.3753,2,    137.5,2, 10.8057,    134.9,2,    11.28,2,    23.19,2,     0.00,2,     1.44,2,    0.669,2,    0.374,2,    0.003,2,    0.773,2,   1.7903,2,     8.77,2,   -999.0,9,  -999.00,9,   5.766,2,   2183.5,2,    792.0,2,   2329.0,2,   7.7120,2,25,  -999.0,    0.15,  0.0090,   0.029,   0.013
     316N151_4,   A22,    16,  1,     23,     23,2,19970819,1653, 17.0300, -66.0003, 4627, 6133.2,    599.2,   8.7676,  35.0641,2,  35.0645,2,    128.7,2,  8.7019,    128.3,2,    16.68,2,    27.96,2,     0.00,2,     1.79,2, -999.000,9, -999.000,9, -999.000,9,    0.391,2,   1.8185,2,     4.91,2,   -999.0,9,  -999.00,9,   5.767,2,   2201.0,2,    934.0,2,   2318.3,2,   7.6490,2,25,  -999.0,    0.15,  0.0091,   0.029,   0.013
     316N151_4,   A22,    16,  1,     22,     22,2,19970819,1653, 17.0300, -66.0003, 4627, 7134.6,    699.6,   7.9146,  34.9996,2,  34.9976,2,    131.5,2,  7.8419,    131.0,2,    18.87,2,    29.09,2,     0.00,2,     1.88,2,    0.179,2,    0.119,2,    0.000,2,    0.284,2,   1.8201,2,     4.14,2,   -999.0,9,  -999.00,9,   5.786,2,   2205.3,2,    970.0,2,   2317.2,2,   7.6400,2,25,  -999.0,    0.15,  0.0091,   0.029,   0.011
     316N151_4,   A22,    16,  1,     21,     21,2,19970819,1653, 17.0300, -66.0003, 4627, 8124.8,    798.7,   6.7861,  34.9173,2,  34.9120,2,    140.1,2,  6.7094,    142.3,2,    21.58,2,    29.37,2,     0.00,2,     1.94,2,    0.132,2,    0.077,2,    0.001,2,    0.191,2,   1.8274,2,     2.65,2,   -999.0,9,  -999.00,9,   5.766,2,   2208.1,2,    989.0,2,   2315.0,2,   7.6220,2,25,  -999.0,    0.15,  0.0091,   0.029,   0.013
     316N151_4,   A22,    16,  1,     20,     20,2,19970819,1653, 17.0300, -66.0003, 4627, 9135.4,    899.9,   6.0915,  34.9363,2,  34.9379,2,    161.9,2,  6.0092,    162.9,2,    22.69,2,    27.33,2,     0.00,2,     1.82,2,    0.132,2,    0.073,2,    0.002,2,    0.138,2,   1.8738,2,     3.94,2,   -999.0,9,  -999.00,9,   7.748,2,   2204.5,2,    928.0,2,   2322.8,2,   7.6580,2,25,  -999.0,    0.15,  0.0094,   0.039,   0.011
     316N151_4,   A22,    16,  1,     19,     19,2,19970819,1653, 17.0300, -66.0003, 4627,10134.8,    999.8,   5.2440,  34.9465,2,  34.9460,2,    179.8,2,  5.1582,    182.7,2,    23.89,2,    25.57,2,     0.00,2,     1.72,2,    0.084,2,    0.052,2,    0.004,2,    0.116,2,-999.0000,5,  -999.00,9,   -999.0,9,  -999.00,9,-999.000,9,   2199.1,2,    884.0,2,   2326.9,2,   7.6750,2,25,  -999.0, -999.00,-999.0000,-999.000,   0.011
     316N151_4,   A22,    16,  1,     18,     18,2,19970819,1653, 17.0300, -66.0003, 4627,11130.1,   1099.4,   4.8227,  34.9576,2,  34.9564,2,    194.0,2,  4.7311,    195.2,2,    24.31,2,    24.41,2,     0.00,2,     1.65,2,    0.067,2,    0.041,2,   -0.001,2,    0.075,2,   1.8547,2,     1.61,2,   -999.0,9,  -999.00,9,   5.791,2,   2195.5,2,    860.0,2,   2328.9,2,   7.6890,2,25,  -999.0,    0.15,  0.0093,   0.029,   0.011
     316N151_4,   A22,    16,  1,     17,     17,2,19970819,1653, 17.0300, -66.0003, 4627,13138.0,   1300.1,   4.4350,  34.9631,2,  34.9645,2,    204.8,2,  4.3286,    204.1,2,    25.51,2,    23.57,2,     0.00,2,     1.61,2,    0.032,2,    0.024,2,    0.001,2,    0.087,2,   1.8511,2,     1.80,2,   -999.0,9,  -999.00,9,   5.756,2,   2197.9,2,    841.0,2,   2331.8,2,   7.7010,2,25,  -999.0,    0.15,  0.0093,   0.029,   0.012
     316N151_4,   A22,    16,  1,     16,     16,2,19970819,1653, 17.0300, -66.0003, 4627,15142.8,   1500.5,   4.2640,  34.9697,2,  34.9703,2,    209.3,2,  4.1408,    209.4,2,    26.32,2,    23.05,2,     0.00,2,     1.57,2,    0.032,2,    0.026,2,    0.000,2,    0.038,2,   1.8456,2,     1.76,2,   -999.0,9,  -999.00,9,   5.769,2,   2195.7,2,    824.0,2,   2334.5,2,   7.7070,2,25,  -999.0,    0.15,  0.0092,   0.029,   0.010
     316N151_4,   A22,    16,  1,     15,     15,2,19970819,1653, 17.0300, -66.0003, 4627,16635.3,   1649.7,   4.2020,  34.9742,2,  34.9760,2,    213.0,2,  4.0654,    214.8,2,    25.84,2,    22.49,2,     0.00,2,     1.53,2,    0.071,2,    0.049,2,    0.002,2,    0.004,2,   1.9002,2,     2.81,2,   -999.0,9,  -999.00,9,   7.928,2,   2193.6,2,    816.0,2,   2336.3,2,   7.7140,2,25,  -999.0,    0.15,  0.0095,   0.040,   0.010
     316N151_4,   A22,    16,  1,     14,     14,2,19970819,1653, 17.0300, -66.0003, 4627,18140.7,   1800.2,   4.1530,  34.9744,2,  34.9767,2,    216.0,2,  4.0027,    215.4,2,    26.56,2,    22.45,2,     0.00,2,     1.53,2,    0.058,2,    0.037,2,    0.000,2,    0.037,2,   1.9203,2,     3.22,2,   -999.0,9,  -999.00,9,   7.974,2,   2193.7,2,    812.0,2,   2335.2,2,   7.7110,2,25,  -999.0,    0.15,  0.0096,   0.040,   0.010
     316N151_4,   A22,    16,  1,     13,     13,2,19970819,1653, 17.0300, -66.0003, 4627,19646.2,   1950.7,   4.1197,  34.9741,2,  34.9715,2,    215.1,2,  3.9553,    214.1,2,    27.66,2,    22.49,2,     0.00,2,     1.54,2,    0.019,2,    0.021,2,    0.000,2,    0.026,2,   1.9015,2,     2.12,2,   -999.0,9,  -999.00,9,   7.926,2,   2199.5,3,    816.0,2,   2339.8,2,   7.7170,2,25,  -999.0,    0.15,  0.0095,   0.040,   0.010
     316N151_4,   A22,    16,  1,     12,     12,2,19970819,1653, 17.0300, -66.0003, 4627,21157.0,   2101.6,   4.1097,  34.9755,2,  34.9750,2,    216.1,2,  3.9305,    216.6,2,    27.38,2,    22.37,2,     0.00,2,     1.52,2,    0.031,2,    0.028,2,    0.000,2, -999.000,9,-999.0000,5,  -999.00,9,   -999.0,9,  -999.00,9,-999.000,9,   2197.3,2,    804.0,2,   2338.3,2,   7.7160,2,25,  -999.0, -999.00,-999.0000,-999.000,-999.000
     316N151_4,   A22,    16,  1,     11,     11,2,19970819,1653, 17.0300, -66.0003, 4627,22628.7,   2248.7,   4.1042,  34.9757,2,  34.9762,2,    216.6,2,  3.9102,    216.1,2,    27.79,2,    22.37,2,     0.00,2,     1.52,2,    0.033,2,    0.036,2, -999.000,9, -999.000,9,-999.0000,5,  -999.00,9,   -999.0,9,  -999.00,9,-999.000,9,   2195.8,2,    806.0,2,   2341.8,2,   7.7180,2,25,  -999.0, -999.00,-999.0000,-999.000,-999.000
     316N151_4,   A22,    16,  1,     10,     10,2,19970819,1653, 17.0300, -66.0003, 4627,25132.4,   2498.9,   4.1115,  34.9762,2,  34.9750,2,    216.3,2,  3.8913,    215.8,2,    28.31,2,    22.33,2,     0.00,2,     1.53,2, -999.000,9, -999.000,9, -999.000,9,    0.038,2,   1.8988,2,     2.72,2,   -999.0,9,  -999.00,9,   7.895,2,   2195.5,2,    804.0,2,   2339.9,2,   7.7140,2,25,  -999.0,    0.15,  0.0095,   0.039,   0.010
     316N151_4,   A22,    16,  1,      9,      9,2,19970819,1653, 17.0300, -66.0003, 4627,27608.0,   2746.4,   4.1283,  34.9757,2,  34.9764,2,    216.3,2,  3.8813,    215.9,2,    28.42,2,    22.29,2,     0.00,2,     1.53,2, -999.000,9, -999.000,9, -999.000,9, -999.000,9,-999.0000,5,  -999.00,9,   -999.0,9,  -999.00,9,-999.000,9,   2197.4,2,    806.0,2,   2343.0,2,   7.7180,2,25,  -999.0, -999.00,-999.0000,-999.000,-999.000
     316N151_4,   A22,    16,  1,      8,      8,2,19970819,1653, 17.0300, -66.0003, 4627,30091.7,   2994.7,   4.1507,  34.9764,2,  34.9772,2,    216.3,2,  3.8758,    215.4,2,    28.64,2,    22.29,2,     0.00,2,     1.52,2,    0.016,2,    0.023,2,    0.002,2,    0.029,2,   1.9025,2,     2.23,2,   -999.0,9,  -999.00,9,   7.904,2,   2197.3,2,    800.0,2,   2341.3,2,   7.7170,2,25,  -999.0,    0.15,  0.0095,   0.040,   0.010
     316N151_4,   A22,    16,  1,      7,      7,2,19970819,1653, 17.0300, -66.0003, 4627,32618.6,   3247.2,   4.1760,  34.9772,2,  34.9774,2,    216.3,2,  3.8718,    215.7,2,    28.45,2,    22.25,2,     0.00,2,     1.52,2,    0.021,2,    0.025,2,    0.003,2, -999.000,9,-999.0000,5,  -999.00,9,   -999.0,9,  -999.00,9,-999.000,9,   2197.0,2,    799.0,2,   2344.0,2,   7.7230,2,25,  -999.0, -999.00,-999.0000,-999.000,-999.000
     316N151_4,   A22,    16,  1,      6,      6,2,19970819,1653, 17.0300, -66.0003, 4627,35127.9,   3498.1,   4.2029,  34.9769,2,  34.9774,2,    216.3,2,  3.8687,    216.1,2,    28.75,2,    22.33,2,     0.00,2,     1.52,2,    0.013,2,    0.023,2,    0.001,2,    0.007,2,   1.9045,2,     2.68,2,   -999.0,9,  -999.00,9,   7.904,2,   2198.1,2,    800.0,2,   2342.7,2,   7.7200,2,25,  -999.0,    0.15,  0.0095,   0.040,   0.010
     316N151_4,   A22,    16,  1,      5,      5,2,19970819,1653, 17.0300, -66.0003, 4627,37631.8,   3748.3,   4.2317,  34.9778,2,  34.9772,2,    216.6,2,  3.8666,    216.4,2,    28.87,2,    22.33,2,     0.00,2,     1.52,2,    0.015,2,    0.022,2,    0.002,2, -999.000,9,-999.0000,5,  -999.00,9,   -999.0,9,  -999.00,9,-999.000,9,   2201.2,2,    801.0,2,   2343.6,2,   7.7230,2,25,  -999.0, -999.00,-999.0000,-999.000,-999.000
     316N151_4,   A22,    16,  1,      4,      4,2,19970819,1653, 17.0300, -66.0003, 4627,40154.1,   4000.4,   4.2617,  34.9776,2,  34.9780,2,    217.0,2,  3.8646,    216.4,2,    28.98,2,    22.29,2,     0.00,2,     1.52,2, -999.000,9, -999.000,9, -999.000,9,    0.037,2,   2.0193,2,     2.99,2,   -999.0,9,  -999.00,9,   8.254,2,   2200.4,2,    778.0,2,   2343.1,2,   7.7190,2,25,  -999.0,    0.15,  0.0101,   0.041,   0.010
     316N151_4,   A22,    16,  1,      3,      3,2,19970819,1653, 17.0300, -66.0003, 4627,42644.5,   4249.2,   4.2933,  34.9787,2,  34.9790,2,    217.4,2,  3.8638,    217.1,2,    28.90,2,    22.17,2,     0.00,2,     1.51,2, -999.000,9, -999.000,9, -999.000,9, -999.000,9,-999.0000,5,  -999.00,9,   -999.0,9,  -999.00,9,-999.000,9,   2198.0,2,    779.0,2,   2343.8,2,   7.7210,2,25,  -999.0, -999.00,-999.0000,-999.000,-999.000
     316N151_4,   A22,    16,  1,      2,      2,2,19970819,1653, 17.0300, -66.0003, 4627,45172.6,   4502.0,   4.3276,  34.9792,2,  34.9799,2,    218.8,2,  3.8642,    219.0,2,    28.23,2,    22.06,2,     0.00,2,     1.50,2,    0.049,2,    0.041,2,    0.005,2, -999.000,9,-999.0000,5,  -999.00,9,   -999.0,9,  -999.00,9,-999.000,9,   2196.5,2,    776.0,2,   2342.8,2,   7.7140,2,25,  -999.0, -999.00,-999.0000,-999.000,-999.000
     316N151_4,   A22,    16,  1,      1,      1,2,19970819,1653, 17.0300, -66.0003, 4627,48105.3,   4794.6,   4.3692,  34.9797,2,  34.9804,2,    219.1,2,  3.8655,    221.3,2,    27.63,6,    21.84,6,     0.00,6,     1.49,6,    0.075,2,    0.050,2,    0.007,2,    0.069,2,   1.9682,2,     3.06,2,   -999.0,9,  -999.00,9,   8.116,2,   2194.4,2,    777.0,2,   2342.7,2,   7.7210,2,25,  -999.0,    0.15,  0.0098,   0.041,   0.010