BOTTLE,20220629CCHSIOAMB
EXPOCODE,SECT_ID,STNNBR,CASTNO,SAMPNO,BTLNBR,BTLNBR_FLAG_W,DATE,TIME,LATITUDE,LONGITUDE,DEPTH,CTDRAW,CTDPRS,CTDTMP,CTDSAL,CTDSAL_FLAG_W,SALNTY,SALNTY_FLAG_W,CTDOXY,CTDOXY_FLAG_W,THETA,OXYGEN,OXYGEN_FLAG_W,SILCAT,SILCAT_FLAG_W,NITRAT,NITRAT_FLAG_W,NITRIT,NITRIT_FLAG_W,PHSPHT,PHSPHT_FLAG_W,CFC-11,CFC-11_FLAG_W,CFC-12,CFC-12_FLAG_W,CFC113,CFC113_FLAG_W,TRITUM,TRITUM_FLAG_W,HELIUM,HELIUM_FLAG_W,DELHE3,DELHE3_FLAG_W,DELC14,DELC14_FLAG_W,DELC13,DELC13_FLAG_W,NEON,NEON_FLAG_W,TCARBN,TCARBN_FLAG_W,PCO2,PCO2_FLAG_W,ALKALI,ALKALI_FLAG_W,PH,PH_FLAG_W,PH_TMP,C14ERR,DELHER,HELIER,NEONER,TRITER
,,,,,,,,,,,,,DBAR,ITS-90,PSS-78,,PSS-78,,UMOL/KG,,ITS-90,UMOL/KG,,UMOL/KG,,UMOL/KG,,UMOL/KG,,UMOL/KG,,PMOL/KG,,PMOL/KG,,PMOL/KG,,TU,,NMOL/KG,,PERCNT,,/MILLE,,/MILLE,,NMOL/KG,,UMOL/KG,,UATM,,UMOL/KG,,,,DEG C,/MILLE,PERCNT,NMOL/KG,NMOL/KG,TU
     316N151_4,   A22,    56,  1,     34,     34,2,19970828,2004, 32.8928, -66.0008, 4853,  187.7,      3.7,  27.5172,  36.3949,2,  36.4002,2,    192.8,2, 27.5164,    212.9,2,     0.40,2,     0.06,2,     0.00,2,     0.01,2,    1.715,2,    1.032,2,    0.137,2, -999.000,9,-999.0000,5,  -999.00,9,   -999.0,9,  -999.00,9,-999.000,9,   2023.9,2,    288.0,2,   -999.0,9,-999.0000,9,-999,  -999.0, -999.00,-999.0000,-999.000,-999.000
     316N151_4,   A22,    56,  1,     33,     33,2,19970828,2004, 32.8928, -66.0008, 4853,  360.4,     20.6,  27.5048,  36.4103,2,  36.4144,2,    205.4,2, 27.5000,    207.0,2,     0.31,2,     0.06,2,     0.00,2,     0.01,2, -999.000,9, -999.000,9, -999.000,9, -999.000,9,-999.0000,5,  -999.00,9,   -999.0,9,  -999.00,9,-999.000,9,   2025.1,2,   -999.0,9,   2373.7,2,   8.0900,2,25,  -999.0, -999.00,-999.0000,-999.000,-999.000
     316N151_4,   A22,    56,  1,     31,     31,2,19970828,2004, 32.8928, -66.0008, 4853,  566.9,     42.3,  24.4713,  36.5221,2,  36.5262,2,    237.1,2, 24.4622,    233.6,2,     0.32,2,     0.06,2,     0.00,2,     0.01,2, -999.000,9, -999.000,9, -999.000,9, -999.000,9,-999.0000,5,  -999.00,9,   -999.0,9,  -999.00,9,-999.000,9,   2039.7,2,   -999.0,9,   2385.3,2,   8.0850,2,25,  -999.0, -999.00,-999.0000,-999.000,-999.000
     316N151_4,   A22,    56,  1,     30,     30,2,19970828,2004, 32.8928, -66.0008, 4853,  654.7,     51.2,  23.4646,  36.5518,2,  36.5588,2,    247.1,2, 23.4539,    238.6,2,     0.24,2,     0.06,2,     0.00,2,     0.01,2,    2.139,2,    1.253,2,    0.155,2, -999.000,9,-999.0000,5,  -999.00,9,   -999.0,9,  -999.00,9,-999.000,9,   2041.5,2,   -999.0,9,   2387.0,6,   8.0840,2,25,  -999.0, -999.00,-999.0000,-999.000,-999.000
     316N151_4,   A22,    56,  1,     29,     29,3,19970828,2004, 32.8928, -66.0008, 4853, 1146.5,    100.0,  19.2184,  36.6452,2,  36.6466,2,    216.6,2, 19.2002,    217.8,2,     0.35,2,     0.36,2,     0.08,2,     0.02,2,    2.357,2,    1.337,2,    0.133,2, -999.000,9,-999.0000,5,  -999.00,9,   -999.0,9,  -999.00,9,-999.000,9,   2078.9,2,   -999.0,9,   2395.1,2,   8.0330,2,25,  -999.0, -999.00,-999.0000,-999.000,-999.000
     316N151_4,   A22,    56,  1,     28,     28,2,19970828,2004, 32.8928, -66.0008, 4853, 1662.9,    151.3,  18.4505,  36.5853,2,  36.5880,2,    203.8,2, 18.4238,    208.1,2,     0.84,2,     2.72,2,     0.02,2,     0.13,2,    2.382,2,    1.348,2,    0.084,2, -999.000,9,-999.0000,5,  -999.00,9,   -999.0,9,  -999.00,9,-999.000,9,   2088.3,2,   -999.0,9,   2389.9,2,   8.0100,2,25,  -999.0, -999.00,-999.0000,-999.000,-999.000
     316N151_4,   A22,    56,  1,     27,     27,2,19970828,2004, 32.8928, -66.0008, 4853, 2167.9,    201.4,  18.2258,  36.5643,2,  36.5663,2,    207.5,2, 18.1905,    210.4,2,     0.96,2,     2.97,2,     0.01,2,     0.14,2,    2.393,2,    1.348,2,    0.073,2, -999.000,9,-999.0000,5,  -999.00,9,   -999.0,9,  -999.00,9,-999.000,9,   2088.9,2,   -999.0,9,   2390.0,2,   8.0100,2,25,  -999.0, -999.00,-999.0000,-999.000,-999.000
     316N151_4,   A22,    56,  1,     26,     26,2,19970828,2004, 32.8928, -66.0008, 4853, 2688.9,    253.1,  18.1150,  36.5526,2,  36.5546,2,    213.9,2, 18.0708,    219.0,2,     0.97,2,     3.06,2,     0.01,2,     0.15,2,    2.399,2,    1.350,2,    0.083,2, -999.000,9,-999.0000,5,  -999.00,9,   -999.0,9,  -999.00,9,-999.000,9,   2090.1,2,   -999.0,9,   2388.2,2,   8.0100,2,25,  -999.0, -999.00,-999.0000,-999.000,-999.000
     316N151_4,   A22,    56,  1,     25,     25,2,19970828,2004, 32.8928, -66.0008, 4853, 3157.5,    299.8,  18.0480,  36.5438,2,  36.5472,2,    217.0,2, 17.9958,    211.9,2,     1.07,2,     3.23,2,     0.01,2,     0.16,2,    2.391,2,    1.351,2,    0.071,2, -999.000,9,-999.0000,5,  -999.00,9,   -999.0,9,  -999.00,9,-999.000,9,   2090.3,2,   -999.0,9,   2389.6,2,   8.0060,2,25,  -999.0, -999.00,-999.0000,-999.000,-999.000
     316N151_4,   A22,    56,  1,     24,     24,2,19970828,2004, 32.8928, -66.0008, 4853, 4137.6,    397.8,  17.7092,  36.4840,2,  36.4834,2,    214.0,2, 17.6407,    204.1,2,     1.38,2,     4.43,2,     0.00,2,     0.23,2,    2.333,2,    1.300,2,    0.066,2, -999.000,9,-999.0000,5,  -999.00,9,   -999.0,9,  -999.00,9,-999.000,9,   2097.5,2,   -999.0,9,   2383.9,2,   7.9890,2,25,  -999.0, -999.00,-999.0000,-999.000,-999.000
     316N151_4,   A22,    56,  1,     23,     23,2,19970828,2004, 32.8928, -66.0008, 4853, 5157.1,    499.9,  16.4361,  36.2446,2,  36.2338,2,    195.0,2, 16.3541,    183.4,2,     2.74,2,     8.58,2,     0.00,2,     0.48,2,    2.095,2,    1.138,2,    0.035,2, -999.000,9,-999.0000,5,  -999.00,9,   -999.0,9,  -999.00,9,-999.000,9,   2120.3,2,   -999.0,9,   2371.8,2,   7.9290,2,25,  -999.0, -999.00,-999.0000,-999.000,-999.000
     316N151_4,   A22,    56,  1,     22,     22,2,19970828,2004, 32.8928, -66.0008, 4853, 6168.7,    601.3,  14.7055,  35.9450,2,  35.9525,2,    180.9,2, 14.6138,    171.2,2,     4.68,2,    12.46,2,     0.01,2,     0.74,2,    1.799,2,    0.970,2,    0.029,2, -999.000,9,-999.0000,5,  -999.00,9,   -999.0,9,  -999.00,9,-999.000,9,   2138.3,2,   -999.0,9,   2355.3,2,   7.8720,2,25,  -999.0, -999.00,-999.0000,-999.000,-999.000
     316N151_4,   A22,    56,  1,     21,     21,2,19970828,2004, 32.8928, -66.0008, 4853, 7161.8,    701.1,  13.0989,  35.7061,2,  35.7084,2,    169.4,2, 12.9995,    163.6,2,     6.73,2,    15.80,2,     0.00,2,     0.96,2,    1.554,2,    0.824,2,    0.027,2, -999.000,9,-999.0000,5,  -999.00,9,   -999.0,9,  -999.00,9,-999.000,9,   2152.5,2,   -999.0,9,   2345.9,6,   7.8230,2,25,  -999.0, -999.00,-999.0000,-999.000,-999.000
     316N151_4,   A22,    56,  1,     20,     20,2,19970828,2004, 32.8928, -66.0008, 4853, 8163.5,    801.6,  10.8722,  35.3970,2,  35.3988,2,    154.9,2, 10.7709,    150.7,2,    10.72,2,    20.91,2,     0.00,2,     1.30,2,    1.068,2,    0.557,2,    0.027,2, -999.000,9,-999.0000,5,  -999.00,9,   -999.0,9,  -999.00,9,-999.000,9,   2175.6,2,   -999.0,9,   2331.5,2,   7.7420,2,25,  -999.0, -999.00,-999.0000,-999.000,-999.000
     316N151_4,   A22,    56,  1,     19,     19,2,19970828,2004, 32.8928, -66.0008, 4853, 9166.7,    902.2,   8.8827,  35.2145,2,  35.2165,2,    156.8,2,  8.7812,    157.4,2,    13.25,2,    22.80,2,     0.00,2,     1.45,2,    0.751,2,    0.391,2,    0.017,2, -999.000,9,-999.0000,5,  -999.00,9,   -999.0,9,  -999.00,9,-999.000,9,   2184.2,2,   -999.0,9,   2323.3,2,   7.7060,2,25,  -999.0, -999.00,-999.0000,-999.000,-999.000
     316N151_4,   A22,    56,  1,     18,     18,2,19970828,2004, 32.8928, -66.0008, 4853,10183.1,   1004.0,   7.4548,  35.1376,2,  35.1371,2,    174.4,2,  7.3517,    175.2,2,    14.13,2,    22.56,2,     0.00,2,     1.46,2,    0.666,2,    0.342,2,    0.018,2, -999.000,9,-999.0000,5,  -999.00,9,   -999.0,9,  -999.00,9,-999.000,9,   2184.6,2,   -999.0,9,   2323.8,2,   7.7040,2,25,  -999.0, -999.00,-999.0000,-999.000,-999.000
     316N151_4,   A22,    56,  1,     17,     17,2,19970828,2004, 32.8928, -66.0008, 4853,11170.6,   1102.9,   6.3917,  35.1114,2,  35.1117,2,    199.1,2,  6.2864,    201.5,2,    13.37,2,    20.79,2,     0.00,2,     1.35,2,    0.975,2,    0.481,2,    0.030,2, -999.000,9,-999.0000,5,  -999.00,9,   -999.0,9,  -999.00,9,-999.000,9,   2179.2,2,   -999.0,9,   2321.9,2,   7.7140,2,25,  -999.0, -999.00,-999.0000,-999.000,-999.000
     316N151_4,   A22,    56,  1,     16,     16,2,19970828,2004, 32.8928, -66.0008, 4853,13158.5,   1301.7,   5.1315,  35.0681,2,  35.0686,2,    233.4,2,  5.0178,    234.1,2,    12.51,2,    19.07,2,     0.00,2,     1.24,2,    1.066,2,    0.528,2,    0.038,2, -999.000,9,-999.0000,5,  -999.00,9,   -999.0,9,  -999.00,9,-999.000,9,   -999.0,9,   -999.0,9,   -999.0,9,-999.0000,9,-999,  -999.0, -999.00,-999.0000,-999.000,-999.000
     316N151_4,   A22,    56,  1,     15,     15,2,19970828,2004, 32.8928, -66.0008, 4853,15152.2,   1501.0,   4.5965,  35.0391,2,  35.0392,2,    249.6,2,  4.4692,    247.6,2,    12.71,2,    18.49,2,     0.00,2,     1.21,2,    0.927,2,    0.454,2,    0.031,2, -999.000,9,-999.0000,5,  -999.00,9,   -999.0,9,  -999.00,9,-999.000,9,   -999.0,9,   -999.0,9,   -999.0,9,-999.0000,9,-999,  -999.0, -999.00,-999.0000,-999.000,-999.000
     316N151_4,   A22,    56,  1,     14,     14,2,19970828,2004, 32.8928, -66.0008, 4853,17651.0,   1750.8,   4.0886,  34.9961,2,  34.9952,2,    258.5,2,  3.9440,    258.2,2,    13.01,2,    18.04,2,     0.00,2,     1.19,2,    0.929,6,    0.466,6,    0.035,2, -999.000,9,-999.0000,5,  -999.00,9,   -999.0,9,  -999.00,9,-999.000,9,   -999.0,9,   -999.0,9,   -999.0,9,-999.0000,9,-999,  -999.0, -999.00,-999.0000,-999.000,-999.000
     316N151_4,   A22,    56,  1,     13,     13,2,19970828,2004, 32.8928, -66.0008, 4853,20159.2,   2001.3,   3.7943,  34.9802,2,  34.9811,2,    261.0,2,  3.6296,    261.2,2,    14.19,2,    18.00,2,     0.00,2,     1.19,2, -999.000,9, -999.000,9, -999.000,9, -999.000,9,-999.0000,5,  -999.00,9,   -999.0,9,  -999.00,9,-999.000,9,   -999.0,9,   -999.0,9,   -999.0,9,-999.0000,9,-999,  -999.0, -999.00,-999.0000,-999.000,-999.000
     316N151_4,   A22,    56,  1,     12,     12,2,19970828,2004, 32.8928, -66.0008, 4853,22637.2,   2249.1,   3.6387,  34.9855,2,  34.9867,2,    258.6,2,  3.4522,    258.7,2,    16.62,2,    18.29,2,     0.00,2,     1.21,2,    0.363,2,    0.190,2,    0.013,2, -999.000,9,-999.0000,5,  -999.00,9,   -999.0,9,  -999.00,9,-999.000,9,   -999.0,9,   -999.0,9,   -999.0,9,-999.0000,9,-999,  -999.0, -999.00,-999.0000,-999.000,-999.000
     316N151_4,   A22,    56,  1,     11,     11,2,19970828,2004, 32.8928, -66.0008, 4853,25148.0,   2500.0,   3.3793,  34.9710,2,  34.9723,2,    260.3,2,  3.1723,    259.7,2,    18.66,2,    18.38,2,     0.00,2,     1.22,2,    0.261,2,    0.137,2,    0.007,2, -999.000,9,-999.0000,5,  -999.00,9,   -999.0,9,  -999.00,9,-999.000,9,   -999.0,9,   -999.0,9,   -999.0,9,-999.0000,9,-999,  -999.0, -999.00,-999.0000,-999.000,-999.000
     316N151_4,   A22,    56,  1,     10,     10,2,19970828,2004, 32.8928, -66.0008, 4853,27678.3,   2752.9,   3.1226,  34.9535,2,  34.9537,2,    261.7,2,  2.8948,    262.0,2,    20.12,2,    18.34,2,     0.00,2,     1.23,2,    0.267,2,    0.139,2,    0.006,2, -999.000,9,-999.0000,5,  -999.00,9,   -999.0,9,  -999.00,9,-999.000,9,   -999.0,9,   -999.0,9,   -999.0,9,-999.0000,9,-999,  -999.0, -999.00,-999.0000,-999.000,-999.000
     316N151_4,   A22,    56,  1,      9,      9,2,19970828,2004, 32.8928, -66.0008, 4853,30132.9,   2998.3,   2.8910,  34.9396,2,  34.9400,2,    263.2,2,  2.6428,    263.6,2,    21.59,2,    18.30,2,     0.00,2,     1.23,2,    0.214,2,    0.115,2,    0.006,2, -999.000,9,-999.0000,5,  -999.00,9,   -999.0,9,  -999.00,9,-999.000,9,   -999.0,9,   -999.0,9,   -999.0,9,-999.0000,9,-999,  -999.0, -999.00,-999.0000,-999.000,-999.000
     316N151_4,   A22,    56,  1,      8,      8,2,19970828,2004, 32.8928, -66.0008, 4853,32642.2,   3249.2,   2.6753,  34.9267,2,  34.9277,2,    266.0,2,  2.4055,    266.2,2,    22.66,2,    18.13,2,     0.00,2,     1.22,2,    0.218,2,    0.121,2,    0.008,2, -999.000,9,-999.0000,5,  -999.00,9,   -999.0,9,  -999.00,9,-999.000,9,   -999.0,9,   -999.0,9,   -999.0,9,-999.0000,9,-999,  -999.0, -999.00,-999.0000,-999.000,-999.000
     316N151_4,   A22,    56,  1,      7,      7,2,19970828,2004, 32.8928, -66.0008, 4853,35130.6,   3497.9,   2.5228,  34.9175,2,  34.9168,2,    266.8,2,  2.2300,    267.3,2,    24.03,2,    18.13,2,     0.00,2,     1.22,2,    0.239,2,    0.127,2,    0.006,2, -999.000,9,-999.0000,5,  -999.00,9,   -999.0,9,  -999.00,9,-999.000,9,   -999.0,9,   -999.0,9,   -999.0,9,-999.0000,9,-999,  -999.0, -999.00,-999.0000,-999.000,-999.000
     316N151_4,   A22,    56,  1,      6,      6,2,19970828,2004, 32.8928, -66.0008, 4853,37640.2,   3748.8,   2.3858,  34.9079,2,  34.9079,2,    267.3,2,  2.0691,    267.3,2,    26.27,2,    18.26,2,     0.00,2,     1.24,2,    0.270,2,    0.144,2,    0.008,2, -999.000,9,-999.0000,5,  -999.00,9,   -999.0,9,  -999.00,9,-999.000,9,   -999.0,9,   -999.0,9,   -999.0,9,-999.0000,9,-999,  -999.0, -999.00,-999.0000,-999.000,-999.000
     316N151_4,   A22,    56,  1,      5,      5,2,19970828,2004, 32.8928, -66.0008, 4853,40180.0,   4002.7,   2.3109,  34.9008,2,  34.9012,2,    266.3,2,  1.9676,    266.2,2,    28.60,2,    18.55,2,     0.00,2,     1.26,2,    0.286,2,    0.157,2,    0.013,2, -999.000,9,-999.0000,5,  -999.00,9,   -999.0,9,  -999.00,9,-999.000,9,   -999.0,9,   -999.0,9,   -999.0,9,-999.0000,9,-999,  -999.0, -999.00,-999.0000,-999.000,-999.000
     316N151_4,   A22,    56,  1,      4,      4,2,19970828,2004, 32.8928, -66.0008, 4853,42669.7,   4251.6,   2.2711,  34.8945,2,  34.8964,2,    264.4,2,  1.9002,    264.5,2,    31.23,2,    18.92,2,     0.00,2,     1.28,2,    0.288,2,    0.156,2,    0.018,2, -999.000,9,-999.0000,5,  -999.00,9,   -999.0,9,  -999.00,9,-999.000,9,   -999.0,9,   -999.0,9,   -999.0,9,-999.0000,9,-999,  -999.0, -999.00,-999.0000,-999.000,-999.000
     316N151_4,   A22,    56,  1,      3,      3,2,19970828,2004, 32.8928, -66.0008, 4853,45143.4,   4498.9,   2.2512,  34.8885,2,  34.8905,2,    262.4,2,  1.8517,    262.4,2,    34.23,2,    19.37,2,     0.00,2,     1.32,2,    0.273,2,    0.157,2,    0.021,2, -999.000,9,-999.0000,5,  -999.00,9,   -999.0,9,  -999.00,9,-999.000,9,   -999.0,9,   -999.0,9,   -999.0,9,-999.0000,9,-999,  -999.0, -999.00,-999.0000,-999.000,-999.000
     316N151_4,   A22,    56,  1,      2,      2,2,19970828,2004, 32.8928, -66.0008, 4853,47639.9,   4748.4,   2.2419,  34.8845,2,  34.8848,2,    260.4,2,  1.8126,    260.5,2,    36.76,2,    19.79,2,     0.00,2,     1.34,2,    0.247,6,    0.142,6, -999.000,9, -999.000,9,-999.0000,5,  -999.00,9,   -999.0,9,  -999.00,9,-999.000,9,   -999.0,9,   -999.0,9,   -999.0,9,-999.0000,9,-999,  -999.0, -999.00,-999.0000,-999.000,-999.000
     316N151_4,   A22,    56,  1,      1,      1,2,19970828,2004, 32.8928, -66.0008, 4853,49912.2,   4975.7,   2.2544,  34.8828,2,  34.8839,2,    257.7,2,  1.7964,    259.8,2,    37.96,6,    19.98,6,     0.00,6,     1.36,6,    0.213,2,    0.123,2,    0.019,2, -999.000,9,-999.0000,5,  -999.00,9,   -999.0,9,  -999.00,9,-999.000,9,   -999.0,9,   -999.0,9,   -999.0,9,-999.0000,9,-999,  -999.0, -999.00,-999.0000,-999.000,-999.000