BOTTLE,20220629CCHSIOAMB
EXPOCODE,SECT_ID,STNNBR,CASTNO,SAMPNO,BTLNBR,BTLNBR_FLAG_W,DATE,TIME,LATITUDE,LONGITUDE,DEPTH,CTDRAW,CTDPRS,CTDTMP,CTDSAL,CTDSAL_FLAG_W,SALNTY,SALNTY_FLAG_W,CTDOXY,CTDOXY_FLAG_W,THETA,OXYGEN,OXYGEN_FLAG_W,SILCAT,SILCAT_FLAG_W,NITRAT,NITRAT_FLAG_W,NITRIT,NITRIT_FLAG_W,PHSPHT,PHSPHT_FLAG_W,CFC-11,CFC-11_FLAG_W,CFC-12,CFC-12_FLAG_W,CFC113,CFC113_FLAG_W,TRITUM,TRITUM_FLAG_W,HELIUM,HELIUM_FLAG_W,DELHE3,DELHE3_FLAG_W,DELC14,DELC14_FLAG_W,DELC13,DELC13_FLAG_W,NEON,NEON_FLAG_W,TCARBN,TCARBN_FLAG_W,PCO2,PCO2_FLAG_W,ALKALI,ALKALI_FLAG_W,PH,PH_FLAG_W,PH_TMP,C14ERR,DELHER,HELIER,NEONER,TRITER
,,,,,,,,,,,,,DBAR,ITS-90,PSS-78,,PSS-78,,UMOL/KG,,ITS-90,UMOL/KG,,UMOL/KG,,UMOL/KG,,UMOL/KG,,UMOL/KG,,PMOL/KG,,PMOL/KG,,PMOL/KG,,TU,,NMOL/KG,,PERCNT,,/MILLE,,/MILLE,,NMOL/KG,,UMOL/KG,,UATM,,UMOL/KG,,,,DEG C,/MILLE,PERCNT,NMOL/KG,NMOL/KG,TU
     316N151_4,   A22,    20,  1,     22,     22,2,19970820,0848, 17.6618, -66.0005, 2007,  184.8,      1.8,  28.6948,  35.6485,2,  35.6506,2,    182.7,2, 28.6944,    206.7,2,     1.55,2,     0.04,2,     0.00,2,     0.01,2,    1.648,2,    0.983,2,    0.123,2,    0.722,2,   1.7206,2,    -0.68,2,     75.9,2,     1.53,2,   6.774,2,   1977.1,2,    260.0,2,   2341.4,2,   8.1270,2,25,     4.2,    0.15,  0.0086,   0.034,   0.013
     316N151_4,   A22,    20,  1,     21,     21,2,19970820,0848, 17.6618, -66.0005, 2007,  671.5,     50.8,  28.3689,  36.1376,2,  36.1725,2,    207.8,2, 28.3567,    210.0,2,     1.16,2,     0.04,2,     0.00,2,     0.01,2, -999.000,9, -999.000,9, -999.000,9, -999.000,9,-999.0000,5,  -999.00,9,     78.8,2,     1.57,2,-999.000,9,   1999.9,2,   -999.0,9,   2367.2,6,   8.1210,2,25,     3.5, -999.00,-999.0000,-999.000,-999.000
     316N151_4,   A22,    20,  1,     20,     20,2,19970820,0848, 17.6618, -66.0005, 2007, 1166.7,    100.2,  25.0226,  36.9758,2,  36.9794,2,    210.6,2, 25.0007,    204.9,2,     0.97,2,     0.07,2,     0.06,2,     0.01,2, -999.000,9, -999.000,9, -999.000,9,    0.902,2,   1.7331,2,    -0.38,2,     95.5,2,     1.49,2,   7.084,2,   2051.8,2,   -999.0,9,   2419.0,2,   8.1010,2,25,     3.5,    0.15,  0.0087,   0.035,   0.013
     316N151_4,   A22,    20,  1,     19,     19,2,19970820,0848, 17.6618, -66.0005, 2007, 1662.5,    150.0,  23.6277,  37.2221,2,  37.2332,2,    196.4,2, 23.5961,    194.3,2,     0.78,2,     0.46,2,     0.06,2,     0.03,2,    2.028,2,    1.158,2,    0.124,2, -999.000,9,-999.0000,5,  -999.00,9,     96.8,2,     1.32,2,-999.000,9,   2087.7,2,   -999.0,9,   2433.0,2,   8.0640,2,25,     4.0, -999.00,-999.0000,-999.000,-999.000
     316N151_4,   A22,    20,  1,     18,     18,2,19970820,0848, 17.6618, -66.0005, 2007, 2165.5,    200.6,  21.5388,  37.1248,2,  37.1388,2,    179.6,2, 21.4993,    177.9,2,     0.89,2,     1.95,2,     0.02,2,     0.09,2,    2.142,2,    1.203,2,    0.057,2,    1.103,2,   1.7506,2,     0.11,2,     98.8,2,     1.10,2,   7.165,2,   2116.9,2,   -999.0,9,   2426.7,2,   8.0090,2,25,     3.7,    0.15,  0.0088,   0.036,   0.014
     316N151_4,   A22,    20,  1,     17,     17,2,19970820,0848, 17.6618, -66.0005, 2007, 2669.1,    251.1,  19.1006,  36.7261,2,  36.7361,2,    185.1,2, 19.0551,    182.3,2,     1.39,2,     4.02,2,     0.01,2,     0.19,2,    2.270,2,    1.247,2,    0.022,2, -999.000,9,-999.0000,5,  -999.00,9,     87.2,2,     0.98,2,-999.000,9,   2115.6,2,   -999.0,9,   2401.9,2,   7.9790,2,25,     3.7, -999.00,-999.0000,-999.000,-999.000
     316N151_4,   A22,    20,  1,     16,     16,2,19970820,0848, 17.6618, -66.0005, 2007, 3170.5,    301.6,  17.6541,  36.4868,2,  36.4941,2,    184.9,2, 17.6023,    177.8,2,     2.19,2,     6.93,2,     0.01,2,     0.37,2,    2.193,2,    1.176,2,    0.011,2,    1.180,2,   1.8045,2,     3.03,2,     89.3,2,     0.92,2,   7.493,2,   2121.9,2,   -999.0,9,   2387.2,2,   7.9460,2,25,     3.7,    0.15,  0.0090,   0.037,   0.014
     316N151_4,   A22,    20,  1,     15,     15,2,19970820,0848, 17.6618, -66.0005, 2007, 4164.0,    401.6,  15.2507,  36.0693,2,  36.0698,2,    163.1,2, 15.1884,    162.5,2,     4.37,2,    12.42,2,     0.01,2,     0.73,2,    1.869,2,    0.973,2,    0.012,2,    1.241,2,   1.7891,2,     6.36,2,     73.6,2,     0.88,2,   7.535,2,   2141.9,2,   -999.0,9,   2362.1,2,   7.8710,2,25,     2.7,    0.15,  0.0089,   0.038,   0.014
     316N151_4,   A22,    20,  1,     14,     14,2,19970820,0848, 17.6618, -66.0005, 2007, 5135.1,    499.3,  12.8471,  35.6506,2,  35.6488,2,    138.2,2, 12.7778,    135.9,2,     7.94,2,    19.37,2,     0.01,2,     1.19,2,    1.233,2,    0.640,2,    0.005,2, -999.000,9,-999.0000,5,  -999.00,9,     29.9,2,     0.69,2,-999.000,9,   2170.5,2,   -999.0,9,   2342.7,2,   7.7690,2,25,     3.2, -999.00,-999.0000,-999.000,-999.000
     316N151_4,   A22,    20,  1,     13,     13,2,19970820,0848, 17.6618, -66.0005, 2007, 6141.5,    600.4,  10.5637,  35.3429,2,  35.3410,2,    134.9,2, 10.4898,    133.7,2,    12.11,2,    23.80,2,     0.00,2,     1.49,2,    0.651,2,    0.331,2,    0.004,2,    0.710,2,   1.8149,2,     9.52,2,    -11.9,2,     0.67,2,   7.494,2,   2184.4,2,   -999.0,9,   2328.4,2,   7.7130,2,25,     3.0,    0.15,  0.0091,   0.037,   0.013
     316N151_4,   A22,    20,  1,     12,     12,2,19970820,0848, 17.6618, -66.0005, 2007, 7100.0,    696.5,   8.3955,  35.0475,2,  34.9482,4,    129.9,2,  8.3206,    129.8,2,    17.86,2,    28.38,2,     0.00,2,     1.83,2,    0.279,2,    0.153,2,    0.001,2, -999.000,9,-999.0000,5,  -999.00,9,    -56.1,2,     0.69,2,-999.000,9,   2201.0,2,   -999.0,9,   2320.4,2,   7.6460,2,25,     6.0, -999.00,-999.0000,-999.000,-999.000
     316N151_4,   A22,    20,  1,     11,     11,2,19970820,0848, 17.6618, -66.0005, 2007, 8137.3,    800.5,   7.2100,  34.9487,2,  34.9489,2,    138.0,2,  7.1305,    136.9,2,    20.54,2,    29.41,2,     0.00,2,     1.92,2,    0.150,2,    0.085,2,    0.002,2,    0.191,2,   1.8299,2,     4.73,2,     -0.8,2,     0.68,2,   7.675,2,   2205.2,2,   -999.0,9,   2317.1,2,   7.6360,2,25,     3.1,    0.15,  0.0091,   0.038,   0.011
     316N151_4,   A22,    20,  1,     10,     10,2,19970820,0848, 17.6618, -66.0005, 2007, 9116.9,    898.7,   6.2054,  34.9225,2,  34.9254,2,    154.6,2,  6.1224,    157.4,2,    22.14,2,    28.14,2,     0.00,2,     1.86,2,    0.124,2,    0.072,2,    0.004,2,    0.171,2,   1.8499,2,     4.14,2,    -81.2,2,     0.75,2,   7.785,2,   2202.2,2,   -999.0,9,   2321.0,2,   7.6460,2,25,     4.5,    0.15,  0.0092,   0.039,   0.011
     316N151_4,   A22,    20,  1,      9,      9,2,19970820,0848, 17.6618, -66.0005, 2007,10116.3,    998.9,   5.6347,  34.9506,2,  34.9499,2,    174.6,2,  5.5461,    175.8,2,    22.54,2,    26.13,2,     0.00,2,     1.74,2,    0.129,2,    0.073,2,    0.005,2,    0.146,2,   2.5771,2,     7.14,2,    -81.2,2,     0.77,2,   9.994,2,   2198.2,2,   -999.0,9,   2322.8,2,   7.6720,2,25,     3.0,    0.15,  0.0129,   0.050,   0.011
     316N151_4,   A22,    20,  1,      8,      8,2,19970820,0848, 17.6618, -66.0005, 2007,11124.2,   1099.8,   5.1147,  34.9690,2,  34.9691,2,    192.5,2,  5.0205,    193.3,2,    22.85,2,    24.39,2,     0.00,2,     1.64,2,    0.141,2,    0.081,2,    0.007,2, -999.000,9,   1.9627,2,     3.80,2,   -118.0,4,     0.77,2,   8.224,2,   2193.8,2,   -999.0,9,   2328.1,2,   7.6890,2,25,     3.1,    0.15,  0.0098,   0.041,-999.000
     316N151_4,   A22,    20,  1,      7,      7,2,19970820,0848, 17.6618, -66.0005, 2007,12126.9,   1200.1,   4.5950,  34.9674,2,  34.9685,2,    201.7,2,  4.4960,    203.7,2,    24.64,2,    23.56,2,     0.00,2,     1.59,2,    0.082,2,    0.045,2,    0.003,2,    0.061,2,   1.8802,2,     2.60,2,    -87.6,6,     0.83,2,   7.979,2,   2193.5,2,   -999.0,9,   2330.4,2,   7.7010,2,25,     2.3,    0.15,  0.0094,   0.040,   0.011
     316N151_4,   A22,    20,  1,      6,      6,2,19970820,0848, 17.6618, -66.0005, 2007,13645.9,   1352.2,   4.3263,  34.9706,2,  34.9702,2,    209.8,2,  4.2161,    209.7,2,    25.84,2,    23.04,2,     0.00,2,     1.57,2,    0.058,2,    0.037,2,    0.002,2,    0.051,2,   1.8933,2,     2.58,2,    -88.3,6,     0.85,6,   7.818,2,   2193.2,2,   -999.0,9,   2333.7,2,   7.7060,2,25,     4.9,    0.15,  0.0095,   0.039,   0.010
     316N151_4,   A22,    20,  1,      5,      5,2,19970820,0848, 17.6618, -66.0005, 2007,15115.6,   1499.3,   4.2312,  34.9739,2,  34.9740,2,    212.3,2,  4.1085,    213.3,2,    26.15,2,    22.65,2,     0.00,2,     1.54,2,    0.069,2,    0.045,2,    0.004,2,    0.077,2,   1.8909,2,     2.31,2,    -91.0,2,     0.90,2,   7.966,2,   2193.4,2,   -999.0,9,   2334.5,2,   7.7090,2,25,     3.1,    0.15,  0.0095,   0.040,   0.011
     316N151_4,   A22,    20,  1,      4,      4,2,19970820,0848, 17.6618, -66.0005, 2007,16627.4,   1650.8,   4.2016,  34.9748,2,  34.9744,2,    212.4,2,  4.0650,    214.1,2,    26.55,2,    22.56,2,     0.00,2,     1.54,2,    0.066,2,    0.044,2,    0.002,2,    0.051,2,   1.8995,2,     2.92,2,    -99.8,6,     0.88,6,   7.969,2,   2193.9,2,   -999.0,9,   2337.4,2,   7.7110,2,25,     5.7,    0.15,  0.0095,   0.040,   0.011
     316N151_4,   A22,    20,  1,      3,      3,2,19970820,0848, 17.6618, -66.0005, 2007,18136.3,   1801.9,   4.1740,  34.9759,2,  34.9767,2,    214.3,2,  4.0232,    216.6,2,    26.17,2,    22.29,2,     0.00,2,     1.52,2,    0.087,2,    0.053,2,    0.004,2,    0.082,2,   1.9520,2,     2.99,2,    -86.9,6,     0.89,2,   8.131,2,   2192.5,2,   -999.0,9,   2337.0,2,   7.7120,2,25,     2.7,    0.15,  0.0098,   0.041,   0.011
     316N151_4,   A22,    20,  1,      2,      2,2,19970820,0848, 17.6618, -66.0005, 2007,19583.5,   1947.1,   4.1700,  34.9772,2,  34.9770,2,    216.1,2,  4.0052,    218.0,2,    26.08,2,    22.17,2,     0.00,2,     1.51,2,    0.095,2,    0.060,2,    0.005,2,    0.135,2,   1.8864,2,     2.74,2,    -95.9,2,     0.87,2,   7.946,2,   2191.4,2,   -999.0,9,   2333.1,3,   7.7140,6,25,     3.4,    0.15,  0.0094,   0.040,   0.013
     316N151_4,   A22,    20,  1,      1,      1,2,19970820,0848, 17.6618, -66.0005, 2007,20416.4,   2030.8,   4.1787,  34.9774,2,  34.9761,2,    214.2,2,  4.0054,    217.5,2,    26.12,6,    22.18,6,     0.00,6,     1.51,6,    0.096,2,    0.056,2,    0.004,2, -999.000,9,-999.0000,5,  -999.00,9,    -96.4,2,     0.89,2,-999.000,9,   2193.4,2,   -999.0,9,   2336.9,2,   7.7120,2,25,     3.2, -999.00,-999.0000,-999.000,-999.000
     316N151_4,   A22,    21,  1,     18,     18,2,19970820,1222, 17.6950, -66.0030, 1487,  186.4,      2.1,  28.6807,  35.7346,2,  35.7356,2,    193.4,2, 28.6802,    204.6,2,     1.45,2,     0.00,2,     0.00,2,     0.01,2,    1.639,2,    1.021,2,    0.121,2, -999.000,9,-999.0000,5,  -999.00,9,   -999.0,9,  -999.00,9,-999.000,9,   -999.0,9,    259.0,2,   2348.2,2,   8.1200,2,25,  -999.0, -999.00,-999.0000,-999.000,-999.000
     316N151_4,   A22,    21,  1,     17,     17,2,19970820,1222, 17.6950, -66.0030, 1487,  678.1,     51.3,  28.1257,  36.1765,2,  36.1949,2,    212.2,2, 28.1136,    209.1,2,     1.27,2,     0.04,2,     0.00,2,     0.01,2, -999.000,9, -999.000,9, -999.000,9, -999.000,9,-999.0000,5,  -999.00,9,   -999.0,9,  -999.00,9,-999.000,9,   -999.0,9,   -999.0,9,   -999.0,9,-999.0000,9,-999,  -999.0, -999.00,-999.0000,-999.000,-999.000
     316N151_4,   A22,    21,  1,     16,     16,2,19970820,1222, 17.6950, -66.0030, 1487, 1162.8,    100.1,  24.9696,  36.9755,2,  36.9808,2,    208.0,2, 24.9477,    208.6,2,     0.97,2,     0.07,2,     0.05,2,     0.01,2,    1.934,6,    1.171,6,    0.144,2, -999.000,9,-999.0000,5,  -999.00,9,   -999.0,9,  -999.00,9,-999.000,9,   -999.0,9,   -999.0,9,   -999.0,9,-999.0000,9,-999,  -999.0, -999.00,-999.0000,-999.000,-999.000
     316N151_4,   A22,    21,  1,     15,     15,2,19970820,1222, 17.6950, -66.0030, 1487, 1663.7,    150.5,  23.8466,  37.2165,2,  37.2193,2,    194.2,2, 23.8147,    198.4,2,     0.79,2,     0.46,2,     0.06,2,     0.03,2, -999.000,9, -999.000,9, -999.000,9, -999.000,9,-999.0000,5,  -999.00,9,   -999.0,9,  -999.00,9,-999.000,9,   -999.0,9,   -999.0,9,   -999.0,9,-999.0000,9,-999,  -999.0, -999.00,-999.0000,-999.000,-999.000
     316N151_4,   A22,    21,  1,     14,     14,2,19970820,1222, 17.6950, -66.0030, 1487, 2159.1,    200.5,  21.6306,  37.1392,2,  37.1414,2,    178.8,2, 21.5910,    181.3,2,     0.90,2,     1.85,2,     0.02,2,     0.08,2,    2.161,2,    1.256,2,    0.049,2, -999.000,9,-999.0000,5,  -999.00,9,   -999.0,9,  -999.00,9,-999.000,9,   -999.0,9,   -999.0,9,   -999.0,9,-999.0000,9,-999,  -999.0, -999.00,-999.0000,-999.000,-999.000
     316N151_4,   A22,    21,  1,     13,     13,2,19970820,1222, 17.6950, -66.0030, 1487, 2657.8,    250.8,  19.1857,  36.7498,2,  36.7519,2,    182.7,2, 19.1402,    179.7,2,     1.39,2,     4.13,2,     0.01,2,     0.19,2, -999.000,9, -999.000,9, -999.000,9, -999.000,9,-999.0000,5,  -999.00,9,   -999.0,9,  -999.00,9,-999.000,9,   -999.0,9,   -999.0,9,   -999.0,9,-999.0000,9,-999,  -999.0, -999.00,-999.0000,-999.000,-999.000
     316N151_4,   A22,    21,  1,     12,     12,2,19970820,1222, 17.6950, -66.0030, 1487, 3144.7,    299.9,  17.2999,  36.4279,2,  36.4288,2,    178.1,2, 17.2493,    179.5,2,     2.39,2,     7.53,2,     0.01,2,     0.42,2,    2.183,6,    1.204,6, -999.000,9, -999.000,9,-999.0000,5,  -999.00,9,   -999.0,9,  -999.00,9,-999.000,9,   -999.0,9,   -999.0,9,   -999.0,9,-999.0000,9,-999,  -999.0, -999.00,-999.0000,-999.000,-999.000
     316N151_4,   A22,    21,  1,     11,     11,2,19970820,1222, 17.6950, -66.0030, 1487, 4136.4,    399.7,  14.8951,  36.0092,2,  36.0050,2,    163.2,2, 14.8340,    162.0,2,     4.66,2,    13.11,2,     0.00,2,     0.77,2, -999.000,9, -999.000,9, -999.000,9, -999.000,9,-999.0000,5,  -999.00,9,   -999.0,9,  -999.00,9,-999.000,9,   -999.0,9,   -999.0,9,   -999.0,9,-999.0000,9,-999,  -999.0, -999.00,-999.0000,-999.000,-999.000
     316N151_4,   A22,    21,  1,     10,     10,2,19970820,1222, 17.6950, -66.0030, 1487, 5127.2,    499.6,  12.7441,  35.6456,2,  35.6359,2,    138.7,2, 12.6751,    139.4,2,     8.02,2,    19.30,2,     0.00,2,     1.18,2,    1.202,2,    0.647,2,    0.006,2, -999.000,9,-999.0000,5,  -999.00,9,   -999.0,9,  -999.00,9,-999.000,9,   -999.0,9,   -999.0,9,   -999.0,9,-999.0000,9,-999,  -999.0, -999.00,-999.0000,-999.000,-999.000
     316N151_4,   A22,    21,  1,      9,      9,2,19970820,1222, 17.6950, -66.0030, 1487, 6123.5,    599.8,  10.2835,  35.2931,2,  35.2883,2,    133.5,2, 10.2110,    131.7,2,    12.95,2,    24.62,2,     0.00,2,     1.55,2, -999.000,9, -999.000,9, -999.000,9, -999.000,9,-999.0000,5,  -999.00,9,   -999.0,9,  -999.00,9,-999.000,9,   -999.0,9,   -999.0,9,   -999.0,9,-999.0000,9,-999,  -999.0, -999.00,-999.0000,-999.000,-999.000
     316N151_4,   A22,    21,  1,      8,      8,2,19970820,1222, 17.6950, -66.0030, 1487, 7118.4,    699.8,   8.3001,  35.0305,2,  35.0263,2,    130.2,2,  8.2254,    129.6,2,    18.09,2,    28.62,2,     0.00,2,     1.85,2,    0.270,2,    0.151,2,    0.001,2, -999.000,9,-999.0000,5,  -999.00,9,   -999.0,9,  -999.00,9,-999.000,9,   -999.0,9,   -999.0,9,   -999.0,9,-999.0000,9,-999,  -999.0, -999.00,-999.0000,-999.000,-999.000
     316N151_4,   A22,    21,  1,      7,      7,2,19970820,1222, 17.6950, -66.0030, 1487, 8115.0,    799.9,   6.9885,  34.9239,2,  34.9193,2,    136.7,2,  6.9104,    138.0,2,    21.56,2,    29.74,2,     0.00,2,     1.95,2, -999.000,9, -999.000,9, -999.000,9, -999.000,9,-999.0000,5,  -999.00,9,   -999.0,9,  -999.00,9,-999.000,9,   -999.0,9,   -999.0,9,   -999.0,9,-999.0000,9,-999,  -999.0, -999.00,-999.0000,-999.000,-999.000
     316N151_4,   A22,    21,  1,      6,      6,2,19970820,1222, 17.6950, -66.0030, 1487, 9098.5,    898.5,   6.1853,  34.9145,2,  34.9162,2,    153.0,2,  6.1024,    156.0,2,    22.36,2,    28.46,2,     0.00,2,     1.89,2,    0.116,2,    0.062,2,    0.002,2, -999.000,9,-999.0000,5,  -999.00,9,   -999.0,9,  -999.00,9,-999.000,9,   -999.0,9,   -999.0,9,   -999.0,9,-999.0000,9,-999,  -999.0, -999.00,-999.0000,-999.000,-999.000
     316N151_4,   A22,    21,  1,      5,      5,2,19970820,1222, 17.6950, -66.0030, 1487,10093.5,    998.5,   5.7492,  34.9797,2,  34.9742,2,    179.9,2,  5.6596,    180.9,2,    20.88,2,    25.36,2,     0.00,2,     1.69,2,    0.195,2,    0.105,2,    0.001,2, -999.000,9,-999.0000,5,  -999.00,9,   -999.0,9,  -999.00,9,-999.000,9,   -999.0,9,   -999.0,9,   -999.0,9,-999.0000,9,-999,  -999.0, -999.00,-999.0000,-999.000,-999.000
     316N151_4,   A22,    21,  1,      4,      4,2,19970820,1222, 17.6950, -66.0030, 1487,11091.3,   1098.9,   5.1570,  34.9645,2,  34.9644,2,    192.1,2,  5.0625,    191.3,2,    23.17,2,    24.68,2,     0.00,2,     1.66,2,    0.123,2,    0.068,2,    0.004,2, -999.000,9,-999.0000,5,  -999.00,9,   -999.0,9,  -999.00,9,-999.000,9,   -999.0,9,   -999.0,9,   -999.0,9,-999.0000,9,-999,  -999.0, -999.00,-999.0000,-999.000,-999.000
     316N151_4,   A22,    21,  1,      3,      3,2,19970820,1222, 17.6950, -66.0030, 1487,12093.4,   1199.5,   4.7114,  34.9669,2,  34.9675,2,    202.7,2,  4.6114,    201.4,2,    24.26,2,    23.73,2,     0.00,2,     1.61,2,    0.093,2,    0.056,2,    0.001,2, -999.000,9,-999.0000,5,  -999.00,9,   -999.0,9,  -999.00,9,-999.000,9,   -999.0,9,   -999.0,9,   -999.0,9,-999.0000,9,-999,  -999.0, -999.00,-999.0000,-999.000,-999.000
     316N151_4,   A22,    21,  1,      2,      2,2,19970820,1222, 17.6950, -66.0030, 1487,13583.6,   1349.2,   4.3340,  34.9727,2,  34.9734,2,    212.8,2,  4.2240,    211.4,2,    25.16,2,    22.85,2,     0.00,2,     1.56,2,    0.079,2,    0.046,2,    0.003,2, -999.000,9,-999.0000,5,  -999.00,9,   -999.0,9,  -999.00,9,-999.000,9,   -999.0,9,   -999.0,9,   -999.0,9,-999.0000,9,-999,  -999.0, -999.00,-999.0000,-999.000,-999.000
     316N151_4,   A22,    21,  1,      1,      1,2,19970820,1222, 17.6950, -66.0030, 1487,15125.6,   1504.3,   4.2407,  34.9753,2,  34.9749,2,    212.1,2,  4.1173,    215.8,2,    25.21,6,    22.44,6,     0.00,6,     1.53,6,    0.104,2,    0.060,2,    0.003,2, -999.000,9,-999.0000,5,  -999.00,9,   -999.0,9,  -999.00,9,-999.000,9,   -999.0,9,   -999.0,9,   -999.0,9,-999.0000,9,-999,  -999.0, -999.00,-999.0000,-999.000,-999.000