BOTTLE,20220629CCHSIOAMB
EXPOCODE,SECT_ID,STNNBR,CASTNO,SAMPNO,BTLNBR,BTLNBR_FLAG_W,DATE,TIME,LATITUDE,LONGITUDE,DEPTH,CTDRAW,CTDPRS,CTDTMP,CTDSAL,CTDSAL_FLAG_W,SALNTY,SALNTY_FLAG_W,CTDOXY,CTDOXY_FLAG_W,THETA,OXYGEN,OXYGEN_FLAG_W,SILCAT,SILCAT_FLAG_W,NITRAT,NITRAT_FLAG_W,NITRIT,NITRIT_FLAG_W,PHSPHT,PHSPHT_FLAG_W,CFC-11,CFC-11_FLAG_W,CFC-12,CFC-12_FLAG_W,CFC113,CFC113_FLAG_W,TRITUM,TRITUM_FLAG_W,HELIUM,HELIUM_FLAG_W,DELHE3,DELHE3_FLAG_W,DELC14,DELC14_FLAG_W,DELC13,DELC13_FLAG_W,NEON,NEON_FLAG_W,TCARBN,TCARBN_FLAG_W,PCO2,PCO2_FLAG_W,ALKALI,ALKALI_FLAG_W,PH,PH_FLAG_W,PH_TMP,C14ERR,DELHER,HELIER,NEONER,TRITER
,,,,,,,,,,,,,DBAR,ITS-90,PSS-78,,PSS-78,,UMOL/KG,,ITS-90,UMOL/KG,,UMOL/KG,,UMOL/KG,,UMOL/KG,,UMOL/KG,,PMOL/KG,,PMOL/KG,,PMOL/KG,,TU,,NMOL/KG,,PERCNT,,/MILLE,,/MILLE,,NMOL/KG,,UMOL/KG,,UATM,,UMOL/KG,,,,DEG C,/MILLE,PERCNT,NMOL/KG,NMOL/KG,TU
     316N151_4,   A22,    36,  1,     36,     36,2,19970823,0357, 20.0237, -65.9992, 7497,  237.6,      7.0,  28.7404,  35.9314,2,  35.9336,2,    203.0,2, 28.7387,    205.3,2,     0.99,2,     0.01,2,     0.00,2,     0.01,2,    1.631,2,    0.981,2,    0.124,2, -999.000,9,-999.0000,5,  -999.00,9,   -999.0,9,  -999.00,9,-999.000,9,   1989.4,2,    263.0,2,   2353.4,2,   8.1200,2,25,  -999.0, -999.00,-999.0000,-999.000,-999.000
     316N151_4,   A22,    36,  1,     35,     35,2,19970823,0357, 20.0237, -65.9992, 7497,  672.8,     51.1,  28.7147,  36.3159,2,  36.3281,2,    219.6,2, 28.7024,    208.5,2,     1.10,2,     0.01,2,     0.00,2,     0.01,2, -999.000,9, -999.000,9, -999.000,9, -999.000,9,-999.0000,5,  -999.00,9,   -999.0,9,  -999.00,9,-999.000,9,   2003.9,2,    259.0,2,   2377.4,6,   8.1250,6,25,  -999.0, -999.00,-999.0000,-999.000,-999.000
     316N151_4,   A22,    36,  1,     34,     34,2,19970823,0357, 20.0237, -65.9992, 7497, 1175.1,    101.5,  25.1585,  36.9866,2,  36.9661,2,    225.4,2, 25.1363,    219.9,2,     0.82,2,     0.05,2,     0.00,2,     0.01,2,    1.932,2,    1.132,2,    0.141,2, -999.000,9,-999.0000,5,  -999.00,9,   -999.0,9,  -999.00,9,-999.000,9,   2041.4,2,    273.0,2,   -999.0,9,-999.0000,9,-999,  -999.0, -999.00,-999.0000,-999.000,-999.000
     316N151_4,   A22,    36,  1,     33,     33,2,19970823,0357, 20.0237, -65.9992, 7497, 1655.6,    149.6,  22.9582,  37.0812,2,  37.0534,2,    209.4,2, 22.9274,    203.8,2,     0.55,2,     0.02,2,     0.07,2,     0.02,2, -999.000,9, -999.000,9, -999.000,9, -999.000,9,-999.0000,5,  -999.00,9,   -999.0,9,  -999.00,9,-999.000,9,   2073.4,2,    310.0,2,   2420.0,2,   8.0700,2,25,  -999.0, -999.00,-999.0000,-999.000,-999.000
     316N151_4,   A22,    36,  1,     32,     32,2,19970823,0357, 20.0237, -65.9992, 7497, 2190.4,    203.1,  21.1242,  36.9707,2,  36.9764,2,    188.8,2, 21.0847,    190.1,2,     0.57,2,     0.82,2,     0.02,2,     0.03,2,    2.189,2,    1.243,2,    0.090,2, -999.000,9,-999.0000,5,  -999.00,9,   -999.0,9,  -999.00,9,-999.000,9,   2100.1,2,   -999.0,9,   2413.8,2,   8.0230,2,25,  -999.0, -999.00,-999.0000,-999.000,-999.000
     316N151_4,   A22,    36,  1,     31,     31,2,19970823,0357, 20.0237, -65.9992, 7497, 2685.6,    252.5,  18.8939,  36.6445,2,  36.6475,2,    198.0,2, 18.8485,    190.6,2,     0.98,2,     2.81,2,     0.01,2,     0.11,2, -999.000,9, -999.000,9, -999.000,9, -999.000,9,-999.0000,5,  -999.00,9,   -999.0,9,  -999.00,9,-999.000,9,   2099.0,2,    383.0,2,   2394.0,2,   8.0000,2,25,  -999.0, -999.00,-999.0000,-999.000,-999.000
     316N151_4,   A22,    36,  1,     30,     30,2,19970823,0357, 20.0237, -65.9992, 7497, 3170.8,    301.2,  18.2393,  36.5528,2,  36.5531,2,    199.5,2, 18.1865,    199.4,2,     1.20,2,     3.76,2,     0.01,2,     0.18,2,    2.368,6,    1.306,6, -999.000,9, -999.000,9,-999.0000,5,  -999.00,9,   -999.0,9,  -999.00,9,-999.000,9,   2094.9,2,    382.0,2,   2389.7,2,   7.9970,2,25,  -999.0, -999.00,-999.0000,-999.000,-999.000
     316N151_4,   A22,    36,  1,     29,     29,2,19970823,0357, 20.0237, -65.9992, 7497, 4166.5,    401.1,  16.9328,  36.3451,2,  36.3451,2,    175.0,2, 16.8659,    181.4,2,     2.32,2,     7.69,2,     0.00,2,     0.42,2, -999.000,9, -999.000,9, -999.000,9, -999.000,9,-999.0000,5,  -999.00,9,   -999.0,9,  -999.00,9,-999.000,9,   2116.6,2,    447.0,2,   2377.4,2,   7.9380,2,25,  -999.0, -999.00,-999.0000,-999.000,-999.000
     316N151_4,   A22,    36,  1,     28,     28,2,19970823,0357, 20.0237, -65.9992, 7497, 5186.0,    503.4,  14.3237,  35.9066,2,  35.9081,2,    155.0,2, 14.2485,    154.0,2,     5.24,2,    14.65,2,     0.00,2,     0.88,2,    1.626,2,    0.855,2,    0.017,2, -999.000,9,-999.0000,5,  -999.00,9,   -999.0,9,  -999.00,9,-999.000,9,   2151.3,2,    589.0,2,   2353.9,2,   7.8340,2,25,  -999.0, -999.00,-999.0000,-999.000,-999.000
     316N151_4,   A22,    36,  1,     27,     27,2,19970823,0357, 20.0237, -65.9992, 7497, 6125.4,    597.7,  12.3891,  35.6030,2,  35.6028,2,    144.5,2, 12.3078,    142.9,2,     8.06,2,    19.21,2,     0.00,2,     1.17,2, -999.000,9, -999.000,9, -999.000,9, -999.000,9,-999.0000,5,  -999.00,9,   -999.0,9,  -999.00,9,-999.000,9,   2166.8,2,    693.0,2,   2338.7,2,   7.7730,2,25,  -999.0, -999.00,-999.0000,-999.000,-999.000
     316N151_4,   A22,    36,  1,     26,     26,2,19970823,0357, 20.0237, -65.9992, 7497, 7146.8,    700.1,  10.2273,  35.3056,2,  35.3064,2,    135.1,2, 10.1427,    134.1,2,    12.58,2,    24.08,2,     0.00,2,     1.50,2,    0.536,6,    0.291,6,    0.005,2, -999.000,9,-999.0000,5,  -999.00,9,   -999.0,9,  -999.00,9,-999.000,9,   2185.1,2,    823.0,2,   2328.8,2,   7.7060,2,25,  -999.0, -999.00,-999.0000,-999.000,-999.000
     316N151_4,   A22,    36,  1,     25,     25,2,19970823,0357, 20.0237, -65.9992, 7497, 8153.5,    801.0,   8.4553,  35.0798,2,  35.0781,2,    132.6,2,  8.3683,    131.7,2,    17.11,2,    27.57,2,     0.00,2,     1.76,2, -999.000,9, -999.000,9, -999.000,9, -999.000,9,-999.0000,5,  -999.00,9,   -999.0,9,  -999.00,9,-999.000,9,   2197.3,2,    914.0,2,   2319.6,2,   7.6610,2,25,  -999.0, -999.00,-999.0000,-999.000,-999.000
     316N151_4,   A22,    36,  1,     24,     24,2,19970823,0357, 20.0237, -65.9992, 7497, 9160.0,    901.7,   7.2882,  34.9797,2,  34.9791,2,    140.9,2,  7.1976,    139.5,2,    19.83,2,    28.45,2,     0.00,2,     1.86,2,    0.147,2,    0.084,2,    0.002,2, -999.000,9,-999.0000,5,  -999.00,9,   -999.0,9,  -999.00,9,-999.000,9,   2200.5,2,    953.0,2,   2319.7,2,   7.6460,2,25,  -999.0, -999.00,-999.0000,-999.000,-999.000
     316N151_4,   A22,    36,  1,     23,     23,2,19970823,0357, 20.0237, -65.9992, 7497,10142.1,   1000.0,   6.4727,  34.9878,2,  34.9881,2,    161.5,2,  6.3776,    163.1,2,    19.35,2,    26.43,2,     0.00,2,     1.74,2, -999.000,9, -999.000,9, -999.000,9, -999.000,9,-999.0000,5,  -999.00,9,   -999.0,9,  -999.00,9,-999.000,9,   2194.8,2,    904.0,2,   2319.7,2,   7.6680,2,25,  -999.0, -999.00,-999.0000,-999.000,-999.000
     316N151_4,   A22,    36,  1,     22,     22,2,19970823,0357, 20.0237, -65.9992, 7497,11120.4,   1097.8,   5.8490,  35.0087,2,  35.0046,2,    185.9,2,  5.7489,    186.9,2,    18.07,2,    24.10,2,     0.00,2,     1.60,2,    0.250,2,    0.133,2,    0.005,2, -999.000,9,-999.0000,5,  -999.00,9,   -999.0,9,  -999.00,9,-999.000,9,   -999.0,9,    857.0,2,   2320.3,2,   7.6880,2,25,  -999.0, -999.00,-999.0000,-999.000,-999.000
     316N151_4,   A22,    36,  1,     21,     21,2,19970823,0357, 20.0237, -65.9992, 7497,13134.5,   1299.2,   5.0954,  35.0509,2,  35.0484,2,    229.0,2,  4.9823,    230.6,2,    13.69,2,    19.70,2,     0.00,2,     1.30,2, -999.000,9, -999.000,9, -999.000,9, -999.000,9,-999.0000,5,  -999.00,9,   -999.0,9,  -999.00,9,-999.000,9,   -999.0,9,    764.0,2,   2318.5,2,   7.7330,2,25,  -999.0, -999.00,-999.0000,-999.000,-999.000
     316N151_4,   A22,    36,  1,     20,     20,2,19970823,0357, 20.0237, -65.9992, 7497,15159.2,   1501.7,   4.4185,  35.0143,2,  35.0127,2,    248.0,2,  4.2934,    249.9,2,    13.00,2,    18.51,2,     0.00,2,     1.23,2,    0.792,2,    0.386,2,    0.024,2, -999.000,9,-999.0000,5,  -999.00,9,   -999.0,9,  -999.00,9,-999.000,9,   2160.8,2,    745.0,2,   2316.6,2,   7.7410,2,25,  -999.0, -999.00,-999.0000,-999.000,-999.000
     316N151_4,   A22,    36,  1,     19,     19,2,19970823,0357, 20.0237, -65.9992, 7497,17649.9,   1750.6,   3.9311,  34.9845,2,  34.9829,2,    258.9,2,  3.7884,    259.6,2,    13.73,2,    18.08,2,     0.00,2,     1.20,2, -999.000,9, -999.000,9, -999.000,9, -999.000,9,-999.0000,5,  -999.00,9,   -999.0,9,  -999.00,9,-999.000,9,   -999.0,9,    735.0,2,   2314.0,2,   7.7470,2,25,  -999.0, -999.00,-999.0000,-999.000,-999.000
     316N151_4,   A22,    36,  1,     18,     18,2,19970823,0357, 20.0237, -65.9992, 7497,20152.3,   2000.7,   3.6963,  34.9801,2,  34.9798,2,    260.7,2,  3.5333,    260.7,2,    15.35,2,    18.12,2,     0.00,2,     1.21,2,    0.474,2,    0.240,2,    0.019,2, -999.000,9,-999.0000,5,  -999.00,9,   -999.0,9,  -999.00,9,-999.000,9,   2159.2,2,    730.0,2,   2317.5,2,   7.7500,2,25,  -999.0, -999.00,-999.0000,-999.000,-999.000
     316N151_4,   A22,    36,  1,     17,     17,2,19970823,0357, 20.0237, -65.9992, 7497,22642.3,   2249.5,   3.4398,  34.9697,2,  34.9684,2,    261.1,2,  3.2566,    261.6,2,    17.17,2,    18.16,2,     0.00,2,     1.22,2, -999.000,9, -999.000,9, -999.000,9, -999.000,9,-999.0000,5,  -999.00,9,   -999.0,9,  -999.00,9,-999.000,9,   -999.0,9,    727.0,2,   2318.2,2,   7.7520,2,25,  -999.0, -999.00,-999.0000,-999.000,-999.000
     316N151_4,   A22,    36,  1,     16,     16,2,19970823,0357, 20.0237, -65.9992, 7497,25142.2,   2499.4,   3.2222,  34.9623,2,  34.9625,2,    260.9,2,  3.0183,    260.7,2,    19.79,2,    18.36,2,     0.00,2,     1.24,2,    0.225,2,    0.118,2,    0.012,2, -999.000,9,-999.0000,5,  -999.00,9,   -999.0,9,  -999.00,9,-999.000,9,   -999.0,9,    726.0,2,   2319.3,2,   7.7520,2,25,  -999.0, -999.00,-999.0000,-999.000,-999.000
     316N151_4,   A22,    36,  1,     15,     15,2,19970823,0357, 20.0237, -65.9992, 7497,27604.5,   2745.5,   2.9907,  34.9477,2,  34.9458,2,    261.4,2,  2.7664,    261.8,2,    21.92,2,    18.52,2,     0.00,2,     1.25,2,    0.247,2,    0.123,2,    0.010,2, -999.000,9,-999.0000,5,  -999.00,9,   -999.0,9,  -999.00,9,-999.000,9,   -999.0,9,    729.0,2,   2323.3,2,   7.7510,2,25,  -999.0, -999.00,-999.0000,-999.000,-999.000
     316N151_4,   A22,    36,  1,     14,     14,2,19970823,0357, 20.0237, -65.9992, 7497,30099.9,   2995.0,   2.7833,  34.9336,2,  34.9340,2,    265.5,2,  2.5378,    265.2,2,    21.73,2,    18.08,2,     0.00,2,     1.23,2,    0.378,2,    0.188,2,    0.013,2, -999.000,9,-999.0000,5,  -999.00,9,   -999.0,9,  -999.00,9,-999.000,9,   2162.0,2,    732.0,2,   2322.5,2,   7.7510,2,25,  -999.0, -999.00,-999.0000,-999.000,-999.000
     316N151_4,   A22,    36,  1,     13,     13,2,19970823,0357, 20.0237, -65.9992, 7497,32635.5,   3248.5,   2.5614,  34.9201,2,  34.9184,2,    267.9,2,  2.2944,    267.2,2,    23.37,2,    17.93,2,     0.00,2,     1.22,2, -999.000,9, -999.000,9, -999.000,9, -999.000,9,-999.0000,5,  -999.00,9,   -999.0,9,  -999.00,9,-999.000,9,   -999.0,9,    729.0,2,   2322.0,2,   7.7490,2,25,  -999.0, -999.00,-999.0000,-999.000,-999.000
     316N151_4,   A22,    36,  1,     12,     12,2,19970823,0357, 20.0237, -65.9992, 7497,35135.4,   3498.3,   2.4541,  34.9131,2,  34.9134,2,    268.1,2,  2.1631,    267.6,2,    24.68,2,    17.93,2,     0.00,2,     1.23,2,    0.425,6,    0.215,6, -999.000,9, -999.000,9,-999.0000,5,  -999.00,9,   -999.0,9,  -999.00,9,-999.000,9,   2164.0,2,    731.0,2,   2323.6,2,   7.7470,2,25,  -999.0, -999.00,-999.0000,-999.000,-999.000
     316N151_4,   A22,    36,  1,     11,     11,2,19970823,0357, 20.0237, -65.9992, 7497,37653.9,   3750.0,   2.4166,  34.9089,2,  34.9084,2,    268.1,2,  2.0989,    267.5,2,    25.71,2,    18.04,2,     0.00,2,     1.24,2,    0.413,2,    0.215,2,    0.022,2, -999.000,9,-999.0000,5,  -999.00,9,   -999.0,9,  -999.00,9,-999.000,9,   -999.0,9,    735.0,2,   2324.6,2,   7.7500,2,25,  -999.0, -999.00,-999.0000,-999.000,-999.000
     316N151_4,   A22,    36,  1,     10,     10,2,19970823,0357, 20.0237, -65.9992, 7497,40165.1,   4001.0,   2.3605,  34.9042,2,  34.9033,2,    267.7,2,  2.0160,    267.0,2,    27.53,2,    18.33,2,     0.00,2,     1.25,2,    0.414,2,    0.215,2,    0.023,2, -999.000,9,-999.0000,5,  -999.00,9,   -999.0,9,  -999.00,9,-999.000,9,   2167.6,2,    740.0,2,   2326.9,2,   7.7470,2,25,  -999.0, -999.00,-999.0000,-999.000,-999.000
     316N151_4,   A22,    36,  1,      9,      9,2,19970823,0357, 20.0237, -65.9992, 7497,42658.8,   4250.2,   2.3256,  34.8994,2,  34.8989,2,    266.2,2,  1.9533,    265.7,2,    29.25,2,    18.52,2,     0.00,2,     1.27,2,    0.383,2,    0.197,2,    0.017,2, -999.000,9,-999.0000,5,  -999.00,9,   -999.0,9,  -999.00,9,-999.000,9,   -999.0,9,    740.0,2,   2328.2,2,   7.7470,2,25,  -999.0, -999.00,-999.0000,-999.000,-999.000
     316N151_4,   A22,    36,  1,      8,      8,2,19970823,0357, 20.0237, -65.9992, 7497,45133.2,   4497.5,   2.3179,  34.8955,2,  34.8970,2,    265.3,2,  1.9166,    264.7,2,    30.68,2,    18.77,2,     0.00,2,     1.28,2,    0.369,2,    0.194,2,    0.022,2, -999.000,9,-999.0000,5,  -999.00,9,   -999.0,9,  -999.00,9,-999.000,9,   2172.5,2,    744.0,2,   2329.9,2,   7.7420,2,25,  -999.0, -999.00,-999.0000,-999.000,-999.000
     316N151_4,   A22,    36,  1,      7,      7,2,19970823,0357, 20.0237, -65.9992, 7497,47669.8,   4750.9,   2.3068,  34.8928,2,  34.8925,2,    263.4,2,  1.8750,    263.6,2,    32.90,2,    19.12,2,     0.00,2,     1.31,2, -999.000,9, -999.000,9, -999.000,9, -999.000,9,-999.0000,5,  -999.00,9,   -999.0,9,  -999.00,9,-999.000,9,   -999.0,9,    746.0,2,   2332.1,2,   7.7430,2,25,  -999.0, -999.00,-999.0000,-999.000,-999.000
     316N151_4,   A22,    36,  1,      6,      6,2,19970823,0357, 20.0237, -65.9992, 7497,50164.0,   5000.4,   2.2776,  34.8853,2,  34.8861,2,    261.2,2,  1.8157,    260.6,2,    36.83,2,    19.75,2,     0.00,2,     1.36,2,    0.250,6,    0.138,6,    0.020,2, -999.000,9,-999.0000,5,  -999.00,9,   -999.0,9,  -999.00,9,-999.000,9,   2179.0,2,    756.0,2,   2333.6,2,   7.7380,2,25,  -999.0, -999.00,-999.0000,-999.000,-999.000
     316N151_4,   A22,    36,  1,      5,      5,2,19970823,0357, 20.0237, -65.9992, 7497,52655.6,   5249.5,   2.1571,  34.8668,2,  34.8648,2,    255.2,2,  1.6678,    254.6,2,    46.76,2,    21.27,2,     0.00,2,     1.46,2,    0.140,2,    0.085,2,    0.015,2, -999.000,9,-999.0000,5,  -999.00,9,   -999.0,9,  -999.00,9,-999.000,9,   -999.0,9,    776.0,2,   2344.2,2,   7.7300,2,25,  -999.0, -999.00,-999.0000,-999.000,-999.000
     316N151_4,   A22,    36,  1,      4,      4,2,19970823,0357, 20.0237, -65.9992, 7497,55143.8,   5498.2,   1.9859,  34.8418,2,  34.8409,2,    247.5,2,  1.4707,    247.0,2,    58.91,2,    23.17,2,     0.00,2,     1.59,2,    0.042,2,    0.035,2,    0.006,2, -999.000,9,-999.0000,5,  -999.00,9,   -999.0,9,  -999.00,9,-999.000,9,   2203.1,2,    792.0,2,   2350.1,2,   7.7140,2,25,  -999.0, -999.00,-999.0000,-999.000,-999.000
     316N151_4,   A22,    36,  1,      3,      3,2,19970823,0357, 20.0237, -65.9992, 7497,57650.7,   5748.8,   1.9646,  34.8354,2,  34.8345,2,    245.3,2,  1.4173,    245.4,2,    62.24,2,    23.60,2,     0.00,2,     1.63,2,    0.035,2,    0.025,2,    0.002,2, -999.000,9,-999.0000,5,  -999.00,9,   -999.0,9,  -999.00,9,-999.000,9,   -999.0,9,    805.0,2,   2353.7,2,   7.7110,2,25,  -999.0, -999.00,-999.0000,-999.000,-999.000
     316N151_4,   A22,    36,  1,      2,      2,2,19970823,0357, 20.0237, -65.9992, 7497,60156.2,   5999.2,   1.9832,  34.8335,2,  34.8319,2,    244.7,2,  1.4015,    244.7,2,    62.96,2,    23.73,2,     0.00,2,     1.64,2,    0.035,2,    0.028,2,    0.002,2, -999.000,9,-999.0000,5,  -999.00,9,   -999.0,9,  -999.00,9,-999.000,9,   2206.3,2,    810.0,2,   2352.7,6,   7.7160,2,25,  -999.0, -999.00,-999.0000,-999.000,-999.000
     316N151_4,   A22,    36,  1,      1,      1,2,19970823,0357, 20.0237, -65.9992, 7497,61158.7,   6098.9,   1.9937,  34.8328,2,  34.8307,2,    243.2,2,  1.3980,    244.6,2,    63.19,6,    23.85,6,     0.00,6,     1.64,6,    0.033,2,    0.030,2,    0.003,2, -999.000,9,-999.0000,5,  -999.00,9,   -999.0,9,  -999.00,9,-999.000,9,   -999.0,9,    810.0,2,   2355.1,2,   7.7140,2,25,  -999.0, -999.00,-999.0000,-999.000,-999.000