BOTTLE,20220629CCHSIOAMB
EXPOCODE,SECT_ID,STNNBR,CASTNO,SAMPNO,BTLNBR,BTLNBR_FLAG_W,DATE,TIME,LATITUDE,LONGITUDE,DEPTH,CTDRAW,CTDPRS,CTDTMP,CTDSAL,CTDSAL_FLAG_W,SALNTY,SALNTY_FLAG_W,CTDOXY,CTDOXY_FLAG_W,THETA,OXYGEN,OXYGEN_FLAG_W,SILCAT,SILCAT_FLAG_W,NITRAT,NITRAT_FLAG_W,NITRIT,NITRIT_FLAG_W,PHSPHT,PHSPHT_FLAG_W,CFC-11,CFC-11_FLAG_W,CFC-12,CFC-12_FLAG_W,CFC113,CFC113_FLAG_W,TRITUM,TRITUM_FLAG_W,HELIUM,HELIUM_FLAG_W,DELHE3,DELHE3_FLAG_W,DELC14,DELC14_FLAG_W,DELC13,DELC13_FLAG_W,NEON,NEON_FLAG_W,TCARBN,TCARBN_FLAG_W,PCO2,PCO2_FLAG_W,ALKALI,ALKALI_FLAG_W,PH,PH_FLAG_W,PH_TMP,C14ERR,DELHER,HELIER,NEONER,TRITER
,,,,,,,,,,,,,DBAR,ITS-90,PSS-78,,PSS-78,,UMOL/KG,,ITS-90,UMOL/KG,,UMOL/KG,,UMOL/KG,,UMOL/KG,,UMOL/KG,,PMOL/KG,,PMOL/KG,,PMOL/KG,,TU,,NMOL/KG,,PERCNT,,/MILLE,,/MILLE,,NMOL/KG,,UMOL/KG,,UATM,,UMOL/KG,,,,DEG C,/MILLE,PERCNT,NMOL/KG,NMOL/KG,TU
     316N151_4,   A22,    13,  1,     32,     32,2,19970818,2118, 15.0200, -66.0067, 4728,  205.6,      2.7,  28.6000,  35.3478,2,  35.3509,2,    201.4,2, 28.5993,    214.0,2,     1.65,2,     0.05,2,     0.00,2,     0.01,2,    1.584,2,    0.970,2,    0.121,2, -999.000,9,-999.0000,5,  -999.00,9,   -999.0,9,  -999.00,9,-999.000,9,   -999.0,9,   -999.0,9,   2319.4,2,   8.1120,2,25,  -999.0, -999.00,-999.0000,-999.000,-999.000
     316N151_4,   A22,    13,  1,     31,     31,2,19970818,2118, 15.0200, -66.0067, 4728,  691.3,     51.5,  28.5185,  35.3819,2,  35.4320,2,    204.3,2, 28.5061,    212.0,2,     1.55,2,     0.05,2,     0.00,2,     0.01,2,    1.622,2,    0.991,2,    0.124,2, -999.000,9,-999.0000,5,  -999.00,9,   -999.0,9,  -999.00,9,-999.000,9,   -999.0,9,   -999.0,9,   -999.0,9,-999.0000,9,-999,  -999.0, -999.00,-999.0000,-999.000,-999.000
     316N151_4,   A22,    13,  1,     30,     30,2,19970818,2118, 15.0200, -66.0067, 4728, 1189.2,    102.0,  26.2393,  36.1970,2,  36.2130,2,    182.4,2, 26.2163,    191.4,2,     1.46,2,     1.53,2,     0.06,2,     0.15,2,    1.718,2,    1.038,6,    0.124,2, -999.000,9,-999.0000,5,  -999.00,9,   -999.0,9,  -999.00,9,-999.000,9,   -999.0,9,   -999.0,9,   -999.0,9,-999.0000,9,-999,  -999.0, -999.00,-999.0000,-999.000,-999.000
     316N151_4,   A22,    13,  1,     29,     29,2,19970818,2118, 15.0200, -66.0067, 4728, 1657.5,    149.4,  23.2032,  36.9470,2,  36.9456,2,    160.4,2, 23.1722,    171.9,2,     1.67,2,     3.45,2,     0.03,2,     0.22,2,    1.922,2,    1.117,2,    0.097,2, -999.000,9,-999.0000,5,  -999.00,9,   -999.0,9,  -999.00,9,-999.000,9,   -999.0,9,   -999.0,9,   -999.0,9,-999.0000,9,-999,  -999.0, -999.00,-999.0000,-999.000,-999.000
     316N151_4,   A22,    13,  1,     28,     28,2,19970818,2118, 15.0200, -66.0067, 4728, 2180.6,    202.1,  19.5379,  36.7261,2,  36.7357,2,    151.9,2, 19.5007,    151.4,2,     2.56,2,     7.32,2,     0.01,2,     0.41,2,    2.017,2,    1.120,2,    0.024,2, -999.000,9,-999.0000,5,  -999.00,9,   -999.0,9,  -999.00,9,-999.000,9,   -999.0,9,   -999.0,9,   -999.0,9,-999.0000,9,-999,  -999.0, -999.00,-999.0000,-999.000,-999.000
     316N151_4,   A22,    13,  1,     27,     27,2,19970818,2118, 15.0200, -66.0067, 4728, 2663.2,    250.9,  17.4012,  36.3888,2,  36.4077,2,    147.0,2, 17.3587,    152.1,2,     3.47,2,    10.24,2,     0.01,2,     0.58,2,    1.977,2,    1.072,2,    0.011,2, -999.000,9,-999.0000,5,  -999.00,9,   -999.0,9,  -999.00,9,-999.000,9,   -999.0,9,   -999.0,9,   -999.0,9,-999.0000,9,-999,  -999.0, -999.00,-999.0000,-999.000,-999.000
     316N151_4,   A22,    13,  1,     26,     26,2,19970818,2118, 15.0200, -66.0067, 4728, 3183.0,    303.4,  14.9224,  35.9395,2,  35.9446,2,    132.9,2, 14.8761,    132.2,2,     6.25,2,    16.31,2,     0.01,2,     0.99,2,    1.504,2,    0.844,2,    0.009,2, -999.000,9,-999.0000,5,  -999.00,9,   -999.0,9,  -999.00,9,-999.000,9,   -999.0,9,   -999.0,9,   -999.0,9,-999.0000,9,-999,  -999.0, -999.00,-999.0000,-999.000,-999.000
     316N151_4,   A22,    13,  1,     25,     25,2,19970818,2118, 15.0200, -66.0067, 4728, 4149.2,    400.5,  12.0508,  35.4448,2,  35.4438,2,    124.5,2, 11.9977,    124.4,2,    10.24,2,    22.31,2,     0.01,2,     1.40,2,    1.027,2,    0.549,2,    0.005,2, -999.000,9,-999.0000,5,  -999.00,9,   -999.0,9,  -999.00,9,-999.000,9,   -999.0,9,   -999.0,9,   -999.0,9,-999.0000,9,-999,  -999.0, -999.00,-999.0000,-999.000,-999.000
     316N151_4,   A22,    13,  1,     24,     24,2,19970818,2118, 15.0200, -66.0067, 4728, 5146.2,    500.5,   9.9531,  35.1276,2,  35.1270,2,    121.1,2,  9.8941,    119.7,2,    14.12,2,    26.63,2,     0.00,2,     1.70,2,    0.678,6,    0.365,6,    0.008,2, -999.000,9,-999.0000,5,  -999.00,9,   -999.0,9,  -999.00,9,-999.000,9,   -999.0,9,   -999.0,9,   -999.0,9,-999.0000,9,-999,  -999.0, -999.00,-999.0000,-999.000,-999.000
     316N151_4,   A22,    13,  1,     23,     23,2,19970818,2118, 15.0200, -66.0067, 4728, 6154.3,    601.6,   8.3134,  34.9127,2,  34.9091,2,    120.7,2,  8.2496,    121.2,2,    18.30,2,    29.94,2,     0.00,2,     1.94,2,    0.381,2,    0.209,2,    0.003,2, -999.000,9,-999.0000,5,  -999.00,9,   -999.0,9,  -999.00,9,-999.000,9,   -999.0,9,   -999.0,9,   -999.0,9,-999.0000,9,-999,  -999.0, -999.00,-999.0000,-999.000,-999.000
     316N151_4,   A22,    13,  1,     22,     22,2,19970818,2118, 15.0200, -66.0067, 4728, 7152.7,    701.5,   6.9545,  34.7762,2,  34.7780,2,    127.2,2,  6.8869,    125.6,2,    22.38,2,    31.96,2,     0.00,2,     2.10,2,    0.179,2,    0.105,2,    0.000,2, -999.000,9,-999.0000,5,  -999.00,9,   -999.0,9,  -999.00,9,-999.000,9,   -999.0,9,   -999.0,9,   -999.0,9,-999.0000,9,-999,  -999.0, -999.00,-999.0000,-999.000,-999.000
     316N151_4,   A22,    13,  1,     21,     21,2,19970818,2118, 15.0200, -66.0067, 4728, 8144.9,    800.7,   6.1302,  34.7432,2,  34.7476,2,    135.7,2,  6.0574,    134.2,2,    24.97,2,    32.20,2,     0.00,2,     2.13,2,    0.096,2,    0.054,2,    0.003,2, -999.000,9,-999.0000,5,  -999.00,9,   -999.0,9,  -999.00,9,-999.000,9,   -999.0,9,   -999.0,9,   -999.0,9,-999.0000,9,-999,  -999.0, -999.00,-999.0000,-999.000,-999.000
     316N151_4,   A22,    13,  1,     20,     20,2,19970818,2118, 15.0200, -66.0067, 4728, 9132.0,    899.6,   5.8313,  34.8635,2,  34.8640,2,    153.3,2,  5.7508,    154.4,2,    24.38,2,    29.08,2,     0.00,2,     1.94,2,    0.080,2,    0.042,2,    0.003,2, -999.000,9,-999.0000,5,  -999.00,9,   -999.0,9,  -999.00,9,-999.000,9,   -999.0,9,   -999.0,9,   -999.0,9,-999.0000,9,-999,  -999.0, -999.00,-999.0000,-999.000,-999.000
     316N151_4,   A22,    13,  1,     19,     19,2,19970818,2118, 15.0200, -66.0067, 4728,10165.8,   1003.1,   5.1857,  34.9121,2,  34.9153,2,    174.3,2,  5.1000,    175.4,2,    25.51,2,    26.50,2,     0.00,2,     1.79,2,    0.047,2,    0.033,2,    0.004,2, -999.000,9,-999.0000,5,  -999.00,9,   -999.0,9,  -999.00,9,-999.000,9,   -999.0,9,   -999.0,9,   -999.0,9,-999.0000,9,-999,  -999.0, -999.00,-999.0000,-999.000,-999.000
     316N151_4,   A22,    13,  1,     18,     18,2,19970818,2118, 15.0200, -66.0067, 4728,11152.8,   1101.7,   4.8063,  34.9409,2,  34.9421,2,    188.5,2,  4.7146,    188.6,2,    25.69,2,    25.05,2,     0.00,2,     1.70,2,    0.040,2,    0.025,2,    0.001,2, -999.000,9,-999.0000,5,  -999.00,9,   -999.0,9,  -999.00,9,-999.000,9,   -999.0,9,   -999.0,9,   -999.0,9,-999.0000,9,-999,  -999.0, -999.00,-999.0000,-999.000,-999.000
     316N151_4,   A22,    13,  1,     17,     17,2,19970818,2118, 15.0200, -66.0067, 4728,13132.5,   1299.6,   4.4365,  34.9619,2,  34.9635,2,    202.9,2,  4.3300,    202.2,2,    26.49,2,    23.60,2,     0.00,2,     1.61,2,    0.029,2,    0.022,2,    0.003,2, -999.000,9,-999.0000,5,  -999.00,9,   -999.0,9,  -999.00,9,-999.000,9,   -999.0,9,   -999.0,9,   -999.0,9,-999.0000,9,-999,  -999.0, -999.00,-999.0000,-999.000,-999.000
     316N151_4,   A22,    13,  1,     16,     16,2,19970818,2118, 15.0200, -66.0067, 4728,15152.2,   1501.5,   4.2475,  34.9697,2,  34.9711,2,    209.5,2,  4.1244,    209.1,2,    26.89,2,    22.93,2,     0.00,2,     1.56,2,    0.026,2,    0.021,2,    0.004,2, -999.000,9,-999.0000,5,  -999.00,9,   -999.0,9,  -999.00,9,-999.000,9,   -999.0,9,   -999.0,9,   -999.0,9,-999.0000,9,-999,  -999.0, -999.00,-999.0000,-999.000,-999.000
     316N151_4,   A22,    13,  1,     15,     15,2,19970818,2118, 15.0200, -66.0067, 4728,16647.8,   1651.0,   4.1685,  34.9722,2,  34.9732,2,    211.0,2,  4.0323,    211.1,2,    27.69,2,    22.65,2,     0.00,2,     1.55,2,    0.031,2,    0.018,2,    0.006,2, -999.000,9,-999.0000,5,  -999.00,9,   -999.0,9,  -999.00,9,-999.000,9,   -999.0,9,   -999.0,9,   -999.0,9,-999.0000,9,-999,  -999.0, -999.00,-999.0000,-999.000,-999.000
     316N151_4,   A22,    13,  1,     14,     14,2,19970818,2118, 15.0200, -66.0067, 4728,18146.2,   1800.7,   4.1293,  34.9733,2,  34.9744,2,    213.8,2,  3.9793,    212.7,2,    28.00,2,    22.57,2,     0.00,2,     1.54,2,    0.020,2,    0.018,2,    0.001,2, -999.000,9,-999.0000,5,  -999.00,9,   -999.0,9,  -999.00,9,-999.000,9,   -999.0,9,   -999.0,9,   -999.0,9,-999.0000,9,-999,  -999.0, -999.00,-999.0000,-999.000,-999.000
     316N151_4,   A22,    13,  1,     13,     13,2,19970818,2118, 15.0200, -66.0067, 4728,19644.6,   1950.5,   4.1072,  34.9744,2,  34.9756,2,    214.2,2,  3.9430,    214.1,2,    28.10,2,    22.42,2,     0.00,2,     1.53,2,    0.017,2,    0.018,2,    0.001,2, -999.000,9,-999.0000,5,  -999.00,9,   -999.0,9,  -999.00,9,-999.000,9,   -999.0,9,   -999.0,9,   -999.0,9,-999.0000,9,-999,  -999.0, -999.00,-999.0000,-999.000,-999.000
     316N151_4,   A22,    13,  1,     12,     12,2,19970818,2118, 15.0200, -66.0067, 4728,21143.4,   2100.2,   4.1028,  34.9752,2,  34.9769,2,    215.4,2,  3.9238,    214.8,2,    28.21,2,    22.30,2,     0.00,2,     1.52,2,    0.019,2,    0.019,2,    0.001,2, -999.000,9,-999.0000,5,  -999.00,9,   -999.0,9,  -999.00,9,-999.000,9,   -999.0,9,   -999.0,9,   -999.0,9,-999.0000,9,-999,  -999.0, -999.00,-999.0000,-999.000,-999.000
     316N151_4,   A22,    13,  1,     11,     11,2,19970818,2118, 15.0200, -66.0067, 4728,22647.0,   2250.6,   4.1026,  34.9755,2,  34.9768,2,    215.1,2,  3.9084,    214.9,2,    28.53,2,    22.23,2,     0.00,2,     1.52,2,    0.015,6,    0.021,6,    0.001,2, -999.000,9,-999.0000,5,  -999.00,9,   -999.0,9,  -999.00,9,-999.000,9,   -999.0,9,   -999.0,9,   -999.0,9,-999.0000,9,-999,  -999.0, -999.00,-999.0000,-999.000,-999.000
     316N151_4,   A22,    13,  1,     10,     10,2,19970818,2118, 15.0200, -66.0067, 4728,25150.8,   2500.7,   4.1137,  34.9760,2,  34.9767,2,    215.5,2,  3.8933,    215.4,2,    28.72,2,    22.35,2,     0.00,2,     1.52,2,    0.014,2,    0.022,2,    0.001,2, -999.000,9,-999.0000,5,  -999.00,9,   -999.0,9,  -999.00,9,-999.000,9,   -999.0,9,   -999.0,9,   -999.0,9,-999.0000,9,-999,  -999.0, -999.00,-999.0000,-999.000,-999.000
     316N151_4,   A22,    13,  1,      9,      9,2,19970818,2118, 15.0200, -66.0067, 4728,27655.3,   2751.1,   4.1306,  34.9762,2,  34.9771,2,    215.9,2,  3.8831,    215.1,2,    28.93,2,    22.31,2,     0.00,2,     1.52,2,    0.016,2,    0.021,2,    0.000,2, -999.000,9,-999.0000,5,  -999.00,9,   -999.0,9,  -999.00,9,-999.000,9,   -999.0,9,   -999.0,9,   -999.0,9,-999.0000,9,-999,  -999.0, -999.00,-999.0000,-999.000,-999.000
     316N151_4,   A22,    13,  1,      8,      8,2,19970818,2118, 15.0200, -66.0067, 4728,30162.4,   3001.8,   4.1532,  34.9768,2,  34.9770,2,    216.1,2,  3.8775,    215.7,2,    28.94,2,    22.31,2,     0.00,2,     1.52,2,    0.013,2,    0.021,2,    0.001,2, -999.000,9,-999.0000,5,  -999.00,9,   -999.0,9,  -999.00,9,-999.000,9,   -999.0,9,   -999.0,9,   -999.0,9,-999.0000,9,-999,  -999.0, -999.00,-999.0000,-999.000,-999.000
     316N151_4,   A22,    13,  1,      7,      7,2,19970818,2118, 15.0200, -66.0067, 4728,32666.4,   3252.1,   4.1776,  34.9772,2,  34.9771,2,    216.0,2,  3.8727,    215.8,2,    28.84,2,    22.35,2,     0.00,2,     1.51,2,    0.012,2,    0.020,2,    0.000,2, -999.000,9,-999.0000,5,  -999.00,9,   -999.0,9,  -999.00,9,-999.000,9,   -999.0,9,   -999.0,9,   -999.0,9,-999.0000,9,-999,  -999.0, -999.00,-999.0000,-999.000,-999.000
     316N151_4,   A22,    13,  1,      6,      6,2,19970818,2118, 15.0200, -66.0067, 4728,35155.5,   3500.8,   4.2045,  34.9772,2,  34.9780,2,    215.9,2,  3.8698,    216.1,2,    28.95,2,    22.23,2,     0.00,2,     1.51,2,    0.026,2,    0.021,2,    0.001,2, -999.000,9,-999.0000,5,  -999.00,9,   -999.0,9,  -999.00,9,-999.000,9,   -999.0,9,   -999.0,9,   -999.0,9,-999.0000,9,-999,  -999.0, -999.00,-999.0000,-999.000,-999.000
     316N151_4,   A22,    13,  1,      5,      5,2,19970818,2118, 15.0200, -66.0067, 4728,37648.9,   3750.0,   4.2328,  34.9780,2,  34.9792,2,    216.3,2,  3.8674,    216.3,2,    29.15,2,    22.23,2,     0.00,2,     1.51,2,    0.014,2,    0.023,2,    0.003,2, -999.000,9,-999.0000,5,  -999.00,9,   -999.0,9,  -999.00,9,-999.000,9,   -999.0,9,   -999.0,9,   -999.0,9,-999.0000,9,-999,  -999.0, -999.00,-999.0000,-999.000,-999.000
     316N151_4,   A22,    13,  1,      4,      4,2,19970818,2118, 15.0200, -66.0067, 4728,40129.7,   3998.0,   4.2631,  34.9778,2,  34.9768,2,    216.5,2,  3.8662,    216.7,2,    29.07,2,    22.15,2,     0.00,2,     1.51,2,    0.016,2,    0.023,2,    0.001,2, -999.000,9,-999.0000,5,  -999.00,9,   -999.0,9,  -999.00,9,-999.000,9,   -999.0,9,   -999.0,9,   2344.6,6,   7.7160,6,25,  -999.0, -999.00,-999.0000,-999.000,-999.000
     316N151_4,   A22,    13,  1,      3,      3,2,19970818,2118, 15.0200, -66.0067, 4728,42643.9,   4249.2,   4.2943,  34.9783,2,  34.9797,2,    217.1,2,  3.8647,    216.5,2,    29.27,2,    22.00,2,     0.00,2,     1.51,2,    0.019,2,    0.023,2,    0.003,2, -999.000,9,-999.0000,5,  -999.00,9,   -999.0,9,  -999.00,9,-999.000,9,   -999.0,9,   -999.0,9,   -999.0,9,-999.0000,9,-999,  -999.0, -999.00,-999.0000,-999.000,-999.000
     316N151_4,   A22,    13,  1,      2,      2,2,19970818,2118, 15.0200, -66.0067, 4728,45145.6,   4499.2,   4.3271,  34.9795,2,  34.9795,2,    217.6,2,  3.8641,    217.1,2,    29.36,2,    22.04,2,     0.00,2,     1.50,2,    0.023,2,    0.025,2,    0.004,2, -999.000,9,-999.0000,5,  -999.00,9,   -999.0,9,  -999.00,9,-999.000,9,   -999.0,9,   -999.0,9,   -999.0,9,-999.0000,9,-999,  -999.0, -999.00,-999.0000,-999.000,-999.000
     316N151_4,   A22,    13,  1,      1,      1,2,19970818,2118, 15.0200, -66.0067, 4728,47667.7,   4751.4,   4.3621,  34.9801,2,  34.9816,2,    218.9,2,  3.8645,    219.6,2,    28.43,6,    21.88,6,     0.00,6,     1.49,6,    0.068,6,    0.046,6, -999.000,9, -999.000,9,-999.0000,5,  -999.00,9,   -999.0,9,  -999.00,9,-999.000,9,   -999.0,9,   -999.0,9,   -999.0,9,-999.0000,9,-999,  -999.0, -999.00,-999.0000,-999.000,-999.000