BOTTLE,20220629CCHSIOAMB
EXPOCODE,SECT_ID,STNNBR,CASTNO,SAMPNO,BTLNBR,BTLNBR_FLAG_W,DATE,TIME,LATITUDE,LONGITUDE,DEPTH,CTDRAW,CTDPRS,CTDTMP,CTDSAL,CTDSAL_FLAG_W,SALNTY,SALNTY_FLAG_W,CTDOXY,CTDOXY_FLAG_W,THETA,OXYGEN,OXYGEN_FLAG_W,SILCAT,SILCAT_FLAG_W,NITRAT,NITRAT_FLAG_W,NITRIT,NITRIT_FLAG_W,PHSPHT,PHSPHT_FLAG_W,CFC-11,CFC-11_FLAG_W,CFC-12,CFC-12_FLAG_W,CFC113,CFC113_FLAG_W,TRITUM,TRITUM_FLAG_W,HELIUM,HELIUM_FLAG_W,DELHE3,DELHE3_FLAG_W,DELC14,DELC14_FLAG_W,DELC13,DELC13_FLAG_W,NEON,NEON_FLAG_W,TCARBN,TCARBN_FLAG_W,PCO2,PCO2_FLAG_W,ALKALI,ALKALI_FLAG_W,PH,PH_FLAG_W,PH_TMP,C14ERR,DELHER,HELIER,NEONER,TRITER
,,,,,,,,,,,,,DBAR,ITS-90,PSS-78,,PSS-78,,UMOL/KG,,ITS-90,UMOL/KG,,UMOL/KG,,UMOL/KG,,UMOL/KG,,UMOL/KG,,PMOL/KG,,PMOL/KG,,PMOL/KG,,TU,,NMOL/KG,,PERCNT,,/MILLE,,/MILLE,,NMOL/KG,,UMOL/KG,,UATM,,UMOL/KG,,,,DEG C,/MILLE,PERCNT,NMOL/KG,NMOL/KG,TU
     316N151_4,   A22,    25,  1,     31,     31,2,19970821,0613, 17.9620, -65.1367, 4392,  196.2,      2.6,  28.7534,  35.4276,2,  35.4314,2,    212.8,2, 28.7527,    210.2,2,     1.68,2,     0.04,2,     0.00,2,     0.01,2,    1.625,2,    0.984,2,    0.125,2, -999.000,9,-999.0000,5,  -999.00,9,   -999.0,9,  -999.00,9,-999.000,9,   -999.0,9,    257.0,2,   2329.0,2,   8.1250,2,25,  -999.0, -999.00,-999.0000,-999.000,-999.000
     316N151_4,   A22,    25,  1,     30,     30,2,19970821,0613, 17.9620, -65.1367, 4392,  675.7,     50.7,  28.6337,  36.3325,2,  36.3412,2,    218.5,2, 28.6215,    211.6,2,     1.22,2,     0.04,2,     0.00,2,     0.01,2,    1.673,2,    1.006,2,    0.126,2, -999.000,9,-999.0000,5,  -999.00,9,   -999.0,9,  -999.00,9,-999.000,9,   -999.0,9,   -999.0,9,   -999.0,9,-999.0000,9,-999,  -999.0, -999.00,-999.0000,-999.000,-999.000
     316N151_4,   A22,    25,  1,     29,     29,2,19970821,0613, 17.9620, -65.1367, 4392, 1177.1,    100.9,  24.9688,  36.9577,2,  36.9552,2,    218.0,2, 24.9467,    217.5,2,     0.96,2,     0.03,2,     0.01,2,     0.01,2,    1.929,2,    1.134,2,    0.143,2, -999.000,9,-999.0000,5,  -999.00,9,   -999.0,9,  -999.00,9,-999.000,9,   -999.0,9,   -999.0,9,   2416.5,2,   8.1060,2,25,  -999.0, -999.00,-999.0000,-999.000,-999.000
     316N151_4,   A22,    25,  1,     28,     28,2,19970821,0613, 17.9620, -65.1367, 4392, 1662.2,    149.6,  23.7622,  37.1878,2,  37.1550,2,    207.3,2, 23.7306,    205.6,2,     0.79,2,     0.10,2,     0.07,2,     0.02,2,    2.001,6,    1.164,6, -999.000,9, -999.000,9,-999.0000,5,  -999.00,9,   -999.0,9,  -999.00,9,-999.000,9,   -999.0,9,   -999.0,9,   2427.8,2,   8.0790,2,25,  -999.0, -999.00,-999.0000,-999.000,-999.000
     316N151_4,   A22,    25,  1,     27,     27,2,19970821,0613, 17.9620, -65.1367, 4392, 2171.0,    200.7,  21.5855,  37.0909,2,  37.0909,2,    180.2,2, 21.5459,    184.3,2,     0.73,2,     1.36,2,     0.02,2,     0.06,2,    2.159,2,    1.229,2,    0.080,2, -999.000,9,-999.0000,5,  -999.00,9,   -999.0,9,  -999.00,9,-999.000,9,   -999.0,9,   -999.0,9,   -999.0,9,-999.0000,9,-999,  -999.0, -999.00,-999.0000,-999.000,-999.000
     316N151_4,   A22,    25,  1,     26,     26,2,19970821,0613, 17.9620, -65.1367, 4392, 2671.1,    251.1,  20.2633,  36.9367,2,  36.9295,2,    175.6,2, 20.2159,    175.4,2,     1.16,2,     3.22,2,     0.01,2,     0.14,2,    2.220,2,    1.236,2,    0.025,2, -999.000,9,-999.0000,5,  -999.00,9,   -999.0,9,  -999.00,9,-999.000,9,   -999.0,9,   -999.0,9,   -999.0,9,-999.0000,9,-999,  -999.0, -999.00,-999.0000,-999.000,-999.000
     316N151_4,   A22,    25,  1,     25,     25,2,19970821,0613, 17.9620, -65.1367, 4392, 3176.2,    302.0,  18.0304,  36.5581,2,  36.5579,2,    178.1,2, 17.9778,    175.0,2,     1.99,2,     6.56,2,     0.01,2,     0.35,2,    2.219,2,    1.206,2,    0.021,2, -999.000,9,-999.0000,5,  -999.00,9,   -999.0,9,  -999.00,9,-999.000,9,   -999.0,9,   -999.0,9,   -999.0,9,-999.0000,9,-999,  -999.0, -999.00,-999.0000,-999.000,-999.000
     316N151_4,   A22,    25,  1,     24,     24,2,19970821,0613, 17.9620, -65.1367, 4392, 4155.0,    400.4,  15.3105,  36.0708,2,  36.0761,2,    155.9,2, 15.2481,    156.3,2,     4.41,2,    12.86,2,     0.00,2,     0.76,2,    1.837,2,    0.975,2,    0.018,2, -999.000,9,-999.0000,5,  -999.00,9,   -999.0,9,  -999.00,9,-999.000,9,   -999.0,9,   -999.0,9,   -999.0,9,-999.0000,9,-999,  -999.0, -999.00,-999.0000,-999.000,-999.000
     316N151_4,   A22,    25,  1,     23,     23,2,19970821,0613, 17.9620, -65.1367, 4392, 5145.2,    499.9,  12.7095,  35.6586,2,  35.6578,2,    138.0,2, 12.6407,    144.7,2,     7.53,2,    18.39,2,     0.00,2,     1.11,2,    1.206,2,    0.628,2,    0.007,2, -999.000,9,-999.0000,5,  -999.00,9,   -999.0,9,  -999.00,9,-999.000,9,   -999.0,9,   -999.0,9,   -999.0,9,-999.0000,9,-999,  -999.0, -999.00,-999.0000,-999.000,-999.000
     316N151_4,   A22,    25,  1,     22,     22,2,19970821,0613, 17.9620, -65.1367, 4392, 6152.5,    600.9,  10.0413,  35.2376,2,-999.0000,9,    129.0,2,  9.9697,    129.9,2,    13.53,2,    24.99,2,     0.00,2,     1.58,2,    0.602,2,    0.322,2,    0.003,2, -999.000,9,-999.0000,5,  -999.00,9,   -999.0,9,  -999.00,9,-999.000,9,   -999.0,9,   -999.0,9,   -999.0,9,-999.0000,9,-999,  -999.0, -999.00,-999.0000,-999.000,-999.000
     316N151_4,   A22,    25,  1,     21,     21,2,19970821,0613, 17.9620, -65.1367, 4392, 7142.5,    700.1,   8.5296,  35.0850,2,  35.0838,2,    131.8,2,  8.4537,    130.3,2,    17.15,2,    27.63,2,     0.00,2,     1.77,2,    0.281,2,    0.153,2,    0.007,2, -999.000,9,-999.0000,5,  -999.00,9,   -999.0,9,  -999.00,9,-999.000,9,   -999.0,9,   -999.0,9,   -999.0,9,-999.0000,9,-999,  -999.0, -999.00,-999.0000,-999.000,-999.000
     316N151_4,   A22,    25,  1,     20,     20,2,19970821,0613, 17.9620, -65.1367, 4392, 8153.6,    801.3,   7.3276,  34.9541,2,  34.9523,2,    138.3,2,  7.2475,    136.1,2,    20.17,2,    29.09,2,     0.00,2,     1.90,2,    0.157,2,    0.092,2,    0.001,2, -999.000,9,-999.0000,5,  -999.00,9,   -999.0,9,  -999.00,9,-999.000,9,   -999.0,9,   -999.0,9,   -999.0,9,-999.0000,9,-999,  -999.0, -999.00,-999.0000,-999.000,-999.000
     316N151_4,   A22,    25,  1,     19,     19,2,19970821,0613, 17.9620, -65.1367, 4392, 9146.4,    900.8,   6.5180,  34.9438,2,  34.9437,2,    150.3,2,  6.4327,    152.5,2,    20.90,2,    27.95,2,     0.00,2,     1.84,2,    0.143,2,    0.082,2,    0.002,2, -999.000,9,-999.0000,5,  -999.00,9,   -999.0,9,  -999.00,9,-999.000,9,   -999.0,9,   -999.0,9,   -999.0,9,-999.0000,9,-999,  -999.0, -999.00,-999.0000,-999.000,-999.000
     316N151_4,   A22,    25,  1,     18,     18,2,19970821,0613, 17.9620, -65.1367, 4392,10133.3,    999.6,   5.8743,  34.9846,2,  34.9523,2,    176.6,2,  5.7836,    179.2,2,    19.45,2,    25.01,2,     0.00,2,     1.66,2,    0.235,2,    0.123,2,    0.006,2, -999.000,9,-999.0000,5,  -999.00,9,   -999.0,9,  -999.00,9,-999.000,9,   -999.0,9,   -999.0,9,   -999.0,9,-999.0000,9,-999,  -999.0, -999.00,-999.0000,-999.000,-999.000
     316N151_4,   A22,    25,  1,     17,     17,2,19970821,0613, 17.9620, -65.1367, 4392,11137.1,   1100.0,   5.1421,  34.9598,2,  34.9611,2,    187.9,2,  5.0476,    190.5,2,    22.97,2,    24.40,2,     0.00,2,     1.64,2,    0.131,2,    0.076,2,    0.004,2, -999.000,9,-999.0000,5,  -999.00,9,   -999.0,9,  -999.00,9,-999.000,9,   -999.0,9,   -999.0,9,   -999.0,9,-999.0000,9,-999,  -999.0, -999.00,-999.0000,-999.000,-999.000
     316N151_4,   A22,    25,  1,     16,     16,2,19970821,0613, 17.9620, -65.1367, 4392,13132.5,   1299.5,   4.4662,  34.9673,2,  34.9673,2,    207.0,2,  4.3595,    206.7,2,    25.01,2,    23.03,2,     0.00,2,     1.57,2,    0.089,2,    0.051,2,    0.003,2, -999.000,9,-999.0000,5,  -999.00,9,   -999.0,9,  -999.00,9,-999.000,9,   -999.0,9,   -999.0,9,   -999.0,9,-999.0000,9,-999,  -999.0, -999.00,-999.0000,-999.000,-999.000
     316N151_4,   A22,    25,  1,     15,     15,2,19970821,0613, 17.9620, -65.1367, 4392,15142.7,   1500.5,   4.1753,  34.9754,2,  34.9749,2,    219.7,2,  4.0530,    217.7,2,    25.24,2,    21.98,2,     0.00,2,     1.50,2,    0.111,2,    0.068,2,    0.004,2, -999.000,9,-999.0000,5,  -999.00,9,   -999.0,9,  -999.00,9,-999.000,9,   -999.0,9,   -999.0,9,   -999.0,9,-999.0000,9,-999,  -999.0, -999.00,-999.0000,-999.000,-999.000
     316N151_4,   A22,    25,  1,     14,     14,2,19970821,0613, 17.9620, -65.1367, 4392,16642.5,   1650.4,   4.0670,  34.9766,2,  34.9776,2,    236.2,2,  3.9322,    221.1,2,    25.97,2,    21.66,2,     0.00,2,     1.47,2,    0.106,2,    0.067,2,    0.003,2, -999.000,9,-999.0000,5,  -999.00,9,   -999.0,9,  -999.00,9,-999.000,9,   -999.0,9,   -999.0,9,   -999.0,9,-999.0000,9,-999,  -999.0, -999.00,-999.0000,-999.000,-999.000
     316N151_4,   A22,    25,  1,     13,     13,2,19970821,0613, 17.9620, -65.1367, 4392,18147.8,   1800.8,   4.0093,  34.9826,2,  34.9835,2,    241.9,2,  3.8609,    241.0,2,    19.44,2,    19.76,2,     0.00,2,     1.33,2,    0.362,2,    0.194,2,    0.013,2, -999.000,9,-999.0000,5,  -999.00,9,   -999.0,9,  -999.00,9,-999.000,9,   -999.0,9,   -999.0,9,   -999.0,9,-999.0000,9,-999,  -999.0, -999.00,-999.0000,-999.000,-999.000
     316N151_4,   A22,    25,  1,     12,     12,2,19970821,0613, 17.9620, -65.1367, 4392,19627.8,   1948.8,   3.9053,  34.9861,2,  34.9869,2,    256.4,2,  3.7441,    256.2,2,    15.30,2,    18.39,2,     0.00,2,     1.23,2,    0.490,2,    0.263,2,    0.018,2, -999.000,9,-999.0000,5,  -999.00,9,   -999.0,9,  -999.00,9,-999.000,9,   -999.0,9,   -999.0,9,   -999.0,9,-999.0000,9,-999,  -999.0, -999.00,-999.0000,-999.000,-999.000
     316N151_4,   A22,    25,  1,     11,     11,2,19970821,0613, 17.9620, -65.1367, 4392,21131.2,   2099.2,   3.8729,  34.9856,2,  34.9862,2,    258.0,2,  3.6974,    258.4,2,    14.94,2,    18.23,2,     0.00,2,     1.22,2,    0.484,2,    0.257,2,    0.017,2, -999.000,9,-999.0000,5,  -999.00,9,   -999.0,9,  -999.00,9,-999.000,9,   -999.0,9,   -999.0,9,   -999.0,9,-999.0000,9,-999,  -999.0, -999.00,-999.0000,-999.000,-999.000
     316N151_4,   A22,    25,  1,     10,     10,2,19970821,0613, 17.9620, -65.1367, 4392,22658.7,   2251.7,   3.8619,  34.9859,2,  34.9852,2,    257.9,2,  3.6714,    258.6,2,    15.17,2,    18.23,2,     0.00,2,     1.22,2,    0.448,2,    0.232,2,    0.015,2, -999.000,9,-999.0000,5,  -999.00,9,   -999.0,9,  -999.00,9,-999.000,9,   -999.0,9,   -999.0,9,   -999.0,9,-999.0000,9,-999,  -999.0, -999.00,-999.0000,-999.000,-999.000
     316N151_4,   A22,    25,  1,      9,      9,2,19970821,0613, 17.9620, -65.1367, 4392,25147.0,   2500.5,   3.8751,  34.9874,2,  34.9878,2,    258.3,2,  3.6589,    258.3,2,    15.31,2,    18.27,2,     0.00,2,     1.23,2,    0.365,6,    0.198,6,    0.017,2, -999.000,9,-999.0000,5,  -999.00,9,   -999.0,9,  -999.00,9,-999.000,9,   -999.0,9,   -999.0,9,   -999.0,9,-999.0000,9,-999,  -999.0, -999.00,-999.0000,-999.000,-999.000
     316N151_4,   A22,    25,  1,      8,      8,2,19970821,0613, 17.9620, -65.1367, 4392,27628.0,   2748.3,   3.8972,  34.9880,2,  34.9889,2,    257.8,2,  3.6544,    260.2,3,    15.54,2,    18.31,2,     0.00,2,     1.23,2,    0.309,2,    0.176,2,    0.019,2, -999.000,9,-999.0000,5,  -999.00,9,   -999.0,9,  -999.00,9,-999.000,9,   -999.0,9,   -999.0,9,   -999.0,9,-999.0000,9,-999,  -999.0, -999.00,-999.0000,-999.000,-999.000
     316N151_4,   A22,    25,  1,      7,      7,2,19970821,0613, 17.9620, -65.1367, 4392,30136.9,   2999.2,   3.9241,  34.9884,2,  34.9889,2,    257.3,2,  3.6533,    257.8,2,    15.68,2,    18.35,2,     0.00,2,     1.23,2,    0.265,2,    0.157,2,    0.018,2, -999.000,9,-999.0000,5,  -999.00,9,   -999.0,9,  -999.00,9,-999.000,9,   -999.0,9,   -999.0,9,   -999.0,9,-999.0000,9,-999,  -999.0, -999.00,-999.0000,-999.000,-999.000
     316N151_4,   A22,    25,  1,      6,      6,2,19970821,0613, 17.9620, -65.1367, 4392,32633.1,   3248.7,   3.9512,  34.9893,2,  34.9884,2,    257.3,2,  3.6518,    257.7,2,    15.82,2,    18.38,2,     0.00,2,     1.23,2,    0.244,2,    0.154,2,    0.022,2, -999.000,9,-999.0000,5,  -999.00,9,   -999.0,9,  -999.00,9,-999.000,9,   -999.0,9,   -999.0,9,   -999.0,9,-999.0000,9,-999,  -999.0, -999.00,-999.0000,-999.000,-999.000
     316N151_4,   A22,    25,  1,      5,      5,2,19970821,0613, 17.9620, -65.1367, 4392,35148.6,   3500.1,   3.9797,  34.9891,2,  34.9882,2,    257.2,2,  3.6505,    256.9,2,    15.86,2,    18.38,2,     0.00,2,     1.23,2,    0.238,2,    0.147,2,    0.022,2, -999.000,9,-999.0000,5,  -999.00,9,   -999.0,9,  -999.00,9,-999.000,9,   -999.0,9,   -999.0,9,   -999.0,9,-999.0000,9,-999,  -999.0, -999.00,-999.0000,-999.000,-999.000
     316N151_4,   A22,    25,  1,      4,      4,2,19970821,0613, 17.9620, -65.1367, 4392,37637.1,   3748.8,   4.0098,  34.9892,2,  34.9883,2,    257.1,2,  3.6503,    257.4,2,    15.90,2,    18.38,2,     0.00,2,     1.23,2,    0.238,2,    0.147,2,    0.025,2, -999.000,9,-999.0000,5,  -999.00,9,   -999.0,9,  -999.00,9,-999.000,9,   -999.0,9,   -999.0,9,   -999.0,9,-999.0000,9,-999,  -999.0, -999.00,-999.0000,-999.000,-999.000
     316N151_4,   A22,    25,  1,      3,      3,2,19970821,0613, 17.9620, -65.1367, 4392,40141.7,   3999.2,   4.0412,  34.9894,2,  34.9889,2,    257.4,2,  3.6501,    257.5,2,    15.83,2,    18.35,2,     0.00,2,     1.23,2,    0.227,2,    0.142,2,    0.024,2, -999.000,9,-999.0000,5,  -999.00,9,   -999.0,9,  -999.00,9,-999.000,9,   -999.0,9,   -999.0,9,   -999.0,9,-999.0000,9,-999,  -999.0, -999.00,-999.0000,-999.000,-999.000
     316N151_4,   A22,    25,  1,      2,      2,2,19970821,0613, 17.9620, -65.1367, 4392,42672.0,   4252.0,   4.0734,  34.9897,2,  34.9882,2,    258.1,2,  3.6497,    257.5,2,    15.87,2,    18.35,2,     0.00,2,     1.23,2,    0.227,2,    0.143,2,    0.030,2, -999.000,9,-999.0000,5,  -999.00,9,   -999.0,9,  -999.00,9,-999.000,9,   -999.0,9,   -999.0,9,   -999.0,9,-999.0000,9,-999,  -999.0, -999.00,-999.0000,-999.000,-999.000
     316N151_4,   A22,    25,  1,      1,      1,2,19970821,0613, 17.9620, -65.1367, 4392,45497.4,   4534.8,   4.1107,  34.9905,2,  34.9898,2,    257.3,2,  3.6494,    257.2,2,    15.87,6,    18.37,6,     0.00,6,     1.23,6,    0.225,6,    0.140,6,    0.031,2, -999.000,9,-999.0000,5,  -999.00,9,   -999.0,9,  -999.00,9,-999.000,9,   -999.0,9,   -999.0,9,   -999.0,9,-999.0000,9,-999,  -999.0, -999.00,-999.0000,-999.000,-999.000
     316N151_4,   A22,    26,  1,      6,      6,2,19970821,1411, 18.4958, -66.0008,  215,  120.5,      2.7,  28.3928,  36.2239,2,  36.2228,2,   -999.0,9, 28.3922,    205.4,2,     1.02,2,     0.00,2,     0.00,2,     0.01,2, -999.000,9, -999.000,9, -999.000,9,    0.811,2,-999.0000,5,  -999.00,9,   -999.0,9,  -999.00,9,-999.000,9,   2004.3,2,    267.0,2,   2369.2,6,   8.1120,6,25,  -999.0, -999.00,-999.0000,-999.000,   0.013
     316N151_4,   A22,    26,  1,      5,      5,2,19970821,1411, 18.4958, -66.0008,  215,  582.9,     50.0,  28.1317,  36.3633,2,  36.3619,2,    207.1,2, 28.1199,    210.3,2,     1.04,2,     0.00,2,     0.01,2,     0.02,2,    2.821,3,    1.027,2,    0.133,2,    0.841,2,-999.0000,5,  -999.00,9,   -999.0,9,  -999.00,9,-999.000,9,   2008.8,2,   -999.0,9,   2381.4,2,   8.1220,2,25,  -999.0, -999.00,-999.0000,-999.000,   0.013
     316N151_4,   A22,    26,  1,      4,      4,2,19970821,1411, 18.4958, -66.0008,  215, 1075.2,    100.4,  26.1342,  36.6038,2,  36.6822,2,    200.7,2, 26.1116,    204.3,2,     0.96,2,     0.21,2,     0.39,2,     0.03,2, -999.000,9, -999.000,9, -999.000,9,    0.891,2,-999.0000,5,  -999.00,9,   -999.0,9,  -999.00,9,-999.000,9,   2040.6,2,   -999.0,9,   2398.8,2,   8.0950,2,25,  -999.0, -999.00,-999.0000,-999.000,   0.013
     316N151_4,   A22,    26,  1,      3,      3,2,19970821,1411, 18.4958, -66.0008,  215, 1593.2,    152.9,  23.2990,  37.1759,2,  37.1719,2,    190.4,2, 23.2672,    200.0,2,     0.57,2,     0.62,2,     0.06,2,     0.05,2,    2.045,2,    1.179,2,    0.131,2,    1.039,2,-999.0000,5,  -999.00,9,   -999.0,9,  -999.00,9,-999.000,9,   2087.7,2,   -999.0,9,   2428.9,2,   8.0590,2,25,  -999.0, -999.00,-999.0000,-999.000,   0.014
     316N151_4,   A22,    26,  1,      2,      2,2,19970821,1411, 18.4958, -66.0008,  215, 2073.0,    200.6,  20.9563,  36.9845,2,  36.9647,2,    176.4,2, 20.9175,    185.7,2,     0.88,2,     2.11,2,     0.03,2,     0.10,2, -999.000,9, -999.000,9, -999.000,9,    1.106,2,-999.0000,5,  -999.00,9,   -999.0,9,  -999.00,9,-999.000,9,   2110.8,2,   -999.0,9,   2418.8,6,   8.0040,2,25,  -999.0, -999.00,-999.0000,-999.000,   0.014
     316N151_4,   A22,    26,  1,      1,      1,2,19970821,1411, 18.4958, -66.0008,  215, 2237.9,    214.7,  20.3918,  36.9031,2,  36.9117,2,    174.9,2, 20.3511,    185.5,2,     0.92,6,     2.40,6,     0.03,6,     0.12,6,    2.210,2,    1.254,2,    0.056,2, -999.000,9,-999.0000,5,  -999.00,9,   -999.0,9,  -999.00,9,-999.000,9,   2112.0,2,   -999.0,9,   2414.3,2,   7.9940,2,25,  -999.0, -999.00,-999.0000,-999.000,-999.000