BOTTLE,20220629CCHSIOAMB
EXPOCODE,SECT_ID,STNNBR,CASTNO,SAMPNO,BTLNBR,BTLNBR_FLAG_W,DATE,TIME,LATITUDE,LONGITUDE,DEPTH,CTDRAW,CTDPRS,CTDTMP,CTDSAL,CTDSAL_FLAG_W,SALNTY,SALNTY_FLAG_W,CTDOXY,CTDOXY_FLAG_W,THETA,OXYGEN,OXYGEN_FLAG_W,SILCAT,SILCAT_FLAG_W,NITRAT,NITRAT_FLAG_W,NITRIT,NITRIT_FLAG_W,PHSPHT,PHSPHT_FLAG_W,CFC-11,CFC-11_FLAG_W,CFC-12,CFC-12_FLAG_W,CFC113,CFC113_FLAG_W,TRITUM,TRITUM_FLAG_W,HELIUM,HELIUM_FLAG_W,DELHE3,DELHE3_FLAG_W,DELC14,DELC14_FLAG_W,DELC13,DELC13_FLAG_W,NEON,NEON_FLAG_W,TCARBN,TCARBN_FLAG_W,PCO2,PCO2_FLAG_W,ALKALI,ALKALI_FLAG_W,PH,PH_FLAG_W,PH_TMP,C14ERR,DELHER,HELIER,NEONER,TRITER
,,,,,,,,,,,,,DBAR,ITS-90,PSS-78,,PSS-78,,UMOL/KG,,ITS-90,UMOL/KG,,UMOL/KG,,UMOL/KG,,UMOL/KG,,UMOL/KG,,PMOL/KG,,PMOL/KG,,PMOL/KG,,TU,,NMOL/KG,,PERCNT,,/MILLE,,/MILLE,,NMOL/KG,,UMOL/KG,,UATM,,UMOL/KG,,,,DEG C,/MILLE,PERCNT,NMOL/KG,NMOL/KG,TU
     316N151_4,   A22,    40,  1,     34,     34,2,19970824,0637, 22.2060, -65.9965, 5648,  193.9,      2.8,  28.7733,  36.2851,2,  36.2874,2,    202.0,2, 28.7726,    205.6,2,     0.87,2,     0.01,2,     0.00,2,     0.00,2,    1.631,2,    0.989,2,    0.124,2, -999.000,9,-999.0000,5,  -999.00,9,   -999.0,9,  -999.00,9,-999.000,9,   2003.7,2,    259.0,2,   2374.5,2,   8.1260,2,25,  -999.0, -999.00,-999.0000,-999.000,-999.000
     316N151_4,   A22,    40,  1,     33,     33,2,19970824,0637, 22.2060, -65.9965, 5648,  656.2,     49.4,  27.9725,  36.4236,2,  36.4350,2,    215.2,2, 27.9608,    215.7,2,     0.93,2,     0.01,2,     0.00,2,     0.00,2,    1.754,2,    1.040,2,    0.132,2, -999.000,9,-999.0000,5,  -999.00,9,   -999.0,9,  -999.00,9,-999.000,9,   2008.5,2,    258.0,2,   2385.8,6,   8.1290,6,25,  -999.0, -999.00,-999.0000,-999.000,-999.000
     316N151_4,   A22,    40,  1,     32,     32,2,19970824,0637, 22.2060, -65.9965, 5648, 1155.6,     99.7,  24.6033,  37.0621,2,  37.0633,2,    219.6,2, 24.5818,    216.4,2,     0.58,2,     0.01,2,     0.00,2,     0.01,2,    1.953,6,    1.132,6,    0.141,2, -999.000,9,-999.0000,5,  -999.00,9,   -999.0,9,  -999.00,9,-999.000,9,   2053.0,2,    277.0,2,   2421.9,2,   8.1050,2,25,  -999.0, -999.00,-999.0000,-999.000,-999.000
     316N151_4,   A22,    40,  1,     31,     31,2,19970824,0637, 22.2060, -65.9965, 5648, 1685.7,    152.9,  22.6019,  37.0726,2,  37.0845,2,    197.3,2, 22.5708,    206.6,2,     0.44,2,     0.17,2,     0.09,2,     0.02,2,    2.081,2,    1.195,2,    0.138,2, -999.000,9,-999.0000,5,  -999.00,9,   -999.0,9,  -999.00,9,-999.000,9,   2080.5,2,    316.0,2,   2432.4,3,   8.0670,2,25,  -999.0, -999.00,-999.0000,-999.000,-999.000
     316N151_4,   A22,    40,  1,     30,     30,2,19970824,0637, 22.2060, -65.9965, 5648, 2166.2,    200.8,  19.9364,  36.7899,2,  36.7792,2,    187.9,2, 19.8989,    187.7,2,     0.59,2,     1.67,2,     0.01,2,     0.05,2,    2.279,2,    1.274,2,    0.037,2, -999.000,9,-999.0000,5,  -999.00,9,   -999.0,9,  -999.00,9,-999.000,9,   2102.2,2,    373.0,2,   2402.3,2,   8.0090,2,25,  -999.0, -999.00,-999.0000,-999.000,-999.000
     316N151_4,   A22,    40,  1,     29,     29,2,19970824,0637, 22.2060, -65.9965, 5648, 2675.7,    251.7,  18.5549,  36.5947,2,  36.5944,2,    192.5,2, 18.5104,    196.3,2,     0.95,2,     3.17,2,     0.01,2,     0.13,2,    2.361,2,    1.307,2,    0.023,2, -999.000,9,-999.0000,5,  -999.00,9,   -999.0,9,  -999.00,9,-999.000,9,   2095.6,2,    380.0,2,   2393.0,2,   8.0010,2,25,  -999.0, -999.00,-999.0000,-999.000,-999.000
     316N151_4,   A22,    40,  1,     28,     28,2,19970824,0637, 22.2060, -65.9965, 5648, 3153.8,    299.8,  18.1034,  36.5355,2,  36.5364,2,    191.0,2, 18.0511,    204.6,2,     1.10,2,     3.73,2,     0.01,2,     0.18,2,    2.392,2,    1.317,2,    0.036,2, -999.000,9,-999.0000,5,  -999.00,9,   -999.0,9,  -999.00,9,-999.000,9,   2093.8,2,    381.0,2,   2388.1,2,   8.0010,2,25,  -999.0, -999.00,-999.0000,-999.000,-999.000
     316N151_4,   A22,    40,  1,     27,     27,2,19970824,0637, 22.2060, -65.9965, 5648, 4156.6,    400.7,  16.2727,  36.2407,2,  36.2447,2,    171.2,2, 16.2076,    174.3,2,     2.86,2,     9.46,2,     0.01,2,     0.53,2,    2.059,2,    1.093,2,    0.017,2, -999.000,9,-999.0000,5,  -999.00,9,   -999.0,9,  -999.00,9,-999.000,9,   2128.4,2,    485.0,2,   2373.2,2,   7.9150,2,25,  -999.0, -999.00,-999.0000,-999.000,-999.000
     316N151_4,   A22,    40,  1,     26,     26,2,19970824,0637, 22.2060, -65.9965, 5648, 5163.8,    501.7,  13.3201,  35.7240,2,  35.7296,2,    144.4,2, 13.2487,    143.6,2,     6.71,2,    17.54,2,     0.00,2,     1.06,2,    1.361,2,    0.710,2,    0.011,2, -999.000,9,-999.0000,5,  -999.00,9,   -999.0,9,  -999.00,9,-999.000,9,   2162.2,2,    656.0,2,   2344.6,2,   7.7980,2,25,  -999.0, -999.00,-999.0000,-999.000,-999.000
     316N151_4,   A22,    40,  1,     25,     25,2,19970824,0637, 22.2060, -65.9965, 5648, 6151.0,    600.6,  10.8635,  35.2633,2,  35.2628,2,    125.2,2, 10.7885,    125.7,2,    11.37,2,    24.27,2,     0.00,2,     1.53,2,    0.812,2,    0.435,2,    0.007,2, -999.000,9,-999.0000,5,  -999.00,9,   -999.0,9,  -999.00,9,-999.000,9,   2186.0,2,    834.0,2,   2324.4,2,   7.6990,2,25,  -999.0, -999.00,-999.0000,-999.000,-999.000
     316N151_4,   A22,    40,  1,     24,     24,2,19970824,0637, 22.2060, -65.9965, 5648, 7149.0,    700.5,   9.4456,  35.0302,2,  35.0302,2,    120.0,2,  9.3651,    119.8,2,    14.23,2,    27.64,2,     0.00,2,     1.76,2,    0.571,2,    0.312,2,    0.001,2, -999.000,9,-999.0000,5,  -999.00,9,   -999.0,9,  -999.00,9,-999.000,9,   2197.4,2,    950.0,2,   2314.1,2,   7.6510,2,25,  -999.0, -999.00,-999.0000,-999.000,-999.000
     316N151_4,   A22,    40,  1,     23,     23,2,19970824,0637, 22.2060, -65.9965, 5648, 8148.9,    800.3,   8.5414,  34.9268,2,  34.9259,2,    124.0,2,  8.4543,    121.7,2,    16.89,2,    29.38,2,     0.00,2,     1.90,2,    0.387,2,    0.210,2,    0.000,2, -999.000,9,-999.0000,5,  -999.00,9,   -999.0,9,  -999.00,9,-999.000,9,   2203.1,2,    996.0,2,   2311.6,2,   7.6230,2,25,  -999.0, -999.00,-999.0000,-999.000,-999.000
     316N151_4,   A22,    40,  1,     22,     22,2,19970824,0637, 22.2060, -65.9965, 5648, 9138.7,    899.3,   8.2088,  34.9612,2,  34.9618,2,    131.0,2,  8.1125,    127.3,2,    17.96,2,    29.11,2,     0.00,2,     1.88,2,    0.293,2,    0.163,2,    0.000,2, -999.000,9,-999.0000,5,  -999.00,9,   -999.0,9,  -999.00,9,-999.000,9,   2203.1,2,    980.0,2,   2314.6,2,   7.6380,2,25,  -999.0, -999.00,-999.0000,-999.000,-999.000
     316N151_4,   A22,    40,  1,     21,     21,2,19970824,0637, 22.2060, -65.9965, 5648,10142.5,    999.7,   7.7709,  35.0080,2,  35.0071,2,    139.0,2,  7.6662,    137.0,2,    18.71,2,    28.25,2,     0.00,2,     1.83,2,    0.200,2,    0.112,2,    0.001,2, -999.000,9,-999.0000,5,  -999.00,9,   -999.0,9,  -999.00,9,-999.000,9,   2201.1,2,    944.0,2,   2318.3,2,   7.6480,2,25,  -999.0, -999.00,-999.0000,-999.000,-999.000
     316N151_4,   A22,    40,  1,     20,     20,2,19970824,0637, 22.2060, -65.9965, 5648,11130.8,   1098.6,   6.7684,  34.9319,2,  34.9304,2,    150.1,2,  6.6608,    143.6,2,    20.96,2,    29.00,2,     0.00,2,     1.90,2,    0.134,2,    0.067,2,    0.001,2, -999.000,9,-999.0000,5,  -999.00,9,   -999.0,9,  -999.00,9,-999.000,9,   2204.9,3,   -999.0,9,   2316.4,2,   7.6380,2,25,  -999.0, -999.00,-999.0000,-999.000,-999.000
     316N151_4,   A22,    40,  1,     19,     19,2,19970824,0637, 22.2060, -65.9965, 5648,13136.8,   1299.3,   5.7946,  35.0659,2,  35.0682,2,    213.2,2,  5.6747,    207.6,2,    14.62,2,    21.32,2,     0.00,2,     1.40,2,    0.518,6,    0.264,6,    0.011,2, -999.000,9,-999.0000,5,  -999.00,9,   -999.0,9,  -999.00,9,-999.000,9,   2176.6,2,    797.0,2,   2320.3,2,   7.7170,2,25,  -999.0, -999.00,-999.0000,-999.000,-999.000
     316N151_4,   A22,    40,  1,     18,     18,2,19970824,0637, 22.2060, -65.9965, 5648,15153.3,   1501.0,   4.7764,  35.0334,2,  35.0359,2,    243.3,2,  4.6472,    240.2,2,    13.16,2,    19.08,2,     0.00,2,     1.26,2,    0.724,2,    0.366,2,    0.016,2, -999.000,9,-999.0000,5,  -999.00,9,   -999.0,9,  -999.00,9,-999.000,9,   2165.8,2,    757.0,2,   2318.2,2,   7.7360,2,25,  -999.0, -999.00,-999.0000,-999.000,-999.000
     316N151_4,   A22,    40,  1,     17,     17,2,19970824,0637, 22.2060, -65.9965, 5648,17663.1,   1751.9,   4.0746,  34.9925,2,  34.9934,2,    257.9,2,  3.9300,    257.9,2,    13.12,2,    18.17,2,     0.00,2,     1.21,2,    0.748,2,    0.368,2,    0.025,2, -999.000,9,-999.0000,5,  -999.00,9,   -999.0,9,  -999.00,9,-999.000,9,   2159.9,2,    737.0,2,   2315.2,2,   7.7470,2,25,  -999.0, -999.00,-999.0000,-999.000,-999.000
     316N151_4,   A22,    40,  1,     16,     16,2,19970824,0637, 22.2060, -65.9965, 5648,20221.1,   2007.6,   3.7239,  34.9788,2,  34.9799,2,    261.1,2,  3.5597,    261.0,2,    14.77,2,    18.09,2,     0.00,2,     1.21,2,    0.539,2,    0.269,2,    0.014,2, -999.000,9,-999.0000,5,  -999.00,9,   -999.0,9,  -999.00,9,-999.000,9,   2159.9,2,    732.0,2,   2316.1,2,   7.7500,2,25,  -999.0, -999.00,-999.0000,-999.000,-999.000
     316N151_4,   A22,    40,  1,     15,     15,2,19970824,0637, 22.2060, -65.9965, 5648,22658.5,   2251.2,   3.5558,  34.9867,2,  34.9866,2,    257.3,2,  3.3705,    257.2,2,    18.13,2,    18.60,2,     0.00,2,     1.25,2,    0.124,2,    0.071,2,    0.005,2, -999.000,9,-999.0000,5,  -999.00,9,   -999.0,9,  -999.00,9,-999.000,9,   2163.5,2,    726.0,2,   2320.3,2,   7.7500,2,25,  -999.0, -999.00,-999.0000,-999.000,-999.000
     316N151_4,   A22,    40,  1,     14,     14,2,19970824,0637, 22.2060, -65.9965, 5648,25139.4,   2499.2,   3.2236,  34.9644,2,  34.9631,2,    259.4,2,  3.0196,    259.6,2,    20.49,2,    18.69,2,     0.00,2,     1.25,2,    0.168,2,    0.096,2,    0.006,2, -999.000,9,-999.0000,5,  -999.00,9,   -999.0,9,  -999.00,9,-999.000,9,   2164.5,2,    729.0,2,   2321.7,2,   7.7520,2,25,  -999.0, -999.00,-999.0000,-999.000,-999.000
     316N151_4,   A22,    40,  1,     13,     13,2,19970824,0637, 22.2060, -65.9965, 5648,27610.4,   2746.1,   2.9857,  34.9486,2,  34.9498,2,    259.7,2,  2.7614,    259.8,2,    23.05,2,    18.73,2,     0.00,2,     1.27,2,    0.148,2,    0.081,2,    0.004,2, -999.000,9,-999.0000,5,  -999.00,9,   -999.0,9,  -999.00,9,-999.000,9,   2165.3,2,    727.0,2,   2324.7,2,   7.7510,2,25,  -999.0, -999.00,-999.0000,-999.000,-999.000
     316N151_4,   A22,    40,  1,     12,     12,2,19970824,0637, 22.2060, -65.9965, 5648,30149.2,   2999.9,   2.7858,  34.9350,2,  34.9359,2,    261.7,2,  2.5397,    261.6,2,    24.41,2,    18.70,2,     0.00,2,     1.27,2,    0.188,6,    0.099,6,    0.003,2, -999.000,9,-999.0000,5,  -999.00,9,   -999.0,9,  -999.00,9,-999.000,9,   2166.7,2,    729.0,2,   2325.4,2,   7.7530,2,25,  -999.0, -999.00,-999.0000,-999.000,-999.000
     316N151_4,   A22,    40,  1,     11,     11,2,19970824,0637, 22.2060, -65.9965, 5648,32651.2,   3249.9,   2.6196,  34.9237,2,  34.9248,2,    263.6,2,  2.3510,    263.1,2,    26.06,2,    18.74,2,     0.00,2,     1.27,2,    0.221,2,    0.116,2,    0.010,2, -999.000,9,-999.0000,5,  -999.00,9,   -999.0,9,  -999.00,9,-999.000,9,   2168.5,2,    731.0,2,   2323.1,2,   7.7490,2,25,  -999.0, -999.00,-999.0000,-999.000,-999.000
     316N151_4,   A22,    40,  1,     10,     10,2,19970824,0637, 22.2060, -65.9965, 5648,35139.1,   3498.7,   2.4818,  34.9148,2,  34.9142,2,    265.4,2,  2.1900,    264.9,2,    26.92,2,    18.62,2,     0.00,2,     1.27,2,    0.236,2,    0.122,2,    0.008,2, -999.000,9,-999.0000,5,  -999.00,9,   -999.0,9,  -999.00,9,-999.000,9,   2168.7,2,    734.0,2,   2326.3,2,   7.7510,2,25,  -999.0, -999.00,-999.0000,-999.000,-999.000
     316N151_4,   A22,    40,  1,      9,      9,2,19970824,0637, 22.2060, -65.9965, 5648,37629.4,   3747.6,   2.3903,  34.9076,2,  34.9075,2,    267.2,2,  2.0736,    265.9,2,    27.48,2,    18.46,2,     0.00,2,     1.26,2,    0.292,2,    0.154,2,    0.013,2, -999.000,9,-999.0000,5,  -999.00,9,   -999.0,9,  -999.00,9,-999.000,9,   2169.6,2,    735.0,2,   2322.9,2,   7.7490,2,25,  -999.0, -999.00,-999.0000,-999.000,-999.000
     316N151_4,   A22,    40,  1,      8,      8,2,19970824,0637, 22.2060, -65.9965, 5648,40166.8,   4001.2,   2.3364,  34.9028,2,  34.9016,2,    265.5,2,  1.9926,    265.9,2,    28.83,2,    18.63,2,     0.00,2,     1.27,2,    0.280,2,    0.150,2,    0.014,2, -999.000,9,-999.0000,5,  -999.00,9,   -999.0,9,  -999.00,9,-999.000,9,   2170.5,2,    737.0,2,   2326.9,2,   7.7500,2,25,  -999.0, -999.00,-999.0000,-999.000,-999.000
     316N151_4,   A22,    40,  1,      7,      7,2,19970824,0637, 22.2060, -65.9965, 5648,42708.3,   4255.2,   2.3045,  34.8973,2,  34.8974,2,    265.5,2,  1.9323,    265.3,2,    30.48,2,    18.86,2,     0.00,2,     1.29,2,    0.285,2,    0.152,2,    0.016,2, -999.000,9,-999.0000,5,  -999.00,9,   -999.0,9,  -999.00,9,-999.000,9,   2172.4,2,    741.0,2,   2326.6,2,   7.7430,2,25,  -999.0, -999.00,-999.0000,-999.000,-999.000
     316N151_4,   A22,    40,  1,      6,      6,2,19970824,0637, 22.2060, -65.9965, 5648,45168.5,   4501.1,   2.2928,  34.8939,2,  34.8930,2,    264.8,2,  1.8918,    264.7,2,    31.84,2,    18.99,2,     0.00,2,     1.30,2,    0.350,2,    0.181,2,    0.022,2, -999.000,9,-999.0000,5,  -999.00,9,   -999.0,9,  -999.00,9,-999.000,9,   2175.4,2,    745.0,2,   2331.1,2,   7.7460,2,25,  -999.0, -999.00,-999.0000,-999.000,-999.000
     316N151_4,   A22,    40,  1,      5,      5,2,19970824,0637, 22.2060, -65.9965, 5648,47650.3,   4749.1,   2.2828,  34.8891,2,  34.8892,2,    262.9,2,  1.8520,    262.7,2,    34.30,2,    19.34,2,     0.00,2,     1.33,2,    0.300,2,    0.157,2,    0.020,2, -999.000,9,-999.0000,5,  -999.00,9,   -999.0,9,  -999.00,9,-999.000,9,   2179.6,2,    749.0,2,   2333.5,2,   7.7410,2,25,  -999.0, -999.00,-999.0000,-999.000,-999.000
     316N151_4,   A22,    40,  1,      4,      4,2,19970824,0637, 22.2060, -65.9965, 5648,50166.6,   5000.6,   2.2591,  34.8836,2,  34.8837,2,    260.4,2,  1.7978,    259.8,2,    38.27,2,    20.02,2,     0.00,2,     1.37,2,    0.176,2,    0.102,2,    0.013,2, -999.000,9,-999.0000,5,  -999.00,9,   -999.0,9,  -999.00,9,-999.000,9,   2182.7,2,    746.0,2,   2337.6,2,   7.7430,2,25,  -999.0, -999.00,-999.0000,-999.000,-999.000
     316N151_4,   A22,    40,  1,      3,      3,2,19970824,0637, 22.2060, -65.9965, 5648,52673.0,   5251.3,   2.1676,  34.8683,2,  34.8683,2,    255.6,2,  1.6776,    254.2,2,    46.63,2,    21.34,2,     0.00,2,     1.47,2,    0.076,6,    0.051,6,    0.008,2, -999.000,9,-999.0000,5,  -999.00,9,   -999.0,9,  -999.00,9,-999.000,9,   2191.5,2,    765.0,2,   2344.4,2,   7.7340,2,25,  -999.0, -999.00,-999.0000,-999.000,-999.000
     316N151_4,   A22,    40,  1,      2,      2,2,19970824,0637, 22.2060, -65.9965, 5648,55634.5,   5547.3,   2.0575,  34.8495,2,  34.8494,2,    250.0,2,  1.5331,    248.9,2,    55.49,2,    22.76,2,     0.00,2,     1.57,2,    0.034,2,    0.031,2,    0.004,2, -999.000,9,-999.0000,5,  -999.00,9,   -999.0,9,  -999.00,9,-999.000,9,   2201.9,2,    789.0,2,   2349.8,6,   7.7220,2,25,  -999.0, -999.00,-999.0000,-999.000,-999.000
     316N151_4,   A22,    40,  1,      1,      1,2,19970824,0637, 22.2060, -65.9965, 5648,58256.2,   5809.5,   2.0536,  34.8447,2,  34.8443,2,    247.2,2,  1.4946,    246.8,2,    57.95,6,    23.09,6,     0.00,6,     1.59,6,    0.045,2,    0.040,2,    0.003,2, -999.000,9,-999.0000,5,  -999.00,9,   -999.0,9,  -999.00,9,-999.000,9,   2206.6,2,    793.0,2,   2351.9,2,   7.7220,2,25,  -999.0, -999.00,-999.0000,-999.000,-999.000