BOTTLE,20220629CCHSIOAMB
EXPOCODE,SECT_ID,STNNBR,CASTNO,SAMPNO,BTLNBR,BTLNBR_FLAG_W,DATE,TIME,LATITUDE,LONGITUDE,DEPTH,CTDRAW,CTDPRS,CTDTMP,CTDSAL,CTDSAL_FLAG_W,SALNTY,SALNTY_FLAG_W,CTDOXY,CTDOXY_FLAG_W,THETA,OXYGEN,OXYGEN_FLAG_W,SILCAT,SILCAT_FLAG_W,NITRAT,NITRAT_FLAG_W,NITRIT,NITRIT_FLAG_W,PHSPHT,PHSPHT_FLAG_W,CFC-11,CFC-11_FLAG_W,CFC-12,CFC-12_FLAG_W,CFC113,CFC113_FLAG_W,TRITUM,TRITUM_FLAG_W,HELIUM,HELIUM_FLAG_W,DELHE3,DELHE3_FLAG_W,DELC14,DELC14_FLAG_W,DELC13,DELC13_FLAG_W,NEON,NEON_FLAG_W,TCARBN,TCARBN_FLAG_W,PCO2,PCO2_FLAG_W,ALKALI,ALKALI_FLAG_W,PH,PH_FLAG_W,PH_TMP,C14ERR,DELHER,HELIER,NEONER,TRITER
,,,,,,,,,,,,,DBAR,ITS-90,PSS-78,,PSS-78,,UMOL/KG,,ITS-90,UMOL/KG,,UMOL/KG,,UMOL/KG,,UMOL/KG,,UMOL/KG,,PMOL/KG,,PMOL/KG,,PMOL/KG,,TU,,NMOL/KG,,PERCNT,,/MILLE,,/MILLE,,NMOL/KG,,UMOL/KG,,UATM,,UMOL/KG,,,,DEG C,/MILLE,PERCNT,NMOL/KG,NMOL/KG,TU
     316N151_4,   A22,    38,  1,     33,     33,2,19970823,1616, 20.8613, -66.0147, 5351,  213.9,      4.9,  28.8055,  36.4173,2,  36.4214,2,    204.4,2, 28.8043,    206.3,2,     0.71,2,     0.03,2,     0.00,2,     0.01,2,    1.632,2,    0.975,2,    0.122,2, -999.000,9,-999.0000,5,  -999.00,9,   -999.0,9,  -999.00,9,-999.000,9,   2008.4,2,    257.0,2,   2387.0,2,   8.1270,2,25,  -999.0, -999.00,-999.0000,-999.000,-999.000
     316N151_4,   A22,    38,  1,     32,     32,2,19970823,1616, 20.8613, -66.0147, 5351,  664.4,     50.2,  28.7433,  36.4822,2,  36.4873,2,    218.5,2, 28.7312,    205.3,2,     0.75,2,     0.02,2,     0.00,2,     0.01,2,    1.650,6,    0.979,6,    0.122,2, -999.000,9,-999.0000,5,  -999.00,9,   -999.0,9,  -999.00,9,-999.000,9,   2010.3,2,   -999.0,9,   2389.3,2,   8.1270,2,25,  -999.0, -999.00,-999.0000,-999.000,-999.000
     316N151_4,   A22,    38,  1,     31,     31,2,19970823,1616, 20.8613, -66.0147, 5351, 1169.6,    100.7,  25.2249,  36.9312,2,  36.9393,2,    225.5,2, 25.2029,    215.3,2,     0.58,2,     0.07,2,     0.00,2,     0.01,2,    1.941,2,    1.128,2,    0.140,2, -999.000,9,-999.0000,5,  -999.00,9,   -999.0,9,  -999.00,9,-999.000,9,   2039.6,2,   -999.0,9,   2413.5,2,   8.1130,2,25,  -999.0, -999.00,-999.0000,-999.000,-999.000
     316N151_4,   A22,    38,  1,     30,     30,2,19970823,1616, 20.8613, -66.0147, 5351, 1670.7,    151.0,  23.5815,  37.1282,2,  37.1278,2,    204.3,2, 23.5498,    203.8,2,     0.33,2,     0.05,2,     0.02,2,     0.02,2,    2.022,2,    1.164,2,    0.145,2, -999.000,9,-999.0000,5,  -999.00,9,   -999.0,9,  -999.00,9,-999.000,9,   2071.2,2,   -999.0,9,   2428.9,6,   8.0770,6,25,  -999.0, -999.00,-999.0000,-999.000,-999.000
     316N151_4,   A22,    38,  1,     29,     29,2,19970823,1616, 20.8613, -66.0147, 5351, 2165.0,    200.5,  21.4661,  37.0327,2,  37.0390,2,    184.8,2, 21.4268,    184.4,2,     0.26,2,     1.03,2,     0.02,2,     0.04,2, -999.000,9, -999.000,9, -999.000,9, -999.000,9,-999.0000,5,  -999.00,9,   -999.0,9,  -999.00,9,-999.000,9,   2103.9,2,   -999.0,9,   2419.3,2,   8.0200,2,25,  -999.0, -999.00,-999.0000,-999.000,-999.000
     316N151_4,   A22,    38,  1,     28,     28,2,19970823,1616, 20.8613, -66.0147, 5351, 2642.8,    248.2,  19.2986,  36.7241,2,  36.7272,2,    195.0,2, 19.2534,    184.0,2,     0.60,2,     2.90,2,     0.01,2,     0.11,2,    2.288,2,    1.263,2,    0.021,2, -999.000,9,-999.0000,5,  -999.00,9,   -999.0,9,  -999.00,9,-999.000,9,   2107.1,2,   -999.0,9,   2400.9,2,   7.9860,2,25,  -999.0, -999.00,-999.0000,-999.000,-999.000
     316N151_4,   A22,    38,  1,     27,     27,2,19970823,1616, 20.8613, -66.0147, 5351, 3149.9,    299.1,  18.3087,  36.5585,2,  36.5607,2,    198.9,2, 18.2561,    199.8,2,     0.74,2,     3.69,2,     0.01,2,     0.17,2,    2.344,2,    1.285,2,    0.030,2, -999.000,9,-999.0000,5,  -999.00,9,   -999.0,9,  -999.00,9,-999.000,9,   2092.3,2,   -999.0,9,   2388.7,2,   7.9990,2,25,  -999.0, -999.00,-999.0000,-999.000,-999.000
     316N151_4,   A22,    38,  1,     26,     26,2,19970823,1616, 20.8613, -66.0147, 5351, 4139.7,    398.4,  16.8212,  36.3222,2,  36.3223,2,    171.3,2, 16.7549,    174.4,2,     2.37,2,     8.65,2,     0.01,2,     0.49,2,    2.062,2,    1.096,2,    0.023,2, -999.000,9,-999.0000,5,  -999.00,9,   -999.0,9,  -999.00,9,-999.000,9,   2123.0,2,   -999.0,9,   2375.2,2,   7.9200,2,25,  -999.0, -999.00,-999.0000,-999.000,-999.000
     316N151_4,   A22,    38,  1,     25,     25,2,19970823,1616, 20.8613, -66.0147, 5351, 5139.7,    498.7,  14.7820,  35.9842,2,  35.9894,2,    154.8,2, 14.7059,    156.7,2,     4.51,2,    13.71,2,     0.01,2,     0.81,2,    1.712,2,    0.892,2,    0.014,2, -999.000,9,-999.0000,5,  -999.00,9,   -999.0,9,  -999.00,9,-999.000,9,   2145.3,2,   -999.0,9,   2358.6,2,   7.8520,2,25,  -999.0, -999.00,-999.0000,-999.000,-999.000
     316N151_4,   A22,    38,  1,     24,     24,2,19970823,1616, 20.8613, -66.0147, 5351, 6149.3,    600.0,  12.4584,  35.5850,2,  35.5898,2,    141.6,2, 12.3764,    141.3,2,     7.84,2,    19.43,2,     0.00,2,     1.19,2,    1.117,2,    0.590,2,    0.007,2, -999.000,9,-999.0000,5,  -999.00,9,   -999.0,9,  -999.00,9,-999.000,9,   2166.2,2,   -999.0,9,   2339.4,2,   7.7700,2,25,  -999.0, -999.00,-999.0000,-999.000,-999.000
     316N151_4,   A22,    38,  1,     23,     23,2,19970823,1616, 20.8613, -66.0147, 5351, 7131.0,    698.5,  10.7771,  35.3650,2,  35.3606,2,    135.6,2, 10.6898,    135.4,2,    11.17,2,    23.14,2,     0.00,2,     1.44,2,    0.667,2,    0.360,2,    0.003,2, -999.000,9,-999.0000,5,  -999.00,9,   -999.0,9,  -999.00,9,-999.000,9,   2180.6,2,   -999.0,9,   2327.4,2,   7.7240,2,25,  -999.0, -999.00,-999.0000,-999.000,-999.000
     316N151_4,   A22,    38,  1,     22,     22,2,19970823,1616, 20.8613, -66.0147, 5351, 8143.8,    799.9,   8.9333,  35.1229,2,  35.1356,2,    135.3,2,  8.8436,    131.0,2,    15.40,2,    26.78,2,     0.00,2,     1.70,2,    0.346,2,    0.191,2,   -0.001,2, -999.000,9,-999.0000,5,  -999.00,9,   -999.0,9,  -999.00,9,-999.000,9,   2193.6,2,   -999.0,9,   2323.8,2,   7.6680,2,25,  -999.0, -999.00,-999.0000,-999.000,-999.000
     316N151_4,   A22,    38,  1,     21,     21,2,19970823,1616, 20.8613, -66.0147, 5351, 9143.8,    900.0,   7.4446,  34.9528,2,  34.9490,2,    140.2,2,  7.3531,    133.1,2,    19.82,2,    29.44,2,     0.00,2,     1.92,2,    0.159,2,    0.091,2,   -0.001,2, -999.000,9,-999.0000,5,  -999.00,9,   -999.0,9,  -999.00,9,-999.000,9,   2203.9,2,   -999.0,9,   2316.4,2,   7.6370,2,25,  -999.0, -999.00,-999.0000,-999.000,-999.000
     316N151_4,   A22,    38,  1,     20,     20,2,19970823,1616, 20.8613, -66.0147, 5351,10140.0,    999.6,   6.6519,  34.9272,2,  34.9274,2,    144.8,2,  6.5556,    145.1,2,    21.06,2,    28.89,2,     0.00,2,     1.90,2,    0.114,6,    0.064,6,    0.000,2, -999.000,9,-999.0000,5,  -999.00,9,   -999.0,9,  -999.00,9,-999.000,9,   2202.6,2,   -999.0,9,   2316.9,2,   7.6350,2,25,  -999.0, -999.00,-999.0000,-999.000,-999.000
     316N151_4,   A22,    38,  1,     19,     19,2,19970823,1616, 20.8613, -66.0147, 5351,11129.5,   1098.6,   6.3311,  34.9999,2,  35.0012,2,    171.0,2,  6.2270,    170.0,2,    18.71,2,    25.66,2,     0.00,2,     1.69,2,    0.194,2,    0.106,2,    0.000,2, -999.000,9,-999.0000,5,  -999.00,9,   -999.0,9,  -999.00,9,-999.000,9,   2191.4,2,   -999.0,9,   2321.4,2,   7.6710,2,25,  -999.0, -999.00,-999.0000,-999.000,-999.000
     316N151_4,   A22,    38,  1,     18,     18,2,19970823,1616, 20.8613, -66.0147, 5351,13149.8,   1300.8,   5.2084,  35.0491,2,  35.0498,2,    223.6,2,  5.0942,    224.4,2,    13.95,2,    20.26,2,     0.00,2,     1.34,2,    0.565,2,    0.291,2,    0.013,2, -999.000,9,-999.0000,5,  -999.00,9,   -999.0,9,  -999.00,9,-999.000,9,   2169.8,2,   -999.0,9,   2319.6,2,   7.7250,2,25,  -999.0, -999.00,-999.0000,-999.000,-999.000
     316N151_4,   A22,    38,  1,     17,     17,2,19970823,1616, 20.8613, -66.0147, 5351,15147.1,   1500.4,   4.4198,  35.0155,2,  35.0152,2,    251.4,2,  4.2948,    250.3,2,    12.79,2,    18.61,2,     0.00,2,     1.23,2,    0.775,2,    0.382,2,    0.023,2, -999.000,9,-999.0000,5,  -999.00,9,   -999.0,9,  -999.00,9,-999.000,9,   2160.7,2,   -999.0,9,   2317.1,2,   7.7380,2,25,  -999.0, -999.00,-999.0000,-999.000,-999.000
     316N151_4,   A22,    38,  1,     16,     16,2,19970823,1616, 20.8613, -66.0147, 5351,17649.9,   1750.7,   3.9421,  34.9889,2,  34.9884,2,    259.1,2,  3.7993,    258.6,2,    13.73,2,    18.22,2,     0.00,2,     1.21,2,    0.599,2,    0.301,2,    0.018,2, -999.000,9,-999.0000,5,  -999.00,9,   -999.0,9,  -999.00,9,-999.000,9,   2158.2,2,   -999.0,9,   2315.4,2,   7.7470,2,25,  -999.0, -999.00,-999.0000,-999.000,-999.000
     316N151_4,   A22,    38,  1,     15,     15,2,19970823,1616, 20.8613, -66.0147, 5351,20164.5,   2001.9,   3.6547,  34.9775,2,  34.9793,2,    261.6,2,  3.4922,    260.8,2,    15.26,2,    18.14,2,     0.00,2,     1.21,2,    0.442,2,    0.226,2,    0.014,2, -999.000,9,-999.0000,5,  -999.00,9,   -999.0,9,  -999.00,9,-999.000,9,   2157.0,2,   -999.0,9,   2318.8,6,   7.7480,6,25,  -999.0, -999.00,-999.0000,-999.000,-999.000
     316N151_4,   A22,    38,  1,     14,     14,4,19970823,1616, 20.8613, -66.0147, 5351,22638.8,   2249.2,   3.4120,  34.9691,2,  35.4160,4,    262.0,2,  3.2293,   -999.0,9,    12.41,3,    15.70,3,     0.00,3,     1.03,3, -999.000,9, -999.000,9, -999.000,9, -999.000,9,-999.0000,5,  -999.00,9,   -999.0,9,  -999.00,9,-999.000,9,   2147.8,4,   -999.0,9,   -999.0,9,-999.0000,9,-999,  -999.0, -999.00,-999.0000,-999.000,-999.000
     316N151_4,   A22,    38,  1,     13,     13,2,19970823,1616, 20.8613, -66.0147, 5351,25152.4,   2500.4,   3.2204,  34.9582,2,  34.9591,2,    262.8,2,  3.0164,    262.5,2,    18.53,2,    18.23,2,     0.00,2,     1.23,2,    0.293,2,    0.153,2,    0.008,2, -999.000,9,-999.0000,5,  -999.00,9,   -999.0,9,  -999.00,9,-999.000,9,   2160.1,2,   -999.0,9,   2319.9,2,   7.7530,2,25,  -999.0, -999.00,-999.0000,-999.000,-999.000
     316N151_4,   A22,    38,  1,     12,     12,2,19970823,1616, 20.8613, -66.0147, 5351,27648.7,   2750.0,   3.0014,  34.9468,2,  34.9484,2,    264.2,2,  2.7764,    264.1,2,    20.06,2,    18.20,2,     0.00,2,     1.23,2,    0.324,2,    0.166,2,    0.011,2, -999.000,9,-999.0000,5,  -999.00,9,   -999.0,9,  -999.00,9,-999.000,9,   2160.6,2,   -999.0,9,   2320.8,2,   7.7530,2,25,  -999.0, -999.00,-999.0000,-999.000,-999.000
     316N151_4,   A22,    38,  1,     11,     11,2,19970823,1616, 20.8613, -66.0147, 5351,30173.5,   3002.4,   2.8007,  34.9336,2,  34.9360,2,    266.2,2,  2.5541,    266.1,2,    21.10,2,    18.08,2,     0.00,2,     1.23,2,    0.393,6,    0.197,6,    0.012,2, -999.000,9,-999.0000,5,  -999.00,9,   -999.0,9,  -999.00,9,-999.000,9,   2167.0,2,   -999.0,9,   2320.9,2,   7.7470,2,25,  -999.0, -999.00,-999.0000,-999.000,-999.000
     316N151_4,   A22,    38,  1,     10,     10,2,19970823,1616, 20.8613, -66.0147, 5351,32643.2,   3249.3,   2.6481,  34.9247,2,  34.9235,2,    266.4,2,  2.3789,    266.3,2,    23.04,2,    18.12,2,     0.00,2,     1.24,2,    0.404,2,    0.207,2,    0.016,2, -999.000,9,-999.0000,5,  -999.00,9,   -999.0,9,  -999.00,9,-999.000,9,   2164.1,2,   -999.0,9,   2322.6,2,   7.7500,2,25,  -999.0, -999.00,-999.0000,-999.000,-999.000
     316N151_4,   A22,    38,  1,      9,      9,2,19970823,1616, 20.8613, -66.0147, 5351,35158.9,   3500.7,   2.5112,  34.9155,2,  34.9168,2,    268.2,2,  2.2185,    267.8,2,    23.07,2,    18.25,2,     0.00,2,     1.23,2,    0.464,2,    0.233,2,    0.015,2, -999.000,9,-999.0000,5,  -999.00,9,   -999.0,9,  -999.00,9,-999.000,9,   2163.0,2,   -999.0,9,   2322.9,2,   7.7500,2,25,  -999.0, -999.00,-999.0000,-999.000,-999.000
     316N151_4,   A22,    38,  1,      8,      8,2,19970823,1616, 20.8613, -66.0147, 5351,37665.7,   3751.2,   2.4071,  34.9084,2,  34.9091,2,    267.6,2,  2.0895,    268.1,2,    25.61,2,    18.14,2,     0.00,2,     1.24,2,    0.446,2,    0.223,2,    0.015,2, -999.000,9,-999.0000,5,  -999.00,9,   -999.0,9,  -999.00,9,-999.000,9,   2164.8,2,   -999.0,9,   2325.3,2,   7.7500,2,25,  -999.0, -999.00,-999.0000,-999.000,-999.000
     316N151_4,   A22,    38,  1,      7,      7,2,19970823,1616, 20.8613, -66.0147, 5351,40143.5,   3998.9,   2.3485,  34.9031,2,  34.9038,2,    266.9,2,  2.0046,    267.5,2,    27.64,2,    18.38,2,     0.00,2,     1.26,2,    0.407,2,    0.211,2,    0.018,2, -999.000,9,-999.0000,5,  -999.00,9,   -999.0,9,  -999.00,9,-999.000,9,   2168.1,2,   -999.0,9,   2327.2,2,   7.7430,2,25,  -999.0, -999.00,-999.0000,-999.000,-999.000
     316N151_4,   A22,    38,  1,      6,      6,2,19970823,1616, 20.8613, -66.0147, 5351,42637.2,   4248.2,   2.3243,  34.8984,2,  34.8989,2,    265.5,2,  1.9523,    266.2,2,    29.28,2,    18.54,2,     0.00,2,     1.27,2,    0.376,2,    0.191,2,    0.019,2, -999.000,9,-999.0000,5,  -999.00,9,   -999.0,9,  -999.00,9,-999.000,9,   2170.4,2,   -999.0,9,   2328.4,2,   7.7460,2,25,  -999.0, -999.00,-999.0000,-999.000,-999.000
     316N151_4,   A22,    38,  1,      5,      5,2,19970823,1616, 20.8613, -66.0147, 5351,45142.8,   4498.6,   2.3120,  34.8951,2,  34.8973,2,    264.6,2,  1.9107,    264.8,2,    30.91,2,    19.02,2,     0.00,2,     1.29,2,    0.341,2,    0.177,2,    0.015,2, -999.000,9,-999.0000,5,  -999.00,9,   -999.0,9,  -999.00,9,-999.000,9,   2174.1,2,   -999.0,9,   2330.1,2,   7.7410,2,25,  -999.0, -999.00,-999.0000,-999.000,-999.000
     316N151_4,   A22,    38,  1,      4,      4,2,19970823,1616, 20.8613, -66.0147, 5351,47650.4,   4749.1,   2.3004,  34.8912,2,  34.8924,2,    262.8,2,  1.8691,    263.2,2,    33.25,2,    19.26,2,     0.00,2,     1.32,2,    0.297,2,    0.154,2,    0.014,2, -999.000,9,-999.0000,5,  -999.00,9,   -999.0,9,  -999.00,9,-999.000,9,   2175.5,2,   -999.0,9,   2332.6,2,   7.7370,2,25,  -999.0, -999.00,-999.0000,-999.000,-999.000
     316N151_4,   A22,    38,  1,      3,      3,2,19970823,1616, 20.8613, -66.0147, 5351,50131.0,   4997.2,   2.2802,  34.8864,2,  34.8859,2,    260.6,2,  1.8186,    261.1,2,    36.48,2,    19.78,2,     0.00,2,     1.36,2,    0.246,6,    0.138,6, -999.000,9, -999.000,9,-999.0000,5,  -999.00,9,   -999.0,9,  -999.00,9,-999.000,9,   2179.1,2,   -999.0,9,   2335.5,6,   7.7400,2,25,  -999.0, -999.00,-999.0000,-999.000,-999.000
     316N151_4,   A22,    38,  1,      2,      2,2,19970823,1616, 20.8613, -66.0147, 5351,52648.6,   5249.0,   2.2131,  34.8738,2,  34.8733,2,    256.7,2,  1.7218,    256.5,2,    43.10,2,    20.90,2,     0.00,2,     1.43,2,    0.166,2,    0.096,2,    0.009,2, -999.000,9,-999.0000,5,  -999.00,9,   -999.0,9,  -999.00,9,-999.000,9,   2187.6,2,   -999.0,9,   2339.7,2,   7.7320,2,25,  -999.0, -999.00,-999.0000,-999.000,-999.000
     316N151_4,   A22,    38,  1,      1,      1,2,19970823,1616, 20.8613, -66.0147, 5351,55207.6,   5504.7,   1.9507,  34.8375,2,  34.8385,2,    246.2,2,  1.4360,    246.8,2,    60.80,6,    23.55,6,     0.00,6,     1.62,6,    0.038,2,    0.031,2,    0.004,2, -999.000,9,-999.0000,5,  -999.00,9,   -999.0,9,  -999.00,9,-999.000,9,   2204.7,2,   -999.0,9,   2352.1,2,   7.7130,2,25,  -999.0, -999.00,-999.0000,-999.000,-999.000