BOTTLE,20220629CCHSIOAMB
EXPOCODE,SECT_ID,STNNBR,CASTNO,SAMPNO,BTLNBR,BTLNBR_FLAG_W,DATE,TIME,LATITUDE,LONGITUDE,DEPTH,CTDRAW,CTDPRS,CTDTMP,CTDSAL,CTDSAL_FLAG_W,SALNTY,SALNTY_FLAG_W,CTDOXY,CTDOXY_FLAG_W,THETA,OXYGEN,OXYGEN_FLAG_W,SILCAT,SILCAT_FLAG_W,NITRAT,NITRAT_FLAG_W,NITRIT,NITRIT_FLAG_W,PHSPHT,PHSPHT_FLAG_W,CFC-11,CFC-11_FLAG_W,CFC-12,CFC-12_FLAG_W,CFC113,CFC113_FLAG_W,TRITUM,TRITUM_FLAG_W,HELIUM,HELIUM_FLAG_W,DELHE3,DELHE3_FLAG_W,DELC14,DELC14_FLAG_W,DELC13,DELC13_FLAG_W,NEON,NEON_FLAG_W,TCARBN,TCARBN_FLAG_W,PCO2,PCO2_FLAG_W,ALKALI,ALKALI_FLAG_W,PH,PH_FLAG_W,PH_TMP,C14ERR,DELHER,HELIER,NEONER,TRITER
,,,,,,,,,,,,,DBAR,ITS-90,PSS-78,,PSS-78,,UMOL/KG,,ITS-90,UMOL/KG,,UMOL/KG,,UMOL/KG,,UMOL/KG,,UMOL/KG,,PMOL/KG,,PMOL/KG,,PMOL/KG,,TU,,NMOL/KG,,PERCNT,,/MILLE,,/MILLE,,NMOL/KG,,UMOL/KG,,UATM,,UMOL/KG,,,,DEG C,/MILLE,PERCNT,NMOL/KG,NMOL/KG,TU
     316N151_4,   A22,    10,  1,     31,     31,2,19970818,0125, 13.1692, -66.0030, 4971,  200.6,      2.1,  28.3265,  34.3876,3,-999.0000,9,    211.0,3, 28.3259,   -999.0,9,  -999.00,9,  -999.00,9,  -999.00,9,  -999.00,9, -999.000,9, -999.000,9, -999.000,9, -999.000,9,-999.0000,5,  -999.00,9,   -999.0,9,  -999.00,9,-999.000,9,   -999.0,9,   -999.0,9,   -999.0,9,-999.0000,9,-999,  -999.0, -999.00,-999.0000,-999.000,-999.000
     316N151_4,   A22,    10,  1,     30,     30,2,19970818,0125, 13.1692, -66.0030, 4971,  673.6,     50.5,  26.7948,  36.0543,3,  36.0463,2,    212.9,3, 26.7833,    202.9,2,     1.52,2,     0.10,2,     0.21,2,     0.06,2,    1.758,2,    1.035,2,    0.122,2, -999.000,9,-999.0000,5,  -999.00,9,   -999.0,9,  -999.00,9,-999.000,9,   2016.6,2,   -999.0,9,   2362.8,6,   8.0850,2,25,  -999.0, -999.00,-999.0000,-999.000,-999.000
     316N151_4,   A22,    10,  1,     29,     29,2,19970818,0125, 13.1692, -66.0030, 4971, 1169.5,    100.9,  24.0200,  36.9820,2,  36.9736,2,    189.4,2, 23.9986,    187.1,2,     1.13,2,     1.73,2,     0.04,2,     0.11,2,    1.936,2,    1.109,2,    0.118,2, -999.000,9,-999.0000,5,  -999.00,9,   -999.0,9,  -999.00,9,-999.000,9,   2082.2,2,   -999.0,9,   2419.7,2,   8.0530,2,25,  -999.0, -999.00,-999.0000,-999.000,-999.000
     316N151_4,   A22,    10,  1,     28,     28,2,19970818,0125, 13.1692, -66.0030, 4971, 1660.5,    150.4,  18.9944,  36.5865,2,  36.5949,2,    149.1,2, 18.9674,    144.1,2,     3.32,2,     9.10,2,     0.01,2,     0.53,2,    1.968,2,    1.078,2,    0.025,2, -999.000,9,-999.0000,5,  -999.00,9,   -999.0,9,  -999.00,9,-999.000,9,   2146.2,2,   -999.0,9,   2393.1,2,   7.9060,2,25,  -999.0, -999.00,-999.0000,-999.000,-999.000
     316N151_4,   A22,    10,  1,     27,     27,2,19970818,0125, 13.1692, -66.0030, 4971, 2153.0,    200.1,  16.4128,  36.2053,2,  36.2057,2,    147.5,2, 16.3802,    144.7,2,     4.41,2,    12.60,2,     0.01,2,     0.75,2,    1.856,6,    0.994,6,    0.013,2, -999.000,9,-999.0000,5,  -999.00,9,   -999.0,9,  -999.00,9,-999.000,9,   2150.2,2,   -999.0,9,   2372.8,2,   7.8620,2,25,  -999.0, -999.00,-999.0000,-999.000,-999.000
     316N151_4,   A22,    10,  1,     26,     26,2,19970818,0125, 13.1692, -66.0030, 4971, 2644.5,    249.6,  14.6845,  35.9011,2,  35.8949,2,    136.3,2, 14.6468,    135.0,2,     6.30,2,    16.46,2,     0.01,2,     1.00,2,    1.584,2,    0.842,2,    0.014,2, -999.000,9,-999.0000,5,  -999.00,9,   -999.0,9,  -999.00,9,-999.000,9,   2161.4,2,   -999.0,9,   2354.2,2,   7.8070,2,25,  -999.0, -999.00,-999.0000,-999.000,-999.000
     316N151_4,   A22,    10,  1,     25,     25,2,19970818,0125, 13.1692, -66.0030, 4971, 3138.6,    299.5,  13.0044,  35.6117,2,  35.6110,2,    126.5,2, 12.9628,    127.5,2,     8.58,2,    20.05,2,     0.00,2,     1.24,2,    1.235,2,    0.663,2,    0.008,2, -999.000,9,-999.0000,5,  -999.00,9,   -999.0,9,  -999.00,9,-999.000,9,   2172.4,2,   -999.0,9,   2341.4,2,   7.7580,2,25,  -999.0, -999.00,-999.0000,-999.000,-999.000
     316N151_4,   A22,    10,  1,     24,     24,2,19970818,0125, 13.1692, -66.0030, 4971, 4152.9,    401.3,  10.0470,  35.1226,2,  35.1507,2,    119.2,2,  9.9998,    119.7,2,    13.53,2,    26.08,2,     0.00,2,     1.66,2,    0.723,2,    0.397,2,    0.005,2, -999.000,9,-999.0000,5,  -999.00,9,   -999.0,9,  -999.00,9,-999.000,9,   2191.1,2,   -999.0,9,   2320.0,2,   7.6710,2,25,  -999.0, -999.00,-999.0000,-999.000,-999.000
     316N151_4,   A22,    10,  1,     23,     23,2,19970818,0125, 13.1692, -66.0030, 4971, 5154.1,    501.6,   8.2499,  34.8826,2,  34.8812,2,    120.0,2,  8.1973,    119.7,2,    18.09,2,    30.05,2,     0.00,2,     1.94,2,    0.417,2,    0.224,2,    0.002,2, -999.000,9,-999.0000,5,  -999.00,9,   -999.0,9,  -999.00,9,-999.000,9,   2203.5,2,   -999.0,9,   2311.6,2,   7.6120,2,25,  -999.0, -999.00,-999.0000,-999.000,-999.000
     316N151_4,   A22,    10,  1,     22,     22,2,19970818,0125, 13.1692, -66.0030, 4971, 6152.7,    601.5,   7.2789,  34.7933,2,  34.7923,2,    123.2,2,  7.2198,    122.9,2,    21.17,2,    31.55,2,     0.00,2,     2.06,2,    0.243,6,    0.131,6,    0.001,2, -999.000,9,-999.0000,5,  -999.00,9,   -999.0,9,  -999.00,9,-999.000,9,   2209.7,2,   -999.0,9,   2309.4,2,   7.5970,2,25,  -999.0, -999.00,-999.0000,-999.000,-999.000
     316N151_4,   A22,    10,  1,     21,     21,2,19970818,0125, 13.1692, -66.0030, 4971, 7117.2,    698.0,   6.3983,  34.7383,2,  34.7387,2,    130.1,2,  6.3340,    129.3,2,    24.04,2,    32.29,2,     0.00,2,     2.13,2,    0.130,2,    0.073,2,    0.000,2, -999.000,9,-999.0000,5,  -999.00,9,   -999.0,9,  -999.00,9,-999.000,9,   2214.8,2,   -999.0,9,   2311.1,2,   7.5910,2,25,  -999.0, -999.00,-999.0000,-999.000,-999.000
     316N151_4,   A22,    10,  1,     20,     20,2,19970818,0125, 13.1692, -66.0030, 4971, 8126.3,    798.9,   5.8838,  34.7696,2,  34.7710,2,    140.1,2,  5.8127,    141.7,2,    25.15,2,    31.11,2,     0.00,2,     2.07,2,    0.078,2,    0.045,2,    0.003,2, -999.000,9,-999.0000,5,  -999.00,9,   -999.0,9,  -999.00,9,-999.000,9,   2211.5,2,   -999.0,9,   2314.3,2,   7.6030,2,25,  -999.0, -999.00,-999.0000,-999.000,-999.000
     316N151_4,   A22,    10,  1,     19,     19,2,19970818,0125, 13.1692, -66.0030, 4971, 9122.3,    898.6,   5.5134,  34.8535,2,  34.8534,2,    158.8,2,  5.4352,    159.6,2,    25.25,2,    28.59,2,     0.00,2,     1.92,2,    0.066,2,    0.040,2,    0.005,2, -999.000,9,-999.0000,5,  -999.00,9,   -999.0,9,  -999.00,9,-999.000,9,   2205.7,2,   -999.0,9,   2319.8,2,   7.6330,2,25,  -999.0, -999.00,-999.0000,-999.000,-999.000
     316N151_4,   A22,    10,  1,     18,     18,2,19970818,0125, 13.1692, -66.0030, 4971,10134.0,    999.7,   5.1389,  34.9107,2,  34.9130,2,    175.6,2,  5.0539,    176.1,2,    25.65,2,    26.55,2,     0.00,2,     1.78,2,    0.037,2,    0.025,2,    0.002,2, -999.000,9,-999.0000,5,  -999.00,9,   -999.0,9,  -999.00,9,-999.000,9,   2201.3,2,   -999.0,9,   2326.3,2,   7.6620,2,25,  -999.0, -999.00,-999.0000,-999.000,-999.000
     316N151_4,   A22,    10,  1,     17,     17,2,19970818,0125, 13.1692, -66.0030, 4971,10134.8,    999.8,   5.1389,  34.9106,2,  34.9114,2,    175.6,2,  5.0539,    175.7,2,    25.56,2,    26.43,2,     0.00,2,     1.79,2,    0.064,2,    0.039,2,    0.006,2, -999.000,9,-999.0000,5,  -999.00,9,   -999.0,9,  -999.00,9,-999.000,9,   -999.0,9,   -999.0,9,   2325.6,2,   7.6580,2,25,  -999.0, -999.00,-999.0000,-999.000,-999.000
     316N151_4,   A22,    10,  1,     16,     16,2,19970818,0125, 13.1692, -66.0030, 4971,13142.0,   1300.6,   4.4843,  34.9583,2,  34.9572,2,    200.0,2,  4.3772,    200.5,2,    26.07,2,    23.72,2,     0.00,2,     1.61,2,    0.030,2,    0.020,2,    0.003,2, -999.000,9,-999.0000,5,  -999.00,9,   -999.0,9,  -999.00,9,-999.000,9,   2194.4,2,   -999.0,9,   2332.5,2,   7.6930,2,25,  -999.0, -999.00,-999.0000,-999.000,-999.000
     316N151_4,   A22,    10,  1,     15,     15,2,19970818,0125, 13.1692, -66.0030, 4971,13142.8,   1300.7,   4.4843,  34.9582,2,  34.9570,2,    200.0,2,  4.3772,    200.5,2,    26.18,2,    23.72,2,     0.00,2,     1.61,2,    0.033,2,    0.026,2,    0.002,2, -999.000,9,-999.0000,5,  -999.00,9,   -999.0,9,  -999.00,9,-999.000,9,   -999.0,9,   -999.0,9,   2333.3,2,   7.6910,2,25,  -999.0, -999.00,-999.0000,-999.000,-999.000
     316N151_4,   A22,    10,  1,     14,     14,2,19970818,0125, 13.1692, -66.0030, 4971,17633.6,   1749.5,   4.1589,  34.9715,2,  34.9723,2,    210.9,2,  4.0134,    211.7,2,    27.77,2,    22.61,2,     0.00,2,     1.54,2,    0.016,2,    0.017,2,    0.005,2, -999.000,9,-999.0000,5,  -999.00,9,   -999.0,9,  -999.00,9,-999.000,9,   2193.3,2,   -999.0,9,   2337.9,2,   7.7080,2,25,  -999.0, -999.00,-999.0000,-999.000,-999.000
     316N151_4,   A22,    10,  1,     13,     13,2,19970818,0125, 13.1692, -66.0030, 4971,20137.6,   1999.8,   4.1153,  34.9740,2,  34.9734,2,    213.9,2,  3.9461,    213.7,2,    28.17,2,    22.34,2,     0.00,2,     1.52,2,    0.014,2,    0.021,2,    0.003,2, -999.000,9,-999.0000,5,  -999.00,9,   -999.0,9,  -999.00,9,-999.000,9,   2192.9,2,   -999.0,9,   2340.0,2,   7.7110,2,25,  -999.0, -999.00,-999.0000,-999.000,-999.000
     316N151_4,   A22,    10,  1,     12,     12,2,19970818,0125, 13.1692, -66.0030, 4971,22660.2,   2251.9,   4.1041,  34.9746,2,  34.9755,2,    215.1,2,  3.9098,    214.0,2,    28.08,2,    22.38,2,     0.00,2,     1.52,2,    0.012,2,    0.020,2,    0.002,2, -999.000,9,-999.0000,5,  -999.00,9,   -999.0,9,  -999.00,9,-999.000,9,   2192.7,2,   -999.0,9,   2340.8,2,   7.7140,2,25,  -999.0, -999.00,-999.0000,-999.000,-999.000
     316N151_4,   A22,    10,  1,     11,     11,2,19970818,0125, 13.1692, -66.0030, 4971,25155.7,   2501.3,   4.1107,  34.9748,2,  34.9763,2,    215.2,2,  3.8903,    215.4,2,    28.59,2,    22.18,2,     0.00,2,     1.51,2,    0.034,2,    0.026,2,    0.003,2, -999.000,9,-999.0000,5,  -999.00,9,   -999.0,9,  -999.00,9,-999.000,9,   2192.8,2,   -999.0,9,   2341.3,2,   7.7090,2,25,  -999.0, -999.00,-999.0000,-999.000,-999.000
     316N151_4,   A22,    10,  1,     10,     10,2,19970818,0125, 13.1692, -66.0030, 4971,27658.4,   2751.4,   4.1295,  34.9752,2,  34.9766,2,    215.2,2,  3.8819,    215.7,2,    28.89,2,    22.17,2,     0.00,2,     1.51,2,    0.017,6,    0.024,6,    0.004,2, -999.000,9,-999.0000,5,  -999.00,9,   -999.0,9,  -999.00,9,-999.000,9,   2193.5,2,   -999.0,9,   2342.0,2,   7.7170,2,25,  -999.0, -999.00,-999.0000,-999.000,-999.000
     316N151_4,   A22,    10,  1,      9,      9,2,19970818,0125, 13.1692, -66.0030, 4971,30158.3,   3001.2,   4.1514,  34.9755,2,  34.9761,2,    215.5,2,  3.8757,    215.6,2,    28.80,2,    22.13,2,     0.00,2,     1.51,2,    0.013,2,    0.022,2,    0.002,2, -999.000,9,-999.0000,5,  -999.00,9,   -999.0,9,  -999.00,9,-999.000,9,   2194.1,2,   -999.0,9,   2341.1,2,   7.7160,2,25,  -999.0, -999.00,-999.0000,-999.000,-999.000
     316N151_4,   A22,    10,  1,      8,      8,2,19970818,0125, 13.1692, -66.0030, 4971,32653.8,   3250.7,   4.1765,  34.9764,2,  34.9758,2,    215.6,2,  3.8719,    216.2,2,    28.91,2,    22.10,2,     0.00,2,     1.51,2,    0.011,2,    0.024,2,    0.003,2, -999.000,9,-999.0000,5,  -999.00,9,   -999.0,9,  -999.00,9,-999.000,9,   2194.1,2,   -999.0,9,   2342.9,2,   7.7180,2,25,  -999.0, -999.00,-999.0000,-999.000,-999.000
     316N151_4,   A22,    10,  1,      7,      7,2,19970818,0125, 13.1692, -66.0030, 4971,35172.3,   3502.5,   4.2038,  34.9765,2,  34.9763,2,    215.5,2,  3.8690,    216.4,2,    28.92,2,    22.10,2,     0.00,2,     1.51,2,    0.014,2,    0.023,2,    0.003,2, -999.000,9,-999.0000,5,  -999.00,9,   -999.0,9,  -999.00,9,-999.000,9,   2195.6,2,   -999.0,9,   2342.4,2,   7.7150,2,25,  -999.0, -999.00,-999.0000,-999.000,-999.000
     316N151_4,   A22,    10,  1,      6,      6,2,19970818,0125, 13.1692, -66.0030, 4971,37669.7,   3752.0,   4.2323,  34.9768,2,  34.9763,2,    215.7,2,  3.8667,    216.9,2,    29.03,2,    22.02,2,     0.00,2,     1.50,2,    0.017,2,    0.022,2,    0.004,2, -999.000,9,-999.0000,5,  -999.00,9,   -999.0,9,  -999.00,9,-999.000,9,   2196.1,2,   -999.0,9,   2343.5,2,   7.7170,2,25,  -999.0, -999.00,-999.0000,-999.000,-999.000
     316N151_4,   A22,    10,  1,      5,      5,2,19970818,0125, 13.1692, -66.0030, 4971,40117.9,   3996.6,   4.2615,  34.9769,2,  34.9756,2,    216.1,2,  3.8649,    216.6,2,    29.04,2,    22.06,2,     0.00,2,     1.50,2,    0.018,2,    0.019,2,    0.003,2, -999.000,9,-999.0000,5,  -999.00,9,   -999.0,9,  -999.00,9,-999.000,9,   2194.2,2,   -999.0,9,   2342.7,2,   7.7160,2,25,  -999.0, -999.00,-999.0000,-999.000,-999.000
     316N151_4,   A22,    10,  1,      4,      4,2,19970818,0125, 13.1692, -66.0030, 4971,42636.2,   4248.5,   4.2931,  34.9772,2,  34.9771,2,    216.7,2,  3.8637,    217.1,2,    29.05,2,    22.02,2,     0.00,2,     1.49,2,    0.018,2,    0.022,2,    0.004,2, -999.000,9,-999.0000,5,  -999.00,9,   -999.0,9,  -999.00,9,-999.000,9,   2193.9,2,   -999.0,9,   2349.0,2,   7.7220,2,25,  -999.0, -999.00,-999.0000,-999.000,-999.000
     316N151_4,   A22,    10,  1,      3,      3,2,19970818,0125, 13.1692, -66.0030, 4971,45143.1,   4498.9,   4.3254,  34.9775,2,  34.9774,2,    217.0,2,  3.8625,    217.2,2,    29.45,2,    22.02,2,     0.00,2,     1.49,2,    0.025,2,    0.028,2,    0.006,2, -999.000,9,-999.0000,5,  -999.00,9,   -999.0,9,  -999.00,9,-999.000,9,   2195.0,2,   -999.0,9,   2345.2,2,   7.7220,2,25,  -999.0, -999.00,-999.0000,-999.000,-999.000
     316N151_4,   A22,    10,  1,      2,      2,2,19970818,0125, 13.1692, -66.0030, 4971,47648.4,   4749.4,   4.3594,  34.9779,2,  34.9771,2,    217.6,2,  3.8621,    216.8,2,    29.46,2,    22.02,2,     0.00,2,     1.50,2,    0.027,2,    0.028,2,    0.004,2, -999.000,9,-999.0000,5,  -999.00,9,   -999.0,9,  -999.00,9,-999.000,9,   2196.3,2,   -999.0,9,   2345.1,2,   7.7170,2,25,  -999.0, -999.00,-999.0000,-999.000,-999.000
     316N151_4,   A22,    10,  1,      1,      1,2,19970818,0125, 13.1692, -66.0030, 4971,51024.5,   5086.9,   4.4070,  34.9786,2,  34.9776,2,    217.7,2,  3.8623,    217.6,2,    29.48,6,    22.04,6,     0.00,6,     1.50,6,    0.022,6,    0.024,6,    0.000,2, -999.000,9,-999.0000,5,  -999.00,9,   -999.0,9,  -999.00,9,-999.000,9,   2197.7,2,   -999.0,9,   2345.4,2,   7.7210,2,25,  -999.0, -999.00,-999.0000,-999.000,-999.000