BOTTLE,20220629CCHSIOAMB
EXPOCODE,SECT_ID,STNNBR,CASTNO,SAMPNO,BTLNBR,BTLNBR_FLAG_W,DATE,TIME,LATITUDE,LONGITUDE,DEPTH,CTDRAW,CTDPRS,CTDTMP,CTDSAL,CTDSAL_FLAG_W,SALNTY,SALNTY_FLAG_W,CTDOXY,CTDOXY_FLAG_W,THETA,OXYGEN,OXYGEN_FLAG_W,SILCAT,SILCAT_FLAG_W,NITRAT,NITRAT_FLAG_W,NITRIT,NITRIT_FLAG_W,PHSPHT,PHSPHT_FLAG_W,CFC-11,CFC-11_FLAG_W,CFC-12,CFC-12_FLAG_W,CFC113,CFC113_FLAG_W,TRITUM,TRITUM_FLAG_W,HELIUM,HELIUM_FLAG_W,DELHE3,DELHE3_FLAG_W,DELC14,DELC14_FLAG_W,DELC13,DELC13_FLAG_W,NEON,NEON_FLAG_W,TCARBN,TCARBN_FLAG_W,PCO2,PCO2_FLAG_W,ALKALI,ALKALI_FLAG_W,PH,PH_FLAG_W,PH_TMP,C14ERR,DELHER,HELIER,NEONER,TRITER
,,,,,,,,,,,,,DBAR,ITS-90,PSS-78,,PSS-78,,UMOL/KG,,ITS-90,UMOL/KG,,UMOL/KG,,UMOL/KG,,UMOL/KG,,UMOL/KG,,PMOL/KG,,PMOL/KG,,PMOL/KG,,TU,,NMOL/KG,,PERCNT,,/MILLE,,/MILLE,,NMOL/KG,,UMOL/KG,,UATM,,UMOL/KG,,,,DEG C,/MILLE,PERCNT,NMOL/KG,NMOL/KG,TU
     316N151_4,   A22,    58,  2,     22,     22,2,19970829,2209, 34.2287, -65.9995, 5129,  180.2,      3.6,  26.8883,  36.2081,3,  36.2116,2,    167.2,3, 26.8875,    215.2,2,     0.34,2,     0.00,2,     0.00,2,     0.01,2, -999.000,9, -999.000,9,    0.184,2, -999.000,9,-999.0000,5,  -999.00,9,   -999.0,9,  -999.00,9,-999.000,9,   2014.6,2,    280.0,2,   2364.6,2,   8.1000,2,25,  -999.0, -999.00,-999.0000,-999.000,-999.000
     316N151_4,   A22,    58,  2,     21,     21,2,19970829,2209, 34.2287, -65.9995, 5129,  631.1,     49.4,  22.7159,  36.5656,3,  36.5712,2,    237.7,3, 22.7058,    233.1,2,     0.16,2,     0.00,2,     0.00,2,     0.01,2, -999.000,9, -999.000,9,    0.156,2, -999.000,9,-999.0000,5,  -999.00,9,   -999.0,9,  -999.00,9,-999.000,9,   2043.1,2,   -999.0,9,   -999.0,9,-999.0000,9,-999,  -999.0, -999.00,-999.0000,-999.000,-999.000
     316N151_4,   A22,    58,  2,     20,     20,2,19970829,2209, 34.2287, -65.9995, 5129, 1168.6,    102.9,  19.3274,  36.6472,3,  36.6524,2,    224.9,3, 19.3087,    219.7,2,     0.08,2,     0.03,2,     0.02,2,     0.01,2, -999.000,9, -999.000,9,    0.137,2, -999.000,9,-999.0000,5,  -999.00,9,   -999.0,9,  -999.00,9,-999.000,9,   2073.4,2,   -999.0,9,   2394.2,2,   8.0390,2,25,  -999.0, -999.00,-999.0000,-999.000,-999.000
     316N151_4,   A22,    58,  2,     19,     19,2,19970829,2209, 34.2287, -65.9995, 5129, 1669.4,    152.6,  18.6007,  36.5970,3,  36.6019,2,    207.4,3, 18.5736,    204.9,2,     0.68,2,     2.39,2,     0.02,2,     0.11,2, -999.000,9, -999.000,9,    0.093,2, -999.000,9,-999.0000,5,  -999.00,9,   -999.0,9,  -999.00,9,-999.000,9,   2086.4,2,   -999.0,9,   -999.0,9,-999.0000,9,-999,  -999.0, -999.00,-999.0000,-999.000,-999.000
     316N151_4,   A22,    58,  2,     18,     18,2,19970829,2209, 34.2287, -65.9995, 5129, 2164.7,    201.6,  18.3521,  36.5728,3,  36.5725,2,    212.6,3, 18.3166,    207.4,2,     0.80,2,     2.85,2,     0.01,2,     0.14,2, -999.000,9, -999.000,9,    0.083,2, -999.000,9,-999.0000,5,  -999.00,9,   -999.0,9,  -999.00,9,-999.000,9,   2087.1,2,   -999.0,9,   2390.1,2,   8.0110,2,25,  -999.0, -999.00,-999.0000,-999.000,-999.000
     316N151_4,   A22,    58,  2,     17,     17,2,19970829,2209, 34.2287, -65.9995, 5129, 2670.0,    251.7,  18.1911,  36.5561,3,  36.5611,2,    212.9,3, 18.1470,    209.1,2,     0.81,2,     3.01,2,     0.01,2,     0.15,2, -999.000,9, -999.000,9,    0.076,2, -999.000,9,-999.0000,5,  -999.00,9,   -999.0,9,  -999.00,9,-999.000,9,   2088.1,2,   -999.0,9,   -999.0,9,-999.0000,9,-999,  -999.0, -999.00,-999.0000,-999.000,-999.000
     316N151_4,   A22,    58,  2,     16,     16,2,19970829,2209, 34.2287, -65.9995, 5129, 3177.8,    302.2,  18.0966,  36.5473,3,  36.5531,2,    220.9,3, 18.0438,    210.9,2,     0.93,2,     3.06,2,     0.01,2,     0.15,2, -999.000,9, -999.000,9,    0.091,2, -999.000,9,-999.0000,5,  -999.00,9,   -999.0,9,  -999.00,9,-999.000,9,   2086.2,2,   -999.0,9,   2388.1,2,   8.0090,2,25,  -999.0, -999.00,-999.0000,-999.000,-999.000
     316N151_4,   A22,    58,  2,     15,     15,2,19970829,2209, 34.2287, -65.9995, 5129, 4160.6,    400.2,  17.8770,  36.5118,3,  36.5184,2,    219.8,3, 17.8076,    208.0,2,     1.04,2,     3.67,2,     0.01,2,     0.19,2, -999.000,9, -999.000,9,    0.080,2, -999.000,9,-999.0000,5,  -999.00,9,   -999.0,9,  -999.00,9,-999.000,9,   2091.7,2,   -999.0,9,   -999.0,9,-999.0000,9,-999,  -999.0, -999.00,-999.0000,-999.000,-999.000
     316N151_4,   A22,    58,  2,     14,     14,2,19970829,2209, 34.2287, -65.9995, 5129, 5166.9,    500.8,  17.1458,  36.3669,3,  36.3730,2,    203.1,3, 17.0613,    192.4,2,     1.84,2,     6.32,2,     0.01,2,     0.35,2, -999.000,9, -999.000,9,    0.049,2, -999.000,9,-999.0000,5,  -999.00,9,   -999.0,9,  -999.00,9,-999.000,9,   2107.9,2,   -999.0,9,   2377.3,2,   7.9600,2,25,  -999.0, -999.00,-999.0000,-999.000,-999.000
     316N151_4,   A22,    58,  2,     13,     13,2,19970829,2209, 34.2287, -65.9995, 5129, 6191.9,    603.7,  15.7594,  36.1200,3,  36.1265,2,    184.6,3, 15.6629,    178.3,2,     3.34,2,    10.00,2,     0.01,2,     0.58,2, -999.000,9, -999.000,9,    0.033,2, -999.000,9,-999.0000,5,  -999.00,9,   -999.0,9,  -999.00,9,-999.000,9,   2125.7,2,   -999.0,9,   -999.0,9,-999.0000,9,-999,  -999.0, -999.00,-999.0000,-999.000,-999.000
     316N151_4,   A22,    58,  2,     12,     12,2,19970829,2209, 34.2287, -65.9995, 5129, 7156.9,    700.6,  14.1577,  35.8542,3,  35.8643,2,    174.2,3, 14.0532,    164.8,2,     5.33,2,    13.92,2,     0.00,2,     0.84,2, -999.000,9, -999.000,9,    0.025,2, -999.000,9,-999.0000,5,  -999.00,9,   -999.0,9,  -999.00,9,-999.000,9,   2143.3,2,   -999.0,9,   2351.6,2,   7.8530,2,25,  -999.0, -999.00,-999.0000,-999.000,-999.000
     316N151_4,   A22,    58,  2,     11,     11,2,19970829,2209, 34.2287, -65.9995, 5129, 8137.1,    799.1,  12.2312,  35.5707,3,  35.5779,2,    162.8,3, 12.1224,    157.3,2,     8.11,2,    17.89,2,     0.00,2,     1.10,2, -999.000,9, -999.000,9,    0.025,2, -999.000,9,-999.0000,5,  -999.00,9,   -999.0,9,  -999.00,9,-999.000,9,   2160.4,2,   -999.0,9,   -999.0,9,-999.0000,9,-999,  -999.0, -999.00,-999.0000,-999.000,-999.000
     316N151_4,   A22,    58,  2,     10,     10,2,19970829,2209, 34.2287, -65.9995, 5129, 9148.5,    900.6,   9.9337,  35.2830,3,  35.2863,2,    154.2,3,  9.8256,    150.3,2,    12.27,2,    22.22,2,     0.00,2,     1.40,2, -999.000,9, -999.000,9,    0.024,2, -999.000,9,-999.0000,5,  -999.00,9,   -999.0,9,  -999.00,9,-999.000,9,   2178.7,2,   -999.0,9,   -999.0,9,-999.0000,9,-999,  -999.0, -999.00,-999.0000,-999.000,-999.000
     316N151_4,   A22,    58,  2,      9,      9,2,19970829,2209, 34.2287, -65.9995, 5129,10110.2,    997.1,   8.0660,  35.1346,3,  35.1418,2,    166.0,3,  7.9593,    165.5,2,    13.86,2,    22.88,2,     0.00,2,     1.47,2, -999.000,9, -999.000,9,    0.027,2, -999.000,9,-999.0000,5,  -999.00,9,   -999.0,9,  -999.00,9,-999.000,9,   2183.5,2,   -999.0,9,   -999.0,9,-999.0000,9,-999,  -999.0, -999.00,-999.0000,-999.000,-999.000
     316N151_4,   A22,    58,  2,      8,      8,2,19970829,2209, 34.2287, -65.9995, 5129,11127.4,   1099.0,   6.4478,  35.0656,3,  35.0748,2,    195.0,3,  6.3425,    197.1,2,    13.48,2,    21.21,2,     0.00,2,     1.39,2, -999.000,9, -999.000,9,    0.047,2, -999.000,9,-999.0000,5,  -999.00,9,   -999.0,9,  -999.00,9,-999.000,9,   2179.0,2,   -999.0,9,   -999.0,9,-999.0000,9,-999,  -999.0, -999.00,-999.0000,-999.000,-999.000
     316N151_4,   A22,    58,  2,      7,      7,2,19970829,2209, 34.2287, -65.9995, 5129,13131.2,   1299.6,   5.4266,  35.0817,3,  35.0907,2,    220.9,3,  5.3102,    225.7,2,    13.00,2,    19.54,2,     0.00,2,     1.28,2, -999.000,9, -999.000,9,    0.029,2, -999.000,9,-999.0000,5,  -999.00,9,   -999.0,9,  -999.00,9,-999.000,9,   2170.0,2,   -999.0,9,   -999.0,9,-999.0000,9,-999,  -999.0, -999.00,-999.0000,-999.000,-999.000
     316N151_4,   A22,    58,  2,      6,      6,2,19970829,2209, 34.2287, -65.9995, 5129,15129.7,   1499.4,   4.7633,  35.0523,3,  35.0543,2,    241.9,3,  4.6344,    242.8,2,    12.82,2,    18.73,2,     0.00,2,     1.23,2, -999.000,9, -999.000,9,    0.029,2, -999.000,9,-999.0000,5,  -999.00,9,   -999.0,9,  -999.00,9,-999.000,9,   2164.4,2,   -999.0,9,   -999.0,9,-999.0000,9,-999,  -999.0, -999.00,-999.0000,-999.000,-999.000
     316N151_4,   A22,    58,  2,      5,      5,2,19970829,2209, 34.2287, -65.9995, 5129,17656.1,   1752.1,   4.2756,  35.0154,3,  35.0160,2,    255.3,3,  4.1282,    253.6,2,    13.13,2,    18.24,2,     0.00,2,     1.21,2, -999.000,9, -999.000,9,    0.026,2, -999.000,9,-999.0000,5,  -999.00,9,   -999.0,9,  -999.00,9,-999.000,9,   2161.1,2,   -999.0,9,   -999.0,9,-999.0000,9,-999,  -999.0, -999.00,-999.0000,-999.000,-999.000
     316N151_4,   A22,    58,  2,      4,      4,2,19970829,2209, 34.2287, -65.9995, 5129,20122.2,   1998.8,   3.9587,  34.9956,3,  34.9981,2,    260.8,3,  3.7919,    258.3,2,    14.04,2,    18.08,2,     0.00,2,     1.20,2, -999.000,9, -999.000,9,    0.021,2, -999.000,9,-999.0000,5,  -999.00,9,   -999.0,9,  -999.00,9,-999.000,9,   2162.2,2,   -999.0,9,   -999.0,9,-999.0000,9,-999,  -999.0, -999.00,-999.0000,-999.000,-999.000
     316N151_4,   A22,    58,  2,      3,      3,2,19970829,2209, 34.2287, -65.9995, 5129,22635.1,   2250.3,   3.6655,  34.9726,3,  34.9747,2,    263.6,3,  3.4785,    262.2,2,    14.94,2,    17.96,2,     0.00,2,     1.19,2, -999.000,9, -999.000,9,    0.027,2, -999.000,9,-999.0000,5,  -999.00,9,   -999.0,9,  -999.00,9,-999.000,9,   2160.6,2,   -999.0,9,   -999.0,9,-999.0000,9,-999,  -999.0, -999.00,-999.0000,-999.000,-999.000
     316N151_4,   A22,    58,  2,      2,      2,2,19970829,2209, 34.2287, -65.9995, 5129,25102.4,   2497.3,   3.3939,  34.9629,3,  34.9644,2,    264.2,3,  3.1869,    261.9,2,    17.22,2,    18.04,2,     0.00,2,     1.20,2, -999.000,9, -999.000,9,    0.012,2, -999.000,9,-999.0000,5,  -999.00,9,   -999.0,9,  -999.00,9,-999.000,9,   2160.7,2,   -999.0,9,   -999.0,9,-999.0000,9,-999,  -999.0, -999.00,-999.0000,-999.000,-999.000
     316N151_4,   A22,    58,  2,      1,      1,2,19970829,2209, 34.2287, -65.9995, 5129,27576.4,   2745.0,   3.1494,  34.9512,3,  34.9540,2,    262.0,3,  2.9220,    262.6,2,    19.27,6,    18.12,6,     0.00,6,     1.22,6, -999.000,9, -999.000,9,    0.034,2, -999.000,9,-999.0000,5,  -999.00,9,   -999.0,9,  -999.00,9,-999.000,9,   2161.1,2,   -999.0,9,   -999.0,9,-999.0000,9,-999,  -999.0, -999.00,-999.0000,-999.000,-999.000