BOTTLE,20220629CCHSIOAMB
EXPOCODE,SECT_ID,STNNBR,CASTNO,SAMPNO,BTLNBR,BTLNBR_FLAG_W,DATE,TIME,LATITUDE,LONGITUDE,DEPTH,CTDRAW,CTDPRS,CTDTMP,CTDSAL,CTDSAL_FLAG_W,SALNTY,SALNTY_FLAG_W,CTDOXY,CTDOXY_FLAG_W,THETA,OXYGEN,OXYGEN_FLAG_W,SILCAT,SILCAT_FLAG_W,NITRAT,NITRAT_FLAG_W,NITRIT,NITRIT_FLAG_W,PHSPHT,PHSPHT_FLAG_W,CFC-11,CFC-11_FLAG_W,CFC-12,CFC-12_FLAG_W,CFC113,CFC113_FLAG_W,TRITUM,TRITUM_FLAG_W,HELIUM,HELIUM_FLAG_W,DELHE3,DELHE3_FLAG_W,DELC14,DELC14_FLAG_W,DELC13,DELC13_FLAG_W,NEON,NEON_FLAG_W,TCARBN,TCARBN_FLAG_W,PCO2,PCO2_FLAG_W,ALKALI,ALKALI_FLAG_W,PH,PH_FLAG_W,PH_TMP,C14ERR,DELHER,HELIER,NEONER,TRITER
,,,,,,,,,,,,,DBAR,ITS-90,PSS-78,,PSS-78,,UMOL/KG,,ITS-90,UMOL/KG,,UMOL/KG,,UMOL/KG,,UMOL/KG,,UMOL/KG,,PMOL/KG,,PMOL/KG,,PMOL/KG,,TU,,NMOL/KG,,PERCNT,,/MILLE,,/MILLE,,NMOL/KG,,UMOL/KG,,UATM,,UMOL/KG,,,,DEG C,/MILLE,PERCNT,NMOL/KG,NMOL/KG,TU
     316N151_4,   A22,    64,  1,     31,     31,2,19970831,1145, 37.7355, -65.9997, 4878,  190.5,      3.4,  28.1099,  36.0316,2,  36.0348,2,    219.4,2, 28.1091,    206.6,2,     1.10,2,     0.02,2,     0.00,2,     0.01,2,    1.640,2,    0.985,2,    0.127,2,    0.912,2,   1.7329,2,     0.12,2,   -999.0,9,  -999.00,9,   5.715,2,   1988.6,2,    258.0,2,   2352.1,2,   8.1220,2,25,  -999.0,    0.15,  0.0087,   0.029,   0.013
     316N151_4,   A22,    64,  1,     30,     30,2,19970831,1145, 37.7355, -65.9997, 4878,  655.4,     50.8,  26.3972,  36.3873,2,  36.3894,2,    184.0,2, 26.3857,    198.2,2,     1.00,2,     0.01,2,     0.00,2,     0.01,2,    1.818,2,    1.072,2,    0.124,2, -999.000,9,-999.0000,5,  -999.00,9,   -999.0,9,  -999.00,9,-999.000,9,   2035.4,2,   -999.0,9,   2377.0,2,   8.0750,2,25,  -999.0, -999.00,-999.0000,-999.000,-999.000
     316N151_4,   A22,    64,  1,     29,     29,2,19970831,1145, 37.7355, -65.9997, 4878, 1154.3,    100.7,  21.7512,  36.5870,2,  36.5953,2,    225.8,2, 21.7313,    225.3,2,     0.42,2,     0.01,2,     0.01,2,     0.01,2,    2.226,2,    1.281,2,    0.149,2,    1.016,2,   1.7554,2,     0.05,2,   -999.0,9,  -999.00,9,   5.626,2,   2054.1,2,   -999.0,9,   2391.6,2,   8.0670,2,25,  -999.0,    0.15,  0.0088,   0.028,   0.013
     316N151_4,   A22,    64,  1,     28,     28,2,19970831,1145, 37.7355, -65.9997, 4878, 1647.6,    149.7,  19.3312,  36.6392,2,  36.6429,2,    209.6,2, 19.3039,   -999.0,5,     0.52,2,     0.75,2,     0.13,2,     0.05,2,    2.322,2,    1.312,2,    0.126,2,    1.072,2,   1.7596,2,     0.65,2,   -999.0,9,  -999.00,9,   5.729,2,   2078.8,2,   -999.0,9,   2393.4,2,   8.0300,2,25,  -999.0,    0.15,  0.0088,   0.029,   0.013
     316N151_4,   A22,    64,  1,     27,     27,2,19970831,1145, 37.7355, -65.9997, 4878, 2162.7,    200.8,  18.4163,  36.5827,2,  36.5848,2,    206.8,2, 18.3809,    207.2,2,     1.01,2,     2.70,2,     0.01,2,     0.12,2,    2.385,6,    1.357,6,    0.098,2,    1.082,2,   1.7823,2,     0.30,2,   -999.0,9,  -999.00,9,   5.710,2,   2088.1,2,   -999.0,9,   2389.1,2,   8.0100,2,25,  -999.0,    0.15,  0.0089,   0.029,   0.013
     316N151_4,   A22,    64,  1,     26,     26,2,19970831,1145, 37.7355, -65.9997, 4878, 2669.0,    251.1,  18.2277,  36.5693,2,  36.5710,2,    209.5,2, 18.1837,    210.9,2,     1.01,2,     2.83,2,     0.01,2,     0.14,2,    2.392,2,    1.327,2,    0.098,2,    1.072,2,   1.7856,2,     0.78,2,   -999.0,9,  -999.00,9,   5.581,2,   2087.3,2,   -999.0,9,   2388.5,2,   8.0110,2,25,  -999.0,    0.15,  0.0089,   0.028,   0.013
     316N151_4,   A22,    64,  1,     25,     25,2,19970831,1145, 37.7355, -65.9997, 4878, 3149.8,    298.9,  18.1168,  36.5511,2,  36.5540,2,    211.5,2, 18.0645,    209.8,2,     1.21,2,     3.15,2,     0.01,2,     0.16,2,    2.388,2,    1.352,2,    0.080,2,    1.093,2,   1.7749,2,     0.59,2,   -999.0,9,  -999.00,9,   5.672,2,   2089.1,2,   -999.0,9,   2387.7,2,   8.0060,2,25,  -999.0,    0.15,  0.0089,   0.028,   0.016
     316N151_4,   A22,    64,  1,     24,     24,2,19970831,1145, 37.7355, -65.9997, 4878, 4159.5,    399.7,  17.9361,  36.5262,2,  36.5289,2,    207.4,2, 17.8666,    209.8,2,     1.32,2,     3.52,2,     0.01,2,     0.18,2,    2.377,2,    1.295,2,    0.083,2,    1.125,2,   1.7819,2,     0.81,2,   -999.0,9,  -999.00,9,   5.710,2,   2092.0,2,   -999.0,9,   2387.5,6,   8.0030,2,25,  -999.0,    0.15,  0.0089,   0.029,   0.013
     316N151_4,   A22,    64,  1,     23,     23,2,19970831,1145, 37.7355, -65.9997, 4878, 5167.1,    500.6,  17.1990,  36.3802,2,  36.3826,2,    189.6,2, 17.1143,    192.8,2,     2.11,2,     6.38,2,     0.01,2,     0.35,2,    2.217,2,    1.189,2,    0.050,2,    1.235,2,   1.7690,2,     3.21,2,   -999.0,9,  -999.00,9,   5.648,2,   2107.8,2,   -999.0,9,   2378.8,2,   7.9600,2,25,  -999.0,    0.15,  0.0088,   0.028,   0.014
     316N151_4,   A22,    64,  1,     22,     22,2,19970831,1145, 37.7355, -65.9997, 4878, 6169.7,    601.1,  15.7005,  36.1136,2,  36.1169,2,    177.4,2, 15.6047,    176.4,2,     3.68,2,    10.37,2,     0.01,2,     0.60,2,    1.973,2,    1.053,2,    0.029,2,    1.263,2,   1.7799,2,     5.90,2,   -999.0,9,  -999.00,9,   5.677,2,   2128.2,2,   -999.0,9,   2364.7,2,   7.9040,2,25,  -999.0,    0.15,  0.0089,   0.028,   0.014
     316N151_4,   A22,    64,  1,     21,     21,2,19970831,1145, 37.7355, -65.9997, 4878, 7161.7,    700.8,  13.8466,  35.8129,2,  35.8144,2,    166.7,2, 13.7436,    165.8,2,     5.85,2,    14.45,2,     0.00,2,     0.87,2,    1.667,2,    0.893,2,    0.028,2,    1.207,2,   1.7976,2,     8.31,2,   -999.0,9,  -999.00,9,   5.757,2,   2145.9,2,   -999.0,9,   2349.9,2,   7.8350,2,25,  -999.0,    0.15,  0.0090,   0.029,   0.014
     316N151_4,   A22,    64,  1,     20,     20,2,19970831,1145, 37.7355, -65.9997, 4878, 8148.4,    799.9,  11.3365,  35.4537,2,  35.4537,2,    149.4,2, 11.2327,    150.1,2,    10.19,2,    20.28,2,     0.00,2,     1.27,2,    1.120,2,    0.592,2,    0.022,2,    0.938,2,   1.8024,2,     8.51,2,   -999.0,9,  -999.00,9,   5.704,2,   2171.4,2,   -999.0,9,   2334.1,2,   7.7550,2,25,  -999.0,    0.15,  0.0090,   0.029,   0.013
     316N151_4,   A22,    64,  1,     19,     19,2,19970831,1145, 37.7355, -65.9997, 4878, 9154.9,    901.0,   9.1787,  35.2257,2,  35.2264,2,    157.0,2,  9.0754,    155.9,2,    13.06,2,    22.65,2,     0.00,2,     1.44,2,    0.915,2,    0.479,2,    0.024,2,    0.784,2,   1.8350,2,     7.73,2,   -999.0,9,  -999.00,9,   5.850,2,   2182.1,2,   -999.0,9,   2331.7,2,   7.7140,2,25,  -999.0,    0.15,  0.0092,   0.029,   0.012
     316N151_4,   A22,    64,  1,     18,     18,2,19970831,1145, 37.7355, -65.9997, 4878,10160.4,   1001.8,   7.4779,  35.1339,2,  35.1347,2,    176.1,2,  7.3749,    177.3,2,    13.85,2,    22.20,2,     0.00,2,     1.44,2,    0.879,2,    0.446,2,    0.025,2,    0.737,2,   1.8564,2,     8.92,2,   -999.0,9,  -999.00,9,   5.790,2,   2183.8,2,   -999.0,9,   2327.1,2,   7.7110,2,25,  -999.0,    0.15,  0.0093,   0.029,   0.012
     316N151_4,   A22,    64,  1,     17,     17,2,19970831,1145, 37.7355, -65.9997, 4878,11153.2,   1101.2,   6.0708,  35.0556,2,  35.0621,2,    205.1,2,  5.9686,    204.2,2,    13.46,2,    20.98,2,     0.00,2,     1.37,2,    1.170,2,    0.591,2,    0.053,2,    0.785,2,   1.8534,2,     7.89,2,   -999.0,9,  -999.00,9,   6.010,2,   2178.5,2,   -999.0,9,   -999.0,9,-999.0000,9,-999,  -999.0,    0.15,  0.0093,   0.030,   0.012
     316N151_4,   A22,    64,  1,     16,     16,2,19970831,1145, 37.7355, -65.9997, 4878,13152.5,   1301.2,   4.7638,  34.9970,2,  34.9988,2,    242.4,2,  4.6538,    240.6,2,    12.38,2,    18.90,2,     0.00,2,     1.25,2,    1.705,2,    0.855,2,    0.089,2,    0.910,2,   1.8589,2,     8.52,2,   -999.0,9,  -999.00,9,   5.957,2,   2168.0,2,   -999.0,9,   -999.0,9,-999.0000,9,-999,  -999.0,    0.15,  0.0093,   0.030,   0.013
     316N151_4,   A22,    64,  1,     15,     15,2,19970831,1145, 37.7355, -65.9997, 4878,15148.9,   1500.8,   4.3205,  34.9794,2,  34.9815,2,    255.3,2,  4.1966,    254.4,2,    12.09,2,    18.30,2,     0.00,2,     1.21,2,    1.647,2,    0.814,2,    0.079,2,    0.925,2,   1.8630,2,     8.78,2,   -999.0,9,  -999.00,9,   5.784,2,   -999.0,9,   -999.0,9,   -999.0,9,-999.0000,9,-999,  -999.0,    0.15,  0.0093,   0.029,   0.013
     316N151_4,   A22,    64,  1,     14,     14,2,19970831,1145, 37.7355, -65.9997, 4878,17653.0,   1751.0,   3.9559,  34.9553,2,  34.9595,2,    265.8,2,  3.8129,    263.1,2,    12.19,2,    17.85,2,     0.00,2,     1.18,2,    1.596,6,    0.785,6,    0.074,2,    0.880,2,   1.8606,2,     9.44,2,   -999.0,9,  -999.00,9,   5.824,2,   -999.0,9,   -999.0,9,   -999.0,9,-999.0000,9,-999,  -999.0,    0.15,  0.0093,   0.029,   0.012
     316N151_4,   A22,    64,  1,     13,     13,2,19970831,1145, 37.7355, -65.9997, 4878,20147.5,   2000.3,   3.7022,  34.9402,2,  34.9425,2,    269.4,2,  3.5393,    268.6,2,    12.59,2,    17.64,2,     0.00,2,     1.17,2,    1.539,2,    0.762,2,    0.079,2,    0.831,2,   1.8892,2,     8.26,2,   -999.0,9,  -999.00,9,   5.994,2,   -999.0,9,   -999.0,9,   -999.0,9,-999.0000,9,-999,  -999.0,    0.15,  0.0094,   0.030,   0.012
     316N151_4,   A22,    64,  1,     12,     12,2,19970831,1145, 37.7355, -65.9997, 4878,22660.2,   2251.3,   3.5576,  34.9399,2,  34.9439,2,    269.3,2,  3.3724,    269.0,2,    13.47,2,    17.60,2,     0.00,2,     1.17,2,    1.318,6,    0.638,6,    0.062,2, -999.000,9,-999.0000,5,  -999.00,9,   -999.0,9,  -999.00,9,-999.000,9,   -999.0,9,   -999.0,9,   -999.0,9,-999.0000,9,-999,  -999.0, -999.00,-999.0000,-999.000,-999.000
     316N151_4,   A22,    64,  1,     11,     11,2,19970831,1145, 37.7355, -65.9997, 4878,25162.6,   2501.5,   3.4666,  34.9520,2,  34.9548,2,    266.1,2,  3.2579,    266.7,2,    15.15,2,    17.81,2,     0.00,2,     1.18,2,    0.823,2,    0.412,2,    0.033,2,    0.526,2,   1.8710,2,     6.53,2,   -999.0,9,  -999.00,9,   5.974,2,   -999.0,9,   -999.0,9,   -999.0,9,-999.0000,9,-999,  -999.0,    0.15,  0.0094,   0.030,   0.011
     316N151_4,   A22,    64,  1,     10,     10,2,19970831,1145, 37.7355, -65.9997, 4878,27646.8,   2749.7,   3.2987,  34.9505,2,  34.9532,2,    265.5,2,  3.0678,    265.0,2,    16.74,2,    17.81,2,     0.00,2,     1.20,2,    0.601,2,    0.306,2,    0.024,2, -999.000,9,-999.0000,5,  -999.00,9,   -999.0,9,  -999.00,9,-999.000,9,   -999.0,9,   -999.0,9,   -999.0,9,-999.0000,9,-999,  -999.0, -999.00,-999.0000,-999.000,-999.000
     316N151_4,   A22,    64,  1,      9,      9,2,19970831,1145, 37.7355, -65.9997, 4878,30151.8,   3000.1,   3.0798,  34.9430,2,  34.9454,2,    266.5,2,  2.8273,    265.6,2,    18.41,2,    17.90,2,     0.00,2,     1.20,2,    0.520,2,    0.266,2,    0.011,2, -999.000,9,   1.8817,2,     6.47,2,   -999.0,9,  -999.00,9,   6.025,2,   -999.0,9,   -999.0,9,   -999.0,9,-999.0000,9,-999,  -999.0,    0.15,  0.0094,   0.030,-999.000
     316N151_4,   A22,    64,  1,      8,      8,2,19970831,1145, 37.7355, -65.9997, 4878,32653.5,   3250.2,   2.8266,  34.9303,2,  34.9316,2,    267.9,2,  2.5532,    267.6,2,    19.79,2,    17.77,2,     0.00,2,     1.20,2,    0.577,2,    0.292,2,    0.019,2, -999.000,9,-999.0000,5,  -999.00,9,   -999.0,9,  -999.00,9,-999.000,9,   -999.0,9,   -999.0,9,   -999.0,9,-999.0000,9,-999,  -999.0, -999.00,-999.0000,-999.000,-999.000
     316N151_4,   A22,    64,  1,      7,      7,2,19970831,1145, 37.7355, -65.9997, 4878,35165.7,   3501.4,   2.6255,  34.9190,2,  34.9199,2,    269.6,2,  2.3297,    269.5,2,    20.98,2,    17.65,2,     0.00,2,     1.19,2,    0.665,2,    0.342,2,    0.025,2, -999.000,9,   1.8756,2,     7.30,2,   -999.0,9,  -999.00,9,   6.022,2,   -999.0,9,   -999.0,9,   -999.0,9,-999.0000,9,-999,  -999.0,    0.15,  0.0094,   0.030,-999.000
     316N151_4,   A22,    64,  1,      6,      6,2,19970831,1145, 37.7355, -65.9997, 4878,37647.7,   3749.6,   2.4605,  34.9105,2,  34.9110,2,    269.2,2,  2.1417,    269.0,2,    23.94,2,    17.98,2,     0.00,2,     1.22,2,    0.573,6,    0.294,6,    0.025,2, -999.000,9,-999.0000,5,  -999.00,9,   -999.0,9,  -999.00,9,-999.000,9,   -999.0,9,   -999.0,9,   -999.0,9,-999.0000,9,-999,  -999.0, -999.00,-999.0000,-999.000,-999.000
     316N151_4,   A22,    64,  1,      5,      5,2,19970831,1145, 37.7355, -65.9997, 4878,40166.2,   4001.2,   2.3625,  34.9024,2,  34.9023,2,    269.0,2,  2.0180,    269.5,2,    25.04,2,    17.90,2,     0.00,2,     1.22,2,    0.723,2,    0.367,2,    0.040,2,    0.472,2,   1.8977,2,     6.65,2,   -999.0,9,  -999.00,9,   6.035,2,   -999.0,9,   -999.0,9,   -999.0,9,-999.0000,9,-999,  -999.0,    0.15,  0.0095,   0.030,   0.011
     316N151_4,   A22,    64,  1,      4,      4,2,19970831,1145, 37.7355, -65.9997, 4878,42661.0,   4250.7,   2.3137,  34.8977,2,  34.8982,2,    267.6,2,  1.9417,    268.5,2,    27.11,2,    18.23,2,     0.00,2,     1.24,2,    0.727,2,    0.367,2,    0.041,2, -999.000,9,-999.0000,5,  -999.00,9,   -999.0,9,  -999.00,9,-999.000,9,   -999.0,9,   -999.0,9,   -999.0,9,-999.0000,9,-999,  -999.0, -999.00,-999.0000,-999.000,-999.000
     316N151_4,   A22,    64,  1,      3,      3,2,19970831,1145, 37.7355, -65.9997, 4878,45169.9,   4501.5,   2.2918,  34.8928,2,  34.8934,2,    266.1,2,  1.8908,    266.0,2,    30.27,2,    18.67,2,     0.00,2,     1.27,2,    0.563,2,    0.288,2,    0.033,2, -999.000,9,   1.9245,2,     6.65,2,   -999.0,9,  -999.00,9,   5.940,2,   -999.0,9,   -999.0,9,   -999.0,9,-999.0000,9,-999,  -999.0,    0.15,  0.0096,   0.030,-999.000
     316N151_4,   A22,    64,  1,      2,      2,2,19970831,1145, 37.7355, -65.9997, 4878,47679.5,   4752.4,   2.2743,  34.8886,2,  34.8882,2,    263.4,2,  1.8434,    262.8,2,    34.02,2,    19.28,2,     0.00,2,     1.32,2,    0.448,2,    0.235,2,    0.024,2, -999.000,9,-999.0000,5,  -999.00,9,   -999.0,9,  -999.00,9,-999.000,9,   -999.0,9,   -999.0,9,   -999.0,9,-999.0000,9,-999,  -999.0, -999.00,-999.0000,-999.000,-999.000
     316N151_4,   A22,    64,  1,      1,      1,2,19970831,1145, 37.7355, -65.9997, 4878,50209.4,   5005.4,   2.2778,  34.8849,2,  34.8832,2,    260.7,2,  1.8152,    261.0,2,    36.39,6,    19.63,6,     0.00,6,     1.35,6,    0.380,2,    0.202,2,    0.020,2,    0.287,2,   1.8975,2,     5.64,2,   -999.0,9,  -999.00,9,   6.034,2,   -999.0,9,   -999.0,9,   -999.0,9,-999.0000,9,-999,  -999.0,    0.15,  0.0095,   0.030,   0.010