BOTTLE,20220629CCHSIOAMB
EXPOCODE,SECT_ID,STNNBR,CASTNO,SAMPNO,BTLNBR,BTLNBR_FLAG_W,DATE,TIME,LATITUDE,LONGITUDE,DEPTH,CTDRAW,CTDPRS,CTDTMP,CTDSAL,CTDSAL_FLAG_W,SALNTY,SALNTY_FLAG_W,CTDOXY,CTDOXY_FLAG_W,THETA,OXYGEN,OXYGEN_FLAG_W,SILCAT,SILCAT_FLAG_W,NITRAT,NITRAT_FLAG_W,NITRIT,NITRIT_FLAG_W,PHSPHT,PHSPHT_FLAG_W,CFC-11,CFC-11_FLAG_W,CFC-12,CFC-12_FLAG_W,CFC113,CFC113_FLAG_W,TRITUM,TRITUM_FLAG_W,HELIUM,HELIUM_FLAG_W,DELHE3,DELHE3_FLAG_W,DELC14,DELC14_FLAG_W,DELC13,DELC13_FLAG_W,NEON,NEON_FLAG_W,TCARBN,TCARBN_FLAG_W,PCO2,PCO2_FLAG_W,ALKALI,ALKALI_FLAG_W,PH,PH_FLAG_W,PH_TMP,C14ERR,DELHER,HELIER,NEONER,TRITER
,,,,,,,,,,,,,DBAR,ITS-90,PSS-78,,PSS-78,,UMOL/KG,,ITS-90,UMOL/KG,,UMOL/KG,,UMOL/KG,,UMOL/KG,,UMOL/KG,,PMOL/KG,,PMOL/KG,,PMOL/KG,,TU,,NMOL/KG,,PERCNT,,/MILLE,,/MILLE,,NMOL/KG,,UMOL/KG,,UATM,,UMOL/KG,,,,DEG C,/MILLE,PERCNT,NMOL/KG,NMOL/KG,TU
     316N151_4,   A22,    54,  1,     31,     31,2,19970828,0654, 31.5560, -65.9892, 4846,  184.8,      4.1,  27.6469,  36.3281,2,  36.3322,2,    206.2,2, 27.6459,    205.6,2,     0.47,2,     0.01,2,     0.00,2,     0.01,2,    1.726,2,    1.027,2,    0.136,2, -999.000,9,-999.0000,5,  -999.00,9,   -999.0,9,  -999.00,9,-999.000,9,   -999.0,9,    282.0,2,   -999.0,9,-999.0000,9,-999,  -999.0, -999.00,-999.0000,-999.000,-999.000
     316N151_4,   A22,    54,  1,     30,     30,2,19970828,0654, 31.5560, -65.9892, 4846,  670.9,     53.0,  21.6780,  36.6228,2,  36.6249,2,    241.5,2, 21.6675,    239.3,2,     0.38,2,     0.01,2,     0.00,2,     0.01,2,    2.296,2,    1.311,2,    0.158,2, -999.000,9,-999.0000,5,  -999.00,9,   -999.0,9,  -999.00,9,-999.000,9,   -999.0,9,   -999.0,9,   -999.0,9,-999.0000,9,-999,  -999.0, -999.00,-999.0000,-999.000,-999.000
     316N151_4,   A22,    54,  1,     29,     29,2,19970828,0654, 31.5560, -65.9892, 4846, 1139.5,     99.7,  19.3720,  36.6739,2,  36.6762,2,    211.7,2, 19.3539,    214.7,2,     0.49,2,     0.12,2,     0.10,2,     0.01,2,    2.359,2,    1.352,2,    0.137,2, -999.000,9,-999.0000,5,  -999.00,9,   -999.0,9,  -999.00,9,-999.000,9,   -999.0,9,   -999.0,9,   -999.0,9,-999.0000,9,-999,  -999.0, -999.00,-999.0000,-999.000,-999.000
     316N151_4,   A22,    54,  1,     28,     28,2,19970828,0654, 31.5560, -65.9892, 4846, 1646.9,    149.9,  18.5608,  36.5940,2,  36.5978,2,    202.3,2, 18.5343,    209.8,2,     0.89,2,     2.30,2,     0.02,2,     0.11,2,    2.407,2,    1.366,2,    0.112,2, -999.000,9,-999.0000,5,  -999.00,9,   -999.0,9,  -999.00,9,-999.000,9,   -999.0,9,   -999.0,9,   -999.0,9,-999.0000,9,-999,  -999.0, -999.00,-999.0000,-999.000,-999.000
     316N151_4,   A22,    54,  1,     27,     27,2,19970828,0654, 31.5560, -65.9892, 4846, 2158.6,    200.8,  18.3323,  36.5728,2,  36.5759,2,    206.1,2, 18.2971,    208.5,2,     1.09,2,     2.80,2,     0.01,2,     0.13,2,    2.387,2,    1.349,2,    0.084,2, -999.000,9,-999.0000,5,  -999.00,9,   -999.0,9,  -999.00,9,-999.000,9,   -999.0,9,   -999.0,9,   -999.0,9,-999.0000,9,-999,  -999.0, -999.00,-999.0000,-999.000,-999.000
     316N151_4,   A22,    54,  1,     26,     26,2,19970828,0654, 31.5560, -65.9892, 4846, 2655.8,    250.0,  18.2392,  36.5737,2,  36.5761,2,    212.0,2, 18.1954,    212.2,2,     1.10,2,     2.64,2,     0.01,2,     0.13,2,    2.410,6,    1.374,6,    0.104,2, -999.000,9,-999.0000,5,  -999.00,9,   -999.0,9,  -999.00,9,-999.000,9,   -999.0,9,   -999.0,9,   -999.0,9,-999.0000,9,-999,  -999.0, -999.00,-999.0000,-999.000,-999.000
     316N151_4,   A22,    54,  1,     25,     25,2,19970828,0654, 31.5560, -65.9892, 4846, 3180.1,    302.1,  18.1182,  36.5548,2,  36.5591,2,    215.7,2, 18.0656,    211.9,2,     1.22,2,     2.94,2,     0.01,2,     0.15,2,    2.413,2,    1.365,2,    0.096,2, -999.000,9,-999.0000,5,  -999.00,9,   -999.0,9,  -999.00,9,-999.000,9,   -999.0,9,   -999.0,9,   -999.0,9,-999.0000,9,-999,  -999.0, -999.00,-999.0000,-999.000,-999.000
     316N151_4,   A22,    54,  1,     24,     24,2,19970828,0654, 31.5560, -65.9892, 4846, 4176.4,    401.6,  17.7819,  36.5005,2,  36.5030,2,    211.9,2, 17.7125,    207.3,2,     1.42,2,     3.88,2,     0.01,2,     0.20,2,    2.383,2,    1.328,2,    0.078,2, -999.000,9,-999.0000,5,  -999.00,9,   -999.0,9,  -999.00,9,-999.000,9,   -999.0,9,   -999.0,9,   -999.0,9,-999.0000,9,-999,  -999.0, -999.00,-999.0000,-999.000,-999.000
     316N151_4,   A22,    54,  1,     23,     23,2,19970828,0654, 31.5560, -65.9892, 4846, 5156.5,    499.7,  16.9781,  36.3427,2,  36.3456,2,    196.5,2, 16.8943,    189.1,2,     2.40,2,     6.93,2,     0.01,2,     0.38,2,    2.185,2,    1.196,2,    0.039,2, -999.000,9,-999.0000,5,  -999.00,9,   -999.0,9,  -999.00,9,-999.000,9,   -999.0,9,   -999.0,9,   -999.0,9,-999.0000,9,-999,  -999.0, -999.00,-999.0000,-999.000,-999.000
     316N151_4,   A22,    54,  1,     22,     22,2,19970828,0654, 31.5560, -65.9892, 4846, 6175.5,    601.9,  15.3758,  36.0621,2,  36.0640,2,    181.7,2, 15.2812,    177.8,2,     3.96,2,    10.77,2,     0.01,2,     0.63,2,    1.946,2,    1.059,2,    0.023,2, -999.000,9,-999.0000,5,  -999.00,9,   -999.0,9,  -999.00,9,-999.000,9,   -999.0,9,   -999.0,9,   -999.0,9,-999.0000,9,-999,  -999.0, -999.00,-999.0000,-999.000,-999.000
     316N151_4,   A22,    54,  1,     21,     21,2,19970828,0654, 31.5560, -65.9892, 4846, 7129.0,    697.6,  13.5140,  35.7662,2,  35.7712,2,    168.4,2, 13.4131,    165.2,2,     6.29,2,    14.90,2,     0.00,2,     0.91,2,    1.623,2,    0.871,2,    0.029,2, -999.000,9,-999.0000,5,  -999.00,9,   -999.0,9,  -999.00,9,-999.000,9,   -999.0,9,   -999.0,9,   -999.0,9,-999.0000,9,-999,  -999.0, -999.00,-999.0000,-999.000,-999.000
     316N151_4,   A22,    54,  1,     20,     20,2,19970828,0654, 31.5560, -65.9892, 4846, 8160.7,    801.1,  11.2343,  35.4464,2,  35.4523,2,    156.3,2, 11.1310,    154.4,2,    10.08,2,    19.76,2,     0.00,2,     1.23,2,    1.191,2,    0.638,2,    0.018,2, -999.000,9,-999.0000,5,  -999.00,9,   -999.0,9,  -999.00,9,-999.000,9,   -999.0,9,   -999.0,9,   -999.0,9,-999.0000,9,-999,  -999.0, -999.00,-999.0000,-999.000,-999.000
     316N151_4,   A22,    54,  1,     19,     19,2,19970828,0654, 31.5560, -65.9892, 4846, 9154.0,    900.8,   9.3358,  35.2392,2,  35.2437,2,    155.2,2,  9.2315,    172.6,4,    13.19,2,    22.62,2,     0.00,2,     1.44,2,    0.858,2,    0.446,2,    0.016,2, -999.000,9,-999.0000,5,  -999.00,9,   -999.0,9,  -999.00,9,-999.000,9,   -999.0,9,   -999.0,9,   -999.0,9,-999.0000,9,-999,  -999.0, -999.00,-999.0000,-999.000,-999.000
     316N151_4,   A22,    54,  1,     18,     18,2,19970828,0654, 31.5560, -65.9892, 4846,10144.5,   1000.0,   7.7644,  35.1438,2,  35.1446,2,    174.9,2,  7.6596,    173.0,2,    13.78,2,    22.30,2,     0.00,2,     1.44,2,    0.902,6,    0.463,6,    0.022,2, -999.000,9,-999.0000,5,  -999.00,9,   -999.0,9,  -999.00,9,-999.000,9,   -999.0,9,   -999.0,9,   -999.0,9,-999.0000,9,-999,  -999.0, -999.00,-999.0000,-999.000,-999.000
     316N151_4,   A22,    54,  1,     17,     17,2,19970828,0654, 31.5560, -65.9892, 4846,11135.6,   1099.3,   6.4359,  35.1130,2,  35.1146,2,    197.5,2,  6.3306,    200.3,2,    13.60,2,    20.85,2,     0.00,2,     1.36,2,    0.919,2,    0.465,2,    0.025,2, -999.000,9,-999.0000,5,  -999.00,9,   -999.0,9,  -999.00,9,-999.000,9,   -999.0,9,   -999.0,9,   -999.0,9,-999.0000,9,-999,  -999.0, -999.00,-999.0000,-999.000,-999.000
     316N151_4,   A22,    54,  1,     16,     16,2,19970828,0654, 31.5560, -65.9892, 4846,13152.7,   1301.1,   5.1563,  35.0634,2,  35.0659,2,    231.9,2,  5.0423,    234.8,2,    12.55,2,    18.87,2,     0.00,2,     1.24,2,    1.275,2,    0.640,2,    0.052,2, -999.000,9,-999.0000,5,  -999.00,9,   -999.0,9,  -999.00,9,-999.000,9,   -999.0,9,   -999.0,9,   -999.0,9,-999.0000,9,-999,  -999.0, -999.00,-999.0000,-999.000,-999.000
     316N151_4,   A22,    54,  1,     15,     15,2,19970828,0654, 31.5560, -65.9892, 4846,15142.4,   1499.9,   4.4082,  35.0036,2,  35.0064,2,    251.5,2,  4.2834,    253.6,2,    12.18,2,    18.09,2,     0.00,2,     1.19,2,    1.422,2,    0.701,2,    0.065,2, -999.000,9,-999.0000,5,  -999.00,9,   -999.0,9,  -999.00,9,-999.000,9,   -999.0,9,   -999.0,9,   -999.0,9,-999.0000,9,-999,  -999.0, -999.00,-999.0000,-999.000,-999.000
     316N151_4,   A22,    54,  1,     14,     14,2,19970828,0654, 31.5560, -65.9892, 4846,17626.8,   1748.3,   3.9019,  34.9620,2,  34.9650,2,    264.5,2,  3.7599,    264.6,2,    12.48,2,    17.68,2,     0.00,2,     1.17,2,    1.370,2,    0.663,2,    0.057,2, -999.000,9,-999.0000,5,  -999.00,9,   -999.0,9,  -999.00,9,-999.000,9,   -999.0,9,   -999.0,9,   -999.0,9,-999.0000,9,-999,  -999.0, -999.00,-999.0000,-999.000,-999.000
     316N151_4,   A22,    54,  1,     13,     13,2,19970828,0654, 31.5560, -65.9892, 4846,20148.7,   2000.3,   3.6595,  34.9543,2,  34.9576,2,    265.8,2,  3.4972,    266.7,2,    13.55,2,    17.64,2,     0.00,2,     1.17,2,    1.124,2,    0.556,2,    0.055,2, -999.000,9,-999.0000,5,  -999.00,9,   -999.0,9,  -999.00,9,-999.000,9,   -999.0,9,   -999.0,9,   -999.0,9,-999.0000,9,-999,  -999.0, -999.00,-999.0000,-999.000,-999.000
     316N151_4,   A22,    54,  1,     12,     12,2,19970828,0654, 31.5560, -65.9892, 4846,22663.5,   2251.7,   3.5112,  34.9625,2,  34.9653,2,    263.5,2,  3.3266,    263.8,2,    15.59,2,    17.81,2,     0.00,2,     1.19,2,    0.654,6,    0.332,6,    0.026,2, -999.000,9,-999.0000,5,  -999.00,9,   -999.0,9,  -999.00,9,-999.000,9,   -999.0,9,   -999.0,9,   -999.0,9,-999.0000,9,-999,  -999.0, -999.00,-999.0000,-999.000,-999.000
     316N151_4,   A22,    54,  1,     11,     11,2,19970828,0654, 31.5560, -65.9892, 4846,25159.8,   2501.2,   3.2859,  34.9591,2,  34.9619,2,    260.1,2,  3.0806,    262.2,2,    18.22,2,    18.10,2,     0.00,2,     1.21,2,    0.352,2,    0.185,2,    0.013,2, -999.000,9,-999.0000,5,  -999.00,9,   -999.0,9,  -999.00,9,-999.000,9,   -999.0,9,   -999.0,9,   -999.0,9,-999.0000,9,-999,  -999.0, -999.00,-999.0000,-999.000,-999.000
     316N151_4,   A22,    54,  1,     10,     10,2,19970828,0654, 31.5560, -65.9892, 4846,27643.2,   2749.4,   3.0647,  34.9521,2,  34.9526,2,    260.3,2,  2.8384,    261.5,2,    21.33,2,    18.43,2,     0.00,2,     1.24,2,    0.161,2,    0.092,2,    0.001,2, -999.000,9,-999.0000,5,  -999.00,9,   -999.0,9,  -999.00,9,-999.000,9,   -999.0,9,   -999.0,9,   -999.0,9,-999.0000,9,-999,  -999.0, -999.00,-999.0000,-999.000,-999.000
     316N151_4,   A22,    54,  1,      9,      9,2,19970828,0654, 31.5560, -65.9892, 4846,30147.8,   2999.9,   2.8249,  34.9355,2,  34.9377,2,    264.0,2,  2.5780,    264.6,2,    21.92,2,    18.19,2,     0.00,2,     1.22,2,    0.204,2,    0.114,2,    0.004,2, -999.000,9,-999.0000,5,  -999.00,9,   -999.0,9,  -999.00,9,-999.000,9,   -999.0,9,   -999.0,9,   -999.0,9,-999.0000,9,-999,  -999.0, -999.00,-999.0000,-999.000,-999.000
     316N151_4,   A22,    54,  1,      8,      8,2,19970828,0654, 31.5560, -65.9892, 4846,32651.6,   3250.1,   2.6213,  34.9233,2,  34.9248,2,    266.0,2,  2.3527,    266.7,2,    23.09,2,    18.06,2,     0.00,2,     1.22,2,    0.274,2,    0.141,2,    0.010,2, -999.000,9,-999.0000,5,  -999.00,9,   -999.0,9,  -999.00,9,-999.000,9,   -999.0,9,   -999.0,9,   -999.0,9,-999.0000,9,-999,  -999.0, -999.00,-999.0000,-999.000,-999.000
     316N151_4,   A22,    54,  1,      7,      7,2,19970828,0654, 31.5560, -65.9892, 4846,35145.3,   3499.3,   2.4335,  34.9106,2,  34.9088,2,    267.4,2,  2.1428,    267.5,2,    25.24,2,    18.15,2,     0.00,2,     1.23,2,    0.308,2,    0.164,2,    0.012,2, -999.000,9,-999.0000,5,  -999.00,9,   -999.0,9,  -999.00,9,-999.000,9,   -999.0,9,   -999.0,9,   -999.0,9,-999.0000,9,-999,  -999.0, -999.00,-999.0000,-999.000,-999.000
     316N151_4,   A22,    54,  1,      6,      6,2,19970828,0654, 31.5560, -65.9892, 4846,37658.4,   3750.6,   2.3352,  34.9031,2,  34.9012,2,    266.7,2,  2.0196,    267.4,2,    27.61,2,    18.36,6,     0.00,6,     1.24,6,    0.316,2,    0.170,2,    0.018,2, -999.000,9,-999.0000,5,  -999.00,9,   -999.0,9,  -999.00,9,-999.000,9,   -999.0,9,   -999.0,9,   -999.0,9,-999.0000,9,-999,  -999.0, -999.00,-999.0000,-999.000,-999.000
     316N151_4,   A22,    54,  1,      5,      5,2,19970828,0654, 31.5560, -65.9892, 4846,40167.1,   4001.4,   2.2696,  34.8965,2,  34.8955,2,    265.0,2,  1.9276,    266.1,2,    30.34,6,    18.73,6,     0.00,6,     1.27,6,    0.309,2,    0.164,2,    0.015,2, -999.000,9,-999.0000,5,  -999.00,9,   -999.0,9,  -999.00,9,-999.000,9,   -999.0,9,   -999.0,9,   -999.0,9,-999.0000,9,-999,  -999.0, -999.00,-999.0000,-999.000,-999.000
     316N151_4,   A22,    54,  1,      4,      4,2,19970828,0654, 31.5560, -65.9892, 4846,42680.8,   4252.6,   2.2380,  34.8903,2,  34.8911,2,    263.2,2,  1.8681,    263.5,2,    33.21,2,    19.15,2,     0.00,2,     1.30,2,    0.290,2,    0.159,2,    0.021,2, -999.000,9,-999.0000,5,  -999.00,9,   -999.0,9,  -999.00,9,-999.000,9,   -999.0,9,   -999.0,9,   -999.0,9,-999.0000,9,-999,  -999.0, -999.00,-999.0000,-999.000,-999.000
     316N151_4,   A22,    54,  1,      3,      3,2,19970828,0654, 31.5560, -65.9892, 4846,45177.4,   4502.2,   2.2256,  34.8853,2,  34.8857,2,    261.0,2,  1.8266,    261.3,2,    36.02,2,    19.61,2,     0.00,2,     1.34,2,    0.267,2,    0.147,2,    0.020,2, -999.000,9,-999.0000,5,  -999.00,9,   -999.0,9,  -999.00,9,-999.000,9,   -999.0,9,   -999.0,9,   -999.0,9,-999.0000,9,-999,  -999.0, -999.00,-999.0000,-999.000,-999.000
     316N151_4,   A22,    54,  1,      2,      2,2,19970828,0654, 31.5560, -65.9892, 4846,47673.5,   4751.6,   2.2241,  34.8817,2,  34.8830,2,    259.4,2,  1.7949,    259.6,2,    38.27,2,    19.94,2,     0.00,2,     1.36,2,    0.212,6,    0.119,6,    0.018,2, -999.000,9,-999.0000,5,  -999.00,9,   -999.0,9,  -999.00,9,-999.000,9,   -999.0,9,   -999.0,9,   -999.0,9,-999.0000,9,-999,  -999.0, -999.00,-999.0000,-999.000,-999.000
     316N151_4,   A22,    54,  1,      1,      1,2,19970828,0654, 31.5560, -65.9892, 4846,49943.3,   4978.5,   2.2333,  34.8799,2,  34.8755,2,    256.7,2,  1.7756,    258.8,2,    39.77,6,    20.20,6,     0.00,6,     1.38,6,    0.182,2,    0.110,2,    0.016,2, -999.000,9,-999.0000,5,  -999.00,9,   -999.0,9,  -999.00,9,-999.000,9,   -999.0,9,   -999.0,9,   -999.0,9,-999.0000,9,-999,  -999.0, -999.00,-999.0000,-999.000,-999.000