BOTTLE,20220629CCHSIOAMB
EXPOCODE,SECT_ID,STNNBR,CASTNO,SAMPNO,BTLNBR,BTLNBR_FLAG_W,DATE,TIME,LATITUDE,LONGITUDE,DEPTH,CTDRAW,CTDPRS,CTDTMP,CTDSAL,CTDSAL_FLAG_W,SALNTY,SALNTY_FLAG_W,CTDOXY,CTDOXY_FLAG_W,THETA,OXYGEN,OXYGEN_FLAG_W,SILCAT,SILCAT_FLAG_W,NITRAT,NITRAT_FLAG_W,NITRIT,NITRIT_FLAG_W,PHSPHT,PHSPHT_FLAG_W,CFC-11,CFC-11_FLAG_W,CFC-12,CFC-12_FLAG_W,CFC113,CFC113_FLAG_W,TRITUM,TRITUM_FLAG_W,HELIUM,HELIUM_FLAG_W,DELHE3,DELHE3_FLAG_W,DELC14,DELC14_FLAG_W,DELC13,DELC13_FLAG_W,NEON,NEON_FLAG_W,TCARBN,TCARBN_FLAG_W,PCO2,PCO2_FLAG_W,ALKALI,ALKALI_FLAG_W,PH,PH_FLAG_W,PH_TMP,C14ERR,DELHER,HELIER,NEONER,TRITER
,,,,,,,,,,,,,DBAR,ITS-90,PSS-78,,PSS-78,,UMOL/KG,,ITS-90,UMOL/KG,,UMOL/KG,,UMOL/KG,,UMOL/KG,,UMOL/KG,,PMOL/KG,,PMOL/KG,,PMOL/KG,,TU,,NMOL/KG,,PERCNT,,/MILLE,,/MILLE,,NMOL/KG,,UMOL/KG,,UATM,,UMOL/KG,,,,DEG C,/MILLE,PERCNT,NMOL/KG,NMOL/KG,TU
     316N151_4,   A22,    17,  1,     32,     32,2,19970819,2204, 17.3637, -65.9962, 4535,  203.7,      3.3,  28.8256,  35.2890,2,  35.2935,2,    200.1,2, 28.8249,    215.2,2,     1.77,2,     0.05,2,     0.00,2,     0.01,2, -999.000,9, -999.000,9, -999.000,9, -999.000,9,-999.0000,5,  -999.00,9,   -999.0,9,  -999.00,9,-999.000,9,   -999.0,9,    258.0,2,   2317.9,2,   8.1210,2,25,  -999.0, -999.00,-999.0000,-999.000,-999.000
     316N151_4,   A22,    17,  1,     31,     31,2,19970819,2204, 17.3637, -65.9962, 4535,  703.0,     53.3,  28.7643,  35.5512,2,  35.5788,2,    206.2,2, 28.7514,    211.6,2,     1.39,2,     0.01,2,     0.00,2,     0.01,2, -999.000,9, -999.000,9, -999.000,9, -999.000,9,-999.0000,5,  -999.00,9,   -999.0,9,  -999.00,9,-999.000,9,   -999.0,9,   -999.0,9,   -999.0,9,-999.0000,9,-999,  -999.0, -999.00,-999.0000,-999.000,-999.000
     316N151_4,   A22,    17,  1,     30,     30,2,19970819,2204, 17.3637, -65.9962, 4535, 1175.0,    100.8,  25.5928,  36.4728,2,  36.4746,2,    186.4,2, 25.5705,    189.4,2,     1.20,2,     1.21,2,     0.07,2,     0.10,2, -999.000,9, -999.000,9, -999.000,9, -999.000,9,-999.0000,5,  -999.00,9,   -999.0,9,  -999.00,9,-999.000,9,   -999.0,9,   -999.0,9,   -999.0,9,-999.0000,9,-999,  -999.0, -999.00,-999.0000,-999.000,-999.000
     316N151_4,   A22,    17,  1,     29,     29,2,19970819,2204, 17.3637, -65.9962, 4535, 1670.6,    150.6,  23.4416,  37.0011,2,  36.9479,2,    179.2,2, 23.4101,    180.7,2,     1.31,2,     2.88,2,     0.03,2,     0.21,2, -999.000,9, -999.000,9, -999.000,9, -999.000,9,-999.0000,5,  -999.00,9,   -999.0,9,  -999.00,9,-999.000,9,   -999.0,9,   -999.0,9,   -999.0,9,-999.0000,9,-999,  -999.0, -999.00,-999.0000,-999.000,-999.000
     316N151_4,   A22,    17,  1,     28,     28,2,19970819,2204, 17.3637, -65.9962, 4535, 2184.5,    202.3,  20.9450,  36.8875,2,  36.8901,2,    164.2,2, 20.9059,    163.7,2,     1.72,2,     5.06,2,     0.02,2,     0.30,2, -999.000,9, -999.000,9, -999.000,9, -999.000,9,-999.0000,5,  -999.00,9,   -999.0,9,  -999.00,9,-999.000,9,   -999.0,9,   -999.0,9,   -999.0,9,-999.0000,9,-999,  -999.0, -999.00,-999.0000,-999.000,-999.000
     316N151_4,   A22,    17,  1,     27,     27,2,19970819,2204, 17.3637, -65.9962, 4535, 2671.3,    251.3,  18.9100,  36.6416,2,  36.6435,2,    164.3,2, 18.8648,    161.5,2,     2.23,2,     7.19,2,     0.01,2,     0.40,2, -999.000,9, -999.000,9, -999.000,9, -999.000,9,-999.0000,5,  -999.00,9,   -999.0,9,  -999.00,9,-999.000,9,   -999.0,9,   -999.0,9,   -999.0,9,-999.0000,9,-999,  -999.0, -999.00,-999.0000,-999.000,-999.000
     316N151_4,   A22,    17,  1,     26,     26,2,19970819,2204, 17.3637, -65.9962, 4535, 3159.1,    300.3,  16.9861,  36.3139,2,  36.3162,2,    155.4,2, 16.9359,    155.2,2,     3.54,2,    10.99,2,     0.01,2,     0.65,2, -999.000,9, -999.000,9, -999.000,9, -999.000,9,-999.0000,5,  -999.00,9,   -999.0,9,  -999.00,9,-999.000,9,   -999.0,9,   -999.0,9,   -999.0,9,-999.0000,9,-999,  -999.0, -999.00,-999.0000,-999.000,-999.000
     316N151_4,   A22,    17,  1,     25,     25,2,19970819,2204, 17.3637, -65.9962, 4535, 4160.2,    400.9,  14.2297,  35.8227,2,  35.8231,2,    137.0,2, 14.1703,    133.7,2,     6.74,2,    17.46,2,     0.01,2,     1.06,2, -999.000,9, -999.000,9, -999.000,9, -999.000,9,-999.0000,5,  -999.00,9,   -999.0,9,  -999.00,9,-999.000,9,   -999.0,9,   -999.0,9,   -999.0,9,-999.0000,9,-999,  -999.0, -999.00,-999.0000,-999.000,-999.000
     316N151_4,   A22,    17,  1,     24,     24,2,19970819,2204, 17.3637, -65.9962, 4535, 5140.6,    499.6,  12.2877,  35.5742,2,  35.5764,2,    138.9,2, 12.2203,    140.2,2,     8.45,2,    19.79,2,     0.01,2,     1.22,2, -999.000,9, -999.000,9, -999.000,9, -999.000,9,-999.0000,5,  -999.00,9,   -999.0,9,  -999.00,9,-999.000,9,   -999.0,9,   -999.0,9,   -999.0,9,-999.0000,9,-999,  -999.0, -999.00,-999.0000,-999.000,-999.000
     316N151_4,   A22,    17,  1,     23,     23,2,19970819,2204, 17.3637, -65.9962, 4535, 6143.2,    600.2,   9.4768,  35.1719,2,  35.1707,2,    133.2,2,  9.4078,    130.1,2,    14.86,2,    26.31,2,     0.00,2,     1.68,2, -999.000,9, -999.000,9, -999.000,9, -999.000,9,-999.0000,5,  -999.00,9,   -999.0,9,  -999.00,9,-999.000,9,   -999.0,9,   -999.0,9,   -999.0,9,-999.0000,9,-999,  -999.0, -999.00,-999.0000,-999.000,-999.000
     316N151_4,   A22,    17,  1,     22,     22,2,19970819,2204, 17.3637, -65.9962, 4535, 7140.4,    700.1,   8.0046,  35.0091,2,  35.0052,2,    133.0,2,  7.9314,    131.4,2,    18.66,2,    28.85,2,     0.00,2,     1.87,2, -999.000,9, -999.000,9, -999.000,9, -999.000,9,-999.0000,5,  -999.00,9,   -999.0,9,  -999.00,9,-999.000,9,   -999.0,9,   -999.0,9,   -999.0,9,-999.0000,9,-999,  -999.0, -999.00,-999.0000,-999.000,-999.000
     316N151_4,   A22,    17,  1,     21,     21,2,19970819,2204, 17.3637, -65.9962, 4535, 8153.5,    801.4,   6.8622,  34.9270,2,  34.9279,2,    142.7,2,  6.7847,    140.5,2,    21.17,2,    29.47,2,     0.00,2,     1.93,2, -999.000,9, -999.000,9, -999.000,9, -999.000,9,-999.0000,5,  -999.00,9,   -999.0,9,  -999.00,9,-999.000,9,   -999.0,9,   -999.0,9,   -999.0,9,-999.0000,9,-999,  -999.0, -999.00,-999.0000,-999.000,-999.000
     316N151_4,   A22,    17,  1,     20,     20,2,19970819,2204, 17.3637, -65.9962, 4535, 9150.0,    901.2,   6.2154,  34.9296,2,  34.9312,2,    158.1,2,  6.1321,    158.2,2,    21.58,2,    27.92,2,     0.00,2,     1.85,2, -999.000,9, -999.000,9, -999.000,9, -999.000,9,-999.0000,5,  -999.00,9,   -999.0,9,  -999.00,9,-999.000,9,   -999.0,9,   -999.0,9,   -999.0,9,-999.0000,9,-999,  -999.0, -999.00,-999.0000,-999.000,-999.000
     316N151_4,   A22,    17,  1,     19,     19,2,19970819,2204, 17.3637, -65.9962, 4535,10146.1,   1001.0,   5.5762,  34.9853,2,  34.9900,2,    186.0,2,  5.4877,    188.3,2,    19.90,2,    24.48,2,     0.00,2,     1.63,2, -999.000,9, -999.000,9, -999.000,9, -999.000,9,-999.0000,5,  -999.00,9,   -999.0,9,  -999.00,9,-999.000,9,   -999.0,9,   -999.0,9,   -999.0,9,-999.0000,9,-999,  -999.0, -999.00,-999.0000,-999.000,-999.000
     316N151_4,   A22,    17,  1,     18,     18,2,19970819,2204, 17.3637, -65.9962, 4535,11141.0,   1100.4,   4.9098,  34.9649,2,  34.9633,2,    195.9,2,  4.8172,    196.6,2,    23.50,2,    24.19,2,     0.00,2,     1.63,2, -999.000,9, -999.000,9, -999.000,9, -999.000,9,-999.0000,5,  -999.00,9,   -999.0,9,  -999.00,9,-999.000,9,   -999.0,9,   -999.0,9,   -999.0,9,-999.0000,9,-999,  -999.0, -999.00,-999.0000,-999.000,-999.000
     316N151_4,   A22,    17,  1,     17,     17,2,19970819,2204, 17.3637, -65.9962, 4535,13134.2,   1299.8,   4.4016,  34.9693,2,  34.9670,2,    209.5,2,  4.2955,    209.3,2,    24.92,2,    23.05,2,     0.00,2,     1.56,2, -999.000,9, -999.000,9, -999.000,9, -999.000,9,-999.0000,5,  -999.00,9,   -999.0,9,  -999.00,9,-999.000,9,   -999.0,9,   -999.0,9,   -999.0,9,-999.0000,9,-999,  -999.0, -999.00,-999.0000,-999.000,-999.000
     316N151_4,   A22,    17,  1,     16,     16,2,19970819,2204, 17.3637, -65.9962, 4535,15128.9,   1499.2,   4.2451,  34.9728,2,  34.9717,2,    212.2,2,  4.1222,    213.8,2,    25.52,2,    22.56,2,     0.00,2,     1.54,2, -999.000,9, -999.000,9, -999.000,9, -999.000,9,-999.0000,5,  -999.00,9,   -999.0,9,  -999.00,9,-999.000,9,   -999.0,9,   -999.0,9,   -999.0,9,-999.0000,9,-999,  -999.0, -999.00,-999.0000,-999.000,-999.000
     316N151_4,   A22,    17,  1,     15,     15,2,19970819,2204, 17.3637, -65.9962, 4535,16642.4,   1650.4,   4.1658,  34.9710,2,  34.9704,2,    212.3,2,  4.0296,    211.6,2,    27.44,2,    22.78,2,     0.00,2,     1.55,2, -999.000,9, -999.000,9, -999.000,9, -999.000,9,-999.0000,5,  -999.00,9,   -999.0,9,  -999.00,9,-999.000,9,   -999.0,9,   -999.0,9,   -999.0,9,-999.0000,9,-999,  -999.0, -999.00,-999.0000,-999.000,-999.000
     316N151_4,   A22,    17,  1,     14,     14,2,19970819,2204, 17.3637, -65.9962, 4535,18153.8,   1801.6,   4.1365,  34.9736,2,  34.9741,2,    214.8,2,  3.9863,    215.0,2,    27.05,2,    22.49,2,     0.00,2,     1.53,2, -999.000,9, -999.000,9, -999.000,9, -999.000,9,-999.0000,5,  -999.00,9,   -999.0,9,  -999.00,9,-999.000,9,   -999.0,9,   -999.0,9,   -999.0,9,-999.0000,9,-999,  -999.0, -999.00,-999.0000,-999.000,-999.000
     316N151_4,   A22,    17,  1,     13,     13,2,19970819,2204, 17.3637, -65.9962, 4535,19642.8,   1950.4,   4.1131,  34.9742,2,  34.9745,2,    215.7,2,  3.9488,    215.7,2,    27.47,2,    22.41,2,     0.00,2,     1.53,2, -999.000,9, -999.000,9, -999.000,9, -999.000,9,-999.0000,5,  -999.00,9,   -999.0,9,  -999.00,9,-999.000,9,   -999.0,9,   -999.0,9,   -999.0,9,-999.0000,9,-999,  -999.0, -999.00,-999.0000,-999.000,-999.000
     316N151_4,   A22,    17,  1,     12,     12,2,19970819,2204, 17.3637, -65.9962, 4535,21155.1,   2101.5,   4.1017,  34.9745,2,  34.9762,2,    215.8,2,  3.9227,    216.0,2,    27.78,2,    22.37,2,     0.00,2,     1.52,2, -999.000,9, -999.000,9, -999.000,9, -999.000,9,-999.0000,5,  -999.00,9,   -999.0,9,  -999.00,9,-999.000,9,   -999.0,9,   -999.0,9,   -999.0,9,-999.0000,9,-999,  -999.0, -999.00,-999.0000,-999.000,-999.000
     316N151_4,   A22,    17,  1,     11,     11,2,19970819,2204, 17.3637, -65.9962, 4535,22656.4,   2251.6,   4.0989,  34.9743,2,  34.9769,2,    216.6,2,  3.9047,    215.6,2,    27.98,2,    22.38,2,     0.00,2,     1.52,2, -999.000,9, -999.000,9, -999.000,9, -999.000,9,-999.0000,5,  -999.00,9,   -999.0,9,  -999.00,9,-999.000,9,   -999.0,9,   -999.0,9,   -999.0,9,-999.0000,9,-999,  -999.0, -999.00,-999.0000,-999.000,-999.000
     316N151_4,   A22,    17,  1,     10,     10,2,19970819,2204, 17.3637, -65.9962, 4535,25166.6,   2502.4,   4.1112,  34.9756,2,  34.9763,2,    216.7,2,  3.8907,    216.5,2,    28.30,2,    22.34,2,     0.00,2,     1.52,2, -999.000,9, -999.000,9, -999.000,9, -999.000,9,-999.0000,5,  -999.00,9,   -999.0,9,  -999.00,9,-999.000,9,   -999.0,9,   -999.0,9,   -999.0,9,-999.0000,9,-999,  -999.0, -999.00,-999.0000,-999.000,-999.000
     316N151_4,   A22,    17,  1,      9,      9,2,19970819,2204, 17.3637, -65.9962, 4535,27647.5,   2750.4,   4.1286,  34.9752,2,  34.9767,2,    216.4,2,  3.8812,    215.5,2,    28.51,2,    22.34,2,     0.00,2,     1.52,2, -999.000,9, -999.000,9, -999.000,9, -999.000,9,-999.0000,5,  -999.00,9,   -999.0,9,  -999.00,9,-999.000,9,   -999.0,9,   -999.0,9,   -999.0,9,-999.0000,9,-999,  -999.0, -999.00,-999.0000,-999.000,-999.000
     316N151_4,   A22,    17,  1,      8,      8,2,19970819,2204, 17.3637, -65.9962, 4535,30151.0,   3000.6,   4.1502,  34.9759,2,  34.9772,2,    216.3,2,  3.8746,    216.1,2,    28.63,2,    22.34,2,     0.00,2,     1.52,2, -999.000,9, -999.000,9, -999.000,9, -999.000,9,-999.0000,5,  -999.00,9,   -999.0,9,  -999.00,9,-999.000,9,   -999.0,9,   -999.0,9,   -999.0,9,-999.0000,9,-999,  -999.0, -999.00,-999.0000,-999.000,-999.000
     316N151_4,   A22,    17,  1,      7,      7,2,19970819,2204, 17.3637, -65.9962, 4535,32635.7,   3248.9,   4.1757,  34.9760,2,  34.9772,2,    216.5,2,  3.8713,    216.4,2,    28.73,2,    22.30,2,     0.00,2,     1.52,2, -999.000,9, -999.000,9, -999.000,9, -999.000,9,-999.0000,5,  -999.00,9,   -999.0,9,  -999.00,9,-999.000,9,   -999.0,9,   -999.0,9,   -999.0,9,-999.0000,9,-999,  -999.0, -999.00,-999.0000,-999.000,-999.000
     316N151_4,   A22,    17,  1,      6,      6,2,19970819,2204, 17.3637, -65.9962, 4535,35148.3,   3500.0,   4.2029,  34.9761,2,  34.9760,2,    216.7,2,  3.8684,    216.6,2,    28.75,2,    22.30,2,     0.00,2,     1.52,2, -999.000,9, -999.000,9, -999.000,9, -999.000,9,-999.0000,5,  -999.00,9,   -999.0,9,  -999.00,9,-999.000,9,   -999.0,9,   -999.0,9,   -999.0,9,-999.0000,9,-999,  -999.0, -999.00,-999.0000,-999.000,-999.000
     316N151_4,   A22,    17,  1,      5,      5,2,19970819,2204, 17.3637, -65.9962, 4535,37639.5,   3749.0,   4.2306,  34.9771,2,  34.9765,2,    216.8,2,  3.8654,    216.6,2,    28.86,2,    22.27,2,     0.00,2,     1.52,2, -999.000,9, -999.000,9, -999.000,9, -999.000,9,-999.0000,5,  -999.00,9,   -999.0,9,  -999.00,9,-999.000,9,   -999.0,9,   -999.0,9,   -999.0,9,-999.0000,9,-999,  -999.0, -999.00,-999.0000,-999.000,-999.000
     316N151_4,   A22,    17,  1,      4,      4,2,19970819,2204, 17.3637, -65.9962, 4535,40145.4,   3999.5,   4.2607,  34.9771,2,  34.9782,2,    217.2,2,  3.8637,    217.2,2,    28.77,2,    22.23,2,     0.00,2,     1.51,2, -999.000,9, -999.000,9, -999.000,9, -999.000,9,-999.0000,5,  -999.00,9,   -999.0,9,  -999.00,9,-999.000,9,   -999.0,9,   -999.0,9,   2343.4,6,   7.7160,6,25,  -999.0, -999.00,-999.0000,-999.000,-999.000
     316N151_4,   A22,    17,  1,      3,      3,2,19970819,2204, 17.3637, -65.9962, 4535,42667.8,   4251.6,   4.2935,  34.9785,2,  34.9780,2,    218.1,2,  3.8636,    218.6,2,    28.49,2,    22.07,2,     0.00,2,     1.50,2, -999.000,9, -999.000,9, -999.000,9, -999.000,9,-999.0000,5,  -999.00,9,   -999.0,9,  -999.00,9,-999.000,9,   -999.0,9,   -999.0,9,   -999.0,9,-999.0000,9,-999,  -999.0, -999.00,-999.0000,-999.000,-999.000
     316N151_4,   A22,    17,  1,      2,      2,2,19970819,2204, 17.3637, -65.9962, 4535,45172.9,   4502.0,   4.3283,  34.9796,2,  34.9793,2,    220.0,2,  3.8648,    221.0,2,    27.31,2,    21.78,2,     0.00,2,     1.48,2, -999.000,9, -999.000,9, -999.000,9, -999.000,9,-999.0000,5,  -999.00,9,   -999.0,9,  -999.00,9,-999.000,9,   -999.0,9,   -999.0,9,   -999.0,9,-999.0000,9,-999,  -999.0, -999.00,-999.0000,-999.000,-999.000
     316N151_4,   A22,    17,  1,      1,      1,2,19970819,2204, 17.3637, -65.9962, 4535,46595.9,   4644.3,   4.3478,  34.9789,2,  34.9793,2,    219.6,2,  3.8650,    221.7,2,    27.37,6,    21.77,6,     0.00,6,     1.48,6, -999.000,9, -999.000,9, -999.000,9, -999.000,9,-999.0000,5,  -999.00,9,   -999.0,9,  -999.00,9,-999.000,9,   -999.0,9,   -999.0,9,   -999.0,9,-999.0000,9,-999,  -999.0, -999.00,-999.0000,-999.000,-999.000