BOTTLE,20220629CCHSIOAMB
EXPOCODE,SECT_ID,STNNBR,CASTNO,SAMPNO,BTLNBR,BTLNBR_FLAG_W,DATE,TIME,LATITUDE,LONGITUDE,DEPTH,CTDRAW,CTDPRS,CTDTMP,CTDSAL,CTDSAL_FLAG_W,SALNTY,SALNTY_FLAG_W,CTDOXY,CTDOXY_FLAG_W,THETA,OXYGEN,OXYGEN_FLAG_W,SILCAT,SILCAT_FLAG_W,NITRAT,NITRAT_FLAG_W,NITRIT,NITRIT_FLAG_W,PHSPHT,PHSPHT_FLAG_W,CFC-11,CFC-11_FLAG_W,CFC-12,CFC-12_FLAG_W,CFC113,CFC113_FLAG_W,TRITUM,TRITUM_FLAG_W,HELIUM,HELIUM_FLAG_W,DELHE3,DELHE3_FLAG_W,DELC14,DELC14_FLAG_W,DELC13,DELC13_FLAG_W,NEON,NEON_FLAG_W,TCARBN,TCARBN_FLAG_W,PCO2,PCO2_FLAG_W,ALKALI,ALKALI_FLAG_W,PH,PH_FLAG_W,PH_TMP,C14ERR,DELHER,HELIER,NEONER,TRITER
,,,,,,,,,,,,,DBAR,ITS-90,PSS-78,,PSS-78,,UMOL/KG,,ITS-90,UMOL/KG,,UMOL/KG,,UMOL/KG,,UMOL/KG,,UMOL/KG,,PMOL/KG,,PMOL/KG,,PMOL/KG,,TU,,NMOL/KG,,PERCNT,,/MILLE,,/MILLE,,NMOL/KG,,UMOL/KG,,UATM,,UMOL/KG,,,,DEG C,/MILLE,PERCNT,NMOL/KG,NMOL/KG,TU
     316N151_4,   A22,    72,  1,     28,     28,2,19970902,0433, 40.2928, -66.3020, 3008,  184.5,      2.7,  23.3766,  34.2259,2,  34.2272,2,    187.4,2, 23.3761,    222.6,2,     0.42,2,     0.05,2,     0.00,2,     0.06,2,    2.109,2,    1.258,2,    0.171,2, -999.000,9,-999.0000,5,  -999.00,9,   -999.0,9,  -999.00,9,-999.000,9,   -999.0,9,   -999.0,9,   -999.0,9,-999.0000,9,-999,  -999.0, -999.00,-999.0000,-999.000,-999.000
     316N151_4,   A22,    72,  1,     27,     27,2,19970902,0433, 40.2928, -66.3020, 3008,  659.4,     50.7,  15.7835,  34.5958,2,  34.6143,2,    214.7,2, 15.7756,    223.7,2,     2.40,2,     3.34,2,     0.16,2,     0.39,2,    2.997,2,    1.629,2,    0.205,2, -999.000,9,-999.0000,5,  -999.00,9,   -999.0,9,  -999.00,9,-999.000,9,   -999.0,9,   -999.0,9,   -999.0,9,-999.0000,9,-999,  -999.0, -999.00,-999.0000,-999.000,-999.000
     316N151_4,   A22,    72,  1,     26,     26,2,19970902,0433, 40.2928, -66.3020, 3008, 1167.8,    101.8,  14.2978,  35.5526,2,  35.5669,2,    174.3,2, 14.2828,    175.4,2,     4.77,2,    11.04,2,     0.02,2,     0.72,2,    2.269,2,    1.222,2,    0.102,2, -999.000,9,-999.0000,5,  -999.00,9,   -999.0,9,  -999.00,9,-999.000,9,   -999.0,9,   -999.0,9,   -999.0,9,-999.0000,9,-999,  -999.0, -999.00,-999.0000,-999.000,-999.000
     316N151_4,   A22,    72,  1,     25,     25,2,19970902,0433, 40.2928, -66.3020, 3008, 1665.5,    151.8,  12.9638,  35.6344,2,  35.6334,2,    147.3,2, 12.9428,    147.4,2,     8.04,2,    17.59,2,     0.01,2,     1.09,2,    1.434,2,    0.772,2,    0.042,2, -999.000,9,-999.0000,5,  -999.00,9,   -999.0,9,  -999.00,9,-999.000,9,   -999.0,9,   -999.0,9,   -999.0,9,-999.0000,9,-999,  -999.0, -999.00,-999.0000,-999.000,-999.000
     316N151_4,   A22,    72,  1,     24,     24,2,19970902,0433, 40.2928, -66.3020, 3008, 2138.8,    199.5,  11.6598,  35.4726,2,  35.4705,2,    137.8,2, 11.6342,    139.1,2,    10.22,2,    20.80,2,     0.01,2,     1.30,2,    1.105,2,    0.595,2,    0.025,2, -999.000,9,-999.0000,5,  -999.00,9,   -999.0,9,  -999.00,9,-999.000,9,   -999.0,9,   -999.0,9,   -999.0,9,-999.0000,9,-999,  -999.0, -999.00,-999.0000,-999.000,-999.000
     316N151_4,   A22,    72,  1,     23,     23,2,19970902,0433, 40.2928, -66.3020, 3008, 2654.0,    251.2,  10.2281,  35.3302,2,  35.3296,2,    147.0,2, 10.1984,    149.7,2,    11.81,2,    21.69,2,     0.01,2,     1.37,2,    1.055,2,    0.560,2,    0.035,2, -999.000,9,-999.0000,5,  -999.00,9,   -999.0,9,  -999.00,9,-999.000,9,   -999.0,9,   -999.0,9,   -999.0,9,-999.0000,9,-999,  -999.0, -999.00,-999.0000,-999.000,-999.000
     316N151_4,   A22,    72,  1,     22,     22,2,19970902,0433, 40.2928, -66.3020, 3008, 3159.0,    302.0,   8.7819,  35.1516,2,  35.1511,2,    147.2,2,  8.7493,    143.3,2,    14.78,2,    24.79,2,     0.00,2,     1.58,2,    0.725,2,    0.385,2,    0.020,2, -999.000,9,-999.0000,5,  -999.00,9,   -999.0,9,  -999.00,9,-999.000,9,   -999.0,9,   -999.0,9,   -999.0,9,-999.0000,9,-999,  -999.0, -999.00,-999.0000,-999.000,-999.000
     316N151_4,   A22,    72,  1,     21,     21,2,19970902,0433, 40.2928, -66.3020, 3008, 4137.1,    400.0,   7.2885,  35.0937,2,  35.0936,2,    174.1,2,  7.2495,    174.0,2,    14.09,2,    22.83,2,     0.00,2,     1.48,2,    0.944,2,    0.486,2,    0.037,2, -999.000,9,-999.0000,5,  -999.00,9,   -999.0,9,  -999.00,9,-999.000,9,   -999.0,9,   -999.0,9,   -999.0,9,-999.0000,9,-999,  -999.0, -999.00,-999.0000,-999.000,-999.000
     316N151_4,   A22,    72,  1,     20,     20,2,19970902,0433, 40.2928, -66.3020, 3008, 5143.7,    500.8,   6.0059,  35.0466,2,  35.0479,2,    208.1,2,  5.9617,    203.4,2,    13.49,2,    21.00,2,     0.00,2,     1.38,2,    1.231,2,    0.633,2,    0.056,2, -999.000,9,-999.0000,5,  -999.00,9,   -999.0,9,  -999.00,9,-999.000,9,   -999.0,9,   -999.0,9,   -999.0,9,-999.0000,9,-999,  -999.0, -999.00,-999.0000,-999.000,-999.000
     316N151_4,   A22,    72,  1,     19,     19,2,19970902,0433, 40.2928, -66.3020, 3008, 6128.9,    599.2,   5.1785,  35.0254,2,  35.0250,2,    224.0,2,  5.1290,    228.4,2,    12.60,2,    19.50,2,     0.00,2,     1.28,2,    1.532,2,    0.767,2,    0.079,2, -999.000,9,-999.0000,5,  -999.00,9,   -999.0,9,  -999.00,9,-999.000,9,   -999.0,9,   -999.0,9,   -999.0,9,-999.0000,9,-999,  -999.0, -999.00,-999.0000,-999.000,-999.000
     316N151_4,   A22,    72,  1,     18,     18,2,19970902,0433, 40.2928, -66.3020, 3008, 7134.3,    699.8,   5.0280,  35.0464,2,  35.0472,2,    235.0,2,  4.9704,    234.8,2,    12.31,2,    19.05,2,     0.00,2,     1.25,2,    1.347,2,    0.673,2,    0.063,2, -999.000,9,-999.0000,5,  -999.00,9,   -999.0,9,  -999.00,9,-999.000,9,   -999.0,9,   -999.0,9,   -999.0,9,-999.0000,9,-999,  -999.0, -999.00,-999.0000,-999.000,-999.000
     316N151_4,   A22,    72,  1,     17,     17,2,19970902,0433, 40.2928, -66.3020, 3008, 8146.8,    801.0,   4.5625,  35.0038,2,  35.0033,2,    251.1,2,  4.4989,    246.4,2,    12.12,2,    18.60,2,     0.00,2,     1.23,2,    1.551,2,    0.767,2,    0.076,2, -999.000,9,-999.0000,5,  -999.00,9,   -999.0,9,  -999.00,9,-999.000,9,   -999.0,9,   -999.0,9,   -999.0,9,-999.0000,9,-999,  -999.0, -999.00,-999.0000,-999.000,-999.000
     316N151_4,   A22,    72,  1,     16,     16,2,19970902,0433, 40.2928, -66.3020, 3008, 9151.2,    901.4,   4.3519,  34.9891,2,  34.9883,2,    252.2,2,  4.2812,    252.6,2,    12.02,2,    18.31,2,     0.00,2,     1.21,2,    1.560,2,    0.767,2,    0.076,2, -999.000,9,-999.0000,5,  -999.00,9,   -999.0,9,  -999.00,9,-999.000,9,   -999.0,9,   -999.0,9,   -999.0,9,-999.0000,9,-999,  -999.0, -999.00,-999.0000,-999.000,-999.000
     316N151_4,   A22,    72,  1,     15,     15,2,19970902,0433, 40.2928, -66.3020, 3008,10140.5,   1000.3,   4.1702,  34.9766,2,  34.9749,2,    257.0,2,  4.0924,    256.9,2,    11.92,2,    18.10,2,     0.00,2,     1.20,2,    1.555,2,    0.768,2,    0.072,2, -999.000,9,-999.0000,5,  -999.00,9,   -999.0,9,  -999.00,9,-999.000,9,   -999.0,9,   -999.0,9,   -999.0,9,-999.0000,9,-999,  -999.0, -999.00,-999.0000,-999.000,-999.000
     316N151_4,   A22,    72,  1,     14,     14,2,19970902,0433, 40.2928, -66.3020, 3008,11124.7,   1098.7,   3.9723,  34.9580,2,  34.9563,2,    260.2,2,  3.8878,    262.4,2,    11.82,2,    17.86,2,     0.00,2,     1.18,2,    1.728,2,    0.856,2,    0.093,2, -999.000,9,-999.0000,5,  -999.00,9,   -999.0,9,  -999.00,9,-999.000,9,   -999.0,9,   -999.0,9,   -999.0,9,-999.0000,9,-999,  -999.0, -999.00,-999.0000,-999.000,-999.000
     316N151_4,   A22,    72,  1,     13,     13,2,19970902,0433, 40.2928, -66.3020, 3008,12624.2,   1248.7,   3.7107,  34.9313,2,  34.9317,2,    268.4,2,  3.6158,    269.1,2,    11.73,2,    17.57,2,     0.00,2,     1.16,2,    2.033,6,    1.004,6,    0.115,2, -999.000,9,-999.0000,5,  -999.00,9,   -999.0,9,  -999.00,9,-999.000,9,   -999.0,9,   -999.0,9,   -999.0,9,-999.0000,9,-999,  -999.0, -999.00,-999.0000,-999.000,-999.000
     316N151_4,   A22,    72,  1,     12,     12,2,19970902,0433, 40.2928, -66.3020, 3008,14131.3,   1399.3,   3.5698,  34.9235,2,  34.9229,2,    271.5,2,  3.4634,    272.9,2,    12.02,2,    17.45,2,     0.00,2,     1.16,2,    1.986,2,    0.971,2,    0.116,2, -999.000,9,-999.0000,5,  -999.00,9,   -999.0,9,  -999.00,9,-999.000,9,   -999.0,9,   -999.0,9,   -999.0,9,-999.0000,9,-999,  -999.0, -999.00,-999.0000,-999.000,-999.000
     316N151_4,   A22,    72,  1,     11,     11,2,19970902,0433, 40.2928, -66.3020, 3008,15631.9,   1549.2,   3.5085,  34.9237,2,  34.9233,2,    273.2,2,  3.3896,    273.2,2,    12.22,2,    17.41,2,     0.00,2,     1.16,2,    1.909,2,    0.919,2,    0.105,2, -999.000,9,-999.0000,5,  -999.00,9,   -999.0,9,  -999.00,9,-999.000,9,   -999.0,9,   -999.0,9,   -999.0,9,-999.0000,9,-999,  -999.0, -999.00,-999.0000,-999.000,-999.000
     316N151_4,   A22,    72,  1,     10,     10,2,19970902,0433, 40.2928, -66.3020, 3008,17156.2,   1701.5,   3.4224,  34.9220,2,  34.9219,2,    273.7,2,  3.2910,    273.6,2,    12.52,2,    17.40,2,     0.00,2,     1.16,2,    1.841,2,    0.889,2,    0.101,2, -999.000,9,-999.0000,5,  -999.00,9,   -999.0,9,  -999.00,9,-999.000,9,   -999.0,9,   -999.0,9,   -999.0,9,-999.0000,9,-999,  -999.0, -999.00,-999.0000,-999.000,-999.000
     316N151_4,   A22,    72,  1,      9,      9,2,19970902,0433, 40.2928, -66.3020, 3008,18617.8,   1847.7,   3.3533,  34.9237,2,  34.9250,2,    273.0,2,  3.2096,    273.5,2,    13.11,2,    17.36,2,     0.00,2,     1.16,2,    1.705,2,    0.831,2,    0.091,2, -999.000,9,-999.0000,5,  -999.00,9,   -999.0,9,  -999.00,9,-999.000,9,   -999.0,9,   -999.0,9,   -999.0,9,-999.0000,9,-999,  -999.0, -999.00,-999.0000,-999.000,-999.000
     316N151_4,   A22,    72,  1,      8,      8,2,19970902,0433, 40.2928, -66.3020, 3008,20134.4,   1999.3,   3.3098,  34.9299,2,  34.9303,2,    272.5,2,  3.1527,    271.8,2,    13.81,2,    17.40,2,     0.00,2,     1.16,2,    1.460,2,    0.710,2,    0.073,2, -999.000,9,-999.0000,5,  -999.00,9,   -999.0,9,  -999.00,9,-999.000,9,   -999.0,9,   -999.0,9,   -999.0,9,-999.0000,9,-999,  -999.0, -999.00,-999.0000,-999.000,-999.000
     316N151_4,   A22,    72,  1,      7,      7,2,19970902,0433, 40.2928, -66.3020, 3008,21629.8,   2148.7,   3.2169,  34.9363,2,  34.9374,2,    270.3,2,  3.0472,    269.3,2,    15.10,2,    17.47,2,     0.00,2,     1.17,2,    1.121,2,    0.555,2,    0.055,2, -999.000,9,-999.0000,5,  -999.00,9,   -999.0,9,  -999.00,9,-999.000,9,   -999.0,9,   -999.0,9,   -999.0,9,-999.0000,9,-999,  -999.0, -999.00,-999.0000,-999.000,-999.000
     316N151_4,   A22,    72,  1,      6,      6,2,19970902,0433, 40.2928, -66.3020, 3008,23146.7,   2300.5,   3.0655,  34.9349,2,  34.9357,2,    268.8,2,  2.8837,    269.4,2,    16.08,2,    17.39,2,     0.00,2,     1.17,2,    0.984,6,    0.497,6,    0.048,2, -999.000,9,-999.0000,5,  -999.00,9,   -999.0,9,  -999.00,9,-999.000,9,   -999.0,9,   -999.0,9,   -999.0,9,-999.0000,9,-999,  -999.0, -999.00,-999.0000,-999.000,-999.000
     316N151_4,   A22,    72,  1,      5,      5,2,19970902,0433, 40.2928, -66.3020, 3008,24660.4,   2451.9,   2.9505,  34.9333,2,  34.9321,2,    269.6,2,  2.7561,    270.0,2,    16.77,2,    17.35,2,     0.00,2,     1.16,2,    0.949,2,    0.466,2,    0.036,2, -999.000,9,-999.0000,5,  -999.00,9,   -999.0,9,  -999.00,9,-999.000,9,   -999.0,9,   -999.0,9,   -999.0,9,-999.0000,9,-999,  -999.0, -999.00,-999.0000,-999.000,-999.000
     316N151_4,   A22,    72,  1,      4,      4,2,19970902,0433, 40.2928, -66.3020, 3008,26175.6,   2603.4,   2.7690,  34.9243,2,  34.9233,2,    271.6,2,  2.5633,    271.9,2,    17.27,2,    17.15,2,     0.00,2,     1.16,2,    1.072,2,    0.532,2,    0.048,2, -999.000,9,-999.0000,5,  -999.00,9,   -999.0,9,  -999.00,9,-999.000,9,   -999.0,9,   -999.0,9,   -999.0,9,-999.0000,9,-999,  -999.0, -999.00,-999.0000,-999.000,-999.000
     316N151_4,   A22,    72,  1,      3,      3,2,19970902,0433, 40.2928, -66.3020, 3008,27644.6,   2750.4,   2.6231,  34.9187,2,  34.9179,2,    272.7,2,  2.4057,    273.1,2,    17.87,2,    17.02,2,     0.00,2,     1.15,2,    1.157,2,    0.570,2,    0.055,2, -999.000,9,-999.0000,5,  -999.00,9,   -999.0,9,  -999.00,9,-999.000,9,   -999.0,9,   -999.0,9,   -999.0,9,-999.0000,9,-999,  -999.0, -999.00,-999.0000,-999.000,-999.000
     316N151_4,   A22,    72,  1,      2,      2,2,19970902,0433, 40.2928, -66.3020, 3008,29154.3,   2901.5,   2.5015,  34.9128,2,  34.9103,2,    273.0,2,  2.2716,    273.5,2,    18.66,2,    16.97,2,     0.00,2,     1.15,2,    1.219,2,    0.608,2,    0.058,2, -999.000,9,-999.0000,5,  -999.00,9,   -999.0,9,  -999.00,9,-999.000,9,   -999.0,9,   -999.0,9,   -999.0,9,-999.0000,9,-999,  -999.0, -999.00,-999.0000,-999.000,-999.000
     316N151_4,   A22,    72,  1,      1,      1,2,19970902,0433, 40.2928, -66.3020, 3008,30475.2,   3033.6,   2.3942,  34.9078,2,  34.9049,2,    271.6,2,  2.1534,    274.1,2,    20.13,6,    17.05,6,     0.00,6,     1.16,6,    1.218,2,    0.606,2,    0.062,2, -999.000,9,-999.0000,5,  -999.00,9,   -999.0,9,  -999.00,9,-999.000,9,   -999.0,9,   -999.0,9,   -999.0,9,-999.0000,9,-999,  -999.0, -999.00,-999.0000,-999.000,-999.000