BOTTLE,20220629CCHSIOAMB
EXPOCODE,SECT_ID,STNNBR,CASTNO,SAMPNO,BTLNBR,BTLNBR_FLAG_W,DATE,TIME,LATITUDE,LONGITUDE,DEPTH,CTDRAW,CTDPRS,CTDTMP,CTDSAL,CTDSAL_FLAG_W,SALNTY,SALNTY_FLAG_W,CTDOXY,CTDOXY_FLAG_W,THETA,OXYGEN,OXYGEN_FLAG_W,SILCAT,SILCAT_FLAG_W,NITRAT,NITRAT_FLAG_W,NITRIT,NITRIT_FLAG_W,PHSPHT,PHSPHT_FLAG_W,CFC-11,CFC-11_FLAG_W,CFC-12,CFC-12_FLAG_W,CFC113,CFC113_FLAG_W,TRITUM,TRITUM_FLAG_W,HELIUM,HELIUM_FLAG_W,DELHE3,DELHE3_FLAG_W,DELC14,DELC14_FLAG_W,DELC13,DELC13_FLAG_W,NEON,NEON_FLAG_W,TCARBN,TCARBN_FLAG_W,PCO2,PCO2_FLAG_W,ALKALI,ALKALI_FLAG_W,PH,PH_FLAG_W,PH_TMP,C14ERR,DELHER,HELIER,NEONER,TRITER
,,,,,,,,,,,,,DBAR,ITS-90,PSS-78,,PSS-78,,UMOL/KG,,ITS-90,UMOL/KG,,UMOL/KG,,UMOL/KG,,UMOL/KG,,UMOL/KG,,PMOL/KG,,PMOL/KG,,PMOL/KG,,TU,,NMOL/KG,,PERCNT,,/MILLE,,/MILLE,,NMOL/KG,,UMOL/KG,,UATM,,UMOL/KG,,,,DEG C,/MILLE,PERCNT,NMOL/KG,NMOL/KG,TU
     316N151_4,   A22,    31,  1,     26,     26,2,19970822,0236, 18.9135, -66.0022, 2993,  219.8,      4.6,  28.7764,  36.1969,2,  36.1987,2,    180.9,2, 28.7753,    207.7,2,     1.13,2,     0.02,2,     0.00,2,     0.01,2,    1.641,2,    0.986,2,    0.115,2, -999.000,9,-999.0000,5,  -999.00,9,   -999.0,9,  -999.00,9,-999.000,9,   -999.0,9,   -999.0,9,   -999.0,9,-999.0000,9,-999,  -999.0, -999.00,-999.0000,-999.000,-999.000
     316N151_4,   A22,    31,  1,     25,     25,2,19970822,0236, 18.9135, -66.0022, 2993,  687.9,     51.6,  28.6344,  36.1853,2,  36.1891,2,    207.2,2, 28.6220,    211.1,2,     1.13,2,     0.02,2,     0.00,2,     0.01,2, -999.000,9, -999.000,9, -999.000,9, -999.000,9,-999.0000,5,  -999.00,9,   -999.0,9,  -999.00,9,-999.000,9,   -999.0,9,   -999.0,9,   -999.0,9,-999.0000,9,-999,  -999.0, -999.00,-999.0000,-999.000,-999.000
     316N151_4,   A22,    31,  1,     24,     24,2,19970822,0236, 18.9135, -66.0022, 2993, 1180.0,    101.1,  25.7082,  36.7696,2,  36.7880,2,    209.3,2, 25.6857,    207.8,2,     1.14,2,     0.07,2,     0.23,2,     0.02,2,    1.890,2,    1.106,2,    0.133,2, -999.000,9,-999.0000,5,  -999.00,9,   -999.0,9,  -999.00,9,-999.000,9,   -999.0,9,   -999.0,9,   -999.0,9,-999.0000,9,-999,  -999.0, -999.00,-999.0000,-999.000,-999.000
     316N151_4,   A22,    31,  1,     23,     23,2,19970822,0236, 18.9135, -66.0022, 2993, 1663.5,    149.8,  23.9492,  37.2094,2,  37.2183,2,    193.3,2, 23.9174,    196.6,2,     0.75,2,     0.44,2,     0.06,2,     0.03,2,    2.006,2,    1.162,2,    0.134,2, -999.000,9,-999.0000,5,  -999.00,9,   -999.0,9,  -999.00,9,-999.000,9,   -999.0,9,   -999.0,9,   -999.0,9,-999.0000,9,-999,  -999.0, -999.00,-999.0000,-999.000,-999.000
     316N151_4,   A22,    31,  1,     22,     22,2,19970822,0236, 18.9135, -66.0022, 2993, 2160.8,    199.8,  21.5443,  37.1170,2,  37.1097,2,    181.0,2, 21.5049,    182.1,2,     0.85,2,     1.78,2,     0.02,2,     0.08,2,    2.153,2,    1.223,2,    0.057,2, -999.000,9,-999.0000,5,  -999.00,9,   -999.0,9,  -999.00,9,-999.000,9,   -999.0,9,   -999.0,9,   -999.0,9,-999.0000,9,-999,  -999.0, -999.00,-999.0000,-999.000,-999.000
     316N151_4,   A22,    31,  1,     21,     21,2,19970822,0236, 18.9135, -66.0022, 2993, 2673.4,    251.3,  19.6871,  36.8396,2,  36.8351,2,    181.0,2, 19.6406,    175.7,2,     1.15,2,     3.70,2,     0.01,2,     0.16,2,    2.242,6,    1.242,6,    0.022,2, -999.000,9,-999.0000,5,  -999.00,9,   -999.0,9,  -999.00,9,-999.000,9,   -999.0,9,   -999.0,9,   -999.0,9,-999.0000,9,-999,  -999.0, -999.00,-999.0000,-999.000,-999.000
     316N151_4,   A22,    31,  1,     20,     20,2,19970822,0236, 18.9135, -66.0022, 2993, 3178.0,    302.1,  17.9625,  36.5409,2,  36.5391,2,    179.1,2, 17.9100,    176.4,2,     1.94,2,     6.58,2,     0.01,2,     0.35,2,    2.228,2,    1.214,2,    0.022,2, -999.000,9,-999.0000,5,  -999.00,9,   -999.0,9,  -999.00,9,-999.000,9,   -999.0,9,   -999.0,9,   -999.0,9,-999.0000,9,-999,  -999.0, -999.00,-999.0000,-999.000,-999.000
     316N151_4,   A22,    31,  1,     19,     19,2,19970822,0236, 18.9135, -66.0022, 2993, 4167.0,    401.5,  15.7497,  36.1559,2,  36.1541,2,    157.4,2, 15.6859,    156.3,2,     3.92,2,    12.20,2,     0.00,2,     0.71,2,    1.907,2,    1.020,2,    0.016,2, -999.000,9,-999.0000,5,  -999.00,9,   -999.0,9,  -999.00,9,-999.000,9,   -999.0,9,   -999.0,9,   -999.0,9,-999.0000,9,-999,  -999.0, -999.00,-999.0000,-999.000,-999.000
     316N151_4,   A22,    31,  1,     18,     18,2,19970822,0236, 18.9135, -66.0022, 2993, 5166.3,    501.8,  12.8739,  35.6444,2,  35.6404,2,    132.3,2, 12.8041,    131.8,2,     7.98,2,    19.72,2,     0.00,2,     1.20,2,    1.223,2,    0.651,2,    0.012,2, -999.000,9,-999.0000,5,  -999.00,9,   -999.0,9,  -999.00,9,-999.000,9,   -999.0,9,   -999.0,9,   -999.0,9,-999.0000,9,-999,  -999.0, -999.00,-999.0000,-999.000,-999.000
     316N151_4,   A22,    31,  1,     17,     17,2,19970822,0236, 18.9135, -66.0022, 2993, 6149.7,    600.5,  11.2567,  35.4569,2,  35.4431,2,    138.0,2, 11.1799,    138.1,2,    10.36,2,    21.94,2,     0.00,2,     1.35,2,    0.770,2,    0.405,2,    0.009,2, -999.000,9,-999.0000,5,  -999.00,9,   -999.0,9,  -999.00,9,-999.000,9,   -999.0,9,   -999.0,9,   -999.0,9,-999.0000,9,-999,  -999.0, -999.00,-999.0000,-999.000,-999.000
     316N151_4,   A22,    31,  1,     16,     16,2,19970822,0236, 18.9135, -66.0022, 2993, 7153.3,    701.1,   9.0743,  35.1477,2,  35.1382,2,    130.7,2,  8.9954,    130.4,2,    15.89,2,    26.81,2,     0.00,2,     1.71,2,    0.339,2,    0.183,2,    0.006,2, -999.000,9,-999.0000,5,  -999.00,9,   -999.0,9,  -999.00,9,-999.000,9,   -999.0,9,   -999.0,9,   -999.0,9,-999.0000,9,-999,  -999.0, -999.00,-999.0000,-999.000,-999.000
     316N151_4,   A22,    31,  1,     15,     15,2,19970822,0236, 18.9135, -66.0022, 2993, 8135.2,    799.5,   7.6547,  35.0122,2,  35.0108,2,    139.2,2,  7.5726,    138.3,2,    19.07,2,    28.16,2,     0.00,2,     1.83,2,    0.199,2,    0.110,2,    0.008,2, -999.000,9,-999.0000,5,  -999.00,9,   -999.0,9,  -999.00,9,-999.000,9,   -999.0,9,   -999.0,9,   -999.0,9,-999.0000,9,-999,  -999.0, -999.00,-999.0000,-999.000,-999.000
     316N151_4,   A22,    31,  1,     14,     14,2,19970822,0236, 18.9135, -66.0022, 2993, 9148.0,    900.7,   6.6027,  34.9359,2,  34.9350,2,    149.2,2,  6.5167,    147.1,2,    21.34,2,    28.72,2,     0.00,2,     1.89,2,    0.123,2,    0.066,2,    0.001,2, -999.000,9,-999.0000,5,  -999.00,9,   -999.0,9,  -999.00,9,-999.000,9,   -999.0,9,   -999.0,9,   -999.0,9,-999.0000,9,-999,  -999.0, -999.00,-999.0000,-999.000,-999.000
     316N151_4,   A22,    31,  1,     13,     13,2,19970822,0236, 18.9135, -66.0022, 2993,10150.9,   1001.1,   6.2522,  35.0268,2,  35.0253,2,    186.3,2,  6.1585,    180.9,2,    17.79,2,    24.28,2,     0.00,2,     1.60,2,    0.331,2,    0.169,2,    0.004,2, -999.000,9,-999.0000,5,  -999.00,9,   -999.0,9,  -999.00,9,-999.000,9,   -999.0,9,   -999.0,9,   -999.0,9,-999.0000,9,-999,  -999.0, -999.00,-999.0000,-999.000,-999.000
     316N151_4,   A22,    31,  1,     12,     12,2,19970822,0236, 18.9135, -66.0022, 2993,11153.7,   1101.5,   5.4370,  35.0063,2,  35.0068,2,    206.5,2,  5.3399,    199.7,2,    18.49,2,    23.01,2,     0.00,2,     1.53,2,    0.363,2,    0.181,2,    0.009,2, -999.000,9,-999.0000,5,  -999.00,9,   -999.0,9,  -999.00,9,-999.000,9,   -999.0,9,   -999.0,9,   -999.0,9,-999.0000,9,-999,  -999.0, -999.00,-999.0000,-999.000,-999.000
     316N151_4,   A22,    31,  1,     11,     11,2,19970822,0236, 18.9135, -66.0022, 2993,13154.9,   1301.6,   4.6432,  35.0206,2,  35.0201,2,    240.6,2,  4.5343,    238.2,2,    14.54,2,    19.45,2,     0.00,2,     1.29,2,    0.682,2,    0.341,2,    0.022,2, -999.000,9,-999.0000,5,  -999.00,9,   -999.0,9,  -999.00,9,-999.000,9,   -999.0,9,   -999.0,9,   -999.0,9,-999.0000,9,-999,  -999.0, -999.00,-999.0000,-999.000,-999.000
     316N151_4,   A22,    31,  1,     10,     10,2,19970822,0236, 18.9135, -66.0022, 2993,15151.0,   1501.2,   4.2646,  35.0044,2,  35.0036,2,    253.3,2,  4.1412,    252.6,2,    13.36,2,    18.46,2,     0.00,2,     1.23,2,    0.809,2,    0.403,2,    0.031,2, -999.000,9,-999.0000,5,  -999.00,9,   -999.0,9,  -999.00,9,-999.000,9,   -999.0,9,   -999.0,9,   2315.6,2,   7.7370,2,25,  -999.0, -999.00,-999.0000,-999.000,-999.000
     316N151_4,   A22,    31,  1,      9,      9,2,19970822,0236, 18.9135, -66.0022, 2993,16662.5,   1652.4,   3.9386,  34.9875,2,  34.9878,2,    259.0,2,  3.8051,    259.2,2,    13.85,2,    18.15,2,     0.00,2,     1.21,2,    0.724,6,    0.364,6,    0.024,2, -999.000,9,-999.0000,5,  -999.00,9,   -999.0,9,  -999.00,9,-999.000,9,   -999.0,9,   -999.0,9,   2315.5,2,   7.7460,2,25,  -999.0, -999.00,-999.0000,-999.000,-999.000
     316N151_4,   A22,    31,  1,      8,      8,2,19970822,0236, 18.9135, -66.0022, 2993,18148.7,   1801.0,   3.7868,  34.9797,2,  34.9806,2,    260.9,2,  3.6413,    260.8,2,    14.56,2,    18.10,2,     0.00,2,     1.21,2,    0.639,2,    0.323,2,    0.024,2, -999.000,9,-999.0000,5,  -999.00,9,   -999.0,9,  -999.00,9,-999.000,9,   -999.0,9,   -999.0,9,   2316.0,2,   7.7480,2,25,  -999.0, -999.00,-999.0000,-999.000,-999.000
     316N151_4,   A22,    31,  1,      7,      7,2,19970822,0236, 18.9135, -66.0022, 2993,20156.7,   2001.6,   3.6466,  34.9769,2,  34.9772,2,    261.2,2,  3.4842,    261.3,2,    15.65,2,    18.15,2,     0.00,2,     1.22,2,    0.483,2,    0.245,2,    0.017,2, -999.000,9,-999.0000,5,  -999.00,9,   -999.0,9,  -999.00,9,-999.000,9,   -999.0,9,   -999.0,9,   2316.8,2,   7.7470,2,25,  -999.0, -999.00,-999.0000,-999.000,-999.000
     316N151_4,   A22,    31,  1,      6,      6,2,19970822,0236, 18.9135, -66.0022, 2993,22647.5,   2250.7,   3.4464,  34.9717,2,  34.9710,2,    261.1,2,  3.2629,    261.4,2,    17.44,2,    18.27,2,     0.00,2,     1.23,2,    0.343,2,    0.178,2,    0.013,2, -999.000,9,-999.0000,5,  -999.00,9,   -999.0,9,  -999.00,9,-999.000,9,   -999.0,9,   -999.0,9,   2318.1,2,   7.7500,2,25,  -999.0, -999.00,-999.0000,-999.000,-999.000
     316N151_4,   A22,    31,  1,      5,      5,2,19970822,0236, 18.9135, -66.0022, 2993,24168.4,   2402.9,   3.3290,  34.9653,2,  34.9648,2,    261.7,2,  3.1326,    262.0,2,    18.33,2,    18.27,2,     0.00,2,     1.23,2,    0.296,2,    0.157,2,    0.014,2, -999.000,9,-999.0000,5,  -999.00,9,   -999.0,9,  -999.00,9,-999.000,9,   -999.0,9,   -999.0,9,   2319.7,2,   7.7480,2,25,  -999.0, -999.00,-999.0000,-999.000,-999.000
     316N151_4,   A22,    31,  1,      4,      4,2,19970822,0236, 18.9135, -66.0022, 2993,25691.9,   2555.4,   3.1931,  34.9590,2,  34.9593,2,    262.0,2,  2.9841,    262.1,2,    19.52,2,    18.31,2,     0.00,2,     1.24,2,    0.291,2,    0.145,2,    0.008,2, -999.000,9,-999.0000,5,  -999.00,9,   -999.0,9,  -999.00,9,-999.000,9,   -999.0,9,   -999.0,9,   2319.9,2,   7.7510,2,25,  -999.0, -999.00,-999.0000,-999.000,-999.000
     316N151_4,   A22,    31,  1,      3,      3,2,19970822,0236, 18.9135, -66.0022, 2993,27165.4,   2702.7,   3.0453,  34.9500,2,  34.9485,2,    263.7,2,  2.8242,    263.8,2,    20.22,2,    18.22,2,     0.00,2,     1.23,2,    0.319,2,    0.165,2,    0.012,2, -999.000,9,-999.0000,5,  -999.00,9,   -999.0,9,  -999.00,9,-999.000,9,   -999.0,9,   -999.0,9,   2320.0,2,   7.7480,2,25,  -999.0, -999.00,-999.0000,-999.000,-999.000
     316N151_4,   A22,    31,  1,      2,      2,2,19970822,0236, 18.9135, -66.0022, 2993,28140.1,   2800.3,   2.9895,  34.9465,2,  34.9467,2,    263.7,2,  2.7596,    263.8,2,    20.72,2,    18.22,2,     0.00,2,     1.23,2,    0.316,2,    0.165,2,    0.015,2, -999.000,9,-999.0000,5,  -999.00,9,   -999.0,9,  -999.00,9,-999.000,9,   -999.0,9,   -999.0,9,   2320.4,2,   7.7460,2,25,  -999.0, -999.00,-999.0000,-999.000,-999.000
     316N151_4,   A22,    31,  1,      1,      1,2,19970822,0236, 18.9135, -66.0022, 2993,30460.7,   3032.7,   2.8127,  34.9354,2,  34.9366,2,    262.6,2,  2.5627,    265.7,2,    21.86,6,    18.15,6,     0.00,6,     1.23,6,    0.369,6,    0.185,6,    0.014,2, -999.000,9,-999.0000,5,  -999.00,9,   -999.0,9,  -999.00,9,-999.000,9,   -999.0,9,   -999.0,9,   2321.6,2,   7.7510,2,25,  -999.0, -999.00,-999.0000,-999.000,-999.000