BOTTLE,20220629CCHSIOAMB
EXPOCODE,SECT_ID,STNNBR,CASTNO,SAMPNO,BTLNBR,BTLNBR_FLAG_W,DATE,TIME,LATITUDE,LONGITUDE,DEPTH,CTDRAW,CTDPRS,CTDTMP,CTDSAL,CTDSAL_FLAG_W,SALNTY,SALNTY_FLAG_W,CTDOXY,CTDOXY_FLAG_W,THETA,OXYGEN,OXYGEN_FLAG_W,SILCAT,SILCAT_FLAG_W,NITRAT,NITRAT_FLAG_W,NITRIT,NITRIT_FLAG_W,PHSPHT,PHSPHT_FLAG_W,CFC-11,CFC-11_FLAG_W,CFC-12,CFC-12_FLAG_W,CFC113,CFC113_FLAG_W,TRITUM,TRITUM_FLAG_W,HELIUM,HELIUM_FLAG_W,DELHE3,DELHE3_FLAG_W,DELC14,DELC14_FLAG_W,DELC13,DELC13_FLAG_W,NEON,NEON_FLAG_W,TCARBN,TCARBN_FLAG_W,PCO2,PCO2_FLAG_W,ALKALI,ALKALI_FLAG_W,PH,PH_FLAG_W,PH_TMP,C14ERR,DELHER,HELIER,NEONER,TRITER
,,,,,,,,,,,,,DBAR,ITS-90,PSS-78,,PSS-78,,UMOL/KG,,ITS-90,UMOL/KG,,UMOL/KG,,UMOL/KG,,UMOL/KG,,UMOL/KG,,PMOL/KG,,PMOL/KG,,PMOL/KG,,TU,,NMOL/KG,,PERCNT,,/MILLE,,/MILLE,,NMOL/KG,,UMOL/KG,,UATM,,UMOL/KG,,,,DEG C,/MILLE,PERCNT,NMOL/KG,NMOL/KG,TU
     316N151_4,   A22,    37,  1,     36,     36,2,19970823,0953, 20.3572, -65.9997, 5934,  248.7,      8.3,  28.7596,  36.3325,2,  36.3355,2,    208.5,2, 28.7576,    265.6,4,     0.98,2,     0.04,2,     0.00,2,     0.01,2,    1.625,2,    0.978,2,    0.126,2, -999.000,9,-999.0000,5,  -999.00,9,   -999.0,9,  -999.00,9,-999.000,9,   -999.0,9,   -999.0,9,   -999.0,9,-999.0000,9,-999,  -999.0, -999.00,-999.0000,-999.000,-999.000
     316N151_4,   A22,    37,  1,     35,     35,2,19970823,0953, 20.3572, -65.9997, 5934,  645.9,     48.4,  28.7999,  36.4040,2,  36.4080,2,    212.5,2, 28.7882,    209.0,2,     1.09,2,     0.04,2,     0.00,2,     0.01,2, -999.000,9, -999.000,9, -999.000,9, -999.000,9,-999.0000,5,  -999.00,9,   -999.0,9,  -999.00,9,-999.000,9,   -999.0,9,   -999.0,9,   -999.0,9,-999.0000,9,-999,  -999.0, -999.00,-999.0000,-999.000,-999.000
     316N151_4,   A22,    37,  1,     34,     34,2,19970823,0953, 20.3572, -65.9997, 5934, 1174.2,    101.5,  24.9088,  36.9422,2,  36.9450,2,    217.1,2, 24.8867,    220.6,2,     0.82,2,     0.04,2,     0.00,2,     0.01,2,    1.938,2,    1.129,2,    0.147,2, -999.000,9,-999.0000,5,  -999.00,9,   -999.0,9,  -999.00,9,-999.000,9,   -999.0,9,   -999.0,9,   -999.0,9,-999.0000,9,-999,  -999.0, -999.00,-999.0000,-999.000,-999.000
     316N151_4,   A22,    37,  1,     33,     33,2,19970823,0953, 20.3572, -65.9997, 5934, 1680.0,    152.2,  23.0708,  37.2210,2,  37.2203,2,    191.4,2, 23.0393,    194.0,2,     0.55,2,     0.44,2,     0.04,2,     0.02,2, -999.000,9, -999.000,9, -999.000,9, -999.000,9,-999.0000,5,  -999.00,9,   -999.0,9,  -999.00,9,-999.000,9,   -999.0,9,   -999.0,9,   -999.0,9,-999.0000,9,-999,  -999.0, -999.00,-999.0000,-999.000,-999.000
     316N151_4,   A22,    37,  1,     32,     32,2,19970823,0953, 20.3572, -65.9997, 5934, 2177.0,    201.8,  20.3895,  36.8508,2,  36.8552,2,    192.2,2, 20.3512,    190.7,2,     0.66,2,     1.10,2,     0.01,2,     0.04,2,    2.247,2,    1.269,2,    0.068,2, -999.000,9,-999.0000,5,  -999.00,9,   -999.0,9,  -999.00,9,-999.000,9,   -999.0,9,   -999.0,9,   -999.0,9,-999.0000,9,-999,  -999.0, -999.00,-999.0000,-999.000,-999.000
     316N151_4,   A22,    37,  1,     31,     31,2,19970823,0953, 20.3572, -65.9997, 5934, 2709.2,    254.8,  18.7957,  36.6459,2,  36.6469,2,    198.0,2, 18.7501,    191.5,2,     0.98,2,     3.28,2,     0.01,2,     0.14,2, -999.000,9, -999.000,9, -999.000,9, -999.000,9,-999.0000,5,  -999.00,9,   -999.0,9,  -999.00,9,-999.000,9,   -999.0,9,   -999.0,9,   -999.0,9,-999.0000,9,-999,  -999.0, -999.00,-999.0000,-999.000,-999.000
     316N151_4,   A22,    37,  1,     30,     30,2,19970823,0953, 20.3572, -65.9997, 5934, 3183.7,    302.3,  18.2557,  36.5514,2,  36.5525,2,    200.8,2, 18.2026,    211.6,2,     1.19,2,     3.63,2,     0.01,2,     0.17,2,    2.380,2,    1.318,2,    0.033,2, -999.000,9,-999.0000,5,  -999.00,9,   -999.0,9,  -999.00,9,-999.000,9,   -999.0,9,   -999.0,9,   -999.0,9,-999.0000,9,-999,  -999.0, -999.00,-999.0000,-999.000,-999.000
     316N151_4,   A22,    37,  1,     29,     29,2,19970823,0953, 20.3572, -65.9997, 5934, 4160.9,    400.4,  17.1628,  36.3800,2,  36.3851,2,    184.7,2, 17.0953,    184.8,2,     2.10,2,     7.03,2,     0.00,2,     0.38,2, -999.000,9, -999.000,9, -999.000,9, -999.000,9,-999.0000,5,  -999.00,9,   -999.0,9,  -999.00,9,-999.000,9,   -999.0,9,   -999.0,9,   -999.0,9,-999.0000,9,-999,  -999.0, -999.00,-999.0000,-999.000,-999.000
     316N151_4,   A22,    37,  1,     28,     28,2,19970823,0953, 20.3572, -65.9997, 5934, 5166.2,    501.3,  14.9485,  36.0203,2,  36.0204,2,    162.9,2, 14.8714,    164.4,2,     4.18,2,    12.57,2,     0.00,2,     0.73,2,    1.805,2,    0.953,2,    0.024,2, -999.000,9,-999.0000,5,  -999.00,9,   -999.0,9,  -999.00,9,-999.000,9,   -999.0,9,   -999.0,9,   -999.0,9,-999.0000,9,-999,  -999.0, -999.00,-999.0000,-999.000,-999.000
     316N151_4,   A22,    37,  1,     27,     27,2,19970823,0953, 20.3572, -65.9997, 5934, 6152.8,    600.4,  12.4678,  35.6119,2,  35.6128,2,    141.7,2, 12.3857,    140.4,2,     7.92,2,    19.40,2,     0.00,2,     1.17,2, -999.000,9, -999.000,9, -999.000,9, -999.000,9,-999.0000,5,  -999.00,9,   -999.0,9,  -999.00,9,-999.000,9,   -999.0,9,   -999.0,9,   -999.0,9,-999.0000,9,-999,  -999.0, -999.00,-999.0000,-999.000,-999.000
     316N151_4,   A22,    37,  1,     26,     26,2,19970823,0953, 20.3572, -65.9997, 5934, 7155.5,    701.0,  10.5071,  35.3301,2,  35.3289,2,    132.7,2, 10.4208,    133.1,2,    12.06,2,    23.84,2,     0.00,2,     1.48,2,    0.592,2,    0.319,2,    0.005,2, -999.000,9,-999.0000,5,  -999.00,9,   -999.0,9,  -999.00,9,-999.000,9,   -999.0,9,   -999.0,9,   -999.0,9,-999.0000,9,-999,  -999.0, -999.00,-999.0000,-999.000,-999.000
     316N151_4,   A22,    37,  1,     25,     25,2,19970823,0953, 20.3572, -65.9997, 5934, 8150.4,    800.7,   8.9207,  35.1301,2,  35.1287,2,    131.8,2,  8.8310,    131.6,2,    15.92,2,    26.81,2,     0.00,2,     1.71,2,    0.318,6,    0.171,6,    0.000,2, -999.000,9,-999.0000,5,  -999.00,9,   -999.0,9,  -999.00,9,-999.000,9,   -999.0,9,   -999.0,9,   -999.0,9,-999.0000,9,-999,  -999.0, -999.00,-999.0000,-999.000,-999.000
     316N151_4,   A22,    37,  1,     24,     24,2,19970823,0953, 20.3572, -65.9997, 5934, 9159.8,    901.7,   7.2406,  34.9303,2,  34.9317,2,    134.5,2,  7.1504,    132.2,2,    20.56,2,    29.82,2,     0.00,2,     1.94,2,    0.130,2,    0.072,2,   -0.001,2, -999.000,9,-999.0000,5,  -999.00,9,   -999.0,9,  -999.00,9,-999.000,9,   -999.0,9,   -999.0,9,   -999.0,9,-999.0000,9,-999,  -999.0, -999.00,-999.0000,-999.000,-999.000
     316N151_4,   A22,    37,  1,     23,     23,2,19970823,0953, 20.3572, -65.9997, 5934,10145.1,   1000.2,   6.4176,  34.8793,2,  34.8776,2,    143.0,2,  6.3230,    141.4,2,    22.56,2,    29.98,2,     0.00,2,     1.98,2,    0.086,2,    0.051,2,   -0.001,2, -999.000,9,-999.0000,5,  -999.00,9,   -999.0,9,  -999.00,9,-999.000,9,   -999.0,9,   -999.0,9,   -999.0,9,-999.0000,9,-999,  -999.0, -999.00,-999.0000,-999.000,-999.000
     316N151_4,   A22,    37,  1,     22,     22,2,19970823,0953, 20.3572, -65.9997, 5934,11159.5,   1101.6,   6.2767,  34.9991,2,  34.9974,2,    173.8,2,  6.1727,    171.6,2,    18.85,2,    25.59,2,     0.00,2,     1.68,2, -999.000,9, -999.000,9, -999.000,9, -999.000,9,-999.0000,5,  -999.00,9,   -999.0,9,  -999.00,9,-999.000,9,   -999.0,9,   -999.0,9,   -999.0,9,-999.0000,9,-999,  -999.0, -999.00,-999.0000,-999.000,-999.000
     316N151_4,   A22,    37,  1,     21,     21,2,19970823,0953, 20.3572, -65.9997, 5934,13150.8,   1301.0,   5.1710,  35.0447,2,  35.0446,2,    223.5,2,  5.0570,    224.3,2,    14.45,2,    20.41,2,     0.00,2,     1.35,2,    0.520,2,    0.267,2,    0.013,2, -999.000,9,-999.0000,5,  -999.00,9,   -999.0,9,  -999.00,9,-999.000,9,   -999.0,9,   -999.0,9,   -999.0,9,-999.0000,9,-999,  -999.0, -999.00,-999.0000,-999.000,-999.000
     316N151_4,   A22,    37,  1,     20,     20,2,19970823,0953, 20.3572, -65.9997, 5934,15149.0,   1500.6,   4.4334,  35.0151,2,  35.0152,2,    246.3,2,  4.3082,    249.0,2,    13.10,2,    18.55,2,     0.00,2,     1.23,2,    0.734,2,    0.367,2,    0.022,2, -999.000,9,-999.0000,5,  -999.00,9,   -999.0,9,  -999.00,9,-999.000,9,   -999.0,9,   -999.0,9,   -999.0,9,-999.0000,9,-999,  -999.0, -999.00,-999.0000,-999.000,-999.000
     316N151_4,   A22,    37,  1,     19,     19,2,19970823,0953, 20.3572, -65.9997, 5934,17644.0,   1750.0,   3.9863,  34.9906,2,  34.9917,2,    255.9,2,  3.8431,    258.2,2,    13.72,2,    18.20,2,     0.00,2,     1.21,2,    0.631,2,    0.322,2,    0.021,2, -999.000,9,-999.0000,5,  -999.00,9,   -999.0,9,  -999.00,9,-999.000,9,   -999.0,9,   -999.0,9,   -999.0,9,-999.0000,9,-999,  -999.0, -999.00,-999.0000,-999.000,-999.000
     316N151_4,   A22,    37,  1,     18,     18,2,19970823,0953, 20.3572, -65.9997, 5934,20138.3,   1999.2,   3.6946,  34.9808,2,  34.9820,2,    258.6,2,  3.5317,    260.4,2,    15.41,2,    18.20,2,     0.00,2,     1.21,2,    0.424,6,    0.214,6, -999.000,9, -999.000,9,-999.0000,5,  -999.00,9,   -999.0,9,  -999.00,9,-999.000,9,   -999.0,9,   -999.0,9,   -999.0,9,-999.0000,9,-999,  -999.0, -999.00,-999.0000,-999.000,-999.000
     316N151_4,   A22,    37,  1,     17,     17,2,19970823,0953, 20.3572, -65.9997, 5934,22647.5,   2250.1,   3.4303,  34.9703,2,  34.9705,2,    260.7,2,  3.2472,    261.4,2,    17.30,2,    18.16,2,     0.00,2,     1.22,2,    0.313,2,    0.159,2,    0.006,2, -999.000,9,-999.0000,5,  -999.00,9,   -999.0,9,  -999.00,9,-999.000,9,   -999.0,9,   -999.0,9,   -999.0,9,-999.0000,9,-999,  -999.0, -999.00,-999.0000,-999.000,-999.000
     316N151_4,   A22,    37,  1,     16,     16,2,19970823,0953, 20.3572, -65.9997, 5934,25153.3,   2500.5,   3.1727,  34.9567,2,  34.9572,2,    261.8,2,  2.9696,    262.5,2,    19.21,2,    18.20,2,     0.00,2,     1.23,2,    0.300,2,    0.149,2,    0.010,2, -999.000,9,-999.0000,5,  -999.00,9,   -999.0,9,  -999.00,9,-999.000,9,   -999.0,9,   -999.0,9,   -999.0,9,-999.0000,9,-999,  -999.0, -999.00,-999.0000,-999.000,-999.000
     316N151_4,   A22,    37,  1,     15,     15,2,19970823,0953, 20.3572, -65.9997, 5934,27652.2,   2750.3,   2.9740,  34.9449,2,  34.9448,2,    262.1,2,  2.7495,    263.6,2,    20.71,2,    18.25,2,     0.00,2,     1.23,2,    0.319,2,    0.159,2,    0.007,2, -999.000,9,-999.0000,5,  -999.00,9,   -999.0,9,  -999.00,9,-999.000,9,   -999.0,9,   -999.0,9,   -999.0,9,-999.0000,9,-999,  -999.0, -999.00,-999.0000,-999.000,-999.000
     316N151_4,   A22,    37,  1,     14,     14,2,19970823,0953, 20.3572, -65.9997, 5934,30137.2,   2998.6,   2.7829,  34.9334,2,  34.9336,2,    265.0,2,  2.5370,    265.2,2,    21.81,2,    18.13,2,     0.00,2,     1.23,2,    0.364,2,    0.181,2,    0.009,2, -999.000,9,-999.0000,5,  -999.00,9,   -999.0,9,  -999.00,9,-999.000,9,   -999.0,9,   -999.0,9,   -999.0,9,-999.0000,9,-999,  -999.0, -999.00,-999.0000,-999.000,-999.000
     316N151_4,   A22,    37,  1,     13,     13,2,19970823,0953, 20.3572, -65.9997, 5934,32659.3,   3250.8,   2.6008,  34.9218,2,  34.9222,2,    267.0,2,  2.3326,    267.4,2,    22.83,2,    18.01,2,     0.00,2,     1.22,2,    0.452,2,    0.217,2,    0.013,2, -999.000,9,-999.0000,5,  -999.00,9,   -999.0,9,  -999.00,9,-999.000,9,   -999.0,9,   -999.0,9,   -999.0,9,-999.0000,9,-999,  -999.0, -999.00,-999.0000,-999.000,-999.000
     316N151_4,   A22,    37,  1,     12,     12,2,19970823,0953, 20.3572, -65.9997, 5934,35160.6,   3500.9,   2.4648,  34.9136,2,  34.9138,2,    267.3,2,  2.1732,    267.9,2,    24.63,2,    18.05,2,     0.00,2,     1.23,2,    0.429,2,    0.212,2,    0.017,2, -999.000,9,-999.0000,5,  -999.00,9,   -999.0,9,  -999.00,9,-999.000,9,   -999.0,9,   -999.0,9,   -999.0,9,-999.0000,9,-999,  -999.0, -999.00,-999.0000,-999.000,-999.000
     316N151_4,   A22,    37,  1,     11,     11,2,19970823,0953, 20.3572, -65.9997, 5934,37630.8,   3747.8,   2.3717,  34.9064,2,  34.9048,2,    267.3,2,  2.0555,    267.5,2,    26.43,2,    18.21,2,     0.00,2,     1.24,2,    0.445,2,    0.228,2,    0.017,2, -999.000,9,-999.0000,5,  -999.00,9,   -999.0,9,  -999.00,9,-999.000,9,   -999.0,9,   -999.0,9,   -999.0,9,-999.0000,9,-999,  -999.0, -999.00,-999.0000,-999.000,-999.000
     316N151_4,   A22,    37,  1,     10,     10,2,19970823,0953, 20.3572, -65.9997, 5934,40158.7,   4000.4,   2.3308,  34.9022,2,  34.9012,2,    266.3,2,  1.9872,    267.0,2,    28.24,2,    18.49,2,     0.00,2,     1.26,2,    0.407,2,    0.193,2,    0.017,2, -999.000,9,-999.0000,5,  -999.00,9,   -999.0,9,  -999.00,9,-999.000,9,   -999.0,9,   -999.0,9,   -999.0,9,-999.0000,9,-999,  -999.0, -999.00,-999.0000,-999.000,-999.000
     316N151_4,   A22,    37,  1,      9,      9,2,19970823,0953, 20.3572, -65.9997, 5934,42662.7,   4250.6,   2.3104,  34.8984,2,  34.8983,2,    265.1,2,  1.9385,    265.5,2,    29.95,2,    18.65,2,     0.00,2,     1.28,2,    0.363,2,    0.185,2,    0.012,2, -999.000,9,-999.0000,5,  -999.00,9,   -999.0,9,  -999.00,9,-999.000,9,   -999.0,9,   -999.0,9,   -999.0,9,-999.0000,9,-999,  -999.0, -999.00,-999.0000,-999.000,-999.000
     316N151_4,   A22,    37,  1,      8,      8,2,19970823,0953, 20.3572, -65.9997, 5934,45166.7,   4500.9,   2.2970,  34.8943,2,  34.8954,2,    263.4,2,  1.8959,    264.6,2,    31.85,2,    19.01,2,     0.00,2,     1.30,2,    0.322,2,    0.167,2,    0.017,2, -999.000,9,-999.0000,5,  -999.00,9,   -999.0,9,  -999.00,9,-999.000,9,   -999.0,9,   -999.0,9,   -999.0,9,-999.0000,9,-999,  -999.0, -999.00,-999.0000,-999.000,-999.000
     316N151_4,   A22,    37,  1,      7,      7,2,19970823,0953, 20.3572, -65.9997, 5934,47085.9,   4692.6,   2.2876,  34.8908,2,  34.8908,2,    262.7,2,  1.8635,    263.2,2,    33.66,2,    19.25,2,     0.00,2,     1.32,2,    0.291,2,    0.156,2,    0.012,2, -999.000,9,-999.0000,5,  -999.00,9,   -999.0,9,  -999.00,9,-999.000,9,   -999.0,9,   -999.0,9,   -999.0,9,-999.0000,9,-999,  -999.0, -999.00,-999.0000,-999.000,-999.000
     316N151_4,   A22,    37,  1,      6,      6,2,19970823,0953, 20.3572, -65.9997, 5934,50172.1,   5001.2,   2.2540,  34.8821,2,  34.8820,2,    259.5,2,  1.7928,    260.4,2,    38.53,2,    20.08,2,     0.00,2,     1.37,2,    0.215,2,    0.124,2,    0.012,2, -999.000,9,-999.0000,5,  -999.00,9,   -999.0,9,  -999.00,9,-999.000,9,   -999.0,9,   -999.0,9,   -999.0,9,-999.0000,9,-999,  -999.0, -999.00,-999.0000,-999.000,-999.000
     316N151_4,   A22,    37,  1,      5,      5,2,19970823,0953, 20.3572, -65.9997, 5934,52669.8,   5250.9,   2.1440,  34.8650,2,  34.8646,2,    254.2,2,  1.6549,    253.4,2,    48.14,2,    21.62,2,     0.00,2,     1.48,2,    0.123,6,    0.075,6,    0.013,2, -999.000,9,-999.0000,5,  -999.00,9,   -999.0,9,  -999.00,9,-999.000,9,   -999.0,9,   -999.0,9,   -999.0,9,-999.0000,9,-999,  -999.0, -999.00,-999.0000,-999.000,-999.000
     316N151_4,   A22,    37,  1,      4,      4,2,19970823,0953, 20.3572, -65.9997, 5934,55179.3,   5501.8,   1.9836,  34.8417,2,  34.8424,2,    246.8,2,  1.4680,    246.7,2,    59.45,2,    23.29,2,     0.00,2,     1.61,2,    0.041,2,    0.033,2,    0.002,2, -999.000,9,-999.0000,5,  -999.00,9,   -999.0,9,  -999.00,9,-999.000,9,   -999.0,9,   -999.0,9,   -999.0,9,-999.0000,9,-999,  -999.0, -999.00,-999.0000,-999.000,-999.000
     316N151_4,   A22,    37,  1,      3,      3,2,19970823,0953, 20.3572, -65.9997, 5934,57680.9,   5751.9,   1.9617,  34.8350,2,  34.8353,2,    244.7,2,  1.4141,    245.0,2,    62.46,2,    23.77,2,     0.00,2,     1.64,2,    0.030,2,    0.026,2,    0.002,2, -999.000,9,-999.0000,5,  -999.00,9,   -999.0,9,  -999.00,9,-999.000,9,   -999.0,9,   -999.0,9,   -999.0,9,-999.0000,9,-999,  -999.0, -999.00,-999.0000,-999.000,-999.000
     316N151_4,   A22,    37,  1,      2,      2,2,19970823,0953, 20.3572, -65.9997, 5934,60168.1,   6000.4,   1.9794,  34.8334,2,  34.8329,2,    244.3,2,  1.3977,    244.5,2,    63.38,2,    23.92,2,     0.00,2,     1.65,2, -999.000,9, -999.000,9, -999.000,9, -999.000,9,-999.0000,5,  -999.00,9,   -999.0,9,  -999.00,9,-999.000,9,   -999.0,9,   -999.0,9,   -999.0,9,-999.0000,9,-999,  -999.0, -999.00,-999.0000,-999.000,-999.000
     316N151_4,   A22,    37,  1,      1,      1,2,19970823,0953, 20.3572, -65.9997, 5934,61293.9,   6112.8,   1.9872,  34.8317,2,  34.8311,2,    242.3,2,  1.3899,    244.1,2,    63.84,6,    23.97,6,     0.00,6,     1.65,6,    0.030,6,    0.022,6,   -0.001,2, -999.000,9,-999.0000,5,  -999.00,9,   -999.0,9,  -999.00,9,-999.000,9,   -999.0,9,   -999.0,9,   -999.0,9,-999.0000,9,-999,  -999.0, -999.00,-999.0000,-999.000,-999.000