BOTTLE,20220629CCHSIOAMB
EXPOCODE,SECT_ID,STNNBR,CASTNO,SAMPNO,BTLNBR,BTLNBR_FLAG_W,DATE,TIME,LATITUDE,LONGITUDE,DEPTH,CTDRAW,CTDPRS,CTDTMP,CTDSAL,CTDSAL_FLAG_W,SALNTY,SALNTY_FLAG_W,CTDOXY,CTDOXY_FLAG_W,THETA,OXYGEN,OXYGEN_FLAG_W,SILCAT,SILCAT_FLAG_W,NITRAT,NITRAT_FLAG_W,NITRIT,NITRIT_FLAG_W,PHSPHT,PHSPHT_FLAG_W,CFC-11,CFC-11_FLAG_W,CFC-12,CFC-12_FLAG_W,CFC113,CFC113_FLAG_W,TRITUM,TRITUM_FLAG_W,HELIUM,HELIUM_FLAG_W,DELHE3,DELHE3_FLAG_W,DELC14,DELC14_FLAG_W,DELC13,DELC13_FLAG_W,NEON,NEON_FLAG_W,TCARBN,TCARBN_FLAG_W,PCO2,PCO2_FLAG_W,ALKALI,ALKALI_FLAG_W,PH,PH_FLAG_W,PH_TMP,C14ERR,DELHER,HELIER,NEONER,TRITER
,,,,,,,,,,,,,DBAR,ITS-90,PSS-78,,PSS-78,,UMOL/KG,,ITS-90,UMOL/KG,,UMOL/KG,,UMOL/KG,,UMOL/KG,,UMOL/KG,,PMOL/KG,,PMOL/KG,,PMOL/KG,,TU,,NMOL/KG,,PERCNT,,/MILLE,,/MILLE,,NMOL/KG,,UMOL/KG,,UATM,,UMOL/KG,,,,DEG C,/MILLE,PERCNT,NMOL/KG,NMOL/KG,TU
     316N151_4,   A22,     9,  1,     30,     30,2,19970817,1911, 12.6672, -66.0062, 4969,  194.5,      2.5,  26.5205,  35.7570,2,  35.7566,2,    207.3,2, 26.5199,    232.1,2,     0.32,2,     0.00,2,     0.00,2,     0.03,2,    1.756,2,    1.046,2,    0.113,2,    0.836,2,   1.7226,2,    -3.01,2,   -999.0,9,  -999.00,9,   6.692,2,   1996.1,2,    277.0,2,   2346.2,2,   8.0980,2,25,  -999.0,    0.15,  0.0086,   0.033,   0.016
     316N151_4,   A22,     9,  1,     29,     29,2,19970817,1911, 12.6672, -66.0062, 4969,  690.5,     53.2,  23.8796,  36.6449,2,  36.6256,2,    130.1,2, 23.8684,    170.3,2,     1.91,2,     1.02,2,     0.45,2,     0.26,2,    1.883,6,    1.073,6,    0.084,2, -999.000,9,-999.0000,5,  -999.00,9,   -999.0,9,  -999.00,9,-999.000,9,   -999.0,9,   -999.0,9,   -999.0,9,-999.0000,9,-999,  -999.0, -999.00,-999.0000,-999.000,-999.000
     316N151_4,   A22,     9,  1,     28,     28,2,19970817,1911, 12.6672, -66.0062, 4969, 1163.5,    101.0,  19.0122,  36.6075,2,  36.5861,2,    135.1,2, 18.9941,    135.6,2,     3.70,2,    10.05,2,     0.08,2,     0.59,2,    1.913,6,    1.063,6,    0.016,2,    1.105,2,   2.1285,2,    -2.32,2,   -999.0,9,  -999.00,9,   8.242,2,   -999.0,9,   -999.0,9,   -999.0,9,-999.0000,9,-999,  -999.0,    0.15,  0.0106,   0.041,   0.014
     316N151_4,   A22,     9,  1,     27,     27,2,19970817,1911, 12.6672, -66.0062, 4969, 1642.2,    149.2,  16.8533,  36.2722,2,  36.2397,2,    132.8,2, 16.8287,    137.9,2,     4.79,2,    13.10,2,     0.02,2,     0.77,2,    1.738,2,    0.961,2,    0.012,2,    1.073,2,-999.0000,5,  -999.00,9,   -999.0,9,  -999.00,9,-999.000,9,   -999.0,9,   -999.0,9,   -999.0,9,-999.0000,9,-999,  -999.0, -999.00,-999.0000,-999.000,   0.014
     316N151_4,   A22,     9,  1,     26,     26,2,19970817,1911, 12.6672, -66.0062, 4969, 2168.7,    202.1,  14.1384,  35.7671,2,  35.7808,2,    127.6,2, 14.1088,    128.8,2,     7.37,2,    17.89,2,     0.01,2,     1.11,2,    1.457,2,    0.778,2,    0.012,2,    0.868,2,   1.7920,2,     1.98,2,   -999.0,9,  -999.00,9,   7.276,2,   -999.0,9,   -999.0,9,   -999.0,9,-999.0000,9,-999,  -999.0,    0.15,  0.0090,   0.036,   0.014
     316N151_4,   A22,     9,  1,     25,     25,2,19970817,1911, 12.6672, -66.0062, 4969, 2658.2,    251.4,  12.8946,  35.5739,2,  35.5393,2,    127.3,2, 12.8600,    125.2,2,     8.96,2,    20.68,2,     0.01,2,     1.30,2,    1.197,2,    0.645,2,    0.005,2,    0.765,2,   1.7766,2,     3.28,2,   -999.0,9,  -999.00,9,   7.277,2,   -999.0,9,   -999.0,9,   -999.0,9,-999.0000,9,-999,  -999.0,    0.15,  0.0089,   0.036,   0.014
     316N151_4,   A22,     9,  1,     24,     24,2,19970817,1911, 12.6672, -66.0062, 4969, 3145.6,    300.4,  11.3885,  35.3265,2,  35.3315,2,    121.8,2, 11.3503,    123.4,2,    10.94,2,    23.52,2,     0.00,2,     1.48,2,    0.970,2,    0.524,2,    0.009,2,    0.608,2,   1.7815,2,     1.94,2,   -999.0,9,  -999.00,9,   7.345,2,   -999.0,9,   -999.0,9,   -999.0,9,-999.0000,9,-999,  -999.0,    0.15,  0.0089,   0.037,   0.013
     316N151_4,   A22,     9,  1,     23,     23,2,19970817,1911, 12.6672, -66.0062, 4969, 4145.1,    400.5,   9.2091,  34.9976,2,  34.9883,2,    118.1,2,  9.1645,    119.0,2,    15.50,2,    28.30,2,     0.00,2,     1.81,2,    0.550,2,    0.309,2,    0.005,2,    0.354,2,   1.7916,2,     1.11,2,   -999.0,9,  -999.00,9,   7.431,2,   -999.0,9,   -999.0,9,   -999.0,9,-999.0000,9,-999,  -999.0,    0.15,  0.0090,   0.037,   0.012
     316N151_4,   A22,     9,  1,     22,     22,2,19970817,1911, 12.6672, -66.0062, 4969, 5149.9,    501.1,   8.3455,  34.9002,2,  34.8962,2,    119.6,2,  8.2926,    119.6,2,    17.78,2,    30.05,2,     0.00,2,     1.93,2,    0.317,2,    0.217,2,    0.003,2,    0.270,2,   1.7949,2,     1.30,2,   -999.0,9,  -999.00,9,   7.449,2,   -999.0,9,   -999.0,9,   -999.0,9,-999.0000,9,-999,  -999.0,    0.15,  0.0090,   0.037,   0.012
     316N151_4,   A22,     9,  1,     21,     21,2,19970817,1911, 12.6672, -66.0062, 4969, 6139.5,    600.3,   7.2477,  34.7900,2,  34.7874,2,    123.7,2,  7.1889,    122.7,2,    21.15,2,    31.61,2,     0.00,2,     2.07,2,    0.236,2,    0.130,2,    0.001,2,    0.148,2,   1.8152,2,     1.10,2,   -999.0,9,  -999.00,9,   7.582,2,   -999.0,9,   -999.0,9,   -999.0,9,-999.0000,9,-999,  -999.0,    0.15,  0.0091,   0.038,   0.012
     316N151_4,   A22,     9,  1,     20,     20,2,19970817,1911, 12.6672, -66.0062, 4969, 7149.2,    701.3,   6.4339,  34.7557,2,  34.7538,2,    130.9,2,  6.3691,    129.7,2,    23.73,2,    32.20,2,     0.00,2,     2.12,2,    0.136,2,    0.070,2,    0.002,2,    0.102,2,   1.8517,2,     0.33,2,   -999.0,9,  -999.00,9,   7.710,2,   -999.0,9,   -999.0,9,   -999.0,9,-999.0000,9,-999,  -999.0,    0.15,  0.0093,   0.039,   0.012
     316N151_4,   A22,     9,  1,     19,     19,2,19970817,1911, 12.6672, -66.0062, 4969, 8151.4,    801.5,   5.8302,  34.7920,2,  34.7921,2,    145.2,2,  5.7592,    145.1,2,    25.21,2,    30.67,2,     0.00,2,     2.04,2,    0.071,2,    0.043,2,    0.002,2,    0.087,2,   1.8237,2,     0.29,2,   -999.0,9,  -999.00,9,   7.695,2,   -999.0,9,   -999.0,9,   -999.0,9,-999.0000,9,-999,  -999.0,    0.15,  0.0091,   0.038,   0.011
     316N151_4,   A22,     9,  1,     18,     18,2,19970817,1911, 12.6672, -66.0062, 4969, 9136.6,    900.0,   5.4639,  34.8671,2,  34.8697,2,    164.2,2,  5.3859,    163.1,2,    25.22,2,    28.07,2,     0.00,2,     1.88,2,    0.056,2,    0.037,2,    0.005,2,    0.048,2,   1.8538,2,    -0.21,2,   -999.0,9,  -999.00,9,   7.871,2,   -999.0,9,   -999.0,9,   -999.0,9,-999.0000,9,-999,  -999.0,    0.15,  0.0093,   0.039,   0.014
     316N151_4,   A22,     9,  1,     17,     17,2,19970817,1911, 12.6672, -66.0062, 4969,10144.7,   1000.9,   5.0270,  34.9236,2,  34.9234,2,    180.4,2,  4.9427,    180.2,2,    25.33,2,    26.17,2,     0.00,2,     1.75,2,    0.037,2,    0.029,2,    0.005,2,    0.043,2,-999.0000,5,  -999.00,9,   -999.0,9,  -999.00,9,-999.000,9,   -999.0,9,   -999.0,9,   -999.0,9,-999.0000,9,-999,  -999.0, -999.00,-999.0000,-999.000,   0.011
     316N151_4,   A22,     9,  1,     16,     16,2,19970817,1911, 12.6672, -66.0062, 4969,11115.0,   1097.9,   4.7064,  34.9480,2,  34.9478,2,    191.2,2,  4.6158,    192.4,2,    25.43,2,    24.92,2,     0.00,2,     1.67,2,    0.040,2,    0.023,2,    0.004,2,    0.034,2,   1.8494,2,    -1.50,2,   -999.0,9,  -999.00,9,   7.795,2,   -999.0,9,   -999.0,9,   -999.0,9,-999.0000,9,-999,  -999.0,    0.15,  0.0092,   0.039,   0.011
     316N151_4,   A22,     9,  1,     15,     15,2,19970817,1911, 12.6672, -66.0062, 4969,13129.7,   1299.4,   4.4283,  34.9611,2,  34.9616,2,    202.8,2,  4.3220,    202.6,2,    25.93,2,    23.82,2,     0.00,2,     1.60,2,    0.025,2,    0.021,2,    0.003,2,    0.037,2,   1.8865,2,    -1.10,2,   -999.0,9,  -999.00,9,   7.910,2,   -999.0,9,   -999.0,9,   -999.0,9,-999.0000,9,-999,  -999.0,    0.15,  0.0094,   0.040,   0.011
     316N151_4,   A22,     9,  1,     14,     14,2,19970817,1911, 12.6672, -66.0062, 4969,15141.6,   1500.4,   4.2514,  34.9679,2,  34.9689,2,    207.8,2,  4.1283,    208.2,2,    26.83,2,    23.21,2,     0.00,2,     1.56,2,    0.020,2,    0.016,2,    0.004,2,    0.013,2,   1.8437,2,    -1.43,2,   -999.0,9,  -999.00,9,   7.753,2,   -999.0,9,   -999.0,9,   -999.0,9,-999.0000,9,-999,  -999.0,    0.15,  0.0092,   0.039,   0.011
     316N151_4,   A22,     9,  1,     13,     13,2,19970817,1911, 12.6672, -66.0062, 4969,17642.6,   1750.4,   4.1400,  34.9722,2,  34.9745,2,    212.5,2,  3.9947,    212.3,2,    27.62,2,    22.82,2,     0.00,2,     1.53,2,    0.020,2,    0.016,2,    0.004,2,    0.016,2,   1.8557,2,    -1.82,2,   -999.0,9,  -999.00,9,   7.747,2,   -999.0,9,   -999.0,9,   -999.0,9,-999.0000,9,-999,  -999.0,    0.15,  0.0093,   0.039,   0.011
     316N151_4,   A22,     9,  1,     12,     12,2,19970817,1911, 12.6672, -66.0062, 4969,20127.8,   1998.8,   4.1110,  34.9696,2,  34.9753,2,    214.5,2,  3.9420,    214.1,2,    27.92,2,    22.65,2,     0.00,2,     1.52,2,    0.016,2,    0.017,2,    0.002,2,    0.027,2,   1.8601,2,    -1.86,2,   -999.0,9,  -999.00,9,   7.830,2,   -999.0,9,   -999.0,9,   -999.0,9,-999.0000,9,-999,  -999.0,    0.15,  0.0093,   0.039,   0.011
     316N151_4,   A22,     9,  1,     11,     11,2,19970817,1911, 12.6672, -66.0062, 4969,22631.6,   2249.1,   4.1007,  34.9747,2,  34.9765,2,    215.3,2,  3.9067,    215.3,2,    28.23,2,    22.50,2,     0.00,2,     1.51,2,    0.013,2,    0.017,2,    0.004,2, -999.000,9,-999.0000,5,  -999.00,9,   -999.0,9,  -999.00,9,-999.000,9,   -999.0,9,   -999.0,9,   -999.0,9,-999.0000,9,-999,  -999.0, -999.00,-999.0000,-999.000,-999.000
     316N151_4,   A22,     9,  1,     10,     10,2,19970817,1911, 12.6672, -66.0062, 4969,25123.3,   2498.0,   4.1083,  34.9752,2,  34.9765,2,    215.3,2,  3.8884,    215.9,2,    28.53,2,    22.50,2,     0.00,2,     1.51,2,    0.011,2,    0.015,2,    0.003,2,    0.006,2,   1.8793,2,    -1.79,2,   -999.0,9,  -999.00,9,   7.803,2,   -999.0,9,   -999.0,9,   -999.0,9,-999.0000,9,-999,  -999.0,    0.15,  0.0094,   0.039,   0.011
     316N151_4,   A22,     9,  1,      9,      9,2,19970817,1911, 12.6672, -66.0062, 4969,27627.5,   2748.3,   4.1268,  34.9754,2,  34.9764,2,    215.8,2,  3.8796,    215.8,2,    28.54,2,    22.38,2,     0.00,2,     1.51,2,    0.014,2,    0.021,2,    0.005,2, -999.000,9,-999.0000,5,  -999.00,9,   -999.0,9,  -999.00,9,-999.000,9,   -999.0,9,   -999.0,9,   -999.0,9,-999.0000,9,-999,  -999.0, -999.00,-999.0000,-999.000,-999.000
     316N151_4,   A22,     9,  1,      8,      8,2,19970817,1911, 12.6672, -66.0062, 4969,30135.1,   2999.0,   4.1504,  34.9764,2,  34.9768,2,    215.9,2,  3.8750,    216.1,2,    28.74,2,    22.30,2,     0.00,2,     1.51,2,    0.018,6,    0.021,6,    0.005,2,    0.014,2,   1.8548,2,    -1.44,2,   -999.0,9,  -999.00,9,   7.715,2,   -999.0,9,   -999.0,9,   -999.0,9,-999.0000,9,-999,  -999.0,    0.15,  0.0093,   0.039,   0.011
     316N151_4,   A22,     9,  1,      7,      7,2,19970817,1911, 12.6672, -66.0062, 4969,32654.9,   3250.8,   4.1766,  34.9764,2,  34.9747,2,    215.9,2,  3.8719,    216.5,2,    28.74,2,    22.22,2,     0.00,2,     1.51,2,    0.017,2,    0.019,2,    0.002,2, -999.000,9,-999.0000,5,  -999.00,9,   -999.0,9,  -999.00,9,-999.000,9,   -999.0,9,   -999.0,9,   -999.0,9,-999.0000,9,-999,  -999.0, -999.00,-999.0000,-999.000,-999.000
     316N151_4,   A22,     9,  1,      6,      6,2,19970817,1911, 12.6672, -66.0062, 4969,35166.8,   3501.8,   4.2036,  34.9765,2,  34.9762,2,    215.9,2,  3.8689,    215.9,2,    28.85,2,    22.18,2,     0.00,2,     1.50,2,    0.013,2,    0.019,2,    0.004,2,    0.040,2,   1.8358,2,    -1.29,2,   -999.0,9,  -999.00,9,   7.630,2,   -999.0,9,   -999.0,9,   -999.0,9,-999.0000,9,-999,  -999.0,    0.15,  0.0092,   0.038,   0.015
     316N151_4,   A22,     9,  1,      5,      5,2,19970817,1911, 12.6672, -66.0062, 4969,37658.9,   3750.9,   4.2325,  34.9771,2,  34.9752,2,    216.2,2,  3.8670,    215.9,2,    28.86,2,    22.10,2,     0.00,2,     1.50,2,    0.014,2,    0.020,2,    0.003,2, -999.000,9,-999.0000,5,  -999.00,9,   -999.0,9,  -999.00,9,-999.000,9,   -999.0,9,   -999.0,9,   -999.0,9,-999.0000,9,-999,  -999.0, -999.00,-999.0000,-999.000,-999.000
     316N151_4,   A22,     9,  1,      4,      4,2,19970817,1911, 12.6672, -66.0062, 4969,40159.5,   4000.8,   4.2624,  34.9767,2,  34.9771,2,    216.4,2,  3.8652,    216.7,2,    28.86,2,    22.13,2,     0.00,2,     1.50,2,    0.017,2,    0.022,2,    0.003,2,    0.026,2,   1.8512,2,    -1.60,2,   -999.0,9,  -999.00,9,   7.795,2,   -999.0,9,   -999.0,9,   -999.0,9,-999.0000,9,-999,  -999.0,    0.15,  0.0093,   0.039,   0.011
     316N151_4,   A22,     9,  1,      3,      3,2,19970817,1911, 12.6672, -66.0062, 4969,42641.7,   4249.0,   4.2933,  34.9773,2,  34.9767,2,    216.9,2,  3.8638,    216.9,2,    28.97,2,    22.13,2,     0.00,2,     1.50,2,    0.019,2,    0.024,2,    0.004,2, -999.000,9,-999.0000,5,  -999.00,9,   -999.0,9,  -999.00,9,-999.000,9,   -999.0,9,   -999.0,9,   -999.0,9,-999.0000,9,-999,  -999.0, -999.00,-999.0000,-999.000,-999.000
     316N151_4,   A22,     9,  1,      2,      2,2,19970817,1911, 12.6672, -66.0062, 4969,45147.6,   4499.4,   4.3259,  34.9775,2,  34.9775,2,    217.5,2,  3.8629,    216.9,2,    29.17,2,    22.06,2,     0.00,2,     1.50,2,    0.024,2,    0.026,2,    0.003,2, -999.000,9,   1.8628,2,    -0.83,2,   -999.0,9,  -999.00,9,   7.804,2,   -999.0,9,   -999.0,9,   -999.0,9,-999.0000,9,-999,  -999.0,    0.15,  0.0093,   0.039,-999.000
     316N151_4,   A22,     9,  1,      1,      1,2,19970817,1911, 12.6672, -66.0062, 4969,47649.3,   4749.4,   4.3598,  34.9786,2,  34.9774,2,    217.9,2,  3.8625,    217.4,2,    29.18,2,    22.10,2,     0.00,2,     1.49,2,    0.020,2,    0.024,2,    0.002,2, -999.000,9,-999.0000,5,  -999.00,9,   -999.0,9,  -999.00,9,-999.000,9,   -999.0,9,   -999.0,9,   -999.0,9,-999.0000,9,-999,  -999.0, -999.00,-999.0000,-999.000,-999.000
     316N151_4,   A22,     9,  1,     36,     36,2,19970817,1911, 12.6672, -66.0062, 4969,51006.1,   5085.1,   4.4069,  34.9790,2,  34.9772,2,    217.7,2,  3.8624,    217.1,2,    29.39,6,    21.97,6,     0.01,6,     1.50,6,    0.016,6,    0.024,6,    0.001,2,    0.028,2,   1.9060,2,    -1.47,2,   -999.0,9,  -999.00,9,   7.930,2,   -999.0,9,   -999.0,9,   -999.0,9,-999.0000,9,-999,  -999.0,    0.15,  0.0095,   0.040,   0.011