BOTTLE,20220627CCHSIOAMB
# Removed TIME column that had only "0" in it
#BOTTLE,20131129SIOCCHRJL
# Changed DELC13 units from 0/00 to /MILLE
# Changed NITRIT Station 31, Cast 1, Bottle 2 from flag 2 to flag 3 
# BOTTLE,20120917PRINUNIVRMK
# 5/08/2012 Initialized README file  
# Data source:C. Lo Monaco, 6/6/2012  
# SHIP: Marion Dufresne 
# Cruise: OISO-17; MD171-GEISEIR 
# Region: S.Central Indian Ocean 
# EXPOCODE:35MF20090103 
# DATES: 1/3 - 2/12/2009 
# Chief Scientist: C.LoMonaco 
# 6 stations with 24 place Rosette 
# Hydro: Who - C.LoMonaco; Status - final 
# 	Notes: CTD Salinity corrected by +0.053 for station 32A (0-1000m).  
# 	Problem with measured salinity for stations 15 to 18 
# Nuts: Who - C.LoMonaco; Status - final 
# 	Notes: 
# O2: Who - C.LoMonaco; Status - final 
# 	Notes: 
# TCO2: Who - C.LoMonaco; Status - final 
# 	Notes: CRM batch #83 and #91.  
# 	TCO2 data seem too high by 5-10 umol/kg for stations 31 and 32 compared to GEOSECS and WOCE data,  
# 	but the data were not corrected because more recent measurements also showh high TCO2 and low C13 in circumpolar deep waters. 
# TA: Who - C.LoMonaco; Status - final 
# 	Notes: CRM batch #83 and #91 
# C13: Who - C.Pierre; Status - final 
# 	Notes:  
# References: 
# http://caraus.ipsl.jussieu.fr/oiso-publi.html 
EXPOCODE,SECT_ID,STNNBR,CASTNO,BTLNBR,BTLNBR_FLAG_W,DATE,LATITUDE,LONGITUDE,DEPTH,CTDPRS,CTDTMP,CTDSAL,CTDSAL_FLAG_W,SALNTY,SALNTY_FLAG_W,OXYGEN,OXYGEN_FLAG_W,SILCAT,SILCAT_FLAG_W,NITRAT,NITRAT_FLAG_W,NITRIT,NITRIT_FLAG_W,PHSPHT,PHSPHT_FLAG_W,TCARBN,TCARBN_FLAG_W,ALKALI,ALKALI_FLAG_W,DELC13,DELC13_FLAG_W,THETA
,,,,,,,,,METERS,DBAR,ITS-90,PSS-78,,PSS-78,,UMOL/KG,,UMOL/KG,,UMOL/KG,,UMOL/KG,,UMOL/KG,,UMOL/KG,,UMOL/KG,,/MILLE,,DEG C
  35MF20090103,  OISO,    18,  1,      1,2,20090106,-26.9930,  67.1400, 5180,   5090.2,   1.6417,  34.7151,2,  34.7570,4,    190.2,2,   123.14,2,    32.33,2,     0.04,2,     2.31,2,   2268.0,2,   2377.3,2,     0.24,2,   1.1913
  35MF20090103,  OISO,    18,  1,      2,2,20090106,-26.9930,  67.1400, 5180,   4573.5,   1.5922,  34.7157,2,-999.0000,9,    184.7,2,   122.82,2,  -999.00,9,  -999.00,9,  -999.00,9,   2271.9,2,   2376.3,2,     0.27,2,   1.2055
  35MF20090103,  OISO,    18,  1,      3,2,20090106,-26.9930,  67.1400, 5180,   4059.2,   1.5853,  34.7169,2,-999.0000,9,    183.1,2,   123.12,2,    32.17,2,     0.04,2,     2.26,2,   2274.5,2,   2378.4,2,     0.24,2,   1.2572
  35MF20090103,  OISO,    18,  1,      4,2,20090106,-26.9930,  67.1400, 5180,   3548.5,   1.6416,  34.7189,2,-999.0000,9,    180.5,2,   121.34,2,    32.56,2,  -999.00,9,  -999.00,9,   2275.8,2,   2382.2,2,     0.23,2,   1.3666
  35MF20090103,  OISO,    18,  1,      5,2,20090106,-26.9930,  67.1400, 5180,   3038.2,   1.6962,  34.7189,2,  34.7770,4,    179.7,2,   118.26,2,  -999.00,9,  -999.00,9,  -999.00,9,   2276.0,2,   2378.0,2,     0.28,2,   1.4711
  35MF20090103,  OISO,    18,  1,      6,2,20090106,-26.9930,  67.1400, 5180,   2528.1,   1.8568,  34.7175,2,-999.0000,9,    176.4,2,   113.40,2,    32.62,2,     0.02,2,     2.32,2,   2271.3,2,   2376.6,2,  -999.00,9,   1.6763
  35MF20090103,  OISO,    18,  1,      7,2,20090106,-26.9930,  67.1400, 5180,   2018.7,   2.2658,  34.6987,2,  34.7210,4,    170.9,2,    99.76,2,    32.54,2,     0.04,2,     2.28,2,   2264.4,2,   2361.9,2,     0.36,2,   2.1235
  35MF20090103,  OISO,    18,  1,      8,2,20090106,-26.9930,  67.1400, 5180,   1767.6,   2.6632,  34.6582,2,-999.0000,9,    171.5,2,    88.05,2,    32.84,2,     0.04,2,     2.31,2,   2258.0,2,   2350.9,2,  -999.00,9,   2.5368
  35MF20090103,  OISO,    18,  1,      9,2,20090106,-26.9930,  67.1400, 5180,   1513.8,   3.1872,  34.5914,2,-999.0000,9,    154.8,2,    79.24,2,    33.56,2,     0.03,2,     2.37,2,   2252.9,2,   2340.8,2,  -999.00,9,   3.0760
  35MF20090103,  OISO,    18,  1,     10,2,20090106,-26.9930,  67.1400, 5180,   1261.0,   3.9283,  34.4730,2,-999.0000,9,    165.0,2,    59.39,2,    32.66,2,     0.04,2,     2.30,2,   2225.7,2,   2319.4,2,  -999.00,9,   3.8312
  35MF20090103,  OISO,    18,  1,     11,2,20090106,-26.9930,  67.1400, 5180,   1007.6,   5.8469,  34.4340,2,  34.4630,4,    191.2,2,    27.91,2,  -999.00,9,  -999.00,9,  -999.00,9,   2177.9,2,   2291.9,2,     0.73,2,   5.7566
  35MF20090103,  OISO,    18,  1,     12,2,20090106,-26.9930,  67.1400, 5180,    755.5,   9.1589,  34.6733,2,-999.0000,9,    225.8,2,     6.45,2,  -999.00,9,  -999.00,9,  -999.00,9,   2119.4,2,   2286.6,2,  -999.00,9,   9.0737
  35MF20090103,  OISO,    18,  1,     13,2,20090106,-26.9930,  67.1400, 5180,    504.5,  11.5006,  35.0117,2,  35.0327,4,    231.6,2,     4.35,2,  -999.00,9,  -999.00,9,     0.84,2,   2108.5,2,   2303.2,2,     0.92,2,  11.4357
  35MF20090103,  OISO,    18,  1,     14,2,20090106,-26.9930,  67.1400, 5180,    402.3,  12.4013,  35.1320,2,-999.0000,9,    231.5,2,     3.57,2,     9.57,2,     0.02,2,     0.75,2,   2092.4,2,   2302.8,2,  -999.00,9,  12.3472
  35MF20090103,  OISO,    18,  1,     15,2,20090106,-26.9930,  67.1400, 5180,    302.4,  13.9678,  35.3388,2,-999.0000,9,    224.1,2,     2.58,2,     6.57,2,     0.03,2,     0.61,2,   2096.3,2,   2320.3,2,  -999.00,9,  13.9239
  35MF20090103,  OISO,    18,  1,     16,2,20090106,-26.9930,  67.1400, 5180,    251.7,  15.3952,  35.5162,2,-999.0000,9,    217.7,2,     2.76,2,  -999.00,9,  -999.00,9,  -999.00,9,   2090.5,2,   2330.7,2,  -999.00,9,  15.3562
  35MF20090103,  OISO,    18,  1,     17,2,20090106,-26.9930,  67.1400, 5180,    200.3,  17.0345,  35.7025,2,  35.7143,4,    212.5,2,     1.93,2,     2.38,2,     0.04,2,     0.44,2,   2077.0,2,   2342.4,2,     0.83,2,  17.0012
  35MF20090103,  OISO,    18,  1,     18,2,20090106,-26.9930,  67.1400, 5180,    152.0,  18.5819,  35.7491,2,-999.0000,9,    210.0,2,     1.99,2,     1.45,2,     0.07,2,     0.43,2,   2072.1,2,   2344.5,2,     0.80,2,  18.5551
  35MF20090103,  OISO,    18,  1,     19,2,20090106,-26.9930,  67.1400, 5180,    100.6,  20.3623,  35.6797,2,-999.0000,9,    223.2,2,     2.70,2,     0.14,2,     0.00,2,     0.22,2,   2031.7,2,   2336.6,2,  -999.00,9,  20.3434
  35MF20090103,  OISO,    18,  1,     20,2,20090106,-26.9930,  67.1400, 5180,     74.8,  21.1784,  35.6382,2,-999.0000,9,    227.9,2,     2.17,2,    -0.01,2,     0.21,2,     0.39,3,   2018.3,2,   2332.9,2,  -999.00,9,  21.1640
  35MF20090103,  OISO,    18,  1,     21,2,20090106,-26.9930,  67.1400, 5180,     52.2,  22.4142,  35.6306,2,  35.7622,4,    232.6,2,     1.83,2,     0.12,2,     0.00,2,     0.21,2,   2014.2,2,   2333.6,2,     0.71,2,  22.4037
  35MF20090103,  OISO,    18,  1,     22,2,20090106,-26.9930,  67.1400, 5180,     30.8,  25.3829,  35.6043,2,-999.0000,9,    220.6,2,     2.62,2,     0.08,2,     0.09,2,     0.24,2,   2007.6,2,   2332.6,2,  -999.00,9,  25.3761
  35MF20090103,  OISO,    18,  1,     23,2,20090106,-26.9930,  67.1400, 5180,     11.2,  26.0878,  35.4957,2,-999.0000,9,    208.2,2,     2.00,2,     0.22,2,    -0.01,2,     0.33,2,   1998.5,2,   2325.4,2,  -999.00,9,  26.0853
  35MF20090103,  OISO,    18,  1,     24,2,20090106,-26.9930,  67.1400, 5180,      1.2,  26.0927,  35.4949,2,  35.5160,4,    208.3,2,     2.00,2,    -0.04,2,    -0.01,2,     0.27,2,   1999.4,2,   2323.0,2,     0.71,2,  26.0924
  35MF20090103,  OISO,    17,  1,      2,2,20090106,-29.9980,  66.4170, 4440,   4440.7,   0.7740,  34.6941,2,-999.0000,9,    209.8,2,   128.44,2,    31.82,2,     0.03,2,     2.18,2,   2255.1,2,   2363.4,2,     0.43,2,   0.4281
  35MF20090103,  OISO,    17,  1,      1,2,20090106,-29.9980,  66.4170, 4440,   4440.4,   0.7740,  34.6940,2,  34.7407,4,    214.7,2,  -999.00,9,  -999.00,9,  -999.00,9,  -999.00,9,   2255.7,2,   2363.5,2,  -999.00,9,   0.4282
  35MF20090103,  OISO,    17,  1,      3,2,20090106,-29.9980,  66.4170, 4440,   4078.8,   0.8998,  34.6996,2,-999.0000,9,    205.0,2,   126.79,2,  -999.00,9,  -999.00,9,  -999.00,9,   2260.6,2,   2367.3,2,    -0.90,4,   0.5894
  35MF20090103,  OISO,    17,  1,      4,2,20090106,-29.9980,  66.4170, 4440,   3564.5,   1.4501,  34.7182,2,-999.0000,9,    186.4,2,   121.26,2,    33.37,2,     0.04,2,  -999.00,9,   2279.1,2,   2384.2,2,     0.31,2,   1.1784
  35MF20090103,  OISO,    17,  1,      5,2,20090106,-29.9980,  66.4170, 4440,   3050.6,   1.7116,  34.7243,2,  34.7360,4,    179.2,2,   117.72,2,    33.03,2,     0.04,2,     2.24,2,   2280.2,2,   2386.0,2,     0.19,4,   1.4850
  35MF20090103,  OISO,    17,  1,      6,2,20090106,-29.9980,  66.4170, 4440,   2539.9,   1.9537,  34.7232,2,-999.0000,9,    175.8,2,   109.66,2,    32.37,2,     0.03,2,     2.23,2,   2274.4,2,   2380.0,2,  -999.00,9,   1.7703
  35MF20090103,  OISO,    17,  1,      7,2,20090106,-29.9980,  66.4170, 4440,   2026.9,   2.2933,  34.6976,2,  34.7241,4,    176.4,2,    93.00,2,    31.89,2,     0.02,2,     2.20,2,   2265.7,2,   2364.4,2,     0.35,2,   2.1498
  35MF20090103,  OISO,    17,  1,      8,2,20090106,-29.9980,  66.4170, 4440,   1774.6,   2.6251,  34.6390,2,-999.0000,9,    177.4,2,    81.09,2,    32.64,2,     0.03,2,     2.24,2,   2252.9,2,   2346.9,2,  -999.00,9,   2.4986
  35MF20090103,  OISO,    17,  1,      9,2,20090106,-29.9980,  66.4170, 4440,   1522.2,   3.0435,  34.5553,2,-999.0000,9,    166.7,2,    71.76,2,    33.85,2,     0.03,2,     2.33,2,   2247.1,2,   2337.7,2,  -999.00,9,   2.9333
  35MF20090103,  OISO,    17,  1,     10,2,20090106,-29.9980,  66.4170, 4440,   1266.2,   3.7582,  34.4147,2,-999.0000,9,    183.3,2,    50.42,2,    32.52,2,     0.04,2,     2.23,2,   2168.5,3,   2285.9,3,  -999.00,9,   3.6624
  35MF20090103,  OISO,    17,  1,     11,2,20090106,-29.9980,  66.4170, 4440,   1012.3,   5.7183,  34.3978,2,  34.4124,4,    202.5,2,    24.62,2,    27.46,2,     0.04,2,     1.88,2,   2164.8,2,   2282.6,2,     0.93,2,   5.6285
  35MF20090103,  OISO,    17,  1,     12,2,20090106,-29.9980,  66.4170, 4440,    758.9,   9.1944,  34.6800,2,-999.0000,9,    220.3,2,     7.43,2,  -999.00,9,  -999.00,9,  -999.00,9,   2129.6,2,   2293.6,2,  -999.00,9,   9.1086
  35MF20090103,  OISO,    17,  1,     13,2,20090106,-29.9980,  66.4170, 4440,    504.9,  11.5027,  34.9994,2,  35.0280,4,    232.4,2,     4.06,2,  -999.00,9,  -999.00,9,  -999.00,9,   2104.3,2,   2302.8,2,     0.92,2,  11.4378
  35MF20090103,  OISO,    17,  1,     14,2,20090106,-29.9980,  66.4170, 4440,    404.9,  12.2358,  35.1068,2,-999.0000,9,    233.3,2,     3.63,2,    10.28,2,     0.03,2,     0.79,2,   2099.9,2,   2310.5,2,  -999.00,9,  12.1818
  35MF20090103,  OISO,    17,  1,     15,2,20090106,-29.9980,  66.4170, 4440,    302.5,  12.9059,  35.1999,2,-999.0000,9,    233.0,2,     3.38,2,     8.76,2,     0.02,2,     0.68,2,   2102.4,2,   2315.3,2,  -999.00,9,  12.8642
  35MF20090103,  OISO,    17,  1,     16,2,20090106,-29.9980,  66.4170, 4440,    253.0,  13.2343,  35.2474,2,-999.0000,9,    230.2,2,     3.22,2,     8.16,2,     0.03,2,     0.69,2,   2094.2,2,   2310.7,2,  -999.00,9,  13.1989
  35MF20090103,  OISO,    17,  1,     17,2,20090106,-29.9980,  66.4170, 4440,    203.5,  13.8225,  35.3087,2,  35.3577,4,    226.4,2,     2.92,2,     7.07,2,     0.03,2,     0.60,2,   2092.1,2,   2313.8,2,     1.09,2,  13.7933
  35MF20090103,  OISO,    17,  1,     18,2,20090106,-29.9980,  66.4170, 4440,    154.5,  14.8744,  35.4184,2,-999.0000,9,    233.9,2,     1.91,2,     3.36,2,     0.22,2,     0.41,2,   2076.6,2,   2319.5,2,     0.86,2,  14.8511
  35MF20090103,  OISO,    17,  1,     19,2,20090106,-29.9980,  66.4170, 4440,    102.0,  16.4906,  35.5429,2,-999.0000,9,    251.1,2,     1.43,2,     0.03,2,     0.07,2,     0.18,2,   2046.7,2,   2329.7,2,     0.72,2,  16.4741
  35MF20090103,  OISO,    17,  1,     20,2,20090106,-29.9980,  66.4170, 4440,     75.7,  17.7236,  35.6133,2,-999.0000,9,    248.8,2,     2.32,2,     0.12,2,     0.00,2,     0.19,2,   2055.7,2,   2338.3,2,     1.10,2,  17.7107
  35MF20090103,  OISO,    17,  1,     21,2,20090106,-29.9980,  66.4170, 4440,     53.0,  19.2970,  35.6674,2,  35.6990,4,    243.1,2,     1.60,2,     0.18,2,     0.00,2,     0.21,2,   2055.5,2,   2340.8,2,     1.10,2,  19.2874
  35MF20090103,  OISO,    17,  1,     22,2,20090106,-29.9980,  66.4170, 4440,     32.8,  22.1434,  35.6587,2,-999.0000,9,    223.3,2,     1.34,2,     0.15,2,    -0.01,2,     0.21,2,   2045.0,2,   2333.3,2,  -999.00,9,  22.1369
  35MF20090103,  OISO,    17,  1,     23,2,20090106,-29.9980,  66.4170, 4440,     11.4,  22.3969,  35.6547,2,-999.0000,9,    220.6,2,     1.40,2,     0.05,2,    -0.01,2,     0.32,2,   2047.2,2,   2340.6,2,  -999.00,9,  22.3946
  35MF20090103,  OISO,    17,  1,     24,2,20090106,-29.9980,  66.4170, 4440,      1.2,  22.3927,  35.6180,2,  35.6690,4,    220.5,2,     1.35,2,    -0.02,2,     0.00,2,     0.20,2,   2050.7,2,   2337.4,2,     1.09,2,  22.3925
  35MF20090103,  OISO,    16,  1,      1,2,20090108,-35.0020,  73.5000, 4304,   1013.3,   6.0886,  34.4140,2,  34.4430,4,    207.4,2,  -999.00,9,  -999.00,9,  -999.00,9,  -999.00,9,   2165.3,2,   2288.5,2,  -999.00,9,   5.9959
  35MF20090103,  OISO,    16,  1,      2,2,20090108,-35.0020,  73.5000, 4304,   1011.2,   6.0893,  34.4143,2,-999.0000,9,    207.2,2,    21.77,2,    26.66,2,     0.03,2,     1.81,2,   2169.1,2,   2290.2,2,     0.83,2,   5.9968
  35MF20090103,  OISO,    16,  1,      3,2,20090108,-35.0020,  73.5000, 4304,    779.3,   9.2208,  34.6808,2,-999.0000,9,    223.2,2,     7.45,2,    18.40,2,     0.21,2,     1.30,2,   2137.2,2,   2297.8,2,  -999.00,9,   9.1324
  35MF20090103,  OISO,    16,  1,      4,2,20090108,-35.0020,  73.5000, 4304,    606.7,  10.7979,  34.8813,2,-999.0000,9,    240.0,2,     4.34,2,    13.12,2,     0.03,2,     0.97,2,   2115.6,2,   2305.3,2,  -999.00,9,  10.7227
  35MF20090103,  OISO,    16,  1,      5,2,20090108,-35.0020,  73.5000, 4304,    507.2,  11.2847,  34.9502,2,  35.0160,4,    241.7,2,     4.06,2,    11.99,2,     0.12,2,     0.89,2,   2114.3,2,   2309.0,2,     0.78,2,  11.2203
  35MF20090103,  OISO,    16,  1,      6,2,20090108,-35.0020,  73.5000, 4304,    404.9,  11.8523,  35.0415,2,-999.0000,9,    239.6,2,     3.79,2,    10.81,2,     0.09,2,     0.81,2,   2101.0,2,   2303.8,2,  -999.00,9,  11.7994
  35MF20090103,  OISO,    16,  1,      7,2,20090108,-35.0020,  73.5000, 4304,    304.5,  12.2763,  35.0991,2,-999.0000,9,    242.4,2,     3.54,2,     9.73,2,     0.22,2,     0.74,2,   2103.0,2,   2312.5,2,     0.87,2,  12.2358
  35MF20090103,  OISO,    16,  1,      8,2,20090108,-35.0020,  73.5000, 4304,    252.6,  12.6357,  35.1548,2,-999.0000,9,    245.5,2,     3.34,2,     8.61,2,     0.02,2,     0.67,2,   2103.6,2,   2317.6,2,  -999.00,9,  12.6015
  35MF20090103,  OISO,    16,  1,      9,2,20090108,-35.0020,  73.5000, 4304,    203.6,  12.8591,  35.1734,2,  35.1987,4,    238.7,2,     3.16,2,     7.48,2,     0.04,2,  -999.00,9,   2102.6,2,   2317.6,2,     0.75,2,  12.8312
  35MF20090103,  OISO,    16,  1,     10,2,20090108,-35.0020,  73.5000, 4304,    202.8,  12.8908,  35.1758,2,-999.0000,9,    239.2,2,  -999.00,9,  -999.00,9,  -999.00,9,  -999.00,9,   2103.2,2,   2319.8,2,  -999.00,9,  12.8630
  35MF20090103,  OISO,    16,  1,     11,2,20090108,-35.0020,  73.5000, 4304,    153.2,  13.2240,  35.1865,2,-999.0000,9,    241.5,2,     2.31,2,     6.32,2,     0.05,2,     0.56,2,   2096.1,2,   2320.1,2,  -999.00,9,  13.2027
  35MF20090103,  OISO,    16,  1,     12,2,20090108,-35.0020,  73.5000, 4304,    127.3,  13.4100,  35.2022,2,-999.0000,9,    242.8,2,     2.09,2,  -999.00,9,  -999.00,9,  -999.00,9,   2092.7,2,   2320.4,2,     0.99,2,  13.3921
  35MF20090103,  OISO,    16,  1,     13,2,20090108,-35.0020,  73.5000, 4304,    112.6,  13.6732,  35.2335,2,-999.0000,9,    242.6,2,     2.40,2,  -999.00,9,  -999.00,9,  -999.00,9,   2088.9,2,   2325.4,2,     1.00,2,  13.6572
  35MF20090103,  OISO,    16,  1,     24,2,20090108,-35.0020,  73.5000, 4304,    112.2,  13.6945,  35.2365,2,-999.0000,9,   -999.0,9,  -999.00,9,  -999.00,9,  -999.00,9,  -999.00,9,   -999.0,9,   -999.0,9,  -999.00,9,  13.6785
  35MF20090103,  OISO,    16,  1,     23,2,20090108,-35.0020,  73.5000, 4304,     71.8,  14.9732,  35.3743,2,-999.0000,9,   -999.0,9,  -999.00,9,  -999.00,9,  -999.00,9,  -999.00,9,   -999.0,9,   -999.0,9,  -999.00,9,  14.9623
  35MF20090103,  OISO,    16,  1,     14,2,20090108,-35.0020,  73.5000, 4304,     71.7,  14.7995,  35.3525,2,-999.0000,9,    254.6,2,     1.10,2,     0.71,2,     0.14,2,     0.33,2,   2081.3,2,   2335.4,2,     3.14,4,  14.7887
  35MF20090103,  OISO,    16,  1,     15,2,20090108,-35.0020,  73.5000, 4304,     51.8,  15.9512,  35.4307,2,  35.4496,4,    259.6,2,     0.88,2,     0.13,2,     0.03,2,     0.24,2,   2058.1,2,   2336.5,2,     1.05,2,  15.9430
  35MF20090103,  OISO,    16,  1,     16,2,20090108,-35.0020,  73.5000, 4304,     31.6,  18.7151,  35.3091,2,-999.0000,9,    240.8,2,     1.09,2,     0.13,2,     0.00,2,     0.19,2,   2046.0,2,   2329.9,2,  -999.00,9,  18.7095
  35MF20090103,  OISO,    16,  1,     17,2,20090108,-35.0020,  73.5000, 4304,     21.2,  19.0320,  35.2701,2,  35.3070,4,    237.8,2,     1.39,2,    -0.03,2,     0.13,2,     0.26,2,   2043.4,2,   2322.7,2,     1.24,2,  19.0282
  35MF20090103,  OISO,    16,  1,     21,2,20090108,-35.0020,  73.5000, 4304,     16.4,  19.0828,  35.2688,2,-999.0000,9,   -999.0,9,  -999.00,9,  -999.00,9,  -999.00,9,  -999.00,9,   -999.0,9,   -999.0,9,  -999.00,9,  19.0799
  35MF20090103,  OISO,    16,  1,     22,2,20090108,-35.0020,  73.5000, 4304,     15.7,  19.1176,  35.2690,2,-999.0000,9,   -999.0,9,     1.27,2,     0.05,2,     0.00,2,     0.07,2,   2049.8,2,   2325.3,2,  -999.00,9,  19.1148
  35MF20090103,  OISO,    16,  1,     18,2,20090108,-35.0020,  73.5000, 4304,     11.2,  19.1550,  35.2702,2,-999.0000,9,    237.3,2,     1.36,2,    -0.01,2,     0.09,2,     0.23,2,   2049.8,2,   2327.0,2,  -999.00,9,  19.1530
  35MF20090103,  OISO,    16,  1,     20,2,20090108,-35.0020,  73.5000, 4304,      4.1,  19.1571,  35.2706,2,-999.0000,9,   -999.0,9,  -999.00,9,  -999.00,9,  -999.00,9,  -999.00,9,   -999.0,9,   -999.0,9,  -999.00,9,  19.1564
  35MF20090103,  OISO,    16,  1,     19,2,20090108,-35.0020,  73.5000, 4304,      3.6,  19.1569,  35.2707,2,-999.0000,9,    237.2,2,     1.17,2,     0.00,2,     0.00,2,     0.17,2,   2048.4,2,   2325.9,2,     1.31,2,  19.1563