BOTTLE,20220627CCHSIOAMB
EXPOCODE,SECT_ID,STNNBR,CASTNO,BTLNBR,BTLNBR_FLAG_W,DATE,LATITUDE,LONGITUDE,DEPTH,CTDPRS,CTDTMP,CTDSAL,CTDSAL_FLAG_W,SALNTY,SALNTY_FLAG_W,OXYGEN,OXYGEN_FLAG_W,SILCAT,SILCAT_FLAG_W,NITRAT,NITRAT_FLAG_W,NITRIT,NITRIT_FLAG_W,PHSPHT,PHSPHT_FLAG_W,TCARBN,TCARBN_FLAG_W,ALKALI,ALKALI_FLAG_W,DELC13,DELC13_FLAG_W,THETA
,,,,,,,,,METERS,DBAR,ITS-90,PSS-78,,PSS-78,,UMOL/KG,,UMOL/KG,,UMOL/KG,,UMOL/KG,,UMOL/KG,,UMOL/KG,,UMOL/KG,,/MILLE,,DEG C
  35MF20090103,  OISO,    15,  1,      2,2,20090109,-40.0000,  76.4100, 3233,   1009.3,   4.9010,  34.3435,2,-999.0000,9,    217.4,2,    27.79,2,    28.58,2,     0.05,2,     1.94,2,   2185.2,2,   2296.0,2,     0.84,2,   4.8179
  35MF20090103,  OISO,    15,  1,      1,2,20090109,-40.0000,  76.4100, 3233,   1008.8,   4.9004,  34.3435,2,  34.3497,2,    215.1,2,  -999.00,9,  -999.00,9,  -999.00,9,  -999.00,9,   2188.9,2,   2298.1,2,  -999.00,9,   4.8173
  35MF20090103,  OISO,    15,  1,      3,2,20090109,-40.0000,  76.4100, 3233,    800.0,   7.4628,  34.5123,2,-999.0000,9,    212.8,2,    14.61,2,  -999.00,9,  -999.00,9,  -999.00,9,   2154.9,2,   2292.0,2,  -999.00,9,   7.3825
  35MF20090103,  OISO,    15,  1,      4,2,20090109,-40.0000,  76.4100, 3233,    609.5,   9.7563,  34.7449,2,-999.0000,9,    222.1,2,     7.45,2,    17.27,2,     0.03,2,     1.23,2,   2134.8,2,   2303.2,2,  -999.00,9,   9.6854
  35MF20090103,  OISO,    15,  1,      5,2,20090109,-40.0000,  76.4100, 3233,    503.8,  10.5778,  34.8397,2,  34.8434,2,    231.6,2,     5.48,2,    14.55,2,     0.11,2,     1.05,2,   2120.2,2,   2305.1,2,     0.91,2,  10.5164
  35MF20090103,  OISO,    15,  1,      6,2,20090109,-40.0000,  76.4100, 3233,    403.4,  11.4430,  34.9710,2,-999.0000,9,    242.5,2,     4.39,2,    11.77,2,     0.04,2,     0.86,2,   2114.0,2,   2310.3,2,  -999.00,9,  11.3915
  35MF20090103,  OISO,    15,  1,      7,2,20090109,-40.0000,  76.4100, 3233,    302.0,  12.1267,  35.1013,2,-999.0000,9,    248.2,2,     3.82,2,     9.69,2,     0.14,2,     0.78,2,   2106.7,2,   2317.7,2,     0.83,2,  12.0868
  35MF20090103,  OISO,    15,  1,      8,2,20090109,-40.0000,  76.4100, 3233,    252.0,  12.3194,  35.1380,2,-999.0000,9,    250.0,2,     3.80,2,     9.15,2,     0.08,2,     0.74,2,   2102.0,2,   2316.7,2,  -999.00,9,  12.2858
  35MF20090103,  OISO,    15,  1,      9,2,20090109,-40.0000,  76.4100, 3233,    202.9,  12.3243,  35.1248,2,  35.1240,2,    247.4,2,     3.61,2,     9.08,2,     0.28,2,     0.72,2,   2103.2,2,   2315.7,2,     0.90,2,  12.2973
  35MF20090103,  OISO,    15,  1,     10,2,20090109,-40.0000,  76.4100, 3233,    152.5,  12.2084,  35.0563,2,-999.0000,9,    250.0,2,     3.15,2,     8.36,2,     0.15,2,  -999.00,9,   2095.8,2,   2313.0,2,  -999.00,9,  12.1883
  35MF20090103,  OISO,    15,  1,     11,2,20090109,-40.0000,  76.4100, 3233,    127.7,  12.3673,  35.0633,2,-999.0000,9,    251.6,2,     2.81,2,     8.25,2,     0.03,2,     0.65,2,   2098.5,2,   2312.5,2,  -999.00,9,  12.3503
  35MF20090103,  OISO,    15,  1,     12,2,20090109,-40.0000,  76.4100, 3233,    100.5,  12.5835,  35.0673,2,-999.0000,9,    252.4,2,     2.80,2,  -999.00,9,  -999.00,9,  -999.00,9,   2093.5,2,   2309.6,2,     0.71,2,  12.5700
  35MF20090103,  OISO,    15,  1,     13,2,20090109,-40.0000,  76.4100, 3233,     77.3,  13.1202,  35.0864,2,-999.0000,9,    256.5,2,     2.24,2,     5.52,2,     0.06,2,     0.58,2,   2089.6,2,   2315.6,2,     0.89,2,  13.1095
  35MF20090103,  OISO,    15,  1,     23,2,20090109,-40.0000,  76.4100, 3233,     61.5,  14.1729,  35.0257,2,-999.0000,9,   -999.0,9,  -999.00,9,  -999.00,9,  -999.00,9,  -999.00,9,   -999.0,9,   -999.0,9,  -999.00,9,  14.1640
  35MF20090103,  OISO,    15,  1,     24,2,20090109,-40.0000,  76.4100, 3233,     61.2,  14.1684,  35.0315,2,-999.0000,9,   -999.0,9,     1.04,2,     3.69,2,     0.23,2,     0.44,2,   2068.5,2,   2312.2,2,  -999.00,9,  14.1595
  35MF20090103,  OISO,    15,  1,     14,2,20090109,-40.0000,  76.4100, 3233,     48.5,  14.4121,  34.9760,2,  34.9848,2,    258.7,2,     0.89,2,     2.60,2,     0.19,2,     0.54,2,   2061.1,2,   2313.3,2,     1.21,2,  14.4050
  35MF20090103,  OISO,    15,  1,     15,2,20090109,-40.0000,  76.4100, 3233,     43.4,  14.4234,  34.9718,2,-999.0000,9,    258.8,2,     0.44,2,     2.65,2,     0.19,2,  -999.00,9,   2065.1,2,   2328.6,3,     1.12,2,  14.4170
  35MF20090103,  OISO,    15,  1,     16,2,20090109,-40.0000,  76.4100, 3233,     37.8,  14.4396,  34.9592,2,-999.0000,9,    259.1,2,     0.22,2,     3.21,2,     0.16,2,     0.36,2,   2059.3,2,   2311.6,2,     1.21,2,  14.4341
  35MF20090103,  OISO,    15,  1,     22,2,20090109,-40.0000,  76.4100, 3233,     36.4,  14.4411,  34.9596,2,-999.0000,9,   -999.0,9,  -999.00,9,  -999.00,9,  -999.00,9,  -999.00,9,   -999.0,9,   -999.0,9,  -999.00,9,  14.4358
  35MF20090103,  OISO,    15,  1,     17,2,20090109,-40.0000,  76.4100, 3233,     22.1,  14.4540,  34.9657,2,  34.9909,4,    259.2,2,     0.40,2,  -999.00,9,  -999.00,9,  -999.00,9,   2057.6,2,   2310.2,2,     1.13,2,  14.4507
  35MF20090103,  OISO,    15,  1,     18,2,20090109,-40.0000,  76.4100, 3233,     10.0,  14.4521,  34.9641,2,-999.0000,9,    258.9,2,     0.29,2,     3.38,2,     0.42,2,     0.38,2,   2052.5,2,   2303.9,2,     1.19,2,  14.4506
  35MF20090103,  OISO,    15,  1,     21,2,20090109,-40.0000,  76.4100, 3233,      9.2,  14.4505,  34.9638,2,-999.0000,9,   -999.0,9,  -999.00,9,  -999.00,9,  -999.00,9,  -999.00,9,   -999.0,9,   -999.0,9,  -999.00,9,  14.4491
  35MF20090103,  OISO,    15,  1,     20,2,20090109,-40.0000,  76.4100, 3233,      1.9,  14.4426,  34.9609,2,-999.0000,9,   -999.0,9,  -999.00,9,  -999.00,9,  -999.00,9,  -999.00,9,   -999.0,9,   -999.0,9,  -999.00,9,  14.4423
  35MF20090103,  OISO,    15,  1,     19,2,20090109,-40.0000,  76.4100, 3233,      1.7,  14.4419,  34.9614,2,  34.9890,4,    259.1,2,     0.49,2,     3.29,2,     0.16,2,     0.40,2,   2060.5,2,   2310.9,2,     1.21,2,  14.4416
  35MF20090103,  OISO,    31,  1,      2,2,20090126,-44.9230,  95.0100, 2710,   2683.8,   1.5976,  34.7399,2,-999.0000,9,    202.7,2,   101.30,2,    30.57,2,     0.71,3,     2.06,2,   2257.4,2,   2362.9,2,     0.24,2,   1.4079
  35MF20090103,  OISO,    31,  1,      1,2,20090126,-44.9230,  95.0100, 2710,   2681.5,   1.5980,  34.7401,2,  34.7480,2,    202.7,2,  -999.00,9,  -999.00,9,  -999.00,9,  -999.00,9,   2258.5,2,   2363.8,2,  -999.00,9,   1.4085
  35MF20090103,  OISO,    31,  1,     24,2,20090126,-44.9230,  95.0100, 2710,   2681.3,   1.5982,  34.7399,2,-999.0000,9,   -999.0,9,  -999.00,9,  -999.00,9,  -999.00,9,  -999.00,9,   -999.0,9,   -999.0,9,  -999.00,9,   1.4087
  35MF20090103,  OISO,    31,  1,      3,2,20090126,-44.9230,  95.0100, 2710,   2325.9,   1.9428,  34.7521,2,-999.0000,9,    199.8,2,    86.32,2,    30.02,2,     0.04,2,  -999.00,9,   2252.7,2,   2356.5,2,  -999.00,9,   1.7788
  35MF20090103,  OISO,    31,  1,      4,2,20090126,-44.9230,  95.0100, 2710,   2021.7,   2.2151,  34.7448,2,  34.7463,2,    195.9,2,    77.40,2,    29.82,2,     0.04,2,     1.99,2,   2248.5,2,   2349.9,2,  -999.00,9,   2.0731
  35MF20090103,  OISO,    31,  1,      5,2,20090126,-44.9230,  95.0100, 2710,   1513.3,   2.5731,  34.6443,2,-999.0000,9,    180.2,2,    71.38,2,    32.03,2,     0.10,2,     2.16,2,   2249.3,2,   2341.8,2,  -999.00,9,   2.4689
  35MF20090103,  OISO,    31,  1,      6,2,20090126,-44.9230,  95.0100, 2710,   1210.4,   2.8041,  34.5335,2,-999.0000,9,    178.5,2,    65.70,2,    33.42,2,     0.16,2,     2.25,2,   2245.0,2,   2332.6,2,  -999.00,9,   2.7217
  35MF20090103,  OISO,    31,  1,      7,2,20090126,-44.9230,  95.0100, 2710,   1005.5,   3.1984,  34.4511,2,  34.4654,2,    184.8,2,    55.86,2,    33.33,2,     0.10,2,     2.22,2,   2234.9,2,   2325.5,2,     0.67,2,   3.1286
  35MF20090103,  OISO,    31,  1,      8,2,20090126,-44.9230,  95.0100, 2710,    807.9,   3.5020,  34.3262,2,-999.0000,9,    213.0,2,    40.95,2,    31.47,2,     0.04,2,     2.15,2,   2210.3,2,   2307.9,2,  -999.00,9,   3.4454
  35MF20090103,  OISO,    31,  1,      9,2,20090126,-44.9230,  95.0100, 2710,    603.2,   4.1765,  34.2620,2,-999.0000,9,    226.7,2,    27.70,2,    29.04,2,     0.09,2,     1.96,2,   2185.0,2,   2293.0,2,  -999.00,9,   4.1321
  35MF20090103,  OISO,    31,  1,     10,2,20090126,-44.9230,  95.0100, 2710,    504.3,   4.9301,  34.2913,2,  34.3748,3,    225.5,2,    21.54,2,    28.02,2,     0.01,2,     1.93,2,   2177.8,2,   2291.4,2,     0.81,2,   4.8904
  35MF20090103,  OISO,    31,  1,     11,2,20090126,-44.9230,  95.0100, 2710,    404.1,   5.6128,  34.2726,2,-999.0000,9,    235.7,2,    15.01,2,    24.90,2,     0.05,2,     1.72,2,   2162.9,2,   2285.1,2,  -999.00,9,   5.5791
  35MF20090103,  OISO,    31,  1,     12,2,20090126,-44.9230,  95.0100, 2710,    302.7,   6.4589,  34.2747,2,-999.0000,9,    249.6,2,     9.88,2,    21.98,2,     0.07,2,  -999.00,9,   2148.0,2,   2284.5,2,     0.96,2,   6.4319
  35MF20090103,  OISO,    31,  1,     13,2,20090126,-44.9230,  95.0100, 2710,    249.6,   6.6895,  34.2444,2,-999.0000,9,    260.3,2,     8.00,2,    20.87,2,     0.08,2,     1.46,2,   2138.3,2,   2280.7,2,  -999.00,9,   6.6669
  35MF20090103,  OISO,    31,  1,     14,2,20090126,-44.9230,  95.0100, 2710,    202.4,   7.1561,  34.2729,2,  34.2687,2,    266.2,2,     6.60,2,    21.97,2,     0.08,2,  -999.00,9,   2131.0,2,   2283.1,2,     1.13,2,   7.1371
  35MF20090103,  OISO,    31,  1,     15,2,20090126,-44.9230,  95.0100, 2710,    150.7,   7.1650,  34.2036,2,-999.0000,9,    279.0,2,     5.15,2,    18.79,2,     0.08,2,     1.36,2,   2121.8,2,   2279.0,2,  -999.00,9,   7.1509
  35MF20090103,  OISO,    31,  1,     16,2,20090126,-44.9230,  95.0100, 2710,    100.6,   7.4320,  34.1294,2,-999.0000,9,    287.3,2,     3.08,2,  -999.00,9,  -999.00,9,  -999.00,9,   2115.2,2,   2281.3,2,     1.23,2,   7.4224
  35MF20090103,  OISO,    31,  1,     17,2,20090126,-44.9230,  95.0100, 2710,     75.4,   8.6286,  34.0267,2,-999.0000,9,    289.5,2,     1.73,2,  -999.00,9,  -999.00,9,  -999.00,9,   2100.3,2,   2276.8,2,     1.54,2,   8.6208
  35MF20090103,  OISO,    31,  1,     18,2,20090126,-44.9230,  95.0100, 2710,     58.4,   8.6896,  34.0174,2,  34.0194,2,    290.0,2,     1.69,2,    16.62,2,     0.39,2,     1.36,2,   2107.6,2,   2284.5,2,  -999.00,9,   8.6835
  35MF20090103,  OISO,    31,  1,     19,2,20090126,-44.9230,  95.0100, 2710,     34.2,   8.9582,  34.0368,2,-999.0000,9,    288.8,2,     1.70,2,    16.31,2,     0.33,2,  -999.00,9,   2095.2,2,   2276.7,2,  -999.00,9,   8.9546
  35MF20090103,  OISO,    31,  1,     20,2,20090126,-44.9230,  95.0100, 2710,     19.8,   8.9790,  34.0379,2,-999.0000,9,    288.6,2,     1.76,2,  -999.00,9,  -999.00,9,  -999.00,9,   2095.9,2,   2277.3,2,     1.47,2,   8.9769
  35MF20090103,  OISO,    31,  1,     21,2,20090126,-44.9230,  95.0100, 2710,     13.9,   9.0000,  34.0382,2,-999.0000,9,    289.7,2,     1.65,2,    16.31,2,     0.26,2,     1.23,2,   2102.1,2,   2282.4,2,     1.49,2,   8.9985
  35MF20090103,  OISO,    31,  1,     22,2,20090126,-44.9230,  95.0100, 2710,      2.7,   9.0013,  34.0374,2,-999.0000,9,    289.6,2,     1.76,2,    16.26,2,     0.27,2,     1.21,2,   2095.7,2,   2276.2,2,     1.21,2,   9.0010
  35MF20090103,  OISO,    31,  1,     23,2,20090126,-44.9230,  95.0100, 2710,      2.1,   9.0001,  34.0380,2,  34.0400,2,    284.2,2,     1.75,2,  -999.00,9,  -999.00,9,  -999.00,9,   2098.0,2,   2277.8,2,     1.55,2,   8.9999
  35MF20090103,  OISO,    32,  2,      2,2,20090209,-40.0000, 110.0000, 4630,   4585.1,   0.9034,  34.7053,2,-999.0000,9,    212.1,2,   123.34,2,    31.49,2,     0.03,2,     2.17,2,   2274.2,2,   2377.3,2,  -999.00,9,   0.5372
  35MF20090103,  OISO,    32,  2,      1,2,20090209,-40.0000, 110.0000, 4630,   4584.0,   0.9033,  34.7053,2,  34.7091,2,    213.8,2,  -999.00,9,  -999.00,9,  -999.00,9,  -999.00,9,   2274.3,2,   2374.0,2,  -999.00,9,   0.5372
  35MF20090103,  OISO,    32,  2,      3,2,20090209,-40.0000, 110.0000, 4630,   4326.4,   0.9098,  34.7072,2,-999.0000,9,    211.7,2,   122.36,2,    31.42,2,     0.02,2,     2.16,2,   2271.5,2,   2372.9,2,  -999.00,9,   0.5723
  35MF20090103,  OISO,    32,  2,      4,2,20090209,-40.0000, 110.0000, 4630,   4080.9,   0.9311,  34.7092,2,-999.0000,9,    210.4,2,   121.43,2,    31.33,2,     0.03,2,     2.19,2,   2269.6,2,   2373.3,2,     0.93,3,   0.6195
  35MF20090103,  OISO,    32,  2,      5,2,20090209,-40.0000, 110.0000, 4630,   3875.4,   1.0115,  34.7132,2,-999.0000,9,    208.4,2,   118.40,2,    30.84,2,     0.03,2,     2.15,2,   2268.7,2,   2373.0,2,  -999.00,9,   0.7193
  35MF20090103,  OISO,    32,  2,      6,2,20090209,-40.0000, 110.0000, 4630,   3668.5,   1.1291,  34.7192,2,-999.0000,9,    206.0,2,   115.50,2,  -999.00,9,  -999.00,9,  -999.00,9,   2267.4,2,   2371.5,2,  -999.00,9,   0.8550
  35MF20090103,  OISO,    32,  2,      7,2,20090209,-40.0000, 110.0000, 4630,   3462.7,   1.2794,  34.7259,2,-999.0000,9,    203.4,2,   110.81,2,  -999.00,9,  -999.00,9,  -999.00,9,   2266.3,2,   2371.6,2,  -999.00,9,   1.0223
  35MF20090103,  OISO,    32,  2,      8,2,20090209,-40.0000, 110.0000, 4630,   3257.1,   1.4623,  34.7341,2,-999.0000,9,    205.8,2,   105.30,2,    30.70,2,     0.03,2,     2.14,2,   2265.1,2,   2366.2,2,  -999.00,9,   1.2211
  35MF20090103,  OISO,    32,  2,      9,2,20090209,-40.0000, 110.0000, 4630,   3053.1,   1.6335,  34.7396,2,-999.0000,9,    199.3,2,   100.66,2,    30.26,2,     0.04,2,     2.07,2,   2262.5,2,   2366.1,2,  -999.00,9,   1.4083
  35MF20090103,  OISO,    32,  2,     10,2,20090209,-40.0000, 110.0000, 4630,   2848.2,   1.8324,  34.7414,2,-999.0000,9,    193.5,2,    96.22,2,    29.58,2,     0.09,2,  -999.00,9,   2259.5,2,   2365.4,2,  -999.00,9,   1.6225
  35MF20090103,  OISO,    32,  2,     11,2,20090209,-40.0000, 110.0000, 4630,   2642.3,   2.0344,  34.7412,2,-999.0000,9,    190.4,2,    90.87,2,    30.22,2,     0.02,2,     2.19,2,   2260.1,2,   2364.5,2,  -999.00,9,   1.8399
  35MF20090103,  OISO,    32,  2,     12,2,20090209,-40.0000, 110.0000, 4630,   2439.0,   2.2224,  34.7286,2,-999.0000,9,    183.1,2,    88.30,2,    29.63,2,     0.09,2,  -999.00,9,   2261.5,2,   2361.4,2,  -999.00,9,   2.0433
  35MF20090103,  OISO,    32,  2,     13,2,20090209,-40.0000, 110.0000, 4630,   2233.9,   2.3636,  34.7097,2,-999.0000,9,    176.9,2,    86.77,2,    29.78,2,     0.10,2,  -999.00,9,   2263.2,2,   2359.9,2,  -999.00,9,   2.2007
  35MF20090103,  OISO,    32,  2,     14,2,20090209,-40.0000, 110.0000, 4630,   2029.6,   2.5225,  34.6767,2,-999.0000,9,   -999.0,9,    83.73,2,    32.18,2,     0.02,2,     2.31,2,   2264.2,2,   2356.3,2,  -999.00,9,   2.3754
  35MF20090103,  OISO,    32,  2,     15,2,20090209,-40.0000, 110.0000, 4630,   1928.4,   2.6152,  34.6520,2,-999.0000,9,    194.4,3,    82.00,2,    32.38,2,     0.03,2,     2.24,2,   2263.5,2,   2353.7,2,  -999.00,9,   2.4756
  35MF20090103,  OISO,    32,  2,     16,2,20090209,-40.0000, 110.0000, 4630,   1826.5,   2.6954,  34.6253,2,-999.0000,9,   -999.0,9,  -999.00,9,  -999.00,9,  -999.00,9,  -999.00,9,   -999.0,9,   -999.0,9,  -999.00,9,   2.5636
  35MF20090103,  OISO,    32,  2,     17,2,20090209,-40.0000, 110.0000, 4630,   1724.1,   2.8089,  34.5846,2,-999.0000,9,    165.5,2,    76.06,2,  -999.00,9,  -999.00,9,  -999.00,9,   2263.6,2,   2348.2,2,  -999.00,9,   2.6845
  35MF20090103,  OISO,    32,  2,     18,2,20090209,-40.0000, 110.0000, 4630,   1623.0,   2.9254,  34.5436,2,-999.0000,9,    169.1,2,    70.36,2,  -999.00,9,  -999.00,9,  -999.00,9,   2255.0,2,   2339.0,2,  -999.00,9,   2.8082
  35MF20090103,  OISO,    32,  2,     19,2,20090209,-40.0000, 110.0000, 4630,   1521.0,   3.0685,  34.4998,2,-999.0000,9,    170.4,2,    65.93,2,    33.93,2,     0.03,2,     2.30,2,   2250.3,2,   2334.5,2,     0.42,2,   2.9583
  35MF20090103,  OISO,    32,  2,     20,2,20090209,-40.0000, 110.0000, 4630,   1419.7,   3.2607,  34.4602,2,-999.0000,9,    180.0,2,    70.21,3,  -999.00,9,  -999.00,9,  -999.00,9,   2253.8,2,   2342.3,3,  -999.00,9,   3.1569
  35MF20090103,  OISO,    32,  2,     21,2,20090209,-40.0000, 110.0000, 4630,   1318.1,   3.5114,  34.4128,2,-999.0000,9,    190.1,2,    52.12,2,    32.91,2,     0.03,2,     2.26,2,   2229.8,2,   2321.5,2,  -999.00,9,   3.4136
  35MF20090103,  OISO,    32,  2,     22,2,20090209,-40.0000, 110.0000, 4630,   1216.6,   3.8149,  34.3705,2,-999.0000,9,    198.5,2,    44.06,2,    31.57,2,     0.04,2,     2.19,2,   2217.2,2,   2311.0,2,  -999.00,9,   3.7229
  35MF20090103,  OISO,    32,  2,     23,2,20090209,-40.0000, 110.0000, 4630,   1114.8,   4.4740,  34.3589,2,-999.0000,9,    202.5,2,    34.21,2,  -999.00,9,  -999.00,9,  -999.00,9,   2201.5,2,   2302.7,2,  -999.00,9,   4.3849
  35MF20090103,  OISO,    32,  2,     24,2,20090209,-40.0000, 110.0000, 4630,   1013.6,   5.2868,  34.3689,2,-999.0000,9,    206.8,2,    26.73,2,    28.92,2,     0.07,2,     1.98,2,   2181.7,2,   2292.1,2,     0.78,2,   5.2003