BOTTLE,20220627CCHSIOAMB
EXPOCODE,SECT_ID,STNNBR,CASTNO,BTLNBR,BTLNBR_FLAG_W,DATE,LATITUDE,LONGITUDE,DEPTH,CTDPRS,CTDTMP,CTDSAL,CTDSAL_FLAG_W,SALNTY,SALNTY_FLAG_W,OXYGEN,OXYGEN_FLAG_W,SILCAT,SILCAT_FLAG_W,NITRAT,NITRAT_FLAG_W,NITRIT,NITRIT_FLAG_W,PHSPHT,PHSPHT_FLAG_W,TCARBN,TCARBN_FLAG_W,ALKALI,ALKALI_FLAG_W,DELC13,DELC13_FLAG_W,THETA
,,,,,,,,,METERS,DBAR,ITS-90,PSS-78,,PSS-78,,UMOL/KG,,UMOL/KG,,UMOL/KG,,UMOL/KG,,UMOL/KG,,UMOL/KG,,UMOL/KG,,/MILLE,,DEG C
  35MF20090103,  OISO,    32,  1,      1,2,20090209,-40.0000, 110.0000, 4630,   1012.5,   5.3399,  34.3393,3,-999.0000,9,    208.9,2,  -999.00,9,  -999.00,9,  -999.00,9,  -999.00,9,   2183.0,2,   2292.6,2,  -999.00,9,-999.0000
  35MF20090103,  OISO,    32,  1,      2,2,20090209,-40.0000, 110.0000, 4630,   1012.2,   5.3404,  34.3400,3,  34.3621,2,    210.0,2,  -999.00,9,  -999.00,9,  -999.00,9,  -999.00,9,   2184.4,2,   2291.2,2,  -999.00,9,   5.2536
  35MF20090103,  OISO,    32,  1,      3,2,20090209,-40.0000, 110.0000, 4630,    810.3,   7.7822,  34.4955,3,-999.0000,9,    216.6,2,    10.87,2,    22.71,2,     0.03,2,     1.57,2,   2154.6,2,   2289.6,2,  -999.00,9,-999.0000
  35MF20090103,  OISO,    32,  1,      4,2,20090209,-40.0000, 110.0000, 4630,    608.2,   9.1543,  34.6525,3,-999.0000,9,    242.2,2,     5.00,2,    17.38,2,     0.14,2,     1.17,2,   2130.5,2,   2293.7,2,  -999.00,9,-999.0000
  35MF20090103,  OISO,    32,  1,      5,2,20090209,-40.0000, 110.0000, 4630,    506.2,   9.5499,  34.7047,3,  34.7060,2,    244.3,2,     4.31,2,  -999.00,9,  -999.00,9,  -999.00,9,   2130.4,2,   2299.0,2,     0.66,2,   9.4921
  35MF20090103,  OISO,    32,  1,      6,2,20090209,-40.0000, 110.0000, 4630,    405.3,   9.8313,  34.7315,3,-999.0000,9,    252.5,2,     3.79,2,    13.86,2,     0.04,2,     1.01,2,   2125.8,2,   2300.4,2,  -999.00,9,-999.0000
  35MF20090103,  OISO,    32,  1,      7,2,20090209,-40.0000, 110.0000, 4630,    304.5,  10.1992,  34.7718,3,-999.0000,9,    260.9,2,     2.85,2,  -999.00,9,  -999.00,9,  -999.00,9,   2115.5,2,   2302.1,2,  -999.00,9,-999.0000
  35MF20090103,  OISO,    32,  1,      8,2,20090209,-40.0000, 110.0000, 4630,    253.5,  10.4935,  34.8154,3,-999.0000,9,    263.3,2,     2.55,2,    10.90,2,     0.02,2,     0.88,2,   2114.0,2,   2307.2,2,  -999.00,9,-999.0000
  35MF20090103,  OISO,    32,  1,      9,2,20090209,-40.0000, 110.0000, 4630,    202.9,  11.2386,  34.9522,3,  34.9490,2,    256.8,2,     2.15,2,     9.33,2,     0.03,2,     0.81,2,   2113.5,2,   2314.6,2,  -999.00,9,  11.2132
  35MF20090103,  OISO,    32,  1,     10,2,20090209,-40.0000, 110.0000, 4630,    152.7,  11.8710,  35.0702,3,-999.0000,9,    255.0,2,     1.91,2,  -999.00,9,  -999.00,9,  -999.00,9,   2111.7,2,   2320.8,2,  -999.00,9,-999.0000
  35MF20090103,  OISO,    32,  1,     11,2,20090209,-40.0000, 110.0000, 4630,    127.7,  12.0259,  35.0939,3,-999.0000,9,    255.0,2,     1.83,2,  -999.00,9,  -999.00,9,  -999.00,9,   2108.7,2,   2320.8,2,  -999.00,9,-999.0000
  35MF20090103,  OISO,    32,  1,     12,2,20090209,-40.0000, 110.0000, 4630,    102.1,  12.4073,  35.1579,3,-999.0000,9,    270.8,2,     1.67,2,     6.67,2,     0.07,2,     0.56,2,   2107.4,2,   2323.1,2,     0.98,2,-999.0000
  35MF20090103,  OISO,    32,  1,     13,2,20090209,-40.0000, 110.0000, 4630,     76.7,  13.0144,  35.2520,3,-999.0000,9,    251.0,2,     1.55,2,     4.99,2,     0.43,2,     0.49,2,   2101.5,2,   2329.0,2,  -999.00,9,-999.0000
  35MF20090103,  OISO,    32,  1,     24,2,20090209,-40.0000, 110.0000, 4630,     62.1,  13.8936,  34.9966,3,-999.0000,9,   -999.0,9,  -999.00,9,  -999.00,9,  -999.00,9,  -999.00,9,   -999.0,9,   -999.0,9,  -999.00,9,-999.0000
  35MF20090103,  OISO,    32,  1,     14,2,20090209,-40.0000, 110.0000, 4630,     61.3,  13.8101,  35.0381,3,  35.0763,2,    255.7,2,     0.85,2,     4.41,2,     0.29,2,     0.47,2,   2091.5,2,   2326.1,2,     1.23,2,  13.8014
  35MF20090103,  OISO,    32,  1,     15,2,20090209,-40.0000, 110.0000, 4630,     51.6,  14.0819,  34.9468,3,  34.9453,2,    257.3,2,     0.38,2,     4.70,2,     0.15,2,     0.48,2,   2080.1,2,   2317.7,2,     1.35,2,  14.0744
  35MF20090103,  OISO,    32,  1,     23,2,20090209,-40.0000, 110.0000, 4630,     51.5,  14.0837,  34.9476,3,-999.0000,9,   -999.0,9,  -999.00,9,  -999.00,9,  -999.00,9,  -999.00,9,   -999.0,9,   -999.0,9,  -999.00,9,-999.0000
  35MF20090103,  OISO,    32,  1,     16,2,20090209,-40.0000, 110.0000, 4630,     36.6,  14.1185,  34.9423,3,  34.9487,2,    259.8,2,     0.40,2,  -999.00,9,  -999.00,9,  -999.00,9,   2077.3,2,   2317.2,2,     1.40,2,  14.1132
  35MF20090103,  OISO,    32,  1,     22,2,20090209,-40.0000, 110.0000, 4630,     36.2,  14.1210,  34.9413,3,-999.0000,9,   -999.0,9,  -999.00,9,  -999.00,9,  -999.00,9,  -999.00,9,   -999.0,9,   -999.0,9,  -999.00,9,-999.0000
  35MF20090103,  OISO,    32,  1,     17,2,20090209,-40.0000, 110.0000, 4630,     21.3,  14.1320,  34.9422,3,-999.0000,9,    260.3,2,     0.40,2,  -999.00,9,  -999.00,9,  -999.00,9,   2077.0,2,   2315.9,2,     1.32,2,-999.0000
  35MF20090103,  OISO,    32,  1,     18,2,20090209,-40.0000, 110.0000, 4630,     11.8,  14.1333,  34.9427,3,  34.9433,2,    260.1,2,     0.37,2,  -999.00,9,  -999.00,9,  -999.00,9,   2080.5,2,   2320.7,3,  -999.00,9,  14.1316
  35MF20090103,  OISO,    32,  1,     21,2,20090209,-40.0000, 110.0000, 4630,     11.4,  14.1340,  34.9425,3,-999.0000,9,   -999.0,9,  -999.00,9,  -999.00,9,  -999.00,9,  -999.00,9,   -999.0,9,   -999.0,9,  -999.00,9,-999.0000
  35MF20090103,  OISO,    32,  1,     19,2,20090209,-40.0000, 110.0000, 4630,      4.2,  14.1303,  34.9436,3,  34.9418,2,    260.2,2,     0.36,2,     4.85,2,     0.15,2,     0.49,2,   2077.7,2,   2315.6,2,     1.41,2,  14.1297
  35MF20090103,  OISO,    32,  1,     20,2,20090209,-40.0000, 110.0000, 4630,      3.6,  14.1298,  34.9434,3,-999.0000,9,   -999.0,9,  -999.00,9,  -999.00,9,  -999.00,9,  -999.00,9,   -999.0,9,   -999.0,9,  -999.00,9,-999.0000