BOTTLE,20220624CCHSIOAMB
# Fixed alignment error in the units 
# changed flag from 2 to 9 for fill value for SALNTY at 121-1-1
#BOTTLE,20010626WHPSIOKJU
#code : jjward hyd_to_exchange.pl 
#original files copied from HTML directory: 20010626
#
# DATA CITATION
#| CCHDO Citation Information
#|
#| Please cite data downloaded from CCHDO as: 
#| [Data providers of the parameter(s) used]. [Year of file access]. [CTD/Bottle] data from cruise [expocode], 
#| [format version used]. Accessed from CCHDO [url of cruise data page]. Access date [date of download].
#| [Applicable CCHDO cruise DOI if provided].
#|
#| For example: 
#| Swift, J. and Becker, S. 2019. CTD data from Cruise 33RR20160321, exchange version. Accessed from CCHDO 
#| https://cchdo.ucsd.edu/cruise/33RR20160321. Access date 2019-08-21. CCHDO cruise DOI: 10.7942/C2008W
#|
#| Information on the scientists who provided the different parameters can be found in the cruise report. 
#| Additionally, for US GO-SHIP cruises, this information is usually in the comments section in the text headers 
#| of the Exchange bottle files.
#|
#| Users are also encouraged to acknowledge the funding program that supported the data collection in their publication. 
#| For US GO-SHIP data this is the NSF/NOAA funded U.S Repeat Hydrography Program.
#|
#| For data citation, please use the data providers listed below. 
#|
#| Programs and Principal Investigators
#| List of Principal Investigators
#| Name                    Responsibility                                                Institution*
#| --------------------------------------------------------------------------------------------------
#| LIU, Cho-Teng           calibration, processing and interpretation of CTD data        NTU 
#| PAI, Su-Cheng           collection, analysis and interpretation of water sample data  NTU
#| Israel Bentillo         interpretation of CTD data along with C-T Liu                 UP
#| CHEN, Cheng-Tung Arthur developing method for collecting C-14 samples                 NSYSU
#| 
#| List of Cruise Participants
#| Name   Responsibility.                                 Institution*
#| -------------------------------------------------------------------
#| LIU, Cho-Teng        chief scientist                   NTU 
#| PAI, Su-Cheng        chief chemist                     NTU
#| CHIU, Tai-Sheng      chief zoologist                   NTU
#| CHENG, Shih-Pei      CTD data processing               NTU
#| YANG, Chung-Cheng    nitrate analysis                  NTU
#| JENG, Kwung-Lung     phosphate, silicate and           NTU 
#|                      nitrite analysis, &          
#|                      chemical hydrography data
#| KUO, Ting-Yu         salinity and dissolved            NTU
#|                      oxygen analysis
#| CHEN, Hung-Yu        heavy metal analysis processing   NTU
#| BENTILLO, Israel G.  physical oceanographer            UP
#| WANG, Shu-lun        pH analysis                       NSYSU
#| HUANG, Ming-Shung    Alkalinity                        NSYSU
#| WANG, Chi-Hua        pH analysis                       NSYSU
#| 
#| List of Institutions
#| Abbreviation   Institution
#| ----------------------------------------------
#| NTU            National Taiwan University 
#| UP             University of the Philippines 
#| NSYSU          National Sun Yat-sen University 
#
EXPOCODE,SECT_ID,STNNBR,CASTNO,SAMPNO,BTLNBR,BTLNBR_FLAG_W,DATE,TIME,LATITUDE,LONGITUDE,DEPTH,CTDPRS,CTDTMP,CTDSAL,CTDSAL_FLAG_W,SALNTY,SALNTY_FLAG_W,OXYGEN,OXYGEN_FLAG_W,SILCAT,SILCAT_FLAG_W,NITRAT,NITRAT_FLAG_W,NITRIT,NITRIT_FLAG_W,PHSPHT,PHSPHT_FLAG_W,CFC-11,CFC-11_FLAG_W,CFC-12,CFC-12_FLAG_W
,,,,,,,,,,,,DBAR, IPTS-68,  PSS-78,,PSS-78,,UMOL/KG,,UMOL/KG,,UMOL/KG,,UMOL/KG,,UMOL/KG,,PMOL/KG,,PMOL/KG,
     21OR287_2,  PR21,   121,  1,     12,      0,1,19910709,1937, 18.6158, 120.7168,  562,      0.0,  29.5970,  33.7210,2,-999.0000,9,    214.8,2,     0.00,2,     0.00,2,     0.00,2,     0.00,2, -999.000,9, -999.000,9
     21OR287_2,  PR21,   121,  1,     11,     6A,2,19910709,1937, 18.6158, 120.7168,  562,     26.0,  29.4180,  33.7160,2,-999.0000,9,    217.2,2,     0.00,2,     0.00,2,     0.02,2,     0.01,2, -999.000,9, -999.000,9
     21OR287_2,  PR21,   121,  1,     10,      3,2,19910709,1937, 18.6158, 120.7168,  562,     52.0,  28.8370,  33.7740,2,-999.0000,9,    218.2,2,     0.00,2,     0.00,2,     0.00,2,     0.00,2, -999.000,9, -999.000,9
     21OR287_2,  PR21,   121,  1,      9,    11A,2,19910709,1937, 18.6158, 120.7168,  562,    101.0,  22.5510,  34.3410,2,-999.0000,9,    210.9,2,     2.40,2,     1.87,2,     0.26,2,     0.12,2, -999.000,9, -999.000,9
     21OR287_2,  PR21,   121,  1,      8,     10,2,19910709,1937, 18.6158, 120.7168,  562,    151.0,  18.5330,  34.6250,2,-999.0000,9,    165.2,2,     9.60,2,     7.22,2,     0.17,2,     0.39,2, -999.000,9, -999.000,9
     21OR287_2,  PR21,   121,  1,      7,      6,2,19910709,1937, 18.6158, 120.7168,  562,    200.0,  14.9820,  34.5740,2,-999.0000,9,    146.8,2,    20.00,2,    16.31,2,     0.02,2,     1.06,2, -999.000,9, -999.000,9
     21OR287_2,  PR21,   121,  1,      6,      8,2,19910709,1937, 18.6158, 120.7168,  562,    250.0,  13.1290,  34.5150,2,-999.0000,9,    139.0,2,    27.20,2,    20.03,2,     0.02,2,     1.33,2, -999.000,9, -999.000,9
     21OR287_2,  PR21,   121,  1,      5,     2A,2,19910709,1937, 18.6158, 120.7168,  562,    301.0,  11.5260,  34.4650,2,-999.0000,9,    135.1,2,    36.00,2,    22.41,2,     0.08,2,     1.49,2, -999.000,9, -999.000,9
     21OR287_2,  PR21,   121,  1,      4,      1,2,19910709,1937, 18.6158, 120.7168,  562,    351.0,  10.0350,  34.4290,2,-999.0000,9,    126.9,2,    48.00,4,    22.12,4,     0.08,4,     1.78,4, -999.000,9, -999.000,9
     21OR287_2,  PR21,   121,  1,      3,     12,2,19910709,1937, 18.6158, 120.7168,  562,    401.0,   9.4080,  34.4120,2,-999.0000,9,    125.4,2,    51.20,2,    26.62,2,     0.03,2,     1.83,2, -999.000,9, -999.000,9
     21OR287_2,  PR21,   121,  1,      2,      7,2,19910709,1937, 18.6158, 120.7168,  562,    449.0,   8.2820,  34.4180,2,-999.0000,9,    111.3,2,    62.40,2,    30.02,2,     0.02,2,     2.06,2, -999.000,9, -999.000,9
     21OR287_2,  PR21,   121,  1,      1,     11,2,19910709,1937, 18.6158, 120.7168,  562,    498.0,-999.0000,-999.0000,9,-999.0000,9,    109.4,2,    64.00,2,    33.24,2,     0.02,2,     2.10,2, -999.000,9, -999.000,9
     21OR287_2,  PR21,   120,  1,     12,      0,1,19910709,2040, 18.7350, 120.7150, 1905,      0.0,-999.0000,-999.0000,9,  33.7640,2,    217.2,2,     1.10,2,     0.00,2,     0.01,2,     0.00,2, -999.000,9, -999.000,9
     21OR287_2,  PR21,   120,  1,     11,     6A,2,19910709,2040, 18.7350, 120.7150, 1905,     51.0,  28.8320,  33.7910,2,  33.8070,4,    219.7,2,     1.10,2,     0.00,2,     0.00,2,     0.01,2, -999.000,9, -999.000,9
     21OR287_2,  PR21,   120,  1,     10,      3,2,19910709,2040, 18.7350, 120.7150, 1905,    104.0,  22.1920,  34.3910,2,  34.3650,4,    214.8,2,     2.20,2,     1.07,2,     0.22,2,     0.16,2, -999.000,9, -999.000,9
     21OR287_2,  PR21,   120,  1,      9,    11A,2,19910709,2040, 18.7350, 120.7150, 1905,    203.0,  14.4580,  34.5590,2,  34.4390,2,    147.3,2,    21.70,2,    16.60,2,     0.03,2,     1.15,2, -999.000,9, -999.000,9
     21OR287_2,  PR21,   120,  1,      8,     10,2,19910709,2040, 18.7350, 120.7150, 1905,    397.0,   9.9820,  34.4380,2,  34.4390,2,    116.6,2,    49.80,2,    26.84,2,     0.04,2,     1.87,2, -999.000,9, -999.000,9
     21OR287_2,  PR21,   120,  1,      7,      6,2,19910709,2040, 18.7350, 120.7150, 1905,    598.0,   7.3050,  34.4280,2,  34.4330,2,    110.8,2,    75.80,2,    32.56,2,     0.02,2,     2.30,2, -999.000,9, -999.000,9
     21OR287_2,  PR21,   120,  1,      6,      8,2,19910709,2040, 18.7350, 120.7150, 1905,    800.0,   5.8250,  34.4750,2,  34.4760,2,     99.6,2,    97.50,2,    35.07,2,     0.02,2,     2.53,2, -999.000,9, -999.000,9
     21OR287_2,  PR21,   120,  1,      5,     2A,2,19910709,2040, 18.7350, 120.7150, 1905,    994.0,   4.4470,  34.5270,2,  34.5260,2,    100.1,2,   115.90,2,    36.78,2,     0.02,2,     2.66,2, -999.000,9, -999.000,9
     21OR287_2,  PR21,   120,  1,      4,      1,2,19910709,2040, 18.7350, 120.7150, 1905,   1200.0,   3.4650,  34.5700,2,  34.5650,2,    116.6,2,   130.00,2,    37.69,2,     0.02,2,     2.72,2, -999.000,9, -999.000,9
     21OR287_2,  PR21,   120,  1,      3,     12,2,19910709,2040, 18.7350, 120.7150, 1905,   1398.0,   3.0270,  34.5910,2,  34.5870,2,    113.7,2,   135.40,2,    38.60,2,     0.02,2,     2.76,2, -999.000,9, -999.000,9
     21OR287_2,  PR21,   120,  1,      2,      7,2,19910709,2040, 18.7350, 120.7150, 1905,   1600.0,   2.6850,  34.6060,2,  34.6030,2,    116.6,2,   139.80,2,    39.52,2,     0.02,2,     2.79,2, -999.000,9, -999.000,9
     21OR287_2,  PR21,   120,  1,      1,     11,2,19910709,2040, 18.7350, 120.7150, 1905,   1799.0,   2.6050,  34.6110,2,  34.6120,2,    131.7,2,   140.80,2,    39.07,2,     0.03,2,     2.77,2, -999.000,9, -999.000,9
     21OR287_2,  PR21,   118,  1,     12,      0,1,19910709,2333, 19.0717, 120.7167, 3444,      0.0,  30.0780,  33.7120,2,-999.0000,9,    212.4,2,     1.40,2,     0.00,2,     0.04,2,     0.03,2, -999.000,9, -999.000,9
     21OR287_2,  PR21,   118,  1,     11,     6A,2,19910709,2333, 19.0717, 120.7167, 3444,     52.0,  29.2360,  34.0970,2,-999.0000,9,    215.8,2,     0.70,2,     0.00,2,     0.00,2,     0.01,2, -999.000,9, -999.000,9
     21OR287_2,  PR21,   118,  1,     10,      3,2,19910709,2333, 19.0717, 120.7167, 3444,    107.0,  23.7430,  34.4890,2,-999.0000,9,    197.3,2,     3.40,2,     2.48,2,     0.17,2,     0.19,2, -999.000,9, -999.000,9
     21OR287_2,  PR21,   118,  1,      9,    11A,2,19910709,2333, 19.0717, 120.7167, 3444,    208.0,  14.7590,  34.5710,2,-999.0000,9,    175.0,2,    17.70,2,    13.25,2,     0.03,2,     0.89,2, -999.000,9, -999.000,9
     21OR287_2,  PR21,   118,  1,      8,     10,2,19910709,2333, 19.0717, 120.7167, 3444,    396.0,   9.5510,  34.4620,2,-999.0000,9,    116.2,2,    55.00,2,    27.13,2,     0.03,2,     1.89,2, -999.000,9, -999.000,9
     21OR287_2,  PR21,   118,  1,      7,      6,2,19910709,2333, 19.0717, 120.7167, 3444,    596.0,   6.8590,  34.4500,2,-999.0000,9,     96.2,2,    86.30,2,    34.69,2,     0.06,2,     2.24,2, -999.000,9, -999.000,9
     21OR287_2,  PR21,   118,  1,      6,      8,2,19910709,2333, 19.0717, 120.7167, 3444,    798.0,   5.4730,  34.4980,2,-999.0000,9,     93.3,2,   100.50,2,    37.01,2,     0.09,2,     2.50,2, -999.000,9, -999.000,9
     21OR287_2,  PR21,   118,  1,      5,     2A,2,19910709,2333, 19.0717, 120.7167, 3444,    993.0,   4.4300,  34.5240,2,-999.0000,9,    100.6,2,   118.90,2,    37.11,2,     0.03,2,     2.55,2, -999.000,9, -999.000,9
     21OR287_2,  PR21,   118,  1,      4,      1,2,19910709,2333, 19.0717, 120.7167, 3444,   1190.0,   3.5400,  34.5740,2,-999.0000,9,    108.9,2,   131.10,2,    38.04,2,     0.03,2,     2.64,2, -999.000,9, -999.000,9
     21OR287_2,  PR21,   118,  1,      3,     12,2,19910709,2333, 19.0717, 120.7167, 3444,   1400.0,   3.0530,  34.5870,2,-999.0000,9,    113.7,2,   139.30,2,    39.27,2,     0.03,2,     2.68,2, -999.000,9, -999.000,9
     21OR287_2,  PR21,   118,  1,      2,      7,2,19910709,2333, 19.0717, 120.7167, 3444,   1602.0,   2.7940,  34.6000,2,-999.0000,9,    113.7,2,   144.00,2,    39.09,2,     0.04,2,     2.70,2, -999.000,9, -999.000,9
     21OR287_2,  PR21,   118,  1,      1,     11,2,19910709,2333, 19.0717, 120.7167, 3444,   1970.0,   2.5410,  34.6130,2,-999.0000,9,    118.6,2,   148.10,2,    39.48,2,     0.04,2,     2.70,2, -999.000,9, -999.000,9
     21OR287_2,  PR21,   116,  1,     12,      0,1,19910710,0205, 19.4000, 120.7167, 2188,      0.0,  29.6850,  33.9610,2,-999.0000,9,    213.8,2,     1.30,2,     0.00,2,     0.02,2,     0.02,2, -999.000,9, -999.000,9
     21OR287_2,  PR21,   116,  1,     11,     6A,2,19910710,0205, 19.4000, 120.7167, 2188,     52.0,  27.4000,  34.3340,2,-999.0000,9,    218.7,2,     0.00,2,     0.00,2,     0.01,2,     0.05,2, -999.000,9, -999.000,9
     21OR287_2,  PR21,   116,  1,     10,      3,2,19910710,0205, 19.4000, 120.7167, 2188,     98.0,  22.6770,  34.5930,2,-999.0000,9,    191.5,2,     3.90,2,     4.55,2,     0.21,2,     0.35,2, -999.000,9, -999.000,9
     21OR287_2,  PR21,   116,  1,      9,    11A,2,19910710,0205, 19.4000, 120.7167, 2188,    299.0,  11.2510,  34.4560,2,-999.0000,9,    144.8,2,    40.00,2,    22.80,2,     0.04,2,     1.59,2, -999.000,9, -999.000,9
     21OR287_2,  PR21,   116,  1,      8,     10,2,19910710,0205, 19.4000, 120.7167, 2188,    500.0,   7.5110,  34.3820,2,-999.0000,9,    114.7,2,    68.20,2,    32.29,2,     0.02,2,     2.21,2, -999.000,9, -999.000,9
     21OR287_2,  PR21,   116,  1,      7,      6,2,19910710,0205, 19.4000, 120.7167, 2188,    700.0,   6.2730,  34.4620,2,-999.0000,9,     95.7,2,    91.20,2,    36.39,2,     0.01,2,     2.48,2, -999.000,9, -999.000,9
     21OR287_2,  PR21,   116,  1,      6,      8,2,19910710,0205, 19.4000, 120.7167, 2188,    902.0,   4.9970,  34.5040,2,-999.0000,9,    101.6,2,   107.60,2,    37.93,2,     0.01,2,     2.62,2, -999.000,9, -999.000,9
     21OR287_2,  PR21,   116,  1,      5,     2A,2,19910710,0205, 19.4000, 120.7167, 2188,   1101.0,   3.8870,  34.5480,2,-999.0000,9,    106.4,2,   124.00,2,    38.61,2,     0.01,2,     2.72,2, -999.000,9, -999.000,9
     21OR287_2,  PR21,   116,  1,      4,      1,2,19910710,0205, 19.4000, 120.7167, 2188,   1299.0,   3.2470,  34.5780,2,-999.0000,9,    110.3,2,   134.50,2,    40.16,2,     0.00,2,     2.70,2, -999.000,9, -999.000,9
     21OR287_2,  PR21,   116,  1,      3,     12,2,19910710,0205, 19.4000, 120.7167, 2188,   1500.0,   2.9510,  34.5930,2,-999.0000,9,    112.8,2,   139.10,2,    40.85,2,     0.01,2,     2.76,2, -999.000,9, -999.000,9
     21OR287_2,  PR21,   116,  1,      2,      7,2,19910710,0205, 19.4000, 120.7167, 2188,   1707.0,   2.5290,  34.6130,2,-999.0000,9,    121.5,2,   141.70,2,    41.83,2,     0.01,2,     2.80,2, -999.000,9, -999.000,9
     21OR287_2,  PR21,   116,  1,      1,     11,2,19910710,0205, 19.4000, 120.7167, 2188,   1902.0,   2.4000,  34.6190,2,-999.0000,9,    134.6,2,   142.40,2,    41.94,2,     0.02,2,     2.77,2, -999.000,9, -999.000,9
     21OR287_2,  PR21,   114,  1,     12,      0,1,19910710,0425, 19.7367, 120.7200, 2688,      0.0,  29.6250,  34.0570,2,-999.0000,9,    215.8,2,     1.30,2,     0.00,2,     0.05,2,     0.12,2, -999.000,9, -999.000,9
     21OR287_2,  PR21,   114,  1,     11,     6A,2,19910710,0425, 19.7367, 120.7200, 2688,    101.0,  22.4950,  34.6390,2,-999.0000,9,    194.9,2,     3.90,2,     4.69,2,     0.15,2,     0.32,2, -999.000,9, -999.000,9
     21OR287_2,  PR21,   114,  1,     10,      3,2,19910710,0425, 19.7367, 120.7200, 2688,    203.0,  14.8580,  34.5760,2,-999.0000,9,    167.7,2,    20.80,2,    15.27,2,     0.02,2,     0.98,2, -999.000,9, -999.000,9
     21OR287_2,  PR21,   114,  1,      9,    11A,2,19910710,0425, 19.7367, 120.7200, 2688,    397.0,   9.3050,  34.4080,2,-999.0000,9,    137.5,2,    52.00,2,    27.69,2,     0.04,2,     1.73,2, -999.000,9, -999.000,9
     21OR287_2,  PR21,   114,  1,      8,     10,2,19910710,0425, 19.7367, 120.7200, 2688,    549.0,   7.1740,  34.4170,2,-999.0000,9,    109.4,2,    78.00,2,    34.26,2,     0.02,2,     2.29,2, -999.000,9, -999.000,9
     21OR287_2,  PR21,   114,  1,      7,      6,2,19910710,0425, 19.7367, 120.7200, 2688,    699.0,   5.4550,  34.4640,2,-999.0000,9,    104.0,2,   100.80,2,    38.21,2,     0.04,2,     2.50,2, -999.000,9, -999.000,9
     21OR287_2,  PR21,   114,  1,      6,      8,2,19910710,0425, 19.7367, 120.7200, 2688,    848.0,   4.7870,  34.5040,2,-999.0000,9,    101.6,2,   113.10,2,    39.21,2,     0.03,2,     2.62,2, -999.000,9, -999.000,9
     21OR287_2,  PR21,   114,  1,      5,     2A,2,19910710,0425, 19.7367, 120.7200, 2688,    999.0,   4.0230,  34.5400,2,-999.0000,9,    106.4,2,   124.80,2,    40.21,2,     0.02,2,     2.68,2, -999.000,9, -999.000,9
     21OR287_2,  PR21,   114,  1,      4,      1,2,19910710,0425, 19.7367, 120.7200, 2688,   1150.0,   3.4860,  34.5660,2,-999.0000,9,    108.4,2,   133.30,2,    40.92,2,     0.03,2,     2.72,2, -999.000,9, -999.000,9
     21OR287_2,  PR21,   114,  1,      3,     12,2,19910710,0425, 19.7367, 120.7200, 2688,   1302.0,   3.2280,  34.5800,2,-999.0000,9,    121.5,4,   135.90,4,    41.63,2,     0.03,2,     2.72,2, -999.000,9, -999.000,9
     21OR287_2,  PR21,   114,  1,      2,      7,2,19910710,0425, 19.7367, 120.7200, 2688,   1454.0,   2.9440,  34.5970,2,-999.0000,9,    117.6,2,   142.40,2,    42.05,2,     0.04,2,     2.74,2, -999.000,9, -999.000,9
     21OR287_2,  PR21,   114,  1,      1,     11,2,19910710,0425, 19.7367, 120.7200, 2688,   1617.0,   2.7240,  34.6060,2,-999.0000,9,    113.2,2,   144.30,2,    42.47,2,     0.03,2,     2.79,2, -999.000,9, -999.000,9
     21OR287_2,  PR21,   112,  1,     12,      0,1,19910710,0722, 20.0667, 120.7150, 3454,      0.0,  29.3010,  34.3220,2,-999.0000,9,    214.3,2,     2.30,2,     0.00,2,     0.06,2,     0.09,2, -999.000,9, -999.000,9
     21OR287_2,  PR21,   112,  1,     11,     6A,2,19910710,0722, 20.0667, 120.7150, 3454,    101.0,  24.1800,  34.6160,2,-999.0000,9,    200.7,2,     2.30,2,     1.91,2,     0.29,2,     0.12,2, -999.000,9, -999.000,9
     21OR287_2,  PR21,   112,  1,     10,      3,2,19910710,0722, 20.0667, 120.7150, 3454,    202.0,  16.9920,  34.6810,2,-999.0000,9,    177.9,2,    14.00,2,    10.90,2,     0.05,2,     0.77,2, -999.000,9, -999.000,9
     21OR287_2,  PR21,   112,  1,      9,    11A,2,19910710,0722, 20.0667, 120.7150, 3454,    399.0,   9.0300,  34.4200,2,-999.0000,9,    144.3,2,    60.50,4,    17.45,4,     0.03,4,     0.95,4, -999.000,9, -999.000,9
     21OR287_2,  PR21,   112,  1,      8,     10,2,19910710,0722, 20.0667, 120.7150, 3454,    601.0,   6.8660,  34.4550,2,-999.0000,9,    119.6,2,    88.40,2,    27.28,2,     0.02,2,     1.98,2, -999.000,9, -999.000,9
     21OR287_2,  PR21,   112,  1,      7,      6,2,19910710,0722, 20.0667, 120.7150, 3454,    799.0,   5.4360,  34.4950,2,-999.0000,9,    108.4,2,   107.00,2,    33.29,2,     0.01,2,     2.45,2, -999.000,9, -999.000,9
     21OR287_2,  PR21,   112,  1,      6,      8,2,19910710,0722, 20.0667, 120.7150, 3454,    998.0,   4.1960,  34.5380,2,-999.0000,9,    106.9,2,   123.30,2,    36.03,2,     0.05,2,     2.61,2, -999.000,9, -999.000,9
     21OR287_2,  PR21,   112,  1,      5,     2A,2,19910710,0722, 20.0667, 120.7150, 3454,   1199.0,   3.2410,  34.5800,2,-999.0000,9,    109.4,2,   137.20,2,    37.13,2,     0.02,2,     2.61,2, -999.000,9, -999.000,9
     21OR287_2,  PR21,   112,  1,      4,      1,2,19910710,0722, 20.0667, 120.7150, 3454,   1399.0,   2.8970,  34.5980,2,-999.0000,9,    114.7,2,   144.20,2,    37.96,2,     0.02,2,     2.72,2, -999.000,9, -999.000,9
     21OR287_2,  PR21,   112,  1,      3,     12,2,19910710,0722, 20.0667, 120.7150, 3454,   1599.0,   2.5770,  34.6120,2,-999.0000,9,    122.0,2,   145.30,2,    38.79,2,     0.01,2,     2.74,2, -999.000,9, -999.000,9
     21OR287_2,  PR21,   112,  1,      2,      7,2,19910710,0722, 20.0667, 120.7150, 3454,   1807.0,   2.4530,  34.6180,2,-999.0000,9,    123.4,2,   147.70,2,    38.26,2,     0.05,2,     2.69,2, -999.000,9, -999.000,9
     21OR287_2,  PR21,   112,  1,      1,     11,2,19910710,0722, 20.0667, 120.7150, 3454,   1988.0,   2.4250,  34.6200,2,-999.0000,9,    124.4,2,   148.80,2,    38.54,2,     0.02,2,     2.73,2, -999.000,9, -999.000,9