BOTTLE,20220624CCHSIOAMB
EXPOCODE,SECT_ID,STNNBR,CASTNO,SAMPNO,BTLNBR,BTLNBR_FLAG_W,DATE,TIME,LATITUDE,LONGITUDE,DEPTH,CTDPRS,CTDTMP,CTDSAL,CTDSAL_FLAG_W,SALNTY,SALNTY_FLAG_W,OXYGEN,OXYGEN_FLAG_W,SILCAT,SILCAT_FLAG_W,NITRAT,NITRAT_FLAG_W,NITRIT,NITRIT_FLAG_W,PHSPHT,PHSPHT_FLAG_W,CFC-11,CFC-11_FLAG_W,CFC-12,CFC-12_FLAG_W
,,,,,,,,,,,,DBAR, IPTS-68,  PSS-78,,PSS-78,,UMOL/KG,,UMOL/KG,,UMOL/KG,,UMOL/KG,,UMOL/KG,,PMOL/KG,,PMOL/KG,
     21OR287_2,  PR21,   110,  1,     12,      0,1,19910710,2210, 20.4050, 120.7200, 3040,      0.0,  29.0850,  34.1650,2,-999.0000,9,    217.7,2,     1.10,2,     0.00,2,     0.04,2,     0.05,2, -999.000,9, -999.000,9
     21OR287_2,  PR21,   110,  1,     11,     6A,2,19910710,2210, 20.4050, 120.7200, 3040,     50.0,  26.5430,  34.5210,2,  34.5350,2,    216.8,2,     1.10,2,     0.00,2,     0.13,2,     0.07,2, -999.000,9, -999.000,9
     21OR287_2,  PR21,   110,  1,     10,      3,2,19910710,2210, 20.4050, 120.7200, 3040,    149.0,  18.4320,  34.6670,2,  34.6730,2,    179.3,2,    11.90,2,     8.48,2,     0.08,2,     0.66,2, -999.000,9, -999.000,9
     21OR287_2,  PR21,   110,  1,      9,    11A,2,19910710,2210, 20.4050, 120.7200, 3040,    250.0,  13.6970,  34.5570,2,  34.5480,2,    167.2,2,    21.60,2,    15.88,2,     0.03,2,     1.14,2, -999.000,9, -999.000,9
     21OR287_2,  PR21,   110,  1,      8,     10,2,19910710,2210, 20.4050, 120.7200, 3040,    351.0,  10.9500,  34.4040,2,  34.4090,2,    155.5,2,    33.50,2,    20.54,2,     0.02,2,     1.54,2, -999.000,9, -999.000,9
     21OR287_2,  PR21,   110,  1,      7,      6,2,19910710,2210, 20.4050, 120.7200, 3040,    449.0,   9.0440,  34.3440,2,  34.3450,2,    135.6,2,    47.60,2,    25.75,2,     0.02,2,     1.91,2, -999.000,9, -999.000,9
     21OR287_2,  PR21,   110,  1,      6,      8,2,19910710,2210, 20.4050, 120.7200, 3040,    600.0,   7.3000,  34.4260,2,  34.4360,2,    108.4,2,    77.90,2,    31.51,2,     0.02,2,     2.29,2, -999.000,9, -999.000,9
     21OR287_2,  PR21,   110,  1,      5,     2A,2,19910710,2210, 20.4050, 120.7200, 3040,    799.0,   5.6550,  34.4840,2,  34.4880,2,     94.8,2,    98.50,2,    34.81,2,     0.02,2,     2.54,2, -999.000,9, -999.000,9
     21OR287_2,  PR21,   110,  1,      4,      1,2,19910710,2210, 20.4050, 120.7200, 3040,   1002.0,   4.5640,  34.5260,2,  34.5230,2,    106.4,2,   115.80,2,    35.92,2,     0.02,2,     2.67,2, -999.000,9, -999.000,9
     21OR287_2,  PR21,   110,  1,      3,     12,2,19910710,2210, 20.4050, 120.7200, 3040,   1201.0,   3.6060,  34.5650,2,  34.5690,2,    106.4,2,   128.80,2,    36.80,2,     0.05,2,     2.70,2, -999.000,9, -999.000,9
     21OR287_2,  PR21,   110,  1,      2,      7,2,19910710,2210, 20.4050, 120.7200, 3040,   1499.0,   2.9230,  34.5920,2,  34.5940,2,    113.7,2,   135.30,2,    38.83,2,     0.05,2,     2.73,2, -999.000,9, -999.000,9
     21OR287_2,  PR21,   110,  1,      1,     11,2,19910710,2210, 20.4050, 120.7200, 3040,   1840.0,   2.5290,  34.6130,2,  34.6140,2,    124.4,2,   141.80,2,    37.87,2,     0.04,2,     2.70,2, -999.000,9, -999.000,9
     21OR287_2,  PR21,   108,  1,     12,      0,1,19910711,0052, 20.7438, 120.7122, 1890,      0.0,  29.5730,  33.9940,2,-999.0000,9,   -999.0,9,     0.80,2,     0.00,2,     0.03,2,     0.11,2, -999.000,9, -999.000,9
     21OR287_2,  PR21,   108,  1,     11,     6A,2,19910711,0052, 20.7438, 120.7122, 1890,      0.0,  29.5730,  33.9940,2,-999.0000,9,   -999.0,9,     1.60,2,     2.20,2,     0.09,2,     0.27,2, -999.000,9, -999.000,9
     21OR287_2,  PR21,   108,  1,     10,      3,2,19910711,0052, 20.7438, 120.7122, 1890,     96.0,  23.7500,  34.7310,2,-999.0000,9,   -999.0,9,    10.50,2,     9.61,2,     0.03,2,     2.03,2, -999.000,9, -999.000,9
     21OR287_2,  PR21,   108,  1,      9,    11A,2,19910711,0052, 20.7438, 120.7122, 1890,    198.0,  15.9410,  34.8660,2,-999.0000,9,   -999.0,9,    39.60,2,    23.91,2,     0.01,2,     1.77,2, -999.000,9, -999.000,9
     21OR287_2,  PR21,   108,  1,      8,     10,2,19910711,0052, 20.7438, 120.7122, 1890,    300.0,  10.0810,  34.3850,2,-999.0000,9,   -999.0,9,    64.60,2,    27.76,2,     0.02,2,     2.17,2, -999.000,9, -999.000,9
     21OR287_2,  PR21,   108,  1,      7,      6,2,19910711,0052, 20.7438, 120.7122, 1890,    500.0,   8.1570,  34.3740,2,-999.0000,9,   -999.0,9,    83.20,2,    32.72,2,     0.02,2,     2.45,2, -999.000,9, -999.000,9
     21OR287_2,  PR21,   108,  1,      6,      8,2,19910711,0052, 20.7438, 120.7122, 1890,    704.0,   6.5530,  34.3900,2,-999.0000,9,   -999.0,9,   105.80,2,    35.48,2,     0.02,2,     2.61,2, -999.000,9, -999.000,9
     21OR287_2,  PR21,   108,  1,      5,     2A,2,19910711,0052, 20.7438, 120.7122, 1890,    900.0,   5.0960,  34.4720,2,-999.0000,9,   -999.0,9,   122.00,2,    35.77,2,     0.02,2,     2.63,2, -999.000,9, -999.000,9
     21OR287_2,  PR21,   108,  1,      4,      1,2,19910711,0052, 20.7438, 120.7122, 1890,   1097.0,   3.8930,  34.5400,2,-999.0000,9,   -999.0,9,   137.30,2,    37.98,2,     0.02,2,     2.79,2, -999.000,9, -999.000,9
     21OR287_2,  PR21,   108,  1,      3,     12,2,19910711,0052, 20.7438, 120.7122, 1890,   1302.0,   3.1420,  34.5810,2,-999.0000,9,   -999.0,9,   140.50,2,    37.72,2,     0.02,2,     2.73,4, -999.000,9, -999.000,9
     21OR287_2,  PR21,   108,  1,      2,      7,2,19910711,0052, 20.7438, 120.7122, 1890,   1502.0,   2.7420,  34.5980,2,-999.0000,9,   -999.0,9,   143.00,2,    37.73,2,     0.02,2,     2.79,2, -999.000,9, -999.000,9
     21OR287_2,  PR21,   108,  1,      1,     11,2,19910711,0052, 20.7438, 120.7122, 1890,   1700.0,   2.6110,  34.6080,2,-999.0000,9,   -999.0,9,   147.00,2,    38.29,2,     0.02,2,     2.79,2, -999.000,9, -999.000,9
     21OR287_2,  PR21,   106,  1,     12,      0,1,19910711,0332, 21.0722, 120.7245,  931,      0.0,  29.7610,  34.0010,2,-999.0000,9,    212.4,2,     1.60,2,     0.00,2,     0.05,2,     0.10,2, -999.000,9, -999.000,9
     21OR287_2,  PR21,   106,  1,     11,     6A,2,19910711,0332, 21.0722, 120.7245,  931,     52.0,  26.9260,  34.4830,2,-999.0000,9,    217.7,2,     1.60,2,     0.00,2,     0.00,2,     0.07,2, -999.000,9, -999.000,9
     21OR287_2,  PR21,   106,  1,     10,      3,2,19910711,0332, 21.0722, 120.7245,  931,    103.0,  23.1520,  34.7910,2,-999.0000,9,    196.8,2,     2.40,2,     2.21,2,     0.08,2,     0.26,2, -999.000,9, -999.000,9
     21OR287_2,  PR21,   106,  1,      9,    11A,2,19910711,0332, 21.0722, 120.7245,  931,    150.0,  19.2450,  34.8330,2,-999.0000,9,    183.7,2,     4.90,2,     5.24,2,     0.03,2,     0.50,2, -999.000,9, -999.000,9
     21OR287_2,  PR21,   106,  1,      8,     10,2,19910711,0332, 21.0722, 120.7245,  931,    202.0,  17.4080,  34.7450,2,-999.0000,9,    180.8,2,     8.90,2,     7.73,2,     0.02,2,     0.68,2, -999.000,9, -999.000,9
     21OR287_2,  PR21,   106,  1,      7,      6,2,19910711,0332, 21.0722, 120.7245,  931,    302.0,  11.4280,  34.3910,2,-999.0000,9,    158.0,2,    25.10,2,    19.32,2,     0.01,2,     1.47,2, -999.000,9, -999.000,9
     21OR287_2,  PR21,   106,  1,      6,      8,2,19910711,0332, 21.0722, 120.7245,  931,    403.0,   8.8020,  34.3330,2,-999.0000,9,    153.1,2,    56.60,2,    25.13,2,     0.01,2,     1.93,2, -999.000,9, -999.000,9
     21OR287_2,  PR21,   106,  1,      5,     2A,2,19910711,0332, 21.0722, 120.7245,  931,    500.0,   7.4130,  34.3660,2,-999.0000,9,    121.0,2,    72.00,2,    29.55,2,     0.01,2,     2.18,2, -999.000,9, -999.000,9
     21OR287_2,  PR21,   106,  1,      4,      1,2,19910711,0332, 21.0722, 120.7245,  931,    602.0,   6.9540,  34.4040,2,-999.0000,9,    130.3,2,    82.50,2,    31.77,2,     0.03,2,     2.32,2, -999.000,9, -999.000,9
     21OR287_2,  PR21,   106,  1,      3,     12,2,19910711,0332, 21.0722, 120.7245,  931,    698.0,   5.9890,  34.4280,2,-999.0000,9,    107.9,2,    97.90,2,    33.72,2,     0.01,2,     2.45,2, -999.000,9, -999.000,9
     21OR287_2,  PR21,   106,  1,      2,      7,2,19910711,0332, 21.0722, 120.7245,  931,    798.0,   5.1240,  34.4750,2,-999.0000,9,    119.1,2,   112.50,2,    34.56,2,     0.01,2,     2.52,2, -999.000,9, -999.000,9
     21OR287_2,  PR21,   106,  1,      1,     11,2,19910711,0332, 21.0722, 120.7245,  931,    900.0,   4.6630,  34.5010,2,-999.0000,9,    110.3,2,   124.60,2,    35.40,2,     0.02,2,     2.55,2, -999.000,9, -999.000,9
     21OR287_2,  PR21,   104,  1,     12,      0,1,19910711,0532, 21.4017, 120.7233,  426,      0.0,  29.6940,  34.0230,2,-999.0000,9,    213.4,2,     1.10,2,     0.00,2,     0.03,2,     0.10,2, -999.000,9, -999.000,9
     21OR287_2,  PR21,   104,  1,     11,     6A,2,19910711,0532, 21.4017, 120.7233,  426,     12.0,  27.9760,  34.4250,2,-999.0000,9,    221.6,2,     0.00,2,     0.00,2,     0.01,2,     0.09,2, -999.000,9, -999.000,9
     21OR287_2,  PR21,   104,  1,     10,      3,2,19910711,0532, 21.4017, 120.7233,  426,     26.0,  27.0470,  34.4980,2,-999.0000,9,    220.6,2,     0.00,2,     0.00,2,     0.01,2,     0.09,2, -999.000,9, -999.000,9
     21OR287_2,  PR21,   104,  1,      9,    11A,2,19910711,0532, 21.4017, 120.7233,  426,     52.0,  24.0520,  34.6820,2,-999.0000,9,    203.6,2,     2.30,2,     1.94,2,     0.10,2,     0.27,2, -999.000,9, -999.000,9
     21OR287_2,  PR21,   104,  1,      8,     10,2,19910711,0532, 21.4017, 120.7233,  426,     75.0,  21.8310,  34.8580,2,-999.0000,9,    190.5,2,     3.40,2,     3.32,2,     0.06,2,     0.36,2, -999.000,9, -999.000,9
     21OR287_2,  PR21,   104,  1,      7,      6,2,19910711,0532, 21.4017, 120.7233,  426,    100.0,  20.7910,  34.8780,2,-999.0000,9,    188.1,2,     3.40,2,     4.43,2,     0.04,2,     0.44,2, -999.000,9, -999.000,9
     21OR287_2,  PR21,   104,  1,      6,      8,2,19910711,0532, 21.4017, 120.7233,  426,    152.0,  16.8080,  34.7710,2,-999.0000,9,    184.7,2,     6.80,2,     8.32,2,     0.03,2,     0.68,2, -999.000,9, -999.000,9
     21OR287_2,  PR21,   104,  1,      5,     2A,2,19910711,0532, 21.4017, 120.7233,  426,    200.0,  13.4480,  34.5140,2,-999.0000,9,    173.5,2,    15.90,2,    13.31,2,     0.02,2,     1.11,2, -999.000,9, -999.000,9
     21OR287_2,  PR21,   104,  1,      4,      1,2,19910711,0532, 21.4017, 120.7233,  426,    249.0,  12.7290,  34.4680,2,-999.0000,9,    166.7,2,    20.50,2,    16.64,2,     0.02,2,     1.30,2, -999.000,9, -999.000,9
     21OR287_2,  PR21,   104,  1,      3,     12,2,19910711,0532, 21.4017, 120.7233,  426,    302.0,  10.9840,  34.4000,2,-999.0000,9,    154.1,2,    33.00,2,    19.98,2,     0.04,2,     1.52,2, -999.000,9, -999.000,9
     21OR287_2,  PR21,   104,  1,      2,      7,2,19910711,0532, 21.4017, 120.7233,  426,    351.0,   9.8660,  34.4060,2,-999.0000,9,    140.9,2,    46.60,2,    22.20,2,     0.08,2,     1.66,2, -999.000,9, -999.000,9
     21OR287_2,  PR21,   104,  1,      1,     11,2,19910711,0532, 21.4017, 120.7233,  426,    399.0,   9.4590,  34.4080,2,-999.0000,9,    137.5,2,    52.30,2,    24.71,2,     0.02,2,     1.83,2, -999.000,9, -999.000,9
     21OR287_2,  PR21,   103,  1,     12,      0,1,19910711,0638, 21.5683, 120.7217,  926,      0.0,  29.2020,  34.2210,2,-999.0000,9,    216.3,2,     1.10,2,     0.00,2,     0.03,2,     0.11,2, -999.000,9, -999.000,9
     21OR287_2,  PR21,   103,  1,     11,     6A,2,19910711,0638, 21.5683, 120.7217,  926,     50.0,  28.1750,  34.3930,2,-999.0000,9,    220.6,2,     0.00,2,     0.00,2,     0.00,2,     0.11,2, -999.000,9, -999.000,9
     21OR287_2,  PR21,   103,  1,     10,      3,2,19910711,0638, 21.5683, 120.7217,  926,    102.0,  21.1380,  34.8810,2,-999.0000,9,    189.5,2,     2.20,2,     3.43,2,     0.04,2,     0.41,2, -999.000,9, -999.000,9
     21OR287_2,  PR21,   103,  1,      9,    11A,2,19910711,0638, 21.5683, 120.7217,  926,    150.0,  17.2870,  34.7090,2,-999.0000,9,    180.8,2,     8.80,2,     8.97,2,     0.04,2,     0.76,2, -999.000,9, -999.000,9
     21OR287_2,  PR21,   103,  1,      8,     10,2,19910711,0638, 21.5683, 120.7217,  926,    200.0,  14.8600,  34.5970,2,-999.0000,9,    181.3,2,    12.10,2,    11.86,2,     0.01,2,     0.95,2, -999.000,9, -999.000,9
     21OR287_2,  PR21,   103,  1,      7,      6,2,19910711,0638, 21.5683, 120.7217,  926,    300.0,  10.5520,  34.4280,2,-999.0000,9,    147.7,2,    40.70,2,    22.39,2,     0.01,2,     1.66,2, -999.000,9, -999.000,9
     21OR287_2,  PR21,   103,  1,      6,      8,2,19910711,0638, 21.5683, 120.7217,  926,    401.0,   9.2630,  34.4140,2,-999.0000,9,    129.8,2,    54.90,2,    26.59,2,     0.01,2,     1.98,2, -999.000,9, -999.000,9
     21OR287_2,  PR21,   103,  1,      5,     2A,2,19910711,0638, 21.5683, 120.7217,  926,    498.0,   7.5280,  34.4160,2,-999.0000,9,    118.1,2,    73.60,2,    30.26,2,     0.01,2,     2.22,2, -999.000,9, -999.000,9
     21OR287_2,  PR21,   103,  1,      4,      1,2,19910711,0638, 21.5683, 120.7217,  926,    599.0,   6.0940,  34.4540,2,-999.0000,9,    112.8,2,    93.40,2,    33.13,2,     0.01,2,     2.45,2, -999.000,9, -999.000,9
     21OR287_2,  PR21,   103,  1,      3,     12,2,19910711,0638, 21.5683, 120.7217,  926,    699.0,   5.3420,  34.4660,2,-999.0000,9,    112.3,2,   103.30,2,    35.22,2,     0.00,2,     2.52,2, -999.000,9, -999.000,9
     21OR287_2,  PR21,   103,  1,      2,      7,2,19910711,0638, 21.5683, 120.7217,  926,    799.0,   4.8040,  34.5020,2,-999.0000,9,    110.8,2,   109.90,2,    35.46,2,     0.01,2,     2.60,2, -999.000,9, -999.000,9
     21OR287_2,  PR21,   103,  1,      1,     11,2,19910711,0638, 21.5683, 120.7217,  926,    870.0,   4.2010,  34.5280,2,-999.0000,9,    110.8,2,   119.80,2,    36.49,2,     0.01,2,     2.66,2, -999.000,9, -999.000,9
     21OR287_2,  PR21,   102,  1,     12,      0,1,19910711,0822, 21.7350, 120.7200,  588,      0.0,  29.3770,  34.1250,2,  34.1584,2,    215.8,2,     1.10,2,     0.00,2,     0.03,2,     0.10,2, -999.000,9, -999.000,9
     21OR287_2,  PR21,   102,  1,     11,     6A,2,19910711,0822, 21.7350, 120.7200,  588,     52.0,  25.1610,  34.5280,2,  34.5436,2,    210.9,2,     1.10,2,     1.05,2,     0.15,2,     0.19,2, -999.000,9, -999.000,9
     21OR287_2,  PR21,   102,  1,     10,      3,2,19910711,0822, 21.7350, 120.7200,  588,    101.0,  20.8750,  34.8050,2,  34.8243,2,    186.6,2,     3.30,2,     4.19,2,     0.06,2,     0.46,2, -999.000,9, -999.000,9
     21OR287_2,  PR21,   102,  1,      9,    11A,2,19910711,0822, 21.7350, 120.7200,  588,    144.0,  18.8620,  34.7810,2,  34.7855,2,    181.8,2,     5.40,2,     6.55,2,     0.06,2,     0.62,2, -999.000,9, -999.000,9
     21OR287_2,  PR21,   102,  1,      8,     10,2,19910711,0822, 21.7350, 120.7200,  588,    198.0,  15.3320,  34.5890,2,  34.5908,2,    168.2,2,    21.70,2,    13.61,2,     0.15,2,     1.04,2, -999.000,9, -999.000,9
     21OR287_2,  PR21,   102,  1,      7,      6,2,19910711,0822, 21.7350, 120.7200,  588,    251.0,  13.3450,  34.5330,2,  34.5381,2,    158.9,2,    31.50,2,    17.79,2,     0.03,2,     1.33,2, -999.000,9, -999.000,9
     21OR287_2,  PR21,   102,  1,      6,      8,2,19910711,0822, 21.7350, 120.7200,  588,    302.0,  11.6970,  34.4930,2,  34.4898,2,    151.6,2,    41.30,2,    20.66,2,     0.02,2,     1.55,2, -999.000,9, -999.000,9
     21OR287_2,  PR21,   102,  1,      5,     2A,2,19910711,0822, 21.7350, 120.7200,  588,    352.0,  10.3040,  34.4540,2,  34.4566,2,    140.0,2,    51.10,2,    24.04,2,     0.01,2,     1.81,2, -999.000,9, -999.000,9
     21OR287_2,  PR21,   102,  1,      4,      1,2,19910711,0822, 21.7350, 120.7200,  588,    399.0,   9.3300,  34.4350,2,  34.4326,2,    134.6,2,    57.60,2,    26.38,2,     0.03,2,     1.93,2, -999.000,9, -999.000,9
     21OR287_2,  PR21,   102,  1,      3,     12,2,19910711,0822, 21.7350, 120.7200,  588,    451.0,   8.8150,  34.4270,2,  34.4253,2,    131.2,2,    63.00,2,    26.63,2,     0.03,2,     2.01,2, -999.000,9, -999.000,9
     21OR287_2,  PR21,   102,  1,      2,      7,2,19910711,0822, 21.7350, 120.7200,  588,    500.0,   8.3070,  34.4340,2,  34.4385,2,    128.3,2,    68.50,2,    27.92,2,     0.02,2,     2.11,2, -999.000,9, -999.000,9
     21OR287_2,  PR21,   102,  1,      1,     11,2,19910711,0822, 21.7350, 120.7200,  588,    521.0,   8.1750,  34.4330,2,  34.4308,2,    129.8,2,    69.60,2,    28.16,2,     0.01,2,     2.13,2, -999.000,9, -999.000,9