BOTTLE,20220624CCHSIOAMB
EXPOCODE,SECT_ID,STNNBR,CASTNO,BTLNBR,BTLNBR_FLAG_W,DATE,TIME,LATITUDE,LONGITUDE,DEPTH,CTDPRS,CTDTMP,CTDSAL,CTDSAL_FLAG_W,SALNTY,SALNTY_FLAG_W,OXYGEN,OXYGEN_FLAG_W
,,,,,,,,,,,DBAR,ITS-90,PSS-78,,PSS-78,,ML/L,
      06BE88_1,  IR04,    47,  1,     23,2,19930730,0535,  5.3305,  80.4993, 4241,     10.0,  26.3560,  34.8740,2,  34.8833,2,      4.9,2
      06BE88_1,  IR04,    47,  1,     22,2,19930730,0535,  5.3305,  80.4993, 4241,     50.0,  23.3360,  35.2730,2,  35.2566,2,      2.0,2
      06BE88_1,  IR04,    47,  1,     21,2,19930730,0535,  5.3305,  80.4993, 4241,     75.0,  21.1840,  35.2930,2,  35.3005,2,      2.0,2
      06BE88_1,  IR04,    47,  1,     20,2,19930730,0535,  5.3305,  80.4993, 4241,    100.0,  19.5540,  35.2160,2,  35.2365,2,      1.7,2
      06BE88_1,  IR04,    47,  1,     19,2,19930730,0535,  5.3305,  80.4993, 4241,    125.0,  16.8050,  34.9690,2,  34.9785,2,      0.5,2
      06BE88_1,  IR04,    47,  1,     18,2,19930730,0535,  5.3305,  80.4993, 4241,    150.0,  15.5080,  35.0450,2,  35.0594,2,      0.5,2
      06BE88_1,  IR04,    47,  1,     17,2,19930730,0535,  5.3305,  80.4993, 4241,    200.0,  13.3540,  35.0750,2,  35.0821,2,      0.7,2
      06BE88_1,  IR04,    47,  1,     16,2,19930730,0535,  5.3305,  80.4993, 4241,    250.0,  12.4280,  35.1000,2,  35.1043,2,      1.4,2
      06BE88_1,  IR04,    47,  1,     15,2,19930730,0535,  5.3305,  80.4993, 4241,    300.0,  11.5770,  35.0710,2,  35.0765,2,      1.6,2
      06BE88_1,  IR04,    47,  1,     14,2,19930730,0535,  5.3305,  80.4993, 4241,    401.0,  10.7110,  35.0480,2,-999.0000,9,   -999.0,5
      06BE88_1,  IR04,    47,  1,     13,2,19930730,0535,  5.3305,  80.4993, 4241,    500.0,   9.9070,  35.0380,2,  35.0441,2,      0.9,2
      06BE88_1,  IR04,    47,  1,     12,2,19930730,0535,  5.3305,  80.4993, 4241,    749.0,   8.2960,  35.0140,2,  35.0209,2,      0.7,2
      06BE88_1,  IR04,    47,  1,     11,2,19930730,0535,  5.3305,  80.4993, 4241,   1000.0,   6.5540,  34.9240,2,  34.9305,2,      1.1,2
      06BE88_1,  IR04,    47,  1,     10,2,19930730,0535,  5.3305,  80.4993, 4241,   1249.0,   5.1860,  34.8750,2,  34.8798,2,      1.5,2
      06BE88_1,  IR04,    47,  1,      9,2,19930730,0535,  5.3305,  80.4993, 4241,   1500.0,   4.1810,  34.8350,2,  34.8403,2,      1.9,2
      06BE88_1,  IR04,    47,  1,      8,2,19930730,0535,  5.3305,  80.4993, 4241,   1750.0,   3.3460,  34.8030,2,  34.8082,2,      2.4,2
      06BE88_1,  IR04,    47,  1,      7,2,19930730,0535,  5.3305,  80.4993, 4241,   2250.0,   2.6710,  34.7710,2,  34.7769,2,      2.7,2
      06BE88_1,  IR04,    47,  1,      6,2,19930730,0535,  5.3305,  80.4993, 4241,   2500.0,   2.0200,  34.7420,2,  34.7461,2,      3.1,2
      06BE88_1,  IR04,    47,  1,      5,2,19930730,0535,  5.3305,  80.4993, 4241,   2999.0,   1.7210,  34.7280,2,  34.7315,2,      3.4,2
      06BE88_1,  IR04,    47,  1,      4,2,19930730,0535,  5.3305,  80.4993, 4241,   3500.0,   1.4830,  34.7190,2,  34.7221,2,      3.6,2
      06BE88_1,  IR04,    47,  1,      3,2,19930730,0535,  5.3305,  80.4993, 4241,   4000.0,   1.3940,  34.7150,2,  34.7174,2,      3.8,2
      06BE88_1,  IR04,    47,  1,      2,2,19930730,0535,  5.3305,  80.4993, 4241,   4250.0,   1.3920,  34.7150,2,  34.7170,2,      4.0,2
      06BE88_1,  IR04,    47,  1,      1,2,19930730,0535,  5.3305,  80.4993, 4241,   4261.0,   1.3939,  34.7140,2,  34.7180,2,      4.0,2
      06BE88_1,  IR04,    48,  1,     23,2,19930730,1053,  5.6332,  80.4968, 3192,     10.0,  25.0104,  34.7105,2,  34.7188,2,      5.1,2
      06BE88_1,  IR04,    48,  1,     22,2,19930730,1053,  5.6332,  80.4968, 3192,     51.3,  22.9925,  35.0821,2,  35.0909,2,      1.4,2
      06BE88_1,  IR04,    48,  1,     21,2,19930730,1053,  5.6332,  80.4968, 3192,     75.1,  21.5809,  35.0705,2,  35.0730,2,      1.0,2
      06BE88_1,  IR04,    48,  1,     20,2,19930730,1053,  5.6332,  80.4968, 3192,     99.9,  18.6236,  34.9839,2,  34.9945,2,      0.6,2
      06BE88_1,  IR04,    48,  1,     19,2,19930730,1053,  5.6332,  80.4968, 3192,    125.1,  16.6313,  34.9818,2,  34.9951,2,      0.5,2
      06BE88_1,  IR04,    48,  1,     18,2,19930730,1053,  5.6332,  80.4968, 3192,    150.5,  15.3071,  35.0463,2,  35.0545,2,      0.4,2
      06BE88_1,  IR04,    48,  1,     17,2,19930730,1053,  5.6332,  80.4968, 3192,    200.4,  13.3328,  35.0771,2,  35.0841,2,      0.6,2
      06BE88_1,  IR04,    48,  1,     16,2,19930730,1053,  5.6332,  80.4968, 3192,    250.6,  12.4012,  35.0920,2,  35.0965,2,      0.8,2
      06BE88_1,  IR04,    48,  1,     15,2,19930730,1053,  5.6332,  80.4968, 3192,    299.9,  11.5737,  35.0848,2,  35.0905,2,      0.8,2
      06BE88_1,  IR04,    48,  1,     14,2,19930730,1053,  5.6332,  80.4968, 3192,    400.0,  10.6520,  35.0585,2,  35.0634,2,      0.8,2
      06BE88_1,  IR04,    48,  1,     13,2,19930730,1053,  5.6332,  80.4968, 3192,    500.5,  10.1326,  35.0924,2,  35.0907,2,      0.5,2
      06BE88_1,  IR04,    48,  1,     12,2,19930730,1053,  5.6332,  80.4968, 3192,    750.4,   7.9254,  35.0016,2,  35.0059,2,      0.7,2
      06BE88_1,  IR04,    48,  1,     11,2,19930730,1053,  5.6332,  80.4968, 3192,   1000.1,   6.3829,  34.9201,2,  34.9276,2,      1.1,2
      06BE88_1,  IR04,    48,  1,     10,2,19930730,1053,  5.6332,  80.4968, 3192,   1250.1,   5.2008,  34.8730,2,  34.8818,2,      1.5,2
      06BE88_1,  IR04,    48,  1,      9,2,19930730,1053,  5.6332,  80.4968, 3192,   1500.3,   4.2325,  34.8368,2,  34.8583,2,   -999.0,5
      06BE88_1,  IR04,    48,  1,      8,2,19930730,1053,  5.6332,  80.4968, 3192,   1749.7,   3.8672,  34.8010,2,  34.8088,2,      2.3,2
      06BE88_1,  IR04,    48,  1,      7,2,19930730,1053,  5.6332,  80.4968, 3192,   2000.5,   2.7432,  34.7734,2,  34.7812,2,      2.7,2
      06BE88_1,  IR04,    48,  1,      6,2,19930730,1053,  5.6332,  80.4968, 3192,   2250.7,   2.3426,  34.7548,2,-999.0000,9,   -999.0,5
      06BE88_1,  IR04,    48,  1,      5,2,19930730,1053,  5.6332,  80.4968, 3192,   2501.3,   2.0642,  34.7424,2,  34.7496,2,      3.1,2
      06BE88_1,  IR04,    48,  1,      4,2,19930730,1053,  5.6332,  80.4968, 3192,   2750.0,   1.8670,  34.7340,2,  34.7410,2,      3.2,2
      06BE88_1,  IR04,    48,  1,      3,2,19930730,1053,  5.6332,  80.4968, 3192,   3000.0,   1.7400,  34.7290,2,  34.7335,2,      3.2,2
      06BE88_1,  IR04,    48,  1,      1,2,19930730,1053,  5.6332,  80.4968, 3192,   3170.0,   1.6430,  34.7250,2,-999.0000,9,      3.4,2
      06BE88_1,  IR04,    48,  1,      2,2,19930730,1053,  5.6332,  80.4968, 3192,   3170.0,   1.6430,  34.7250,2,  34.7302,2,      3.4,2
      06BE88_1,  IR04,    49,  1,     23,2,19930730,1527,  5.7822,  80.4877, 1830,     10.0,  24.1820,  34.6950,2,  34.7068,2,      4.1,2
      06BE88_1,  IR04,    49,  1,     22,2,19930730,1527,  5.7822,  80.4877, 1830,     50.0,  22.1590,  34.8420,2,  34.8538,2,      1.2,2
      06BE88_1,  IR04,    49,  1,     21,2,19930730,1527,  5.7822,  80.4877, 1830,     74.0,  21.7860,  35.0270,2,  35.0713,2,      0.6,2
      06BE88_1,  IR04,    49,  1,     20,2,19930730,1527,  5.7822,  80.4877, 1830,    100.0,  18.4190,  34.9990,2,  34.9990,2,      0.6,2
      06BE88_1,  IR04,    49,  1,     19,2,19930730,1527,  5.7822,  80.4877, 1830,    125.0,  16.0450,  35.0290,2,  35.0423,2,      0.6,2
      06BE88_1,  IR04,    49,  1,     18,2,19930730,1527,  5.7822,  80.4877, 1830,    150.0,  15.2340,  35.0760,2,  35.0776,2,      0.5,2
      06BE88_1,  IR04,    49,  1,     17,2,19930730,1527,  5.7822,  80.4877, 1830,    200.0,  13.0000,  35.0750,2,  35.0811,2,      0.6,2
      06BE88_1,  IR04,    49,  1,     16,2,19930730,1527,  5.7822,  80.4877, 1830,    250.0,  12.2600,  35.0730,2,  35.0779,2,      0.7,2
      06BE88_1,  IR04,    49,  1,     15,2,19930730,1527,  5.7822,  80.4877, 1830,    300.0,  11.7380,  35.0640,2,  35.0695,2,      0.6,2
      06BE88_1,  IR04,    49,  1,     14,2,19930730,1527,  5.7822,  80.4877, 1830,    400.0,  10.6810,  35.0620,2,  35.0695,2,      0.5,2
      06BE88_1,  IR04,    49,  1,     13,2,19930730,1527,  5.7822,  80.4877, 1830,    500.0,   9.9440,  35.0520,2,  35.0581,2,      0.5,2
      06BE88_1,  IR04,    49,  1,     12,2,19930730,1527,  5.7822,  80.4877, 1830,    750.0,   7.9870,  34.9940,2,  35.0004,2,      0.7,2
      06BE88_1,  IR04,    49,  1,     11,2,19930730,1527,  5.7822,  80.4877, 1830,   1000.0,   6.1060,  34.9100,2,  34.9146,2,      1.2,2
      06BE88_1,  IR04,    49,  1,     10,2,19930730,1527,  5.7822,  80.4877, 1830,   1250.0,   5.1720,  34.8710,2,  34.8794,2,      1.5,2
      06BE88_1,  IR04,    49,  1,      9,2,19930730,1527,  5.7822,  80.4877, 1830,   1500.0,   4.2120,  34.8360,2,  34.8434,2,      1.9,2
      06BE88_1,  IR04,    49,  1,      2,2,19930730,1527,  5.7822,  80.4877, 1830,   1750.0,   3.4790,  34.8050,2,  34.8121,2,   -999.0,5
      06BE88_1,  IR04,    49,  1,      3,2,19930730,1527,  5.7822,  80.4877, 1830,   1750.0,   3.4790,  34.8050,2,-999.0000,9,   -999.0,5
      06BE88_1,  IR04,    49,  1,      4,2,19930730,1527,  5.7822,  80.4877, 1830,   1750.0,   3.4790,  34.8050,2,-999.0000,9,   -999.0,5
      06BE88_1,  IR04,    49,  1,      5,2,19930730,1527,  5.7822,  80.4877, 1830,   1750.0,   3.4790,  34.8050,2,-999.0000,9,   -999.0,5
      06BE88_1,  IR04,    49,  1,      6,2,19930730,1527,  5.7822,  80.4877, 1830,   1750.0,   3.4790,  34.8050,2,-999.0000,9,   -999.0,5
      06BE88_1,  IR04,    49,  1,      7,2,19930730,1527,  5.7822,  80.4877, 1830,   1750.0,   3.4790,  34.8050,2,-999.0000,9,      2.3,2
      06BE88_1,  IR04,    49,  1,      8,2,19930730,1527,  5.7822,  80.4877, 1830,   1750.0,   3.4790,  34.8050,2,-999.0000,9,      2.3,2
      06BE88_1,  IR04,    49,  1,      1,2,19930730,1527,  5.7822,  80.4877, 1830,   1816.0,   2.9880,  34.7840,2,  34.7913,2,      2.6,2
      06BE88_1,  IR04,    51,  1,     23,2,19930731,0559,  6.5968,  79.6582,  690,     10.0,  25.9600,  35.0330,2,  35.0423,2,      4.7,2
      06BE88_1,  IR04,    51,  1,     22,2,19930731,0559,  6.5968,  79.6582,  690,     24.0,  25.7560,  35.0310,2,  35.0413,2,      4.6,2
      06BE88_1,  IR04,    51,  1,     21,2,19930731,0559,  6.5968,  79.6582,  690,     50.0,  22.1800,  35.0760,2,  35.0783,2,      1.4,2
      06BE88_1,  IR04,    51,  1,     20,2,19930731,0559,  6.5968,  79.6582,  690,     75.0,  21.0250,  35.1000,2,  35.1045,2,      1.1,2
      06BE88_1,  IR04,    51,  1,     18,2,19930731,0559,  6.5968,  79.6582,  690,    125.0,  17.4970,  34.9800,2,  35.0126,2,      0.6,2
      06BE88_1,  IR04,    51,  1,     19,2,19930731,0559,  6.5968,  79.6582,  690,    125.0,  19.3990,  34.9810,2,  34.9976,2,      0.6,2
      06BE88_1,  IR04,    51,  1,     17,2,19930731,0559,  6.5968,  79.6582,  690,    150.0,  15.9820,  35.0370,2,  35.0050,2,      0.6,2
      06BE88_1,  IR04,    51,  1,     16,2,19930731,0559,  6.5968,  79.6582,  690,    175.0,  13.9710,  35.0450,2,  35.0529,2,      0.4,2
      06BE88_1,  IR04,    51,  1,     15,2,19930731,0559,  6.5968,  79.6582,  690,    200.0,  13.2290,  35.0530,2,  35.0638,2,      0.4,2
      06BE88_1,  IR04,    51,  1,     14,2,19930731,0559,  6.5968,  79.6582,  690,    224.0,  12.6350,  35.0750,2,  35.0638,2,      0.4,2
      06BE88_1,  IR04,    51,  1,     13,2,19930731,0559,  6.5968,  79.6582,  690,    250.0,  12.2390,  35.0850,2,  35.0905,2,      0.6,2
      06BE88_1,  IR04,    51,  1,     12,2,19930731,0559,  6.5968,  79.6582,  690,    300.0,  11.3658,  35.0730,2,  35.0811,2,      0.5,2
      06BE88_1,  IR04,    51,  1,     11,2,19930731,0559,  6.5968,  79.6582,  690,    350.0,  11.0730,  35.0670,2,  35.0756,2,      0.5,2
      06BE88_1,  IR04,    51,  1,     10,2,19930731,0559,  6.5968,  79.6582,  690,    400.0,  10.7930,  35.0660,2,  35.0742,2,      0.4,2
      06BE88_1,  IR04,    51,  1,      9,2,19930731,0559,  6.5968,  79.6582,  690,    448.0,  10.2380,  35.0630,2,  35.0689,2,      0.4,2
      06BE88_1,  IR04,    51,  1,      8,2,19930731,0559,  6.5968,  79.6582,  690,    499.0,   9.9050,  35.0580,2,  35.0648,2,      0.4,2
      06BE88_1,  IR04,    51,  1,      7,2,19930731,0559,  6.5968,  79.6582,  690,    549.0,   9.5160,  35.0520,2,  35.0583,2,      0.4,2
      06BE88_1,  IR04,    51,  1,      6,2,19930731,0559,  6.5968,  79.6582,  690,    602.0,   8.9990,  35.0370,2,  35.0405,2,      0.5,2
      06BE88_1,  IR04,    51,  1,      2,2,19930731,0559,  6.5968,  79.6582,  690,    650.0,   8.6190,  35.0200,2,-999.0000,9,      0.5,2
      06BE88_1,  IR04,    51,  1,      3,2,19930731,0559,  6.5968,  79.6582,  690,    650.0,   8.6190,  35.0200,2,-999.0000,9,      0.6,2
      06BE88_1,  IR04,    51,  1,      4,2,19930731,0559,  6.5968,  79.6582,  690,    650.0,   8.6190,  35.0200,2,-999.0000,9,   -999.0,5
      06BE88_1,  IR04,    51,  1,      5,2,19930731,0559,  6.5968,  79.6582,  690,    650.0,   8.6190,  35.0200,2,-999.0000,9,   -999.0,5
      06BE88_1,  IR04,    51,  1,      1,2,19930731,0559,  6.5968,  79.6582,  690,    660.0,   8.5590,  35.0180,2,  35.0216,2,      0.6,2