BOTTLE,20220624CCHSIOAMB
EXPOCODE,SECT_ID,STNNBR,CASTNO,BTLNBR,BTLNBR_FLAG_W,DATE,TIME,LATITUDE,LONGITUDE,DEPTH,CTDPRS,CTDTMP,CTDSAL,CTDSAL_FLAG_W,SALNTY,SALNTY_FLAG_W,OXYGEN,OXYGEN_FLAG_W
,,,,,,,,,,,DBAR,ITS-90,PSS-78,,PSS-78,,ML/L,
      06BE88_1,  IR04,     7,  1,     23,2,19930715,0052,-13.4993,  80.4995, 4734,     49.4,  26.0026,  34.7118,2,-999.0000,9,   -999.0,5
      06BE88_1,  IR04,     7,  1,     22,2,19930715,0052,-13.4993,  80.4995, 4734,     73.9,  26.0014,  34.7007,2,  34.7195,2,      4.6,2
      06BE88_1,  IR04,     7,  1,     21,2,19930715,0052,-13.4993,  80.4995, 4734,    100.7,  20.5086,  34.9600,2,  34.9736,2,      1.9,2
      06BE88_1,  IR04,     7,  1,     20,2,19930715,0052,-13.4993,  80.4995, 4734,    125.2,  19.5429,  35.1441,2,  35.0995,2,      2.3,2
      06BE88_1,  IR04,     7,  1,     19,2,19930715,0052,-13.4993,  80.4995, 4734,    149.6,  17.7970,  35.0946,2,  35.1080,2,      2.2,2
      06BE88_1,  IR04,     7,  1,     18,2,19930715,0052,-13.4993,  80.4995, 4734,    198.7,  14.6075,  34.8319,2,  34.8363,2,      2.3,2
      06BE88_1,  IR04,     7,  1,     17,2,19930715,0052,-13.4993,  80.4995, 4734,    248.1,  13.6034,  35.0589,2,  35.0668,2,      3.0,2
      06BE88_1,  IR04,     7,  1,     16,2,19930715,0052,-13.4993,  80.4995, 4734,    299.4,  11.9371,  34.9157,2,  34.9237,2,      3.0,2
      06BE88_1,  IR04,     7,  1,     15,2,19930715,0052,-13.4993,  80.4995, 4734,    399.7,  10.0964,  34.7979,2,  34.8060,2,      3.9,2
      06BE88_1,  IR04,     7,  1,     14,2,19930715,0052,-13.4993,  80.4995, 4734,    500.4,   8.5518,  34.6628,2,  34.6705,2,      3.8,2
      06BE88_1,  IR04,     7,  1,     13,2,19930715,0052,-13.4993,  80.4995, 4734,    599.3,   7.6203,  34.6548,2,  34.6617,2,      2.9,2
      06BE88_1,  IR04,     7,  1,     12,2,19930715,0052,-13.4993,  80.4995, 4734,    800.3,   6.3911,  34.6935,2,  34.7008,2,      2.1,2
      06BE88_1,  IR04,     7,  1,     11,2,19930715,0052,-13.4993,  80.4995, 4734,    998.4,   5.4603,  34.6901,2,  34.6965,2,      2.0,2
      06BE88_1,  IR04,     7,  1,     10,2,19930715,0052,-13.4993,  80.4995, 4734,   1249.6,   4.3528,  34.6672,2,  34.6741,2,      2.3,2
      06BE88_1,  IR04,     7,  1,      9,2,19930715,0052,-13.4993,  80.4995, 4734,   1501.8,   3.5796,  34.6965,2,  34.7020,2,      2.6,2
      06BE88_1,  IR04,     7,  1,      8,2,19930715,0052,-13.4993,  80.4995, 4734,   1750.6,   2.8857,  34.7168,2,  34.7235,2,      3.0,2
      06BE88_1,  IR04,     7,  1,      7,2,19930715,0052,-13.4993,  80.4995, 4734,   2001.5,   2.4275,  34.7265,2,  34.7333,2,      3.4,2
      06BE88_1,  IR04,     7,  1,      6,2,19930715,0052,-13.4993,  80.4995, 4734,   2501.2,   1.9420,  34.7269,2,  34.7331,2,      3.8,2
      06BE88_1,  IR04,     7,  1,      5,2,19930715,0052,-13.4993,  80.4995, 4734,   3000.8,   1.6405,  34.7222,2,  34.7290,2,      3.9,2
      06BE88_1,  IR04,     7,  1,      4,2,19930715,0052,-13.4993,  80.4995, 4734,   3501.6,   1.4161,  34.7172,2,  34.7241,2,      4.1,2
      06BE88_1,  IR04,     7,  1,      3,2,19930715,0052,-13.4993,  80.4995, 4734,   4001.4,   1.3452,  34.7143,2,  34.7188,2,      4.1,2
      06BE88_1,  IR04,     7,  1,      2,2,19930715,0052,-13.4993,  80.4995, 4734,   4502.0,   1.3771,  34.7136,2,  34.7182,2,      4.1,2
      06BE88_1,  IR04,     7,  1,      1,2,19930715,0052,-13.4993,  80.4995, 4734,   4786.6,   1.4052,  34.7131,2,  34.7176,2,      4.2,2
      06BE88_1,  IR04,     8,  1,     23,2,19930715,0732,-13.0002,  80.4992, 4743,      9.6,  26.0601,  34.7335,2,  34.7388,2,      4.6,2
      06BE88_1,  IR04,     8,  1,     22,2,19930715,0732,-13.0002,  80.4992, 4743,     50.6,  26.0561,  34.7306,2,  34.7390,2,      4.6,2
      06BE88_1,  IR04,     8,  1,     21,2,19930715,0732,-13.0002,  80.4992, 4743,     73.1,  26.0283,  34.7203,2,  34.7390,2,      4.6,2
      06BE88_1,  IR04,     8,  1,     20,2,19930715,0732,-13.0002,  80.4992, 4743,     99.9,  21.0552,  34.9188,2,  34.9249,2,      2.3,2
      06BE88_1,  IR04,     8,  1,     19,2,19930715,0732,-13.0002,  80.4992, 4743,    125.8,  18.2127,  34.8015,2,  34.8197,2,      2.4,2
      06BE88_1,  IR04,     8,  1,     18,2,19930715,0732,-13.0002,  80.4992, 4743,    139.5,  17.1711,  34.8579,2,  34.8619,2,      2.3,2
      06BE88_1,  IR04,     8,  1,     17,2,19930715,0732,-13.0002,  80.4992, 4743,    202.1,  13.6168,  34.7326,2,  34.7562,2,      2.0,2
      06BE88_1,  IR04,     8,  1,     16,2,19930715,0732,-13.0002,  80.4992, 4743,    249.1,  12.6940,  34.8867,2,  34.8906,2,      2.5,2
      06BE88_1,  IR04,     8,  1,     15,2,19930715,0732,-13.0002,  80.4992, 4743,    299.6,  11.8681,  35.0044,2,  35.0106,2,      3.9,2
      06BE88_1,  IR04,     8,  1,     14,2,19930715,0732,-13.0002,  80.4992, 4743,    402.2,   9.5286,  34.7393,2,  34.7449,2,      3.6,2
      06BE88_1,  IR04,     8,  1,     13,2,19930715,0732,-13.0002,  80.4992, 4743,    501.2,   8.4736,  34.6916,2,  34.6981,2,      2.3,2
      06BE88_1,  IR04,     8,  1,     12,2,19930715,0732,-13.0002,  80.4992, 4743,    750.6,   6.5822,  34.6576,2,  34.6646,2,      1.8,2
      06BE88_1,  IR04,     8,  1,     11,2,19930715,0732,-13.0002,  80.4992, 4743,   1001.2,   5.3619,  34.6630,2,  34.6709,2,      2.0,2
      06BE88_1,  IR04,     8,  1,     10,2,19930715,0732,-13.0002,  80.4992, 4743,   1249.1,   4.4257,  34.6687,2,  34.6727,2,      2.2,2
      06BE88_1,  IR04,     8,  1,      9,2,19930715,0732,-13.0002,  80.4992, 4743,   1499.2,   3.5958,  34.6999,2,  34.7058,2,      2.6,2
      06BE88_1,  IR04,     8,  1,      8,2,19930715,0732,-13.0002,  80.4992, 4743,   1748.6,   2.9656,  34.7195,2,  34.7333,2,      3.0,2
      06BE88_1,  IR04,     8,  1,      7,2,19930715,0732,-13.0002,  80.4992, 4743,   2249.4,   2.1722,  34.7287,2,  34.7337,2,      3.5,2
      06BE88_1,  IR04,     8,  1,      6,2,19930715,0732,-13.0002,  80.4992, 4743,   2748.7,   1.7761,  34.7244,2,  34.7296,2,      3.8,2
      06BE88_1,  IR04,     8,  1,      5,2,19930715,0732,-13.0002,  80.4992, 4743,   3250.0,   1.5146,  34.7192,2,  34.7237,2,      4.0,2
      06BE88_1,  IR04,     8,  1,      4,2,19930715,0732,-13.0002,  80.4992, 4743,   3748.9,   1.3587,  34.7152,2,  34.7156,2,      4.1,2
      06BE88_1,  IR04,     8,  1,      3,2,19930715,0732,-13.0002,  80.4992, 4743,   4251.2,   1.3551,  34.7133,2,  34.7176,2,      4.1,2
      06BE88_1,  IR04,     8,  1,      2,2,19930715,0732,-13.0002,  80.4992, 4743,   4497.1,   1.3787,  34.7135,2,  34.7182,2,      4.2,2
      06BE88_1,  IR04,     8,  1,      1,2,19930715,0732,-13.0002,  80.4992, 4743,   4805.2,   1.4101,  34.7131,2,  34.7172,2,      4.1,2
      06BE88_1,  IR04,     9,  3,     23,2,19930715,1536,-12.4993,  80.4998, 4911,     12.8,  26.1064,  34.6902,2,  34.6987,2,      4.7,2
      06BE88_1,  IR04,     9,  3,     22,2,19930715,1536,-12.4993,  80.4998, 4911,     50.7,  26.1085,  34.6874,2,  34.6989,2,      4.7,2
      06BE88_1,  IR04,     9,  3,     21,2,19930715,1536,-12.4993,  80.4998, 4911,     76.5,  25.3812,  34.6541,2,  34.7284,2,      4.5,2
      06BE88_1,  IR04,     9,  3,     20,2,19930715,1536,-12.4993,  80.4998, 4911,    102.3,  19.4443,  34.7892,2,-999.0000,9,      2.4,2
      06BE88_1,  IR04,     9,  3,     19,2,19930715,1536,-12.4993,  80.4998, 4911,    127.4,  17.6476,  34.7939,2,-999.0000,9,      2.0,2
      06BE88_1,  IR04,     9,  3,     18,2,19930715,1536,-12.4993,  80.4998, 4911,    150.7,  15.7870,  34.7469,2,  34.7394,2,      2.0,2
      06BE88_1,  IR04,     9,  3,     17,2,19930715,1536,-12.4993,  80.4998, 4911,    199.7,  13.2727,  34.7766,2,  34.7922,2,      2.3,2
      06BE88_1,  IR04,     9,  3,     16,2,19930715,1536,-12.4993,  80.4998, 4911,    251.5,  11.9303,  34.7784,2,  34.7865,2,      2.3,2
      06BE88_1,  IR04,     9,  3,     15,2,19930715,1536,-12.4993,  80.4998, 4911,    298.5,  10.8818,  34.7637,2,  34.7705,2,      2.4,2
      06BE88_1,  IR04,     9,  3,     14,2,19930715,1536,-12.4993,  80.4998, 4911,    398.9,   9.5966,  34.7354,2,  34.7453,2,      2.7,2
      06BE88_1,  IR04,     9,  3,     13,2,19930715,1536,-12.4993,  80.4998, 4911,    501.1,   8.4652,  34.6905,2,  34.6963,2,      2.2,2
      06BE88_1,  IR04,     9,  3,     12,2,19930715,1536,-12.4993,  80.4998, 4911,    751.7,   6.5759,  34.6559,2,  34.6609,2,      1.8,2
      06BE88_1,  IR04,     9,  3,     11,2,19930715,1536,-12.4993,  80.4998, 4911,    968.9,   5.5846,  34.6592,2,  34.6674,2,      1.9,2
      06BE88_1,  IR04,     9,  3,     10,2,19930715,1536,-12.4993,  80.4998, 4911,   1250.7,   4.5505,  34.6743,2,-999.0000,9,   -999.0,5
      06BE88_1,  IR04,     9,  3,      9,2,19930715,1536,-12.4993,  80.4998, 4911,   1501.7,   3.7057,  34.7009,2,  34.7085,2,      2.6,2
      06BE88_1,  IR04,     9,  3,      8,2,19930715,1536,-12.4993,  80.4998, 4911,   1751.3,   3.0494,  34.7379,2,  34.7447,2,      2.9,2
      06BE88_1,  IR04,     9,  3,      7,2,19930715,1536,-12.4993,  80.4998, 4911,   2001.2,   2.6135,  34.7387,2,  34.7453,2,      3.2,2
      06BE88_1,  IR04,     9,  3,      6,2,19930715,1536,-12.4993,  80.4998, 4911,   2498.7,   1.9528,  34.7272,2,  34.7341,2,      3.8,2
      06BE88_1,  IR04,     9,  3,      5,2,19930715,1536,-12.4993,  80.4998, 4911,   3003.1,   1.6643,  34.7226,2,  34.7288,2,      3.9,2
      06BE88_1,  IR04,     9,  3,      4,2,19930715,1536,-12.4993,  80.4998, 4911,   3499.7,   1.4257,  34.7176,2,  34.7225,2,      4.1,2
      06BE88_1,  IR04,     9,  3,      3,2,19930715,1536,-12.4993,  80.4998, 4911,   3998.1,   1.3483,  34.7141,2,  34.7188,2,      4.2,2
      06BE88_1,  IR04,     9,  3,      2,2,19930715,1536,-12.4993,  80.4998, 4911,   4501.3,   1.3820,  34.7134,2,  34.7180,2,      4.2,2
      06BE88_1,  IR04,     9,  3,      1,2,19930715,1536,-12.4993,  80.4998, 4911,   4981.6,   1.4300,  34.7130,2,  34.7178,2,      4.2,2
      06BE88_1,  IR04,    10,  1,     23,2,19930716,0248,-12.0335,  80.5005, 5029,     13.1,  26.1210,  34.7066,2,  34.7125,2,      4.7,2
      06BE88_1,  IR04,    10,  1,     22,2,19930716,0248,-12.0335,  80.5005, 5029,     54.0,  26.1274,  34.7043,2,  34.7125,2,      4.7,2
      06BE88_1,  IR04,    10,  1,     21,2,19930716,0248,-12.0335,  80.5005, 5029,     75.6,  26.1252,  34.6831,2,  34.7125,2,      4.7,2
      06BE88_1,  IR04,    10,  1,     20,2,19930716,0248,-12.0335,  80.5005, 5029,    100.1,  21.2866,  35.0727,2,  35.1001,2,      3.1,2
      06BE88_1,  IR04,    10,  1,     19,2,19930716,0248,-12.0335,  80.5005, 5029,    124.7,  18.0239,  34.8200,2,  34.8288,2,      2.3,2
      06BE88_1,  IR04,    10,  1,     18,2,19930716,0248,-12.0335,  80.5005, 5029,    148.7,  16.2069,  34.7561,2,  34.7628,2,      2.0,2
      06BE88_1,  IR04,    10,  1,     17,2,19930716,0248,-12.0335,  80.5005, 5029,    198.0,  13.9656,  34.9314,2,  34.9454,2,      2.4,2
      06BE88_1,  IR04,    10,  1,     16,2,19930716,0248,-12.0335,  80.5005, 5029,    249.0,  12.0780,  34.8341,2,  34.8357,2,      1.7,2
      06BE88_1,  IR04,    10,  1,     15,2,19930716,0248,-12.0335,  80.5005, 5029,    300.6,  11.4214,  34.8970,2,  34.9042,2,      2.3,2
      06BE88_1,  IR04,    10,  1,     14,2,19930716,0248,-12.0335,  80.5005, 5029,    399.8,   9.7712,  34.7738,2,  34.9031,2,      2.3,2
      06BE88_1,  IR04,    10,  1,     13,2,19930716,0248,-12.0335,  80.5005, 5029,    499.7,   8.7711,  34.7395,2,  34.7463,2,      2.4,2
      06BE88_1,  IR04,    10,  1,     12,2,19930716,0248,-12.0335,  80.5005, 5029,    748.7,   7.1750,  34.7269,2,  34.7335,2,      1.7,2
      06BE88_1,  IR04,    10,  1,     11,2,19930716,0248,-12.0335,  80.5005, 5029,   1001.1,   5.5823,  34.6692,2,  34.6772,2,      1.9,2
      06BE88_1,  IR04,    10,  1,     10,2,19930716,0248,-12.0335,  80.5005, 5029,   1249.9,   4.5552,  34.6698,2,-999.0000,9,   -999.0,5
      06BE88_1,  IR04,    10,  1,      9,2,19930716,0248,-12.0335,  80.5005, 5029,   1501.2,   3.7947,  34.7012,2,  34.7079,2,      2.5,2
      06BE88_1,  IR04,    10,  1,      8,2,19930716,0248,-12.0335,  80.5005, 5029,   1750.3,   3.0680,  34.7360,2,  34.7412,2,      2.9,2
      06BE88_1,  IR04,    10,  1,      7,2,19930716,0248,-12.0335,  80.5005, 5029,   2247.5,   2.2894,  34.7349,2,  34.7412,2,      3.4,2
      06BE88_1,  IR04,    10,  1,      6,2,19930716,0248,-12.0335,  80.5005, 5029,   2750.1,   1.8552,  34.7266,2,  34.7313,2,      3.8,2
      06BE88_1,  IR04,    10,  1,      5,2,19930716,0248,-12.0335,  80.5005, 5029,   3251.3,   1.5863,  34.7207,2,  34.7254,2,      3.9,2
      06BE88_1,  IR04,    10,  1,      4,2,19930716,0248,-12.0335,  80.5005, 5029,   3750.0,   1.3777,  34.7154,2,  34.7203,2,      4.1,2
      06BE88_1,  IR04,    10,  1,      3,2,19930716,0248,-12.0335,  80.5005, 5029,   4250.7,   1.3563,  34.7134,2,  34.7182,2,      4.2,2
      06BE88_1,  IR04,    10,  1,      2,2,19930716,0248,-12.0335,  80.5005, 5029,   4746.1,   1.3928,  34.7128,2,  34.7182,2,      4.2,2
      06BE88_1,  IR04,    10,  1,      1,2,19930716,0248,-12.0335,  80.5005, 5029,   5123.0,   1.4347,  34.7127,2,  34.7178,2,      4.2,2
      06BE88_1,  IR04,    11,  3,     23,2,19930716,1308,-11.3028,  80.4990, 4933,      8.7,  26.3531,  34.4799,2,  34.4849,2,      4.6,2
      06BE88_1,  IR04,    11,  3,     22,2,19930716,1308,-11.3028,  80.4990, 4933,     48.9,  26.3662,  34.4737,2,  34.4833,2,      4.6,2
      06BE88_1,  IR04,    11,  3,     21,2,19930716,1308,-11.3028,  80.4990, 4933,     72.1,  26.2812,  34.4738,2,  34.5020,2,      4.6,2
      06BE88_1,  IR04,    11,  3,     20,2,19930716,1308,-11.3028,  80.4990, 4933,     98.0,  19.1049,  35.1091,2,  35.1070,2,   -999.0,5
      06BE88_1,  IR04,    11,  3,     19,2,19930716,1308,-11.3028,  80.4990, 4933,    124.1,  17.4627,  35.0690,2,  35.0775,2,      2.4,2
      06BE88_1,  IR04,    11,  3,     18,2,19930716,1308,-11.3028,  80.4990, 4933,    147.7,  15.4279,  34.9614,2,  34.9913,2,      2.0,2
      06BE88_1,  IR04,    11,  3,     17,2,19930716,1308,-11.3028,  80.4990, 4933,    197.7,  13.6429,  35.0113,2,  35.0097,2,      1.9,2
      06BE88_1,  IR04,    11,  3,     16,2,19930716,1308,-11.3028,  80.4990, 4933,    250.5,  12.3815,  34.9497,2,  34.9574,2,      2.5,2
      06BE88_1,  IR04,    11,  3,     15,2,19930716,1308,-11.3028,  80.4990, 4933,    299.7,  11.4699,  34.9476,2,  34.9547,2,      2.7,2
      06BE88_1,  IR04,    11,  3,     14,2,19930716,1308,-11.3028,  80.4990, 4933,    399.7,  10.0457,  34.8335,2,  34.9547,2,      2.8,2
      06BE88_1,  IR04,    11,  3,     13,2,19930716,1308,-11.3028,  80.4990, 4933,    497.8,   9.0179,  34.7880,2,  34.7947,2,      2.8,2
      06BE88_1,  IR04,    11,  3,     12,2,19930716,1308,-11.3028,  80.4990, 4933,    750.5,   7.4393,  34.7829,2,  34.7892,2,      1.8,2
      06BE88_1,  IR04,    11,  3,     11,2,19930716,1308,-11.3028,  80.4990, 4933,   1000.5,   5.6981,  34.6814,2,  34.6873,2,      1.9,2
      06BE88_1,  IR04,    11,  3,     10,2,19930716,1308,-11.3028,  80.4990, 4933,   1246.9,   4.7907,  34.6958,2,  34.7022,2,      2.0,2
      06BE88_1,  IR04,    11,  3,      9,2,19930716,1308,-11.3028,  80.4990, 4933,   1500.6,   3.8309,  34.6952,2,  34.7006,2,      2.5,2
      06BE88_1,  IR04,    11,  3,      8,2,19930716,1308,-11.3028,  80.4990, 4933,   1750.7,   3.1259,  34.7357,2,  34.7410,2,      2.9,2
      06BE88_1,  IR04,    11,  3,      7,2,19930716,1308,-11.3028,  80.4990, 4933,   2001.5,   2.6373,  34.7414,2,  34.7461,2,      3.2,2
      06BE88_1,  IR04,    11,  3,      1,2,19930716,1308,-11.3028,  80.4990, 4933,   2498.3,   2.0244,  34.7316,2,-999.0000,9,   -999.0,5
      06BE88_1,  IR04,    11,  3,      5,2,19930716,1308,-11.3028,  80.4990, 4933,   2498.4,   2.0235,  34.7318,2,  34.7363,2,      3.7,2
      06BE88_1,  IR04,    11,  3,      3,2,19930716,1308,-11.3028,  80.4990, 4933,   2498.9,   2.0239,  34.7316,2,-999.0000,9,   -999.0,5
      06BE88_1,  IR04,    11,  3,      4,2,19930716,1308,-11.3028,  80.4990, 4933,   2499.2,   2.0215,  34.7314,2,-999.0000,9,   -999.0,5
      06BE88_1,  IR04,    11,  3,      6,2,19930716,1308,-11.3028,  80.4990, 4933,   2499.5,   2.0228,  34.7316,2,-999.0000,9,   -999.0,5
      06BE88_1,  IR04,    11,  3,      2,2,19930716,1308,-11.3028,  80.4990, 4933,   2501.5,   2.0220,  34.7318,2,  34.7363,2,      3.7,2
      06BE88_1,  IR04,    12,  1,     23,2,19930716,1827,-10.6665,  80.4998, 5303,      9.0,  26.2929,  34.5906,2,  34.5975,2,      4.6,2
      06BE88_1,  IR04,    12,  1,     22,2,19930716,1827,-10.6665,  80.4998, 5303,     49.2,  26.2826,  34.5776,2,  34.5985,2,      4.6,2
      06BE88_1,  IR04,    12,  1,     21,2,19930716,1827,-10.6665,  80.4998, 5303,     72.8,  21.5523,  35.1177,2,  35.1279,2,      3.3,2
      06BE88_1,  IR04,    12,  1,     20,2,19930716,1827,-10.6665,  80.4998, 5303,    100.3,  17.4678,  35.0878,2,  35.0968,2,      2.0,2
      06BE88_1,  IR04,    12,  1,     19,2,19930716,1827,-10.6665,  80.4998, 5303,    126.1,  15.9942,  35.0545,2,  35.0639,2,      1.9,2
      06BE88_1,  IR04,    12,  1,     18,2,19930716,1827,-10.6665,  80.4998, 5303,    150.7,  14.7225,  34.9292,2,  34.9476,2,      1.7,2
      06BE88_1,  IR04,    12,  1,     17,2,19930716,1827,-10.6665,  80.4998, 5303,    202.1,  12.7475,  34.8572,2,  34.8704,2,      1.8,2
      06BE88_1,  IR04,    12,  1,     16,2,19930716,1827,-10.6665,  80.4998, 5303,    248.7,  12.1064,  34.9617,2,  34.9691,2,      2.4,2
      06BE88_1,  IR04,    12,  1,     15,2,19930716,1827,-10.6665,  80.4998, 5303,    299.5,  11.4198,  34.9468,2,  34.9549,2,      2.9,2
      06BE88_1,  IR04,    12,  1,     14,2,19930716,1827,-10.6665,  80.4998, 5303,    399.8,  10.1773,  34.8560,2,  34.9547,2,      2.9,2
      06BE88_1,  IR04,    12,  1,     13,2,19930716,1827,-10.6665,  80.4998, 5303,    499.5,   9.2003,  34.7930,2,  34.7999,2,      2.7,2
      06BE88_1,  IR04,    12,  1,     12,2,19930716,1827,-10.6665,  80.4998, 5303,    747.1,   7.6665,  34.7823,2,  34.7886,2,      1.7,2
      06BE88_1,  IR04,    12,  1,     11,2,19930716,1827,-10.6665,  80.4998, 5303,    850.2,   6.5550,  34.6846,2,  34.6918,2,      1.8,2
      06BE88_1,  IR04,    12,  1,     10,2,19930716,1827,-10.6665,  80.4998, 5303,   1000.5,   5.9411,  34.7214,2,  34.7254,2,      1.8,2
      06BE88_1,  IR04,    12,  1,      9,2,19930716,1827,-10.6665,  80.4998, 5303,   1250.5,   4.7899,  34.7005,2,  34.7065,2,      2.0,2
      06BE88_1,  IR04,    12,  1,      8,2,19930716,1827,-10.6665,  80.4998, 5303,   1501.9,   4.0096,  34.7400,2,  34.7455,2,      2.4,2
      06BE88_1,  IR04,    12,  1,      7,2,19930716,1827,-10.6665,  80.4998, 5303,   1750.4,   3.2295,  34.7439,2,  34.7502,2,      2.8,2
      06BE88_1,  IR04,    12,  1,      6,2,19930716,1827,-10.6665,  80.4998, 5303,   2001.9,   2.6319,  34.7383,2,  34.7445,2,      3.2,2
      06BE88_1,  IR04,    12,  1,      4,2,19930716,1827,-10.6665,  80.4998, 5303,   2532.3,   1.9772,  34.7295,2,-999.0000,9,   -999.0,5
      06BE88_1,  IR04,    12,  1,      1,2,19930716,1827,-10.6665,  80.4998, 5303,   2533.6,   1.9786,  34.7293,2,  34.7351,2,   -999.0,5
      06BE88_1,  IR04,    12,  1,      3,2,19930716,1827,-10.6665,  80.4998, 5303,   2534.1,   1.9764,  34.7292,2,-999.0000,9,   -999.0,5
      06BE88_1,  IR04,    12,  1,      5,2,19930716,1827,-10.6665,  80.4998, 5303,   2534.5,   1.9766,  34.7293,2,  34.7351,2,      3.7,2
      06BE88_1,  IR04,    12,  1,      2,2,19930716,1827,-10.6665,  80.4998, 5303,   2535.2,   1.9773,  34.7292,2,-999.0000,9,      3.7,2