BOTTLE,20220624CCHSIOAMB
EXPOCODE,SECT_ID,STNNBR,CASTNO,BTLNBR,BTLNBR_FLAG_W,DATE,TIME,LATITUDE,LONGITUDE,DEPTH,CTDPRS,CTDTMP,CTDSAL,CTDSAL_FLAG_W,SALNTY,SALNTY_FLAG_W,OXYGEN,OXYGEN_FLAG_W
,,,,,,,,,,,DBAR,ITS-90,PSS-78,,PSS-78,,ML/L,
      06BE88_1,  IR04,    19,  1,     23,2,19930719,0418, -5.9613,  80.5027, 5190,     10.1,  27.7623,  35.2908,2,  35.2974,2,      4.5,2
      06BE88_1,  IR04,    19,  1,     22,2,19930719,0418, -5.9613,  80.5027, 5190,     50.5,  27.7276,  35.1266,2,  35.2844,2,      4.5,2
      06BE88_1,  IR04,    19,  1,     21,2,19930719,0418, -5.9613,  80.5027, 5190,     75.2,  22.3381,  35.2358,2,  35.2432,2,      3.4,2
      06BE88_1,  IR04,    19,  1,     20,2,19930719,0418, -5.9613,  80.5027, 5190,     99.1,  19.3105,  35.1953,2,  35.2022,2,      1.9,2
      06BE88_1,  IR04,    19,  1,     19,2,19930719,0418, -5.9613,  80.5027, 5190,    124.3,  17.2821,  35.0442,2,  35.0512,2,      1.5,2
      06BE88_1,  IR04,    19,  1,     18,2,19930719,0418, -5.9613,  80.5027, 5190,    150.6,  15.9649,  35.0695,2,  35.0687,2,      1.5,2
      06BE88_1,  IR04,    19,  1,     17,2,19930719,0418, -5.9613,  80.5027, 5190,    200.4,  12.9939,  34.9007,2,  34.9026,2,      1.4,2
      06BE88_1,  IR04,    19,  1,     16,2,19930719,0418, -5.9613,  80.5027, 5190,    250.9,  11.9167,  34.9512,2,  34.9601,2,      1.6,2
      06BE88_1,  IR04,    19,  1,     15,2,19930719,0418, -5.9613,  80.5027, 5190,    300.7,  11.0817,  34.9192,2,  34.9307,2,      1.7,2
      06BE88_1,  IR04,    19,  1,     14,2,19930719,0418, -5.9613,  80.5027, 5190,    401.3,   9.7977,  34.8625,2,  34.9301,2,      1.7,2
      06BE88_1,  IR04,    19,  1,     13,2,19930719,0418, -5.9613,  80.5027, 5190,    500.5,   8.9316,  34.8322,2,  34.8408,2,      2.0,2
      06BE88_1,  IR04,    19,  1,     12,2,19930719,0418, -5.9613,  80.5027, 5190,    750.5,   7.2519,  34.8109,2,  34.8192,2,      1.4,2
      06BE88_1,  IR04,    19,  1,     11,2,19930719,0418, -5.9613,  80.5027, 5190,    999.6,   5.7054,  34.7648,2,  34.7718,2,      1.7,2
      06BE88_1,  IR04,    19,  1,     10,2,19930719,0418, -5.9613,  80.5027, 5190,   1251.7,   4.8862,  34.7790,2,  34.7864,2,      2.1,2
      06BE88_1,  IR04,    19,  1,      9,2,19930719,0418, -5.9613,  80.5027, 5190,   1501.4,   4.0976,  34.7790,2,  34.7854,2,      2.3,2
      06BE88_1,  IR04,    19,  1,      8,2,19930719,0418, -5.9613,  80.5027, 5190,   1751.4,   3.2517,  34.7628,2,  34.7695,2,      2.7,2
      06BE88_1,  IR04,    19,  1,      7,2,19930719,0418, -5.9613,  80.5027, 5190,   1996.8,   2.6878,  34.7515,2,  34.7583,2,      3.0,2
      06BE88_1,  IR04,    19,  1,      6,2,19930719,0418, -5.9613,  80.5027, 5190,   2500.2,   2.0101,  34.7346,2,  34.7410,2,      3.5,2
      06BE88_1,  IR04,    19,  1,      5,2,19930719,0418, -5.9613,  80.5027, 5190,   3000.0,   1.6851,  34.7249,2,  34.7309,2,      3.8,2
      06BE88_1,  IR04,    19,  1,      4,2,19930719,0418, -5.9613,  80.5027, 5190,   3502.7,   1.4747,  34.7186,2,  34.7233,2,      3.9,2
      06BE88_1,  IR04,    19,  1,      3,2,19930719,0418, -5.9613,  80.5027, 5190,   4001.2,   1.4069,  34.7155,2,  34.7203,2,      4.0,2
      06BE88_1,  IR04,    19,  1,      2,2,19930719,0418, -5.9613,  80.5027, 5190,   4497.8,   1.3850,  34.7140,2,  34.7184,2,      4.1,2
      06BE88_1,  IR04,    19,  1,      1,2,19930719,0418, -5.9613,  80.5027, 5190,   5262.1,   1.4134,  34.7124,2,  34.7164,2,      4.2,2
      06BE88_1,  IR04,    20,  1,     23,2,19930719,1123, -5.3332,  80.5032, 5120,     10.5,  27.7323,  35.3095,2,  35.3163,2,      4.6,2
      06BE88_1,  IR04,    20,  1,     22,2,19930719,1123, -5.3332,  80.5032, 5120,     50.7,  27.7365,  35.3049,2,  35.3159,2,      4.5,2
      06BE88_1,  IR04,    20,  1,     21,2,19930719,1123, -5.3332,  80.5032, 5120,     75.4,  27.0966,  35.2656,2,  35.2660,2,      4.3,2
      06BE88_1,  IR04,    20,  1,     20,2,19930719,1123, -5.3332,  80.5032, 5120,    100.3,  19.1393,  35.2245,2,  35.2345,2,      2.6,2
      06BE88_1,  IR04,    20,  1,     19,2,19930719,1123, -5.3332,  80.5032, 5120,    125.6,  17.0131,  35.2027,2,  35.2073,2,      2.5,2
      06BE88_1,  IR04,    20,  1,     18,2,19930719,1123, -5.3332,  80.5032, 5120,    150.3,  15.9273,  35.1939,2,  35.1995,2,      2.0,2
      06BE88_1,  IR04,    20,  1,     17,2,19930719,1123, -5.3332,  80.5032, 5120,    200.2,  13.8776,  35.0416,2,  35.0738,2,      2.0,2
      06BE88_1,  IR04,    20,  1,     16,2,19930719,1123, -5.3332,  80.5032, 5120,    250.4,  12.1286,  34.9587,2,  34.9663,2,      1.5,2
      06BE88_1,  IR04,    20,  1,     15,2,19930719,1123, -5.3332,  80.5032, 5120,    301.1,  11.1753,  34.9474,2,  34.9553,2,      1.8,2
      06BE88_1,  IR04,    20,  1,     14,2,19930719,1123, -5.3332,  80.5032, 5120,    397.8,  10.1202,  34.8889,2,-999.0000,9,   -999.0,5
      06BE88_1,  IR04,    20,  1,     13,2,19930719,1123, -5.3332,  80.5032, 5120,    500.5,   9.2628,  34.8553,2,  34.8633,2,      1.7,2
      06BE88_1,  IR04,    20,  1,     12,2,19930719,1123, -5.3332,  80.5032, 5120,    749.0,   7.4869,  34.8275,2,  34.8340,2,      1.5,2
      06BE88_1,  IR04,    20,  1,     11,2,19930719,1123, -5.3332,  80.5032, 5120,    999.2,   5.7928,  34.7725,2,  34.7795,2,      1.7,2
      06BE88_1,  IR04,    20,  1,     10,2,19930719,1123, -5.3332,  80.5032, 5120,   1249.1,   4.9124,  34.7788,2,  34.7856,2,      1.9,2
      06BE88_1,  IR04,    20,  1,      9,2,19930719,1123, -5.3332,  80.5032, 5120,   1497.9,   4.1227,  34.7811,2,  34.7874,2,      2.3,2
      06BE88_1,  IR04,    20,  1,      8,2,19930719,1123, -5.3332,  80.5032, 5120,   1748.4,   3.1876,  34.7610,2,  34.7659,2,      2.7,2
      06BE88_1,  IR04,    20,  1,      7,2,19930719,1123, -5.3332,  80.5032, 5120,   2248.7,   2.2432,  34.7445,2,  34.7496,2,      3.3,2
      06BE88_1,  IR04,    20,  1,      3,2,19930719,1123, -5.3332,  80.5032, 5120,   2498.4,   2.0200,  34.7364,2,-999.0000,9,   -999.0,5
      06BE88_1,  IR04,    20,  1,      1,2,19930719,1123, -5.3332,  80.5032, 5120,   2499.0,   2.0201,  34.7363,2,-999.0000,9,   -999.0,5
      06BE88_1,  IR04,    20,  1,      5,2,19930719,1123, -5.3332,  80.5032, 5120,   2499.0,   2.0199,  34.7364,2,  34.7412,2,      3.5,2
      06BE88_1,  IR04,    20,  1,      2,2,19930719,1123, -5.3332,  80.5032, 5120,   2499.1,   2.0201,  34.7365,2,  34.7410,2,      3.5,2
      06BE88_1,  IR04,    20,  1,      4,2,19930719,1123, -5.3332,  80.5032, 5120,   2499.4,   2.0195,  34.7366,2,-999.0000,9,   -999.0,5
      06BE88_1,  IR04,    20,  1,      6,2,19930719,1123, -5.3332,  80.5032, 5120,   2499.6,   2.0198,  34.7364,2,-999.0000,9,   -999.0,5
      06BE88_1,  IR04,    21,  1,     22,2,19930719,1654, -4.6680,  80.5025, 5071,     75.0,  24.9606,  35.2564,2,  35.2664,2,      4.3,2
      06BE88_1,  IR04,    21,  1,     21,2,19930719,1654, -4.6680,  80.5025, 5071,     99.6,  21.0389,  35.2136,2,  35.2960,2,      4.3,2
      06BE88_1,  IR04,    21,  1,     20,2,19930719,1654, -4.6680,  80.5025, 5071,    124.2,  18.0313,  35.2088,2,  35.2142,2,      2.6,2
      06BE88_1,  IR04,    21,  1,     19,2,19930719,1654, -4.6680,  80.5025, 5071,    151.8,  16.8595,  35.2094,2,  35.2219,2,      2.1,2
      06BE88_1,  IR04,    21,  1,     18,2,19930719,1654, -4.6680,  80.5025, 5071,    198.5,  15.1037,  35.1648,2,  35.1731,2,      2.2,2
      06BE88_1,  IR04,    21,  1,     17,2,19930719,1654, -4.6680,  80.5025, 5071,    250.6,  12.5228,  34.9772,2,  34.9843,2,      1.7,2
      06BE88_1,  IR04,    21,  1,     16,2,19930719,1654, -4.6680,  80.5025, 5071,    300.2,  11.4369,  34.9626,2,  34.9689,2,      1.8,2
      06BE88_1,  IR04,    21,  1,     15,2,19930719,1654, -4.6680,  80.5025, 5071,    402.3,  10.3068,  34.9254,2,  34.9320,2,      2.3,2
      06BE88_1,  IR04,    21,  1,     14,2,19930719,1654, -4.6680,  80.5025, 5071,    499.5,   9.4307,  34.8795,2,-999.0000,9,   -999.0,5
      06BE88_1,  IR04,    21,  1,     13,2,19930719,1654, -4.6680,  80.5025, 5071,    751.3,   7.6910,  34.8735,2,  34.8818,2,      1.4,2
      06BE88_1,  IR04,    21,  1,     12,2,19930719,1654, -4.6680,  80.5025, 5071,   1001.9,   6.0026,  34.7900,2,  34.7974,2,      1.6,2
      06BE88_1,  IR04,    21,  1,     11,2,19930719,1654, -4.6680,  80.5025, 5071,   1250.7,   5.0612,  34.8068,2,  34.8137,2,      1.8,2
      06BE88_1,  IR04,    21,  1,     10,2,19930719,1654, -4.6680,  80.5025, 5071,   1501.5,   4.0531,  34.7822,2,  34.7864,2,      2.3,2
      06BE88_1,  IR04,    21,  1,      9,2,19930719,1654, -4.6680,  80.5025, 5071,   1747.5,   3.1669,  34.7684,2,  34.7744,2,      2.8,2
      06BE88_1,  IR04,    21,  1,      8,2,19930719,1654, -4.6680,  80.5025, 5071,   1999.2,   2.5890,  34.7564,2,  34.7608,2,      3.1,2
      06BE88_1,  IR04,    21,  1,      1,2,19930719,1654, -4.6680,  80.5025, 5071,   2531.4,   1.9527,  34.7346,2,-999.0000,9,   -999.0,5
      06BE88_1,  IR04,    21,  1,      4,2,19930719,1654, -4.6680,  80.5025, 5071,   2532.0,   1.9507,  34.7342,2,-999.0000,9,   -999.0,5
      06BE88_1,  IR04,    21,  1,      6,2,19930719,1654, -4.6680,  80.5025, 5071,   2532.1,   1.9485,  34.7344,2,-999.0000,9,      3.5,2
      06BE88_1,  IR04,    21,  1,      3,2,19930719,1654, -4.6680,  80.5025, 5071,   2532.2,   1.9497,  34.7346,2,-999.0000,9,   -999.0,5
      06BE88_1,  IR04,    21,  1,      7,2,19930719,1654, -4.6680,  80.5025, 5071,   2532.4,   1.9507,  34.7342,2,  34.7408,2,      3.5,2
      06BE88_1,  IR04,    21,  1,      2,2,19930719,1654, -4.6680,  80.5025, 5071,   2532.7,   1.9496,  34.7346,2,  34.7406,2,   -999.0,5
      06BE88_1,  IR04,    21,  1,      5,2,19930719,1654, -4.6680,  80.5025, 5071,   2532.8,   1.9494,  34.7344,2,-999.0000,9,      3.5,2
      06BE88_1,  IR04,    22,  1,     23,2,19930719,2341, -3.9695,  80.5010, 4998,     10.3,  28.5958,  35.0536,2,  35.0569,2,      4.5,2
      06BE88_1,  IR04,    22,  1,     22,2,19930719,2341, -3.9695,  80.5010, 4998,     49.9,  28.6175,  35.0516,2,  35.0594,2,      4.5,2
      06BE88_1,  IR04,    22,  1,     21,2,19930719,2341, -3.9695,  80.5010, 4998,     75.3,  28.5433,  35.0918,2,  35.1195,2,      4.0,2
      06BE88_1,  IR04,    22,  1,     20,2,19930719,2341, -3.9695,  80.5010, 4998,    100.0,  24.8663,  35.3073,2,  35.3238,2,      3.8,2
      06BE88_1,  IR04,    22,  1,     19,2,19930719,2341, -3.9695,  80.5010, 4998,    124.8,  19.4855,  35.2710,2,  35.2779,2,      2.8,2
      06BE88_1,  IR04,    22,  1,     18,2,19930719,2341, -3.9695,  80.5010, 4998,    148.5,  17.1282,  35.2083,2,  35.2134,2,      2.1,2
      06BE88_1,  IR04,    22,  1,     17,2,19930719,2341, -3.9695,  80.5010, 4998,    200.0,  14.0284,  35.1323,2,  35.1374,2,      2.5,2
      06BE88_1,  IR04,    22,  1,     16,2,19930719,2341, -3.9695,  80.5010, 4998,    249.6,  12.4200,  35.0587,2,  35.0640,2,      2.7,2
      06BE88_1,  IR04,    22,  1,     15,2,19930719,2341, -3.9695,  80.5010, 4998,    299.8,  11.3282,  34.9883,2,  34.9955,2,      2.8,2
      06BE88_1,  IR04,    22,  1,     14,2,19930719,2341, -3.9695,  80.5010, 4998,    399.8,  10.2768,  34.9304,2,  34.9366,2,      2.0,2
      06BE88_1,  IR04,    22,  1,     13,2,19930719,2341, -3.9695,  80.5010, 4998,    500.7,   9.5236,  34.9055,2,  34.9122,2,      1.8,2
      06BE88_1,  IR04,    22,  1,     12,2,19930719,2341, -3.9695,  80.5010, 4998,    747.7,   7.7210,  34.8377,2,  34.9119,2,      2.0,2
      06BE88_1,  IR04,    22,  1,     11,2,19930719,2341, -3.9695,  80.5010, 4998,   1000.9,   6.4639,  34.8451,2,  34.8515,2,      1.5,2
      06BE88_1,  IR04,    22,  1,     10,2,19930719,2341, -3.9695,  80.5010, 4998,   1250.0,   5.0399,  34.8070,2,  34.8143,2,      1.9,2
      06BE88_1,  IR04,    22,  1,      9,2,19930719,2341, -3.9695,  80.5010, 4998,   1498.5,   4.0465,  34.7836,2,  34.8025,2,      2.3,2
      06BE88_1,  IR04,    22,  1,      8,2,19930719,2341, -3.9695,  80.5010, 4998,   1748.9,   3.1603,  34.7701,2,  34.7758,2,      2.8,2
      06BE88_1,  IR04,    22,  1,      7,2,19930719,2341, -3.9695,  80.5010, 4998,   2249.5,   2.2346,  34.7440,2,  34.7494,2,      3.3,2
      06BE88_1,  IR04,    22,  1,      6,2,19930719,2341, -3.9695,  80.5010, 4998,   2750.1,   1.8448,  34.7316,2,  34.7362,2,      3.6,2
      06BE88_1,  IR04,    22,  1,      5,2,19930719,2341, -3.9695,  80.5010, 4998,   3248.2,   1.5483,  34.7208,2,  34.7250,2,      3.3,2
      06BE88_1,  IR04,    22,  1,      4,2,19930719,2341, -3.9695,  80.5010, 4998,   3748.1,   1.4091,  34.7164,2,  34.7199,2,      3.7,2
      06BE88_1,  IR04,    22,  1,      3,2,19930719,2341, -3.9695,  80.5010, 4998,   4248.5,   1.3960,  34.7146,2,  34.7182,2,      3.6,2
      06BE88_1,  IR04,    22,  1,      2,2,19930719,2341, -3.9695,  80.5010, 4998,   4749.2,   1.4043,  34.7134,2,  34.7172,2,      3.4,2
      06BE88_1,  IR04,    22,  1,      1,2,19930719,2341, -3.9695,  80.5010, 4998,   5098.6,   1.3995,  34.7126,2,  34.7168,2,      3.8,2
      06BE88_1,  IR04,    23,  1,     23,2,19930720,0718, -3.3337,  80.5013, 4977,      9.6,  28.7504,  34.7843,2,  34.7917,2,      4.5,2
      06BE88_1,  IR04,    23,  1,     22,2,19930720,0718, -3.3337,  80.5013, 4977,     50.2,  28.7380,  34.7855,2,  34.7952,2,      4.5,2
      06BE88_1,  IR04,    23,  1,     21,2,19930720,0718, -3.3337,  80.5013, 4977,     76.8,  28.7408,  34.8046,2,  34.7954,2,      4.5,2
      06BE88_1,  IR04,    23,  1,     20,2,19930720,0718, -3.3337,  80.5013, 4977,     98.1,  27.7525,  35.1792,2,  35.1394,2,      4.3,2
      06BE88_1,  IR04,    23,  1,     19,2,19930720,0718, -3.3337,  80.5013, 4977,    127.5,  22.6270,  35.3027,2,  35.3122,2,      3.2,2
      06BE88_1,  IR04,    23,  1,     18,2,19930720,0718, -3.3337,  80.5013, 4977,    149.9,  18.0762,  35.2306,2,  35.2381,2,      2.0,2
      06BE88_1,  IR04,    23,  1,     17,2,19930720,0718, -3.3337,  80.5013, 4977,    203.1,  13.8265,  35.0851,2,  35.0905,2,      2.1,2
      06BE88_1,  IR04,    23,  1,     16,2,19930720,0718, -3.3337,  80.5013, 4977,    250.0,  12.4349,  35.0599,2,  35.0660,2,      2.3,2
      06BE88_1,  IR04,    23,  1,     15,2,19930720,0718, -3.3337,  80.5013, 4977,    299.9,  11.5828,  35.0127,2,  35.0173,2,      2.3,2
      06BE88_1,  IR04,    23,  1,     14,2,19930720,0718, -3.3337,  80.5013, 4977,    400.8,  10.3653,  34.9281,2,  34.9351,2,      2.1,2
      06BE88_1,  IR04,    23,  1,     13,2,19930720,0718, -3.3337,  80.5013, 4977,    499.8,   9.6471,  34.9228,2,-999.0000,9,   -999.0,5
      06BE88_1,  IR04,    23,  1,     12,2,19930720,0718, -3.3337,  80.5013, 4977,    751.1,   7.8026,  34.8981,2,  34.9038,2,      1.4,2
      06BE88_1,  IR04,    23,  1,     11,2,19930720,0718, -3.3337,  80.5013, 4977,   1001.4,   5.9802,  34.8183,2,  34.8243,2,      1.5,2
      06BE88_1,  IR04,    23,  1,     10,2,19930720,0718, -3.3337,  80.5013, 4977,   1249.9,   5.1600,  34.8356,2,  34.8416,2,      1.7,2
      06BE88_1,  IR04,    23,  1,      9,2,19930720,0718, -3.3337,  80.5013, 4977,   1499.0,   4.0880,  34.7926,2,  34.7982,2,      2.2,2
      06BE88_1,  IR04,    23,  1,      8,2,19930720,0718, -3.3337,  80.5013, 4977,   1752.3,   3.1849,  34.7731,2,  34.7791,2,      2.7,2
      06BE88_1,  IR04,    23,  1,      7,2,19930720,0718, -3.3337,  80.5013, 4977,   2004.6,   2.5703,  34.7591,2,  34.7642,2,      3.1,2
      06BE88_1,  IR04,    23,  1,      2,2,19930720,0718, -3.3337,  80.5013, 4977,   2523.0,   1.9463,  34.7350,2,-999.0000,9,   -999.0,5
      06BE88_1,  IR04,    23,  1,      5,2,19930720,0718, -3.3337,  80.5013, 4977,   2523.6,   1.9473,  34.7350,2,-999.0000,9,   -999.0,5
      06BE88_1,  IR04,    23,  1,      3,2,19930720,0718, -3.3337,  80.5013, 4977,   2524.0,   1.9468,  34.7350,2,-999.0000,9,   -999.0,5
      06BE88_1,  IR04,    23,  1,      4,2,19930720,0718, -3.3337,  80.5013, 4977,   2524.7,   1.9465,  34.7346,2,-999.0000,9,   -999.0,5
      06BE88_1,  IR04,    23,  1,      6,2,19930720,0718, -3.3337,  80.5013, 4977,   2526.1,   1.9461,  34.7349,2,  34.7394,2,      3.5,2
      06BE88_1,  IR04,    23,  1,      1,2,19930720,0718, -3.3337,  80.5013, 4977,   2529.8,   1.9444,  34.7348,2,-999.0000,9,   -999.0,5
      06BE88_1,  IR04,    24,  1,     23,2,19930720,1300, -2.6663,  80.5015, 4866,      8.2,  28.7847,  34.7541,2,  34.7600,2,      4.5,2
      06BE88_1,  IR04,    24,  1,     22,2,19930720,1300, -2.6663,  80.5015, 4866,     49.1,  28.7890,  34.7531,2,  34.7616,2,      4.5,2
      06BE88_1,  IR04,    24,  1,     21,2,19930720,1300, -2.6663,  80.5015, 4866,     73.2,  28.7467,  34.7740,2,  34.7610,2,      4.5,2
      06BE88_1,  IR04,    24,  1,     20,2,19930720,1300, -2.6663,  80.5015, 4866,     98.9,  26.6900,  35.2163,2,  35.2207,2,      3.9,2
      06BE88_1,  IR04,    24,  1,     19,2,19930720,1300, -2.6663,  80.5015, 4866,    126.3,  22.1605,  35.3155,2,  35.3066,2,      2.7,2
      06BE88_1,  IR04,    24,  1,     18,2,19930720,1300, -2.6663,  80.5015, 4866,    149.2,  19.1186,  35.2462,2,  35.2522,2,      2.1,2
      06BE88_1,  IR04,    24,  1,     17,2,19930720,1300, -2.6663,  80.5015, 4866,    195.9,  14.9600,  35.1284,2,  35.1339,2,      2.0,2
      06BE88_1,  IR04,    24,  1,     16,2,19930720,1300, -2.6663,  80.5015, 4866,    248.4,  12.4329,  35.0665,2,  35.0709,2,      2.9,2
      06BE88_1,  IR04,    24,  1,     15,2,19930720,1300, -2.6663,  80.5015, 4866,    298.2,  11.5982,  35.0150,2,  35.0193,2,      2.2,2
      06BE88_1,  IR04,    24,  1,     14,2,19930720,1300, -2.6663,  80.5015, 4866,    399.9,  10.3349,  34.9416,2,  34.9484,2,      1.9,2
      06BE88_1,  IR04,    24,  1,     13,2,19930720,1300, -2.6663,  80.5015, 4866,    500.7,   9.4565,  34.9172,2,  34.9237,2,      1.8,2
      06BE88_1,  IR04,    24,  1,     12,2,19930720,1300, -2.6663,  80.5015, 4866,    748.8,   7.8791,  34.8960,2,  34.9006,2,      1.4,2
      06BE88_1,  IR04,    24,  1,     11,2,19930720,1300, -2.6663,  80.5015, 4866,    999.4,   6.0147,  34.8477,2,  34.8542,2,      1.2,2
      06BE88_1,  IR04,    24,  1,     10,2,19930720,1300, -2.6663,  80.5015, 4866,   1248.7,   5.1166,  34.8382,2,  34.8444,2,      1.7,2
      06BE88_1,  IR04,    24,  1,      9,2,19930720,1300, -2.6663,  80.5015, 4866,   1496.2,   4.1303,  34.8117,2,  34.8167,2,      2.2,2
      06BE88_1,  IR04,    24,  1,      8,2,19930720,1300, -2.6663,  80.5015, 4866,   1749.3,   3.1888,  34.7791,2,  34.7842,2,      2.7,2
      06BE88_1,  IR04,    24,  1,      7,2,19930720,1300, -2.6663,  80.5015, 4866,   2249.7,   2.2521,  34.7472,2,  34.7518,2,      3.3,2
      06BE88_1,  IR04,    24,  1,      4,2,19930720,1300, -2.6663,  80.5015, 4866,   2499.2,   2.0387,  34.7386,2,-999.0000,9,   -999.0,5
      06BE88_1,  IR04,    24,  1,      6,2,19930720,1300, -2.6663,  80.5015, 4866,   2500.0,   2.0395,  34.7385,2,-999.0000,9,   -999.0,5
      06BE88_1,  IR04,    24,  1,      2,2,19930720,1300, -2.6663,  80.5015, 4866,   2500.1,   2.0385,  34.7385,2,  34.7431,2,      3.5,2
      06BE88_1,  IR04,    24,  1,      3,2,19930720,1300, -2.6663,  80.5015, 4866,   2500.4,   2.0385,  34.7387,2,-999.0000,9,   -999.0,5
      06BE88_1,  IR04,    24,  1,      1,2,19930720,1300, -2.6663,  80.5015, 4866,   2500.5,   2.0373,  34.7385,2,-999.0000,9,   -999.0,5
      06BE88_1,  IR04,    24,  1,      5,2,19930720,1300, -2.6663,  80.5015, 4866,   2501.4,   2.0384,  34.7385,2,  34.7433,2,      3.5,2