BOTTLE,20220624CCHSIOAMB
EXPOCODE,SECT_ID,STNNBR,CASTNO,BTLNBR,BTLNBR_FLAG_W,DATE,TIME,LATITUDE,LONGITUDE,DEPTH,CTDPRS,CTDTMP,CTDSAL,CTDSAL_FLAG_W,SALNTY,SALNTY_FLAG_W,OXYGEN,OXYGEN_FLAG_W
,,,,,,,,,,,DBAR,ITS-90,PSS-78,,PSS-78,,ML/L,
      06BE88_1,  IR04,    31,  1,     23,2,19930724,1921,  0.3670,  80.5012, 4619,      9.5,  28.5507,  34.5583,2,  34.5663,2,      4.5,2
      06BE88_1,  IR04,    31,  1,     22,2,19930724,1921,  0.3670,  80.5012, 4619,     51.5,  28.2713,  34.7265,2,  34.7174,2,      4.3,2
      06BE88_1,  IR04,    31,  1,     21,2,19930724,1921,  0.3670,  80.5012, 4619,     72.2,  28.1529,  34.7952,2,  34.8064,2,      4.4,2
      06BE88_1,  IR04,    31,  1,     20,2,19930724,1921,  0.3670,  80.5012, 4619,     98.2,  23.1908,  35.1383,2,  35.0216,2,      2.9,2
      06BE88_1,  IR04,    31,  1,     19,2,19930724,1921,  0.3670,  80.5012, 4619,    124.9,  18.3499,  35.2073,2,  35.2258,2,      1.8,2
      06BE88_1,  IR04,    31,  1,     18,2,19930724,1921,  0.3670,  80.5012, 4619,    149.8,  15.3084,  35.1414,2,  35.1467,2,      1.4,2
      06BE88_1,  IR04,    31,  1,     17,2,19930724,1921,  0.3670,  80.5012, 4619,    199.4,  13.1935,  35.0951,2,  35.0992,2,      1.5,2
      06BE88_1,  IR04,    31,  1,     16,2,19930724,1921,  0.3670,  80.5012, 4619,    250.1,  12.2678,  35.0757,2,  35.0803,2,      1.7,2
      06BE88_1,  IR04,    31,  1,     15,2,19930724,1921,  0.3670,  80.5012, 4619,    299.5,  11.6513,  35.0478,2,-999.0000,9,   -999.0,5
      06BE88_1,  IR04,    31,  1,     14,2,19930724,1921,  0.3670,  80.5012, 4619,    399.3,  10.5601,  35.0073,2,  35.0118,2,      1.6,2
      06BE88_1,  IR04,    31,  1,     13,2,19930724,1921,  0.3670,  80.5012, 4619,    498.9,   9.7824,  35.0075,2,  35.0108,2,      1.3,2
      06BE88_1,  IR04,    31,  1,     12,2,19930724,1921,  0.3670,  80.5012, 4619,    747.6,   8.3441,  34.9831,2,  34.9894,2,      1.1,2
      06BE88_1,  IR04,    31,  1,     11,2,19930724,1921,  0.3670,  80.5012, 4619,    999.9,   6.8084,  34.9427,2,  34.9502,2,      1.2,2
      06BE88_1,  IR04,    31,  1,     10,2,19930724,1921,  0.3670,  80.5012, 4619,   1250.2,   5.4149,  34.8775,2,  34.8812,2,      1.6,2
      06BE88_1,  IR04,    31,  1,      9,2,19930724,1921,  0.3670,  80.5012, 4619,   1500.2,   4.4416,  34.8379,2,  34.8440,2,      2.0,2
      06BE88_1,  IR04,    31,  1,      8,2,19930724,1921,  0.3670,  80.5012, 4619,   1749.3,   3.3971,  34.7986,2,  34.8047,2,      2.6,2
      06BE88_1,  IR04,    31,  1,      7,2,19930724,1921,  0.3670,  80.5012, 4619,   2001.7,   2.7917,  34.7728,2,  34.7779,2,      2.9,2
      06BE88_1,  IR04,    31,  1,      6,2,19930724,1921,  0.3670,  80.5012, 4619,   2499.2,   2.0708,  34.7421,2,-999.0000,9,   -999.0,5
      06BE88_1,  IR04,    31,  1,      5,2,19930724,1921,  0.3670,  80.5012, 4619,   3000.0,   1.6897,  34.7266,2,  34.7323,2,      3.6,2
      06BE88_1,  IR04,    31,  1,      4,2,19930724,1921,  0.3670,  80.5012, 4619,   3499.4,   1.4580,  34.7184,2,  34.7265,2,      3.8,2
      06BE88_1,  IR04,    31,  1,      3,2,19930724,1921,  0.3670,  80.5012, 4619,   3999.3,   1.3716,  34.7146,2,  34.7186,2,      4.0,2
      06BE88_1,  IR04,    31,  1,      2,2,19930724,1921,  0.3670,  80.5012, 4619,   4501.5,   1.4023,  34.7138,2,  34.7186,2,      4.1,2
      06BE88_1,  IR04,    31,  1,      1,2,19930724,1921,  0.3670,  80.5012, 4619,   4646.1,   1.4138,  34.7137,2,  34.7184,2,      4.1,2
      06BE88_1,  IR04,    32,  1,     23,2,19930725,0632,  0.7837,  80.5003, 4599,     10.7,  28.4619,  34.5819,2,  34.5871,2,      4.5,2
      06BE88_1,  IR04,    32,  1,     22,2,19930725,0632,  0.7837,  80.5003, 4599,     50.0,  28.3939,  34.6111,2,  34.6229,2,      4.4,2
      06BE88_1,  IR04,    32,  1,     21,2,19930725,0632,  0.7837,  80.5003, 4599,     75.4,  28.2034,  34.8020,2,  34.8153,2,      4.4,2
      06BE88_1,  IR04,    32,  1,     20,2,19930725,0632,  0.7837,  80.5003, 4599,    101.3,  27.4646,  34.7303,2,  34.7854,2,      4.0,2
      06BE88_1,  IR04,    32,  1,     19,2,19930725,0632,  0.7837,  80.5003, 4599,    125.5,  20.3770,  35.2431,2,  35.2536,2,      2.0,2
      06BE88_1,  IR04,    32,  1,     18,2,19930725,0632,  0.7837,  80.5003, 4599,    148.4,  16.7595,  35.1891,2,  35.1886,2,      1.5,2
      06BE88_1,  IR04,    32,  1,     17,2,19930725,0632,  0.7837,  80.5003, 4599,    199.3,  13.2307,  35.0964,2,  35.1010,2,      1.3,2
      06BE88_1,  IR04,    32,  1,     16,2,19930725,0632,  0.7837,  80.5003, 4599,    249.4,  12.4443,  35.0856,2,  35.0923,2,      1.7,2
      06BE88_1,  IR04,    32,  1,     15,2,19930725,0632,  0.7837,  80.5003, 4599,    298.8,  11.8942,  35.0599,2,  35.0634,2,      1.7,2
      06BE88_1,  IR04,    32,  1,     14,2,19930725,0632,  0.7837,  80.5003, 4599,    398.8,  10.6738,  35.0515,2,  35.0526,2,      1.1,2
      06BE88_1,  IR04,    32,  1,     13,2,19930725,0632,  0.7837,  80.5003, 4599,    498.6,   9.7705,  35.0045,2,  35.0079,2,      1.3,2
      06BE88_1,  IR04,    32,  1,     12,2,19930725,0632,  0.7837,  80.5003, 4599,    748.0,   8.3437,  34.9946,2,  35.0006,2,      1.0,2
      06BE88_1,  IR04,    32,  1,     11,2,19930725,0632,  0.7837,  80.5003, 4599,   1000.0,   6.8514,  34.9489,2,  34.9559,2,      1.2,2
      06BE88_1,  IR04,    32,  1,     10,2,19930725,0632,  0.7837,  80.5003, 4599,   1249.2,   5.3624,  34.8759,2,  34.8825,2,      1.6,2
      06BE88_1,  IR04,    32,  1,      9,2,19930725,0632,  0.7837,  80.5003, 4599,   1500.0,   4.2624,  34.8322,2,  34.8391,2,      2.1,2
      06BE88_1,  IR04,    32,  1,      8,2,19930725,0632,  0.7837,  80.5003, 4599,   1750.6,   3.2051,  34.7888,2,  34.7952,2,      2.7,2
      06BE88_1,  IR04,    32,  1,      7,2,19930725,0632,  0.7837,  80.5003, 4599,   2249.7,   2.3704,  34.7555,2,  34.7596,2,      3.1,2
      06BE88_1,  IR04,    32,  1,      6,2,19930725,0632,  0.7837,  80.5003, 4599,   2750.1,   1.8225,  34.7318,2,-999.0000,9,   -999.0,5
      06BE88_1,  IR04,    32,  1,      5,2,19930725,0632,  0.7837,  80.5003, 4599,   3250.3,   1.5953,  34.7233,2,  34.7272,2,      3.6,2
      06BE88_1,  IR04,    32,  1,      4,2,19930725,0632,  0.7837,  80.5003, 4599,   3760.7,   1.3842,  34.7155,2,  34.7195,2,      3.9,2
      06BE88_1,  IR04,    32,  1,      3,2,19930725,0632,  0.7837,  80.5003, 4599,   4245.5,   1.3872,  34.7141,2,  34.7178,2,      4.0,2
      06BE88_1,  IR04,    32,  1,      2,2,19930725,0632,  0.7837,  80.5003, 4599,   4501.8,   1.4034,  34.7137,2,  34.7176,2,      4.1,2
      06BE88_1,  IR04,    32,  1,      1,2,19930725,0632,  0.7837,  80.5003, 4599,   4638.5,   1.4196,  34.7142,2,  34.7182,2,      4.1,2
      06BE88_1,  IR04,    33,  1,     23,2,19930725,1427,  1.1650,  80.5050, 4586,     12.0,  28.3920,  34.5112,2,  34.5229,2,      4.5,2
      06BE88_1,  IR04,    33,  1,     22,2,19930725,1427,  1.1650,  80.5050, 4586,     51.5,  28.3994,  34.5216,2,  34.5330,2,      4.5,2
      06BE88_1,  IR04,    33,  1,     21,2,19930725,1427,  1.1650,  80.5050, 4586,     76.0,  28.1106,  34.7684,2,-999.0000,9,   -999.0,5
      06BE88_1,  IR04,    33,  1,     20,2,19930725,1427,  1.1650,  80.5050, 4586,     99.4,  25.2753,  34.9217,2,  35.0215,2,      3.0,2
      06BE88_1,  IR04,    33,  1,     19,2,19930725,1427,  1.1650,  80.5050, 4586,    123.7,  18.3891,  35.2140,2,  35.2272,2,      1.7,2
      06BE88_1,  IR04,    33,  1,     18,2,19930725,1427,  1.1650,  80.5050, 4586,    149.7,  16.0607,  35.1607,2,  35.1677,2,      1.4,2
      06BE88_1,  IR04,    33,  1,     17,2,19930725,1427,  1.1650,  80.5050, 4586,    201.6,  13.2456,  35.0873,2,  35.0929,2,      1.3,2
      06BE88_1,  IR04,    33,  1,     16,2,19930725,1427,  1.1650,  80.5050, 4586,    252.2,  12.4675,  35.0870,2,  35.0929,2,      1.8,2
      06BE88_1,  IR04,    33,  1,     15,2,19930725,1427,  1.1650,  80.5050, 4586,    298.7,  11.8999,  35.0589,2,  35.0638,2,      1.8,2
      06BE88_1,  IR04,    33,  1,     14,2,19930725,1427,  1.1650,  80.5050, 4586,    401.0,  10.9114,  35.0532,2,  35.0567,2,      1.2,2
      06BE88_1,  IR04,    33,  1,     13,2,19930725,1427,  1.1650,  80.5050, 4586,    501.4,   9.7093,  35.0219,2,  35.0278,2,      1.1,2
      06BE88_1,  IR04,    33,  1,     12,2,19930725,1427,  1.1650,  80.5050, 4586,    750.7,   8.1467,  34.9873,2,  34.9957,2,      1.0,2
      06BE88_1,  IR04,    33,  1,     11,2,19930725,1427,  1.1650,  80.5050, 4586,   1002.9,   6.5833,  34.9357,2,  34.9435,2,      1.2,2
      06BE88_1,  IR04,    33,  1,     10,2,19930725,1427,  1.1650,  80.5050, 4586,   1248.9,   5.3120,  34.8762,2,  34.8839,2,      1.6,2
      06BE88_1,  IR04,    33,  1,      9,2,19930725,1427,  1.1650,  80.5050, 4586,   1498.1,   4.3219,  34.8376,2,  34.8460,2,      2.1,2
      06BE88_1,  IR04,    33,  1,      8,2,19930725,1427,  1.1650,  80.5050, 4586,   1751.9,   3.2369,  34.7907,2,  34.7974,2,      2.7,2
      06BE88_1,  IR04,    33,  1,      7,2,19930725,1427,  1.1650,  80.5050, 4586,   2000.1,   2.8233,  34.7764,2,  34.7830,2,      2.8,2
      06BE88_1,  IR04,    33,  1,      6,2,19930725,1427,  1.1650,  80.5050, 4586,   2497.6,   1.9892,  34.7388,2,-999.0000,9,   -999.0,5
      06BE88_1,  IR04,    33,  1,      5,2,19930725,1427,  1.1650,  80.5050, 4586,   3000.1,   1.7094,  34.7274,2,  34.7349,2,      3.7,2
      06BE88_1,  IR04,    33,  1,      4,2,19930725,1427,  1.1650,  80.5050, 4586,   3498.4,   1.4530,  34.7182,2,  34.7231,2,      3.6,2
      06BE88_1,  IR04,    33,  1,      3,2,19930725,1427,  1.1650,  80.5050, 4586,   4000.2,   1.3746,  34.7146,2,  34.7205,2,      4.0,2
      06BE88_1,  IR04,    33,  1,      2,2,19930725,1427,  1.1650,  80.5050, 4586,   4497.5,   1.4042,  34.7139,2,  34.7188,2,      4.1,2
      06BE88_1,  IR04,    33,  1,      1,2,19930725,1427,  1.1650,  80.5050, 4586,   4623.1,   1.4179,  34.7139,2,  34.7186,2,      4.1,2
      06BE88_1,  IR04,    34,  1,     13,2,19930725,2007,  1.5832,  80.5008, 4546,    499.9,   9.7938,  35.0212,2,  35.0266,2,      1.2,2
      06BE88_1,  IR04,    34,  1,     12,2,19930725,2007,  1.5832,  80.5008, 4546,    747.8,   8.2855,  35.0042,2,  35.0092,2,      0.8,2
      06BE88_1,  IR04,    34,  1,     11,2,19930725,2007,  1.5832,  80.5008, 4546,   1001.5,   6.6084,  34.9368,2,  34.9445,2,      1.2,2
      06BE88_1,  IR04,    34,  1,     10,2,19930725,2007,  1.5832,  80.5008, 4546,   1249.3,   5.4179,  34.8794,2,  34.8865,2,      1.6,2
      06BE88_1,  IR04,    34,  1,      9,2,19930725,2007,  1.5832,  80.5008, 4546,   1500.7,   4.1819,  34.8329,2,  34.8393,2,      2.1,2
      06BE88_1,  IR04,    34,  1,      8,2,19930725,2007,  1.5832,  80.5008, 4546,   1750.0,   3.1784,  34.7892,2,  34.7962,2,      2.7,2
      06BE88_1,  IR04,    34,  1,      7,2,19930725,2007,  1.5832,  80.5008, 4546,   2250.0,   2.2766,  34.7515,2,  34.7575,2,      3.2,2
      06BE88_1,  IR04,    34,  1,      6,2,19930725,2007,  1.5832,  80.5008, 4546,   2749.5,   1.8185,  34.7315,2,-999.0000,9,   -999.0,5
      06BE88_1,  IR04,    34,  1,      5,2,19930725,2007,  1.5832,  80.5008, 4546,   3250.9,   1.5589,  34.7217,2,  34.7276,2,      3.7,2
      06BE88_1,  IR04,    34,  1,      4,2,19930725,2007,  1.5832,  80.5008, 4546,   3748.8,   1.3937,  34.7151,2,  34.7193,2,      3.8,2
      06BE88_1,  IR04,    34,  1,      3,2,19930725,2007,  1.5832,  80.5008, 4546,   4250.3,   1.3928,  34.7136,2,  34.7182,2,      4.0,2
      06BE88_1,  IR04,    34,  1,      2,2,19930725,2007,  1.5832,  80.5008, 4546,   4499.3,   1.4044,  34.7134,2,  34.7182,2,      4.0,2
      06BE88_1,  IR04,    34,  1,      1,2,19930725,2007,  1.5832,  80.5008, 4546,   4571.8,   1.4115,  34.7134,2,  34.7184,2,      4.1,2
      06BE88_1,  IR04,    36,  1,     23,2,19930726,0733,  2.0357,  80.4987, 4498,     10.0,  28.3030,  34.6970,2,-999.0000,9,   -999.0,5
      06BE88_1,  IR04,    36,  1,     22,2,19930726,0733,  2.0357,  80.4987, 4498,     50.0,  28.1650,  34.7090,2,-999.0000,9,   -999.0,5
      06BE88_1,  IR04,    36,  1,     21,2,19930726,0733,  2.0357,  80.4987, 4498,     75.0,  28.0820,  34.7380,2,-999.0000,9,   -999.0,5
      06BE88_1,  IR04,    36,  1,     20,2,19930726,0733,  2.0357,  80.4987, 4498,    100.0,  23.2900,  35.0890,2,-999.0000,9,   -999.0,5
      06BE88_1,  IR04,    36,  1,     19,2,19930726,0733,  2.0357,  80.4987, 4498,    125.0,  20.0960,  35.1890,2,-999.0000,9,   -999.0,5
      06BE88_1,  IR04,    36,  1,     18,2,19930726,0733,  2.0357,  80.4987, 4498,    150.0,  17.8810,  35.1010,2,-999.0000,9,   -999.0,5
      06BE88_1,  IR04,    36,  1,     17,2,19930726,0733,  2.0357,  80.4987, 4498,    200.0,  14.2970,  35.0890,2,-999.0000,9,   -999.0,5
      06BE88_1,  IR04,    36,  1,     16,2,19930726,0733,  2.0357,  80.4987, 4498,    250.0,  12.9750,  35.1200,2,-999.0000,9,   -999.0,5
      06BE88_1,  IR04,    36,  1,     15,2,19930726,0733,  2.0357,  80.4987, 4498,    300.0,  12.1700,  35.0890,2,-999.0000,9,   -999.0,5
      06BE88_1,  IR04,    36,  1,     14,2,19930726,0733,  2.0357,  80.4987, 4498,    400.0,  10.6460,  35.0330,2,-999.0000,9,   -999.0,5
      06BE88_1,  IR04,    36,  1,     13,2,19930726,0733,  2.0357,  80.4987, 4498,    500.0,   9.9090,  35.0290,2,-999.0000,9,   -999.0,5
      06BE88_1,  IR04,    36,  1,     12,2,19930726,0733,  2.0357,  80.4987, 4498,    750.0,   8.2260,  35.0010,2,-999.0000,9,   -999.0,5
      06BE88_1,  IR04,    36,  1,     11,2,19930726,0733,  2.0357,  80.4987, 4498,   1000.0,   6.5350,  34.9350,2,-999.0000,9,   -999.0,5
      06BE88_1,  IR04,    36,  1,     10,2,19930726,0733,  2.0357,  80.4987, 4498,   1250.0,   5.5040,  34.8880,2,-999.0000,9,   -999.0,5
      06BE88_1,  IR04,    36,  1,      9,2,19930726,0733,  2.0357,  80.4987, 4498,   1500.0,   4.2070,  34.8370,2,-999.0000,9,   -999.0,5
      06BE88_1,  IR04,    36,  1,      8,2,19930726,0733,  2.0357,  80.4987, 4498,   1750.0,   3.3750,  34.8040,2,-999.0000,9,   -999.0,5
      06BE88_1,  IR04,    36,  1,      7,2,19930726,0733,  2.0357,  80.4987, 4498,   2250.0,   2.3100,  34.7530,2,-999.0000,9,   -999.0,5
      06BE88_1,  IR04,    36,  1,      6,2,19930726,0733,  2.0357,  80.4987, 4498,   2750.0,   1.8290,  34.7320,2,-999.0000,9,   -999.0,5
      06BE88_1,  IR04,    36,  1,      5,2,19930726,0733,  2.0357,  80.4987, 4498,   3250.0,   1.5500,  34.7220,2,-999.0000,9,   -999.0,5
      06BE88_1,  IR04,    36,  1,      4,2,19930726,0733,  2.0357,  80.4987, 4498,   3750.0,   1.4090,  34.7160,2,-999.0000,9,   -999.0,5
      06BE88_1,  IR04,    36,  1,      3,2,19930726,0733,  2.0357,  80.4987, 4498,   4250.0,   1.3970,  34.7140,2,  34.7188,2,      4.0,2
      06BE88_1,  IR04,    36,  1,      2,2,19930726,0733,  2.0357,  80.4987, 4498,   4500.0,   1.4040,  34.7140,2,  34.7184,2,      4.0,2
      06BE88_1,  IR04,    36,  1,      1,2,19930726,0733,  2.0357,  80.4987, 4498,   4550.0,   1.4060,  34.7140,2,  34.7186,2,      4.1,2
      06BE88_1,  IR04,    37,  1,     23,2,19930726,1455,  2.4992,  80.5000, 4462,     11.0,  28.1290,  34.6090,2,  34.6170,2,      4.6,2
      06BE88_1,  IR04,    37,  1,     22,2,19930726,1455,  2.4992,  80.5000, 4462,     52.0,  28.0840,  34.6180,2,  34.6174,2,      4.5,2
      06BE88_1,  IR04,    37,  1,     21,2,19930726,1455,  2.4992,  80.5000, 4462,     75.9,  28.0520,  34.6570,2,-999.0000,9,   -999.0,5
      06BE88_1,  IR04,    37,  1,     20,2,19930726,1455,  2.4992,  80.5000, 4462,     99.0,  26.3860,  34.8860,2,  34.6981,2,      4.5,2
      06BE88_1,  IR04,    37,  1,     19,2,19930726,1455,  2.4992,  80.5000, 4462,    125.0,  20.8220,  35.1750,2,  35.1725,2,      1.8,2
      06BE88_1,  IR04,    37,  1,     18,2,19930726,1455,  2.4992,  80.5000, 4462,    150.0,  16.8720,  35.0400,2,  35.0640,2,      0.7,2
      06BE88_1,  IR04,    37,  1,     17,2,19930726,1455,  2.4992,  80.5000, 4462,    200.0,  14.6500,  35.1440,2,  35.1634,2,      1.5,2
      06BE88_1,  IR04,    37,  1,     16,2,19930726,1455,  2.4992,  80.5000, 4462,    249.0,  12.8050,  35.1010,2,  35.1057,2,      1.6,2
      06BE88_1,  IR04,    37,  1,     15,2,19930726,1455,  2.4992,  80.5000, 4462,    301.0,  12.0150,  35.0880,2,  35.0870,2,      1.5,2
      06BE88_1,  IR04,    37,  1,     14,2,19930726,1455,  2.4992,  80.5000, 4462,    401.0,  10.8580,  35.0340,2,  35.0342,2,      1.2,2
      06BE88_1,  IR04,    37,  1,     13,2,19930726,1455,  2.4992,  80.5000, 4462,    500.0,  10.0190,  35.0300,2,-999.0000,9,   -999.0,5
      06BE88_1,  IR04,    37,  1,     12,2,19930726,1455,  2.4992,  80.5000, 4462,    750.0,   7.3840,  34.9940,2,  34.9984,2,      0.9,2
      06BE88_1,  IR04,    37,  1,     11,2,19930726,1455,  2.4992,  80.5000, 4462,   1000.0,   6.4660,  34.9310,2,  34.9382,2,      1.2,2
      06BE88_1,  IR04,    37,  1,     10,2,19930726,1455,  2.4992,  80.5000, 4462,   1250.0,   5.3200,  34.8820,2,  34.8894,2,      1.6,2
      06BE88_1,  IR04,    37,  1,      9,2,19930726,1455,  2.4992,  80.5000, 4462,   1500.0,   4.3140,  34.8410,2,  34.8483,2,      2.0,2
      06BE88_1,  IR04,    37,  1,      8,2,19930726,1455,  2.4992,  80.5000, 4462,   1750.0,   3.4380,  34.8030,2,  34.8102,2,      2.5,2
      06BE88_1,  IR04,    37,  1,      7,2,19930726,1455,  2.4992,  80.5000, 4462,   2000.0,   2.7840,  34.7750,2,  34.7817,2,      2.8,2
      06BE88_1,  IR04,    37,  1,      6,2,19930726,1455,  2.4992,  80.5000, 4462,   2499.0,   2.1030,  34.7430,2,-999.0000,9,   -999.0,5
      06BE88_1,  IR04,    37,  1,      5,2,19930726,1455,  2.4992,  80.5000, 4462,   2997.0,   1.7130,  34.7280,2,  34.7349,2,      3.5,2
      06BE88_1,  IR04,    37,  1,      4,2,19930726,1455,  2.4992,  80.5000, 4462,   3499.0,   1.4520,  34.7180,2,  34.7239,2,      3.7,2
      06BE88_1,  IR04,    37,  1,      3,2,19930726,1455,  2.4992,  80.5000, 4462,   4000.0,   1.3930,  34.7150,2,  34.7203,2,      3.9,2
      06BE88_1,  IR04,    37,  1,      2,2,19930726,1455,  2.4992,  80.5000, 4462,   4249.0,   1.3970,  34.7140,2,  34.7211,2,      4.0,2
      06BE88_1,  IR04,    37,  1,      1,2,19930726,1455,  2.4992,  80.5000, 4462,   4504.9,   1.4042,  34.7139,2,  34.7186,2,      4.1,2