BOTTLE,20220624CCHSIOAMB
# removed empty CTDOXY and SAMPNO columns
# changed flag from 2 to 9 for fill value for SALNTY
# changed -10.0 with flag 4 to fill value with flag 5 for OXYGEN
#BOTTLE,20010816WHPSIOKJU
# code : jjward hyd_to_exchange.pl 
# original files copied from HTML directory: 20010816
#
# DATA CITATION
#| CCHDO Citation Information
#|
#| Please cite data downloaded from CCHDO as: 
#| [Data providers of the parameter(s) used]. [Year of file access]. [CTD/Bottle] data from cruise [expocode], 
#| [format version used]. Accessed from CCHDO [url of cruise data page]. Access date [date of download].
#| [Applicable CCHDO cruise DOI if provided].
#|
#| For example: 
#| Swift, J. and Becker, S. 2019. CTD data from Cruise 33RR20160321, exchange version. Accessed from CCHDO 
#| https://cchdo.ucsd.edu/cruise/33RR20160321. Access date 2019-08-21. CCHDO cruise DOI: 10.7942/C2008W
#|
#| Information on the scientists who provided the different parameters can be found in the cruise report. 
#| Additionally, for US GO-SHIP cruises, this information is usually in the comments section in the text headers 
#| of the Exchange bottle files.
#|
#| Users are also encouraged to acknowledge the funding program that supported the data collection in their publication. 
#| For US GO-SHIP data this is the NSF/NOAA funded U.S Repeat Hydrography Program.
#|
#| For data citation, please use the data providers listed below. 
#|
#| Chief Scientist: Detlef R. Quadfasel
#
EXPOCODE,SECT_ID,STNNBR,CASTNO,BTLNBR,BTLNBR_FLAG_W,DATE,TIME,LATITUDE,LONGITUDE,DEPTH,CTDPRS,CTDTMP,CTDSAL,CTDSAL_FLAG_W,SALNTY,SALNTY_FLAG_W,OXYGEN,OXYGEN_FLAG_W
,,,,,,,,,,,DBAR,ITS-90,PSS-78,,PSS-78,,ML/L,
      06BE88_1,  IR04,     1,  1,      5,2,19930710,0513,-18.0997,  65.6318, 2361,   2289.7,   1.9036,  34.7193,2,  34.7233,2,      4.0,2
      06BE88_1,  IR04,     1,  1,     23,2,19930710,0513,-18.0997,  65.6318, 2361,   2289.8,   1.9053,  34.7194,2,-999.0000,9,      4.0,2
      06BE88_1,  IR04,     1,  1,     21,2,19930710,0513,-18.0997,  65.6318, 2361,   2290.1,   1.9056,  34.7193,2,-999.0000,9,      4.0,2
      06BE88_1,  IR04,     1,  1,      6,2,19930710,0513,-18.0997,  65.6318, 2361,   2290.3,   1.9041,  34.7195,2,  34.7245,2,      4.0,2
      06BE88_1,  IR04,     1,  1,     24,2,19930710,0513,-18.0997,  65.6318, 2361,   2290.4,   1.9052,  34.7193,2,-999.0000,9,      4.0,2
      06BE88_1,  IR04,     1,  1,     19,2,19930710,0513,-18.0997,  65.6318, 2361,   2290.5,   1.9045,  34.7193,2,-999.0000,9,      4.0,2
      06BE88_1,  IR04,     1,  1,     17,2,19930710,0513,-18.0997,  65.6318, 2361,   2290.7,   1.9040,  34.7193,2,-999.0000,9,      4.0,2
      06BE88_1,  IR04,     1,  1,      8,2,19930710,0513,-18.0997,  65.6318, 2361,   2290.8,   1.9038,  34.7193,2,  34.7231,2,      4.0,2
      06BE88_1,  IR04,     1,  1,      9,2,19930710,0513,-18.0997,  65.6318, 2361,   2290.9,   1.9040,  34.7195,2,  34.7241,2,      4.0,2
      06BE88_1,  IR04,     1,  1,     20,2,19930710,0513,-18.0997,  65.6318, 2361,   2291.1,   1.9057,  34.7190,2,-999.0000,9,      4.0,2
      06BE88_1,  IR04,     1,  1,      7,2,19930710,0513,-18.0997,  65.6318, 2361,   2291.5,   1.9042,  34.7193,2,  34.7262,2,      3.9,2
      06BE88_1,  IR04,     1,  1,      3,2,19930710,0513,-18.0997,  65.6318, 2361,   2291.8,   1.9034,  34.7194,2,  34.7247,2,   -999.0,5
      06BE88_1,  IR04,     1,  1,     22,2,19930710,0513,-18.0997,  65.6318, 2361,   2291.9,   1.9051,  34.7195,2,-999.0000,9,      4.0,2
      06BE88_1,  IR04,     1,  1,      2,2,19930710,0513,-18.0997,  65.6318, 2361,   2292.3,   1.9037,  34.7192,2,  34.7231,2,      3.9,2
      06BE88_1,  IR04,     1,  1,      4,2,19930710,0513,-18.0997,  65.6318, 2361,   2292.4,   1.9027,  34.7196,2,  34.7233,2,      4.0,2
      06BE88_1,  IR04,     1,  1,     12,2,19930710,0513,-18.0997,  65.6318, 2361,   2292.4,   1.9049,  34.7193,2,  34.7247,2,      4.0,2
      06BE88_1,  IR04,     1,  1,     16,2,19930710,0513,-18.0997,  65.6318, 2361,   2292.4,   1.9038,  34.7199,2,-999.0000,9,      4.0,2
      06BE88_1,  IR04,     1,  1,     11,2,19930710,0513,-18.0997,  65.6318, 2361,   2292.7,   1.9043,  34.7191,2,  34.7243,2,      4.0,2
      06BE88_1,  IR04,     1,  1,     18,2,19930710,0513,-18.0997,  65.6318, 2361,   2292.7,   1.9031,  34.7195,2,-999.0000,9,      4.0,2
      06BE88_1,  IR04,     1,  1,     15,2,19930710,0513,-18.0997,  65.6318, 2361,   2293.0,   1.9054,  34.7189,2,-999.0000,9,   -999.0,5
      06BE88_1,  IR04,     1,  1,     13,2,19930710,0513,-18.0997,  65.6318, 2361,   2293.3,   1.9047,  34.7193,2,-999.0000,9,      4.0,2
      06BE88_1,  IR04,     1,  1,     10,2,19930710,0513,-18.0997,  65.6318, 2361,   2293.4,   1.9040,  34.7199,2,  34.7243,2,      4.0,2
      06BE88_1,  IR04,     1,  1,     14,2,19930710,0513,-18.0997,  65.6318, 2361,   2294.0,   1.9046,  34.7191,2,-999.0000,9,      4.0,2
      06BE88_1,  IR04,     1,  1,      1,2,19930710,0513,-18.0997,  65.6318, 2361,   2297.3,   1.9031,  34.7196,2,  34.7235,2,      4.0,2
      06BE88_1,  IR04,     3,  1,      5,2,19930712,0908,-16.2613,  74.4463, 5418,   2502.2,   2.0160,  34.7240,2,-999.0000,9,      3.8,2
      06BE88_1,  IR04,     3,  1,      7,2,19930712,0908,-16.2613,  74.4463, 5418,   2503.1,   2.0169,  34.7247,2,-999.0000,9,      3.8,2
      06BE88_1,  IR04,     3,  1,      6,2,19930712,0908,-16.2613,  74.4463, 5418,   2503.2,   2.0157,  34.7250,2,-999.0000,9,      3.8,2
      06BE88_1,  IR04,     3,  1,      8,2,19930712,0908,-16.2613,  74.4463, 5418,   2503.8,   2.0158,  34.7248,2,-999.0000,9,      3.8,2
      06BE88_1,  IR04,     3,  1,      9,2,19930712,0908,-16.2613,  74.4463, 5418,   2503.8,   2.0173,  34.7240,2,-999.0000,9,      3.8,2
      06BE88_1,  IR04,     3,  1,      4,2,19930712,0908,-16.2613,  74.4463, 5418,   2504.4,   2.0125,  34.7245,2,-999.0000,9,      3.8,2
      06BE88_1,  IR04,     3,  1,     12,2,19930712,0908,-16.2613,  74.4463, 5418,   2504.4,   2.0144,  34.7244,2,-999.0000,9,      3.8,2
      06BE88_1,  IR04,     3,  1,     10,2,19930712,0908,-16.2613,  74.4463, 5418,   2504.6,   2.0151,  34.7256,2,-999.0000,9,      3.8,2
      06BE88_1,  IR04,     3,  1,     14,2,19930712,0908,-16.2613,  74.4463, 5418,   2506.4,   2.0118,  34.7241,2,-999.0000,9,      3.8,2
      06BE88_1,  IR04,     3,  1,      3,2,19930712,0908,-16.2613,  74.4463, 5418,   2506.5,   2.0092,  34.7238,2,-999.0000,9,      3.8,2
      06BE88_1,  IR04,     3,  1,     13,2,19930712,0908,-16.2613,  74.4463, 5418,   2506.6,   2.0123,  34.7244,2,-999.0000,9,      3.8,2
      06BE88_1,  IR04,     3,  1,     11,2,19930712,0908,-16.2613,  74.4463, 5418,   2506.8,   2.0113,  34.7260,2,-999.0000,9,      3.8,2
      06BE88_1,  IR04,     3,  1,     15,2,19930712,0908,-16.2613,  74.4463, 5418,   2508.3,   2.0087,  34.7244,2,-999.0000,9,      3.8,2
      06BE88_1,  IR04,     3,  1,     17,2,19930712,0908,-16.2613,  74.4463, 5418,   2508.4,   2.0093,  34.7236,2,-999.0000,9,      3.8,2
      06BE88_1,  IR04,     3,  1,     18,2,19930712,0908,-16.2613,  74.4463, 5418,   2508.4,   2.0093,  34.7239,2,-999.0000,9,      3.8,2
      06BE88_1,  IR04,     3,  1,     20,2,19930712,0908,-16.2613,  74.4463, 5418,   2508.7,   2.0086,  34.7239,2,-999.0000,9,      3.8,2
      06BE88_1,  IR04,     3,  1,     22,2,19930712,0908,-16.2613,  74.4463, 5418,   2508.9,   2.0064,  34.7241,2,-999.0000,9,      3.8,2
      06BE88_1,  IR04,     3,  1,     19,2,19930712,0908,-16.2613,  74.4463, 5418,   2509.0,   2.0075,  34.7256,2,-999.0000,9,      3.8,2
      06BE88_1,  IR04,     3,  1,     23,2,19930712,0908,-16.2613,  74.4463, 5418,   2509.1,   2.0064,  34.7246,2,-999.0000,9,      3.8,2
      06BE88_1,  IR04,     3,  1,     16,2,19930712,0908,-16.2613,  74.4463, 5418,   2509.3,   2.0079,  34.7253,2,-999.0000,9,      3.8,2
      06BE88_1,  IR04,     3,  1,      1,2,19930712,0908,-16.2613,  74.4463, 5418,   2509.4,   2.0090,  34.7241,2,  34.7284,2,      3.8,2
      06BE88_1,  IR04,     3,  1,     21,2,19930712,0908,-16.2613,  74.4463, 5418,   2509.4,   2.0065,  34.7249,2,-999.0000,9,      3.8,2
      06BE88_1,  IR04,     3,  1,     24,2,19930712,0908,-16.2613,  74.4463, 5418,   2509.9,   2.0052,  34.7252,2,-999.0000,9,      3.8,2
      06BE88_1,  IR04,     3,  1,      2,2,19930712,0908,-16.2613,  74.4463, 5418,   2510.1,   2.0073,  34.7247,2,-999.0000,9,      3.8,2
      06BE88_1,  IR04,     4,  1,     24,2,19930713,2213,-15.0010,  80.5003, 4923,     50.6,  25.7114,  34.7991,2,  34.8095,2,      4.6,2
      06BE88_1,  IR04,     4,  1,     23,2,19930713,2213,-15.0010,  80.5003, 4923,     75.8,  24.6364,  34.7465,2,-999.0000,9,   -999.0,5
      06BE88_1,  IR04,     4,  1,     22,2,19930713,2213,-15.0010,  80.5003, 4923,     98.9,  24.1848,  34.8141,2,  34.8318,2,      4.6,2
      06BE88_1,  IR04,     4,  1,     21,2,19930713,2213,-15.0010,  80.5003, 4923,    126.5,  21.2440,  35.1888,2,  35.1909,2,      3.7,2
      06BE88_1,  IR04,     4,  1,     20,2,19930713,2213,-15.0010,  80.5003, 4923,    147.8,  19.8327,  35.1431,2,  35.1682,2,      3.0,2
      06BE88_1,  IR04,     4,  1,     19,2,19930713,2213,-15.0010,  80.5003, 4923,    201.2,  17.3706,  35.3491,2,  35.3367,2,      3.3,2
      06BE88_1,  IR04,     4,  1,     18,2,19930713,2213,-15.0010,  80.5003, 4923,    250.9,  14.3094,  35.0364,2,  35.0440,2,      2.8,2
      06BE88_1,  IR04,     4,  1,     17,2,19930713,2213,-15.0010,  80.5003, 4923,    301.7,  13.4509,  35.2439,2,  35.2765,2,      4.6,2
      06BE88_1,  IR04,     4,  1,     16,2,19930713,2213,-15.0010,  80.5003, 4923,    398.5,  10.6172,  34.8652,2,  34.8800,2,      4.8,2
      06BE88_1,  IR04,     4,  1,     15,2,19930713,2213,-15.0010,  80.5003, 4923,    498.0,   8.9389,  34.6718,2,  34.6825,2,      4.4,2
      06BE88_1,  IR04,     4,  1,     14,2,19930713,2213,-15.0010,  80.5003, 4923,    597.4,   7.7679,  34.6399,2,  34.7268,2,      3.2,2
      06BE88_1,  IR04,     4,  1,     13,2,19930713,2213,-15.0010,  80.5003, 4923,    798.1,   6.3838,  34.6871,2,  34.6943,2,      2.0,2
      06BE88_1,  IR04,     4,  1,     12,2,19930713,2213,-15.0010,  80.5003, 4923,   1000.1,   5.4130,  34.6935,2,  34.6983,2,      2.0,2
      06BE88_1,  IR04,     4,  1,     11,2,19930713,2213,-15.0010,  80.5003, 4923,   1250.9,   4.5275,  34.6926,2,  34.6991,2,      2.3,2
      06BE88_1,  IR04,     4,  1,     10,2,19930713,2213,-15.0010,  80.5003, 4923,   1497.4,   3.6425,  34.6953,2,-999.0000,9,   -999.0,5
      06BE88_1,  IR04,     4,  1,      9,2,19930713,2213,-15.0010,  80.5003, 4923,   1750.0,   2.9509,  34.7164,2,  34.7223,2,      3.1,2
      06BE88_1,  IR04,     4,  1,      8,2,19930713,2213,-15.0010,  80.5003, 4923,   2244.3,   2.2313,  34.7282,2,  34.7333,2,      3.5,2
      06BE88_1,  IR04,     4,  1,      7,2,19930713,2213,-15.0010,  80.5003, 4923,   2749.8,   1.8000,  34.7259,2,  34.7296,2,      3.9,2
      06BE88_1,  IR04,     4,  1,      6,2,19930713,2213,-15.0010,  80.5003, 4923,   3249.3,   1.5355,  34.7214,2,  34.7252,2,      4.0,2
      06BE88_1,  IR04,     4,  1,      5,2,19930713,2213,-15.0010,  80.5003, 4923,   3751.9,   1.3689,  34.7175,2,  34.7225,2,      4.1,2
      06BE88_1,  IR04,     4,  1,      4,2,19930713,2213,-15.0010,  80.5003, 4923,   4249.8,   1.3613,  34.7155,2,  34.7219,2,      4.1,2
      06BE88_1,  IR04,     4,  1,      3,2,19930713,2213,-15.0010,  80.5003, 4923,   4754.3,   1.4039,  34.7146,2,  34.7219,2,      4.1,2
      06BE88_1,  IR04,     4,  1,      2,2,19930713,2213,-15.0010,  80.5003, 4923,   4994.8,   1.4310,  34.7146,2,  34.7183,2,      4.1,2
      06BE88_1,  IR04,     5,  1,     24,2,19930714,0507,-14.5005,  80.5002, 4831,     49.8,  25.9251,  34.7538,2,  34.7646,2,      4.6,2
      06BE88_1,  IR04,     5,  1,     23,2,19930714,0507,-14.5005,  80.5002, 4831,     77.5,  25.9274,  34.7191,2,  34.7650,2,      4.6,2
      06BE88_1,  IR04,     5,  1,     22,2,19930714,0507,-14.5005,  80.5002, 4831,    100.7,  22.2882,  34.9097,2,  35.0150,2,      2.1,2
      06BE88_1,  IR04,     5,  1,     21,2,19930714,0507,-14.5005,  80.5002, 4831,    125.1,  20.6556,  34.8887,2,  34.9245,2,      2.2,2
      06BE88_1,  IR04,     5,  1,     20,2,19930714,0507,-14.5005,  80.5002, 4831,    149.8,  19.4764,  35.0919,2,  35.1009,2,      2.5,2
      06BE88_1,  IR04,     5,  1,     19,2,19930714,0507,-14.5005,  80.5002, 4831,    200.7,  16.8763,  35.1995,2,  35.2090,2,      3.0,2
      06BE88_1,  IR04,     5,  1,     18,2,19930714,0507,-14.5005,  80.5002, 4831,    251.5,  15.2218,  35.3679,2,  35.3807,2,      3.8,2
      06BE88_1,  IR04,     5,  1,     17,2,19930714,0507,-14.5005,  80.5002, 4831,    300.2,  12.9659,  35.1232,2,  35.1325,2,      3.8,2
      06BE88_1,  IR04,     5,  1,     16,2,19930714,0507,-14.5005,  80.5002, 4831,    400.1,  10.5711,  34.8500,2,  34.8763,2,      4.5,2
      06BE88_1,  IR04,     5,  1,     15,2,19930714,0507,-14.5005,  80.5002, 4831,    498.4,   9.0400,  34.6773,2,  34.6963,2,      4.4,2
      06BE88_1,  IR04,     5,  1,     14,2,19930714,0507,-14.5005,  80.5002, 4831,    598.9,   7.8632,  34.6516,2,  34.6611,2,      3.0,2
      06BE88_1,  IR04,     5,  1,     13,2,19930714,0507,-14.5005,  80.5002, 4831,    801.5,   6.3494,  34.6893,2,  34.6959,2,      2.0,2
      06BE88_1,  IR04,     5,  1,     12,2,19930714,0507,-14.5005,  80.5002, 4831,    999.4,   5.4315,  34.6873,2,  34.6955,2,      2.0,2
      06BE88_1,  IR04,     5,  1,     11,2,19930714,0507,-14.5005,  80.5002, 4831,   1248.8,   4.4661,  34.6807,2,  34.6880,2,      2.2,2
      06BE88_1,  IR04,     5,  1,     10,2,19930714,0507,-14.5005,  80.5002, 4831,   1499.5,   3.5574,  34.7007,2,  34.7069,2,      2.7,2
      06BE88_1,  IR04,     5,  1,      9,2,19930714,0507,-14.5005,  80.5002, 4831,   1756.5,   2.9350,  34.7152,2,  34.7252,2,      3.1,2
      06BE88_1,  IR04,     5,  1,      8,2,19930714,0507,-14.5005,  80.5002, 4831,   2001.0,   2.4863,  34.7262,2,  34.7331,2,      3.3,2
      06BE88_1,  IR04,     5,  1,      7,2,19930714,0507,-14.5005,  80.5002, 4831,   2498.5,   1.9593,  34.7274,2,  34.7321,2,      3.7,2
      06BE88_1,  IR04,     5,  1,      6,2,19930714,0507,-14.5005,  80.5002, 4831,   2998.9,   1.6390,  34.7232,2,  34.7268,2,      3.9,2
      06BE88_1,  IR04,     5,  1,      5,2,19930714,0507,-14.5005,  80.5002, 4831,   3500.6,   1.4131,  34.7183,2,  34.7225,2,      4.1,2
      06BE88_1,  IR04,     5,  1,      4,2,19930714,0507,-14.5005,  80.5002, 4831,   3998.1,   1.3508,  34.7150,2,  34.7199,2,      4.1,2
      06BE88_1,  IR04,     5,  1,      3,2,19930714,0507,-14.5005,  80.5002, 4831,   4495.8,   1.3798,  34.7146,2,  34.7188,2,      4.1,2
      06BE88_1,  IR04,     5,  1,      2,2,19930714,0507,-14.5005,  80.5002, 4831,   4882.0,   1.4172,  34.7145,2,  34.7176,2,      4.1,2
      06BE88_1,  IR04,     6,  1,     23,2,19930714,1500,-13.9715,  80.4995, 5056,     51.0,  25.9566,  34.7144,2,-999.0000,9,   -999.0,5
      06BE88_1,  IR04,     6,  1,     22,2,19930714,1500,-13.9715,  80.4995, 5056,     74.6,  25.9568,  34.6995,2,  34.7227,2,      4.6,2
      06BE88_1,  IR04,     6,  1,     21,2,19930714,1500,-13.9715,  80.4995, 5056,    100.0,  22.3237,  35.0871,2,  35.0997,2,      2.5,2
      06BE88_1,  IR04,     6,  1,     20,2,19930714,1500,-13.9715,  80.4995, 5056,    120.2,  20.1900,  34.9284,2,  34.9395,2,      1.8,2
      06BE88_1,  IR04,     6,  1,     19,2,19930714,1500,-13.9715,  80.4995, 5056,    149.8,  18.6817,  35.0651,2,  35.0735,2,      2.2,2
      06BE88_1,  IR04,     6,  1,     18,2,19930714,1500,-13.9715,  80.4995, 5056,    201.8,  14.6283,  34.7376,2,  34.7546,2,      2.0,2
      06BE88_1,  IR04,     6,  1,     17,2,19930714,1500,-13.9715,  80.4995, 5056,    250.4,  13.7114,  34.9824,2,  34.9706,2,      2.6,2
      06BE88_1,  IR04,     6,  1,     16,2,19930714,1500,-13.9715,  80.4995, 5056,    300.8,  11.8486,  34.8865,2,  34.8981,2,      2.7,2
      06BE88_1,  IR04,     6,  1,     15,2,19930714,1500,-13.9715,  80.4995, 5056,    400.5,   9.8922,  34.7740,2,  34.7873,2,   -999.0,5
      06BE88_1,  IR04,     6,  1,     14,2,19930714,1500,-13.9715,  80.4995, 5056,    501.6,   8.8108,  34.6886,2,  34.6963,2,      3.1,2
      06BE88_1,  IR04,     6,  1,     13,2,19930714,1500,-13.9715,  80.4995, 5056,    599.2,   7.8228,  34.6728,2,  34.6804,2,      2.7,2
      06BE88_1,  IR04,     6,  1,     12,2,19930714,1500,-13.9715,  80.4995, 5056,    798.8,   6.3168,  34.6893,2,  34.6853,2,      2.0,2
      06BE88_1,  IR04,     6,  1,     11,2,19930714,1500,-13.9715,  80.4995, 5056,   1000.1,   5.2422,  34.6726,2,  34.6794,2,      2.0,2
      06BE88_1,  IR04,     6,  1,     10,2,19930714,1500,-13.9715,  80.4995, 5056,   1247.9,   4.3586,  34.6770,2,-999.0000,9,   -999.0,5
      06BE88_1,  IR04,     6,  1,      9,2,19930714,1500,-13.9715,  80.4995, 5056,   1499.1,   3.5715,  34.6960,2,  34.7067,2,      2.6,2
      06BE88_1,  IR04,     6,  1,      8,2,19930714,1500,-13.9715,  80.4995, 5056,   1748.2,   2.9092,  34.7186,2,  34.7258,2,      3.0,2
      06BE88_1,  IR04,     6,  1,      7,2,19930714,1500,-13.9715,  80.4995, 5056,   2251.3,   2.1258,  34.7288,2,  34.7353,2,      3.6,2
      06BE88_1,  IR04,     6,  1,      6,2,19930714,1500,-13.9715,  80.4995, 5056,   2749.0,   1.7808,  34.7244,2,  34.7302,2,      3.9,2
      06BE88_1,  IR04,     6,  1,      5,2,19930714,1500,-13.9715,  80.4995, 5056,   3249.9,   1.5100,  34.7194,2,  34.7256,2,      4.0,2
      06BE88_1,  IR04,     6,  1,      4,2,19930714,1500,-13.9715,  80.4995, 5056,   3749.6,   1.3509,  34.7149,2,  34.7203,2,      4.1,2
      06BE88_1,  IR04,     6,  1,      3,2,19930714,1500,-13.9715,  80.4995, 5056,   4248.0,   1.3545,  34.7134,2,  34.7189,2,      4.1,2
      06BE88_1,  IR04,     6,  1,      2,2,19930714,1500,-13.9715,  80.4995, 5056,   4749.3,   1.4027,  34.7130,2,  34.7186,2,      4.1,2
      06BE88_1,  IR04,     6,  1,      1,2,19930714,1500,-13.9715,  80.4995, 5056,   5049.8,   1.4332,  34.7131,2,  34.7176,2,      4.2,2