BOTTLE,20220624CCHSIOAMB
EXPOCODE,SECT_ID,STNNBR,CASTNO,BTLNBR,BTLNBR_FLAG_W,DATE,TIME,LATITUDE,LONGITUDE,DEPTH,CTDPRS,CTDTMP,CTDSAL,CTDSAL_FLAG_W,SALNTY,SALNTY_FLAG_W,OXYGEN,OXYGEN_FLAG_W
,,,,,,,,,,,DBAR,ITS-90,PSS-78,,PSS-78,,ML/L,
      06BE88_1,  IR04,    41,  2,     23,2,19930727,2030,  2.9998,  80.4997, 4423,     10.0,  27.9420,  34.7660,2,  34.7691,2,      4.5,2
      06BE88_1,  IR04,    41,  2,     22,2,19930727,2030,  2.9998,  80.4997, 4423,     50.0,  27.9550,  34.7620,2,  34.7728,2,      4.5,2
      06BE88_1,  IR04,    41,  2,     21,2,19930727,2030,  2.9998,  80.4997, 4423,     75.0,  27.9450,  34.7620,2,  34.7740,2,      4.5,2
      06BE88_1,  IR04,    41,  2,     20,2,19930727,2030,  2.9998,  80.4997, 4423,    100.0,  25.4660,  35.0370,2,  35.0398,2,      3.3,2
      06BE88_1,  IR04,    41,  2,     19,2,19930727,2030,  2.9998,  80.4997, 4423,    125.0,  20.1600,  35.2130,2,  35.2345,2,      1.8,2
      06BE88_1,  IR04,    41,  2,     18,2,19930727,2030,  2.9998,  80.4997, 4423,    150.0,  16.6190,  35.0730,2,  35.0766,2,      0.8,2
      06BE88_1,  IR04,    41,  2,     17,2,19930727,2030,  2.9998,  80.4997, 4423,    200.0,  13.2340,  35.0580,2,  35.0661,2,      0.8,2
      06BE88_1,  IR04,    41,  2,     16,2,19930727,2030,  2.9998,  80.4997, 4423,    250.0,  12.2370,  35.0920,2,  35.0986,2,      1.2,2
      06BE88_1,  IR04,    41,  2,     15,2,19930727,2030,  2.9998,  80.4997, 4423,    300.0,  11.4130,  35.0600,2,  35.0649,2,      1.4,2
      06BE88_1,  IR04,    41,  2,     14,2,19930727,2030,  2.9998,  80.4997, 4423,    400.0,  10.6280,  35.0380,2,-999.0000,9,   -999.0,5
      06BE88_1,  IR04,    41,  2,     13,2,19930727,2030,  2.9998,  80.4997, 4423,    500.0,   9.9900,  35.0410,2,  35.0455,2,      0.8,2
      06BE88_1,  IR04,    41,  2,     12,2,19930727,2030,  2.9998,  80.4997, 4423,    750.0,   7.7770,  34.9710,2,  34.9782,2,      0.7,2
      06BE88_1,  IR04,    41,  2,     11,2,19930727,2030,  2.9998,  80.4997, 4423,   1000.0,   6.2710,  34.9220,2,  34.9284,2,      1.2,2
      06BE88_1,  IR04,    41,  2,     10,2,19930727,2030,  2.9998,  80.4997, 4423,   1250.0,   5.2020,  34.8770,2,  34.8845,2,      1.6,2
      06BE88_1,  IR04,    41,  2,      9,2,19930727,2030,  2.9998,  80.4997, 4423,   1500.0,   4.0990,  34.8320,2,  34.8410,2,      2.1,2
      06BE88_1,  IR04,    41,  2,      8,2,19930727,2030,  2.9998,  80.4997, 4423,   1750.0,   3.3430,  34.8000,2,  34.8062,2,      2.5,2
      06BE88_1,  IR04,    41,  2,      7,2,19930727,2030,  2.9998,  80.4997, 4423,   2000.0,   2.7230,  34.7720,2,  34.7784,2,      2.8,2
      06BE88_1,  IR04,    41,  2,      6,2,19930727,2030,  2.9998,  80.4997, 4423,   2500.0,   2.0840,  34.7430,2,-999.0000,9,   -999.0,5
      06BE88_1,  IR04,    41,  2,      5,2,19930727,2030,  2.9998,  80.4997, 4423,   3000.0,   1.7450,  34.7290,2,  34.7349,2,      3.5,2
      06BE88_1,  IR04,    41,  2,      4,2,19930727,2030,  2.9998,  80.4997, 4423,   3500.0,   1.4850,  34.7190,2,  34.7254,2,      3.5,2
      06BE88_1,  IR04,    41,  2,      3,2,19930727,2030,  2.9998,  80.4997, 4423,   4000.0,   1.3960,  34.7150,2,  34.7193,2,      3.9,2
      06BE88_1,  IR04,    41,  2,      2,2,19930727,2030,  2.9998,  80.4997, 4423,   4250.0,   1.4000,  34.7150,2,  34.7190,2,      4.0,2
      06BE88_1,  IR04,    41,  2,      1,2,19930727,2030,  2.9998,  80.4997, 4423,   4450.0,   1.3990,  34.7140,2,  34.7178,2,      4.1,2
      06BE88_1,  IR04,    42,  1,     23,2,19930728,0237,  3.4993,  80.5008, 4385,      8.0,  27.9800,  34.8500,2,  34.8597,2,      4.4,2
      06BE88_1,  IR04,    42,  1,     22,2,19930728,0237,  3.4993,  80.5008, 4385,     51.0,  27.9520,  34.8650,2,  34.8865,2,      4.4,2
      06BE88_1,  IR04,    42,  1,     21,2,19930728,0237,  3.4993,  80.5008, 4385,     75.0,  27.0610,  34.8890,2,  34.9465,2,      3.8,2
      06BE88_1,  IR04,    42,  1,     20,2,19930728,0237,  3.4993,  80.5008, 4385,    100.0,  26.4420,  35.2580,2,  35.2737,2,      3.5,2
      06BE88_1,  IR04,    42,  1,     19,2,19930728,0237,  3.4993,  80.5008, 4385,    125.0,  20.4330,  35.1660,2,  35.2241,2,      1.8,2
      06BE88_1,  IR04,    42,  1,     18,2,19930728,0237,  3.4993,  80.5008, 4385,    150.0,  15.2220,  35.0080,2,  35.0126,2,      0.5,2
      06BE88_1,  IR04,    42,  1,     17,2,19930728,0237,  3.4993,  80.5008, 4385,    201.0,  13.2440,  35.1230,2,  35.1301,2,      1.5,2
      06BE88_1,  IR04,    42,  1,     16,2,19930728,0237,  3.4993,  80.5008, 4385,    250.0,  12.3780,  35.0960,2,  35.1040,2,      1.3,2
      06BE88_1,  IR04,    42,  1,     15,2,19930728,0237,  3.4993,  80.5008, 4385,    302.0,  11.5210,  35.0670,2,-999.0000,9,   -999.0,5
      06BE88_1,  IR04,    42,  1,     14,2,19930728,0237,  3.4993,  80.5008, 4385,    400.0,  10.6480,  35.0410,2,  35.0472,2,      1.0,2
      06BE88_1,  IR04,    42,  1,     13,2,19930728,0237,  3.4993,  80.5008, 4385,    500.0,  10.1100,  35.0410,2,  35.0465,2,      0.7,2
      06BE88_1,  IR04,    42,  1,     12,2,19930728,0237,  3.4993,  80.5008, 4385,    748.0,   7.9310,  34.9740,2,  34.9803,2,      0.7,2
      06BE88_1,  IR04,    42,  1,     11,2,19930728,0237,  3.4993,  80.5008, 4385,   1000.0,   6.5020,  34.9270,2,  34.9339,2,      1.1,2
      06BE88_1,  IR04,    42,  1,     10,2,19930728,0237,  3.4993,  80.5008, 4385,   1250.0,   5.3290,  34.8830,2,  34.8904,2,      1.6,2
      06BE88_1,  IR04,    42,  1,      9,2,19930728,0237,  3.4993,  80.5008, 4385,   1500.0,   4.1290,  34.8330,2,  34.8377,2,      2.1,2
      06BE88_1,  IR04,    42,  1,      8,2,19930728,0237,  3.4993,  80.5008, 4385,   1748.0,   3.4100,  34.8000,2,  34.8072,2,      2.5,2
      06BE88_1,  IR04,    42,  1,      7,2,19930728,0237,  3.4993,  80.5008, 4385,   2250.0,   2.3580,  34.7560,2,  34.7612,2,      3.1,2
      06BE88_1,  IR04,    42,  1,      6,2,19930728,0237,  3.4993,  80.5008, 4385,   2750.0,   1.8910,  34.7350,2,-999.0000,9,   -999.0,5
      06BE88_1,  IR04,    42,  1,      5,2,19930728,0237,  3.4993,  80.5008, 4385,   3248.0,   1.5770,  34.7230,2,  34.7290,2,      3.5,2
      06BE88_1,  IR04,    42,  1,      4,2,19930728,0237,  3.4993,  80.5008, 4385,   3748.8,   1.4091,  34.7158,2,  34.7199,2,      3.8,2
      06BE88_1,  IR04,    42,  1,      3,2,19930728,0237,  3.4993,  80.5008, 4385,   3999.7,   1.4003,  34.7155,2,  34.7209,2,      3.9,2
      06BE88_1,  IR04,    42,  1,      2,2,19930728,0237,  3.4993,  80.5008, 4385,   4250.8,   1.3994,  34.7146,2,  34.7205,2,      4.0,2
      06BE88_1,  IR04,    42,  1,      1,2,19930728,0237,  3.4993,  80.5008, 4385,   4422.2,   1.4013,  34.7144,2,  34.7150,2,      4.0,2
      06BE88_1,  IR04,    43,  1,     23,2,19930728,0933,  4.0338,  80.5080, 4362,      9.9,  27.8025,  35.0929,2,  35.0978,2,      4.6,2
      06BE88_1,  IR04,    43,  1,     22,2,19930728,0933,  4.0338,  80.5080, 4362,     49.6,  27.6412,  35.2494,2,  35.2428,2,      4.5,2
      06BE88_1,  IR04,    43,  1,     21,2,19930728,0933,  4.0338,  80.5080, 4362,     74.5,  27.4435,  35.4304,2,  35.4417,2,      4.4,2
      06BE88_1,  IR04,    43,  1,     20,2,19930728,0933,  4.0338,  80.5080, 4362,    100.0,  22.8389,  35.1408,2,  35.1402,2,      2.0,2
      06BE88_1,  IR04,    43,  1,     19,2,19930728,0933,  4.0338,  80.5080, 4362,    125.1,  19.2171,  35.1398,2,  35.1478,2,      1.2,2
      06BE88_1,  IR04,    43,  1,     18,2,19930728,0933,  4.0338,  80.5080, 4362,    150.6,  15.9840,  35.1029,2,  35.1069,2,      0.8,2
      06BE88_1,  IR04,    43,  1,     17,2,19930728,0933,  4.0338,  80.5080, 4362,    199.5,  13.7166,  35.0900,2,  35.0961,2,      0.8,2
      06BE88_1,  IR04,    43,  1,     16,2,19930728,0933,  4.0338,  80.5080, 4362,    249.6,  12.4771,  35.0914,2,  35.0963,2,      1.1,2
      06BE88_1,  IR04,    43,  1,     15,2,19930728,0933,  4.0338,  80.5080, 4362,    300.1,  11.8591,  35.0804,2,  35.0852,2,      1.3,2
      06BE88_1,  IR04,    43,  1,     14,2,19930728,0933,  4.0338,  80.5080, 4362,    400.9,  10.8180,  35.0438,2,-999.0000,9,   -999.0,5
      06BE88_1,  IR04,    43,  1,     13,2,19930728,0933,  4.0338,  80.5080, 4362,    500.0,  10.2770,  35.0370,2,  35.0423,2,      1.0,2
      06BE88_1,  IR04,    43,  1,     12,2,19930728,0933,  4.0338,  80.5080, 4362,    750.0,   8.3680,  35.0020,2,  35.0069,2,      0.7,2
      06BE88_1,  IR04,    43,  1,     11,2,19930728,0933,  4.0338,  80.5080, 4362,   1000.0,   6.3980,  34.9240,2,  34.9309,2,      1.2,2
      06BE88_1,  IR04,    43,  1,     10,2,19930728,0933,  4.0338,  80.5080, 4362,   1250.0,   5.1350,  34.8740,2,  34.8818,2,      1.6,2
      06BE88_1,  IR04,    43,  1,      9,2,19930728,0933,  4.0338,  80.5080, 4362,   1500.0,   4.0300,  34.8370,2,  34.8338,2,      2.2,2
      06BE88_1,  IR04,    43,  1,      8,2,19930728,0933,  4.0338,  80.5080, 4362,   1750.0,   3.3060,  34.7990,2,  34.8056,2,      2.5,2
      06BE88_1,  IR04,    43,  1,      7,2,19930728,0933,  4.0338,  80.5080, 4362,   2000.0,   2.7270,  34.7720,2,  34.7794,2,      2.7,2
      06BE88_1,  IR04,    43,  1,      6,2,19930728,0933,  4.0338,  80.5080, 4362,   2500.0,   2.0560,  34.7430,2,-999.0000,9,   -999.0,5
      06BE88_1,  IR04,    43,  1,      5,2,19930728,0933,  4.0338,  80.5080, 4362,   3000.0,   1.6760,  34.7270,2,  34.7313,2,      3.5,2
      06BE88_1,  IR04,    43,  1,      4,2,19930728,0933,  4.0338,  80.5080, 4362,   3500.0,   1.4770,  34.7190,2,  34.7235,2,      3.6,2
      06BE88_1,  IR04,    43,  1,      3,2,19930728,0933,  4.0338,  80.5080, 4362,   4000.0,   1.4100,  34.7160,2,  34.7193,2,      3.9,2
      06BE88_1,  IR04,    43,  1,      2,2,19930728,0933,  4.0338,  80.5080, 4362,   4250.0,   1.4060,  34.7150,2,  34.7186,2,      3.9,2
      06BE88_1,  IR04,    43,  1,      1,2,19930728,0933,  4.0338,  80.5080, 4362,   4385.0,   1.4060,  34.7150,2,  34.7184,2,      4.0,2
      06BE88_1,  IR04,    44,  1,     23,2,19930728,1537,  4.3327,  80.5030, 4348,     11.0,  27.5350,  35.3860,2,  35.3944,2,      4.5,2
      06BE88_1,  IR04,    44,  1,     22,2,19930728,1537,  4.3327,  80.5030, 4348,     50.0,  27.5140,  35.4310,2,  35.4381,2,      4.5,2
      06BE88_1,  IR04,    44,  1,     21,2,19930728,1537,  4.3327,  80.5030, 4348,     75.0,  27.4630,  35.4780,2,  35.4943,2,      4.4,2
      06BE88_1,  IR04,    44,  1,     20,2,19930728,1537,  4.3327,  80.5030, 4348,    100.0,  21.8920,  35.2610,2,  35.2721,2,      2.1,2
      06BE88_1,  IR04,    44,  1,     19,2,19930728,1537,  4.3327,  80.5030, 4348,    125.0,  17.3610,  35.0810,2,  35.0835,2,      0.9,2
      06BE88_1,  IR04,    44,  1,     18,2,19930728,1537,  4.3327,  80.5030, 4348,    150.0,  16.3780,  35.1260,2,  35.1311,2,      0.9,2
      06BE88_1,  IR04,    44,  1,     17,2,19930728,1537,  4.3327,  80.5030, 4348,    200.0,  13.2910,  35.0870,2,  35.0896,2,      0.8,2
      06BE88_1,  IR04,    44,  1,     16,2,19930728,1537,  4.3327,  80.5030, 4348,    250.0,  12.2280,  35.0870,2,  35.0917,2,      1.1,2
      06BE88_1,  IR04,    44,  1,     15,2,19930728,1537,  4.3327,  80.5030, 4348,    300.0,  11.6930,  35.0750,2,  35.0808,2,      1.2,2
      06BE88_1,  IR04,    44,  1,     14,2,19930728,1537,  4.3327,  80.5030, 4348,    400.0,  10.7200,  35.0420,2,-999.0000,9,   -999.0,5
      06BE88_1,  IR04,    44,  1,     13,2,19930728,1537,  4.3327,  80.5030, 4348,    499.0,  10.2800,  35.0500,2,  35.0558,2,      0.7,2
      06BE88_1,  IR04,    44,  1,     12,2,19930728,1537,  4.3327,  80.5030, 4348,    750.0,   8.1970,  34.9900,2,-999.0000,9,   -999.0,5
      06BE88_1,  IR04,    44,  1,     11,2,19930728,1537,  4.3327,  80.5030, 4348,   1000.0,   6.3650,  34.9210,2,  34.9276,2,      1.1,2
      06BE88_1,  IR04,    44,  1,     10,2,19930728,1537,  4.3327,  80.5030, 4348,   1247.0,   5.0140,  34.8700,2,  34.8772,2,      1.6,2
      06BE88_1,  IR04,    44,  1,      9,2,19930728,1537,  4.3327,  80.5030, 4348,   1500.0,   4.0480,  34.8320,2,  34.8391,2,      2.1,2
      06BE88_1,  IR04,    44,  1,      8,2,19930728,1537,  4.3327,  80.5030, 4348,   1750.0,   3.2500,  34.7970,2,  34.8037,2,      2.4,2
      06BE88_1,  IR04,    44,  1,      7,2,19930728,1537,  4.3327,  80.5030, 4348,   2249.0,   2.3260,  34.7550,2,  34.7626,2,      3.0,2
      06BE88_1,  IR04,    44,  1,      6,2,19930728,1537,  4.3327,  80.5030, 4348,   2748.0,   1.8940,  34.7320,2,-999.0000,9,   -999.0,5
      06BE88_1,  IR04,    44,  1,      5,2,19930728,1537,  4.3327,  80.5030, 4348,   3250.0,   1.5300,  34.7230,2,  34.7266,2,      3.6,2
      06BE88_1,  IR04,    44,  1,      4,2,19930728,1537,  4.3327,  80.5030, 4348,   3751.0,   1.4140,  34.7160,2,  34.7221,2,      3.8,2
      06BE88_1,  IR04,    44,  1,      3,2,19930728,1537,  4.3327,  80.5030, 4348,   4000.0,   1.4040,  34.7160,2,  34.7201,2,      3.9,2
      06BE88_1,  IR04,    44,  1,      2,2,19930728,1537,  4.3327,  80.5030, 4348,   4250.0,   1.4050,  34.7150,2,  34.7193,2,      3.9,2
      06BE88_1,  IR04,    44,  1,      1,2,19930728,1537,  4.3327,  80.5030, 4348,   4379.0,   1.4090,  34.7150,2,  34.7197,2,      4.0,2
      06BE88_1,  IR04,    45,  1,     23,2,19930728,2048,  4.6602,  80.5050, 4340,      9.9,  27.4670,  35.1510,2,  35.5176,2,      4.5,2
      06BE88_1,  IR04,    45,  1,     22,2,19930728,2048,  4.6602,  80.5050, 4340,     50.0,  27.4760,  35.4900,2,  35.5113,2,      4.5,2
      06BE88_1,  IR04,    45,  1,     21,2,19930728,2048,  4.6602,  80.5050, 4340,     75.0,  22.7440,  35.3060,2,  35.3240,2,      2.6,2
      06BE88_1,  IR04,    45,  1,     20,2,19930728,2048,  4.6602,  80.5050, 4340,    100.0,  20.3700,  35.1850,2,  35.1947,2,      1.4,2
      06BE88_1,  IR04,    45,  1,     19,2,19930728,2048,  4.6602,  80.5050, 4340,    125.0,  18.0310,  35.0960,2,  35.1043,2,      1.0,2
      06BE88_1,  IR04,    45,  1,     18,2,19930728,2048,  4.6602,  80.5050, 4340,    150.0,  15.3160,  35.0780,2,-999.0000,9,   -999.0,5
      06BE88_1,  IR04,    45,  1,     17,2,19930728,2048,  4.6602,  80.5050, 4340,    200.0,  12.9740,  35.0810,2,  35.0868,2,      0.9,2
      06BE88_1,  IR04,    45,  1,     16,2,19930728,2048,  4.6602,  80.5050, 4340,    250.0,  12.2470,  35.0750,2,  35.0779,2,      0.8,2
      06BE88_1,  IR04,    45,  1,     15,2,19930728,2048,  4.6602,  80.5050, 4340,    300.0,  11.6560,  35.0490,2,  35.0537,2,      0.6,2
      06BE88_1,  IR04,    45,  1,     14,2,19930728,2048,  4.6602,  80.5050, 4340,    400.0,  10.8850,  35.0560,2,  35.0537,2,      0.6,2
      06BE88_1,  IR04,    45,  1,     13,2,19930728,2048,  4.6602,  80.5050, 4340,    500.0,  10.2000,  35.0490,2,  35.0575,2,      0.9,2
      06BE88_1,  IR04,    45,  1,     12,2,19930728,2048,  4.6602,  80.5050, 4340,    750.0,   8.1720,  34.8910,2,  34.9884,2,      0.7,2
      06BE88_1,  IR04,    45,  1,     11,2,19930728,2048,  4.6602,  80.5050, 4340,   1000.0,   6.4670,  34.9230,2,  34.9298,2,      1.2,2
      06BE88_1,  IR04,    45,  1,     10,2,19930728,2048,  4.6602,  80.5050, 4340,   1248.0,   5.3110,  34.8790,2,  34.8869,2,      1.6,2
      06BE88_1,  IR04,    45,  1,      9,2,19930728,2048,  4.6602,  80.5050, 4340,   1500.0,   4.2260,  34.8400,2,  34.8471,2,      2.0,2
      06BE88_1,  IR04,    45,  1,      8,2,19930728,2048,  4.6602,  80.5050, 4340,   1750.0,   3.4020,  34.8050,2,  34.8106,2,      2.4,2
      06BE88_1,  IR04,    45,  1,      7,2,19930728,2048,  4.6602,  80.5050, 4340,   1999.0,   2.7780,  34.7750,2,  34.7818,2,      2.7,2
      06BE88_1,  IR04,    45,  1,      6,2,19930728,2048,  4.6602,  80.5050, 4340,   2499.0,   2.0550,  34.7420,2,-999.0000,9,   -999.0,5
      06BE88_1,  IR04,    45,  1,      5,2,19930728,2048,  4.6602,  80.5050, 4340,   3000.0,   1.6580,  34.7260,2,  34.7270,2,      3.4,2
      06BE88_1,  IR04,    45,  1,      4,2,19930728,2048,  4.6602,  80.5050, 4340,   3449.8,   1.4640,  34.7190,2,  34.7188,2,      3.6,2
      06BE88_1,  IR04,    45,  1,      3,2,19930728,2048,  4.6602,  80.5050, 4340,   4001.2,   1.4160,  34.7160,2,  34.7199,2,      3.8,2
      06BE88_1,  IR04,    45,  1,      2,2,19930728,2048,  4.6602,  80.5050, 4340,   4368.2,   1.4130,  34.7150,2,  34.7188,2,      4.0,2
      06BE88_1,  IR04,    45,  1,      1,2,19930728,2048,  4.6602,  80.5050, 4340,   4376.1,   1.4130,  34.7150,2,  34.7195,2,      4.0,2
      06BE88_1,  IR04,    46,  1,     23,2,19930729,0909,  5.0227,  80.5002, 4319,     10.0,  27.4880,  35.4140,2,  35.4249,2,      4.5,2
      06BE88_1,  IR04,    46,  1,     22,2,19930729,0909,  5.0227,  80.5002, 4319,     50.0,  27.2890,  35.4480,2,  35.4740,2,      4.4,2
      06BE88_1,  IR04,    46,  1,     21,2,19930729,0909,  5.0227,  80.5002, 4319,     75.0,  22.5020,  35.2470,2,  35.2692,2,      2.1,2
      06BE88_1,  IR04,    46,  1,     20,2,19930729,0909,  5.0227,  80.5002, 4319,    100.0,  19.9360,  35.2170,2,  35.2323,2,      1.7,2
      06BE88_1,  IR04,    46,  1,     19,2,19930729,0909,  5.0227,  80.5002, 4319,    125.0,  16.0480,  34.9820,2,  34.9680,2,      0.4,2
      06BE88_1,  IR04,    46,  1,     18,2,19930729,0909,  5.0227,  80.5002, 4319,    150.0,  15.2280,  35.0270,2,-999.0000,9,   -999.0,5
      06BE88_1,  IR04,    46,  1,     17,2,19930729,0909,  5.0227,  80.5002, 4319,    200.0,  13.5510,  35.1140,2,  35.1224,2,      1.2,2
      06BE88_1,  IR04,    46,  1,     16,2,19930729,0909,  5.0227,  80.5002, 4319,    250.0,  12.1840,  35.0830,2,  35.0935,2,      1.2,2
      06BE88_1,  IR04,    46,  1,     15,2,19930729,0909,  5.0227,  80.5002, 4319,    300.0,  11.6580,  35.0700,2,  35.0797,2,      1.3,2
      06BE88_1,  IR04,    46,  1,     14,2,19930729,0909,  5.0227,  80.5002, 4319,    400.0,  10.7690,  35.0440,2,-999.0000,9,   -999.0,5
      06BE88_1,  IR04,    46,  1,     13,2,19930729,0909,  5.0227,  80.5002, 4319,    500.0,  10.1010,  35.0500,2,  35.0589,2,      0.8,2
      06BE88_1,  IR04,    46,  1,     12,2,19930729,0909,  5.0227,  80.5002, 4319,    750.0,   8.2210,  35.0020,2,  35.0043,2,      0.6,2
      06BE88_1,  IR04,    46,  1,     11,2,19930729,0909,  5.0227,  80.5002, 4319,   1000.0,   6.4190,  34.9210,2,  34.9313,2,      1.1,2
      06BE88_1,  IR04,    46,  1,     10,2,19930729,0909,  5.0227,  80.5002, 4319,   1250.0,   5.2140,  34.8720,2,  34.8829,2,      1.5,2
      06BE88_1,  IR04,    46,  1,      9,2,19930729,0909,  5.0227,  80.5002, 4319,   1500.0,   4.1040,  34.8320,2,  34.8408,2,      2.0,2
      06BE88_1,  IR04,    46,  1,      8,2,19930729,0909,  5.0227,  80.5002, 4319,   1750.0,   3.3430,  34.8000,2,  34.8094,2,      2.4,2
      06BE88_1,  IR04,    46,  1,      7,2,19930729,0909,  5.0227,  80.5002, 4319,   2250.0,   2.2920,  34.7510,2,  35.7597,2,      3.0,2
      06BE88_1,  IR04,    46,  1,      6,2,19930729,0909,  5.0227,  80.5002, 4319,   2750.0,   1.8520,  34.7310,2,-999.0000,9,   -999.0,5
      06BE88_1,  IR04,    46,  1,      5,2,19930729,0909,  5.0227,  80.5002, 4319,   3250.0,   1.5860,  34.7220,2,  34.7278,2,      3.6,2
      06BE88_1,  IR04,    46,  1,      4,2,19930729,0909,  5.0227,  80.5002, 4319,   3750.0,   1.4440,  34.7150,2,  34.7213,2,      3.6,2
      06BE88_1,  IR04,    46,  1,      3,2,19930729,0909,  5.0227,  80.5002, 4319,   4000.0,   1.4310,  34.7140,2,  34.7203,2,      3.7,2
      06BE88_1,  IR04,    46,  1,      2,2,19930729,0909,  5.0227,  80.5002, 4319,   4251.0,   1.3980,  34.7130,2,  34.7190,2,      4.0,2
      06BE88_1,  IR04,    46,  1,      1,2,19930729,0909,  5.0227,  80.5002, 4319,   4366.0,   1.4220,  34.6910,2,  34.7190,2,      4.0,2