BOTTLE,20220624CCHSIOAMB
EXPOCODE,SECT_ID,STNNBR,CASTNO,BTLNBR,BTLNBR_FLAG_W,DATE,TIME,LATITUDE,LONGITUDE,DEPTH,CTDPRS,CTDTMP,CTDSAL,CTDSAL_FLAG_W,SALNTY,SALNTY_FLAG_W,OXYGEN,OXYGEN_FLAG_W
,,,,,,,,,,,DBAR,ITS-90,PSS-78,,PSS-78,,ML/L,
      06BE88_1,  IR04,    25,  1,     23,2,19930720,1955, -1.9633,  80.5018, 4853,     10.0,  28.6986,  34.7060,2,  34.7148,2,      4.4,2
      06BE88_1,  IR04,    25,  1,     22,2,19930720,1955, -1.9633,  80.5018, 4853,     50.2,  28.7140,  34.7048,2,  34.7162,2,      4.5,2
      06BE88_1,  IR04,    25,  1,     21,2,19930720,1955, -1.9633,  80.5018, 4853,     74.7,  28.6447,  34.7304,2,  34.7156,2,      4.5,2
      06BE88_1,  IR04,    25,  1,     20,2,19930720,1955, -1.9633,  80.5018, 4853,    100.2,  25.1971,  35.2144,2,  35.2190,2,      3.4,2
      06BE88_1,  IR04,    25,  1,     19,2,19930720,1955, -1.9633,  80.5018, 4853,    125.9,  20.9960,  35.2845,2,  35.2919,2,      2.4,2
      06BE88_1,  IR04,    25,  1,     18,2,19930720,1955, -1.9633,  80.5018, 4853,    150.4,  19.4099,  35.2511,2,  35.2613,2,      2.1,2
      06BE88_1,  IR04,    25,  1,     17,2,19930720,1955, -1.9633,  80.5018, 4853,    200.0,  14.5234,  35.1096,2,  35.1159,2,      1.9,2
      06BE88_1,  IR04,    25,  1,     16,2,19930720,1955, -1.9633,  80.5018, 4853,    249.8,  12.5203,  35.0488,2,  35.0545,2,      2.2,2
      06BE88_1,  IR04,    25,  1,     15,2,19930720,1955, -1.9633,  80.5018, 4853,    299.9,  11.7701,  35.0313,2,  35.0368,2,      2.4,2
      06BE88_1,  IR04,    25,  1,     14,2,19930720,1955, -1.9633,  80.5018, 4853,    400.1,  10.3839,  34.9538,2,-999.0000,9,   -999.0,5
      06BE88_1,  IR04,    25,  1,     13,2,19930720,1955, -1.9633,  80.5018, 4853,    500.6,   9.7877,  34.9501,2,  34.9577,2,      1.6,2
      06BE88_1,  IR04,    25,  1,     12,2,19930720,1955, -1.9633,  80.5018, 4853,    749.1,   8.1079,  34.9202,2,  34.9288,2,      1.3,2
      06BE88_1,  IR04,    25,  1,     11,2,19930720,1955, -1.9633,  80.5018, 4853,    999.0,   6.3906,  34.8784,2,  34.8863,2,      1.3,2
      06BE88_1,  IR04,    25,  1,     10,2,19930720,1955, -1.9633,  80.5018, 4853,   1243.6,   5.2376,  34.8413,2,  34.8493,2,      1.7,2
      06BE88_1,  IR04,    25,  1,      9,2,19930720,1955, -1.9633,  80.5018, 4853,   1502.0,   3.9951,  34.8099,2,  34.8176,2,      2.3,2
      06BE88_1,  IR04,    25,  1,      8,2,19930720,1955, -1.9633,  80.5018, 4853,   1747.0,   3.2577,  34.7829,2,  34.7903,2,      2.6,2
      06BE88_1,  IR04,    25,  1,      7,2,19930720,1955, -1.9633,  80.5018, 4853,   2001.0,   2.7007,  34.7669,2,  34.7730,2,      3.0,2
      06BE88_1,  IR04,    25,  1,      6,2,19930720,1955, -1.9633,  80.5018, 4853,   2498.3,   2.0183,  34.7396,2,  34.7457,2,      3.4,2
      06BE88_1,  IR04,    25,  1,      5,2,19930720,1955, -1.9633,  80.5018, 4853,   2998.5,   1.7078,  34.7271,2,  34.7300,2,      3.7,2
      06BE88_1,  IR04,    25,  1,      4,2,19930720,1955, -1.9633,  80.5018, 4853,   3500.8,   1.4242,  34.7177,2,  34.7231,2,      3.8,2
      06BE88_1,  IR04,    25,  1,      3,2,19930720,1955, -1.9633,  80.5018, 4853,   3999.7,   1.3830,  34.7153,2,  34.7191,2,      4.0,2
      06BE88_1,  IR04,    25,  1,      2,2,19930720,1955, -1.9633,  80.5018, 4853,   4500.6,   1.4075,  34.7144,2,  34.7188,2,      4.1,2
      06BE88_1,  IR04,    25,  1,      1,2,19930720,1955, -1.9633,  80.5018, 4853,   4932.8,   1.4404,  34.7138,2,  34.7188,2,      4.1,2
      06BE88_1,  IR04,    26,  1,     23,2,19930721,0317, -1.3343,  80.4968, 4818,      8.6,  28.8401,  34.6673,2,  34.6761,2,      4.5,2
      06BE88_1,  IR04,    26,  1,     22,2,19930721,0317, -1.3343,  80.4968, 4818,     53.3,  28.8413,  34.6680,2,  34.6779,2,      4.5,2
      06BE88_1,  IR04,    26,  1,     21,2,19930721,0317, -1.3343,  80.4968, 4818,     73.6,  28.8147,  34.6736,2,  34.6861,2,      4.4,2
      06BE88_1,  IR04,    26,  1,     20,2,19930721,0317, -1.3343,  80.4968, 4818,    101.5,  27.7749,  34.8106,2,  34.8241,2,      4.0,2
      06BE88_1,  IR04,    26,  1,     19,2,19930721,0317, -1.3343,  80.4968, 4818,    123.5,  23.0170,  35.2500,2,  35.2627,2,      2.4,2
      06BE88_1,  IR04,    26,  1,     18,2,19930721,0317, -1.3343,  80.4968, 4818,    150.3,  19.4674,  35.2442,2,  35.2532,2,      2.1,2
      06BE88_1,  IR04,    26,  1,     17,2,19930721,0317, -1.3343,  80.4968, 4818,    198.6,  14.1173,  35.1183,2,  35.1252,2,      2.1,2
      06BE88_1,  IR04,    26,  1,     16,2,19930721,0317, -1.3343,  80.4968, 4818,    250.8,  12.4850,  35.0684,2,  35.0742,2,      2.6,2
      06BE88_1,  IR04,    26,  1,     15,2,19930721,0317, -1.3343,  80.4968, 4818,    300.9,  11.6333,  35.0235,2,  35.0295,2,      2.5,2
      06BE88_1,  IR04,    26,  1,     14,2,19930721,0317, -1.3343,  80.4968, 4818,    399.8,  10.4341,  34.9883,2,  34.9957,2,      1.7,2
      06BE88_1,  IR04,    26,  1,     13,2,19930721,0317, -1.3343,  80.4968, 4818,    502.1,   9.5935,  34.9518,2,  34.9573,2,      1.6,2
      06BE88_1,  IR04,    26,  1,     12,2,19930721,0317, -1.3343,  80.4968, 4818,    749.5,   7.9326,  34.9258,2,  34.9294,2,      1.2,2
      06BE88_1,  IR04,    26,  1,     11,2,19930721,0317, -1.3343,  80.4968, 4818,   1001.0,   6.3563,  34.9021,2,  34.9087,2,      1.3,2
      06BE88_1,  IR04,    26,  1,     10,2,19930721,0317, -1.3343,  80.4968, 4818,   1251.0,   5.2230,  34.8696,2,  34.8753,2,      1.7,2
      06BE88_1,  IR04,    26,  1,      9,2,19930721,0317, -1.3343,  80.4968, 4818,   1502.3,   4.2920,  34.8294,2,  34.8359,2,      2.1,2
      06BE88_1,  IR04,    26,  1,      8,2,19930721,0317, -1.3343,  80.4968, 4818,   1751.1,   3.1968,  34.7867,2,  34.7921,2,      2.7,2
      06BE88_1,  IR04,    26,  1,      7,2,19930721,0317, -1.3343,  80.4968, 4818,   2001.8,   2.6357,  34.7627,2,  34.7685,2,      3.0,2
      06BE88_1,  IR04,    26,  1,      4,2,19930721,0317, -1.3343,  80.4968, 4818,   2532.6,   1.9866,  34.7382,2,-999.0000,9,   -999.0,5
      06BE88_1,  IR04,    26,  1,      3,2,19930721,0317, -1.3343,  80.4968, 4818,   2532.9,   1.9864,  34.7386,2,-999.0000,9,   -999.0,5
      06BE88_1,  IR04,    26,  1,      6,2,19930721,0317, -1.3343,  80.4968, 4818,   2533.0,   1.9862,  34.7385,2,-999.0000,9,   -999.0,5
      06BE88_1,  IR04,    26,  1,      5,2,19930721,0317, -1.3343,  80.4968, 4818,   2533.3,   1.9864,  34.7382,2,-999.0000,9,      3.4,2
      06BE88_1,  IR04,    26,  1,      2,2,19930721,0317, -1.3343,  80.4968, 4818,   2533.7,   1.9859,  34.7382,2,-999.0000,9,   -999.0,5
      06BE88_1,  IR04,    26,  1,      1,2,19930721,0317, -1.3343,  80.4968, 4818,   2533.8,   1.9858,  34.7383,2,  34.7435,2,   -999.0,5
      06BE88_1,  IR04,    27,  1,     23,2,19930721,2325,  0.0042,  84.0053, 4540,     11.5,  28.8081,  34.4522,2,  34.4581,2,      4.5,2
      06BE88_1,  IR04,    27,  1,     22,2,19930721,2325,  0.0042,  84.0053, 4540,     50.3,  28.8316,  34.4525,2,  34.4616,2,      4.5,2
      06BE88_1,  IR04,    27,  1,     21,2,19930721,2325,  0.0042,  84.0053, 4540,     76.4,  28.8393,  34.4694,2,  34.4797,2,      4.5,2
      06BE88_1,  IR04,    27,  1,     20,2,19930721,2325,  0.0042,  84.0053, 4540,    103.8,  24.4768,  35.0749,2,  34.7683,2,      3.9,2
      06BE88_1,  IR04,    27,  1,     19,2,19930721,2325,  0.0042,  84.0053, 4540,    126.4,  18.9888,  35.2162,2,  35.2239,2,      1.8,2
      06BE88_1,  IR04,    27,  1,     18,2,19930721,2325,  0.0042,  84.0053, 4540,    148.1,  16.4703,  35.1553,2,  35.1606,2,      1.3,2
      06BE88_1,  IR04,    27,  1,     17,2,19930721,2325,  0.0042,  84.0053, 4540,    196.4,  13.9828,  35.1113,2,  35.1169,2,      1.6,2
      06BE88_1,  IR04,    27,  1,     16,2,19930721,2325,  0.0042,  84.0053, 4540,    249.5,  12.5932,  35.0865,2,  35.0919,2,      2.0,2
      06BE88_1,  IR04,    27,  1,     15,2,19930721,2325,  0.0042,  84.0053, 4540,    301.2,  11.9393,  35.0566,2,  35.0617,2,      1.7,2
      06BE88_1,  IR04,    27,  1,     14,2,19930721,2325,  0.0042,  84.0053, 4540,    399.9,  10.7482,  35.0046,2,-999.0000,9,   -999.0,5
      06BE88_1,  IR04,    27,  1,     13,2,19930721,2325,  0.0042,  84.0053, 4540,    500.4,   9.5784,  34.9993,2,  35.0041,2,      1.3,2
      06BE88_1,  IR04,    27,  1,     12,2,19930721,2325,  0.0042,  84.0053, 4540,    749.7,   8.0207,  34.9713,2,  34.9789,2,      1.1,2
      06BE88_1,  IR04,    27,  1,     11,2,19930721,2325,  0.0042,  84.0053, 4540,   1002.6,   6.7624,  34.9397,2,  34.9469,2,      1.2,2
      06BE88_1,  IR04,    27,  1,     10,2,19930721,2325,  0.0042,  84.0053, 4540,   1253.0,   5.4167,  34.8726,2,  34.8792,2,      1.6,2
      06BE88_1,  IR04,    27,  1,      9,2,19930721,2325,  0.0042,  84.0053, 4540,   1501.4,   4.4242,  34.8331,2,-999.0000,9,      1.9,2
      06BE88_1,  IR04,    27,  1,      8,2,19930721,2325,  0.0042,  84.0053, 4540,   1751.0,   3.5544,  34.8027,2,  34.8106,2,      2.5,2
      06BE88_1,  IR04,    27,  1,      7,2,19930721,2325,  0.0042,  84.0053, 4540,   1997.8,   2.7418,  34.7706,2,  34.7781,2,      2.9,2
      06BE88_1,  IR04,    27,  1,      4,2,19930721,2325,  0.0042,  84.0053, 4540,   2252.5,   2.3675,  34.7547,2,-999.0000,9,   -999.0,5
      06BE88_1,  IR04,    27,  1,      6,2,19930721,2325,  0.0042,  84.0053, 4540,   2252.9,   2.3676,  34.7546,2,-999.0000,9,   -999.0,5
      06BE88_1,  IR04,    27,  1,      1,2,19930721,2325,  0.0042,  84.0053, 4540,   2253.1,   2.3670,  34.7545,2,-999.0000,9,      3.2,2
      06BE88_1,  IR04,    27,  1,      5,2,19930721,2325,  0.0042,  84.0053, 4540,   2253.4,   2.3677,  34.7545,2,  34.7596,2,   -999.0,5
      06BE88_1,  IR04,    27,  1,      2,2,19930721,2325,  0.0042,  84.0053, 4540,   2253.6,   2.3665,  34.7545,2,  34.7596,2,      3.2,2
      06BE88_1,  IR04,    27,  1,      3,2,19930721,2325,  0.0042,  84.0053, 4540,   2254.1,   2.3664,  34.7546,2,-999.0000,9,   -999.0,5
      06BE88_1,  IR04,    28,  1,     16,2,19930723,0737, -0.7870,  80.5003, 4572,    249.7,  12.1024,  35.0628,2,  35.0681,2,      2.1,2
      06BE88_1,  IR04,    28,  1,     15,2,19930723,0737, -0.7870,  80.5003, 4572,    298.9,  11.5040,  35.0412,2,  35.0459,2,      1.8,2
      06BE88_1,  IR04,    28,  1,     14,2,19930723,0737, -0.7870,  80.5003, 4572,    400.1,  10.1998,  34.9718,2,  34.9797,2,      1.8,2
      06BE88_1,  IR04,    28,  1,     13,2,19930723,0737, -0.7870,  80.5003, 4572,    500.5,   9.5548,  34.9611,2,  34.9695,2,      1.6,2
      06BE88_1,  IR04,    28,  1,     12,2,19930723,0737, -0.7870,  80.5003, 4572,    748.3,   8.1460,  34.9831,2,  34.9896,2,      1.1,2
      06BE88_1,  IR04,    28,  1,     11,2,19930723,0737, -0.7870,  80.5003, 4572,   1002.0,   6.4551,  34.9164,2,  34.9225,2,      1.3,2
      06BE88_1,  IR04,    28,  1,     10,2,19930723,0737, -0.7870,  80.5003, 4572,   1248.1,   5.1348,  34.8675,2,  34.8735,2,      1.7,2
      06BE88_1,  IR04,    28,  1,      9,2,19930723,0737, -0.7870,  80.5003, 4572,   1498.5,   4.0383,  34.8190,2,  34.8259,2,      2.2,2
      06BE88_1,  IR04,    28,  1,      8,2,19930723,0737, -0.7870,  80.5003, 4572,   1748.9,   3.0538,  34.7776,2,  34.7842,2,      2.8,2
      06BE88_1,  IR04,    28,  1,      7,2,19930723,0737, -0.7870,  80.5003, 4572,   2250.5,   2.2989,  34.7510,2,  34.7571,2,      3.2,2
      06BE88_1,  IR04,    28,  1,      6,2,19930723,0737, -0.7870,  80.5003, 4572,   2749.6,   1.8427,  34.7325,2,  34.7380,2,      3.6,2
      06BE88_1,  IR04,    28,  1,      5,2,19930723,0737, -0.7870,  80.5003, 4572,   3248.8,   1.5822,  34.7228,2,  34.7272,2,      3.7,2
      06BE88_1,  IR04,    28,  1,      4,2,19930723,0737, -0.7870,  80.5003, 4572,   3748.3,   1.4026,  34.7159,2,  34.7209,2,      3.9,2
      06BE88_1,  IR04,    28,  1,      3,2,19930723,0737, -0.7870,  80.5003, 4572,   4250.0,   1.3930,  34.7144,2,  34.7193,2,      4.0,2
      06BE88_1,  IR04,    28,  1,      2,2,19930723,0737, -0.7870,  80.5003, 4572,   4500.9,   1.4101,  34.7140,2,  34.7182,2,      4.1,2
      06BE88_1,  IR04,    28,  1,      1,2,19930723,0737, -0.7870,  80.5003, 4572,   4654.2,   1.4178,  34.7112,2,  34.7178,2,      4.1,2
      06BE88_1,  IR04,    29,  1,     23,2,19930723,1943, -0.3683,  80.5022, 4673,      9.6,  28.7093,  34.6076,2,  34.6126,2,      4.5,2
      06BE88_1,  IR04,    29,  1,     22,2,19930723,1943, -0.3683,  80.5022, 4673,     49.8,  28.7475,  34.6507,2,  34.6612,2,      4.5,2
      06BE88_1,  IR04,    29,  1,     21,2,19930723,1943, -0.3683,  80.5022, 4673,     68.5,  28.7429,  34.6411,2,  34.6620,2,      4.5,2
      06BE88_1,  IR04,    29,  1,     20,2,19930723,1943, -0.3683,  80.5022, 4673,     98.8,  23.4538,  35.1122,2,  35.1152,2,      2.5,2
      06BE88_1,  IR04,    29,  1,     19,2,19930723,1943, -0.3683,  80.5022, 4673,    125.0,  18.6481,  35.2329,2,  35.2300,2,      1.9,2
      06BE88_1,  IR04,    29,  1,     18,2,19930723,1943, -0.3683,  80.5022, 4673,    148.0,  15.5990,  35.1524,2,  35.1597,2,      1.6,2
      06BE88_1,  IR04,    29,  1,     17,2,19930723,1943, -0.3683,  80.5022, 4673,    199.4,  12.6397,  35.0858,2,  35.0898,2,      1.8,2
      06BE88_1,  IR04,    29,  1,     16,2,19930723,1943, -0.3683,  80.5022, 4673,    250.6,  12.0967,  35.0664,2,  35.0695,2,      1.7,2
      06BE88_1,  IR04,    29,  1,     15,2,19930723,1943, -0.3683,  80.5022, 4673,    300.1,  11.5203,  35.0423,2,-999.0000,9,      2.1,2
      06BE88_1,  IR04,    29,  1,     14,2,19930723,1943, -0.3683,  80.5022, 4673,    400.1,  10.3586,  34.9914,2,  34.9980,2,      1.7,2
      06BE88_1,  IR04,    29,  1,     13,2,19930723,1943, -0.3683,  80.5022, 4673,    501.7,   9.3630,  34.9754,2,  34.9835,2,      1.4,2
      06BE88_1,  IR04,    29,  1,     12,2,19930723,1943, -0.3683,  80.5022, 4673,    748.1,   8.3314,  34.9799,2,  34.9866,2,      1.1,2
      06BE88_1,  IR04,    29,  1,     11,2,19930723,1943, -0.3683,  80.5022, 4673,    999.8,   6.6739,  34.9247,2,  34.9309,2,   -999.0,5
      06BE88_1,  IR04,    29,  1,     10,2,19930723,1943, -0.3683,  80.5022, 4673,   1249.9,   5.2526,  34.8682,2,  34.8749,2,      1.7,2
      06BE88_1,  IR04,    29,  1,      9,2,19930723,1943, -0.3683,  80.5022, 4673,   1501.5,   4.2149,  34.8280,2,  34.8342,2,      2.1,2
      06BE88_1,  IR04,    29,  1,      8,2,19930723,1943, -0.3683,  80.5022, 4673,   1751.2,   3.1371,  34.7852,2,  34.7905,2,      2.7,2
      06BE88_1,  IR04,    29,  1,      7,2,19930723,1943, -0.3683,  80.5022, 4673,   2000.6,   2.6524,  34.7668,2,  34.7718,2,      3.0,2
      06BE88_1,  IR04,    29,  1,      6,2,19930723,1943, -0.3683,  80.5022, 4673,   2501.6,   2.0158,  34.7395,2,-999.0000,9,   -999.0,5
      06BE88_1,  IR04,    29,  1,      5,2,19930723,1943, -0.3683,  80.5022, 4673,   2998.5,   1.6692,  34.7260,2,  34.7309,2,      3.7,2
      06BE88_1,  IR04,    29,  1,      4,2,19930723,1943, -0.3683,  80.5022, 4673,   3499.9,   1.4846,  34.7192,2,  34.7231,2,      3.8,2
      06BE88_1,  IR04,    29,  1,      3,2,19930723,1943, -0.3683,  80.5022, 4673,   3999.4,   1.3783,  34.7147,2,  34.7188,2,      4.0,2
      06BE88_1,  IR04,    29,  1,      2,2,19930723,1943, -0.3683,  80.5022, 4673,   4500.0,   1.4090,  34.7138,2,  34.7178,2,      4.0,2
      06BE88_1,  IR04,    29,  1,      1,2,19930723,1943, -0.3683,  80.5022, 4673,   4741.3,   1.4227,  34.7135,2,  34.7171,2,      4.1,2
      06BE88_1,  IR04,    30,  1,     23,2,19930724,1246, -0.0328,  80.5013, 4670,      9.9,  28.6755,  34.6098,2,  34.6174,2,      4.5,2
      06BE88_1,  IR04,    30,  1,     22,2,19930724,1246, -0.0328,  80.5013, 4670,     48.8,  28.6467,  34.5954,2,  34.6178,2,      4.5,2
      06BE88_1,  IR04,    30,  1,     21,2,19930724,1246, -0.0328,  80.5013, 4670,     75.1,  28.5760,  34.6151,2,  34.6319,2,      4.4,2
      06BE88_1,  IR04,    30,  1,     20,2,19930724,1246, -0.0328,  80.5013, 4670,    100.2,  22.4646,  35.1905,2,  35.1703,2,      2.4,2
      06BE88_1,  IR04,    30,  1,     19,2,19930724,1246, -0.0328,  80.5013, 4670,    125.5,  18.2653,  35.2145,2,  35.2107,2,      1.9,2
      06BE88_1,  IR04,    30,  1,     18,2,19930724,1246, -0.0328,  80.5013, 4670,    150.7,  15.6337,  35.1567,2,  35.1656,2,      1.5,2
      06BE88_1,  IR04,    30,  1,     17,2,19930724,1246, -0.0328,  80.5013, 4670,    202.2,  12.8103,  35.0855,2,  35.0905,2,      1.6,2
      06BE88_1,  IR04,    30,  1,     16,2,19930724,1246, -0.0328,  80.5013, 4670,    251.1,  12.2599,  35.0718,2,  35.0772,2,      1.7,2
      06BE88_1,  IR04,    30,  1,     15,2,19930724,1246, -0.0328,  80.5013, 4670,    302.4,  11.7347,  35.0518,2,  35.0571,2,      1.6,2
      06BE88_1,  IR04,    30,  1,     14,2,19930724,1246, -0.0328,  80.5013, 4670,    400.0,  10.4857,  35.0100,2,  35.0565,2,      1.6,2
      06BE88_1,  IR04,    30,  1,     13,2,19930724,1246, -0.0328,  80.5013, 4670,    500.8,   9.6179,  34.9895,2,  34.9969,2,      1.4,2
      06BE88_1,  IR04,    30,  1,     12,2,19930724,1246, -0.0328,  80.5013, 4670,    749.6,   8.2589,  34.9807,2,  34.9878,2,      1.1,2
      06BE88_1,  IR04,    30,  1,     11,2,19930724,1246, -0.0328,  80.5013, 4670,    999.4,   6.7124,  34.9275,2,  34.9366,2,      1.2,2
      06BE88_1,  IR04,    30,  1,     10,2,19930724,1246, -0.0328,  80.5013, 4670,   1251.3,   5.4171,  34.8768,2,  34.8843,2,      1.6,2
      06BE88_1,  IR04,    30,  1,      9,2,19930724,1246, -0.0328,  80.5013, 4670,   1501.8,   4.4061,  34.8361,2,  34.8456,2,      2.0,2
      06BE88_1,  IR04,    30,  1,      8,2,19930724,1246, -0.0328,  80.5013, 4670,   1750.4,   3.3535,  34.7938,2,  34.8005,2,      2.6,2
      06BE88_1,  IR04,    30,  1,      7,2,19930724,1246, -0.0328,  80.5013, 4670,   2249.9,   2.3633,  34.7548,2,  34.7606,2,      3.1,2
      06BE88_1,  IR04,    30,  1,      6,2,19930724,1246, -0.0328,  80.5013, 4670,   2750.5,   1.8647,  34.7334,2,  34.7400,2,      3.5,2
      06BE88_1,  IR04,    30,  1,      5,2,19930724,1246, -0.0328,  80.5013, 4670,   3249.6,   1.6071,  34.7237,2,  34.7292,2,      3.7,2
      06BE88_1,  IR04,    30,  1,      4,2,19930724,1246, -0.0328,  80.5013, 4670,   3752.7,   1.4113,  34.7162,2,  34.7217,2,      3.9,2
      06BE88_1,  IR04,    30,  1,      3,2,19930724,1246, -0.0328,  80.5013, 4670,   4248.1,   1.3906,  34.7143,2,  34.7190,2,      4.0,2
      06BE88_1,  IR04,    30,  1,      2,2,19930724,1246, -0.0328,  80.5013, 4670,   4499.0,   1.4045,  34.7139,2,  34.7195,2,      4.0,2
      06BE88_1,  IR04,    30,  1,      1,2,19930724,1246, -0.0328,  80.5013, 4670,   4722.7,   1.4210,  34.7137,2,  34.7184,2,      4.1,2