BOTTLE,20220624CCHSIOAMB
EXPOCODE,SECT_ID,STNNBR,CASTNO,BTLNBR,BTLNBR_FLAG_W,DATE,TIME,LATITUDE,LONGITUDE,DEPTH,CTDPRS,CTDTMP,CTDSAL,CTDSAL_FLAG_W,SALNTY,SALNTY_FLAG_W,OXYGEN,OXYGEN_FLAG_W
,,,,,,,,,,,DBAR,ITS-90,PSS-78,,PSS-78,,ML/L,
      06BE88_1,  IR04,    13,  1,     23,2,19930717,0538,-10.0333,  80.5008, 5147,     10.3,  26.4381,  34.4924,2,  34.4957,2,      4.7,2
      06BE88_1,  IR04,    13,  1,     22,2,19930717,0538,-10.0333,  80.5008, 5147,     49.4,  26.3997,  34.4768,2,  34.5045,2,      4.6,2
      06BE88_1,  IR04,    13,  1,     21,2,19930717,0538,-10.0333,  80.5008, 5147,     74.9,  20.3972,  35.1181,2,  35.1254,2,      2.7,2
      06BE88_1,  IR04,    13,  1,     20,2,19930717,0538,-10.0333,  80.5008, 5147,     99.3,  17.8734,  35.1082,2,  35.1212,2,      2.1,2
      06BE88_1,  IR04,    13,  1,     19,2,19930717,0538,-10.0333,  80.5008, 5147,    126.1,  16.2613,  35.0473,2,  35.0542,2,      1.8,2
      06BE88_1,  IR04,    13,  1,     18,2,19930717,0538,-10.0333,  80.5008, 5147,    150.1,  15.3253,  35.0465,2,  35.0534,2,      2.0,2
      06BE88_1,  IR04,    13,  1,     17,2,19930717,0538,-10.0333,  80.5008, 5147,    198.5,  13.2438,  34.8905,2,  34.8981,2,      1.7,2
      06BE88_1,  IR04,    13,  1,     16,2,19930717,0538,-10.0333,  80.5008, 5147,    250.5,  12.3900,  34.9667,2,  34.9736,2,      1.9,2
      06BE88_1,  IR04,    13,  1,     15,2,19930717,0538,-10.0333,  80.5008, 5147,    300.2,  11.7248,  34.9554,2,  34.9614,2,      2.0,2
      06BE88_1,  IR04,    13,  1,     14,2,19930717,0538,-10.0333,  80.5008, 5147,    400.7,  10.4037,  34.8791,2,  34.8861,2,      2.2,2
      06BE88_1,  IR04,    13,  1,     13,2,19930717,0538,-10.0333,  80.5008, 5147,    501.6,   9.1340,  34.7909,2,  34.7965,2,      2.7,2
      06BE88_1,  IR04,    13,  1,     12,2,19930717,0538,-10.0333,  80.5008, 5147,    750.9,   7.0679,  34.7209,2,  34.7264,2,      1.8,2
      06BE88_1,  IR04,    13,  1,     11,2,19930717,0538,-10.0333,  80.5008, 5147,   1003.5,   5.5669,  34.6950,2,  34.6855,2,      1.9,2
      06BE88_1,  IR04,    13,  1,     10,2,19930717,0538,-10.0333,  80.5008, 5147,   1250.1,   4.7810,  34.7372,2,  34.7436,2,      2.0,2
      06BE88_1,  IR04,    13,  1,      9,2,19930717,0538,-10.0333,  80.5008, 5147,   1503.0,   3.7861,  34.7332,2,  34.7420,2,      2.5,2
      06BE88_1,  IR04,    13,  1,      8,2,19930717,0538,-10.0333,  80.5008, 5147,   1750.8,   3.0956,  34.7427,2,  34.7487,2,      2.9,2
      06BE88_1,  IR04,    13,  1,      7,2,19930717,0538,-10.0333,  80.5008, 5147,   1998.9,   2.6122,  34.7433,2,  34.7487,2,      3.2,2
      06BE88_1,  IR04,    13,  1,      6,2,19930717,0538,-10.0333,  80.5008, 5147,   2502.5,   2.0239,  34.7319,2,  34.7351,2,      3.6,2
      06BE88_1,  IR04,    13,  1,      5,2,19930717,0538,-10.0333,  80.5008, 5147,   3000.1,   1.7255,  34.7245,2,  34.7286,2,      3.8,2
      06BE88_1,  IR04,    13,  1,      4,2,19930717,0538,-10.0333,  80.5008, 5147,   3499.6,   1.4909,  34.7181,2,  34.7219,2,      3.9,2
      06BE88_1,  IR04,    13,  1,      3,2,19930717,0538,-10.0333,  80.5008, 5147,   4001.1,   1.3491,  34.7140,2,  34.7178,2,      4.1,2
      06BE88_1,  IR04,    13,  1,      2,2,19930717,0538,-10.0333,  80.5008, 5147,   4499.7,   1.3595,  34.7133,2,  34.7170,2,      4.2,2
      06BE88_1,  IR04,    13,  1,      1,2,19930717,0538,-10.0333,  80.5008, 5147,   5231.4,   1.4334,  34.7127,2,  34.7160,2,      4.2,2
      06BE88_1,  IR04,    14,  1,     23,2,19930717,1539, -9.3322,  80.4995, 5330,     11.6,  26.3032,  34.5845,2,  34.5909,2,      4.6,2
      06BE88_1,  IR04,    14,  1,     22,2,19930717,1539, -9.3322,  80.4995, 5330,     53.6,  21.7059,  35.2083,2,  35.2159,2,      2.3,2
      06BE88_1,  IR04,    14,  1,     21,2,19930717,1539, -9.3322,  80.4995, 5330,     73.7,  19.5406,  35.1863,2,  35.1897,2,      1.8,2
      06BE88_1,  IR04,    14,  1,     20,2,19930717,1539, -9.3322,  80.4995, 5330,     98.0,  18.1398,  35.1062,2,  35.1185,2,      1.4,2
      06BE88_1,  IR04,    14,  1,     18,2,19930717,1539, -9.3322,  80.4995, 5330,    121.3,  16.4480,  35.0077,2,  35.0177,2,      1.4,2
      06BE88_1,  IR04,    14,  1,     19,2,19930717,1539, -9.3322,  80.4995, 5330,    121.5,  16.6800,  35.0178,2,-999.0000,9,   -999.0,5
      06BE88_1,  IR04,    14,  1,     17,2,19930717,1539, -9.3322,  80.4995, 5330,    151.6,  15.7016,  35.1274,2,  35.1248,2,      1.9,2
      06BE88_1,  IR04,    14,  1,     16,2,19930717,1539, -9.3322,  80.4995, 5330,    201.9,  13.7768,  34.9738,2,  34.9825,2,      1.6,2
      06BE88_1,  IR04,    14,  1,     15,2,19930717,1539, -9.3322,  80.4995, 5330,    249.9,  12.7207,  34.9898,2,  34.9933,2,      1.9,2
      06BE88_1,  IR04,    14,  1,     14,2,19930717,1539, -9.3322,  80.4995, 5330,    298.3,  11.8663,  34.9563,2,  34.9639,2,      2.0,2
      06BE88_1,  IR04,    14,  1,     13,2,19930717,1539, -9.3322,  80.4995, 5330,    401.2,  10.4507,  34.8797,2,  34.8869,2,      2.5,2
      06BE88_1,  IR04,    14,  1,     12,2,19930717,1539, -9.3322,  80.4995, 5330,    500.5,   9.1751,  34.7956,2,  34.8034,2,      2.5,2
      06BE88_1,  IR04,    14,  1,     11,2,19930717,1539, -9.3322,  80.4995, 5330,    750.5,   7.0918,  34.7369,2,  34.7475,2,      1.7,2
      06BE88_1,  IR04,    14,  1,     10,2,19930717,1539, -9.3322,  80.4995, 5330,    999.7,   5.6503,  34.7175,2,  34.7254,2,      1.8,2
      06BE88_1,  IR04,    14,  1,      9,2,19930717,1539, -9.3322,  80.4995, 5330,   1249.7,   4.7387,  34.7284,2,  34.7357,2,      2.0,2
      06BE88_1,  IR04,    14,  1,      8,2,19930717,1539, -9.3322,  80.4995, 5330,   1500.9,   3.9047,  34.7466,2,  34.7542,2,      2.4,2
      06BE88_1,  IR04,    14,  1,      7,2,19930717,1539, -9.3322,  80.4995, 5330,   1748.8,   3.1291,  34.7453,2,  34.7520,2,      2.9,2
      06BE88_1,  IR04,    14,  1,      6,2,19930717,1539, -9.3322,  80.4995, 5330,   2000.3,   2.6129,  34.7416,2,  34.4745,2,      3.1,2
      06BE88_1,  IR04,    14,  1,      4,2,19930717,1539, -9.3322,  80.4995, 5330,   2531.3,   2.0294,  34.7318,2,-999.0000,9,   -999.0,5
      06BE88_1,  IR04,    14,  1,      2,2,19930717,1539, -9.3322,  80.4995, 5330,   2532.8,   2.0296,  34.7316,2,  34.7373,2,      3.6,2
      06BE88_1,  IR04,    14,  1,      3,2,19930717,1539, -9.3322,  80.4995, 5330,   2533.2,   2.0302,  34.7315,2,-999.0000,9,   -999.0,5
      06BE88_1,  IR04,    14,  1,      1,2,19930717,1539, -9.3322,  80.4995, 5330,   2533.5,   2.0316,  34.7315,2,-999.0000,9,   -999.0,5
      06BE88_1,  IR04,    14,  1,      5,2,19930717,1539, -9.3322,  80.4995, 5330,   2533.6,   2.0285,  34.7318,2,-999.0000,9,      3.6,2
      06BE88_1,  IR04,    15,  1,     23,2,19930717,2100, -8.6507,  80.4997, 5090,      8.9,  26.6098,  34.6861,2,  34.6947,2,      4.8,2
      06BE88_1,  IR04,    15,  1,     22,2,19930717,2100, -8.6507,  80.4997, 5090,     51.6,  21.7237,  35.2282,2,-999.0000,9,   -999.0,5
      06BE88_1,  IR04,    15,  1,     21,2,19930717,2100, -8.6507,  80.4997, 5090,     74.7,  19.3518,  35.1888,2,  35.1911,2,      2.0,2
      06BE88_1,  IR04,    15,  1,     20,2,19930717,2100, -8.6507,  80.4997, 5090,    103.0,  17.5490,  35.1206,2,  35.1281,2,      1.7,2
      06BE88_1,  IR04,    15,  1,     19,2,19930717,2100, -8.6507,  80.4997, 5090,    124.8,  16.4251,  35.0590,2,  35.0422,2,      1.5,2
      06BE88_1,  IR04,    15,  1,     18,2,19930717,2100, -8.6507,  80.4997, 5090,    152.1,  15.6182,  35.1325,2,  35.1287,2,      2.0,2
      06BE88_1,  IR04,    15,  1,     17,2,19930717,2100, -8.6507,  80.4997, 5090,    200.2,  13.7165,  35.0403,2,  35.0457,2,      1.9,2
      06BE88_1,  IR04,    15,  1,     16,2,19930717,2100, -8.6507,  80.4997, 5090,    250.4,  12.6321,  34.9925,2,  34.9982,2,      1.9,2
      06BE88_1,  IR04,    15,  1,     15,2,19930717,2100, -8.6507,  80.4997, 5090,    301.5,  11.7524,  34.9555,2,  34.9620,2,      2.2,2
      06BE88_1,  IR04,    15,  1,     14,2,19930717,2100, -8.6507,  80.4997, 5090,    401.2,  10.5947,  34.8912,2,  34.9622,2,      2.1,2
      06BE88_1,  IR04,    15,  1,     13,2,19930717,2100, -8.6507,  80.4997, 5090,    498.5,   9.4943,  34.8277,2,  34.8964,2,      2.5,2
      06BE88_1,  IR04,    15,  1,     12,2,19930717,2100, -8.6507,  80.4997, 5090,    749.2,   7.2327,  34.7626,2,  34.7687,2,      1.6,2
      06BE88_1,  IR04,    15,  1,     11,2,19930717,2100, -8.6507,  80.4997, 5090,    999.7,   5.6050,  34.7151,2,-999.0000,9,   -999.0,5
      06BE88_1,  IR04,    15,  1,     10,2,19930717,2100, -8.6507,  80.4997, 5090,   1249.2,   4.6733,  34.7312,2,  34.7380,2,      2.0,2
      06BE88_1,  IR04,    15,  1,      9,2,19930717,2100, -8.6507,  80.4997, 5090,   1501.2,   3.8068,  34.7452,2,  34.7510,2,      2.4,2
      06BE88_1,  IR04,    15,  1,      8,2,19930717,2100, -8.6507,  80.4997, 5090,   1746.7,   3.0697,  34.7445,2,  34.7497,2,      2.8,2
      06BE88_1,  IR04,    15,  1,      7,2,19930717,2100, -8.6507,  80.4997, 5090,   1998.9,   2.5575,  34.7435,2,  34.7487,2,      3.1,2
      06BE88_1,  IR04,    15,  1,      3,2,19930717,2100, -8.6507,  80.4997, 5090,   2530.2,   1.9774,  34.7306,2,-999.0000,9,   -999.0,5
      06BE88_1,  IR04,    15,  1,      2,2,19930717,2100, -8.6507,  80.4997, 5090,   2532.1,   1.9777,  34.7305,2,-999.0000,9,   -999.0,5
      06BE88_1,  IR04,    15,  1,      1,2,19930717,2100, -8.6507,  80.4997, 5090,   2532.3,   1.9768,  34.7306,2,  34.7359,2,   -999.0,5
      06BE88_1,  IR04,    15,  1,      4,2,19930717,2100, -8.6507,  80.4997, 5090,   2532.3,   1.9770,  34.7307,2,-999.0000,9,   -999.0,5
      06BE88_1,  IR04,    15,  1,      5,2,19930717,2100, -8.6507,  80.4997, 5090,   2532.4,   1.9770,  34.7307,2,-999.0000,9,   -999.0,5
      06BE88_1,  IR04,    15,  1,      6,2,19930717,2100, -8.6507,  80.4997, 5090,   2532.9,   1.9764,  34.7306,2,  34.7359,2,      3.6,2
      06BE88_1,  IR04,    16,  1,     24,2,19930718,0719, -8.0388,  80.5002, 5332,      9.7,  26.5589,  34.4467,2,  34.4534,2,      4.6,2
      06BE88_1,  IR04,    16,  1,     23,2,19930718,0719, -8.0388,  80.5002, 5332,     51.5,  20.7258,  35.2081,2,  35.2181,2,      1.9,2
      06BE88_1,  IR04,    16,  1,     22,2,19930718,0719, -8.0388,  80.5002, 5332,     73.1,  18.7810,  35.1732,2,  35.1832,2,      2.1,2
      06BE88_1,  IR04,    16,  1,     20,2,19930718,0719, -8.0388,  80.5002, 5332,    124.5,  15.7934,  35.0387,2,  35.0475,2,      1.6,2
      06BE88_1,  IR04,    16,  1,     19,2,19930718,0719, -8.0388,  80.5002, 5332,    148.9,  15.0148,  34.9986,2,  35.0242,2,      1.7,2
      06BE88_1,  IR04,    16,  1,     18,2,19930718,0719, -8.0388,  80.5002, 5332,    198.9,  13.6859,  34.9998,2,  35.0154,2,      1.7,2
      06BE88_1,  IR04,    16,  1,     17,2,19930718,0719, -8.0388,  80.5002, 5332,    247.6,  12.6990,  34.9904,2,  34.9972,2,      1.8,2
      06BE88_1,  IR04,    16,  1,     16,2,19930718,0719, -8.0388,  80.5002, 5332,    300.3,  11.7298,  34.9696,2,  34.9760,2,      2.0,2
      06BE88_1,  IR04,    16,  1,     15,2,19930718,0719, -8.0388,  80.5002, 5332,    401.0,  10.3902,  34.8806,2,  34.8873,2,      2.5,2
      06BE88_1,  IR04,    16,  1,     14,2,19930718,0719, -8.0388,  80.5002, 5332,    501.4,   9.3445,  34.8164,2,-999.0000,9,   -999.0,5
      06BE88_1,  IR04,    16,  1,     13,2,19930718,0719, -8.0388,  80.5002, 5332,    749.3,   7.0222,  34.7558,2,  34.7644,2,      1.7,2
      06BE88_1,  IR04,    16,  1,     12,2,19930718,0719, -8.0388,  80.5002, 5332,   1003.1,   5.2234,  34.6722,2,-999.0000,9,   -999.0,5
      06BE88_1,  IR04,    16,  1,     11,2,19930718,0719, -8.0388,  80.5002, 5332,   1249.3,   4.4533,  34.7069,2,  34.7134,2,      2.1,2
      06BE88_1,  IR04,    16,  1,     10,2,19930718,0719, -8.0388,  80.5002, 5332,   1502.1,   3.7715,  34.7470,2,  34.7530,2,      2.4,2
      06BE88_1,  IR04,    16,  1,      9,2,19930718,0719, -8.0388,  80.5002, 5332,   1749.8,   3.1331,  34.7515,2,  34.7569,2,      2.8,2
      06BE88_1,  IR04,    16,  1,      8,2,19930718,0719, -8.0388,  80.5002, 5332,   2249.4,   2.2574,  34.7388,2,  34.7451,2,      3.4,2
      06BE88_1,  IR04,    16,  1,      7,2,19930718,0719, -8.0388,  80.5002, 5332,   2750.3,   1.8248,  34.7278,2,  34.7319,2,      3.7,2
      06BE88_1,  IR04,    16,  1,      6,2,19930718,0719, -8.0388,  80.5002, 5332,   3248.7,   1.5795,  34.7213,2,  34.7266,2,      3.8,2
      06BE88_1,  IR04,    16,  1,      5,2,19930718,0719, -8.0388,  80.5002, 5332,   3749.6,   1.3978,  34.7157,2,  34.7203,2,      4.0,2
      06BE88_1,  IR04,    16,  1,      4,2,19930718,0719, -8.0388,  80.5002, 5332,   4250.2,   1.3676,  34.7139,2,  34.7182,2,      4.1,2
      06BE88_1,  IR04,    16,  1,      3,2,19930718,0719, -8.0388,  80.5002, 5332,   4749.7,   1.3772,  34.7130,2,  34.7156,2,      4.2,2
      06BE88_1,  IR04,    16,  1,      2,2,19930718,0719, -8.0388,  80.5002, 5332,   5419.9,   1.4447,  34.7125,2,  34.7164,2,      4.2,2
      06BE88_1,  IR04,    17,  1,     23,2,19930718,1524, -7.3333,  80.4998, 4948,     11.9,  26.7906,  34.7355,2,  34.7429,2,      4.6,2
      06BE88_1,  IR04,    17,  1,     22,2,19930718,1524, -7.3333,  80.4998, 4948,     51.5,  22.4205,  35.2359,2,  35.2465,2,      2.7,2
      06BE88_1,  IR04,    17,  1,     21,2,19930718,1524, -7.3333,  80.4998, 4948,     75.9,  20.2105,  35.1949,2,  35.2040,2,      1.9,2
      06BE88_1,  IR04,    17,  1,     20,2,19930718,1524, -7.3333,  80.4998, 4948,     97.7,  17.4833,  35.0600,2,  35.0687,2,      1.5,2
      06BE88_1,  IR04,    17,  1,     19,2,19930718,1524, -7.3333,  80.4998, 4948,    124.2,  15.9996,  35.0693,2,  35.0837,2,      1.8,2
      06BE88_1,  IR04,    17,  1,     18,2,19930718,1524, -7.3333,  80.4998, 4948,    151.8,  14.6669,  35.0686,2,  35.0841,2,      1.8,2
      06BE88_1,  IR04,    17,  1,     17,2,19930718,1524, -7.3333,  80.4998, 4948,    199.9,  13.3114,  35.0262,2,  35.0331,2,      1.9,2
      06BE88_1,  IR04,    17,  1,     16,2,19930718,1524, -7.3333,  80.4998, 4948,    248.8,  12.3242,  34.9915,2,  34.9982,2,      2.0,2
      06BE88_1,  IR04,    17,  1,     15,2,19930718,1524, -7.3333,  80.4998, 4948,    299.0,  11.3635,  34.9396,2,  34.9482,2,      2.2,2
      06BE88_1,  IR04,    17,  1,     14,2,19930718,1524, -7.3333,  80.4998, 4948,    400.4,  10.2882,  34.8716,2,  34.8788,2,      2.8,2
      06BE88_1,  IR04,    17,  1,     13,2,19930718,1524, -7.3333,  80.4998, 4948,    500.4,   9.1259,  34.8103,2,  34.8172,2,      2.2,2
      06BE88_1,  IR04,    17,  1,     12,2,19930718,1524, -7.3333,  80.4998, 4948,    750.0,   7.2026,  34.7677,2,  34.7752,2,      1.5,2
      06BE88_1,  IR04,    17,  1,     11,2,19930718,1524, -7.3333,  80.4998, 4948,   1000.8,   5.4614,  34.6945,2,  34.7017,2,      1.8,2
      06BE88_1,  IR04,    17,  1,     10,2,19930718,1524, -7.3333,  80.4998, 4948,   1250.7,   4.4882,  34.7288,2,  34.7376,2,      2.0,2
      06BE88_1,  IR04,    17,  1,      9,2,19930718,1524, -7.3333,  80.4998, 4948,   1500.0,   3.8906,  34.7705,2,  34.7769,2,      2.4,2
      06BE88_1,  IR04,    17,  1,      8,2,19930718,1524, -7.3333,  80.4998, 4948,   1749.2,   3.1377,  34.7577,2,  34.7636,2,      2.8,2
      06BE88_1,  IR04,    17,  1,      7,2,19930718,1524, -7.3333,  80.4998, 4948,   2000.4,   2.6149,  34.7465,2,  34.7522,2,      3.1,2
      06BE88_1,  IR04,    17,  1,      3,2,19930718,1524, -7.3333,  80.4998, 4948,   2533.7,   1.9745,  34.7312,2,-999.0000,9,   -999.0,5
      06BE88_1,  IR04,    17,  1,      4,2,19930718,1524, -7.3333,  80.4998, 4948,   2533.9,   1.9744,  34.7311,2,-999.0000,9,   -999.0,5
      06BE88_1,  IR04,    17,  1,      5,2,19930718,1524, -7.3333,  80.4998, 4948,   2533.9,   1.9741,  34.7313,2,-999.0000,9,      3.6,2
      06BE88_1,  IR04,    17,  1,      2,2,19930718,1524, -7.3333,  80.4998, 4948,   2534.5,   1.9742,  34.7311,2,  34.7359,2,      3.6,2
      06BE88_1,  IR04,    17,  1,      1,2,19930718,1524, -7.3333,  80.4998, 4948,   2534.7,   1.9739,  34.7313,2,-999.0000,9,   -999.0,5
      06BE88_1,  IR04,    17,  1,      6,2,19930718,1524, -7.3333,  80.4998, 4948,   2535.0,   1.9731,  34.7313,2,-999.0000,9,   -999.0,5
      06BE88_1,  IR04,    18,  1,     23,2,19930718,2058, -6.6672,  80.5007, 5030,     11.2,  27.6469,  35.2960,2,  35.3021,2,      4.5,2
      06BE88_1,  IR04,    18,  1,     22,2,19930718,2058, -6.6672,  80.5007, 5030,     50.5,  27.5895,  35.2747,2,  35.3076,2,      4.5,2
      06BE88_1,  IR04,    18,  1,     21,2,19930718,2058, -6.6672,  80.5007, 5030,     72.4,  21.7090,  35.2450,2,  35.2528,2,      3.1,2
      06BE88_1,  IR04,    18,  1,     20,2,19930718,2058, -6.6672,  80.5007, 5030,    101.2,  19.0566,  35.2007,2,  35.2044,2,      1.9,2
      06BE88_1,  IR04,    18,  1,     19,2,19930718,2058, -6.6672,  80.5007, 5030,    122.8,  16.9935,  35.0382,2,  35.0559,2,      1.3,2
      06BE88_1,  IR04,    18,  1,     18,2,19930718,2058, -6.6672,  80.5007, 5030,    150.6,  15.5560,  34.9766,2,  34.9868,2,      1.5,2
      06BE88_1,  IR04,    18,  1,     17,2,19930718,2058, -6.6672,  80.5007, 5030,    199.6,  12.8565,  34.9111,2,  34.9187,2,      1.5,2
      06BE88_1,  IR04,    18,  1,     16,2,19930718,2058, -6.6672,  80.5007, 5030,    250.0,  11.9857,  34.9328,2,  34.9410,2,      1.6,2
      06BE88_1,  IR04,    18,  1,     15,2,19930718,2058, -6.6672,  80.5007, 5030,    301.0,  11.1707,  34.9184,2,  34.9239,2,      1.5,2
      06BE88_1,  IR04,    18,  1,     14,2,19930718,2058, -6.6672,  80.5007, 5030,    402.2,  10.1173,  34.8706,2,  34.8776,2,      1.9,2
      06BE88_1,  IR04,    18,  1,     13,2,19930718,2058, -6.6672,  80.5007, 5030,    501.7,   9.2304,  34.8402,2,  34.8477,2,      2.1,2
      06BE88_1,  IR04,    18,  1,     12,2,19930718,2058, -6.6672,  80.5007, 5030,    747.8,   7.4178,  34.8007,2,  34.8068,2,      1.6,2
      06BE88_1,  IR04,    18,  1,     11,2,19930718,2058, -6.6672,  80.5007, 5030,   1001.1,   5.8219,  34.7707,2,  34.7779,2,      1.7,2
      06BE88_1,  IR04,    18,  1,     10,2,19930718,2058, -6.6672,  80.5007, 5030,   1250.4,   4.7776,  34.7626,2,  34.7687,2,      2.0,2
      06BE88_1,  IR04,    18,  1,      9,2,19930718,2058, -6.6672,  80.5007, 5030,   1499.3,   4.0502,  34.7757,2,  34.7813,2,      2.3,2
      06BE88_1,  IR04,    18,  1,      8,2,19930718,2058, -6.6672,  80.5007, 5030,   1750.5,   3.2867,  34.7620,2,  34.7679,2,      2.7,2
      06BE88_1,  IR04,    18,  1,      7,2,19930718,2058, -6.6672,  80.5007, 5030,   2250.5,   2.2930,  34.7433,2,  34.7486,2,      3.3,2
      06BE88_1,  IR04,    18,  1,      1,2,19930718,2058, -6.6672,  80.5007, 5030,   2533.7,   1.9667,  34.7328,2,-999.0000,9,   -999.0,5
      06BE88_1,  IR04,    18,  1,      4,2,19930718,2058, -6.6672,  80.5007, 5030,   2533.8,   1.9663,  34.7331,2,-999.0000,9,   -999.0,5
      06BE88_1,  IR04,    18,  1,      5,2,19930718,2058, -6.6672,  80.5007, 5030,   2534.2,   1.9660,  34.7330,2,-999.0000,9,      3.6,2
      06BE88_1,  IR04,    18,  1,      2,2,19930718,2058, -6.6672,  80.5007, 5030,   2534.3,   1.9662,  34.7332,2,-999.0000,9,      3.6,2
      06BE88_1,  IR04,    18,  1,      3,2,19930718,2058, -6.6672,  80.5007, 5030,   2534.3,   1.9657,  34.7329,2,-999.0000,9,   -999.0,5
      06BE88_1,  IR04,    18,  1,      6,2,19930718,2058, -6.6672,  80.5007, 5030,   2534.5,   1.9661,  34.7331,2,  34.7378,2,   -999.0,5