BOTTLE,20220503SIOCCHCBG
# changed PHSPHT_FLAG_W from 33 to 3 at station 270, cast 1, sample 266253, bottle 11
#BOTTLE,20140401SIOCCHCBG
# NITRAT changed to NO2+NO3
# TCARBN changed from 999.0 flag 4 to -999.0 flag 9
#BOTTLE,20130611PRINUNIVRMK
# 2/23/12 Initialized README file  
# Data source: Jeff Jackson & Kumiko Azertu-Scott; 2/14/2012 
# SHIP: CCGS Hudson 
# Cruise: HUD2003-038 
# Region: Labrador Sea and off Halifax; AR07W 
# EXPOCODE: 18HU20040713 
# DATES: 7/13 - 8/4/2003 
# Chief Scientist: Allyn Clarke 
# 55 stations with 24 place Rosette 
# Hydro: Who - I.Yashayaev; Status - final 
# 	Notes: Salt calibration with IAPSO 
# 	Calibration check: 
# 	CTD Salinity = 0.9978*Salinity + 0.0772; RSE= 0.00313 
# Nuts: Who - G.Harrison; Status - final 
# 	Notes: 
# 	Nutrients run in duplicate 
# O2: Who - R.Hendry; Status - final 
# 	Notes:  
# 	CTDoxy =  1.64 + 0.9944*Oxygen; RESE=1.83 
# TCO2: Who - P.Jones/R.Gershey; Status - final 
# 	Notes:  
# TA: Who - P.Jones/R.Gershey; Status - final 
# 	Notes: ~5umol/kg scatter on average 
# CFC: Who - P.Jones; Status - final 
# 	Notes: includes CFC-113  
# 	All CFC-113 and CCL4 flagged 3/4 
# Other:	Chloro-A 
# 	I-129 (J.Smith) 
# 	TOC (P. Kepkay) 
# 	No data in file for any of these 
# References: 
#
# DATA CITATION
#| CCHDO Citation Information
#|
#| Please cite data downloaded from CCHDO as: 
#| [Data providers of the parameter(s) used]. [Year of file access]. [CTD/Bottle] data from cruise [expocode], 
#| [format version used]. Accessed from CCHDO [url of cruise data page]. Access date [date of download].
#| [Applicable CCHDO cruise DOI if provided].
#|
#| For example: 
#| Swift, J. and Becker, S. 2019. CTD data from Cruise 33RR20160321, exchange version. Accessed from CCHDO 
#| https://cchdo.ucsd.edu/cruise/33RR20160321. Access date 2019-08-21. CCHDO cruise DOI: 10.7942/C2008W
#|
#| Information on the scientists who provided the different parameters can be found in the cruise report. 
#| Additionally, for US GO-SHIP cruises, this information is usually in the comments section in the text headers 
#| of the Exchange bottle files.
#|
#| Users are also encouraged to acknowledge the funding program that supported the data collection in their publication. 
#| For US GO-SHIP data this is the NSF/NOAA funded U.S Repeat Hydrography Program.
#
EXPOCODE,SECT_ID,STNNBR,CASTNO,SAMPNO,BTLNBR,BTLNBR_FLAG_W,DATE,TIME,LATITUDE,LONGITUDE,DEPTH,CTDPRS,CTDTMP,CTDSAL,CTDSAL_FLAG_W,SALNTY,SALNTY_FLAG_W,CTDOXY,CTDOXY_FLAG_W,OXYGEN,OXYGEN_FLAG_W,SILCAT,SILCAT_FLAG_W,NO2+NO3,NO2+NO3_FLAG_W,PHSPHT,PHSPHT_FLAG_W,CFC-11,CFC-11_FLAG_W,CFC-12,CFC-12_FLAG_W,CFC113,CFC113_FLAG_W,CCL4,CCL4_FLAG_W,MCHFRM,MCHFRM_FLAG_W,TCARBN,TCARBN_FLAG_W,ALKALI,ALKALI_FLAG_W,THETA,BTL_DATE,BTL_TIME
,,,,,,,,,,,METERS,DBAR,ITS-90,PSS-78,,PSS-78,,UMOL/KG,,UMOL/KG,,UMOL/KG,,UMOL/KG,,UMOL/KG,,PMOL/KG,,PMOL/KG,,PMOL/KG,,PMOL/KG,,PMOL/KG,,UMOL/KG,,UMOL/KG,,DEG C,,
  18HU20030713, AR07W,     4,  1, 265601,      1,2,20030713,1909, 44.4000, -63.4675,   95,     85.1,   0.8880,  32.3273,2,  32.3241,2,    296.9,2,   -999.0,9,     7.61,6,     7.00,6,     1.05, 6, -999.000,9, -999.000,9, -999.000,9, -999.000,9, -999.000,9,   -999.0,9,   -999.0,9,   0.8847, 20030713,     1909
  18HU20030713, AR07W,     4,  1, 265602,      2,2,20030713,1909, 44.4000, -63.4675,   95,     61.2,   0.7490,  32.2260,2,-999.0000,9,    303.3,2,   -999.0,9,  -999.00,9,  -999.00,9,  -999.00, 9, -999.000,9, -999.000,9, -999.000,9, -999.000,9, -999.000,9,   -999.0,9,   -999.0,9,   0.7467, 20030713,     1911
  18HU20030713, AR07W,     4,  1, 265603,      3,2,20030713,1909, 44.4000, -63.4675,   95,     50.4,   0.9372,  32.1196,2,  32.0875,2,    319.0,2,   -999.0,9,     3.42,6,     4.53,6,     0.85, 6, -999.000,9, -999.000,9, -999.000,9, -999.000,9, -999.000,9,   -999.0,9,   -999.0,9,   0.9352, 20030713,     1912
  18HU20030713, AR07W,     4,  1, 265604,      4,2,20030713,1909, 44.4000, -63.4675,   95,     40.4,   1.0119,  31.9127,2,  31.9121,2,    332.5,2,   -999.0,9,     3.12,6,     3.26,6,     0.76, 6, -999.000,9, -999.000,9, -999.000,9, -999.000,9, -999.000,9,   -999.0,9,   -999.0,9,   1.0103, 20030713,     1913
  18HU20030713, AR07W,     4,  1, 265605,      5,2,20030713,1909, 44.4000, -63.4675,   95,     30.6,   1.7420,  31.7976,2,  31.8103,2,    342.1,2,   -999.0,9,     2.59,6,     2.24,6,     0.64, 6, -999.000,9, -999.000,9, -999.000,9, -999.000,9, -999.000,9,   -999.0,9,   -999.0,9,   1.7406, 20030713,     1914
  18HU20030713, AR07W,     4,  1, 265606,      6,2,20030713,1909, 44.4000, -63.4675,   95,     20.1,   2.7334,  31.6992,2,  31.6564,2,    359.6,2,   -999.0,9,     1.71,6,     0.52,6,     0.47, 6, -999.000,9, -999.000,9, -999.000,9, -999.000,9, -999.000,9,   -999.0,9,   -999.0,9,   2.7323, 20030713,     1915
  18HU20030713, AR07W,     4,  1, 265607,      7,2,20030713,1909, 44.4000, -63.4675,   95,     10.2,   7.9520,  31.4199,2,  31.5589,3,    329.4,2,   -999.0,9,     0.76,6,     0.09,6,     0.31, 6, -999.000,9, -999.000,9, -999.000,9, -999.000,9, -999.000,9,   -999.0,9,   -999.0,9,   7.9510, 20030713,     1916
  18HU20030713, AR07W,     4,  1, 265608,      8,2,20030713,1909, 44.4000, -63.4675,   95,      2.4,  11.1928,  31.1871,2,  31.2075,2,    302.2,2,   -999.0,9,     0.72,6,     0.09,6,     0.37, 6, -999.000,9, -999.000,9, -999.000,9, -999.000,9, -999.000,9,   -999.0,9,   -999.0,9,  11.1925, 20030713,     1917
  18HU20030713, AR07W,     9,  1, 265609,      1,2,20030713,2139, 44.2695, -63.3193,  145,    150.8,   7.7039,  34.2296,2,-999.0000,9,    166.2,2,   -999.0,9,    15.25,6,    16.36,6,     1.30, 6, -999.000,9, -999.000,9, -999.000,9, -999.000,9, -999.000,9,   -999.0,9,   -999.0,9,   7.6892, 20030713,     2139
  18HU20030713, AR07W,     9,  1, 265610,      2,2,20030713,2139, 44.2695, -63.3193,  145,    101.4,   3.2614,  33.0805,2,-999.0000,9,    245.1,2,   -999.0,9,     9.67,6,    11.60,6,     1.18, 6, -999.000,9, -999.000,9, -999.000,9, -999.000,9, -999.000,9,   -999.0,9,   -999.0,9,   3.2553, 20030713,     2142
  18HU20030713, AR07W,     9,  1, 265611,      3,2,20030713,2139, 44.2695, -63.3193,  145,     80.9,   1.2269,  32.5876,2,-999.0000,9,    290.8,2,   -999.0,9,     7.27,6,     8.12,6,     0.95, 6, -999.000,9, -999.000,9, -999.000,9, -999.000,9, -999.000,9,   -999.0,9,   -999.0,9,   1.2235, 20030713,     2143
  18HU20030713, AR07W,     9,  1, 265612,      4,2,20030713,2139, 44.2695, -63.3193,  145,     60.1,   1.1251,  32.4364,2,-999.0000,9,    307.9,2,   -999.0,9,     4.74,6,     6.22,6,     0.86, 6, -999.000,9, -999.000,9, -999.000,9, -999.000,9, -999.000,9,   -999.0,9,   -999.0,9,   1.1226, 20030713,     2144
  18HU20030713, AR07W,     9,  1, 265613,      5,2,20030713,2139, 44.2695, -63.3193,  145,     49.8,   0.7147,  32.1889,2,-999.0000,9,    316.8,2,   -999.0,9,     2.84,6,     5.25,6,     0.85, 6, -999.000,9, -999.000,9, -999.000,9, -999.000,9, -999.000,9,   -999.0,9,   -999.0,9,   0.7129, 20030713,     2145
  18HU20030713, AR07W,     9,  1, 265614,      6,2,20030713,2139, 44.2695, -63.3193,  145,     40.1,   0.9079,  32.0120,2,-999.0000,9,    334.3,2,   -999.0,9,     2.27,6,     4.13,6,     0.76, 6, -999.000,9, -999.000,9, -999.000,9, -999.000,9, -999.000,9,   -999.0,9,   -999.0,9,   0.9064, 20030713,     2145
  18HU20030713, AR07W,     9,  1, 265615,      7,2,20030713,2139, 44.2695, -63.3193,  145,     30.1,   4.2591,  32.0479,2,-999.0000,9,    336.9,2,   -999.0,9,     0.35,6,     0.18,6,     0.34, 6, -999.000,9, -999.000,9, -999.000,9, -999.000,9, -999.000,9,   -999.0,9,   -999.0,9,   4.2571, 20030713,     2146
  18HU20030713, AR07W,     9,  1, 265616,      8,2,20030713,2139, 44.2695, -63.3193,  145,     19.7,   4.3552,  31.7277,2,-999.0000,9,    351.4,2,   -999.0,9,     0.63,6,     0.19,6,     0.37, 6, -999.000,9, -999.000,9, -999.000,9, -999.000,9, -999.000,9,   -999.0,9,   -999.0,9,   4.3539, 20030713,     2147
  18HU20030713, AR07W,     9,  1, 265617,      9,2,20030713,2139, 44.2695, -63.3193,  145,      9.8,   8.8008,  31.5256,2,-999.0000,9,    327.8,2,   -999.0,9,     0.36,6,     0.10,6,     0.29, 6, -999.000,9, -999.000,9, -999.000,9, -999.000,9, -999.000,9,   -999.0,9,   -999.0,9,   8.7998, 20030713,     2148
  18HU20030713, AR07W,     9,  1, 265618,     10,2,20030713,2139, 44.2695, -63.3193,  145,      3.4,  13.5528,  31.0299,2,-999.0000,9,    280.8,2,   -999.0,9,     0.46,6,     0.09,6,     0.30, 6, -999.000,9, -999.000,9, -999.000,9, -999.000,9, -999.000,9,   -999.0,9,   -999.0,9,  13.5523, 20030713,     2149
  18HU20030713, AR07W,    10,  1, 265619,      1,2,20030714,0019, 43.8825, -62.8832,  290,    253.7,   9.2511,  35.0802,2,-999.0000,9,    108.4,2,   -999.0,9,    22.92,6,    23.27,6,     1.60, 6, -999.000,9, -999.000,9, -999.000,9, -999.000,9, -999.000,9,   -999.0,9,   -999.0,9,   9.2229, 20030714,       19
  18HU20030713, AR07W,    10,  1, 265620,      2,2,20030714,0019, 43.8825, -62.8832,  290,    200.1,   9.6030,  35.0822,2,-999.0000,9,    122.1,2,   -999.0,9,    18.74,6,    21.59,6,     1.42, 6, -999.000,9, -999.000,9, -999.000,9, -999.000,9, -999.000,9,   -999.0,9,   -999.0,9,   9.5803, 20030714,       21
  18HU20030713, AR07W,    10,  1, 265621,      3,2,20030714,0019, 43.8825, -62.8832,  290,     98.6,   8.2724,  34.3460,2,-999.0000,9,    173.7,2,   -999.0,9,    10.25,6,    15.88,6,     1.12, 6, -999.000,9, -999.000,9, -999.000,9, -999.000,9, -999.000,9,   -999.0,9,   -999.0,9,   8.2624, 20030714,       23
  18HU20030713, AR07W,    10,  1, 265622,      4,2,20030714,0019, 43.8825, -62.8832,  290,     80.8,   6.3030,  33.6947,2,-999.0000,9,    205.4,2,   -999.0,9,     8.11,6,    14.02,6,     1.11, 6, -999.000,9, -999.000,9, -999.000,9, -999.000,9, -999.000,9,   -999.0,9,   -999.0,9,   6.2961, 20030714,       24
  18HU20030713, AR07W,    10,  1, 265623,      5,2,20030714,0019, 43.8825, -62.8832,  290,     60.0,   3.5594,  32.8740,2,-999.0000,9,    269.8,2,   -999.0,9,     3.64,6,     9.33,6,     0.92, 6, -999.000,9, -999.000,9, -999.000,9, -999.000,9, -999.000,9,   -999.0,9,   -999.0,9,   3.5557, 20030714,       25
  18HU20030713, AR07W,    10,  1, 265624,      6,2,20030714,0019, 43.8825, -62.8832,  290,     49.1,   2.5642,  32.5513,2,-999.0000,9,    302.5,2,   -999.0,9,     1.92,6,     4.20,6,     0.71, 6, -999.000,9, -999.000,9, -999.000,9, -999.000,9, -999.000,9,   -999.0,9,   -999.0,9,   2.5616, 20030714,       26
  18HU20030713, AR07W,    10,  1, 265625,      7,2,20030714,0019, 43.8825, -62.8832,  290,     39.5,   2.5410,  32.3032,2,-999.0000,9,    345.6,2,   -999.0,9,     0.89,6,     0.18,6,     0.42, 6, -999.000,9, -999.000,9, -999.000,9, -999.000,9, -999.000,9,   -999.0,9,   -999.0,9,   2.5389, 20030714,       27
  18HU20030713, AR07W,    10,  1, 265626,      8,2,20030714,0019, 43.8825, -62.8832,  290,     29.4,   3.7304,  32.1271,2,-999.0000,9,    354.7,2,   -999.0,9,     0.36,6,     0.08,6,     0.36, 6, -999.000,9, -999.000,9, -999.000,9, -999.000,9, -999.000,9,   -999.0,9,   -999.0,9,   3.7286, 20030714,       28
  18HU20030713, AR07W,    10,  1, 265627,      9,2,20030714,0019, 43.8825, -62.8832,  290,     20.2,   8.3168,  31.8059,2,-999.0000,9,    327.8,2,   -999.0,9,     0.00,6,     0.09,6,     0.22, 6, -999.000,9, -999.000,9, -999.000,9, -999.000,9, -999.000,9,   -999.0,9,   -999.0,9,   8.3148, 20030714,       28
  18HU20030713, AR07W,    10,  1, 265628,     10,2,20030714,0019, 43.8825, -62.8832,  290,      9.5,  13.8444,  31.4088,2,-999.0000,9,    290.4,2,   -999.0,9,     0.14,6,     0.09,6,     0.21, 6, -999.000,9, -999.000,9, -999.000,9, -999.000,9, -999.000,9,   -999.0,9,   -999.0,9,  13.8431, 20030714,       29
  18HU20030713, AR07W,    10,  1, 265629,     11,2,20030714,0019, 43.8825, -62.8832,  290,      3.7,  16.1434,  31.3754,2,-999.0000,9,    260.0,2,   -999.0,9,     0.00,6,     0.09,6,     0.20, 6, -999.000,9, -999.000,9, -999.000,9, -999.000,9, -999.000,9,   -999.0,9,   -999.0,9,  16.1428, 20030714,       30
  18HU20030713, AR07W,    16,  1, 265630,      1,2,20030714,0455, 43.4803, -62.4352,   80,     77.3,   4.5148,  33.2041,2,-999.0000,9,    245.4,2,   -999.0,9,     6.87,6,    11.43,6,     1.01, 6, -999.000,9, -999.000,9, -999.000,9, -999.000,9, -999.000,9,   -999.0,9,   -999.0,9,   4.5094, 20030714,      455
  18HU20030713, AR07W,    16,  1, 265631,      2,2,20030714,0455, 43.4803, -62.4352,   80,     60.6,   4.1291,  33.0917,2,-999.0000,9,    253.3,2,   -999.0,9,     6.10,6,    10.69,6,     0.96, 6, -999.000,9, -999.000,9, -999.000,9, -999.000,9, -999.000,9,   -999.0,9,   -999.0,9,   4.1250, 20030714,      457
  18HU20030713, AR07W,    16,  1, 265632,      3,2,20030714,0455, 43.4803, -62.4352,   80,     51.3,   2.4897,  32.6102,2,-999.0000,9,    288.4,2,   -999.0,9,     3.75,6,     7.70,6,     0.86, 6, -999.000,9, -999.000,9, -999.000,9, -999.000,9, -999.000,9,   -999.0,9,   -999.0,9,   2.4870, 20030714,      458
  18HU20030713, AR07W,    16,  1, 265633,      4,2,20030714,0455, 43.4803, -62.4352,   80,     40.4,   1.7144,  32.2828,2,-999.0000,9,    328.0,2,   -999.0,9,     1.89,6,     3.32,6,     0.65, 6, -999.000,9, -999.000,9, -999.000,9, -999.000,9, -999.000,9,   -999.0,9,   -999.0,9,   1.7126, 20030714,      459
  18HU20030713, AR07W,    16,  1, 265634,      5,2,20030714,0455, 43.4803, -62.4352,   80,     31.1,   2.6908,  31.9940,2,-999.0000,9,    360.9,2,   -999.0,9,     0.92,6,     0.20,6,     0.46, 6, -999.000,9, -999.000,9, -999.000,9, -999.000,9, -999.000,9,   -999.0,9,   -999.0,9,   2.6891, 20030714,      500
  18HU20030713, AR07W,    16,  1, 265635,      6,2,20030714,0455, 43.4803, -62.4352,   80,     21.4,   9.3307,  31.7961,2,-999.0000,9,    322.4,2,   -999.0,9,     0.16,6,     0.09,6,     0.24, 6, -999.000,9, -999.000,9, -999.000,9, -999.000,9, -999.000,9,   -999.0,9,   -999.0,9,   9.3284, 20030714,      501
  18HU20030713, AR07W,    16,  1, 265636,      7,2,20030714,0455, 43.4803, -62.4352,   80,     11.4,  15.3541,  31.4825,2,-999.0000,9,    274.7,2,   -999.0,9,     0.00,6,     0.09,6,     0.22, 6, -999.000,9, -999.000,9, -999.000,9, -999.000,9, -999.000,9,   -999.0,9,   -999.0,9,  15.3524, 20030714,      502
  18HU20030713, AR07W,    16,  1, 265637,      8,2,20030714,0455, 43.4803, -62.4352,   80,      1.9,  16.9555,  31.4181,2,-999.0000,9,    249.8,2,   -999.0,9,     0.00,6,     0.09,6,     0.20, 6, -999.000,9, -999.000,9, -999.000,9, -999.000,9, -999.000,9,   -999.0,9,   -999.0,9,  16.9552, 20030714,      502
  18HU20030713, AR07W,    17,  1, 265638,      1,2,20030714,0652, 43.1830, -62.1002,   91,     89.3,   7.7422,  34.3379,2,-999.0000,9,    231.5,2,   -999.0,9,     7.78,6,    12.19,6,     0.89, 6, -999.000,9, -999.000,9, -999.000,9, -999.000,9, -999.000,9,   -999.0,9,   -999.0,9,   7.7335, 20030714,      652
  18HU20030713, AR07W,    17,  1, 265639,      2,2,20030714,0652, 43.1830, -62.1002,   91,     60.2,   6.8338,  33.9161,2,-999.0000,9,    264.4,2,   -999.0,9,     4.13,6,     8.27,6,     0.73, 6, -999.000,9, -999.000,9, -999.000,9, -999.000,9, -999.000,9,   -999.0,9,   -999.0,9,   6.8284, 20030714,      653
  18HU20030713, AR07W,    17,  1, 265640,      3,2,20030714,0652, 43.1830, -62.1002,   91,     50.6,   6.3521,  33.6891,2,-999.0000,9,    273.3,2,   -999.0,9,     3.21,6,     6.58,6,     0.65, 6, -999.000,9, -999.000,9, -999.000,9, -999.000,9, -999.000,9,   -999.0,9,   -999.0,9,   6.3478, 20030714,      654
  18HU20030713, AR07W,    17,  1, 265641,      4,2,20030714,0652, 43.1830, -62.1002,   91,     39.9,   7.4447,  33.6560,2,-999.0000,9,    281.1,2,   -999.0,9,     2.05,6,     3.51,6,     0.49, 6, -999.000,9, -999.000,9, -999.000,9, -999.000,9, -999.000,9,   -999.0,9,   -999.0,9,   7.4410, 20030714,      655
  18HU20030713, AR07W,    17,  1, 265642,      5,2,20030714,0652, 43.1830, -62.1002,   91,     30.0,   8.0973,  33.3424,2,-999.0000,9,    305.8,2,   -999.0,9,     1.11,6,     0.22,6,     0.35, 6, -999.000,9, -999.000,9, -999.000,9, -999.000,9, -999.000,9,   -999.0,9,   -999.0,9,   8.0943, 20030714,      655
  18HU20030713, AR07W,    17,  1, 265643,      6,2,20030714,0652, 43.1830, -62.1002,   91,     21.2,   9.1856,  32.8829,2,-999.0000,9,    321.7,2,   -999.0,9,     0.69,6,     0.00,6,     0.25, 6, -999.000,9, -999.000,9, -999.000,9, -999.000,9, -999.000,9,   -999.0,9,   -999.0,9,   9.1834, 20030714,      656
  18HU20030713, AR07W,    17,  1, 265644,      7,2,20030714,0652, 43.1830, -62.1002,   91,     11.4,  13.3932,  32.5242,2,-999.0000,9,    299.5,2,   -999.0,9,     0.42,6,     0.00,6,     0.22, 6, -999.000,9, -999.000,9, -999.000,9, -999.000,9, -999.000,9,   -999.0,9,   -999.0,9,  13.3916, 20030714,      657
  18HU20030713, AR07W,    17,  1, 265645,      8,2,20030714,0652, 43.1830, -62.1002,   91,      2.9,  17.3495,  31.8278,2,-999.0000,9,    245.2,2,   -999.0,9,     0.00,6,     0.05,6,     0.21, 6, -999.000,9, -999.000,9, -999.000,9, -999.000,9, -999.000,9,   -999.0,9,   -999.0,9,  17.3490, 20030714,      658
  18HU20030713, AR07W,    21,  1, 265646,      1,2,20030714,0854, 43.0827, -61.8663,   91,     91.0,   7.1068,  34.1287,2,-999.0000,9,    255.9,2,   -999.0,9,  -999.00,9,  -999.00,9,  -999.00, 9, -999.000,9, -999.000,9, -999.000,9, -999.000,9, -999.000,9,   -999.0,9,   -999.0,9,   7.0984, 20030714,      854
  18HU20030713, AR07W,    21,  1, 265647,      2,2,20030714,0854, 43.0827, -61.8663,   91,     60.5,   6.7123,  33.8949,2,-999.0000,9,    272.1,2,   -999.0,9,  -999.00,9,  -999.00,9,  -999.00, 9, -999.000,9, -999.000,9, -999.000,9, -999.000,9, -999.000,9,   -999.0,9,   -999.0,9,   6.7069, 20030714,      855
  18HU20030713, AR07W,    21,  1, 265648,      3,2,20030714,0854, 43.0827, -61.8663,   91,     49.5,   6.5345,  33.6452,2,-999.0000,9,    285.1,2,   -999.0,9,  -999.00,9,  -999.00,9,  -999.00, 9, -999.000,9, -999.000,9, -999.000,9, -999.000,9, -999.000,9,   -999.0,9,   -999.0,9,   6.5302, 20030714,      856
  18HU20030713, AR07W,    21,  1, 265649,      4,2,20030714,0854, 43.0827, -61.8663,   91,     40.7,   6.8028,  33.5117,2,-999.0000,9,    295.3,2,   -999.0,9,  -999.00,9,  -999.00,9,  -999.00, 9, -999.000,9, -999.000,9, -999.000,9, -999.000,9, -999.000,9,   -999.0,9,   -999.0,9,   6.7992, 20030714,      857