BOTTLE,20220503SIOCCHCBG
EXPOCODE,SECT_ID,STNNBR,CASTNO,SAMPNO,BTLNBR,BTLNBR_FLAG_W,DATE,TIME,LATITUDE,LONGITUDE,DEPTH,CTDPRS,CTDTMP,CTDSAL,CTDSAL_FLAG_W,SALNTY,SALNTY_FLAG_W,CTDOXY,CTDOXY_FLAG_W,OXYGEN,OXYGEN_FLAG_W,SILCAT,SILCAT_FLAG_W,NO2+NO3,NO2+NO3_FLAG_W,PHSPHT,PHSPHT_FLAG_W,CFC-11,CFC-11_FLAG_W,CFC-12,CFC-12_FLAG_W,CFC113,CFC113_FLAG_W,CCL4,CCL4_FLAG_W,MCHFRM,MCHFRM_FLAG_W,TCARBN,TCARBN_FLAG_W,ALKALI,ALKALI_FLAG_W,THETA,BTL_DATE,BTL_TIME
,,,,,,,,,,,METERS,DBAR,ITS-90,PSS-78,,PSS-78,,UMOL/KG,,UMOL/KG,,UMOL/KG,,UMOL/KG,,UMOL/KG,,PMOL/KG,,PMOL/KG,,PMOL/KG,,PMOL/KG,,PMOL/KG,,UMOL/KG,,UMOL/KG,,DEG C,,
  18HU20030713, AR07W,   293,  1, 266345,      1,2,20030729,1737, 59.7490, -49.1623, 3148,   3268.0,   1.7240,  34.8843,2,  34.8847,2,    292.3,2,    293.3,2,     8.33,6,    12.76,6,     0.94, 6,    4.138,2,    1.911,2,    0.299,4,    3.324,4,    3.393,2,   2160.5,2,   2289.1,2,   1.4747, 20030729,     1737
  18HU20030713, AR07W,   293,  1, 266346,      2,2,20030729,1737, 59.7490, -49.1623, 3148,   3198.2,   1.7508,  34.8847,2,  34.8849,2,    291.6,2,    291.8,2,     8.48,6,    12.85,6,     0.94, 6,    4.125,2,    1.886,2,    0.283,4,    3.263,4,    3.399,2,   2159.9,2,   2293.4,2,   1.5079, 20030729,     1740
  18HU20030713, AR07W,   293,  1, 266347,      3,2,20030729,1737, 59.7490, -49.1623, 3148,   3120.2,   1.7777,  34.8848,2,  34.8851,2,    291.4,2,    290.4,2,     9.34,6,    14.28,6,     0.98, 6,    4.028,2,    1.850,2,    0.265,4,    3.208,4,    3.327,2,   2159.6,2,   2298.2,2,   1.5419, 20030729,     1742
  18HU20030713, AR07W,   293,  1, 266348,      4,2,20030729,1737, 59.7490, -49.1623, 3148,   3020.6,   2.0616,  34.8881,2,  34.8888,2,    286.7,2,    287.2,2,    10.30,6,    13.90,6,     0.99, 6,    3.634,2,    1.582,2,    0.221,4,    2.973,4,    3.297,2,   2160.4,2,   2292.9,2,   1.8293, 20030729,     1744
  18HU20030713, AR07W,   293,  1, 266349,      5,2,20030729,1737, 59.7490, -49.1623, 3148,   2901.1,   2.2651,  34.8948,2,  34.8941,2,    283.6,2,    284.1,2,    11.71,6,    15.32,6,     1.02, 6,    3.381,2,    1.475,2,    0.207,4,    2.787,4,    3.214,2,   2160.4,2,   2299.2,2,   2.0403, 20030729,     1747
  18HU20030713, AR07W,   293,  1, 266350,      6,2,20030729,1737, 59.7490, -49.1623, 3148,   2769.6,   2.4714,  34.9007,2,  34.9008,6,    280.7,2,    281.3,2,    12.09,6,    15.27,6,     1.04, 6,    2.900,2,    1.203,2,    0.208,4,    2.464,4,    2.988,2,   2161.2,2,   2305.1,2,   2.2553, 20030729,     1750
  18HU20030713, AR07W,   293,  1, 266351,      7,2,20030729,1737, 59.7490, -49.1623, 3148,   2620.0,   2.6275,  34.9044,2,  34.9048,2,    279.6,2,    279.7,2,    11.91,6,    15.82,6,     1.06, 6,    2.955,2,    1.191,2,    0.186,4,    2.495,4,    3.065,2,   2159.7,2,   2294.5,2,   2.4229, 20030729,     1753
  18HU20030713, AR07W,   293,  1, 266352,      8,2,20030729,1737, 59.7490, -49.1623, 3148,   2460.1,   2.7842,  34.9054,2,  34.9057,6,    279.2,2,    279.5,2,    10.54,6,    14.63,6,     1.02, 6,    3.073,2,    1.271,2,    0.180,4,    2.592,4,    3.248,2,   2158.8,2,   2300.7,2,   2.5922, 20030729,     1757
  18HU20030713, AR07W,   293,  1, 266353,      9,2,20030729,1737, 59.7490, -49.1623, 3148,   2259.1,   2.9453,  34.9033,2,  34.9036,2,    279.2,2,    280.0,2,    11.19,6,    15.91,6,     1.04, 6,    3.170,2,    1.331,2,    0.215,4,    2.579,4,    3.307,2,   2159.5,2,   2296.6,2,   2.7696, 20030729,     1801
  18HU20030713, AR07W,   293,  1, 266354,     10,2,20030729,1737, 59.7490, -49.1623, 3148,   2060.1,   3.0672,  34.8990,2,  34.8934,2,    279.9,2,    280.6,2,    10.67,6,    15.81,6,     1.05, 6,    3.519,2,    1.504,2,    0.223,4,    2.859,4,    3.662,2,   2159.1,2,   2290.6,2,   2.9082, 20030729,     1805
  18HU20030713, AR07W,   293,  1, 266355,     11,2,20030729,1737, 59.7490, -49.1623, 3148,   1851.3,   3.1680,  34.8909,2,  34.8918,2,    280.9,2,    281.7,2,    10.48,6,    16.53,6,     1.07, 6,    3.773,2,    1.647,2,    0.230,4,    2.962,4,    4.053,2,   2159.1,2,   2284.1,2,   3.0266, 20030729,     1809
  18HU20030713, AR07W,   293,  1, 266356,     12,2,20030729,1737, 59.7490, -49.1623, 3148,   1641.6,   3.2377,  34.8833,2,  34.8839,2,    280.6,2,    281.2,2,    10.46,6,    16.15,6,     1.08, 6,    3.741,2,    1.632,2,    0.234,4,    2.935,4,    4.148,2,   2159.7,2,   -999.0,9,   3.1141, 20030729,     1814
  18HU20030713, AR07W,   293,  1, 266357,     13,2,20030729,1737, 59.7490, -49.1623, 3148,   1431.3,   3.4893,  34.9035,2,-999.0000,9,    276.5,2,   -999.0,9,  -999.00,9,  -999.00,9,  -999.00, 9, -999.000,9, -999.000,9, -999.000,9, -999.000,9, -999.000,9,   -999.0,9,   -999.0,9,   3.3810, 20030729,     1818
  18HU20030713, AR07W,   293,  1, 266358,     14,2,20030729,1737, 59.7490, -49.1623, 3148,   1231.7,   3.5755,  34.8970,2,  34.8975,2,    277.5,2,    277.7,6,     7.81,6,    13.11,6,     0.95, 6,    4.248,2,    1.957,2,    0.282,4,    3.267,4,    3.695,2,   2161.2,2,   2263.7,4,   3.4834, 20030729,     1822
  18HU20030713, AR07W,   293,  1, 266359,     15,2,20030729,1737, 59.7490, -49.1623, 3148,   1032.4,   3.5336,  34.8754,2,  34.8755,2,    283.8,2,    284.2,2,     8.34,6,    15.07,6,     1.04, 6,    4.450,2,    2.175,2,    0.313,4,    3.405,4,    3.189,2,   2159.1,2,   2288.8,2,   3.4583, 20030729,     1826
  18HU20030713, AR07W,   293,  1, 266360,     16,2,20030729,1737, 59.7490, -49.1623, 3148,    841.5,   3.6654,  34.8797,2,  34.8796,2,    283.3,2,    283.5,2,     9.11,6,    16.38,6,     1.09, 6,    4.698,2,    2.318,2,    0.307,4,    3.665,4,    3.232,2,   2158.7,2,   2291.7,3,   3.6044, 20030729,     1831
  18HU20030713, AR07W,   293,  1, 266361,     17,2,20030729,1737, 59.7490, -49.1623, 3148,    661.6,   3.8626,  34.8878,2,  34.8884,2,    285.2,2,    285.1,2,  -999.00,9,  -999.00,9,  -999.00, 9,    4.781,2,    2.376,2,    0.359,4,    3.717,4,    2.859,2,   2161.0,2,   2295.1,2,   3.8145, 20030729,     1834
  18HU20030713, AR07W,   293,  1, 266362,     18,2,20030729,1737, 59.7490, -49.1623, 3148,    480.9,   4.2758,  34.9171,2,  34.9178,2,    277.4,2,    276.9,2,     9.28,6,    16.05,6,     1.06, 6,    4.498,2,    2.208,2,    0.305,4,    3.448,4,    2.777,2,   2159.9,2,   2299.0,2,   4.2399, 20030729,     1838
  18HU20030713, AR07W,   293,  1, 266363,     19,2,20030729,1737, 59.7490, -49.1623, 3148,    329.9,   4.5588,  34.9216,2,  34.9221,2,    280.9,2,    281.1,2,     8.65,6,    16.13,6,     1.06, 6,    4.748,2,    2.383,2,    0.349,4,    3.647,4,    2.442,2,   2156.8,2,   2294.8,2,   4.5338, 20030729,     1841
  18HU20030713, AR07W,   293,  1, 266364,     20,2,20030729,1737, 59.7490, -49.1623, 3148,    210.2,   4.6865,  34.8970,2,-999.0000,9,    284.6,2,    284.4,2,     7.96,6,    15.42,6,     1.02, 6,    5.063,2,    2.610,2,    0.369,4,    3.901,4,    2.225,2,   2154.6,2,   2294.3,2,   4.6706, 20030729,     1844
  18HU20030713, AR07W,   293,  1, 266365,     21,2,20030729,1737, 59.7490, -49.1623, 3148,    109.6,   5.4777,  34.9223,2,-999.0000,9,    285.9,2,    286.2,2,     7.04,6,    13.92,6,     0.95, 6,    4.789,2,    2.487,2,    0.395,4,    3.753,4,    1.937,2,   2146.4,2,   2299.3,2,   5.4688, 20030729,     1846
  18HU20030713, AR07W,   293,  1, 266366,     22,2,20030729,1737, 59.7490, -49.1623, 3148,     49.7,   5.2483,  34.6968,2,-999.0000,9,    300.4,2,    301.2,2,     2.44,6,     5.67,6,     0.70, 6,    5.536,2,    2.906,2,    0.411,4,    4.420,4,    1.970,2,   2116.5,2,   2301.7,2,   5.2444, 20030729,     1848
  18HU20030713, AR07W,   293,  1, 266367,     23,2,20030729,1737, 59.7490, -49.1623, 3148,     25.7,   7.7066,  34.5255,2,-999.0000,9,    309.0,2,    310.4,2,     0.64,6,     0.18,6,     0.24, 6,    4.998,2,    2.608,2,    0.426,4,    3.863,4,    1.687,2,    866.6,4,   2298.1,2,   7.7041, 20030729,     1850
  18HU20030713, AR07W,   293,  1, 266368,     24,2,20030729,1737, 59.7490, -49.1623, 3148,      2.9,   8.8221,  34.3320,2,-999.0000,9,    310.3,2,    311.0,2,     0.99,6,     0.13,6,     0.22, 6,    5.017,2,    2.611,2,    0.416,4,    4.116,4,    1.679,2,   2044.2,2,   2290.1,2,   8.8218, 20030729,     1851
  18HU20030713, AR07W,   353,  1, 266369,      1,2,20030730,1250, 57.7380, -49.4043, 3499,    201.2,   4.7740,  34.9287,2,-999.0000,9,    284.5,2,   -999.0,9,     8.29,6,    15.86,6,     1.08, 6, -999.000,9, -999.000,9, -999.000,9, -999.000,9, -999.000,9,   -999.0,9,   -999.0,9,   4.7586, 20030730,     1250
  18HU20030713, AR07W,   353,  1, 266370,      2,2,20030730,1250, 57.7380, -49.4043, 3499,    150.2,   5.1773,  34.9575,2,-999.0000,9,    284.7,2,   -999.0,9,     7.46,6,    14.69,6,     1.02, 6, -999.000,9, -999.000,9, -999.000,9, -999.000,9, -999.000,9,   -999.0,9,   -999.0,9,   5.1654, 20030730,     1252
  18HU20030713, AR07W,   353,  1, 266371,      3,2,20030730,1250, 57.7380, -49.4043, 3499,    100.1,   5.5548,  34.9740,2,-999.0000,9,    285.6,2,   -999.0,9,     7.20,6,    14.76,6,     0.98, 6, -999.000,9, -999.000,9, -999.000,9, -999.000,9, -999.000,9,   -999.0,9,   -999.0,9,   5.5466, 20030730,     1254
  18HU20030713, AR07W,   353,  1, 266372,      4,2,20030730,1250, 57.7380, -49.4043, 3499,     80.3,   5.5524,  34.9583,2,-999.0000,9,    288.6,2,   -999.0,9,     9.00,3,    14.36,3,     1.01, 3, -999.000,9, -999.000,9, -999.000,9, -999.000,9, -999.000,9,   -999.0,9,   -999.0,9,   5.5458, 20030730,     1255
  18HU20030713, AR07W,   353,  1, 266373,      5,2,20030730,1250, 57.7380, -49.4043, 3499,     59.2,   5.7247,  34.9518,2,-999.0000,9,    291.2,2,   -999.0,9,     7.24,6,    12.34,6,     0.97, 6, -999.000,9, -999.000,9, -999.000,9, -999.000,9, -999.000,9,   -999.0,9,   -999.0,9,   5.7198, 20030730,     1256
  18HU20030713, AR07W,   353,  1, 266374,      6,2,20030730,1250, 57.7380, -49.4043, 3499,     49.5,   5.8223,  34.9398,2,-999.0000,9,    293.7,2,   -999.0,9,     7.02,6,    10.76,6,     0.92, 6, -999.000,9, -999.000,9, -999.000,9, -999.000,9, -999.000,9,   -999.0,9,   -999.0,9,   5.8182, 20030730,     1257
  18HU20030713, AR07W,   353,  1, 266375,      7,2,20030730,1250, 57.7380, -49.4043, 3499,     40.4,   6.5249,  34.8510,2,-999.0000,9,    300.5,2,   -999.0,9,     3.88,6,     7.57,6,     0.76, 6, -999.000,9, -999.000,9, -999.000,9, -999.000,9, -999.000,9,   -999.0,9,   -999.0,9,   6.5213, 20030730,     1258
  18HU20030713, AR07W,   353,  1, 266376,      8,2,20030730,1250, 57.7380, -49.4043, 3499,     29.8,   7.5464,  34.7960,2,-999.0000,9,    311.1,2,   -999.0,9,     1.34,6,     5.00,6,     0.53, 6, -999.000,9, -999.000,9, -999.000,9, -999.000,9, -999.000,9,   -999.0,9,   -999.0,9,   7.5435, 20030730,     1259
  18HU20030713, AR07W,   353,  1, 266377,      9,2,20030730,1250, 57.7380, -49.4043, 3499,     30.2,   7.6211,  34.7918,2,-999.0000,9,    313.5,2,   -999.0,9,  -999.00,9,  -999.00,9,  -999.00, 9, -999.000,9, -999.000,9, -999.000,9, -999.000,9, -999.000,9,   -999.0,9,   -999.0,9,   7.6182, 20030730,     1259
  18HU20030713, AR07W,   353,  1, 266378,     10,2,20030730,1250, 57.7380, -49.4043, 3499,     29.6,   7.6298,  34.7889,2,-999.0000,9,    314.5,2,   -999.0,9,  -999.00,9,  -999.00,9,  -999.00, 9, -999.000,9, -999.000,9, -999.000,9, -999.000,9, -999.000,9,   -999.0,9,   -999.0,9,   7.6269, 20030730,     1259
  18HU20030713, AR07W,   353,  1, 266379,     11,2,20030730,1250, 57.7380, -49.4043, 3499,     20.2,   9.0989,  34.7493,2,-999.0000,9,    302.5,2,   -999.0,9,     0.84,6,     3.20,6,     0.41, 6, -999.000,9, -999.000,9, -999.000,9, -999.000,9, -999.000,9,   -999.0,9,   -999.0,9,   9.0967, 20030730,     1300
  18HU20030713, AR07W,   353,  1, 266380,     12,2,20030730,1250, 57.7380, -49.4043, 3499,     10.8,   9.6703,  34.7545,2,-999.0000,9,    291.9,2,   -999.0,9,     1.00,6,     3.43,6,     0.42, 6, -999.000,9, -999.000,9, -999.000,9, -999.000,9, -999.000,9,   -999.0,9,   -999.0,9,   9.6691, 20030730,     1301
  18HU20030713, AR07W,   353,  1, 266381,     13,2,20030730,1250, 57.7380, -49.4043, 3499,      3.8,   9.6804,  34.7556,2,-999.0000,9,    287.2,2,   -999.0,9,     0.88,6,     3.51,6,     0.41, 6, -999.000,9, -999.000,9, -999.000,9, -999.000,9, -999.000,9,   -999.0,9,   -999.0,9,   9.6800, 20030730,     1302
  18HU20030713, AR07W,   353,  1, 266382,     14,2,20030730,1250, 57.7380, -49.4043, 3499,      4.0,   9.6871,  34.7557,2,-999.0000,9,    289.7,2,   -999.0,9,  -999.00,9,  -999.00,9,  -999.00, 9, -999.000,9, -999.000,9, -999.000,9, -999.000,9, -999.000,9,   -999.0,9,   -999.0,9,   9.6867, 20030730,     1302
  18HU20030713, AR07W,   353,  1, 266383,     15,2,20030730,1250, 57.7380, -49.4043, 3499,      3.2,   9.6883,  34.7559,2,-999.0000,9,    290.3,2,   -999.0,9,  -999.00,9,  -999.00,9,  -999.00, 9, -999.000,9, -999.000,9, -999.000,9, -999.000,9, -999.000,9,   -999.0,9,   -999.0,9,   9.6879, 20030730,     1302
  18HU20030713, AR07W,   353,  1, 266384,     16,2,20030730,1250, 57.7380, -49.4043, 3499,      3.6,   9.6811,  34.7559,2,-999.0000,9,    290.3,2,   -999.0,9,  -999.00,9,  -999.00,9,  -999.00, 9, -999.000,9, -999.000,9, -999.000,9, -999.000,9, -999.000,9,   -999.0,9,   -999.0,9,   9.6807, 20030730,     1302
  18HU20030713, AR07W,   353,  1, 266385,     17,2,20030730,1250, 57.7380, -49.4043, 3499,      3.5,   9.6814,  34.7561,2,-999.0000,9,    290.6,2,   -999.0,9,  -999.00,9,  -999.00,9,  -999.00, 9, -999.000,9, -999.000,9, -999.000,9, -999.000,9, -999.000,9,   -999.0,9,   -999.0,9,   9.6810, 20030730,     1303
  18HU20030713, AR07W,   433,  1, 266386,      1,2,20030731,0957, 53.4493, -49.4990, 3499,    201.9,   4.6478,  34.8259,2,-999.0000,9,    287.6,2,   -999.0,9,     8.60,6,    15.67,6,     1.08, 6, -999.000,9, -999.000,9, -999.000,9, -999.000,9, -999.000,9,   -999.0,9,   -999.0,9,   4.6326, 20030731,      957
  18HU20030713, AR07W,   433,  1, 266387,      2,2,20030731,0957, 53.4493, -49.4990, 3499,    150.7,   5.1942,  34.8520,2,-999.0000,9,    285.8,2,   -999.0,9,     8.32,6,    15.18,6,     1.04, 6, -999.000,9, -999.000,9, -999.000,9, -999.000,9, -999.000,9,   -999.0,9,   -999.0,9,   5.1823, 20030731,      958
  18HU20030713, AR07W,   433,  1, 266388,      3,2,20030731,0957, 53.4493, -49.4990, 3499,    100.4,   5.8804,  34.8987,2,-999.0000,9,    282.9,2,   -999.0,9,     8.22,6,    14.83,6,     1.04, 6, -999.000,9, -999.000,9, -999.000,9, -999.000,9, -999.000,9,   -999.0,9,   -999.0,9,   5.8719, 20030731,     1000
  18HU20030713, AR07W,   433,  1, 266389,      4,2,20030731,0957, 53.4493, -49.4990, 3499,     80.4,   6.1363,  34.9109,2,-999.0000,9,    278.4,2,   -999.0,9,     8.47,6,    15.43,6,     1.03, 6, -999.000,9, -999.000,9, -999.000,9, -999.000,9, -999.000,9,   -999.0,9,   -999.0,9,   6.1294, 20030731,     1001
  18HU20030713, AR07W,   433,  1, 266390,      5,2,20030731,0957, 53.4493, -49.4990, 3499,     59.4,   6.8645,  34.9560,2,-999.0000,9,    269.1,2,   -999.0,9,     8.24,6,    14.36,6,     1.00, 6, -999.000,9, -999.000,9, -999.000,9, -999.000,9, -999.000,9,   -999.0,9,   -999.0,9,   6.8591, 20030731,     1002
  18HU20030713, AR07W,   433,  1, 266391,      6,2,20030731,0957, 53.4493, -49.4990, 3499,     50.5,   7.4786,  34.9886,2,-999.0000,9,    265.0,2,   -999.0,9,     7.22,6,    14.34,6,     0.99, 6, -999.000,9, -999.000,9, -999.000,9, -999.000,9, -999.000,9,   -999.0,9,   -999.0,9,   7.4737, 20030731,     1003
  18HU20030713, AR07W,   433,  1, 266392,      7,2,20030731,0957, 53.4493, -49.4990, 3499,     39.0,   8.7995,  34.9750,2,-999.0000,9,    279.3,2,   -999.0,9,  -999.00,9,  -999.00,9,  -999.00, 9, -999.000,9, -999.000,9, -999.000,9, -999.000,9, -999.000,9,   -999.0,9,   -999.0,9,   8.7954, 20030731,     1004
  18HU20030713, AR07W,   433,  1, 266393,      8,2,20030731,0957, 53.4493, -49.4990, 3499,     29.7,   8.8534,  34.8830,2,-999.0000,9,    292.4,2,   -999.0,9,  -999.00,9,  -999.00,9,  -999.00, 9, -999.000,9, -999.000,9, -999.000,9, -999.000,9, -999.000,9,   -999.0,9,   -999.0,9,   8.8502, 20030731,     1005
  18HU20030713, AR07W,   433,  1, 266394,      9,2,20030731,0957, 53.4493, -49.4990, 3499,     29.2,   9.0061,  34.8804,2,-999.0000,9,    294.4,2,   -999.0,9,  -999.00,9,  -999.00,9,  -999.00, 9, -999.000,9, -999.000,9, -999.000,9, -999.000,9, -999.000,9,   -999.0,9,   -999.0,9,   9.0030, 20030731,     1006
  18HU20030713, AR07W,   433,  1, 266395,     10,2,20030731,0957, 53.4493, -49.4990, 3499,     29.9,   9.0651,  34.8847,2,-999.0000,9,    295.1,2,   -999.0,9,  -999.00,9,  -999.00,9,  -999.00, 9, -999.000,9, -999.000,9, -999.000,9, -999.000,9, -999.000,9,   -999.0,9,   -999.0,9,   9.0619, 20030731,     1008
  18HU20030713, AR07W,   433,  1, 266396,     11,2,20030731,0957, 53.4493, -49.4990, 3499,     20.5,  10.4933,  34.8375,2,-999.0000,9,    288.5,2,   -999.0,9,     1.51,6,     5.42,6,     0.49, 6, -999.000,9, -999.000,9, -999.000,9, -999.000,9, -999.000,9,   -999.0,9,   -999.0,9,  10.4909, 20030731,     1009
  18HU20030713, AR07W,   433,  1, 266397,     12,2,20030731,0957, 53.4493, -49.4990, 3499,     10.1,  10.9042,  34.8249,2,-999.0000,9,    283.3,2,   -999.0,9,     2.63,6,     5.03,6,     0.47, 6, -999.000,9, -999.000,9, -999.000,9, -999.000,9, -999.000,9,   -999.0,9,   -999.0,9,  10.9030, 20030731,     1010
  18HU20030713, AR07W,   433,  1, 266398,     13,2,20030731,0957, 53.4493, -49.4990, 3499,      3.7,  10.9408,  34.8236,2,-999.0000,9,    283.0,2,   -999.0,9,     1.51,3,     4.90,3,     0.46, 3, -999.000,9, -999.000,9, -999.000,9, -999.000,9, -999.000,9,   -999.0,9,   -999.0,9,  10.9404, 20030731,     1011
  18HU20030713, AR07W,   433,  1, 266399,     14,2,20030731,0957, 53.4493, -49.4990, 3499,      4.2,  10.9407,  34.8237,2,-999.0000,9,    283.1,2,   -999.0,9,  -999.00,9,  -999.00,9,  -999.00, 9, -999.000,9, -999.000,9, -999.000,9, -999.000,9, -999.000,9,   -999.0,9,   -999.0,9,  10.9402, 20030731,     1011
  18HU20030713, AR07W,   433,  1, 266400,     15,2,20030731,0957, 53.4493, -49.4990, 3499,      3.7,  10.9390,  34.8239,2,-999.0000,9,    283.1,2,   -999.0,9,  -999.00,9,  -999.00,9,  -999.00, 9, -999.000,9, -999.000,9, -999.000,9, -999.000,9, -999.000,9,   -999.0,9,   -999.0,9,  10.9386, 20030731,     1011
  18HU20030713, AR07W,   433,  1, 266401,     16,2,20030731,0957, 53.4493, -49.4990, 3499,      3.5,  10.9371,  34.8241,2,-999.0000,9,    283.2,2,   -999.0,9,  -999.00,9,  -999.00,9,  -999.00, 9, -999.000,9, -999.000,9, -999.000,9, -999.000,9, -999.000,9,   -999.0,9,   -999.0,9,  10.9367, 20030731,     1012
  18HU20030713, AR07W,   433,  1, 266402,     17,2,20030731,0957, 53.4493, -49.4990, 3499,      4.0,  10.9360,  34.8241,2,-999.0000,9,    283.3,2,   -999.0,9,  -999.00,9,  -999.00,9,  -999.00, 9, -999.000,9, -999.000,9, -999.000,9, -999.000,9, -999.000,9,   -999.0,9,   -999.0,9,  10.9355, 20030731,     1012