BOTTLE,20220503SIOCCHCBG
EXPOCODE,SECT_ID,STNNBR,CASTNO,SAMPNO,BTLNBR,BTLNBR_FLAG_W,DATE,TIME,LATITUDE,LONGITUDE,DEPTH,CTDPRS,CTDTMP,CTDSAL,CTDSAL_FLAG_W,SALNTY,SALNTY_FLAG_W,CTDOXY,CTDOXY_FLAG_W,OXYGEN,OXYGEN_FLAG_W,SILCAT,SILCAT_FLAG_W,NO2+NO3,NO2+NO3_FLAG_W,PHSPHT,PHSPHT_FLAG_W,CFC-11,CFC-11_FLAG_W,CFC-12,CFC-12_FLAG_W,CFC113,CFC113_FLAG_W,CCL4,CCL4_FLAG_W,MCHFRM,MCHFRM_FLAG_W,TCARBN,TCARBN_FLAG_W,ALKALI,ALKALI_FLAG_W,THETA,BTL_DATE,BTL_TIME
,,,,,,,,,,,METERS,DBAR,ITS-90,PSS-78,,PSS-78,,UMOL/KG,,UMOL/KG,,UMOL/KG,,UMOL/KG,,UMOL/KG,,PMOL/KG,,PMOL/KG,,PMOL/KG,,PMOL/KG,,PMOL/KG,,UMOL/KG,,UMOL/KG,,DEG C,,
  18HU20030713, AR07W,    89,  1, 265710,      1,2,20030723,1737, 53.7958, -55.4368,  206,    201.0,  -0.1697,  33.6873,2,-999.0000,9,    303.3,2,    309.1,2,    10.04,6,    10.91,6,     0.94, 6,    6.214,2,    3.551,2,    0.435,4,    6.087,4,    4.725,2,   2125.7,2,   2247.2,2,  -0.1765, 20030723,     1737
  18HU20030713, AR07W,    89,  1, 265711,      2,2,20030723,1737, 53.7958, -55.4368,  206,    182.2,  -0.7909,  33.4783,2,-999.0000,9,    311.2,2,    312.2,2,     9.70,6,    10.10,6,     0.93, 6,    6.412,2,    3.638,2,    0.446,4,    6.440,4,    7.149,2,   2120.6,2,   2245.2,2,  -0.7960, 20030723,     1738
  18HU20030713, AR07W,    89,  1, 265712,      3,2,20030723,1737, 53.7958, -55.4368,  206,    151.5,  -1.0592,  33.2949,2,-999.0000,9,    314.4,2,    315.9,6,     9.72,6,     9.24,6,     0.92, 6,    6.466,2,    3.654,2,    0.454,4,    6.264,4,    5.207,2,   2120.1,2,   2248.7,2,  -1.0630, 20030723,     1738
  18HU20030713, AR07W,    89,  1, 265713,      4,2,20030723,1737, 53.7958, -55.4368,  206,    125.0,  -1.2192,  33.1496,2,-999.0000,9,    317.0,2,    318.3,2,    10.02,6,     8.99,6,     0.92, 6,    6.540,2,    3.666,2,    0.484,4,    6.331,4,    5.410,2,   2120.0,2,   2252.3,2,  -1.2221, 20030723,     1739
  18HU20030713, AR07W,    89,  1, 265714,      5,2,20030723,1737, 53.7958, -55.4368,  206,    100.4,  -1.2918,  32.9905,2,-999.0000,9,    315.8,2,    316.8,2,     9.92,6,     8.76,6,     0.96, 6,    6.590,2,    3.717,2,    0.457,4,    6.187,4,    5.391,2,   2122.3,2,   2240.7,2,  -1.2940, 20030723,     1740
  18HU20030713, AR07W,    89,  1, 265715,      6,2,20030723,1737, 53.7958, -55.4368,  206,     81.3,  -1.3134,  32.8855,2,-999.0000,9,    317.2,2,   -999.0,9,     9.36,6,     8.15,6,     0.95, 6, -999.000,9, -999.000,9, -999.000,9, -999.000,9, -999.000,9,   -999.0,9,   -999.0,9,  -1.3151, 20030723,     1741
  18HU20030713, AR07W,    89,  1, 265716,      7,2,20030723,1737, 53.7958, -55.4368,  206,     58.5,  -1.3268,  32.7081,2,-999.0000,9,    323.8,2,   -999.0,9,     7.40,6,     6.77,6,     0.95, 6, -999.000,9, -999.000,9, -999.000,9, -999.000,9, -999.000,9,   -999.0,9,   -999.0,9,  -1.3280, 20030723,     1742
  18HU20030713, AR07W,    89,  1, 265717,      8,2,20030723,1737, 53.7958, -55.4368,  206,     48.9,  -1.3173,  32.5848,2,-999.0000,9,    326.6,2,    331.4,2,     6.94,6,     6.40,6,     0.90, 6,    6.846,2,    3.842,2,    0.503,4,    6.652,4,    5.170,2,   2109.6,2,   2222.7,2,  -1.3183, 20030723,     1742
  18HU20030713, AR07W,    89,  1, 265718,      9,2,20030723,1737, 53.7958, -55.4368,  206,     40.3,  -0.9649,  32.4061,2,-999.0000,9,    336.4,2,   -999.0,9,     4.77,6,     4.65,6,     0.84, 6, -999.000,9, -999.000,9, -999.000,9, -999.000,9, -999.000,9,   -999.0,9,   -999.0,9,  -0.9658, 20030723,     1743
  18HU20030713, AR07W,    89,  1, 265719,     10,2,20030723,1737, 53.7958, -55.4368,  206,     30.3,  -0.2612,  32.2409,2,-999.0000,9,    361.4,2,   -999.0,9,     1.94,6,     1.74,6,     0.64, 6, -999.000,9, -999.000,9, -999.000,9, -999.000,9, -999.000,9,   -999.0,9,   -999.0,9,  -0.2621, 20030723,     1744
  18HU20030713, AR07W,    89,  1, 265720,     11,2,20030723,1737, 53.7958, -55.4368,  206,     19.0,   1.9306,  31.7969,2,-999.0000,9,    371.6,2,   -999.0,9,     0.94,6,     0.21,6,     0.39, 6, -999.000,9, -999.000,9, -999.000,9, -999.000,9, -999.000,9,   -999.0,9,   -999.0,9,   1.9297, 20030723,     1744
  18HU20030713, AR07W,    89,  1, 265721,     12,2,20030723,1737, 53.7958, -55.4368,  206,      9.5,   5.2871,  30.7555,2,-999.0000,9,    358.4,2,    344.8,2,     0.62,6,     0.00,6,     0.23, 6,    6.060,2,    3.517,2,    0.469,4,    6.541,4,    3.532,2,   1939.3,2,   2114.0,2,   5.2864, 20030723,     1745
  18HU20030713, AR07W,    89,  1, 265722,     13,2,20030723,1737, 53.7958, -55.4368,  206,      3.3,   9.4864,  29.8993,3,-999.0000,9,    313.8,2,   -999.0,9,     0.93,6,     0.00,6,     0.19, 6, -999.000,9, -999.000,9, -999.000,9, -999.000,9, -999.000,9,   -999.0,9,   -999.0,9,-999.0000, 20030723,     1745
  18HU20030713, AR07W,    92,  1, 265723,      1,2,20030723,1933, 53.9872, -55.2487,  149,    146.1,  -0.7929,  33.4570,2,-999.0000,9,    313.3,2,    314.0,2,     9.56,6,     9.88,6,     0.92, 6,    6.487,2,    4.062,4,    0.438,4,    7.445,4,    6.527,2,   2120.9,2,   2238.6,2,  -0.7969, 20030723,     1933
  18HU20030713, AR07W,    92,  1, 265724,      2,2,20030723,1933, 53.9872, -55.2487,  149,    124.0,  -0.9596,  33.3761,2,-999.0000,9,    316.5,2,    317.8,2,     9.11,6,     9.36,6,     0.92, 6,    6.441,2,    4.159,4,    0.460,4,    7.234,4,    6.641,2,   2117.5,2,   2239.9,2,  -0.9628, 20030723,     1934
  18HU20030713, AR07W,    92,  1, 265725,      3,2,20030723,1933, 53.9872, -55.2487,  149,    102.1,  -1.1491,  33.2329,2,-999.0000,9,    317.3,2,    318.6,6,     9.34,6,     9.26,6,     0.92, 6,    6.415,2,    4.799,4,    0.321,4,    7.738,4,    7.037,2,   2119.3,2,   2249.8,2,  -1.1515, 20030723,     1935
  18HU20030713, AR07W,    92,  1, 265726,      4,2,20030723,1933, 53.9872, -55.2487,  149,     79.7,  -1.2693,  33.0660,2,-999.0000,9,    318.7,2,   -999.0,9,     9.49,6,     8.63,6,     0.92, 6, -999.000,9, -999.000,9, -999.000,9, -999.000,9, -999.000,9,   -999.0,9,   -999.0,9,  -1.2710, 20030723,     1936
  18HU20030713, AR07W,    92,  1, 265727,      5,2,20030723,1933, 53.9872, -55.2487,  149,     61.4,  -1.3184,  32.9364,2,-999.0000,9,    317.1,2,   -999.0,9,     9.92,6,     8.53,6,     0.96, 6, -999.000,9, -999.000,9, -999.000,9, -999.000,9, -999.000,9,   -999.0,9,   -999.0,9,  -1.3197, 20030723,     1937
  18HU20030713, AR07W,    92,  1, 265728,      6,2,20030723,1933, 53.9872, -55.2487,  149,     50.4,  -1.3684,  32.8459,2,-999.0000,9,    318.6,2,    320.7,2,     9.60,6,     8.19,6,     0.97, 6,    6.672,2,    4.043,3,    0.463,4,    7.780,4,    6.855,2,   2118.8,2,   2228.7,2,  -1.3694, 20030723,     1937
  18HU20030713, AR07W,    92,  1, 265729,      7,2,20030723,1933, 53.9872, -55.2487,  149,     39.5,  -1.3695,  32.7547,2,-999.0000,9,    319.8,2,   -999.0,9,     9.16,6,     7.89,6,     0.96, 6, -999.000,9, -999.000,9, -999.000,9, -999.000,9, -999.000,9,   -999.0,9,   -999.0,9,  -1.3703, 20030723,     1938
  18HU20030713, AR07W,    92,  1, 265730,      8,2,20030723,1933, 53.9872, -55.2487,  149,     29.0,  -0.8344,  32.5146,2,-999.0000,9,    326.3,2,   -999.0,9,     5.23,6,     4.51,6,     0.83, 6, -999.000,9, -999.000,9, -999.000,9, -999.000,9, -999.000,9,   -999.0,9,   -999.0,9,  -0.8351, 20030723,     1938
  18HU20030713, AR07W,    92,  1, 265731,      9,2,20030723,1933, 53.9872, -55.2487,  149,     19.9,   0.5960,  32.1731,2,-999.0000,9,    361.8,2,   -999.0,9,     2.13,6,     1.15,6,     0.55, 6, -999.000,9, -999.000,9, -999.000,9, -999.000,9, -999.000,9,   -999.0,9,   -999.0,9,   0.5953, 20030723,     1939
  18HU20030713, AR07W,    92,  1, 265732,     10,2,20030723,1933, 53.9872, -55.2487,  149,      9.5,   5.1165,  31.5894,2,-999.0000,9,    353.6,2,    341.6,2,     1.23,6,     0.00,6,     0.28, 6,    6.146,2,    4.899,4,    0.424,4,    7.660,4,    4.445,2,   1974.7,2,   2168.1,2,   5.1158, 20030723,     1940
  18HU20030713, AR07W,    92,  1, 265733,     11,2,20030723,1933, 53.9872, -55.2487,  149,      3.0,   8.8330,  31.1076,2,-999.0000,9,    322.5,2,   -999.0,9,     0.92,6,     0.00,6,     0.25, 6, -999.000,9, -999.000,9, -999.000,9, -999.000,9, -999.000,9,   -999.0,9,   -999.0,9,   8.8327, 20030723,     1940
  18HU20030713, AR07W,    95,  1, 265734,      1,2,20030723,2143, 54.2203, -55.0218,  171,    162.3,  -0.0087,  33.7264,2,-999.0000,9,    299.8,2,    299.1,2,    11.60,6,    10.88,6,     0.97, 6,    6.101,2,    3.520,2,    0.412,4,    5.969,4,    4.593,2,   -999.0,9,   2250.8,2,  -0.0144, 20030723,     2143
  18HU20030713, AR07W,    95,  1, 265735,      2,2,20030723,2143, 54.2203, -55.0218,  171,    140.2,  -0.3090,  33.6380,2,-999.0000,9,    305.8,2,    306.4,2,    10.53,6,    10.61,6,     0.94, 6,    6.197,2,    3.530,2,    0.418,4,    6.028,4,    4.602,2,   -999.0,9,   2246.5,2,  -0.3135, 20030723,     2144
  18HU20030713, AR07W,    95,  1, 265736,      3,2,20030723,2143, 54.2203, -55.0218,  171,    120.9,  -0.7361,  33.4327,2,-999.0000,9,    322.1,2,    323.2,6,     8.26,6,     9.02,6,     0.86, 6,    6.405,2,    3.640,2,    0.462,4,    6.227,4,    4.832,2,   -999.0,9,   -999.0,9,  -0.7394, 20030723,     2145
  18HU20030713, AR07W,    95,  1, 265737,      4,2,20030723,2143, 54.2203, -55.0218,  171,    100.5,  -1.1197,  33.2766,2,-999.0000,9,    318.9,2,    320.9,2,     9.14,6,     9.03,6,     0.90, 6,    6.518,2,    3.662,2,    0.444,4,    6.256,4,    5.180,2,   -999.0,9,   2234.8,2,  -1.1221, 20030723,     2146
  18HU20030713, AR07W,    95,  1, 265738,      5,2,20030723,2143, 54.2203, -55.0218,  171,     79.4,  -1.1730,  33.1285,2,-999.0000,9,    318.2,2,   -999.0,9,     9.60,6,     8.72,6,     0.93, 6, -999.000,9, -999.000,9, -999.000,9, -999.000,9, -999.000,9,   -999.0,9,   -999.0,9,  -1.1748, 20030723,     2147
  18HU20030713, AR07W,    95,  1, 265739,      6,2,20030723,2143, 54.2203, -55.0218,  171,     60.1,  -1.2540,  32.9900,2,-999.0000,9,    317.9,2,   -999.0,9,     9.39,6,     8.25,6,     0.93, 6, -999.000,9, -999.000,9, -999.000,9, -999.000,9, -999.000,9,   -999.0,9,   -999.0,9,  -1.2553, 20030723,     2149
  18HU20030713, AR07W,    95,  1, 265740,      7,2,20030723,2143, 54.2203, -55.0218,  171,     50.4,  -1.2579,  32.9330,2,-999.0000,9,    317.2,2,    318.3,2,     9.56,6,     8.43,6,     0.95, 6,    6.625,2,    3.710,2,    0.479,4,    6.203,4,    5.355,2,   -999.0,9,   2232.9,2,  -1.2590, 20030723,     2150
  18HU20030713, AR07W,    95,  1, 265741,      8,2,20030723,2143, 54.2203, -55.0218,  171,     40.3,  -0.3820,  32.8487,2,-999.0000,9,    336.7,2,   -999.0,9,     5.18,6,     5.22,6,     0.77, 6, -999.000,9, -999.000,9, -999.000,9, -999.000,9, -999.000,9,   -999.0,9,   -999.0,9,  -0.3832, 20030723,     2151
  18HU20030713, AR07W,    95,  1, 265742,      9,2,20030723,2143, 54.2203, -55.0218,  171,     30.3,  -0.9396,  32.6187,2,-999.0000,9,    355.2,2,   -999.0,9,     1.45,6,     3.47,6,     0.70, 6, -999.000,9, -999.000,9, -999.000,9, -999.000,9, -999.000,9,   -999.0,9,   -999.0,9,  -0.9403, 20030723,     2151
  18HU20030713, AR07W,    95,  1, 265743,     10,2,20030723,2143, 54.2203, -55.0218,  171,     20.7,   1.1756,  32.0337,2,-999.0000,9,    387.8,2,   -999.0,9,     0.84,6,     0.00,6,     0.30, 6, -999.000,9, -999.000,9, -999.000,9, -999.000,9, -999.000,9,   -999.0,9,   -999.0,9,   1.1748, 20030723,     2152
  18HU20030713, AR07W,    95,  1, 265744,     11,2,20030723,2143, 54.2203, -55.0218,  171,     10.3,   5.5883,  31.0606,2,-999.0000,9,    338.9,2,    337.9,2,     0.81,6,     0.00,6,     0.20, 6,    5.893,2,    3.480,2,    0.542,4,    6.573,4,    3.382,2,   -999.0,9,   2140.5,2,   5.5875, 20030723,     2153
  18HU20030713, AR07W,    95,  1, 265745,     12,2,20030723,2143, 54.2203, -55.0218,  171,      4.0,   8.5982,  30.7848,2,-999.0000,9,    315.2,2,   -999.0,9,     0.76,6,     0.00,6,     0.18, 6, -999.000,9, -999.000,9, -999.000,9, -999.000,9, -999.000,9,   -999.0,9,   -999.0,9,   8.5978, 20030723,     2153
  18HU20030713, AR07W,    98,  1, 265746,      1,2,20030724,0008, 54.4943, -54.7568,  191,    186.9,   0.6713,  33.9063,2,-999.0000,9,    302.5,2,    301.4,2,     9.38,6,    11.26,6,     0.91, 6,    5.951,2,    3.883,4,    0.387,4,    6.996,4,    5.896,2,   2131.4,2,   2257.9,2,   0.6636, 20030724,        8
  18HU20030713, AR07W,    98,  1, 265747,      2,2,20030724,0008, 54.4943, -54.7568,  191,    150.3,   0.3155,  33.7744,2,-999.0000,9,    308.6,2,    307.1,2,     8.65,6,    10.61,6,     0.87, 6,    5.856,2,    4.056,4,    0.325,4,    7.175,4,    6.071,2,   2124.4,2,   2246.8,2,   0.3099, 20030724,       10
  18HU20030713, AR07W,    98,  1, 265748,      3,2,20030724,0008, 54.4943, -54.7568,  191,    125.6,  -0.1765,  33.6631,2,-999.0000,9,    313.3,2,    311.8,6,     8.38,6,    10.06,6,     0.88, 6,    6.147,2,    4.040,4,    0.437,4,    6.815,4,    5.940,2,   2122.4,2,   2246.1,2,  -0.1806, 20030724,       11
  18HU20030713, AR07W,    98,  1, 265749,      4,2,20030724,0008, 54.4943, -54.7568,  191,    100.5,  -0.6598,  33.4326,2,-999.0000,9,    327.5,2,    329.2,2,     6.53,6,     7.64,6,     0.79, 6,    6.341,2,    4.164,4,    0.392,4,    7.836,4,    6.311,2,   2103.3,2,   2234.6,2,  -0.6626, 20030724,       12
  18HU20030713, AR07W,    98,  1, 265750,      5,2,20030724,0008, 54.4943, -54.7568,  191,     80.4,  -1.0188,  33.2896,2,-999.0000,9,    325.1,2,   -999.0,9,     7.81,6,     8.19,6,     0.85, 6, -999.000,9, -999.000,9, -999.000,9, -999.000,9, -999.000,9,   -999.0,9,   -999.0,9,  -1.0208, 20030724,       13
  18HU20030713, AR07W,    98,  1, 265751,      6,2,20030724,0008, 54.4943, -54.7568,  191,     60.3,  -1.1611,  33.1243,2,-999.0000,9,    323.1,2,   -999.0,9,     8.98,6,     8.26,6,     0.90, 6, -999.000,9, -999.000,9, -999.000,9, -999.000,9, -999.000,9,   -999.0,9,   -999.0,9,  -1.1625, 20030724,       13
  18HU20030713, AR07W,    98,  1, 265752,      7,2,20030724,0008, 54.4943, -54.7568,  191,     50.3,  -1.0817,  33.0167,2,-999.0000,9,    326.9,2,    328.5,2,     7.16,6,     7.17,6,     0.88, 6,    6.379,2,    3.874,3,    3.711,4,    7.612,4,    7.573,2,   2110.6,2,   2229.3,2,  -1.0829, 20030724,       14
  18HU20030713, AR07W,    98,  1, 265753,      8,2,20030724,0008, 54.4943, -54.7568,  191,     40.6,  -0.8029,  32.9203,2,-999.0000,9,    338.9,2,   -999.0,9,     5.14,6,     5.39,6,     0.80, 6, -999.000,9, -999.000,9, -999.000,9, -999.000,9, -999.000,9,   -999.0,9,   -999.0,9,  -0.8039, 20030724,       15
  18HU20030713, AR07W,    98,  1, 265754,      9,2,20030724,0008, 54.4943, -54.7568,  191,     29.9,   0.2924,  32.4522,2,-999.0000,9,    386.9,2,   -999.0,9,     1.24,6,     0.55,6,     0.46, 6, -999.000,9, -999.000,9, -999.000,9, -999.000,9, -999.000,9,   -999.0,9,   -999.0,9,   0.2914, 20030724,       15
  18HU20030713, AR07W,    98,  1, 265755,     10,2,20030724,0008, 54.4943, -54.7568,  191,     20.1,   3.7187,  31.7048,2,-999.0000,9,    364.0,2,   -999.0,9,     0.69,6,     0.00,6,     0.25, 6, -999.000,9, -999.000,9, -999.000,9, -999.000,9, -999.000,9,   -999.0,9,   -999.0,9,   3.7175, 20030724,       16
  18HU20030713, AR07W,    98,  1, 265756,     11,2,20030724,0008, 54.4943, -54.7568,  191,     10.9,   5.6211,  31.4388,2,-999.0000,9,    343.5,2,    340.9,2,     0.51,6,     0.00,6,     0.22, 6,    5.969,2,    3.917,4,    0.491,4,    7.314,4,    4.190,2,   1954.5,2,   2149.2,2,   5.6203, 20030724,       17
  18HU20030713, AR07W,    98,  1, 265757,     12,2,20030724,0008, 54.4943, -54.7568,  191,      4.5,   8.1979,  31.1677,2,-999.0000,9,    317.7,2,   -999.0,9,     0.48,6,     0.00,6,     0.19, 6, -999.000,9, -999.000,9, -999.000,9, -999.000,9, -999.000,9,   -999.0,9,   -999.0,9,   8.1975, 20030724,       17
  18HU20030713, AR07W,   102,  1, 265758,      1,2,20030724,0234, 54.7610, -54.4875,  246,    237.8,   1.9307,  34.2277,2,-999.0000,9,    293.7,2,    295.6,2,     9.65,6,    12.74,6,     0.93, 6,    5.378,2,    3.112,2,    0.677,4,    5.244,4,    4.065,2,   2137.3,2,   2168.4,4,   1.9182, 20030724,      234
  18HU20030713, AR07W,   102,  1, 265759,      2,2,20030724,0234, 54.7610, -54.4875,  246,    200.4,   0.8593,  33.9511,2,-999.0000,9,    302.7,2,    301.6,2,     8.69,6,    11.61,6,     0.91, 6,    5.623,2,    3.307,2,    0.606,4,    5.197,4,    4.144,2,   2127.5,2,   2259.1,2,   0.8507, 20030724,      235
  18HU20030713, AR07W,   102,  1, 265760,      3,2,20030724,0234, 54.7610, -54.4875,  246,    150.3,  -0.2912,  33.6401,2,-999.0000,9,    313.9,2,    314.0,2,     8.29,6,    10.20,6,     0.87, 6,    5.998,2,    3.507,2,    0.520,4,    5.708,4,    4.547,2,   2119.6,2,   2245.2,2,  -0.2960, 20030724,      237
  18HU20030713, AR07W,   102,  1, 265761,      4,2,20030724,0234, 54.7610, -54.4875,  246,    124.6,  -0.5533,  33.4719,2,-999.0000,9,    317.3,2,    317.3,2,     7.88,6,     9.13,6,     0.85, 6,    6.001,2,    3.496,2,    0.405,4,    5.488,4,    4.502,2,   2117.5,2,   2245.7,2,  -0.5570, 20030724,      238
  18HU20030713, AR07W,   102,  1, 265762,      5,2,20030724,0234, 54.7610, -54.4875,  246,     98.2,  -1.0276,  33.3047,2,-999.0000,9,    319.3,2,    320.0,2,     8.10,6,     8.95,6,     0.89, 6,    6.236,2,    3.611,2,    0.580,4,    5.797,4,    5.017,2,   2118.7,2,   2232.1,3,  -1.0300, 20030724,      238
  18HU20030713, AR07W,   102,  1, 265763,      6,2,20030724,0234, 54.7610, -54.4875,  246,     79.7,  -0.8841,  33.1854,2,-999.0000,9,    323.6,2,   -999.0,9,     7.36,6,     7.69,6,     0.85, 6, -999.000,9, -999.000,9, -999.000,9, -999.000,9, -999.000,9,   -999.0,9,   -999.0,9,  -0.8861, 20030724,      239
  18HU20030713, AR07W,   102,  1, 265764,      7,2,20030724,0234, 54.7610, -54.4875,  246,     60.3,  -0.5910,  33.0437,2,-999.0000,9,    328.1,2,   -999.0,9,     5.23,6,     5.87,6,     0.78, 6, -999.000,9, -999.000,9, -999.000,9, -999.000,9, -999.000,9,   -999.0,9,   -999.0,9,  -0.5927, 20030724,      240
  18HU20030713, AR07W,   102,  1, 265765,      8,2,20030724,0234, 54.7610, -54.4875,  246,     49.8,  -0.2408,  32.9657,2,-999.0000,9,    343.2,2,    344.0,2,     2.04,6,     3.97,6,     0.66, 6,    6.477,2,    3.708,2,    0.658,4,    6.291,4,    4.676,2,   2079.2,2,   2210.2,2,  -0.2423, 20030724,      241
  18HU20030713, AR07W,   102,  1, 265766,      9,2,20030724,0234, 54.7610, -54.4875,  246,     39.7,  -0.0386,  32.8694,2,-999.0000,9,    365.8,2,   -999.0,9,     0.69,6,     1.88,6,     0.55, 6, -999.000,9, -999.000,9, -999.000,9, -999.000,9, -999.000,9,   -999.0,9,   -999.0,9,  -0.0399, 20030724,      241
  18HU20030713, AR07W,   102,  1, 265767,     10,2,20030724,0234, 54.7610, -54.4875,  246,     30.3,   0.0084,  32.5934,2,-999.0000,9,    391.7,2,   -999.0,9,     0.42,6,     0.25,6,     0.36, 6, -999.000,9, -999.000,9, -999.000,9, -999.000,9, -999.000,9,   -999.0,9,   -999.0,9,   0.0074, 20030724,      242
  18HU20030713, AR07W,   102,  1, 265768,     11,2,20030724,0234, 54.7610, -54.4875,  246,     19.5,   1.5646,  32.1822,2,-999.0000,9,    394.0,2,   -999.0,9,     0.36,6,     0.00,6,     0.30, 6, -999.000,9, -999.000,9, -999.000,9, -999.000,9, -999.000,9,   -999.0,9,   -999.0,9,   1.5637, 20030724,      243
  18HU20030713, AR07W,   102,  1, 265769,     12,2,20030724,0234, 54.7610, -54.4875,  246,     10.5,   6.0372,  31.6086,2,-999.0000,9,    349.1,2,    345.4,2,     0.00,6,     0.00,6,     0.21, 6,    5.839,2,    3.442,2,    0.600,4,    6.224,4,    3.405,2,   1955.3,2,   2157.2,2,   6.0364, 20030724,      244
  18HU20030713, AR07W,   102,  1, 265770,     13,2,20030724,0234, 54.7610, -54.4875,  246,      3.9,   7.2301,  31.5628,2,-999.0000,9,    337.0,2,   -999.0,9,     0.00,6,     0.00,6,     0.22, 6, -999.000,9, -999.000,9, -999.000,9, -999.000,9, -999.000,9,   -999.0,9,   -999.0,9,   7.2298, 20030724,      244