BOTTLE,20220503SIOCCHCBG
EXPOCODE,SECT_ID,STNNBR,CASTNO,SAMPNO,BTLNBR,BTLNBR_FLAG_W,DATE,TIME,LATITUDE,LONGITUDE,DEPTH,CTDPRS,CTDTMP,CTDSAL,CTDSAL_FLAG_W,SALNTY,SALNTY_FLAG_W,CTDOXY,CTDOXY_FLAG_W,OXYGEN,OXYGEN_FLAG_W,SILCAT,SILCAT_FLAG_W,NO2+NO3,NO2+NO3_FLAG_W,PHSPHT,PHSPHT_FLAG_W,CFC-11,CFC-11_FLAG_W,CFC-12,CFC-12_FLAG_W,CFC113,CFC113_FLAG_W,CCL4,CCL4_FLAG_W,MCHFRM,MCHFRM_FLAG_W,TCARBN,TCARBN_FLAG_W,ALKALI,ALKALI_FLAG_W,THETA,BTL_DATE,BTL_TIME
,,,,,,,,,,,METERS,DBAR,ITS-90,PSS-78,,PSS-78,,UMOL/KG,,UMOL/KG,,UMOL/KG,,UMOL/KG,,UMOL/KG,,PMOL/KG,,PMOL/KG,,PMOL/KG,,PMOL/KG,,PMOL/KG,,UMOL/KG,,UMOL/KG,,DEG C,,
  18HU20030713, AR07W,   452,  1, 266512,      1,2,20030801,1005, 52.7328, -51.9987,  300,    299.1,   3.3521,  34.6639,2,-999.0000,9,    288.8,2,    285.3,6,     9.72,6,    14.22,6,     1.03, 6,    4.720,2,    2.916,2,    0.331,4,    5.979,4,    4.595,2,   -999.0,9,   2284.1,2,   3.3325, 20030801,     1005
  18HU20030713, AR07W,   452,  1, 266513,      2,2,20030801,1005, 52.7328, -51.9987,  300,    249.8,   3.3892,  34.6252,2,-999.0000,9,    289.0,2,    285.7,2,     9.24,6,    14.46,6,     1.00, 6,    4.603,2,    2.870,2,    0.417,4,    5.981,4,    4.424,2,   2149.7,2,   2288.8,2,   3.3729, 20030801,     1007
  18HU20030713, AR07W,   452,  1, 266514,      3,2,20030801,1005, 52.7328, -51.9987,  300,    200.1,   3.0208,  34.5243,2,-999.0000,9,    288.4,2,    285.2,2,     8.88,6,    13.06,6,     0.96, 6,    4.890,2,    2.949,2,    0.270,4,    5.819,4,    4.707,2,   2145.8,2,   2275.0,2,   3.0084, 20030801,     1008
  18HU20030713, AR07W,   452,  1, 266515,      4,2,20030801,1005, 52.7328, -51.9987,  300,    150.4,   2.8334,  34.4370,2,-999.0000,9,    292.6,2,    289.0,2,     9.60,6,    13.66,6,     0.97, 6,    4.904,2,    2.986,2,    0.363,4,    6.217,4,    4.659,2,   2139.7,2,   2274.0,2,   2.8244, 20030801,     1010
  18HU20030713, AR07W,   452,  1, 266516,      5,2,20030801,1005, 52.7328, -51.9987,  300,    124.1,   2.4688,  34.3253,2,-999.0000,9,    296.7,2,    293.9,2,     7.34,6,    12.31,6,     0.90, 6,    5.088,2,    3.034,2,    0.404,4,    6.621,4,    4.645,2,   2133.5,2,   2266.9,2,   2.4618, 20030801,     1011
  18HU20030713, AR07W,   452,  1, 266517,      6,2,20030801,1005, 52.7328, -51.9987,  300,    100.4,   2.0748,  34.1968,2,-999.0000,9,    295.7,2,    291.7,2,     6.86,6,    10.29,6,     0.86, 6,    4.891,2,    2.690,2,    0.400,4,    6.721,4,    5.335,2,   2134.5,2,   2260.4,2,   2.0695, 20030801,     1012
  18HU20030713, AR07W,   452,  1, 266518,      7,2,20030801,1005, 52.7328, -51.9987,  300,     80.1,   0.8998,  33.9532,2,-999.0000,9,    302.9,2,   -999.0,9,     8.38,6,    11.22,6,     0.91, 6, -999.000,9, -999.000,9, -999.000,9, -999.000,9, -999.000,9,   -999.0,9,   -999.0,9,   0.8964, 20030801,     1013
  18HU20030713, AR07W,   452,  1, 266519,      8,2,20030801,1005, 52.7328, -51.9987,  300,     59.4,   2.1634,  33.9959,2,-999.0000,9,    310.6,2,   -999.0,9,     5.51,6,     8.76,6,     0.74, 6, -999.000,9, -999.000,9, -999.000,9, -999.000,9, -999.000,9,   -999.0,9,   -999.0,9,   2.1603, 20030801,     1015
  18HU20030713, AR07W,   452,  1, 266520,      9,2,20030801,1005, 52.7328, -51.9987,  300,     49.3,   1.6843,  33.8845,2,-999.0000,9,    315.6,2,    313.2,2,     5.23,6,     7.83,6,     0.74, 6,    5.660,2,    3.395,2,    0.402,4,    7.278,4,    4.843,2,   2106.3,2,   2249.1,2,   1.6819, 20030801,     1016
  18HU20030713, AR07W,   452,  1, 266521,     10,2,20030801,1005, 52.7328, -51.9987,  300,     39.9,   1.3284,  33.7766,2,-999.0000,9,    318.7,2,   -999.0,9,     5.65,6,     7.05,6,     0.70, 6, -999.000,9, -999.000,9, -999.000,9, -999.000,9, -999.000,9,   -999.0,9,   -999.0,9,   1.3266, 20030801,     1017
  18HU20030713, AR07W,   452,  1, 266522,     11,2,20030801,1005, 52.7328, -51.9987,  300,     27.8,   2.6175,  33.6837,2,-999.0000,9,    334.1,2,   -999.0,9,     2.02,6,     3.91,6,     0.49, 6, -999.000,9, -999.000,9, -999.000,9, -999.000,9, -999.000,9,   -999.0,9,   -999.0,9,   2.6160, 20030801,     1018
  18HU20030713, AR07W,   452,  1, 266523,     12,2,20030801,1005, 52.7328, -51.9987,  300,     27.5,   2.6669,  33.6936,2,-999.0000,9,    337.0,2,   -999.0,9,  -999.00,9,  -999.00,9,  -999.00, 9, -999.000,9, -999.000,9, -999.000,9, -999.000,9, -999.000,9,   -999.0,9,   -999.0,9,   2.6654, 20030801,     1018
  18HU20030713, AR07W,   452,  1, 266524,     13,2,20030801,1005, 52.7328, -51.9987,  300,     27.5,   2.6876,  33.6864,2,-999.0000,9,    336.3,2,   -999.0,9,  -999.00,9,  -999.00,9,  -999.00, 9, -999.000,9, -999.000,9, -999.000,9, -999.000,9, -999.000,9,   -999.0,9,   -999.0,9,   2.6861, 20030801,     1018
  18HU20030713, AR07W,   452,  1, 266525,     14,2,20030801,1005, 52.7328, -51.9987,  300,     19.8,   2.6182,  33.1695,2,-999.0000,9,    381.3,2,   -999.0,9,     0.43,6,     0.14,6,     0.19, 6, -999.000,9, -999.000,9, -999.000,9, -999.000,9, -999.000,9,   -999.0,9,   -999.0,9,   2.6171, 20030801,     1019
  18HU20030713, AR07W,   452,  1, 266526,     15,2,20030801,1005, 52.7328, -51.9987,  300,     10.1,   5.4664,  32.4626,2,-999.0000,9,    363.7,2,    358.4,2,     0.27,6,     0.00,6,     0.23, 6,    5.738,2,    3.427,2,    0.458,4,    7.665,4,    4.387,2,   1988.1,2,   2194.4,2,   5.4656, 20030801,     1020
  18HU20030713, AR07W,   452,  1, 266527,     16,2,20030801,1005, 52.7328, -51.9987,  300,      3.3,   7.2354,  32.3780,2,-999.0000,9,    327.2,2,   -999.0,9,     0.35,6,     0.00,6,     0.27, 6, -999.000,9, -999.000,9, -999.000,9, -999.000,9, -999.000,9,   -999.0,9,   -999.0,9,   7.2351, 20030801,     1021
  18HU20030713, AR07W,   452,  1, 266528,     17,2,20030801,1005, 52.7328, -51.9987,  300,      3.3,   7.2318,  32.3769,2,-999.0000,9,    326.9,2,   -999.0,9,  -999.00,9,  -999.00,9,  -999.00, 9, -999.000,9, -999.000,9, -999.000,9, -999.000,9, -999.000,9,   -999.0,9,   -999.0,9,   7.2315, 20030801,     1021
  18HU20030713, AR07W,   452,  1, 266529,     18,2,20030801,1005, 52.7328, -51.9987,  300,      3.3,   7.2679,  32.3751,2,-999.0000,9,    325.8,2,   -999.0,9,  -999.00,9,  -999.00,9,  -999.00, 9, -999.000,9, -999.000,9, -999.000,9, -999.000,9, -999.000,9,   -999.0,9,   -999.0,9,   7.2676, 20030801,     1022
  18HU20030713, AR07W,   452,  1, 266530,     19,2,20030801,1005, 52.7328, -51.9987,  300,      3.3,   7.2680,  32.3758,2,-999.0000,9,    325.5,2,   -999.0,9,  -999.00,9,  -999.00,9,  -999.00, 9, -999.000,9, -999.000,9, -999.000,9, -999.000,9, -999.000,9,   -999.0,9,   -999.0,9,   7.2677, 20030801,     1022
  18HU20030713, AR07W,   452,  1, 266531,     20,2,20030801,1005, 52.7328, -51.9987,  300,      3.2,   7.2571,  32.3767,2,-999.0000,9,    326.4,2,   -999.0,9,  -999.00,9,  -999.00,9,  -999.00, 9, -999.000,9, -999.000,9, -999.000,9, -999.000,9, -999.000,9,   -999.0,9,   -999.0,9,   7.2568, 20030801,     1022
  18HU20030713, AR07W,   455,  1, 266532,      1,2,20030801,1224, 52.6153, -52.4007,  271,    265.7,   3.3649,  34.6181,2,-999.0000,9,    289.5,2,    285.7,6,     8.50,6,    13.09,6,     0.98, 6,    4.897,2,    2.794,2,    0.328,4,    4.012,4,    2.454,2,   2149.0,2,   2282.1,2,   3.3476, 20030801,     1224
  18HU20030713, AR07W,   455,  1, 266533,      2,2,20030801,1224, 52.6153, -52.4007,  271,    199.7,   2.7836,  34.4532,2,-999.0000,9,    291.7,2,    289.1,2,     8.67,6,    13.40,6,     0.96, 6,    5.642,2,    3.132,2,    0.385,4,    4.620,4,    2.837,2,   2143.7,2,   2272.4,2,   2.7717, 20030801,     1226
  18HU20030713, AR07W,   455,  1, 266534,      3,2,20030801,1224, 52.6153, -52.4007,  271,    149.8,   2.4537,  34.3175,2,-999.0000,9,    295.0,2,    291.6,2,     7.78,6,    12.82,6,     0.93, 6, -999.000,9, -999.000,9, -999.000,9, -999.000,9, -999.000,9,   2138.0,2,   2266.7,2,   2.4453, 20030801,     1227
  18HU20030713, AR07W,   455,  1, 266535,      4,2,20030801,1224, 52.6153, -52.4007,  271,     99.8,   0.6023,  33.8810,2,-999.0000,9,    306.2,2,    305.8,2,     7.67,6,    10.67,6,     0.88, 6,    6.288,2,    3.450,2,    0.477,4,    5.044,4,    3.170,2,   2127.3,2,   2248.4,2,   0.5983, 20030801,     1229
  18HU20030713, AR07W,   455,  1, 266536,      5,2,20030801,1224, 52.6153, -52.4007,  271,     49.5,  -0.8774,  33.3440,2,-999.0000,9,    327.3,2,    328.2,2,     7.30,6,     7.85,6,     0.85, 6,    6.917,2,    3.731,2,    0.520,4,    5.698,4,    3.575,2,   2108.4,2,   2227.7,2,  -0.8787, 20030801,     1230
  18HU20030713, AR07W,   455,  1, 266537,      6,2,20030801,1224, 52.6153, -52.4007,  271,      4.4,   8.7145,  31.7517,2,-999.0000,9,    306.6,2,    304.3,2,     0.83,6,     0.00,6,     0.25, 6,    5.416,2,    3.050,2,    0.399,4,    5.013,4,    2.025,2,   1389.2,4,   2159.0,2,   8.7141, 20030801,     1232
  18HU20030713, AR07W,   458,  1, 266538,      1,2,20030801,1423, 52.4990, -52.8003,  286,    287.1,   3.2840,  34.6179,2,-999.0000,9,    288.5,2,    284.2,6,     9.90,6,    14.47,6,     1.06, 6,    5.399,2,    2.997,2,    0.382,4,    4.395,4,    2.772,2,   2151.4,2,   2284.1,2,   3.2654, 20030801,     1423
  18HU20030713, AR07W,   458,  1, 266539,      2,2,20030801,1423, 52.4990, -52.8003,  286,    199.7,   2.5655,  34.3979,2,-999.0000,9,    294.8,2,    291.5,2,     8.43,6,    13.45,6,     1.01, 6,    5.597,2,    3.121,2,    0.426,4,    4.615,4,    2.762,2,   2142.0,2,   2272.7,2,   2.5540, 20030801,     1425
  18HU20030713, AR07W,   458,  1, 266540,      3,2,20030801,1423, 52.4990, -52.8003,  286,    150.7,   1.9302,  34.2167,2,-999.0000,9,    299.2,2,    295.7,2,     7.68,6,    12.78,6,     0.91, 6,    5.906,2,    3.280,2,    0.466,4,    4.901,4,    2.885,2,   2135.7,2,   2136.8,4,   1.9224, 20030801,     1427
  18HU20030713, AR07W,   458,  1, 266541,      4,2,20030801,1423, 52.4990, -52.8003,  286,    100.9,   0.4165,  33.8396,2,-999.0000,9,    312.0,2,    310.0,2,     7.03,6,    10.22,6,     0.82, 6,    6.421,2,    3.526,2,    0.489,4,    5.375,4,    3.100,2,   2123.9,2,   2258.9,2,   0.4127, 20030801,     1428
  18HU20030713, AR07W,   458,  1, 266542,      5,2,20030801,1423, 52.4990, -52.8003,  286,     49.8,  -0.4062,  33.2979,2,-999.0000,9,    331.7,2,    331.4,2,     4.66,6,     6.59,6,     0.75, 6,    6.926,2,    3.801,2,    0.569,4,    5.910,4,    3.486,2,   2101.0,2,   2226.9,3,  -0.4077, 20030801,     1430
  18HU20030713, AR07W,   458,  1, 266543,      6,2,20030801,1423, 52.4990, -52.8003,  286,      3.6,   8.6640,  31.6252,2,-999.0000,9,    309.4,2,    305.1,2,     0.29,6,     0.00,6,     0.18, 6,    5.411,2,    3.058,2,    0.461,4,    5.045,4,    2.018,2,   1969.8,2,   2153.4,2,   8.6636, 20030801,     1431
  18HU20030713, AR07W,   461,  1, 266544,      1,2,20030801,1733, 52.2855, -53.5497,  394,    392.5,   3.1210,  34.6718,2,-999.0000,9,    274.1,2,    272.8,2,    15.34,6,    15.03,6,     1.16, 3,    4.973,2,    2.958,2,    0.223,4,    5.734,4,    4.919,2,   2175.3,2,   2281.0,2,   3.0957, 20030801,     1733
  18HU20030713, AR07W,   461,  1, 266545,      2,2,20030801,1733, 52.2855, -53.5497,  394,    300.2,   3.1146,  34.6291,2,-999.0000,9,    278.4,2,    274.4,2,    12.34,6,    14.01,6,     1.03, 6,    4.730,2,    2.819,2,    0.165,4,    5.730,4,    4.754,2,   2167.8,2,   2282.0,2,   3.0955, 20030801,     1735
  18HU20030713, AR07W,   461,  1, 266546,      3,2,20030801,1733, 52.2855, -53.5497,  394,    199.3,   2.5477,  34.4583,2,-999.0000,9,    293.6,2,    291.0,2,     9.27,6,    14.42,6,     1.00, 6,    4.983,2,    3.272,4,    0.432,4,    6.397,4,    4.849,2,   2149.8,2,   2273.0,2,   2.5362, 20030801,     1737
  18HU20030713, AR07W,   461,  1, 266547,      4,2,20030801,1733, 52.2855, -53.5497,  394,    149.3,   1.7930,  34.2273,2,-999.0000,9,    300.6,2,    297.8,6,     6.32,6,    10.26,6,     0.82, 6,    5.251,2,    3.178,2,    0.368,4,    6.494,4,    4.844,2,   -999.0,9,   2257.3,3,   1.7854, 20030801,     1738
  18HU20030713, AR07W,   461,  1, 266548,      5,2,20030801,1733, 52.2855, -53.5497,  394,     98.2,   0.6407,  33.8754,2,-999.0000,9,    309.8,2,    308.7,2,     6.75,6,     9.90,6,     0.82, 6,    5.591,2,    3.364,2,    0.487,4,    7.383,4,    5.293,2,   2127.8,2,   2256.5,2,   0.6368, 20030801,     1740
  18HU20030713, AR07W,   461,  1, 266549,      6,2,20030801,1733, 52.2855, -53.5497,  394,     49.5,  -0.4376,  33.4126,2,-999.0000,9,    325.6,2,    328.2,2,     5.40,6,     7.32,6,     0.77, 6,    6.065,2,    3.650,2,    0.450,4,    7.729,4,    5.973,2,   2111.6,2,   2238.6,2,  -0.4391, 20030801,     1741
  18HU20030713, AR07W,   461,  1, 266550,      7,2,20030801,1733, 52.2855, -53.5497,  394,      3.6,   8.1417,  31.9664,2,-999.0000,9,    312.3,2,    310.3,2,     0.90,6,     0.00,6,     0.23, 6,    4.781,2,    2.810,2,    0.393,4,    6.895,4,    3.514,2,   1997.2,2,   2171.1,2,   8.1414, 20030801,     1742
  18HU20030713, AR07W,   464,  1, 266551,      1,2,20030801,2047, 52.0648, -54.2928,  180,    182.6,   0.5329,  33.8912,2,-999.0000,9,    293.7,2,    291.9,2,    12.31,6,    11.87,6,     1.04, 6,    5.441,2,    1.176,4,    0.389,4,    6.868,4,    5.511,2,   2153.1,2,   2248.7,2,   0.5256, 20030801,     2047
  18HU20030713, AR07W,   464,  1, 266552,      2,2,20030801,2047, 52.0648, -54.2928,  180,    149.2,  -0.4002,  33.6204,2,-999.0000,9,    312.3,2,    310.7,2,     8.65,6,    10.14,6,     0.89, 6,    5.851,2,    3.415,2,    0.415,4,    7.317,4,    5.694,2,   2136.4,2,   2242.4,2,  -0.4048, 20030801,     2048
  18HU20030713, AR07W,   464,  1, 266553,      3,2,20030801,2047, 52.0648, -54.2928,  180,    100.9,  -1.1275,  33.3157,2,-999.0000,9,    319.0,2,    318.2,6,     9.13,6,     9.71,6,     0.93, 6,    6.059,2,    3.558,2,    0.434,4,    7.407,4,    6.219,2,   2133.7,2,   2234.8,2,  -1.1299, 20030801,     2050
  18HU20030713, AR07W,   464,  1, 266554,      4,2,20030801,2047, 52.0648, -54.2928,  180,     49.8,  -1.3844,  32.9011,2,-999.0000,9,    320.6,2,    319.3,2,     9.47,6,     7.99,6,     0.93, 6,    6.244,2,    3.592,2,    0.357,4,    7.562,4,    6.462,2,   2134.6,2,   2222.3,2,  -1.3854, 20030801,     2051
  18HU20030713, AR07W,   464,  1, 266555,      5,2,20030801,2047, 52.0648, -54.2928,  180,     19.6,   2.6474,  32.0194,2,-999.0000,9,    366.7,2,    365.3,2,     1.40,6,     0.24,6,     0.45, 6,    6.183,2,    3.685,2,    0.444,4,    7.970,4,    5.116,2,   2029.6,2,   2185.3,2,   2.6464, 20030801,     2053
  18HU20030713, AR07W,   464,  1, 266556,      6,2,20030801,2047, 52.0648, -54.2928,  180,      3.7,   9.5605,  31.1246,2,-999.0000,9,    298.4,2,    293.8,2,     0.70,6,     0.00,6,     0.23, 6,    4.403,2,    2.527,2,    0.290,4,    6.004,4,    2.878,2,   1967.9,2,   2124.3,2,   9.5601, 20030801,     2054