BOTTLE,20220503SIOCCHCBG
EXPOCODE,SECT_ID,STNNBR,CASTNO,SAMPNO,BTLNBR,BTLNBR_FLAG_W,DATE,TIME,LATITUDE,LONGITUDE,DEPTH,CTDPRS,CTDTMP,CTDSAL,CTDSAL_FLAG_W,SALNTY,SALNTY_FLAG_W,CTDOXY,CTDOXY_FLAG_W,OXYGEN,OXYGEN_FLAG_W,SILCAT,SILCAT_FLAG_W,NO2+NO3,NO2+NO3_FLAG_W,PHSPHT,PHSPHT_FLAG_W,CFC-11,CFC-11_FLAG_W,CFC-12,CFC-12_FLAG_W,CFC113,CFC113_FLAG_W,CCL4,CCL4_FLAG_W,MCHFRM,MCHFRM_FLAG_W,TCARBN,TCARBN_FLAG_W,ALKALI,ALKALI_FLAG_W,THETA,BTL_DATE,BTL_TIME
,,,,,,,,,,,METERS,DBAR,ITS-90,PSS-78,,PSS-78,,UMOL/KG,,UMOL/KG,,UMOL/KG,,UMOL/KG,,UMOL/KG,,PMOL/KG,,PMOL/KG,,PMOL/KG,,PMOL/KG,,PMOL/KG,,UMOL/KG,,UMOL/KG,,DEG C,,
  18HU20030713, AR07W,   219,  1, 266089,      1,2,20030727,1042, 58.6403, -50.4162, 3560,    200.5,   4.1565,  34.8762,2,-999.0000,9,    287.4,2,   -999.0,9,     8.25,6,    15.76,6,     1.04, 6, -999.000,9, -999.000,9, -999.000,9, -999.000,9, -999.000,9,   -999.0,9,   -999.0,9,   4.1422, 20030727,     1042
  18HU20030713, AR07W,   219,  1, 266090,      2,2,20030727,1042, 58.6403, -50.4162, 3560,    149.8,   4.3912,  34.8804,2,-999.0000,9,    286.6,2,   -999.0,9,     8.02,6,    15.61,6,     1.02, 6, -999.000,9, -999.000,9, -999.000,9, -999.000,9, -999.000,9,   -999.0,9,   -999.0,9,   4.3803, 20030727,     1044
  18HU20030713, AR07W,   219,  1, 266091,      3,2,20030727,1042, 58.6403, -50.4162, 3560,    100.2,   4.7694,  34.9008,2,-999.0000,9,    285.4,2,   -999.0,9,     7.63,6,    15.21,6,     1.02, 6, -999.000,9, -999.000,9, -999.000,9, -999.000,9, -999.000,9,   -999.0,9,   -999.0,9,   4.7618, 20030727,     1046
  18HU20030713, AR07W,   219,  1, 266092,      4,2,20030727,1042, 58.6403, -50.4162, 3560,     80.2,   4.8103,  34.8698,2,-999.0000,9,    289.8,2,   -999.0,9,     6.68,6,    12.46,6,     0.91, 6, -999.000,9, -999.000,9, -999.000,9, -999.000,9, -999.000,9,   -999.0,9,   -999.0,9,   4.8042, 20030727,     1047
  18HU20030713, AR07W,   219,  1, 266093,      5,2,20030727,1042, 58.6403, -50.4162, 3560,     60.0,   4.7792,  34.7903,2,-999.0000,9,    297.3,2,   -999.0,9,     6.14,6,     9.12,6,     0.85, 6, -999.000,9, -999.000,9, -999.000,9, -999.000,9, -999.000,9,   -999.0,9,   -999.0,9,   4.7747, 20030727,     1048
  18HU20030713, AR07W,   219,  1, 266094,      6,2,20030727,1042, 58.6403, -50.4162, 3560,     49.5,   4.9464,  34.7731,2,-999.0000,9,    299.1,2,   -999.0,9,     4.80,6,     7.17,6,     0.80, 6, -999.000,9, -999.000,9, -999.000,9, -999.000,9, -999.000,9,   -999.0,9,   -999.0,9,   4.9426, 20030727,     1049
  18HU20030713, AR07W,   219,  1, 266095,      7,2,20030727,1042, 58.6403, -50.4162, 3560,     39.4,   5.3730,  34.7417,2,-999.0000,9,    301.2,2,   -999.0,9,     2.40,6,     5.50,6,     0.70, 6, -999.000,9, -999.000,9, -999.000,9, -999.000,9, -999.000,9,   -999.0,9,   -999.0,9,   5.3699, 20030727,     1050
  18HU20030713, AR07W,   219,  1, 266096,      8,2,20030727,1042, 58.6403, -50.4162, 3560,     28.6,   7.6178,  34.6919,2,-999.0000,9,    306.7,2,   -999.0,9,     0.86,6,     2.58,6,     0.39, 6, -999.000,9, -999.000,9, -999.000,9, -999.000,9, -999.000,9,   -999.0,9,   -999.0,9,   7.6150, 20030727,     1051
  18HU20030713, AR07W,   219,  1, 266097,      9,2,20030727,1042, 58.6403, -50.4162, 3560,     28.5,   7.5543,  34.6997,2,-999.0000,9,    310.1,2,   -999.0,9,  -999.00,9,  -999.00,9,  -999.00, 9, -999.000,9, -999.000,9, -999.000,9, -999.000,9, -999.000,9,   -999.0,9,   -999.0,9,   7.5516, 20030727,     1051
  18HU20030713, AR07W,   219,  1, 266098,     10,2,20030727,1042, 58.6403, -50.4162, 3560,     28.6,   7.5837,  34.6986,2,-999.0000,9,    311.0,2,   -999.0,9,  -999.00,9,  -999.00,9,  -999.00, 9, -999.000,9, -999.000,9, -999.000,9, -999.000,9, -999.000,9,   -999.0,9,   -999.0,9,   7.5809, 20030727,     1051
  18HU20030713, AR07W,   219,  1, 266099,     11,2,20030727,1042, 58.6403, -50.4162, 3560,     20.0,   7.9783,  34.6911,2,-999.0000,9,    317.8,2,   -999.0,9,     0.72,6,     1.39,6,     0.28, 6, -999.000,9, -999.000,9, -999.000,9, -999.000,9, -999.000,9,   -999.0,9,   -999.0,9,   7.9763, 20030727,     1053
  18HU20030713, AR07W,   219,  1, 266100,     12,2,20030727,1042, 58.6403, -50.4162, 3560,     10.2,   8.9417,  34.6443,2,-999.0000,9,    307.6,2,   -999.0,9,     0.76,6,     0.51,6,     0.22, 6, -999.000,9, -999.000,9, -999.000,9, -999.000,9, -999.000,9,   -999.0,9,   -999.0,9,   8.9406, 20030727,     1054
  18HU20030713, AR07W,   219,  1, 266101,     13,2,20030727,1042, 58.6403, -50.4162, 3560,      3.9,   9.1711,  34.6386,2,-999.0000,9,    303.4,2,   -999.0,9,     0.76,6,     0.42,6,     0.22, 6, -999.000,9, -999.000,9, -999.000,9, -999.000,9, -999.000,9,   -999.0,9,   -999.0,9,   9.1707, 20030727,     1055
  18HU20030713, AR07W,   219,  1, 266102,     14,2,20030727,1042, 58.6403, -50.4162, 3560,      3.8,   9.1846,  34.6270,2,-999.0000,9,    302.9,2,   -999.0,9,  -999.00,9,  -999.00,9,  -999.00, 9, -999.000,9, -999.000,9, -999.000,9, -999.000,9, -999.000,9,   -999.0,9,   -999.0,9,   9.1842, 20030727,     1055
  18HU20030713, AR07W,   219,  1, 266103,     15,2,20030727,1042, 58.6403, -50.4162, 3560,      3.7,   9.0316,  34.6278,2,-999.0000,9,    304.0,2,   -999.0,9,  -999.00,9,  -999.00,9,  -999.00, 9, -999.000,9, -999.000,9, -999.000,9, -999.000,9, -999.000,9,   -999.0,9,   -999.0,9,   9.0312, 20030727,     1056
  18HU20030713, AR07W,   219,  1, 266104,     16,2,20030727,1042, 58.6403, -50.4162, 3560,      3.9,   9.0328,  34.6276,2,-999.0000,9,    304.3,2,   -999.0,9,  -999.00,9,  -999.00,9,  -999.00, 9, -999.000,9, -999.000,9, -999.000,9, -999.000,9, -999.000,9,   -999.0,9,   -999.0,9,   9.0324, 20030727,     1056
  18HU20030713, AR07W,   219,  1, 266105,     17,2,20030727,1042, 58.6403, -50.4162, 3560,      3.8,   9.0339,  34.6275,2,-999.0000,9,    304.2,2,   -999.0,9,  -999.00,9,  -999.00,9,  -999.00, 9, -999.000,9, -999.000,9, -999.000,9, -999.000,9, -999.000,9,   -999.0,9,   -999.0,9,   9.0335, 20030727,     1056
  18HU20030713, AR07W,   220,  1, 266106,      1,2,20030727,1226, 58.6392, -50.4200, 3560,   3573.8,   1.5393,  34.8808,2,  34.8806,2,    292.4,2,    292.7,2,    10.62,6,    13.94,6,     0.95, 6,    4.249,2,    2.371,2,    0.128,4,    3.559,4,    3.699,2,   2158.1,2,   2298.6,2,   1.2634, 20030727,     1226
  18HU20030713, AR07W,   220,  1, 266107,      2,2,20030727,1226, 58.6392, -50.4200, 3560,   3500.8,   1.6040,  34.8764,2,  34.8760,2,    292.1,2,    293.4,2,    10.38,6,    13.80,6,     0.95, 6,    4.133,2,    2.299,2,    0.184,4,    3.375,4,    3.689,2,   2156.9,2,   2292.9,2,   1.3340, 20030727,     1228
  18HU20030713, AR07W,   220,  1, 266108,      3,2,20030727,1226, 58.6392, -50.4200, 3560,   3421.6,   1.8318,  34.8793,2,  34.8794,2,    290.2,2,    290.8,2,    10.19,6,    13.79,6,     0.91, 6,    3.230,2,    1.892,2,    0.078,4,    2.524,4,    2.794,2,   2156.3,2,   2290.6,2,   1.5643, 20030727,     1231
  18HU20030713, AR07W,   220,  1, 266109,      4,2,20030727,1226, 58.6392, -50.4200, 3560,   3300.5,   2.1837,  34.8877,2,  34.8869,2,    285.0,2,    285.3,2,    12.02,6,    14.65,6,     0.96, 6,    3.496,2,    1.924,2,    0.120,4,    2.998,4,    3.530,2,   2156.9,2,   2298.6,2,   1.9202, 20030727,     1234
  18HU20030713, AR07W,   220,  1, 266110,      5,2,20030727,1226, 58.6392, -50.4200, 3560,   3160.7,   2.4357,  34.8975,2,  34.8969,2,    280.8,2,    281.3,2,    12.54,6,    14.85,6,     0.98, 6,    3.020,2,    1.655,2,    0.119,4,    2.584,4,    3.201,2,   2157.3,2,   2299.4,2,   2.1808, 20030727,     1237
  18HU20030713, AR07W,   220,  1, 266111,      6,2,20030727,1226, 58.6392, -50.4200, 3560,   3000.0,   2.6566,  34.9072,2,  34.9069,2,    278.0,2,    278.2,2,    13.33,6,    15.80,6,     1.02, 6,    2.280,2,    1.294,2,    0.010,4,    1.852,4,    2.369,2,   2156.7,2,   2320.8,3,   2.4134, 20030727,     1240
  18HU20030713, AR07W,   220,  1, 266112,      7,2,20030727,1226, 58.6392, -50.4200, 3560,   2820.7,   2.8071,  34.9069,2,  34.9065,2,    277.3,2,    277.6,2,    12.17,6,    15.62,6,     1.04, 6,    2.809,2,    1.517,2,    0.057,4,    2.422,4,    3.241,2,   2156.7,2,   2296.2,2,   2.5790, 20030727,     1244
  18HU20030713, AR07W,   220,  1, 266113,      8,2,20030727,1226, 58.6392, -50.4200, 3560,   2629.2,   2.9488,  34.9042,2,  34.9040,2,    277.5,2,    277.6,2,    11.33,6,    15.37,6,     1.04, 6,    2.855,2,    1.565,2,    0.056,4,    2.475,4,    3.484,2,   2155.8,2,   2297.3,2,   2.7372, 20030727,     1247
  18HU20030713, AR07W,   220,  1, 266114,      9,2,20030727,1226, 58.6392, -50.4200, 3560,   2430.0,   3.0495,  34.8964,2,  34.8957,2,    278.6,2,    279.5,2,    11.66,6,    16.35,6,     1.06, 6,    2.469,2,    1.434,2,    0.014,4,    2.000,4,    2.778,2,   2154.5,2,   2293.9,2,   2.8557, 20030727,     1251
  18HU20030713, AR07W,   220,  1, 266115,     10,2,20030727,1226, 58.6392, -50.4200, 3560,   2219.9,   3.1070,  34.8828,2,  34.8827,6,    281.4,2,    282.0,2,    10.88,6,    16.30,6,     1.07, 6,    3.612,6,    1.953,6,    0.065,4,    2.952,4,    4.274,6,   2154.9,2,   2296.2,3,   2.9325, 20030727,     1256
  18HU20030713, AR07W,   220,  1, 266116,     11,2,20030727,1226, 58.6392, -50.4200, 3560,   2000.0,   3.1957,  34.8791,2,  34.8786,2,    281.4,2,    282.3,2,    10.57,6,    16.63,6,     1.08, 6,    3.781,2,    2.067,2,    0.131,4,    3.125,4,    4.630,2,   2155.2,2,   -999.0,9,   3.0404, 20030727,     1300
  18HU20030713, AR07W,   220,  1, 266117,     12,2,20030727,1226, 58.6392, -50.4200, 3560,   1770.3,   3.3545,  34.8860,2,  34.8859,2,    278.1,2,    278.8,2,    10.77,6,    16.75,6,     1.09, 6,    2.363,3,    1.468,3,    0.019,4,    1.813,4,    2.481,6,   2157.3,2,   2292.5,2,   3.2179, 20030727,     1304
  18HU20030713, AR07W,   220,  1, 266118,     13,2,20030727,1226, 58.6392, -50.4200, 3560,   1530.1,   3.4462,  34.8781,2,  34.8776,2,    280.2,2,    281.0,6,    10.21,6,    16.26,6,     1.04, 6,    4.293,2,    2.407,2,    0.187,4,    3.515,4,    4.008,2,   2157.8,2,   2286.7,2,   3.3299, 20030727,     1309
  18HU20030713, AR07W,   220,  1, 266119,     14,2,20030727,1226, 58.6392, -50.4200, 3560,   1291.6,   3.2608,  34.8387,2,  34.8383,2,    293.7,2,    300.0,2,     9.34,6,    15.98,6,     1.01, 6,    4.893,2,    2.874,2,    0.220,4,    4.063,4,    3.225,2,   2154.3,2,   2297.1,2,   3.1668, 20030727,     1313
  18HU20030713, AR07W,   220,  1, 266120,     15,2,20030727,1226, 58.6392, -50.4200, 3560,   1070.2,   3.2467,  34.8350,2,  34.8344,2,    294.8,2,    295.7,2,     9.04,6,    15.85,6,     1.01, 6,    4.335,2,    2.603,2,    0.183,4,    3.364,4,    2.505,2,   2152.4,2,   2288.8,2,   3.1708, 20030727,     1318
  18HU20030713, AR07W,   220,  1, 266121,     16,2,20030727,1226, 58.6392, -50.4200, 3560,    870.3,   3.2563,  34.8349,2,  34.8344,2,    295.3,2,    297.4,2,     8.91,6,    15.85,6,     1.05, 6,    5.113,2,    2.961,2,    0.302,4,    4.206,4,    3.035,2,   2152.3,2,   2298.0,2,   3.1958, 20030727,     1321
  18HU20030713, AR07W,   220,  1, 266122,     17,2,20030727,1226, 58.6392, -50.4200, 3560,    679.6,   3.3151,  34.8392,2,  34.8389,2,    293.7,2,    296.2,2,     8.96,6,    15.71,6,     1.00, 6,    4.836,2,    2.868,2,    0.208,4,    4.002,4,    2.916,2,   2152.0,2,   2274.6,3,   3.2686, 20030727,     1325
  18HU20030713, AR07W,   220,  1, 266123,     18,2,20030727,1226, 58.6392, -50.4200, 3560,    510.6,   3.3989,  34.8403,2,  34.8393,2,    293.5,2,    294.0,2,     8.97,6,    16.08,6,     1.00, 6,    4.415,2,    2.669,2,    0.195,4,    3.451,4,    2.345,2,   2153.3,2,   2297.4,2,   3.3643, 20030727,     1328
  18HU20030713, AR07W,   220,  1, 266124,     19,2,20030727,1226, 58.6392, -50.4200, 3560,    359.3,   3.5770,  34.8459,2,  34.8467,2,    291.8,2,    292.4,2,     8.72,6,    15.84,6,     1.01, 6,    5.086,2,    2.968,2,    0.358,4,    4.296,4,    2.688,2,   2153.5,2,   2295.2,2,   3.5526, 20030727,     1332
  18HU20030713, AR07W,   220,  1, 266125,     20,2,20030727,1226, 58.6392, -50.4200, 3560,    239.8,   3.9465,  34.8652,2,-999.0000,9,    287.3,2,    289.8,2,     8.67,6,    15.98,6,     1.01, 6,    4.571,2,    2.812,2,    0.203,4,    3.754,4,    2.337,2,   2154.2,2,   2296.0,2,   3.9297, 20030727,     1334
  18HU20030713, AR07W,   220,  1, 266126,     21,2,20030727,1226, 58.6392, -50.4200, 3560,    139.6,   4.3692,  34.8675,2,-999.0000,9,    284.9,2,    285.5,2,     8.18,6,    15.29,6,     1.00, 6,    4.425,2,    2.697,2,    0.201,4,    3.480,4,    2.027,2,   2152.3,2,   2293.0,2,   4.3591, 20030727,     1336
  18HU20030713, AR07W,   220,  1, 266127,     22,2,20030727,1226, 58.6392, -50.4200, 3560,     70.0,   4.9973,  34.8547,2,-999.0000,9,    287.1,2,    286.4,2,     7.51,6,    14.16,6,     0.95, 6,    4.950,2,    2.970,2,    0.370,4,    4.106,4,    2.184,2,   2144.8,2,   2205.4,4,   4.9919, 20030727,     1338
  18HU20030713, AR07W,   220,  1, 266128,     23,2,20030727,1226, 58.6392, -50.4200, 3560,     36.0,   5.9965,  34.7039,2,-999.0000,9,    298.6,2,    300.7,2,     2.43,6,     5.56,6,     0.68, 6,    4.773,2,    2.974,2,    0.222,4,    3.952,4,    1.717,2,   2108.6,2,   2304.2,2,   5.9935, 20030727,     1339
  18HU20030713, AR07W,   220,  1, 266129,     24,2,20030727,1226, 58.6392, -50.4200, 3560,      3.6,   9.9751,  34.6204,2,-999.0000,9,    297.4,2,    305.7,2,     1.10,6,     0.44,6,     0.25, 6,    4.093,2,    2.588,4,    0.294,4,    3.427,4,    1.384,2,   2052.2,2,   2294.3,2,   9.9747, 20030727,     1341