BOTTLE,20220503SIOCCHCBG
EXPOCODE,SECT_ID,STNNBR,CASTNO,SAMPNO,BTLNBR,BTLNBR_FLAG_W,DATE,TIME,LATITUDE,LONGITUDE,DEPTH,CTDPRS,CTDTMP,CTDSAL,CTDSAL_FLAG_W,SALNTY,SALNTY_FLAG_W,CTDOXY,CTDOXY_FLAG_W,OXYGEN,OXYGEN_FLAG_W,SILCAT,SILCAT_FLAG_W,NO2+NO3,NO2+NO3_FLAG_W,PHSPHT,PHSPHT_FLAG_W,CFC-11,CFC-11_FLAG_W,CFC-12,CFC-12_FLAG_W,CFC113,CFC113_FLAG_W,CCL4,CCL4_FLAG_W,MCHFRM,MCHFRM_FLAG_W,TCARBN,TCARBN_FLAG_W,ALKALI,ALKALI_FLAG_W,THETA,BTL_DATE,BTL_TIME
,,,,,,,,,,,METERS,DBAR,ITS-90,PSS-78,,PSS-78,,UMOL/KG,,UMOL/KG,,UMOL/KG,,UMOL/KG,,UMOL/KG,,PMOL/KG,,PMOL/KG,,PMOL/KG,,PMOL/KG,,PMOL/KG,,UMOL/KG,,UMOL/KG,,DEG C,,
  18HU20030713, AR07W,   186,  1, 266000,      1,2,20030726,1522, 57.3772, -51.7918, 3459,    202.4,   3.9411,  34.8634,2,-999.0000,9,    289.9,2,   -999.0,9,     7.94,6,    15.27,6,     0.97, 6, -999.000,9, -999.000,9, -999.000,9, -999.000,9, -999.000,9,   -999.0,9,   -999.0,9,   3.9270, 20030726,     1522
  18HU20030713, AR07W,   186,  1, 266001,      2,2,20030726,1522, 57.3772, -51.7918, 3459,    152.5,   4.3786,  34.8927,2,-999.0000,9,    284.7,2,   -999.0,9,     7.85,6,    15.27,6,     0.97, 6, -999.000,9, -999.000,9, -999.000,9, -999.000,9, -999.000,9,   -999.0,9,   -999.0,9,   4.3675, 20030726,     1523
  18HU20030713, AR07W,   186,  1, 266002,      3,2,20030726,1522, 57.3772, -51.7918, 3459,    100.1,   4.6437,  34.8918,2,-999.0000,9,    283.4,2,   -999.0,9,     7.17,6,    14.28,6,     0.92, 6, -999.000,9, -999.000,9, -999.000,9, -999.000,9, -999.000,9,   -999.0,9,   -999.0,9,   4.6362, 20030726,     1525
  18HU20030713, AR07W,   186,  1, 266003,      4,2,20030726,1522, 57.3772, -51.7918, 3459,     81.2,   4.8024,  34.8950,2,-999.0000,9,    283.4,2,   -999.0,9,     7.73,6,    15.17,6,     0.96, 6, -999.000,9, -999.000,9, -999.000,9, -999.000,9, -999.000,9,   -999.0,9,   -999.0,9,   4.7963, 20030726,     1526
  18HU20030713, AR07W,   186,  1, 266004,      5,2,20030726,1522, 57.3772, -51.7918, 3459,     59.9,   4.6936,  34.8101,2,-999.0000,9,    296.5,2,   -999.0,9,     6.71,6,     9.56,6,     0.87, 6, -999.000,9, -999.000,9, -999.000,9, -999.000,9, -999.000,9,   -999.0,9,   -999.0,9,   4.6891, 20030726,     1527
  18HU20030713, AR07W,   186,  1, 266005,      6,2,20030726,1522, 57.3772, -51.7918, 3459,     50.5,   4.8885,  34.7930,2,-999.0000,9,    297.3,2,   -999.0,9,     5.84,6,     7.74,6,     0.81, 6, -999.000,9, -999.000,9, -999.000,9, -999.000,9, -999.000,9,   -999.0,9,   -999.0,9,   4.8847, 20030726,     1528
  18HU20030713, AR07W,   186,  1, 266006,      7,2,20030726,1522, 57.3772, -51.7918, 3459,     39.4,   6.9236,  34.7385,2,-999.0000,9,    298.1,2,   -999.0,9,     2.10,6,     4.31,6,     0.58, 6, -999.000,9, -999.000,9, -999.000,9, -999.000,9, -999.000,9,   -999.0,9,   -999.0,9,   6.9200, 20030726,     1529
  18HU20030713, AR07W,   186,  1, 266007,      8,2,20030726,1522, 57.3772, -51.7918, 3459,     29.8,   7.3556,  34.7391,2,-999.0000,9,    305.4,2,   -999.0,9,     1.05,6,     2.95,6,     0.39, 6, -999.000,9, -999.000,9, -999.000,9, -999.000,9, -999.000,9,   -999.0,9,   -999.0,9,   7.3528, 20030726,     1530
  18HU20030713, AR07W,   186,  1, 266008,      9,2,20030726,1522, 57.3772, -51.7918, 3459,     30.0,   7.3359,  34.7387,2,-999.0000,9,    305.5,2,   -999.0,9,  -999.00,9,  -999.00,9,  -999.00, 9, -999.000,9, -999.000,9, -999.000,9, -999.000,9, -999.000,9,   -999.0,9,   -999.0,9,   7.3331, 20030726,     1530
  18HU20030713, AR07W,   186,  1, 266009,     10,2,20030726,1522, 57.3772, -51.7918, 3459,     29.8,   7.3456,  34.7400,2,-999.0000,9,    306.0,2,   -999.0,9,  -999.00,9,  -999.00,9,  -999.00, 9, -999.000,9, -999.000,9, -999.000,9, -999.000,9, -999.000,9,   -999.0,9,   -999.0,9,   7.3428, 20030726,     1530
  18HU20030713, AR07W,   186,  1, 266010,     11,2,20030726,1522, 57.3772, -51.7918, 3459,     20.1,   8.0154,  34.7273,2,-999.0000,9,    317.5,2,   -999.0,9,     0.95,6,     1.76,6,     0.29, 6, -999.000,9, -999.000,9, -999.000,9, -999.000,9, -999.000,9,   -999.0,9,   -999.0,9,   8.0134, 20030726,     1531
  18HU20030713, AR07W,   186,  1, 266011,     12,2,20030726,1522, 57.3772, -51.7918, 3459,     10.8,   9.5034,  34.7170,2,-999.0000,9,    306.9,2,   -999.0,9,     1.07,6,     0.67,6,     0.23, 6, -999.000,9, -999.000,9, -999.000,9, -999.000,9, -999.000,9,   -999.0,9,   -999.0,9,   9.5022, 20030726,     1532
  18HU20030713, AR07W,   186,  1, 266012,     13,2,20030726,1522, 57.3772, -51.7918, 3459,      3.4,   9.9074,  34.7267,2,-999.0000,9,    301.2,2,   -999.0,9,     1.40,6,     0.70,6,     0.22, 6, -999.000,9, -999.000,9, -999.000,9, -999.000,9, -999.000,9,   -999.0,9,   -999.0,9,   9.9070, 20030726,     1533
  18HU20030713, AR07W,   186,  1, 266013,     14,2,20030726,1522, 57.3772, -51.7918, 3459,      2.9,   9.9141,  34.7272,2,-999.0000,9,    300.9,2,   -999.0,9,  -999.00,9,  -999.00,9,  -999.00, 9, -999.000,9, -999.000,9, -999.000,9, -999.000,9, -999.000,9,   -999.0,9,   -999.0,9,   9.9138, 20030726,     1533
  18HU20030713, AR07W,   186,  1, 266014,     15,2,20030726,1522, 57.3772, -51.7918, 3459,      3.1,   9.9124,  34.7272,2,-999.0000,9,    300.5,2,   -999.0,9,  -999.00,9,  -999.00,9,  -999.00, 9, -999.000,9, -999.000,9, -999.000,9, -999.000,9, -999.000,9,   -999.0,9,   -999.0,9,   9.9120, 20030726,     1533
  18HU20030713, AR07W,   186,  1, 266015,     16,2,20030726,1522, 57.3772, -51.7918, 3459,      3.3,   9.9225,  34.7260,2,-999.0000,9,    300.8,2,   -999.0,9,  -999.00,9,  -999.00,9,  -999.00, 9, -999.000,9, -999.000,9, -999.000,9, -999.000,9, -999.000,9,   -999.0,9,   -999.0,9,   9.9221, 20030726,     1534
  18HU20030713, AR07W,   186,  1, 266016,     17,2,20030726,1522, 57.3772, -51.7918, 3459,      2.8,   9.9121,  34.7266,2,-999.0000,9,    301.2,2,   -999.0,9,  -999.00,9,  -999.00,9,  -999.00, 9, -999.000,9, -999.000,9, -999.000,9, -999.000,9, -999.000,9,   -999.0,9,   -999.0,9,   9.9118, 20030726,     1534
  18HU20030713, AR07W,   187,  1, 266017,      1,2,20030726,1742, 57.3777, -51.7908, 3459,   3583.8,   1.5409,  34.8831,2,-999.0000,9,    293.0,2,   -999.0,9,  -999.00,9,  -999.00,9,  -999.00, 9, -999.000,9, -999.000,9, -999.000,9, -999.000,9, -999.000,9,   -999.0,9,   -999.0,9,   1.2639, 20030726,     1742
  18HU20030713, AR07W,   187,  1, 266018,      2,2,20030726,1742, 57.3777, -51.7908, 3459,   3499.4,   1.6955,  34.8783,2,  34.8780,2,    291.4,2,    294.4,2,    10.06,6,    13.81,6,     0.91, 6,    3.866,6,    3.000,3,    0.134,4,    4.691,4,    6.415,6,   2157.4,2,   2295.4,3,   1.4233, 20030726,     1744
  18HU20030713, AR07W,   187,  1, 266019,      3,2,20030726,1742, 57.3777, -51.7908, 3459,   3409.4,   1.9182,  34.8808,2,  34.8814,2,    289.3,2,    290.0,2,     9.95,6,    13.36,6,     0.90, 6,    3.697,2,    2.823,4,    0.200,4,    4.534,4,    6.289,2,   2155.9,2,   2292.4,2,   1.6498, 20030726,     1746
  18HU20030713, AR07W,   187,  1, 266020,      4,2,20030726,1742, 57.3777, -51.7908, 3459,   3299.0,   2.2394,  34.8916,2,  34.8922,2,    283.5,2,    285.2,2,    11.50,6,    13.69,6,     0.94, 6,    3.084,2,    2.267,4,    0.096,4,    3.707,4,    5.667,2,   2155.2,2,   2301.4,2,   1.9747, 20030726,     1749
  18HU20030713, AR07W,   187,  1, 266021,      5,2,20030726,1742, 57.3777, -51.7908, 3459,   3178.2,   2.4522,  34.8998,2,  34.9004,2,    280.3,2,    280.9,2,    11.73,6,    14.18,6,     0.94, 6,    2.802,2,    3.155,4,    0.081,4,    3.480,4,    5.618,2,   2159.3,2,   2291.0,2,   2.1951, 20030726,     1751
  18HU20030713, AR07W,   187,  1, 266022,      6,2,20030726,1742, 57.3777, -51.7908, 3459,   3038.0,   2.6506,  34.9109,2,  34.9115,6,    277.0,2,    277.9,2,    11.69,6,    14.11,6,     0.95, 6,    2.562,2,    2.133,4,    0.123,4,    3.226,4,    5.344,2,   2156.9,2,   2303.0,2,   2.4036, 20030726,     1754
  18HU20030713, AR07W,   187,  1, 266023,      7,2,20030726,1742, 57.3777, -51.7908, 3459,   2878.5,   2.7944,  34.9098,2,  34.9101,2,    277.4,2,    278.1,2,    12.27,6,    15.94,6,     1.05, 6,    2.757,2,    2.099,4,    0.100,4,    3.375,4,    5.608,2,   2155.0,2,   2297.1,2,   2.5607, 20030726,     1757
  18HU20030713, AR07W,   187,  1, 266024,      8,2,20030726,1742, 57.3777, -51.7908, 3459,   2689.8,   2.9359,  34.9048,2,  34.9054,2,    277.6,2,    278.3,2,    11.46,6,    15.82,6,     1.03, 6,    2.795,2,    3.181,4,    0.083,4,    3.347,4,    5.971,2,   2156.0,2,   2298.0,2,   2.7184, 20030726,     1801
  18HU20030713, AR07W,   187,  1, 266025,      9,2,20030726,1742, 57.3777, -51.7908, 3459,   2480.1,   3.0463,  34.8979,2,  34.8985,2,    278.5,2,   -999.0,9,    10.43,3,    15.19,3,     0.98, 3,    3.017,2,    2.317,4,    0.089,4,    3.582,4,    6.615,2,   2155.4,2,   2295.0,2,   2.8476, 20030726,     1805
  18HU20030713, AR07W,   187,  1, 266026,     10,2,20030726,1742, 57.3777, -51.7908, 3459,   2249.0,   3.1127,  34.8848,2,  34.8859,2,    281.1,2,    281.0,2,    10.11,3,    15.45,3,     1.01, 3,    3.425,2,    2.686,4,    0.098,4,    4.074,4,    7.694,2,   2155.1,2,   2291.4,2,   2.9353, 20030726,     1809
  18HU20030713, AR07W,   187,  1, 266027,     11,2,20030726,1742, 57.3777, -51.7908, 3459,   2008.4,   3.1812,  34.8778,2,  34.8790,6,    281.9,2,    281.6,2,    10.13,6,    15.82,6,     1.06, 6,    3.665,2,    2.015,3,    0.162,4,    4.101,4,    8.159,2,   2155.2,2,   2295.6,2,   3.0253, 20030726,     1814
  18HU20030713, AR07W,   187,  1, 266028,     12,2,20030726,1742, 57.3777, -51.7908, 3459,   1769.6,   3.3288,  34.8828,2,  34.8837,2,    278.6,2,    278.1,2,    10.14,6,    16.32,6,     1.05, 6,    3.665,2,    3.330,4,    0.148,4,    4.129,4,    7.888,2,   2157.9,2,   2285.8,2,   3.1926, 20030726,     1818
  18HU20030713, AR07W,   187,  1, 266029,     13,2,20030726,1742, 57.3777, -51.7908, 3459,   1529.3,   3.4131,  34.8748,2,  34.8747,2,    280.5,2,    281.4,6,     9.31,6,    15.45,6,     1.03, 6,    3.973,2,    1.555,4,    0.129,4,    4.701,4,    6.973,2,   2156.2,2,   2302.3,3,   3.2972, 20030726,     1822
  18HU20030713, AR07W,   187,  1, 266030,     14,2,20030726,1742, 57.3777, -51.7908, 3459,   1291.2,   3.2431,  34.8368,2,  34.8379,2,    294.0,2,    294.2,2,     7.90,3,    14.14,3,     0.97, 6,    4.742,2,    3.481,4,    0.330,4,    5.617,4,    5.485,2,   2154.1,2,   2290.9,2,   3.1493, 20030726,     1827
  18HU20030713, AR07W,   187,  1, 266031,     15,2,20030726,1742, 57.3777, -51.7908, 3459,   1068.9,   3.2311,  34.8334,2,  34.8340,2,    295.0,2,    294.8,2,     8.87,6,    16.03,6,     1.04, 6,    4.760,2,    3.565,4,    0.321,4,    5.379,4,    5.358,2,   2154.6,2,   2294.4,2,   3.1554, 20030726,     1831
  18HU20030713, AR07W,   187,  1, 266032,     16,2,20030726,1742, 57.3777, -51.7908, 3459,    869.6,   3.2312,  34.8316,2,  34.8326,2,    296.2,2,    295.9,2,     7.89,3,    14.44,6,     0.96, 6,    4.736,2,    3.276,4,    0.342,4,    5.912,4,    5.333,2,   2152.5,2,   2298.9,2,   3.1710, 20030726,     1835
  18HU20030713, AR07W,   187,  1, 266033,     17,2,20030726,1742, 57.3777, -51.7908, 3459,    680.1,   3.2531,  34.8317,2,  34.8318,2,    295.6,2,    294.2,6,     7.03,4,    12.82,3,     0.88, 3,    4.912,2,    3.679,4,    0.327,4,    5.806,4,    5.290,2,   2153.7,2,   2292.9,2,   3.2069, 20030726,     1839
  18HU20030713, AR07W,   187,  1, 266034,     18,2,20030726,1742, 57.3777, -51.7908, 3459,    510.0,   3.3306,  34.8358,2,  34.8365,2,    294.4,2,   -999.0,9,     8.48,6,    15.97,6,     1.04, 6,    4.666,2,    0.891,4,    0.354,4,    5.964,4,    5.190,2,   2154.3,2,   2297.8,2,   3.2963, 20030726,     1842
  18HU20030713, AR07W,   187,  1, 266035,     19,2,20030726,1742, 57.3777, -51.7908, 3459,    358.6,   3.5516,  34.8504,2,-999.0000,9,    292.6,2,    292.7,6,     8.24,6,    15.86,6,     1.03, 6,    4.902,2,    3.687,4,    0.348,4,    5.612,4,    4.675,2,   2154.4,2,   2294.0,2,   3.5273, 20030726,     1845
  18HU20030713, AR07W,   187,  1, 266036,     20,2,20030726,1742, 57.3777, -51.7908, 3459,    240.5,   3.7869,  34.8610,2,-999.0000,9,    290.4,2,    289.6,2,     8.25,6,    16.02,6,     1.06, 6,    4.884,2,    3.817,4,    0.337,4,    5.676,4,    4.440,2,   2155.0,2,   2290.0,2,   3.7704, 20030726,     1847
  18HU20030713, AR07W,   187,  1, 266037,     21,2,20030726,1742, 57.3777, -51.7908, 3459,    139.3,   4.2430,  34.8808,2,-999.0000,9,    285.6,2,    284.6,2,     7.36,6,    14.57,6,     0.95, 6,    4.504,2,    1.808,3,    0.580,4,    5.558,4,    3.933,2,   2155.5,2,   2295.2,2,   4.2330, 20030726,     1850
  18HU20030713, AR07W,   187,  1, 266038,     22,2,20030726,1742, 57.3777, -51.7908, 3459,     70.5,   4.7585,  34.8969,2,-999.0000,9,    283.2,2,    281.6,2,     7.16,6,    14.67,6,     0.97, 6,    4.822,2,    3.911,4,    0.311,4,    5.475,4,    3.745,2,   2150.5,2,   2298.5,2,   4.7532, 20030726,     1851
  18HU20030713, AR07W,   187,  1, 266039,     23,2,20030726,1742, 57.3777, -51.7908, 3459,     34.2,   4.8974,  34.8087,2,-999.0000,9,    294.6,2,   -999.0,9,     5.66,6,     8.16,6,     0.83, 6,    5.142,2,    4.495,4,    0.371,4,    6.258,4,    3.588,2,   2139.9,2,   2299.5,2,   4.8948, 20030726,     1852
  18HU20030713, AR07W,   187,  1, 266040,     24,2,20030726,1742, 57.3777, -51.7908, 3459,      2.5,   9.9277,  34.7076,2,-999.0000,9,    302.1,2,    305.2,2,     0.76,6,     0.60,6,     0.24, 6,    4.321,2,    3.183,4,    0.358,4,    5.472,4,    2.572,2,   2059.3,2,   2302.2,2,   9.9274, 20030726,     1853