BOTTLE,20220503SIOCCHCBG
EXPOCODE,SECT_ID,STNNBR,CASTNO,SAMPNO,BTLNBR,BTLNBR_FLAG_W,DATE,TIME,LATITUDE,LONGITUDE,DEPTH,CTDPRS,CTDTMP,CTDSAL,CTDSAL_FLAG_W,SALNTY,SALNTY_FLAG_W,CTDOXY,CTDOXY_FLAG_W,OXYGEN,OXYGEN_FLAG_W,SILCAT,SILCAT_FLAG_W,NO2+NO3,NO2+NO3_FLAG_W,PHSPHT,PHSPHT_FLAG_W,CFC-11,CFC-11_FLAG_W,CFC-12,CFC-12_FLAG_W,CFC113,CFC113_FLAG_W,CCL4,CCL4_FLAG_W,MCHFRM,MCHFRM_FLAG_W,TCARBN,TCARBN_FLAG_W,ALKALI,ALKALI_FLAG_W,THETA,BTL_DATE,BTL_TIME
,,,,,,,,,,,METERS,DBAR,ITS-90,PSS-78,,PSS-78,,UMOL/KG,,UMOL/KG,,UMOL/KG,,UMOL/KG,,UMOL/KG,,PMOL/KG,,PMOL/KG,,PMOL/KG,,PMOL/KG,,PMOL/KG,,UMOL/KG,,UMOL/KG,,DEG C,,
  18HU20030713, AR07W,   286,  1, 266305,      1,2,20030729,0852, 60.1707, -48.6792, 2814,   2896.2,   2.1050,  34.8903,2,  34.8949,2,    288.3,2,    287.3,2,     9.65,6,    13.68,6,     0.97, 6,    3.590,2,    1.574,3,    0.210,4,    4.241,4,    5.965,2,   2157.6,2,   2299.7,2,   1.8841, 20030729,      852
  18HU20030713, AR07W,   286,  1, 266306,      2,2,20030729,0852, 60.1707, -48.6792, 2814,   2840.2,   2.1053,  34.8907,2,  34.8908,2,    287.8,2,    287.1,2,    10.23,6,    14.47,6,     0.99, 6,    3.743,2,    1.680,3,    0.171,4,    4.197,4,    6.220,2,   2157.8,2,   2296.9,2,   1.8898, 20030729,      854
  18HU20030713, AR07W,   286,  1, 266307,      3,2,20030729,0852, 60.1707, -48.6792, 2814,   2759.2,   2.1948,  34.8934,2,  34.8934,2,    286.1,2,    285.8,2,    10.79,6,    14.57,6,     1.01, 6,    3.382,2,    1.523,3,    0.238,4,    4.101,4,    5.769,2,   2158.5,2,   2304.5,2,   1.9853, 20030729,      856
  18HU20030713, AR07W,   286,  1, 266308,      4,2,20030729,0852, 60.1707, -48.6792, 2814,   2659.6,   2.3192,  34.8972,2,  34.8973,2,    284.4,2,    283.7,2,    11.19,6,    15.19,6,     1.03, 6,    3.298,2,    2.121,4,    0.264,4,    3.928,4,    5.817,2,   2158.2,2,   2309.3,2,   2.1168, 20030729,      859
  18HU20030713, AR07W,   286,  1, 266309,      5,2,20030729,0852, 60.1707, -48.6792, 2814,   2540.5,   2.4098,  34.8993,2,  34.8994,6,    283.2,2,    282.9,2,    11.16,6,    15.34,6,     1.03, 6,    3.452,2,    1.201,4,    0.339,4,    3.835,4,    5.787,2,   2159.1,2,   2300.5,2,   2.2170, 20030729,      902
  18HU20030713, AR07W,   286,  1, 266310,      6,2,20030729,0852, 60.1707, -48.6792, 2814,   2401.5,   2.6498,  34.9098,2,  34.9107,2,    278.9,2,    277.9,2,    12.16,6,    15.73,6,     1.09, 6,    2.703,2,    0.995,4,    0.100,4,    3.353,4,    5.434,2,   2160.1,2,   2313.3,2,   2.4658, 20030729,      904
  18HU20030713, AR07W,   286,  1, 266311,      7,2,20030729,0852, 60.1707, -48.6792, 2814,   2240.8,   2.8100,  34.9064,2,  34.9069,2,    278.9,2,    278.7,2,    11.20,6,    15.55,6,     1.07, 6,    2.808,2,    0.673,4,    0.199,4,    3.409,4,    5.772,2,   2158.4,2,   2309.6,2,   2.6383, 20030729,      908
  18HU20030713, AR07W,   286,  1, 266312,      8,2,20030729,0852, 60.1707, -48.6792, 2814,   2061.5,   3.0047,  34.9023,2,  34.9022,2,    279.9,2,    279.8,2,     9.95,6,    15.25,6,     1.03, 6,    3.498,2,    1.335,4,    0.552,4,    3.893,4,    6.589,2,   2158.2,2,   2298.6,2,   2.8465, 20030729,      912
  18HU20030713, AR07W,   286,  1, 266313,      9,2,20030729,0852, 60.1707, -48.6792, 2814,   1860.5,   3.0920,  34.8908,2,  34.8908,2,    281.3,2,    281.3,2,     9.88,6,    15.68,6,     1.05, 6,    3.531,2,    1.516,3,    1.105,4,    3.768,4,    7.184,2,   2157.9,2,   2310.1,2,   2.9509, 20030729,      916
  18HU20030713, AR07W,   286,  1, 266314,     10,2,20030729,0852, 60.1707, -48.6792, 2814,   1661.2,   3.1914,  34.8888,2,  34.8890,2,    281.3,2,    280.3,2,     9.98,6,    16.12,6,     1.08, 6,    3.761,2,    1.684,3,    0.214,4,    4.055,4,    7.835,2,   2157.8,2,   2303.2,2,   3.0666, 20030729,      920
  18HU20030713, AR07W,   286,  1, 266315,     11,2,20030729,0852, 60.1707, -48.6792, 2814,   1461.3,   3.3285,  34.8931,2,  34.8936,2,    278.9,2,    278.8,6,    10.16,6,    16.75,6,     1.10, 6,    3.798,2,    1.467,4,    0.272,4,    4.262,4,    7.665,2,   2159.7,2,   2302.0,2,   3.2194, 20030729,      924
  18HU20030713, AR07W,   286,  1, 266316,     12,2,20030729,0852, 60.1707, -48.6792, 2814,   1260.1,   3.4744,  34.8937,2,  34.8938,2,    277.3,2,    278.0,2,     9.67,6,    16.34,6,     1.08, 6,    3.992,2,    1.915,3,    0.599,4,    4.276,4,    7.201,2,   2159.4,2,   2295.9,2,   3.3808, 20030729,      929
  18HU20030713, AR07W,   286,  1, 266317,     13,2,20030729,0852, 60.1707, -48.6792, 2814,   1060.0,   3.3047,  34.8472,2,  34.8475,2,    290.9,2,    291.3,2,     9.09,6,    15.94,6,     1.07, 6,    4.939,3,    2.721,3,    0.249,4,    5.324,4,    6.082,2,   2156.0,2,   2297.9,2,   3.2291, 20030729,      933
  18HU20030713, AR07W,   286,  1, 266318,     14,2,20030729,0852, 60.1707, -48.6792, 2814,    880.2,   3.4747,  34.8633,2,  34.8642,2,    286.9,2,    286.1,2,     8.66,6,    15.96,6,     1.10, 6,    4.633,2,    2.793,3,    0.504,4,    5.613,4,    6.034,2,   2157.8,2,   2296.8,2,   3.4119, 20030729,      937
  18HU20030713, AR07W,   286,  1, 266319,     15,2,20030729,0852, 60.1707, -48.6792, 2814,    720.5,   3.6413,  34.8724,2,  34.8727,2,    285.3,2,    285.3,2,     8.28,6,    15.73,6,     1.04, 6,    4.633,2,    2.401,3,    0.577,4,    5.322,4,    5.460,2,   2157.7,2,   2304.1,2,   3.5899, 20030729,      940
  18HU20030713, AR07W,   286,  1, 266320,     16,2,20030729,0852, 60.1707, -48.6792, 2814,    580.1,   3.8917,  34.8866,2,  34.8879,2,    285.3,2,    284.7,2,     8.40,6,    16.09,6,     1.06, 6,    4.749,2,    2.585,3,    0.571,4,    5.208,4,    5.145,2,   2156.3,2,   2293.0,2,   3.8498, 20030729,      944
  18HU20030713, AR07W,   286,  1, 266321,     17,2,20030729,0852, 60.1707, -48.6792, 2814,    460.3,   4.1190,  34.8976,2,  34.8987,2,    282.5,2,    281.7,2,     8.15,6,    15.81,6,     1.05, 6,    4.569,2,    1.946,3,    0.443,4,    5.626,4,    8.910,2,   2156.5,2,   2290.9,2,   4.0853, 20030729,      946
  18HU20030713, AR07W,   286,  1, 266322,     18,2,20030729,0852, 60.1707, -48.6792, 2814,    339.7,   4.4775,  34.9127,2,  34.9130,2,    283.2,2,    281.6,2,     8.21,6,    16.29,6,     1.07, 6,    4.746,2,    2.644,3,    0.447,4,    5.495,4,    4.402,2,   2156.9,2,   2293.9,2,   4.4520, 20030729,      949
  18HU20030713, AR07W,   286,  1, 266323,     19,2,20030729,0852, 60.1707, -48.6792, 2814,    240.9,   4.8975,  34.9333,2,-999.0000,9,    282.6,2,   -999.0,9,     7.72,6,    15.60,6,     1.04, 6,    4.797,2,    2.722,3,    0.284,4,    5.210,4,    4.060,2,   2153.7,2,   2299.8,2,   4.8788, 20030729,      951
  18HU20030713, AR07W,   286,  1, 266324,     20,2,20030729,0852, 60.1707, -48.6792, 2814,    139.0,   5.2659,  34.9484,2,-999.0000,9,    284.7,2,    278.0,2,     7.56,6,    15.43,6,     1.04, 6,    4.786,2,    2.833,3,    0.821,4,    5.725,4,    3.554,2,   2151.2,2,   2302.2,2,   5.2548, 20030729,      954
  18HU20030713, AR07W,   286,  1, 266325,     21,2,20030729,0852, 60.1707, -48.6792, 2814,     80.6,   5.6078,  34.9191,2,-999.0000,9,    292.1,2,    291.0,2,     6.01,3,    11.71,3,     0.91, 3,    5.111,2,    2.915,3,    0.533,4,    6.305,4,    3.426,2,   2143.3,2,   2309.1,2,   5.6012, 20030729,      956
  18HU20030713, AR07W,   286,  1, 266326,     22,2,20030729,0852, 60.1707, -48.6792, 2814,     35.3,   6.8164,  34.8539,2,-999.0000,9,    300.4,2,    302.0,2,     2.06,6,     8.84,6,     0.78, 6,    5.119,2,    3.087,3,    0.680,4,    6.394,4,    3.159,2,   2115.1,2,   2299.8,2,   6.8132, 20030729,      957
  18HU20030713, AR07W,   286,  1, 266327,     23,2,20030729,0852, 60.1707, -48.6792, 2814,      4.0,   7.4680,  34.4716,2,-999.0000,9,    311.1,2,    310.6,2,     0.76,6,     5.08,6,     0.48, 6, -999.000,9, -999.000,9, -999.000,9, -999.000,9, -999.000,9,   2079.4,2,   2281.8,2,   7.4676, 20030729,      959
  18HU20030713, AR07W,   290,  1, 266328,      1,2,20030729,1302, 59.7437, -49.1553, 2165,    199.8,   4.7322,  34.9021,2,-999.0000,9,    286.0,2,   -999.0,9,     7.43,6,    15.25,6,     1.03, 6, -999.000,9, -999.000,9, -999.000,9, -999.000,9, -999.000,9,   -999.0,9,   -999.0,9,   4.7170, 20030729,     1302
  18HU20030713, AR07W,   290,  1, 266329,      2,2,20030729,1302, 59.7437, -49.1553, 2165,    150.0,   5.1731,  34.9300,2,-999.0000,9,    286.2,2,   -999.0,9,     7.61,6,    15.26,6,     1.01, 6, -999.000,9, -999.000,9, -999.000,9, -999.000,9, -999.000,9,   -999.0,9,   -999.0,9,   5.1612, 20030729,     1303
  18HU20030713, AR07W,   290,  1, 266330,      3,2,20030729,1302, 59.7437, -49.1553, 2165,    100.2,   5.5143,  34.9281,2,-999.0000,9,    287.1,2,   -999.0,9,     6.44,6,    13.17,6,     0.91, 6, -999.000,9, -999.000,9, -999.000,9, -999.000,9, -999.000,9,   -999.0,9,   -999.0,9,   5.5061, 20030729,     1305
  18HU20030713, AR07W,   290,  1, 266331,      4,2,20030729,1302, 59.7437, -49.1553, 2165,     79.6,   5.5423,  34.8799,2,-999.0000,9,    291.5,2,   -999.0,9,     5.43,6,    11.35,6,     0.85, 6, -999.000,9, -999.000,9, -999.000,9, -999.000,9, -999.000,9,   -999.0,9,   -999.0,9,   5.5358, 20030729,     1306
  18HU20030713, AR07W,   290,  1, 266332,      5,2,20030729,1302, 59.7437, -49.1553, 2165,     60.2,   5.7032,  34.8207,2,-999.0000,9,    297.1,2,   -999.0,9,     4.85,6,    10.63,6,     0.86, 6, -999.000,9, -999.000,9, -999.000,9, -999.000,9, -999.000,9,   -999.0,9,   -999.0,9,   5.6982, 20030729,     1308
  18HU20030713, AR07W,   290,  1, 266333,      6,2,20030729,1302, 59.7437, -49.1553, 2165,     50.3,   5.3313,  34.6832,2,-999.0000,9,    303.4,2,   -999.0,9,     1.79,6,     5.05,6,     0.67, 6, -999.000,9, -999.000,9, -999.000,9, -999.000,9, -999.000,9,   -999.0,9,   -999.0,9,   5.3273, 20030729,     1309
  18HU20030713, AR07W,   290,  1, 266334,      7,2,20030729,1302, 59.7437, -49.1553, 2165,     40.7,   6.2747,  34.6476,2,-999.0000,9,    303.4,2,   -999.0,9,     0.68,6,     2.59,6,     0.51, 6, -999.000,9, -999.000,9, -999.000,9, -999.000,9, -999.000,9,   -999.0,9,   -999.0,9,   6.2712, 20030729,     1310
  18HU20030713, AR07W,   290,  1, 266335,      8,2,20030729,1302, 59.7437, -49.1553, 2165,     29.8,   7.4698,  34.5558,2,-999.0000,9,    308.7,2,   -999.0,9,     0.49,6,     0.31,6,     0.26, 6, -999.000,9, -999.000,9, -999.000,9, -999.000,9, -999.000,9,   -999.0,9,   -999.0,9,   7.4670, 20030729,     1311
  18HU20030713, AR07W,   290,  1, 266336,      9,2,20030729,1302, 59.7437, -49.1553, 2165,     21.2,   8.2564,  34.4984,2,-999.0000,9,    306.9,2,   -999.0,9,     0.73,6,     2.08,6,     0.34, 6, -999.000,9, -999.000,9, -999.000,9, -999.000,9, -999.000,9,   -999.0,9,   -999.0,9,   8.2543, 20030729,     1313
  18HU20030713, AR07W,   290,  1, 266337,     10,2,20030729,1302, 59.7437, -49.1553, 2165,     21.5,   8.2537,  34.5027,2,-999.0000,9,    307.5,2,   -999.0,9,  -999.00,9,  -999.00,9,  -999.00, 9, -999.000,9, -999.000,9, -999.000,9, -999.000,9, -999.000,9,   -999.0,9,   -999.0,9,   8.2515, 20030729,     1313
  18HU20030713, AR07W,   290,  1, 266338,     11,2,20030729,1302, 59.7437, -49.1553, 2165,     22.0,   8.2478,  34.5007,2,-999.0000,9,    307.6,2,   -999.0,9,  -999.00,9,  -999.00,9,  -999.00, 9, -999.000,9, -999.000,9, -999.000,9, -999.000,9, -999.000,9,   -999.0,9,   -999.0,9,   8.2456, 20030729,     1313
  18HU20030713, AR07W,   290,  1, 266339,     12,2,20030729,1302, 59.7437, -49.1553, 2165,      9.6,   8.1705,  34.4196,2,-999.0000,9,    309.5,2,   -999.0,9,     0.84,6,     1.62,6,     0.32, 6, -999.000,9, -999.000,9, -999.000,9, -999.000,9, -999.000,9,   -999.0,9,   -999.0,9,   8.1695, 20030729,     1314
  18HU20030713, AR07W,   290,  1, 266340,     13,2,20030729,1302, 59.7437, -49.1553, 2165,      3.1,   8.1975,  34.4089,2,-999.0000,9,    310.0,2,   -999.0,9,     0.75,6,     1.27,6,     0.28, 6, -999.000,9, -999.000,9, -999.000,9, -999.000,9, -999.000,9,   -999.0,9,   -999.0,9,   8.1972, 20030729,     1315
  18HU20030713, AR07W,   290,  1, 266341,     14,2,20030729,1302, 59.7437, -49.1553, 2165,      3.4,   8.1939,  34.4036,2,-999.0000,9,    309.8,2,   -999.0,9,  -999.00,9,  -999.00,9,  -999.00, 9, -999.000,9, -999.000,9, -999.000,9, -999.000,9, -999.000,9,   -999.0,9,   -999.0,9,   8.1936, 20030729,     1315
  18HU20030713, AR07W,   290,  1, 266342,     15,2,20030729,1302, 59.7437, -49.1553, 2165,      3.8,   8.2013,  34.3998,2,-999.0000,9,    310.2,2,   -999.0,9,  -999.00,9,  -999.00,9,  -999.00, 9, -999.000,9, -999.000,9, -999.000,9, -999.000,9, -999.000,9,   -999.0,9,   -999.0,9,   8.2009, 20030729,     1315
  18HU20030713, AR07W,   290,  1, 266343,     16,2,20030729,1302, 59.7437, -49.1553, 2165,      3.4,   8.1902,  34.3908,2,-999.0000,9,    310.5,2,   -999.0,9,  -999.00,9,  -999.00,9,  -999.00, 9, -999.000,9, -999.000,9, -999.000,9, -999.000,9, -999.000,9,   -999.0,9,   -999.0,9,   8.1899, 20030729,     1316
  18HU20030713, AR07W,   290,  1, 266344,     17,2,20030729,1302, 59.7437, -49.1553, 2165,      3.5,   8.1930,  34.3882,2,-999.0000,9,    310.6,2,   -999.0,9,  -999.00,9,  -999.00,9,  -999.00, 9, -999.000,9, -999.000,9, -999.000,9, -999.000,9, -999.000,9,   -999.0,9,   -999.0,9,   8.1926, 20030729,     1316