BOTTLE,20220503SIOCCHCBG
EXPOCODE,SECT_ID,STNNBR,CASTNO,SAMPNO,BTLNBR,BTLNBR_FLAG_W,DATE,TIME,LATITUDE,LONGITUDE,DEPTH,CTDPRS,CTDTMP,CTDSAL,CTDSAL_FLAG_W,SALNTY,SALNTY_FLAG_W,CTDOXY,CTDOXY_FLAG_W,OXYGEN,OXYGEN_FLAG_W,SILCAT,SILCAT_FLAG_W,NO2+NO3,NO2+NO3_FLAG_W,PHSPHT,PHSPHT_FLAG_W,CFC-11,CFC-11_FLAG_W,CFC-12,CFC-12_FLAG_W,CFC113,CFC113_FLAG_W,CCL4,CCL4_FLAG_W,MCHFRM,MCHFRM_FLAG_W,TCARBN,TCARBN_FLAG_W,ALKALI,ALKALI_FLAG_W,THETA,BTL_DATE,BTL_TIME
,,,,,,,,,,,METERS,DBAR,ITS-90,PSS-78,,PSS-78,,UMOL/KG,,UMOL/KG,,UMOL/KG,,UMOL/KG,,UMOL/KG,,PMOL/KG,,PMOL/KG,,PMOL/KG,,PMOL/KG,,PMOL/KG,,UMOL/KG,,UMOL/KG,,DEG C,,
  18HU20030713, AR07W,   259,  1, 266202,      1,2,20030728,1012, 59.9847, -48.8988, 3500,    202.6,   5.0813,  34.9508,2,-999.0000,9,    284.1,2,   -999.0,9,     8.17,6,    15.62,6,     1.05, 6, -999.000,9, -999.000,9, -999.000,9, -999.000,9, -999.000,9,   -999.0,9,   -999.0,9,   5.0653, 20030728,     1012
  18HU20030713, AR07W,   259,  1, 266203,      2,2,20030728,1012, 59.9847, -48.8988, 3500,    150.1,   5.5652,  34.9863,2,-999.0000,9,    283.2,2,   -999.0,9,     7.68,6,    15.45,6,     0.97, 6, -999.000,9, -999.000,9, -999.000,9, -999.000,9, -999.000,9,   -999.0,9,   -999.0,9,   5.5528, 20030728,     1014
  18HU20030713, AR07W,   259,  1, 266204,      3,2,20030728,1012, 59.9847, -48.8988, 3500,     99.9,   5.9164,  34.9964,2,-999.0000,9,    282.9,2,   -999.0,9,     7.06,6,    14.83,6,     0.94, 6, -999.000,9, -999.000,9, -999.000,9, -999.000,9, -999.000,9,   -999.0,9,   -999.0,9,   5.9079, 20030728,     1016
  18HU20030713, AR07W,   259,  1, 266205,      4,2,20030728,1012, 59.9847, -48.8988, 3500,     81.0,   6.2133,  34.9810,2,-999.0000,9,    285.0,2,   -999.0,9,     5.97,6,    13.94,6,     0.93, 6, -999.000,9, -999.000,9, -999.000,9, -999.000,9, -999.000,9,   -999.0,9,   -999.0,9,   6.2063, 20030728,     1017
  18HU20030713, AR07W,   259,  1, 266206,      5,2,20030728,1012, 59.9847, -48.8988, 3500,     59.6,   7.3732,  34.9143,2,-999.0000,9,    295.7,2,   -999.0,9,     2.16,6,     9.42,6,     0.68, 6, -999.000,9, -999.000,9, -999.000,9, -999.000,9, -999.000,9,   -999.0,9,   -999.0,9,   7.3675, 20030728,     1018
  18HU20030713, AR07W,   259,  1, 266207,      6,2,20030728,1012, 59.9847, -48.8988, 3500,     49.8,   7.8990,  34.8926,2,-999.0000,9,    298.6,2,   -999.0,9,     1.52,6,     9.54,6,     0.68, 6, -999.000,9, -999.000,9, -999.000,9, -999.000,9, -999.000,9,   -999.0,9,   -999.0,9,   7.8941, 20030728,     1019
  18HU20030713, AR07W,   259,  1, 266208,      7,2,20030728,1012, 59.9847, -48.8988, 3500,     49.4,   7.9450,  34.8954,2,-999.0000,9,    298.0,2,   -999.0,9,  -999.00,9,  -999.00,9,  -999.00, 9, -999.000,9, -999.000,9, -999.000,9, -999.000,9, -999.000,9,   -999.0,9,   -999.0,9,   7.9401, 20030728,     1019
  18HU20030713, AR07W,   259,  1, 266209,      8,2,20030728,1012, 59.9847, -48.8988, 3500,     49.8,   7.9343,  34.8960,2,-999.0000,9,    297.9,2,   -999.0,9,  -999.00,9,  -999.00,9,  -999.00, 9, -999.000,9, -999.000,9, -999.000,9, -999.000,9, -999.000,9,   -999.0,9,   -999.0,9,   7.9293, 20030728,     1020
  18HU20030713, AR07W,   259,  1, 266210,      9,2,20030728,1012, 59.9847, -48.8988, 3500,     40.5,   8.0954,  34.8876,2,-999.0000,9,    297.9,2,   -999.0,9,     1.46,6,     9.14,6,     0.66, 6, -999.000,9, -999.000,9, -999.000,9, -999.000,9, -999.000,9,   -999.0,9,   -999.0,9,   8.0913, 20030728,     1021
  18HU20030713, AR07W,   259,  1, 266211,     10,2,20030728,1012, 59.9847, -48.8988, 3500,     29.7,   8.4672,  34.8381,2,-999.0000,9,    296.5,2,   -999.0,9,     1.18,6,     9.00,6,     0.65, 6, -999.000,9, -999.000,9, -999.000,9, -999.000,9, -999.000,9,   -999.0,9,   -999.0,9,   8.4641, 20030728,     1022
  18HU20030713, AR07W,   259,  1, 266212,     11,2,20030728,1012, 59.9847, -48.8988, 3500,     20.8,   8.5462,  34.8305,2,-999.0000,9,    292.5,2,   -999.0,9,     1.06,6,     8.82,6,     0.67, 6, -999.000,9, -999.000,9, -999.000,9, -999.000,9, -999.000,9,   -999.0,9,   -999.0,9,   8.5440, 20030728,     1022
  18HU20030713, AR07W,   259,  1, 266213,     12,2,20030728,1012, 59.9847, -48.8988, 3500,     10.0,   8.5500,  34.8305,2,-999.0000,9,    292.6,2,   -999.0,9,     1.74,6,     8.85,6,     0.66, 6, -999.000,9, -999.000,9, -999.000,9, -999.000,9, -999.000,9,   -999.0,9,   -999.0,9,   8.5490, 20030728,     1023
  18HU20030713, AR07W,   259,  1, 266214,     13,2,20030728,1012, 59.9847, -48.8988, 3500,      3.4,   8.5494,  34.8307,2,-999.0000,9,    292.5,2,   -999.0,9,     0.99,6,     8.62,6,     0.64, 6, -999.000,9, -999.000,9, -999.000,9, -999.000,9, -999.000,9,   -999.0,9,   -999.0,9,   8.5490, 20030728,     1024
  18HU20030713, AR07W,   259,  1, 266215,     14,2,20030728,1012, 59.9847, -48.8988, 3500,      3.7,   8.5515,  34.8309,2,-999.0000,9,    292.6,2,   -999.0,9,  -999.00,9,  -999.00,9,  -999.00, 9, -999.000,9, -999.000,9, -999.000,9, -999.000,9, -999.000,9,   -999.0,9,   -999.0,9,   8.5511, 20030728,     1025
  18HU20030713, AR07W,   259,  1, 266216,     15,2,20030728,1012, 59.9847, -48.8988, 3500,      3.4,   8.5520,  34.8308,2,-999.0000,9,    292.5,2,   -999.0,9,  -999.00,9,  -999.00,9,  -999.00, 9, -999.000,9, -999.000,9, -999.000,9, -999.000,9, -999.000,9,   -999.0,9,   -999.0,9,   8.5516, 20030728,     1025
  18HU20030713, AR07W,   259,  1, 266217,     16,2,20030728,1012, 59.9847, -48.8988, 3500,      3.1,   8.5530,  34.8309,2,-999.0000,9,    292.5,2,   -999.0,9,  -999.00,9,  -999.00,9,  -999.00, 9, -999.000,9, -999.000,9, -999.000,9, -999.000,9, -999.000,9,   -999.0,9,   -999.0,9,   8.5527, 20030728,     1025
  18HU20030713, AR07W,   259,  1, 266218,     17,2,20030728,1012, 59.9847, -48.8988, 3500,      3.2,   8.5523,  34.8307,2,-999.0000,9,    292.4,2,   -999.0,9,  -999.00,9,  -999.00,9,  -999.00, 9, -999.000,9, -999.000,9, -999.000,9, -999.000,9, -999.000,9,   -999.0,9,   -999.0,9,   8.5520, 20030728,     1025
  18HU20030713, AR07W,   261,  1, 266219,      1,2,20030728,1306, 59.9837, -48.8782, 3061,   3031.0,   1.7883,  34.8852,2,  34.8859,2,    291.9,2,    293.1,2,     7.80,6,    11.71,6,     0.82, 6,    4.189,2,    2.632,4,    0.180,4,    4.562,4,    6.269,2,   2153.1,2,   2294.3,2,   1.5611, 20030728,     1306
  18HU20030713, AR07W,   261,  1, 266220,      2,2,20030728,1306, 59.9837, -48.8782, 3061,   2930.1,   1.7961,  34.8845,2,  34.8855,2,    291.0,2,    291.4,2,     8.90,6,    13.02,6,     0.89, 6,    4.022,2,    3.004,4,    0.211,4,    4.368,4,    6.187,2,   2153.5,2,   2295.5,2,   1.5785, 20030728,     1309
  18HU20030713, AR07W,   261,  1, 266221,      3,2,20030728,1306, 59.9837, -48.8782, 3061,   2850.6,   1.9698,  34.8856,2,  34.8867,2,    288.0,2,    288.4,2,     8.59,6,    11.55,6,     0.77, 3,    3.558,2,    1.349,4,    0.223,4,    4.156,4,    5.945,2,   2155.5,2,   2302.2,2,   1.7562, 20030728,     1311
  18HU20030713, AR07W,   261,  1, 266222,      4,2,20030728,1306, 59.9837, -48.8782, 3061,   2750.8,   2.2126,  34.8933,2,  34.8941,2,    283.4,2,    283.8,2,    10.73,6,    13.48,6,     0.90, 6,    3.349,2,    2.412,4,    0.137,4,    3.766,4,    5.879,2,   2157.3,2,   2295.1,2,   2.0036, 20030728,     1313
  18HU20030713, AR07W,   261,  1, 266223,      5,2,20030728,1306, 59.9837, -48.8782, 3061,   2640.5,   2.3915,  34.9004,2,  34.9012,2,    280.8,2,    281.2,2,    10.49,6,    13.01,6,     0.88, 6,    3.076,2,    2.392,4,    0.119,4,    3.515,4,    5.632,2,   2157.2,2,   2301.2,2,   2.1895, 20030728,     1316
  18HU20030713, AR07W,   261,  1, 266224,      6,2,20030728,1306, 59.9837, -48.8782, 3061,   2500.2,   2.5615,  34.9067,2,  34.9075,6,    278.8,2,    280.9,2,    12.06,6,    14.88,6,     1.02, 6,    2.657,2,    1.943,4,    0.147,4,    3.322,4,    5.534,2,   2155.3,2,   2300.1,2,   2.3697, 20030728,     1319
  18HU20030713, AR07W,   261,  1, 266225,      7,2,20030728,1306, 59.9837, -48.8782, 3061,   2341.0,   2.7237,  34.9088,2,  34.9100,6,    278.0,2,    278.7,2,    10.90,6,    14.36,6,     0.95, 6,    3.043,2,    2.260,4,    0.088,4,    3.414,4,    5.724,2,   2155.5,2,   2295.0,2,   2.5441, 20030728,     1322
  18HU20030713, AR07W,   261,  1, 266226,      8,2,20030728,1306, 59.9837, -48.8782, 3061,   2161.1,   2.8681,  34.9055,2,  34.9063,2,    278.1,2,    278.9,2,    10.41,6,    14.47,6,     0.96, 6,    3.052,2,    2.320,4,    0.118,4,    3.476,4,    6.075,2,   2153.2,2,   2297.9,2,   2.7029, 20030728,     1326
  18HU20030713, AR07W,   261,  1, 266227,      9,2,20030728,1306, 59.9837, -48.8782, 3061,   1981.4,   2.9883,  34.8989,2,  34.9002,2,    278.9,2,    279.8,2,     9.11,6,    13.04,6,     0.88, 3,    4.021,6,    2.493,3,    0.325,4,    5.461,4,    4.124,6,   2154.9,2,   2295.0,2,   2.8377, 20030728,     1329
  18HU20030713, AR07W,   261,  1, 266228,     10,2,20030728,1306, 59.9837, -48.8782, 3061,   1780.3,   3.1600,  34.9008,2,  34.9018,2,    279.3,2,    280.1,2,     9.43,6,    14.72,6,     0.97, 6,    3.701,2,    2.801,4,    0.129,4,    4.077,4,    6.925,2,   2154.7,2,   2291.0,2,   3.0251, 20030728,     1333
  18HU20030713, AR07W,   261,  1, 266229,     11,2,20030728,1306, 59.9837, -48.8782, 3061,   1580.8,   3.2604,  34.8954,2,  34.8965,2,    279.0,2,    280.0,6,     9.50,6,    15.03,6,     1.00, 6,    3.759,2,    2.735,4,    0.169,4,    4.181,4,    7.598,2,   2156.1,2,   2300.5,2,   3.1418, 20030728,     1337
  18HU20030713, AR07W,   261,  1, 266230,     12,2,20030728,1306, 59.9837, -48.8782, 3061,   1380.6,   3.3987,  34.8968,2,  34.8977,2,    276.8,2,    277.5,2,     6.31,4,    10.22,4,     0.67, 4,    3.947,2,    2.724,4,    0.170,4,    4.101,4,    7.535,2,   2156.5,2,   2309.2,2,   3.2957, 20030728,     1340
  18HU20030713, AR07W,   261,  1, 266231,     13,2,20030728,1306, 59.9837, -48.8782, 3061,   1180.1,   3.5326,  34.8951,2,  34.8961,2,    277.1,2,    277.7,2,     9.40,6,    15.81,6,     1.02, 6,    4.059,2,    2.932,4,    0.233,4,    4.473,4,    6.897,2,   2157.3,2,   2296.3,2,   3.4452, 20030728,     1344
  18HU20030713, AR07W,   261,  1, 266232,     14,2,20030728,1306, 59.9837, -48.8782, 3061,    979.9,   3.5090,  34.8753,2,  34.8760,2,    283.0,2,    283.5,2,     8.67,6,    14.97,6,     1.07, 6,    4.535,2,    3.248,4,    0.141,4,    5.050,4,    6.319,2,   2154.5,2,   2294.1,2,   3.4381, 20030728,     1348
  18HU20030713, AR07W,   261,  1, 266233,     15,2,20030728,1306, 59.9837, -48.8782, 3061,    800.0,   3.6471,  34.8831,2,  34.8839,2,    281.2,2,    281.5,2,     7.63,6,    13.48,6,     0.96, 6,    4.615,2,    3.195,4,    0.271,4,    4.836,4,    6.058,2,   2155.6,2,   2295.2,2,   3.5895, 20030728,     1351
  18HU20030713, AR07W,   261,  1, 266234,     16,2,20030728,1306, 59.9837, -48.8782, 3061,    641.0,   3.8038,  34.8852,2,  34.8865,2,    283.6,2,    284.3,2,     7.59,6,    13.83,6,     0.96, 6, -999.000,9, -999.000,9, -999.000,9, -999.000,9, -999.000,9,   2152.2,2,   2292.5,2,   3.7576, 20030728,     1354
  18HU20030713, AR07W,   261,  1, 266235,     17,2,20030728,1306, 59.9837, -48.8782, 3061,    499.9,   4.0484,  34.8980,2,  34.8997,2,    281.6,2,    282.2,2,     8.27,6,    14.98,6,     1.04, 6,    4.656,2,    3.373,4,    0.241,4,    5.325,4,    5.050,2,   2156.0,2,   2296.4,2,   4.0119, 20030728,     1357
  18HU20030713, AR07W,   261,  1, 266236,     18,2,20030728,1306, 59.9837, -48.8782, 3061,    380.4,   4.3082,  34.9086,2,  34.9101,2,    282.1,2,    282.7,2,     8.13,6,    14.75,6,     1.01, 6,    4.820,2,    3.498,4,    0.255,4,    5.280,4,    4.770,2,   2153.9,2,   2298.8,2,   4.2800, 20030728,     1400
  18HU20030713, AR07W,   261,  1, 266237,     19,2,20030728,1306, 59.9837, -48.8782, 3061,    260.4,   4.6884,  34.9224,2,  34.9242,2,    281.0,2,    281.7,2,     7.95,6,    15.24,6,     1.02, 6,    4.566,2,    3.202,4,    0.213,4,    5.417,4,    4.266,2,   2154.2,2,   2303.4,2,   4.6686, 20030728,     1402
  18HU20030713, AR07W,   261,  1, 266238,     20,2,20030728,1306, 59.9837, -48.8782, 3061,    161.0,   5.2119,  34.9532,2,-999.0000,9,    282.1,2,    282.7,2,     6.98,6,    13.88,6,     0.97, 6,    4.748,2,    3.513,4,    0.267,4,    5.493,4,    3.676,2,   2150.0,2,   2306.9,2,   5.1991, 20030728,     1405
  18HU20030713, AR07W,   261,  1, 266239,     21,2,20030728,1306, 59.9837, -48.8782, 3061,     99.8,   5.3892,  34.9229,2,-999.0000,9,    287.7,2,    289.1,2,     6.94,6,    13.01,6,     0.94, 6,    5.101,2,    3.369,4,    0.254,4,    5.718,4,    3.538,2,   2142.8,2,   2292.5,2,   5.3812, 20030728,     1406
  18HU20030713, AR07W,   261,  1, 266240,     22,2,20030728,1306, 59.9837, -48.8782, 3061,     50.0,   6.3701,  34.8599,2,-999.0000,9,    298.2,2,    299.4,2,     3.36,6,     8.82,6,     0.81, 6,    5.217,2,    4.125,4,    0.273,4,    5.882,4,    3.128,2,   2120.8,2,   2308.0,2,   6.3657, 20030728,     1408
  18HU20030713, AR07W,   261,  1, 266241,     23,2,20030728,1306, 59.9837, -48.8782, 3061,     20.4,   8.2146,  34.8191,2,-999.0000,9,    296.0,2,    296.7,2,     0.84,6,     7.43,6,     0.64, 6,    4.668,2,    3.309,4,    0.372,4,    6.257,4,    2.614,2,   2105.2,2,   2305.5,2,   8.2125, 20030728,     1409
  18HU20030713, AR07W,   261,  1, 266242,     24,2,20030728,1306, 59.9837, -48.8782, 3061,      3.8,   8.2918,  34.8217,2,-999.0000,9,    295.6,2,    298.7,2,     0.86,6,     7.57,6,     0.65, 6,    4.894,2,    3.320,4,    0.301,4,    6.146,4,    2.777,2,   2105.1,2,   2300.4,2,   8.2914, 20030728,     1410