BOTTLE,20220503SIOCCHCBG
EXPOCODE,SECT_ID,STNNBR,CASTNO,SAMPNO,BTLNBR,BTLNBR_FLAG_W,DATE,TIME,LATITUDE,LONGITUDE,DEPTH,CTDPRS,CTDTMP,CTDSAL,CTDSAL_FLAG_W,SALNTY,SALNTY_FLAG_W,CTDOXY,CTDOXY_FLAG_W,OXYGEN,OXYGEN_FLAG_W,SILCAT,SILCAT_FLAG_W,NO2+NO3,NO2+NO3_FLAG_W,PHSPHT,PHSPHT_FLAG_W,CFC-11,CFC-11_FLAG_W,CFC-12,CFC-12_FLAG_W,CFC113,CFC113_FLAG_W,CCL4,CCL4_FLAG_W,MCHFRM,MCHFRM_FLAG_W,TCARBN,TCARBN_FLAG_W,ALKALI,ALKALI_FLAG_W,THETA,BTL_DATE,BTL_TIME
,,,,,,,,,,,METERS,DBAR,ITS-90,PSS-78,,PSS-78,,UMOL/KG,,UMOL/KG,,UMOL/KG,,UMOL/KG,,UMOL/KG,,PMOL/KG,,PMOL/KG,,PMOL/KG,,PMOL/KG,,PMOL/KG,,UMOL/KG,,UMOL/KG,,DEG C,,
  18HU20030713, AR07W,   165,  1, 265952,      1,2,20030726,0306, 56.5333, -52.6778, 3420,   3537.1,   1.6642,  34.8757,2,  34.8745,2,    291.4,2,   -999.0,9,    10.76,6,    14.19,6,     0.93, 6,    4.011,2,    2.881,4,    0.205,4,    4.557,4,    6.096,2,   2156.7,2,   2303.9,2,   1.3889, 20030726,      306
  18HU20030713, AR07W,   165,  1, 265953,      2,2,20030726,0306, 56.5333, -52.6778, 3420,   3460.3,   1.7908,  34.8771,2,  34.8760,2,    290.8,2,    292.4,6,    10.03,6,    13.77,6,     0.91, 6,    3.869,2,    3.032,4,    0.184,4,    4.315,4,    5.825,2,   2153.5,2,   2284.3,3,   1.5203, 20030726,      308
  18HU20030713, AR07W,   165,  1, 265954,      3,2,20030726,0306, 56.5333, -52.6778, 3420,   3379.6,   2.0243,  34.8825,2,  34.8825,2,    287.6,2,    288.0,2,    11.02,6,    14.63,6,     0.96, 6,    3.436,2,    1.433,3,    0.215,4,    4.381,4,    5.965,2,   2156.7,2,   2294.8,2,   1.7564, 20030726,      310
  18HU20030713, AR07W,   165,  1, 265955,      4,2,20030726,0306, 56.5333, -52.6778, 3420,   3280.6,   2.2751,  34.8924,2,  34.8914,2,    282.5,2,    283.1,2,    13.03,6,    15.75,6,     1.01, 6,    2.957,2,    2.837,4,    0.112,4,    3.510,4,    5.224,2,   2156.0,2,   2291.9,2,   2.0115, 20030726,      313
  18HU20030713, AR07W,   165,  1, 265956,      5,2,20030726,0306, 56.5333, -52.6778, 3420,   3157.8,   2.4748,  34.9042,2,  34.9028,2,    278.1,2,   -999.0,9,    14.13,6,    16.06,6,     1.04, 6,    2.524,2,    1.669,4,    0.055,4,    3.055,4,    4.862,2,   2157.1,2,   2293.7,2,   2.2193, 20030726,      317
  18HU20030713, AR07W,   165,  1, 265957,      6,2,20030726,0306, 56.5333, -52.6778, 3420,   3014.2,   2.6624,  34.9150,2,  34.9140,6,    275.7,2,    278.3,2,    13.75,6,    16.31,6,     1.05, 6,    2.249,2,    0.737,4,    0.058,4,    2.938,4,    4.818,2,   2158.2,2,   2295.8,2,   2.4175, 20030726,      320
  18HU20030713, AR07W,   165,  1, 265958,      7,2,20030726,0306, 56.5333, -52.6778, 3420,   2860.4,   2.7877,  34.9150,2,  34.9140,2,    275.8,2,    276.5,2,    12.06,6,    15.34,6,     1.01, 6,    2.449,2,    2.168,4,    0.056,4,    3.023,4,    4.906,2,   2155.4,2,   2302.6,2,   2.5559, 20030726,      324
  18HU20030713, AR07W,   165,  1, 265959,      8,2,20030726,0306, 56.5333, -52.6778, 3420,   2660.2,   2.9288,  34.9105,2,  34.9093,2,    275.9,2,    277.7,6,    12.01,6,    15.84,6,     1.04, 6,    2.567,2,    1.005,4,    0.069,4,    3.078,4,    5.232,2,   2153.0,2,   2295.9,2,   2.7144, 20030726,      328
  18HU20030713, AR07W,   165,  1, 265960,      9,2,20030726,0306, 56.5333, -52.6778, 3420,   2438.7,   3.0445,  34.9004,2,  34.8991,2,    277.6,2,    278.6,2,    11.52,6,    16.52,6,     1.04, 6,    2.882,2,    0.919,4,    0.084,4,    3.174,4,    5.540,2,   2152.9,2,   2291.7,2,   2.8499, 20030726,      332
  18HU20030713, AR07W,   165,  1, 265961,     10,2,20030726,0306, 56.5333, -52.6778, 3420,   2208.9,   3.1004,  34.8848,2,  34.8840,6,    281.1,2,    282.2,2,    10.76,6,    16.55,6,     1.07, 6,    3.417,2,    2.038,3,    0.139,4,    3.843,4,    6.822,2,   2153.6,2,   2298.8,2,   2.9270, 20030726,      337
  18HU20030713, AR07W,   165,  1, 265962,     11,2,20030726,0306, 56.5333, -52.6778, 3420,   2049.7,   3.1374,  34.8780,2,  34.8766,2,    282.5,2,    283.4,2,     9.96,6,    14.95,3,     0.99, 6,    3.620,2,    2.602,4,    0.123,4,    4.028,4,    7.354,2,   2153.1,2,   2287.2,2,   2.9784, 20030726,      341
  18HU20030713, AR07W,   165,  1, 265963,     12,2,20030726,0306, 56.5333, -52.6778, 3420,   1835.0,   3.2599,  34.8818,2,  34.8810,2,    279.9,2,    281.0,2,    10.59,6,    17.16,6,     1.08, 6,    3.681,2,    1.995,3,    0.412,4,    4.106,4,    7.351,2,   2154.7,2,   2293.1,2,   3.1188, 20030726,      345
  18HU20030713, AR07W,   165,  1, 265964,     13,2,20030726,0306, 56.5333, -52.6778, 3420,   1619.0,   3.3988,  34.8855,2,  34.8835,2,    277.3,2,    277.9,6,    10.23,6,    16.68,6,     1.07, 6,    3.649,2,    3.058,4,    0.168,4,    3.931,4,    6.706,2,   2155.1,2,   2277.9,3,   3.2752, 20030726,      349
  18HU20030713, AR07W,   165,  1, 265965,     14,2,20030726,0306, 56.5333, -52.6778, 3420,   1339.2,   3.2924,  34.8461,2,  34.8444,2,    290.2,2,    291.4,2,     7.09,4,    12.45,3,     0.86, 3,    4.394,2,    1.726,4,    0.383,4,    5.349,4,    5.409,2,   2153.5,2,   2287.0,3,   3.1941, 20030726,      354
  18HU20030713, AR07W,   165,  1, 265966,     15,2,20030726,0306, 56.5333, -52.6778, 3420,   1070.1,   3.2141,  34.8305,2,  34.8290,2,    295.7,2,    296.8,2,     8.59,6,    15.87,6,     1.02, 6,    4.851,2,    3.974,4,    0.315,4,    5.570,4,    4.990,2,   2149.8,2,   2295.4,2,   3.1385, 20030726,      359
  18HU20030713, AR07W,   165,  1, 265967,     16,2,20030726,0306, 56.5333, -52.6778, 3420,    870.0,   3.2163,  34.8287,2,  34.8279,2,    296.2,2,    297.4,2,     8.58,6,    16.04,6,     1.03, 6,    4.932,2,    4.024,4,    0.275,4,    5.537,4,    4.830,2,   2151.8,2,   2289.4,2,   3.1561, 20030726,      403
  18HU20030713, AR07W,   165,  1, 265968,     17,2,20030726,0306, 56.5333, -52.6778, 3420,    679.2,   3.2367,  34.8295,2,  34.8283,2,    295.6,2,    296.7,2,     7.90,3,    14.57,6,     0.97, 6,    4.908,2,    3.694,4,    0.278,4,    5.999,4,    4.834,2,   2153.8,2,   2289.0,2,   3.1906, 20030726,      407
  18HU20030713, AR07W,   165,  1, 265969,     18,2,20030726,0306, 56.5333, -52.6778, 3420,    511.9,   3.2982,  34.8324,2,  34.8312,2,    294.4,2,    295.2,2,     8.56,6,    16.20,6,     1.02, 6,    4.924,2,    4.067,4,    0.313,4,    5.714,4,    4.724,2,   2153.8,2,   2297.4,2,   3.2639, 20030726,      411
  18HU20030713, AR07W,   165,  1, 265970,     19,2,20030726,0306, 56.5333, -52.6778, 3420,    360.4,   3.4025,  34.8376,2,  34.8367,2,    294.3,2,    295.4,2,     7.95,6,    15.24,6,     1.01, 6,    4.522,2,    3.121,4,    0.255,4,    5.774,4,    4.425,2,   2154.7,2,   2291.1,2,   3.3785, 20030726,      414
  18HU20030713, AR07W,   165,  1, 265971,     20,2,20030726,0306, 56.5333, -52.6778, 3420,    239.6,   3.4818,  34.8317,2,-999.0000,9,    292.7,2,    293.8,2,     8.49,6,    16.31,6,     1.05, 6,    4.894,2,    3.587,4,    0.278,4,    5.769,4,    4.272,2,   2151.8,2,   2289.4,2,   3.4659, 20030726,      416
  18HU20030713, AR07W,   165,  1, 265972,     21,2,20030726,0306, 56.5333, -52.6778, 3420,    140.1,   3.6895,  34.8279,2,-999.0000,9,    291.1,2,    292.2,2,     8.15,6,    15.62,6,     0.99, 2,    4.805,2,    1.975,3,    0.368,4,    5.865,4,    4.051,2,   2151.3,2,   2294.7,2,   3.6801, 20030726,      419
  18HU20030713, AR07W,   165,  1, 265973,     22,2,20030726,0306, 56.5333, -52.6778, 3420,     70.0,   4.3110,  34.7776,2,-999.0000,9,    305.0,2,    306.0,2,     6.90,6,    10.76,6,     0.91, 6,    4.862,2,    5.138,4,    0.425,4,    6.529,4,    3.455,2,   2135.7,2,   2298.2,2,   4.3060, 20030726,      421
  18HU20030713, AR07W,   165,  1, 265974,     23,2,20030726,0306, 56.5333, -52.6778, 3420,     34.7,   7.1859,  34.6962,2,-999.0000,9,    296.6,2,    297.3,2,     1.12,6,     3.66,6,     0.50, 6,    4.751,2,    4.480,4,    0.327,4,    5.748,4,    2.845,2,   2086.5,2,   2298.6,2,   7.1827, 20030726,      422
  18HU20030713, AR07W,   165,  1, 265975,     24,2,20030726,0306, 56.5333, -52.6778, 3420,      3.6,  10.0840,  34.3241,2,-999.0000,9,    302.3,2,    303.7,2,     0.74,6,     0.68,6,     0.25, 6,    4.654,2,    4.508,4,    1.259,4,    5.297,4,    2.448,2,   2039.9,2,   2274.5,2,  10.0836, 20030726,      423
  18HU20030713, AR07W,   176,  1, 265976,      1,2,20030726,1058, 56.9538, -52.2415, 3444,   3561.1,   1.6159,  34.8753,2,  34.8735,2,    291.2,2,    291.7,2,     9.77,6,    12.21,6,     0.81, 6,    4.018,2,    2.313,2,    0.120,4,    3.305,4,    3.130,2,   2160.3,2,   2296.8,2,   1.3394, 20030726,     1058
  18HU20030713, AR07W,   176,  1, 265977,      2,2,20030726,1058, 56.9538, -52.2415, 3444,   3489.9,   1.7302,  34.8762,2,  34.8745,2,    291.0,2,    292.3,2,     9.08,6,    11.99,6,     0.82, 6,    3.332,2,    2.017,2,    0.093,4,    2.885,4,    2.634,2,   2156.8,2,   2296.7,2,   1.4582, 20030726,     1100
  18HU20030713, AR07W,   176,  1, 265978,      3,2,20030726,1058, 56.9538, -52.2415, 3444,   3399.4,   1.9798,  34.8807,2,  34.8794,2,    288.6,2,    289.4,2,    10.81,6,    14.69,6,     0.96, 6,    3.778,2,    2.148,2,    0.175,4,    3.574,4,    3.355,2,   2154.2,2,   2291.5,2,   1.7110, 20030726,     1102
  18HU20030713, AR07W,   176,  1, 265979,      4,2,20030726,1058, 56.9538, -52.2415, 3444,   3289.7,   2.2560,  34.8906,2,  34.8886,2,    283.4,2,    284.4,2,    12.54,6,    15.32,6,     0.99, 6,    3.180,2,    1.786,2,    0.055,4,    2.861,4,    2.964,2,   -999.0,9,   2290.8,2,   1.9919, 20030726,     1104
  18HU20030713, AR07W,   176,  1, 265980,      5,2,20030726,1058, 56.9538, -52.2415, 3444,   3170.0,   2.4541,  34.8986,2,  34.8961,2,    280.5,2,    281.2,2,    10.83,3,    13.06,6,     0.86, 6,    0.000,4,    0.000,4,    0.000,4,    0.000,4,    0.000,2,   2157.2,2,   2285.9,3,   2.1978, 20030726,     1107
  18HU20030713, AR07W,   176,  1, 265981,      6,2,20030726,1058, 56.9538, -52.2415, 3444,   3091.1,   2.5570,  34.9009,2,  34.9004,2,    279.6,2,    280.5,2,    12.50,6,    15.79,6,     1.02, 6,    2.936,2,    1.652,2,    0.173,4,    2.836,4,    3.024,2,   2154.2,2,   2297.2,2,   2.3066, 20030726,     1109
  18HU20030713, AR07W,   176,  1, 265982,      7,2,20030726,1058, 56.9538, -52.2415, 3444,   2871.7,   2.7832,  34.9068,2,  34.9054,2,    277.5,2,    278.9,2,    12.42,6,    15.96,6,     1.04, 6,    2.811,2,    1.558,2,    0.041,4,    2.549,4,    2.892,2,   2157.1,2,   2291.5,2,   2.5504, 20030726,     1113
  18HU20030713, AR07W,   176,  1, 265983,      8,2,20030726,1058, 56.9538, -52.2415, 3444,   2679.3,   2.9381,  34.9059,2,  34.9048,2,    277.0,2,    277.8,2,    12.09,6,    15.88,6,     1.04, 6,    2.769,2,    1.526,2,    0.038,4,    2.523,4,    2.948,2,   2156.1,2,   2278.1,3,   2.7216, 20030726,     1117
  18HU20030713, AR07W,   176,  1, 265984,      9,2,20030726,1058, 56.9538, -52.2415, 3444,   2470.5,   3.0359,  34.8980,2,  34.8965,2,    278.3,2,    279.8,2,    10.39,6,    14.77,6,     0.96, 6,    3.049,2,    1.693,2,    0.197,4,    2.911,4,    3.472,2,   2156.1,2,   2286.4,2,   2.8383, 20030726,     1122
  18HU20030713, AR07W,   176,  1, 265985,     10,2,20030726,1058, 56.9538, -52.2415, 3444,   2251.1,   3.1023,  34.8844,2,  34.8827,2,    281.0,2,    282.4,2,    10.73,6,    16.12,6,     1.04, 6,    3.453,2,    1.889,2,    0.087,4,    3.004,4,    3.701,2,   2156.1,2,   2297.6,2,   2.9249, 20030726,     1126
  18HU20030713, AR07W,   176,  1, 265986,     11,2,20030726,1058, 56.9538, -52.2415, 3444,   2009.3,   3.1636,  34.8770,2,  34.8750,6,    281.9,2,    283.2,2,     8.60,4,    13.08,3,     0.90, 3,    3.697,2,    2.032,2,    0.051,4,    3.203,4,    4.010,2,   2156.3,2,   2288.6,2,   3.0079, 20030726,     1131
  18HU20030713, AR07W,   176,  1, 265987,     12,2,20030726,1058, 56.9538, -52.2415, 3444,   1769.1,   3.3174,  34.8834,2,  34.8816,2,    278.6,2,    279.7,2,    10.76,6,    17.10,6,     1.08, 6,    3.622,2,    2.053,2,    0.115,4,    3.287,4,    3.955,2,   2157.4,2,   2296.4,2,   3.1814, 20030726,     1135
  18HU20030713, AR07W,   176,  1, 265988,     13,2,20030726,1058, 56.9538, -52.2415, 3444,   1529.2,   3.4305,  34.8799,2,  34.8776,2,    278.8,2,    296.6,3,     9.96,6,    16.12,6,     1.04, 6,    4.003,2,    2.255,2,    0.118,4,    3.330,4,    3.521,2,   2156.6,2,   2292.8,2,   3.3144, 20030726,     1140
  18HU20030713, AR07W,   176,  1, 265989,     14,2,20030726,1058, 56.9538, -52.2415, 3444,   1250.7,   3.2337,  34.8357,2,  34.8342,2,    294.9,2,    296.7,2,     9.00,6,    16.17,6,     1.05, 6,    5.085,2,    2.980,2,    0.232,4,    4.450,4,    2.831,2,   2154.5,2,   2291.1,2,   3.1434, 20030726,     1146
  18HU20030713, AR07W,   176,  1, 265990,     15,2,20030726,1058, 56.9538, -52.2415, 3444,   1050.2,   3.2151,  34.8316,2,  34.8302,2,    296.2,2,    297.7,2,     6.82,4,    12.35,3,     0.82, 3,    4.689,2,    2.842,2,    0.499,4,    4.355,4,    2.638,2,   2153.3,2,   2283.7,3,   3.1410, 20030726,     1150
  18HU20030713, AR07W,   176,  1, 265991,     16,2,20030726,1058, 56.9538, -52.2415, 3444,    871.4,   3.2049,  34.8293,2,  34.8271,2,    296.9,2,    298.7,2,     8.69,6,    15.99,6,     1.03, 6,    5.128,2,    3.018,2,    0.214,4,    4.477,4,    2.640,2,   2150.8,2,   2293.4,2,   3.1447, 20030726,     1153
  18HU20030713, AR07W,   176,  1, 265992,     17,2,20030726,1058, 56.9538, -52.2415, 3444,    681.4,   3.2166,  34.8294,2,  34.8277,2,    296.3,2,    297.4,2,     8.45,6,    15.03,6,     0.96, 6,    5.134,2,    2.988,2,    0.208,4,    4.474,4,    2.685,2,   2153.3,2,   2281.6,3,   3.1705, 20030726,     1157
  18HU20030713, AR07W,   176,  1, 265993,     18,2,20030726,1058, 56.9538, -52.2415, 3444,    510.7,   3.2390,  34.8287,2,  34.8277,2,    295.6,2,    297.0,2,     8.55,6,    15.68,6,     1.03, 6,    4.529,2,    2.769,2,    0.477,4,    4.151,4,    2.394,2,   2152.3,2,   2280.3,3,   3.2050, 20030726,     1200
  18HU20030713, AR07W,   176,  1, 265994,     19,2,20030726,1058, 56.9538, -52.2415, 3444,    360.1,   3.3031,  34.8282,2,  34.8261,2,    295.3,2,    296.5,2,     8.08,6,    15.11,6,     0.99, 6,    4.988,2,    2.947,2,    0.224,4,    4.352,4,    2.460,2,   2152.0,2,   2289.4,2,   3.2794, 20030726,     1203
  18HU20030713, AR07W,   176,  1, 265995,     20,2,20030726,1058, 56.9538, -52.2415, 3444,    240.1,   3.3885,  34.8261,2,-999.0000,9,    295.0,2,    296.1,2,     8.64,6,    16.08,6,     1.04, 6,    5.113,2,    3.026,2,    0.254,4,    4.454,4,    2.422,2,   2156.3,2,   2297.4,3,   3.3728, 20030726,     1206
  18HU20030713, AR07W,   176,  1, 265996,     21,2,20030726,1058, 56.9538, -52.2415, 3444,    140.0,   3.7246,  34.8382,2,-999.0000,9,    290.8,2,    291.7,2,     8.33,6,    15.85,6,     1.04, 6,    4.345,2,    2.761,4,    0.297,4,    3.888,4,    1.933,2,   2155.1,2,   2293.1,2,   3.7152, 20030726,     1208
  18HU20030713, AR07W,   176,  1, 265997,     22,2,20030726,1058, 56.9538, -52.2415, 3444,     70.0,   4.1124,  34.8015,2,-999.0000,9,    295.5,2,    297.7,2,     7.98,6,    13.30,6,     0.96, 6,    5.130,2,    3.080,2,    0.281,4,    4.449,4,    1.993,2,   2147.9,2,   2287.9,2,   4.1075, 20030726,     1209
  18HU20030713, AR07W,   176,  1, 265998,     23,2,20030726,1058, 56.9538, -52.2415, 3444,     36.4,   6.1934,  34.7017,2,-999.0000,9,    297.0,2,    298.8,2,     2.76,6,     4.73,6,     0.55, 6,    5.110,2,    3.097,2,    0.276,4,    4.607,4,    1.758,2,   2114.6,2,   2296.5,2,   6.1903, 20030726,     1210
  18HU20030713, AR07W,   176,  1, 265999,     24,2,20030726,1058, 56.9538, -52.2415, 3444,      3.6,  10.0895,  34.6048,2,-999.0000,9,    297.4,2,    300.7,2,     0.71,6,     0.37,6,     0.19, 6,    3.661,2,    2.481,4,    0.078,4,    3.334,4,    1.148,2,   2052.8,2,   2293.6,2,  10.0891, 20030726,     1211