BOTTLE,20220503SIOCCHCBG
EXPOCODE,SECT_ID,STNNBR,CASTNO,SAMPNO,BTLNBR,BTLNBR_FLAG_W,DATE,TIME,LATITUDE,LONGITUDE,DEPTH,CTDPRS,CTDTMP,CTDSAL,CTDSAL_FLAG_W,SALNTY,SALNTY_FLAG_W,CTDOXY,CTDOXY_FLAG_W,OXYGEN,OXYGEN_FLAG_W,SILCAT,SILCAT_FLAG_W,NO2+NO3,NO2+NO3_FLAG_W,PHSPHT,PHSPHT_FLAG_W,CFC-11,CFC-11_FLAG_W,CFC-12,CFC-12_FLAG_W,CFC113,CFC113_FLAG_W,CCL4,CCL4_FLAG_W,MCHFRM,MCHFRM_FLAG_W,TCARBN,TCARBN_FLAG_W,ALKALI,ALKALI_FLAG_W,THETA,BTL_DATE,BTL_TIME
,,,,,,,,,,,METERS,DBAR,ITS-90,PSS-78,,PSS-78,,UMOL/KG,,UMOL/KG,,UMOL/KG,,UMOL/KG,,UMOL/KG,,PMOL/KG,,PMOL/KG,,PMOL/KG,,PMOL/KG,,PMOL/KG,,UMOL/KG,,UMOL/KG,,DEG C,,
  18HU20030713, AR07W,   441,  1, 266451,      1,2,20030731,2058, 53.1495, -50.5337, 3090,   3200.6,   1.6745,  34.8774,2,  34.8778,6,    291.9,2,    293.6,2,     8.48,6,    10.57,3,     0.69, 3,    4.363,2,    2.247,2,    0.279,4,    3.683,4,    4.102,2,   2156.6,2,   2291.9,2,   1.4332, 20030731,     2058
  18HU20030713, AR07W,   441,  1, 266452,      2,2,20030731,2058, 53.1495, -50.5337, 3090,   3120.8,   1.6944,  34.8774,2,  34.8776,2,    292.0,2,    292.5,2,    11.02,6,    14.52,6,     0.92, 6,    4.336,2,    2.219,2,    0.262,4,    3.705,4,    4.062,2,   2155.0,2,   2295.5,2,   1.4605, 20030731,     2101
  18HU20030713, AR07W,   441,  1, 266453,      3,2,20030731,2058, 53.1495, -50.5337, 3090,   3030.7,   1.9832,  34.8843,2,  34.8860,2,    287.4,2,    287.3,2,    12.55,6,    14.93,6,     0.97, 6,    3.683,2,    1.842,2,    0.243,4,    3.287,4,    3.778,2,   2157.9,2,   2296.1,2,   1.7517, 20030731,     2103
  18HU20030713, AR07W,   441,  1, 266454,      4,2,20030731,2058, 53.1495, -50.5337, 3090,   2920.2,   2.1551,  34.8888,2,  34.8894,2,    285.1,2,    284.6,2,    12.94,6,    15.04,6,     0.99, 6,    3.413,2,    1.668,2,    0.183,4,    3.103,4,    3.696,2,   2155.5,2,   2298.3,2,   1.9308, 20030731,     2105
  18HU20030713, AR07W,   441,  1, 266455,      5,2,20030731,2058, 53.1495, -50.5337, 3090,   2876.0,   2.2278,  34.8949,2,  34.8949,2,    281.5,2,    281.1,2,    14.38,6,    15.65,6,     0.99, 6,    2.911,2,    1.375,2,    0.180,4,    2.768,4,    3.453,2,   2157.2,2,   2299.3,2,   2.0062, 20030731,     2106
  18HU20030713, AR07W,   441,  1, 266456,      6,2,20030731,2058, 53.1495, -50.5337, 3090,   2691.4,   2.5683,  34.9107,2,-999.0000,9,    277.6,2,    277.5,2,    11.87,6,    15.98,6,     1.02, 6,    2.585,2,    1.192,2,    0.147,4,    2.519,4,    3.211,2,   2162.6,2,   2300.8,2,   2.3579, 20030731,     2109
  18HU20030713, AR07W,   441,  1, 266457,      7,2,20030731,2058, 53.1495, -50.5337, 3090,   2569.0,   2.6395,  34.9007,2,  34.9010,6,    280.8,2,    280.6,2,    11.99,6,    15.77,6,     1.03, 6,    3.209,2,    1.537,2,    0.155,4,    2.894,4,    3.579,2,   2158.6,2,   2295.0,2,   2.4397, 20030731,     2111
  18HU20030713, AR07W,   441,  1, 266458,      8,2,20030731,2058, 53.1495, -50.5337, 3090,   2410.7,   2.8362,  34.9106,2,  34.9112,2,    277.6,2,   -999.0,9,    12.82,6,    16.36,6,     1.06, 6,    2.760,2,    1.292,2,    0.177,4,    2.573,4,    3.412,2,   2162.6,2,   2295.1,2,   2.6480, 20030731,     2114
  18HU20030713, AR07W,   441,  1, 266459,      9,2,20030731,2058, 53.1495, -50.5337, 3090,   2232.1,   2.9453,  34.9031,2,  34.9037,2,    278.7,2,    278.4,2,    12.00,6,    16.63,6,     1.06, 6, -999.000,9, -999.000,9, -999.000,9, -999.000,9, -999.000,9,   2155.1,2,   2296.9,2,   2.7722, 20030731,     2117
  18HU20030713, AR07W,   441,  1, 266460,     10,2,20030731,2058, 53.1495, -50.5337, 3090,   2011.3,   3.0453,  34.8904,2,  34.8907,2,    281.5,2,    281.1,2,    11.34,6,    16.44,6,     1.15, 3,    3.616,2,    1.748,2,    0.198,4,    3.154,4,    4.402,2,   2155.5,2,   2290.9,2,   2.8912, 20030731,     2121
  18HU20030713, AR07W,   441,  1, 266461,     11,2,20030731,2058, 53.1495, -50.5337, 3090,   1790.8,   3.1223,  34.8815,2,  34.8823,2,    282.7,2,    282.5,6,    10.67,6,    16.53,6,     1.05, 6,    3.844,2,    1.871,2,    0.231,4,    3.369,4,    4.800,2,   2158.2,2,   2298.1,2,   2.9870, 20030731,     2124
  18HU20030713, AR07W,   441,  1, 266462,     12,2,20030731,2058, 53.1495, -50.5337, 3090,   1549.6,   3.2945,  34.8842,2,  34.8848,2,    280.5,2,    280.2,2,    10.53,6,    16.93,6,     1.07, 6,    4.037,2,    2.013,2,    0.254,4,    3.495,4,    4.744,2,   2158.9,2,   2287.0,2,   3.1782, 20030731,     2128
  18HU20030713, AR07W,   441,  1, 266463,     13,2,20030731,2058, 53.1495, -50.5337, 3090,   1390.2,   3.3983,  34.8859,2,-999.0000,9,    278.9,2,    278.7,2,    10.47,6,    16.64,6,     1.08, 6,    4.026,2,    2.020,2,    0.257,4,    3.425,4,    4.513,2,   2159.2,2,   2293.7,2,   3.2945, 20030731,     2131
  18HU20030713, AR07W,   441,  1, 266464,     14,2,20030731,2058, 53.1495, -50.5337, 3090,   1090.2,   3.2420,  34.8379,2,  34.8384,2,    296.7,2,    297.0,2,     8.68,6,    15.96,6,     1.02, 6,    5.269,2,    2.863,2,    0.377,4,    4.670,4,    3.365,2,   2155.7,2,   2283.1,2,   3.1645, 20030731,     2135
  18HU20030713, AR07W,   441,  1, 266465,     15,2,20030731,2058, 53.1495, -50.5337, 3090,    890.9,   3.2535,  34.8367,2,  34.8370,2,    297.3,2,    297.2,2,     8.57,6,    16.04,6,     1.03, 6,    4.796,2,    2.697,2,    0.353,4,    4.171,4,    2.965,2,   2155.7,2,   2290.0,2,   3.1915, 20030731,     2138
  18HU20030713, AR07W,   441,  1, 266466,     16,2,20030731,2058, 53.1495, -50.5337, 3090,    710.9,   3.2919,  34.8387,2,  34.8390,2,    295.6,2,    295.4,2,     8.63,6,    15.85,6,     1.03, 6,    5.261,2,    2.864,2,    0.368,4,    4.706,4,    3.329,2,   2156.8,2,   2286.6,2,   3.2432, 20030731,     2141
  18HU20030713, AR07W,   441,  1, 266467,     17,2,20030731,2058, 53.1495, -50.5337, 3090,    551.6,   3.3457,  34.8397,2,  34.8403,2,    294.6,2,    294.3,2,     8.55,6,    16.03,6,     1.03, 6,    5.270,2,    2.928,2,    0.382,4,    4.688,4,    3.259,2,   2155.2,2,   2288.5,2,   3.3084, 20030731,     2144
  18HU20030713, AR07W,   441,  1, 266468,     18,2,20030731,2058, 53.1495, -50.5337, 3090,    401.4,   3.3518,  34.8277,2,  34.8283,2,    293.2,2,    292.9,2,     8.71,6,    16.14,6,     1.05, 6,    4.810,2,    2.732,2,    0.343,4,    4.348,4,    2.986,2,   2156.7,2,   2291.3,2,   3.3251, 20030731,     2147
  18HU20030713, AR07W,   441,  1, 266469,     19,2,20030731,2058, 53.1495, -50.5337, 3090,    293.5,   3.4876,  34.8317,2,-999.0000,9,    287.9,2,    287.4,2,     8.07,6,    14.26,6,     0.99, 6,    5.138,2,    2.828,2,    0.349,4,    4.497,4,    3.161,2,   2158.3,2,   2289.9,2,   3.4680, 20030731,     2149
  18HU20030713, AR07W,   441,  1, 266470,     20,2,20030731,2058, 53.1495, -50.5337, 3090,    190.6,   3.5154,  34.8075,2,-999.0000,9,    288.6,2,    288.1,2,     8.97,6,    16.52,6,     1.08, 6,    5.089,2,    2.828,2,    0.407,4,    4.552,4,    2.927,2,   2158.1,2,   2293.6,2,   3.5028, 20030731,     2151
  18HU20030713, AR07W,   441,  1, 266471,     21,2,20030731,2058, 53.1495, -50.5337, 3090,    109.7,   3.8332,  34.7947,2,-999.0000,9,    287.9,2,    287.4,2,     8.66,6,    15.90,6,     1.06, 6,    4.813,2,    2.812,2,    0.431,4,    4.431,4,    2.568,2,   2156.2,2,   2288.4,2,   3.8257, 20030731,     2153
  18HU20030713, AR07W,   441,  1, 266472,     22,2,20030731,2058, 53.1495, -50.5337, 3090,     50.3,   4.8030,  34.7666,2,-999.0000,9,    295.8,2,    295.3,2,     7.05,6,    13.43,6,     1.00, 6,    5.514,2,    3.099,2,    0.457,4,    5.010,4,    2.329,2,   2146.3,2,   2294.2,2,   4.7992, 20030731,     2155
  18HU20030713, AR07W,   441,  1, 266473,     23,2,20030731,2058, 53.1495, -50.5337, 3090,     19.7,   8.8415,  34.8175,2,-999.0000,9,    297.1,2,    297.8,2,     0.77,6,     4.54,6,     0.43, 6,    4.673,2,    2.635,2,    0.904,4,    4.244,4,    1.712,2,   2082.3,2,   2303.6,2,   8.8394, 20030731,     2156
  18HU20030713, AR07W,   441,  1, 266474,     24,2,20030731,2058, 53.1495, -50.5337, 3090,      4.3,  10.6706,  34.2214,2,-999.0000,9,    289.8,2,    290.5,2,     0.77,6,     0.58,6,     0.19, 6,    4.227,2,    2.535,2,    0.561,4,    3.968,4,    1.635,2,   2036.7,2,   2264.1,2,  10.6701, 20030731,     2157
  18HU20030713, AR07W,   444,  1, 266475,      1,2,20030801,0104, 52.9980, -51.0590, 2520,   2703.2,   2.2317,  34.8907,2,  34.8911,2,    285.7,2,    286.7,2,    12.45,6,    15.19,6,     1.04, 6, -999.000,9, -999.000,9, -999.000,9, -999.000,9, -999.000,9,   -999.0,9,   -999.0,9,   2.0269, 20030801,      104
  18HU20030713, AR07W,   444,  1, 266476,      2,2,20030801,0104, 52.9980, -51.0590, 2520,   2611.2,   2.3486,  34.8952,2,-999.0000,9,    283.6,2,    281.9,2,    10.48,3,    12.50,3,     0.91, 3, -999.000,9, -999.000,9, -999.000,9, -999.000,9, -999.000,9,   -999.0,9,   -999.0,9,   2.1503, 20030801,      106
  18HU20030713, AR07W,   444,  1, 266477,      3,2,20030801,0104, 52.9980, -51.0590, 2520,   2511.4,   2.5331,  34.8989,2,  34.9001,6,    282.1,2,    280.6,2,    12.36,6,    15.11,6,     1.06, 6, -999.000,9, -999.000,9, -999.000,9, -999.000,9, -999.000,9,   -999.0,9,   -999.0,9,   2.3408, 20030801,      108
  18HU20030713, AR07W,   444,  1, 266478,      4,2,20030801,0104, 52.9980, -51.0590, 2520,   2409.6,   2.5857,  34.8983,2,  34.8985,2,    282.3,2,    280.8,2,    11.17,6,    14.20,6,     0.99, 6, -999.000,9, -999.000,9, -999.000,9, -999.000,9, -999.000,9,   -999.0,9,   -999.0,9,   2.4021, 20030801,      110
  18HU20030713, AR07W,   444,  1, 266479,      5,2,20030801,0104, 52.9980, -51.0590, 2520,   2289.4,   2.6422,  34.8988,2,  34.8995,2,    281.8,2,    280.3,2,    11.40,6,    14.71,6,     1.00, 6, -999.000,9, -999.000,9, -999.000,9, -999.000,9, -999.000,9,   -999.0,9,   -999.0,9,   2.4688, 20030801,      112
  18HU20030713, AR07W,   444,  1, 266480,      6,2,20030801,0104, 52.9980, -51.0590, 2520,   2150.4,   2.7053,  34.9000,2,  34.9002,6,    281.1,2,    280.1,2,    11.76,6,    15.31,6,     1.05, 6, -999.000,9, -999.000,9, -999.000,9, -999.000,9, -999.000,9,   -999.0,9,   -999.0,9,   2.5437, 20030801,      115
  18HU20030713, AR07W,   444,  1, 266481,      7,2,20030801,0104, 52.9980, -51.0590, 2520,   1988.9,   2.8532,  34.9003,2,  34.9009,2,    280.4,2,    278.9,2,    11.84,6,    15.64,6,     1.07, 6, -999.000,9, -999.000,9, -999.000,9, -999.000,9, -999.000,9,   -999.0,9,   -999.0,9,   2.7039, 20030801,      118
  18HU20030713, AR07W,   444,  1, 266482,      8,2,20030801,0104, 52.9980, -51.0590, 2520,   1810.7,   2.9785,  34.8921,2,  34.8934,2,    281.8,2,    280.6,6,    10.92,6,    15.96,6,     1.05, 6, -999.000,9, -999.000,9, -999.000,9, -999.000,9, -999.000,9,   -999.0,9,   -999.0,9,   2.8434, 20030801,      121
  18HU20030713, AR07W,   444,  1, 266483,      9,2,20030801,0104, 52.9980, -51.0590, 2520,   1610.3,   3.0982,  34.8844,2,  34.8853,2,    283.0,2,    281.9,2,    10.92,6,    15.96,6,     1.08, 6, -999.000,9, -999.000,9, -999.000,9, -999.000,9, -999.000,9,   -999.0,9,   -999.0,9,   2.9790, 20030801,      124
  18HU20030713, AR07W,   444,  1, 266484,     10,2,20030801,0104, 52.9980, -51.0590, 2520,   1411.3,   3.2524,  34.8838,2,  34.8847,2,    281.6,2,    277.7,2,    10.61,6,    16.43,6,     1.09, 6, -999.000,9, -999.000,9, -999.000,9, -999.000,9, -999.000,9,   -999.0,9,   -999.0,9,   3.1484, 20030801,      127
  18HU20030713, AR07W,   444,  1, 266485,     11,2,20030801,0104, 52.9980, -51.0590, 2520,   1210.2,   3.3952,  34.8828,2,  34.8835,2,    280.9,2,    279.5,2,     9.95,6,    15.79,6,     1.08, 6, -999.000,9, -999.000,9, -999.000,9, -999.000,9, -999.000,9,   -999.0,9,   -999.0,9,   3.3066, 20030801,      131
  18HU20030713, AR07W,   444,  1, 266486,     12,2,20030801,0104, 52.9980, -51.0590, 2520,   1030.3,   3.3456,  34.8622,2,  34.8631,2,    288.0,2,    286.9,2,     9.31,6,    15.69,6,     1.04, 6, -999.000,9, -999.000,9, -999.000,9, -999.000,9, -999.000,9,   -999.0,9,   -999.0,9,   3.2720, 20030801,      134
  18HU20030713, AR07W,   444,  1, 266487,     13,2,20030801,0104, 52.9980, -51.0590, 2520,    849.0,   3.2518,  34.8399,2,  34.8410,2,    296.4,2,    295.4,2,     8.79,6,    15.31,6,     1.04, 6, -999.000,9, -999.000,9, -999.000,9, -999.000,9, -999.000,9,   -999.0,9,   -999.0,9,   3.1930, 20030801,      137
  18HU20030713, AR07W,   444,  1, 266488,     14,2,20030801,0104, 52.9980, -51.0590, 2520,    670.9,   3.3389,  34.8490,2,  34.8497,2,    293.6,2,    292.5,2,     8.81,6,    15.52,6,     1.04, 6, -999.000,9, -999.000,9, -999.000,9, -999.000,9, -999.000,9,   -999.0,9,   -999.0,9,   3.2929, 20030801,      140
  18HU20030713, AR07W,   444,  1, 266489,     15,2,20030801,0104, 52.9980, -51.0590, 2520,    510.3,   3.4053,  34.8516,2,  34.8521,2,    292.2,2,    291.1,2,     8.78,6,    15.40,6,     1.03, 6, -999.000,9, -999.000,9, -999.000,9, -999.000,9, -999.000,9,   -999.0,9,   -999.0,9,   3.3707, 20030801,      143
  18HU20030713, AR07W,   444,  1, 266490,     16,2,20030801,0104, 52.9980, -51.0590, 2520,    371.3,   3.4035,  34.8395,2,  34.8399,2,    294.2,2,    293.5,2,     8.38,6,    14.55,6,     1.02, 6, -999.000,9, -999.000,9, -999.000,9, -999.000,9, -999.000,9,   -999.0,9,   -999.0,9,   3.3787, 20030801,      145
  18HU20030713, AR07W,   444,  1, 266491,     17,2,20030801,0104, 52.9980, -51.0590, 2520,    250.9,   3.4399,  34.8309,2,  34.8316,2,    294.3,2,    293.6,2,     8.54,6,    15.70,6,     1.04, 6, -999.000,9, -999.000,9, -999.000,9, -999.000,9, -999.000,9,   -999.0,9,   -999.0,9,   3.4233, 20030801,      148
  18HU20030713, AR07W,   444,  1, 266492,     18,2,20030801,0104, 52.9980, -51.0590, 2520,    152.0,   3.6382,  34.8084,2,-999.0000,9,    295.7,2,    294.8,2,     7.34,6,    14.02,6,     0.98, 6, -999.000,9, -999.000,9, -999.000,9, -999.000,9, -999.000,9,   -999.0,9,   -999.0,9,   3.6280, 20030801,      150
  18HU20030713, AR07W,   444,  1, 266493,     19,2,20030801,0104, 52.9980, -51.0590, 2520,    102.3,   3.9227,  34.7743,2,-999.0000,9,    299.1,2,    298.9,2,     6.90,6,    13.06,6,     0.99, 6, -999.000,9, -999.000,9, -999.000,9, -999.000,9, -999.000,9,   -999.0,9,   -999.0,9,   3.9157, 20030801,      151
  18HU20030713, AR07W,   444,  1, 266494,     20,2,20030801,0104, 52.9980, -51.0590, 2520,     49.0,   4.7549,  34.5969,2,-999.0000,9,    303.1,2,    302.1,2,     4.07,6,     7.32,6,     0.72, 6, -999.000,9, -999.000,9, -999.000,9, -999.000,9, -999.000,9,   -999.0,9,   -999.0,9,   4.7512, 20030801,      153
  18HU20030713, AR07W,   444,  1, 266495,     21,2,20030801,0104, 52.9980, -51.0590, 2520,     19.4,   7.0472,  34.2283,2,-999.0000,9,    333.4,2,    331.4,2,     1.30,6,     1.92,6,     0.35, 6, -999.000,9, -999.000,9, -999.000,9, -999.000,9, -999.000,9,   -999.0,9,   -999.0,9,   7.0454, 20030801,      155
  18HU20030713, AR07W,   444,  1, 266496,     22,2,20030801,0104, 52.9980, -51.0590, 2520,      3.2,   9.3386,  33.2185,2,-999.0000,9,    307.0,2,    300.6,2,     0.90,6,     0.14,6,     0.19, 6, -999.000,9, -999.000,9, -999.000,9, -999.000,9, -999.000,9,   -999.0,9,   -999.0,9,   9.3383, 20030801,      156
  18HU20030713, AR07W,   448,  1, 266497,      1,2,20030801,0609, 52.8632, -51.5095, 1566,   1621.9,   3.3305,  34.8834,2,  34.8839,6,    283.2,2,    280.9,2,    10.55,6,    15.63,6,     1.08, 6,    3.938,2,    2.349,2,    0.206,4,    4.749,4,    8.166,2,   2156.7,2,   2299.6,2,   3.2075, 20030801,      609
  18HU20030713, AR07W,   448,  1, 266498,      2,2,20030801,0609, 52.8632, -51.5095, 1566,   1520.4,   3.3387,  34.8828,2,  34.8843,2,    282.8,2,    279.9,2,     9.70,6,    15.18,6,     1.03, 6,    3.521,2,    1.116,4,    0.224,4,    4.650,4,    7.957,2,   2156.5,2,   2301.2,2,   3.2244, 20030801,      616
  18HU20030713, AR07W,   448,  1, 266499,      3,2,20030801,0609, 52.8632, -51.5095, 1566,   1401.3,   3.3468,  34.8825,2,  34.8835,6,    282.4,2,    280.3,2,    10.01,6,    15.23,6,     1.06, 6,    3.752,2,    2.097,2,    0.226,4,    4.648,4,    7.815,2,   2157.1,2,   2293.6,2,   3.2427, 20030801,      619
  18HU20030713, AR07W,   448,  1, 266500,      4,2,20030801,0609, 52.8632, -51.5095, 1566,   1219.6,   3.3864,  34.8745,2,  34.8751,2,    285.0,2,    282.7,2,     9.62,6,    15.34,6,     1.05, 6,    4.103,2,    2.388,2,    0.233,4,    5.111,4,    7.436,2,   2155.6,2,   2292.5,2,   3.2971, 20030801,      623
  18HU20030713, AR07W,   448,  1, 266501,      5,2,20030801,0609, 52.8632, -51.5095, 1566,   1030.0,   3.2866,  34.8448,2,  34.8454,2,    295.0,2,    293.6,6,     8.90,6,    15.68,6,     1.07, 6,    4.595,2,    2.827,2,    0.287,4,    5.951,4,    6.049,2,   2153.5,2,   2290.6,2,   3.2135, 20030801,      626
  18HU20030713, AR07W,   448,  1, 266502,      6,2,20030801,0609, 52.8632, -51.5095, 1566,    849.9,   3.3108,  34.8451,2,  34.8462,2,    295.0,2,    293.5,2,     8.66,6,    15.06,6,     1.02, 6,    4.627,2,    2.866,2,    0.303,4,    5.938,4,    5.874,2,   2154.9,2,   2289.9,2,   3.2515, 20030801,      630
  18HU20030713, AR07W,   448,  1, 266503,      7,2,20030801,0609, 52.8632, -51.5095, 1566,    670.9,   3.3931,  34.8488,2,  34.8493,2,    293.3,2,    291.6,2,     9.11,6,    15.36,6,     1.05, 6,    4.665,2,    2.876,2,    0.256,4,    5.928,4,    5.882,2,   2154.1,2,   2292.9,2,   3.3468, 20030801,      633
  18HU20030713, AR07W,   448,  1, 266504,      8,2,20030801,0609, 52.8632, -51.5095, 1566,    509.5,   3.4797,  34.8437,2,  34.8450,2,    293.6,2,    291.8,2,     8.29,6,    15.07,6,     1.03, 6,    4.551,2,    2.739,2,    0.337,4,    5.887,4,    5.134,2,   2153.8,2,   2296.8,2,   3.4448, 20030801,      636
  18HU20030713, AR07W,   448,  1, 266505,      9,2,20030801,0609, 52.8632, -51.5095, 1566,    370.6,   3.5018,  34.8386,2,  34.8395,2,    293.4,2,    296.5,2,     8.54,6,    15.31,6,     1.04, 6,    4.578,2,    2.806,2,    0.286,4,    5.650,4,    4.946,2,   2151.3,2,   2290.1,2,   3.4768, 20030801,      640
  18HU20030713, AR07W,   448,  1, 266506,     10,2,20030801,0609, 52.8632, -51.5095, 1566,    250.4,   3.5230,  34.8257,2,-999.0000,9,    293.4,2,    292.3,2,     8.24,6,    15.00,6,     1.03, 6,    4.788,2,    3.013,4,    0.345,4,    6.249,4,    5.024,2,   2153.3,2,   2291.2,2,   3.5063, 20030801,      642
  18HU20030713, AR07W,   448,  1, 266507,     11,2,20030801,0609, 52.8632, -51.5095, 1566,    150.2,   3.7281,  34.8080,2,-999.0000,9,    294.7,2,    293.8,2,     7.96,6,    15.00,6,     1.01, 6,    4.864,2,    3.034,2,    0.360,4,    6.339,4,    4.600,2,   2149.9,2,   2292.5,2,   3.7180, 20030801,      644
  18HU20030713, AR07W,   448,  1, 266508,     12,2,20030801,0609, 52.8632, -51.5095, 1566,    100.0,   3.9782,  34.7813,2,-999.0000,9,    296.2,2,    295.9,2,     6.67,6,    13.41,6,     0.96, 6,    4.806,2,    2.753,2,    0.344,4,    6.577,4,    4.747,2,   2142.6,2,   2293.6,2,   3.9713, 20030801,      646
  18HU20030713, AR07W,   448,  1, 266509,     13,2,20030801,0609, 52.8632, -51.5095, 1566,     14.2,   6.7739,  33.9436,2,-999.0000,9,    330.8,2,    326.6,2,     1.58,6,     1.90,6,     0.39, 6,    4.856,2,    2.951,2,    0.395,4,    6.274,4,    3.387,2,   2047.1,2,   2260.1,2,   6.7726, 20030801,      648
  18HU20030713, AR07W,   448,  1, 266510,     14,2,20030801,0609, 52.8632, -51.5095, 1566,      3.5,   9.2015,  33.2296,2,-999.0000,9,    301.5,2,    304.7,2,     1.47,6,     0.18,6,     0.23, 6,    4.534,2,    1.023,4,    0.372,4,    6.008,4,    3.016,2,   2008.3,2,   2226.6,2,   9.2011, 20030801,      649
  18HU20030713, AR07W,   448,  1, 266511,     15,2,20030801,0609, 52.8632, -51.5095, 1566,      3.7,   9.2524,  33.2459,2,-999.0000,9,    301.1,2,    308.4,2,     0.98,6,     0.29,6,     0.24, 6, -999.000,9, -999.000,9, -999.000,9, -999.000,9, -999.000,9,   -999.0,9,   -999.0,9,   9.2520, 20030801,      649