BOTTLE,20220503SIOCCHCBG
EXPOCODE,SECT_ID,STNNBR,CASTNO,SAMPNO,BTLNBR,BTLNBR_FLAG_W,DATE,TIME,LATITUDE,LONGITUDE,DEPTH,CTDPRS,CTDTMP,CTDSAL,CTDSAL_FLAG_W,SALNTY,SALNTY_FLAG_W,CTDOXY,CTDOXY_FLAG_W,OXYGEN,OXYGEN_FLAG_W,SILCAT,SILCAT_FLAG_W,NO2+NO3,NO2+NO3_FLAG_W,PHSPHT,PHSPHT_FLAG_W,CFC-11,CFC-11_FLAG_W,CFC-12,CFC-12_FLAG_W,CFC113,CFC113_FLAG_W,CCL4,CCL4_FLAG_W,MCHFRM,MCHFRM_FLAG_W,TCARBN,TCARBN_FLAG_W,ALKALI,ALKALI_FLAG_W,THETA,BTL_DATE,BTL_TIME
,,,,,,,,,,,METERS,DBAR,ITS-90,PSS-78,,PSS-78,,UMOL/KG,,UMOL/KG,,UMOL/KG,,UMOL/KG,,UMOL/KG,,PMOL/KG,,PMOL/KG,,PMOL/KG,,PMOL/KG,,PMOL/KG,,UMOL/KG,,UMOL/KG,,DEG C,,
  18HU20030713, AR07W,    33,  1, 265650,      1,2,20030714,1933, 42.8503, -61.6775, 1078,   1068.3,   4.0576,  34.9460,2,  34.9439,2,    264.5,2,   -999.0,9,    11.61,6,    17.92,6,     1.10, 6, -999.000,9, -999.000,9, -999.000,9, -999.000,9, -999.000,9,   -999.0,9,   -999.0,9,   3.9750, 20030714,     1933
  18HU20030713, AR07W,    33,  1, 265651,      2,2,20030714,1933, 42.8503, -61.6775, 1078,    755.0,   4.6401,  34.9774,2,  34.9760,2,    248.8,2,   -999.0,9,    11.73,6,    18.48,6,     1.12, 6, -999.000,9, -999.000,9, -999.000,9, -999.000,9, -999.000,9,   -999.0,9,   -999.0,9,   4.5800, 20030714,     1940
  18HU20030713, AR07W,    33,  1, 265652,      3,2,20030714,1933, 42.8503, -61.6775, 1078,    504.6,   5.5628,  34.9870,2,  34.9868,2,    217.9,2,   -999.0,9,    12.80,6,    20.34,6,     1.21, 6, -999.000,9, -999.000,9, -999.000,9, -999.000,9, -999.000,9,   -999.0,9,   -999.0,9,   5.5200, 20030714,     1945
  18HU20030713, AR07W,    33,  1, 265653,      4,2,20030714,1933, 42.8503, -61.6775, 1078,    252.6,   8.6452,  35.1367,2,  35.1435,2,    152.9,2,   -999.0,9,    13.45,6,    23.46,6,     1.37, 6, -999.000,9, -999.000,9, -999.000,9, -999.000,9, -999.000,9,   -999.0,9,   -999.0,9,   8.6183, 20030714,     1951
  18HU20030713, AR07W,    33,  1, 265654,      5,2,20030714,1933, 42.8503, -61.6775, 1078,     99.5,  10.2383,  34.9880,2,-999.0000,9,    211.1,2,   -999.0,9,     6.35,6,    12.94,6,     0.86, 6, -999.000,9, -999.000,9, -999.000,9, -999.000,9, -999.000,9,   -999.0,9,   -999.0,9,  10.2266, 20030714,     1954
  18HU20030713, AR07W,    33,  1, 265655,      6,2,20030714,1933, 42.8503, -61.6775, 1078,     81.2,  10.3504,  34.9599,2,-999.0000,9,    215.1,2,   -999.0,9,     5.69,6,    12.13,6,     0.78, 6, -999.000,9, -999.000,9, -999.000,9, -999.000,9, -999.000,9,   -999.0,9,   -999.0,9,  10.3408, 20030714,     1955
  18HU20030713, AR07W,    33,  1, 265656,      7,2,20030714,1933, 42.8503, -61.6775, 1078,     60.4,   8.2246,  34.3128,2,-999.0000,9,    239.0,2,   -999.0,9,     4.56,6,     9.75,6,     0.74, 6, -999.000,9, -999.000,9, -999.000,9, -999.000,9, -999.000,9,   -999.0,9,   -999.0,9,   8.2185, 20030714,     1957
  18HU20030713, AR07W,    33,  1, 265657,      8,2,20030714,1933, 42.8503, -61.6775, 1078,     51.1,   6.7846,  33.9114,2,-999.0000,9,    258.2,2,   -999.0,9,     3.84,6,     8.28,6,     0.72, 6, -999.000,9, -999.000,9, -999.000,9, -999.000,9, -999.000,9,   -999.0,9,   -999.0,9,   6.7800, 20030714,     1957
  18HU20030713, AR07W,    33,  1, 265658,      9,2,20030714,1933, 42.8503, -61.6775, 1078,     41.0,   7.5887,  33.9294,2,-999.0000,9,    254.1,2,   -999.0,9,     3.68,6,     7.82,6,     0.70, 6, -999.000,9, -999.000,9, -999.000,9, -999.000,9, -999.000,9,   -999.0,9,   -999.0,9,   7.5848, 20030714,     1958
  18HU20030713, AR07W,    33,  1, 265659,     10,2,20030714,1933, 42.8503, -61.6775, 1078,     30.2,   6.0700,  33.0011,2,-999.0000,9,    326.8,2,   -999.0,9,     1.09,6,     0.19,6,     0.35, 6, -999.000,9, -999.000,9, -999.000,9, -999.000,9, -999.000,9,   -999.0,9,   -999.0,9,   6.0675, 20030714,     1959
  18HU20030713, AR07W,    33,  1, 265660,     11,2,20030714,1933, 42.8503, -61.6775, 1078,     20.8,  11.0627,  32.8798,2,-999.0000,9,    306.5,2,   -999.0,9,     0.41,6,     0.00,6,     0.23, 6, -999.000,9, -999.000,9, -999.000,9, -999.000,9, -999.000,9,   -999.0,9,   -999.0,9,  11.0602, 20030714,     2000
  18HU20030713, AR07W,    33,  1, 265661,     12,2,20030714,1933, 42.8503, -61.6775, 1078,     10.9,  16.6032,  32.3915,2,-999.0000,9,    256.6,2,   -999.0,9,     0.32,6,     0.00,6,     0.21, 6, -999.000,9, -999.000,9, -999.000,9, -999.000,9, -999.000,9,   -999.0,9,   -999.0,9,  16.6015, 20030714,     2001
  18HU20030713, AR07W,    33,  1, 265662,     13,2,20030714,1933, 42.8503, -61.6775, 1078,      2.5,  16.7756,  32.3698,2,-999.0000,9,    255.8,2,   -999.0,9,     0.30,6,     0.00,6,     0.24, 6, -999.000,9, -999.000,9, -999.000,9, -999.000,9, -999.000,9,   -999.0,9,   -999.0,9,  16.7752, 20030714,     2002
  18HU20030713, AR07W,    37,  1, 265663,      1,2,20030715,0133, 42.5310, -61.3995, 2750,   2861.2,   2.8559,  34.9234,2,  34.9220,6,    272.2,2,   -999.0,9,    16.93,6,    17.44,6,     1.07, 6, -999.000,9, -999.000,9, -999.000,9, -999.000,9, -999.000,9,   -999.0,9,   -999.0,9,   2.6226, 20030715,      133
  18HU20030713, AR07W,    37,  1, 265664,      2,2,20030715,0133, 42.5310, -61.3995, 2750,   2000.7,   3.3965,  34.9268,2,-999.0000,9,    272.2,2,   -999.0,9,  -999.00,9,  -999.00,9,  -999.00, 9, -999.000,9, -999.000,9, -999.000,9, -999.000,9, -999.000,9,   -999.0,9,   -999.0,9,   3.2380, 20030715,      145
  18HU20030713, AR07W,    37,  1, 265665,      3,2,20030715,0133, 42.5310, -61.3995, 2750,   1200.9,   3.8970,  34.9361,2,  34.9359,6,    266.7,2,   -999.0,9,    11.21,6,    17.70,6,     1.07, 6, -999.000,9, -999.000,9, -999.000,9, -999.000,9, -999.000,9,   -999.0,9,   -999.0,9,   3.8044, 20030715,      157
  18HU20030713, AR07W,    37,  1, 265666,      4,2,20030715,0133, 42.5310, -61.3995, 2750,    500.7,   5.7551,  34.9638,2,  34.9622,2,    210.3,2,   -999.0,9,    12.96,6,    20.46,6,     1.25, 6, -999.000,9, -999.000,9, -999.000,9, -999.000,9, -999.000,9,   -999.0,9,   -999.0,9,   5.7119, 20030715,      207
  18HU20030713, AR07W,    37,  1, 265667,      5,2,20030715,0133, 42.5310, -61.3995, 2750,    249.8,  10.4091,  35.2945,2,  35.2909,2,    147.9,2,   -999.0,9,    11.50,6,    22.12,6,     1.27, 6, -999.000,9, -999.000,9, -999.000,9, -999.000,9, -999.000,9,   -999.0,9,   -999.0,9,  10.3792, 20030715,      211
  18HU20030713, AR07W,    37,  1, 265668,      6,2,20030715,0133, 42.5310, -61.3995, 2750,    101.1,  12.4451,  35.4264,2,-999.0000,9,    205.6,2,   -999.0,9,     4.49,6,    11.53,6,     0.66, 6, -999.000,9, -999.000,9, -999.000,9, -999.000,9, -999.000,9,   -999.0,9,   -999.0,9,  12.4316, 20030715,      214
  18HU20030713, AR07W,    37,  1, 265669,      7,2,20030715,0133, 42.5310, -61.3995, 2750,     79.9,  11.4414,  34.9998,2,-999.0000,9,    211.2,2,   -999.0,9,     4.41,6,    10.64,6,     0.70, 6, -999.000,9, -999.000,9, -999.000,9, -999.000,9, -999.000,9,   -999.0,9,   -999.0,9,  11.4313, 20030715,      215
  18HU20030713, AR07W,    37,  1, 265670,      8,2,20030715,0133, 42.5310, -61.3995, 2750,     59.9,  10.8140,  34.7590,2,-999.0000,9,    226.3,2,   -999.0,9,     3.78,6,     8.86,6,     0.63, 6, -999.000,9, -999.000,9, -999.000,9, -999.000,9, -999.000,9,   -999.0,9,   -999.0,9,  10.8068, 20030715,      215
  18HU20030713, AR07W,    37,  1, 265671,      9,2,20030715,0133, 42.5310, -61.3995, 2750,     50.5,  10.5940,  34.5965,2,-999.0000,9,    227.1,2,   -999.0,9,     3.77,6,     8.67,6,     0.67, 6, -999.000,9, -999.000,9, -999.000,9, -999.000,9, -999.000,9,   -999.0,9,   -999.0,9,  10.5880, 20030715,      216
  18HU20030713, AR07W,    37,  1, 265672,     10,2,20030715,0133, 42.5310, -61.3995, 2750,     39.9,   9.5953,  34.1501,2,-999.0000,9,    243.6,2,   -999.0,9,     3.64,6,     7.56,6,     0.61, 6, -999.000,9, -999.000,9, -999.000,9, -999.000,9, -999.000,9,   -999.0,9,   -999.0,9,   9.5909, 20030715,      217
  18HU20030713, AR07W,    37,  1, 265673,     11,2,20030715,0133, 42.5310, -61.3995, 2750,     30.0,   7.7859,  33.4041,2,-999.0000,9,    295.1,2,   -999.0,9,     2.10,6,     2.96,6,     0.47, 6, -999.000,9, -999.000,9, -999.000,9, -999.000,9, -999.000,9,   -999.0,9,   -999.0,9,   7.7830, 20030715,      217
  18HU20030713, AR07W,    37,  1, 265674,     12,2,20030715,0133, 42.5310, -61.3995, 2750,     20.3,   9.7237,  33.0732,2,-999.0000,9,    308.5,2,   -999.0,9,     0.71,6,     0.00,6,     0.24, 6, -999.000,9, -999.000,9, -999.000,9, -999.000,9, -999.000,9,   -999.0,9,   -999.0,9,   9.7215, 20030715,      218
  18HU20030713, AR07W,    37,  1, 265675,     13,2,20030715,0133, 42.5310, -61.3995, 2750,     10.3,  15.6325,  33.0146,2,-999.0000,9,    271.5,2,   -999.0,9,     0.35,6,     0.00,6,     0.19, 6, -999.000,9, -999.000,9, -999.000,9, -999.000,9, -999.000,9,   -999.0,9,   -999.0,9,  15.6309, 20030715,      218
  18HU20030713, AR07W,    37,  1, 265676,     14,2,20030715,0133, 42.5310, -61.3995, 2750,      3.9,  19.3562,  32.4906,2,-999.0000,9,    235.7,2,   -999.0,9,    21.62,3,    17.43,6,     1.10, 6, -999.000,9, -999.000,9, -999.000,9, -999.000,9, -999.000,9,   -999.0,9,   -999.0,9,  19.3555, 20030715,      219
  18HU20030713, AR07W,    42,  1, 265677,      1,2,20030716,0215, 43.4038, -57.6583, 3600,   3826.2,   2.2916,  34.8965,2,  34.8946,6,    272.3,2,   -999.0,9,     0.31,6,     0.00,6,     0.18, 6, -999.000,9, -999.000,9, -999.000,9, -999.000,9, -999.000,9,   -999.0,9,   -999.0,9,   1.9687, 20030716,      215
  18HU20030713, AR07W,    42,  1, 265678,      2,2,20030716,0215, 43.4038, -57.6583, 3600,   2998.2,   2.7205,  34.9165,2,  34.9140,2,    270.7,2,   -999.0,9,    16.42,6,    16.97,6,     1.07, 6, -999.000,9, -999.000,9, -999.000,9, -999.000,9, -999.000,9,   -999.0,9,   -999.0,9,   2.4760, 20030716,      226
  18HU20030713, AR07W,    42,  1, 265679,      3,2,20030716,0215, 43.4038, -57.6583, 3600,   2454.2,   3.2424,  34.9332,2,  34.9309,2,    267.9,2,   -999.0,9,    14.57,6,    17.62,6,     1.12, 6, -999.000,9, -999.000,9, -999.000,9, -999.000,9, -999.000,9,   -999.0,9,   -999.0,9,   3.0426, 20030716,      234
  18HU20030713, AR07W,    42,  1, 265680,      4,2,20030716,0215, 43.4038, -57.6583, 3600,   2003.5,   3.4509,  34.9233,2,  34.9209,2,    270.4,2,   -999.0,9,    12.36,6,    17.57,6,     1.08, 6, -999.000,9, -999.000,9, -999.000,9, -999.000,9, -999.000,9,   -999.0,9,   -999.0,9,   3.2913, 20030716,      242
  18HU20030713, AR07W,    42,  1, 265681,      5,2,20030716,0215, 43.4038, -57.6583, 3600,   1503.2,   3.9057,  34.9545,2,  34.9536,2,    262.4,2,   -999.0,9,    11.74,6,    17.74,6,     1.10, 6, -999.000,9, -999.000,9, -999.000,9, -999.000,9, -999.000,9,   -999.0,9,   -999.0,9,   3.7863, 20030716,      250
  18HU20030713, AR07W,    42,  1, 265682,      6,2,20030716,0215, 43.4038, -57.6583, 3600,   1002.5,   4.4296,  34.9674,2,  34.9650,2,    253.6,2,   -999.0,9,    11.16,6,    18.24,6,     1.10, 6, -999.000,9, -999.000,9, -999.000,9, -999.000,9, -999.000,9,   -999.0,9,   -999.0,9,   4.3497, 20030716,      257
  18HU20030713, AR07W,    42,  1, 265683,      7,2,20030716,0215, 43.4038, -57.6583, 3600,    500.0,   7.4085,  35.0606,2,  35.0547,2,    173.3,2,   -999.0,9,    13.85,6,    23.24,6,     1.39, 6, -999.000,9, -999.000,9, -999.000,9, -999.000,9, -999.000,9,   -999.0,9,   -999.0,9,   7.3591, 20030716,      305
  18HU20030713, AR07W,    42,  1, 265684,      8,2,20030716,0215, 43.4038, -57.6583, 3600,    251.3,  12.1359,  35.4732,2,  35.4776,2,    203.6,2,   -999.0,9,     6.15,6,    13.60,6,     0.79, 6, -999.000,9, -999.000,9, -999.000,9, -999.000,9, -999.000,9,   -999.0,9,   -999.0,9,  12.1026, 20030716,      309
  18HU20030713, AR07W,    42,  1, 265685,      9,2,20030716,0215, 43.4038, -57.6583, 3600,    100.8,  12.9748,  35.5007,2,-999.0000,9,    213.7,2,   -999.0,9,     3.55,6,     9.63,6,     0.57, 6, -999.000,9, -999.000,9, -999.000,9, -999.000,9, -999.000,9,   -999.0,9,   -999.0,9,  12.9609, 20030716,      312
  18HU20030713, AR07W,    42,  1, 265686,     10,2,20030716,0215, 43.4038, -57.6583, 3600,     80.4,  13.5451,  35.5598,2,-999.0000,9,    211.8,2,   -999.0,9,     2.78,6,     8.46,6,     0.54, 6, -999.000,9, -999.000,9, -999.000,9, -999.000,9, -999.000,9,   -999.0,9,   -999.0,9,  13.5337, 20030716,      313
  18HU20030713, AR07W,    42,  1, 265687,     11,2,20030716,0215, 43.4038, -57.6583, 3600,     60.7,  13.4923,  35.4601,2,-999.0000,9,    216.2,2,   -999.0,9,     2.37,6,     7.28,6,     0.51, 6, -999.000,9, -999.000,9, -999.000,9, -999.000,9, -999.000,9,   -999.0,9,   -999.0,9,  13.4837, 20030716,      314
  18HU20030713, AR07W,    42,  1, 265688,     12,2,20030716,0215, 43.4038, -57.6583, 3600,     50.4,  14.7925,  35.5046,2,-999.0000,9,    222.8,2,   -999.0,9,     1.39,6,     4.59,6,     0.35, 6, -999.000,9, -999.000,9, -999.000,9, -999.000,9, -999.000,9,   -999.0,9,   -999.0,9,  14.7849, 20030716,      315
  18HU20030713, AR07W,    42,  1, 265689,     13,2,20030716,0215, 43.4038, -57.6583, 3600,     40.1,  15.7246,  35.6173,2,-999.0000,9,    235.3,2,   -999.0,9,     0.54,6,     1.66,6,     0.21, 6, -999.000,9, -999.000,9, -999.000,9, -999.000,9, -999.000,9,   -999.0,9,   -999.0,9,  15.7183, 20030716,      316
  18HU20030713, AR07W,    42,  1, 265690,     14,2,20030716,0215, 43.4038, -57.6583, 3600,     30.4,  16.1430,  35.6048,2,-999.0000,9,    242.2,2,   -999.0,9,     0.00,6,     0.00,6,     0.13, 6, -999.000,9, -999.000,9, -999.000,9, -999.000,9, -999.000,9,   -999.0,9,   -999.0,9,  16.1382, 20030716,      317
  18HU20030713, AR07W,    42,  1, 265691,     15,2,20030716,0215, 43.4038, -57.6583, 3600,     20.6,  17.4258,  35.5464,2,-999.0000,9,    244.7,2,   -999.0,9,     0.13,6,     0.00,6,     0.11, 6, -999.000,9, -999.000,9, -999.000,9, -999.000,9, -999.000,9,   -999.0,9,   -999.0,9,  17.4223, 20030716,      317
  18HU20030713, AR07W,    42,  1, 265692,     16,2,20030716,0215, 43.4038, -57.6583, 3600,     10.8,  17.8302,  35.3576,2,-999.0000,9,    246.5,2,   -999.0,9,     0.39,6,     0.00,6,     0.11, 6, -999.000,9, -999.000,9, -999.000,9, -999.000,9, -999.000,9,   -999.0,9,   -999.0,9,  17.8284, 20030716,      318
  18HU20030713, AR07W,    42,  1, 265693,     17,2,20030716,0215, 43.4038, -57.6583, 3600,      3.6,  20.8557,  34.4316,2,-999.0000,9,    225.5,2,   -999.0,9,     0.39,6,     0.00,6,     0.14, 6, -999.000,9, -999.000,9, -999.000,9, -999.000,9, -999.000,9,   -999.0,9,   -999.0,9,  20.8550, 20030716,      319
  18HU20030713, AR07W,    86,  1, 265694,      1,2,20030723,1552, 53.6760, -55.5455,  156,    150.9,  -1.2335,  33.0853,2,-999.0000,9,    311.4,2,   -999.0,9,    10.82,6,     8.97,6,     0.96, 6,    6.604,2,    4.429,4,    0.509,4,    6.989,4,    6.632,2,   2126.8,2,   2226.6,2,  -1.2370, 20030723,     1552
  18HU20030713, AR07W,    86,  1, 265695,      2,2,20030723,1552, 53.6760, -55.5455,  156,     99.9,  -1.3336,  32.9180,2,-999.0000,9,    313.5,2,    317.8,2,     9.96,6,     8.59,6,     0.97, 6,    6.720,2,    3.215,3,    0.490,4,    7.421,4,    6.878,2,   2121.2,2,   2222.8,2,  -1.3357, 20030723,     1553
  18HU20030713, AR07W,    86,  1, 265696,      3,2,20030723,1552, 53.6760, -55.5455,  156,     79.6,  -1.3413,  32.7823,2,-999.0000,9,    316.5,2,   -999.0,9,     8.72,6,     7.74,6,     0.96, 6, -999.000,9, -999.000,9, -999.000,9, -999.000,9, -999.000,9,   -999.0,9,   -999.0,9,  -1.3429, 20030723,     1555
  18HU20030713, AR07W,    86,  1, 265697,      4,2,20030723,1552, 53.6760, -55.5455,  156,     59.9,  -1.3822,  32.6280,2,-999.0000,9,    319.0,2,   -999.0,9,     8.80,6,     7.52,6,     0.96, 6, -999.000,9, -999.000,9, -999.000,9, -999.000,9, -999.000,9,   -999.0,9,   -999.0,9,  -1.3834, 20030723,     1555
  18HU20030713, AR07W,    86,  1, 265698,      5,2,20030723,1552, 53.6760, -55.5455,  156,     49.8,  -1.2660,  32.5591,2,-999.0000,9,    327.4,2,    338.7,3,     6.26,6,     5.78,6,     0.91, 6,    6.888,2,    4.313,4,    0.499,4,    7.578,4,    6.506,2,   2106.9,2,   2217.5,2,  -1.2670, 20030723,     1556
  18HU20030713, AR07W,    86,  1, 265699,      6,2,20030723,1552, 53.6760, -55.5455,  156,     40.5,  -1.1578,  32.4939,2,-999.0000,9,    336.9,2,   -999.0,9,     5.13,6,     4.72,6,     0.86, 6, -999.000,9, -999.000,9, -999.000,9, -999.000,9, -999.000,9,   -999.0,9,   -999.0,9,  -1.1587, 20030723,     1557
  18HU20030713, AR07W,    86,  1, 265700,      7,2,20030723,1552, 53.6760, -55.5455,  156,     30.0,  -0.8775,  32.3648,2,-999.0000,9,    343.9,2,   -999.0,9,     3.59,6,     3.43,6,     0.79, 6, -999.000,9, -999.000,9, -999.000,9, -999.000,9, -999.000,9,   -999.0,9,   -999.0,9,  -0.8782, 20030723,     1558
  18HU20030713, AR07W,    86,  1, 265701,      8,2,20030723,1552, 53.6760, -55.5455,  156,     20.2,   0.6514,  32.0603,2,-999.0000,9,    363.2,2,   -999.0,9,     2.01,6,     1.37,6,     0.62, 6, -999.000,9, -999.000,9, -999.000,9, -999.000,9, -999.000,9,   -999.0,9,   -999.0,9,   0.6507, 20030723,     1558
  18HU20030713, AR07W,    86,  1, 265702,      9,2,20030723,1552, 53.6760, -55.5455,  156,     20.1,   0.7118,  32.0675,2,-999.0000,9,    368.3,2,   -999.0,9,  -999.00,9,  -999.00,9,  -999.00, 9, -999.000,9, -999.000,9, -999.000,9, -999.000,9, -999.000,9,   -999.0,9,   -999.0,9,   0.7111, 20030723,     1558
  18HU20030713, AR07W,    86,  1, 265703,     10,2,20030723,1552, 53.6760, -55.5455,  156,     20.2,   0.6984,  32.0701,2,-999.0000,9,    370.4,2,   -999.0,9,  -999.00,9,  -999.00,9,  -999.00, 9, -999.000,9, -999.000,9, -999.000,9, -999.000,9, -999.000,9,   -999.0,9,   -999.0,9,   0.6977, 20030723,     1558
  18HU20030713, AR07W,    86,  1, 265704,     11,2,20030723,1552, 53.6760, -55.5455,  156,     10.5,   3.6021,  31.4123,2,-999.0000,9,    367.9,2,    373.6,2,     0.80,6,     0.16,6,     0.36, 6,    6.649,2,    4.379,4,    0.548,4,    7.900,4,    5.148,2,   1984.7,2,   2166.0,2,   3.6015, 20030723,     1559
  18HU20030713, AR07W,    86,  1, 265705,     12,2,20030723,1552, 53.6760, -55.5455,  156,      1.4,  10.5799,  29.4151,3,-999.0000,9,    302.8,2,   -999.0,9,     1.11,6,     0.00,6,     0.20, 6, -999.000,9, -999.000,9, -999.000,9, -999.000,9, -999.000,9,   -999.0,9,   -999.0,9,-999.0000, 20030723,     1600
  18HU20030713, AR07W,    86,  1, 265706,     13,2,20030723,1552, 53.6760, -55.5455,  156,      2.2,  11.1048,  29.2777,3,-999.0000,9,    296.5,2,   -999.0,9,  -999.00,9,  -999.00,9,  -999.00, 9, -999.000,9, -999.000,9, -999.000,9, -999.000,9, -999.000,9,   -999.0,9,   -999.0,9,-999.0000, 20030723,     1600
  18HU20030713, AR07W,    86,  1, 265707,     14,2,20030723,1552, 53.6760, -55.5455,  156,      2.4,  10.8856,  29.3297,3,-999.0000,9,    297.1,2,   -999.0,9,  -999.00,9,  -999.00,9,  -999.00, 9, -999.000,9, -999.000,9, -999.000,9, -999.000,9, -999.000,9,   -999.0,9,   -999.0,9,-999.0000, 20030723,     1600
  18HU20030713, AR07W,    86,  1, 265708,     15,2,20030723,1552, 53.6760, -55.5455,  156,      2.3,  10.6487,  29.3765,3,-999.0000,9,    297.2,2,   -999.0,9,  -999.00,9,  -999.00,9,  -999.00, 9, -999.000,9, -999.000,9, -999.000,9, -999.000,9, -999.000,9,   -999.0,9,   -999.0,9,-999.0000, 20030723,     1600
  18HU20030713, AR07W,    86,  1, 265709,     16,2,20030723,1552, 53.6760, -55.5455,  156,      2.3,  10.5817,  29.3943,3,-999.0000,9,    298.1,2,   -999.0,9,  -999.00,9,  -999.00,9,  -999.00, 9, -999.000,9, -999.000,9, -999.000,9, -999.000,9, -999.000,9,   -999.0,9,   -999.0,9,-999.0000, 20030723,     1600