BOTTLE,20220503SIOCCHCBG
EXPOCODE,SECT_ID,STNNBR,CASTNO,SAMPNO,BTLNBR,BTLNBR_FLAG_W,DATE,TIME,LATITUDE,LONGITUDE,DEPTH,CTDPRS,CTDTMP,CTDSAL,CTDSAL_FLAG_W,SALNTY,SALNTY_FLAG_W,CTDOXY,CTDOXY_FLAG_W,OXYGEN,OXYGEN_FLAG_W,SILCAT,SILCAT_FLAG_W,NO2+NO3,NO2+NO3_FLAG_W,PHSPHT,PHSPHT_FLAG_W,CFC-11,CFC-11_FLAG_W,CFC-12,CFC-12_FLAG_W,CFC113,CFC113_FLAG_W,CCL4,CCL4_FLAG_W,MCHFRM,MCHFRM_FLAG_W,TCARBN,TCARBN_FLAG_W,ALKALI,ALKALI_FLAG_W,THETA,BTL_DATE,BTL_TIME
,,,,,,,,,,,METERS,DBAR,ITS-90,PSS-78,,PSS-78,,UMOL/KG,,UMOL/KG,,UMOL/KG,,UMOL/KG,,UMOL/KG,,PMOL/KG,,PMOL/KG,,PMOL/KG,,PMOL/KG,,PMOL/KG,,UMOL/KG,,UMOL/KG,,DEG C,,
  18HU20030713, AR07W,   270,  1, 266243,      1,2,20030728,1733, 60.2937, -48.5525, 2686,   2783.8,   2.5651,  34.9016,2,  34.9034,2,    283.4,2,    284.2,2,     9.32,6,    12.31,6,     0.92, 6,    3.477,2,    1.932,2,    0.106,4,    2.797,4,    3.022,2,   2157.1,2,   2303.1,2,   2.3457, 20030728,     1733
  18HU20030713, AR07W,   270,  1, 266244,      2,2,20030728,1733, 60.2937, -48.5525, 2686,   2617.8,   2.6915,  34.9051,2,  34.9061,2,    281.3,2,    281.0,2,    11.27,6,    15.39,6,     0.99, 6,    3.291,2,    1.842,2,    0.151,4,    2.625,4,    2.927,2,   2157.2,2,   2301.7,2,   2.4859, 20030728,     1737
  18HU20030713, AR07W,   270,  1, 266245,      3,2,20030728,1733, 60.2937, -48.5525, 2686,   2510.7,   2.7699,  34.9048,2,  34.9071,6,    281.1,2,    282.0,2,    11.05,6,    15.36,6,     0.99, 6,    3.290,2,    1.880,2,    0.107,4,    2.712,4,    3.082,2,   2157.1,2,   2298.8,2,   2.5733, 20030728,     1739
  18HU20030713, AR07W,   270,  1, 266246,      4,2,20030728,1733, 60.2937, -48.5525, 2686,   2411.3,   2.8552,  34.9069,2,  34.9077,2,    280.2,2,    279.8,2,    10.52,6,    14.64,6,     0.98, 6,    3.303,2,    1.835,2,    0.098,4,    2.666,4,    3.048,2,   2156.4,2,   2298.6,2,   2.6666, 20030728,     1741
  18HU20030713, AR07W,   270,  1, 266247,      5,2,20030728,1733, 60.2937, -48.5525, 2686,   2287.7,   2.8934,  34.9079,2,  34.9087,2,    279.5,2,    279.3,2,    11.26,6,    15.69,6,     0.99, 6,    3.191,2,    1.773,2,    0.147,4,    2.568,4,    3.026,2,   2156.3,2,   2297.5,4,   2.7159, 20030728,     1744
  18HU20030713, AR07W,   270,  1, 266248,      6,2,20030728,1733, 60.2937, -48.5525, 2686,   2149.6,   3.0651,  34.9043,2,  34.9051,6,    279.8,2,    279.9,2,    10.49,6,    15.50,6,     1.01, 6,    3.280,2,    1.850,2,    0.081,4,    2.638,4,    3.160,2,   2157.0,2,   2293.7,2,   2.8978, 20030728,     1747
  18HU20030713, AR07W,   270,  1, 266249,      7,2,20030728,1733, 60.2937, -48.5525, 2686,   1988.4,   3.1621,  34.9026,2,  34.9042,2,    279.9,2,    279.8,2,    10.04,6,    15.27,6,     1.01, 6,    3.691,2,    2.070,2,    0.147,4,    2.925,4,    3.444,2,   2156.8,2,   2299.6,2,   3.0083, 20030728,     1751
  18HU20030713, AR07W,   270,  1, 266250,      8,2,20030728,1733, 60.2937, -48.5525, 2686,   1810.1,   3.2052,  34.9028,2,  34.9044,2,    279.3,2,    279.4,6,    10.23,6,    16.06,6,     1.03, 6,    3.744,2,    2.078,2,    0.204,4,    2.893,4,    3.502,2,   2156.4,2,   2302.1,2,   3.0670, 20030728,     1754
  18HU20030713, AR07W,   270,  1, 266251,      9,2,20030728,1733, 60.2937, -48.5525, 2686,   1629.4,   3.2906,  34.9011,2,  34.9022,2,    278.9,2,    279.2,2,     8.73,3,    13.70,3,     0.95, 3,    3.543,2,    2.013,2,    0.080,4,    2.676,4,    3.391,2,   2157.7,2,   2299.6,2,   3.1674, 20030728,     1757
  18HU20030713, AR07W,   270,  1, 266252,     10,2,20030728,1733, 60.2937, -48.5525, 2686,   1429.8,   3.5273,  34.9091,2,  34.9099,2,    275.8,2,    275.7,2,    10.21,6,    16.34,6,     1.04, 6,    3.871,2,    2.149,2,    0.173,4,    2.962,4,    3.442,2,   2159.4,2,   2294.8,2,   3.4187, 20030728,     1801
  18HU20030713, AR07W,   270,  1, 266253,     11,2,20030728,1733, 60.2937, -48.5525, 2686,   1229.0,   3.6152,  34.9098,2,  34.9107,2,    275.3,2,   -999.0,9,     8.11,3,    13.18,3,     0.85, 3,    3.928,2,    2.223,2,    0.223,4,    2.990,4,    3.279,2,   2158.6,2,   2305.3,2,   3.5229, 20030728,     1805
  18HU20030713, AR07W,   270,  1, 266254,     12,2,20030728,1733, 60.2937, -48.5525, 2686,   1028.0,   3.7098,  34.9101,2,  34.9105,2,    275.6,2,    276.5,6,     9.76,6,    16.47,6,     1.04, 6,    3.699,3,    2.177,2,    0.110,4,    2.681,4,    2.810,2,   2160.2,2,   2291.1,3,   3.6334, 20030728,     1809
  18HU20030713, AR07W,   270,  1, 266255,     13,2,20030728,1733, 60.2937, -48.5525, 2686,    849.8,   3.9847,  34.9119,2,  34.9126,2,    275.3,2,    275.2,2,     8.57,6,    14.50,6,     0.98, 6,    4.417,2,    2.530,2,    0.185,4,    3.364,4,    3.076,2,   2159.3,2,   2287.2,2,   3.9209, 20030728,     1813
  18HU20030713, AR07W,   270,  1, 266256,     14,2,20030728,1733, 60.2937, -48.5525, 2686,    670.4,   4.4438,  34.9302,2,  34.9311,2,    273.3,2,    273.0,2,     8.47,6,    15.06,6,     1.01, 6,    3.829,3,    2.306,2,    0.138,4,    2.703,4,    2.148,2,   2159.5,2,   2300.0,2,   4.3919, 20030728,     1816
  18HU20030713, AR07W,   270,  1, 266257,     15,2,20030728,1733, 60.2937, -48.5525, 2686,    510.4,   4.8265,  34.9434,2,  34.9441,2,    274.6,2,    274.4,2,     8.48,6,    15.60,6,     1.00, 6,    3.872,3,    2.367,2,    0.129,4,    2.725,4,    1.907,2,   2154.5,2,   2314.4,2,   4.7861, 20030728,     1819
  18HU20030713, AR07W,   270,  1, 266258,     16,2,20030728,1733, 60.2937, -48.5525, 2686,    365.2,   5.3567,  34.9785,2,  34.9793,2,    275.5,2,    275.2,2,     7.87,6,    15.12,6,     0.99, 6,    4.577,2,    2.756,2,    0.243,4,    3.548,4,    2.173,2,   2153.1,2,   2312.8,2,   5.3267, 20030728,     1823
  18HU20030713, AR07W,   270,  1, 266259,     17,2,20030728,1733, 60.2937, -48.5525, 2686,    248.2,   5.8366,  35.0156,2,  35.0146,2,    277.1,2,    277.5,2,     7.51,6,    14.65,6,     0.98, 6,    4.094,3,    2.526,2,    0.167,4,    3.009,4,    1.670,2,   2149.9,2,   2311.5,2,   5.8155, 20030728,     1825
  18HU20030713, AR07W,   270,  1, 266260,     18,2,20030728,1733, 60.2937, -48.5525, 2686,    151.1,   6.4377,  35.0654,2,-999.0000,9,    276.3,2,    277.2,2,     6.87,6,    14.53,6,     0.94, 6,    4.533,2,    2.764,2,    0.275,4,    3.464,4,    1.793,2,   2144.8,2,   2301.2,2,   6.4242, 20030728,     1827
  18HU20030713, AR07W,   270,  1, 266261,     19,2,20030728,1733, 60.2937, -48.5525, 2686,    101.6,   6.6823,  35.0751,2,-999.0000,9,    278.5,2,    279.3,2,     5.81,6,    13.36,6,     0.89, 6,    4.679,2,    2.822,2,    0.282,4,    3.661,4,    1.735,2,   2143.3,2,   2316.7,2,   6.6731, 20030728,     1829
  18HU20030713, AR07W,   270,  1, 266262,     20,2,20030728,1733, 60.2937, -48.5525, 2686,     49.1,   7.3982,  35.0264,2,-999.0000,9,    285.3,2,    286.2,2,     3.40,6,    11.12,6,     0.78, 6,    4.744,2,    2.889,2,    0.297,4,    3.960,4,    1.621,2,   2126.8,2,   2239.3,3,   7.3935, 20030728,     1830
  18HU20030713, AR07W,   270,  1, 266263,     21,2,20030728,1733, 60.2937, -48.5525, 2686,     20.6,   6.1556,  33.6658,2,-999.0000,9,    324.4,2,    323.7,2,     1.98,6,     4.44,6,     0.43, 6,    5.449,2,    3.249,2,    0.604,4,    4.619,4,    1.854,2,   2050.7,2,   2244.0,2,   6.1539, 20030728,     1831
  18HU20030713, AR07W,   270,  1, 266264,     22,2,20030728,1733, 60.2937, -48.5525, 2686,      3.9,   6.0196,  33.5445,2,-999.0000,9,    327.0,2,    327.7,2,     1.99,6,     3.44,6,     0.38, 6,    5.667,2,    3.378,2,    0.617,4,    4.908,4,    1.919,2,   2035.7,2,   2228.1,2,   6.0193, 20030728,     1832
  18HU20030713, AR07W,   274,  1, 266265,      1,2,20030728,2023, 60.4467, -48.3687,  148,    140.9,   5.8122,  34.9043,2,-999.0000,9,    287.7,2,    286.0,2,     5.13,6,    10.97,6,     0.79, 6,    5.143,2,    3.418,4,    0.314,4,    5.547,4,    3.523,2,   2135.9,2,   2304.5,2,   5.8004, 20030728,     2023
  18HU20030713, AR07W,   274,  1, 266266,      2,2,20030728,2023, 60.4467, -48.3687,  148,    100.1,   4.6266,  34.4773,2,-999.0000,9,    304.1,2,    303.1,2,     4.01,6,     8.81,6,     0.74, 6,    5.705,2,    3.740,4,    0.385,4,    6.376,4,    3.844,2,   2117.9,2,   2283.0,2,   4.6192, 20030728,     2024
  18HU20030713, AR07W,   274,  1, 266267,      3,2,20030728,2023, 60.4467, -48.3687,  148,     80.5,   4.2021,  34.3492,2,-999.0000,9,    308.9,2,    308.5,6,     3.64,6,     7.57,6,     0.70, 6,    5.899,2,    3.988,4,    0.391,4,    6.530,4,    4.183,2,   2114.4,2,   2277.1,2,   4.1965, 20030728,     2025
  18HU20030713, AR07W,   274,  1, 266268,      4,2,20030728,2023, 60.4467, -48.3687,  148,     60.6,   3.0664,  34.0670,2,-999.0000,9,    317.3,2,   -999.0,9,     4.24,6,     7.79,6,     0.73, 6, -999.000,9, -999.000,9, -999.000,9, -999.000,9, -999.000,9,   -999.0,9,   -999.0,9,   3.0628, 20030728,     2026
  18HU20030713, AR07W,   274,  1, 266269,      5,2,20030728,2023, 60.4467, -48.3687,  148,     49.8,   2.5088,  33.9477,2,-999.0000,9,    319.6,2,    318.6,2,     4.34,6,     7.43,6,     0.72, 6,    6.389,2,    4.114,4,    0.461,4,    6.977,4,    4.640,2,   2107.1,2,   2265.5,2,   2.5060, 20030728,     2026
  18HU20030713, AR07W,   274,  1, 266270,      6,2,20030728,2023, 60.4467, -48.3687,  148,     40.1,   2.0915,  33.8153,2,-999.0000,9,    323.2,2,   -999.0,9,     4.19,6,     6.95,6,     0.71, 6, -999.000,9, -999.000,9, -999.000,9, -999.000,9, -999.000,9,   -999.0,9,   -999.0,9,   2.0894, 20030728,     2027
  18HU20030713, AR07W,   274,  1, 266271,      7,2,20030728,2023, 60.4467, -48.3687,  148,     29.1,   1.6991,  33.5804,2,-999.0000,9,    331.0,2,   -999.0,9,     3.10,6,     5.34,6,     0.62, 6, -999.000,9, -999.000,9, -999.000,9, -999.000,9, -999.000,9,   -999.0,9,   -999.0,9,   1.6977, 20030728,     2028
  18HU20030713, AR07W,   274,  1, 266272,      8,2,20030728,2023, 60.4467, -48.3687,  148,     21.2,   1.6300,  33.2903,2,-999.0000,9,    339.1,2,   -999.0,9,     2.30,6,     4.42,6,     0.54, 6, -999.000,9, -999.000,9, -999.000,9, -999.000,9, -999.000,9,   -999.0,9,   -999.0,9,   1.6290, 20030728,     2029
  18HU20030713, AR07W,   274,  1, 266273,      9,2,20030728,2023, 60.4467, -48.3687,  148,     11.1,   4.2726,  31.9068,2,-999.0000,9,    347.9,2,    346.2,2,     0.97,6,     0.34,6,     0.29, 6,    6.548,2,    4.050,3,    0.488,4,    7.382,4,    4.276,2,   1949.3,2,   2140.7,3,   4.2719, 20030728,     2030
  18HU20030713, AR07W,   274,  1, 266274,     10,2,20030728,2023, 60.4467, -48.3687,  148,      3.2,   4.2906,  31.9055,2,-999.0000,9,    348.1,2,   -999.0,9,     0.95,6,     0.24,6,     0.20, 6, -999.000,9, -999.000,9, -999.000,9, -999.000,9, -999.000,9,   -999.0,9,   -999.0,9,   4.2904, 20030728,     2030
  18HU20030713, AR07W,   277,  1, 266275,      1,2,20030728,2209, 60.5653, -48.2230,  138,    117.8,   2.6422,  33.9277,2,-999.0000,9,    320.4,2,    318.2,2,     4.07,6,     6.77,6,     0.69, 6,    5.379,2,    3.258,2,    0.244,4,    3.965,4,    1.942,2,   2103.0,2,   2254.7,2,   2.6355, 20030728,     2209
  18HU20030713, AR07W,   277,  1, 266276,      2,2,20030728,2209, 60.5653, -48.2230,  138,    100.4,   2.5941,  33.9105,2,-999.0000,9,    320.9,2,    318.9,2,     4.32,6,     7.32,6,     0.70, 6,    6.402,2,    3.681,2,    0.381,4,    4.952,4,    2.449,2,   2104.2,2,   2264.0,2,   2.5884, 20030728,     2211
  18HU20030713, AR07W,   277,  1, 266277,      3,2,20030728,2209, 60.5653, -48.2230,  138,     80.5,   2.2698,  33.6902,2,-999.0000,9,    328.6,2,    327.8,6,     3.14,6,     5.94,6,     0.64, 6,    6.592,2,    3.764,2,    0.377,4,    5.076,4,    2.453,2,   2089.7,2,   2248.2,2,   2.2655, 20030728,     2211
  18HU20030713, AR07W,   277,  1, 266278,      4,2,20030728,2209, 60.5653, -48.2230,  138,     60.2,   1.1843,  33.5703,2,-999.0000,9,    266.7,4,   -999.0,9,     2.97,4,     4.20,4,     0.58, 4, -999.000,9, -999.000,9, -999.000,9, -999.000,9, -999.000,9,   -999.0,9,   -999.0,9,   1.1817, 20030728,     2212
  18HU20030713, AR07W,   277,  1, 266279,      5,2,20030728,2209, 60.5653, -48.2230,  138,     50.0,   0.9718,  33.1792,2,-999.0000,9,    334.3,2,    340.2,2,     2.48,6,     3.61,6,     0.55, 6,    6.234,2,    3.665,2,    0.400,4,    4.472,4,    2.207,2,   2063.9,2,   2221.3,2,   0.9697, 20030728,     2213
  18HU20030713, AR07W,   277,  1, 266280,      6,2,20030728,2209, 60.5653, -48.2230,  138,     38.5,   0.9123,  33.0867,2,-999.0000,9,    343.2,2,   -999.0,9,     2.18,6,     3.20,6,     0.53, 6, -999.000,9, -999.000,9, -999.000,9, -999.000,9, -999.000,9,   -999.0,9,   -999.0,9,   0.9107, 20030728,     2214
  18HU20030713, AR07W,   277,  1, 266281,      7,2,20030728,2209, 60.5653, -48.2230,  138,     28.7,   1.1352,  32.8796,2,-999.0000,9,    348.6,2,   -999.0,9,     1.66,6,     2.23,6,     0.45, 6, -999.000,9, -999.000,9, -999.000,9, -999.000,9, -999.000,9,   -999.0,9,   -999.0,9,   1.1340, 20030728,     2215
  18HU20030713, AR07W,   277,  1, 266282,      8,2,20030728,2209, 60.5653, -48.2230,  138,     20.3,   1.1230,  32.8046,2,-999.0000,9,    351.9,2,   -999.0,9,     1.26,6,     1.79,6,     0.44, 6, -999.000,9, -999.000,9, -999.000,9, -999.000,9, -999.000,9,   -999.0,9,   -999.0,9,   1.1222, 20030728,     2215
  18HU20030713, AR07W,   277,  1, 266283,      9,2,20030728,2209, 60.5653, -48.2230,  138,     10.6,   3.9972,  32.1388,2,-999.0000,9,    349.6,2,    347.3,2,     1.05,6,     0.25,6,     0.22, 6,    0.000,4,    0.000,4, -999.000,9,    0.000,4,    0.000,2,   1962.1,2,   2148.1,2,   3.9965, 20030728,     2216
  18HU20030713, AR07W,   277,  1, 266284,     10,2,20030728,2209, 60.5653, -48.2230,  138,      3.7,   4.7195,  31.9519,2,-999.0000,9,    346.5,2,   -999.0,9,     0.85,6,     0.00,6,     0.21, 6, -999.000,9, -999.000,9, -999.000,9, -999.000,9, -999.000,9,   -999.0,9,   -999.0,9,   4.7192, 20030728,     2217
  18HU20030713, AR07W,   283,  1, 266285,      1,2,20030729,0547, 60.3657, -48.4532,  850,    952.4,   4.0138,  34.9161,2,-999.0000,9,    277.6,2,    274.9,2,  -999.00,9,  -999.00,9,  -999.00, 9,    4.309,2,    2.170,3,    0.248,4,    4.641,4,    5.926,2,   -999.0,9,   -999.0,9,   3.9413, 20030729,      547
  18HU20030713, AR07W,   283,  1, 266286,      2,2,20030729,0547, 60.3657, -48.4532,  850,    952.6,   4.0110,  34.9160,2,  34.9174,2,    277.4,2,   -999.0,9,  -999.00,9,  -999.00,9,  -999.00, 9, -999.000,9, -999.000,9, -999.000,9, -999.000,9, -999.000,9,   -999.0,9,   -999.0,9,   3.9385, 20030729,      547
  18HU20030713, AR07W,   283,  1, 266287,      3,2,20030729,0547, 60.3657, -48.4532,  850,    952.8,   4.0107,  34.9160,2,  34.9172,2,    277.3,2,    275.5,2,  -999.00,9,  -999.00,9,  -999.00, 9,    4.322,2,    2.074,3,    0.230,4,    4.579,4,    5.866,2,   -999.0,9,   -999.0,9,   3.9382, 20030729,      547
  18HU20030713, AR07W,   283,  1, 266288,      4,2,20030729,0547, 60.3657, -48.4532,  850,    952.8,   4.0145,  34.9158,2,  34.9168,6,    277.2,2,   -999.0,9,  -999.00,9,  -999.00,9,  -999.00, 9, -999.000,9, -999.000,9, -999.000,9, -999.000,9, -999.000,9,   2157.0,2,   2293.8,2,   3.9420, 20030729,      547
  18HU20030713, AR07W,   283,  1, 266289,      5,2,20030729,0547, 60.3657, -48.4532,  850,    952.7,   4.0145,  34.9160,2,  34.9170,2,    277.3,2,    275.0,2,     9.68,6,    16.59,6,     1.04, 6,    4.317,2,    2.127,3,    0.226,4,    4.576,4,    5.847,2,   2157.7,2,   2288.0,2,   3.9420, 20030729,      547
  18HU20030713, AR07W,   283,  1, 266290,      6,2,20030729,0547, 60.3657, -48.4532,  850,    821.5,   4.4806,  34.9317,2,  34.9323,2,    275.9,2,    273.6,2,     9.24,6,    16.29,6,     1.03, 6,    4.497,2,    2.348,3,    0.244,4,    4.717,4,    5.196,2,   2156.7,2,   2301.0,2,   4.4159, 20030729,      552
  18HU20030713, AR07W,   283,  1, 266291,      7,2,20030729,0547, 60.3657, -48.4532,  850,    681.8,   5.2083,  34.9498,2,  34.9504,2,    280.5,2,    278.1,2,     8.05,6,    15.22,6,     0.99, 6,    4.469,2,    2.563,3,    0.326,4,    5.034,4,    3.792,2,   2149.5,2,   2298.1,2,   5.1515, 20030729,      559
  18HU20030713, AR07W,   283,  1, 266292,      8,2,20030729,0547, 60.3657, -48.4532,  850,    520.3,   5.3438,  34.9555,2,  34.9565,2,    280.8,2,    278.7,2,     7.82,6,    15.39,6,     0.97, 6,    4.647,2,    2.538,3,    0.336,4,    5.063,4,    3.797,2,   2149.7,2,   2290.7,2,   5.3005, 20030729,      603
  18HU20030713, AR07W,   283,  1, 266293,      9,2,20030729,0547, 60.3657, -48.4532,  850,    381.4,   5.3892,  34.9506,2,  34.9516,2,    281.8,2,    280.3,2,     7.57,6,    15.01,6,     0.97, 6,    4.843,2,    2.771,3,    0.282,4,    5.104,4,    3.835,2,   2147.5,2,   2302.3,2,   5.3577, 20030729,      606
  18HU20030713, AR07W,   283,  1, 266294,     10,2,20030729,0547, 60.3657, -48.4532,  850,    251.9,   5.7805,  34.9754,2,  34.9764,2,    283.1,2,    281.9,2,     7.07,6,    14.41,6,     0.94, 6,    4.669,2,    2.680,3,    0.278,4,    5.181,4,    3.566,2,   2146.5,2,   2299.7,2,   5.7592, 20030729,      609
  18HU20030713, AR07W,   283,  1, 266295,     11,2,20030729,0547, 60.3657, -48.4532,  850,    150.5,   6.2685,  35.0068,2,-999.0000,9,    283.5,2,    282.7,2,     5.73,6,    13.48,6,     0.89, 6,    4.676,2,    2.734,3,    0.253,4,    5.267,4,    3.231,2,   2138.2,2,   2303.1,2,   6.2553, 20030729,      611
  18HU20030713, AR07W,   283,  1, 266296,     12,2,20030729,0547, 60.3657, -48.4532,  850,    101.9,   6.7465,  35.0431,2,-999.0000,9,    282.1,2,    281.3,2,     5.37,6,    13.23,6,     0.86, 6,    4.892,2,    2.898,3,    0.327,4,    5.353,4,    3.293,2,   2134.0,2,   2297.7,2,   6.7372, 20030729,      613
  18HU20030713, AR07W,   283,  1, 266297,     13,2,20030729,0547, 60.3657, -48.4532,  850,     79.6,   6.9429,  35.0497,2,-999.0000,9,    282.9,2,   -999.0,9,     4.60,6,    12.76,6,     0.83, 6, -999.000,9, -999.000,9, -999.000,9, -999.000,9, -999.000,9,   -999.0,9,   -999.0,9,   6.9355, 20030729,      614
  18HU20030713, AR07W,   283,  1, 266298,     14,2,20030729,0547, 60.3657, -48.4532,  850,     60.5,   6.2349,  34.8639,2,-999.0000,9,    291.9,2,   -999.0,9,     4.27,6,    11.39,6,     0.80, 6, -999.000,9, -999.000,9, -999.000,9, -999.000,9, -999.000,9,   -999.0,9,   -999.0,9,   6.2297, 20030729,      615
  18HU20030713, AR07W,   283,  1, 266299,     15,2,20030729,0547, 60.3657, -48.4532,  850,     50.9,   5.8520,  34.7551,2,-999.0000,9,    296.3,2,    296.3,2,     3.94,6,    10.32,6,     0.76, 6,    5.145,2,    3.050,3,    0.423,4,    6.119,4,    3.287,2,   2122.2,2,   2289.2,2,   5.8478, 20030729,      616
  18HU20030713, AR07W,   283,  1, 266300,     16,2,20030729,0547, 60.3657, -48.4532,  850,     39.5,   6.1293,  34.6799,2,-999.0000,9,    300.7,2,   -999.0,9,     3.15,6,     9.35,6,     0.70, 6, -999.000,9, -999.000,9, -999.000,9, -999.000,9, -999.000,9,   -999.0,9,   -999.0,9,   6.1259, 20030729,      617
  18HU20030713, AR07W,   283,  1, 266301,     17,2,20030729,0547, 60.3657, -48.4532,  850,     31.0,   5.9811,  34.5476,2,-999.0000,9,    306.1,2,   -999.0,9,     2.89,6,     8.47,6,     0.66, 6, -999.000,9, -999.000,9, -999.000,9, -999.000,9, -999.000,9,   -999.0,9,   -999.0,9,   5.9785, 20030729,      618
  18HU20030713, AR07W,   283,  1, 266302,     18,2,20030729,0547, 60.3657, -48.4532,  850,     20.9,   5.6136,  34.3637,2,-999.0000,9,    313.7,2,   -999.0,9,     2.83,6,     7.41,6,     0.60, 6,    5.292,2,    3.635,4,    0.300,4,    6.317,4,    3.650,2,   2092.0,2,   2267.6,2,   5.6119, 20030729,      619
  18HU20030713, AR07W,   283,  1, 266303,     19,2,20030729,0547, 60.3657, -48.4532,  850,     11.8,   5.1405,  33.8754,2,-999.0000,9,    326.0,2,   -999.0,9,     2.79,6,     4.92,6,     0.49, 6, -999.000,9, -999.000,9, -999.000,9, -999.000,9, -999.000,9,   -999.0,9,   -999.0,9,   5.1396, 20030729,      620
  18HU20030713, AR07W,   283,  1, 266304,     20,2,20030729,0547, 60.3657, -48.4532,  850,      4.8,   4.4243,  32.7604,2,-999.0000,9,    342.0,2,   -999.0,9,     1.32,6,     0.81,6,     0.36, 6, -999.000,9, -999.000,9, -999.000,9, -999.000,9, -999.000,9,   -999.0,9,   -999.0,9,   4.4240, 20030729,      621