BOTTLE,20220503SIOCCHCBG
EXPOCODE,SECT_ID,STNNBR,CASTNO,SAMPNO,BTLNBR,BTLNBR_FLAG_W,DATE,TIME,LATITUDE,LONGITUDE,DEPTH,CTDPRS,CTDTMP,CTDSAL,CTDSAL_FLAG_W,SALNTY,SALNTY_FLAG_W,CTDOXY,CTDOXY_FLAG_W,OXYGEN,OXYGEN_FLAG_W,SILCAT,SILCAT_FLAG_W,NO2+NO3,NO2+NO3_FLAG_W,PHSPHT,PHSPHT_FLAG_W,CFC-11,CFC-11_FLAG_W,CFC-12,CFC-12_FLAG_W,CFC113,CFC113_FLAG_W,CCL4,CCL4_FLAG_W,MCHFRM,MCHFRM_FLAG_W,TCARBN,TCARBN_FLAG_W,ALKALI,ALKALI_FLAG_W,THETA,BTL_DATE,BTL_TIME
,,,,,,,,,,,METERS,DBAR,ITS-90,PSS-78,,PSS-78,,UMOL/KG,,UMOL/KG,,UMOL/KG,,UMOL/KG,,UMOL/KG,,PMOL/KG,,PMOL/KG,,PMOL/KG,,PMOL/KG,,PMOL/KG,,UMOL/KG,,UMOL/KG,,DEG C,,
  18HU20030713, AR07W,   152,  1, 265911,      1,2,20030725,1052, 56.1150, -53.1162, 3360,    202.2,   3.4904,  34.7928,2,-999.0000,9,    297.5,2,   -999.0,9,     8.34,6,    15.63,6,     1.05, 6, -999.000,9, -999.000,9, -999.000,9, -999.000,9, -999.000,9,   -999.0,9,   -999.0,9,   3.4771, 20030725,     1052
  18HU20030713, AR07W,   152,  1, 265912,      2,2,20030725,1052, 56.1150, -53.1162, 3360,    150.6,   3.9652,  34.8189,2,-999.0000,9,    293.1,2,   -999.0,9,     7.71,6,    15.22,6,     1.00, 6, -999.000,9, -999.000,9, -999.000,9, -999.000,9, -999.000,9,   -999.0,9,   -999.0,9,   3.9547, 20030725,     1055
  18HU20030713, AR07W,   152,  1, 265913,      3,2,20030725,1052, 56.1150, -53.1162, 3360,    101.0,   4.1422,  34.7807,2,-999.0000,9,    302.8,2,   -999.0,9,     6.27,6,    11.21,6,     0.85, 6, -999.000,9, -999.000,9, -999.000,9, -999.000,9, -999.000,9,   -999.0,9,   -999.0,9,   4.1351, 20030725,     1056
  18HU20030713, AR07W,   152,  1, 265914,      4,2,20030725,1052, 56.1150, -53.1162, 3360,     80.1,   4.4623,  34.7741,2,-999.0000,9,    305.6,2,   -999.0,9,     5.95,6,    10.58,6,     0.86, 6, -999.000,9, -999.000,9, -999.000,9, -999.000,9, -999.000,9,   -999.0,9,   -999.0,9,   4.4565, 20030725,     1057
  18HU20030713, AR07W,   152,  1, 265915,      5,2,20030725,1052, 56.1150, -53.1162, 3360,     60.8,   4.6924,  34.7507,2,-999.0000,9,    306.3,2,   -999.0,9,     4.64,6,     8.61,6,     0.79, 6, -999.000,9, -999.000,9, -999.000,9, -999.000,9, -999.000,9,   -999.0,9,   -999.0,9,   4.6879, 20030725,     1058
  18HU20030713, AR07W,   152,  1, 265916,      6,2,20030725,1052, 56.1150, -53.1162, 3360,     50.3,   4.9838,  34.6961,2,-999.0000,9,    304.4,2,   -999.0,9,     4.02,6,     8.04,6,     0.76, 6, -999.000,9, -999.000,9, -999.000,9, -999.000,9, -999.000,9,   -999.0,9,   -999.0,9,   4.9799, 20030725,     1059
  18HU20030713, AR07W,   152,  1, 265917,      7,2,20030725,1052, 56.1150, -53.1162, 3360,     40.6,   6.2022,  34.6902,2,-999.0000,9,    300.2,2,   -999.0,9,     2.80,6,     6.86,6,     0.67, 6, -999.000,9, -999.000,9, -999.000,9, -999.000,9, -999.000,9,   -999.0,9,   -999.0,9,   6.1987, 20030725,     1100
  18HU20030713, AR07W,   152,  1, 265918,      8,2,20030725,1052, 56.1150, -53.1162, 3360,     29.7,   7.1844,  34.6830,2,-999.0000,9,    298.7,2,   -999.0,9,     0.99,6,     5.47,6,     0.53, 6, -999.000,9, -999.000,9, -999.000,9, -999.000,9, -999.000,9,   -999.0,9,   -999.0,9,   7.1816, 20030725,     1101
  18HU20030713, AR07W,   152,  1, 265919,      9,2,20030725,1052, 56.1150, -53.1162, 3360,     20.3,   7.4686,  34.5020,2,-999.0000,9,    310.7,2,   -999.0,9,     0.91,6,     3.00,6,     0.40, 6, -999.000,9, -999.000,9, -999.000,9, -999.000,9, -999.000,9,   -999.0,9,   -999.0,9,   7.4667, 20030725,     1103
  18HU20030713, AR07W,   152,  1, 265920,     10,2,20030725,1052, 56.1150, -53.1162, 3360,     10.0,   9.5442,  34.2893,2,-999.0000,9,    316.0,2,   -999.0,9,  -999.00,9,  -999.00,9,  -999.00, 9, -999.000,9, -999.000,9, -999.000,9, -999.000,9, -999.000,9,   -999.0,9,   -999.0,9,   9.5431, 20030725,     1104
  18HU20030713, AR07W,   152,  1, 265921,     11,2,20030725,1052, 56.1150, -53.1162, 3360,      9.8,   9.5420,  34.2900,2,-999.0000,9,    315.1,2,   -999.0,9,  -999.00,9,  -999.00,9,  -999.00, 9, -999.000,9, -999.000,9, -999.000,9, -999.000,9, -999.000,9,   -999.0,9,   -999.0,9,   9.5409, 20030725,     1104
  18HU20030713, AR07W,   152,  1, 265922,     12,2,20030725,1052, 56.1150, -53.1162, 3360,      9.9,   9.5739,  34.2879,2,-999.0000,9,    314.0,2,   -999.0,9,  -999.00,9,  -999.00,9,  -999.00, 9, -999.000,9, -999.000,9, -999.000,9, -999.000,9, -999.000,9,   -999.0,9,   -999.0,9,   9.5728, 20030725,     1104
  18HU20030713, AR07W,   152,  1, 265923,     13,2,20030725,1052, 56.1150, -53.1162, 3360,      4.0,   9.5737,  34.2938,2,-999.0000,9,    313.9,2,   -999.0,9,     0.34,6,     0.39,6,     0.21, 6, -999.000,9, -999.000,9, -999.000,9, -999.000,9, -999.000,9,   -999.0,9,   -999.0,9,   9.5733, 20030725,     1106
  18HU20030713, AR07W,   152,  1, 265924,     14,2,20030725,1052, 56.1150, -53.1162, 3360,      3.8,   9.5768,  34.2939,2,-999.0000,9,    314.0,2,   -999.0,9,  -999.00,9,  -999.00,9,  -999.00, 9, -999.000,9, -999.000,9, -999.000,9, -999.000,9, -999.000,9,   -999.0,9,   -999.0,9,   9.5764, 20030725,     1106
  18HU20030713, AR07W,   152,  1, 265925,     15,2,20030725,1052, 56.1150, -53.1162, 3360,      3.9,   9.5716,  34.2945,2,-999.0000,9,    313.8,2,   -999.0,9,  -999.00,9,  -999.00,9,  -999.00, 9, -999.000,9, -999.000,9, -999.000,9, -999.000,9, -999.000,9,   -999.0,9,   -999.0,9,   9.5712, 20030725,     1106
  18HU20030713, AR07W,   152,  1, 265926,     16,2,20030725,1052, 56.1150, -53.1162, 3360,      3.7,   9.5705,  34.2945,2,-999.0000,9,    314.0,2,   -999.0,9,  -999.00,9,  -999.00,9,  -999.00, 9, -999.000,9, -999.000,9, -999.000,9, -999.000,9, -999.000,9,   -999.0,9,   -999.0,9,   9.5701, 20030725,     1106
  18HU20030713, AR07W,   152,  1, 265927,     17,2,20030725,1052, 56.1150, -53.1162, 3360,      4.0,   9.5771,  34.2936,2,-999.0000,9,    313.6,2,   -999.0,9,  -999.00,9,  -999.00,9,  -999.00, 9, -999.000,9, -999.000,9, -999.000,9, -999.000,9, -999.000,9,   -999.0,9,   -999.0,9,   9.5767, 20030725,     1106
  18HU20030713, AR07W,   153,  1, 265928,      1,2,20030725,1242, 56.1087, -53.1093, 3252,   3370.9,   1.6157,  34.8753,2,  34.9254,3,    291.4,2,   -999.0,9,  -999.00,9,  -999.00,9,  -999.00, 9, -999.000,9, -999.000,9, -999.000,9, -999.000,9, -999.000,9,   -999.0,9,   -999.0,9,   1.3587, 20030725,     1242
  18HU20030713, AR07W,   153,  1, 265929,      2,2,20030725,1242, 56.1087, -53.1093, 3252,   3301.0,   1.7084,  34.8768,2,  34.8757,2,    291.2,2,    293.3,2,    10.13,6,    13.88,6,     0.94, 6,    3.752,2,    2.189,2,    0.134,4,    3.383,4,    4.125,2,   2156.7,2,   2301.4,2,   1.4562, 20030725,     1244
  18HU20030713, AR07W,   153,  1, 265930,      3,2,20030725,1242, 56.1087, -53.1093, 3252,   3220.9,   1.9335,  34.8801,2,  34.8794,2,    289.3,2,    290.1,2,    10.52,6,    14.72,6,     0.94, 6,    3.248,2,    1.847,2,    0.080,4,    2.856,4,    3.522,2,   2156.4,2,   2300.9,2,   1.6841, 20030725,     1246
  18HU20030713, AR07W,   153,  1, 265931,      4,2,20030725,1242, 56.1087, -53.1093, 3252,   3120.7,   2.2025,  34.8877,2,  34.8863,2,    284.8,2,    285.4,2,    10.60,6,    13.50,6,     0.91, 6,    3.389,2,    1.948,2,    0.175,4,    3.307,4,    4.229,2,   2153.5,2,   2302.6,2,   1.9571, 20030725,     1248
  18HU20030713, AR07W,   153,  1, 265932,      5,2,20030725,1242, 56.1087, -53.1093, 3252,   3000.6,   2.4652,  34.8973,2,  34.8959,2,    281.2,2,   -999.0,9,    10.15,6,    12.99,6,     0.88, 6,    2.766,2,    1.586,2,    0.141,4,    2.576,4,    3.454,2,   2153.5,2,   2301.3,2,   2.2261, 20030725,     1251
  18HU20030713, AR07W,   153,  1, 265933,      6,2,20030725,1242, 56.1087, -53.1093, 3252,   2862.4,   2.6382,  34.9005,2,  34.8995,6,    279.7,2,    282.6,2,     8.44,4,    11.21,3,     0.82, 6,    2.597,2,    1.502,2,    0.034,4,    2.335,4,    3.217,2,   2153.3,2,   2304.2,2,   2.4094, 20030725,     1255
  18HU20030713, AR07W,   153,  1, 265934,      7,2,20030725,1242, 56.1087, -53.1093, 3252,   2700.7,   2.8070,  34.8997,2,  34.8985,2,    279.1,2,    280.5,2,     9.87,6,    13.45,6,     0.90, 6,    3.045,2,    1.735,2,    0.325,4,    2.882,4,    4.121,2,   2153.7,2,   2304.4,2,   2.5910, 20030725,     1258
  18HU20030713, AR07W,   153,  1, 265935,      8,2,20030725,1242, 56.1087, -53.1093, 3252,   2522.5,   2.9605,  34.8965,2,  34.8959,2,    279.4,2,    279.9,2,    10.76,6,    15.92,6,     1.02, 6,    3.017,2,    1.719,2,    0.047,4,    2.732,4,    4.036,2,   2153.4,2,   2306.4,2,   2.7592, 20030725,     1302
  18HU20030713, AR07W,   153,  1, 265936,      9,2,20030725,1242, 56.1087, -53.1093, 3252,   2320.5,   3.0918,  34.8891,2,  34.8884,2,    280.4,2,    281.6,2,    10.69,6,    16.22,6,     1.05, 6,    2.951,2,    1.704,2,    0.064,4,    2.570,4,    3.924,2,   2152.5,2,   2303.8,2,   2.9079, 20030725,     1307
  18HU20030713, AR07W,   153,  1, 265937,     10,2,20030725,1242, 56.1087, -53.1093, 3252,   2101.2,   3.1532,  34.8769,2,  34.8759,2,    282.3,2,    283.5,2,    10.66,6,    16.71,6,     1.07, 6,    3.635,2,    2.056,2,    0.158,4,    3.372,4,    5.610,2,   2153.0,2,   2299.8,2,   2.9891, 20030725,     1311
  18HU20030713, AR07W,   153,  1, 265938,     11,2,20030725,1242, 56.1087, -53.1093, 3252,   1882.3,   3.2851,  34.8814,2,  34.8804,2,    279.5,2,    280.6,2,    10.70,6,    16.99,6,     1.09, 6,    3.245,2,    1.898,2,    0.071,4,    2.819,4,    4.526,2,   2157.8,2,   2305.0,2,   3.1393, 20030725,     1316
  18HU20030713, AR07W,   153,  1, 265939,     12,2,20030725,1242, 56.1087, -53.1093, 3252,   1640.5,   3.4392,  34.8845,2,  34.8831,2,    277.5,2,    277.8,2,    10.36,6,    17.10,6,     1.07, 6,    3.317,2,    1.969,2,    0.090,4,    2.813,4,    4.102,2,   2156.4,2,   2296.7,2,   3.3132, 20030725,     1321
  18HU20030713, AR07W,   153,  1, 265940,     13,2,20030725,1242, 56.1087, -53.1093, 3252,   1400.1,   3.2946,  34.8441,2,  34.8428,2,    291.7,2,    293.7,6,     8.90,6,    16.06,6,     1.03, 6,    4.794,2,    2.843,2,    0.341,4,    4.505,4,    4.120,2,   2153.7,2,   2297.5,2,   3.1912, 20030725,     1325
  18HU20030713, AR07W,   153,  1, 265941,     14,2,20030725,1242, 56.1087, -53.1093, 3252,   1179.6,   3.2665,  34.8382,2,  34.8371,2,    295.9,2,    297.4,2,     8.33,6,    15.46,6,     1.00, 6,    4.194,2,    2.567,2,    0.190,4,    3.723,4,    2.851,2,   2151.5,2,   2299.7,2,   3.1816, 20030725,     1330
  18HU20030713, AR07W,   153,  1, 265942,     15,2,20030725,1242, 56.1087, -53.1093, 3252,    959.8,   3.2600,  34.8367,2,  34.8359,2,    296.1,2,    297.6,2,     8.50,6,    16.09,6,     1.02, 6,    4.312,2,    2.702,4,    0.127,4,    3.876,4,    2.891,2,   2150.6,2,   2299.1,2,   3.1926, 20030725,     1335
  18HU20030713, AR07W,   153,  1, 265943,     16,2,20030725,1242, 56.1087, -53.1093, 3252,    759.5,   3.2516,  34.8329,2,  34.8320,2,    295.2,2,    296.3,2,  -999.00,9,  -999.00,9,  -999.00, 9,    4.881,2,    2.968,2,    0.303,4,    4.631,4,    3.627,2,   2151.4,2,   2300.9,2,   3.1995, 20030725,     1339
  18HU20030713, AR07W,   153,  1, 265944,     17,2,20030725,1242, 56.1087, -53.1093, 3252,    580.6,   3.3294,  34.8350,2,  34.8344,2,    293.9,2,    295.1,2,     8.59,6,    16.25,6,     1.03, 6,    4.277,2,    2.591,2,    0.164,4,    3.743,4,    2.901,2,   2151.6,2,   2294.2,2,   3.2900, 20030725,     1342
  18HU20030713, AR07W,   153,  1, 265945,     18,2,20030725,1242, 56.1087, -53.1093, 3252,    431.0,   3.3809,  34.8300,2,-999.0000,9,    295.1,2,    296.1,2,     8.40,6,    15.94,6,     1.02, 6,    4.386,2,    2.688,2,    0.154,4,    3.941,4,    2.726,2,   2150.7,2,   2300.2,2,   3.3520, 20030725,     1346
  18HU20030713, AR07W,   153,  1, 265946,     19,2,20030725,1242, 56.1087, -53.1093, 3252,    310.8,   3.4283,  34.8154,2,-999.0000,9,    294.2,2,    295.5,2,     8.31,6,    16.01,6,     1.03, 6,    4.931,2,    3.065,2,    0.534,4,    4.852,4,    3.264,2,   2149.9,2,   2301.5,2,   3.4077, 20030725,     1349
  18HU20030713, AR07W,   153,  1, 265947,     20,2,20030725,1242, 56.1087, -53.1093, 3252,    200.6,   3.8090,  34.8219,2,-999.0000,9,    290.6,2,    291.2,2,     7.99,6,    15.73,6,     1.01, 6,    4.208,2,    2.605,2,    0.179,4,    3.650,4,    2.400,2,   2150.1,2,   2293.3,2,   3.7952, 20030725,     1351
  18HU20030713, AR07W,   153,  1, 265948,     21,2,20030725,1242, 56.1087, -53.1093, 3252,    120.6,   4.2397,  34.8049,2,-999.0000,9,    296.3,2,    297.1,2,     6.60,6,    13.06,6,     0.93, 6,    4.342,2,    2.765,4,    0.147,4,    3.851,4,    2.258,2,   2142.1,2,   2298.1,2,   4.2311, 20030725,     1353
  18HU20030713, AR07W,   153,  1, 265949,     22,2,20030725,1242, 56.1087, -53.1093, 3252,     60.8,   4.9167,  34.7845,2,-999.0000,9,    297.3,2,    298.3,2,     4.58,6,     9.74,6,     0.82, 6,    4.874,2,    3.004,2,    0.498,4,    4.549,4,    2.328,2,   2129.4,2,   2299.4,2,   4.9121, 20030725,     1355
  18HU20030713, AR07W,   153,  1, 265950,     23,2,20030725,1242, 56.1087, -53.1093, 3252,     30.5,   7.1691,  34.6913,2,-999.0000,9,    296.9,2,    299.3,2,     0.93,6,     4.86,6,     0.53, 6,    4.052,2,    2.558,4,    0.192,4,    3.683,4,    1.797,2,   2088.9,2,   2302.5,2,   7.1663, 20030725,     1357
  18HU20030713, AR07W,   153,  1, 265951,     24,2,20030725,1242, 56.1087, -53.1093, 3252,      3.7,   9.6267,  34.2986,2,-999.0000,9,    313.3,2,    314.9,2,     0.29,6,     0.39,6,     0.22, 6,    3.860,2,    2.458,4,    0.270,4,    3.464,4,    1.591,2,   2032.9,2,   2283.0,2,   9.6263, 20030725,     1358