BOTTLE,20220503SIOCCHCBG
EXPOCODE,SECT_ID,STNNBR,CASTNO,SAMPNO,BTLNBR,BTLNBR_FLAG_W,DATE,TIME,LATITUDE,LONGITUDE,DEPTH,CTDPRS,CTDTMP,CTDSAL,CTDSAL_FLAG_W,SALNTY,SALNTY_FLAG_W,CTDOXY,CTDOXY_FLAG_W,OXYGEN,OXYGEN_FLAG_W,SILCAT,SILCAT_FLAG_W,NO2+NO3,NO2+NO3_FLAG_W,PHSPHT,PHSPHT_FLAG_W,CFC-11,CFC-11_FLAG_W,CFC-12,CFC-12_FLAG_W,CFC113,CFC113_FLAG_W,CCL4,CCL4_FLAG_W,MCHFRM,MCHFRM_FLAG_W,TCARBN,TCARBN_FLAG_W,ALKALI,ALKALI_FLAG_W,THETA,BTL_DATE,BTL_TIME
,,,,,,,,,,,METERS,DBAR,ITS-90,PSS-78,,PSS-78,,UMOL/KG,,UMOL/KG,,UMOL/KG,,UMOL/KG,,UMOL/KG,,PMOL/KG,,PMOL/KG,,PMOL/KG,,PMOL/KG,,PMOL/KG,,UMOL/KG,,UMOL/KG,,DEG C,,
  18HU20030713, AR07W,   138,  1, 265863,      1,2,20030725,0137, 55.6147, -53.6232, 2905,   2946.1,   1.7084,  34.8767,2,  34.8766,2,    291.2,2,    291.2,2,    10.85,6,    14.28,6,     1.01, 6,    3.951,2,    2.235,2,    0.114,4,    3.456,4,    4.384,2,   2160.5,2,   2290.4,2,   1.4912, 20030725,      137
  18HU20030713, AR07W,   138,  1, 265864,      2,2,20030725,0137, 55.6147, -53.6232, 2905,   2890.5,   1.7029,  34.8768,2,  34.8760,2,    291.1,2,    291.0,2,    10.94,6,    14.50,6,     0.92, 6,    3.924,2,    2.202,2,    0.167,4,    3.463,4,    4.387,2,   2160.1,2,   2296.3,2,   1.4911, 20030725,      138
  18HU20030713, AR07W,   138,  1, 265865,      3,2,20030725,0137, 55.6147, -53.6232, 2905,   2810.9,   1.8309,  34.8794,2,  34.8792,2,    289.8,2,    289.7,2,    10.84,6,    14.50,6,     0.93, 6,    3.766,2,    2.137,2,    0.264,4,    3.353,4,    4.264,2,   2160.3,2,   2294.5,2,   1.6240, 20030725,      140
  18HU20030713, AR07W,   138,  1, 265866,      4,2,20030725,0137, 55.6147, -53.6232, 2905,   2691.5,   2.1627,  34.8884,2,  34.8882,2,    285.3,2,    285.0,2,    11.87,6,    14.99,6,     0.96, 6,    3.322,2,    1.848,2,    0.103,4,    3.051,4,    4.078,2,   2159.8,2,   2291.9,2,   1.9604, 20030725,      143
  18HU20030713, AR07W,   138,  1, 265867,      5,2,20030725,0137, 55.6147, -53.6232, 2905,   2561.8,   2.4427,  34.8977,2,  34.8976,6,    281.5,2,    281.2,2,    12.22,6,    15.61,6,     0.98, 6,    3.032,2,    1.703,2,    0.141,4,    2.816,4,    3.909,2,   2156.9,2,   2293.5,2,   2.2473, 20030725,      146
  18HU20030713, AR07W,   138,  1, 265868,      6,2,20030725,0137, 55.6147, -53.6232, 2905,   2431.0,   2.6379,  34.9017,2,  34.8813,3,    279.8,2,    279.8,2,    11.95,6,    15.76,6,     1.00, 6,    2.960,2,    1.631,2,    0.195,4,    2.694,4,    3.868,2,   2160.8,2,   2292.0,2,   2.4513, 20030725,      148
  18HU20030713, AR07W,   138,  1, 265869,      7,2,20030725,0137, 55.6147, -53.6232, 2905,   2290.7,   2.7528,  34.9011,2,  34.9012,2,    279.6,2,    279.5,2,    11.67,6,    15.91,6,     1.01, 6,    3.032,2,    1.689,2,    0.076,4,    2.820,4,    4.150,2,   2160.3,2,   2295.3,2,   2.5774, 20030725,      151
  18HU20030713, AR07W,   138,  1, 265870,      8,2,20030725,0137, 55.6147, -53.6232, 2905,   2148.1,   2.9067,  34.8981,2,  34.8983,2,    279.6,2,    279.4,2,    11.24,6,    16.15,6,     1.02, 6,    3.157,2,    1.739,2,    0.137,4,    2.852,4,    4.262,2,   2160.1,2,   2296.4,2,   2.7421, 20030725,      154
  18HU20030713, AR07W,   138,  1, 265871,      9,2,20030725,0137, 55.6147, -53.6232, 2905,   1990.1,   3.0134,  34.8924,2,  34.8928,2,    280.3,2,    280.4,2,    10.94,6,    16.18,6,     1.10, 3,    3.367,2,    1.864,2,    0.204,4,    2.983,4,    4.553,2,   2160.9,2,   2297.2,2,   2.8617, 20030725,      157
  18HU20030713, AR07W,   138,  1, 265872,     10,2,20030725,0137, 55.6147, -53.6232, 2905,   1751.0,   3.2232,  34.8859,2,  34.8861,2,    280.5,2,    280.6,2,    10.33,6,    16.28,6,     1.04, 6,    3.728,2,    2.074,2,    0.157,4,    3.279,4,    5.114,2,   2159.0,2,   -999.0,9,   3.0901, 20030725,      201
  18HU20030713, AR07W,   138,  1, 265873,     11,2,20030725,0137, 55.6147, -53.6232, 2905,   1630.3,   3.3185,  34.8884,2,  34.8884,2,    279.0,2,    279.7,6,    10.48,6,    16.76,6,     1.05, 6,    3.736,2,    2.068,2,    0.182,4,    3.225,4,    4.970,2,   2162.2,2,   -999.0,9,   3.1949, 20030725,      203
  18HU20030713, AR07W,   138,  1, 265874,     12,2,20030725,0137, 55.6147, -53.6232, 2905,   1499.8,   3.4035,  34.8903,2,  34.8904,2,    278.1,2,    278.1,2,    10.39,6,    16.59,6,     1.04, 6,    3.844,2,    2.129,2,    0.195,4,    3.315,4,    4.921,2,   2158.8,2,   2294.3,2,   3.2903, 20030725,      205
  18HU20030713, AR07W,   138,  1, 265875,     13,2,20030725,0137, 55.6147, -53.6232, 2905,   1201.1,   3.3186,  34.8471,2,  34.8460,2,    292.1,2,    292.6,2,     8.86,6,    15.75,6,     1.02, 6,    4.770,2,    2.768,2,    0.318,4,    4.302,4,    3.912,2,   2156.8,2,   2288.6,2,   3.2315, 20030725,      210
  18HU20030713, AR07W,   138,  1, 265876,     14,2,20030725,0137, 55.6147, -53.6232, 2905,   1029.5,   3.3440,  34.8468,2,  34.8469,2,    292.4,2,    293.0,2,     8.81,6,    16.08,6,     1.01, 6,    4.692,2,    2.732,2,    0.263,4,    4.280,4,    3.668,2,   2154.7,2,   2290.0,2,   3.2705, 20030725,      213
  18HU20030713, AR07W,   138,  1, 265877,     15,2,20030725,0137, 55.6147, -53.6232, 2905,    800.7,   3.4989,  34.8547,2,  34.8542,2,    289.5,2,    290.0,2,     9.13,6,    15.83,6,     1.00, 6,    4.479,2,    2.670,2,    0.202,4,    4.053,4,    3.387,2,   2156.2,2,   2289.9,2,   3.4422, 20030725,      217
  18HU20030713, AR07W,   138,  1, 265878,     16,2,20030725,0137, 55.6147, -53.6232, 2905,    625.1,   3.5193,  34.8437,2,  34.8436,2,    291.5,2,    291.9,2,     8.42,6,    15.63,6,     0.99, 6,    4.799,2,    2.848,2,    0.360,4,    4.345,4,    3.371,2,   2154.7,2,   2198.4,4,   3.4758, 20030725,      220
  18HU20030713, AR07W,   138,  1, 265879,     17,2,20030725,0137, 55.6147, -53.6232, 2905,    509.6,   3.5123,  34.8363,2,  34.8357,2,    291.9,2,    291.9,2,     6.38,4,    11.83,3,     0.90, 3,    4.671,2,    2.788,2,    0.221,4,    4.206,4,    3.103,2,   2156.3,2,   2287.0,3,   3.4773, 20030725,      223
  18HU20030713, AR07W,   138,  1, 265880,     18,2,20030725,0137, 55.6147, -53.6232, 2905,    371.6,   3.5650,  34.8324,2,  34.8320,2,    290.2,2,    290.7,2,     7.95,6,    14.82,6,     0.95, 6,    4.398,2,    2.683,2,    0.153,4,    3.930,4,    2.855,2,   2156.4,2,   2289.0,2,   3.5397, 20030725,      225
  18HU20030713, AR07W,   138,  1, 265881,     19,2,20030725,0137, 55.6147, -53.6232, 2905,    249.6,   3.6876,  34.8292,2,  34.8279,2,    287.7,2,    288.1,2,     6.90,6,    12.71,6,     0.88, 3,    4.774,2,    2.836,2,    0.349,4,    4.291,4,    3.208,2,   2152.8,2,   2289.3,2,   3.6706, 20030725,      228
  18HU20030713, AR07W,   138,  1, 265882,     20,2,20030725,0137, 55.6147, -53.6232, 2905,    150.0,   3.8971,  34.8130,2,-999.0000,9,    288.2,2,    288.4,2,     7.42,6,    14.56,6,     0.94, 6,    4.573,2,    2.773,2,    0.226,4,    4.044,4,    2.690,2,   2153.1,2,   2289.3,2,   3.8868, 20030725,      230
  18HU20030713, AR07W,   138,  1, 265883,     21,2,20030725,0137, 55.6147, -53.6232, 2905,    100.3,   4.0166,  34.7766,2,-999.0000,9,    290.6,2,    290.7,2,     6.12,6,    12.91,6,     0.86, 6,    4.598,2,    2.823,2,    0.154,4,    4.051,4,    2.489,2,   2147.4,2,   2286.5,2,   4.0096, 20030725,      231
  18HU20030713, AR07W,   138,  1, 265884,     22,2,20030725,0137, 55.6147, -53.6232, 2905,     50.1,   4.5811,  34.6573,2,-999.0000,9,    306.0,2,    305.3,2,     3.96,6,     8.23,6,     0.70, 6,    5.139,2,    3.096,2,    0.390,4,    4.857,4,    2.629,2,   2120.9,2,   2283.8,2,   4.5774, 20030725,      233
  18HU20030713, AR07W,   138,  1, 265885,     23,2,20030725,0137, 55.6147, -53.6232, 2905,     20.7,   6.1641,  34.3260,2,-999.0000,9,    317.2,2,    317.2,2,     1.68,6,     3.54,6,     0.40, 6,    4.757,2,    2.897,2,    0.167,4,    4.404,4,    2.135,2,   2073.3,2,   2275.1,2,   6.1623, 20030725,      234
  18HU20030713, AR07W,   138,  1, 265886,     24,2,20030725,0137, 55.6147, -53.6232, 2905,      3.9,   8.7787,  34.0113,2,-999.0000,9,    311.1,2,    313.2,2,    10.57,4,    14.13,3,     0.98, 3,    4.423,2,    2.755,2,    0.321,4,    4.258,4,    1.832,2,   2040.9,2,   2262.0,2,   8.7783, 20030725,      235
  18HU20030713, AR07W,   145,  1, 265887,      1,2,20030725,0711, 55.8443, -53.3973, 3160,   3163.1,   1.6255,  34.8755,2,  34.8755,2,    292.0,2,    294.6,2,    10.91,6,    14.16,6,     0.95, 6,    3.970,2,    3.240,4,    0.445,4,    4.370,4,    6.797,2,   2163.4,2,   2304.1,2,   1.3890, 20030725,      711
  18HU20030713, AR07W,   145,  1, 265888,      2,2,20030725,0711, 55.8443, -53.3973, 3160,   3101.2,   1.6565,  34.8756,2,  34.8745,2,    291.6,2,    291.6,2,    10.73,6,    14.15,6,     0.96, 6,    3.903,2,    2.871,4,    0.364,4,    4.450,4,    6.831,2,   2158.0,2,   2298.0,2,   1.4254, 20030725,      713
  18HU20030713, AR07W,   145,  1, 265889,      3,2,20030725,0711, 55.8443, -53.3973, 3160,   3020.3,   1.8357,  34.8784,2,  34.8782,2,    290.0,2,    290.5,2,     9.02,3,    12.36,6,     0.87, 6,    3.786,2,    3.021,4,    0.344,4,    4.323,4,    6.752,2,   2157.2,2,   2292.9,2,   1.6085, 20030725,      715
  18HU20030713, AR07W,   145,  1, 265890,      4,2,20030725,0711, 55.8443, -53.3973, 3160,   2920.4,   2.1939,  34.8886,2,  34.8888,2,    284.8,2,    284.6,2,    10.67,6,    13.71,6,     0.93, 6,    3.317,2,    2.510,4,    0.263,4,    3.796,4,    6.297,2,   2157.3,2,   2300.3,2,   1.9687, 20030725,      718
  18HU20030713, AR07W,   145,  1, 265891,      5,2,20030725,0711, 55.8443, -53.3973, 3160,   2808.6,   2.4262,  34.8969,2,  34.8965,2,    281.6,2,    281.5,2,    12.17,6,    15.31,6,     1.02, 6,    2.884,2,    2.078,4,    0.205,4,    3.467,4,    5.807,2,   2155.0,2,   2297.9,2,   2.2072, 20030725,      721
  18HU20030713, AR07W,   145,  1, 265892,      6,2,20030725,0711, 55.8443, -53.3973, 3160,   2690.1,   2.5910,  34.9009,2,  34.9008,6,    280.2,2,    280.2,2,    11.94,6,    15.50,6,     1.03, 6,    2.957,2,    2.566,4,    0.291,4,    3.427,4,    5.953,2,   2154.6,2,   2295.4,2,   2.3803, 20030725,      724
  18HU20030713, AR07W,   145,  1, 265893,      7,2,20030725,0711, 55.8443, -53.3973, 3160,   2559.1,   2.7244,  34.9012,2,  34.9009,6,    279.7,2,    279.6,2,    11.69,6,    15.74,6,     1.03, 6,    2.964,2,    2.275,4,    0.114,4,    3.464,4,    6.223,2,   2156.6,2,   2296.0,2,   2.5239, 20030725,      727
  18HU20030713, AR07W,   145,  1, 265894,      8,2,20030725,0711, 55.8443, -53.3973, 3160,   2408.7,   2.8707,  34.8997,2,-999.0000,9,    279.2,2,    279.3,2,    11.35,6,    15.78,6,     1.04, 6,    2.947,2,    1.210,3,    0.103,4,    3.534,4,    6.451,2,   2153.3,2,   2294.7,2,   2.6821, 20030725,      730
  18HU20030713, AR07W,   145,  1, 265895,      9,2,20030725,0711, 55.8443, -53.3973, 3160,   2229.6,   3.0125,  34.8956,2,-999.0000,9,    279.5,2,   -999.0,9,    10.94,6,    15.81,6,     1.05, 6,    3.187,2,    2.730,4,    0.333,4,    3.681,4,    7.003,2,   2155.3,2,   2293.9,2,   2.8385, 20030725,      733
  18HU20030713, AR07W,   145,  1, 265896,     10,2,20030725,0711, 55.8443, -53.3973, 3160,   1953.2,   3.1172,  34.8813,2,  34.8806,2,    282.2,2,    282.7,2,    10.55,6,    16.54,6,     1.06, 6,    3.582,2,    2.544,4,    0.157,4,    4.030,4,    8.344,2,   2159.7,2,   2299.7,2,   2.9673, 20030725,      740
  18HU20030713, AR07W,   145,  1, 265897,     11,2,20030725,0711, 55.8443, -53.3973, 3160,   1810.5,   3.1982,  34.8799,2,  34.8782,2,    281.2,2,    281.9,6,    10.62,6,    16.67,6,     1.08, 6,    3.524,2,    2.240,4,    0.195,4,    4.126,4,    8.515,2,   2155.7,2,   2292.2,2,   3.0601, 20030725,      743
  18HU20030713, AR07W,   145,  1, 265898,     12,2,20030725,0711, 55.8443, -53.3973, 3160,   1540.3,   3.4145,  34.8876,2,  34.8865,2,    278.0,2,    278.2,2,    10.35,6,    16.47,6,     1.06, 6,    3.703,2,    3.138,4,    0.130,4,    4.228,4,    7.565,2,   2157.3,2,   2298.2,2,   3.2976, 20030725,      748
  18HU20030713, AR07W,   145,  1, 265899,     13,2,20030725,0711, 55.8443, -53.3973, 3160,   1213.9,   3.2419,  34.8375,2,  34.8355,2,    295.0,2,    296.2,2,     8.81,6,    16.01,6,     1.03, 6,    4.844,2,    3.775,4,    0.282,4,    5.508,4,    5.888,2,   2153.7,2,   2295.6,2,   3.1545, 20030725,      754
  18HU20030713, AR07W,   145,  1, 265900,     14,2,20030725,0711, 55.8443, -53.3973, 3160,   1089.2,   3.2435,  34.8376,2,  34.8363,2,    294.6,2,    295.4,2,     8.88,6,    15.84,6,     1.03, 6,    4.827,2,    3.767,4,    0.178,4,    5.423,4,    5.676,2,   2153.6,2,   2287.9,2,   3.1661, 20030725,      757
  18HU20030713, AR07W,   145,  1, 265901,     15,2,20030725,0711, 55.8443, -53.3973, 3160,    892.3,   3.2184,  34.8322,2,  34.8304,2,    296.1,2,   -999.0,9,     8.67,6,    15.63,6,     1.03, 6,    4.762,2,    1.915,3,    0.367,4,    5.992,4,    5.489,2,   2153.5,2,   2284.8,2,   3.1565, 20030725,      801
  18HU20030713, AR07W,   145,  1, 265902,     16,2,20030725,0711, 55.8443, -53.3973, 3160,    711.7,   3.2157,  34.8304,2,  34.8294,2,    296.2,2,   -999.0,9,     7.96,6,    14.50,3,     0.97, 6,    4.955,2,    3.918,4,    0.261,4,    5.640,4,    5.599,2,   2154.6,2,   2285.4,2,   3.1674, 20030725,      805
  18HU20030713, AR07W,   145,  1, 265903,     17,2,20030725,0711, 55.8443, -53.3973, 3160,    549.9,   3.3003,  34.8385,2,  34.8375,2,    294.0,2,    294.5,2,     8.70,6,    15.85,6,     1.05, 6,    4.884,2,    3.893,4,    0.235,4,    5.505,4,    5.360,2,   2151.4,2,   2295.0,2,   3.2633, 20030725,      808
  18HU20030713, AR07W,   145,  1, 265904,     18,2,20030725,0711, 55.8443, -53.3973, 3160,    400.3,   3.4059,  34.8430,2,  34.8426,2,    292.9,2,    293.7,2,     8.63,6,    15.71,6,     1.03, 6,    4.676,2,    3.563,4,    0.164,4,    5.665,4,    5.242,2,   2152.4,2,   2297.0,2,   3.3791, 20030725,      811
  18HU20030713, AR07W,   145,  1, 265905,     19,2,20030725,0711, 55.8443, -53.3973, 3160,    292.8,   3.4891,  34.8431,2,  34.8414,2,    292.7,2,    293.2,2,     8.32,6,    15.24,6,     1.00, 6,    4.867,2,    3.780,4,    0.283,4,    5.570,4,    5.048,2,   2153.5,2,   2284.4,2,   3.4695, 20030725,      814
  18HU20030713, AR07W,   145,  1, 265906,     20,2,20030725,0711, 55.8443, -53.3973, 3160,    191.3,   3.5105,  34.8285,2,-999.0000,9,    292.3,2,    293.2,2,     8.47,6,    15.83,6,     1.03, 6,    4.925,2,    4.141,4,    0.490,4,    5.659,4,    4.670,2,   2154.1,2,   2294.6,2,   3.4978, 20030725,      816
  18HU20030713, AR07W,   145,  1, 265907,     21,2,20030725,0711, 55.8443, -53.3973, 3160,    110.1,   3.7755,  34.8178,2,-999.0000,9,    292.6,2,    292.9,2,     7.99,6,    15.33,6,     0.99, 6,    4.936,2,    4.019,4,    0.265,4,    5.416,4,    4.301,2,   2149.6,2,   2295.4,2,   3.7681, 20030725,      818
  18HU20030713, AR07W,   145,  1, 265908,     22,2,20030725,0711, 55.8443, -53.3973, 3160,     49.5,   4.4529,  34.7747,2,-999.0000,9,    304.2,2,    305.1,2,     5.34,6,     9.62,6,     0.84, 6,    5.221,2,    4.554,4,    0.387,4,    6.146,4,    3.952,2,   2131.8,2,   2296.2,2,   4.4493, 20030725,      820
  18HU20030713, AR07W,   145,  1, 265909,     23,2,20030725,0711, 55.8443, -53.3973, 3160,     18.5,   7.3936,  34.3696,2,-999.0000,9,    311.8,2,    312.2,2,     0.61,6,     2.22,6,     0.34, 6,    4.807,2,    4.056,4,    0.602,4,    5.784,4,    2.951,2,   2057.4,2,   2279.2,2,   7.3919, 20030725,      822
  18HU20030713, AR07W,   145,  1, 265910,     24,2,20030725,0711, 55.8443, -53.3973, 3160,      3.3,   9.5536,  33.9265,2,-999.0000,9,    302.1,2,    303.1,2,     0.69,6,     0.56,6,     0.24, 6,    4.558,2,    4.376,4,    0.290,4,    5.287,4,    2.639,2,   2031.3,2,   2254.8,2,   9.5532, 20030725,      823