BOTTLE,20220503SIOCCHCBG
EXPOCODE,SECT_ID,STNNBR,CASTNO,SAMPNO,BTLNBR,BTLNBR_FLAG_W,DATE,TIME,LATITUDE,LONGITUDE,DEPTH,CTDPRS,CTDTMP,CTDSAL,CTDSAL_FLAG_W,SALNTY,SALNTY_FLAG_W,CTDOXY,CTDOXY_FLAG_W,OXYGEN,OXYGEN_FLAG_W,SILCAT,SILCAT_FLAG_W,NO2+NO3,NO2+NO3_FLAG_W,PHSPHT,PHSPHT_FLAG_W,CFC-11,CFC-11_FLAG_W,CFC-12,CFC-12_FLAG_W,CFC113,CFC113_FLAG_W,CCL4,CCL4_FLAG_W,MCHFRM,MCHFRM_FLAG_W,TCARBN,TCARBN_FLAG_W,ALKALI,ALKALI_FLAG_W,THETA,BTL_DATE,BTL_TIME
,,,,,,,,,,,METERS,DBAR,ITS-90,PSS-78,,PSS-78,,UMOL/KG,,UMOL/KG,,UMOL/KG,,UMOL/KG,,UMOL/KG,,PMOL/KG,,PMOL/KG,,PMOL/KG,,PMOL/KG,,PMOL/KG,,UMOL/KG,,UMOL/KG,,DEG C,,
  18HU20030713, AR07W,   230,  1, 266130,      1,2,20030727,1747, 59.0645, -49.9457, 3526,   3515.6,   1.5507,  34.8857,2,  34.8855,2,    292.7,2,    294.0,2,     9.53,6,    13.98,6,     0.93, 6,    4.052,2,    3.180,4,    0.223,4,    4.877,4,    6.746,2,   2167.7,2,   2289.7,2,   1.2805, 20030727,     1747
  18HU20030713, AR07W,   230,  1, 266131,      2,2,20030727,1747, 59.0645, -49.9457, 3526,   3449.1,   1.6065,  34.8818,2,  34.8810,2,    292.0,2,    293.2,2,     9.19,6,    12.99,6,     0.90, 6,    3.932,2,    2.192,3,    0.280,4,    4.968,4,    6.706,2,   2163.4,2,   2291.8,2,   1.3417, 20030727,     1749
  18HU20030713, AR07W,   230,  1, 266132,      3,2,20030727,1747, 59.0645, -49.9457, 3526,   3369.9,   1.8677,  34.8844,2,  34.8841,2,    289.3,2,    291.1,2,    10.00,6,    14.38,6,     0.95, 6,    3.820,2,    2.811,4,    0.221,4,    4.581,4,    6.488,2,   2158.7,2,   2286.9,2,   1.6046, 20030727,     1751
  18HU20030713, AR07W,   230,  1, 266133,      4,2,20030727,1747, 59.0645, -49.9457, 3526,   3270.5,   2.0998,  34.8882,2,  34.8877,2,    285.3,2,    287.1,2,    11.81,6,    15.02,6,     0.99, 6,    3.433,2,    2.554,4,    0.141,4,    4.290,4,    6.478,2,   2157.9,2,   2296.3,2,   1.8414, 20030727,     1753
  18HU20030713, AR07W,   230,  1, 266134,      5,2,20030727,1747, 59.0645, -49.9457, 3526,   3149.9,   2.3221,  34.8963,2,  34.8953,2,    281.1,2,    282.5,2,    13.27,6,    15.26,6,     1.02, 6,    2.827,2,    2.391,4,    0.169,4,    3.819,4,    5.980,2,   2159.5,2,   2295.1,2,   2.0709, 20030727,     1756
  18HU20030713, AR07W,   230,  1, 266135,      6,2,20030727,1747, 59.0645, -49.9457, 3526,   3019.4,   2.5029,  34.9061,2,  34.9063,6,    277.2,2,    279.2,2,    14.02,6,    15.88,6,     1.04, 6,    2.506,2,    1.921,4,    0.092,4,    3.353,4,    5.617,2,   2155.6,2,   2295.4,2,   2.2610, 20030727,     1759
  18HU20030713, AR07W,   230,  1, 266136,      7,2,20030727,1747, 59.0645, -49.9457, 3526,   2829.9,   2.7230,  34.9109,2,  34.9101,2,    276.4,2,    278.1,2,    12.50,6,    15.64,6,     1.04, 6,    2.642,2,    2.073,4,    0.100,4,    3.325,4,    5.669,2,   2158.1,2,   2297.8,2,   2.4957, 20030727,     1802
  18HU20030713, AR07W,   230,  1, 266137,      8,2,20030727,1747, 59.0645, -49.9457, 3526,   2601.1,   2.9038,  34.9075,2,  34.9071,2,    276.4,2,    277.7,2,    12.47,6,    16.38,6,     1.06, 6, -999.000,9, -999.000,9, -999.000,9, -999.000,9, -999.000,9,   2155.4,2,   2301.2,2,   2.6958, 20030727,     1807
  18HU20030713, AR07W,   230,  1, 266138,      9,2,20030727,1747, 59.0645, -49.9457, 3526,   2382.2,   3.0057,  34.8991,2,  34.8989,2,    277.7,2,    279.5,2,    11.66,6,    16.20,6,     1.05, 6,    3.017,2,    2.315,4,    0.154,4,    3.787,4,    6.821,2,   2154.1,2,   2284.7,3,   2.8173, 20030727,     1811
  18HU20030713, AR07W,   230,  1, 266139,     10,2,20030727,1747, 59.0645, -49.9457, 3526,   2159.1,   3.0921,  34.8870,2,  34.8858,6,    279.7,2,    281.7,2,    11.10,6,    16.38,6,     1.05, 6,    3.353,2,    2.344,4,    0.125,4,    4.076,4,    7.924,2,   2155.1,2,   2298.4,2,   2.9235, 20030727,     1815
  18HU20030713, AR07W,   230,  1, 266140,     11,2,20030727,1747, 59.0645, -49.9457, 3526,   1940.8,   3.1817,  34.8838,2,  34.8835,2,    280.3,2,    282.0,2,    10.89,6,    16.77,6,     1.07, 6,    3.729,2,    2.689,4,    0.122,4,    4.352,4,    8.504,2,   2155.6,2,   2294.3,2,   3.0320, 20030727,     1819
  18HU20030713, AR07W,   230,  1, 266141,     12,2,20030727,1747, 59.0645, -49.9457, 3526,   1720.2,   3.3113,  34.8875,2,  34.8871,2,    277.9,2,    279.8,2,    10.92,6,    16.10,6,     1.05, 6,    3.613,2,    2.590,4,    0.171,4,    4.331,4,    8.175,2,   2156.3,2,   2298.1,2,   3.1798, 20030727,     1823
  18HU20030713, AR07W,   230,  1, 266142,     13,2,20030727,1747, 59.0645, -49.9457, 3526,   1499.5,   3.4624,  34.8903,2,  34.8898,2,    276.2,2,    277.7,2,    10.61,6,    16.76,6,     1.06, 6,    3.576,2,    2.363,4,    0.224,4,    4.697,4,    7.969,2,   2157.0,2,   2295.2,2,   3.3485, 20030727,     1827
  18HU20030713, AR07W,   230,  1, 266143,     14,2,20030727,1747, 59.0645, -49.9457, 3526,   1280.0,   3.3108,  34.8501,2,  34.8495,2,    288.2,2,    290.6,6,     9.50,6,    16.40,6,     1.05, 6, -999.000,9, -999.000,9, -999.000,9, -999.000,9, -999.000,9,   2154.1,2,   2296.5,2,   3.2173, 20030727,     1832
  18HU20030713, AR07W,   230,  1, 266144,     15,2,20030727,1747, 59.0645, -49.9457, 3526,   1070.7,   3.2525,  34.8373,2,  34.8359,2,    293.3,2,    295.2,2,     9.12,6,    16.00,6,     1.04, 6,    4.919,3,    1.992,3,    0.289,4,    6.148,4,    6.094,2,   2152.2,2,   2290.2,2,   3.1765, 20030727,     1836
  18HU20030713, AR07W,   230,  1, 266145,     16,2,20030727,1747, 59.0645, -49.9457, 3526,    871.2,   3.2519,  34.8348,2,  34.8340,2,    294.1,2,    296.4,2,     9.09,6,    15.93,6,     1.03, 6,    4.592,2,    3.185,4,    0.345,4,    6.029,4,    8.439,2,   2153.1,2,   2293.3,2,   3.1914, 20030727,     1839
  18HU20030713, AR07W,   230,  1, 266146,     17,2,20030727,1747, 59.0645, -49.9457, 3526,    680.0,   3.3532,  34.8442,2,  34.8438,2,    291.4,2,    293.0,2,     9.32,6,    15.95,6,     1.02, 6,    4.736,2,    3.424,4,    0.305,4,    6.034,4,    5.583,2,   2153.4,2,   2287.0,2,   3.3064, 20030727,     1843
  18HU20030713, AR07W,   230,  1, 266147,     18,2,20030727,1747, 59.0645, -49.9457, 3526,    510.5,   3.4687,  34.8484,2,  34.8481,2,    290.5,2,    292.5,2,     8.94,6,    16.16,6,     1.03, 6,    4.911,2,    3.414,4,    0.314,4,    6.183,4,    5.523,2,   2154.1,2,   2302.8,2,   3.4338, 20030727,     1846
  18HU20030713, AR07W,   230,  1, 266148,     19,2,20030727,1747, 59.0645, -49.9457, 3526,    359.5,   3.6788,  34.8592,2,  34.8589,2,    289.1,2,    291.3,2,     9.24,6,    16.02,6,     1.03, 6,    4.496,2,    1.882,3,    0.318,4,    5.523,4,    4.550,2,   2153.5,2,   2298.8,2,   3.6540, 20030727,     1849
  18HU20030713, AR07W,   230,  1, 266149,     20,2,20030727,1747, 59.0645, -49.9457, 3526,    239.0,   3.9765,  34.8703,2,-999.0000,9,    285.2,2,    280.6,2,     8.84,6,    16.24,6,     1.03, 6,    4.682,2,    2.277,3,    0.649,4,    6.016,4,    4.591,2,   2154.7,2,   2294.8,2,   3.9597, 20030727,     1852
  18HU20030713, AR07W,   230,  1, 266150,     21,2,20030727,1747, 59.0645, -49.9457, 3526,    141.2,   4.3610,  34.8782,2,-999.0000,9,    283.0,2,    285.8,2,     8.44,6,    15.84,6,     1.00, 6, -999.000,9, -999.000,9, -999.000,9, -999.000,9, -999.000,9,   2153.5,2,   2296.9,2,   4.3507, 20030727,     1854
  18HU20030713, AR07W,   230,  1, 266151,     22,2,20030727,1747, 59.0645, -49.9457, 3526,     70.4,   4.7391,  34.7921,2,-999.0000,9,    293.5,2,    295.9,2,     6.68,6,     9.43,6,     0.83, 6,    5.173,2,    4.208,4,    0.396,4,    6.379,4,    3.716,2,   2132.3,2,   2300.1,2,   4.7338, 20030727,     1855
  18HU20030713, AR07W,   230,  1, 266152,     23,2,20030727,1747, 59.0645, -49.9457, 3526,     35.2,   6.8821,  34.6548,2,-999.0000,9,    300.0,2,    301.0,2,     1.80,6,     2.57,6,     0.46, 6,    4.559,2,    1.932,3,    0.377,4,    6.251,4,    2.889,2,   2090.1,2,   2299.8,2,   6.8789, 20030727,     1856
  18HU20030713, AR07W,   230,  1, 266153,     24,2,20030727,1747, 59.0645, -49.9457, 3526,      2.2,  10.1601,  34.6606,2,-999.0000,9,    293.4,2,    297.2,2,     1.08,6,     0.77,6,     0.28, 6,    4.541,2,    3.063,4,    0.360,4,    6.080,4,    2.846,2,   2056.6,2,   2301.0,2,  10.1598, 20030727,     1857
  18HU20030713, AR07W,   243,  1, 266154,      1,2,20030728,0249, 59.4780, -49.4787, 3310,   3442.1,   1.6114,  34.8832,2,  34.8825,2,    291.9,2,    294.2,2,    10.19,6,    14.08,6,     0.90, 6,    4.212,2,    2.317,2,    0.171,4,    3.373,4,    3.625,2,   2159.2,2,   2298.5,2,   1.3472, 20030728,      249
  18HU20030713, AR07W,   243,  1, 266155,      2,2,20030728,0249, 59.4780, -49.4787, 3310,   3379.3,   1.7598,  34.8835,2,  34.8833,2,    290.6,2,    291.7,2,     9.95,6,    14.30,6,     0.92, 6,    4.090,2,    2.235,2,    0.171,4,    3.292,4,    3.555,2,   2158.8,2,   2289.9,2,   1.4984, 20030728,      251
  18HU20030713, AR07W,   243,  1, 266156,      3,2,20030728,0249, 59.4780, -49.4787, 3310,   3300.8,   2.0102,  34.8829,2,  34.8827,2,    287.6,2,    288.4,2,    11.35,6,    14.68,6,     0.95, 6,    3.755,2,    2.082,2,    0.117,4,    3.067,4,    3.526,2,   2157.8,2,   2285.3,2,   1.7508, 20030728,      253
  18HU20030713, AR07W,   243,  1, 266157,      4,2,20030728,0249, 59.4780, -49.4787, 3310,   3199.6,   2.2857,  34.8939,2,  34.8936,2,    282.9,2,    283.5,2,    10.73,6,    13.21,6,     0.84, 3,    3.274,2,    1.810,2,    0.081,4,    2.725,4,    3.287,2,   2158.8,2,   2298.8,2,   2.0303, 20030728,      256
  18HU20030713, AR07W,   243,  1, 266158,      5,2,20030728,0249, 59.4780, -49.4787, 3310,   3079.4,   2.5154,  34.9003,2,  34.9000,2,    279.7,2,    279.3,2,    12.93,6,    15.73,6,     1.00, 6,    2.923,2,    1.575,2,    0.093,4,    2.478,4,    3.126,2,   2157.9,2,   2305.1,3,   2.2671, 20030728,      258
  18HU20030713, AR07W,   243,  1, 266159,      6,2,20030728,0249, 59.4780, -49.4787, 3310,   2790.5,   2.9039,  34.9042,2,  34.9042,6,    278.3,2,    280.2,2,    11.62,6,    15.71,6,     1.01, 6,    3.159,2,    1.718,2,    0.087,4,    2.638,4,    3.428,2,   2158.1,2,   2302.1,2,   2.6769, 20030728,      304
  18HU20030713, AR07W,   243,  1, 266160,      7,2,20030728,0249, 59.4780, -49.4787, 3310,   2568.8,   3.0831,  34.8935,2,  34.8934,2,    279.4,2,    280.2,2,    11.17,6,    16.37,6,     1.02, 6,    3.314,2,    1.779,2,    0.062,4,    2.717,4,    3.810,2,   2157.2,2,   2287.1,2,   2.8750, 20030728,      309
  18HU20030713, AR07W,   243,  1, 266161,      8,2,20030728,0249, 59.4780, -49.4787, 3310,   2450.1,   3.1711,  34.9010,2,  34.9006,2,    278.6,2,    279.5,2,    10.86,6,    16.02,6,     1.01, 6,    3.538,2,    1.945,2,    0.116,4,    2.810,4,    3.763,2,   2158.5,2,   2291.3,2,   2.9731, 20030728,      311
  18HU20030713, AR07W,   243,  1, 266162,      9,2,20030728,0249, 59.4780, -49.4787, 3310,   2199.9,   3.1864,  34.8776,2,  34.8770,3,    281.9,2,    282.7,2,    10.73,6,    16.51,6,     1.04, 6,    3.768,2,    2.028,2,    0.129,4,    3.026,4,    4.449,2,   2157.5,2,   2291.3,2,   3.0125, 20030728,      316
  18HU20030713, AR07W,   243,  1, 266163,     10,2,20030728,0249, 59.4780, -49.4787, 3310,   1946.7,   3.4167,  34.8827,2,  34.8831,2,    277.9,2,    275.8,2,     9.83,6,    15.66,6,     0.99, 6,    3.989,2,    2.189,2,    0.151,4,    3.137,4,    4.257,2,   2159.3,2,   -999.0,9,   3.2631, 20030728,      321
  18HU20030713, AR07W,   243,  1, 266164,     11,2,20030728,0249, 59.4780, -49.4787, 3310,   1669.7,   3.2563,  34.8331,2,  34.8330,3,    294.7,2,    296.0,2,     9.05,6,    16.08,6,     1.01, 6,    5.182,2,    2.973,2,    0.207,4,    4.225,4,    3.290,2,   2154.2,2,   2290.4,2,   3.1301, 20030728,      326
  18HU20030713, AR07W,   243,  1, 266165,     12,2,20030728,0249, 59.4780, -49.4787, 3310,   1500.8,   3.2269,  34.8274,2,  34.8271,6,    296.5,2,    297.8,2,     8.24,6,    14.78,6,     0.96, 6,    5.222,2,    3.003,2,    0.291,4,    4.366,4,    3.120,2,   2152.9,2,   2293.8,3,   3.1157, 20030728,      330
  18HU20030713, AR07W,   243,  1, 266166,     13,2,20030728,0249, 59.4780, -49.4787, 3310,   1349.2,   3.2262,  34.8267,2,-999.0000,9,    297.2,2,   -999.0,9,  -999.00,9,  -999.00,9,  -999.00, 9, -999.000,9, -999.000,9, -999.000,9, -999.000,9, -999.000,9,   -999.0,9,   -999.0,9,   3.1278, 20030728,      333
  18HU20030713, AR07W,   243,  1, 266167,     14,2,20030728,0249, 59.4780, -49.4787, 3310,   1199.8,   3.2364,  34.8277,2,  34.8271,2,    297.6,2,    299.1,6,     8.56,6,    15.54,6,     0.99, 6,    5.414,2,    3.108,2,    0.229,4,    4.410,4,    3.021,2,   2151.5,2,   2302.8,2,   3.1502, 20030728,      336
  18HU20030713, AR07W,   243,  1, 266168,     15,2,20030728,0249, 59.4780, -49.4787, 3310,   1050.0,   3.2487,  34.8283,2,  34.8281,2,    298.0,2,    299.4,2,  -999.00,9,  -999.00,9,  -999.00, 9,    5.322,2,    3.053,2,    0.319,4,    4.298,4,    2.907,2,   2154.4,2,   2298.6,2,   3.1744, 20030728,      339
  18HU20030713, AR07W,   243,  1, 266169,     16,2,20030728,0249, 59.4780, -49.4787, 3310,    869.9,   3.2870,  34.8299,2,  34.8288,2,    297.4,2,    296.1,2,  -999.00,9,  -999.00,9,  -999.00, 9,    5.404,2,    3.140,2,    0.245,4,    4.416,4,    2.891,2,   2154.2,2,   2296.8,2,   3.2264, 20030728,      343
  18HU20030713, AR07W,   243,  1, 266170,     17,2,20030728,0249, 59.4780, -49.4787, 3310,    680.9,   3.3441,  34.8291,2,  34.8298,2,    296.6,2,    295.1,2,     8.36,6,    15.75,6,     0.97, 6,    5.344,2,    3.115,2,    0.223,4,    4.362,4,    2.779,2,   2154.2,2,   2293.7,2,   3.2973, 20030728,      346
  18HU20030713, AR07W,   243,  1, 266171,     18,2,20030728,0249, 59.4780, -49.4787, 3310,    481.7,   3.4050,  34.8305,2,  34.8312,2,    298.1,2,   -999.0,9,     8.04,6,    15.41,6,     0.98, 6,    5.396,2,    3.146,2,    0.314,4,    4.388,4,    2.594,2,   2152.3,2,   2293.6,2,   3.3724, 20030728,      350
  18HU20030713, AR07W,   243,  1, 266172,     19,2,20030728,0249, 59.4780, -49.4787, 3310,    340.7,   3.4697,  34.8365,2,  34.8373,2,    297.2,2,    293.5,2,     8.38,6,    15.51,6,     0.97, 6,    5.422,2,    3.156,2,    0.247,4,    4.545,4,    2.553,2,   2152.1,2,   2302.3,3,   3.4469, 20030728,      353
  18HU20030713, AR07W,   243,  1, 266173,     20,2,20030728,0249, 59.4780, -49.4787, 3310,    259.1,   3.5143,  34.8373,2,-999.0000,9,    297.7,2,    292.0,2,     8.13,6,    15.72,6,     0.98, 6,    5.480,2,    3.202,2,    0.311,4,    4.557,4,    2.508,2,   2152.6,2,   2270.5,3,   3.4970, 20030728,      355
  18HU20030713, AR07W,   243,  1, 266174,     21,2,20030728,0249, 59.4780, -49.4787, 3310,    170.0,   3.6612,  34.8382,2,-999.0000,9,    296.1,2,    289.3,2,     8.53,6,    15.65,6,     0.98, 6,    5.470,2,    3.211,2,    0.287,4,    4.627,4,    2.456,2,   2154.8,2,   2295.1,2,   3.6498, 20030728,      357
  18HU20030713, AR07W,   243,  1, 266175,     22,2,20030728,0249, 59.4780, -49.4787, 3310,     99.8,   4.2510,  34.8723,2,-999.0000,9,    287.3,2,    284.8,2,     8.06,6,    15.26,6,     0.97, 6,    5.077,2,    2.986,2,    0.222,4,    0.779,4,    1.113,2,   2152.8,2,   2301.3,2,   4.2439, 20030728,      359
  18HU20030713, AR07W,   243,  1, 266176,     23,2,20030728,0249, 59.4780, -49.4787, 3310,     22.1,   6.8517,  34.6275,2,-999.0000,9,    308.8,2,    310.6,2,     1.78,6,     3.83,6,     0.48, 6,    5.212,2,    3.092,2,    0.246,4,    4.294,4,    1.957,2,   2088.3,2,   2289.2,2,   6.8497, 20030728,      401
  18HU20030713, AR07W,   243,  1, 266177,     24,2,20030728,0249, 59.4780, -49.4787, 3310,      2.7,   8.7418,  34.5085,2,-999.0000,9,    303.5,2,    304.9,2,     1.19,3,     1.04,3,     0.21, 3,    4.956,2,    2.973,2,    0.224,4,    4.232,4,    1.767,2,   2061.8,2,   2293.6,2,   8.7415, 20030728,      401