BOTTLE,20090923WHPSIOMYS
#code : jjward hyd_to_exchange.pl 
#original files copied from HTML directory: 20090923
#original HYD file: 33KI172_1_hy.txt   Wed Sep 23 17:58:00 2009
#original SUM file: ../33KI172_1su.txt   Wed Sep 23 17:57:59 2009
EXPOCODE,SECT_ID,STNNBR,CASTNO,SAMPNO,BTLNBR,BTLNBR_FLAG_W,DATE,TIME,LATITUDE,LONGITUDE,DEPTH,CTDRAW,CTDPRS,CTDTMP,CTDSAL,CTDSAL_FLAG_W,SALNTY,SALNTY_FLAG_W,CTDOXY,CTDOXY_FLAG_W,THETA,OXYGEN,OXYGEN_FLAG_W,SILCAT,SILCAT_FLAG_W,NO2+NO3,NO2+NO3_FLAG_W,PHSPHT,PHSPHT_FLAG_W,REVPRS,REVTMP
,,,,,,,,,,,,,DBAR,ITS-90,PSS-78,,PSS-78,,UMOL/KG,,ITS-90,UMOL/KG,,UMOL/KG,,UMOL/KG,,UMOL/KG,,DBAR,DEG C
     33KI172_1,  PRS2,     1,  1,     24,     23,2,20050812,2355, 21.3435,-158.2752, 1542,      4,      4.1,  27.7141,  34.8909,2,  34.9018,3,    203.8,3, 27.7131,    203.2,2,  -999.00,9,  -999.00,9,  -999.00,9,  -999.0,-999.000
     33KI172_1,  PRS2,     1,  1,     23,     30,2,20050812,2355, 21.3435,-158.2752, 1542,      4,      4.2,  27.7058,  34.8918,2,  34.8932,2,    203.9,2, 27.7048,    202.4,2,  -999.00,9,  -999.00,9,  -999.00,9,  -999.0,-999.000
     33KI172_1,  PRS2,     1,  1,     22,     22,2,20050812,2355, 21.3435,-158.2752, 1542,     25,     24.8,  26.9364,  34.8789,2,  34.8823,2,    204.0,2, 26.9307,    204.1,2,  -999.00,9,  -999.00,9,  -999.00,9,  -999.0,-999.000
     33KI172_1,  PRS2,     1,  1,     21,     21,2,20050812,2355, 21.3435,-158.2752, 1542,     44,     44.5,  26.7475,  34.8818,2,  34.8821,2,    205.6,2, 26.7374,    205.5,2,  -999.00,9,  -999.00,9,  -999.00,9,  -999.0,-999.000
     33KI172_1,  PRS2,     1,  1,     20,     41,2,20050812,2355, 21.3435,-158.2752, 1542,     59,     58.8,  26.3529,  34.9226,2,  34.9262,2,    209.0,2, 26.3396,    209.2,2,  -999.00,9,  -999.00,9,  -999.00,9,  -999.0,-999.000
     33KI172_1,  PRS2,     1,  1,     19,     19,2,20050812,2355, 21.3435,-158.2752, 1542,     75,     75.1,  24.5167,  35.1131,2,  35.1156,2,    217.2,2, 24.5006,    210.5,4,  -999.00,9,  -999.00,9,  -999.00,9,  -999.0,-999.000
     33KI172_1,  PRS2,     1,  1,     18,     18,2,20050812,2355, 21.3435,-158.2752, 1542,     99,     99.4,  22.9455,  35.1558,2,  35.1573,2,    211.2,2, 22.9252,    212.3,2,  -999.00,9,  -999.00,9,  -999.00,9,  -999.0,-999.000
     33KI172_1,  PRS2,     1,  1,     17,     17,2,20050812,2355, 21.3435,-158.2752, 1542,    115,    114.6,  21.7969,  35.1494,2,  35.1461,2,    205.3,2, 21.7744,    201.9,2,  -999.00,9,  -999.00,9,  -999.00,9,  -999.0,-999.000
     33KI172_1,  PRS2,     1,  1,     16,     34,2,20050812,2355, 21.3435,-158.2752, 1542,    126,    125.6,  20.6034,  35.0960,2,  35.0984,2,    192.4,2, 20.5796,    196.0,2,  -999.00,9,  -999.00,9,  -999.00,9,  -999.0,-999.000
     33KI172_1,  PRS2,     1,  1,     15,    102,2,20050812,2355, 21.3435,-158.2752, 1542,    150,    150.4,  19.6106,  34.9861,2,  34.9988,2,    190.1,2, 19.5832,    191.2,2,  -999.00,9,  -999.00,9,  -999.00,9,  -999.0,-999.000
     33KI172_1,  PRS2,     1,  1,     14,    101,2,20050812,2355, 21.3435,-158.2752, 1542,    173,    173.9,  17.8418,  34.7669,2,  34.7708,2,    187.3,2, 17.8122,    188.6,2,  -999.00,9,  -999.00,9,  -999.00,9,  -999.0,-999.000
     33KI172_1,  PRS2,     1,  1,     13,     42,2,20050812,2355, 21.3435,-158.2752, 1542,    200,    199.8,  16.4535,  34.6117,2,  34.6109,2,    192.0,2, 16.4213,    191.3,2,  -999.00,9,  -999.00,9,  -999.00,9,  -999.0,-999.000
     33KI172_1,  PRS2,     1,  1,     12,     12,2,20050812,2355, 21.3435,-158.2752, 1542,    225,    224.1,  15.2890,  34.4741,2,  34.4752,2,    189.7,2, 15.2548,    189.6,2,  -999.00,9,  -999.00,9,  -999.00,9,  -999.0,-999.000
     33KI172_1,  PRS2,     1,  1,     11,     39,2,20050812,2355, 21.3435,-158.2752, 1542,    250,    249.5,  13.0155,  34.2554,2,  34.2544,2,    186.7,2, 12.9813,    188.5,2,  -999.00,9,  -999.00,9,  -999.00,9,  -999.0,-999.000
     33KI172_1,  PRS2,     1,  1,     10,     33,2,20050812,2355, 21.3435,-158.2752, 1542,    300,    300.4,  10.7404,  34.1441,2,  34.1460,2,    181.0,2, 10.7041,    178.7,2,  -999.00,9,  -999.00,9,  -999.00,9,  -999.0,-999.000
     33KI172_1,  PRS2,     1,  1,      9,      3,2,20050812,2355, 21.3435,-158.2752, 1542,    350,    349.6,   9.5168,  34.1251,2,  34.1242,2,    167.2,2,  9.4776,    162.9,2,  -999.00,9,  -999.00,9,  -999.00,9,  -999.0,-999.000
     33KI172_1,  PRS2,     1,  1,      8,     29,2,20050812,2355, 21.3435,-158.2752, 1542,    400,    400.0,   8.2007,  34.1071,2,  34.1074,2,    129.7,2,  8.1596,    129.8,2,  -999.00,9,  -999.00,9,  -999.00,9,  -999.0,-999.000
     33KI172_1,  PRS2,     1,  1,      7,     28,2,20050812,2355, 21.3435,-158.2752, 1542,    500,    500.0,   6.8796,  34.1835,2,  34.1830,2,     66.9,2,  6.8328,     65.9,2,  -999.00,9,  -999.00,9,  -999.00,9,  -999.0,-999.000
     33KI172_1,  PRS2,     1,  1,      6,     13,2,20050812,2355, 21.3435,-158.2752, 1542,    600,    599.8,   5.7708,  34.2097,2,  34.2089,2,     47.1,2,  5.7193,     46.3,2,  -999.00,9,  -999.00,9,  -999.00,9,  -999.0,-999.000
     33KI172_1,  PRS2,     1,  1,      5,     38,2,20050812,2355, 21.3435,-158.2752, 1542,    701,    700.5,   5.2092,  34.2944,2,  34.2938,2,     34.6,2,  5.1515,     34.8,2,  -999.00,9,  -999.00,9,  -999.00,9,  -999.0,-999.000
     33KI172_1,  PRS2,     1,  1,      4,     36,2,20050812,2355, 21.3435,-158.2752, 1542,    751,    749.9,   4.9406,  34.3688,2,  34.3692,2,     32.7,2,  4.8799,     33.5,2,  -999.00,9,  -999.00,9,  -999.00,9,  -999.0,-999.000
     33KI172_1,  PRS2,     1,  1,      3,     35,2,20050812,2355, 21.3435,-158.2752, 1542,    800,    799.7,   4.7647,  34.4195,2,  34.4188,2,     37.7,2,  4.7008,     38.2,2,  -999.00,9,  -999.00,9,  -999.00,9,  -999.0,-999.000
     33KI172_1,  PRS2,     1,  1,      2,      7,2,20050812,2355, 21.3435,-158.2752, 1542,    899,    899.3,   4.3914,  34.4769,2,  34.4758,2,     42.3,2,  4.3214,     42.4,2,  -999.00,9,  -999.00,9,  -999.00,9,  -999.0,-999.000
     33KI172_1,  PRS2,     1,  1,      1,     11,2,20050812,2355, 21.3435,-158.2752, 1542,   1021,   1020.9,   3.9738,  34.5067,2,  34.5066,2,     48.1,2,  3.8966,     47.9,2,  -999.00,9,  -999.00,9,  -999.00,9,  -999.0,-999.000
     33KI172_1,  PRS2,     2,  1,     23,     30,2,20050813,1126, 22.7550,-158.0245, 1542,      5,      5.2,  26.3295,  35.1450,2,-999.0000,5,    206.2,1, 26.3283,   -999.0,9,  -999.00,9,  -999.00,9,  -999.00,9,  -999.0,-999.000
     33KI172_1,  PRS2,     2,  1,     21,     21,2,20050813,1126, 22.7550,-158.0245, 1542,      5,      5.2,  26.3357,  35.1448,2,-999.0000,5,    206.2,1, 26.3345,   -999.0,9,  -999.00,9,  -999.00,9,  -999.00,9,  -999.0,-999.000
     33KI172_1,  PRS2,     2,  1,     20,     41,3,20050813,1126, 22.7550,-158.0245, 1542,      5,      5.2,  26.3338,  35.1448,2,-999.0000,5,    206.2,1, 26.3326,   -999.0,9,  -999.00,9,  -999.00,9,  -999.00,9,  -999.0,-999.000
     33KI172_1,  PRS2,     2,  1,     19,     19,2,20050813,1126, 22.7550,-158.0245, 1542,      5,      5.2,  26.3337,  35.1448,2,-999.0000,5,    206.3,1, 26.3325,   -999.0,9,  -999.00,9,  -999.00,9,  -999.00,9,  -999.0,-999.000
     33KI172_1,  PRS2,     2,  1,     18,     18,2,20050813,1126, 22.7550,-158.0245, 1542,      5,      5.2,  26.3342,  35.1448,2,  35.1455,2,    206.3,1, 26.3330,   -999.0,9,  -999.00,9,  -999.00,9,  -999.00,9,  -999.0,-999.000
     33KI172_1,  PRS2,     2,  1,     17,     17,2,20050813,1126, 22.7550,-158.0245, 1542,      5,      5.2,  26.3369,  35.1445,2,  35.1455,2,    206.3,1, 26.3358,   -999.0,9,  -999.00,9,  -999.00,9,  -999.00,9,  -999.0,-999.000
     33KI172_1,  PRS2,     2,  1,     24,     23,2,20050813,1126, 22.7550,-158.0245, 1542,      5,      5.3,  26.3316,  35.1447,2,-999.0000,5,    206.2,1, 26.3304,   -999.0,9,  -999.00,9,  -999.00,9,  -999.00,9,  -999.0,-999.000
     33KI172_1,  PRS2,     2,  1,     22,     22,3,20050813,1126, 22.7550,-158.0245, 1542,      5,      5.3,  26.3320,  35.1448,2,-999.0000,5,    206.2,1, 26.3308,   -999.0,9,  -999.00,9,  -999.00,9,  -999.00,9,  -999.0,-999.000
     33KI172_1,  PRS2,     2,  1,     14,    101,2,20050813,1126, 22.7550,-158.0245, 1542,     25,     25.3,  26.1616,  35.1408,2,-999.0000,5,    207.1,1, 26.1559,   -999.0,9,  -999.00,9,  -999.00,9,  -999.00,9,  -999.0,-999.000
     33KI172_1,  PRS2,     2,  1,     16,     34,2,20050813,1126, 22.7550,-158.0245, 1542,     26,     25.4,  26.1567,  35.1403,2,-999.0000,5,    207.1,1, 26.1510,   -999.0,9,  -999.00,9,  -999.00,9,  -999.00,9,  -999.0,-999.000
     33KI172_1,  PRS2,     2,  1,     15,    102,2,20050813,1126, 22.7550,-158.0245, 1542,     25,     25.4,  26.1579,  35.1406,2,-999.0000,5,    207.1,1, 26.1522,   -999.0,9,  -999.00,9,  -999.00,9,  -999.00,9,  -999.0,-999.000
     33KI172_1,  PRS2,     2,  1,     13,     42,2,20050813,1126, 22.7550,-158.0245, 1542,     25,     25.4,  26.1645,  35.1413,2,-999.0000,5,    207.1,1, 26.1588,   -999.0,9,  -999.00,9,  -999.00,9,  -999.00,9,  -999.0,-999.000
     33KI172_1,  PRS2,     2,  1,     12,     12,2,20050813,1126, 22.7550,-158.0245, 1542,     26,     25.4,  26.1689,  35.1415,2,-999.0000,5,    207.1,1, 26.1632,   -999.0,9,  -999.00,9,  -999.00,9,  -999.00,9,  -999.0,-999.000
     33KI172_1,  PRS2,     2,  1,     10,     33,2,20050813,1126, 22.7550,-158.0245, 1542,     26,     25.4,  26.1707,  35.1414,2,  35.1453,2,    207.1,1, 26.1650,   -999.0,9,  -999.00,9,  -999.00,9,  -999.00,9,  -999.0,-999.000
     33KI172_1,  PRS2,     2,  1,      9,      3,2,20050813,1126, 22.7550,-158.0245, 1542,     25,     25.4,  26.1720,  35.1414,2,  35.1413,2,    207.1,1, 26.1663,   -999.0,9,  -999.00,9,  -999.00,9,  -999.00,9,  -999.0,-999.000
     33KI172_1,  PRS2,     2,  1,     11,     39,2,20050813,1126, 22.7550,-158.0245, 1542,     26,     25.5,  26.1694,  35.1412,2,-999.0000,5,    207.1,1, 26.1637,   -999.0,9,  -999.00,9,  -999.00,9,  -999.00,9,  -999.0,-999.000
     33KI172_1,  PRS2,     2,  1,      1,     11,2,20050813,1126, 22.7550,-158.0245, 1542,     45,     45.2,  26.0992,  35.1384,2,  35.1417,2,    207.8,1, 26.0891,   -999.0,9,  -999.00,9,  -999.00,9,  -999.00,9,  -999.0,-999.000
     33KI172_1,  PRS2,     2,  1,      8,     29,2,20050813,1126, 22.7550,-158.0245, 1542,     45,     45.3,  26.0983,  35.1385,2,-999.0000,5,    207.7,1, 26.0882,   -999.0,9,  -999.00,9,  -999.00,9,  -999.00,9,  -999.0,-999.000
     33KI172_1,  PRS2,     2,  1,      7,     28,2,20050813,1126, 22.7550,-158.0245, 1542,     46,     45.3,  26.0981,  35.1385,2,-999.0000,5,    207.7,1, 26.0880,   -999.0,9,  -999.00,9,  -999.00,9,  -999.00,9,  -999.0,-999.000
     33KI172_1,  PRS2,     2,  1,      6,     13,2,20050813,1126, 22.7550,-158.0245, 1542,     45,     45.3,  26.0978,  35.1384,2,-999.0000,5,    207.6,1, 26.0876,   -999.0,9,  -999.00,9,  -999.00,9,  -999.00,9,  -999.0,-999.000
     33KI172_1,  PRS2,     2,  1,      5,     38,2,20050813,1126, 22.7550,-158.0245, 1542,     45,     45.3,  26.0963,  35.1384,2,-999.0000,5,    207.6,1, 26.0862,   -999.0,9,  -999.00,9,  -999.00,9,  -999.00,9,  -999.0,-999.000
     33KI172_1,  PRS2,     2,  1,      4,     36,2,20050813,1126, 22.7550,-158.0245, 1542,     45,     45.3,  26.0949,  35.1385,2,-999.0000,5,    207.7,1, 26.0847,   -999.0,9,  -999.00,9,  -999.00,9,  -999.00,9,  -999.0,-999.000
     33KI172_1,  PRS2,     2,  1,      3,     35,2,20050813,1126, 22.7550,-158.0245, 1542,     46,     45.3,  26.0944,  35.1384,2,  35.1415,2,    207.7,1, 26.0842,   -999.0,9,  -999.00,9,  -999.00,9,  -999.00,9,  -999.0,-999.000
     33KI172_1,  PRS2,     2,  1,      2,      7,2,20050813,1126, 22.7550,-158.0245, 1542,     46,     45.3,  26.0951,  35.1384,2,-999.0000,5,    207.7,1, 26.0849,   -999.0,9,  -999.00,9,  -999.00,9,  -999.00,9,  -999.0,-999.000
     33KI172_1,  PRS2,     2,  2,     24,     23,2,20050813,1239, 22.7505,-158.0007, 4727,     75,     75.1,  24.7946,  35.2315,2,-999.0000,5,    224.3,1, 24.7784,   -999.0,9,  -999.00,9,  -999.00,9,  -999.00,9,  -999.0,-999.000
     33KI172_1,  PRS2,     2,  2,     23,     30,2,20050813,1239, 22.7505,-158.0007, 4727,     75,     75.2,  24.7900,  35.2318,2,-999.0000,5,    224.5,1, 24.7738,   -999.0,9,  -999.00,9,  -999.00,9,  -999.00,9,  -999.0,-999.000
     33KI172_1,  PRS2,     2,  2,     22,     22,3,20050813,1239, 22.7505,-158.0007, 4727,     76,     75.2,  24.7872,  35.2317,2,-999.0000,5,    224.7,1, 24.7710,   -999.0,9,  -999.00,9,  -999.00,9,  -999.00,9,  -999.0,-999.000
     33KI172_1,  PRS2,     2,  2,     21,     21,2,20050813,1239, 22.7505,-158.0007, 4727,     75,     75.2,  24.7881,  35.2314,2,  35.2367,2,    224.9,1, 24.7719,   -999.0,9,  -999.00,9,  -999.00,9,  -999.00,9,  -999.0,-999.000
     33KI172_1,  PRS2,     2,  2,     20,     41,3,20050813,1239, 22.7505,-158.0007, 4727,     75,     75.2,  24.7856,  35.2312,2,-999.0000,5,    225.1,1, 24.7694,   -999.0,9,  -999.00,9,  -999.00,9,  -999.00,9,  -999.0,-999.000
     33KI172_1,  PRS2,     2,  2,     19,     19,2,20050813,1239, 22.7505,-158.0007, 4727,     75,     75.2,  24.7845,  35.2320,2,-999.0000,5,    225.3,1, 24.7683,   -999.0,9,  -999.00,9,  -999.00,9,  -999.00,9,  -999.0,-999.000
     33KI172_1,  PRS2,     2,  2,     18,     18,2,20050813,1239, 22.7505,-158.0007, 4727,     75,     75.2,  24.7749,  35.2314,2,-999.0000,5,    225.7,1, 24.7587,   -999.0,9,  -999.00,9,  -999.00,9,  -999.00,9,  -999.0,-999.000
     33KI172_1,  PRS2,     2,  2,     17,     17,2,20050813,1239, 22.7505,-158.0007, 4727,    101,    100.1,  22.7119,  35.2299,2,  35.2286,2,    222.6,1, 22.6917,   -999.0,9,  -999.00,9,  -999.00,9,  -999.00,9,  -999.0,-999.000
     33KI172_1,  PRS2,     2,  2,     16,     34,2,20050813,1239, 22.7505,-158.0007, 4727,    100,    100.1,  22.7100,  35.2295,2,-999.0000,5,    222.5,1, 22.6897,   -999.0,9,  -999.00,9,  -999.00,9,  -999.00,9,  -999.0,-999.000
     33KI172_1,  PRS2,     2,  2,     15,    102,2,20050813,1239, 22.7505,-158.0007, 4727,    100,    100.1,  22.7066,  35.2293,2,-999.0000,5,    222.5,1, 22.6864,   -999.0,9,  -999.00,9,  -999.00,9,  -999.00,9,  -999.0,-999.000
     33KI172_1,  PRS2,     2,  2,     14,    101,2,20050813,1239, 22.7505,-158.0007, 4727,    100,    100.1,  22.7059,  35.2299,2,-999.0000,5,    222.4,1, 22.6856,   -999.0,9,  -999.00,9,  -999.00,9,  -999.00,9,  -999.0,-999.000
     33KI172_1,  PRS2,     2,  2,     13,     42,2,20050813,1239, 22.7505,-158.0007, 4727,    101,    100.1,  22.7042,  35.2293,2,-999.0000,5,    222.3,1, 22.6840,   -999.0,9,  -999.00,9,  -999.00,9,  -999.00,9,  -999.0,-999.000
     33KI172_1,  PRS2,     2,  2,     11,     39,2,20050813,1239, 22.7505,-158.0007, 4727,    100,    100.1,  22.6974,  35.2297,2,-999.0000,5,    222.0,1, 22.6772,   -999.0,9,  -999.00,9,  -999.00,9,  -999.00,9,  -999.0,-999.000
     33KI172_1,  PRS2,     2,  2,     12,     12,2,20050813,1239, 22.7505,-158.0007, 4727,    100,    100.2,  22.7042,  35.2289,2,-999.0000,5,    222.1,1, 22.6839,   -999.0,9,  -999.00,9,  -999.00,9,  -999.00,9,  -999.0,-999.000
     33KI172_1,  PRS2,     2,  2,     10,     33,2,20050813,1239, 22.7505,-158.0007, 4727,    100,    100.2,  22.6857,  35.2304,2,-999.0000,5,    221.8,1, 22.6654,   -999.0,9,  -999.00,9,  -999.00,9,  -999.00,9,  -999.0,-999.000
     33KI172_1,  PRS2,     2,  2,      3,     35,2,20050813,1239, 22.7505,-158.0007, 4727,    125,    125.1,  21.4738,  35.2072,2,-999.0000,5,    213.5,1, 21.4495,   -999.0,9,  -999.00,9,  -999.00,9,  -999.00,9,  -999.0,-999.000
     33KI172_1,  PRS2,     2,  2,      9,      3,2,20050813,1239, 22.7505,-158.0007, 4727,    126,    125.2,  21.4818,  35.2076,2,  35.2061,2,    213.4,1, 21.4574,   -999.0,9,  -999.00,9,  -999.00,9,  -999.00,9,  -999.0,-999.000
     33KI172_1,  PRS2,     2,  2,      7,     28,2,20050813,1239, 22.7505,-158.0007, 4727,    125,    125.2,  21.4778,  35.2075,2,-999.0000,5,    213.3,1, 21.4535,   -999.0,9,  -999.00,9,  -999.00,9,  -999.00,9,  -999.0,-999.000
     33KI172_1,  PRS2,     2,  2,      5,     38,2,20050813,1239, 22.7505,-158.0007, 4727,    125,    125.2,  21.4785,  35.2076,2,-999.0000,5,    213.4,1, 21.4541,   -999.0,9,  -999.00,9,  -999.00,9,  -999.00,9,  -999.0,-999.000
     33KI172_1,  PRS2,     2,  2,      4,     36,2,20050813,1239, 22.7505,-158.0007, 4727,    125,    125.2,  21.4767,  35.2074,2,-999.0000,5,    213.5,1, 21.4523,   -999.0,9,  -999.00,9,  -999.00,9,  -999.00,9,  -999.0,-999.000
     33KI172_1,  PRS2,     2,  2,      8,     29,2,20050813,1239, 22.7505,-158.0007, 4727,    125,    125.3,  21.4780,  35.2075,2,-999.0000,5,    213.4,1, 21.4536,   -999.0,9,  -999.00,9,  -999.00,9,  -999.00,9,  -999.0,-999.000
     33KI172_1,  PRS2,     2,  2,      6,     13,2,20050813,1239, 22.7505,-158.0007, 4727,    125,    125.3,  21.4772,  35.2076,2,-999.0000,5,    213.4,1, 21.4528,   -999.0,9,  -999.00,9,  -999.00,9,  -999.00,9,  -999.0,-999.000
     33KI172_1,  PRS2,     2,  2,      2,      7,2,20050813,1239, 22.7505,-158.0007, 4727,    150,    149.8,  20.6680,  35.1602,2,  35.1614,2,    208.6,1, 20.6397,   -999.0,9,  -999.00,9,  -999.00,9,  -999.00,9,  -999.0,-999.000
     33KI172_1,  PRS2,     2,  2,      1,     11,2,20050813,1239, 22.7505,-158.0007, 4727,    201,    200.6,  18.4427,  34.9262,2,  34.9235,2,    203.4,1, 18.4076,   -999.0,9,  -999.00,9,  -999.00,9,  -999.00,9,  -999.0,-999.000