BOTTLE,20090923WHPSIOMYS
EXPOCODE,SECT_ID,STNNBR,CASTNO,SAMPNO,BTLNBR,BTLNBR_FLAG_W,DATE,TIME,LATITUDE,LONGITUDE,DEPTH,CTDRAW,CTDPRS,CTDTMP,CTDSAL,CTDSAL_FLAG_W,SALNTY,SALNTY_FLAG_W,CTDOXY,CTDOXY_FLAG_W,THETA,OXYGEN,OXYGEN_FLAG_W,SILCAT,SILCAT_FLAG_W,NO2+NO3,NO2+NO3_FLAG_W,PHSPHT,PHSPHT_FLAG_W,REVPRS,REVTMP
,,,,,,,,,,,,,DBAR,ITS-90,PSS-78,,PSS-78,,UMOL/KG,,ITS-90,UMOL/KG,,UMOL/KG,,UMOL/KG,,UMOL/KG,,DBAR,DEG C
     33KI172_1,  PRS2,     2,  7,     22,     22,2,20050814,0559, 22.7513,-157.9977, 4720,      5,      5.0,  26.3730,  35.1216,2,  35.1354,3,    206.1,1, 26.3719,   -999.0,9,  -999.00,9,  -999.00,9,  -999.00,9,  -999.0,-999.000
     33KI172_1,  PRS2,     2,  7,     21,     21,2,20050814,0559, 22.7513,-157.9977, 4720,      5,      5.0,  26.3742,  35.1216,2,  35.1215,2,    206.0,1, 26.3730,   -999.0,9,  -999.00,9,  -999.00,9,  -999.00,9,  -999.0,-999.000
     33KI172_1,  PRS2,     2,  7,     20,     41,3,20050814,0559, 22.7513,-157.9977, 4720,     25,     25.3,  26.1535,  35.1348,2,  35.1573,4,    207.7,1, 26.1478,   -999.0,9,  -999.00,9,  -999.00,9,  -999.00,9,  -999.0,-999.000
     33KI172_1,  PRS2,     2,  7,     19,     19,2,20050814,0559, 22.7513,-157.9977, 4720,     25,     25.3,  26.1544,  35.1352,2,  35.1345,2,    207.7,1, 26.1487,   -999.0,9,  -999.00,9,  -999.00,9,  -999.00,9,  -999.0,-999.000
     33KI172_1,  PRS2,     2,  7,     18,     18,2,20050814,0559, 22.7513,-157.9977, 4720,     45,     44.4,  26.0962,  35.1340,2,  35.1484,4,    207.7,1, 26.0863,   -999.0,9,  -999.00,9,  -999.00,9,  -999.00,9,  -999.0,-999.000
     33KI172_1,  PRS2,     2,  7,     17,     17,2,20050814,0559, 22.7513,-157.9977, 4720,     44,     44.4,  26.0947,  35.1341,2,  35.1329,2,    207.8,1, 26.0848,   -999.0,9,  -999.00,9,  -999.00,9,  -999.00,9,  -999.0,-999.000
     33KI172_1,  PRS2,     2,  7,     16,     34,2,20050814,0559, 22.7513,-157.9977, 4720,     61,     61.1,  26.0202,  35.2122,2,  35.2083,2,    209.5,1, 26.0065,   -999.0,9,  -999.00,9,  -999.00,9,  -999.00,9,  -999.0,-999.000
     33KI172_1,  PRS2,     2,  7,     14,    101,2,20050814,0559, 22.7513,-157.9977, 4720,     75,     74.8,  25.1983,  35.2555,2,  35.2548,2,    219.5,1, 25.1820,   -999.0,9,  -999.00,9,  -999.00,9,  -999.00,9,  -999.0,-999.000
     33KI172_1,  PRS2,     2,  7,     15,    102,2,20050814,0559, 22.7513,-157.9977, 4720,     75,     75.0,  25.2064,  35.2566,2,  35.2546,2,    219.1,1, 25.1900,   -999.0,9,  -999.00,9,  -999.00,9,  -999.00,9,  -999.0,-999.000
     33KI172_1,  PRS2,     2,  7,     13,     42,2,20050814,0559, 22.7513,-157.9977, 4720,     85,     84.8,  23.8582,  35.2303,2,  35.2298,2,    228.4,1, 23.8404,   -999.0,9,  -999.00,9,  -999.00,9,  -999.00,9,  -999.0,-999.000
     33KI172_1,  PRS2,     2,  7,     11,     39,2,20050814,0559, 22.7513,-157.9977, 4720,    100,     99.7,  23.0728,  35.2203,2,  35.2188,2,    223.9,1, 23.0524,   -999.0,9,  -999.00,9,  -999.00,9,  -999.00,9,  -999.0,-999.000
     33KI172_1,  PRS2,     2,  7,     12,     12,2,20050814,0559, 22.7513,-157.9977, 4720,    100,     99.8,  23.0697,  35.2201,2,  35.2266,2,    224.0,1, 23.0492,   -999.0,9,  -999.00,9,  -999.00,9,  -999.00,9,  -999.0,-999.000
     33KI172_1,  PRS2,     2,  7,     10,     33,2,20050814,0559, 22.7513,-157.9977, 4720,    115,    115.3,  22.2697,  35.2209,2,  35.2184,2,    215.9,1, 22.2467,   -999.0,9,  -999.00,9,  -999.00,9,  -999.00,9,  -999.0,-999.000
     33KI172_1,  PRS2,     2,  7,      8,     29,2,20050814,0559, 22.7513,-157.9977, 4720,    125,    124.8,  21.9207,  35.2121,2,  35.2148,2,    213.8,1, 21.8961,   -999.0,9,  -999.00,9,  -999.00,9,  -999.00,9,  -999.0,-999.000
     33KI172_1,  PRS2,     2,  7,      9,      3,2,20050814,0559, 22.7513,-157.9977, 4720,    125,    124.9,  21.9075,  35.2117,2,  35.2262,4,    214.0,1, 21.8829,   -999.0,9,  -999.00,9,  -999.00,9,  -999.00,9,  -999.0,-999.000
     33KI172_1,  PRS2,     2,  7,      7,     28,2,20050814,0559, 22.7513,-157.9977, 4720,    135,    134.9,  21.6249,  35.2032,2,  35.2036,2,    211.3,1, 21.5986,   -999.0,9,  -999.00,9,  -999.00,9,  -999.00,9,  -999.0,-999.000
     33KI172_1,  PRS2,     2,  7,      5,     38,2,20050814,0559, 22.7513,-157.9977, 4720,    151,    151.5,  21.0377,  35.1781,2,  35.1796,2,    207.2,1, 21.0086,   -999.0,9,  -999.00,9,  -999.00,9,  -999.00,9,  -999.0,-999.000
     33KI172_1,  PRS2,     2,  7,      6,     13,2,20050814,0559, 22.7513,-157.9977, 4720,    152,    151.7,  21.0219,  35.1777,2,  35.1768,2,    207.4,1, 20.9928,   -999.0,9,  -999.00,9,  -999.00,9,  -999.00,9,  -999.0,-999.000
     33KI172_1,  PRS2,     2,  7,      3,     35,2,20050814,0559, 22.7513,-157.9977, 4720,    179,    178.9,  19.5983,  35.0712,2,  35.0768,2,    208.8,1, 19.5657,   -999.0,9,  -999.00,9,  -999.00,9,  -999.00,9,  -999.0,-999.000
     33KI172_1,  PRS2,     2,  7,      4,     36,2,20050814,0559, 22.7513,-157.9977, 4720,    180,    180.1,  19.5605,  35.0664,2,  35.0724,2,    209.0,1, 19.5277,   -999.0,9,  -999.00,9,  -999.00,9,  -999.00,9,  -999.0,-999.000
     33KI172_1,  PRS2,     2,  7,      2,      7,2,20050814,0559, 22.7513,-157.9977, 4720,    488,    488.1,   7.3704,  34.0760,2,  34.0774,2,    107.0,1,  7.3230,   -999.0,9,  -999.00,9,  -999.00,9,  -999.00,9,  -999.0,-999.000
     33KI172_1,  PRS2,     2,  7,      1,     11,2,20050814,0559, 22.7513,-157.9977, 4720,   1022,   1021.2,   4.2556,  34.4864,2,  34.4887,2,     37.9,1,  4.1762,   -999.0,9,  -999.00,9,  -999.00,9,  -999.00,9,  -999.0,-999.000
     33KI172_1,  PRS2,     2,  8,     20,     41,3,20050814,0858, 22.7553,-157.9865, 4720,      5,      4.9,  26.3102,  35.1080,2,  35.1126,2,    205.9,2, 26.3091,   -999.0,5,  -999.00,9,  -999.00,9,  -999.00,9,  -999.0,-999.000
     33KI172_1,  PRS2,     2,  8,     19,     19,2,20050814,0858, 22.7553,-157.9865, 4720,      5,      4.9,  26.3105,  35.1081,2,  35.1079,2,    205.9,2, 26.3093,    206.7,2,  -999.00,9,  -999.00,9,  -999.00,9,  -999.0,-999.000
     33KI172_1,  PRS2,     2,  8,     18,     18,2,20050814,0858, 22.7553,-157.9865, 4720,     13,     13.0,  26.3000,  35.1278,2,  35.1240,2,    206.2,2, 26.2971,   -999.0,5,  -999.00,9,  -999.00,9,  -999.00,9,  -999.0,-999.000
     33KI172_1,  PRS2,     2,  8,     17,     17,2,20050814,0858, 22.7553,-157.9865, 4720,     25,     25.0,  26.1682,  35.1364,2,  35.1372,2,    207.3,2, 26.1626,   -999.0,5,  -999.00,9,  -999.00,9,  -999.00,9,  -999.0,-999.000
     33KI172_1,  PRS2,     2,  8,     16,     34,2,20050814,0858, 22.7553,-157.9865, 4720,     25,     25.0,  26.1682,  35.1364,2,  35.1475,3,    207.4,3, 26.1626,    207.2,2,  -999.00,9,  -999.00,9,  -999.00,9,  -999.0,-999.000
     33KI172_1,  PRS2,     2,  8,     15,    102,2,20050814,0858, 22.7553,-157.9865, 4720,     35,     35.2,  26.1252,  35.1372,2,  35.1386,2,    207.2,2, 26.1173,   -999.0,5,  -999.00,9,  -999.00,9,  -999.00,9,  -999.0,-999.000
     33KI172_1,  PRS2,     2,  8,     14,    101,2,20050814,0858, 22.7553,-157.9865, 4720,     45,     45.1,  26.0795,  35.1343,2,  35.1323,2,    207.7,2, 26.0694,    207.9,2,  -999.00,9,  -999.00,9,  -999.00,9,  -999.0,-999.000
     33KI172_1,  PRS2,     2,  8,     13,     42,2,20050814,0858, 22.7553,-157.9865, 4720,     61,     60.4,  26.0173,  35.1722,2,  35.1693,2,    209.2,2, 26.0038,   -999.0,5,  -999.00,9,  -999.00,9,  -999.00,9,  -999.0,-999.000
     33KI172_1,  PRS2,     2,  8,     12,     12,3,20050814,0858, 22.7553,-157.9865, 4720,     76,     75.8,  24.6400,  35.2542,2,  35.2548,2,    224.0,2, 24.6237,    221.8,2,  -999.00,9,  -999.00,9,  -999.00,9,  -999.0,-999.000
     33KI172_1,  PRS2,     2,  8,     11,     39,2,20050814,0858, 22.7553,-157.9865, 4720,     86,     85.4,  23.4678,  35.2214,2,  35.2199,2,    226.9,2, 23.4501,    226.5,2,  -999.00,9,  -999.00,9,  -999.00,9,  -999.0,-999.000
     33KI172_1,  PRS2,     2,  8,     10,     33,2,20050814,0858, 22.7553,-157.9865, 4720,    102,    101.1,  22.8555,  35.2216,2,  35.2199,2,    222.1,2, 22.8349,    222.4,2,  -999.00,9,  -999.00,9,  -999.00,9,  -999.0,-999.000
     33KI172_1,  PRS2,     2,  8,      9,      3,3,20050814,0858, 22.7553,-157.9865, 4720,    116,    115.6,  22.5228,  35.2270,2,  35.2249,2,    219.3,2, 22.4995,    220.4,2,  -999.00,9,  -999.00,9,  -999.00,9,  -999.0,-999.000
     33KI172_1,  PRS2,     2,  8,      8,     29,2,20050814,0858, 22.7553,-157.9865, 4720,    125,    124.7,  22.1355,  35.2177,2,  35.2166,2,    216.4,2, 22.1107,    216.5,2,  -999.00,9,  -999.00,9,  -999.00,9,  -999.0,-999.000
     33KI172_1,  PRS2,     2,  8,      7,     28,2,20050814,0858, 22.7553,-157.9865, 4720,    151,    151.0,  20.8679,  35.1699,2,  35.1685,2,    207.6,2, 20.8392,    205.6,2,  -999.00,9,  -999.00,9,  -999.00,9,  -999.0,-999.000
     33KI172_1,  PRS2,     2,  8,      6,     13,2,20050814,0858, 22.7553,-157.9865, 4720,    167,    166.1,  19.8313,  35.1039,2,  35.1041,2,    209.7,2, 19.8008,    211.0,2,  -999.00,9,  -999.00,9,  -999.00,9,  -999.0,-999.000
     33KI172_1,  PRS2,     2,  8,      5,     38,2,20050814,0858, 22.7553,-157.9865, 4720,    176,    175.7,  19.4631,  35.0612,2,  35.0628,2,    209.0,2, 19.4312,    208.7,2,  -999.00,9,  -999.00,9,  -999.00,9,  -999.0,-999.000
     33KI172_1,  PRS2,     2,  8,      4,     36,2,20050814,0858, 22.7553,-157.9865, 4720,    203,    203.3,  18.4007,  34.9255,2,  34.9231,2,    207.8,2, 18.3652,    204.3,2,  -999.00,9,  -999.00,9,  -999.00,9,  -999.0,-999.000
     33KI172_1,  PRS2,     2,  8,      3,     35,2,20050814,0858, 22.7553,-157.9865, 4720,    502,    501.9,   7.3963,  34.0773,2,  34.0766,2,    107.8,2,  7.3475,    106.7,2,  -999.00,9,  -999.00,9,  -999.00,9,  -999.0,-999.000
     33KI172_1,  PRS2,     2,  8,      2,      7,2,20050814,0858, 22.7553,-157.9865, 4720,    716,    716.8,   5.4079,  34.3419,2,  34.3397,2,     21.0,2,  5.3476,     22.4,2,  -999.00,9,  -999.00,9,  -999.00,9,  -999.0,-999.000
     33KI172_1,  PRS2,     2,  8,      1,     11,2,20050814,0858, 22.7553,-157.9865, 4720,   1021,   1021.2,   4.1999,  34.4892,2,  34.4877,2,     39.8,2,  4.1209,     38.8,2,  -999.00,9,  -999.00,9,  -999.00,9,  -999.0,-999.000
     33KI172_1,  PRS2,     2,  9,     22,     22,2,20050814,1159, 22.7462,-157.9998, 4720,      5,      4.8,  26.2867,  35.0775,2,-999.0000,5,    205.3,1, 26.2856,   -999.0,9,  -999.00,9,  -999.00,9,  -999.00,9,  -999.0,-999.000
     33KI172_1,  PRS2,     2,  9,     21,     21,2,20050814,1159, 22.7462,-157.9998, 4720,      5,      4.8,  26.2872,  35.0777,2,-999.0000,5,    205.3,1, 26.2862,   -999.0,9,  -999.00,9,  -999.00,9,  -999.00,9,  -999.0,-999.000
     33KI172_1,  PRS2,     2,  9,     20,     41,3,20050814,1159, 22.7462,-157.9998, 4720,      5,      4.8,  26.2848,  35.0778,2,  35.0768,2,    205.3,1, 26.2837,   -999.0,9,  -999.00,9,  -999.00,9,  -999.00,9,  -999.0,-999.000
     33KI172_1,  PRS2,     2,  9,     19,     19,2,20050814,1159, 22.7462,-157.9998, 4720,     25,     24.9,  26.2892,  35.1191,2,-999.0000,5,    205.9,1, 26.2836,   -999.0,9,  -999.00,9,  -999.00,9,  -999.00,9,  -999.0,-999.000
     33KI172_1,  PRS2,     2,  9,     18,     18,2,20050814,1159, 22.7462,-157.9998, 4720,     25,     24.9,  26.2884,  35.1197,2,-999.0000,5,    205.9,1, 26.2829,   -999.0,9,  -999.00,9,  -999.00,9,  -999.00,9,  -999.0,-999.000
     33KI172_1,  PRS2,     2,  9,     17,     17,2,20050814,1159, 22.7462,-157.9998, 4720,     25,     24.9,  26.2878,  35.1202,2,  35.1159,2,    205.9,1, 26.2823,   -999.0,9,  -999.00,9,  -999.00,9,  -999.00,9,  -999.0,-999.000
     33KI172_1,  PRS2,     2,  9,     16,     34,2,20050814,1159, 22.7462,-157.9998, 4720,     46,     45.5,  26.1322,  35.1390,2,-999.0000,5,    207.1,1, 26.1220,   -999.0,9,  -999.00,9,  -999.00,9,  -999.00,9,  -999.0,-999.000
     33KI172_1,  PRS2,     2,  9,     15,    102,2,20050814,1159, 22.7462,-157.9998, 4720,     46,     45.5,  26.1304,  35.1387,2,-999.0000,5,    207.1,1, 26.1202,   -999.0,9,  -999.00,9,  -999.00,9,  -999.00,9,  -999.0,-999.000
     33KI172_1,  PRS2,     2,  9,     14,    101,2,20050814,1159, 22.7462,-157.9998, 4720,     46,     45.5,  26.1300,  35.1385,2,  35.1374,2,    207.1,1, 26.1198,   -999.0,9,  -999.00,9,  -999.00,9,  -999.00,9,  -999.0,-999.000
     33KI172_1,  PRS2,     2,  9,     13,     42,2,20050814,1159, 22.7462,-157.9998, 4720,     76,     75.3,  24.8320,  35.2538,2,-999.0000,5,    221.2,1, 24.8158,   -999.0,9,  -999.00,9,  -999.00,9,  -999.00,9,  -999.0,-999.000
     33KI172_1,  PRS2,     2,  9,     12,     12,2,20050814,1159, 22.7462,-157.9998, 4720,     76,     75.3,  24.8222,  35.2544,2,-999.0000,5,    221.7,1, 24.8059,   -999.0,9,  -999.00,9,  -999.00,9,  -999.00,9,  -999.0,-999.000
     33KI172_1,  PRS2,     2,  9,     11,     39,2,20050814,1159, 22.7462,-157.9998, 4720,     76,     75.3,  24.8175,  35.2544,2,  35.2562,2,    222.2,1, 24.8012,   -999.0,9,  -999.00,9,  -999.00,9,  -999.00,9,  -999.0,-999.000
     33KI172_1,  PRS2,     2,  9,     10,     33,2,20050814,1159, 22.7462,-157.9998, 4720,    100,    100.1,  22.7858,  35.2213,2,-999.0000,5,    220.2,1, 22.7655,   -999.0,9,  -999.00,9,  -999.00,9,  -999.00,9,  -999.0,-999.000
     33KI172_1,  PRS2,     2,  9,      9,      3,2,20050814,1159, 22.7462,-157.9998, 4720,    100,    100.1,  22.7864,  35.2213,2,-999.0000,5,    220.1,1, 22.7661,   -999.0,9,  -999.00,9,  -999.00,9,  -999.00,9,  -999.0,-999.000
     33KI172_1,  PRS2,     2,  9,      8,     29,2,20050814,1159, 22.7462,-157.9998, 4720,    100,    100.1,  22.7887,  35.2207,2,  35.2197,2,    220.0,1, 22.7684,   -999.0,9,  -999.00,9,  -999.00,9,  -999.00,9,  -999.0,-999.000
     33KI172_1,  PRS2,     2,  9,      5,     38,2,20050814,1159, 22.7462,-157.9998, 4720,    125,    125.1,  21.6955,  35.2077,2,  35.2095,2,    210.7,1, 21.6710,   -999.0,9,  -999.00,9,  -999.00,9,  -999.00,9,  -999.0,-999.000
     33KI172_1,  PRS2,     2,  9,      6,     13,2,20050814,1159, 22.7462,-157.9998, 4720,    125,    125.2,  21.6972,  35.2078,2,-999.0000,5,    210.8,1, 21.6727,   -999.0,9,  -999.00,9,  -999.00,9,  -999.00,9,  -999.0,-999.000
     33KI172_1,  PRS2,     2,  9,      7,     28,2,20050814,1159, 22.7462,-157.9998, 4720,    125,    125.3,  21.7030,  35.2077,2,-999.0000,5,    210.9,1, 21.6784,   -999.0,9,  -999.00,9,  -999.00,9,  -999.00,9,  -999.0,-999.000
     33KI172_1,  PRS2,     2,  9,      4,     36,2,20050814,1159, 22.7462,-157.9998, 4720,    150,    150.1,  20.6175,  35.1595,2,  35.1648,2,    208.5,1, 20.5891,   -999.0,9,  -999.00,9,  -999.00,9,  -999.00,9,  -999.0,-999.000
     33KI172_1,  PRS2,     2,  9,      3,     35,2,20050814,1159, 22.7462,-157.9998, 4720,    176,    175.8,  19.6799,  35.0823,2,  35.0817,2,    208.0,1, 19.6477,   -999.0,9,  -999.00,9,  -999.00,9,  -999.00,9,  -999.0,-999.000
     33KI172_1,  PRS2,     2,  9,      2,      7,2,20050814,1159, 22.7462,-157.9998, 4720,    491,    491.4,   7.1188,  34.0753,2,  34.0750,2,     99.6,1,  7.0721,   -999.0,9,  -999.00,9,  -999.00,9,  -999.00,9,  -999.0,-999.000
     33KI172_1,  PRS2,     2,  9,      1,     11,2,20050814,1159, 22.7462,-157.9998, 4720,   1021,   1021.1,   4.1883,  34.4911,2,  34.4919,2,     38.6,1,  4.1094,   -999.0,9,  -999.00,9,  -999.00,9,  -999.00,9,  -999.0,-999.000
     33KI172_1,  PRS2,     2, 10,     14,    101,2,20050814,1426, 22.7502,-157.9858, 4717,      5,      4.8,  26.2418,  35.0696,2,  35.0689,2,    205.3,1, 26.2407,   -999.0,9,  -999.00,9,  -999.00,9,  -999.00,9,  -999.0,-999.000
     33KI172_1,  PRS2,     2, 10,     13,     42,2,20050814,1426, 22.7502,-157.9858, 4717,      5,      4.8,  26.2426,  35.0697,2,-999.0000,5,    205.3,1, 26.2415,   -999.0,9,  -999.00,9,  -999.00,9,  -999.00,9,  -999.0,-999.000
     33KI172_1,  PRS2,     2, 10,     12,     12,2,20050814,1426, 22.7502,-157.9858, 4717,      5,      4.8,  26.2465,  35.0711,2,-999.0000,5,    205.2,1, 26.2454,   -999.0,9,  -999.00,9,  -999.00,9,  -999.00,9,  -999.0,-999.000
     33KI172_1,  PRS2,     2, 10,     11,     39,3,20050814,1426, 22.7502,-157.9858, 4717,      5,      4.8,  26.2485,  35.0717,2,-999.0000,5,    205.2,1, 26.2475,   -999.0,9,  -999.00,9,  -999.00,9,  -999.00,9,  -999.0,-999.000
     33KI172_1,  PRS2,     2, 10,     10,     33,2,20050814,1426, 22.7502,-157.9858, 4717,     25,     25.2,  26.2312,  35.1300,2,  35.1313,2,    205.9,1, 26.2255,   -999.0,9,  -999.00,9,  -999.00,9,  -999.00,9,  -999.0,-999.000
     33KI172_1,  PRS2,     2, 10,      9,      3,2,20050814,1426, 22.7502,-157.9858, 4717,     45,     45.0,  26.1006,  35.1353,2,  35.1352,2,    206.8,1, 26.0905,   -999.0,9,  -999.00,9,  -999.00,9,  -999.00,9,  -999.0,-999.000
     33KI172_1,  PRS2,     2, 10,      8,     29,2,20050814,1426, 22.7502,-157.9858, 4717,     75,     74.9,  23.6082,  35.2219,2,  35.2215,2,    227.9,1, 23.5926,   -999.0,9,  -999.00,9,  -999.00,9,  -999.00,9,  -999.0,-999.000
     33KI172_1,  PRS2,     2, 10,      7,     28,2,20050814,1426, 22.7502,-157.9858, 4717,    100,    100.0,  22.4028,  35.2224,2,  35.2205,2,    216.9,1, 22.3827,   -999.0,9,  -999.00,9,  -999.00,9,  -999.00,9,  -999.0,-999.000
     33KI172_1,  PRS2,     2, 10,      6,     13,2,20050814,1426, 22.7502,-157.9858, 4717,    125,    125.0,  21.5935,  35.2033,2,  35.2032,2,    210.7,1, 21.5691,   -999.0,9,  -999.00,9,  -999.00,9,  -999.00,9,  -999.0,-999.000
     33KI172_1,  PRS2,     2, 10,      5,     38,2,20050814,1426, 22.7502,-157.9858, 4717,    152,    151.5,  20.6747,  35.1705,2,  35.1738,2,    212.6,1, 20.6461,   -999.0,9,  -999.00,9,  -999.00,9,  -999.00,9,  -999.0,-999.000
     33KI172_1,  PRS2,     2, 10,      4,     36,2,20050814,1426, 22.7502,-157.9858, 4717,    175,    174.9,  19.4475,  35.0520,2,  35.0514,2,    206.2,1, 19.4158,   -999.0,9,  -999.00,9,  -999.00,9,  -999.00,9,  -999.0,-999.000
     33KI172_1,  PRS2,     2, 10,      3,     35,2,20050814,1426, 22.7502,-157.9858, 4717,    350,    350.3,  10.3189,  34.0927,2,  34.0927,2,    181.6,1, 10.2775,   -999.0,9,  -999.00,9,  -999.00,9,  -999.00,9,  -999.0,-999.000
     33KI172_1,  PRS2,     2, 10,      2,      7,2,20050814,1426, 22.7502,-157.9858, 4717,    875,    874.2,   4.7058,  34.4529,2,  34.4518,2,     28.6,1,  4.6358,   -999.0,9,  -999.00,9,  -999.00,9,  -999.00,9,  -999.0,-999.000
     33KI172_1,  PRS2,     2, 10,      1,     11,2,20050814,1426, 22.7502,-157.9858, 4717,   1020,   1019.8,   4.1697,  34.4933,2,  34.4983,2,     41.5,1,  4.0911,   -999.0,9,  -999.00,9,  -999.00,9,  -999.00,9,  -999.0,-999.000