BOTTLE,20090923WHPSIOMYS
EXPOCODE,SECT_ID,STNNBR,CASTNO,SAMPNO,BTLNBR,BTLNBR_FLAG_W,DATE,TIME,LATITUDE,LONGITUDE,DEPTH,CTDRAW,CTDPRS,CTDTMP,CTDSAL,CTDSAL_FLAG_W,SALNTY,SALNTY_FLAG_W,CTDOXY,CTDOXY_FLAG_W,THETA,OXYGEN,OXYGEN_FLAG_W,SILCAT,SILCAT_FLAG_W,NO2+NO3,NO2+NO3_FLAG_W,PHSPHT,PHSPHT_FLAG_W,REVPRS,REVTMP
,,,,,,,,,,,,,DBAR,ITS-90,PSS-78,,PSS-78,,UMOL/KG,,ITS-90,UMOL/KG,,UMOL/KG,,UMOL/KG,,UMOL/KG,,DBAR,DEG C
     33KI172_1,  PRS2,     2, 11,     17,     17,2,20050814,1839, 22.7230,-158.0875, 4744,      5,      4.6,  26.2273,  35.1201,2,  35.1205,2,    204.6,1, 26.2262,   -999.0,9,  -999.00,9,  -999.00,9,  -999.00,9,  -999.0,-999.000
     33KI172_1,  PRS2,     2, 11,     16,     34,2,20050814,1839, 22.7230,-158.0875, 4744,     25,     24.5,  26.2169,  35.1222,2,-999.0000,5,    205.8,1, 26.2114,   -999.0,9,  -999.00,9,  -999.00,9,  -999.00,9,  -999.0,-999.000
     33KI172_1,  PRS2,     2, 11,     15,    102,2,20050814,1839, 22.7230,-158.0875, 4744,     44,     44.5,  26.0954,  35.1371,2,  35.1352,2,    207.4,1, 26.0854,   -999.0,9,  -999.00,9,  -999.00,9,  -999.00,9,  -999.0,-999.000
     33KI172_1,  PRS2,     2, 11,     14,    101,2,20050814,1839, 22.7230,-158.0875, 4744,     60,     59.3,  26.0394,  35.1397,2,  35.1388,2,    208.2,1, 26.0261,   -999.0,9,  -999.00,9,  -999.00,9,  -999.00,9,  -999.0,-999.000
     33KI172_1,  PRS2,     2, 11,     13,     42,2,20050814,1839, 22.7230,-158.0875, 4744,     75,     74.7,  25.8076,  35.3262,2,  35.3309,2,    212.7,1, 25.7911,   -999.0,9,  -999.00,9,  -999.00,9,  -999.00,9,  -999.0,-999.000
     33KI172_1,  PRS2,     2, 11,     12,     12,2,20050814,1839, 22.7230,-158.0875, 4744,     85,     84.8,  24.5186,  35.2418,2,  35.2422,2,    224.2,1, 24.5004,   -999.0,9,  -999.00,9,  -999.00,9,  -999.00,9,  -999.0,-999.000
     33KI172_1,  PRS2,     2, 11,     11,     39,2,20050814,1839, 22.7230,-158.0875, 4744,    100,     99.8,  23.9303,  35.2338,2,  35.2323,2,    226.0,1, 23.9093,   -999.0,9,  -999.00,9,  -999.00,9,  -999.00,9,  -999.0,-999.000
     33KI172_1,  PRS2,     2, 11,     10,     33,2,20050814,1839, 22.7230,-158.0875, 4744,    115,    114.2,  22.7798,  35.2273,2,  35.2266,2,    220.1,1, 22.7567,   -999.0,9,  -999.00,9,  -999.00,9,  -999.00,9,  -999.0,-999.000
     33KI172_1,  PRS2,     2, 11,      9,      3,2,20050814,1839, 22.7230,-158.0875, 4744,    126,    125.5,  22.3793,  35.2230,2,  35.2201,2,    217.1,1, 22.3541,   -999.0,9,  -999.00,9,  -999.00,9,  -999.00,9,  -999.0,-999.000
     33KI172_1,  PRS2,     2, 11,      6,     13,2,20050814,1839, 22.7230,-158.0875, 4744,    131,    130.3,  22.1677,  35.2174,2,-999.0000,5,    215.1,1, 22.1418,   -999.0,9,  -999.00,9,  -999.00,9,  -999.00,9,  -999.0,-999.000
     33KI172_1,  PRS2,     2, 11,      8,     29,2,20050814,1839, 22.7230,-158.0875, 4744,    131,    130.4,  22.1678,  35.2173,2,  35.2152,2,    215.2,1, 22.1419,   -999.0,9,  -999.00,9,  -999.00,9,  -999.00,9,  -999.0,-999.000
     33KI172_1,  PRS2,     2, 11,      7,     28,2,20050814,1839, 22.7230,-158.0875, 4744,    131,    130.4,  22.1653,  35.2174,2,-999.0000,5,    215.1,1, 22.1393,   -999.0,9,  -999.00,9,  -999.00,9,  -999.00,9,  -999.0,-999.000
     33KI172_1,  PRS2,     2, 11,      5,     38,2,20050814,1839, 22.7230,-158.0875, 4744,    150,    149.4,  21.5690,  35.2090,2,-999.0000,5,    214.2,1, 21.5399,   -999.0,9,  -999.00,9,  -999.00,9,  -999.00,9,  -999.0,-999.000
     33KI172_1,  PRS2,     2, 11,      4,     36,2,20050814,1839, 22.7230,-158.0875, 4744,    175,    174.9,  20.3026,  35.1389,2,-999.0000,5,    212.4,1, 20.2699,   -999.0,9,  -999.00,9,  -999.00,9,  -999.00,9,  -999.0,-999.000
     33KI172_1,  PRS2,     2, 11,      3,     35,2,20050814,1839, 22.7230,-158.0875, 4744,    400,    399.5,   9.0534,  34.0873,2,-999.0000,5,    164.0,1,  9.0098,   -999.0,9,  -999.00,9,  -999.00,9,  -999.00,9,  -999.0,-999.000
     33KI172_1,  PRS2,     2, 11,      2,      7,2,20050814,1839, 22.7230,-158.0875, 4744,    451,    451.3,   7.8365,  34.0768,2,  34.0772,2,    123.7,1,  7.7913,   -999.0,9,  -999.00,9,  -999.00,9,  -999.00,9,  -999.0,-999.000
     33KI172_1,  PRS2,     2, 11,      1,     11,2,20050814,1839, 22.7230,-158.0875, 4744,   1021,   1020.4,   4.2204,  34.4988,2,  34.4983,2,     36.0,1,  4.1413,   -999.0,9,  -999.00,9,  -999.00,9,  -999.00,9,  -999.0,-999.000
     33KI172_1,  PRS2,     2, 12,     24,     23,2,20050814,2059, 22.7383,-158.0202, 4725,      5,      4.5,  26.2991,  35.0219,2,  35.0205,2,    187.2,1, 26.2981,   -999.0,9,  -999.00,9,  -999.00,9,  -999.00,9,  -999.0,-999.000
     33KI172_1,  PRS2,     2, 12,     23,     30,2,20050814,2059, 22.7383,-158.0202, 4725,      5,      4.5,  26.2982,  35.0219,2,-999.0000,5,    202.8,1, 26.2972,   -999.0,9,  -999.00,9,  -999.00,9,  -999.00,9,  -999.0,-999.000
     33KI172_1,  PRS2,     2, 12,     20,     41,3,20050814,2059, 22.7383,-158.0202, 4725,     26,     25.6,  26.2356,  35.0802,2,-999.0000,5,    206.6,1, 26.2298,   -999.0,9,  -999.00,9,  -999.00,9,  -999.00,9,  -999.0,-999.000
     33KI172_1,  PRS2,     2, 12,     22,     22,2,20050814,2059, 22.7383,-158.0202, 4725,     26,     25.8,  26.2325,  35.0892,2,-999.0000,5,    206.6,1, 26.2267,   -999.0,9,  -999.00,9,  -999.00,9,  -999.00,9,  -999.0,-999.000
     33KI172_1,  PRS2,     2, 12,     21,     21,2,20050814,2059, 22.7383,-158.0202, 4725,     26,     25.8,  26.2331,  35.0872,2,  35.0835,2,    206.6,1, 26.2273,   -999.0,9,  -999.00,9,  -999.00,9,  -999.00,9,  -999.0,-999.000
     33KI172_1,  PRS2,     2, 12,     17,     17,2,20050814,2059, 22.7383,-158.0202, 4725,     45,     44.7,  26.1735,  35.1187,2,-999.0000,5,    207.3,1, 26.1635,   -999.0,9,  -999.00,9,  -999.00,9,  -999.00,9,  -999.0,-999.000
     33KI172_1,  PRS2,     2, 12,     19,     19,2,20050814,2059, 22.7383,-158.0202, 4725,     45,     44.8,  26.1733,  35.1187,2,-999.0000,5,    207.4,1, 26.1633,   -999.0,9,  -999.00,9,  -999.00,9,  -999.00,9,  -999.0,-999.000
     33KI172_1,  PRS2,     2, 12,     18,     18,2,20050814,2059, 22.7383,-158.0202, 4725,     45,     44.9,  26.1735,  35.1186,2,  35.1217,2,    207.4,1, 26.1635,   -999.0,9,  -999.00,9,  -999.00,9,  -999.00,9,  -999.0,-999.000
     33KI172_1,  PRS2,     2, 12,     16,     34,2,20050814,2059, 22.7383,-158.0202, 4725,     60,     59.6,  26.0948,  35.1514,2,  35.1484,2,    207.4,1, 26.0815,   -999.0,9,  -999.00,9,  -999.00,9,  -999.00,9,  -999.0,-999.000
     33KI172_1,  PRS2,     2, 12,     15,    102,2,20050814,2059, 22.7383,-158.0202, 4725,     75,     74.9,  25.7374,  35.3008,2,-999.0000,5,    214.6,1, 25.7207,   -999.0,9,  -999.00,9,  -999.00,9,  -999.00,9,  -999.0,-999.000
     33KI172_1,  PRS2,     2, 12,     14,    101,2,20050814,2059, 22.7383,-158.0202, 4725,     75,     74.9,  25.7374,  35.3009,2,  35.3151,3,    214.9,1, 25.7208,   -999.0,9,  -999.00,9,  -999.00,9,  -999.00,9,  -999.0,-999.000
     33KI172_1,  PRS2,     2, 12,     13,     42,2,20050814,2059, 22.7383,-158.0202, 4725,     75,     74.9,  25.7374,  35.3010,2,-999.0000,5,    215.2,1, 25.7208,   -999.0,9,  -999.00,9,  -999.00,9,  -999.00,9,  -999.0,-999.000
     33KI172_1,  PRS2,     2, 12,     12,     12,2,20050814,2059, 22.7383,-158.0202, 4725,     86,     85.2,  24.2539,  35.2321,2,  35.2310,2,    227.8,1, 24.2358,   -999.0,9,  -999.00,9,  -999.00,9,  -999.00,9,  -999.0,-999.000
     33KI172_1,  PRS2,     2, 12,     11,     39,2,20050814,2059, 22.7383,-158.0202, 4725,    100,     99.5,  23.2498,  35.2204,2,-999.0000,5,    225.1,1, 23.2293,   -999.0,9,  -999.00,9,  -999.00,9,  -999.00,9,  -999.0,-999.000
     33KI172_1,  PRS2,     2, 12,     10,     33,2,20050814,2059, 22.7383,-158.0202, 4725,    100,     99.5,  23.2373,  35.2207,2,  35.2190,2,    224.8,1, 23.2168,   -999.0,9,  -999.00,9,  -999.00,9,  -999.00,9,  -999.0,-999.000
     33KI172_1,  PRS2,     2, 12,      9,      3,2,20050814,2059, 22.7383,-158.0202, 4725,    100,     99.5,  23.2203,  35.2215,2,-999.0000,5,    224.5,1, 23.1998,   -999.0,9,  -999.00,9,  -999.00,9,  -999.00,9,  -999.0,-999.000
     33KI172_1,  PRS2,     2, 12,      8,     29,2,20050814,2059, 22.7383,-158.0202, 4725,    115,    115.0,  22.5515,  35.2310,2,  35.2300,2,    220.7,1, 22.5283,   -999.0,9,  -999.00,9,  -999.00,9,  -999.00,9,  -999.0,-999.000
     33KI172_1,  PRS2,     2, 12,      7,     28,2,20050814,2059, 22.7383,-158.0202, 4725,    126,    125.0,  22.1444,  35.2336,2,  35.2318,2,    218.9,1, 22.1195,   -999.0,9,  -999.00,9,  -999.00,9,  -999.00,9,  -999.0,-999.000
     33KI172_1,  PRS2,     2, 12,      6,     13,2,20050814,2059, 22.7383,-158.0202, 4725,    125,    125.0,  22.1470,  35.2343,2,-999.0000,5,    218.8,1, 22.1221,   -999.0,9,  -999.00,9,  -999.00,9,  -999.00,9,  -999.0,-999.000
     33KI172_1,  PRS2,     2, 12,      5,     38,2,20050814,2059, 22.7383,-158.0202, 4725,    150,    149.5,  21.3744,  35.1974,2,  35.1947,2,    211.9,1, 21.3454,   -999.0,9,  -999.00,9,  -999.00,9,  -999.00,9,  -999.0,-999.000
     33KI172_1,  PRS2,     2, 12,      4,     36,2,20050814,2059, 22.7383,-158.0202, 4725,    175,    175.1,  20.2403,  35.1344,2,  35.1374,2,    209.2,1, 20.2076,   -999.0,9,  -999.00,9,  -999.00,9,  -999.00,9,  -999.0,-999.000
     33KI172_1,  PRS2,     2, 12,      3,     35,2,20050814,2059, 22.7383,-158.0202, 4725,    201,    200.3,  19.0915,  35.0081,2,  35.0155,2,    203.5,1, 19.0557,   -999.0,9,  -999.00,9,  -999.00,9,  -999.00,9,  -999.0,-999.000
     33KI172_1,  PRS2,     2, 12,      2,      7,2,20050814,2059, 22.7383,-158.0202, 4725,    475,    474.7,   7.4174,  34.0779,2,  34.0815,2,    106.7,1,  7.3712,   -999.0,9,  -999.00,9,  -999.00,9,  -999.00,9,  -999.0,-999.000
     33KI172_1,  PRS2,     2, 12,      1,     11,2,20050814,2059, 22.7383,-158.0202, 4725,   1021,   1020.8,   4.2487,  34.4968,2,  34.4983,2,     35.5,1,  4.1694,   -999.0,9,  -999.00,9,  -999.00,9,  -999.00,9,  -999.0,-999.000
     33KI172_1,  PRS2,     2, 13,     20,     41,2,20050815,0024, 22.7573,-157.9833, 4710,      5,      4.8,  26.4522,  34.9848,2,  34.9827,2,    146.4,1, 26.4511,   -999.0,9,  -999.00,9,  -999.00,9,  -999.00,9,  -999.0,-999.000
     33KI172_1,  PRS2,     2, 13,     19,     19,2,20050815,0024, 22.7573,-157.9833, 4710,      5,      4.8,  26.4403,  34.9854,2,-999.0000,5,    155.2,1, 26.4392,   -999.0,9,  -999.00,9,  -999.00,9,  -999.00,9,  -999.0,-999.000
     33KI172_1,  PRS2,     2, 13,     18,     18,2,20050815,0024, 22.7573,-157.9833, 4710,     24,     24.5,  26.2804,  35.0325,2,  35.0323,2,    206.0,1, 26.2749,   -999.0,9,  -999.00,9,  -999.00,9,  -999.00,9,  -999.0,-999.000
     33KI172_1,  PRS2,     2, 13,     17,     17,2,20050815,0024, 22.7573,-157.9833, 4710,     25,     24.5,  26.2787,  35.0380,2,-999.0000,5,    206.1,1, 26.2731,   -999.0,9,  -999.00,9,  -999.00,9,  -999.00,9,  -999.0,-999.000
     33KI172_1,  PRS2,     2, 13,     16,     34,2,20050815,0024, 22.7573,-157.9833, 4710,     45,     45.1,  26.1580,  35.1125,2,-999.0000,5,    207.4,1, 26.1478,   -999.0,9,  -999.00,9,  -999.00,9,  -999.00,9,  -999.0,-999.000
     33KI172_1,  PRS2,     2, 13,     15,    102,2,20050815,0024, 22.7573,-157.9833, 4710,     45,     45.1,  26.1579,  35.1125,2,  35.1104,2,    207.4,1, 26.1478,   -999.0,9,  -999.00,9,  -999.00,9,  -999.00,9,  -999.0,-999.000
     33KI172_1,  PRS2,     2, 13,     14,    101,2,20050815,0024, 22.7573,-157.9833, 4710,     45,     45.1,  26.1579,  35.1124,2,-999.0000,5,    207.3,1, 26.1478,   -999.0,9,  -999.00,9,  -999.00,9,  -999.00,9,  -999.0,-999.000
     33KI172_1,  PRS2,     2, 13,     13,     42,2,20050815,0024, 22.7573,-157.9833, 4710,     74,     74.3,  24.7878,  35.2603,2,  35.2649,2,    223.3,1, 24.7717,   -999.0,9,  -999.00,9,  -999.00,9,  -999.00,9,  -999.0,-999.000
     33KI172_1,  PRS2,     2, 13,     12,     12,2,20050815,0024, 22.7573,-157.9833, 4710,     74,     74.3,  24.7828,  35.2620,2,-999.0000,5,    223.8,1, 24.7668,   -999.0,9,  -999.00,9,  -999.00,9,  -999.00,9,  -999.0,-999.000
     33KI172_1,  PRS2,     2, 13,     11,     39,2,20050815,0024, 22.7573,-157.9833, 4710,    100,     99.9,  23.0422,  35.2271,2,  35.2270,2,    223.2,1, 23.0218,   -999.0,9,  -999.00,9,  -999.00,9,  -999.00,9,  -999.0,-999.000
     33KI172_1,  PRS2,     2, 13,      9,      3,2,20050815,0024, 22.7573,-157.9833, 4710,    125,    124.5,  21.9227,  35.2219,2,-999.0000,5,    217.3,1, 21.8982,   -999.0,9,  -999.00,9,  -999.00,9,  -999.00,9,  -999.0,-999.000
     33KI172_1,  PRS2,     2, 13,     10,     33,2,20050815,0024, 22.7573,-157.9833, 4710,    125,    124.6,  21.9208,  35.2216,2,  35.2207,2,    217.5,1, 21.8962,   -999.0,9,  -999.00,9,  -999.00,9,  -999.00,9,  -999.0,-999.000
     33KI172_1,  PRS2,     2, 13,      8,     29,2,20050815,0024, 22.7573,-157.9833, 4710,    151,    150.5,  21.1578,  35.1986,2,  35.1977,2,    214.4,1, 21.1289,   -999.0,9,  -999.00,9,  -999.00,9,  -999.00,9,  -999.0,-999.000
     33KI172_1,  PRS2,     2, 13,      7,     28,2,20050815,0024, 22.7573,-157.9833, 4710,    176,    175.5,  19.9316,  35.0996,2,  35.1051,2,    204.8,1, 19.8992,   -999.0,9,  -999.00,9,  -999.00,9,  -999.00,9,  -999.0,-999.000
     33KI172_1,  PRS2,     2, 13,      6,     13,2,20050815,0024, 22.7573,-157.9833, 4710,    199,    199.4,  18.5662,  34.9391,2,  34.9372,2,    204.9,1, 18.5312,   -999.0,9,  -999.00,9,  -999.00,9,  -999.00,9,  -999.0,-999.000
     33KI172_1,  PRS2,     2, 13,      5,     38,2,20050815,0024, 22.7573,-157.9833, 4710,    250,    250.2,  16.1650,  34.6024,2,  34.6066,2,    202.7,1, 16.1252,   -999.0,9,  -999.00,9,  -999.00,9,  -999.00,9,  -999.0,-999.000
     33KI172_1,  PRS2,     2, 13,      3,     35,2,20050815,0024, 22.7573,-157.9833, 4710,    350,    349.8,  10.3032,  34.0920,2,-999.0000,5,    180.0,1, 10.2620,   -999.0,9,  -999.00,9,  -999.00,9,  -999.00,9,  -999.0,-999.000
     33KI172_1,  PRS2,     2, 13,      4,     36,2,20050815,0024, 22.7573,-157.9833, 4710,    350,    350.0,  10.2964,  34.0922,2,  34.0909,2,    180.2,1, 10.2551,   -999.0,9,  -999.00,9,  -999.00,9,  -999.00,9,  -999.0,-999.000
     33KI172_1,  PRS2,     2, 13,      2,      7,2,20050815,0024, 22.7573,-157.9833, 4710,    450,    450.4,   8.3391,  34.0779,2,  34.0780,2,    143.6,1,  8.2923,   -999.0,9,  -999.00,9,  -999.00,9,  -999.00,9,  -999.0,-999.000
     33KI172_1,  PRS2,     2, 13,      1,     11,2,20050815,0024, 22.7573,-157.9833, 4710,   1021,   1020.7,   4.2609,  34.4955,2,  34.4962,2,     36.2,1,  4.1814,   -999.0,9,  -999.00,9,  -999.00,9,  -999.00,9,  -999.0,-999.000
     33KI172_1,  PRS2,     2, 14,     21,     21,2,20050815,0303, 22.7702,-157.9952, 4710,      4,      3.8,  26.4059,  34.9924,2,  34.9904,2,    205.5,1, 26.4051,   -999.0,9,  -999.00,9,  -999.00,9,  -999.00,9,  -999.0,-999.000
     33KI172_1,  PRS2,     2, 14,     20,     41,3,20050815,0303, 22.7702,-157.9952, 4710,     23,     23.3,  26.2627,  35.0772,2,  35.0793,2,    206.2,1, 26.2575,   -999.0,9,  -999.00,9,  -999.00,9,  -999.00,9,  -999.0,-999.000
     33KI172_1,  PRS2,     2, 14,     19,     19,2,20050815,0303, 22.7702,-157.9952, 4710,     45,     44.3,  26.1649,  35.1359,2,  35.1349,2,    207.5,1, 26.1550,   -999.0,9,  -999.00,9,  -999.00,9,  -999.00,9,  -999.0,-999.000
     33KI172_1,  PRS2,     2, 14,     18,     18,2,20050815,0303, 22.7702,-157.9952, 4710,     76,     75.4,  24.2219,  35.2433,2,  35.2440,2,    227.6,1, 24.2059,   -999.0,9,  -999.00,9,  -999.00,9,  -999.00,9,  -999.0,-999.000
     33KI172_1,  PRS2,     2, 14,     17,     17,2,20050815,0303, 22.7702,-157.9952, 4710,     99,     99.1,  22.6352,  35.2265,2,  35.2270,2,    219.8,1, 22.6151,   -999.0,9,  -999.00,9,  -999.00,9,  -999.00,9,  -999.0,-999.000
     33KI172_1,  PRS2,     2, 14,     16,     34,2,20050815,0303, 22.7702,-157.9952, 4710,    125,    124.5,  21.4233,  35.1973,2,  35.1961,2,    210.5,1, 21.3991,   -999.0,9,  -999.00,9,  -999.00,9,  -999.00,9,  -999.0,-999.000
     33KI172_1,  PRS2,     2, 14,     15,    102,2,20050815,0303, 22.7702,-157.9952, 4710,    125,    124.5,  21.4166,  35.1978,2,  35.1955,2,    210.5,1, 21.3924,   -999.0,9,  -999.00,9,  -999.00,9,  -999.00,9,  -999.0,-999.000
     33KI172_1,  PRS2,     2, 14,     14,    101,2,20050815,0303, 22.7702,-157.9952, 4710,    149,    149.3,  20.3588,  35.1412,2,  35.1413,2,    206.4,1, 20.3308,   -999.0,9,  -999.00,9,  -999.00,9,  -999.00,9,  -999.0,-999.000
     33KI172_1,  PRS2,     2, 14,     13,     42,2,20050815,0303, 22.7702,-157.9952, 4710,    174,    173.8,  19.3691,  35.0487,2,  35.0461,2,    209.4,1, 19.3377,   -999.0,9,  -999.00,9,  -999.00,9,  -999.00,9,  -999.0,-999.000
     33KI172_1,  PRS2,     2, 14,     12,     12,2,20050815,0303, 22.7702,-157.9952, 4710,    200,    199.5,  18.2054,  34.9323,2,  34.9298,2,    208.3,1, 18.1709,   -999.0,9,  -999.00,9,  -999.00,9,  -999.00,9,  -999.0,-999.000
     33KI172_1,  PRS2,     2, 14,     11,     39,2,20050815,0303, 22.7702,-157.9952, 4710,    239,    239.1,  16.0705,  34.5940,2,  34.5651,3,    200.1,1, 16.0326,   -999.0,9,  -999.00,9,  -999.00,9,  -999.00,9,  -999.0,-999.000
     33KI172_1,  PRS2,     2, 14,     10,     33,2,20050815,0303, 22.7702,-157.9952, 4710,    250,    249.4,  14.9425,  34.4518,2,  34.4481,2,    203.4,1, 14.9049,   -999.0,9,  -999.00,9,  -999.00,9,  -999.00,9,  -999.0,-999.000
     33KI172_1,  PRS2,     2, 14,      9,      3,2,20050815,0303, 22.7702,-157.9952, 4710,    260,    259.4,  14.6768,  34.4127,2,  34.4041,2,    203.8,1, 14.6382,   -999.0,9,  -999.00,9,  -999.00,9,  -999.00,9,  -999.0,-999.000
     33KI172_1,  PRS2,     2, 14,      8,     29,2,20050815,0303, 22.7702,-157.9952, 4710,    280,    280.1,  12.9999,  34.2105,2,  34.2093,2,    197.0,1, 12.9616,   -999.0,9,  -999.00,9,  -999.00,9,  -999.00,9,  -999.0,-999.000
     33KI172_1,  PRS2,     2, 14,      7,     28,2,20050815,0303, 22.7702,-157.9952, 4710,    301,    299.9,  12.2612,  34.1410,2,  34.1395,2,    194.7,1, 12.2217,   -999.0,9,  -999.00,9,  -999.00,9,  -999.00,9,  -999.0,-999.000
     33KI172_1,  PRS2,     2, 14,      6,     13,2,20050815,0303, 22.7702,-157.9952, 4710,    319,    319.5,  11.5246,  34.1100,2,  34.1074,2,    193.6,1, 11.4842,   -999.0,9,  -999.00,9,  -999.00,9,  -999.00,9,  -999.0,-999.000
     33KI172_1,  PRS2,     2, 14,      5,     38,2,20050815,0303, 22.7702,-157.9952, 4710,    340,    339.7,  10.6012,  34.0903,2,  34.0889,2,    186.2,1, 10.5605,   -999.0,9,  -999.00,9,  -999.00,9,  -999.00,9,  -999.0,-999.000
     33KI172_1,  PRS2,     2, 14,      4,     36,2,20050815,0303, 22.7702,-157.9952, 4710,    349,    349.3,  10.2673,  34.0911,2,  34.0940,2,    180.0,1, 10.2262,   -999.0,9,  -999.00,9,  -999.00,9,  -999.00,9,  -999.0,-999.000
     33KI172_1,  PRS2,     2, 14,      3,     35,2,20050815,0303, 22.7702,-157.9952, 4710,    349,    349.3,  10.2512,  34.0934,2,  34.0931,2,    179.2,1, 10.2102,   -999.0,9,  -999.00,9,  -999.00,9,  -999.00,9,  -999.0,-999.000
     33KI172_1,  PRS2,     2, 14,      2,      7,2,20050815,0303, 22.7702,-157.9952, 4710,    450,    450.2,   8.0824,  34.0811,2,  34.0833,2,    131.9,1,  8.0365,   -999.0,9,  -999.00,9,  -999.00,9,  -999.00,9,  -999.0,-999.000
     33KI172_1,  PRS2,     2, 14,      1,     11,2,20050815,0303, 22.7702,-157.9952, 4710,   1021,   1020.9,   4.1975,  34.5004,2,  34.4995,2,     36.6,1,  4.1186,   -999.0,9,  -999.00,9,  -999.00,9,  -999.00,9,  -999.0,-999.000