BOTTLE,20090923WHPSIOMYS
EXPOCODE,SECT_ID,STNNBR,CASTNO,SAMPNO,BTLNBR,BTLNBR_FLAG_W,DATE,TIME,LATITUDE,LONGITUDE,DEPTH,CTDRAW,CTDPRS,CTDTMP,CTDSAL,CTDSAL_FLAG_W,SALNTY,SALNTY_FLAG_W,CTDOXY,CTDOXY_FLAG_W,THETA,OXYGEN,OXYGEN_FLAG_W,SILCAT,SILCAT_FLAG_W,NO2+NO3,NO2+NO3_FLAG_W,PHSPHT,PHSPHT_FLAG_W,REVPRS,REVTMP
,,,,,,,,,,,,,DBAR,ITS-90,PSS-78,,PSS-78,,UMOL/KG,,ITS-90,UMOL/KG,,UMOL/KG,,UMOL/KG,,UMOL/KG,,DBAR,DEG C
     33KI172_1,  PRS2,     2, 15,     17,     17,2,20050815,0559, 22.7498,-157.9985, 4720,      5,      4.6,  26.3445,  34.9801,2,  34.9785,2,    205.1,2, 26.3435,   -999.0,5,  -999.00,9,  -999.00,9,  -999.00,9,  -999.0,-999.000
     33KI172_1,  PRS2,     2, 15,     16,     34,2,20050815,0559, 22.7498,-157.9985, 4720,      5,      4.6,  26.3453,  34.9801,2,  34.9787,2,    205.2,2, 26.3443,    206.3,2,  -999.00,9,  -999.00,9,  -999.00,9,  -999.0,-999.000
     33KI172_1,  PRS2,     2, 15,     15,    102,2,20050815,0559, 22.7498,-157.9985, 4720,     26,     25.5,  26.3476,  34.9794,2,  34.9784,2,    205.2,2, 26.3418,   -999.0,5,  -999.00,9,  -999.00,9,  -999.00,9,  -999.0,-999.000
     33KI172_1,  PRS2,     2, 15,     14,    101,2,20050815,0559, 22.7498,-157.9985, 4720,     44,     43.6,  26.1920,  35.1215,2,  35.1224,2,    207.3,2, 26.1822,   -999.0,5,  -999.00,9,  -999.00,9,  -999.00,9,  -999.0,-999.000
     33KI172_1,  PRS2,     2, 15,     13,     42,2,20050815,0559, 22.7498,-157.9985, 4720,     74,     74.3,  25.7874,  35.3371,2,  35.3340,2,    216.4,2, 25.7709,   -999.0,5,  -999.00,9,  -999.00,9,  -999.00,9,  -999.0,-999.000
     33KI172_1,  PRS2,     2, 15,     12,     12,2,20050815,0559, 22.7498,-157.9985, 4720,     90,     89.7,  23.9034,  35.2327,2,  35.2304,2,    226.8,2, 23.8845,    226.3,2,  -999.00,9,  -999.00,9,  -999.00,9,  -999.0,-999.000
     33KI172_1,  PRS2,     2, 15,     11,     39,2,20050815,0559, 22.7498,-157.9985, 4720,     99,     99.6,  23.2311,  35.2222,2,  35.2203,2,    224.5,2, 23.2106,   -999.0,5,  -999.00,9,  -999.00,9,  -999.00,9,  -999.0,-999.000
     33KI172_1,  PRS2,     2, 15,     10,     33,2,20050815,0559, 22.7498,-157.9985, 4720,    125,    124.7,  22.2813,  35.2222,2,  35.2197,2,    219.2,2, 22.2563,   -999.0,5,  -999.00,9,  -999.00,9,  -999.00,9,  -999.0,-999.000
     33KI172_1,  PRS2,     2, 15,      9,      3,2,20050815,0559, 22.7498,-157.9985, 4720,    150,    149.4,  20.7815,  35.1757,2,  35.1735,2,    211.4,2, 20.7530,   -999.0,5,  -999.00,9,  -999.00,9,  -999.00,9,  -999.0,-999.000
     33KI172_1,  PRS2,     2, 15,      8,     29,2,20050815,0559, 22.7498,-157.9985, 4720,    175,    175.4,  19.7484,  35.0907,2,  35.0909,2,    195.1,2, 19.7162,   -999.0,5,  -999.00,9,  -999.00,9,  -999.00,9,  -999.0,-999.000
     33KI172_1,  PRS2,     2, 15,      7,     28,2,20050815,0559, 22.7498,-157.9985, 4720,    503,    503.2,   6.9985,  34.0767,2,  34.0750,2,     96.2,2,  6.9510,     96.0,2,  -999.00,9,  -999.00,9,  -999.00,9,  -999.0,-999.000
     33KI172_1,  PRS2,     2, 15,      6,     13,2,20050815,0559, 22.7498,-157.9985, 4720,    803,    803.4,   4.8555,  34.3951,2,  34.3937,2,     24.4,2,  4.7908,     29.3,2,  -999.00,9,  -999.00,9,  -999.00,9,  -999.0,-999.000
     33KI172_1,  PRS2,     2, 15,      5,     38,2,20050815,0559, 22.7498,-157.9985, 4720,   2005,   2004.7,   2.2786,  34.6122,2,  34.6107,2,     85.1,2,  2.1376,     85.4,2,  -999.00,9,  -999.00,9,  -999.00,9,  -999.0,-999.000
     33KI172_1,  PRS2,     2, 15,      4,     36,2,20050815,0559, 22.7498,-157.9985, 4720,   2998,   2998.2,   1.5635,  34.6683,2,  34.6671,2,    123.8,2,  1.3455,    123.4,2,  -999.00,9,  -999.00,9,  -999.00,9,  -999.0,-999.000
     33KI172_1,  PRS2,     2, 15,      3,     35,2,20050815,0559, 22.7498,-157.9985, 4720,   3995,   3995.7,   1.4596,  34.6863,2,  34.6848,2,    147.6,2,  1.1423,    147.6,2,  -999.00,9,  -999.00,9,  -999.00,9,  -999.0,-999.000
     33KI172_1,  PRS2,     2, 15,      2,      7,2,20050815,0559, 22.7498,-157.9985, 4720,   4598,   4598.2,   1.4954,  34.6894,2,  34.6885,2,    152.5,2,  1.1092,   -999.0,5,  -999.00,9,  -999.00,9,  -999.00,9,  -999.0,-999.000
     33KI172_1,  PRS2,     2, 15,      1,     11,2,20050815,0559, 22.7498,-157.9985, 4720,   4804,   4804.5,   1.5154,  34.6898,2,  34.6893,2,    153.4,2,  1.1042,    153.3,2,  -999.00,9,  -999.00,9,  -999.00,9,  -999.0,-999.000
     33KI172_1,  PRS2,    51,  1,     10,     33,2,20050816,0240, 22.7647,-158.1292, 4720,      5,      4.7,  26.4028,  35.0000,2,  34.9996,2,    205.4,2, 26.4018,    205.7,2,  -999.00,9,  -999.00,9,  -999.00,9,  -999.0,-999.000
     33KI172_1,  PRS2,    51,  1,      9,      3,2,20050816,0240, 22.7647,-158.1292, 4720,     10,      9.9,  26.4024,  35.0000,2,  35.0014,2,    205.4,2, 26.4002,   -999.0,5,  -999.00,9,  -999.00,9,  -999.00,9,  -999.0,-999.000
     33KI172_1,  PRS2,    51,  1,      8,     29,2,20050816,0240, 22.7647,-158.1292, 4720,     45,     44.9,  26.1611,  35.1374,2,  35.1360,2,    207.3,2, 26.1510,    208.4,2,  -999.00,9,  -999.00,9,  -999.00,9,  -999.0,-999.000
     33KI172_1,  PRS2,    51,  1,      7,     28,2,20050816,0240, 22.7647,-158.1292, 4720,     49,     48.8,  26.1437,  35.1387,2,  35.1368,2,    207.4,2, 26.1327,   -999.0,5,  -999.00,9,  -999.00,9,  -999.00,9,  -999.0,-999.000
     33KI172_1,  PRS2,    51,  1,      6,     13,2,20050816,0240, 22.7647,-158.1292, 4720,     75,     74.6,  25.3563,  35.2590,2,  35.2560,2,    214.9,2, 25.3400,   -999.0,5,  -999.00,9,  -999.00,9,  -999.00,9,  -999.0,-999.000
     33KI172_1,  PRS2,    51,  1,      5,     38,2,20050816,0240, 22.7647,-158.1292, 4720,    100,    100.2,  22.6286,  35.2256,2,  35.2235,2,    222.4,2, 22.6083,    220.7,2,  -999.00,9,  -999.00,9,  -999.00,9,  -999.0,-999.000
     33KI172_1,  PRS2,    51,  1,      4,     36,2,20050816,0240, 22.7647,-158.1292, 4720,    125,    125.2,  21.6518,  35.2151,2,-999.0000,5,    215.3,2, 21.6273,    215.8,2,  -999.00,9,  -999.00,9,  -999.00,9,  -999.0,-999.000
     33KI172_1,  PRS2,    51,  1,      3,     35,2,20050816,0240, 22.7647,-158.1292, 4720,    140,    139.3,  21.0095,  35.1770,2,  35.1754,2,    207.1,2, 20.9828,    208.7,2,  -999.00,9,  -999.00,9,  -999.00,9,  -999.0,-999.000
     33KI172_1,  PRS2,    51,  1,      2,      7,2,20050816,0240, 22.7647,-158.1292, 4720,    180,    179.7,  19.6467,  35.0807,2,  35.0730,2,    207.3,2, 19.6139,    208.1,2,  -999.00,9,  -999.00,9,  -999.00,9,  -999.0,-999.000
     33KI172_1,  PRS2,    51,  1,      1,     11,2,20050816,0240, 22.7647,-158.1292, 4720,    251,    250.3,  15.3877,  34.5044,2,  34.5093,2,    200.9,2, 15.3492,    201.8,2,  -999.00,9,  -999.00,9,  -999.00,9,  -999.0,-999.000
     33KI172_1,  PRS2,    60,  1,     24,     23,2,20050815,1830, 22.6912,-158.5010, 4834,      5,      4.7,  26.1088,  35.1410,2,-999.0000,5,    206.1,2, 26.1078,   -999.0,5,  -999.00,9,  -999.00,9,  -999.00,9,  -999.0,-999.000
     33KI172_1,  PRS2,    60,  1,     23,     30,2,20050815,1830, 22.6912,-158.5010, 4834,      5,      4.7,  26.1092,  35.1410,2,  35.1398,2,    206.2,2, 26.1081,   -999.0,5,  -999.00,9,  -999.00,9,  -999.00,9,  -999.0,-999.000
     33KI172_1,  PRS2,    60,  1,     22,     22,2,20050815,1830, 22.6912,-158.5010, 4834,      5,      4.7,  26.1087,  35.1410,2,-999.0000,5,    206.2,2, 26.1076,    206.7,2,  -999.00,9,  -999.00,9,  -999.00,9,  -999.0,-999.000
     33KI172_1,  PRS2,    60,  1,     21,     21,2,20050815,1830, 22.6912,-158.5010, 4834,     45,     44.6,  26.0149,  35.1331,2,-999.0000,5,    206.6,2, 26.0050,   -999.0,5,  -999.00,9,  -999.00,9,  -999.00,9,  -999.0,-999.000
     33KI172_1,  PRS2,    60,  1,     20,     41,2,20050815,1830, 22.6912,-158.5010, 4834,     45,     44.6,  26.0186,  35.1332,2,-999.0000,5,    206.7,2, 26.0086,   -999.0,5,  -999.00,9,  -999.00,9,  -999.00,9,  -999.0,-999.000
     33KI172_1,  PRS2,    60,  1,     19,     19,2,20050815,1830, 22.6912,-158.5010, 4834,     45,     44.6,  26.0136,  35.1336,2,-999.0000,5,    206.8,2, 26.0037,    207.5,2,  -999.00,9,  -999.00,9,  -999.00,9,  -999.0,-999.000
     33KI172_1,  PRS2,    60,  1,     18,     18,2,20050815,1830, 22.6912,-158.5010, 4834,     75,     74.8,  23.9713,  35.1073,2,-999.0000,5,    216.9,2, 23.9556,   -999.0,5,  -999.00,9,  -999.00,9,  -999.00,9,  -999.0,-999.000
     33KI172_1,  PRS2,    60,  1,     17,     17,2,20050815,1830, 22.6912,-158.5010, 4834,     75,     74.8,  23.9730,  35.1076,2,-999.0000,5,    216.8,2, 23.9573,   -999.0,5,  -999.00,9,  -999.00,9,  -999.00,9,  -999.0,-999.000
     33KI172_1,  PRS2,    60,  1,     16,     34,2,20050815,1830, 22.6912,-158.5010, 4834,     75,     74.8,  23.9710,  35.1075,2,-999.0000,5,    216.6,2, 23.9553,    216.3,2,  -999.00,9,  -999.00,9,  -999.00,9,  -999.0,-999.000
     33KI172_1,  PRS2,    60,  1,     14,    101,2,20050815,1830, 22.6912,-158.5010, 4834,    110,    110.1,  23.1245,  35.1821,2,-999.0000,5,    206.9,2, 23.1019,   -999.0,5,  -999.00,9,  -999.00,9,  -999.00,9,  -999.0,-999.000
     33KI172_1,  PRS2,    60,  1,     13,     42,2,20050815,1830, 22.6912,-158.5010, 4834,    110,    110.1,  23.1243,  35.1817,2,-999.0000,5,    206.9,2, 23.1017,   -999.0,5,  -999.00,9,  -999.00,9,  -999.00,9,  -999.0,-999.000
     33KI172_1,  PRS2,    60,  1,     12,     12,2,20050815,1830, 22.6912,-158.5010, 4834,    110,    110.1,  23.1225,  35.1821,2,-999.0000,5,    207.0,2, 23.1000,   -999.0,5,  -999.00,9,  -999.00,9,  -999.00,9,  -999.0,-999.000
     33KI172_1,  PRS2,    60,  1,     11,     39,2,20050815,1830, 22.6912,-158.5010, 4834,    110,    110.1,  23.1203,  35.1821,2,-999.0000,5,    206.9,2, 23.0977,   -999.0,5,  -999.00,9,  -999.00,9,  -999.00,9,  -999.0,-999.000
     33KI172_1,  PRS2,    60,  1,     10,     33,2,20050815,1830, 22.6912,-158.5010, 4834,    110,    110.1,  23.1054,  35.1823,2,-999.0000,5,    206.7,2, 23.0828,    208.0,2,  -999.00,9,  -999.00,9,  -999.00,9,  -999.0,-999.000
     33KI172_1,  PRS2,    60,  1,     15,    102,2,20050815,1830, 22.6912,-158.5010, 4834,    110,    110.2,  23.1252,  35.1819,2,  35.1805,2,    206.8,2, 23.1026,   -999.0,5,  -999.00,9,  -999.00,9,  -999.00,9,  -999.0,-999.000
     33KI172_1,  PRS2,    60,  1,      9,      3,2,20050815,1830, 22.6912,-158.5010, 4834,    130,    130.1,  22.2568,  35.2088,2,-999.0000,5,    198.5,2, 22.2308,   -999.0,5,  -999.00,9,  -999.00,9,  -999.00,9,  -999.0,-999.000
     33KI172_1,  PRS2,    60,  1,      8,     29,2,20050815,1830, 22.6912,-158.5010, 4834,    131,    130.1,  22.2441,  35.2086,2,  35.2063,2,    198.1,2, 22.2181,   -999.0,5,  -999.00,9,  -999.00,9,  -999.00,9,  -999.0,-999.000
     33KI172_1,  PRS2,    60,  1,      7,     28,2,20050815,1830, 22.6912,-158.5010, 4834,    130,    130.2,  22.2282,  35.2088,2,-999.0000,5,    197.6,2, 22.2023,    199.2,2,  -999.00,9,  -999.00,9,  -999.00,9,  -999.0,-999.000
     33KI172_1,  PRS2,    60,  1,      6,     13,2,20050815,1830, 22.6912,-158.5010, 4834,    190,    189.9,  19.4591,  35.0362,2,-999.0000,5,    204.1,2, 19.4247,   -999.0,5,  -999.00,9,  -999.00,9,  -999.00,9,  -999.0,-999.000
     33KI172_1,  PRS2,    60,  1,      5,     38,2,20050815,1830, 22.6912,-158.5010, 4834,    190,    189.9,  19.4613,  35.0364,2,-999.0000,5,    204.0,2, 19.4269,   -999.0,5,  -999.00,9,  -999.00,9,  -999.00,9,  -999.0,-999.000
     33KI172_1,  PRS2,    60,  1,      4,     36,2,20050815,1830, 22.6912,-158.5010, 4834,    190,    189.9,  19.4611,  35.0360,2,-999.0000,5,    203.9,2, 19.4267,    202.2,2,  -999.00,9,  -999.00,9,  -999.00,9,  -999.0,-999.000
     33KI172_1,  PRS2,    60,  1,      2,      7,2,20050815,1830, 22.6912,-158.5010, 4834,    210,    209.5,  18.8907,  35.0035,2,-999.0000,5,    206.4,2, 18.8535,    202.7,2,  -999.00,9,  -999.00,9,  -999.00,9,  -999.0,-999.000
     33KI172_1,  PRS2,    60,  1,      3,     35,2,20050815,1830, 22.6912,-158.5010, 4834,    210,    209.6,  18.8855,  35.0017,2,-999.0000,5,    206.1,2, 18.8482,   -999.0,5,  -999.00,9,  -999.00,9,  -999.00,9,  -999.0,-999.000
     33KI172_1,  PRS2,    60,  1,      1,     11,2,20050815,1830, 22.6912,-158.5010, 4834,    253,    253.5,  16.0741,  34.6210,2,  34.6234,2,    205.0,2, 16.0339,    205.7,2,  -999.00,9,  -999.00,9,  -999.00,9,  -999.0,-999.000
     33KI172_1,  PRS2,    61,  1,     24,     23,2,20050815,2229, 22.7212,-158.3047, 4812,      5,      4.6,  26.2792,  35.1558,2,  35.1553,2,    205.6,2, 26.2782,    206.3,2,  -999.00,9,  -999.00,9,  -999.00,9,  -999.0,-999.000
     33KI172_1,  PRS2,    61,  1,     23,     30,2,20050815,2229, 22.7212,-158.3047, 4812,     29,     29.2,  26.1442,  35.1511,2,  35.1504,2,    206.2,2, 26.1376,   -999.0,5,  -999.00,9,  -999.00,9,  -999.00,9,  -999.0,-999.000
     33KI172_1,  PRS2,    61,  1,     22,     22,2,20050815,2229, 22.7212,-158.3047, 4812,     29,     29.2,  26.1442,  35.1511,2,-999.0000,5,    206.2,2, 26.1377,   -999.0,5,  -999.00,9,  -999.00,9,  -999.00,9,  -999.0,-999.000
     33KI172_1,  PRS2,    61,  1,     21,     21,2,20050815,2229, 22.7212,-158.3047, 4812,     30,     29.2,  26.1441,  35.1512,2,-999.0000,5,    206.1,2, 26.1376,   -999.0,5,  -999.00,9,  -999.00,9,  -999.00,9,  -999.0,-999.000
     33KI172_1,  PRS2,    61,  1,     20,     41,2,20050815,2229, 22.7212,-158.3047, 4812,     29,     29.2,  26.1435,  35.1511,2,-999.0000,5,    206.1,2, 26.1369,   -999.0,5,  -999.00,9,  -999.00,9,  -999.00,9,  -999.0,-999.000
     33KI172_1,  PRS2,    61,  1,     19,     19,2,20050815,2229, 22.7212,-158.3047, 4812,     29,     29.2,  26.1436,  35.1511,2,-999.0000,5,    206.1,2, 26.1370,   -999.0,5,  -999.00,9,  -999.00,9,  -999.00,9,  -999.0,-999.000
     33KI172_1,  PRS2,    61,  1,     18,     18,2,20050815,2229, 22.7212,-158.3047, 4812,     30,     29.2,  26.1438,  35.1511,2,-999.0000,5,    206.1,2, 26.1373,   -999.0,5,  -999.00,9,  -999.00,9,  -999.00,9,  -999.0,-999.000
     33KI172_1,  PRS2,    61,  1,     17,     17,2,20050815,2229, 22.7212,-158.3047, 4812,     30,     29.2,  26.1438,  35.1511,2,-999.0000,5,    206.1,2, 26.1373,   -999.0,5,  -999.00,9,  -999.00,9,  -999.00,9,  -999.0,-999.000
     33KI172_1,  PRS2,    61,  1,     16,     34,2,20050815,2229, 22.7212,-158.3047, 4812,     29,     29.2,  26.1438,  35.1511,2,-999.0000,5,    206.0,2, 26.1373,   -999.0,5,  -999.00,9,  -999.00,9,  -999.00,9,  -999.0,-999.000
     33KI172_1,  PRS2,    61,  1,     15,    102,2,20050815,2229, 22.7212,-158.3047, 4812,     30,     29.2,  26.1440,  35.1511,2,-999.0000,5,    205.9,2, 26.1374,   -999.0,5,  -999.00,9,  -999.00,9,  -999.00,9,  -999.0,-999.000
     33KI172_1,  PRS2,    61,  1,     14,    101,2,20050815,2229, 22.7212,-158.3047, 4812,     29,     29.2,  26.1441,  35.1512,2,-999.0000,5,    205.9,2, 26.1376,   -999.0,5,  -999.00,9,  -999.00,9,  -999.00,9,  -999.0,-999.000
     33KI172_1,  PRS2,    61,  1,     13,     42,2,20050815,2229, 22.7212,-158.3047, 4812,     29,     29.2,  26.1443,  35.1512,2,-999.0000,5,    205.9,2, 26.1378,   -999.0,5,  -999.00,9,  -999.00,9,  -999.00,9,  -999.0,-999.000
     33KI172_1,  PRS2,    61,  1,     12,     12,2,20050815,2229, 22.7212,-158.3047, 4812,     29,     29.2,  26.1444,  35.1512,2,-999.0000,5,    205.9,2, 26.1379,   -999.0,5,  -999.00,9,  -999.00,9,  -999.00,9,  -999.0,-999.000
     33KI172_1,  PRS2,    61,  1,     11,     39,2,20050815,2229, 22.7212,-158.3047, 4812,     29,     29.2,  26.1443,  35.1511,2,-999.0000,5,    206.0,2, 26.1378,   -999.0,5,  -999.00,9,  -999.00,9,  -999.00,9,  -999.0,-999.000
     33KI172_1,  PRS2,    61,  1,      8,     29,2,20050815,2229, 22.7212,-158.3047, 4812,     30,     29.2,  26.1439,  35.1511,2,-999.0000,5,    206.1,2, 26.1374,    207.0,2,  -999.00,9,  -999.00,9,  -999.00,9,  -999.0,-999.000
     33KI172_1,  PRS2,    61,  1,     10,     33,2,20050815,2229, 22.7212,-158.3047, 4812,     29,     29.3,  26.1443,  35.1511,2,-999.0000,5,    206.0,2, 26.1378,   -999.0,5,  -999.00,9,  -999.00,9,  -999.00,9,  -999.0,-999.000
     33KI172_1,  PRS2,    61,  1,      9,      3,2,20050815,2229, 22.7212,-158.3047, 4812,     29,     29.3,  26.1441,  35.1512,2,-999.0000,5,    206.1,2, 26.1375,   -999.0,5,  -999.00,9,  -999.00,9,  -999.00,9,  -999.0,-999.000
     33KI172_1,  PRS2,    61,  1,      7,     28,2,20050815,2229, 22.7212,-158.3047, 4812,     44,     44.2,  26.1238,  35.1498,2,  35.1508,2,    206.3,2, 26.1139,    207.4,2,  -999.00,9,  -999.00,9,  -999.00,9,  -999.0,-999.000
     33KI172_1,  PRS2,    61,  1,      6,     13,2,20050815,2229, 22.7212,-158.3047, 4812,     79,     79.0,  23.9138,  35.0450,2,  35.0445,2,    215.5,2, 23.8972,    214.4,2,  -999.00,9,  -999.00,9,  -999.00,9,  -999.0,-999.000
     33KI172_1,  PRS2,    61,  1,      5,     38,2,20050815,2229, 22.7212,-158.3047, 4812,     89,     89.2,  23.5182,  35.1127,2,  35.1183,2,    205.9,2, 23.4997,    206.8,2,  -999.00,9,  -999.00,9,  -999.00,9,  -999.0,-999.000
     33KI172_1,  PRS2,    61,  1,      4,     36,2,20050815,2229, 22.7212,-158.3047, 4812,    105,    104.6,  22.9345,  35.1938,2,  35.1926,2,    198.1,2, 22.9132,    199.6,2,  -999.00,9,  -999.00,9,  -999.00,9,  -999.0,-999.000
     33KI172_1,  PRS2,    61,  1,      3,     35,2,20050815,2229, 22.7212,-158.3047, 4812,    151,    150.0,  21.3733,  35.1814,2,  35.1811,2,    200.2,2, 21.3442,    201.5,2,  -999.00,9,  -999.00,9,  -999.00,9,  -999.0,-999.000
     33KI172_1,  PRS2,    61,  1,      2,      7,2,20050815,2229, 22.7212,-158.3047, 4812,    159,    159.8,  20.7491,  35.1754,2,  35.1800,2,    211.4,2, 20.7187,    208.4,2,  -999.00,9,  -999.00,9,  -999.00,9,  -999.0,-999.000
     33KI172_1,  PRS2,    61,  1,      1,     11,2,20050815,2229, 22.7212,-158.3047, 4812,    251,    250.5,  16.3636,  34.6651,2,  34.6710,2,    209.3,2, 16.3234,    209.2,2,  -999.00,9,  -999.00,9,  -999.00,9,  -999.0,-999.000