BOTTLE,20090923WHPSIOMYS
EXPOCODE,SECT_ID,STNNBR,CASTNO,SAMPNO,BTLNBR,BTLNBR_FLAG_W,DATE,TIME,LATITUDE,LONGITUDE,DEPTH,CTDRAW,CTDPRS,CTDTMP,CTDSAL,CTDSAL_FLAG_W,SALNTY,SALNTY_FLAG_W,CTDOXY,CTDOXY_FLAG_W,THETA,OXYGEN,OXYGEN_FLAG_W,SILCAT,SILCAT_FLAG_W,NO2+NO3,NO2+NO3_FLAG_W,PHSPHT,PHSPHT_FLAG_W,REVPRS,REVTMP
,,,,,,,,,,,,,DBAR,ITS-90,PSS-78,,PSS-78,,UMOL/KG,,ITS-90,UMOL/KG,,UMOL/KG,,UMOL/KG,,UMOL/KG,,DBAR,DEG C
     33KI172_1,  PRS2,     2,  3,     24,     23,2,20050813,1346, 22.7493,-157.9997, 4724,      5,      5.2,  26.2336,  35.1436,2,  35.1413,2,    206.7,2, 26.2324,    205.3,2,     1.32,2,     0.04,2,     0.04,2,  -999.0,-999.000
     33KI172_1,  PRS2,     2,  3,     23,     30,2,20050813,1346, 22.7493,-157.9997, 4724,    503,    502.7,   6.7242,  34.0909,2,  34.0909,2,     83.1,2,  6.6778,     75.3,2,    54.08,2,    32.94,2,     2.43,2,  -999.0,-999.000
     33KI172_1,  PRS2,     2,  3,     22,     22,2,20050813,1346, 22.7493,-157.9997, 4724,    747,    747.3,   5.2821,  34.3625,2,  34.3607,2,     22.1,2,  5.2198,     21.6,2,    81.35,2,    41.04,2,     3.06,2,  -999.0,-999.000
     33KI172_1,  PRS2,     2,  3,     21,     21,2,20050813,1346, 22.7493,-157.9997, 4724,   1000,   1000.2,   4.3687,  34.4872,2,  34.4877,2,     34.4,2,  4.2902,     34.9,2,   103.18,2,    41.55,2,     3.00,2,  -999.0,-999.000
     33KI172_1,  PRS2,     2,  3,     20,     41,2,20050813,1346, 22.7493,-157.9997, 4724,   1202,   1201.4,   3.6916,  34.5327,2,  34.5323,2,     46.3,2,  3.6017,     47.0,2,   115.15,2,    41.92,2,     3.05,2,  -999.0,-999.000
     33KI172_1,  PRS2,     2,  3,     19,     19,2,20050813,1346, 22.7493,-157.9997, 4724,   1400,   1399.7,   3.2334,  34.5579,2,  34.5624,3,     56.2,3,  3.1314,     57.0,2,   123.45,3,    41.99,3,     3.08,3,  -999.0,-999.000
     33KI172_1,  PRS2,     2,  3,     18,     18,2,20050813,1346, 22.7493,-157.9997, 4724,   1601,   1601.2,   2.7820,  34.5833,2,  34.5887,4,     67.0,3,  2.6683,     67.4,2,   134.64,2,    41.08,2,     2.98,2,  -999.0,-999.000
     33KI172_1,  PRS2,     2,  3,     17,     17,2,20050813,1346, 22.7493,-157.9997, 4724,   1799,   1799.7,   2.4945,  34.6009,2,  34.6009,2,     76.6,2,  2.3678,     77.2,2,   141.38,2,    40.44,2,     2.92,2,  -999.0,-999.000
     33KI172_1,  PRS2,     2,  3,     16,     34,2,20050813,1346, 22.7493,-157.9997, 4724,   1999,   2000.1,   2.1987,  34.6158,2,  34.6162,2,     87.8,2,  2.0593,     87.6,2,   147.95,2,    39.67,2,     2.84,2,  -999.0,-999.000
     33KI172_1,  PRS2,     2,  3,     15,    102,2,20050813,1346, 22.7493,-157.9997, 4724,   2200,   2200.2,   2.0145,  34.6278,2,  34.6293,2,     93.7,2,  1.8607,     93.7,2,   150.94,2,    39.36,2,     2.84,2,  -999.0,-999.000
     33KI172_1,  PRS2,     2,  3,     14,    101,2,20050813,1346, 22.7493,-157.9997, 4724,   2400,   2399.7,   1.8362,  34.6417,2,  34.6409,2,    101.6,2,  1.6680,    101.9,2,   156.62,2,    38.72,2,     2.78,2,  -999.0,-999.000
     33KI172_1,  PRS2,     2,  3,     13,     42,2,20050813,1346, 22.7493,-157.9997, 4724,   2599,   2599.9,   1.7099,  34.6528,2,  34.6569,3,    110.3,3,  1.5261,    105.2,4,   158.29,2,    38.24,2,     2.74,2,  -999.0,-999.000
     33KI172_1,  PRS2,     2,  3,     12,     12,2,20050813,1346, 22.7493,-157.9997, 4724,   2801,   2800.4,   1.6093,  34.6631,2,  34.6637,2,    119.5,2,  1.4090,    119.5,2,   158.08,2,    37.61,2,     2.68,2,  -999.0,-999.000
     33KI172_1,  PRS2,     2,  3,     11,     39,2,20050813,1346, 22.7493,-157.9997, 4724,   3000,   3000.8,   1.5562,  34.6691,2,  34.6692,2,    124.2,2,  1.3382,    123.7,2,   159.76,2,    37.28,2,     2.65,2,  -999.0,-999.000
     33KI172_1,  PRS2,     2,  3,     10,     33,2,20050813,1346, 22.7493,-157.9997, 4724,   3201,   3201.2,   1.5258,  34.6739,2,  34.6773,2,    130.5,2,  1.2890,    130.5,2,   157.44,2,    36.85,2,     2.63,2,  -999.0,-999.000
     33KI172_1,  PRS2,     2,  3,      9,      3,2,20050813,1346, 22.7493,-157.9997, 4724,   3400,   3400.7,   1.4977,  34.6780,2,  34.6796,2,    135.4,2,  1.2417,    129.6,4,   159.45,3,    36.70,2,     2.59,2,  -999.0,-999.000
     33KI172_1,  PRS2,     2,  3,      8,     29,2,20050813,1346, 22.7493,-157.9997, 4724,   3600,   3600.4,   1.4791,  34.6817,2,  34.6818,2,    139.8,2,  1.2032,    139.4,2,   156.41,2,    36.56,2,     2.58,2,  -999.0,-999.000
     33KI172_1,  PRS2,     2,  3,      7,     28,2,20050813,1346, 22.7493,-157.9997, 4724,   3800,   3800.8,   1.4652,  34.6842,2,  34.6830,2,    144.3,2,  1.1686,    144.1,2,   154.30,2,    36.23,2,     2.56,2,  -999.0,-999.000
     33KI172_1,  PRS2,     2,  3,      6,     13,2,20050813,1346, 22.7493,-157.9997, 4724,   4001,   4000.8,   1.4632,  34.6862,2,  34.6848,2,    147.4,2,  1.1453,    147.6,2,   153.30,2,    36.09,2,     2.53,2,  -999.0,-999.000
     33KI172_1,  PRS2,     2,  3,      5,     38,2,20050813,1346, 22.7493,-157.9997, 4724,   4200,   4200.4,   1.4676,  34.6878,2,  34.6875,2,    150.1,2,  1.1276,    150.4,2,   152.05,2,    35.81,2,     2.51,2,  -999.0,-999.000
     33KI172_1,  PRS2,     2,  3,      4,     36,2,20050813,1346, 22.7493,-157.9997, 4724,   4400,   4400.6,   1.4797,  34.6889,2,  34.6924,2,    151.9,2,  1.1167,    139.5,4,   151.39,2,    35.79,2,     2.51,2,  -999.0,-999.000
     33KI172_1,  PRS2,     2,  3,      3,     35,2,20050813,1346, 22.7493,-157.9997, 4724,   4500,   4500.5,   1.4869,  34.6892,2,  34.6905,2,    152.5,2,  1.1122,    152.2,2,   150.81,2,    35.74,2,     2.51,2,  -999.0,-999.000
     33KI172_1,  PRS2,     2,  3,      2,      7,2,20050813,1346, 22.7493,-157.9997, 4724,   4600,   4600.7,   1.4951,  34.6895,2,  34.6887,2,    153.0,2,  1.1086,    153.9,2,   149.59,2,    35.60,2,     2.50,2,  -999.0,-999.000
     33KI172_1,  PRS2,     2,  3,      1,     11,2,20050813,1346, 22.7493,-157.9997, 4724,   4805,   4805.7,   1.5159,  34.6898,2,  34.6899,2,    153.6,2,  1.1045,    153.1,2,   149.63,2,    35.50,2,     2.49,2,  -999.0,-999.000
     33KI172_1,  PRS2,     2,  4,     24,     23,2,20050813,2017, 22.7692,-158.0352, 4724,      6,      5.3,  26.4236,  35.1545,2,  35.1567,2,    206.3,2, 26.4225,    209.7,2,     1.38,2,     0.04,2,     0.04,2,  -999.0,-999.000
     33KI172_1,  PRS2,     2,  4,     23,     30,2,20050813,2017, 22.7692,-158.0352, 4724,     71,     71.0,  25.9412,  35.1447,2,  35.1398,2,    209.0,2, 25.9253,    214.9,2,     1.27,2,     0.04,2,     0.04,2,  -999.0,-999.000
     33KI172_1,  PRS2,     2,  4,     22,     22,2,20050813,2017, 22.7692,-158.0352, 4724,     97,     97.5,  23.7834,  35.1236,2,  35.1238,2,    223.6,2, 23.7630,    215.7,4,     1.38,2,     0.07,2,     0.04,2,  -999.0,-999.000
     33KI172_1,  PRS2,     2,  4,     21,     21,2,20050813,2017, 22.7692,-158.0352, 4724,    137,    136.6,  22.2620,  35.2212,2,  35.2192,2,    216.9,2, 22.2348,    218.1,2,     1.56,2,     0.08,2,     0.05,2,  -999.0,-999.000
     33KI172_1,  PRS2,     2,  4,     20,     41,2,20050813,2017, 22.7692,-158.0352, 4724,    175,    174.8,  20.8318,  35.1802,2,  35.1815,2,    211.5,2, 20.7985,    210.9,2,     1.92,2,     0.33,2,     0.08,2,  -999.0,-999.000
     33KI172_1,  PRS2,     2,  4,     19,     19,2,20050813,2017, 22.7692,-158.0352, 4724,    196,    196.4,  19.8121,  35.0932,2,  35.0957,2,    205.8,2, 19.7759,    207.0,2,     2.29,2,     1.31,2,     0.16,2,  -999.0,-999.000
     33KI172_1,  PRS2,     2,  4,     18,     18,2,20050813,2017, 22.7692,-158.0352, 4724,    255,    255.0,  15.8718,  34.5858,2,  34.6054,3,    204.8,3, 15.8317,    205.8,2,     4.75,2,     4.55,2,     0.38,2,  -999.0,-999.000
     33KI172_1,  PRS2,     2,  4,     17,     17,2,20050813,2017, 22.7692,-158.0352, 4724,    300,    300.3,  13.3256,  34.3074,2,  34.3087,2,    207.4,2, 13.2837,    207.3,2,     8.18,2,     8.52,2,     0.65,2,  -999.0,-999.000
     33KI172_1,  PRS2,     2,  4,     16,     34,2,20050813,2017, 22.7692,-158.0352, 4724,    339,    338.2,  11.4220,  34.1242,2,  34.1230,2,    190.9,2, 11.3795,    193.4,2,    13.06,2,    13.17,2,     1.00,2,  -999.0,-999.000
     33KI172_1,  PRS2,     2,  4,     15,    102,2,20050813,2017, 22.7692,-158.0352, 4724,    369,    369.2,  10.2516,  34.0992,2,  34.0989,2,    186.9,2, 10.2082,    187.6,2,    18.05,2,    16.71,2,     1.23,2,  -999.0,-999.000
     33KI172_1,  PRS2,     2,  4,     14,    101,2,20050813,2017, 22.7692,-158.0352, 4724,    413,    413.4,   8.7718,  34.0831,2,  34.0838,2,    155.4,2,  8.7276,    154.8,2,    29.59,2,    22.98,2,     1.66,2,  -999.0,-999.000
     33KI172_1,  PRS2,     2,  4,     13,     42,2,20050813,2017, 22.7692,-158.0352, 4724,    452,    451.3,   7.9955,  34.0820,2,  34.0831,2,    125.4,2,  7.9498,    125.4,2,    37.93,2,    27.23,2,     1.88,2,  -999.0,-999.000
     33KI172_1,  PRS2,     2,  4,     12,     12,2,20050813,2017, 22.7692,-158.0352, 4724,    483,    482.9,   7.4176,  34.0763,2,  34.0789,2,    108.6,2,  7.3706,    107.7,2,    44.38,2,    29.50,2,     2.14,2,  -999.0,-999.000
     33KI172_1,  PRS2,     2,  4,     11,     39,2,20050813,2017, 22.7692,-158.0352, 4724,    516,    515.5,   6.7634,  34.0883,2,  34.0897,2,     82.0,2,  6.7156,     82.2,2,    53.58,2,    32.81,2,     2.42,2,  -999.0,-999.000
     33KI172_1,  PRS2,     2,  4,     10,     33,2,20050813,2017, 22.7692,-158.0352, 4724,    570,    570.1,   6.3225,  34.1506,2,  34.1503,2,     52.8,2,  6.2713,     51.8,2,    63.19,2,    36.03,2,     2.68,2,  -999.0,-999.000
     33KI172_1,  PRS2,     2,  4,      9,      3,2,20050813,2017, 22.7692,-158.0352, 4724,    611,    611.2,   5.8945,  34.2148,2,  34.2164,2,     34.8,2,  5.8414,     34.2,2,    71.59,2,    38.34,2,     2.87,2,  -999.0,-999.000
     33KI172_1,  PRS2,     2,  4,      8,     29,2,20050813,2017, 22.7692,-158.0352, 4724,    652,    651.6,   5.7277,  34.2712,2,  34.2719,2,     24.7,2,  5.6717,     24.0,2,    75.92,2,    39.50,2,     2.97,2,  -999.0,-999.000
     33KI172_1,  PRS2,     2,  4,      7,     28,2,20050813,2017, 22.7692,-158.0352, 4724,    687,    687.1,   5.5538,  34.2936,2,  34.2901,2,     24.7,2,  5.4954,     23.9,2,    78.35,2,    40.04,2,     2.99,2,  -999.0,-999.000
     33KI172_1,  PRS2,     2,  4,      6,     13,2,20050813,2017, 22.7692,-158.0352, 4724,    745,    744.9,   5.1976,  34.3695,2,  34.3719,2,     25.6,2,  5.1360,     23.5,2,    82.86,2,    40.95,2,     3.04,2,  -999.0,-999.000
     33KI172_1,  PRS2,     2,  4,      5,     38,2,20050813,2017, 22.7692,-158.0352, 4724,    802,    801.8,   5.0395,  34.4250,2,  34.4235,2,     24.8,2,  4.9737,     25.3,2,    85.57,2,    41.51,2,     3.06,2,  -999.0,-999.000
     33KI172_1,  PRS2,     2,  4,      4,     36,2,20050813,2017, 22.7692,-158.0352, 4724,    846,    846.0,   4.8552,  34.4424,2,  34.4394,2,     26.4,2,  4.7867,     26.5,2,    88.20,3,    41.83,2,     3.08,2,  -999.0,-999.000
     33KI172_1,  PRS2,     2,  4,      3,     35,2,20050813,2017, 22.7692,-158.0352, 4724,    902,    902.3,   4.5999,  34.4579,2,  34.4581,2,     30.4,2,  4.5282,     31.5,2,    92.61,3,    42.00,2,     3.08,2,  -999.0,-999.000
     33KI172_1,  PRS2,     2,  4,      2,      7,2,20050813,2017, 22.7692,-158.0352, 4724,    951,    951.5,   4.4460,  34.4817,2,  34.4832,2,     32.6,2,  4.3711,     32.5,2,    95.45,3,    42.49,4,     3.10,2,  -999.0,-999.000
     33KI172_1,  PRS2,     2,  4,      1,     11,2,20050813,2017, 22.7692,-158.0352, 4724,   1017,   1016.9,   4.2562,  34.4961,2,  34.4950,2,     36.2,2,  4.1771,     36.0,2,    99.33,3,    42.16,2,     3.08,2,  -999.0,-999.000
     33KI172_1,  PRS2,     2,  5,     17,     17,2,20050813,2358, 22.7547,-158.0240, 4726,      5,      4.5,  26.5949,  35.1484,2,  35.1478,2,    205.5,1, 26.5939,   -999.0,9,  -999.00,9,  -999.00,9,  -999.00,9,  -999.0,-999.000
     33KI172_1,  PRS2,     2,  5,     16,     34,2,20050813,2358, 22.7547,-158.0240, 4726,      5,      4.5,  26.5953,  35.1492,2,  35.1484,2,    205.5,1, 26.5943,   -999.0,9,  -999.00,9,  -999.00,9,  -999.00,9,  -999.0,-999.000
     33KI172_1,  PRS2,     2,  5,     15,    102,2,20050813,2358, 22.7547,-158.0240, 4726,     25,     25.0,  26.1271,  35.1341,2,  35.1331,2,    207.7,1, 26.1215,   -999.0,9,  -999.00,9,  -999.00,9,  -999.00,9,  -999.0,-999.000
     33KI172_1,  PRS2,     2,  5,     14,    101,2,20050813,2358, 22.7547,-158.0240, 4726,     25,     25.0,  26.1272,  35.1341,2,  35.1421,2,    207.6,1, 26.1216,   -999.0,9,  -999.00,9,  -999.00,9,  -999.00,9,  -999.0,-999.000
     33KI172_1,  PRS2,     2,  5,     13,     42,2,20050813,2358, 22.7547,-158.0240, 4726,     45,     44.5,  26.0507,  35.1357,2,  35.1374,2,    208.5,1, 26.0407,   -999.0,9,  -999.00,9,  -999.00,9,  -999.00,9,  -999.0,-999.000
     33KI172_1,  PRS2,     2,  5,     12,     12,2,20050813,2358, 22.7547,-158.0240, 4726,     45,     44.5,  26.0505,  35.1358,2,  35.1482,3,    208.4,1, 26.0406,   -999.0,9,  -999.00,9,  -999.00,9,  -999.00,9,  -999.0,-999.000
     33KI172_1,  PRS2,     2,  5,     11,     39,2,20050813,2358, 22.7547,-158.0240, 4726,     45,     44.5,  26.0504,  35.1358,2,  35.1445,2,    208.3,1, 26.0404,   -999.0,9,  -999.00,9,  -999.00,9,  -999.00,9,  -999.0,-999.000
     33KI172_1,  PRS2,     2,  5,     10,     33,2,20050813,2358, 22.7547,-158.0240, 4726,     75,     75.0,  24.8516,  35.2484,2,  35.2495,2,    222.3,1, 24.8354,   -999.0,9,  -999.00,9,  -999.00,9,  -999.00,9,  -999.0,-999.000
     33KI172_1,  PRS2,     2,  5,      9,      3,2,20050813,2358, 22.7547,-158.0240, 4726,     75,     75.0,  24.8557,  35.2499,2,-999.0000,5,    222.9,1, 24.8395,   -999.0,9,  -999.00,9,  -999.00,9,  -999.00,9,  -999.0,-999.000
     33KI172_1,  PRS2,     2,  5,      8,     29,2,20050813,2358, 22.7547,-158.0240, 4726,    101,    100.6,  22.9202,  35.2274,2,  35.2515,4,    222.5,1, 22.8997,   -999.0,9,  -999.00,9,  -999.00,9,  -999.00,9,  -999.0,-999.000
     33KI172_1,  PRS2,     2,  5,      7,     28,2,20050813,2358, 22.7547,-158.0240, 4726,    120,    119.6,  21.8499,  35.2178,2,  35.2239,2,    213.7,1, 21.8263,   -999.0,9,  -999.00,9,  -999.00,9,  -999.00,9,  -999.0,-999.000
     33KI172_1,  PRS2,     2,  5,      6,     13,2,20050813,2358, 22.7547,-158.0240, 4726,    125,    124.5,  21.5216,  35.2059,2,  35.2048,2,    211.2,1, 21.4973,   -999.0,9,  -999.00,9,  -999.00,9,  -999.00,9,  -999.0,-999.000
     33KI172_1,  PRS2,     2,  5,      5,     38,2,20050813,2358, 22.7547,-158.0240, 4726,    150,    149.8,  20.4838,  35.1469,2,  35.1433,2,    205.5,1, 20.4557,   -999.0,9,  -999.00,9,  -999.00,9,  -999.00,9,  -999.0,-999.000
     33KI172_1,  PRS2,     2,  5,      4,     36,2,20050813,2358, 22.7547,-158.0240, 4726,    250,    249.4,  15.3027,  34.4959,2,  34.4803,2,    200.0,1, 15.2645,   -999.0,9,  -999.00,9,  -999.00,9,  -999.00,9,  -999.0,-999.000
     33KI172_1,  PRS2,     2,  5,      3,     35,2,20050813,2358, 22.7547,-158.0240, 4726,    351,    350.5,  10.5509,  34.0942,2,  34.0936,2,    186.1,1, 10.5089,   -999.0,9,  -999.00,9,  -999.00,9,  -999.00,9,  -999.0,-999.000
     33KI172_1,  PRS2,     2,  5,      2,      7,2,20050813,2358, 22.7547,-158.0240, 4726,    450,    449.9,   7.8625,  34.0833,2,  34.0827,2,    121.3,1,  7.8173,   -999.0,9,  -999.00,9,  -999.00,9,  -999.00,9,  -999.0,-999.000
     33KI172_1,  PRS2,     2,  5,      1,     11,2,20050813,2358, 22.7547,-158.0240, 4726,   1021,   1020.9,   4.2898,  34.4925,2,  34.4921,2,     36.2,1,  4.2102,   -999.0,9,  -999.00,9,  -999.00,9,  -999.00,9,  -999.0,-999.000
     33KI172_1,  PRS2,     2,  6,     20,     41,3,20050814,0301, 22.7502,-157.9998, 4726,      5,      4.8,  26.4837,  35.1231,2,  35.1293,2,    206.5,1, 26.4826,   -999.0,9,  -999.00,9,  -999.00,9,  -999.00,9,  -999.0,-999.000
     33KI172_1,  PRS2,     2,  6,     19,     19,2,20050814,0301, 22.7502,-157.9998, 4726,     14,     14.3,  26.2868,  35.1447,2,  35.1429,2,    206.7,1, 26.2835,   -999.0,9,  -999.00,9,  -999.00,9,  -999.00,9,  -999.0,-999.000
     33KI172_1,  PRS2,     2,  6,     18,     18,2,20050814,0301, 22.7502,-157.9998, 4726,     25,     24.5,  26.1497,  35.1346,2,  35.1402,2,    207.9,1, 26.1442,   -999.0,9,  -999.00,9,  -999.00,9,  -999.00,9,  -999.0,-999.000
     33KI172_1,  PRS2,     2,  6,     17,     17,2,20050814,0301, 22.7502,-157.9998, 4726,     34,     34.5,  26.1144,  35.1348,2,  35.1376,2,    208.0,1, 26.1067,   -999.0,9,  -999.00,9,  -999.00,9,  -999.00,9,  -999.0,-999.000
     33KI172_1,  PRS2,     2,  6,     16,     34,2,20050814,0301, 22.7502,-157.9998, 4726,     34,     34.5,  26.1146,  35.1347,2,  35.1329,2,    208.0,1, 26.1069,   -999.0,9,  -999.00,9,  -999.00,9,  -999.00,9,  -999.0,-999.000
     33KI172_1,  PRS2,     2,  6,     15,    102,2,20050814,0301, 22.7502,-157.9998, 4726,     45,     45.1,  26.0746,  35.1368,2,  35.1349,2,    208.3,1, 26.0645,   -999.0,9,  -999.00,9,  -999.00,9,  -999.00,9,  -999.0,-999.000
     33KI172_1,  PRS2,     2,  6,     14,    101,2,20050814,0301, 22.7502,-157.9998, 4726,     60,     60.1,  25.9981,  35.1816,2,  35.1746,2,    209.8,1, 25.9847,   -999.0,9,  -999.00,9,  -999.00,9,  -999.00,9,  -999.0,-999.000
     33KI172_1,  PRS2,     2,  6,     13,     42,2,20050814,0301, 22.7502,-157.9998, 4726,     74,     74.1,  24.5076,  35.2394,2,  35.2390,2,    223.9,1, 24.4918,   -999.0,9,  -999.00,9,  -999.00,9,  -999.00,9,  -999.0,-999.000
     33KI172_1,  PRS2,     2,  6,     12,     12,2,20050814,0301, 22.7502,-157.9998, 4726,    100,     99.8,  22.6836,  35.2269,2,  35.2251,2,    220.6,1, 22.6634,   -999.0,9,  -999.00,9,  -999.00,9,  -999.00,9,  -999.0,-999.000
     33KI172_1,  PRS2,     2,  6,     11,     39,2,20050814,0301, 22.7502,-157.9998, 4726,    119,    119.4,  21.8815,  35.2105,2,  35.2105,2,    213.2,1, 21.8580,   -999.0,9,  -999.00,9,  -999.00,9,  -999.00,9,  -999.0,-999.000
     33KI172_1,  PRS2,     2,  6,     10,     33,2,20050814,0301, 22.7502,-157.9998, 4726,    125,    124.4,  21.6607,  35.2079,2,  35.2058,2,    212.3,1, 21.6363,   -999.0,9,  -999.00,9,  -999.00,9,  -999.00,9,  -999.0,-999.000
     33KI172_1,  PRS2,     2,  6,      9,      3,2,20050814,0301, 22.7502,-157.9998, 4726,    140,    139.5,  21.2192,  35.1873,2,  35.1922,2,    209.8,1, 21.1923,   -999.0,9,  -999.00,9,  -999.00,9,  -999.00,9,  -999.0,-999.000
     33KI172_1,  PRS2,     2,  6,      8,     29,2,20050814,0301, 22.7502,-157.9998, 4726,    149,    149.3,  20.7676,  35.1637,2,  35.1610,2,    207.5,1, 20.7392,   -999.0,9,  -999.00,9,  -999.00,9,  -999.00,9,  -999.0,-999.000
     33KI172_1,  PRS2,     2,  6,      7,     28,2,20050814,0301, 22.7502,-157.9998, 4726,    160,    159.9,  19.8161,  35.0910,2,  35.0862,2,    210.1,1, 19.7867,   -999.0,9,  -999.00,9,  -999.00,9,  -999.00,9,  -999.0,-999.000
     33KI172_1,  PRS2,     2,  6,      6,     13,2,20050814,0301, 22.7502,-157.9998, 4726,    175,    174.9,  19.3936,  35.0491,2,  35.0437,2,    206.9,1, 19.3620,   -999.0,9,  -999.00,9,  -999.00,9,  -999.00,9,  -999.0,-999.000
     33KI172_1,  PRS2,     2,  6,      5,     38,2,20050814,0301, 22.7502,-157.9998, 4726,    180,    179.7,  19.1189,  35.0219,2,  35.0193,2,    206.3,1, 19.0867,   -999.0,9,  -999.00,9,  -999.00,9,  -999.00,9,  -999.0,-999.000
     33KI172_1,  PRS2,     2,  6,      4,     36,2,20050814,0301, 22.7502,-157.9998, 4726,    200,    199.5,  17.9832,  34.9087,2,  34.8961,2,    212.7,1, 17.9490,   -999.0,9,  -999.00,9,  -999.00,9,  -999.00,9,  -999.0,-999.000
     33KI172_1,  PRS2,     2,  6,      3,     35,2,20050814,0301, 22.7502,-157.9998, 4726,    220,    220.3,  16.5264,  34.6402,2,  34.6405,2,    199.5,1, 16.4908,   -999.0,9,  -999.00,9,  -999.00,9,  -999.00,9,  -999.0,-999.000
     33KI172_1,  PRS2,     2,  6,      2,      7,2,20050814,0301, 22.7502,-157.9998, 4726,    470,    470.0,   7.3724,  34.0766,2,  34.0760,2,    106.8,1,  7.3268,   -999.0,9,  -999.00,9,  -999.00,9,  -999.00,9,  -999.0,-999.000
     33KI172_1,  PRS2,     2,  6,      1,     11,2,20050814,0301, 22.7502,-157.9998, 4726,   1020,   1020.1,   4.1836,  34.4954,2,  34.4950,2,     38.3,1,  4.1048,   -999.0,9,  -999.00,9,  -999.00,9,  -999.00,9,  -999.0,-999.000