BOTTLE,20010911WHPSIOdm
EXPOCODE,SECT_ID,STNNBR,CASTNO,SAMPNO,BTLNBR,BTLNBR_FLAG_W,DATE,TIME,LATITUDE,LONGITUDE,DEPTH,CTDPRS,CTDTMP,CTDSAL,CTDSAL_FLAG_W,SALNTY,SALNTY_FLAG_W,CTDOXY,CTDOXY_FLAG_W,OXYGEN,OXYGEN_FLAG_W,SILCAT,SILCAT_FLAG_W,NITRAT,NITRAT_FLAG_W,NITRIT,NITRIT_FLAG_W,PHSPHT,PHSPHT_FLAG_W,CFC-11,CFC-11_FLAG_W,CFC-12,CFC-12_FLAG_W,TRITUM,TRITUM_FLAG_W,HELIUM,HELIUM_FLAG_W,DELHE3,DELHE3_FLAG_W,DELC14,DELC14_FLAG_W,NEON,NEON_FLAG_W,TCARBN,TCARBN_FLAG_W,ALKALI,ALKALI_FLAG_W,PH,PH_FLAG_W,CTDRAW,HELIER,DELHER,NEONER,THETA,TRITER
,,,,,,,,,,,,DBAR,ITS-90,PSS-78,,PSS-78,,UMOL/KG,,UMOL/KG,,UMOL/KG,,UMOL/KG,,UMOL/KG,,UMOL/KG,,PMOL/KG,,PMOL/KG,,TU,,UMOL/KG,,PERCNT,,/MILLE,,NMOL/KG,,UMOL/KG,,UMOL/KG,,,,,NMOL/KG,PERCNT,NMOL/KG,ITS-90,TU
   318MWESTW_4,  P21E,    44,  1,     36, SI9336,2,19940410,0455,-16.7500, -83.6667, 4701,     11.6,  23.7783,  35.7376,2,  35.7381,2,    204.3,2,    214.4,2,     0.62,2,    -0.42,2,     0.00,2,     0.43,2,    1.917,2,    1.029,2, -999.000,1,-999.0000,1,  -999.00,9,   -999.0,1,-999.000,9,   -999.0,9,   -999.0,9,  -999.00,9,  168.2,-999.0000,-999.000,-999.000, 23.7759,-999.000
   318MWESTW_4,  P21E,    44,  1,     35, SI9335,2,19940410,0455,-16.7500, -83.6667, 4701,     22.4,  23.7832,  35.7371,2,  35.7379,2,    214.8,2,    214.6,2,     0.62,2,    -0.45,2,    -0.01,2,     0.43,2,    1.897,2,    1.022,2, -999.000,1,-999.0000,1,  -999.00,9,   -999.0,1,-999.000,9,   -999.0,9,   -999.0,9,  -999.00,9,  276.9,-999.0000,-999.000,-999.000, 23.7785,-999.000
   318MWESTW_4,  P21E,    44,  1,     34, SI9334,2,19940410,0455,-16.7500, -83.6667, 4701,     56.0,  19.4420,  35.3558,2,  35.3750,2,    241.8,2,    243.8,2,     1.17,2,     0.92,2,     0.05,2,     0.58,2,    2.449,2,    1.254,2, -999.000,1,-999.0000,1,  -999.00,9,   -999.0,1,-999.000,9,   -999.0,9,   -999.0,9,  -999.00,9,  611.9,-999.0000,-999.000,-999.000, 19.4319,-999.000
   318MWESTW_4,  P21E,    44,  1,     33, SI9333,2,19940410,0455,-16.7500, -83.6667, 4701,     97.7,  17.6605,  35.2908,2,  35.2710,2,    214.4,2,    200.8,2,     2.49,2,     7.43,2,     0.07,2,     0.99,2,    2.515,2,    1.273,2, -999.000,1,-999.0000,1,  -999.00,9,   -999.0,1,-999.000,9,   -999.0,9,   -999.0,9,  -999.00,9, 1026.5,-999.0000,-999.000,-999.000, 17.6439,-999.000
   318MWESTW_4,  P21E,    44,  1,     32, SI9332,2,19940410,0455,-16.7500, -83.6667, 4701,    157.2,  13.4412,  34.7426,2,  34.7526,2,    104.8,2,     91.4,2,     9.26,2,    18.16,2,    -0.01,2,     1.81,2,    1.786,3,    0.826,3, -999.000,1,-999.0000,1,  -999.00,9,   -999.0,1,-999.000,9,   -999.0,9,   -999.0,9,  -999.00,9, 1618.5,-999.0000,-999.000,-999.000, 13.4192,-999.000
   318MWESTW_4,  P21E,    44,  1,     31, SI9331,2,19940410,0455,-16.7500, -83.6667, 4701,    196.2,  11.9859,  34.6893,2,  34.6910,2,     33.7,2,     31.9,2,    19.59,2,    21.11,2,    -0.01,2,     2.46,2,    0.736,3,    0.346,3, -999.000,1,-999.0000,1,  -999.00,9,   -999.0,1,-999.000,9,   -999.0,9,   -999.0,9,  -999.00,9, 2007.0,-999.0000,-999.000,-999.000, 11.9604,-999.000
   318MWESTW_4,  P21E,    44,  1,     30, SI9330,2,19940410,0455,-16.7500, -83.6667, 4701,    254.6,  11.5732,  34.7978,2,  34.7958,2,      1.7,2,      0.8,2,    27.09,2,    22.65,2,     1.66,2,     2.72,2,    0.186,6,    0.102,6, -999.000,1,-999.0000,1,  -999.00,9,   -999.0,1,-999.000,9,   -999.0,9,   -999.0,9,  -999.00,9, 2587.6,-999.0000,-999.000,-999.000, 11.5407,-999.000
   318MWESTW_4,  P21E,    44,  1,     29, SI9329,2,19940410,0455,-16.7500, -83.6667, 4701,    312.3,  10.4760,  34.7312,2,  34.7309,2,      1.4,2,      1.2,2,    29.35,2,    29.34,2,     0.56,2,     2.78,2,    0.085,2,    0.048,2, -999.000,1,-999.0000,1,  -999.00,9,   -999.0,1,-999.000,9,   -999.0,9,   -999.0,9,  -999.00,9, 3162.0,-999.0000,-999.000,-999.000, 10.4386,-999.000
   318MWESTW_4,  P21E,    44,  1,     28, SI9328,2,19940410,0455,-16.7500, -83.6667, 4701,    381.5,   9.3550,  34.6635,2,  34.6576,3,      2.9,2,      4.7,2,    30.85,2,    35.13,2,    -0.01,2,     2.84,2,    0.047,2,    0.016,2, -999.000,1,-999.0000,1,  -999.00,9,   -999.0,1,-999.000,9,   -999.0,9,   -999.0,9,  -999.00,9, 3849.6,-999.0000,-999.000,-999.000,  9.3123,-999.000
   318MWESTW_4,  P21E,    44,  1,     26, SI9326,2,19940410,0455,-16.7500, -83.6667, 4701,    500.8,   7.5949,  34.5481,2,  34.5461,2,     22.6,2,     29.3,2,    33.67,2,    39.35,2,    -0.01,2,     2.88,2,    0.041,2,    0.016,2, -999.000,1,-999.0000,1,  -999.00,9,   -999.0,1,-999.000,9,   -999.0,9,   -999.0,9,  -999.00,9, 5036.8,-999.0000,-999.000,-999.000,  7.5451,-999.000
   318MWESTW_4,  P21E,    44,  1,     25, SI9325,2,19940410,0455,-16.7500, -83.6667, 4701,    592.4,   6.6620,  34.5050,2,  34.5066,2,     44.7,2,     43.2,2,    38.36,2,    40.93,2,    -0.02,2,     2.91,2,    0.023,2,    0.007,2, -999.000,1,-999.0000,1,  -999.00,9,   -999.0,1,-999.000,9,   -999.0,9,   -999.0,9,  -999.00,9, 5947.1,-999.0000,-999.000,-999.000,  6.6069,-999.000
   318MWESTW_4,  P21E,    44,  1,     24, SI9324,2,19940410,0455,-16.7500, -83.6667, 4701,    696.0,   5.9125,  34.5013,2,  34.4999,2,     39.9,2,     38.9,2,    48.68,2,    42.97,2,    -0.01,2,     3.08,2,    0.001,2,   -0.004,2, -999.000,1,-999.0000,1,  -999.00,9,   -999.0,1,-999.000,9,   -999.0,9,   -999.0,9,  -999.00,9, 6977.8,-999.0000,-999.000,-999.000,  5.8512,-999.000
   318MWESTW_4,  P21E,    44,  1,     23, SI9323,2,19940410,0455,-16.7500, -83.6667, 4701,    792.7,   5.3617,  34.5044,2,  34.5070,3,     41.6,2,     40.2,2,    58.07,2,    43.87,2,    -0.01,2,     3.12,2,   -0.001,2,   -0.004,2, -999.000,1,-999.0000,1,  -999.00,9,   -999.0,1,-999.000,9,   -999.0,9,   -999.0,9,  -999.00,9, 7939.0,-999.0000,-999.000,-999.000,  5.2947,-999.000
   318MWESTW_4,  P21E,    44,  1,     22, SI9322,2,19940410,0455,-16.7500, -83.6667, 4701,    914.1,   4.8129,  34.5146,2,  34.5142,2,     47.9,2,     47.7,2,    68.39,2,    43.60,2,     0.00,2,     3.13,2,   -0.001,2,   -0.004,2, -999.000,1,-999.0000,1,  -999.00,9,   -999.0,1,-999.000,9,   -999.0,9,   -999.0,9,  -999.00,9, 9146.8,-999.0000,-999.000,-999.000,  4.7386,-999.000
   318MWESTW_4,  P21E,    44,  1,     21, SI9321,2,19940410,0455,-16.7500, -83.6667, 4701,    963.4,   4.5286,  34.5153,2,  34.5152,2,     58.7,2,     58.3,2,    72.32,2,    42.72,2,    -0.01,2,     3.08,2,   -0.001,2,   -0.004,2, -999.000,1,-999.0000,1,  -999.00,9,   -999.0,1,-999.000,9,   -999.0,9,   -999.0,9,  -999.00,9, 9636.2,-999.0000,-999.000,-999.000,  4.4520,-999.000
   318MWESTW_4,  P21E,    44,  1,     27, SI9327,2,19940410,0455,-16.7500, -83.6667, 4701,   1109.4,   4.0393,  34.5384,2,  34.5419,3,     67.0,2,     66.8,2,    84.70,2,    41.94,2,    -0.01,2,     3.06,2,   -0.002,2,   -0.003,2, -999.000,1,-999.0000,1,  -999.00,9,   -999.0,1,-999.000,9,   -999.0,9,   -999.0,9,  -999.00,9,11088.7,-999.0000,-999.000,-999.000,  3.9541,-999.000
   318MWESTW_4,  P21E,    44,  1,     20, SI9320,2,19940410,0455,-16.7500, -83.6667, 4701,   1211.6,   3.6778,  34.5520,2,  34.5484,2,     77.2,2,     77.8,2,    90.89,2,    40.95,2,    -0.02,2,     2.97,2, -999.000,9, -999.000,9, -999.000,1,-999.0000,1,  -999.00,9,   -999.0,1,-999.000,9,   -999.0,9,   -999.0,9,  -999.00,9,12104.7,-999.0000,-999.000,-999.000,  3.5871,-999.000
   318MWESTW_4,  P21E,    44,  1,     19, SI9319,2,19940410,0455,-16.7500, -83.6667, 4701,   1354.1,   3.2786,  34.5691,2,  34.5706,2,     90.3,2,     87.8,2,   100.08,2,    40.19,2,     0.00,2,     2.91,2, -999.000,9, -999.000,9, -999.000,1,-999.0000,1,  -999.00,9,   -999.0,1,-999.000,9,   -999.0,9,   -999.0,9,  -999.00,9,13520.9,-999.0000,-999.000,-999.000,  3.1799,-999.000
   318MWESTW_4,  P21E,    44,  1,     18, SI9318,2,19940410,0455,-16.7500, -83.6667, 4701,   1499.3,   2.9614,  34.5902,2,  34.5899,2,     95.7,2,     95.0,2,   107.94,2,    39.78,2,    -0.01,2,     2.85,2, -999.000,9, -999.000,9, -999.000,1,-999.0000,1,  -999.00,9,   -999.0,1,-999.000,9,   -999.0,9,   -999.0,9,  -999.00,9,14964.9,-999.0000,-999.000,-999.000,  2.8540,-999.000
   318MWESTW_4,  P21E,    44,  1,     17, SI9317,2,19940410,0455,-16.7500, -83.6667, 4701,   1652.6,   2.6931,  34.6085,2,  34.6093,2,     99.0,2,    100.1,2,   115.63,2,    39.42,2,    -0.01,2,     2.82,2, -999.000,9, -999.000,9, -999.000,1,-999.0000,1,  -999.00,9,   -999.0,1,-999.000,9,   -999.0,9,   -999.0,9,  -999.00,9,16489.0,-999.0000,-999.000,-999.000,  2.5761,-999.000
   318MWESTW_4,  P21E,    44,  1,     16, SI9316,2,19940410,0455,-16.7500, -83.6667, 4701,   1792.4,   2.5248,  34.6227,2,  34.6262,3,    101.2,2,    101.2,2,   122.93,2,    39.31,2,    -0.01,2,     2.82,2, -999.000,9, -999.000,9, -999.000,1,-999.0000,1,  -999.00,9,   -999.0,1,-999.000,9,   -999.0,9,   -999.0,9,  -999.00,9,17879.0,-999.0000,-999.000,-999.000,  2.3983,-999.000
   318MWESTW_4,  P21E,    44,  1,     15, SI9315,2,19940410,0455,-16.7500, -83.6667, 4701,   1998.5,   2.2774,  34.6388,2,  34.6382,2,    114.0,2,    113.4,2,   126.67,2,    38.37,2,    -0.01,2,     2.74,2, -999.000,9, -999.000,9, -999.000,1,-999.0000,1,  -999.00,9,   -999.0,1,-999.000,9,   -999.0,9,   -999.0,9,  -999.00,9,19928.3,-999.0000,-999.000,-999.000,  2.1369,-999.000
   318MWESTW_4,  P21E,    44,  1,     14, SI9314,2,19940410,0455,-16.7500, -83.6667, 4701,   2199.6,   2.0722,  34.6527,2,  34.6533,2,    126.4,2,    127.2,2,   127.21,2,    37.05,2,     0.00,2,     2.65,2, -999.000,9, -999.000,9, -999.000,1,-999.0000,1,  -999.00,9,   -999.0,1,-999.000,9,   -999.0,9,   -999.0,9,  -999.00,9,21927.2,-999.0000,-999.000,-999.000,  1.9175,-999.000
   318MWESTW_4,  P21E,    44,  1,     13, SI9313,2,19940410,0455,-16.7500, -83.6667, 4701,   2401.9,   1.9228,  34.6642,2,  34.6651,2,    139.8,2,    141.1,2,   124.95,3,    35.91,3,    -0.01,2,     2.55,2, -999.000,9, -999.000,9, -999.000,1,-999.0000,1,  -999.00,9,   -999.0,1,-999.000,9,   -999.0,9,   -999.0,9,  -999.00,9,23938.8,-999.0000,-999.000,-999.000,  1.7527,-999.000
   318MWESTW_4,  P21E,    44,  1,     12, SI9312,2,19940410,0455,-16.7500, -83.6667, 4701,   2598.8,   1.8487,  34.6714,2,  34.6722,2,    142.9,2,    140.5,2,   130.00,2,    35.80,3,     0.00,2,     2.54,2, -999.000,9, -999.000,9, -999.000,1,-999.0000,1,  -999.00,9,   -999.0,1,-999.000,9,   -999.0,9,   -999.0,9,  -999.00,9,25895.8,-999.0000,-999.000,-999.000,  1.6622,-999.000
   318MWESTW_4,  P21E,    44,  1,     11, SI9311,2,19940410,0455,-16.7500, -83.6667, 4701,   2797.5,   1.8090,  34.6761,2,  34.6765,2,    139.8,2,    139.5,2,   133.56,2,    36.03,3,    -0.01,2,     2.54,2, -999.000,9, -999.000,9, -999.000,1,-999.0000,1,  -999.00,9,   -999.0,1,-999.000,9,   -999.0,9,   -999.0,9,  -999.00,9,27871.7,-999.0000,-999.000,-999.000,  1.6048,-999.000
   318MWESTW_4,  P21E,    44,  1,     10, SI9310,2,19940410,0455,-16.7500, -83.6667, 4701,   2997.6,   1.7965,  34.6788,2,  34.6800,2,    139.0,2,    139.4,2,   135.60,2,    36.14,3,    -0.01,2,     2.55,2, -999.000,9, -999.000,9, -999.000,1,-999.0000,1,  -999.00,9,   -999.0,1,-999.000,9,   -999.0,9,   -999.0,9,  -999.00,9,29860.7,-999.0000,-999.000,-999.000,  1.5734,-999.000
   318MWESTW_4,  P21E,    44,  1,      9, SI9309,2,19940410,0455,-16.7500, -83.6667, 4701,   3196.7,   1.7909,  34.6803,2,  34.6814,2,    137.6,2,    138.7,2,   137.65,2,    36.34,2,     0.00,2,     2.53,2, -999.000,9, -999.000,9, -999.000,1,-999.0000,1,  -999.00,9,   -999.0,1,-999.000,9,   -999.0,9,   -999.0,9,  -999.00,9,31840.0,-999.0000,-999.000,-999.000,  1.5483,-999.000
   318MWESTW_4,  P21E,    44,  1,      8, SI9308,2,19940410,0455,-16.7500, -83.6667, 4701,   3403.0,   1.7902,  34.6820,2,  34.6832,2,    139.0,2,    140.2,2,   137.26,2,    36.28,2,     0.00,2,     2.53,2, -999.000,9, -999.000,9, -999.000,1,-999.0000,1,  -999.00,9,   -999.0,1,-999.000,9,   -999.0,9,   -999.0,9,  -999.00,9,33890.5,-999.0000,-999.000,-999.000,  1.5268,-999.000
   318MWESTW_4,  P21E,    44,  1,      7, SI9307,2,19940410,0455,-16.7500, -83.6667, 4701,   3595.9,   1.7856,  34.6842,2,  34.6844,2,    142.4,2,    142.6,2,   135.56,2,    35.98,2,     0.00,2,     2.53,2, -999.000,9, -999.000,9, -999.000,1,-999.0000,1,  -999.00,9,   -999.0,1,-999.000,9,   -999.0,9,   -999.0,9,  -999.00,9,35808.5,-999.0000,-999.000,-999.000,  1.5022,-999.000
   318MWESTW_4,  P21E,    44,  1,      6, SI9306,2,19940410,0455,-16.7500, -83.6667, 4701,   3796.3,   1.7769,  34.6867,2,  34.6869,2,    146.9,2,    147.4,2,   132.36,2,    35.51,3,     0.00,2,     2.49,2, -999.000,9, -999.000,9, -999.000,1,-999.0000,1,  -999.00,9,   -999.0,1,-999.000,9,   -999.0,9,   -999.0,9,  -999.00,9,37800.7,-999.0000,-999.000,-999.000,  1.4724,-999.000
   318MWESTW_4,  P21E,    44,  1,      5, SI9305,2,19940410,0455,-16.7500, -83.6667, 4701,   3996.4,   1.7720,  34.6887,2,  34.6887,2,    152.1,2,    152.5,2,   129.35,2,    34.99,3,     0.00,2,     2.47,2, -999.000,9, -999.000,9, -999.000,1,-999.0000,1,  -999.00,9,   -999.0,1,-999.000,9,   -999.0,9,   -999.0,9,  -999.00,9,39790.3,-999.0000,-999.000,-999.000,  1.4458,-999.000
   318MWESTW_4,  P21E,    44,  1,      4, SI9304,2,19940410,0455,-16.7500, -83.6667, 4701,   4244.8,   1.7776,  34.6898,2,  34.6905,2,    154.0,2,    153.9,2,   128.22,2,    34.83,3,     0.01,2,     2.47,2, -999.000,9, -999.000,9, -999.000,1,-999.0000,1,  -999.00,9,   -999.0,1,-999.000,9,   -999.0,9,   -999.0,9,  -999.00,9,42259.2,-999.0000,-999.000,-999.000,  1.4234,-999.000
   318MWESTW_4,  P21E,    44,  1,      3, SI9303,2,19940410,0455,-16.7500, -83.6667, 4701,   4495.4,   1.7955,  34.6906,2,  34.6908,2,    153.7,2,    153.7,2,   128.39,2,    34.83,2,     0.01,2,     2.45,2, -999.000,9, -999.000,9, -999.000,1,-999.0000,1,  -999.00,9,   -999.0,1,-999.000,9,   -999.0,9,   -999.0,9,  -999.00,9,44750.8,-999.0000,-999.000,-999.000,  1.4119,-999.000
   318MWESTW_4,  P21E,    44,  1,      2, SI9302,2,19940410,0455,-16.7500, -83.6667, 4701,   4707.2,   1.8201,  34.6903,2,  34.6922,2,    154.4,2,    154.0,2,   128.75,2,    34.84,2,     0.00,2,     2.45,2, -999.000,9, -999.000,9, -999.000,1,-999.0000,1,  -999.00,9,   -999.0,1,-999.000,9,   -999.0,9,   -999.0,9,  -999.00,9,46856.2,-999.0000,-999.000,-999.000,  1.4106,-999.000
   318MWESTW_4,  P21E,    44,  1,      1, SI9301,2,19940410,0455,-16.7500, -83.6667, 4701,   4755.4,   1.8255,  34.6908,2,  34.6914,2,    154.5,2,    154.0,2,   128.68,2,    35.04,2,    -0.01,2,     2.46,2, -999.000,9, -999.000,9, -999.000,1,-999.0000,1,  -999.00,9,   -999.0,1,-999.000,9,   -999.0,9,   -999.0,9,  -999.00,9,47335.7,-999.0000,-999.000,-999.000,  1.4101,-999.000