BOTTLE,20010911WHPSIOdm
EXPOCODE,SECT_ID,STNNBR,CASTNO,SAMPNO,BTLNBR,BTLNBR_FLAG_W,DATE,TIME,LATITUDE,LONGITUDE,DEPTH,CTDPRS,CTDTMP,CTDSAL,CTDSAL_FLAG_W,SALNTY,SALNTY_FLAG_W,CTDOXY,CTDOXY_FLAG_W,OXYGEN,OXYGEN_FLAG_W,SILCAT,SILCAT_FLAG_W,NITRAT,NITRAT_FLAG_W,NITRIT,NITRIT_FLAG_W,PHSPHT,PHSPHT_FLAG_W,CFC-11,CFC-11_FLAG_W,CFC-12,CFC-12_FLAG_W,TRITUM,TRITUM_FLAG_W,HELIUM,HELIUM_FLAG_W,DELHE3,DELHE3_FLAG_W,DELC14,DELC14_FLAG_W,NEON,NEON_FLAG_W,TCARBN,TCARBN_FLAG_W,ALKALI,ALKALI_FLAG_W,PH,PH_FLAG_W,CTDRAW,HELIER,DELHER,NEONER,THETA,TRITER
,,,,,,,,,,,,DBAR,ITS-90,PSS-78,,PSS-78,,UMOL/KG,,UMOL/KG,,UMOL/KG,,UMOL/KG,,UMOL/KG,,UMOL/KG,,PMOL/KG,,PMOL/KG,,TU,,UMOL/KG,,PERCNT,,/MILLE,,NMOL/KG,,UMOL/KG,,UMOL/KG,,,,,NMOL/KG,PERCNT,NMOL/KG,ITS-90,TU
   318MWESTW_4,  P21E,   118,  1,     24, SI9404,2,19940502,0833,-16.7500,-125.3333, 3802,      5.8,  27.1530,  36.5818,2,  36.5821,2,    210.9,2,    205.8,2,     0.31,2,     0.02,2,     0.00,2,     0.24,2,    1.684,2,    0.959,2, -999.000,1,-999.0000,1,  -999.00,9,   -999.0,1,-999.000,9,   2034.8,2,   2403.0,2,     8.11,2,  108.6,-999.0000,-999.000,-999.000, 27.1517,-999.000
   318MWESTW_4,  P21E,   118,  1,     23, SI9405,2,19940502,0833,-16.7500,-125.3333, 3802,     24.1,  27.1632,  36.5808,2,  36.5815,2,    202.2,2,    205.2,2,     0.33,2,     0.01,2,     0.01,2,     0.24,2,    1.668,2,    0.947,2, -999.000,1,-999.0000,1,  -999.00,9,   -999.0,1,-999.000,9,   2035.8,2,   2403.0,2,     8.12,2,  291.6,-999.0000,-999.000,-999.000, 27.1576,-999.000
   318MWESTW_4,  P21E,   118,  1,     22, SI9407,2,19940502,0833,-16.7500,-125.3333, 3802,     49.7,  27.1688,  36.5824,2,  36.5829,2,    209.7,2,    206.0,2,     0.36,2,     0.01,2,     0.01,2,     0.25,2,    1.661,2,    0.946,2, -999.000,1,-999.0000,1,  -999.00,9,   -999.0,1,-999.000,9,   2036.8,2,   2404.0,2,     8.11,2,  546.9,-999.0000,-999.000,-999.000, 27.1573,-999.000
   318MWESTW_4,  P21E,   118,  1,     21, SI9408,2,19940502,0833,-16.7500,-125.3333, 3802,    100.8,  24.9477,  36.4982,2,  36.4990,2,    215.0,2,    215.1,2,     0.38,2,     0.06,2,     0.01,2,     0.24,2,    1.861,2,    1.052,2, -999.000,1,-999.0000,1,  -999.00,9,   -999.0,1,-999.000,9,   2049.8,2,   2399.0,2,     8.08,2, 1055.9,-999.0000,-999.000,-999.000, 24.9258,-999.000
   318MWESTW_4,  P21E,   118,  1,     20, SI9409,2,19940502,0833,-16.7500,-125.3333, 3802,    150.8,  23.0340,  36.2422,2,  36.2509,2,    213.2,2,    211.4,2,     0.24,2,     0.04,2,     0.03,2,     0.21,2,    1.956,2,    1.091,2, -999.000,1,-999.0000,1,  -999.00,9,   -999.0,1,-999.000,9,   2045.8,2,   2377.0,2,     8.06,2, 1553.9,-999.0000,-999.000,-999.000, 23.0030,-999.000
   318MWESTW_4,  P21E,   118,  1,     19, SI9411,2,19940502,0833,-16.7500,-125.3333, 3802,    201.3,  21.2167,  35.9580,2,  35.9720,2,    200.7,2,    204.6,2,     0.26,2,     0.18,2,     0.14,2,     0.25,2,    2.064,2,    1.128,2, -999.000,1,-999.0000,1,  -999.00,9,   -999.0,1,-999.000,9,   2054.8,2,   2360.0,2,     8.02,2, 2057.6,-999.0000,-999.000,-999.000, 21.1777,-999.000
   318MWESTW_4,  P21E,   118,  1,     18, SI9413,2,19940502,0833,-16.7500,-125.3333, 3802,    252.4,  18.1113,  35.4568,2,  35.4561,2,    195.0,2,    190.7,2,     0.76,2,     3.05,2,     0.01,2,     0.46,2,    2.025,2,    1.082,2, -999.000,1,-999.0000,1,  -999.00,9,   -999.0,1,-999.000,9,   2071.8,2,   2326.0,2,     7.95,2, 2565.8,-999.0000,-999.000,-999.000, 18.0676,-999.000
   318MWESTW_4,  P21E,   118,  1,     17, SI9415,2,19940502,0833,-16.7500,-125.3333, 3802,    302.6,  15.4620,  35.0510,2,  35.0734,2,    189.4,2,    186.3,2,     1.56,2,     6.42,2,     0.01,2,     0.66,2,    1.866,2,    0.983,2, -999.000,1,-999.0000,1,  -999.00,9,   -999.0,1,-999.000,9,   2082.8,2,   2304.0,2,     7.89,2, 3065.6,-999.0000,-999.000,-999.000, 15.4151,-999.000
   318MWESTW_4,  P21E,   118,  1,     16, SI9416,2,19940502,0833,-16.7500,-125.3333, 3802,    399.9,   9.8865,  34.5240,2,  34.5254,2,    123.1,2,    131.7,2,    10.99,2,    22.73,2,     0.00,2,     1.79,2,    0.693,2,    0.356,2, -999.000,1,-999.0000,1,  -999.00,9,   -999.0,1,-999.000,9,   2169.9,2,   2278.0,2,     7.65,2, 4033.9,-999.0000,-999.000,-999.000,  9.8402,-999.000
   318MWESTW_4,  P21E,   118,  1,     15, SI9417,2,19940502,0833,-16.7500,-125.3333, 3802,    501.6,   7.1102,  34.4424,2,  34.4442,2,    104.2,2,    102.7,2,    23.08,2,    34.08,2,     0.00,2,     2.39,2,    0.070,2,    0.045,2, -999.000,1,-999.0000,1,  -999.00,9,   -999.0,1,-999.000,9,   2223.9,2,   2286.0,2,     7.51,2, 5045.3,-999.0000,-999.000,-999.000,  7.0622,-999.000
   318MWESTW_4,  P21E,   118,  1,     14, SI9419,2,19940502,0833,-16.7500,-125.3333, 3802,    602.6,   6.0545,  34.4521,2,  34.4520,2,    104.8,2,     98.1,2,    34.39,2,    37.16,2,     0.00,2,     2.55,2,    0.010,2,    0.006,2, -999.000,1,-999.0000,1,  -999.00,9,   -999.0,1,-999.000,9,   2240.9,2,   2297.0,2,     7.50,2, 6049.6,-999.0000,-999.000,-999.000,  6.0012,-999.000
   318MWESTW_4,  P21E,   118,  1,     13, SI9420,2,19940502,0833,-16.7500,-125.3333, 3802,    699.2,   5.5737,  34.4728,2,  34.4718,2,     88.5,2,     85.8,2,    44.91,2,    39.26,2,    -0.01,2,     2.68,2,   -0.003,2,    0.000,2, -999.000,1,-999.0000,1,  -999.00,9,   -999.0,1,-999.000,9,   2258.9,2,   2307.0,2,     7.47,2, 7009.5,-999.0000,-999.000,-999.000,  5.5139,-999.000
   318MWESTW_4,  P21E,   118,  1,     12, SI9421,2,19940502,0833,-16.7500,-125.3333, 3802,    847.7,   4.9393,  34.5025,2,  34.5021,2,     81.6,2,     79.5,2,    60.44,2,    40.72,2,     0.00,2,     2.82,2,   -0.003,2,    0.001,2, -999.000,1,-999.0000,1,  -999.00,9,   -999.0,1,-999.000,9,   2279.0,2,   2321.0,2,     7.48,2, 8486.5,-999.0000,-999.000,-999.000,  4.8700,-999.000
   318MWESTW_4,  P21E,   118,  1,     11, SI9423,2,19940502,0833,-16.7500,-125.3333, 3802,   1095.6,   4.0924,  34.5327,2,  34.5333,2,     84.0,2,     81.9,2,    79.89,2,    41.01,2,     0.00,2,     2.86,2,   -0.003,2,    0.000,2, -999.000,1,-999.0000,1,  -999.00,9,   -999.0,1,-999.000,9,   2302.0,2,   2354.0,2,     7.45,2,10951.5,-999.0000,-999.000,-999.000,  4.0079,-999.000
   318MWESTW_4,  P21E,   118,  1,     10, SI9425,2,19940502,0833,-16.7500,-125.3333, 3802,   1399.0,   3.1576,  34.5765,2,  34.5757,2,    101.1,2,    102.2,2,   100.27,2,    39.44,2,     0.00,2,     2.77,2,   -0.004,2,    0.002,2, -999.000,1,-999.0000,1,  -999.00,9,   -999.0,1,-999.000,9,   2313.0,2,   2373.0,2,     7.49,2,13967.6,-999.0000,-999.000,-999.000,  3.0564,-999.000
   318MWESTW_4,  P21E,   118,  1,      9, SI9424,2,19940502,0833,-16.7500,-125.3333, 3802,   1701.9,   2.5605,  34.6085,2,  34.6087,2,    125.2,2,    124.4,2,   110.47,2,    37.69,2,    -0.01,2,     2.62,2,   -0.002,2,   -0.003,2, -999.000,1,-999.0000,1,  -999.00,9,   -999.0,1,-999.000,9,   2312.0,2,   2380.0,2,     7.53,2,16979.3,-999.0000,-999.000,-999.000,  2.4411,-999.000
   318MWESTW_4,  P21E,   118,  1,      8, SI9428,2,19940502,0833,-16.7500,-125.3333, 3802,   2004.2,   2.1020,  34.6418,2,  34.6423,2,    145.5,2,    144.8,2,   117.06,2,    36.16,2,     0.00,2,     2.49,2, -999.000,9, -999.000,9, -999.000,1,-999.0000,1,  -999.00,9,   -999.0,1,-999.000,9,   2307.0,2,   2388.0,2,     7.56,2,19984.3,-999.0000,-999.000,-999.000,  1.9636,-999.000
   318MWESTW_4,  P21E,   118,  1,      7, SI9429,2,19940502,0833,-16.7500,-125.3333, 3802,   2297.1,   1.9086,  34.6602,2,  34.6600,2,    151.4,2,    150.8,2,   122.25,2,    34.57,2,    -0.01,2,     2.44,2, -999.000,9, -999.000,9, -999.000,1,-999.0000,1,  -999.00,9,   -999.0,1,-999.000,9,   2310.0,2,   2399.0,2,     7.56,2,22896.8,-999.0000,-999.000,-999.000,  1.7481,-999.000
   318MWESTW_4,  P21E,   118,  1,      6, SI9431,2,19940502,0833,-16.7500,-125.3333, 3802,   2597.5,   1.7919,  34.6716,2,  34.6722,2,    153.4,2,    153.1,2,   127.27,2,    35.49,2,     0.00,2,     2.44,2, -999.000,9, -999.000,9, -999.000,1,-999.0000,1,  -999.00,9,   -999.0,1,-999.000,9,   2315.0,2,   2403.0,2,     7.58,2,25883.2,-999.0000,-999.000,-999.000,  1.6066,-999.000
   318MWESTW_4,  P21E,   118,  1,      5, SI9432,2,19940502,0833,-16.7500,-125.3333, 3802,   2897.1,   1.7223,  34.6757,2,  34.6763,2,    157.7,2,    157.0,2,   128.23,2,    35.26,2,     0.00,2,     2.42,2, -999.000,9, -999.000,9, -999.000,1,-999.0000,1,  -999.00,9,   -999.0,1,-999.000,9,   2313.0,2,   2406.0,2,     7.58,2,28861.2,-999.0000,-999.000,-999.000,  1.5105,-999.000
   318MWESTW_4,  P21E,   118,  1,      4, SI9433,2,19940502,0833,-16.7500,-125.3333, 3802,   3192.6,   1.6557,  34.6802,2,  34.6814,2,    161.3,2,    160.0,2,   129.24,2,    35.12,2,     0.00,2,     2.41,2, -999.000,9, -999.000,9, -999.000,1,-999.0000,1,  -999.00,9,   -999.0,1,-999.000,9,   2313.0,2,   2405.0,2,     7.59,2,31798.7,-999.0000,-999.000,-999.000,  1.4167,-999.000
   318MWESTW_4,  P21E,   118,  1,      3, SI9435,2,19940502,0833,-16.7500,-125.3333, 3802,   3498.9,   1.6283,  34.6835,2,  34.6846,2,    164.7,2,    161.9,2,   129.73,2,    34.92,2,     0.00,2,     2.40,2, -999.000,9, -999.000,9, -999.000,1,-999.0000,1,  -999.00,9,   -999.0,1,-999.000,9,   2311.0,2,   2406.0,2,     7.58,2,34844.5,-999.0000,-999.000,-999.000,  1.3590,-999.000
   318MWESTW_4,  P21E,   118,  1,      2, SI9401,2,19940502,0833,-16.7500,-125.3333, 3802,   3752.6,   1.6360,  34.6846,2,  34.6838,2,    165.6,2,    163.6,2,   130.29,2,    35.02,2,     0.00,2,     2.40,2, -999.000,9, -999.000,9, -999.000,1,-999.0000,1,  -999.00,9,   -999.0,1,-999.000,9,   2311.0,2,   2404.0,2,     7.59,2,37366.1,-999.0000,-999.000,-999.000,  1.3400,-999.000
   318MWESTW_4,  P21E,   118,  1,      1, SI9403,2,19940502,0833,-16.7500,-125.3333, 3802,   3840.6,   1.6378,  34.6852,2,  34.6855,2,    164.0,2,    164.5,2,   130.07,2,    34.83,2,     0.00,2,     2.40,2, -999.000,9, -999.000,9, -999.000,1,-999.0000,1,  -999.00,9,   -999.0,1,-999.000,9,   2310.0,2,   2406.0,2,     7.58,2,38241.1,-999.0000,-999.000,-999.000,  1.3323,-999.000
   318MWESTW_4,  P21E,   119,  1,     24, SI9404,2,19940502,1502,-16.7500,-126.0000, 3730,      8.2,  27.1543,  36.6086,2,  36.6106,2,    201.5,2,    213.5,2,     0.36,2,     0.01,2,     0.00,2,     0.22,2,    1.666,2,    0.949,2,    0.804,2,   1.6512,2,    -1.54,2,   -999.0,1,   6.563,2,   -999.0,9,   -999.0,9,  -999.00,9,  131.1,  0.0083,   0.080,   0.033, 27.1524,   0.007
   318MWESTW_4,  P21E,   119,  1,     23, SI9405,2,19940502,1502,-16.7500,-126.0000, 3730,     24.7,  27.1693,  36.6082,2,  36.6096,2,    207.9,2,    212.0,2,     0.39,2,     0.01,2,     0.00,2,     0.22,2,    1.666,2,    0.954,2,    0.799,2,   1.6781,2,    -1.27,2,   -999.0,1,   6.591,2,   -999.0,9,   -999.0,9,  -999.00,9,  296.7,  0.0084,   0.080,   0.033, 27.1636,   0.007
   318MWESTW_4,  P21E,   119,  1,     22, SI9407,2,19940502,1502,-16.7500,-126.0000, 3730,     48.4,  27.1760,  36.6074,2,  36.6076,2,    205.5,2,    206.7,2,     0.42,2,     0.02,2,     0.00,2,     0.22,2,    1.675,2,    0.965,2,    0.813,2,   1.6818,2,    -1.13,2,   -999.0,1,   6.611,2,   -999.0,9,   -999.0,9,  -999.00,9,  533.0,  0.0084,   0.080,   0.033, 27.1648,   0.007
   318MWESTW_4,  P21E,   119,  1,     21, SI9408,2,19940502,1502,-16.7500,-126.0000, 3730,     99.4,  24.8553,  36.4679,2,  36.4679,2,    215.4,2,    218.3,2,     0.30,2,     0.02,2,     0.00,2,     0.20,2,    1.877,2,    1.034,2,    0.746,2,   1.6970,2,    -1.26,2,   -999.0,1,   6.745,2,   -999.0,9,   -999.0,9,  -999.00,9, 1041.3,  0.0085,   0.080,   0.034, 24.8337,   0.007
   318MWESTW_4,  P21E,   119,  1,     20, SI9409,2,19940502,1502,-16.7500,-126.0000, 3730,    149.9,  23.6525,  36.3665,2,  36.3665,2,    207.2,2,    210.7,2,     0.33,2,     0.02,2,     0.14,2,     0.22,2,    1.900,2,    1.062,2,    0.765,2,   1.6994,2,    -1.24,2,   -999.0,1,   6.759,2,   -999.0,9,   -999.0,9,  -999.00,9, 1544.7,  0.0085,   0.080,   0.034, 23.6211,   0.007
   318MWESTW_4,  P21E,   119,  1,     19, SI9411,2,19940502,1502,-16.7500,-126.0000, 3730,    198.1,  22.2062,  36.1880,2,  36.1923,2,    190.3,2,    189.2,2,     0.52,2,     1.71,2,     0.21,2,     0.42,2,    1.998,2,    1.096,2,    0.657,2,   1.7094,2,    -1.11,2,   -999.0,1,   6.850,2,   -999.0,9,   -999.0,9,  -999.00,9, 2024.7,  0.0085,   0.080,   0.034, 22.1665,   0.007
   318MWESTW_4,  P21E,   119,  1,     18, SI9413,2,19940502,1502,-16.7500,-126.0000, 3730,    250.4,  19.8839,  35.7629,2,  35.7697,2,    184.9,2,    183.4,2,     0.85,2,     3.38,2,     0.01,2,     0.54,2,    2.088,2,    1.101,2,    0.591,2,   1.7213,2,    -0.77,2,   -999.0,1,   6.969,2,   -999.0,9,   -999.0,9,  -999.00,9, 2545.3,  0.0086,   0.080,   0.035, 19.8375,   0.006
   318MWESTW_4,  P21E,   119,  1,     17, SI9415,2,19940502,1502,-16.7500,-126.0000, 3730,    290.5,  17.2210,  35.3244,2,  35.3236,2,    181.7,2,    180.4,2,     1.64,2,     5.39,2,     0.00,2,     0.63,2,    1.946,2,    1.026,2,    0.571,2,   1.7382,2,     0.12,2,   -999.0,1,   7.118,2,   -999.0,9,   -999.0,9,  -999.00,9, 2945.6,  0.0087,   0.080,   0.036, 17.1724,   0.006
   318MWESTW_4,  P21E,   119,  1,     16, SI9416,2,19940502,1502,-16.7500,-126.0000, 3730,    399.4,   9.9033,  34.5217,2,  34.5184,2,    111.9,2,    113.8,2,    12.77,2,    24.00,2,    -0.01,2,     1.94,2,    0.626,2,    0.313,2,    0.192,2,   1.7698,2,     1.55,2,   -999.0,1,   7.509,2,   -999.0,9,   -999.0,9,  -999.00,9, 4028.3,  0.0088,   0.080,   0.038,  9.8570,   0.004
   318MWESTW_4,  P21E,   119,  1,     15, SI9417,2,19940502,1502,-16.7500,-126.0000, 3730,    501.7,   7.3121,  34.4552,2,  34.4508,2,     97.1,2,     98.8,2,    22.39,2,    33.55,2,     0.00,2,     2.43,2,    0.087,2,    0.049,2,    0.028,2,   1.7818,2,     2.09,2,   -999.0,1,   7.624,2,   -999.0,9,   -999.0,9,  -999.00,9, 5045.9,  0.0089,   0.080,   0.038,  7.2633,   0.004
   318MWESTW_4,  P21E,   119,  1,     14, SI9419,2,19940502,1502,-16.7500,-126.0000, 3730,    599.6,   6.2302,  34.4389,2,  34.4381,2,    106.6,2,    106.5,2,    30.17,2,    35.95,2,    -0.01,2,     2.51,2,    0.020,2,    0.008,2,    0.002,2,   1.7912,2,     3.96,2,   -999.0,1,   7.708,2,   -999.0,9,   -999.0,9,  -999.00,9, 6019.5,  0.0090,   0.090,   0.039,  6.1764,   0.004
   318MWESTW_4,  P21E,   119,  1,     13, SI9420,2,19940502,1502,-16.7500,-126.0000, 3730,    700.5,   5.7209,  34.4744,2,  34.4730,2,     89.6,2,     88.6,2,    42.83,2,    38.64,2,     0.00,2,     2.69,2,    0.002,2,    0.001,2,    0.004,2,   1.8118,2,     7.74,2,   -999.0,1,   7.766,2,   -999.0,9,   -999.0,9,  -999.00,9, 7022.6,  0.0091,   0.090,   0.039,  5.6602,   0.004
   318MWESTW_4,  P21E,   119,  1,     12, SI9421,2,19940502,1502,-16.7500,-126.0000, 3730,    852.0,   5.0302,  34.4969,2,  34.4954,2,     84.3,2,     82.9,2,    57.62,2,    40.22,2,     0.00,2,     2.84,2,    0.000,2,    0.000,2,    0.002,2,   1.8301,2,    11.91,2,   -999.0,1,   7.815,2,   -999.0,9,   -999.0,9,  -999.00,9, 8529.6,  0.0092,   0.090,   0.039,  4.9599,   0.004
   318MWESTW_4,  P21E,   119,  1,     11, SI9423,2,19940502,1502,-16.7500,-126.0000, 3730,   1109.4,   4.0503,  34.5346,2,  34.5339,2,     86.0,2,     84.9,2,    80.47,2,    40.79,2,     0.00,2,     2.90,2,    0.003,2,    0.000,2,   -0.004,2,-999.0000,1,  -999.00,9,   -999.0,1,-999.000,9,   -999.0,9,   -999.0,9,  -999.00,9,11088.6,-999.0000,-999.000,-999.000,  3.9650,   0.003
   318MWESTW_4,  P21E,   119,  1,     10, SI9425,2,19940502,1502,-16.7500,-126.0000, 3730,   1405.1,   3.1695,  34.5764,2,  34.5757,2,    102.4,2,    101.2,2,   100.88,2,    39.60,2,     0.00,2,     2.82,2,   -0.001,2,   -0.003,2,   -0.004,2,   1.8823,2,    22.33,2,   -999.0,1,   7.970,2,   -999.0,9,   -999.0,9,  -999.00,9,14028.4,  0.0094,   0.100,   0.040,  3.0677,   0.003
   318MWESTW_4,  P21E,   119,  1,      9, SI9424,2,19940502,1502,-16.7500,-126.0000, 3730,   1698.0,   2.5356,  34.6121,2,  34.6124,2,    121.4,2,    123.1,2,   112.48,2,    37.84,2,     0.00,2,     2.67,2,    0.000,2,    0.001,2,   -0.001,2,   1.9064,2,    26.25,2,   -999.0,1,   8.037,2,   -999.0,9,   -999.0,9,  -999.00,9,16940.7,  0.0095,   0.100,   0.040,  2.4169,   0.004
   318MWESTW_4,  P21E,   119,  1,      8, SI9428,2,19940502,1502,-16.7500,-126.0000, 3730,   2002.0,   2.0989,  34.6424,2,  34.6433,2,    142.8,2,    143.9,2,   117.84,2,    36.27,2,     0.00,2,     2.53,2, -999.000,9, -999.000,9, -999.000,1,-999.0000,1,  -999.00,9,   -999.0,1,-999.000,9,   -999.0,9,   -999.0,9,  -999.00,9,19963.0,-999.0000,-999.000,-999.000,  1.9608,-999.000
   318MWESTW_4,  P21E,   119,  1,      7, SI9429,2,19940502,1502,-16.7500,-126.0000, 3730,   2300.2,   1.9138,  34.6595,2,  34.6598,2,    149.5,2,    150.5,2,   122.44,2,    35.71,2,    -0.01,2,     2.48,2, -999.000,9, -999.000,9, -999.000,1,-999.0000,1,  -999.00,9,   -999.0,1,-999.000,9,   -999.0,9,   -999.0,9,  -999.00,9,22927.4,-999.0000,-999.000,-999.000,  1.7529,-999.000
   318MWESTW_4,  P21E,   119,  1,      6, SI9431,2,19940502,1502,-16.7500,-126.0000, 3730,   2588.9,   1.7983,  34.6709,2,  34.6702,2,    152.6,2,    153.3,2,   127.35,2,    35.56,2,     0.00,2,     2.47,2, -999.000,9, -999.000,9, -999.000,1,-999.0000,1,  -999.00,9,   -999.0,1,-999.000,9,   -999.0,9,   -999.0,9,  -999.00,9,25797.1,-999.0000,-999.000,-999.000,  1.6137,-999.000
   318MWESTW_4,  P21E,   119,  1,      5, SI9432,2,19940502,1502,-16.7500,-126.0000, 3730,   2900.1,   1.7321,  34.6756,2,  34.6757,2,    156.6,2,    156.4,2,   128.76,2,    35.33,2,    -0.01,2,     2.47,2, -999.000,9, -999.000,9, -999.000,1,-999.0000,1,  -999.00,9,   -999.0,1,-999.000,9,   -999.0,9,   -999.0,9,  -999.00,9,28891.1,-999.0000,-999.000,-999.000,  1.5198,-999.000
   318MWESTW_4,  P21E,   119,  1,      4, SI9433,2,19940502,1502,-16.7500,-126.0000, 3730,   3150.1,   1.6762,  34.6796,2,  34.6793,2,    160.3,2,    159.8,2,   129.41,2,    35.19,2,    -0.01,2,     2.44,2, -999.000,9, -999.000,9, -999.000,1,-999.0000,1,  -999.00,9,   -999.0,1,-999.000,9,   -999.0,9,   -999.0,9,  -999.00,9,31376.9,-999.0000,-999.000,-999.000,  1.4409,-999.000
   318MWESTW_4,  P21E,   119,  1,      3, SI9435,2,19940502,1502,-16.7500,-126.0000, 3730,   3394.4,   1.6379,  34.6819,2,  34.6824,2,    163.3,2,    162.1,2,   130.06,2,    34.95,2,    -0.01,2,     2.44,2, -999.000,9, -999.000,9, -999.000,1,-999.0000,1,  -999.00,9,   -999.0,1,-999.000,9,   -999.0,9,   -999.0,9,  -999.00,9,33805.2,-999.0000,-999.000,-999.000,  1.3791,-999.000
   318MWESTW_4,  P21E,   119,  1,      2, SI9401,2,19940502,1502,-16.7500,-126.0000, 3730,   3653.5,   1.6262,  34.6840,2,  34.6855,2,    163.7,2,    163.6,2,   130.86,2,    34.84,2,     0.01,2,     2.44,2, -999.000,9, -999.000,9, -999.000,1,-999.0000,1,  -999.00,9,   -999.0,1,-999.000,9,   -999.0,9,   -999.0,9,  -999.00,9,36381.1,-999.0000,-999.000,-999.000,  1.3409,-999.000
   318MWESTW_4,  P21E,   119,  1,      1, SI9403,2,19940502,1502,-16.7500,-126.0000, 3730,   3750.5,   1.6303,  34.6845,2,  34.6851,2,    164.6,2,    163.7,2,   130.26,2,    34.86,2,     0.00,2,     2.42,2, -999.000,9, -999.000,9, -999.000,1,-999.0000,1,  -999.00,9,   -999.0,1,-999.000,9,   -999.0,9,   -999.0,9,  -999.00,9,37345.0,-999.0000,-999.000,-999.000,  1.3347,-999.000