BOTTLE,20010911WHPSIOdm
EXPOCODE,SECT_ID,STNNBR,CASTNO,SAMPNO,BTLNBR,BTLNBR_FLAG_W,DATE,TIME,LATITUDE,LONGITUDE,DEPTH,CTDPRS,CTDTMP,CTDSAL,CTDSAL_FLAG_W,SALNTY,SALNTY_FLAG_W,CTDOXY,CTDOXY_FLAG_W,OXYGEN,OXYGEN_FLAG_W,SILCAT,SILCAT_FLAG_W,NITRAT,NITRAT_FLAG_W,NITRIT,NITRIT_FLAG_W,PHSPHT,PHSPHT_FLAG_W,CFC-11,CFC-11_FLAG_W,CFC-12,CFC-12_FLAG_W,TRITUM,TRITUM_FLAG_W,HELIUM,HELIUM_FLAG_W,DELHE3,DELHE3_FLAG_W,DELC14,DELC14_FLAG_W,NEON,NEON_FLAG_W,TCARBN,TCARBN_FLAG_W,ALKALI,ALKALI_FLAG_W,PH,PH_FLAG_W,CTDRAW,HELIER,DELHER,NEONER,THETA,TRITER
,,,,,,,,,,,,DBAR,ITS-90,PSS-78,,PSS-78,,UMOL/KG,,UMOL/KG,,UMOL/KG,,UMOL/KG,,UMOL/KG,,UMOL/KG,,PMOL/KG,,PMOL/KG,,TU,,UMOL/KG,,PERCNT,,/MILLE,,NMOL/KG,,UMOL/KG,,UMOL/KG,,,,,NMOL/KG,PERCNT,NMOL/KG,ITS-90,TU
   318MWESTW_4,  P21E,   102,  1,     36, SI9336,2,19940427,2040,-16.7500,-114.6667, 3265,      9.1,  26.1462,  36.3284,2,  36.3295,2,    213.9,2,    215.6,2,     0.66,2,    -0.01,2,     0.01,2,     0.27,2,    1.781,2,    0.996,2, -999.000,1,-999.0000,1,  -999.00,9,   -999.0,1,-999.000,9,   2035.8,2,   2389.0,2,     8.09,2,  131.8,-999.0000,-999.000,-999.000, 26.1442,-999.000
   318MWESTW_4,  P21E,   102,  1,     35, SI9335,2,19940427,2040,-16.7500,-114.6667, 3265,     25.2,  26.0648,  36.3297,2,  36.3281,2,    217.8,2,    214.1,2,     0.68,2,    -0.01,2,     0.01,2,     0.28,2,    1.796,2,    1.041,2, -999.000,1,-999.0000,1,  -999.00,9,   -999.0,1,-999.000,9,   2034.8,2,   2391.0,2,     8.09,2,  293.3,-999.0000,-999.000,-999.000, 26.0591,-999.000
   318MWESTW_4,  P21E,   102,  1,     34, SI9334,2,19940427,2040,-16.7500,-114.6667, 3265,     50.5,  26.0521,  36.3245,2,  36.3307,2,    216.3,2,    216.9,2,     0.70,2,    -0.01,2,     0.01,2,     0.29,2,    1.793,2,    0.998,2, -999.000,1,-999.0000,1,  -999.00,9,   -999.0,1,-999.000,9,   2038.8,2,   2388.0,2,     8.09,2,  546.4,-999.0000,-999.000,-999.000, 26.0408,-999.000
   318MWESTW_4,  P21E,   102,  1,     33, SI9333,2,19940427,2040,-16.7500,-114.6667, 3265,    100.3,  23.9403,  36.4506,2,  36.4378,2,    227.2,2,    226.3,2,     0.56,2,     0.00,2,     0.00,2,     0.31,2,    1.973,2,    1.092,2, -999.000,1,-999.0000,1,  -999.00,9,   -999.0,1,-999.000,9,   2061.8,2,   2398.0,2,     8.06,2, 1043.7,-999.0000,-999.000,-999.000, 23.9191,-999.000
   318MWESTW_4,  P21E,   102,  1,     32, SI9332,2,19940427,2040,-16.7500,-114.6667, 3265,    150.3,  22.4506,  36.2820,2,  36.2944,2,    217.8,2,    208.1,2,     0.42,2,     0.03,2,     0.25,2,     0.33,2,    2.063,2,    1.111,2, -999.000,1,-999.0000,1,  -999.00,9,   -999.0,1,-999.000,9,   2074.8,2,   2384.0,2,     8.03,2, 1544.1,-999.0000,-999.000,-999.000, 22.4203,-999.000
   318MWESTW_4,  P21E,   102,  1,     31, SI9331,2,19940427,2040,-16.7500,-114.6667, 3265,    200.8,  20.5679,  35.8536,2,  35.9016,2,    204.1,2,    194.4,2,     0.65,2,     2.09,2,     0.04,2,     0.49,2,    2.165,2,    1.163,2, -999.000,1,-999.0000,1,  -999.00,9,   -999.0,1,-999.000,9,   2086.8,2,   2362.0,2,     7.97,2, 2048.5,-999.0000,-999.000,-999.000, 20.5298,-999.000
   318MWESTW_4,  P21E,   102,  1,     30, SI9330,2,19940427,2040,-16.7500,-114.6667, 3265,    253.9,  17.4852,  35.2679,2,  35.3392,2,    191.4,2,    184.6,2,     1.48,2,     5.00,2,     0.01,2,     0.66,2,    2.131,2,    1.107,2, -999.000,1,-999.0000,1,  -999.00,9,   -999.0,1,-999.000,9,   2089.8,2,   2322.0,2,     7.91,2, 2579.6,-999.0000,-999.000,-999.000, 17.4423,-999.000
   318MWESTW_4,  P21E,   102,  1,     29, SI9329,2,19940427,2040,-16.7500,-114.6667, 3265,    303.2,  13.9034,  34.8303,2,  34.8576,2,    161.0,2,    154.0,2,     4.69,2,    11.74,2,     0.01,2,     1.14,2,    1.664,2,    0.834,2, -999.000,1,-999.0000,1,  -999.00,9,   -999.0,1,-999.000,9,   2120.8,2,   2293.0,2,     7.79,2, 3072.1,-999.0000,-999.000,-999.000, 13.8597,-999.000
   318MWESTW_4,  P21E,   102,  1,     28, SI9328,2,19940427,2040,-16.7500,-114.6667, 3265,    401.0,   9.3959,  34.5347,2,  34.5465,2,     59.0,2,     55.5,2,    20.70,2,    30.94,2,     0.00,2,     2.51,2,    0.228,2,    0.106,2, -999.000,1,-999.0000,1,  -999.00,9,   -999.0,1,-999.000,9,   2237.9,2,   2283.0,2,     7.47,2, 4048.9,-999.0000,-999.000,-999.000,  9.3509,-999.000
   318MWESTW_4,  P21E,   102,  1,     27, SI9327,2,19940427,2040,-16.7500,-114.6667, 3265,    501.3,   7.4862,  34.4818,2,  34.4883,2,     82.3,2,     78.3,2,    25.62,2,    35.41,2,     0.00,2,     2.56,2,    0.057,2,    0.031,2, -999.000,1,-999.0000,1,  -999.00,9,   -999.0,1,-999.000,9,   2239.9,2,   2288.0,2,     7.47,2, 5051.3,-999.0000,-999.000,-999.000,  7.4368,-999.000
   318MWESTW_4,  P21E,   102,  1,     26, SI9326,2,19940427,2040,-16.7500,-114.6667, 3265,    602.1,   6.4207,  34.4707,2,  34.4667,3,     91.1,2,     89.8,2,    32.67,2,    37.29,2,     0.00,2,     2.63,2,    0.018,2,    0.011,2, -999.000,1,-999.0000,1,  -999.00,9,   -999.0,1,-999.000,9,   2244.9,2,   2292.0,2,     7.49,2, 6058.0,-999.0000,-999.000,-999.000,  6.3658,-999.000
   318MWESTW_4,  P21E,   102,  1,     25, SI9325,2,19940427,2040,-16.7500,-114.6667, 3265,    697.1,   5.8293,  34.4878,2,  34.4893,2,     78.3,2,     76.1,2,    44.36,2,    39.74,2,     0.00,2,     2.81,2,   -0.001,2,    0.000,2, -999.000,1,-999.0000,1,  -999.00,9,   -999.0,1,-999.000,9,   2262.9,2,   2305.0,2,     7.46,2, 7007.0,-999.0000,-999.000,-999.000,  5.7684,-999.000
   318MWESTW_4,  P21E,   102,  1,     24, SI9324,3,19940427,2040,-16.7500,-114.6667, 3265,    799.1,   5.2805,  34.4963,2,  34.4985,2,     75.8,2,     74.2,2,    54.61,2,    40.96,2,     0.00,2,     2.89,2,    0.001,2,   -0.003,2, -999.000,1,-999.0000,1,  -999.00,9,   -999.0,1,-999.000,9,   2279.0,2,   2319.0,2,     7.45,2, 8025.3,-999.0000,-999.000,-999.000,  5.2134,-999.000
   318MWESTW_4,  P21E,   102,  1,     23, SI9323,2,19940427,2040,-16.7500,-114.6667, 3265,    899.2,   4.7843,  34.5074,2,  34.5089,2,     76.6,2,     74.2,2,    65.02,2,    41.45,2,     0.00,2,     2.96,2,   -0.003,2,   -0.002,2, -999.000,1,-999.0000,1,  -999.00,9,   -999.0,1,-999.000,9,   2291.0,2,   2326.0,2,     7.44,2, 9025.1,-999.0000,-999.000,-999.000,  4.7115,-999.000
   318MWESTW_4,  P21E,   102,  1,     22, SI9322,2,19940427,2040,-16.7500,-114.6667, 3265,   1001.0,   4.4014,  34.5205,2,  34.5225,2,     77.6,2,     75.0,2,    73.82,2,    41.64,2,    -0.01,2,     2.98,2,   -0.002,2,   -0.001,2, -999.000,1,-999.0000,1,  -999.00,9,   -999.0,1,-999.000,9,   2300.0,2,   2339.0,2,     7.44,2,10042.1,-999.0000,-999.000,-999.000,  4.3225,-999.000
   318MWESTW_4,  P21E,   102,  1,     21, SI9321,2,19940427,2040,-16.7500,-114.6667, 3265,   1101.4,   4.0273,  34.5351,2,  34.5370,2,     78.7,2,     78.6,2,    82.79,2,    41.52,2,     0.00,2,     2.97,2, -999.000,9, -999.000,9, -999.000,1,-999.0000,1,  -999.00,9,   -999.0,1,-999.000,9,   2305.0,2,   2344.0,2,     7.45,2,11045.2,-999.0000,-999.000,-999.000,  3.9428,-999.000
   318MWESTW_4,  P21E,   102,  1,     20, SI9320,2,19940427,2040,-16.7500,-114.6667, 3265,   1202.3,   3.7498,  34.5463,2,  34.5488,2,     84.3,2,     83.6,2,    89.19,2,    41.16,2,     0.00,2,     2.96,2, -999.000,9, -999.000,9, -999.000,1,-999.0000,1,  -999.00,9,   -999.0,1,-999.000,9,   2311.0,2,   2354.0,2,     7.45,2,12052.9,-999.0000,-999.000,-999.000,  3.6592,-999.000
   318MWESTW_4,  P21E,   102,  1,     19, SI9319,2,19940427,2040,-16.7500,-114.6667, 3265,   1295.9,   3.4886,  34.5609,2,  34.5614,2,     88.0,2,     88.1,2,    95.59,2,    40.87,2,    -0.01,2,     2.94,2, -999.000,9, -999.000,9, -999.000,1,-999.0000,1,  -999.00,9,   -999.0,1,-999.000,9,   2317.0,2,   2357.0,2,     7.46,2,12987.5,-999.0000,-999.000,-999.000,  3.3926,-999.000
   318MWESTW_4,  P21E,   102,  1,     18, SI9318,2,19940427,2040,-16.7500,-114.6667, 3265,   1400.1,   3.1859,  34.5764,2,  34.5793,2,     92.5,2,     93.2,2,   103.44,2,    40.44,2,     0.00,2,     2.91,2, -999.000,9, -999.000,9, -999.000,1,-999.0000,1,  -999.00,9,   -999.0,1,-999.000,9,   2321.0,2,   2370.0,2,     7.47,2,14029.2,-999.0000,-999.000,-999.000,  3.0843,-999.000
   318MWESTW_4,  P21E,   102,  1,     17, SI9317,2,19940427,2040,-16.7500,-114.6667, 3265,   1498.9,   2.9761,  34.5867,2,  34.5887,2,     96.6,2,     97.8,2,   108.08,2,    40.09,2,    -0.01,2,     2.88,2, -999.000,9, -999.000,9, -999.000,1,-999.0000,1,  -999.00,9,   -999.0,1,-999.000,9,   2325.0,2,   2372.0,2,     7.48,2,15016.1,-999.0000,-999.000,-999.000,  2.8686,-999.000
   318MWESTW_4,  P21E,   102,  1,     16, SI9316,2,19940427,2040,-16.7500,-114.6667, 3265,   1599.1,   2.7604,  34.6017,2,  34.6026,2,    102.8,2,    103.4,2,   113.20,2,    39.66,2,     0.00,2,     2.84,2, -999.000,9, -999.000,9, -999.000,1,-999.0000,1,  -999.00,9,   -999.0,1,-999.000,9,   2326.0,2,   2381.0,2,     7.49,2,16017.0,-999.0000,-999.000,-999.000,  2.6471,-999.000
   318MWESTW_4,  P21E,   102,  1,     15, SI9315,2,19940427,2040,-16.7500,-114.6667, 3265,   1697.2,   2.6127,  34.6114,2,  34.6126,2,    107.7,2,    109.5,2,   116.08,2,    39.06,2,     0.00,2,     2.82,2, -999.000,9, -999.000,9, -999.000,1,-999.0000,1,  -999.00,9,   -999.0,1,-999.000,9,   2325.0,2,   2382.0,2,     7.50,2,16996.5,-999.0000,-999.000,-999.000,  2.4930,-999.000
   318MWESTW_4,  P21E,   102,  1,     14, SI9314,2,19940427,2040,-16.7500,-114.6667, 3265,   1799.5,   2.4379,  34.6229,2,  34.6229,2,    117.1,2,    117.6,2,   118.50,2,    38.40,2,    -0.01,2,     2.75,2, -999.000,9, -999.000,9, -999.000,1,-999.0000,1,  -999.00,9,   -999.0,1,-999.000,9,   2324.0,2,   2387.0,2,     7.51,2,18018.6,-999.0000,-999.000,-999.000,  2.3120,-999.000
   318MWESTW_4,  P21E,   102,  1,     13, SI9313,2,19940427,2040,-16.7500,-114.6667, 3265,   1900.0,   2.3260,  34.6293,2,  34.6288,2,    125.0,2,    125.1,2,   118.66,2,    37.79,2,     0.00,2,     2.70,2, -999.000,9, -999.000,9, -999.000,1,-999.0000,1,  -999.00,9,   -999.0,1,-999.000,9,   2321.0,2,   2386.0,2,     7.54,2,19022.9,-999.0000,-999.000,-999.000,  2.1932,-999.000
   318MWESTW_4,  P21E,   102,  1,     12, SI9312,2,19940427,2040,-16.7500,-114.6667, 3265,   1996.9,   2.1694,  34.6388,2,  34.6380,2,    138.5,2,    137.7,2,   118.04,2,    36.76,2,     0.00,2,     2.61,2, -999.000,9, -999.000,9, -999.000,1,-999.0000,1,  -999.00,9,   -999.0,1,-999.000,9,   2313.0,2,   2388.0,2,     7.55,2,19991.0,-999.0000,-999.000,-999.000,  2.0306,-999.000
   318MWESTW_4,  P21E,   102,  1,     11, SI9311,2,19940427,2040,-16.7500,-114.6667, 3265,   2097.7,   2.0305,  34.6482,2,  34.6502,2,    149.9,2,    149.5,2,   117.09,2,    35.98,2,    -0.01,2,     2.55,2, -999.000,9, -999.000,9, -999.000,1,-999.0000,1,  -999.00,9,   -999.0,1,-999.000,9,   2306.0,2,   2385.0,2,     7.57,2,20998.4,-999.0000,-999.000,-999.000,  1.8853,-999.000
   318MWESTW_4,  P21E,   102,  1,     10, SI9310,2,19940427,2040,-16.7500,-114.6667, 3265,   2197.3,   1.9665,  34.6539,2,  34.6547,2,    153.3,2,    153.2,2,   117.90,2,    35.49,2,     0.00,2,     2.51,2, -999.000,9, -999.000,9, -999.000,1,-999.0000,1,  -999.00,9,   -999.0,1,-999.000,9,   2306.0,2,   2388.0,2,     7.57,2,21993.1,-999.0000,-999.000,-999.000,  1.8137,-999.000
   318MWESTW_4,  P21E,   102,  1,      9, SI9309,2,19940427,2040,-16.7500,-114.6667, 3265,   2299.5,   1.9085,  34.6614,2,  34.6616,2,    155.3,2,    154.9,2,   119.82,2,    35.38,2,    -0.01,2,     2.51,2, -999.000,9, -999.000,9, -999.000,1,-999.0000,1,  -999.00,9,   -999.0,1,-999.000,9,   2307.0,2,   2389.0,2,     7.58,2,23013.9,-999.0000,-999.000,-999.000,  1.7478,-999.000
   318MWESTW_4,  P21E,   102,  1,      8, SI9308,2,19940427,2040,-16.7500,-114.6667, 3265,   2400.5,   1.8667,  34.6688,2,  34.6694,2,    155.1,2,    154.4,2,   123.02,2,    35.31,2,     0.00,2,     2.51,2, -999.000,9, -999.000,9, -999.000,1,-999.0000,1,  -999.00,9,   -999.0,1,-999.000,9,   2310.0,2,   2396.0,2,     7.58,2,24023.7,-999.0000,-999.000,-999.000,  1.6978,-999.000
   318MWESTW_4,  P21E,   102,  1,      7, SI9307,2,19940427,2040,-16.7500,-114.6667, 3265,   2501.4,   1.8548,  34.6716,2,  34.6722,2,    155.1,2,    154.7,2,   124.31,2,    35.33,2,    -0.01,2,     2.48,2, -999.000,9, -999.000,9, -999.000,1,-999.0000,1,  -999.00,9,   -999.0,1,-999.000,9,   2311.0,2,   2397.0,2,     7.58,2,25031.6,-999.0000,-999.000,-999.000,  1.6770,-999.000
   318MWESTW_4,  P21E,   102,  1,      6, SI9306,2,19940427,2040,-16.7500,-114.6667, 3265,   2650.2,   1.8535,  34.6729,2,  34.6736,2,    155.1,2,    154.7,2,   124.96,2,    35.38,2,     0.01,2,     2.50,2, -999.000,9, -999.000,9, -999.000,1,-999.0000,1,  -999.00,9,   -999.0,1,-999.000,9,   2310.0,2,   2399.0,2,     7.58,2,26517.9,-999.0000,-999.000,-999.000,  1.6621,-999.000
   318MWESTW_4,  P21E,   102,  1,      5, SI9305,2,19940427,2040,-16.7500,-114.6667, 3265,   2799.0,   1.8351,  34.6747,2,  34.6737,2,    156.0,2,    155.7,2,   125.77,2,    35.34,2,    -0.01,2,     2.49,2, -999.000,9, -999.000,9, -999.000,1,-999.0000,1,  -999.00,9,   -999.0,1,-999.000,9,   2313.0,2,   2399.0,2,     7.59,2,28005.6,-999.0000,-999.000,-999.000,  1.6302,-999.000
   318MWESTW_4,  P21E,   102,  1,      4, SI9304,2,19940427,2040,-16.7500,-114.6667, 3265,   2953.1,   1.8106,  34.6755,2,  34.6737,2,    158.9,2,    157.9,2,   125.77,2,    35.28,2,     0.00,2,     2.48,2, -999.000,9, -999.000,9, -999.000,1,-999.0000,1,  -999.00,9,   -999.0,1,-999.000,9,   2310.0,2,   2401.0,2,     7.58,2,29545.5,-999.0000,-999.000,-999.000,  1.5915,-999.000
   318MWESTW_4,  P21E,   102,  1,      3, SI9303,2,19940427,2040,-16.7500,-114.6667, 3265,   3103.4,   1.7915,  34.6759,2,  34.6757,2,    160.3,2,    159.3,2,   125.95,2,    35.22,2,     0.00,2,     2.48,2, -999.000,9, -999.000,9, -999.000,1,-999.0000,1,  -999.00,9,   -999.0,1,-999.000,9,   2310.0,2,   2398.0,2,     7.59,2,31047.1,-999.0000,-999.000,-999.000,  1.5582,-999.000
   318MWESTW_4,  P21E,   102,  1,      2, SI9302,2,19940427,2040,-16.7500,-114.6667, 3265,   3236.0,   1.7970,  34.6763,2,  34.6796,4,    160.8,2,    159.3,2,   125.79,2,    35.23,2,     0.00,2,     2.47,2, -999.000,9, -999.000,9, -999.000,1,-999.0000,1,  -999.00,9,   -999.0,1,-999.000,9,   2312.0,2,   2400.0,2,     7.58,2,32372.4,-999.0000,-999.000,-999.000,  1.5504,-999.000
   318MWESTW_4,  P21E,   102,  1,      1, SI9301,2,19940427,2040,-16.7500,-114.6667, 3265,   3287.3,   1.7988,  34.6765,2,  34.6773,2,    158.8,2,    159.5,2,   126.11,2,    35.13,2,     0.00,2,     2.48,2, -999.000,9, -999.000,9, -999.000,1,-999.0000,1,  -999.00,9,   -999.0,1,-999.000,9,   2312.0,2,   2398.0,2,     7.58,2,32884.9,-999.0000,-999.000,-999.000,  1.5470,-999.000