BOTTLE,20010911WHPSIOdm
EXPOCODE,SECT_ID,STNNBR,CASTNO,SAMPNO,BTLNBR,BTLNBR_FLAG_W,DATE,TIME,LATITUDE,LONGITUDE,DEPTH,CTDPRS,CTDTMP,CTDSAL,CTDSAL_FLAG_W,SALNTY,SALNTY_FLAG_W,CTDOXY,CTDOXY_FLAG_W,OXYGEN,OXYGEN_FLAG_W,SILCAT,SILCAT_FLAG_W,NITRAT,NITRAT_FLAG_W,NITRIT,NITRIT_FLAG_W,PHSPHT,PHSPHT_FLAG_W,CFC-11,CFC-11_FLAG_W,CFC-12,CFC-12_FLAG_W,TRITUM,TRITUM_FLAG_W,HELIUM,HELIUM_FLAG_W,DELHE3,DELHE3_FLAG_W,DELC14,DELC14_FLAG_W,NEON,NEON_FLAG_W,TCARBN,TCARBN_FLAG_W,ALKALI,ALKALI_FLAG_W,PH,PH_FLAG_W,CTDRAW,HELIER,DELHER,NEONER,THETA,TRITER
,,,,,,,,,,,,DBAR,ITS-90,PSS-78,,PSS-78,,UMOL/KG,,UMOL/KG,,UMOL/KG,,UMOL/KG,,UMOL/KG,,UMOL/KG,,PMOL/KG,,PMOL/KG,,TU,,UMOL/KG,,PERCNT,,/MILLE,,NMOL/KG,,UMOL/KG,,UMOL/KG,,,,,NMOL/KG,PERCNT,NMOL/KG,ITS-90,TU
   318MWESTW_4,  P21E,   152,  1,     24, SI9404,2,19940511,0246,-17.5000,-145.8333, 4155,     23.0,  28.7217,  36.1282,2,  36.1286,2,    210.0,2,    207.7,2,     0.83,2,    -0.01,2,     0.01,2,     0.21,2,    1.597,2,    0.909,2, -999.000,1,-999.0000,1,  -999.00,9,   -999.0,1,-999.000,9,   1992.7,2,   2366.0,2,     8.21,2,  281.1,-999.0000,-999.000,-999.000, 28.7162,-999.000
   318MWESTW_4,  P21E,   152,  1,     23, SI9405,2,19940511,0246,-17.5000,-145.8333, 4155,     48.8,  28.7450,  36.1337,2,  36.1326,2,    204.4,2,    209.7,2,     0.88,2,    -0.01,2,     0.01,2,     0.21,2,    1.585,2,    0.901,2, -999.000,1,-999.0000,1,  -999.00,9,   -999.0,1,-999.000,9,   1992.7,2,   2369.0,2,     8.21,2,  537.8,-999.0000,-999.000,-999.000, 28.7332,-999.000
   318MWESTW_4,  P21E,   152,  1,     22, SI9407,2,19940511,0246,-17.5000,-145.8333, 4155,     98.8,  26.6414,  36.2600,2,  36.2604,2,    223.4,2,    221.5,2,     0.76,2,    -0.01,2,     0.01,2,     0.21,2,    1.857,2,    1.163,3, -999.000,1,-999.0000,1,  -999.00,9,   -999.0,1,-999.000,9,   2013.7,2,   2378.0,2,     8.20,2, 1036.5,-999.0000,-999.000,-999.000, 26.6189,-999.000
   318MWESTW_4,  P21E,   152,  1,     21, SI9408,2,19940511,0246,-17.5000,-145.8333, 4155,    150.7,  23.8362,  36.0896,2,  36.0934,2,    204.4,2,    206.9,2,     0.65,2,    -0.04,2,     0.04,2,     0.22,2,    1.902,2,    1.051,2, -999.000,1,-999.0000,1,  -999.00,9,   -999.0,1,-999.000,9,   2032.7,2,   2367.0,2,     8.16,2, 1553.4,-999.0000,-999.000,-999.000, 23.8045,-999.000
   318MWESTW_4,  P21E,   152,  1,     20, SI9409,2,19940511,0246,-17.5000,-145.8333, 4155,    201.1,  21.8882,  36.0341,2,  36.0341,2,    182.8,2,    180.7,2,     0.85,2,     2.44,2,     0.06,2,     0.45,2,    1.901,2,    1.039,2, -999.000,1,-999.0000,1,  -999.00,9,   -999.0,1,-999.000,9,   2074.8,2,   2363.0,2,     8.08,2, 2055.6,-999.0000,-999.000,-999.000, 21.8483,-999.000
   318MWESTW_4,  P21E,   152,  1,     19, SI9411,2,19940511,0246,-17.5000,-145.8333, 4155,    251.9,  19.9210,  35.7718,2,  35.7799,2,    179.4,2,    179.2,2,     1.19,2,     4.01,2,     0.02,2,     0.56,2,    1.864,2,    0.997,2, -999.000,1,-999.0000,1,  -999.00,9,   -999.0,1,-999.000,9,   2084.8,2,   2348.0,2,     8.04,2, 2561.0,-999.0000,-999.000,-999.000, 19.8743,-999.000
   318MWESTW_4,  P21E,   152,  1,     18, SI9413,2,19940511,0246,-17.5000,-145.8333, 4155,    298.7,  17.6434,  35.4351,2,  35.4582,2,    174.5,2,    171.5,2,     2.15,2,     6.51,2,     0.03,2,     0.70,2,    1.733,2,    0.912,2, -999.000,1,-999.0000,1,  -999.00,9,   -999.0,1,-999.000,9,   2093.8,2,   2328.0,2,     7.99,2, 3026.8,-999.0000,-999.000,-999.000, 17.5925,-999.000
   318MWESTW_4,  P21E,   152,  1,     17, SI9415,2,19940511,0246,-17.5000,-145.8333, 4155,    398.2,  11.5196,  34.7224,2,  34.7526,2,    148.9,2,    153.4,2,     8.16,2,    17.40,2,     0.02,2,     1.41,2,    0.956,6,    0.500,6, -999.000,1,-999.0000,1,  -999.00,9,   -999.0,1,-999.000,9,   2139.8,2,   2287.0,2,     7.82,2, 4017.3,-999.0000,-999.000,-999.000, 11.4687,-999.000
   318MWESTW_4,  P21E,   152,  1,     16, SI9416,2,19940511,0246,-17.5000,-145.8333, 4155,    501.2,   7.9797,  34.4902,2,  34.4899,2,    139.7,2,    137.2,2,    19.22,2,    27.97,2,     0.01,2,     2.03,2,    0.290,2,    0.149,2, -999.000,1,-999.0000,1,  -999.00,9,   -999.0,1,-999.000,9,   2190.9,2,   2286.0,2,     7.68,2, 5041.0,-999.0000,-999.000,-999.000,  7.9284,-999.000
   318MWESTW_4,  P21E,   152,  1,     15, SI9417,2,19940511,0246,-17.5000,-145.8333, 4155,    600.0,   6.3140,  34.4346,2,  34.4332,2,    148.1,2,    147.1,2,    28.28,2,    31.33,2,     0.00,2,     2.19,2,    0.105,2,    0.053,2, -999.000,1,-999.0000,1,  -999.00,9,   -999.0,1,-999.000,9,   2206.9,2,   2291.0,2,     7.66,2, 6024.1,-999.0000,-999.000,-999.000,  6.2598,-999.000
   318MWESTW_4,  P21E,   152,  1,     14, SI9419,2,19940511,0246,-17.5000,-145.8333, 4155,    702.8,   5.6865,  34.4521,2,  34.4500,2,    143.4,2,    140.7,2,    38.26,2,    33.07,2,     0.00,2,     2.31,2,    0.039,2,    0.023,2, -999.000,1,-999.0000,1,  -999.00,9,   -999.0,1,-999.000,9,   2220.9,2,   2304.0,2,     7.64,2, 7046.1,-999.0000,-999.000,-999.000,  5.6258,-999.000
   318MWESTW_4,  P21E,   152,  1,     13, SI9420,2,19940511,0246,-17.5000,-145.8333, 4155,    903.0,   4.3690,  34.4914,2,  34.4923,2,    143.1,2,    141.0,2,    61.85,2,    34.76,2,     0.00,2,     2.42,2,    0.003,2,   -0.001,2, -999.000,1,-999.0000,1,  -999.00,9,   -999.0,1,-999.000,9,   2249.9,2,   2329.0,2,     7.63,2, 9036.4,-999.0000,-999.000,-999.000,  4.2988,-999.000
   318MWESTW_4,  P21E,   152,  1,     12, SI9421,2,19940511,0246,-17.5000,-145.8333, 4155,   1099.9,   3.7040,  34.5249,2,  34.5256,2,    141.5,2,    140.8,2,    76.26,2,    35.53,2,     0.00,2,     2.46,2,    0.000,2,    0.000,2, -999.000,1,-999.0000,1,  -999.00,9,   -999.0,1,-999.000,9,   2267.0,2,   2341.0,2,     7.63,2,10994.4,-999.0000,-999.000,-999.000,  3.6224,-999.000
   318MWESTW_4,  P21E,   152,  1,     11, SI9423,2,19940511,0246,-17.5000,-145.8333, 4155,   1404.1,   3.0136,  34.5666,2,  34.5669,2,    145.0,2,    144.8,2,    92.04,2,    35.66,2,     0.00,2,     2.47,2,   -0.001,2,   -0.003,2, -999.000,1,-999.0000,1,  -999.00,9,   -999.0,1,-999.000,9,   2283.0,2,   2363.0,2,     7.63,2,14018.7,-999.0000,-999.000,-999.000,  2.9136,-999.000
   318MWESTW_4,  P21E,   152,  1,     10, SI9425,2,19940511,0246,-17.5000,-145.8333, 4155,   1706.2,   2.4954,  34.6042,2,  34.6058,2,    148.4,2,    148.5,2,   104.61,2,    35.68,2,    -0.01,2,     2.47,2, -999.000,9, -999.000,9, -999.000,1,-999.0000,1,  -999.00,9,   -999.0,1,-999.000,9,   2294.0,2,   2371.0,2,     7.63,2,17022.2,-999.0000,-999.000,-999.000,  2.3765,-999.000
   318MWESTW_4,  P21E,   152,  1,      9, SI9424,2,19940511,0246,-17.5000,-145.8333, 4155,   1995.6,   2.1593,  34.6323,2,  34.6331,2,    151.8,2,    151.6,2,   113.50,2,    35.56,2,    -0.01,2,     2.46,2, -999.000,9, -999.000,9, -999.000,1,-999.0000,1,  -999.00,9,   -999.0,1,-999.000,9,   2301.0,2,   2385.0,2,     7.64,2,19898.9,-999.0000,-999.000,-999.000,  2.0208,-999.000
   318MWESTW_4,  P21E,   152,  1,      8, SI9428,2,19940511,0246,-17.5000,-145.8333, 4155,   2342.4,   1.9420,  34.6513,2,  34.6515,2,    154.4,2,    154.1,2,   120.11,2,    35.39,2,     0.00,2,     2.43,2, -999.000,9, -999.000,9, -999.000,1,-999.0000,1,  -999.00,9,   -999.0,1,-999.000,9,   2306.0,2,   2389.0,2,     7.65,2,23347.1,-999.0000,-999.000,-999.000,  1.7769,-999.000
   318MWESTW_4,  P21E,   152,  1,      7, SI9429,2,19940511,0246,-17.5000,-145.8333, 4155,   2688.2,   1.8198,  34.6633,2,  34.6639,2,    156.7,2,    156.1,2,   123.34,2,    35.32,2,    -0.01,2,     2.44,2, -999.000,9, -999.000,9, -999.000,1,-999.0000,1,  -999.00,9,   -999.0,1,-999.000,9,   2308.0,2,   2397.0,2,     7.66,2,26784.4,-999.0000,-999.000,-999.000,  1.6256,-999.000
   318MWESTW_4,  P21E,   152,  1,      6, SI9431,2,19940511,0246,-17.5000,-145.8333, 4155,   3052.1,   1.7038,  34.6737,2,  34.6730,2,    162.1,2,    161.7,2,   124.75,2,    35.01,2,    -0.01,2,     2.41,2, -999.000,9, -999.000,9, -999.000,1,-999.0000,1,  -999.00,9,   -999.0,1,-999.000,9,   2305.0,2,   2394.0,2,     7.66,2,30402.7,-999.0000,-999.000,-999.000,  1.4775,-999.000
   318MWESTW_4,  P21E,   152,  1,      5, SI9432,2,19940511,0246,-17.5000,-145.8333, 4155,   3402.4,   1.5664,  34.6836,2,  34.6846,2,    171.4,2,    170.6,2,   124.01,2,    34.36,2,     0.00,2,     2.37,2, -999.000,9, -999.000,9, -999.000,1,-999.0000,1,  -999.00,9,   -999.0,1,-999.000,9,   -999.0,9,   -999.0,9,  -999.00,9,33885.0,-999.0000,-999.000,-999.000,  1.3085,-999.000
   318MWESTW_4,  P21E,   152,  1,      4, SI9433,2,19940511,0246,-17.5000,-145.8333, 4155,   3742.6,   1.4719,  34.6909,2,  34.6918,2,    178.9,2,    177.5,2,   122.82,2,    33.88,2,     0.00,2,     2.34,2, -999.000,9, -999.000,9, -999.000,1,-999.0000,1,  -999.00,9,   -999.0,1,-999.000,9,   2292.0,2,   2384.0,2,     7.67,2,37266.9,-999.0000,-999.000,-999.000,  1.1813,-999.000
   318MWESTW_4,  P21E,   152,  1,      3, SI9435,2,19940511,0246,-17.5000,-145.8333, 4155,   4161.4,   1.4793,  34.6932,2,  34.6948,2,    181.4,2,    179.8,2,   121.93,2,    33.72,2,     0.00,2,     2.33,2, -999.000,9, -999.000,9, -999.000,1,-999.0000,1,  -999.00,9,   -999.0,1,-999.000,9,   2290.0,2,   2381.0,2,     7.68,2,41430.6,-999.0000,-999.000,-999.000,  1.1432,-999.000
   318MWESTW_4,  P21E,   152,  1,      2, SI9401,2,19940511,0246,-17.5000,-145.8333, 4155,   4230.9,   1.4853,  34.6931,2,  34.6936,2,    182.6,2,    180.1,2,   122.42,2,    33.77,2,     0.00,2,     2.33,2, -999.000,9, -999.000,9, -999.000,1,-999.0000,1,  -999.00,9,   -999.0,1,-999.000,9,   2289.0,2,   2386.0,2,     7.67,2,42121.3,-999.0000,-999.000,-999.000,  1.1413,-999.000
   318MWESTW_4,  P21E,   152,  1,      1, SI9403,2,19940511,0246,-17.5000,-145.8333, 4155,   4233.1,   1.4852,  34.6932,2,  34.6918,2,    182.8,2,    180.5,2,   122.47,2,    33.69,2,     0.00,2,     2.32,2, -999.000,9, -999.000,9, -999.000,1,-999.0000,1,  -999.00,9,   -999.0,1,-999.000,9,   2288.0,2,   2384.0,2,     7.67,2,42143.6,-999.0000,-999.000,-999.000,  1.1410,-999.000
   318MWESTW_4,  P21E,   153,  1,     24, SI9404,2,19940511,0921,-17.5000,-146.5000, 4108,      8.1,  28.4031,  35.9792,2,  35.9678,2,    209.9,2,    208.3,2,     0.27,2,     0.04,2,     0.01,2,     0.17,2,    1.614,2,    0.922,2, -999.000,1,-999.0000,1,  -999.00,9,   -999.0,1,-999.000,9,   -999.0,9,   -999.0,9,  -999.00,9,  132.3,-999.0000,-999.000,-999.000, 28.4012,-999.000
   318MWESTW_4,  P21E,   153,  1,     23, SI9405,2,19940511,0921,-17.5000,-146.5000, 4108,     22.8,  28.4734,  36.0290,2,  36.0299,2,    208.9,2,    206.4,2,     0.31,2,     0.00,2,     0.01,2,     0.18,2,    1.605,2,    0.913,2, -999.000,1,-999.0000,1,  -999.00,9,   -999.0,1,-999.000,9,   -999.0,9,   -999.0,9,  -999.00,9,  279.4,-999.0000,-999.000,-999.000, 28.4679,-999.000
   318MWESTW_4,  P21E,   153,  1,     22, SI9407,2,19940511,0921,-17.5000,-146.5000, 4108,     47.3,  28.4730,  36.0737,2,  36.0799,2,    208.0,2,    207.9,2,     0.35,2,     0.05,2,     0.00,2,     0.18,2,    1.605,2,    0.910,2, -999.000,1,-999.0000,1,  -999.00,9,   -999.0,1,-999.000,9,   -999.0,9,   -999.0,9,  -999.00,9,  523.7,-999.0000,-999.000,-999.000, 28.4617,-999.000
   318MWESTW_4,  P21E,   153,  1,     21, SI9408,2,19940511,0921,-17.5000,-146.5000, 4108,     92.3,  25.7216,  36.2356,2,  36.2345,2,    221.7,2,    216.2,2,     0.24,2,     0.05,2,     0.00,2,     0.21,2,    1.837,2,    1.016,2, -999.000,1,-999.0000,1,  -999.00,9,   -999.0,1,-999.000,9,   -999.0,9,   -999.0,9,  -999.00,9,  972.5,-999.0000,-999.000,-999.000, 25.7011,-999.000
   318MWESTW_4,  P21E,   153,  1,     20, SI9409,2,19940511,0921,-17.5000,-146.5000, 4108,    149.5,  23.3563,  36.0772,2,  36.0679,2,    204.3,2,    199.6,2,     0.13,2,     0.20,2,     0.18,2,     0.26,2,    1.914,2,    1.048,2, -999.000,1,-999.0000,1,  -999.00,9,   -999.0,1,-999.000,9,   -999.0,9,   -999.0,9,  -999.00,9, 1541.5,-999.0000,-999.000,-999.000, 23.3253,-999.000
   318MWESTW_4,  P21E,   153,  1,     19, SI9411,2,19940511,0921,-17.5000,-146.5000, 4108,    200.2,  21.0024,  35.8248,2,  35.8206,2,    195.8,2,    191.1,2,     0.17,2,     1.65,2,     0.02,2,     0.32,2,    2.004,2,    1.089,2, -999.000,1,-999.0000,1,  -999.00,9,   -999.0,1,-999.000,9,   -999.0,9,   -999.0,9,  -999.00,9, 2046.6,-999.0000,-999.000,-999.000, 20.9639,-999.000
   318MWESTW_4,  P21E,   153,  1,     18, SI9413,2,19940511,0921,-17.5000,-146.5000, 4108,    249.8,  19.2844,  35.6575,2,  35.6605,2,    191.9,2,    180.0,2,     0.52,2,     3.99,2,     0.02,2,     0.52,2,    1.909,2,    1.014,2, -999.000,1,-999.0000,1,  -999.00,9,   -999.0,1,-999.000,9,   -999.0,9,   -999.0,9,  -999.00,9, 2540.2,-999.0000,-999.000,-999.000, 19.2391,-999.000
   318MWESTW_4,  P21E,   153,  1,     17, SI9415,2,19940511,0921,-17.5000,-146.5000, 4108,    299.9,  16.6621,  35.3036,2,  35.3017,2,    178.0,2,    175.4,2,     1.77,2,     7.04,2,     0.00,2,     0.72,2,    1.704,2,    0.887,2, -999.000,1,-999.0000,1,  -999.00,9,   -999.0,1,-999.000,9,   -999.0,9,   -999.0,9,  -999.00,9, 3038.9,-999.0000,-999.000,-999.000, 16.6130,-999.000
   318MWESTW_4,  P21E,   153,  1,     16, SI9416,2,19940511,0921,-17.5000,-146.5000, 4108,    401.8,  10.9611,  34.6948,2,  34.6883,2,    144.6,2,    143.2,2,    10.17,2,    20.15,2,    -0.01,2,     1.58,2,    0.784,2,    0.401,2, -999.000,1,-999.0000,1,  -999.00,9,   -999.0,1,-999.000,9,   -999.0,9,   -999.0,9,  -999.00,9, 4052.7,-999.0000,-999.000,-999.000, 10.9114,-999.000
   318MWESTW_4,  P21E,   153,  1,     15, SI9417,2,19940511,0921,-17.5000,-146.5000, 4108,    498.8,   8.0846,  34.4776,2,  34.4785,2,    146.4,2,    150.5,2,    15.37,2,    26.61,2,     0.01,2,     1.94,2,    0.375,2,    0.197,2, -999.000,1,-999.0000,1,  -999.00,9,   -999.0,1,-999.000,9,   -999.0,9,   -999.0,9,  -999.00,9, 5016.7,-999.0000,-999.000,-999.000,  8.0332,-999.000
   318MWESTW_4,  P21E,   153,  1,     14, SI9419,2,19940511,0921,-17.5000,-146.5000, 4108,    596.4,   6.5127,  34.4136,2,  34.4114,2,    157.7,2,    159.3,2,    22.24,2,    29.96,2,     0.02,2,     2.11,2,    0.170,2,    0.090,2, -999.000,1,-999.0000,1,  -999.00,9,   -999.0,1,-999.000,9,   -999.0,9,   -999.0,9,  -999.00,9, 5987.9,-999.0000,-999.000,-999.000,  6.4580,-999.000
   318MWESTW_4,  P21E,   153,  1,     13, SI9420,2,19940511,0921,-17.5000,-146.5000, 4108,    704.3,   5.4681,  34.4322,2,  34.4300,2,    149.6,2,    149.9,2,    37.01,2,    32.82,2,     0.00,2,     2.29,2,    0.037,2,    0.020,2, -999.000,1,-999.0000,1,  -999.00,9,   -999.0,1,-999.000,9,   -999.0,9,   -999.0,9,  -999.00,9, 7060.7,-999.0000,-999.000,-999.000,  5.4085,-999.000
   318MWESTW_4,  P21E,   153,  1,     12, SI9421,2,19940511,0921,-17.5000,-146.5000, 4108,    845.9,   4.7139,  34.4702,2,  34.4709,2,    145.0,2,    143.5,2,    53.31,2,    34.30,2,     0.01,2,     2.40,2,    0.009,2,    0.004,2, -999.000,1,-999.0000,1,  -999.00,9,   -999.0,1,-999.000,9,   -999.0,9,   -999.0,9,  -999.00,9, 8468.9,-999.0000,-999.000,-999.000,  4.6463,-999.000
   318MWESTW_4,  P21E,   153,  1,     11, SI9423,2,19940511,0921,-17.5000,-146.5000, 4108,   1102.5,   3.6706,  34.5219,2,  34.5243,2,    143.6,2,    142.6,2,    75.36,2,    35.46,2,    -0.01,2,     2.47,2,    0.001,2,   -0.001,2, -999.000,1,-999.0000,1,  -999.00,9,   -999.0,1,-999.000,9,   -999.0,9,   -999.0,9,  -999.00,9,11020.0,-999.0000,-999.000,-999.000,  3.5891,-999.000
   318MWESTW_4,  P21E,   153,  1,     10, SI9425,2,19940511,0921,-17.5000,-146.5000, 4108,   1395.1,   2.9733,  34.5679,2,  34.5667,2,    145.2,2,    145.4,2,    91.64,2,    35.65,2,     0.00,2,     2.48,2, -999.000,9, -999.000,9, -999.000,1,-999.0000,1,  -999.00,9,   -999.0,1,-999.000,9,   -999.0,9,   -999.0,9,  -999.00,9,13929.0,-999.0000,-999.000,-999.000,  2.8744,-999.000
   318MWESTW_4,  P21E,   153,  1,      9, SI9424,2,19940511,0921,-17.5000,-146.5000, 4108,   1689.8,   2.5590,  34.5982,2,  34.5995,2,    147.8,2,    147.7,2,   102.61,2,    35.66,2,     0.00,2,     2.48,2, -999.000,9, -999.000,9, -999.000,1,-999.0000,1,  -999.00,9,   -999.0,1,-999.000,9,   -999.0,9,   -999.0,9,  -999.00,9,16859.2,-999.0000,-999.000,-999.000,  2.4407,-999.000
   318MWESTW_4,  P21E,   153,  1,      8, SI9428,2,19940511,0921,-17.5000,-146.5000, 4108,   2018.4,   2.1770,  34.6309,2,  34.6299,2,    151.5,2,    151.3,2,   112.65,2,    35.62,2,     0.00,2,     2.47,2, -999.000,9, -999.000,9, -999.000,1,-999.0000,1,  -999.00,9,   -999.0,1,-999.000,9,   -999.0,9,   -999.0,9,  -999.00,9,20126.0,-999.0000,-999.000,-999.000,  2.0363,-999.000
   318MWESTW_4,  P21E,   153,  1,      7, SI9429,2,19940511,0921,-17.5000,-146.5000, 4108,   2354.3,   1.9704,  34.6497,2,  34.6490,2,    153.9,2,    153.8,2,   118.61,2,    35.50,2,     0.00,2,     2.47,2, -999.000,9, -999.000,9, -999.000,1,-999.0000,1,  -999.00,9,   -999.0,1,-999.000,9,   -999.0,9,   -999.0,9,  -999.00,9,23465.3,-999.0000,-999.000,-999.000,  1.8038,-999.000
   318MWESTW_4,  P21E,   153,  1,      6, SI9431,2,19940511,0921,-17.5000,-146.5000, 4108,   2701.8,   1.8268,  34.6635,2,  34.6627,2,    156.7,2,    156.3,2,   122.89,2,    35.33,2,     0.01,2,     2.45,2, -999.000,9, -999.000,9, -999.000,1,-999.0000,1,  -999.00,9,   -999.0,1,-999.000,9,   -999.0,9,   -999.0,9,  -999.00,9,26920.1,-999.0000,-999.000,-999.000,  1.6312,-999.000
   318MWESTW_4,  P21E,   153,  1,      5, SI9432,2,19940511,0921,-17.5000,-146.5000, 4108,   3052.8,   1.6877,  34.6733,2,  34.6734,2,    164.4,2,    163.3,2,   123.38,2,    34.93,2,     0.01,2,     2.40,2, -999.000,9, -999.000,9, -999.000,1,-999.0000,1,  -999.00,9,   -999.0,1,-999.000,9,   -999.0,9,   -999.0,9,  -999.00,9,30408.8,-999.0000,-999.000,-999.000,  1.4617,-999.000
   318MWESTW_4,  P21E,   153,  1,      4, SI9433,2,19940511,0921,-17.5000,-146.5000, 4108,   3400.7,   1.5705,  34.6828,2,  34.6816,2,    171.6,2,    170.7,2,   122.65,2,    34.38,2,     0.01,2,     2.38,2, -999.000,9, -999.000,9, -999.000,1,-999.0000,1,  -999.00,9,   -999.0,1,-999.000,9,   -999.0,9,   -999.0,9,  -999.00,9,33867.7,-999.0000,-999.000,-999.000,  1.3127,-999.000
   318MWESTW_4,  P21E,   153,  1,      3, SI9435,3,19940511,0921,-17.5000,-146.5000, 4108,   3748.1,   1.4812,  34.6905,2,  34.6901,2,    177.9,2,    177.1,2,   121.92,2,    33.94,2,     0.00,2,     2.35,2, -999.000,9, -999.000,9, -999.000,1,-999.0000,1,  -999.00,9,   -999.0,1,-999.000,9,   -999.0,9,   -999.0,9,  -999.00,9,37321.5,-999.0000,-999.000,-999.000,  1.1898,-999.000
   318MWESTW_4,  P21E,   153,  1,      2, SI9401,2,19940511,0921,-17.5000,-146.5000, 4108,   4057.8,   1.4699,  34.6930,2,  34.6920,2,    181.4,2,    179.4,2,   121.80,2,    33.81,2,     0.01,2,     2.33,2, -999.000,9, -999.000,9, -999.000,1,-999.0000,1,  -999.00,9,   -999.0,1,-999.000,9,   -999.0,9,   -999.0,9,  -999.00,9,40400.2,-999.0000,-999.000,-999.000,  1.1455,-999.000
   318MWESTW_4,  P21E,   153,  1,      1, SI9403,2,19940511,0921,-17.5000,-146.5000, 4108,   4150.2,   1.4775,  34.6932,2,  34.6924,2,    181.4,2,    179.7,2,   121.86,2,    33.71,2,     0.01,2,     2.33,2, -999.000,9, -999.000,9, -999.000,1,-999.0000,1,  -999.00,9,   -999.0,1,-999.000,9,   -999.0,9,   -999.0,9,  -999.00,9,41319.1,-999.0000,-999.000,-999.000,  1.1427,-999.000