BOTTLE,20010911WHPSIOdm
EXPOCODE,SECT_ID,STNNBR,CASTNO,SAMPNO,BTLNBR,BTLNBR_FLAG_W,DATE,TIME,LATITUDE,LONGITUDE,DEPTH,CTDPRS,CTDTMP,CTDSAL,CTDSAL_FLAG_W,SALNTY,SALNTY_FLAG_W,CTDOXY,CTDOXY_FLAG_W,OXYGEN,OXYGEN_FLAG_W,SILCAT,SILCAT_FLAG_W,NITRAT,NITRAT_FLAG_W,NITRIT,NITRIT_FLAG_W,PHSPHT,PHSPHT_FLAG_W,CFC-11,CFC-11_FLAG_W,CFC-12,CFC-12_FLAG_W,TRITUM,TRITUM_FLAG_W,HELIUM,HELIUM_FLAG_W,DELHE3,DELHE3_FLAG_W,DELC14,DELC14_FLAG_W,NEON,NEON_FLAG_W,TCARBN,TCARBN_FLAG_W,ALKALI,ALKALI_FLAG_W,PH,PH_FLAG_W,CTDRAW,HELIER,DELHER,NEONER,THETA,TRITER
,,,,,,,,,,,,DBAR,ITS-90,PSS-78,,PSS-78,,UMOL/KG,,UMOL/KG,,UMOL/KG,,UMOL/KG,,UMOL/KG,,UMOL/KG,,PMOL/KG,,PMOL/KG,,TU,,UMOL/KG,,PERCNT,,/MILLE,,NMOL/KG,,UMOL/KG,,UMOL/KG,,,,,NMOL/KG,PERCNT,NMOL/KG,ITS-90,TU
   318MWESTW_4,  P21E,    22,  1,     36, SI9336,3,19940403,0240,-16.3750, -75.7528, 4266,     14.4,  19.2109,  35.0085,2,  34.9957,2,    265.6,2,    253.1,2,     0.54,2,     0.03,2,     0.01,2,     0.49,2,    2.363,2,    1.225,2, -999.000,1,-999.0000,1,  -999.00,9,   -999.0,1,-999.000,9,   -999.0,9,   -999.0,9,  -999.00,9,  189.3,-999.0000,-999.000,-999.000, 19.2083,-999.000
   318MWESTW_4,  P21E,    22,  1,     35, SI9335,3,19940403,0240,-16.3750, -75.7528, 4266,     32.0,  16.7656,  34.9896,2,  34.9585,2,    167.4,2,    155.9,2,     2.10,2,     1.23,2,     0.17,2,     0.96,2,    2.333,2,    1.168,2, -999.000,1,-999.0000,1,  -999.00,9,   -999.0,1,-999.000,9,   -999.0,9,   -999.0,9,  -999.00,9,  365.3,-999.0000,-999.000,-999.000, 16.7604,-999.000
   318MWESTW_4,  P21E,    22,  1,     34, SI9334,3,19940403,0240,-16.3750, -75.7528, 4266,     52.1,  14.7383,  34.8697,2,  34.8426,2,     62.3,2,     68.8,2,     8.17,2,    18.71,2,     0.29,2,     1.98,2,    1.999,2,    0.987,2, -999.000,1,-999.0000,1,  -999.00,9,   -999.0,1,-999.000,9,   -999.0,9,   -999.0,9,  -999.00,9,  566.0,-999.0000,-999.000,-999.000, 14.7305,-999.000
   318MWESTW_4,  P21E,    22,  1,     33, SI9333,3,19940403,0240,-16.3750, -75.7528, 4266,    102.4,  12.8867,  34.8026,2,  34.8025,2,     16.7,2,     10.2,2,    23.41,2,    18.06,2,     0.01,2,     2.65,2,    0.728,2,    0.360,2, -999.000,1,-999.0000,1,  -999.00,9,   -999.0,1,-999.000,9,   -999.0,9,   -999.0,9,  -999.00,9, 1067.8,-999.0000,-999.000,-999.000, 12.8728,-999.000
   318MWESTW_4,  P21E,    22,  1,     32, SI9332,3,19940403,0240,-16.3750, -75.7528, 4266,    150.4,  12.3863,  34.8342,2,  34.8438,2,      2.4,2,      1.1,2,    27.57,2,    18.23,2,     1.31,2,     2.73,2,    0.349,2,    0.185,2, -999.000,1,-999.0000,1,  -999.00,9,   -999.0,1,-999.000,9,   -999.0,9,   -999.0,9,  -999.00,9, 1548.2,-999.0000,-999.000,-999.000, 12.3663,-999.000
   318MWESTW_4,  P21E,    22,  1,     31, SI9331,3,19940403,0240,-16.3750, -75.7528, 4266,    198.6,  11.4340,  34.8208,2,  34.7980,2,      1.8,2,      1.3,2,    28.10,2,    22.14,2,     3.68,2,     2.74,2,    0.175,2,    0.087,2, -999.000,1,-999.0000,1,  -999.00,9,   -999.0,1,-999.000,9,   -999.0,9,   -999.0,9,  -999.00,9, 2028.8,-999.0000,-999.000,-999.000, 11.4089,-999.000
   318MWESTW_4,  P21E,    22,  1,     30, SI9330,3,19940403,0240,-16.3750, -75.7528, 4266,    250.1,  10.8912,  34.7718,2,  34.7589,2,      1.1,2,      0.5,2,    28.62,2,    26.64,2,     1.54,2,     2.77,2,    0.126,2,    0.065,2, -999.000,1,-999.0000,1,  -999.00,9,   -999.0,1,-999.000,9,   -999.0,9,   -999.0,9,  -999.00,9, 2543.3,-999.0000,-999.000,-999.000, 10.8606,-999.000
   318MWESTW_4,  P21E,    22,  1,     29, SI9329,3,19940403,0240,-16.3750, -75.7528, 4266,    299.9,  10.2004,  34.7267,2,  34.7233,2,      0.7,2,      0.7,2,    31.05,2,    29.27,2,     1.90,2,     2.83,2,    0.070,2,    0.036,2, -999.000,1,-999.0000,1,  -999.00,9,   -999.0,1,-999.000,9,   -999.0,9,   -999.0,9,  -999.00,9, 3041.4,-999.0000,-999.000,-999.000, 10.1651,-999.000
   318MWESTW_4,  P21E,    22,  1,     28, SI9328,3,19940403,0240,-16.3750, -75.7528, 4266,    401.1,   8.8678,  34.6220,2,  34.6344,2,      4.8,2,      4.4,2,    33.83,2,    37.51,2,     0.00,2,     2.95,2,    0.033,2,    0.011,2, -999.000,1,-999.0000,1,  -999.00,9,   -999.0,1,-999.000,9,   -999.0,9,   -999.0,9,  -999.00,9, 4051.8,-999.0000,-999.000,-999.000,  8.8243,-999.000
   318MWESTW_4,  P21E,    22,  1,     27, SI9327,2,19940403,0240,-16.3750, -75.7528, 4266,    498.1,   7.6458,  34.5407,2,  34.5627,2,     22.1,2,     19.2,2,    36.96,2,    40.61,2,     0.00,2,     3.00,2,    0.028,2,    0.007,2, -999.000,1,-999.0000,1,  -999.00,9,   -999.0,1,-999.000,9,   2284.0,2,   2301.0,2,     7.38,2, 5020.9,-999.0000,-999.000,-999.000,  7.5961,-999.000
   318MWESTW_4,  P21E,    22,  1,     26, SI9326,2,19940403,0240,-16.3750, -75.7528, 4266,    600.5,   6.5972,  34.5231,2,  34.5221,2,     28.4,2,     28.6,2,    44.23,2,    42.66,2,    -0.01,2,     3.08,2,    0.008,2,    0.000,2, -999.000,1,-999.0000,1,  -999.00,9,   -999.0,1,-999.000,9,   2289.0,2,   2306.0,2,     7.39,2, 6043.3,-999.0000,-999.000,-999.000,  6.5416,-999.000
   318MWESTW_4,  P21E,    22,  1,     25, SI9325,2,19940403,0240,-16.3750, -75.7528, 4266,    698.3,   5.7727,  34.5078,2,  34.5084,2,     32.0,2,     34.0,2,    53.59,2,    43.92,2,    -0.01,2,     3.16,2,   -0.001,2,   -0.003,2, -999.000,1,-999.0000,1,  -999.00,9,   -999.0,1,-999.000,9,   2298.0,2,   2318.0,2,     7.38,2, 7020.5,-999.0000,-999.000,-999.000,  5.7119,-999.000
   318MWESTW_4,  P21E,    22,  1,     24, SI9324,2,19940403,0240,-16.3750, -75.7528, 4266,    798.0,   5.1161,  34.5165,2,  34.5101,2,     35.2,2,     42.1,2,    63.81,2,    44.07,2,     0.00,2,     3.17,2, -999.000,9, -999.000,9, -999.000,1,-999.0000,1,  -999.00,9,   -999.0,1,-999.000,9,   2306.0,2,   2331.0,2,     7.39,2, 8016.3,-999.0000,-999.000,-999.000,  5.0501,-999.000
   318MWESTW_4,  P21E,    22,  1,     23, SI9323,2,19940403,0240,-16.3750, -75.7528, 4266,    899.2,   4.6624,  34.5221,2,  34.5223,2,     48.9,2,     50.0,2,    72.82,2,    43.65,2,     0.00,2,     3.15,2, -999.000,9, -999.000,9, -999.000,1,-999.0000,1,  -999.00,9,   -999.0,1,-999.000,9,   2311.0,2,   2338.0,2,     7.40,2, 9027.6,-999.0000,-999.000,-999.000,  4.5904,-999.000
   318MWESTW_4,  P21E,    22,  1,     22, SI9322,2,19940403,0240,-16.3750, -75.7528, 4266,    999.1,   4.1334,  34.5336,2,  34.5333,2,     62.9,2,     63.1,2,    83.03,2,    42.53,2,     0.01,2,     3.10,2, -999.000,9, -999.000,9, -999.000,1,-999.0000,1,  -999.00,9,   -999.0,1,-999.000,9,   2313.0,2,   2350.0,2,     7.42,2,10025.6,-999.0000,-999.000,-999.000,  4.0567,-999.000
   318MWESTW_4,  P21E,    22,  1,     21, SI9321,2,19940403,0240,-16.3750, -75.7528, 4266,   1102.5,   3.8741,  34.5442,2,  34.5445,2,     68.3,2,     68.7,2,    89.44,2,    41.92,2,     0.00,2,     3.06,2, -999.000,9, -999.000,9, -999.000,1,-999.0000,1,  -999.00,9,   -999.0,1,-999.000,9,   2317.0,2,   2356.0,2,     7.44,2,11058.3,-999.0000,-999.000,-999.000,  3.7908,-999.000
   318MWESTW_4,  P21E,    22,  1,     20, SI9320,2,19940403,0240,-16.3750, -75.7528, 4266,   1200.5,   3.6918,  34.5550,2,  34.5559,2,     71.0,2,     71.2,2,    94.81,2,    41.54,2,     0.00,2,     3.06,2, -999.000,9, -999.000,9, -999.000,1,-999.0000,1,  -999.00,9,   -999.0,1,-999.000,9,   2322.0,2,   2363.0,2,     7.44,2,12036.9,-999.0000,-999.000,-999.000,  3.6019,-999.000
   318MWESTW_4,  P21E,    22,  1,     19, SI9319,2,19940403,0240,-16.3750, -75.7528, 4266,   1303.0,   3.3778,  34.5706,2,  34.5696,2,     79.1,2,     79.4,2,   101.57,2,    41.03,2,     0.00,2,     3.00,2, -999.000,9, -999.000,9, -999.000,1,-999.0000,1,  -999.00,9,   -999.0,1,-999.000,9,   2324.0,2,   2372.0,2,     7.46,2,13060.7,-999.0000,-999.000,-999.000,  3.2823,-999.000
   318MWESTW_4,  P21E,    22,  1,     18, SI9318,2,19940403,0240,-16.3750, -75.7528, 4266,   1401.2,   3.1883,  34.5865,2,  34.5812,2,     83.8,2,     82.3,2,   107.28,2,    40.82,2,    -0.01,2,     2.98,2, -999.000,9, -999.000,9, -999.000,1,-999.0000,1,  -999.00,9,   -999.0,1,-999.000,9,   2329.0,2,   2378.0,2,     7.46,2,14042.0,-999.0000,-999.000,-999.000,  3.0866,-999.000
   318MWESTW_4,  P21E,    22,  1,     17, SI9317,2,19940403,0240,-16.3750, -75.7528, 4266,   1502.0,   2.9428,  34.5979,2,  34.5969,2,     90.0,2,     88.4,2,   113.87,2,    40.44,2,     0.00,2,     2.93,2, -999.000,9, -999.000,9, -999.000,1,-999.0000,1,  -999.00,9,   -999.0,1,-999.000,9,   2332.0,2,   2386.0,2,     7.46,2,15048.7,-999.0000,-999.000,-999.000,  2.8354,-999.000
   318MWESTW_4,  P21E,    22,  1,     16, SI9316,2,19940403,0240,-16.3750, -75.7528, 4266,   1595.9,   2.7649,  34.6084,2,  34.6066,2,     94.0,2,     94.3,2,   117.68,2,    40.08,2,     0.00,2,     2.89,2, -999.000,9, -999.000,9, -999.000,1,-999.0000,1,  -999.00,9,   -999.0,1,-999.000,9,   2333.0,2,   2391.0,2,     7.48,2,15986.8,-999.0000,-999.000,-999.000,  2.6518,-999.000
   318MWESTW_4,  P21E,    22,  1,     15, SI9315,2,19940403,0240,-16.3750, -75.7528, 4266,   1795.2,   2.4716,  34.6266,2,  34.6266,2,    102.6,2,    103.4,2,   125.11,2,    39.39,2,     0.00,2,     2.82,2, -999.000,9, -999.000,9, -999.000,1,-999.0000,1,  -999.00,9,   -999.0,1,-999.000,9,   2335.0,2,   2400.0,2,     7.50,2,17978.0,-999.0000,-999.000,-999.000,  2.3456,-999.000
   318MWESTW_4,  P21E,    22,  1,     14, SI9314,2,19940403,0240,-16.3750, -75.7528, 4266,   1993.7,   2.2812,  34.6413,2,  34.6409,2,    108.0,2,    108.5,2,   131.35,2,    38.93,2,    -0.01,2,     2.80,2, -999.000,9, -999.000,9, -999.000,1,-999.0000,1,  -999.00,9,   -999.0,1,-999.000,9,   2340.0,2,   2408.0,2,     7.51,2,19961.0,-999.0000,-999.000,-999.000,  2.1410,-999.000
   318MWESTW_4,  P21E,    22,  1,     13, SI9313,2,19940403,0240,-16.3750, -75.7528, 4266,   2194.8,   2.1216,  34.6538,2,  34.6527,2,    114.6,2,    114.5,2,   135.50,2,    38.45,2,    -0.01,2,     2.74,2, -999.000,9, -999.000,9, -999.000,1,-999.0000,1,  -999.00,9,   -999.0,1,-999.000,9,   2340.0,2,   2413.0,2,     7.53,2,21969.9,-999.0000,-999.000,-999.000,  1.9665,-999.000
   318MWESTW_4,  P21E,    22,  1,     12, SI9312,2,19940403,0240,-16.3750, -75.7528, 4266,   2397.5,   1.9504,  34.6644,2,  34.6641,2,    129.3,2,    129.3,2,   133.43,2,    37.25,2,    -0.01,2,     2.64,2, -999.000,9, -999.000,9, -999.000,1,-999.0000,1,  -999.00,9,   -999.0,1,-999.000,9,   2330.0,2,   2413.0,2,     7.54,2,23995.8,-999.0000,-999.000,-999.000,  1.7802,-999.000
   318MWESTW_4,  P21E,    22,  1,     11, SI9311,2,19940403,0240,-16.3750, -75.7528, 4266,   2599.2,   1.8638,  34.6710,2,  34.6714,2,    136.0,2,    136.5,2,   133.44,2,    36.67,2,    -0.01,2,     2.60,2, -999.000,9, -999.000,9, -999.000,1,-999.0000,1,  -999.00,9,   -999.0,1,-999.000,9,   2328.0,2,   2417.0,2,     7.56,2,26011.1,-999.0000,-999.000,-999.000,  1.6769,-999.000
   318MWESTW_4,  P21E,    22,  1,     10, SI9310,2,19940403,0240,-16.3750, -75.7528, 4266,   2800.5,   1.8153,  34.6764,2,  34.6777,2,    138.7,2,    138.5,2,   135.17,2,    36.47,2,    -0.01,2,     2.57,2, -999.000,9, -999.000,9, -999.000,1,-999.0000,1,  -999.00,9,   -999.0,1,-999.000,9,   2330.0,2,   2418.0,2,     7.56,2,28022.5,-999.0000,-999.000,-999.000,  1.6107,-999.000
   318MWESTW_4,  P21E,    22,  1,      9, SI9309,2,19940403,0240,-16.3750, -75.7528, 4266,   3003.3,   1.7951,  34.6789,2,  34.6794,2,    138.8,2,    138.3,2,   137.94,2,    36.57,2,    -0.01,2,     2.57,2, -999.000,9, -999.000,9, -999.000,1,-999.0000,1,  -999.00,9,   -999.0,1,-999.000,9,   2332.0,2,   2422.0,2,     7.56,2,30048.5,-999.0000,-999.000,-999.000,  1.5715,-999.000
   318MWESTW_4,  P21E,    22,  1,      8, SI9308,2,19940403,0240,-16.3750, -75.7528, 4266,   3203.7,   1.7799,  34.6819,2,  34.6820,2,    140.8,2,    143.0,2,   135.18,2,    36.24,2,     0.00,2,     2.54,2, -999.000,9, -999.000,9, -999.000,1,-999.0000,1,  -999.00,9,   -999.0,1,-999.000,9,   2328.0,2,   2419.0,2,     7.57,2,32051.1,-999.0000,-999.000,-999.000,  1.5369,-999.000
   318MWESTW_4,  P21E,    22,  1,      7, SI9307,2,19940403,0240,-16.3750, -75.7528, 4266,   3402.2,   1.7624,  34.6857,2,  34.6853,2,    154.9,2,    154.1,2,   127.22,2,    35.46,2,     0.00,2,     2.47,2, -999.000,9, -999.000,9, -999.000,1,-999.0000,1,  -999.00,9,   -999.0,1,-999.000,9,   2314.0,2,   2410.0,2,     7.58,2,34035.7,-999.0000,-999.000,-999.000,  1.4997,-999.000
   318MWESTW_4,  P21E,    22,  1,      6, SI9306,2,19940403,0240,-16.3750, -75.7528, 4266,   3604.5,   1.7425,  34.6882,2,  34.6883,2,    157.4,2,    157.4,2,   125.84,2,    35.45,2,     0.00,2,     2.46,2, -999.000,9, -999.000,9, -999.000,1,-999.0000,1,  -999.00,9,   -999.0,1,-999.000,9,   2312.0,2,   2408.0,2,     7.58,2,36056.7,-999.0000,-999.000,-999.000,  1.4593,-999.000
   318MWESTW_4,  P21E,    22,  1,      5, SI9305,2,19940403,0240,-16.3750, -75.7528, 4266,   3800.7,   1.7335,  34.6899,2,  34.6908,2,    160.3,2,    159.2,2,   124.46,2,    35.20,2,     0.00,2,     2.45,2, -999.000,9, -999.000,9, -999.000,1,-999.0000,1,  -999.00,9,   -999.0,1,-999.000,9,   2310.0,2,   2408.0,2,     7.59,2,38017.9,-999.0000,-999.000,-999.000,  1.4297,-999.000
   318MWESTW_4,  P21E,    22,  1,      4, SI9304,2,19940403,0240,-16.3750, -75.7528, 4266,   3999.2,   1.7425,  34.6908,2,  34.6916,2,    159.3,2,    158.7,2,   125.51,2,    35.09,2,     0.00,2,     2.45,2, -999.000,9, -999.000,9, -999.000,1,-999.0000,1,  -999.00,9,   -999.0,1,-999.000,9,   2311.0,2,   2409.0,2,     7.59,2,40001.9,-999.0000,-999.000,-999.000,  1.4168,-999.000
   318MWESTW_4,  P21E,    22,  1,      3, SI9303,2,19940403,0240,-16.3750, -75.7528, 4266,   4207.4,   1.7549,  34.6914,2,  34.6912,2,    159.4,2,    158.3,2,   126.20,2,    35.03,2,     0.00,2,     2.45,2, -999.000,9, -999.000,9, -999.000,1,-999.0000,1,  -999.00,9,   -999.0,1,-999.000,9,   -999.0,9,   2410.0,2,  -999.00,9,42082.9,-999.0000,-999.000,-999.000,  1.4056,-999.000
   318MWESTW_4,  P21E,    22,  1,      2, SI9302,2,19940403,0240,-16.3750, -75.7528, 4266,   4276.5,   1.7468,  34.6916,2,  34.6916,2,    159.2,2,    158.9,2,   126.21,2,    34.94,2,    -0.01,2,     2.44,2, -999.000,9, -999.000,9, -999.000,1,-999.0000,1,  -999.00,9,   -999.0,1,-999.000,9,   2309.0,2,   2410.0,2,     7.58,2,42773.6,-999.0000,-999.000,-999.000,  1.3899,-999.000
   318MWESTW_4,  P21E,    22,  1,      1, SI9301,2,19940403,0240,-16.3750, -75.7528, 4266,   4318.2,   1.7444,  34.6921,2,  34.6924,2,    158.3,2,    159.7,2,   126.05,2,    34.91,2,     0.00,2,     2.45,2, -999.000,9, -999.000,9, -999.000,1,-999.0000,1,  -999.00,9,   -999.0,1,-999.000,9,   2310.0,2,   2408.0,2,     7.59,2,43191.2,-999.0000,-999.000,-999.000,  1.3828,-999.000