BOTTLE,20010911WHPSIOdm
EXPOCODE,SECT_ID,STNNBR,CASTNO,SAMPNO,BTLNBR,BTLNBR_FLAG_W,DATE,TIME,LATITUDE,LONGITUDE,DEPTH,CTDPRS,CTDTMP,CTDSAL,CTDSAL_FLAG_W,SALNTY,SALNTY_FLAG_W,CTDOXY,CTDOXY_FLAG_W,OXYGEN,OXYGEN_FLAG_W,SILCAT,SILCAT_FLAG_W,NITRAT,NITRAT_FLAG_W,NITRIT,NITRIT_FLAG_W,PHSPHT,PHSPHT_FLAG_W,CFC-11,CFC-11_FLAG_W,CFC-12,CFC-12_FLAG_W,TRITUM,TRITUM_FLAG_W,HELIUM,HELIUM_FLAG_W,DELHE3,DELHE3_FLAG_W,DELC14,DELC14_FLAG_W,NEON,NEON_FLAG_W,TCARBN,TCARBN_FLAG_W,ALKALI,ALKALI_FLAG_W,PH,PH_FLAG_W,CTDRAW,HELIER,DELHER,NEONER,THETA,TRITER
,,,,,,,,,,,,DBAR,ITS-90,PSS-78,,PSS-78,,UMOL/KG,,UMOL/KG,,UMOL/KG,,UMOL/KG,,UMOL/KG,,UMOL/KG,,PMOL/KG,,PMOL/KG,,TU,,UMOL/KG,,PERCNT,,/MILLE,,NMOL/KG,,UMOL/KG,,UMOL/KG,,,,,NMOL/KG,PERCNT,NMOL/KG,ITS-90,TU
   318MWESTW_4,  P21E,   116,  1,     24, SI9404,2,19940501,1930,-16.7500,-124.0000, 3660,      7.4,  27.1750,  36.5657,2,  36.5666,2,    197.3,2,    207.0,2,     0.23,2,     0.03,2,    -0.01,2,     0.24,2,    1.723,2,    0.956,2, -999.000,1,-999.0000,1,  -999.00,9,   -999.0,1,-999.000,9,   2033.7,2,   2404.0,2,     8.11,2,  123.1,-999.0000,-999.000,-999.000, 27.1733,-999.000
   318MWESTW_4,  P21E,   116,  1,     23, SI9405,2,19940501,1930,-16.7500,-124.0000, 3660,     23.9,  27.1295,  36.5609,2,  36.5616,2,    206.0,2,    205.9,2,     0.25,2,     0.01,2,     0.01,2,     0.24,2,    1.681,2,    0.946,2, -999.000,1,-999.0000,1,  -999.00,9,   -999.0,1,-999.000,9,   2032.7,2,   2404.0,2,     8.10,2,  288.3,-999.0000,-999.000,-999.000, 27.1240,-999.000
   318MWESTW_4,  P21E,   116,  1,     22, SI9407,2,19940501,1930,-16.7500,-124.0000, 3660,     47.9,  27.1161,  36.5597,2,  36.5595,2,    204.1,2,    204.8,2,     0.28,2,     0.01,2,     0.01,2,     0.24,2,    1.714,2,    1.024,2, -999.000,1,-999.0000,1,  -999.00,9,   -999.0,1,-999.000,9,   2033.7,2,   2404.0,2,     8.11,2,  528.0,-999.0000,-999.000,-999.000, 27.1050,-999.000
   318MWESTW_4,  P21E,   116,  1,     21, SI9408,2,19940501,1930,-16.7500,-124.0000, 3660,     98.4,  24.4032,  36.4593,2,  36.4612,2,    216.7,2,    215.2,2,     0.47,2,     0.01,2,     0.01,2,     0.22,2,    1.931,2,    1.099,2, -999.000,1,-999.0000,1,  -999.00,9,   -999.0,1,-999.000,9,   2047.8,2,   2396.0,2,     8.08,2, 1031.5,-999.0000,-999.000,-999.000, 24.3821,-999.000
   318MWESTW_4,  P21E,   116,  1,     20, SI9409,2,19940501,1930,-16.7500,-124.0000, 3660,    150.0,  23.2732,  36.3876,2,  36.3915,2,    206.5,2,    203.7,2,     0.50,2,     0.03,2,     0.28,2,     0.29,2,    1.949,2,    1.082,2, -999.000,1,-999.0000,1,  -999.00,9,   -999.0,1,-999.000,9,   2064.8,2,   2391.0,2,     8.05,2, 1546.5,-999.0000,-999.000,-999.000, 23.2421,-999.000
   318MWESTW_4,  P21E,   116,  1,     19, SI9411,2,19940501,1930,-16.7500,-124.0000, 3660,    201.8,  21.7194,  36.1149,2,  36.1254,2,    188.4,2,    189.8,2,     0.53,2,     1.99,2,     0.07,2,     0.46,2,    2.055,2,    1.120,2, -999.000,1,-999.0000,1,  -999.00,9,   -999.0,1,-999.000,9,   2084.8,2,   2374.0,2,     7.99,2, 2062.4,-999.0000,-999.000,-999.000, 21.6796,-999.000
   318MWESTW_4,  P21E,   116,  1,     18, SI9413,2,19940501,1930,-16.7500,-124.0000, 3660,    250.6,  19.3869,  35.6752,2,  35.6771,2,    188.0,2,    185.1,2,     0.87,2,     3.47,2,     0.02,2,     0.53,2,    2.115,2,    1.114,2, -999.000,1,-999.0000,1,  -999.00,9,   -999.0,1,-999.000,9,   2086.8,2,   2344.0,2,     7.96,2, 2547.8,-999.0000,-999.000,-999.000, 19.3413,-999.000
   318MWESTW_4,  P21E,   116,  1,     17, SI9415,2,19940501,1930,-16.7500,-124.0000, 3660,    351.4,  12.1092,  34.6785,2,  34.6767,2,    137.1,2,    133.9,2,     7.72,2,    16.69,2,     0.01,2,     1.47,2,    1.188,2,    0.583,2, -999.000,1,-999.0000,1,  -999.00,9,   -999.0,1,-999.000,9,   2146.8,2,   2281.0,2,     7.70,2, 3551.2,-999.0000,-999.000,-999.000, 12.0629,-999.000
   318MWESTW_4,  P21E,   116,  1,     16, SI9416,2,19940501,1930,-16.7500,-124.0000, 3660,    501.4,   7.0409,  34.4316,2,  34.4316,2,    110.9,2,    111.2,2,    21.89,2,    33.56,2,     0.01,2,     2.37,2,    0.084,2,    0.048,2, -999.000,1,-999.0000,1,  -999.00,9,   -999.0,1,-999.000,9,   2219.9,2,   2283.0,2,     7.52,2, 5043.2,-999.0000,-999.000,-999.000,  6.9932,-999.000
   318MWESTW_4,  P21E,   116,  1,     15, SI9417,2,19940501,1930,-16.7500,-124.0000, 3660,    597.4,   6.1640,  34.4495,2,  34.4481,2,    103.0,2,     98.3,2,    32.40,2,    37.07,2,     0.01,2,     2.55,2,    0.017,2,    0.007,2, -999.000,1,-999.0000,1,  -999.00,9,   -999.0,1,-999.000,9,   2239.9,2,   2295.0,2,     7.49,2, 5997.7,-999.0000,-999.000,-999.000,  6.1107,-999.000
   318MWESTW_4,  P21E,   116,  1,     14, SI9419,2,19940501,1930,-16.7500,-124.0000, 3660,    701.6,   5.6535,  34.4771,2,  34.4765,2,     85.3,2,     83.6,2,    44.17,2,    39.48,2,     0.01,2,     2.72,2,    0.003,2,   -0.001,2, -999.000,1,-999.0000,1,  -999.00,9,   -999.0,1,-999.000,9,   2260.9,2,   2304.0,2,     7.46,2, 7033.6,-999.0000,-999.000,-999.000,  5.5931,-999.000
   318MWESTW_4,  P21E,   116,  1,     13, SI9420,2,19940501,1930,-16.7500,-124.0000, 3660,    850.8,   4.9906,  34.5026,2,  34.5025,2,     78.8,2,     76.3,2,    59.75,2,    41.10,2,     0.01,2,     2.85,2,    0.000,2,   -0.003,2, -999.000,1,-999.0000,1,  -999.00,9,   -999.0,1,-999.000,9,   2283.0,2,   2322.0,2,     7.44,2, 8517.6,-999.0000,-999.000,-999.000,  4.9207,-999.000
   318MWESTW_4,  P21E,   116,  1,     12, SI9421,2,19940501,1930,-16.7500,-124.0000, 3660,   1099.6,   4.0585,  34.5338,2,  34.5345,2,     83.1,2,     82.7,2,    80.71,2,    41.14,2,     0.01,2,     2.90,2,    0.000,2,   -0.001,2, -999.000,1,-999.0000,1,  -999.00,9,   -999.0,1,-999.000,9,   2303.0,2,   2344.0,2,     7.46,2,10991.3,-999.0000,-999.000,-999.000,  3.9739,-999.000
   318MWESTW_4,  P21E,   116,  1,     11, SI9423,2,19940501,1930,-16.7500,-124.0000, 3660,   1298.5,   3.4788,  34.5589,2,  34.5586,2,     98.5,2,     97.9,2,    92.64,2,    39.96,2,     0.01,2,     2.82,2,    0.003,2,    0.002,2, -999.000,1,-999.0000,1,  -999.00,9,   -999.0,1,-999.000,9,   2308.0,2,   2358.0,2,     7.48,2,12968.4,-999.0000,-999.000,-999.000,  3.3827,-999.000
   318MWESTW_4,  P21E,   116,  1,     10, SI9425,2,19940501,1930,-16.7500,-124.0000, 3660,   1499.2,   3.0051,  34.5859,2,  34.5865,2,    104.4,2,    103.4,2,   104.87,2,    39.60,2,     0.00,2,     2.80,2,    0.000,2,   -0.003,2, -999.000,1,-999.0000,1,  -999.00,9,   -999.0,1,-999.000,9,   2318.0,2,   2371.0,2,     7.49,2,14963.3,-999.0000,-999.000,-999.000,  2.8972,-999.000
   318MWESTW_4,  P21E,   116,  1,      9, SI9424,2,19940501,1930,-16.7500,-124.0000, 3660,   1698.8,   2.6305,  34.6056,2,  34.6064,2,    119.2,2,    119.0,2,   110.76,2,    38.32,2,     0.00,2,     2.68,2,    0.001,2,   -0.002,2, -999.000,1,-999.0000,1,  -999.00,9,   -999.0,1,-999.000,9,   2317.0,2,   2380.0,2,     7.51,2,16948.5,-999.0000,-999.000,-999.000,  2.5105,-999.000
   318MWESTW_4,  P21E,   116,  1,      8, SI9428,2,19940501,1930,-16.7500,-124.0000, 3660,   1899.1,   2.2699,  34.6292,2,  34.6301,2,    135.9,2,    135.2,2,   115.06,2,    37.00,2,     0.00,2,     2.57,2, -999.000,9, -999.000,9, -999.000,1,-999.0000,1,  -999.00,9,   -999.0,1,-999.000,9,   -999.0,9,   -999.0,9,  -999.00,9,18939.8,-999.0000,-999.000,-999.000,  2.1379,-999.000
   318MWESTW_4,  P21E,   116,  1,      7, SI9429,2,19940501,1930,-16.7500,-124.0000, 3660,   2101.3,   2.0413,  34.6474,2,  34.6480,2,    146.5,2,    146.8,2,   118.09,2,    36.10,2,     0.00,2,     2.49,2, -999.000,9, -999.000,9, -999.000,1,-999.0000,1,  -999.00,9,   -999.0,1,-999.000,9,   2312.0,2,   2388.0,2,     7.57,2,20949.9,-999.0000,-999.000,-999.000,  1.8956,-999.000
   318MWESTW_4,  P21E,   116,  1,      6, SI9431,2,19940501,1930,-16.7500,-124.0000, 3660,   2398.1,   1.8892,  34.6626,2,  34.6637,2,    151.4,2,    152.0,2,   123.18,2,    35.73,2,     0.00,2,     2.46,2, -999.000,9, -999.000,9, -999.000,1,-999.0000,1,  -999.00,9,   -999.0,1,-999.000,9,   2311.0,2,   -999.0,9,  -999.00,9,23900.6,-999.0000,-999.000,-999.000,  1.7201,-999.000
   318MWESTW_4,  P21E,   116,  1,      5, SI9432,2,19940501,1930,-16.7500,-124.0000, 3660,   2698.5,   1.7881,  34.6724,2,  34.6730,2,    154.0,2,    154.2,2,   127.15,2,    35.63,2,     0.00,2,     2.45,2, -999.000,9, -999.000,9, -999.000,1,-999.0000,1,  -999.00,9,   -999.0,1,-999.000,9,   2314.0,2,   2401.0,2,     7.58,2,26886.8,-999.0000,-999.000,-999.000,  1.5936,-999.000
   318MWESTW_4,  P21E,   116,  1,      4, SI9433,2,19940501,1930,-16.7500,-124.0000, 3660,   2995.3,   1.7169,  34.6770,2,  34.6769,2,    157.4,2,    157.6,2,   128.91,2,    35.40,2,    -0.01,2,     2.44,2, -999.000,9, -999.000,9, -999.000,1,-999.0000,1,  -999.00,9,   -999.0,1,-999.000,9,   2313.0,2,   2405.0,2,     7.59,2,29837.5,-999.0000,-999.000,-999.000,  1.4958,-999.000
   318MWESTW_4,  P21E,   116,  1,      3, SI9435,2,19940501,1930,-16.7500,-124.0000, 3660,   3300.4,   1.6597,  34.6809,2,  34.6820,2,    161.7,2,    161.3,2,   129.40,2,    35.16,2,     0.00,2,     2.42,2, -999.000,9, -999.000,9, -999.000,1,-999.0000,1,  -999.00,9,   -999.0,1,-999.000,9,   2313.0,2,   2403.0,2,     7.59,2,32870.7,-999.0000,-999.000,-999.000,  1.4099,-999.000
   318MWESTW_4,  P21E,   116,  1,      2, SI9401,2,19940501,1930,-16.7500,-124.0000, 3660,   3599.2,   1.6523,  34.6834,2,  34.6832,2,    164.2,2,    163.0,2,   129.57,2,    35.12,2,     0.00,2,     2.42,2, -999.000,9, -999.000,9, -999.000,1,-999.0000,1,  -999.00,9,   -999.0,1,-999.000,9,   2313.0,2,   -999.0,9,     7.59,2,35840.5,-999.0000,-999.000,-999.000,  1.3720,-999.000
   318MWESTW_4,  P21E,   116,  1,      1, SI9403,2,19940501,1930,-16.7500,-124.0000, 3660,   3692.7,   1.6597,  34.6832,2,  34.6842,2,    162.7,2,    163.6,2,   129.63,2,    35.13,2,    -0.02,2,     2.42,2, -999.000,9, -999.000,9, -999.000,1,-999.0000,1,  -999.00,9,   -999.0,1,-999.000,9,   2312.0,2,   2403.0,2,     7.59,2,36770.6,-999.0000,-999.000,-999.000,  1.3694,-999.000
   318MWESTW_4,  P21E,   117,  1,     23, SI9405,2,19940502,0205,-16.7500,-124.6667, 3787,     23.1,  27.1445,  36.5545,2,  36.5551,2,    203.8,2,    212.0,2,     0.34,2,     0.08,2,     0.00,2,     0.24,2,    1.681,2,    0.948,2, -999.000,1,-999.0000,1,  -999.00,9,   -999.0,1,-999.000,9,   -999.0,9,   -999.0,9,  -999.00,9,  280.1,-999.0000,-999.000,-999.000, 27.1392,-999.000
   318MWESTW_4,  P21E,   117,  1,     22, SI9407,2,19940502,0205,-16.7500,-124.6667, 3787,     48.8,  27.1484,  36.5635,2,  36.5642,2,    209.7,2,    206.3,2,     0.53,2,     0.08,2,     0.00,2,     0.24,2,    1.652,2,    0.939,2, -999.000,1,-999.0000,1,  -999.00,9,   -999.0,1,-999.000,9,   -999.0,9,   -999.0,9,  -999.00,9,  537.6,-999.0000,-999.000,-999.000, 27.1371,-999.000
   318MWESTW_4,  P21E,   117,  1,     21, SI9408,2,19940502,0205,-16.7500,-124.6667, 3787,    100.8,  24.9647,  36.4576,2,  36.4588,2,    212.5,2,    222.9,2,     0.38,2,     0.08,2,     0.00,2,     0.20,2,    1.907,2,    1.053,2, -999.000,1,-999.0000,1,  -999.00,9,   -999.0,1,-999.000,9,   -999.0,9,   -999.0,9,  -999.00,9, 1055.6,-999.0000,-999.000,-999.000, 24.9427,-999.000
   318MWESTW_4,  P21E,   117,  1,     20, SI9409,2,19940502,0205,-16.7500,-124.6667, 3787,    151.0,  22.9981,  36.2547,2,  36.2592,2,    217.2,2,    220.1,2,     0.41,2,     0.08,2,     0.00,2,     0.20,2,    1.982,2,    1.070,2, -999.000,1,-999.0000,1,  -999.00,9,   -999.0,1,-999.000,9,   -999.0,9,   -999.0,9,  -999.00,9, 1556.3,-999.0000,-999.000,-999.000, 22.9671,-999.000
   318MWESTW_4,  P21E,   117,  1,     19, SI9411,2,19940502,0205,-16.7500,-124.6667, 3787,    199.7,  21.4392,  35.9939,2,  35.9951,2,    207.2,2,    208.3,2,     0.43,2,     0.15,2,     0.08,2,     0.22,2,    2.084,2,    1.133,2, -999.000,1,-999.0000,1,  -999.00,9,   -999.0,1,-999.000,9,   -999.0,9,   -999.0,9,  -999.00,9, 2042.2,-999.0000,-999.000,-999.000, 21.4002,-999.000
   318MWESTW_4,  P21E,   117,  1,     18, SI9413,2,19940502,0205,-16.7500,-124.6667, 3787,    301.8,  16.3836,  35.1898,2,  35.2048,2,    174.3,2,    180.0,2,     1.71,2,     6.21,2,     0.00,2,     0.68,2,    1.890,2,    0.955,2, -999.000,1,-999.0000,1,  -999.00,9,   -999.0,1,-999.000,9,   -999.0,9,   -999.0,9,  -999.00,9, 3057.4,-999.0000,-999.000,-999.000, 16.3348,-999.000
   318MWESTW_4,  P21E,   117,  1,     17, SI9415,2,19940502,0205,-16.7500,-124.6667, 3787,    403.0,   9.8542,  34.5224,2,  34.5137,2,    114.1,2,    104.7,2,    14.08,2,    25.34,2,     0.00,2,     2.03,2,    0.558,2,    0.277,2, -999.000,1,-999.0000,1,  -999.00,9,   -999.0,1,-999.000,9,   -999.0,9,   -999.0,9,  -999.00,9, 4064.4,-999.0000,-999.000,-999.000,  9.8076,-999.000
   318MWESTW_4,  P21E,   117,  1,     16, SI9416,2,19940502,0205,-16.7500,-124.6667, 3787,    501.8,   7.3133,  34.4523,2,  34.4518,2,     92.8,2,     98.6,2,    22.64,2,    33.91,2,    -0.01,2,     2.41,2,    0.078,2,    0.042,2, -999.000,1,-999.0000,1,  -999.00,9,   -999.0,1,-999.000,9,   -999.0,9,   -999.0,9,  -999.00,9, 5046.5,-999.0000,-999.000,-999.000,  7.2645,-999.000
   318MWESTW_4,  P21E,   117,  1,     14, SI9419,2,19940502,0205,-16.7500,-124.6667, 3787,    601.6,   6.2615,  34.4462,2,  34.4451,2,    104.3,2,    104.2,2,    30.73,2,    36.26,2,     0.01,2,     2.51,2,    0.033,2,    0.049,2, -999.000,1,-999.0000,1,  -999.00,9,   -999.0,1,-999.000,9,   -999.0,9,   -999.0,9,  -999.00,9, 6039.0,-999.0000,-999.000,-999.000,  6.2074,-999.000
   318MWESTW_4,  P21E,   117,  1,     13, SI9420,2,19940502,0205,-16.7500,-124.6667, 3787,    705.3,   5.6400,  34.4744,2,  34.4738,2,     90.6,2,     87.9,2,    44.04,2,    39.00,2,    -0.01,2,     2.71,2,    0.001,2,   -0.004,2, -999.000,1,-999.0000,1,  -999.00,9,   -999.0,1,-999.000,9,   -999.0,9,   -999.0,9,  -999.00,9, 7070.8,-999.0000,-999.000,-999.000,  5.5793,-999.000
   318MWESTW_4,  P21E,   117,  1,     12, SI9421,2,19940502,0205,-16.7500,-124.6667, 3787,    853.5,   4.8915,  34.5019,2,  34.5009,2,     82.6,2,     81.4,2,    60.99,2,    40.65,2,     0.01,2,     2.84,2,    0.002,2,   -0.001,2, -999.000,1,-999.0000,1,  -999.00,9,   -999.0,1,-999.000,9,   -999.0,9,   -999.0,9,  -999.00,9, 8544.4,-999.0000,-999.000,-999.000,  4.8220,-999.000
   318MWESTW_4,  P21E,   117,  1,     11, SI9423,2,19940502,0205,-16.7500,-124.6667, 3787,   1104.2,   3.9256,  34.5411,2,  34.5453,2,     84.1,2,     84.5,2,    83.95,2,    41.05,2,     0.01,2,     2.89,2,    0.003,2,   -0.002,2, -999.000,1,-999.0000,1,  -999.00,9,   -999.0,1,-999.000,9,   -999.0,9,   -999.0,9,  -999.00,9,11036.6,-999.0000,-999.000,-999.000,  3.8418,-999.000
   318MWESTW_4,  P21E,   117,  1,     10, SI9425,2,19940502,0205,-16.7500,-124.6667, 3787,   1402.0,   3.1424,  34.5791,2,  34.5787,2,     98.2,2,     99.0,2,   102.48,2,    39.89,2,     0.01,2,     2.82,2,   -0.001,2,   -0.004,2, -999.000,1,-999.0000,1,  -999.00,9,   -999.0,1,-999.000,9,   -999.0,9,   -999.0,9,  -999.00,9,13997.2,-999.0000,-999.000,-999.000,  3.0411,-999.000
   318MWESTW_4,  P21E,   117,  1,      9, SI9424,2,19940502,0205,-16.7500,-124.6667, 3787,   1700.5,   2.5638,  34.6121,2,  34.6128,2,    115.3,2,    116.8,2,   114.36,2,    38.48,2,     0.01,2,     2.72,2,   -0.002,2,   -0.004,2, -999.000,1,-999.0000,1,  -999.00,9,   -999.0,1,-999.000,9,   -999.0,9,   -999.0,9,  -999.00,9,16965.1,-999.0000,-999.000,-999.000,  2.4445,-999.000
   318MWESTW_4,  P21E,   117,  1,      8, SI9428,2,19940502,0205,-16.7500,-124.6667, 3787,   1999.1,   2.0967,  34.6426,2,  34.6431,2,    141.9,2,    143.4,2,   117.86,2,    36.27,2,     0.01,2,     2.53,2, -999.000,9, -999.000,9, -999.000,1,-999.0000,1,  -999.00,9,   -999.0,1,-999.000,9,   -999.0,9,   -999.0,9,  -999.00,9,19933.3,-999.0000,-999.000,-999.000,  1.9588,-999.000
   318MWESTW_4,  P21E,   117,  1,      7, SI9429,2,19940502,0205,-16.7500,-124.6667, 3787,   2298.2,   1.9281,  34.6584,2,  34.6578,2,    149.7,2,    150.5,2,   122.31,2,    35.76,2,     0.01,2,     2.48,2, -999.000,9, -999.000,9, -999.000,1,-999.0000,1,  -999.00,9,   -999.0,1,-999.000,9,   -999.0,9,   -999.0,9,  -999.00,9,22907.0,-999.0000,-999.000,-999.000,  1.7671,-999.000
   318MWESTW_4,  P21E,   117,  1,      6, SI9431,2,19940502,0205,-16.7500,-124.6667, 3787,   2595.8,   1.8135,  34.6694,2,  34.6692,2,    152.1,2,    152.8,2,   126.75,2,    35.63,2,     0.00,2,     2.47,2, -999.000,9, -999.000,9, -999.000,1,-999.0000,1,  -999.00,9,   -999.0,1,-999.000,9,   -999.0,9,   -999.0,9,  -999.00,9,25865.8,-999.0000,-999.000,-999.000,  1.6279,-999.000
   318MWESTW_4,  P21E,   117,  1,      5, SI9432,2,19940502,0205,-16.7500,-124.6667, 3787,   2896.0,   1.7483,  34.6760,2,  34.6745,2,    155.6,2,    155.7,2,   128.82,2,    35.43,2,     0.00,2,     2.45,2, -999.000,9, -999.000,9, -999.000,1,-999.0000,1,  -999.00,9,   -999.0,1,-999.000,9,   -999.0,9,   -999.0,9,  -999.00,9,28850.3,-999.0000,-999.000,-999.000,  1.5360,-999.000
   318MWESTW_4,  P21E,   117,  1,      4, SI9433,2,19940502,0205,-16.7500,-124.6667, 3787,   3197.5,   1.6719,  34.6801,2,  34.6794,2,    159.7,2,    160.0,2,   129.64,2,    35.18,2,     0.00,2,     2.45,2, -999.000,9, -999.000,9, -999.000,1,-999.0000,1,  -999.00,9,   -999.0,1,-999.000,9,   -999.0,9,   -999.0,9,  -999.00,9,31847.6,-999.0000,-999.000,-999.000,  1.4320,-999.000
   318MWESTW_4,  P21E,   117,  1,      3, SI9435,2,19940502,0205,-16.7500,-124.6667, 3787,   3498.3,   1.6436,  34.6834,2,  34.6828,2,    163.3,2,    162.2,2,   130.13,2,    35.03,2,     0.00,2,     2.43,2, -999.000,9, -999.000,9, -999.000,1,-999.0000,1,  -999.00,9,   -999.0,1,-999.000,9,   -999.0,9,   -999.0,9,  -999.00,9,34838.1,-999.0000,-999.000,-999.000,  1.3740,-999.000
   318MWESTW_4,  P21E,   117,  1,      2, SI9401,2,19940502,0205,-16.7500,-124.6667, 3787,   3778.3,   1.6488,  34.6844,2,  34.6844,2,    163.0,2,    163.5,2,   129.99,2,    35.03,2,     0.00,2,     2.43,2, -999.000,9, -999.000,9, -999.000,1,-999.0000,1,  -999.00,9,   -999.0,1,-999.000,9,   -999.0,9,   -999.0,9,  -999.00,9,37621.6,-999.0000,-999.000,-999.000,  1.3497,-999.000
   318MWESTW_4,  P21E,   117,  1,      1, SI9403,2,19940502,0205,-16.7500,-124.6667, 3787,   3818.2,   1.6524,  34.6842,2,  34.6875,3,    163.0,2,    164.0,2,   130.28,2,    35.01,2,     0.00,2,     2.42,2, -999.000,9, -999.000,9, -999.000,1,-999.0000,1,  -999.00,9,   -999.0,1,-999.000,9,   -999.0,9,   -999.0,9,  -999.00,9,38018.0,-999.0000,-999.000,-999.000,  1.3489,-999.000
   318MWESTW_4,  P21E,   117,  1,     24, SI9404,2,19940502,0205,-16.7500,-124.6667, 3787,   3818.2,   1.6523,  34.6843,2,  34.6842,2,    163.0,2,    163.4,2,   130.11,2,    35.00,2,     0.00,2,     2.43,2,    0.001,2,   -0.002,2, -999.000,1,-999.0000,1,  -999.00,9,   -999.0,1,-999.000,9,   -999.0,9,   -999.0,9,  -999.00,9,38018.1,-999.0000,-999.000,-999.000,  1.3488,-999.000