BOTTLE,20010911WHPSIOdm
EXPOCODE,SECT_ID,STNNBR,CASTNO,SAMPNO,BTLNBR,BTLNBR_FLAG_W,DATE,TIME,LATITUDE,LONGITUDE,DEPTH,CTDPRS,CTDTMP,CTDSAL,CTDSAL_FLAG_W,SALNTY,SALNTY_FLAG_W,CTDOXY,CTDOXY_FLAG_W,OXYGEN,OXYGEN_FLAG_W,SILCAT,SILCAT_FLAG_W,NITRAT,NITRAT_FLAG_W,NITRIT,NITRIT_FLAG_W,PHSPHT,PHSPHT_FLAG_W,CFC-11,CFC-11_FLAG_W,CFC-12,CFC-12_FLAG_W,TRITUM,TRITUM_FLAG_W,HELIUM,HELIUM_FLAG_W,DELHE3,DELHE3_FLAG_W,DELC14,DELC14_FLAG_W,NEON,NEON_FLAG_W,TCARBN,TCARBN_FLAG_W,ALKALI,ALKALI_FLAG_W,PH,PH_FLAG_W,CTDRAW,HELIER,DELHER,NEONER,THETA,TRITER
,,,,,,,,,,,,DBAR,ITS-90,PSS-78,,PSS-78,,UMOL/KG,,UMOL/KG,,UMOL/KG,,UMOL/KG,,UMOL/KG,,UMOL/KG,,PMOL/KG,,PMOL/KG,,TU,,UMOL/KG,,PERCNT,,/MILLE,,NMOL/KG,,UMOL/KG,,UMOL/KG,,,,,NMOL/KG,PERCNT,NMOL/KG,ITS-90,TU
   318MWESTW_5,  P21W,   181,  1,     36, SI9442,2,19940526,0931,-17.5000,-160.3333, 4890,      6.9,  27.7274,  35.4075,2,  35.4083,2,    207.7,2,    210.5,2,     0.79,2,     0.07,2,     0.00,2,     0.19,2,    1.623,2,    0.949,2, -999.000,1,-999.0000,1,  -999.00,9,   -999.0,1,-999.000,9,   -999.0,9,   -999.0,9,  -999.00,9,  126.3,-999.0000,-999.000,-999.000, 27.7258,-999.000
   318MWESTW_5,  P21W,   181,  1,     35, SI9435,2,19940526,0931,-17.5000,-160.3333, 4890,     17.3,  27.7277,  35.4087,2,  35.4275,2,    204.2,2,    212.5,2,     0.80,2,     0.14,2,     0.00,2,     0.19,2, -999.000,9, -999.000,9, -999.000,1,-999.0000,1,  -999.00,9,   -999.0,1,-999.000,9,   -999.0,9,   -999.0,9,  -999.00,9,  230.3,-999.0000,-999.000,-999.000, 27.7236,-999.000
   318MWESTW_5,  P21W,   181,  1,     34, SI9441,2,19940526,0931,-17.5000,-160.3333, 4890,     41.8,  27.7249,  35.5231,2,  35.5713,2,    197.3,2,    207.1,2,     0.81,2,     0.11,2,     0.00,2,     0.20,2,    1.659,2,    0.975,2, -999.000,1,-999.0000,1,  -999.00,9,   -999.0,1,-999.000,9,   -999.0,9,   -999.0,9,  -999.00,9,  475.0,-999.0000,-999.000,-999.000, 27.7151,-999.000
   318MWESTW_5,  P21W,   181,  1,     33, SI9433,2,19940526,0931,-17.5000,-160.3333, 4890,     93.1,  25.9544,  36.0044,2,  36.0016,2,    211.2,2,    217.8,2,     0.65,2,     0.09,2,     0.00,2,     0.21,2,    1.792,2,    1.032,2, -999.000,1,-999.0000,1,  -999.00,9,   -999.0,1,-999.000,9,   -999.0,9,   -999.0,9,  -999.00,9,  985.8,-999.0000,-999.000,-999.000, 25.9336,-999.000
   318MWESTW_5,  P21W,   181,  1,     32, SI9432,2,19940526,0931,-17.5000,-160.3333, 4890,    143.3,  23.5833,  35.9626,2,  35.9621,2,    189.9,2,    192.5,2,     0.66,2,     0.19,2,     0.10,2,     0.26,2, -999.000,9, -999.000,9, -999.000,1,-999.0000,1,  -999.00,9,   -999.0,1,-999.000,9,   -999.0,9,   -999.0,9,  -999.00,9, 1486.1,-999.0000,-999.000,-999.000, 23.5534,-999.000
   318MWESTW_5,  P21W,   181,  1,     31, SI9431,2,19940526,0931,-17.5000,-160.3333, 4890,    194.4,  21.5870,  35.9248,2,  35.9275,2,    172.8,2,    171.0,2,     0.83,2,     3.51,2,     0.00,2,     0.48,2,    1.853,2,    1.025,2, -999.000,1,-999.0000,1,  -999.00,9,   -999.0,1,-999.000,9,   -999.0,9,   -999.0,9,  -999.00,9, 1996.0,-999.0000,-999.000,-999.000, 21.5489,-999.000
   318MWESTW_5,  P21W,   181,  1,     30, SI9440,2,19940526,0931,-17.5000,-160.3333, 4890,    244.3,  19.6410,  35.7169,2,  35.6761,2,    171.0,2,    168.9,2,     1.64,2,     5.50,2,     0.00,2,     0.62,2, -999.000,9, -999.000,9, -999.000,1,-999.0000,1,  -999.00,9,   -999.0,1,-999.000,9,   -999.0,9,   -999.0,9,  -999.00,9, 2492.6,-999.0000,-999.000,-999.000, 19.5962,-999.000
   318MWESTW_5,  P21W,   181,  1,     29, SI9429,2,19940526,0931,-17.5000,-160.3333, 4890,    295.6,  16.7231,  35.3409,2,  35.3291,2,    171.9,2,    171.3,2,     2.77,2,     7.91,2,     0.00,2,     0.76,2,    1.566,2,    0.842,2, -999.000,1,-999.0000,1,  -999.00,9,   -999.0,1,-999.000,9,   -999.0,9,   -999.0,9,  -999.00,9, 3002.7,-999.0000,-999.000,-999.000, 16.6746,-999.000
   318MWESTW_5,  P21W,   181,  1,     28, SI9428,2,19940526,0931,-17.5000,-160.3333, 4890,    395.7,  11.7358,  34.7977,2,  34.7921,2,    172.2,2,    162.5,2,     7.94,2,    17.27,2,     0.00,2,     1.36,2,    0.884,2,    0.478,2, -999.000,1,-999.0000,1,  -999.00,9,   -999.0,1,-999.000,9,   -999.0,9,   -999.0,9,  -999.00,9, 3998.6,-999.0000,-999.000,-999.000, 11.6846,-999.000
   318MWESTW_5,  P21W,   181,  1,     27, SI9424,2,19940526,0931,-17.5000,-160.3333, 4890,    498.6,   8.3233,  34.5055,2,  34.5034,2,    166.9,2,    166.3,2,    14.07,2,    24.88,2,     0.00,2,     1.80,2,    0.436,2,    0.240,2, -999.000,1,-999.0000,1,  -999.00,9,   -999.0,1,-999.000,9,   -999.0,9,   -999.0,9,  -999.00,9, 5022.5,-999.0000,-999.000,-999.000,  8.2710,-999.000
   318MWESTW_5,  P21W,   181,  1,     26, SI9414,2,19940526,0931,-17.5000,-160.3333, 4890,    600.1,   6.3264,  34.4001,2,  34.3996,2,    176.8,2,    175.9,2,    21.81,2,    29.06,2,     0.00,2,     2.03,2,    0.174,6,    0.108,6, -999.000,1,-999.0000,1,  -999.00,9,   -999.0,1,-999.000,9,   -999.0,9,   -999.0,9,  -999.00,9, 6031.6,-999.0000,-999.000,-999.000,  6.2722,-999.000
   318MWESTW_5,  P21W,   181,  1,     25, SI9425,2,19940526,0931,-17.5000,-160.3333, 4890,    703.4,   5.3132,  34.4006,2,  34.4019,2,    169.5,2,    168.1,2,    34.07,2,    31.87,2,     0.00,2,     2.21,2,    0.046,2,    0.031,2, -999.000,1,-999.0000,1,  -999.00,9,   -999.0,1,-999.000,9,   -999.0,9,   -999.0,9,  -999.00,9, 7058.3,-999.0000,-999.000,-999.000,  5.2545,-999.000
   318MWESTW_5,  P21W,   181,  1,     24, SI9434,2,19940526,0931,-17.5000,-160.3333, 4890,    799.8,   4.8986,  34.4336,2,  34.4339,2,    160.3,2,    158.0,2,    44.55,2,    33.18,2,     0.00,2,     2.31,2,    0.011,2,    0.010,2, -999.000,1,-999.0000,1,  -999.00,9,   -999.0,1,-999.000,9,   -999.0,9,   -999.0,9,  -999.00,9, 8017.4,-999.0000,-999.000,-999.000,  4.8338,-999.000
   318MWESTW_5,  P21W,   181,  1,     23, SI9423,2,19940526,0931,-17.5000,-160.3333, 4890,    902.2,   4.2696,  34.4620,2,  34.4632,2,    155.9,2,    153.9,2,    57.44,2,    34.31,2,     0.00,2,     2.39,2,    0.005,2,    0.002,2, -999.000,1,-999.0000,1,  -999.00,9,   -999.0,1,-999.000,9,   -999.0,9,   -999.0,9,  -999.00,9, 9035.0,-999.0000,-999.000,-999.000,  4.2002,-999.000
   318MWESTW_5,  P21W,   181,  1,     22, SI9418,2,19940526,0931,-17.5000,-160.3333, 4890,    999.6,   3.8048,  34.4927,2,  34.4934,2,    153.1,2,    150.9,2,    68.09,2,    34.99,2,     0.00,2,     2.42,2,    0.000,2,    0.001,2, -999.000,1,-999.0000,1,  -999.00,9,   -999.0,1,-999.000,9,   -999.0,9,   -999.0,9,  -999.00,9,10003.7,-999.0000,-999.000,-999.000,  3.7307,-999.000
   318MWESTW_5,  P21W,   181,  1,     21, SI9421,2,19940526,0931,-17.5000,-160.3333, 4890,   1200.5,   3.2705,  34.5390,2,  34.5392,4,    146.9,2,    145.6,2,    83.88,2,    35.69,2,     0.00,2,     2.48,2,   -0.001,2,   -0.001,2, -999.000,1,-999.0000,1,  -999.00,9,   -999.0,1,-999.000,9,   -999.0,9,   -999.0,9,  -999.00,9,12000.8,-999.0000,-999.000,-999.000,  3.1845,-999.000
   318MWESTW_5,  P21W,   181,  1,     20, SI9420,2,19940526,0931,-17.5000,-160.3333, 4890,   1401.1,   2.8941,  34.5695,2,  34.5804,3,    146.2,2,    146.5,2,    97.58,2,    35.88,2,     0.00,2,     2.50,2, -999.000,9, -999.000,9, -999.000,1,-999.0000,1,  -999.00,9,   -999.0,1,-999.000,9,   -999.0,9,   -999.0,9,  -999.00,9,13995.9,-999.0000,-999.000,-999.000,  2.7956,-999.000
   318MWESTW_5,  P21W,   181,  1,     19, SI9419,2,19940526,0931,-17.5000,-160.3333, 4890,   1599.7,   2.5910,  34.5950,2,  34.5954,2,    148.3,2,    146.6,2,   103.23,2,    35.84,2,     0.02,2,     2.50,2, -999.000,9, -999.000,9, -999.000,1,-999.0000,1,  -999.00,9,   -999.0,1,-999.000,9,   -999.0,9,   -999.0,9,  -999.00,9,15970.5,-999.0000,-999.000,-999.000,  2.4797,-999.000
   318MWESTW_5,  P21W,   181,  1,     18, SI9439,2,19940526,0931,-17.5000,-160.3333, 4890,   1903.4,   2.3070,  34.6213,2,  34.6221,2,    148.8,2,    147.5,2,   112.11,2,    35.88,2,     0.01,2,     2.51,2, -999.000,9, -999.000,9, -999.000,1,-999.0000,1,  -999.00,9,   -999.0,1,-999.000,9,   -999.0,9,   -999.0,9,  -999.00,9,18989.4,-999.0000,-999.000,-999.000,  2.1742,-999.000
   318MWESTW_5,  P21W,   181,  1,     17, SI9417,2,19940526,0931,-17.5000,-160.3333, 4890,   2208.8,   2.0384,  34.6442,2,  34.6447,2,    151.8,2,    151.4,2,   119.69,2,    35.68,2,     0.02,2,     2.49,2, -999.000,9, -999.000,9, -999.000,1,-999.0000,1,  -999.00,9,   -999.0,1,-999.000,9,   -999.0,9,   -999.0,9,  -999.00,9,22025.8,-999.0000,-999.000,-999.000,  1.8834,-999.000
   318MWESTW_5,  P21W,   181,  1,     16, SI9416,2,19940526,0931,-17.5000,-160.3333, 4890,   2508.5,   1.8689,  34.6578,2,  34.6588,2,    155.3,2,    154.9,2,   123.61,2,    35.47,2,     0.00,2,     2.47,2, -999.000,9, -999.000,9, -999.000,1,-999.0000,1,  -999.00,9,   -999.0,1,-999.000,9,   -999.0,9,   -999.0,9,  -999.00,9,25004.9,-999.0000,-999.000,-999.000,  1.6903,-999.000
   318MWESTW_5,  P21W,   181,  1,     15, SI9415,2,19940526,0931,-17.5000,-160.3333, 4890,   2817.7,   1.7283,  34.6699,2,  34.6708,2,    161.0,2,    160.1,2,   125.71,2,    35.04,2,     0.01,2,     2.43,2, -999.000,9, -999.000,9, -999.000,1,-999.0000,1,  -999.00,9,   -999.0,1,-999.000,9,   -999.0,9,   -999.0,9,  -999.00,9,28078.8,-999.0000,-999.000,-999.000,  1.5239,-999.000
   318MWESTW_5,  P21W,   181,  1,     14, SI9436,2,19940526,0931,-17.5000,-160.3333, 4890,   3124.6,   1.6299,  34.6773,2,  34.6781,2,    166.2,2,    165.1,2,   125.83,2,    34.82,2,     0.01,2,     2.42,2, -999.000,9, -999.000,9, -999.000,1,-999.0000,1,  -999.00,9,   -999.0,1,-999.000,9,   -999.0,9,   -999.0,9,  -999.00,9,31130.1,-999.0000,-999.000,-999.000,  1.3982,-999.000
   318MWESTW_5,  P21W,   181,  1,     13, SI9413,2,19940526,0931,-17.5000,-160.3333, 4890,   3418.9,   1.5607,  34.6830,2,  34.6828,2,    172.3,2,    171.1,2,   125.04,2,    34.29,2,     0.01,2,     2.39,2, -999.000,9, -999.000,9, -999.000,1,-999.0000,1,  -999.00,9,   -999.0,1,-999.000,9,   -999.0,9,   -999.0,9,  -999.00,9,34055.9,-999.0000,-999.000,-999.000,  1.3013,-999.000
   318MWESTW_5,  P21W,   181,  1,     12, SI9438,2,19940526,0931,-17.5000,-160.3333, 4890,   3718.3,   1.4944,  34.6884,2,  34.6905,2,    177.6,2,    176.7,2,   123.76,2,    33.92,2,     0.02,2,     2.36,2,    0.001,2,    0.002,2, -999.000,1,-999.0000,1,  -999.00,9,   -999.0,1,-999.000,9,   -999.0,9,   -999.0,9,  -999.00,9,37032.1,-999.0000,-999.000,-999.000,  1.2058,-999.000
   318MWESTW_5,  P21W,   181,  1,     11, SI9411,2,19940526,0931,-17.5000,-160.3333, 4890,   4015.5,   1.4389,  34.6932,2,  34.6934,2,    183.2,2,    181.8,2,   123.28,2,    33.59,2,     0.02,2,     2.33,2,   -0.001,2,    0.000,2, -999.000,1,-999.0000,1,  -999.00,9,   -999.0,1,-999.000,9,   -999.0,9,   -999.0,9,  -999.00,9,39986.9,-999.0000,-999.000,-999.000,  1.1200,-999.000
   318MWESTW_5,  P21W,   181,  1,     10, SI9412,2,19940526,0931,-17.5000,-160.3333, 4890,   4115.6,   1.4139,  34.6945,2,  34.6956,2,    185.1,2,    183.4,2,   122.81,2,    33.49,2,     0.02,2,     2.32,2,   -0.001,2,   -0.001,2, -999.000,1,-999.0000,1,  -999.00,9,   -999.0,1,-999.000,9,   -999.0,9,   -999.0,9,  -999.00,9,40982.1,-999.0000,-999.000,-999.000,  1.0848,-999.000
   318MWESTW_5,  P21W,   181,  1,      9, SI9410,2,19940526,0931,-17.5000,-160.3333, 4890,   4220.3,   1.4038,  34.6953,2,  34.6969,2,    186.2,2,    184.7,2,   122.98,2,    33.40,2,     0.01,2,     2.33,2,    0.000,2,   -0.001,2, -999.000,1,-999.0000,1,  -999.00,9,   -999.0,1,-999.000,9,   -999.0,9,   -999.0,9,  -999.00,9,42023.4,-999.0000,-999.000,-999.000,  1.0634,-999.000
   318MWESTW_5,  P21W,   181,  1,      8, SI9422,2,19940526,0931,-17.5000,-160.3333, 4890,   4319.3,   1.3943,  34.6969,2,  34.6979,2,    188.5,2,    186.2,2,   122.66,2,    33.42,2,     0.01,2,     2.32,2,    0.001,2,    0.000,2, -999.000,1,-999.0000,1,  -999.00,9,   -999.0,1,-999.000,9,   -999.0,9,   -999.0,9,  -999.00,9,43007.7,-999.0000,-999.000,-999.000,  1.0431,-999.000
   318MWESTW_5,  P21W,   181,  1,      7, SI9407,2,19940526,0931,-17.5000,-160.3333, 4890,   4420.0,   1.3702,  34.6990,2,  34.6995,2,    190.2,2,    188.7,2,   122.20,2,    33.23,2,     0.01,2,     2.32,2,    0.002,2,    0.001,2, -999.000,1,-999.0000,1,  -999.00,9,   -999.0,1,-999.000,9,   -999.0,9,   -999.0,9,  -999.00,9,44009.0,-999.0000,-999.000,-999.000,  1.0083,-999.000
   318MWESTW_5,  P21W,   181,  1,      6, SI9427,2,19940526,0931,-17.5000,-160.3333, 4890,   4523.3,   1.3518,  34.7006,2,  34.7017,2,    192.0,2,    191.0,2,   121.40,2,    33.05,2,     0.00,2,     2.29,2,   -0.001,2,    0.002,2, -999.000,1,-999.0000,1,  -999.00,9,   -999.0,1,-999.000,9,   -999.0,9,   -999.0,9,  -999.00,9,45035.7,-999.0000,-999.000,-999.000,  0.9787,-999.000
   318MWESTW_5,  P21W,   181,  1,      5, SI9405,2,19940526,0931,-17.5000,-160.3333, 4890,   4624.3,   1.2933,  34.7039,2,  34.7054,2,    196.7,2,    195.1,2,   120.45,2,    32.68,2,     0.00,2,     2.26,2,    0.002,2,    0.001,2, -999.000,1,-999.0000,1,  -999.00,9,   -999.0,1,-999.000,9,   -999.0,9,   -999.0,9,  -999.00,9,46039.4,-999.0000,-999.000,-999.000,  0.9103,-999.000
   318MWESTW_5,  P21W,   181,  1,      4, SI9404,2,19940526,0931,-17.5000,-160.3333, 4890,   4722.8,   1.2566,  34.7060,2,  34.7074,2,    198.5,2,    196.9,2,   119.97,2,    32.53,2,     0.01,2,     2.25,2,    0.001,2,    0.003,2, -999.000,1,-999.0000,1,  -999.00,9,   -999.0,1,-999.000,9,   -999.0,9,   -999.0,9,  -999.00,9,47018.9,-999.0000,-999.000,-999.000,  0.8634,-999.000
   318MWESTW_5,  P21W,   181,  1,      3, SI9403,2,19940526,0931,-17.5000,-160.3333, 4890,   4822.4,   1.2303,  34.7065,2,  34.7074,2,    201.3,2,    199.6,2,   119.50,2,    32.38,2,     0.01,2,     2.24,2,    0.001,2,    0.002,2, -999.000,1,-999.0000,1,  -999.00,9,   -999.0,1,-999.000,9,   -999.0,9,   -999.0,9,  -999.00,9,48009.2,-999.0000,-999.000,-999.000,  0.8262,-999.000
   318MWESTW_5,  P21W,   181,  1,      2, SI9437,2,19940526,0931,-17.5000,-160.3333, 4890,   4926.4,   1.2123,  34.7078,2,  34.7083,2,    203.4,2,    201.4,2,   119.51,2,    32.32,2,     0.01,2,     2.23,2,    0.001,2,    0.002,2, -999.000,1,-999.0000,1,  -999.00,9,   -999.0,1,-999.000,9,   -999.0,9,   -999.0,9,  -999.00,9,49042.8,-999.0000,-999.000,-999.000,  0.7965,-999.000
   318MWESTW_5,  P21W,   181,  1,      1, SI9401,2,19940526,0931,-17.5000,-160.3333, 4890,   4963.8,   1.2102,  34.7082,2,  34.7087,2,    201.6,2,    202.0,2,   119.70,2,    32.36,2,     0.01,2,     2.24,2,    0.001,2,    0.002,2, -999.000,1,-999.0000,1,  -999.00,9,   -999.0,1,-999.000,9,   -999.0,9,   -999.0,9,  -999.00,9,49414.3,-999.0000,-999.000,-999.000,  0.7900,-999.000