BOTTLE,20010911WHPSIOdm
EXPOCODE,SECT_ID,STNNBR,CASTNO,SAMPNO,BTLNBR,BTLNBR_FLAG_W,DATE,TIME,LATITUDE,LONGITUDE,DEPTH,CTDPRS,CTDTMP,CTDSAL,CTDSAL_FLAG_W,SALNTY,SALNTY_FLAG_W,CTDOXY,CTDOXY_FLAG_W,OXYGEN,OXYGEN_FLAG_W,SILCAT,SILCAT_FLAG_W,NITRAT,NITRAT_FLAG_W,NITRIT,NITRIT_FLAG_W,PHSPHT,PHSPHT_FLAG_W,CFC-11,CFC-11_FLAG_W,CFC-12,CFC-12_FLAG_W,TRITUM,TRITUM_FLAG_W,HELIUM,HELIUM_FLAG_W,DELHE3,DELHE3_FLAG_W,DELC14,DELC14_FLAG_W,NEON,NEON_FLAG_W,TCARBN,TCARBN_FLAG_W,ALKALI,ALKALI_FLAG_W,PH,PH_FLAG_W,CTDRAW,HELIER,DELHER,NEONER,THETA,TRITER
,,,,,,,,,,,,DBAR,ITS-90,PSS-78,,PSS-78,,UMOL/KG,,UMOL/KG,,UMOL/KG,,UMOL/KG,,UMOL/KG,,UMOL/KG,,PMOL/KG,,PMOL/KG,,TU,,UMOL/KG,,PERCNT,,/MILLE,,NMOL/KG,,UMOL/KG,,UMOL/KG,,,,,NMOL/KG,PERCNT,NMOL/KG,ITS-90,TU
   318MWESTW_5,  P21W,   197,  1,     36, SI9442,2,19940531,0852,-17.5000,-171.0000, 5100,      9.2,  26.6467,  35.4055,2,  35.4030,2,    205.7,2,    211.2,2,     0.74,2,     0.00,2,     0.00,2,     0.14,2,    1.677,2,    0.951,2, -999.000,1,-999.0000,1,  -999.00,9,   -999.0,1,-999.000,9,   1953.3,2,   2327.0,2,     8.13,2,  150.1,-999.0000,-999.000,-999.000, 26.6446,-999.000
   318MWESTW_5,  P21W,   197,  1,     35, SI9435,2,19940531,0852,-17.5000,-171.0000, 5100,     19.3,  26.6510,  35.4034,2,  35.4030,2,    206.7,2,    213.3,2,     0.76,2,     0.00,2,     0.00,2,     0.15,2,    1.690,2,    0.952,2, -999.000,1,-999.0000,1,  -999.00,9,   -999.0,1,-999.000,9,   1953.4,2,   2324.9,2,     8.13,2,  251.5,-999.0000,-999.000,-999.000, 26.6466,-999.000
   318MWESTW_5,  P21W,   197,  1,     34, SI9441,2,19940531,0852,-17.5000,-171.0000, 5100,     43.9,  26.6298,  35.4097,2,  35.4109,2,    203.5,2,    215.1,2,     0.62,2,     0.03,2,     0.01,2,     0.16,2, -999.000,9, -999.000,9, -999.000,1,-999.0000,1,  -999.00,9,   -999.0,1,-999.000,9,   -999.0,9,   -999.0,9,  -999.00,9,  496.7,-999.0000,-999.000,-999.000, 26.6198,-999.000
   318MWESTW_5,  P21W,   197,  1,     33, SI9433,2,19940531,0852,-17.5000,-171.0000, 5100,     94.6,  24.8308,  35.7200,2,  35.7233,2,    204.6,2,    219.1,2,     0.63,2,     0.09,2,     0.00,2,     0.19,2,    1.859,2,    1.032,2, -999.000,1,-999.0000,1,  -999.00,9,   -999.0,1,-999.000,9,   -999.0,9,   -999.0,9,  -999.00,9, 1001.8,-999.0000,-999.000,-999.000, 24.8103,-999.000
   318MWESTW_5,  P21W,   197,  1,     32, SI9432,2,19940531,0852,-17.5000,-171.0000, 5100,    145.9,  22.8913,  35.7775,2,  35.7791,2,    193.9,2,    194.7,2,     0.64,2,     0.61,2,     0.05,2,     0.25,2,    1.947,2,    1.070,2, -999.000,1,-999.0000,1,  -999.00,9,   -999.0,1,-999.000,9,   2022.2,2,   2350.3,2,     8.05,2, 1512.9,-999.0000,-999.000,-999.000, 22.8615,-999.000
   318MWESTW_5,  P21W,   197,  1,     31, SI9431,2,19940531,0852,-17.5000,-171.0000, 5100,    193.6,  21.4805,  35.7746,2,  35.7758,2,    186.6,2,    187.5,2,     0.66,2,     1.94,2,     0.01,2,     0.30,2,    1.979,2,    1.072,2, -999.000,1,-999.0000,1,  -999.00,9,   -999.0,1,-999.000,9,   2040.2,2,   2346.2,2,     8.02,2, 1987.9,-999.0000,-999.000,-999.000, 21.4427,-999.000
   318MWESTW_5,  P21W,   197,  1,     30, SI9440,2,19940531,0852,-17.5000,-171.0000, 5100,    247.0,  19.5366,  35.6770,2,  35.6763,2,    186.0,2,    182.4,2,     1.00,2,     3.54,2,     0.00,2,     0.41,2, -999.000,9, -999.000,9, -999.000,1,-999.0000,1,  -999.00,9,   -999.0,1,-999.000,9,   2062.3,2,   2342.2,2,     7.97,2, 2519.6,-999.0000,-999.000,-999.000, 19.4914,-999.000
   318MWESTW_5,  P21W,   197,  1,     29, SI9429,2,19940531,0852,-17.5000,-171.0000, 5100,    299.5,  17.8129,  35.5231,2,  35.5322,2,    188.1,2,    185.6,2,     1.33,2,     4.46,2,     0.01,2,     0.48,2,    1.933,2,    1.031,2, -999.000,1,-999.0000,1,  -999.00,9,   -999.0,1,-999.000,9,   2070.0,2,   2334.2,2,     7.96,2, 3042.6,-999.0000,-999.000,-999.000, 17.7615,-999.000
   318MWESTW_5,  P21W,   197,  1,     28, SI9428,2,19940531,0852,-17.5000,-171.0000, 5100,    347.8,  15.7739,  35.2980,2,  35.2946,2,    188.1,2,    182.6,2,     2.44,2,     7.46,2,     0.01,2,     0.69,2, -999.000,9, -999.000,9, -999.000,1,-999.0000,1,  -999.00,9,   -999.0,1,-999.000,9,   2087.1,2,   2316.8,2,     7.89,2, 3522.9,-999.0000,-999.000,-999.000, 15.7190,-999.000
   318MWESTW_5,  P21W,   197,  1,     27, SI9424,2,19940531,0852,-17.5000,-171.0000, 5100,    399.0,  13.0425,  34.9670,2,  34.9679,2,    171.0,2,    169.0,2,     5.29,2,    13.47,2,     0.01,2,     1.10,2,    1.172,2,    0.612,2, -999.000,1,-999.0000,1,  -999.00,9,   -999.0,1,-999.000,9,   2117.2,2,   2306.6,2,     7.80,2, 4032.3,-999.0000,-999.000,-999.000, 12.9871,-999.000
   318MWESTW_5,  P21W,   197,  1,     26, SI9414,2,19940531,0852,-17.5000,-171.0000, 5100,    500.6,   8.2448,  34.5027,2,  34.5038,2,    184.3,2,    186.2,2,    10.50,2,    22.72,2,     0.00,2,     1.66,2,    0.583,2,    0.309,2, -999.000,1,-999.0000,1,  -999.00,9,   -999.0,1,-999.000,9,   2151.4,2,   2287.9,2,     7.69,2, 5043.0,-999.0000,-999.000,-999.000,  8.1926,-999.000
   318MWESTW_5,  P21W,   197,  1,     25, SI9425,2,19940531,0852,-17.5000,-171.0000, 5100,    605.0,   6.5120,  34.3921,2,  34.3925,2,    191.3,2,    190.1,2,    16.96,2,    27.01,2,     0.00,2,     1.92,2,    0.260,2,    0.147,2, -999.000,1,-999.0000,1,  -999.00,9,   -999.0,1,-999.000,9,   2167.2,2,   2287.9,2,     7.65,2, 6080.9,-999.0000,-999.000,-999.000,  6.4565,-999.000
   318MWESTW_5,  P21W,   197,  1,     24, SI9434,2,19940531,0852,-17.5000,-171.0000, 5100,    698.8,   5.4561,  34.3865,2,  34.3866,2,    181.9,2,    174.8,2,    29.41,2,    30.75,2,     0.00,2,     2.17,2,    0.057,2,    0.039,2, -999.000,1,-999.0000,1,  -999.00,9,   -999.0,1,-999.000,9,   2194.4,2,   2297.9,2,     7.60,2, 7014.1,-999.0000,-999.000,-999.000,  5.3971,-999.000
   318MWESTW_5,  P21W,   197,  1,     23, SI9423,2,19940531,0852,-17.5000,-171.0000, 5100,    796.5,   4.7144,  34.4116,2,  34.4100,2,    168.6,2,    164.6,2,    42.31,2,    32.90,2,     0.00,2,     2.30,2,    0.019,2,    0.013,2, -999.000,1,-999.0000,1,  -999.00,9,   -999.0,1,-999.000,9,   2222.3,2,   2310.3,2,     7.58,2, 7985.3,-999.0000,-999.000,-999.000,  4.6511,-999.000
   318MWESTW_5,  P21W,   197,  1,     22, SI9418,2,19940531,0852,-17.5000,-171.0000, 5100,    914.9,   3.8630,  34.4753,2,  34.4756,2,    158.1,2,    153.8,2,    63.71,2,    34.60,2,     0.00,2,     2.44,2,    0.003,2,    0.003,2, -999.000,1,-999.0000,1,  -999.00,9,   -999.0,1,-999.000,9,   2246.8,2,   2334.1,2,     7.56,2, 9162.9,-999.0000,-999.000,-999.000,  3.7954,-999.000
   318MWESTW_5,  P21W,   197,  1,     21, SI9421,2,19940531,0852,-17.5000,-171.0000, 5100,   1006.7,   3.4303,  34.5057,2,  34.5058,2,    156.3,2,    152.9,2,    74.09,2,    35.05,2,     0.00,2,     2.46,2,    0.002,2,    0.001,2, -999.000,1,-999.0000,1,  -999.00,9,   -999.0,1,-999.000,9,   2257.4,2,   2343.9,2,     7.55,2,10075.2,-999.0000,-999.000,-999.000,  3.3585,-999.000
   318MWESTW_5,  P21W,   197,  1,     20, SI9420,2,19940531,0852,-17.5000,-171.0000, 5100,   1105.4,   3.1907,  34.5217,2,  34.5223,2,    152.9,2,    153.0,2,    79.28,2,    35.17,2,     0.00,2,     2.47,2,    0.001,2,    0.001,2, -999.000,1,-999.0000,1,  -999.00,9,   -999.0,1,-999.000,9,   2262.0,2,   2350.9,2,     7.55,2,11056.7,-999.0000,-999.000,-999.000,  3.1131,-999.000
   318MWESTW_5,  P21W,   197,  1,     19, SI9419,2,19940531,0852,-17.5000,-171.0000, 5100,   1200.9,   3.0195,  34.5469,2,  34.5470,2,    148.5,2,    149.0,2,    87.14,2,    35.49,2,     0.00,2,     2.50,2, -999.000,9, -999.000,9, -999.000,1,-999.0000,1,  -999.00,9,   -999.0,1,-999.000,9,   2273.3,2,   2358.5,2,     7.55,2,12006.3,-999.0000,-999.000,-999.000,  2.9358,-999.000
   318MWESTW_5,  P21W,   197,  1,     18, SI9439,2,19940531,0852,-17.5000,-171.0000, 5100,   1299.1,   2.8707,  34.5669,2,  34.5677,2,    148.7,2,    146.2,2,    93.43,2,    35.66,2,     0.00,2,     2.52,2, -999.000,9, -999.000,9, -999.000,1,-999.0000,1,  -999.00,9,   -999.0,1,-999.000,9,   2280.1,2,   2366.8,2,     7.55,2,12982.5,-999.0000,-999.000,-999.000,  2.7806,-999.000
   318MWESTW_5,  P21W,   197,  1,     17, SI9417,2,19940531,0852,-17.5000,-171.0000, 5100,   1505.5,   2.6023,  34.5966,2,  34.5967,2,    145.6,2,    144.6,2,   103.49,2,    35.86,2,     0.00,2,     2.54,2, -999.000,9, -999.000,9, -999.000,1,-999.0000,1,  -999.00,9,   -999.0,1,-999.000,9,   2292.6,2,   2379.3,2,     7.54,2,15034.7,-999.0000,-999.000,-999.000,  2.4985,-999.000
   318MWESTW_5,  P21W,   197,  1,     16, SI9416,2,19940531,0852,-17.5000,-171.0000, 5100,   1710.9,   2.4148,  34.6129,2,  34.6136,2,    146.2,2,    145.5,2,   109.13,2,    35.89,2,     0.00,2,     2.53,2, -999.000,9, -999.000,9, -999.000,1,-999.0000,1,  -999.00,9,   -999.0,1,-999.000,9,   2305.1,2,   2383.2,2,     7.55,2,17076.3,-999.0000,-999.000,-999.000,  2.2966,-999.000
   318MWESTW_5,  P21W,   197,  1,     15, SI9415,2,19940531,0852,-17.5000,-171.0000, 5100,   1910.1,   2.2374,  34.6278,2,  34.6288,2,    146.8,2,    146.4,2,   114.63,2,    35.91,2,     0.00,2,     2.53,2, -999.000,9, -999.000,9, -999.000,1,-999.0000,1,  -999.00,9,   -999.0,1,-999.000,9,   2302.0,2,   2389.7,2,     7.55,2,19057.2,-999.0000,-999.000,-999.000,  2.1050,-999.000
   318MWESTW_5,  P21W,   197,  1,     14, SI9436,2,19940531,0852,-17.5000,-171.0000, 5100,   2107.2,   2.1193,  34.6393,2,  34.6398,2,    147.1,2,    146.2,2,   118.40,2,    35.91,2,     0.00,2,     2.54,2, -999.000,9, -999.000,9, -999.000,1,-999.0000,1,  -999.00,9,   -999.0,1,-999.000,9,   2307.1,2,   2394.8,2,     7.55,2,21016.5,-999.0000,-999.000,-999.000,  1.9719,-999.000
   318MWESTW_5,  P21W,   197,  1,     13, SI9413,2,19940531,0852,-17.5000,-171.0000, 5100,   2353.7,   1.9792,  34.6513,2,  34.6508,2,    148.7,2,    148.2,2,   123.58,2,    35.96,2,     0.00,2,     2.54,2,   -0.002,2,   -0.002,2, -999.000,1,-999.0000,1,  -999.00,9,   -999.0,1,-999.000,9,   2309.4,2,   2403.7,2,     7.55,2,23467.6,-999.0000,-999.000,-999.000,  1.8125,-999.000
   318MWESTW_5,  P21W,   197,  1,     12, SI9438,2,19940531,0852,-17.5000,-171.0000, 5100,   2611.2,   1.8652,  34.6614,2,  34.6614,2,    149.9,2,    148.1,2,   128.43,2,    35.92,2,     0.00,2,     2.53,2, -999.000,9, -999.000,9, -999.000,1,-999.0000,1,  -999.00,9,   -999.0,1,-999.000,9,   2318.6,2,   2404.6,2,     7.55,2,26026.9,-999.0000,-999.000,-999.000,  1.6773,-999.000
   318MWESTW_5,  P21W,   197,  1,     11, SI9411,2,19940531,0852,-17.5000,-171.0000, 5100,   2869.6,   1.7791,  34.6678,2,  34.6680,2,    151.0,2,    150.1,2,   131.88,2,    35.97,2,     0.00,2,     2.53,2, -999.000,9, -999.000,9, -999.000,1,-999.0000,1,  -999.00,9,   -999.0,1,-999.000,9,   2316.6,2,   2412.4,2,     7.55,2,28595.7,-999.0000,-999.000,-999.000,  1.5687,-999.000
   318MWESTW_5,  P21W,   197,  1,     10, SI9412,2,19940531,0852,-17.5000,-171.0000, 5100,   3115.3,   1.7093,  34.6734,2,  34.6743,2,    154.2,2,    152.5,2,   132.04,2,    35.76,2,     0.00,2,     2.51,2, -999.000,9, -999.000,9, -999.000,1,-999.0000,1,  -999.00,9,   -999.0,1,-999.000,9,   2318.9,2,   2407.8,2,     7.56,2,31039.3,-999.0000,-999.000,-999.000,  1.4767,-999.000
   318MWESTW_5,  P21W,   197,  1,      9, SI9410,2,19940531,0852,-17.5000,-171.0000, 5100,   3366.3,   1.6158,  34.6811,2,  34.6802,2,    158.8,2,    156.8,2,   132.67,2,    35.40,2,     0.00,2,     2.48,2,    0.000,2,   -0.001,2, -999.000,1,-999.0000,1,  -999.00,9,   -999.0,1,-999.000,9,   2312.9,2,   2406.1,2,     7.56,2,33534.3,-999.0000,-999.000,-999.000,  1.3604,-999.000
   318MWESTW_5,  P21W,   197,  1,      8, SI9422,2,19940531,0852,-17.5000,-171.0000, 5100,   3617.1,   1.4820,  34.6941,2,  34.6940,2,    172.6,2,    171.4,2,   126.70,2,    34.24,2,     0.00,2,     2.40,2,    0.001,2,    0.002,2, -999.000,1,-999.0000,1,  -999.00,9,   -999.0,1,-999.000,9,   2297.1,2,   2396.4,2,     7.57,2,36027.7,-999.0000,-999.000,-999.000,  1.2042,-999.000
   318MWESTW_5,  P21W,   197,  1,      7, SI9407,2,19940531,0852,-17.5000,-171.0000, 5100,   3860.8,   1.3491,  34.7118,2,  34.7131,2,    190.9,2,    192.2,2,   115.24,2,    32.54,2,     0.00,2,     2.28,2,    0.004,2,    0.002,2, -999.000,1,-999.0000,1,  -999.00,9,   -999.0,1,-999.000,9,   2271.5,2,   -999.0,9,     7.59,2,38450.2,-999.0000,-999.000,-999.000,  1.0492,-999.000
   318MWESTW_5,  P21W,   197,  1,      6, SI9427,2,19940531,0852,-17.5000,-171.0000, 5100,   4116.9,   1.2052,  34.7162,2,  34.7168,2,    201.9,2,    202.2,2,   113.83,2,    31.93,2,     0.00,2,     2.23,2,    0.008,2,    0.002,2, -999.000,1,-999.0000,1,  -999.00,9,   -999.0,1,-999.000,9,   2261.7,2,   -999.0,9,     7.59,2,40996.4,-999.0000,-999.000,-999.000,  0.8818,-999.000
   318MWESTW_5,  P21W,   197,  1,      5, SI9405,2,19940531,0852,-17.5000,-171.0000, 5100,   4374.5,   1.0854,  34.7127,2,  34.7138,2,    205.2,2,    205.4,2,   116.97,2,    31.89,2,     0.00,2,     2.24,2, -999.000,9, -999.000,9, -999.000,1,-999.0000,1,  -999.00,9,   -999.0,1,-999.000,9,   2260.1,2,   -999.0,9,     7.59,2,43557.0,-999.0000,-999.000,-999.000,  0.7372,-999.000
   318MWESTW_5,  P21W,   197,  1,      4, SI9404,2,19940531,0852,-17.5000,-171.0000, 5100,   4624.0,   1.0496,  34.7105,2,  34.7111,2,    207.1,2,    206.0,2,   118.37,2,    31.98,2,     0.00,2,     2.23,2,    0.007,2,    0.004,2, -999.000,1,-999.0000,1,  -999.00,9,   -999.0,1,-999.000,9,   2261.0,2,   2366.7,2,     7.59,2,46037.5,-999.0000,-999.000,-999.000,  0.6744,-999.000
   318MWESTW_5,  P21W,   197,  1,      3, SI9403,2,19940531,0852,-17.5000,-171.0000, 5100,   4860.9,   1.0523,  34.7094,2,  34.7117,2,    208.4,2,    207.1,2,   118.84,2,    31.94,2,     0.00,2,     2.24,2,    0.009,2,    0.003,2, -999.000,1,-999.0000,1,  -999.00,9,   -999.0,1,-999.000,9,   2260.6,2,   2368.4,2,     7.59,2,48392.7,-999.0000,-999.000,-999.000,  0.6496,-999.000
   318MWESTW_5,  P21W,   197,  1,      2, SI9437,2,19940531,0852,-17.5000,-171.0000, 5100,   5121.3,   1.0712,  34.7099,2,  34.7105,2,    210.0,2,    207.2,2,   119.47,2,    32.03,2,     0.00,2,     2.24,2,    0.008,2,    0.004,2, -999.000,1,-999.0000,1,  -999.00,9,   -999.0,1,-999.000,9,   2262.0,2,   2369.1,2,     7.59,2,50981.3,-999.0000,-999.000,-999.000,  0.6368,-999.000
   318MWESTW_5,  P21W,   197,  1,      1, SI9401,2,19940531,0852,-17.5000,-171.0000, 5100,   5172.4,   1.0715,  34.7095,2,  34.7095,2,    209.3,2,    207.9,2,   119.57,2,    32.04,2,     0.00,2,     2.24,2, -999.000,9, -999.000,9, -999.000,1,-999.0000,1,  -999.00,9,   -999.0,1,-999.000,9,   2262.2,2,   2366.6,2,     7.59,2,51489.8,-999.0000,-999.000,-999.000,  0.6309,-999.000