BOTTLE,20010911WHPSIOdm
EXPOCODE,SECT_ID,STNNBR,CASTNO,SAMPNO,BTLNBR,BTLNBR_FLAG_W,DATE,TIME,LATITUDE,LONGITUDE,DEPTH,CTDPRS,CTDTMP,CTDSAL,CTDSAL_FLAG_W,SALNTY,SALNTY_FLAG_W,CTDOXY,CTDOXY_FLAG_W,OXYGEN,OXYGEN_FLAG_W,SILCAT,SILCAT_FLAG_W,NITRAT,NITRAT_FLAG_W,NITRIT,NITRIT_FLAG_W,PHSPHT,PHSPHT_FLAG_W,CFC-11,CFC-11_FLAG_W,CFC-12,CFC-12_FLAG_W,TRITUM,TRITUM_FLAG_W,HELIUM,HELIUM_FLAG_W,DELHE3,DELHE3_FLAG_W,DELC14,DELC14_FLAG_W,NEON,NEON_FLAG_W,TCARBN,TCARBN_FLAG_W,ALKALI,ALKALI_FLAG_W,PH,PH_FLAG_W,CTDRAW,HELIER,DELHER,NEONER,THETA,TRITER
,,,,,,,,,,,,DBAR,ITS-90,PSS-78,,PSS-78,,UMOL/KG,,UMOL/KG,,UMOL/KG,,UMOL/KG,,UMOL/KG,,UMOL/KG,,PMOL/KG,,PMOL/KG,,TU,,UMOL/KG,,PERCNT,,/MILLE,,NMOL/KG,,UMOL/KG,,UMOL/KG,,,,,NMOL/KG,PERCNT,NMOL/KG,ITS-90,TU
   318MWESTW_5,  P21W,   186,  1,     36, SI9442,2,19940527,2228,-17.5000,-163.6667, 5240,      6.7,  28.2949,  35.1436,2,  35.1441,2,    207.6,2,    209.5,2,     0.78,2,     0.04,2,     0.00,2,     0.20,2,    1.609,2,    0.914,2, -999.000,1,-999.0000,1,  -999.00,9,   -999.0,1,-999.000,9,   -999.0,9,   -999.0,9,  -999.00,9,  126.7,-999.0000,-999.000,-999.000, 28.2933,-999.000
   318MWESTW_5,  P21W,   186,  1,     35, SI9435,2,19940527,2228,-17.5000,-163.6667, 5240,     23.6,  28.2959,  35.1436,2,  35.1492,2,    208.8,2,    204.3,2,     0.78,2,     0.01,2,     0.00,2,     0.20,2,    1.622,2,    0.917,2, -999.000,1,-999.0000,1,  -999.00,9,   -999.0,1,-999.000,9,   -999.0,9,   -999.0,9,  -999.00,9,  295.9,-999.0000,-999.000,-999.000, 28.2903,-999.000
   318MWESTW_5,  P21W,   186,  1,     34, SI9441,2,19940527,2228,-17.5000,-163.6667, 5240,     49.5,  28.0215,  35.8360,2,  35.8433,4,    215.9,2,    224.8,2,     0.79,2,     0.01,2,     0.00,2,     0.20,2,    1.765,2,    0.989,2, -999.000,1,-999.0000,1,  -999.00,9,   -999.0,1,-999.000,9,   -999.0,9,   -999.0,9,  -999.00,9,  554.0,-999.0000,-999.000,-999.000, 28.0098,-999.000
   318MWESTW_5,  P21W,   186,  1,     33, SI9433,2,19940527,2228,-17.5000,-163.6667, 5240,     98.8,  25.0666,  35.8350,2,  35.8343,2,    214.0,2,    216.6,2,     0.63,2,     0.02,2,     0.00,2,     0.21,2,    1.872,2,    1.010,2, -999.000,1,-999.0000,1,  -999.00,9,   -999.0,1,-999.000,9,   -999.0,9,   -999.0,9,  -999.00,9, 1044.6,-999.0000,-999.000,-999.000, 25.0451,-999.000
   318MWESTW_5,  P21W,   186,  1,     32, SI9432,2,19940527,2228,-17.5000,-163.6667, 5240,    149.6,  23.1270,  35.9859,2,  35.9730,2,    184.6,2,    181.7,2,     0.78,2,     1.25,2,     0.18,2,     0.36,2,    1.912,2,    1.040,2, -999.000,1,-999.0000,1,  -999.00,9,   -999.0,1,-999.000,9,   -999.0,9,   -999.0,9,  -999.00,9, 1550.9,-999.0000,-999.000,-999.000, 23.0962,-999.000
   318MWESTW_5,  P21W,   186,  1,     31, SI9431,2,19940527,2228,-17.5000,-163.6667, 5240,    199.7,  20.8738,  35.7767,2,  35.7793,2,    181.2,2,    178.3,2,     0.87,2,     2.82,2,     0.01,2,     0.41,2,    1.939,2,    1.054,2, -999.000,1,-999.0000,1,  -999.00,9,   -999.0,1,-999.000,9,   -999.0,9,   -999.0,9,  -999.00,9, 2050.0,-999.0000,-999.000,-999.000, 20.8356,-999.000
   318MWESTW_5,  P21W,   186,  1,     30, SI9440,2,19940527,2228,-17.5000,-163.6667, 5240,    259.7,  18.6776,  35.5718,2,  35.5665,2,    183.7,2,    179.6,2,     1.35,2,     4.42,2,     0.00,2,     0.51,2,    1.862,2,    0.998,2, -999.000,1,-999.0000,1,  -999.00,9,   -999.0,1,-999.000,9,   -999.0,9,   -999.0,9,  -999.00,9, 2647.3,-999.0000,-999.000,-999.000, 18.6316,-999.000
   318MWESTW_5,  P21W,   186,  1,     29, SI9429,2,19940527,2228,-17.5000,-163.6667, 5240,    342.0,  14.5239,  35.0984,2,  35.0951,2,    176.4,2,    163.2,2,     4.81,2,    11.70,2,     0.00,2,     1.05,2,    1.286,2,    0.670,2, -999.000,1,-999.0000,1,  -999.00,9,   -999.0,1,-999.000,9,   -999.0,9,   -999.0,9,  -999.00,9, 3465.8,-999.0000,-999.000,-999.000, 14.4730,-999.000
   318MWESTW_5,  P21W,   186,  1,     28, SI9428,2,19940527,2228,-17.5000,-163.6667, 5240,    393.9,  12.1283,  34.8440,2,  34.8405,2,    165.7,2,    158.1,2,     7.68,2,    16.57,2,     0.00,2,     1.37,2,    0.928,2,    0.487,2, -999.000,1,-999.0000,1,  -999.00,9,   -999.0,1,-999.000,9,   -999.0,9,   -999.0,9,  -999.00,9, 3981.8,-999.0000,-999.000,-999.000, 12.0762,-999.000
   318MWESTW_5,  P21W,   186,  1,     27, SI9424,2,19940527,2228,-17.5000,-163.6667, 5240,    493.6,   8.3708,  34.5135,2,  34.5058,2,    163.1,2,    161.8,2,    14.88,2,    25.08,2,     0.00,2,     1.88,2,    0.401,2,    0.216,2, -999.000,1,-999.0000,1,  -999.00,9,   -999.0,1,-999.000,9,   -999.0,9,   -999.0,9,  -999.00,9, 4973.6,-999.0000,-999.000,-999.000,  8.3189,-999.000
   318MWESTW_5,  P21W,   186,  1,     26, SI9414,2,19940527,2228,-17.5000,-163.6667, 5240,    597.5,   6.4264,  34.3984,2,  34.3988,2,    176.5,2,    181.5,2,    19.99,2,    28.19,2,     0.00,2,     2.03,2, -999.000,9, -999.000,9, -999.000,1,-999.0000,1,  -999.00,9,   -999.0,1,-999.000,9,   -999.0,9,   -999.0,9,  -999.00,9, 6007.0,-999.0000,-999.000,-999.000,  6.3720,-999.000
   318MWESTW_5,  P21W,   186,  1,     25, SI9425,2,19940527,2228,-17.5000,-163.6667, 5240,    699.0,   5.5478,  34.4052,2,  34.4045,2,    168.9,2,    166.0,2,    31.80,2,    31.26,2,     0.00,2,     2.24,2,    0.043,2,    0.026,2, -999.000,1,-999.0000,1,  -999.00,9,   -999.0,1,-999.000,9,   -999.0,9,   -999.0,9,  -999.00,9, 7016.4,-999.0000,-999.000,-999.000,  5.4883,-999.000
   318MWESTW_5,  P21W,   186,  1,     24, SI9434,2,19940527,2228,-17.5000,-163.6667, 5240,    790.7,   4.8378,  34.4319,2,  34.4300,2,    161.8,2,    159.4,2,    44.73,2,    33.21,2,     0.00,2,     2.38,3,    0.009,2,    0.003,2, -999.000,1,-999.0000,1,  -999.00,9,   -999.0,1,-999.000,9,   -999.0,9,   -999.0,9,  -999.00,9, 7927.3,-999.0000,-999.000,-999.000,  4.7742,-999.000
   318MWESTW_5,  P21W,   186,  1,     23, SI9423,2,19940527,2228,-17.5000,-163.6667, 5240,    892.3,   4.2719,  34.4591,2,  34.4583,2,    156.6,2,    156.3,2,    56.39,2,    34.35,2,     0.00,2,     2.45,3,    0.006,2,    0.003,2, -999.000,1,-999.0000,1,  -999.00,9,   -999.0,1,-999.000,9,   -999.0,9,   -999.0,9,  -999.00,9, 8937.6,-999.0000,-999.000,-999.000,  4.2033,-999.000
   318MWESTW_5,  P21W,   186,  1,     22, SI9418,2,19940527,2228,-17.5000,-163.6667, 5240,   1099.4,   3.4688,  34.5189,2,  34.5180,2,    150.2,2,    149.0,2,    77.14,2,    35.49,2,     0.00,2,     2.54,3,   -0.003,2,   -0.002,2, -999.000,1,-999.0000,1,  -999.00,9,   -999.0,1,-999.000,9,   -999.0,9,   -999.0,9,  -999.00,9,10996.6,-999.0000,-999.000,-999.000,  3.3893,-999.000
   318MWESTW_5,  P21W,   186,  1,     21, SI9421,2,19940527,2228,-17.5000,-163.6667, 5240,   1292.8,   3.0589,  34.5547,2,  34.5537,2,    146.9,2,    146.3,2,    89.10,2,    35.81,2,     0.00,2,     2.52,2,   -0.001,2,   -0.002,2, -999.000,1,-999.0000,1,  -999.00,9,   -999.0,1,-999.000,9,   -999.0,9,   -999.0,9,  -999.00,9,12920.3,-999.0000,-999.000,-999.000,  2.9675,-999.000
   318MWESTW_5,  P21W,   186,  1,     20, SI9420,2,19940527,2228,-17.5000,-163.6667, 5240,   1500.7,   2.7543,  34.5827,2,  34.5812,2,    146.1,2,    145.9,2,    98.51,2,    35.86,2,     0.00,2,     2.53,2, -999.000,9, -999.000,9, -999.000,1,-999.0000,1,  -999.00,9,   -999.0,1,-999.000,9,   -999.0,9,   -999.0,9,  -999.00,9,14986.4,-999.0000,-999.000,-999.000,  2.6492,-999.000
   318MWESTW_5,  P21W,   186,  1,     19, SI9419,2,19940527,2228,-17.5000,-163.6667, 5240,   1704.5,   2.4925,  34.6054,2,  34.6052,2,    147.3,2,    146.2,2,   106.81,2,    36.04,2,     0.00,2,     2.53,2, -999.000,9, -999.000,9, -999.000,1,-999.0000,1,  -999.00,9,   -999.0,1,-999.000,9,   -999.0,9,   -999.0,9,  -999.00,9,17013.0,-999.0000,-999.000,-999.000,  2.3738,-999.000
   318MWESTW_5,  P21W,   186,  1,     18, SI9439,2,19940527,2228,-17.5000,-163.6667, 5240,   1902.0,   2.2852,  34.6245,2,  34.6238,2,    147.6,2,    147.3,2,   113.12,2,    36.01,2,     0.00,2,     2.54,2, -999.000,9, -999.000,9, -999.000,1,-999.0000,1,  -999.00,9,   -999.0,1,-999.000,9,   -999.0,9,   -999.0,9,  -999.00,9,18976.1,-999.0000,-999.000,-999.000,  2.1528,-999.000
   318MWESTW_5,  P21W,   186,  1,     17, SI9417,2,19940527,2228,-17.5000,-163.6667, 5240,   2095.8,   2.1283,  34.6380,2,  34.6364,2,    148.8,2,    148.5,2,   118.13,2,    36.03,2,     0.00,2,     2.53,2, -999.000,9, -999.000,9, -999.000,1,-999.0000,1,  -999.00,9,   -999.0,1,-999.000,9,   -999.0,9,   -999.0,9,  -999.00,9,20903.3,-999.0000,-999.000,-999.000,  1.9817,-999.000
   318MWESTW_5,  P21W,   186,  1,     16, SI9416,2,19940527,2228,-17.5000,-163.6667, 5240,   2302.5,   1.9968,  34.6486,2,  34.6492,2,    152.4,2,    152.3,2,   120.68,2,    35.87,2,     0.00,2,     2.51,2,    0.001,2,   -0.001,2, -999.000,1,-999.0000,1,  -999.00,9,   -999.0,1,-999.000,9,   -999.0,9,   -999.0,9,  -999.00,9,22957.9,-999.0000,-999.000,-999.000,  1.8343,-999.000
   318MWESTW_5,  P21W,   186,  1,     15, SI9415,2,19940527,2228,-17.5000,-163.6667, 5240,   2507.3,   1.8921,  34.6581,2,  34.6584,2,    153.1,2,    153.0,2,   124.19,2,    35.80,2,     0.00,2,     2.51,2, -999.000,9, -999.000,9, -999.000,1,-999.0000,1,  -999.00,9,   -999.0,1,-999.000,9,   -999.0,9,   -999.0,9,  -999.00,9,24994.5,-999.0000,-999.000,-999.000,  1.7131,-999.000
   318MWESTW_5,  P21W,   186,  1,     14, SI9436,2,19940527,2228,-17.5000,-163.6667, 5240,   2704.9,   1.8078,  34.6647,2,  34.6651,2,    155.5,2,    154.7,2,   126.90,2,    35.61,2,     0.00,2,     2.50,2, -999.000,9, -999.000,9, -999.000,1,-999.0000,1,  -999.00,9,   -999.0,1,-999.000,9,   -999.0,9,   -999.0,9,  -999.00,9,26958.4,-999.0000,-999.000,-999.000,  1.6123,-999.000
   318MWESTW_5,  P21W,   186,  1,     13, SI9413,2,19940527,2228,-17.5000,-163.6667, 5240,   2902.6,   1.7423,  34.6716,2,  34.6702,2,    157.8,2,    157.5,2,   127.69,2,    35.46,2,     0.00,2,     2.49,2, -999.000,9, -999.000,9, -999.000,1,-999.0000,1,  -999.00,9,   -999.0,1,-999.000,9,   -999.0,9,   -999.0,9,  -999.00,9,28924.1,-999.0000,-999.000,-999.000,  1.5295,-999.000
   318MWESTW_5,  P21W,   186,  1,     12, SI9438,2,19940527,2228,-17.5000,-163.6667, 5240,   3109.0,   1.6701,  34.6763,2,  34.6767,2,    161.7,2,    161.8,2,   128.33,2,    35.22,2,     0.00,2,     2.46,2,    0.001,2,    0.000,2, -999.000,1,-999.0000,1,  -999.00,9,   -999.0,1,-999.000,9,   -999.0,9,   -999.0,9,  -999.00,9,30976.5,-999.0000,-999.000,-999.000,  1.4390,-999.000
   318MWESTW_5,  P21W,   186,  1,     11, SI9411,2,19940527,2228,-17.5000,-163.6667, 5240,   3306.5,   1.6217,  34.6804,2,  34.6798,2,    164.8,2,    165.4,2,   128.17,2,    35.07,2,     0.00,2,     2.44,2, -999.000,9, -999.000,9, -999.000,1,-999.0000,1,  -999.00,9,   -999.0,1,-999.000,9,   -999.0,9,   -999.0,9,  -999.00,9,32939.6,-999.0000,-999.000,-999.000,  1.3722,-999.000
   318MWESTW_5,  P21W,   186,  1,     10, SI9412,2,19940527,2228,-17.5000,-163.6667, 5240,   3502.0,   1.5678,  34.6848,2,  34.6846,2,    168.1,2,    168.2,2,   128.01,2,    34.83,2,     0.00,2,     2.43,2, -999.000,9, -999.000,9, -999.000,1,-999.0000,1,  -999.00,9,   -999.0,1,-999.000,9,   -999.0,9,   -999.0,9,  -999.00,9,34883.6,-999.0000,-999.000,-999.000,  1.2997,-999.000
   318MWESTW_5,  P21W,   186,  1,      9, SI9410,2,19940527,2228,-17.5000,-163.6667, 5240,   3697.4,   1.5115,  34.6898,2,  34.6895,2,    172.6,2,    172.2,2,   127.21,2,    34.59,2,     0.00,2,     2.41,2, -999.000,9, -999.000,9, -999.000,1,-999.0000,1,  -999.00,9,   -999.0,1,-999.000,9,   -999.0,9,   -999.0,9,  -999.00,9,36825.4,-999.0000,-999.000,-999.000,  1.2246,-999.000
   318MWESTW_5,  P21W,   186,  1,      8, SI9422,2,19940527,2228,-17.5000,-163.6667, 5240,   3893.7,   1.4447,  34.6972,2,  34.6963,2,    179.2,2,    179.6,2,   124.66,2,    33.97,2,     0.00,2,     2.38,2,   -0.002,2,   -0.002,2, -999.000,1,-999.0000,1,  -999.00,9,   -999.0,1,-999.000,9,   -999.0,9,   -999.0,9,  -999.00,9,38777.4,-999.0000,-999.000,-999.000,  1.1387,-999.000
   318MWESTW_5,  P21W,   186,  1,      7, SI9407,2,19940527,2228,-17.5000,-163.6667, 5240,   4094.3,   1.3491,  34.7036,2,  34.7034,2,    187.4,2,    189.0,2,   121.63,2,    33.23,2,     0.00,2,     2.33,2, -999.000,9, -999.000,9, -999.000,1,-999.0000,1,  -999.00,9,   -999.0,1,-999.000,9,   -999.0,9,   -999.0,9,  -999.00,9,40772.2,-999.0000,-999.000,-999.000,  1.0241,-999.000
   318MWESTW_5,  P21W,   186,  1,      6, SI9427,2,19940527,2228,-17.5000,-163.6667, 5240,   4292.5,   1.2560,  34.7065,2,  34.7054,2,    195.0,2,    195.3,2,   120.35,2,    32.83,2,     0.00,2,     2.29,2, -999.000,9, -999.000,9, -999.000,1,-999.0000,1,  -999.00,9,   -999.0,1,-999.000,9,   -999.0,9,   -999.0,9,  -999.00,9,42742.5,-999.0000,-999.000,-999.000,  0.9119,-999.000
   318MWESTW_5,  P21W,   186,  1,      5, SI9405,2,19940527,2228,-17.5000,-163.6667, 5240,   4490.6,   1.1838,  34.7097,2,  34.7087,2,    200.3,2,    201.1,2,   119.39,2,    32.55,2,     0.00,2,     2.27,2,    0.000,2,    0.000,2, -999.000,1,-999.0000,1,  -999.00,9,   -999.0,1,-999.000,9,   -999.0,9,   -999.0,9,  -999.00,9,44711.6,-999.0000,-999.000,-999.000,  0.8196,-999.000
   318MWESTW_5,  P21W,   186,  1,      4, SI9404,2,19940527,2228,-17.5000,-163.6667, 5240,   4689.0,   1.1414,  34.7103,2,  34.7097,2,    204.2,2,    204.0,2,   119.22,2,    32.35,2,     0.00,2,     2.26,2,    0.002,2,    0.001,2, -999.000,1,-999.0000,1,  -999.00,9,   -999.0,1,-999.000,9,   -999.0,9,   -999.0,9,  -999.00,9,46683.5,-999.0000,-999.000,-999.000,  0.7558,-999.000
   318MWESTW_5,  P21W,   186,  1,      3, SI9403,2,19940527,2228,-17.5000,-163.6667, 5240,   4891.8,   1.1227,  34.7105,2,  34.7101,2,    206.2,2,    206.3,2,   119.39,2,    32.36,2,     0.00,2,     2.25,2,    0.004,2,    0.000,2, -999.000,1,-999.0000,1,  -999.00,9,   -999.0,1,-999.000,9,   -999.0,9,   -999.0,9,  -999.00,9,48699.8,-999.0000,-999.000,-999.000,  0.7140,-999.000
   318MWESTW_5,  P21W,   186,  1,      2, SI9437,2,19940527,2228,-17.5000,-163.6667, 5240,   5095.6,   1.1154,  34.7103,2,  34.7095,2,    208.2,2,    206.2,2,   119.70,2,    32.29,2,     0.00,2,     2.25,2,    0.004,2,    0.000,2, -999.000,1,-999.0000,1,  -999.00,9,   -999.0,1,-999.000,9,   -999.0,9,   -999.0,9,  -999.00,9,50725.7,-999.0000,-999.000,-999.000,  0.6826,-999.000
   318MWESTW_5,  P21W,   186,  1,      1, SI9401,2,19940527,2228,-17.5000,-163.6667, 5240,   5357.5,   1.1247,  34.7106,2,  34.7087,2,    208.5,2,    207.9,2,   119.97,2,    32.15,2,     0.00,2,     2.24,2,    0.000,6,    0.002,6, -999.000,1,-999.0000,1,  -999.00,9,   -999.0,1,-999.000,9,   -999.0,9,   -999.0,9,  -999.00,9,53329.5,-999.0000,-999.000,-999.000,  0.6595,-999.000