BOTTLE,20010911WHPSIOdm
EXPOCODE,SECT_ID,STNNBR,CASTNO,SAMPNO,BTLNBR,BTLNBR_FLAG_W,DATE,TIME,LATITUDE,LONGITUDE,DEPTH,CTDPRS,CTDTMP,CTDSAL,CTDSAL_FLAG_W,SALNTY,SALNTY_FLAG_W,CTDOXY,CTDOXY_FLAG_W,OXYGEN,OXYGEN_FLAG_W,SILCAT,SILCAT_FLAG_W,NITRAT,NITRAT_FLAG_W,NITRIT,NITRIT_FLAG_W,PHSPHT,PHSPHT_FLAG_W,CFC-11,CFC-11_FLAG_W,CFC-12,CFC-12_FLAG_W,TRITUM,TRITUM_FLAG_W,HELIUM,HELIUM_FLAG_W,DELHE3,DELHE3_FLAG_W,DELC14,DELC14_FLAG_W,NEON,NEON_FLAG_W,TCARBN,TCARBN_FLAG_W,ALKALI,ALKALI_FLAG_W,PH,PH_FLAG_W,CTDRAW,HELIER,DELHER,NEONER,THETA,TRITER
,,,,,,,,,,,,DBAR,ITS-90,PSS-78,,PSS-78,,UMOL/KG,,UMOL/KG,,UMOL/KG,,UMOL/KG,,UMOL/KG,,UMOL/KG,,PMOL/KG,,PMOL/KG,,TU,,UMOL/KG,,PERCNT,,/MILLE,,NMOL/KG,,UMOL/KG,,UMOL/KG,,,,,NMOL/KG,PERCNT,NMOL/KG,ITS-90,TU
   318MWESTW_5,  P21W,   173,  1,     35, SI9435,2,19940523,2242,-17.5028,-155.0000, 4366,      2.5,  28.3396,  35.5927,2,  35.4667,3,    203.5,2,    204.7,2,     0.77,2,     0.00,2,     0.00,2,     0.17,2,    1.501,2,    0.896,2, -999.000,1,-999.0000,1,  -999.00,9,   -999.0,1,-999.000,9,   1955.5,2,   2334.2,2,     8.13,2,   78.6,-999.0000,-999.000,-999.000, 28.3390,-999.000
   318MWESTW_5,  P21W,   173,  1,     34, SI9441,2,19940523,2242,-17.5028,-155.0000, 4366,     21.2,  28.3087,  35.7441,2,  35.4857,3,    207.0,2,    154.8,4,    10.35,4,    20.23,4,     0.00,4,     1.55,4,    0.749,4,    0.381,4, -999.000,1,-999.0000,1,  -999.00,9,   -999.0,1,-999.000,9,   2148.9,4,   -999.0,9,     7.71,4,  264.8,-999.0000,-999.000,-999.000, 28.3037,-999.000
   318MWESTW_5,  P21W,   173,  1,     33, SI9433,2,19940523,2242,-17.5028,-155.0000, 4366,     46.4,  27.4124,  35.5872,2,  34.6993,4,    203.7,2,    211.9,2,     0.65,2,     0.00,2,     0.00,2,     0.18,2,    1.863,2,    1.050,2, -999.000,1,-999.0000,1,  -999.00,9,   -999.0,1,-999.000,9,   2009.4,2,   2365.6,2,     8.09,2,  516.1,-999.0000,-999.000,-999.000, 27.4016,-999.000
   318MWESTW_5,  P21W,   173,  1,     32, SI9432,2,19940523,2242,-17.5028,-155.0000, 4366,    149.1,  22.9918,  35.9207,2,  35.9208,2,    188.2,2,    190.0,2,     0.68,2,     0.43,2,     0.13,2,     0.25,2,    1.927,2,    1.076,2, -999.000,1,-999.0000,1,  -999.00,9,   -999.0,1,-999.000,9,   2037.6,2,   2361.8,2,     8.04,2, 1545.0,-999.0000,-999.000,-999.000, 22.9612,-999.000
   318MWESTW_5,  P21W,   173,  1,     31, SI9431,2,19940523,2242,-17.5028,-155.0000, 4366,    199.7,  21.0383,  35.8366,2,  35.8277,2,    177.9,2,    183.5,2,     0.86,2,     2.75,2,     0.02,2,     0.40,2,    1.967,2,    1.052,2, -999.000,1,-999.0000,1,  -999.00,9,   -999.0,1,-999.000,9,   2061.1,2,   2356.5,2,     7.99,2, 2048.3,-999.0000,-999.000,-999.000, 20.9999,-999.000
   318MWESTW_5,  P21W,   173,  1,     30, SI9440,2,19940523,2242,-17.5028,-155.0000, 4366,    250.2,  18.8945,  35.5967,2,  35.5697,3,    179.5,2,    181.0,2,     1.48,2,     4.52,2,     0.01,2,     0.50,2,    1.859,2,    1.021,2, -999.000,1,-999.0000,1,  -999.00,9,   -999.0,1,-999.000,9,   2072.5,2,   2335.9,2,     7.95,2, 2551.6,-999.0000,-999.000,-999.000, 18.8498,-999.000
   318MWESTW_5,  P21W,   173,  1,     29, SI9429,2,19940523,2242,-17.5028,-155.0000, 4366,    331.0,  15.3654,  35.1860,2,  35.1760,2,    173.5,2,    171.5,2,     3.74,2,     9.76,2,     0.01,2,     0.87,2,    1.474,6,    0.767,6, -999.000,1,-999.0000,1,  -999.00,9,   -999.0,1,-999.000,9,   -999.0,9,   -999.0,9,  -999.00,9, 3355.3,-999.0000,-999.000,-999.000, 15.3142,-999.000
   318MWESTW_5,  P21W,   173,  1,     28, SI9428,2,19940523,2242,-17.5028,-155.0000, 4366,    391.8,  12.4944,  34.8677,2,  34.8698,2,    167.3,2,    160.6,2,     7.33,2,    15.72,2,     0.00,2,     1.27,2,    1.026,2,    0.530,2, -999.000,1,-999.0000,1,  -999.00,9,   -999.0,1,-999.000,9,   2130.1,2,   2299.2,2,     7.77,2, 3960.4,-999.0000,-999.000,-999.000, 12.4416,-999.000
   318MWESTW_5,  P21W,   173,  1,     27, SI9424,2,19940523,2242,-17.5028,-155.0000, 4366,    494.0,   8.6042,  34.5247,2,  34.5162,2,    160.2,2,    159.0,2,    14.63,2,    24.88,2,     0.00,2,     1.81,2,    0.455,2,    0.234,2, -999.000,1,-999.0000,1,  -999.00,9,   -999.0,1,-999.000,9,   2168.7,2,   2289.6,2,     7.65,2, 4976.3,-999.0000,-999.000,-999.000,  8.5514,-999.000
   318MWESTW_5,  P21W,   173,  1,     26, SI9414,2,19940523,2242,-17.5028,-155.0000, 4366,    595.5,   6.3733,  34.4112,2,  34.4112,2,    170.7,2,    168.9,2,    24.17,2,    29.48,2,     0.00,2,     2.07,2,    0.170,2,    0.099,2, -999.000,1,-999.0000,1,  -999.00,9,   -999.0,1,-999.000,9,   2187.8,2,   2293.2,2,     7.61,2, 5985.6,-999.0000,-999.000,-999.000,  6.3192,-999.000
   318MWESTW_5,  P21W,   173,  1,     25, SI9425,2,19940523,2242,-17.5028,-155.0000, 4366,    698.2,   5.4985,  34.4182,2,  34.4169,2,    167.7,2,    161.7,2,    35.03,2,    31.87,2,     0.00,2,     2.21,2,    0.055,2,    0.032,2, -999.000,1,-999.0000,1,  -999.00,9,   -999.0,1,-999.000,9,   2204.8,2,   2305.3,2,     7.58,2, 7007.0,-999.0000,-999.000,-999.000,  5.4393,-999.000
   318MWESTW_5,  P21W,   173,  1,     24, SI9434,2,19940523,2242,-17.5028,-155.0000, 4366,    799.3,   4.9146,  34.4438,2,  34.4483,2,    160.1,2,    153.3,2,    47.68,2,    33.50,2,     0.00,2,     2.33,2,    0.013,2,    0.008,2, -999.000,1,-999.0000,1,  -999.00,9,   -999.0,1,-999.000,9,   2224.6,2,   2316.7,2,     7.57,2, 8012.4,-999.0000,-999.000,-999.000,  4.8498,-999.000
   318MWESTW_5,  P21W,   173,  1,     23, SI9423,2,19940523,2242,-17.5028,-155.0000, 4366,    902.7,   4.3195,  34.4748,2,  34.4760,2,    155.4,2,    150.2,2,    59.13,2,    34.45,2,     0.00,2,     2.39,2,    0.005,2,    0.004,2, -999.000,1,-999.0000,1,  -999.00,9,   -999.0,1,-999.000,9,   2237.6,2,   2339.5,2,     7.56,2, 9040.6,-999.0000,-999.000,-999.000,  4.2496,-999.000
   318MWESTW_5,  P21W,   173,  1,     22, SI9418,2,19940523,2242,-17.5028,-155.0000, 4366,    994.3,   3.9639,  34.4941,2,  34.4940,2,    151.1,2,    148.6,2,    67.03,2,    34.98,2,     0.01,2,     2.42,2,    0.000,2,    0.002,2, -999.000,1,-999.0000,1,  -999.00,9,   -999.0,1,-999.000,9,   2249.1,2,   2342.0,2,     7.55,2, 9950.8,-999.0000,-999.000,-999.000,  3.8891,-999.000
   318MWESTW_5,  P21W,   173,  1,     21, SI9421,2,19940523,2242,-17.5028,-155.0000, 4366,   1098.3,   3.5195,  34.5178,2,  34.5182,2,    149.9,2,    149.3,2,    76.56,2,    35.44,2,     0.01,2,     2.46,2, -999.000,9, -999.000,9, -999.000,1,-999.0000,1,  -999.00,9,   -999.0,1,-999.000,9,   2259.4,2,   2348.6,2,     7.55,2,10985.4,-999.0000,-999.000,-999.000,  3.4396,-999.000
   318MWESTW_5,  P21W,   173,  1,     20, SI9420,2,19940523,2242,-17.5028,-155.0000, 4366,   1200.8,   3.3206,  34.5326,2,  34.5321,2,    148.4,2,    146.5,2,    81.93,2,    35.57,2,     0.01,2,     2.47,2,    0.001,2,    0.001,2, -999.000,1,-999.0000,1,  -999.00,9,   -999.0,1,-999.000,9,   2265.7,2,   2355.3,2,     7.55,2,12004.5,-999.0000,-999.000,-999.000,  3.2342,-999.000
   318MWESTW_5,  P21W,   173,  1,     19, SI9419,2,19940523,2242,-17.5028,-155.0000, 4366,   1300.2,   3.0684,  34.5543,2,  34.5539,2,    147.2,2,    146.0,2,    88.93,2,    35.72,2,     0.00,2,     2.49,2, -999.000,9, -999.000,9, -999.000,1,-999.0000,1,  -999.00,9,   -999.0,1,-999.000,9,   2274.6,2,   2361.1,2,     7.54,2,12992.7,-999.0000,-999.000,-999.000,  2.9763,-999.000
   318MWESTW_5,  P21W,   173,  1,     18, SI9439,2,19940523,2242,-17.5028,-155.0000, 4366,   1395.0,   2.8797,  34.5689,2,  34.5690,2,    147.1,2,    146.0,2,    94.46,2,    35.77,2,     0.00,2,     2.48,2, -999.000,9, -999.000,9, -999.000,1,-999.0000,1,  -999.00,9,   -999.0,1,-999.000,9,   2278.7,2,   2373.1,2,     7.54,2,13934.7,-999.0000,-999.000,-999.000,  2.7819,-999.000
   318MWESTW_5,  P21W,   173,  1,     17, SI9417,2,19940523,2242,-17.5028,-155.0000, 4366,   1498.1,   2.7379,  34.5819,2,  34.5828,2,    146.6,2,    146.8,2,    98.64,2,    35.85,2,     0.00,2,     2.49,2, -999.000,9, -999.000,9, -999.000,1,-999.0000,1,  -999.00,9,   -999.0,1,-999.000,9,   2284.1,2,   2375.2,2,     7.55,2,14960.1,-999.0000,-999.000,-999.000,  2.6333,-999.000
   318MWESTW_5,  P21W,   173,  1,     16, SI9416,2,19940523,2242,-17.5028,-155.0000, 4366,   1590.5,   2.6194,  34.5931,2,  34.5954,2,    147.3,2,    146.3,2,   102.38,2,    35.90,2,     0.00,2,     2.49,2,    0.000,2,    0.000,2, -999.000,1,-999.0000,1,  -999.00,9,   -999.0,1,-999.000,9,   2288.1,2,   2379.2,2,     7.55,2,15879.0,-999.0000,-999.000,-999.000,  2.5085,-999.000
   318MWESTW_5,  P21W,   173,  1,     15, SI9415,3,19940523,2242,-17.5028,-155.0000, 4366,   1797.4,   2.3923,  34.6134,2,  34.7191,3,    148.2,2,    152.3,4,    85.94,4,    30.90,4,     0.01,4,     2.15,4, -999.000,9, -999.000,9, -999.000,1,-999.0000,1,  -999.00,9,   -999.0,1,-999.000,9,   -999.0,9,   -999.0,9,  -999.00,9,17935.8,-999.0000,-999.000,-999.000,  2.2672,-999.000
   318MWESTW_5,  P21W,   173,  1,     14, SI9436,2,19940523,2242,-17.5028,-155.0000, 4366,   2002.8,   2.1799,  34.6312,2,  34.6317,2,    150.2,2,    151.3,2,   114.76,2,    35.77,2,     0.01,2,     2.49,2, -999.000,9, -999.000,9, -999.000,1,-999.0000,1,  -999.00,9,   -999.0,1,-999.000,9,   2297.5,2,   2400.0,2,     7.55,2,19978.1,-999.0000,-999.000,-999.000,  2.0405,-999.000
   318MWESTW_5,  P21W,   173,  1,     13, SI9413,2,19940523,2242,-17.5028,-155.0000, 4366,   2198.9,   2.0287,  34.6432,2,  34.6441,2,    154.1,2,    154.9,2,   118.36,2,    35.63,2,     0.01,2,     2.46,2, -999.000,9, -999.000,9, -999.000,1,-999.0000,1,  -999.00,9,   -999.0,1,-999.000,9,   -999.0,9,   -999.0,9,  -999.00,9,21926.9,-999.0000,-999.000,-999.000,  1.8748,-999.000
   318MWESTW_5,  P21W,   173,  1,     12, SI9438,2,19940523,2242,-17.5028,-155.0000, 4366,   2393.6,   1.9084,  34.6541,2,  34.6545,2,    156.4,2,    157.2,2,   120.76,2,    35.36,2,     0.01,2,     2.45,2,    0.003,2,    0.000,2, -999.000,1,-999.0000,1,  -999.00,9,   -999.0,1,-999.000,9,   2300.2,2,   2397.5,2,     7.56,2,23863.0,-999.0000,-999.000,-999.000,  1.7394,-999.000
   318MWESTW_5,  P21W,   173,  1,     11, SI9411,2,19940523,2242,-17.5028,-155.0000, 4366,   2600.5,   1.8191,  34.6621,2,  34.6618,2,    159.1,2,    159.6,2,   122.87,2,    35.19,2,     0.01,2,     2.45,2, -999.000,9, -999.000,9, -999.000,1,-999.0000,1,  -999.00,9,   -999.0,1,-999.000,9,   2301.4,2,   2397.1,2,     7.56,2,25920.3,-999.0000,-999.000,-999.000,  1.6330,-999.000
   318MWESTW_5,  P21W,   173,  1,     10, SI9412,2,19940523,2242,-17.5028,-155.0000, 4366,   2796.0,   1.7050,  34.6700,2,  34.6712,2,    162.9,2,    163.7,2,   124.09,2,    34.91,2,     0.01,2,     2.41,2, -999.000,9, -999.000,9, -999.000,1,-999.0000,1,  -999.00,9,   -999.0,1,-999.000,9,   2297.6,2,   2405.6,2,     7.57,2,27863.7,-999.0000,-999.000,-999.000,  1.5031,-999.000
   318MWESTW_5,  P21W,   173,  1,      9, SI9410,2,19940523,2242,-17.5028,-155.0000, 4366,   3004.5,   1.6404,  34.6769,2,  34.6763,2,    166.0,2,    166.0,2,   124.42,2,    34.74,2,     0.01,2,     2.40,2,    0.001,2,    0.001,2, -999.000,1,-999.0000,1,  -999.00,9,   -999.0,1,-999.000,9,   2295.0,2,   2405.7,2,     7.57,2,29935.8,-999.0000,-999.000,-999.000,  1.4201,-999.000
   318MWESTW_5,  P21W,   173,  1,      8, SI9422,2,19940523,2242,-17.5028,-155.0000, 4366,   3200.7,   1.5901,  34.6804,2,  34.6806,2,    169.3,2,    170.0,2,   124.15,2,    34.52,2,     0.00,2,     2.38,2, -999.000,9, -999.000,9, -999.000,1,-999.0000,1,  -999.00,9,   -999.0,1,-999.000,9,   2297.5,2,   2399.0,2,     7.57,2,31886.9,-999.0000,-999.000,-999.000,  1.3518,-999.000
   318MWESTW_5,  P21W,   173,  1,      7, SI9407,2,19940523,2242,-17.5028,-155.0000, 4366,   3397.9,   1.5486,  34.6840,2,  34.6851,2,    172.9,2,    171.4,2,   123.89,2,    34.34,2,     0.01,2,     2.37,2, -999.000,9, -999.000,9, -999.000,1,-999.0000,1,  -999.00,9,   -999.0,1,-999.000,9,   2292.9,2,   2394.0,2,     7.58,2,33847.2,-999.0000,-999.000,-999.000,  1.2916,-999.000
   318MWESTW_5,  P21W,   173,  1,      6, SI9427,2,19940523,2242,-17.5028,-155.0000, 4366,   3593.2,   1.4942,  34.6887,2,  34.6889,2,    176.9,2,    176.1,2,   123.92,2,    34.13,2,     0.00,2,     2.36,2,    0.001,2,    0.001,2, -999.000,1,-999.0000,1,  -999.00,9,   -999.0,1,-999.000,9,   2289.6,2,   2396.7,2,     7.58,2,35789.2,-999.0000,-999.000,-999.000,  1.2186,-999.000
   318MWESTW_5,  P21W,   173,  1,      5, SI9405,2,19940523,2242,-17.5028,-155.0000, 4366,   3790.2,   1.4580,  34.6919,2,  34.6985,4,    180.4,2,    186.5,4,   122.31,4,    33.40,4,     0.01,4,     2.29,4, -999.000,9, -999.000,9, -999.000,1,-999.0000,1,  -999.00,9,   -999.0,1,-999.000,9,   2280.6,2,   2395.7,2,     7.59,2,37746.9,-999.0000,-999.000,-999.000,  1.1627,-999.000
   318MWESTW_5,  P21W,   173,  1,      4, SI9404,2,19940523,2242,-17.5028,-155.0000, 4366,   3998.1,   1.4325,  34.6950,2,  34.6948,2,    183.1,2,    182.2,2,   123.24,2,    33.63,2,     0.01,2,     2.33,2,    0.002,2,    0.003,2, -999.000,1,-999.0000,1,  -999.00,9,   -999.0,1,-999.000,9,   2284.2,2,   2387.1,2,     7.58,2,39814.2,-999.0000,-999.000,-999.000,  1.1156,-999.000
   318MWESTW_5,  P21W,   173,  1,      2, SI9437,2,19940523,2242,-17.5028,-155.0000, 4366,   4228.5,   1.4116,  34.6973,2,  34.6989,2,    186.5,2,    186.2,2,   122.41,2,    33.27,2,     0.01,2,     2.29,2, -999.000,9, -999.000,9, -999.000,1,-999.0000,1,  -999.00,9,   -999.0,1,-999.000,9,   2283.2,2,   2385.2,2,     7.59,2,42105.2,-999.0000,-999.000,-999.000,  1.0700,-999.000
   318MWESTW_5,  P21W,   173,  1,      1, SI9401,2,19940523,2242,-17.5028,-155.0000, 4366,   4394.9,   1.4018,  34.6992,2,  34.6983,2,    186.2,2,    187.2,2,   122.21,2,    33.41,2,     0.00,2,     2.30,2,    0.003,2,    0.003,2, -999.000,1,-999.0000,1,  -999.00,9,   -999.0,1,-999.000,9,   2281.1,2,   2385.1,2,     7.58,2,43759.4,-999.0000,-999.000,-999.000,  1.0418,-999.000