BOTTLE,20010911WHPSIOdm
EXPOCODE,SECT_ID,STNNBR,CASTNO,SAMPNO,BTLNBR,BTLNBR_FLAG_W,DATE,TIME,LATITUDE,LONGITUDE,DEPTH,CTDPRS,CTDTMP,CTDSAL,CTDSAL_FLAG_W,SALNTY,SALNTY_FLAG_W,CTDOXY,CTDOXY_FLAG_W,OXYGEN,OXYGEN_FLAG_W,SILCAT,SILCAT_FLAG_W,NITRAT,NITRAT_FLAG_W,NITRIT,NITRIT_FLAG_W,PHSPHT,PHSPHT_FLAG_W,CFC-11,CFC-11_FLAG_W,CFC-12,CFC-12_FLAG_W,TRITUM,TRITUM_FLAG_W,HELIUM,HELIUM_FLAG_W,DELHE3,DELHE3_FLAG_W,DELC14,DELC14_FLAG_W,NEON,NEON_FLAG_W,TCARBN,TCARBN_FLAG_W,ALKALI,ALKALI_FLAG_W,PH,PH_FLAG_W,CTDRAW,HELIER,DELHER,NEONER,THETA,TRITER
,,,,,,,,,,,,DBAR,ITS-90,PSS-78,,PSS-78,,UMOL/KG,,UMOL/KG,,UMOL/KG,,UMOL/KG,,UMOL/KG,,UMOL/KG,,PMOL/KG,,PMOL/KG,,TU,,UMOL/KG,,PERCNT,,/MILLE,,NMOL/KG,,UMOL/KG,,UMOL/KG,,,,,NMOL/KG,PERCNT,NMOL/KG,ITS-90,TU
   318MWESTW_5,  P21W,   283,  1,     36, SI9442,2,19940620,0542,-24.7722, 154.3805, 4145,     11.7,  23.8182,  35.2531,2,  35.2532,2,    206.4,2,    209.1,2,     0.83,2,     0.00,2,     0.00,2,     0.10,2,    1.873,2,    1.050,2, -999.000,1,-999.0000,1,  -999.00,9,   -999.0,1,-999.000,9,   -999.0,9,   -999.0,9,  -999.00,9,  175.3,-999.0000,-999.000,-999.000, 23.8158,-999.000
   318MWESTW_5,  P21W,   283,  1,     35, SI9435,2,19940620,0542,-24.7722, 154.3805, 4145,     27.3,  23.7306,  35.3390,2,  35.3433,2,    207.9,2,    209.8,2,     0.84,2,     0.00,2,     0.00,2,     0.11,2,    1.865,2,    1.040,2, -999.000,1,-999.0000,1,  -999.00,9,   -999.0,1,-999.000,9,   -999.0,9,   -999.0,9,  -999.00,9,  331.2,-999.0000,-999.000,-999.000, 23.7249,-999.000
   318MWESTW_5,  P21W,   283,  1,     34, SI9441,2,19940620,0542,-24.7722, 154.3805, 4145,     52.8,  23.6375,  35.4313,2,  35.4332,2,    204.1,2,    209.1,2,     0.84,2,     0.00,2,     0.00,2,     0.13,2,    1.895,2,    1.052,2, -999.000,1,-999.0000,1,  -999.00,9,   -999.0,1,-999.000,9,   -999.0,9,   -999.0,9,  -999.00,9,  585.0,-999.0000,-999.000,-999.000, 23.6265,-999.000
   318MWESTW_5,  P21W,   283,  1,     33, SI9433,2,19940620,0542,-24.7722, 154.3805, 4145,    103.8,  23.5483,  35.5793,2,  35.5807,2,    201.5,2,    187.4,2,     1.13,2,     1.52,2,     0.11,2,     0.28,2,    1.848,2,    1.027,2, -999.000,1,-999.0000,1,  -999.00,9,   -999.0,1,-999.000,9,   -999.0,9,   -999.0,9,  -999.00,9, 1093.1,-999.0000,-999.000,-999.000, 23.5267,-999.000
   318MWESTW_5,  P21W,   283,  1,     32, SI9432,2,19940620,0542,-24.7722, 154.3805, 4145,    154.6,  23.3073,  35.7561,2,  35.7582,2,    192.7,2,    205.3,2,     0.85,2,     0.28,2,     0.13,2,     0.15,2,    1.922,2,    1.070,2, -999.000,1,-999.0000,1,  -999.00,9,   -999.0,1,-999.000,9,   -999.0,9,   -999.0,9,  -999.00,9, 1598.7,-999.0000,-999.000,-999.000, 23.2753,-999.000
   318MWESTW_5,  P21W,   283,  1,     31, SI9431,2,19940620,0542,-24.7722, 154.3805, 4145,    205.3,  21.1625,  35.7353,2,  35.7341,2,    183.3,2,    185.3,2,     1.14,2,     3.13,2,     0.00,2,     0.35,2,    1.985,2,    1.091,2, -999.000,1,-999.0000,1,  -999.00,9,   -999.0,1,-999.000,9,   -999.0,9,   -999.0,9,  -999.00,9, 2103.4,-999.0000,-999.000,-999.000, 21.1228,-999.000
   318MWESTW_5,  P21W,   283,  1,     30, SI9440,2,19940620,0542,-24.7722, 154.3805, 4145,    246.2,  19.9705,  35.6778,2,  35.6721,2,    177.9,2,    175.2,2,     1.72,2,     5.07,2,     0.00,2,     0.47,2,    1.923,2,    1.042,2, -999.000,1,-999.0000,1,  -999.00,9,   -999.0,1,-999.000,9,   -999.0,9,   -999.0,9,  -999.00,9, 2510.9,-999.0000,-999.000,-999.000, 19.9248,-999.000
   318MWESTW_5,  P21W,   283,  1,     29, SI9429,2,19940620,0542,-24.7722, 154.3805, 4145,    306.5,  17.7805,  35.5378,2,  35.5344,2,    178.0,2,    180.0,2,     2.15,2,     6.60,2,     0.00,2,     0.56,2,    1.947,2,    1.020,2, -999.000,1,-999.0000,1,  -999.00,9,   -999.0,1,-999.000,9,   -999.0,9,   -999.0,9,  -999.00,9, 3111.3,-999.0000,-999.000,-999.000, 17.7280,-999.000
   318MWESTW_5,  P21W,   283,  1,     28, SI9428,2,19940620,0542,-24.7722, 154.3805, 4145,    346.1,  16.9513,  35.4826,2,  35.4805,2,    181.9,2,    182.0,2,     2.44,2,     7.33,2,     0.00,2,     0.61,2,    1.916,2,    1.002,2, -999.000,1,-999.0000,1,  -999.00,9,   -999.0,1,-999.000,9,   -999.0,9,   -999.0,9,  -999.00,9, 3504.6,-999.0000,-999.000,-999.000, 16.8939,-999.000
   318MWESTW_5,  P21W,   283,  1,     27, SI9424,2,19940620,0542,-24.7722, 154.3805, 4145,    391.5,  16.2463,  35.4227,2,  35.4186,2,    181.2,2,    181.7,2,     2.87,2,     8.30,2,     0.00,2,     0.68,2,    1.881,2,    0.975,2, -999.000,1,-999.0000,1,  -999.00,9,   -999.0,1,-999.000,9,   -999.0,9,   -999.0,9,  -999.00,9, 3956.8,-999.0000,-999.000,-999.000, 16.1832,-999.000
   318MWESTW_5,  P21W,   283,  1,     26, SI9414,2,19940620,0542,-24.7722, 154.3805, 4145,    447.3,  15.1531,  35.3234,2,  35.3110,2,    181.4,2,    181.4,2,     3.60,2,    10.08,2,     0.00,2,     0.80,2,    1.768,2,    0.922,2, -999.000,1,-999.0000,1,  -999.00,9,   -999.0,1,-999.000,9,   -999.0,9,   -999.0,9,  -999.00,9, 4511.9,-999.0000,-999.000,-999.000, 15.0842,-999.000
   318MWESTW_5,  P21W,   283,  1,     25, SI9425,2,19940620,0542,-24.7722, 154.3805, 4145,    499.4,  12.1900,  35.0109,2,  35.0065,2,    180.1,2,    179.7,2,     6.74,2,    15.46,2,     0.00,2,     1.14,2,    1.351,2,    0.685,2, -999.000,1,-999.0000,1,  -999.00,9,   -999.0,1,-999.000,9,   -999.0,9,   -999.0,9,  -999.00,9, 5030.8,-999.0000,-999.000,-999.000, 12.1234,-999.000
   318MWESTW_5,  P21W,   283,  1,     24, SI9434,2,19940620,0542,-24.7722, 154.3805, 4145,    601.0,   9.5206,  34.7306,2,  34.7268,2,    188.8,2,    189.6,2,     9.75,2,    20.00,2,     0.00,2,     1.43,2,    1.010,2,    0.501,2, -999.000,1,-999.0000,1,  -999.00,9,   -999.0,1,-999.000,9,   -999.0,9,   -999.0,9,  -999.00,9, 6040.3,-999.0000,-999.000,-999.000,  9.4517,-999.000
   318MWESTW_5,  P21W,   283,  1,     23, SI9423,2,19940620,0542,-24.7722, 154.3805, 4145,    693.3,   7.6474,  34.5468,2,  34.5492,2,    191.2,2,    192.9,2,    15.92,2,    23.93,2,     0.00,2,     1.67,2,    0.516,2,    0.262,2, -999.000,1,-999.0000,1,  -999.00,9,   -999.0,1,-999.000,9,   -999.0,9,   -999.0,9,  -999.00,9, 6958.3,-999.0000,-999.000,-999.000,  7.5773,-999.000
   318MWESTW_5,  P21W,   283,  1,     22, SI9418,2,19940620,0542,-24.7722, 154.3805, 4145,    794.7,   6.5695,  34.4818,2,  34.4820,2,    190.7,2,    189.1,2,    23.52,2,    26.52,2,     0.00,2,     1.85,2,    0.280,2,    0.141,2, -999.000,1,-999.0000,1,  -999.00,9,   -999.0,1,-999.000,9,   -999.0,9,   -999.0,9,  -999.00,9, 7967.2,-999.0000,-999.000,-999.000,  6.4951,-999.000
   318MWESTW_5,  P21W,   283,  1,     21, SI9421,2,19940620,0542,-24.7722, 154.3805, 4145,    897.3,   5.9681,  34.4618,2,  34.4608,2,    188.9,2,    185.7,2,    29.96,2,    28.05,2,     0.00,2,     1.96,2,    0.179,2,    0.092,2, -999.000,1,-999.0000,1,  -999.00,9,   -999.0,1,-999.000,9,   -999.0,9,   -999.0,9,  -999.00,9, 8987.3,-999.0000,-999.000,-999.000,  5.8875,-999.000
   318MWESTW_5,  P21W,   283,  1,     20, SI9420,2,19940620,0542,-24.7722, 154.3805, 4145,   1000.8,   5.2802,  34.4581,2,  34.4579,2,    183.6,2,    179.8,2,    39.56,2,    29.79,2,     0.00,2,     2.08,2,    0.097,2,    0.049,2, -999.000,1,-999.0000,1,  -999.00,9,   -999.0,1,-999.000,9,   -999.0,9,   -999.0,9,  -999.00,9,10016.7,-999.0000,-999.000,-999.000,  5.1948,-999.000
   318MWESTW_5,  P21W,   283,  1,     19, SI9419,2,19940620,0542,-24.7722, 154.3805, 4145,   1099.5,   4.5400,  34.4772,2,  34.4771,2,    174.7,2,    170.6,2,    53.88,2,    31.69,2,     0.00,2,     2.23,2,    0.038,2,    0.019,2, -999.000,1,-999.0000,1,  -999.00,9,   -999.0,1,-999.000,9,   -999.0,9,   -999.0,9,  -999.00,9,10997.7,-999.0000,-999.000,-999.000,  4.4515,-999.000
   318MWESTW_5,  P21W,   283,  1,     18, SI9439,2,19940620,0542,-24.7722, 154.3805, 4145,   1169.3,   4.2297,  34.4921,2,  34.4924,2,    166.4,2,    165.8,2,    61.05,2,    32.34,2,     0.00,2,     2.27,2,    0.025,6,    0.012,6, -999.000,1,-999.0000,1,  -999.00,9,   -999.0,1,-999.000,9,   -999.0,9,   -999.0,9,  -999.00,9,11691.7,-999.0000,-999.000,-999.000,  4.1377,-999.000
   318MWESTW_5,  P21W,   283,  1,     17, SI9417,2,19940620,0542,-24.7722, 154.3805, 4145,   1295.3,   3.7216,  34.5253,2,  34.5276,2,    159.3,2,    157.2,2,    75.08,2,    33.52,2,     0.00,2,     2.36,2,    0.006,2,   -0.001,2, -999.000,1,-999.0000,1,  -999.00,9,   -999.0,1,-999.000,9,   -999.0,9,   -999.0,9,  -999.00,9,12944.6,-999.0000,-999.000,-999.000,  3.6234,-999.000
   318MWESTW_5,  P21W,   283,  1,     16, SI9416,2,19940620,0542,-24.7722, 154.3805, 4145,   1501.0,   3.2328,  34.5676,2,  34.5675,2,    150.0,2,    149.1,2,    89.26,2,    34.62,2,     0.00,2,     2.43,2,    0.000,2,   -0.001,2, -999.000,1,-999.0000,1,  -999.00,9,   -999.0,1,-999.000,9,   -999.0,9,   -999.0,9,  -999.00,9,14990.0,-999.0000,-999.000,-999.000,  3.1222,-999.000
   318MWESTW_5,  P21W,   283,  1,     15, SI9415,2,19940620,0542,-24.7722, 154.3805, 4145,   1698.6,   2.7195,  34.6153,2,  34.6156,2,    154.1,2,    152.9,2,    95.98,2,    34.50,2,     0.00,2,     2.42,2,    0.002,2,   -0.001,2, -999.000,1,-999.0000,1,  -999.00,9,   -999.0,1,-999.000,9,   -999.0,9,   -999.0,9,  -999.00,9,16954.1,-999.0000,-999.000,-999.000,  2.5983,-999.000
   318MWESTW_5,  P21W,   283,  1,     14, SI9436,2,19940620,0542,-24.7722, 154.3805, 4145,   1903.0,   2.4024,  34.6535,2,  34.6527,2,    160.2,2,    160.4,2,    97.41,2,    33.96,2,     0.00,2,     2.38,2, -999.000,9, -999.000,9, -999.000,1,-999.0000,1,  -999.00,9,   -999.0,1,-999.000,9,   -999.0,9,   -999.0,9,  -999.00,9,18986.5,-999.0000,-999.000,-999.000,  2.2681,-999.000
   318MWESTW_5,  P21W,   283,  1,     13, SI9413,2,19940620,0542,-24.7722, 154.3805, 4145,   2099.0,   2.2308,  34.6785,2,  34.6787,2,    168.1,2,    167.7,2,    96.12,2,    33.23,2,     0.01,2,     2.33,2, -999.000,9, -999.000,9, -999.000,1,-999.0000,1,  -999.00,9,   -999.0,1,-999.000,9,   -999.0,9,   -999.0,9,  -999.00,9,20935.0,-999.0000,-999.000,-999.000,  2.0822,-999.000
   318MWESTW_5,  P21W,   283,  1,     12, SI9438,2,19940620,0542,-24.7722, 154.3805, 4145,   2293.9,   2.0578,  34.7026,2,  34.7032,2,    176.1,2,    176.8,2,    95.54,2,    32.39,2,     0.01,2,     2.27,2,    0.002,2,   -0.001,2, -999.000,1,-999.0000,1,  -999.00,9,   -999.0,1,-999.000,9,   -999.0,9,   -999.0,9,  -999.00,9,22873.1,-999.0000,-999.000,-999.000,  1.8948,-999.000
   318MWESTW_5,  P21W,   283,  1,     11, SI9411,2,19940620,0542,-24.7722, 154.3805, 4145,   2499.4,   1.9150,  34.7162,2,  34.7154,2,    181.9,2,    181.8,2,    97.84,2,    32.02,2,     0.00,2,     2.23,2, -999.000,9, -999.000,9, -999.000,1,-999.0000,1,  -999.00,9,   -999.0,1,-999.000,9,   -999.0,9,   -999.0,9,  -999.00,9,24915.6,-999.0000,-999.000,-999.000,  1.7361,-999.000
   318MWESTW_5,  P21W,   283,  1,     10, SI9412,2,19940620,0542,-24.7722, 154.3805, 4145,   2696.8,   1.7604,  34.7231,2,  34.7237,2,    184.3,2,    185.8,2,   101.13,2,    31.81,2,     0.00,2,     2.22,2, -999.000,9, -999.000,9, -999.000,1,-999.0000,1,  -999.00,9,   -999.0,1,-999.000,9,   -999.0,9,   -999.0,9,  -999.00,9,26878.1,-999.0000,-999.000,-999.000,  1.5664,-999.000
   318MWESTW_5,  P21W,   283,  1,      9, SI9410,2,19940620,0542,-24.7722, 154.3805, 4145,   2903.4,   1.6292,  34.7251,2,  34.7260,2,    188.6,2,    187.9,2,   104.41,2,    31.85,2,     0.01,2,     2.22,2, -999.000,9, -999.000,9, -999.000,1,-999.0000,1,  -999.00,9,   -999.0,1,-999.000,9,   -999.0,9,   -999.0,9,  -999.00,9,28932.6,-999.0000,-999.000,-999.000,  1.4185,-999.000
   318MWESTW_5,  P21W,   283,  1,      8, SI9422,2,19940620,0542,-24.7722, 154.3805, 4145,   3098.3,   1.4498,  34.7232,2,  34.7229,2,    191.1,2,    191.5,2,   108.72,2,    32.03,2,     0.00,2,     2.22,2,    0.000,2,   -0.003,2, -999.000,1,-999.0000,1,  -999.00,9,   -999.0,1,-999.000,9,   -999.0,9,   -999.0,9,  -999.00,9,30869.5,-999.0000,-999.000,-999.000,  1.2245,-999.000
   318MWESTW_5,  P21W,   283,  1,      7, SI9407,2,19940620,0542,-24.7722, 154.3805, 4145,   3296.4,   1.2982,  34.7217,2,  34.7203,2,    194.0,2,    193.4,2,   113.01,2,    32.16,2,     0.01,2,     2.24,2, -999.000,9, -999.000,9, -999.000,1,-999.0000,1,  -999.00,9,   -999.0,1,-999.000,9,   -999.0,9,   -999.0,9,  -999.00,9,32839.4,-999.0000,-999.000,-999.000,  1.0572,-999.000
   318MWESTW_5,  P21W,   283,  1,      6, SI9427,2,19940620,0542,-24.7722, 154.3805, 4145,   3493.9,   1.2198,  34.7196,2,  34.7188,2,    195.0,2,    194.6,2,   115.29,2,    32.29,2,     0.00,2,     2.26,2, -999.000,9, -999.000,9, -999.000,1,-999.0000,1,  -999.00,9,   -999.0,1,-999.000,9,   -999.0,9,   -999.0,9,  -999.00,9,34802.8,-999.0000,-999.000,-999.000,  0.9611,-999.000
   318MWESTW_5,  P21W,   283,  1,      5, SI9405,2,19940620,0542,-24.7722, 154.3805, 4145,   3692.6,   1.1745,  34.7172,2,  34.7178,2,    195.6,2,    195.6,2,   116.87,2,    32.30,2,     0.00,2,     2.25,2,    0.002,2,   -0.001,2, -999.000,1,-999.0000,1,  -999.00,9,   -999.0,1,-999.000,9,   -999.0,9,   -999.0,9,  -999.00,9,36777.7,-999.0000,-999.000,-999.000,  0.8968,-999.000
   318MWESTW_5,  P21W,   283,  1,      4, SI9404,2,19940620,0542,-24.7722, 154.3805, 4145,   3900.2,   1.1517,  34.7157,2,  34.7158,2,    196.6,2,    196.1,2,   118.01,2,    32.30,2,     0.00,2,     2.25,2, -999.000,9, -999.000,9, -999.000,1,-999.0000,1,  -999.00,9,   -999.0,1,-999.000,9,   -999.0,9,   -999.0,9,  -999.00,9,38841.6,-999.0000,-999.000,-999.000,  0.8530,-999.000
   318MWESTW_5,  P21W,   283,  1,      3, SI9403,2,19940620,0542,-24.7722, 154.3805, 4145,   4095.7,   1.1343,  34.7151,2,  34.7144,2,    197.4,2,    196.9,2,   118.87,2,    32.35,2,     0.00,2,     2.25,2,    0.002,2,   -0.001,2, -999.000,1,-999.0000,1,  -999.00,9,   -999.0,1,-999.000,9,   -999.0,9,   -999.0,9,  -999.00,9,40785.4,-999.0000,-999.000,-999.000,  0.8153,-999.000
   318MWESTW_5,  P21W,   283,  1,      2, SI9437,2,19940620,0542,-24.7722, 154.3805, 4145,   4159.0,   1.1321,  34.7148,2,  34.7142,2,    196.1,2,    196.8,2,   119.15,2,    32.43,2,     0.01,2,     2.24,2, -999.000,9, -999.000,9, -999.000,1,-999.0000,1,  -999.00,9,   -999.0,1,-999.000,9,   -999.0,9,   -999.0,9,  -999.00,9,41414.5,-999.0000,-999.000,-999.000,  0.8063,-999.000
   318MWESTW_5,  P21W,   283,  1,      1, SI9401,2,19940620,0542,-24.7722, 154.3805, 4145,   4200.5,   1.1266,  34.7146,2,  34.7203,2,    196.3,2,    197.3,2,   119.07,2,    32.44,2,     0.00,2,     2.25,2,    0.003,2,    0.000,2, -999.000,1,-999.0000,1,  -999.00,9,   -999.0,1,-999.000,9,   -999.0,9,   -999.0,9,  -999.00,9,41827.0,-999.0000,-999.000,-999.000,  0.7964,-999.000