BOTTLE,20010911WHPSIOdm
EXPOCODE,SECT_ID,STNNBR,CASTNO,SAMPNO,BTLNBR,BTLNBR_FLAG_W,DATE,TIME,LATITUDE,LONGITUDE,DEPTH,CTDPRS,CTDTMP,CTDSAL,CTDSAL_FLAG_W,SALNTY,SALNTY_FLAG_W,CTDOXY,CTDOXY_FLAG_W,OXYGEN,OXYGEN_FLAG_W,SILCAT,SILCAT_FLAG_W,NITRAT,NITRAT_FLAG_W,NITRIT,NITRIT_FLAG_W,PHSPHT,PHSPHT_FLAG_W,CFC-11,CFC-11_FLAG_W,CFC-12,CFC-12_FLAG_W,TRITUM,TRITUM_FLAG_W,HELIUM,HELIUM_FLAG_W,DELHE3,DELHE3_FLAG_W,DELC14,DELC14_FLAG_W,NEON,NEON_FLAG_W,TCARBN,TCARBN_FLAG_W,ALKALI,ALKALI_FLAG_W,PH,PH_FLAG_W,CTDRAW,HELIER,DELHER,NEONER,THETA,TRITER
,,,,,,,,,,,,DBAR,ITS-90,PSS-78,,PSS-78,,UMOL/KG,,UMOL/KG,,UMOL/KG,,UMOL/KG,,UMOL/KG,,UMOL/KG,,PMOL/KG,,PMOL/KG,,TU,,UMOL/KG,,PERCNT,,/MILLE,,NMOL/KG,,UMOL/KG,,UMOL/KG,,,,,NMOL/KG,PERCNT,NMOL/KG,ITS-90,TU
   318MWESTW_5,  P21W,   213,  1,     22, SI9418,2,19940604,0646,-17.9000,-178.5500,  988,      4.3,  25.8712,  35.0413,2,  35.0411,2,    208.4,2,    213.6,2,     0.73,2,     0.01,2,     0.00,2,     0.11,2,    1.738,2,    0.984,2, -999.000,1,-999.0000,1,  -999.00,9,   -999.0,1,-999.000,9,   -999.0,9,   -999.0,9,  -999.00,9,  101.1,-999.0000,-999.000,-999.000, 25.8702,-999.000
   318MWESTW_5,  P21W,   213,  1,     21, SI9421,2,19940604,0646,-17.9000,-178.5500,  988,     19.5,  25.9322,  35.0975,2,  35.0947,2,    206.1,2,    211.3,2,     0.60,2,     0.06,2,     0.00,2,     0.11,2,    1.736,2,    0.978,2, -999.000,1,-999.0000,1,  -999.00,9,   -999.0,1,-999.000,9,   -999.0,9,   -999.0,9,  -999.00,9,  253.5,-999.0000,-999.000,-999.000, 25.9279,-999.000
   318MWESTW_5,  P21W,   213,  1,     20, SI9420,2,19940604,0646,-17.9000,-178.5500,  988,     44.9,  25.8264,  35.2777,2,  35.2883,2,    208.6,2,    209.9,2,     0.61,2,     0.06,2,     0.00,2,     0.11,2, -999.000,9, -999.000,9, -999.000,1,-999.0000,1,  -999.00,9,   -999.0,1,-999.000,9,   -999.0,9,   -999.0,9,  -999.00,9,  506.9,-999.0000,-999.000,-999.000, 25.8164,-999.000
   318MWESTW_5,  P21W,   213,  1,     19, SI9419,2,19940604,0646,-17.9000,-178.5500,  988,     95.8,  23.6621,  35.6816,2,  35.6861,2,    193.1,2,    192.5,2,     0.76,2,     1.24,2,     0.08,2,     0.28,2,    1.894,2,    1.046,2, -999.000,1,-999.0000,1,  -999.00,9,   -999.0,1,-999.000,9,   -999.0,9,   -999.0,9,  -999.00,9, 1012.7,-999.0000,-999.000,-999.000, 23.6421,-999.000
   318MWESTW_5,  P21W,   213,  1,     18, SI9439,2,19940604,0646,-17.9000,-178.5500,  988,    146.0,  22.2712,  35.7631,2,  35.7608,2,    182.9,2,    184.2,2,     0.77,2,     2.07,2,     0.04,2,     0.32,2,    1.929,2,    1.069,2, -999.000,1,-999.0000,1,  -999.00,9,   -999.0,1,-999.000,9,   -999.0,9,   -999.0,9,  -999.00,9, 1512.4,-999.0000,-999.000,-999.000, 22.2420,-999.000
   318MWESTW_5,  P21W,   213,  1,     17, SI9417,2,19940604,0646,-17.9000,-178.5500,  988,    195.2,  21.0393,  35.7631,2,  35.7649,2,    181.1,2,    180.9,2,     0.94,2,     2.84,2,     0.01,2,     0.37,2, -999.000,9, -999.000,9, -999.000,1,-999.0000,1,  -999.00,9,   -999.0,1,-999.000,9,   -999.0,9,   -999.0,9,  -999.00,9, 2002.0,-999.0000,-999.000,-999.000, 21.0017,-999.000
   318MWESTW_5,  P21W,   213,  1,     16, SI9416,2,19940604,0646,-17.9000,-178.5500,  988,    246.9,  19.0132,  35.6339,2,  35.6421,2,    183.8,2,    182.1,2,     1.25,2,     4.11,2,     0.00,2,     0.46,2,    1.902,2,    1.021,2, -999.000,1,-999.0000,1,  -999.00,9,   -999.0,1,-999.000,9,   -999.0,9,   -999.0,9,  -999.00,9, 2516.8,-999.0000,-999.000,-999.000, 18.9689,-999.000
   318MWESTW_5,  P21W,   213,  1,     15, SI9415,2,19940604,0646,-17.9000,-178.5500,  988,    296.2,  17.3998,  35.5156,2,  35.5154,2,    187.7,2,    187.8,2,     1.72,2,     5.27,2,     0.00,2,     0.51,2, -999.000,9, -999.000,9, -999.000,1,-999.0000,1,  -999.00,9,   -999.0,1,-999.000,9,   -999.0,9,   -999.0,9,  -999.00,9, 3008.0,-999.0000,-999.000,-999.000, 17.3498,-999.000
   318MWESTW_5,  P21W,   213,  1,     14, SI9436,2,19940604,0646,-17.9000,-178.5500,  988,    347.8,  15.0923,  35.2450,2,  35.2180,2,    186.1,2,    180.3,2,     3.10,2,     9.22,2,     0.00,2,     0.78,2,    1.582,2,    0.838,2, -999.000,1,-999.0000,1,  -999.00,9,   -999.0,1,-999.000,9,   -999.0,9,   -999.0,9,  -999.00,9, 3520.9,-999.0000,-999.000,-999.000, 15.0391,-999.000
   318MWESTW_5,  P21W,   213,  1,     13, SI9413,2,19940604,0646,-17.9000,-178.5500,  988,    400.1,  13.0862,  35.0372,2,  35.0248,2,    185.2,2,    183.0,2,     4.16,2,    12.24,2,     0.00,2,     0.98,2, -999.000,9, -999.000,9, -999.000,1,-999.0000,1,  -999.00,9,   -999.0,1,-999.000,9,   -999.0,9,   -999.0,9,  -999.00,9, 4040.9,-999.0000,-999.000,-999.000, 13.0305,-999.000
   318MWESTW_5,  P21W,   213,  1,     12, SI9438,2,19940604,0646,-17.9000,-178.5500,  988,    450.5,  11.3094,  34.8363,2,  34.8316,2,    187.0,2,    185.6,2,     5.39,2,    15.50,2,     0.00,2,     1.18,2,    1.186,2,    0.609,2, -999.000,1,-999.0000,1,  -999.00,9,   -999.0,1,-999.000,9,   -999.0,9,   -999.0,9,  -999.00,9, 4542.5,-999.0000,-999.000,-999.000, 11.2523,-999.000
   318MWESTW_5,  P21W,   213,  1,     11, SI9411,2,19940604,0646,-17.9000,-178.5500,  988,    501.5,   9.8772,  34.6924,2,  34.6905,2,    189.0,2,    188.6,2,     8.74,2,    18.93,2,     0.01,2,     1.39,2, -999.000,9, -999.000,9, -999.000,1,-999.0000,1,  -999.00,9,   -999.0,1,-999.000,9,   -999.0,9,   -999.0,9,  -999.00,9, 5049.4,-999.0000,-999.000,-999.000,  9.8188,-999.000
   318MWESTW_5,  P21W,   213,  1,     10, SI9412,2,19940604,0646,-17.9000,-178.5500,  988,    552.1,   8.4730,  34.5617,2,  34.5512,2,    193.3,2,    194.0,2,    11.33,2,    21.95,2,     0.01,2,     1.57,2,    0.695,2,    0.355,2, -999.000,1,-999.0000,1,  -999.00,9,   -999.0,1,-999.000,9,   -999.0,9,   -999.0,9,  -999.00,9, 5552.1,-999.0000,-999.000,-999.000,  8.4143,-999.000
   318MWESTW_5,  P21W,   213,  1,      9, SI9410,2,19940604,0646,-17.9000,-178.5500,  988,    603.7,   7.2280,  34.4441,2,  34.4381,2,    199.4,2,    200.2,2,    13.46,2,    24.51,2,     0.02,2,     1.72,2, -999.000,9, -999.000,9, -999.000,1,-999.0000,1,  -999.00,9,   -999.0,1,-999.000,9,   -999.0,9,   -999.0,9,  -999.00,9, 6064.5,-999.0000,-999.000,-999.000,  7.1693,-999.000
   318MWESTW_5,  P21W,   213,  1,      8, SI9422,2,19940604,0646,-17.9000,-178.5500,  988,    654.4,   5.9831,  34.3832,2,  34.3823,2,    197.8,2,    192.4,2,    21.52,2,    28.05,2,     0.01,2,     1.96,2,    0.202,2,    0.115,2, -999.000,1,-999.0000,1,  -999.00,9,   -999.0,1,-999.000,9,   -999.0,9,   -999.0,9,  -999.00,9, 6568.5,-999.0000,-999.000,-999.000,  5.9254,-999.000
   318MWESTW_5,  P21W,   213,  1,      7, SI9407,2,19940604,0646,-17.9000,-178.5500,  988,    691.4,   5.7217,  34.3757,2,  34.3757,2,    189.7,2,    187.7,2,    24.26,2,    29.08,2,     0.00,2,     2.03,2, -999.000,9, -999.000,9, -999.000,1,-999.0000,1,  -999.00,9,   -999.0,1,-999.000,9,   -999.0,9,   -999.0,9,  -999.00,9, 6936.4,-999.0000,-999.000,-999.000,  5.6620,-999.000
   318MWESTW_5,  P21W,   213,  1,      6, SI9427,2,19940604,0646,-17.9000,-178.5500,  988,    745.3,   5.4471,  34.3913,2,  34.3888,2,    186.1,2,    182.1,2,    30.02,2,    29.92,2,     0.00,2,     2.08,2,    0.111,2,    0.059,2, -999.000,1,-999.0000,1,  -999.00,9,   -999.0,1,-999.000,9,   -999.0,9,   -999.0,9,  -999.00,9, 7472.0,-999.0000,-999.000,-999.000,  5.3840,-999.000
   318MWESTW_5,  P21W,   213,  1,      5, SI9405,2,19940604,0646,-17.9000,-178.5500,  988,    798.2,   5.1922,  34.3945,2,  34.3941,2,    181.3,2,    179.6,2,    33.83,2,    30.52,2,     0.00,2,     2.11,2, -999.000,9, -999.000,9, -999.000,1,-999.0000,1,  -999.00,9,   -999.0,1,-999.000,9,   -999.0,9,   -999.0,9,  -999.00,9, 7997.0,-999.0000,-999.000,-999.000,  5.1258,-999.000
   318MWESTW_5,  P21W,   213,  1,      4, SI9404,2,19940604,0646,-17.9000,-178.5500,  988,    848.8,   5.0044,  34.4038,2,  34.4037,2,    177.1,2,    177.0,2,    37.78,2,    31.04,2,     0.00,2,     2.15,2,    0.075,6,    0.047,6, -999.000,1,-999.0000,1,  -999.00,9,   -999.0,1,-999.000,9,   -999.0,9,   -999.0,9,  -999.00,9, 8500.4,-999.0000,-999.000,-999.000,  4.9347,-999.000
   318MWESTW_5,  P21W,   213,  1,      3, SI9403,2,19940604,0646,-17.9000,-178.5500,  988,    898.8,   4.8805,  34.4105,2,  34.4088,2,    176.2,2,    176.6,2,    40.21,2,    31.23,2,     0.00,2,     2.16,2, -999.000,9, -999.000,9, -999.000,1,-999.0000,1,  -999.00,9,   -999.0,1,-999.000,9,   -999.0,9,   -999.0,9,  -999.00,9, 8996.5,-999.0000,-999.000,-999.000,  4.8072,-999.000
   318MWESTW_5,  P21W,   213,  1,      2, SI9437,2,19940604,0646,-17.9000,-178.5500,  988,    936.9,   4.6558,  34.4200,2,  34.4198,2,    175.3,2,    173.7,2,    44.76,2,    31.82,2,     0.01,2,     2.19,2,    0.060,2,    0.030,2, -999.000,1,-999.0000,1,  -999.00,9,   -999.0,1,-999.000,9,   -999.0,9,   -999.0,9,  -999.00,9, 9375.3,-999.0000,-999.000,-999.000,  4.5808,-999.000
   318MWESTW_5,  P21W,   213,  1,      1, SI9401,2,19940604,0646,-17.9000,-178.5500,  988,    970.1,   4.5724,  34.4229,2,  34.4235,2,    169.9,2,    172.7,2,    46.44,2,    31.99,2,     0.01,2,     2.22,2,    0.050,2,    0.032,2, -999.000,1,-999.0000,1,  -999.00,9,   -999.0,1,-999.000,9,   -999.0,9,   -999.0,9,  -999.00,9, 9704.4,-999.0000,-999.000,-999.000,  4.4951,-999.000
   318MWESTW_5,  P21W,   214,  1,     19, SI9419,2,19940605,0225,-18.1667,-179.1667,  960,      4.5,  25.5877,  35.2878,2,  35.2881,2,    207.9,2,    206.0,2,     0.47,2,     0.06,2,     0.01,2,     0.12,2,    1.757,2,    0.986,2, -999.000,1,-999.0000,1,  -999.00,9,   -999.0,1,-999.000,9,   -999.0,9,   -999.0,9,  -999.00,9,  103.3,-999.0000,-999.000,-999.000, 25.5867,-999.000
   318MWESTW_5,  P21W,   214,  1,     18, SI9439,2,19940605,0225,-18.1667,-179.1667,  960,     19.4,  25.5955,  35.2872,2,  35.2891,2,    202.6,2,    204.5,2,     0.63,2,    -0.02,2,     0.02,2,     0.11,2,    1.778,2,    0.992,2, -999.000,1,-999.0000,1,  -999.00,9,   -999.0,1,-999.000,9,   -999.0,9,   -999.0,9,  -999.00,9,  252.2,-999.0000,-999.000,-999.000, 25.5912,-999.000
   318MWESTW_5,  P21W,   214,  1,     17, SI9417,2,19940605,0225,-18.1667,-179.1667,  960,     45.0,  25.6168,  35.3000,2,  35.3021,2,    201.1,2,    206.3,2,     0.48,2,     0.02,2,     0.01,2,     0.11,2,    1.762,2,    0.990,2, -999.000,1,-999.0000,1,  -999.00,9,   -999.0,1,-999.000,9,   -999.0,9,   -999.0,9,  -999.00,9,  507.5,-999.0000,-999.000,-999.000, 25.6069,-999.000
   318MWESTW_5,  P21W,   214,  1,     16, SI9416,2,19940605,0225,-18.1667,-179.1667,  960,     95.6,  25.1174,  35.5864,2,  35.6184,2,    194.6,2,    204.2,2,     0.49,2,     0.16,2,     0.07,2,     0.18,2,    1.800,2,    1.006,2, -999.000,1,-999.0000,1,  -999.00,9,   -999.0,1,-999.000,9,   -999.0,9,   -999.0,9,  -999.00,9, 1011.4,-999.0000,-999.000,-999.000, 25.0966,-999.000
   318MWESTW_5,  P21W,   214,  1,     15, SI9415,2,19940605,0225,-18.1667,-179.1667,  960,    146.1,  22.3577,  35.7923,2,  35.7947,2,    178.3,2,    180.8,2,     0.64,2,     2.19,2,     0.02,2,     0.33,2,    1.892,2,    1.033,2, -999.000,1,-999.0000,1,  -999.00,9,   -999.0,1,-999.000,9,   -999.0,9,   -999.0,9,  -999.00,9, 1513.2,-999.0000,-999.000,-999.000, 22.3284,-999.000
   318MWESTW_5,  P21W,   214,  1,     14, SI9436,2,19940605,0225,-18.1667,-179.1667,  960,    195.0,  20.9305,  35.7547,2,  35.7539,2,    179.3,2,    181.9,2,     0.81,2,     2.87,2,     0.01,2,     0.35,2,    1.967,2,    1.053,2, -999.000,1,-999.0000,1,  -999.00,9,   -999.0,1,-999.000,9,   -999.0,9,   -999.0,9,  -999.00,9, 2000.0,-999.0000,-999.000,-999.000, 20.8931,-999.000
   318MWESTW_5,  P21W,   214,  1,     13, SI9413,2,19940605,0225,-18.1667,-179.1667,  960,    247.4,  19.2249,  35.6764,2,  35.6699,2,    183.3,2,    190.6,2,     0.97,2,     3.31,2,     0.01,2,     0.36,2,    2.020,6,    1.084,6, -999.000,1,-999.0000,1,  -999.00,9,   -999.0,1,-999.000,9,   -999.0,9,   -999.0,9,  -999.00,9, 2521.9,-999.0000,-999.000,-999.000, 19.1802,-999.000
   318MWESTW_5,  P21W,   214,  1,     12, SI9438,2,19940605,0225,-18.1667,-179.1667,  960,    297.6,  17.4352,  35.5172,2,  35.5131,2,    185.9,2,    188.5,2,     1.57,2,     5.37,2,     0.02,2,     0.52,2,    1.922,2,    1.020,2, -999.000,1,-999.0000,1,  -999.00,9,   -999.0,1,-999.000,9,   -999.0,9,   -999.0,9,  -999.00,9, 3020.8,-999.0000,-999.000,-999.000, 17.3849,-999.000
   318MWESTW_5,  P21W,   214,  1,     11, SI9411,2,19940605,0225,-18.1667,-179.1667,  960,    348.8,  15.4988,  35.3325,2,  35.3084,2,    193.5,2,    189.1,2,     2.33,2,     7.94,2,     0.01,2,     0.70,2,    1.785,2,    0.937,2, -999.000,1,-999.0000,1,  -999.00,9,   -999.0,1,-999.000,9,   -999.0,9,   -999.0,9,  -999.00,9, 3530.5,-999.0000,-999.000,-999.000, 15.4444,-999.000
   318MWESTW_5,  P21W,   214,  1,     10, SI9412,2,19940605,0225,-18.1667,-179.1667,  960,    400.1,  14.1102,  35.1812,2,  35.1719,2,    192.8,2,    188.5,2,     3.10,2,     9.93,2,     0.01,2,     0.82,2,    1.697,2,    0.882,2, -999.000,1,-999.0000,1,  -999.00,9,   -999.0,1,-999.000,9,   -999.0,9,   -999.0,9,  -999.00,9, 4040.8,-999.0000,-999.000,-999.000, 14.0516,-999.000
   318MWESTW_5,  P21W,   214,  1,      9, SI9410,2,19940605,0225,-18.1667,-179.1667,  960,    451.0,  11.5517,  34.8566,2,  34.8473,2,    190.0,2,    181.8,2,     5.81,2,    15.41,2,     0.02,2,     1.20,2, -999.000,9, -999.000,9, -999.000,1,-999.0000,1,  -999.00,9,   -999.0,1,-999.000,9,   -999.0,9,   -999.0,9,  -999.00,9, 4546.4,-999.0000,-999.000,-999.000, 11.4938,-999.000
   318MWESTW_5,  P21W,   214,  1,      8, SI9422,2,19940605,0225,-18.1667,-179.1667,  960,    500.9,   9.7040,  34.6620,2,  34.6588,2,    190.7,2,    188.9,2,     7.63,2,    18.96,2,     0.00,2,     1.41,2,    0.907,2,    0.468,2, -999.000,1,-999.0000,1,  -999.00,9,   -999.0,1,-999.000,9,   -999.0,9,   -999.0,9,  -999.00,9, 5042.4,-999.0000,-999.000,-999.000,  9.6463,-999.000
   318MWESTW_5,  P21W,   214,  1,      7, SI9407,2,19940605,0225,-18.1667,-179.1667,  960,    541.8,   8.6451,  34.5627,2,  34.5537,2,    193.0,2,    194.0,2,     9.60,2,    21.33,2,     0.00,2,     1.55,2, -999.000,9, -999.000,9, -999.000,1,-999.0000,1,  -999.00,9,   -999.0,1,-999.000,9,   -999.0,9,   -999.0,9,  -999.00,9, 5449.0,-999.0000,-999.000,-999.000,  8.5868,-999.000
   318MWESTW_5,  P21W,   214,  1,      6, SI9427,2,19940605,0225,-18.1667,-179.1667,  960,    593.6,   7.2746,  34.4374,2,  34.4334,2,    202.9,2,    204.7,2,    11.56,2,    23.92,2,     0.01,2,     1.71,2,    0.562,2,    0.295,2, -999.000,1,-999.0000,1,  -999.00,9,   -999.0,1,-999.000,9,   -999.0,9,   -999.0,9,  -999.00,9, 5963.4,-999.0000,-999.000,-999.000,  7.2167,-999.000
   318MWESTW_5,  P21W,   214,  1,      5, SI9405,2,19940605,0225,-18.1667,-179.1667,  960,    695.2,   6.2271,  34.4017,2,  34.3998,2,    194.8,2,    195.8,2,    20.46,2,    27.26,2,     0.01,2,     1.92,2,    0.275,2,    0.153,2, -999.000,1,-999.0000,1,  -999.00,9,   -999.0,1,-999.000,9,   -999.0,9,   -999.0,9,  -999.00,9, 6973.7,-999.0000,-999.000,-999.000,  6.1643,-999.000
   318MWESTW_5,  P21W,   214,  1,      4, SI9404,2,19940605,0225,-18.1667,-179.1667,  960,    798.6,   5.3355,  34.4217,2,  34.4202,2,    180.9,2,    181.0,2,    35.98,2,    30.01,2,     0.01,2,     2.12,2,    0.141,2,    0.081,2, -999.000,1,-999.0000,1,  -999.00,9,   -999.0,1,-999.000,9,   -999.0,9,   -999.0,9,  -999.00,9, 8000.5,-999.0000,-999.000,-999.000,  5.2682,-999.000
   318MWESTW_5,  P21W,   214,  1,      3, SI9403,2,19940605,0225,-18.1667,-179.1667,  960,    899.9,   4.8620,  34.4366,2,  34.4355,2,    173.7,2,    174.4,2,    45.01,2,    31.17,2,     0.02,2,     2.21,2,    0.090,2,    0.052,2, -999.000,1,-999.0000,1,  -999.00,9,   -999.0,1,-999.000,9,   -999.0,9,   -999.0,9,  -999.00,9, 9006.7,-999.0000,-999.000,-999.000,  4.7887,-999.000
   318MWESTW_5,  P21W,   214,  1,      2, SI9437,2,19940605,0225,-18.1667,-179.1667,  960,    921.1,   4.8135,  34.4379,2,  34.4363,2,    171.4,2,    174.1,2,    45.92,2,    31.22,2,     0.01,2,     2.21,2, -999.000,9, -999.000,9, -999.000,1,-999.0000,1,  -999.00,9,   -999.0,1,-999.000,9,   -999.0,9,   -999.0,9,  -999.00,9, 9216.9,-999.0000,-999.000,-999.000,  4.7387,-999.000
   318MWESTW_5,  P21W,   214,  1,      1, SI9401,2,19940605,0225,-18.1667,-179.1667,  960,    940.4,   4.7344,  34.4405,2,  34.4392,2,    171.6,2,    176.5,2,    47.37,2,    31.50,2,     0.01,2,     2.22,2,    0.080,2,    0.042,2, -999.000,1,-999.0000,1,  -999.00,9,   -999.0,1,-999.000,9,   -999.0,9,   -999.0,9,  -999.00,9, 9408.9,-999.0000,-999.000,-999.000,  4.6585,-999.000