BOTTLE,20010911WHPSIOdm
EXPOCODE,SECT_ID,STNNBR,CASTNO,SAMPNO,BTLNBR,BTLNBR_FLAG_W,DATE,TIME,LATITUDE,LONGITUDE,DEPTH,CTDPRS,CTDTMP,CTDSAL,CTDSAL_FLAG_W,SALNTY,SALNTY_FLAG_W,CTDOXY,CTDOXY_FLAG_W,OXYGEN,OXYGEN_FLAG_W,SILCAT,SILCAT_FLAG_W,NITRAT,NITRAT_FLAG_W,NITRIT,NITRIT_FLAG_W,PHSPHT,PHSPHT_FLAG_W,CFC-11,CFC-11_FLAG_W,CFC-12,CFC-12_FLAG_W,TRITUM,TRITUM_FLAG_W,HELIUM,HELIUM_FLAG_W,DELHE3,DELHE3_FLAG_W,DELC14,DELC14_FLAG_W,NEON,NEON_FLAG_W,TCARBN,TCARBN_FLAG_W,ALKALI,ALKALI_FLAG_W,PH,PH_FLAG_W,CTDRAW,HELIER,DELHER,NEONER,THETA,TRITER
,,,,,,,,,,,,DBAR,ITS-90,PSS-78,,PSS-78,,UMOL/KG,,UMOL/KG,,UMOL/KG,,UMOL/KG,,UMOL/KG,,UMOL/KG,,PMOL/KG,,PMOL/KG,,TU,,UMOL/KG,,PERCNT,,/MILLE,,NMOL/KG,,UMOL/KG,,UMOL/KG,,,,,NMOL/KG,PERCNT,NMOL/KG,ITS-90,TU
   318MWESTW_5,  P21W,   169,  1,     36, SI9442,2,19940522,1536,-17.5000,-152.3333, 4506,     12.2,  27.8752,  35.6991,2,  35.7359,2,    200.3,2,    202.3,2,     0.72,2,    -0.01,2,     0.01,2,     0.18,2,    1.592,2,    0.921,2, -999.000,1,-999.0000,1,  -999.00,9,   -999.0,1,-999.000,9,   -999.0,9,   -999.0,9,  -999.00,9,  173.4,-999.0000,-999.000,-999.000, 27.8723,-999.000
   318MWESTW_5,  P21W,   169,  1,     35, SI9435,2,19940522,1536,-17.5000,-152.3333, 4506,     22.2,  27.8782,  35.6978,2,  34.7349,4,    195.6,2,    159.0,4,     8.48,4,    18.13,4,     0.01,4,     1.42,4, -999.000,9, -999.000,9, -999.000,1,-999.0000,1,  -999.00,9,   -999.0,1,-999.000,9,   -999.0,9,   -999.0,9,  -999.00,9,  273.6,-999.0000,-999.000,-999.000, 27.8730,-999.000
   318MWESTW_5,  P21W,   169,  1,     34, SI9441,2,19940522,1536,-17.5000,-152.3333, 4506,     52.4,  27.8797,  35.6920,2,  35.7398,2,    209.4,2,    208.7,2,     0.72,2,     0.00,2,     0.01,2,     0.18,2, -999.000,9, -999.000,9, -999.000,1,-999.0000,1,  -999.00,9,   -999.0,1,-999.000,9,   -999.0,9,   -999.0,9,  -999.00,9,  575.7,-999.0000,-999.000,-999.000, 27.8674,-999.000
   318MWESTW_5,  P21W,   169,  1,     33, SI9433,2,19940522,1536,-17.5000,-152.3333, 4506,     93.0,  26.2234,  36.0052,2,  36.0052,4,    213.8,2,    215.2,2,     0.72,2,     0.01,2,     0.01,2,     0.20,2,    1.823,2,    1.007,2, -999.000,1,-999.0000,1,  -999.00,9,   -999.0,1,-999.000,9,   -999.0,9,   -999.0,9,  -999.00,9,  980.4,-999.0000,-999.000,-999.000, 26.2024,-999.000
   318MWESTW_5,  P21W,   169,  1,     32, SI9432,2,19940522,1536,-17.5000,-152.3333, 4506,    144.7,  23.9956,  35.9711,2,  35.9757,4,    199.1,2,    196.1,2,     0.58,2,     0.01,2,     0.02,2,     0.23,2, -999.000,9, -999.000,9, -999.000,1,-999.0000,1,  -999.00,9,   -999.0,1,-999.000,9,   -999.0,9,   -999.0,9,  -999.00,9, 1495.8,-999.0000,-999.000,-999.000, 23.9650,-999.000
   318MWESTW_5,  P21W,   169,  1,     31, SI9431,2,19940522,1536,-17.5000,-152.3333, 4506,    194.8,  21.4731,  35.8621,2,  35.8546,2,    194.1,2,    189.0,2,     0.73,2,     1.95,2,     0.02,2,     0.35,2,    1.979,2,    1.060,2, -999.000,1,-999.0000,1,  -999.00,9,   -999.0,1,-999.000,9,   -999.0,9,   -999.0,9,  -999.00,9, 1994.1,-999.0000,-999.000,-999.000, 21.4350,-999.000
   318MWESTW_5,  P21W,   169,  1,     30, SI9440,2,19940522,1536,-17.5000,-152.3333, 4506,    244.5,  19.5372,  35.7038,2,  35.7019,2,    180.3,2,    174.5,2,     1.33,2,     4.50,2,     0.01,2,     0.55,2, -999.000,9, -999.000,9, -999.000,1,-999.0000,1,  -999.00,9,   -999.0,1,-999.000,9,   -999.0,9,   -999.0,9,  -999.00,9, 2489.6,-999.0000,-999.000,-999.000, 19.4925,-999.000
   318MWESTW_5,  P21W,   169,  1,     29, SI9429,2,19940522,1536,-17.5000,-152.3333, 4506,    295.9,  17.4697,  35.4337,2,  35.4255,2,    168.6,2,    171.4,2,     2.23,2,     6.90,2,     0.01,2,     0.71,2,    1.638,2,    0.869,2, -999.000,1,-999.0000,1,  -999.00,9,   -999.0,1,-999.000,9,   -999.0,9,   -999.0,9,  -999.00,9, 3000.7,-999.0000,-999.000,-999.000, 17.4197,-999.000
   318MWESTW_5,  P21W,   169,  1,     28, SI9428,2,19940522,1536,-17.5000,-152.3333, 4506,    396.3,  11.3865,  34.7477,2,  34.7459,2,    162.3,2,    159.2,2,     8.36,2,    17.81,2,     0.01,2,     1.42,2,    0.893,2,    0.467,2, -999.000,1,-999.0000,1,  -999.00,9,   -999.0,1,-999.000,9,   -999.0,9,   -999.0,9,  -999.00,9, 4000.3,-999.0000,-999.000,-999.000, 11.3362,-999.000
   318MWESTW_5,  P21W,   169,  1,     27, SI9424,2,19940522,1536,-17.5000,-152.3333, 4506,    492.9,   8.0963,  34.4897,2,  34.4852,2,    156.7,2,    154.3,2,    16.43,2,    26.29,2,     0.01,2,     1.93,2,    0.382,2,    0.206,2, -999.000,1,-999.0000,1,  -999.00,9,   -999.0,1,-999.000,9,   -999.0,9,   -999.0,9,  -999.00,9, 4960.7,-999.0000,-999.000,-999.000,  8.0455,-999.000
   318MWESTW_5,  P21W,   169,  1,     26, SI9414,2,19940522,1536,-17.5000,-152.3333, 4506,    596.3,   6.0850,  34.4039,2,  34.4023,2,    154.9,2,    166.5,4,    25.71,2,    30.34,2,     0.01,2,     2.15,2,    0.132,2,    0.087,2, -999.000,1,-999.0000,1,  -999.00,9,   -999.0,1,-999.000,9,   -999.0,9,   -999.0,9,  -999.00,9, 5988.8,-999.0000,-999.000,-999.000,  6.0322,-999.000
   318MWESTW_5,  P21W,   169,  1,     25, SI9425,2,19940522,1536,-17.5000,-152.3333, 4506,    697.8,   5.2881,  34.4244,2,  34.4237,2,    156.5,2,    156.2,2,    38.72,2,    32.69,2,     0.01,2,     2.29,2,    0.039,2,    0.034,2, -999.000,1,-999.0000,1,  -999.00,9,   -999.0,1,-999.000,9,   -999.0,9,   -999.0,9,  -999.00,9, 6998.3,-999.0000,-999.000,-999.000,  5.2300,-999.000
   318MWESTW_5,  P21W,   169,  1,     24, SI9434,2,19940522,1536,-17.5000,-152.3333, 4506,    801.5,   4.8352,  34.4606,2,  34.4603,2,    149.3,2,    149.2,2,    50.38,2,    33.71,2,     0.01,2,     2.38,2,    0.014,6,    0.015,6, -999.000,1,-999.0000,1,  -999.00,9,   -999.0,1,-999.000,9,   -999.0,9,   -999.0,9,  -999.00,9, 8029.1,-999.0000,-999.000,-999.000,  4.7706,-999.000
   318MWESTW_5,  P21W,   169,  1,     23, SI9423,2,19940522,1536,-17.5000,-152.3333, 4506,    903.8,   4.2762,  34.4828,2,  34.4809,2,    148.3,2,    147.6,2,    61.00,2,    34.55,2,     0.01,2,     2.43,2,    0.007,2,    0.010,2, -999.000,1,-999.0000,1,  -999.00,9,   -999.0,1,-999.000,9,   -999.0,9,   -999.0,9,  -999.00,9, 9046.5,-999.0000,-999.000,-999.000,  4.2066,-999.000
   318MWESTW_5,  P21W,   169,  1,     22, SI9418,2,19940522,1536,-17.5000,-152.3333, 4506,   1000.9,   3.8381,  34.5044,2,  34.5042,2,    146.6,2,    147.3,2,    70.24,2,    34.99,2,     0.01,2,     2.47,2, -999.000,9, -999.000,9, -999.000,1,-999.0000,1,  -999.00,9,   -999.0,1,-999.000,9,   -999.0,9,   -999.0,9,  -999.00,9,10011.2,-999.0000,-999.000,-999.000,  3.7636,-999.000
   318MWESTW_5,  P21W,   169,  1,     21, SI9421,2,19940522,1536,-17.5000,-152.3333, 4506,   1098.1,   3.5137,  34.5258,2,  34.5239,2,    145.1,2,    145.7,2,    78.35,2,    35.40,2,     0.00,2,     2.49,2,    0.001,2,    0.003,2, -999.000,1,-999.0000,1,  -999.00,9,   -999.0,1,-999.000,9,   -999.0,9,   -999.0,9,  -999.00,9,10977.5,-999.0000,-999.000,-999.000,  3.4339,-999.000
   318MWESTW_5,  P21W,   169,  1,     20, SI9420,2,19940522,1536,-17.5000,-152.3333, 4506,   1195.8,   3.2664,  34.5412,2,  34.5398,2,    144.5,2,    146.1,2,    84.07,2,    35.53,2,     0.01,2,     2.50,2, -999.000,9, -999.000,9, -999.000,1,-999.0000,1,  -999.00,9,   -999.0,1,-999.000,9,   -999.0,9,   -999.0,9,  -999.00,9,11949.7,-999.0000,-999.000,-999.000,  3.1808,-999.000
   318MWESTW_5,  P21W,   169,  1,     19, SI9419,2,19940522,1536,-17.5000,-152.3333, 4506,   1297.4,   3.1206,  34.5536,2,  34.5512,2,    146.8,2,    145.7,2,    88.23,2,    35.58,2,     0.01,2,     2.51,2, -999.000,9, -999.000,9, -999.000,1,-999.0000,1,  -999.00,9,   -999.0,1,-999.000,9,   -999.0,9,   -999.0,9,  -999.00,9,12959.2,-999.0000,-999.000,-999.000,  3.0282,-999.000
   318MWESTW_5,  P21W,   169,  1,     18, SI9439,2,19940522,1536,-17.5000,-152.3333, 4506,   1399.7,   2.9365,  34.5662,2,  34.5643,2,    146.4,2,    146.2,2,    92.73,2,    35.64,2,     0.01,2,     2.51,2, -999.000,9, -999.000,9, -999.000,1,-999.0000,1,  -999.00,9,   -999.0,1,-999.000,9,   -999.0,9,   -999.0,9,  -999.00,9,13976.4,-999.0000,-999.000,-999.000,  2.8377,-999.000
   318MWESTW_5,  P21W,   169,  1,     17, SI9417,2,19940522,1536,-17.5000,-152.3333, 4506,   1497.3,   2.7455,  34.5829,2,  34.5818,2,    146.8,2,    146.2,2,    98.26,2,    35.74,2,     0.01,2,     2.51,2, -999.000,9, -999.000,9, -999.000,1,-999.0000,1,  -999.00,9,   -999.0,1,-999.000,9,   -999.0,9,   -999.0,9,  -999.00,9,14946.7,-999.0000,-999.000,-999.000,  2.6408,-999.000
   318MWESTW_5,  P21W,   169,  1,     16, SI9416,2,19940522,1536,-17.5000,-152.3333, 4506,   1596.5,   2.6242,  34.5925,2,  34.5932,2,    148.4,2,    147.1,2,   101.85,2,    35.74,2,     0.01,2,     2.51,2, -999.000,9, -999.000,9, -999.000,1,-999.0000,1,  -999.00,9,   -999.0,1,-999.000,9,   -999.0,9,   -999.0,9,  -999.00,9,15933.6,-999.0000,-999.000,-999.000,  2.5128,-999.000
   318MWESTW_5,  P21W,   169,  1,     15, SI9415,2,19940522,1536,-17.5000,-152.3333, 4506,   1796.6,   2.3559,  34.6173,2,  34.7176,4,    149.8,2,    153.4,4,    85.41,4,    31.10,4,     0.01,4,     2.20,4, -999.000,9, -999.000,9, -999.000,1,-999.0000,1,  -999.00,9,   -999.0,1,-999.000,9,   -999.0,9,   -999.0,9,  -999.00,9,17922.9,-999.0000,-999.000,-999.000,  2.2314,-999.000
   318MWESTW_5,  P21W,   169,  1,     14, SI9436,2,19940522,1536,-17.5000,-152.3333, 4506,   1992.6,   2.2112,  34.6296,2,  34.6276,2,    150.8,2,    150.9,2,   113.23,2,    35.66,2,     0.01,2,     2.50,2, -999.000,9, -999.000,9, -999.000,1,-999.0000,1,  -999.00,9,   -999.0,1,-999.000,9,   -999.0,9,   -999.0,9,  -999.00,9,19871.2,-999.0000,-999.000,-999.000,  2.0722,-999.000
   318MWESTW_5,  P21W,   169,  1,     13, SI9413,2,19940522,1536,-17.5000,-152.3333, 4506,   2194.0,   2.0794,  34.6412,2,  34.6392,2,    152.7,2,    152.9,2,   116.81,2,    35.63,2,     0.01,2,     2.50,2, -999.000,9, -999.000,9, -999.000,1,-999.0000,1,  -999.00,9,   -999.0,1,-999.000,9,   -999.0,9,   -999.0,9,  -999.00,9,21873.3,-999.0000,-999.000,-999.000,  1.9251,-999.000
   318MWESTW_5,  P21W,   169,  1,     12, SI9438,2,19940522,1536,-17.5000,-152.3333, 4506,   2394.8,   1.9483,  34.6515,2,  34.6517,2,    156.0,2,    155.9,2,   120.12,2,    35.40,2,     0.01,2,     2.49,2, -999.000,9, -999.000,9, -999.000,1,-999.0000,1,  -999.00,9,   -999.0,1,-999.000,9,   -999.0,9,   -999.0,9,  -999.00,9,23869.7,-999.0000,-999.000,-999.000,  1.7785,-999.000
   318MWESTW_5,  P21W,   169,  1,     11, SI9411,2,19940522,1536,-17.5000,-152.3333, 4506,   2594.2,   1.8230,  34.6622,2,  34.6618,2,    159.9,2,    159.3,2,   122.51,2,    35.13,2,     0.01,2,     2.46,2, -999.000,9, -999.000,9, -999.000,1,-999.0000,1,  -999.00,9,   -999.0,1,-999.000,9,   -999.0,9,   -999.0,9,  -999.00,9,25852.0,-999.0000,-999.000,-999.000,  1.6374,-999.000
   318MWESTW_5,  P21W,   169,  1,     10, SI9412,2,19940522,1536,-17.5000,-152.3333, 4506,   2781.3,   1.7753,  34.6668,2,  34.6663,2,    161.0,2,    161.1,2,   123.12,2,    34.95,2,     0.01,2,     2.46,2, -999.000,9, -999.000,9, -999.000,1,-999.0000,1,  -999.00,9,   -999.0,1,-999.000,9,   -999.0,9,   -999.0,9,  -999.00,9,27712.7,-999.0000,-999.000,-999.000,  1.5733,-999.000
   318MWESTW_5,  P21W,   169,  1,      9, SI9410,2,19940522,1536,-17.5000,-152.3333, 4506,   2978.0,   1.6688,  34.6749,2,  34.6743,2,    165.4,2,    165.3,2,   124.03,2,    34.69,2,     0.01,2,     2.42,2, -999.000,9, -999.000,9, -999.000,1,-999.0000,1,  -999.00,9,   -999.0,1,-999.000,9,   -999.0,9,   -999.0,9,  -999.00,9,29668.2,-999.0000,-999.000,-999.000,  1.4504,-999.000
   318MWESTW_5,  P21W,   169,  1,      8, SI9422,2,19940522,1536,-17.5000,-152.3333, 4506,   3185.5,   1.5949,  34.6809,2,  34.6796,2,    169.1,2,    168.9,2,   124.18,2,    34.46,2,     0.01,2,     2.41,2,    0.002,2,    0.000,2, -999.000,1,-999.0000,1,  -999.00,9,   -999.0,1,-999.000,9,   -999.0,9,   -999.0,9,  -999.00,9,31730.8,-999.0000,-999.000,-999.000,  1.3580,-999.000
   318MWESTW_5,  P21W,   169,  1,      7, SI9407,2,19940522,1536,-17.5000,-152.3333, 4506,   3391.8,   1.5488,  34.6849,2,  34.6842,2,    171.3,2,    172.3,2,   123.89,2,    34.20,2,     0.01,2,     2.38,2, -999.000,9, -999.000,9, -999.000,1,-999.0000,1,  -999.00,9,   -999.0,1,-999.000,9,   -999.0,9,   -999.0,9,  -999.00,9,33782.1,-999.0000,-999.000,-999.000,  1.2924,-999.000
   318MWESTW_5,  P21W,   169,  1,      6, SI9427,2,19940522,1536,-17.5000,-152.3333, 4506,   3589.2,   1.5146,  34.6884,2,  34.6863,2,    174.5,2,    175.0,2,   123.89,2,    34.06,2,     0.01,2,     2.38,2, -999.000,9, -999.000,9, -999.000,1,-999.0000,1,  -999.00,9,   -999.0,1,-999.000,9,   -999.0,9,   -999.0,9,  -999.00,9,35743.6,-999.0000,-999.000,-999.000,  1.2389,-999.000
   318MWESTW_5,  P21W,   169,  1,      5, SI9405,2,19940522,1536,-17.5000,-152.3333, 4506,   3788.9,   1.4958,  34.6903,2,  34.6901,2,    176.4,2,    178.2,2,   123.45,2,    33.94,2,     0.01,2,     2.38,2, -999.000,9, -999.000,9, -999.000,1,-999.0000,1,  -999.00,9,   -999.0,1,-999.000,9,   -999.0,9,   -999.0,9,  -999.00,9,37729.6,-999.0000,-999.000,-999.000,  1.1997,-999.000
   318MWESTW_5,  P21W,   169,  1,      4, SI9404,2,19940522,1536,-17.5000,-152.3333, 4506,   3995.5,   1.4805,  34.6927,2,  34.6906,2,    179.6,2,    179.8,2,   123.15,2,    33.81,2,     0.01,2,     2.36,2, -999.000,9, -999.000,9, -999.000,1,-999.0000,1,  -999.00,9,   -999.0,1,-999.000,9,   -999.0,9,   -999.0,9,  -999.00,9,39783.3,-999.0000,-999.000,-999.000,  1.1626,-999.000
   318MWESTW_5,  P21W,   169,  1,      3, SI9403,2,19940522,1536,-17.5000,-152.3333, 4506,   4212.4,   1.4669,  34.6952,2,  34.6924,2,    181.9,2,    181.3,2,   122.86,2,    33.71,2,     0.02,2,     2.35,2, -999.000,9, -999.000,9, -999.000,1,-999.0000,1,  -999.00,9,   -999.0,1,-999.000,9,   -999.0,9,   -999.0,9,  -999.00,9,41939.1,-999.0000,-999.000,-999.000,  1.1255,-999.000
   318MWESTW_5,  P21W,   169,  1,      2, SI9437,2,19940522,1536,-17.5000,-152.3333, 4506,   4421.3,   1.4608,  34.6965,2,  34.6948,2,    184.3,2,    183.1,2,   122.87,2,    33.53,2,     0.02,2,     2.34,2,    0.003,2,    0.011,2, -999.000,1,-999.0000,1,  -999.00,9,   -999.0,1,-999.000,9,   -999.0,9,   -999.0,9,  -999.00,9,44016.0,-999.0000,-999.000,-999.000,  1.0960,-999.000
   318MWESTW_5,  P21W,   169,  1,      1, SI9401,2,19940522,1536,-17.5000,-152.3333, 4506,   4555.7,   1.4644,  34.6967,2,  34.6958,2,    186.0,2,    184.9,2,   122.61,2,    33.51,2,     0.01,2,     2.35,2, -999.000,9, -999.000,9, -999.000,1,-999.0000,1,  -999.00,9,   -999.0,1,-999.000,9,   -999.0,9,   -999.0,9,  -999.00,9,45352.9,-999.0000,-999.000,-999.000,  1.0840,-999.000