BOTTLE,20010911WHPSIOdm
EXPOCODE,SECT_ID,STNNBR,CASTNO,SAMPNO,BTLNBR,BTLNBR_FLAG_W,DATE,TIME,LATITUDE,LONGITUDE,DEPTH,CTDPRS,CTDTMP,CTDSAL,CTDSAL_FLAG_W,SALNTY,SALNTY_FLAG_W,CTDOXY,CTDOXY_FLAG_W,OXYGEN,OXYGEN_FLAG_W,SILCAT,SILCAT_FLAG_W,NITRAT,NITRAT_FLAG_W,NITRIT,NITRIT_FLAG_W,PHSPHT,PHSPHT_FLAG_W,CFC-11,CFC-11_FLAG_W,CFC-12,CFC-12_FLAG_W,TRITUM,TRITUM_FLAG_W,HELIUM,HELIUM_FLAG_W,DELHE3,DELHE3_FLAG_W,DELC14,DELC14_FLAG_W,NEON,NEON_FLAG_W,TCARBN,TCARBN_FLAG_W,ALKALI,ALKALI_FLAG_W,PH,PH_FLAG_W,CTDRAW,HELIER,DELHER,NEONER,THETA,TRITER
,,,,,,,,,,,,DBAR,ITS-90,PSS-78,,PSS-78,,UMOL/KG,,UMOL/KG,,UMOL/KG,,UMOL/KG,,UMOL/KG,,UMOL/KG,,PMOL/KG,,PMOL/KG,,TU,,UMOL/KG,,PERCNT,,/MILLE,,NMOL/KG,,UMOL/KG,,UMOL/KG,,,,,NMOL/KG,PERCNT,NMOL/KG,ITS-90,TU
   318MWESTW_5,  P21W,   281,  1,     36, SI9442,2,19940619,1640,-24.3500, 155.4972, 4085,      6.8,  23.7791,  35.2202,2,  35.2191,2,    210.9,2,    209.4,2,     0.75,2,     0.05,2,     0.00,2,     0.13,2,    1.863,2,    1.043,2, -999.000,1,-999.0000,1,  -999.00,9,   -999.0,1,-999.000,9,   -999.0,9,   -999.0,9,  -999.00,9,  127.2,-999.0000,-999.000,-999.000, 23.7777,-999.000
   318MWESTW_5,  P21W,   281,  1,     35, SI9435,2,19940619,1640,-24.3500, 155.4972, 4085,     21.3,  23.7934,  35.2191,2,  35.2231,2,    214.8,2,    209.2,2,     0.76,2,     0.00,2,     0.00,2,     0.11,2,    1.877,2,    1.033,2, -999.000,1,-999.0000,1,  -999.00,9,   -999.0,1,-999.000,9,   -999.0,9,   -999.0,9,  -999.00,9,  271.4,-999.0000,-999.000,-999.000, 23.7889,-999.000
   318MWESTW_5,  P21W,   281,  1,     34, SI9441,2,19940619,1640,-24.3500, 155.4972, 4085,     51.5,  23.7050,  35.3274,2,  35.3275,2,    218.3,2,    209.8,2,     0.77,2,     0.06,2,     0.00,2,     0.11,2, -999.000,9, -999.000,9, -999.000,1,   1.7066,2,    -1.36,2,   -999.0,1,   6.802,2,   -999.0,9,   -999.0,9,  -999.00,9,  572.3,  0.0085,   0.080,   0.034, 23.6942,-999.000
   318MWESTW_5,  P21W,   281,  1,     33, SI9433,2,19940619,1640,-24.3500, 155.4972, 4085,    102.9,  23.0075,  35.5858,2,  35.5877,2,    194.3,2,    182.8,2,     1.22,2,     2.65,2,     0.07,2,     0.33,2,    1.848,2,    1.012,2, -999.000,1,   1.7161,2,    -0.66,2,   -999.0,1,   6.870,2,   -999.0,9,   -999.0,9,  -999.00,9, 1083.9,  0.0086,   0.080,   0.034, 22.9864,-999.000
   318MWESTW_5,  P21W,   281,  1,     32, SI9432,2,19940619,1640,-24.3500, 155.4972, 4085,    146.4,  21.7282,  35.7099,2,  35.7116,2,    174.9,2,    171.7,2,     1.38,2,     4.32,2,     0.02,2,     0.43,2,    1.877,2,    1.010,2, -999.000,1,   1.7189,2,    -0.27,2,   -999.0,1,   6.915,2,   -999.0,9,   -999.0,9,  -999.00,9, 1517.5,  0.0086,   0.080,   0.035, 21.6994,-999.000
   318MWESTW_5,  P21W,   281,  1,     31, SI9431,2,19940619,1640,-24.3500, 155.4972, 4085,    199.7,  20.7588,  35.7069,2,  35.7065,2,    171.0,2,    175.7,2,     1.40,2,     4.64,2,     0.01,2,     0.43,2,    1.919,2,    1.034,2, -999.000,1,   1.7530,2,    -0.25,2,   -999.0,1,   7.059,2,   -999.0,9,   -999.0,9,  -999.00,9, 2047.8,  0.0088,   0.080,   0.035, 20.7207,-999.000
   318MWESTW_5,  P21W,   281,  1,     30, SI9440,2,19940619,1640,-24.3500, 155.4972, 4085,    245.8,  19.5061,  35.6283,2,  35.6354,2,    166.7,2,    166.3,2,     1.98,2,     6.49,2,     0.00,2,     0.58,2,    1.824,2,    0.979,2, -999.000,1,-999.0000,1,  -999.00,9,   -999.0,1,-999.000,9,   -999.0,9,   -999.0,9,  -999.00,9, 2506.5,-999.0000,-999.000,-999.000, 19.4612,-999.000
   318MWESTW_5,  P21W,   281,  1,     29, SI9429,2,19940619,1640,-24.3500, 155.4972, 4085,    296.2,  17.8902,  35.5084,2,  35.5076,2,    170.7,2,    167.1,2,     2.72,2,     8.01,2,     0.00,2,     0.68,2,    1.736,2,    0.928,2, -999.000,1,   1.7566,2,     0.49,2,   -999.0,1,   7.192,2,   -999.0,9,   -999.0,9,  -999.00,9, 3008.6,  0.0088,   0.080,   0.036, 17.8393,-999.000
   318MWESTW_5,  P21W,   281,  1,     28, SI9428,2,19940619,1640,-24.3500, 155.4972, 4085,    346.7,  16.6358,  35.4399,2,  35.4346,2,    180.2,2,    203.5,4,     2.87,2,     8.32,2,     0.00,2,     0.69,2, -999.000,9, -999.000,9, -999.000,1,-999.0000,1,  -999.00,9,   -999.0,1,-999.000,9,   -999.0,9,   -999.0,9,  -999.00,9, 3510.8,-999.0000,-999.000,-999.000, 16.5790,-999.000
   318MWESTW_5,  P21W,   281,  1,     27, SI9424,2,19940619,1640,-24.3500, 155.4972, 4085,    403.3,  14.8430,  35.2793,2,  35.2745,2,    179.0,2,    179.0,2,     4.04,2,    10.90,2,     0.00,2,     0.85,2,    1.648,2,    0.863,2, -999.000,1,   1.7712,2,     0.49,2,   -999.0,1,   7.336,2,   -999.0,9,   -999.0,9,  -999.00,9, 4074.0,  0.0089,   0.080,   0.037, 14.7818,-999.000
   318MWESTW_5,  P21W,   281,  1,     26, SI9414,2,19940619,1640,-24.3500, 155.4972, 4085,    497.8,  12.3860,  35.0363,2,  35.0337,2,    180.5,2,    182.4,2,     6.08,2,    14.79,2,     0.00,2,     1.08,2,    1.407,2,    0.733,2, -999.000,1,   1.7626,2,     0.81,2,   -999.0,1,   7.393,2,   -999.0,9,   -999.0,9,  -999.00,9, 5014.5,  0.0088,   0.080,   0.037, 12.3189,-999.000
   318MWESTW_5,  P21W,   281,  1,     25, SI9425,2,19940619,1640,-24.3500, 155.4972, 4085,    599.4,   9.8684,  34.7688,2,  34.7659,2,    189.7,2,    188.6,2,     9.13,2,    19.48,2,     0.00,2,     1.38,2,    1.101,2,    0.564,2, -999.000,1,-999.0000,1,  -999.00,9,   -999.0,1,-999.000,9,   -999.0,9,   -999.0,9,  -999.00,9, 6024.4,-999.0000,-999.000,-999.000,  9.7982,-999.000
   318MWESTW_5,  P21W,   281,  1,     24, SI9434,2,19940619,1640,-24.3500, 155.4972, 4085,    698.3,   8.3648,  34.6138,2,  34.6107,2,    191.3,2,    208.3,4,    13.19,2,    22.68,2,     0.00,2,     1.57,2,    0.702,2,    0.359,2, -999.000,1,-999.0000,1,  -999.00,9,   -999.0,1,-999.000,9,   -999.0,9,   -999.0,9,  -999.00,9, 7008.2,-999.0000,-999.000,-999.000,  8.2904,-999.000
   318MWESTW_5,  P21W,   281,  1,     23, SI9423,2,19940619,1640,-24.3500, 155.4972, 4085,    799.5,   7.0232,  34.5088,2,  34.5080,2,    192.9,2,    198.4,4,    20.14,2,    25.73,2,     0.01,2,     1.79,2,    0.377,6,    0.202,6, -999.000,1,   1.8026,2,     2.96,2,   -999.0,1,   7.719,2,   -999.0,9,   -999.0,9,  -999.00,9, 8014.4,  0.0090,   0.080,   0.039,  6.9455,-999.000
   318MWESTW_5,  P21W,   281,  1,     22, SI9418,2,19940619,1640,-24.3500, 155.4972, 4085,    887.8,   6.2266,  34.4675,2,  34.4663,2,    190.2,2,    197.0,4,    26.81,2,    27.67,2,     0.00,2,     1.92,2,    0.226,2,    0.125,2, -999.000,1,-999.0000,1,  -999.00,9,   -999.0,1,-999.000,9,   -999.0,9,   -999.0,9,  -999.00,9, 8892.5,-999.0000,-999.000,-999.000,  6.1452,-999.000
   318MWESTW_5,  P21W,   281,  1,     21, SI9421,2,19940619,1640,-24.3500, 155.4972, 4085,    995.0,   5.0324,  34.4651,2,  34.4646,2,    180.0,2,    177.7,2,    44.30,2,    30.60,2,     0.00,2,     2.13,2,    0.079,2,    0.044,2, -999.000,1,   1.8320,2,     8.02,2,   -999.0,1,   7.850,2,   -999.0,9,   -999.0,9,  -999.00,9, 9959.1,  0.0092,   0.090,   0.039,  4.9494,-999.000
   318MWESTW_5,  P21W,   281,  1,     20, SI9420,2,19940619,1640,-24.3500, 155.4972, 4085,   1149.0,   4.2662,  34.4910,2,  34.4901,2,    168.6,2,    166.9,2,    60.36,2,    32.57,2,     0.00,2,     2.27,2,    0.027,2,    0.015,2, -999.000,1,-999.0000,1,  -999.00,9,   -999.0,1,-999.000,9,   -999.0,9,   -999.0,9,  -999.00,9,11489.7,-999.0000,-999.000,-999.000,  4.1757,-999.000
   318MWESTW_5,  P21W,   281,  1,     19, SI9419,2,19940619,1640,-24.3500, 155.4972, 4085,   1303.9,   3.6294,  34.5355,2,  34.5355,2,    158.5,2,    159.1,2,    77.14,2,    33.98,2,     0.00,2,     2.37,2,    0.008,2,    0.006,2, -999.000,1,   1.8635,2,    16.10,2,   -999.0,1,   7.941,2,   -999.0,9,   -999.0,9,  -999.00,9,13029.6,  0.0093,   0.100,   0.040,  3.5314,-999.000
   318MWESTW_5,  P21W,   281,  1,     18, SI9439,2,19940619,1640,-24.3500, 155.4972, 4085,   1451.4,   3.2769,  34.5647,2,  34.5629,2,    151.5,2,    150.5,2,    87.99,2,    34.86,2,     0.00,2,     2.41,2,    0.001,2,    0.001,2, -999.000,1,-999.0000,1,  -999.00,9,   -999.0,1,-999.000,9,   -999.0,9,   -999.0,9,  -999.00,9,14496.2,-999.0000,-999.000,-999.000,  3.1700,-999.000
   318MWESTW_5,  P21W,   281,  1,     17, SI9417,2,19940619,1640,-24.3500, 155.4972, 4085,   1606.1,   2.8852,  34.5991,2,  34.5989,2,    147.8,2,    150.5,4,    97.83,2,    35.39,2,     0.00,2,     2.46,2,   -0.001,2,    0.001,2, -999.000,1,   1.8883,2,    19.41,2,   -999.0,1,   8.017,2,   -999.0,9,   -999.0,9,  -999.00,9,16034.6,  0.0094,   0.100,   0.040,  2.7698,-999.000
   318MWESTW_5,  P21W,   281,  1,     16, SI9416,2,19940619,1640,-24.3500, 155.4972, 4085,   1753.1,   2.5961,  34.6276,2,  34.6270,2,    151.6,2,    157.1,4,   101.16,2,    35.18,2,     0.00,2,     2.44,2,    0.002,2,    0.002,2, -999.000,1,-999.0000,1,  -999.00,9,   -999.0,1,-999.000,9,   -999.0,9,   -999.0,9,  -999.00,9,17495.9,-999.0000,-999.000,-999.000,  2.4719,-999.000
   318MWESTW_5,  P21W,   281,  1,     15, SI9415,2,19940619,1640,-24.3500, 155.4972, 4085,   1904.6,   2.3957,  34.6541,2,  34.6553,2,    159.5,2,    167.2,4,    98.71,2,    34.35,2,     0.01,2,     2.39,2, -999.000,9, -999.000,9, -999.000,1,   1.8907,2,    16.01,2,   -999.0,1,   8.099,2,   -999.0,9,   -999.0,9,  -999.00,9,19002.4,  0.0095,   0.090,   0.040,  2.2614,-999.000
   318MWESTW_5,  P21W,   281,  1,     13, SI9413,2,19940619,1640,-24.3500, 155.4972, 4085,   2104.8,   2.2069,  34.6832,2,  34.6820,2,    169.1,2,    169.5,2,    96.42,2,    33.37,2,     0.00,2,     2.31,2,    0.000,2,    0.001,2, -999.000,1,-999.0000,1,  -999.00,9,   -999.0,1,-999.000,9,   -999.0,9,   -999.0,9,  -999.00,9,20993.2,-999.0000,-999.000,-999.000,  2.0581,-999.000
   318MWESTW_5,  P21W,   281,  1,     14, SI9436,2,19940619,1640,-24.3500, 155.4972, 4085,   2104.9,   2.2074,  34.6834,2,  34.6820,2,    169.1,2,    168.9,2,    96.70,2,    33.41,2,     0.00,2,     2.32,2, -999.000,9, -999.000,9, -999.000,1,-999.0000,1,  -999.00,9,   -999.0,1,-999.000,9,   -999.0,9,   -999.0,9,  -999.00,9,20994.0,-999.0000,-999.000,-999.000,  2.0586,-999.000
   318MWESTW_5,  P21W,   281,  1,     12, SI9438,2,19940619,1640,-24.3500, 155.4972, 4085,   2104.9,   2.2063,  34.6834,2,  34.6830,2,    169.1,2,    169.5,2,    96.43,2,    33.38,2,     0.00,2,     2.32,2, -999.000,9, -999.000,9, -999.000,1,-999.0000,1,  -999.00,9,   -999.0,1,-999.000,9,   -999.0,9,   -999.0,9,  -999.00,9,20994.2,-999.0000,-999.000,-999.000,  2.0575,-999.000
   318MWESTW_5,  P21W,   281,  1,     11, SI9411,2,19940619,1640,-24.3500, 155.4972, 4085,   2306.7,   1.9767,  34.7100,2,  34.7107,2,    178.2,2,    184.6,4,    97.02,2,    32.60,2,     0.00,2,     2.24,2, -999.000,9, -999.000,9, -999.000,1,-999.0000,1,  -999.00,9,   -999.0,1,-999.000,9,   -999.0,9,   -999.0,9,  -999.00,9,22999.7,-999.0000,-999.000,-999.000,  1.8140,-999.000
   318MWESTW_5,  P21W,   281,  1,     10, SI9412,2,19940619,1640,-24.3500, 155.4972, 4085,   2507.5,   1.7989,  34.7214,2,  34.7205,2,    183.2,2,    184.0,2,   100.36,2,    32.34,2,     0.00,2,     2.22,2,    0.001,2,    0.002,2, -999.000,1,-999.0000,1,  -999.00,9,   -999.0,1,-999.000,9,   -999.0,9,   -999.0,9,  -999.00,9,24996.7,-999.0000,-999.000,-999.000,  1.6214,-999.000
   318MWESTW_5,  P21W,   281,  1,      9, SI9410,2,19940619,1640,-24.3500, 155.4972, 4085,   2709.8,   1.6184,  34.7263,2,  34.7250,2,    187.6,2,    188.4,2,   104.24,2,    32.30,2,     0.00,2,     2.22,2, -999.000,9, -999.000,9, -999.000,1,-999.0000,1,  -999.00,9,   -999.0,1,-999.000,9,   -999.0,9,   -999.0,9,  -999.00,9,27007.2,-999.0000,-999.000,-999.000,  1.4260,-999.000
   318MWESTW_5,  P21W,   281,  1,      8, SI9422,2,19940619,1640,-24.3500, 155.4972, 4085,   2911.2,   1.4655,  34.7245,2,  34.7243,2,    190.6,2,    190.9,2,   108.62,2,    32.35,2,     0.01,2,     2.24,2, -999.000,9, -999.000,9, -999.000,1,-999.0000,1,  -999.00,9,   -999.0,1,-999.000,9,   -999.0,9,   -999.0,9,  -999.00,9,29009.7,-999.0000,-999.000,-999.000,  1.2576,-999.000
   318MWESTW_5,  P21W,   281,  1,      7, SI9407,2,19940619,1640,-24.3500, 155.4972, 4085,   3112.9,   1.3437,  34.7226,2,  34.7235,2,    192.3,2,    193.0,2,   111.95,2,    32.41,2,     0.00,2,     2.25,2,    0.000,2,    0.002,2, -999.000,1,-999.0000,1,  -999.00,9,   -999.0,1,-999.000,9,   -999.0,9,   -999.0,9,  -999.00,9,31014.9,-999.0000,-999.000,-999.000,  1.1194,-999.000
   318MWESTW_5,  P21W,   281,  1,      6, SI9427,2,19940619,1640,-24.3500, 155.4972, 4085,   3313.6,   1.2193,  34.7201,2,  34.7197,2,    193.7,2,    194.8,2,   115.43,2,    32.46,2,     0.00,2,     2.25,2, -999.000,9, -999.000,9, -999.000,1,-999.0000,1,  -999.00,9,   -999.0,1,-999.000,9,   -999.0,9,   -999.0,9,  -999.00,9,33010.6,-999.0000,-999.000,-999.000,  0.9785,-999.000
   318MWESTW_5,  P21W,   281,  1,      5, SI9405,2,19940619,1640,-24.3500, 155.4972, 4085,   3516.2,   1.1775,  34.7186,2,  34.7193,2,    194.8,2,    196.2,2,   116.74,2,    32.47,2,     0.00,2,     2.25,2, -999.000,9, -999.000,9, -999.000,1,-999.0000,1,  -999.00,9,   -999.0,1,-999.000,9,   -999.0,9,   -999.0,9,  -999.00,9,35024.8,-999.0000,-999.000,-999.000,  0.9177,-999.000
   318MWESTW_5,  P21W,   281,  1,      4, SI9404,2,19940619,1640,-24.3500, 155.4972, 4085,   3718.2,   1.1647,  34.7180,2,  34.7180,2,    195.7,2,    201.0,4,   117.47,2,    32.57,2,     0.00,2,     2.24,2,    0.002,2,    0.002,2, -999.000,1,-999.0000,1,  -999.00,9,   -999.0,1,-999.000,9,   -999.0,9,   -999.0,9,  -999.00,9,37032.0,-999.0000,-999.000,-999.000,  0.8846,-999.000
   318MWESTW_5,  P21W,   281,  1,      3, SI9403,2,19940619,1640,-24.3500, 155.4972, 4085,   3921.6,   1.1418,  34.7171,2,  34.7170,2,    196.5,2,    199.2,4,   118.64,2,    32.66,2,     0.00,2,     2.25,2, -999.000,9, -999.000,9, -999.000,1,-999.0000,1,  -999.00,9,   -999.0,1,-999.000,9,   -999.0,9,   -999.0,9,  -999.00,9,39054.9,-999.0000,-999.000,-999.000,  0.8411,-999.000
   318MWESTW_5,  P21W,   281,  1,      2, SI9437,3,19940619,1640,-24.3500, 155.4972, 4085,   4063.4,   1.1417,  34.7162,2,  34.9262,4,    196.2,2,    182.3,4,    70.54,4,    26.67,4,     0.00,4,     1.84,4, -999.000,9, -999.000,9, -999.000,1,-999.0000,1,  -999.00,9,   -999.0,1,-999.000,9,   -999.0,9,   -999.0,9,  -999.00,9,40463.8,-999.0000,-999.000,-999.000,  0.8259,-999.000
   318MWESTW_5,  P21W,   281,  1,      1, SI9401,2,19940619,1640,-24.3500, 155.4972, 4085,   4123.4,   1.1388,  34.7162,2,  34.7170,2,    194.4,2,    222.8,4,   119.08,2,    32.75,2,     0.00,2,     2.25,2,    0.003,2,    0.005,2, -999.000,1,-999.0000,1,  -999.00,9,   -999.0,1,-999.000,9,   -999.0,9,   -999.0,9,  -999.00,9,41060.3,-999.0000,-999.000,-999.000,  0.8166,-999.000