BOTTLE,20010911WHPSIOdm
EXPOCODE,SECT_ID,STNNBR,CASTNO,SAMPNO,BTLNBR,BTLNBR_FLAG_W,DATE,TIME,LATITUDE,LONGITUDE,DEPTH,CTDPRS,CTDTMP,CTDSAL,CTDSAL_FLAG_W,SALNTY,SALNTY_FLAG_W,CTDOXY,CTDOXY_FLAG_W,OXYGEN,OXYGEN_FLAG_W,SILCAT,SILCAT_FLAG_W,NITRAT,NITRAT_FLAG_W,NITRIT,NITRIT_FLAG_W,PHSPHT,PHSPHT_FLAG_W,CFC-11,CFC-11_FLAG_W,CFC-12,CFC-12_FLAG_W,TRITUM,TRITUM_FLAG_W,HELIUM,HELIUM_FLAG_W,DELHE3,DELHE3_FLAG_W,DELC14,DELC14_FLAG_W,NEON,NEON_FLAG_W,TCARBN,TCARBN_FLAG_W,ALKALI,ALKALI_FLAG_W,PH,PH_FLAG_W,CTDRAW,HELIER,DELHER,NEONER,THETA,TRITER
,,,,,,,,,,,,DBAR,ITS-90,PSS-78,,PSS-78,,UMOL/KG,,UMOL/KG,,UMOL/KG,,UMOL/KG,,UMOL/KG,,UMOL/KG,,PMOL/KG,,PMOL/KG,,TU,,UMOL/KG,,PERCNT,,/MILLE,,NMOL/KG,,UMOL/KG,,UMOL/KG,,,,,NMOL/KG,PERCNT,NMOL/KG,ITS-90,TU
   318MWESTW_5,  P21W,   188,  1,     36, SI9442,2,19940528,1402,-17.4972,-165.0000, 5400,     28.7,  28.3523,  34.9245,2,  34.9260,2,    206.8,2,    204.6,2,     0.77,2,     0.00,2,     0.00,2,     0.17,2,    1.599,2,    0.895,2,    0.913,2,   1.6624,2,    -1.36,2,   -999.0,1,   6.608,2,   -999.0,9,   -999.0,9,  -999.00,9,  347.8,  0.0083,   0.080,   0.033, 28.3455,   0.008
   318MWESTW_5,  P21W,   188,  1,     35, SI9435,2,19940528,1402,-17.4972,-165.0000, 5400,    125.6,  24.7639,  36.0101,2,  36.0090,2,    191.5,2,    192.7,2,     0.62,2,    -0.01,2,     0.01,2,     0.24,2,    1.825,2,    0.997,2,    0.848,2,   1.6838,2,    -0.66,2,   -999.0,1,   6.783,2,   -999.0,9,   -999.0,9,  -999.00,9, 1311.8,  0.0084,   0.080,   0.034, 24.7367,   0.007
   318MWESTW_5,  P21W,   188,  1,     34, SI9441,2,19940528,1402,-17.4972,-165.0000, 5400,    166.2,  23.1570,  35.9424,2,  35.9398,2,    176.4,2,    185.2,2,     0.62,2,     0.78,2,     0.22,2,     0.32,2,    1.890,2,    1.012,2,    0.799,2,   1.7189,2,    -0.88,2,   -999.0,1,   6.976,2,   -999.0,9,   -999.0,9,  -999.00,9, 1716.5,  0.0086,   0.080,   0.035, 23.1227,   0.007
   318MWESTW_5,  P21W,   188,  1,     33, SI9433,2,19940528,1402,-17.4972,-165.0000, 5400,    207.8,  21.5603,  35.8961,2,  35.9034,2,    171.1,2,    174.2,2,     0.80,2,     3.39,2,     0.01,2,     0.46,2,    1.863,2,    0.985,2,    0.746,2,   1.7346,2,    -0.22,2,   -999.0,1,   7.041,2,   -999.0,9,   -999.0,9,  -999.00,9, 2131.0,  0.0087,   0.080,   0.035, 21.5196,   0.007
   318MWESTW_5,  P21W,   188,  1,     32, SI9432,2,19940528,1402,-17.4972,-165.0000, 5400,    251.6,  19.7804,  35.7258,2,  35.7258,2,    170.4,2,    170.1,2,     1.28,2,     4.87,2,     0.01,2,     0.56,2,    1.803,2,    0.959,2,    0.651,2,   1.7563,2,     0.36,2,   -999.0,1,   7.127,2,   -999.0,9,   -999.0,9,  -999.00,9, 2568.2,  0.0088,   0.080,   0.036, 19.7340,   0.007
   318MWESTW_5,  P21W,   188,  1,     31, SI9431,2,19940528,1402,-17.4972,-165.0000, 5400,    296.8,  17.6854,  35.4628,2,  35.4667,2,    163.1,2,    167.7,2,     2.40,2,     7.18,2,     0.01,2,     0.72,2,    1.652,2,    0.857,2,    0.574,2,   1.7776,2,     0.74,2,   -999.0,1,   7.238,2,   -999.0,9,   -999.0,9,  -999.00,9, 3017.6,  0.0089,   0.080,   0.036, 17.6348,   0.006
   318MWESTW_5,  P21W,   188,  1,     30, SI9440,2,19940528,1402,-17.4972,-165.0000, 5400,    389.8,  12.6869,  34.9170,2,  34.9130,2,    180.6,2,    174.2,2,     5.29,2,    13.94,2,     0.01,2,     1.12,2,    1.128,2,    0.579,2,    0.373,2,-999.0000,1,  -999.00,9,   -999.0,1,-999.000,9,   -999.0,9,   -999.0,9,  -999.00,9, 3943.1,-999.0000,-999.000,-999.000, 12.6338,   0.006
   318MWESTW_5,  P21W,   188,  1,     29, SI9429,2,19940528,1402,-17.4972,-165.0000, 5400,    495.9,   8.5085,  34.5240,2,  34.5156,2,    167.1,2,    168.1,2,    13.27,2,    24.14,2,     0.01,2,     1.77,2,    0.460,2,    0.242,2,    0.160,2,   1.8089,2,     2.12,2,   -999.0,1,   7.702,2,   -999.0,9,   -999.0,9,  -999.00,9, 4998.5,  0.0090,   0.080,   0.039,  8.4558,   0.005
   318MWESTW_5,  P21W,   188,  1,     28, SI9428,2,19940528,1402,-17.4972,-165.0000, 5400,    597.3,   6.4686,  34.4102,2,  34.4074,2,    174.3,2,    175.7,2,    21.41,2,    28.67,2,     0.00,2,     2.03,2,    0.172,6,    0.099,6,    0.052,2,   1.8321,2,     3.64,2,   -999.0,1,   7.853,2,   -999.0,9,   -999.0,9,  -999.00,9, 6006.6,  0.0092,   0.080,   0.039,  6.4140,   0.004
   318MWESTW_5,  P21W,   188,  1,     26, SI9414,2,19940528,1402,-17.4972,-165.0000, 5400,    700.6,   5.5050,  34.3997,2,  34.3959,2,    173.9,2,    171.8,2,    30.99,2,    31.08,2,     0.00,2,     2.17,2,    0.066,2,    0.035,2,    0.005,2,   1.8228,2,     6.03,2,   -999.0,1,   7.822,2,   -999.0,9,   -999.0,9,  -999.00,9, 7033.9,  0.0091,   0.090,   0.039,  5.4456,   0.004
   318MWESTW_5,  P21W,   188,  1,     25, SI9425,2,19940528,1402,-17.4972,-165.0000, 5400,    798.5,   4.8606,  34.4297,2,  34.4284,2,    161.8,2,    160.4,2,    44.07,2,    33.06,2,     0.00,2,     2.31,2,    0.012,2,    0.009,2,   -0.002,2,   1.9294,2,     9.01,2,   -999.0,1,   8.195,2,   -999.0,9,   -999.0,9,  -999.00,9, 8007.8,  0.0096,   0.090,   0.041,  4.7962,   0.004
   318MWESTW_5,  P21W,   188,  1,     24, SI9434,2,19940528,1402,-17.4972,-165.0000, 5400,    904.0,   4.2251,  34.4558,2,  34.4546,2,    158.1,2,    157.2,2,    56.04,2,    34.10,2,     0.00,2,     2.38,2,    0.003,2,    0.001,2,    0.001,2,   1.8487,2,    12.72,2,   -999.0,1,   7.925,2,   -999.0,9,   -999.0,9,  -999.00,9, 9056.1,  0.0092,   0.090,   0.040,  4.1559,   0.004
   318MWESTW_5,  P21W,   188,  1,     23, SI9423,2,19940528,1402,-17.4972,-165.0000, 5400,    996.9,   3.7777,  34.4958,2,  34.4932,2,    154.0,2,    151.8,2,    68.63,2,    34.89,2,     0.00,2,     2.44,2,    0.002,2,   -0.001,2,   -0.001,2,   1.8688,2,    16.78,2,   -999.0,1,   7.992,2,   -999.0,9,   -999.0,9,  -999.00,9, 9979.5,  0.0093,   0.100,   0.040,  3.7040,   0.004
   318MWESTW_5,  P21W,   188,  1,     22, SI9418,2,19940528,1402,-17.4972,-165.0000, 5400,   1198.4,   3.2068,  34.5424,2,  34.5398,2,    147.5,2,    148.4,2,    84.58,2,    35.56,2,     0.00,2,     2.51,2,   -0.002,2,   -0.001,2,    0.000,2,   1.8761,2,    21.07,2,   -999.0,1,   7.982,2,   -999.0,9,   -999.0,9,  -999.00,9,11983.5,  0.0094,   0.100,   0.040,  3.1216,   0.004
   318MWESTW_5,  P21W,   188,  1,     21, SI9421,2,19940528,1402,-17.4972,-165.0000, 5400,   1401.6,   2.8506,  34.5712,2,  34.5696,2,    146.5,2,    147.4,2,    94.62,2,    35.61,2,     0.00,2,     2.51,2, -999.000,9, -999.000,9, -999.000,1,   1.8890,2,    23.52,2,   -999.0,1,   8.021,2,   -999.0,9,   -999.0,9,  -999.00,9,14003.1,  0.0094,   0.100,   0.040,  2.7525,-999.000
   318MWESTW_5,  P21W,   188,  1,     20, SI9420,2,19940528,1402,-17.4972,-165.0000, 5400,   1602.3,   2.5682,  34.5979,2,  34.5975,2,    146.9,2,    148.8,2,   103.71,2,    35.75,2,     0.00,2,     2.51,2, -999.000,9, -999.000,9,    0.003,2,   1.8782,2,    26.77,2,   -999.0,1,   7.983,2,   -999.0,9,   -999.0,9,  -999.00,9,15998.5,  0.0094,   0.100,   0.040,  2.4570,   0.004
   318MWESTW_5,  P21W,   188,  1,     19, SI9419,2,19940528,1402,-17.4972,-165.0000, 5400,   1802.8,   2.3731,  34.6172,2,  34.6164,2,    146.7,2,    148.2,2,   110.25,2,    35.91,2,     0.00,2,     2.52,2, -999.000,9, -999.000,9, -999.000,1,-999.0000,1,  -999.00,9,   -999.0,1,-999.000,9,   -999.0,9,   -999.0,9,  -999.00,9,17992.3,-999.0000,-999.000,-999.000,  2.2478,-999.000
   318MWESTW_5,  P21W,   188,  1,     18, SI9439,2,19940528,1402,-17.4972,-165.0000, 5400,   2002.1,   2.2006,  34.6318,2,  34.6301,2,    148.5,2,    149.2,2,   115.19,2,    35.88,2,     0.00,2,     2.51,2, -999.000,9, -999.000,9, -999.000,1,-999.0000,1,  -999.00,9,   -999.0,1,-999.000,9,   -999.0,9,   -999.0,9,  -999.00,9,19973.7,-999.0000,-999.000,-999.000,  2.0609,-999.000
   318MWESTW_5,  P21W,   188,  1,     17, SI9417,2,19940528,1402,-17.4972,-165.0000, 5400,   2193.5,   2.0568,  34.6436,2,  34.6433,2,    150.2,2,    151.3,2,   118.87,2,    35.77,2,     0.00,2,     2.51,2, -999.000,9, -999.000,9, -999.000,1,-999.0000,1,  -999.00,9,   -999.0,1,-999.000,9,   -999.0,9,   -999.0,9,  -999.00,9,21876.7,-999.0000,-999.000,-999.000,  1.9029,-999.000
   318MWESTW_5,  P21W,   188,  1,     16, SI9416,2,19940528,1402,-17.4972,-165.0000, 5400,   2389.2,   1.9501,  34.6529,2,  34.6531,2,    152.1,2,    152.5,2,   122.53,2,    35.66,2,     0.00,2,     2.50,2,    0.000,2,    0.003,2, -999.000,1,-999.0000,1,  -999.00,9,   -999.0,1,-999.000,9,   -999.0,9,   -999.0,9,  -999.00,9,23822.4,-999.0000,-999.000,-999.000,  1.7807,-999.000
   318MWESTW_5,  P21W,   188,  1,     15, SI9415,2,19940528,1402,-17.4972,-165.0000, 5400,   2648.0,   1.8379,  34.6624,2,  34.6620,2,    153.4,2,    154.8,2,   125.72,2,    35.46,2,     0.00,2,     2.49,2, -999.000,9, -999.000,9, -999.000,1,-999.0000,1,  -999.00,9,   -999.0,1,-999.000,9,   -999.0,9,   -999.0,9,  -999.00,9,26395.2,-999.0000,-999.000,-999.000,  1.6471,-999.000
   318MWESTW_5,  P21W,   188,  1,     14, SI9436,2,19940528,1402,-17.4972,-165.0000, 5400,   2896.4,   1.7234,  34.6716,2,  34.6814,4,    157.4,2,    168.3,4,   126.68,3,    34.57,3,     0.00,3,     2.42,3, -999.000,9, -999.000,9, -999.000,1,-999.0000,1,  -999.00,9,   -999.0,1,-999.000,9,   -999.0,9,   -999.0,9,  -999.00,9,28864.7,-999.0000,-999.000,-999.000,  1.5116,-999.000
   318MWESTW_5,  P21W,   188,  1,     13, SI9413,2,19940528,1402,-17.4972,-165.0000, 5400,   3138.3,   1.6547,  34.6772,2,  34.6765,2,    160.7,2,    161.0,2,   129.39,2,    35.20,2,     0.00,2,     2.45,2, -999.000,9, -999.000,9, -999.000,1,-999.0000,1,  -999.00,9,   -999.0,1,-999.000,9,   -999.0,9,   -999.0,9,  -999.00,9,31269.3,-999.0000,-999.000,-999.000,  1.4211,-999.000
   318MWESTW_5,  P21W,   188,  1,     12, SI9438,2,19940528,1402,-17.4972,-165.0000, 5400,   3394.0,   1.5860,  34.6830,2,  34.6832,2,    165.2,2,    166.2,2,   128.44,2,    34.82,2,     0.02,2,     2.42,2, -999.000,9, -999.000,9, -999.000,1,-999.0000,1,  -999.00,9,   -999.0,1,-999.000,9,   -999.0,9,   -999.0,9,  -999.00,9,33811.1,-999.0000,-999.000,-999.000,  1.3285,-999.000
   318MWESTW_5,  P21W,   188,  1,     11, SI9411,2,19940528,1402,-17.4972,-165.0000, 5400,   3658.2,   1.4942,  34.6912,2,  34.6901,2,    171.9,2,    173.7,2,   126.69,2,    34.38,2,     0.02,2,     2.39,2,    0.002,2,    0.004,2, -999.000,1,-999.0000,1,  -999.00,9,   -999.0,1,-999.000,9,   -999.0,9,   -999.0,9,  -999.00,9,36438.1,-999.0000,-999.000,-999.000,  1.2118,-999.000
   318MWESTW_5,  P21W,   188,  1,     10, SI9412,2,19940528,1402,-17.4972,-165.0000, 5400,   3916.7,   1.3753,  34.7000,2,  34.6999,2,    183.3,2,    185.2,2,   122.71,2,    33.46,2,     0.00,2,     2.33,2, -999.000,9, -999.000,9, -999.000,1,-999.0000,1,  -999.00,9,   -999.0,1,-999.000,9,   -999.0,9,   -999.0,9,  -999.00,9,39008.4,-999.0000,-999.000,-999.000,  1.0688,-999.000
   318MWESTW_5,  P21W,   188,  1,      9, SI9410,2,19940528,1402,-17.4972,-165.0000, 5400,   4168.0,   1.2989,  34.7046,2,  34.7040,2,    190.7,2,    193.0,2,   120.33,2,    32.89,2,     0.00,2,     2.29,2, -999.000,9, -999.000,9, -999.000,1,-999.0000,1,  -999.00,9,   -999.0,1,-999.000,9,   -999.0,9,   -999.0,9,  -999.00,9,41506.8,-999.0000,-999.000,-999.000,  0.9673,-999.000
   318MWESTW_5,  P21W,   188,  1,      8, SI9422,2,19940528,1402,-17.4972,-165.0000, 5400,   4417.0,   1.1994,  34.7088,2,  34.7081,2,    198.7,2,    200.2,2,   119.21,2,    32.48,2,     0.01,2,     2.25,2, -999.000,9, -999.000,9, -999.000,1,-999.0000,1,  -999.00,9,   -999.0,1,-999.000,9,   -999.0,9,   -999.0,9,  -999.00,9,43982.2,-999.0000,-999.000,-999.000,  0.8430,-999.000
   318MWESTW_5,  P21W,   188,  1,      7, SI9407,2,19940528,1402,-17.4972,-165.0000, 5400,   4667.8,   1.1447,  34.7097,2,  34.7097,2,    202.9,2,    204.2,2,   118.73,2,    32.24,2,     0.01,2,     2.23,2,    0.001,2,    0.002,2, -999.000,1,-999.0000,1,  -999.00,9,   -999.0,1,-999.000,9,   -999.0,9,   -999.0,9,  -999.00,9,46474.9,-999.0000,-999.000,-999.000,  0.7614,-999.000
   318MWESTW_5,  P21W,   188,  1,      6, SI9427,2,19940528,1402,-17.4972,-165.0000, 5400,   4917.8,   1.1060,  34.7098,2,  34.7091,2,    206.8,2,    207.2,2,   119.06,2,    32.21,2,     0.02,2,     2.22,2,    0.001,2,    0.002,2, -999.000,1,-999.0000,1,  -999.00,9,   -999.0,1,-999.000,9,   -999.0,9,   -999.0,9,  -999.00,9,48960.3,-999.0000,-999.000,-999.000,  0.6948,-999.000
   318MWESTW_5,  P21W,   188,  1,      5, SI9405,2,19940528,1402,-17.4972,-165.0000, 5400,   5169.0,   1.1125,  34.7102,2,  34.7117,2,    208.8,2,    208.1,2,   119.22,2,    32.10,2,     0.02,2,     2.22,2,    0.004,2,    0.003,2, -999.000,1,-999.0000,1,  -999.00,9,   -999.0,1,-999.000,9,   -999.0,9,   -999.0,9,  -999.00,9,51458.4,-999.0000,-999.000,-999.000,  0.6709,-999.000
   318MWESTW_5,  P21W,   188,  1,      4, SI9404,2,19940528,1402,-17.4972,-165.0000, 5400,   5273.9,   1.1212,  34.7100,2,  34.7101,2,    209.5,2,    208.3,2,   119.39,2,    32.12,2,     0.01,2,     2.22,2,    0.002,2,    0.002,2, -999.000,1,-999.0000,1,  -999.00,9,   -999.0,1,-999.000,9,   -999.0,9,   -999.0,9,  -999.00,9,52500.7,-999.0000,-999.000,-999.000,  0.6664,-999.000
   318MWESTW_5,  P21W,   188,  1,      3, SI9403,2,19940528,1402,-17.4972,-165.0000, 5400,   5366.6,   1.1268,  34.7100,2,  34.7097,2,    210.1,2,    208.7,2,   119.71,2,    32.04,2,     0.01,2,     2.22,2,    0.002,2,    0.004,2, -999.000,1,-999.0000,1,  -999.00,9,   -999.0,1,-999.000,9,   -999.0,9,   -999.0,9,  -999.00,9,53421.9,-999.0000,-999.000,-999.000,  0.6604,-999.000
   318MWESTW_5,  P21W,   188,  1,      2, SI9437,2,19940528,1402,-17.4972,-165.0000, 5400,   5469.3,   1.1357,  34.7097,2,  34.7093,2,    209.5,2,    209.1,2,   119.56,2,    32.09,2,     0.01,2,     2.22,2,    0.001,2,    0.005,2, -999.000,1,-999.0000,1,  -999.00,9,   -999.0,1,-999.000,9,   -999.0,9,   -999.0,9,  -999.00,9,54443.6,-999.0000,-999.000,-999.000,  0.6561,-999.000
   318MWESTW_5,  P21W,   188,  1,      1, SI9401,2,19940528,1402,-17.4972,-165.0000, 5400,   5510.0,   1.1407,  34.7100,2,  34.7107,2,    209.2,2,    209.7,2,   119.57,2,    32.07,2,     0.00,2,     2.22,2,    0.001,2,    0.001,2, -999.000,1,-999.0000,1,  -999.00,9,   -999.0,1,-999.000,9,   -999.0,9,   -999.0,9,  -999.00,9,54847.6,-999.0000,-999.000,-999.000,  0.6558,-999.000