BOTTLE,20010911WHPSIOdm
EXPOCODE,SECT_ID,STNNBR,CASTNO,SAMPNO,BTLNBR,BTLNBR_FLAG_W,DATE,TIME,LATITUDE,LONGITUDE,DEPTH,CTDPRS,CTDTMP,CTDSAL,CTDSAL_FLAG_W,SALNTY,SALNTY_FLAG_W,CTDOXY,CTDOXY_FLAG_W,OXYGEN,OXYGEN_FLAG_W,SILCAT,SILCAT_FLAG_W,NITRAT,NITRAT_FLAG_W,NITRIT,NITRIT_FLAG_W,PHSPHT,PHSPHT_FLAG_W,CFC-11,CFC-11_FLAG_W,CFC-12,CFC-12_FLAG_W,TRITUM,TRITUM_FLAG_W,HELIUM,HELIUM_FLAG_W,DELHE3,DELHE3_FLAG_W,DELC14,DELC14_FLAG_W,NEON,NEON_FLAG_W,TCARBN,TCARBN_FLAG_W,ALKALI,ALKALI_FLAG_W,PH,PH_FLAG_W,CTDRAW,HELIER,DELHER,NEONER,THETA,TRITER
,,,,,,,,,,,,DBAR,ITS-90,PSS-78,,PSS-78,,UMOL/KG,,UMOL/KG,,UMOL/KG,,UMOL/KG,,UMOL/KG,,UMOL/KG,,PMOL/KG,,PMOL/KG,,TU,,UMOL/KG,,PERCNT,,/MILLE,,NMOL/KG,,UMOL/KG,,UMOL/KG,,,,,NMOL/KG,PERCNT,NMOL/KG,ITS-90,TU
   318MWESTW_4,  P21E,   124,  1,     24, SI9404,2,19940503,2357,-16.7500,-129.3333, 4059,      8.8,  27.8950,  36.4975,2,  36.4986,2,    200.6,2,    210.7,2,     0.94,2,     0.01,2,    -0.01,2,     0.21,2,    1.637,2,    0.932,2, -999.000,1,-999.0000,1,  -999.00,9,   -999.0,1,-999.000,9,   -999.0,9,   -999.0,9,  -999.00,9,  138.4,-999.0000,-999.000,-999.000, 27.8929,-999.000
   318MWESTW_4,  P21E,   124,  1,     23, SI9405,2,19940503,2357,-16.7500,-129.3333, 4059,     23.9,  27.8950,  36.4970,2,  36.4982,2,    197.1,2,    209.9,2,     0.82,2,     0.06,2,    -0.01,2,     0.20,2,    1.634,2,    0.927,2, -999.000,1,-999.0000,1,  -999.00,9,   -999.0,1,-999.000,9,   -999.0,9,   -999.0,9,  -999.00,9,  290.1,-999.0000,-999.000,-999.000, 27.8894,-999.000
   318MWESTW_4,  P21E,   124,  1,     22, SI9407,2,19940503,2357,-16.7500,-129.3333, 4059,     48.9,  27.7628,  36.5734,2,  36.5739,2,    200.2,2,    206.0,2,     0.85,2,     0.05,2,     0.00,2,     0.20,2,    1.624,2,    0.927,2, -999.000,1,-999.0000,1,  -999.00,9,   -999.0,1,-999.000,9,   -999.0,9,   -999.0,9,  -999.00,9,  539.2,-999.0000,-999.000,-999.000, 27.7513,-999.000
   318MWESTW_4,  P21E,   124,  1,     21, SI9408,2,19940503,2357,-16.7500,-129.3333, 4059,    100.2,  24.9329,  36.4902,2,  36.4905,2,    211.0,2,    213.0,2,     0.73,2,     0.08,2,     0.01,2,     0.21,2,    1.854,2,    1.032,2, -999.000,1,-999.0000,1,  -999.00,9,   -999.0,1,-999.000,9,   -999.0,9,   -999.0,9,  -999.00,9, 1050.1,-999.0000,-999.000,-999.000, 24.9111,-999.000
   318MWESTW_4,  P21E,   124,  1,     20, SI9409,2,19940503,2357,-16.7500,-129.3333, 4059,    149.8,  23.7305,  36.3713,2,  36.3703,2,    201.5,2,    209.6,2,     0.62,2,     0.12,2,     0.29,2,     0.23,2,    1.912,2,    1.069,2, -999.000,1,-999.0000,1,  -999.00,9,   -999.0,1,-999.000,9,   -999.0,9,   -999.0,9,  -999.00,9, 1544.4,-999.0000,-999.000,-999.000, 23.6990,-999.000
   318MWESTW_4,  P21E,   124,  1,     19, SI9411,2,19940503,2357,-16.7500,-129.3333, 4059,    199.5,  21.8503,  36.0847,2,  36.0865,2,    191.3,2,    192.8,2,     0.50,2,     1.11,2,     0.30,2,     0.35,2,    2.055,2,    1.153,2, -999.000,1,-999.0000,1,  -999.00,9,   -999.0,1,-999.000,9,   -999.0,9,   -999.0,9,  -999.00,9, 2039.5,-999.0000,-999.000,-999.000, 21.8108,-999.000
   318MWESTW_4,  P21E,   124,  1,     18, SI9413,2,19940503,2357,-16.7500,-129.3333, 4059,    250.6,  19.3649,  35.6745,2,  35.6532,2,    188.0,2,    185.9,2,     0.83,2,     3.24,2,     0.01,2,     0.47,2,    2.035,2,    1.074,2, -999.000,1,-999.0000,1,  -999.00,9,   -999.0,1,-999.000,9,   -999.0,9,   -999.0,9,  -999.00,9, 2548.7,-999.0000,-999.000,-999.000, 19.3194,-999.000
   318MWESTW_4,  P21E,   124,  1,     17, SI9415,2,19940503,2357,-16.7500,-129.3333, 4059,    299.5,  15.7100,  35.1189,2,  35.1248,2,    179.0,2,    176.3,2,     2.19,2,     7.41,2,     0.01,2,     0.75,2,    1.770,2,    0.922,2, -999.000,1,-999.0000,1,  -999.00,9,   -999.0,1,-999.000,9,   -999.0,9,   -999.0,9,  -999.00,9, 3034.9,-999.0000,-999.000,-999.000, 15.6630,-999.000
   318MWESTW_4,  P21E,   124,  1,     16, SI9416,2,19940503,2357,-16.7500,-129.3333, 4059,    402.0,  10.3046,  34.5597,2,  34.5506,2,     99.2,2,    102.8,2,    13.47,2,    24.10,2,     0.01,2,     1.99,2,    0.592,2,    0.296,2, -999.000,1,-999.0000,1,  -999.00,9,   -999.0,1,-999.000,9,   -999.0,9,   -999.0,9,  -999.00,9, 4054.5,-999.0000,-999.000,-999.000, 10.2568,-999.000
   318MWESTW_4,  P21E,   124,  1,     15, SI9417,2,19940503,2357,-16.7500,-129.3333, 4059,    496.8,   7.8316,  34.4910,2,  34.4862,2,     86.8,2,     85.8,2,    22.97,2,    33.45,2,     0.00,2,     2.44,2,    0.083,2,    0.035,2, -999.000,1,-999.0000,1,  -999.00,9,   -999.0,1,-999.000,9,   -999.0,9,   -999.0,9,  -999.00,9, 4997.3,-999.0000,-999.000,-999.000,  7.7813,-999.000
   318MWESTW_4,  P21E,   124,  1,     14, SI9419,2,19940503,2357,-16.7500,-129.3333, 4059,    598.8,   6.5500,  34.4610,2,  34.4587,2,    103.2,2,    103.3,2,    29.37,2,    35.59,2,     0.01,2,     2.47,2,    0.022,2,    0.010,2, -999.000,1,-999.0000,1,  -999.00,9,   -999.0,1,-999.000,9,   -999.0,9,   -999.0,9,  -999.00,9, 6011.1,-999.0000,-999.000,-999.000,  6.4948,-999.000
   318MWESTW_4,  P21E,   124,  1,     13, SI9420,2,19940503,2357,-16.7500,-129.3333, 4059,    700.9,   5.9301,  34.4690,2,  34.4673,2,     94.6,2,     95.2,2,    38.28,2,    37.70,2,     0.00,2,     2.62,2,    0.002,2,   -0.002,2, -999.000,1,-999.0000,1,  -999.00,9,   -999.0,1,-999.000,9,   -999.0,9,   -999.0,9,  -999.00,9, 7026.5,-999.0000,-999.000,-999.000,  5.8683,-999.000
   318MWESTW_4,  P21E,   124,  1,     12, SI9421,2,19940503,2357,-16.7500,-129.3333, 4059,    902.0,   4.9708,  34.5017,2,  34.5003,2,     83.9,2,     85.1,2,    58.73,2,    40.18,2,     0.00,2,     2.81,2,    0.001,2,   -0.001,2, -999.000,1,-999.0000,1,  -999.00,9,   -999.0,1,-999.000,9,   -999.0,9,   -999.0,9,  -999.00,9, 9026.6,-999.0000,-999.000,-999.000,  4.8965,-999.000
   318MWESTW_4,  P21E,   124,  1,     11, SI9423,2,19940503,2357,-16.7500,-129.3333, 4059,   1104.3,   4.1496,  34.5307,2,  34.5294,2,     85.2,2,     84.5,2,    77.84,2,    40.86,2,     0.00,2,     2.87,2,    0.001,2,   -0.003,2, -999.000,1,-999.0000,1,  -999.00,9,   -999.0,1,-999.000,9,   -999.0,9,   -999.0,9,  -999.00,9,11038.0,-999.0000,-999.000,-999.000,  4.0639,-999.000
   318MWESTW_4,  P21E,   124,  1,     10, SI9425,2,19940503,2357,-16.7500,-129.3333, 4059,   1411.8,   3.2542,  34.5723,2,  34.5720,2,    102.3,2,    100.3,2,    98.13,2,    39.75,2,     0.00,2,     2.81,2,   -0.003,2,   -0.004,2, -999.000,1,-999.0000,1,  -999.00,9,   -999.0,1,-999.000,9,   -999.0,9,   -999.0,9,  -999.00,9,14095.0,-999.0000,-999.000,-999.000,  3.1509,-999.000
   318MWESTW_4,  P21E,   124,  1,      9, SI9424,2,19940503,2357,-16.7500,-129.3333, 4059,   1703.4,   2.6517,  34.6041,2,  34.6034,2,    122.0,2,    122.2,2,   108.94,2,    38.05,2,     0.00,2,     2.67,2,    0.000,2,   -0.004,2, -999.000,1,-999.0000,1,  -999.00,9,   -999.0,1,-999.000,9,   -999.0,9,   -999.0,9,  -999.00,9,16993.6,-999.0000,-999.000,-999.000,  2.5310,-999.000
   318MWESTW_4,  P21E,   124,  1,      8, SI9428,2,19940503,2357,-16.7500,-129.3333, 4059,   2003.9,   2.1666,  34.6378,2,  34.6360,2,    140.0,2,    141.0,2,   116.21,2,    36.55,2,    -0.01,2,     2.55,2, -999.000,9, -999.000,9, -999.000,1,-999.0000,1,  -999.00,9,   -999.0,1,-999.000,9,   -999.0,9,   -999.0,9,  -999.00,9,19982.0,-999.0000,-999.000,-999.000,  2.0273,-999.000
   318MWESTW_4,  P21E,   124,  1,      7, SI9429,2,19940503,2357,-16.7500,-129.3333, 4059,   2301.4,   1.9454,  34.6581,2,  34.6580,2,    148.1,2,    148.8,2,   121.85,2,    35.89,2,     0.00,2,     2.48,2, -999.000,9, -999.000,9, -999.000,1,-999.0000,1,  -999.00,9,   -999.0,1,-999.000,9,   -999.0,9,   -999.0,9,  -999.00,9,22939.3,-999.0000,-999.000,-999.000,  1.7839,-999.000
   318MWESTW_4,  P21E,   124,  1,      6, SI9431,2,19940503,2357,-16.7500,-129.3333, 4059,   2602.1,   1.8263,  34.6689,2,  34.6675,2,    151.1,2,    152.2,2,   126.15,2,    35.76,2,    -0.01,2,     2.47,2, -999.000,9, -999.000,9, -999.000,1,-999.0000,1,  -999.00,9,   -999.0,1,-999.000,9,   -999.0,9,   -999.0,9,  -999.00,9,25928.6,-999.0000,-999.000,-999.000,  1.6399,-999.000
   318MWESTW_4,  P21E,   124,  1,      5, SI9432,2,19940503,2357,-16.7500,-129.3333, 4059,   2895.3,   1.7303,  34.6749,2,  34.6745,2,    156.4,2,    157.3,2,   127.35,2,    35.41,2,     0.01,2,     2.45,2, -999.000,9, -999.000,9, -999.000,1,-999.0000,1,  -999.00,9,   -999.0,1,-999.000,9,   -999.0,9,   -999.0,9,  -999.00,9,28843.8,-999.0000,-999.000,-999.000,  1.5185,-999.000
   318MWESTW_4,  P21E,   124,  1,      4, SI9433,2,19940503,2357,-16.7500,-129.3333, 4059,   3199.8,   1.6561,  34.6796,2,  34.6791,2,    161.1,2,    161.5,2,   128.25,2,    35.14,2,     0.01,2,     2.43,2, -999.000,9, -999.000,9, -999.000,1,-999.0000,1,  -999.00,9,   -999.0,1,-999.000,9,   -999.0,9,   -999.0,9,  -999.00,9,31871.1,-999.0000,-999.000,-999.000,  1.4164,-999.000
   318MWESTW_4,  P21E,   124,  1,      3, SI9435,2,19940503,2357,-16.7500,-129.3333, 4059,   3543.7,   1.5779,  34.6857,2,  34.6857,2,    163.8,2,    163.4,2,   130.63,2,    35.11,2,    -0.01,2,     2.43,2, -999.000,9, -999.000,9, -999.000,1,-999.0000,1,  -999.00,9,   -999.0,1,-999.000,9,   -999.0,9,   -999.0,9,  -999.00,9,35289.8,-999.0000,-999.000,-999.000,  1.3053,-999.000
   318MWESTW_4,  P21E,   124,  1,      2, SI9401,2,19940503,2357,-16.7500,-129.3333, 4059,   4074.4,   1.5689,  34.6896,2,  34.6895,2,    168.6,2,    167.6,2,   130.35,2,    34.83,2,    -0.01,2,     2.40,2, -999.000,9, -999.000,9, -999.000,1,-999.0000,1,  -999.00,9,   -999.0,1,-999.000,9,   -999.0,9,   -999.0,9,  -999.00,9,40564.9,-999.0000,-999.000,-999.000,  1.2399,-999.000
   318MWESTW_4,  P21E,   124,  1,      1, SI9403,2,19940503,2357,-16.7500,-129.3333, 4059,   4116.5,   1.5726,  34.6895,2,  34.6893,2,    168.4,2,    167.9,2,   130.62,2,    34.82,2,    -0.01,2,     2.40,2, -999.000,9, -999.000,9, -999.000,1,-999.0000,1,  -999.00,9,   -999.0,1,-999.000,9,   -999.0,9,   -999.0,9,  -999.00,9,40983.8,-999.0000,-999.000,-999.000,  1.2388,-999.000
   318MWESTW_4,  P21E,   125,  1,     24, SI9404,2,19940504,0623,-16.7500,-130.0000, 4096,     10.4,  27.8753,  36.4424,2,  36.4437,2,    195.7,2,    209.7,2,     0.43,2,     0.05,2,     0.01,2,     0.20,2,    1.662,2,    0.948,2,    0.873,2,   1.6869,2,    -1.20,2,   -999.0,1,   6.601,2,   2018.7,2,   2393.0,2,     8.12,2,  153.7,  0.0084,   0.080,   0.033, 27.8728,   0.008
   318MWESTW_4,  P21E,   125,  1,     23, SI9405,2,19940504,0623,-16.7500,-130.0000, 4096,     24.7,  27.8810,  36.4418,2,  36.4422,2,    202.1,2,    208.9,2,     0.30,2,     0.05,2,     0.01,2,     0.21,2,    1.625,2,    0.936,2,    0.864,2,   1.6836,2,    -1.18,2,   -999.0,1,   6.575,2,   2019.7,2,   2392.0,2,     8.12,2,  296.3,  0.0084,   0.080,   0.033, 27.8752,   0.007
   318MWESTW_4,  P21E,   125,  1,     22, SI9407,2,19940504,0623,-16.7500,-130.0000, 4096,     49.1,  27.8885,  36.4435,2,  36.4483,2,    197.3,2,    208.2,2,     0.47,2,     0.05,2,     0.01,2,     0.20,2,    1.626,2,    0.934,2,    0.865,2,   1.6833,2,    -1.02,2,   -999.0,1,   6.578,2,   2018.7,2,   2394.0,2,     8.11,2,  540.1,  0.0084,   0.080,   0.033, 27.8769,   0.007
   318MWESTW_4,  P21E,   125,  1,     21, SI9408,2,19940504,0623,-16.7500,-130.0000, 4096,    100.5,  25.6573,  36.4952,2,  36.4949,2,    215.8,2,    216.5,2,     0.20,2,     0.00,2,     0.00,2,     0.20,2,    1.851,2,    1.035,2,    0.797,2,   1.6962,2,    -1.26,2,   -999.0,1,   6.720,2,   2040.8,2,   2395.0,2,     8.09,2, 1053.0,  0.0085,   0.080,   0.034, 25.6350,   0.007
   318MWESTW_4,  P21E,   125,  1,     20, SI9409,2,19940504,0623,-16.7500,-130.0000, 4096,    151.6,  23.8279,  36.3831,2,  36.3849,2,    204.8,2,    208.0,2,     0.21,2,     0.01,2,     0.23,2,     0.23,2,    1.913,2,    1.064,2,    0.817,2,   1.7015,2,    -1.11,2,   -999.0,1,   6.778,2,   2053.8,2,   2389.0,2,     8.06,2, 1561.7,  0.0085,   0.080,   0.034, 23.7960,   0.007
   318MWESTW_4,  P21E,   125,  1,     19, SI9411,2,19940504,0623,-16.7500,-130.0000, 4096,    202.7,  21.7287,  36.1016,2,  36.1229,2,    184.6,2,    181.1,2,     0.37,2,     2.89,2,     0.04,2,     0.50,2,    2.013,2,    1.108,2,    0.618,2,   1.7122,2,    -0.94,2,   -999.0,1,   6.890,2,   2090.8,2,   2375.0,2,     7.99,2, 2070.7,  0.0086,   0.080,   0.034, 21.6887,   0.007
   318MWESTW_4,  P21E,   125,  1,     18, SI9413,2,19940504,0623,-16.7500,-130.0000, 4096,    252.1,  20.0352,  35.7926,2,  35.7918,2,    177.4,2,    179.5,2,     0.68,2,     3.85,2,     0.01,2,     0.56,2,    2.071,2,    1.124,2,    0.583,2,   1.7145,2,    -0.44,2,   -999.0,1,   6.952,2,   2091.8,2,   2353.0,2,     7.95,2, 2562.7,  0.0086,   0.080,   0.035, 19.9883,   0.006
   318MWESTW_4,  P21E,   125,  1,     17, SI9415,2,19940504,0623,-16.7500,-130.0000, 4096,    299.4,  17.7678,  35.4157,2,  35.4103,2,    172.3,2,    174.5,2,     1.28,2,     5.95,2,     0.00,2,     0.69,2,    1.970,2,    1.054,2,    0.554,2,   1.7304,2,    -0.05,2,   -999.0,1,   7.092,2,   2096.8,2,   2326.0,2,     7.91,2, 3034.3,  0.0087,   0.080,   0.035, 17.7166,   0.006
   318MWESTW_4,  P21E,   125,  1,     16, SI9416,2,19940504,0623,-16.7500,-130.0000, 4096,    400.4,  11.2322,  34.6177,2,  34.6168,2,    108.9,2,    118.1,2,    10.06,2,    20.00,2,     0.00,2,     1.73,2,    0.886,2,    0.439,2,    0.271,2,   1.8035,2,     1.53,2,   -999.0,1,   7.535,2,   2165.9,2,   2281.0,2,     7.66,2, 4038.5,  0.0090,   0.080,   0.038, 11.1819,   0.005
   318MWESTW_4,  P21E,   125,  1,     15, SI9417,2,19940504,0623,-16.7500,-130.0000, 4096,    501.4,   7.6213,  34.4715,2,  34.4705,2,     90.2,2,     90.6,2,    22.33,2,    33.52,2,     0.00,2,     2.43,2,    0.080,2,    0.047,2,    0.030,2,   1.7858,2,     2.60,2,   -999.0,1,   7.626,2,   2226.9,2,   2283.0,2,     7.50,2, 5043.1,  0.0089,   0.080,   0.038,  7.5714,   0.004
   318MWESTW_4,  P21E,   125,  1,     14, SI9419,2,19940504,0623,-16.7500,-130.0000, 4096,    596.2,   6.4872,  34.4637,2,  34.4634,2,     98.2,2,     98.2,2,    30.36,2,    36.02,2,     0.01,2,     2.53,2,    0.016,2,    0.012,2,    0.003,2,   1.8016,2,     4.56,2,   -999.0,1,   7.781,2,   2233.9,2,   2292.0,2,     7.50,2, 5985.4,  0.0090,   0.090,   0.039,  6.4325,   0.003
   318MWESTW_4,  P21E,   125,  1,     13, SI9420,2,19940504,0623,-16.7500,-130.0000, 4096,    699.6,   5.7817,  34.4856,2,  34.4852,2,     86.0,2,     84.1,2,    43.21,2,    38.90,2,     0.01,2,     2.73,2,    0.000,2,    0.004,2,   -0.003,2,   1.8008,2,     8.19,2,   -999.0,1,   7.747,2,   2256.9,2,   2306.0,2,     7.47,2, 7013.7,  0.0090,   0.090,   0.039,  5.7208,   0.003
   318MWESTW_4,  P21E,   125,  1,     12, SI9421,2,19940504,0623,-16.7500,-130.0000, 4096,    848.6,   5.0012,  34.4983,2,  34.4979,2,     84.1,2,     82.8,2,    57.80,2,    40.38,2,     0.01,2,     2.83,2,    0.001,2,    0.002,2,   -0.008,2,   1.8311,2,    12.27,2,   -999.0,1,   7.821,2,   2275.0,2,   2320.0,2,     7.46,2, 8495.2,  0.0092,   0.090,   0.039,  4.9314,   0.003
   318MWESTW_4,  P21E,   125,  1,     11, SI9423,2,19940504,0623,-16.7500,-130.0000, 4096,   1101.6,   4.0598,  34.5331,2,  34.5345,2,     86.7,2,     85.8,2,    79.39,2,    40.74,2,     0.01,2,     2.89,2,    0.002,2,    0.004,2,   -0.003,2,   1.8872,2,    17.09,2,   -999.0,1,   8.009,2,   2298.0,2,   2347.0,2,     7.46,2,11011.3,  0.0094,   0.100,   0.040,  3.9751,   0.003
   318MWESTW_4,  P21E,   125,  1,     10, SI9425,2,19940504,0623,-16.7500,-130.0000, 4096,   1402.7,   3.2763,  34.5717,2,  34.5722,2,     97.0,2,     97.0,2,    98.36,2,    40.05,2,     0.00,2,     2.83,2,   -0.001,2,    0.000,2,    0.005,2,   1.8860,2,    21.75,2,   -999.0,1,   7.985,2,   2313.0,2,   2364.0,2,     7.48,2,14004.0,  0.0094,   0.100,   0.040,  3.1735,   0.004
   318MWESTW_4,  P21E,   125,  1,      9, SI9424,2,19940504,0623,-16.7500,-130.0000, 4096,   1701.6,   2.6325,  34.6053,2,  34.6050,2,    122.1,2,    122.9,2,   109.01,2,    37.90,2,     0.01,2,     2.67,2,    0.000,2,    0.002,2,   -0.002,2,   1.8995,2,    25.67,2,   -999.0,1,   8.034,2,   2312.0,2,   2380.0,2,     7.52,2,16976.6,  0.0095,   0.100,   0.040,  2.5122,   0.003
   318MWESTW_4,  P21E,   125,  1,      8, SI9428,2,19940504,0623,-16.7500,-130.0000, 4096,   2001.3,   2.1600,  34.6388,2,  34.6380,2,    140.2,2,    141.2,2,   116.01,2,    36.42,2,     0.00,2,     2.55,2, -999.000,9, -999.000,9, -999.000,1,-999.0000,1,  -999.00,9,   -999.0,1,-999.000,9,   2308.0,2,   2386.0,2,     7.55,2,19955.2,-999.0000,-999.000,-999.000,  2.0210,-999.000
   318MWESTW_4,  P21E,   125,  1,      7, SI9429,2,19940504,0623,-16.7500,-130.0000, 4096,   2300.7,   1.9425,  34.6581,2,  34.6580,2,    147.3,2,    148.8,2,   121.27,2,    35.80,2,     0.00,2,     2.49,2, -999.000,9, -999.000,9, -999.000,1,-999.0000,1,  -999.00,9,   -999.0,1,-999.000,9,   2311.0,2,   2398.0,2,     7.56,2,22932.5,-999.0000,-999.000,-999.000,  1.7811,-999.000
   318MWESTW_4,  P21E,   125,  1,      6, SI9431,2,19940504,0623,-16.7500,-130.0000, 4096,   2649.2,   1.7974,  34.6703,2,  34.6716,2,    152.0,2,    153.3,2,   126.09,2,    35.62,2,     0.00,2,     2.47,2, -999.000,9, -999.000,9, -999.000,1,-999.0000,1,  -999.00,9,   -999.0,1,-999.000,9,   -999.0,9,   -999.0,9,  -999.00,9,26397.2,-999.0000,-999.000,-999.000,  1.6073,-999.000
   318MWESTW_4,  P21E,   125,  1,      5, SI9432,2,19940504,0623,-16.7500,-130.0000, 4096,   2997.4,   1.6858,  34.6771,2,  34.6781,2,    159.1,2,    159.5,2,   126.98,2,    35.23,2,     0.01,2,     2.44,2, -999.000,9, -999.000,9, -999.000,1,-999.0000,1,  -999.00,9,   -999.0,1,-999.000,9,   2310.0,2,   2402.0,2,     7.58,2,29858.5,-999.0000,-999.000,-999.000,  1.4652,-999.000
   318MWESTW_4,  P21E,   125,  1,      4, SI9433,2,19940504,0623,-16.7500,-130.0000, 4096,   3395.0,   1.5984,  34.6840,2,  34.6844,2,    162.6,2,    162.1,2,   130.48,2,    35.10,2,     0.00,2,     2.43,2, -999.000,9, -999.000,9, -999.000,1,-999.0000,1,  -999.00,9,   -999.0,1,-999.000,9,   2304.0,3,   2406.0,2,     7.58,2,33811.4,-999.0000,-999.000,-999.000,  1.3405,-999.000
   318MWESTW_4,  P21E,   125,  1,      3, SI9435,2,19940504,0623,-16.7500,-130.0000, 4096,   3799.9,   1.5633,  34.6878,2,  34.6895,2,    166.7,2,    165.8,2,   130.78,2,    34.85,2,     0.00,2,     2.41,2, -999.000,9, -999.000,9, -999.000,1,-999.0000,1,  -999.00,9,   -999.0,1,-999.000,9,   2310.0,2,   2410.0,2,     7.59,2,37837.0,-999.0000,-999.000,-999.000,  1.2642,-999.000
   318MWESTW_4,  P21E,   125,  1,      2, SI9401,2,19940504,0623,-16.7500,-130.0000, 4096,   4064.5,   1.5699,  34.6888,2,  34.6885,2,    168.5,2,    167.0,2,   130.05,2,    34.76,2,     0.00,2,     2.40,2, -999.000,9, -999.000,9, -999.000,1,-999.0000,1,  -999.00,9,   -999.0,1,-999.000,9,   2309.0,2,   2404.0,2,     7.60,2,40466.7,-999.0000,-999.000,-999.000,  1.2419,-999.000
   318MWESTW_4,  P21E,   125,  1,      1, SI9403,2,19940504,0623,-16.7500,-130.0000, 4096,   4156.7,   1.5759,  34.6893,2,  34.6891,2,    167.7,2,    167.8,2,   130.14,2,    34.72,2,    -0.01,2,     2.40,2, -999.000,9, -999.000,9, -999.000,1,-999.0000,1,  -999.00,9,   -999.0,1,-999.000,9,   2309.0,2,   2406.0,2,     7.59,2,41383.5,-999.0000,-999.000,-999.000,  1.2375,-999.000