BOTTLE,20010911WHPSIOdm
EXPOCODE,SECT_ID,STNNBR,CASTNO,SAMPNO,BTLNBR,BTLNBR_FLAG_W,DATE,TIME,LATITUDE,LONGITUDE,DEPTH,CTDPRS,CTDTMP,CTDSAL,CTDSAL_FLAG_W,SALNTY,SALNTY_FLAG_W,CTDOXY,CTDOXY_FLAG_W,OXYGEN,OXYGEN_FLAG_W,SILCAT,SILCAT_FLAG_W,NITRAT,NITRAT_FLAG_W,NITRIT,NITRIT_FLAG_W,PHSPHT,PHSPHT_FLAG_W,CFC-11,CFC-11_FLAG_W,CFC-12,CFC-12_FLAG_W,TRITUM,TRITUM_FLAG_W,HELIUM,HELIUM_FLAG_W,DELHE3,DELHE3_FLAG_W,DELC14,DELC14_FLAG_W,NEON,NEON_FLAG_W,TCARBN,TCARBN_FLAG_W,ALKALI,ALKALI_FLAG_W,PH,PH_FLAG_W,CTDRAW,HELIER,DELHER,NEONER,THETA,TRITER
,,,,,,,,,,,,DBAR,ITS-90,PSS-78,,PSS-78,,UMOL/KG,,UMOL/KG,,UMOL/KG,,UMOL/KG,,UMOL/KG,,UMOL/KG,,PMOL/KG,,PMOL/KG,,TU,,UMOL/KG,,PERCNT,,/MILLE,,NMOL/KG,,UMOL/KG,,UMOL/KG,,,,,NMOL/KG,PERCNT,NMOL/KG,ITS-90,TU
   318MWESTW_5,  P21W,   275,  1,     28, SI9428,2,19940618,0848,-23.3167, 158.1167, 2450,      6.0,  22.6620,  35.7859,2,  35.7864,2,    215.6,2,    213.8,2,     0.38,2,     0.00,2,     0.00,2,     0.10,2,    1.915,2,    1.071,2, -999.000,1,-999.0000,1,  -999.00,9,   -999.0,1,-999.000,9,   -999.0,9,   -999.0,9,  -999.00,9,  118.1,-999.0000,-999.000,-999.000, 22.6608,-999.000
   318MWESTW_5,  P21W,   275,  1,     27, SI9424,2,19940618,0848,-23.3167, 158.1167, 2450,     24.2,  22.6670,  35.7861,2,  35.7861,2,    221.4,2,    214.6,2,     0.38,2,     0.00,2,     0.00,2,     0.08,2,    1.924,2,    1.067,2, -999.000,1,-999.0000,1,  -999.00,9,   -999.0,1,-999.000,9,   -999.0,9,   -999.0,9,  -999.00,9,  300.4,-999.0000,-999.000,-999.000, 22.6621,-999.000
   318MWESTW_5,  P21W,   275,  1,     26, SI9414,2,19940618,0848,-23.3167, 158.1167, 2450,     50.3,  22.6415,  35.7920,2,  35.7920,2,    215.1,2,    214.5,2,     0.38,2,    -0.02,2,     0.02,2,     0.10,2, -999.000,9, -999.000,9, -999.000,1,-999.0000,1,  -999.00,9,   -999.0,1,-999.000,9,   -999.0,9,   -999.0,9,  -999.00,9,  560.6,-999.0000,-999.000,-999.000, 22.6313,-999.000
   318MWESTW_5,  P21W,   275,  1,     25, SI9425,2,19940618,0848,-23.3167, 158.1167, 2450,    100.6,  22.6300,  35.8017,2,  35.8001,2,    211.7,2,    205.2,2,     0.39,2,     0.06,2,     0.02,2,     0.11,2,    1.914,6,    1.068,6, -999.000,1,-999.0000,1,  -999.00,9,   -999.0,1,-999.000,9,   -999.0,9,   -999.0,9,  -999.00,9, 1060.5,-999.0000,-999.000,-999.000, 22.6096,-999.000
   318MWESTW_5,  P21W,   275,  1,     24, SI9434,2,19940618,0848,-23.3167, 158.1167, 2450,    145.2,  20.9429,  35.7349,2,  35.7349,2,    189.6,2,    192.9,2,     0.67,2,     2.55,2,     0.03,2,     0.30,2,    2.029,2,    1.097,2, -999.000,1,-999.0000,1,  -999.00,9,   -999.0,1,-999.000,9,   -999.0,9,   -999.0,9,  -999.00,9, 1505.1,-999.0000,-999.000,-999.000, 20.9151,-999.000
   318MWESTW_5,  P21W,   275,  1,     23, SI9423,2,19940618,0848,-23.3167, 158.1167, 2450,    197.3,  19.9212,  35.6950,2,  35.6940,2,    183.4,2,    187.3,2,     0.97,2,     3.84,2,     0.02,2,     0.39,2,    1.905,2,    1.067,2, -999.000,1,-999.0000,1,  -999.00,9,   -999.0,1,-999.000,9,   -999.0,9,   -999.0,9,  -999.00,9, 2023.1,-999.0000,-999.000,-999.000, 19.8847,-999.000
   318MWESTW_5,  P21W,   275,  1,     22, SI9418,2,19940618,0848,-23.3167, 158.1167, 2450,    247.0,  18.6264,  35.5850,2,  35.5831,2,    177.8,2,    177.5,2,     1.69,2,     6.02,2,     0.02,2,     0.54,2,    1.880,2,    1.005,2, -999.000,1,-999.0000,1,  -999.00,9,   -999.0,1,-999.000,9,   -999.0,9,   -999.0,9,  -999.00,9, 2518.0,-999.0000,-999.000,-999.000, 18.5827,-999.000
   318MWESTW_5,  P21W,   275,  1,     21, SI9421,2,19940618,0848,-23.3167, 158.1167, 2450,    299.5,  17.1734,  35.4621,2,  35.4805,2,    172.9,2,    175.3,2,     2.41,2,     7.68,2,     0.00,2,     0.64,2,    1.796,2,    0.943,2, -999.000,1,-999.0000,1,  -999.00,9,   -999.0,1,-999.000,9,   -999.0,9,   -999.0,9,  -999.00,9, 3040.7,-999.0000,-999.000,-999.000, 17.1233,-999.000
   318MWESTW_5,  P21W,   275,  1,     20, SI9420,2,19940618,0848,-23.3167, 158.1167, 2450,    348.4,  15.4451,  35.3440,2,  35.3407,2,    182.3,2,    179.3,2,     3.13,2,     9.66,2,     0.00,2,     0.76,2,    1.748,2,    0.908,2, -999.000,1,-999.0000,1,  -999.00,9,   -999.0,1,-999.000,9,   -999.0,9,   -999.0,9,  -999.00,9, 3528.3,-999.0000,-999.000,-999.000, 15.3909,-999.000
   318MWESTW_5,  P21W,   275,  1,     19, SI9419,2,19940618,0848,-23.3167, 158.1167, 2450,    400.5,  14.3862,  35.2534,2,  35.2528,2,    183.8,2,    182.1,2,     3.70,2,    11.02,2,     0.00,2,     0.84,2,    1.703,2,    0.887,2, -999.000,1,-999.0000,1,  -999.00,9,   -999.0,1,-999.000,9,   -999.0,9,   -999.0,9,  -999.00,9, 4046.3,-999.0000,-999.000,-999.000, 14.3267,-999.000
   318MWESTW_5,  P21W,   275,  1,     18, SI9439,2,19940618,0848,-23.3167, 158.1167, 2450,    497.2,  11.7144,  34.9730,2,  34.9699,2,    188.0,2,    184.3,2,     6.01,2,    15.67,2,     0.00,2,     1.13,2,    1.321,2,    0.702,2, -999.000,1,-999.0000,1,  -999.00,9,   -999.0,1,-999.000,9,   -999.0,9,   -999.0,9,  -999.00,9, 5008.3,-999.0000,-999.000,-999.000, 11.6498,-999.000
   318MWESTW_5,  P21W,   275,  1,     17, SI9417,2,19940618,0848,-23.3167, 158.1167, 2450,    599.3,   9.2587,  34.6911,2,  34.6891,2,    191.5,2,    189.5,2,     9.74,2,    20.41,2,     0.00,2,     1.44,2,    0.893,2,    0.464,2, -999.000,1,-999.0000,1,  -999.00,9,   -999.0,1,-999.000,9,   -999.0,9,   -999.0,9,  -999.00,9, 6023.4,-999.0000,-999.000,-999.000,  9.1912,-999.000
   318MWESTW_5,  P21W,   275,  1,     16, SI9416,2,19940618,0848,-23.3167, 158.1167, 2450,    701.3,   7.5588,  34.5284,2,  34.5278,2,    197.2,2,    195.4,2,    14.77,2,    23.95,2,     0.00,2,     1.66,2,    0.528,2,    0.279,2, -999.000,1,-999.0000,1,  -999.00,9,   -999.0,1,-999.000,9,   -999.0,9,   -999.0,9,  -999.00,9, 7037.8,-999.0000,-999.000,-999.000,  7.4883,-999.000
   318MWESTW_5,  P21W,   275,  1,     15, SI9415,2,19940618,0848,-23.3167, 158.1167, 2450,    797.5,   6.3251,  34.4475,2,  34.4475,2,    196.3,2,    193.9,2,    22.68,2,    26.86,2,     0.02,2,     1.87,2,    0.258,2,    0.145,2, -999.000,1,-999.0000,1,  -999.00,9,   -999.0,1,-999.000,9,   -999.0,9,   -999.0,9,  -999.00,9, 7994.7,-999.0000,-999.000,-999.000,  6.2519,-999.000
   318MWESTW_5,  P21W,   275,  1,     14, SI9436,2,19940618,0848,-23.3167, 158.1167, 2450,    900.0,   5.4984,  34.4550,2,  34.4565,2,    185.2,2,    183.9,2,    35.60,2,    29.09,2,     0.02,2,     2.02,2,    0.139,2,    0.081,2, -999.000,1,-999.0000,1,  -999.00,9,   -999.0,1,-999.000,9,   -999.0,9,   -999.0,9,  -999.00,9, 9013.7,-999.0000,-999.000,-999.000,  5.4207,-999.000
   318MWESTW_5,  P21W,   275,  1,     13, SI9413,2,19940618,0848,-23.3167, 158.1167, 2450,   1003.8,   4.7507,  34.4706,2,  34.4714,2,    175.8,2,    175.9,2,    48.67,2,    30.81,2,     0.00,2,     2.14,2,    0.066,2,    0.037,2, -999.000,1,-999.0000,1,  -999.00,9,   -999.0,1,-999.000,9,   -999.0,9,   -999.0,9,  -999.00,9,10046.3,-999.0000,-999.000,-999.000,  4.6690,-999.000
   318MWESTW_5,  P21W,   275,  1,     12, SI9438,2,19940618,0848,-23.3167, 158.1167, 2450,   1099.9,   4.2464,  34.4951,2,  34.4968,2,    168.2,2,    168.2,2,    60.31,2,    32.09,2,     0.00,2,     2.22,2,    0.030,2,    0.015,2, -999.000,1,-999.0000,1,  -999.00,9,   -999.0,1,-999.000,9,   -999.0,9,   -999.0,9,  -999.00,9,11001.4,-999.0000,-999.000,-999.000,  4.1603,-999.000
   318MWESTW_5,  P21W,   275,  1,     11, SI9411,2,19940618,0848,-23.3167, 158.1167, 2450,   1203.6,   3.7953,  34.5215,2,  34.5227,2,    160.6,2,    159.7,2,    72.08,2,    33.42,2,     0.00,2,     2.32,2, -999.000,9, -999.000,9, -999.000,1,-999.0000,1,  -999.00,9,   -999.0,1,-999.000,9,   -999.0,9,   -999.0,9,  -999.00,9,12032.7,-999.0000,-999.000,-999.000,  3.7043,-999.000
   318MWESTW_5,  P21W,   275,  1,     10, SI9412,2,19940618,0848,-23.3167, 158.1167, 2450,   1294.9,   3.5481,  34.5399,2,  34.5398,2,    156.4,2,    155.0,2,    79.12,2,    33.97,2,     0.00,2,     2.37,2,    0.004,2,    0.002,2, -999.000,1,-999.0000,1,  -999.00,9,   -999.0,1,-999.000,9,   -999.0,9,   -999.0,9,  -999.00,9,12940.4,-999.0000,-999.000,-999.000,  3.4517,-999.000
   318MWESTW_5,  P21W,   275,  1,      9, SI9410,2,19940618,0848,-23.3167, 158.1167, 2450,   1398.2,   3.2431,  34.5649,2,  34.5659,2,    152.0,2,    150.3,2,    87.89,2,    34.60,2,     0.00,2,     2.41,2, -999.000,9, -999.000,9, -999.000,1,-999.0000,1,  -999.00,9,   -999.0,1,-999.000,9,   -999.0,9,   -999.0,9,  -999.00,9,13966.8,-999.0000,-999.000,-999.000,  3.1411,-999.000
   318MWESTW_5,  P21W,   275,  1,      8, SI9422,2,19940618,0848,-23.3167, 158.1167, 2450,   1550.3,   2.9574,  34.5888,2,  34.5932,2,    147.3,2,    146.1,2,    96.36,2,    35.09,2,     0.02,2,     2.45,2,    0.000,2,   -0.001,2, -999.000,1,-999.0000,1,  -999.00,9,   -999.0,1,-999.000,9,   -999.0,9,   -999.0,9,  -999.00,9,15479.6,-999.0000,-999.000,-999.000,  2.8458,-999.000
   318MWESTW_5,  P21W,   275,  1,      7, SI9407,2,19940618,0848,-23.3167, 158.1167, 2450,   1690.7,   2.6966,  34.6145,2,  34.6156,2,    148.6,2,    148.2,2,   100.82,2,    34.97,2,     0.02,2,     2.45,2, -999.000,9, -999.000,9, -999.000,1,-999.0000,1,  -999.00,9,   -999.0,1,-999.000,9,   -999.0,9,   -999.0,9,  -999.00,9,16875.4,-999.0000,-999.000,-999.000,  2.5764,-999.000
   318MWESTW_5,  P21W,   275,  1,      6, SI9427,2,19940618,0848,-23.3167, 158.1167, 2450,   1849.9,   2.5165,  34.6336,2,  34.6350,2,    151.8,2,    151.9,2,   102.40,2,    34.81,2,     0.00,2,     2.42,2,   -0.003,2,   -0.001,2, -999.000,1,-999.0000,1,  -999.00,9,   -999.0,1,-999.000,9,   -999.0,9,   -999.0,9,  -999.00,9,18458.1,-999.0000,-999.000,-999.000,  2.3852,-999.000
   318MWESTW_5,  P21W,   275,  1,      5, SI9405,2,19940618,0848,-23.3167, 158.1167, 2450,   2000.8,   2.3998,  34.6480,2,  34.6504,2,    155.5,2,    155.0,2,   102.11,2,    34.45,2,     0.00,2,     2.39,2, -999.000,9, -999.000,9, -999.000,1,-999.0000,1,  -999.00,9,   -999.0,1,-999.000,9,   -999.0,9,   -999.0,9,  -999.00,9,19957.8,-999.0000,-999.000,-999.000,  2.2572,-999.000
   318MWESTW_5,  P21W,   275,  1,      4, SI9404,2,19940618,0848,-23.3167, 158.1167, 2450,   2148.0,   2.2986,  34.6631,2,  34.6641,2,    160.9,2,    160.2,2,   100.53,2,    33.97,2,     0.00,2,     2.35,2, -999.000,9, -999.000,9, -999.000,1,-999.0000,1,  -999.00,9,   -999.0,1,-999.000,9,   -999.0,9,   -999.0,9,  -999.00,9,21420.8,-999.0000,-999.000,-999.000,  2.1446,-999.000
   318MWESTW_5,  P21W,   275,  1,      3, SI9403,2,19940618,0848,-23.3167, 158.1167, 2450,   2293.4,   2.2022,  34.6786,2,  34.6804,2,    167.2,2,    167.1,2,    98.09,2,    33.53,2,     0.00,2,     2.32,2, -999.000,9, -999.000,9, -999.000,1,-999.0000,1,  -999.00,9,   -999.0,1,-999.000,9,   -999.0,9,   -999.0,9,  -999.00,9,22866.0,-999.0000,-999.000,-999.000,  2.0369,-999.000
   318MWESTW_5,  P21W,   275,  1,      2, SI9437,2,19940618,0848,-23.3167, 158.1167, 2450,   2417.9,   2.0651,  34.6962,2,  34.6969,2,    172.8,2,    174.3,2,    97.10,2,    32.92,2,     0.00,2,     2.26,2, -999.000,9, -999.000,9, -999.000,1,-999.0000,1,  -999.00,9,   -999.0,1,-999.000,9,   -999.0,9,   -999.0,9,  -999.00,9,24103.4,-999.0000,-999.000,-999.000,  1.8909,-999.000
   318MWESTW_5,  P21W,   275,  1,      1, SI9401,2,19940618,0848,-23.3167, 158.1167, 2450,   2452.6,   2.0060,  34.7014,2,  34.7030,2,    175.2,2,    176.5,2,    97.73,2,    32.65,2,     0.01,2,     2.26,2,   -0.001,2,   -0.002,2, -999.000,1,-999.0000,1,  -999.00,9,   -999.0,1,-999.000,9,   -999.0,9,   -999.0,9,  -999.00,9,24448.3,-999.0000,-999.000,-999.000,  1.8297,-999.000