BOTTLE,20010911WHPSIOdm
EXPOCODE,SECT_ID,STNNBR,CASTNO,SAMPNO,BTLNBR,BTLNBR_FLAG_W,DATE,TIME,LATITUDE,LONGITUDE,DEPTH,CTDPRS,CTDTMP,CTDSAL,CTDSAL_FLAG_W,SALNTY,SALNTY_FLAG_W,CTDOXY,CTDOXY_FLAG_W,OXYGEN,OXYGEN_FLAG_W,SILCAT,SILCAT_FLAG_W,NITRAT,NITRAT_FLAG_W,NITRIT,NITRIT_FLAG_W,PHSPHT,PHSPHT_FLAG_W,CFC-11,CFC-11_FLAG_W,CFC-12,CFC-12_FLAG_W,TRITUM,TRITUM_FLAG_W,HELIUM,HELIUM_FLAG_W,DELHE3,DELHE3_FLAG_W,DELC14,DELC14_FLAG_W,NEON,NEON_FLAG_W,TCARBN,TCARBN_FLAG_W,ALKALI,ALKALI_FLAG_W,PH,PH_FLAG_W,CTDRAW,HELIER,DELHER,NEONER,THETA,TRITER
,,,,,,,,,,,,DBAR,ITS-90,PSS-78,,PSS-78,,UMOL/KG,,UMOL/KG,,UMOL/KG,,UMOL/KG,,UMOL/KG,,UMOL/KG,,PMOL/KG,,PMOL/KG,,TU,,UMOL/KG,,PERCNT,,/MILLE,,NMOL/KG,,UMOL/KG,,UMOL/KG,,,,,NMOL/KG,PERCNT,NMOL/KG,ITS-90,TU
   318MWESTW_5,  P21W,   182,  1,     36, SI9442,2,19940526,1657,-17.5000,-161.0000, 4850,     12.5,  27.8141,  35.5042,2,  35.5068,2,    208.3,2,    215.1,2,     0.78,2,     0.02,2,     0.00,2,     0.19,2,    1.627,2,    0.948,2,    0.879,2,   1.7224,2,    -0.97,2,   -999.0,1,   6.710,2,   -999.0,9,   -999.0,9,  -999.00,9,  183.1,  0.0086,   0.080,   0.034, 27.8112,   0.008
   318MWESTW_5,  P21W,   182,  1,     35, SI9435,2,19940526,1657,-17.5000,-161.0000, 4850,     28.2,  27.8107,  35.5054,2,  35.5103,2,    207.4,2,    216.5,2,     0.79,2,     0.00,2,     0.00,2,     0.20,2, -999.000,9, -999.000,9, -999.000,1,-999.0000,1,  -999.00,9,   -999.0,1,-999.000,9,   -999.0,9,   -999.0,9,  -999.00,9,  339.5,-999.0000,-999.000,-999.000, 27.8041,-999.000
   318MWESTW_5,  P21W,   182,  1,     34, SI9441,2,19940526,1657,-17.5000,-161.0000, 4850,     53.2,  27.8440,  35.5466,2,  35.5600,2,    205.5,2,    219.1,2,     0.79,2,     0.00,2,     0.00,2,     0.19,2, -999.000,9, -999.000,9,    0.869,2,-999.0000,1,  -999.00,9,   -999.0,1,-999.000,9,   -999.0,9,   -999.0,9,  -999.00,9,  589.2,-999.0000,-999.000,-999.000, 27.8315,   0.008
   318MWESTW_5,  P21W,   182,  1,     33, SI9433,2,19940526,1657,-17.5000,-161.0000, 4850,     98.1,  25.6619,  35.9785,2,  35.9712,2,    208.6,2,    210.0,2,     0.80,2,     0.00,2,     0.00,2,     0.22,2,    1.794,2,    1.013,2,    0.832,2,   1.7013,2,    -1.27,2,   -999.0,1,   6.733,2,   -999.0,9,   -999.0,9,  -999.00,9, 1036.5,  0.0085,   0.080,   0.034, 25.6401,   0.007
   318MWESTW_5,  P21W,   182,  1,     32, SI9432,2,19940526,1657,-17.5000,-161.0000, 4850,    153.9,  22.7138,  35.8999,2,  35.9054,2,    190.2,2,    189.8,2,     0.81,2,     0.75,2,     0.19,2,     0.31,2, -999.000,9, -999.000,9,    0.799,2,   1.6995,2,    -0.80,2,   -999.0,1,   6.837,2,   -999.0,9,   -999.0,9,  -999.00,9, 1591.7,  0.0085,   0.080,   0.034, 22.6825,   0.007
   318MWESTW_5,  P21W,   182,  1,     31, SI9431,2,19940526,1657,-17.5000,-161.0000, 4850,    205.5,  20.9037,  35.8158,2,  35.8153,2,    177.8,2,    176.3,2,     0.98,2,     3.21,2,     0.01,2,     0.45,2,    1.876,2,    1.031,2, -999.000,1,-999.0000,1,  -999.00,9,   -999.0,1,-999.000,9,   -999.0,9,   -999.0,9,  -999.00,9, 2106.5,-999.0000,-999.000,-999.000, 20.8643,-999.000
   318MWESTW_5,  P21W,   182,  1,     30, SI9440,2,19940526,1657,-17.5000,-161.0000, 4850,    255.4,  18.8231,  35.5871,2,  35.5620,2,    177.8,2,    175.2,2,     1.62,2,     5.25,2,     0.01,2,     0.60,2, -999.000,9, -999.000,9,    0.641,2,   1.7209,2,     0.76,2,   -999.0,1,   7.019,2,   -999.0,9,   -999.0,9,  -999.00,9, 2603.0,  0.0086,   0.080,   0.035, 18.7776,   0.007
   318MWESTW_5,  P21W,   182,  1,     29, SI9429,2,19940526,1657,-17.5000,-161.0000, 4850,    301.8,  16.8079,  35.3511,2,  35.3457,2,    173.3,2,    171.3,2,     2.75,2,     7.76,2,     0.01,2,     0.76,2, -999.000,9, -999.000,9,    0.553,2,-999.0000,1,  -999.00,9,   -999.0,1,-999.000,9,   -999.0,9,   -999.0,9,  -999.00,9, 3064.9,-999.0000,-999.000,-999.000, 16.7582,   0.007
   318MWESTW_5,  P21W,   182,  1,     28, SI9428,2,19940526,1657,-17.5000,-161.0000, 4850,    398.4,  12.2568,  34.8475,2,  34.8407,2,    168.6,2,    165.3,2,     6.93,2,    15.84,2,     0.01,2,     1.28,2,    0.971,2,    0.513,2,    0.340,2,-999.0000,1,  -999.00,9,   -999.0,1,-999.000,9,   -999.0,9,   -999.0,9,  -999.00,9, 4026.2,-999.0000,-999.000,-999.000, 12.2038,   0.006
   318MWESTW_5,  P21W,   182,  1,     27, SI9424,2,19940526,1657,-17.5000,-161.0000, 4850,    494.5,   8.7324,  34.5380,2,  34.5243,2,    185.9,2,    188.0,2,     9.51,2,    21.74,2,     0.01,2,     1.60,2,    0.727,2,    0.381,2,    0.178,2,-999.0000,1,  -999.00,9,   -999.0,1,-999.000,9,   -999.0,9,   -999.0,9,  -999.00,9, 4981.9,-999.0000,-999.000,-999.000,  8.6791,   0.005
   318MWESTW_5,  P21W,   182,  1,     26, SI9414,2,19940526,1657,-17.5000,-161.0000, 4850,    597.3,   6.5105,  34.3911,2,  34.3908,2,    192.0,2,    188.2,2,    18.02,2,    27.35,2,     0.00,2,     1.95,2,    0.272,2,    0.155,2, -999.000,1,-999.0000,1,  -999.00,9,   -999.0,1,-999.000,9,   -999.0,9,   -999.0,9,  -999.00,9, 6003.7,-999.0000,-999.000,-999.000,  6.4557,-999.000
   318MWESTW_5,  P21W,   182,  1,     25, SI9425,2,19940526,1657,-17.5000,-161.0000, 4850,    698.2,   5.4663,  34.3621,2,  34.3623,2,    194.2,2,    186.0,2,    26.05,2,    30.01,2,     0.01,2,     2.10,2,    0.108,2,    0.061,2,    0.022,2,   1.8474,2,     4.04,2,   -999.0,1,   7.871,2,   -999.0,9,   -999.0,9,  -999.00,9, 7007.2,  0.0092,   0.090,   0.039,  5.4073,   0.004
   318MWESTW_5,  P21W,   182,  1,     24, SI9434,2,19940526,1657,-17.5000,-161.0000, 4850,    801.3,   4.9881,  34.4018,2,  34.4031,2,    169.3,2,    167.2,2,    38.73,2,    32.44,2,     0.01,2,     2.27,2,    0.028,2,    0.021,2,   -0.001,2,   1.8169,2,     7.55,2,   -999.0,1,   7.789,2,   -999.0,9,   -999.0,9,  -999.00,9, 8032.2,  0.0091,   0.090,   0.039,  4.9227,   0.004
   318MWESTW_5,  P21W,   182,  1,     23, SI9423,2,19940526,1657,-17.5000,-161.0000, 4850,    902.5,   4.2950,  34.4487,2,  34.4475,2,    158.0,2,    155.2,2,    54.64,2,    34.16,2,     0.02,2,     2.40,2,    0.005,2,    0.002,2,   -0.001,2,   1.8531,2,    11.93,2,   -999.0,1,   7.883,2,   -999.0,9,   -999.0,9,  -999.00,9, 9038.1,  0.0093,   0.090,   0.039,  4.2254,   0.004
   318MWESTW_5,  P21W,   182,  1,     22, SI9418,2,19940526,1657,-17.5000,-161.0000, 4850,   1005.4,   3.7455,  34.4798,2,  34.4787,2,    156.1,2,    155.0,4,    66.20,2,    34.82,2,     0.02,2,     2.44,2, -999.000,9, -999.000,9,    0.003,2,   1.8501,2,    14.87,2,   -999.0,1,   7.915,2,   -999.0,9,   -999.0,9,  -999.00,9,10061.4,  0.0093,   0.090,   0.040,  3.6714,   0.004
   318MWESTW_5,  P21W,   182,  1,     21, SI9421,2,19940526,1657,-17.5000,-161.0000, 4850,   1109.7,   3.3207,  34.5109,2,  34.5095,2,    155.4,2,    154.7,4,    76.48,2,    35.19,2,     0.01,2,     2.45,2,    0.000,2,    0.002,2,   -0.002,2,   1.8577,2,    17.11,2,   -999.0,1,   7.933,2,   -999.0,9,   -999.0,9,  -999.00,9,11098.6,  0.0093,   0.100,   0.040,  3.2416,   0.004
   318MWESTW_5,  P21W,   182,  1,     20, SI9420,2,19940526,1657,-17.5000,-161.0000, 4850,   1308.9,   2.8644,  34.5593,2,  34.5590,2,    150.4,2,    152.5,4,    91.58,2,    35.68,2,     0.01,2,     2.48,2,   -0.001,2,    0.002,2,    0.003,2,   1.9330,2,    21.94,2,   -999.0,1,   8.167,2,   -999.0,9,   -999.0,9,  -999.00,9,13079.0,  0.0097,   0.100,   0.041,  2.7736,   0.004
   318MWESTW_5,  P21W,   182,  1,     19, SI9419,2,19940526,1657,-17.5000,-161.0000, 4850,   1504.0,   2.6170,  34.5910,2,  34.5904,2,    147.6,2,    148.6,2,   102.19,2,    35.89,2,     0.02,2,     2.52,2, -999.000,9, -999.000,9,    0.000,2,   1.9463,2,    26.62,2,   -999.0,1,   8.227,2,   -999.0,9,   -999.0,9,  -999.00,9,15019.1,  0.0097,   0.100,   0.041,  2.5132,   0.004
   318MWESTW_5,  P21W,   182,  1,     18, SI9439,2,19940526,1657,-17.5000,-161.0000, 4850,   1699.2,   2.4264,  34.6097,2,  34.6105,2,    147.2,2,    147.6,2,   108.95,2,    35.96,2,     0.01,2,     2.52,2, -999.000,9, -999.000,9, -999.000,1,-999.0000,1,  -999.00,9,   -999.0,1,-999.000,9,   -999.0,9,   -999.0,9,  -999.00,9,16959.1,-999.0000,-999.000,-999.000,  2.3090,-999.000
   318MWESTW_5,  P21W,   182,  1,     17, SI9417,2,19940526,1657,-17.5000,-161.0000, 4850,   1906.3,   2.2442,  34.6266,2,  34.6262,2,    148.2,2,    148.0,2,   114.90,2,    35.89,2,     0.01,2,     2.52,2, -999.000,9, -999.000,9, -999.000,1,-999.0000,1,  -999.00,9,   -999.0,1,-999.000,9,   -999.0,9,   -999.0,9,  -999.00,9,19018.0,-999.0000,-999.000,-999.000,  2.1120,-999.000
   318MWESTW_5,  P21W,   182,  1,     16, SI9416,2,19940526,1657,-17.5000,-161.0000, 4850,   2105.8,   2.1063,  34.6385,2,  34.6392,2,    149.2,2,    149.7,2,   118.93,2,    35.87,2,     0.01,2,     2.50,2, -999.000,9, -999.000,9, -999.000,1,-999.0000,1,  -999.00,9,   -999.0,1,-999.000,9,   -999.0,9,   -999.0,9,  -999.00,9,21001.7,-999.0000,-999.000,-999.000,  1.9592,-999.000
   318MWESTW_5,  P21W,   182,  1,     15, SI9415,2,19940526,1657,-17.5000,-161.0000, 4850,   2299.9,   2.0050,  34.6468,2,  34.6478,2,    151.3,2,    151.5,2,   121.52,2,    35.84,2,     0.01,2,     2.49,2, -999.000,9, -999.000,9, -999.000,1,-999.0000,1,  -999.00,9,   -999.0,1,-999.000,9,   -999.0,9,   -999.0,9,  -999.00,9,22931.6,-999.0000,-999.000,-999.000,  1.8426,-999.000
   318MWESTW_5,  P21W,   182,  1,     14, SI9436,2,19940526,1657,-17.5000,-161.0000, 4850,   2502.9,   1.8943,  34.6565,2,  34.6565,2,    154.4,2,    154.1,2,   124.58,2,    35.77,2,     0.01,2,     2.49,2, -999.000,9, -999.000,9, -999.000,1,-999.0000,1,  -999.00,9,   -999.0,1,-999.000,9,   -999.0,9,   -999.0,9,  -999.00,9,24949.2,-999.0000,-999.000,-999.000,  1.7157,-999.000
   318MWESTW_5,  P21W,   182,  1,     13, SI9413,2,19940526,1657,-17.5000,-161.0000, 4850,   2705.2,   1.7698,  34.6659,2,  34.6655,2,    157.8,2,    158.5,2,   126.53,2,    35.44,2,     0.01,2,     2.46,2, -999.000,9, -999.000,9, -999.000,1,-999.0000,1,  -999.00,9,   -999.0,1,-999.000,9,   -999.0,9,   -999.0,9,  -999.00,9,26961.0,-999.0000,-999.000,-999.000,  1.5750,-999.000
   318MWESTW_5,  P21W,   182,  1,     12, SI9438,2,19940526,1657,-17.5000,-161.0000, 4850,   2900.8,   1.6998,  34.6720,2,  34.6728,2,    161.0,2,    162.7,2,   126.70,2,    35.26,2,     0.00,2,     2.45,2, -999.000,9, -999.000,9, -999.000,1,-999.0000,1,  -999.00,9,   -999.0,1,-999.000,9,   -999.0,9,   -999.0,9,  -999.00,9,28905.5,-999.0000,-999.000,-999.000,  1.4881,-999.000
   318MWESTW_5,  P21W,   182,  1,     11, SI9411,2,19940526,1657,-17.5000,-161.0000, 4850,   3097.4,   1.6328,  34.6772,2,  34.6767,2,    165.5,2,    166.8,2,   126.41,2,    34.96,2,     0.01,2,     2.44,2, -999.000,9, -999.000,9, -999.000,1,-999.0000,1,  -999.00,9,   -999.0,1,-999.000,9,   -999.0,9,   -999.0,9,  -999.00,9,30859.5,-999.0000,-999.000,-999.000,  1.4037,-999.000
   318MWESTW_5,  P21W,   182,  1,     10, SI9412,2,19940526,1657,-17.5000,-161.0000, 4850,   3305.7,   1.5763,  34.6818,2,  34.6812,2,    168.9,2,    169.6,2,   126.59,2,    34.68,2,     0.01,2,     2.40,2, -999.000,9, -999.000,9, -999.000,1,-999.0000,1,  -999.00,9,   -999.0,1,-999.000,9,   -999.0,9,   -999.0,9,  -999.00,9,32930.9,-999.0000,-999.000,-999.000,  1.3279,-999.000
   318MWESTW_5,  P21W,   182,  1,      9, SI9410,2,19940526,1657,-17.5000,-161.0000, 4850,   3502.4,   1.5356,  34.6850,2,  34.6842,2,    172.9,2,    173.3,2,   125.96,2,    34.40,2,     0.01,2,     2.40,2, -999.000,9, -999.000,9, -999.000,1,-999.0000,1,  -999.00,9,   -999.0,1,-999.000,9,   -999.0,9,   -999.0,9,  -999.00,9,34886.4,-999.0000,-999.000,-999.000,  1.2683,-999.000
   318MWESTW_5,  P21W,   182,  1,      8, SI9422,2,19940526,1657,-17.5000,-161.0000, 4850,   3699.3,   1.4970,  34.6888,2,  34.6877,2,    176.8,2,    176.3,2,   125.01,2,    34.10,2,     0.02,2,     2.38,2, -999.000,9, -999.000,9, -999.000,1,-999.0000,1,  -999.00,9,   -999.0,1,-999.000,9,   -999.0,9,   -999.0,9,  -999.00,9,36844.0,-999.0000,-999.000,-999.000,  1.2103,-999.000
   318MWESTW_5,  P21W,   182,  1,      7, SI9407,2,19940526,1657,-17.5000,-161.0000, 4850,   3875.6,   1.4645,  34.6913,2,  34.6910,2,    180.5,2,    180.0,2,   123.75,2,    33.83,2,     0.01,2,     2.35,2, -999.000,9, -999.000,9, -999.000,1,-999.0000,1,  -999.00,9,   -999.0,1,-999.000,9,   -999.0,9,   -999.0,9,  -999.00,9,38596.7,-999.0000,-999.000,-999.000,  1.1600,-999.000
   318MWESTW_5,  P21W,   182,  1,      6, SI9427,2,19940526,1657,-17.5000,-161.0000, 4850,   4083.3,   1.4184,  34.6949,2,  34.6948,2,    184.4,2,    183.9,2,   123.12,2,    33.62,2,     0.01,2,     2.34,2, -999.000,9, -999.000,9, -999.000,1,-999.0000,1,  -999.00,9,   -999.0,1,-999.000,9,   -999.0,9,   -999.0,9,  -999.00,9,40661.1,-999.0000,-999.000,-999.000,  1.0927,-999.000
   318MWESTW_5,  P21W,   182,  1,      5, SI9405,2,19940526,1657,-17.5000,-161.0000, 4850,   4291.0,   1.3456,  34.7008,2,  34.7019,2,    190.5,2,    190.2,2,   121.53,2,    33.17,2,     0.01,2,     2.30,2, -999.000,9, -999.000,9, -999.000,1,-999.0000,1,  -999.00,9,   -999.0,1,-999.000,9,   -999.0,9,   -999.0,9,  -999.00,9,42725.9,-999.0000,-999.000,-999.000,  0.9990,-999.000
   318MWESTW_5,  P21W,   182,  1,      4, SI9404,2,19940526,1657,-17.5000,-161.0000, 4850,   4505.5,   1.2491,  34.7059,2,  34.7066,2,    197.6,2,    197.2,2,   120.10,2,    32.71,2,     0.01,2,     2.26,2,    0.001,2,    0.002,2, -999.000,1,-999.0000,1,  -999.00,9,   -999.0,1,-999.000,9,   -999.0,9,   -999.0,9,  -999.00,9,44858.9,-999.0000,-999.000,-999.000,  0.8812,-999.000
   318MWESTW_5,  P21W,   182,  1,      3, SI9403,2,19940526,1657,-17.5000,-161.0000, 4850,   4703.0,   1.1590,  34.7091,2,  34.7083,2,    203.3,2,    203.7,2,   119.48,2,    32.39,2,     0.01,2,     2.24,2,    0.003,2,    0.001,2, -999.000,1,-999.0000,1,  -999.00,9,   -999.0,1,-999.000,9,   -999.0,9,   -999.0,9,  -999.00,9,46822.3,-999.0000,-999.000,-999.000,  0.7712,-999.000
   318MWESTW_5,  P21W,   182,  1,      2, SI9437,2,19940526,1657,-17.5000,-161.0000, 4850,   4802.0,   1.1486,  34.7082,2,  34.7085,2,    204.8,2,    203.8,2,   119.82,2,    32.40,2,     0.01,2,     2.23,2,    0.001,6,    0.002,6, -999.000,1,-999.0000,1,  -999.00,9,   -999.0,1,-999.000,9,   -999.0,9,   -999.0,9,  -999.00,9,47806.3,-999.0000,-999.000,-999.000,  0.7496,-999.000
   318MWESTW_5,  P21W,   182,  1,      1, SI9401,2,19940526,1657,-17.5000,-161.0000, 4850,   4910.9,   1.1552,  34.7092,2,  34.7081,2,    204.3,2,    205.4,2,   119.67,2,    32.33,2,     0.01,2,     2.23,2, -999.000,9, -999.000,9, -999.000,1,-999.0000,1,  -999.00,9,   -999.0,1,-999.000,9,   -999.0,9,   -999.0,9,  -999.00,9,48888.8,-999.0000,-999.000,-999.000,  0.7431,-999.000