BOTTLE,20010911WHPSIOdm
EXPOCODE,SECT_ID,STNNBR,CASTNO,SAMPNO,BTLNBR,BTLNBR_FLAG_W,DATE,TIME,LATITUDE,LONGITUDE,DEPTH,CTDPRS,CTDTMP,CTDSAL,CTDSAL_FLAG_W,SALNTY,SALNTY_FLAG_W,CTDOXY,CTDOXY_FLAG_W,OXYGEN,OXYGEN_FLAG_W,SILCAT,SILCAT_FLAG_W,NITRAT,NITRAT_FLAG_W,NITRIT,NITRIT_FLAG_W,PHSPHT,PHSPHT_FLAG_W,CFC-11,CFC-11_FLAG_W,CFC-12,CFC-12_FLAG_W,TRITUM,TRITUM_FLAG_W,HELIUM,HELIUM_FLAG_W,DELHE3,DELHE3_FLAG_W,DELC14,DELC14_FLAG_W,NEON,NEON_FLAG_W,TCARBN,TCARBN_FLAG_W,ALKALI,ALKALI_FLAG_W,PH,PH_FLAG_W,CTDRAW,HELIER,DELHER,NEONER,THETA,TRITER
,,,,,,,,,,,,DBAR,ITS-90,PSS-78,,PSS-78,,UMOL/KG,,UMOL/KG,,UMOL/KG,,UMOL/KG,,UMOL/KG,,UMOL/KG,,PMOL/KG,,PMOL/KG,,TU,,UMOL/KG,,PERCNT,,/MILLE,,NMOL/KG,,UMOL/KG,,UMOL/KG,,,,,NMOL/KG,PERCNT,NMOL/KG,ITS-90,TU
   318MWESTW_4,  P21E,    52,  1,     36, SI9336,2,19940412,1907,-16.7528, -89.0000, 4342,      9.0,  23.3825,  35.9804,2,  35.9807,2,    212.0,2,    216.8,2,     0.48,2,     0.01,2,     0.00,2,     0.35,2,    1.964,2,    1.080,2, -999.000,1,-999.0000,1,  -999.00,9,   -999.0,1,-999.000,9,   -999.0,9,   -999.0,9,  -999.00,9,  141.4,-999.0000,-999.000,-999.000, 23.3806,-999.000
   318MWESTW_4,  P21E,    52,  1,     35, SI9335,2,19940412,1907,-16.7528, -89.0000, 4342,     23.6,  23.2368,  35.9719,2,  35.9724,2,    218.5,2,    214.8,2,     0.68,2,     0.01,2,     0.00,2,     0.36,2,    1.983,2,    1.105,2, -999.000,1,-999.0000,1,  -999.00,9,   -999.0,1,-999.000,9,   -999.0,9,   -999.0,9,  -999.00,9,  287.6,-999.0000,-999.000,-999.000, 23.2319,-999.000
   318MWESTW_4,  P21E,    52,  1,     34, SI9334,2,19940412,1907,-16.7528, -89.0000, 4342,     49.6,  23.2097,  35.9702,2,  35.9702,2,    217.4,2,    218.4,2,     0.52,2,    -0.04,2,     0.00,2,     0.36,2,    1.942,2,    1.058,2, -999.000,1,-999.0000,1,  -999.00,9,   -999.0,1,-999.000,9,   -999.0,9,   -999.0,9,  -999.00,9,  547.2,-999.0000,-999.000,-999.000, 23.1995,-999.000
   318MWESTW_4,  P21E,    52,  1,     33, SI9333,2,19940412,1907,-16.7528, -89.0000, 4342,    100.9,  18.9717,  35.5394,2,  35.5391,2,    215.3,2,    214.0,2,     1.47,2,     1.88,2,     1.35,2,     0.64,2,    2.348,2,    1.249,2, -999.000,1,-999.0000,1,  -999.00,9,   -999.0,1,-999.000,9,   -999.0,9,   -999.0,9,  -999.00,9, 1057.4,-999.0000,-999.000,-999.000, 18.9537,-999.000
   318MWESTW_4,  P21E,    52,  1,     32, SI9332,2,19940412,1907,-16.7528, -89.0000, 4342,    149.3,  17.6339,  35.2921,2,  35.2895,2,    201.2,2,    199.6,2,     2.05,2,     6.33,2,     0.05,2,     0.83,2,    2.382,2,    1.239,2, -999.000,1,-999.0000,1,  -999.00,9,   -999.0,1,-999.000,9,   -999.0,9,   -999.0,9,  -999.00,9, 1539.4,-999.0000,-999.000,-999.000, 17.6086,-999.000
   318MWESTW_4,  P21E,    52,  1,     31, SI9331,2,19940412,1907,-16.7528, -89.0000, 4342,    199.8,  13.2717,  34.6869,2,  34.6869,2,    148.9,2,    123.2,2,     7.50,2,    15.92,2,     0.01,2,     1.54,2,    1.800,2,    0.894,2, -999.000,1,-999.0000,1,  -999.00,9,   -999.0,1,-999.000,9,   -999.0,9,   -999.0,9,  -999.00,9, 2042.3,-999.0000,-999.000,-999.000, 13.2439,-999.000
   318MWESTW_4,  P21E,    52,  1,     30, SI9330,2,19940412,1907,-16.7528, -89.0000, 4342,    250.9,  11.6829,  34.6233,2,  34.6195,2,     68.8,2,     67.4,2,    15.19,2,    21.69,2,     0.01,2,     2.15,2,    0.889,2,    0.415,2, -999.000,1,-999.0000,1,  -999.00,9,   -999.0,1,-999.000,9,   -999.0,9,   -999.0,9,  -999.00,9, 2550.7,-999.0000,-999.000,-999.000, 11.6508,-999.000
   318MWESTW_4,  P21E,    52,  1,     29, SI9329,2,19940412,1907,-16.7528, -89.0000, 4342,    299.6,  10.6659,  34.6919,2,  34.6871,2,     15.0,2,      9.0,2,    25.31,2,    29.64,2,     0.01,2,     2.71,2,    0.170,2,    0.076,2, -999.000,1,-999.0000,1,  -999.00,9,   -999.0,1,-999.000,9,   -999.0,9,   -999.0,9,  -999.00,9, 3035.6,-999.0000,-999.000,-999.000, 10.6296,-999.000
   318MWESTW_4,  P21E,    52,  1,     28, SI9328,9,19940412,1907,-16.7528, -89.0000, 4342,    401.0,   8.7421,  34.6123,2,-999.0000,9,     16.9,2,   -999.0,9,  -999.00,9,  -999.00,9,  -999.00,9,  -999.00,9, -999.000,9, -999.000,9, -999.000,1,-999.0000,1,  -999.00,9,   -999.0,1,-999.000,9,   -999.0,9,   -999.0,9,  -999.00,9, 4043.9,-999.0000,-999.000,-999.000,  8.6990,-999.000
   318MWESTW_4,  P21E,    52,  1,     26, SI9326,2,19940412,1907,-16.7528, -89.0000, 4342,    499.9,   7.4364,  34.5451,2,  34.5431,2,     35.9,2,     34.0,2,    34.51,2,    40.25,2,     0.01,2,     2.85,2,    0.015,2,    0.004,2, -999.000,1,-999.0000,1,  -999.00,9,   -999.0,1,-999.000,9,   -999.0,9,   -999.0,9,  -999.00,9, 5027.8,-999.0000,-999.000,-999.000,  7.3873,-999.000
   318MWESTW_4,  P21E,    52,  1,     25, SI9325,2,19940412,1907,-16.7528, -89.0000, 4342,    599.1,   6.4842,  34.4992,2,  34.4972,2,     49.4,2,     47.8,2,    39.58,2,    41.53,2,     0.02,2,     2.91,2,    0.010,2,    0.001,2, -999.000,1,-999.0000,1,  -999.00,9,   -999.0,1,-999.000,9,   -999.0,9,   -999.0,9,  -999.00,9, 6013.9,-999.0000,-999.000,-999.000,  6.4292,-999.000
   318MWESTW_4,  P21E,    52,  1,     24, SI9324,9,19940412,1907,-16.7528, -89.0000, 4342,    698.3,   5.7327,  34.4899,2,-999.0000,9,     50.1,2,   -999.0,9,  -999.00,9,  -999.00,9,  -999.00,9,  -999.00,9, -999.000,9, -999.000,9, -999.000,1,-999.0000,1,  -999.00,9,   -999.0,1,-999.000,9,   -999.0,9,   -999.0,9,  -999.00,9, 7000.6,-999.0000,-999.000,-999.000,  5.6722,-999.000
   318MWESTW_4,  P21E,    52,  1,     23, SI9323,2,19940412,1907,-16.7528, -89.0000, 4342,    800.2,   5.1227,  34.4978,2,  34.4950,2,     52.8,2,     53.5,2,    59.82,2,    43.51,2,     0.01,2,     3.07,2,   -0.001,2,   -0.003,2, -999.000,1,-999.0000,1,  -999.00,9,   -999.0,1,-999.000,9,   -999.0,9,   -999.0,9,  -999.00,9, 8013.8,-999.0000,-999.000,-999.000,  5.0564,-999.000
   318MWESTW_4,  P21E,    52,  1,     22, SI9322,2,19940412,1907,-16.7528, -89.0000, 4342,    897.8,   4.6545,  34.5131,2,  34.5123,2,     58.9,2,     59.4,2,    69.94,2,    43.19,2,     0.01,2,     3.07,2,    0.000,2,   -0.003,2, -999.000,1,-999.0000,1,  -999.00,9,   -999.0,1,-999.000,9,   -999.0,9,   -999.0,9,  -999.00,9, 8984.2,-999.0000,-999.000,-999.000,  4.5827,-999.000
   318MWESTW_4,  P21E,    52,  1,     21, SI9321,9,19940412,1907,-16.7528, -89.0000, 4342,   1001.4,   4.2103,  34.5272,2,-999.0000,9,     69.3,2,   -999.0,9,  -999.00,9,  -999.00,9,  -999.00,9,  -999.00,9, -999.000,9, -999.000,9, -999.000,1,-999.0000,1,  -999.00,9,   -999.0,1,-999.000,9,   -999.0,9,   -999.0,9,  -999.00,9,10014.5,-999.0000,-999.000,-999.000,  4.1329,-999.000
   318MWESTW_4,  P21E,    52,  1,     27, SI9327,9,19940412,1907,-16.7528, -89.0000, 4342,   1099.7,   3.8288,  34.5424,2,-999.0000,9,     77.1,2,   -999.0,9,  -999.00,9,  -999.00,9,  -999.00,9,  -999.00,9, -999.000,9, -999.000,9, -999.000,1,-999.0000,1,  -999.00,9,   -999.0,1,-999.000,9,   -999.0,9,   -999.0,9,  -999.00,9,10992.2,-999.0000,-999.000,-999.000,  3.7462,-999.000
   318MWESTW_4,  P21E,    52,  1,     20, SI9320,2,19940412,1907,-16.7528, -89.0000, 4342,   1200.3,   3.5116,  34.5571,2,  34.5563,2,     84.9,2,     84.9,2,    94.86,2,    41.22,2,     0.00,2,     2.96,2, -999.000,9, -999.000,9, -999.000,1,-999.0000,1,  -999.00,9,   -999.0,1,-999.000,9,   -999.0,9,   -999.0,9,  -999.00,9,11992.3,-999.0000,-999.000,-999.000,  3.4234,-999.000
   318MWESTW_4,  P21E,    52,  1,     19, SI9319,2,19940412,1907,-16.7528, -89.0000, 4342,   1300.1,   3.2876,  34.5708,2,  34.5698,2,     87.4,2,     87.6,2,   101.06,2,    40.91,2,    -0.01,2,     2.93,2, -999.000,9, -999.000,9, -999.000,1,-999.0000,1,  -999.00,9,   -999.0,1,-999.000,9,   -999.0,9,   -999.0,9,  -999.00,9,12983.9,-999.0000,-999.000,-999.000,  3.1933,-999.000
   318MWESTW_4,  P21E,    52,  1,     18, SI9318,2,19940412,1907,-16.7528, -89.0000, 4342,   1399.7,   3.0568,  34.5839,2,  34.5844,2,     91.0,2,     93.5,2,   107.64,2,    40.53,2,     0.00,2,     2.90,2, -999.000,9, -999.000,9, -999.000,1,-999.0000,1,  -999.00,9,   -999.0,1,-999.000,9,   -999.0,9,   -999.0,9,  -999.00,9,13974.6,-999.0000,-999.000,-999.000,  2.9566,-999.000
   318MWESTW_4,  P21E,    52,  1,     17, SI9317,9,19940412,1907,-16.7528, -89.0000, 4342,   1500.3,   2.8755,  34.5975,2,-999.0000,9,     91.9,2,   -999.0,9,  -999.00,9,  -999.00,9,  -999.00,9,  -999.00,9, -999.000,9, -999.000,9, -999.000,1,-999.0000,1,  -999.00,9,   -999.0,1,-999.000,9,   -999.0,9,   -999.0,9,  -999.00,9,14974.7,-999.0000,-999.000,-999.000,  2.7690,-999.000
   318MWESTW_4,  P21E,    52,  1,     16, SI9316,2,19940412,1907,-16.7528, -89.0000, 4342,   1603.6,   2.7066,  34.6100,2,  34.6093,2,     95.8,2,     96.4,2,   118.71,2,    40.05,2,     0.00,2,     2.87,2, -999.000,9, -999.000,9, -999.000,1,-999.0000,1,  -999.00,9,   -999.0,1,-999.000,9,   -999.0,9,   -999.0,9,  -999.00,9,16001.9,-999.0000,-999.000,-999.000,  2.5935,-999.000
   318MWESTW_4,  P21E,    52,  1,     15, SI9315,2,19940412,1907,-16.7528, -89.0000, 4342,   1752.3,   2.4822,  34.6249,2,  34.6250,2,    102.9,2,    103.9,2,   124.73,2,    39.42,2,    -0.01,2,     2.82,2, -999.000,9, -999.000,9, -999.000,1,-999.0000,1,  -999.00,9,   -999.0,1,-999.000,9,   -999.0,9,   -999.0,9,  -999.00,9,17479.7,-999.0000,-999.000,-999.000,  2.3596,-999.000
   318MWESTW_4,  P21E,    52,  1,     14, SI9314,2,19940412,1907,-16.7528, -89.0000, 4342,   1900.5,   2.2965,  34.6366,2,  34.6364,2,    110.9,2,    113.3,2,   127.38,2,    38.61,2,     0.00,2,     2.75,2, -999.000,9, -999.000,9, -999.000,1,-999.0000,1,  -999.00,9,   -999.0,1,-999.000,9,   -999.0,9,   -999.0,9,  -999.00,9,18953.7,-999.0000,-999.000,-999.000,  2.1640,-999.000
   318MWESTW_4,  P21E,    52,  1,     13, SI9313,2,19940412,1907,-16.7528, -89.0000, 4342,   2048.5,   2.1461,  34.6466,2,  34.6466,2,    121.9,2,    121.7,2,   128.72,2,    37.96,2,     0.00,2,     2.69,2, -999.000,9, -999.000,9, -999.000,1,-999.0000,1,  -999.00,9,   -999.0,1,-999.000,9,   -999.0,9,   -999.0,9,  -999.00,9,20424.9,-999.0000,-999.000,-999.000,  2.0033,-999.000
   318MWESTW_4,  P21E,    52,  1,     12, SI9312,2,19940412,1907,-16.7528, -89.0000, 4342,   2199.8,   2.0282,  34.6556,2,  34.6557,2,    129.4,2,    129.0,2,   129.87,2,    37.38,2,     0.00,2,     2.64,2, -999.000,9, -999.000,9, -999.000,1,-999.0000,1,  -999.00,9,   -999.0,1,-999.000,9,   -999.0,9,   -999.0,9,  -999.00,9,21928.9,-999.0000,-999.000,-999.000,  1.8742,-999.000
   318MWESTW_4,  P21E,    52,  1,     11, SI9311,2,19940412,1907,-16.7528, -89.0000, 4342,   2396.2,   1.9121,  34.6651,2,  34.6649,2,    135.6,2,    136.0,2,   131.40,2,    37.01,2,     0.00,2,     2.60,2, -999.000,9, -999.000,9, -999.000,1,-999.0000,1,  -999.00,9,   -999.0,1,-999.000,9,   -999.0,9,   -999.0,9,  -999.00,9,23881.8,-999.0000,-999.000,-999.000,  1.7427,-999.000
   318MWESTW_4,  P21E,    52,  1,     10, SI9310,2,19940412,1907,-16.7528, -89.0000, 4342,   2596.0,   1.8482,  34.6715,2,  34.6718,2,    140.8,2,    139.1,2,   132.92,2,    36.74,2,     0.00,2,     2.57,2, -999.000,9, -999.000,9, -999.000,1,-999.0000,1,  -999.00,9,   -999.0,1,-999.000,9,   -999.0,9,   -999.0,9,  -999.00,9,25867.7,-999.0000,-999.000,-999.000,  1.6619,-999.000
   318MWESTW_4,  P21E,    52,  1,      9, SI9309,2,19940412,1907,-16.7528, -89.0000, 4342,   2798.5,   1.8161,  34.6756,2,  34.6769,2,    140.8,2,    140.1,2,   135.38,2,    36.74,2,     0.00,2,     2.57,2, -999.000,9, -999.000,9, -999.000,1,-999.0000,1,  -999.00,9,   -999.0,1,-999.000,9,   -999.0,9,   -999.0,9,  -999.00,9,27881.2,-999.0000,-999.000,-999.000,  1.6116,-999.000
   318MWESTW_4,  P21E,    52,  1,      8, SI9308,2,19940412,1907,-16.7528, -89.0000, 4342,   2997.7,   1.7983,  34.6786,2,  34.6787,2,    141.9,2,    140.4,2,   136.73,2,    36.79,2,     0.00,2,     2.56,2, -999.000,9, -999.000,9, -999.000,1,-999.0000,1,  -999.00,9,   -999.0,1,-999.000,9,   -999.0,9,   -999.0,9,  -999.00,9,29861.8,-999.0000,-999.000,-999.000,  1.5752,-999.000
   318MWESTW_4,  P21E,    52,  1,      7, SI9307,2,19940412,1907,-16.7528, -89.0000, 4342,   3196.8,   1.7902,  34.6811,2,  34.6804,2,    142.5,2,    141.8,2,   136.57,2,    36.85,2,     0.00,2,     2.55,2, -999.000,9, -999.000,9, -999.000,1,-999.0000,1,  -999.00,9,   -999.0,1,-999.000,9,   -999.0,9,   -999.0,9,  -999.00,9,31840.7,-999.0000,-999.000,-999.000,  1.5476,-999.000
   318MWESTW_4,  P21E,    52,  1,      6, SI9306,2,19940412,1907,-16.7528, -89.0000, 4342,   3399.2,   1.7851,  34.6831,2,  34.6832,2,    144.8,2,    144.1,2,   135.28,2,    36.63,2,     0.00,2,     2.54,2, -999.000,9, -999.000,9, -999.000,1,-999.0000,1,  -999.00,9,   -999.0,1,-999.000,9,   -999.0,9,   -999.0,9,  -999.00,9,33853.0,-999.0000,-999.000,-999.000,  1.5222,-999.000
   318MWESTW_4,  P21E,    52,  1,      5, SI9305,2,19940412,1907,-16.7528, -89.0000, 4342,   3594.5,   1.7782,  34.6849,2,  34.6881,2,    146.0,2,    145.8,2,   134.76,2,    36.48,2,     0.00,2,     2.54,2, -999.000,9, -999.000,9, -999.000,1,-999.0000,1,  -999.00,9,   -999.0,1,-999.000,9,   -999.0,9,   -999.0,9,  -999.00,9,35794.7,-999.0000,-999.000,-999.000,  1.4952,-999.000
   318MWESTW_4,  P21E,    52,  1,      4, SI9304,2,19940412,1907,-16.7528, -89.0000, 4342,   3852.2,   1.7658,  34.6877,2,  34.6875,2,    150.6,2,    151.1,2,   131.98,2,    36.05,2,     0.00,2,     2.50,2, -999.000,9, -999.000,9, -999.000,1,-999.0000,1,  -999.00,9,   -999.0,1,-999.000,9,   -999.0,9,   -999.0,9,  -999.00,9,38356.2,-999.0000,-999.000,-999.000,  1.4556,-999.000
   318MWESTW_4,  P21E,    52,  1,      3, SI9303,2,19940412,1907,-16.7528, -89.0000, 4342,   4095.8,   1.7692,  34.6901,2,  34.6889,2,    152.5,2,    153.0,2,   130.50,2,    35.79,2,    -0.01,2,     2.50,2, -999.000,9, -999.000,9, -999.000,1,-999.0000,1,  -999.00,9,   -999.0,1,-999.000,9,   -999.0,9,   -999.0,9,  -999.00,9,40778.1,-999.0000,-999.000,-999.000,  1.4321,-999.000
   318MWESTW_4,  P21E,    52,  1,      2, SI9302,2,19940412,1907,-16.7528, -89.0000, 4342,   4342.9,   1.7916,  34.6898,2,  34.6944,4,    151.7,2,    152.6,2,   130.72,2,    35.69,2,    -0.01,2,     2.48,2, -999.000,9, -999.000,9, -999.000,1,-999.0000,1,  -999.00,9,   -999.0,1,-999.000,9,   -999.0,9,   -999.0,9,  -999.00,9,43235.3,-999.0000,-999.000,-999.000,  1.4258,-999.000
   318MWESTW_4,  P21E,    52,  1,      1, SI9301,2,19940412,1907,-16.7528, -89.0000, 4342,   4396.2,   1.7977,  34.6904,2,  34.6899,2,    152.6,2,    153.7,2,   130.35,2,    35.54,2,     0.00,2,     2.49,2, -999.000,9, -999.000,9, -999.000,1,-999.0000,1,  -999.00,9,   -999.0,1,-999.000,9,   -999.0,9,   -999.0,9,  -999.00,9,43765.0,-999.0000,-999.000,-999.000,  1.4256,-999.000