BOTTLE,20010911WHPSIOdm
EXPOCODE,SECT_ID,STNNBR,CASTNO,SAMPNO,BTLNBR,BTLNBR_FLAG_W,DATE,TIME,LATITUDE,LONGITUDE,DEPTH,CTDPRS,CTDTMP,CTDSAL,CTDSAL_FLAG_W,SALNTY,SALNTY_FLAG_W,CTDOXY,CTDOXY_FLAG_W,OXYGEN,OXYGEN_FLAG_W,SILCAT,SILCAT_FLAG_W,NITRAT,NITRAT_FLAG_W,NITRIT,NITRIT_FLAG_W,PHSPHT,PHSPHT_FLAG_W,CFC-11,CFC-11_FLAG_W,CFC-12,CFC-12_FLAG_W,TRITUM,TRITUM_FLAG_W,HELIUM,HELIUM_FLAG_W,DELHE3,DELHE3_FLAG_W,DELC14,DELC14_FLAG_W,NEON,NEON_FLAG_W,TCARBN,TCARBN_FLAG_W,ALKALI,ALKALI_FLAG_W,PH,PH_FLAG_W,CTDRAW,HELIER,DELHER,NEONER,THETA,TRITER
,,,,,,,,,,,,DBAR,ITS-90,PSS-78,,PSS-78,,UMOL/KG,,UMOL/KG,,UMOL/KG,,UMOL/KG,,UMOL/KG,,UMOL/KG,,PMOL/KG,,PMOL/KG,,TU,,UMOL/KG,,PERCNT,,/MILLE,,NMOL/KG,,UMOL/KG,,UMOL/KG,,,,,NMOL/KG,PERCNT,NMOL/KG,ITS-90,TU
   318MWESTW_4,  P21E,    90,  1,     18, SI9318,2,19940424,0751,-16.7528,-109.3362, 3645,      8.3,  25.7880,  36.3658,2,  36.3671,2,    199.6,2,    207.2,2,    -0.06,2,     0.00,2,     0.01,2,     0.28,2,    1.790,2,    1.018,2, -999.000,1,-999.0000,1,  -999.00,9,   -999.0,1,-999.000,9,   2043.8,2,   2396.0,2,     8.08,2,  127.0,-999.0000,-999.000,-999.000, 25.7862,-999.000
   318MWESTW_4,  P21E,    90,  1,     17, SI9317,2,19940424,0751,-16.7528,-109.3362, 3645,     23.1,  25.7948,  36.3659,2,  36.3677,2,    210.0,2,    208.8,2,    -0.06,2,     0.00,2,     0.01,2,     0.28,2,    1.808,2,    1.004,2, -999.000,1,-999.0000,1,  -999.00,9,   -999.0,1,-999.000,9,   2042.8,2,   2398.0,2,     8.08,2,  275.4,-999.0000,-999.000,-999.000, 25.7897,-999.000
   318MWESTW_4,  P21E,    90,  1,     16, SI9316,2,19940424,0751,-16.7528,-109.3362, 3645,     49.3,  25.7614,  36.3823,2,  36.3889,2,    210.2,2,    210.8,2,    -0.06,2,     0.06,2,     0.01,2,     0.29,2,    1.791,2,    1.004,2, -999.000,1,-999.0000,1,  -999.00,9,   -999.0,1,-999.000,9,   2043.8,2,   2398.0,2,     8.08,2,  536.8,-999.0000,-999.000,-999.000, 25.7504,-999.000
   318MWESTW_4,  P21E,    90,  1,     15, SI9315,2,19940424,0751,-16.7528,-109.3362, 3645,    100.2,  23.4978,  36.2533,2,  36.2265,4,    218.8,2,    217.7,2,     0.11,2,     0.01,2,     0.00,2,     0.35,2,    2.017,2,    1.099,2, -999.000,1,-999.0000,1,  -999.00,9,   -999.0,1,-999.000,9,   2051.8,2,   2390.0,2,     8.06,2, 1045.8,-999.0000,-999.000,-999.000, 23.4769,-999.000
   318MWESTW_4,  P21E,    90,  1,     14, SI9314,2,19940424,0751,-16.7528,-109.3362, 3645,    149.9,  21.7285,  36.0751,2,  36.0879,2,    202.5,2,    198.3,2,    -0.05,2,     0.50,2,     1.18,2,     0.49,2,    2.131,2,    1.172,2, -999.000,1,-999.0000,1,  -999.00,9,   -999.0,1,-999.000,9,   2081.8,2,   2381.0,2,     8.00,2, 1542.6,-999.0000,-999.000,-999.000, 21.6990,-999.000
   318MWESTW_4,  P21E,    90,  1,     13, SI9313,2,19940424,0751,-16.7528,-109.3362, 3645,    199.2,  19.8461,  35.6912,2,  35.7333,2,    193.8,2,    191.5,2,     0.11,2,     3.71,2,     0.02,2,     0.63,2,    2.255,2,    1.201,2, -999.000,1,-999.0000,1,  -999.00,9,   -999.0,1,-999.000,9,   2094.8,2,   2359.0,2,     7.95,2, 2034.7,-999.0000,-999.000,-999.000, 19.8093,-999.000
   318MWESTW_4,  P21E,    90,  1,     12, SI9312,2,19940424,0751,-16.7528,-109.3362, 3645,    250.0,  17.3987,  35.2388,2,  35.3027,2,    179.6,2,    173.5,2,     1.37,2,     7.29,2,     0.01,2,     0.86,2,    2.222,2,    1.158,2, -999.000,1,-999.0000,1,  -999.00,9,   -999.0,1,-999.000,9,   2106.8,2,   2329.0,2,     7.88,2, 2542.7,-999.0000,-999.000,-999.000, 17.3566,-999.000
   318MWESTW_4,  P21E,    90,  1,     11, SI9311,2,19940424,0751,-16.7528,-109.3362, 3645,    301.8,  13.5321,  34.8181,2,  34.8005,2,    150.6,2,    141.0,2,     4.85,2,    13.14,2,     0.00,2,     1.30,2,    1.663,2,    0.845,2, -999.000,1,-999.0000,1,  -999.00,9,   -999.0,1,-999.000,9,   2134.8,2,   2297.0,2,     7.76,2, 3059.7,-999.0000,-999.000,-999.000, 13.4894,-999.000
   318MWESTW_4,  P21E,    90,  1,     10, SI9310,2,19940424,0751,-16.7528,-109.3362, 3645,    432.7,   8.6910,  34.5351,2,  34.5325,2,     60.9,2,     56.7,2,    21.91,2,    33.04,2,     0.00,2,     2.52,2,    0.125,2,    0.069,2, -999.000,1,-999.0000,1,  -999.00,9,   -999.0,1,-999.000,9,   2243.9,2,   2289.0,2,     7.46,2, 4367.4,-999.0000,-999.000,-999.000,  8.6446,-999.000
   318MWESTW_4,  P21E,    90,  1,      9, SI9309,2,19940424,0751,-16.7528,-109.3362, 3645,    505.2,   7.3980,  34.4824,2,  34.4846,2,     83.8,2,     80.9,2,    24.74,2,    35.08,2,     0.01,2,     2.50,2,    0.052,2,    0.034,2, -999.000,1,-999.0000,1,  -999.00,9,   -999.0,1,-999.000,9,   2238.9,2,   2293.0,2,     7.47,2, 5092.2,-999.0000,-999.000,-999.000,  7.3485,-999.000
   318MWESTW_4,  P21E,    90,  1,      8, SI9308,2,19940424,0751,-16.7528,-109.3362, 3645,    554.9,   6.5461,  34.4296,2,  34.4371,2,    113.2,2,    107.3,2,    25.53,2,    34.92,2,     0.01,2,     2.45,2,    0.048,2,    0.033,2, -999.000,1,-999.0000,1,  -999.00,9,   -999.0,1,-999.000,9,   2228.9,2,   2294.0,2,     7.51,2, 5588.3,-999.0000,-999.000,-999.000,  6.4952,-999.000
   318MWESTW_4,  P21E,    90,  1,      7, SI9307,2,19940424,0751,-16.7528,-109.3362, 3645,    603.6,   6.2644,  34.4594,2,  34.4553,2,     98.6,2,     95.3,2,    31.22,2,    36.70,2,     0.01,2,     2.56,2,    0.018,2,    0.012,2, -999.000,1,-999.0000,1,  -999.00,9,   -999.0,1,-999.000,9,   2241.9,2,   2299.0,2,     7.48,2, 6074.2,-999.0000,-999.000,-999.000,  6.2101,-999.000
   318MWESTW_4,  P21E,    90,  1,      6, SI9306,2,19940424,0751,-16.7528,-109.3362, 3645,    698.8,   5.6637,  34.4649,2,  34.4746,2,     87.4,2,     80.5,2,    42.59,2,    39.29,2,     0.01,2,     2.75,2,    0.000,2,    0.003,2, -999.000,1,-999.0000,1,  -999.00,9,   -999.0,1,-999.000,9,   2263.9,2,   2311.0,2,     7.46,2, 7025.2,-999.0000,-999.000,-999.000,  5.6035,-999.000
   318MWESTW_4,  P21E,    90,  1,      5, SI9305,2,19940424,0751,-16.7528,-109.3362, 3645,    802.2,   5.1633,  34.4897,2,  34.4899,2,     79.8,2,     76.4,2,    53.95,2,    40.59,2,     0.01,2,     2.84,2,    0.000,2,    0.004,2, -999.000,1,-999.0000,1,  -999.00,9,   -999.0,1,-999.000,9,   2278.0,2,   2323.0,2,     7.44,2, 8058.4,-999.0000,-999.000,-999.000,  5.0966,-999.000
   318MWESTW_4,  P21E,    90,  1,      4, SI9304,2,19940424,0751,-16.7528,-109.3362, 3645,    899.5,   4.7368,  34.5064,2,  34.5040,2,     80.8,2,     78.4,2,    62.79,2,    40.74,2,     0.01,2,     2.86,2,   -0.004,2,    0.001,2, -999.000,1,-999.0000,1,  -999.00,9,   -999.0,1,-999.000,9,   2288.0,2,   2333.0,2,     7.45,2, 9030.1,-999.0000,-999.000,-999.000,  4.6643,-999.000
   318MWESTW_4,  P21E,    90,  1,      3, SI9303,2,19940424,0751,-16.7528,-109.3362, 3645,   1000.4,   4.3116,  34.5223,2,  34.5193,2,     85.9,2,     84.3,2,    71.79,2,    40.48,2,     0.01,2,     2.86,2,   -0.002,2,    0.001,2, -999.000,1,-999.0000,1,  -999.00,9,   -999.0,1,-999.000,9,   2295.0,2,   2342.0,2,     7.45,2,10037.7,-999.0000,-999.000,-999.000,  4.2335,-999.000
   318MWESTW_4,  P21E,    90,  1,      2, SI9302,2,19940424,0751,-16.7528,-109.3362, 3645,   1104.4,   3.9897,  34.5373,2,  34.5355,2,     88.9,2,     85.3,2,    79.99,2,    40.47,2,     0.01,2,     2.87,2,   -0.001,2,    0.000,2, -999.000,1,-999.0000,1,  -999.00,9,   -999.0,1,-999.000,9,   2304.0,2,   2351.0,2,     7.46,2,11076.9,-999.0000,-999.000,-999.000,  3.9053,-999.000
   318MWESTW_4,  P21E,    90,  1,      1, SI9301,2,19940424,0751,-16.7528,-109.3362, 3645,   1202.1,   3.6514,  34.5513,2,  34.5478,2,     98.3,2,     97.7,2,    86.02,2,    39.47,3,     0.00,2,     2.80,2,    0.000,2,    0.001,2, -999.000,1,-999.0000,1,  -999.00,9,   -999.0,1,-999.000,9,   2305.0,2,   2359.0,2,     7.48,2,12052.8,-999.0000,-999.000,-999.000,  3.5617,-999.000
   318MWESTW_4,  P21E,    90,  1,     36, SI9336,2,19940424,0751,-16.7528,-109.3362, 3645,   1299.7,   3.3916,  34.5669,2,  34.5643,2,     91.3,2,     90.5,2,    95.18,2,    40.21,2,     0.01,2,     2.86,2,   -0.001,2,    0.003,2, -999.000,1,-999.0000,1,  -999.00,9,   -999.0,1,-999.000,9,   2317.0,2,   2371.0,2,     7.47,2,13027.9,-999.0000,-999.000,-999.000,  3.2963,-999.000
   318MWESTW_4,  P21E,    90,  1,     35, SI9335,2,19940424,0751,-16.7528,-109.3362, 3645,   1396.8,   3.1270,  34.5804,2,  34.5796,2,     95.3,2,     94.4,2,   101.91,2,    39.94,2,     0.00,2,     2.84,2,    0.000,2,    0.007,2, -999.000,1,-999.0000,1,  -999.00,9,   -999.0,1,-999.000,9,   2322.0,2,   2375.0,2,     7.48,2,13998.1,-999.0000,-999.000,-999.000,  3.0263,-999.000
   318MWESTW_4,  P21E,    90,  1,     34, SI9334,2,19940424,0751,-16.7528,-109.3362, 3645,   1498.8,   2.9272,  34.5925,2,  34.5926,2,     99.2,2,     98.8,2,   106.96,2,    39.59,2,     0.02,2,     2.82,2,   -0.001,2,    0.003,2, -999.000,1,-999.0000,1,  -999.00,9,   -999.0,1,-999.000,9,   2325.0,2,   2383.0,2,     7.48,2,15016.9,-999.0000,-999.000,-999.000,  2.8203,-999.000
   318MWESTW_4,  P21E,    90,  1,     33, SI9333,2,19940424,0751,-16.7528,-109.3362, 3645,   1650.6,   2.6503,  34.6103,2,  34.6109,2,    106.8,2,    106.4,2,   113.58,2,    38.95,2,     0.01,2,     2.76,2,    0.000,2,    0.004,2, -999.000,1,-999.0000,1,  -999.00,9,   -999.0,1,-999.000,9,   2326.0,2,   2390.0,2,     7.50,2,16532.8,-999.0000,-999.000,-999.000,  2.5340,-999.000
   318MWESTW_4,  P21E,    90,  1,     32, SI9332,2,19940424,0751,-16.7528,-109.3362, 3645,   1797.5,   2.4299,  34.6253,2,  34.6236,2,    116.2,2,    115.7,2,   116.72,2,    38.13,2,     0.01,2,     2.69,2,    0.000,2,    0.003,2, -999.000,1,-999.0000,1,  -999.00,9,   -999.0,1,-999.000,9,   2326.0,2,   2396.0,2,     7.51,2,18000.5,-999.0000,-999.000,-999.000,  2.3042,-999.000
   318MWESTW_4,  P21E,    90,  1,     31, SI9331,2,19940424,0751,-16.7528,-109.3362, 3645,   1953.4,   2.2152,  34.6395,2,  34.6386,2,    129.6,2,    128.7,2,   119.24,2,    37.07,2,     0.01,2,     2.61,2,    0.000,2,    0.004,2, -999.000,1,-999.0000,1,  -999.00,9,   -999.0,1,-999.000,9,   2321.0,2,   2397.0,2,     7.53,2,19558.4,-999.0000,-999.000,-999.000,  2.0794,-999.000
   318MWESTW_4,  P21E,    90,  1,     30, SI9330,2,19940424,0751,-16.7528,-109.3362, 3645,   2106.2,   2.0438,  34.6502,2,  34.6492,2,    144.6,2,    144.1,2,   118.13,2,    35.92,2,     0.01,2,     2.51,2,   -0.002,2,    0.003,2, -999.000,1,-999.0000,1,  -999.00,9,   -999.0,1,-999.000,9,   2311.0,2,   2397.0,2,     7.55,2,21085.3,-999.0000,-999.000,-999.000,  1.8976,-999.000
   318MWESTW_4,  P21E,    90,  1,     29, SI9329,2,19940424,0751,-16.7528,-109.3362, 3645,   2252.1,   1.9292,  34.6606,2,  34.6584,2,    153.9,2,    152.2,2,   118.13,2,    35.27,2,     0.01,2,     2.46,2,   -0.002,2,    0.005,2, -999.000,1,-999.0000,1,  -999.00,9,   -999.0,1,-999.000,9,   2306.0,2,   2398.0,2,     7.56,2,22542.6,-999.0000,-999.000,-999.000,  1.7722,-999.000
   318MWESTW_4,  P21E,    90,  1,     28, SI9328,2,19940424,0751,-16.7528,-109.3362, 3645,   2402.2,   1.8561,  34.6695,2,  34.6677,2,    156.3,2,    154.7,2,   120.17,2,    35.05,2,     0.01,2,     2.43,2,   -0.002,2,    0.003,2, -999.000,1,-999.0000,1,  -999.00,9,   -999.0,1,-999.000,9,   2308.0,2,   2400.0,2,     7.58,2,24042.5,-999.0000,-999.000,-999.000,  1.6872,-999.000
   318MWESTW_4,  P21E,    90,  1,     27, SI9327,2,19940424,0751,-16.7528,-109.3362, 3645,   2550.6,   1.8205,  34.6751,2,  34.6743,2,    155.4,2,    153.5,2,   123.32,2,    35.17,2,     0.00,2,     2.45,2,   -0.002,2,    0.002,2, -999.000,1,-999.0000,1,  -999.00,9,   -999.0,1,-999.000,9,   2312.0,2,   2408.0,2,     7.57,2,25525.3,-999.0000,-999.000,-999.000,  1.6389,-999.000
   318MWESTW_4,  P21E,    90,  1,     26, SI9326,2,19940424,0751,-16.7528,-109.3362, 3645,   2706.5,   1.8131,  34.6792,2,  34.6779,2,    153.1,2,    151.5,2,   126.31,2,    35.27,2,     0.01,2,     2.46,2,   -0.002,2,    0.004,2, -999.000,1,-999.0000,1,  -999.00,9,   -999.0,1,-999.000,9,   2317.0,2,   2409.0,2,     7.58,2,27082.6,-999.0000,-999.000,-999.000,  1.6173,-999.000
   318MWESTW_4,  P21E,    90,  1,     25, SI9325,2,19940424,0751,-16.7528,-109.3362, 3645,   2848.6,   1.8088,  34.6813,2,  34.6808,2,    149.2,2,    147.8,2,   130.09,2,    35.60,2,     0.00,2,     2.47,2,   -0.003,2,    0.004,2, -999.000,1,-999.0000,1,  -999.00,9,   -999.0,1,-999.000,9,   2324.0,2,   2424.0,2,     7.58,2,28503.2,-999.0000,-999.000,-999.000,  1.5997,-999.000
   318MWESTW_4,  P21E,    90,  1,     24, SI9324,2,19940424,0751,-16.7528,-109.3362, 3645,   3000.3,   1.8080,  34.6815,2,  34.6808,2,    145.9,2,    144.3,2,   134.18,2,    35.97,2,     0.00,2,     2.50,2,   -0.003,2,    0.005,2, -999.000,1,-999.0000,1,  -999.00,9,   -999.0,1,-999.000,9,   2329.0,2,   2423.0,2,     7.58,2,30019.3,-999.0000,-999.000,-999.000,  1.5844,-999.000
   318MWESTW_4,  P21E,    90,  1,     23, SI9323,2,19940424,0751,-16.7528,-109.3362, 3645,   3151.4,   1.8122,  34.6830,2,  34.6820,2,    147.0,2,    145.8,2,   132.60,2,    35.80,2,     0.00,2,     2.49,2,   -0.002,2,    0.003,2, -999.000,1,-999.0000,1,  -999.00,9,   -999.0,1,-999.000,9,   2329.0,2,   2425.0,2,     7.58,2,31528.9,-999.0000,-999.000,-999.000,  1.5736,-999.000
   318MWESTW_4,  P21E,    90,  1,     22, SI9322,2,19940424,0751,-16.7528,-109.3362, 3645,   3349.6,   1.8140,  34.6845,2,  34.6834,2,    147.3,2,    145.5,2,   132.91,2,    35.80,2,     0.00,2,     2.49,2,   -0.002,2,    0.004,2, -999.000,1,-999.0000,1,  -999.00,9,   -999.0,1,-999.000,9,   2329.0,2,   2424.0,2,     7.58,2,33509.9,-999.0000,-999.000,-999.000,  1.5554,-999.000
   318MWESTW_4,  P21E,    90,  1,     21, SI9321,2,19940424,0751,-16.7528,-109.3362, 3645,   3549.9,   1.8229,  34.6864,2,  34.6848,2,    149.3,2,    147.8,2,   131.17,2,    35.69,2,     0.01,2,     2.48,2,   -0.001,2,    0.001,2, -999.000,1,-999.0000,1,  -999.00,9,   -999.0,1,-999.000,9,   2327.0,2,   2425.0,2,     7.58,2,35511.5,-999.0000,-999.000,-999.000,  1.5434,-999.000
   318MWESTW_4,  P21E,    90,  1,     20, SI9320,2,19940424,0751,-16.7528,-109.3362, 3645,   3637.5,   1.8286,  34.6867,2,  34.6848,2,    149.4,2,    148.1,2,   130.69,2,    35.63,2,     0.01,2,     2.47,2,   -0.003,2,    0.005,2, -999.000,1,-999.0000,1,  -999.00,9,   -999.0,1,-999.000,9,   2327.0,2,   2420.0,2,     7.58,2,36386.6,-999.0000,-999.000,-999.000,  1.5397,-999.000
   318MWESTW_4,  P21E,    90,  1,     19, SI9319,2,19940424,0751,-16.7528,-109.3362, 3645,   3679.6,   1.8318,  34.6865,2,  34.6857,2,    147.6,2,    148.4,2,   130.42,2,    35.65,3,     0.01,2,     2.48,3,   -0.002,2,    0.001,2, -999.000,1,-999.0000,1,  -999.00,9,   -999.0,1,-999.000,9,   2327.0,2,   2422.0,2,     7.58,2,36807.5,-999.0000,-999.000,-999.000,  1.5384,-999.000