BOTTLE,20010911WHPSIOdm
EXPOCODE,SECT_ID,STNNBR,CASTNO,SAMPNO,BTLNBR,BTLNBR_FLAG_W,DATE,TIME,LATITUDE,LONGITUDE,DEPTH,CTDPRS,CTDTMP,CTDSAL,CTDSAL_FLAG_W,SALNTY,SALNTY_FLAG_W,CTDOXY,CTDOXY_FLAG_W,OXYGEN,OXYGEN_FLAG_W,SILCAT,SILCAT_FLAG_W,NITRAT,NITRAT_FLAG_W,NITRIT,NITRIT_FLAG_W,PHSPHT,PHSPHT_FLAG_W,CFC-11,CFC-11_FLAG_W,CFC-12,CFC-12_FLAG_W,TRITUM,TRITUM_FLAG_W,HELIUM,HELIUM_FLAG_W,DELHE3,DELHE3_FLAG_W,DELC14,DELC14_FLAG_W,NEON,NEON_FLAG_W,TCARBN,TCARBN_FLAG_W,ALKALI,ALKALI_FLAG_W,PH,PH_FLAG_W,CTDRAW,HELIER,DELHER,NEONER,THETA,TRITER
,,,,,,,,,,,,DBAR,ITS-90,PSS-78,,PSS-78,,UMOL/KG,,UMOL/KG,,UMOL/KG,,UMOL/KG,,UMOL/KG,,UMOL/KG,,PMOL/KG,,PMOL/KG,,TU,,UMOL/KG,,PERCNT,,/MILLE,,NMOL/KG,,UMOL/KG,,UMOL/KG,,,,,NMOL/KG,PERCNT,NMOL/KG,ITS-90,TU
   318MWESTW_4,  P21E,   114,  1,     24, SI9404,2,19940501,0631,-16.7500,-122.6667, 3670,      7.3,  26.8922,  36.6948,2,  36.6953,2,    204.3,2,    207.4,2,     0.10,2,     0.00,2,     0.01,2,     0.20,2,    1.708,2,    0.964,2, -999.000,1,-999.0000,1,  -999.00,9,   -999.0,1,-999.000,9,   2039.8,2,   2410.0,2,     8.10,2,  123.6,-999.0000,-999.000,-999.000, 26.8905,-999.000
   318MWESTW_4,  P21E,   114,  1,     23, SI9405,2,19940501,0631,-16.7500,-122.6667, 3670,     24.2,  26.8868,  36.6942,2,  36.6961,2,    202.7,2,    204.7,2,     0.11,2,     0.00,2,     0.00,2,     0.21,2,    1.706,2,    0.964,2, -999.000,1,-999.0000,1,  -999.00,9,   -999.0,1,-999.000,9,   2023.7,2,   2409.0,2,     8.10,2,  292.0,-999.0000,-999.000,-999.000, 26.8812,-999.000
   318MWESTW_4,  P21E,   114,  1,     22, SI9407,2,19940501,0631,-16.7500,-122.6667, 3670,     48.7,  26.8863,  36.6930,2,  36.6935,2,    204.3,2,    207.3,2,     0.11,2,    -0.01,2,     0.01,2,     0.22,2,    1.703,2,    0.966,2, -999.000,1,-999.0000,1,  -999.00,9,   -999.0,1,-999.000,9,   2045.8,2,   2412.0,2,     8.10,2,  537.3,-999.0000,-999.000,-999.000, 26.8751,-999.000
   318MWESTW_4,  P21E,   114,  1,     21, SI9408,2,19940501,0631,-16.7500,-122.6667, 3670,    101.2,  24.4234,  36.5164,2,  36.5165,2,    217.9,2,    215.2,2,     0.11,2,    -0.06,2,     0.01,2,     0.26,2,    1.916,2,    1.064,2, -999.000,1,-999.0000,1,  -999.00,9,   -999.0,1,-999.000,9,   2057.8,2,   2399.0,2,     8.07,2, 1059.9,-999.0000,-999.000,-999.000, 24.4017,-999.000
   318MWESTW_4,  P21E,   114,  1,     20, SI9409,2,19940501,0631,-16.7500,-122.6667, 3670,    149.7,  23.2385,  36.4397,2,  36.4416,2,    208.9,2,    203.1,2,     0.11,2,     0.05,2,     0.05,2,     0.29,2,    1.974,2,    1.084,2, -999.000,1,-999.0000,1,  -999.00,9,   -999.0,1,-999.000,9,   2072.8,2,   2395.0,2,     8.05,2, 1543.5,-999.0000,-999.000,-999.000, 23.2075,-999.000
   318MWESTW_4,  P21E,   114,  1,     19, SI9411,2,19940501,0631,-16.7500,-122.6667, 3670,    200.9,  21.3590,  36.0666,2,  36.0598,2,    198.7,2,    193.6,2,     0.11,2,     1.70,2,     0.06,2,     0.43,2,    2.120,2,    1.150,2, -999.000,1,-999.0000,1,  -999.00,9,   -999.0,1,-999.000,9,   -999.0,9,   -999.0,9,  -999.00,9, 2053.7,-999.0000,-999.000,-999.000, 21.3199,-999.000
   318MWESTW_4,  P21E,   114,  1,     18, SI9413,2,19940501,0631,-16.7500,-122.6667, 3670,    251.2,  19.4698,  35.6820,2,  35.6897,2,    195.2,2,    189.8,2,     0.27,2,     2.82,2,     0.03,2,     0.49,2,    2.150,2,    1.141,2, -999.000,1,-999.0000,1,  -999.00,9,   -999.0,1,-999.000,9,   2085.8,2,   2346.0,2,     7.96,2, 2554.5,-999.0000,-999.000,-999.000, 19.4240,-999.000
   318MWESTW_4,  P21E,   114,  1,     17, SI9415,2,19940501,0631,-16.7500,-122.6667, 3670,    299.5,  15.7276,  35.0954,2,  35.0978,2,    178.1,2,    167.1,2,     2.20,2,     8.36,2,     0.02,2,     0.88,2,    1.900,2,    0.995,2, -999.000,1,-999.0000,1,  -999.00,9,   -999.0,1,-999.000,9,   2106.8,2,   2306.0,2,     7.85,2, 3035.3,-999.0000,-999.000,-999.000, 15.6806,-999.000
   318MWESTW_4,  P21E,   114,  1,     16, SI9416,2,19940501,0631,-16.7500,-122.6667, 3670,    401.1,   9.9045,  34.5243,2,  34.5248,2,     96.2,2,     85.5,2,    15.20,2,    26.17,2,     0.01,2,     2.17,2,    0.504,2,    0.257,2, -999.000,1,-999.0000,1,  -999.00,9,   -999.0,1,-999.000,9,   2210.9,2,   2279.0,2,     7.54,2, 4045.3,-999.0000,-999.000,-999.000,  9.8580,-999.000
   318MWESTW_4,  P21E,   114,  1,     15, SI9417,2,19940501,0631,-16.7500,-122.6667, 3670,    501.3,   7.4906,  34.4643,2,  34.4632,2,     90.9,2,     91.1,2,    22.26,2,    33.90,2,     0.01,2,     2.43,2,    0.122,2,    0.061,2, -999.000,1,-999.0000,1,  -999.00,9,   -999.0,1,-999.000,9,   2229.9,2,   2282.0,2,     7.49,2, 5042.0,-999.0000,-999.000,-999.000,  7.4412,-999.000
   318MWESTW_4,  P21E,   114,  1,     14, SI9419,2,19940501,0631,-16.7500,-122.6667, 3670,    600.3,   6.2954,  34.4546,2,  34.4530,2,    100.7,2,     97.6,2,    31.09,2,    36.52,2,     0.01,2,     2.54,2,    0.019,2,    0.014,2, -999.000,1,-999.0000,1,  -999.00,9,   -999.0,1,-999.000,9,   2237.9,2,   2292.0,2,     7.49,2, 6026.6,-999.0000,-999.000,-999.000,  6.2412,-999.000
   318MWESTW_4,  P21E,   114,  1,     13, SI9420,2,19940501,0631,-16.7500,-122.6667, 3670,    701.0,   5.7573,  34.4784,2,  34.4767,2,     84.4,2,     81.8,2,    42.33,2,    39.14,2,     0.01,2,     2.72,2,   -0.001,2,   -0.002,2, -999.000,1,-999.0000,1,  -999.00,9,   -999.0,1,-999.000,9,   2259.9,2,   2304.0,2,     7.48,2, 7027.3,-999.0000,-999.000,-999.000,  5.6964,-999.000
   318MWESTW_4,  P21E,   114,  1,     12, SI9421,2,19940501,0631,-16.7500,-122.6667, 3670,    853.8,   5.0187,  34.4930,2,  34.4924,2,     87.9,2,     85.7,2,    56.30,2,    39.85,2,     0.01,2,     2.80,2,    0.000,2,    0.001,2, -999.000,1,-999.0000,1,  -999.00,9,   -999.0,1,-999.000,9,   2273.0,2,   2318.0,2,     7.47,2, 8547.1,-999.0000,-999.000,-999.000,  4.9484,-999.000
   318MWESTW_4,  P21E,   114,  1,     11, SI9423,2,19940501,0631,-16.7500,-122.6667, 3670,   1002.3,   4.3818,  34.5197,2,  34.5215,2,     81.9,2,     80.6,2,    71.87,2,    40.86,2,     0.01,2,     2.88,2,    0.000,2,   -0.003,2, -999.000,1,-999.0000,1,  -999.00,9,   -999.0,1,-999.000,9,   2293.0,2,   2336.0,2,     7.45,2,10023.5,-999.0000,-999.000,-999.000,  4.3030,-999.000
   318MWESTW_4,  P21E,   114,  1,     10, SI9425,2,19940501,0631,-16.7500,-122.6667, 3670,   1302.2,   3.4249,  34.5634,2,  34.5643,2,     93.1,2,     92.9,2,    94.50,2,    40.09,2,     0.01,2,     2.85,2,    0.000,2,   -0.002,2, -999.000,1,-999.0000,1,  -999.00,9,   -999.0,1,-999.000,9,   2312.0,2,   2362.0,2,     7.47,2,13005.2,-999.0000,-999.000,-999.000,  3.3290,-999.000
   318MWESTW_4,  P21E,   114,  1,      9, SI9424,2,19940501,0631,-16.7500,-122.6667, 3670,   1602.1,   2.7685,  34.5996,2,  34.5989,2,    110.4,2,    109.1,2,   109.43,2,    38.81,2,     0.00,2,     2.75,2,   -0.002,2,    0.003,2, -999.000,1,-999.0000,1,  -999.00,9,   -999.0,1,-999.000,9,   2319.0,2,   2377.0,2,     7.50,2,15986.9,-999.0000,-999.000,-999.000,  2.6548,-999.000
   318MWESTW_4,  P21E,   114,  1,      8, SI9428,2,19940501,0631,-16.7500,-122.6667, 3670,   1900.1,   2.2734,  34.6297,2,  34.6295,2,    134.6,2,    133.6,2,   114.89,2,    36.85,2,     0.00,2,     2.59,2, -999.000,9, -999.000,9, -999.000,1,-999.0000,1,  -999.00,9,   -999.0,1,-999.000,9,   2311.0,2,   2384.0,2,     7.54,2,18949.8,-999.0000,-999.000,-999.000,  2.1413,-999.000
   318MWESTW_4,  P21E,   114,  1,      7, SI9429,2,19940501,0631,-16.7500,-122.6667, 3670,   2199.0,   1.9828,  34.6533,2,  34.6529,2,    149.8,2,    149.8,2,   118.26,2,    35.50,2,     0.01,2,     2.48,2, -999.000,9, -999.000,9, -999.000,1,-999.0000,1,  -999.00,9,   -999.0,1,-999.000,9,   2306.0,2,   2391.0,2,     7.57,2,21920.7,-999.0000,-999.000,-999.000,  1.8296,-999.000
   318MWESTW_4,  P21E,   114,  1,      6, SI9431,2,19940501,0631,-16.7500,-122.6667, 3670,   2499.4,   1.8632,  34.6666,2,  34.6673,2,    152.7,2,    152.6,2,   123.89,2,    35.36,2,     0.00,2,     2.47,2, -999.000,9, -999.000,9, -999.000,1,-999.0000,1,  -999.00,9,   -999.0,1,-999.000,9,   2308.0,2,   2397.0,2,     7.58,2,24907.6,-999.0000,-999.000,-999.000,  1.6855,-999.000
   318MWESTW_4,  P21E,   114,  1,      5, SI9432,2,19940501,0631,-16.7500,-122.6667, 3670,   2798.5,   1.7849,  34.6730,2,  34.6730,2,    155.4,2,    155.7,2,   125.82,2,    35.23,2,     0.00,2,     2.46,2, -999.000,9, -999.000,9, -999.000,1,-999.0000,1,  -999.00,9,   -999.0,1,-999.000,9,   2311.0,2,   2403.0,2,     7.58,2,27880.6,-999.0000,-999.000,-999.000,  1.5811,-999.000
   318MWESTW_4,  P21E,   114,  1,      4, SI9433,2,19940501,0631,-16.7500,-122.6667, 3670,   3100.2,   1.7336,  34.6765,2,  34.6767,2,    159.3,2,    159.0,2,   127.11,2,    35.03,2,     0.00,2,     2.44,2, -999.000,9, -999.000,9, -999.000,1,-999.0000,1,  -999.00,9,   -999.0,1,-999.000,9,   2311.0,2,   2400.0,2,     7.59,2,30880.4,-999.0000,-999.000,-999.000,  1.5019,-999.000
   318MWESTW_4,  P21E,   114,  1,      3, SI9435,2,19940501,0631,-16.7500,-122.6667, 3670,   3398.4,   1.6719,  34.6811,2,  34.6814,2,    162.0,2,    161.2,2,   128.40,2,    34.93,2,     0.00,2,     2.43,2, -999.000,9, -999.000,9, -999.000,1,-999.0000,1,  -999.00,9,   -999.0,1,-999.000,9,   2310.0,2,   2405.0,2,     7.59,2,33845.1,-999.0000,-999.000,-999.000,  1.4119,-999.000
   318MWESTW_4,  P21E,   114,  1,      2, SI9401,2,19940501,0631,-16.7500,-122.6667, 3670,   3659.8,   1.6741,  34.6826,2,  34.6814,2,    163.6,2,    162.4,2,   128.57,2,    34.99,2,    -0.01,2,     2.43,2, -999.000,9, -999.000,9, -999.000,1,-999.0000,1,  -999.00,9,   -999.0,1,-999.000,9,   2311.0,2,   2403.0,2,     7.59,2,36443.6,-999.0000,-999.000,-999.000,  1.3869,-999.000
   318MWESTW_4,  P21E,   114,  1,      1, SI9403,2,19940501,0631,-16.7500,-122.6667, 3670,   3699.3,   1.6778,  34.6824,2,  34.6822,2,    163.3,2,    162.8,2,   128.61,2,    34.87,2,     0.01,2,     2.42,2, -999.000,9, -999.000,9, -999.000,1,-999.0000,1,  -999.00,9,   -999.0,1,-999.000,9,   2310.0,2,   2406.0,2,     7.58,2,36835.9,-999.0000,-999.000,-999.000,  1.3864,-999.000
   318MWESTW_4,  P21E,   115,  1,     24, SI9404,2,19940501,1300,-16.7500,-123.3333, 3650,      5.9,  26.8194,  36.6275,2,  36.6277,2,    215.9,2,    211.3,2,    -0.29,2,     0.01,2,     0.00,2,     0.24,2,    1.694,2,    0.966,2, -999.000,1,-999.0000,1,  -999.00,9,   -999.0,1,-999.000,9,   -999.0,9,   -999.0,9,  -999.00,9,  109.6,-999.0000,-999.000,-999.000, 26.8180,-999.000
   318MWESTW_4,  P21E,   115,  1,     23, SI9405,2,19940501,1300,-16.7500,-123.3333, 3650,     21.0,  26.8397,  36.6269,2,  36.6271,2,    212.2,2,    209.9,2,    -0.12,2,     0.02,2,    -0.01,2,     0.25,2,    1.686,2,    0.956,2, -999.000,1,-999.0000,1,  -999.00,9,   -999.0,1,-999.000,9,   -999.0,9,   -999.0,9,  -999.00,9,  260.3,-999.0000,-999.000,-999.000, 26.8349,-999.000
   318MWESTW_4,  P21E,   115,  1,     22, SI9407,2,19940501,1300,-16.7500,-123.3333, 3650,     47.0,  26.8405,  36.6258,2,  36.6265,2,    207.8,2,    209.5,2,    -0.10,2,    -0.03,2,     0.00,2,     0.25,2,    1.666,2,    0.949,2, -999.000,1,-999.0000,1,  -999.00,9,   -999.0,1,-999.000,9,   -999.0,9,   -999.0,9,  -999.00,9,  520.4,-999.0000,-999.000,-999.000, 26.8297,-999.000
   318MWESTW_4,  P21E,   115,  1,     21, SI9408,2,19940501,1300,-16.7500,-123.3333, 3650,     97.2,  24.0399,  36.4274,2,  36.4564,2,    220.3,2,    219.1,2,    -0.08,2,     0.03,2,    -0.01,2,     0.23,2,    1.918,2,    1.055,2, -999.000,1,-999.0000,1,  -999.00,9,   -999.0,1,-999.000,9,   -999.0,9,   -999.0,9,  -999.00,9, 1020.4,-999.0000,-999.000,-999.000, 24.0193,-999.000
   318MWESTW_4,  P21E,   115,  1,     20, SI9409,2,19940501,1300,-16.7500,-123.3333, 3650,    153.1,  23.0600,  36.3939,2,  36.3946,2,    210.7,2,    207.8,2,    -0.22,2,     0.04,2,     0.18,2,     0.30,2,    1.954,2,    1.083,2, -999.000,1,-999.0000,1,  -999.00,9,   -999.0,1,-999.000,9,   -999.0,9,   -999.0,9,  -999.00,9, 1577.5,-999.0000,-999.000,-999.000, 23.0285,-999.000
   318MWESTW_4,  P21E,   115,  1,     19, SI9411,2,19940501,1300,-16.7500,-123.3333, 3650,    208.3,  20.8329,  35.9551,2,  35.9698,2,    199.7,2,    194.7,2,    -0.05,2,     1.50,2,     0.07,2,     0.41,2,    2.111,2,    1.148,2, -999.000,1,-999.0000,1,  -999.00,9,   -999.0,1,-999.000,9,   -999.0,9,   -999.0,9,  -999.00,9, 2127.0,-999.0000,-999.000,-999.000, 20.7930,-999.000
   318MWESTW_4,  P21E,   115,  1,     18, SI9413,2,19940501,1300,-16.7500,-123.3333, 3650,    245.7,  19.7848,  35.7415,2,  35.7468,2,    190.2,2,    190.5,2,     0.13,2,     2.64,2,     0.00,2,     0.49,2,    2.123,2,    1.138,2, -999.000,1,-999.0000,1,  -999.00,9,   -999.0,1,-999.000,9,   -999.0,9,   -999.0,9,  -999.00,9, 2499.5,-999.0000,-999.000,-999.000, 19.7395,-999.000
   318MWESTW_4,  P21E,   115,  1,     17, SI9415,2,19940501,1300,-16.7500,-123.3333, 3650,    300.1,  16.5650,  35.2187,2,  35.2379,2,    174.8,2,    178.2,2,     1.09,2,     6.14,2,    -0.01,2,     0.70,2,    1.916,2,    1.005,2, -999.000,1,-999.0000,1,  -999.00,9,   -999.0,1,-999.000,9,   -999.0,9,   -999.0,9,  -999.00,9, 3041.3,-999.0000,-999.000,-999.000, 16.5161,-999.000
   318MWESTW_4,  P21E,   115,  1,     16, SI9416,2,19940501,1300,-16.7500,-123.3333, 3650,    399.3,  10.3502,  34.5468,2,  34.5321,2,     99.4,2,    101.4,2,    13.07,2,    24.16,2,     0.00,2,     2.01,2,    0.634,2,    0.323,2, -999.000,1,-999.0000,1,  -999.00,9,   -999.0,1,-999.000,9,   -999.0,9,   -999.0,9,  -999.00,9, 4027.1,-999.0000,-999.000,-999.000, 10.3026,-999.000
   318MWESTW_4,  P21E,   115,  1,     15, SI9417,2,19940501,1300,-16.7500,-123.3333, 3650,    501.8,   7.3412,  34.4358,2,  34.4375,2,    108.0,2,    106.8,2,    20.26,2,    32.80,2,     0.00,2,     2.36,2,    0.111,2,    0.062,2, -999.000,1,-999.0000,1,  -999.00,9,   -999.0,1,-999.000,9,   -999.0,9,   -999.0,9,  -999.00,9, 5047.3,-999.0000,-999.000,-999.000,  7.2923,-999.000
   318MWESTW_4,  P21E,   115,  1,     14, SI9419,2,19940501,1300,-16.7500,-123.3333, 3650,    603.3,   5.9062,  34.4024,2,  34.4006,2,    128.8,2,    131.3,2,    27.13,2,    34.32,2,     0.02,2,     2.38,2,    0.033,2,    0.019,2, -999.000,1,-999.0000,1,  -999.00,9,   -999.0,1,-999.000,9,   -999.0,9,   -999.0,9,  -999.00,9, 6055.8,-999.0000,-999.000,-999.000,  5.8536,-999.000
   318MWESTW_4,  P21E,   115,  1,     13, SI9420,2,19940501,1300,-16.7500,-123.3333, 3650,    692.6,   5.4973,  34.4495,2,  34.4493,2,    112.9,2,    108.4,2,    40.52,2,    37.10,2,     0.01,2,     2.57,2,    0.001,2,    0.002,2, -999.000,1,-999.0000,1,  -999.00,9,   -999.0,1,-999.000,9,   -999.0,9,   -999.0,9,  -999.00,9, 6944.2,-999.0000,-999.000,-999.000,  5.4386,-999.000
   318MWESTW_4,  P21E,   115,  1,     12, SI9421,2,19940501,1300,-16.7500,-123.3333, 3650,    813.7,   5.0149,  34.4930,2,  34.4924,2,     89.3,2,     86.7,2,    56.15,2,    39.86,2,     0.01,2,     2.79,2,    0.001,2,   -0.002,2, -999.000,1,-999.0000,1,  -999.00,9,   -999.0,1,-999.000,9,   -999.0,9,   -999.0,9,  -999.00,9, 8148.1,-999.0000,-999.000,-999.000,  4.9481,-999.000
   318MWESTW_4,  P21E,   115,  1,     11, SI9423,2,19940501,1300,-16.7500,-123.3333, 3650,   1042.3,   4.1797,  34.5293,2,  34.5286,2,     82.0,2,     81.2,2,    77.19,2,    41.03,2,     0.01,2,     2.89,2,    0.000,2,   -0.001,2, -999.000,1,-999.0000,1,  -999.00,9,   -999.0,1,-999.000,9,   -999.0,9,   -999.0,9,  -999.00,9,10421.0,-999.0000,-999.000,-999.000,  4.0990,-999.000
   318MWESTW_4,  P21E,   115,  1,     10, SI9425,2,19940501,1300,-16.7500,-123.3333, 3650,   1289.7,   3.4248,  34.5646,2,  34.5635,2,     92.4,2,     92.0,2,    95.19,2,    40.30,2,     0.00,2,     2.86,2,   -0.001,2,   -0.003,2, -999.000,1,-999.0000,1,  -999.00,9,   -999.0,1,-999.000,9,   -999.0,9,   -999.0,9,  -999.00,9,12880.8,-999.0000,-999.000,-999.000,  3.3300,-999.000
   318MWESTW_4,  P21E,   115,  1,      9, SI9424,2,19940501,1300,-16.7500,-123.3333, 3650,   1547.7,   2.8053,  34.5980,2,  34.5973,2,    105.7,2,    107.6,2,   109.53,2,    39.10,2,    -0.01,2,     2.78,2,   -0.003,2,   -0.003,2, -999.000,1,-999.0000,1,  -999.00,9,   -999.0,1,-999.000,9,   -999.0,9,   -999.0,9,  -999.00,9,15446.1,-999.0000,-999.000,-999.000,  2.6957,-999.000
   318MWESTW_4,  P21E,   115,  1,      8, SI9428,2,19940501,1300,-16.7500,-123.3333, 3650,   1804.9,   2.3582,  34.6242,2,  34.6250,2,    126.3,2,    127.9,2,   114.63,2,    37.41,2,    -0.01,2,     2.63,2, -999.000,9, -999.000,9, -999.000,1,-999.0000,1,  -999.00,9,   -999.0,1,-999.000,9,   -999.0,9,   -999.0,9,  -999.00,9,18003.3,-999.0000,-999.000,-999.000,  2.2329,-999.000
   318MWESTW_4,  P21E,   115,  1,      7, SI9429,2,19940501,1300,-16.7500,-123.3333, 3650,   2114.5,   1.9901,  34.6516,2,  34.6515,2,    148.5,2,    149.4,2,   118.13,2,    35.66,2,    -0.01,2,     2.48,2, -999.000,9, -999.000,9, -999.000,1,-999.0000,1,  -999.00,9,   -999.0,1,-999.000,9,   -999.0,9,   -999.0,9,  -999.00,9,21080.8,-999.0000,-999.000,-999.000,  1.8441,-999.000
   318MWESTW_4,  P21E,   115,  1,      6, SI9431,2,19940501,1300,-16.7500,-123.3333, 3650,   2376.8,   1.8791,  34.6636,2,  34.6639,2,    151.3,2,    151.7,2,   122.59,2,    35.49,2,     0.01,2,     2.47,2, -999.000,9, -999.000,9, -999.000,1,-999.0000,1,  -999.00,9,   -999.0,1,-999.000,9,   -999.0,9,   -999.0,9,  -999.00,9,23688.9,-999.0000,-999.000,-999.000,  1.7121,-999.000
   318MWESTW_4,  P21E,   115,  1,      5, SI9432,2,19940501,1300,-16.7500,-123.3333, 3650,   2696.9,   1.7902,  34.6717,2,  34.6714,2,    154.4,2,    154.3,2,   126.25,2,    35.34,2,     0.01,2,     2.46,2, -999.000,9, -999.000,9, -999.000,1,-999.0000,1,  -999.00,9,   -999.0,1,-999.000,9,   -999.0,9,   -999.0,9,  -999.00,9,26870.7,-999.0000,-999.000,-999.000,  1.5958,-999.000
   318MWESTW_4,  P21E,   115,  1,      4, SI9433,2,19940501,1300,-16.7500,-123.3333, 3650,   2987.7,   1.7288,  34.6763,2,  34.6763,2,    157.5,2,    157.0,2,   127.53,2,    35.21,2,     0.01,2,     2.46,2, -999.000,9, -999.000,9, -999.000,1,-999.0000,1,  -999.00,9,   -999.0,1,-999.000,9,   -999.0,9,   -999.0,9,  -999.00,9,29761.9,-999.0000,-999.000,-999.000,  1.5082,-999.000
   318MWESTW_4,  P21E,   115,  1,      3, SI9435,2,19940501,1300,-16.7500,-123.3333, 3650,   3296.0,   1.6683,  34.6809,2,  34.6808,2,    161.4,2,    160.8,2,   128.34,2,    35.01,2,     0.01,2,     2.42,2, -999.000,9, -999.000,9, -999.000,1,-999.0000,1,  -999.00,9,   -999.0,1,-999.000,9,   -999.0,9,   -999.0,9,  -999.00,9,32827.3,-999.0000,-999.000,-999.000,  1.4187,-999.000
   318MWESTW_4,  P21E,   115,  1,      2, SI9401,2,19940501,1300,-16.7500,-123.3333, 3650,   3578.1,   1.6586,  34.6832,2,  34.6824,2,    163.6,2,    162.4,2,   128.97,2,    34.97,2,     0.00,2,     2.43,2, -999.000,9, -999.000,9, -999.000,1,-999.0000,1,  -999.00,9,   -999.0,1,-999.000,9,   -999.0,9,   -999.0,9,  -999.00,9,35631.1,-999.0000,-999.000,-999.000,  1.3804,-999.000
   318MWESTW_4,  P21E,   115,  1,      1, SI9403,2,19940501,1300,-16.7500,-123.3333, 3650,   3676.0,   1.6665,  34.6831,2,  34.6822,2,    164.1,2,    162.6,2,   128.89,2,    34.91,2,     0.01,2,     2.42,2, -999.000,9, -999.000,9, -999.000,1,-999.0000,1,  -999.00,9,   -999.0,1,-999.000,9,   -999.0,9,   -999.0,9,  -999.00,9,36604.4,-999.0000,-999.000,-999.000,  1.3778,-999.000