BOTTLE,20010911WHPSIOdm
EXPOCODE,SECT_ID,STNNBR,CASTNO,SAMPNO,BTLNBR,BTLNBR_FLAG_W,DATE,TIME,LATITUDE,LONGITUDE,DEPTH,CTDPRS,CTDTMP,CTDSAL,CTDSAL_FLAG_W,SALNTY,SALNTY_FLAG_W,CTDOXY,CTDOXY_FLAG_W,OXYGEN,OXYGEN_FLAG_W,SILCAT,SILCAT_FLAG_W,NITRAT,NITRAT_FLAG_W,NITRIT,NITRIT_FLAG_W,PHSPHT,PHSPHT_FLAG_W,CFC-11,CFC-11_FLAG_W,CFC-12,CFC-12_FLAG_W,TRITUM,TRITUM_FLAG_W,HELIUM,HELIUM_FLAG_W,DELHE3,DELHE3_FLAG_W,DELC14,DELC14_FLAG_W,NEON,NEON_FLAG_W,TCARBN,TCARBN_FLAG_W,ALKALI,ALKALI_FLAG_W,PH,PH_FLAG_W,CTDRAW,HELIER,DELHER,NEONER,THETA,TRITER
,,,,,,,,,,,,DBAR,ITS-90,PSS-78,,PSS-78,,UMOL/KG,,UMOL/KG,,UMOL/KG,,UMOL/KG,,UMOL/KG,,UMOL/KG,,PMOL/KG,,PMOL/KG,,TU,,UMOL/KG,,PERCNT,,/MILLE,,NMOL/KG,,UMOL/KG,,UMOL/KG,,,,,NMOL/KG,PERCNT,NMOL/KG,ITS-90,TU
   318MWESTW_5,  P21W,   254,  1,     25, SI9425,2,19940613,1218,-19.9167, 164.4667, 2580,      7.0,  24.2585,  35.1660,2,  35.1673,2,    211.9,2,    211.4,2,     0.57,2,     0.07,2,     0.00,2,     0.08,2,    1.856,2,    1.050,2, -999.000,1,-999.0000,1,  -999.00,9,   -999.0,1,-999.000,9,   -999.0,9,   2306.6,2,     8.11,2,  128.9,-999.0000,-999.000,-999.000, 24.2570,-999.000
   318MWESTW_5,  P21W,   254,  1,     24, SI9434,2,19940613,1218,-19.9167, 164.4667, 2580,     20.3,  24.2028,  35.2147,2,  35.2109,2,    210.8,2,    209.4,2,     0.58,2,     0.06,2,     0.01,2,     0.08,2, -999.000,9, -999.000,9, -999.000,1,-999.0000,1,  -999.00,9,   -999.0,1,-999.000,9,   -999.0,9,   2320.0,2,     8.11,2,  261.4,-999.0000,-999.000,-999.000, 24.1985,-999.000
   318MWESTW_5,  P21W,   254,  1,     23, SI9423,2,19940613,1218,-19.9167, 164.4667, 2580,     45.5,  24.0952,  35.3112,2,  35.2170,2,    208.9,2,    213.1,2,     0.45,2,     0.02,2,     0.01,2,     0.09,2,    1.873,2,    1.047,2, -999.000,1,-999.0000,1,  -999.00,9,   -999.0,1,-999.000,9,   -999.0,9,   2329.9,2,     8.10,2,  513.4,-999.0000,-999.000,-999.000, 24.0856,-999.000
   318MWESTW_5,  P21W,   254,  1,     22, SI9418,2,19940613,1218,-19.9167, 164.4667, 2580,     96.3,  23.8830,  35.4147,2,  35.4480,2,    200.2,2,    207.3,2,     0.60,2,     0.39,2,     0.19,2,     0.15,2,    1.892,2,    1.059,2, -999.000,1,-999.0000,1,  -999.00,9,   -999.0,1,-999.000,9,   -999.0,9,   2331.9,2,     8.08,2, 1019.1,-999.0000,-999.000,-999.000, 23.8628,-999.000
   318MWESTW_5,  P21W,   254,  1,     21, SI9421,2,19940613,1218,-19.9167, 164.4667, 2580,    147.0,  21.2884,  35.7376,2,  35.7355,2,    183.9,2,    186.0,2,     0.88,2,     2.83,2,     0.03,2,     0.32,2,    2.013,2,    1.104,2, -999.000,1,-999.0000,1,  -999.00,9,   -999.0,1,-999.000,9,   -999.0,9,   2353.9,2,     8.01,2, 1523.4,-999.0000,-999.000,-999.000, 21.2599,-999.000
   318MWESTW_5,  P21W,   254,  1,     20, SI9420,2,19940613,1218,-19.9167, 164.4667, 2580,    197.6,  20.2029,  35.7255,2,  35.7142,2,    176.8,2,    183.2,2,     1.03,2,     3.76,2,     0.02,2,     0.39,2,    2.025,2,    1.103,2, -999.000,1,-999.0000,1,  -999.00,9,   -999.0,1,-999.000,9,   -999.0,9,   2337.2,2,     7.99,2, 2027.2,-999.0000,-999.000,-999.000, 20.1659,-999.000
   318MWESTW_5,  P21W,   254,  1,     19, SI9419,2,19940613,1218,-19.9167, 164.4667, 2580,    248.8,  18.7873,  35.6260,2,  35.6202,2,    175.8,2,    181.5,2,     1.46,2,     5.10,2,     0.01,2,     0.48,2,    1.986,2,    1.073,2, -999.000,1,-999.0000,1,  -999.00,9,   -999.0,1,-999.000,9,   -999.0,9,   -999.0,9,  -999.00,9, 2537.1,-999.0000,-999.000,-999.000, 18.7431,-999.000
   318MWESTW_5,  P21W,   254,  1,     18, SI9439,2,19940613,1218,-19.9167, 164.4667, 2580,    299.6,  17.3205,  35.5073,2,  35.5016,2,    179.1,2,    182.4,2,     2.16,2,     6.74,2,     0.01,2,     0.60,2,    1.920,2,    1.018,2, -999.000,1,-999.0000,1,  -999.00,9,   -999.0,1,-999.000,9,   -999.0,9,   2349.9,2,     7.93,2, 3042.8,-999.0000,-999.000,-999.000, 17.2701,-999.000
   318MWESTW_5,  P21W,   254,  1,     17, SI9417,2,19940613,1218,-19.9167, 164.4667, 2580,    342.0,  16.5337,  35.4339,2,  35.4352,2,    182.1,2,    181.6,2,     2.58,2,     7.75,2,     0.01,2,     0.66,2, -999.000,9, -999.000,9, -999.000,1,-999.0000,1,  -999.00,9,   -999.0,1,-999.000,9,   -999.0,9,   -999.0,9,  -999.00,9, 3464.5,-999.0000,-999.000,-999.000, 16.4779,-999.000
   318MWESTW_5,  P21W,   254,  1,     16, SI9416,2,19940613,1218,-19.9167, 164.4667, 2580,    388.8,  14.8531,  35.2681,2,  35.2655,2,    181.7,2,    180.7,2,     3.56,2,    10.26,2,     0.01,2,     0.83,2,    1.693,2,    0.883,2, -999.000,1,-999.0000,1,  -999.00,9,   -999.0,1,-999.000,9,   -999.0,9,   -999.0,9,  -999.00,9, 3930.5,-999.0000,-999.000,-999.000, 14.7941,-999.000
   318MWESTW_5,  P21W,   254,  1,     15, SI9415,2,19940613,1218,-19.9167, 164.4667, 2580,    503.0,  10.8173,  34.8258,2,  34.8279,2,    184.9,2,    185.6,2,     6.88,2,    17.29,2,     0.01,2,     1.26,2,    1.118,2,    0.571,2, -999.000,1,-999.0000,1,  -999.00,9,   -999.0,1,-999.000,9,   -999.0,9,   2292.7,2,     7.71,2, 5066.0,-999.0000,-999.000,-999.000, 10.7552,-999.000
   318MWESTW_5,  P21W,   254,  1,     14, SI9436,2,19940613,1218,-19.9167, 164.4667, 2580,    602.7,   8.5237,  34.5962,2,  34.5910,2,    192.2,2,    193.4,2,    10.76,2,    21.77,2,     0.01,2,     1.53,2, -999.000,9, -999.000,9, -999.000,1,-999.0000,1,  -999.00,9,   -999.0,1,-999.000,9,   -999.0,9,   2305.9,2,     7.67,2, 6057.6,-999.0000,-999.000,-999.000,  8.4591,-999.000
   318MWESTW_5,  P21W,   254,  1,     13, SI9413,2,19940613,1218,-19.9167, 164.4667, 2580,    704.2,   6.6806,  34.4400,2,  34.4469,2,    195.6,2,    197.4,2,    17.83,2,    25.79,2,     0.01,2,     1.81,2,    0.369,2,    0.198,2, -999.000,1,-999.0000,1,  -999.00,9,   -999.0,1,-999.000,9,   -999.0,9,   2295.3,2,     7.62,2, 7067.1,-999.0000,-999.000,-999.000,  6.6145,-999.000
   318MWESTW_5,  P21W,   254,  1,     12, SI9438,2,19940613,1218,-19.9167, 164.4667, 2580,    817.1,   5.5412,  34.4108,2,  34.4102,2,    188.8,2,    188.9,2,    29.18,2,    28.89,2,     0.01,2,     1.99,2, -999.000,9, -999.000,9, -999.000,1,-999.0000,1,  -999.00,9,   -999.0,1,-999.000,9,   -999.0,9,   -999.0,9,  -999.00,9, 8189.4,-999.0000,-999.000,-999.000,  5.4710,-999.000
   318MWESTW_5,  P21W,   254,  1,     11, SI9411,2,19940613,1218,-19.9167, 164.4667, 2580,    896.9,   5.0727,  34.4268,2,  34.4204,2,    180.9,2,    185.3,2,    37.34,2,    30.22,2,     0.01,2,     2.09,2,    0.104,2,    0.060,2, -999.000,1,-999.0000,1,  -999.00,9,   -999.0,1,-999.000,9,   -999.0,9,   2321.4,2,     7.59,2, 8983.5,-999.0000,-999.000,-999.000,  4.9983,-999.000
   318MWESTW_5,  P21W,   254,  1,     10, SI9412,2,19940613,1218,-19.9167, 164.4667, 2580,    986.3,   4.4642,  34.4513,2,  34.4512,2,    173.5,2,    174.8,2,    50.49,2,    31.72,2,     0.01,2,     2.20,2, -999.000,9, -999.000,9, -999.000,1,-999.0000,1,  -999.00,9,   -999.0,1,-999.000,9,   -999.0,9,   -999.0,9,  -999.00,9, 9872.0,-999.0000,-999.000,-999.000,  4.3862,-999.000
   318MWESTW_5,  P21W,   254,  1,      9, SI9410,2,19940613,1218,-19.9167, 164.4667, 2580,   1104.5,   3.9755,  34.4816,2,  34.4846,2,    167.1,2,    169.5,2,    62.53,2,    32.74,2,     0.00,2,     2.27,2,    0.028,2,    0.016,2, -999.000,1,-999.0000,1,  -999.00,9,   -999.0,1,-999.000,9,   -999.0,9,   2352.4,2,     7.57,2,11047.3,-999.0000,-999.000,-999.000,  3.8913,-999.000
   318MWESTW_5,  P21W,   254,  1,      8, SI9422,2,19940613,1218,-19.9167, 164.4667, 2580,   1308.0,   3.3884,  34.5369,2,  34.5388,2,    160.8,2,    161.3,2,    79.69,2,    33.73,2,     0.01,2,     2.35,2,    0.014,2,    0.006,2, -999.000,1,-999.0000,1,  -999.00,9,   -999.0,1,-999.000,9,   -999.0,9,   -999.0,9,  -999.00,9,13070.1,-999.0000,-999.000,-999.000,  3.2925,-999.000
   318MWESTW_5,  P21W,   254,  1,      7, SI9407,2,19940613,1218,-19.9167, 164.4667, 2580,   1507.7,   3.0365,  34.5704,2,  34.5704,2,    155.8,2,    157.7,2,    89.78,2,    34.29,2,     0.01,2,     2.38,2,    0.007,2,    0.006,2, -999.000,1,-999.0000,1,  -999.00,9,   -999.0,1,-999.000,9,   -999.0,9,   2365.0,2,     7.56,2,15056.0,-999.0000,-999.000,-999.000,  2.9276,-999.000
   318MWESTW_5,  P21W,   254,  1,      6, SI9427,2,19940613,1218,-19.9167, 164.4667, 2580,   1718.2,   2.6023,  34.6125,2,  34.6124,2,    152.2,2,    153.3,2,   101.96,2,    34.84,2,     0.01,2,     2.43,2,    0.001,2,    0.001,2, -999.000,1,-999.0000,1,  -999.00,9,   -999.0,1,-999.000,9,   -999.0,9,   -999.0,9,  -999.00,9,17148.4,-999.0000,-999.000,-999.000,  2.4810,-999.000
   318MWESTW_5,  P21W,   254,  1,      5, SI9405,2,19940613,1218,-19.9167, 164.4667, 2580,   1885.5,   2.3854,  34.6345,2,  34.6348,2,    151.5,2,    151.6,2,   107.91,2,    35.08,2,     0.00,2,     2.44,2, -999.000,9, -999.000,9, -999.000,1,-999.0000,1,  -999.00,9,   -999.0,1,-999.000,9,   -999.0,9,   2388.0,2,     7.57,2,18811.4,-999.0000,-999.000,-999.000,  2.2529,-999.000
   318MWESTW_5,  P21W,   254,  1,      4, SI9404,2,19940613,1218,-19.9167, 164.4667, 2580,   2112.8,   2.2064,  34.6512,2,  34.6519,2,    151.5,2,    152.6,2,   112.06,2,    35.08,2,     0.01,2,     2.44,2, -999.000,9, -999.000,9, -999.000,1,-999.0000,1,  -999.00,9,   -999.0,1,-999.000,9,   -999.0,9,   -999.0,9,  -999.00,9,21071.3,-999.0000,-999.000,-999.000,  2.0570,-999.000
   318MWESTW_5,  P21W,   254,  1,      3, SI9403,2,19940613,1218,-19.9167, 164.4667, 2580,   2304.2,   2.1478,  34.6574,2,  34.6568,2,    152.7,2,    153.7,2,   113.31,2,    35.04,2,     0.00,2,     2.43,2, -999.000,9, -999.000,9, -999.000,1,-999.0000,1,  -999.00,9,   -999.0,1,-999.000,9,   -999.0,9,   -999.0,9,  -999.00,9,22974.4,-999.0000,-999.000,-999.000,  1.9825,-999.000
   318MWESTW_5,  P21W,   254,  1,      2, SI9437,2,19940613,1218,-19.9167, 164.4667, 2580,   2476.3,   1.9773,  34.6672,2,  34.6714,2,    152.6,2,    154.4,2,   117.19,2,    34.95,2,     0.01,2,     2.43,2, -999.000,9, -999.000,9, -999.000,1,-999.0000,1,  -999.00,9,   -999.0,1,-999.000,9,   -999.0,9,   -999.0,9,  -999.00,9,24684.6,-999.0000,-999.000,-999.000,  1.7995,-999.000
   318MWESTW_5,  P21W,   254,  1,      1, SI9401,2,19940613,1218,-19.9167, 164.4667, 2580,   2526.8,   1.9431,  34.6747,2,  34.6737,2,    153.3,2,    155.7,2,   117.95,2,    34.92,2,     0.00,2,     2.43,2,   -0.001,2,   -0.001,2, -999.000,1,-999.0000,1,  -999.00,9,   -999.0,1,-999.000,9,   -999.0,9,   2404.7,2,     7.87,4,25186.6,-999.0000,-999.000,-999.000,  1.7613,-999.000
   318MWESTW_5,  P21W,   255,  1,     20, SI9420,2,19940613,1942,-19.9445, 164.3528,  930,      3.9,  24.1396,  35.2862,2,  35.2934,2,    208.0,2,    209.8,2,     0.42,2,     0.06,2,     0.01,2,     0.07,2,    1.867,2,    1.031,2, -999.000,1,-999.0000,1,  -999.00,9,   -999.0,1,-999.000,9,   -999.0,9,   -999.0,9,  -999.00,9,   97.5,-999.0000,-999.000,-999.000, 24.1388,-999.000
   318MWESTW_5,  P21W,   255,  1,     19, SI9419,2,19940613,1942,-19.9445, 164.3528,  930,     29.4,  24.1499,  35.2931,2,  35.2944,2,    204.1,2,    210.2,2,     0.43,2,     0.07,2,     0.01,2,     0.08,2,    1.851,2,    1.031,2, -999.000,1,-999.0000,1,  -999.00,9,   -999.0,1,-999.000,9,   -999.0,9,   -999.0,9,  -999.00,9,  351.2,-999.0000,-999.000,-999.000, 24.1437,-999.000
   318MWESTW_5,  P21W,   255,  1,     18, SI9439,2,19940613,1942,-19.9445, 164.3528,  930,     54.6,  24.1516,  35.2956,2,  35.2988,2,    204.3,2,    208.9,2,     0.45,2,     0.08,2,     0.01,2,     0.08,2,    1.857,2,    1.036,2, -999.000,1,-999.0000,1,  -999.00,9,   -999.0,1,-999.000,9,   -999.0,9,   -999.0,9,  -999.00,9,  602.1,-999.0000,-999.000,-999.000, 24.1400,-999.000
   318MWESTW_5,  P21W,   255,  1,     17, SI9417,2,19940613,1942,-19.9445, 164.3528,  930,    104.6,  22.8685,  35.5777,2,  35.5697,2,    187.1,2,    189.5,2,     0.73,2,     1.89,2,     0.10,2,     0.26,2, -999.000,9, -999.000,9, -999.000,1,-999.0000,1,  -999.00,9,   -999.0,1,-999.000,9,   -999.0,9,   -999.0,9,  -999.00,9, 1100.3,-999.0000,-999.000,-999.000, 22.8472,-999.000
   318MWESTW_5,  P21W,   255,  1,     16, SI9416,2,19940613,1942,-19.9445, 164.3528,  930,    139.3,  21.1919,  35.7277,2,  35.7298,2,    181.7,2,    184.3,2,     0.89,2,     3.15,2,     0.03,2,     0.35,2,    1.987,2,    1.057,2, -999.000,1,-999.0000,1,  -999.00,9,   -999.0,1,-999.000,9,   -999.0,9,   -999.0,9,  -999.00,9, 1445.5,-999.0000,-999.000,-999.000, 21.1650,-999.000
   318MWESTW_5,  P21W,   255,  1,     15, SI9415,2,19940613,1942,-19.9445, 164.3528,  930,    193.1,  19.8112,  35.6740,2,  35.6761,2,    179.9,2,    182.7,2,     1.18,2,     4.33,2,     0.02,2,     0.43,2,    1.982,2,    1.074,2, -999.000,1,-999.0000,1,  -999.00,9,   -999.0,1,-999.000,9,   -999.0,9,   -999.0,9,  -999.00,9, 1980.5,-999.0000,-999.000,-999.000, 19.7756,-999.000
   318MWESTW_5,  P21W,   255,  1,     14, SI9436,2,19940613,1942,-19.9445, 164.3528,  930,    245.8,  18.4872,  35.5917,2,  35.5896,2,    177.6,2,    182.7,2,     1.61,2,     5.59,2,     0.01,2,     0.51,2,    1.959,2,    1.040,2, -999.000,1,-999.0000,1,  -999.00,9,   -999.0,1,-999.000,9,   -999.0,9,   -999.0,9,  -999.00,9, 2505.2,-999.0000,-999.000,-999.000, 18.4440,-999.000
   318MWESTW_5,  P21W,   255,  1,     13, SI9413,2,19940613,1942,-19.9445, 164.3528,  930,    306.3,  16.6325,  35.4430,2,  35.4421,2,    182.5,2,    184.1,2,     2.46,2,     7.62,2,     0.01,2,     0.64,2,    1.803,6,    0.946,6, -999.000,1,-999.0000,1,  -999.00,9,   -999.0,1,-999.000,9,   -999.0,9,   -999.0,9,  -999.00,9, 3107.7,-999.0000,-999.000,-999.000, 16.5824,-999.000
   318MWESTW_5,  P21W,   255,  1,     12, SI9438,2,19940613,1942,-19.9445, 164.3528,  930,    354.1,  15.2899,  35.3130,2,  35.3104,2,    187.4,2,    183.7,2,     3.45,2,     9.55,2,     0.01,2,     0.77,2, -999.000,9, -999.000,9, -999.000,1,-999.0000,1,  -999.00,9,   -999.0,1,-999.000,9,   -999.0,9,   -999.0,9,  -999.00,9, 3582.4,-999.0000,-999.000,-999.000, 15.2352,-999.000
   318MWESTW_5,  P21W,   255,  1,     11, SI9411,2,19940613,1942,-19.9445, 164.3528,  930,    392.2,  14.4005,  35.2180,2,  35.2166,2,    184.0,2,    182.8,2,     4.16,2,    11.09,2,     0.00,2,     0.87,2,    1.610,2,    0.825,2, -999.000,1,-999.0000,1,  -999.00,9,   -999.0,1,-999.000,9,   -999.0,9,   -999.0,9,  -999.00,9, 3961.2,-999.0000,-999.000,-999.000, 14.3423,-999.000
   318MWESTW_5,  P21W,   255,  1,     10, SI9412,2,19940613,1942,-19.9445, 164.3528,  930,    440.7,  13.1527,  35.0852,2,  35.0642,2,    183.0,2,    184.1,2,     5.15,2,    13.44,2,     0.01,2,     1.03,2,    1.431,2,    0.726,2, -999.000,1,-999.0000,1,  -999.00,9,   -999.0,1,-999.000,9,   -999.0,9,   -999.0,9,  -999.00,9, 4443.9,-999.0000,-999.000,-999.000, 13.0910,-999.000
   318MWESTW_5,  P21W,   255,  1,      9, SI9410,2,19940613,1942,-19.9445, 164.3528,  930,    496.3,  10.9083,  34.8402,2,  34.8218,2,    185.4,2,    185.3,2,     7.39,2,    17.49,2,     0.01,2,     1.28,2,    1.079,2,    0.554,2, -999.000,1,-999.0000,1,  -999.00,9,   -999.0,1,-999.000,9,   -999.0,9,   -999.0,9,  -999.00,9, 4996.3,-999.0000,-999.000,-999.000, 10.8467,-999.000
   318MWESTW_5,  P21W,   255,  1,      8, SI9422,2,19940613,1942,-19.9445, 164.3528,  930,    547.6,   9.6235,  34.7086,2,  34.6999,2,    189.3,2,    190.4,2,     8.79,2,    19.58,2,     0.01,2,     1.41,2,    0.916,2,    0.463,2, -999.000,1,-999.0000,1,  -999.00,9,   -999.0,1,-999.000,9,   -999.0,9,   -999.0,9,  -999.00,9, 5506.6,-999.0000,-999.000,-999.000,  9.5605,-999.000
   318MWESTW_5,  P21W,   255,  1,      7, SI9407,2,19940613,1942,-19.9445, 164.3528,  930,    598.6,   8.3653,  34.5848,2,  34.5763,2,    191.3,2,    194.2,2,    11.87,2,    22.21,2,     0.01,2,     1.57,2,    0.686,2,    0.349,2, -999.000,1,-999.0000,1,  -999.00,9,   -999.0,1,-999.000,9,   -999.0,9,   -999.0,9,  -999.00,9, 6012.9,-999.0000,-999.000,-999.000,  8.3019,-999.000
   318MWESTW_5,  P21W,   255,  1,      6, SI9427,2,19940613,1942,-19.9445, 164.3528,  930,    649.1,   7.3758,  34.4893,2,  34.4883,2,    195.7,2,    199.3,2,    13.97,2,    24.03,2,     0.00,2,     1.68,2,    0.517,2,    0.270,2, -999.000,1,-999.0000,1,  -999.00,9,   -999.0,1,-999.000,9,   -999.0,9,   -999.0,9,  -999.00,9, 6515.4,-999.0000,-999.000,-999.000,  7.3117,-999.000
   318MWESTW_5,  P21W,   255,  1,      5, SI9405,2,19940613,1942,-19.9445, 164.3528,  930,    692.2,   6.8734,  34.4708,2,  34.4709,2,    193.2,2,    194.8,2,    18.98,2,    25.55,2,     0.00,2,     1.79,2,    0.400,2,    0.211,2, -999.000,1,-999.0000,1,  -999.00,9,   -999.0,1,-999.000,9,   -999.0,9,   -999.0,9,  -999.00,9, 6942.8,-999.0000,-999.000,-999.000,  6.8075,-999.000
   318MWESTW_5,  P21W,   255,  1,      4, SI9404,2,19940613,1942,-19.9445, 164.3528,  930,    767.1,   5.7219,  34.4103,2,  34.4135,2,    187.0,2,    195.3,2,    27.34,2,    28.37,2,     0.01,2,     1.96,2,    0.187,6,    0.102,6, -999.000,1,-999.0000,1,  -999.00,9,   -999.0,1,-999.000,9,   -999.0,9,   -999.0,9,  -999.00,9, 7687.4,-999.0000,-999.000,-999.000,  5.6552,-999.000
   318MWESTW_5,  P21W,   255,  1,      3, SI9403,2,19940613,1942,-19.9445, 164.3528,  930,    819.0,   5.4424,  34.4265,2,  34.4267,2,    183.5,2,    186.4,2,    33.20,2,    29.17,2,     0.00,2,     2.01,2,    0.157,2,    0.087,2, -999.000,1,-999.0000,1,  -999.00,9,   -999.0,1,-999.000,9,   -999.0,9,   -999.0,9,  -999.00,9, 8202.5,-999.0000,-999.000,-999.000,  5.3726,-999.000
   318MWESTW_5,  P21W,   255,  1,      2, SI9437,2,19940613,1942,-19.9445, 164.3528,  930,    858.9,   5.1668,  34.4221,2,  34.4224,2,    180.6,2,    185.0,2,    36.42,2,    29.87,2,     0.01,2,     2.06,2,    0.116,2,    0.065,2, -999.000,1,-999.0000,1,  -999.00,9,   -999.0,1,-999.000,9,   -999.0,9,   -999.0,9,  -999.00,9, 8598.8,-999.0000,-999.000,-999.000,  5.0951,-999.000
   318MWESTW_5,  P21W,   255,  1,      1, SI9401,2,19940613,1942,-19.9445, 164.3528,  930,    901.0,   5.0250,  34.4348,2,  34.4343,2,    177.0,2,    182.9,2,    40.46,2,    30.23,2,     0.00,2,     2.08,2,    0.111,2,    0.061,2, -999.000,1,-999.0000,1,  -999.00,9,   -999.0,1,-999.000,9,   -999.0,9,   -999.0,9,  -999.00,9, 9016.5,-999.0000,-999.000,-999.000,  4.9505,-999.000