BOTTLE,20010911WHPSIOdm
EXPOCODE,SECT_ID,STNNBR,CASTNO,SAMPNO,BTLNBR,BTLNBR_FLAG_W,DATE,TIME,LATITUDE,LONGITUDE,DEPTH,CTDPRS,CTDTMP,CTDSAL,CTDSAL_FLAG_W,SALNTY,SALNTY_FLAG_W,CTDOXY,CTDOXY_FLAG_W,OXYGEN,OXYGEN_FLAG_W,SILCAT,SILCAT_FLAG_W,NITRAT,NITRAT_FLAG_W,NITRIT,NITRIT_FLAG_W,PHSPHT,PHSPHT_FLAG_W,CFC-11,CFC-11_FLAG_W,CFC-12,CFC-12_FLAG_W,TRITUM,TRITUM_FLAG_W,HELIUM,HELIUM_FLAG_W,DELHE3,DELHE3_FLAG_W,DELC14,DELC14_FLAG_W,NEON,NEON_FLAG_W,TCARBN,TCARBN_FLAG_W,ALKALI,ALKALI_FLAG_W,PH,PH_FLAG_W,CTDRAW,HELIER,DELHER,NEONER,THETA,TRITER
,,,,,,,,,,,,DBAR,ITS-90,PSS-78,,PSS-78,,UMOL/KG,,UMOL/KG,,UMOL/KG,,UMOL/KG,,UMOL/KG,,UMOL/KG,,PMOL/KG,,PMOL/KG,,TU,,UMOL/KG,,PERCNT,,/MILLE,,NMOL/KG,,UMOL/KG,,UMOL/KG,,,,,NMOL/KG,PERCNT,NMOL/KG,ITS-90,TU
   318MWESTW_5,  P21W,   193,  1,     36, SI9442,2,19940530,0320,-17.5000,-168.3333, 4767,      6.4,  27.0846,  35.3787,2,  35.3796,2,    210.1,2,    214.9,2,     0.67,2,     0.17,2,     0.00,2,     0.17,2,    1.664,2,    0.945,2, -999.000,1,-999.0000,1,  -999.00,9,   -999.0,1,-999.000,9,   1952.6,2,   2325.9,2,     8.13,2,  123.3,-999.0000,-999.000,-999.000, 27.0831,-999.000
   318MWESTW_5,  P21W,   193,  1,     35, SI9435,2,19940530,0320,-17.5000,-168.3333, 4767,     24.1,  27.0807,  35.3783,2,  35.3798,2,    214.4,2,    213.2,2,     0.84,2,     0.13,2,     0.00,2,     0.17,2,    1.682,2,    0.959,2, -999.000,1,-999.0000,1,  -999.00,9,   -999.0,1,-999.000,9,   1951.8,2,   2330.1,2,     8.13,2,  300.3,-999.0000,-999.000,-999.000, 27.0752,-999.000
   318MWESTW_5,  P21W,   193,  1,     34, SI9441,2,19940530,0320,-17.5000,-168.3333, 4767,     48.3,  27.0369,  35.4055,2,  35.4226,2,    221.9,2,    207.4,2,     0.69,2,     0.14,2,     0.00,2,     0.18,2,    1.704,2,    0.964,2, -999.000,1,-999.0000,1,  -999.00,9,   -999.0,1,-999.000,9,   1957.7,2,   2330.2,2,     8.13,2,  541.8,-999.0000,-999.000,-999.000, 27.0258,-999.000
   318MWESTW_5,  P21W,   193,  1,     33, SI9433,2,19940530,0320,-17.5000,-168.3333, 4767,     99.1,  24.5321,  35.8516,2,  35.8538,2,    217.8,2,    210.9,2,     0.71,2,     0.09,2,     0.01,2,     0.21,2,    1.880,2,    1.055,2, -999.000,1,-999.0000,1,  -999.00,9,   -999.0,1,-999.000,9,   2010.6,2,   2359.8,2,     8.08,2, 1047.9,-999.0000,-999.000,-999.000, 24.5108,-999.000
   318MWESTW_5,  P21W,   193,  1,     32, SI9432,2,19940530,0320,-17.5000,-168.3333, 4767,    149.6,  22.8161,  35.9272,2,  35.9244,2,    193.5,2,    181.1,2,     0.88,2,     1.59,2,     0.09,2,     0.35,2,    1.928,2,    1.023,2, -999.000,1,-999.0000,1,  -999.00,9,   -999.0,1,-999.000,9,   2050.9,2,   2359.4,2,     8.02,2, 1550.3,-999.0000,-999.000,-999.000, 22.7856,-999.000
   318MWESTW_5,  P21W,   193,  1,     31, SI9431,2,19940530,0320,-17.5000,-168.3333, 4767,    201.8,  20.6024,  35.7731,2,  35.7714,2,    181.4,2,    177.2,2,     1.05,2,     3.37,2,     0.02,2,     0.44,2,    1.913,2,    1.032,2, -999.000,1,-999.0000,1,  -999.00,9,   -999.0,1,-999.000,9,   2066.0,2,   2353.1,2,     7.98,2, 2070.0,-999.0000,-999.000,-999.000, 20.5641,-999.000
   318MWESTW_5,  P21W,   193,  1,     30, SI9440,2,19940530,0320,-17.5000,-168.3333, 4767,    252.3,  18.9673,  35.6123,2,  35.6074,2,    188.4,2,    179.6,2,     1.22,2,     3.94,2,     0.02,2,     0.45,2,    1.920,2,    1.031,2, -999.000,1,-999.0000,1,  -999.00,9,   -999.0,1,-999.000,9,   2068.0,2,   2339.5,2,     7.96,2, 2573.4,-999.0000,-999.000,-999.000, 18.9221,-999.000
   318MWESTW_5,  P21W,   193,  1,     29, SI9429,2,19940530,0320,-17.5000,-168.3333, 4767,    302.2,  17.0468,  35.4163,2,  35.4018,2,    181.3,2,    177.1,2,     2.19,2,     6.55,2,     0.00,2,     0.64,2,    1.722,2,    0.929,2, -999.000,1,-999.0000,1,  -999.00,9,   -999.0,1,-999.000,9,   2085.9,2,   2332.0,2,     7.91,2, 3069.6,-999.0000,-999.000,-999.000, 16.9965,-999.000
   318MWESTW_5,  P21W,   193,  1,     28, SI9428,2,19940530,0320,-17.5000,-168.3333, 4767,    352.7,  14.2098,  35.0668,2,  35.0736,2,    170.3,2,    169.1,2,     4.75,2,    11.75,2,     0.00,2,     1.02,2,    1.281,6,    0.677,6, -999.000,1,-999.0000,1,  -999.00,9,   -999.0,1,-999.000,9,   2112.7,2,   2312.9,2,     7.83,2, 3572.1,-999.0000,-999.000,-999.000, 14.1580,-999.000
   318MWESTW_5,  P21W,   193,  1,     27, SI9424,2,19940530,0320,-17.5000,-168.3333, 4767,    403.2,  11.6681,  34.8322,2,  34.8231,2,    182.6,2,    181.2,2,     5.55,2,    15.34,2,     0.01,2,     1.20,2,    1.073,2,    0.550,2, -999.000,1,-999.0000,1,  -999.00,9,   -999.0,1,-999.000,9,   2123.2,2,   2304.7,2,     7.78,2, 4074.9,-999.0000,-999.000,-999.000, 11.6161,-999.000
   318MWESTW_5,  P21W,   193,  1,     26, SI9414,2,19940530,0320,-17.5000,-168.3333, 4767,    494.3,   8.3028,  34.5037,2,  34.5027,2,    186.8,2,    191.1,2,    10.02,2,    22.42,2,     0.00,2,     1.62,2,    0.623,2,    0.323,2, -999.000,1,-999.0000,1,  -999.00,9,   -999.0,1,-999.000,9,   2149.9,2,   2290.8,2,     7.70,2, 4980.1,-999.0000,-999.000,-999.000,  8.2511,-999.000
   318MWESTW_5,  P21W,   193,  1,     25, SI9425,2,19940530,0320,-17.5000,-168.3333, 4767,    597.0,   6.5427,  34.4197,2,  34.4161,2,    172.1,2,    173.3,2,    21.96,2,    28.66,2,     0.00,2,     2.02,2,    0.148,2,    0.074,2, -999.000,1,-999.0000,1,  -999.00,9,   -999.0,1,-999.000,9,   2184.9,2,   2297.0,2,     7.62,2, 6002.0,-999.0000,-999.000,-999.000,  6.4878,-999.000
   318MWESTW_5,  P21W,   193,  1,     24, SI9434,2,19940530,0320,-17.5000,-168.3333, 4767,    698.2,   5.5565,  34.4011,2,  34.4010,2,    172.5,2,    173.7,2,    31.03,2,    30.94,2,     0.00,2,     2.17,2,    0.053,2,    0.031,2, -999.000,1,-999.0000,1,  -999.00,9,   -999.0,1,-999.000,9,   2198.5,2,   2302.1,2,     7.60,2, 7008.5,-999.0000,-999.000,-999.000,  5.4970,-999.000
   318MWESTW_5,  P21W,   193,  1,     23, SI9423,2,19940530,0320,-17.5000,-168.3333, 4767,    800.6,   4.7349,  34.4094,2,  34.4102,2,    167.1,2,    164.6,2,    42.80,2,    33.00,2,     0.01,2,     2.30,2,    0.017,2,    0.009,2, -999.000,1,-999.0000,1,  -999.00,9,   -999.0,1,-999.000,9,   2219.0,2,   2311.7,2,     7.58,2, 8026.4,-999.0000,-999.000,-999.000,  4.6711,-999.000
   318MWESTW_5,  P21W,   193,  1,     22, SI9418,2,19940530,0320,-17.5000,-168.3333, 4767,    904.1,   4.1011,  34.4460,2,  34.4459,2,    160.0,2,    160.3,2,    55.69,2,    34.12,2,     0.00,2,     2.38,2,    0.005,2,    0.002,2, -999.000,1,-999.0000,1,  -999.00,9,   -999.0,1,-999.000,9,   2236.1,2,   2329.6,2,     7.57,2, 9055.1,-999.0000,-999.000,-999.000,  4.0327,-999.000
   318MWESTW_5,  P21W,   193,  1,     21, SI9421,2,19940530,0320,-17.5000,-168.3333, 4767,   1004.6,   3.6383,  34.4804,2,  34.4817,2,    156.5,2,    155.7,2,    67.31,2,    34.82,2,     0.00,2,     2.43,2,    0.003,2,   -0.002,2, -999.000,1,-999.0000,1,  -999.00,9,   -999.0,1,-999.000,9,   2248.1,2,   2337.3,2,     7.56,2,10054.6,-999.0000,-999.000,-999.000,  3.5651,-999.000
   318MWESTW_5,  P21W,   193,  1,     20, SI9420,2,19940530,0320,-17.5000,-168.3333, 4767,   1095.1,   3.3466,  34.5115,2,  34.5131,2,    152.9,2,    152.5,2,    76.54,2,    35.23,2,     0.00,2,     2.45,2,    0.000,2,   -0.001,2, -999.000,1,-999.0000,1,  -999.00,9,   -999.0,1,-999.000,9,   -999.0,9,   -999.0,9,  -999.00,9,10954.7,-999.0000,-999.000,-999.000,  3.2685,-999.000
   318MWESTW_5,  P21W,   193,  1,     19, SI9419,2,19940530,0320,-17.5000,-168.3333, 4767,   1201.2,   3.1528,  34.5452,2,  34.5461,2,    146.4,2,    147.4,2,    86.73,2,    35.81,2,     0.00,2,     2.49,2,   -0.002,2,   -0.001,2, -999.000,1,-999.0000,1,  -999.00,9,   -999.0,1,-999.000,9,   2276.0,2,   2360.3,2,     7.54,2,12009.6,-999.0000,-999.000,-999.000,  3.0679,-999.000
   318MWESTW_5,  P21W,   193,  1,     18, SI9439,2,19940530,0320,-17.5000,-168.3333, 4767,   1393.3,   2.8438,  34.5701,2,  34.5702,2,    146.3,2,    145.9,2,    95.33,2,    35.85,2,     0.00,2,     2.51,2, -999.000,9, -999.000,9, -999.000,1,-999.0000,1,  -999.00,9,   -999.0,1,-999.000,9,   2284.8,2,   2368.6,2,     7.55,2,13919.4,-999.0000,-999.000,-999.000,  2.7465,-999.000
   318MWESTW_5,  P21W,   193,  1,     17, SI9417,2,19940530,0320,-17.5000,-168.3333, 4767,   1599.9,   2.6150,  34.5958,2,  34.5948,2,    145.1,2,    144.1,4,   103.93,2,    36.03,2,     0.00,2,     2.52,2, -999.000,9, -999.000,9, -999.000,1,-999.0000,1,  -999.00,9,   -999.0,1,-999.000,9,   2294.0,2,   2381.2,2,     7.54,2,15973.4,-999.0000,-999.000,-999.000,  2.5034,-999.000
   318MWESTW_5,  P21W,   193,  1,     16, SI9416,2,19940530,0320,-17.5000,-168.3333, 4767,   1797.0,   2.3821,  34.6150,2,  34.6150,2,    146.8,2,    146.5,2,   110.45,2,    35.98,2,     0.01,2,     2.52,2, -999.000,9, -999.000,9, -999.000,1,-999.0000,1,  -999.00,9,   -999.0,1,-999.000,9,   2299.4,2,   2385.2,2,     7.55,2,17932.5,-999.0000,-999.000,-999.000,  2.2572,-999.000
   318MWESTW_5,  P21W,   193,  1,     15, SI9415,2,19940530,0320,-17.5000,-168.3333, 4767,   2003.1,   2.2003,  34.6304,2,  34.6323,2,    147.5,2,    147.7,2,   116.51,2,    36.05,2,     0.00,2,     2.51,2,    0.001,2,    0.000,2, -999.000,1,-999.0000,1,  -999.00,9,   -999.0,1,-999.000,9,   2305.5,2,   2396.6,2,     7.55,2,19981.4,-999.0000,-999.000,-999.000,  2.0606,-999.000
   318MWESTW_5,  P21W,   193,  1,     14, SI9436,2,19940530,0320,-17.5000,-168.3333, 4767,   2200.1,   2.0708,  34.6424,2,  34.6413,2,    148.3,2,    148.1,2,   120.66,2,    35.97,2,     0.00,2,     2.51,2, -999.000,9, -999.000,9, -999.000,1,-999.0000,1,  -999.00,9,   -999.0,1,-999.000,9,   2308.2,2,   2401.8,2,     7.55,2,21940.1,-999.0000,-999.000,-999.000,  1.9161,-999.000
   318MWESTW_5,  P21W,   193,  1,     13, SI9413,2,19940530,0320,-17.5000,-168.3333, 4767,   2402.4,   1.9571,  34.6516,2,  34.6511,2,    150.3,2,    151.0,2,   124.02,2,    35.86,2,     0.00,2,     2.50,2, -999.000,9, -999.000,9, -999.000,1,-999.0000,1,  -999.00,9,   -999.0,1,-999.000,9,   2312.1,2,   2403.1,2,     7.55,2,23950.9,-999.0000,-999.000,-999.000,  1.7864,-999.000
   318MWESTW_5,  P21W,   193,  1,     12, SI9438,2,19940530,0320,-17.5000,-168.3333, 4767,   2599.8,   1.8662,  34.6598,2,  34.6596,2,    151.8,2,    151.5,2,   126.58,2,    35.82,2,     0.00,2,     2.49,2, -999.000,9, -999.000,9, -999.000,1,-999.0000,1,  -999.00,9,   -999.0,1,-999.000,9,   2317.0,2,   -999.0,9,     7.56,2,25913.6,-999.0000,-999.000,-999.000,  1.6793,-999.000
   318MWESTW_5,  P21W,   193,  1,     11, SI9411,2,19940530,0320,-17.5000,-168.3333, 4767,   2807.3,   1.8036,  34.6569,2,  34.6649,2,    154.5,2,    154.9,2,   128.18,2,    35.64,2,     0.00,2,     2.47,2,    0.001,2,   -0.002,2, -999.000,1,-999.0000,1,  -999.00,9,   -999.0,1,-999.000,9,   2312.0,2,   2408.1,2,     7.56,2,27977.1,-999.0000,-999.000,-999.000,  1.5987,-999.000
   318MWESTW_5,  P21W,   193,  1,     10, SI9412,2,19940530,0320,-17.5000,-168.3333, 4767,   3005.3,   1.7329,  34.6705,2,  34.6708,2,    157.2,2,    156.3,2,   129.47,2,    35.47,2,     0.01,2,     2.47,2, -999.000,9, -999.000,9, -999.000,1,-999.0000,1,  -999.00,9,   -999.0,1,-999.000,9,   2313.4,2,   2404.8,2,     7.56,2,29945.4,-999.0000,-999.000,-999.000,  1.5105,-999.000
   318MWESTW_5,  P21W,   193,  1,      9, SI9410,2,19940530,0320,-17.5000,-168.3333, 4767,   3213.1,   1.6738,  34.6507,4,  34.6773,2,    160.4,2,    160.4,2,   130.28,2,    35.28,2,     0.01,2,     2.46,2, -999.000,9, -999.000,9, -999.000,1,-999.0000,1,  -999.00,9,   -999.0,1,-999.000,9,   2308.9,2,   2408.3,2,     7.57,2,32011.5,-999.0000,-999.000,-999.000,  1.4325,-999.000
   318MWESTW_5,  P21W,   193,  1,      8, SI9422,2,19940530,0320,-17.5000,-168.3333, 4767,   3408.7,   1.5990,  34.6809,3,  34.6810,2,    164.3,2,    160.8,2,   130.13,2,    35.18,2,     0.00,2,     2.44,2, -999.000,9, -999.000,9, -999.000,1,-999.0000,1,  -999.00,9,   -999.0,1,-999.000,9,   2308.5,2,   2401.2,2,     7.57,2,33956.0,-999.0000,-999.000,-999.000,  1.3397,-999.000
   318MWESTW_5,  P21W,   193,  1,      7, SI9407,2,19940530,0320,-17.5000,-168.3333, 4767,   3607.2,   1.5441,  34.6858,2,  34.6873,2,    168.5,2,    165.6,2,   129.67,2,    34.82,2,     0.00,2,     2.42,2,   -0.002,2,   -0.001,2, -999.000,1,-999.0000,1,  -999.00,9,   -999.0,1,-999.000,9,   2304.6,2,   2402.9,2,     7.57,2,35928.8,-999.0000,-999.000,-999.000,  1.2658,-999.000
   318MWESTW_5,  P21W,   193,  1,      6, SI9427,2,19940530,0320,-17.5000,-168.3333, 4767,   3803.5,   1.4834,  34.6905,2,  34.6905,2,    174.5,2,    173.5,2,   128.10,2,    34.38,2,     0.01,2,     2.38,2, -999.000,9, -999.000,9, -999.000,1,-999.0000,1,  -999.00,9,   -999.0,1,-999.000,9,   2299.4,2,   2394.5,2,     7.58,2,37880.3,-999.0000,-999.000,-999.000,  1.1860,-999.000
   318MWESTW_5,  P21W,   193,  1,      5, SI9405,2,19940530,0320,-17.5000,-168.3333, 4767,   4000.3,   1.3871,  34.6998,2,  34.7009,2,    183.8,2,    184.5,2,   123.35,2,    33.49,2,     0.01,2,     2.33,2,    0.001,2,   -0.001,2, -999.000,1,-999.0000,1,  -999.00,9,   -999.0,1,-999.000,9,   2284.9,2,   2385.8,2,     7.58,2,39836.8,-999.0000,-999.000,-999.000,  1.0713,-999.000
   318MWESTW_5,  P21W,   193,  1,      4, SI9404,2,19940530,0320,-17.5000,-168.3333, 4767,   4228.7,   1.2826,  34.7116,2,  34.7111,2,    196.9,2,    196.6,2,   116.85,2,    32.41,2,     0.00,2,     2.25,2, -999.000,9, -999.000,9, -999.000,1,-999.0000,1,  -999.00,9,   -999.0,1,-999.000,9,   2269.2,2,   2373.3,2,     7.59,2,42108.2,-999.0000,-999.000,-999.000,  0.9447,-999.000
   318MWESTW_5,  P21W,   193,  1,      3, SI9403,2,19940530,0320,-17.5000,-168.3333, 4767,   4489.9,   1.0756,  34.7103,2,  34.7113,2,    204.6,2,    204.5,2,   119.09,2,    32.13,2,     0.01,2,     2.23,2,    0.003,2,    0.000,2, -999.000,1,-999.0000,1,  -999.00,9,   -999.0,1,-999.000,9,   2263.2,2,   2368.8,2,     7.59,2,44704.6,-999.0000,-999.000,-999.000,  0.7148,-999.000
   318MWESTW_5,  P21W,   193,  1,      2, SI9437,2,19940530,0320,-17.5000,-168.3333, 4767,   4751.3,   1.0756,  34.7098,2,  34.7095,2,    205.8,2,    207.8,2,   119.58,2,    32.18,2,     0.01,2,     2.23,2, -999.000,9, -999.000,9, -999.000,1,-999.0000,1,  -999.00,9,   -999.0,1,-999.000,9,   2265.3,2,   2367.7,2,     7.59,2,47303.1,-999.0000,-999.000,-999.000,  0.6849,-999.000
   318MWESTW_5,  P21W,   193,  1,      1, SI9401,2,19940530,0320,-17.5000,-168.3333, 4767,   4791.7,   1.0754,  34.7089,2,  34.7083,2,    204.9,2,    207.0,2,   119.76,2,    32.19,2,     0.00,2,     2.22,2,    0.004,2,    0.002,2, -999.000,1,-999.0000,1,  -999.00,9,   -999.0,1,-999.000,9,   2264.0,2,   2367.2,2,     7.59,2,47704.5,-999.0000,-999.000,-999.000,  0.6800,-999.000