BOTTLE,20010911WHPSIOdm
EXPOCODE,SECT_ID,STNNBR,CASTNO,SAMPNO,BTLNBR,BTLNBR_FLAG_W,DATE,TIME,LATITUDE,LONGITUDE,DEPTH,CTDPRS,CTDTMP,CTDSAL,CTDSAL_FLAG_W,SALNTY,SALNTY_FLAG_W,CTDOXY,CTDOXY_FLAG_W,OXYGEN,OXYGEN_FLAG_W,SILCAT,SILCAT_FLAG_W,NITRAT,NITRAT_FLAG_W,NITRIT,NITRIT_FLAG_W,PHSPHT,PHSPHT_FLAG_W,CFC-11,CFC-11_FLAG_W,CFC-12,CFC-12_FLAG_W,TRITUM,TRITUM_FLAG_W,HELIUM,HELIUM_FLAG_W,DELHE3,DELHE3_FLAG_W,DELC14,DELC14_FLAG_W,NEON,NEON_FLAG_W,TCARBN,TCARBN_FLAG_W,ALKALI,ALKALI_FLAG_W,PH,PH_FLAG_W,CTDRAW,HELIER,DELHER,NEONER,THETA,TRITER
,,,,,,,,,,,,DBAR,ITS-90,PSS-78,,PSS-78,,UMOL/KG,,UMOL/KG,,UMOL/KG,,UMOL/KG,,UMOL/KG,,UMOL/KG,,PMOL/KG,,PMOL/KG,,TU,,UMOL/KG,,PERCNT,,/MILLE,,NMOL/KG,,UMOL/KG,,UMOL/KG,,,,,NMOL/KG,PERCNT,NMOL/KG,ITS-90,TU
   318MWESTW_4,  P21E,    41,  1,     36, SI9336,2,19940409,0436,-16.7500, -81.6695, 4633,      7.2,  22.9152,  35.6236,2,  35.6238,2,    211.8,2,    218.0,2,     0.00,2,     0.00,2,     0.00,2,     0.49,3,    1.978,2,    1.084,2, -999.000,1,-999.0000,1,  -999.00,9,   -999.0,1,-999.000,9,   2058.8,2,   2361.0,2,     8.02,2,  124.7,-999.0000,-999.000,-999.000, 22.9137,-999.000
   318MWESTW_4,  P21E,    41,  1,     35, SI9335,2,19940409,0436,-16.7500, -81.6695, 4633,     30.4,  22.9233,  35.6230,2,  35.6234,2,    219.4,2,    216.6,2,     0.12,2,    -0.01,2,     0.01,2,     0.50,3,    1.994,2,    1.076,2, -999.000,1,-999.0000,1,  -999.00,9,   -999.0,1,-999.000,9,   2057.8,2,   2364.0,2,     8.02,2,  356.0,-999.0000,-999.000,-999.000, 22.9171,-999.000
   318MWESTW_4,  P21E,    41,  1,     34, SI9334,2,19940409,0436,-16.7500, -81.6695, 4633,     52.9,  19.4610,  35.2689,2,  35.2698,2,    252.1,2,    242.1,2,     0.50,2,     0.01,2,     0.01,2,     0.47,3,    2.484,2,    1.297,2, -999.000,1,-999.0000,1,  -999.00,9,   -999.0,1,-999.000,9,   2061.8,2,   2338.0,2,     7.98,2,  580.1,-999.0000,-999.000,-999.000, 19.4514,-999.000
   318MWESTW_4,  P21E,    41,  1,     33, SI9333,2,19940409,0436,-16.7500, -81.6695, 4633,    104.7,  15.3411,  34.9597,2,  34.9707,3,    138.8,2,    131.8,2,     6.48,2,    15.06,2,     0.07,2,     1.59,3,    2.159,2,    1.094,2, -999.000,1,-999.0000,1,  -999.00,9,   -999.0,1,-999.000,9,   2162.9,2,   2310.0,2,     7.72,2, 1095.6,-999.0000,-999.000,-999.000, 15.3250,-999.000
   318MWESTW_4,  P21E,    41,  1,     32, SI9332,2,19940409,0436,-16.7500, -81.6695, 4633,    153.4,  13.3372,  34.8829,2,  34.8788,2,      5.0,2,      0.3,2,    24.75,2,    14.02,2,     2.13,2,     2.65,3,    0.634,2,    0.354,2, -999.000,1,-999.0000,1,  -999.00,9,   -999.0,1,-999.000,9,   2262.9,2,   2309.0,2,     7.44,2, 1580.2,-999.0000,-999.000,-999.000, 13.3158,-999.000
   318MWESTW_4,  P21E,    41,  1,     31, SI9331,2,19940409,0436,-16.7500, -81.6695, 4633,    201.5,  12.7957,  34.8794,2,  34.8766,2,      1.8,2,      0.6,2,    24.76,2,    13.85,2,     2.13,2,     2.65,3,    0.366,2,    0.212,2, -999.000,1,-999.0000,1,  -999.00,9,   -999.0,1,-999.000,9,   2269.0,2,   2310.0,2,     7.44,2, 2058.7,-999.0000,-999.000,-999.000, 12.7683,-999.000
   318MWESTW_4,  P21E,    41,  1,     30, SI9330,2,19940409,0436,-16.7500, -81.6695, 4633,    257.7,  12.2367,  34.8499,2,  34.8485,2,      0.9,2,      0.4,2,    27.67,2,    15.33,2,     5.03,2,     2.69,3,    0.245,2,    0.143,2, -999.000,1,-999.0000,1,  -999.00,9,   -999.0,1,-999.000,9,   2270.0,2,   2306.0,2,     7.42,2, 2618.3,-999.0000,-999.000,-999.000, 12.2026,-999.000
   318MWESTW_4,  P21E,    41,  1,     29, SI9329,2,19940409,0436,-16.7500, -81.6695, 4633,    304.8,  11.7261,  34.8238,2,  34.8192,2,      0.6,2,      0.7,2,    28.04,2,    18.02,2,     5.53,2,     2.71,3,    0.172,2,    0.102,2, -999.000,1,-999.0000,1,  -999.00,9,   -999.0,1,-999.000,9,   2273.0,2,   2304.0,2,     7.41,2, 3087.5,-999.0000,-999.000,-999.000, 11.6868,-999.000
   318MWESTW_4,  P21E,    41,  1,     28, SI9328,2,19940409,0436,-16.7500, -81.6695, 4633,    398.5,   9.9110,  34.6938,2,  34.6901,2,      1.3,2,      1.8,2,    29.67,2,    32.86,2,     0.00,2,     2.74,3,    0.053,2,    0.025,2, -999.000,1,-999.0000,1,  -999.00,9,   -999.0,1,-999.000,9,   2277.0,2,   2299.0,2,     7.37,2, 4018.8,-999.0000,-999.000,-999.000,  9.8647,-999.000
   318MWESTW_4,  P21E,    41,  1,     26, SI9326,2,19940409,0436,-16.7500, -81.6695, 4633,    500.6,   8.0778,  34.5719,2,  34.5702,2,     20.8,2,     21.0,2,    32.03,2,    38.64,2,     0.00,2,     2.82,3,    0.040,2,    0.012,2, -999.000,1,-999.0000,1,  -999.00,9,   -999.0,1,-999.000,9,   2277.0,2,   2297.0,2,     7.38,2, 5034.9,-999.0000,-999.000,-999.000,  8.0262,-999.000
   318MWESTW_4,  P21E,    41,  1,     25, SI9325,2,19940409,0436,-16.7500, -81.6695, 4633,    603.2,   6.9250,  34.5325,2,  34.5325,2,     28.8,2,     28.6,2,    39.45,2,    41.66,2,     0.00,2,     2.93,3,    0.009,2,   -0.003,2, -999.000,1,-999.0000,1,  -999.00,9,   -999.0,1,-999.000,9,   2283.0,2,   2304.0,2,     7.39,2, 6055.4,-999.0000,-999.000,-999.000,  6.8676,-999.000
   318MWESTW_4,  P21E,    41,  1,     24, SI9324,2,19940409,0436,-16.7500, -81.6695, 4633,    702.1,   6.0809,  34.5176,2,  34.5148,2,     29.6,2,     29.5,2,    49.57,2,    43.52,2,     0.02,2,     3.06,3,   -0.002,2,   -0.004,2, -999.000,1,-999.0000,1,  -999.00,9,   -999.0,1,-999.000,9,   2297.0,2,   2311.0,2,     7.37,2, 7038.0,-999.0000,-999.000,-999.000,  6.0181,-999.000
   318MWESTW_4,  P21E,    41,  1,     23, SI9323,2,19940409,0436,-16.7500, -81.6695, 4633,    791.7,   5.5006,  34.5087,2,  34.5070,2,     34.1,2,     36.5,2,    56.99,2,    43.72,2,     0.01,2,     3.09,3,   -0.004,2,   -0.004,2, -999.000,1,-999.0000,1,  -999.00,9,   -999.0,1,-999.000,9,   2303.0,2,   2321.0,2,     7.39,2, 7929.7,-999.0000,-999.000,-999.000,  5.4328,-999.000
   318MWESTW_4,  P21E,    41,  1,     22, SI9322,2,19940409,0436,-16.7500, -81.6695, 4633,    900.9,   4.9457,  34.5140,2,  34.5127,2,     44.0,2,     44.6,2,    66.75,2,    43.26,2,     0.01,2,     3.09,3,   -0.002,2,    0.007,3, -999.000,1,-999.0000,1,  -999.00,9,   -999.0,1,-999.000,9,   2308.0,2,   2329.0,2,     7.38,2, 9014.9,-999.0000,-999.000,-999.000,  4.8716,-999.000
   318MWESTW_4,  P21E,    41,  1,     21, SI9321,2,19940409,0436,-16.7500, -81.6695, 4633,    996.5,   4.4936,  34.5254,2,  34.5247,2,     51.5,2,     53.7,2,    75.95,2,    42.48,2,     0.01,2,     3.07,3, -999.000,9, -999.000,9, -999.000,1,-999.0000,1,  -999.00,9,   -999.0,1,-999.000,9,   2315.0,2,   2342.0,2,     7.41,2, 9965.8,-999.0000,-999.000,-999.000,  4.4144,-999.000
   318MWESTW_4,  P21E,    41,  1,     20, SI9320,2,19940409,0436,-16.7500, -81.6695, 4633,   1107.5,   4.0972,  34.5377,2,  34.5362,2,     63.9,2,     63.3,2,    84.08,2,    41.72,2,     0.01,2,     3.00,3, -999.000,9, -999.000,9, -999.000,1,-999.0000,1,  -999.00,9,   -999.0,1,-999.000,9,   2319.0,2,   2349.0,2,     7.42,2,11069.7,-999.0000,-999.000,-999.000,  4.0116,-999.000
   318MWESTW_4,  P21E,    41,  1,     27, SI9327,2,19940409,0436,-16.7500, -81.6695, 4633,   1210.8,   3.7942,  34.5555,2,  34.5543,2,     68.2,2,     67.7,2,    93.10,2,    41.56,2,     0.00,2,     2.97,3,   -0.003,2,   -0.001,2, -999.000,1,-999.0000,1,  -999.00,9,   -999.0,1,-999.000,9,   2323.0,2,   2362.0,2,     7.44,2,12096.0,-999.0000,-999.000,-999.000,  3.7025,-999.000
   318MWESTW_4,  P21E,    41,  1,     19, SI9319,2,19940409,0436,-16.7500, -81.6695, 4633,   1352.4,   3.3651,  34.5719,2,  34.5708,2,     78.8,2,     79.5,2,   101.40,2,    40.90,2,     0.01,2,     2.90,3, -999.000,9, -999.000,9, -999.000,1,-999.0000,1,  -999.00,9,   -999.0,1,-999.000,9,   2329.0,2,   2372.0,2,     7.46,2,13504.7,-999.0000,-999.000,-999.000,  3.2656,-999.000
   318MWESTW_4,  P21E,    41,  1,     18, SI9318,2,19940409,0436,-16.7500, -81.6695, 4633,   1503.5,   3.0334,  34.5925,2,  34.5904,2,     85.0,2,     85.9,2,   110.42,2,    40.56,2,     0.01,2,     2.86,3, -999.000,9, -999.000,9, -999.000,1,-999.0000,1,  -999.00,9,   -999.0,1,-999.000,9,   2335.0,2,   2381.0,2,     7.46,2,15006.1,-999.0000,-999.000,-999.000,  2.9248,-999.000
   318MWESTW_4,  P21E,    41,  1,     17, SI9317,2,19940409,0436,-16.7500, -81.6695, 4633,   1649.4,   2.7782,  34.6071,2,  34.6060,2,     95.6,2,     93.1,2,   116.90,2,    39.96,2,     0.01,2,     2.81,3, -999.000,9, -999.000,9, -999.000,1,-999.0000,1,  -999.00,9,   -999.0,1,-999.000,9,   2336.0,2,   2390.0,2,     7.48,2,16457.4,-999.0000,-999.000,-999.000,  2.6604,-999.000
   318MWESTW_4,  P21E,    41,  1,     16, SI9316,2,19940409,0436,-16.7500, -81.6695, 4633,   1797.8,   2.5551,  34.6214,2,  34.6213,2,    100.0,2,     99.9,2,   122.85,2,    39.21,2,     0.00,2,     2.77,3, -999.000,9, -999.000,9, -999.000,1,-999.0000,1,  -999.00,9,   -999.0,1,-999.000,9,   2334.0,2,   2399.0,2,     7.51,2,17932.3,-999.0000,-999.000,-999.000,  2.4277,-999.000
   318MWESTW_4,  P21E,    41,  1,     15, SI9315,2,19940409,0436,-16.7500, -81.6695, 4633,   1993.9,   2.2920,  34.6370,2,  34.6374,2,    114.5,2,    115.3,2,   125.18,2,    37.65,2,     0.00,2,     2.67,3, -999.000,9, -999.000,9, -999.000,1,-999.0000,1,  -999.00,9,   -999.0,1,-999.000,9,   2333.0,2,   2402.0,2,     7.53,2,19881.7,-999.0000,-999.000,-999.000,  2.1516,-999.000
   318MWESTW_4,  P21E,    41,  1,     14, SI9314,2,19940409,0436,-16.7500, -81.6695, 4633,   2190.9,   2.0884,  34.6506,2,  34.6500,2,    129.2,2,    129.5,2,   125.17,2,    36.34,2,    -0.01,2,     2.57,3, -999.000,9, -999.000,9, -999.000,1,-999.0000,1,  -999.00,9,   -999.0,1,-999.000,9,   2324.0,2,   2400.0,2,     7.54,2,21840.4,-999.0000,-999.000,-999.000,  1.9342,-999.000
   318MWESTW_4,  P21E,    41,  1,     13, SI9313,2,19940409,0436,-16.7500, -81.6695, 4633,   2396.2,   1.9481,  34.6625,2,  34.6635,2,    136.7,2,    135.5,2,   128.04,2,    35.87,2,    -0.01,2,     2.52,3, -999.000,9, -999.000,9, -999.000,1,-999.0000,1,  -999.00,9,   -999.0,1,-999.000,9,   2324.0,2,   2407.0,2,     7.56,2,23881.7,-999.0000,-999.000,-999.000,  1.7781,-999.000
   318MWESTW_4,  P21E,    41,  1,     12, SI9312,2,19940409,0436,-16.7500, -81.6695, 4633,   2597.0,   1.8568,  34.6710,2,  34.6716,2,    141.6,2,    141.5,2,   128.93,2,    35.64,2,     0.00,2,     2.47,3, -999.000,9, -999.000,9, -999.000,1,-999.0000,1,  -999.00,9,   -999.0,1,-999.000,9,   2324.0,2,   2409.0,2,     7.57,2,25877.6,-999.0000,-999.000,-999.000,  1.6703,-999.000
   318MWESTW_4,  P21E,    41,  1,     11, SI9311,2,19940409,0436,-16.7500, -81.6695, 4633,   2797.2,   1.8172,  34.6758,2,  34.6757,2,    138.7,2,    138.1,2,   134.87,2,    36.19,2,     0.00,2,     2.56,2, -999.000,9, -999.000,9, -999.000,1,-999.0000,1,  -999.00,9,   -999.0,1,-999.000,9,   2332.0,2,   2419.0,2,     7.57,2,27868.5,-999.0000,-999.000,-999.000,  1.6128,-999.000
   318MWESTW_4,  P21E,    41,  1,     10, SI9310,2,19940409,0436,-16.7500, -81.6695, 4633,   2996.4,   1.8011,  34.6787,2,  34.6783,2,    138.1,2,    137.1,2,   138.47,2,    36.57,2,     0.00,2,     2.56,2, -999.000,9, -999.000,9, -999.000,1,-999.0000,1,  -999.00,9,   -999.0,1,-999.000,9,   2335.0,2,   2421.0,2,     7.57,2,29849.0,-999.0000,-999.000,-999.000,  1.5780,-999.000
   318MWESTW_4,  P21E,    41,  1,      9, SI9309,2,19940409,0436,-16.7500, -81.6695, 4633,   3201.0,   1.7950,  34.6804,2,  34.6793,2,    138.6,2,    137.7,2,   138.81,2,    36.58,2,     0.00,2,     2.54,2, -999.000,9, -999.000,9, -999.000,1,-999.0000,1,  -999.00,9,   -999.0,1,-999.000,9,   2336.0,2,   2425.0,2,     7.57,2,31883.0,-999.0000,-999.000,-999.000,  1.5519,-999.000
   318MWESTW_4,  P21E,    41,  1,      8, SI9308,2,19940409,0436,-16.7500, -81.6695, 4633,   3395.0,   1.7932,  34.6825,2,  34.6822,2,    141.2,2,    140.3,2,   137.54,2,    36.16,2,     0.00,2,     2.54,2, -999.000,9, -999.000,9, -999.000,1,-999.0000,1,  -999.00,9,   -999.0,1,-999.000,9,   2332.0,2,   2422.0,2,     7.58,2,33811.6,-999.0000,-999.000,-999.000,  1.5305,-999.000
   318MWESTW_4,  P21E,    41,  1,      7, SI9307,2,19940409,0436,-16.7500, -81.6695, 4633,   3595.4,   1.7850,  34.6848,2,  34.6844,2,    144.3,2,    143.6,2,   135.92,2,    35.52,2,    -0.01,2,     2.51,2, -999.000,9, -999.000,9, -999.000,1,-999.0000,1,  -999.00,9,   -999.0,1,-999.000,9,   2331.0,2,   2422.0,2,     7.57,2,35803.2,-999.0000,-999.000,-999.000,  1.5017,-999.000
   318MWESTW_4,  P21E,    41,  1,      6, SI9306,2,19940409,0436,-16.7500, -81.6695, 4633,   3797.2,   1.7730,  34.6871,2,  34.6869,2,    150.0,2,    149.4,2,   131.94,2,    34.82,2,    -0.02,2,     2.48,2, -999.000,9, -999.000,9, -999.000,1,-999.0000,1,  -999.00,9,   -999.0,1,-999.000,9,   2323.0,2,   2414.0,2,     7.58,2,37810.1,-999.0000,-999.000,-999.000,  1.4685,-999.000
   318MWESTW_4,  P21E,    41,  1,      5, SI9305,2,19940409,0436,-16.7500, -81.6695, 4633,   3999.8,   1.7688,  34.6893,2,  34.6875,2,    152.5,2,    152.9,2,   129.96,2,    34.58,2,    -0.01,2,     2.46,2, -999.000,9, -999.000,9, -999.000,1,-999.0000,1,  -999.00,9,   -999.0,1,-999.000,9,   2321.0,2,   2414.0,2,     7.58,2,39823.5,-999.0000,-999.000,-999.000,  1.4423,-999.000
   318MWESTW_4,  P21E,    41,  1,      4, SI9304,2,19940409,0436,-16.7500, -81.6695, 4633,   4247.0,   1.7700,  34.7000,3,  34.6899,2,    154.4,2,    153.6,2,   129.77,2,    34.65,2,    -0.01,2,     2.44,2, -999.000,9, -999.000,9, -999.000,1,-999.0000,1,  -999.00,9,   -999.0,1,-999.000,9,   2319.0,2,   2412.0,2,     7.58,2,42281.4,-999.0000,-999.000,-999.000,  1.4157,-999.000
   318MWESTW_4,  P21E,    41,  1,      3, SI9303,2,19940409,0436,-16.7500, -81.6695, 4633,   4493.7,   1.7888,  34.6907,2,  34.6901,2,    154.8,2,    154.4,2,   129.40,2,    34.73,2,    -0.01,2,     2.42,2, -999.000,9, -999.000,9, -999.000,1,-999.0000,1,  -999.00,9,   -999.0,1,-999.000,9,   2321.0,2,   2413.0,2,     7.58,2,44733.7,-999.0000,-999.000,-999.000,  1.4056,-999.000
   318MWESTW_4,  P21E,    41,  1,      2, SI9302,2,19940409,0436,-16.7500, -81.6695, 4633,   4669.1,   1.8077,  34.6916,2,  34.6901,2,    155.5,2,    154.1,2,   129.03,2,    35.04,2,    -0.01,2,     2.43,2, -999.000,9, -999.000,9, -999.000,1,-999.0000,1,  -999.00,9,   -999.0,1,-999.000,9,   2320.0,2,   2410.0,2,     7.58,2,46478.1,-999.0000,-999.000,-999.000,  1.4032,-999.000
   318MWESTW_4,  P21E,    41,  1,      1, SI9301,2,19940409,0436,-16.7500, -81.6695, 4633,   4710.4,   1.8128,  34.6910,2,  34.6905,2,    153.7,2,    154.9,2,   129.28,2,    35.20,2,     0.00,2,     2.43,2, -999.000,9, -999.000,9, -999.000,1,-999.0000,1,  -999.00,9,   -999.0,1,-999.000,9,   2320.0,2,   2414.0,2,     7.58,2,46888.3,-999.0000,-999.000,-999.000,  1.4032,-999.000