BOTTLE,20010911WHPSIOdm
EXPOCODE,SECT_ID,STNNBR,CASTNO,SAMPNO,BTLNBR,BTLNBR_FLAG_W,DATE,TIME,LATITUDE,LONGITUDE,DEPTH,CTDPRS,CTDTMP,CTDSAL,CTDSAL_FLAG_W,SALNTY,SALNTY_FLAG_W,CTDOXY,CTDOXY_FLAG_W,OXYGEN,OXYGEN_FLAG_W,SILCAT,SILCAT_FLAG_W,NITRAT,NITRAT_FLAG_W,NITRIT,NITRIT_FLAG_W,PHSPHT,PHSPHT_FLAG_W,CFC-11,CFC-11_FLAG_W,CFC-12,CFC-12_FLAG_W,TRITUM,TRITUM_FLAG_W,HELIUM,HELIUM_FLAG_W,DELHE3,DELHE3_FLAG_W,DELC14,DELC14_FLAG_W,NEON,NEON_FLAG_W,TCARBN,TCARBN_FLAG_W,ALKALI,ALKALI_FLAG_W,PH,PH_FLAG_W,CTDRAW,HELIER,DELHER,NEONER,THETA,TRITER
,,,,,,,,,,,,DBAR,ITS-90,PSS-78,,PSS-78,,UMOL/KG,,UMOL/KG,,UMOL/KG,,UMOL/KG,,UMOL/KG,,UMOL/KG,,PMOL/KG,,PMOL/KG,,TU,,UMOL/KG,,PERCNT,,/MILLE,,NMOL/KG,,UMOL/KG,,UMOL/KG,,,,,NMOL/KG,PERCNT,NMOL/KG,ITS-90,TU
   318MWESTW_5,  P21W,   205,  1,     21, SI9421,2,19940602,1239,-17.5028,-173.6750, 1365,      6.8,  25.9598,  35.4560,2,  35.4569,2,    203.6,2,    211.4,2,     0.72,2,     0.05,2,     0.00,2,     0.16,2,    1.746,2,    1.007,2, -999.000,1,-999.0000,1,  -999.00,9,   -999.0,1,-999.000,9,   -999.0,9,   -999.0,9,  -999.00,9,  125.5,-999.0000,-999.000,-999.000, 25.9583,-999.000
   318MWESTW_5,  P21W,   205,  1,     20, SI9420,2,19940602,1239,-17.5028,-173.6750, 1365,     19.5,  25.9653,  35.4568,2,  35.4561,2,    208.1,2,    214.4,2,     0.73,2,     0.00,2,     0.00,2,     0.15,2, -999.000,9, -999.000,9, -999.000,1,-999.0000,1,  -999.00,9,   -999.0,1,-999.000,9,   -999.0,9,   -999.0,9,  -999.00,9,  252.6,-999.0000,-999.000,-999.000, 25.9609,-999.000
   318MWESTW_5,  P21W,   205,  1,     19, SI9419,2,19940602,1239,-17.5028,-173.6750, 1365,     45.4,  25.6803,  35.5036,2,  35.5028,2,    211.8,2,    213.1,2,     0.74,2,     0.00,2,     0.00,2,     0.13,2,    1.764,2,    1.010,2, -999.000,1,-999.0000,1,  -999.00,9,   -999.0,1,-999.000,9,   -999.0,9,   -999.0,9,  -999.00,9,  510.3,-999.0000,-999.000,-999.000, 25.6702,-999.000
   318MWESTW_5,  P21W,   205,  1,     18, SI9439,2,19940602,1239,-17.5028,-173.6750, 1365,     90.6,  24.4935,  35.7452,2,  35.7448,2,    212.4,2,    210.3,2,     0.76,2,     0.02,2,     0.00,2,     0.19,2,    1.859,2,    1.053,2, -999.000,1,-999.0000,1,  -999.00,9,   -999.0,1,-999.000,9,   -999.0,9,   -999.0,9,  -999.00,9,  960.4,-999.0000,-999.000,-999.000, 24.4741,-999.000
   318MWESTW_5,  P21W,   205,  1,     17, SI9417,2,19940602,1239,-17.5028,-173.6750, 1365,    140.4,  22.9143,  35.8042,2,  35.8042,2,    189.9,2,    194.1,2,     0.77,2,     0.97,2,     0.04,2,     0.26,2, -999.000,9, -999.000,9, -999.000,1,-999.0000,1,  -999.00,9,   -999.0,1,-999.000,9,   -999.0,9,   -999.0,9,  -999.00,9, 1456.7,-999.0000,-999.000,-999.000, 22.8856,-999.000
   318MWESTW_5,  P21W,   205,  1,     16, SI9416,2,19940602,1239,-17.5028,-173.6750, 1365,    192.4,  21.4535,  35.8184,2,  35.8222,2,    181.9,2,    181.6,2,     0.78,2,     2.73,2,     0.02,2,     0.37,2, -999.000,9, -999.000,9, -999.000,1,-999.0000,1,  -999.00,9,   -999.0,1,-999.000,9,   -999.0,9,   -999.0,9,  -999.00,9, 1974.2,-999.0000,-999.000,-999.000, 21.4159,-999.000
   318MWESTW_5,  P21W,   205,  1,     15, SI9415,2,19940602,1239,-17.5028,-173.6750, 1365,    237.2,  20.0368,  35.7105,2,  35.7079,2,    186.0,2,    184.1,2,     0.98,2,     3.04,2,     0.01,2,     0.37,2,    1.941,2,    1.078,2, -999.000,1,-999.0000,1,  -999.00,9,   -999.0,1,-999.000,9,   -999.0,9,   -999.0,9,  -999.00,9, 2420.7,-999.0000,-999.000,-999.000, 19.9927,-999.000
   318MWESTW_5,  P21W,   205,  1,     14, SI9436,2,19940602,1239,-17.5028,-173.6750, 1365,    294.9,  18.2001,  35.6090,2,  35.6101,2,    192.7,2,    193.3,2,     1.16,2,     3.78,2,     0.02,2,     0.41,2,    2.077,2,    1.124,2, -999.000,1,-999.0000,1,  -999.00,9,   -999.0,1,-999.000,9,   -999.0,9,   -999.0,9,  -999.00,9, 2995.9,-999.0000,-999.000,-999.000, 18.1487,-999.000
   318MWESTW_5,  P21W,   205,  1,     13, SI9413,2,19940602,1239,-17.5028,-173.6750, 1365,    353.4,  15.7954,  35.3554,2,  35.3512,2,    192.6,2,    188.9,2,     2.25,2,     7.14,2,     0.01,2,     0.65,2, -999.000,9, -999.000,9, -999.000,1,-999.0000,1,  -999.00,9,   -999.0,1,-999.000,9,   -999.0,9,   -999.0,9,  -999.00,9, 3577.3,-999.0000,-999.000,-999.000, 15.7396,-999.000
   318MWESTW_5,  P21W,   205,  1,     12, SI9438,2,19940602,1239,-17.5028,-173.6750, 1365,    389.7,  14.0542,  35.1644,2,  35.1585,2,    189.8,2,    186.7,2,     3.15,2,    10.06,2,     0.01,2,     0.86,2, -999.000,9, -999.000,9, -999.000,1,-999.0000,1,  -999.00,9,   -999.0,1,-999.000,9,   -999.0,9,   -999.0,9,  -999.00,9, 3939.2,-999.0000,-999.000,-999.000, 13.9973,-999.000
   318MWESTW_5,  P21W,   205,  1,     11, SI9411,2,19940602,1239,-17.5028,-173.6750, 1365,    497.0,   9.0810,  34.5811,2,  34.5783,2,    181.5,2,    185.5,2,     8.83,2,    20.78,2,     0.00,2,     1.54,2,    0.742,6,    0.393,6, -999.000,1,-999.0000,1,  -999.00,9,   -999.0,1,-999.000,9,   -999.0,9,   -999.0,9,  -999.00,9, 5005.6,-999.0000,-999.000,-999.000,  9.0261,-999.000
   318MWESTW_5,  P21W,   205,  1,     10, SI9412,2,19940602,1239,-17.5028,-173.6750, 1365,    591.6,   7.0754,  34.4183,2,  34.4230,2,    196.5,2,    198.9,2,    12.56,2,    24.75,2,     0.00,2,     1.76,2,    0.536,2,    0.294,2, -999.000,1,-999.0000,1,  -999.00,9,   -999.0,1,-999.000,9,   -999.0,9,   -999.0,9,  -999.00,9, 5946.5,-999.0000,-999.000,-999.000,  7.0186,-999.000
   318MWESTW_5,  P21W,   205,  1,      9, SI9410,2,19940602,1239,-17.5028,-173.6750, 1365,    694.9,   5.8451,  34.3727,2,  34.3694,2,    189.4,2,    190.0,2,    22.14,2,    28.81,2,     0.00,2,     2.02,2,    0.156,2,    0.091,2, -999.000,1,-999.0000,1,  -999.00,9,   -999.0,1,-999.000,9,   -999.0,9,   -999.0,9,  -999.00,9, 6973.2,-999.0000,-999.000,-999.000,  5.7844,-999.000
   318MWESTW_5,  P21W,   205,  1,      8, SI9422,2,19940602,1239,-17.5028,-173.6750, 1365,    797.3,   5.0371,  34.3812,2,  34.3796,2,    180.6,2,    178.5,2,    33.33,2,    31.41,2,     0.00,2,     2.20,2,    0.052,2,    0.035,2, -999.000,1,-999.0000,1,  -999.00,9,   -999.0,1,-999.000,9,   -999.0,9,   -999.0,9,  -999.00,9, 7991.5,-999.0000,-999.000,-999.000,  4.9718,-999.000
   318MWESTW_5,  P21W,   205,  1,      7, SI9407,2,19940602,1239,-17.5028,-173.6750, 1365,    894.2,   4.2372,  34.4133,2,  34.4124,2,    169.3,2,    167.3,2,    48.22,2,    33.49,2,     0.00,2,     2.34,2,    0.013,2,    0.009,2, -999.000,1,-999.0000,1,  -999.00,9,   -999.0,1,-999.000,9,   -999.0,9,   -999.0,9,  -999.00,9, 8955.0,-999.0000,-999.000,-999.000,  4.1688,-999.000
   318MWESTW_5,  P21W,   205,  1,      6, SI9427,2,19940602,1239,-17.5028,-173.6750, 1365,   1008.3,   3.7290,  34.4586,2,  34.4577,2,    161.9,2,    161.6,2,    61.33,2,    34.43,2,     0.01,2,     2.40,2,    0.005,2,    0.004,2, -999.000,1,-999.0000,1,  -999.00,9,   -999.0,1,-999.000,9,   -999.0,9,   -999.0,9,  -999.00,9,10088.8,-999.0000,-999.000,-999.000,  3.6548,-999.000
   318MWESTW_5,  P21W,   205,  1,      5, SI9405,2,19940602,1239,-17.5028,-173.6750, 1365,   1106.2,   3.2954,  34.5115,2,  34.5107,2,    153.8,2,    154.2,2,    76.39,2,    35.14,2,     0.01,2,     2.46,2, -999.000,9, -999.000,9, -999.000,1,-999.0000,1,  -999.00,9,   -999.0,1,-999.000,9,   -999.0,9,   -999.0,9,  -999.00,9,11061.8,-999.0000,-999.000,-999.000,  3.2168,-999.000
   318MWESTW_5,  P21W,   205,  1,      3, SI9403,2,19940602,1239,-17.5028,-173.6750, 1365,   1196.8,   3.1875,  34.5266,4,-999.0000,9,    151.5,4,   -999.0,9,  -999.00,9,  -999.00,9,  -999.00,9,  -999.00,9, -999.000,9, -999.000,9, -999.000,1,-999.0000,1,  -999.00,9,   -999.0,1,-999.000,9,   -999.0,9,   -999.0,9,  -999.00,9,11962.2,-999.0000,-999.000,-999.000,  3.1026,-999.000
   318MWESTW_5,  P21W,   205,  1,      4, SI9404,2,19940602,1239,-17.5028,-173.6750, 1365,   1198.7,   3.1865,  34.5264,2,  34.5252,2,    151.5,2,    152.4,2,    80.66,2,    35.29,2,     0.01,2,     2.48,2,    0.002,2,    0.001,2, -999.000,1,-999.0000,1,  -999.00,9,   -999.0,1,-999.000,9,   -999.0,9,   -999.0,9,  -999.00,9,11980.2,-999.0000,-999.000,-999.000,  3.1015,-999.000
   318MWESTW_5,  P21W,   205,  1,      2, SI9437,2,19940602,1239,-17.5028,-173.6750, 1365,   1298.6,   3.0726,  34.5434,2,  34.5421,2,    149.4,2,    150.5,2,    85.62,2,    35.48,2,     0.01,2,     2.50,2, -999.000,9, -999.000,9, -999.000,1,-999.0000,1,  -999.00,9,   -999.0,1,-999.000,9,   -999.0,9,   -999.0,9,  -999.00,9,12972.8,-999.0000,-999.000,-999.000,  2.9806,-999.000
   318MWESTW_5,  P21W,   205,  1,      1, SI9401,2,19940602,1239,-17.5028,-173.6750, 1365,   1354.3,   3.0127,  34.5509,2,  34.5494,2,    149.3,2,    149.5,2,    88.36,2,    35.50,2,     0.01,2,     2.49,2,    0.000,2,    0.000,2, -999.000,1,-999.0000,1,  -999.00,9,   -999.0,1,-999.000,9,   -999.0,9,   -999.0,9,  -999.00,9,13525.7,-999.0000,-999.000,-999.000,  2.9168,-999.000
   318MWESTW_5,  P21W,   206,  1,     22, SI9418,2,19940602,1740,-17.4167,-174.3333, 1486,      7.1,  26.5445,  35.2299,2,  35.2321,2,    209.2,2,    205.0,2,     0.82,2,     0.00,2,     0.00,2,     0.16,2,    1.700,2,    0.984,2, -999.000,1,-999.0000,1,  -999.00,9,   -999.0,1,-999.000,9,   -999.0,9,   -999.0,9,  -999.00,9,  130.0,-999.0000,-999.000,-999.000, 26.5429,-999.000
   318MWESTW_5,  P21W,   206,  1,     21, SI9421,2,19940602,1740,-17.4167,-174.3333, 1486,     23.7,  26.5644,  35.2565,2,  35.2515,2,    206.3,2,    204.8,2,     0.84,2,    -0.01,2,     0.01,2,     0.16,2,    1.701,2,    0.984,2, -999.000,1,-999.0000,1,  -999.00,9,   -999.0,1,-999.000,9,   -999.0,9,   -999.0,9,  -999.00,9,  295.9,-999.0000,-999.000,-999.000, 26.5590,-999.000
   318MWESTW_5,  P21W,   206,  1,     20, SI9420,2,19940602,1740,-17.4167,-174.3333, 1486,     48.2,  25.7170,  35.4838,2,  35.4835,2,    209.8,2,    206.2,2,     0.67,2,     0.00,2,     0.00,2,     0.13,2,    1.754,2,    0.997,2, -999.000,1,-999.0000,1,  -999.00,9,   -999.0,1,-999.000,9,   -999.0,9,   -999.0,9,  -999.00,9,  539.2,-999.0000,-999.000,-999.000, 25.7063,-999.000
   318MWESTW_5,  P21W,   206,  1,     19, SI9419,2,19940602,1740,-17.4167,-174.3333, 1486,    100.6,  24.2218,  35.7467,2,  35.7452,2,    203.9,2,    202.1,2,     0.69,2,     0.00,2,     0.00,2,     0.19,2,    1.864,2,    1.053,2, -999.000,1,-999.0000,1,  -999.00,9,   -999.0,1,-999.000,9,   -999.0,9,   -999.0,9,  -999.00,9, 1061.0,-999.0000,-999.000,-999.000, 24.2004,-999.000
   318MWESTW_5,  P21W,   206,  1,     18, SI9439,2,19940602,1740,-17.4167,-174.3333, 1486,    148.7,  22.3806,  35.7985,2,  35.7981,2,    189.7,2,    190.7,2,     0.70,2,     0.90,2,     0.03,2,     0.25,2,    1.966,6,    1.099,6, -999.000,1,-999.0000,1,  -999.00,9,   -999.0,1,-999.000,9,   -999.0,9,   -999.0,9,  -999.00,9, 1540.8,-999.0000,-999.000,-999.000, 22.3507,-999.000
   318MWESTW_5,  P21W,   206,  1,     17, SI9417,2,19940602,1740,-17.4167,-174.3333, 1486,    202.1,  20.7708,  35.7498,2,  35.7507,2,    184.4,2,    183.0,2,     0.90,2,     2.51,2,     0.02,2,     0.34,2,    1.967,2,    1.104,2, -999.000,1,-999.0000,1,  -999.00,9,   -999.0,1,-999.000,9,   -999.0,9,   -999.0,9,  -999.00,9, 2071.7,-999.0000,-999.000,-999.000, 20.7322,-999.000
   318MWESTW_5,  P21W,   206,  1,     16, SI9416,2,19940602,1740,-17.4167,-174.3333, 1486,    252.2,  19.2133,  35.6749,2,  35.6737,2,    190.3,2,    189.9,2,     0.92,2,     3.10,2,     0.00,2,     0.36,2,    2.019,2,    1.113,2, -999.000,1,-999.0000,1,  -999.00,9,   -999.0,1,-999.000,9,   -999.0,9,   -999.0,9,  -999.00,9, 2570.8,-999.0000,-999.000,-999.000, 19.1677,-999.000
   318MWESTW_5,  P21W,   206,  1,     15, SI9415,2,19940602,1740,-17.4167,-174.3333, 1486,    303.5,  17.8853,  35.5904,2,  35.5924,2,    195.8,2,    194.3,2,     1.28,2,     4.08,2,     0.01,2,     0.42,2,    2.091,2,    1.135,2, -999.000,1,-999.0000,1,  -999.00,9,   -999.0,1,-999.000,9,   -999.0,9,   -999.0,9,  -999.00,9, 3081.1,-999.0000,-999.000,-999.000, 17.8331,-999.000
   318MWESTW_5,  P21W,   206,  1,     14, SI9436,2,19940602,1740,-17.4167,-174.3333, 1486,    346.6,  15.9514,  35.3131,2,  35.3193,2,    186.6,2,    178.9,2,     2.54,2,     7.75,2,     0.01,2,     0.71,2, -999.000,9, -999.000,9, -999.000,1,-999.0000,1,  -999.00,9,   -999.0,1,-999.000,9,   -999.0,9,   -999.0,9,  -999.00,9, 3509.9,-999.0000,-999.000,-999.000, 15.8963,-999.000
   318MWESTW_5,  P21W,   206,  1,     13, SI9413,2,19940602,1740,-17.4167,-174.3333, 1486,    398.7,  12.7432,  34.9640,2,  34.9608,2,    184.5,2,    180.4,2,     4.68,2,    13.16,2,     0.01,2,     1.07,2,    1.261,2,    0.665,2, -999.000,1,-999.0000,1,  -999.00,9,   -999.0,1,-999.000,9,   -999.0,9,   -999.0,9,  -999.00,9, 4028.8,-999.0000,-999.000,-999.000, 12.6887,-999.000
   318MWESTW_5,  P21W,   206,  1,     12, SI9438,2,19940602,1740,-17.4167,-174.3333, 1486,    500.8,   8.7588,  34.5476,2,  34.5457,2,    181.6,2,    182.0,2,    10.02,2,    21.82,2,     0.02,2,     1.60,2,    0.627,2,    0.336,2, -999.000,1,-999.0000,1,  -999.00,9,   -999.0,1,-999.000,9,   -999.0,9,   -999.0,9,  -999.00,9, 5043.6,-999.0000,-999.000,-999.000,  8.7047,-999.000
   318MWESTW_5,  P21W,   206,  1,     11, SI9411,2,19940602,1740,-17.4167,-174.3333, 1486,    603.6,   6.9125,  34.4025,2,  34.4017,2,    202.7,2,    205.4,2,    12.35,2,    24.70,2,     0.01,2,     1.77,2,    0.478,2,    0.262,2, -999.000,1,-999.0000,1,  -999.00,9,   -999.0,1,-999.000,9,   -999.0,9,   -999.0,9,  -999.00,9, 6065.8,-999.0000,-999.000,-999.000,  6.8553,-999.000
   318MWESTW_5,  P21W,   206,  1,     10, SI9412,2,19940602,1740,-17.4167,-174.3333, 1486,    700.7,   5.8163,  34.3741,2,  34.3727,2,    189.7,2,    189.5,2,    22.83,2,    28.80,2,     0.01,2,     2.02,2,    0.150,2,    0.092,2, -999.000,1,-999.0000,1,  -999.00,9,   -999.0,1,-999.000,9,   -999.0,9,   -999.0,9,  -999.00,9, 7030.9,-999.0000,-999.000,-999.000,  5.7552,-999.000
   318MWESTW_5,  P21W,   206,  1,      9, SI9410,2,19940602,1740,-17.4167,-174.3333, 1486,    801.9,   5.0362,  34.3825,2,  34.3806,2,    177.4,2,    176.6,2,    33.86,2,    31.44,2,     0.01,2,     2.19,2,    0.040,2,    0.026,2, -999.000,1,-999.0000,1,  -999.00,9,   -999.0,1,-999.000,9,   -999.0,9,   -999.0,9,  -999.00,9, 8037.5,-999.0000,-999.000,-999.000,  4.9705,-999.000
   318MWESTW_5,  P21W,   206,  1,      8, SI9422,2,19940602,1740,-17.4167,-174.3333, 1486,    894.5,   4.4982,  34.3984,2,  34.3984,2,    175.1,2,    171.0,2,    42.74,2,    32.72,2,     0.01,2,     2.28,2, -999.000,9, -999.000,9, -999.000,1,-999.0000,1,  -999.00,9,   -999.0,1,-999.000,9,   -999.0,9,   -999.0,9,  -999.00,9, 8957.5,-999.0000,-999.000,-999.000,  4.4280,-999.000
   318MWESTW_5,  P21W,   206,  1,      7, SI9407,2,19940602,1740,-17.4167,-174.3333, 1486,   1002.8,   3.8843,  34.4552,2,  34.4540,2,    163.5,2,    161.9,2,    59.44,2,    33.99,2,     0.01,2,     2.37,2, -999.000,9, -999.000,9, -999.000,1,-999.0000,1,  -999.00,9,   -999.0,1,-999.000,9,   -999.0,9,   -999.0,9,  -999.00,9,10034.5,-999.0000,-999.000,-999.000,  3.8094,-999.000
   318MWESTW_5,  P21W,   206,  1,      6, SI9427,2,19940602,1740,-17.4167,-174.3333, 1486,   1103.5,   3.5714,  34.4885,2,  34.4877,2,    157.8,2,    157.5,2,    69.57,2,    34.61,2,     0.01,2,     2.40,2,    0.002,2,    0.001,2, -999.000,1,-999.0000,1,  -999.00,9,   -999.0,1,-999.000,9,   -999.0,9,   -999.0,9,  -999.00,9,11034.9,-999.0000,-999.000,-999.000,  3.4907,-999.000
   318MWESTW_5,  P21W,   206,  1,      5, SI9405,2,19940602,1740,-17.4167,-174.3333, 1486,   1214.5,   3.2654,  34.5276,2,  34.5272,2,    152.7,2,    151.0,2,    81.13,2,    35.22,2,     0.01,2,     2.46,2, -999.000,9, -999.000,9, -999.000,1,-999.0000,1,  -999.00,9,   -999.0,1,-999.000,9,   -999.0,9,   -999.0,9,  -999.00,9,12138.8,-999.0000,-999.000,-999.000,  3.1784,-999.000
   318MWESTW_5,  P21W,   206,  1,      4, SI9404,2,19940602,1740,-17.4167,-174.3333, 1486,   1303.3,   3.0873,  34.5544,2,  34.5541,2,    148.4,2,    160.3,4,    90.02,2,    35.46,2,     0.01,2,     2.48,2,    0.000,2,    0.001,2, -999.000,1,-999.0000,1,  -999.00,9,   -999.0,1,-999.000,9,   -999.0,9,   -999.0,9,  -999.00,9,13020.8,-999.0000,-999.000,-999.000,  2.9947,-999.000
   318MWESTW_5,  P21W,   206,  1,      3, SI9403,2,19940602,1740,-17.4167,-174.3333, 1486,   1403.0,   2.9762,  34.5656,2,  34.5626,2,    148.2,2,    147.1,2,    93.59,2,    35.50,2,     0.02,2,     2.49,2, -999.000,9, -999.000,9, -999.000,1,-999.0000,1,  -999.00,9,   -999.0,1,-999.000,9,   -999.0,9,   -999.0,9,  -999.00,9,14011.6,-999.0000,-999.000,-999.000,  2.8767,-999.000
   318MWESTW_5,  P21W,   206,  1,      2, SI9437,2,19940602,1740,-17.4167,-174.3333, 1486,   1433.2,   2.9254,  34.5687,2,  34.5683,2,    147.2,2,    147.5,2,    95.02,2,    35.51,2,     0.02,2,     2.49,2, -999.000,9, -999.000,9, -999.000,1,-999.0000,1,  -999.00,9,   -999.0,1,-999.000,9,   -999.0,9,   -999.0,9,  -999.00,9,14311.2,-999.0000,-999.000,-999.000,  2.8239,-999.000
   318MWESTW_5,  P21W,   206,  1,      1, SI9401,2,19940602,1740,-17.4167,-174.3333, 1486,   1475.1,   2.8391,  34.5774,2,  34.5753,2,    148.1,2,    147.2,2,    98.03,2,    35.45,2,     0.01,2,     2.49,2,    0.001,2,    0.003,2, -999.000,1,-999.0000,1,  -999.00,9,   -999.0,1,-999.000,9,   -999.0,9,   -999.0,9,  -999.00,9,14727.1,-999.0000,-999.000,-999.000,  2.7352,-999.000