BOTTLE,20010911WHPSIOdm
EXPOCODE,SECT_ID,STNNBR,CASTNO,SAMPNO,BTLNBR,BTLNBR_FLAG_W,DATE,TIME,LATITUDE,LONGITUDE,DEPTH,CTDPRS,CTDTMP,CTDSAL,CTDSAL_FLAG_W,SALNTY,SALNTY_FLAG_W,CTDOXY,CTDOXY_FLAG_W,OXYGEN,OXYGEN_FLAG_W,SILCAT,SILCAT_FLAG_W,NITRAT,NITRAT_FLAG_W,NITRIT,NITRIT_FLAG_W,PHSPHT,PHSPHT_FLAG_W,CFC-11,CFC-11_FLAG_W,CFC-12,CFC-12_FLAG_W,TRITUM,TRITUM_FLAG_W,HELIUM,HELIUM_FLAG_W,DELHE3,DELHE3_FLAG_W,DELC14,DELC14_FLAG_W,NEON,NEON_FLAG_W,TCARBN,TCARBN_FLAG_W,ALKALI,ALKALI_FLAG_W,PH,PH_FLAG_W,CTDRAW,HELIER,DELHER,NEONER,THETA,TRITER
,,,,,,,,,,,,DBAR,ITS-90,PSS-78,,PSS-78,,UMOL/KG,,UMOL/KG,,UMOL/KG,,UMOL/KG,,UMOL/KG,,UMOL/KG,,PMOL/KG,,PMOL/KG,,TU,,UMOL/KG,,PERCNT,,/MILLE,,NMOL/KG,,UMOL/KG,,UMOL/KG,,,,,NMOL/KG,PERCNT,NMOL/KG,ITS-90,TU
   318MWESTW_4,  P21E,   109,  1,     36, SI9336,2,19940429,1907,-16.7528,-119.3333, 3534,      9.1,  26.7258,  36.5107,2,  36.5109,2,    203.0,2,    207.6,2,     0.46,2,     0.16,2,     0.00,2,     0.24,2,    1.691,2,    0.962,2, -999.000,1,-999.0000,1,  -999.00,9,   -999.0,1,-999.000,9,   -999.0,9,   -999.0,9,  -999.00,9,  133.5,-999.0000,-999.000,-999.000, 26.7237,-999.000
   318MWESTW_4,  P21E,   109,  1,     35, SI9335,2,19940429,1907,-16.7528,-119.3333, 3534,     25.6,  26.6730,  36.5117,2,  36.5099,2,    205.9,2,    207.3,2,     0.49,2,     0.28,2,     0.00,2,     0.25,2,    1.681,2,    0.957,2, -999.000,1,-999.0000,1,  -999.00,9,   -999.0,1,-999.000,9,   -999.0,9,   -999.0,9,  -999.00,9,  298.2,-999.0000,-999.000,-999.000, 26.6672,-999.000
   318MWESTW_4,  P21E,   109,  1,     34, SI9334,2,19940429,1907,-16.7528,-119.3333, 3534,     51.0,  26.6699,  36.5203,2,  36.5224,2,    205.6,2,    208.4,2,     0.52,2,     0.23,2,     0.00,2,     0.25,2,    1.730,2,    1.022,2, -999.000,1,-999.0000,1,  -999.00,9,   -999.0,1,-999.000,9,   -999.0,9,   -999.0,9,  -999.00,9,  552.2,-999.0000,-999.000,-999.000, 26.6583,-999.000
   318MWESTW_4,  P21E,   109,  1,     33, SI9333,2,19940429,1907,-16.7528,-119.3333, 3534,    101.1,  24.4352,  36.3139,2,  36.2738,2,    212.9,2,    208.5,2,     0.87,2,     0.47,2,     0.07,2,     0.35,2,    1.886,2,    1.048,2, -999.000,1,-999.0000,1,  -999.00,9,   -999.0,1,-999.000,9,   -999.0,9,   -999.0,9,  -999.00,9, 1053.0,-999.0000,-999.000,-999.000, 24.4135,-999.000
   318MWESTW_4,  P21E,   109,  1,     32, SI9332,2,19940429,1907,-16.7528,-119.3333, 3534,    151.2,  21.0536,  35.9855,2,  35.9060,2,    190.7,2,    188.6,2,     1.21,2,     2.67,3,     1.47,2,     0.67,2,    2.133,2,    1.186,2, -999.000,1,-999.0000,1,  -999.00,9,   -999.0,1,-999.000,9,   -999.0,9,   -999.0,9,  -999.00,9, 1554.4,-999.0000,-999.000,-999.000, 21.0245,-999.000
   318MWESTW_4,  P21E,   109,  1,     31, SI9331,2,19940429,1907,-16.7528,-119.3333, 3534,    202.9,  19.8193,  35.7065,2,  35.7347,2,    188.1,2,    186.1,2,     1.08,2,     4.06,3,     0.02,2,     0.59,2,    2.148,2,    1.165,2, -999.000,1,-999.0000,1,  -999.00,9,   -999.0,1,-999.000,9,   -999.0,9,   -999.0,9,  -999.00,9, 2070.3,-999.0000,-999.000,-999.000, 19.7819,-999.000
   318MWESTW_4,  P21E,   109,  1,     30, SI9330,2,19940429,1907,-16.7528,-119.3333, 3534,    250.2,  17.3137,  35.3119,2,  35.3260,2,    177.1,2,    174.1,2,     2.06,2,     6.85,3,     0.00,2,     0.77,2,    2.050,2,    1.082,2, -999.000,1,-999.0000,1,  -999.00,9,   -999.0,1,-999.000,9,   -999.0,9,   -999.0,9,  -999.00,9, 2543.4,-999.0000,-999.000,-999.000, 17.2717,-999.000
   318MWESTW_4,  P21E,   109,  1,     29, SI9329,2,19940429,1907,-16.7528,-119.3333, 3534,    303.0,  14.4014,  34.8412,2,  34.9111,2,    148.5,2,    148.7,2,     4.79,2,    11.82,3,     0.01,2,     1.15,2,    1.735,2,    0.899,2, -999.000,1,-999.0000,1,  -999.00,9,   -999.0,1,-999.000,9,   -999.0,9,   -999.0,9,  -999.00,9, 3070.8,-999.0000,-999.000,-999.000, 14.3567,-999.000
   318MWESTW_4,  P21E,   109,  1,     28, SI9328,2,19940429,1907,-16.7528,-119.3333, 3534,    396.0,   9.1366,  34.4874,2,  34.4883,2,    100.3,2,     89.0,2,    17.20,2,    28.79,2,     0.00,2,     2.25,2,    0.360,2,    0.183,2, -999.000,1,-999.0000,1,  -999.00,9,   -999.0,1,-999.000,9,   -999.0,9,   -999.0,9,  -999.00,9, 3999.8,-999.0000,-999.000,-999.000,  9.0930,-999.000
   318MWESTW_4,  P21E,   109,  1,     27, SI9327,2,19940429,1907,-16.7528,-119.3333, 3534,    497.4,   7.3022,  34.4597,2,  34.4665,2,     89.2,2,     87.2,2,    24.68,2,    35.14,2,     0.00,2,     2.48,2,    0.070,2,    0.039,2, -999.000,1,-999.0000,1,  -999.00,9,   -999.0,1,-999.000,9,   -999.0,9,   -999.0,9,  -999.00,9, 5013.2,-999.0000,-999.000,-999.000,  7.2539,-999.000
   318MWESTW_4,  P21E,   109,  1,     26, SI9326,2,19940429,1907,-16.7528,-119.3333, 3534,    598.4,   6.1986,  34.4588,2,  34.4614,2,     89.4,2,     88.8,2,    34.71,2,    37.91,2,     0.00,2,     2.61,2,    0.008,2,   -0.003,2, -999.000,1,-999.0000,1,  -999.00,9,   -999.0,1,-999.000,9,   -999.0,9,   -999.0,9,  -999.00,9, 6021.3,-999.0000,-999.000,-999.000,  6.1450,-999.000
   318MWESTW_4,  P21E,   109,  1,     25, SI9325,2,19940429,1907,-16.7528,-119.3333, 3534,    698.6,   5.5783,  34.4821,2,  34.4856,2,     75.9,2,     74.7,2,    47.76,2,    40.49,2,     0.00,2,     2.80,2,   -0.002,2,   -0.003,2, -999.000,1,-999.0000,1,  -999.00,9,   -999.0,1,-999.000,9,   -999.0,9,   -999.0,9,  -999.00,9, 7022.6,-999.0000,-999.000,-999.000,  5.5186,-999.000
   318MWESTW_4,  P21E,   109,  1,     24, SI9324,2,19940429,1907,-16.7528,-119.3333, 3534,    804.0,   5.0548,  34.4936,2,  34.4979,2,     70.8,2,     71.3,2,    58.58,2,    41.63,2,     0.00,2,     2.89,2,   -0.002,2,   -0.004,2, -999.000,1,-999.0000,1,  -999.00,9,   -999.0,1,-999.000,9,   -999.0,9,   -999.0,9,  -999.00,9, 8075.3,-999.0000,-999.000,-999.000,  4.9886,-999.000
   318MWESTW_4,  P21E,   109,  1,     23, SI9323,2,19940429,1907,-16.7528,-119.3333, 3534,    900.6,   4.6188,  34.5031,2,  34.5085,2,     79.3,2,     82.2,2,    66.54,2,    40.93,2,     0.00,2,     2.84,2,   -0.002,2,   -0.004,2, -999.000,1,-999.0000,1,  -999.00,9,   -999.0,1,-999.000,9,   -999.0,9,   -999.0,9,  -999.00,9, 9039.9,-999.0000,-999.000,-999.000,  4.5470,-999.000
   318MWESTW_4,  P21E,   109,  1,     22, SI9322,2,19940429,1907,-16.7528,-119.3333, 3534,    994.5,   4.3093,  34.5196,2,  34.5225,2,     81.4,2,     81.5,2,    74.34,2,    41.12,2,     0.00,2,     2.87,2,   -0.001,2,   -0.001,2, -999.000,1,-999.0000,1,  -999.00,9,   -999.0,1,-999.000,9,   -999.0,9,   -999.0,9,  -999.00,9, 9978.2,-999.0000,-999.000,-999.000,  4.2317,-999.000
   318MWESTW_4,  P21E,   109,  1,     21, SI9321,2,19940429,1907,-16.7528,-119.3333, 3534,   1093.5,   3.9919,  34.5337,2,  34.5353,2,     79.9,2,     80.7,2,    82.94,2,    41.43,2,    -0.01,2,     2.91,2, -999.000,9, -999.000,9, -999.000,1,-999.0000,1,  -999.00,9,   -999.0,1,-999.000,9,   -999.0,9,   -999.0,9,  -999.00,9,10967.3,-999.0000,-999.000,-999.000,  3.9084,-999.000
   318MWESTW_4,  P21E,   109,  1,     20, SI9320,2,19940429,1907,-16.7528,-119.3333, 3534,   1197.1,   3.6997,  34.5488,2,  34.5512,2,     83.8,2,     84.8,2,    89.95,2,    41.13,2,     0.00,2,     2.90,2, -999.000,9, -999.000,9, -999.000,1,-999.0000,1,  -999.00,9,   -999.0,1,-999.000,9,   -999.0,9,   -999.0,9,  -999.00,9,12001.6,-999.0000,-999.000,-999.000,  3.6100,-999.000
   318MWESTW_4,  P21E,   109,  1,     19, SI9319,2,19940429,1907,-16.7528,-119.3333, 3534,   1298.7,   3.4288,  34.5619,2,  34.5637,2,     89.0,2,     90.2,2,    96.00,2,    40.66,2,     0.00,2,     2.87,2, -999.000,9, -999.000,9, -999.000,1,-999.0000,1,  -999.00,9,   -999.0,1,-999.000,9,   -999.0,9,   -999.0,9,  -999.00,9,13017.0,-999.0000,-999.000,-999.000,  3.3332,-999.000
   318MWESTW_4,  P21E,   109,  1,     18, SI9318,2,19940429,1907,-16.7528,-119.3333, 3534,   1398.3,   3.2281,  34.5747,2,  34.5739,2,     93.3,2,     94.4,2,   101.26,2,    40.37,2,     0.00,2,     2.85,2, -999.000,9, -999.000,9, -999.000,1,-999.0000,1,  -999.00,9,   -999.0,1,-999.000,9,   -999.0,9,   -999.0,9,  -999.00,9,14012.0,-999.0000,-999.000,-999.000,  3.1262,-999.000
   318MWESTW_4,  P21E,   109,  1,     17, SI9317,2,19940429,1907,-16.7528,-119.3333, 3534,   1501.8,   2.9905,  34.5868,2,  34.5891,2,    100.2,2,    101.4,2,   106.37,2,    39.84,2,     0.00,2,     2.81,2, -999.000,9, -999.000,9, -999.000,1,-999.0000,1,  -999.00,9,   -999.0,1,-999.000,9,   -999.0,9,   -999.0,9,  -999.00,9,15046.2,-999.0000,-999.000,-999.000,  2.8826,-999.000
   318MWESTW_4,  P21E,   109,  1,     16, SI9316,2,19940429,1907,-16.7528,-119.3333, 3534,   1598.1,   2.8031,  34.6004,2,  34.5989,2,    106.3,2,    106.5,2,   110.36,2,    39.43,2,     0.00,2,     2.77,2, -999.000,9, -999.000,9, -999.000,1,-999.0000,1,  -999.00,9,   -999.0,1,-999.000,9,   -999.0,9,   -999.0,9,  -999.00,9,16007.9,-999.0000,-999.000,-999.000,  2.6894,-999.000
   318MWESTW_4,  P21E,   109,  1,     15, SI9315,2,19940429,1907,-16.7528,-119.3333, 3534,   1697.1,   2.6169,  34.6125,2,  34.6099,2,    114.8,2,    113.8,2,   113.71,2,    38.78,2,     0.00,2,     2.72,2, -999.000,9, -999.000,9, -999.000,1,-999.0000,1,  -999.00,9,   -999.0,1,-999.000,9,   -999.0,9,   -999.0,9,  -999.00,9,16996.3,-999.0000,-999.000,-999.000,  2.4972,-999.000
   318MWESTW_4,  P21E,   109,  1,     14, SI9314,2,19940429,1907,-16.7528,-119.3333, 3534,   1800.5,   2.4129,  34.6219,2,  34.6209,2,    124.4,2,    124.7,2,   115.16,2,    37.95,2,     0.00,2,     2.64,2, -999.000,9, -999.000,9, -999.000,1,-999.0000,1,  -999.00,9,   -999.0,1,-999.000,9,   -999.0,9,   -999.0,9,  -999.00,9,18029.7,-999.0000,-999.000,-999.000,  2.2872,-999.000
   318MWESTW_4,  P21E,   109,  1,     13, SI9313,2,19940429,1907,-16.7528,-119.3333, 3534,   1900.1,   2.2285,  34.6339,2,  34.6325,2,    136.7,2,    136.6,2,   115.98,2,    36.94,2,     0.00,2,     2.57,2, -999.000,9, -999.000,9, -999.000,1,-999.0000,1,  -999.00,9,   -999.0,1,-999.000,9,   -999.0,9,   -999.0,9,  -999.00,9,19025.0,-999.0000,-999.000,-999.000,  2.0970,-999.000
   318MWESTW_4,  P21E,   109,  1,     12, SI9312,2,19940429,1907,-16.7528,-119.3333, 3534,   2048.8,   2.0338,  34.6472,2,  34.6468,2,    147.6,2,    148.8,2,   116.96,2,    35.92,2,     0.00,2,     2.48,2, -999.000,9, -999.000,9, -999.000,1,-999.0000,1,  -999.00,9,   -999.0,1,-999.000,9,   -999.0,9,   -999.0,9,  -999.00,9,20510.4,-999.0000,-999.000,-999.000,  1.8927,-999.000
   318MWESTW_4,  P21E,   109,  1,     11, SI9311,2,19940429,1907,-16.7528,-119.3333, 3534,   2201.9,   1.9358,  34.6579,2,  34.6570,2,    151.7,2,    152.4,2,   119.83,2,    35.65,2,    -0.01,2,     2.45,2, -999.000,9, -999.000,9, -999.000,1,-999.0000,1,  -999.00,9,   -999.0,1,-999.000,9,   -999.0,9,   -999.0,9,  -999.00,9,22039.6,-999.0000,-999.000,-999.000,  1.7831,-999.000
   318MWESTW_4,  P21E,   109,  1,     10, SI9310,2,19940429,1907,-16.7528,-119.3333, 3534,   2344.6,   1.8807,  34.6645,2,  34.6649,2,    153.1,2,    154.0,2,   121.92,2,    35.53,2,    -0.01,2,     2.44,2, -999.000,9, -999.000,9, -999.000,1,-999.0000,1,  -999.00,9,   -999.0,1,-999.000,9,   -999.0,9,   -999.0,9,  -999.00,9,23465.8,-999.0000,-999.000,-999.000,  1.7165,-999.000
   318MWESTW_4,  P21E,   109,  1,      9, SI9309,2,19940429,1907,-16.7528,-119.3333, 3534,   2508.6,   1.8386,  34.6700,2,  34.6698,2,    153.1,2,    153.7,2,   125.20,2,    35.57,2,     0.01,2,     2.45,2, -999.000,9, -999.000,9, -999.000,1,-999.0000,1,  -999.00,9,   -999.0,1,-999.000,9,   -999.0,9,   -999.0,9,  -999.00,9,25104.5,-999.0000,-999.000,-999.000,  1.6605,-999.000
   318MWESTW_4,  P21E,   109,  1,      8, SI9308,2,19940429,1907,-16.7528,-119.3333, 3534,   2651.3,   1.8141,  34.6720,2,  34.6739,2,    153.9,2,    154.6,2,   126.02,2,    35.46,2,     0.00,2,     2.45,2, -999.000,9, -999.000,9, -999.000,1,-999.0000,1,  -999.00,9,   -999.0,1,-999.000,9,   -999.0,9,   -999.0,9,  -999.00,9,26530.8,-999.0000,-999.000,-999.000,  1.6234,-999.000
   318MWESTW_4,  P21E,   109,  1,      7, SI9307,2,19940429,1907,-16.7528,-119.3333, 3534,   2802.3,   1.7840,  34.6741,2,  34.6737,2,    155.5,2,    156.8,2,   126.60,2,    35.34,2,     0.01,2,     2.45,2, -999.000,9, -999.000,9, -999.000,1,-999.0000,1,  -999.00,9,   -999.0,1,-999.000,9,   -999.0,9,   -999.0,9,  -999.00,9,28038.9,-999.0000,-999.000,-999.000,  1.5799,-999.000
   318MWESTW_4,  P21E,   109,  1,      6, SI9306,2,19940429,1907,-16.7528,-119.3333, 3534,   2950.9,   1.7607,  34.6760,2,  34.6751,2,    157.1,2,    158.1,2,   126.94,2,    35.36,2,     0.01,2,     2.45,2, -999.000,9, -999.000,9, -999.000,1,-999.0000,1,  -999.00,9,   -999.0,1,-999.000,9,   -999.0,9,   -999.0,9,  -999.00,9,29524.1,-999.0000,-999.000,-999.000,  1.5429,-999.000
   318MWESTW_4,  P21E,   109,  1,      5, SI9305,2,19940429,1907,-16.7528,-119.3333, 3534,   3097.3,   1.7411,  34.6775,2,  34.6775,2,    158.7,2,    159.4,2,   127.60,2,    35.43,2,     0.01,2,     2.45,2, -999.000,9, -999.000,9, -999.000,1,-999.0000,1,  -999.00,9,   -999.0,1,-999.000,9,   -999.0,9,   -999.0,9,  -999.00,9,30986.8,-999.0000,-999.000,-999.000,  1.5095,-999.000
   318MWESTW_4,  P21E,   109,  1,      4, SI9304,2,19940429,1907,-16.7528,-119.3333, 3534,   3248.1,   1.7109,  34.6796,2,  34.6794,2,    160.5,2,    160.6,2,   128.41,2,    35.39,2,     0.00,2,     2.45,2, -999.000,9, -999.000,9, -999.000,1,-999.0000,1,  -999.00,9,   -999.0,1,-999.000,9,   -999.0,9,   -999.0,9,  -999.00,9,32493.8,-999.0000,-999.000,-999.000,  1.4651,-999.000
   318MWESTW_4,  P21E,   109,  1,      3, SI9303,2,19940429,1907,-16.7528,-119.3333, 3534,   3397.1,   1.6949,  34.6814,2,  34.6796,2,    161.6,2,    161.0,2,   129.39,2,    35.23,2,     0.00,2,     2.44,2, -999.000,9, -999.000,9, -999.000,1,-999.0000,1,  -999.00,9,   -999.0,1,-999.000,9,   -999.0,9,   -999.0,9,  -999.00,9,33983.1,-999.0000,-999.000,-999.000,  1.4344,-999.000
   318MWESTW_4,  P21E,   109,  1,      2, SI9302,2,19940429,1907,-16.7528,-119.3333, 3534,   3536.7,   1.7029,  34.6813,2,  34.6810,2,    162.2,2,    161.1,2,   129.25,2,    35.35,2,     0.00,2,     2.45,2, -999.000,9, -999.000,9, -999.000,1,-999.0000,1,  -999.00,9,   -999.0,1,-999.000,9,   -999.0,9,   -999.0,9,  -999.00,9,35378.3,-999.0000,-999.000,-999.000,  1.4279,-999.000
   318MWESTW_4,  P21E,   109,  1,      1, SI9301,2,19940429,1907,-16.7528,-119.3333, 3534,   3586.7,   1.7056,  34.6815,2,  34.6804,2,    160.3,2,    161.4,2,   129.31,2,    35.23,2,     0.00,2,     2.43,2, -999.000,9, -999.000,9, -999.000,1,-999.0000,1,  -999.00,9,   -999.0,1,-999.000,9,   -999.0,9,   -999.0,9,  -999.00,9,35877.8,-999.0000,-999.000,-999.000,  1.4253,-999.000