BOTTLE,20010911WHPSIOdm
EXPOCODE,SECT_ID,STNNBR,CASTNO,SAMPNO,BTLNBR,BTLNBR_FLAG_W,DATE,TIME,LATITUDE,LONGITUDE,DEPTH,CTDPRS,CTDTMP,CTDSAL,CTDSAL_FLAG_W,SALNTY,SALNTY_FLAG_W,CTDOXY,CTDOXY_FLAG_W,OXYGEN,OXYGEN_FLAG_W,SILCAT,SILCAT_FLAG_W,NITRAT,NITRAT_FLAG_W,NITRIT,NITRIT_FLAG_W,PHSPHT,PHSPHT_FLAG_W,CFC-11,CFC-11_FLAG_W,CFC-12,CFC-12_FLAG_W,TRITUM,TRITUM_FLAG_W,HELIUM,HELIUM_FLAG_W,DELHE3,DELHE3_FLAG_W,DELC14,DELC14_FLAG_W,NEON,NEON_FLAG_W,TCARBN,TCARBN_FLAG_W,ALKALI,ALKALI_FLAG_W,PH,PH_FLAG_W,CTDRAW,HELIER,DELHER,NEONER,THETA,TRITER
,,,,,,,,,,,,DBAR,ITS-90,PSS-78,,PSS-78,,UMOL/KG,,UMOL/KG,,UMOL/KG,,UMOL/KG,,UMOL/KG,,UMOL/KG,,PMOL/KG,,PMOL/KG,,TU,,UMOL/KG,,PERCNT,,/MILLE,,NMOL/KG,,UMOL/KG,,UMOL/KG,,,,,NMOL/KG,PERCNT,NMOL/KG,ITS-90,TU
   318MWESTW_4,  P21E,    65,  1,     36, SI9336,2,19940416,2301,-16.7362, -95.3362, 4103,      8.8,  23.5952,  36.0469,2,  36.0448,2,    205.2,2,    219.4,2,     0.30,2,     0.01,2,     0.00,2,     0.37,2,    1.950,2,    1.084,2, -999.000,1,-999.0000,1,  -999.00,9,   -999.0,1,-999.000,9,   -999.0,9,   -999.0,9,  -999.00,9,  131.0,-999.0000,-999.000,-999.000, 23.5934,-999.000
   318MWESTW_4,  P21E,    65,  1,     35, SI9335,2,19940416,2301,-16.7362, -95.3362, 4103,     24.5,  23.2193,  36.0431,2,  36.0416,2,    209.8,2,    217.8,2,     0.32,2,     0.01,2,     0.00,2,     0.37,2,    1.965,2,    1.066,2, -999.000,1,-999.0000,1,  -999.00,9,   -999.0,1,-999.000,9,   -999.0,9,   -999.0,9,  -999.00,9,  288.2,-999.0000,-999.000,-999.000, 23.2142,-999.000
   318MWESTW_4,  P21E,    65,  1,     34, SI9334,2,19940416,2301,-16.7362, -95.3362, 4103,     49.3,  23.1989,  36.0441,2,  36.0455,2,    211.5,2,    219.6,2,     0.34,2,     0.00,2,     0.01,2,     0.37,2,    1.974,2,    1.100,2, -999.000,1,-999.0000,1,  -999.00,9,   -999.0,1,-999.000,9,   -999.0,9,   -999.0,9,  -999.00,9,  536.6,-999.0000,-999.000,-999.000, 23.1887,-999.000
   318MWESTW_4,  P21E,    65,  1,     33, SI9333,2,19940416,2301,-16.7362, -95.3362, 4103,     99.4,  20.2069,  35.7788,2,  35.7766,2,    225.3,2,    222.9,2,     0.53,2,     0.06,2,     0.01,2,     0.42,2,    2.277,2,    1.258,2, -999.000,1,-999.0000,1,  -999.00,9,   -999.0,1,-999.000,9,   -999.0,9,   -999.0,9,  -999.00,9, 1036.9,-999.0000,-999.000,-999.000, 20.1883,-999.000
   318MWESTW_4,  P21E,    65,  1,     32, SI9332,2,19940416,2301,-16.7362, -95.3362, 4103,    150.7,  18.9792,  35.5706,2,  35.5725,2,    208.3,2,    207.6,2,     0.72,2,     3.01,2,     0.04,2,     0.63,2,    2.326,6,    1.243,6, -999.000,1,-999.0000,1,  -999.00,9,   -999.0,1,-999.000,9,   -999.0,9,   -999.0,9,  -999.00,9, 1549.7,-999.0000,-999.000,-999.000, 18.9523,-999.000
   318MWESTW_4,  P21E,    65,  1,     31, SI9331,2,19940416,2301,-16.7362, -95.3362, 4103,    200.4,  17.0864,  35.0144,3,  35.2321,2,    177.1,2,    190.4,2,     1.61,2,     6.18,2,     0.02,2,     0.82,2,    2.301,2,    1.209,2, -999.000,1,-999.0000,1,  -999.00,9,   -999.0,1,-999.000,9,   -999.0,9,   -999.0,9,  -999.00,9, 2045.7,-999.0000,-999.000,-999.000, 17.0532,-999.000
   318MWESTW_4,  P21E,    65,  1,     30, SI9330,2,19940416,2301,-16.7362, -95.3362, 4103,    250.8,  12.9785,  34.7611,2,  34.7329,2,     25.4,2,     46.5,2,    15.51,2,    19.55,2,     0.01,2,     2.27,2,    1.118,2,    0.546,2, -999.000,1,-999.0000,1,  -999.00,9,   -999.0,1,-999.000,9,   -999.0,9,   -999.0,9,  -999.00,9, 2549.6,-999.0000,-999.000,-999.000, 12.9441,-999.000
   318MWESTW_4,  P21E,    65,  1,     29, SI9329,2,19940416,2301,-16.7362, -95.3362, 4103,    303.0,  11.8784,  34.7695,2,  34.7718,2,      4.3,2,      5.3,2,    24.73,2,    23.00,2,     0.00,2,     2.71,2,    0.313,2,    0.156,2, -999.000,1,-999.0000,1,  -999.00,9,   -999.0,1,-999.000,9,   -999.0,9,   -999.0,9,  -999.00,9, 3071.5,-999.0000,-999.000,-999.000, 11.8391,-999.000
   318MWESTW_4,  P21E,    65,  1,     28, SI9328,2,19940416,2301,-16.7362, -95.3362, 4103,    397.4,   9.9502,  34.6589,2,  34.6624,2,      7.0,2,      8.0,2,    27.17,2,    32.96,2,     0.01,2,     2.77,2,    0.093,2,    0.045,2, -999.000,1,-999.0000,1,  -999.00,9,   -999.0,1,-999.000,9,   -999.0,9,   -999.0,9,  -999.00,9, 4013.9,-999.0000,-999.000,-999.000,  9.9040,-999.000
   318MWESTW_4,  P21E,    65,  1,     27, SI9327,2,19940416,2301,-16.7362, -95.3362, 4103,    499.3,   7.9226,  34.5694,2,  34.5639,2,     23.5,2,     26.8,2,    31.89,2,    39.45,2,     0.00,2,     2.83,2,    0.022,2,    0.009,2, -999.000,1,-999.0000,1,  -999.00,9,   -999.0,1,-999.000,9,   -999.0,9,   -999.0,9,  -999.00,9, 5031.6,-999.0000,-999.000,-999.000,  7.8717,-999.000
   318MWESTW_4,  P21E,    65,  1,     26, SI9326,2,19940416,2301,-16.7362, -95.3362, 4103,    598.8,   6.6865,  34.5198,2,  34.5005,2,     42.7,2,     52.3,2,    35.90,2,    40.43,2,     0.00,2,     2.83,2,    0.011,2,    0.004,2, -999.000,1,-999.0000,1,  -999.00,9,   -999.0,1,-999.000,9,   -999.0,9,   -999.0,9,  -999.00,9, 6025.7,-999.0000,-999.000,-999.000,  6.6306,-999.000
   318MWESTW_4,  P21E,    65,  1,     25, SI9325,2,19940416,2301,-16.7362, -95.3362, 4103,    699.2,   5.9483,  34.4951,2,  34.4932,2,     52.2,2,     52.1,2,    45.11,2,    42.21,2,     0.00,2,     2.96,2,    0.000,2,    0.000,2, -999.000,1,-999.0000,1,  -999.00,9,   -999.0,1,-999.000,9,   -999.0,9,   -999.0,9,  -999.00,9, 7028.4,-999.0000,-999.000,-999.000,  5.8865,-999.000
   318MWESTW_4,  P21E,    65,  1,     24, SI9324,2,19940416,2301,-16.7362, -95.3362, 4103,    800.2,   5.3629,  34.4923,2,  34.4979,2,     51.2,2,     46.4,2,    56.24,2,    43.59,2,     0.00,2,     3.09,2,   -0.002,2,    0.001,2, -999.000,1,-999.0000,1,  -999.00,9,   -999.0,1,-999.000,9,   -999.0,9,   -999.0,9,  -999.00,9, 8037.7,-999.0000,-999.000,-999.000,  5.2952,-999.000
   318MWESTW_4,  P21E,    65,  1,     23, SI9323,2,19940416,2301,-16.7362, -95.3362, 4103,    901.7,   4.8145,  34.5052,2,  34.5119,2,     53.9,2,     52.6,2,    67.36,2,    43.65,2,     0.00,2,     3.10,2,   -0.002,2,   -0.003,2, -999.000,1,-999.0000,1,  -999.00,9,   -999.0,1,-999.000,9,   -999.0,9,   -999.0,9,  -999.00,9, 9051.5,-999.0000,-999.000,-999.000,  4.7413,-999.000
   318MWESTW_4,  P21E,    65,  1,     22, SI9322,2,19940416,2301,-16.7362, -95.3362, 4103,   1003.6,   4.3576,  34.5194,2,  34.5264,2,     58.5,2,     63.1,2,    76.76,2,    42.96,2,     0.00,2,     3.06,2,   -0.003,2,   -0.001,2, -999.000,1,-999.0000,1,  -999.00,9,   -999.0,1,-999.000,9,   -999.0,9,   -999.0,9,  -999.00,9,10068.8,-999.0000,-999.000,-999.000,  4.2789,-999.000
   318MWESTW_4,  P21E,    65,  1,     21, SI9321,2,19940416,2301,-16.7362, -95.3362, 4103,   1104.1,   4.0097,  34.5331,2,  34.5378,2,     70.0,2,     72.7,2,    83.88,2,    42.06,2,    -0.01,2,     3.01,2, -999.000,9, -999.000,9, -999.000,1,-999.0000,1,  -999.00,9,   -999.0,1,-999.000,9,   -999.0,9,   -999.0,9,  -999.00,9,11072.5,-999.0000,-999.000,-999.000,  3.9252,-999.000
   318MWESTW_4,  P21E,    65,  1,     20, SI9320,2,19940416,2301,-16.7362, -95.3362, 4103,   1203.4,   3.6656,  34.5422,2,  34.5461,2,     86.4,2,     86.8,2,    88.76,2,    40.86,2,    -0.01,2,     2.92,2, -999.000,9, -999.000,9, -999.000,1,-999.0000,1,  -999.00,9,   -999.0,1,-999.000,9,   -999.0,9,   -999.0,9,  -999.00,9,12065.1,-999.0000,-999.000,-999.000,  3.5757,-999.000
   318MWESTW_4,  P21E,    65,  1,     19, SI9319,2,19940416,2301,-16.7362, -95.3362, 4103,   1301.9,   3.3946,  34.5622,2,  34.5651,2,     86.9,2,     86.6,2,    97.62,2,    40.92,2,    -0.01,2,     2.92,2, -999.000,9, -999.000,9, -999.000,1,-999.0000,1,  -999.00,9,   -999.0,1,-999.000,9,   -999.0,9,   -999.0,9,  -999.00,9,13049.1,-999.0000,-999.000,-999.000,  3.2991,-999.000
   318MWESTW_4,  P21E,    65,  1,     18, SI9318,2,19940416,2301,-16.7362, -95.3362, 4103,   1401.1,   3.2082,  34.5766,2,  34.5769,2,     88.7,2,     89.4,2,   103.03,2,    40.73,2,     0.00,2,     2.92,2, -999.000,9, -999.000,9, -999.000,1,-999.0000,1,  -999.00,9,   -999.0,1,-999.000,9,   -999.0,9,   -999.0,9,  -999.00,9,14039.6,-999.0000,-999.000,-999.000,  3.1063,-999.000
   318MWESTW_4,  P21E,    65,  1,     17, SI9317,2,19940416,2301,-16.7362, -95.3362, 4103,   1499.7,   3.0259,  34.5909,2,  34.5906,2,     93.7,2,     93.3,2,   107.73,2,    40.45,2,     0.00,2,     2.88,2, -999.000,9, -999.000,9, -999.000,1,-999.0000,1,  -999.00,9,   -999.0,1,-999.000,9,   -999.0,9,   -999.0,9,  -999.00,9,15024.3,-999.0000,-999.000,-999.000,  2.9178,-999.000
   318MWESTW_4,  P21E,    65,  1,     16, SI9316,2,19940416,2301,-16.7362, -95.3362, 4103,   1598.7,   2.7964,  34.6035,2,  34.6016,2,     98.7,2,     99.4,2,   113.64,2,    39.99,2,     0.00,2,     2.85,2, -999.000,9, -999.000,9, -999.000,1,-999.0000,1,  -999.00,9,   -999.0,1,-999.000,9,   -999.0,9,   -999.0,9,  -999.00,9,16014.1,-999.0000,-999.000,-999.000,  2.6827,-999.000
   318MWESTW_4,  P21E,    65,  1,     15, SI9315,2,19940416,2301,-16.7362, -95.3362, 4103,   1694.4,   2.6529,  34.6131,2,  34.6126,2,    101.6,2,    102.5,2,   118.00,2,    39.60,2,     0.00,2,     2.82,2, -999.000,9, -999.000,9, -999.000,1,-999.0000,1,  -999.00,9,   -999.0,1,-999.000,9,   -999.0,9,   -999.0,9,  -999.00,9,16969.5,-999.0000,-999.000,-999.000,  2.5329,-999.000
   318MWESTW_4,  P21E,    65,  1,     14, SI9314,2,19940416,2301,-16.7362, -95.3362, 4103,   1848.2,   2.4353,  34.6270,2,  34.6270,2,    109.9,2,    110.4,2,   122.87,2,    39.08,2,     0.00,2,     2.77,2, -999.000,9, -999.000,9, -999.000,1,-999.0000,1,  -999.00,9,   -999.0,1,-999.000,9,   -999.0,9,   -999.0,9,  -999.00,9,18506.2,-999.0000,-999.000,-999.000,  2.3053,-999.000
   318MWESTW_4,  P21E,    65,  1,     13, SI9313,2,19940416,2301,-16.7362, -95.3362, 4103,   1997.1,   2.3018,  34.6392,2,  34.6350,2,    117.4,2,    116.2,2,   125.32,2,    38.46,2,    -0.01,2,     2.74,2, -999.000,9, -999.000,9, -999.000,1,-999.0000,1,  -999.00,9,   -999.0,1,-999.000,9,   -999.0,9,   -999.0,9,  -999.00,9,19993.7,-999.0000,-999.000,-999.000,  2.1610,-999.000
   318MWESTW_4,  P21E,    65,  1,     12, SI9312,2,19940416,2301,-16.7362, -95.3362, 4103,   2194.1,   2.1283,  34.6512,2,  34.6492,2,    125.7,2,    124.6,2,   128.28,2,    37.83,2,    -0.01,2,     2.67,2, -999.000,9, -999.000,9, -999.000,1,-999.0000,1,  -999.00,9,   -999.0,1,-999.000,9,   -999.0,9,   -999.0,9,  -999.00,9,21961.9,-999.0000,-999.000,-999.000,  1.9731,-999.000
   318MWESTW_4,  P21E,    65,  1,     11, SI9311,2,19940416,2301,-16.7362, -95.3362, 4103,   2396.4,   1.9812,  34.6607,2,  34.6592,2,    138.6,2,    137.4,2,   126.73,2,    36.86,2,    -0.01,2,     2.58,2, -999.000,9, -999.000,9, -999.000,1,-999.0000,1,  -999.00,9,   -999.0,1,-999.000,9,   -999.0,9,   -999.0,9,  -999.00,9,23983.6,-999.0000,-999.000,-999.000,  1.8106,-999.000
   318MWESTW_4,  P21E,    65,  1,     10, SI9310,2,19940416,2301,-16.7362, -95.3362, 4103,   2595.4,   1.8793,  34.6690,2,  34.6686,2,    144.5,2,    143.5,2,   128.14,2,    36.40,2,    -0.01,2,     2.55,2, -999.000,9, -999.000,9, -999.000,1,-999.0000,1,  -999.00,9,   -999.0,1,-999.000,9,   -999.0,9,   -999.0,9,  -999.00,9,25972.0,-999.0000,-999.000,-999.000,  1.6925,-999.000
   318MWESTW_4,  P21E,    65,  1,      9, SI9309,2,19940416,2301,-16.7362, -95.3362, 4103,   2796.5,   1.8231,  34.6761,2,  34.6753,2,    147.5,2,    146.3,2,   129.89,2,    36.28,2,    -0.01,2,     2.53,2, -999.000,9, -999.000,9, -999.000,1,-999.0000,1,  -999.00,9,   -999.0,1,-999.000,9,   -999.0,9,   -999.0,9,  -999.00,9,27980.8,-999.0000,-999.000,-999.000,  1.6187,-999.000
   318MWESTW_4,  P21E,    65,  1,      8, SI9308,2,19940416,2301,-16.7362, -95.3362, 4103,   3001.4,   1.7974,  34.6802,2,  34.6804,2,    146.5,2,    146.1,2,   132.17,2,    36.23,2,    -0.01,2,     2.53,2, -999.000,9, -999.000,9, -999.000,1,-999.0000,1,  -999.00,9,   -999.0,1,-999.000,9,   -999.0,9,   -999.0,9,  -999.00,9,30028.7,-999.0000,-999.000,-999.000,  1.5739,-999.000
   318MWESTW_4,  P21E,    65,  1,      7, SI9307,2,19940416,2301,-16.7362, -95.3362, 4103,   3199.7,   1.7844,  34.6828,2,  34.6822,2,    146.2,2,    146.1,2,   133.05,2,    36.23,2,    -0.01,2,     2.54,2, -999.000,9, -999.000,9, -999.000,1,-999.0000,1,  -999.00,9,   -999.0,1,-999.000,9,   -999.0,9,   -999.0,9,  -999.00,9,32010.3,-999.0000,-999.000,-999.000,  1.5417,-999.000
   318MWESTW_4,  P21E,    65,  1,      6, SI9306,2,19940416,2301,-16.7362, -95.3362, 4103,   3393.0,   1.7775,  34.6852,2,  34.6851,2,    147.5,2,    147.5,2,   132.71,2,    36.06,2,    -0.01,2,     2.52,2, -999.000,9, -999.000,9, -999.000,1,-999.0000,1,  -999.00,9,   -999.0,1,-999.000,9,   -999.0,9,   -999.0,9,  -999.00,9,33942.7,-999.0000,-999.000,-999.000,  1.5154,-999.000
   318MWESTW_4,  P21E,    65,  1,      5, SI9305,2,19940416,2301,-16.7362, -95.3362, 4103,   3587.5,   1.7705,  34.6874,2,  34.6865,2,    149.8,2,    149.5,2,   131.52,2,    35.84,2,    -0.02,2,     2.50,2, -999.000,9, -999.000,9, -999.000,1,-999.0000,1,  -999.00,9,   -999.0,1,-999.000,9,   -999.0,9,   -999.0,9,  -999.00,9,35886.5,-999.0000,-999.000,-999.000,  1.4884,-999.000
   318MWESTW_4,  P21E,    65,  1,      4, SI9304,2,19940416,2301,-16.7362, -95.3362, 4103,   3794.9,   1.7758,  34.6884,2,  34.6879,2,    150.6,2,    149.9,2,   131.01,2,    35.76,2,     0.00,2,     2.51,2, -999.000,9, -999.000,9, -999.000,1,-999.0000,1,  -999.00,9,   -999.0,1,-999.000,9,   -999.0,9,   -999.0,9,  -999.00,9,37959.5,-999.0000,-999.000,-999.000,  1.4715,-999.000
   318MWESTW_4,  P21E,    65,  1,      3, SI9303,2,19940416,2301,-16.7362, -95.3362, 4103,   3977.3,   1.7897,  34.6892,2,  34.6883,2,    151.0,2,    150.8,2,   130.86,2,    35.71,2,     0.00,2,     2.51,2, -999.000,9, -999.000,9, -999.000,1,-999.0000,1,  -999.00,9,   -999.0,1,-999.000,9,   -999.0,9,   -999.0,9,  -999.00,9,39782.1,-999.0000,-999.000,-999.000,  1.4651,-999.000
   318MWESTW_4,  P21E,    65,  1,      2, SI9302,2,19940416,2301,-16.7362, -95.3362, 4103,   4071.6,   1.7968,  34.6897,2,  34.6881,2,    151.2,2,    151.1,2,   130.88,2,    35.72,2,    -0.01,2,     2.50,2, -999.000,9, -999.000,9, -999.000,1,-999.0000,1,  -999.00,9,   -999.0,1,-999.000,9,   -999.0,9,   -999.0,9,  -999.00,9,40724.5,-999.0000,-999.000,-999.000,  1.4616,-999.000
   318MWESTW_4,  P21E,    65,  1,      1, SI9301,2,19940416,2301,-16.7362, -95.3362, 4103,   4111.9,   1.8008,  34.6898,2,  34.6887,2,    150.6,2,    151.8,2,   130.85,2,    35.70,2,    -0.01,2,     2.49,2, -999.000,9, -999.000,9, -999.000,1,-999.0000,1,  -999.00,9,   -999.0,1,-999.000,9,   -999.0,9,   -999.0,9,  -999.00,9,41127.5,-999.0000,-999.000,-999.000,  1.4609,-999.000