BOTTLE,20010911WHPSIOdm
EXPOCODE,SECT_ID,STNNBR,CASTNO,SAMPNO,BTLNBR,BTLNBR_FLAG_W,DATE,TIME,LATITUDE,LONGITUDE,DEPTH,CTDPRS,CTDTMP,CTDSAL,CTDSAL_FLAG_W,SALNTY,SALNTY_FLAG_W,CTDOXY,CTDOXY_FLAG_W,OXYGEN,OXYGEN_FLAG_W,SILCAT,SILCAT_FLAG_W,NITRAT,NITRAT_FLAG_W,NITRIT,NITRIT_FLAG_W,PHSPHT,PHSPHT_FLAG_W,CFC-11,CFC-11_FLAG_W,CFC-12,CFC-12_FLAG_W,TRITUM,TRITUM_FLAG_W,HELIUM,HELIUM_FLAG_W,DELHE3,DELHE3_FLAG_W,DELC14,DELC14_FLAG_W,NEON,NEON_FLAG_W,TCARBN,TCARBN_FLAG_W,ALKALI,ALKALI_FLAG_W,PH,PH_FLAG_W,CTDRAW,HELIER,DELHER,NEONER,THETA,TRITER
,,,,,,,,,,,,DBAR,ITS-90,PSS-78,,PSS-78,,UMOL/KG,,UMOL/KG,,UMOL/KG,,UMOL/KG,,UMOL/KG,,UMOL/KG,,PMOL/KG,,PMOL/KG,,TU,,UMOL/KG,,PERCNT,,/MILLE,,NMOL/KG,,UMOL/KG,,UMOL/KG,,,,,NMOL/KG,PERCNT,NMOL/KG,ITS-90,TU
   318MWESTW_5,  P21W,   239,  1,     15, SI9415,2,19940610,1154,-18.1500, 168.6000,  855,      5.8,  25.5141,  35.0731,2,  35.0720,2,    204.9,2,    210.9,2,     0.68,2,     0.06,2,     0.00,2,     0.16,2,    1.752,2,    0.958,2, -999.000,1,-999.0000,1,  -999.00,9,   -999.0,1,-999.000,9,   -999.0,9,   -999.0,9,  -999.00,9,  115.2,-999.0000,-999.000,-999.000, 25.5128,-999.000
   318MWESTW_5,  P21W,   239,  1,     14, SI9436,2,19940610,1154,-18.1500, 168.6000,  855,     25.2,  25.5191,  35.0734,2,  35.0722,2,    210.8,2,    209.3,2,     0.69,2,     0.05,2,     0.00,2,     0.16,2,    1.766,2,    0.969,2, -999.000,1,-999.0000,1,  -999.00,9,   -999.0,1,-999.000,9,   -999.0,9,   -999.0,9,  -999.00,9,  308.8,-999.0000,-999.000,-999.000, 25.5136,-999.000
   318MWESTW_5,  P21W,   239,  1,     13, SI9413,2,19940610,1154,-18.1500, 168.6000,  855,     55.3,  25.5295,  35.0772,2,  35.0750,2,    210.0,2,    214.2,2,     0.71,2,     0.00,2,     0.00,2,     0.16,2,    1.767,2,    0.982,2, -999.000,1,-999.0000,1,  -999.00,9,   -999.0,1,-999.000,9,   -999.0,9,   -999.0,9,  -999.00,9,  609.2,-999.0000,-999.000,-999.000, 25.5173,-999.000
   318MWESTW_5,  P21W,   239,  1,     12, SI9438,2,19940610,1154,-18.1500, 168.6000,  855,     84.1,  25.5161,  35.0898,2,  35.0894,2,    209.8,2,    205.1,2,     0.72,2,     0.01,2,     0.00,2,     0.16,2,    1.780,2,    0.990,2, -999.000,1,-999.0000,1,  -999.00,9,   -999.0,1,-999.000,9,   -999.0,9,   -999.0,9,  -999.00,9,  896.1,-999.0000,-999.000,-999.000, 25.4976,-999.000
   318MWESTW_5,  P21W,   239,  1,     11, SI9411,2,19940610,1154,-18.1500, 168.6000,  855,    145.2,  23.4904,  35.8288,2,  35.8281,2,    173.1,2,    167.0,2,     0.88,2,     3.36,2,     0.02,2,     0.44,2,    1.819,2,    0.977,2, -999.000,1,-999.0000,1,  -999.00,9,   -999.0,1,-999.000,9,   -999.0,9,   -999.0,9,  -999.00,9, 1503.6,-999.0000,-999.000,-999.000, 23.4602,-999.000
   318MWESTW_5,  P21W,   239,  1,     10, SI9412,2,19940610,1154,-18.1500, 168.6000,  855,    196.7,  21.8951,  35.9073,2,  35.9050,2,    161.0,2,    158.7,2,     1.04,2,     5.22,2,     0.00,2,     0.56,2,    1.816,2,    0.984,2, -999.000,1,-999.0000,1,  -999.00,9,   -999.0,1,-999.000,9,   -999.0,9,   -999.0,9,  -999.00,9, 2016.0,-999.0000,-999.000,-999.000, 21.8561,-999.000
   318MWESTW_5,  P21W,   239,  1,      9, SI9410,2,19940610,1154,-18.1500, 168.6000,  855,    246.4,  19.3966,  35.6838,2,  35.6852,2,    165.3,2,    161.5,2,     1.72,2,     6.57,2,     0.00,2,     0.63,2,    1.761,2,    0.943,2, -999.000,1,-999.0000,1,  -999.00,9,   -999.0,1,-999.000,9,   -999.0,9,   -999.0,9,  -999.00,9, 2511.1,-999.0000,-999.000,-999.000, 19.3518,-999.000
   318MWESTW_5,  P21W,   239,  1,      8, SI9422,2,19940610,1154,-18.1500, 168.6000,  855,    296.0,  18.1225,  35.6495,2,  35.6473,2,    202.5,2,    200.2,2,     1.15,3,     3.99,3,     0.00,2,     0.40,3,    2.212,4,    1.176,4, -999.000,1,-999.0000,1,  -999.00,9,   -999.0,1,-999.000,9,   -999.0,9,   -999.0,9,  -999.00,9, 3004.3,-999.0000,-999.000,-999.000, 18.0711,-999.000
   318MWESTW_5,  P21W,   239,  1,      7, SI9407,2,19940610,1154,-18.1500, 168.6000,  855,    347.9,  16.1976,  35.4062,2,  35.4034,2,    196.2,2,    180.3,2,     2.67,2,     8.15,2,     0.00,2,     0.68,2, -999.000,9, -999.000,9, -999.000,1,-999.0000,1,  -999.00,9,   -999.0,1,-999.000,9,   -999.0,9,   -999.0,9,  -999.00,9, 3521.0,-999.0000,-999.000,-999.000, 16.1417,-999.000
   318MWESTW_5,  P21W,   239,  1,      6, SI9427,2,19940610,1154,-18.1500, 168.6000,  855,    398.9,  13.2155,  35.0578,2,  35.0496,2,    179.6,2,    172.3,2,     5.28,2,    13.58,2,     0.00,2,     1.06,2,    1.316,6,    0.682,6, -999.000,1,-999.0000,1,  -999.00,9,   -999.0,1,-999.000,9,   -999.0,9,   -999.0,9,  -999.00,9, 4027.9,-999.0000,-999.000,-999.000, 13.1596,-999.000
   318MWESTW_5,  P21W,   239,  1,      5, SI9405,2,19940610,1154,-18.1500, 168.6000,  855,    500.4,   9.7797,  34.6702,2,  34.6677,2,    166.7,2,    165.3,2,    11.20,2,    21.10,2,     0.00,2,     1.55,2,    0.666,2,    0.344,2, -999.000,1,-999.0000,1,  -999.00,9,   -999.0,1,-999.000,9,   -999.0,9,   -999.0,9,  -999.00,9, 5036.2,-999.0000,-999.000,-999.000,  9.7218,-999.000
   318MWESTW_5,  P21W,   239,  1,      4, SI9404,2,19940610,1154,-18.1500, 168.6000,  855,    603.9,   7.6822,  34.4981,2,  34.4960,2,    177.1,2,    177.5,2,    15.97,2,    25.15,2,     0.00,2,     1.77,2,    0.391,2,    0.206,2, -999.000,1,-999.0000,1,  -999.00,9,   -999.0,1,-999.000,9,   -999.0,9,   -999.0,9,  -999.00,9, 6065.1,-999.0000,-999.000,-999.000,  7.6214,-999.000
   318MWESTW_5,  P21W,   239,  1,      3, SI9403,2,19940610,1154,-18.1500, 168.6000,  855,    691.4,   6.7685,  34.4425,2,  34.4442,2,    181.2,2,    180.5,2,    19.87,2,    27.09,2,     0.00,2,     1.89,2, -999.000,9, -999.000,9, -999.000,1,-999.0000,1,  -999.00,9,   -999.0,1,-999.000,9,   -999.0,9,   -999.0,9,  -999.00,9, 6934.3,-999.0000,-999.000,-999.000,  6.7032,-999.000
   318MWESTW_5,  P21W,   239,  1,      2, SI9437,2,19940610,1154,-18.1500, 168.6000,  855,    797.7,   5.3588,  34.4552,2,  34.4522,2,    169.5,2,    169.9,2,    40.36,2,    30.70,2,     0.00,2,     2.13,2,    0.098,2,    0.057,2, -999.000,1,-999.0000,1,  -999.00,9,   -999.0,1,-999.000,9,   -999.0,9,   -999.0,9,  -999.00,9, 7990.4,-999.0000,-999.000,-999.000,  5.2914,-999.000
   318MWESTW_5,  P21W,   239,  1,      1, SI9401,2,19940610,1154,-18.1500, 168.6000,  855,    847.2,   4.3339,  34.4630,2,  34.4622,2,    166.4,2,    163.0,2,    55.73,2,    32.93,2,     0.00,2,     2.27,2,    0.028,2,    0.017,2, -999.000,1,-999.0000,1,  -999.00,9,   -999.0,1,-999.000,9,   -999.0,9,   -999.0,9,  -999.00,9, 8480.7,-999.0000,-999.000,-999.000,  4.2686,-999.000
   318MWESTW_5,  P21W,   240,  1,     16, SI9416,2,19940610,1455,-18.2500, 168.3667,  995,      4.9,  25.5436,  35.0434,2,-999.0000,9,    207.4,2,    215.7,2,     0.70,2,     0.00,2,     0.00,2,     0.16,2,    1.760,6,    0.955,6, -999.000,1,-999.0000,1,  -999.00,9,   -999.0,1,-999.000,9,   1946.5,2,   2311.8,2,     8.11,2,  106.5,-999.0000,-999.000,-999.000, 25.5425,-999.000
   318MWESTW_5,  P21W,   240,  1,     15, SI9415,2,19940610,1455,-18.2500, 168.3667,  995,     18.5,  25.5478,  35.0429,2,  35.0429,2,    202.0,2,    213.8,2,     0.72,2,     0.04,2,     0.00,2,     0.16,2, -999.000,9, -999.000,9, -999.000,1,-999.0000,1,  -999.00,9,   -999.0,1,-999.000,9,   1944.6,2,   2299.7,2,     8.11,2,  242.6,-999.0000,-999.000,-999.000, 25.5437,-999.000
   318MWESTW_5,  P21W,   240,  1,     14, SI9436,2,19940610,1455,-18.2500, 168.3667,  995,     44.3,  25.3964,  35.0469,2,  35.0496,2,    204.5,2,    209.2,2,     0.73,2,     0.04,2,     0.01,2,     0.15,2,    1.761,2,    0.981,2, -999.000,1,-999.0000,1,  -999.00,9,   -999.0,1,-999.000,9,   1948.9,2,   2312.1,2,     8.11,2,  499.2,-999.0000,-999.000,-999.000, 25.3867,-999.000
   318MWESTW_5,  P21W,   240,  1,     13, SI9413,2,19940610,1455,-18.2500, 168.3667,  995,     95.0,  23.9151,  35.6371,2,  35.6319,2,    190.6,2,    189.5,2,     0.74,2,     0.99,2,     0.06,2,     0.32,2,    1.854,2,    1.008,2, -999.000,1,-999.0000,1,  -999.00,9,   -999.0,1,-999.000,9,   2009.4,2,   2348.0,2,     8.04,2, 1004.6,-999.0000,-999.000,-999.000, 23.8951,-999.000
   318MWESTW_5,  P21W,   240,  1,     12, SI9438,2,19940610,1455,-18.2500, 168.3667,  995,    144.8,  23.4905,  35.8186,2,  35.8188,2,    165.4,2,    172.9,2,     0.75,2,     2.52,2,     0.03,2,     0.41,2,    1.841,2,    0.966,2, -999.000,1,-999.0000,1,  -999.00,9,   -999.0,1,-999.000,9,   2040.3,2,   2350.5,2,     8.02,2, 1500.4,-999.0000,-999.000,-999.000, 23.4604,-999.000
   318MWESTW_5,  P21W,   240,  1,     11, SI9411,2,19940610,1455,-18.2500, 168.3667,  995,    196.4,  21.7120,  35.9026,2,  35.8894,2,    161.1,2,    160.5,2,     1.05,2,     5.08,2,     0.01,2,     0.56,2, -999.000,9, -999.000,9, -999.000,1,-999.0000,1,  -999.00,9,   -999.0,1,-999.000,9,   2074.9,2,   2362.2,2,     7.97,2, 2014.2,-999.0000,-999.000,-999.000, 21.6733,-999.000
   318MWESTW_5,  P21W,   240,  1,     10, SI9412,2,19940610,1455,-18.2500, 168.3667,  995,    247.3,  19.7722,  35.6973,2,  35.6960,2,    170.0,2,    169.8,2,     1.36,2,     5.30,2,     0.01,2,     0.52,2, -999.000,9, -999.000,9, -999.000,1,-999.0000,1,  -999.00,9,   -999.0,1,-999.000,9,   2068.4,2,   2352.5,2,     7.96,2, 2520.5,-999.0000,-999.000,-999.000, 19.7266,-999.000
   318MWESTW_5,  P21W,   240,  1,      9, SI9410,2,19940610,1455,-18.2500, 168.3667,  995,    296.9,  17.1463,  35.4779,2,  35.4987,3,    169.7,2,    173.7,2,     2.23,2,     7.12,2,     0.01,2,     0.63,2, -999.000,9, -999.000,9, -999.000,1,-999.0000,1,  -999.00,9,   -999.0,1,-999.000,9,   2082.6,2,   2342.5,2,     7.92,2, 3014.0,-999.0000,-999.000,-999.000, 17.0967,-999.000
   318MWESTW_5,  P21W,   240,  1,      8, SI9422,2,19940610,1455,-18.2500, 168.3667,  995,    338.6,  15.7261,  35.3145,2,  35.3112,2,    168.7,2,    167.8,2,     3.67,2,     9.94,2,     0.01,2,     0.85,2,    1.569,2,    0.790,2, -999.000,1,-999.0000,1,  -999.00,9,   -999.0,1,-999.000,9,   2098.2,2,   2321.0,2,     7.87,2, 3428.8,-999.0000,-999.000,-999.000, 15.6728,-999.000
   318MWESTW_5,  P21W,   240,  1,      7, SI9407,2,19940610,1455,-18.2500, 168.3667,  995,    392.5,  13.3819,  35.0198,2,  35.0220,2,    163.6,2,    161.7,2,     6.13,2,    14.25,2,     0.00,2,     1.13,2,    1.159,2,    0.593,2, -999.000,1,-999.0000,1,  -999.00,9,   -999.0,1,-999.000,9,   2122.0,2,   2307.4,2,     7.80,2, 3965.4,-999.0000,-999.000,-999.000, 13.3265,-999.000
   318MWESTW_5,  P21W,   240,  1,      6, SI9427,2,19940610,1455,-18.2500, 168.3667,  995,    496.8,   9.5591,  34.6548,2,  34.6535,2,    166.4,2,    164.3,2,    12.18,2,    21.90,2,     0.00,2,     1.60,2,    0.606,2,    0.306,2, -999.000,1,-999.0000,1,  -999.00,9,   -999.0,1,-999.000,9,   2154.0,2,   2297.7,2,     7.70,2, 5002.3,-999.0000,-999.000,-999.000,  9.5024,-999.000
   318MWESTW_5,  P21W,   240,  1,      5, SI9405,2,19940610,1455,-18.2500, 168.3667,  995,    596.7,   6.7134,  34.4374,2,  34.4381,2,    181.9,2,    181.7,2,    19.95,2,    27.11,2,     0.01,2,     1.92,2,    0.256,2,    0.141,2, -999.000,1,-999.0000,1,  -999.00,9,   -999.0,1,-999.000,9,   2171.9,2,   2303.5,2,     7.65,2, 5994.3,-999.0000,-999.000,-999.000,  6.6577,-999.000
   318MWESTW_5,  P21W,   240,  1,      4, SI9404,2,19940610,1455,-18.2500, 168.3667,  995,    701.2,   5.9999,  34.4144,2,  34.4137,2,    179.3,2,    179.6,2,    26.15,2,    28.94,2,     0.00,2,     2.03,2,    0.146,2,    0.079,2, -999.000,1,-999.0000,1,  -999.00,9,   -999.0,1,-999.000,9,   2196.9,2,   2308.5,2,     7.61,2, 7033.0,-999.0000,-999.000,-999.000,  5.9377,-999.000
   318MWESTW_5,  P21W,   240,  1,      3, SI9403,2,19940610,1455,-18.2500, 168.3667,  995,    800.9,   5.4997,  34.4206,2,  34.4200,2,    174.7,2,    174.0,2,    33.63,2,    30.30,2,     0.00,2,     2.12,2,    0.092,2,    0.052,2, -999.000,1,-999.0000,1,  -999.00,9,   -999.0,1,-999.000,9,   -999.0,9,   -999.0,9,  -999.00,9, 8023.3,-999.0000,-999.000,-999.000,  5.4312,-999.000
   318MWESTW_5,  P21W,   240,  1,      2, SI9437,2,19940610,1455,-18.2500, 168.3667,  995,    903.6,   4.6640,  34.4635,2,  34.4628,2,    167.9,2,    166.5,2,    51.47,2,    31.92,2,     0.00,2,     2.23,2,    0.046,2,    0.025,2, -999.000,1,-999.0000,1,  -999.00,9,   -999.0,1,-999.000,9,   2226.3,2,   2326.5,2,     7.58,2, 9043.6,-999.0000,-999.000,-999.000,  4.5917,-999.000
   318MWESTW_5,  P21W,   240,  1,      1, SI9401,2,19940610,1455,-18.2500, 168.3667,  995,    984.1,   4.5011,  34.4709,2,  34.4730,2,    163.0,2,    164.6,2,    55.52,2,    32.37,2,     0.00,2,     2.25,2,    0.041,2,    0.021,2, -999.000,1,-999.0000,1,  -999.00,9,   -999.0,1,-999.000,9,   -999.0,9,   -999.0,9,  -999.00,9, 9842.7,-999.0000,-999.000,-999.000,  4.4230,-999.000