BOTTLE,20010911WHPSIOdm
EXPOCODE,SECT_ID,STNNBR,CASTNO,SAMPNO,BTLNBR,BTLNBR_FLAG_W,DATE,TIME,LATITUDE,LONGITUDE,DEPTH,CTDPRS,CTDTMP,CTDSAL,CTDSAL_FLAG_W,SALNTY,SALNTY_FLAG_W,CTDOXY,CTDOXY_FLAG_W,OXYGEN,OXYGEN_FLAG_W,SILCAT,SILCAT_FLAG_W,NITRAT,NITRAT_FLAG_W,NITRIT,NITRIT_FLAG_W,PHSPHT,PHSPHT_FLAG_W,CFC-11,CFC-11_FLAG_W,CFC-12,CFC-12_FLAG_W,TRITUM,TRITUM_FLAG_W,HELIUM,HELIUM_FLAG_W,DELHE3,DELHE3_FLAG_W,DELC14,DELC14_FLAG_W,NEON,NEON_FLAG_W,TCARBN,TCARBN_FLAG_W,ALKALI,ALKALI_FLAG_W,PH,PH_FLAG_W,CTDRAW,HELIER,DELHER,NEONER,THETA,TRITER
,,,,,,,,,,,,DBAR,ITS-90,PSS-78,,PSS-78,,UMOL/KG,,UMOL/KG,,UMOL/KG,,UMOL/KG,,UMOL/KG,,UMOL/KG,,PMOL/KG,,PMOL/KG,,TU,,UMOL/KG,,PERCNT,,/MILLE,,NMOL/KG,,UMOL/KG,,UMOL/KG,,,,,NMOL/KG,PERCNT,NMOL/KG,ITS-90,TU
   318MWESTW_5,  P21W,   167,  1,     36, SI9442,2,19940522,0059,-17.4972,-151.0028, 3613,      7.8,  28.4449,  35.7867,2,  35.7853,2,    214.5,2,    215.4,2,     0.76,2,     0.12,2,     0.00,2,     0.16,2,    1.575,2,    0.899,2, -999.000,1,-999.0000,1,  -999.00,9,   -999.0,1,-999.000,9,   -999.0,9,   -999.0,9,  -999.00,9,  131.8,-999.0000,-999.000,-999.000, 28.4430,-999.000
   318MWESTW_5,  P21W,   167,  1,     35, SI9435,2,19940522,0059,-17.4972,-151.0028, 3613,     28.4,  28.3638,  35.7796,2,  35.7795,2,    207.4,2,    212.9,2,     0.77,2,     0.08,2,     0.00,2,     0.16,2,    1.586,2,    0.905,2, -999.000,1,-999.0000,1,  -999.00,9,   -999.0,1,-999.000,9,   -999.0,9,   -999.0,9,  -999.00,9,  337.8,-999.0000,-999.000,-999.000, 28.3570,-999.000
   318MWESTW_5,  P21W,   167,  1,     34, SI9441,2,19940522,0059,-17.4972,-151.0028, 3613,     47.5,  28.1620,  35.8165,2,  35.8169,2,    218.7,2,    224.2,2,     0.79,2,     0.09,2,     0.00,2,     0.17,2,    1.610,2,    0.901,2, -999.000,1,-999.0000,1,  -999.00,9,   -999.0,1,-999.000,9,   -999.0,9,   -999.0,9,  -999.00,9,  528.5,-999.0000,-999.000,-999.000, 28.1507,-999.000
   318MWESTW_5,  P21W,   167,  1,     33, SI9433,3,19940522,0059,-17.4972,-151.0028, 3613,     97.5,  24.5538,  35.9794,2,  35.9787,3,    209.5,2,    208.8,2,     0.65,2,     0.14,2,     0.00,2,     0.19,2, -999.000,9, -999.000,9, -999.000,1,-999.0000,1,  -999.00,9,   -999.0,1,-999.000,9,   -999.0,9,   -999.0,9,  -999.00,9, 1026.7,-999.0000,-999.000,-999.000, 24.5329,-999.000
   318MWESTW_5,  P21W,   167,  1,     32, SI9432,2,19940522,0059,-17.4972,-151.0028, 3613,    150.6,  22.7994,  36.0308,2,  36.0339,2,    188.3,2,    194.4,2,     0.67,2,     1.44,2,     0.03,2,     0.33,2,    1.919,2,    1.029,2, -999.000,1,-999.0000,1,  -999.00,9,   -999.0,1,-999.000,9,   -999.0,9,   -999.0,9,  -999.00,9, 1555.0,-999.0000,-999.000,-999.000, 22.7687,-999.000
   318MWESTW_5,  P21W,   167,  1,     31, SI9431,2,19940522,0059,-17.4972,-151.0028, 3613,    200.9,  20.9941,  35.8845,2,  35.8801,2,    175.9,2,    155.8,4,     0.99,2,     3.29,2,     0.01,2,     0.46,2,    1.908,2,    1.001,2, -999.000,1,-999.0000,1,  -999.00,9,   -999.0,1,-999.000,9,   -999.0,9,   -999.0,9,  -999.00,9, 2056.4,-999.0000,-999.000,-999.000, 20.9555,-999.000
   318MWESTW_5,  P21W,   167,  1,     30, SI9440,2,19940522,0059,-17.4972,-151.0028, 3613,    239.8,  19.1522,  35.6302,2,  35.6232,2,    187.0,2,    178.7,2,     1.30,2,     4.36,2,     0.00,2,     0.51,2,    1.788,2,    0.955,2, -999.000,1,-999.0000,1,  -999.00,9,   -999.0,1,-999.000,9,   -999.0,9,   -999.0,9,  -999.00,9, 2443.7,-999.0000,-999.000,-999.000, 19.1090,-999.000
   318MWESTW_5,  P21W,   167,  1,     29, SI9429,2,19940522,0059,-17.4972,-151.0028, 3613,    289.4,  17.2654,  35.3956,2,  35.3949,2,    181.3,2,    163.2,2,     2.22,2,     6.64,2,     0.00,2,     0.67,2,    1.670,2,    0.877,2, -999.000,1,-999.0000,1,  -999.00,9,   -999.0,1,-999.000,9,   -999.0,9,   -999.0,9,  -999.00,9, 2937.2,-999.0000,-999.000,-999.000, 17.2169,-999.000
   318MWESTW_5,  P21W,   167,  1,     28, SI9428,2,19940522,0059,-17.4972,-151.0028, 3613,    392.1,  11.6483,  34.7695,2,  34.7659,2,    163.2,2,   -999.0,9,     8.08,2,    17.48,2,     0.00,2,     1.39,2,    0.916,2,    0.470,2, -999.000,1,-999.0000,1,  -999.00,9,   -999.0,1,-999.000,9,   -999.0,9,   -999.0,9,  -999.00,9, 3958.7,-999.0000,-999.000,-999.000, 11.5978,-999.000
   318MWESTW_5,  P21W,   167,  1,     27, SI9424,2,19940522,0059,-17.4972,-151.0028, 3613,    494.4,   8.0982,  34.5032,2,  34.5003,2,    152.3,2,    132.0,4,    18.61,2,    27.16,2,     0.00,2,     1.98,2,    0.335,2,    0.174,2, -999.000,1,-999.0000,1,  -999.00,9,   -999.0,1,-999.000,9,   -999.0,9,   -999.0,9,  -999.00,9, 4975.8,-999.0000,-999.000,-999.000,  8.0472,-999.000
   318MWESTW_5,  P21W,   167,  1,     26, SI9414,2,19940522,0059,-17.4972,-151.0028, 3613,    597.4,   6.6988,  34.4452,2,  34.4449,2,    152.0,2,    150.6,2,    25.68,2,    30.23,2,     0.00,2,     2.15,2,    0.147,2,    0.096,2, -999.000,1,-999.0000,1,  -999.00,9,   -999.0,1,-999.000,9,   -999.0,9,   -999.0,9,  -999.00,9, 6000.9,-999.0000,-999.000,-999.000,  6.6431,-999.000
   318MWESTW_5,  P21W,   167,  1,     25, SI9425,2,19940522,0059,-17.4972,-151.0028, 3613,    699.3,   5.5558,  34.4277,2,  34.4267,2,    152.9,2,    153.5,2,    35.90,2,    32.15,2,     0.00,2,     2.27,2,    0.058,6,    0.036,6, -999.000,1,-999.0000,1,  -999.00,9,   -999.0,1,-999.000,9,   -999.0,9,   -999.0,9,  -999.00,9, 7013.5,-999.0000,-999.000,-999.000,  5.4962,-999.000
   318MWESTW_5,  P21W,   167,  1,     24, SI9434,3,19940522,0059,-17.4972,-151.0028, 3613,    800.1,   4.8634,  34.4597,2,  34.4599,2,    148.3,2,    141.6,2,    50.02,2,    33.72,2,     0.00,2,     2.39,2,    0.015,2,    0.018,2, -999.000,1,-999.0000,1,  -999.00,9,   -999.0,1,-999.000,9,   -999.0,9,   -999.0,9,  -999.00,9, 8015.6,-999.0000,-999.000,-999.000,  4.7988,-999.000
   318MWESTW_5,  P21W,   167,  1,     23, SI9423,2,19940522,0059,-17.4972,-151.0028, 3613,    895.4,   4.4590,  34.4775,2,  34.4762,2,    147.4,2,    148.1,2,    58.29,2,    34.36,2,     0.00,2,     2.42,2,    0.012,2,    0.008,2, -999.000,1,-999.0000,1,  -999.00,9,   -999.0,1,-999.000,9,   -999.0,9,   -999.0,9,  -999.00,9, 8963.4,-999.0000,-999.000,-999.000,  4.3888,-999.000
   318MWESTW_5,  P21W,   167,  1,     22, SI9418,2,19940522,0059,-17.4972,-151.0028, 3613,    996.1,   3.9706,  34.4996,2,  34.4991,2,    146.1,2,    146.2,2,    67.75,2,    35.01,2,     0.00,2,     2.45,2,    0.001,2,    0.010,2, -999.000,1,-999.0000,1,  -999.00,9,   -999.0,1,-999.000,9,   -999.0,9,   -999.0,9,  -999.00,9, 9965.3,-999.0000,-999.000,-999.000,  3.8955,-999.000
   318MWESTW_5,  P21W,   167,  1,     21, SI9421,2,19940522,0059,-17.4972,-151.0028, 3613,   1098.4,   3.5467,  34.5243,2,  34.5225,2,    145.4,2,    142.9,2,    77.53,2,    35.43,2,     0.00,2,     2.50,2,    0.002,2,    0.008,2, -999.000,1,-999.0000,1,  -999.00,9,   -999.0,1,-999.000,9,   -999.0,9,   -999.0,9,  -999.00,9,10981.5,-999.0000,-999.000,-999.000,  3.4666,-999.000
   318MWESTW_5,  P21W,   167,  1,     20, SI9420,2,19940522,0059,-17.4972,-151.0028, 3613,   1198.9,   3.2998,  34.5421,2,  34.5441,2,    145.4,2,    144.7,2,    83.99,2,    35.61,2,     0.00,2,     2.51,2,    0.001,2,    0.006,2, -999.000,1,-999.0000,1,  -999.00,9,   -999.0,1,-999.000,9,   -999.0,9,   -999.0,9,  -999.00,9,11981.6,-999.0000,-999.000,-999.000,  3.2137,-999.000
   318MWESTW_5,  P21W,   167,  1,     19, SI9419,2,19940522,0059,-17.4972,-151.0028, 3613,   1303.3,   3.0928,  34.5587,2,  34.5582,2,    146.4,2,    127.2,4,    89.71,2,    35.85,2,     0.00,2,     2.53,2,   -0.001,2,    0.004,2, -999.000,1,-999.0000,1,  -999.00,9,   -999.0,1,-999.000,9,   -999.0,9,   -999.0,9,  -999.00,9,13019.0,-999.0000,-999.000,-999.000,  3.0002,-999.000
   318MWESTW_5,  P21W,   167,  1,     18, SI9439,2,19940522,0059,-17.4972,-151.0028, 3613,   1403.1,   2.9476,  34.5687,2,  34.5681,2,    146.6,2,    141.3,4,    93.32,2,    35.85,2,     0.00,2,     2.54,2, -999.000,9, -999.000,9, -999.000,1,-999.0000,1,  -999.00,9,   -999.0,1,-999.000,9,   -999.0,9,   -999.0,9,  -999.00,9,14011.2,-999.0000,-999.000,-999.000,  2.8484,-999.000
   318MWESTW_5,  P21W,   167,  1,     17, SI9417,2,19940522,0059,-17.4972,-151.0028, 3613,   1507.4,   2.7400,  34.5865,2,  34.5848,2,    146.6,2,    145.9,2,    99.04,2,    35.82,2,     0.00,2,     2.53,2,    0.001,2,    0.003,2, -999.000,1,-999.0000,1,  -999.00,9,   -999.0,1,-999.000,9,   -999.0,9,   -999.0,9,  -999.00,9,15048.5,-999.0000,-999.000,-999.000,  2.6345,-999.000
   318MWESTW_5,  P21W,   167,  1,     16, SI9416,2,19940522,0059,-17.4972,-151.0028, 3613,   1584.5,   2.6260,  34.5950,2,  34.5948,2,    147.6,2,    146.2,2,   102.21,2,    35.74,2,     0.00,2,     2.51,2, -999.000,9, -999.000,9, -999.000,1,-999.0000,1,  -999.00,9,   -999.0,1,-999.000,9,   -999.0,9,   -999.0,9,  -999.00,9,15815.3,-999.0000,-999.000,-999.000,  2.5155,-999.000
   318MWESTW_5,  P21W,   167,  1,     15, SI9415,2,19940522,0059,-17.4972,-151.0028, 3613,   1691.3,   2.4725,  34.6076,2,  34.6077,2,    148.8,2,    147.8,2,   106.27,2,    35.70,2,     0.00,2,     2.52,2, -999.000,9, -999.000,9, -999.000,1,-999.0000,1,  -999.00,9,   -999.0,1,-999.000,9,   -999.0,9,   -999.0,9,  -999.00,9,16877.1,-999.0000,-999.000,-999.000,  2.3552,-999.000
   318MWESTW_5,  P21W,   167,  1,     14, SI9436,2,19940522,0059,-17.4972,-151.0028, 3613,   1847.8,   2.3234,  34.6202,2,  34.6203,2,    149.7,2,    149.3,2,   110.48,2,    35.75,2,     0.00,2,     2.52,2, -999.000,9, -999.000,9, -999.000,1,-999.0000,1,  -999.00,9,   -999.0,1,-999.000,9,   -999.0,9,   -999.0,9,  -999.00,9,18432.8,-999.0000,-999.000,-999.000,  2.1950,-999.000
   318MWESTW_5,  P21W,   167,  1,     13, SI9413,2,19940522,0059,-17.4972,-151.0028, 3613,   2003.7,   2.1799,  34.6319,2,  34.6303,2,    151.5,2,    151.5,2,   114.24,2,    35.76,2,     0.00,2,     2.51,2,    0.000,2,    0.003,2, -999.000,1,-999.0000,1,  -999.00,9,   -999.0,1,-999.000,9,   -999.0,9,   -999.0,9,  -999.00,9,19982.8,-999.0000,-999.000,-999.000,  2.0404,-999.000
   318MWESTW_5,  P21W,   167,  1,     12, SI9438,2,19940522,0059,-17.4972,-151.0028, 3613,   2156.9,   2.0661,  34.6417,2,  34.6419,2,    153.9,2,    152.9,2,   116.81,2,    35.66,2,     0.01,2,     2.50,2, -999.000,9, -999.000,9, -999.000,1,-999.0000,1,  -999.00,9,   -999.0,1,-999.000,9,   -999.0,9,   -999.0,9,  -999.00,9,21505.5,-999.0000,-999.000,-999.000,  1.9152,-999.000
   318MWESTW_5,  P21W,   167,  1,     11, SI9411,2,19940522,0059,-17.4972,-151.0028, 3613,   2290.1,   1.9939,  34.6480,2,  34.6486,2,    155.3,2,    154.4,2,   118.62,2,    35.54,2,     0.00,2,     2.49,2, -999.000,9, -999.000,9, -999.000,1,-999.0000,1,  -999.00,9,   -999.0,1,-999.000,9,   -999.0,9,   -999.0,9,  -999.00,9,22829.9,-999.0000,-999.000,-999.000,  1.8326,-999.000
   318MWESTW_5,  P21W,   167,  1,     10, SI9412,2,19940522,0059,-17.4972,-151.0028, 3613,   2447.1,   1.9368,  34.6533,2,  34.6533,2,    156.3,2,    155.2,2,   120.29,2,    35.55,2,     0.00,2,     2.50,2, -999.000,9, -999.000,9, -999.000,1,-999.0000,1,  -999.00,9,   -999.0,1,-999.000,9,   -999.0,9,   -999.0,9,  -999.00,9,24390.6,-999.0000,-999.000,-999.000,  1.7625,-999.000
   318MWESTW_5,  P21W,   167,  1,      9, SI9410,2,19940522,0059,-17.4972,-151.0028, 3613,   2486.2,   1.9200,  34.6550,2,  34.6547,2,    157.8,2,    139.8,4,   120.90,2,    35.41,2,     0.01,2,     2.49,2,   -0.001,2,    0.011,2, -999.000,1,-999.0000,1,  -999.00,9,   -999.0,1,-999.000,9,   -999.0,9,   -999.0,9,  -999.00,9,24779.1,-999.0000,-999.000,-999.000,  1.7424,-999.000
   318MWESTW_5,  P21W,   167,  1,      8, SI9422,2,19940522,0059,-17.4972,-151.0028, 3613,   2746.6,   1.7946,  34.6661,2,  34.6651,2,    160.6,2,    158.9,2,   123.62,2,    35.19,2,     0.00,2,     2.47,2, -999.000,9, -999.000,9, -999.000,1,-999.0000,1,  -999.00,9,   -999.0,1,-999.000,9,   -999.0,9,   -999.0,9,  -999.00,9,27368.4,-999.0000,-999.000,-999.000,  1.5955,-999.000
   318MWESTW_5,  P21W,   167,  1,      7, SI9407,2,19940522,0059,-17.4972,-151.0028, 3613,   2902.0,   1.7368,  34.6715,2,  34.6708,2,    162.4,2,    161.0,2,   124.38,2,    35.04,2,     0.00,2,     2.46,2, -999.000,9, -999.000,9, -999.000,1,-999.0000,1,  -999.00,9,   -999.0,1,-999.000,9,   -999.0,9,   -999.0,9,  -999.00,9,28912.7,-999.0000,-999.000,-999.000,  1.5242,-999.000
   318MWESTW_5,  P21W,   167,  1,      6, SI9427,2,19940522,0059,-17.4972,-151.0028, 3613,   3052.8,   1.6778,  34.6751,2,  34.6741,2,    165.8,2,    164.5,2,   124.40,2,    34.76,2,     0.00,2,     2.43,2,   -0.001,2,    0.005,2, -999.000,1,-999.0000,1,  -999.00,9,   -999.0,1,-999.000,9,   -999.0,9,   -999.0,9,  -999.00,9,30412.6,-999.0000,-999.000,-999.000,  1.4520,-999.000
   318MWESTW_5,  P21W,   167,  1,      5, SI9405,2,19940522,0059,-17.4972,-151.0028, 3613,   3199.9,   1.6249,  34.6794,2,  34.6800,2,    167.3,2,    163.0,4,   124.26,2,    34.53,2,     0.00,2,     2.42,2, -999.000,9, -999.000,9, -999.000,1,-999.0000,1,  -999.00,9,   -999.0,1,-999.000,9,   -999.0,9,   -999.0,9,  -999.00,9,31874.3,-999.0000,-999.000,-999.000,  1.3859,-999.000
   318MWESTW_5,  P21W,   167,  1,      4, SI9404,2,19940522,0059,-17.4972,-151.0028, 3613,   3353.9,   1.5776,  34.6835,2,  34.6826,2,    170.6,2,    167.3,4,   124.12,2,    34.40,2,     0.01,2,     2.40,2, -999.000,9, -999.000,9, -999.000,1,-999.0000,1,  -999.00,9,   -999.0,1,-999.000,9,   -999.0,9,   -999.0,9,  -999.00,9,33405.2,-999.0000,-999.000,-999.000,  1.3243,-999.000
   318MWESTW_5,  P21W,   167,  1,      3, SI9403,2,19940522,0059,-17.4972,-151.0028, 3613,   3511.5,   1.5432,  34.6865,2,  34.6861,2,    172.9,2,    172.7,2,   123.68,2,    34.27,2,     0.01,2,     2.39,2,    0.003,2,    0.004,2, -999.000,1,-999.0000,1,  -999.00,9,   -999.0,1,-999.000,9,   -999.0,9,   -999.0,9,  -999.00,9,34972.2,-999.0000,-999.000,-999.000,  1.2748,-999.000
   318MWESTW_5,  P21W,   167,  1,      2, SI9437,2,19940522,0059,-17.4972,-151.0028, 3613,   3634.1,   1.5274,  34.6882,2,  34.6869,2,    173.8,2,    174.1,2,   123.70,2,    34.19,2,     0.00,2,     2.38,2, -999.000,9, -999.000,9, -999.000,1,-999.0000,1,  -999.00,9,   -999.0,1,-999.000,9,   -999.0,9,   -999.0,9,  -999.00,9,36190.8,-999.0000,-999.000,-999.000,  1.2467,-999.000
   318MWESTW_5,  P21W,   167,  1,      1, SI9401,2,19940522,0059,-17.4972,-151.0028, 3613,   3677.3,   1.5275,  34.6878,2,  34.6881,2,    174.9,2,    174.8,2,   123.64,2,    34.12,2,     0.01,2,     2.38,2,    0.001,2,    0.005,2, -999.000,1,-999.0000,1,  -999.00,9,   -999.0,1,-999.000,9,   -999.0,9,   -999.0,9,  -999.00,9,36620.3,-999.0000,-999.000,-999.000,  1.2423,-999.000