BOTTLE,20010911WHPSIOdm
EXPOCODE,SECT_ID,STNNBR,CASTNO,SAMPNO,BTLNBR,BTLNBR_FLAG_W,DATE,TIME,LATITUDE,LONGITUDE,DEPTH,CTDPRS,CTDTMP,CTDSAL,CTDSAL_FLAG_W,SALNTY,SALNTY_FLAG_W,CTDOXY,CTDOXY_FLAG_W,OXYGEN,OXYGEN_FLAG_W,SILCAT,SILCAT_FLAG_W,NITRAT,NITRAT_FLAG_W,NITRIT,NITRIT_FLAG_W,PHSPHT,PHSPHT_FLAG_W,CFC-11,CFC-11_FLAG_W,CFC-12,CFC-12_FLAG_W,TRITUM,TRITUM_FLAG_W,HELIUM,HELIUM_FLAG_W,DELHE3,DELHE3_FLAG_W,DELC14,DELC14_FLAG_W,NEON,NEON_FLAG_W,TCARBN,TCARBN_FLAG_W,ALKALI,ALKALI_FLAG_W,PH,PH_FLAG_W,CTDRAW,HELIER,DELHER,NEONER,THETA,TRITER
,,,,,,,,,,,,DBAR,ITS-90,PSS-78,,PSS-78,,UMOL/KG,,UMOL/KG,,UMOL/KG,,UMOL/KG,,UMOL/KG,,UMOL/KG,,PMOL/KG,,PMOL/KG,,TU,,UMOL/KG,,PERCNT,,/MILLE,,NMOL/KG,,UMOL/KG,,UMOL/KG,,,,,NMOL/KG,PERCNT,NMOL/KG,ITS-90,TU
   318MWESTW_4,  P21E,   103,  1,     36, SI9336,2,19940428,0310,-16.7555,-115.3362, 3366,     10.2,  26.1470,  36.2927,2,  36.2948,2,    211.2,2,    215.9,2,     0.42,2,    -0.01,2,     0.02,2,     0.27,2,    1.841,2,    1.061,2, -999.000,1,-999.0000,1,  -999.00,9,   -999.0,1,-999.000,9,   -999.0,9,   -999.0,9,  -999.00,9,  144.4,-999.0000,-999.000,-999.000, 26.1447,-999.000
   318MWESTW_4,  P21E,   103,  1,     35, SI9335,2,19940428,0310,-16.7555,-115.3362, 3366,     24.5,  26.1421,  36.2928,2,  36.2944,2,    211.9,2,    213.7,2,     0.43,2,     0.00,2,     0.01,2,     0.27,2,    1.808,2,    1.006,2, -999.000,1,-999.0000,1,  -999.00,9,   -999.0,1,-999.000,9,   -999.0,9,   -999.0,9,  -999.00,9,  288.0,-999.0000,-999.000,-999.000, 26.1366,-999.000
   318MWESTW_4,  P21E,   103,  1,     34, SI9334,2,19940428,0310,-16.7555,-115.3362, 3366,     50.1,  25.9695,  36.2915,2,  36.2923,2,    211.4,2,    215.6,2,     0.45,2,     0.00,2,     0.01,2,     0.28,2,    1.810,2,    1.013,2, -999.000,1,-999.0000,1,  -999.00,9,   -999.0,1,-999.000,9,   -999.0,9,   -999.0,9,  -999.00,9,  543.4,-999.0000,-999.000,-999.000, 25.9583,-999.000
   318MWESTW_4,  P21E,   103,  1,     33, SI9333,2,19940428,0310,-16.7555,-115.3362, 3366,    100.7,  23.5276,  36.4581,2,  36.4130,2,    222.7,2,    217.7,2,     0.30,2,    -0.01,2,     0.02,2,     0.25,2,    2.014,2,    1.097,2, -999.000,1,-999.0000,1,  -999.00,9,   -999.0,1,-999.000,9,   -999.0,9,   -999.0,9,  -999.00,9, 1048.9,-999.0000,-999.000,-999.000, 23.5066,-999.000
   318MWESTW_4,  P21E,   103,  1,     32, SI9332,2,19940428,0310,-16.7555,-115.3362, 3366,    149.2,  22.3664,  36.3094,2,  36.2685,2,    215.8,2,    216.2,2,     0.15,2,    -0.02,2,     0.03,2,     0.25,2,    2.068,2,    1.130,2, -999.000,1,-999.0000,1,  -999.00,9,   -999.0,1,-999.000,9,   -999.0,9,   -999.0,9,  -999.00,9, 1534.5,-999.0000,-999.000,-999.000, 22.3364,-999.000
   318MWESTW_4,  P21E,   103,  1,     31, SI9331,2,19940428,0310,-16.7555,-115.3362, 3366,    198.5,  20.4704,  35.9742,3,  35.8738,2,    205.5,2,    196.7,2,     0.32,2,     1.83,2,     0.06,2,     0.45,2,    2.195,2,    1.170,2, -999.000,1,-999.0000,1,  -999.00,9,   -999.0,1,-999.000,9,   -999.0,9,   -999.0,9,  -999.00,9, 2027.0,-999.0000,-999.000,-999.000, 20.4329,-999.000
   318MWESTW_4,  P21E,   103,  1,     30, SI9330,2,19940428,0310,-16.7555,-115.3362, 3366,    251.9,  16.8612,  35.4766,3,  35.2385,2,    208.3,3,    184.6,2,     1.29,2,     5.43,2,     0.02,2,     0.67,2,    2.150,2,    1.110,2, -999.000,1,-999.0000,1,  -999.00,9,   -999.0,1,-999.000,9,   -999.0,9,   -999.0,9,  -999.00,9, 2560.2,-999.0000,-999.000,-999.000, 16.8197,-999.000
   318MWESTW_4,  P21E,   103,  1,     29, SI9329,2,19940428,0310,-16.7555,-115.3362, 3366,    299.6,  14.2259,  35.0145,3,  34.8861,2,    182.4,2,    164.1,2,     3.52,2,    10.46,2,     0.01,2,     1.01,2,    1.764,2,    0.894,2, -999.000,1,-999.0000,1,  -999.00,9,   -999.0,1,-999.000,9,   -999.0,9,   -999.0,9,  -999.00,9, 3037.1,-999.0000,-999.000,-999.000, 14.1820,-999.000
   318MWESTW_4,  P21E,   103,  1,     28, SI9328,2,19940428,0310,-16.7555,-115.3362, 3366,    402.7,   8.9669,  34.5084,2,  34.5007,2,     81.9,2,     74.0,2,    19.11,2,    30.48,2,     0.01,2,     2.39,2,    0.282,2,    0.143,2, -999.000,1,-999.0000,1,  -999.00,9,   -999.0,1,-999.000,9,   -999.0,9,   -999.0,9,  -999.00,9, 4066.9,-999.0000,-999.000,-999.000,  8.9230,-999.000
   318MWESTW_4,  P21E,   103,  1,     27, SI9327,2,19940428,0310,-16.7555,-115.3362, 3366,    500.5,   7.2490,  34.4667,2,  34.4769,3,     88.3,2,     84.9,2,    25.33,2,    35.39,2,     0.01,2,     2.52,2,    0.065,2,    0.041,2, -999.000,1,-999.0000,1,  -999.00,9,   -999.0,1,-999.000,9,   -999.0,9,   -999.0,9,  -999.00,9, 5044.2,-999.0000,-999.000,-999.000,  7.2006,-999.000
   318MWESTW_4,  P21E,   103,  1,     26, SI9326,2,19940428,0310,-16.7555,-115.3362, 3366,    600.6,   6.3713,  34.4659,2,  34.4673,2,     88.8,2,     88.9,2,    32.96,2,    37.50,2,     0.01,2,     2.62,2,    0.013,2,    0.012,2, -999.000,1,-999.0000,1,  -999.00,9,   -999.0,1,-999.000,9,   -999.0,9,   -999.0,9,  -999.00,9, 6043.9,-999.0000,-999.000,-999.000,  6.3167,-999.000
   318MWESTW_4,  P21E,   103,  1,     25, SI9325,2,19940428,0310,-16.7555,-115.3362, 3366,    701.6,   5.8216,  34.4870,2,  34.4842,2,     77.2,2,     77.4,2,    43.31,2,    39.75,2,     0.00,2,     2.78,2,    0.000,2,    0.006,2, -999.000,1,-999.0000,1,  -999.00,9,   -999.0,1,-999.000,9,   -999.0,9,   -999.0,9,  -999.00,9, 7052.4,-999.0000,-999.000,-999.000,  5.7603,-999.000
   318MWESTW_4,  P21E,   103,  1,     24, SI9324,2,19940428,0310,-16.7555,-115.3362, 3366,    801.4,   5.2692,  34.4977,2,  34.4950,2,     73.2,2,     72.9,2,    53.80,2,    41.08,2,     0.01,2,     2.89,2,    0.001,2,    0.008,2, -999.000,1,-999.0000,1,  -999.00,9,   -999.0,1,-999.000,9,   -999.0,9,   -999.0,9,  -999.00,9, 8049.1,-999.0000,-999.000,-999.000,  5.2019,-999.000
   318MWESTW_4,  P21E,   103,  1,     23, SI9323,2,19940428,0310,-16.7555,-115.3362, 3366,    900.5,   4.8208,  34.5117,2,  34.5082,2,     74.3,2,     74.2,2,    63.82,2,    41.57,2,     0.00,2,     2.93,2,   -0.001,2,    0.002,2, -999.000,1,-999.0000,1,  -999.00,9,   -999.0,1,-999.000,9,   -999.0,9,   -999.0,9,  -999.00,9, 9039.1,-999.0000,-999.000,-999.000,  4.7476,-999.000
   318MWESTW_4,  P21E,   103,  1,     22, SI9322,2,19940428,0310,-16.7555,-115.3362, 3366,   1001.5,   4.3690,  34.5252,2,  34.5245,2,     75.8,2,     76.0,2,    74.16,2,    41.63,2,     0.00,2,     2.94,2,   -0.002,2,    0.002,2, -999.000,1,-999.0000,1,  -999.00,9,   -999.0,1,-999.000,9,   -999.0,9,   -999.0,9,  -999.00,9,10047.8,-999.0000,-999.000,-999.000,  4.2903,-999.000
   318MWESTW_4,  P21E,   103,  1,     21, SI9321,2,19940428,0310,-16.7555,-115.3362, 3366,   1101.6,   4.0242,  34.5400,2,  34.5386,2,     80.0,2,     79.3,2,    82.58,2,    41.51,2,     0.00,2,     2.96,2, -999.000,9, -999.000,9, -999.000,1,-999.0000,1,  -999.00,9,   -999.0,1,-999.000,9,   -999.0,9,   -999.0,9,  -999.00,9,11048.1,-999.0000,-999.000,-999.000,  3.9397,-999.000
   318MWESTW_4,  P21E,   103,  1,     20, SI9320,2,19940428,0310,-16.7555,-115.3362, 3366,   1225.7,   3.7097,  34.5559,2,  34.5539,2,     84.4,2,     83.5,2,    90.53,2,    41.39,2,     0.00,2,     2.94,2, -999.000,9, -999.000,9, -999.000,1,-999.0000,1,  -999.00,9,   -999.0,1,-999.000,9,   -999.0,9,   -999.0,9,  -999.00,9,12287.9,-999.0000,-999.000,-999.000,  3.6175,-999.000
   318MWESTW_4,  P21E,   103,  1,     19, SI9319,2,19940428,0310,-16.7555,-115.3362, 3366,   1300.8,   3.4889,  34.5651,2,  34.5626,2,     88.2,2,     87.1,2,    95.62,2,    40.90,2,     0.01,2,     2.94,2, -999.000,9, -999.000,9, -999.000,1,-999.0000,1,  -999.00,9,   -999.0,1,-999.000,9,   -999.0,9,   -999.0,9,  -999.00,9,13037.5,-999.0000,-999.000,-999.000,  3.3925,-999.000
   318MWESTW_4,  P21E,   103,  1,     18, SI9318,2,19940428,0310,-16.7555,-115.3362, 3366,   1401.1,   3.2552,  34.5783,2,  34.5757,2,     91.7,2,     91.5,2,   101.50,2,    40.49,2,     0.00,2,     2.90,2, -999.000,9, -999.000,9, -999.000,1,-999.0000,1,  -999.00,9,   -999.0,1,-999.000,9,   -999.0,9,   -999.0,9,  -999.00,9,14040.1,-999.0000,-999.000,-999.000,  3.1528,-999.000
   318MWESTW_4,  P21E,   103,  1,     17, SI9317,2,19940428,0310,-16.7555,-115.3362, 3366,   1501.1,   3.0094,  34.5903,2,  34.5889,2,     97.7,2,     98.1,2,   107.06,2,    40.00,2,     0.00,2,     2.86,2, -999.000,9, -999.000,9, -999.000,1,-999.0000,1,  -999.00,9,   -999.0,1,-999.000,9,   -999.0,9,   -999.0,9,  -999.00,9,15039.2,-999.0000,-999.000,-999.000,  2.9013,-999.000
   318MWESTW_4,  P21E,   103,  1,     16, SI9316,2,19940428,0310,-16.7555,-115.3362, 3366,   1601.4,   2.7994,  34.6013,2,  34.6022,2,    103.1,2,    103.7,2,   111.83,2,    39.52,2,     0.00,2,     2.82,2, -999.000,9, -999.000,9, -999.000,1,-999.0000,1,  -999.00,9,   -999.0,1,-999.000,9,   -999.0,9,   -999.0,9,  -999.00,9,16040.3,-999.0000,-999.000,-999.000,  2.6854,-999.000
   318MWESTW_4,  P21E,   103,  1,     15, SI9315,2,19940428,0310,-16.7555,-115.3362, 3366,   1699.6,   2.6098,  34.6121,2,  34.6150,2,    109.0,2,    109.9,2,   115.81,2,    38.97,2,     0.00,2,     2.79,2, -999.000,9, -999.000,9, -999.000,1,-999.0000,1,  -999.00,9,   -999.0,1,-999.000,9,   -999.0,9,   -999.0,9,  -999.00,9,17022.2,-999.0000,-999.000,-999.000,  2.4900,-999.000
   318MWESTW_4,  P21E,   103,  1,     14, SI9314,2,19940428,0310,-16.7555,-115.3362, 3366,   1802.0,   2.4509,  34.6218,2,  34.6231,2,    117.2,2,    117.9,2,   117.24,2,    38.32,2,     0.00,2,     2.74,2, -999.000,9, -999.000,9, -999.000,1,-999.0000,1,  -999.00,9,   -999.0,1,-999.000,9,   -999.0,9,   -999.0,9,  -999.00,9,18045.2,-999.0000,-999.000,-999.000,  2.3246,-999.000
   318MWESTW_4,  P21E,   103,  1,     13, SI9313,2,19940428,0310,-16.7555,-115.3362, 3366,   1901.8,   2.2847,  34.6300,2,  34.6297,2,    127.7,2,    129.6,2,   117.40,2,    37.41,2,     0.00,2,     2.65,2, -999.000,9, -999.000,9, -999.000,1,-999.0000,1,  -999.00,9,   -999.0,1,-999.000,9,   -999.0,9,   -999.0,9,  -999.00,9,19041.6,-999.0000,-999.000,-999.000,  2.1523,-999.000
   318MWESTW_4,  P21E,   103,  1,     12, SI9312,2,19940428,0310,-16.7555,-115.3362, 3366,   2001.8,   2.1502,  34.6393,2,  34.6396,2,    138.3,2,    139.4,2,   117.56,2,    36.62,2,     0.00,2,     2.59,2, -999.000,9, -999.000,9, -999.000,1,-999.0000,1,  -999.00,9,   -999.0,1,-999.000,9,   -999.0,9,   -999.0,9,  -999.00,9,20041.3,-999.0000,-999.000,-999.000,  2.0113,-999.000
   318MWESTW_4,  P21E,   103,  1,     11, SI9311,2,19940428,0310,-16.7555,-115.3362, 3366,   2101.0,   2.0324,  34.6476,2,  34.6478,2,    147.4,2,    148.2,2,   117.24,2,    35.89,2,     0.00,2,     2.53,2, -999.000,9, -999.000,9, -999.000,1,-999.0000,1,  -999.00,9,   -999.0,1,-999.000,9,   -999.0,9,   -999.0,9,  -999.00,9,21031.8,-999.0000,-999.000,-999.000,  1.8868,-999.000
   318MWESTW_4,  P21E,   103,  1,     10, SI9310,2,19940428,0310,-16.7555,-115.3362, 3366,   2201.4,   1.9501,  34.6553,2,  34.6561,2,    152.4,2,    153.2,2,   118.05,2,    35.77,2,     0.00,2,     2.49,2, -999.000,9, -999.000,9, -999.000,1,-999.0000,1,  -999.00,9,   -999.0,1,-999.000,9,   -999.0,9,   -999.0,9,  -999.00,9,22035.0,-999.0000,-999.000,-999.000,  1.7972,-999.000
   318MWESTW_4,  P21E,   103,  1,      9, SI9309,2,19940428,0310,-16.7555,-115.3362, 3366,   2352.2,   1.8869,  34.6648,2,  34.6651,2,    154.4,2,    155.1,2,   121.38,2,    35.30,2,     0.00,2,     2.47,2, -999.000,9, -999.000,9, -999.000,1,-999.0000,1,  -999.00,9,   -999.0,1,-999.000,9,   -999.0,9,   -999.0,9,  -999.00,9,23541.4,-999.0000,-999.000,-999.000,  1.7219,-999.000
   318MWESTW_4,  P21E,   103,  1,      8, SI9308,2,19940428,0310,-16.7555,-115.3362, 3366,   2502.3,   1.8549,  34.6711,2,  34.6712,2,    154.2,2,    154.4,2,   124.08,2,    35.35,2,     0.00,2,     2.47,2, -999.000,9, -999.000,9, -999.000,1,-999.0000,1,  -999.00,9,   -999.0,1,-999.000,9,   -999.0,9,   -999.0,9,  -999.00,9,25041.7,-999.0000,-999.000,-999.000,  1.6770,-999.000
   318MWESTW_4,  P21E,   103,  1,      7, SI9307,2,19940428,0310,-16.7555,-115.3362, 3366,   2650.8,   1.8469,  34.6732,2,  34.6736,2,    154.7,2,    155.1,2,   124.72,2,    35.29,2,     0.00,2,     2.47,2, -999.000,9, -999.000,9, -999.000,1,-999.0000,1,  -999.00,9,   -999.0,1,-999.000,9,   -999.0,9,   -999.0,9,  -999.00,9,26525.2,-999.0000,-999.000,-999.000,  1.6556,-999.000
   318MWESTW_4,  P21E,   103,  1,      6, SI9306,2,19940428,0310,-16.7555,-115.3362, 3366,   2800.7,   1.8254,  34.6743,2,  34.6743,2,    156.2,2,    156.4,2,   125.51,2,    35.24,2,     0.00,2,     2.47,2, -999.000,9, -999.000,9, -999.000,1,-999.0000,1,  -999.00,9,   -999.0,1,-999.000,9,   -999.0,9,   -999.0,9,  -999.00,9,28023.4,-999.0000,-999.000,-999.000,  1.6205,-999.000
   318MWESTW_4,  P21E,   103,  1,      5, SI9305,2,19940428,0310,-16.7555,-115.3362, 3366,   2950.4,   1.8089,  34.6750,2,  34.6749,2,    157.9,2,    158.0,2,   125.36,2,    35.12,2,     0.00,2,     2.47,2, -999.000,9, -999.000,9, -999.000,1,-999.0000,1,  -999.00,9,   -999.0,1,-999.000,9,   -999.0,9,   -999.0,9,  -999.00,9,29518.7,-999.0000,-999.000,-999.000,  1.5901,-999.000
   318MWESTW_4,  P21E,   103,  1,      4, SI9304,2,19940428,0310,-16.7555,-115.3362, 3366,   3101.2,   1.7850,  34.6757,2,  34.6741,2,    159.9,2,    159.7,2,   125.68,2,    35.12,2,     0.00,2,     2.47,2, -999.000,9, -999.000,9, -999.000,1,-999.0000,1,  -999.00,9,   -999.0,1,-999.000,9,   -999.0,9,   -999.0,9,  -999.00,9,31025.9,-999.0000,-999.000,-999.000,  1.5521,-999.000
   318MWESTW_4,  P21E,   103,  1,      3, SI9303,2,19940428,0310,-16.7555,-115.3362, 3366,   3245.3,   1.7809,  34.6761,2,  34.6767,2,    160.6,2,    160.2,2,   126.16,2,    35.06,2,     0.00,2,     2.46,2, -999.000,9, -999.000,9, -999.000,1,-999.0000,1,  -999.00,9,   -999.0,1,-999.000,9,   -999.0,9,   -999.0,9,  -999.00,9,32466.0,-999.0000,-999.000,-999.000,  1.5337,-999.000
   318MWESTW_4,  P21E,   103,  1,      2, SI9302,2,19940428,0310,-16.7555,-115.3362, 3366,   3348.3,   1.7879,  34.6765,2,  34.6785,2,    161.4,2,    160.1,2,   126.17,2,    35.12,2,     0.00,2,     2.46,2, -999.000,9, -999.000,9, -999.000,1,-999.0000,1,  -999.00,9,   -999.0,1,-999.000,9,   -999.0,9,   -999.0,9,  -999.00,9,33495.8,-999.0000,-999.000,-999.000,  1.5302,-999.000
   318MWESTW_4,  P21E,   103,  1,      1, SI9301,2,19940428,0310,-16.7555,-115.3362, 3366,   3390.3,   1.7919,  34.6769,2,  34.6775,2,    160.2,2,    160.7,2,   126.04,2,    35.07,2,     0.01,2,     2.46,2, -999.000,9, -999.000,9, -999.000,1,-999.0000,1,  -999.00,9,   -999.0,1,-999.000,9,   -999.0,9,   -999.0,9,  -999.00,9,33915.5,-999.0000,-999.000,-999.000,  1.5298,-999.000