BOTTLE,20010911WHPSIOdm
EXPOCODE,SECT_ID,STNNBR,CASTNO,SAMPNO,BTLNBR,BTLNBR_FLAG_W,DATE,TIME,LATITUDE,LONGITUDE,DEPTH,CTDPRS,CTDTMP,CTDSAL,CTDSAL_FLAG_W,SALNTY,SALNTY_FLAG_W,CTDOXY,CTDOXY_FLAG_W,OXYGEN,OXYGEN_FLAG_W,SILCAT,SILCAT_FLAG_W,NITRAT,NITRAT_FLAG_W,NITRIT,NITRIT_FLAG_W,PHSPHT,PHSPHT_FLAG_W,CFC-11,CFC-11_FLAG_W,CFC-12,CFC-12_FLAG_W,TRITUM,TRITUM_FLAG_W,HELIUM,HELIUM_FLAG_W,DELHE3,DELHE3_FLAG_W,DELC14,DELC14_FLAG_W,NEON,NEON_FLAG_W,TCARBN,TCARBN_FLAG_W,ALKALI,ALKALI_FLAG_W,PH,PH_FLAG_W,CTDRAW,HELIER,DELHER,NEONER,THETA,TRITER
,,,,,,,,,,,,DBAR,ITS-90,PSS-78,,PSS-78,,UMOL/KG,,UMOL/KG,,UMOL/KG,,UMOL/KG,,UMOL/KG,,UMOL/KG,,PMOL/KG,,PMOL/KG,,TU,,UMOL/KG,,PERCNT,,/MILLE,,NMOL/KG,,UMOL/KG,,UMOL/KG,,,,,NMOL/KG,PERCNT,NMOL/KG,ITS-90,TU
   318MWESTW_5,  P21W,   247,  1,     36, SI9442,2,19940612,0153,-18.9195, 166.8028, 4460,      6.9,  26.0997,  34.9425,2,  34.9388,2,    194.2,2,    209.2,2,     1.83,2,     0.00,2,     0.00,2,     0.14,2,    1.739,2,    0.989,2, -999.000,1,-999.0000,1,  -999.00,9,   -999.0,1,-999.000,9,   -999.0,9,   2292.3,2,     8.12,2,  128.5,-999.0000,-999.000,-999.000, 26.0982,-999.000
   318MWESTW_5,  P21W,   247,  1,     35, SI9435,2,19940612,0153,-18.9195, 166.8028, 4460,     21.8,  25.7422,  34.9588,2,  34.9567,2,    199.2,2,    207.3,2,     1.70,2,     0.01,2,     0.01,2,     0.15,2,    1.737,2,    0.965,2, -999.000,1,-999.0000,1,  -999.00,9,   -999.0,1,-999.000,9,   -999.0,9,   2295.3,2,     8.11,2,  277.1,-999.0000,-999.000,-999.000, 25.7374,-999.000
   318MWESTW_5,  P21W,   247,  1,     34, SI9441,2,19940612,0153,-18.9195, 166.8028, 4460,     47.3,  25.6894,  34.9532,2,  34.9530,2,    202.6,2,    207.6,2,     1.85,2,     0.07,2,     0.00,2,     0.16,2,    1.746,2,    0.961,2, -999.000,1,-999.0000,1,  -999.00,9,   -999.0,1,-999.000,9,   -999.0,9,   2293.3,2,     8.11,2,  531.5,-999.0000,-999.000,-999.000, 25.6789,-999.000
   318MWESTW_5,  P21W,   247,  1,     33, SI9433,2,19940612,0153,-18.9195, 166.8028, 4460,     98.3,  25.1534,  35.4802,2,  35.4900,2,    195.5,2,    193.2,2,     1.59,2,     0.72,2,     0.21,2,     0.28,2,    1.811,2,    0.982,2, -999.000,1,-999.0000,1,  -999.00,9,   -999.0,1,-999.000,9,   -999.0,9,   2328.9,2,     8.06,2, 1039.3,-999.0000,-999.000,-999.000, 25.1320,-999.000
   318MWESTW_5,  P21W,   247,  1,     32, SI9432,2,19940612,0153,-18.9195, 166.8028, 4460,    148.4,  22.8340,  35.7894,2,  35.7926,2,    169.5,2,    170.1,2,     1.88,2,     3.81,2,     0.02,2,     0.46,2,    1.871,2,    1.006,2, -999.000,1,-999.0000,1,  -999.00,9,   -999.0,1,-999.000,9,   -999.0,9,   2344.7,2,     8.00,2, 1538.1,-999.0000,-999.000,-999.000, 22.8037,-999.000
   318MWESTW_5,  P21W,   247,  1,     31, SI9431,2,19940612,0153,-18.9195, 166.8028, 4460,    199.1,  21.0261,  35.7777,2,  35.7740,2,    168.5,2,    164.5,2,     2.17,2,     5.20,2,     0.01,2,     0.54,2,    1.826,2,    0.967,2, -999.000,1,-999.0000,1,  -999.00,9,   -999.0,1,-999.000,9,   -999.0,9,   2345.3,2,     7.97,2, 2042.5,-999.0000,-999.000,-999.000, 20.9878,-999.000
   318MWESTW_5,  P21W,   247,  1,     30, SI9440,2,19940612,0153,-18.9195, 166.8028, 4460,    250.5,  19.0700,  35.6206,2,  35.6040,2,    154.5,2,    159.3,2,     3.41,2,     7.69,2,     0.00,2,     0.71,2,    1.671,2,    0.869,2, -999.000,1,-999.0000,1,  -999.00,9,   -999.0,1,-999.000,9,   -999.0,9,   2348.6,2,     7.92,2, 2554.4,-999.0000,-999.000,-999.000, 19.0250,-999.000
   318MWESTW_5,  P21W,   247,  1,     29, SI9429,2,19940612,0153,-18.9195, 166.8028, 4460,    301.2,  16.6580,  35.3872,2,  35.3790,2,    155.2,2,    160.4,2,     4.52,2,     9.84,2,     0.00,2,     0.85,2,    1.508,2,    0.786,2, -999.000,1,-999.0000,1,  -999.00,9,   -999.0,1,-999.000,9,   -999.0,9,   2326.5,2,     7.87,2, 3058.9,-999.0000,-999.000,-999.000, 16.6087,-999.000
   318MWESTW_5,  P21W,   247,  1,     28, SI9428,2,19940612,0153,-18.9195, 166.8028, 4460,    351.7,  14.5677,  35.1751,2,  35.1689,2,    168.2,2,    165.1,2,     5.63,2,    12.18,2,     0.00,2,     0.99,2,    1.344,2,    0.684,2, -999.000,1,-999.0000,1,  -999.00,9,   -999.0,1,-999.000,9,   -999.0,9,   2319.2,2,     7.83,2, 3561.6,-999.0000,-999.000,-999.000, 14.5151,-999.000
   318MWESTW_5,  P21W,   247,  1,     27, SI9424,2,19940612,0153,-18.9195, 166.8028, 4460,    401.6,  12.9258,  35.0277,2,  35.0218,2,    171.7,2,    171.6,2,     6.60,2,    14.44,2,     0.00,2,     1.11,2,    1.251,2,    0.625,2, -999.000,1,-999.0000,1,  -999.00,9,   -999.0,1,-999.000,9,   -999.0,9,   2305.5,2,     7.80,2, 4058.5,-999.0000,-999.000,-999.000, 12.8703,-999.000
   318MWESTW_5,  P21W,   247,  1,     26, SI9414,2,19940612,0153,-18.9195, 166.8028, 4460,    504.0,   9.8340,  34.7194,2,  34.7158,2,    167.1,2,    184.8,2,    15.92,3,    21.65,2,     0.00,2,     1.59,2,    0.654,6,    0.323,6, -999.000,1,-999.0000,1,  -999.00,9,   -999.0,1,-999.000,9,   -999.0,9,   2311.7,2,     7.71,2, 5076.2,-999.0000,-999.000,-999.000,  9.7754,-999.000
   318MWESTW_5,  P21W,   247,  1,     25, SI9425,2,19940612,0153,-18.9195, 166.8028, 4460,    594.1,   7.4352,  34.4929,2,  34.4889,2,    184.1,2,    184.5,2,    17.30,2,    25.19,2,     0.00,2,     1.80,2,    0.400,2,    0.207,2, -999.000,1,-999.0000,1,  -999.00,9,   -999.0,1,-999.000,9,   -999.0,9,   2303.3,2,     7.67,2, 5972.5,-999.0000,-999.000,-999.000,  7.3765,-999.000
   318MWESTW_5,  P21W,   247,  1,     24, SI9434,2,19940612,0153,-18.9195, 166.8028, 4460,    698.6,   6.2598,  34.4325,2,  34.4302,2,    184.5,2,    185.9,2,    24.99,2,    27.77,2,     0.00,2,     1.96,2,    0.212,2,    0.114,2, -999.000,1,-999.0000,1,  -999.00,9,   -999.0,1,-999.000,9,   -999.0,9,   -999.0,9,  -999.00,9, 7011.4,-999.0000,-999.000,-999.000,  6.1965,-999.000
   318MWESTW_5,  P21W,   247,  1,     23, SI9423,2,19940612,0153,-18.9195, 166.8028, 4460,    798.7,   5.3710,  34.4293,2,  34.4283,2,    173.1,2,    175.6,2,    37.04,2,    30.39,2,     0.00,2,     2.14,2,    0.088,2,    0.046,2, -999.000,1,-999.0000,1,  -999.00,9,   -999.0,1,-999.000,9,   -999.0,9,   2304.8,2,     7.61,2, 8007.0,-999.0000,-999.000,-999.000,  5.3035,-999.000
   318MWESTW_5,  P21W,   247,  1,     22, SI9418,2,19940612,0153,-18.9195, 166.8028, 4460,    902.5,   4.6888,  34.4497,2,  34.4496,2,    168.9,2,    169.4,2,    50.06,2,    32.05,2,     0.00,2,     2.25,2,    0.038,2,    0.020,2, -999.000,1,-999.0000,1,  -999.00,9,   -999.0,1,-999.000,9,   -999.0,9,   -999.0,9,  -999.00,9, 9039.1,-999.0000,-999.000,-999.000,  4.6165,-999.000
   318MWESTW_5,  P21W,   247,  1,     21, SI9421,2,19940612,0153,-18.9195, 166.8028, 4460,   1004.0,   4.1792,  34.4768,2,  34.4760,2,    165.5,2,    165.5,2,    60.61,2,    32.83,2,     0.00,2,     2.30,2,    0.025,2,    0.015,2, -999.000,1,-999.0000,1,  -999.00,9,   -999.0,1,-999.000,9,   -999.0,9,   -999.0,9,  -999.00,9,10048.6,-999.0000,-999.000,-999.000,  4.1019,-999.000
   318MWESTW_5,  P21W,   247,  1,     20, SI9420,2,19940612,0153,-18.9195, 166.8028, 4460,   1108.0,   3.8045,  34.5053,2,  34.5034,2,    160.9,2,    160.9,2,    70.47,2,    33.51,2,     0.01,2,     2.35,2,    0.015,2,    0.006,2, -999.000,1,-999.0000,1,  -999.00,9,   -999.0,1,-999.000,9,   -999.0,9,   2344.7,2,     7.58,2,11082.5,-999.0000,-999.000,-999.000,  3.7214,-999.000
   318MWESTW_5,  P21W,   247,  1,     19, SI9419,2,19940612,0153,-18.9195, 166.8028, 4460,   1199.5,   3.5575,  34.5268,2,  34.5256,2,    157.8,2,    158.6,2,    77.61,2,    34.01,2,     0.02,2,     2.39,2,    0.009,2,    0.003,2, -999.000,1,-999.0000,1,  -999.00,9,   -999.0,1,-999.000,9,   -999.0,9,   -999.0,9,  -999.00,9,11992.4,-999.0000,-999.000,-999.000,  3.4690,-999.000
   318MWESTW_5,  P21W,   247,  1,     18, SI9439,2,19940612,0153,-18.9195, 166.8028, 4460,   1394.5,   3.1080,  34.5666,2,  34.5651,2,    153.1,2,    152.5,2,    90.89,2,    34.66,2,     0.01,2,     2.45,2,    0.003,2,   -0.001,2, -999.000,1,-999.0000,1,  -999.00,9,   -999.0,1,-999.000,9,   -999.0,9,   2376.3,2,     7.56,2,13930.4,-999.0000,-999.000,-999.000,  3.0077,-999.000
   318MWESTW_5,  P21W,   247,  1,     17, SI9417,2,19940612,0153,-18.9195, 166.8028, 4460,   1600.5,   2.7556,  34.5991,2,  34.5989,2,    150.0,2,    149.6,2,   101.16,2,    35.03,2,     0.01,2,     2.47,2,   -0.001,2,   -0.001,2, -999.000,1,-999.0000,1,  -999.00,9,   -999.0,1,-999.000,9,   -999.0,9,   -999.0,9,  -999.00,9,15978.8,-999.0000,-999.000,-999.000,  2.6422,-999.000
   318MWESTW_5,  P21W,   247,  1,     16, SI9416,2,19940612,0153,-18.9195, 166.8028, 4460,   1806.4,   2.4765,  34.6253,2,  34.6244,2,    148.6,2,    148.2,2,   108.29,2,    35.32,2,     0.01,2,     2.50,2,   -0.001,2,    0.000,2, -999.000,1,-999.0000,1,  -999.00,9,   -999.0,1,-999.000,9,   -999.0,9,   2393.3,2,     7.55,2,18025.9,-999.0000,-999.000,-999.000,  2.3495,-999.000
   318MWESTW_5,  P21W,   247,  1,     15, SI9415,2,19940612,0153,-18.9195, 166.8028, 4460,   2001.2,   2.3093,  34.6410,2,  34.6409,2,    149.9,2,    149.1,2,   111.59,2,    35.23,2,     0.00,2,     2.48,2, -999.000,9, -999.000,9, -999.000,1,-999.0000,1,  -999.00,9,   -999.0,1,-999.000,9,   -999.0,9,   -999.0,9,  -999.00,9,19962.7,-999.0000,-999.000,-999.000,  2.1680,-999.000
   318MWESTW_5,  P21W,   247,  1,     14, SI9436,2,19940612,0153,-18.9195, 166.8028, 4460,   2197.6,   2.1758,  34.6540,2,  34.6531,2,    150.5,2,    150.5,2,   114.19,2,    35.24,2,     0.00,2,     2.48,2, -999.000,9, -999.000,9, -999.000,1,-999.0000,1,  -999.00,9,   -999.0,1,-999.000,9,   -999.0,9,   2398.7,2,     7.54,2,21914.8,-999.0000,-999.000,-999.000,  2.0195,-999.000
   318MWESTW_5,  P21W,   247,  1,     13, SI9413,2,19940612,0153,-18.9195, 166.8028, 4460,   2402.9,   2.0678,  34.6635,2,  34.6631,2,    152.1,2,    152.7,2,   116.95,2,    35.18,2,     0.01,2,     2.48,2,   -0.001,2,   -0.001,2, -999.000,1,-999.0000,1,  -999.00,9,   -999.0,1,-999.000,9,   -999.0,9,   -999.0,9,  -999.00,9,23956.1,-999.0000,-999.000,-999.000,  1.8950,-999.000
   318MWESTW_5,  P21W,   247,  1,     12, SI9438,2,19940612,0153,-18.9195, 166.8028, 4460,   2601.0,   1.9847,  34.6713,2,  34.6704,2,    153.9,2,    154.3,2,   118.46,2,    35.09,2,     0.01,2,     2.46,2, -999.000,9, -999.000,9, -999.000,1,-999.0000,1,  -999.00,9,   -999.0,1,-999.000,9,   -999.0,9,   2397.7,2,     7.57,2,25925.8,-999.0000,-999.000,-999.000,  1.7953,-999.000
   318MWESTW_5,  P21W,   247,  1,     11, SI9411,2,19940612,0153,-18.9195, 166.8028, 4460,   2796.9,   1.9059,  34.6765,2,  34.6747,2,    154.1,2,    155.7,2,   121.35,2,    35.14,2,     0.01,2,     2.47,2, -999.000,9, -999.000,9, -999.000,1,-999.0000,1,  -999.00,9,   -999.0,1,-999.000,9,   -999.0,9,   -999.0,9,  -999.00,9,27873.2,-999.0000,-999.000,-999.000,  1.6997,-999.000
   318MWESTW_5,  P21W,   247,  1,     10, SI9412,2,19940612,0153,-18.9195, 166.8028, 4460,   2993.1,   1.8806,  34.6782,2,  34.6783,2,    154.5,2,    155.1,2,   122.59,2,    35.10,2,     0.01,2,     2.48,2,   -0.002,2,   -0.002,2, -999.000,1,-999.0000,1,  -999.00,9,   -999.0,1,-999.000,9,   -999.0,9,   2401.9,2,     7.55,2,29824.1,-999.0000,-999.000,-999.000,  1.6561,-999.000
   318MWESTW_5,  P21W,   247,  1,      9, SI9410,2,19940612,0153,-18.9195, 166.8028, 4460,   3189.7,   1.8574,  34.6806,2,  34.6798,2,    155.2,2,    155.3,2,   123.70,2,    35.02,2,     0.00,2,     2.47,2, -999.000,9, -999.000,9, -999.000,1,-999.0000,1,  -999.00,9,   -999.0,1,-999.000,9,   -999.0,9,   -999.0,9,  -999.00,9,31778.1,-999.0000,-999.000,-999.000,  1.6140,-999.000
   318MWESTW_5,  P21W,   247,  1,      8, SI9422,2,19940612,0153,-18.9195, 166.8028, 4460,   3397.8,   1.8327,  34.6819,2,  34.6810,2,    155.9,2,    155.7,2,   125.08,2,    35.06,2,     0.01,2,     2.46,2, -999.000,9, -999.000,9, -999.000,1,-999.0000,1,  -999.00,9,   -999.0,1,-999.000,9,   -999.0,9,   2400.5,2,     7.56,2,33847.4,-999.0000,-999.000,-999.000,  1.5688,-999.000
   318MWESTW_5,  P21W,   247,  1,      7, SI9407,2,19940612,0153,-18.9195, 166.8028, 4460,   3604.9,   1.8243,  34.6835,2,  34.6828,2,    156.2,2,    155.6,2,   125.50,2,    35.02,2,     0.00,2,     2.47,2,   -0.002,2,   -0.001,2, -999.000,1,-999.0000,1,  -999.00,9,   -999.0,1,-999.000,9,   -999.0,9,   2409.2,2,     7.56,2,35906.2,-999.0000,-999.000,-999.000,  1.5390,-999.000
   318MWESTW_5,  P21W,   247,  1,      6, SI9427,2,19940612,0153,-18.9195, 166.8028, 4460,   3801.2,   1.8282,  34.6843,2,  34.6836,2,    156.7,2,    155.9,2,   126.34,2,    35.11,2,     0.01,2,     2.47,2, -999.000,9, -999.000,9, -999.000,1,-999.0000,1,  -999.00,9,   -999.0,1,-999.000,9,   -999.0,9,   2412.7,2,     7.57,2,37857.2,-999.0000,-999.000,-999.000,  1.5218,-999.000
   318MWESTW_5,  P21W,   247,  1,      5, SI9405,2,19940612,0153,-18.9195, 166.8028, 4460,   3998.6,   1.8423,  34.6843,2,  34.6842,2,    157.4,2,    156.0,2,   126.62,2,    35.11,2,     0.01,2,     2.46,2, -999.000,9, -999.000,9, -999.000,1,-999.0000,1,  -999.00,9,   -999.0,1,-999.000,9,   -999.0,9,   2408.7,2,     7.56,2,39820.0,-999.0000,-999.000,-999.000,  1.5139,-999.000
   318MWESTW_5,  P21W,   247,  1,      4, SI9404,2,19940612,0153,-18.9195, 166.8028, 4460,   4194.6,   1.8582,  34.6843,2,  34.6842,2,    157.7,2,    155.7,2,   126.88,2,    35.21,2,     0.00,2,     2.47,2,   -0.001,2,   -0.001,2, -999.000,1,-999.0000,1,  -999.00,9,   -999.0,1,-999.000,9,   -999.0,9,   2409.9,2,     7.57,2,41768.3,-999.0000,-999.000,-999.000,  1.5074,-999.000
   318MWESTW_5,  P21W,   247,  1,      3, SI9403,2,19940612,0153,-18.9195, 166.8028, 4460,   4393.3,   1.8762,  34.6850,2,  34.6830,2,    158.6,2,    155.9,2,   127.17,2,    35.16,2,     0.01,2,     2.47,2, -999.000,9, -999.000,9, -999.000,1,-999.0000,1,  -999.00,9,   -999.0,1,-999.000,9,   -999.0,9,   2410.0,2,     7.56,2,43743.8,-999.0000,-999.000,-999.000,  1.5020,-999.000
   318MWESTW_5,  P21W,   247,  1,      2, SI9437,2,19940612,0153,-18.9195, 166.8028, 4460,   4498.4,   1.8846,  34.6857,2,  34.6836,2,    157.5,2,    156.0,2,   127.32,2,    35.09,2,     0.01,2,     2.47,2, -999.000,9, -999.000,9, -999.000,1,-999.0000,1,  -999.00,9,   -999.0,1,-999.000,9,   -999.0,9,   2411.8,2,     7.56,2,44788.6,-999.0000,-999.000,-999.000,  1.4979,-999.000
   318MWESTW_5,  P21W,   247,  1,      1, SI9401,2,19940612,0153,-18.9195, 166.8028, 4460,   4540.0,   1.8895,  34.6850,2,  34.6850,2,    158.0,2,    156.2,2,   127.47,2,    35.05,2,     0.00,2,     2.46,2,    0.001,2,   -0.002,2, -999.000,1,-999.0000,1,  -999.00,9,   -999.0,1,-999.000,9,   -999.0,9,   2412.2,2,  -999.00,9,45202.2,-999.0000,-999.000,-999.000,  1.4978,-999.000