BOTTLE,20010911WHPSIOdm
EXPOCODE,SECT_ID,STNNBR,CASTNO,SAMPNO,BTLNBR,BTLNBR_FLAG_W,DATE,TIME,LATITUDE,LONGITUDE,DEPTH,CTDPRS,CTDTMP,CTDSAL,CTDSAL_FLAG_W,SALNTY,SALNTY_FLAG_W,CTDOXY,CTDOXY_FLAG_W,OXYGEN,OXYGEN_FLAG_W,SILCAT,SILCAT_FLAG_W,NITRAT,NITRAT_FLAG_W,NITRIT,NITRIT_FLAG_W,PHSPHT,PHSPHT_FLAG_W,CFC-11,CFC-11_FLAG_W,CFC-12,CFC-12_FLAG_W,TRITUM,TRITUM_FLAG_W,HELIUM,HELIUM_FLAG_W,DELHE3,DELHE3_FLAG_W,DELC14,DELC14_FLAG_W,NEON,NEON_FLAG_W,TCARBN,TCARBN_FLAG_W,ALKALI,ALKALI_FLAG_W,PH,PH_FLAG_W,CTDRAW,HELIER,DELHER,NEONER,THETA,TRITER
,,,,,,,,,,,,DBAR,ITS-90,PSS-78,,PSS-78,,UMOL/KG,,UMOL/KG,,UMOL/KG,,UMOL/KG,,UMOL/KG,,UMOL/KG,,PMOL/KG,,PMOL/KG,,TU,,UMOL/KG,,PERCNT,,/MILLE,,NMOL/KG,,UMOL/KG,,UMOL/KG,,,,,NMOL/KG,PERCNT,NMOL/KG,ITS-90,TU
   318MWESTW_5,  P21W,   171,  1,     35, SI9435,2,19940523,0721,-17.5000,-153.6667, 4687,      4.4,  28.6001,  35.8020,2,  35.8021,2,    215.2,2,    216.9,2,     0.90,2,     0.04,2,     0.00,2,     0.19,2,    1.644,2,    0.929,2, -999.000,1,-999.0000,1,  -999.00,9,   -999.0,1,-999.000,9,   -999.0,9,   -999.0,9,  -999.00,9,   97.0,-999.0000,-999.000,-999.000, 28.5990,-999.000
   318MWESTW_5,  P21W,   171,  1,     34, SI9441,2,19940523,0721,-17.5000,-153.6667, 4687,     23.4,  28.6090,  35.8029,2,  35.8013,2,    194.6,2,    220.3,2,     0.77,2,     0.04,2,     0.01,2,     0.19,2, -999.000,9, -999.000,9, -999.000,1,-999.0000,1,  -999.00,9,   -999.0,1,-999.000,9,   -999.0,9,   -999.0,9,  -999.00,9,  287.6,-999.0000,-999.000,-999.000, 28.6034,-999.000
   318MWESTW_5,  P21W,   171,  1,     33, SI9433,2,19940523,0721,-17.5000,-153.6667, 4687,     47.9,  28.5822,  35.7996,2,  35.8005,2,    203.6,2,    226.2,2,     0.78,2,     0.02,2,     0.00,2,     0.20,2,    1.653,2,    0.936,2, -999.000,1,-999.0000,1,  -999.00,9,   -999.0,1,-999.000,9,   -999.0,9,   -999.0,9,  -999.00,9,  531.2,-999.0000,-999.000,-999.000, 28.5707,-999.000
   318MWESTW_5,  P21W,   171,  1,     32, SI9432,2,19940523,0721,-17.5000,-153.6667, 4687,     98.0,  25.8215,  36.0542,2,  36.0560,2,    211.9,2,    218.8,2,     0.80,2,     0.02,2,     0.00,2,     0.21,2,    1.910,2,    1.030,2, -999.000,1,-999.0000,1,  -999.00,9,   -999.0,1,-999.000,9,   -999.0,9,   -999.0,9,  -999.00,9, 1030.9,-999.0000,-999.000,-999.000, 25.7997,-999.000
   318MWESTW_5,  P21W,   171,  1,     31, SI9431,2,19940523,0721,-17.5000,-153.6667, 4687,    148.5,  23.3287,  35.9317,2,  35.9287,3,    203.1,2,    203.2,2,     0.67,2,     0.13,2,     0.13,2,     0.23,2,    2.014,2,    1.090,2, -999.000,1,-999.0000,1,  -999.00,9,   -999.0,1,-999.000,9,   -999.0,9,   -999.0,9,  -999.00,9, 1533.9,-999.0000,-999.000,-999.000, 23.2979,-999.000
   318MWESTW_5,  P21W,   171,  1,     30, SI9440,2,19940523,0721,-17.5000,-153.6667, 4687,    193.0,  21.2601,  35.8248,2,  35.8206,2,    193.7,2,    191.2,2,     0.69,2,     2.08,2,     0.02,2,     0.36,2,    2.024,2,    1.091,2, -999.000,1,-999.0000,1,  -999.00,9,   -999.0,1,-999.000,9,   -999.0,9,   -999.0,9,  -999.00,9, 1977.4,-999.0000,-999.000,-999.000, 21.2227,-999.000
   318MWESTW_5,  P21W,   171,  1,     29, SI9429,2,19940523,0721,-17.5000,-153.6667, 4687,    295.9,  17.3672,  35.4283,2,  35.4233,2,    176.4,2,    171.2,2,     2.34,2,     7.19,2,     0.01,2,     0.72,2, -999.000,9, -999.000,9, -999.000,1,-999.0000,1,  -999.00,9,   -999.0,1,-999.000,9,   -999.0,9,   -999.0,9,  -999.00,9, 3001.5,-999.0000,-999.000,-999.000, 17.3174,-999.000
   318MWESTW_5,  P21W,   171,  1,     28, SI9428,2,19940523,0721,-17.5000,-153.6667, 4687,    309.9,  16.9994,  35.3813,2,  35.3742,2,    175.8,2,    172.1,2,     2.52,2,     7.51,2,     0.01,2,     0.74,2,    1.696,2,    0.883,2, -999.000,1,-999.0000,1,  -999.00,9,   -999.0,1,-999.000,9,   -999.0,9,   -999.0,9,  -999.00,9, 3141.0,-999.0000,-999.000,-999.000, 16.9480,-999.000
   318MWESTW_5,  P21W,   171,  1,     27, SI9424,2,19940523,0721,-17.5000,-153.6667, 4687,    397.1,  12.2709,  34.8405,2,  34.8353,2,    148.6,2,    141.9,4,     9.37,2,    17.96,2,     0.00,2,     1.46,2,    0.888,2,    0.448,2, -999.000,1,-999.0000,1,  -999.00,9,   -999.0,1,-999.000,9,   -999.0,9,   -999.0,9,  -999.00,9, 4009.0,-999.0000,-999.000,-999.000, 12.2180,-999.000
   318MWESTW_5,  P21W,   171,  1,     26, SI9414,2,19940523,0721,-17.5000,-153.6667, 4687,    495.2,   8.4749,  34.5082,2,  34.5040,2,    170.6,2,    174.3,2,    11.63,2,    23.47,2,     0.01,2,     1.72,2,    0.591,2,    0.314,2, -999.000,1,-999.0000,1,  -999.00,9,   -999.0,1,-999.000,9,   -999.0,9,   -999.0,9,  -999.00,9, 4984.0,-999.0000,-999.000,-999.000,  8.4224,-999.000
   318MWESTW_5,  P21W,   171,  1,     25, SI9425,2,19940523,0721,-17.5000,-153.6667, 4687,    596.8,   6.4368,  34.3958,2,  34.3939,2,    179.7,2,    177.3,2,    19.98,2,    28.63,2,     0.01,2,     2.01,2,    0.232,2,    0.135,2, -999.000,1,-999.0000,1,  -999.00,9,   -999.0,1,-999.000,9,   -999.0,9,   -999.0,9,  -999.00,9, 5994.4,-999.0000,-999.000,-999.000,  6.3824,-999.000
   318MWESTW_5,  P21W,   171,  1,     24, SI9434,2,19940523,0721,-17.5000,-153.6667, 4687,    699.9,   5.5674,  34.4149,2,  34.4155,2,    164.5,2,    163.0,2,    33.39,2,    31.69,2,     0.01,2,     2.22,2,    0.061,2,    0.041,2, -999.000,1,-999.0000,1,  -999.00,9,   -999.0,1,-999.000,9,   -999.0,9,   -999.0,9,  -999.00,9, 7019.6,-999.0000,-999.000,-999.000,  5.5077,-999.000
   318MWESTW_5,  P21W,   171,  1,     23, SI9423,2,19940523,0721,-17.5000,-153.6667, 4687,    802.5,   4.8372,  34.4513,2,  34.4502,2,    155.5,2,    152.2,2,    48.43,2,    33.72,2,     0.01,2,     2.35,2,    0.018,2,    0.012,2, -999.000,1,-999.0000,1,  -999.00,9,   -999.0,1,-999.000,9,   -999.0,9,   -999.0,9,  -999.00,9, 8039.7,-999.0000,-999.000,-999.000,  4.7726,-999.000
   318MWESTW_5,  P21W,   171,  1,     22, SI9418,2,19940523,0721,-17.5000,-153.6667, 4687,    896.4,   4.2732,  34.4756,2,  34.4730,2,    152.9,2,    150.1,2,    59.31,2,    34.58,2,     0.01,2,     2.40,2,    0.001,2,    0.002,2, -999.000,1,-999.0000,1,  -999.00,9,   -999.0,1,-999.000,9,   -999.0,9,   -999.0,9,  -999.00,9, 8973.2,-999.0000,-999.000,-999.000,  4.2042,-999.000
   318MWESTW_5,  P21W,   171,  1,     21, SI9421,2,19940523,0721,-17.5000,-153.6667, 4687,   1000.1,   3.8760,  34.4960,2,  34.4942,2,    151.0,2,    148.9,2,    67.81,2,    35.12,2,     0.01,2,     2.45,2,    0.001,2,    0.004,2, -999.000,1,-999.0000,1,  -999.00,9,   -999.0,1,-999.000,9,   -999.0,9,   -999.0,9,  -999.00,9,10004.5,-999.0000,-999.000,-999.000,  3.8013,-999.000
   318MWESTW_5,  P21W,   171,  1,     20, SI9420,2,19940523,0721,-17.5000,-153.6667, 4687,   1102.5,   3.4990,  34.5178,2,  34.5158,2,    150.1,2,    148.5,2,    76.45,2,    35.49,2,     0.01,2,     2.46,2,    0.001,2,    0.002,2, -999.000,1,-999.0000,1,  -999.00,9,   -999.0,1,-999.000,9,   -999.0,9,   -999.0,9,  -999.00,9,11022.4,-999.0000,-999.000,-999.000,  3.4190,-999.000
   318MWESTW_5,  P21W,   171,  1,     19, SI9419,2,19940523,0721,-17.5000,-153.6667, 4687,   1303.2,   3.0479,  34.5575,2,  34.5565,2,    146.1,2,    146.4,2,    89.57,2,    35.83,2,     0.00,2,     2.50,2,   -0.002,2,    0.002,2, -999.000,1,-999.0000,1,  -999.00,9,   -999.0,1,-999.000,9,   -999.0,9,   -999.0,9,  -999.00,9,13017.7,-999.0000,-999.000,-999.000,  2.9557,-999.000
   318MWESTW_5,  P21W,   171,  1,     18, SI9439,2,19940523,0721,-17.5000,-153.6667, 4687,   1502.4,   2.7435,  34.5826,2,  34.5818,2,    146.7,2,    146.5,2,    98.06,2,    35.88,2,     0.00,2,     2.50,2, -999.000,9, -999.000,9, -999.000,1,-999.0000,1,  -999.00,9,   -999.0,1,-999.000,9,   -999.0,9,   -999.0,9,  -999.00,9,14998.6,-999.0000,-999.000,-999.000,  2.6384,-999.000
   318MWESTW_5,  P21W,   171,  1,     17, SI9417,2,19940523,0721,-17.5000,-153.6667, 4687,   1702.2,   2.4782,  34.6054,2,  34.6050,2,    147.8,2,    147.7,2,   106.11,2,    35.92,2,     0.01,2,     2.50,2, -999.000,9, -999.000,9, -999.000,1,-999.0000,1,  -999.00,9,   -999.0,1,-999.000,9,   -999.0,9,   -999.0,9,  -999.00,9,16985.4,-999.0000,-999.000,-999.000,  2.3599,-999.000
   318MWESTW_5,  P21W,   171,  1,     16, SI9416,2,19940523,0721,-17.5000,-153.6667, 4687,   1905.7,   2.2812,  34.6234,2,  34.6233,2,    148.8,2,    149.7,2,   111.64,2,    35.84,2,     0.01,2,     2.50,2, -999.000,9, -999.000,9, -999.000,1,-999.0000,1,  -999.00,9,   -999.0,1,-999.000,9,   -999.0,9,   -999.0,9,  -999.00,9,19008.7,-999.0000,-999.000,-999.000,  2.1485,-999.000
   318MWESTW_5,  P21W,   171,  1,     15, SI9415,2,19940523,0721,-17.5000,-153.6667, 4687,   2106.3,   2.1325,  34.6366,2,  34.6366,2,    151.0,2,    151.1,2,   115.67,2,    35.76,2,     0.01,2,     2.50,2,    0.001,2,    0.001,2, -999.000,1,-999.0000,1,  -999.00,9,   -999.0,1,-999.000,9,   -999.0,9,   -999.0,9,  -999.00,9,21002.3,-999.0000,-999.000,-999.000,  1.9849,-999.000
   318MWESTW_5,  P21W,   171,  1,     14, SI9436,2,19940523,0721,-17.5000,-153.6667, 4687,   2307.4,   1.9868,  34.6486,2,  34.6482,2,    154.1,2,    154.4,2,   118.96,2,    35.65,2,     0.01,2,     2.47,2, -999.000,9, -999.000,9, -999.000,1,-999.0000,1,  -999.00,9,   -999.0,1,-999.000,9,   -999.0,9,   -999.0,9,  -999.00,9,23001.7,-999.0000,-999.000,-999.000,  1.8241,-999.000
   318MWESTW_5,  P21W,   171,  1,     13, SI9413,2,19940523,0721,-17.5000,-153.6667, 4687,   2508.7,   1.8696,  34.6584,2,  34.6586,2,    156.4,2,    157.0,2,   121.51,2,    35.47,2,     0.01,2,     2.46,2, -999.000,9, -999.000,9, -999.000,1,-999.0000,1,  -999.00,9,   -999.0,1,-999.000,9,   -999.0,9,   -999.0,9,  -999.00,9,25003.4,-999.0000,-999.000,-999.000,  1.6909,-999.000
   318MWESTW_5,  P21W,   171,  1,     12, SI9438,2,19940523,0721,-17.5000,-153.6667, 4687,   2709.1,   1.7662,  34.6669,2,  34.6669,2,    160.4,2,    160.8,2,   122.86,2,    35.21,2,     0.02,2,     2.43,2, -999.000,9, -999.000,9, -999.000,1,-999.0000,1,  -999.00,9,   -999.0,1,-999.000,9,   -999.0,9,   -999.0,9,  -999.00,9,26995.9,-999.0000,-999.000,-999.000,  1.5712,-999.000
   318MWESTW_5,  P21W,   171,  1,     11, SI9411,2,19940523,0721,-17.5000,-153.6667, 4687,   2906.6,   1.6957,  34.6735,2,  34.6724,2,    162.8,2,    163.6,2,   124.07,2,    35.05,2,     0.01,2,     2.43,2, -999.000,9, -999.000,9, -999.000,1,-999.0000,1,  -999.00,9,   -999.0,1,-999.000,9,   -999.0,9,   -999.0,9,  -999.00,9,28958.5,-999.0000,-999.000,-999.000,  1.4835,-999.000
   318MWESTW_5,  P21W,   171,  1,     10, SI9412,2,19940523,0721,-17.5000,-153.6667, 4687,   3107.6,   1.6343,  34.6784,2,  34.6783,2,    166.2,2,    166.6,2,   124.54,2,    34.75,2,     0.01,2,     2.41,2, -999.000,9, -999.000,9, -999.000,1,-999.0000,1,  -999.00,9,   -999.0,1,-999.000,9,   -999.0,9,   -999.0,9,  -999.00,9,30957.2,-999.0000,-999.000,-999.000,  1.4041,-999.000
   318MWESTW_5,  P21W,   171,  1,      9, SI9410,2,19940523,0721,-17.5000,-153.6667, 4687,   3311.3,   1.5804,  34.6832,2,  34.6828,2,    169.2,2,    169.5,2,   124.56,2,    34.53,2,     0.01,2,     2.39,2, -999.000,9, -999.000,9, -999.000,1,-999.0000,1,  -999.00,9,   -999.0,1,-999.000,9,   -999.0,9,   -999.0,9,  -999.00,9,32982.4,-999.0000,-999.000,-999.000,  1.3313,-999.000
   318MWESTW_5,  P21W,   171,  1,      8, SI9422,2,19940523,0721,-17.5000,-153.6667, 4687,   3512.7,   1.5380,  34.6864,2,  34.6869,2,    172.9,2,    173.1,2,   123.99,2,    34.29,2,     0.00,2,     2.37,2, -999.000,9, -999.000,9, -999.000,1,-999.0000,1,  -999.00,9,   -999.0,1,-999.000,9,   -999.0,9,   -999.0,9,  -999.00,9,34984.1,-999.0000,-999.000,-999.000,  1.2696,-999.000
   318MWESTW_5,  P21W,   171,  1,      7, SI9407,2,19940523,0721,-17.5000,-153.6667, 4687,   3714.0,   1.4920,  34.6905,2,  34.6906,2,    176.7,2,    176.6,2,   123.56,2,    34.06,2,     0.01,2,     2.36,2,    0.002,2,    0.005,2, -999.000,1,-999.0000,1,  -999.00,9,   -999.0,1,-999.000,9,   -999.0,9,   -999.0,9,  -999.00,9,36985.7,-999.0000,-999.000,-999.000,  1.2039,-999.000
   318MWESTW_5,  P21W,   171,  1,      6, SI9427,2,19940523,0721,-17.5000,-153.6667, 4687,   3911.6,   1.4441,  34.6944,2,  34.6944,2,    180.4,2,    180.6,2,   122.99,2,    33.90,2,     0.01,2,     2.35,2, -999.000,9, -999.000,9, -999.000,1,-999.0000,1,  -999.00,9,   -999.0,1,-999.000,9,   -999.0,9,   -999.0,9,  -999.00,9,38950.3,-999.0000,-999.000,-999.000,  1.1363,-999.000
   318MWESTW_5,  P21W,   171,  1,      5, SI9405,2,19940523,0721,-17.5000,-153.6667, 4687,   4114.4,   1.4156,  34.6964,2,  34.6971,2,    183.7,2,    183.9,2,   122.26,2,    33.63,2,     0.01,2,     2.32,2, -999.000,9, -999.000,9, -999.000,1,-999.0000,1,  -999.00,9,   -999.0,1,-999.000,9,   -999.0,9,   -999.0,9,  -999.00,9,40966.5,-999.0000,-999.000,-999.000,  1.0865,-999.000
   318MWESTW_5,  P21W,   171,  1,      4, SI9404,2,19940523,0721,-17.5000,-153.6667, 4687,   4316.7,   1.4058,  34.6984,2,  34.6981,2,    184.6,2,    185.7,2,   122.13,2,    33.56,2,     0.00,2,     2.32,2, -999.000,9, -999.000,9, -999.000,1,-999.0000,1,  -999.00,9,   -999.0,1,-999.000,9,   -999.0,9,   -999.0,9,  -999.00,9,42977.7,-999.0000,-999.000,-999.000,  1.0545,-999.000
   318MWESTW_5,  P21W,   171,  1,      3, SI9403,2,19940523,0721,-17.5000,-153.6667, 4687,   4515.1,   1.4063,  34.6998,2,  34.6997,2,    187.9,2,    186.9,2,   121.85,2,    33.48,2,     0.01,2,     2.30,2, -999.000,9, -999.000,9, -999.000,1,-999.0000,1,  -999.00,9,   -999.0,1,-999.000,9,   -999.0,9,   -999.0,9,  -999.00,9,44949.5,-999.0000,-999.000,-999.000,  1.0324,-999.000
   318MWESTW_5,  P21W,   171,  1,      2, SI9437,2,19940523,0721,-17.5000,-153.6667, 4687,   4713.7,   1.4187,  34.7008,2,  34.7011,2,    188.7,2,    188.0,2,   121.87,2,    33.44,2,     0.01,2,     2.31,2, -999.000,9, -999.000,9, -999.000,1,-999.0000,1,  -999.00,9,   -999.0,1,-999.000,9,   -999.0,9,   -999.0,9,  -999.00,9,46924.5,-999.0000,-999.000,-999.000,  1.0213,-999.000
   318MWESTW_5,  P21W,   171,  1,      1, SI9401,2,19940523,0721,-17.5000,-153.6667, 4687,   4755.4,   1.4235,  34.7010,2,  34.6987,2,    189.3,2,    188.7,2,   121.80,2,    33.28,2,     0.01,2,     2.30,2, -999.000,9, -999.000,9, -999.000,1,-999.0000,1,  -999.00,9,   -999.0,1,-999.000,9,   -999.0,9,   -999.0,9,  -999.00,9,47339.0,-999.0000,-999.000,-999.000,  1.0210,-999.000