BOTTLE,20010911WHPSIOdm
EXPOCODE,SECT_ID,STNNBR,CASTNO,SAMPNO,BTLNBR,BTLNBR_FLAG_W,DATE,TIME,LATITUDE,LONGITUDE,DEPTH,CTDPRS,CTDTMP,CTDSAL,CTDSAL_FLAG_W,SALNTY,SALNTY_FLAG_W,CTDOXY,CTDOXY_FLAG_W,OXYGEN,OXYGEN_FLAG_W,SILCAT,SILCAT_FLAG_W,NITRAT,NITRAT_FLAG_W,NITRIT,NITRIT_FLAG_W,PHSPHT,PHSPHT_FLAG_W,CFC-11,CFC-11_FLAG_W,CFC-12,CFC-12_FLAG_W,TRITUM,TRITUM_FLAG_W,HELIUM,HELIUM_FLAG_W,DELHE3,DELHE3_FLAG_W,DELC14,DELC14_FLAG_W,NEON,NEON_FLAG_W,TCARBN,TCARBN_FLAG_W,ALKALI,ALKALI_FLAG_W,PH,PH_FLAG_W,CTDRAW,HELIER,DELHER,NEONER,THETA,TRITER
,,,,,,,,,,,,DBAR,ITS-90,PSS-78,,PSS-78,,UMOL/KG,,UMOL/KG,,UMOL/KG,,UMOL/KG,,UMOL/KG,,UMOL/KG,,PMOL/KG,,PMOL/KG,,TU,,UMOL/KG,,PERCNT,,/MILLE,,NMOL/KG,,UMOL/KG,,UMOL/KG,,,,,NMOL/KG,PERCNT,NMOL/KG,ITS-90,TU
   318MWESTW_5,  P21W,   178,  1,     36, SI9442,2,19940525,1110,-17.5000,-158.3292, 4800,      7.9,  27.5794,  35.3665,2,  35.3084,3,    217.5,2,    212.6,2,     0.70,2,     0.06,2,     0.00,2,     0.17,2,    1.657,2,    0.945,2, -999.000,1,-999.0000,1,  -999.00,9,   -999.0,1,-999.000,9,   1948.1,2,   2325.2,2,     8.13,2,  134.6,-999.0000,-999.000,-999.000, 27.5776,-999.000
   318MWESTW_5,  P21W,   178,  1,     35, SI9435,2,19940525,1110,-17.5000,-158.3292, 4800,     18.3,  27.5396,  35.5339,2,  35.5391,2,    213.2,2,    206.2,2,     0.71,2,     0.07,2,     0.00,2,     0.17,2,    1.668,2,    0.926,2, -999.000,1,-999.0000,1,  -999.00,9,   -999.0,1,-999.000,9,   1961.0,2,   2333.4,2,     8.13,2,  238.8,-999.0000,-999.000,-999.000, 27.5353,-999.000
   318MWESTW_5,  P21W,   178,  1,     34, SI9441,2,19940525,1110,-17.5000,-158.3292, 4800,     43.3,  27.4732,  35.5825,2,  35.5892,2,    207.7,2,    209.4,2,     0.73,2,     0.03,2,     0.00,2,     0.17,2,    1.709,2,    0.957,2, -999.000,1,-999.0000,1,  -999.00,9,   -999.0,1,-999.000,9,   1962.5,2,   2337.4,2,     8.14,2,  488.3,-999.0000,-999.000,-999.000, 27.4631,-999.000
   318MWESTW_5,  P21W,   178,  1,     33, SI9433,2,19940525,1110,-17.5000,-158.3292, 4800,     93.4,  25.7420,  35.9117,2,  35.9129,2,    211.1,2,    220.1,2,     0.74,2,     0.08,2,     0.00,2,     0.18,2,    1.866,2,    1.035,2, -999.000,1,-999.0000,1,  -999.00,9,   -999.0,1,-999.000,9,   1996.5,2,   2371.4,2,     8.10,2,  987.5,-999.0000,-999.000,-999.000, 25.7212,-999.000
   318MWESTW_5,  P21W,   178,  1,     32, SI9432,2,19940525,1110,-17.5000,-158.3292, 4800,    145.0,  23.5730,  35.9135,2,  35.9157,2,    189.2,2,    200.9,2,     0.61,2,     0.09,2,     0.00,2,     0.21,2,    1.953,2,    1.054,2, -999.000,1,-999.0000,1,  -999.00,9,   -999.0,1,-999.000,9,   2023.0,2,   2361.9,2,     8.06,2, 1501.0,-999.0000,-999.000,-999.000, 23.5427,-999.000
   318MWESTW_5,  P21W,   178,  1,     31, SI9431,2,19940525,1110,-17.5000,-158.3292, 4800,    194.2,  21.2373,  35.7869,2,  35.7839,2,    193.3,2,    190.9,2,     0.76,2,     1.69,2,     0.00,2,     0.30,2,    2.030,2,    1.107,2, -999.000,1,-999.0000,1,  -999.00,9,   -999.0,1,-999.000,9,   2043.2,2,   2348.4,2,     8.02,2, 1990.6,-999.0000,-999.000,-999.000, 21.1997,-999.000
   318MWESTW_5,  P21W,   178,  1,     30, SI9440,2,19940525,1110,-17.5000,-158.3292, 4800,    245.5,  19.0786,  35.6292,2,  35.6269,2,    199.1,2,    195.3,2,     0.93,2,     2.41,2,     0.00,2,     0.33,2,    2.083,6,    1.130,6, -999.000,1,-999.0000,1,  -999.00,9,   -999.0,1,-999.000,9,   2050.4,2,   2335.6,2,     7.98,2, 2501.6,-999.0000,-999.000,-999.000, 19.0345,-999.000
   318MWESTW_5,  P21W,   178,  1,     29, SI9429,2,19940525,1110,-17.5000,-158.3292, 4800,    296.5,  17.7213,  35.5243,2,  35.5221,2,    199.4,2,    197.5,2,     1.08,2,     3.44,2,     0.00,2,     0.40,2,    2.095,2,    1.108,2, -999.000,1,-999.0000,1,  -999.00,9,   -999.0,1,-999.000,9,   2063.7,2,   2329.3,2,     7.96,2, 3009.7,-999.0000,-999.000,-999.000, 17.6706,-999.000
   318MWESTW_5,  P21W,   178,  1,     28, SI9428,2,19940525,1110,-17.5000,-158.3292, 4800,    322.5,  16.8318,  35.4212,2,  35.4078,2,    192.1,2,    192.6,2,     1.54,2,     4.91,2,     0.00,2,     0.51,2,    1.976,2,    1.032,2, -999.000,1,-999.0000,1,  -999.00,9,   -999.0,1,-999.000,9,   2070.0,2,   2322.9,2,     7.93,2, 3268.8,-999.0000,-999.000,-999.000, 16.7786,-999.000
   318MWESTW_5,  P21W,   178,  1,     27, SI9424,2,19940525,1110,-17.5000,-158.3292, 4800,    347.5,  15.5496,  35.2567,2,  35.2517,2,    189.2,2,    188.5,2,     2.30,2,     7.18,2,     0.00,2,     0.67,2,    1.802,2,    0.944,2, -999.000,1,-999.0000,1,  -999.00,9,   -999.0,1,-999.000,9,   2082.1,2,   2320.4,2,     7.89,2, 3517.9,-999.0000,-999.000,-999.000, 15.4953,-999.000
   318MWESTW_5,  P21W,   178,  1,     26, SI9414,2,19940525,1110,-17.5000,-158.3292, 4800,    372.0,  14.1435,  35.0545,2,  35.0490,2,    180.2,2,    175.3,2,     4.09,2,    11.11,2,     0.00,2,     0.95,2,    1.404,2,    0.733,2, -999.000,1,-999.0000,1,  -999.00,9,   -999.0,1,-999.000,9,   -999.0,9,   -999.0,9,  -999.00,9, 3762.2,-999.0000,-999.000,-999.000, 14.0890,-999.000
   318MWESTW_5,  P21W,   178,  1,     25, SI9425,2,19940525,1110,-17.5000,-158.3292, 4800,    396.7,  12.8375,  34.9098,2,  34.9138,2,    169.7,2,    170.7,2,     5.59,2,    13.83,2,     0.00,2,     1.13,2, -999.000,9, -999.000,9, -999.000,1,-999.0000,1,  -999.00,9,   -999.0,1,-999.000,9,   2116.8,2,   2296.4,2,     7.80,2, 4008.0,-999.0000,-999.000,-999.000, 12.7830,-999.000
   318MWESTW_5,  P21W,   178,  1,     24, SI9434,2,19940525,1110,-17.5000,-158.3292, 4800,    499.6,   8.1580,  34.5010,2,  34.4993,2,    163.5,2,    161.3,2,    15.72,2,    25.53,2,     0.00,2,     1.88,2,    0.399,2,    0.205,2, -999.000,1,-999.0000,1,  -999.00,9,   -999.0,1,-999.000,9,   2161.8,2,   2289.4,2,     7.64,2, 5031.1,-999.0000,-999.000,-999.000,  8.1062,-999.000
   318MWESTW_5,  P21W,   178,  1,     23, SI9423,2,19940525,1110,-17.5000,-158.3292, 4800,    595.2,   6.5467,  34.4261,2,  34.4245,2,    163.1,2,    165.4,2,    23.47,2,    29.10,2,     0.00,2,     2.07,2,    0.154,2,    0.085,2, -999.000,1,-999.0000,1,  -999.00,9,   -999.0,1,-999.000,9,   2189.4,2,   2294.3,2,     7.61,2, 5981.4,-999.0000,-999.000,-999.000,  6.4919,-999.000
   318MWESTW_5,  P21W,   178,  1,     22, SI9418,2,19940525,1110,-17.5000,-158.3292, 4800,    697.8,   5.5470,  34.3991,2,  34.3980,2,    169.7,2,    171.4,4,    30.92,2,    30.98,2,     0.00,2,     2.18,2,    0.062,2,    0.047,2, -999.000,1,-999.0000,1,  -999.00,9,   -999.0,1,-999.000,9,   -999.0,9,   -999.0,9,  -999.00,9, 7002.4,-999.0000,-999.000,-999.000,  5.4876,-999.000
   318MWESTW_5,  P21W,   178,  1,     21, SI9421,2,19940525,1110,-17.5000,-158.3292, 4800,    799.9,   4.7823,  34.4323,2,  34.4330,2,    160.0,2,    158.0,2,    45.96,2,    33.26,2,     0.00,2,     2.33,2,    0.010,2,    0.008,2, -999.000,1,-999.0000,1,  -999.00,9,   -999.0,1,-999.000,9,   -999.0,9,   -999.0,9,  -999.00,9, 8017.2,-999.0000,-999.000,-999.000,  4.7182,-999.000
   318MWESTW_5,  P21W,   178,  1,     20, SI9420,2,19940525,1110,-17.5000,-158.3292, 4800,    904.5,   4.1195,  34.4675,2,  34.4681,2,    156.8,2,    154.2,2,    59.81,2,    34.37,2,     0.00,2,     2.40,2,    0.005,2,    0.003,2, -999.000,1,-999.0000,1,  -999.00,9,   -999.0,1,-999.000,9,   2238.2,2,   2329.6,2,     7.56,2, 9057.6,-999.0000,-999.000,-999.000,  4.0509,-999.000
   318MWESTW_5,  P21W,   178,  1,     19, SI9419,2,19940525,1110,-17.5000,-158.3292, 4800,   1000.2,   3.7601,  34.4929,2,  34.4924,2,    153.7,2,    151.5,2,    68.89,2,    34.96,2,     0.00,2,     2.45,2, -999.000,9, -999.000,9, -999.000,1,-999.0000,1,  -999.00,9,   -999.0,1,-999.000,9,   2250.7,2,   2339.0,2,     7.55,2,10008.5,-999.0000,-999.000,-999.000,  3.6863,-999.000
   318MWESTW_5,  P21W,   178,  1,     18, SI9439,2,19940525,1110,-17.5000,-158.3292, 4800,   1199.7,   3.2805,  34.5350,2,  34.5351,2,    148.3,2,    146.7,2,    82.74,2,    35.63,2,     0.00,2,     2.50,2,   -0.001,2,    0.002,2, -999.000,1,-999.0000,1,  -999.00,9,   -999.0,1,-999.000,9,   2265.9,2,   2360.0,2,     7.55,2,11992.0,-999.0000,-999.000,-999.000,  3.1945,-999.000
   318MWESTW_5,  P21W,   178,  1,     17, SI9417,2,19940525,1110,-17.5000,-158.3292, 4800,   1401.1,   2.9418,  34.5632,2,  34.5645,2,    148.2,2,    146.1,2,    92.56,2,    35.85,2,     0.00,2,     2.51,2, -999.000,9, -999.000,9, -999.000,1,-999.0000,1,  -999.00,9,   -999.0,1,-999.000,9,   2277.2,2,   2364.7,2,     7.54,2,13995.0,-999.0000,-999.000,-999.000,  2.8428,-999.000
   318MWESTW_5,  P21W,   178,  1,     16, SI9416,2,19940525,1110,-17.5000,-158.3292, 4800,   1601.9,   2.6488,  34.5902,2,  34.5916,2,    147.3,2,    147.2,2,   101.50,2,    35.90,2,     0.00,2,     2.52,2, -999.000,9, -999.000,9, -999.000,1,-999.0000,1,  -999.00,9,   -999.0,1,-999.000,9,   2285.1,2,   2375.5,2,     7.55,2,15990.5,-999.0000,-999.000,-999.000,  2.5367,-999.000
   318MWESTW_5,  P21W,   178,  1,     15, SI9415,2,19940525,1110,-17.5000,-158.3292, 4800,   1803.2,   2.4008,  34.6127,2,  34.6138,2,    149.0,2,    148.6,2,   108.50,2,    35.78,2,     0.00,2,     2.51,2, -999.000,9, -999.000,9, -999.000,1,-999.0000,1,  -999.00,9,   -999.0,1,-999.000,9,   -999.0,9,   -999.0,9,  -999.00,9,17992.6,-999.0000,-999.000,-999.000,  2.2751,-999.000
   318MWESTW_5,  P21W,   178,  1,     14, SI9436,2,19940525,1110,-17.5000,-158.3292, 4800,   2003.9,   2.2265,  34.6275,2,  34.6291,2,    150.4,2,    150.2,2,   113.72,2,    35.74,2,     0.00,2,     2.51,2, -999.000,9, -999.000,9, -999.000,1,-999.0000,1,  -999.00,9,   -999.0,1,-999.000,9,   2292.7,2,   2388.0,2,     7.55,2,19987.7,-999.0000,-999.000,-999.000,  2.0863,-999.000
   318MWESTW_5,  P21W,   178,  1,     13, SI9413,2,19940525,1110,-17.5000,-158.3292, 4800,   2204.2,   2.0515,  34.6427,2,  34.6427,2,    151.8,2,    151.5,2,   119.08,2,    35.75,2,     0.00,2,     2.50,2, -999.000,9, -999.000,9, -999.000,1,-999.0000,1,  -999.00,9,   -999.0,1,-999.000,9,   -999.0,9,   -999.0,9,  -999.00,9,21979.3,-999.0000,-999.000,-999.000,  1.8967,-999.000
   318MWESTW_5,  P21W,   178,  1,     12, SI9438,2,19940525,1110,-17.5000,-158.3292, 4800,   2403.7,   1.9400,  34.6523,2,  34.6527,2,    153.8,2,    154.0,2,   121.92,2,    35.67,2,     0.00,2,     2.49,2, -999.000,9, -999.000,9, -999.000,1,-999.0000,1,  -999.00,9,   -999.0,1,-999.000,9,   -999.0,9,   -999.0,9,  -999.00,9,23961.9,-999.0000,-999.000,-999.000,  1.7695,-999.000
   318MWESTW_5,  P21W,   178,  1,     11, SI9411,2,19940525,1110,-17.5000,-158.3292, 4800,   2603.4,   1.8321,  34.6610,2,  34.6620,2,    156.7,2,    156.4,2,   124.16,2,    35.54,2,     0.00,2,     2.48,2,    0.001,2,   -0.001,2, -999.000,1,-999.0000,1,  -999.00,9,   -999.0,1,-999.000,9,   2302.1,2,   2395.6,2,     7.56,2,25948.1,-999.0000,-999.000,-999.000,  1.6455,-999.000
   318MWESTW_5,  P21W,   178,  1,     10, SI9412,2,19940525,1110,-17.5000,-158.3292, 4800,   2807.4,   1.7358,  34.6688,2,  34.6694,2,    161.2,2,    160.5,2,   124.92,2,    35.28,2,     0.00,2,     2.45,2, -999.000,9, -999.000,9, -999.000,1,-999.0000,1,  -999.00,9,   -999.0,1,-999.000,9,   2299.7,2,   2399.7,2,     7.56,2,27975.7,-999.0000,-999.000,-999.000,  1.5322,-999.000
   318MWESTW_5,  P21W,   178,  1,      9, SI9410,2,19940525,1110,-17.5000,-158.3292, 4800,   3009.1,   1.6672,  34.6745,2,  34.6753,2,    164.1,2,    164.1,2,   125.57,2,    34.94,2,     0.00,2,     2.43,2, -999.000,9, -999.000,9, -999.000,1,-999.0000,1,  -999.00,9,   -999.0,1,-999.000,9,   2298.9,2,   2399.3,2,     7.57,2,29980.5,-999.0000,-999.000,-999.000,  1.4459,-999.000
   318MWESTW_5,  P21W,   178,  1,      8, SI9422,2,19940525,1110,-17.5000,-158.3292, 4800,   3205.8,   1.5933,  34.6797,2,  34.6808,2,    168.6,2,    168.2,2,   125.53,2,    34.66,2,     0.00,2,     2.42,2, -999.000,9, -999.000,9, -999.000,1,-999.0000,1,  -999.00,9,   -999.0,1,-999.000,9,   2295.7,2,   2396.1,2,     7.57,2,31936.6,-999.0000,-999.000,-999.000,  1.3544,-999.000
   318MWESTW_5,  P21W,   178,  1,      7, SI9407,2,19940525,1110,-17.5000,-158.3292, 4800,   3409.2,   1.5514,  34.6840,2,  34.6850,2,    171.4,2,    171.2,2,   125.39,2,    34.36,2,     0.00,2,     2.40,2, -999.000,9, -999.000,9, -999.000,1,-999.0000,1,  -999.00,9,   -999.0,1,-999.000,9,   2293.7,2,   2400.6,2,     7.57,2,33958.8,-999.0000,-999.000,-999.000,  1.2932,-999.000
   318MWESTW_5,  P21W,   178,  1,      6, SI9427,2,19940525,1110,-17.5000,-158.3292, 4800,   3611.6,   1.5048,  34.6873,2,  34.6869,2,    176.2,2,    175.3,2,   124.37,2,    34.14,2,     0.00,2,     2.38,2, -999.000,9, -999.000,9, -999.000,1,-999.0000,1,  -999.00,9,   -999.0,1,-999.000,9,   2291.9,2,   2395.5,2,     7.58,2,35970.8,-999.0000,-999.000,-999.000,  1.2270,-999.000
   318MWESTW_5,  P21W,   178,  1,      5, SI9405,2,19940525,1110,-17.5000,-158.3292, 4800,   3813.5,   1.4577,  34.6909,2,  34.6920,2,    179.4,2,    179.1,2,   123.63,2,    33.88,2,     0.00,2,     2.36,2, -999.000,9, -999.000,9, -999.000,1,-999.0000,1,  -999.00,9,   -999.0,1,-999.000,9,   2286.1,2,   2389.4,2,     7.58,2,37977.7,-999.0000,-999.000,-999.000,  1.1600,-999.000
   318MWESTW_5,  P21W,   178,  1,      4, SI9404,2,19940525,1110,-17.5000,-158.3292, 4800,   4120.4,   1.4201,  34.6946,2,  34.6954,2,    185.4,2,    184.4,2,   122.60,2,    33.62,2,     0.00,2,     2.33,2,    0.003,2,    0.002,2, -999.000,1,-999.0000,1,  -999.00,9,   -999.0,1,-999.000,9,   2282.2,2,   2392.7,2,     7.58,2,41029.5,-999.0000,-999.000,-999.000,  1.0902,-999.000
   318MWESTW_5,  P21W,   178,  1,      3, SI9403,2,19940525,1110,-17.5000,-158.3292, 4800,   4421.5,   1.3925,  34.6976,2,  34.6973,2,    189.7,2,    188.0,2,   121.87,2,    33.36,2,     0.00,2,     2.32,2, -999.000,9, -999.000,9, -999.000,1,-999.0000,1,  -999.00,9,   -999.0,1,-999.000,9,   2282.1,2,   2386.9,2,     7.58,2,44022.1,-999.0000,-999.000,-999.000,  1.0298,-999.000
   318MWESTW_5,  P21W,   178,  1,      2, SI9437,2,19940525,1110,-17.5000,-158.3292, 4800,   4707.0,   1.3655,  34.7008,2,  34.7011,2,    193.5,2,    191.2,2,   121.29,2,    33.09,2,     0.00,2,     2.30,2, -999.000,9, -999.000,9, -999.000,1,-999.0000,1,  -999.00,9,   -999.0,1,-999.000,9,   2271.4,2,   2387.5,2,     7.59,2,46861.2,-999.0000,-999.000,-999.000,  0.9706,-999.000
   318MWESTW_5,  P21W,   178,  1,      1, SI9401,2,19940525,1110,-17.5000,-158.3292, 4800,   4840.8,   1.3326,  34.7031,2,  34.7026,2,    196.2,2,    195.2,2,   120.68,2,    32.85,2,     0.00,2,     2.28,2,    0.010,2,    0.003,2, -999.000,1,-999.0000,1,  -999.00,9,   -999.0,1,-999.000,9,   2272.3,2,   -999.0,9,     7.59,2,48191.1,-999.0000,-999.000,-999.000,  0.9230,-999.000