BOTTLE,20010911WHPSIOdm
EXPOCODE,SECT_ID,STNNBR,CASTNO,SAMPNO,BTLNBR,BTLNBR_FLAG_W,DATE,TIME,LATITUDE,LONGITUDE,DEPTH,CTDPRS,CTDTMP,CTDSAL,CTDSAL_FLAG_W,SALNTY,SALNTY_FLAG_W,CTDOXY,CTDOXY_FLAG_W,OXYGEN,OXYGEN_FLAG_W,SILCAT,SILCAT_FLAG_W,NITRAT,NITRAT_FLAG_W,NITRIT,NITRIT_FLAG_W,PHSPHT,PHSPHT_FLAG_W,CFC-11,CFC-11_FLAG_W,CFC-12,CFC-12_FLAG_W,TRITUM,TRITUM_FLAG_W,HELIUM,HELIUM_FLAG_W,DELHE3,DELHE3_FLAG_W,DELC14,DELC14_FLAG_W,NEON,NEON_FLAG_W,TCARBN,TCARBN_FLAG_W,ALKALI,ALKALI_FLAG_W,PH,PH_FLAG_W,CTDRAW,HELIER,DELHER,NEONER,THETA,TRITER
,,,,,,,,,,,,DBAR,ITS-90,PSS-78,,PSS-78,,UMOL/KG,,UMOL/KG,,UMOL/KG,,UMOL/KG,,UMOL/KG,,UMOL/KG,,PMOL/KG,,PMOL/KG,,TU,,UMOL/KG,,PERCNT,,/MILLE,,NMOL/KG,,UMOL/KG,,UMOL/KG,,,,,NMOL/KG,PERCNT,NMOL/KG,ITS-90,TU
   318MWESTW_4,  P21E,   142,  1,     24, SI9404,2,19940508,2305,-16.7500,-141.3333, 3206,     23.7,  28.7736,  36.2620,2,  36.2594,2,    195.6,2,    210.2,2,     0.73,2,     0.01,2,     0.00,2,     0.21,2,    1.618,2,    0.905,2,    0.888,2,   1.6763,2,    -1.35,2,   -999.0,1,   6.534,2,   2002.7,2,   2379.0,2,     8.22,2,  287.3,  0.0084,   0.080,   0.033, 28.7679,   0.007
   318MWESTW_4,  P21E,   142,  1,     23, SI9405,2,19940508,2305,-16.7500,-141.3333, 3206,     48.2,  28.7208,  36.3298,2,  36.3324,2,    196.8,2,    215.1,2,     0.76,2,     0.00,2,     0.00,2,     0.21,2,    1.594,2,    0.918,2,    0.869,2,   1.6754,2,    -1.03,2,   -999.0,1,   6.532,2,   2007.7,2,   2382.0,2,     8.21,2,  531.7,  0.0084,   0.080,   0.033, 28.7092,   0.007
   318MWESTW_4,  P21E,   142,  1,     22, SI9407,2,19940508,2305,-16.7500,-141.3333, 3206,     97.6,  26.2251,  36.4522,2,  36.4519,2,    204.9,2,    213.2,2,     0.47,2,     0.00,2,     0.01,2,     0.23,2,    1.808,2,    1.011,2,    0.819,2,   1.6915,2,    -1.25,2,   -999.0,1,   6.697,2,   2033.7,2,   2393.0,2,     8.18,2, 1024.6,  0.0085,   0.080,   0.033, 26.2031,   0.007
   318MWESTW_4,  P21E,   142,  1,     21, SI9408,2,19940508,2305,-16.7500,-141.3333, 3206,    150.0,  23.9957,  36.3923,2,  36.3992,2,    195.8,2,    202.1,2,     0.50,2,     0.13,2,     0.30,2,     0.33,2,    1.882,2,    1.032,2,    0.740,2,   1.6983,2,    -1.02,2,   -999.0,1,   6.771,2,   -999.0,9,   -999.0,9,  -999.00,9, 1546.8,  0.0085,   0.080,   0.034, 23.9639,   0.007
   318MWESTW_4,  P21E,   142,  1,     20, SI9409,2,19940508,2305,-16.7500,-141.3333, 3206,    199.8,  22.4187,  36.1988,2,  36.1990,2,    182.6,2,    185.1,2,     0.53,2,     1.86,2,     0.17,2,     0.44,2,    1.965,2,    1.074,2,    0.648,2,   1.7175,2,    -0.90,2,   -999.0,1,   6.835,2,   2080.8,2,   2377.0,2,     8.09,2, 2042.7,  0.0086,   0.080,   0.034, 22.3784,   0.006
   318MWESTW_4,  P21E,   142,  1,     19, SI9411,2,19940508,2305,-16.7500,-141.3333, 3206,    298.9,  16.3342,  35.2461,2,  35.2424,2,    171.4,2,    175.5,2,     2.34,2,     7.37,2,     0.01,2,     0.75,2,    1.773,2,    0.961,2,    0.545,2,   1.7395,2,     0.55,2,   -999.0,1,   7.149,2,   2092.8,2,   2310.0,2,     7.97,2, 3029.0,  0.0087,   0.080,   0.036, 16.2860,   0.006
   318MWESTW_4,  P21E,   142,  1,     18, SI9413,2,19940508,2305,-16.7500,-141.3333, 3206,    399.0,  10.5589,  34.6271,2,  34.6315,2,    135.7,2,    137.4,2,    10.75,2,    21.36,2,     0.01,2,     1.70,2,    0.740,2,    0.382,2,    0.236,2,   1.7589,2,     1.46,2,   -999.0,1,   7.453,2,   2162.9,2,   2283.0,2,     7.75,2, 4024.8,  0.0088,   0.080,   0.037, 10.5107,   0.005
   318MWESTW_4,  P21E,   142,  1,     17, SI9415,2,19940508,2305,-16.7500,-141.3333, 3206,    498.6,   7.4731,  34.4841,2,  34.4818,2,    120.8,2,    121.4,2,    24.16,2,    31.01,2,     0.01,2,     2.24,2,    0.126,6,    0.066,6,    0.042,2,   1.7861,2,     3.76,2,   -999.0,1,   7.645,2,   2210.9,2,   2287.0,2,     7.64,2, 5014.6,  0.0089,   0.080,   0.038,  7.4240,   0.004
   318MWESTW_4,  P21E,   142,  1,     16, SI9416,2,19940508,2305,-16.7500,-141.3333, 3206,    598.0,   6.5365,  34.4746,2,  34.4730,2,    129.5,2,    129.2,2,    31.28,2,    32.61,2,     0.00,2,     2.30,2,    0.049,2,    0.029,2, -999.000,1,   1.8133,2,     6.46,2,   -999.0,1,   7.704,2,   2218.9,2,   2296.0,2,     7.63,2, 6003.9,  0.0091,   0.090,   0.039,  6.4814,-999.000
   318MWESTW_4,  P21E,   142,  1,     15, SI9417,2,19940508,2305,-16.7500,-141.3333, 3206,    698.1,   5.6677,  34.4748,2,  34.4742,2,    130.6,2,    130.8,2,    42.10,2,    34.32,2,     0.01,2,     2.41,2,    0.019,2,    0.003,2,    0.014,2,   1.8326,2,    10.07,2,   -999.0,1,   7.749,2,   2232.9,2,   2305.0,2,     7.63,2, 6999.2,  0.0092,   0.090,   0.039,  5.6075,   0.004
   318MWESTW_4,  P21E,   142,  1,     14, SI9419,2,19940508,2305,-16.7500,-141.3333, 3206,    897.6,   4.7352,  34.4987,2,  34.4976,2,    123.4,2,    121.7,2,    59.53,2,    36.50,2,     0.01,2,     2.57,2,    0.004,2,    0.000,2,    0.003,2,   1.8460,2,    14.21,2,   -999.0,1,   7.784,2,   2259.9,2,   2325.0,2,     7.60,2, 8982.8,  0.0092,   0.090,   0.039,  4.6629,   0.004
   318MWESTW_4,  P21E,   142,  1,     13, SI9420,2,19940508,2305,-16.7500,-141.3333, 3206,   1095.5,   3.8809,  34.5213,2,  34.5193,2,    122.5,2,    136.2,2,    73.42,2,    36.04,2,     0.00,2,     2.53,2,    0.000,2,   -0.003,2,    0.004,2,   1.8484,2,    17.51,2,   -999.0,1,   7.872,2,   2265.9,2,   2338.0,2,     7.61,2,10950.3,  0.0092,   0.100,   0.039,  3.7982,   0.004
   318MWESTW_4,  P21E,   142,  1,     12, SI9421,2,19940508,2305,-16.7500,-141.3333, 3206,   1301.3,   3.3412,  34.5502,2,  34.5500,2,    135.9,2,    135.8,2,    85.69,2,    36.49,2,     0.00,2,     2.55,2,    0.000,2,   -0.002,2,   -0.002,2,   1.8662,2,    20.47,2,   -999.0,1,   7.944,2,   2279.0,2,   2354.0,2,     7.62,2,12996.6,  0.0093,   0.100,   0.040,  3.2463,   0.004
   318MWESTW_4,  P21E,   142,  1,     11, SI9423,2,19940508,2305,-16.7500,-141.3333, 3206,   1501.1,   2.8937,  34.5767,2,  34.5757,2,    139.4,2,    139.1,2,    95.86,2,    36.53,2,     0.00,2,     2.55,2, -999.000,9, -999.000,9,   -0.003,2,   1.8760,2,    22.25,2,   -999.0,1,   7.971,2,   2289.0,2,   2363.0,2,     7.63,2,14983.1,  0.0094,   0.100,   0.040,  2.7870,   0.004
   318MWESTW_4,  P21E,   142,  1,     10, SI9425,2,19940508,2305,-16.7500,-141.3333, 3206,   1696.4,   2.5593,  34.5996,2,  34.5991,2,    142.8,2,    143.8,2,   103.29,2,    36.26,2,     0.00,2,     2.53,2, -999.000,9, -999.000,9,   -0.002,2,   1.8886,2,    24.28,2,   -999.0,1,   8.014,2,   2295.0,2,   2373.0,2,     7.62,3,16924.6,  0.0094,   0.100,   0.040,  2.4404,   0.004
   318MWESTW_4,  P21E,   142,  1,      9, SI9424,2,19940508,2305,-16.7500,-141.3333, 3206,   1895.7,   2.2802,  34.6202,2,  34.6193,2,    149.1,2,    149.8,2,   109.27,2,    35.87,2,     0.00,2,     2.51,2, -999.000,9, -999.000,9,    0.005,2,   1.8956,2,    25.63,2,   -999.0,1,   8.017,2,   2297.0,2,   2378.0,2,     7.64,2,18905.7,  0.0095,   0.100,   0.040,  2.1484,   0.004
   318MWESTW_4,  P21E,   142,  1,      8, SI9428,2,19940508,2305,-16.7500,-141.3333, 3206,   2096.3,   2.0714,  34.6405,2,  34.6399,2,    151.1,2,    151.3,2,   115.25,2,    35.67,2,    -0.01,2,     2.49,2, -999.000,9, -999.000,9, -999.000,1,-999.0000,1,  -999.00,9,   -999.0,1,-999.000,9,   2304.0,2,   2389.0,2,     7.63,2,20899.8,-999.0000,-999.000,-999.000,  1.9257,-999.000
   318MWESTW_4,  P21E,   142,  1,      7, SI9429,2,19940508,2305,-16.7500,-141.3333, 3206,   2304.9,   1.9367,  34.6522,2,  34.6517,2,    155.1,2,    156.0,2,   118.17,2,    35.52,2,     0.00,2,     2.47,2, -999.000,9, -999.000,9, -999.000,1,-999.0000,1,  -999.00,9,   -999.0,1,-999.000,9,   2303.0,2,   2388.0,2,     7.65,2,22973.5,-999.0000,-999.000,-999.000,  1.7750,-999.000
   318MWESTW_4,  P21E,   142,  1,      6, SI9431,2,19940508,2305,-16.7500,-141.3333, 3206,   2486.0,   1.8349,  34.6615,2,  34.6604,2,    157.1,2,    159.0,2,   120.45,2,    35.27,2,    -0.01,2,     2.45,2, -999.000,9, -999.000,9, -999.000,1,-999.0000,1,  -999.00,9,   -999.0,1,-999.000,9,   2305.0,2,   2393.0,2,     7.65,2,24773.9,-999.0000,-999.000,-999.000,  1.6589,-999.000
   318MWESTW_4,  P21E,   142,  1,      5, SI9432,2,19940508,2305,-16.7500,-141.3333, 3206,   2702.0,   1.7398,  34.6685,2,  34.6684,2,    161.7,2,    162.6,2,   121.59,2,    34.98,2,     0.01,2,     2.43,2, -999.000,9, -999.000,9, -999.000,1,-999.0000,1,  -999.00,9,   -999.0,1,-999.000,9,   2304.0,2,   2391.0,2,     7.66,2,26921.3,-999.0000,-999.000,-999.000,  1.5459,-999.000
   318MWESTW_4,  P21E,   142,  1,      4, SI9433,2,19940508,2305,-16.7500,-141.3333, 3206,   2900.8,   1.7032,  34.6720,2,  34.6722,2,    163.8,2,    164.5,2,   122.10,2,    34.94,2,     0.00,2,     2.42,2, -999.000,9, -999.000,9, -999.000,1,-999.0000,1,  -999.00,9,   -999.0,1,-999.000,9,   2301.0,2,   2392.0,2,     7.66,2,28897.9,-999.0000,-999.000,-999.000,  1.4914,-999.000
   318MWESTW_4,  P21E,   142,  1,      3, SI9435,2,19940508,2305,-16.7500,-141.3333, 3206,   3131.5,   1.6848,  34.6761,2,  34.6757,2,    165.9,2,    166.3,2,   122.29,2,    34.80,2,     0.01,2,     2.42,2, -999.000,9, -999.000,9, -999.000,1,-999.0000,1,  -999.00,9,   -999.0,1,-999.000,9,   2301.0,2,   2393.0,2,     7.66,2,31190.5,-999.0000,-999.000,-999.000,  1.4512,-999.000
   318MWESTW_4,  P21E,   142,  1,      2, SI9401,2,19940508,2305,-16.7500,-141.3333, 3206,   3221.2,   1.6759,  34.6772,2,  34.6759,2,    164.8,2,    167.1,2,   122.30,2,    34.72,2,     0.00,2,     2.42,2, -999.000,9, -999.000,9, -999.000,1,-999.0000,1,  -999.00,9,   -999.0,1,-999.000,9,   2302.0,2,   2390.0,2,     7.67,2,32082.1,-999.0000,-999.000,-999.000,  1.4336,-999.000
   318MWESTW_4,  P21E,   142,  1,      1, SI9403,2,19940508,2305,-16.7500,-141.3333, 3206,   3223.6,   1.6763,  34.6765,2,  34.6761,2,    164.9,2,    167.3,2,   122.43,2,    34.74,2,     0.00,2,     2.41,2, -999.000,9, -999.000,9, -999.000,1,-999.0000,1,  -999.00,9,   -999.0,1,-999.000,9,   2301.0,2,   2392.0,2,     7.66,2,32106.3,-999.0000,-999.000,-999.000,  1.4338,-999.000
   318MWESTW_4,  P21E,   143,  1,     24, SI9404,2,19940509,0530,-16.7472,-142.0000, 1942,      7.7,  28.9859,  36.0934,2,  36.0944,2,    204.0,2,    207.3,2,     0.40,2,     0.00,2,     0.00,2,     0.21,2,    1.592,2,    0.909,2, -999.000,1,-999.0000,1,  -999.00,9,   -999.0,1,-999.000,9,   -999.0,9,   -999.0,9,  -999.00,9,  125.8,-999.0000,-999.000,-999.000, 28.9840,-999.000
   318MWESTW_4,  P21E,   143,  1,     23, SI9405,9,19940509,0530,-16.7472,-142.0000, 1942,     21.1,  28.9019,  36.0848,2,-999.0000,9,    201.9,2,   -999.0,9,  -999.00,9,  -999.00,9,  -999.00,9,  -999.00,9, -999.000,9, -999.000,9, -999.000,1,-999.0000,1,  -999.00,9,   -999.0,1,-999.000,9,   -999.0,9,   -999.0,9,  -999.00,9,  259.9,-999.0000,-999.000,-999.000, 28.8968,-999.000
   318MWESTW_4,  P21E,   143,  1,     22, SI9407,3,19940509,0530,-16.7472,-142.0000, 1942,     45.8,  28.8862,  36.2843,2,  36.2827,2,    202.6,2,    205.7,2,     0.45,2,    -0.01,2,     0.01,2,     0.21,2,    1.621,2,    0.992,2, -999.000,1,-999.0000,1,  -999.00,9,   -999.0,1,-999.000,9,   -999.0,9,   -999.0,9,  -999.00,9,  506.9,-999.0000,-999.000,-999.000, 28.8751,-999.000
   318MWESTW_4,  P21E,   143,  1,     21, SI9408,2,19940509,0530,-16.7472,-142.0000, 1942,     97.3,  26.2887,  36.4054,2,  36.4018,2,    209.8,2,    219.1,2,     0.33,2,     0.00,2,     0.00,2,     0.22,2,    1.771,2,    0.993,2, -999.000,1,-999.0000,1,  -999.00,9,   -999.0,1,-999.000,9,   -999.0,9,   -999.0,9,  -999.00,9, 1019.5,-999.0000,-999.000,-999.000, 26.2667,-999.000
   318MWESTW_4,  P21E,   143,  1,     20, SI9409,2,19940509,0530,-16.7472,-142.0000, 1942,    148.1,  24.5309,  36.4177,2,  36.4291,2,    195.6,2,    206.3,2,     0.37,2,    -0.07,2,     0.10,2,     0.30,2,    1.850,2,    1.013,2, -999.000,1,-999.0000,1,  -999.00,9,   -999.0,1,-999.000,9,   -999.0,9,   -999.0,9,  -999.00,9, 1525.7,-999.0000,-999.000,-999.000, 24.4990,-999.000
   318MWESTW_4,  P21E,   143,  1,     19, SI9411,2,19940509,0530,-16.7472,-142.0000, 1942,    196.6,  22.4461,  36.2149,2,  36.2058,2,    188.3,2,    186.6,2,     0.26,2,     1.89,2,     0.16,2,     0.45,2,    1.972,2,    1.074,2, -999.000,1,-999.0000,1,  -999.00,9,   -999.0,1,-999.000,9,   -999.0,9,   -999.0,9,  -999.00,9, 2009.2,-999.0000,-999.000,-999.000, 22.4064,-999.000
   318MWESTW_4,  P21E,   143,  1,     18, SI9413,2,19940509,0530,-16.7472,-142.0000, 1942,    249.5,  20.0275,  35.8041,2,  35.8078,2,    184.7,2,    179.8,2,     0.46,2,     3.51,2,     0.01,2,     0.52,2,    1.988,2,    1.060,2, -999.000,1,-999.0000,1,  -999.00,9,   -999.0,1,-999.000,9,   -999.0,9,   -999.0,9,  -999.00,9, 2536.5,-999.0000,-999.000,-999.000, 19.9811,-999.000
   318MWESTW_4,  P21E,   143,  1,     17, SI9415,2,19940509,0530,-16.7472,-142.0000, 1942,    296.8,  17.5585,  35.4162,2,  35.4145,2,    177.6,2,    175.9,2,     1.30,2,     5.91,2,     0.00,2,     0.68,2,    1.802,2,    0.945,2, -999.000,1,-999.0000,1,  -999.00,9,   -999.0,1,-999.000,9,   -999.0,9,   -999.0,9,  -999.00,9, 3007.6,-999.0000,-999.000,-999.000, 17.5081,-999.000
   318MWESTW_4,  P21E,   143,  1,     16, SI9416,2,19940509,0530,-16.7472,-142.0000, 1942,    400.5,  10.6332,  34.6409,2,  34.6390,2,    132.4,2,    133.8,2,    11.05,2,    21.25,2,     0.01,2,     1.72,2,    0.731,2,    0.365,2, -999.000,1,-999.0000,1,  -999.00,9,   -999.0,1,-999.000,9,   -999.0,9,   -999.0,9,  -999.00,9, 4039.4,-999.0000,-999.000,-999.000, 10.5846,-999.000
   318MWESTW_4,  P21E,   143,  1,     15, SI9417,2,19940509,0530,-16.7472,-142.0000, 1942,    501.5,   7.9121,  34.4893,2,  34.4909,2,    120.8,2,    119.5,2,    21.43,2,    30.19,2,     0.01,2,     2.22,2,    0.174,2,    0.094,2, -999.000,1,-999.0000,1,  -999.00,9,   -999.0,1,-999.000,9,   -999.0,9,   -999.0,9,  -999.00,9, 5043.3,-999.0000,-999.000,-999.000,  7.8611,-999.000
   318MWESTW_4,  P21E,   143,  1,     14, SI9419,2,19940509,0530,-16.7472,-142.0000, 1942,    600.4,   6.5066,  34.4740,2,  34.4728,2,    130.2,2,    132.2,2,    31.33,2,    32.30,2,    -0.01,2,     2.30,2,    0.052,2,    0.030,2, -999.000,1,-999.0000,1,  -999.00,9,   -999.0,1,-999.000,9,   -999.0,9,   -999.0,9,  -999.00,9, 6027.3,-999.0000,-999.000,-999.000,  6.4514,-999.000
   318MWESTW_4,  P21E,   143,  1,     13, SI9420,2,19940509,0530,-16.7472,-142.0000, 1942,    698.7,   5.8969,  34.4761,2,  34.4744,2,    134.5,2,    132.1,2,    38.85,2,    33.59,2,    -0.01,2,     2.38,2,    0.017,2,    0.010,2, -999.000,1,-999.0000,1,  -999.00,9,   -999.0,1,-999.000,9,   -999.0,9,   -999.0,9,  -999.00,9, 7004.2,-999.0000,-999.000,-999.000,  5.8355,-999.000
   318MWESTW_4,  P21E,   143,  1,     12, SI9421,2,19940509,0530,-16.7472,-142.0000, 1942,    800.3,   5.2354,  34.4853,2,  34.4846,2,    131.8,2,    129.7,2,    49.38,2,    34.95,2,     0.01,2,     2.47,2,    0.010,2,    0.006,2, -999.000,1,-999.0000,1,  -999.00,9,   -999.0,1,-999.000,9,   -999.0,9,   -999.0,9,  -999.00,9, 8014.0,-999.0000,-999.000,-999.000,  5.1685,-999.000
   318MWESTW_4,  P21E,   143,  1,     11, SI9423,2,19940509,0530,-16.7472,-142.0000, 1942,    903.4,   4.6696,  34.5018,2,  34.5019,2,    124.5,2,    121.9,2,    60.54,2,    36.42,2,     0.00,2,     2.58,2,    0.003,2,    0.001,2, -999.000,1,-999.0000,1,  -999.00,9,   -999.0,1,-999.000,9,   -999.0,9,   -999.0,9,  -999.00,9, 9039.4,-999.0000,-999.000,-999.000,  4.5973,-999.000
   318MWESTW_4,  P21E,   143,  1,     10, SI9425,2,19940509,0530,-16.7472,-142.0000, 1942,   1000.4,   4.1512,  34.5225,2,  34.5229,2,    122.9,2,    120.2,2,    71.86,2,    37.21,2,     0.00,2,     2.64,2,    0.004,2,    0.001,2, -999.000,1,-999.0000,1,  -999.00,9,   -999.0,1,-999.000,9,   -999.0,9,   -999.0,9,  -999.00,9,10003.4,-999.0000,-999.000,-999.000,  4.0743,-999.000
   318MWESTW_4,  P21E,   143,  1,      9, SI9424,2,19940509,0530,-16.7472,-142.0000, 1942,   1101.0,   3.9270,  34.5307,2,  34.5296,2,    121.6,2,    121.7,2,    76.02,2,    37.23,2,     0.01,2,     2.64,2, -999.000,9, -999.000,9, -999.000,1,-999.0000,1,  -999.00,9,   -999.0,1,-999.000,9,   -999.0,9,   -999.0,9,  -999.00,9,11003.6,-999.0000,-999.000,-999.000,  3.8434,-999.000
   318MWESTW_4,  P21E,   143,  1,      8, SI9428,2,19940509,0530,-16.7472,-142.0000, 1942,   1200.6,   3.6854,  34.5424,2,  34.5406,2,    127.9,2,    127.1,2,    80.03,2,    36.95,2,     0.00,2,     2.61,2, -999.000,9, -999.000,9, -999.000,1,-999.0000,1,  -999.00,9,   -999.0,1,-999.000,9,   -999.0,9,   -999.0,9,  -999.00,9,11994.3,-999.0000,-999.000,-999.000,  3.5956,-999.000
   318MWESTW_4,  P21E,   143,  1,      7, SI9429,2,19940509,0530,-16.7472,-142.0000, 1942,   1301.0,   3.2697,  34.5598,2,  34.5580,2,    132.1,2,    131.3,2,    88.33,2,    36.93,2,     0.01,2,     2.62,2, -999.000,9, -999.000,9, -999.000,1,-999.0000,1,  -999.00,9,   -999.0,1,-999.000,9,   -999.0,9,   -999.0,9,  -999.00,9,12991.8,-999.0000,-999.000,-999.000,  3.1755,-999.000
   318MWESTW_4,  P21E,   143,  1,      6, SI9431,2,19940509,0530,-16.7472,-142.0000, 1942,   1398.9,   3.0199,  34.5713,2,  34.5704,2,    138.1,2,    137.4,2,    93.12,2,    36.52,2,     0.00,2,     2.58,2, -999.000,9, -999.000,9, -999.000,1,-999.0000,1,  -999.00,9,   -999.0,1,-999.000,9,   -999.0,9,   -999.0,9,  -999.00,9,13965.0,-999.0000,-999.000,-999.000,  2.9202,-999.000
   318MWESTW_4,  P21E,   143,  1,      5, SI9432,2,19940509,0530,-16.7472,-142.0000, 1942,   1500.3,   2.6815,  34.5904,2,  34.5897,2,    143.8,2,    144.6,2,    99.34,2,    36.01,2,     0.00,2,     2.54,2, -999.000,9, -999.000,9, -999.000,1,-999.0000,1,  -999.00,9,   -999.0,1,-999.000,9,   -999.0,9,   -999.0,9,  -999.00,9,14973.4,-999.0000,-999.000,-999.000,  2.5773,-999.000
   318MWESTW_4,  P21E,   143,  1,      4, SI9433,2,19940509,0530,-16.7472,-142.0000, 1942,   1598.8,   2.5477,  34.5995,2,  34.5999,2,    145.9,2,    146.6,2,   102.23,2,    35.89,2,    -0.01,2,     2.53,2, -999.000,9, -999.000,9, -999.000,1,-999.0000,1,  -999.00,9,   -999.0,1,-999.000,9,   -999.0,9,   -999.0,9,  -999.00,9,15952.6,-999.0000,-999.000,-999.000,  2.4370,-999.000
   318MWESTW_4,  P21E,   143,  1,      3, SI9435,2,19940509,0530,-16.7472,-142.0000, 1942,   1697.8,   2.4066,  34.6113,2,  34.6107,2,    147.1,2,    148.6,2,   105.27,2,    35.75,2,     0.00,2,     2.52,2, -999.000,9, -999.000,9, -999.000,1,-999.0000,1,  -999.00,9,   -999.0,1,-999.000,9,   -999.0,9,   -999.0,9,  -999.00,9,16936.5,-999.0000,-999.000,-999.000,  2.2896,-999.000
   318MWESTW_4,  P21E,   143,  1,      2, SI9401,2,19940509,0530,-16.7472,-142.0000, 1942,   1898.3,   2.2360,  34.6256,2,  34.6236,2,    151.4,2,    151.8,2,   110.06,2,    35.61,2,     0.01,2,     2.50,2, -999.000,9, -999.000,9, -999.000,1,-999.0000,1,  -999.00,9,   -999.0,1,-999.000,9,   -999.0,9,   -999.0,9,  -999.00,9,18929.3,-999.0000,-999.000,-999.000,  2.1046,-999.000
   318MWESTW_4,  P21E,   143,  1,      1, SI9403,2,19940509,0530,-16.7472,-142.0000, 1942,   1971.0,   2.1146,  34.6351,2,  34.6352,2,    150.3,2,    154.6,2,   112.75,2,    35.55,2,     0.00,2,     2.49,2, -999.000,9, -999.000,9, -999.000,1,-999.0000,1,  -999.00,9,   -999.0,1,-999.000,9,   -999.0,9,   -999.0,9,  -999.00,9,19650.8,-999.0000,-999.000,-999.000,  1.9789,-999.000