BOTTLE,20010911WHPSIOdm
EXPOCODE,SECT_ID,STNNBR,CASTNO,SAMPNO,BTLNBR,BTLNBR_FLAG_W,DATE,TIME,LATITUDE,LONGITUDE,DEPTH,CTDPRS,CTDTMP,CTDSAL,CTDSAL_FLAG_W,SALNTY,SALNTY_FLAG_W,CTDOXY,CTDOXY_FLAG_W,OXYGEN,OXYGEN_FLAG_W,SILCAT,SILCAT_FLAG_W,NITRAT,NITRAT_FLAG_W,NITRIT,NITRIT_FLAG_W,PHSPHT,PHSPHT_FLAG_W,CFC-11,CFC-11_FLAG_W,CFC-12,CFC-12_FLAG_W,TRITUM,TRITUM_FLAG_W,HELIUM,HELIUM_FLAG_W,DELHE3,DELHE3_FLAG_W,DELC14,DELC14_FLAG_W,NEON,NEON_FLAG_W,TCARBN,TCARBN_FLAG_W,ALKALI,ALKALI_FLAG_W,PH,PH_FLAG_W,CTDRAW,HELIER,DELHER,NEONER,THETA,TRITER
,,,,,,,,,,,,DBAR,ITS-90,PSS-78,,PSS-78,,UMOL/KG,,UMOL/KG,,UMOL/KG,,UMOL/KG,,UMOL/KG,,UMOL/KG,,PMOL/KG,,PMOL/KG,,TU,,UMOL/KG,,PERCNT,,/MILLE,,NMOL/KG,,UMOL/KG,,UMOL/KG,,,,,NMOL/KG,PERCNT,NMOL/KG,ITS-90,TU
   318MWESTW_5,  P21W,   222,  1,     26, SI9414,2,19940606,2046,-18.5833, 177.2472, 2450,      6.3,  25.8176,  34.6618,2,  34.6791,2,    218.7,2,    209.6,2,     1.03,2,     0.00,2,     0.02,2,     0.11,2, -999.000,9, -999.000,9, -999.000,1,-999.0000,1,  -999.00,9,   -999.0,1,-999.000,9,   1918.2,2,   2277.3,2,     8.12,2,  122.6,-999.0000,-999.000,-999.000, 25.8162,-999.000
   318MWESTW_5,  P21W,   222,  1,     25, SI9425,2,19940606,2046,-18.5833, 177.2472, 2450,     25.7,  25.8275,  34.6632,2,  34.6793,2,    214.6,2,    210.1,2,     1.04,2,     0.05,2,     0.02,2,     0.12,2, -999.000,9, -999.000,9, -999.000,1,-999.0000,1,  -999.00,9,   -999.0,1,-999.000,9,   1919.5,2,   2277.2,2,     8.12,2,  316.2,-999.0000,-999.000,-999.000, 25.8218,-999.000
   318MWESTW_5,  P21W,   222,  1,     24, SI9434,2,19940606,2046,-18.5833, 177.2472, 2450,     52.9,  26.1758,  35.1647,2,  35.1425,2,    210.2,2,    209.2,2,     1.06,2,     0.04,2,     0.03,2,     0.17,2, -999.000,9, -999.000,9, -999.000,1,-999.0000,1,  -999.00,9,   -999.0,1,-999.000,9,   1952.7,2,   2307.7,2,     8.11,2,  586.8,-999.0000,-999.000,-999.000, 26.1639,-999.000
   318MWESTW_5,  P21W,   222,  1,     23, SI9423,2,19940606,2046,-18.5833, 177.2472, 2450,    101.9,  24.0013,  35.7412,2,  35.7392,2,    192.0,2,    182.8,2,     1.06,2,     1.30,2,     0.07,2,     0.33,2, -999.000,9, -999.000,9, -999.000,1,-999.0000,1,  -999.00,9,   -999.0,1,-999.000,9,   2022.8,2,   2346.0,2,     8.04,2, 1075.3,-999.0000,-999.000,-999.000, 23.9798,-999.000
   318MWESTW_5,  P21W,   222,  1,     22, SI9418,2,19940606,2046,-18.5833, 177.2472, 2450,    158.0,  22.5177,  35.7870,2,  35.7813,2,    181.7,2,    175.4,2,     1.23,2,     2.81,2,     0.03,2,     0.39,2, -999.000,9, -999.000,9, -999.000,1,-999.0000,1,  -999.00,9,   -999.0,1,-999.000,9,   2040.1,2,   2345.8,2,     8.01,2, 1634.3,-999.0000,-999.000,-999.000, 22.4858,-999.000
   318MWESTW_5,  P21W,   222,  1,     21, SI9421,2,19940606,2046,-18.5833, 177.2472, 2450,    207.6,  20.7737,  35.7455,2,  35.7436,2,    187.4,2,    186.4,2,     1.24,2,     3.21,2,     0.03,2,     0.37,2, -999.000,9, -999.000,9, -999.000,1,-999.0000,1,  -999.00,9,   -999.0,1,-999.000,9,   2045.8,2,   2343.9,2,     8.00,2, 2127.6,-999.0000,-999.000,-999.000, 20.7341,-999.000
   318MWESTW_5,  P21W,   222,  1,     20, SI9420,2,19940606,2046,-18.5833, 177.2472, 2450,    245.4,  19.5342,  35.6465,2,  35.6705,2,    182.8,2,    178.3,2,     1.55,2,     4.47,2,     0.03,2,     0.47,2, -999.000,9, -999.000,9, -999.000,1,-999.0000,1,  -999.00,9,   -999.0,1,-999.000,9,   2062.6,2,   2337.8,2,     7.97,2, 2503.9,-999.0000,-999.000,-999.000, 19.4894,-999.000
   318MWESTW_5,  P21W,   222,  1,     19, SI9419,2,19940606,2046,-18.5833, 177.2472, 2450,    289.2,  16.5659,  35.3637,2,  35.3811,2,    184.2,2,    178.5,2,     2.91,2,     7.83,2,     0.02,2,     0.70,2, -999.000,9, -999.000,9, -999.000,1,-999.0000,1,  -999.00,9,   -999.0,1,-999.000,9,   2086.6,2,   2321.8,2,     7.90,2, 2939.6,-999.0000,-999.000,-999.000, 16.5188,-999.000
   318MWESTW_5,  P21W,   222,  1,     18, SI9439,2,19940606,2046,-18.5833, 177.2472, 2450,    355.4,  13.0366,  35.0263,2,  35.0218,2,    186.9,2,    181.0,2,     5.18,2,    13.14,2,     0.03,2,     1.05,2, -999.000,9, -999.000,9, -999.000,1,-999.0000,1,  -999.00,9,   -999.0,1,-999.000,9,   2110.8,2,   2307.1,2,     7.82,2, 3598.2,-999.0000,-999.000,-999.000, 12.9873,-999.000
   318MWESTW_5,  P21W,   222,  1,     17, SI9417,2,19940606,2046,-18.5833, 177.2472, 2450,    404.5,  10.7551,  34.7848,2,  34.7913,2,    190.2,2,    192.4,2,     7.44,2,    17.12,2,     0.03,2,     1.30,2, -999.000,9, -999.000,9, -999.000,1,-999.0000,1,  -999.00,9,   -999.0,1,-999.000,9,   2126.9,2,   2296.4,2,     7.76,2, 4087.2,-999.0000,-999.000,-999.000, 10.7056,-999.000
   318MWESTW_5,  P21W,   222,  1,     16, SI9416,2,19940606,2046,-18.5833, 177.2472, 2450,    438.4,   9.8215,  34.6630,2,  34.6855,2,    190.6,2,    191.2,2,     8.65,2,    19.10,2,     0.03,2,     1.43,2, -999.000,9, -999.000,9, -999.000,1,-999.0000,1,  -999.00,9,   -999.0,1,-999.000,9,   2133.5,2,   2292.4,2,     7.74,2, 4423.9,-999.0000,-999.000,-999.000,  9.7708,-999.000
   318MWESTW_5,  P21W,   222,  1,     15, SI9415,2,19940606,2046,-18.5833, 177.2472, 2450,    496.1,   8.2970,  34.5493,2,  34.5468,2,    193.8,2,    190.9,2,    12.11,2,    22.53,2,     0.00,2,     1.63,2, -999.000,9, -999.000,9, -999.000,1,-999.0000,1,  -999.00,9,   -999.0,1,-999.000,9,   2148.3,2,   2289.6,2,     7.70,2, 4998.4,-999.0000,-999.000,-999.000,  8.2451,-999.000
   318MWESTW_5,  P21W,   222,  1,     14, SI9436,2,19940606,2046,-18.5833, 177.2472, 2450,    600.9,   6.7638,  34.4324,2,  34.4339,2,    199.5,2,    197.1,2,    17.37,2,    25.70,2,     0.01,2,     1.83,2, -999.000,9, -999.000,9, -999.000,1,-999.0000,1,  -999.00,9,   -999.0,1,-999.000,9,   2160.4,2,   2289.3,2,     7.67,2, 6039.7,-999.0000,-999.000,-999.000,  6.7075,-999.000
   318MWESTW_5,  P21W,   222,  1,     13, SI9413,2,19940606,2046,-18.5833, 177.2472, 2450,    700.3,   5.6139,  34.4070,2,  34.4065,2,    187.6,2,    188.6,2,    29.98,2,    29.37,2,     0.01,2,     2.06,2, -999.000,9, -999.000,9, -999.000,1,-999.0000,1,  -999.00,9,   -999.0,1,-999.000,9,   2187.9,2,   2299.6,2,     7.63,2, 7028.3,-999.0000,-999.000,-999.000,  5.5539,-999.000
   318MWESTW_5,  P21W,   222,  1,     12, SI9438,2,19940606,2046,-18.5833, 177.2472, 2450,    795.8,   5.0432,  34.4193,2,  34.4192,2,    179.0,2,    177.4,2,    39.58,2,    30.94,2,     0.01,2,     2.18,2, -999.000,9, -999.000,9, -999.000,1,-999.0000,1,  -999.00,9,   -999.0,1,-999.000,9,   2203.2,2,   2309.7,2,     7.61,2, 7978.1,-999.0000,-999.000,-999.000,  4.9779,-999.000
   318MWESTW_5,  P21W,   222,  1,     11, SI9411,2,19940606,2046,-18.5833, 177.2472, 2450,    895.8,   4.5236,  34.4410,2,  34.4402,2,    173.4,2,    170.4,2,    50.24,2,    32.38,2,     0.01,2,     2.27,2, -999.000,9, -999.000,9, -999.000,1,-999.0000,1,  -999.00,9,   -999.0,1,-999.000,9,   2217.8,2,   2319.0,2,     7.59,2, 8972.4,-999.0000,-999.000,-999.000,  4.4530,-999.000
   318MWESTW_5,  P21W,   222,  1,     10, SI9412,2,19940606,2046,-18.5833, 177.2472, 2450,    997.9,   4.0500,  34.4695,2,  34.4677,2,    163.3,2,    171.3,4,    61.04,2,    33.66,2,     0.03,2,     2.37,2, -999.000,9, -999.000,9, -999.000,1,-999.0000,1,  -999.00,9,   -999.0,1,-999.000,9,   2235.0,2,   2330.7,2,     7.57,2, 9987.7,-999.0000,-999.000,-999.000,  3.9742,-999.000
   318MWESTW_5,  P21W,   222,  1,      9, SI9410,2,19940606,2046,-18.5833, 177.2472, 2450,   1102.7,   3.7445,  34.4938,2,  34.4928,2,    160.6,2,    158.5,2,    69.74,2,    34.12,2,     0.03,2,     2.40,2, -999.000,9, -999.000,9, -999.000,1,-999.0000,1,  -999.00,9,   -999.0,1,-999.000,9,   2247.4,2,   2338.4,2,     7.56,2,11029.0,-999.0000,-999.000,-999.000,  3.6624,-999.000
   318MWESTW_5,  P21W,   222,  1,      8, SI9422,2,19940606,2046,-18.5833, 177.2472, 2450,   1203.4,   3.4297,  34.5216,2,  34.5229,2,    155.6,2,    154.7,2,    80.09,2,    34.62,2,     0.02,2,     2.44,2, -999.000,9, -999.000,9, -999.000,1,-999.0000,1,  -999.00,9,   -999.0,1,-999.000,9,   2260.5,2,   2349.9,2,     7.56,2,12030.4,-999.0000,-999.000,-999.000,  3.3421,-999.000
   318MWESTW_5,  P21W,   222,  1,      7, SI9407,2,19940606,2046,-18.5833, 177.2472, 2450,   1398.0,   3.0255,  34.5622,2,  34.5622,2,    150.8,2,    150.2,2,    92.99,2,    35.17,2,     0.01,2,     2.48,2, -999.000,9, -999.000,9, -999.000,1,-999.0000,1,  -999.00,9,   -999.0,1,-999.000,9,   2276.0,2,   2365.8,2,     7.55,2,13964.7,-999.0000,-999.000,-999.000,  2.9258,-999.000
   318MWESTW_5,  P21W,   222,  1,      6, SI9427,2,19940606,2046,-18.5833, 177.2472, 2450,   1606.3,   2.7474,  34.5878,2,  34.5873,2,    151.6,2,    155.6,4,   101.24,2,    35.35,2,     0.02,2,     2.49,2, -999.000,9, -999.000,9, -999.000,1,-999.0000,1,  -999.00,9,   -999.0,1,-999.000,9,   2286.0,2,   2376.1,2,     7.55,2,16035.9,-999.0000,-999.000,-999.000,  2.6337,-999.000
   318MWESTW_5,  P21W,   222,  1,      5, SI9405,2,19940606,2046,-18.5833, 177.2472, 2450,   1793.1,   2.4877,  34.6095,2,  34.6117,2,    150.4,2,    150.6,2,   108.59,2,    35.41,2,     0.01,2,     2.49,2, -999.000,9, -999.000,9, -999.000,1,-999.0000,1,  -999.00,9,   -999.0,1,-999.000,9,   2294.5,2,   2382.7,2,     7.55,2,17893.4,-999.0000,-999.000,-999.000,  2.3617,-999.000
   318MWESTW_5,  P21W,   222,  1,      4, SI9404,2,19940606,2046,-18.5833, 177.2472, 2450,   1996.0,   2.2358,  34.6319,2,  34.6354,2,    150.9,2,    163.8,4,   115.49,2,    35.39,2,     0.03,2,     2.49,2, -999.000,9, -999.000,9, -999.000,1,-999.0000,1,  -999.00,9,   -999.0,1,-999.000,9,   2300.1,2,   2393.6,2,     7.56,2,19910.4,-999.0000,-999.000,-999.000,  2.0961,-999.000
   318MWESTW_5,  P21W,   222,  1,      3, SI9403,2,19940606,2046,-18.5833, 177.2472, 2450,   2199.7,   2.1225,  34.6411,2,  34.6470,2,    152.6,2,    151.5,2,   118.79,2,    35.41,2,     0.02,2,     2.50,2, -999.000,9, -999.000,9, -999.000,1,-999.0000,1,  -999.00,9,   -999.0,1,-999.000,9,   2303.6,2,   2398.9,2,     7.56,2,21935.3,-999.0000,-999.000,-999.000,  1.9670,-999.000
   318MWESTW_5,  P21W,   222,  1,      2, SI9437,2,19940606,2046,-18.5833, 177.2472, 2450,   2368.2,   2.0817,  34.6523,2,  34.6523,2,    152.4,2,    150.9,2,   120.15,2,    35.45,2,     0.03,2,     2.50,2, -999.000,9, -999.000,9, -999.000,1,-999.0000,1,  -999.00,9,   -999.0,1,-999.000,9,   2304.8,2,   2399.6,2,     7.56,2,23610.2,-999.0000,-999.000,-999.000,  1.9119,-999.000
   318MWESTW_5,  P21W,   222,  1,      1, SI9401,2,19940606,2046,-18.5833, 177.2472, 2450,   2409.9,   2.0606,  34.6527,2,  34.6539,2,    153.4,2,    165.2,4,   120.87,2,    35.35,2,     0.02,2,     2.48,2, -999.000,9, -999.000,9, -999.000,1,-999.0000,1,  -999.00,9,   -999.0,1,-999.000,9,   2305.0,2,   2397.6,2,     7.56,2,24024.3,-999.0000,-999.000,-999.000,  1.8874,-999.000