BOTTLE,20010911WHPSIOdm
EXPOCODE,SECT_ID,STNNBR,CASTNO,SAMPNO,BTLNBR,BTLNBR_FLAG_W,DATE,TIME,LATITUDE,LONGITUDE,DEPTH,CTDPRS,CTDTMP,CTDSAL,CTDSAL_FLAG_W,SALNTY,SALNTY_FLAG_W,CTDOXY,CTDOXY_FLAG_W,OXYGEN,OXYGEN_FLAG_W,SILCAT,SILCAT_FLAG_W,NITRAT,NITRAT_FLAG_W,NITRIT,NITRIT_FLAG_W,PHSPHT,PHSPHT_FLAG_W,CFC-11,CFC-11_FLAG_W,CFC-12,CFC-12_FLAG_W,TRITUM,TRITUM_FLAG_W,HELIUM,HELIUM_FLAG_W,DELHE3,DELHE3_FLAG_W,DELC14,DELC14_FLAG_W,NEON,NEON_FLAG_W,TCARBN,TCARBN_FLAG_W,ALKALI,ALKALI_FLAG_W,PH,PH_FLAG_W,CTDRAW,HELIER,DELHER,NEONER,THETA,TRITER
,,,,,,,,,,,,DBAR,ITS-90,PSS-78,,PSS-78,,UMOL/KG,,UMOL/KG,,UMOL/KG,,UMOL/KG,,UMOL/KG,,UMOL/KG,,PMOL/KG,,PMOL/KG,,TU,,UMOL/KG,,PERCNT,,/MILLE,,NMOL/KG,,UMOL/KG,,UMOL/KG,,,,,NMOL/KG,PERCNT,NMOL/KG,ITS-90,TU
   318MWESTW_4,  P21E,   156,  1,     17, SI9415,2,19940512,0820,-17.5000,-149.3362,  969,      5.9,  28.6283,  35.3969,2,  35.5239,4,    193.2,2,    208.0,2,     1.94,2,     0.00,2,     0.00,2,     0.18,2,    1.588,2,    0.915,2, -999.000,1,-999.0000,1,  -999.00,9,   -999.0,1,-999.000,9,   -999.0,9,   -999.0,9,  -999.00,9,  106.6,-999.0000,-999.000,-999.000, 28.6269,-999.000
   318MWESTW_4,  P21E,   156,  1,     16, SI9416,2,19940512,0820,-17.5000,-149.3362,  969,      6.4,  28.7204,  35.5544,2,  35.6384,4,    192.7,2,    209.2,2,     1.69,2,     0.02,2,     0.01,2,     0.19,2,    1.594,2,    0.929,2, -999.000,1,-999.0000,1,  -999.00,9,   -999.0,1,-999.000,9,   -999.0,9,   -999.0,9,  -999.00,9,  111.7,-999.0000,-999.000,-999.000, 28.7189,-999.000
   318MWESTW_4,  P21E,   156,  1,     15, SI9417,2,19940512,0820,-17.5000,-149.3362,  969,     23.0,  28.8867,  35.8261,2,  35.8273,2,    199.2,2,    208.0,2,     1.13,2,     0.00,2,     0.00,2,     0.18,2,    1.569,2,    0.905,2, -999.000,1,-999.0000,1,  -999.00,9,   -999.0,1,-999.000,9,   -999.0,9,   -999.0,9,  -999.00,9,  277.9,-999.0000,-999.000,-999.000, 28.8811,-999.000
   318MWESTW_4,  P21E,   156,  1,     14, SI9419,2,19940512,0820,-17.5000,-149.3362,  969,     47.5,  29.0353,  35.9657,2,  35.9556,2,    203.3,2,    207.7,2,     1.04,2,     0.03,2,     0.00,2,     0.18,2,    1.563,2,    0.908,2, -999.000,1,-999.0000,1,  -999.00,9,   -999.0,1,-999.000,9,   -999.0,9,   -999.0,9,  -999.00,9,  522.4,-999.0000,-999.000,-999.000, 29.0238,-999.000
   318MWESTW_4,  P21E,   156,  1,     13, SI9420,2,19940512,0820,-17.5000,-149.3362,  969,     98.1,  26.3065,  36.2340,2,  36.2305,2,    205.0,2,    217.1,2,     0.78,2,     0.02,2,     0.01,2,     0.21,2,    1.797,2,    0.999,2, -999.000,1,-999.0000,1,  -999.00,9,   -999.0,1,-999.000,9,   -999.0,9,   -999.0,9,  -999.00,9, 1027.0,-999.0000,-999.000,-999.000, 26.2843,-999.000
   318MWESTW_4,  P21E,   156,  1,     12, SI9421,2,19940512,0820,-17.5000,-149.3362,  969,    148.8,  23.7117,  36.1555,2,  36.1430,2,    191.0,2,    191.6,2,     0.83,2,     0.61,2,     0.19,2,     0.32,2,    1.862,2,    1.026,2, -999.000,1,-999.0000,1,  -999.00,9,   -999.0,1,-999.000,9,   -999.0,9,   -999.0,9,  -999.00,9, 1531.9,-999.0000,-999.000,-999.000, 23.6805,-999.000
   318MWESTW_4,  P21E,   156,  1,     11, SI9423,2,19940512,0820,-17.5000,-149.3362,  969,    198.5,  22.5552,  36.0866,2,  36.0888,2,    183.8,2,   -999.0,9,     0.88,2,     1.92,2,     0.04,2,     0.42,2,    1.892,2,    1.039,2, -999.000,1,-999.0000,1,  -999.00,9,   -999.0,1,-999.000,9,   -999.0,9,   -999.0,9,  -999.00,9, 2027.4,-999.0000,-999.000,-999.000, 22.5150,-999.000
   318MWESTW_4,  P21E,   156,  1,     10, SI9425,2,19940512,0820,-17.5000,-149.3362,  969,    250.6,  19.9564,  35.7532,2,  35.7485,2,    176.6,2,    177.3,2,     1.39,2,     3.78,2,     0.00,2,     0.51,2,    1.867,2,    0.991,2, -999.000,1,-999.0000,1,  -999.00,9,   -999.0,1,-999.000,9,   -999.0,9,   -999.0,9,  -999.00,9, 2545.9,-999.0000,-999.000,-999.000, 19.9099,-999.000
   318MWESTW_4,  P21E,   156,  1,      9, SI9424,2,19940512,0820,-17.5000,-149.3362,  969,    302.5,  16.7739,  35.3348,2,  35.3311,2,    170.1,2,    169.2,2,     3.26,2,     7.74,2,     0.00,2,     0.78,2,    1.614,2,    0.856,2, -999.000,1,-999.0000,1,  -999.00,9,   -999.0,1,-999.000,9,   -999.0,9,   -999.0,9,  -999.00,9, 3062.3,-999.0000,-999.000,-999.000, 16.7242,-999.000
   318MWESTW_4,  P21E,   156,  1,      8, SI9428,2,19940512,0820,-17.5000,-149.3362,  969,    396.8,  11.7075,  34.7631,2,  34.7689,2,    163.2,2,    158.7,2,     9.25,2,    16.81,2,    -0.01,2,     1.36,2,    0.981,2,    0.492,2, -999.000,1,-999.0000,1,  -999.00,9,   -999.0,1,-999.000,9,   -999.0,9,   -999.0,9,  -999.00,9, 3999.7,-999.0000,-999.000,-999.000, 11.6563,-999.000
   318MWESTW_4,  P21E,   156,  1,      7, SI9429,2,19940512,0820,-17.5000,-149.3362,  969,    496.5,   9.2722,  34.5651,2,  34.5588,2,    150.9,2,    147.2,2,    13.72,2,    23.83,2,     0.00,2,     1.79,2,    0.532,2,    0.267,2, -999.000,1,-999.0000,1,  -999.00,9,   -999.0,1,-999.000,9,   -999.0,9,   -999.0,9,  -999.00,9, 4991.1,-999.0000,-999.000,-999.000,  9.2166,-999.000
   318MWESTW_4,  P21E,   156,  1,      6, SI9431,2,19940512,0820,-17.5000,-149.3362,  969,    599.9,   6.8986,  34.4460,2,  34.4467,2,    145.9,2,    146.6,2,    24.04,2,    29.88,2,     0.00,2,     2.11,2,    0.172,2,    0.091,2, -999.000,1,-999.0000,1,  -999.00,9,   -999.0,1,-999.000,9,   -999.0,9,   -999.0,9,  -999.00,9, 6018.7,-999.0000,-999.000,-999.000,  6.8417,-999.000
   318MWESTW_4,  P21E,   156,  1,      5, SI9432,2,19940512,0820,-17.5000,-149.3362,  969,    696.3,   5.3738,  34.4612,2,  34.4591,2,    142.1,2,    141.7,2,    43.30,2,    33.46,2,    -0.01,2,     2.33,2,    0.025,2,    0.009,2, -999.000,1,-999.0000,1,  -999.00,9,   -999.0,1,-999.000,9,   -999.0,9,   -999.0,9,  -999.00,9, 6976.6,-999.0000,-999.000,-999.000,  5.3154,-999.000
   318MWESTW_4,  P21E,   156,  1,      4, SI9433,2,19940512,0820,-17.5000,-149.3362,  969,    797.1,   4.6877,  34.4778,2,  34.4779,2,    141.3,2,    142.6,2,    54.90,2,    34.26,2,     0.00,2,     2.39,2,    0.011,2,    0.003,2, -999.000,1,-999.0000,1,  -999.00,9,   -999.0,1,-999.000,9,   -999.0,9,   -999.0,9,  -999.00,9, 7977.7,-999.0000,-999.000,-999.000,  4.6244,-999.000
   318MWESTW_4,  P21E,   156,  1,      3, SI9435,2,19940512,0820,-17.5000,-149.3362,  969,    868.5,   4.3375,  34.4885,2,  34.4911,2,    142.3,2,    142.9,2,    61.49,2,    34.61,2,    -0.02,2,     2.41,2,    0.001,2,    0.001,2, -999.000,1,-999.0000,1,  -999.00,9,   -999.0,1,-999.000,9,   -999.0,9,   -999.0,9,  -999.00,9, 8685.9,-999.0000,-999.000,-999.000,  4.2704,-999.000
   318MWESTW_4,  P21E,   156,  1,      2, SI9401,2,19940512,0820,-17.5000,-149.3362,  969,    938.7,   3.8416,  34.5154,2,  34.5139,2,    141.9,2,    142.6,2,    71.73,2,    35.15,2,     0.00,2,     2.45,2,    0.002,2,   -0.003,2, -999.000,1,-999.0000,1,  -999.00,9,   -999.0,1,-999.000,9,   -999.0,9,   -999.0,9,  -999.00,9, 9383.1,-999.0000,-999.000,-999.000,  3.7721,-999.000
   318MWESTW_4,  P21E,   156,  1,      1, SI9403,2,19940512,0820,-17.5000,-149.3362,  969,    939.5,   3.8491,  34.5155,2,  34.5131,2,    141.9,2,    143.1,2,    71.60,2,    35.15,2,     0.00,2,     2.45,2,   -0.002,2,   -0.005,2, -999.000,1,-999.0000,1,  -999.00,9,   -999.0,1,-999.000,9,   -999.0,9,   -999.0,9,  -999.00,9, 9390.1,-999.0000,-999.000,-999.000,  3.7795,-999.000
   318MWESTW_4,  P21E,   157,  1,     24, SI9404,2,19940512,1108,-17.5000,-149.1667, 2661,      8.2,  28.8315,  35.7597,2,  35.7693,2,    207.8,2,    202.1,2,     1.07,2,     0.00,2,     0.01,2,     0.18,2, -999.000,9, -999.000,9, -999.000,1,-999.0000,1,  -999.00,9,   -999.0,1,-999.000,9,   1972.7,2,   2344.0,2,     8.22,2,  131.5,-999.0000,-999.000,-999.000, 28.8295,-999.000
   318MWESTW_4,  P21E,   157,  1,     23, SI9405,2,19940512,1108,-17.5000,-149.1667, 2661,     23.5,  28.8997,  35.8942,2,  35.8959,2,    203.2,2,    201.7,2,     0.76,2,     0.01,2,     0.00,2,     0.17,2, -999.000,9, -999.000,9, -999.000,1,-999.0000,1,  -999.00,9,   -999.0,1,-999.000,9,   1977.7,2,   2355.0,2,     8.22,2,  284.5,-999.0000,-999.000,-999.000, 28.8940,-999.000
   318MWESTW_4,  P21E,   157,  1,     22, SI9407,2,19940512,1108,-17.5000,-149.1667, 2661,     48.3,  28.8394,  35.9163,2,  35.9182,2,    206.2,2,    200.6,2,     0.76,2,     0.01,2,     0.00,2,     0.17,2, -999.000,9, -999.000,9, -999.000,1,-999.0000,1,  -999.00,9,   -999.0,1,-999.000,9,   1978.7,2,   2354.0,2,     8.23,2,  532.1,-999.0000,-999.000,-999.000, 28.8277,-999.000
   318MWESTW_4,  P21E,   157,  1,     21, SI9422,3,19940512,1108,-17.5000,-149.1667, 2661,     97.7,  25.6798,  36.2692,2,  36.2778,2,    207.8,2,    208.0,2,     0.62,2,     0.01,2,     0.00,2,     0.23,2, -999.000,9, -999.000,9, -999.000,1,-999.0000,1,  -999.00,9,   -999.0,1,-999.000,9,   -999.0,9,   -999.0,9,  -999.00,9, 1024.3,-999.0000,-999.000,-999.000, 25.6581,-999.000
   318MWESTW_4,  P21E,   157,  1,     20, SI9410,2,19940512,1108,-17.5000,-149.1667, 2661,    147.7,  23.6073,  36.1576,2,  36.1543,2,    190.4,2,    186.5,2,     0.62,2,     0.65,2,     0.14,2,     0.33,2, -999.000,9, -999.000,9, -999.000,1,-999.0000,1,  -999.00,9,   -999.0,1,-999.000,9,   2053.8,2,   2379.0,2,     8.13,2, 1522.7,-999.0000,-999.000,-999.000, 23.5764,-999.000
   318MWESTW_4,  P21E,   157,  1,     19, SI9411,2,19940512,1108,-17.5000,-149.1667, 2661,    199.2,  22.0367,  36.0118,2,  36.0113,2,    181.3,2,    179.9,2,     0.78,2,     2.26,2,     0.03,2,     0.44,2, -999.000,9, -999.000,9, -999.000,1,-999.0000,1,  -999.00,9,   -999.0,1,-999.000,9,   2066.8,2,   2365.0,2,     8.09,2, 2035.2,-999.0000,-999.000,-999.000, 21.9970,-999.000
   318MWESTW_4,  P21E,   157,  1,     18, SI9413,2,19940512,1108,-17.5000,-149.1667, 2661,    248.8,  19.6136,  35.7265,2,  35.7268,2,    174.2,2,    174.1,2,     1.11,2,     4.55,2,     0.00,2,     0.60,2, -999.000,9, -999.000,9, -999.000,1,-999.0000,1,  -999.00,9,   -999.0,1,-999.000,9,   2086.8,2,   2344.0,2,     8.03,2, 2530.0,-999.0000,-999.000,-999.000, 19.5680,-999.000
   318MWESTW_4,  P21E,   157,  1,     17, SI9415,2,19940512,1108,-17.5000,-149.1667, 2661,    303.9,  16.5005,  35.3012,2,  35.2903,2,    169.5,2,    166.6,2,     3.04,2,     8.39,2,     0.00,2,     0.85,2, -999.000,9, -999.000,9, -999.000,1,-999.0000,1,  -999.00,9,   -999.0,1,-999.000,9,   2102.8,2,   2319.0,2,     7.96,2, 3078.6,-999.0000,-999.000,-999.000, 16.4511,-999.000
   318MWESTW_4,  P21E,   157,  1,     16, SI9416,2,19940512,1108,-17.5000,-149.1667, 2661,    400.7,  11.5170,  34.7457,2,  34.7406,2,    150.6,2,    152.5,2,     8.51,2,    17.91,2,     0.00,2,     1.45,2, -999.000,9, -999.000,9, -999.000,1,-999.0000,1,  -999.00,9,   -999.0,1,-999.000,9,   2144.8,2,   2288.0,2,     7.82,2, 4041.7,-999.0000,-999.000,-999.000, 11.4658,-999.000
   318MWESTW_4,  P21E,   157,  1,     15, SI9417,2,19940512,1108,-17.5000,-149.1667, 2661,    497.4,   7.8709,  34.4646,2,  34.4628,2,    142.1,2,    142.8,2,    17.20,2,    27.73,2,     0.01,2,     2.03,2, -999.000,9, -999.000,9, -999.000,1,-999.0000,1,  -999.00,9,   -999.0,1,-999.000,9,   2187.9,2,   2284.0,2,     7.68,2, 5003.3,-999.0000,-999.000,-999.000,  7.8205,-999.000
   318MWESTW_4,  P21E,   157,  1,     14, SI9419,2,19940512,1108,-17.5000,-149.1667, 2661,    600.1,   6.3908,  34.4515,2,  34.4495,2,    142.7,2,    143.6,2,    29.89,2,    31.28,2,     0.01,2,     2.22,2, -999.000,9, -999.000,9, -999.000,1,-999.0000,1,  -999.00,9,   -999.0,1,-999.000,9,   2208.9,2,   2293.0,2,     7.66,2, 6024.5,-999.0000,-999.000,-999.000,  6.3362,-999.000
   318MWESTW_4,  P21E,   157,  1,     13, SI9420,2,19940512,1108,-17.5000,-149.1667, 2661,    702.1,   5.4099,  34.4455,2,  34.4422,2,    145.3,2,    145.9,3,    40.50,2,    33.11,2,     0.00,2,     2.34,2, -999.000,9, -999.000,9, -999.000,1,-999.0000,1,  -999.00,9,   -999.0,1,-999.000,9,   2222.9,2,   2307.0,2,     7.65,2, 7039.0,-999.0000,-999.000,-999.000,  5.3508,-999.000
   318MWESTW_4,  P21E,   157,  1,     12, SI9421,2,19940512,1108,-17.5000,-149.1667, 2661,    799.2,   4.8754,  34.4680,2,  34.4687,2,    141.7,2,    141.6,2,    51.43,2,    34.10,2,     0.00,2,     2.40,2, -999.000,9, -999.000,9, -999.000,1,-999.0000,1,  -999.00,9,   -999.0,1,-999.000,9,   2237.9,2,   2315.0,2,     7.64,2, 8004.0,-999.0000,-999.000,-999.000,  4.8108,-999.000
   318MWESTW_4,  P21E,   157,  1,     11, SI9423,2,19940512,1108,-17.5000,-149.1667, 2661,    902.7,   4.4098,  34.4851,2,  34.4842,2,    142.7,2,    141.9,2,    59.94,2,    34.63,2,     0.01,2,     2.43,2, -999.000,9, -999.000,9, -999.000,1,-999.0000,1,  -999.00,9,   -999.0,1,-999.000,9,   2247.9,2,   2327.0,2,     7.63,2, 9033.6,-999.0000,-999.000,-999.000,  4.3393,-999.000
   318MWESTW_4,  P21E,   157,  1,     10, SI9425,2,19940512,1108,-17.5000,-149.1667, 2661,   1004.4,   4.0076,  34.5051,2,  34.5048,2,    141.0,2,    142.4,2,    68.47,2,    35.04,2,     0.01,2,     2.46,2, -999.000,9, -999.000,9, -999.000,1,-999.0000,1,  -999.00,9,   -999.0,1,-999.000,9,   2257.9,2,   2333.0,2,     7.63,2,10044.3,-999.0000,-999.000,-999.000,  3.9315,-999.000
   318MWESTW_4,  P21E,   157,  1,      9, SI9424,2,19940512,1108,-17.5000,-149.1667, 2661,   1203.0,   3.3354,  34.5427,2,  34.5425,2,    141.8,2,    142.7,2,    83.57,2,    35.57,2,     0.00,2,     2.50,2, -999.000,9, -999.000,9, -999.000,1,-999.0000,1,  -999.00,9,   -999.0,1,-999.000,9,   2273.0,2,   2354.0,2,     7.63,2,12018.8,-999.0000,-999.000,-999.000,  3.2486,-999.000
   318MWESTW_4,  P21E,   157,  1,      8, SI9428,2,19940512,1108,-17.5000,-149.1667, 2661,   1405.7,   2.9424,  34.5684,2,  34.5694,2,    144.9,2,    145.0,2,    93.05,2,    35.61,2,     0.00,2,     2.51,2, -999.000,9, -999.000,9, -999.000,1,-999.0000,1,  -999.00,9,   -999.0,1,-999.000,9,   2283.0,2,   2360.0,2,     7.63,2,14033.7,-999.0000,-999.000,-999.000,  2.8430,-999.000
   318MWESTW_4,  P21E,   157,  1,      7, SI9429,2,19940512,1108,-17.5000,-149.1667, 2661,   1600.1,   2.6251,  34.5933,2,  34.5934,2,    146.3,2,    146.9,2,   101.40,2,    35.60,2,     0.01,2,     2.51,2, -999.000,9, -999.000,9, -999.000,1,-999.0000,1,  -999.00,9,   -999.0,1,-999.000,9,   2291.0,2,   2372.0,2,     7.64,2,15966.2,-999.0000,-999.000,-999.000,  2.5134,-999.000
   318MWESTW_4,  P21E,   157,  1,      6, SI9431,2,19940512,1108,-17.5000,-149.1667, 2661,   1800.4,   2.3396,  34.6160,2,  34.6158,2,    148.9,2,    149.1,2,   108.79,2,    35.52,2,     0.00,2,     2.49,2, -999.000,9, -999.000,9, -999.000,1,-999.0000,1,  -999.00,9,   -999.0,1,-999.000,9,   2299.0,2,   2377.0,2,     7.64,2,17958.2,-999.0000,-999.000,-999.000,  2.2150,-999.000
   318MWESTW_4,  P21E,   157,  1,      5, SI9432,2,19940512,1108,-17.5000,-149.1667, 2661,   2000.9,   2.1969,  34.6288,2,  34.6280,2,    150.2,2,    150.9,2,   112.50,2,    35.48,2,     0.00,2,     2.48,2, -999.000,9, -999.000,9, -999.000,1,-999.0000,1,  -999.00,9,   -999.0,1,-999.000,9,   2301.0,2,   2385.0,2,     7.64,2,19951.5,-999.0000,-999.000,-999.000,  2.0574,-999.000
   318MWESTW_4,  P21E,   157,  1,      4, SI9433,2,19940512,1108,-17.5000,-149.1667, 2661,   2197.2,   2.0345,  34.6427,2,  34.6427,2,    153.7,2,    153.5,2,   116.51,2,    35.32,2,     0.00,2,     2.49,2, -999.000,9, -999.000,9, -999.000,1,-999.0000,1,  -999.00,9,   -999.0,1,-999.000,9,   2304.0,2,   2385.0,2,     7.65,2,21902.6,-999.0000,-999.000,-999.000,  1.8806,-999.000
   318MWESTW_4,  P21E,   157,  1,      3, SI9435,2,19940512,1108,-17.5000,-149.1667, 2661,   2398.3,   1.9065,  34.6532,2,  34.6547,2,    155.9,2,    156.5,2,   118.93,2,    35.14,2,     0.00,2,     2.46,2, -999.000,9, -999.000,9, -999.000,1,-999.0000,1,  -999.00,9,   -999.0,1,-999.000,9,   2305.0,2,   2391.0,2,     7.65,2,23901.7,-999.0000,-999.000,-999.000,  1.7371,-999.000
   318MWESTW_4,  P21E,   157,  1,      2, SI9401,2,19940512,1108,-17.5000,-149.1667, 2661,   2600.0,   1.8432,  34.6592,2,  34.6592,2,    157.8,2,    158.1,2,   120.69,2,    35.07,2,    -0.01,2,     2.45,2, -999.000,9, -999.000,9, -999.000,1,-999.0000,1,  -999.00,9,   -999.0,1,-999.000,9,   2304.0,2,   2390.0,2,     7.65,2,25907.0,-999.0000,-999.000,-999.000,  1.6567,-999.000
   318MWESTW_4,  P21E,   157,  1,      1, SI9403,2,19940512,1108,-17.5000,-149.1667, 2661,   2691.7,   1.8111,  34.6624,2,  34.6618,2,    157.7,2,    159.4,2,   121.57,2,    34.99,2,     0.00,2,     2.43,2, -999.000,9, -999.000,9, -999.000,1,-999.0000,1,  -999.00,9,   -999.0,1,-999.000,9,   2303.0,2,   2390.0,2,     7.65,2,26818.0,-999.0000,-999.000,-999.000,  1.6168,-999.000