BOTTLE,20010911WHPSIOdm
EXPOCODE,SECT_ID,STNNBR,CASTNO,SAMPNO,BTLNBR,BTLNBR_FLAG_W,DATE,TIME,LATITUDE,LONGITUDE,DEPTH,CTDPRS,CTDTMP,CTDSAL,CTDSAL_FLAG_W,SALNTY,SALNTY_FLAG_W,CTDOXY,CTDOXY_FLAG_W,OXYGEN,OXYGEN_FLAG_W,SILCAT,SILCAT_FLAG_W,NITRAT,NITRAT_FLAG_W,NITRIT,NITRIT_FLAG_W,PHSPHT,PHSPHT_FLAG_W,CFC-11,CFC-11_FLAG_W,CFC-12,CFC-12_FLAG_W,TRITUM,TRITUM_FLAG_W,HELIUM,HELIUM_FLAG_W,DELHE3,DELHE3_FLAG_W,DELC14,DELC14_FLAG_W,NEON,NEON_FLAG_W,TCARBN,TCARBN_FLAG_W,ALKALI,ALKALI_FLAG_W,PH,PH_FLAG_W,CTDRAW,HELIER,DELHER,NEONER,THETA,TRITER
,,,,,,,,,,,,DBAR,ITS-90,PSS-78,,PSS-78,,UMOL/KG,,UMOL/KG,,UMOL/KG,,UMOL/KG,,UMOL/KG,,UMOL/KG,,PMOL/KG,,PMOL/KG,,TU,,UMOL/KG,,PERCNT,,/MILLE,,NMOL/KG,,UMOL/KG,,UMOL/KG,,,,,NMOL/KG,PERCNT,NMOL/KG,ITS-90,TU
   318MWESTW_5,  P21W,   209,  1,     36, SI9442,2,19940603,1002,-17.5000,-176.3375, 1950,      9.7,  26.3864,  35.4287,2,  35.4383,2,    213.0,2,    212.8,2,     0.67,2,     0.00,2,     0.00,2,     0.16,2,    1.675,2,    0.964,2,    0.912,2,   1.7130,2,    -1.31,2,   -999.0,1,   6.681,2,   1956.4,2,   2328.7,2,     8.13,2,  153.8,  0.0086,   0.080,   0.033, 26.3842,   0.008
   318MWESTW_5,  P21W,   209,  1,     35, SI9435,2,19940603,1002,-17.5000,-176.3375, 1950,     20.1,  26.3860,  35.4287,2,  35.4277,2,    211.5,2,    215.1,2,     0.69,2,     0.00,2,     0.00,2,     0.15,2,    1.701,2,    0.984,2, -999.000,1,-999.0000,1,  -999.00,9,   -999.0,1,-999.000,9,   1957.0,2,   2336.3,2,     8.13,2,  259.0,-999.0000,-999.000,-999.000, 26.3815,-999.000
   318MWESTW_5,  P21W,   209,  1,     34, SI9441,2,19940603,1002,-17.5000,-176.3375, 1950,     44.1,  26.3572,  35.4300,2,  35.4302,2,    211.7,2,    214.6,2,     0.71,2,     0.00,2,     0.00,2,     0.15,2,    1.695,2,    0.969,2,    0.889,2,   1.7279,2,    -1.15,2,   -999.0,1,   6.685,2,   1957.3,2,   2337.4,2,     8.13,2,  498.0,  0.0086,   0.080,   0.033, 26.3473,   0.007
   318MWESTW_5,  P21W,   209,  1,     33, SI9433,2,19940603,1002,-17.5000,-176.3375, 1950,     96.2,  25.0720,  35.8246,2,  35.8119,3,    205.7,2,    211.0,2,     0.72,2,     0.00,2,     0.00,2,     0.21,2,    1.811,6,    1.029,6,    0.819,2,   1.7586,2,    -0.93,2,   -999.0,1,   6.876,2,   2005.9,2,   2366.8,2,     8.08,2, 1017.8,  0.0088,   0.080,   0.034, 25.0510,   0.007
   318MWESTW_5,  P21W,   209,  1,     32, SI9432,2,19940603,1002,-17.5000,-176.3375, 1950,    146.4,  22.4656,  35.7777,2,  35.7770,2,    193.4,2,    195.2,2,     0.59,2,     1.04,2,     0.02,2,     0.25,2,    1.948,2,    1.104,2,    0.835,2,   1.7295,2,     0.20,2,   -999.0,1,   6.983,2,   2027.3,2,   2357.5,2,     8.04,2, 1517.1,  0.0086,   0.080,   0.035, 22.4361,   0.007
   318MWESTW_5,  P21W,   209,  1,     31, SI9431,2,19940603,1002,-17.5000,-176.3375, 1950,    198.4,  20.9396,  35.7626,2,  35.7622,2,    188.1,2,    182.7,2,     0.76,2,     2.65,2,     0.01,2,     0.35,2,    1.933,2,    1.061,2,    0.781,2,   1.7570,2,    -0.65,2,   -999.0,1,   7.089,2,   2050.0,2,   2364.9,2,     8.00,2, 2035.5,  0.0088,   0.080,   0.035, 20.9015,   0.007
   318MWESTW_5,  P21W,   209,  1,     30, SI9440,2,19940603,1002,-17.5000,-176.3375, 1950,    248.1,  19.3717,  35.6583,2,  35.6555,2,    184.3,2,    182.9,2,     0.93,2,     3.57,2,     0.00,2,     0.41,2,    1.895,2,    1.043,2,    0.729,2,   1.7573,2,    -0.02,2,   -999.0,1,   7.129,2,   2061.4,2,   2354.1,2,     7.97,2, 2530.2,  0.0088,   0.080,   0.036, 19.3266,   0.007
   318MWESTW_5,  P21W,   209,  1,     29, SI9429,2,19940603,1002,-17.5000,-176.3375, 1950,    299.6,  17.7428,  35.5196,2,  35.5168,2,    186.5,2,    184.5,2,     1.41,2,     4.91,2,     0.01,2,     0.51,2,    1.899,2,    1.015,2,    0.679,2,   1.7602,2,     0.68,2,   -999.0,1,   7.190,2,   2071.6,2,   2341.7,2,     7.94,2, 3042.4,  0.0088,   0.080,   0.036, 17.6916,   0.007
   318MWESTW_5,  P21W,   209,  1,     28, SI9428,2,19940603,1002,-17.5000,-176.3375, 1950,    341.6,  14.9395,  35.2339,2,  35.2308,2,    185.7,2,    184.5,2,     2.80,2,     8.75,2,     0.01,2,     0.77,2,    1.665,2,    0.884,2, -999.000,1,-999.0000,1,  -999.00,9,   -999.0,1,-999.000,9,   2092.9,2,   2340.2,2,     7.87,2, 3460.4,-999.0000,-999.000,-999.000, 14.8876,-999.000
   318MWESTW_5,  P21W,   209,  1,     27, SI9424,2,19940603,1002,-17.5000,-176.3375, 1950,    395.3,  12.2015,  34.9316,2,  34.9276,2,    190.5,2,    187.0,2,     4.51,2,    13.47,2,     0.01,2,     1.08,2,    1.314,2,    0.688,2,    0.392,2,   1.7913,2,     1.15,2,   -999.0,1,   7.526,2,   2112.6,2,   2301.5,2,     7.80,2, 3995.2,  0.0090,   0.080,   0.038, 12.1490,   0.006
   318MWESTW_5,  P21W,   209,  1,     16, SI9416,2,19940603,1002,-17.5000,-176.3375, 1950,    496.9,   8.9629,  34.5975,2,  34.5954,2,    201.7,2,    199.1,2,     7.29,2,    19.52,2,     0.00,2,     1.45,2,    0.950,2,    0.502,2,    0.234,2,   1.8067,2,     1.29,2,   -999.0,1,   7.711,2,   2134.9,2,   2284.6,2,     7.73,2, 5005.6,  0.0090,   0.080,   0.039,  8.9084,   0.005
   318MWESTW_5,  P21W,   209,  1,     15, SI9415,2,19940603,1002,-17.5000,-176.3375, 1950,    595.3,   6.8269,  34.4014,2,  34.3994,2,    204.2,2,    207.2,2,    12.54,2,    24.62,2,     0.00,2,     1.75,2,    0.497,2,    0.268,2,    0.113,2,   1.8024,2,     1.44,2,   -999.0,1,   7.779,2,   2153.8,2,   2284.3,2,     7.68,2, 5983.7,  0.0090,   0.080,   0.039,  6.7709,   0.004
   318MWESTW_5,  P21W,   209,  1,     14, SI9436,2,19940603,1002,-17.5000,-176.3375, 1950,    701.6,   6.0068,  34.3628,2,  34.3617,2,    201.0,2,    202.4,2,    17.78,2,    27.11,2,     0.00,2,     1.91,2,    0.257,2,    0.149,2,    0.063,2,   1.7953,2,     2.07,2,   -999.0,1,   7.806,2,   2165.4,2,   2286.7,2,     7.65,2, 7041.4,  0.0090,   0.080,   0.039,  5.9446,   0.004
   318MWESTW_5,  P21W,   209,  1,     13, SI9413,2,19940603,1002,-17.5000,-176.3375, 1950,    800.2,   5.2958,  34.3600,2,  34.3586,2,    190.9,2,    190.3,2,    26.88,2,    29.80,2,     0.00,2,     2.08,2,    0.104,2,    0.067,2,    0.028,2,   1.8077,2,     3.88,2,   -999.0,1,   7.821,2,   2184.3,2,   2306.0,2,     7.62,2, 8021.2,  0.0090,   0.090,   0.039,  5.2287,   0.004
   318MWESTW_5,  P21W,   209,  1,     12, SI9438,2,19940603,1002,-17.5000,-176.3375, 1950,    905.4,   4.7780,  34.3846,2,  34.3833,2,    178.2,2,    176.6,2,    37.35,2,    31.72,2,     0.00,2,     2.22,2,    0.045,2,    0.027,2, -999.000,1,-999.0000,1,  -999.00,9,   -999.0,1,-999.000,9,   -999.0,9,   -999.0,9,  -999.00,9, 9067.3,-999.0000,-999.000,-999.000,  4.7049,-999.000
   318MWESTW_5,  P21W,   209,  1,     11, SI9411,2,19940603,1002,-17.5000,-176.3375, 1950,    997.9,   4.3750,  34.4250,2,  34.4243,2,    168.7,2,    167.6,2,    49.12,2,    33.18,2,     0.00,2,     2.32,2,    0.016,2,    0.010,2,   -0.004,2,   1.8514,2,    10.18,2,   -999.0,1,   7.915,2,   2222.3,2,   2315.3,2,     7.57,2, 9986.8,  0.0093,   0.090,   0.040,  4.2968,   0.004
   318MWESTW_5,  P21W,   209,  1,     10, SI9412,2,19940603,1002,-17.5000,-176.3375, 1950,   1097.6,   3.8357,  34.4790,2,  34.4781,2,    155.8,2,    156.0,2,    65.19,2,    34.46,2,     0.00,2,     2.40,2,    0.004,2,    0.003,2, -999.000,1,-999.0000,1,  -999.00,9,   -999.0,1,-999.000,9,   2245.3,2,   2335.9,2,     7.56,2,10978.3,-999.0000,-999.000,-999.000,  3.7533,-999.000
   318MWESTW_5,  P21W,   209,  1,      9, SI9410,2,19940603,1002,-17.5000,-176.3375, 1950,   1202.6,   3.4951,  34.5045,2,  34.5038,2,    156.1,2,    155.3,2,    74.28,2,    34.63,2,     0.01,2,     2.41,2,    0.002,2,    0.003,2,   -0.001,2,   1.8628,2,    19.43,2,   -999.0,1,   8.033,2,   2254.3,2,   2350.7,2,     7.56,2,12021.7,  0.0093,   0.100,   0.040,  3.4069,   0.004
   318MWESTW_5,  P21W,   209,  1,      8, SI9422,2,19940603,1002,-17.5000,-176.3375, 1950,   1297.1,   3.2251,  34.5241,2,  34.5239,2,    156.9,2,    155.9,2,    80.91,2,    34.68,2,     0.01,2,     2.43,2, -999.000,9, -999.000,9, -999.000,1,-999.0000,1,  -999.00,9,   -999.0,1,-999.000,9,   2262.3,2,   2360.7,2,     7.56,2,12961.2,-999.0000,-999.000,-999.000,  3.1317,-999.000
   318MWESTW_5,  P21W,   209,  1,      7, SI9407,2,19940603,1002,-17.5000,-176.3375, 1950,   1394.9,   2.9565,  34.5474,2,  34.5478,2,    156.0,2,    155.4,2,    88.91,2,    34.68,2,     0.01,2,     2.42,2, -999.000,9, -999.000,9, -999.000,1,-999.0000,1,  -999.00,9,   -999.0,1,-999.000,9,   2270.5,2,   2377.8,2,     7.56,2,13933.9,-999.0000,-999.000,-999.000,  2.8579,-999.000
   318MWESTW_5,  P21W,   209,  1,      6, SI9427,2,19940603,1002,-17.5000,-176.3375, 1950,   1499.8,   2.7739,  34.5694,2,  34.5692,2,    154.2,2,    153.2,2,    96.46,2,    34.83,2,     0.01,2,     2.45,2, -999.000,9, -999.000,9,   -0.001,2,   1.8986,2,    27.58,2,   -999.0,1,   8.061,2,   2278.8,2,   2385.2,2,     7.56,2,14976.2,  0.0095,   0.100,   0.040,  2.6687,   0.004
   318MWESTW_5,  P21W,   209,  1,      5, SI9405,2,19940603,1002,-17.5000,-176.3375, 1950,   1601.4,   2.6325,  34.5864,2,  34.5867,2,    152.8,2,    151.3,2,   102.45,2,    34.94,2,     0.00,2,     2.46,2,    0.003,2,    0.011,2, -999.000,1,-999.0000,1,  -999.00,9,   -999.0,1,-999.000,9,   2284.3,2,   2387.9,2,     7.55,2,15986.6,-999.0000,-999.000,-999.000,  2.5206,-999.000
   318MWESTW_5,  P21W,   209,  1,      4, SI9404,2,19940603,1002,-17.5000,-176.3375, 1950,   1704.6,   2.5635,  34.5963,2,  34.5961,2,    150.9,2,    149.4,2,   106.02,2,    35.13,2,     0.00,2,     2.45,2, -999.000,9, -999.000,9, -999.000,1,-999.0000,1,  -999.00,9,   -999.0,1,-999.000,9,   2289.2,2,   2388.9,2,     7.55,2,17011.9,-999.0000,-999.000,-999.000,  2.4439,-999.000
   318MWESTW_5,  P21W,   209,  1,      3, SI9403,2,19940603,1002,-17.5000,-176.3375, 1950,   1810.2,   2.4992,  34.6042,2,  34.6040,2,    149.6,2,    149.0,2,   108.80,2,    35.26,2,     0.01,2,     2.46,2, -999.000,9, -999.000,9, -999.000,1,-999.0000,1,  -999.00,9,   -999.0,1,-999.000,9,   2293.2,2,   2391.9,2,     7.55,2,18061.7,-999.0000,-999.000,-999.000,  2.3716,-999.000
   318MWESTW_5,  P21W,   209,  1,      2, SI9437,2,19940603,1002,-17.5000,-176.3375, 1950,   1863.0,   2.4952,  34.6063,2,  34.6069,2,    149.1,2,    148.2,2,   109.27,2,    35.36,2,     0.01,2,     2.47,2, -999.000,9, -999.000,9, -999.000,1,-999.0000,1,  -999.00,9,   -999.0,1,-999.000,9,   2295.6,2,   2392.8,2,     7.55,2,18586.2,-999.0000,-999.000,-999.000,  2.3632,-999.000
   318MWESTW_5,  P21W,   209,  1,      1, SI9401,2,19940603,1002,-17.5000,-176.3375, 1950,   1920.2,   2.4713,  34.6092,2,  34.6087,2,    150.1,2,    147.9,2,   109.99,2,    35.49,2,     0.00,2,     2.47,2,    0.000,2,    0.008,2, -999.000,1,-999.0000,1,  -999.00,9,   -999.0,1,-999.000,9,   2296.3,2,   2393.7,2,     7.55,2,19154.0,-999.0000,-999.000,-999.000,  2.3347,-999.000