BOTTLE,20010911WHPSIOdm
EXPOCODE,SECT_ID,STNNBR,CASTNO,SAMPNO,BTLNBR,BTLNBR_FLAG_W,DATE,TIME,LATITUDE,LONGITUDE,DEPTH,CTDPRS,CTDTMP,CTDSAL,CTDSAL_FLAG_W,SALNTY,SALNTY_FLAG_W,CTDOXY,CTDOXY_FLAG_W,OXYGEN,OXYGEN_FLAG_W,SILCAT,SILCAT_FLAG_W,NITRAT,NITRAT_FLAG_W,NITRIT,NITRIT_FLAG_W,PHSPHT,PHSPHT_FLAG_W,CFC-11,CFC-11_FLAG_W,CFC-12,CFC-12_FLAG_W,TRITUM,TRITUM_FLAG_W,HELIUM,HELIUM_FLAG_W,DELHE3,DELHE3_FLAG_W,DELC14,DELC14_FLAG_W,NEON,NEON_FLAG_W,TCARBN,TCARBN_FLAG_W,ALKALI,ALKALI_FLAG_W,PH,PH_FLAG_W,CTDRAW,HELIER,DELHER,NEONER,THETA,TRITER
,,,,,,,,,,,,DBAR,ITS-90,PSS-78,,PSS-78,,UMOL/KG,,UMOL/KG,,UMOL/KG,,UMOL/KG,,UMOL/KG,,UMOL/KG,,PMOL/KG,,PMOL/KG,,TU,,UMOL/KG,,PERCNT,,/MILLE,,NMOL/KG,,UMOL/KG,,UMOL/KG,,,,,NMOL/KG,PERCNT,NMOL/KG,ITS-90,TU
   318MWESTW_4,  P21E,    50,  1,     36, SI9336,2,19940412,0353,-16.7500, -87.6695, 4400,     11.1,  22.9383,  35.7158,2,  35.7156,2,    214.4,2,    216.0,2,     0.47,2,     0.07,2,     0.02,2,     0.53,2,    1.961,2,    1.091,2, -999.000,1,-999.0000,1,  -999.00,9,   -999.0,1,-999.000,9,   -999.0,9,   -999.0,9,  -999.00,9,  163.3,-999.0000,-999.000,-999.000, 22.9360,-999.000
   318MWESTW_4,  P21E,    50,  1,     35, SI9335,2,19940412,0353,-16.7500, -87.6695, 4400,     26.3,  22.9355,  35.7153,2,  35.7152,2,    211.4,2,    216.4,2,     0.48,2,     0.01,2,     0.03,2,     0.53,2,    1.967,2,    1.072,2, -999.000,1,-999.0000,1,  -999.00,9,   -999.0,1,-999.000,9,   -999.0,9,   -999.0,9,  -999.00,9,  315.0,-999.0000,-999.000,-999.000, 22.9301,-999.000
   318MWESTW_4,  P21E,    50,  1,     34, SI9334,2,19940412,0353,-16.7500, -87.6695, 4400,     52.1,  22.8175,  35.7094,2,  35.7098,2,    216.8,2,    218.0,2,     0.49,2,    -0.03,2,     0.01,2,     0.53,2,    1.935,2,    1.069,2, -999.000,1,-999.0000,1,  -999.00,9,   -999.0,1,-999.000,9,   -999.0,9,   -999.0,9,  -999.00,9,  572.4,-999.0000,-999.000,-999.000, 22.8069,-999.000
   318MWESTW_4,  P21E,    50,  1,     33, SI9333,2,19940412,0353,-16.7500, -87.6695, 4400,    102.5,  18.1809,  35.3632,2,  35.3736,2,    218.9,2,    218.6,2,     1.24,2,     2.81,2,     1.03,2,     0.72,2, -999.000,5, -999.000,5, -999.000,1,-999.0000,1,  -999.00,9,   -999.0,1,-999.000,9,   -999.0,9,   -999.0,9,  -999.00,9, 1074.7,-999.0000,-999.000,-999.000, 18.1632,-999.000
   318MWESTW_4,  P21E,    50,  1,     32, SI9332,2,19940412,0353,-16.7500, -87.6695, 4400,    149.8,  15.3733,  34.9626,2,  34.9608,2,    177.0,2,    159.5,2,     4.77,2,    12.40,2,     0.05,2,     1.33,2,    2.259,2,    1.157,2, -999.000,1,-999.0000,1,  -999.00,9,   -999.0,1,-999.000,9,   -999.0,9,   -999.0,9,  -999.00,9, 1545.0,-999.0000,-999.000,-999.000, 15.3503,-999.000
   318MWESTW_4,  P21E,    50,  1,     31, SI9331,2,19940412,0353,-16.7500, -87.6695, 4400,    192.0,  13.3092,  34.8109,2,  34.8072,2,     28.1,2,     11.7,2,    18.49,2,    20.67,2,     0.04,2,     2.55,2,    0.971,2,    0.479,2, -999.000,1,-999.0000,1,  -999.00,9,   -999.0,1,-999.000,9,   -999.0,9,   -999.0,9,  -999.00,9, 1964.8,-999.0000,-999.000,-999.000, 13.2824,-999.000
   318MWESTW_4,  P21E,    50,  1,     30, SI9330,2,19940412,0353,-16.7500, -87.6695, 4400,    247.3,  12.0591,  34.8173,2,  34.8139,2,      3.2,2,      1.0,2,    26.47,2,    21.45,2,     0.06,2,     2.71,2,    0.265,2,    0.140,2, -999.000,1,-999.0000,1,  -999.00,9,   -999.0,1,-999.000,9,   -999.0,9,   -999.0,9,  -999.00,9, 2515.5,-999.0000,-999.000,-999.000, 12.0267,-999.000
   318MWESTW_4,  P21E,    50,  1,     29, SI9329,2,19940412,0353,-16.7500, -87.6695, 4400,    299.4,  11.1759,  34.7711,2,  34.7691,2,      1.3,2,      0.7,2,    27.96,2,    25.53,2,     1.53,2,     2.75,2,    0.132,2,    0.077,2, -999.000,1,-999.0000,1,  -999.00,9,   -999.0,1,-999.000,9,   -999.0,9,   -999.0,9,  -999.00,9, 3034.1,-999.0000,-999.000,-999.000, 11.1385,-999.000
   318MWESTW_4,  P21E,    50,  1,     28, SI9328,2,19940412,0353,-16.7500, -87.6695, 4400,    395.2,   9.3850,  34.6655,2,  34.6620,2,      0.7,2,      3.7,2,    31.12,2,    35.93,2,     0.02,2,     2.85,2,    0.034,2,    0.012,2, -999.000,1,-999.0000,1,  -999.00,9,   -999.0,1,-999.000,9,   -999.0,9,   -999.0,9,  -999.00,9, 3986.5,-999.0000,-999.000,-999.000,  9.3406,-999.000
   318MWESTW_4,  P21E,    50,  1,     26, SI9326,2,19940412,0353,-16.7500, -87.6695, 4400,    498.1,   7.9435,  34.5800,2,  34.5787,2,     17.9,2,     20.2,2,    33.73,2,    40.18,2,     0.01,2,     2.89,2,    0.015,2,    0.005,2, -999.000,1,-999.0000,1,  -999.00,9,   -999.0,1,-999.000,9,   -999.0,9,   -999.0,9,  -999.00,9, 5009.7,-999.0000,-999.000,-999.000,  7.8926,-999.000
   318MWESTW_4,  P21E,    50,  1,     25, SI9325,2,19940412,0353,-16.7500, -87.6695, 4400,    601.0,   6.8552,  34.5274,2,  34.5256,2,     34.6,2,     35.2,2,    38.75,2,    41.65,2,     0.01,2,     2.95,2,    0.007,2,    0.000,2, -999.000,1,-999.0000,1,  -999.00,9,   -999.0,1,-999.000,9,   -999.0,9,   -999.0,9,  -999.00,9, 6032.6,-999.0000,-999.000,-999.000,  6.7984,-999.000
   318MWESTW_4,  P21E,    50,  1,     24, SI9324,2,19940412,0353,-16.7500, -87.6695, 4400,    701.4,   6.0956,  34.5086,2,  34.5064,2,     34.9,2,     35.9,2,    47.10,2,    43.12,2,     0.01,2,     3.08,2,    0.008,2,    0.006,2, -999.000,1,-999.0000,1,  -999.00,9,   -999.0,1,-999.000,9,   -999.0,9,   -999.0,9,  -999.00,9, 7031.5,-999.0000,-999.000,-999.000,  6.0328,-999.000
   318MWESTW_4,  P21E,    50,  1,     23, SI9323,2,19940412,0353,-16.7500, -87.6695, 4400,    803.3,   5.4918,  34.5125,2,  34.5105,2,     35.0,2,     35.0,2,    57.86,2,    44.11,2,     0.01,2,     3.18,2,   -0.003,2,   -0.003,2, -999.000,1,-999.0000,1,  -999.00,9,   -999.0,1,-999.000,9,   -999.0,9,   -999.0,9,  -999.00,9, 8044.6,-999.0000,-999.000,-999.000,  5.4230,-999.000
   318MWESTW_4,  P21E,    50,  1,     22, SI9322,2,19940412,0353,-16.7500, -87.6695, 4400,    901.2,   5.0306,  34.5166,2,  34.5152,2,     41.5,2,     40.8,2,    66.02,2,    43.71,2,     0.01,2,     3.19,2,   -0.003,2,   -0.002,2, -999.000,1,-999.0000,1,  -999.00,9,   -999.0,1,-999.000,9,   -999.0,9,   -999.0,9,  -999.00,9, 9018.0,-999.0000,-999.000,-999.000,  4.9559,-999.000
   318MWESTW_4,  P21E,    50,  1,     21, SI9321,2,19940412,0353,-16.7500, -87.6695, 4400,   1005.0,   4.5382,  34.5256,2,  34.5243,2,     53.5,2,     53.0,2,    75.12,2,    42.77,2,     0.01,2,     3.13,2,   -0.003,2,   -0.004,2, -999.000,1,-999.0000,1,  -999.00,9,   -999.0,1,-999.000,9,   -999.0,9,   -999.0,9,  -999.00,9,10050.1,-999.0000,-999.000,-999.000,  4.4579,-999.000
   318MWESTW_4,  P21E,    50,  1,     20, SI9320,2,19940412,0353,-16.7500, -87.6695, 4400,   1103.1,   4.1509,  34.5375,2,  34.5362,2,     63.3,2,     63.7,2,    83.10,2,    41.95,2,     0.00,2,     3.07,2, -999.000,9, -999.000,9, -999.000,1,-999.0000,1,  -999.00,9,   -999.0,1,-999.000,9,   -999.0,9,   -999.0,9,  -999.00,9,11025.7,-999.0000,-999.000,-999.000,  4.0653,-999.000
   318MWESTW_4,  P21E,    50,  1,     19, SI9319,2,19940412,0353,-16.7500, -87.6695, 4400,   1199.7,   3.8195,  34.5513,2,  34.5516,2,     69.0,2,     69.3,2,    91.08,2,    41.54,2,     0.00,2,     3.05,2, -999.000,9, -999.000,9, -999.000,1,-999.0000,1,  -999.00,9,   -999.0,1,-999.000,9,   -999.0,9,   -999.0,9,  -999.00,9,11986.0,-999.0000,-999.000,-999.000,  3.7285,-999.000
   318MWESTW_4,  P21E,    50,  1,     27, SI9327,2,19940412,0353,-16.7500, -87.6695, 4400,   1299.1,   3.5530,  34.5653,2,  34.5649,2,     72.9,2,     73.9,2,    98.69,2,    41.39,2,     0.00,2,     3.03,2,   -0.002,2,   -0.003,2, -999.000,1,-999.0000,1,  -999.00,9,   -999.0,1,-999.000,9,   -999.0,9,   -999.0,9,  -999.00,9,12973.9,-999.0000,-999.000,-999.000,  3.4561,-999.000
   318MWESTW_4,  P21E,    50,  1,     18, SI9318,3,19940412,0353,-16.7500, -87.6695, 4400,   1401.9,   3.3285,  34.5762,2,  34.5755,2,     78.2,2,     79.0,2,   104.08,2,    40.93,2,     0.00,2,     3.00,2, -999.000,9, -999.000,9, -999.000,1,-999.0000,1,  -999.00,9,   -999.0,1,-999.000,9,   -999.0,9,   -999.0,9,  -999.00,9,13996.5,-999.0000,-999.000,-999.000,  3.2252,-999.000
   318MWESTW_4,  P21E,    50,  1,     17, SI9317,2,19940412,0353,-16.7500, -87.6695, 4400,   1500.6,   3.0920,  34.5885,2,  34.5879,2,     84.1,2,     84.1,2,   109.84,2,    40.64,2,     0.00,2,     2.95,2, -999.000,9, -999.000,9, -999.000,1,-999.0000,1,  -999.00,9,   -999.0,1,-999.000,9,   -999.0,9,   -999.0,9,  -999.00,9,14977.3,-999.0000,-999.000,-999.000,  2.9830,-999.000
   318MWESTW_4,  P21E,    50,  1,     16, SI9316,2,19940412,0353,-16.7500, -87.6695, 4400,   1599.4,   2.8863,  34.6004,2,  34.6001,2,     90.2,2,     90.0,2,   114.86,2,    40.30,2,     0.00,2,     2.92,2, -999.000,9, -999.000,9, -999.000,1,-999.0000,1,  -999.00,9,   -999.0,1,-999.000,9,   -999.0,9,   -999.0,9,  -999.00,9,15959.8,-999.0000,-999.000,-999.000,  2.7714,-999.000
   318MWESTW_4,  P21E,    50,  1,     15, SI9315,2,19940412,0353,-16.7500, -87.6695, 4400,   1800.8,   2.5627,  34.6206,2,  34.6201,2,    101.2,2,    101.1,2,   122.65,2,    39.71,2,     0.00,2,     2.85,2, -999.000,9, -999.000,9, -999.000,1,-999.0000,1,  -999.00,9,   -999.0,1,-999.000,9,   -999.0,9,   -999.0,9,  -999.00,9,17962.6,-999.0000,-999.000,-999.000,  2.4350,-999.000
   318MWESTW_4,  P21E,    50,  1,     14, SI9314,2,19940412,0353,-16.7500, -87.6695, 4400,   2001.2,   2.3111,  34.6350,2,  34.6346,2,    116.3,2,    115.6,2,   124.90,2,    38.40,2,     0.00,2,     2.75,2, -999.000,9, -999.000,9, -999.000,1,-999.0000,1,  -999.00,9,   -999.0,1,-999.000,9,   -999.0,9,   -999.0,9,  -999.00,9,19955.1,-999.0000,-999.000,-999.000,  2.1698,-999.000
   318MWESTW_4,  P21E,    50,  1,     13, SI9313,2,19940412,0353,-16.7500, -87.6695, 4400,   2201.0,   2.1007,  34.6506,2,  34.6504,2,    127.4,2,    127.3,2,   126.95,2,    37.33,2,     0.00,2,     2.67,2, -999.000,9, -999.000,9, -999.000,1,-999.0000,1,  -999.00,9,   -999.0,1,-999.000,9,   -999.0,9,   -999.0,9,  -999.00,9,21941.5,-999.0000,-999.000,-999.000,  1.9454,-999.000
   318MWESTW_4,  P21E,    50,  1,     12, SI9312,2,19940412,0353,-16.7500, -87.6695, 4400,   2405.0,   1.9581,  34.6615,2,  34.6614,2,    136.8,2,    136.4,2,   128.07,2,    36.38,2,     0.00,2,     2.60,2, -999.000,9, -999.000,9, -999.000,1,-999.0000,1,  -999.00,9,   -999.0,1,-999.000,9,   -999.0,9,   -999.0,9,  -999.00,9,23969.4,-999.0000,-999.000,-999.000,  1.7871,-999.000
   318MWESTW_4,  P21E,    50,  1,     11, SI9311,2,19940412,0353,-16.7500, -87.6695, 4400,   2601.8,   1.8785,  34.6690,2,  34.6698,2,    142.3,2,    141.6,2,   129.02,2,    35.85,2,     0.00,2,     2.58,2, -999.000,9, -999.000,9, -999.000,1,-999.0000,1,  -999.00,9,   -999.0,1,-999.000,9,   -999.0,9,   -999.0,9,  -999.00,9,25926.1,-999.0000,-999.000,-999.000,  1.6911,-999.000
   318MWESTW_4,  P21E,    50,  1,     10, SI9310,2,19940412,0353,-16.7500, -87.6695, 4400,   2797.8,   1.8265,  34.6747,2,  34.6753,2,    145.3,2,    145.3,2,   130.14,2,    35.44,2,     0.00,2,     2.55,2, -999.000,9, -999.000,9, -999.000,1,-999.0000,1,  -999.00,9,   -999.0,1,-999.000,9,   -999.0,9,   -999.0,9,  -999.00,9,27873.9,-999.0000,-999.000,-999.000,  1.6219,-999.000
   318MWESTW_4,  P21E,    50,  1,      9, SI9309,2,19940412,0353,-16.7500, -87.6695, 4400,   2997.5,   1.8022,  34.6783,2,  34.6783,2,    144.8,2,    144.5,2,   132.38,2,    35.59,2,     0.00,2,     2.54,2, -999.000,9, -999.000,9, -999.000,1,-999.0000,1,  -999.00,9,   -999.0,1,-999.000,9,   -999.0,9,   -999.0,9,  -999.00,9,29860.0,-999.0000,-999.000,-999.000,  1.5790,-999.000
   318MWESTW_4,  P21E,    50,  1,      8, SI9308,2,19940412,0353,-16.7500, -87.6695, 4400,   3198.4,   1.7856,  34.6816,2,  34.6816,2,    146.2,2,    145.7,2,   132.96,2,    35.42,2,     0.00,2,     2.53,2, -999.000,9, -999.000,9, -999.000,1,-999.0000,1,  -999.00,9,   -999.0,1,-999.000,9,   -999.0,9,   -999.0,9,  -999.00,9,31856.4,-999.0000,-999.000,-999.000,  1.5430,-999.000
   318MWESTW_4,  P21E,    50,  1,      7, SI9307,2,19940412,0353,-16.7500, -87.6695, 4400,   3398.3,   1.7754,  34.6840,2,  34.6834,2,    145.8,2,    146.0,2,   133.90,2,    35.69,2,     0.00,2,     2.54,2, -999.000,9, -999.000,9, -999.000,1,-999.0000,1,  -999.00,9,   -999.0,1,-999.000,9,   -999.0,9,   -999.0,9,  -999.00,9,33844.5,-999.0000,-999.000,-999.000,  1.5128,-999.000
   318MWESTW_4,  P21E,    50,  1,      6, SI9306,2,19940412,0353,-16.7500, -87.6695, 4400,   3585.1,   1.7671,  34.6863,2,  34.6857,2,    148.4,2,    148.7,2,   132.62,2,    35.65,2,     0.00,2,     2.52,2, -999.000,9, -999.000,9, -999.000,1,-999.0000,1,  -999.00,9,   -999.0,1,-999.000,9,   -999.0,9,   -999.0,9,  -999.00,9,35701.5,-999.0000,-999.000,-999.000,  1.4853,-999.000
   318MWESTW_4,  P21E,    50,  1,      5, SI9305,2,19940412,0353,-16.7500, -87.6695, 4400,   3800.8,   1.7586,  34.6879,2,  34.6871,2,    151.7,2,    151.3,2,   130.78,2,    35.54,2,     0.00,2,     2.50,2, -999.000,9, -999.000,9, -999.000,1,-999.0000,1,  -999.00,9,   -999.0,1,-999.000,9,   -999.0,9,   -999.0,9,  -999.00,9,37846.0,-999.0000,-999.000,-999.000,  1.4541,-999.000
   318MWESTW_4,  P21E,    50,  1,      4, SI9304,2,19940412,0353,-16.7500, -87.6695, 4400,   3993.2,   1.7660,  34.6884,2,  34.6887,2,    152.3,2,    152.2,2,   130.05,2,    35.56,2,     0.00,2,     2.50,2, -999.000,9, -999.000,9, -999.000,1,-999.0000,1,  -999.00,9,   -999.0,1,-999.000,9,   -999.0,9,   -999.0,9,  -999.00,9,39758.3,-999.0000,-999.000,-999.000,  1.4403,-999.000
   318MWESTW_4,  P21E,    50,  1,      3, SI9303,2,19940412,0353,-16.7500, -87.6695, 4400,   4193.4,   1.7843,  34.6897,2,  34.6897,2,    152.8,2,    152.7,2,   130.06,2,    35.58,2,     0.00,2,     2.50,2, -999.000,9, -999.000,9, -999.000,1,-999.0000,1,  -999.00,9,   -999.0,1,-999.000,9,   -999.0,9,   -999.0,9,  -999.00,9,41748.4,-999.0000,-999.000,-999.000,  1.4358,-999.000
   318MWESTW_4,  P21E,    50,  1,      2, SI9302,2,19940412,0353,-16.7500, -87.6695, 4400,   4409.1,   1.8088,  34.6895,2,  34.6897,2,    152.6,2,    153.0,2,   129.90,2,    35.66,2,     0.00,2,     2.50,2, -999.000,9, -999.000,9, -999.000,1,-999.0000,1,  -999.00,9,   -999.0,1,-999.000,9,   -999.0,9,   -999.0,9,  -999.00,9,43892.6,-999.0000,-999.000,-999.000,  1.4348,-999.000
   318MWESTW_4,  P21E,    50,  1,      1, SI9301,2,19940412,0353,-16.7500, -87.6695, 4400,   4450.3,   1.8142,  34.6901,2,  34.6889,2,    152.4,2,    152.7,2,   129.81,2,    35.27,2,     0.01,2,     2.51,2, -999.000,9, -999.000,9, -999.000,1,-999.0000,1,  -999.00,9,   -999.0,1,-999.000,9,   -999.0,9,   -999.0,9,  -999.00,9,44302.1,-999.0000,-999.000,-999.000,  1.4353,-999.000