BOTTLE,20010911WHPSIOdm
EXPOCODE,SECT_ID,STNNBR,CASTNO,SAMPNO,BTLNBR,BTLNBR_FLAG_W,DATE,TIME,LATITUDE,LONGITUDE,DEPTH,CTDPRS,CTDTMP,CTDSAL,CTDSAL_FLAG_W,SALNTY,SALNTY_FLAG_W,CTDOXY,CTDOXY_FLAG_W,OXYGEN,OXYGEN_FLAG_W,SILCAT,SILCAT_FLAG_W,NITRAT,NITRAT_FLAG_W,NITRIT,NITRIT_FLAG_W,PHSPHT,PHSPHT_FLAG_W,CFC-11,CFC-11_FLAG_W,CFC-12,CFC-12_FLAG_W,TRITUM,TRITUM_FLAG_W,HELIUM,HELIUM_FLAG_W,DELHE3,DELHE3_FLAG_W,DELC14,DELC14_FLAG_W,NEON,NEON_FLAG_W,TCARBN,TCARBN_FLAG_W,ALKALI,ALKALI_FLAG_W,PH,PH_FLAG_W,CTDRAW,HELIER,DELHER,NEONER,THETA,TRITER
,,,,,,,,,,,,DBAR,ITS-90,PSS-78,,PSS-78,,UMOL/KG,,UMOL/KG,,UMOL/KG,,UMOL/KG,,UMOL/KG,,UMOL/KG,,PMOL/KG,,PMOL/KG,,TU,,UMOL/KG,,PERCNT,,/MILLE,,NMOL/KG,,UMOL/KG,,UMOL/KG,,,,,NMOL/KG,PERCNT,NMOL/KG,ITS-90,TU
   318MWESTW_4,  P21E,    11,  1,     36, SI9336,3,19940331,1106,-15.3745, -76.7538, 3135,      7.3,  23.2392,  35.1551,2,  35.1567,2,    219.5,2,    217.6,2,     0.52,2,    -0.16,2,    -0.02,2,     0.43,2, -999.000,9, -999.000,9, -999.000,1,-999.0000,1,  -999.00,9,   -999.0,1,-999.000,9,   -999.0,9,   -999.0,9,  -999.00,9,  112.6,-999.0000,-999.000,-999.000, 23.2377,-999.000
   318MWESTW_4,  P21E,    11,  1,     35, SI9335,3,19940331,1106,-15.3745, -76.7538, 3135,     25.7,  22.4241,  35.0366,2,  34.9132,3,    215.1,2,    223.0,2,     0.53,2,    -0.23,2,     0.06,2,     0.41,2, -999.000,9, -999.000,9, -999.000,1,-999.0000,1,  -999.00,9,   -999.0,1,-999.000,9,   -999.0,9,   -999.0,9,  -999.00,9,  297.1,-999.0000,-999.000,-999.000, 22.4190,-999.000
   318MWESTW_4,  P21E,    11,  1,     34, SI9334,2,19940331,1106,-15.3745, -76.7538, 3135,     51.2,  15.2419,  34.9406,2,  34.9140,2,     57.9,2,     83.7,2,     7.70,2,    18.80,2,     0.28,2,     1.86,2, -999.000,9, -999.000,9, -999.000,1,-999.0000,1,  -999.00,9,   -999.0,1,-999.000,9,   -999.0,9,   -999.0,9,  -999.00,9,  551.5,-999.0000,-999.000,-999.000, 15.2341,-999.000
   318MWESTW_4,  P21E,    11,  1,     33, SI9333,2,19940331,1106,-15.3745, -76.7538, 3135,    101.2,  12.9444,  34.7788,2,  34.8131,2,      7.5,2,      8.9,2,    23.08,2,    17.70,2,     0.06,2,     2.60,2, -999.000,9, -999.000,9, -999.000,1,-999.0000,1,  -999.00,9,   -999.0,1,-999.000,9,   -999.0,9,   -999.0,9,  -999.00,9, 1051.7,-999.0000,-999.000,-999.000, 12.9306,-999.000
   318MWESTW_4,  P21E,    11,  1,     32, SI9332,3,19940331,1106,-15.3745, -76.7538, 3135,    152.2,  12.1434,  34.8092,2,  34.8334,2,      1.8,2,      7.0,2,    25.70,2,    19.10,2,     1.33,2,     2.61,2, -999.000,9, -999.000,9, -999.000,1,-999.0000,1,  -999.00,9,   -999.0,1,-999.000,9,   -999.0,9,   -999.0,9,  -999.00,9, 1560.5,-999.0000,-999.000,-999.000, 12.1235,-999.000
   318MWESTW_4,  P21E,    11,  1,     31, SI9331,2,19940331,1106,-15.3745, -76.7538, 3135,    198.2,  11.6457,  34.7814,2,  34.8060,2,      1.7,2,      0.8,2,    27.30,2,    22.04,2,     2.82,2,     2.67,2, -999.000,9, -999.000,9, -999.000,1,-999.0000,1,  -999.00,9,   -999.0,1,-999.000,9,   -999.0,9,   -999.0,9,  -999.00,9, 2020.8,-999.0000,-999.000,-999.000, 11.6204,-999.000
   318MWESTW_4,  P21E,    11,  1,     30, SI9330,2,19940331,1106,-15.3745, -76.7538, 3135,    249.5,  10.8437,  34.7223,2,  34.7571,2,      1.9,2,      0.7,2,    28.53,2,    27.26,2,     1.39,2,     2.72,2, -999.000,9, -999.000,9, -999.000,1,-999.0000,1,  -999.00,9,   -999.0,1,-999.000,9,   -999.0,9,   -999.0,9,  -999.00,9, 2532.8,-999.0000,-999.000,-999.000, 10.8132,-999.000
   318MWESTW_4,  P21E,    11,  1,     29, SI9329,2,19940331,1106,-15.3745, -76.7538, 3135,    301.3,   9.8647,  34.6721,2,  34.6781,2,      3.9,2,      3.7,2,    29.76,2,    33.13,2,     0.07,2,     2.79,2, -999.000,9, -999.000,9, -999.000,1,-999.0000,1,  -999.00,9,   -999.0,1,-999.000,9,   -999.0,9,   -999.0,9,  -999.00,9, 3050.2,-999.0000,-999.000,-999.000,  9.8300,-999.000
   318MWESTW_4,  P21E,    11,  1,     28, SI9328,2,19940331,1106,-15.3745, -76.7538, 3135,    406.2,   8.2221,  34.6131,2,  34.6093,2,      7.0,2,      7.2,2,    36.94,2,    39.53,2,     0.06,2,     2.96,2, -999.000,9, -999.000,9, -999.000,1,-999.0000,1,  -999.00,9,   -999.0,1,-999.000,9,   -999.0,9,   -999.0,9,  -999.00,9, 4098.2,-999.0000,-999.000,-999.000,  8.1800,-999.000
   318MWESTW_4,  P21E,    11,  1,     27, SI9327,2,19940331,1106,-15.3745, -76.7538, 3135,    496.7,   7.1237,  34.5538,2,  34.5500,2,     18.4,2,     19.1,2,    41.66,2,    41.75,2,     0.07,2,     3.03,2, -999.000,9, -999.000,9, -999.000,1,-999.0000,1,  -999.00,9,   -999.0,1,-999.000,9,   -999.0,9,   -999.0,9,  -999.00,9, 5002.4,-999.0000,-999.000,-999.000,  7.0760,-999.000
   318MWESTW_4,  P21E,    11,  1,     26, SI9326,2,19940331,1106,-15.3745, -76.7538, 3135,    602.2,   6.1237,  34.5045,2,  34.5082,2,     38.9,2,     34.1,3,    48.13,2,    42.71,2,     0.06,2,     3.08,2, -999.000,9, -999.000,9, -999.000,1,-999.0000,1,  -999.00,9,   -999.0,1,-999.000,9,   -999.0,9,   -999.0,9,  -999.00,9, 6056.1,-999.0000,-999.000,-999.000,  6.0701,-999.000
   318MWESTW_4,  P21E,    11,  1,     25, SI9325,2,19940331,1106,-15.3745, -76.7538, 3135,    697.9,   5.6228,  34.5168,2,  34.5180,2,     30.9,2,     29.6,2,    58.27,2,    43.99,2,     0.06,2,     3.18,2, -999.000,9, -999.000,9, -999.000,1,-999.0000,1,  -999.00,9,   -999.0,1,-999.000,9,   -999.0,9,   -999.0,9,  -999.00,9, 7011.7,-999.0000,-999.000,-999.000,  5.5628,-999.000
   318MWESTW_4,  P21E,    11,  1,     24, SI9324,2,19940331,1106,-15.3745, -76.7538, 3135,    799.3,   5.0794,  34.5182,2,  34.5211,2,     38.2,2,     38.0,2,    67.19,2,    43.94,2,     0.06,2,     3.18,2, -999.000,9, -999.000,9, -999.000,1,-999.0000,1,  -999.00,9,   -999.0,1,-999.000,9,   -999.0,9,   -999.0,9,  -999.00,9, 8024.8,-999.0000,-999.000,-999.000,  5.0135,-999.000
   318MWESTW_4,  P21E,    11,  1,     23, SI9323,2,19940331,1106,-15.3745, -76.7538, 3135,    896.2,   4.7383,  34.5268,2,  34.5284,2,     45.7,2,     44.8,2,    74.53,2,    43.62,2,    -0.01,2,     3.17,2, -999.000,9, -999.000,9, -999.000,1,-999.0000,1,  -999.00,9,   -999.0,1,-999.000,9,   -999.0,9,   -999.0,9,  -999.00,9, 8992.5,-999.0000,-999.000,-999.000,  4.6661,-999.000
   318MWESTW_4,  P21E,    11,  1,     22, SI9322,2,19940331,1106,-15.3745, -76.7538, 3135,    993.3,   4.3177,  34.5366,2,  34.5386,2,     56.7,2,     55.6,2,    82.22,2,    42.79,2,    -0.01,2,     3.10,2, -999.000,9, -999.000,9, -999.000,1,-999.0000,1,  -999.00,9,   -999.0,1,-999.000,9,   -999.0,9,   -999.0,9,  -999.00,9, 9962.2,-999.0000,-999.000,-999.000,  4.2401,-999.000
   318MWESTW_4,  P21E,    11,  1,     21, SI9321,2,19940331,1106,-15.3745, -76.7538, 3135,   1098.7,   3.9973,  34.5486,2,  34.5490,2,     63.4,2,     61.9,2,    89.74,2,    42.18,2,    -0.01,2,     3.08,2, -999.000,9, -999.000,9, -999.000,1,-999.0000,1,  -999.00,9,   -999.0,1,-999.000,9,   -999.0,9,   -999.0,9,  -999.00,9,11015.0,-999.0000,-999.000,-999.000,  3.9133,-999.000
   318MWESTW_4,  P21E,    11,  1,     20, SI9320,2,19940331,1106,-15.3745, -76.7538, 3135,   1200.8,   3.6807,  34.5598,2,  34.5651,3,     70.2,2,     69.0,2,    97.43,2,    41.51,2,     0.00,2,     3.04,2, -999.000,9, -999.000,9, -999.000,1,-999.0000,1,  -999.00,9,   -999.0,1,-999.000,9,   -999.0,9,   -999.0,9,  -999.00,9,12034.6,-999.0000,-999.000,-999.000,  3.5909,-999.000
   318MWESTW_4,  P21E,    11,  1,     19, SI9319,2,19940331,1106,-15.3745, -76.7538, 3135,   1301.7,   3.3806,  34.5734,2,  34.5753,2,     73.9,2,     74.7,2,   105.29,2,    41.06,2,     0.00,2,     3.01,2, -999.000,9, -999.000,9, -999.000,1,-999.0000,1,  -999.00,9,   -999.0,1,-999.000,9,   -999.0,9,   -999.0,9,  -999.00,9,13043.2,-999.0000,-999.000,-999.000,  3.2852,-999.000
   318MWESTW_4,  P21E,    11,  1,     18, SI9318,2,19940331,1106,-15.3745, -76.7538, 3135,   1402.7,   3.2279,  34.5894,2,  34.5889,2,     73.6,2,     74.6,2,   112.46,2,    40.85,2,     0.00,2,     3.01,2, -999.000,9, -999.000,9, -999.000,1,-999.0000,1,  -999.00,9,   -999.0,1,-999.000,9,   -999.0,9,   -999.0,9,  -999.00,9,14051.4,-999.0000,-999.000,-999.000,  3.1256,-999.000
   318MWESTW_4,  P21E,    11,  1,     17, SI9317,2,19940331,1106,-15.3745, -76.7538, 3135,   1495.5,   3.0077,  34.5994,2,  34.6014,2,     79.2,2,     80.6,2,   118.05,2,    40.58,2,     0.00,2,     2.97,2, -999.000,9, -999.000,9, -999.000,1,-999.0000,1,  -999.00,9,   -999.0,1,-999.000,9,   -999.0,9,   -999.0,9,  -999.00,9,14979.0,-999.0000,-999.000,-999.000,  2.9001,-999.000
   318MWESTW_4,  P21E,    11,  1,     16, SI9316,2,19940331,1106,-15.3745, -76.7538, 3135,   1596.5,   2.8315,  34.6105,2,  34.6097,2,     83.8,2,     85.8,2,   121.72,2,    40.25,2,    -0.01,2,     2.93,2, -999.000,9, -999.000,9, -999.000,1,-999.0000,1,  -999.00,9,   -999.0,1,-999.000,9,   -999.0,9,   -999.0,9,  -999.00,9,15988.2,-999.0000,-999.000,-999.000,  2.7175,-999.000
   318MWESTW_4,  P21E,    11,  1,     15, SI9315,2,19940331,1106,-15.3745, -76.7538, 3135,   1698.6,   2.6799,  34.6184,2,  34.6201,2,     87.6,2,     89.3,2,   126.79,2,    39.92,2,     0.00,2,     2.91,2, -999.000,9, -999.000,9, -999.000,1,-999.0000,1,  -999.00,9,   -999.0,1,-999.000,9,   -999.0,9,   -999.0,9,  -999.00,9,17007.9,-999.0000,-999.000,-999.000,  2.5592,-999.000
   318MWESTW_4,  P21E,    11,  1,     14, SI9314,2,19940331,1106,-15.3745, -76.7538, 3135,   1794.6,   2.5356,  34.6261,2,  34.6282,2,     94.1,2,     93.7,2,   130.46,2,    39.48,2,     0.00,2,     2.86,2, -999.000,9, -999.000,9, -999.000,1,-999.0000,1,  -999.00,9,   -999.0,1,-999.000,9,   -999.0,9,   -999.0,9,  -999.00,9,17967.0,-999.0000,-999.000,-999.000,  2.4087,-999.000
   318MWESTW_4,  P21E,    11,  1,     13, SI9313,2,19940331,1106,-15.3745, -76.7538, 3135,   1898.1,   2.4193,  34.6341,2,  34.6327,2,    100.6,2,    100.6,2,   131.01,2,    38.99,2,     0.00,2,     2.83,2, -999.000,9, -999.000,9, -999.000,1,-999.0000,1,  -999.00,9,   -999.0,1,-999.000,9,   -999.0,9,   -999.0,9,  -999.00,9,19000.6,-999.0000,-999.000,-999.000,  2.2853,-999.000
   318MWESTW_4,  P21E,    11,  1,     12, SI9312,2,19940331,1106,-15.3745, -76.7538, 3135,   2006.3,   2.3191,  34.6423,2,  34.6399,2,    104.2,2,    104.1,2,   133.29,2,    38.78,2,     0.00,2,     2.82,2, -999.000,9, -999.000,9, -999.000,1,-999.0000,1,  -999.00,9,   -999.0,1,-999.000,9,   -999.0,9,   -999.0,9,  -999.00,9,20081.5,-999.0000,-999.000,-999.000,  2.1772,-999.000
   318MWESTW_4,  P21E,    11,  1,     11, SI9311,2,19940331,1106,-15.3745, -76.7538, 3135,   2098.3,   2.2076,  34.6494,2,  34.6457,2,    110.5,2,    109.4,2,   135.05,2,    38.44,2,     0.00,2,     2.77,2, -999.000,9, -999.000,9, -999.000,1,-999.0000,1,  -999.00,9,   -999.0,1,-999.000,9,   -999.0,9,   -999.0,9,  -999.00,9,21001.0,-999.0000,-999.000,-999.000,  2.0595,-999.000
   318MWESTW_4,  P21E,    11,  1,     10, SI9310,2,19940331,1106,-15.3745, -76.7538, 3135,   2187.0,   2.1079,  34.6549,2,  34.6539,2,    118.1,2,    116.1,2,   135.40,2,    37.90,2,     0.00,2,     2.72,2, -999.000,9, -999.000,9, -999.000,1,-999.0000,1,  -999.00,9,   -999.0,1,-999.000,9,   -999.0,9,   -999.0,9,  -999.00,9,21887.6,-999.0000,-999.000,-999.000,  1.9537,-999.000
   318MWESTW_4,  P21E,    11,  1,      9, SI9309,2,19940331,1106,-15.3745, -76.7538, 3135,   2301.7,   2.0024,  34.6601,2,  34.6594,2,    126.5,2,    125.9,2,   133.29,2,    36.99,2,     0.00,2,     2.67,2, -999.000,9, -999.000,9, -999.000,1,-999.0000,1,  -999.00,9,   -999.0,1,-999.000,9,   -999.0,9,   -999.0,9,  -999.00,9,23033.4,-999.0000,-999.000,-999.000,  1.8398,-999.000
   318MWESTW_4,  P21E,    11,  1,      8, SI9308,2,19940331,1106,-15.3745, -76.7538, 3135,   2403.0,   1.9627,  34.6625,2,  34.6633,2,    129.1,2,    130.1,2,   132.70,2,    36.81,2,     0.00,2,     2.63,2, -999.000,9, -999.000,9, -999.000,1,-999.0000,1,  -999.00,9,   -999.0,1,-999.000,9,   -999.0,9,   -999.0,9,  -999.00,9,24045.7,-999.0000,-999.000,-999.000,  1.7918,-999.000
   318MWESTW_4,  P21E,    11,  1,      7, SI9307,2,19940331,1106,-15.3745, -76.7538, 3135,   2504.2,   1.8849,  34.6686,2,  34.6679,2,    135.3,2,    136.1,2,   132.46,2,    36.51,2,     0.01,2,     2.60,2, -999.000,9, -999.000,9, -999.000,1,-999.0000,1,  -999.00,9,   -999.0,1,-999.000,9,   -999.0,9,   -999.0,9,  -999.00,9,25056.8,-999.0000,-999.000,-999.000,  1.7063,-999.000
   318MWESTW_4,  P21E,    11,  1,      6, SI9306,2,19940331,1106,-15.3745, -76.7538, 3135,   2599.2,   1.8560,  34.6705,2,  34.6706,2,    138.6,2,    138.0,2,   132.65,2,    36.34,2,     0.01,2,     2.58,2, -999.000,9, -999.000,9, -999.000,1,-999.0000,1,  -999.00,9,   -999.0,1,-999.000,9,   -999.0,9,   -999.0,9,  -999.00,9,26005.9,-999.0000,-999.000,-999.000,  1.6693,-999.000
   318MWESTW_4,  P21E,    11,  1,      5, SI9305,2,19940331,1106,-15.3745, -76.7538, 3135,   2691.8,   1.8247,  34.6745,2,  34.6751,2,    141.0,2,    140.5,2,   133.01,2,    36.13,2,     0.01,2,     2.56,2, -999.000,9, -999.000,9, -999.000,1,-999.0000,1,  -999.00,9,   -999.0,1,-999.000,9,   -999.0,9,   -999.0,9,  -999.00,9,26931.4,-999.0000,-999.000,-999.000,  1.6301,-999.000
   318MWESTW_4,  P21E,    11,  1,      4, SI9304,2,19940331,1106,-15.3745, -76.7538, 3135,   2807.0,   1.8050,  34.6762,2,  34.6757,2,    138.9,2,    140.0,2,   134.93,2,    36.24,2,     0.01,2,     2.57,2, -999.000,9, -999.000,9, -999.000,1,-999.0000,1,  -999.00,9,   -999.0,1,-999.000,9,   -999.0,9,   -999.0,9,  -999.00,9,28082.3,-999.0000,-999.000,-999.000,  1.6000,-999.000
   318MWESTW_4,  P21E,    11,  1,      3, SI9303,2,19940331,1106,-15.3745, -76.7538, 3135,   2897.0,   1.7917,  34.6780,2,  34.6779,2,    144.1,2,    143.2,2,   133.72,2,    35.91,2,     0.01,2,     2.55,2, -999.000,9, -999.000,9, -999.000,1,-999.0000,1,  -999.00,9,   -999.0,1,-999.000,9,   -999.0,9,   -999.0,9,  -999.00,9,28981.8,-999.0000,-999.000,-999.000,  1.5784,-999.000
   318MWESTW_4,  P21E,    11,  1,      2, SI9302,2,19940331,1106,-15.3745, -76.7538, 3135,   3043.4,   1.7728,  34.6807,2,  34.6806,2,    141.9,2,    141.6,2,   136.69,2,    36.08,2,     0.01,2,     2.56,2, -999.000,9, -999.000,9, -999.000,1,-999.0000,1,  -999.00,9,   -999.0,1,-999.000,9,   -999.0,9,   -999.0,9,  -999.00,9,30444.6,-999.0000,-999.000,-999.000,  1.5458,-999.000
   318MWESTW_4,  P21E,    11,  1,      1, SI9301,2,19940331,1106,-15.3745, -76.7538, 3135,   3119.2,   1.7544,  34.6833,2,  34.6828,2,    144.9,2,    145.2,2,   134.70,2,    35.70,2,     0.01,2,     2.54,2, -999.000,9, -999.000,9, -999.000,1,-999.0000,1,  -999.00,9,   -999.0,1,-999.000,9,   -999.0,9,   -999.0,9,  -999.00,9,31202.3,-999.0000,-999.000,-999.000,  1.5203,-999.000