BOTTLE,20010911WHPSIOdm
EXPOCODE,SECT_ID,STNNBR,CASTNO,SAMPNO,BTLNBR,BTLNBR_FLAG_W,DATE,TIME,LATITUDE,LONGITUDE,DEPTH,CTDPRS,CTDTMP,CTDSAL,CTDSAL_FLAG_W,SALNTY,SALNTY_FLAG_W,CTDOXY,CTDOXY_FLAG_W,OXYGEN,OXYGEN_FLAG_W,SILCAT,SILCAT_FLAG_W,NITRAT,NITRAT_FLAG_W,NITRIT,NITRIT_FLAG_W,PHSPHT,PHSPHT_FLAG_W,CFC-11,CFC-11_FLAG_W,CFC-12,CFC-12_FLAG_W,TRITUM,TRITUM_FLAG_W,HELIUM,HELIUM_FLAG_W,DELHE3,DELHE3_FLAG_W,DELC14,DELC14_FLAG_W,NEON,NEON_FLAG_W,TCARBN,TCARBN_FLAG_W,ALKALI,ALKALI_FLAG_W,PH,PH_FLAG_W,CTDRAW,HELIER,DELHER,NEONER,THETA,TRITER
,,,,,,,,,,,,DBAR,ITS-90,PSS-78,,PSS-78,,UMOL/KG,,UMOL/KG,,UMOL/KG,,UMOL/KG,,UMOL/KG,,UMOL/KG,,PMOL/KG,,PMOL/KG,,TU,,UMOL/KG,,PERCNT,,/MILLE,,NMOL/KG,,UMOL/KG,,UMOL/KG,,,,,NMOL/KG,PERCNT,NMOL/KG,ITS-90,TU
   318MWESTW_5,  P21W,   191,  1,     36, SI9442,2,19940529,1220,-17.5000,-167.0000, 5530,      8.1,  27.5528,  35.3535,2,  35.3539,2,    213.8,2,    206.0,2,     0.69,2,     0.00,2,     0.00,2,     0.17,2,    1.643,2,    0.931,2, -999.000,1,-999.0000,1,  -999.00,9,   -999.0,1,-999.000,9,   1949.6,2,   2328.1,2,     8.14,2,  142.1,-999.0000,-999.000,-999.000, 27.5509,-999.000
   318MWESTW_5,  P21W,   191,  1,     35, SI9435,2,19940529,1220,-17.5000,-167.0000, 5530,     18.3,  27.5625,  35.3526,2,  35.3526,2,    218.7,2,    207.0,2,     0.55,2,     0.00,2,     0.00,2,     0.17,2,    1.630,2,    0.916,2, -999.000,1,-999.0000,1,  -999.00,9,   -999.0,1,-999.000,9,   1948.3,2,   2333.8,2,     8.14,2,  244.2,-999.0000,-999.000,-999.000, 27.5582,-999.000
   318MWESTW_5,  P21W,   191,  1,     34, SI9441,2,19940529,1220,-17.5000,-167.0000, 5530,     43.1,  27.5692,  35.3580,2,  35.3565,2,    213.5,2,    210.6,2,     0.71,2,     0.00,2,     0.00,2,     0.18,2,    1.640,2,    0.935,2, -999.000,1,-999.0000,1,  -999.00,9,   -999.0,1,-999.000,9,   1949.3,2,   2329.3,2,     8.13,2,  491.2,-999.0000,-999.000,-999.000, 27.5592,-999.000
   318MWESTW_5,  P21W,   191,  1,     33, SI9433,2,19940529,1220,-17.5000,-167.0000, 5530,     93.3,  24.7228,  35.8826,2,  35.8819,2,    199.0,2,    205.4,2,     0.58,2,     0.00,2,     0.00,2,     0.22,2,    1.869,2,    1.054,2, -999.000,1,-999.0000,1,  -999.00,9,   -999.0,1,-999.000,9,   2014.7,2,   2362.0,2,     8.08,2,  992.4,-999.0000,-999.000,-999.000, 24.7027,-999.000
   318MWESTW_5,  P21W,   191,  1,     32, SI9432,2,19940529,1220,-17.5000,-167.0000, 5530,    143.3,  23.0249,  35.9578,2,  35.9570,2,    179.6,2,    180.6,2,     0.59,2,     1.29,2,     0.09,2,     0.34,2,    1.866,2,    1.013,2, -999.000,1,-999.0000,1,  -999.00,9,   -999.0,1,-999.000,9,   2048.1,2,   2366.1,2,     8.03,2, 1489.9,-999.0000,-999.000,-999.000, 22.9955,-999.000
   318MWESTW_5,  P21W,   191,  1,     31, SI9431,2,19940529,1220,-17.5000,-167.0000, 5530,    194.9,  21.3093,  35.8330,2,  35.8821,2,    173.9,2,    174.0,2,     0.76,2,     2.95,2,     0.00,2,     0.42,2,    1.911,2,    1.044,2, -999.000,1,-999.0000,1,  -999.00,9,   -999.0,1,-999.000,9,   2063.8,2,   2351.8,2,     7.99,2, 2004.4,-999.0000,-999.000,-999.000, 21.2714,-999.000
   318MWESTW_5,  P21W,   191,  1,     30, SI9440,2,19940529,1220,-17.5000,-167.0000, 5530,    296.1,  17.0111,  35.3987,2,  35.3934,2,    176.2,2,    173.7,2,     2.36,2,     6.98,2,     0.00,2,     0.71,2,    1.641,2,    0.863,2, -999.000,1,-999.0000,1,  -999.00,9,   -999.0,1,-999.000,9,   2089.1,2,   2330.1,2,     7.90,2, 3011.1,-999.0000,-999.000,-999.000, 16.9619,-999.000
   318MWESTW_5,  P21W,   191,  1,     29, SI9429,2,19940529,1220,-17.5000,-167.0000, 5530,    397.9,  11.8503,  34.8140,2,  34.8104,2,    159.1,2,    160.5,2,     7.78,2,    16.67,2,     0.00,2,     1.37,2,    0.903,6,    0.475,6, -999.000,1,-999.0000,1,  -999.00,9,   -999.0,1,-999.000,9,   2136.0,2,   2300.3,2,     7.75,2, 4023.5,-999.0000,-999.000,-999.000, 11.7985,-999.000
   318MWESTW_5,  P21W,   191,  1,     28, SI9428,2,19940529,1220,-17.5000,-167.0000, 5530,    494.5,   8.3872,  34.5138,2,  34.5109,2,    161.3,2,    162.2,2,    14.48,2,    24.35,2,     0.00,2,     1.83,2,    0.400,2,    0.221,2, -999.000,1,-999.0000,1,  -999.00,9,   -999.0,1,-999.000,9,   2167.2,2,   2294.9,2,     7.65,2, 4984.0,-999.0000,-999.000,-999.000,  8.3351,-999.000
   318MWESTW_5,  P21W,   191,  1,     27, SI9424,2,19940529,1220,-17.5000,-167.0000, 5530,    596.0,   6.3557,  34.3865,2,  34.3857,2,    182.1,2,    188.1,2,    18.62,2,    27.32,2,     0.00,2,     1.96,2,    0.230,2,    0.133,2, -999.000,1,-999.0000,1,  -999.00,9,   -999.0,1,-999.000,9,   2173.5,2,   2291.9,2,     7.64,2, 5993.2,-999.0000,-999.000,-999.000,  6.3017,-999.000
   318MWESTW_5,  P21W,   191,  1,     26, SI9414,2,19940529,1220,-17.5000,-167.0000, 5530,    697.7,   5.5392,  34.4085,2,  34.4098,2,    170.3,2,    168.9,2,    32.14,2,    30.80,2,     0.00,2,     2.18,2,    0.044,2,    0.030,2, -999.000,1,-999.0000,1,  -999.00,9,   -999.0,1,-999.000,9,   2200.8,2,   2302.3,2,     7.59,2, 7004.8,-999.0000,-999.000,-999.000,  5.4798,-999.000
   318MWESTW_5,  P21W,   191,  1,     25, SI9425,2,19940529,1220,-17.5000,-167.0000, 5530,    750.4,   5.2162,  34.4277,2,  34.4267,2,    161.0,2,    161.9,2,    39.14,2,    31.88,2,     0.00,2,     2.27,2,    0.019,2,    0.016,2, -999.000,1,-999.0000,1,  -999.00,9,   -999.0,1,-999.000,9,   2213.2,2,   2311.5,2,     7.58,2, 7528.7,-999.0000,-999.000,-999.000,  5.1539,-999.000
   318MWESTW_5,  P21W,   191,  1,     24, SI9434,2,19940529,1220,-17.5000,-167.0000, 5530,    795.3,   5.0114,  34.4391,2,  34.4392,3,    158.4,2,    158.5,2,    43.77,2,    32.33,2,     0.00,2,     2.31,2,    0.014,2,    0.011,2, -999.000,1,-999.0000,1,  -999.00,9,   -999.0,1,-999.000,9,   2219.7,2,   2313.5,2,     7.57,2, 7974.9,-999.0000,-999.000,-999.000,  4.9463,-999.000
   318MWESTW_5,  P21W,   191,  1,     23, SI9423,2,19940529,1220,-17.5000,-167.0000, 5530,    847.6,   4.5465,  34.4350,2,  34.4357,2,    160.5,2,    159.2,2,    49.03,2,    32.97,2,     0.00,2,     2.36,2, -999.000,9, -999.000,9, -999.000,1,-999.0000,1,  -999.00,9,   -999.0,1,-999.000,9,   2225.0,2,   2316.1,2,     7.57,2, 8495.8,-999.0000,-999.000,-999.000,  4.4799,-999.000
   318MWESTW_5,  P21W,   191,  1,     22, SI9418,2,19940529,1220,-17.5000,-167.0000, 5530,    898.0,   4.2816,  34.4448,2,  34.4438,2,    158.2,2,    159.1,2,    53.64,2,    33.47,2,     0.00,2,     2.38,2,    0.004,2,    0.002,2, -999.000,1,-999.0000,1,  -999.00,9,   -999.0,1,-999.000,9,   2231.9,2,   2323.4,2,     7.57,2, 8996.8,-999.0000,-999.000,-999.000,  4.2125,-999.000
   318MWESTW_5,  P21W,   191,  1,     21, SI9421,2,19940529,1220,-17.5000,-167.0000, 5530,    946.8,   4.0052,  34.4622,2,  34.4612,2,    157.0,2,    157.8,2,    59.69,2,    33.92,2,     0.00,2,     2.39,2,    0.003,2,    0.000,2, -999.000,1,-999.0000,1,  -999.00,9,   -999.0,1,-999.000,9,   2239.1,2,   2329.8,2,     7.55,2, 9481.7,-999.0000,-999.000,-999.000,  3.9340,-999.000
   318MWESTW_5,  P21W,   191,  1,     20, SI9420,2,19940529,1220,-17.5000,-167.0000, 5530,    999.7,   3.7345,  34.4762,2,  34.4748,2,    156.6,2,    157.4,2,    64.94,2,    34.32,2,     0.00,2,     2.42,2,    0.001,2,    0.001,2, -999.000,1,-999.0000,1,  -999.00,9,   -999.0,1,-999.000,9,   2245.5,2,   2333.4,2,     7.56,2,10007.8,-999.0000,-999.000,-999.000,  3.6610,-999.000
   318MWESTW_5,  P21W,   191,  1,     19, SI9419,2,19940529,1220,-17.5000,-167.0000, 5530,   1148.5,   3.2845,  34.5209,2,  34.5199,2,    152.6,2,    152.4,2,    78.93,2,    34.86,2,     0.00,2,     2.47,2,   -0.001,2,    0.000,2, -999.000,1,-999.0000,1,  -999.00,9,   -999.0,1,-999.000,9,   2262.4,2,   2351.1,2,     7.55,2,11486.7,-999.0000,-999.000,-999.000,  3.2026,-999.000
   318MWESTW_5,  P21W,   191,  1,     18, SI9439,2,19940529,1220,-17.5000,-167.0000, 5530,   1303.1,   2.9957,  34.5603,2,  34.5592,2,    145.7,2,    146.3,2,    91.01,2,    35.30,2,     0.00,2,     2.52,2, -999.000,9, -999.000,9, -999.000,1,-999.0000,1,  -999.00,9,   -999.0,1,-999.000,9,   2278.0,2,   2365.0,2,     7.54,2,13023.8,-999.0000,-999.000,-999.000,  2.9041,-999.000
   318MWESTW_5,  P21W,   191,  1,     17, SI9417,2,19940529,1220,-17.5000,-167.0000, 5530,   1456.4,   2.7551,  34.5811,2,  34.5816,2,    145.7,2,    146.4,2,    98.33,2,    35.38,2,     0.00,2,     2.51,2, -999.000,9, -999.000,9, -999.000,1,-999.0000,1,  -999.00,9,   -999.0,1,-999.000,9,   2287.0,2,   2372.3,2,     7.54,2,14548.2,-999.0000,-999.000,-999.000,  2.6536,-999.000
   318MWESTW_5,  P21W,   191,  1,     16, SI9416,2,19940529,1220,-17.5000,-167.0000, 5530,   1607.1,   2.5486,  34.5998,2,  34.6012,2,    146.4,2,    146.6,2,   105.00,2,    35.49,2,     0.00,2,     2.51,2, -999.000,9, -999.000,9, -999.000,1,-999.0000,1,  -999.00,9,   -999.0,1,-999.000,9,   2291.6,2,   2380.7,2,     7.55,2,16046.3,-999.0000,-999.000,-999.000,  2.4372,-999.000
   318MWESTW_5,  P21W,   191,  1,     15, SI9415,2,19940529,1220,-17.5000,-167.0000, 5530,   1756.4,   2.4052,  34.6128,2,  34.6136,2,    146.2,2,    147.2,2,   109.46,2,    35.70,2,     0.00,2,     2.51,2, -999.000,9, -999.000,9, -999.000,1,-999.0000,1,  -999.00,9,   -999.0,1,-999.000,9,   2296.2,2,   2382.8,2,     7.55,2,17530.5,-999.0000,-999.000,-999.000,  2.2833,-999.000
   318MWESTW_5,  P21W,   191,  1,     14, SI9436,2,19940529,1220,-17.5000,-167.0000, 5530,   1904.6,   2.2739,  34.6245,2,  34.6250,2,    147.5,2,    147.9,2,   113.75,2,    35.72,2,     0.00,2,     2.52,2, -999.000,9, -999.000,9, -999.000,1,-999.0000,1,  -999.00,9,   -999.0,1,-999.000,9,   2301.1,2,   2388.8,2,     7.55,2,19003.9,-999.0000,-999.000,-999.000,  2.1414,-999.000
   318MWESTW_5,  P21W,   191,  1,     13, SI9413,2,19940529,1220,-17.5000,-167.0000, 5530,   2213.5,   2.0615,  34.6428,2,  34.6425,2,    149.6,2,    149.8,2,   119.79,2,    35.56,2,     0.00,2,     2.52,2,    0.001,2,   -0.001,2, -999.000,1,-999.0000,1,  -999.00,9,   -999.0,1,-999.000,9,   2306.1,2,   2397.2,2,     7.55,2,22074.9,-999.0000,-999.000,-999.000,  1.9058,-999.000
   318MWESTW_5,  P21W,   191,  1,     12, SI9438,2,19940529,1220,-17.5000,-167.0000, 5530,   2511.7,   1.8993,  34.6569,2,  34.6584,2,    151.9,2,    152.8,2,   124.55,2,    35.31,2,     0.00,2,     2.50,2, -999.000,9, -999.000,9, -999.000,1,-999.0000,1,  -999.00,9,   -999.0,1,-999.000,9,   2308.3,2,   2399.4,2,     7.55,2,25040.4,-999.0000,-999.000,-999.000,  1.7198,-999.000
   318MWESTW_5,  P21W,   191,  1,     11, SI9411,2,19940529,1220,-17.5000,-167.0000, 5530,   2812.9,   1.7683,  34.6679,2,  34.6683,2,    154.4,2,    156.0,2,   128.53,2,    35.15,2,     0.00,2,     2.49,2, -999.000,9, -999.000,9,    0.002,2,   1.9495,2,    25.34,2,   -999.0,1,   8.272,2,   2309.9,2,   2402.6,2,     7.56,2,28034.4,  0.0097,   0.100,   0.041,  1.5635,   0.004
   318MWESTW_5,  P21W,   191,  1,     10, SI9412,2,19940529,1220,-17.5000,-167.0000, 5530,   3114.4,   1.6841,  34.6750,2,  34.6745,2,    159.0,2,    160.0,2,   129.01,2,    34.94,2,     0.00,2,     2.46,2, -999.000,9, -999.000,9,    0.002,2,   1.9224,2,    23.85,2,   -999.0,1,   8.168,2,   2307.7,2,   2389.2,4,     7.57,2,31032.0,  0.0096,   0.100,   0.041,  1.4522,   0.004
   318MWESTW_5,  P21W,   191,  1,      9, SI9410,2,19940529,1220,-17.5000,-167.0000, 5530,   3407.4,   1.5933,  34.6820,2,  34.6834,2,    164.6,2,    165.0,2,   129.49,2,    34.70,2,     0.00,2,     2.43,2, -999.000,9, -999.000,9, -999.000,1,-999.0000,1,  -999.00,9,   -999.0,1,-999.000,9,   2305.1,2,   2399.5,2,     7.57,2,33944.6,-999.0000,-999.000,-999.000,  1.3343,-999.000
   318MWESTW_5,  P21W,   191,  1,      8, SI9422,2,19940529,1220,-17.5000,-167.0000, 5530,   3714.6,   1.5040,  34.6887,2,  34.6893,2,    172.2,2,    171.9,2,   127.90,2,    34.13,2,     0.00,2,     2.39,2, -999.000,9, -999.000,9,   -0.002,2,   1.9098,2,    19.16,2,   -999.0,1,   8.181,2,   2298.1,2,   2394.9,2,     7.58,2,36998.8,  0.0095,   0.100,   0.041,  1.2155,   0.004
   318MWESTW_5,  P21W,   191,  1,      7, SI9407,2,19940529,1220,-17.5000,-167.0000, 5530,   4021.7,   1.3736,  34.6999,2,  34.7007,2,    183.4,2,    185.6,2,   122.83,2,    33.07,2,     0.00,2,     2.33,2,   -0.001,2,    0.000,2, -999.000,1,   1.9013,2,    15.41,2,   -999.0,1,   8.184,2,   2283.5,2,   2382.9,2,     7.58,2,40051.9,  0.0095,   0.090,   0.041,  1.0558,-999.000
   318MWESTW_5,  P21W,   191,  1,      6, SI9427,2,19940529,1220,-17.5000,-167.0000, 5530,   4322.9,   1.2352,  34.7097,2,  34.7091,2,    196.6,2,    199.4,2,   118.39,2,    32.06,2,     0.00,2,     2.26,2, -999.000,9, -999.000,9, -999.000,1,-999.0000,1,  -999.00,9,   -999.0,1,-999.000,9,   2267.9,2,   -999.0,9,     7.59,2,43046.6,-999.0000,-999.000,-999.000,  0.8883,-999.000
   318MWESTW_5,  P21W,   191,  1,      5, SI9405,2,19940529,1220,-17.5000,-167.0000, 5530,   4616.1,   1.1357,  34.7105,2,  34.7103,2,    203.3,2,    204.9,2,   118.40,2,    31.78,2,     0.00,2,     2.23,2, -999.000,9, -999.000,9,   -0.006,2,   1.8949,2,    10.24,2,   -999.0,1,   8.218,2,   2262.4,2,   -999.0,9,     7.59,2,45961.3,  0.0095,   0.090,   0.041,  0.7587,   0.004
   318MWESTW_5,  P21W,   191,  1,      4, SI9404,2,19940529,1220,-17.5000,-167.0000, 5530,   4916.7,   1.0934,  34.7097,2,  34.7097,2,    207.0,2,    207.0,2,   119.36,2,    31.84,2,     0.00,2,     2.22,2, -999.000,9, -999.000,9, -999.000,1,   1.7898,2,     9.33,2,   -999.0,1,   7.879,2,   2262.1,2,   -999.0,9,     7.59,2,48949.5,  0.0089,   0.090,   0.039,  0.6827,-999.000
   318MWESTW_5,  P21W,   191,  1,      3, SI9403,2,19940529,1220,-17.5000,-167.0000, 5530,   5218.6,   1.0981,  34.7089,2,  34.7097,2,    209.2,2,    208.1,2,   120.01,2,    31.87,2,     0.00,2,     2.23,2,    0.001,2,    0.003,2,    0.005,2,-999.0000,1,  -999.00,9,   -999.0,1,-999.000,9,   2261.7,2,   2369.0,2,     7.59,2,51950.8,-999.0000,-999.000,-999.000,  0.6509,   0.004
   318MWESTW_5,  P21W,   191,  1,      2, SI9437,2,19940529,1220,-17.5000,-167.0000, 5530,   5523.5,   1.1231,  34.7086,2,  34.7079,2,    209.8,2,    209.5,2,   120.17,2,    31.81,2,     0.00,2,     2.23,2, -999.000,9, -999.000,9, -999.000,1,-999.0000,1,  -999.00,9,   -999.0,1,-999.000,9,   2260.9,2,   2365.5,2,     7.59,2,54982.5,-999.0000,-999.000,-999.000,  0.6372,-999.000
   318MWESTW_5,  P21W,   191,  1,      1, SI9401,2,19940529,1220,-17.5000,-167.0000, 5530,   5642.7,   1.1389,  34.7080,2,  34.7101,2,    210.3,2,    209.1,2,   120.26,2,    31.72,2,     0.00,2,     2.22,2, -999.000,9, -999.000,9,    0.006,2,   1.8717,2,     9.63,2,   -999.0,1,   8.131,2,   2262.7,2,   2368.9,2,     7.59,2,56167.0,  0.0094,   0.090,   0.041,  0.6373,   0.004