BOTTLE,20010911WHPSIOdm
EXPOCODE,SECT_ID,STNNBR,CASTNO,SAMPNO,BTLNBR,BTLNBR_FLAG_W,DATE,TIME,LATITUDE,LONGITUDE,DEPTH,CTDPRS,CTDTMP,CTDSAL,CTDSAL_FLAG_W,SALNTY,SALNTY_FLAG_W,CTDOXY,CTDOXY_FLAG_W,OXYGEN,OXYGEN_FLAG_W,SILCAT,SILCAT_FLAG_W,NITRAT,NITRAT_FLAG_W,NITRIT,NITRIT_FLAG_W,PHSPHT,PHSPHT_FLAG_W,CFC-11,CFC-11_FLAG_W,CFC-12,CFC-12_FLAG_W,TRITUM,TRITUM_FLAG_W,HELIUM,HELIUM_FLAG_W,DELHE3,DELHE3_FLAG_W,DELC14,DELC14_FLAG_W,NEON,NEON_FLAG_W,TCARBN,TCARBN_FLAG_W,ALKALI,ALKALI_FLAG_W,PH,PH_FLAG_W,CTDRAW,HELIER,DELHER,NEONER,THETA,TRITER
,,,,,,,,,,,,DBAR,ITS-90,PSS-78,,PSS-78,,UMOL/KG,,UMOL/KG,,UMOL/KG,,UMOL/KG,,UMOL/KG,,UMOL/KG,,PMOL/KG,,PMOL/KG,,TU,,UMOL/KG,,PERCNT,,/MILLE,,NMOL/KG,,UMOL/KG,,UMOL/KG,,,,,NMOL/KG,PERCNT,NMOL/KG,ITS-90,TU
   318MWESTW_5,  P21W,   263,  1,     36, SI9442,2,19940616,0640,-21.3000, 163.2445, 3580,     11.0,  23.8673,  35.2797,2,  35.3614,2,    212.0,2,    211.2,2,     0.39,2,     0.06,2,     0.02,2,     0.11,2,    1.890,2,    1.030,2, -999.000,1,-999.0000,1,  -999.00,9,   -999.0,1,-999.000,9,   1969.3,2,   2318.1,2,     8.10,2,  169.5,-999.0000,-999.000,-999.000, 23.8650,-999.000
   318MWESTW_5,  P21W,   263,  1,     35, SI9435,2,19940616,0640,-21.3000, 163.2445, 3580,     25.6,  24.0378,  35.5978,2,  35.5991,2,    207.8,2,    204.8,2,     0.45,2,     0.10,2,     0.04,2,     0.12,2, -999.000,9, -999.000,9, -999.000,1,-999.0000,1,  -999.00,9,   -999.0,1,-999.000,9,   1990.2,2,   2347.2,2,     8.08,2,  315.8,-999.0000,-999.000,-999.000, 24.0324,-999.000
   318MWESTW_5,  P21W,   263,  1,     34, SI9441,2,19940616,0640,-21.3000, 163.2445, 3580,     51.2,  23.4935,  35.6842,2,  35.6844,2,    202.4,2,    207.7,2,     0.49,2,     0.13,2,     0.06,2,     0.11,2,    1.924,2,    1.070,2, -999.000,1,-999.0000,1,  -999.00,9,   -999.0,1,-999.000,9,   1997.8,2,   2336.1,2,     7.67,4,  571.0,-999.0000,-999.000,-999.000, 23.4829,-999.000
   318MWESTW_5,  P21W,   263,  1,     33, SI9433,2,19940616,0640,-21.3000, 163.2445, 3580,    102.1,  21.4090,  35.7437,2,  35.7416,2,    196.4,2,    193.4,2,     0.66,2,     1.92,2,     0.03,2,     0.25,2,    2.001,2,    1.112,2, -999.000,1,-999.0000,1,  -999.00,9,   -999.0,1,-999.000,9,   2027.5,2,   2337.7,2,     8.03,2, 1077.6,-999.0000,-999.000,-999.000, 21.3891,-999.000
   318MWESTW_5,  P21W,   263,  1,     32, SI9432,2,19940616,0640,-21.3000, 163.2445, 3580,    153.5,  20.3625,  35.7152,2,  35.7160,2,    190.6,2,    190.3,2,     0.85,2,     3.23,2,     0.01,2,     0.33,2, -999.000,9, -999.000,9, -999.000,1,-999.0000,1,  -999.00,9,   -999.0,1,-999.000,9,   2040.2,2,   2336.2,2,     8.01,2, 1589.2,-999.0000,-999.000,-999.000, 20.3337,-999.000
   318MWESTW_5,  P21W,   263,  1,     31, SI9431,2,19940616,0640,-21.3000, 163.2445, 3580,    204.3,  19.3710,  35.6592,2,  35.6561,2,    183.7,2,    186.5,2,     1.04,2,     4.40,2,     0.01,2,     0.40,2, -999.000,9, -999.000,9, -999.000,1,-999.0000,1,  -999.00,9,   -999.0,1,-999.000,9,   2050.0,2,   2334.4,2,     7.98,2, 2094.5,-999.0000,-999.000,-999.000, 19.3339,-999.000
   318MWESTW_5,  P21W,   263,  1,     30, SI9440,2,19940616,0640,-21.3000, 163.2445, 3580,    254.8,  18.3368,  35.5968,2,  35.5802,2,    178.3,2,    185.5,2,     1.51,2,     5.60,2,     0.01,2,     0.49,2, -999.000,9, -999.000,9, -999.000,1,-999.0000,1,  -999.00,9,   -999.0,1,-999.000,9,   2061.3,2,   2342.8,2,     7.96,2, 2597.2,-999.0000,-999.000,-999.000, 18.2922,-999.000
   318MWESTW_5,  P21W,   263,  1,     29, SI9429,2,19940616,0640,-21.3000, 163.2445, 3580,    305.1,  16.6791,  35.4561,2,  35.4151,2,    175.7,2,    181.3,2,     2.29,2,     7.82,2,     0.01,2,     0.64,2,    1.903,2,    0.975,2, -999.000,1,-999.0000,1,  -999.00,9,   -999.0,1,-999.000,9,   2077.5,2,   2335.2,2,     7.91,2, 3098.0,-999.0000,-999.000,-999.000, 16.6291,-999.000
   318MWESTW_5,  P21W,   263,  1,     28, SI9428,2,19940616,0640,-21.3000, 163.2445, 3580,    355.6,  14.9634,  35.2959,2,  35.2942,2,    181.0,2,    180.3,2,     3.63,2,    10.37,2,     0.00,2,     0.81,2, -999.000,9, -999.000,9, -999.000,1,-999.0000,1,  -999.00,9,   -999.0,1,-999.000,9,   2094.6,2,   2329.9,2,     7.87,2, 3600.0,-999.0000,-999.000,-999.000, 14.9092,-999.000
   318MWESTW_5,  P21W,   263,  1,     27, SI9424,2,19940616,0640,-21.3000, 163.2445, 3580,    406.6,  13.0507,  35.0704,2,  35.0693,2,    178.3,2,    172.7,2,     6.02,2,    14.19,2,     0.00,2,     1.07,2,    1.308,2,    0.681,2, -999.000,1,-999.0000,1,  -999.00,9,   -999.0,1,-999.000,9,   2112.7,2,   2324.5,2,     7.82,2, 4107.9,-999.0000,-999.000,-999.000, 12.9942,-999.000
   318MWESTW_5,  P21W,   263,  1,     26, SI9414,2,19940616,0640,-21.3000, 163.2445, 3580,    456.6,  11.7638,  34.9333,2,  34.9319,2,    176.4,2,    176.2,2,     7.81,2,    16.51,2,     0.00,2,     1.21,2, -999.000,9, -999.000,9, -999.000,1,-999.0000,1,  -999.00,9,   -999.0,1,-999.000,9,   2124.1,2,   2316.2,2,     7.78,2, 4605.1,-999.0000,-999.000,-999.000, 11.7044,-999.000
   318MWESTW_5,  P21W,   263,  1,     25, SI9425,2,19940616,0640,-21.3000, 163.2445, 3580,    499.2,  10.8093,  34.8397,2,  34.8338,2,    179.8,2,    178.7,2,     9.17,2,    18.30,2,     0.00,2,     1.32,2, -999.000,9, -999.000,9, -999.000,1,-999.0000,1,  -999.00,9,   -999.0,1,-999.000,9,   2131.8,2,   2313.9,2,     7.76,2, 5028.9,-999.0000,-999.000,-999.000, 10.7477,-999.000
   318MWESTW_5,  P21W,   263,  1,     24, SI9434,2,19940616,0640,-21.3000, 163.2445, 3580,    601.2,   8.5184,  34.6226,2,  34.6177,2,    187.8,2,    187.8,2,    14.04,2,    22.51,2,     0.00,2,     1.58,2,    0.623,2,    0.312,2, -999.000,1,-999.0000,1,  -999.00,9,   -999.0,1,-999.000,9,   2150.1,2,   2307.8,2,     7.71,2, 6043.5,-999.0000,-999.000,-999.000,  8.4540,-999.000
   318MWESTW_5,  P21W,   263,  1,     23, SI9423,2,19940616,0640,-21.3000, 163.2445, 3580,    701.9,   6.8946,  34.4880,2,  34.4862,2,    193.1,2,    194.4,2,    19.63,2,    25.55,2,     0.00,2,     1.78,2, -999.000,9, -999.000,9, -999.000,1,-999.0000,1,  -999.00,9,   -999.0,1,-999.000,9,   2164.8,2,   2304.2,2,     7.67,2, 7044.4,-999.0000,-999.000,-999.000,  6.8276,-999.000
   318MWESTW_5,  P21W,   263,  1,     22, SI9418,2,19940616,0640,-21.3000, 163.2445, 3580,    804.7,   5.7150,  34.4408,2,  34.4400,2,    186.8,2,    187.5,2,    30.78,2,    28.60,2,     0.00,2,     1.98,2,    0.175,2,    0.093,2, -999.000,1,-999.0000,1,  -999.00,9,   -999.0,1,-999.000,9,   2184.3,2,   2301.6,2,     7.64,2, 8066.5,-999.0000,-999.000,-999.000,  5.6448,-999.000
   318MWESTW_5,  P21W,   263,  1,     21, SI9421,2,19940616,0640,-21.3000, 163.2445, 3580,    896.7,   5.0313,  34.4505,2,  34.4508,2,    179.8,2,    180.7,2,    41.79,2,    30.28,2,     0.00,2,     2.10,2, -999.000,9, -999.000,9, -999.000,1,-999.0000,1,  -999.00,9,   -999.0,1,-999.000,9,   2202.2,2,   2325.6,2,     7.62,2, 8981.9,-999.0000,-999.000,-999.000,  4.9571,-999.000
   318MWESTW_5,  P21W,   263,  1,     20, SI9420,2,19940616,0640,-21.3000, 163.2445, 3580,    999.7,   4.4770,  34.4798,2,  34.4795,2,    172.8,2,    170.5,2,    53.68,2,    31.48,2,     0.00,2,     2.19,2,    0.050,2,    0.025,2, -999.000,1,-999.0000,1,  -999.00,9,   -999.0,1,-999.000,9,   2220.3,2,   2325.4,2,     7.60,2,10005.3,-999.0000,-999.000,-999.000,  4.3977,-999.000
   318MWESTW_5,  P21W,   263,  1,     19, SI9419,2,19940616,0640,-21.3000, 163.2445, 3580,   1100.5,   4.0462,  34.5078,2,  34.5066,2,    166.5,2,    165.5,2,    64.68,2,    32.47,2,     0.00,2,     2.26,2, -999.000,9, -999.000,9, -999.000,1,-999.0000,1,  -999.00,9,   -999.0,1,-999.000,9,   2237.6,2,   2353.2,2,     7.59,2,11008.1,-999.0000,-999.000,-999.000,  3.9617,-999.000
   318MWESTW_5,  P21W,   263,  1,     18, SI9439,2,19940616,0640,-21.3000, 163.2445, 3580,   1204.7,   3.6924,  34.5326,2,  34.5325,2,    162.7,2,    159.0,2,    74.22,2,    33.33,2,     0.00,2,     2.32,2, -999.000,9, -999.000,9, -999.000,1,-999.0000,1,  -999.00,9,   -999.0,1,-999.000,9,   2251.0,2,   2350.0,2,     7.58,2,12043.6,-999.0000,-999.000,-999.000,  3.6022,-999.000
   318MWESTW_5,  P21W,   263,  1,     17, SI9417,2,19940616,0640,-21.3000, 163.2445, 3580,   1296.1,   3.4031,  34.5536,2,  34.5529,2,    158.7,2,    156.0,2,    81.56,2,    33.94,2,     0.00,2,     2.37,2,    0.004,2,    0.002,2, -999.000,1,-999.0000,1,  -999.00,9,   -999.0,1,-999.000,9,   2260.8,2,   2358.3,2,     7.57,2,12952.3,-999.0000,-999.000,-999.000,  3.3080,-999.000
   318MWESTW_5,  P21W,   263,  1,     16, SI9416,2,19940616,0640,-21.3000, 163.2445, 3580,   1451.2,   3.1009,  34.5772,2,  34.5771,2,    154.4,2,    153.0,2,    89.65,2,    34.42,2,     0.00,2,     2.40,2,    0.002,2,    0.000,2, -999.000,1,-999.0000,1,  -999.00,9,   -999.0,1,-999.000,9,   2272.1,2,   2383.2,2,     7.57,2,14494.8,-999.0000,-999.000,-999.000,  2.9960,-999.000
   318MWESTW_5,  P21W,   263,  1,     15, SI9415,2,19940616,0640,-21.3000, 163.2445, 3580,   1603.4,   2.8240,  34.5990,2,  34.5989,2,    151.9,2,    150.3,2,    97.13,2,    34.85,2,     0.00,2,     2.43,2,    0.000,2,   -0.001,2, -999.000,1,-999.0000,1,  -999.00,9,   -999.0,1,-999.000,9,   2282.4,2,   2390.7,2,     7.56,2,16007.7,-999.0000,-999.000,-999.000,  2.7096,-999.000
   318MWESTW_5,  P21W,   263,  1,     14, SI9436,2,19940616,0640,-21.3000, 163.2445, 3580,   1747.5,   2.6135,  34.6191,2,  34.6187,2,    150.7,2,    150.1,2,   102.43,2,    35.02,2,     0.01,2,     2.44,2, -999.000,9, -999.000,9, -999.000,1,-999.0000,1,  -999.00,9,   -999.0,1,-999.000,9,   2289.0,2,   2393.1,2,     7.56,2,17440.6,-999.0000,-999.000,-999.000,  2.4896,-999.000
   318MWESTW_5,  P21W,   263,  1,     13, SI9413,2,19940616,0640,-21.3000, 163.2445, 3580,   1904.7,   2.4458,  34.6345,2,  34.6333,2,    150.1,2,    151.9,2,   106.56,2,    34.99,2,     0.00,2,     2.44,2, -999.000,9, -999.000,9, -999.000,1,-999.0000,1,  -999.00,9,   -999.0,1,-999.000,9,   2291.5,2,   2397.3,2,     7.56,2,19003.3,-999.0000,-999.000,-999.000,  2.3108,-999.000
   318MWESTW_5,  P21W,   263,  1,     12, SI9438,2,19940616,0640,-21.3000, 163.2445, 3580,   2046.6,   2.2925,  34.6485,2,  34.6472,2,    151.8,2,    151.7,2,   109.22,2,    34.84,2,     0.00,2,     2.45,2, -999.000,9, -999.000,9, -999.000,1,-999.0000,1,  -999.00,9,   -999.0,1,-999.000,9,   2294.1,2,   2402.3,2,     7.56,2,20414.0,-999.0000,-999.000,-999.000,  2.1475,-999.000
   318MWESTW_5,  P21W,   263,  1,     11, SI9411,2,19940616,0640,-21.3000, 163.2445, 3580,   2201.4,   2.1643,  34.6610,2,  34.6567,3,    153.8,2,    153.5,2,   110.57,2,    34.76,2,     0.00,2,     2.42,2, -999.000,9, -999.000,9, -999.000,1,-999.0000,1,  -999.00,9,   -999.0,1,-999.000,9,   2295.1,2,   2388.2,4,     7.56,2,21953.1,-999.0000,-999.000,-999.000,  2.0078,-999.000
   318MWESTW_5,  P21W,   263,  1,     10, SI9412,2,19940616,0640,-21.3000, 163.2445, 3580,   2346.4,   2.0915,  34.6685,2,  34.6671,2,    155.1,2,    155.3,2,   112.06,2,    34.72,2,     0.00,2,     2.41,2, -999.000,9, -999.000,9, -999.000,1,-999.0000,1,  -999.00,9,   -999.0,1,-999.000,9,   2296.7,2,   2407.1,2,     7.57,2,23394.5,-999.0000,-999.000,-999.000,  1.9234,-999.000
   318MWESTW_5,  P21W,   263,  1,      9, SI9410,2,19940616,0640,-21.3000, 163.2445, 3580,   2500.9,   2.0377,  34.6731,2,  34.6722,2,    156.0,2,    157.1,2,   112.98,2,    34.68,2,     0.00,2,     2.40,2, -999.000,9, -999.000,9, -999.000,1,-999.0000,1,  -999.00,9,   -999.0,1,-999.000,9,   2297.8,2,   2401.7,2,     7.57,2,24930.0,-999.0000,-999.000,-999.000,  1.8565,-999.000
   318MWESTW_5,  P21W,   263,  1,      8, SI9422,2,19940616,0640,-21.3000, 163.2445, 3580,   2645.2,   2.0006,  34.6773,2,  34.6765,2,    157.1,2,    157.5,2,   113.60,2,    34.65,2,     0.00,2,     2.40,2,   -0.001,2,   -0.002,2, -999.000,1,-999.0000,1,  -999.00,9,   -999.0,1,-999.000,9,   2298.2,2,   2420.2,4,     7.57,2,26365.2,-999.0000,-999.000,-999.000,  1.8068,-999.000
   318MWESTW_5,  P21W,   263,  1,      7, SI9407,2,19940616,0640,-21.3000, 163.2445, 3580,   2798.2,   1.9727,  34.6808,2,  34.6791,2,    158.4,2,    158.7,2,   114.36,2,    34.60,2,     0.01,2,     2.40,2, -999.000,9, -999.000,9, -999.000,1,-999.0000,1,  -999.00,9,   -999.0,1,-999.000,9,   2298.7,2,   2397.5,2,     7.57,2,27886.3,-999.0000,-999.000,-999.000,  1.7650,-999.000
   318MWESTW_5,  P21W,   263,  1,      6, SI9427,2,19940616,0640,-21.3000, 163.2445, 3580,   2956.1,   1.9446,  34.6825,2,  34.6818,2,    160.0,2,    160.0,2,   115.12,2,    34.52,2,     0.01,2,     2.40,2, -999.000,9, -999.000,9, -999.000,1,-999.0000,1,  -999.00,9,   -999.0,1,-999.000,9,   2296.6,2,   2393.4,3,     7.57,2,29455.3,-999.0000,-999.000,-999.000,  1.7223,-999.000
   318MWESTW_5,  P21W,   263,  1,      5, SI9405,2,19940616,0640,-21.3000, 163.2445, 3580,   3101.5,   1.9282,  34.6855,2,  34.6832,2,    161.0,2,    160.4,2,   115.60,2,    34.33,2,     0.00,2,     2.40,2, -999.000,9, -999.000,9, -999.000,1,-999.0000,1,  -999.00,9,   -999.0,1,-999.000,9,   2295.9,2,   2407.9,2,     7.57,2,30901.4,-999.0000,-999.000,-999.000,  1.6919,-999.000
   318MWESTW_5,  P21W,   263,  1,      4, SI9404,2,19940616,0640,-21.3000, 163.2445, 3580,   3244.6,   1.9095,  34.6867,2,  34.6863,2,    162.0,2,    160.5,2,   116.07,2,    34.25,2,     0.00,2,     2.38,2, -999.000,9, -999.000,9, -999.000,1,-999.0000,1,  -999.00,9,   -999.0,1,-999.000,9,   2296.1,2,   2408.3,2,     7.57,2,32323.6,-999.0000,-999.000,-999.000,  1.6593,-999.000
   318MWESTW_5,  P21W,   263,  1,      3, SI9403,2,19940616,0640,-21.3000, 163.2445, 3580,   3398.3,   1.8942,  34.6882,2,  34.6869,2,    162.9,2,    163.4,2,   116.83,2,    34.31,2,     0.00,2,     2.38,2, -999.000,9, -999.000,9, -999.000,1,-999.0000,1,  -999.00,9,   -999.0,1,-999.000,9,   2295.2,2,   2405.1,2,     7.57,2,33851.3,-999.0000,-999.000,-999.000,  1.6287,-999.000
   318MWESTW_5,  P21W,   263,  1,      2, SI9437,2,19940616,0640,-21.3000, 163.2445, 3580,   3556.8,   1.8741,  34.6892,2,  34.6883,2,    162.8,2,    161.1,2,   117.74,2,    34.36,2,     0.00,2,     2.38,2, -999.000,9, -999.000,9, -999.000,1,-999.0000,1,  -999.00,9,   -999.0,1,-999.000,9,   2299.3,2,   2396.6,2,     7.57,2,35427.2,-999.0000,-999.000,-999.000,  1.5926,-999.000
   318MWESTW_5,  P21W,   263,  1,      1, SI9401,2,19940616,0640,-21.3000, 163.2445, 3580,   3596.9,   1.8702,  34.6898,2,  34.6893,2,    161.8,2,    162.9,2,   118.22,2,    34.46,2,     0.00,2,     2.38,2,   -0.001,2,   -0.002,2, -999.000,1,-999.0000,1,  -999.00,9,   -999.0,1,-999.000,9,   2299.1,2,   2393.1,2,     7.57,2,35826.0,-999.0000,-999.000,-999.000,  1.5845,-999.000