BOTTLE,20010911WHPSIOdm
EXPOCODE,SECT_ID,STNNBR,CASTNO,SAMPNO,BTLNBR,BTLNBR_FLAG_W,DATE,TIME,LATITUDE,LONGITUDE,DEPTH,CTDPRS,CTDTMP,CTDSAL,CTDSAL_FLAG_W,SALNTY,SALNTY_FLAG_W,CTDOXY,CTDOXY_FLAG_W,OXYGEN,OXYGEN_FLAG_W,SILCAT,SILCAT_FLAG_W,NITRAT,NITRAT_FLAG_W,NITRIT,NITRIT_FLAG_W,PHSPHT,PHSPHT_FLAG_W,CFC-11,CFC-11_FLAG_W,CFC-12,CFC-12_FLAG_W,TRITUM,TRITUM_FLAG_W,HELIUM,HELIUM_FLAG_W,DELHE3,DELHE3_FLAG_W,DELC14,DELC14_FLAG_W,NEON,NEON_FLAG_W,TCARBN,TCARBN_FLAG_W,ALKALI,ALKALI_FLAG_W,PH,PH_FLAG_W,CTDRAW,HELIER,DELHER,NEONER,THETA,TRITER
,,,,,,,,,,,,DBAR,ITS-90,PSS-78,,PSS-78,,UMOL/KG,,UMOL/KG,,UMOL/KG,,UMOL/KG,,UMOL/KG,,UMOL/KG,,PMOL/KG,,PMOL/KG,,TU,,UMOL/KG,,PERCNT,,/MILLE,,NMOL/KG,,UMOL/KG,,UMOL/KG,,,,,NMOL/KG,PERCNT,NMOL/KG,ITS-90,TU
   318MWESTW_5,  P21W,   207,  1,     32, SI9432,2,19940602,2303,-17.5000,-175.0000, 2390,      4.8,  25.9094,  35.3978,2,  35.3928,2,    213.1,2,    207.1,2,     0.80,2,    -0.01,2,     0.01,2,     0.12,2,    1.696,2,    0.968,2, -999.000,1,-999.0000,1,  -999.00,9,   -999.0,1,-999.000,9,   1955.0,2,   2326.9,2,     8.13,2,  107.2,-999.0000,-999.000,-999.000, 25.9083,-999.000
   318MWESTW_5,  P21W,   207,  1,     31, SI9431,2,19940602,2303,-17.5000,-175.0000, 2390,     21.3,  25.8443,  35.4577,2,  35.4458,2,    209.4,2,    207.9,2,     0.82,2,    -0.01,2,     0.01,2,     0.12,2,    1.704,2,    0.975,2, -999.000,1,-999.0000,1,  -999.00,9,   -999.0,1,-999.000,9,   1958.7,2,   2330.7,2,     8.13,2,  271.4,-999.0000,-999.000,-999.000, 25.8396,-999.000
   318MWESTW_5,  P21W,   207,  1,     30, SI9440,2,19940602,2303,-17.5000,-175.0000, 2390,     46.0,  25.7032,  35.5213,2,  35.5231,2,    212.6,2,    208.3,2,     0.83,2,    -0.01,2,     0.01,2,     0.12,2,    1.720,2,    0.987,2, -999.000,1,-999.0000,1,  -999.00,9,   -999.0,1,-999.000,9,   1964.2,2,   2333.3,2,     8.12,2,  517.9,-999.0000,-999.000,-999.000, 25.6930,-999.000
   318MWESTW_5,  P21W,   207,  1,     29, SI9429,2,19940602,2303,-17.5000,-175.0000, 2390,     96.3,  24.6405,  35.7412,2,  35.7371,2,    208.7,2,    203.0,2,     0.69,2,     0.04,2,     0.02,2,     0.19,2,    1.781,2,    1.010,2, -999.000,1,-999.0000,1,  -999.00,9,   -999.0,1,-999.000,9,   1998.3,2,   2348.4,2,     8.09,2, 1018.7,-999.0000,-999.000,-999.000, 24.6198,-999.000
   318MWESTW_5,  P21W,   207,  1,     28, SI9428,2,19940602,2303,-17.5000,-175.0000, 2390,    144.6,  22.8638,  35.7584,2,  35.7867,2,    205.2,2,    196.8,2,     0.70,2,     0.21,2,     0.08,2,     0.22,2,    1.907,2,    1.050,2, -999.000,1,-999.0000,1,  -999.00,9,   -999.0,1,-999.000,9,   2018.1,2,   2350.5,2,     8.06,2, 1499.1,-999.0000,-999.000,-999.000, 22.8343,-999.000
   318MWESTW_5,  P21W,   207,  1,     27, SI9424,2,19940602,2303,-17.5000,-175.0000, 2390,    197.6,  21.0176,  35.7706,2,  35.7659,2,    186.8,2,    182.2,2,     0.88,2,     2.45,2,     0.03,2,     0.35,2,    1.907,2,    1.043,2, -999.000,1,-999.0000,1,  -999.00,9,   -999.0,1,-999.000,9,   2048.0,2,   2345.3,2,     8.00,2, 2027.0,-999.0000,-999.000,-999.000, 20.9796,-999.000
   318MWESTW_5,  P21W,   207,  1,     26, SI9414,2,19940602,2303,-17.5000,-175.0000, 2390,    256.7,  19.6604,  35.6985,2,  35.6972,2,    193.0,2,    188.8,2,     0.89,2,     2.86,2,     0.01,2,     0.36,2,    1.944,2,    1.074,2, -999.000,1,-999.0000,1,  -999.00,9,   -999.0,1,-999.000,9,   2052.1,2,   2339.8,2,     7.99,2, 2615.0,-999.0000,-999.000,-999.000, 19.6133,-999.000
   318MWESTW_5,  P21W,   207,  1,     25, SI9425,2,19940602,2303,-17.5000,-175.0000, 2390,    306.2,  17.1113,  35.4399,2,  35.4397,2,    184.6,2,    180.0,2,     1.99,2,     6.23,2,     0.01,2,     0.61,2,    1.685,2,    0.893,2, -999.000,1,-999.0000,1,  -999.00,9,   -999.0,1,-999.000,9,   2080.5,2,   2326.0,2,     7.92,2, 3108.3,-999.0000,-999.000,-999.000, 17.0602,-999.000
   318MWESTW_5,  P21W,   207,  1,     24, SI9434,2,19940602,2303,-17.5000,-175.0000, 2390,    348.6,  15.2147,  35.2344,2,  35.2392,2,    183.7,2,    180.7,2,     2.77,2,     8.61,2,     0.01,2,     0.77,2,    1.541,2,    0.814,2, -999.000,1,-999.0000,1,  -999.00,9,   -999.0,1,-999.000,9,   2092.1,2,   2314.4,2,     7.88,2, 3530.5,-999.0000,-999.000,-999.000, 15.1610,-999.000
   318MWESTW_5,  P21W,   207,  1,     23, SI9423,2,19940602,2303,-17.5000,-175.0000, 2390,    393.4,  12.1830,  34.8962,2,  34.8906,2,    179.8,2,    176.2,2,     5.58,2,    14.69,2,     0.01,2,     1.16,2,    1.071,2,    0.558,2, -999.000,1,-999.0000,1,  -999.00,9,   -999.0,1,-999.000,9,   2120.3,2,   2300.8,2,     7.79,2, 3976.1,-999.0000,-999.000,-999.000, 12.1308,-999.000
   318MWESTW_5,  P21W,   207,  1,     22, SI9418,2,19940602,2303,-17.5000,-175.0000, 2390,    451.4,   9.9615,  34.6645,2,  34.6631,2,    185.3,2,    183.5,2,     7.30,2,    18.87,2,     0.01,2,     1.42,2,    0.839,2,    0.430,2, -999.000,1,-999.0000,1,  -999.00,9,   -999.0,1,-999.000,9,   2137.0,2,   2290.2,2,     7.74,2, 4553.5,-999.0000,-999.000,-999.000,  9.9088,-999.000
   318MWESTW_5,  P21W,   207,  1,     21, SI9421,2,19940602,2303,-17.5000,-175.0000, 2390,    499.4,   8.4012,  34.5312,2,  34.5290,2,    197.8,2,    197.0,2,     8.87,2,    21.59,2,     0.01,2,     1.57,2,    0.749,2,    0.383,2, -999.000,1,-999.0000,1,  -999.00,9,   -999.0,1,-999.000,9,   2144.1,2,   2278.7,2,     7.72,2, 5030.9,-999.0000,-999.000,-999.000,  8.3485,-999.000
   318MWESTW_5,  P21W,   207,  1,     20, SI9420,2,19940602,2303,-17.5000,-175.0000, 2390,    602.8,   6.8647,  34.4065,2,  34.4047,2,    203.1,2,    202.3,2,    13.23,2,    25.25,2,     0.01,2,     1.81,2,    0.434,2,    0.227,2, -999.000,1,-999.0000,1,  -999.00,9,   -999.0,1,-999.000,9,   2156.6,2,   2284.5,2,     7.67,2, 6058.5,-999.0000,-999.000,-999.000,  6.8077,-999.000
   318MWESTW_5,  P21W,   207,  1,     19, SI9419,2,19940602,2303,-17.5000,-175.0000, 2390,    693.5,   6.1873,  34.3728,2,  34.3727,2,    200.5,2,    201.1,2,    17.11,2,    27.11,2,     0.01,2,     1.94,2,    0.267,2,    0.148,2, -999.000,1,-999.0000,1,  -999.00,9,   -999.0,1,-999.000,9,   2164.8,2,   2287.1,2,     7.66,2, 6960.5,-999.0000,-999.000,-999.000,  6.1249,-999.000
   318MWESTW_5,  P21W,   207,  1,     18, SI9439,2,19940602,2303,-17.5000,-175.0000, 2390,    798.8,   5.3315,  34.3635,2,  34.3625,2,    188.6,2,    188.3,2,    27.20,2,    30.11,2,     0.01,2,     2.13,2,    0.084,2,    0.047,2, -999.000,1,-999.0000,1,  -999.00,9,   -999.0,1,-999.000,9,   2186.4,2,   2296.9,2,     7.62,2, 8007.5,-999.0000,-999.000,-999.000,  5.2643,-999.000
   318MWESTW_5,  P21W,   207,  1,     17, SI9417,2,19940602,2303,-17.5000,-175.0000, 2390,    901.2,   4.7271,  34.3943,2,  34.3933,2,    176.5,2,    174.8,2,    39.30,2,    32.15,2,     0.01,2,     2.26,2,    0.038,2,    0.018,2, -999.000,1,-999.0000,1,  -999.00,9,   -999.0,1,-999.000,9,   2207.1,2,   2307.7,2,     7.59,2, 9026.3,-999.0000,-999.000,-999.000,  4.6547,-999.000
   318MWESTW_5,  P21W,   207,  1,     16, SI9416,2,19940602,2303,-17.5000,-175.0000, 2390,   1012.7,   4.1740,  34.4576,2,  34.4589,2,    161.9,2,    159.4,2,    57.60,2,    34.01,2,     0.01,2,     2.39,2, -999.000,9, -999.000,9, -999.000,1,-999.0000,1,  -999.00,9,   -999.0,1,-999.000,9,   2234.8,2,   2330.4,2,     7.57,2,10134.5,-999.0000,-999.000,-999.000,  4.0960,-999.000
   318MWESTW_5,  P21W,   207,  1,     15, SI9415,2,19940602,2303,-17.5000,-175.0000, 2390,   1112.4,   3.7131,  34.4841,2,  34.4838,2,    158.6,2,    157.8,2,    67.22,2,    34.44,2,     0.01,2,     2.41,2,    0.005,2,    0.002,2, -999.000,1,-999.0000,1,  -999.00,9,   -999.0,1,-999.000,9,   2250.6,2,   2336.7,2,     7.56,2,11125.4,-999.0000,-999.000,-999.000,  3.6305,-999.000
   318MWESTW_5,  P21W,   207,  1,     14, SI9436,2,19940602,2303,-17.5000,-175.0000, 2390,   1194.2,   3.4328,  34.5006,2,  34.5009,2,    159.2,2,    158.3,2,    73.75,2,    34.59,2,     0.01,2,     2.42,2, -999.000,9, -999.000,9, -999.000,1,-999.0000,1,  -999.00,9,   -999.0,1,-999.000,9,   2254.0,2,   2349.8,2,     7.56,2,11939.1,-999.0000,-999.000,-999.000,  3.3459,-999.000
   318MWESTW_5,  P21W,   207,  1,     13, SI9413,2,19940602,2303,-17.5000,-175.0000, 2390,   1302.9,   3.2113,  34.5367,2,  34.5372,2,    151.3,2,    150.5,2,    84.60,2,    35.21,2,     0.01,2,     2.48,2,    0.001,2,   -0.001,2, -999.000,1,-999.0000,1,  -999.00,9,   -999.0,1,-999.000,9,   2269.2,2,   2357.9,2,     7.55,2,13019.4,-999.0000,-999.000,-999.000,  3.1176,-999.000
   318MWESTW_5,  P21W,   207,  1,     12, SI9438,2,19940602,2303,-17.5000,-175.0000, 2390,   1409.4,   2.9381,  34.5535,2,  34.5557,2,    152.8,2,    153.3,2,    90.97,2,    35.11,2,     0.02,2,     2.47,2, -999.000,9, -999.000,9, -999.000,1,-999.0000,1,  -999.00,9,   -999.0,1,-999.000,9,   2275.2,2,   2363.2,2,     7.56,2,14078.6,-999.0000,-999.000,-999.000,  2.8385,-999.000
   318MWESTW_5,  P21W,   207,  1,     11, SI9411,2,19940602,2303,-17.5000,-175.0000, 2390,   1501.3,   2.8237,  34.5708,2,  34.5710,2,    151.1,2,    150.6,2,    96.71,2,    35.36,2,     0.02,2,     2.50,2, -999.000,9, -999.000,9, -999.000,1,-999.0000,1,  -999.00,9,   -999.0,1,-999.000,9,   2281.0,2,   2374.8,2,     7.55,2,14992.3,-999.0000,-999.000,-999.000,  2.7178,-999.000
   318MWESTW_5,  P21W,   207,  1,     10, SI9412,2,19940602,2303,-17.5000,-175.0000, 2390,   1586.0,   2.7086,  34.5814,2,  34.5814,2,    150.2,2,    150.1,2,   100.44,2,    35.45,2,     0.02,2,     2.50,2, -999.000,9, -999.000,9, -999.000,1,-999.0000,1,  -999.00,9,   -999.0,1,-999.000,9,   2286.0,2,   2374.6,2,     7.55,2,15834.5,-999.0000,-999.000,-999.000,  2.5971,-999.000
   318MWESTW_5,  P21W,   207,  1,      9, SI9410,2,19940602,2303,-17.5000,-175.0000, 2390,   1684.8,   2.5852,  34.5943,2,  34.5942,2,    150.3,2,    149.9,2,   104.94,2,    35.51,2,     0.01,2,     2.51,2, -999.000,9, -999.000,9, -999.000,1,-999.0000,1,  -999.00,9,   -999.0,1,-999.000,9,   2290.3,2,   2380.0,2,     7.55,2,16816.7,-999.0000,-999.000,-999.000,  2.4670,-999.000
   318MWESTW_5,  P21W,   207,  1,      8, SI9422,2,19940602,2303,-17.5000,-175.0000, 2390,   1790.4,   2.4851,  34.6061,2,  34.6060,2,    150.0,2,    148.2,2,   109.30,2,    35.62,2,     0.01,2,     2.51,2, -999.000,9, -999.000,9, -999.000,1,-999.0000,1,  -999.00,9,   -999.0,1,-999.000,9,   2295.2,2,   2387.0,2,     7.55,2,17866.5,-999.0000,-999.000,-999.000,  2.3593,-999.000
   318MWESTW_5,  P21W,   207,  1,      7, SI9407,2,19940602,2303,-17.5000,-175.0000, 2390,   1897.8,   2.4004,  34.6157,2,  34.6158,2,    147.2,2,    147.6,2,   112.41,2,    35.67,2,     0.01,2,     2.52,2,    0.002,2,    0.003,2, -999.000,1,-999.0000,1,  -999.00,9,   -999.0,1,-999.000,9,   2298.0,2,   2386.1,2,     7.55,2,18933.5,-999.0000,-999.000,-999.000,  2.2667,-999.000
   318MWESTW_5,  P21W,   207,  1,      6, SI9427,2,19940602,2303,-17.5000,-175.0000, 2390,   1993.6,   2.3396,  34.6224,2,  34.6227,2,    147.6,2,    147.0,2,   114.59,2,    35.77,2,     0.01,2,     2.52,2, -999.000,9, -999.000,9, -999.000,1,-999.0000,1,  -999.00,9,   -999.0,1,-999.000,9,   2301.5,2,   2392.8,2,     7.55,2,19885.8,-999.0000,-999.000,-999.000,  2.1986,-999.000
   318MWESTW_5,  P21W,   207,  1,      5, SI9405,2,19940602,2303,-17.5000,-175.0000, 2390,   2093.2,   2.3173,  34.6256,2,  34.6258,2,    146.6,2,    146.4,2,   116.00,2,    35.82,2,     0.01,2,     2.54,2, -999.000,9, -999.000,9, -999.000,1,-999.0000,1,  -999.00,9,   -999.0,1,-999.000,9,   2302.2,2,   2392.0,2,     7.55,2,20876.1,-999.0000,-999.000,-999.000,  2.1680,-999.000
   318MWESTW_5,  P21W,   207,  1,      4, SI9404,2,19940602,2303,-17.5000,-175.0000, 2390,   2194.7,   2.2874,  34.6295,2,  34.6291,2,    147.3,2,    146.3,2,   117.25,2,    35.87,2,     0.01,2,     2.54,2, -999.000,9, -999.000,9, -999.000,1,-999.0000,1,  -999.00,9,   -999.0,1,-999.000,9,   2304.2,2,   2392.3,2,     7.55,2,21884.7,-999.0000,-999.000,-999.000,  2.1296,-999.000
   318MWESTW_5,  P21W,   207,  1,      3, SI9403,2,19940602,2303,-17.5000,-175.0000, 2390,   2296.1,   2.2760,  34.6315,2,  34.6309,2,    146.8,2,    146.8,2,   117.57,2,    35.83,2,     0.01,2,     2.53,2, -999.000,9, -999.000,9, -999.000,1,-999.0000,1,  -999.00,9,   -999.0,1,-999.000,9,   2304.0,2,   2395.5,2,     7.55,2,22892.8,-999.0000,-999.000,-999.000,  2.1093,-999.000
   318MWESTW_5,  P21W,   207,  1,      2, SI9437,2,19940602,2303,-17.5000,-175.0000, 2390,   2355.5,   2.2773,  34.6317,2,  34.6309,2,    147.6,2,    146.6,2,   117.59,2,    35.74,2,     0.01,2,     2.54,2, -999.000,9, -999.000,9, -999.000,1,-999.0000,1,  -999.00,9,   -999.0,1,-999.000,9,   2305.2,2,   2395.4,2,     7.55,2,23483.5,-999.0000,-999.000,-999.000,  2.1052,-999.000
   318MWESTW_5,  P21W,   207,  1,      1, SI9401,2,19940602,2303,-17.5000,-175.0000, 2390,   2379.3,   2.2771,  34.6322,2,  34.6305,2,    146.9,2,    147.3,2,   117.83,2,    35.70,2,     0.01,2,     2.53,2,    0.002,2,    0.001,2, -999.000,1,-999.0000,1,  -999.00,9,   -999.0,1,-999.000,9,   2304.4,2,   2393.8,2,     7.55,2,23719.3,-999.0000,-999.000,-999.000,  2.1029,-999.000