BOTTLE,20010911WHPSIOdm
EXPOCODE,SECT_ID,STNNBR,CASTNO,SAMPNO,BTLNBR,BTLNBR_FLAG_W,DATE,TIME,LATITUDE,LONGITUDE,DEPTH,CTDPRS,CTDTMP,CTDSAL,CTDSAL_FLAG_W,SALNTY,SALNTY_FLAG_W,CTDOXY,CTDOXY_FLAG_W,OXYGEN,OXYGEN_FLAG_W,SILCAT,SILCAT_FLAG_W,NITRAT,NITRAT_FLAG_W,NITRIT,NITRIT_FLAG_W,PHSPHT,PHSPHT_FLAG_W,CFC-11,CFC-11_FLAG_W,CFC-12,CFC-12_FLAG_W,TRITUM,TRITUM_FLAG_W,HELIUM,HELIUM_FLAG_W,DELHE3,DELHE3_FLAG_W,DELC14,DELC14_FLAG_W,NEON,NEON_FLAG_W,TCARBN,TCARBN_FLAG_W,ALKALI,ALKALI_FLAG_W,PH,PH_FLAG_W,CTDRAW,HELIER,DELHER,NEONER,THETA,TRITER
,,,,,,,,,,,,DBAR,ITS-90,PSS-78,,PSS-78,,UMOL/KG,,UMOL/KG,,UMOL/KG,,UMOL/KG,,UMOL/KG,,UMOL/KG,,PMOL/KG,,PMOL/KG,,TU,,UMOL/KG,,PERCNT,,/MILLE,,NMOL/KG,,UMOL/KG,,UMOL/KG,,,,,NMOL/KG,PERCNT,NMOL/KG,ITS-90,TU
   318MWESTW_5,  P21W,   185,  1,     36, SI9442,2,19940527,1505,-17.5000,-163.0000, 4834,     10.1,  28.1593,  35.3905,2,  35.3922,2,    208.2,2,    226.5,2,     0.83,2,    -0.01,2,     0.01,2,     0.18,2,    1.573,2,    0.914,2, -999.000,1,-999.0000,1,  -999.00,9,   -999.0,1,-999.000,9,   1951.3,2,   2324.4,2,     8.14,2,  158.7,-999.0000,-999.000,-999.000, 28.1569,-999.000
   318MWESTW_5,  P21W,   185,  1,     35, SI9435,2,19940527,1505,-17.5000,-163.0000, 4834,     23.5,  28.1667,  35.3905,2,  35.3928,2,    204.3,2,    210.7,2,     0.67,2,     0.01,2,     0.00,2,     0.19,2, -999.000,9, -999.000,9, -999.000,1,-999.0000,1,  -999.00,9,   -999.0,1,-999.000,9,   1950.4,2,   2329.9,2,     8.14,2,  292.9,-999.0000,-999.000,-999.000, 28.1611,-999.000
   318MWESTW_5,  P21W,   185,  1,     34, SI9441,2,19940527,1505,-17.5000,-163.0000, 4834,     47.9,  28.1694,  35.3918,2,  35.3959,2,    202.2,2,    205.0,2,     0.67,2,     0.00,2,     0.01,2,     0.18,2,    1.593,2,    0.920,2, -999.000,1,-999.0000,1,  -999.00,9,   -999.0,1,-999.000,9,   1951.1,2,   2334.1,2,     8.14,2,  536.6,-999.0000,-999.000,-999.000, 28.1581,-999.000
   318MWESTW_5,  P21W,   185,  1,     33, SI9433,2,19940527,1505,-17.5000,-163.0000, 4834,     98.4,  26.1278,  35.8609,2,  35.8597,2,    212.4,2,    225.3,2,     0.68,2,     0.01,2,     0.01,2,     0.19,2,    1.798,2,    1.034,2, -999.000,1,-999.0000,1,  -999.00,9,   -999.0,1,-999.000,9,   1992.1,2,   2360.1,2,     8.11,2, 1039.8,-999.0000,-999.000,-999.000, 26.1057,-999.000
   318MWESTW_5,  P21W,   185,  1,     32, SI9432,2,19940527,1505,-17.5000,-163.0000, 4834,    150.2,  23.9751,  36.0078,2,  36.0090,2,    185.4,2,    187.7,2,     0.68,2,     0.20,2,     0.09,2,     0.29,2, -999.000,9, -999.000,9, -999.000,1,-999.0000,1,  -999.00,9,   -999.0,1,-999.000,9,   2039.3,2,   2368.8,2,     8.05,2, 1555.5,-999.0000,-999.000,-999.000, 23.9434,-999.000
   318MWESTW_5,  P21W,   185,  1,     31, SI9431,2,19940527,1505,-17.5000,-163.0000, 4834,    199.5,  21.8785,  35.8704,2,  35.8757,2,    171.9,2,    176.9,2,     0.85,2,     2.45,2,     0.02,2,     0.39,2,    1.886,2,    1.034,2, -999.000,1,-999.0000,1,  -999.00,9,   -999.0,1,-999.000,9,   2057.6,2,   2356.1,2,     8.00,2, 2046.8,-999.0000,-999.000,-999.000, 21.8390,-999.000
   318MWESTW_5,  P21W,   185,  1,     30, SI9440,2,19940527,1505,-17.5000,-163.0000, 4834,    250.4,  19.5253,  35.6581,2,  35.6455,2,    178.3,2,    177.3,2,     1.33,2,     4.23,2,     0.02,2,     0.50,2, -999.000,9, -999.000,9, -999.000,1,-999.0000,1,  -999.00,9,   -999.0,1,-999.000,9,   2073.4,2,   2340.6,2,     7.95,2, 2552.9,-999.0000,-999.000,-999.000, 19.4795,-999.000
   318MWESTW_5,  P21W,   185,  1,     29, SI9429,2,19940527,1505,-17.5000,-163.0000, 4834,    296.1,  17.4751,  35.4329,2,  35.4261,2,    169.4,2,    169.4,2,     2.45,2,     7.36,2,     0.01,2,     0.73,2,    1.594,2,    0.856,2, -999.000,1,-999.0000,1,  -999.00,9,   -999.0,1,-999.000,9,   2091.3,2,   2328.7,2,     7.91,2, 3008.6,-999.0000,-999.000,-999.000, 17.4250,-999.000
   318MWESTW_5,  P21W,   185,  1,     28, SI9428,2,19940527,1505,-17.5000,-163.0000, 4834,    397.6,  12.7068,  34.8896,2,  34.8741,2,    161.7,2,    161.6,2,     6.93,2,    15.59,2,     0.01,2,     1.27,2,    1.003,2,    0.531,2, -999.000,1,-999.0000,1,  -999.00,9,   -999.0,1,-999.000,9,   2129.6,2,   2300.7,2,     7.77,2, 4018.0,-999.0000,-999.000,-999.000, 12.6526,-999.000
   318MWESTW_5,  P21W,   185,  1,     27, SI9424,2,19940527,1505,-17.5000,-163.0000, 4834,    499.7,   8.4278,  34.5137,2,  34.5089,2,    170.8,2,    166.8,2,    13.81,2,    24.56,2,     0.00,2,     1.80,2,    0.447,2,    0.242,2, -999.000,1,-999.0000,1,  -999.00,9,   -999.0,1,-999.000,9,   2165.5,2,   2289.3,2,     7.66,2, 5033.2,-999.0000,-999.000,-999.000,  8.3750,-999.000
   318MWESTW_5,  P21W,   185,  1,     26, SI9414,2,19940527,1505,-17.5000,-163.0000, 4834,    596.1,   6.7269,  34.4221,2,  34.4206,2,    171.3,2,    172.2,2,    20.84,2,    28.54,2,     0.02,2,     2.02,2,    0.191,2,    0.114,2, -999.000,1,-999.0000,1,  -999.00,9,   -999.0,1,-999.000,9,   2183.1,2,   2291.5,2,     7.62,2, 5991.5,-999.0000,-999.000,-999.000,  6.6712,-999.000
   318MWESTW_5,  P21W,   185,  1,     25, SI9425,2,19940527,1505,-17.5000,-163.0000, 4834,    698.7,   5.5543,  34.4091,2,  34.4078,2,    169.5,2,    167.0,2,    32.35,2,    31.46,2,     0.01,2,     2.21,2,    0.046,2,    0.034,2, -999.000,1,-999.0000,1,  -999.00,9,   -999.0,1,-999.000,9,   2202.8,2,   2304.6,2,     7.59,2, 7011.9,-999.0000,-999.000,-999.000,  5.4948,-999.000
   318MWESTW_5,  P21W,   185,  1,     24, SI9434,2,19940527,1505,-17.5000,-163.0000, 4834,    795.9,   4.7962,  34.4337,2,  34.4338,2,    161.2,2,    158.4,2,    45.93,2,    33.33,2,     0.00,2,     2.33,2, -999.000,9, -999.000,9, -999.000,1,-999.0000,1,  -999.00,9,   -999.0,1,-999.000,9,   2223.4,2,   2316.2,2,     7.56,2, 7978.0,-999.0000,-999.000,-999.000,  4.7324,-999.000
   318MWESTW_5,  P21W,   185,  1,     23, SI9423,2,19940527,1505,-17.5000,-163.0000, 4834,    898.8,   4.1671,  34.4684,2,  34.4679,2,    155.8,2,    154.6,2,    59.50,2,    34.43,2,     0.00,2,     2.41,2,    0.002,2,    0.002,2, -999.000,1,-999.0000,1,  -999.00,9,   -999.0,1,-999.000,9,   2240.8,2,   2326.7,4,     7.92,4, 9001.5,-999.0000,-999.000,-999.000,  4.0987,-999.000
   318MWESTW_5,  P21W,   185,  1,     22, SI9418,2,19940527,1505,-17.5000,-163.0000, 4834,    999.8,   3.8111,  34.4927,2,  34.4907,2,    152.7,2,    152.0,2,    67.98,2,    34.99,2,     0.00,2,     2.47,2,   -0.001,2,   -0.001,2, -999.000,1,-999.0000,1,  -999.00,9,   -999.0,1,-999.000,9,   -999.0,9,   -999.0,9,  -999.00,9,10006.2,-999.0000,-999.000,-999.000,  3.7369,-999.000
   318MWESTW_5,  P21W,   185,  1,     21, SI9421,2,19940527,1505,-17.5000,-163.0000, 4834,   1102.2,   3.4850,  34.5174,2,  34.5180,2,    150.1,2,    148.7,2,    76.76,2,    35.46,2,     0.00,2,     2.49,2, -999.000,9, -999.000,9, -999.000,1,-999.0000,1,  -999.00,9,   -999.0,1,-999.000,9,   2253.6,2,   2317.0,4,     7.56,2,11023.6,-999.0000,-999.000,-999.000,  3.4051,-999.000
   318MWESTW_5,  P21W,   185,  1,     20, SI9420,2,19940527,1505,-17.5000,-163.0000, 4834,   1200.2,   3.2915,  34.5330,2,  34.5333,2,    147.4,2,    147.8,2,    82.02,2,    35.63,2,     0.01,2,     2.51,2, -999.000,9, -999.000,9, -999.000,1,-999.0000,1,  -999.00,9,   -999.0,1,-999.000,9,   2267.3,2,   2353.3,2,     7.54,2,11998.2,-999.0000,-999.000,-999.000,  3.2054,-999.000
   318MWESTW_5,  P21W,   185,  1,     19, SI9419,2,19940527,1505,-17.5000,-163.0000, 4834,   1399.6,   2.9094,  34.5645,2,  34.5659,2,    146.9,2,    147.6,2,    92.88,2,    35.82,2,     0.00,2,     2.52,2, -999.000,9, -999.000,9, -999.000,1,-999.0000,1,  -999.00,9,   -999.0,1,-999.000,9,   2280.8,2,   2349.9,4,     7.55,2,13980.6,-999.0000,-999.000,-999.000,  2.8109,-999.000
   318MWESTW_5,  P21W,   185,  1,     18, SI9439,2,19940527,1505,-17.5000,-163.0000, 4834,   1607.6,   2.6027,  34.5938,2,  34.5944,2,    147.2,2,    147.2,2,   102.94,2,    35.85,2,     0.01,2,     2.53,2, -999.000,9, -999.000,9, -999.000,1,-999.0000,1,  -999.00,9,   -999.0,1,-999.000,9,   2292.3,2,   2377.3,2,     7.54,2,16048.8,-999.0000,-999.000,-999.000,  2.4906,-999.000
   318MWESTW_5,  P21W,   185,  1,     17, SI9417,2,19940527,1505,-17.5000,-163.0000, 4834,   1801.7,   2.3715,  34.6153,2,  34.6168,2,    148.6,2,    149.6,2,   110.28,2,    35.88,2,     0.00,2,     2.52,2, -999.000,9, -999.000,9, -999.000,1,-999.0000,1,  -999.00,9,   -999.0,1,-999.000,9,   2297.7,2,   2386.7,2,     7.55,2,17978.3,-999.0000,-999.000,-999.000,  2.2463,-999.000
   318MWESTW_5,  P21W,   185,  1,     16, SI9416,2,19940527,1505,-17.5000,-163.0000, 4834,   1998.3,   2.2089,  34.6298,2,  34.6305,2,    149.1,2,    149.8,2,   114.75,2,    35.84,2,     0.00,2,     2.52,2, -999.000,9, -999.000,9, -999.000,1,-999.0000,1,  -999.00,9,   -999.0,1,-999.000,9,   2305.1,2,   2391.0,2,     7.55,2,19932.4,-999.0000,-999.000,-999.000,  2.0694,-999.000
   318MWESTW_5,  P21W,   185,  1,     15, SI9415,2,19940527,1505,-17.5000,-163.0000, 4834,   2203.0,   2.0638,  34.6417,2,  34.6429,2,    151.3,2,    152.2,2,   119.05,2,    35.81,2,     0.00,2,     2.51,2, -999.000,9, -999.000,9, -999.000,1,-999.0000,1,  -999.00,9,   -999.0,1,-999.000,9,   2305.0,2,   2397.0,2,     7.57,2,21967.6,-999.0000,-999.000,-999.000,  1.9089,-999.000
   318MWESTW_5,  P21W,   185,  1,     14, SI9436,2,19940527,1505,-17.5000,-163.0000, 4834,   2406.2,   1.9363,  34.6533,2,  34.6533,2,    153.0,2,    153.7,2,   122.56,2,    35.74,2,     0.01,2,     2.52,2, -999.000,9, -999.000,9, -999.000,1,-999.0000,1,  -999.00,9,   -999.0,1,-999.000,9,   2306.6,2,   2393.6,3,     7.56,2,23988.0,-999.0000,-999.000,-999.000,  1.7657,-999.000
   318MWESTW_5,  P21W,   185,  1,     13, SI9413,2,19940527,1505,-17.5000,-163.0000, 4834,   2602.1,   1.8306,  34.6612,2,  34.6606,2,    156.4,2,    156.5,2,   124.32,2,    35.54,2,     0.01,2,     2.49,2, -999.000,9, -999.000,9, -999.000,1,-999.0000,1,  -999.00,9,   -999.0,1,-999.000,9,   2307.5,2,   2399.9,2,     7.58,2,25935.5,-999.0000,-999.000,-999.000,  1.6442,-999.000
   318MWESTW_5,  P21W,   185,  1,     12, SI9438,2,19940527,1505,-17.5000,-163.0000, 4834,   2803.1,   1.7500,  34.6684,2,  34.6698,2,    158.9,2,    159.2,2,   125.75,2,    35.26,2,     0.01,2,     2.48,2, -999.000,9, -999.000,9, -999.000,1,-999.0000,1,  -999.00,9,   -999.0,1,-999.000,9,   2306.1,2,   2398.8,2,     7.57,2,27933.7,-999.0000,-999.000,-999.000,  1.5465,-999.000
   318MWESTW_5,  P21W,   185,  1,     11, SI9411,2,19940527,1505,-17.5000,-163.0000, 4834,   2983.1,   1.6838,  34.6727,2,  34.6747,2,    162.3,2,    164.0,2,   126.38,2,    35.15,2,     0.00,2,     2.46,2, -999.000,9, -999.000,9, -999.000,1,-999.0000,1,  -999.00,9,   -999.0,1,-999.000,9,   2304.0,2,   2398.9,2,     7.56,2,29723.8,-999.0000,-999.000,-999.000,  1.4646,-999.000
   318MWESTW_5,  P21W,   185,  1,     10, SI9412,2,19940527,1505,-17.5000,-163.0000, 4834,   3186.4,   1.6302,  34.6781,2,  34.6777,2,    166.3,2,    165.6,2,   126.54,2,    34.86,2,     0.00,2,     2.43,2, -999.000,9, -999.000,9, -999.000,1,-999.0000,1,  -999.00,9,   -999.0,1,-999.000,9,   2302.2,2,   2400.5,2,     7.56,2,31745.0,-999.0000,-999.000,-999.000,  1.3924,-999.000
   318MWESTW_5,  P21W,   185,  1,      9, SI9410,2,19940527,1505,-17.5000,-163.0000, 4834,   3403.4,   1.5644,  34.6833,2,  34.6828,2,    170.3,2,    170.2,2,   126.06,2,    34.62,2,     0.00,2,     2.42,2, -999.000,9, -999.000,9, -999.000,1,-999.0000,1,  -999.00,9,   -999.0,1,-999.000,9,   2298.3,2,   2395.7,2,     7.57,2,33902.0,-999.0000,-999.000,-999.000,  1.3065,-999.000
   318MWESTW_5,  P21W,   185,  1,      8, SI9422,2,19940527,1505,-17.5000,-163.0000, 4834,   3599.9,   1.5074,  34.6869,2,  34.6873,2,    174.6,2,    174.9,2,   125.10,2,    34.34,2,     0.00,2,     2.40,2, -999.000,9, -999.000,9, -999.000,1,-999.0000,1,  -999.00,9,   -999.0,1,-999.000,9,   2293.0,2,   2394.7,2,     7.58,2,35855.7,-999.0000,-999.000,-999.000,  1.2308,-999.000
   318MWESTW_5,  P21W,   185,  1,      7, SI9407,2,19940527,1505,-17.5000,-163.0000, 4834,   3803.6,   1.4668,  34.6906,2,  34.6918,2,    179.1,2,    178.4,2,   124.45,2,    34.05,2,     0.00,2,     2.38,2, -999.000,9, -999.000,9, -999.000,1,-999.0000,1,  -999.00,9,   -999.0,1,-999.000,9,   2290.9,2,   2391.8,2,     7.58,2,37881.0,-999.0000,-999.000,-999.000,  1.1699,-999.000
   318MWESTW_5,  P21W,   185,  1,      6, SI9427,2,19940527,1505,-17.5000,-163.0000, 4834,   4000.2,   1.3960,  34.6966,2,  34.6969,2,    184.3,2,    184.6,2,   123.17,2,    33.56,2,     0.00,2,     2.36,2, -999.000,9, -999.000,9, -999.000,1,-999.0000,1,  -999.00,9,   -999.0,1,-999.000,9,   2290.1,2,   2382.4,2,     7.60,2,39835.6,-999.0000,-999.000,-999.000,  1.0799,-999.000
   318MWESTW_5,  P21W,   185,  1,      5, SI9405,2,19940527,1505,-17.5000,-163.0000, 4834,   4197.4,   1.3061,  34.7033,2,  34.7046,2,    191.5,2,    192.0,2,   120.83,2,    32.96,2,     0.01,2,     2.30,2, -999.000,9, -999.000,9, -999.000,1,-999.0000,1,  -999.00,9,   -999.0,1,-999.000,9,   2278.2,2,   2380.4,2,     7.59,2,41795.6,-999.0000,-999.000,-999.000,  0.9710,-999.000
   318MWESTW_5,  P21W,   185,  1,      4, SI9404,2,19940527,1505,-17.5000,-163.0000, 4834,   4395.0,   1.2424,  34.7083,2,  34.7077,2,    198.3,2,    198.8,2,   119.34,2,    32.54,2,     0.00,2,     2.27,2, -999.000,9, -999.000,9, -999.000,1,-999.0000,1,  -999.00,9,   -999.0,1,-999.000,9,   2271.0,2,   -999.0,9,     7.59,2,43759.7,-999.0000,-999.000,-999.000,  0.8872,-999.000
   318MWESTW_5,  P21W,   185,  1,      3, SI9403,2,19940527,1505,-17.5000,-163.0000, 4834,   4593.2,   1.1512,  34.7090,2,  34.7085,2,    203.0,2,    204.1,2,   119.34,2,    32.33,2,     0.00,2,     2.26,2,    0.003,2,    0.002,2, -999.000,1,-999.0000,1,  -999.00,9,   -999.0,1,-999.000,9,   2266.6,2,   -999.0,9,     7.59,2,45730.5,-999.0000,-999.000,-999.000,  0.7763,-999.000
   318MWESTW_5,  P21W,   185,  1,      2, SI9437,2,19940527,1505,-17.5000,-163.0000, 4834,   4823.2,   1.1432,  34.7097,2,  34.7089,2,    203.8,2,    205.6,2,   119.17,2,    32.26,2,     0.00,2,     2.25,2, -999.000,9, -999.000,9, -999.000,1,-999.0000,1,  -999.00,9,   -999.0,1,-999.000,9,   2265.4,2,   2370.6,2,     7.59,2,48016.7,-999.0000,-999.000,-999.000,  0.7419,-999.000
   318MWESTW_5,  P21W,   185,  1,      1, SI9401,2,19940527,1505,-17.5000,-163.0000, 4834,   4890.6,   1.1496,  34.7089,2,  34.7081,2,    204.5,2,    206.2,2,   119.11,2,    32.22,2,     0.00,2,     2.24,2,    0.006,2,    0.003,2, -999.000,1,-999.0000,1,  -999.00,9,   -999.0,1,-999.000,9,   2264.8,2,   2368.7,2,     7.59,2,48687.5,-999.0000,-999.000,-999.000,  0.7401,-999.000