BOTTLE,20010911WHPSIOdm
EXPOCODE,SECT_ID,STNNBR,CASTNO,SAMPNO,BTLNBR,BTLNBR_FLAG_W,DATE,TIME,LATITUDE,LONGITUDE,DEPTH,CTDPRS,CTDTMP,CTDSAL,CTDSAL_FLAG_W,SALNTY,SALNTY_FLAG_W,CTDOXY,CTDOXY_FLAG_W,OXYGEN,OXYGEN_FLAG_W,SILCAT,SILCAT_FLAG_W,NITRAT,NITRAT_FLAG_W,NITRIT,NITRIT_FLAG_W,PHSPHT,PHSPHT_FLAG_W,CFC-11,CFC-11_FLAG_W,CFC-12,CFC-12_FLAG_W,TRITUM,TRITUM_FLAG_W,HELIUM,HELIUM_FLAG_W,DELHE3,DELHE3_FLAG_W,DELC14,DELC14_FLAG_W,NEON,NEON_FLAG_W,TCARBN,TCARBN_FLAG_W,ALKALI,ALKALI_FLAG_W,PH,PH_FLAG_W,CTDRAW,HELIER,DELHER,NEONER,THETA,TRITER
,,,,,,,,,,,,DBAR,ITS-90,PSS-78,,PSS-78,,UMOL/KG,,UMOL/KG,,UMOL/KG,,UMOL/KG,,UMOL/KG,,UMOL/KG,,PMOL/KG,,PMOL/KG,,TU,,UMOL/KG,,PERCNT,,/MILLE,,NMOL/KG,,UMOL/KG,,UMOL/KG,,,,,NMOL/KG,PERCNT,NMOL/KG,ITS-90,TU
   318MWESTW_4,  P21E,    35,  1,     36, SI9336,2,19940406,1520,-16.7500, -82.6695, 4714,     10.0,  23.7244,  35.8115,2,  35.8119,2,    210.9,2,    215.1,2,     1.30,2,     0.03,2,     0.01,2,     0.49,2,    1.943,2,    1.028,2, -999.000,1,-999.0000,1,  -999.00,9,   -999.0,1,-999.000,9,   2046.8,2,   2374.0,2,     8.05,2,  145.0,-999.0000,-999.000,-999.000, 23.7223,-999.000
   318MWESTW_4,  P21E,    35,  1,     35, SI9335,2,19940406,1520,-16.7500, -82.6695, 4714,     25.3,  23.7106,  35.8108,2,  35.8098,2,    215.2,2,    213.7,2,     2.42,2,     0.05,2,     0.00,2,     0.49,2,    1.974,2,    1.033,2, -999.000,1,-999.0000,1,  -999.00,9,   -999.0,1,-999.000,9,   2046.8,2,   2375.0,2,     8.05,2,  298.5,-999.0000,-999.000,-999.000, 23.7053,-999.000
   318MWESTW_4,  P21E,    35,  1,     34, SI9334,2,19940406,1520,-16.7500, -82.6695, 4714,     50.3,  19.7902,  35.4994,2,  35.5036,2,    243.0,2,    285.8,2,     2.29,2,     0.10,2,     0.06,2,     0.47,2,    2.570,2,    1.334,2, -999.000,1,-999.0000,1,  -999.00,9,   -999.0,1,-999.000,9,   2034.8,2,   2352.0,2,     8.05,2,  548.2,-999.0000,-999.000,-999.000, 19.7810,-999.000
   318MWESTW_4,  P21E,    35,  1,     33, SI9333,2,19940406,1520,-16.7500, -82.6695, 4714,    100.3,  17.7770,  35.3513,2,  35.3547,2,    188.5,2,    185.1,2,     2.69,2,    10.72,2,     0.06,2,     1.12,2,    2.477,2,    1.261,2, -999.000,1,-999.0000,1,  -999.00,9,   -999.0,1,-999.000,9,   2123.8,2,   2336.0,2,     7.86,2, 1048.3,-999.0000,-999.000,-999.000, 17.7599,-999.000
   318MWESTW_4,  P21E,    35,  1,     32, SI9332,2,19940406,1520,-16.7500, -82.6695, 4714,    150.1,  14.4163,  34.8996,2,  34.9160,2,     61.0,2,     55.9,2,    11.09,2,    21.12,2,     0.01,2,     2.07,2,    1.628,3,    0.753,3, -999.000,1,-999.0000,1,  -999.00,9,   -999.0,1,-999.000,9,   2207.9,2,   2304.0,2,     7.59,2, 1545.0,-999.0000,-999.000,-999.000, 14.3942,-999.000
   318MWESTW_4,  P21E,    35,  1,     31, SI9331,2,19940406,1520,-16.7500, -82.6695, 4714,    201.0,  12.5593,  34.7779,2,  34.7779,2,     12.1,2,     11.8,2,    21.68,2,    19.84,2,     0.00,2,     2.63,2,    0.694,3,    0.321,3, -999.000,1,-999.0000,1,  -999.00,9,   -999.0,1,-999.000,9,   2251.9,2,   2302.0,2,     7.45,2, 2053.6,-999.0000,-999.000,-999.000, 12.5323,-999.000
   318MWESTW_4,  P21E,    35,  1,     30, SI9330,2,19940406,1520,-16.7500, -82.6695, 4714,    249.7,  11.6854,  34.7610,2,  34.7596,2,      4.5,2,      4.4,2,    24.81,2,    24.18,2,     0.00,2,     2.71,2,    0.304,3,    0.135,3, -999.000,1,-999.0000,1,  -999.00,9,   -999.0,1,-999.000,9,   2263.9,2,   2300.0,2,     7.42,2, 2540.8,-999.0000,-999.000,-999.000, 11.6534,-999.000
   318MWESTW_4,  P21E,    35,  1,     29, SI9329,2,19940406,1520,-16.7500, -82.6695, 4714,    303.2,  10.8137,  34.7245,2,  34.7327,2,      3.3,2,      3.0,2,    26.67,2,    29.96,2,     0.00,2,     2.73,2,    0.117,2,    0.050,2, -999.000,1,-999.0000,1,  -999.00,9,   -999.0,1,-999.000,9,   2270.0,2,   2301.0,2,     7.40,2, 3075.3,-999.0000,-999.000,-999.000, 10.7767,-999.000
   318MWESTW_4,  P21E,    35,  1,     28, SI9328,4,19940406,1520,-16.7500, -82.6695, 4714,    402.4,   9.1297,  34.6611,2,  34.6242,4,      4.5,2,    102.6,4,    47.09,4,    38.52,2,     0.00,2,     2.87,2,    0.015,2,   -0.003,2, -999.000,1,-999.0000,1,  -999.00,9,   -999.0,1,-999.000,9,   2288.0,2,   2320.0,4,     7.40,2, 4066.4,-999.0000,-999.000,-999.000,  9.0853,-999.000
   318MWESTW_4,  P21E,    35,  1,     27, SI9327,2,19940406,1520,-16.7500, -82.6695, 4714,    500.5,   7.8494,  34.5794,2,  34.5781,2,     17.2,2,     17.3,2,    35.54,2,    40.73,2,     0.02,2,     2.99,2,    0.032,2,    0.000,2, -999.000,1,-999.0000,1,  -999.00,9,   -999.0,1,-999.000,9,   2279.0,2,   2303.0,2,     7.37,2, 5045.4,-999.0000,-999.000,-999.000,  7.7986,-999.000
   318MWESTW_4,  P21E,    35,  1,     26, SI9326,2,19940406,1520,-16.7500, -82.6695, 4714,    601.5,   6.8227,  34.5292,2,  34.5327,2,     27.9,2,     26.8,2,    41.75,2,    42.70,2,     0.01,2,     3.07,2,    0.009,2,   -0.003,2, -999.000,1,-999.0000,1,  -999.00,9,   -999.0,1,-999.000,9,   2285.0,2,   2305.0,2,     7.38,2, 6054.8,-999.0000,-999.000,-999.000,  6.7659,-999.000
   318MWESTW_4,  P21E,    35,  1,     25, SI9325,2,19940406,1520,-16.7500, -82.6695, 4714,    700.5,   6.0433,  34.5045,2,  34.5066,2,     37.2,2,     36.9,2,    48.13,2,    43.52,2,     0.01,2,     3.11,2,    0.002,2,   -0.003,2, -999.000,1,-999.0000,1,  -999.00,9,   -999.0,1,-999.000,9,   2288.0,2,   2313.0,2,     7.38,2, 7043.1,-999.0000,-999.000,-999.000,  5.9809,-999.000
   318MWESTW_4,  P21E,    35,  1,     24, SI9324,2,19940406,1520,-16.7500, -82.6695, 4714,    798.6,   5.4286,  34.5074,2,  34.5068,2,     38.7,2,     38.9,2,    57.80,2,    44.19,2,     0.00,2,     3.18,2,   -0.002,2,   -0.004,2, -999.000,1,-999.0000,1,  -999.00,9,   -999.0,1,-999.000,9,   2300.0,2,   2321.0,2,     7.38,2, 8023.5,-999.0000,-999.000,-999.000,  5.3606,-999.000
   318MWESTW_4,  P21E,    35,  1,     23, SI9323,2,19940406,1520,-16.7500, -82.6695, 4714,    900.4,   4.9163,  34.5163,2,  34.5168,2,     44.8,2,     44.0,2,    68.19,2,    44.31,2,     0.01,2,     3.20,2,   -0.002,2,   -0.004,2, -999.000,1,-999.0000,1,  -999.00,9,   -999.0,1,-999.000,9,   2310.0,2,   2334.0,2,     7.39,2, 9040.6,-999.0000,-999.000,-999.000,  4.8425,-999.000
   318MWESTW_4,  P21E,    35,  1,     22, SI9322,2,19940406,1520,-16.7500, -82.6695, 4714,    997.9,   4.5258,  34.5265,2,  34.5317,4,     55.2,2,     53.4,2,    75.86,2,    43.58,2,     0.01,2,     3.16,2,   -0.002,2,   -0.004,2, -999.000,1,-999.0000,1,  -999.00,9,   -999.0,1,-999.000,9,   2314.0,2,   2342.0,2,     7.40,2,10014.5,-999.0000,-999.000,-999.000,  4.4462,-999.000
   318MWESTW_4,  P21E,    35,  1,     21, SI9321,2,19940406,1520,-16.7500, -82.6695, 4714,   1102.2,   4.1354,  34.5417,2,  34.5370,2,     64.6,2,     63.1,2,    84.24,2,    42.79,2,     0.01,2,     3.11,2, -999.000,9, -999.000,9, -999.000,1,-999.0000,1,  -999.00,9,   -999.0,1,-999.000,9,   2317.0,2,   2353.0,2,     7.42,2,11055.5,-999.0000,-999.000,-999.000,  4.0500,-999.000
   318MWESTW_4,  P21E,    35,  1,     20, SI9320,2,19940406,1520,-16.7500, -82.6695, 4714,   1198.3,   3.7844,  34.5529,2,  34.5535,2,     70.5,2,     69.6,2,    92.64,2,    42.38,2,     0.01,2,     3.07,2, -999.000,9, -999.000,9, -999.000,1,-999.0000,1,  -999.00,9,   -999.0,1,-999.000,9,   2322.0,2,   2361.0,2,     7.43,2,12016.2,-999.0000,-999.000,-999.000,  3.6938,-999.000
   318MWESTW_4,  P21E,    35,  1,     19, SI9319,2,19940406,1520,-16.7500, -82.6695, 4714,   1294.5,   3.4759,  34.5646,2,  34.5659,2,     78.1,2,     77.9,2,    99.39,2,    41.85,2,     0.01,2,     3.03,2, -999.000,9, -999.000,9, -999.000,1,-999.0000,1,  -999.00,9,   -999.0,1,-999.000,9,   2326.0,2,   2369.0,2,     7.45,2,12977.0,-999.0000,-999.000,-999.000,  3.3802,-999.000
   318MWESTW_4,  P21E,    35,  1,     18, SI9318,2,19940406,1520,-16.7500, -82.6695, 4714,   1404.0,   3.2422,  34.5793,2,  34.5802,2,     81.8,2,     81.4,2,   106.14,2,    41.54,2,     0.01,2,     3.00,2, -999.000,9, -999.000,9, -999.000,1,-999.0000,1,  -999.00,9,   -999.0,1,-999.000,9,   2330.0,2,   2375.0,2,     7.45,2,14071.2,-999.0000,-999.000,-999.000,  3.1397,-999.000
   318MWESTW_4,  P21E,    35,  1,     17, SI9317,2,19940406,1520,-16.7500, -82.6695, 4714,   1499.6,   2.9928,  34.5887,2,  34.5893,2,     92.9,2,     92.4,2,   109.62,2,    40.55,2,     0.00,2,     2.93,2, -999.000,9, -999.000,9, -999.000,1,-999.0000,1,  -999.00,9,   -999.0,1,-999.000,9,   2329.0,2,   2381.0,2,     7.48,2,15026.2,-999.0000,-999.000,-999.000,  2.8850,-999.000
   318MWESTW_4,  P21E,    35,  1,     16, SI9316,2,19940406,1520,-16.7500, -82.6695, 4714,   1600.8,   2.8132,  34.6014,2,  34.6026,2,     95.7,2,     95.4,2,   115.27,2,    40.19,2,     0.00,2,     2.91,2, -999.000,9, -999.000,9, -999.000,1,-999.0000,1,  -999.00,9,   -999.0,1,-999.000,9,   2334.0,2,   2385.0,2,     7.48,2,16036.7,-999.0000,-999.000,-999.000,  2.6991,-999.000
   318MWESTW_4,  P21E,    35,  1,     15, SI9315,2,19940406,1520,-16.7500, -82.6695, 4714,   1804.1,   2.5022,  34.6217,2,  34.6225,2,    108.1,2,    108.0,2,   121.29,2,    39.02,2,     0.00,2,     2.81,2, -999.000,9, -999.000,9, -999.000,1,-999.0000,1,  -999.00,9,   -999.0,1,-999.000,9,   2332.0,2,   2394.0,2,     7.52,2,18067.9,-999.0000,-999.000,-999.000,  2.3750,-999.000
   318MWESTW_4,  P21E,    35,  1,     14, SI9314,2,19940406,1520,-16.7500, -82.6695, 4714,   2001.0,   2.2566,  34.6397,2,  34.6402,2,    112.7,2,    113.2,2,   129.14,2,    38.72,2,     0.00,2,     2.77,2, -999.000,9, -999.000,9, -999.000,1,-999.0000,1,  -999.00,9,   -999.0,1,-999.000,9,   2338.0,2,   2402.0,2,     7.52,2,20034.8,-999.0000,-999.000,-999.000,  2.1162,-999.000
   318MWESTW_4,  P21E,    35,  1,     13, SI9313,2,19940406,1520,-16.7500, -82.6695, 4714,   2196.2,   2.0683,  34.6531,2,  34.6529,2,    125.8,2,    126.6,2,   129.51,2,    37.71,2,     0.00,2,     2.67,2, -999.000,9, -999.000,9, -999.000,1,-999.0000,1,  -999.00,9,   -999.0,1,-999.000,9,   2330.0,2,   2407.0,2,     7.54,2,21985.4,-999.0000,-999.000,-999.000,  1.9139,-999.000
   318MWESTW_4,  P21E,    35,  1,     12, SI9312,2,19940406,1520,-16.7500, -82.6695, 4714,   2398.1,   1.9388,  34.6632,2,  34.6635,2,    137.6,2,    136.4,2,   129.16,2,    37.07,2,     0.00,2,     2.60,2, -999.000,9, -999.000,9, -999.000,1,-999.0000,1,  -999.00,9,   -999.0,1,-999.000,9,   2324.0,2,   2405.0,2,     7.55,2,24002.5,-999.0000,-999.000,-999.000,  1.7688,-999.000
   318MWESTW_4,  P21E,    35,  1,     11, SI9311,2,19940406,1520,-16.7500, -82.6695, 4714,   2599.2,   1.8646,  34.6705,2,  34.6700,2,    141.4,2,    140.2,2,   131.36,2,    36.86,2,     0.02,2,     2.59,2, -999.000,9, -999.000,9, -999.000,1,-999.0000,1,  -999.00,9,   -999.0,1,-999.000,9,   2325.0,2,   2411.0,2,     7.56,2,26011.7,-999.0000,-999.000,-999.000,  1.6777,-999.000
   318MWESTW_4,  P21E,    35,  1,     10, SI9310,2,19940406,1520,-16.7500, -82.6695, 4714,   2800.5,   1.8208,  34.6757,2,  34.6753,2,    139.2,2,    138.5,2,   135.74,2,    36.94,2,     0.01,2,     2.60,2, -999.000,9, -999.000,9, -999.000,1,-999.0000,1,  -999.00,9,   -999.0,1,-999.000,9,   2331.0,2,   2415.0,2,     7.56,2,28023.1,-999.0000,-999.000,-999.000,  1.6161,-999.000
   318MWESTW_4,  P21E,    35,  1,      9, SI9309,2,19940406,1520,-16.7500, -82.6695, 4714,   3048.1,   1.7996,  34.6795,2,  34.6796,2,    137.9,2,    137.8,2,   139.03,2,    36.87,2,    -0.01,2,     2.60,2, -999.000,9, -999.000,9, -999.000,1,-999.0000,1,  -999.00,9,   -999.0,1,-999.000,9,   2335.0,2,   2423.0,2,     7.57,2,30497.3,-999.0000,-999.000,-999.000,  1.5715,-999.000
   318MWESTW_4,  P21E,    35,  1,      8, SI9308,2,19940406,1520,-16.7500, -82.6695, 4714,   3297.3,   1.7974,  34.6816,2,  34.6820,2,    138.2,2,    138.4,2,   139.22,2,    36.75,2,     0.01,2,     2.59,2, -999.000,9, -999.000,9, -999.000,1,-999.0000,1,  -999.00,9,   -999.0,1,-999.000,9,   2337.0,2,   2423.0,2,     7.56,2,32987.5,-999.0000,-999.000,-999.000,  1.5446,-999.000
   318MWESTW_4,  P21E,    35,  1,      7, SI9307,2,19940406,1520,-16.7500, -82.6695, 4714,   3546.2,   1.7934,  34.6843,2,  34.6857,2,    141.4,2,    141.4,2,   137.78,2,    36.50,2,     0.01,2,     2.56,2, -999.000,9, -999.000,9, -999.000,1,-999.0000,1,  -999.00,9,   -999.0,1,-999.000,9,   2334.0,2,   2423.0,2,     7.58,2,35475.0,-999.0000,-999.000,-999.000,  1.5151,-999.000
   318MWESTW_4,  P21E,    35,  1,      6, SI9306,2,19940406,1520,-16.7500, -82.6695, 4714,   3801.0,   1.7789,  34.6871,2,  34.6869,2,    146.7,2,    146.8,2,   134.32,2,    36.14,2,     0.01,2,     2.54,2, -999.000,9, -999.000,9, -999.000,1,-999.0000,1,  -999.00,9,   -999.0,1,-999.000,9,   2328.0,2,   2417.0,2,     7.57,2,38021.8,-999.0000,-999.000,-999.000,  1.4739,-999.000
   318MWESTW_4,  P21E,    35,  1,      5, SI9305,2,19940406,1520,-16.7500, -82.6695, 4714,   4045.1,   1.7723,  34.6893,2,  34.6891,2,    152.0,2,    151.8,2,   131.41,2,    35.88,2,     0.01,2,     2.51,2, -999.000,9, -999.000,9, -999.000,1,-999.0000,1,  -999.00,9,   -999.0,1,-999.000,9,   2323.0,2,   2415.0,2,     7.58,2,40461.6,-999.0000,-999.000,-999.000,  1.4407,-999.000
   318MWESTW_4,  P21E,    35,  1,      4, SI9304,2,19940406,1520,-16.7500, -82.6695, 4714,   4298.4,   1.7778,  34.6905,2,  34.6906,2,    153.9,2,    153.5,2,   130.51,2,    35.85,2,     0.01,2,     2.50,2, -999.000,9, -999.000,9, -999.000,1,-999.0000,1,  -999.00,9,   -999.0,1,-999.000,9,   2321.0,2,   2410.0,2,     7.57,2,42993.6,-999.0000,-999.000,-999.000,  1.4175,-999.000
   318MWESTW_4,  P21E,    35,  1,      3, SI9303,2,19940406,1520,-16.7500, -82.6695, 4714,   4550.2,   1.7995,  34.6911,2,  34.6903,2,    154.6,2,    153.8,2,   129.98,2,    35.70,2,     0.01,2,     2.49,2, -999.000,9, -999.000,9, -999.000,1,-999.0000,1,  -999.00,9,   -999.0,1,-999.000,9,   2320.0,2,   2412.0,2,     7.58,2,45511.5,-999.0000,-999.000,-999.000,  1.4093,-999.000
   318MWESTW_4,  P21E,    35,  1,      2, SI9302,2,19940406,1520,-16.7500, -82.6695, 4714,   4722.0,   1.8200,  34.6914,2,  34.6906,2,    154.7,2,    154.0,2,   130.35,2,    35.71,2,     0.01,2,     2.49,2, -999.000,9, -999.000,9, -999.000,1,-999.0000,1,  -999.00,9,   -999.0,1,-999.000,9,   2321.0,2,   2411.0,2,     7.57,2,47228.3,-999.0000,-999.000,-999.000,  1.4088,-999.000
   318MWESTW_4,  P21E,    35,  1,      1, SI9301,2,19940406,1520,-16.7500, -82.6695, 4714,   4773.9,   1.8262,  34.6915,2,  34.6908,2,    154.3,2,    153.7,2,   130.27,2,    35.49,2,    -0.01,2,     2.50,2, -999.000,9, -999.000,9, -999.000,1,-999.0000,1,  -999.00,9,   -999.0,1,-999.000,9,   2322.0,2,   2412.0,2,     7.59,2,47748.0,-999.0000,-999.000,-999.000,  1.4085,-999.000