BOTTLE,20010911WHPSIOdm
EXPOCODE,SECT_ID,STNNBR,CASTNO,SAMPNO,BTLNBR,BTLNBR_FLAG_W,DATE,TIME,LATITUDE,LONGITUDE,DEPTH,CTDPRS,CTDTMP,CTDSAL,CTDSAL_FLAG_W,SALNTY,SALNTY_FLAG_W,CTDOXY,CTDOXY_FLAG_W,OXYGEN,OXYGEN_FLAG_W,SILCAT,SILCAT_FLAG_W,NITRAT,NITRAT_FLAG_W,NITRIT,NITRIT_FLAG_W,PHSPHT,PHSPHT_FLAG_W,CFC-11,CFC-11_FLAG_W,CFC-12,CFC-12_FLAG_W,TRITUM,TRITUM_FLAG_W,HELIUM,HELIUM_FLAG_W,DELHE3,DELHE3_FLAG_W,DELC14,DELC14_FLAG_W,NEON,NEON_FLAG_W,TCARBN,TCARBN_FLAG_W,ALKALI,ALKALI_FLAG_W,PH,PH_FLAG_W,CTDRAW,HELIER,DELHER,NEONER,THETA,TRITER
,,,,,,,,,,,,DBAR,ITS-90,PSS-78,,PSS-78,,UMOL/KG,,UMOL/KG,,UMOL/KG,,UMOL/KG,,UMOL/KG,,UMOL/KG,,PMOL/KG,,PMOL/KG,,TU,,UMOL/KG,,PERCNT,,/MILLE,,NMOL/KG,,UMOL/KG,,UMOL/KG,,,,,NMOL/KG,PERCNT,NMOL/KG,ITS-90,TU
   318MWESTW_4,  P21E,    51,  1,     36, SI9336,2,19940412,1116,-16.7500, -88.3333, 4300,      6.6,  22.9460,  35.7156,2,  35.7221,2,    215.2,2,    218.2,2,     0.70,2,     0.01,2,     0.00,2,     0.49,2,    1.963,2,    1.075,2, -999.000,1,-999.0000,1,  -999.00,9,   -999.0,1,-999.000,9,   2055.8,2,   2366.0,2,     8.03,2,  117.6,-999.0000,-999.000,-999.000, 22.9447,-999.000
   318MWESTW_4,  P21E,    51,  1,     35, SI9335,2,19940412,1116,-16.7500, -88.3333, 4300,     24.3,  22.9454,  35.7221,2,  35.7227,2,    218.0,2,    218.6,2,     0.72,2,     0.00,2,     0.00,2,     0.50,2,    1.927,2,    1.057,2, -999.000,1,-999.0000,1,  -999.00,9,   -999.0,1,-999.000,9,   2055.8,2,   2368.0,2,     8.03,2,  295.0,-999.0000,-999.000,-999.000, 22.9404,-999.000
   318MWESTW_4,  P21E,    51,  1,     34, SI9334,2,19940412,1116,-16.7500, -88.3333, 4300,     51.2,  20.6400,  35.7198,2,  35.7213,2,    235.5,2,    232.2,2,     0.94,2,     0.06,2,     0.00,2,     0.39,2,    2.309,2,    1.249,2, -999.000,1,-999.0000,1,  -999.00,9,   -999.0,1,-999.000,9,   2065.8,2,   2360.0,2,     8.01,2,  563.3,-999.0000,-999.000,-999.000, 20.6303,-999.000
   318MWESTW_4,  P21E,    51,  1,     33, SI9333,2,19940412,1116,-16.7500, -88.3333, 4300,    101.7,  19.0112,  35.5625,2,  35.5646,2,    215.9,2,    211.5,2,     1.15,2,     1.61,2,     1.25,2,     0.61,2,    2.375,2,    1.264,2, -999.000,1,-999.0000,1,  -999.00,9,   -999.0,1,-999.000,9,   2084.8,2,   2354.0,2,     7.96,2, 1066.0,-999.0000,-999.000,-999.000, 18.9930,-999.000
   318MWESTW_4,  P21E,    51,  1,     32, SI9332,2,19940412,1116,-16.7500, -88.3333, 4300,    151.6,  17.4138,  35.2666,2,  35.2721,2,    193.9,2,    191.2,2,     2.51,2,     8.12,2,     0.06,2,     0.92,2,    2.372,2,    1.235,2, -999.000,1,-999.0000,1,  -999.00,9,   -999.0,1,-999.000,9,   2107.8,2,   2328.0,2,     7.88,2, 1562.9,-999.0000,-999.000,-999.000, 17.3883,-999.000
   318MWESTW_4,  P21E,    51,  1,     31, SI9331,2,19940412,1116,-16.7500, -88.3333, 4300,    202.4,  13.1673,  34.7614,2,  34.7606,2,     64.3,2,     37.3,2,    15.51,2,    21.07,2,     0.03,2,     2.33,2,    1.180,2,    0.574,2, -999.000,1,-999.0000,1,  -999.00,9,   -999.0,1,-999.000,9,   2226.9,2,   2295.0,2,     7.52,2, 2068.9,-999.0000,-999.000,-999.000, 13.1393,-999.000
   318MWESTW_4,  P21E,    51,  1,     30, SI9330,2,19940412,1116,-16.7500, -88.3333, 4300,    253.6,  11.7530,  34.7625,2,  34.7600,2,     11.6,2,      4.5,2,    24.12,2,    24.77,2,     0.02,2,     2.70,2,    0.292,6,    0.142,6, -999.000,1,-999.0000,1,  -999.00,9,   -999.0,1,-999.000,9,   2263.9,2,   2297.0,2,     7.42,2, 2577.6,-999.0000,-999.000,-999.000, 11.7204,-999.000
   318MWESTW_4,  P21E,    51,  1,     29, SI9329,2,19940412,1116,-16.7500, -88.3333, 4300,    295.1,  10.7926,  34.7218,2,  34.7211,2,      8.1,2,      3.6,2,    26.62,2,    29.24,2,     0.02,2,     2.76,2,    0.144,2,    0.066,2, -999.000,1,-999.0000,1,  -999.00,9,   -999.0,1,-999.000,9,   2271.0,2,   2297.0,2,     7.40,2, 2991.0,-999.0000,-999.000,-999.000, 10.7566,-999.000
   318MWESTW_4,  P21E,    51,  1,     28, SI9328,2,19940412,1116,-16.7500, -88.3333, 4300,    400.3,   9.0437,  34.6348,2,  34.6313,2,     11.8,2,     10.5,2,    30.08,2,    37.42,2,     0.02,2,     2.83,2,    0.035,2,    0.010,2, -999.000,1,-999.0000,1,  -999.00,9,   -999.0,1,-999.000,9,   2271.0,2,   2299.0,2,     7.38,2, 4037.5,-999.0000,-999.000,-999.000,  8.9998,-999.000
   318MWESTW_4,  P21E,    51,  1,     26, SI9326,2,19940412,1116,-16.7500, -88.3333, 4300,    493.5,   7.7490,  34.5719,2,  34.5684,2,     26.3,2,     24.7,2,    34.48,2,    40.54,2,     0.02,2,     2.89,2,    0.012,2,   -0.001,2, -999.000,1,-999.0000,1,  -999.00,9,   -999.0,1,-999.000,9,   2282.0,2,   2300.0,2,     7.41,2, 4963.9,-999.0000,-999.000,-999.000,  7.6993,-999.000
   318MWESTW_4,  P21E,    51,  1,     25, SI9325,2,19940412,1116,-16.7500, -88.3333, 4300,    646.5,   6.2063,  34.5031,2,  34.5003,2,     46.1,2,     44.1,2,    43.46,2,    42.67,2,     0.02,2,     3.01,2,    0.002,2,   -0.003,2, -999.000,1,-999.0000,1,  -999.00,9,   -999.0,1,-999.000,9,   2279.0,2,   2306.0,2,     7.39,2, 6485.9,-999.0000,-999.000,-999.000,  6.1481,-999.000
   318MWESTW_4,  P21E,    51,  1,     24, SI9324,2,19940412,1116,-16.7500, -88.3333, 4300,    800.1,   5.2719,  34.4961,2,  34.4952,2,     51.3,2,     52.4,2,    56.82,2,    43.71,2,     0.01,2,     3.07,2,    0.000,2,   -0.004,2, -999.000,1,-999.0000,1,  -999.00,9,   -999.0,1,-999.000,9,   2294.0,2,   2321.0,2,     7.41,2, 8013.4,-999.0000,-999.000,-999.000,  5.2047,-999.000
   318MWESTW_4,  P21E,    51,  1,     23, SI9323,2,19940412,1116,-16.7500, -88.3333, 4300,    902.8,   4.7320,  34.5091,2,  34.5085,2,     58.8,2,     58.8,2,    67.32,2,    43.43,2,     0.01,2,     3.07,2,   -0.002,2,   -0.004,2, -999.000,1,-999.0000,1,  -999.00,9,   -999.0,1,-999.000,9,   2302.0,2,   2331.0,2,     7.41,2, 9034.0,-999.0000,-999.000,-999.000,  4.6593,-999.000
   318MWESTW_4,  P21E,    51,  1,     22, SI9322,2,19940412,1116,-16.7500, -88.3333, 4300,   1004.5,   4.3493,  34.5210,2,  34.5217,2,     67.6,2,     67.3,2,    75.15,2,    42.63,2,     0.01,2,     3.03,2,   -0.004,2,   -0.004,2, -999.000,1,-999.0000,1,  -999.00,9,   -999.0,1,-999.000,9,   2305.0,2,   2343.0,2,     7.44,2,10045.0,-999.0000,-999.000,-999.000,  4.2705,-999.000
   318MWESTW_4,  P21E,    51,  1,     21, SI9321,2,19940412,1116,-16.7500, -88.3333, 4300,   1097.0,   4.0171,  34.5350,2,  34.5345,2,     72.3,2,     72.7,2,    83.16,2,    42.26,2,     0.01,2,     3.01,2,   -0.001,2,   -0.003,2, -999.000,1,-999.0000,1,  -999.00,9,   -999.0,1,-999.000,9,   -999.0,9,   -999.0,9,  -999.00,9,10965.4,-999.0000,-999.000,-999.000,  3.9331,-999.000
   318MWESTW_4,  P21E,    51,  1,     20, SI9320,2,19940412,1116,-16.7500, -88.3333, 4300,   1208.5,   3.6564,  34.5515,2,  34.5512,2,     80.2,2,     79.1,2,    91.53,2,    41.83,2,     0.01,2,     2.98,2, -999.000,9, -999.000,9, -999.000,1,-999.0000,1,  -999.00,9,   -999.0,1,-999.000,9,   -999.0,9,   -999.0,9,  -999.00,9,12073.2,-999.0000,-999.000,-999.000,  3.5662,-999.000
   318MWESTW_4,  P21E,    51,  1,     19, SI9319,2,19940412,1116,-16.7500, -88.3333, 4300,   1305.2,   3.3968,  34.5661,2,  34.5659,2,     82.8,2,     83.6,2,    98.39,2,    41.46,2,     0.01,2,     2.96,2, -999.000,9, -999.000,9, -999.000,1,-999.0000,1,  -999.00,9,   -999.0,1,-999.000,9,   -999.0,9,   -999.0,9,  -999.00,9,13034.9,-999.0000,-999.000,-999.000,  3.3010,-999.000
   318MWESTW_4,  P21E,    51,  1,     18, SI9318,3,19940412,1116,-16.7500, -88.3333, 4300,   1405.2,   3.1761,  34.5816,2,  34.5822,2,     84.3,2,     84.6,2,   106.00,2,    41.13,2,     0.01,2,     2.95,2, -999.000,9, -999.000,9, -999.000,1,-999.0000,1,  -999.00,9,   -999.0,1,-999.000,9,   -999.0,9,   -999.0,9,  -999.00,9,14029.2,-999.0000,-999.000,-999.000,  3.0742,-999.000
   318MWESTW_4,  P21E,    51,  1,     17, SI9317,2,19940412,1116,-16.7500, -88.3333, 4300,   1498.9,   2.9681,  34.5914,2,  34.5914,2,     92.2,2,     92.6,2,   109.62,2,    40.87,2,     0.01,2,     2.90,2, -999.000,9, -999.000,9, -999.000,1,-999.0000,1,  -999.00,9,   -999.0,1,-999.000,9,   -999.0,9,   -999.0,9,  -999.00,9,14961.1,-999.0000,-999.000,-999.000,  2.8607,-999.000
   318MWESTW_4,  P21E,    51,  1,     16, SI9316,2,19940412,1116,-16.7500, -88.3333, 4300,   1599.0,   2.7771,  34.6040,2,  34.6050,2,     95.3,2,     96.1,2,   115.51,2,    40.39,2,     0.01,2,     2.87,2, -999.000,9, -999.000,9, -999.000,1,-999.0000,1,  -999.00,9,   -999.0,1,-999.000,9,   -999.0,9,   -999.0,9,  -999.00,9,15956.5,-999.0000,-999.000,-999.000,  2.6636,-999.000
   318MWESTW_4,  P21E,    51,  1,     15, SI9315,2,19940412,1116,-16.7500, -88.3333, 4300,   1749.1,   2.5577,  34.6197,2,  34.6209,2,    100.4,2,    101.1,2,   122.15,2,    39.81,2,     0.01,2,     2.83,2, -999.000,9, -999.000,9, -999.000,1,-999.0000,1,  -999.00,9,   -999.0,1,-999.000,9,   -999.0,9,   -999.0,9,  -999.00,9,17448.5,-999.0000,-999.000,-999.000,  2.4344,-999.000
   318MWESTW_4,  P21E,    51,  1,     14, SI9314,2,19940412,1116,-16.7500, -88.3333, 4300,   1896.8,   2.3576,  34.6308,2,  34.6317,2,    112.2,2,    113.2,2,   123.68,2,    38.81,2,     0.01,2,     2.76,2, -999.000,9, -999.000,9, -999.000,1,-999.0000,1,  -999.00,9,   -999.0,1,-999.000,9,   -999.0,9,   -999.0,9,  -999.00,9,18916.8,-999.0000,-999.000,-999.000,  2.2246,-999.000
   318MWESTW_4,  P21E,    51,  1,     13, SI9313,2,19940412,1116,-16.7500, -88.3333, 4300,   2043.0,   2.2042,  34.6418,2,  34.6423,2,    120.2,2,    121.3,2,   125.57,2,    38.24,2,     0.01,2,     2.69,2, -999.000,9, -999.000,9, -999.000,1,-999.0000,1,  -999.00,9,   -999.0,1,-999.000,9,   -999.0,9,   -999.0,9,  -999.00,9,20370.5,-999.0000,-999.000,-999.000,  2.0609,-999.000
   318MWESTW_4,  P21E,    51,  1,     12, SI9312,2,19940412,1116,-16.7500, -88.3333, 4300,   2193.6,   2.0779,  34.6516,2,  34.6525,2,    126.1,2,    127.7,2,   127.47,2,    37.60,2,     0.01,2,     2.64,2, -999.000,9, -999.000,9, -999.000,1,-999.0000,1,  -999.00,9,   -999.0,1,-999.000,9,   -999.0,9,   -999.0,9,  -999.00,9,21867.3,-999.0000,-999.000,-999.000,  1.9236,-999.000
   318MWESTW_4,  P21E,    51,  1,     11, SI9311,2,19940412,1116,-16.7500, -88.3333, 4300,   2399.8,   1.9278,  34.6634,2,  34.6639,2,    136.7,2,    138.0,2,   127.84,2,    36.66,2,     0.01,2,     2.58,2, -999.000,9, -999.000,9, -999.000,1,-999.0000,1,  -999.00,9,   -999.0,1,-999.000,9,   -999.0,9,   -999.0,9,  -999.00,9,23917.9,-999.0000,-999.000,-999.000,  1.7578,-999.000
   318MWESTW_4,  P21E,    51,  1,     10, SI9310,2,19940412,1116,-16.7500, -88.3333, 4300,   2598.4,   1.8550,  34.6704,2,  34.6716,2,    139.5,2,    140.1,2,   131.06,2,    36.76,2,     0.01,2,     2.57,2, -999.000,9, -999.000,9, -999.000,1,-999.0000,1,  -999.00,9,   -999.0,1,-999.000,9,   -999.0,9,   -999.0,9,  -999.00,9,25891.5,-999.0000,-999.000,-999.000,  1.6684,-999.000
   318MWESTW_4,  P21E,    51,  1,      9, SI9309,2,19940412,1116,-16.7500, -88.3333, 4300,   2800.8,   1.8181,  34.6750,2,  34.6759,2,    144.6,2,    145.1,2,   130.49,2,    36.28,2,     0.01,2,     2.54,2, -999.000,9, -999.000,9, -999.000,1,-999.0000,1,  -999.00,9,   -999.0,1,-999.000,9,   -999.0,9,   -999.0,9,  -999.00,9,27904.6,-999.0000,-999.000,-999.000,  1.6134,-999.000
   318MWESTW_4,  P21E,    51,  1,      8, SI9308,2,19940412,1116,-16.7500, -88.3333, 4300,   3004.1,   1.7918,  34.6791,2,  34.6796,2,    144.8,2,    145.1,2,   132.38,2,    36.27,2,     0.02,2,     2.53,2, -999.000,9, -999.000,9, -999.000,1,-999.0000,1,  -999.00,9,   -999.0,1,-999.000,9,   -999.0,9,   -999.0,9,  -999.00,9,29924.9,-999.0000,-999.000,-999.000,  1.5682,-999.000
   318MWESTW_4,  P21E,    51,  1,      7, SI9307,2,19940412,1116,-16.7500, -88.3333, 4300,   3165.9,   1.7787,  34.6815,2,  34.6816,2,    144.7,2,    144.8,2,   133.62,2,    36.19,2,     0.01,2,     2.53,2, -999.000,9, -999.000,9, -999.000,1,-999.0000,1,  -999.00,9,   -999.0,1,-999.000,9,   -999.0,9,   -999.0,9,  -999.00,9,31533.4,-999.0000,-999.000,-999.000,  1.5395,-999.000
   318MWESTW_4,  P21E,    51,  1,     27, SI9327,2,19940412,1116,-16.7500, -88.3333, 4300,   3397.8,   1.7649,  34.6845,2,  34.6853,2,    145.5,2,    146.1,2,   133.13,2,    36.33,2,     0.00,2,     2.53,2,   -0.001,2,   -0.002,2, -999.000,1,-999.0000,1,  -999.00,9,   -999.0,1,-999.000,9,   -999.0,9,   -999.0,9,  -999.00,9,33839.4,-999.0000,-999.000,-999.000,  1.5026,-999.000
   318MWESTW_4,  P21E,    51,  1,      6, SI9306,2,19940412,1116,-16.7500, -88.3333, 4300,   3606.4,   1.7533,  34.6869,2,  34.6877,2,    148.0,2,    149.6,2,   131.84,2,    35.99,2,     0.01,2,     2.51,2, -999.000,9, -999.000,9, -999.000,1,-999.0000,1,  -999.00,9,   -999.0,1,-999.000,9,   -999.0,9,   -999.0,9,  -999.00,9,35913.0,-999.0000,-999.000,-999.000,  1.4697,-999.000
   318MWESTW_4,  P21E,    51,  1,      5, SI9305,2,19940412,1116,-16.7500, -88.3333, 4300,   3790.1,   1.7478,  34.6889,2,  34.6893,2,    151.5,2,    152.4,2,   129.90,2,    35.79,2,     0.01,2,     2.49,2, -999.000,9, -999.000,9, -999.000,1,-999.0000,1,  -999.00,9,   -999.0,1,-999.000,9,   -999.0,9,   -999.0,9,  -999.00,9,37739.3,-999.0000,-999.000,-999.000,  1.4448,-999.000
   318MWESTW_4,  P21E,    51,  1,      4, SI9304,2,19940412,1116,-16.7500, -88.3333, 4300,   3996.0,   1.7588,  34.6896,2,  34.6901,2,    152.3,2,    152.9,2,   129.51,2,    35.68,2,     0.01,2,     2.50,2, -999.000,9, -999.000,9, -999.000,1,-999.0000,1,  -999.00,9,   -999.0,1,-999.000,9,   -999.0,9,   -999.0,9,  -999.00,9,39786.3,-999.0000,-999.000,-999.000,  1.4330,-999.000
   318MWESTW_4,  P21E,    51,  1,      3, SI9303,2,19940412,1116,-16.7500, -88.3333, 4300,   4200.2,   1.7759,  34.6897,2,  34.6899,2,    151.7,2,    152.7,2,   129.51,2,    35.73,2,     0.00,2,     2.48,2, -999.000,9, -999.000,9, -999.000,1,-999.0000,1,  -999.00,9,   -999.0,1,-999.000,9,   -999.0,9,   -999.0,9,  -999.00,9,41816.6,-999.0000,-999.000,-999.000,  1.4268,-999.000
   318MWESTW_4,  P21E,    51,  1,      2, SI9302,2,19940412,1116,-16.7500, -88.3333, 4300,   4296.3,   1.7854,  34.6898,2,  34.6901,2,    150.9,2,    152.8,2,   129.88,2,    35.77,2,     0.00,2,     2.48,2, -999.000,9, -999.000,9, -999.000,1,-999.0000,1,  -999.00,9,   -999.0,1,-999.000,9,   -999.0,9,   -999.0,9,  -999.00,9,42772.0,-999.0000,-999.000,-999.000,  1.4251,-999.000
   318MWESTW_4,  P21E,    51,  1,      1, SI9301,2,19940412,1116,-16.7500, -88.3333, 4300,   4340.3,   1.7900,  34.6900,2,  34.6912,2,    151.4,2,    152.9,2,   129.40,2,    35.66,2,     0.00,2,     2.48,2, -999.000,9, -999.000,9, -999.000,1,-999.0000,1,  -999.00,9,   -999.0,1,-999.000,9,   -999.0,9,   -999.0,9,  -999.00,9,43208.6,-999.0000,-999.000,-999.000,  1.4245,-999.000