BOTTLE,20010911WHPSIOdm
EXPOCODE,SECT_ID,STNNBR,CASTNO,SAMPNO,BTLNBR,BTLNBR_FLAG_W,DATE,TIME,LATITUDE,LONGITUDE,DEPTH,CTDPRS,CTDTMP,CTDSAL,CTDSAL_FLAG_W,SALNTY,SALNTY_FLAG_W,CTDOXY,CTDOXY_FLAG_W,OXYGEN,OXYGEN_FLAG_W,SILCAT,SILCAT_FLAG_W,NITRAT,NITRAT_FLAG_W,NITRIT,NITRIT_FLAG_W,PHSPHT,PHSPHT_FLAG_W,CFC-11,CFC-11_FLAG_W,CFC-12,CFC-12_FLAG_W,TRITUM,TRITUM_FLAG_W,HELIUM,HELIUM_FLAG_W,DELHE3,DELHE3_FLAG_W,DELC14,DELC14_FLAG_W,NEON,NEON_FLAG_W,TCARBN,TCARBN_FLAG_W,ALKALI,ALKALI_FLAG_W,PH,PH_FLAG_W,CTDRAW,HELIER,DELHER,NEONER,THETA,TRITER
,,,,,,,,,,,,DBAR,ITS-90,PSS-78,,PSS-78,,UMOL/KG,,UMOL/KG,,UMOL/KG,,UMOL/KG,,UMOL/KG,,UMOL/KG,,PMOL/KG,,PMOL/KG,,TU,,UMOL/KG,,PERCNT,,/MILLE,,NMOL/KG,,UMOL/KG,,UMOL/KG,,,,,NMOL/KG,PERCNT,NMOL/KG,ITS-90,TU
   318MWESTW_4,  P21E,    25,  1,     36, SI9336,2,19940403,1818,-16.7337, -76.0138, 4117,      7.8,  19.4185,  35.0323,2,  34.9315,2,    271.7,2,    245.4,2,     1.05,2,     0.27,2,     0.02,2,     0.63,2,    2.294,2,    1.120,2, -999.000,1,-999.0000,1,  -999.00,9,   -999.0,1,-999.000,9,   2069.8,2,   2319.0,2,     7.93,2,  122.9,-999.0000,-999.000,-999.000, 19.4171,-999.000
   318MWESTW_4,  P21E,    25,  1,     35, SI9335,2,19940403,1818,-16.7337, -76.0138, 4117,     25.1,  16.7177,  34.9724,2,  34.9823,2,    177.8,2,    199.7,2,     1.74,2,     3.90,2,     0.28,2,     0.89,2,    2.546,2,    1.278,2, -999.000,1,-999.0000,1,  -999.00,9,   -999.0,1,-999.000,9,   2105.8,2,   2320.0,2,     7.87,2,  295.7,-999.0000,-999.000,-999.000, 16.7136,-999.000
   318MWESTW_4,  P21E,    25,  1,     34, SI9334,2,19940403,1818,-16.7337, -76.0138, 4117,     49.4,  14.6411,  34.8091,2,  34.8556,3,     39.5,2,     60.9,2,    10.56,2,    20.01,2,     0.35,2,     2.14,2,    1.804,3,    0.798,3, -999.000,1,-999.0000,1,  -999.00,9,   -999.0,1,-999.000,9,   2213.9,2,   -999.0,9,     7.57,2,  538.8,-999.0000,-999.000,-999.000, 14.6338,-999.000
   318MWESTW_4,  P21E,    25,  1,     33, SI9333,2,19940403,1818,-16.7337, -76.0138, 4117,     99.3,  13.6773,  34.9543,2,  34.9187,2,      2.2,2,      0.9,2,    26.81,2,    14.79,2,     0.54,2,     2.72,2,    0.704,2,    0.347,2, -999.000,1,-999.0000,1,  -999.00,9,   -999.0,1,-999.000,9,   2259.9,2,   2314.0,2,     7.47,2, 1036.8,-999.0000,-999.000,-999.000, 13.6632,-999.000
   318MWESTW_4,  P21E,    25,  1,     32, SI9332,2,19940403,1818,-16.7337, -76.0138, 4117,    150.0,  13.0421,  34.8954,2,  34.9040,2,      2.0,2,      0.8,2,    27.34,2,    12.20,2,     6.33,2,     2.71,2,    0.417,2,    0.215,2, -999.000,1,-999.0000,1,  -999.00,9,   -999.0,1,-999.000,9,   2263.9,2,   2311.0,2,     7.46,2, 1543.6,-999.0000,-999.000,-999.000, 13.0215,-999.000
   318MWESTW_4,  P21E,    25,  1,     31, SI9331,9,19940403,1818,-16.7337, -76.0138, 4117,    202.1,  12.5254,  34.8532,2,-999.0000,9,      1.7,2,   -999.0,9,  -999.00,9,  -999.00,9,  -999.00,9,  -999.00,9, -999.000,9, -999.000,9, -999.000,1,-999.0000,1,  -999.00,9,   -999.0,1,-999.000,9,   -999.0,9,   -999.0,9,  -999.00,9, 2063.8,-999.0000,-999.000,-999.000, 12.4983,-999.000
   318MWESTW_4,  P21E,    25,  1,     30, SI9330,2,19940403,1818,-16.7337, -76.0138, 4117,    253.0,  11.8579,  34.8347,2,  34.8318,2,      1.4,2,      0.9,2,    27.52,2,    19.91,2,     4.92,2,     2.72,2,    0.179,2,    0.100,2, -999.000,1,-999.0000,1,  -999.00,9,   -999.0,1,-999.000,9,   2269.0,2,   2304.0,2,     7.41,2, 2572.9,-999.0000,-999.000,-999.000, 11.8251,-999.000
   318MWESTW_4,  P21E,    25,  1,     29, SI9329,2,19940403,1818,-16.7337, -76.0138, 4117,    301.8,  11.0282,  34.7999,2,  34.7860,2,      1.2,2,      0.6,2,    29.25,2,    24.67,2,     4.53,2,     2.76,2,    0.085,2,    0.050,2, -999.000,1,-999.0000,1,  -999.00,9,   -999.0,1,-999.000,9,   2274.0,2,   2303.0,2,     7.41,2, 3060.2,-999.0000,-999.000,-999.000, 10.9908,-999.000
   318MWESTW_4,  P21E,    25,  1,     28, SI9328,2,19940403,1818,-16.7337, -76.0138, 4117,    400.5,   9.3195,  34.6899,3,  34.6667,2,      0.9,2,      2.7,2,    32.20,2,    36.18,2,     0.00,2,     2.91,2,    0.037,2,    0.011,2, -999.000,1,-999.0000,1,  -999.00,9,   -999.0,1,-999.000,9,   2281.0,2,   2302.0,2,     7.37,2, 4046.4,-999.0000,-999.000,-999.000,  9.2747,-999.000
   318MWESTW_4,  P21E,    25,  1,     27, SI9327,2,19940403,1818,-16.7337, -76.0138, 4117,    500.7,   7.9258,  34.5837,2,  34.5777,4,     16.2,2,     15.7,2,    34.97,2,    40.44,2,     0.02,2,     2.99,2,    0.023,2,   -0.003,2, -999.000,1,-999.0000,1,  -999.00,9,   -999.0,1,-999.000,9,   2281.0,2,   2293.0,3,     7.37,2, 5046.4,-999.0000,-999.000,-999.000,  7.8747,-999.000
   318MWESTW_4,  P21E,    25,  1,     26, SI9326,2,19940403,1818,-16.7337, -76.0138, 4117,    602.2,   6.8775,  34.5213,2,  34.5245,2,     36.7,2,     31.4,2,    39.99,2,    42.12,2,     0.00,2,     3.03,2,    0.020,2,    0.001,2, -999.000,1,-999.0000,1,  -999.00,9,   -999.0,1,-999.000,9,   2281.0,2,   2305.0,2,     7.38,2, 6060.7,-999.0000,-999.000,-999.000,  6.8204,-999.000
   318MWESTW_4,  P21E,    25,  1,     25, SI9325,2,19940403,1818,-16.7337, -76.0138, 4117,    703.0,   6.0971,  34.5112,2,  34.5066,2,     34.1,2,     36.1,2,    48.12,2,    43.41,2,     0.00,2,     3.13,2,    0.005,2,   -0.003,2, -999.000,1,-999.0000,1,  -999.00,9,   -999.0,1,-999.000,9,   2289.0,2,   2311.0,2,     7.39,2, 7067.1,-999.0000,-999.000,-999.000,  6.0342,-999.000
   318MWESTW_4,  P21E,    25,  1,     24, SI9324,2,19940403,1818,-16.7337, -76.0138, 4117,    802.2,   5.3248,  34.5006,2,  34.4995,2,     41.1,2,     42.9,2,    58.15,2,    44.02,2,     0.00,2,     3.16,2, -999.000,9, -999.000,9, -999.000,1,-999.0000,1,  -999.00,9,   -999.0,1,-999.000,9,   2298.0,2,   2322.0,2,     7.39,2, 8058.8,-999.0000,-999.000,-999.000,  5.2571,-999.000
   318MWESTW_4,  P21E,    25,  1,     23, SI9323,2,19940403,1818,-16.7337, -76.0138, 4117,    899.2,   4.8096,  34.5144,2,  34.5137,2,     47.6,2,     48.8,2,    68.70,2,    43.91,2,     0.01,2,     3.17,2, -999.000,9, -999.000,9, -999.000,1,-999.0000,1,  -999.00,9,   -999.0,1,-999.000,9,   2309.0,2,   2334.0,2,     7.41,2, 9026.9,-999.0000,-999.000,-999.000,  4.7366,-999.000
   318MWESTW_4,  P21E,    25,  1,     22, SI9322,2,19940403,1818,-16.7337, -76.0138, 4117,   1000.7,   4.3675,  34.5248,2,  34.5248,2,     60.9,2,     59.1,2,    77.18,2,    43.24,2,     0.01,2,     3.12,2, -999.000,9, -999.000,9, -999.000,1,-999.0000,1,  -999.00,9,   -999.0,1,-999.000,9,   2313.0,2,   2344.0,2,     7.41,2,10041.5,-999.0000,-999.000,-999.000,  4.2889,-999.000
   318MWESTW_4,  P21E,    25,  1,     21, SI9321,2,19940403,1818,-16.7337, -76.0138, 4117,   1097.1,   3.9589,  34.5389,2,  34.5406,2,     68.9,2,     67.6,2,    86.33,2,    42.51,2,     0.01,2,     3.10,2, -999.000,9, -999.000,9, -999.000,1,-999.0000,1,  -999.00,9,   -999.0,1,-999.000,9,   2318.0,2,   2354.0,2,     7.43,2,11004.5,-999.0000,-999.000,-999.000,  3.8754,-999.000
   318MWESTW_4,  P21E,    25,  1,     20, SI9320,2,19940403,1818,-16.7337, -76.0138, 4117,   1199.7,   3.6772,  34.5523,2,  34.5527,2,     74.8,2,     74.3,2,    92.38,2,    41.89,2,     0.01,2,     3.05,2, -999.000,9, -999.000,9, -999.000,1,-999.0000,1,  -999.00,9,   -999.0,1,-999.000,9,   2322.0,2,   2362.0,2,     7.43,2,12029.4,-999.0000,-999.000,-999.000,  3.5875,-999.000
   318MWESTW_4,  P21E,    25,  1,     19, SI9319,2,19940403,1818,-16.7337, -76.0138, 4117,   1293.3,   3.4247,  34.5659,2,  34.5681,2,     78.5,2,     78.9,2,    99.47,2,    41.52,2,     0.01,2,     3.03,2, -999.000,9, -999.000,9, -999.000,1,-999.0000,1,  -999.00,9,   -999.0,1,-999.000,9,   2326.0,2,   2369.0,2,     7.46,2,12963.5,-999.0000,-999.000,-999.000,  3.3296,-999.000
   318MWESTW_4,  P21E,    25,  1,     18, SI9318,2,19940403,1818,-16.7337, -76.0138, 4117,   1397.6,   3.1528,  34.5823,2,  34.5824,2,     85.8,2,     85.4,2,   106.56,2,    40.91,2,     0.01,2,     2.97,2, -999.000,9, -999.000,9, -999.000,1,-999.0000,1,  -999.00,9,   -999.0,1,-999.000,9,   2329.0,2,   2377.0,2,     7.46,2,14006.0,-999.0000,-999.000,-999.000,  3.0518,-999.000
   318MWESTW_4,  P21E,    25,  1,     17, SI9317,2,19940403,1818,-16.7337, -76.0138, 4117,   1504.4,   2.9287,  34.5945,2,  34.5952,2,     91.1,2,     91.4,2,   111.75,2,    40.45,2,     0.00,2,     2.93,2, -999.000,9, -999.000,9, -999.000,1,-999.0000,1,  -999.00,9,   -999.0,1,-999.000,9,   2328.0,2,   2386.0,2,  -999.00,9,15072.3,-999.0000,-999.000,-999.000,  2.8213,-999.000
   318MWESTW_4,  P21E,    25,  1,     16, SI9316,2,19940403,1818,-16.7337, -76.0138, 4117,   1596.0,   2.7652,  34.6052,2,  34.6048,2,     97.1,2,     96.4,2,   115.37,2,    40.04,2,     0.00,2,     2.90,2, -999.000,9, -999.000,9, -999.000,1,-999.0000,1,  -999.00,9,   -999.0,1,-999.000,9,   2331.0,2,   2390.0,2,     7.49,2,15987.3,-999.0000,-999.000,-999.000,  2.6521,-999.000
   318MWESTW_4,  P21E,    25,  1,     15, SI9315,2,19940403,1818,-16.7337, -76.0138, 4117,   1746.3,   2.5557,  34.6217,2,  34.6217,2,     98.6,2,     98.0,2,   124.53,2,    39.79,2,     0.00,2,     2.88,2, -999.000,9, -999.000,9, -999.000,1,-999.0000,1,  -999.00,9,   -999.0,1,-999.000,9,   2339.0,2,   2403.0,2,     7.50,2,17489.0,-999.0000,-999.000,-999.000,  2.4326,-999.000
   318MWESTW_4,  P21E,    25,  1,     14, SI9314,2,19940403,1818,-16.7337, -76.0138, 4117,   1899.2,   2.3803,  34.6329,2,  34.6344,2,    103.1,2,    104.2,2,   128.67,2,    39.06,2,     0.00,2,     2.84,2, -999.000,9, -999.000,9, -999.000,1,-999.0000,1,  -999.00,9,   -999.0,1,-999.000,9,   2337.0,2,   2406.0,2,     7.51,2,19016.3,-999.0000,-999.000,-999.000,  2.2467,-999.000
   318MWESTW_4,  P21E,    25,  1,     13, SI9313,2,19940403,1818,-16.7337, -76.0138, 4117,   2053.0,   2.2424,  34.6443,2,  34.6447,2,    107.3,2,    108.5,2,   133.17,2,    38.60,2,     0.00,2,     2.82,2, -999.000,9, -999.000,9, -999.000,1,-999.0000,1,  -999.00,9,   -999.0,1,-999.000,9,   2342.0,2,   2412.0,2,     7.52,2,20553.6,-999.0000,-999.000,-999.000,  2.0977,-999.000
   318MWESTW_4,  P21E,    25,  1,     12, SI9312,2,19940403,1818,-16.7337, -76.0138, 4117,   2199.4,   2.1259,  34.6523,2,  34.6527,2,    113.8,2,    115.7,2,   133.51,2,    38.02,2,     0.00,2,     2.76,2, -999.000,9, -999.000,9, -999.000,1,-999.0000,1,  -999.00,9,   -999.0,1,-999.000,9,   2339.0,2,   2412.0,2,     7.53,2,22016.3,-999.0000,-999.000,-999.000,  1.9703,-999.000
   318MWESTW_4,  P21E,    25,  1,     11, SI9311,2,19940403,1818,-16.7337, -76.0138, 4117,   2348.7,   2.0282,  34.6613,2,  34.6596,2,    123.2,2,    122.4,2,   133.51,2,    37.46,2,     0.00,2,     2.71,2, -999.000,9, -999.000,9, -999.000,1,-999.0000,1,  -999.00,9,   -999.0,1,-999.000,9,   2335.0,2,   2413.0,2,     7.54,2,23507.3,-999.0000,-999.000,-999.000,  1.8610,-999.000
   318MWESTW_4,  P21E,    25,  1,     10, SI9310,2,19940403,1818,-16.7337, -76.0138, 4117,   2494.4,   1.9232,  34.6667,2,  34.6665,2,    132.2,2,    132.3,2,   132.13,2,    36.73,2,    -0.01,2,     2.65,2, -999.000,9, -999.000,9, -999.000,1,-999.0000,1,  -999.00,9,   -999.0,1,-999.000,9,   2330.0,2,   2412.0,2,     7.55,2,24963.6,-999.0000,-999.000,-999.000,  1.7448,-999.000
   318MWESTW_4,  P21E,    25,  1,      9, SI9309,2,19940403,1818,-16.7337, -76.0138, 4117,   2696.3,   1.8430,  34.6739,2,  34.6743,2,    139.0,2,    139.5,2,   131.78,2,    36.36,2,     0.00,2,     2.59,2, -999.000,9, -999.000,9, -999.000,1,-999.0000,1,  -999.00,9,   -999.0,1,-999.000,9,   2327.0,2,   2414.0,2,     7.57,2,26981.4,-999.0000,-999.000,-999.000,  1.6476,-999.000
   318MWESTW_4,  P21E,    25,  1,      8, SI9308,2,19940403,1818,-16.7337, -76.0138, 4117,   2897.9,   1.7954,  34.6794,2,  34.6793,2,    147.9,2,    148.4,2,   128.32,2,    35.78,2,     0.01,2,     2.52,2, -999.000,9, -999.000,9, -999.000,1,-999.0000,1,  -999.00,9,   -999.0,1,-999.000,9,   2317.0,2,   2410.0,2,     7.58,2,28995.5,-999.0000,-999.000,-999.000,  1.5819,-999.000
   318MWESTW_4,  P21E,    25,  1,      7, SI9307,2,19940403,1818,-16.7337, -76.0138, 4117,   3099.9,   1.7693,  34.6829,2,  34.6822,2,    150.4,2,    150.3,2,   129.01,2,    35.75,2,     0.00,2,     2.52,2, -999.000,9, -999.000,9, -999.000,1,-999.0000,1,  -999.00,9,   -999.0,1,-999.000,9,   2319.0,2,   2412.0,2,     7.58,2,31014.0,-999.0000,-999.000,-999.000,  1.5368,-999.000
   318MWESTW_4,  P21E,    25,  1,      6, SI9306,2,19940403,1818,-16.7337, -76.0138, 4117,   3302.5,   1.7469,  34.6862,2,  34.6850,2,    154.0,2,    154.0,2,   127.11,2,    35.41,2,     0.01,2,     2.50,2, -999.000,9, -999.000,9, -999.000,1,-999.0000,1,  -999.00,9,   -999.0,1,-999.000,9,   2316.0,2,   2412.0,2,     7.59,2,33038.5,-999.0000,-999.000,-999.000,  1.4947,-999.000
   318MWESTW_4,  P21E,    25,  1,      5, SI9305,2,19940403,1818,-16.7337, -76.0138, 4117,   3498.4,   1.7270,  34.6889,2,  34.6859,3,    156.7,2,    157.4,2,   125.22,2,    35.21,2,     0.00,2,     2.49,2, -999.000,9, -999.000,9, -999.000,1,-999.0000,1,  -999.00,9,   -999.0,1,-999.000,9,   2312.0,2,   2408.0,2,     7.58,2,34996.9,-999.0000,-999.000,-999.000,  1.4553,-999.000
   318MWESTW_4,  P21E,    25,  1,      4, SI9304,2,19940403,1818,-16.7337, -76.0138, 4117,   3700.4,   1.7215,  34.6909,2,  34.6899,2,    158.8,2,    159.3,2,   124.00,2,    34.99,2,     0.01,2,     2.47,2, -999.000,9, -999.000,9, -999.000,1,-999.0000,1,  -999.00,9,   -999.0,1,-999.000,9,   2307.0,2,   2408.0,2,     7.59,2,37015.3,-999.0000,-999.000,-999.000,  1.4287,-999.000
   318MWESTW_4,  P21E,    25,  1,      3, SI9303,2,19940403,1818,-16.7337, -76.0138, 4117,   3900.5,   1.7354,  34.6910,2,  34.6905,2,    158.8,2,    159.0,2,   124.87,2,    35.07,2,     0.00,2,     2.48,2, -999.000,9, -999.000,9, -999.000,1,-999.0000,1,  -999.00,9,   -999.0,1,-999.000,9,   2310.0,2,   2410.0,2,     7.59,2,39015.5,-999.0000,-999.000,-999.000,  1.4207,-999.000
   318MWESTW_4,  P21E,    25,  1,      2, SI9302,2,19940403,1818,-16.7337, -76.0138, 4117,   4117.8,   1.7548,  34.6868,2,  34.6905,2,    158.8,2,    159.2,2,   124.87,2,    35.14,2,     0.00,2,     2.47,2, -999.000,9, -999.000,9, -999.000,1,-999.0000,1,  -999.00,9,   -999.0,1,-999.000,9,   2311.0,2,   2409.0,2,     7.59,2,41187.6,-999.0000,-999.000,-999.000,  1.4156,-999.000
   318MWESTW_4,  P21E,    25,  1,      1, SI9301,2,19940403,1818,-16.7337, -76.0138, 4117,   4163.7,   1.7600,  34.6916,2,  34.6912,2,    158.4,2,    158.8,2,   124.65,2,    35.21,2,     0.00,2,     2.48,2, -999.000,9, -999.000,9, -999.000,1,-999.0000,1,  -999.00,9,   -999.0,1,-999.000,9,   2313.0,2,   2410.0,2,     7.59,2,41646.2,-999.0000,-999.000,-999.000,  1.4155,-999.000