BOTTLE,20010911WHPSIOdm
EXPOCODE,SECT_ID,STNNBR,CASTNO,SAMPNO,BTLNBR,BTLNBR_FLAG_W,DATE,TIME,LATITUDE,LONGITUDE,DEPTH,CTDPRS,CTDTMP,CTDSAL,CTDSAL_FLAG_W,SALNTY,SALNTY_FLAG_W,CTDOXY,CTDOXY_FLAG_W,OXYGEN,OXYGEN_FLAG_W,SILCAT,SILCAT_FLAG_W,NITRAT,NITRAT_FLAG_W,NITRIT,NITRIT_FLAG_W,PHSPHT,PHSPHT_FLAG_W,CFC-11,CFC-11_FLAG_W,CFC-12,CFC-12_FLAG_W,TRITUM,TRITUM_FLAG_W,HELIUM,HELIUM_FLAG_W,DELHE3,DELHE3_FLAG_W,DELC14,DELC14_FLAG_W,NEON,NEON_FLAG_W,TCARBN,TCARBN_FLAG_W,ALKALI,ALKALI_FLAG_W,PH,PH_FLAG_W,CTDRAW,HELIER,DELHER,NEONER,THETA,TRITER
,,,,,,,,,,,,DBAR,ITS-90,PSS-78,,PSS-78,,UMOL/KG,,UMOL/KG,,UMOL/KG,,UMOL/KG,,UMOL/KG,,UMOL/KG,,PMOL/KG,,PMOL/KG,,TU,,UMOL/KG,,PERCNT,,/MILLE,,NMOL/KG,,UMOL/KG,,UMOL/KG,,,,,NMOL/KG,PERCNT,NMOL/KG,ITS-90,TU
   318MWESTW_4,  P21E,   101,  1,     36, SI9336,2,19940427,1239,-16.7500,-114.0000, 3040,      6.4,  26.0096,  36.4773,2,  36.4790,2,    199.5,2,    209.9,2,     0.36,2,     0.04,2,     0.00,2,     0.28,2,    1.761,2,    0.990,2,    0.710,2,   1.6954,2,    -0.96,2,   -999.0,1,   6.688,2,   -999.0,9,   -999.0,9,  -999.00,9,  107.6,  0.0085,   0.080,   0.033, 26.0082,   0.006
   318MWESTW_4,  P21E,   101,  1,     35, SI9335,2,19940427,1239,-16.7500,-114.0000, 3040,     29.7,  26.0152,  36.4780,2,  36.4790,2,    213.0,2,    208.3,2,     0.44,2,     0.05,2,    -0.01,2,     0.28,2,    1.795,2,    1.006,2,    0.684,2,   1.6912,2,    -1.17,2,   -999.0,1,   6.649,2,   -999.0,9,   -999.0,9,  -999.00,9,  341.6,  0.0085,   0.080,   0.033, 26.0085,   0.006
   318MWESTW_4,  P21E,   101,  1,     34, SI9334,2,19940427,1239,-16.7500,-114.0000, 3040,     55.5,  26.0205,  36.4792,2,  36.4792,2,    212.0,2,    210.1,2,     0.35,2,    -0.02,2,     0.00,2,     0.29,2,    1.784,2,    0.992,2,    0.687,2,   1.6891,2,    -1.11,2,   -999.0,1,   6.667,2,   -999.0,9,   -999.0,9,  -999.00,9,  599.8,  0.0084,   0.080,   0.033, 26.0080,   0.006
   318MWESTW_4,  P21E,   101,  1,     33, SI9333,2,19940427,1239,-16.7500,-114.0000, 3040,    106.4,  24.3722,  36.3931,2,  36.4685,2,    217.9,2,    218.5,2,     0.27,2,     0.05,2,    -0.01,2,     0.29,2,    1.937,2,    1.074,2,    0.648,2,   1.7013,2,    -1.11,2,   -999.0,1,   6.761,2,   -999.0,9,   -999.0,9,  -999.00,9, 1108.3,  0.0085,   0.080,   0.034, 24.3494,   0.006
   318MWESTW_4,  P21E,   101,  1,     32, SI9332,2,19940427,1239,-16.7500,-114.0000, 3040,    146.0,  22.8664,  36.3487,2,  36.3418,2,    208.6,2,    203.6,2,     0.35,2,     0.06,2,     0.28,2,     0.37,2,    2.027,2,    1.101,2,    0.584,2,   1.7047,2,    -1.32,2,   -999.0,1,   6.818,2,   -999.0,9,   -999.0,9,  -999.00,9, 1504.0,  0.0085,   0.080,   0.034, 22.8365,   0.006
   318MWESTW_4,  P21E,   101,  1,     31, SI9331,2,19940427,1239,-16.7500,-114.0000, 3040,    202.1,  20.4523,  35.8777,2,  35.8801,2,    200.7,2,    193.9,2,     0.42,2,     2.34,2,     0.03,2,     0.52,2,    2.173,2,    1.163,2,    0.529,2,   1.7207,2,    -1.02,2,   -999.0,1,   6.929,2,   -999.0,9,   -999.0,9,  -999.00,9, 2065.2,  0.0086,   0.080,   0.035, 20.4141,   0.006
   318MWESTW_4,  P21E,   101,  1,     30, SI9330,2,19940427,1239,-16.7500,-114.0000, 3040,    250.5,  18.3228,  35.4563,2,  35.4744,2,    193.3,2,    187.4,2,     0.82,2,     4.08,2,     0.02,2,     0.60,2,    2.145,2,    1.139,2,    0.506,2,   1.7296,2,    -0.49,2,   -999.0,1,   7.051,2,   -999.0,9,   -999.0,9,  -999.00,9, 2548.4,  0.0086,   0.080,   0.035, 18.2791,   0.006
   318MWESTW_4,  P21E,   101,  1,     29, SI9329,2,19940427,1239,-16.7500,-114.0000, 3040,    302.2,  14.1639,  34.8576,2,  34.8747,2,    128.3,2,    116.0,2,     6.80,2,    14.76,2,     0.01,2,     1.51,2,    1.692,2,    0.835,2,    0.377,2,   1.7459,2,     0.70,2,   -999.0,1,   7.253,2,   -999.0,9,   -999.0,9,  -999.00,9, 3065.1,  0.0087,   0.080,   0.036, 14.1198,   0.005
   318MWESTW_4,  P21E,   101,  1,     28, SI9328,2,19940427,1239,-16.7500,-114.0000, 3040,    403.9,   9.4042,  34.5463,2,  34.5510,2,     50.8,2,     52.8,2,    21.25,2,    31.48,2,     0.00,2,     2.52,2,    0.196,2,    0.100,2,    0.073,2,   1.7802,2,     2.14,2,   -999.0,1,   7.601,2,   -999.0,9,   -999.0,9,  -999.00,9, 4080.5,  0.0089,   0.080,   0.038,  9.3589,   0.004
   318MWESTW_4,  P21E,   101,  1,     27, SI9327,2,19940427,1239,-16.7500,-114.0000, 3040,    505.6,   7.4682,  34.5071,2,  34.5107,2,     71.8,2,     73.6,2,    28.04,2,    36.10,2,     0.01,2,     2.57,2,    0.026,2,    0.019,2, -999.000,1,   1.7896,2,     3.62,2,   -999.0,1,   7.682,2,   -999.0,9,   -999.0,9,  -999.00,9, 5096.7,  0.0089,   0.080,   0.038,  7.4184,-999.000
   318MWESTW_4,  P21E,   101,  1,     26, SI9326,2,19940427,1239,-16.7500,-114.0000, 3040,    604.1,   6.4854,  34.4844,2,  34.4885,2,     88.1,2,     86.7,2,    34.50,2,    37.23,2,     0.00,2,     2.61,2,    0.006,2,    0.005,2,    0.005,2,   1.7949,2,     5.51,2,   -999.0,1,   7.708,2,   -999.0,9,   -999.0,9,  -999.00,9, 6080.6,  0.0090,   0.090,   0.039,  6.4300,   0.004
   318MWESTW_4,  P21E,   101,  1,     25, SI9325,2,19940427,1239,-16.7500,-114.0000, 3040,    700.0,   5.8470,  34.4912,2,  34.4913,2,     84.6,2,     82.2,2,    44.00,2,    39.13,2,     0.01,2,     2.75,2,   -0.002,2,   -0.001,2,    0.008,2,   1.8102,2,     8.35,2,   -999.0,1,   7.763,2,   -999.0,9,   -999.0,9,  -999.00,9, 7037.8,  0.0091,   0.090,   0.039,  5.7857,   0.004
   318MWESTW_4,  P21E,   101,  1,     24, SI9324,2,19940427,1239,-16.7500,-114.0000, 3040,    802.0,   5.3886,  34.4952,2,  34.4950,2,     74.2,2,     74.6,2,    52.22,2,    40.81,2,     0.00,2,     2.86,2,   -0.002,2,    0.000,2,    0.005,2,   1.8288,2,    10.51,2,   -999.0,1,   7.808,2,   -999.0,9,   -999.0,9,  -999.00,9, 8057.2,  0.0091,   0.090,   0.039,  5.3206,   0.004
   318MWESTW_4,  P21E,   101,  1,     23, SI9323,2,19940427,1239,-16.7500,-114.0000, 3040,    898.3,   4.9515,  34.5072,2,  34.5056,2,     73.0,2,     77.8,2,    60.75,2,    41.05,2,     0.01,2,     2.89,2,   -0.003,2,    0.000,2, -999.000,1,-999.0000,1,  -999.00,9,   -999.0,1,-999.000,9,   -999.0,9,   -999.0,9,  -999.00,9, 9019.1,-999.0000,-999.000,-999.000,  4.8776,-999.000
   318MWESTW_4,  P21E,   101,  1,     22, SI9322,2,19940427,1239,-16.7500,-114.0000, 3040,   1001.7,   4.4883,  34.5229,2,  34.5201,2,     75.3,2,     75.1,2,    70.72,2,    41.62,2,     0.00,2,     2.96,2,    0.000,2,   -0.002,2,    0.004,2,   1.8500,2,    14.87,2,   -999.0,1,   7.801,2,   -999.0,9,   -999.0,9,  -999.00,9,10052.1,  0.0092,   0.090,   0.039,  4.4087,   0.004
   318MWESTW_4,  P21E,   101,  1,     21, SI9321,2,19940427,1239,-16.7500,-114.0000, 3040,   1102.8,   4.0947,  34.5377,2,  34.5341,2,     77.6,2,     78.2,2,    80.54,2,    41.55,2,     0.01,2,     2.96,2, -999.000,9, -999.000,9, -999.000,1,-999.0000,1,  -999.00,9,   -999.0,1,-999.000,9,   -999.0,9,   -999.0,9,  -999.00,9,11062.0,-999.0000,-999.000,-999.000,  4.0096,-999.000
   318MWESTW_4,  P21E,   101,  1,     20, SI9320,2,19940427,1239,-16.7500,-114.0000, 3040,   1199.8,   3.7801,  34.5496,2,  34.5484,2,     82.5,2,     83.1,2,    88.12,2,    41.12,2,     0.01,2,     2.95,2, -999.000,9, -999.000,9, -999.000,1,-999.0000,1,  -999.00,9,   -999.0,1,-999.000,9,   -999.0,9,   -999.0,9,  -999.00,9,12031.0,-999.0000,-999.000,-999.000,  3.6895,-999.000
   318MWESTW_4,  P21E,   101,  1,     19, SI9319,2,19940427,1239,-16.7500,-114.0000, 3040,   1303.6,   3.5304,  34.5624,2,  34.5594,2,     85.8,2,     86.5,2,    94.58,2,    40.89,2,     0.00,2,     2.94,2, -999.000,9, -999.000,9,   -0.002,2,   1.8733,2,    20.54,2,   -999.0,1,   7.806,2,   -999.0,9,   -999.0,9,  -999.00,9,13067.6,  0.0094,   0.100,   0.039,  3.4334,   0.003
   318MWESTW_4,  P21E,   101,  1,     18, SI9318,2,19940427,1239,-16.7500,-114.0000, 3040,   1399.3,   3.2592,  34.5730,2,  34.5728,2,     91.1,2,     92.2,2,   101.04,2,    40.46,2,     0.01,2,     2.92,2, -999.000,9, -999.000,9, -999.000,1,-999.0000,1,  -999.00,9,   -999.0,1,-999.000,9,   -999.0,9,   -999.0,9,  -999.00,9,14023.4,-999.0000,-999.000,-999.000,  3.1569,-999.000
   318MWESTW_4,  P21E,   101,  1,     17, SI9317,2,19940427,1239,-16.7500,-114.0000, 3040,   1496.1,   3.0084,  34.5852,2,  34.5873,2,     95.1,2,     97.1,2,   107.03,2,    40.04,2,     0.00,2,     2.87,2, -999.000,9, -999.000,9, -999.000,1,-999.0000,1,  -999.00,9,   -999.0,1,-999.000,9,   -999.0,9,   -999.0,9,  -999.00,9,14991.2,-999.0000,-999.000,-999.000,  2.9008,-999.000
   318MWESTW_4,  P21E,   101,  1,     16, SI9316,2,19940427,1239,-16.7500,-114.0000, 3040,   1602.1,   2.7938,  34.5974,2,  34.6005,2,    101.0,2,    103.6,2,   112.20,2,    39.54,2,     0.01,2,     2.83,2, -999.000,9, -999.000,9,   -0.002,2,   1.8928,2,    24.57,2,   -999.0,1,   8.019,2,   -999.0,9,   -999.0,9,  -999.00,9,16049.3,  0.0095,   0.100,   0.040,  2.6798,   0.003
   318MWESTW_4,  P21E,   101,  1,     15, SI9315,2,19940427,1239,-16.7500,-114.0000, 3040,   1699.6,   2.6082,  34.6091,2,  34.6111,2,    109.7,2,    112.3,2,   114.83,2,    38.87,2,     0.00,2,     2.77,2, -999.000,9, -999.000,9, -999.000,1,-999.0000,1,  -999.00,9,   -999.0,1,-999.000,9,   -999.0,9,   -999.0,9,  -999.00,9,17024.2,-999.0000,-999.000,-999.000,  2.4884,-999.000
   318MWESTW_4,  P21E,   101,  1,     14, SI9314,2,19940427,1239,-16.7500,-114.0000, 3040,   1802.4,   2.4727,  34.6186,2,  34.6199,2,    112.4,2,    116.4,2,   117.77,2,    38.57,2,     0.00,2,     2.74,2, -999.000,9, -999.000,9, -999.000,1,-999.0000,1,  -999.00,9,   -999.0,1,-999.000,9,   -999.0,9,   -999.0,9,  -999.00,9,18051.0,-999.0000,-999.000,-999.000,  2.3461,-999.000
   318MWESTW_4,  P21E,   101,  1,     13, SI9313,2,19940427,1239,-16.7500,-114.0000, 3040,   1897.1,   2.3235,  34.6269,2,  34.6295,2,    122.2,2,    126.2,2,   118.33,2,    37.71,2,     0.00,2,     2.68,2, -999.000,9, -999.000,9, -999.000,1,-999.0000,1,  -999.00,9,   -999.0,1,-999.000,9,   -999.0,9,   -999.0,9,  -999.00,9,18996.4,-999.0000,-999.000,-999.000,  2.1909,-999.000
   318MWESTW_4,  P21E,   101,  1,     12, SI9312,2,19940427,1239,-16.7500,-114.0000, 3040,   1998.3,   2.1605,  34.6369,2,  34.6394,2,    134.3,2,    137.8,2,   118.08,2,    36.72,2,     0.00,2,     2.59,2, -999.000,9, -999.000,9, -999.000,1,-999.0000,1,  -999.00,9,   -999.0,1,-999.000,9,   -999.0,9,   -999.0,9,  -999.00,9,20007.7,-999.0000,-999.000,-999.000,  2.0217,-999.000
   318MWESTW_4,  P21E,   101,  1,     11, SI9311,2,19940427,1239,-16.7500,-114.0000, 3040,   2095.7,   2.0416,  34.6456,2,  34.6468,2,    145.3,2,    148.0,2,   117.83,2,    35.99,2,     0.00,2,     2.53,2, -999.000,9, -999.000,9, -999.000,1,-999.0000,1,  -999.00,9,   -999.0,1,-999.000,9,   -999.0,9,   -999.0,9,  -999.00,9,20981.2,-999.0000,-999.000,-999.000,  1.8964,-999.000
   318MWESTW_4,  P21E,   101,  1,     10, SI9310,2,19940427,1239,-16.7500,-114.0000, 3040,   2197.6,   1.9749,  34.6523,2,  34.6537,2,    152.2,2,    152.7,2,   117.74,2,    35.56,2,     0.00,2,     2.49,2, -999.000,9, -999.000,9, -999.000,1,-999.0000,1,  -999.00,9,   -999.0,1,-999.000,9,   -999.0,9,   -999.0,9,  -999.00,9,21998.6,-999.0000,-999.000,-999.000,  1.8219,-999.000
   318MWESTW_4,  P21E,   101,  1,      9, SI9309,2,19940427,1239,-16.7500,-114.0000, 3040,   2308.8,   1.9177,  34.6596,2,  34.6594,2,    154.2,2,    154.3,2,   119.41,2,    35.43,2,     0.01,2,     2.48,2, -999.000,9, -999.000,9, -999.000,1,-999.0000,1,  -999.00,9,   -999.0,1,-999.000,9,   -999.0,9,   -999.0,9,  -999.00,9,23110.4,-999.0000,-999.000,-999.000,  1.7560,-999.000
   318MWESTW_4,  P21E,   101,  1,      8, SI9308,2,19940427,1239,-16.7500,-114.0000, 3040,   2404.1,   1.8860,  34.6661,2,  34.6663,2,    153.7,2,    153.6,2,   122.04,2,    35.32,2,     0.00,2,     2.47,2, -999.000,9, -999.000,9, -999.000,1,-999.0000,1,  -999.00,9,   -999.0,1,-999.000,9,   -999.0,9,   -999.0,9,  -999.00,9,24062.1,-999.0000,-999.000,-999.000,  1.7164,-999.000
   318MWESTW_4,  P21E,   101,  1,      7, SI9307,2,19940427,1239,-16.7500,-114.0000, 3040,   2501.0,   1.8829,  34.6699,2,  34.6696,2,    152.7,2,    152.7,2,   124.35,2,    35.27,2,     0.00,2,     2.45,2, -999.000,9, -999.000,9, -999.000,1,-999.0000,1,  -999.00,9,   -999.0,1,-999.000,9,   -999.0,9,   -999.0,9,  -999.00,9,25030.1,-999.0000,-999.000,-999.000,  1.7046,-999.000
   318MWESTW_4,  P21E,   101,  1,      6, SI9306,2,19940427,1239,-16.7500,-114.0000, 3040,   2599.6,   1.8680,  34.6725,2,  34.6728,2,    152.8,2,    152.8,2,   125.37,2,    35.39,2,     0.00,2,     2.47,2, -999.000,9, -999.000,9, -999.000,1,-999.0000,1,  -999.00,9,   -999.0,1,-999.000,9,   -999.0,9,   -999.0,9,  -999.00,9,26016.2,-999.0000,-999.000,-999.000,  1.6810,-999.000
   318MWESTW_4,  P21E,   101,  1,      5, SI9305,2,19940427,1239,-16.7500,-114.0000, 3040,   2702.9,   1.8588,  34.6740,2,  34.6763,2,    153.0,2,    153.7,2,   126.24,2,    35.32,2,     0.01,2,     2.48,2, -999.000,9, -999.000,9, -999.000,1,-999.0000,1,  -999.00,9,   -999.0,1,-999.000,9,   -999.0,9,   -999.0,9,  -999.00,9,27048.0,-999.0000,-999.000,-999.000,  1.6624,-999.000
   318MWESTW_4,  P21E,   101,  1,      4, SI9304,2,19940427,1239,-16.7500,-114.0000, 3040,   2802.2,   1.8613,  34.6743,2,  34.6767,2,    152.6,2,    153.1,2,   126.32,2,    35.32,2,     0.01,2,     2.49,2, -999.000,9, -999.000,9, -999.000,1,-999.0000,1,  -999.00,9,   -999.0,1,-999.000,9,   -999.0,9,   -999.0,9,  -999.00,9,28039.9,-999.0000,-999.000,-999.000,  1.6556,-999.000
   318MWESTW_4,  P21E,   101,  1,      3, SI9303,2,19940427,1239,-16.7500,-114.0000, 3040,   2891.9,   1.8475,  34.6749,2,  34.6751,2,    153.6,2,    155.2,2,   126.23,2,    35.22,2,     0.00,2,     2.47,2, -999.000,9, -999.000,9, -999.000,1,-999.0000,1,  -999.00,9,   -999.0,1,-999.000,9,   -999.0,9,   -999.0,9,  -999.00,9,28936.1,-999.0000,-999.000,-999.000,  1.6335,-999.000
   318MWESTW_4,  P21E,   101,  1,      2, SI9302,2,19940427,1239,-16.7500,-114.0000, 3040,   3015.9,   1.8338,  34.6751,2,  34.6755,2,    155.4,2,    156.9,2,   126.15,2,    35.15,2,     0.01,2,     2.47,2, -999.000,9, -999.000,9, -999.000,1,-999.0000,1,  -999.00,9,   -999.0,1,-999.000,9,   -999.0,9,   -999.0,9,  -999.00,9,30175.7,-999.0000,-999.000,-999.000,  1.6081,-999.000
   318MWESTW_4,  P21E,   101,  1,      1, SI9301,2,19940427,1239,-16.7500,-114.0000, 3040,   3056.3,   1.8309,  34.6751,2,  34.6751,2,    157.9,2,    157.0,2,   125.75,2,    35.21,2,    -0.01,2,     2.48,2, -999.000,9, -999.000,9, -999.000,1,-999.0000,1,  -999.00,9,   -999.0,1,-999.000,9,   -999.0,9,   -999.0,9,  -999.00,9,30579.7,-999.0000,-999.000,-999.000,  1.6013,-999.000