BOTTLE,20010911WHPSIOdm
EXPOCODE,SECT_ID,STNNBR,CASTNO,SAMPNO,BTLNBR,BTLNBR_FLAG_W,DATE,TIME,LATITUDE,LONGITUDE,DEPTH,CTDPRS,CTDTMP,CTDSAL,CTDSAL_FLAG_W,SALNTY,SALNTY_FLAG_W,CTDOXY,CTDOXY_FLAG_W,OXYGEN,OXYGEN_FLAG_W,SILCAT,SILCAT_FLAG_W,NITRAT,NITRAT_FLAG_W,NITRIT,NITRIT_FLAG_W,PHSPHT,PHSPHT_FLAG_W,CFC-11,CFC-11_FLAG_W,CFC-12,CFC-12_FLAG_W,TRITUM,TRITUM_FLAG_W,HELIUM,HELIUM_FLAG_W,DELHE3,DELHE3_FLAG_W,DELC14,DELC14_FLAG_W,NEON,NEON_FLAG_W,TCARBN,TCARBN_FLAG_W,ALKALI,ALKALI_FLAG_W,PH,PH_FLAG_W,CTDRAW,HELIER,DELHER,NEONER,THETA,TRITER
,,,,,,,,,,,,DBAR,ITS-90,PSS-78,,PSS-78,,UMOL/KG,,UMOL/KG,,UMOL/KG,,UMOL/KG,,UMOL/KG,,UMOL/KG,,PMOL/KG,,PMOL/KG,,TU,,UMOL/KG,,PERCNT,,/MILLE,,NMOL/KG,,UMOL/KG,,UMOL/KG,,,,,NMOL/KG,PERCNT,NMOL/KG,ITS-90,TU
   318MWESTW_4,  P21E,    29,  1,     36,     36,2,19940404,1931,-16.7555, -78.6667, 3814,      7.7,  23.9520,  35.5119,2,  35.5154,2,    213.9,2,    218.5,2,     0.91,2,     0.10,2,     0.02,2,     0.52,2,    1.957,2,    1.046,2, -999.000,1,-999.0000,1,  -999.00,9,   -999.0,1,-999.000,9,   -999.0,9,   -999.0,9,  -999.00,9,  122.0,-999.0000,-999.000,-999.000, 23.9504,-999.000
   318MWESTW_4,  P21E,    29,  1,     35,     35,2,19940404,1931,-16.7555, -78.6667, 3814,     29.0,  23.9282,  35.5084,2,  35.5129,2,    216.1,2,    216.5,2,     0.93,2,     0.12,2,     0.01,2,     0.54,2,    1.975,2,    1.040,2, -999.000,1,-999.0000,1,  -999.00,9,   -999.0,1,-999.000,9,   -999.0,9,   -999.0,9,  -999.00,9,  335.6,-999.0000,-999.000,-999.000, 23.9221,-999.000
   318MWESTW_4,  P21E,    29,  1,     34,     34,2,19940404,1931,-16.7555, -78.6667, 3814,     48.8,  23.1890,  35.4300,3,  35.6115,2,    225.0,2,    221.3,2,     1.12,2,     0.05,2,     0.02,2,     0.54,2,    2.038,2,    1.083,2, -999.000,1,-999.0000,1,  -999.00,9,   -999.0,1,-999.000,9,   -999.0,9,   -999.0,9,  -999.00,9,  533.0,-999.0000,-999.000,-999.000, 23.1790,-999.000
   318MWESTW_4,  P21E,    29,  1,     33,     33,2,19940404,1931,-16.7555, -78.6667, 3814,     97.1,  16.8093,  35.0770,2,  35.1366,2,    182.5,2,    190.2,2,     3.92,2,     9.84,2,     0.07,2,     1.17,2,    2.481,2,    1.254,2, -999.000,1,-999.0000,1,  -999.00,9,   -999.0,1,-999.000,9,   -999.0,9,   -999.0,9,  -999.00,9, 1015.9,-999.0000,-999.000,-999.000, 16.7934,-999.000
   318MWESTW_4,  P21E,    29,  1,     32,     32,2,19940404,1931,-16.7555, -78.6667, 3814,    147.9,  13.3846,  34.7634,2,  34.7962,2,     68.8,2,     27.0,2,    17.24,2,    20.46,2,     0.00,2,     2.40,2,    1.200,2,    0.539,2, -999.000,1,-999.0000,1,  -999.00,9,   -999.0,1,-999.000,9,   -999.0,9,   -999.0,9,  -999.00,9, 1524.2,-999.0000,-999.000,-999.000, 13.3639,-999.000
   318MWESTW_4,  P21E,    29,  1,     31,     31,2,19940404,1931,-16.7555, -78.6667, 3814,    198.5,  12.4455,  34.8517,2,  34.8495,2,      2.6,2,      0.9,2,    27.61,2,    15.88,2,     3.10,2,     2.74,2,    0.319,2,    0.177,2, -999.000,1,-999.0000,1,  -999.00,9,   -999.0,1,-999.000,9,   -999.0,9,   -999.0,9,  -999.00,9, 2028.8,-999.0000,-999.000,-999.000, 12.4190,-999.000
   318MWESTW_4,  P21E,    29,  1,     30,     30,2,19940404,1931,-16.7555, -78.6667, 3814,    250.9,  11.5778,  34.7905,2,  34.7925,2,      2.0,2,      0.5,2,    27.62,2,    23.95,2,     1.46,2,     2.73,2,    0.174,2,    0.088,2, -999.000,1,-999.0000,1,  -999.00,9,   -999.0,1,-999.000,9,   -999.0,9,   -999.0,9,  -999.00,9, 2553.1,-999.0000,-999.000,-999.000, 11.5458,-999.000
   318MWESTW_4,  P21E,    29,  1,     29,     29,2,19940404,1931,-16.7555, -78.6667, 3814,    300.4,  10.7524,  34.7455,2,  34.7402,2,      1.7,2,      0.4,2,    28.74,2,    29.45,2,     0.03,2,     2.78,2,    0.106,2,    0.052,2, -999.000,1,-999.0000,1,  -999.00,9,   -999.0,1,-999.000,9,   -999.0,9,   -999.0,9,  -999.00,9, 3047.3,-999.0000,-999.000,-999.000, 10.7158,-999.000
   318MWESTW_4,  P21E,    29,  1,     28,     28,2,19940404,1931,-16.7555, -78.6667, 3814,    402.9,   8.9111,  34.6442,2,  34.6280,2,      5.5,2,      7.3,2,    32.09,2,    37.44,2,     0.00,2,     2.90,2,    0.042,2,    0.014,2, -999.000,1,-999.0000,1,  -999.00,9,   -999.0,1,-999.000,9,   -999.0,9,   -999.0,9,  -999.00,9, 4070.8,-999.0000,-999.000,-999.000,  8.8673,-999.000
   318MWESTW_4,  P21E,    29,  1,     27,     27,2,19940404,1931,-16.7555, -78.6667, 3814,    505.5,   7.5215,  34.5648,2,  34.5496,2,     19.1,2,     24.5,2,    36.35,2,    40.74,2,     0.00,2,     2.97,2,    0.033,2,    0.009,2, -999.000,1,-999.0000,1,  -999.00,9,   -999.0,1,-999.000,9,   -999.0,9,   -999.0,9,  -999.00,9, 5096.0,-999.0000,-999.000,-999.000,  7.4715,-999.000
   318MWESTW_4,  P21E,    29,  1,     26,     26,2,19940404,1931,-16.7555, -78.6667, 3814,    609.1,   6.4172,  34.4998,2,  34.4985,2,     44.1,2,     45.8,2,    40.62,2,    41.45,2,     0.01,2,     2.96,2,    0.011,2,   -0.003,2, -999.000,1,-999.0000,1,  -999.00,9,   -999.0,1,-999.000,9,   -999.0,9,   -999.0,9,  -999.00,9, 6130.9,-999.0000,-999.000,-999.000,  6.3616,-999.000
   318MWESTW_4,  P21E,    29,  1,     25,     25,2,19940404,1931,-16.7555, -78.6667, 3814,    689.8,   5.8409,  34.5002,2,  34.4976,2,     40.8,2,     40.3,2,    50.06,2,    42.98,2,     0.01,2,     3.09,2,    0.001,2,   -0.003,2, -999.000,1,-999.0000,1,  -999.00,9,   -999.0,1,-999.000,9,   -999.0,9,   -999.0,9,  -999.00,9, 6936.4,-999.0000,-999.000,-999.000,  5.7806,-999.000
   318MWESTW_4,  P21E,    29,  1,     24,     24,2,19940404,1931,-16.7555, -78.6667, 3814,    794.3,   5.2762,  34.5037,2,  34.5068,2,     41.1,2,     41.0,2,    60.41,2,    43.76,2,     0.01,2,     3.16,2, -999.000,9, -999.000,9, -999.000,1,-999.0000,1,  -999.00,9,   -999.0,1,-999.000,9,   -999.0,9,   -999.0,9,  -999.00,9, 7980.4,-999.0000,-999.000,-999.000,  5.2095,-999.000
   318MWESTW_4,  P21E,    29,  1,     23,     23,2,19940404,1931,-16.7555, -78.6667, 3814,    898.9,   4.7656,  34.5111,2,  34.5117,2,     48.3,2,     50.1,2,    69.66,2,    43.60,2,    -0.01,2,     3.14,2, -999.000,9, -999.000,9, -999.000,1,-999.0000,1,  -999.00,9,   -999.0,1,-999.000,9,   -999.0,9,   -999.0,9,  -999.00,9, 9025.3,-999.0000,-999.000,-999.000,  4.6930,-999.000
   318MWESTW_4,  P21E,    29,  1,     22,     22,2,19940404,1931,-16.7555, -78.6667, 3814,   1003.9,   4.3628,  34.5246,2,  34.5264,2,     58.2,2,     58.5,2,    77.98,2,    43.02,2,    -0.01,2,     3.11,2, -999.000,9, -999.000,9, -999.000,1,-999.0000,1,  -999.00,9,   -999.0,1,-999.000,9,   -999.0,9,   -999.0,9,  -999.00,9,10073.9,-999.0000,-999.000,-999.000,  4.2840,-999.000
   318MWESTW_4,  P21E,    29,  1,     21,     21,2,19940404,1931,-16.7555, -78.6667, 3814,   1096.0,   3.9175,  34.5344,2,  34.5345,2,     74.8,2,     75.3,3,    84.82,2,    41.85,2,    -0.02,2,     3.01,2, -999.000,9, -999.000,9, -999.000,1,-999.0000,1,  -999.00,9,   -999.0,1,-999.000,9,   -999.0,9,   -999.0,9,  -999.00,9,10993.7,-999.0000,-999.000,-999.000,  3.8344,-999.000
   318MWESTW_4,  P21E,    29,  1,     20,     20,2,19940404,1931,-16.7555, -78.6667, 3814,   1192.7,   3.6759,  34.5568,2,  34.5567,2,     73.2,2,     72.1,2,    95.17,2,    42.13,2,     0.00,2,     3.06,2, -999.000,9, -999.000,9, -999.000,1,-999.0000,1,  -999.00,9,   -999.0,1,-999.000,9,   -999.0,9,   -999.0,9,  -999.00,9,11960.3,-999.0000,-999.000,-999.000,  3.5868,-999.000
   318MWESTW_4,  P21E,    29,  1,     19,     19,2,19940404,1931,-16.7555, -78.6667, 3814,   1301.4,   3.3726,  34.5700,2,  34.5714,2,     78.5,2,     79.0,2,   102.57,2,    41.49,2,     0.00,2,     3.01,2, -999.000,9, -999.000,9, -999.000,1,-999.0000,1,  -999.00,9,   -999.0,1,-999.000,9,   -999.0,9,   -999.0,9,  -999.00,9,13046.1,-999.0000,-999.000,-999.000,  3.2773,-999.000
   318MWESTW_4,  P21E,    29,  1,     18,     18,2,19940404,1931,-16.7555, -78.6667, 3814,   1402.2,   3.1149,  34.5844,2,  34.5846,2,     84.4,2,     85.4,2,   108.67,2,    40.90,2,     0.00,2,     2.96,2, -999.000,9, -999.000,9, -999.000,1,-999.0000,1,  -999.00,9,   -999.0,1,-999.000,9,   -999.0,9,   -999.0,9,  -999.00,9,14052.8,-999.0000,-999.000,-999.000,  3.0139,-999.000
   318MWESTW_4,  P21E,    29,  1,     17,     17,2,19940404,1931,-16.7555, -78.6667, 3814,   1498.5,   2.9267,  34.5944,2,  34.5952,2,     94.0,2,     91.3,2,   113.29,2,    40.19,2,     0.00,2,     2.93,2, -999.000,9, -999.000,9, -999.000,1,-999.0000,1,  -999.00,9,   -999.0,1,-999.000,9,   -999.0,9,   -999.0,9,  -999.00,9,15015.0,-999.0000,-999.000,-999.000,  2.8198,-999.000
   318MWESTW_4,  P21E,    29,  1,     16,     16,2,19940404,1931,-16.7555, -78.6667, 3814,   1606.2,   2.7164,  34.6098,2,  34.6099,2,     96.1,2,     96.1,2,   118.83,2,    39.74,2,    -0.01,2,     2.88,2, -999.000,9, -999.000,9, -999.000,1,-999.0000,1,  -999.00,9,   -999.0,1,-999.000,9,   -999.0,9,   -999.0,9,  -999.00,9,16090.9,-999.0000,-999.000,-999.000,  2.6030,-999.000
   318MWESTW_4,  P21E,    29,  1,     15,     15,2,19940404,1931,-16.7555, -78.6667, 3814,   1753.1,   2.4886,  34.6246,2,  34.6244,2,    102.8,2,    104.2,2,   124.37,2,    39.16,2,    -0.01,2,     2.82,2, -999.000,9, -999.000,9, -999.000,1,-999.0000,1,  -999.00,9,   -999.0,1,-999.000,9,   -999.0,9,   -999.0,9,  -999.00,9,17558.5,-999.0000,-999.000,-999.000,  2.3659,-999.000
   318MWESTW_4,  P21E,    29,  1,     14,     14,2,19940404,1931,-16.7555, -78.6667, 3814,   1904.3,   2.3100,  34.6373,2,  34.6368,2,    109.3,2,    109.8,2,   128.81,2,    38.69,2,    -0.01,2,     2.79,2, -999.000,9, -999.000,9, -999.000,1,-999.0000,1,  -999.00,9,   -999.0,1,-999.000,9,   -999.0,9,   -999.0,9,  -999.00,9,19069.2,-999.0000,-999.000,-999.000,  2.1770,-999.000
   318MWESTW_4,  P21E,    29,  1,     13,     13,2,19940404,1931,-16.7555, -78.6667, 3814,   2050.2,   2.1845,  34.6456,2,  34.6449,2,    116.4,2,    116.8,2,   129.92,2,    38.16,2,    -0.01,2,     2.74,2, -999.000,9, -999.000,9, -999.000,1,-999.0000,1,  -999.00,9,   -999.0,1,-999.000,9,   -999.0,9,   -999.0,9,  -999.00,9,20526.2,-999.0000,-999.000,-999.000,  2.0409,-999.000
   318MWESTW_4,  P21E,    29,  1,     12,     12,2,19940404,1931,-16.7555, -78.6667, 3814,   2183.2,   2.0537,  34.6550,2,  34.6553,2,    126.1,2,    127.3,2,   129.55,2,    37.39,2,     0.00,2,     2.66,2, -999.000,9, -999.000,9, -999.000,1,-999.0000,1,  -999.00,9,   -999.0,1,-999.000,9,   -999.0,9,   -999.0,9,  -999.00,9,21855.5,-999.0000,-999.000,-999.000,  1.9007,-999.000
   318MWESTW_4,  P21E,    29,  1,     11,     11,2,19940404,1931,-16.7555, -78.6667, 3814,   2338.7,   1.9313,  34.6640,2,  34.6631,2,    137.6,2,    138.2,2,   127.71,2,    36.58,2,    -0.01,2,     2.59,2, -999.000,9, -999.000,9, -999.000,1,-999.0000,1,  -999.00,9,   -999.0,1,-999.000,9,   -999.0,9,   -999.0,9,  -999.00,9,23409.0,-999.0000,-999.000,-999.000,  1.7667,-999.000
   318MWESTW_4,  P21E,    29,  1,     10,     10,2,19940404,1931,-16.7555, -78.6667, 3814,   2497.5,   1.8688,  34.6697,2,  34.6698,2,    145.2,2,    143.3,2,   127.35,2,    35.92,2,     0.00,2,     2.56,2, -999.000,9, -999.000,9, -999.000,1,-999.0000,1,  -999.00,9,   -999.0,1,-999.000,9,   -999.0,9,   -999.0,9,  -999.00,9,24995.8,-999.0000,-999.000,-999.000,  1.6911,-999.000
   318MWESTW_4,  P21E,    29,  1,      9,      9,2,19940404,1931,-16.7555, -78.6667, 3814,   2653.9,   1.8178,  34.6750,2,  34.6743,2,    145.4,2,    143.5,2,   130.86,2,    35.86,2,     0.01,2,     2.55,2, -999.000,9, -999.000,9, -999.000,1,-999.0000,1,  -999.00,9,   -999.0,1,-999.000,9,   -999.0,9,   -999.0,9,  -999.00,9,26558.3,-999.0000,-999.000,-999.000,  1.6268,-999.000
   318MWESTW_4,  P21E,    29,  1,      8,      8,2,19940404,1931,-16.7555, -78.6667, 3814,   2804.7,   1.7938,  34.6784,2,  34.6775,2,    140.9,2,    140.1,2,   135.29,2,    36.05,2,     0.00,2,     2.57,2, -999.000,9, -999.000,9, -999.000,1,-999.0000,1,  -999.00,9,   -999.0,1,-999.000,9,   -999.0,9,   -999.0,9,  -999.00,9,28064.9,-999.0000,-999.000,-999.000,  1.5892,-999.000
   318MWESTW_4,  P21E,    29,  1,      7,      7,2,19940404,1931,-16.7555, -78.6667, 3814,   2941.4,   1.7788,  34.6806,2,  34.6800,2,    140.5,2,    139.7,2,   137.14,2,    36.18,2,    -0.01,2,     2.57,2, -999.000,9, -999.000,9, -999.000,1,-999.0000,1,  -999.00,9,   -999.0,1,-999.000,9,   -999.0,9,   -999.0,9,  -999.00,9,29431.0,-999.0000,-999.000,-999.000,  1.5615,-999.000
   318MWESTW_4,  P21E,    29,  1,      6,      6,2,19940404,1931,-16.7555, -78.6667, 3814,   3149.4,   1.7729,  34.6825,2,  34.6820,2,    139.7,2,    139.2,2,   138.81,2,    36.24,2,    -0.01,2,     2.57,2, -999.000,9, -999.000,9, -999.000,1,-999.0000,1,  -999.00,9,   -999.0,1,-999.000,9,   -999.0,9,   -999.0,9,  -999.00,9,31510.0,-999.0000,-999.000,-999.000,  1.5354,-999.000
   318MWESTW_4,  P21E,    29,  1,      5,      5,2,19940404,1931,-16.7555, -78.6667, 3814,   3350.6,   1.7644,  34.6849,2,  34.6840,2,    142.4,2,    142.6,2,   137.15,2,    36.08,2,    -0.01,2,     2.54,2, -999.000,9, -999.000,9, -999.000,1,-999.0000,1,  -999.00,9,   -999.0,1,-999.000,9,   -999.0,9,   -999.0,9,  -999.00,9,33520.6,-999.0000,-999.000,-999.000,  1.5069,-999.000
   318MWESTW_4,  P21E,    29,  1,      4,      4,2,19940404,1931,-16.7555, -78.6667, 3814,   3554.1,   1.7549,  34.6875,2,  34.6851,2,    148.5,2,    148.4,2,   133.10,2,    35.83,2,     0.00,2,     2.51,2, -999.000,9, -999.000,9, -999.000,1,-999.0000,1,  -999.00,9,   -999.0,1,-999.000,9,   -999.0,9,   -999.0,9,  -999.00,9,35554.8,-999.0000,-999.000,-999.000,  1.4767,-999.000
   318MWESTW_4,  P21E,    29,  1,      3,      3,2,19940404,1931,-16.7555, -78.6667, 3814,   3695.2,   1.7484,  34.6887,2,  34.6863,2,    152.9,2,    152.3,2,   130.35,2,    35.54,2,     0.00,2,     2.49,2, -999.000,9, -999.000,9, -999.000,1,-999.0000,1,  -999.00,9,   -999.0,1,-999.000,9,   -999.0,9,   -999.0,9,  -999.00,9,36964.9,-999.0000,-999.000,-999.000,  1.4555,-999.000
   318MWESTW_4,  P21E,    29,  1,      2,      2,2,19940404,1931,-16.7555, -78.6667, 3814,   3785.0,   1.7463,  34.6896,2,  34.6885,2,    153.6,2,    154.0,2,   129.24,2,    35.25,2,     0.00,2,     2.48,2, -999.000,9, -999.000,9, -999.000,1,-999.0000,1,  -999.00,9,   -999.0,1,-999.000,9,   -999.0,9,   -999.0,9,  -999.00,9,37861.9,-999.0000,-999.000,-999.000,  1.4438,-999.000
   318MWESTW_4,  P21E,    29,  1,      1,      1,2,19940404,1931,-16.7555, -78.6667, 3814,   3838.3,   1.7479,  34.6903,2,  34.6897,2,    152.5,2,    154.4,2,   129.32,2,    35.16,2,     0.00,2,     2.48,2, -999.000,9, -999.000,9, -999.000,1,-999.0000,1,  -999.00,9,   -999.0,1,-999.000,9,   -999.0,9,   -999.0,9,  -999.00,9,38395.1,-999.0000,-999.000,-999.000,  1.4397,-999.000