BOTTLE,20010911WHPSIOdm
EXPOCODE,SECT_ID,STNNBR,CASTNO,SAMPNO,BTLNBR,BTLNBR_FLAG_W,DATE,TIME,LATITUDE,LONGITUDE,DEPTH,CTDPRS,CTDTMP,CTDSAL,CTDSAL_FLAG_W,SALNTY,SALNTY_FLAG_W,CTDOXY,CTDOXY_FLAG_W,OXYGEN,OXYGEN_FLAG_W,SILCAT,SILCAT_FLAG_W,NITRAT,NITRAT_FLAG_W,NITRIT,NITRIT_FLAG_W,PHSPHT,PHSPHT_FLAG_W,CFC-11,CFC-11_FLAG_W,CFC-12,CFC-12_FLAG_W,TRITUM,TRITUM_FLAG_W,HELIUM,HELIUM_FLAG_W,DELHE3,DELHE3_FLAG_W,DELC14,DELC14_FLAG_W,NEON,NEON_FLAG_W,TCARBN,TCARBN_FLAG_W,ALKALI,ALKALI_FLAG_W,PH,PH_FLAG_W,CTDRAW,HELIER,DELHER,NEONER,THETA,TRITER
,,,,,,,,,,,,DBAR,ITS-90,PSS-78,,PSS-78,,UMOL/KG,,UMOL/KG,,UMOL/KG,,UMOL/KG,,UMOL/KG,,UMOL/KG,,PMOL/KG,,PMOL/KG,,TU,,UMOL/KG,,PERCNT,,/MILLE,,NMOL/KG,,UMOL/KG,,UMOL/KG,,,,,NMOL/KG,PERCNT,NMOL/KG,ITS-90,TU
   318MWESTW_5,  P21W,   274,  1,     35, SI9435,2,19940618,0354,-23.1278, 158.5833, 2540,      5.4,  22.7647,  35.7232,2,  35.7240,2,    215.2,2,   -999.0,9,     0.51,2,    -0.02,2,     0.02,2,     0.10,2, -999.000,9, -999.000,9, -999.000,1,-999.0000,1,  -999.00,9,   -999.0,1,-999.000,9,   -999.0,9,   -999.0,9,  -999.00,9,  114.0,-999.0000,-999.000,-999.000, 22.7636,-999.000
   318MWESTW_5,  P21W,   274,  1,     34, SI9441,2,19940618,0354,-23.1278, 158.5833, 2540,     20.2,  22.7688,  35.7227,2,  35.7242,2,    212.8,2,    206.9,2,     0.52,2,     0.02,2,     0.01,2,     0.11,2, -999.000,9, -999.000,9, -999.000,1,-999.0000,1,  -999.00,9,   -999.0,1,-999.000,9,   -999.0,9,   -999.0,9,  -999.00,9,  261.1,-999.0000,-999.000,-999.000, 22.7647,-999.000
   318MWESTW_5,  P21W,   274,  1,     33, SI9433,2,19940618,0354,-23.1278, 158.5833, 2540,     45.9,  22.7707,  35.7301,2,  35.7315,2,    221.3,2,    215.4,2,     0.39,2,     0.03,2,     0.01,2,     0.11,2,    1.970,2,    1.050,2,    0.815,2,   1.7048,2,    -1.48,2,   -999.0,1,   6.826,2,   -999.0,9,   -999.0,9,  -999.00,9,  517.2,  0.0085,   0.080,   0.034, 22.7614,   0.008
   318MWESTW_5,  P21W,   274,  1,     32, SI9432,2,19940618,0354,-23.1278, 158.5833, 2540,     96.7,  22.4208,  35.7519,2,  35.7537,2,    201.1,2,    202.0,2,     0.55,2,     0.79,2,     0.08,2,     0.20,2,    1.948,2,    1.059,2,    0.780,2,   1.7196,2,    -1.05,2,   -999.0,1,   6.887,2,   -999.0,9,   -999.0,9,  -999.00,9, 1022.5,  0.0086,   0.080,   0.034, 22.4014,   0.008
   318MWESTW_5,  P21W,   274,  1,     31, SI9431,2,19940618,0354,-23.1278, 158.5833, 2540,    146.3,  20.7382,  35.7210,2,  35.7221,2,    189.9,2,    187.2,2,     0.84,2,     3.21,2,     0.02,2,     0.35,2,    2.031,2,    1.080,2, -999.000,1,-999.0000,1,  -999.00,9,   -999.0,1,-999.000,9,   -999.0,9,   -999.0,9,  -999.00,9, 1516.5,-999.0000,-999.000,-999.000, 20.7104,-999.000
   318MWESTW_5,  P21W,   274,  1,     30, SI9440,2,19940618,0354,-23.1278, 158.5833, 2540,    198.2,  19.9180,  35.6859,2,  35.6824,2,    183.2,2,    186.1,2,     1.14,2,     4.00,2,     0.02,2,     0.39,2,    1.997,2,    1.053,2,    0.712,2,   1.7538,2,    -0.36,2,   -999.0,1,   7.086,2,   -999.0,9,   -999.0,9,  -999.00,9, 2033.2,  0.0088,   0.080,   0.035, 19.8813,   0.008
   318MWESTW_5,  P21W,   274,  1,     29, SI9429,2,19940618,0354,-23.1278, 158.5833, 2540,    248.5,  18.6207,  35.5845,2,  35.5851,2,    179.8,2,    178.1,2,     1.73,2,     5.93,2,     0.01,2,     0.52,2,    1.893,2,    0.988,2,    0.775,2,   1.7541,2,    -0.18,2,   -999.0,1,   7.151,2,   -999.0,9,   -999.0,9,  -999.00,9, 2533.5,  0.0088,   0.080,   0.036, 18.5768,   0.008
   318MWESTW_5,  P21W,   274,  1,     28, SI9428,2,19940618,0354,-23.1278, 158.5833, 2540,    298.9,  17.2375,  35.5047,2,  35.5079,2,    184.2,2,    183.3,2,     2.02,2,     6.89,2,     0.01,2,     0.58,2, -999.000,9, -999.000,9,    0.659,2,   1.7556,2,    -0.11,2,   -999.0,1,   7.192,2,   -999.0,9,   -999.0,9,  -999.00,9, 3034.9,  0.0088,   0.080,   0.036, 17.1874,   0.007
   318MWESTW_5,  P21W,   274,  1,     27, SI9424,2,19940618,0354,-23.1278, 158.5833, 2540,    348.5,  15.7208,  35.3745,2,  35.3735,2,    184.8,2,    182.6,2,     3.04,2,     9.09,2,     0.01,2,     0.72,2,    1.847,2,    0.943,2,    0.586,2,   1.7621,2,     0.29,2,   -999.0,1,   7.268,2,   -999.0,9,   -999.0,9,  -999.00,9, 3529.2,  0.0088,   0.080,   0.036, 15.6659,   0.007
   318MWESTW_5,  P21W,   274,  1,     26, SI9414,3,19940618,0354,-23.1278, 158.5833, 2540,    401.1,  14.6001,  35.2628,2,  35.2720,2,    183.6,2,    181.8,2,     3.62,2,    10.75,2,     0.01,2,     0.84,2, -999.000,9, -999.000,9, -999.000,1,-999.0000,1,  -999.00,9,   -999.0,1,-999.000,9,   -999.0,9,   -999.0,9,  -999.00,9, 4052.6,-999.0000,-999.000,-999.000, 14.5399,-999.000
   318MWESTW_5,  P21W,   274,  1,     25, SI9425,3,19940618,0354,-23.1278, 158.5833, 2540,    445.0,  13.5325,  35.1595,2,  35.1603,2,    184.8,2,    182.6,2,     4.50,2,    12.49,2,     0.02,2,     0.96,2, -999.000,9, -999.000,9, -999.000,1,-999.0000,1,  -999.00,9,   -999.0,1,-999.000,9,   -999.0,9,   -999.0,9,  -999.00,9, 4488.6,-999.0000,-999.000,-999.000, 13.4690,-999.000
   318MWESTW_5,  P21W,   274,  1,     24, SI9434,2,19940618,0354,-23.1278, 158.5833, 2540,    500.5,  12.1224,  35.0069,2,  35.0026,2,    184.9,2,    183.4,2,     6.09,2,    15.00,2,     0.00,2,     1.13,2,    1.397,2,    0.700,2,    0.373,2,   1.7540,2,     0.99,2,   -999.0,1,   7.371,2,   -999.0,9,   -999.0,9,  -999.00,9, 5041.5,  0.0088,   0.080,   0.037, 12.0559,   0.006
   318MWESTW_5,  P21W,   274,  1,     23, SI9423,2,19940618,0354,-23.1278, 158.5833, 2540,    552.1,  10.8115,  34.8728,2,  34.8703,2,    188.6,2,    187.2,2,     7.53,2,    17.29,2,     0.01,2,     1.26,2, -999.000,9, -999.000,9, -999.000,1,-999.0000,1,  -999.00,9,   -999.0,1,-999.000,9,   -999.0,9,   -999.0,9,  -999.00,9, 5554.5,-999.0000,-999.000,-999.000, 10.7432,-999.000
   318MWESTW_5,  P21W,   274,  1,     22, SI9418,2,19940618,0354,-23.1278, 158.5833, 2540,    598.7,   9.4108,  34.7188,2,  34.7172,2,    191.7,2,    191.6,2,     9.71,2,    20.08,2,     0.01,2,     1.43,2,    1.052,2,    0.513,2,    0.252,2,   1.7865,2,     1.36,2,   -999.0,1,   7.553,2,   -999.0,9,   -999.0,9,  -999.00,9, 6017.9,  0.0089,   0.080,   0.038,  9.3427,   0.006
   318MWESTW_5,  P21W,   274,  1,     21, SI9421,2,19940618,0354,-23.1278, 158.5833, 2540,    695.5,   7.7917,  34.5539,2,  34.5525,2,    194.3,2,    195.7,2,    14.73,2,    23.48,2,     0.01,2,     1.65,2,    0.542,2,    0.272,2,    0.142,2,   1.7957,2,     2.27,2,   -999.0,1,   7.656,2,   -999.0,9,   -999.0,9,  -999.00,9, 6980.7,  0.0090,   0.080,   0.038,  7.7206,   0.005
   318MWESTW_5,  P21W,   274,  1,     20, SI9420,2,19940618,0354,-23.1278, 158.5833, 2540,    794.4,   6.5598,  34.4695,2,  34.4695,2,    193.9,2,    193.6,2,    22.06,2,    26.33,2,     0.00,2,     1.84,2, -999.000,9, -999.000,9, -999.000,1,-999.0000,1,  -999.00,9,   -999.0,1,-999.000,9,   -999.0,9,   -999.0,9,  -999.00,9, 7963.7,-999.0000,-999.000,-999.000,  6.4855,-999.000
   318MWESTW_5,  P21W,   274,  1,     19, SI9419,2,19940618,0354,-23.1278, 158.5833, 2540,    900.2,   5.6414,  34.4440,2,  34.4442,2,    186.8,2,    187.3,2,    32.11,2,    28.69,2,     0.01,2,     2.00,2,    0.167,6,    0.089,6,    0.054,2,   1.8199,2,     5.37,2,   -999.0,1,   7.794,2,   -999.0,9,   -999.0,9,  -999.00,9, 9016.4,  0.0091,   0.090,   0.039,  5.5628,   0.004
   318MWESTW_5,  P21W,   274,  1,     18, SI9439,2,19940618,0354,-23.1278, 158.5833, 2540,    997.7,   4.9954,  34.4619,2,  34.4626,2,    178.5,2,    178.9,2,    44.17,2,    30.40,2,     0.01,2,     2.12,2,    0.091,2,    0.046,2, -999.000,1,-999.0000,1,  -999.00,9,   -999.0,1,-999.000,9,   -999.0,9,   -999.0,9,  -999.00,9, 9984.9,-999.0000,-999.000,-999.000,  4.9124,-999.000
   318MWESTW_5,  P21W,   274,  1,     17, SI9417,2,19940618,0354,-23.1278, 158.5833, 2540,   1104.2,   4.3760,  34.4885,2,  34.4883,2,    170.7,2,    170.0,2,    57.23,2,    31.87,2,     0.01,2,     2.24,2, -999.000,9, -999.000,9,    0.007,2,-999.0000,1,  -999.00,9,   -999.0,1,-999.000,9,   -999.0,9,   -999.0,9,  -999.00,9,11044.1,-999.0000,-999.000,-999.000,  4.2884,   0.004
   318MWESTW_5,  P21W,   274,  1,     16, SI9416,2,19940618,0354,-23.1278, 158.5833, 2540,   1192.9,   4.0054,  34.5115,2,  34.5111,2,    165.1,2,    165.2,2,    66.55,2,    32.64,2,     0.00,2,     2.31,2,    0.022,2,    0.011,2, -999.000,1,-999.0000,1,  -999.00,9,   -999.0,1,-999.000,9,   -999.0,9,   -999.0,9,  -999.00,9,11926.0,-999.0000,-999.000,-999.000,  3.9134,-999.000
   318MWESTW_5,  P21W,   274,  1,     15, SI9415,2,19940618,0354,-23.1278, 158.5833, 2540,   1299.8,   3.6085,  34.5396,2,  34.5394,2,    158.4,2,    157.8,2,    77.18,2,    33.51,2,     0.01,2,     2.37,2, -999.000,9, -999.000,9,    0.003,2,   1.8698,2,    15.66,2,   -999.0,1,   7.925,2,   -999.0,9,   -999.0,9,  -999.00,9,12988.6,  0.0093,   0.090,   0.040,  3.5111,   0.004
   318MWESTW_5,  P21W,   274,  1,     14, SI9436,2,19940618,0354,-23.1278, 158.5833, 2540,   1402.0,   3.3336,  34.5596,2,  34.5608,2,    153.3,2,    152.3,2,    84.93,2,    34.23,2,     0.01,2,     2.41,2,    0.005,2,    0.002,2, -999.000,1,-999.0000,1,  -999.00,9,   -999.0,1,-999.000,9,   -999.0,9,   -999.0,9,  -999.00,9,14004.8,-999.0000,-999.000,-999.000,  3.2303,-999.000
   318MWESTW_5,  P21W,   274,  1,     13, SI9413,2,19940618,0354,-23.1278, 158.5833, 2540,   1501.4,   3.0957,  34.5790,2,  34.5798,2,    150.8,2,    149.9,2,    91.68,2,    34.75,2,     0.00,2,     2.44,2, -999.000,9, -999.000,9,    0.001,2,   1.8728,2,    18.98,2,   -999.0,1,   7.945,2,   -999.0,9,   -999.0,9,  -999.00,9,14993.2,  0.0094,   0.100,   0.040,  2.9866,   0.004
   318MWESTW_5,  P21W,   274,  1,     12, SI9438,2,19940618,0354,-23.1278, 158.5833, 2540,   1600.6,   2.9333,  34.5929,2,  34.5924,2,    149.6,2,    148.6,2,    95.56,2,    34.93,2,     0.01,2,     2.46,2,    0.002,2,    0.001,2, -999.000,1,-999.0000,1,  -999.00,9,   -999.0,1,-999.000,9,   -999.0,9,   -999.0,9,  -999.00,9,15979.0,-999.0000,-999.000,-999.000,  2.8178,-999.000
   318MWESTW_5,  P21W,   274,  1,     11, SI9411,2,19940618,0354,-23.1278, 158.5833, 2540,   1700.4,   2.7605,  34.6091,2,  34.6123,2,    148.8,2,    148.1,2,    99.72,2,    35.16,2,     0.00,2,     2.47,2, -999.000,9, -999.000,9,    0.002,2,   1.8870,2,    19.76,2,   -999.0,1,   8.007,2,   -999.0,9,   -999.0,9,  -999.00,9,16971.4,  0.0094,   0.100,   0.040,  2.6387,   0.004
   318MWESTW_5,  P21W,   274,  1,     10, SI9412,2,19940618,0354,-23.1278, 158.5833, 2540,   1792.8,   2.6368,  34.6211,2,  34.6219,2,    150.3,2,    149.2,2,   101.45,2,    35.03,2,     0.01,2,     2.46,2, -999.000,9, -999.000,9, -999.000,1,-999.0000,1,  -999.00,9,   -999.0,1,-999.000,9,   -999.0,9,   -999.0,9,  -999.00,9,17889.9,-999.0000,-999.000,-999.000,  2.5087,-999.000
   318MWESTW_5,  P21W,   274,  1,      9, SI9410,2,19940618,0354,-23.1278, 158.5833, 2540,   1895.8,   2.5208,  34.6340,2,  34.6348,2,    152.3,2,    150.7,2,   102.61,2,    34.89,2,     0.01,2,     2.46,2, -999.000,9, -999.000,9, -999.000,1,-999.0000,1,  -999.00,9,   -999.0,1,-999.000,9,   -999.0,9,   -999.0,9,  -999.00,9,18914.1,-999.0000,-999.000,-999.000,  2.3855,-999.000
   318MWESTW_5,  P21W,   274,  1,      8, SI9422,2,19940618,0354,-23.1278, 158.5833, 2540,   2000.9,   2.4407,  34.6438,2,  34.6455,2,    155.4,2,    152.9,2,   102.48,2,    34.57,2,     0.00,2,     2.44,2, -999.000,9, -999.000,9, -999.000,1,-999.0000,1,  -999.00,9,   -999.0,1,-999.000,9,   -999.0,9,   -999.0,9,  -999.00,9,19958.7,-999.0000,-999.000,-999.000,  2.2975,-999.000
   318MWESTW_5,  P21W,   274,  1,      7, SI9407,2,19940618,0354,-23.1278, 158.5833, 2540,   2096.4,   2.3353,  34.6583,2,  34.6594,2,    159.8,2,    158.8,2,   101.34,2,    34.09,2,     0.00,2,     2.40,2, -999.000,9, -999.000,9, -999.000,1,-999.0000,1,  -999.00,9,   -999.0,1,-999.000,9,   -999.0,9,   -999.0,9,  -999.00,9,20908.2,-999.0000,-999.000,-999.000,  2.1853,-999.000
   318MWESTW_5,  P21W,   274,  1,      6, SI9427,2,19940618,0354,-23.1278, 158.5833, 2540,   2191.9,   2.2334,  34.6731,2,  34.6732,2,    164.2,2,    164.1,2,    99.78,2,    33.68,2,     0.00,2,     2.36,2,   -0.001,2,   -0.002,2, -999.000,1,-999.0000,1,  -999.00,9,   -999.0,1,-999.000,9,   -999.0,9,   -999.0,9,  -999.00,9,21858.0,-999.0000,-999.000,-999.000,  2.0766,-999.000
   318MWESTW_5,  P21W,   274,  1,      5, SI9405,2,19940618,0354,-23.1278, 158.5833, 2540,   2298.8,   2.1082,  34.6901,2,  34.6905,2,    171.1,2,    170.9,2,    98.06,2,    33.08,2,     0.00,2,     2.31,2, -999.000,9, -999.000,9, -999.000,1,-999.0000,1,  -999.00,9,   -999.0,1,-999.000,9,   -999.0,9,   -999.0,9,  -999.00,9,22920.4,-999.0000,-999.000,-999.000,  1.9440,-999.000
   318MWESTW_5,  P21W,   274,  1,      4, SI9404,2,19940618,0354,-23.1278, 158.5833, 2540,   2400.1,   2.0188,  34.7001,2,  34.7007,2,    174.9,2,    175.0,2,    97.94,2,    32.80,2,     0.00,2,     2.29,2, -999.000,9, -999.000,9, -999.000,1,-999.0000,1,  -999.00,9,   -999.0,1,-999.000,9,   -999.0,9,   -999.0,9,  -999.00,9,23926.9,-999.0000,-999.000,-999.000,  1.8470,-999.000
   318MWESTW_5,  P21W,   274,  1,      3, SI9403,2,19940618,0354,-23.1278, 158.5833, 2540,   2498.8,   1.8642,  34.7107,2,  34.7121,2,    178.8,2,    179.3,2,   100.10,2,    32.65,2,     0.00,2,     2.28,2, -999.000,9, -999.000,9, -999.000,1,-999.0000,1,  -999.00,9,   -999.0,1,-999.000,9,   -999.0,9,   -999.0,9,  -999.00,9,24908.6,-999.0000,-999.000,-999.000,  1.6863,-999.000
   318MWESTW_5,  P21W,   274,  1,      2, SI9437,3,19940618,0354,-23.1278, 158.5833, 2540,   2528.8,   1.8434,  34.7124,2,  34.7131,2,    179.2,2,    179.9,2,   100.54,2,    32.61,2,     0.01,2,     2.27,2, -999.000,9, -999.000,9, -999.000,1,-999.0000,1,  -999.00,9,   -999.0,1,-999.000,9,   -999.0,9,   -999.0,9,  -999.00,9,25205.8,-999.0000,-999.000,-999.000,  1.6632,-999.000
   318MWESTW_5,  P21W,   274,  1,      1, SI9401,2,19940618,0354,-23.1278, 158.5833, 2540,   2539.3,   1.8408,  34.7120,2,  34.7132,2,    179.5,2,    180.6,2,   100.70,2,    32.46,2,     0.01,2,     2.28,2,    0.002,2,    0.000,2, -999.000,1,-999.0000,1,  -999.00,9,   -999.0,1,-999.000,9,   -999.0,9,   -999.0,9,  -999.00,9,25310.9,-999.0000,-999.000,-999.000,  1.6597,-999.000