BOTTLE,20010911WHPSIOdm
EXPOCODE,SECT_ID,STNNBR,CASTNO,SAMPNO,BTLNBR,BTLNBR_FLAG_W,DATE,TIME,LATITUDE,LONGITUDE,DEPTH,CTDPRS,CTDTMP,CTDSAL,CTDSAL_FLAG_W,SALNTY,SALNTY_FLAG_W,CTDOXY,CTDOXY_FLAG_W,OXYGEN,OXYGEN_FLAG_W,SILCAT,SILCAT_FLAG_W,NITRAT,NITRAT_FLAG_W,NITRIT,NITRIT_FLAG_W,PHSPHT,PHSPHT_FLAG_W,CFC-11,CFC-11_FLAG_W,CFC-12,CFC-12_FLAG_W,TRITUM,TRITUM_FLAG_W,HELIUM,HELIUM_FLAG_W,DELHE3,DELHE3_FLAG_W,DELC14,DELC14_FLAG_W,NEON,NEON_FLAG_W,TCARBN,TCARBN_FLAG_W,ALKALI,ALKALI_FLAG_W,PH,PH_FLAG_W,CTDRAW,HELIER,DELHER,NEONER,THETA,TRITER
,,,,,,,,,,,,DBAR,ITS-90,PSS-78,,PSS-78,,UMOL/KG,,UMOL/KG,,UMOL/KG,,UMOL/KG,,UMOL/KG,,UMOL/KG,,PMOL/KG,,PMOL/KG,,TU,,UMOL/KG,,PERCNT,,/MILLE,,NMOL/KG,,UMOL/KG,,UMOL/KG,,,,,NMOL/KG,PERCNT,NMOL/KG,ITS-90,TU
   318MWESTW_5,  P21W,   272,  1,      8, SI9422,2,19940617,1951,-22.8333, 159.3500,  300,      3.5,  23.2699,  35.5165,2,  35.5166,2,    223.9,2,    211.5,2,     0.42,2,     0.03,2,     0.01,2,     0.11,2,    1.908,2,    1.060,2, -999.000,1,-999.0000,1,  -999.00,9,   -999.0,1,-999.000,9,   -999.0,9,   -999.0,9,  -999.00,9,   90.2,-999.0000,-999.000,-999.000, 23.2692,-999.000
   318MWESTW_5,  P21W,   272,  1,      7, SI9407,2,19940617,1951,-22.8333, 159.3500,  300,     23.3,  23.2771,  35.5178,2,  35.5198,2,    219.2,2,    212.1,2,     0.45,2,    -0.01,2,     0.01,2,     0.11,2, -999.000,9, -999.000,9, -999.000,1,-999.0000,1,  -999.00,9,   -999.0,1,-999.000,9,   -999.0,9,   -999.0,9,  -999.00,9,  287.3,-999.0000,-999.000,-999.000, 23.2723,-999.000
   318MWESTW_5,  P21W,   272,  1,      6, SI9427,2,19940617,1951,-22.8333, 159.3500,  300,     46.6,  23.3416,  35.5816,2,  35.5807,2,    216.4,2,    211.5,2,     0.48,2,    -0.01,2,     0.01,2,     0.10,2,    1.915,2,    1.060,2, -999.000,1,-999.0000,1,  -999.00,9,   -999.0,1,-999.000,9,   -999.0,9,   -999.0,9,  -999.00,9,  518.6,-999.0000,-999.000,-999.000, 23.3320,-999.000
   318MWESTW_5,  P21W,   272,  1,      5, SI9405,2,19940617,1951,-22.8333, 159.3500,  300,     97.9,  23.0292,  35.7009,2,  35.7039,2,    210.5,2,    212.1,2,     0.50,2,     0.02,2,     0.00,2,     0.10,2,    1.949,2,    1.067,2, -999.000,1,-999.0000,1,  -999.00,9,   -999.0,1,-999.000,9,   -999.0,9,   -999.0,9,  -999.00,9, 1028.5,-999.0000,-999.000,-999.000, 23.0091,-999.000
   318MWESTW_5,  P21W,   272,  1,      4, SI9404,2,19940617,1951,-22.8333, 159.3500,  300,    144.2,  22.1864,  35.7500,2,  35.7493,2,    197.2,2,    194.9,2,     0.67,2,     1.58,2,     0.09,2,     0.25,2,    1.956,2,    1.068,2, -999.000,1,-999.0000,1,  -999.00,9,   -999.0,1,-999.000,9,   -999.0,9,   -999.0,9,  -999.00,9, 1489.6,-999.0000,-999.000,-999.000, 22.1576,-999.000
   318MWESTW_5,  P21W,   272,  1,      3, SI9403,2,19940617,1951,-22.8333, 159.3500,  300,    194.8,  20.8583,  35.7262,2,  35.7248,2,    184.0,2,    187.5,2,     0.99,2,     3.13,2,     0.02,2,     0.35,2,    2.020,2,    1.091,2, -999.000,1,-999.0000,1,  -999.00,9,   -999.0,1,-999.000,9,   -999.0,9,   -999.0,9,  -999.00,9, 1992.1,-999.0000,-999.000,-999.000, 20.8210,-999.000
   318MWESTW_5,  P21W,   272,  1,      2, SI9437,2,19940617,1951,-22.8333, 159.3500,  300,    247.0,  19.5780,  35.6616,2,  35.6579,2,    183.0,2,    182.9,2,     1.45,2,     4.65,2,     0.02,2,     0.45,2, -999.000,9, -999.000,9, -999.000,1,-999.0000,1,  -999.00,9,   -999.0,1,-999.000,9,   -999.0,9,   -999.0,9,  -999.00,9, 2511.6,-999.0000,-999.000,-999.000, 19.5328,-999.000
   318MWESTW_5,  P21W,   272,  1,      1, SI9401,2,19940617,1951,-22.8333, 159.3500,  300,    286.0,  18.1754,  35.5697,2,  35.5758,2,    186.5,2,    182.9,2,     1.91,2,     5.86,2,     0.02,2,     0.53,2,    1.982,6,    1.054,6, -999.000,1,-999.0000,1,  -999.00,9,   -999.0,1,-999.000,9,   -999.0,9,   -999.0,9,  -999.00,9, 2899.4,-999.0000,-999.000,-999.000, 18.1257,-999.000
   318MWESTW_5,  P21W,   273,  1,     26, SI9414,2,19940617,2300,-22.9500, 159.0555, 2520,      9.3,  23.3439,  35.5785,2,  35.5788,2,    225.0,2,    211.4,2,     0.36,2,     0.01,2,     0.02,2,     0.09,2,    1.912,2,    1.044,2, -999.000,1,-999.0000,1,  -999.00,9,   -999.0,1,-999.000,9,   1983.0,2,   2333.8,2,     8.09,2,  151.9,-999.0000,-999.000,-999.000, 23.3420,-999.000
   318MWESTW_5,  P21W,   273,  1,     25, SI9425,2,19940617,2300,-22.9500, 159.0555, 2520,     30.3,  23.3469,  35.5789,2,  35.5809,2,    223.5,2,    211.6,2,     0.39,2,    -0.01,2,     0.01,2,     0.09,2,    1.923,2,    1.040,2, -999.000,1,-999.0000,1,  -999.00,9,   -999.0,1,-999.000,9,   1982.5,2,   2335.7,2,     8.09,2,  360.7,-999.0000,-999.000,-999.000, 23.3406,-999.000
   318MWESTW_5,  P21W,   273,  1,     24, SI9434,2,19940617,2300,-22.9500, 159.0555, 2520,     50.3,  23.3753,  35.6157,2,  35.6157,2,    218.2,2,    210.8,2,     0.42,2,    -0.02,2,     0.02,2,     0.10,2, -999.000,9, -999.000,9, -999.000,1,-999.0000,1,  -999.00,9,   -999.0,1,-999.000,9,   1985.9,2,   2328.5,2,     8.09,2,  560.0,-999.0000,-999.000,-999.000, 23.3649,-999.000
   318MWESTW_5,  P21W,   273,  1,     23, SI9423,2,19940617,2300,-22.9500, 159.0555, 2520,    101.3,  22.9080,  35.7504,2,  35.7519,2,    213.8,2,    210.3,2,     0.45,2,     0.06,2,     0.03,2,     0.12,2,    1.953,2,    1.050,2, -999.000,1,-999.0000,1,  -999.00,9,   -999.0,1,-999.000,9,   2000.1,2,   2340.7,2,     8.07,2, 1068.5,-999.0000,-999.000,-999.000, 22.8873,-999.000
   318MWESTW_5,  P21W,   273,  1,     22, SI9418,2,19940617,2300,-22.9500, 159.0555, 2520,    151.2,  21.4720,  35.7416,2,  35.7404,2,    192.3,2,    193.5,2,     0.63,2,     2.08,2,     0.04,2,     0.28,2,    1.970,2,    1.062,2, -999.000,1,-999.0000,1,  -999.00,9,   -999.0,1,-999.000,9,   2031.3,2,   2338.7,2,     8.02,2, 1565.3,-999.0000,-999.000,-999.000, 21.4425,-999.000
   318MWESTW_5,  P21W,   273,  1,     21, SI9421,2,19940617,2300,-22.9500, 159.0555, 2520,    202.2,  20.3137,  35.7093,2,  35.7081,2,    186.2,2,    187.0,2,     0.95,2,     3.52,2,     0.02,2,     0.36,2,    1.990,2,    1.061,2, -999.000,1,-999.0000,1,  -999.00,9,   -999.0,1,-999.000,9,   2043.5,2,   2335.6,2,     8.00,2, 2072.6,-999.0000,-999.000,-999.000, 20.2757,-999.000
   318MWESTW_5,  P21W,   273,  1,     20, SI9420,2,19940617,2300,-22.9500, 159.0555, 2520,    243.1,  19.0300,  35.6209,2,  35.6176,2,    177.5,2,    180.0,2,     1.41,2,     5.31,2,     0.02,2,     0.48,2,    1.935,2,    1.017,2, -999.000,1,-999.0000,1,  -999.00,9,   -999.0,1,-999.000,9,   2058.9,2,   2330.2,2,     7.96,2, 2479.7,-999.0000,-999.000,-999.000, 18.9864,-999.000
   318MWESTW_5,  P21W,   273,  1,     19, SI9419,2,19940617,2300,-22.9500, 159.0555, 2520,    293.5,  17.6322,  35.5279,2,  35.5290,2,    178.7,2,    181.5,2,     1.87,2,     6.60,2,     0.02,2,     0.58,2,    1.925,2,    1.015,2, -999.000,1,-999.0000,1,  -999.00,9,   -999.0,1,-999.000,9,   2070.0,2,   2328.0,2,     7.93,2, 2981.1,-999.0000,-999.000,-999.000, 17.5822,-999.000
   318MWESTW_5,  P21W,   273,  1,     18, SI9439,2,19940617,2300,-22.9500, 159.0555, 2520,    344.4,  16.6434,  35.4514,2,  35.4476,2,    182.5,2,    179.3,2,     2.47,2,     7.89,2,     0.02,2,     0.66,2,    1.844,2,    0.962,2, -999.000,1,-999.0000,1,  -999.00,9,   -999.0,1,-999.000,9,   2079.6,2,   2320.3,2,     7.91,2, 3488.1,-999.0000,-999.000,-999.000, 16.5870,-999.000
   318MWESTW_5,  P21W,   273,  1,     17, SI9417,3,19940617,2300,-22.9500, 159.0555, 2520,    396.3,  14.8623,  35.3001,2,  35.2907,2,    184.7,2,    182.5,2,     3.52,2,    10.27,2,     0.02,2,     0.82,2, -999.000,9, -999.000,9, -999.000,1,-999.0000,1,  -999.00,9,   -999.0,1,-999.000,9,   -999.0,9,   -999.0,9,  -999.00,9, 4004.4,-999.0000,-999.000,-999.000, 14.8021,-999.000
   318MWESTW_5,  P21W,   273,  1,     16, SI9416,2,19940617,2300,-22.9500, 159.0555, 2520,    446.2,  13.1507,  35.1250,2,  35.1205,2,    183.8,2,    183.3,2,     4.98,2,    13.05,2,     0.02,2,     0.99,2,    1.584,2,    0.806,2, -999.000,1,-999.0000,1,  -999.00,9,   -999.0,1,-999.000,9,   2108.4,2,   2308.5,2,     7.83,2, 4500.8,-999.0000,-999.000,-999.000, 13.0882,-999.000
   318MWESTW_5,  P21W,   273,  1,     15, SI9415,2,19940617,2300,-22.9500, 159.0555, 2520,    496.8,  11.8824,  34.9829,2,  34.9809,2,    185.3,2,    184.1,2,     6.31,2,    15.41,2,     0.00,2,     1.13,2,    1.384,2,    0.699,2, -999.000,1,-999.0000,1,  -999.00,9,   -999.0,1,-999.000,9,   2120.3,2,   2300.9,2,     7.79,2, 5004.6,-999.0000,-999.000,-999.000, 11.8172,-999.000
   318MWESTW_5,  P21W,   273,  1,     14, SI9436,2,19940617,2300,-22.9500, 159.0555, 2520,    593.5,   9.3550,  34.7048,2,  34.7042,2,    189.8,2,    189.2,2,    10.22,2,    20.32,2,     0.00,2,     1.45,2,    0.888,2,    0.445,2, -999.000,1,-999.0000,1,  -999.00,9,   -999.0,1,-999.000,9,   2139.8,2,   2303.0,2,     7.73,2, 5966.2,-999.0000,-999.000,-999.000,  9.2878,-999.000
   318MWESTW_5,  P21W,   273,  1,     13, SI9413,2,19940617,2300,-22.9500, 159.0555, 2520,    696.0,   7.3128,  34.5153,2,  34.5135,2,    195.3,2,    195.2,2,    17.02,2,    24.53,2,     0.00,2,     1.73,2,    0.449,2,    0.238,2, -999.000,1,-999.0000,1,  -999.00,9,   -999.0,1,-999.000,9,   2158.2,2,   2292.1,2,     7.69,2, 6985.6,-999.0000,-999.000,-999.000,  7.2442,-999.000
   318MWESTW_5,  P21W,   273,  1,     12, SI9438,3,19940617,2300,-22.9500, 159.0555, 2520,    798.6,   6.1395,  34.4589,2,  34.4585,2,    190.9,2,    189.6,2,    26.69,2,    27.40,2,     0.00,2,     1.93,2, -999.000,9, -999.000,9, -999.000,1,-999.0000,1,  -999.00,9,   -999.0,1,-999.000,9,   -999.0,9,   -999.0,9,  -999.00,9, 8005.3,-999.0000,-999.000,-999.000,  6.0673,-999.000
   318MWESTW_5,  P21W,   273,  1,     11, SI9411,2,19940617,2300,-22.9500, 159.0555, 2520,    906.0,   5.3690,  34.4580,2,  34.4571,2,    182.7,2,    181.9,2,    38.22,2,    29.48,2,     0.00,2,     2.07,2,    0.118,2,    0.068,2, -999.000,1,-999.0000,1,  -999.00,9,   -999.0,1,-999.000,9,   2197.2,2,   2308.3,2,     7.63,2, 9073.4,-999.0000,-999.000,-999.000,  5.2917,-999.000
   318MWESTW_5,  P21W,   273,  1,     10, SI9412,2,19940617,2300,-22.9500, 159.0555, 2520,    998.0,   4.7199,  34.4746,2,  34.4738,2,    176.1,2,    173.7,2,    50.34,2,    30.99,2,     0.00,2,     2.18,2,    0.062,2,    0.035,2, -999.000,1,-999.0000,1,  -999.00,9,   -999.0,1,-999.000,9,   2216.4,2,   2323.6,2,     7.61,2, 9988.6,-999.0000,-999.000,-999.000,  4.6389,-999.000
   318MWESTW_5,  P21W,   273,  1,      9, SI9410,2,19940617,2300,-22.9500, 159.0555, 2520,   1101.1,   4.1925,  34.4981,2,  34.4968,2,    168.7,2,    166.0,2,    62.16,2,    32.25,2,     0.00,2,     2.28,2,    0.024,2,    0.014,2, -999.000,1,-999.0000,1,  -999.00,9,   -999.0,1,-999.000,9,   2235.9,2,   2332.4,2,     7.59,2,11013.8,-999.0000,-999.000,-999.000,  4.1067,-999.000
   318MWESTW_5,  P21W,   273,  1,      8, SI9422,2,19940617,2300,-22.9500, 159.0555, 2520,   1294.9,   3.5692,  34.5398,2,  34.5392,2,    158.3,2,    156.6,2,    78.59,2,    33.70,2,     0.00,2,     2.38,2, -999.000,9, -999.000,9, -999.000,1,-999.0000,1,  -999.00,9,   -999.0,1,-999.000,9,   2258.0,2,   2354.2,2,     7.57,2,12940.6,-999.0000,-999.000,-999.000,  3.4726,-999.000
   318MWESTW_5,  P21W,   273,  1,      7, SI9407,2,19940617,2300,-22.9500, 159.0555, 2520,   1500.5,   3.0908,  34.5785,2,  34.5785,2,    149.2,2,    148.0,2,    92.86,2,    34.80,2,     0.00,2,     2.45,2,   -0.001,6,   -0.001,6, -999.000,1,-999.0000,1,  -999.00,9,   -999.0,1,-999.000,9,   2279.1,2,   2365.2,2,     7.56,2,14984.4,-999.0000,-999.000,-999.000,  2.9819,-999.000
   318MWESTW_5,  P21W,   273,  1,      6, SI9427,2,19940617,2300,-22.9500, 159.0555, 2520,   1706.7,   2.7120,  34.6133,2,  34.6115,2,    147.3,2,    150.5,2,   101.37,2,    35.05,2,     0.00,2,     2.47,2,   -0.004,2,   -0.002,2, -999.000,1,-999.0000,1,  -999.00,9,   -999.0,1,-999.000,9,   2288.3,2,   2377.0,2,     7.55,2,17034.4,-999.0000,-999.000,-999.000,  2.5902,-999.000
   318MWESTW_5,  P21W,   273,  1,      5, SI9405,2,19940617,2300,-22.9500, 159.0555, 2520,   1902.0,   2.4658,  34.6394,2,  34.6388,2,    151.7,2,    151.6,2,   103.84,2,    34.77,2,     0.00,2,     2.45,2, -999.000,9, -999.000,9, -999.000,1,-999.0000,1,  -999.00,9,   -999.0,1,-999.000,9,   2283.2,2,   2375.8,2,     7.56,2,18975.1,-999.0000,-999.000,-999.000,  2.3307,-999.000
   318MWESTW_5,  P21W,   273,  1,      4, SI9404,2,19940617,2300,-22.9500, 159.0555, 2520,   2099.1,   2.3239,  34.6593,2,  34.6584,2,    158.3,2,    159.2,2,   101.72,2,    34.15,2,     0.01,2,     2.40,2,   -0.001,2,   -0.001,2, -999.000,1,-999.0000,1,  -999.00,9,   -999.0,1,-999.000,9,   2275.9,2,   2389.0,2,     7.56,2,20935.1,-999.0000,-999.000,-999.000,  2.1738,-999.000
   318MWESTW_5,  P21W,   273,  1,      3, SI9403,2,19940617,2300,-22.9500, 159.0555, 2520,   2294.9,   2.1732,  34.6824,2,  34.6814,2,    167.4,2,    168.0,2,    98.88,2,    33.20,2,     0.01,2,     2.35,2, -999.000,9, -999.000,9, -999.000,1,-999.0000,1,  -999.00,9,   -999.0,1,-999.000,9,   2288.8,4,   2381.9,2,     7.57,2,22880.9,-999.0000,-999.000,-999.000,  2.0082,-999.000
   318MWESTW_5,  P21W,   273,  1,      2, SI9437,2,19940617,2300,-22.9500, 159.0555, 2520,   2480.1,   1.9186,  34.7081,2,  34.7087,2,    176.2,2,    190.5,3,    99.19,2,    32.38,2,     0.01,2,     2.29,2, -999.000,9, -999.000,9, -999.000,1,-999.0000,1,  -999.00,9,   -999.0,1,-999.000,9,   2268.4,2,   2377.4,2,     7.58,2,24721.9,-999.0000,-999.000,-999.000,  1.7414,-999.000
   318MWESTW_5,  P21W,   273,  1,      1, SI9401,2,19940617,2300,-22.9500, 159.0555, 2520,   2525.6,   1.8254,  34.7131,2,  34.7119,2,    179.4,2,    195.3,3,   100.59,2,    32.27,2,     0.00,2,     2.26,2,   -0.001,2,   -0.001,2, -999.000,1,-999.0000,1,  -999.00,9,   -999.0,1,-999.000,9,   2269.5,2,   -999.0,9,     7.59,2,25174.0,-999.0000,-999.000,-999.000,  1.6458,-999.000