BOTTLE,20010911WHPSIOdm
EXPOCODE,SECT_ID,STNNBR,CASTNO,SAMPNO,BTLNBR,BTLNBR_FLAG_W,DATE,TIME,LATITUDE,LONGITUDE,DEPTH,CTDPRS,CTDTMP,CTDSAL,CTDSAL_FLAG_W,SALNTY,SALNTY_FLAG_W,CTDOXY,CTDOXY_FLAG_W,OXYGEN,OXYGEN_FLAG_W,SILCAT,SILCAT_FLAG_W,NITRAT,NITRAT_FLAG_W,NITRIT,NITRIT_FLAG_W,PHSPHT,PHSPHT_FLAG_W,CFC-11,CFC-11_FLAG_W,CFC-12,CFC-12_FLAG_W,TRITUM,TRITUM_FLAG_W,HELIUM,HELIUM_FLAG_W,DELHE3,DELHE3_FLAG_W,DELC14,DELC14_FLAG_W,NEON,NEON_FLAG_W,TCARBN,TCARBN_FLAG_W,ALKALI,ALKALI_FLAG_W,PH,PH_FLAG_W,CTDRAW,HELIER,DELHER,NEONER,THETA,TRITER
,,,,,,,,,,,,DBAR,ITS-90,PSS-78,,PSS-78,,UMOL/KG,,UMOL/KG,,UMOL/KG,,UMOL/KG,,UMOL/KG,,UMOL/KG,,PMOL/KG,,PMOL/KG,,TU,,UMOL/KG,,PERCNT,,/MILLE,,NMOL/KG,,UMOL/KG,,UMOL/KG,,,,,NMOL/KG,PERCNT,NMOL/KG,ITS-90,TU
   318MWESTW_5,  P21W,   232,  1,     36, SI9442,2,19940609,0419,-17.8362, 171.6638, 2750,      5.8,  25.7101,  34.7338,2,  34.7345,2,    204.5,2,    208.7,2,     0.73,2,     0.06,2,     0.00,2,     0.14,2,    1.738,2,    0.977,2,    0.897,2,   1.6989,2,    -1.25,2,   -999.0,1,   6.729,2,   1924.7,2,   2282.8,2,     8.12,2,  117.6,  0.0085,   0.080,   0.034, 25.7088,   0.008
   318MWESTW_5,  P21W,   232,  1,     35, SI9435,2,19940609,0419,-17.8362, 171.6638, 2750,     20.7,  25.7190,  34.7348,2,  34.7539,2,    206.2,2,    208.0,2,     0.76,2,     0.02,2,     0.00,2,     0.15,2, -999.000,9, -999.000,9, -999.000,1,-999.0000,1,  -999.00,9,   -999.0,1,-999.000,9,   1925.3,2,   2279.9,2,     8.12,2,  266.4,-999.0000,-999.000,-999.000, 25.7144,-999.000
   318MWESTW_5,  P21W,   232,  1,     34, SI9441,2,19940609,0419,-17.8362, 171.6638, 2750,     46.6,  25.4544,  34.9698,2,  34.9632,2,    208.4,2,    214.2,2,     0.78,2,     0.02,2,     0.00,2,     0.14,2,    1.778,2,    1.000,2,    0.854,2,   1.7047,2,    -1.14,2,   -999.0,1,   6.757,2,   1940.5,2,   2302.7,2,     8.11,2,  524.8,  0.0085,   0.080,   0.034, 25.4442,   0.008
   318MWESTW_5,  P21W,   232,  1,     33, SI9433,2,19940609,0419,-17.8362, 171.6638, 2750,     96.2,  23.8551,  35.8115,2,  35.8133,2,    183.6,2,    181.5,2,     0.81,2,     1.41,2,     0.17,2,     0.36,2,    1.843,2,    0.998,2,    0.780,2,   1.7334,2,    -0.58,2,   -999.0,1,   6.942,2,   2036.1,2,   2348.5,2,     8.03,2, 1018.3,  0.0087,   0.080,   0.035, 23.8349,   0.008
   318MWESTW_5,  P21W,   232,  1,     32, SI9432,2,19940609,0419,-17.8362, 171.6638, 2750,    148.9,  21.9902,  35.8673,2,  35.8595,2,    165.5,2,    168.1,2,     0.99,2,     4.16,2,     0.02,2,     0.47,2,    1.879,2,    1.005,2,    0.722,2,   1.7335,2,    -0.28,2,   -999.0,1,   6.997,2,   2060.9,2,   2351.2,2,     7.99,2, 1543.1,  0.0087,   0.080,   0.035, 21.9606,   0.007
   318MWESTW_5,  P21W,   232,  1,     31, SI9431,2,19940609,0419,-17.8362, 171.6638, 2750,    196.4,  20.4145,  35.7830,2,  35.7831,2,    164.4,2,    162.5,2,     1.45,2,     5.59,2,     0.01,2,     0.59,2,    1.799,2,    0.947,2,    0.658,2,   1.7510,2,     0.25,2,   -999.0,1,   7.083,2,   2080.5,2,   2347.8,2,     7.95,2, 2016.1,  0.0088,   0.080,   0.035, 20.3775,   0.007
   318MWESTW_5,  P21W,   232,  1,     30, SI9440,2,19940609,0419,-17.8362, 171.6638, 2750,    246.8,  18.6474,  35.5968,2,  35.5948,2,    166.6,2,    163.0,2,     2.05,2,     6.91,2,     0.02,2,     0.67,2,    1.684,2,    0.887,2,    0.579,2,   1.7559,2,     0.61,2,   -999.0,1,   7.172,2,   2089.4,2,   2337.7,2,     7.92,2, 2517.8,  0.0088,   0.080,   0.036, 18.6037,   0.007
   318MWESTW_5,  P21W,   232,  1,     29, SI9429,2,19940609,0419,-17.8362, 171.6638, 2750,    299.0,  17.2266,  35.4984,2,  35.4941,2,    178.9,2,    180.7,2,     2.08,2,     6.63,2,     0.02,2,     0.61,2,    1.889,4,    0.992,4,    0.629,2,   1.7520,2,     0.23,2,   -999.0,1,   7.195,2,   2077.6,2,   2326.8,2,     7.92,2, 3037.6,  0.0088,   0.080,   0.036, 17.1765,   0.007
   318MWESTW_5,  P21W,   232,  1,     28, SI9428,2,19940609,0419,-17.8362, 171.6638, 2750,    352.3,  15.2076,  35.2856,2,  35.2838,2,    177.5,2,    177.2,2,     3.57,2,     9.76,2,     0.01,2,     0.83,2, -999.000,9, -999.000,9, -999.000,1,-999.0000,1,  -999.00,9,   -999.0,1,-999.000,9,   2096.4,2,   2316.0,2,     7.87,2, 3567.3,-999.0000,-999.000,-999.000, 15.1534,-999.000
   318MWESTW_5,  P21W,   232,  1,     27, SI9424,2,19940609,0419,-17.8362, 171.6638, 2750,    402.5,  12.8286,  34.9890,2,  34.9862,2,    171.7,2,    164.3,2,     6.65,2,    15.04,2,     0.00,2,     1.20,2,    1.137,2,    0.577,2,    0.358,2,   1.7866,2,     1.66,2,   -999.0,1,   7.489,2,   2125.1,2,   2306.5,2,     7.79,2, 4067.4,  0.0089,   0.080,   0.037, 12.7733,   0.006
   318MWESTW_5,  P21W,   232,  1,     26, SI9414,2,19940609,0419,-17.8362, 171.6638, 2750,    453.4,  11.2368,  34.8446,2,  34.8414,2,    176.9,2,    177.8,2,     7.11,2,    16.87,2,     0.00,2,     1.29,2, -999.000,9, -999.000,9, -999.000,1,-999.0000,1,  -999.00,9,   -999.0,1,-999.000,9,   2129.7,2,   2302.8,2,     7.76,2, 4573.1,-999.0000,-999.000,-999.000, 11.1796,-999.000
   318MWESTW_5,  P21W,   232,  1,     25, SI9425,2,19940609,0419,-17.8362, 171.6638, 2750,    501.8,   9.5215,  34.6695,2,  34.6655,2,    186.1,2,    185.1,2,     9.04,2,    20.02,2,     0.01,2,     1.48,2,    0.822,6,    0.423,6,    0.208,2,   1.7826,2,     1.71,2,   -999.0,1,   7.593,2,   2139.2,2,   2295.8,2,     7.72,2, 5055.1,  0.0089,   0.080,   0.038,  9.4643,   0.005
   318MWESTW_5,  P21W,   232,  1,     24, SI9434,2,19940609,0419,-17.8362, 171.6638, 2750,    593.9,   7.3981,  34.4703,2,  34.4707,2,    196.6,2,    197.3,2,    13.29,2,    24.16,2,     0.00,2,     1.71,2,    0.501,2,    0.256,2,    0.119,2,   1.7848,2,     1.99,2,   -999.0,1,   7.696,2,   2152.9,2,   2286.5,2,     7.68,2, 5970.6,  0.0089,   0.080,   0.038,  7.3396,   0.005
   318MWESTW_5,  P21W,   232,  1,     23, SI9423,2,19940609,0419,-17.8362, 171.6638, 2750,    696.4,   5.9804,  34.4026,2,  34.4010,2,    185.7,2,    188.1,2,    24.12,2,    28.50,2,     0.00,2,     2.00,2, -999.000,9, -999.000,9, -999.000,1,   1.8051,2,     4.02,2,   -999.0,1,   7.776,2,   2177.8,2,   2296.2,2,     7.64,2, 6989.8,  0.0090,   0.090,   0.039,  5.9188,-999.000
   318MWESTW_5,  P21W,   232,  1,     22, SI9418,2,19940609,0419,-17.8362, 171.6638, 2750,    798.8,   5.0242,  34.4124,2,  34.4116,2,    179.9,2,    176.1,2,    38.29,2,    31.24,2,     0.00,2,     2.19,2,    0.059,2,    0.033,2,   -0.001,2,   1.8322,2,     7.42,2,   -999.0,1,   7.892,2,   2200.9,2,   2312.9,2,     7.60,2, 8007.9,  0.0092,   0.090,   0.039,  4.9588,   0.004
   318MWESTW_5,  P21W,   232,  1,     21, SI9421,2,19940609,0419,-17.8362, 171.6638, 2750,    900.4,   4.4093,  34.4400,2,  34.4406,2,    171.9,2,    167.6,2,    51.44,2,    32.75,2,     0.01,2,     2.31,2,    0.024,2,    0.012,2, -999.000,1,-999.0000,1,  -999.00,9,   -999.0,1,-999.000,9,   2221.1,2,   2321.4,2,     7.58,2, 9017.7,-999.0000,-999.000,-999.000,  4.3391,-999.000
   318MWESTW_5,  P21W,   232,  1,     20, SI9420,2,19940609,0419,-17.8362, 171.6638, 2750,    997.6,   4.0200,  34.4716,2,  34.4707,2,    164.6,2,    162.0,2,    61.82,2,    33.48,2,     0.01,2,     2.37,2,    0.014,2,    0.009,2,    0.002,2,   1.8303,2,    14.14,2,   -999.0,1,   7.964,2,   2236.7,2,   2331.2,2,     7.58,2, 9984.4,  0.0092,   0.090,   0.040,  3.9444,   0.004
   318MWESTW_5,  P21W,   232,  1,     19, SI9419,2,19940609,0419,-17.8362, 171.6638, 2750,   1095.8,   3.7589,  34.4945,2,  34.4936,2,    160.9,2,    159.1,2,    69.58,2,    33.81,2,     0.00,2,     2.40,2,    0.008,2,    0.004,2, -999.000,1,-999.0000,1,  -999.00,9,   -999.0,1,-999.000,9,   2246.4,2,   2349.4,2,     7.57,2,10961.0,-999.0000,-999.000,-999.000,  3.6773,-999.000
   318MWESTW_5,  P21W,   232,  1,     18, SI9439,2,19940609,0419,-17.8362, 171.6638, 2750,   1198.9,   3.5252,  34.5174,2,  34.5168,2,    156.8,2,    156.1,2,    77.04,2,    34.16,2,     0.01,2,     2.41,2,    0.007,2,    0.003,2,   -0.003,2,   1.8543,2,    19.70,2,   -999.0,1,   8.002,2,   2256.4,2,   2347.8,2,     7.57,2,11986.2,  0.0093,   0.100,   0.040,  3.4370,   0.004
   318MWESTW_5,  P21W,   232,  1,     17, SI9417,2,19940609,0419,-17.8362, 171.6638, 2750,   1301.7,   3.2442,  34.5425,2,  34.5417,2,    156.2,2,    155.7,2,    84.51,2,    34.40,2,     0.01,2,     2.43,2,    0.001,2,    0.002,2, -999.000,1,-999.0000,1,  -999.00,9,   -999.0,1,-999.000,9,   2263.9,2,   2364.4,2,     7.56,2,13008.0,-999.0000,-999.000,-999.000,  3.1502,-999.000
   318MWESTW_5,  P21W,   232,  1,     16, SI9416,2,19940609,0419,-17.8362, 171.6638, 2750,   1391.7,   3.0273,  34.5622,2,  34.5626,2,    151.7,2,    151.1,2,    92.26,2,    35.00,2,     0.00,2,     2.47,2,    0.003,2,    0.002,2, -999.000,1,-999.0000,1,  -999.00,9,   -999.0,1,-999.000,9,   -999.0,9,   -999.0,9,  -999.00,9,13902.9,-999.0000,-999.000,-999.000,  2.9281,-999.000
   318MWESTW_5,  P21W,   232,  1,     15, SI9415,2,19940609,0419,-17.8362, 171.6638, 2750,   1497.6,   2.8337,  34.5795,2,  34.5791,2,    150.6,2,    149.5,2,    98.41,2,    35.28,2,     0.00,2,     2.48,2, -999.000,9, -999.000,9,   -0.005,2,   1.8816,2,    25.34,2,   -999.0,1,   8.036,2,   2281.4,2,   2375.6,2,     7.56,2,14956.0,  0.0094,   0.100,   0.040,  2.7280,   0.004
   318MWESTW_5,  P21W,   232,  1,     14, SI9436,2,19940609,0419,-17.8362, 171.6638, 2750,   1600.3,   2.6452,  34.5978,2,  34.5969,2,    149.4,2,    148.3,2,   104.41,2,    35.45,2,     0.01,2,     2.51,2, -999.000,9, -999.000,9, -999.000,1,-999.0000,1,  -999.00,9,   -999.0,1,-999.000,9,   -999.0,9,   -999.0,9,  -999.00,9,15976.9,-999.0000,-999.000,-999.000,  2.5332,-999.000
   318MWESTW_5,  P21W,   232,  1,     13, SI9413,2,19940609,0419,-17.8362, 171.6638, 2750,   1702.0,   2.4832,  34.6111,2,  34.6117,2,    149.4,2,    147.6,2,   109.69,2,    35.59,2,     0.01,2,     2.52,2, -999.000,9, -999.000,9, -999.000,1,-999.0000,1,  -999.00,9,   -999.0,1,-999.000,9,   2293.7,2,   2391.3,2,     7.55,2,16987.6,-999.0000,-999.000,-999.000,  2.3648,-999.000
   318MWESTW_5,  P21W,   232,  1,     12, SI9438,2,19940609,0419,-17.8362, 171.6638, 2750,   1793.8,   2.3994,  34.6188,2,  34.6187,2,    148.6,2,    147.3,2,   112.49,2,    35.59,2,     0.01,2,     2.52,2, -999.000,9, -999.000,9, -999.000,1,-999.0000,1,  -999.00,9,   -999.0,1,-999.000,9,   -999.0,9,   -999.0,9,  -999.00,9,17900.5,-999.0000,-999.000,-999.000,  2.2745,-999.000
   318MWESTW_5,  P21W,   232,  1,     11, SI9411,2,19940609,0419,-17.8362, 171.6638, 2750,   1896.6,   2.2819,  34.6277,2,  34.6335,4,    147.6,2,    147.9,4,   116.44,2,    35.69,2,     0.00,2,     2.53,2,   -0.001,2,    0.000,2, -999.000,1,-999.0000,1,  -999.00,9,   -999.0,1,-999.000,9,   2301.7,2,   2391.4,2,     7.55,2,18921.9,-999.0000,-999.000,-999.000,  2.1500,-999.000
   318MWESTW_5,  P21W,   232,  1,     10, SI9412,2,19940609,0419,-17.8362, 171.6638, 2750,   2000.7,   2.1918,  34.6351,2,  34.6360,2,    147.5,2,    146.2,2,   119.53,2,    35.82,2,     0.00,2,     2.53,2, -999.000,9, -999.000,9, -999.000,1,-999.0000,1,  -999.00,9,   -999.0,1,-999.000,9,   -999.0,9,   -999.0,9,  -999.00,9,19957.5,-999.0000,-999.000,-999.000,  2.0524,-999.000
   318MWESTW_5,  P21W,   232,  1,      9, SI9410,2,19940609,0419,-17.8362, 171.6638, 2750,   2094.5,   2.1485,  34.6400,2,  34.6398,2,    147.5,2,    146.2,2,   121.16,2,    35.92,2,     0.00,2,     2.53,2, -999.000,9, -999.000,9, -999.000,1,-999.0000,1,  -999.00,9,   -999.0,1,-999.000,9,   2309.2,2,   2406.5,2,     7.55,2,20889.6,-999.0000,-999.000,-999.000,  2.0017,-999.000
   318MWESTW_5,  P21W,   232,  1,      8, SI9422,2,19940609,0419,-17.8362, 171.6638, 2750,   2196.4,   2.1006,  34.6428,2,  34.6433,2,    146.9,2,    145.9,2,   122.94,2,    35.92,2,     0.00,2,     2.54,2, -999.000,9, -999.000,9, -999.000,1,-999.0000,1,  -999.00,9,   -999.0,1,-999.000,9,   -999.0,9,   -999.0,9,  -999.00,9,21902.2,-999.0000,-999.000,-999.000,  1.9457,-999.000
   318MWESTW_5,  P21W,   232,  1,      7, SI9407,2,19940609,0419,-17.8362, 171.6638, 2750,   2300.2,   2.0438,  34.6480,2,  34.6490,2,    147.6,2,    145.9,2,   125.02,2,    35.97,2,     0.00,2,     2.53,2,    0.000,2,    0.000,2, -999.000,1,-999.0000,1,  -999.00,9,   -999.0,1,-999.000,9,   2307.2,2,   2404.7,2,     7.55,2,22934.6,-999.0000,-999.000,-999.000,  1.8807,-999.000
   318MWESTW_5,  P21W,   232,  1,      6, SI9427,2,19940609,0419,-17.8362, 171.6638, 2750,   2404.8,   1.9941,  34.6524,2,  34.6513,2,    147.2,2,    145.9,2,   126.93,2,    36.01,2,     0.00,2,     2.55,2, -999.000,9, -999.000,9, -999.000,1,-999.0000,1,  -999.00,9,   -999.0,1,-999.000,9,   -999.0,9,   -999.0,9,  -999.00,9,23974.1,-999.0000,-999.000,-999.000,  1.8225,-999.000
   318MWESTW_5,  P21W,   232,  1,      5, SI9405,2,19940609,0419,-17.8362, 171.6638, 2750,   2495.6,   1.9546,  34.6559,2,  34.6553,2,    146.7,2,    146.2,2,   128.56,2,    36.06,2,     0.00,2,     2.54,2, -999.000,9, -999.000,9, -999.000,1,-999.0000,1,  -999.00,9,   -999.0,1,-999.000,9,   2313.5,2,   2409.3,2,     7.55,2,24877.2,-999.0000,-999.000,-999.000,  1.7755,-999.000
   318MWESTW_5,  P21W,   232,  1,      4, SI9404,3,19940609,0419,-17.8362, 171.6638, 2750,   2597.7,   1.9246,  34.6577,2,  34.6563,2,    146.5,2,    145.4,2,   129.75,2,    35.97,2,     0.00,2,     2.55,2, -999.000,9, -999.000,9, -999.000,1,-999.0000,1,  -999.00,9,   -999.0,1,-999.000,9,   -999.0,9,   -999.0,9,  -999.00,9,25891.6,-999.0000,-999.000,-999.000,  1.7368,-999.000
   318MWESTW_5,  P21W,   232,  1,      3, SI9403,2,19940609,0419,-17.8362, 171.6638, 2750,   2650.4,   1.9061,  34.6591,2,  34.6584,2,    147.4,2,    145.9,2,   130.51,2,    35.97,2,     0.00,2,     2.54,2, -999.000,9, -999.000,9, -999.000,1,-999.0000,1,  -999.00,9,   -999.0,1,-999.000,9,   2314.9,2,   -999.0,9,     7.55,2,26415.4,-999.0000,-999.000,-999.000,  1.7138,-999.000
   318MWESTW_5,  P21W,   232,  1,      2, SI9437,2,19940609,0419,-17.8362, 171.6638, 2750,   2712.7,   1.8840,  34.6606,2,  34.6600,2,    146.7,2,    145.5,2,   131.42,2,    35.97,2,     0.00,2,     2.53,2, -999.000,9, -999.000,9, -999.000,1,-999.0000,1,  -999.00,9,   -999.0,1,-999.000,9,   -999.0,9,   -999.0,9,  -999.00,9,27034.4,-999.0000,-999.000,-999.000,  1.6863,-999.000
   318MWESTW_5,  P21W,   232,  1,      1, SI9401,2,19940609,0419,-17.8362, 171.6638, 2750,   2753.5,   1.8795,  34.6612,2,  34.6692,4,    147.9,2,    145.9,2,   131.37,2,    36.14,2,     0.00,2,     2.54,2,   -0.001,2,   -0.001,2, -999.000,1,-999.0000,1,  -999.00,9,   -999.0,1,-999.000,9,   2317.2,2,   2406.9,2,     7.55,2,27440.5,-999.0000,-999.000,-999.000,  1.6780,-999.000