BOTTLE,20010911WHPSIOdm
EXPOCODE,SECT_ID,STNNBR,CASTNO,SAMPNO,BTLNBR,BTLNBR_FLAG_W,DATE,TIME,LATITUDE,LONGITUDE,DEPTH,CTDPRS,CTDTMP,CTDSAL,CTDSAL_FLAG_W,SALNTY,SALNTY_FLAG_W,CTDOXY,CTDOXY_FLAG_W,OXYGEN,OXYGEN_FLAG_W,SILCAT,SILCAT_FLAG_W,NITRAT,NITRAT_FLAG_W,NITRIT,NITRIT_FLAG_W,PHSPHT,PHSPHT_FLAG_W,CFC-11,CFC-11_FLAG_W,CFC-12,CFC-12_FLAG_W,TRITUM,TRITUM_FLAG_W,HELIUM,HELIUM_FLAG_W,DELHE3,DELHE3_FLAG_W,DELC14,DELC14_FLAG_W,NEON,NEON_FLAG_W,TCARBN,TCARBN_FLAG_W,ALKALI,ALKALI_FLAG_W,PH,PH_FLAG_W,CTDRAW,HELIER,DELHER,NEONER,THETA,TRITER
,,,,,,,,,,,,DBAR,ITS-90,PSS-78,,PSS-78,,UMOL/KG,,UMOL/KG,,UMOL/KG,,UMOL/KG,,UMOL/KG,,UMOL/KG,,PMOL/KG,,PMOL/KG,,TU,,UMOL/KG,,PERCNT,,/MILLE,,NMOL/KG,,UMOL/KG,,UMOL/KG,,,,,NMOL/KG,PERCNT,NMOL/KG,ITS-90,TU
   318MWESTW_5,  P21W,   246,  1,     36, SI9442,2,19940611,1915,-18.7000, 167.3167, 4830,      7.6,  26.2165,  34.8720,2,  34.8709,2,    209.4,2,    206.2,2,     0.82,2,     0.00,2,     0.00,2,     0.12,2, -999.000,9, -999.000,9, -999.000,1,-999.0000,1,  -999.00,9,   -999.0,1,-999.000,9,   -999.0,9,   -999.0,9,  -999.00,9,  135.7,-999.0000,-999.000,-999.000, 26.2148,-999.000
   318MWESTW_5,  P21W,   246,  1,     35, SI9435,2,19940611,1915,-18.7000, 167.3167, 4830,     23.3,  26.2109,  34.8735,2,  34.8764,2,    200.9,2,    205.3,2,     0.84,2,     0.00,2,     0.00,2,     0.12,2, -999.000,9, -999.000,9, -999.000,1,-999.0000,1,  -999.00,9,   -999.0,1,-999.000,9,   -999.0,9,   -999.0,9,  -999.00,9,  292.2,-999.0000,-999.000,-999.000, 26.2057,-999.000
   318MWESTW_5,  P21W,   246,  1,     34, SI9441,2,19940611,1915,-18.7000, 167.3167, 4830,     48.5,  26.0385,  34.9823,2,  34.9805,2,    198.2,2,    203.4,2,     0.85,2,     0.00,2,     0.00,2,     0.15,2, -999.000,9, -999.000,9, -999.000,1,-999.0000,1,  -999.00,9,   -999.0,1,-999.000,9,   -999.0,9,   -999.0,9,  -999.00,9,  542.9,-999.0000,-999.000,-999.000, 26.0277,-999.000
   318MWESTW_5,  P21W,   246,  1,     33, SI9433,2,19940611,1915,-18.7000, 167.3167, 4830,     99.1,  25.9876,  35.2183,2,  35.2203,2,    185.8,2,    201.8,2,     0.86,2,     0.39,2,     0.14,2,     0.21,2, -999.000,9, -999.000,9, -999.000,1,-999.0000,1,  -999.00,9,   -999.0,1,-999.000,9,   -999.0,9,   -999.0,9,  -999.00,9, 1047.2,-999.0000,-999.000,-999.000, 25.9655,-999.000
   318MWESTW_5,  P21W,   246,  1,     32, SI9432,2,19940611,1915,-18.7000, 167.3167, 4830,    149.6,  23.9458,  35.8343,2,  35.8323,2,    165.6,2,    167.8,2,     1.01,2,     3.31,2,     0.05,2,     0.45,2, -999.000,9, -999.000,9, -999.000,1,-999.0000,1,  -999.00,9,   -999.0,1,-999.000,9,   -999.0,9,   -999.0,9,  -999.00,9, 1550.6,-999.0000,-999.000,-999.000, 23.9142,-999.000
   318MWESTW_5,  P21W,   246,  1,     31, SI9431,2,19940611,1915,-18.7000, 167.3167, 4830,    200.4,  21.3502,  35.7893,2,  35.7864,2,    177.1,2,    170.2,2,     1.15,2,     4.35,2,     0.02,2,     0.46,2, -999.000,9, -999.000,9, -999.000,1,-999.0000,1,  -999.00,9,   -999.0,1,-999.000,9,   -999.0,9,   -999.0,9,  -999.00,9, 2056.3,-999.0000,-999.000,-999.000, 21.3112,-999.000
   318MWESTW_5,  P21W,   246,  1,     30, SI9440,2,19940611,1915,-18.7000, 167.3167, 4830,    251.5,  18.8996,  35.6081,2,  35.6070,2,    164.2,2,    161.4,2,     2.54,2,     7.55,2,     0.01,2,     0.70,2, -999.000,9, -999.000,9, -999.000,1,-999.0000,1,  -999.00,9,   -999.0,1,-999.000,9,   -999.0,9,   -999.0,9,  -999.00,9, 2565.0,-999.0000,-999.000,-999.000, 18.8547,-999.000
   318MWESTW_5,  P21W,   246,  1,     29, SI9429,2,19940611,1915,-18.7000, 167.3167, 4830,    296.6,  17.0040,  35.4166,2,  35.4180,2,    158.2,2,    154.5,2,     3.64,2,     9.80,2,     0.00,2,     0.87,2, -999.000,9, -999.000,9, -999.000,1,-999.0000,1,  -999.00,9,   -999.0,1,-999.000,9,   -999.0,9,   -999.0,9,  -999.00,9, 3013.8,-999.0000,-999.000,-999.000, 16.9548,-999.000
   318MWESTW_5,  P21W,   246,  1,     28, SI9428,2,19940611,1915,-18.7000, 167.3167, 4830,    347.2,  14.6654,  35.1655,2,  35.1471,2,    159.2,2,    160.8,2,     5.58,2,    12.76,2,     0.01,2,     1.04,2, -999.000,9, -999.000,9, -999.000,1,-999.0000,1,  -999.00,9,   -999.0,1,-999.000,9,   -999.0,9,   -999.0,9,  -999.00,9, 3517.3,-999.0000,-999.000,-999.000, 14.6133,-999.000
   318MWESTW_5,  P21W,   246,  1,     27, SI9424,2,19940611,1915,-18.7000, 167.3167, 4830,    398.6,  12.4055,  34.9632,2,  34.9526,2,    168.0,2,    175.5,2,     7.79,2,    15.88,2,     0.00,2,     1.21,2, -999.000,9, -999.000,9, -999.000,1,-999.0000,1,  -999.00,9,   -999.0,1,-999.000,9,   -999.0,9,   -999.0,9,  -999.00,9, 4028.0,-999.0000,-999.000,-999.000, 12.3519,-999.000
   318MWESTW_5,  P21W,   246,  1,     26, SI9414,2,19940611,1915,-18.7000, 167.3167, 4830,    497.8,   9.4775,  34.6738,2,  34.6700,2,    178.4,2,    177.6,2,    11.91,2,    21.00,2,     0.00,2,     1.52,2, -999.000,9, -999.000,9, -999.000,1,-999.0000,1,  -999.00,9,   -999.0,1,-999.000,9,   -999.0,9,   -999.0,9,  -999.00,9, 5014.6,-999.0000,-999.000,-999.000,  9.4210,-999.000
   318MWESTW_5,  P21W,   246,  1,     25, SI9425,2,19940611,1915,-18.7000, 167.3167, 4830,    601.3,   7.1478,  34.4824,2,  34.4779,2,    181.1,2,    183.1,2,    19.46,2,    25.98,2,     0.00,2,     1.84,2, -999.000,9, -999.000,9, -999.000,1,-999.0000,1,  -999.00,9,   -999.0,1,-999.000,9,   -999.0,9,   -999.0,9,  -999.00,9, 6044.6,-999.0000,-999.000,-999.000,  7.0896,-999.000
   318MWESTW_5,  P21W,   246,  1,     24, SI9434,2,19940611,1915,-18.7000, 167.3167, 4830,    689.8,   6.4036,  34.4560,2,  34.4532,2,    176.8,2,    177.4,2,    26.61,2,    28.13,2,     0.00,2,     1.97,2, -999.000,9, -999.000,9, -999.000,1,-999.0000,1,  -999.00,9,   -999.0,1,-999.000,9,   -999.0,9,   -999.0,9,  -999.00,9, 6924.5,-999.0000,-999.000,-999.000,  6.3404,-999.000
   318MWESTW_5,  P21W,   246,  1,     23, SI9423,2,19940611,1915,-18.7000, 167.3167, 4830,    796.6,   5.4856,  34.4522,2,  34.4495,2,    171.4,2,    171.2,2,    38.55,2,    30.41,2,     0.00,2,     2.13,2, -999.000,9, -999.000,9, -999.000,1,-999.0000,1,  -999.00,9,   -999.0,1,-999.000,9,   -999.0,9,   -999.0,9,  -999.00,9, 7986.4,-999.0000,-999.000,-999.000,  5.4175,-999.000
   318MWESTW_5,  P21W,   246,  1,     22, SI9418,2,19940611,1915,-18.7000, 167.3167, 4830,    898.1,   4.9070,  34.4484,2,  34.4479,2,    167.4,2,    168.8,2,    46.24,2,    31.64,2,     0.00,2,     2.22,2, -999.000,9, -999.000,9, -999.000,1,-999.0000,1,  -999.00,9,   -999.0,1,-999.000,9,   -999.0,9,   -999.0,9,  -999.00,9, 8995.1,-999.0000,-999.000,-999.000,  4.8336,-999.000
   318MWESTW_5,  P21W,   246,  1,     21, SI9421,2,19940611,1915,-18.7000, 167.3167, 4830,    998.8,   4.4018,  34.4824,2,  34.4805,2,    162.2,2,    161.7,2,    58.72,2,    32.65,2,     0.00,2,     2.30,2, -999.000,9, -999.000,9, -999.000,1,-999.0000,1,  -999.00,9,   -999.0,1,-999.000,9,   -999.0,9,   -999.0,9,  -999.00,9, 9996.6,-999.0000,-999.000,-999.000,  4.3232,-999.000
   318MWESTW_5,  P21W,   246,  1,     20, SI9420,2,19940611,1915,-18.7000, 167.3167, 4830,   1200.5,   3.6255,  34.5253,2,  34.5239,2,    157.5,2,    155.9,2,    76.15,2,    33.88,2,     0.00,2,     2.38,2, -999.000,9, -999.000,9, -999.000,1,-999.0000,1,  -999.00,9,   -999.0,1,-999.000,9,   -999.0,9,   -999.0,9,  -999.00,9,12002.4,-999.0000,-999.000,-999.000,  3.5363,-999.000
   318MWESTW_5,  P21W,   246,  1,     19, SI9419,2,19940611,1915,-18.7000, 167.3167, 4830,   1394.7,   3.1834,  34.5615,2,  34.5596,2,    153.9,2,    152.9,2,    88.63,2,    34.47,2,     0.00,2,     2.42,2, -999.000,9, -999.000,9, -999.000,1,-999.0000,1,  -999.00,9,   -999.0,1,-999.000,9,   -999.0,9,   -999.0,9,  -999.00,9,13933.3,-999.0000,-999.000,-999.000,  3.0823,-999.000
   318MWESTW_5,  P21W,   246,  1,     18, SI9439,2,19940611,1915,-18.7000, 167.3167, 4830,   1595.3,   2.8352,  34.5923,2,  34.5910,2,    151.4,2,    151.1,2,    98.37,2,    34.88,2,     0.00,2,     2.44,2, -999.000,9, -999.000,9, -999.000,1,-999.0000,1,  -999.00,9,   -999.0,1,-999.000,9,   -999.0,9,   -999.0,9,  -999.00,9,15927.6,-999.0000,-999.000,-999.000,  2.7213,-999.000
   318MWESTW_5,  P21W,   246,  1,     17, SI9417,2,19940611,1915,-18.7000, 167.3167, 4830,   1796.9,   2.5684,  34.6171,2,  34.6160,2,    150.0,2,    150.9,2,   105.65,2,    35.11,2,     0.00,2,     2.47,2, -999.000,9, -999.000,9, -999.000,1,-999.0000,1,  -999.00,9,   -999.0,1,-999.000,9,   -999.0,9,   -999.0,9,  -999.00,9,17931.8,-999.0000,-999.000,-999.000,  2.4409,-999.000
   318MWESTW_5,  P21W,   246,  1,     16, SI9416,2,19940611,1915,-18.7000, 167.3167, 4830,   1997.4,   2.3714,  34.6357,2,  34.6354,2,    150.1,2,    158.0,4,   110.33,2,    35.20,2,     0.00,2,     2.47,2, -999.000,9, -999.000,9, -999.000,1,-999.0000,1,  -999.00,9,   -999.0,1,-999.000,9,   -999.0,9,   -999.0,9,  -999.00,9,19925.1,-999.0000,-999.000,-999.000,  2.2295,-999.000
   318MWESTW_5,  P21W,   246,  1,     15, SI9415,2,19940611,1915,-18.7000, 167.3167, 4830,   2198.4,   2.2496,  34.6476,2,  34.6455,2,    151.4,2,    163.3,4,   113.47,2,    35.23,2,     0.00,2,     2.47,2, -999.000,9, -999.000,9, -999.000,1,-999.0000,1,  -999.00,9,   -999.0,1,-999.000,9,   -999.0,9,   -999.0,9,  -999.00,9,21923.3,-999.0000,-999.000,-999.000,  2.0920,-999.000
   318MWESTW_5,  P21W,   246,  1,     14, SI9436,2,19940611,1915,-18.7000, 167.3167, 4830,   2398.3,   2.0692,  34.6611,2,  34.6602,2,    152.1,2,    151.8,2,   118.16,2,    35.14,2,     0.01,2,     2.47,2, -999.000,9, -999.000,9, -999.000,1,-999.0000,1,  -999.00,9,   -999.0,1,-999.000,9,   -999.0,9,   -999.0,9,  -999.00,9,23910.8,-999.0000,-999.000,-999.000,  1.8968,-999.000
   318MWESTW_5,  P21W,   246,  1,     13, SI9413,2,19940611,1915,-18.7000, 167.3167, 4830,   2601.7,   1.9701,  34.6693,2,  34.6690,2,    153.3,2,    153.9,2,   120.22,2,    35.01,2,     0.00,2,     2.46,2, -999.000,9, -999.000,9, -999.000,1,-999.0000,1,  -999.00,9,   -999.0,1,-999.000,9,   -999.0,9,   -999.0,9,  -999.00,9,25932.3,-999.0000,-999.000,-999.000,  1.7810,-999.000
   318MWESTW_5,  P21W,   246,  1,     12, SI9438,2,19940611,1915,-18.7000, 167.3167, 4830,   2807.6,   1.9236,  34.6719,2,  34.6710,2,    153.3,2,    153.0,2,   122.57,2,    35.10,2,     0.00,2,     2.46,2, -999.000,9, -999.000,9, -999.000,1,-999.0000,1,  -999.00,9,   -999.0,1,-999.000,9,   -999.0,9,   -999.0,9,  -999.00,9,27979.7,-999.0000,-999.000,-999.000,  1.7161,-999.000
   318MWESTW_5,  P21W,   246,  1,     11, SI9411,2,19940611,1915,-18.7000, 167.3167, 4830,   3004.4,   1.8812,  34.6755,2,  34.6749,2,    153.7,2,    154.1,2,   124.36,2,    35.05,2,     0.00,2,     2.46,2, -999.000,9, -999.000,9, -999.000,1,-999.0000,1,  -999.00,9,   -999.0,1,-999.000,9,   -999.0,9,   -999.0,9,  -999.00,9,29935.7,-999.0000,-999.000,-999.000,  1.6556,-999.000
   318MWESTW_5,  P21W,   246,  1,     10, SI9412,2,19940611,1915,-18.7000, 167.3167, 4830,   3190.5,   1.8598,  34.6777,2,  34.6775,2,    155.1,2,    154.8,2,   124.38,2,    35.00,2,     0.00,2,     2.44,2, -999.000,9, -999.000,9, -999.000,1,-999.0000,1,  -999.00,9,   -999.0,1,-999.000,9,   -999.0,9,   -999.0,9,  -999.00,9,31786.6,-999.0000,-999.000,-999.000,  1.6163,-999.000
   318MWESTW_5,  P21W,   246,  1,      9, SI9410,2,19940611,1915,-18.7000, 167.3167, 4830,   3397.0,   1.8462,  34.6798,2,  34.6793,2,    155.5,2,    156.4,2,   125.07,2,    35.05,2,     0.00,2,     2.44,2, -999.000,9, -999.000,9, -999.000,1,-999.0000,1,  -999.00,9,   -999.0,1,-999.000,9,   -999.0,9,   -999.0,9,  -999.00,9,33839.5,-999.0000,-999.000,-999.000,  1.5820,-999.000
   318MWESTW_5,  P21W,   246,  1,      8, SI9422,2,19940611,1915,-18.7000, 167.3167, 4830,   3594.2,   1.8379,  34.6818,2,  34.6810,2,    156.2,2,    156.1,2,   125.63,2,    35.05,2,     0.00,2,     2.44,2, -999.000,9, -999.000,9, -999.000,1,-999.0000,1,  -999.00,9,   -999.0,1,-999.000,9,   -999.0,9,   -999.0,9,  -999.00,9,35799.4,-999.0000,-999.000,-999.000,  1.5534,-999.000
   318MWESTW_5,  P21W,   246,  1,      7, SI9407,2,19940611,1915,-18.7000, 167.3167, 4830,   3796.6,   1.8409,  34.6830,2,  34.6818,2,    156.6,2,    160.3,4,   126.06,2,    35.00,2,     0.00,2,     2.44,2, -999.000,9, -999.000,9, -999.000,1,-999.0000,1,  -999.00,9,   -999.0,1,-999.000,9,   -999.0,9,   -999.0,9,  -999.00,9,37811.9,-999.0000,-999.000,-999.000,  1.5347,-999.000
   318MWESTW_5,  P21W,   246,  1,      6, SI9427,2,19940611,1915,-18.7000, 167.3167, 4830,   4001.0,   1.8517,  34.6832,2,  34.6822,2,    157.2,2,    156.7,2,   126.48,2,    34.94,2,     0.01,2,     2.45,2, -999.000,9, -999.000,9, -999.000,1,-999.0000,1,  -999.00,9,   -999.0,1,-999.000,9,   -999.0,9,   -999.0,9,  -999.00,9,39844.0,-999.0000,-999.000,-999.000,  1.5228,-999.000
   318MWESTW_5,  P21W,   246,  1,      5, SI9405,2,19940611,1915,-18.7000, 167.3167, 4830,   4249.1,   1.8667,  34.6837,2,  34.6830,2,    157.6,2,    166.4,4,   126.70,2,    35.01,2,     0.01,2,     2.45,2, -999.000,9, -999.000,9, -999.000,1,-999.0000,1,  -999.00,9,   -999.0,1,-999.000,9,   -999.0,9,   -999.0,9,  -999.00,9,42310.1,-999.0000,-999.000,-999.000,  1.5094,-999.000
   318MWESTW_5,  P21W,   246,  1,      4, SI9404,2,19940611,1915,-18.7000, 167.3167, 4830,   4498.7,   1.8901,  34.6835,2,  34.6834,2,    157.9,2,    157.0,2,   127.04,2,    34.90,2,     0.00,2,     2.45,2, -999.000,9, -999.000,9, -999.000,1,-999.0000,1,  -999.00,9,   -999.0,1,-999.000,9,   -999.0,9,   -999.0,9,  -999.00,9,44792.2,-999.0000,-999.000,-999.000,  1.5032,-999.000
   318MWESTW_5,  P21W,   246,  1,      3, SI9403,2,19940611,1915,-18.7000, 167.3167, 4830,   4747.8,   1.9156,  34.6846,2,  34.6836,2,    158.2,2,    157.7,2,   126.93,2,    34.90,2,     0.00,2,     2.44,2, -999.000,9, -999.000,9, -999.000,1,-999.0000,1,  -999.00,9,   -999.0,1,-999.000,9,   -999.0,9,   -999.0,9,  -999.00,9,47268.0,-999.0000,-999.000,-999.000,  1.4982,-999.000
   318MWESTW_5,  P21W,   246,  1,      2, SI9437,2,19940611,1915,-18.7000, 167.3167, 4830,   4852.8,   1.9280,  34.6844,2,  34.6822,2,    157.7,2,    156.8,2,   127.07,2,    34.90,2,     0.00,2,     2.45,2, -999.000,9, -999.000,9, -999.000,1,-999.0000,1,  -999.00,9,   -999.0,1,-999.000,9,   -999.0,9,   -999.0,9,  -999.00,9,48312.2,-999.0000,-999.000,-999.000,  1.4975,-999.000
   318MWESTW_5,  P21W,   246,  1,      1, SI9401,2,19940611,1915,-18.7000, 167.3167, 4830,   4900.5,   1.9307,  34.6845,2,  34.6834,2,    158.0,2,    158.6,2,   127.18,2,    35.00,2,     0.00,2,     2.44,2, -999.000,9, -999.000,9, -999.000,1,-999.0000,1,  -999.00,9,   -999.0,1,-999.000,9,   -999.0,9,   -999.0,9,  -999.00,9,48786.7,-999.0000,-999.000,-999.000,  1.4942,-999.000