BOTTLE,20010911WHPSIOdm
EXPOCODE,SECT_ID,STNNBR,CASTNO,SAMPNO,BTLNBR,BTLNBR_FLAG_W,DATE,TIME,LATITUDE,LONGITUDE,DEPTH,CTDPRS,CTDTMP,CTDSAL,CTDSAL_FLAG_W,SALNTY,SALNTY_FLAG_W,CTDOXY,CTDOXY_FLAG_W,OXYGEN,OXYGEN_FLAG_W,SILCAT,SILCAT_FLAG_W,NITRAT,NITRAT_FLAG_W,NITRIT,NITRIT_FLAG_W,PHSPHT,PHSPHT_FLAG_W,CFC-11,CFC-11_FLAG_W,CFC-12,CFC-12_FLAG_W,TRITUM,TRITUM_FLAG_W,HELIUM,HELIUM_FLAG_W,DELHE3,DELHE3_FLAG_W,DELC14,DELC14_FLAG_W,NEON,NEON_FLAG_W,TCARBN,TCARBN_FLAG_W,ALKALI,ALKALI_FLAG_W,PH,PH_FLAG_W,CTDRAW,HELIER,DELHER,NEONER,THETA,TRITER
,,,,,,,,,,,,DBAR,ITS-90,PSS-78,,PSS-78,,UMOL/KG,,UMOL/KG,,UMOL/KG,,UMOL/KG,,UMOL/KG,,UMOL/KG,,PMOL/KG,,PMOL/KG,,TU,,UMOL/KG,,PERCNT,,/MILLE,,NMOL/KG,,UMOL/KG,,UMOL/KG,,,,,NMOL/KG,PERCNT,NMOL/KG,ITS-90,TU
   318MWESTW_5,  P21W,   225,  1,     25, SI9425,2,19940607,1037,-17.8333, 176.3333, 3120,      7.8,  25.3717,  34.9730,2,  34.9707,2,    205.3,2,    208.1,2,     0.63,2,     0.03,2,     0.01,2,     0.12,2,    1.768,2,    1.007,2,    0.874,2,   1.6973,2,    -1.65,2,   -999.0,1,   6.706,2,   1939.3,2,   2302.5,2,     8.11,2,  136.3,  0.0085,   0.080,   0.034, 25.3700,   0.008
   318MWESTW_5,  P21W,   225,  1,     24, SI9434,2,19940607,1037,-17.8333, 176.3333, 3120,     21.8,  25.3767,  34.9724,2,  34.9707,2,    200.8,2,    214.0,2,     0.64,2,     0.00,2,     0.00,2,     0.12,2, -999.000,9, -999.000,9, -999.000,1,-999.0000,1,  -999.00,9,   -999.0,1,-999.000,9,   1939.3,2,   2304.1,2,     8.11,2,  276.1,-999.0000,-999.000,-999.000, 25.3719,-999.000
   318MWESTW_5,  P21W,   225,  1,     23, SI9423,2,19940607,1037,-17.8333, 176.3333, 3120,     47.2,  25.3850,  34.9737,2,  34.9728,2,    201.7,2,    212.3,2,     0.64,2,     0.00,2,     0.00,2,     0.12,2,    1.780,6,    0.997,6,    0.871,2,   1.7136,2,    -1.09,2,   -999.0,1,   6.754,2,   -999.0,9,   -999.0,9,  -999.00,9,  529.2,  0.0086,   0.080,   0.034, 25.3747,   0.008
   318MWESTW_5,  P21W,   225,  1,     22, SI9418,2,19940607,1037,-17.8333, 176.3333, 3120,     94.1,  24.0294,  35.7374,2,  35.7371,2,    182.3,2,    174.1,2,     0.81,2,     0.93,2,     0.12,2,     0.30,2,    1.853,2,    1.036,2,    0.792,2,   1.7407,2,    -0.62,2,   -999.0,1,   6.927,2,   2021.6,2,   2349.1,2,     8.05,2,  996.2,  0.0087,   0.080,   0.035, 24.0095,   0.008
   318MWESTW_5,  P21W,   225,  1,     21, SI9421,2,19940607,1037,-17.8333, 176.3333, 3120,    146.3,  21.5610,  35.7957,2,  35.7940,2,    175.0,2,    187.7,2,     0.97,2,     3.37,2,     0.00,2,     0.40,2,    1.909,2,    1.027,2,    0.755,2,   1.7408,2,    -0.59,2,   -999.0,1,   6.981,2,   2051.3,2,   2352.1,2,     8.00,2, 1516.7,  0.0087,   0.080,   0.035, 21.5324,   0.007
   318MWESTW_5,  P21W,   225,  1,     20, SI9420,2,19940607,1037,-17.8333, 176.3333, 3120,    198.5,  19.9690,  35.7123,2,  35.7100,2,    182.5,2,    182.1,2,     0.98,2,     3.56,2,     0.00,2,     0.40,2,    1.960,2,    1.047,2, -999.000,1,   1.7572,2,    -0.49,2,   -999.0,1,   7.100,2,   2055.9,2,   2343.4,2,     7.98,2, 2036.2,  0.0088,   0.080,   0.036, 19.9322,-999.000
   318MWESTW_5,  P21W,   225,  1,     19, SI9419,2,19940607,1037,-17.8333, 176.3333, 3120,    248.1,  18.5400,  35.6144,2,  35.6143,2,    182.4,2,    182.8,2,     1.44,2,     4.84,2,     0.00,2,     0.49,2, -999.000,9, -999.000,9,    0.691,2,   1.7566,2,     0.07,2,   -999.0,1,   7.149,2,   2069.5,2,   2345.4,2,     7.95,2, 2529.9,  0.0088,   0.080,   0.036, 18.4963,   0.007
   318MWESTW_5,  P21W,   225,  1,     18, SI9439,2,19940607,1037,-17.8333, 176.3333, 3120,    301.1,  17.0828,  35.4800,2,  35.4756,2,    175.6,2,    180.0,2,     2.19,2,     6.58,2,     0.02,2,     0.63,2,    1.831,2,    0.962,2,    0.611,2,   1.7584,2,     0.18,2,   -999.0,1,   7.237,2,   2081.4,2,   2331.9,2,     7.92,2, 3058.0,  0.0088,   0.080,   0.036, 17.0326,   0.007
   318MWESTW_5,  P21W,   225,  1,     17, SI9417,2,19940607,1037,-17.8333, 176.3333, 3120,    333.1,  16.1787,  35.3839,2,  35.3804,2,    175.7,2,    178.0,2,     2.80,2,     8.02,2,     0.01,2,     0.73,2, -999.000,9, -999.000,9,    0.580,2,   1.7710,2,     0.52,2,   -999.0,1,   7.284,2,   2090.0,2,   2326.0,2,     7.89,2, 3377.2,  0.0089,   0.080,   0.036, 16.1252,   0.007
   318MWESTW_5,  P21W,   225,  1,     16, SI9416,2,19940607,1037,-17.8333, 176.3333, 3120,    396.0,  12.8215,  35.0080,2,  34.9957,2,    173.3,2,    173.3,2,     5.95,2,    14.11,2,     0.00,2,     1.13,2,    1.235,2,    0.638,2,    0.367,2,   1.7629,2,     1.45,2,   -999.0,1,   7.370,2,   2121.1,2,   2309.4,2,     7.80,2, 4002.4,  0.0088,   0.080,   0.037, 12.7671,   0.006
   318MWESTW_5,  P21W,   225,  1,     15, SI9415,2,19940607,1037,-17.8333, 176.3333, 3120,    493.2,   9.1205,  34.6235,2,  34.6107,2,    181.8,2,    178.9,2,    11.19,2,    21.60,2,     0.00,2,     1.59,2,    0.665,2,    0.357,2,    0.197,2,   1.7827,2,     1.94,2,   -999.0,1,   7.584,2,   -999.0,9,   -999.0,9,  -999.00,9, 4969.5,  0.0089,   0.080,   0.038,  9.0658,   0.005
   318MWESTW_5,  P21W,   225,  1,     14, SI9436,2,19940607,1037,-17.8333, 176.3333, 3120,    598.2,   6.9465,  34.4394,2,  34.4404,2,    187.8,2,    187.6,2,    17.19,2,    26.10,2,     0.01,2,     1.87,2,    0.340,2,    0.187,2, -999.000,1,   1.7954,2,     2.62,2,   -999.0,1,   7.696,2,   2165.6,2,   2296.3,2,     7.66,2, 6013.5,  0.0090,   0.080,   0.038,  6.8896,-999.000
   318MWESTW_5,  P21W,   225,  1,     13, SI9413,2,19940607,1037,-17.8333, 176.3333, 3120,    695.5,   5.7009,  34.3968,2,  34.6751,4,    185.4,2,    182.8,2,  -999.00,9,  -999.00,9,  -999.00,9,  -999.00,9, -999.000,9, -999.000,9, -999.000,1,-999.0000,1,  -999.00,9,   -999.0,1,-999.000,9,   -999.0,9,   -999.0,9,  -999.00,9, 6980.5,-999.0000,-999.000,-999.000,  5.6409,-999.000
   318MWESTW_5,  P21W,   225,  1,     12, SI9438,2,19940607,1037,-17.8333, 176.3333, 3120,    798.5,   5.0262,  34.4114,2,  34.4108,2,    173.0,2,    171.1,2,    38.27,2,    31.69,2,     0.01,2,     2.23,2,    0.048,2,    0.030,2,    0.012,2,   1.8243,2,     7.79,2,   -999.0,1,   7.837,2,   2206.7,2,   2309.9,2,     7.59,2, 8004.7,  0.0091,   0.090,   0.039,  4.9608,   0.004
   318MWESTW_5,  P21W,   225,  1,     11, SI9411,2,19940607,1037,-17.8333, 176.3333, 3120,    901.1,   4.3745,  34.4488,2,  34.6763,4,    164.2,2,   -999.0,9,  -999.00,9,  -999.00,9,  -999.00,9,  -999.00,9, -999.000,9, -999.000,9, -999.000,1,-999.0000,1,  -999.00,9,   -999.0,1,-999.000,9,   -999.0,9,   -999.0,9,  -999.00,9, 9025.0,-999.0000,-999.000,-999.000,  4.3045,-999.000
   318MWESTW_5,  P21W,   225,  1,     10, SI9412,2,19940607,1037,-17.8333, 176.3333, 3120,   1005.9,   4.0146,  34.4748,2,  34.4738,2,    159.3,2,    157.8,2,    62.05,2,    33.87,2,     0.01,2,     2.40,2,    0.006,2,    0.007,2,    0.002,2,   1.8611,2,    15.31,2,   -999.0,1,   7.933,2,   2241.4,2,   2339.9,2,     7.57,2,10067.5,  0.0093,   0.090,   0.040,  3.9384,   0.004
   318MWESTW_5,  P21W,   225,  1,      9, SI9410,2,19940607,1037,-17.8333, 176.3333, 3120,   1201.2,   3.5060,  34.5165,2,  34.5162,2,    152.1,2,    152.3,2,    77.00,2,    34.52,2,     0.02,2,     2.46,2,    0.002,2,    0.003,2, -999.000,1,   1.8905,2,    21.30,2,   -999.0,1,   8.024,2,   2259.8,2,   2352.2,2,     7.56,2,12008.8,  0.0095,   0.100,   0.040,  3.4178,-999.000
   318MWESTW_5,  P21W,   225,  1,      8, SI9422,2,19940607,1037,-17.8333, 176.3333, 3120,   1397.9,   3.1001,  34.5569,2,  34.5574,2,    149.9,2,    148.4,2,    90.46,2,    34.99,2,     0.01,2,     2.49,2,    0.002,2,    0.001,2,   -0.005,2,   1.8906,2,    27.11,2,   -999.0,1,   7.982,2,   2276.2,2,   2367.9,2,     7.55,2,13964.7,  0.0095,   0.100,   0.040,  2.9997,   0.004
   318MWESTW_5,  P21W,   225,  1,      7, SI9407,2,19940607,1037,-17.8333, 176.3333, 3120,   1595.5,   2.7285,  34.5919,2,  34.5912,2,    149.0,2,    148.9,2,   101.23,2,    35.08,2,     0.01,2,     2.49,2, -999.000,9, -999.000,9,   -0.006,2,   1.9072,2,    26.34,2,   -999.0,1,   8.065,2,   2287.7,2,   2379.1,2,     7.56,2,15929.2,  0.0095,   0.100,   0.040,  2.6159,   0.004
   318MWESTW_5,  P21W,   225,  1,      6, SI9427,2,19940607,1037,-17.8333, 176.3333, 3120,   1903.3,   2.3387,  34.6275,2,  34.6276,2,    149.3,2,    148.6,2,   112.74,2,    35.41,2,     0.00,2,     2.50,2,   -0.001,2,    0.000,2, -999.000,1,-999.0000,1,  -999.00,9,   -999.0,1,-999.000,9,   2299.7,2,   2388.8,2,     7.55,2,18989.1,-999.0000,-999.000,-999.000,  2.2054,-999.000
   318MWESTW_5,  P21W,   225,  1,      5, SI9405,2,19940607,1037,-17.8333, 176.3333, 3120,   2206.0,   2.1465,  34.6466,2,  34.6466,2,    149.2,2,    149.0,2,   118.58,2,    35.41,2,     0.00,2,     2.51,2, -999.000,9, -999.000,9, -999.000,1,-999.0000,1,  -999.00,9,   -999.0,1,-999.000,9,   2305.8,2,   2401.6,2,     7.56,2,21998.4,-999.0000,-999.000,-999.000,  1.9900,-999.000
   318MWESTW_5,  P21W,   225,  1,      4, SI9404,2,19940607,1037,-17.8333, 176.3333, 3120,   2514.2,   2.0745,  34.6554,2,  34.6549,2,    149.8,2,    149.3,2,   120.98,2,    35.39,2,     0.01,2,     2.51,2, -999.000,9, -999.000,9, -999.000,1,-999.0000,1,  -999.00,9,   -999.0,1,-999.000,9,   2308.9,2,   2403.8,2,     7.56,2,25062.7,-999.0000,-999.000,-999.000,  1.8915,-999.000
   318MWESTW_5,  P21W,   225,  1,      3, SI9403,2,19940607,1037,-17.8333, 176.3333, 3120,   2807.0,   2.0173,  34.6623,2,  34.6612,2,    150.9,2,    150.1,2,   123.08,2,    35.34,2,     0.01,2,     2.51,2,    0.006,2,   -0.001,2, -999.000,1,-999.0000,1,  -999.00,9,   -999.0,1,-999.000,9,   2310.4,2,   2407.1,2,     7.56,2,27973.1,-999.0000,-999.000,-999.000,  1.8079,-999.000
   318MWESTW_5,  P21W,   225,  1,      2, SI9437,2,19940607,1037,-17.8333, 176.3333, 3120,   3078.0,   2.0350,  34.6634,2,  34.6629,2,    149.6,2,    150.5,2,   123.39,2,    35.25,2,     0.01,2,     2.51,2, -999.000,9, -999.000,9, -999.000,1,-999.0000,1,  -999.00,9,   -999.0,1,-999.000,9,   2311.4,2,   2400.3,2,     7.56,2,30666.7,-999.0000,-999.000,-999.000,  1.7988,-999.000
   318MWESTW_5,  P21W,   225,  1,      1, SI9401,2,19940607,1037,-17.8333, 176.3333, 3120,   3130.7,   2.0405,  34.6639,2,  34.6629,2,    151.2,2,    150.2,2,   123.63,2,    35.21,2,     0.01,2,     2.50,2,    0.006,2,    0.000,2, -999.000,1,-999.0000,1,  -999.00,9,   -999.0,1,-999.000,9,   2324.7,2,   2408.9,2,     7.55,2,31190.6,-999.0000,-999.000,-999.000,  1.7989,-999.000
   318MWESTW_5,  P21W,   226,  1,     24, SI9434,2,19940607,1633,-17.8333, 175.6667, 2070,      5.2,  25.7943,  34.7876,2,  34.7905,2,    206.7,2,    204.3,2,     0.65,2,     0.00,2,     0.00,2,     0.11,2,    1.766,2,    0.985,2, -999.000,1,-999.0000,1,  -999.00,9,   -999.0,1,-999.000,9,   -999.0,9,   -999.0,9,  -999.00,9,  111.7,-999.0000,-999.000,-999.000, 25.7931,-999.000
   318MWESTW_5,  P21W,   226,  1,     23, SI9423,2,19940607,1633,-17.8333, 175.6667, 2070,     26.0,  25.7897,  34.7864,2,  34.7862,2,    210.4,2,    205.6,2,     0.65,2,     0.00,2,     0.00,2,     0.11,2, -999.000,9, -999.000,9, -999.000,1,-999.0000,1,  -999.00,9,   -999.0,1,-999.000,9,   -999.0,9,   -999.0,9,  -999.00,9,  318.7,-999.0000,-999.000,-999.000, 25.7839,-999.000
   318MWESTW_5,  P21W,   226,  1,     22, SI9418,2,19940607,1633,-17.8333, 175.6667, 2070,     50.0,  25.8905,  34.9052,2,  34.8585,2,    202.5,2,    205.3,2,     0.66,2,     0.00,2,     0.00,2,     0.12,2,    1.741,2,    0.987,2, -999.000,1,-999.0000,1,  -999.00,9,   -999.0,1,-999.000,9,   -999.0,9,   -999.0,9,  -999.00,9,  558.5,-999.0000,-999.000,-999.000, 25.8794,-999.000
   318MWESTW_5,  P21W,   226,  1,     21, SI9421,2,19940607,1633,-17.8333, 175.6667, 2070,     97.6,  23.8602,  35.7475,2,  35.7523,2,    176.6,2,    183.6,2,     0.67,2,     1.20,2,     0.14,2,     0.32,2,    1.863,2,    1.021,2, -999.000,1,-999.0000,1,  -999.00,9,   -999.0,1,-999.000,9,   -999.0,9,   -999.0,9,  -999.00,9, 1032.4,-999.0000,-999.000,-999.000, 23.8397,-999.000
   318MWESTW_5,  P21W,   226,  1,     20, SI9420,2,19940607,1633,-17.8333, 175.6667, 2070,    151.3,  22.1343,  35.8125,2,  35.8111,2,    170.7,2,    171.1,2,     0.84,2,     3.40,2,     0.02,2,     0.41,2,    1.879,2,    1.051,2, -999.000,1,-999.0000,1,  -999.00,9,   -999.0,1,-999.000,9,   -999.0,9,   -999.0,9,  -999.00,9, 1566.9,-999.0000,-999.000,-999.000, 22.1041,-999.000
   318MWESTW_5,  P21W,   226,  1,     19, SI9419,2,19940607,1633,-17.8333, 175.6667, 2070,    205.8,  20.3997,  35.7458,2,  35.7404,2,    172.9,2,    184.3,2,     1.15,2,     4.07,2,     0.02,2,     0.43,2,    1.898,2,    1.020,2, -999.000,1,-999.0000,1,  -999.00,9,   -999.0,1,-999.000,9,   -999.0,9,   -999.0,9,  -999.00,9, 2109.4,-999.0000,-999.000,-999.000, 20.3609,-999.000
   318MWESTW_5,  P21W,   226,  1,     18, SI9439,2,19940607,1633,-17.8333, 175.6667, 2070,    254.9,  18.6209,  35.6063,2,  35.6044,2,    178.9,2,    177.3,2,     1.61,2,     5.38,2,     0.00,2,     0.51,2,    1.877,2,    1.019,2, -999.000,1,-999.0000,1,  -999.00,9,   -999.0,1,-999.000,9,   -999.0,9,   -999.0,9,  -999.00,9, 2598.2,-999.0000,-999.000,-999.000, 18.5758,-999.000
   318MWESTW_5,  P21W,   226,  1,     17, SI9417,2,19940607,1633,-17.8333, 175.6667, 2070,    296.6,  17.0464,  35.4444,2,  35.4478,2,    174.3,2,    180.8,2,     2.37,2,     7.38,2,     0.00,2,     0.66,2,    1.748,2,    0.918,2, -999.000,1,-999.0000,1,  -999.00,9,   -999.0,1,-999.000,9,   -999.0,9,   -999.0,9,  -999.00,9, 3013.2,-999.0000,-999.000,-999.000, 16.9971,-999.000
   318MWESTW_5,  P21W,   226,  1,     16, SI9416,2,19940607,1633,-17.8333, 175.6667, 2070,    350.4,  14.9531,  35.2446,2,  35.2416,2,    178.4,2,    176.8,2,     3.58,2,    10.13,2,     0.00,2,     0.84,2,    1.570,2,    0.846,2, -999.000,1,-999.0000,1,  -999.00,9,   -999.0,1,-999.000,9,   -999.0,9,   -999.0,9,  -999.00,9, 3548.2,-999.0000,-999.000,-999.000, 14.8998,-999.000
   318MWESTW_5,  P21W,   226,  1,     15, SI9415,2,19940607,1633,-17.8333, 175.6667, 2070,    400.5,  12.6056,  34.9942,2,  34.9850,2,    182.6,2,    180.9,2,     5.23,2,    13.90,2,     0.01,2,     1.07,2, -999.000,9, -999.000,9, -999.000,1,-999.0000,1,  -999.00,9,   -999.0,1,-999.000,9,   -999.0,9,   -999.0,9,  -999.00,9, 4046.5,-999.0000,-999.000,-999.000, 12.5512,-999.000
   318MWESTW_5,  P21W,   226,  1,     14, SI9436,2,19940607,1633,-17.8333, 175.6667, 2070,    438.9,  10.9159,  34.8064,2,  34.8015,2,    184.7,2,    195.4,4,     7.04,2,    17.04,2,     0.02,2,     1.28,2,    1.047,2,    0.552,2, -999.000,1,-999.0000,1,  -999.00,9,   -999.0,1,-999.000,9,   -999.0,9,   -999.0,9,  -999.00,9, 4428.5,-999.0000,-999.000,-999.000, 10.8616,-999.000
   318MWESTW_5,  P21W,   226,  1,     13, SI9413,2,19940607,1633,-17.8333, 175.6667, 2070,    498.5,   8.7954,  34.5941,2,  34.5908,2,    190.8,2,    192.0,2,    10.04,2,    21.09,2,     0.02,2,     1.53,2, -999.000,9, -999.000,9, -999.000,1,-999.0000,1,  -999.00,9,   -999.0,1,-999.000,9,   -999.0,9,   -999.0,9,  -999.00,9, 5022.1,-999.0000,-999.000,-999.000,  8.7413,-999.000
   318MWESTW_5,  P21W,   226,  1,     12, SI9438,2,19940607,1633,-17.8333, 175.6667, 2070,    595.5,   6.9839,  34.4402,2,  34.4394,2,    198.2,2,    200.9,2,    14.98,2,    24.89,2,     0.01,2,     1.76,2,    0.440,6,    0.241,6, -999.000,1,-999.0000,1,  -999.00,9,   -999.0,1,-999.000,9,   -999.0,9,   -999.0,9,  -999.00,9, 5986.7,-999.0000,-999.000,-999.000,  6.9271,-999.000
   318MWESTW_5,  P21W,   226,  1,     11, SI9411,2,19940607,1633,-17.8333, 175.6667, 2070,    696.9,   6.1362,  34.3996,2,  34.3986,2,    193.8,2,    200.9,2,    20.97,2,    27.21,2,     0.01,2,     1.91,2,    0.253,2,    0.142,2, -999.000,1,-999.0000,1,  -999.00,9,   -999.0,1,-999.000,9,   -999.0,9,   -999.0,9,  -999.00,9, 6994.8,-999.0000,-999.000,-999.000,  6.0737,-999.000
   318MWESTW_5,  P21W,   226,  1,     10, SI9412,2,19940607,1633,-17.8333, 175.6667, 2070,    797.4,   5.1984,  34.4028,2,  34.4010,2,    184.5,2,    182.1,2,    34.28,2,    30.28,2,     0.01,2,     2.11,2,    0.091,2,    0.053,2, -999.000,1,-999.0000,1,  -999.00,9,   -999.0,1,-999.000,9,   -999.0,9,   -999.0,9,  -999.00,9, 7993.3,-999.0000,-999.000,-999.000,  5.1321,-999.000
   318MWESTW_5,  P21W,   226,  1,      9, SI9410,2,19940607,1633,-17.8333, 175.6667, 2070,    899.9,   4.4959,  34.4300,2,  34.4302,2,    171.7,2,    171.8,2,    48.18,2,    32.20,2,     0.00,2,     2.24,2,    0.037,2,    0.022,2, -999.000,1,-999.0000,1,  -999.00,9,   -999.0,1,-999.000,9,   -999.0,9,   -999.0,9,  -999.00,9, 9013.0,-999.0000,-999.000,-999.000,  4.4252,-999.000
   318MWESTW_5,  P21W,   226,  1,      8, SI9422,2,19940607,1633,-17.8333, 175.6667, 2070,    994.5,   4.0309,  34.4616,2,  34.4599,2,    165.8,2,    188.9,4,    59.08,2,    33.10,2,     0.00,2,     2.31,2,    0.019,2,    0.012,2, -999.000,1,-999.0000,1,  -999.00,9,   -999.0,1,-999.000,9,   -999.0,9,   -999.0,9,  -999.00,9, 9952.8,-999.0000,-999.000,-999.000,  3.9555,-999.000
   318MWESTW_5,  P21W,   226,  1,      7, SI9407,2,19940607,1633,-17.8333, 175.6667, 2070,   1097.5,   3.7015,  34.4945,2,  34.4928,2,    160.6,2,    162.4,2,    69.54,2,    33.85,2,     0.00,2,     2.37,2, -999.000,9, -999.000,9, -999.000,1,-999.0000,1,  -999.00,9,   -999.0,1,-999.000,9,   -999.0,9,   -999.0,9,  -999.00,9,10976.9,-999.0000,-999.000,-999.000,  3.6202,-999.000
   318MWESTW_5,  P21W,   226,  1,      6, SI9427,2,19940607,1633,-17.8333, 175.6667, 2070,   1200.7,   3.3934,  34.5267,2,  34.5241,2,    153.9,2,    173.3,4,    80.00,2,    34.53,2,     0.00,2,     2.41,2,    0.001,2,    0.003,2, -999.000,1,-999.0000,1,  -999.00,9,   -999.0,1,-999.000,9,   -999.0,9,   -999.0,9,  -999.00,9,12003.2,-999.0000,-999.000,-999.000,  3.3063,-999.000
   318MWESTW_5,  P21W,   226,  1,      5, SI9405,2,19940607,1633,-17.8333, 175.6667, 2070,   1403.7,   3.0304,  34.5629,2,  34.5612,2,    149.7,2,    158.2,4,    92.40,2,    34.98,2,     0.00,2,     2.46,2, -999.000,9, -999.000,9, -999.000,1,-999.0000,1,  -999.00,9,   -999.0,1,-999.000,9,   -999.0,9,   -999.0,9,  -999.00,9,14020.7,-999.0000,-999.000,-999.000,  2.9302,-999.000
   318MWESTW_5,  P21W,   226,  1,      4, SI9404,2,19940607,1633,-17.8333, 175.6667, 2070,   1602.8,   2.6229,  34.5998,2,  34.5975,2,    148.3,2,    147.9,2,   104.80,2,    35.21,2,     0.00,2,     2.47,2,    0.000,2,    0.001,2, -999.000,1,-999.0000,1,  -999.00,9,   -999.0,1,-999.000,9,   -999.0,9,   -999.0,9,  -999.00,9,16000.3,-999.0000,-999.000,-999.000,  2.5110,-999.000
   318MWESTW_5,  P21W,   226,  1,      3, SI9403,2,19940607,1633,-17.8333, 175.6667, 2070,   1793.8,   2.3890,  34.6200,2,  34.6195,2,    147.8,2,    149.2,2,   111.67,2,    35.31,2,     0.00,2,     2.46,2, -999.000,9, -999.000,9, -999.000,1,-999.0000,1,  -999.00,9,   -999.0,1,-999.000,9,   -999.0,9,   -999.0,9,  -999.00,9,17898.6,-999.0000,-999.000,-999.000,  2.2642,-999.000
   318MWESTW_5,  P21W,   226,  1,      2, SI9437,2,19940607,1633,-17.8333, 175.6667, 2070,   1913.8,   2.3573,  34.6232,2,  34.6233,2,    148.6,2,    154.6,4,   112.71,2,    35.40,2,     0.00,2,     2.46,2, -999.000,9, -999.000,9, -999.000,1,-999.0000,1,  -999.00,9,   -999.0,1,-999.000,9,   -999.0,9,   -999.0,9,  -999.00,9,19090.8,-999.0000,-999.000,-999.000,  2.2229,-999.000
   318MWESTW_5,  P21W,   226,  1,      1, SI9401,2,19940607,1633,-17.8333, 175.6667, 2070,   1956.3,   2.3392,  34.6265,2,  34.6260,2,    148.2,2,    149.2,2,   113.20,2,    35.35,2,     0.00,2,     2.47,2,    0.003,2,    0.001,2, -999.000,1,-999.0000,1,  -999.00,9,   -999.0,1,-999.000,9,   -999.0,9,   -999.0,9,  -999.00,9,19513.4,-999.0000,-999.000,-999.000,  2.2014,-999.000