BOTTLE,20010911WHPSIOdm
EXPOCODE,SECT_ID,STNNBR,CASTNO,SAMPNO,BTLNBR,BTLNBR_FLAG_W,DATE,TIME,LATITUDE,LONGITUDE,DEPTH,CTDPRS,CTDTMP,CTDSAL,CTDSAL_FLAG_W,SALNTY,SALNTY_FLAG_W,CTDOXY,CTDOXY_FLAG_W,OXYGEN,OXYGEN_FLAG_W,SILCAT,SILCAT_FLAG_W,NITRAT,NITRAT_FLAG_W,NITRIT,NITRIT_FLAG_W,PHSPHT,PHSPHT_FLAG_W,CFC-11,CFC-11_FLAG_W,CFC-12,CFC-12_FLAG_W,TRITUM,TRITUM_FLAG_W,HELIUM,HELIUM_FLAG_W,DELHE3,DELHE3_FLAG_W,DELC14,DELC14_FLAG_W,NEON,NEON_FLAG_W,TCARBN,TCARBN_FLAG_W,ALKALI,ALKALI_FLAG_W,PH,PH_FLAG_W,CTDRAW,HELIER,DELHER,NEONER,THETA,TRITER
,,,,,,,,,,,,DBAR,ITS-90,PSS-78,,PSS-78,,UMOL/KG,,UMOL/KG,,UMOL/KG,,UMOL/KG,,UMOL/KG,,UMOL/KG,,PMOL/KG,,PMOL/KG,,TU,,UMOL/KG,,PERCNT,,/MILLE,,NMOL/KG,,UMOL/KG,,UMOL/KG,,,,,NMOL/KG,PERCNT,NMOL/KG,ITS-90,TU
   318MWESTW_5,  P21W,   233,  1,     23, SI9423,2,19940609,1019,-17.8333, 171.0000, 2815,      4.8,  25.0128,  35.0469,2,  35.0468,2,    215.4,2,    212.4,2,     0.64,2,     0.00,2,     0.00,2,     0.12,2,    1.788,2,    1.002,2, -999.000,1,-999.0000,1,  -999.00,9,   -999.0,1,-999.000,9,   -999.0,9,   -999.0,9,  -999.00,9,  106.6,-999.0000,-999.000,-999.000, 25.0118,-999.000
   318MWESTW_5,  P21W,   233,  1,     22, SI9418,2,19940609,1019,-17.8333, 171.0000, 2815,     21.1,  25.0126,  35.0474,2,  35.0461,2,    210.9,2,    212.0,2,     0.52,2,     0.05,2,     0.00,2,     0.12,2,    1.798,2,    1.007,2, -999.000,1,-999.0000,1,  -999.00,9,   -999.0,1,-999.000,9,   -999.0,9,   -999.0,9,  -999.00,9,  269.6,-999.0000,-999.000,-999.000, 25.0080,-999.000
   318MWESTW_5,  P21W,   233,  1,     21, SI9421,2,19940609,1019,-17.8333, 171.0000, 2815,     45.9,  25.0142,  35.0469,2,  35.0468,2,    212.8,2,    208.7,2,     0.55,2,     0.05,2,     0.00,2,     0.12,2,    1.790,2,    1.005,2, -999.000,1,-999.0000,1,  -999.00,9,   -999.0,1,-999.000,9,   -999.0,9,   -999.0,9,  -999.00,9,  516.1,-999.0000,-999.000,-999.000, 25.0042,-999.000
   318MWESTW_5,  P21W,   233,  1,     20, SI9420,2,19940609,1019,-17.8333, 171.0000, 2815,     96.3,  23.0748,  35.7212,2,  35.7201,2,    194.3,2,    186.7,2,     0.72,2,     1.91,2,     0.05,2,     0.31,2,    1.922,2,    1.050,2, -999.000,1,-999.0000,1,  -999.00,9,   -999.0,1,-999.000,9,   -999.0,9,   -999.0,9,  -999.00,9, 1019.1,-999.0000,-999.000,-999.000, 23.0550,-999.000
   318MWESTW_5,  P21W,   233,  1,     19, SI9419,2,19940609,1019,-17.8333, 171.0000, 2815,    147.2,  21.7843,  35.7920,2,  35.7904,2,    176.5,2,    171.6,2,     0.90,2,     3.96,2,     0.02,2,     0.42,2,    1.926,2,    1.048,2, -999.000,1,-999.0000,1,  -999.00,9,   -999.0,1,-999.000,9,   -999.0,9,   -999.0,9,  -999.00,9, 1525.5,-999.0000,-999.000,-999.000, 21.7553,-999.000
   318MWESTW_5,  P21W,   233,  1,     18, SI9439,2,19940609,1019,-17.8333, 171.0000, 2815,    199.2,  20.4541,  35.7502,2,  35.7458,2,    180.1,2,    175.9,2,     1.07,2,     4.34,2,     0.01,2,     0.44,2,    1.922,2,    1.044,2, -999.000,1,-999.0000,1,  -999.00,9,   -999.0,1,-999.000,9,   -999.0,9,   -999.0,9,  -999.00,9, 2042.8,-999.0000,-999.000,-999.000, 20.4165,-999.000
   318MWESTW_5,  P21W,   233,  1,     17, SI9417,2,19940609,1019,-17.8333, 171.0000, 2815,    249.6,  18.5560,  35.6022,2,  35.6088,2,    185.7,2,    178.4,2,     1.69,2,     5.43,2,     0.01,2,     0.51,2,    1.935,2,    1.034,2, -999.000,1,-999.0000,1,  -999.00,9,   -999.0,1,-999.000,9,   -999.0,9,   -999.0,9,  -999.00,9, 2545.3,-999.0000,-999.000,-999.000, 18.5120,-999.000
   318MWESTW_5,  P21W,   233,  1,     16, SI9416,2,19940609,1019,-17.8333, 171.0000, 2815,    300.1,  17.1221,  35.4925,2,  35.4908,2,    184.3,2,    182.5,2,     2.01,2,     6.63,2,     0.00,2,     0.60,2,    1.915,2,    1.017,2, -999.000,1,-999.0000,1,  -999.00,9,   -999.0,1,-999.000,9,   -999.0,9,   -999.0,9,  -999.00,9, 3047.5,-999.0000,-999.000,-999.000, 17.0720,-999.000
   318MWESTW_5,  P21W,   233,  1,     15, SI9415,2,19940609,1019,-17.8333, 171.0000, 2815,    344.4,  15.9253,  35.3717,2,  35.3673,2,    181.4,2,    179.9,2,     2.77,2,     8.37,2,     0.00,2,     0.71,2,    1.784,2,    0.933,2, -999.000,1,-999.0000,1,  -999.00,9,   -999.0,1,-999.000,9,   -999.0,9,   -999.0,9,  -999.00,9, 3489.2,-999.0000,-999.000,-999.000, 15.8706,-999.000
   318MWESTW_5,  P21W,   233,  1,     14, SI9436,2,19940609,1019,-17.8333, 171.0000, 2815,    395.8,  13.8787,  35.1084,2,  35.1073,2,    170.7,2,    167.5,2,     9.78,3,    12.86,2,     0.00,2,     1.03,2,    1.333,2,    0.697,2, -999.000,1,-999.0000,1,  -999.00,9,   -999.0,1,-999.000,9,   -999.0,9,   -999.0,9,  -999.00,9, 4000.3,-999.0000,-999.000,-999.000, 13.8214,-999.000
   318MWESTW_5,  P21W,   233,  1,     13, SI9413,2,19940609,1019,-17.8333, 171.0000, 2815,    498.8,   9.9903,  34.7127,2,  34.7048,2,    182.5,2,    181.8,2,    13.60,3,    19.45,2,     0.00,2,     1.41,2,    0.872,2,    0.452,2, -999.000,1,-999.0000,1,  -999.00,9,   -999.0,1,-999.000,9,   -999.0,9,   -999.0,9,  -999.00,9, 5025.4,-999.0000,-999.000,-999.000,  9.9318,-999.000
   318MWESTW_5,  P21W,   233,  1,     12, SI9438,2,19940609,1019,-17.8333, 171.0000, 2815,    591.5,   7.2371,  34.4628,2,  34.4604,2,    194.2,2,    196.9,2,    14.07,2,    24.71,2,     0.00,2,     1.73,2,    0.454,6,    0.243,6, -999.000,1,-999.0000,1,  -999.00,9,   -999.0,1,-999.000,9,   -999.0,9,   -999.0,9,  -999.00,9, 5946.7,-999.0000,-999.000,-999.000,  7.1796,-999.000
   318MWESTW_5,  P21W,   233,  1,     11, SI9411,2,19940609,1019,-17.8333, 171.0000, 2815,    695.6,   5.7775,  34.3902,2,  34.3884,2,    191.3,2,    191.2,2,    24.28,2,    28.69,2,     0.00,2,     1.99,2,    0.160,2,    0.091,2, -999.000,1,-999.0000,1,  -999.00,9,   -999.0,1,-999.000,9,   -999.0,9,   -999.0,9,  -999.00,9, 6981.7,-999.0000,-999.000,-999.000,  5.7171,-999.000
   318MWESTW_5,  P21W,   233,  1,     10, SI9412,2,19940609,1019,-17.8333, 171.0000, 2815,    792.8,   4.9104,  34.4107,2,  34.4110,2,    178.2,2,    175.2,2,    39.45,2,    31.58,2,     0.00,2,     2.20,2,    0.050,2,    0.032,2, -999.000,1,-999.0000,1,  -999.00,9,   -999.0,1,-999.000,9,   -999.0,9,   -999.0,9,  -999.00,9, 7948.1,-999.0000,-999.000,-999.000,  4.8462,-999.000
   318MWESTW_5,  P21W,   233,  1,      9, SI9410,2,19940609,1019,-17.8333, 171.0000, 2815,    898.7,   4.4824,  34.4427,2,  34.4428,2,    166.7,2,    163.8,2,    50.82,2,    32.99,2,     0.00,2,     2.31,2,    0.020,2,    0.012,2, -999.000,1,-999.0000,1,  -999.00,9,   -999.0,1,-999.000,9,   -999.0,9,   -999.0,9,  -999.00,9, 9001.6,-999.0000,-999.000,-999.000,  4.4118,-999.000
   318MWESTW_5,  P21W,   233,  1,      8, SI9422,2,19940609,1019,-17.8333, 171.0000, 2815,    999.5,   4.1269,  34.4709,2,  34.4707,2,    160.3,2,    158.8,2,    60.46,2,    33.73,2,     0.00,2,     2.37,2,    0.012,2,    0.007,2, -999.000,1,-999.0000,1,  -999.00,9,   -999.0,1,-999.000,9,   -999.0,9,   -999.0,9,  -999.00,9,10003.7,-999.0000,-999.000,-999.000,  4.0504,-999.000
   318MWESTW_5,  P21W,   233,  1,      7, SI9407,2,19940609,1019,-17.8333, 171.0000, 2815,   1299.4,   3.3005,  34.5394,2,  34.5404,2,    150.7,2,    150.4,2,    84.79,2,    34.92,2,     0.00,2,     2.45,2,    0.002,2,    0.002,2, -999.000,1,-999.0000,1,  -999.00,9,   -999.0,1,-999.000,9,   -999.0,9,   -999.0,9,  -999.00,9,12985.1,-999.0000,-999.000,-999.000,  3.2062,-999.000
   318MWESTW_5,  P21W,   233,  1,      6, SI9427,2,19940609,1019,-17.8333, 171.0000, 2815,   1603.8,   2.7371,  34.5902,2,  34.5914,2,    146.7,2,    146.0,2,   102.28,2,    35.61,2,     0.00,2,     2.49,2,   -0.001,2,   -0.002,2, -999.000,1,-999.0000,1,  -999.00,9,   -999.0,1,-999.000,9,   -999.0,9,   -999.0,9,  -999.00,9,16011.4,-999.0000,-999.000,-999.000,  2.6237,-999.000
   318MWESTW_5,  P21W,   233,  1,      5, SI9405,2,19940609,1019,-17.8333, 171.0000, 2815,   1909.3,   2.3521,  34.6229,2,  34.6233,2,    146.1,2,    145.0,2,   114.25,2,    35.83,2,     0.00,2,     2.51,2, -999.000,9, -999.000,9, -999.000,1,-999.0000,1,  -999.00,9,   -999.0,1,-999.000,9,   -999.0,9,   -999.0,9,  -999.00,9,19049.0,-999.0000,-999.000,-999.000,  2.2181,-999.000
   318MWESTW_5,  P21W,   233,  1,      4, SI9404,2,19940609,1019,-17.8333, 171.0000, 2815,   2202.6,   2.1197,  34.6425,2,  34.6423,2,    147.1,2,    145.5,2,   121.69,2,    35.93,2,     0.00,2,     2.51,2, -999.000,9, -999.000,9, -999.000,1,-999.0000,1,  -999.00,9,   -999.0,1,-999.000,9,   -999.0,9,   -999.0,9,  -999.00,9,21964.2,-999.0000,-999.000,-999.000,  1.9639,-999.000
   318MWESTW_5,  P21W,   233,  1,      3, SI9403,2,19940609,1019,-17.8333, 171.0000, 2815,   2505.2,   1.9817,  34.6538,2,  34.6533,2,    145.9,2,    145.8,2,   127.12,2,    36.07,2,     0.00,2,     2.52,2,    0.000,2,   -0.001,2, -999.000,1,-999.0000,1,  -999.00,9,   -999.0,1,-999.000,9,   -999.0,9,   -999.0,9,  -999.00,9,24972.4,-999.0000,-999.000,-999.000,  1.8013,-999.000
   318MWESTW_5,  P21W,   233,  1,      2, SI9437,2,19940609,1019,-17.8333, 171.0000, 2815,   2769.2,   1.9059,  34.6594,2,  34.6590,2,    147.3,2,    145.5,2,   130.63,2,    36.20,2,     0.00,2,     2.53,2, -999.000,9, -999.000,9, -999.000,1,-999.0000,1,  -999.00,9,   -999.0,1,-999.000,9,   -999.0,9,   -999.0,9,  -999.00,9,27596.9,-999.0000,-999.000,-999.000,  1.7024,-999.000
   318MWESTW_5,  P21W,   233,  1,      1, SI9401,2,19940609,1019,-17.8333, 171.0000, 2815,   2820.0,   1.8917,  34.6591,2,  34.6606,2,    145.8,2,    145.2,2,   131.15,2,    36.08,2,     0.00,2,     2.54,2,    0.000,2,    0.000,2, -999.000,1,-999.0000,1,  -999.00,9,   -999.0,1,-999.000,9,   -999.0,9,   -999.0,9,  -999.00,9,28101.4,-999.0000,-999.000,-999.000,  1.6837,-999.000
   318MWESTW_5,  P21W,   234,  1,     27, SI9424,2,19940609,1638,-17.8333, 170.3333, 2600,      5.7,  24.8771,  35.1197,2,  35.1187,2,    216.3,2,    206.9,2,     0.76,2,     0.11,2,     0.00,2,     0.13,2,    1.816,2,    0.999,2, -999.000,1,-999.0000,1,  -999.00,9,   -999.0,1,-999.000,9,   -999.0,9,   -999.0,9,  -999.00,9,  116.4,-999.0000,-999.000,-999.000, 24.8759,-999.000
   318MWESTW_5,  P21W,   234,  1,     26, SI9414,2,19940609,1638,-17.8333, 170.3333, 2600,     20.1,  24.8829,  35.1209,2,  35.1187,2,    218.1,2,    205.4,2,     0.80,2,     0.06,2,     0.00,2,     0.13,2, -999.000,9, -999.000,9, -999.000,1,-999.0000,1,  -999.00,9,   -999.0,1,-999.000,9,   -999.0,9,   -999.0,9,  -999.00,9,  259.8,-999.0000,-999.000,-999.000, 24.8786,-999.000
   318MWESTW_5,  P21W,   234,  1,     25, SI9425,2,19940609,1638,-17.8333, 170.3333, 2600,     46.2,  24.8894,  35.1210,2,  35.1195,2,    213.5,2,    206.1,2,     0.70,2,     0.02,2,     0.00,2,     0.12,2,    1.822,2,    1.015,2, -999.000,1,-999.0000,1,  -999.00,9,   -999.0,1,-999.000,9,   -999.0,9,   -999.0,9,  -999.00,9,  519.7,-999.0000,-999.000,-999.000, 24.8794,-999.000
   318MWESTW_5,  P21W,   234,  1,     24, SI9434,2,19940609,1638,-17.8333, 170.3333, 2600,     96.0,  24.2442,  35.6074,2,  35.6056,2,    188.5,2,    190.5,2,     0.74,2,     0.89,2,     0.18,2,     0.27,2,    1.846,2,    1.022,2, -999.000,1,-999.0000,1,  -999.00,9,   -999.0,1,-999.000,9,   -999.0,9,   -999.0,9,  -999.00,9, 1015.6,-999.0000,-999.000,-999.000, 24.2238,-999.000
   318MWESTW_5,  P21W,   234,  1,     23, SI9423,2,19940609,1638,-17.8333, 170.3333, 2600,    145.7,  22.5287,  35.7878,2,  35.7870,2,    172.9,2,    189.4,2,     0.79,2,     3.52,2,     0.01,2,     0.41,2,    1.894,2,    1.027,2, -999.000,1,-999.0000,1,  -999.00,9,   -999.0,1,-999.000,9,   -999.0,9,   -999.0,9,  -999.00,9, 1511.1,-999.0000,-999.000,-999.000, 22.4993,-999.000
   318MWESTW_5,  P21W,   234,  1,     22, SI9418,2,19940609,1638,-17.8333, 170.3333, 2600,    197.8,  21.0636,  35.8108,2,  35.8078,2,    173.2,2,    179.7,2,     0.98,2,     4.48,2,     0.00,2,     0.47,2,    1.898,6,    1.026,6, -999.000,1,-999.0000,1,  -999.00,9,   -999.0,1,-999.000,9,   -999.0,9,   -999.0,9,  -999.00,9, 2029.7,-999.0000,-999.000,-999.000, 21.0255,-999.000
   318MWESTW_5,  P21W,   234,  1,     21, SI9421,2,19940609,1638,-17.8333, 170.3333, 2600,    248.7,  19.2930,  35.6601,2,  35.6638,2,    181.0,2,    177.3,2,     1.31,2,     4.92,2,     0.01,2,     0.49,2,    1.947,2,    1.032,2, -999.000,1,-999.0000,1,  -999.00,9,   -999.0,1,-999.000,9,   -999.0,9,   -999.0,9,  -999.00,9, 2536.1,-999.0000,-999.000,-999.000, 19.2479,-999.000
   318MWESTW_5,  P21W,   234,  1,     20, SI9420,2,19940609,1638,-17.8333, 170.3333, 2600,    295.5,  17.7649,  35.5464,2,  35.5448,2,    176.6,2,    180.5,2,     1.79,2,     6.07,2,     0.01,2,     0.56,2,    1.945,2,    1.011,2, -999.000,1,-999.0000,1,  -999.00,9,   -999.0,1,-999.000,9,   -999.0,9,   -999.0,9,  -999.00,9, 3002.4,-999.0000,-999.000,-999.000, 17.7143,-999.000
   318MWESTW_5,  P21W,   234,  1,     19, SI9419,2,19940609,1638,-17.8333, 170.3333, 2600,    350.4,  15.4536,  35.3178,2,  35.3153,2,    181.1,2,    179.3,2,     3.14,2,     9.21,2,     0.00,2,     0.78,2, -999.000,9, -999.000,9, -999.000,1,-999.0000,1,  -999.00,9,   -999.0,1,-999.000,9,   -999.0,9,   -999.0,9,  -999.00,9, 3548.8,-999.0000,-999.000,-999.000, 15.3991,-999.000
   318MWESTW_5,  P21W,   234,  1,     18, SI9439,2,19940609,1638,-17.8333, 170.3333, 2600,    397.5,  12.7164,  34.9993,2,  35.0033,2,    177.2,2,    174.2,2,     5.50,2,    14.18,2,     0.00,2,     1.10,2,    1.259,2,    0.649,2, -999.000,1,-999.0000,1,  -999.00,9,   -999.0,1,-999.000,9,   -999.0,9,   -999.0,9,  -999.00,9, 4017.0,-999.0000,-999.000,-999.000, 12.6621,-999.000
   318MWESTW_5,  P21W,   234,  1,     17, SI9417,2,19940609,1638,-17.8333, 170.3333, 2600,    441.4,  11.0141,  34.8272,2,  34.8151,2,    180.0,2,    178.8,2,     7.29,2,    17.37,2,     0.00,2,     1.30,2, -999.000,9, -999.000,9, -999.000,1,-999.0000,1,  -999.00,9,   -999.0,1,-999.000,9,   -999.0,9,   -999.0,9,  -999.00,9, 4454.2,-999.0000,-999.000,-999.000, 10.9591,-999.000
   318MWESTW_5,  P21W,   234,  1,     16, SI9416,2,19940609,1638,-17.8333, 170.3333, 2600,    496.1,   9.5230,  34.6698,2,  34.6673,2,    185.3,2,    189.8,3,     8.92,2,    20.10,2,     0.00,2,     1.46,2,    0.831,2,    0.429,2, -999.000,1,-999.0000,1,  -999.00,9,   -999.0,1,-999.000,9,   -999.0,9,   -999.0,9,  -999.00,9, 4997.7,-999.0000,-999.000,-999.000,  9.4665,-999.000
   318MWESTW_5,  P21W,   234,  1,     15, SI9415,2,19940609,1638,-17.8333, 170.3333, 2600,    599.9,   7.3407,  34.4726,2,  34.4710,2,    189.6,2,    197.1,2,    15.21,2,    25.14,2,     0.00,2,     1.79,2,    0.401,2,    0.217,2, -999.000,1,-999.0000,1,  -999.00,9,   -999.0,1,-999.000,9,   -999.0,9,   -999.0,9,  -999.00,9, 6030.5,-999.0000,-999.000,-999.000,  7.2818,-999.000
   318MWESTW_5,  P21W,   234,  1,     14, SI9436,2,19940609,1638,-17.8333, 170.3333, 2600,    692.0,   6.2201,  34.4085,2,  34.4086,2,    193.2,2,    191.1,2,    21.63,2,    27.56,2,     0.00,2,     1.94,2,    0.233,2,    0.128,2, -999.000,1,-999.0000,1,  -999.00,9,   -999.0,1,-999.000,9,   -999.0,9,   -999.0,9,  -999.00,9, 6946.3,-999.0000,-999.000,-999.000,  6.1577,-999.000
   318MWESTW_5,  P21W,   234,  1,     13, SI9413,2,19940609,1638,-17.8333, 170.3333, 2600,    792.3,   5.2911,  34.4054,2,  34.4045,2,    182.1,2,    194.6,4,    33.64,2,    30.47,2,     0.00,2,     2.11,2,    0.098,2,    0.058,2, -999.000,1,-999.0000,1,  -999.00,9,   -999.0,1,-999.000,9,   -999.0,9,   -999.0,9,  -999.00,9, 7943.0,-999.0000,-999.000,-999.000,  5.2246,-999.000
   318MWESTW_5,  P21W,   234,  1,     12, SI9438,2,19940609,1638,-17.8333, 170.3333, 2600,    896.1,   4.6039,  34.4334,2,  34.4330,2,    171.9,2,    173.8,2,    47.37,2,    32.14,2,     0.00,2,     2.25,2,    0.041,2,    0.021,2, -999.000,1,-999.0000,1,  -999.00,9,   -999.0,1,-999.000,9,   -999.0,9,   -999.0,9,  -999.00,9, 8975.6,-999.0000,-999.000,-999.000,  4.5327,-999.000
   318MWESTW_5,  P21W,   234,  1,     11, SI9411,2,19940609,1638,-17.8333, 170.3333, 2600,    998.1,   4.1617,  34.4614,2,  34.4610,2,    163.6,2,    173.7,4,    58.29,2,    33.04,2,     0.00,2,     2.33,2,    0.021,2,    0.012,2, -999.000,1,-999.0000,1,  -999.00,9,   -999.0,1,-999.000,9,   -999.0,9,   -999.0,9,  -999.00,9, 9989.1,-999.0000,-999.000,-999.000,  4.0850,-999.000
   318MWESTW_5,  P21W,   234,  1,     10, SI9412,2,19940609,1638,-17.8333, 170.3333, 2600,   1102.8,   3.7805,  34.4932,2,  34.4921,2,    161.4,2,    162.7,2,    68.76,2,    33.64,2,     0.00,2,     2.37,2,    0.011,2,    0.006,2, -999.000,1,-999.0000,1,  -999.00,9,   -999.0,1,-999.000,9,   -999.0,9,   -999.0,9,  -999.00,9,11030.2,-999.0000,-999.000,-999.000,  3.6981,-999.000
   318MWESTW_5,  P21W,   234,  1,      9, SI9410,2,19940609,1638,-17.8333, 170.3333, 2600,   1193.6,   3.5596,  34.5116,2,  34.5111,2,    157.6,2,    157.9,2,    75.04,2,    34.04,2,     0.00,2,     2.39,2,    0.005,2,    0.002,2, -999.000,1,-999.0000,1,  -999.00,9,   -999.0,1,-999.000,9,   -999.0,9,   -999.0,9,  -999.00,9,11932.7,-999.0000,-999.000,-999.000,  3.4716,-999.000
   318MWESTW_5,  P21W,   234,  1,      8, SI9422,2,19940609,1638,-17.8333, 170.3333, 2600,   1390.2,   3.1765,  34.5496,2,  34.5486,2,    151.3,2,    150.6,2,    88.26,2,    34.94,2,     0.00,2,     2.45,2,    0.001,2,    0.000,2, -999.000,1,-999.0000,1,  -999.00,9,   -999.0,1,-999.000,9,   -999.0,9,   -999.0,9,  -999.00,9,13887.8,-999.0000,-999.000,-999.000,  3.0759,-999.000
   318MWESTW_5,  P21W,   234,  1,      7, SI9407,2,19940609,1638,-17.8333, 170.3333, 2600,   1587.6,   2.7670,  34.5880,2,  34.5867,2,    148.3,2,    146.4,2,   101.63,2,    35.52,2,     0.00,2,     2.49,2, -999.000,9, -999.000,9, -999.000,1,-999.0000,1,  -999.00,9,   -999.0,1,-999.000,9,   -999.0,9,   -999.0,9,  -999.00,9,15850.3,-999.0000,-999.000,-999.000,  2.6546,-999.000
   318MWESTW_5,  P21W,   234,  1,      6, SI9427,2,19940609,1638,-17.8333, 170.3333, 2600,   1792.7,   2.4220,  34.6159,2,  34.6150,2,    147.7,2,    151.4,4,   111.67,2,    35.66,2,     0.00,2,     2.50,2, -999.000,9, -999.000,9, -999.000,1,-999.0000,1,  -999.00,9,   -999.0,1,-999.000,9,   -999.0,9,   -999.0,9,  -999.00,9,17889.6,-999.0000,-999.000,-999.000,  2.2969,-999.000
   318MWESTW_5,  P21W,   234,  1,      5, SI9405,2,19940609,1638,-17.8333, 170.3333, 2600,   1996.5,   2.2178,  34.6333,2,  34.6319,2,    147.0,2,    146.3,2,   118.52,2,    35.77,2,     0.01,2,     2.52,2, -999.000,9, -999.000,9, -999.000,1,-999.0000,1,  -999.00,9,   -999.0,1,-999.000,9,   -999.0,9,   -999.0,9,  -999.00,9,19915.5,-999.0000,-999.000,-999.000,  2.0783,-999.000
   318MWESTW_5,  P21W,   234,  1,      4, SI9404,2,19940609,1638,-17.8333, 170.3333, 2600,   2191.0,   2.0984,  34.6438,2,  34.6419,2,    146.5,2,    147.5,4,   122.89,2,    35.83,2,     0.00,2,     2.52,2,    0.000,2,    0.001,2, -999.000,1,-999.0000,1,  -999.00,9,   -999.0,1,-999.000,9,   -999.0,9,   -999.0,9,  -999.00,9,21848.4,-999.0000,-999.000,-999.000,  1.9440,-999.000
   318MWESTW_5,  P21W,   234,  1,      3, SI9403,2,19940609,1638,-17.8333, 170.3333, 2600,   2397.4,   2.0114,  34.6498,2,  34.6488,2,    146.4,2,    145.9,2,   126.41,2,    35.82,2,     0.00,2,     2.54,2, -999.000,9, -999.000,9, -999.000,1,-999.0000,1,  -999.00,9,   -999.0,1,-999.000,9,   -999.0,9,   -999.0,9,  -999.00,9,23900.8,-999.0000,-999.000,-999.000,  1.8402,-999.000
   318MWESTW_5,  P21W,   234,  1,      2, SI9437,2,19940609,1638,-17.8333, 170.3333, 2600,   2565.1,   1.9751,  34.6529,2,  34.6519,2,    146.3,2,    145.5,2,   128.03,2,    35.77,2,     0.00,2,     2.53,2, -999.000,9, -999.000,9, -999.000,1,-999.0000,1,  -999.00,9,   -999.0,1,-999.000,9,   -999.0,9,   -999.0,9,  -999.00,9,25567.8,-999.0000,-999.000,-999.000,  1.7893,-999.000
   318MWESTW_5,  P21W,   234,  1,      1, SI9401,2,19940609,1638,-17.8333, 170.3333, 2600,   2602.8,   1.9670,  34.6540,2,  34.6525,2,    146.7,2,    170.2,4,   128.52,2,    35.88,2,     0.00,2,     2.53,2,   -0.001,2,    0.001,2, -999.000,1,-999.0000,1,  -999.00,9,   -999.0,1,-999.000,9,   -999.0,9,   -999.0,9,  -999.00,9,25942.1,-999.0000,-999.000,-999.000,  1.7779,-999.000