BOTTLE,20010911WHPSIOdm
EXPOCODE,SECT_ID,STNNBR,CASTNO,SAMPNO,BTLNBR,BTLNBR_FLAG_W,DATE,TIME,LATITUDE,LONGITUDE,DEPTH,CTDPRS,CTDTMP,CTDSAL,CTDSAL_FLAG_W,SALNTY,SALNTY_FLAG_W,CTDOXY,CTDOXY_FLAG_W,OXYGEN,OXYGEN_FLAG_W,SILCAT,SILCAT_FLAG_W,NITRAT,NITRAT_FLAG_W,NITRIT,NITRIT_FLAG_W,PHSPHT,PHSPHT_FLAG_W,CFC-11,CFC-11_FLAG_W,CFC-12,CFC-12_FLAG_W,TRITUM,TRITUM_FLAG_W,HELIUM,HELIUM_FLAG_W,DELHE3,DELHE3_FLAG_W,DELC14,DELC14_FLAG_W,NEON,NEON_FLAG_W,TCARBN,TCARBN_FLAG_W,ALKALI,ALKALI_FLAG_W,PH,PH_FLAG_W,CTDRAW,HELIER,DELHER,NEONER,THETA,TRITER
,,,,,,,,,,,,DBAR,ITS-90,PSS-78,,PSS-78,,UMOL/KG,,UMOL/KG,,UMOL/KG,,UMOL/KG,,UMOL/KG,,UMOL/KG,,PMOL/KG,,PMOL/KG,,TU,,UMOL/KG,,PERCNT,,/MILLE,,NMOL/KG,,UMOL/KG,,UMOL/KG,,,,,NMOL/KG,PERCNT,NMOL/KG,ITS-90,TU
   318MWESTW_5,  P21W,   243,  1,     36, SI9442,2,19940611,0148,-18.3695, 168.0555, 4100,      6.6,  25.8219,  34.9521,2,  34.9465,2,    202.6,2,    214.8,2,     0.53,2,     0.04,2,     0.00,2,     0.16,2,    1.731,2,    0.994,2, -999.000,1,-999.0000,1,  -999.00,9,   -999.0,1,-999.000,9,   -999.0,9,   -999.0,9,  -999.00,9,  125.2,-999.0000,-999.000,-999.000, 25.8204,-999.000
   318MWESTW_5,  P21W,   243,  1,     35, SI9435,2,19940611,0148,-18.3695, 168.0555, 4100,     21.8,  25.7251,  34.9492,2,  34.9471,2,    206.5,2,    213.2,2,     0.56,2,     0.04,2,     0.00,2,     0.16,2, -999.000,9, -999.000,9, -999.000,1,-999.0000,1,  -999.00,9,   -999.0,1,-999.000,9,   -999.0,9,   -999.0,9,  -999.00,9,  276.8,-999.0000,-999.000,-999.000, 25.7203,-999.000
   318MWESTW_5,  P21W,   243,  1,     34, SI9441,2,19940611,0148,-18.3695, 168.0555, 4100,     47.2,  25.5732,  35.0164,2,  35.0173,2,    199.8,2,    218.3,2,     0.60,2,     0.04,2,     0.00,2,     0.16,2,    1.754,2,    0.996,2, -999.000,1,-999.0000,1,  -999.00,9,   -999.0,1,-999.000,9,   -999.0,9,   -999.0,9,  -999.00,9,  530.6,-999.0000,-999.000,-999.000, 25.5628,-999.000
   318MWESTW_5,  P21W,   243,  1,     33, SI9433,2,19940611,0148,-18.3695, 168.0555, 4100,     97.7,  24.2532,  35.4178,2,  35.4231,2,    197.7,2,    197.7,2,     0.63,2,     0.20,2,     0.15,2,     0.25,2, -999.000,9, -999.000,9, -999.000,1,-999.0000,1,  -999.00,9,   -999.0,1,-999.000,9,   -999.0,9,   -999.0,9,  -999.00,9, 1033.2,-999.0000,-999.000,-999.000, 24.2324,-999.000
   318MWESTW_5,  P21W,   243,  1,     32, SI9432,2,19940611,0148,-18.3695, 168.0555, 4100,    148.1,  23.3855,  35.9255,2,  35.9259,2,    168.5,2,    171.8,2,     0.94,2,     4.19,2,     0.02,2,     0.51,2,    1.823,2,    0.984,2, -999.000,1,-999.0000,1,  -999.00,9,   -999.0,1,-999.000,9,   -999.0,9,   -999.0,9,  -999.00,9, 1535.0,-999.0000,-999.000,-999.000, 23.3548,-999.000
   318MWESTW_5,  P21W,   243,  1,     31, SI9431,2,19940611,0148,-18.3695, 168.0555, 4100,    199.1,  21.6862,  35.9238,2,  35.9204,2,    154.2,2,    158.0,2,     1.10,2,     5.98,2,     0.01,2,     0.62,2,    1.794,2,    0.961,2, -999.000,1,-999.0000,1,  -999.00,9,   -999.0,1,-999.000,9,   -999.0,9,   -999.0,9,  -999.00,9, 2042.9,-999.0000,-999.000,-999.000, 21.6470,-999.000
   318MWESTW_5,  P21W,   243,  1,     30, SI9440,2,19940611,0148,-18.3695, 168.0555, 4100,    248.5,  19.5583,  35.6859,2,  35.6690,2,    172.3,2,    168.8,2,     1.55,2,     6.15,2,     0.01,2,     0.59,2,    1.816,2,    0.967,2, -999.000,1,-999.0000,1,  -999.00,9,   -999.0,1,-999.000,9,   -999.0,9,   -999.0,9,  -999.00,9, 2534.4,-999.0000,-999.000,-999.000, 19.5128,-999.000
   318MWESTW_5,  P21W,   243,  1,     29, SI9429,2,19940611,0148,-18.3695, 168.0555, 4100,    299.7,  17.1949,  35.4873,2,  35.4770,2,    175.7,2,    174.0,2,     2.27,2,     7.49,2,     0.00,2,     0.66,2,    1.791,2,    0.943,2, -999.000,1,-999.0000,1,  -999.00,9,   -999.0,1,-999.000,9,   -999.0,9,   -999.0,9,  -999.00,9, 3043.6,-999.0000,-999.000,-999.000, 17.1447,-999.000
   318MWESTW_5,  P21W,   243,  1,     28, SI9428,2,19940611,0148,-18.3695, 168.0555, 4100,    381.4,  13.5474,  35.0595,2,  35.0466,2,    167.2,2,    163.8,2,     5.85,2,    13.86,2,     0.00,2,     1.09,2,    1.189,2,    0.611,2, -999.000,1,-999.0000,1,  -999.00,9,   -999.0,1,-999.000,9,   -999.0,9,   -999.0,9,  -999.00,9, 3856.5,-999.0000,-999.000,-999.000, 13.4931,-999.000
   318MWESTW_5,  P21W,   243,  1,     27, SI9424,2,19940611,0148,-18.3695, 168.0555, 4100,    450.1,  10.4951,  34.7392,2,  34.7343,2,    161.3,2,    164.1,2,    10.40,2,    19.95,2,     0.00,2,     1.48,2,    0.736,2,    0.376,2, -999.000,1,-999.0000,1,  -999.00,9,   -999.0,1,-999.000,9,   -999.0,9,   -999.0,9,  -999.00,9, 4539.5,-999.0000,-999.000,-999.000, 10.4408,-999.000
   318MWESTW_5,  P21W,   243,  1,     26, SI9414,2,19940611,0148,-18.3695, 168.0555, 4100,    485.8,   9.6834,  34.6672,2,  34.6598,2,    164.4,2,    165.2,2,    11.94,2,    21.73,2,     0.00,2,     1.59,2,    0.608,2,    0.313,2, -999.000,1,-999.0000,1,  -999.00,9,   -999.0,1,-999.000,9,   -999.0,9,   -999.0,9,  -999.00,9, 4896.0,-999.0000,-999.000,-999.000,  9.6275,-999.000
   318MWESTW_5,  P21W,   243,  1,     25, SI9425,2,19940611,0148,-18.3695, 168.0555, 4100,    595.0,   7.5527,  34.5047,2,  34.5046,2,    176.3,2,    175.9,2,    18.27,2,    25.69,2,     0.00,2,     1.82,2,    0.360,2,    0.186,2, -999.000,1,-999.0000,1,  -999.00,9,   -999.0,1,-999.000,9,   -999.0,9,   -999.0,9,  -999.00,9, 5981.7,-999.0000,-999.000,-999.000,  7.4934,-999.000
   318MWESTW_5,  P21W,   243,  1,     24, SI9434,2,19940611,0148,-18.3695, 168.0555, 4100,    696.6,   6.0373,  34.4245,2,  34.4230,2,    183.3,2,    182.7,2,    26.64,2,    28.62,2,     0.00,2,     1.99,2,    0.178,2,    0.090,2, -999.000,1,-999.0000,1,  -999.00,9,   -999.0,1,-999.000,9,   -999.0,9,   -999.0,9,  -999.00,9, 6991.8,-999.0000,-999.000,-999.000,  5.9754,-999.000
   318MWESTW_5,  P21W,   243,  1,     23, SI9423,2,19940611,0148,-18.3695, 168.0555, 4100,    800.1,   5.1274,  34.4295,2,  34.4265,2,    174.9,2,    174.1,2,    39.52,2,    30.99,2,     0.00,2,     2.15,2,    0.077,2,    0.041,2, -999.000,1,-999.0000,1,  -999.00,9,   -999.0,1,-999.000,9,   -999.0,9,   -999.0,9,  -999.00,9, 8021.4,-999.0000,-999.000,-999.000,  5.0612,-999.000
   318MWESTW_5,  P21W,   243,  1,     22, SI9418,2,19940611,0148,-18.3695, 168.0555, 4100,    901.8,   4.6933,  34.4652,2,  34.4646,2,    167.1,2,    165.0,2,    51.59,2,    32.14,2,     0.00,2,     2.23,2,    0.045,2,    0.020,2, -999.000,1,-999.0000,1,  -999.00,9,   -999.0,1,-999.000,9,   -999.0,9,   -999.0,9,  -999.00,9, 9032.0,-999.0000,-999.000,-999.000,  4.6210,-999.000
   318MWESTW_5,  P21W,   243,  1,     21, SI9421,2,19940611,0148,-18.3695, 168.0555, 4100,    994.3,   4.2838,  34.4816,2,  34.4815,2,    162.9,2,    161.5,2,    60.24,2,    33.04,2,     0.00,2,     2.30,2,    0.021,2,    0.011,2, -999.000,1,-999.0000,1,  -999.00,9,   -999.0,1,-999.000,9,   -999.0,9,   -999.0,9,  -999.00,9, 9951.8,-999.0000,-999.000,-999.000,  4.2065,-999.000
   318MWESTW_5,  P21W,   243,  1,     20, SI9420,2,19940611,0148,-18.3695, 168.0555, 4100,   1096.3,   3.8913,  34.5053,2,  34.5034,2,    161.2,2,    159.2,2,    69.01,2,    33.44,2,     0.00,2,     2.34,2,    0.015,2,    0.005,2, -999.000,1,-999.0000,1,  -999.00,9,   -999.0,1,-999.000,9,   -999.0,9,   -999.0,9,  -999.00,9,10965.8,-999.0000,-999.000,-999.000,  3.8085,-999.000
   318MWESTW_5,  P21W,   243,  1,     19, SI9419,2,19940611,0148,-18.3695, 168.0555, 4100,   1199.8,   3.5457,  34.5324,2,  34.5296,2,    157.2,2,    156.3,2,    78.34,2,    33.93,2,     0.00,2,     2.38,2,    0.008,2,    0.004,2, -999.000,1,-999.0000,1,  -999.00,9,   -999.0,1,-999.000,9,   -999.0,9,   -999.0,9,  -999.00,9,11995.5,-999.0000,-999.000,-999.000,  3.4573,-999.000
   318MWESTW_5,  P21W,   243,  1,     18, SI9439,2,19940611,0148,-18.3695, 168.0555, 4100,   1343.8,   3.2508,  34.5579,2,  34.5567,2,    154.4,2,    152.6,2,    86.99,2,    34.43,2,     0.00,2,     2.40,2,    0.003,2,    0.001,2, -999.000,1,-999.0000,1,  -999.00,9,   -999.0,1,-999.000,9,   -999.0,9,   -999.0,9,  -999.00,9,13426.6,-999.0000,-999.000,-999.000,  3.1533,-999.000
   318MWESTW_5,  P21W,   243,  1,     17, SI9417,2,19940611,0148,-18.3695, 168.0555, 4100,   1498.4,   2.9294,  34.5842,2,  34.5838,2,    151.7,2,    150.2,2,    95.90,2,    34.88,2,     0.00,2,     2.43,2,    0.001,2,   -0.001,2, -999.000,1,-999.0000,1,  -999.00,9,   -999.0,1,-999.000,9,   -999.0,9,   -999.0,9,  -999.00,9,14963.8,-999.0000,-999.000,-999.000,  2.8225,-999.000
   318MWESTW_5,  P21W,   243,  1,     16, SI9416,2,19940611,0148,-18.3695, 168.0555, 4100,   1641.1,   2.7216,  34.6030,2,  34.6030,2,    149.6,2,    148.9,2,   101.40,2,    35.10,2,     0.00,2,     2.45,2, -999.000,9, -999.000,9, -999.000,1,-999.0000,1,  -999.00,9,   -999.0,1,-999.000,9,   -999.0,9,   -999.0,9,  -999.00,9,16382.2,-999.0000,-999.000,-999.000,  2.6053,-999.000
   318MWESTW_5,  P21W,   243,  1,     15, SI9415,2,19940611,0148,-18.3695, 168.0555, 4100,   1796.0,   2.5330,  34.6201,2,  34.6201,2,    148.8,2,    148.9,2,   106.62,2,    35.24,2,     0.00,2,     2.45,2, -999.000,9, -999.000,9, -999.000,1,-999.0000,1,  -999.00,9,   -999.0,1,-999.000,9,   -999.0,9,   -999.0,9,  -999.00,9,17922.6,-999.0000,-999.000,-999.000,  2.4061,-999.000
   318MWESTW_5,  P21W,   243,  1,     14, SI9436,2,19940611,0148,-18.3695, 168.0555, 4100,   1950.7,   2.3911,  34.6325,2,  34.6327,2,    148.7,2,    149.4,2,   110.21,2,    35.33,2,     0.00,2,     2.46,2, -999.000,9, -999.000,9, -999.000,1,-999.0000,1,  -999.00,9,   -999.0,1,-999.000,9,   -999.0,9,   -999.0,9,  -999.00,9,19460.5,-999.0000,-999.000,-999.000,  2.2530,-999.000
   318MWESTW_5,  P21W,   243,  1,     13, SI9413,2,19940611,0148,-18.3695, 168.0555, 4100,   2094.2,   2.2818,  34.6436,2,  34.6433,2,    150.2,2,    150.3,2,   112.43,2,    35.32,2,     0.00,2,     2.46,2, -999.000,9, -999.000,9, -999.000,1,-999.0000,1,  -999.00,9,   -999.0,1,-999.000,9,   -999.0,9,   -999.0,9,  -999.00,9,20887.6,-999.0000,-999.000,-999.000,  2.1329,-999.000
   318MWESTW_5,  P21W,   243,  1,     12, SI9438,2,19940611,0148,-18.3695, 168.0555, 4100,   2247.2,   2.1490,  34.6557,2,  34.6549,2,    150.8,2,    151.5,2,   115.19,2,    35.28,2,     0.01,2,     2.45,2,    0.000,2,   -0.001,2, -999.000,1,-999.0000,1,  -999.00,9,   -999.0,1,-999.000,9,   -999.0,9,   -999.0,9,  -999.00,9,22408.1,-999.0000,-999.000,-999.000,  1.9888,-999.000
   318MWESTW_5,  P21W,   243,  1,     11, SI9411,2,19940611,0148,-18.3695, 168.0555, 4100,   2403.0,   2.0373,  34.6635,2,  34.6625,2,    152.6,2,    153.8,2,   118.22,2,    35.25,2,     0.00,2,     2.46,2, -999.000,9, -999.000,9, -999.000,1,-999.0000,1,  -999.00,9,   -999.0,1,-999.000,9,   -999.0,9,   -999.0,9,  -999.00,9,23957.0,-999.0000,-999.000,-999.000,  1.8651,-999.000
   318MWESTW_5,  P21W,   243,  1,     10, SI9412,2,19940611,0148,-18.3695, 168.0555, 4100,   2600.0,   1.9060,  34.6715,2,  34.6712,2,    152.4,2,    153.8,2,   122.22,2,    35.29,2,     0.01,2,     2.45,2, -999.000,9, -999.000,9, -999.000,1,-999.0000,1,  -999.00,9,   -999.0,1,-999.000,9,   -999.0,9,   -999.0,9,  -999.00,9,25915.7,-999.0000,-999.000,-999.000,  1.7183,-999.000
   318MWESTW_5,  P21W,   243,  1,      9, SI9410,2,19940611,0148,-18.3695, 168.0555, 4100,   2795.3,   1.8497,  34.6763,2,  34.6751,2,    152.8,2,    154.7,2,   124.44,2,    35.25,2,     0.00,2,     2.45,2, -999.000,9, -999.000,9, -999.000,1,-999.0000,1,  -999.00,9,   -999.0,1,-999.000,9,   -999.0,9,   -999.0,9,  -999.00,9,27857.1,-999.0000,-999.000,-999.000,  1.6449,-999.000
   318MWESTW_5,  P21W,   243,  1,      8, SI9422,2,19940611,0148,-18.3695, 168.0555, 4100,   3003.1,   1.8257,  34.6781,2,  34.6775,2,    153.8,2,    154.1,2,   125.42,2,    35.21,2,     0.00,2,     2.44,2,   -0.002,2,    0.000,2, -999.000,1,-999.0000,1,  -999.00,9,   -999.0,1,-999.000,9,   -999.0,9,   -999.0,9,  -999.00,9,29922.9,-999.0000,-999.000,-999.000,  1.6014,-999.000
   318MWESTW_5,  P21W,   243,  1,      7, SI9407,2,19940611,0148,-18.3695, 168.0555, 4100,   3199.8,   1.8112,  34.6792,2,  34.6787,2,    154.2,2,    153.9,2,   126.55,2,    35.26,2,     0.00,2,     2.44,2, -999.000,9, -999.000,9, -999.000,1,-999.0000,1,  -999.00,9,   -999.0,1,-999.000,9,   -999.0,9,   -999.0,9,  -999.00,9,31878.8,-999.0000,-999.000,-999.000,  1.5679,-999.000
   318MWESTW_5,  P21W,   243,  1,      6, SI9427,2,19940611,0148,-18.3695, 168.0555, 4100,   3404.1,   1.8078,  34.6819,2,  34.6802,2,    154.6,2,    154.6,2,   127.12,2,    35.26,2,     0.00,2,     2.44,2, -999.000,9, -999.000,9, -999.000,1,-999.0000,1,  -999.00,9,   -999.0,1,-999.000,9,   -999.0,9,   -999.0,9,  -999.00,9,33909.3,-999.0000,-999.000,-999.000,  1.5438,-999.000
   318MWESTW_5,  P21W,   243,  1,      5, SI9405,2,19940611,0148,-18.3695, 168.0555, 4100,   3601.9,   1.8174,  34.6819,2,  34.6810,2,    155.3,2,    154.8,2,   127.15,2,    35.27,2,     0.00,2,     2.44,2,   -0.002,2,   -0.001,2, -999.000,1,-999.0000,1,  -999.00,9,   -999.0,1,-999.000,9,   -999.0,9,   -999.0,9,  -999.00,9,35876.3,-999.0000,-999.000,-999.000,  1.5326,-999.000
   318MWESTW_5,  P21W,   243,  1,      4, SI9404,2,19940611,0148,-18.3695, 168.0555, 4100,   3798.8,   1.8265,  34.6829,2,  34.6820,2,    156.1,2,    155.6,2,   127.04,2,    35.22,2,     0.00,2,     2.44,2, -999.000,9, -999.000,9, -999.000,1,-999.0000,1,  -999.00,9,   -999.0,1,-999.000,9,   -999.0,9,   -999.0,9,  -999.00,9,37833.9,-999.0000,-999.000,-999.000,  1.5205,-999.000
   318MWESTW_5,  P21W,   243,  1,      3, SI9403,2,19940611,0148,-18.3695, 168.0555, 4100,   3998.3,   1.8383,  34.6834,2,  34.6836,2,    156.8,2,    156.4,2,   126.80,2,    35.18,2,     0.00,2,     2.44,2, -999.000,9, -999.000,9, -999.000,1,-999.0000,1,  -999.00,9,   -999.0,1,-999.000,9,   -999.0,9,   -999.0,9,  -999.00,9,39816.4,-999.0000,-999.000,-999.000,  1.5101,-999.000
   318MWESTW_5,  P21W,   243,  1,      2, SI9437,2,19940611,0148,-18.3695, 168.0555, 4100,   4091.5,   1.8492,  34.6840,2,  34.6836,2,    156.3,2,    156.3,2,   127.10,2,    35.23,2,     0.00,2,     2.44,2, -999.000,9, -999.000,9, -999.000,1,-999.0000,1,  -999.00,9,   -999.0,1,-999.000,9,   -999.0,9,   -999.0,9,  -999.00,9,40743.6,-999.0000,-999.000,-999.000,  1.5103,-999.000
   318MWESTW_5,  P21W,   243,  1,      1, SI9401,2,19940611,0148,-18.3695, 168.0555, 4100,   4132.4,   1.8539,  34.6835,2,  34.6832,2,    156.4,2,    157.0,2,   126.93,2,    35.13,2,     0.00,2,     2.45,2, -999.000,9, -999.000,9, -999.000,1,-999.0000,1,  -999.00,9,   -999.0,1,-999.000,9,   -999.0,9,   -999.0,9,  -999.00,9,41149.9,-999.0000,-999.000,-999.000,  1.5103,-999.000