BOTTLE,20010911WHPSIOdm
EXPOCODE,SECT_ID,STNNBR,CASTNO,SAMPNO,BTLNBR,BTLNBR_FLAG_W,DATE,TIME,LATITUDE,LONGITUDE,DEPTH,CTDPRS,CTDTMP,CTDSAL,CTDSAL_FLAG_W,SALNTY,SALNTY_FLAG_W,CTDOXY,CTDOXY_FLAG_W,OXYGEN,OXYGEN_FLAG_W,SILCAT,SILCAT_FLAG_W,NITRAT,NITRAT_FLAG_W,NITRIT,NITRIT_FLAG_W,PHSPHT,PHSPHT_FLAG_W,CFC-11,CFC-11_FLAG_W,CFC-12,CFC-12_FLAG_W,TRITUM,TRITUM_FLAG_W,HELIUM,HELIUM_FLAG_W,DELHE3,DELHE3_FLAG_W,DELC14,DELC14_FLAG_W,NEON,NEON_FLAG_W,TCARBN,TCARBN_FLAG_W,ALKALI,ALKALI_FLAG_W,PH,PH_FLAG_W,CTDRAW,HELIER,DELHER,NEONER,THETA,TRITER
,,,,,,,,,,,,DBAR,ITS-90,PSS-78,,PSS-78,,UMOL/KG,,UMOL/KG,,UMOL/KG,,UMOL/KG,,UMOL/KG,,UMOL/KG,,PMOL/KG,,PMOL/KG,,TU,,UMOL/KG,,PERCNT,,/MILLE,,NMOL/KG,,UMOL/KG,,UMOL/KG,,,,,NMOL/KG,PERCNT,NMOL/KG,ITS-90,TU
   318MWESTW_5,  P21W,   194,  1,     36, SI9442,2,19940530,1041,-17.5000,-169.0000, 5330,     12.4,  26.6300,  35.3390,2,  35.3382,2,    211.6,2,    216.6,2,     0.80,2,     0.01,2,     0.00,2,     0.12,2,    1.706,2,    0.968,2,    0.945,2,   1.7244,2,    -1.21,2,   -999.0,1,-999.000,9,   -999.0,9,   -999.0,9,  -999.00,9,  182.3,  0.0086,   0.080,  -0.045, 26.6272,   0.008
   318MWESTW_5,  P21W,   194,  1,     35, SI9435,2,19940530,1041,-17.5000,-169.0000, 5330,     22.6,  26.6421,  35.3379,2,  35.3368,2,    211.4,2,    214.8,2,     0.81,2,     0.00,2,     0.00,2,     0.13,2,    1.691,2,    0.958,2, -999.000,1,-999.0000,1,  -999.00,9,   -999.0,1,-999.000,9,   -999.0,9,   -999.0,9,  -999.00,9,  284.2,-999.0000,-999.000,-999.000, 26.6370,-999.000
   318MWESTW_5,  P21W,   194,  1,     34, SI9441,2,19940530,1041,-17.5000,-169.0000, 5330,     46.7,  26.6454,  35.3372,2,  35.3372,2,    212.6,2,    219.1,2,     0.83,2,     0.06,2,     0.00,2,     0.14,2,    1.725,2,    0.969,2,    0.919,2,   1.7052,2,    -0.94,2,   -999.0,1,-999.000,9,   -999.0,9,   -999.0,9,  -999.00,9,  524.8,  0.0085,   0.080,  -0.045, 26.6348,   0.008
   318MWESTW_5,  P21W,   194,  1,     33, SI9433,2,19940530,1041,-17.5000,-169.0000, 5330,     96.1,  24.0207,  35.7668,2,  35.7608,2,    221.1,2,    204.5,2,     0.68,2,     0.02,2,     0.00,2,     0.21,2,    1.881,2,    1.048,2,    0.876,2,-999.0000,1,  -999.00,9,   -999.0,1,-999.000,9,   -999.0,9,   -999.0,9,  -999.00,9, 1016.5,-999.0000,-999.000,-999.000, 24.0004,   0.007
   318MWESTW_5,  P21W,   194,  1,     32, SI9432,2,19940530,1041,-17.5000,-169.0000, 5330,    147.3,  22.1779,  35.7993,2,  35.7979,2,    196.9,2,    191.5,2,     0.69,2,     1.64,2,     0.00,2,     0.31,2,    1.964,2,    1.064,2,    0.814,2,   1.7413,2,    -0.65,2,   -999.0,1,-999.000,9,   -999.0,9,   -999.0,9,  -999.00,9, 1527.4,  0.0087,   0.080,  -0.045, 22.1485,   0.007
   318MWESTW_5,  P21W,   194,  1,     31, SI9431,2,19940530,1041,-17.5000,-169.0000, 5330,    189.9,  20.8941,  35.7485,2,  35.7493,2,    195.6,2,    189.5,2,     0.70,2,     1.85,2,     0.00,2,     0.30,2,    2.037,2,    1.092,2, -999.000,1,   1.7407,2,    -0.69,2,   -999.0,1,   6.926,2,   -999.0,9,   -999.0,9,  -999.00,9, 1951.5,  0.0087,   0.080,   0.035, 20.8577,-999.000
   318MWESTW_5,  P21W,   194,  1,     30, SI9440,2,19940530,1041,-17.5000,-169.0000, 5330,    244.4,  19.1090,  35.6216,2,  35.6194,2,    187.8,2,    185.7,2,     1.03,2,     3.34,2,     0.00,2,     0.40,2,    1.986,2,    1.054,2,    0.796,2,   1.7601,2,    -0.04,2,   -999.0,1,   7.298,2,   -999.0,9,   -999.0,9,  -999.00,9, 2493.9,  0.0088,   0.080,   0.036, 19.0650,   0.007
   318MWESTW_5,  P21W,   194,  1,     29, SI9429,2,19940530,1041,-17.5000,-169.0000, 5330,    296.4,  17.4409,  35.4712,2,  35.4683,2,    185.4,2,    187.1,2,     1.50,2,     4.85,2,     0.00,2,     0.50,2,    1.892,2,    0.994,2,    0.710,2,   1.7595,2,     0.53,2,   -999.0,1,   7.436,2,   -999.0,9,   -999.0,9,  -999.00,9, 3011.1,  0.0088,   0.080,   0.037, 17.3908,   0.007
   318MWESTW_5,  P21W,   194,  1,     28, SI9428,2,19940530,1041,-17.5000,-169.0000, 5330,    345.7,  15.1661,  35.2142,2,  35.2121,2,    169.1,2,    178.5,2,     3.09,2,     8.92,2,     0.00,2,     0.80,2,    1.562,2,    0.817,2, -999.000,1,-999.0000,1,  -999.00,9,   -999.0,1,-999.000,9,   -999.0,9,   -999.0,9,  -999.00,9, 3502.5,-999.0000,-999.000,-999.000, 15.1130,-999.000
   318MWESTW_5,  P21W,   194,  1,     27, SI9424,2,19940530,1041,-17.5000,-169.0000, 5330,    398.1,  12.4393,  34.8796,2,  34.8766,2,    142.7,2,    148.9,2,     8.11,2,    16.64,2,     0.00,2,     1.37,2,    0.934,2,    0.485,2,    0.357,2,   1.7871,2,     1.70,2,   -999.0,1,   7.710,2,   -999.0,9,   -999.0,9,  -999.00,9, 4023.4,  0.0089,   0.080,   0.039, 12.3858,   0.005
   318MWESTW_5,  P21W,   194,  1,     26, SI9414,2,19940530,1041,-17.5000,-169.0000, 5330,    486.7,   8.8374,  34.5544,2,  34.5504,2,    148.9,2,    150.9,2,    15.49,2,    24.68,2,     0.00,2,     1.84,2,    0.366,2,    0.194,2,    0.145,2,   1.8117,2,     2.50,2,   -999.0,1,   7.765,2,   -999.0,9,   -999.0,9,  -999.00,9, 4904.9,  0.0091,   0.080,   0.039,  8.7845,   0.004
   318MWESTW_5,  P21W,   194,  1,     25, SI9425,2,19940530,1041,-17.5000,-169.0000, 5330,    607.0,   6.1135,  34.4058,2,  34.4031,2,    172.1,2,    176.1,2,    24.13,2,    29.17,2,     0.00,2,     2.06,2,    0.112,6,    0.069,6,    0.036,2,   1.8055,2,     4.12,2,   -999.0,1,   7.767,2,   -999.0,9,   -999.0,9,  -999.00,9, 6100.5,  0.0090,   0.090,   0.039,  6.0596,   0.004
   318MWESTW_5,  P21W,   194,  1,     24, SI9434,2,19940530,1041,-17.5000,-169.0000, 5330,    649.7,   5.7555,  34.4009,2,  34.4008,2,    174.9,2,    173.7,2,    28.07,2,    30.19,2,     0.00,2,     2.11,2,    0.071,2,    0.045,2, -999.000,1,-999.0000,1,  -999.00,9,   -999.0,1,-999.000,9,   -999.0,9,   -999.0,9,  -999.00,9, 6526.0,-999.0000,-999.000,-999.000,  5.6994,-999.000
   318MWESTW_5,  P21W,   194,  1,     23, SI9423,2,19940530,1041,-17.5000,-169.0000, 5330,    699.5,   5.2891,  34.3976,2,  34.3968,2,    175.3,2,    171.4,2,    33.41,2,    31.24,2,     0.00,2,     2.19,2,    0.042,2,    0.027,2,    0.018,2,   1.8169,2,     6.23,2,   -999.0,1,   7.800,2,   -999.0,9,   -999.0,9,  -999.00,9, 7021.2,  0.0091,   0.090,   0.039,  5.2309,   0.004
   318MWESTW_5,  P21W,   194,  1,     22, SI9418,2,19940530,1041,-17.5000,-169.0000, 5330,    751.5,   4.8675,  34.4025,2,  34.4021,2,    170.9,2,    168.9,2,    39.06,2,    32.17,2,     0.00,2,     2.24,2,    0.023,2,    0.017,2, -999.000,1,-999.0000,1,  -999.00,9,   -999.0,1,-999.000,9,   -999.0,9,   -999.0,9,  -999.00,9, 7537.5,-999.0000,-999.000,-999.000,  4.8071,-999.000
   318MWESTW_5,  P21W,   194,  1,     21, SI9421,2,19940530,1041,-17.5000,-169.0000, 5330,    796.9,   4.4971,  34.4183,2,  34.4163,2,    169.5,2,    165.7,2,    45.65,2,    32.98,2,     0.00,2,     2.31,2,    0.012,2,    0.009,2,    0.007,2,   1.8299,2,     9.10,2,   -999.0,1,   7.846,2,   -999.0,9,   -999.0,9,  -999.00,9, 7989.6,  0.0091,   0.090,   0.039,  4.4351,   0.004
   318MWESTW_5,  P21W,   194,  1,     20, SI9420,2,19940530,1041,-17.5000,-169.0000, 5330,    898.5,   3.9632,  34.4621,2,  34.4624,2,    160.8,2,    157.6,2,    59.78,2,    34.12,2,     0.00,2,     2.38,2,    0.003,2,    0.001,2,   -0.002,2,   1.8676,2,    13.74,2,   -999.0,1,   7.960,2,   -999.0,9,   -999.0,9,  -999.00,9, 8999.2,  0.0093,   0.090,   0.040,  3.8962,   0.004
   318MWESTW_5,  P21W,   194,  1,     19, SI9419,2,19940530,1041,-17.5000,-169.0000, 5330,    997.8,   3.6420,  34.4947,2,  34.4946,2,    152.1,2,    153.0,2,    70.13,2,    34.72,2,     0.00,2,     2.43,2,    0.002,2,    0.000,2,   -0.006,2,   1.8802,2,    17.09,2,   -999.0,1,   7.992,2,   -999.0,9,   -999.0,9,  -999.00,9, 9986.5,  0.0094,   0.100,   0.040,  3.5693,   0.004
   318MWESTW_5,  P21W,   194,  1,     18, SI9439,2,19940530,1041,-17.5000,-169.0000, 5330,   1103.1,   3.3897,  34.5230,2,  34.5227,2,    148.6,2,    149.1,2,    78.45,2,    35.09,2,     0.00,2,     2.47,2, -999.000,9, -999.000,9, -999.000,1,-999.0000,1,  -999.00,9,   -999.0,1,-999.000,9,   -999.0,9,   -999.0,9,  -999.00,9,11034.1,-999.0000,-999.000,-999.000,  3.3105,-999.000
   318MWESTW_5,  P21W,   194,  1,     17, SI9417,2,19940530,1041,-17.5000,-169.0000, 5330,   1201.1,   3.1457,  34.5462,2,  34.5455,2,    147.3,2,    147.0,2,    85.98,2,    35.34,2,     0.00,2,     2.47,2, -999.000,9, -999.000,9, -999.000,1,   1.8732,2,    21.76,2,   -999.0,1,   7.959,2,   -999.0,9,   -999.0,9,  -999.00,9,12008.0,  0.0094,   0.100,   0.040,  3.0608,-999.000
   318MWESTW_5,  P21W,   194,  1,     16, SI9416,2,19940530,1041,-17.5000,-169.0000, 5330,   1364.3,   2.8838,  34.5709,2,  34.5720,2,    145.4,2,    145.6,2,    94.47,2,    35.58,2,     0.00,2,     2.49,2, -999.000,9, -999.000,9, -999.000,1,-999.0000,1,  -999.00,9,   -999.0,1,-999.000,9,   -999.0,9,   -999.0,9,  -999.00,9,13630.9,-999.0000,-999.000,-999.000,  2.7884,-999.000
   318MWESTW_5,  P21W,   194,  1,     15, SI9415,2,19940530,1041,-17.5000,-169.0000, 5330,   1560.7,   2.6160,  34.5953,2,  34.5973,2,    145.5,2,    146.1,2,   103.09,2,    35.63,2,     0.00,2,     2.50,2,    0.000,2,    0.002,2,   -0.007,2,   1.9049,2,    27.99,2,   -999.0,1,   8.051,2,   -999.0,9,   -999.0,9,  -999.00,9,15583.3,  0.0095,   0.100,   0.040,  2.5076,   0.004
   318MWESTW_5,  P21W,   194,  1,     14, SI9436,2,19940530,1041,-17.5000,-169.0000, 5330,   1847.6,   2.3335,  34.6209,2,  34.6221,2,    145.9,2,    146.8,2,   112.35,2,    35.63,2,     0.00,2,     2.51,2, -999.000,9, -999.000,9, -999.000,1,-999.0000,1,  -999.00,9,   -999.0,1,-999.000,9,   -999.0,9,   -999.0,9,  -999.00,9,18435.6,-999.0000,-999.000,-999.000,  2.2050,-999.000
   318MWESTW_5,  P21W,   194,  1,     13, SI9413,2,19940530,1041,-17.5000,-169.0000, 5330,   2158.2,   2.0818,  34.6420,2,  34.6421,2,    148.2,2,    148.9,2,   119.41,2,    35.68,2,     0.00,2,     2.51,2, -999.000,9, -999.000,9, -999.000,1,-999.0000,1,  -999.00,9,   -999.0,1,-999.000,9,   -999.0,9,   -999.0,9,  -999.00,9,21523.2,-999.0000,-999.000,-999.000,  1.9305,-999.000
   318MWESTW_5,  P21W,   194,  1,     12, SI9438,2,19940530,1041,-17.5000,-169.0000, 5330,   2455.5,   1.9348,  34.6540,2,  34.6557,2,    149.8,2,    150.3,2,   124.44,2,    35.64,2,     0.00,2,     2.49,2, -999.000,9, -999.000,9, -999.000,1,-999.0000,1,  -999.00,9,   -999.0,1,-999.000,9,   -999.0,9,   -999.0,9,  -999.00,9,24479.1,-999.0000,-999.000,-999.000,  1.7598,-999.000
   318MWESTW_5,  P21W,   194,  1,     11, SI9411,2,19940530,1041,-17.5000,-169.0000, 5330,   2763.1,   1.8243,  34.6639,2,  34.6651,2,    151.0,2,    151.7,2,   128.84,2,    35.52,2,     0.00,2,     2.48,2,    0.000,2,   -0.001,2, -999.000,1,-999.0000,1,  -999.00,9,   -999.0,1,-999.000,9,   -999.0,9,   -999.0,9,  -999.00,9,27537.7,-999.0000,-999.000,-999.000,  1.6231,-999.000
   318MWESTW_5,  P21W,   194,  1,     10, SI9412,2,19940530,1041,-17.5000,-169.0000, 5330,   3067.7,   1.7197,  34.6729,2,  34.6739,2,    156.1,2,    156.2,2,   129.95,2,    35.24,2,     0.00,2,     2.46,2, -999.000,9, -999.000,9, -999.000,1,-999.0000,1,  -999.00,9,   -999.0,1,-999.000,9,   -999.0,9,   -999.0,9,  -999.00,9,30565.5,-999.0000,-999.000,-999.000,  1.4915,-999.000
   318MWESTW_5,  P21W,   194,  1,      9, SI9410,2,19940530,1041,-17.5000,-169.0000, 5330,   3364.6,   1.6318,  34.6795,2,  34.6800,2,    161.1,2,    160.8,2,   130.90,2,    34.92,2,     0.00,2,     2.44,2, -999.000,9, -999.000,9, -999.000,1,-999.0000,1,  -999.00,9,   -999.0,1,-999.000,9,   -999.0,9,   -999.0,9,  -999.00,9,33517.8,-999.0000,-999.000,-999.000,  1.3762,-999.000
   318MWESTW_5,  P21W,   194,  1,      8, SI9422,2,19940530,1041,-17.5000,-169.0000, 5330,   3666.4,   1.5365,  34.6879,2,  34.6881,2,    166.8,2,    166.8,2,   129.65,2,    34.48,2,     0.00,2,     2.40,2,    0.001,2,   -0.001,2, -999.000,1,-999.0000,1,  -999.00,9,   -999.0,1,-999.000,9,   -999.0,9,   -999.0,9,  -999.00,9,36517.3,-999.0000,-999.000,-999.000,  1.2522,-999.000
   318MWESTW_5,  P21W,   194,  1,      7, SI9407,2,19940530,1041,-17.5000,-169.0000, 5330,   3955.9,   1.3912,  34.7048,2,  34.7058,2,    186.8,2,    188.1,2,   119.48,2,    32.79,2,     0.00,2,     2.29,2, -999.000,9, -999.000,9, -999.000,1,-999.0000,1,  -999.00,9,   -999.0,1,-999.000,9,   -999.0,9,   -999.0,9,  -999.00,9,39395.4,-999.0000,-999.000,-999.000,  1.0800,-999.000
   318MWESTW_5,  P21W,   194,  1,      6, SI9427,2,19940530,1041,-17.5000,-169.0000, 5330,   4265.4,   1.1730,  34.7135,2,  34.7132,2,    201.1,2,    203.6,2,   115.88,2,    31.86,2,     0.00,2,     2.22,2, -999.000,9, -999.000,9, -999.000,1,-999.0000,1,  -999.00,9,   -999.0,1,-999.000,9,   -999.0,9,   -999.0,9,  -999.00,9,42472.9,-999.0000,-999.000,-999.000,  0.8343,-999.000
   318MWESTW_5,  P21W,   194,  1,      5, SI9405,2,19940530,1041,-17.5000,-169.0000, 5330,   4573.1,   1.0737,  34.7108,2,  34.7121,2,    205.2,2,    207.2,2,   118.39,2,    31.82,2,     0.00,2,     2.21,2, -999.000,9, -999.000,9, -999.000,1,-999.0000,1,  -999.00,9,   -999.0,1,-999.000,9,   -999.0,9,   -999.0,9,  -999.00,9,45531.8,-999.0000,-999.000,-999.000,  0.7035,-999.000
   318MWESTW_5,  P21W,   194,  1,      4, SI9404,2,19940530,1041,-17.5000,-169.0000, 5330,   4875.0,   1.0662,  34.7097,2,  34.7107,2,    206.6,2,    208.0,2,   119.19,2,    31.82,2,     0.01,2,     2.22,2, -999.000,9, -999.000,9, -999.000,1,-999.0000,1,  -999.00,9,   -999.0,1,-999.000,9,   -999.0,9,   -999.0,9,  -999.00,9,48533.0,-999.0000,-999.000,-999.000,  0.6613,-999.000
   318MWESTW_5,  P21W,   194,  1,      3, SI9403,2,19940530,1041,-17.5000,-169.0000, 5330,   5167.0,   1.0787,  34.7087,2,  34.7107,2,    208.9,2,    208.7,2,   119.99,2,    31.79,2,     0.00,2,     2.21,2,    0.004,2,    0.002,2, -999.000,1,-999.0000,1,  -999.00,9,   -999.0,1,-999.000,9,   -999.0,9,   -999.0,9,  -999.00,9,51435.6,-999.0000,-999.000,-999.000,  0.6385,-999.000
   318MWESTW_5,  P21W,   194,  1,      2, SI9437,2,19940530,1041,-17.5000,-169.0000, 5330,   5418.4,   1.1054,  34.7084,2,  34.7097,2,    209.0,2,    209.3,2,   120.15,2,    31.88,2,     0.00,2,     2.21,2, -999.000,9, -999.000,9, -999.000,1,-999.0000,1,  -999.00,9,   -999.0,1,-999.000,9,   -999.0,9,   -999.0,9,  -999.00,9,53935.3,-999.0000,-999.000,-999.000,  0.6333,-999.000
   318MWESTW_5,  P21W,   194,  1,      1, SI9401,2,19940530,1041,-17.5000,-169.0000, 5330,   5438.4,   1.1082,  34.7086,2,  34.7091,2,    208.7,2,    209.4,2,   119.93,2,    31.90,2,     0.00,2,     2.21,2,    0.003,2,    0.003,2, -999.000,1,-999.0000,1,  -999.00,9,   -999.0,1,-999.000,9,   -999.0,9,   -999.0,9,  -999.00,9,54134.5,-999.0000,-999.000,-999.000,  0.6335,-999.000