BOTTLE,20010911WHPSIOdm
EXPOCODE,SECT_ID,STNNBR,CASTNO,SAMPNO,BTLNBR,BTLNBR_FLAG_W,DATE,TIME,LATITUDE,LONGITUDE,DEPTH,CTDPRS,CTDTMP,CTDSAL,CTDSAL_FLAG_W,SALNTY,SALNTY_FLAG_W,CTDOXY,CTDOXY_FLAG_W,OXYGEN,OXYGEN_FLAG_W,SILCAT,SILCAT_FLAG_W,NITRAT,NITRAT_FLAG_W,NITRIT,NITRIT_FLAG_W,PHSPHT,PHSPHT_FLAG_W,CFC-11,CFC-11_FLAG_W,CFC-12,CFC-12_FLAG_W,TRITUM,TRITUM_FLAG_W,HELIUM,HELIUM_FLAG_W,DELHE3,DELHE3_FLAG_W,DELC14,DELC14_FLAG_W,NEON,NEON_FLAG_W,TCARBN,TCARBN_FLAG_W,ALKALI,ALKALI_FLAG_W,PH,PH_FLAG_W,CTDRAW,HELIER,DELHER,NEONER,THETA,TRITER
,,,,,,,,,,,,DBAR,ITS-90,PSS-78,,PSS-78,,UMOL/KG,,UMOL/KG,,UMOL/KG,,UMOL/KG,,UMOL/KG,,UMOL/KG,,PMOL/KG,,PMOL/KG,,TU,,UMOL/KG,,PERCNT,,/MILLE,,NMOL/KG,,UMOL/KG,,UMOL/KG,,,,,NMOL/KG,PERCNT,NMOL/KG,ITS-90,TU
   318MWESTW_5,  P21W,   174,  1,     36, SI9442,2,19940524,0617,-17.5000,-155.6667, 4790,      8.1,  27.2666,  35.6442,2,  35.6443,2,    206.4,2,    213.0,2,     0.53,2,     0.04,2,     0.01,2,     0.15,2,    1.678,2,    0.962,2, -999.000,1,-999.0000,1,  -999.00,9,   -999.0,1,-999.000,9,   -999.0,9,   -999.0,9,  -999.00,9,  138.4,-999.0000,-999.000,-999.000, 27.2647,-999.000
   318MWESTW_5,  P21W,   174,  1,     35, SI9435,2,19940524,0617,-17.5000,-155.6667, 4790,     17.5,  27.2684,  35.6441,2,  35.6435,2,    203.4,2,    217.1,2,     0.53,2,    -0.01,2,     0.01,2,     0.16,2,    1.699,2,    0.970,2, -999.000,1,-999.0000,1,  -999.00,9,   -999.0,1,-999.000,9,   -999.0,9,   -999.0,9,  -999.00,9,  232.3,-999.0000,-999.000,-999.000, 27.2643,-999.000
   318MWESTW_5,  P21W,   174,  1,     34, SI9441,2,19940524,0617,-17.5000,-155.6667, 4790,     43.0,  27.1835,  35.7304,2,  35.7254,2,    210.3,2,    218.5,2,     0.53,2,     0.06,2,     0.01,2,     0.16,2,    1.757,2,    1.046,2, -999.000,1,-999.0000,1,  -999.00,9,   -999.0,1,-999.000,9,   -999.0,9,   -999.0,9,  -999.00,9,  486.5,-999.0000,-999.000,-999.000, 27.1736,-999.000
   318MWESTW_5,  P21W,   174,  1,     33, SI9433,2,19940524,0617,-17.5000,-155.6667, 4790,     93.6,  24.2926,  35.9566,2,  35.9538,2,    207.0,2,    214.6,2,     0.53,2,     0.00,2,     0.01,2,     0.18,2,    1.922,2,    1.058,2, -999.000,1,-999.0000,1,  -999.00,9,   -999.0,1,-999.000,9,   -999.0,9,   -999.0,9,  -999.00,9,  990.9,-999.0000,-999.000,-999.000, 24.2726,-999.000
   318MWESTW_5,  P21W,   174,  1,     32, SI9432,2,19940524,0617,-17.5000,-155.6667, 4790,    144.5,  22.7148,  35.9090,2,  35.9080,2,    197.3,2,    205.8,2,     0.53,2,     0.06,2,     0.03,2,     0.20,2,    2.041,2,    1.145,2, -999.000,1,-999.0000,1,  -999.00,9,   -999.0,1,-999.000,9,   -999.0,9,   -999.0,9,  -999.00,9, 1498.1,-999.0000,-999.000,-999.000, 22.6854,-999.000
   318MWESTW_5,  P21W,   174,  1,     31, SI9431,2,19940524,0617,-17.5000,-155.6667, 4790,    194.1,  21.2148,  35.8028,2,  35.7983,2,    189.9,2,    192.2,2,     0.53,2,     1.67,2,     0.02,2,     0.30,2,    2.049,2,    1.132,2, -999.000,1,-999.0000,1,  -999.00,9,   -999.0,1,-999.000,9,   -999.0,9,   -999.0,9,  -999.00,9, 1992.3,-999.0000,-999.000,-999.000, 21.1772,-999.000
   318MWESTW_5,  P21W,   174,  1,     30, SI9440,2,19940524,0617,-17.5000,-155.6667, 4790,    246.0,  19.1557,  35.6138,2,  35.6123,2,    189.7,2,    190.3,2,     0.82,2,     2.95,2,     0.03,2,     0.38,2,    2.035,2,    1.080,2, -999.000,1,-999.0000,1,  -999.00,9,   -999.0,1,-999.000,9,   -999.0,9,   -999.0,9,  -999.00,9, 2508.3,-999.0000,-999.000,-999.000, 19.1114,-999.000
   318MWESTW_5,  P21W,   174,  1,     29, SI9429,2,19940524,0617,-17.5000,-155.6667, 4790,    314.0,  16.5728,  35.3423,2,  35.3382,2,    195.0,2,    186.1,2,     1.56,2,     6.02,2,     0.01,2,     0.59,2,    1.838,2,    0.984,2, -999.000,1,-999.0000,1,  -999.00,9,   -999.0,1,-999.000,9,   -999.0,9,   -999.0,9,  -999.00,9, 3185.6,-999.0000,-999.000,-999.000, 16.5216,-999.000
   318MWESTW_5,  P21W,   174,  1,     28, SI9428,2,19940524,0617,-17.5000,-155.6667, 4790,    396.8,  12.4011,  34.8572,2,  34.8522,2,    180.7,3,    159.3,2,     7.19,2,    16.04,2,     0.01,2,     1.29,2,    1.029,2,    0.546,2, -999.000,1,-999.0000,1,  -999.00,9,   -999.0,1,-999.000,9,   -999.0,9,   -999.0,9,  -999.00,9, 4010.2,-999.0000,-999.000,-999.000, 12.3479,-999.000
   318MWESTW_5,  P21W,   174,  1,     27, SI9424,2,19940524,0617,-17.5000,-155.6667, 4790,    494.9,   8.7705,  34.5391,2,  34.5372,2,    162.9,2,    158.9,2,    13.71,2,    24.23,2,     0.00,2,     1.77,2,    0.502,6,    0.266,6, -999.000,1,-999.0000,1,  -999.00,9,   -999.0,1,-999.000,9,   -999.0,9,   -999.0,9,  -999.00,9, 4985.0,-999.0000,-999.000,-999.000,  8.7170,-999.000
   318MWESTW_5,  P21W,   174,  1,     26, SI9414,2,19940524,0617,-17.5000,-155.6667, 4790,    596.1,   6.6530,  34.4239,2,  34.4243,2,    168.0,2,    167.6,2,    22.03,2,    28.86,2,     0.00,2,     2.03,2,    0.190,2,    0.112,2, -999.000,1,-999.0000,1,  -999.00,9,   -999.0,1,-999.000,9,   -999.0,9,   -999.0,9,  -999.00,9, 5992.2,-999.0000,-999.000,-999.000,  6.5976,-999.000
   318MWESTW_5,  P21W,   174,  1,     25, SI9425,2,19940524,0617,-17.5000,-155.6667, 4790,    697.7,   5.5916,  34.4131,2,  34.4129,2,    165.8,2,    163.9,2,    32.70,2,    31.55,2,     0.00,2,     2.19,2, -999.000,9, -999.000,9, -999.000,1,-999.0000,1,  -999.00,9,   -999.0,1,-999.000,9,   -999.0,9,   -999.0,9,  -999.00,9, 7001.5,-999.0000,-999.000,-999.000,  5.5319,-999.000
   318MWESTW_5,  P21W,   174,  1,     24, SI9434,2,19940524,0617,-17.5000,-155.6667, 4790,    800.5,   4.8498,  34.4404,2,  34.4404,2,    157.3,2,    155.6,2,    46.04,2,    33.45,2,     0.01,2,     2.32,2,    0.036,6,    0.024,6, -999.000,1,-999.0000,1,  -999.00,9,   -999.0,1,-999.000,9,   -999.0,9,   -999.0,9,  -999.00,9, 8024.4,-999.0000,-999.000,-999.000,  4.7853,-999.000
   318MWESTW_5,  P21W,   174,  1,     23, SI9423,2,19940524,0617,-17.5000,-155.6667, 4790,    902.6,   4.2517,  34.4678,2,  34.4667,2,    153.1,2,    152.8,2,    58.05,2,    34.48,2,     0.01,2,     2.39,2,    0.003,2,    0.004,2, -999.000,1,-999.0000,1,  -999.00,9,   -999.0,1,-999.000,9,   -999.0,9,   -999.0,9,  -999.00,9, 9039.5,-999.0000,-999.000,-999.000,  4.1824,-999.000
   318MWESTW_5,  P21W,   174,  1,     22, SI9418,2,19940524,0617,-17.5000,-155.6667, 4790,    999.2,   3.9014,  34.4927,2,  34.4946,2,    150.1,2,    149.4,2,    67.54,2,    35.10,2,     0.00,2,     2.42,2,    0.001,2,    0.001,2, -999.000,1,-999.0000,1,  -999.00,9,   -999.0,1,-999.000,9,   -999.0,9,   -999.0,9,  -999.00,9, 9999.7,-999.0000,-999.000,-999.000,  3.8266,-999.000
   318MWESTW_5,  P21W,   174,  1,     21, SI9421,2,19940524,0617,-17.5000,-155.6667, 4790,   1104.0,   3.5200,  34.5225,2,  34.5223,2,    147.8,2,    146.7,2,    77.47,2,    35.53,2,     0.01,2,     2.46,2,    0.001,2,    0.002,2, -999.000,1,-999.0000,1,  -999.00,9,   -999.0,1,-999.000,9,   -999.0,9,   -999.0,9,  -999.00,9,11042.1,-999.0000,-999.000,-999.000,  3.4397,-999.000
   318MWESTW_5,  P21W,   174,  1,     20, SI9420,2,19940524,0617,-17.5000,-155.6667, 4790,   1237.6,   3.2131,  34.5436,2,  34.5437,2,    146.4,2,    146.7,2,    84.88,2,    35.61,2,     0.01,2,     2.48,2,    0.001,2,    0.002,2, -999.000,1,-999.0000,1,  -999.00,9,   -999.0,1,-999.000,9,   -999.0,9,   -999.0,9,  -999.00,9,12370.3,-999.0000,-999.000,-999.000,  3.1247,-999.000
   318MWESTW_5,  P21W,   174,  1,     19, SI9419,2,19940524,0617,-17.5000,-155.6667, 4790,   1400.7,   2.8712,  34.5721,2,  34.5722,2,    147.4,2,    146.4,2,    94.66,2,    35.79,2,     0.00,2,     2.48,2,    0.000,2,    0.000,2, -999.000,1,-999.0000,1,  -999.00,9,   -999.0,1,-999.000,9,   -999.0,9,   -999.0,9,  -999.00,9,13991.1,-999.0000,-999.000,-999.000,  2.7730,-999.000
   318MWESTW_5,  P21W,   174,  1,     18, SI9439,2,19940524,0617,-17.5000,-155.6667, 4790,   1601.6,   2.5921,  34.5959,2,  34.5971,2,    147.7,2,    146.9,2,   102.81,2,    35.81,2,     0.00,2,     2.48,2, -999.000,9, -999.000,9, -999.000,1,-999.0000,1,  -999.00,9,   -999.0,1,-999.000,9,   -999.0,9,   -999.0,9,  -999.00,9,15988.8,-999.0000,-999.000,-999.000,  2.4807,-999.000
   318MWESTW_5,  P21W,   174,  1,     17, SI9417,2,19940524,0617,-17.5000,-155.6667, 4790,   1803.0,   2.3554,  34.6157,2,  34.6158,2,    149.3,2,    149.0,2,   109.33,2,    35.80,2,     0.00,2,     2.47,2, -999.000,9, -999.000,9, -999.000,1,-999.0000,1,  -999.00,9,   -999.0,1,-999.000,9,   -999.0,9,   -999.0,9,  -999.00,9,17991.3,-999.0000,-999.000,-999.000,  2.2303,-999.000
   318MWESTW_5,  P21W,   174,  1,     16, SI9416,2,19940524,0617,-17.5000,-155.6667, 4790,   2003.0,   2.1909,  34.6303,2,  34.6315,2,    150.4,2,    151.4,2,   113.78,2,    35.77,2,     0.01,2,     2.47,2, -999.000,9, -999.000,9, -999.000,1,-999.0000,1,  -999.00,9,   -999.0,1,-999.000,9,   -999.0,9,   -999.0,9,  -999.00,9,19979.2,-999.0000,-999.000,-999.000,  2.0513,-999.000
   318MWESTW_5,  P21W,   174,  1,     15, SI9415,2,19940524,0617,-17.5000,-155.6667, 4790,   2204.5,   2.0617,  34.6427,2,  34.6435,2,    153.8,2,    152.4,2,   117.49,2,    35.72,2,     0.01,2,     2.46,2, -999.000,9, -999.000,9, -999.000,1,-999.0000,1,  -999.00,9,   -999.0,1,-999.000,9,   -999.0,9,   -999.0,9,  -999.00,9,21982.8,-999.0000,-999.000,-999.000,  1.9067,-999.000
   318MWESTW_5,  P21W,   174,  1,     14, SI9436,2,19940524,0617,-17.5000,-155.6667, 4790,   2405.7,   1.9371,  34.6532,2,  34.6543,2,    155.5,2,    155.0,2,   121.05,2,    35.56,2,     0.02,2,     2.45,2,    0.000,2,   -0.001,2, -999.000,1,-999.0000,1,  -999.00,9,   -999.0,1,-999.000,9,   -999.0,9,   -999.0,9,  -999.00,9,23983.0,-999.0000,-999.000,-999.000,  1.7665,-999.000
   318MWESTW_5,  P21W,   174,  1,     13, SI9413,2,19940524,0617,-17.5000,-155.6667, 4790,   2607.1,   1.8402,  34.6611,2,  34.6622,2,    157.4,2,    157.8,2,   122.97,2,    35.29,2,     0.01,2,     2.44,2, -999.000,9, -999.000,9, -999.000,1,-999.0000,1,  -999.00,9,   -999.0,1,-999.000,9,   -999.0,9,   -999.0,9,  -999.00,9,25985.8,-999.0000,-999.000,-999.000,  1.6531,-999.000
   318MWESTW_5,  P21W,   174,  1,     12, SI9438,2,19940524,0617,-17.5000,-155.6667, 4790,   2808.3,   1.7688,  34.6674,2,  34.6686,2,    160.6,2,    160.5,2,   124.15,2,    35.09,2,     0.01,2,     2.42,2, -999.000,9, -999.000,9, -999.000,1,-999.0000,1,  -999.00,9,   -999.0,1,-999.000,9,   -999.0,9,   -999.0,9,  -999.00,9,27986.1,-999.0000,-999.000,-999.000,  1.5644,-999.000
   318MWESTW_5,  P21W,   174,  1,     11, SI9411,2,19940524,0617,-17.5000,-155.6667, 4790,   3010.3,   1.6926,  34.6738,2,  34.6743,2,    164.7,2,    164.3,2,   124.45,2,    34.85,2,     0.01,2,     2.40,2, -999.000,9, -999.000,9, -999.000,1,-999.0000,1,  -999.00,9,   -999.0,1,-999.000,9,   -999.0,9,   -999.0,9,  -999.00,9,29994.3,-999.0000,-999.000,-999.000,  1.4706,-999.000
   318MWESTW_5,  P21W,   174,  1,     10, SI9412,2,19940524,0617,-17.5000,-155.6667, 4790,   3212.5,   1.6094,  34.6791,2,  34.6804,2,    169.2,2,    167.8,2,   124.89,2,    34.63,2,     0.00,2,     2.38,2,   -0.001,2,    0.001,2, -999.000,1,-999.0000,1,  -999.00,9,   -999.0,1,-999.000,9,   -999.0,9,   -999.0,9,  -999.00,9,32004.1,-999.0000,-999.000,-999.000,  1.3695,-999.000
   318MWESTW_5,  P21W,   174,  1,      9, SI9410,2,19940524,0617,-17.5000,-155.6667, 4790,   3413.9,   1.5487,  34.6842,2,  34.6853,2,    172.2,2,    171.6,2,   124.60,2,    34.34,2,     0.01,2,     2.37,2, -999.000,9, -999.000,9, -999.000,1,-999.0000,1,  -999.00,9,   -999.0,1,-999.000,9,   -999.0,9,   -999.0,9,  -999.00,9,34006.5,-999.0000,-999.000,-999.000,  1.2901,-999.000
   318MWESTW_5,  P21W,   174,  1,      8, SI9422,2,19940524,0617,-17.5000,-155.6667, 4790,   3611.3,   1.5055,  34.6880,2,  34.6883,2,    176.2,2,    175.1,2,   124.00,2,    34.20,2,     0.00,2,     2.35,2, -999.000,9, -999.000,9, -999.000,1,-999.0000,1,  -999.00,9,   -999.0,1,-999.000,9,   -999.0,9,   -999.0,9,  -999.00,9,35968.7,-999.0000,-999.000,-999.000,  1.2277,-999.000
   318MWESTW_5,  P21W,   174,  1,      7, SI9407,2,19940524,0617,-17.5000,-155.6667, 4790,   3813.0,   1.4646,  34.6909,2,  34.6930,2,    180.6,2,    179.3,2,   123.26,2,    33.94,2,     0.02,2,     2.33,2, -999.000,9, -999.000,9, -999.000,1,-999.0000,1,  -999.00,9,   -999.0,1,-999.000,9,   -999.0,9,   -999.0,9,  -999.00,9,37974.4,-999.0000,-999.000,-999.000,  1.1667,-999.000
   318MWESTW_5,  P21W,   174,  1,      6, SI9427,2,19940524,0617,-17.5000,-155.6667, 4790,   4009.9,   1.4297,  34.6942,2,  34.8196,4,    183.8,2,    176.0,4,    82.49,4,    27.67,4,     0.02,4,     1.95,4, -999.000,9, -999.000,9, -999.000,1,-999.0000,1,  -999.00,9,   -999.0,1,-999.000,9,   -999.0,9,   -999.0,9,  -999.00,9,39931.3,-999.0000,-999.000,-999.000,  1.1117,-999.000
   318MWESTW_5,  P21W,   174,  1,      5, SI9405,2,19940524,0617,-17.5000,-155.6667, 4790,   4212.4,   1.3930,  34.6979,2,  34.6977,2,    187.4,2,    186.3,2,   122.08,2,    33.35,2,     0.00,2,     2.30,2,    0.005,2,    0.003,2, -999.000,1,-999.0000,1,  -999.00,9,   -999.0,1,-999.000,9,   -999.0,9,   -999.0,9,  -999.00,9,41944.7,-999.0000,-999.000,-999.000,  1.0538,-999.000
   318MWESTW_5,  P21W,   174,  1,      4, SI9404,2,19940524,0617,-17.5000,-155.6667, 4790,   4411.1,   1.3767,  34.6995,2,  34.6999,2,    190.6,2,    188.4,2,   121.63,2,    33.20,2,     0.00,2,     2.28,2, -999.000,9, -999.000,9, -999.000,1,-999.0000,1,  -999.00,9,   -999.0,1,-999.000,9,   -999.0,9,   -999.0,9,  -999.00,9,43919.6,-999.0000,-999.000,-999.000,  1.0156,-999.000
   318MWESTW_5,  P21W,   174,  1,      3, SI9403,2,19940524,0617,-17.5000,-155.6667, 4790,   4620.2,   1.3850,  34.7008,2,  34.7013,2,    191.1,2,    189.2,2,   121.19,2,    33.14,2,     0.00,2,     2.27,2, -999.000,9, -999.000,9, -999.000,1,-999.0000,1,  -999.00,9,   -999.0,1,-999.000,9,   -999.0,9,   -999.0,9,  -999.00,9,45998.9,-999.0000,-999.000,-999.000,  0.9996,-999.000
   318MWESTW_5,  P21W,   174,  1,      2, SI9437,2,19940524,0617,-17.5000,-155.6667, 4790,   4831.5,   1.3991,  34.7014,2,  34.7017,2,    193.4,2,    188.9,2,   121.19,2,    33.11,2,     0.01,2,     2.27,2,    0.000,2,    0.001,2, -999.000,1,-999.0000,1,  -999.00,9,   -999.0,1,-999.000,9,   -999.0,9,   -999.0,9,  -999.00,9,48099.3,-999.0000,-999.000,-999.000,  0.9884,-999.000
   318MWESTW_5,  P21W,   174,  1,      1, SI9401,2,19940524,0617,-17.5000,-155.6667, 4790,   4882.0,   1.4042,  34.7013,2,  34.7022,2,    192.0,2,    191.1,2,   121.11,2,    33.12,2,     0.01,2,     2.27,2, -999.000,9, -999.000,9, -999.000,1,-999.0000,1,  -999.00,9,   -999.0,1,-999.000,9,   -999.0,9,   -999.0,9,  -999.00,9,48601.8,-999.0000,-999.000,-999.000,  0.9873,-999.000