BOTTLE,20010911WHPSIOdm
EXPOCODE,SECT_ID,STNNBR,CASTNO,SAMPNO,BTLNBR,BTLNBR_FLAG_W,DATE,TIME,LATITUDE,LONGITUDE,DEPTH,CTDPRS,CTDTMP,CTDSAL,CTDSAL_FLAG_W,SALNTY,SALNTY_FLAG_W,CTDOXY,CTDOXY_FLAG_W,OXYGEN,OXYGEN_FLAG_W,SILCAT,SILCAT_FLAG_W,NITRAT,NITRAT_FLAG_W,NITRIT,NITRIT_FLAG_W,PHSPHT,PHSPHT_FLAG_W,CFC-11,CFC-11_FLAG_W,CFC-12,CFC-12_FLAG_W,TRITUM,TRITUM_FLAG_W,HELIUM,HELIUM_FLAG_W,DELHE3,DELHE3_FLAG_W,DELC14,DELC14_FLAG_W,NEON,NEON_FLAG_W,TCARBN,TCARBN_FLAG_W,ALKALI,ALKALI_FLAG_W,PH,PH_FLAG_W,CTDRAW,HELIER,DELHER,NEONER,THETA,TRITER
,,,,,,,,,,,,DBAR,ITS-90,PSS-78,,PSS-78,,UMOL/KG,,UMOL/KG,,UMOL/KG,,UMOL/KG,,UMOL/KG,,UMOL/KG,,PMOL/KG,,PMOL/KG,,TU,,UMOL/KG,,PERCNT,,/MILLE,,NMOL/KG,,UMOL/KG,,UMOL/KG,,,,,NMOL/KG,PERCNT,NMOL/KG,ITS-90,TU
   318MWESTW_5,  P21W,   216,  1,     28, SI9428,2,19940605,1421,-18.4167, 179.6667, 3200,      5.6,  25.8703,  35.2579,2,  35.2589,2,    220.6,2,    203.7,2,     0.48,2,     0.05,2,     0.02,2,     0.13,2,    1.746,2,    0.981,2,    0.899,2,   1.6945,2,    -1.39,2,   -999.0,1,   6.690,2,   -999.0,9,   -999.0,9,  -999.00,9,  114.9,  0.0085,   0.080,   0.033, 25.8691,   0.008
   318MWESTW_5,  P21W,   216,  1,     27, SI9424,2,19940605,1421,-18.4167, 179.6667, 3200,     25.4,  25.8936,  35.2611,2,  35.2593,2,    206.2,2,    203.4,2,     0.64,2,     0.00,2,     0.02,2,     0.13,2, -999.000,9, -999.000,9, -999.000,1,-999.0000,1,  -999.00,9,   -999.0,1,-999.000,9,   -999.0,9,   -999.0,9,  -999.00,9,  312.5,-999.0000,-999.000,-999.000, 25.8879,-999.000
   318MWESTW_5,  P21W,   216,  1,     26, SI9414,2,19940605,1421,-18.4167, 179.6667, 3200,     50.7,  25.8850,  35.2547,2,  35.2621,2,    203.1,2,    205.4,2,     0.65,2,     0.02,2,     0.00,2,     0.13,2,    1.747,2,    0.992,2,    0.909,2,   1.6941,2,    -1.23,2,   -999.0,1,   6.687,2,   -999.0,9,   -999.0,9,  -999.00,9,  565.0,  0.0085,   0.080,   0.033, 25.8737,   0.008
   318MWESTW_5,  P21W,   216,  1,     25, SI9425,2,19940605,1421,-18.4167, 179.6667, 3200,    100.2,  24.5311,  35.6924,2,  35.6925,2,    197.6,2,    194.1,2,     0.66,2,     0.31,2,     0.17,2,     0.23,2,    1.864,2,    1.026,2,    0.830,2,   1.7330,2,    -0.83,2,   -999.0,1,   6.917,2,   -999.0,9,   -999.0,9,  -999.00,9, 1058.1,  0.0087,   0.080,   0.035, 24.5096,   0.007
   318MWESTW_5,  P21W,   216,  1,     24, SI9434,2,19940605,1421,-18.4167, 179.6667, 3200,    149.4,  22.3387,  35.7508,2,  35.7499,2,    183.5,2,    186.0,2,     0.67,2,     2.04,2,     0.03,2,     0.30,2,    1.953,2,    1.084,2,    0.822,2,   1.7400,2,    -0.75,2,   -999.0,1,   6.993,2,   -999.0,9,   -999.0,9,  -999.00,9, 1547.9,  0.0087,   0.080,   0.035, 22.3087,   0.007
   318MWESTW_5,  P21W,   216,  1,     23, SI9423,2,19940605,1421,-18.4167, 179.6667, 3200,    200.7,  20.6865,  35.7561,2,  35.7550,2,    179.1,2,    176.3,2,     0.98,2,     3.63,2,     0.02,2,     0.41,2,    1.921,2,    1.031,2,    0.728,2,   1.7528,2,    -0.32,2,   -999.0,1,   7.084,2,   -999.0,9,   -999.0,9,  -999.00,9, 2058.4,  0.0088,   0.080,   0.035, 20.6483,   0.007
   318MWESTW_5,  P21W,   216,  1,     22, SI9418,2,19940605,1421,-18.4167, 179.6667, 3200,    258.4,  19.3156,  35.6803,2,  35.6820,2,    183.0,2,    187.1,2,     0.99,2,     3.72,2,     0.03,2,     0.38,2,    2.015,2,    1.088,2,    0.733,2,   1.7522,2,    -0.39,2,   -999.0,1,   7.116,2,   -999.0,9,   -999.0,9,  -999.00,9, 2632.5,  0.0088,   0.080,   0.036, 19.2687,   0.007
   318MWESTW_5,  P21W,   216,  1,     21, SI9421,2,19940605,1421,-18.4167, 179.6667, 3200,    304.1,  17.8487,  35.5679,2,  35.5630,2,    185.3,2,    188.5,2,     1.45,2,     5.04,2,     0.02,2,     0.48,2,    1.974,2,    1.061,2,    0.630,2,   1.7595,2,    -0.10,2,   -999.0,1,   7.194,2,   -999.0,9,   -999.0,9,  -999.00,9, 3087.6,  0.0088,   0.080,   0.036, 17.7965,   0.007
   318MWESTW_5,  P21W,   216,  1,     20, SI9420,2,19940605,1421,-18.4167, 179.6667, 3200,    346.4,  16.1300,  35.4151,2,  35.4095,2,    189.3,2,    188.9,2,     2.20,2,     7.17,2,     0.02,2,     0.63,2,    1.927,2,    1.019,2, -999.000,1,-999.0000,1,  -999.00,9,   -999.0,1,-999.000,9,   -999.0,9,   -999.0,9,  -999.00,9, 3509.0,-999.0000,-999.000,-999.000, 16.0745,-999.000
   318MWESTW_5,  P21W,   216,  1,     19, SI9419,2,19940605,1421,-18.4167, 179.6667, 3200,    395.3,  13.9663,  35.1704,2,  35.1679,2,    186.8,2,    186.7,2,     3.56,2,    10.78,2,     0.00,2,     0.86,2,    1.653,2,    0.856,2,    0.474,2,   1.7783,2,     0.77,2,   -999.0,1,   7.424,2,   -999.0,9,   -999.0,9,  -999.00,9, 3995.2,  0.0089,   0.080,   0.037, 13.9088,   0.006
   318MWESTW_5,  P21W,   216,  1,     18, SI9439,2,19940605,1421,-18.4167, 179.6667, 3200,    497.9,  10.2880,  34.7673,2,  34.7634,2,    194.4,2,    194.9,2,     5.95,2,    17.21,2,     0.00,2,     1.26,2,    1.224,2,    0.629,2,    0.268,2,   1.7970,2,     1.01,2,   -999.0,1,   7.593,2,   -999.0,9,   -999.0,9,  -999.00,9, 5016.2,  0.0090,   0.080,   0.038, 10.2285,   0.005
   318MWESTW_5,  P21W,   216,  1,     17, SI9417,2,19940605,1421,-18.4167, 179.6667, 3200,    599.1,   7.6261,  34.4871,2,  34.4856,2,    204.0,2,    209.8,2,     9.84,2,    22.43,2,     0.00,2,     1.58,2,    0.752,6,    0.389,6,    0.154,2,   1.7828,2,     1.21,2,   -999.0,1,   7.703,2,   -999.0,9,   -999.0,9,  -999.00,9, 6022.3,  0.0089,   0.080,   0.039,  7.5660,   0.005
   318MWESTW_5,  P21W,   216,  1,     16, SI9416,2,19940605,1421,-18.4167, 179.6667, 3200,    699.4,   6.4621,  34.4064,2,  34.4051,2,    197.9,2,    204.6,2,    16.58,2,    25.93,2,     0.00,2,     1.80,2,    0.382,2,    0.207,2,    0.080,2,   1.7842,2,     2.05,2,   -999.0,1,   7.738,2,   -999.0,9,   -999.0,9,  -999.00,9, 7020.2,  0.0089,   0.080,   0.039,  6.3977,   0.004
   318MWESTW_5,  P21W,   216,  1,     15, SI9415,2,19940605,1421,-18.4167, 179.6667, 3200,    804.8,   5.4781,  34.4006,2,  34.3978,2,    185.8,2,    187.4,2,    29.89,2,    29.47,2,     0.00,2,     2.04,2,    0.147,2,    0.086,2,    0.046,2,   1.8170,2,     5.03,2,   -999.0,1,   7.843,2,   -999.0,9,   -999.0,9,  -999.00,9, 8068.2,  0.0091,   0.090,   0.039,  5.4094,   0.004
   318MWESTW_5,  P21W,   216,  1,     14, SI9436,2,19940605,1421,-18.4167, 179.6667, 3200,    897.1,   4.6525,  34.4187,2,  34.4184,2,    176.2,2,    175.8,2,    43.79,2,    31.82,2,     0.00,2,     2.21,2,    0.054,2,    0.033,2, -999.000,1,-999.0000,1,  -999.00,9,   -999.0,1,-999.000,9,   -999.0,9,   -999.0,9,  -999.00,9, 8985.0,-999.0000,-999.000,-999.000,  4.5809,-999.000
   318MWESTW_5,  P21W,   216,  1,     13, SI9413,3,19940605,1421,-18.4167, 179.6667, 3200,   1004.3,   4.0155,  34.4653,2,  34.4652,2,    166.2,2,    169.8,2,    59.94,2,    33.19,2,     0.00,2,     2.32,2,    0.021,2,    0.015,2,    0.010,2,   1.8494,2,    13.28,2,   -999.0,1,   7.946,2,   -999.0,9,   -999.0,9,  -999.00,9,10051.4,  0.0092,   0.090,   0.040,  3.9394,   0.004
   318MWESTW_5,  P21W,   216,  1,     12, SI9438,2,19940605,1421,-18.4167, 179.6667, 3200,   1197.0,   3.4312,  34.5219,2,  34.5223,2,    156.6,2,    156.6,2,    78.31,2,    34.32,2,     0.00,2,     2.40,2,    0.006,2,    0.004,2,   -0.004,2,   1.9031,2,    18.94,2,   -999.0,1,   8.106,2,   -999.0,9,   -999.0,9,  -999.00,9,11966.8,  0.0095,   0.100,   0.041,  3.3441,   0.004
   318MWESTW_5,  P21W,   216,  1,     11, SI9411,2,19940605,1421,-18.4167, 179.6667, 3200,   1403.9,   3.0030,  34.5638,2,  34.5645,2,    151.1,2,    152.6,2,    91.90,2,    34.91,2,     0.00,2,     2.44,2,    0.000,2,    0.003,2,    0.000,2,   1.8979,2,    23.03,2,   -999.0,1,   8.054,2,   -999.0,9,   -999.0,9,  -999.00,9,14024.2,  0.0095,   0.100,   0.040,  2.9031,   0.004
   318MWESTW_5,  P21W,   216,  1,     10, SI9412,3,19940605,1421,-18.4167, 179.6667, 3200,   1601.9,   2.7100,  34.5919,2,  34.5914,2,    150.2,2,    150.7,2,   100.43,2,    35.14,2,     0.00,2,     2.44,2,    0.000,2,    0.002,2,   -0.002,2,   1.8970,2,    23.77,2,   -999.0,1,   8.059,2,   -999.0,9,   -999.0,9,  -999.00,9,15992.4,  0.0095,   0.100,   0.040,  2.5971,   0.004
   318MWESTW_5,  P21W,   216,  1,      9, SI9410,2,19940605,1421,-18.4167, 179.6667, 3200,   1805.0,   2.4565,  34.6165,2,  34.6166,2,    149.9,2,    150.3,2,   107.60,2,    35.28,2,     0.00,2,     2.45,2, -999.000,9, -999.000,9, -999.000,1,-999.0000,1,  -999.00,9,   -999.0,1,-999.000,9,   -999.0,9,   -999.0,9,  -999.00,9,18011.9,-999.0000,-999.000,-999.000,  2.3299,-999.000
   318MWESTW_5,  P21W,   216,  1,      8, SI9422,2,19940605,1421,-18.4167, 179.6667, 3200,   2003.4,   2.2813,  34.6343,2,  34.6344,2,    150.2,2,    150.8,2,   112.39,2,    35.33,2,     0.00,2,     2.46,2, -999.000,9, -999.000,9, -999.000,1,-999.0000,1,  -999.00,9,   -999.0,1,-999.000,9,   -999.0,9,   -999.0,9,  -999.00,9,19984.1,-999.0000,-999.000,-999.000,  2.1403,-999.000
   318MWESTW_5,  P21W,   216,  1,      7, SI9407,2,19940605,1421,-18.4167, 179.6667, 3200,   2212.1,   2.1462,  34.6477,2,  34.6480,2,    151.3,2,    152.5,2,   115.97,2,    35.33,2,     0.00,2,     2.45,2, -999.000,9, -999.000,9, -999.000,1,-999.0000,1,  -999.00,9,   -999.0,1,-999.000,9,   -999.0,9,   -999.0,9,  -999.00,9,22059.0,-999.0000,-999.000,-999.000,  1.9892,-999.000
   318MWESTW_5,  P21W,   216,  1,      6, SI9427,2,19940605,1421,-18.4167, 179.6667, 3200,   2403.3,   2.0482,  34.6573,2,  34.6582,2,    152.6,2,    153.4,2,   118.38,2,    35.25,2,     0.00,2,     2.46,2,   -0.001,2,    0.003,2, -999.000,1,-999.0000,1,  -999.00,9,   -999.0,1,-999.000,9,   -999.0,9,   -999.0,9,  -999.00,9,23960.0,-999.0000,-999.000,-999.000,  1.8758,-999.000
   318MWESTW_5,  P21W,   216,  1,      5, SI9405,2,19940605,1421,-18.4167, 179.6667, 3200,   2613.3,   1.9442,  34.6688,2,  34.6679,2,    153.5,2,    154.2,2,   120.92,2,    35.16,2,     0.00,2,     2.46,2, -999.000,9, -999.000,9, -999.000,1,-999.0000,1,  -999.00,9,   -999.0,1,-999.000,9,   -999.0,9,   -999.0,9,  -999.00,9,26047.2,-999.0000,-999.000,-999.000,  1.7545,-999.000
   318MWESTW_5,  P21W,   216,  1,      4, SI9404,2,19940605,1421,-18.4167, 179.6667, 3200,   2820.8,   1.8687,  34.6752,2,  34.6763,2,    155.1,2,    163.5,4,   123.17,2,    35.12,2,     0.00,2,     2.44,2, -999.000,9, -999.000,9, -999.000,1,-999.0000,1,  -999.00,9,   -999.0,1,-999.000,9,   -999.0,9,   -999.0,9,  -999.00,9,28110.6,-999.0000,-999.000,-999.000,  1.6610,-999.000
   318MWESTW_5,  P21W,   216,  1,      3, SI9403,2,19940605,1421,-18.4167, 179.6667, 3200,   3001.2,   1.8369,  34.6791,2,  34.6789,2,    155.6,2,    155.8,2,   124.37,2,    35.12,2,     0.00,2,     2.44,2, -999.000,9, -999.000,9, -999.000,1,-999.0000,1,  -999.00,9,   -999.0,1,-999.000,9,   -999.0,9,   -999.0,9,  -999.00,9,29903.7,-999.0000,-999.000,-999.000,  1.6126,-999.000
   318MWESTW_5,  P21W,   216,  1,      2, SI9437,2,19940605,1421,-18.4167, 179.6667, 3200,   3179.0,   1.8309,  34.6814,2,  34.6810,2,    156.8,2,    155.4,2,   124.82,2,    35.22,2,     0.00,2,     2.43,2, -999.000,9, -999.000,9, -999.000,1,-999.0000,1,  -999.00,9,   -999.0,1,-999.000,9,   -999.0,9,   -999.0,9,  -999.00,9,31670.8,-999.0000,-999.000,-999.000,  1.5892,-999.000
   318MWESTW_5,  P21W,   216,  1,      1, SI9401,2,19940605,1421,-18.4167, 179.6667, 3200,   3223.4,   1.8327,  34.6807,2,  34.6820,2,    155.4,2,    155.7,2,   124.90,2,    35.21,2,     0.00,2,     2.44,2,    0.000,2,    0.001,2, -999.000,1,-999.0000,1,  -999.00,9,   -999.0,1,-999.000,9,   -999.0,9,   -999.0,9,  -999.00,9,32112.2,-999.0000,-999.000,-999.000,  1.5865,-999.000