BOTTLE,20010911WHPSIOdm
EXPOCODE,SECT_ID,STNNBR,CASTNO,SAMPNO,BTLNBR,BTLNBR_FLAG_W,DATE,TIME,LATITUDE,LONGITUDE,DEPTH,CTDPRS,CTDTMP,CTDSAL,CTDSAL_FLAG_W,SALNTY,SALNTY_FLAG_W,CTDOXY,CTDOXY_FLAG_W,OXYGEN,OXYGEN_FLAG_W,SILCAT,SILCAT_FLAG_W,NITRAT,NITRAT_FLAG_W,NITRIT,NITRIT_FLAG_W,PHSPHT,PHSPHT_FLAG_W,CFC-11,CFC-11_FLAG_W,CFC-12,CFC-12_FLAG_W,TRITUM,TRITUM_FLAG_W,HELIUM,HELIUM_FLAG_W,DELHE3,DELHE3_FLAG_W,DELC14,DELC14_FLAG_W,NEON,NEON_FLAG_W,TCARBN,TCARBN_FLAG_W,ALKALI,ALKALI_FLAG_W,PH,PH_FLAG_W,CTDRAW,HELIER,DELHER,NEONER,THETA,TRITER
,,,,,,,,,,,,DBAR,ITS-90,PSS-78,,PSS-78,,UMOL/KG,,UMOL/KG,,UMOL/KG,,UMOL/KG,,UMOL/KG,,UMOL/KG,,PMOL/KG,,PMOL/KG,,TU,,UMOL/KG,,PERCNT,,/MILLE,,NMOL/KG,,UMOL/KG,,UMOL/KG,,,,,NMOL/KG,PERCNT,NMOL/KG,ITS-90,TU
   318MWESTW_5,  P21W,   196,  1,     36, SI9442,2,19940531,0129,-17.5028,-170.3333, 5230,      7.6,  26.9328,  35.4508,2,  35.4515,2,    209.1,2,    215.4,2,     0.84,2,     0.05,2,     0.00,2,     0.16,2,    1.679,2,    0.940,2, -999.000,1,-999.0000,1,  -999.00,9,   -999.0,1,-999.000,9,   -999.0,9,   -999.0,9,  -999.00,9,  134.7,-999.0000,-999.000,-999.000, 26.9311,-999.000
   318MWESTW_5,  P21W,   196,  1,     35, SI9435,2,19940531,0129,-17.5028,-170.3333, 5230,     24.1,  26.9378,  35.4515,2,  35.4509,2,    210.3,2,    210.7,2,     0.69,2,     0.04,2,     0.01,2,     0.17,2,    1.678,2,    0.943,2, -999.000,1,-999.0000,1,  -999.00,9,   -999.0,1,-999.000,9,   -999.0,9,   -999.0,9,  -999.00,9,  299.7,-999.0000,-999.000,-999.000, 26.9323,-999.000
   318MWESTW_5,  P21W,   196,  1,     34, SI9441,2,19940531,0129,-17.5028,-170.3333, 5230,     50.1,  26.9423,  35.4527,2,  35.4537,2,    202.7,2,    214.6,2,     0.71,2,     0.02,2,     0.00,2,     0.16,2,    1.709,2,    0.943,2, -999.000,1,-999.0000,1,  -999.00,9,   -999.0,1,-999.000,9,   -999.0,9,   -999.0,9,  -999.00,9,  559.0,-999.0000,-999.000,-999.000, 26.9308,-999.000
   318MWESTW_5,  P21W,   196,  1,     33, SI9433,2,19940531,0129,-17.5028,-170.3333, 5230,    100.4,  24.8810,  35.9200,2,  35.9161,2,    218.4,2,    205.5,2,     0.72,2,     0.01,2,     0.01,2,     0.24,2,    1.827,2,    1.007,2, -999.000,1,-999.0000,1,  -999.00,9,   -999.0,1,-999.000,9,   -999.0,9,   -999.0,9,  -999.00,9, 1060.5,-999.0000,-999.000,-999.000, 24.8592,-999.000
   318MWESTW_5,  P21W,   196,  1,     32, SI9432,2,19940531,0129,-17.5028,-170.3333, 5230,    151.8,  22.6416,  35.8802,2,  35.8795,2,    193.6,2,    180.7,2,     0.74,2,     1.72,2,     0.02,2,     0.33,2,    1.927,2,    1.034,2, -999.000,1,-999.0000,1,  -999.00,9,   -999.0,1,-999.000,9,   -999.0,9,   -999.0,9,  -999.00,9, 1572.1,-999.0000,-999.000,-999.000, 22.6108,-999.000
   318MWESTW_5,  P21W,   196,  1,     31, SI9431,2,19940531,0129,-17.5028,-170.3333, 5230,    202.0,  21.1843,  35.8264,2,  35.8222,2,    178.6,2,    171.0,2,     0.91,2,     3.31,2,     0.01,2,     0.42,2,    1.891,2,    1.016,2, -999.000,1,-999.0000,1,  -999.00,9,   -999.0,1,-999.000,9,   -999.0,9,   -999.0,9,  -999.00,9, 2071.9,-999.0000,-999.000,-999.000, 21.1452,-999.000
   318MWESTW_5,  P21W,   196,  1,     30, SI9440,2,19940531,0129,-17.5028,-170.3333, 5230,    252.2,  19.3347,  35.6681,2,  35.6621,2,    180.5,2,    170.1,2,     1.55,2,     5.15,2,     0.01,2,     0.57,2,    1.779,2,    0.945,2, -999.000,1,-999.0000,1,  -999.00,9,   -999.0,1,-999.000,9,   -999.0,9,   -999.0,9,  -999.00,9, 2572.3,-999.0000,-999.000,-999.000, 19.2889,-999.000
   318MWESTW_5,  P21W,   196,  1,     29, SI9429,2,19940531,0129,-17.5028,-170.3333, 5230,    302.2,  17.6623,  35.4931,2,  35.4898,2,    179.2,2,    177.5,2,     1.89,2,     5.73,2,     0.00,2,     0.59,2,    1.820,2,    0.934,2, -999.000,1,-999.0000,1,  -999.00,9,   -999.0,1,-999.000,9,   -999.0,9,   -999.0,9,  -999.00,9, 3070.0,-999.0000,-999.000,-999.000, 17.6108,-999.000
   318MWESTW_5,  P21W,   196,  1,     28, SI9428,2,19940531,0129,-17.5028,-170.3333, 5230,    342.3,  16.1509,  35.3270,2,  35.3220,2,    164.2,2,    176.2,2,     2.69,2,     7.88,2,     0.01,2,     0.74,2,    1.643,2,    0.854,2, -999.000,1,-999.0000,1,  -999.00,9,   -999.0,1,-999.000,9,   -999.0,9,   -999.0,9,  -999.00,9, 3468.8,-999.0000,-999.000,-999.000, 16.0960,-999.000
   318MWESTW_5,  P21W,   196,  1,     27, SI9424,2,19940531,0129,-17.5028,-170.3333, 5230,    394.4,  13.2999,  35.0159,2,  35.0055,2,    173.7,2,    174.7,2,     4.75,2,    12.64,2,     0.01,2,     1.05,2,    1.276,2,    0.663,2, -999.000,1,-999.0000,1,  -999.00,9,   -999.0,1,-999.000,9,   -999.0,9,   -999.0,9,  -999.00,9, 3987.2,-999.0000,-999.000,-999.000, 13.2444,-999.000
   318MWESTW_5,  P21W,   196,  1,     26, SI9414,2,19940531,0129,-17.5028,-170.3333, 5230,    495.1,   8.6152,  34.5345,2,  34.5305,2,    179.9,2,    178.9,2,    10.91,2,    22.55,2,     0.00,2,     1.66,2,    0.575,2,    0.295,2, -999.000,1,-999.0000,1,  -999.00,9,   -999.0,1,-999.000,9,   -999.0,9,   -999.0,9,  -999.00,9, 4988.8,-999.0000,-999.000,-999.000,  8.5622,-999.000
   318MWESTW_5,  P21W,   196,  1,     25, SI9425,2,19940531,0129,-17.5028,-170.3333, 5230,    599.0,   6.3305,  34.3734,2,  34.3721,2,    198.9,2,    198.1,2,    16.29,2,    26.95,2,     0.00,2,     1.90,2,    0.286,2,    0.153,2, -999.000,1,-999.0000,1,  -999.00,9,   -999.0,1,-999.000,9,   -999.0,9,   -999.0,9,  -999.00,9, 6022.1,-999.0000,-999.000,-999.000,  6.2764,-999.000
   318MWESTW_5,  P21W,   196,  1,     24, SI9434,2,19940531,0129,-17.5028,-170.3333, 5230,    697.2,   5.4179,  34.3627,2,  34.3613,2,    189.9,2,    183.5,2,    26.07,2,    30.01,2,     0.00,2,     2.10,2,    0.090,2,    0.055,2, -999.000,1,-999.0000,1,  -999.00,9,   -999.0,1,-999.000,9,   -999.0,9,   -999.0,9,  -999.00,9, 6998.5,-999.0000,-999.000,-999.000,  5.3593,-999.000
   318MWESTW_5,  P21W,   196,  1,     23, SI9423,2,19940531,0129,-17.5028,-170.3333, 5230,    802.4,   4.7668,  34.4062,2,  34.4049,2,    167.9,2,    164.9,2,    41.37,2,    32.83,2,     0.00,2,     2.30,2,    0.018,6,    0.011,6, -999.000,1,-999.0000,1,  -999.00,9,   -999.0,1,-999.000,9,   -999.0,9,   -999.0,9,  -999.00,9, 8043.7,-999.0000,-999.000,-999.000,  4.7027,-999.000
   318MWESTW_5,  P21W,   196,  1,     22, SI9418,2,19940531,0129,-17.5028,-170.3333, 5230,    891.1,   4.2396,  34.4379,2,  34.4347,2,    160.4,2,    158.9,2,    52.58,2,    33.97,2,     0.00,2,     2.38,2,    0.005,2,    0.002,2, -999.000,1,-999.0000,1,  -999.00,9,   -999.0,1,-999.000,9,   -999.0,9,   -999.0,9,  -999.00,9, 8926.4,-999.0000,-999.000,-999.000,  4.1714,-999.000
   318MWESTW_5,  P21W,   196,  1,     21, SI9421,2,19940531,0129,-17.5028,-170.3333, 5230,    998.3,   3.5309,  34.4877,2,  34.4858,2,    157.1,2,    155.8,2,    69.29,2,    34.74,2,     0.00,2,     2.43,2,   -0.001,2,    0.001,2, -999.000,1,-999.0000,1,  -999.00,9,   -999.0,1,-999.000,9,   -999.0,9,   -999.0,9,  -999.00,9, 9992.0,-999.0000,-999.000,-999.000,  3.4590,-999.000
   318MWESTW_5,  P21W,   196,  1,     20, SI9420,2,19940531,0129,-17.5028,-170.3333, 5230,   1101.0,   3.3183,  34.5286,2,  34.5268,2,    153.3,2,    148.0,2,    80.64,2,    35.40,2,     0.00,2,     2.49,2,    0.001,2,    0.000,2, -999.000,1,-999.0000,1,  -999.00,9,   -999.0,1,-999.000,9,   -999.0,9,   -999.0,9,  -999.00,9,11013.1,-999.0000,-999.000,-999.000,  3.2399,-999.000
   318MWESTW_5,  P21W,   196,  1,     19, SI9419,2,19940531,0129,-17.5028,-170.3333, 5230,   1192.2,   3.2053,  34.5535,2,  34.5525,2,    143.1,2,    142.4,4,    88.21,2,    35.89,2,     0.00,2,     2.53,2,   -0.002,2,    0.000,2, -999.000,1,-999.0000,1,  -999.00,9,   -999.0,1,-999.000,9,   -999.0,9,   -999.0,9,  -999.00,9,11919.7,-999.0000,-999.000,-999.000,  3.1206,-999.000
   318MWESTW_5,  P21W,   196,  1,     18, SI9439,2,19940531,0129,-17.5028,-170.3333, 5230,   1396.9,   2.8193,  34.5782,2,  34.5777,2,    144.7,2,    143.8,2,    97.20,2,    35.74,2,     0.00,2,     2.52,2, -999.000,9, -999.000,9, -999.000,1,-999.0000,1,  -999.00,9,   -999.0,1,-999.000,9,   -999.0,9,   -999.0,9,  -999.00,9,13954.7,-999.0000,-999.000,-999.000,  2.7219,-999.000
   318MWESTW_5,  P21W,   196,  1,     17, SI9417,2,19940531,0129,-17.5028,-170.3333, 5230,   1603.4,   2.5887,  34.5986,2,  34.5975,2,    145.6,2,    144.7,2,   104.77,2,    35.81,2,     0.00,2,     2.52,2, -999.000,9, -999.000,9, -999.000,1,-999.0000,1,  -999.00,9,   -999.0,1,-999.000,9,   -999.0,9,   -999.0,9,  -999.00,9,16007.6,-999.0000,-999.000,-999.000,  2.4771,-999.000
   318MWESTW_5,  P21W,   196,  1,     16, SI9416,2,19940531,0129,-17.5028,-170.3333, 5230,   1810.2,   2.3832,  34.6167,2,  34.6164,2,    145.4,2,    145.0,2,   111.55,2,    35.85,2,     0.01,2,     2.52,2, -999.000,9, -999.000,9, -999.000,1,-999.0000,1,  -999.00,9,   -999.0,1,-999.000,9,   -999.0,9,   -999.0,9,  -999.00,9,18063.4,-999.0000,-999.000,-999.000,  2.2571,-999.000
   318MWESTW_5,  P21W,   196,  1,     15, SI9415,2,19940531,0129,-17.5028,-170.3333, 5230,   2001.7,   2.2187,  34.6311,2,  34.6297,2,    146.5,2,    147.0,2,   116.44,2,    35.91,2,     0.00,2,     2.53,2,    0.000,2,    0.000,2, -999.000,1,-999.0000,1,  -999.00,9,   -999.0,1,-999.000,9,   -999.0,9,   -999.0,9,  -999.00,9,19967.2,-999.0000,-999.000,-999.000,  2.0788,-999.000
   318MWESTW_5,  P21W,   196,  1,     14, SI9436,2,19940531,0129,-17.5028,-170.3333, 5230,   2252.2,   2.0424,  34.6460,2,  34.6464,2,    147.6,2,    147.2,2,   122.28,2,    35.94,2,     0.01,2,     2.53,2, -999.000,9, -999.000,9, -999.000,1,-999.0000,1,  -999.00,9,   -999.0,1,-999.000,9,   -999.0,9,   -999.0,9,  -999.00,9,22458.1,-999.0000,-999.000,-999.000,  1.8836,-999.000
   318MWESTW_5,  P21W,   196,  1,     13, SI9413,2,19940531,0129,-17.5028,-170.3333, 5230,   2499.5,   1.9139,  34.6575,2,  34.6568,2,    147.2,2,    146.2,2,   128.58,2,    36.04,2,     0.00,2,     2.53,2, -999.000,9, -999.000,9, -999.000,1,-999.0000,1,  -999.00,9,   -999.0,1,-999.000,9,   -999.0,9,   -999.0,9,  -999.00,9,24916.5,-999.0000,-999.000,-999.000,  1.7352,-999.000
   318MWESTW_5,  P21W,   196,  1,     12, SI9438,2,19940531,0129,-17.5028,-170.3333, 5230,   2747.6,   1.8304,  34.6639,2,  34.6637,2,    149.3,2,    147.7,2,   131.43,2,    35.88,2,     0.00,2,     2.53,2,   -0.001,2,    0.000,2, -999.000,1,-999.0000,1,  -999.00,9,   -999.0,1,-999.000,9,   -999.0,9,   -999.0,9,  -999.00,9,27383.6,-999.0000,-999.000,-999.000,  1.6305,-999.000
   318MWESTW_5,  P21W,   196,  1,     11, SI9411,2,19940531,0129,-17.5028,-170.3333, 5230,   2995.8,   1.7469,  34.6708,2,  34.6700,2,    151.6,2,    150.1,2,   133.64,2,    35.76,2,     0.00,2,     2.51,2, -999.000,9, -999.000,9, -999.000,1,-999.0000,1,  -999.00,9,   -999.0,1,-999.000,9,   -999.0,9,   -999.0,9,  -999.00,9,29851.1,-999.0000,-999.000,-999.000,  1.5251,-999.000
   318MWESTW_5,  P21W,   196,  1,     10, SI9412,2,19940531,0129,-17.5028,-170.3333, 5230,   3244.3,   1.6774,  34.6769,2,  34.6761,2,    155.5,2,    154.6,2,   133.17,2,    35.48,2,     0.00,2,     2.48,2, -999.000,9, -999.000,9, -999.000,1,-999.0000,1,  -999.00,9,   -999.0,1,-999.000,9,   -999.0,9,   -999.0,9,  -999.00,9,32321.5,-999.0000,-999.000,-999.000,  1.4328,-999.000
   318MWESTW_5,  P21W,   196,  1,      9, SI9410,2,19940531,0129,-17.5028,-170.3333, 5230,   3492.0,   1.5969,  34.6829,2,  34.6816,2,    161.1,2,    160.0,2,   132.87,2,    35.17,2,     0.00,2,     2.46,2,   -0.002,2,   -0.002,2, -999.000,1,-999.0000,1,  -999.00,9,   -999.0,1,-999.000,9,   -999.0,9,   -999.0,9,  -999.00,9,34783.5,-999.0000,-999.000,-999.000,  1.3291,-999.000
   318MWESTW_5,  P21W,   196,  1,      8, SI9422,2,19940531,0129,-17.5028,-170.3333, 5230,   3741.5,   1.4576,  34.6993,2,  34.6989,2,    178.7,2,    177.8,2,   123.74,2,    33.70,2,     0.00,2,     2.36,2, -999.000,9, -999.000,9, -999.000,1,-999.0000,1,  -999.00,9,   -999.0,1,-999.000,9,   -999.0,9,   -999.0,9,  -999.00,9,37264.2,-999.0000,-999.000,-999.000,  1.1674,-999.000
   318MWESTW_5,  P21W,   196,  1,      7, SI9407,2,19940531,0129,-17.5028,-170.3333, 5230,   4001.3,   1.2592,  34.7171,2,  34.7164,2,    197.8,2,    199.4,2,   114.14,2,    31.99,2,     0.01,2,     2.22,2,    0.003,2,    0.000,2, -999.000,1,-999.0000,1,  -999.00,9,   -999.0,1,-999.000,9,   -999.0,9,   -999.0,9,  -999.00,9,39846.8,-999.0000,-999.000,-999.000,  0.9468,-999.000
   318MWESTW_5,  P21W,   196,  1,      6, SI9427,2,19940531,0129,-17.5028,-170.3333, 5230,   4248.9,   1.1526,  34.7154,2,  34.7134,2,    202.7,2,    202.7,2,   115.72,2,    31.87,2,     0.01,2,     2.22,2, -999.000,9, -999.000,9, -999.000,1,-999.0000,1,  -999.00,9,   -999.0,1,-999.000,9,   -999.0,9,   -999.0,9,  -999.00,9,42308.3,-999.0000,-999.000,-999.000,  0.8163,-999.000
   318MWESTW_5,  P21W,   196,  1,      5, SI9405,2,19940531,0129,-17.5028,-170.3333, 5230,   4501.3,   1.0676,  34.7115,2,  34.7107,2,    204.8,2,    205.8,2,   118.57,2,    31.93,2,     0.00,2,     2.21,2,    0.012,2,    0.005,2, -999.000,1,-999.0000,1,  -999.00,9,   -999.0,1,-999.000,9,   -999.0,9,   -999.0,9,  -999.00,9,44817.7,-999.0000,-999.000,-999.000,  0.7058,-999.000
   318MWESTW_5,  P21W,   196,  1,      4, SI9404,2,19940531,0129,-17.5028,-170.3333, 5230,   4752.5,   1.0527,  34.7106,2,  34.7103,2,    207.1,2,    206.6,2,   119.84,2,    31.97,2,     0.00,2,     2.21,2, -999.000,9, -999.000,9, -999.000,1,-999.0000,1,  -999.00,9,   -999.0,1,-999.000,9,   -999.0,9,   -999.0,9,  -999.00,9,47315.0,-999.0000,-999.000,-999.000,  0.6626,-999.000
   318MWESTW_5,  P21W,   196,  1,      3, SI9403,2,19940531,0129,-17.5028,-170.3333, 5230,   5001.5,   1.0553,  34.7093,2,  34.7089,2,    208.2,2,    207.1,2,   120.16,2,    32.05,2,     0.01,2,     2.21,2,    0.010,2,    0.004,2, -999.000,1,-999.0000,1,  -999.00,9,   -999.0,1,-999.000,9,   -999.0,9,   -999.0,9,  -999.00,9,49790.3,-999.0000,-999.000,-999.000,  0.6358,-999.000
   318MWESTW_5,  P21W,   196,  1,      2, SI9437,2,19940531,0129,-17.5028,-170.3333, 5230,   5283.4,   1.0707,  34.7092,2,  34.7101,2,    208.8,2,    206.4,2,   120.80,2,    32.15,2,     0.00,2,     2.22,2, -999.000,9, -999.000,9, -999.000,1,-999.0000,1,  -999.00,9,   -999.0,1,-999.000,9,   -999.0,9,   -999.0,9,  -999.00,9,52593.5,-999.0000,-999.000,-999.000,  0.6166,-999.000
   318MWESTW_5,  P21W,   196,  1,      1, SI9401,2,19940531,0129,-17.5028,-170.3333, 5230,   5324.4,   1.0757,  34.7093,2,  34.7079,2,    209.4,2,    208.9,2,   120.82,2,    32.13,2,     0.00,2,     2.23,2,    0.010,2,    0.005,2, -999.000,1,-999.0000,1,  -999.00,9,   -999.0,1,-999.000,9,   -999.0,9,   -999.0,9,  -999.00,9,53000.9,-999.0000,-999.000,-999.000,  0.6163,-999.000