BOTTLE,20010911WHPSIOdm
EXPOCODE,SECT_ID,STNNBR,CASTNO,SAMPNO,BTLNBR,BTLNBR_FLAG_W,DATE,TIME,LATITUDE,LONGITUDE,DEPTH,CTDPRS,CTDTMP,CTDSAL,CTDSAL_FLAG_W,SALNTY,SALNTY_FLAG_W,CTDOXY,CTDOXY_FLAG_W,OXYGEN,OXYGEN_FLAG_W,SILCAT,SILCAT_FLAG_W,NITRAT,NITRAT_FLAG_W,NITRIT,NITRIT_FLAG_W,PHSPHT,PHSPHT_FLAG_W,CFC-11,CFC-11_FLAG_W,CFC-12,CFC-12_FLAG_W,TRITUM,TRITUM_FLAG_W,HELIUM,HELIUM_FLAG_W,DELHE3,DELHE3_FLAG_W,DELC14,DELC14_FLAG_W,NEON,NEON_FLAG_W,TCARBN,TCARBN_FLAG_W,ALKALI,ALKALI_FLAG_W,PH,PH_FLAG_W,CTDRAW,HELIER,DELHER,NEONER,THETA,TRITER
,,,,,,,,,,,,DBAR,ITS-90,PSS-78,,PSS-78,,UMOL/KG,,UMOL/KG,,UMOL/KG,,UMOL/KG,,UMOL/KG,,UMOL/KG,,PMOL/KG,,PMOL/KG,,TU,,UMOL/KG,,PERCNT,,/MILLE,,NMOL/KG,,UMOL/KG,,UMOL/KG,,,,,NMOL/KG,PERCNT,NMOL/KG,ITS-90,TU
   318MWESTW_4,  P21E,    77,  1,     36, SI9336,2,19940420,1124,-16.7472,-103.3333, 3705,      5.4,  24.6161,  36.2826,2,  36.2701,2,    210.2,2,    214.2,2,     0.15,2,     0.00,2,     0.00,2,     0.33,2,    1.939,2,    1.051,2, -999.000,1,-999.0000,1,  -999.00,9,   -999.0,1,-999.000,9,   2058.8,2,   2398.0,2,     8.05,2,  102.4,-999.0000,-999.000,-999.000, 24.6149,-999.000
   318MWESTW_4,  P21E,    77,  1,     35, SI9335,2,19940420,1124,-16.7472,-103.3333, 3705,     23.6,  24.3975,  36.2601,2,  36.2628,2,    218.6,2,    214.9,2,     0.32,2,     0.00,2,     0.00,2,     0.33,2,    1.946,2,    1.045,2, -999.000,1,-999.0000,1,  -999.00,9,   -999.0,1,-999.000,9,   2058.8,2,   2395.0,2,     8.05,2,  283.8,-999.0000,-999.000,-999.000, 24.3925,-999.000
   318MWESTW_4,  P21E,    77,  1,     34, SI9334,2,19940420,1124,-16.7472,-103.3333, 3705,     49.0,  24.2986,  36.2602,2,  36.2594,2,    217.3,2,    217.5,2,     0.34,2,     0.08,2,     0.00,2,     0.34,2,    1.965,2,    1.042,2, -999.000,1,-999.0000,1,  -999.00,9,   -999.0,1,-999.000,9,   2057.8,2,   2397.0,2,     8.05,2,  538.5,-999.0000,-999.000,-999.000, 24.2881,-999.000
   318MWESTW_4,  P21E,    77,  1,     33, SI9333,2,19940420,1124,-16.7472,-103.3333, 3705,     98.5,  21.9107,  36.0803,2,  36.0691,2,    227.4,2,    227.2,2,     0.18,2,     0.08,2,     0.00,2,     0.32,2,    2.210,2,    1.159,2, -999.000,1,-999.0000,1,  -999.00,9,   -999.0,1,-999.000,9,   2063.8,2,   2383.0,2,     8.03,2, 1032.6,-999.0000,-999.000,-999.000, 21.8912,-999.000
   318MWESTW_4,  P21E,    77,  1,     32, SI9332,2,19940420,1124,-16.7472,-103.3333, 3705,    151.4,  20.7528,  35.8900,2,  35.9277,2,    210.2,2,    211.8,2,     0.20,2,     0.31,2,     0.35,2,     0.43,2, -999.000,9, -999.000,9, -999.000,1,-999.0000,1,  -999.00,9,   -999.0,1,-999.000,9,   2075.8,2,   2377.0,2,     8.00,2, 1561.7,-999.0000,-999.000,-999.000, 20.7239,-999.000
   318MWESTW_4,  P21E,    77,  1,     31, SI9331,2,19940420,1124,-16.7472,-103.3333, 3705,    201.1,  18.3641,  35.3911,2,  35.4330,2,    200.2,2,    196.5,2,     0.72,2,     3.86,2,     0.00,2,     0.63,2,    2.374,2,    1.222,2, -999.000,1,-999.0000,1,  -999.00,9,   -999.0,1,-999.000,9,   2085.8,2,   2342.0,2,     7.94,2, 2058.3,-999.0000,-999.000,-999.000, 18.3290,-999.000
   318MWESTW_4,  P21E,    77,  1,     30, SI9330,2,19940420,1124,-16.7472,-103.3333, 3705,    251.0,  14.8878,  34.8851,2,  34.9050,2,    169.6,2,    165.1,2,     3.16,2,     9.99,2,     0.00,2,     1.04,2,    2.107,2,    1.024,2, -999.000,1,-999.0000,1,  -999.00,9,   -999.0,1,-999.000,9,   2110.8,2,   2306.0,2,     7.82,2, 2556.5,-999.0000,-999.000,-999.000, 14.8500,-999.000
   318MWESTW_4,  P21E,    77,  1,     29, SI9329,2,19940420,1124,-16.7472,-103.3333, 3705,    302.9,  11.7281,  34.5250,2,  34.5761,2,    126.7,2,    121.3,2,     9.04,2,    17.97,2,     0.00,2,     1.68,2,    1.312,6,    0.612,6, -999.000,1,-999.0000,1,  -999.00,9,   -999.0,1,-999.000,9,   2159.9,2,   2286.0,2,     7.67,2, 3075.3,-999.0000,-999.000,-999.000, 11.6892,-999.000
   318MWESTW_4,  P21E,    77,  1,     28, SI9328,2,19940420,1124,-16.7472,-103.3333, 3705,    403.9,   8.4641,  34.5052,2,  34.5093,2,     65.2,2,     58.9,2,    22.53,2,    33.68,2,     0.00,2,     2.57,2,    0.150,2,    0.067,2, -999.000,1,-999.0000,1,  -999.00,9,   -999.0,1,-999.000,9,   2242.9,2,   2291.0,2,     7.44,2, 4084.5,-999.0000,-999.000,-999.000,  8.4216,-999.000
   318MWESTW_4,  P21E,    77,  1,     27, SI9327,2,19940420,1124,-16.7472,-103.3333, 3705,    497.0,   6.9411,  34.4644,2,  34.4661,2,     85.2,2,     84.4,2,    27.03,2,    36.30,2,     0.00,2,     2.57,2,    0.046,2,    0.021,2, -999.000,1,-999.0000,1,  -999.00,9,   -999.0,1,-999.000,9,   2238.9,2,   2294.0,2,     7.47,2, 5013.8,-999.0000,-999.000,-999.000,  6.8942,-999.000
   318MWESTW_4,  P21E,    77,  1,     26, SI9326,2,19940420,1124,-16.7472,-103.3333, 3705,    602.6,   6.0972,  34.4677,2,  34.4661,2,     79.8,2,     77.9,2,    36.54,2,    39.11,2,     0.00,2,     2.73,2,    0.007,2,    0.005,2, -999.000,1,-999.0000,1,  -999.00,9,   -999.0,1,-999.000,9,   2253.9,2,   2305.0,2,     7.45,2, 6068.4,-999.0000,-999.000,-999.000,  6.0437,-999.000
   318MWESTW_4,  P21E,    77,  1,     25, SI9325,2,19940420,1124,-16.7472,-103.3333, 3705,    702.1,   5.5022,  34.4809,2,  34.4826,2,     67.4,2,     66.5,2,    48.81,2,    41.49,2,     0.00,2,     2.89,2,   -0.003,2,   -0.001,2, -999.000,1,-999.0000,1,  -999.00,9,   -999.0,1,-999.000,9,   2276.0,2,   2316.0,2,     7.43,2, 7062.7,-999.0000,-999.000,-999.000,  5.4425,-999.000
   318MWESTW_4,  P21E,    77,  1,     24, SI9324,2,19940420,1124,-16.7472,-103.3333, 3705,    799.5,   5.0310,  34.4945,2,  34.4960,2,     66.1,2,     65.9,2,    58.84,2,    42.19,2,     0.00,2,     2.97,2,   -0.004,2,   -0.003,2, -999.000,1,-999.0000,1,  -999.00,9,   -999.0,1,-999.000,9,   2288.0,2,   2328.0,2,     7.42,2, 8035.0,-999.0000,-999.000,-999.000,  4.9654,-999.000
   318MWESTW_4,  P21E,    77,  1,     23, SI9323,2,19940420,1124,-16.7472,-103.3333, 3705,    903.9,   4.6277,  34.5112,2,  34.5070,2,     71.4,2,     71.2,2,    66.96,2,    41.95,2,     0.00,2,     2.96,2,   -0.003,2,   -0.003,2, -999.000,1,-999.0000,1,  -999.00,9,   -999.0,1,-999.000,9,   2294.0,2,   2334.0,2,     7.44,2, 9078.6,-999.0000,-999.000,-999.000,  4.5556,-999.000
   318MWESTW_4,  P21E,    77,  1,     22, SI9322,2,19940420,1124,-16.7472,-103.3333, 3705,   1002.8,   4.2532,  34.5266,2,  34.5241,2,     75.1,2,     74.4,2,    76.29,2,    41.76,2,     0.00,2,     2.96,2,   -0.003,2,   -0.002,2, -999.000,1,-999.0000,1,  -999.00,9,   -999.0,1,-999.000,9,   2303.0,2,   2346.0,2,     7.44,2,10065.6,-999.0000,-999.000,-999.000,  4.1753,-999.000
   318MWESTW_4,  P21E,    77,  1,     21, SI9321,2,19940420,1124,-16.7472,-103.3333, 3705,   1096.9,   3.9079,  34.5375,2,  34.5388,2,     81.7,2,     80.4,2,    84.06,2,    41.32,2,     0.00,2,     2.94,2, -999.000,9, -999.000,9, -999.000,1,-999.0000,1,  -999.00,9,   -999.0,1,-999.000,9,   2307.0,2,   2353.0,2,     7.45,2,11005.7,-999.0000,-999.000,-999.000,  3.8248,-999.000
   318MWESTW_4,  P21E,    77,  1,     20, SI9320,2,19940420,1124,-16.7472,-103.3333, 3705,   1206.7,   3.6017,  34.5545,2,  34.5533,2,     82.8,2,     83.3,2,    92.17,2,    41.20,2,     0.00,2,     2.94,2, -999.000,9, -999.000,9, -999.000,1,-999.0000,1,  -999.00,9,   -999.0,1,-999.000,9,   2315.0,2,   2364.0,2,     7.45,2,12103.0,-999.0000,-999.000,-999.000,  3.5121,-999.000
   318MWESTW_4,  P21E,    77,  1,     19, SI9319,2,19940420,1124,-16.7472,-103.3333, 3705,   1305.1,   3.3480,  34.5689,2,  34.5669,2,     88.4,2,     88.4,2,    98.04,2,    40.69,2,     0.00,2,     2.91,2, -999.000,9, -999.000,9, -999.000,1,-999.0000,1,  -999.00,9,   -999.0,1,-999.000,9,   2318.0,2,   2371.0,2,     7.46,2,13085.7,-999.0000,-999.000,-999.000,  3.2527,-999.000
   318MWESTW_4,  P21E,    77,  1,     18, SI9318,2,19940420,1124,-16.7472,-103.3333, 3705,   1411.9,   3.1168,  34.5818,2,  34.5808,2,     92.4,2,     92.5,2,   104.26,2,    40.45,2,     0.00,2,     2.88,2, -999.000,9, -999.000,9, -999.000,1,-999.0000,1,  -999.00,9,   -999.0,1,-999.000,9,   2323.0,2,   2376.0,2,     7.47,2,14152.5,-999.0000,-999.000,-999.000,  3.0150,-999.000
   318MWESTW_4,  P21E,    77,  1,     17, SI9317,2,19940420,1124,-16.7472,-103.3333, 3705,   1510.8,   2.9106,  34.5947,2,  34.5930,2,     96.9,2,     97.1,2,   109.43,2,    40.07,2,     0.00,2,     2.85,2, -999.000,9, -999.000,9, -999.000,1,-999.0000,1,  -999.00,9,   -999.0,1,-999.000,9,   2325.0,2,   2384.0,2,     7.47,2,15140.5,-999.0000,-999.000,-999.000,  2.8028,-999.000
   318MWESTW_4,  P21E,    77,  1,     16, SI9316,2,19940420,1124,-16.7472,-103.3333, 3705,   1605.4,   2.7301,  34.6071,2,  34.6062,2,    102.2,2,    102.0,2,   113.91,2,    39.70,2,     0.00,2,     2.82,2, -999.000,9, -999.000,9, -999.000,1,-999.0000,1,  -999.00,9,   -999.0,1,-999.000,9,   2328.0,2,   2387.0,2,     7.49,2,16085.5,-999.0000,-999.000,-999.000,  2.6166,-999.000
   318MWESTW_4,  P21E,    77,  1,     15, SI9315,2,19940420,1124,-16.7472,-103.3333, 3705,   1742.2,   2.4961,  34.6246,2,  34.6217,2,    111.8,2,    111.0,2,   118.58,2,    38.87,2,     0.00,2,     2.77,2, -999.000,9, -999.000,9, -999.000,1,-999.0000,1,  -999.00,9,   -999.0,1,-999.000,9,   2327.0,2,   2395.0,2,     7.50,2,17452.1,-999.0000,-999.000,-999.000,  2.3742,-999.000
   318MWESTW_4,  P21E,    77,  1,     14, SI9314,2,19940420,1124,-16.7472,-103.3333, 3705,   1897.2,   2.2575,  34.6399,2,  34.6356,2,    126.6,2,    124.1,2,   120.99,2,    37.79,2,     0.00,2,     2.67,2, -999.000,9, -999.000,9, -999.000,1,-999.0000,1,  -999.00,9,   -999.0,1,-999.000,9,   2322.0,2,   2397.0,2,     7.53,2,19000.4,-999.0000,-999.000,-999.000,  2.1258,-999.000
   318MWESTW_4,  P21E,    77,  1,     13, SI9313,2,19940420,1124,-16.7472,-103.3333, 3705,   2044.6,   2.0856,  34.6491,2,  34.6468,2,    137.6,2,    137.2,2,   120.65,2,    36.78,2,     0.00,2,     2.58,2, -999.000,9, -999.000,9, -999.000,1,-999.0000,1,  -999.00,9,   -999.0,1,-999.000,9,   2314.0,2,   2400.0,2,     7.55,2,20473.8,-999.0000,-999.000,-999.000,  1.9440,-999.000
   318MWESTW_4,  P21E,    77,  1,     12, SI9312,2,19940420,1124,-16.7472,-103.3333, 3705,   2197.0,   1.9566,  34.6598,2,  34.6582,2,    144.3,2,    145.3,2,   121.67,2,    36.21,2,     0.00,2,     2.53,2, -999.000,9, -999.000,9, -999.000,1,-999.0000,1,  -999.00,9,   -999.0,1,-999.000,9,   2312.0,2,   2399.0,2,     7.56,2,21995.9,-999.0000,-999.000,-999.000,  1.8040,-999.000
   318MWESTW_4,  P21E,    77,  1,     11, SI9311,2,19940420,1124,-16.7472,-103.3333, 3705,   2353.8,   1.8650,  34.6687,2,  34.6625,4,    151.8,2,    150.7,2,   122.71,2,    36.16,2,     0.00,2,     2.51,2, -999.000,9, -999.000,9, -999.000,1,-999.0000,1,  -999.00,9,   -999.0,1,-999.000,9,   2316.0,2,   2408.0,2,     7.58,2,23562.5,-999.0000,-999.000,-999.000,  1.7002,-999.000
   318MWESTW_4,  P21E,    77,  1,     10, SI9310,2,19940420,1124,-16.7472,-103.3333, 3705,   2497.6,   1.8245,  34.6743,2,  34.6539,4,    149.2,2,    148.8,2,   126.84,2,    36.03,2,     0.00,2,     2.50,2, -999.000,9, -999.000,9, -999.000,1,-999.0000,1,  -999.00,9,   -999.0,1,-999.000,9,   2313.0,2,   2403.0,2,     7.57,2,25000.0,-999.0000,-999.000,-999.000,  1.6476,-999.000
   318MWESTW_4,  P21E,    77,  1,      9, SI9309,2,19940420,1124,-16.7472,-103.3333, 3705,   2657.3,   1.8056,  34.6777,2,  34.6769,2,    149.0,2,    147.5,2,   129.61,2,    36.16,2,     0.00,2,     2.51,2, -999.000,9, -999.000,9, -999.000,1,-999.0000,1,  -999.00,9,   -999.0,1,-999.000,9,   2320.0,2,   2416.0,2,     7.58,2,26595.7,-999.0000,-999.000,-999.000,  1.6145,-999.000
   318MWESTW_4,  P21E,    77,  1,      8, SI9308,2,19940420,1124,-16.7472,-103.3333, 3705,   2811.0,   1.7995,  34.6796,2,  34.6781,2,    146.0,2,    145.6,2,   132.19,2,    36.30,2,     0.00,2,     2.52,2, -999.000,9, -999.000,9, -999.000,1,-999.0000,1,  -999.00,9,   -999.0,1,-999.000,9,   2324.0,2,   2418.0,2,     7.58,2,28131.1,-999.0000,-999.000,-999.000,  1.5942,-999.000
   318MWESTW_4,  P21E,    77,  1,      7, SI9307,2,19940420,1124,-16.7472,-103.3333, 3705,   2942.6,   1.7968,  34.6803,2,  34.6793,2,    143.8,2,    144.4,2,   134.25,2,    36.50,2,     0.00,2,     2.53,2, -999.000,9, -999.000,9, -999.000,1,-999.0000,1,  -999.00,9,   -999.0,1,-999.000,9,   2327.0,2,   2424.0,2,     7.58,2,29446.3,-999.0000,-999.000,-999.000,  1.5790,-999.000
   318MWESTW_4,  P21E,    77,  1,      6, SI9306,2,19940420,1124,-16.7472,-103.3333, 3705,   3095.9,   1.7949,  34.6809,2,  34.6794,2,    143.0,2,    142.8,2,   136.49,2,    36.58,2,     0.00,2,     2.54,2, -999.000,9, -999.000,9, -999.000,1,-999.0000,1,  -999.00,9,   -999.0,1,-999.000,9,   2331.0,2,   2424.0,2,     7.58,2,30978.2,-999.0000,-999.000,-999.000,  1.5622,-999.000
   318MWESTW_4,  P21E,    77,  1,      5, SI9305,2,19940420,1124,-16.7472,-103.3333, 3705,   3249.8,   1.8035,  34.6821,2,  34.6796,2,    144.5,2,    143.9,2,   135.28,2,    36.52,2,     0.00,2,     2.53,2, -999.000,9, -999.000,9, -999.000,1,-999.0000,1,  -999.00,9,   -999.0,1,-999.000,9,   2330.0,2,   2426.0,2,     7.58,2,32515.8,-999.0000,-999.000,-999.000,  1.5553,-999.000
   318MWESTW_4,  P21E,    77,  1,      4, SI9304,2,19940420,1124,-16.7472,-103.3333, 3705,   3394.5,   1.8093,  34.6841,2,  34.6824,2,    146.8,2,    146.1,2,   133.21,2,    36.26,2,     0.00,2,     2.52,2, -999.000,9, -999.000,9, -999.000,1,-999.0000,1,  -999.00,9,   -999.0,1,-999.000,9,   2327.0,2,   2421.0,2,     7.58,2,33962.3,-999.0000,-999.000,-999.000,  1.5463,-999.000
   318MWESTW_4,  P21E,    77,  1,      3, SI9303,2,19940420,1124,-16.7472,-103.3333, 3705,   3526.2,   1.8114,  34.6854,2,  34.6848,2,    148.5,2,    147.7,2,   131.83,2,    35.95,2,     0.00,2,     2.51,2, -999.000,9, -999.000,9, -999.000,1,-999.0000,1,  -999.00,9,   -999.0,1,-999.000,9,   2325.0,2,   2423.0,2,     7.58,2,35278.6,-999.0000,-999.000,-999.000,  1.5347,-999.000
   318MWESTW_4,  P21E,    77,  1,      2, SI9302,2,19940420,1124,-16.7472,-103.3333, 3705,   3705.6,   1.8205,  34.6868,2,  34.6855,2,    149.8,2,    148.4,2,   131.14,2,    35.90,2,     0.00,2,     2.50,2, -999.000,9, -999.000,9, -999.000,1,-999.0000,1,  -999.00,9,   -999.0,1,-999.000,9,   2325.0,2,   2420.0,2,     7.58,2,37071.5,-999.0000,-999.000,-999.000,  1.5246,-999.000
   318MWESTW_4,  P21E,    77,  1,      1, SI9301,2,19940420,1124,-16.7472,-103.3333, 3705,   3748.4,   1.8241,  34.6862,2,  34.6853,2,    148.7,2,    148.7,2,   130.83,2,    35.76,2,     0.00,2,     2.51,2, -999.000,9, -999.000,9, -999.000,1,-999.0000,1,  -999.00,9,   -999.0,1,-999.000,9,   2324.0,2,   2422.0,2,     7.58,2,37499.6,-999.0000,-999.000,-999.000,  1.5235,-999.000