BOTTLE,20010911WHPSIOdm
EXPOCODE,SECT_ID,STNNBR,CASTNO,SAMPNO,BTLNBR,BTLNBR_FLAG_W,DATE,TIME,LATITUDE,LONGITUDE,DEPTH,CTDPRS,CTDTMP,CTDSAL,CTDSAL_FLAG_W,SALNTY,SALNTY_FLAG_W,CTDOXY,CTDOXY_FLAG_W,OXYGEN,OXYGEN_FLAG_W,SILCAT,SILCAT_FLAG_W,NITRAT,NITRAT_FLAG_W,NITRIT,NITRIT_FLAG_W,PHSPHT,PHSPHT_FLAG_W,CFC-11,CFC-11_FLAG_W,CFC-12,CFC-12_FLAG_W,TRITUM,TRITUM_FLAG_W,HELIUM,HELIUM_FLAG_W,DELHE3,DELHE3_FLAG_W,DELC14,DELC14_FLAG_W,NEON,NEON_FLAG_W,TCARBN,TCARBN_FLAG_W,ALKALI,ALKALI_FLAG_W,PH,PH_FLAG_W,CTDRAW,HELIER,DELHER,NEONER,THETA,TRITER
,,,,,,,,,,,,DBAR,ITS-90,PSS-78,,PSS-78,,UMOL/KG,,UMOL/KG,,UMOL/KG,,UMOL/KG,,UMOL/KG,,UMOL/KG,,PMOL/KG,,PMOL/KG,,TU,,UMOL/KG,,PERCNT,,/MILLE,,NMOL/KG,,UMOL/KG,,UMOL/KG,,,,,NMOL/KG,PERCNT,NMOL/KG,ITS-90,TU
   318MWESTW_5,  P21W,   264,  1,     20, SI9420,2,19940616,1132,-21.4833, 162.7667, 1560,      5.7,  23.0542,  35.5975,2,  35.5981,2,    209.9,2,    215.1,2,     0.28,2,     0.00,2,     0.00,2,     0.08,2, -999.000,9, -999.000,9, -999.000,1,-999.0000,1,  -999.00,9,   -999.0,1,-999.000,9,   -999.0,9,   -999.0,9,  -999.00,9,  115.1,-999.0000,-999.000,-999.000, 23.0530,-999.000
   318MWESTW_5,  P21W,   264,  1,     19, SI9419,2,19940616,1132,-21.4833, 162.7667, 1560,     18.9,  23.0614,  35.5980,2,  35.5979,2,    214.9,2,    216.6,2,     0.32,2,     0.00,2,     0.00,2,     0.07,2,    1.937,2,    1.090,2, -999.000,1,-999.0000,1,  -999.00,9,   -999.0,1,-999.000,9,   -999.0,9,   -999.0,9,  -999.00,9,  247.5,-999.0000,-999.000,-999.000, 23.0575,-999.000
   318MWESTW_5,  P21W,   264,  1,     18, SI9439,2,19940616,1132,-21.4833, 162.7667, 1560,     43.8,  23.0462,  35.6066,2,  35.6149,2,    210.2,2,    216.1,2,     0.37,2,     0.00,2,     0.00,2,     0.08,2,    1.973,2,    1.100,2, -999.000,1,-999.0000,1,  -999.00,9,   -999.0,1,-999.000,9,   -999.0,9,   -999.0,9,  -999.00,9,  495.2,-999.0000,-999.000,-999.000, 23.0372,-999.000
   318MWESTW_5,  P21W,   264,  1,     17, SI9417,2,19940616,1132,-21.4833, 162.7667, 1560,     94.9,  22.0493,  35.7456,2,  35.7483,2,    206.9,2,    207.3,2,     0.56,2,     0.63,2,     0.13,2,     0.19,2,    1.996,2,    1.105,2, -999.000,1,-999.0000,1,  -999.00,9,   -999.0,1,-999.000,9,   -999.0,9,   -999.0,9,  -999.00,9, 1003.8,-999.0000,-999.000,-999.000, 22.0304,-999.000
   318MWESTW_5,  P21W,   264,  1,     16, SI9416,2,19940616,1132,-21.4833, 162.7667, 1560,    146.1,  20.5640,  35.7374,2,  35.7312,2,    192.1,2,    193.6,2,     0.74,2,     2.71,2,     0.02,2,     0.32,2, -999.000,9, -999.000,9, -999.000,1,-999.0000,1,  -999.00,9,   -999.0,1,-999.000,9,   -999.0,9,   -999.0,9,  -999.00,9, 1514.5,-999.0000,-999.000,-999.000, 20.5364,-999.000
   318MWESTW_5,  P21W,   264,  1,     15, SI9415,2,19940616,1132,-21.4833, 162.7667, 1560,    195.3,  19.8095,  35.6965,2,  35.6952,2,    187.3,2,    192.6,2,     0.94,2,     3.54,2,     0.01,2,     0.37,2,    2.109,2,    1.332,4, -999.000,1,-999.0000,1,  -999.00,9,   -999.0,1,-999.000,9,   -999.0,9,   -999.0,9,  -999.00,9, 2004.5,-999.0000,-999.000,-999.000, 19.7735,-999.000
   318MWESTW_5,  P21W,   264,  1,     14, SI9436,2,19940616,1132,-21.4833, 162.7667, 1560,    245.1,  18.7417,  35.6215,2,  35.6167,2,    182.7,2,    185.7,2,     1.27,2,     4.92,2,     0.00,2,     0.47,2,    2.035,2,    1.183,4, -999.000,1,-999.0000,1,  -999.00,9,   -999.0,1,-999.000,9,   -999.0,9,   -999.0,9,  -999.00,9, 2499.9,-999.0000,-999.000,-999.000, 18.6982,-999.000
   318MWESTW_5,  P21W,   264,  1,     13, SI9413,2,19940616,1132,-21.4833, 162.7667, 1560,    284.1,  17.2298,  35.5139,2,  35.5202,2,    184.8,2,    184.6,2,     1.90,2,     6.51,2,     0.00,2,     0.57,2, -999.000,9, -999.000,9, -999.000,1,-999.0000,1,  -999.00,9,   -999.0,1,-999.000,9,   -999.0,9,   -999.0,9,  -999.00,9, 2888.6,-999.0000,-999.000,-999.000, 17.1822,-999.000
   318MWESTW_5,  P21W,   264,  1,     12, SI9438,2,19940616,1132,-21.4833, 162.7667, 1560,    340.2,  15.4355,  35.3413,2,  35.3350,2,    183.8,2,    180.7,2,     3.25,2,     9.70,2,     0.01,2,     0.77,2,    1.777,2,    1.113,4, -999.000,1,-999.0000,1,  -999.00,9,   -999.0,1,-999.000,9,   -999.0,9,   -999.0,9,  -999.00,9, 3446.5,-999.0000,-999.000,-999.000, 15.3826,-999.000
   318MWESTW_5,  P21W,   264,  1,     11, SI9411,2,19940616,1132,-21.4833, 162.7667, 1560,    399.4,  13.5984,  35.1489,2,  35.1382,2,    182.5,2,    179.7,2,     5.05,2,    12.97,2,     0.00,2,     0.99,2, -999.000,9, -999.000,9, -999.000,1,-999.0000,1,  -999.00,9,   -999.0,1,-999.000,9,   -999.0,9,   -999.0,9,  -999.00,9, 4035.0,-999.0000,-999.000,-999.000, 13.5413,-999.000
   318MWESTW_5,  P21W,   264,  1,     10, SI9412,2,19940616,1132,-21.4833, 162.7667, 1560,    497.2,  10.4687,  34.8180,2,  34.8267,2,    184.3,2,    186.5,2,     8.16,2,    18.01,2,     0.01,2,     1.31,2,    1.113,2,    0.710,4, -999.000,1,-999.0000,1,  -999.00,9,   -999.0,1,-999.000,9,   -999.0,9,   -999.0,9,  -999.00,9, 5008.1,-999.0000,-999.000,-999.000, 10.4086,-999.000
   318MWESTW_5,  P21W,   264,  1,      9, SI9410,2,19940616,1132,-21.4833, 162.7667, 1560,    596.9,   8.4315,  34.6121,2,  34.6085,2,    193.5,2,    193.5,2,    12.43,2,    22.08,2,     0.01,2,     1.56,2,    0.736,2,    0.375,2, -999.000,1,-999.0000,1,  -999.00,9,   -999.0,1,-999.000,9,   -999.0,9,   -999.0,9,  -999.00,9, 5999.8,-999.0000,-999.000,-999.000,  8.3680,-999.000
   318MWESTW_5,  P21W,   264,  1,      8, SI9422,2,19940616,1132,-21.4833, 162.7667, 1560,    699.4,   6.8302,  34.4914,2,  34.4899,2,    193.9,2,    193.4,2,    20.94,2,    25.77,2,     0.01,2,     1.81,2, -999.000,9, -999.000,9, -999.000,1,-999.0000,1,  -999.00,9,   -999.0,1,-999.000,9,   -999.0,9,   -999.0,9,  -999.00,9, 7018.6,-999.0000,-999.000,-999.000,  6.7638,-999.000
   318MWESTW_5,  P21W,   264,  1,      7, SI9407,2,19940616,1132,-21.4833, 162.7667, 1560,    808.4,   5.5495,  34.4416,2,  34.4414,2,    186.6,2,    186.7,2,    32.66,2,    28.78,2,     0.00,2,     2.01,2,    0.156,2,    0.088,2, -999.000,1,-999.0000,1,  -999.00,9,   -999.0,1,-999.000,9,   -999.0,9,   -999.0,9,  -999.00,9, 8101.7,-999.0000,-999.000,-999.000,  5.4800,-999.000
   318MWESTW_5,  P21W,   264,  1,      6, SI9427,2,19940616,1132,-21.4833, 162.7667, 1560,    904.7,   4.8815,  34.4687,2,  34.4675,2,    178.9,2,    176.8,2,    46.28,2,    30.55,2,     0.00,2,     2.14,2, -999.000,9, -999.000,9, -999.000,1,-999.0000,1,  -999.00,9,   -999.0,1,-999.000,9,   -999.0,9,   -999.0,9,  -999.00,9, 9059.7,-999.0000,-999.000,-999.000,  4.8076,-999.000
   318MWESTW_5,  P21W,   264,  1,      5, SI9405,2,19940616,1132,-21.4833, 162.7667, 1560,   1001.0,   4.4013,  34.4892,2,  34.4895,2,    171.9,2,    170.2,2,    56.68,2,    31.71,2,     0.00,2,     2.22,2, -999.000,9, -999.000,9, -999.000,1,-999.0000,1,  -999.00,9,   -999.0,1,-999.000,9,   -999.0,9,   -999.0,9,  -999.00,9,10016.9,-999.0000,-999.000,-999.000,  4.3225,-999.000
   318MWESTW_5,  P21W,   264,  1,      4, SI9404,2,19940616,1132,-21.4833, 162.7667, 1560,   1099.4,   4.1264,  34.5031,2,  34.5025,2,    166.7,2,    166.6,2,    62.86,2,    32.36,2,     0.00,2,     2.27,2, -999.000,9, -999.000,9, -999.000,1,-999.0000,1,  -999.00,9,   -999.0,1,-999.000,9,   -999.0,9,   -999.0,9,  -999.00,9,10994.5,-999.0000,-999.000,-999.000,  4.0413,-999.000
   318MWESTW_5,  P21W,   264,  1,      3, SI9403,2,19940616,1132,-21.4833, 162.7667, 1560,   1305.8,   3.5425,  34.5427,2,  34.5408,2,    159.0,2,    158.6,2,    77.93,2,    33.63,2,     0.00,2,     2.36,2,    0.014,2,    0.009,2, -999.000,1,-999.0000,1,  -999.00,9,   -999.0,1,-999.000,9,   -999.0,9,   -999.0,9,  -999.00,9,13045.7,-999.0000,-999.000,-999.000,  3.4452,-999.000
   318MWESTW_5,  P21W,   264,  1,      2, SI9437,2,19940616,1132,-21.4833, 162.7667, 1560,   1498.9,   3.0896,  34.5784,2,  34.5767,2,    152.1,2,    153.4,2,    89.93,2,    34.41,2,     0.00,2,     2.42,2, -999.000,9, -999.000,9, -999.000,1,-999.0000,1,  -999.00,9,   -999.0,1,-999.000,9,   -999.0,9,   -999.0,9,  -999.00,9,14965.6,-999.0000,-999.000,-999.000,  2.9808,-999.000
   318MWESTW_5,  P21W,   264,  1,      1, SI9401,2,19940616,1132,-21.4833, 162.7667, 1560,   1543.9,   3.0658,  34.5807,2,  34.5800,2,    153.0,2,    153.6,2,    90.73,2,    34.46,2,     0.00,2,     2.42,2,    0.005,2,    0.023,2, -999.000,1,-999.0000,1,  -999.00,9,   -999.0,1,-999.000,9,   -999.0,9,   -999.0,9,  -999.00,9,15411.9,-999.0000,-999.000,-999.000,  2.9535,-999.000
   318MWESTW_5,  P21W,   265,  1,     15, SI9415,2,19940616,1437,-21.6028, 162.4972,  764,      6.5,  22.5715,  35.6757,2,  35.6753,2,    210.0,2,    218.1,2,     0.29,2,     0.00,2,     0.00,2,     0.08,2,    2.003,2,    1.113,2, -999.000,1,-999.0000,1,  -999.00,9,   -999.0,1,-999.000,9,   -999.0,9,   -999.0,9,  -999.00,9,  123.1,-999.0000,-999.000,-999.000, 22.5702,-999.000
   318MWESTW_5,  P21W,   265,  1,     14, SI9436,2,19940616,1437,-21.6028, 162.4972,  764,     23.1,  22.5598,  35.6765,2,  35.6790,2,    213.4,2,    215.8,2,     0.48,2,    -0.01,2,     0.01,2,     0.09,2, -999.000,9, -999.000,9, -999.000,1,-999.0000,1,  -999.00,9,   -999.0,1,-999.000,9,   -999.0,9,   -999.0,9,  -999.00,9,  288.7,-999.0000,-999.000,-999.000, 22.5551,-999.000
   318MWESTW_5,  P21W,   265,  1,     13, SI9413,2,19940616,1437,-21.6028, 162.4972,  764,     48.4,  22.3001,  35.7856,2,  35.7849,2,    212.4,2,    213.9,2,     0.51,2,     0.03,2,     0.02,2,     0.10,2,    2.036,2,    1.137,2, -999.000,1,-999.0000,1,  -999.00,9,   -999.0,1,-999.000,9,   -999.0,9,   -999.0,9,  -999.00,9,  540.8,-999.0000,-999.000,-999.000, 22.2904,-999.000
   318MWESTW_5,  P21W,   265,  1,     12, SI9438,2,19940616,1437,-21.6028, 162.4972,  764,     91.9,  21.7126,  35.8035,2,  35.8019,2,    209.4,2,    207.1,2,     0.55,2,     0.43,2,     0.09,2,     0.18,2,    2.039,2,    1.082,2, -999.000,1,-999.0000,1,  -999.00,9,   -999.0,1,-999.000,9,   -999.0,9,   -999.0,9,  -999.00,9,  973.1,-999.0000,-999.000,-999.000, 21.6945,-999.000
   318MWESTW_5,  P21W,   265,  1,     11, SI9411,2,19940616,1437,-21.6028, 162.4972,  764,    144.8,  20.1240,  35.7155,2,  35.7181,2,    195.9,2,    192.6,2,     0.87,2,     3.05,2,     0.02,2,     0.33,2, -999.000,9, -999.000,9, -999.000,1,-999.0000,1,  -999.00,9,   -999.0,1,-999.000,9,   -999.0,9,   -999.0,9,  -999.00,9, 1499.5,-999.0000,-999.000,-999.000, 20.0970,-999.000
   318MWESTW_5,  P21W,   265,  1,     10, SI9412,2,19940616,1437,-21.6028, 162.4972,  764,    195.5,  19.1326,  35.6411,2,  35.6425,2,    187.8,2,    186.3,2,     1.19,2,     4.41,2,     0.01,2,     0.41,2,    2.048,2,    1.109,2, -999.000,1,-999.0000,1,  -999.00,9,   -999.0,1,-999.000,9,   -999.0,9,   -999.0,9,  -999.00,9, 2003.9,-999.0000,-999.000,-999.000, 19.0974,-999.000
   318MWESTW_5,  P21W,   265,  1,      9, SI9410,2,19940616,1437,-21.6028, 162.4972,  764,    246.0,  18.1025,  35.6052,2,  35.6019,2,    182.3,2,    190.0,2,     1.38,2,     4.93,2,     0.00,2,     0.45,2, -999.000,9, -999.000,9, -999.000,1,-999.0000,1,  -999.00,9,   -999.0,1,-999.000,9,   -999.0,9,   -999.0,9,  -999.00,9, 2506.3,-999.0000,-999.000,-999.000, 18.0599,-999.000
   318MWESTW_5,  P21W,   265,  1,      8, SI9422,2,19940616,1437,-21.6028, 162.4972,  764,    295.4,  16.5786,  35.4595,2,  35.4608,2,    180.0,2,    184.4,2,     2.29,2,     7.43,2,     0.00,2,     0.62,2,    1.953,2,    0.999,2, -999.000,1,-999.0000,1,  -999.00,9,   -999.0,1,-999.000,9,   -999.0,9,   -999.0,9,  -999.00,9, 2998.2,-999.0000,-999.000,-999.000, 16.5304,-999.000
   318MWESTW_5,  P21W,   265,  1,      7, SI9407,2,19940616,1437,-21.6028, 162.4972,  764,    346.6,  15.7126,  35.3776,2,  35.3620,2,    185.8,2,    181.8,2,     3.05,2,     9.13,2,     0.00,2,     0.73,2, -999.000,9, -999.000,9, -999.000,1,-999.0000,1,  -999.00,9,   -999.0,1,-999.000,9,   -999.0,9,   -999.0,9,  -999.00,9, 3507.5,-999.0000,-999.000,-999.000, 15.6580,-999.000
   318MWESTW_5,  P21W,   265,  1,      6, SI9427,2,19940616,1437,-21.6028, 162.4972,  764,    400.0,  13.5309,  35.1362,2,  35.1339,2,    182.8,2,    178.7,2,     5.28,2,    13.07,2,     0.00,2,     0.99,2,    1.485,2,    0.770,2, -999.000,1,-999.0000,1,  -999.00,9,   -999.0,1,-999.000,9,   -999.0,9,   -999.0,9,  -999.00,9, 4038.4,-999.0000,-999.000,-999.000, 13.4739,-999.000
   318MWESTW_5,  P21W,   265,  1,      5, SI9405,2,19940616,1437,-21.6028, 162.4972,  764,    448.5,  12.1070,  34.9879,2,  34.9888,2,    182.2,2,    180.2,2,     7.06,2,    15.49,2,     0.00,2,     1.14,2, -999.000,9, -999.000,9, -999.000,1,-999.0000,1,  -999.00,9,   -999.0,1,-999.000,9,   -999.0,9,   -999.0,9,  -999.00,9, 4520.0,-999.0000,-999.000,-999.000, 12.0476,-999.000
   318MWESTW_5,  P21W,   265,  1,      4, SI9404,2,19940616,1437,-21.6028, 162.4972,  764,    551.8,   9.2693,  34.6925,2,  34.6914,2,    189.7,2,    189.1,2,    10.17,2,    20.28,2,     0.00,2,     1.46,2,    0.856,2,    0.432,2, -999.000,1,-999.0000,1,  -999.00,9,   -999.0,1,-999.000,9,   -999.0,9,   -999.0,9,  -999.00,9, 5546.4,-999.0000,-999.000,-999.000,  9.2073,-999.000
   318MWESTW_5,  P21W,   265,  1,      3, SI9403,2,19940616,1437,-21.6028, 162.4972,  764,    654.1,   7.3432,  34.5124,2,  34.5109,2,    195.6,2,    196.1,2,    16.19,2,    24.14,2,     0.00,2,     1.69,2,    0.477,2,    0.255,2, -999.000,1,-999.0000,1,  -999.00,9,   -999.0,1,-999.000,9,   -999.0,9,   -999.0,9,  -999.00,9, 6562.9,-999.0000,-999.000,-999.000,  7.2787,-999.000
   318MWESTW_5,  P21W,   265,  1,      2, SI9437,2,19940616,1437,-21.6028, 162.4972,  764,    713.7,   6.5687,  34.4716,2,  34.4689,2,    193.7,2,    193.7,2,    21.78,2,    26.04,2,     0.00,2,     1.81,2, -999.000,9, -999.000,9, -999.000,1,-999.0000,1,  -999.00,9,   -999.0,1,-999.000,9,   -999.0,9,   -999.0,9,  -999.00,9, 7155.0,-999.0000,-999.000,-999.000,  6.5022,-999.000
   318MWESTW_5,  P21W,   265,  1,      1, SI9401,2,19940616,1437,-21.6028, 162.4972,  764,    757.7,   6.1642,  34.4769,2,  34.4765,2,    188.4,2,    188.0,2,    28.93,2,    27.37,2,     0.00,2,     1.90,2,    0.248,2,    0.138,2, -999.000,1,-999.0000,1,  -999.00,9,   -999.0,1,-999.000,9,   -999.0,9,   -999.0,9,  -999.00,9, 7591.8,-999.0000,-999.000,-999.000,  6.0957,-999.000