BOTTLE,20010911WHPSIOdm
EXPOCODE,SECT_ID,STNNBR,CASTNO,SAMPNO,BTLNBR,BTLNBR_FLAG_W,DATE,TIME,LATITUDE,LONGITUDE,DEPTH,CTDPRS,CTDTMP,CTDSAL,CTDSAL_FLAG_W,SALNTY,SALNTY_FLAG_W,CTDOXY,CTDOXY_FLAG_W,OXYGEN,OXYGEN_FLAG_W,SILCAT,SILCAT_FLAG_W,NITRAT,NITRAT_FLAG_W,NITRIT,NITRIT_FLAG_W,PHSPHT,PHSPHT_FLAG_W,CFC-11,CFC-11_FLAG_W,CFC-12,CFC-12_FLAG_W,TRITUM,TRITUM_FLAG_W,HELIUM,HELIUM_FLAG_W,DELHE3,DELHE3_FLAG_W,DELC14,DELC14_FLAG_W,NEON,NEON_FLAG_W,TCARBN,TCARBN_FLAG_W,ALKALI,ALKALI_FLAG_W,PH,PH_FLAG_W,CTDRAW,HELIER,DELHER,NEONER,THETA,TRITER
,,,,,,,,,,,,DBAR,ITS-90,PSS-78,,PSS-78,,UMOL/KG,,UMOL/KG,,UMOL/KG,,UMOL/KG,,UMOL/KG,,UMOL/KG,,PMOL/KG,,PMOL/KG,,TU,,UMOL/KG,,PERCNT,,/MILLE,,NMOL/KG,,UMOL/KG,,UMOL/KG,,,,,NMOL/KG,PERCNT,NMOL/KG,ITS-90,TU
   318MWESTW_5,  P21W,   248,  1,     36, SI9442,2,19940612,0810,-19.1362, 166.3028, 4027,      7.7,  26.4413,  34.8613,2,  34.8589,2,    208.0,2,    207.3,2,     0.75,2,     0.04,2,     0.01,2,     0.11,2,    1.715,2,    0.964,2, -999.000,1,-999.0000,1,  -999.00,9,   -999.0,1,-999.000,9,   -999.0,9,   -999.0,9,  -999.00,9,  134.9,-999.0000,-999.000,-999.000, 26.4396,-999.000
   318MWESTW_5,  P21W,   248,  1,     35, SI9435,2,19940612,0810,-19.1362, 166.3028, 4027,     21.7,  26.4520,  34.8610,2,  34.8578,2,    207.0,2,    210.4,2,     0.76,2,     0.04,2,     0.01,2,     0.12,2, -999.000,9, -999.000,9, -999.000,1,-999.0000,1,  -999.00,9,   -999.0,1,-999.000,9,   -999.0,9,   -999.0,9,  -999.00,9,  275.0,-999.0000,-999.000,-999.000, 26.4471,-999.000
   318MWESTW_5,  P21W,   248,  1,     34, SI9441,2,19940612,0810,-19.1362, 166.3028, 4027,     47.3,  26.4536,  34.8621,2,  34.8670,2,    203.3,2,    205.5,2,     0.76,2,    -0.01,2,     0.01,2,     0.12,2,    1.714,6,    0.959,6, -999.000,1,-999.0000,1,  -999.00,9,   -999.0,1,-999.000,9,   -999.0,9,   -999.0,9,  -999.00,9,  529.9,-999.0000,-999.000,-999.000, 26.4429,-999.000
   318MWESTW_5,  P21W,   248,  1,     33, SI9433,2,19940612,0810,-19.1362, 166.3028, 4027,     97.7,  24.7988,  35.7016,2,  35.6972,2,    168.8,2,    178.1,2,     1.05,2,     2.63,2,     0.06,2,     0.42,2,    1.757,2,    0.969,2, -999.000,1,-999.0000,1,  -999.00,9,   -999.0,1,-999.000,9,   -999.0,9,   -999.0,9,  -999.00,9, 1032.6,-999.0000,-999.000,-999.000, 24.7777,-999.000
   318MWESTW_5,  P21W,   248,  1,     32, SI9432,2,19940612,0810,-19.1362, 166.3028, 4027,    148.5,  22.4220,  35.7850,2,  35.7813,2,    165.1,2,    162.9,2,     1.05,2,     4.56,2,     0.03,2,     0.49,2,    1.848,2,    0.995,2, -999.000,1,-999.0000,1,  -999.00,9,   -999.0,1,-999.000,9,   -999.0,9,   -999.0,9,  -999.00,9, 1538.0,-999.0000,-999.000,-999.000, 22.3921,-999.000
   318MWESTW_5,  P21W,   248,  1,     31, SI9431,2,19940612,0810,-19.1362, 166.3028, 4027,    194.0,  20.3953,  35.7292,2,  35.7223,2,    159.2,2,    159.5,2,     1.75,3,     6.36,3,     0.01,2,     0.60,3,    1.767,2,    0.952,2, -999.000,1,-999.0000,1,  -999.00,9,   -999.0,1,-999.000,9,   -999.0,9,   -999.0,9,  -999.00,9, 1991.9,-999.0000,-999.000,-999.000, 20.3588,-999.000
   318MWESTW_5,  P21W,   248,  1,     30, SI9440,2,19940612,0810,-19.1362, 166.3028, 4027,    245.3,  18.8087,  35.6207,2,  35.6151,2,    173.1,2,    174.1,2,     1.62,3,     5.72,3,     0.01,2,     0.52,3,    1.892,2,    1.011,2, -999.000,1,-999.0000,1,  -999.00,9,   -999.0,1,-999.000,9,   -999.0,9,   -999.0,9,  -999.00,9, 2502.1,-999.0000,-999.000,-999.000, 18.7650,-999.000
   318MWESTW_5,  P21W,   248,  1,     29, SI9429,2,19940612,0810,-19.1362, 166.3028, 4027,    295.9,  17.2883,  35.5038,2,  35.4995,2,    174.8,2,    177.4,2,     2.18,2,     7.09,2,     0.01,2,     0.62,2,    1.873,2,    0.978,2, -999.000,1,-999.0000,1,  -999.00,9,   -999.0,1,-999.000,9,   -999.0,9,   -999.0,9,  -999.00,9, 3005.9,-999.0000,-999.000,-999.000, 17.2386,-999.000
   318MWESTW_5,  P21W,   248,  1,     28, SI9428,2,19940612,0810,-19.1362, 166.3028, 4027,    346.2,  15.7411,  35.3615,2,  35.3512,2,    180.7,2,    178.2,2,     3.01,2,     9.09,2,     0.02,2,     0.74,2, -999.000,9, -999.000,9, -999.000,1,-999.0000,1,  -999.00,9,   -999.0,1,-999.000,9,   -999.0,9,   -999.0,9,  -999.00,9, 3507.0,-999.0000,-999.000,-999.000, 15.6865,-999.000
   318MWESTW_5,  P21W,   248,  1,     27, SI9424,2,19940612,0810,-19.1362, 166.3028, 4027,    396.3,  13.1571,  35.0680,2,  35.0640,2,    178.0,2,    174.8,2,     5.35,2,    13.60,2,     0.01,2,     1.04,2,    1.366,2,    0.696,2, -999.000,1,-999.0000,1,  -999.00,9,   -999.0,1,-999.000,9,   -999.0,9,   -999.0,9,  -999.00,9, 4004.8,-999.0000,-999.000,-999.000, 13.1017,-999.000
   318MWESTW_5,  P21W,   248,  1,     26, SI9414,2,19940612,0810,-19.1362, 166.3028, 4027,    498.4,   9.6958,  34.6887,2,  34.6816,2,    171.3,2,    170.2,2,    12.09,2,    21.11,2,     0.01,2,     1.54,2, -999.000,9, -999.000,9, -999.000,1,-999.0000,1,  -999.00,9,   -999.0,1,-999.000,9,   -999.0,9,   -999.0,9,  -999.00,9, 5020.7,-999.0000,-999.000,-999.000,  9.6384,-999.000
   318MWESTW_5,  P21W,   248,  1,     25, SI9425,2,19940612,0810,-19.1362, 166.3028, 4027,    601.6,   7.4113,  34.4937,2,  34.4885,2,    187.1,2,    187.8,2,    15.95,2,    24.77,2,     0.00,2,     1.74,2,    0.417,2,    0.217,2, -999.000,1,-999.0000,1,  -999.00,9,   -999.0,1,-999.000,9,   -999.0,9,   -999.0,9,  -999.00,9, 6047.4,-999.0000,-999.000,-999.000,  7.3519,-999.000
   318MWESTW_5,  P21W,   248,  1,     24, SI9434,2,19940612,0810,-19.1362, 166.3028, 4027,    697.3,   6.5549,  34.4515,2,  34.4467,2,    186.3,2,    184.2,2,    22.69,2,    27.23,2,     0.01,2,     1.90,2, -999.000,9, -999.000,9, -999.000,1,-999.0000,1,  -999.00,9,   -999.0,1,-999.000,9,   -999.0,9,   -999.0,9,  -999.00,9, 6998.5,-999.0000,-999.000,-999.000,  6.4901,-999.000
   318MWESTW_5,  P21W,   248,  1,     23, SI9423,2,19940612,0810,-19.1362, 166.3028, 4027,    799.0,   5.5307,  34.4225,2,  34.4218,2,    179.7,2,    179.8,2,    32.74,2,    29.68,2,     0.01,2,     2.05,2,    0.120,2,    0.068,2, -999.000,1,-999.0000,1,  -999.00,9,   -999.0,1,-999.000,9,   -999.0,9,   -999.0,9,  -999.00,9, 8009.7,-999.0000,-999.000,-999.000,  5.4622,-999.000
   318MWESTW_5,  P21W,   248,  1,     22, SI9418,2,19940612,0810,-19.1362, 166.3028, 4027,    897.6,   4.8244,  34.4399,2,  34.4377,2,    171.9,2,    171.7,2,    44.84,2,    31.51,2,     0.01,2,     2.18,2, -999.000,9, -999.000,9, -999.000,1,-999.0000,1,  -999.00,9,   -999.0,1,-999.000,9,   -999.0,9,   -999.0,9,  -999.00,9, 8990.5,-999.0000,-999.000,-999.000,  4.7516,-999.000
   318MWESTW_5,  P21W,   248,  1,     21, SI9421,2,19940612,0810,-19.1362, 166.3028, 4027,   1000.4,   4.3166,  34.4645,2,  34.4626,2,    166.9,2,    166.3,2,    55.98,2,    32.55,2,     0.01,2,     2.26,2,    0.032,2,    0.020,2, -999.000,1,-999.0000,1,  -999.00,9,   -999.0,1,-999.000,9,   -999.0,9,   -999.0,9,  -999.00,9,10012.7,-999.0000,-999.000,-999.000,  4.2385,-999.000
   318MWESTW_5,  P21W,   248,  1,     20, SI9420,2,19940612,0810,-19.1362, 166.3028, 4027,   1102.6,   3.7897,  34.5003,2,  34.5005,2,    161.4,2,    161.6,2,    69.18,2,    33.41,2,     0.01,2,     2.33,2, -999.000,9, -999.000,9, -999.000,1,-999.0000,1,  -999.00,9,   -999.0,1,-999.000,9,   -999.0,9,   -999.0,9,  -999.00,9,11028.3,-999.0000,-999.000,-999.000,  3.7072,-999.000
   318MWESTW_5,  P21W,   248,  1,     19, SI9419,2,19940612,0810,-19.1362, 166.3028, 4027,   1199.8,   3.5270,  34.5258,2,  34.5237,2,    158.2,2,    158.0,2,    76.75,2,    33.82,2,     0.01,2,     2.36,2,    0.009,2,    0.005,2, -999.000,1,-999.0000,1,  -999.00,9,   -999.0,1,-999.000,9,   -999.0,9,   -999.0,9,  -999.00,9,11994.9,-999.0000,-999.000,-999.000,  3.4387,-999.000
   318MWESTW_5,  P21W,   248,  1,     18, SI9439,2,19940612,0810,-19.1362, 166.3028, 4027,   1353.9,   3.1663,  34.5596,2,  34.5582,2,    154.9,2,    155.6,2,    87.33,2,    34.19,2,     0.01,2,     2.39,2, -999.000,9, -999.000,9, -999.000,1,-999.0000,1,  -999.00,9,   -999.0,1,-999.000,9,   -999.0,9,   -999.0,9,  -999.00,9,13526.7,-999.0000,-999.000,-999.000,  3.0688,-999.000
   318MWESTW_5,  P21W,   248,  1,     17, SI9417,2,19940612,0810,-19.1362, 166.3028, 4027,   1502.2,   2.8886,  34.5843,2,  34.5849,2,    152.4,2,    153.3,2,    95.31,2,    34.47,2,     0.01,2,     2.40,2,    0.001,2,    0.001,2, -999.000,1,-999.0000,1,  -999.00,9,   -999.0,1,-999.000,9,   -999.0,9,   -999.0,9,  -999.00,9,15001.4,-999.0000,-999.000,-999.000,  2.7818,-999.000
   318MWESTW_5,  P21W,   248,  1,     16, SI9416,2,19940612,0810,-19.1362, 166.3028, 4027,   1600.3,   2.7569,  34.5985,2,  34.5981,2,    151.5,2,    151.5,2,    98.75,2,    34.64,2,     0.01,2,     2.41,2,    0.002,2,    0.002,2, -999.000,1,-999.0000,1,  -999.00,9,   -999.0,1,-999.000,9,   -999.0,9,   -999.0,9,  -999.00,9,15976.9,-999.0000,-999.000,-999.000,  2.6435,-999.000
   318MWESTW_5,  P21W,   248,  1,     15, SI9415,2,19940612,0810,-19.1362, 166.3028, 4027,   1750.2,   2.5437,  34.6194,2,  34.6183,2,    149.9,2,    150.5,2,   104.54,2,    34.92,2,     0.01,2,     2.43,2,    0.009,2,    0.007,2, -999.000,1,-999.0000,1,  -999.00,9,   -999.0,1,-999.000,9,   -999.0,9,   -999.0,9,  -999.00,9,17467.3,-999.0000,-999.000,-999.000,  2.4205,-999.000
   318MWESTW_5,  P21W,   248,  1,     14, SI9436,2,19940612,0810,-19.1362, 166.3028, 4027,   1903.6,   2.4032,  34.6321,2,  34.6317,2,    149.5,2,    149.1,2,   109.07,2,    35.05,2,     0.01,2,     2.45,2, -999.000,9, -999.000,9, -999.000,1,-999.0000,1,  -999.00,9,   -999.0,1,-999.000,9,   -999.0,9,   -999.0,9,  -999.00,9,18992.0,-999.0000,-999.000,-999.000,  2.2689,-999.000
   318MWESTW_5,  P21W,   248,  1,     13, SI9413,2,19940612,0810,-19.1362, 166.3028, 4027,   2057.7,   2.2374,  34.6475,2,  34.6470,2,    150.5,2,    149.9,2,   112.80,2,    35.10,2,     0.01,2,     2.45,2, -999.000,9, -999.000,9, -999.000,1,-999.0000,1,  -999.00,9,   -999.0,1,-999.000,9,   -999.0,9,   -999.0,9,  -999.00,9,20524.6,-999.0000,-999.000,-999.000,  2.0923,-999.000
   318MWESTW_5,  P21W,   248,  1,     12, SI9438,2,19940612,0810,-19.1362, 166.3028, 4027,   2109.4,   2.1980,  34.6518,2,  34.6513,2,    150.5,2,    150.4,2,   113.76,2,    35.01,2,     0.00,2,     2.45,2, -999.000,9, -999.000,9, -999.000,1,-999.0000,1,  -999.00,9,   -999.0,1,-999.000,9,   -999.0,9,   -999.0,9,  -999.00,9,21038.5,-999.0000,-999.000,-999.000,  2.0491,-999.000
   318MWESTW_5,  P21W,   248,  1,     11, SI9411,2,19940612,0810,-19.1362, 166.3028, 4027,   2213.4,   2.1294,  34.6574,2,  34.6598,2,    151.7,2,    151.9,2,   114.74,2,    34.88,2,     0.00,2,     2.44,2, -999.000,9, -999.000,9, -999.000,1,-999.0000,1,  -999.00,9,   -999.0,1,-999.000,9,   -999.0,9,   -999.0,9,  -999.00,9,22072.2,-999.0000,-999.000,-999.000,  1.9725,-999.000
   318MWESTW_5,  P21W,   248,  1,     10, SI9412,2,19940612,0810,-19.1362, 166.3028, 4027,   2414.1,   2.0293,  34.6662,2,  34.6677,2,    152.5,2,    153.7,2,   116.67,2,    34.78,2,     0.01,2,     2.43,2,   -0.002,2,    0.000,2, -999.000,1,-999.0000,1,  -999.00,9,   -999.0,1,-999.000,9,   -999.0,9,   -999.0,9,  -999.00,9,24067.5,-999.0000,-999.000,-999.000,  1.8562,-999.000
   318MWESTW_5,  P21W,   248,  1,      9, SI9410,2,19940612,0810,-19.1362, 166.3028, 4027,   2615.7,   1.9536,  34.6733,2,  34.6741,2,    153.9,2,    155.0,2,   118.74,2,    34.83,2,     0.01,2,     2.42,2, -999.000,9, -999.000,9, -999.000,1,-999.0000,1,  -999.00,9,   -999.0,1,-999.000,9,   -999.0,9,   -999.0,9,  -999.00,9,26071.6,-999.0000,-999.000,-999.000,  1.7635,-999.000
   318MWESTW_5,  P21W,   248,  1,      8, SI9422,2,19940612,0810,-19.1362, 166.3028, 4027,   2811.2,   1.9016,  34.6757,2,  34.6769,2,    154.3,2,    154.2,2,   120.95,2,    34.91,2,     0.01,2,     2.43,2, -999.000,9, -999.000,9, -999.000,1,-999.0000,1,  -999.00,9,   -999.0,1,-999.000,9,   -999.0,9,   -999.0,9,  -999.00,9,28015.6,-999.0000,-999.000,-999.000,  1.6942,-999.000
   318MWESTW_5,  P21W,   248,  1,      7, SI9407,2,19940612,0810,-19.1362, 166.3028, 4027,   3008.8,   1.8628,  34.6784,2,  34.6787,2,    154.6,2,    154.7,2,   122.88,2,    34.96,2,     0.01,2,     2.42,2, -999.000,9, -999.000,9, -999.000,1,-999.0000,1,  -999.00,9,   -999.0,1,-999.000,9,   -999.0,9,   -999.0,9,  -999.00,9,29979.4,-999.0000,-999.000,-999.000,  1.6372,-999.000
   318MWESTW_5,  P21W,   248,  1,      6, SI9427,2,19940612,0810,-19.1362, 166.3028, 4027,   3210.7,   1.8342,  34.6811,2,  34.6818,2,    156.0,2,    156.0,2,   123.99,2,    34.96,2,     0.01,2,     2.43,2,   -0.002,2,    0.000,2, -999.000,1,-999.0000,1,  -999.00,9,   -999.0,1,-999.000,9,   -999.0,9,   -999.0,9,  -999.00,9,31986.6,-999.0000,-999.000,-999.000,  1.5892,-999.000
   318MWESTW_5,  P21W,   248,  1,      5, SI9405,2,19940612,0810,-19.1362, 166.3028, 4027,   3400.8,   1.8191,  34.6827,2,  34.6838,2,    156.4,2,    156.2,2,   124.95,2,    34.96,2,     0.01,2,     2.44,2, -999.000,9, -999.000,9, -999.000,1,-999.0000,1,  -999.00,9,   -999.0,1,-999.000,9,   -999.0,9,   -999.0,9,  -999.00,9,33876.5,-999.0000,-999.000,-999.000,  1.5552,-999.000
   318MWESTW_5,  P21W,   248,  1,      4, SI9404,2,19940612,0810,-19.1362, 166.3028, 4027,   3599.3,   1.8180,  34.6843,2,  34.6838,2,    156.2,2,    156.2,2,   125.93,2,    34.91,2,     0.01,2,     2.44,2, -999.000,9, -999.000,9, -999.000,1,-999.0000,1,  -999.00,9,   -999.0,1,-999.000,9,   -999.0,9,   -999.0,9,  -999.00,9,35850.3,-999.0000,-999.000,-999.000,  1.5335,-999.000
   318MWESTW_5,  P21W,   248,  1,      3, SI9403,2,19940612,0810,-19.1362, 166.3028, 4027,   3816.8,   1.8277,  34.6834,2,  34.6848,2,    157.0,2,    156.2,2,   125.79,2,    34.84,2,     0.00,2,     2.43,2,    0.001,2,    0.000,2, -999.000,1,-999.0000,1,  -999.00,9,   -999.0,1,-999.000,9,   -999.0,9,   -999.0,9,  -999.00,9,38011.9,-999.0000,-999.000,-999.000,  1.5197,-999.000
   318MWESTW_5,  P21W,   248,  1,      2, SI9437,2,19940612,0810,-19.1362, 166.3028, 4027,   3960.1,   1.8387,  34.6844,2,  34.6849,2,    156.0,2,    156.6,2,   126.36,2,    34.91,2,     0.01,2,     2.42,2,    0.000,2,    0.001,2, -999.000,1,-999.0000,1,  -999.00,9,   -999.0,1,-999.000,9,   -999.0,9,   -999.0,9,  -999.00,9,39436.7,-999.0000,-999.000,-999.000,  1.5147,-999.000
   318MWESTW_5,  P21W,   248,  1,      1, SI9401,2,19940612,0810,-19.1362, 166.3028, 4027,   4003.2,   1.8407,  34.6852,2,  34.6851,2,    156.7,2,    156.7,2,   126.15,2,    35.00,2,     0.00,2,     2.43,2,    0.001,2,    0.001,2, -999.000,1,-999.0000,1,  -999.00,9,   -999.0,1,-999.000,9,   -999.0,9,   -999.0,9,  -999.00,9,39865.5,-999.0000,-999.000,-999.000,  1.5119,-999.000