BOTTLE,20010911WHPSIOdm
EXPOCODE,SECT_ID,STNNBR,CASTNO,SAMPNO,BTLNBR,BTLNBR_FLAG_W,DATE,TIME,LATITUDE,LONGITUDE,DEPTH,CTDPRS,CTDTMP,CTDSAL,CTDSAL_FLAG_W,SALNTY,SALNTY_FLAG_W,CTDOXY,CTDOXY_FLAG_W,OXYGEN,OXYGEN_FLAG_W,SILCAT,SILCAT_FLAG_W,NITRAT,NITRAT_FLAG_W,NITRIT,NITRIT_FLAG_W,PHSPHT,PHSPHT_FLAG_W,CFC-11,CFC-11_FLAG_W,CFC-12,CFC-12_FLAG_W,TRITUM,TRITUM_FLAG_W,HELIUM,HELIUM_FLAG_W,DELHE3,DELHE3_FLAG_W,DELC14,DELC14_FLAG_W,NEON,NEON_FLAG_W,TCARBN,TCARBN_FLAG_W,ALKALI,ALKALI_FLAG_W,PH,PH_FLAG_W,CTDRAW,HELIER,DELHER,NEONER,THETA,TRITER
,,,,,,,,,,,,DBAR,ITS-90,PSS-78,,PSS-78,,UMOL/KG,,UMOL/KG,,UMOL/KG,,UMOL/KG,,UMOL/KG,,UMOL/KG,,PMOL/KG,,PMOL/KG,,TU,,UMOL/KG,,PERCNT,,/MILLE,,NMOL/KG,,UMOL/KG,,UMOL/KG,,,,,NMOL/KG,PERCNT,NMOL/KG,ITS-90,TU
   318MWESTW_5,  P21W,   183,  1,     36, SI9442,2,19940527,0018,-17.4972,-161.6695, 4800,      5.7,  27.8841,  35.4438,2,  35.4454,2,    212.2,2,    212.8,2,     0.72,2,     0.00,2,     0.00,2,     0.17,2,    1.626,2,    0.933,2, -999.000,1,-999.0000,1,  -999.00,9,   -999.0,1,-999.000,9,   -999.0,9,   -999.0,9,  -999.00,9,  114.7,-999.0000,-999.000,-999.000, 27.8828,-999.000
   318MWESTW_5,  P21W,   183,  1,     35, SI9435,2,19940527,0018,-17.4972,-161.6695, 4800,     22.0,  27.8938,  35.4454,2,  35.4448,2,    205.2,2,    215.1,2,     0.73,2,    -0.01,2,     0.01,2,     0.17,2,    1.640,2,    0.924,2, -999.000,1,-999.0000,1,  -999.00,9,   -999.0,1,-999.000,9,   -999.0,9,   -999.0,9,  -999.00,9,  278.2,-999.0000,-999.000,-999.000, 27.8886,-999.000
   318MWESTW_5,  P21W,   183,  1,     34, SI9441,2,19940527,0018,-17.4972,-161.6695, 4800,     47.9,  27.9027,  35.4495,2,  35.4665,2,    201.7,2,    217.1,2,     0.73,2,     0.01,2,     0.01,2,     0.19,2,    1.663,6,    0.936,6, -999.000,1,-999.0000,1,  -999.00,9,   -999.0,1,-999.000,9,   -999.0,9,   -999.0,9,  -999.00,9,  536.3,-999.0000,-999.000,-999.000, 27.8914,-999.000
   318MWESTW_5,  P21W,   183,  1,     33, SI9433,2,19940527,0018,-17.4972,-161.6695, 4800,     98.6,  26.1836,  36.0504,2,  36.0400,2,    210.5,2,    217.0,2,     0.73,2,     0.02,2,     0.01,2,     0.21,2,    1.780,2,    0.992,2, -999.000,1,-999.0000,1,  -999.00,9,   -999.0,1,-999.000,9,   -999.0,9,   -999.0,9,  -999.00,9, 1041.7,-999.0000,-999.000,-999.000, 26.1614,-999.000
   318MWESTW_5,  P21W,   183,  1,     32, SI9432,2,19940527,0018,-17.4972,-161.6695, 4800,    147.1,  23.5925,  35.9299,2,  35.9346,2,    192.5,2,    186.9,2,     0.74,2,     0.13,2,     0.08,2,     0.25,2,    1.917,2,    1.048,2, -999.000,1,-999.0000,1,  -999.00,9,   -999.0,1,-999.000,9,   -999.0,9,   -999.0,9,  -999.00,9, 1524.1,-999.0000,-999.000,-999.000, 23.5618,-999.000
   318MWESTW_5,  P21W,   183,  1,     31, SI9431,2,19940527,0018,-17.4972,-161.6695, 4800,    219.4,  21.0414,  35.7847,2,  35.7872,2,    179.2,2,    178.7,2,     0.90,2,     2.67,2,     0.03,2,     0.38,2,    1.934,2,    1.037,2, -999.000,1,-999.0000,1,  -999.00,9,   -999.0,1,-999.000,9,   -999.0,9,   -999.0,9,  -999.00,9, 2243.9,-999.0000,-999.000,-999.000, 20.9991,-999.000
   318MWESTW_5,  P21W,   183,  1,     30, SI9440,2,19940527,0018,-17.4972,-161.6695, 4800,    270.0,  18.5366,  35.5565,2,  35.5506,2,    180.8,2,    175.7,2,     1.70,2,     5.08,2,     0.02,2,     0.56,2,    1.771,2,    0.931,2, -999.000,1,-999.0000,1,  -999.00,9,   -999.0,1,-999.000,9,   -999.0,9,   -999.0,9,  -999.00,9, 2747.5,-999.0000,-999.000,-999.000, 18.4890,-999.000
   318MWESTW_5,  P21W,   183,  1,     29, SI9429,2,19940527,0018,-17.4972,-161.6695, 4800,    348.5,  14.5465,  35.0888,2,  35.0768,2,    183.8,2,    168.8,2,     4.25,2,    11.09,2,     0.00,2,     0.95,2,    1.322,2,    0.685,2, -999.000,1,-999.0000,1,  -999.00,9,   -999.0,1,-999.000,9,   -999.0,9,   -999.0,9,  -999.00,9, 3528.8,-999.0000,-999.000,-999.000, 14.4945,-999.000
   318MWESTW_5,  P21W,   183,  1,     28, SI9428,2,19940527,0018,-17.4972,-161.6695, 4800,    401.1,  11.5519,  34.7778,2,  34.7803,2,    172.7,2,    164.3,2,     7.92,2,    17.17,2,     0.00,2,     1.34,2,    0.905,2,    0.459,2, -999.000,1,-999.0000,1,  -999.00,9,   -999.0,1,-999.000,9,   -999.0,9,   -999.0,9,  -999.00,9, 4052.3,-999.0000,-999.000,-999.000, 11.5005,-999.000
   318MWESTW_5,  P21W,   183,  1,     27, SI9424,2,19940527,0018,-17.4972,-161.6695, 4800,    499.5,   7.9952,  34.4823,2,  34.4767,2,    187.3,2,    191.8,2,    10.79,2,    23.05,2,     0.03,3,     1.66,2,    0.659,2,    0.332,2, -999.000,1,-999.0000,1,  -999.00,9,   -999.0,1,-999.000,9,   -999.0,9,   -999.0,9,  -999.00,9, 5030.7,-999.0000,-999.000,-999.000,  7.9441,-999.000
   318MWESTW_5,  P21W,   183,  1,     26, SI9414,2,19940527,0018,-17.4972,-161.6695, 4800,    593.2,   6.3707,  34.3633,2,  34.3635,2,    206.5,2,    211.4,3,    13.66,3,    25.80,3,     0.03,3,     1.80,3,    0.433,2,    0.229,2, -999.000,1,-999.0000,1,  -999.00,9,   -999.0,1,-999.000,9,   -999.0,9,   -999.0,9,  -999.00,9, 5962.7,-999.0000,-999.000,-999.000,  6.3169,-999.000
   318MWESTW_5,  P21W,   183,  1,     25, SI9425,2,19940527,0018,-17.4972,-161.6695, 4800,    694.7,   5.5967,  34.3813,2,  34.3798,2,    186.3,2,    178.7,2,    27.21,2,    30.34,2,     0.00,2,     2.12,2,    0.098,2,    0.057,2, -999.000,1,-999.0000,1,  -999.00,9,   -999.0,1,-999.000,9,   -999.0,9,   -999.0,9,  -999.00,9, 6971.7,-999.0000,-999.000,-999.000,  5.5373,-999.000
   318MWESTW_5,  P21W,   183,  1,     24, SI9434,2,19940527,0018,-17.4972,-161.6695, 4800,    800.2,   4.8544,  34.4255,2,  34.4284,2,    162.5,2,    159.1,2,    44.25,2,    33.04,2,     0.00,2,     2.31,2,    0.011,2,    0.008,2, -999.000,1,-999.0000,1,  -999.00,9,   -999.0,1,-999.000,9,   -999.0,9,   -999.0,9,  -999.00,9, 8021.5,-999.0000,-999.000,-999.000,  4.7899,-999.000
   318MWESTW_5,  P21W,   183,  1,     23, SI9423,2,19940527,0018,-17.4972,-161.6695, 4800,    903.6,   4.3447,  34.4576,2,  34.4581,2,    154.3,2,    153.5,2,    55.57,2,    33.95,2,     0.00,2,     2.38,2,    0.005,2,    0.006,2, -999.000,1,-999.0000,1,  -999.00,9,   -999.0,1,-999.000,9,   -999.0,9,   -999.0,9,  -999.00,9, 9049.1,-999.0000,-999.000,-999.000,  4.2747,-999.000
   318MWESTW_5,  P21W,   183,  1,     22, SI9418,2,19940527,0018,-17.4972,-161.6695, 4800,    995.5,   3.8746,  34.4858,2,  34.4858,2,    155.1,2,    151.2,2,    66.24,2,    34.68,2,     0.00,2,     2.42,2,    0.000,2,    0.000,2, -999.000,1,-999.0000,1,  -999.00,9,   -999.0,1,-999.000,9,   -999.0,9,   -999.0,9,  -999.00,9, 9963.0,-999.0000,-999.000,-999.000,  3.8003,-999.000
   318MWESTW_5,  P21W,   183,  1,     21, SI9421,2,19940527,0018,-17.4972,-161.6695, 4800,   1096.7,   3.5141,  34.5113,2,  34.5119,2,    151.5,2,    148.9,2,    75.48,2,    35.20,2,     0.01,2,     2.45,2,   -0.001,2,   -0.001,2, -999.000,1,-999.0000,1,  -999.00,9,   -999.0,1,-999.000,9,   -999.0,9,   -999.0,9,  -999.00,9,10969.2,-999.0000,-999.000,-999.000,  3.4344,-999.000
   318MWESTW_5,  P21W,   183,  1,     20, SI9420,2,19940527,0018,-17.4972,-161.6695, 4800,   1198.1,   3.2441,  34.5326,2,  34.5325,2,    148.8,2,    148.1,2,    82.48,2,    35.52,2,     0.00,2,     2.46,2,    0.001,2,   -0.002,2, -999.000,1,-999.0000,1,  -999.00,9,   -999.0,1,-999.000,9,   -999.0,9,   -999.0,9,  -999.00,9,11977.1,-999.0000,-999.000,-999.000,  3.1586,-999.000
   318MWESTW_5,  P21W,   183,  1,     19, SI9419,2,19940527,0018,-17.4972,-161.6695, 4800,   1299.6,   3.0408,  34.5531,2,  34.5523,2,    147.8,2,    147.7,2,    89.17,2,    35.79,2,     0.00,2,     2.49,2, -999.000,9, -999.000,9, -999.000,1,-999.0000,1,  -999.00,9,   -999.0,1,-999.000,9,   -999.0,9,   -999.0,9,  -999.00,9,12986.3,-999.0000,-999.000,-999.000,  2.9490,-999.000
   318MWESTW_5,  P21W,   183,  1,     18, SI9439,2,19940527,0018,-17.4972,-161.6695, 4800,   1446.3,   2.8300,  34.5723,2,  34.5728,2,    147.1,2,    148.3,2,    95.71,2,    36.00,2,     0.01,2,     2.50,2,    0.000,2,    0.000,2, -999.000,1,-999.0000,1,  -999.00,9,   -999.0,1,-999.000,9,   -999.0,9,   -999.0,9,  -999.00,9,14445.1,-999.0000,-999.000,-999.000,  2.7285,-999.000
   318MWESTW_5,  P21W,   183,  1,     17, SI9417,2,19940527,0018,-17.4972,-161.6695, 4800,   1599.1,   2.6211,  34.5927,2,  34.5932,2,    147.2,2,    146.3,2,   102.55,2,    36.02,2,     0.00,2,     2.50,2, -999.000,9, -999.000,9, -999.000,1,-999.0000,1,  -999.00,9,   -999.0,1,-999.000,9,   -999.0,9,   -999.0,9,  -999.00,9,15964.2,-999.0000,-999.000,-999.000,  2.5095,-999.000
   318MWESTW_5,  P21W,   183,  1,     16, SI9416,2,19940527,0018,-17.4972,-161.6695, 4800,   1803.5,   2.4003,  34.6134,2,  34.6140,2,    148.1,2,    148.1,2,   109.72,2,    35.99,2,     0.00,2,     2.50,2, -999.000,9, -999.000,9, -999.000,1,-999.0000,1,  -999.00,9,   -999.0,1,-999.000,9,   -999.0,9,   -999.0,9,  -999.00,9,17995.9,-999.0000,-999.000,-999.000,  2.2746,-999.000
   318MWESTW_5,  P21W,   183,  1,     15, SI9415,2,19940527,0018,-17.4972,-161.6695, 4800,   2012.7,   2.1844,  34.6319,2,  34.6319,2,    149.1,2,    148.0,2,   116.25,2,    35.96,2,     0.00,2,     2.49,2, -999.000,9, -999.000,9, -999.000,1,-999.0000,1,  -999.00,9,   -999.0,1,-999.000,9,   -999.0,9,   -999.0,9,  -999.00,9,20076.1,-999.0000,-999.000,-999.000,  2.0441,-999.000
   318MWESTW_5,  P21W,   183,  1,     14, SI9436,2,19940527,0018,-17.4972,-161.6695, 4800,   2205.9,   2.0435,  34.6437,2,  34.6433,2,    151.3,2,    149.5,2,   120.07,2,    35.93,2,     0.00,2,     2.48,2,    0.003,2,   -0.001,2, -999.000,1,-999.0000,1,  -999.00,9,   -999.0,1,-999.000,9,   -999.0,9,   -999.0,9,  -999.00,9,21997.0,-999.0000,-999.000,-999.000,  1.8887,-999.000
   318MWESTW_5,  P21W,   183,  1,     13, SI9413,2,19940527,0018,-17.4972,-161.6695, 4800,   2403.6,   1.9220,  34.6536,2,  34.6527,2,    153.1,2,    152.9,2,   123.41,2,    35.76,2,     0.01,2,     2.47,2, -999.000,9, -999.000,9, -999.000,1,-999.0000,1,  -999.00,9,   -999.0,1,-999.000,9,   -999.0,9,   -999.0,9,  -999.00,9,23962.7,-999.0000,-999.000,-999.000,  1.7518,-999.000
   318MWESTW_5,  P21W,   183,  1,     12, SI9438,2,19940527,0018,-17.4972,-161.6695, 4800,   2585.9,   1.8428,  34.6599,2,  34.6608,2,    155.1,2,    155.0,2,   124.85,2,    35.70,2,     0.00,2,     2.47,2, -999.000,9, -999.000,9, -999.000,1,-999.0000,1,  -999.00,9,   -999.0,1,-999.000,9,   -999.0,9,   -999.0,9,  -999.00,9,25774.7,-999.0000,-999.000,-999.000,  1.6576,-999.000
   318MWESTW_5,  P21W,   183,  1,     11, SI9411,2,19940527,0018,-17.4972,-161.6695, 4800,   2785.9,   1.7527,  34.6684,2,  34.6675,2,    158.3,2,    158.1,2,   126.61,2,    35.54,2,     0.00,2,     2.45,2, -999.000,9, -999.000,9, -999.000,1,-999.0000,1,  -999.00,9,   -999.0,1,-999.000,9,   -999.0,9,   -999.0,9,  -999.00,9,27763.0,-999.0000,-999.000,-999.000,  1.5508,-999.000
   318MWESTW_5,  P21W,   183,  1,     10, SI9412,2,19940527,0018,-17.4972,-161.6695, 4800,   2993.3,   1.6804,  34.6736,2,  34.6739,2,    161.7,2,    161.9,2,   127.40,2,    35.29,2,     0.01,2,     2.44,2,   -0.001,2,   -0.002,2, -999.000,1,-999.0000,1,  -999.00,9,   -999.0,1,-999.000,9,   -999.0,9,   -999.0,9,  -999.00,9,29825.3,-999.0000,-999.000,-999.000,  1.4603,-999.000
   318MWESTW_5,  P21W,   183,  1,      9, SI9410,2,19940527,0018,-17.4972,-161.6695, 4800,   3190.5,   1.6138,  34.6786,2,  34.6791,2,    166.9,2,    167.0,2,   126.92,2,    34.94,2,     0.02,2,     2.41,2, -999.000,9, -999.000,9, -999.000,1,-999.0000,1,  -999.00,9,   -999.0,1,-999.000,9,   -999.0,9,   -999.0,9,  -999.00,9,31785.0,-999.0000,-999.000,-999.000,  1.3760,-999.000
   318MWESTW_5,  P21W,   183,  1,      8, SI9422,2,19940527,0018,-17.4972,-161.6695, 4800,   3386.2,   1.5669,  34.6829,2,  34.6826,2,    170.6,2,    171.0,2,   126.45,2,    34.63,2,     0.00,2,     2.39,2, -999.000,9, -999.000,9, -999.000,1,-999.0000,1,  -999.00,9,   -999.0,1,-999.000,9,   -999.0,9,   -999.0,9,  -999.00,9,33731.1,-999.0000,-999.000,-999.000,  1.3106,-999.000
   318MWESTW_5,  P21W,   183,  1,      7, SI9407,2,19940527,0018,-17.4972,-161.6695, 4800,   3594.1,   1.5167,  34.6863,2,  34.6869,2,    175.4,2,    174.8,2,   125.17,2,    34.21,2,     0.01,2,     2.36,2, -999.000,9, -999.000,9, -999.000,1,-999.0000,1,  -999.00,9,   -999.0,1,-999.000,9,   -999.0,9,   -999.0,9,  -999.00,9,35798.2,-999.0000,-999.000,-999.000,  1.2404,-999.000
   318MWESTW_5,  P21W,   183,  1,      6, SI9427,2,19940527,0018,-17.4972,-161.6695, 4800,   3802.8,   1.4731,  34.6903,2,  34.6885,2,    179.4,2,    179.1,2,   124.38,2,    34.00,2,     0.01,2,     2.34,2,    0.000,2,    0.001,2, -999.000,1,-999.0000,1,  -999.00,9,   -999.0,1,-999.000,9,   -999.0,9,   -999.0,9,  -999.00,9,37872.9,-999.0000,-999.000,-999.000,  1.1761,-999.000
   318MWESTW_5,  P21W,   183,  1,      5, SI9405,2,19940527,0018,-17.4972,-161.6695, 4800,   4020.8,   1.4388,  34.6933,2,  34.6938,2,    183.1,2,    181.5,2,   123.90,2,    33.81,2,     0.00,2,     2.33,2,    0.004,2,    0.001,2, -999.000,1,-999.0000,1,  -999.00,9,   -999.0,1,-999.000,9,   -999.0,9,   -999.0,9,  -999.00,9,40039.8,-999.0000,-999.000,-999.000,  1.1193,-999.000
   318MWESTW_5,  P21W,   183,  1,      4, SI9404,2,19940527,0018,-17.4972,-161.6695, 4800,   4281.6,   1.3550,  34.7002,2,  34.7001,2,    189.5,2,    189.4,2,   122.15,2,    33.31,2,     0.00,2,     2.29,2,    0.001,2,    0.001,2, -999.000,1,-999.0000,1,  -999.00,9,   -999.0,1,-999.000,9,   -999.0,9,   -999.0,9,  -999.00,9,42632.4,-999.0000,-999.000,-999.000,  1.0092,-999.000
   318MWESTW_5,  P21W,   183,  1,      3, SI9403,2,19940527,0018,-17.4972,-161.6695, 4800,   4581.6,   1.1713,  34.7083,2,  34.7074,2,    201.4,2,    201.6,2,   120.08,2,    32.55,2,     0.00,2,     2.23,2,    0.001,2,    0.000,2, -999.000,1,-999.0000,1,  -999.00,9,   -999.0,1,-999.000,9,   -999.0,9,   -999.0,9,  -999.00,9,45615.1,-999.0000,-999.000,-999.000,  0.7971,-999.000
   318MWESTW_5,  P21W,   183,  1,      2, SI9437,2,19940527,0018,-17.4972,-161.6695, 4800,   4790.2,   1.1582,  34.7085,2,  34.7076,2,    203.2,2,    203.1,2,   119.92,2,    32.48,2,     0.00,2,     2.22,2,    0.001,2,    0.001,2, -999.000,1,-999.0000,1,  -999.00,9,   -999.0,1,-999.000,9,   -999.0,9,   -999.0,9,  -999.00,9,47688.8,-999.0000,-999.000,-999.000,  0.7603,-999.000
   318MWESTW_5,  P21W,   183,  1,      1, SI9401,2,19940527,0018,-17.4972,-161.6695, 4800,   4831.8,   1.1621,  34.7085,2,  34.7081,2,    202.5,2,    202.7,2,   119.62,2,    32.34,2,     0.00,2,     2.22,2,    0.000,2,    0.000,2, -999.000,1,-999.0000,1,  -999.00,9,   -999.0,1,-999.000,9,   -999.0,9,   -999.0,9,  -999.00,9,48102.9,-999.0000,-999.000,-999.000,  0.7591,-999.000