BOTTLE,20010911WHPSIOdm
EXPOCODE,SECT_ID,STNNBR,CASTNO,SAMPNO,BTLNBR,BTLNBR_FLAG_W,DATE,TIME,LATITUDE,LONGITUDE,DEPTH,CTDPRS,CTDTMP,CTDSAL,CTDSAL_FLAG_W,SALNTY,SALNTY_FLAG_W,CTDOXY,CTDOXY_FLAG_W,OXYGEN,OXYGEN_FLAG_W,SILCAT,SILCAT_FLAG_W,NITRAT,NITRAT_FLAG_W,NITRIT,NITRIT_FLAG_W,PHSPHT,PHSPHT_FLAG_W,CFC-11,CFC-11_FLAG_W,CFC-12,CFC-12_FLAG_W,TRITUM,TRITUM_FLAG_W,HELIUM,HELIUM_FLAG_W,DELHE3,DELHE3_FLAG_W,DELC14,DELC14_FLAG_W,NEON,NEON_FLAG_W,TCARBN,TCARBN_FLAG_W,ALKALI,ALKALI_FLAG_W,PH,PH_FLAG_W,CTDRAW,HELIER,DELHER,NEONER,THETA,TRITER
,,,,,,,,,,,,DBAR,ITS-90,PSS-78,,PSS-78,,UMOL/KG,,UMOL/KG,,UMOL/KG,,UMOL/KG,,UMOL/KG,,UMOL/KG,,PMOL/KG,,PMOL/KG,,TU,,UMOL/KG,,PERCNT,,/MILLE,,NMOL/KG,,UMOL/KG,,UMOL/KG,,,,,NMOL/KG,PERCNT,NMOL/KG,ITS-90,TU
   318MWESTW_4,  P21E,    70,  1,     36, SI9336,2,19940418,1003,-16.7388, -98.6612, 4005,      6.2,  24.2764,  36.1982,2,  36.1986,2,    210.9,2,    217.0,2,     0.33,2,     0.08,2,     0.01,2,     0.34,2,    1.894,2,    1.055,2, -999.000,1,-999.0000,1,  -999.00,9,   -999.0,1,-999.000,9,   2057.8,2,   2391.0,2,     8.05,2,  109.3,-999.0000,-999.000,-999.000, 24.2751,-999.000
   318MWESTW_4,  P21E,    70,  1,     35, SI9335,2,19940418,1003,-16.7388, -98.6612, 4005,     24.9,  23.9848,  36.1950,2,  36.1943,2,    214.0,2,    217.5,2,     0.33,2,     0.08,2,     0.01,2,     0.35,2,    1.910,2,    1.055,2, -999.000,1,-999.0000,1,  -999.00,9,   -999.0,1,-999.000,9,   2060.8,2,   2390.0,2,     8.05,2,  295.7,-999.0000,-999.000,-999.000, 23.9795,-999.000
   318MWESTW_4,  P21E,    70,  1,     34, SI9334,2,19940418,1003,-16.7388, -98.6612, 4005,     54.5,  23.9018,  36.1948,2,  36.1943,2,    217.1,2,    219.0,2,     0.34,2,     0.09,2,     0.01,2,     0.36,2,    1.922,2,    1.062,2, -999.000,1,-999.0000,1,  -999.00,9,   -999.0,1,-999.000,9,   2060.8,2,   2391.0,2,     8.05,2,  592.0,-999.0000,-999.000,-999.000, 23.8903,-999.000
   318MWESTW_4,  P21E,    70,  1,     33, SI9333,2,19940418,1003,-16.7388, -98.6612, 4005,     97.5,  20.9493,  35.8645,2,  35.8761,2,    236.4,2,    226.8,2,     0.35,2,     0.09,2,     0.01,2,     0.39,2,    2.214,2,    1.186,2, -999.000,1,-999.0000,1,  -999.00,9,   -999.0,1,-999.000,9,   2066.8,2,   2374.0,2,     8.02,2, 1021.7,-999.0000,-999.000,-999.000, 20.9306,-999.000
   318MWESTW_4,  P21E,    70,  1,     32, SI9332,2,19940418,1003,-16.7388, -98.6612, 4005,    149.4,  19.5434,  35.7160,2,  35.6727,2,    214.5,2,    205.6,2,     0.53,2,     2.18,2,     0.19,2,     0.55,2,    2.266,2,    1.191,2, -999.000,1,-999.0000,1,  -999.00,9,   -999.0,1,-999.000,9,   2082.8,2,   2358.0,2,     7.97,2, 1540.7,-999.0000,-999.000,-999.000, 19.5161,-999.000
   318MWESTW_4,  P21E,    70,  1,     31, SI9331,2,19940418,1003,-16.7388, -98.6612, 4005,    199.8,  16.3865,  35.2505,3,  35.1262,2,    195.1,2,    170.4,2,     2.26,2,     8.98,2,     0.01,2,     0.98,2,    2.188,2,    1.122,2, -999.000,1,-999.0000,1,  -999.00,9,   -999.0,1,-999.000,9,   2111.8,2,   2321.0,2,     7.85,2, 2043.7,-999.0000,-999.000,-999.000, 16.3543,-999.000
   318MWESTW_4,  P21E,    70,  1,     30, SI9330,2,19940418,1003,-16.7388, -98.6612, 4005,    249.9,  13.4203,  34.7444,2,  34.7300,2,    146.7,2,    128.9,2,     6.58,2,    14.90,2,     0.01,2,     1.46,2,    1.703,2,    0.809,2, -999.000,1,-999.0000,1,  -999.00,9,   -999.0,1,-999.000,9,   2145.8,2,   2294.0,2,     7.73,2, 2544.7,-999.0000,-999.000,-999.000, 13.3852,-999.000
   318MWESTW_4,  P21E,    70,  1,     29, SI9329,2,19940418,1003,-16.7388, -98.6612, 4005,    300.0,  11.3034,  34.6383,2,  34.6366,2,     51.7,2,     46.4,2,    17.81,2,    24.36,2,     0.00,2,     2.37,2,    0.592,2,    0.274,2, -999.000,1,-999.0000,1,  -999.00,9,   -999.0,1,-999.000,9,   2229.9,2,   2291.0,2,     7.49,2, 3045.1,-999.0000,-999.000,-999.000, 11.2657,-999.000
   318MWESTW_4,  P21E,    70,  1,     28, SI9328,2,19940418,1003,-16.7388, -98.6612, 4005,    379.3,   9.1631,  34.5895,2,  34.5800,2,     31.7,2,     31.9,2,    24.38,2,    33.87,2,     0.00,2,     2.66,2,    0.115,2,    0.047,2, -999.000,1,-999.0000,1,  -999.00,9,   -999.0,1,-999.000,9,   2258.9,2,   2293.0,2,     7.42,2, 3837.6,-999.0000,-999.000,-999.000,  9.1212,-999.000
   318MWESTW_4,  P21E,    70,  1,     27, SI9327,2,19940418,1003,-16.7388, -98.6612, 4005,    498.1,   7.4691,  34.5272,2,  34.5294,2,     56.0,2,     53.7,2,    30.43,2,    37.97,2,     0.00,2,     2.69,2,    0.019,2,    0.009,2, -999.000,1,-999.0000,1,  -999.00,9,   -999.0,1,-999.000,9,   2257.9,2,   2298.0,2,     7.43,2, 5023.8,-999.0000,-999.000,-999.000,  7.4200,-999.000
   318MWESTW_4,  P21E,    70,  1,     26, SI9326,2,19940418,1003,-16.7388, -98.6612, 4005,    564.2,   6.8635,  34.5140,2,  34.5133,2,     59.5,2,     57.7,2,    34.74,2,    39.30,2,     0.00,2,     2.74,2,    0.009,2,    0.002,2, -999.000,1,-999.0000,1,  -999.00,9,   -999.0,1,-999.000,9,   2261.9,2,   2302.0,2,     7.43,2, 5684.1,-999.0000,-999.000,-999.000,  6.8102,-999.000
   318MWESTW_4,  P21E,    70,  1,     25, SI9325,2,19940418,1003,-16.7388, -98.6612, 4005,    602.4,   6.5719,  34.5087,2,  34.5139,2,     57.0,2,     52.9,2,    38.54,2,    40.46,2,     0.00,2,     2.83,2,    0.002,2,    0.001,2, -999.000,1,-999.0000,1,  -999.00,9,   -999.0,1,-999.000,9,   2270.0,2,   2306.0,2,     7.42,2, 6066.1,-999.0000,-999.000,-999.000,  6.5162,-999.000
   318MWESTW_4,  P21E,    70,  1,     24, SI9324,2,19940418,1003,-16.7388, -98.6612, 4005,    701.4,   5.8858,  34.4989,2,  34.5005,2,     56.5,2,     59.1,2,    46.83,2,    42.02,2,     0.00,2,     2.93,2,    0.009,2,    0.005,2, -999.000,1,-999.0000,1,  -999.00,9,   -999.0,1,-999.000,9,   2280.0,2,   2312.0,2,     7.41,2, 7054.5,-999.0000,-999.000,-999.000,  5.8241,-999.000
   318MWESTW_4,  P21E,    70,  1,     23, SI9323,2,19940418,1003,-16.7388, -98.6612, 4005,    800.3,   5.3388,  34.5006,2,  34.5017,2,     55.8,2,     54.1,2,    55.82,2,    42.96,2,     0.00,2,     3.02,2,   -0.002,2,    0.000,2, -999.000,1,-999.0000,1,  -999.00,9,   -999.0,1,-999.000,9,   2291.0,2,   2323.0,2,     7.40,2, 8042.1,-999.0000,-999.000,-999.000,  5.2712,-999.000
   318MWESTW_4,  P21E,    70,  1,     22, SI9322,2,19940418,1003,-16.7388, -98.6612, 4005,    901.3,   4.8476,  34.5075,2,  34.5091,2,     59.4,2,     64.5,2,    65.14,2,    43.01,2,     0.01,2,     3.02,2, -999.000,9, -999.000,9, -999.000,1,-999.0000,1,  -999.00,9,   -999.0,1,-999.000,9,   2300.0,2,   2332.0,2,     7.40,2, 9051.5,-999.0000,-999.000,-999.000,  4.7742,-999.000
   318MWESTW_4,  P21E,    70,  1,     21, SI9321,2,19940418,1003,-16.7388, -98.6612, 4005,    997.8,   4.4070,  34.5225,2,  34.5219,2,     66.9,2,     72.2,2,    74.28,2,    42.59,2,     0.00,2,     3.01,2, -999.000,9, -999.000,9, -999.000,1,-999.0000,1,  -999.00,9,   -999.0,1,-999.000,9,   2306.0,2,   2342.0,2,     7.41,2,10015.6,-999.0000,-999.000,-999.000,  4.3284,-999.000
   318MWESTW_4,  P21E,    70,  1,     20, SI9320,2,19940418,1003,-16.7388, -98.6612, 4005,   1098.6,   3.9939,  34.5363,2,  34.5372,2,     74.6,2,     81.5,4,    83.61,2,    41.87,2,     0.01,2,     2.98,2, -999.000,9, -999.000,9, -999.000,1,-999.0000,1,  -999.00,9,   -999.0,1,-999.000,9,   2312.0,2,   2353.0,2,     7.44,2,11021.8,-999.0000,-999.000,-999.000,  3.9100,-999.000
   318MWESTW_4,  P21E,    70,  1,     19, SI9319,2,19940418,1003,-16.7388, -98.6612, 4005,   1200.0,   3.7089,  34.5522,2,  34.5508,2,     80.6,2,     78.9,2,    90.68,2,    41.44,2,     0.00,2,     2.96,2, -999.000,9, -999.000,9, -999.000,1,-999.0000,1,  -999.00,9,   -999.0,1,-999.000,9,   2317.0,2,   2362.0,2,     7.44,2,12035.0,-999.0000,-999.000,-999.000,  3.6189,-999.000
   318MWESTW_4,  P21E,    70,  1,     18, SI9318,2,19940418,1003,-16.7388, -98.6612, 4005,   1300.2,   3.4392,  34.5684,2,  34.5655,2,     85.6,2,     84.0,2,    97.41,2,    41.10,2,     0.01,2,     2.94,2, -999.000,9, -999.000,9, -999.000,1,-999.0000,1,  -999.00,9,   -999.0,1,-999.000,9,   2320.0,2,   2368.0,2,     7.45,2,13036.3,-999.0000,-999.000,-999.000,  3.3433,-999.000
   318MWESTW_4,  P21E,    70,  1,     17, SI9317,2,19940418,1003,-16.7388, -98.6612, 4005,   1407.2,   3.1529,  34.5822,2,  34.5808,2,     90.2,2,     90.2,2,   104.66,2,    40.67,2,     0.00,2,     2.90,2, -999.000,9, -999.000,9, -999.000,1,-999.0000,1,  -999.00,9,   -999.0,1,-999.000,9,   2324.0,2,   2376.0,2,     7.47,2,14104.3,-999.0000,-999.000,-999.000,  3.0511,-999.000
   318MWESTW_4,  P21E,    70,  1,     16, SI9316,2,19940418,1003,-16.7388, -98.6612, 4005,   1508.6,   2.9511,  34.5947,2,  34.5926,2,     95.5,2,     94.7,2,   109.83,2,    40.24,2,     0.00,2,     2.86,2, -999.000,9, -999.000,9, -999.000,1,-999.0000,1,  -999.00,9,   -999.0,1,-999.000,9,   2327.0,2,   2382.0,2,     7.47,2,15117.9,-999.0000,-999.000,-999.000,  2.8431,-999.000
   318MWESTW_4,  P21E,    70,  1,     15, SI9315,2,19940418,1003,-16.7388, -98.6612, 4005,   1654.1,   2.7008,  34.6103,2,  34.6107,2,    101.4,2,    101.5,2,   116.55,2,    39.59,2,     0.00,2,     2.82,2, -999.000,9, -999.000,9, -999.000,1,-999.0000,1,  -999.00,9,   -999.0,1,-999.000,9,   2330.0,2,   2389.0,2,     7.49,2,16571.2,-999.0000,-999.000,-999.000,  2.5836,-999.000
   318MWESTW_4,  P21E,    70,  1,     14, SI9314,2,19940418,1003,-16.7388, -98.6612, 4005,   1801.4,   2.4749,  34.6229,2,  34.6244,2,    109.4,2,    110.5,2,   120.70,2,    38.86,2,     0.01,2,     2.76,2, -999.000,9, -999.000,9, -999.000,1,-999.0000,1,  -999.00,9,   -999.0,1,-999.000,9,   2329.0,2,   2396.0,2,     7.50,2,18043.2,-999.0000,-999.000,-999.000,  2.3483,-999.000
   318MWESTW_4,  P21E,    70,  1,     13, SI9313,2,19940418,1003,-16.7388, -98.6612, 4005,   1949.6,   2.2901,  34.6354,2,  34.6344,2,    120.6,2,    120.8,2,   122.42,2,    38.03,2,     0.01,2,     2.69,2, -999.000,9, -999.000,9, -999.000,1,-999.0000,1,  -999.00,9,   -999.0,1,-999.000,9,   2326.0,2,   2397.0,2,     7.52,2,19522.8,-999.0000,-999.000,-999.000,  2.1536,-999.000
   318MWESTW_4,  P21E,    70,  1,     12, SI9312,2,19940418,1003,-16.7388, -98.6612, 4005,   2099.7,   2.1217,  34.6462,2,  34.6457,2,    133.9,2,    133.5,2,   122.07,2,    37.05,2,     0.01,2,     2.60,2, -999.000,9, -999.000,9, -999.000,1,-999.0000,1,  -999.00,9,   -999.0,1,-999.000,9,   2319.0,2,   2399.0,2,     7.53,2,21022.9,-999.0000,-999.000,-999.000,  1.9748,-999.000
   318MWESTW_4,  P21E,    70,  1,     11, SI9311,2,19940418,1003,-16.7388, -98.6612, 4005,   2248.1,   1.9880,  34.6549,2,  34.6563,2,    143.2,2,    142.7,2,   122.76,2,    36.33,2,     0.01,2,     2.54,2, -999.000,9, -999.000,9, -999.000,1,-999.0000,1,  -999.00,9,   -999.0,1,-999.000,9,   2315.0,2,   2399.0,2,     7.56,2,22505.8,-999.0000,-999.000,-999.000,  1.8304,-999.000
   318MWESTW_4,  P21E,    70,  1,     10, SI9310,2,19940418,1003,-16.7388, -98.6612, 4005,   2395.5,   1.9012,  34.6637,2,  34.6645,2,    150.6,2,    149.1,2,   122.76,2,    35.79,2,     0.00,2,     2.49,2, -999.000,9, -999.000,9, -999.000,1,-999.0000,1,  -999.00,9,   -999.0,1,-999.000,9,   2312.0,2,   2403.0,2,     7.57,2,23978.3,-999.0000,-999.000,-999.000,  1.7321,-999.000
   318MWESTW_4,  P21E,    70,  1,      9, SI9309,2,19940418,1003,-16.7388, -98.6612, 4005,   2597.0,   1.8329,  34.6723,2,  34.6722,2,    153.6,2,    152.2,2,   124.48,2,    35.58,2,     0.00,2,     2.48,2, -999.000,9, -999.000,9, -999.000,1,-999.0000,1,  -999.00,9,   -999.0,1,-999.000,9,   2312.0,2,   2405.0,2,     7.58,2,25991.4,-999.0000,-999.000,-999.000,  1.6468,-999.000
   318MWESTW_4,  P21E,    70,  1,      8, SI9308,2,19940418,1003,-16.7388, -98.6612, 4005,   2802.0,   1.8063,  34.6774,2,  34.6781,2,    151.1,2,    149.3,2,   128.79,2,    35.74,2,     0.01,2,     2.49,2, -999.000,9, -999.000,9, -999.000,1,-999.0000,1,  -999.00,9,   -999.0,1,-999.000,9,   2318.0,2,   2414.0,2,     7.57,2,28040.5,-999.0000,-999.000,-999.000,  1.6017,-999.000
   318MWESTW_4,  P21E,    70,  1,      7, SI9307,2,19940418,1003,-16.7388, -98.6612, 4005,   2998.7,   1.8013,  34.6798,2,  34.6798,2,    147.9,2,    146.8,2,   132.40,2,    36.04,2,     0.00,2,     2.51,2, -999.000,9, -999.000,9, -999.000,1,-999.0000,1,  -999.00,9,   -999.0,1,-999.000,9,   2324.0,2,   2419.0,2,     7.59,2,30005.6,-999.0000,-999.000,-999.000,  1.5780,-999.000
   318MWESTW_4,  P21E,    70,  1,      6, SI9306,2,19940418,1003,-16.7388, -98.6612, 4005,   3201.0,   1.7959,  34.6817,2,  34.6814,2,    146.1,2,    146.0,2,   134.12,2,    36.15,2,     0.00,2,     2.52,2, -999.000,9, -999.000,9, -999.000,1,-999.0000,1,  -999.00,9,   -999.0,1,-999.000,9,   2328.0,2,   2422.0,2,     7.58,2,32027.1,-999.0000,-999.000,-999.000,  1.5528,-999.000
   318MWESTW_4,  P21E,    70,  1,      5, SI9305,2,19940418,1003,-16.7388, -98.6612, 4005,   3394.3,   1.7984,  34.6843,2,  34.6834,2,    148.8,2,    147.8,2,   132.74,2,    35.99,2,     0.00,2,     2.50,2, -999.000,9, -999.000,9, -999.000,1,-999.0000,1,  -999.00,9,   -999.0,1,-999.000,9,   2323.0,2,   2420.0,2,     7.58,2,33959.1,-999.0000,-999.000,-999.000,  1.5357,-999.000
   318MWESTW_4,  P21E,    70,  1,      4, SI9304,2,19940418,1003,-16.7388, -98.6612, 4005,   3591.9,   1.8086,  34.6854,2,  34.6851,2,    149.5,2,    148.2,2,   132.22,2,    35.94,2,     0.00,2,     2.50,2, -999.000,9, -999.000,9, -999.000,1,-999.0000,1,  -999.00,9,   -999.0,1,-999.000,9,   2317.0,2,   2422.0,2,     7.58,2,35934.3,-999.0000,-999.000,-999.000,  1.5251,-999.000
   318MWESTW_4,  P21E,    70,  1,      3, SI9303,2,19940418,1003,-16.7388, -98.6612, 4005,   3795.8,   1.8163,  34.6865,2,  34.6859,2,    150.4,2,    149.1,2,   131.53,2,    35.89,2,     0.00,2,     2.49,2, -999.000,9, -999.000,9, -999.000,1,-999.0000,1,  -999.00,9,   -999.0,1,-999.000,9,   2322.0,2,   2420.0,2,     7.56,2,37972.0,-999.0000,-999.000,-999.000,  1.5108,-999.000
   318MWESTW_4,  P21E,    70,  1,      2, SI9302,2,19940418,1003,-16.7388, -98.6612, 4005,   4035.3,   1.8308,  34.6874,2,  34.6861,2,    150.5,2,    150.0,2,   131.35,2,    35.73,2,     0.00,2,     2.49,2, -999.000,9, -999.000,9, -999.000,1,-999.0000,1,  -999.00,9,   -999.0,1,-999.000,9,   2323.0,2,   2421.0,2,     7.58,2,40365.7,-999.0000,-999.000,-999.000,  1.4987,-999.000
   318MWESTW_4,  P21E,    70,  1,      1, SI9301,2,19940418,1003,-16.7388, -98.6612, 4005,   4078.1,   1.8356,  34.6876,2,  34.6865,2,    150.4,2,    149.8,2,   131.09,2,    35.79,2,     0.00,2,     2.49,2, -999.000,9, -999.000,9, -999.000,1,-999.0000,1,  -999.00,9,   -999.0,1,-999.000,9,   2323.0,2,   2423.0,2,     7.58,2,40794.3,-999.0000,-999.000,-999.000,  1.4985,-999.000