BOTTLE,20010911WHPSIOdm
EXPOCODE,SECT_ID,STNNBR,CASTNO,SAMPNO,BTLNBR,BTLNBR_FLAG_W,DATE,TIME,LATITUDE,LONGITUDE,DEPTH,CTDPRS,CTDTMP,CTDSAL,CTDSAL_FLAG_W,SALNTY,SALNTY_FLAG_W,CTDOXY,CTDOXY_FLAG_W,OXYGEN,OXYGEN_FLAG_W,SILCAT,SILCAT_FLAG_W,NITRAT,NITRAT_FLAG_W,NITRIT,NITRIT_FLAG_W,PHSPHT,PHSPHT_FLAG_W,CFC-11,CFC-11_FLAG_W,CFC-12,CFC-12_FLAG_W,TRITUM,TRITUM_FLAG_W,HELIUM,HELIUM_FLAG_W,DELHE3,DELHE3_FLAG_W,DELC14,DELC14_FLAG_W,NEON,NEON_FLAG_W,TCARBN,TCARBN_FLAG_W,ALKALI,ALKALI_FLAG_W,PH,PH_FLAG_W,CTDRAW,HELIER,DELHER,NEONER,THETA,TRITER
,,,,,,,,,,,,DBAR,ITS-90,PSS-78,,PSS-78,,UMOL/KG,,UMOL/KG,,UMOL/KG,,UMOL/KG,,UMOL/KG,,UMOL/KG,,PMOL/KG,,PMOL/KG,,TU,,UMOL/KG,,PERCNT,,/MILLE,,NMOL/KG,,UMOL/KG,,UMOL/KG,,,,,NMOL/KG,PERCNT,NMOL/KG,ITS-90,TU
   318MWESTW_5,  P21W,   293,  1,     23, SI9423,2,19940622,0949,-25.7167, 153.9667, 1470,      7.3,  23.8804,  35.1376,2,  35.1376,2,    219.6,2,    211.9,2,     0.82,2,    -0.01,2,     0.01,2,     0.14,2,    1.883,2,    1.044,2, -999.000,1,-999.0000,1,  -999.00,9,   -999.0,1,-999.000,9,   -999.0,9,   -999.0,9,  -999.00,9,  131.9,-999.0000,-999.000,-999.000, 23.8789,-999.000
   318MWESTW_5,  P21W,   293,  1,     22, SI9418,2,19940622,0949,-25.7167, 153.9667, 1470,     24.9,  23.8805,  35.1422,2,  35.1412,2,    220.1,2,    208.3,2,     0.82,2,    -0.01,2,     0.01,2,     0.14,2, -999.000,9, -999.000,9, -999.000,1,-999.0000,1,  -999.00,9,   -999.0,1,-999.000,9,   -999.0,9,   -999.0,9,  -999.00,9,  307.0,-999.0000,-999.000,-999.000, 23.8753,-999.000
   318MWESTW_5,  P21W,   293,  1,     21, SI9421,2,19940622,0949,-25.7167, 153.9667, 1470,     44.8,  23.4543,  35.3180,2,  35.3194,2,    209.2,2,    213.8,2,     0.81,2,    -0.01,2,     0.01,2,     0.16,2,    1.889,6,    1.053,6, -999.000,1,-999.0000,1,  -999.00,9,   -999.0,1,-999.000,9,   -999.0,9,   -999.0,9,  -999.00,9,  505.6,-999.0000,-999.000,-999.000, 23.4450,-999.000
   318MWESTW_5,  P21W,   293,  1,     20, SI9420,2,19940622,0949,-25.7167, 153.9667, 1470,     95.3,  21.1750,  35.7239,2,  35.7248,2,    174.4,2,    178.3,2,     1.37,2,     3.61,2,     0.02,2,     0.40,2,    1.965,2,    1.062,2, -999.000,1,-999.0000,1,  -999.00,9,   -999.0,1,-999.000,9,   -999.0,9,   -999.0,9,  -999.00,9, 1008.8,-999.0000,-999.000,-999.000, 21.1566,-999.000
   318MWESTW_5,  P21W,   293,  1,     19, SI9419,2,19940622,0949,-25.7167, 153.9667, 1470,    146.7,  19.4993,  35.6275,2,  35.6269,2,    160.4,2,    162.8,2,     2.21,2,     6.65,2,     0.01,2,     0.60,2, -999.000,9, -999.000,9, -999.000,1,-999.0000,1,  -999.00,9,   -999.0,1,-999.000,9,   -999.0,9,   -999.0,9,  -999.00,9, 1520.9,-999.0000,-999.000,-999.000, 19.4726,-999.000
   318MWESTW_5,  P21W,   293,  1,     18, SI9439,2,19940622,0949,-25.7167, 153.9667, 1470,    194.6,  18.1278,  35.5244,2,  35.5237,2,    158.6,2,    164.6,2,     2.76,2,     7.93,2,     0.01,2,     0.67,2,    1.755,2,    0.928,2, -999.000,1,-999.0000,1,  -999.00,9,   -999.0,1,-999.000,9,   -999.0,9,   -999.0,9,  -999.00,9, 1997.5,-999.0000,-999.000,-999.000, 18.0941,-999.000
   318MWESTW_5,  P21W,   293,  1,     17, SI9417,2,19940622,0949,-25.7167, 153.9667, 1470,    244.7,  16.4490,  35.3885,2,  35.3869,2,    162.8,2,    165.7,2,     3.73,2,     9.91,2,     0.00,2,     0.80,2, -999.000,9, -999.000,9, -999.000,1,-999.0000,1,  -999.00,9,   -999.0,1,-999.000,9,   -999.0,9,   -999.0,9,  -999.00,9, 2495.8,-999.0000,-999.000,-999.000, 16.4094,-999.000
   318MWESTW_5,  P21W,   293,  1,     16, SI9416,2,19940622,0949,-25.7167, 153.9667, 1470,    295.6,  14.5548,  35.2331,2,  35.2304,2,    170.9,2,    170.7,2,     4.71,2,    12.08,2,     0.01,2,     0.94,2,    1.539,2,    0.794,2, -999.000,1,-999.0000,1,  -999.00,9,   -999.0,1,-999.000,9,   -999.0,9,   -999.0,9,  -999.00,9, 3002.1,-999.0000,-999.000,-999.000, 14.5107,-999.000
   318MWESTW_5,  P21W,   293,  1,     15, SI9415,2,19940622,0949,-25.7167, 153.9667, 1470,    347.4,  13.1485,  35.1142,2,  35.1104,2,    177.0,2,    179.2,2,     5.54,2,    13.74,2,     0.01,2,     1.04,2,    1.513,2,    0.778,2, -999.000,1,-999.0000,1,  -999.00,9,   -999.0,1,-999.000,9,   -999.0,9,   -999.0,9,  -999.00,9, 3517.4,-999.0000,-999.000,-999.000, 13.1000,-999.000
   318MWESTW_5,  P21W,   293,  1,     14, SI9436,2,19940622,0949,-25.7167, 153.9667, 1470,    398.1,  12.0417,  35.0090,2,  35.0118,2,    181.0,2,    178.3,2,     6.24,2,    15.20,2,     0.01,2,     1.13,2,    1.455,2,    0.754,2, -999.000,1,-999.0000,1,  -999.00,9,   -999.0,1,-999.000,9,   -999.0,9,   -999.0,9,  -999.00,9, 4022.5,-999.0000,-999.000,-999.000, 11.9892,-999.000
   318MWESTW_5,  P21W,   293,  1,     13, SI9413,2,19940622,0949,-25.7167, 153.9667, 1470,    450.0,  10.6978,  34.8630,2,  34.8603,2,    183.4,2,    183.7,2,     7.92,2,    17.71,2,     0.01,2,     1.29,2,    1.258,2,    0.633,2, -999.000,1,-999.0000,1,  -999.00,9,   -999.0,1,-999.000,9,   -999.0,9,   -999.0,9,  -999.00,9, 4538.3,-999.0000,-999.000,-999.000, 10.6427,-999.000
   318MWESTW_5,  P21W,   293,  1,     12, SI9438,2,19940622,0949,-25.7167, 153.9667, 1470,    497.9,   9.7723,  34.7538,2,  34.7659,2,    187.4,2,    187.4,2,     9.17,2,    19.39,2,     0.00,2,     1.39,2,    1.122,2,    0.569,2, -999.000,1,-999.0000,1,  -999.00,9,   -999.0,1,-999.000,9,   -999.0,9,   -999.0,9,  -999.00,9, 5014.6,-999.0000,-999.000,-999.000,  9.7146,-999.000
   318MWESTW_5,  P21W,   293,  1,     11, SI9411,2,19940622,0949,-25.7167, 153.9667, 1470,    595.3,   8.4807,  34.6242,2,  34.6221,2,    188.9,2,    190.4,2,    12.79,2,    22.33,2,     0.00,2,     1.57,2,    0.728,2,    0.376,2, -999.000,1,-999.0000,1,  -999.00,9,   -999.0,1,-999.000,9,   -999.0,9,   -999.0,9,  -999.00,9, 5983.4,-999.0000,-999.000,-999.000,  8.4171,-999.000
   318MWESTW_5,  P21W,   293,  1,     10, SI9412,2,19940622,0949,-25.7167, 153.9667, 1470,    699.0,   7.3044,  34.5222,2,  34.5209,2,    192.0,2,    192.5,2,    17.40,2,    24.77,2,     0.00,2,     1.74,2,    0.444,2,    0.236,2, -999.000,1,-999.0000,1,  -999.00,9,   -999.0,1,-999.000,9,   -999.0,9,   -999.0,9,  -999.00,9, 7014.1,-999.0000,-999.000,-999.000,  7.2355,-999.000
   318MWESTW_5,  P21W,   293,  1,      9, SI9410,2,19940622,0949,-25.7167, 153.9667, 1470,    796.5,   6.1510,  34.4663,2,  34.4656,2,    190.0,2,    187.5,2,    27.45,2,    27.71,2,     0.00,2,     1.93,2,    0.216,2,    0.120,2, -999.000,1,-999.0000,1,  -999.00,9,   -999.0,1,-999.000,9,   -999.0,9,   -999.0,9,  -999.00,9, 7983.6,-999.0000,-999.000,-999.000,  6.0789,-999.000
   318MWESTW_5,  P21W,   293,  1,      8, SI9422,2,19940622,0949,-25.7167, 153.9667, 1470,    899.3,   5.5074,  34.4586,2,  34.4571,2,    183.3,2,    180.6,2,    36.81,2,    29.50,2,     0.01,2,     2.07,2, -999.000,9, -999.000,9, -999.000,1,-999.0000,1,  -999.00,9,   -999.0,1,-999.000,9,   -999.0,9,   -999.0,9,  -999.00,9, 9005.7,-999.0000,-999.000,-999.000,  5.4297,-999.000
   318MWESTW_5,  P21W,   293,  1,      7, SI9407,2,19940622,0949,-25.7167, 153.9667, 1470,   1000.2,   4.9444,  34.4652,2,  34.4650,2,    174.7,2,    175.7,2,    45.73,2,    30.75,2,     0.00,2,     2.16,2,    0.071,2,    0.038,2, -999.000,1,-999.0000,1,  -999.00,9,   -999.0,1,-999.000,9,   -999.0,9,   -999.0,9,  -999.00,9,10009.2,-999.0000,-999.000,-999.000,  4.8616,-999.000
   318MWESTW_5,  P21W,   293,  1,      6, SI9427,2,19940622,0949,-25.7167, 153.9667, 1470,   1105.3,   4.3795,  34.4869,2,  34.4862,2,    169.4,2,    167.8,2,    57.60,2,    32.12,2,     0.00,2,     2.26,2, -999.000,9, -999.000,9, -999.000,1,-999.0000,1,  -999.00,9,   -999.0,1,-999.000,9,   -999.0,9,   -999.0,9,  -999.00,9,11053.4,-999.0000,-999.000,-999.000,  4.2918,-999.000
   318MWESTW_5,  P21W,   293,  1,      5, SI9405,2,19940622,0949,-25.7167, 153.9667, 1470,   1197.4,   3.9509,  34.5129,2,  34.5129,2,    162.2,2,    161.8,2,    67.78,2,    33.06,2,     0.00,2,     2.33,2,    0.021,2,    0.011,2, -999.000,1,-999.0000,1,  -999.00,9,   -999.0,1,-999.000,9,   -999.0,9,   -999.0,9,  -999.00,9,11969.4,-999.0000,-999.000,-999.000,  3.8590,-999.000
   318MWESTW_5,  P21W,   293,  1,      4, SI9404,2,19940622,0949,-25.7167, 153.9667, 1470,   1315.8,   3.5700,  34.5406,2,  34.5392,2,    155.7,2,    155.8,2,    78.11,2,    33.92,2,     0.00,2,     2.38,2, -999.000,9, -999.000,9, -999.000,1,-999.0000,1,  -999.00,9,   -999.0,1,-999.000,9,   -999.0,9,   -999.0,9,  -999.00,9,13145.7,-999.0000,-999.000,-999.000,  3.4716,-999.000
   318MWESTW_5,  P21W,   293,  1,      3, SI9403,2,19940622,0949,-25.7167, 153.9667, 1470,   1407.6,   3.2271,  34.5681,2,  34.5686,2,    152.3,2,    153.0,2,    86.34,2,    34.47,2,     0.01,2,     2.42,2,    0.006,2,    0.003,2, -999.000,1,-999.0000,1,  -999.00,9,   -999.0,1,-999.000,9,   -999.0,9,   -999.0,9,  -999.00,9,14058.5,-999.0000,-999.000,-999.000,  3.1245,-999.000
   318MWESTW_5,  P21W,   293,  1,      2, SI9437,2,19940622,0949,-25.7167, 153.9667, 1470,   1451.6,   3.1254,  34.5770,2,  34.5757,2,    152.3,2,    151.7,2,    88.57,2,    34.60,2,     0.01,2,     2.43,2, -999.000,9, -999.000,9, -999.000,1,-999.0000,1,  -999.00,9,   -999.0,1,-999.000,9,   -999.0,9,   -999.0,9,  -999.00,9,14495.2,-999.0000,-999.000,-999.000,  3.0202,-999.000
   318MWESTW_5,  P21W,   293,  1,      1, SI9401,2,19940622,0949,-25.7167, 153.9667, 1470,   1498.0,   3.0803,  34.5812,2,  34.5783,2,    151.3,2,    152.1,2,    89.72,2,    34.63,2,     0.00,2,     2.43,2,    0.004,2,    0.002,2, -999.000,1,-999.0000,1,  -999.00,9,   -999.0,1,-999.000,9,   -999.0,9,   -999.0,9,  -999.00,9,14955.5,-999.0000,-999.000,-999.000,  2.9717,-999.000
   318MWESTW_5,  P21W,   294,  1,     11, SI9411,2,19940622,1242,-25.7612, 153.8472,  215,      6.2,  22.9307,  35.3423,2,  35.3427,2,    195.2,3,    218.5,2,     0.85,2,     0.00,2,     0.00,2,     0.14,2,    1.906,2,    1.048,2, -999.000,1,-999.0000,1,  -999.00,9,   -999.0,1,-999.000,9,   -999.0,9,   -999.0,9,  -999.00,9,  118.1,-999.0000,-999.000,-999.000, 22.9294,-999.000
   318MWESTW_5,  P21W,   294,  1,     10, SI9412,2,19940622,1242,-25.7612, 153.8472,  215,     17.2,  22.6837,  35.3757,2,  35.3766,2,    202.8,2,    216.3,2,     0.57,2,     0.00,2,     0.00,2,     0.12,2, -999.000,9, -999.000,9, -999.000,1,-999.0000,1,  -999.00,9,   -999.0,1,-999.000,9,   -999.0,9,   -999.0,9,  -999.00,9,  227.4,-999.0000,-999.000,-999.000, 22.6802,-999.000
   318MWESTW_5,  P21W,   294,  1,      9, SI9410,2,19940622,1242,-25.7612, 153.8472,  215,     36.2,  22.3907,  35.3877,2,  35.3851,2,    209.9,2,    215.8,2,     0.43,2,     0.00,2,     0.00,2,     0.12,2,    1.932,2,    1.060,2, -999.000,1,-999.0000,1,  -999.00,9,   -999.0,1,-999.000,9,   -999.0,9,   -999.0,9,  -999.00,9,  416.4,-999.0000,-999.000,-999.000, 22.3834,-999.000
   318MWESTW_5,  P21W,   294,  1,      8, SI9422,2,19940622,1242,-25.7612, 153.8472,  215,     53.0,  22.1291,  35.4149,2,  35.4212,2,    217.8,2,    209.6,2,     0.42,2,     0.00,2,     0.00,2,     0.13,2, -999.000,9, -999.000,9, -999.000,1,-999.0000,1,  -999.00,9,   -999.0,1,-999.000,9,   -999.0,9,   -999.0,9,  -999.00,9,  584.0,-999.0000,-999.000,-999.000, 22.1186,-999.000
   318MWESTW_5,  P21W,   294,  1,      7, SI9407,2,19940622,1242,-25.7612, 153.8472,  215,     72.7,  20.8173,  35.6206,2,  35.6184,2,    182.6,2,    171.7,2,     1.95,2,     4.97,2,     0.04,2,     0.49,2,    1.839,2,    0.997,2, -999.000,1,-999.0000,1,  -999.00,9,   -999.0,1,-999.000,9,   -999.0,9,   -999.0,9,  -999.00,9,  780.0,-999.0000,-999.000,-999.000, 20.8034,-999.000
   318MWESTW_5,  P21W,   294,  1,      6, SI9427,2,19940622,1242,-25.7612, 153.8472,  215,     92.8,  19.3448,  35.6082,2,  35.6030,2,    165.3,2,    160.7,2,     2.51,2,     7.09,2,     0.01,2,     0.62,2,    1.776,2,    0.938,2, -999.000,1,-999.0000,1,  -999.00,9,   -999.0,1,-999.000,9,   -999.0,9,   -999.0,9,  -999.00,9,  980.0,-999.0000,-999.000,-999.000, 19.3280,-999.000
   318MWESTW_5,  P21W,   294,  1,      5, SI9405,2,19940622,1242,-25.7612, 153.8472,  215,    118.7,  18.6605,  35.5689,2,  35.5657,2,    163.8,2,    165.0,2,     2.51,2,     7.39,2,     0.01,2,     0.64,2, -999.000,9, -999.000,9, -999.000,1,-999.0000,1,  -999.00,9,   -999.0,1,-999.000,9,   -999.0,9,   -999.0,9,  -999.00,9, 1237.5,-999.0000,-999.000,-999.000, 18.6396,-999.000
   318MWESTW_5,  P21W,   294,  1,      4, SI9404,2,19940622,1242,-25.7612, 153.8472,  215,    144.2,  18.0954,  35.5157,2,  35.5131,2,    161.4,2,    157.1,2,     3.20,2,     8.55,2,     0.01,2,     0.73,2,    1.675,2,    0.880,2, -999.000,1,-999.0000,1,  -999.00,9,   -999.0,1,-999.000,9,   -999.0,9,   -999.0,9,  -999.00,9, 1490.3,-999.0000,-999.000,-999.000, 18.0705,-999.000
   318MWESTW_5,  P21W,   294,  1,      3, SI9403,2,19940622,1242,-25.7612, 153.8472,  215,    168.7,  17.6773,  35.4948,2,  35.4912,2,    167.1,2,    165.8,2,     3.07,2,     8.30,2,     0.01,2,     0.71,2,    1.721,2,    0.906,2, -999.000,1,-999.0000,1,  -999.00,9,   -999.0,1,-999.000,9,   -999.0,9,   -999.0,9,  -999.00,9, 1734.5,-999.0000,-999.000,-999.000, 17.6486,-999.000
   318MWESTW_5,  P21W,   294,  1,      2, SI9437,2,19940622,1242,-25.7612, 153.8472,  215,    194.0,  17.1731,  35.4677,2,  35.4655,2,    172.8,2,    170.7,2,     3.06,2,     8.22,2,     0.02,2,     0.68,2, -999.000,9, -999.000,9, -999.000,1,-999.0000,1,  -999.00,9,   -999.0,1,-999.000,9,   -999.0,9,   -999.0,9,  -999.00,9, 1985.0,-999.0000,-999.000,-999.000, 17.1408,-999.000
   318MWESTW_5,  P21W,   294,  1,      1, SI9401,2,19940622,1242,-25.7612, 153.8472,  215,    209.0,  16.6681,  35.4236,2,  35.4235,2,    169.6,2,    170.4,2,     3.33,2,     8.94,2,     0.03,2,     0.72,2,    1.732,2,    0.901,2, -999.000,1,-999.0000,1,  -999.00,9,   -999.0,1,-999.000,9,   -999.0,9,   -999.0,9,  -999.00,9, 2134.0,-999.0000,-999.000,-999.000, 16.6340,-999.000