BOTTLE,20010911WHPSIOdm
EXPOCODE,SECT_ID,STNNBR,CASTNO,SAMPNO,BTLNBR,BTLNBR_FLAG_W,DATE,TIME,LATITUDE,LONGITUDE,DEPTH,CTDPRS,CTDTMP,CTDSAL,CTDSAL_FLAG_W,SALNTY,SALNTY_FLAG_W,CTDOXY,CTDOXY_FLAG_W,OXYGEN,OXYGEN_FLAG_W,SILCAT,SILCAT_FLAG_W,NITRAT,NITRAT_FLAG_W,NITRIT,NITRIT_FLAG_W,PHSPHT,PHSPHT_FLAG_W,CFC-11,CFC-11_FLAG_W,CFC-12,CFC-12_FLAG_W,TRITUM,TRITUM_FLAG_W,HELIUM,HELIUM_FLAG_W,DELHE3,DELHE3_FLAG_W,DELC14,DELC14_FLAG_W,NEON,NEON_FLAG_W,TCARBN,TCARBN_FLAG_W,ALKALI,ALKALI_FLAG_W,PH,PH_FLAG_W,CTDRAW,HELIER,DELHER,NEONER,THETA,TRITER
,,,,,,,,,,,,DBAR,ITS-90,PSS-78,,PSS-78,,UMOL/KG,,UMOL/KG,,UMOL/KG,,UMOL/KG,,UMOL/KG,,UMOL/KG,,PMOL/KG,,PMOL/KG,,TU,,UMOL/KG,,PERCNT,,/MILLE,,NMOL/KG,,UMOL/KG,,UMOL/KG,,,,,NMOL/KG,PERCNT,NMOL/KG,ITS-90,TU
   318MWESTW_4,  P21E,    12,  1,     36, SI9336,2,19940331,1516,-15.5000, -76.8362, 2975,      8.1,  22.9121,  35.0495,2,  35.0659,2,    227.5,2,    221.8,2,     0.47,2,    -0.01,2,     0.01,2,     0.42,2,    2.111,2,    1.110,2, -999.000,1,-999.0000,1,  -999.00,9,   -999.0,1,-999.000,9,   -999.0,9,   -999.0,9,  -999.00,9,  123.9,-999.0000,-999.000,-999.000, 22.9105,-999.000
   318MWESTW_4,  P21E,    12,  1,     35, SI9335,2,19940331,1516,-15.5000, -76.8362, 2975,     26.6,  18.3484,  35.0394,2,  35.0346,2,    245.2,2,    232.7,2,     1.36,2,     0.21,2,     0.02,2,     0.55,2,    2.340,2,    1.210,2, -999.000,1,   1.7320,2,    -0.90,2,   -999.0,1,   7.111,2,   -999.0,9,   -999.0,9,  -999.00,9,  308.6,  0.0087,   0.080,   0.036, 18.3438,-999.000
   318MWESTW_4,  P21E,    12,  1,     34, SI9334,2,19940331,1516,-15.5000, -76.8362, 2975,     51.8,  15.6787,  34.9409,2,  34.9843,2,    131.2,2,    122.7,2,     6.46,2,    16.14,2,     0.38,2,     1.61,2,    2.145,2,    1.093,2, -999.000,1,   1.7733,2,     0.04,2,   -999.0,1,   7.292,2,   -999.0,9,   -999.0,9,  -999.00,9,  560.6,  0.0089,   0.080,   0.036, 15.6707,-999.000
   318MWESTW_4,  P21E,    12,  1,     33, SI9333,2,19940331,1516,-15.5000, -76.8362, 2975,    102.0,  13.0565,  34.7988,2,  34.7463,2,     29.0,2,     36.6,2,    16.64,2,    19.86,2,     0.06,2,     2.33,2,    1.159,2,    0.565,2, -999.000,1,   1.7629,2,     2.46,2,   -999.0,1,   7.356,2,   -999.0,9,   -999.0,9,  -999.00,9, 1062.3,  0.0088,   0.080,   0.037, 13.0425,-999.000
   318MWESTW_4,  P21E,    12,  1,     32, SI9332,2,19940331,1516,-15.5000, -76.8362, 2975,    146.8,  12.5410,  34.8359,2,  34.8448,2,      1.1,2,      0.7,2,    25.78,2,    17.27,2,     2.02,2,     2.67,2,    0.346,2,    0.203,2, -999.000,1,   1.7686,2,     4.15,2,   -999.0,1,   7.383,2,   -999.0,9,   -999.0,9,  -999.00,9, 1509.2,  0.0088,   0.090,   0.037, 12.5214,-999.000
   318MWESTW_4,  P21E,    12,  1,     31, SI9331,2,19940331,1516,-15.5000, -76.8362, 2975,    198.7,  11.9048,  34.8151,2,  34.8255,2,      0.7,2,      2.6,2,    27.37,2,    18.65,2,     4.54,2,     2.69,2,    0.195,2,    0.115,2, -999.000,1,-999.0000,1,  -999.00,9,   -999.0,1,-999.000,9,   -999.0,9,   -999.0,9,  -999.00,9, 2028.5,-999.0000,-999.000,-999.000, 11.8791,-999.000
   318MWESTW_4,  P21E,    12,  1,     30, SI9330,2,19940331,1516,-15.5000, -76.8362, 2975,    248.9,  11.1484,  34.7420,2,  34.8452,3,      1.1,2,      1.2,2,    27.55,2,    26.48,2,     1.56,2,     2.68,2,    0.127,2,    0.071,2, -999.000,1,   1.7760,2,     3.66,2,   -999.0,1,   7.462,2,   -999.0,9,   -999.0,9,  -999.00,9, 2530.0,  0.0089,   0.080,   0.037, 11.1175,-999.000
   318MWESTW_4,  P21E,    12,  1,     29, SI9329,2,19940331,1516,-15.5000, -76.8362, 2975,    300.8,  10.1787,  34.7121,2,  34.7254,2,      0.3,2,      1.0,2,    31.07,2,    31.58,2,     0.92,2,     2.78,2,    0.052,6,    0.027,6, -999.000,1,   1.7827,2,     3.54,2,   -999.0,1,   7.484,2,   -999.0,9,   -999.0,9,  -999.00,9, 3047.6,  0.0089,   0.080,   0.037, 10.1433,-999.000
   318MWESTW_4,  P21E,    12,  1,     28, SI9328,2,19940331,1516,-15.5000, -76.8362, 2975,    350.4,   9.3176,  34.6763,2,  34.6759,2,      0.0,2,      1.2,2,    33.18,2,    36.39,2,     0.00,2,     2.86,2,    0.024,2,    0.017,2, -999.000,1,   1.7871,2,     3.95,2,   -999.0,1,   7.539,2,   -999.0,9,   -999.0,9,  -999.00,9, 3543.7,  0.0089,   0.090,   0.038,  9.2785,-999.000
   318MWESTW_4,  P21E,    12,  1,     27, SI9327,2,19940331,1516,-15.5000, -76.8362, 2975,    400.0,   8.6581,  34.6371,2,  34.6394,2,      1.4,2,      2.7,2,    35.82,2,    38.92,2,     0.00,2,     2.93,2,    0.019,2,   -0.003,2, -999.000,1,   1.7996,2,     4.39,2,   -999.0,1,   7.606,2,   -999.0,9,   -999.0,9,  -999.00,9, 4039.3,  0.0090,   0.090,   0.038,  8.6153,-999.000
   318MWESTW_4,  P21E,    12,  1,     26, SI9326,2,19940331,1516,-15.5000, -76.8362, 2975,    499.6,   7.4642,  34.5633,2,  34.5698,2,     14.0,2,     13.2,2,    40.39,2,    41.97,2,     0.00,2,     3.02,2,    0.009,2,   -0.001,2, -999.000,1,   1.8001,2,     5.45,2,   -999.0,1,   7.634,2,   -999.0,9,   -999.0,9,  -999.00,9, 5033.5,  0.0090,   0.090,   0.038,  7.4150,-999.000
   318MWESTW_4,  P21E,    12,  1,     25, SI9325,2,19940331,1516,-15.5000, -76.8362, 2975,    596.5,   6.4983,  34.5282,2,  34.5319,2,     23.0,2,     22.1,2,    47.42,2,    43.72,2,     0.00,2,     3.11,2,    0.004,2,    0.002,2, -999.000,1,-999.0000,1,  -999.00,9,   -999.0,1,-999.000,9,   -999.0,9,   -999.0,9,  -999.00,9, 6001.5,-999.0000,-999.000,-999.000,  6.4435,-999.000
   318MWESTW_4,  P21E,    12,  1,     24, SI9324,2,19940331,1516,-15.5000, -76.8362, 2975,    699.4,   5.7700,  34.5167,2,  34.5174,2,     29.6,2,     29.1,2,    55.49,2,    44.62,2,     0.00,2,     3.17,2,   -0.005,2,   -0.004,2, -999.000,1,   1.8248,2,     9.21,2,   -999.0,1,   7.740,2,   -999.0,9,   -999.0,9,  -999.00,9, 7029.6,  0.0091,   0.090,   0.039,  5.7091,-999.000
   318MWESTW_4,  P21E,    12,  1,     23, SI9323,2,19940331,1516,-15.5000, -76.8362, 2975,    800.0,   5.2350,  34.5166,2,  34.5174,2,     34.6,2,     35.5,2,    64.10,2,    44.80,2,     0.00,2,     3.20,2,   -0.002,2,   -0.004,2, -999.000,1,-999.0000,1,  -999.00,9,   -999.0,1,-999.000,9,   -999.0,9,   -999.0,9,  -999.00,9, 8034.0,-999.0000,-999.000,-999.000,  5.1681,-999.000
   318MWESTW_4,  P21E,    12,  1,     22, SI9322,2,19940331,1516,-15.5000, -76.8362, 2975,    899.1,   4.7699,  34.5218,2,  34.5243,2,     43.1,2,     44.7,2,    72.17,2,    44.30,2,    -0.01,2,     3.15,2,    0.002,2,   -0.004,2, -999.000,1,   1.8268,2,    13.72,2,   -999.0,1,   7.710,2,   -999.0,9,   -999.0,9,  -999.00,9, 9024.6,  0.0091,   0.090,   0.039,  4.6972,-999.000
   318MWESTW_4,  P21E,    12,  1,     21, SI9321,2,19940331,1516,-15.5000, -76.8362, 2975,    997.9,   4.3311,  34.5354,2,  34.5360,2,     54.7,2,     54.7,2,    81.99,2,    43.51,2,     0.00,2,     3.11,2, -999.000,9, -999.000,9, -999.000,1,-999.0000,1,  -999.00,9,   -999.0,1,-999.000,9,   -999.0,9,   -999.0,9,  -999.00,9,10011.4,-999.0000,-999.000,-999.000,  4.2530,-999.000
   318MWESTW_4,  P21E,    12,  1,     20, SI9320,2,19940331,1516,-15.5000, -76.8362, 2975,   1097.5,   3.9910,  34.5499,2,  34.5498,2,     64.0,2,     63.2,2,    89.36,2,    42.78,2,     0.00,2,     3.06,2, -999.000,9, -999.000,9, -999.000,1,-999.0000,1,  -999.00,9,   -999.0,1,-999.000,9,   -999.0,9,   -999.0,9,  -999.00,9,11005.7,-999.0000,-999.000,-999.000,  3.9072,-999.000
   318MWESTW_4,  P21E,    12,  1,     19, SI9319,2,19940331,1516,-15.5000, -76.8362, 2975,   1198.7,   3.7285,  34.5625,2,  34.5598,2,     68.2,2,     68.2,2,    96.21,2,    42.33,2,     0.00,2,     3.06,2, -999.000,9, -999.000,9, -999.000,1,   1.8857,2,    19.39,2,   -999.0,1,   7.958,2,   -999.0,9,   -999.0,9,  -999.00,9,12017.1,  0.0094,   0.100,   0.040,  3.6384,-999.000
   318MWESTW_4,  P21E,    12,  1,     18, SI9318,2,19940331,1516,-15.5000, -76.8362, 2975,   1298.6,   3.4865,  34.5744,2,  34.5714,2,     71.7,2,     73.6,2,   102.18,2,    41.99,2,     0.00,2,     3.01,2, -999.000,9, -999.000,9, -999.000,1,-999.0000,1,  -999.00,9,   -999.0,1,-999.000,9,   -999.0,9,   -999.0,9,  -999.00,9,13014.6,-999.0000,-999.000,-999.000,  3.3903,-999.000
   318MWESTW_4,  P21E,    12,  1,     17, SI9317,2,19940331,1516,-15.5000, -76.8362, 2975,   1401.4,   3.2098,  34.5855,2,  34.5836,2,     79.3,2,     78.9,2,   109.02,2,    41.53,2,     0.01,2,     2.97,2, -999.000,9, -999.000,9, -999.000,1,-999.0000,1,  -999.00,9,   -999.0,1,-999.000,9,   -999.0,9,   -999.0,9,  -999.00,9,14041.9,-999.0000,-999.000,-999.000,  3.1078,-999.000
   318MWESTW_4,  P21E,    12,  1,     16, SI9316,2,19940331,1516,-15.5000, -76.8362, 2975,   1499.3,   3.0190,  34.5980,2,  34.5967,2,     80.8,2,     81.3,2,   115.68,2,    41.37,2,     0.01,2,     2.96,2, -999.000,9, -999.000,9, -999.000,1,-999.0000,1,  -999.00,9,   -999.0,1,-999.000,9,   -999.0,9,   -999.0,9,  -999.00,9,15020.1,-999.0000,-999.000,-999.000,  2.9109,-999.000
   318MWESTW_4,  P21E,    12,  1,     15, SI9315,2,19940331,1516,-15.5000, -76.8362, 2975,   1601.0,   2.8187,  34.6059,2,  34.6079,2,     85.1,2,     87.1,2,   120.59,2,    40.99,2,     0.00,2,     2.92,2, -999.000,9, -999.000,9, -999.000,1,-999.0000,1,  -999.00,9,   -999.0,1,-999.000,9,   -999.0,9,   -999.0,9,  -999.00,9,16035.7,-999.0000,-999.000,-999.000,  2.7045,-999.000
   318MWESTW_4,  P21E,    12,  1,     14, SI9314,2,19940331,1516,-15.5000, -76.8362, 2975,   1698.1,   2.6443,  34.6163,2,  34.6179,2,     90.3,2,     92.8,2,   124.63,2,    40.54,2,     0.00,2,     2.87,2, -999.000,9, -999.000,9, -999.000,1,-999.0000,1,  -999.00,9,   -999.0,1,-999.000,9,   -999.0,9,   -999.0,9,  -999.00,9,17006.0,-999.0000,-999.000,-999.000,  2.5241,-999.000
   318MWESTW_4,  P21E,    12,  1,     13, SI9313,2,19940331,1516,-15.5000, -76.8362, 2975,   1795.0,   2.5198,  34.6253,2,  34.6254,2,     95.0,2,     97.2,2,   127.78,2,    40.19,2,     0.00,2,     2.84,2, -999.000,9, -999.000,9, -999.000,1,-999.0000,1,  -999.00,9,   -999.0,1,-999.000,9,   -999.0,9,   -999.0,9,  -999.00,9,17973.4,-999.0000,-999.000,-999.000,  2.3931,-999.000
   318MWESTW_4,  P21E,    12,  1,     12, SI9312,2,19940331,1516,-15.5000, -76.8362, 2975,   1897.7,   2.3864,  34.6342,2,  34.6346,2,     99.2,2,    101.8,2,   131.29,2,    39.74,2,     0.01,2,     2.82,2, -999.000,9, -999.000,9, -999.000,1,-999.0000,1,  -999.00,9,   -999.0,1,-999.000,9,   -999.0,9,   -999.0,9,  -999.00,9,19000.0,-999.0000,-999.000,-999.000,  2.2529,-999.000
   318MWESTW_4,  P21E,    12,  1,     11, SI9311,2,19940331,1516,-15.5000, -76.8362, 2975,   1999.8,   2.2919,  34.6404,2,  34.6386,2,    104.1,2,    105.5,2,   133.22,2,    39.53,2,     0.00,2,     2.78,2, -999.000,9, -999.000,9, -999.000,1,-999.0000,1,  -999.00,9,   -999.0,1,-999.000,9,   -999.0,9,   -999.0,9,  -999.00,9,20019.7,-999.0000,-999.000,-999.000,  2.1510,-999.000
   318MWESTW_4,  P21E,    12,  1,     10, SI9310,2,19940331,1516,-15.5000, -76.8362, 2975,   2107.4,   2.2013,  34.6474,2,  34.6458,2,    107.6,2,    109.6,2,   135.15,2,    39.14,2,     0.00,2,     2.76,2, -999.000,9, -999.000,9, -999.000,1,-999.0000,1,  -999.00,9,   -999.0,1,-999.000,9,   -999.0,9,   -999.0,9,  -999.00,9,21095.1,-999.0000,-999.000,-999.000,  2.0525,-999.000
   318MWESTW_4,  P21E,    12,  1,      9, SI9309,2,19940331,1516,-15.5000, -76.8362, 2975,   2204.1,   2.1178,  34.6518,2,  34.6521,2,    114.7,2,    117.0,2,   133.74,2,    38.45,2,     0.01,2,     2.71,2, -999.000,9, -999.000,9, -999.000,1,-999.0000,1,  -999.00,9,   -999.0,1,-999.000,9,   -999.0,9,   -999.0,9,  -999.00,9,22061.0,-999.0000,-999.000,-999.000,  1.9619,-999.000
   318MWESTW_4,  P21E,    12,  1,      8, SI9308,2,19940331,1516,-15.5000, -76.8362, 2975,   2302.8,   2.0217,  34.6588,2,  34.6582,2,    124.7,2,    124.9,2,   132.70,2,    37.78,2,     0.01,2,     2.66,2, -999.000,9, -999.000,9, -999.000,1,-999.0000,1,  -999.00,9,   -999.0,1,-999.000,9,   -999.0,9,   -999.0,9,  -999.00,9,23047.6,-999.0000,-999.000,-999.000,  1.8587,-999.000
   318MWESTW_4,  P21E,    12,  1,      7, SI9307,2,19940331,1516,-15.5000, -76.8362, 2975,   2404.1,   1.9562,  34.6632,2,  34.6627,2,    130.2,2,    130.3,2,   132.17,2,    37.34,2,     0.00,2,     2.62,2, -999.000,9, -999.000,9, -999.000,1,-999.0000,1,  -999.00,9,   -999.0,1,-999.000,9,   -999.0,9,   -999.0,9,  -999.00,9,24059.3,-999.0000,-999.000,-999.000,  1.7853,-999.000
   318MWESTW_4,  P21E,    12,  1,      6, SI9306,2,19940331,1516,-15.5000, -76.8362, 2975,   2501.0,   1.9119,  34.6668,2,  34.6677,2,    134.6,2,    134.6,2,   131.47,2,    37.06,2,     0.00,2,     2.59,2, -999.000,9, -999.000,9, -999.000,1,-999.0000,1,  -999.00,9,   -999.0,1,-999.000,9,   -999.0,9,   -999.0,9,  -999.00,9,25027.7,-999.0000,-999.000,-999.000,  1.7331,-999.000
   318MWESTW_4,  P21E,    12,  1,      5, SI9305,2,19940331,1516,-15.5000, -76.8362, 2975,   2599.2,   1.8665,  34.6698,2,  34.6700,2,    137.2,2,    137.5,2,   132.00,2,    36.78,2,     0.00,2,     2.57,2, -999.000,9, -999.000,9, -999.000,1,-999.0000,1,  -999.00,9,   -999.0,1,-999.000,9,   -999.0,9,   -999.0,9,  -999.00,9,26009.1,-999.0000,-999.000,-999.000,  1.6796,-999.000
   318MWESTW_4,  P21E,    12,  1,      4, SI9304,2,19940331,1516,-15.5000, -76.8362, 2975,   2695.0,   1.8354,  34.6730,2,  34.6739,2,    139.0,2,    139.7,2,   132.52,2,    36.56,2,     0.00,2,     2.56,2, -999.000,9, -999.000,9, -999.000,1,-999.0000,1,  -999.00,9,   -999.0,1,-999.000,9,   -999.0,9,   -999.0,9,  -999.00,9,26965.7,-999.0000,-999.000,-999.000,  1.6403,-999.000
   318MWESTW_4,  P21E,    12,  1,      3, SI9303,2,19940331,1516,-15.5000, -76.8362, 2975,   2797.6,   1.8034,  34.6763,2,  34.6767,2,    141.4,2,    141.8,2,   133.05,2,    36.38,2,     0.01,2,     2.54,2, -999.000,9, -999.000,9, -999.000,1,-999.0000,1,  -999.00,9,   -999.0,1,-999.000,9,   -999.0,9,   -999.0,9,  -999.00,9,27991.5,-999.0000,-999.000,-999.000,  1.5993,-999.000
   318MWESTW_4,  P21E,    12,  1,      2, SI9302,2,19940331,1516,-15.5000, -76.8362, 2975,   2941.2,   1.7819,  34.6794,2,  34.6781,2,    144.8,2,    144.5,2,   132.70,2,    36.00,2,     0.00,2,     2.52,2, -999.000,9, -999.000,9, -999.000,1,-999.0000,1,  -999.00,9,   -999.0,1,-999.000,9,   -999.0,9,   -999.0,9,  -999.00,9,29426.3,-999.0000,-999.000,-999.000,  1.5646,-999.000
   318MWESTW_4,  P21E,    12,  1,      1, SI9301,2,19940331,1516,-15.5000, -76.8362, 2975,   2987.7,   1.7765,  34.6808,2,  34.6806,2,    142.1,2,    145.1,2,   133.47,2,    35.89,2,     0.00,2,     2.51,2, -999.000,9, -999.000,9, -999.000,1,-999.0000,1,  -999.00,9,   -999.0,1,-999.000,9,   -999.0,9,   -999.0,9,  -999.00,9,29890.4,-999.0000,-999.000,-999.000,  1.5548,-999.000