BOTTLE,20010911WHPSIOdm
EXPOCODE,SECT_ID,STNNBR,CASTNO,SAMPNO,BTLNBR,BTLNBR_FLAG_W,DATE,TIME,LATITUDE,LONGITUDE,DEPTH,CTDPRS,CTDTMP,CTDSAL,CTDSAL_FLAG_W,SALNTY,SALNTY_FLAG_W,CTDOXY,CTDOXY_FLAG_W,OXYGEN,OXYGEN_FLAG_W,SILCAT,SILCAT_FLAG_W,NITRAT,NITRAT_FLAG_W,NITRIT,NITRIT_FLAG_W,PHSPHT,PHSPHT_FLAG_W,CFC-11,CFC-11_FLAG_W,CFC-12,CFC-12_FLAG_W,TRITUM,TRITUM_FLAG_W,HELIUM,HELIUM_FLAG_W,DELHE3,DELHE3_FLAG_W,DELC14,DELC14_FLAG_W,NEON,NEON_FLAG_W,TCARBN,TCARBN_FLAG_W,ALKALI,ALKALI_FLAG_W,PH,PH_FLAG_W,CTDRAW,HELIER,DELHER,NEONER,THETA,TRITER
,,,,,,,,,,,,DBAR,ITS-90,PSS-78,,PSS-78,,UMOL/KG,,UMOL/KG,,UMOL/KG,,UMOL/KG,,UMOL/KG,,UMOL/KG,,PMOL/KG,,PMOL/KG,,TU,,UMOL/KG,,PERCNT,,/MILLE,,NMOL/KG,,UMOL/KG,,UMOL/KG,,,,,NMOL/KG,PERCNT,NMOL/KG,ITS-90,TU
   318MWESTW_4,  P21E,   148,  1,     24, SI9404,2,19940510,0512,-17.5000,-143.8333, 3503,      9.0,  28.6694,  36.1899,2,  36.1903,2,    200.9,2,    209.0,2,     0.50,2,     0.03,2,     0.01,2,     0.21,2,    1.590,2,    0.908,2, -999.000,1,-999.0000,1,  -999.00,9,   -999.0,1,-999.000,9,   1999.7,2,   2374.0,2,     8.21,2,  139.8,-999.0000,-999.000,-999.000, 28.6672,-999.000
   318MWESTW_4,  P21E,   148,  1,     23, SI9405,2,19940510,0512,-17.5000,-143.8333, 3503,     23.1,  28.7121,  36.2055,2,  36.2014,2,    198.5,2,    208.1,2,     0.63,2,     0.05,2,    -0.01,2,     0.21,2,    1.579,2,    0.911,2, -999.000,1,-999.0000,1,  -999.00,9,   -999.0,1,-999.000,9,   2000.7,2,   2383.0,2,     8.21,2,  280.8,-999.0000,-999.000,-999.000, 28.7065,-999.000
   318MWESTW_4,  P21E,   148,  1,     22, SI9407,2,19940510,0512,-17.5000,-143.8333, 3503,     47.5,  28.7396,  36.2235,2,  36.2216,2,    203.1,2,    207.5,2,     0.46,2,     0.08,2,     0.01,2,     0.21,2,    1.574,2,    0.899,2, -999.000,1,-999.0000,1,  -999.00,9,   -999.0,1,-999.000,9,   2000.7,2,   2374.0,2,     8.21,2,  524.3,-999.0000,-999.000,-999.000, 28.7282,-999.000
   318MWESTW_4,  P21E,   148,  1,     21, SI9408,2,19940510,0512,-17.5000,-143.8333, 3503,     95.0,  26.5167,  36.3778,2,  36.3711,2,    217.9,2,    216.8,2,     0.44,2,     0.06,2,    -0.01,2,     0.22,2,    1.836,2,    1.128,2, -999.000,1,-999.0000,1,  -999.00,9,   -999.0,1,-999.000,9,   2025.7,2,   2388.0,2,     8.19,2,  997.3,-999.0000,-999.000,-999.000, 26.4951,-999.000
   318MWESTW_4,  P21E,   148,  1,     20, SI9409,2,19940510,0512,-17.5000,-143.8333, 3503,    151.7,  23.5657,  36.2145,2,  36.2133,2,    208.3,2,    198.1,2,     0.41,2,     0.44,2,     0.19,2,     0.31,2,    1.889,2,    1.040,2, -999.000,1,-999.0000,1,  -999.00,9,   -999.0,1,-999.000,9,   2054.8,2,   2376.0,2,     8.13,2, 1562.5,-999.0000,-999.000,-999.000, 23.5340,-999.000
   318MWESTW_4,  P21E,   148,  1,     19, SI9411,2,19940510,0512,-17.5000,-143.8333, 3503,    198.8,  21.7852,  36.0249,2,  36.0406,2,    190.1,2,    183.1,2,     0.39,2,     1.84,2,     0.13,2,     0.41,2,    1.920,2,    1.006,2, -999.000,1,-999.0000,1,  -999.00,9,   -999.0,1,-999.000,9,   2071.8,2,   2363.0,2,     8.09,2, 2031.4,-999.0000,-999.000,-999.000, 21.7459,-999.000
   318MWESTW_4,  P21E,   148,  1,     18, SI9413,2,19940510,0512,-17.5000,-143.8333, 3503,    251.3,  19.9277,  35.7820,2,  35.7989,2,    184.9,2,    179.0,2,     0.53,2,     3.44,2,     0.01,2,     0.51,2,    1.958,2,    1.025,2, -999.000,1,-999.0000,1,  -999.00,9,   -999.0,1,-999.000,9,   -999.0,9,   -999.0,9,  -999.00,9, 2554.1,-999.0000,-999.000,-999.000, 19.8811,-999.000
   318MWESTW_4,  P21E,   148,  1,     17, SI9415,2,19940510,0512,-17.5000,-143.8333, 3503,    292.3,  17.7184,  35.4405,2,  35.4383,2,    188.0,2,    177.8,2,     1.27,2,     5.34,2,     0.02,2,     0.63,2,    1.799,2,    0.952,2, -999.000,1,-999.0000,1,  -999.00,9,   -999.0,1,-999.000,9,   2086.8,2,   2324.0,2,     8.01,2, 2963.0,-999.0000,-999.000,-999.000, 17.6685,-999.000
   318MWESTW_4,  P21E,   148,  1,     16, SI9416,2,19940510,0512,-17.5000,-143.8333, 3503,    396.9,  11.2324,  34.6973,2,  34.6999,2,    158.3,2,    146.6,2,     8.94,2,    18.97,2,     0.01,2,     1.52,2,    0.863,2,    0.448,2, -999.000,1,-999.0000,1,  -999.00,9,   -999.0,1,-999.000,9,   2150.9,2,   2288.0,2,     7.79,2, 4003.6,-999.0000,-999.000,-999.000, 11.1825,-999.000
   318MWESTW_4,  P21E,   148,  1,     15, SI9417,2,19940510,0512,-17.5000,-143.8333, 3503,    501.8,   7.8674,  34.4821,2,  34.4840,2,    129.2,2,    129.2,2,    20.00,2,    29.02,2,     0.01,2,     2.10,2,    0.241,2,    0.121,2, -999.000,1,-999.0000,1,  -999.00,9,   -999.0,1,-999.000,9,   2190.9,2,   2287.0,2,     7.68,2, 5047.0,-999.0000,-999.000,-999.000,  7.8165,-999.000
   318MWESTW_4,  P21E,   148,  1,     14, SI9419,2,19940510,0512,-17.5000,-143.8333, 3503,    605.1,   6.7672,  34.4657,2,  34.4640,2,    132.9,2,    133.2,2,    27.98,2,    31.55,2,     0.02,2,     2.24,2,    0.089,2,    0.048,2, -999.000,1,-999.0000,1,  -999.00,9,   -999.0,1,-999.000,9,   2208.9,2,   2292.0,2,     7.65,2, 6074.0,-999.0000,-999.000,-999.000,  6.7104,-999.000
   318MWESTW_4,  P21E,   148,  1,     13, SI9420,2,19940510,0512,-17.5000,-143.8333, 3503,    702.4,   5.8428,  34.4655,2,  34.4634,2,    139.6,2,    138.8,2,    38.58,2,    32.98,2,     0.02,2,     2.31,2,    0.036,2,    0.017,2, -999.000,1,-999.0000,1,  -999.00,9,   -999.0,1,-999.000,9,   2219.9,2,   2304.0,2,     7.65,2, 7041.2,-999.0000,-999.000,-999.000,  5.7813,-999.000
   318MWESTW_4,  P21E,   148,  1,     12, SI9421,2,19940510,0512,-17.5000,-143.8333, 3503,    795.8,   5.1960,  34.4589,2,  34.4585,2,    140.4,2,    140.7,2,    45.78,2,    34.03,2,     0.02,2,     2.38,2,    0.021,2,    0.009,2, -999.000,1,-999.0000,1,  -999.00,9,   -999.0,1,-999.000,9,   2228.9,2,   2308.0,2,     7.64,2, 7970.0,-999.0000,-999.000,-999.000,  5.1297,-999.000
   318MWESTW_4,  P21E,   148,  1,     11, SI9423,2,19940510,0512,-17.5000,-143.8333, 3503,   1054.2,   4.0018,  34.5046,2,  34.5040,2,    140.0,2,    141.5,2,    69.00,2,    35.38,2,     0.01,2,     2.46,2,    0.000,2,   -0.002,2, -999.000,1,-999.0000,1,  -999.00,9,   -999.0,1,-999.000,9,   2254.9,2,   2336.0,2,     7.63,2,10539.4,-999.0000,-999.000,-999.000,  3.9216,-999.000
   318MWESTW_4,  P21E,   148,  1,     10, SI9425,2,19940510,0512,-17.5000,-143.8333, 3503,   1290.8,   3.2281,  34.5499,2,  34.5498,2,    142.7,2,    144.1,2,    85.89,2,    35.72,2,     0.01,2,     2.49,2, -999.000,9, -999.000,9, -999.000,1,-999.0000,1,  -999.00,9,   -999.0,1,-999.000,9,   2272.0,2,   2352.0,2,     7.63,2,12891.4,-999.0000,-999.000,-999.000,  3.1352,-999.000
   318MWESTW_4,  P21E,   148,  1,      9, SI9424,2,19940510,0512,-17.5000,-143.8333, 3503,   1544.0,   2.7800,  34.5821,2,  34.5820,2,    147.1,2,    147.2,2,    97.10,2,    35.66,2,     0.02,2,     2.50,2, -999.000,9, -999.000,9, -999.000,1,-999.0000,1,  -999.00,9,   -999.0,1,-999.000,9,   2283.0,2,   2367.0,2,     7.63,2,15409.1,-999.0000,-999.000,-999.000,  2.6711,-999.000
   318MWESTW_4,  P21E,   148,  1,      8, SI9428,3,19940510,0512,-17.5000,-143.8333, 3503,   1807.3,   2.4342,  34.6092,2,  34.9280,4,    149.9,2,    161.2,4,    77.69,4,    27.63,4,     0.02,4,     1.98,4, -999.000,9, -999.000,9, -999.000,1,-999.0000,1,  -999.00,9,   -999.0,1,-999.000,9,   -999.0,9,   -999.0,9,  -999.00,9,18026.9,-999.0000,-999.000,-999.000,  2.3077,-999.000
   318MWESTW_4,  P21E,   148,  1,      7, SI9429,2,19940510,0512,-17.5000,-143.8333, 3503,   2045.8,   2.1456,  34.6322,2,  34.6323,2,    154.0,2,    154.7,2,   112.28,2,    35.38,2,     0.01,2,     2.46,2, -999.000,9, -999.000,9, -999.000,1,-999.0000,1,  -999.00,9,   -999.0,1,-999.000,9,   2294.0,2,   2386.0,2,     7.66,2,20397.7,-999.0000,-999.000,-999.000,  2.0030,-999.000
   318MWESTW_4,  P21E,   148,  1,      6, SI9431,2,19940510,0512,-17.5000,-143.8333, 3503,   2300.9,   2.0049,  34.6440,2,  34.6443,2,    156.7,2,    157.2,2,   115.65,2,    35.24,2,     0.02,2,     2.45,2, -999.000,9, -999.000,9, -999.000,1,-999.0000,1,  -999.00,9,   -999.0,1,-999.000,9,   2299.0,2,   2387.0,2,     7.65,2,22934.3,-999.0000,-999.000,-999.000,  1.8424,-999.000
   318MWESTW_4,  P21E,   148,  1,      5, SI9432,2,19940510,0512,-17.5000,-143.8333, 3503,   2597.5,   1.8743,  34.6571,2,  34.6633,4,    159.5,2,    162.0,3,   119.78,2,    34.96,2,     0.01,2,     2.42,2, -999.000,9, -999.000,9, -999.000,1,-999.0000,1,  -999.00,9,   -999.0,1,-999.000,9,   2299.0,2,   2385.0,2,     7.64,2,25882.5,-999.0000,-999.000,-999.000,  1.6875,-999.000
   318MWESTW_4,  P21E,   148,  1,      4, SI9433,2,19940510,0512,-17.5000,-143.8333, 3503,   2902.6,   1.7530,  34.6676,2,  34.6688,2,    163.3,2,    163.7,2,   121.14,2,    34.86,2,     0.01,2,     2.42,2, -999.000,9, -999.000,9, -999.000,1,-999.0000,1,  -999.00,9,   -999.0,1,-999.000,9,   2300.0,2,   2392.0,2,     7.66,2,28915.9,-999.0000,-999.000,-999.000,  1.5400,-999.000
   318MWESTW_4,  P21E,   148,  1,      3, SI9435,2,19940510,0512,-17.5000,-143.8333, 3503,   3095.0,   1.6493,  34.6752,2,  34.6773,2,    167.0,2,    167.9,2,   121.74,2,    34.48,2,     0.01,2,     2.40,2, -999.000,9, -999.000,9, -999.000,1,-999.0000,1,  -999.00,9,   -999.0,1,-999.000,9,   2296.0,2,   2387.0,2,     7.66,2,30828.7,-999.0000,-999.000,-999.000,  1.4200,-999.000
   318MWESTW_4,  P21E,   148,  1,      2, SI9401,2,19940510,0512,-17.5000,-143.8333, 3503,   3418.5,   1.5566,  34.6839,2,  34.6842,2,    173.4,2,    173.2,2,   122.33,2,    34.15,2,     0.01,2,     2.38,2, -999.000,9, -999.000,9, -999.000,1,-999.0000,1,  -999.00,9,   -999.0,1,-999.000,9,   2294.0,2,   2390.0,2,     7.66,2,34044.9,-999.0000,-999.000,-999.000,  1.2973,-999.000
   318MWESTW_4,  P21E,   148,  1,      1, SI9403,2,19940510,0512,-17.5000,-143.8333, 3503,   3512.4,   1.5216,  34.6870,2,  34.6863,2,    175.5,2,    175.0,2,   122.21,2,    33.97,2,     0.01,2,     2.37,2, -999.000,9, -999.000,9, -999.000,1,-999.0000,1,  -999.00,9,   -999.0,1,-999.000,9,   2293.0,2,   2385.0,2,     7.67,2,34978.3,-999.0000,-999.000,-999.000,  1.2536,-999.000
   318MWESTW_4,  P21E,   149,  1,     24, SI9404,2,19940510,1149,-17.5000,-144.5000, 4030,      9.7,  28.6270,  36.2116,2,  36.2174,2,    207.9,2,    208.1,2,     0.81,2,     0.02,2,     0.00,2,     0.21,2,    1.595,2,    0.905,2, -999.000,1,-999.0000,1,  -999.00,9,   -999.0,1,-999.000,9,   -999.0,9,   -999.0,9,  -999.00,9,  147.0,-999.0000,-999.000,-999.000, 28.6247,-999.000
   318MWESTW_4,  P21E,   149,  1,     23, SI9405,2,19940510,1149,-17.5000,-144.5000, 4030,     24.6,  28.6375,  36.2136,2,  36.2103,2,    202.7,2,    208.6,2,     0.83,2,     0.02,2,     0.00,2,     0.21,2,    1.574,2,    0.899,2, -999.000,1,-999.0000,1,  -999.00,9,   -999.0,1,-999.000,9,   -999.0,9,   -999.0,9,  -999.00,9,  295.8,-999.0000,-999.000,-999.000, 28.6316,-999.000
   318MWESTW_4,  P21E,   149,  1,     22, SI9407,3,19940510,1149,-17.5000,-144.5000, 4030,     51.4,  28.6500,  36.2192,2,  36.2117,2,    204.4,2,    209.4,2,     0.85,2,     0.02,2,     0.00,2,     0.21,2,    1.562,2,    0.897,2, -999.000,1,-999.0000,1,  -999.00,9,   -999.0,1,-999.000,9,   -999.0,9,   -999.0,9,  -999.00,9,  563.6,-999.0000,-999.000,-999.000, 28.6376,-999.000
   318MWESTW_4,  P21E,   149,  1,     21, SI9408,2,19940510,1149,-17.5000,-144.5000, 4030,    100.1,  26.7943,  36.4052,2,  36.3994,2,    212.5,2,    218.9,2,     0.72,2,     0.07,2,     0.00,2,     0.22,2,    1.757,2,    0.986,2, -999.000,1,-999.0000,1,  -999.00,9,   -999.0,1,-999.000,9,   -999.0,9,   -999.0,9,  -999.00,9, 1049.1,-999.0000,-999.000,-999.000, 26.7714,-999.000
   318MWESTW_4,  P21E,   149,  1,     20, SI9409,2,19940510,1149,-17.5000,-144.5000, 4030,    149.2,  25.0816,  36.3545,2,  36.3518,2,    197.4,2,    206.2,2,     0.74,2,     0.08,2,     0.00,2,     0.25,2,    1.828,2,    1.013,2, -999.000,1,-999.0000,1,  -999.00,9,   -999.0,1,-999.000,9,   -999.0,9,   -999.0,9,  -999.00,9, 1537.8,-999.0000,-999.000,-999.000, 25.0490,-999.000
   318MWESTW_4,  P21E,   149,  1,     19, SI9411,2,19940510,1149,-17.5000,-144.5000, 4030,    198.4,  22.2902,  36.0763,2,  36.0712,2,    187.0,2,    190.3,2,     0.76,2,     1.45,2,     0.20,2,     0.39,2,    1.922,2,    1.023,2, -999.000,1,-999.0000,1,  -999.00,9,   -999.0,1,-999.000,9,   -999.0,9,   -999.0,9,  -999.00,9, 2027.8,-999.0000,-999.000,-999.000, 22.2504,-999.000
   318MWESTW_4,  P21E,   149,  1,     18, SI9413,2,19940510,1149,-17.5000,-144.5000, 4030,    251.8,  20.0294,  35.7787,2,  35.7797,2,    178.1,2,    181.1,2,     0.94,2,     3.24,2,     0.00,2,     0.49,2,    1.932,2,    1.023,2, -999.000,1,-999.0000,1,  -999.00,9,   -999.0,1,-999.000,9,   -999.0,9,   -999.0,9,  -999.00,9, 2560.3,-999.0000,-999.000,-999.000, 19.9825,-999.000
   318MWESTW_4,  P21E,   149,  1,     17, SI9415,2,19940510,1149,-17.5000,-144.5000, 4030,    296.6,  18.4393,  35.5585,2,  35.5551,2,    170.1,2,    177.4,2,     1.42,2,     4.89,2,     0.00,2,     0.61,2,    1.804,2,    0.965,2, -999.000,1,-999.0000,1,  -999.00,9,   -999.0,1,-999.000,9,   -999.0,9,   -999.0,9,  -999.00,9, 3005.8,-999.0000,-999.000,-999.000, 18.3872,-999.000
   318MWESTW_4,  P21E,   149,  1,     16, SI9416,2,19940510,1149,-17.5000,-144.5000, 4030,    399.3,  12.9047,  34.8731,2,  34.8680,2,    150.8,2,    147.1,2,     7.41,2,    15.58,2,     0.00,2,     1.34,2,    1.086,2,    0.572,2, -999.000,1,-999.0000,1,  -999.00,9,   -999.0,1,-999.000,9,   -999.0,9,   -999.0,9,  -999.00,9, 4027.2,-999.0000,-999.000,-999.000, 12.8497,-999.000
   318MWESTW_4,  P21E,   149,  1,     15, SI9417,2,19940510,1149,-17.5000,-144.5000, 4030,    500.1,   8.8866,  34.5347,2,  34.5366,2,    133.4,2,    130.8,2,    16.62,2,    26.16,2,     0.00,2,     1.97,2,    0.402,2,    0.204,2, -999.000,1,-999.0000,1,  -999.00,9,   -999.0,1,-999.000,9,   -999.0,9,   -999.0,9,  -999.00,9, 5029.7,-999.0000,-999.000,-999.000,  8.8321,-999.000
   318MWESTW_4,  P21E,   149,  1,     14, SI9419,2,19940510,1149,-17.5000,-144.5000, 4030,    602.5,   6.9696,  34.4655,2,  34.4634,2,    140.6,2,    138.0,2,    25.97,2,    30.53,2,     0.00,2,     2.19,2,    0.131,2,    0.067,2, -999.000,1,-999.0000,1,  -999.00,9,   -999.0,1,-999.000,9,   -999.0,9,   -999.0,9,  -999.00,9, 6048.5,-999.0000,-999.000,-999.000,  6.9121,-999.000
   318MWESTW_4,  P21E,   149,  1,     13, SI9420,2,19940510,1149,-17.5000,-144.5000, 4030,    702.8,   5.7275,  34.4529,2,  34.4522,2,    143.9,2,    143.0,2,    38.24,2,    32.70,2,     0.00,2,     2.31,2,    0.041,2,    0.022,2, -999.000,1,-999.0000,1,  -999.00,9,   -999.0,1,-999.000,9,   -999.0,9,   -999.0,9,  -999.00,9, 7045.4,-999.0000,-999.000,-999.000,  5.6666,-999.000
   318MWESTW_4,  P21E,   149,  1,     12, SI9421,2,19940510,1149,-17.5000,-144.5000, 4030,    851.3,   4.5445,  34.4835,2,  34.4842,2,    140.6,2,    139.8,2,    58.16,2,    34.68,2,     0.00,2,     2.44,2,    0.010,2,    0.004,2, -999.000,1,-999.0000,1,  -999.00,9,   -999.0,1,-999.000,9,   -999.0,9,   -999.0,9,  -999.00,9, 8521.9,-999.0000,-999.000,-999.000,  4.4775,-999.000
   318MWESTW_4,  P21E,   149,  1,     11, SI9423,2,19940510,1149,-17.5000,-144.5000, 4030,   1101.2,   3.7079,  34.5219,2,  34.5201,2,    143.9,2,    142.2,2,    75.50,2,    35.34,2,     0.00,2,     2.48,2,   -0.001,2,   -0.002,2, -999.000,1,-999.0000,1,  -999.00,9,   -999.0,1,-999.000,9,   -999.0,9,   -999.0,9,  -999.00,9,11006.7,-999.0000,-999.000,-999.000,  3.6262,-999.000
   318MWESTW_4,  P21E,   149,  1,     10, SI9425,2,19940510,1149,-17.5000,-144.5000, 4030,   1398.9,   2.9753,  34.5688,2,  34.5706,3,    144.7,2,    145.7,2,    92.51,2,    35.60,2,     0.00,2,     2.50,2, -999.000,9, -999.000,9, -999.000,1,-999.0000,1,  -999.00,9,   -999.0,1,-999.000,9,   -999.0,9,   -999.0,9,  -999.00,9,13966.3,-999.0000,-999.000,-999.000,  2.8761,-999.000
   318MWESTW_4,  P21E,   149,  1,      9, SI9424,2,19940510,1149,-17.5000,-144.5000, 4030,   1704.8,   2.5116,  34.6018,2,  34.6018,2,    149.2,2,    149.1,2,   103.55,2,    35.52,2,     0.00,2,     2.50,2, -999.000,9, -999.000,9, -999.000,1,-999.0000,1,  -999.00,9,   -999.0,1,-999.000,9,   -999.0,9,   -999.0,9,  -999.00,9,17008.4,-999.0000,-999.000,-999.000,  2.3926,-999.000
   318MWESTW_4,  P21E,   149,  1,      8, SI9428,2,19940510,1149,-17.5000,-144.5000, 4030,   1997.5,   2.1991,  34.6279,2,  34.6537,4,    153.7,2,    163.3,4,   116.12,4,    34.76,4,     0.00,4,     2.43,4, -999.000,9, -999.000,9, -999.000,1,-999.0000,1,  -999.00,9,   -999.0,1,-999.000,9,   -999.0,9,   -999.0,9,  -999.00,9,19917.6,-999.0000,-999.000,-999.000,  2.0599,-999.000
   318MWESTW_4,  P21E,   149,  1,      7, SI9429,2,19940510,1149,-17.5000,-144.5000, 4030,   2303.8,   1.9870,  34.6462,2,  34.6451,2,    156.1,2,    157.1,2,   116.30,2,    35.16,2,     0.00,2,     2.46,2, -999.000,9, -999.000,9, -999.000,1,-999.0000,1,  -999.00,9,   -999.0,1,-999.000,9,   -999.0,9,   -999.0,9,  -999.00,9,22962.6,-999.0000,-999.000,-999.000,  1.8246,-999.000
   318MWESTW_4,  P21E,   149,  1,      6, SI9431,3,19940510,1149,-17.5000,-144.5000, 4030,   2642.6,   1.8244,  34.6606,2,  34.6651,4,    161.1,2,    160.4,4,   119.77,2,    34.83,4,     0.00,2,     2.44,2, -999.000,9, -999.000,9, -999.000,1,-999.0000,1,  -999.00,9,   -999.0,1,-999.000,9,   -999.0,9,   -999.0,9,  -999.00,9,26331.4,-999.0000,-999.000,-999.000,  1.6344,-999.000
   318MWESTW_4,  P21E,   149,  1,      5, SI9432,2,19940510,1149,-17.5000,-144.5000, 4030,   2995.4,   1.7006,  34.6717,2,  34.6753,3,    165.2,2,    168.3,3,   121.70,2,    34.43,2,     0.00,2,     2.40,2, -999.000,9, -999.000,9, -999.000,1,-999.0000,1,  -999.00,9,   -999.0,1,-999.000,9,   -999.0,9,   -999.0,9,  -999.00,9,29838.8,-999.0000,-999.000,-999.000,  1.4799,-999.000
   318MWESTW_4,  P21E,   149,  1,      4, SI9433,2,19940510,1149,-17.5000,-144.5000, 4030,   3346.2,   1.5793,  34.6818,2,  34.6810,2,    172.0,2,    171.8,2,   122.41,2,    34.17,2,     0.00,2,     2.39,2, -999.000,9, -999.000,9, -999.000,1,-999.0000,1,  -999.00,9,   -999.0,1,-999.000,9,   -999.0,9,   -999.0,9,  -999.00,9,33326.4,-999.0000,-999.000,-999.000,  1.3268,-999.000
   318MWESTW_4,  P21E,   149,  1,      3, SI9435,2,19940510,1149,-17.5000,-144.5000, 4030,   3699.6,   1.4936,  34.6893,2,  34.6889,2,    178.4,2,    177.1,2,   122.13,2,    33.82,2,     0.00,2,     2.37,2, -999.000,9, -999.000,9, -999.000,1,-999.0000,1,  -999.00,9,   -999.0,1,-999.000,9,   -999.0,9,   -999.0,9,  -999.00,9,36839.5,-999.0000,-999.000,-999.000,  1.2069,-999.000
   318MWESTW_4,  P21E,   149,  1,      2, SI9401,2,19940510,1149,-17.5000,-144.5000, 4030,   3990.4,   1.4895,  34.6914,2,  34.6895,2,    180.1,2,    178.6,2,   122.29,2,    33.77,2,     0.00,2,     2.36,2, -999.000,9, -999.000,9, -999.000,1,-999.0000,1,  -999.00,9,   -999.0,1,-999.000,9,   -999.0,9,   -999.0,9,  -999.00,9,39730.6,-999.0000,-999.000,-999.000,  1.1719,-999.000
   318MWESTW_4,  P21E,   149,  1,      1, SI9403,2,19940510,1149,-17.5000,-144.5000, 4030,   4085.3,   1.4989,  34.6920,2,  34.6881,2,    180.6,2,    178.8,2,   122.37,2,    33.79,2,     0.00,2,     2.36,2, -999.000,9, -999.000,9, -999.000,1,-999.0000,1,  -999.00,9,   -999.0,1,-999.000,9,   -999.0,9,   -999.0,9,  -999.00,9,40673.3,-999.0000,-999.000,-999.000,  1.1707,-999.000