BOTTLE,20010911WHPSIOdm
EXPOCODE,SECT_ID,STNNBR,CASTNO,SAMPNO,BTLNBR,BTLNBR_FLAG_W,DATE,TIME,LATITUDE,LONGITUDE,DEPTH,CTDPRS,CTDTMP,CTDSAL,CTDSAL_FLAG_W,SALNTY,SALNTY_FLAG_W,CTDOXY,CTDOXY_FLAG_W,OXYGEN,OXYGEN_FLAG_W,SILCAT,SILCAT_FLAG_W,NITRAT,NITRAT_FLAG_W,NITRIT,NITRIT_FLAG_W,PHSPHT,PHSPHT_FLAG_W,CFC-11,CFC-11_FLAG_W,CFC-12,CFC-12_FLAG_W,TRITUM,TRITUM_FLAG_W,HELIUM,HELIUM_FLAG_W,DELHE3,DELHE3_FLAG_W,DELC14,DELC14_FLAG_W,NEON,NEON_FLAG_W,TCARBN,TCARBN_FLAG_W,ALKALI,ALKALI_FLAG_W,PH,PH_FLAG_W,CTDRAW,HELIER,DELHER,NEONER,THETA,TRITER
,,,,,,,,,,,,DBAR,ITS-90,PSS-78,,PSS-78,,UMOL/KG,,UMOL/KG,,UMOL/KG,,UMOL/KG,,UMOL/KG,,UMOL/KG,,PMOL/KG,,PMOL/KG,,TU,,UMOL/KG,,PERCNT,,/MILLE,,NMOL/KG,,UMOL/KG,,UMOL/KG,,,,,NMOL/KG,PERCNT,NMOL/KG,ITS-90,TU
   318MWESTW_4,  P21E,    99,  1,     36, SI9336,2,19940427,0001,-16.7472,-112.6667, 3172,     10.7,  26.0924,  36.5130,2,  36.5111,2,    201.1,2,    214.3,2,     0.43,2,     0.08,2,     0.00,2,     0.27,2,    1.780,2,    1.001,2, -999.000,1,-999.0000,1,  -999.00,9,   -999.0,1,-999.000,9,   -999.0,9,   -999.0,9,  -999.00,9,  150.0,-999.0000,-999.000,-999.000, 26.0900,-999.000
   318MWESTW_4,  P21E,    99,  1,     35, SI9335,2,19940427,0001,-16.7472,-112.6667, 3172,     24.6,  26.1018,  36.5032,2,  36.5115,2,    205.3,2,    212.8,2,     0.45,2,     0.07,2,     0.01,2,     0.27,2,    1.773,2,    1.001,2, -999.000,1,-999.0000,1,  -999.00,9,   -999.0,1,-999.000,9,   -999.0,9,   -999.0,9,  -999.00,9,  288.4,-999.0000,-999.000,-999.000, 26.0963,-999.000
   318MWESTW_4,  P21E,    99,  1,     34, SI9334,2,19940427,0001,-16.7472,-112.6667, 3172,     49.4,  26.0437,  36.5896,2,  36.5153,2,    209.1,2,    213.4,2,     0.62,2,     0.05,2,     0.02,2,     0.27,2,    1.793,2,    1.050,2, -999.000,1,-999.0000,1,  -999.00,9,   -999.0,1,-999.000,9,   -999.0,9,   -999.0,9,  -999.00,9,  536.8,-999.0000,-999.000,-999.000, 26.0326,-999.000
   318MWESTW_4,  P21E,    99,  1,     33, SI9333,2,19940427,0001,-16.7472,-112.6667, 3172,    100.9,  23.7618,  36.3802,2,  36.3944,2,    221.5,2,    221.2,2,     0.49,2,     0.06,2,     0.01,2,     0.25,2,    1.990,2,    1.092,2, -999.000,1,-999.0000,1,  -999.00,9,   -999.0,1,-999.000,9,   -999.0,9,   -999.0,9,  -999.00,9, 1052.1,-999.0000,-999.000,-999.000, 23.7406,-999.000
   318MWESTW_4,  P21E,    99,  1,     32, SI9332,2,19940427,0001,-16.7472,-112.6667, 3172,    151.6,  21.9987,  36.1493,2,  36.1725,2,    218.0,2,    218.1,2,     0.34,2,    -0.07,2,     0.03,2,     0.25,2,    2.081,2,    1.139,2, -999.000,1,-999.0000,1,  -999.00,9,   -999.0,1,-999.000,9,   -999.0,9,   -999.0,9,  -999.00,9, 1558.5,-999.0000,-999.000,-999.000, 21.9685,-999.000
   318MWESTW_4,  P21E,    99,  1,     31, SI9331,2,19940427,0001,-16.7472,-112.6667, 3172,    201.1,  20.4206,  35.6915,3,  35.8548,2,    203.1,2,    197.9,2,     0.68,2,     1.79,2,     0.14,2,     0.46,2,    2.181,2,    1.172,2, -999.000,1,-999.0000,1,  -999.00,9,   -999.0,1,-999.000,9,   -999.0,9,   -999.0,9,  -999.00,9, 2053.0,-999.0000,-999.000,-999.000, 20.3827,-999.000
   318MWESTW_4,  P21E,    99,  1,     30, SI9330,2,19940427,0001,-16.7472,-112.6667, 3172,    252.5,  17.4531,  35.1550,3,  35.2655,2,    196.2,2,    199.1,2,     0.86,2,     2.91,2,     0.02,2,     0.47,2,    2.236,2,    1.168,2, -999.000,1,-999.0000,1,  -999.00,9,   -999.0,1,-999.000,9,   -999.0,9,   -999.0,9,  -999.00,9, 2566.7,-999.0000,-999.000,-999.000, 17.4106,-999.000
   318MWESTW_4,  P21E,    99,  1,     29, SI9329,2,19940427,0001,-16.7472,-112.6667, 3172,    298.9,  14.4897,  34.8323,3,  34.9030,2,    168.5,2,    171.5,2,     3.13,2,     9.35,2,     0.01,2,     0.94,2,    1.891,2,    0.954,2, -999.000,1,-999.0000,1,  -999.00,9,   -999.0,1,-999.000,9,   -999.0,9,   -999.0,9,  -999.00,9, 3030.2,-999.0000,-999.000,-999.000, 14.4454,-999.000
   318MWESTW_4,  P21E,    99,  1,     28, SI9328,2,19940427,0001,-16.7472,-112.6667, 3172,    398.5,   9.1688,  34.5026,2,  34.5027,2,     80.8,2,     75.1,2,    18.72,2,    29.90,2,     0.01,2,     2.38,2,    0.315,2,    0.162,2, -999.000,1,-999.0000,1,  -999.00,9,   -999.0,1,-999.000,9,   -999.0,9,   -999.0,9,  -999.00,9, 4025.3,-999.0000,-999.000,-999.000,  9.1248,-999.000
   318MWESTW_4,  P21E,    99,  1,     27, SI9327,2,19940427,0001,-16.7472,-112.6667, 3172,    496.4,   7.1454,  34.4543,2,  34.4549,2,     97.1,2,     95.0,2,    24.20,2,    34.89,2,     0.01,2,     2.48,2,    0.074,2,    0.044,2, -999.000,1,-999.0000,1,  -999.00,9,   -999.0,1,-999.000,9,   -999.0,9,   -999.0,9,  -999.00,9, 5002.8,-999.0000,-999.000,-999.000,  7.0978,-999.000
   318MWESTW_4,  P21E,    99,  1,     26, SI9326,2,19940427,0001,-16.7472,-112.6667, 3172,    596.4,   6.1817,  34.4584,2,  34.4606,2,     95.2,2,     90.6,2,    34.33,2,    37.66,2,     0.01,2,     2.64,2,    0.010,2,    0.010,2, -999.000,1,-999.0000,1,  -999.00,9,   -999.0,1,-999.000,9,   -999.0,9,   -999.0,9,  -999.00,9, 6002.0,-999.0000,-999.000,-999.000,  6.1284,-999.000
   318MWESTW_4,  P21E,    99,  1,     25, SI9325,2,19940427,0001,-16.7472,-112.6667, 3172,    699.3,   5.6484,  34.4871,2,  34.4883,2,     77.1,2,     74.9,2,    47.04,2,    40.16,2,     0.00,2,     2.82,2,   -0.001,2,    0.002,2, -999.000,1,-999.0000,1,  -999.00,9,   -999.0,1,-999.000,9,   -999.0,9,   -999.0,9,  -999.00,9, 7029.1,-999.0000,-999.000,-999.000,  5.5882,-999.000
   318MWESTW_4,  P21E,    99,  1,     24, SI9324,2,19940427,0001,-16.7472,-112.6667, 3172,    800.1,   5.1692,  34.4967,2,  34.4991,2,     75.6,2,     73.3,2,    56.52,2,    41.15,2,     0.01,2,     2.89,2,   -0.002,2,    0.002,2, -999.000,1,-999.0000,1,  -999.00,9,   -999.0,1,-999.000,9,   -999.0,9,   -999.0,9,  -999.00,9, 8036.0,-999.0000,-999.000,-999.000,  5.1027,-999.000
   318MWESTW_4,  P21E,    99,  1,     23, SI9323,2,19940427,0001,-16.7472,-112.6667, 3172,    900.2,   4.7472,  34.5081,2,  34.5111,2,     78.7,2,     76.0,2,    65.37,2,    41.24,2,     0.02,2,     2.92,2,   -0.002,2,    0.001,2, -999.000,1,-999.0000,1,  -999.00,9,   -999.0,1,-999.000,9,   -999.0,9,   -999.0,9,  -999.00,9, 9036.5,-999.0000,-999.000,-999.000,  4.6746,-999.000
   318MWESTW_4,  P21E,    99,  1,     22, SI9322,2,19940427,0001,-16.7472,-112.6667, 3172,   1002.0,   4.3992,  34.5211,2,  34.5245,2,     80.6,2,     78.2,2,    73.58,2,    41.30,2,     0.02,2,     2.93,2,    0.000,2,    0.000,2, -999.000,1,-999.0000,1,  -999.00,9,   -999.0,1,-999.000,9,   -999.0,9,   -999.0,9,  -999.00,9,10052.9,-999.0000,-999.000,-999.000,  4.3203,-999.000
   318MWESTW_4,  P21E,    99,  1,     21, SI9321,2,19940427,0001,-16.7472,-112.6667, 3172,   1101.0,   4.0646,  34.5341,2,  34.5355,2,     78.0,2,     76.8,2,    81.78,2,    41.62,2,     0.01,2,     2.97,2, -999.000,9, -999.000,9, -999.000,1,-999.0000,1,  -999.00,9,   -999.0,1,-999.000,9,   -999.0,9,   -999.0,9,  -999.00,9,11042.2,-999.0000,-999.000,-999.000,  3.9799,-999.000
   318MWESTW_4,  P21E,    99,  1,     20, SI9320,2,19940427,0001,-16.7472,-112.6667, 3172,   1201.1,   3.7936,  34.5457,2,  34.5470,2,     81.1,2,     79.8,2,    88.21,2,    41.40,2,     0.02,2,     2.96,2, -999.000,9, -999.000,9, -999.000,1,-999.0000,1,  -999.00,9,   -999.0,1,-999.000,9,   -999.0,9,   -999.0,9,  -999.00,9,12042.1,-999.0000,-999.000,-999.000,  3.7027,-999.000
   318MWESTW_4,  P21E,    99,  1,     19, SI9319,2,19940427,0001,-16.7472,-112.6667, 3172,   1299.3,   3.4603,  34.5605,2,  34.5616,2,     87.9,2,     88.1,2,    95.77,2,    40.66,2,     0.01,2,     2.91,2, -999.000,9, -999.000,9, -999.000,1,-999.0000,1,  -999.00,9,   -999.0,1,-999.000,9,   -999.0,9,   -999.0,9,  -999.00,9,13023.1,-999.0000,-999.000,-999.000,  3.3643,-999.000
   318MWESTW_4,  P21E,    99,  1,     18, SI9318,2,19940427,0001,-16.7472,-112.6667, 3172,   1400.1,   3.2261,  34.5735,2,  34.5741,2,     95.0,2,     93.1,2,   101.24,2,    40.30,2,     0.00,2,     2.89,2, -999.000,9, -999.000,9, -999.000,1,-999.0000,1,  -999.00,9,   -999.0,1,-999.000,9,   -999.0,9,   -999.0,9,  -999.00,9,14030.1,-999.0000,-999.000,-999.000,  3.1241,-999.000
   318MWESTW_4,  P21E,    99,  1,     17, SI9317,2,19940427,0001,-16.7472,-112.6667, 3172,   1502.2,   3.0134,  34.5877,2,  34.5863,2,     98.2,2,     97.6,2,   106.56,2,    40.03,2,     0.00,2,     2.87,2, -999.000,9, -999.000,9, -999.000,1,-999.0000,1,  -999.00,9,   -999.0,1,-999.000,9,   -999.0,9,   -999.0,9,  -999.00,9,15049.9,-999.0000,-999.000,-999.000,  2.9052,-999.000
   318MWESTW_4,  P21E,    99,  1,     16, SI9316,2,19940427,0001,-16.7472,-112.6667, 3172,   1600.9,   2.8222,  34.5982,2,  34.5993,2,    102.2,2,    101.5,2,   111.54,2,    39.61,2,     0.00,2,     2.83,2, -999.000,9, -999.000,9, -999.000,1,-999.0000,1,  -999.00,9,   -999.0,1,-999.000,9,   -999.0,9,   -999.0,9,  -999.00,9,16035.8,-999.0000,-999.000,-999.000,  2.7080,-999.000
   318MWESTW_4,  P21E,    99,  1,     15, SI9315,2,19940427,0001,-16.7472,-112.6667, 3172,   1699.8,   2.6668,  34.6092,2,  34.6140,4,    107.6,2,    106.8,2,   114.92,2,    39.28,2,     0.00,2,     2.80,2, -999.000,9, -999.000,9, -999.000,1,-999.0000,1,  -999.00,9,   -999.0,1,-999.000,9,   -999.0,9,   -999.0,9,  -999.00,9,17023.4,-999.0000,-999.000,-999.000,  2.5462,-999.000
   318MWESTW_4,  P21E,    99,  1,     14, SI9314,2,19940427,0001,-16.7472,-112.6667, 3172,   1799.3,   2.4349,  34.6171,2,  34.6183,2,    122.5,2,    125.2,2,   114.13,2,    37.68,2,     0.01,2,     2.67,2, -999.000,9, -999.000,9, -999.000,1,-999.0000,1,  -999.00,9,   -999.0,1,-999.000,9,   -999.0,9,   -999.0,9,  -999.00,9,18017.8,-999.0000,-999.000,-999.000,  2.3090,-999.000
   318MWESTW_4,  P21E,    99,  1,     13, SI9313,2,19940427,0001,-16.7472,-112.6667, 3172,   1899.5,   2.2579,  34.6261,2,  34.6280,2,    137.9,2,    138.1,2,   113.83,2,    36.63,2,     0.00,2,     2.59,2, -999.000,9, -999.000,9, -999.000,1,-999.0000,1,  -999.00,9,   -999.0,1,-999.000,9,   -999.0,9,   -999.0,9,  -999.00,9,19018.3,-999.0000,-999.000,-999.000,  2.1261,-999.000
   318MWESTW_4,  P21E,    99,  1,     12, SI9312,2,19940427,0001,-16.7472,-112.6667, 3172,   1999.3,   2.1137,  34.6381,2,  34.6398,2,    145.1,2,    144.7,2,   115.60,2,    36.15,2,     0.00,2,     2.54,2, -999.000,9, -999.000,9, -999.000,1,-999.0000,1,  -999.00,9,   -999.0,1,-999.000,9,   -999.0,9,   -999.0,9,  -999.00,9,20016.2,-999.0000,-999.000,-999.000,  1.9756,-999.000
   318MWESTW_4,  P21E,    99,  1,     11, SI9311,2,19940427,0001,-16.7472,-112.6667, 3172,   2099.3,   2.0070,  34.6490,2,  34.6533,3,    150.1,2,    149.3,2,   117.86,2,    35.81,2,     0.01,2,     2.50,2, -999.000,9, -999.000,9, -999.000,1,-999.0000,1,  -999.00,9,   -999.0,1,-999.000,9,   -999.0,9,   -999.0,9,  -999.00,9,21014.6,-999.0000,-999.000,-999.000,  1.8620,-999.000
   318MWESTW_4,  P21E,    99,  1,     10, SI9310,2,19940427,0001,-16.7472,-112.6667, 3172,   2198.7,   1.9313,  34.6567,2,  34.6572,2,    155.5,2,    154.1,2,   118.04,2,    35.40,2,     0.00,2,     2.47,2, -999.000,9, -999.000,9, -999.000,1,-999.0000,1,  -999.00,9,   -999.0,1,-999.000,9,   -999.0,9,   -999.0,9,  -999.00,9,22008.0,-999.0000,-999.000,-999.000,  1.7790,-999.000
   318MWESTW_4,  P21E,    99,  1,      9, SI9309,2,19940427,0001,-16.7472,-112.6667, 3172,   2299.2,   1.8878,  34.6627,2,  34.6622,2,    158.2,2,    155.1,2,   119.66,2,    35.40,2,     0.00,2,     2.47,2, -999.000,9, -999.000,9, -999.000,1,-999.0000,1,  -999.00,9,   -999.0,1,-999.000,9,   -999.0,9,   -999.0,9,  -999.00,9,23011.7,-999.0000,-999.000,-999.000,  1.7274,-999.000
   318MWESTW_4,  P21E,    99,  1,      8, SI9308,2,19940427,0001,-16.7472,-112.6667, 3172,   2393.1,   1.8615,  34.6665,2,  34.6688,2,    158.2,2,    155.1,2,   121.27,2,    35.30,2,     0.00,2,     2.46,2, -999.000,9, -999.000,9, -999.000,1,-999.0000,1,  -999.00,9,   -999.0,1,-999.000,9,   -999.0,9,   -999.0,9,  -999.00,9,23949.9,-999.0000,-999.000,-999.000,  1.6933,-999.000
   318MWESTW_4,  P21E,    99,  1,      7, SI9307,2,19940427,0001,-16.7472,-112.6667, 3172,   2495.3,   1.8442,  34.6713,2,  34.6712,2,    157.4,2,    154.1,2,   123.53,2,    35.34,2,     0.00,2,     2.47,2, -999.000,9, -999.000,9, -999.000,1,-999.0000,1,  -999.00,9,   -999.0,1,-999.000,9,   -999.0,9,   -999.0,9,  -999.00,9,24971.8,-999.0000,-999.000,-999.000,  1.6672,-999.000
   318MWESTW_4,  P21E,    99,  1,      6, SI9306,2,19940427,0001,-16.7472,-112.6667, 3172,   2594.6,   1.8353,  34.6748,2,  34.6747,2,    156.4,2,    153.1,2,   125.31,2,    35.39,2,     0.00,2,     2.50,2, -999.000,9, -999.000,9, -999.000,1,-999.0000,1,  -999.00,9,   -999.0,1,-999.000,9,   -999.0,9,   -999.0,9,  -999.00,9,25963.5,-999.0000,-999.000,-999.000,  1.6494,-999.000
   318MWESTW_4,  P21E,    99,  1,      5, SI9305,2,19940427,0001,-16.7472,-112.6667, 3172,   2748.5,   1.8335,  34.6778,2,  34.6781,2,    152.5,2,    150.7,2,   128.36,2,    35.80,2,     0.01,2,     2.51,2, -999.000,9, -999.000,9, -999.000,1,-999.0000,1,  -999.00,9,   -999.0,1,-999.000,9,   -999.0,9,   -999.0,9,  -999.00,9,27501.7,-999.0000,-999.000,-999.000,  1.6334,-999.000
   318MWESTW_4,  P21E,    99,  1,      4, SI9304,2,19940427,0001,-16.7472,-112.6667, 3172,   2894.4,   1.8396,  34.6783,2,  34.6777,2,    149.0,2,    146.4,2,   132.24,2,    36.14,2,     0.00,2,     2.53,2, -999.000,9, -999.000,9, -999.000,1,-999.0000,1,  -999.00,9,   -999.0,1,-999.000,9,   -999.0,9,   -999.0,9,  -999.00,9,28959.9,-999.0000,-999.000,-999.000,  1.6255,-999.000
   318MWESTW_4,  P21E,    99,  1,      3, SI9303,2,19940427,0001,-16.7472,-112.6667, 3172,   3051.5,   1.8489,  34.6784,2,  34.6779,2,    146.2,2,    143.9,2,   134.97,2,    36.34,2,     0.00,2,     2.54,2, -999.000,9, -999.000,9, -999.000,1,-999.0000,1,  -999.00,9,   -999.0,1,-999.000,9,   -999.0,9,   -999.0,9,  -999.00,9,30529.0,-999.0000,-999.000,-999.000,  1.6194,-999.000
   318MWESTW_4,  P21E,    99,  1,      2, SI9302,2,19940427,0001,-16.7472,-112.6667, 3172,   3138.3,   1.8570,  34.6785,2,  34.6794,2,    145.8,2,    143.7,2,   134.98,2,    36.40,2,     0.00,2,     2.54,2, -999.000,9, -999.000,9, -999.000,1,-999.0000,1,  -999.00,9,   -999.0,1,-999.000,9,   -999.0,9,   -999.0,9,  -999.00,9,31396.5,-999.0000,-999.000,-999.000,  1.6187,-999.000
   318MWESTW_4,  P21E,    99,  1,      1, SI9301,2,19940427,0001,-16.7472,-112.6667, 3172,   3179.6,   1.8613,  34.6782,2,  34.6767,2,    143.7,2,    144.0,2,   134.85,2,    36.26,2,     0.00,2,     2.54,2, -999.000,9, -999.000,9, -999.000,1,-999.0000,1,  -999.00,9,   -999.0,1,-999.000,9,   -999.0,9,   -999.0,9,  -999.00,9,31810.1,-999.0000,-999.000,-999.000,  1.6188,-999.000