BOTTLE,20010911WHPSIOdm
EXPOCODE,SECT_ID,STNNBR,CASTNO,SAMPNO,BTLNBR,BTLNBR_FLAG_W,DATE,TIME,LATITUDE,LONGITUDE,DEPTH,CTDPRS,CTDTMP,CTDSAL,CTDSAL_FLAG_W,SALNTY,SALNTY_FLAG_W,CTDOXY,CTDOXY_FLAG_W,OXYGEN,OXYGEN_FLAG_W,SILCAT,SILCAT_FLAG_W,NITRAT,NITRAT_FLAG_W,NITRIT,NITRIT_FLAG_W,PHSPHT,PHSPHT_FLAG_W,CFC-11,CFC-11_FLAG_W,CFC-12,CFC-12_FLAG_W,TRITUM,TRITUM_FLAG_W,HELIUM,HELIUM_FLAG_W,DELHE3,DELHE3_FLAG_W,DELC14,DELC14_FLAG_W,NEON,NEON_FLAG_W,TCARBN,TCARBN_FLAG_W,ALKALI,ALKALI_FLAG_W,PH,PH_FLAG_W,CTDRAW,HELIER,DELHER,NEONER,THETA,TRITER
,,,,,,,,,,,,DBAR,ITS-90,PSS-78,,PSS-78,,UMOL/KG,,UMOL/KG,,UMOL/KG,,UMOL/KG,,UMOL/KG,,UMOL/KG,,PMOL/KG,,PMOL/KG,,TU,,UMOL/KG,,PERCNT,,/MILLE,,NMOL/KG,,UMOL/KG,,UMOL/KG,,,,,NMOL/KG,PERCNT,NMOL/KG,ITS-90,TU
   318MWESTW_5,  P21W,   175,  1,     36, SI9442,2,19940524,1329,-17.5000,-156.3305, 4766,     10.8,  27.7683,  35.5972,2,  35.5965,2,    215.5,2,    213.5,2,     0.72,2,     0.01,2,     0.00,2,     0.17,2,    1.637,2,    0.931,2, -999.000,1,-999.0000,1,  -999.00,9,   -999.0,1,-999.000,9,   1961.0,2,   2339.2,2,     8.13,2,  160.8,-999.0000,-999.000,-999.000, 27.7658,-999.000
   318MWESTW_5,  P21W,   175,  1,     35, SI9435,2,19940524,1329,-17.5000,-156.3305, 4766,     25.7,  27.7827,  35.6065,2,  35.6076,2,    211.2,2,    209.7,2,     0.73,2,     0.01,2,     0.00,2,     0.16,2, -999.000,9, -999.000,9, -999.000,1,-999.0000,1,  -999.00,9,   -999.0,1,-999.000,9,   1961.1,2,   2342.2,2,     8.13,2,  309.5,-999.0000,-999.000,-999.000, 27.7767,-999.000
   318MWESTW_5,  P21W,   175,  1,     34, SI9441,2,19940524,1329,-17.5000,-156.3305, 4766,     50.0,  27.8130,  35.6311,2,  35.6439,2,    208.7,2,    214.8,2,     0.75,2,     0.02,2,     0.00,2,     0.17,2,    1.658,6,    0.938,6, -999.000,1,-999.0000,1,  -999.00,9,   -999.0,1,-999.000,9,   1964.7,2,   2342.8,2,     8.13,2,  552.4,-999.0000,-999.000,-999.000, 27.8013,-999.000
   318MWESTW_5,  P21W,   175,  1,     33, SI9433,2,19940524,1329,-17.5000,-156.3305, 4766,    101.4,  25.1628,  36.0408,2,  36.0341,2,    210.2,2,    213.9,2,     0.62,2,     0.02,2,     0.00,2,     0.19,2,    1.869,2,    1.032,2, -999.000,1,-999.0000,1,  -999.00,9,   -999.0,1,-999.000,9,   2010.2,2,   2368.3,2,     8.09,2, 1064.1,-999.0000,-999.000,-999.000, 25.1406,-999.000
   318MWESTW_5,  P21W,   175,  1,     32, SI9432,2,19940524,1329,-17.5000,-156.3305, 4766,    156.8,  22.8771,  35.9036,2,  35.9014,2,    191.0,2,    202.0,2,     0.63,2,     0.14,2,     0.11,2,     0.22,2,    1.997,2,    1.080,2, -999.000,1,-999.0000,1,  -999.00,9,   -999.0,1,-999.000,9,   2028.4,2,   2358.7,2,     8.05,2, 1616.2,-999.0000,-999.000,-999.000, 22.8451,-999.000
   318MWESTW_5,  P21W,   175,  1,     31, SI9431,2,19940524,1329,-17.5000,-156.3305, 4766,    204.2,  21.0206,  35.8070,2,  35.8076,2,    183.4,2,    185.2,2,     0.79,2,     2.47,2,     0.02,2,     0.37,2,    1.981,2,    1.058,2, -999.000,1,-999.0000,1,  -999.00,9,   -999.0,1,-999.000,9,   2056.0,2,   2350.8,2,     7.99,2, 2088.5,-999.0000,-999.000,-999.000, 20.9813,-999.000
   318MWESTW_5,  P21W,   175,  1,     30, SI9440,2,19940524,1329,-17.5000,-156.3305, 4766,    245.3,  19.8002,  35.6915,2,  35.6954,2,    177.0,2,    180.9,2,     1.10,2,     3.60,2,     0.01,2,     0.45,2, -999.000,9, -999.000,9, -999.000,1,-999.0000,1,  -999.00,9,   -999.0,1,-999.000,9,   2066.3,2,   2343.9,2,     7.97,2, 2497.7,-999.0000,-999.000,-999.000, 19.7549,-999.000
   318MWESTW_5,  P21W,   175,  1,     29, SI9429,2,19940524,1329,-17.5000,-156.3305, 4766,    294.0,  17.3846,  35.4216,2,  35.4121,2,    183.9,2,    180.4,2,     2.01,2,     5.98,2,     0.01,2,     0.62,2,    1.761,2,    0.933,2, -999.000,1,-999.0000,1,  -999.00,9,   -999.0,1,-999.000,9,   2076.7,2,   2323.2,2,     7.93,2, 2982.7,-999.0000,-999.000,-999.000, 17.3351,-999.000
   318MWESTW_5,  P21W,   175,  1,     28, SI9428,2,19940524,1329,-17.5000,-156.3305, 4766,    401.0,  12.0602,  34.8232,2,  34.8102,2,    173.5,2,    164.7,2,     7.21,2,    16.35,2,     0.00,2,     1.29,2,    0.999,2,    0.507,2, -999.000,1,-999.0000,1,  -999.00,9,   -999.0,1,-999.000,9,   2125.9,2,   2294.3,2,     7.76,2, 4046.6,-999.0000,-999.000,-999.000, 12.0074,-999.000
   318MWESTW_5,  P21W,   175,  1,     27, SI9424,2,19940524,1329,-17.5000,-156.3305, 4766,    502.1,   8.4967,  34.5178,2,  34.5146,2,    165.1,2,    161.2,2,    14.50,2,    24.88,2,     0.00,2,     1.80,2,    0.451,2,    0.236,2, -999.000,1,-999.0000,1,  -999.00,9,   -999.0,1,-999.000,9,   2165.0,2,   2288.0,2,     7.65,2, 5051.6,-999.0000,-999.000,-999.000,  8.4434,-999.000
   318MWESTW_5,  P21W,   175,  1,     26, SI9414,2,19940524,1329,-17.5000,-156.3305, 4766,    599.6,   6.6501,  34.4183,2,  34.4165,2,    173.3,2,    171.0,2,    20.89,2,    28.60,2,     0.01,2,     2.00,2,    0.227,2,    0.123,2, -999.000,1,-999.0000,1,  -999.00,9,   -999.0,1,-999.000,9,   2201.6,2,   2292.5,2,     7.62,2, 6021.2,-999.0000,-999.000,-999.000,  6.5944,-999.000
   318MWESTW_5,  P21W,   175,  1,     25, SI9425,2,19940524,1329,-17.5000,-156.3305, 4766,    696.5,   5.6354,  34.4103,2,  34.4100,2,    167.1,2,    164.6,2,    32.03,2,    31.39,2,     0.00,2,     2.17,2,    0.071,2,    0.045,2, -999.000,1,-999.0000,1,  -999.00,9,   -999.0,1,-999.000,9,   2200.6,2,   2300.7,2,     7.59,2, 6985.2,-999.0000,-999.000,-999.000,  5.5756,-999.000
   318MWESTW_5,  P21W,   175,  1,     24, SI9434,2,19940524,1329,-17.5000,-156.3305, 4766,    795.4,   4.7758,  34.4371,2,  34.4390,2,    159.1,2,    157.6,2,    46.57,2,    33.40,2,     0.01,2,     2.31,2,    0.012,2,    0.007,2, -999.000,1,-999.0000,1,  -999.00,9,   -999.0,1,-999.000,9,   2221.0,2,   2323.4,2,     7.57,2, 7968.3,-999.0000,-999.000,-999.000,  4.7122,-999.000
   318MWESTW_5,  P21W,   175,  1,     23, SI9423,2,19940524,1329,-17.5000,-156.3305, 4766,    896.4,   4.2702,  34.4614,2,  34.4638,2,    155.8,2,    154.5,2,    56.96,2,    34.26,2,     0.00,2,     2.36,2,    0.004,2,    0.002,2, -999.000,1,-999.0000,1,  -999.00,9,   -999.0,1,-999.000,9,   2232.8,2,   2327.7,2,     7.56,2, 8972.9,-999.0000,-999.000,-999.000,  4.2013,-999.000
   318MWESTW_5,  P21W,   175,  1,     22, SI9418,2,19940524,1329,-17.5000,-156.3305, 4766,   1009.7,   3.7242,  34.4924,2,  34.4942,2,    154.1,2,    155.2,4,    68.69,2,    34.89,2,     0.01,2,     2.41,2,   -0.002,2,    0.001,2, -999.000,1,-999.0000,1,  -999.00,9,   -999.0,1,-999.000,9,   2247.5,2,   2340.6,2,     7.55,2,10098.9,-999.0000,-999.000,-999.000,  3.6499,-999.000
   318MWESTW_5,  P21W,   175,  1,     21, SI9421,2,19940524,1329,-17.5000,-156.3305, 4766,   1110.4,   3.4371,  34.5188,2,  34.5190,2,    151.9,2,    150.3,2,    77.45,2,    35.35,2,     0.00,2,     2.45,2,    0.000,2,    0.000,2, -999.000,1,-999.0000,1,  -999.00,9,   -999.0,1,-999.000,9,   2264.8,2,   2346.0,2,     7.55,2,11100.3,-999.0000,-999.000,-999.000,  3.3570,-999.000
   318MWESTW_5,  P21W,   175,  1,     20, SI9420,2,19940524,1329,-17.5000,-156.3305, 4766,   1255.2,   3.1298,  34.5477,2,  34.5478,2,    147.8,2,    147.8,2,    86.95,2,    35.67,2,     0.00,2,     2.47,2, -999.000,9, -999.000,9, -999.000,1,-999.0000,1,  -999.00,9,   -999.0,1,-999.000,9,   2269.5,2,   2358.5,2,     7.55,2,12540.0,-999.0000,-999.000,-999.000,  3.0407,-999.000
   318MWESTW_5,  P21W,   175,  1,     19, SI9419,2,19940524,1329,-17.5000,-156.3305, 4766,   1403.7,   2.8247,  34.5743,2,  34.5739,2,    148.7,2,    148.3,2,    95.85,2,    35.80,2,     0.01,2,     2.48,2, -999.000,9, -999.000,9, -999.000,1,-999.0000,1,  -999.00,9,   -999.0,1,-999.000,9,   2279.3,2,   2369.2,2,     7.54,2,14016.8,-999.0000,-999.000,-999.000,  2.7267,-999.000
   318MWESTW_5,  P21W,   175,  1,     18, SI9439,2,19940524,1329,-17.5000,-156.3305, 4766,   1598.8,   2.5536,  34.5994,2,  34.6007,2,    148.6,2,    148.4,2,   104.17,2,    35.89,2,     0.00,2,     2.48,2,   -0.001,2,   -0.002,2, -999.000,1,-999.0000,1,  -999.00,9,   -999.0,1,-999.000,9,   2287.2,2,   2378.0,2,     7.55,2,15956.1,-999.0000,-999.000,-999.000,  2.4429,-999.000
   318MWESTW_5,  P21W,   175,  1,     17, SI9417,2,19940524,1329,-17.5000,-156.3305, 4766,   1795.0,   2.3623,  34.6162,2,  34.6162,2,    150.1,2,    149.9,2,   109.37,2,    35.80,2,     0.01,2,     2.47,2, -999.000,9, -999.000,9, -999.000,1,-999.0000,1,  -999.00,9,   -999.0,1,-999.000,9,   2292.7,2,   2385.2,2,     7.55,2,17907.0,-999.0000,-999.000,-999.000,  2.2378,-999.000
   318MWESTW_5,  P21W,   175,  1,     16, SI9416,2,19940524,1329,-17.5000,-156.3305, 4766,   2000.8,   2.1597,  34.6334,2,  34.6352,2,    151.5,2,    152.0,2,   115.61,2,    35.77,2,     0.00,2,     2.47,2, -999.000,9, -999.000,9, -999.000,1,-999.0000,1,  -999.00,9,   -999.0,1,-999.000,9,   2299.2,2,   2390.9,2,     7.55,2,19952.7,-999.0000,-999.000,-999.000,  2.0208,-999.000
   318MWESTW_5,  P21W,   175,  1,     15, SI9415,2,19940524,1329,-17.5000,-156.3305, 4766,   2196.2,   2.0165,  34.6453,2,  34.6466,2,    152.5,2,    153.7,2,   119.03,2,    35.63,2,     0.01,2,     2.47,2, -999.000,9, -999.000,9, -999.000,1,-999.0000,1,  -999.00,9,   -999.0,1,-999.000,9,   2300.5,2,   2395.5,2,     7.56,2,21895.4,-999.0000,-999.000,-999.000,  1.8630,-999.000
   318MWESTW_5,  P21W,   175,  1,     14, SI9436,2,19940524,1329,-17.5000,-156.3305, 4766,   2397.0,   1.9087,  34.6548,2,  34.6551,2,    155.0,2,    155.2,2,   122.31,2,    35.63,2,     0.01,2,     2.46,2, -999.000,9, -999.000,9, -999.000,1,-999.0000,1,  -999.00,9,   -999.0,1,-999.000,9,   2303.0,2,   2395.9,2,     7.56,2,23891.3,-999.0000,-999.000,-999.000,  1.7394,-999.000
   318MWESTW_5,  P21W,   175,  1,     13, SI9413,2,19940524,1329,-17.5000,-156.3305, 4766,   2591.1,   1.8176,  34.6620,2,  34.6627,2,    157.4,2,    158.7,2,   124.10,2,    35.46,2,     0.01,2,     2.44,2, -999.000,9, -999.000,9, -999.000,1,-999.0000,1,  -999.00,9,   -999.0,1,-999.000,9,   2304.6,2,   2398.1,2,     7.56,2,25821.7,-999.0000,-999.000,-999.000,  1.6324,-999.000
   318MWESTW_5,  P21W,   175,  1,     12, SI9438,2,19940524,1329,-17.5000,-156.3305, 4766,   2800.3,   1.7336,  34.6694,2,  34.6696,2,    160.3,2,    161.7,2,   125.45,2,    35.16,2,     0.00,2,     2.43,2, -999.000,9, -999.000,9, -999.000,1,-999.0000,1,  -999.00,9,   -999.0,1,-999.000,9,   2301.6,2,   2400.8,2,     7.56,2,27901.0,-999.0000,-999.000,-999.000,  1.5307,-999.000
   318MWESTW_5,  P21W,   175,  1,     11, SI9411,2,19940524,1329,-17.5000,-156.3305, 4766,   2994.4,   1.6605,  34.6749,2,  34.6747,2,    163.2,2,    166.3,2,   125.02,2,    34.89,2,     0.00,2,     2.40,2, -999.000,9, -999.000,9, -999.000,1,-999.0000,1,  -999.00,9,   -999.0,1,-999.000,9,   2300.2,2,   2396.4,2,     7.57,2,29830.5,-999.0000,-999.000,-999.000,  1.4407,-999.000
   318MWESTW_5,  P21W,   175,  1,     10, SI9412,2,19940524,1329,-17.5000,-156.3305, 4766,   3193.2,   1.6004,  34.6801,2,  34.6800,2,    168.2,2,    169.3,2,   124.97,2,    34.64,2,     0.00,2,     2.38,2, -999.000,9, -999.000,9, -999.000,1,-999.0000,1,  -999.00,9,   -999.0,1,-999.000,9,   2297.9,2,   2397.9,2,     7.57,2,31807.2,-999.0000,-999.000,-999.000,  1.3626,-999.000
   318MWESTW_5,  P21W,   175,  1,      9, SI9410,2,19940524,1329,-17.5000,-156.3305, 4766,   3390.3,   1.5454,  34.6845,2,  34.6844,2,    171.0,2,    173.5,2,   124.75,2,    34.41,2,     0.00,2,     2.38,2, -999.000,9, -999.000,9, -999.000,1,-999.0000,1,  -999.00,9,   -999.0,1,-999.000,9,   2294.4,2,   2393.2,2,     7.58,2,33767.0,-999.0000,-999.000,-999.000,  1.2893,-999.000
   318MWESTW_5,  P21W,   175,  1,      8, SI9422,2,19940524,1329,-17.5000,-156.3305, 4766,   3587.8,   1.5074,  34.6881,2,  34.6879,2,    175.5,2,    176.6,2,   124.32,2,    34.14,2,     0.00,2,     2.35,2, -999.000,9, -999.000,9, -999.000,1,-999.0000,1,  -999.00,9,   -999.0,1,-999.000,9,   2290.5,2,   2393.6,2,     7.58,2,35729.8,-999.0000,-999.000,-999.000,  1.2320,-999.000
   318MWESTW_5,  P21W,   175,  1,      7, SI9407,2,19940524,1329,-17.5000,-156.3305, 4766,   3791.0,   1.4767,  34.6906,2,  34.6918,2,    179.1,2,    178.7,2,   123.74,2,    33.91,2,     0.01,2,     2.34,2, -999.000,9, -999.000,9, -999.000,1,-999.0000,1,  -999.00,9,   -999.0,1,-999.000,9,   2289.6,2,   2388.1,2,     7.58,2,37750.0,-999.0000,-999.000,-999.000,  1.1809,-999.000
   318MWESTW_5,  P21W,   175,  1,      6, SI9427,2,19940524,1329,-17.5000,-156.3305, 4766,   4008.2,   1.4305,  34.6940,2,  34.6946,2,    183.4,2,    182.5,2,   123.01,2,    33.70,2,     0.00,2,     2.31,2, -999.000,9, -999.000,9, -999.000,1,-999.0000,1,  -999.00,9,   -999.0,1,-999.000,9,   2284.5,2,   2385.9,2,     7.58,2,39909.7,-999.0000,-999.000,-999.000,  1.1126,-999.000
   318MWESTW_5,  P21W,   175,  1,      5, SI9405,2,19940524,1329,-17.5000,-156.3305, 4766,   4215.3,   1.4022,  34.6971,2,  34.6981,2,    186.7,2,    185.4,2,   122.43,2,    33.47,2,     0.01,2,     2.30,2, -999.000,9, -999.000,9, -999.000,1,-999.0000,1,  -999.00,9,   -999.0,1,-999.000,9,   2281.7,2,   2386.4,2,     7.58,2,41968.8,-999.0000,-999.000,-999.000,  1.0624,-999.000
   318MWESTW_5,  P21W,   175,  1,      4, SI9404,2,19940524,1329,-17.5000,-156.3305, 4766,   4417.5,   1.3929,  34.6993,2,  34.6983,2,    189.4,2,    188.1,2,   122.00,2,    33.35,2,     0.00,2,     2.30,2, -999.000,9, -999.000,9, -999.000,1,-999.0000,1,  -999.00,9,   -999.0,1,-999.000,9,   2277.4,2,   2384.1,2,     7.58,2,43978.4,-999.0000,-999.000,-999.000,  1.0306,-999.000
   318MWESTW_5,  P21W,   175,  1,      3, SI9403,2,19940524,1329,-17.5000,-156.3305, 4766,   4614.2,   1.3910,  34.6998,2,  34.6995,2,    192.0,2,    189.8,2,   121.72,2,    33.22,2,     0.00,2,     2.28,2, -999.000,9, -999.000,9, -999.000,1,-999.0000,1,  -999.00,9,   -999.0,1,-999.000,9,   2280.0,2,   2382.1,2,     7.59,2,45934.2,-999.0000,-999.000,-999.000,  1.0061,-999.000
   318MWESTW_5,  P21W,   175,  1,      2, SI9437,2,19940524,1329,-17.5000,-156.3305, 4766,   4820.0,   1.4056,  34.7004,2,  34.6993,2,    192.3,2,    190.9,2,   121.29,2,    33.17,2,     0.00,2,     2.27,2, -999.000,9, -999.000,9, -999.000,1,-999.0000,1,  -999.00,9,   -999.0,1,-999.000,9,   2276.5,2,   2380.5,2,     7.59,2,47979.7,-999.0000,-999.000,-999.000,  0.9961,-999.000
   318MWESTW_5,  P21W,   175,  1,      1, SI9401,2,19940524,1329,-17.5000,-156.3305, 4766,   4857.2,   1.4072,  34.7008,2,  34.7009,2,    192.7,2,    192.0,2,   121.38,2,    33.13,2,     0.00,2,     2.27,2, -999.000,9, -999.000,9, -999.000,1,-999.0000,1,  -999.00,9,   -999.0,1,-999.000,9,   2278.3,2,   2383.1,2,     7.58,2,48350.1,-999.0000,-999.000,-999.000,  0.9932,-999.000