BOTTLE,20010911WHPSIOdm
EXPOCODE,SECT_ID,STNNBR,CASTNO,SAMPNO,BTLNBR,BTLNBR_FLAG_W,DATE,TIME,LATITUDE,LONGITUDE,DEPTH,CTDPRS,CTDTMP,CTDSAL,CTDSAL_FLAG_W,SALNTY,SALNTY_FLAG_W,CTDOXY,CTDOXY_FLAG_W,OXYGEN,OXYGEN_FLAG_W,SILCAT,SILCAT_FLAG_W,NITRAT,NITRAT_FLAG_W,NITRIT,NITRIT_FLAG_W,PHSPHT,PHSPHT_FLAG_W,CFC-11,CFC-11_FLAG_W,CFC-12,CFC-12_FLAG_W,TRITUM,TRITUM_FLAG_W,HELIUM,HELIUM_FLAG_W,DELHE3,DELHE3_FLAG_W,DELC14,DELC14_FLAG_W,NEON,NEON_FLAG_W,TCARBN,TCARBN_FLAG_W,ALKALI,ALKALI_FLAG_W,PH,PH_FLAG_W,CTDRAW,HELIER,DELHER,NEONER,THETA,TRITER
,,,,,,,,,,,,DBAR,ITS-90,PSS-78,,PSS-78,,UMOL/KG,,UMOL/KG,,UMOL/KG,,UMOL/KG,,UMOL/KG,,UMOL/KG,,PMOL/KG,,PMOL/KG,,TU,,UMOL/KG,,PERCNT,,/MILLE,,NMOL/KG,,UMOL/KG,,UMOL/KG,,,,,NMOL/KG,PERCNT,NMOL/KG,ITS-90,TU
   318MWESTW_4,  P21E,    34,  2,     36, SI9336,2,19940406,0846,-16.7417, -82.0028, 4532,      4.2,  23.8229,  35.5726,2,  35.5760,2,    212.4,2,    214.2,2,     0.94,2,     0.11,2,     0.02,2,     0.53,2,    1.922,2,    1.014,2, -999.000,1,-999.0000,1,  -999.00,9,   -999.0,1,-999.000,9,   -999.0,9,   -999.0,9,  -999.00,9,  111.2,-999.0000,-999.000,-999.000, 23.8220,-999.000
   318MWESTW_4,  P21E,    34,  2,     35, SI9335,2,19940406,0846,-16.7417, -82.0028, 4532,     20.6,  23.8101,  35.5733,2,  35.5776,2,    211.4,2,    214.7,2,     0.95,2,     0.13,2,     0.01,2,     0.55,2,    1.936,2,    1.035,2, -999.000,1,-999.0000,1,  -999.00,9,   -999.0,1,-999.000,9,   -999.0,9,   -999.0,9,  -999.00,9,  275.5,-999.0000,-999.000,-999.000, 23.8058,-999.000
   318MWESTW_4,  P21E,    34,  2,     34, SI9334,2,19940406,0846,-16.7417, -82.0028, 4532,     50.5,  23.3875,  35.3310,3,  35.5590,2,    180.1,3,    216.9,2,     1.13,2,     0.39,2,     0.07,2,     0.57,2,    2.011,2,    1.061,2, -999.000,1,-999.0000,1,  -999.00,9,   -999.0,1,-999.000,9,   -999.0,9,   -999.0,9,  -999.00,9,  573.4,-999.0000,-999.000,-999.000, 23.3771,-999.000
   318MWESTW_4,  P21E,    34,  2,     33, SI9333,2,19940406,0846,-16.7417, -82.0028, 4532,    100.5,  16.4755,  35.0378,3,  35.1502,2,     80.4,2,     97.0,2,     8.77,2,    21.92,2,     0.03,2,     1.95,2,    2.053,2,    1.007,2, -999.000,1,-999.0000,1,  -999.00,9,   -999.0,1,-999.000,9,   -999.0,9,   -999.0,9,  -999.00,9, 1073.4,-999.0000,-999.000,-999.000, 16.4593,-999.000
   318MWESTW_4,  P21E,    34,  2,     32, SI9332,2,19940406,0846,-16.7417, -82.0028, 4532,    148.1,  13.2706,  34.8247,2,  34.7793,4,     11.7,2,     21.4,2,    18.20,2,    20.57,2,     0.02,2,     2.46,2,    1.130,2,    0.531,2, -999.000,1,-999.0000,1,  -999.00,9,   -999.0,1,-999.000,9,   -999.0,9,   -999.0,9,  -999.00,9, 1548.6,-999.0000,-999.000,-999.000, 13.2500,-999.000
   318MWESTW_4,  P21E,    34,  2,     31, SI9331,2,19940406,0846,-16.7417, -82.0028, 4532,    196.8,  12.8393,  34.8733,2,  34.8829,2,      1.9,2,      0.3,2,    27.28,2,    12.61,2,     5.34,2,     2.70,2,    0.366,2,    0.201,2, -999.000,1,-999.0000,1,  -999.00,9,   -999.0,1,-999.000,9,   -999.0,9,   -999.0,9,  -999.00,9, 2035.6,-999.0000,-999.000,-999.000, 12.8125,-999.000
   318MWESTW_4,  P21E,    34,  2,     30, SI9330,2,19940406,0846,-16.7417, -82.0028, 4532,    253.4,  11.8208,  34.7993,2,  34.8017,2,      1.4,2,      0.5,2,    27.46,2,    23.15,2,     0.25,2,     2.72,2,    0.241,2,    0.117,2, -999.000,1,-999.0000,1,  -999.00,9,   -999.0,1,-999.000,9,   -999.0,9,   -999.0,9,  -999.00,9, 2600.4,-999.0000,-999.000,-999.000, 11.7881,-999.000
   318MWESTW_4,  P21E,    34,  2,     29, SI9329,2,19940406,0846,-16.7417, -82.0028, 4532,    300.4,  11.1720,  34.7645,2,  34.7665,2,      1.0,2,      0.5,2,    28.37,2,    26.75,2,     0.83,2,     2.73,2,    0.144,2,    0.074,2, -999.000,1,-999.0000,1,  -999.00,9,   -999.0,1,-999.000,9,   -999.0,9,   -999.0,9,  -999.00,9, 3070.5,-999.0000,-999.000,-999.000, 11.1345,-999.000
   318MWESTW_4,  P21E,    34,  2,     28, SI9328,4,19940406,0846,-16.7417, -82.0028, 4532,    401.4,   9.4343,  34.6657,2,  34.6189,4,      2.7,2,     49.0,4,    44.34,3,    38.50,3,     0.01,3,     2.89,3,    0.007,2,   -0.002,2, -999.000,1,-999.0000,1,  -999.00,9,   -999.0,1,-999.000,9,   -999.0,9,   -999.0,9,  -999.00,9, 4079.1,-999.0000,-999.000,-999.000,  9.3891,-999.000
   318MWESTW_4,  P21E,    34,  2,     27, SI9327,2,19940406,0846,-16.7417, -82.0028, 4532,    497.5,   8.0533,  34.5768,2,  34.5793,2,     19.0,2,     17.3,2,    34.37,2,    40.02,2,     0.01,2,     2.92,2,    0.031,2,    0.012,2, -999.000,1,-999.0000,1,  -999.00,9,   -999.0,1,-999.000,9,   -999.0,9,   -999.0,9,  -999.00,9, 5038.7,-999.0000,-999.000,-999.000,  8.0021,-999.000
   318MWESTW_4,  P21E,    34,  2,     26, SI9326,2,19940406,0846,-16.7417, -82.0028, 4532,    598.2,   6.8751,  34.5186,2,  34.5170,3,     34.3,2,     36.3,2,    39.08,2,    41.71,2,     0.00,2,     2.97,2, -999.000,9, -999.000,9, -999.000,1,-999.0000,1,  -999.00,9,   -999.0,1,-999.000,9,   -999.0,9,   -999.0,9,  -999.00,9, 6044.9,-999.0000,-999.000,-999.000,  6.8184,-999.000
   318MWESTW_4,  P21E,    34,  2,     25, SI9325,2,19940406,0846,-16.7417, -82.0028, 4532,    701.6,   6.0472,  34.5088,2,  34.5084,2,     33.6,2,     34.0,2,    49.60,2,    43.66,2,     0.00,2,     3.11,2,    0.001,2,   -0.003,2, -999.000,1,-999.0000,1,  -999.00,9,   -999.0,1,-999.000,9,   -999.0,9,   -999.0,9,  -999.00,9, 7078.0,-999.0000,-999.000,-999.000,  5.9847,-999.000
   318MWESTW_4,  P21E,    34,  2,     24, SI9324,2,19940406,0846,-16.7417, -82.0028, 4532,    796.7,   5.4717,  34.5091,2,  34.5093,2,     34.0,2,     35.6,2,    59.03,2,    44.25,2,     0.00,2,     3.19,2,   -0.002,2,   -0.004,2, -999.000,1,-999.0000,1,  -999.00,9,   -999.0,1,-999.000,9,   -999.0,9,   -999.0,9,  -999.00,9, 8027.4,-999.0000,-999.000,-999.000,  5.4036,-999.000
   318MWESTW_4,  P21E,    34,  2,     23, SI9323,2,19940406,0846,-16.7417, -82.0028, 4532,    897.6,   4.9217,  34.5137,2,  34.5135,2,     43.4,2,     44.3,2,    67.91,2,    43.99,2,     0.00,2,     3.15,2, -999.000,9, -999.000,9, -999.000,1,-999.0000,1,  -999.00,9,   -999.0,1,-999.000,9,   -999.0,9,   -999.0,9,  -999.00,9, 9035.5,-999.0000,-999.000,-999.000,  4.8481,-999.000
   318MWESTW_4,  P21E,    34,  2,     22, SI9322,2,19940406,0846,-16.7417, -82.0028, 4532,    999.1,   4.5213,  34.5272,2,  34.5270,2,     51.1,2,     51.8,2,    77.16,2,    43.43,2,     0.01,2,     3.12,2,   -0.001,2,   -0.004,2, -999.000,1,-999.0000,1,  -999.00,9,   -999.0,1,-999.000,9,   -999.0,9,   -999.0,9,  -999.00,9,10048.8,-999.0000,-999.000,-999.000,  4.4417,-999.000
   318MWESTW_4,  P21E,    34,  2,     21, SI9321,2,19940406,0846,-16.7417, -82.0028, 4532,   1102.3,   4.1536,  34.5393,2,  34.5380,2,     60.6,2,     61.0,2,    84.58,2,    42.84,2,     0.01,2,     3.09,2, -999.000,9, -999.000,9, -999.000,1,-999.0000,1,  -999.00,9,   -999.0,1,-999.000,9,   -999.0,9,   -999.0,9,  -999.00,9,11079.8,-999.0000,-999.000,-999.000,  4.0680,-999.000
   318MWESTW_4,  P21E,    34,  2,     20, SI9320,2,19940406,0846,-16.7417, -82.0028, 4532,   1199.1,   3.8514,  34.5527,2,  34.5518,2,     66.3,2,     66.3,2,    92.37,2,    42.46,2,     0.01,2,     3.06,2, -999.000,9, -999.000,9, -999.000,1,-999.0000,1,  -999.00,9,   -999.0,1,-999.000,9,   -999.0,9,   -999.0,9,  -999.00,9,12046.9,-999.0000,-999.000,-999.000,  3.7602,-999.000
   318MWESTW_4,  P21E,    34,  2,     19, SI9319,2,19940406,0846,-16.7417, -82.0028, 4532,   1301.1,   3.5619,  34.5633,2,  34.5639,2,     73.8,2,     73.9,2,    98.35,2,    41.87,2,     0.01,2,     3.02,2, -999.000,9, -999.000,9, -999.000,1,-999.0000,1,  -999.00,9,   -999.0,1,-999.000,9,   -999.0,9,   -999.0,9,  -999.00,9,13066.1,-999.0000,-999.000,-999.000,  3.4648,-999.000
   318MWESTW_4,  P21E,    34,  2,     18, SI9318,2,19940406,0846,-16.7417, -82.0028, 4532,   1403.7,   3.2936,  34.5777,2,  34.5781,2,     79.8,2,     79.8,2,   105.23,2,    41.54,2,     0.01,2,     2.99,2, -999.000,9, -999.000,9, -999.000,1,-999.0000,1,  -999.00,9,   -999.0,1,-999.000,9,   -999.0,9,   -999.0,9,  -999.00,9,14091.0,-999.0000,-999.000,-999.000,  3.1906,-999.000
   318MWESTW_4,  P21E,    34,  2,     17, SI9317,2,19940406,0846,-16.7417, -82.0028, 4532,   1502.9,   3.0757,  34.5898,2,  34.5906,2,     82.1,2,     82.9,2,   111.75,2,    41.11,2,     0.01,2,     2.96,2, -999.000,9, -999.000,9, -999.000,1,-999.0000,1,  -999.00,9,   -999.0,1,-999.000,9,   -999.0,9,   -999.0,9,  -999.00,9,15082.0,-999.0000,-999.000,-999.000,  2.9667,-999.000
   318MWESTW_4,  P21E,    34,  2,     16, SI9316,2,19940406,0846,-16.7417, -82.0028, 4532,   1600.1,   2.8716,  34.5998,2,  34.6016,2,     90.2,2,     89.3,2,   116.62,2,    40.53,2,     0.00,2,     2.90,2, -999.000,9, -999.000,9, -999.000,1,-999.0000,1,  -999.00,9,   -999.0,1,-999.000,9,   -999.0,9,   -999.0,9,  -999.00,9,16052.9,-999.0000,-999.000,-999.000,  2.7568,-999.000
   318MWESTW_4,  P21E,    34,  2,     15, SI9315,2,19940406,0846,-16.7417, -82.0028, 4532,   1806.0,   2.5384,  34.6200,2,  34.6215,2,    101.9,2,    102.8,2,   122.59,2,    39.27,2,     0.01,2,     2.81,2, -999.000,9, -999.000,9, -999.000,1,-999.0000,1,  -999.00,9,   -999.0,1,-999.000,9,   -999.0,9,   -999.0,9,  -999.00,9,18109.8,-999.0000,-999.000,-999.000,  2.4106,-999.000
   318MWESTW_4,  P21E,    34,  2,     14, SI9314,2,19940406,0846,-16.7417, -82.0028, 4532,   2001.7,   2.2824,  34.6364,2,  34.6374,2,    115.5,2,    116.2,2,   125.85,2,    38.14,2,     0.01,2,     2.72,2, -999.000,9, -999.000,9, -999.000,1,-999.0000,1,  -999.00,9,   -999.0,1,-999.000,9,   -999.0,9,   -999.0,9,  -999.00,9,20064.4,-999.0000,-999.000,-999.000,  2.1415,-999.000
   318MWESTW_4,  P21E,    34,  2,     13, SI9313,2,19940406,0846,-16.7417, -82.0028, 4532,   2195.8,   2.0975,  34.6496,2,  34.6498,2,    128.7,2,    129.2,2,   125.84,2,    37.11,2,     0.01,2,     2.64,2, -999.000,9, -999.000,9, -999.000,1,-999.0000,1,  -999.00,9,   -999.0,1,-999.000,9,   -999.0,9,   -999.0,9,  -999.00,9,22004.4,-999.0000,-999.000,-999.000,  1.9427,-999.000
   318MWESTW_4,  P21E,    34,  2,     12, SI9312,2,19940406,0846,-16.7417, -82.0028, 4532,   2404.5,   1.9478,  34.6619,2,  34.6620,2,    138.0,2,    137.4,2,   127.83,2,    36.57,2,     0.01,2,     2.57,2, -999.000,9, -999.000,9, -999.000,1,-999.0000,1,  -999.00,9,   -999.0,1,-999.000,9,   -999.0,9,   -999.0,9,  -999.00,9,24089.8,-999.0000,-999.000,-999.000,  1.7771,-999.000
   318MWESTW_4,  P21E,    34,  2,     11, SI9311,2,19940406,0846,-16.7417, -82.0028, 4532,   2599.5,   1.8655,  34.6699,2,  34.6696,2,    142.3,2,    141.3,2,   129.44,2,    36.35,2,     0.01,2,     2.54,2, -999.000,9, -999.000,9, -999.000,1,-999.0000,1,  -999.00,9,   -999.0,1,-999.000,9,   -999.0,9,   -999.0,9,  -999.00,9,26037.8,-999.0000,-999.000,-999.000,  1.6786,-999.000
   318MWESTW_4,  P21E,    34,  2,     10, SI9310,2,19940406,0846,-16.7417, -82.0028, 4532,   2807.5,   1.8172,  34.6756,2,  34.6751,2,    142.6,2,    142.1,2,   132.33,2,    36.41,2,     0.01,2,     2.53,2, -999.000,9, -999.000,9, -999.000,1,-999.0000,1,  -999.00,9,   -999.0,1,-999.000,9,   -999.0,9,   -999.0,9,  -999.00,9,28115.8,-999.0000,-999.000,-999.000,  1.6119,-999.000
   318MWESTW_4,  P21E,    34,  2,      9, SI9309,2,19940406,0846,-16.7417, -82.0028, 4532,   3002.9,   1.7974,  34.6788,2,  34.6785,2,    138.7,2,    137.8,2,   137.93,2,    36.79,2,     0.01,2,     2.56,2, -999.000,9, -999.000,9, -999.000,1,-999.0000,1,  -999.00,9,   -999.0,1,-999.000,9,   -999.0,9,   -999.0,9,  -999.00,9,30068.7,-999.0000,-999.000,-999.000,  1.5738,-999.000
   318MWESTW_4,  P21E,    34,  2,      8, SI9308,2,19940406,0846,-16.7417, -82.0028, 4532,   3200.3,   1.7943,  34.6804,2,  34.6804,2,    138.2,2,    138.9,2,   138.30,2,    36.57,2,     0.02,2,     2.57,2, -999.000,9, -999.000,9, -999.000,1,-999.0000,1,  -999.00,9,   -999.0,1,-999.000,9,   -999.0,9,   -999.0,9,  -999.00,9,32041.3,-999.0000,-999.000,-999.000,  1.5513,-999.000
   318MWESTW_4,  P21E,    34,  2,      7, SI9307,2,19940406,0846,-16.7417, -82.0028, 4532,   3454.9,   1.7892,  34.6831,2,  34.6824,2,    140.2,2,    140.4,2,   138.46,2,    36.30,2,     0.01,2,     2.55,2, -999.000,9, -999.000,9, -999.000,1,-999.0000,1,  -999.00,9,   -999.0,1,-999.000,9,   -999.0,9,   -999.0,9,  -999.00,9,34586.4,-999.0000,-999.000,-999.000,  1.5205,-999.000
   318MWESTW_4,  P21E,    34,  2,      6, SI9306,2,19940406,0846,-16.7417, -82.0028, 4532,   3697.5,   1.7805,  34.6856,2,  34.6857,2,    145.3,2,    146.1,2,   134.83,2,    35.76,2,     0.01,2,     2.51,2, -999.000,9, -999.000,9, -999.000,1,-999.0000,1,  -999.00,9,   -999.0,1,-999.000,9,   -999.0,9,   -999.0,9,  -999.00,9,37010.3,-999.0000,-999.000,-999.000,  1.4865,-999.000
   318MWESTW_4,  P21E,    34,  2,      5, SI9305,2,19940406,0846,-16.7417, -82.0028, 4532,   3948.0,   1.7698,  34.6881,2,  34.6887,2,    152.6,2,    152.5,2,   130.12,2,    35.23,2,     0.01,2,     2.46,2, -999.000,9, -999.000,9, -999.000,1,-999.0000,1,  -999.00,9,   -999.0,1,-999.000,9,   -999.0,9,   -999.0,9,  -999.00,9,39514.0,-999.0000,-999.000,-999.000,  1.4490,-999.000
   318MWESTW_4,  P21E,    34,  2,      4, SI9304,2,19940406,0846,-16.7417, -82.0028, 4532,   4194.0,   1.7664,  34.6901,2,  34.6899,2,    155.4,2,    155.1,2,   128.85,2,    35.16,2,     0.02,2,     2.45,2, -999.000,9, -999.000,9, -999.000,1,-999.0000,1,  -999.00,9,   -999.0,1,-999.000,9,   -999.0,9,   -999.0,9,  -999.00,9,41973.0,-999.0000,-999.000,-999.000,  1.4183,-999.000
   318MWESTW_4,  P21E,    34,  2,      3, SI9303,2,19940406,0846,-16.7417, -82.0028, 4532,   4395.9,   1.7809,  34.6908,2,  34.6905,2,    154.9,2,    154.5,2,   129.20,2,    35.16,2,     0.02,2,     2.45,2, -999.000,9, -999.000,9, -999.000,1,-999.0000,1,  -999.00,9,   -999.0,1,-999.000,9,   -999.0,9,   -999.0,9,  -999.00,9,43992.0,-999.0000,-999.000,-999.000,  1.4093,-999.000
   318MWESTW_4,  P21E,    34,  2,      2, SI9302,2,19940406,0846,-16.7417, -82.0028, 4532,   4561.3,   1.7966,  34.6908,2,  34.6910,2,    154.6,2,    155.0,2,   129.20,2,    35.23,2,     0.01,2,     2.46,2, -999.000,9, -999.000,9, -999.000,1,-999.0000,1,  -999.00,9,   -999.0,1,-999.000,9,   -999.0,9,   -999.0,9,  -999.00,9,45645.1,-999.0000,-999.000,-999.000,  1.4052,-999.000
   318MWESTW_4,  P21E,    34,  2,      1, SI9301,2,19940406,0846,-16.7417, -82.0028, 4532,   4604.1,   1.8017,  34.6913,2,  34.6906,2,    154.0,2,    154.5,2,   129.14,2,    35.33,2,     0.01,2,     2.47,2, -999.000,9, -999.000,9, -999.000,1,-999.0000,1,  -999.00,9,   -999.0,1,-999.000,9,   -999.0,9,   -999.0,9,  -999.00,9,46072.6,-999.0000,-999.000,-999.000,  1.4051,-999.000