BOTTLE,20010911WHPSIOdm
EXPOCODE,SECT_ID,STNNBR,CASTNO,SAMPNO,BTLNBR,BTLNBR_FLAG_W,DATE,TIME,LATITUDE,LONGITUDE,DEPTH,CTDPRS,CTDTMP,CTDSAL,CTDSAL_FLAG_W,SALNTY,SALNTY_FLAG_W,CTDOXY,CTDOXY_FLAG_W,OXYGEN,OXYGEN_FLAG_W,SILCAT,SILCAT_FLAG_W,NITRAT,NITRAT_FLAG_W,NITRIT,NITRIT_FLAG_W,PHSPHT,PHSPHT_FLAG_W,CFC-11,CFC-11_FLAG_W,CFC-12,CFC-12_FLAG_W,TRITUM,TRITUM_FLAG_W,HELIUM,HELIUM_FLAG_W,DELHE3,DELHE3_FLAG_W,DELC14,DELC14_FLAG_W,NEON,NEON_FLAG_W,TCARBN,TCARBN_FLAG_W,ALKALI,ALKALI_FLAG_W,PH,PH_FLAG_W,CTDRAW,HELIER,DELHER,NEONER,THETA,TRITER
,,,,,,,,,,,,DBAR,ITS-90,PSS-78,,PSS-78,,UMOL/KG,,UMOL/KG,,UMOL/KG,,UMOL/KG,,UMOL/KG,,UMOL/KG,,PMOL/KG,,PMOL/KG,,TU,,UMOL/KG,,PERCNT,,/MILLE,,NMOL/KG,,UMOL/KG,,UMOL/KG,,,,,NMOL/KG,PERCNT,NMOL/KG,ITS-90,TU
   318MWESTW_4,  P21E,    21,  1,     36, SI9336,2,19940402,2126,-16.2445, -75.6667, 4295,     10.3,  19.8862,  34.9881,2,  34.9418,2,    247.6,2,    252.0,2,     0.48,2,     0.01,2,     0.00,2,     0.43,2,    2.346,2,    1.173,2, -999.000,1,-999.0000,1,  -999.00,9,   -999.0,1,-999.000,9,   -999.0,9,   -999.0,9,  -999.00,9,  147.2,-999.0000,-999.000,-999.000, 19.8843,-999.000
   318MWESTW_4,  P21E,    21,  1,     35, SI9335,2,19940402,2126,-16.2445, -75.6667, 4295,     27.7,  15.7866,  34.9561,2,  34.8983,2,    220.0,4,     70.7,2,     5.17,2,    10.04,2,     1.43,2,     1.62,2,    2.121,2,    0.999,2, -999.000,1,-999.0000,1,  -999.00,9,   -999.0,1,-999.000,9,   -999.0,9,   -999.0,9,  -999.00,9,  320.6,-999.0000,-999.000,-999.000, 15.7823,-999.000
   318MWESTW_4,  P21E,    21,  1,     34, SI9334,2,19940402,2126,-16.2445, -75.6667, 4295,     52.9,  13.9049,  34.8436,2,  34.7919,2,     71.7,3,     36.3,2,    13.17,2,    21.12,2,     0.12,2,     2.37,2,    1.609,3,    0.730,3, -999.000,1,-999.0000,1,  -999.00,9,   -999.0,1,-999.000,9,   -999.0,9,   -999.0,9,  -999.00,9,  573.1,-999.0000,-999.000,-999.000, 13.8973,-999.000
   318MWESTW_4,  P21E,    21,  1,     33, SI9333,2,19940402,2126,-16.2445, -75.6667, 4295,    102.8,  12.6204,  34.7839,2,  34.7775,2,     14.6,2,     12.7,2,    23.25,2,    18.85,2,     0.00,2,     2.65,2,    0.713,3,    0.219,3, -999.000,1,-999.0000,1,  -999.00,9,   -999.0,1,-999.000,9,   -999.0,9,   -999.0,9,  -999.00,9, 1071.0,-999.0000,-999.000,-999.000, 12.6066,-999.000
   318MWESTW_4,  P21E,    21,  1,     32, SI9332,2,19940402,2126,-16.2445, -75.6667, 4295,    153.4,  12.1447,  34.8230,2,  34.8255,2,      2.8,2,      0.7,2,    27.08,2,    21.48,2,     0.06,2,     2.74,2,    0.301,2,    0.150,2, -999.000,1,-999.0000,1,  -999.00,9,   -999.0,1,-999.000,9,   -999.0,9,   -999.0,9,  -999.00,9, 1576.4,-999.0000,-999.000,-999.000, 12.1246,-999.000
   318MWESTW_4,  P21E,    21,  1,     31, SI9331,2,19940402,2126,-16.2445, -75.6667, 4295,    202.5,  11.4188,  34.7762,2,  34.7781,2,      1.8,2,      3.0,2,    27.09,2,    25.71,2,     0.00,2,     2.74,2,    0.208,2,    0.090,2, -999.000,1,-999.0000,1,  -999.00,9,   -999.0,1,-999.000,9,   -999.0,9,   -999.0,9,  -999.00,9, 2067.5,-999.0000,-999.000,-999.000, 11.3933,-999.000
   318MWESTW_4,  P21E,    21,  1,     30, SI9330,2,19940402,2126,-16.2445, -75.6667, 4295,    253.4,  10.8439,  34.7577,2,  34.7561,2,      1.1,2,      0.6,2,    28.84,2,    26.85,2,     2.03,2,     2.78,2,    0.103,2,    0.057,2, -999.000,1,-999.0000,1,  -999.00,9,   -999.0,1,-999.000,9,   -999.0,9,   -999.0,9,  -999.00,9, 2575.9,-999.0000,-999.000,-999.000, 10.8129,-999.000
   318MWESTW_4,  P21E,    21,  1,     29, SI9329,2,19940402,2126,-16.2445, -75.6667, 4295,    295.1,  10.0489,  34.7065,2,  34.7017,2,      1.0,2,      1.3,2,    30.06,2,    32.62,2,     0.01,2,     2.83,2, -999.000,9, -999.000,9, -999.000,1,-999.0000,1,  -999.00,9,   -999.0,1,-999.000,9,   -999.0,9,   -999.0,9,  -999.00,9, 2992.2,-999.0000,-999.000,-999.000, 10.0145,-999.000
   318MWESTW_4,  P21E,    21,  1,     28, SI9328,2,19940402,2126,-16.2445, -75.6667, 4295,    402.4,   8.4388,  34.6125,2,  34.6105,2,      6.5,2,      7.4,2,    35.11,2,    39.37,2,     0.01,2,     3.00,2,    0.031,2,    0.002,2, -999.000,1,-999.0000,1,  -999.00,9,   -999.0,1,-999.000,9,   -999.0,9,   -999.0,9,  -999.00,9, 4064.4,-999.0000,-999.000,-999.000,  8.3964,-999.000
   318MWESTW_4,  P21E,    21,  1,     26, SI9326,2,19940402,2126,-16.2445, -75.6667, 4295,    507.0,   7.0793,  34.5192,2,  34.5156,2,     36.6,2,     37.2,2,    36.17,2,    40.85,2,     0.01,2,     2.95,2,    0.037,2,    0.013,2, -999.000,1,-999.0000,1,  -999.00,9,   -999.0,1,-999.000,9,   -999.0,9,   -999.0,9,  -999.00,9, 5108.5,-999.0000,-999.000,-999.000,  7.0308,-999.000
   318MWESTW_4,  P21E,    21,  1,     25, SI9325,2,19940402,2126,-16.2445, -75.6667, 4295,    603.4,   6.3110,  34.4991,2,  34.5056,2,     43.7,2,     36.9,2,    44.69,2,    42.54,2,     0.00,2,     3.07,2,    0.006,2,   -0.001,2, -999.000,1,-999.0000,1,  -999.00,9,   -999.0,1,-999.000,9,   -999.0,9,   -999.0,9,  -999.00,9, 6071.8,-999.0000,-999.000,-999.000,  6.2564,-999.000
   318MWESTW_4,  P21E,    21,  1,     24, SI9324,2,19940402,2126,-16.2445, -75.6667, 4295,    704.4,   5.7349,  34.5134,2,  34.5107,2,     31.9,2,     32.7,2,    54.43,2,    44.13,2,     0.00,2,     3.18,2,   -0.002,2,   -0.004,2, -999.000,1,-999.0000,1,  -999.00,9,   -999.0,1,-999.000,9,   -999.0,9,   -999.0,9,  -999.00,9, 7080.9,-999.0000,-999.000,-999.000,  5.6738,-999.000
   318MWESTW_4,  P21E,    21,  1,     23, SI9323,2,19940402,2126,-16.2445, -75.6667, 4295,    797.9,   5.1745,  34.5116,2,  34.5072,2,     41.4,2,     41.5,2,    62.60,2,    44.06,2,     0.01,2,     3.17,2, -999.000,9, -999.000,9, -999.000,1,-999.0000,1,  -999.00,9,   -999.0,1,-999.000,9,   -999.0,9,   -999.0,9,  -999.00,9, 8014.5,-999.0000,-999.000,-999.000,  5.1081,-999.000
   318MWESTW_4,  P21E,    21,  1,     22, SI9322,2,19940402,2126,-16.2445, -75.6667, 4295,    897.7,   4.6706,  34.5175,2,  34.5174,2,     50.9,2,     51.1,2,    71.82,2,    43.52,2,     0.01,2,     3.14,2, -999.000,9, -999.000,9, -999.000,1,-999.0000,1,  -999.00,9,   -999.0,1,-999.000,9,   -999.0,9,   -999.0,9,  -999.00,9, 9011.1,-999.0000,-999.000,-999.000,  4.5987,-999.000
   318MWESTW_4,  P21E,    21,  1,     21, SI9321,2,19940402,2126,-16.2445, -75.6667, 4295,   1000.6,   4.2736,  34.5317,2,  34.5327,2,     58.3,2,     58.9,2,    81.21,2,    43.09,2,     0.01,2,     3.12,2, -999.000,9, -999.000,9, -999.000,1,-999.0000,1,  -999.00,9,   -999.0,1,-999.000,9,   -999.0,9,   -999.0,9,  -999.00,9,10038.9,-999.0000,-999.000,-999.000,  4.1957,-999.000
   318MWESTW_4,  P21E,    21,  1,     20, SI9320,2,19940402,2126,-16.2445, -75.6667, 4295,   1101.8,   3.9588,  34.5439,2,  34.5447,2,     66.9,2,     66.9,2,    87.13,2,    42.45,2,     0.01,2,     3.07,2, -999.000,9, -999.000,9, -999.000,1,-999.0000,1,  -999.00,9,   -999.0,1,-999.000,9,   -999.0,9,   -999.0,9,  -999.00,9,11050.4,-999.0000,-999.000,-999.000,  3.8749,-999.000
   318MWESTW_4,  P21E,    21,  1,     19, SI9319,2,19940402,2126,-16.2445, -75.6667, 4295,   1201.1,   3.6743,  34.5575,2,  34.5563,2,     73.6,2,     71.9,2,    94.78,2,    42.14,2,     0.00,2,     3.05,2, -999.000,9, -999.000,9, -999.000,1,-999.0000,1,  -999.00,9,   -999.0,1,-999.000,9,   -999.0,9,   -999.0,9,  -999.00,9,12042.2,-999.0000,-999.000,-999.000,  3.5845,-999.000
   318MWESTW_4,  P21E,    21,  1,     18, SI9318,2,19940402,2126,-16.2445, -75.6667, 4295,   1300.1,   3.3977,  34.5689,2,  34.5702,2,     78.2,2,     77.7,2,   101.91,2,    41.65,2,     0.01,2,     3.02,2, -999.000,9, -999.000,9, -999.000,1,-999.0000,1,  -999.00,9,   -999.0,1,-999.000,9,   -999.0,9,   -999.0,9,  -999.00,9,13030.4,-999.0000,-999.000,-999.000,  3.3023,-999.000
   318MWESTW_4,  P21E,    21,  1,     17, SI9317,2,19940402,2126,-16.2445, -75.6667, 4295,   1397.4,   3.2118,  34.5838,2,  34.5818,2,     83.0,2,     81.2,2,   107.31,2,    41.27,2,     0.01,2,     2.99,2, -999.000,9, -999.000,9, -999.000,1,-999.0000,1,  -999.00,9,   -999.0,1,-999.000,9,   -999.0,9,   -999.0,9,  -999.00,9,14003.3,-999.0000,-999.000,-999.000,  3.1101,-999.000
   318MWESTW_4,  P21E,    21,  1,     16, SI9316,2,19940402,2126,-16.2445, -75.6667, 4295,   1494.4,   2.9897,  34.5947,2,  34.5938,2,     89.7,2,     87.2,2,   112.70,2,    40.74,2,     0.01,2,     2.95,2, -999.000,9, -999.000,9, -999.000,1,-999.0000,1,  -999.00,9,   -999.0,1,-999.000,9,   -999.0,9,   -999.0,9,  -999.00,9,14972.0,-999.0000,-999.000,-999.000,  2.8824,-999.000
   318MWESTW_4,  P21E,    21,  1,     15, SI9315,2,19940402,2126,-16.2445, -75.6667, 4295,   1597.0,   2.7896,  34.6041,2,  34.6042,2,     94.8,2,     95.3,2,   116.18,2,    40.00,2,     0.00,2,     2.89,2, -999.000,9, -999.000,9, -999.000,1,-999.0000,1,  -999.00,9,   -999.0,1,-999.000,9,   -999.0,9,   -999.0,9,  -999.00,9,15997.0,-999.0000,-999.000,-999.000,  2.6761,-999.000
   318MWESTW_4,  P21E,    21,  1,     14, SI9314,2,19940402,2126,-16.2445, -75.6667, 4295,   1797.5,   2.5093,  34.6256,2,  34.6260,2,     99.8,2,    100.7,2,   125.40,2,    39.34,2,     0.02,2,     2.84,2, -999.000,9, -999.000,9, -999.000,1,-999.0000,1,  -999.00,9,   -999.0,1,-999.000,9,   -999.0,9,   -999.0,9,  -999.00,9,17999.6,-999.0000,-999.000,-999.000,  2.3826,-999.000
   318MWESTW_4,  P21E,    21,  1,     13, SI9313,2,19940402,2126,-16.2445, -75.6667, 4295,   2007.8,   2.2680,  34.6430,2,  34.6417,2,    108.8,2,    108.9,2,   131.84,2,    38.61,2,     0.01,2,     2.78,2, -999.000,9, -999.000,9, -999.000,1,-999.0000,1,  -999.00,9,   -999.0,1,-999.000,9,   -999.0,9,   -999.0,9,  -999.00,9,20101.2,-999.0000,-999.000,-999.000,  2.1268,-999.000
   318MWESTW_4,  P21E,    21,  1,     12, SI9312,2,19940402,2126,-16.2445, -75.6667, 4295,   2202.8,   2.0801,  34.6551,2,  34.6527,2,    118.3,2,    120.3,2,   132.72,2,    37.78,2,    -0.01,2,     2.70,2, -999.000,9, -999.000,9, -999.000,1,-999.0000,1,  -999.00,9,   -999.0,1,-999.000,9,   -999.0,9,   -999.0,9,  -999.00,9,22048.6,-999.0000,-999.000,-999.000,  1.9249,-999.000
   318MWESTW_4,  P21E,    21,  1,     11, SI9311,2,19940402,2126,-16.2445, -75.6667, 4295,   2398.1,   1.9377,  34.6643,2,  34.6647,2,    130.1,2,    130.4,2,   132.90,2,    37.06,2,     0.01,2,     2.64,2, -999.000,9, -999.000,9, -999.000,1,-999.0000,1,  -999.00,9,   -999.0,1,-999.000,9,   -999.0,9,   -999.0,9,  -999.00,9,24000.6,-999.0000,-999.000,-999.000,  1.7677,-999.000
   318MWESTW_4,  P21E,    21,  1,     10, SI9310,2,19940402,2126,-16.2445, -75.6667, 4295,   2601.2,   1.8610,  34.6713,2,  34.6726,2,    136.1,2,    135.6,2,   133.78,2,    36.80,2,     0.01,2,     2.60,2, -999.000,9, -999.000,9, -999.000,1,-999.0000,1,  -999.00,9,   -999.0,1,-999.000,9,   -999.0,9,   -999.0,9,  -999.00,9,26030.0,-999.0000,-999.000,-999.000,  1.6740,-999.000
   318MWESTW_4,  P21E,    21,  1,      9, SI9309,2,19940402,2126,-16.2445, -75.6667, 4295,   2796.5,   1.8138,  34.6764,2,  34.6767,2,    138.6,2,    138.8,2,   134.66,2,    36.58,2,     0.01,2,     2.58,2, -999.000,9, -999.000,9, -999.000,1,-999.0000,1,  -999.00,9,   -999.0,1,-999.000,9,   -999.0,9,   -999.0,9,  -999.00,9,27981.4,-999.0000,-999.000,-999.000,  1.6096,-999.000
   318MWESTW_4,  P21E,    21,  1,      8, SI9308,2,19940402,2126,-16.2445, -75.6667, 4295,   2997.9,   1.7928,  34.6798,2,  34.6800,2,    139.8,2,    140.0,2,   136.23,2,    36.48,2,     0.00,2,     2.57,2, -999.000,9, -999.000,9, -999.000,1,-999.0000,1,  -999.00,9,   -999.0,1,-999.000,9,   -999.0,9,   -999.0,9,  -999.00,9,29993.4,-999.0000,-999.000,-999.000,  1.5698,-999.000
   318MWESTW_4,  P21E,    21,  1,      7, SI9307,2,19940402,2126,-16.2445, -75.6667, 4295,   3196.4,   1.7728,  34.6834,2,  34.6828,2,    146.4,2,    145.8,2,   133.46,2,    35.93,2,     0.01,2,     2.53,2, -999.000,9, -999.000,9, -999.000,1,-999.0000,1,  -999.00,9,   -999.0,1,-999.000,9,   -999.0,9,   -999.0,9,  -999.00,9,31977.7,-999.0000,-999.000,-999.000,  1.5307,-999.000
   318MWESTW_4,  P21E,    21,  1,      6, SI9306,2,19940402,2126,-16.2445, -75.6667, 4295,   3395.9,   1.7549,  34.6856,2,  34.6855,2,    154.5,2,    153.5,2,   128.26,2,    35.25,2,     0.01,2,     2.48,2, -999.000,9, -999.000,9, -999.000,1,-999.0000,1,  -999.00,9,   -999.0,1,-999.000,9,   -999.0,9,   -999.0,9,  -999.00,9,33971.3,-999.0000,-999.000,-999.000,  1.4931,-999.000
   318MWESTW_4,  P21E,    21,  1,      5, SI9305,2,19940402,2126,-16.2445, -75.6667, 4295,   3594.8,   1.7351,  34.6886,2,  34.6885,2,    158.3,2,    157.3,2,   126.01,2,    34.93,3,     0.00,2,     2.45,2, -999.000,9, -999.000,9, -999.000,1,-999.0000,1,  -999.00,9,   -999.0,1,-999.000,9,   -999.0,9,   -999.0,9,  -999.00,9,35959.2,-999.0000,-999.000,-999.000,  1.4531,-999.000
   318MWESTW_4,  P21E,    21,  1,      4, SI9304,2,19940402,2126,-16.2445, -75.6667, 4295,   3799.1,   1.7307,  34.6902,2,  34.6903,2,    160.3,2,    159.3,2,   124.63,2,    34.82,3,     0.00,2,     2.43,2, -999.000,9, -999.000,9, -999.000,1,-999.0000,1,  -999.00,9,   -999.0,1,-999.000,9,   -999.0,9,   -999.0,9,  -999.00,9,38001.6,-999.0000,-999.000,-999.000,  1.4271,-999.000
   318MWESTW_4,  P21E,    21,  1,      3, SI9303,2,19940402,2126,-16.2445, -75.6667, 4295,   3987.8,   1.7434,  34.6908,2,  34.6910,2,    160.0,2,    159.2,2,   124.82,2,    34.98,2,    -0.01,2,     2.44,2, -999.000,9, -999.000,9, -999.000,1,-999.0000,1,  -999.00,9,   -999.0,1,-999.000,9,   -999.0,9,   -999.0,9,  -999.00,9,39887.7,-999.0000,-999.000,-999.000,  1.4190,-999.000
   318MWESTW_4,  P21E,    21,  1,      2, SI9302,2,19940402,2126,-16.2445, -75.6667, 4295,   4361.8,   1.7425,  34.6920,2,  34.6920,2,    159.0,2,    159.6,2,   125.59,2,    35.00,2,     0.01,2,     2.45,2, -999.000,9, -999.000,9, -999.000,1,-999.0000,1,  -999.00,9,   -999.0,1,-999.000,9,   -999.0,9,   -999.0,9,  -999.00,9,43626.1,-999.0000,-999.000,-999.000,  1.3760,-999.000
   318MWESTW_4,  P21E,    21,  1,      1, SI9301,2,19940402,2126,-16.2445, -75.6667, 4295,   4404.6,   1.7430,  34.6919,2,  34.6914,2,    159.2,2,    160.6,2,   125.70,2,    35.13,2,     0.00,2,     2.46,2, -999.000,9, -999.000,9, -999.000,1,-999.0000,1,  -999.00,9,   -999.0,1,-999.000,9,   -999.0,9,   -999.0,9,  -999.00,9,44053.4,-999.0000,-999.000,-999.000,  1.3715,-999.000