BOTTLE,20010911WHPSIOdm
EXPOCODE,SECT_ID,STNNBR,CASTNO,SAMPNO,BTLNBR,BTLNBR_FLAG_W,DATE,TIME,LATITUDE,LONGITUDE,DEPTH,CTDPRS,CTDTMP,CTDSAL,CTDSAL_FLAG_W,SALNTY,SALNTY_FLAG_W,CTDOXY,CTDOXY_FLAG_W,OXYGEN,OXYGEN_FLAG_W,SILCAT,SILCAT_FLAG_W,NITRAT,NITRAT_FLAG_W,NITRIT,NITRIT_FLAG_W,PHSPHT,PHSPHT_FLAG_W,CFC-11,CFC-11_FLAG_W,CFC-12,CFC-12_FLAG_W,TRITUM,TRITUM_FLAG_W,HELIUM,HELIUM_FLAG_W,DELHE3,DELHE3_FLAG_W,DELC14,DELC14_FLAG_W,NEON,NEON_FLAG_W,TCARBN,TCARBN_FLAG_W,ALKALI,ALKALI_FLAG_W,PH,PH_FLAG_W,CTDRAW,HELIER,DELHER,NEONER,THETA,TRITER
,,,,,,,,,,,,DBAR,ITS-90,PSS-78,,PSS-78,,UMOL/KG,,UMOL/KG,,UMOL/KG,,UMOL/KG,,UMOL/KG,,UMOL/KG,,PMOL/KG,,PMOL/KG,,TU,,UMOL/KG,,PERCNT,,/MILLE,,NMOL/KG,,UMOL/KG,,UMOL/KG,,,,,NMOL/KG,PERCNT,NMOL/KG,ITS-90,TU
   318MWESTW_4,  P21E,    31,  1,     36,     36,2,19940405,0914,-16.7445, -79.9972, 4444,      5.5,  22.7264,  35.6273,2,  35.6279,2,    221.3,2,    220.2,2,     0.71,2,     0.05,2,    -0.02,2,     0.52,2,    2.018,2,    1.054,2,    0.445,2,   1.7082,2,    -1.27,2,   -999.0,1,   6.839,2,   2057.8,2,   2365.0,2,     8.03,2,  102.0,  0.0085,   0.080,   0.034, 22.7253,   0.006
   318MWESTW_4,  P21E,    31,  1,     35,     35,2,19940405,0914,-16.7445, -79.9972, 4444,     24.0,  22.7324,  35.6279,2,  35.6232,2,    218.9,2,    220.2,2,     0.73,2,     0.00,2,    -0.02,2,     0.52,2,    2.040,2,    1.071,2,    0.431,2,   1.7054,2,    -0.95,2,   -999.0,1,   6.819,2,   2057.8,2,   2367.0,2,     8.03,2,  286.8,  0.0085,   0.080,   0.034, 22.7275,   0.006
   318MWESTW_4,  P21E,    31,  1,     34,     34,2,19940405,0914,-16.7445, -79.9972, 4444,     48.8,  19.4270,  35.3329,2,  35.3593,2,    246.9,2,    245.4,2,     0.93,2,     0.04,2,     0.01,2,     0.45,2,    2.443,2,    1.247,2,    0.449,2,   1.7280,2,    -1.39,2,   -999.0,1,   7.034,2,   2052.8,2,   2347.0,2,     8.01,2,  534.5,  0.0086,   0.080,   0.035, 19.4182,   0.006
   318MWESTW_4,  P21E,    31,  1,     33,     33,2,19940405,0914,-16.7445, -79.9972, 4444,     99.6,  18.2239,  35.4387,2,  35.3900,2,    216.0,2,    208.9,2,     1.87,2,     5.30,2,     0.12,2,     0.81,2,    2.439,2,    1.248,2,    0.445,2,   1.7278,2,    -1.35,2,   -999.0,1,   7.044,2,   2094.8,2,   2345.0,2,     7.93,2, 1042.5,  0.0086,   0.080,   0.035, 18.2066,   0.006
   318MWESTW_4,  P21E,    31,  1,     32,     32,2,19940405,0914,-16.7445, -79.9972, 4444,    149.0,  14.2389,  34.7984,2,  34.7337,2,    171.5,2,    160.0,2,     4.81,2,    12.28,2,     0.02,2,     1.24,2,    2.269,2,    1.097,2, -999.000,1,   1.7527,2,    -0.17,2,   -999.0,1,   7.269,2,   2120.8,2,   2299.0,2,     7.80,2, 1536.3,  0.0088,   0.080,   0.036, 14.2172,-999.000
   318MWESTW_4,  P21E,    31,  1,     31,     31,2,19940405,0914,-16.7445, -79.9972, 4444,    201.3,  12.7747,  34.8533,2,  34.8371,2,      3.6,2,      2.4,2,    25.12,2,    18.32,2,     0.01,2,     2.70,2,    0.510,2,    0.268,2,    0.288,2,   1.7692,2,     4.04,2,   -999.0,1,   7.394,2,   2259.9,2,   2310.0,2,     7.44,2, 2058.3,  0.0088,   0.090,   0.037, 12.7474,   0.005
   318MWESTW_4,  P21E,    31,  1,     30,     30,2,19940405,0914,-16.7445, -79.9972, 4444,    251.5,  11.8888,  34.8276,2,  34.8104,2,      2.6,2,      0.5,2,    27.51,2,    21.80,2,     1.19,2,     2.73,2,    0.239,2,    0.123,2,    0.174,2,   1.7779,2,     3.79,2,   -999.0,1,   7.457,2,   2267.0,2,   2307.0,2,     7.42,2, 2559.8,  0.0089,   0.080,   0.037, 11.8562,   0.005
   318MWESTW_4,  P21E,    31,  1,     29,     29,2,19940405,0914,-16.7445, -79.9972, 4444,    301.1,  10.9518,  34.7460,2,  34.7555,2,      2.5,2,      0.8,2,    28.80,2,    27.51,2,     0.64,2,     2.75,2,    0.122,2,    0.063,2,    0.090,2,   1.7795,2,     3.33,2,   -999.0,1,   7.488,2,   2270.0,2,   2304.0,2,     7.40,2, 3055.6,  0.0089,   0.080,   0.037, 10.9147,   0.004
   318MWESTW_4,  P21E,    31,  1,     28,     28,3,19940405,0914,-16.7445, -79.9972, 4444,    402.9,   8.9931,  34.6233,2,  34.6209,2,     10.0,2,     10.0,2,    30.84,2,    36.70,2,    -0.01,2,     2.83,2,    0.045,6,    0.016,6,    0.016,2,   1.8025,2,     3.31,2,   -999.0,1,   7.638,2,   2273.0,2,   2299.0,2,     7.38,2, 4071.8,  0.0090,   0.080,   0.038,  8.9490,   0.004
   318MWESTW_4,  P21E,    31,  1,     27,     27,2,19940405,0914,-16.7445, -79.9972, 4444,    504.8,   7.7138,  34.5628,2,  34.5696,2,     20.0,2,     18.0,2,    37.62,2,    40.59,2,     0.00,2,     2.97,2,    0.018,2,   -0.003,2,    0.006,2,   1.7982,2,     4.71,2,   -999.0,1,   7.660,2,   2279.0,2,   2306.0,2,     7.38,2, 5089.7,  0.0090,   0.090,   0.038,  7.6631,   0.004
   318MWESTW_4,  P21E,    31,  1,     26,     26,2,19940405,0914,-16.7445, -79.9972, 4444,    608.4,   6.5725,  34.5019,2,  34.5082,2,     42.0,2,     39.8,2,    41.49,2,    41.55,2,     0.01,2,     2.97,2,    0.010,2,    0.004,2, -999.000,1,   1.8121,2,     5.96,2,   -999.0,1,   7.743,2,   2275.0,2,   2307.0,2,     7.40,2, 6124.4,  0.0091,   0.090,   0.039,  6.5162,-999.000
   318MWESTW_4,  P21E,    31,  1,     25,     25,2,19940405,0914,-16.7445, -79.9972, 4444,    701.7,   5.9410,  34.4940,2,  34.5032,2,     40.5,2,     37.8,2,    49.92,2,    43.17,2,     0.01,2,     3.08,2,    0.005,2,   -0.003,2,   -0.002,2,   1.8208,2,     7.90,2,   -999.0,1,   7.768,2,   2290.0,2,   2317.0,2,     7.39,2, 7056.3,  0.0091,   0.090,   0.039,  5.8790,   0.003
   318MWESTW_4,  P21E,    31,  1,     24,     24,2,19940405,0914,-16.7445, -79.9972, 4444,    800.8,   5.3165,  34.5019,2,  34.5029,2,     42.8,2,     42.9,2,    60.18,2,    44.03,2,     0.00,2,     3.15,2,    0.000,2,   -0.004,2,   -0.001,2,   1.8309,2,    10.42,2,   -999.0,1,   7.810,2,   2300.0,2,   2326.0,2,     7.39,2, 8046.2,  0.0092,   0.090,   0.039,  5.2490,   0.003
   318MWESTW_4,  P21E,    31,  1,     23,     23,2,19940405,0914,-16.7445, -79.9972, 4444,    898.7,   4.7828,  34.5058,2,  34.6922,4,     53.0,2,    154.9,4,   130.05,4,    35.13,4,     0.01,4,     2.46,4,   -0.001,2,   -0.004,2, -999.000,1,-999.0000,1,  -999.00,9,   -999.0,1,-999.000,9,   2315.0,2,   -999.0,9,  -999.00,9, 9024.6,-999.0000,-999.000,-999.000,  4.7101,-999.000
   318MWESTW_4,  P21E,    31,  1,     22,     22,2,19940405,0914,-16.7445, -79.9972, 4444,    992.0,   4.4147,  34.5242,2,  34.5237,2,     58.6,2,     58.0,2,    77.41,2,    43.02,2,     0.01,2,     3.11,2,   -0.001,2,   -0.004,2,   -0.002,2,   1.8475,2,    14.66,2,   -999.0,1,   7.839,2,   2309.0,2,   2351.0,2,     7.43,2, 9955.8,  0.0092,   0.090,   0.039,  4.3365,   0.003
   318MWESTW_4,  P21E,    31,  1,     21,     21,2,19940405,0914,-16.7445, -79.9972, 4444,   1095.0,   3.9865,  34.5445,2,  34.5427,2,     67.4,2,     66.1,2,    88.22,2,    42.21,2,     0.00,2,     3.08,2, -999.000,9, -999.000,9, -999.000,1,-999.0000,1,  -999.00,9,   -999.0,1,-999.000,9,   2317.0,2,   2362.0,2,     7.43,2,10985.5,-999.0000,-999.000,-999.000,  3.9029,-999.000
   318MWESTW_4,  P21E,    31,  1,     20,     20,2,19940405,0914,-16.7445, -79.9972, 4444,   1197.3,   3.6875,  34.5556,2,  34.5555,2,     72.1,2,     72.0,2,    95.19,2,    41.51,2,    -0.01,2,     3.05,2, -999.000,9, -999.000,9, -999.000,1,-999.0000,1,  -999.00,9,   -999.0,1,-999.000,9,   2321.0,2,   2368.0,2,     7.45,2,12007.2,-999.0000,-999.000,-999.000,  3.5979,-999.000
   318MWESTW_4,  P21E,    31,  1,     19,     19,2,19940405,0914,-16.7445, -79.9972, 4444,   1304.7,   3.4258,  34.5694,2,  34.5686,2,     78.2,2,     77.5,2,   101.98,2,    41.10,2,     0.00,2,     3.00,2, -999.000,9, -999.000,9, -999.000,1,   1.8785,2,    21.03,2,   -999.0,1,   7.966,2,   2325.0,2,   2374.0,2,     7.45,2,13079.9,  0.0094,   0.100,   0.040,  3.3297,-999.000
   318MWESTW_4,  P21E,    31,  1,     18,     18,2,19940405,0914,-16.7445, -79.9972, 4444,   1400.3,   3.1939,  34.5819,2,  34.5816,2,     83.6,2,     82.4,2,   108.03,2,    40.62,2,     0.01,2,     2.96,2, -999.000,9, -999.000,9, -999.000,1,-999.0000,1,  -999.00,9,   -999.0,1,-999.000,9,   2328.0,2,   2381.0,2,     7.46,2,14034.5,-999.0000,-999.000,-999.000,  3.0922,-999.000
   318MWESTW_4,  P21E,    31,  1,     17,     17,2,19940405,0914,-16.7445, -79.9972, 4444,   1500.0,   2.9384,  34.5943,2,  34.5950,2,     90.0,2,     90.4,2,   113.36,2,    40.40,2,     0.01,2,     2.90,2, -999.000,9, -999.000,9, -999.000,1,-999.0000,1,  -999.00,9,   -999.0,1,-999.000,9,   2329.0,2,   2386.0,2,     7.48,2,15030.4,-999.0000,-999.000,-999.000,  2.8312,-999.000
   318MWESTW_4,  P21E,    31,  1,     16,     16,2,19940405,0914,-16.7445, -79.9972, 4444,   1611.9,   2.7257,  34.6084,2,  34.6097,2,     95.5,2,     96.8,2,   119.23,2,    40.05,2,     0.01,2,     2.87,2, -999.000,9, -999.000,9,   -0.002,2,   1.9026,2,    24.75,2,   -999.0,1,   8.008,2,   2332.0,2,   2393.0,2,     7.48,2,16148.6,  0.0095,   0.100,   0.040,  2.6117,   0.003
   318MWESTW_4,  P21E,    31,  1,     15,     15,2,19940405,0914,-16.7445, -79.9972, 4444,   1801.2,   2.4456,  34.6269,2,  34.6297,2,    106.1,2,    104.9,2,   126.40,2,    39.29,2,     0.00,2,     2.81,2, -999.000,9, -999.000,9, -999.000,1,-999.0000,1,  -999.00,9,   -999.0,1,-999.000,9,   2336.0,2,   2401.0,2,     7.50,2,18039.5,-999.0000,-999.000,-999.000,  2.3194,-999.000
   318MWESTW_4,  P21E,    31,  1,     14,     14,2,19940405,0914,-16.7445, -79.9972, 4444,   2013.0,   2.1954,  34.6444,2,  34.6460,2,    115.4,2,    115.1,2,   131.53,2,    38.40,2,     0.01,2,     2.73,2, -999.000,9, -999.000,9, -999.000,1,-999.0000,1,  -999.00,9,   -999.0,1,-999.000,9,   2335.0,2,   2408.0,2,     7.52,2,20156.1,-999.0000,-999.000,-999.000,  2.0548,-999.000
   318MWESTW_4,  P21E,    31,  1,     13,     13,2,19940405,0914,-16.7445, -79.9972, 4444,   2208.4,   2.0140,  34.6551,2,  34.6568,2,    132.7,2,    130.6,2,   129.18,2,    36.93,2,     0.00,2,     2.63,2, -999.000,9, -999.000,9, -999.000,1,-999.0000,1,  -999.00,9,   -999.0,1,-999.000,9,   2326.0,2,   2407.0,2,     7.54,2,22108.3,-999.0000,-999.000,-999.000,  1.8595,-999.000
   318MWESTW_4,  P21E,    31,  1,     12,     12,2,19940405,0914,-16.7445, -79.9972, 4444,   2404.3,   1.8971,  34.6653,2,  34.6669,2,    137.9,2,    141.5,2,   128.10,2,    36.00,2,    -0.01,2,     2.55,2, -999.000,9, -999.000,9, -999.000,1,-999.0000,1,  -999.00,9,   -999.0,1,-999.000,9,   2320.0,2,   2406.0,2,     7.56,2,24065.2,-999.0000,-999.000,-999.000,  1.7273,-999.000
   318MWESTW_4,  P21E,    31,  1,     11,     11,2,19940405,0914,-16.7445, -79.9972, 4444,   2587.1,   1.8308,  34.6716,2,  34.6737,2,    145.5,2,    146.1,2,   129.04,2,    35.64,2,     0.00,2,     2.51,2, -999.000,9, -999.000,9, -999.000,1,-999.0000,1,  -999.00,9,   -999.0,1,-999.000,9,   2318.0,2,   2409.0,2,     7.56,2,25891.5,-999.0000,-999.000,-999.000,  1.6457,-999.000
   318MWESTW_4,  P21E,    31,  1,     10,     10,2,19940405,0914,-16.7445, -79.9972, 4444,   2790.4,   1.7972,  34.6768,2,  34.6781,2,    144.2,2,    137.9,2,   137.85,2,    36.42,2,     0.01,2,     2.57,2, -999.000,9, -999.000,9, -999.000,1,-999.0000,1,  -999.00,9,   -999.0,1,-999.000,9,   2332.0,2,   2422.0,2,     7.57,2,27923.2,-999.0000,-999.000,-999.000,  1.5939,-999.000
   318MWESTW_4,  P21E,    31,  1,      9,      9,2,19940405,0914,-16.7445, -79.9972, 4444,   2971.0,   1.7838,  34.6791,2,  34.6800,2,    139.4,2,    138.0,2,   139.15,2,    36.49,2,     0.01,2,     2.56,2, -999.000,9, -999.000,9, -999.000,1,-999.0000,1,  -999.00,9,   -999.0,1,-999.000,9,   2333.0,2,   2423.0,2,     7.57,2,29728.1,-999.0000,-999.000,-999.000,  1.5636,-999.000
   318MWESTW_4,  P21E,    31,  1,      8,      8,2,19940405,0914,-16.7445, -79.9972, 4444,   3192.4,   1.7793,  34.6812,2,  34.6822,2,    139.2,2,    139.2,2,   139.17,2,    36.52,2,     0.00,2,     2.55,2, -999.000,9, -999.000,9, -999.000,1,-999.0000,1,  -999.00,9,   -999.0,1,-999.000,9,   2333.0,2,   2422.0,2,     7.57,2,31940.1,-999.0000,-999.000,-999.000,  1.5374,-999.000
   318MWESTW_4,  P21E,    31,  1,      7,      7,2,19940405,0914,-16.7445, -79.9972, 4444,   3408.5,   1.7744,  34.6840,2,  34.6846,2,    142.2,2,    142.6,2,   138.10,2,    36.29,2,     0.00,2,     2.53,2, -999.000,9, -999.000,9, -999.000,1,-999.0000,1,  -999.00,9,   -999.0,1,-999.000,9,   2322.0,2,   2422.0,2,     7.61,4,34100.4,-999.0000,-999.000,-999.000,  1.5108,-999.000
   318MWESTW_4,  P21E,    31,  1,      6,      6,2,19940405,0914,-16.7445, -79.9972, 4444,   3650.1,   1.7583,  34.6862,2,  34.6879,2,    150.0,2,    149.6,2,   132.81,2,    35.70,2,     0.00,2,     2.49,2, -999.000,9, -999.000,9, -999.000,1,-999.0000,1,  -999.00,9,   -999.0,1,-999.000,9,   2323.0,2,   2415.0,2,     7.57,2,36514.6,-999.0000,-999.000,-999.000,  1.4699,-999.000
   318MWESTW_4,  P21E,    31,  1,      5,      5,2,19940405,0914,-16.7445, -79.9972, 4444,   3899.5,   1.7532,  34.6890,2,  34.6903,2,    154.4,2,    153.6,2,   130.46,2,    35.17,2,     0.01,2,     2.47,2, -999.000,9, -999.000,9, -999.000,1,-999.0000,1,  -999.00,9,   -999.0,1,-999.000,9,   2318.0,2,   2412.0,2,     7.59,2,39007.3,-999.0000,-999.000,-999.000,  1.4382,-999.000
   318MWESTW_4,  P21E,    31,  1,      4,      4,2,19940405,0914,-16.7445, -79.9972, 4444,   4102.7,   1.7519,  34.6903,2,  34.6908,2,    156.5,2,    155.4,2,   129.57,2,    34.76,2,     0.01,2,     2.46,2, -999.000,9, -999.000,9, -999.000,1,-999.0000,1,  -999.00,9,   -999.0,1,-999.000,9,   2308.0,2,   2411.0,2,     7.58,2,41038.6,-999.0000,-999.000,-999.000,  1.4145,-999.000
   318MWESTW_4,  P21E,    31,  1,      3,      3,2,19940405,0914,-16.7445, -79.9972, 4444,   4311.0,   1.7609,  34.6909,2,  34.6910,2,    156.8,2,    155.6,2,   129.60,2,    34.65,2,     0.01,2,     2.45,2, -999.000,9, -999.000,9, -999.000,1,-999.0000,1,  -999.00,9,   -999.0,1,-999.000,9,   2309.0,2,   2410.0,2,     7.59,2,43121.2,-999.0000,-999.000,-999.000,  1.3997,-999.000
   318MWESTW_4,  P21E,    31,  1,      2,      2,2,19940405,0914,-16.7445, -79.9972, 4444,   4380.7,   1.7653,  34.6912,2,  34.6918,2,    156.0,2,    155.0,2,   129.98,2,    34.78,2,     0.02,2,     2.44,2, -999.000,9, -999.000,9, -999.000,1,-999.0000,1,  -999.00,9,   -999.0,1,-999.000,9,   -999.0,9,   2410.0,2,     7.57,2,43818.2,-999.0000,-999.000,-999.000,  1.3959,-999.000
   318MWESTW_4,  P21E,    31,  1,      1,      1,2,19940405,0914,-16.7445, -79.9972, 4444,   4490.8,   1.7776,  34.6916,2,  34.6914,2,    155.0,2,    156.6,2,   130.20,2,    35.04,2,     0.01,2,     2.45,2, -999.000,9, -999.000,9, -999.000,1,-999.0000,1,  -999.00,9,   -999.0,1,-999.000,9,   2319.0,2,   2409.0,2,     7.58,2,44918.1,-999.0000,-999.000,-999.000,  1.3951,-999.000