BOTTLE,20010911WHPSIOdm
EXPOCODE,SECT_ID,STNNBR,CASTNO,SAMPNO,BTLNBR,BTLNBR_FLAG_W,DATE,TIME,LATITUDE,LONGITUDE,DEPTH,CTDPRS,CTDTMP,CTDSAL,CTDSAL_FLAG_W,SALNTY,SALNTY_FLAG_W,CTDOXY,CTDOXY_FLAG_W,OXYGEN,OXYGEN_FLAG_W,SILCAT,SILCAT_FLAG_W,NITRAT,NITRAT_FLAG_W,NITRIT,NITRIT_FLAG_W,PHSPHT,PHSPHT_FLAG_W,CFC-11,CFC-11_FLAG_W,CFC-12,CFC-12_FLAG_W,TRITUM,TRITUM_FLAG_W,HELIUM,HELIUM_FLAG_W,DELHE3,DELHE3_FLAG_W,DELC14,DELC14_FLAG_W,NEON,NEON_FLAG_W,TCARBN,TCARBN_FLAG_W,ALKALI,ALKALI_FLAG_W,PH,PH_FLAG_W,CTDRAW,HELIER,DELHER,NEONER,THETA,TRITER
,,,,,,,,,,,,DBAR,ITS-90,PSS-78,,PSS-78,,UMOL/KG,,UMOL/KG,,UMOL/KG,,UMOL/KG,,UMOL/KG,,UMOL/KG,,PMOL/KG,,PMOL/KG,,TU,,UMOL/KG,,PERCNT,,/MILLE,,NMOL/KG,,UMOL/KG,,UMOL/KG,,,,,NMOL/KG,PERCNT,NMOL/KG,ITS-90,TU
   318MWESTW_5,  P21W,   198,  1,     36, SI9442,2,19940531,1628,-17.5000,-171.6667, 4950,      9.7,  27.1224,  35.4948,2,  35.4943,2,    206.3,2,    212.2,2,     0.69,2,     0.04,2,     0.00,2,     0.19,2,    1.639,2,    0.936,2, -999.000,1,-999.0000,1,  -999.00,9,   -999.0,1,-999.000,9,   -999.0,9,   -999.0,9,  -999.00,9,  155.9,-999.0000,-999.000,-999.000, 27.1202,-999.000
   318MWESTW_5,  P21W,   198,  1,     35, SI9435,2,19940531,1628,-17.5000,-171.6667, 4950,     28.0,  27.1263,  35.4943,2,  35.4930,2,    205.3,2,    211.9,2,     0.71,2,     0.05,2,     0.00,2,     0.18,2, -999.000,9, -999.000,9, -999.000,1,-999.0000,1,  -999.00,9,   -999.0,1,-999.000,9,   -999.0,9,   -999.0,9,  -999.00,9,  338.8,-999.0000,-999.000,-999.000, 27.1198,-999.000
   318MWESTW_5,  P21W,   198,  1,     34, SI9441,3,19940531,1628,-17.5000,-171.6667, 4950,     53.0,  27.0021,  35.4707,2,  35.4711,2,    200.0,2,    215.6,2,     0.72,2,     0.00,2,     0.00,2,     0.17,2,    1.655,2,    0.944,2, -999.000,1,-999.0000,1,  -999.00,9,   -999.0,1,-999.000,9,   -999.0,9,   -999.0,9,  -999.00,9,  587.4,-999.0000,-999.000,-999.000, 26.9899,-999.000
   318MWESTW_5,  P21W,   198,  1,     33, SI9433,2,19940531,1628,-17.5000,-171.6667, 4950,     97.0,  24.6353,  35.7333,2,  35.7313,2,    212.3,2,    208.3,2,     0.58,2,     0.00,2,     0.00,2,     0.18,2,    1.891,2,    1.044,2, -999.000,1,-999.0000,1,  -999.00,9,   -999.0,1,-999.000,9,   -999.0,9,   -999.0,9,  -999.00,9, 1026.6,-999.0000,-999.000,-999.000, 24.6144,-999.000
   318MWESTW_5,  P21W,   198,  1,     32, SI9432,2,19940531,1628,-17.5000,-171.6667, 4950,    149.4,  22.2362,  35.8052,2,  35.8007,2,    191.3,2,    190.4,2,     0.60,2,     1.33,2,     0.04,2,     0.28,2,    2.000,2,    1.078,2, -999.000,1,-999.0000,1,  -999.00,9,   -999.0,1,-999.000,9,   -999.0,9,   -999.0,9,  -999.00,9, 1548.0,-999.0000,-999.000,-999.000, 22.2063,-999.000
   318MWESTW_5,  P21W,   198,  1,     31, SI9431,2,19940531,1628,-17.5000,-171.6667, 4950,    200.3,  20.9061,  35.7509,2,  35.7495,2,    187.4,2,    188.2,2,     0.77,2,     2.26,2,     0.01,2,     0.31,2, -999.000,9, -999.000,9, -999.000,1,-999.0000,1,  -999.00,9,   -999.0,1,-999.000,9,   -999.0,9,   -999.0,9,  -999.00,9, 2055.4,-999.0000,-999.000,-999.000, 20.8677,-999.000
   318MWESTW_5,  P21W,   198,  1,     30, SI9440,2,19940531,1628,-17.5000,-171.6667, 4950,    246.7,  19.4936,  35.6953,2,  35.6932,2,    189.3,2,    192.4,2,     0.95,2,     2.77,2,     0.01,2,     0.34,2, -999.000,9, -999.000,9, -999.000,1,-999.0000,1,  -999.00,9,   -999.0,1,-999.000,9,   -999.0,9,   -999.0,9,  -999.00,9, 2517.0,-999.0000,-999.000,-999.000, 19.4486,-999.000
   318MWESTW_5,  P21W,   198,  1,     29, SI9429,2,19940531,1628,-17.5000,-171.6667, 4950,    293.6,  17.3597,  35.4864,2,  35.4815,2,    186.0,2,    185.7,2,     1.60,2,     5.40,2,     0.01,2,     0.54,2, -999.000,9, -999.000,9, -999.000,1,-999.0000,1,  -999.00,9,   -999.0,1,-999.000,9,   -999.0,9,   -999.0,9,  -999.00,9, 2984.2,-999.0000,-999.000,-999.000, 17.3103,-999.000
   318MWESTW_5,  P21W,   198,  1,     28, SI9428,2,19940531,1628,-17.5000,-171.6667, 4950,    347.2,  15.5040,  35.2982,2,  35.2788,2,    181.5,2,    183.3,2,     2.57,2,     8.07,2,     0.01,2,     0.72,2,    1.691,2,    0.887,2, -999.000,1,-999.0000,1,  -999.00,9,   -999.0,1,-999.000,9,   -999.0,9,   -999.0,9,  -999.00,9, 3517.4,-999.0000,-999.000,-999.000, 15.4499,-999.000
   318MWESTW_5,  P21W,   198,  1,     27, SI9424,2,19940531,1628,-17.5000,-171.6667, 4950,    397.7,  12.9335,  34.9341,2,  34.9229,2,    160.4,2,    159.5,2,     6.60,2,    15.01,2,     0.01,2,     1.22,2,    1.022,2,    0.538,2, -999.000,1,-999.0000,1,  -999.00,9,   -999.0,1,-999.000,9,   -999.0,9,   -999.0,9,  -999.00,9, 4019.4,-999.0000,-999.000,-999.000, 12.8786,-999.000
   318MWESTW_5,  P21W,   198,  1,     26, SI9414,2,19940531,1628,-17.5000,-171.6667, 4950,    498.4,   9.3448,  34.5977,2,  34.3972,4,    174.2,2,    182.4,2,     9.17,2,    20.73,2,     0.00,2,     1.52,2,    0.674,2,    0.357,2, -999.000,1,-999.0000,1,  -999.00,9,   -999.0,1,-999.000,9,   -999.0,9,   -999.0,9,  -999.00,9, 5020.9,-999.0000,-999.000,-999.000,  9.2887,-999.000
   318MWESTW_5,  P21W,   198,  1,     25, SI9425,2,19940531,1628,-17.5000,-171.6667, 4950,    595.6,   6.6927,  34.3997,2,  34.3976,2,    192.5,2,    192.1,2,    16.08,2,    26.60,2,     0.00,2,     1.87,2,    0.294,2,    0.170,2, -999.000,1,-999.0000,1,  -999.00,9,   -999.0,1,-999.000,9,   -999.0,9,   -999.0,9,  -999.00,9, 5988.3,-999.0000,-999.000,-999.000,  6.6372,-999.000
   318MWESTW_5,  P21W,   198,  1,     24, SI9434,2,19940531,1628,-17.5000,-171.6667, 4950,    699.2,   5.7315,  34.3778,2,  34.3774,2,    182.8,2,    183.8,2,    24.91,2,    29.74,2,     0.00,2,     2.08,2,    0.102,2,    0.063,2, -999.000,1,-999.0000,1,  -999.00,9,   -999.0,1,-999.000,9,   -999.0,9,   -999.0,9,  -999.00,9, 7018.3,-999.0000,-999.000,-999.000,  5.6710,-999.000
   318MWESTW_5,  P21W,   198,  1,     23, SI9423,2,19940531,1628,-17.5000,-171.6667, 4950,    800.7,   5.0355,  34.3990,2,  34.3984,2,    169.9,2,    169.0,2,    37.10,2,    32.27,2,     0.00,2,     2.25,2,    0.029,2,    0.018,2, -999.000,1,-999.0000,1,  -999.00,9,   -999.0,1,-999.000,9,   -999.0,9,   -999.0,9,  -999.00,9, 8027.6,-999.0000,-999.000,-999.000,  4.9699,-999.000
   318MWESTW_5,  P21W,   198,  1,     22, SI9418,2,19940531,1628,-17.5000,-171.6667, 4950,    901.6,   4.3423,  34.4332,2,  34.4316,2,    162.3,2,    160.7,2,    50.90,2,    33.86,2,     0.00,2,     2.36,2,    0.004,2,    0.002,2, -999.000,1,-999.0000,1,  -999.00,9,   -999.0,1,-999.000,9,   -999.0,9,   -999.0,9,  -999.00,9, 9030.3,-999.0000,-999.000,-999.000,  4.2725,-999.000
   318MWESTW_5,  P21W,   198,  1,     21, SI9421,2,19940531,1628,-17.5000,-171.6667, 4950,    989.7,   3.8012,  34.4673,2,  34.4663,2,    158.4,2,    157.7,2,    62.94,2,    34.62,2,     0.00,2,     2.41,2,    0.000,2,   -0.002,2, -999.000,1,-999.0000,1,  -999.00,9,   -999.0,1,-999.000,9,   -999.0,9,   -999.0,9,  -999.00,9, 9906.9,-999.0000,-999.000,-999.000,  3.7280,-999.000
   318MWESTW_5,  P21W,   198,  1,     20, SI9420,2,19940531,1628,-17.5000,-171.6667, 4950,   1194.4,   3.0247,  34.5312,2,  34.5305,2,    156.0,2,    156.3,4,    82.34,2,    35.18,2,     0.00,2,     2.45,2, -999.000,9, -999.000,9, -999.000,1,-999.0000,1,  -999.00,9,   -999.0,1,-999.000,9,   -999.0,9,   -999.0,9,  -999.00,9,11941.4,-999.0000,-999.000,-999.000,  2.9415,-999.000
   318MWESTW_5,  P21W,   198,  1,     19, SI9419,2,19940531,1628,-17.5000,-171.6667, 4950,   1401.3,   2.7032,  34.5856,2,  34.5849,2,    148.3,2,    146.5,2,   100.14,2,    35.88,2,     0.00,2,     2.52,2, -999.000,9, -999.000,9, -999.000,1,-999.0000,1,  -999.00,9,   -999.0,1,-999.000,9,   -999.0,9,   -999.0,9,  -999.00,9,13998.7,-999.0000,-999.000,-999.000,  2.6067,-999.000
   318MWESTW_5,  P21W,   198,  1,     18, SI9439,2,19940531,1628,-17.5000,-171.6667, 4950,   1600.2,   2.4874,  34.6045,2,  34.6046,2,    146.6,2,    146.7,2,   107.04,2,    35.94,2,     0.00,2,     2.52,2, -999.000,9, -999.000,9, -999.000,1,-999.0000,1,  -999.00,9,   -999.0,1,-999.000,9,   -999.0,9,   -999.0,9,  -999.00,9,15976.4,-999.0000,-999.000,-999.000,  2.3773,-999.000
   318MWESTW_5,  P21W,   198,  1,     17, SI9417,2,19940531,1628,-17.5000,-171.6667, 4950,   1807.5,   2.3250,  34.6213,2,  34.6207,2,    146.8,2,    145.9,2,   113.32,2,    36.03,2,     0.00,2,     2.53,2, -999.000,9, -999.000,9, -999.000,1,-999.0000,1,  -999.00,9,   -999.0,1,-999.000,9,   -999.0,9,   -999.0,9,  -999.00,9,18037.2,-999.0000,-999.000,-999.000,  2.2000,-999.000
   318MWESTW_5,  P21W,   198,  1,     16, SI9416,2,19940531,1628,-17.5000,-171.6667, 4950,   1999.8,   2.1864,  34.6338,2,  34.6337,2,    146.3,2,    147.5,2,   117.98,2,    35.99,2,     0.00,2,     2.53,2,   -0.001,2,    0.000,2, -999.000,1,-999.0000,1,  -999.00,9,   -999.0,1,-999.000,9,   -999.0,9,   -999.0,9,  -999.00,9,19948.9,-999.0000,-999.000,-999.000,  2.0471,-999.000
   318MWESTW_5,  P21W,   198,  1,     15, SI9415,2,19940531,1628,-17.5000,-171.6667, 4950,   2202.4,   2.0503,  34.6451,2,  34.6453,2,    147.1,2,    146.7,2,   122.96,2,    35.97,2,     0.02,2,     2.52,2, -999.000,9, -999.000,9, -999.000,1,-999.0000,1,  -999.00,9,   -999.0,1,-999.000,9,   -999.0,9,   -999.0,9,  -999.00,9,21962.8,-999.0000,-999.000,-999.000,  1.8957,-999.000
   318MWESTW_5,  P21W,   198,  1,     14, SI9436,2,19940531,1628,-17.5000,-171.6667, 4950,   2403.1,   1.9651,  34.6534,2,  34.6527,2,    147.2,2,    145.9,2,   126.99,2,    36.09,2,     0.00,2,     2.51,2, -999.000,9, -999.000,9, -999.000,1,-999.0000,1,  -999.00,9,   -999.0,1,-999.000,9,   -999.0,9,   -999.0,9,  -999.00,9,23958.8,-999.0000,-999.000,-999.000,  1.7942,-999.000
   318MWESTW_5,  P21W,   198,  1,     13, SI9413,2,19940531,1628,-17.5000,-171.6667, 4950,   2598.4,   1.8795,  34.6601,2,  34.6602,2,    147.8,2,    147.2,2,   130.21,2,    36.10,2,     0.00,2,     2.53,2, -999.000,9, -999.000,9, -999.000,1,-999.0000,1,  -999.00,9,   -999.0,1,-999.000,9,   -999.0,9,   -999.0,9,  -999.00,9,25899.8,-999.0000,-999.000,-999.000,  1.6925,-999.000
   318MWESTW_5,  P21W,   198,  1,     12, SI9438,2,19940531,1628,-17.5000,-171.6667, 4950,   2794.0,   1.8117,  34.6650,2,  34.6659,2,    149.1,2,    147.5,2,   132.16,2,    36.05,2,     0.00,2,     2.53,2, -999.000,9, -999.000,9, -999.000,1,-999.0000,1,  -999.00,9,   -999.0,1,-999.000,9,   -999.0,9,   -999.0,9,  -999.00,9,27844.3,-999.0000,-999.000,-999.000,  1.6078,-999.000
   318MWESTW_5,  P21W,   198,  1,     11, SI9411,2,19940531,1628,-17.5000,-171.6667, 4950,   2993.7,   1.7333,  34.6709,2,  34.6704,2,    150.6,2,    152.3,2,   134.89,2,    36.01,2,     0.00,2,     2.52,2,   -0.002,2,   -0.001,2, -999.000,1,-999.0000,1,  -999.00,9,   -999.0,1,-999.000,9,   -999.0,9,   -999.0,9,  -999.00,9,29830.1,-999.0000,-999.000,-999.000,  1.5120,-999.000
   318MWESTW_5,  P21W,   198,  1,     10, SI9412,2,19940531,1628,-17.5000,-171.6667, 4950,   3199.5,   1.6383,  34.6782,2,  34.6785,2,    156.0,2,    154.9,2,   134.43,2,    35.64,2,     0.00,2,     2.49,2, -999.000,9, -999.000,9, -999.000,1,-999.0000,1,  -999.00,9,   -999.0,1,-999.000,9,   -999.0,9,   -999.0,9,  -999.00,9,31875.9,-999.0000,-999.000,-999.000,  1.3990,-999.000
   318MWESTW_5,  P21W,   198,  1,      9, SI9410,2,19940531,1628,-17.5000,-171.6667, 4950,   3400.1,   1.5237,  34.6932,2,  34.6922,2,    170.6,2,    169.9,2,   126.59,2,    34.28,2,     0.00,2,     2.39,2, -999.000,9, -999.000,9, -999.000,1,-999.0000,1,  -999.00,9,   -999.0,1,-999.000,9,   -999.0,9,   -999.0,9,  -999.00,9,33869.8,-999.0000,-999.000,-999.000,  1.2670,-999.000
   318MWESTW_5,  P21W,   198,  1,      8, SI9422,2,19940531,1628,-17.5000,-171.6667, 4950,   3597.6,   1.4075,  34.7105,2,  34.7097,2,    187.9,2,    188.8,2,   116.67,2,    32.69,2,     0.00,2,     2.28,2,    0.003,2,    0.001,2, -999.000,1,-999.0000,1,  -999.00,9,   -999.0,1,-999.000,9,   -999.0,9,   -999.0,9,  -999.00,9,35834.2,-999.0000,-999.000,-999.000,  1.1336,-999.000
   318MWESTW_5,  P21W,   198,  1,      7, SI9407,2,19940531,1628,-17.5000,-171.6667, 4950,   3794.4,   1.3042,  34.7174,2,  34.7170,2,    196.6,2,    198.3,2,   112.85,2,    32.00,2,     0.00,2,     2.21,2,    0.003,2,    0.002,2, -999.000,1,-999.0000,1,  -999.00,9,   -999.0,1,-999.000,9,   -999.0,9,   -999.0,9,  -999.00,9,37790.5,-999.0000,-999.000,-999.000,  1.0125,-999.000
   318MWESTW_5,  P21W,   198,  1,      6, SI9427,2,19940531,1628,-17.5000,-171.6667, 4950,   3994.7,   1.1661,  34.7169,2,  34.7166,2,    202.2,2,    204.0,2,   114.79,2,    31.86,2,     0.00,2,     2.20,2,    0.007,2,    0.004,2, -999.000,1,-999.0000,1,  -999.00,9,   -999.0,1,-999.000,9,   -999.0,9,   -999.0,9,  -999.00,9,39781.9,-999.0000,-999.000,-999.000,  0.8570,-999.000
   318MWESTW_5,  P21W,   198,  1,      5, SI9405,2,19940531,1628,-17.5000,-171.6667, 4950,   4240.5,   1.0882,  34.7137,2,  34.7140,2,    204.6,2,    206.0,2,   116.89,2,    31.86,2,     0.00,2,     2.21,2,    0.012,2,    0.006,2, -999.000,1,-999.0000,1,  -999.00,9,   -999.0,1,-999.000,9,   -999.0,9,   -999.0,9,  -999.00,9,42225.0,-999.0000,-999.000,-999.000,  0.7548,-999.000
   318MWESTW_5,  P21W,   198,  1,      4, SI9404,2,19940531,1628,-17.5000,-171.6667, 4950,   4487.8,   1.0527,  34.7119,2,  34.7111,2,    206.8,2,    206.8,2,   118.83,2,    31.96,2,     0.00,2,     2.22,2,    0.014,2,    0.007,2, -999.000,1,-999.0000,1,  -999.00,9,   -999.0,1,-999.000,9,   -999.0,9,   -999.0,9,  -999.00,9,44683.2,-999.0000,-999.000,-999.000,  0.6929,-999.000
   318MWESTW_5,  P21W,   198,  1,      3, SI9403,2,19940531,1628,-17.5000,-171.6667, 4950,   4748.2,   1.0370,  34.7095,2,  34.7091,2,    208.2,2,    207.7,2,   119.65,2,    32.06,2,     0.00,2,     2.22,2,    0.015,2,    0.006,2, -999.000,1,-999.0000,1,  -999.00,9,   -999.0,1,-999.000,9,   -999.0,9,   -999.0,9,  -999.00,9,47272.0,-999.0000,-999.000,-999.000,  0.6479,-999.000
   318MWESTW_5,  P21W,   198,  1,      2, SI9437,2,19940531,1628,-17.5000,-171.6667, 4950,   5002.4,   1.0414,  34.7089,2,  34.7081,2,    208.5,2,    208.1,2,   120.95,2,    32.02,2,     0.00,2,     2.23,2,    0.012,2,    0.005,2, -999.000,1,-999.0000,1,  -999.00,9,   -999.0,1,-999.000,9,   -999.0,9,   -999.0,9,  -999.00,9,49799.9,-999.0000,-999.000,-999.000,  0.6223,-999.000
   318MWESTW_5,  P21W,   198,  1,      1, SI9401,2,19940531,1628,-17.5000,-171.6667, 4950,   5046.6,   1.0445,  34.7086,2,  34.7083,2,    209.1,2,    209.1,2,   120.98,2,    32.13,2,     0.00,2,     2.22,2,    0.009,2,   -0.003,2, -999.000,1,-999.0000,1,  -999.00,9,   -999.0,1,-999.000,9,   -999.0,9,   -999.0,9,  -999.00,9,50239.2,-999.0000,-999.000,-999.000,  0.6200,-999.000