BOTTLE,20010911WHPSIOdm
EXPOCODE,SECT_ID,STNNBR,CASTNO,SAMPNO,BTLNBR,BTLNBR_FLAG_W,DATE,TIME,LATITUDE,LONGITUDE,DEPTH,CTDPRS,CTDTMP,CTDSAL,CTDSAL_FLAG_W,SALNTY,SALNTY_FLAG_W,CTDOXY,CTDOXY_FLAG_W,OXYGEN,OXYGEN_FLAG_W,SILCAT,SILCAT_FLAG_W,NITRAT,NITRAT_FLAG_W,NITRIT,NITRIT_FLAG_W,PHSPHT,PHSPHT_FLAG_W,CFC-11,CFC-11_FLAG_W,CFC-12,CFC-12_FLAG_W,TRITUM,TRITUM_FLAG_W,HELIUM,HELIUM_FLAG_W,DELHE3,DELHE3_FLAG_W,DELC14,DELC14_FLAG_W,NEON,NEON_FLAG_W,TCARBN,TCARBN_FLAG_W,ALKALI,ALKALI_FLAG_W,PH,PH_FLAG_W,CTDRAW,HELIER,DELHER,NEONER,THETA,TRITER
,,,,,,,,,,,,DBAR,ITS-90,PSS-78,,PSS-78,,UMOL/KG,,UMOL/KG,,UMOL/KG,,UMOL/KG,,UMOL/KG,,UMOL/KG,,PMOL/KG,,PMOL/KG,,TU,,UMOL/KG,,PERCNT,,/MILLE,,NMOL/KG,,UMOL/KG,,UMOL/KG,,,,,NMOL/KG,PERCNT,NMOL/KG,ITS-90,TU
   318MWESTW_4,  P21E,    85,  1,     36, SI9336,2,19940422,2257,-16.7528,-106.0028, 3809,      9.2,  25.3517,  36.2578,2,  36.2905,2,    215.8,2,    215.1,2,     0.49,2,     0.10,2,     0.01,2,     0.29,2,    1.828,2,    1.020,2, -999.000,1,-999.0000,1,  -999.00,9,   -999.0,1,-999.000,9,   -999.0,9,   -999.0,9,  -999.00,9,  139.2,-999.0000,-999.000,-999.000, 25.3497,-999.000
   318MWESTW_4,  P21E,    85,  1,     35, SI9335,2,19940422,2257,-16.7528,-106.0028, 3809,     22.9,  25.1208,  36.2996,2,  36.3113,2,    213.5,2,    214.7,2,     0.52,2,     0.05,2,     0.01,2,     0.30,2,    1.871,2,    1.039,2,    0.684,2,   1.6976,2,    -1.08,2,   -999.0,1,   6.729,2,   -999.0,9,   -999.0,9,  -999.00,9,  275.7,  0.0085,   0.080,   0.034, 25.1158,   0.007
   318MWESTW_4,  P21E,    85,  1,     34, SI9334,2,19940422,2257,-16.7528,-106.0028, 3809,     48.4,  24.6136,  36.3871,2,  36.3901,2,    217.7,2,    217.8,2,     0.55,2,     0.05,2,     0.01,2,     0.30,2,    1.929,2,    1.082,2,    0.624,2,   1.6991,2,    -1.19,2,   -999.0,1,   6.749,2,   -999.0,9,   -999.0,9,  -999.00,9,  530.5,  0.0085,   0.080,   0.034, 24.6032,   0.007
   318MWESTW_4,  P21E,    85,  1,     33, SI9333,2,19940422,2257,-16.7528,-106.0028, 3809,     99.9,  22.6579,  36.2820,2,  36.2634,2,    225.8,2,    224.9,2,     0.41,2,     0.05,2,     0.01,2,     0.31,2,    2.077,2,    1.122,2,    0.621,2,   1.7073,2,    -1.15,2,   -999.0,1,   6.857,2,   -999.0,9,   -999.0,9,  -999.00,9, 1045.5,  0.0085,   0.080,   0.034, 22.6376,   0.007
   318MWESTW_4,  P21E,    85,  1,     32, SI9332,2,19940422,2257,-16.7528,-106.0028, 3809,    150.5,  21.4626,  36.0496,2,  36.0627,2,    222.2,2,    210.0,2,     0.61,2,     0.17,2,     0.21,2,     0.37,2,    2.136,2,    1.145,2,    0.594,2,   1.7171,2,    -1.44,2,   -999.0,1,   6.908,2,   -999.0,9,   -999.0,9,  -999.00,9, 1551.0,  0.0086,   0.080,   0.035, 21.4332,   0.007
   318MWESTW_4,  P21E,    85,  1,     31, SI9331,2,19940422,2257,-16.7528,-106.0028, 3809,    200.6,  19.4823,  35.6218,2,  35.6699,2,    200.2,2,    193.4,2,     0.95,2,     3.80,2,     0.04,2,     0.62,2,    2.224,2,    1.193,2,    0.536,2,   1.7277,2,    -1.02,2,   -999.0,1,   7.020,2,   -999.0,9,   -999.0,9,  -999.00,9, 2052.0,  0.0086,   0.080,   0.035, 19.4457,   0.007
   318MWESTW_4,  P21E,    85,  1,     30, SI9330,2,19940422,2257,-16.7528,-106.0028, 3809,    251.1,  15.6633,  35.0301,2,  35.0325,2,    160.7,2,    154.7,2,     3.85,2,    10.77,2,     0.01,2,     1.11,2,    2.016,2,    1.038,2,    0.422,2,   1.7444,2,     0.13,2,   -999.0,1,   7.213,2,   -999.0,9,   -999.0,9,  -999.00,9, 2556.4,  0.0087,   0.080,   0.036, 15.6241,   0.006
   318MWESTW_4,  P21E,    85,  1,     29, SI9329,2,19940422,2257,-16.7528,-106.0028, 3809,    300.1,  11.7516,  34.6516,2,  34.6113,2,    115.7,2,     98.6,2,    11.71,2,    19.81,2,     0.01,2,     1.86,2,    1.071,2,    0.526,2, -999.000,1,   1.7614,2,     1.77,2,   -999.0,1,   7.405,2,   -999.0,9,   -999.0,9,  -999.00,9, 3046.2,  0.0088,   0.080,   0.037, 11.7130,-999.000
   318MWESTW_4,  P21E,    85,  1,     28, SI9328,2,19940422,2257,-16.7528,-106.0028, 3809,    400.2,   8.9536,  34.5604,2,  34.5578,2,     46.8,2,     42.8,2,    23.89,2,    33.79,2,     0.01,2,     2.59,2,    0.115,2,    0.058,2,    0.042,2,   1.7802,2,     2.76,2,   -999.0,1,   7.566,2,   -999.0,9,   -999.0,9,  -999.00,9, 4046.4,  0.0089,   0.080,   0.038,  8.9100,   0.004
   318MWESTW_4,  P21E,    85,  1,     27, SI9327,2,19940422,2257,-16.7528,-106.0028, 3809,    500.3,   7.1815,  34.5113,2,  34.5076,2,     68.3,2,     69.1,2,    30.31,2,    37.31,2,     0.01,2,     2.62,2,    0.020,2,    0.014,2,    0.012,2,   1.7888,2,     4.03,2,   -999.0,1,   7.648,2,   -999.0,9,   -999.0,9,  -999.00,9, 5045.9,  0.0089,   0.090,   0.038,  7.1333,   0.003
   318MWESTW_4,  P21E,    85,  1,     26, SI9326,2,19940422,2257,-16.7528,-106.0028, 3809,    600.4,   6.2966,  34.4958,2,  34.4942,2,     78.4,2,     73.5,2,    38.33,2,    39.04,2,     0.01,2,     2.72,2,    0.003,2,    0.003,2,   -0.002,2,   1.8004,2,     6.46,2,   -999.0,1,   7.716,2,   -999.0,9,   -999.0,9,  -999.00,9, 6045.4,  0.0090,   0.090,   0.039,  6.2424,   0.003
   318MWESTW_4,  P21E,    85,  1,     25, SI9325,2,19940422,2257,-16.7528,-106.0028, 3809,    701.6,   5.7319,  34.4941,2,  34.4919,2,     71.1,2,     69.4,2,    46.50,2,    40.73,2,     0.00,2,     2.83,2,    0.000,2,    0.002,2,    0.002,2,   1.8291,2,     8.38,2,   -999.0,1,   7.817,2,   -999.0,9,   -999.0,9,  -999.00,9, 7056.5,  0.0091,   0.090,   0.039,  5.6710,   0.004
   318MWESTW_4,  P21E,    85,  1,     24, SI9324,2,19940422,2257,-16.7528,-106.0028, 3809,    801.4,   5.2383,  34.5027,2,  34.5048,2,     66.4,2,     64.6,2,    57.40,2,    42.09,2,     0.00,2,     2.94,2,   -0.003,2,    0.000,2,    0.006,2,   1.8340,2,    11.30,2,   -999.0,1,   7.836,2,   -999.0,9,   -999.0,9,  -999.00,9, 8053.0,  0.0092,   0.090,   0.039,  5.1712,   0.003
   318MWESTW_4,  P21E,    85,  1,     23, SI9323,3,19940422,2257,-16.7528,-106.0028, 3809,    904.0,   4.7374,  34.5100,2,  34.5135,2,     67.7,2,     67.3,2,    66.85,2,    42.31,2,     0.00,2,     2.96,2,    0.000,2,    0.001,2, -999.000,1,-999.0000,1,  -999.00,9,   -999.0,1,-999.000,9,   -999.0,9,   -999.0,9,  -999.00,9, 9077.9,-999.0000,-999.000,-999.000,  4.6645,-999.000
   318MWESTW_4,  P21E,    85,  1,     22, SI9322,2,19940422,2257,-16.7528,-106.0028, 3809,   1002.8,   4.3588,  34.5235,2,  34.5248,2,     69.0,2,     69.7,2,    75.50,2,    42.26,2,     0.00,2,     2.98,2,   -0.002,2,   -0.001,2,    0.001,2,   1.8480,2,    15.67,2,   -999.0,1,   7.871,2,   -999.0,9,   -999.0,9,  -999.00,9,10064.9,  0.0092,   0.090,   0.039,  4.2801,   0.003
   318MWESTW_4,  P21E,    85,  1,     21, SI9321,2,19940422,2257,-16.7528,-106.0028, 3809,   1102.1,   3.9937,  34.5380,2,  34.5388,2,     75.8,2,     75.2,2,    84.16,2,    41.88,2,     0.00,2,     2.97,2, -999.000,9, -999.000,9, -999.000,1,-999.0000,1,  -999.00,9,   -999.0,1,-999.000,9,   -999.0,9,   -999.0,9,  -999.00,9,11057.2,-999.0000,-999.000,-999.000,  3.9095,-999.000
   318MWESTW_4,  P21E,    85,  1,     20, SI9320,2,19940422,2257,-16.7528,-106.0028, 3809,   1202.0,   3.7085,  34.5502,2,  34.5506,2,     81.7,2,     80.9,2,    90.25,2,    41.40,2,    -0.01,2,     2.93,2, -999.000,9, -999.000,9, -999.000,1,-999.0000,1,  -999.00,9,   -999.0,1,-999.000,9,   -999.0,9,   -999.0,9,  -999.00,9,12054.8,-999.0000,-999.000,-999.000,  3.6183,-999.000
   318MWESTW_4,  P21E,    85,  1,     19, SI9319,2,19940422,2257,-16.7528,-106.0028, 3809,   1300.1,   3.4376,  34.5649,2,  34.5647,2,     86.3,2,     85.9,2,    97.15,2,    40.95,2,     0.01,2,     2.91,2, -999.000,9, -999.000,9,    0.002,2,   1.8779,2,    20.75,2,   -999.0,1,   7.959,2,   -999.0,9,   -999.0,9,  -999.00,9,13035.0,  0.0094,   0.100,   0.040,  3.3418,   0.003
   318MWESTW_4,  P21E,    85,  1,     18, SI9318,2,19940422,2257,-16.7528,-106.0028, 3809,   1401.4,   3.2100,  34.5779,2,  34.5775,2,     90.6,2,     91.4,2,   102.45,2,    40.52,2,     0.01,2,     2.87,2, -999.000,9, -999.000,9, -999.000,1,-999.0000,1,  -999.00,9,   -999.0,1,-999.000,9,   -999.0,9,   -999.0,9,  -999.00,9,14046.9,-999.0000,-999.000,-999.000,  3.1080,-999.000
   318MWESTW_4,  P21E,    85,  1,     17, SI9317,2,19940422,2257,-16.7528,-106.0028, 3809,   1500.8,   2.9631,  34.5904,2,  34.5904,2,     96.1,2,     97.3,2,   108.55,2,    40.10,2,     0.00,2,     2.84,2, -999.000,9, -999.000,9, -999.000,1,-999.0000,1,  -999.00,9,   -999.0,1,-999.000,9,   -999.0,9,   -999.0,9,  -999.00,9,15039.5,-999.0000,-999.000,-999.000,  2.8556,-999.000
   318MWESTW_4,  P21E,    85,  1,     16, SI9316,2,19940422,2257,-16.7528,-106.0028, 3809,   1601.6,   2.7617,  34.6031,2,  34.6036,2,    102.3,2,    101.9,2,   113.52,2,    39.67,2,     0.00,2,     2.82,2, -999.000,9, -999.000,9,    0.008,2,   1.9027,2,    24.78,2,   -999.0,1,   8.049,2,   -999.0,9,   -999.0,9,  -999.00,9,16046.4,  0.0095,   0.100,   0.040,  2.6482,   0.004
   318MWESTW_4,  P21E,    85,  1,     15, SI9315,2,19940422,2257,-16.7528,-106.0028, 3809,   1751.0,   2.5275,  34.6183,2,  34.6250,4,    110.3,2,    111.0,2,   118.34,2,    38.90,2,     0.00,2,     2.74,2, -999.000,9, -999.000,9, -999.000,1,-999.0000,1,  -999.00,9,   -999.0,1,-999.000,9,   -999.0,9,   -999.0,9,  -999.00,9,17539.1,-999.0000,-999.000,-999.000,  2.4044,-999.000
   318MWESTW_4,  P21E,    85,  1,     14, SI9314,2,19940422,2257,-16.7528,-106.0028, 3809,   1901.0,   2.3278,  34.6318,2,  34.6315,2,    121.1,2,    121.2,2,   120.60,2,    38.15,2,     0.00,2,     2.68,2, -999.000,9, -999.000,9, -999.000,1,-999.0000,1,  -999.00,9,   -999.0,1,-999.000,9,   -999.0,9,   -999.0,9,  -999.00,9,19037.9,-999.0000,-999.000,-999.000,  2.1948,-999.000
   318MWESTW_4,  P21E,    85,  1,     13, SI9313,2,19940422,2257,-16.7528,-106.0028, 3809,   2000.8,   2.1700,  34.6412,2,  34.6466,4,    131.0,2,    130.5,2,   121.42,2,    37.34,2,     0.00,2,     2.60,2, -999.000,9, -999.000,9, -999.000,1,-999.0000,1,  -999.00,9,   -999.0,1,-999.000,9,   -999.0,9,   -999.0,9,  -999.00,9,20034.9,-999.0000,-999.000,-999.000,  2.0309,-999.000
   318MWESTW_4,  P21E,    85,  1,     12, SI9312,2,19940422,2257,-16.7528,-106.0028, 3809,   2199.7,   1.9823,  34.6572,2,  34.6563,2,    142.9,2,    142.7,2,   123.04,2,    36.37,2,    -0.01,2,     2.51,2, -999.000,9, -999.000,9, -999.000,1,-999.0000,1,  -999.00,9,   -999.0,1,-999.000,9,   -999.0,9,   -999.0,9,  -999.00,9,22022.1,-999.0000,-999.000,-999.000,  1.8290,-999.000
   318MWESTW_4,  P21E,    85,  1,     11, SI9311,2,19940422,2257,-16.7528,-106.0028, 3809,   2353.7,   1.8974,  34.6645,2,  34.6643,2,    146.9,2,    148.8,2,   124.98,2,    36.09,2,     0.00,2,     2.49,2, -999.000,9, -999.000,9, -999.000,1,-999.0000,1,  -999.00,9,   -999.0,1,-999.000,9,   -999.0,9,   -999.0,9,  -999.00,9,23561.0,-999.0000,-999.000,-999.000,  1.7321,-999.000
   318MWESTW_4,  P21E,    85,  1,     10, SI9310,2,19940422,2257,-16.7528,-106.0028, 3809,   2502.1,   1.8497,  34.6707,2,  34.6708,2,    149.1,2,    147.8,2,   127.24,2,    35.99,2,    -0.01,2,     2.48,2, -999.000,9, -999.000,9, -999.000,1,-999.0000,1,  -999.00,9,   -999.0,1,-999.000,9,   -999.0,9,   -999.0,9,  -999.00,9,25043.3,-999.0000,-999.000,-999.000,  1.6720,-999.000
   318MWESTW_4,  P21E,    85,  1,      9, SI9309,2,19940422,2257,-16.7528,-106.0028, 3809,   2652.2,   1.8279,  34.6737,2,  34.6850,4,    147.1,2,    146.9,2,   129.67,2,    36.10,2,     0.00,2,     2.52,2, -999.000,9, -999.000,9, -999.000,1,-999.0000,1,  -999.00,9,   -999.0,1,-999.000,9,   -999.0,9,   -999.0,9,  -999.00,9,26543.8,-999.0000,-999.000,-999.000,  1.6369,-999.000
   318MWESTW_4,  P21E,    85,  1,      8, SI9308,2,19940422,2257,-16.7528,-106.0028, 3809,   2800.4,   1.8130,  34.6763,2,  34.6765,2,    146.6,2,    145.5,2,   132.25,2,    36.20,2,     0.00,2,     2.52,2, -999.000,9, -999.000,9, -999.000,1,-999.0000,1,  -999.00,9,   -999.0,1,-999.000,9,   -999.0,9,   -999.0,9,  -999.00,9,28024.3,-999.0000,-999.000,-999.000,  1.6084,-999.000
   318MWESTW_4,  P21E,    85,  1,      7, SI9307,2,19940422,2257,-16.7528,-106.0028, 3809,   2950.2,   1.8123,  34.6781,2,  34.6771,2,    145.3,2,    144.5,2,   134.02,2,    36.32,2,    -0.01,2,     2.53,2, -999.000,9, -999.000,9, -999.000,1,-999.0000,1,  -999.00,9,   -999.0,1,-999.000,9,   -999.0,9,   -999.0,9,  -999.00,9,29521.6,-999.0000,-999.000,-999.000,  1.5934,-999.000
   318MWESTW_4,  P21E,    85,  1,      6, SI9306,2,19940422,2257,-16.7528,-106.0028, 3809,   3097.9,   1.8098,  34.6786,2,  34.6769,2,    143.7,2,    142.8,2,   136.13,2,    36.42,2,     0.00,2,     2.54,2, -999.000,9, -999.000,9, -999.000,1,-999.0000,1,  -999.00,9,   -999.0,1,-999.000,9,   -999.0,9,   -999.0,9,  -999.00,9,30997.0,-999.0000,-999.000,-999.000,  1.5766,-999.000
   318MWESTW_4,  P21E,    85,  1,      5, SI9305,2,19940422,2257,-16.7528,-106.0028, 3809,   3347.2,   1.8066,  34.6791,2,  34.6773,2,    138.2,2,    139.6,2,   141.26,2,    36.80,2,     0.00,2,     2.57,2, -999.000,9, -999.000,9, -999.000,1,-999.0000,1,  -999.00,9,   -999.0,1,-999.000,9,   -999.0,9,   -999.0,9,  -999.00,9,33488.4,-999.0000,-999.000,-999.000,  1.5485,-999.000
   318MWESTW_4,  P21E,    85,  1,      4, SI9304,2,19940422,2257,-16.7528,-106.0028, 3809,   3553.2,   1.8257,  34.6788,2,  34.6773,2,    139.0,2,    139.0,2,   142.24,2,    36.87,2,    -0.01,2,     2.57,2, -999.000,9, -999.000,9, -999.000,1,-999.0000,1,  -999.00,9,   -999.0,1,-999.000,9,   -999.0,9,   -999.0,9,  -999.00,9,35547.5,-999.0000,-999.000,-999.000,  1.5458,-999.000
   318MWESTW_4,  P21E,    85,  1,      3, SI9303,2,19940422,2257,-16.7528,-106.0028, 3809,   3648.7,   1.8264,  34.6791,2,  34.6767,2,    138.9,2,    137.9,2,   143.38,2,    36.98,2,    -0.01,2,     2.57,2, -999.000,9, -999.000,9, -999.000,1,-999.0000,1,  -999.00,9,   -999.0,1,-999.000,9,   -999.0,9,   -999.0,9,  -999.00,9,36501.6,-999.0000,-999.000,-999.000,  1.5364,-999.000
   318MWESTW_4,  P21E,    85,  1,      2, SI9302,2,19940422,2257,-16.7528,-106.0028, 3809,   3804.4,   1.8428,  34.6790,2,  34.6781,2,    138.5,2,    137.9,2,   143.73,2,    36.98,2,    -0.01,2,     2.58,2, -999.000,9, -999.000,9, -999.000,1,-999.0000,1,  -999.00,9,   -999.0,1,-999.000,9,   -999.0,9,   -999.0,9,  -999.00,9,38058.5,-999.0000,-999.000,-999.000,  1.5357,-999.000
   318MWESTW_4,  P21E,    85,  1,      1, SI9301,2,19940422,2257,-16.7528,-106.0028, 3809,   3845.1,   1.8474,  34.6792,2,  34.6773,2,    137.6,2,    138.4,2,   143.40,2,    36.98,2,     0.00,2,     2.58,2, -999.000,9, -999.000,9, -999.000,1,-999.0000,1,  -999.00,9,   -999.0,1,-999.000,9,   -999.0,9,   -999.0,9,  -999.00,9,38464.9,-999.0000,-999.000,-999.000,  1.5358,-999.000