BOTTLE,20010911WHPSIOdm
EXPOCODE,SECT_ID,STNNBR,CASTNO,SAMPNO,BTLNBR,BTLNBR_FLAG_W,DATE,TIME,LATITUDE,LONGITUDE,DEPTH,CTDPRS,CTDTMP,CTDSAL,CTDSAL_FLAG_W,SALNTY,SALNTY_FLAG_W,CTDOXY,CTDOXY_FLAG_W,OXYGEN,OXYGEN_FLAG_W,SILCAT,SILCAT_FLAG_W,NITRAT,NITRAT_FLAG_W,NITRIT,NITRIT_FLAG_W,PHSPHT,PHSPHT_FLAG_W,CFC-11,CFC-11_FLAG_W,CFC-12,CFC-12_FLAG_W,TRITUM,TRITUM_FLAG_W,HELIUM,HELIUM_FLAG_W,DELHE3,DELHE3_FLAG_W,DELC14,DELC14_FLAG_W,NEON,NEON_FLAG_W,TCARBN,TCARBN_FLAG_W,ALKALI,ALKALI_FLAG_W,PH,PH_FLAG_W,CTDRAW,HELIER,DELHER,NEONER,THETA,TRITER
,,,,,,,,,,,,DBAR,ITS-90,PSS-78,,PSS-78,,UMOL/KG,,UMOL/KG,,UMOL/KG,,UMOL/KG,,UMOL/KG,,UMOL/KG,,PMOL/KG,,PMOL/KG,,TU,,UMOL/KG,,PERCNT,,/MILLE,,NMOL/KG,,UMOL/KG,,UMOL/KG,,,,,NMOL/KG,PERCNT,NMOL/KG,ITS-90,TU
   318MWESTW_5,  P21W,   251,  1,     26, SI9414,2,19940612,2254,-19.5833, 165.2472, 2424,      6.1,  24.5579,  35.1503,2,  35.1492,2,    215.2,2,    216.4,2,     0.51,2,     0.00,2,     0.00,2,     0.07,2,    1.818,2,    1.028,2, -999.000,1,-999.0000,1,  -999.00,9,   -999.0,1,-999.000,9,   -999.0,9,   2298.4,2,     8.12,2,  120.3,-999.0000,-999.000,-999.000, 24.5566,-999.000
   318MWESTW_5,  P21W,   251,  1,     25, SI9425,2,19940612,2254,-19.5833, 165.2472, 2424,     21.5,  24.5575,  35.1559,2,  35.1565,2,    205.2,2,    210.4,2,     0.52,2,     0.00,2,     0.00,2,     0.06,2, -999.000,9, -999.000,9, -999.000,1,-999.0000,1,  -999.00,9,   -999.0,1,-999.000,9,   -999.0,9,   2306.4,2,     8.11,2,  274.1,-999.0000,-999.000,-999.000, 24.5529,-999.000
   318MWESTW_5,  P21W,   251,  1,     24, SI9434,2,19940612,2254,-19.5833, 165.2472, 2424,     46.7,  24.3638,  35.2054,2,  35.2113,2,    203.9,2,    208.1,2,     0.39,2,     0.00,2,     0.00,2,     0.07,2,    1.851,2,    1.017,2, -999.000,1,-999.0000,1,  -999.00,9,   -999.0,1,-999.000,9,   -999.0,9,   2305.3,2,     8.11,2,  525.0,-999.0000,-999.000,-999.000, 24.3539,-999.000
   318MWESTW_5,  P21W,   251,  1,     23, SI9423,2,19940612,2254,-19.5833, 165.2472, 2424,     97.6,  22.7351,  35.6738,2,  35.6798,2,    189.0,2,    186.6,2,     0.67,2,     2.02,2,     0.06,2,     0.29,2,    1.930,2,    1.050,2, -999.000,1,-999.0000,1,  -999.00,9,   -999.0,1,-999.000,9,   -999.0,9,   2335.7,2,     8.03,2, 1031.8,-999.0000,-999.000,-999.000, 22.7153,-999.000
   318MWESTW_5,  P21W,   251,  1,     22, SI9418,2,19940612,2254,-19.5833, 165.2472, 2424,    148.3,  21.0965,  35.7716,2,  35.7679,2,    174.8,2,    176.0,2,     0.96,2,     3.93,2,     0.01,2,     0.40,2,    1.948,2,    1.024,2, -999.000,1,-999.0000,1,  -999.00,9,   -999.0,1,-999.000,9,   -999.0,9,   2343.9,2,     7.99,2, 1536.4,-999.0000,-999.000,-999.000, 21.0679,-999.000
   318MWESTW_5,  P21W,   251,  1,     21, SI9421,2,19940612,2254,-19.5833, 165.2472, 2424,    199.1,  19.4890,  35.6735,2,  35.6688,2,    175.4,2,    174.9,2,     1.24,2,     5.01,2,     0.01,2,     0.47,2,    1.932,2,    1.002,2, -999.000,1,-999.0000,1,  -999.00,9,   -999.0,1,-999.000,9,   -999.0,9,   2334.6,2,     7.97,2, 2041.9,-999.0000,-999.000,-999.000, 19.4527,-999.000
   318MWESTW_5,  P21W,   251,  1,     20, SI9420,2,19940612,2254,-19.5833, 165.2472, 2424,    249.9,  18.0964,  35.5746,2,  35.5667,2,    176.9,2,    178.9,2,     1.67,2,     5.98,2,     0.00,2,     0.54,2,    1.917,2,    0.996,2, -999.000,1,-999.0000,1,  -999.00,9,   -999.0,1,-999.000,9,   -999.0,9,   2331.1,2,     7.94,2, 2548.5,-999.0000,-999.000,-999.000, 18.0531,-999.000
   318MWESTW_5,  P21W,   251,  1,     19, SI9419,2,19940612,2254,-19.5833, 165.2472, 2424,    300.6,  16.8669,  35.4670,2,  35.4622,2,    176.0,2,    179.6,2,     2.09,2,     7.24,2,     0.01,2,     0.63,2,    1.855,2,    0.948,2, -999.000,1,-999.0000,1,  -999.00,9,   -999.0,1,-999.000,9,   -999.0,9,   2321.1,2,     7.91,2, 3052.9,-999.0000,-999.000,-999.000, 16.8173,-999.000
   318MWESTW_5,  P21W,   251,  1,     18, SI9439,2,19940612,2254,-19.5833, 165.2472, 2424,    344.1,  15.4297,  35.3030,2,  35.2974,2,    180.0,2,    175.4,2,     3.20,2,     9.72,2,     0.01,2,     0.79,2,    1.636,2,    0.818,2, -999.000,1,-999.0000,1,  -999.00,9,   -999.0,1,-999.000,9,   -999.0,9,   2317.7,2,     7.87,2, 3485.7,-999.0000,-999.000,-999.000, 15.3762,-999.000
   318MWESTW_5,  P21W,   251,  1,     17, SI9417,2,19940612,2254,-19.5833, 165.2472, 2424,    396.7,  13.2553,  35.0770,2,  35.0653,2,    179.4,2,    177.2,2,     4.88,2,    13.21,2,     0.01,2,     1.02,2,    1.357,2,    0.691,2, -999.000,1,-999.0000,1,  -999.00,9,   -999.0,1,-999.000,9,   -999.0,9,   2305.5,2,     7.82,2, 4008.7,-999.0000,-999.000,-999.000, 13.1996,-999.000
   318MWESTW_5,  P21W,   251,  1,     16, SI9416,2,19940612,2254,-19.5833, 165.2472, 2424,    448.1,  11.8988,  34.9358,2,  34.9240,2,    181.9,2,    181.5,2,     5.85,2,    15.52,2,     0.01,2,     1.15,2, -999.000,9, -999.000,9, -999.000,1,-999.0000,1,  -999.00,9,   -999.0,1,-999.000,9,   -999.0,9,   2302.8,2,     7.79,2, 4520.6,-999.0000,-999.000,-999.000, 11.8401,-999.000
   318MWESTW_5,  P21W,   251,  1,     15, SI9415,2,19940612,2254,-19.5833, 165.2472, 2424,    498.2,  10.4924,  34.7839,2,  34.7740,2,    183.7,2,    185.6,2,     7.38,2,    18.19,2,     0.01,2,     1.31,2,    1.013,2,    0.515,2, -999.000,1,-999.0000,1,  -999.00,9,   -999.0,1,-999.000,9,   -999.0,9,   2293.9,2,     7.75,2, 5018.6,-999.0000,-999.000,-999.000, 10.4321,-999.000
   318MWESTW_5,  P21W,   251,  1,     14, SI9436,2,19940612,2254,-19.5833, 165.2472, 2424,    600.5,   7.8339,  34.5209,2,  34.5123,2,    188.1,2,    191.6,2,    13.75,2,    23.85,2,     0.01,2,     1.68,2,    0.510,2,    0.251,2, -999.000,1,-999.0000,1,  -999.00,9,   -999.0,1,-999.000,9,   -999.0,9,   2290.6,2,     7.69,2, 6036.5,-999.0000,-999.000,-999.000,  7.7727,-999.000
   318MWESTW_5,  P21W,   251,  1,     13, SI9413,2,19940612,2254,-19.5833, 165.2472, 2424,    697.7,   6.5027,  34.4457,2,  34.4383,2,    185.8,2,    189.5,2,    21.93,2,    27.11,2,     0.01,2,     1.89,2,    0.273,2,    0.141,2, -999.000,1,-999.0000,1,  -999.00,9,   -999.0,1,-999.000,9,   -999.0,9,   2292.6,2,     7.65,2, 7002.2,-999.0000,-999.000,-999.000,  6.4382,-999.000
   318MWESTW_5,  P21W,   251,  1,     12, SI9438,2,19940612,2254,-19.5833, 165.2472, 2424,    800.6,   5.5826,  34.4206,2,  34.4190,2,    180.4,2,    181.3,2,    31.76,2,    29.60,2,     0.01,2,     2.06,2,    0.118,2,    0.069,2, -999.000,1,-999.0000,1,  -999.00,9,   -999.0,1,-999.000,9,   -999.0,9,   2299.3,2,     7.62,2, 8025.4,-999.0000,-999.000,-999.000,  5.5136,-999.000
   318MWESTW_5,  P21W,   251,  1,     11, SI9411,2,19940612,2254,-19.5833, 165.2472, 2424,    897.7,   4.9961,  34.4414,2,  34.4375,2,    172.8,2,    174.8,2,    42.56,2,    31.01,2,     0.01,2,     2.16,2,    0.072,2,    0.038,2, -999.000,1,-999.0000,1,  -999.00,9,   -999.0,1,-999.000,9,   -999.0,9,   2314.4,2,     7.60,2, 8990.9,-999.0000,-999.000,-999.000,  4.9221,-999.000
   318MWESTW_5,  P21W,   251,  1,     10, SI9412,2,19940612,2254,-19.5833, 165.2472, 2424,    999.7,   4.5026,  34.4573,2,  34.4577,2,    167.3,2,    168.0,2,    52.54,2,    32.23,2,     0.01,2,     2.25,2,    0.036,2,    0.020,2, -999.000,1,-999.0000,1,  -999.00,9,   -999.0,1,-999.000,9,   -999.0,9,   2323.7,2,     7.59,2,10005.1,-999.0000,-999.000,-999.000,  4.4232,-999.000
   318MWESTW_5,  P21W,   251,  1,      9, SI9410,2,19940612,2254,-19.5833, 165.2472, 2424,   1097.4,   4.0131,  34.4948,2,  34.4936,2,    159.9,2,    161.4,2,    65.28,2,    33.29,2,     0.00,2,     2.34,2,    0.015,2,    0.008,2, -999.000,1,-999.0000,1,  -999.00,9,   -999.0,1,-999.000,9,   -999.0,9,   2338.5,2,     7.58,2,10976.7,-999.0000,-999.000,-999.000,  3.9292,-999.000
   318MWESTW_5,  P21W,   251,  1,      8, SI9422,2,19940612,2254,-19.5833, 165.2472, 2424,   1199.5,   3.6423,  34.5165,2,  34.5164,2,    158.1,2,    164.3,2,    73.87,2,    33.68,2,     0.02,2,     2.37,2,    0.010,6,    0.006,6, -999.000,1,-999.0000,1,  -999.00,9,   -999.0,1,-999.000,9,   -999.0,9,   2343.7,2,     7.57,2,11991.3,-999.0000,-999.000,-999.000,  3.5530,-999.000
   318MWESTW_5,  P21W,   251,  1,      7, SI9407,2,19940612,2254,-19.5833, 165.2472, 2424,   1399.3,   3.0087,  34.5736,2,  34.5730,2,    153.4,2,    154.1,2,    91.74,2,    34.41,2,     0.01,2,     2.42,2,    0.004,2,    0.001,2, -999.000,1,-999.0000,1,  -999.00,9,   -999.0,1,-999.000,9,   -999.0,9,   2362.6,2,     7.56,2,13978.3,-999.0000,-999.000,-999.000,  2.9091,-999.000
   318MWESTW_5,  P21W,   251,  1,      6, SI9427,2,19940612,2254,-19.5833, 165.2472, 2424,   1593.9,   2.7780,  34.5984,2,  34.5965,2,    150.6,2,    157.5,4,    98.53,2,    34.73,2,     0.01,2,     2.43,2,    0.000,2,    0.000,2, -999.000,1,-999.0000,1,  -999.00,9,   -999.0,1,-999.000,9,   -999.0,9,   2375.1,2,     7.56,2,15912.4,-999.0000,-999.000,-999.000,  2.6649,-999.000
   318MWESTW_5,  P21W,   251,  1,      5, SI9405,2,19940612,2254,-19.5833, 165.2472, 2424,   1801.2,   2.4957,  34.6248,2,  34.6229,2,    150.6,2,    156.7,4,   105.73,2,    34.96,2,     0.01,2,     2.44,2,    0.000,2,   -0.001,2, -999.000,1,-999.0000,1,  -999.00,9,   -999.0,1,-999.000,9,   -999.0,9,   2378.9,2,     7.56,2,17973.0,-999.0000,-999.000,-999.000,  2.3688,-999.000
   318MWESTW_5,  P21W,   251,  1,      4, SI9404,2,19940612,2254,-19.5833, 165.2472, 2424,   1995.4,   2.3512,  34.6379,2,  34.6372,2,    150.8,2,    150.8,2,   109.21,2,    35.02,2,     0.00,2,     2.44,2,   -0.002,2,   -0.001,2, -999.000,1,-999.0000,1,  -999.00,9,   -999.0,1,-999.000,9,   -999.0,9,   2383.9,2,     7.56,2,19903.6,-999.0000,-999.000,-999.000,  2.2098,-999.000
   318MWESTW_5,  P21W,   251,  1,      3, SI9403,2,19940612,2254,-19.5833, 165.2472, 2424,   2192.0,   2.2163,  34.6503,2,  34.6502,2,    149.3,2,    152.8,2,   111.99,2,    34.98,2,     0.00,2,     2.44,2, -999.000,9, -999.000,9, -999.000,1,-999.0000,1,  -999.00,9,   -999.0,1,-999.000,9,   -999.0,9,   2390.8,2,     7.56,2,21858.4,-999.0000,-999.000,-999.000,  2.0599,-999.000
   318MWESTW_5,  P21W,   251,  1,      2, SI9437,2,19940612,2254,-19.5833, 165.2472, 2424,   2371.6,   2.0392,  34.6671,2,  34.6657,2,    151.5,2,    162.4,4,   115.46,2,    34.84,2,     0.01,2,     2.42,2, -999.000,9, -999.000,9, -999.000,1,-999.0000,1,  -999.00,9,   -999.0,1,-999.000,9,   -999.0,9,   2394.5,2,     7.56,2,23643.5,-999.0000,-999.000,-999.000,  1.8698,-999.000
   318MWESTW_5,  P21W,   251,  1,      1, SI9401,2,19940612,2254,-19.5833, 165.2472, 2424,   2413.2,   2.0311,  34.6676,2,  34.6651,2,    152.0,2,    173.7,4,   115.62,2,    34.86,2,     0.01,2,     2.43,2,   -0.001,2,   -0.001,2, -999.000,1,-999.0000,1,  -999.00,9,   -999.0,1,-999.000,9,   -999.0,9,   2391.0,2,     7.57,2,24057.2,-999.0000,-999.000,-999.000,  1.8581,-999.000