BOTTLE,20010911WHPSIOdm
EXPOCODE,SECT_ID,STNNBR,CASTNO,SAMPNO,BTLNBR,BTLNBR_FLAG_W,DATE,TIME,LATITUDE,LONGITUDE,DEPTH,CTDPRS,CTDTMP,CTDSAL,CTDSAL_FLAG_W,SALNTY,SALNTY_FLAG_W,CTDOXY,CTDOXY_FLAG_W,OXYGEN,OXYGEN_FLAG_W,SILCAT,SILCAT_FLAG_W,NITRAT,NITRAT_FLAG_W,NITRIT,NITRIT_FLAG_W,PHSPHT,PHSPHT_FLAG_W,CFC-11,CFC-11_FLAG_W,CFC-12,CFC-12_FLAG_W,TRITUM,TRITUM_FLAG_W,HELIUM,HELIUM_FLAG_W,DELHE3,DELHE3_FLAG_W,DELC14,DELC14_FLAG_W,NEON,NEON_FLAG_W,TCARBN,TCARBN_FLAG_W,ALKALI,ALKALI_FLAG_W,PH,PH_FLAG_W,CTDRAW,HELIER,DELHER,NEONER,THETA,TRITER
,,,,,,,,,,,,DBAR,ITS-90,PSS-78,,PSS-78,,UMOL/KG,,UMOL/KG,,UMOL/KG,,UMOL/KG,,UMOL/KG,,UMOL/KG,,PMOL/KG,,PMOL/KG,,TU,,UMOL/KG,,PERCNT,,/MILLE,,NMOL/KG,,UMOL/KG,,UMOL/KG,,,,,NMOL/KG,PERCNT,NMOL/KG,ITS-90,TU
   318MWESTW_4,  P21E,    42,  1,     36, SI9336,2,19940409,1223,-16.7500, -82.3362, 4562,      8.5,  23.6442,  35.6711,2,  35.6731,2,    214.8,2,    214.8,2,     0.15,2,     0.16,2,     0.02,2,     0.47,2,    1.918,2,    1.041,2, -999.000,1,-999.0000,1,  -999.00,9,   -999.0,1,-999.000,9,   -999.0,9,   -999.0,9,  -999.00,9,  135.0,-999.0000,-999.000,-999.000, 23.6424,-999.000
   318MWESTW_4,  P21E,    42,  1,     35, SI9335,2,19940409,1223,-16.7500, -82.3362, 4562,     24.6,  23.6499,  35.6704,2,  35.6707,2,    214.0,2,    214.0,2,     0.36,2,     0.21,2,     0.02,2,     0.49,2,    1.931,2,    1.041,2, -999.000,1,-999.0000,1,  -999.00,9,   -999.0,1,-999.000,9,   -999.0,9,   -999.0,9,  -999.00,9,  297.0,-999.0000,-999.000,-999.000, 23.6448,-999.000
   318MWESTW_4,  P21E,    42,  1,     34, SI9334,2,19940409,1223,-16.7500, -82.3362, 4562,     48.2,  23.6370,  35.6723,2,  35.6725,2,    214.5,2,    215.3,2,     0.21,2,     0.28,2,     0.02,2,     0.50,2,    1.908,2,    1.042,2, -999.000,1,-999.0000,1,  -999.00,9,   -999.0,1,-999.000,9,   -999.0,9,   -999.0,9,  -999.00,9,  532.9,-999.0000,-999.000,-999.000, 23.6269,-999.000
   318MWESTW_4,  P21E,    42,  1,     33, SI9333,3,19940409,1223,-16.7500, -82.3362, 4562,     99.3,  17.6449,  35.3068,2,  35.3056,2,    188.9,2,    197.8,2,     2.72,2,     9.94,2,     0.21,2,     1.11,2,    2.483,2,    1.282,2, -999.000,1,-999.0000,1,  -999.00,9,   -999.0,1,-999.000,9,   -999.0,9,   -999.0,9,  -999.00,9, 1041.4,-999.0000,-999.000,-999.000, 17.6281,-999.000
   318MWESTW_4,  P21E,    42,  1,     32, SI9332,2,19940409,1223,-16.7500, -82.3362, 4562,    146.6,  14.2163,  34.8012,2,  34.8015,2,    120.5,2,    139.9,2,     5.04,2,    14.28,2,     0.02,2,     1.39,2,    2.091,2,    1.039,2, -999.000,1,-999.0000,1,  -999.00,9,   -999.0,1,-999.000,9,   -999.0,9,   -999.0,9,  -999.00,9, 1512.5,-999.0000,-999.000,-999.000, 14.1950,-999.000
   318MWESTW_4,  P21E,    42,  1,     31, SI9331,2,19940409,1223,-16.7500, -82.3362, 4562,    196.7,  12.8277,  34.8453,2,  34.8444,2,      3.9,2,      0.9,2,    24.38,2,    16.20,2,     1.83,2,     2.70,2,    0.480,2,    0.264,2, -999.000,1,-999.0000,1,  -999.00,9,   -999.0,1,-999.000,9,   -999.0,9,   -999.0,9,  -999.00,9, 2011.6,-999.0000,-999.000,-999.000, 12.8009,-999.000
   318MWESTW_4,  P21E,    42,  1,     30, SI9330,2,19940409,1223,-16.7500, -82.3362, 4562,    245.5,  11.7835,  34.7983,2,  34.7946,2,      2.2,2,      0.8,2,    26.13,2,    23.89,2,     0.07,2,     2.70,2,    0.232,2,    0.116,2, -999.000,1,-999.0000,1,  -999.00,9,   -999.0,1,-999.000,9,   -999.0,9,   -999.0,9,  -999.00,9, 2497.4,-999.0000,-999.000,-999.000, 11.7519,-999.000
   318MWESTW_4,  P21E,    42,  1,     29, SI9329,2,19940409,1223,-16.7500, -82.3362, 4562,    296.3,  10.9937,  34.7525,2,  34.7498,2,      1.3,2,      1.5,2,    26.73,2,    28.81,2,     0.03,2,     2.71,2,    0.126,2,    0.059,2, -999.000,1,-999.0000,1,  -999.00,9,   -999.0,1,-999.000,9,   -999.0,9,   -999.0,9,  -999.00,9, 3001.9,-999.0000,-999.000,-999.000, 10.9571,-999.000
   318MWESTW_4,  P21E,    42,  1,     28, SI9328,2,19940409,1223,-16.7500, -82.3362, 4562,    397.3,   9.4481,  34.6751,2,  34.6716,2,      1.7,2,      2.4,2,    30.97,2,    36.09,2,     0.02,2,     2.83,2,    0.033,2,    0.013,2, -999.000,1,-999.0000,1,  -999.00,9,   -999.0,1,-999.000,9,   -999.0,9,   -999.0,9,  -999.00,9, 4006.5,-999.0000,-999.000,-999.000,  9.4033,-999.000
   318MWESTW_4,  P21E,    42,  1,     26, SI9326,2,19940409,1223,-16.7500, -82.3362, 4562,    500.5,   7.9990,  34.5899,2,  34.5889,2,     13.5,2,     14.6,2,    34.45,2,    40.31,2,     0.02,2,     2.91,2,    0.017,2,    0.005,2, -999.000,1,-999.0000,1,  -999.00,9,   -999.0,1,-999.000,9,   -999.0,9,   -999.0,9,  -999.00,9, 5032.9,-999.0000,-999.000,-999.000,  7.9477,-999.000
   318MWESTW_4,  P21E,    42,  1,     25, SI9325,2,19940409,1223,-16.7500, -82.3362, 4562,    598.5,   6.9034,  34.5404,2,  34.5388,2,     23.8,2,     24.2,2,    41.16,2,    42.66,2,     0.02,2,     3.02,2,    0.007,2,   -0.003,2, -999.000,1,-999.0000,1,  -999.00,9,   -999.0,1,-999.000,9,   -999.0,9,   -999.0,9,  -999.00,9, 6008.1,-999.0000,-999.000,-999.000,  6.8466,-999.000
   318MWESTW_4,  P21E,    42,  1,     24, SI9324,2,19940409,1223,-16.7500, -82.3362, 4562,    700.5,   6.1908,  34.5252,2,  34.5231,2,     25.8,2,     25.9,2,    49.03,2,    44.18,2,     0.02,2,     3.13,2,    0.001,2,   -0.004,2, -999.000,1,-999.0000,1,  -999.00,9,   -999.0,1,-999.000,9,   -999.0,9,   -999.0,9,  -999.00,9, 7022.4,-999.0000,-999.000,-999.000,  6.1276,-999.000
   318MWESTW_4,  P21E,    42,  1,     27, SI9327,2,19940409,1223,-16.7500, -82.3362, 4562,    798.0,   5.6253,  34.5176,2,  34.5162,2,     31.5,2,     31.4,2,    56.90,2,    44.77,2,     0.02,2,     3.18,2,    0.000,2,   -0.003,2, -999.000,1,-999.0000,1,  -999.00,9,   -999.0,1,-999.000,9,   -999.0,9,   -999.0,9,  -999.00,9, 7991.7,-999.0000,-999.000,-999.000,  5.5562,-999.000
   318MWESTW_4,  P21E,    42,  1,     23, SI9323,2,19940409,1223,-16.7500, -82.3362, 4562,    898.6,   5.0404,  34.5170,2,  34.5164,2,     40.5,2,     40.7,2,    65.73,2,    44.37,2,     0.03,2,     3.17,2,   -0.001,2,   -0.004,2, -999.000,1,-999.0000,1,  -999.00,9,   -999.0,1,-999.000,9,   -999.0,9,   -999.0,9,  -999.00,9, 8991.8,-999.0000,-999.000,-999.000,  4.9659,-999.000
   318MWESTW_4,  P21E,    42,  1,     22, SI9322,2,19940409,1223,-16.7500, -82.3362, 4562,    999.4,   4.5419,  34.5275,2,  34.5274,2,     50.3,2,     51.7,2,    75.70,2,    43.57,2,     0.02,2,     3.13,2,   -0.001,2,   -0.004,2, -999.000,1,-999.0000,1,  -999.00,9,   -999.0,1,-999.000,9,   -999.0,9,   -999.0,9,  -999.00,9, 9994.4,-999.0000,-999.000,-999.000,  4.4621,-999.000
   318MWESTW_4,  P21E,    42,  1,     21, SI9321,2,19940409,1223,-16.7500, -82.3362, 4562,   1098.1,   4.1633,  34.5404,2,  34.5390,2,     58.3,2,     60.0,2,    83.95,2,    43.02,2,     0.01,2,     3.09,2, -999.000,9, -999.000,9, -999.000,1,-999.0000,1,  -999.00,9,   -999.0,1,-999.000,9,   -999.0,9,   -999.0,9,  -999.00,9,10976.2,-999.0000,-999.000,-999.000,  4.0780,-999.000
   318MWESTW_4,  P21E,    42,  1,     20, SI9320,2,19940409,1223,-16.7500, -82.3362, 4562,   1199.8,   3.8457,  34.5534,2,  34.5525,2,     65.4,2,     66.6,2,    91.62,2,    42.52,2,     0.01,2,     3.05,2, -999.000,9, -999.000,9, -999.000,1,-999.0000,1,  -999.00,9,   -999.0,1,-999.000,9,   -999.0,9,   -999.0,9,  -999.00,9,11987.0,-999.0000,-999.000,-999.000,  3.7544,-999.000
   318MWESTW_4,  P21E,    42,  1,     19, SI9319,2,19940409,1223,-16.7500, -82.3362, 4562,   1301.7,   3.5677,  34.5657,2,  34.5645,2,     73.2,2,     72.5,2,    98.15,2,    42.13,2,     0.01,2,     3.02,2, -999.000,9, -999.000,9, -999.000,1,-999.0000,1,  -999.00,9,   -999.0,1,-999.000,9,   -999.0,9,   -999.0,9,  -999.00,9,13000.3,-999.0000,-999.000,-999.000,  3.4704,-999.000
   318MWESTW_4,  P21E,    42,  1,     18, SI9318,2,19940409,1223,-16.7500, -82.3362, 4562,   1395.9,   3.3309,  34.5767,2,  34.5763,2,     76.6,2,     78.6,2,   104.10,2,    41.83,2,     0.02,2,     2.99,2, -999.000,9, -999.000,9, -999.000,1,-999.0000,1,  -999.00,9,   -999.0,1,-999.000,9,   -999.0,9,   -999.0,9,  -999.00,9,13936.8,-999.0000,-999.000,-999.000,  3.2281,-999.000
   318MWESTW_4,  P21E,    42,  1,     17, SI9317,2,19940409,1223,-16.7500, -82.3362, 4562,   1601.9,   2.9108,  34.6000,2,  34.5991,2,     87.7,2,     88.5,2,   114.45,2,    40.96,2,     0.02,2,     2.90,2, -999.000,9, -999.000,9, -999.000,1,-999.0000,1,  -999.00,9,   -999.0,1,-999.000,9,   -999.0,9,   -999.0,9,  -999.00,9,15984.6,-999.0000,-999.000,-999.000,  2.7954,-999.000
   318MWESTW_4,  P21E,    42,  1,     16, SI9316,2,19940409,1223,-16.7500, -82.3362, 4562,   1795.9,   2.5788,  34.6187,2,  34.6187,2,    101.2,2,    101.6,2,   120.79,2,    39.79,2,     0.01,2,     2.82,2, -999.000,9, -999.000,9, -999.000,1,-999.0000,1,  -999.00,9,   -999.0,1,-999.000,9,   -999.0,9,   -999.0,9,  -999.00,9,17913.4,-999.0000,-999.000,-999.000,  2.4513,-999.000
   318MWESTW_4,  P21E,    42,  1,     15, SI9315,3,19940409,1223,-16.7500, -82.3362, 4562,   2002.7,   2.3075,  34.6360,2,  34.6368,2,    115.8,2,    115.8,2,   124.24,2,    38.51,2,     0.01,2,     2.71,2, -999.000,9, -999.000,9, -999.000,1,-999.0000,1,  -999.00,9,   -999.0,1,-999.000,9,   -999.0,9,   -999.0,9,  -999.00,9,19969.9,-999.0000,-999.000,-999.000,  2.1661,-999.000
   318MWESTW_4,  P21E,    42,  1,     14, SI9314,2,19940409,1223,-16.7500, -82.3362, 4562,   2196.5,   2.0973,  34.6506,2,  34.6500,2,    128.2,2,    129.3,2,   125.03,2,    37.49,2,     0.00,2,     2.62,2, -999.000,9, -999.000,9, -999.000,1,-999.0000,1,  -999.00,9,   -999.0,1,-999.000,9,   -999.0,9,   -999.0,9,  -999.00,9,21896.5,-999.0000,-999.000,-999.000,  1.9424,-999.000
   318MWESTW_4,  P21E,    42,  1,     13, SI9313,2,19940409,1223,-16.7500, -82.3362, 4562,   2405.5,   1.9581,  34.6628,2,  34.6618,2,    132.9,2,    133.9,2,   128.70,2,    37.15,2,     0.00,2,     2.57,2, -999.000,9, -999.000,9, -999.000,1,-999.0000,1,  -999.00,9,   -999.0,1,-999.000,9,   -999.0,9,   -999.0,9,  -999.00,9,23974.5,-999.0000,-999.000,-999.000,  1.7871,-999.000
   318MWESTW_4,  P21E,    42,  1,     12, SI9312,2,19940409,1223,-16.7500, -82.3362, 4562,   2612.7,   1.8553,  34.6719,2,  34.6712,2,    141.8,2,    142.3,2,   128.53,2,    36.54,2,     0.01,2,     2.52,2, -999.000,9, -999.000,9, -999.000,1,-999.0000,1,  -999.00,9,   -999.0,1,-999.000,9,   -999.0,9,   -999.0,9,  -999.00,9,26033.8,-999.0000,-999.000,-999.000,  1.6674,-999.000
   318MWESTW_4,  P21E,    42,  1,     11, SI9311,2,19940409,1223,-16.7500, -82.3362, 4562,   2791.5,   1.8182,  34.6762,2,  34.6755,2,    141.3,2,    141.2,2,   132.19,2,    36.77,2,     0.00,2,     2.52,2, -999.000,9, -999.000,9, -999.000,1,-999.0000,1,  -999.00,9,   -999.0,1,-999.000,9,   -999.0,9,   -999.0,9,  -999.00,9,27812.0,-999.0000,-999.000,-999.000,  1.6144,-999.000
   318MWESTW_4,  P21E,    42,  1,     10, SI9310,2,19940409,1223,-16.7500, -82.3362, 4562,   2996.4,   1.8021,  34.6786,2,  34.6789,2,    136.9,2,    137.0,2,   137.18,2,    37.19,2,     0.01,2,     2.54,2, -999.000,9, -999.000,9, -999.000,1,-999.0000,1,  -999.00,9,   -999.0,1,-999.000,9,   -999.0,9,   -999.0,9,  -999.00,9,29848.4,-999.0000,-999.000,-999.000,  1.5790,-999.000
   318MWESTW_4,  P21E,    42,  1,      9, SI9309,2,19940409,1223,-16.7500, -82.3362, 4562,   3189.5,   1.7927,  34.6808,2,  34.6802,2,    137.4,2,    137.5,2,   138.73,2,    37.20,2,     0.02,2,     2.55,2, -999.000,9, -999.000,9, -999.000,1,-999.0000,1,  -999.00,9,   -999.0,1,-999.000,9,   -999.0,9,   -999.0,9,  -999.00,9,31768.3,-999.0000,-999.000,-999.000,  1.5508,-999.000
   318MWESTW_4,  P21E,    42,  1,      8, SI9308,2,19940409,1223,-16.7500, -82.3362, 4562,   3393.7,   1.7927,  34.6824,2,  34.6830,2,    138.8,2,    139.2,2,   138.00,2,    36.49,2,     0.02,2,     2.54,2, -999.000,9, -999.000,9, -999.000,1,-999.0000,1,  -999.00,9,   -999.0,1,-999.000,9,   -999.0,9,   -999.0,9,  -999.00,9,33798.7,-999.0000,-999.000,-999.000,  1.5302,-999.000
   318MWESTW_4,  P21E,    42,  1,      7, SI9307,2,19940409,1223,-16.7500, -82.3362, 4562,   3596.0,   1.7851,  34.6845,2,  34.6861,2,    142.8,2,    143.4,2,   135.73,2,    36.00,2,     0.00,2,     2.52,2, -999.000,9, -999.000,9, -999.000,1,-999.0000,1,  -999.00,9,   -999.0,1,-999.000,9,   -999.0,9,   -999.0,9,  -999.00,9,35809.5,-999.0000,-999.000,-999.000,  1.5017,-999.000
   318MWESTW_4,  P21E,    42,  1,      6, SI9306,2,19940409,1223,-16.7500, -82.3362, 4562,   3806.1,   1.7763,  34.6873,2,  34.6869,2,    147.6,2,    148.0,2,   132.69,2,    35.72,2,    -0.02,2,     2.48,2, -999.000,9, -999.000,9, -999.000,1,-999.0000,1,  -999.00,9,   -999.0,1,-999.000,9,   -999.0,9,   -999.0,9,  -999.00,9,37898.8,-999.0000,-999.000,-999.000,  1.4708,-999.000
   318MWESTW_4,  P21E,    42,  1,      5, SI9305,2,19940409,1223,-16.7500, -82.3362, 4562,   4000.8,   1.7692,  34.6890,2,  34.6889,2,    152.2,2,    152.1,2,   129.86,2,    35.38,2,    -0.02,2,     2.45,2, -999.000,9, -999.000,9, -999.000,1,-999.0000,1,  -999.00,9,   -999.0,1,-999.000,9,   -999.0,9,   -999.0,9,  -999.00,9,39833.7,-999.0000,-999.000,-999.000,  1.4426,-999.000
   318MWESTW_4,  P21E,    42,  1,      4, SI9304,2,19940409,1223,-16.7500, -82.3362, 4562,   4204.8,   1.7730,  34.6897,2,  34.6887,2,    153.6,2,    154.0,2,   128.93,2,    35.33,2,    -0.01,2,     2.44,2, -999.000,9, -999.000,9, -999.000,1,-999.0000,1,  -999.00,9,   -999.0,1,-999.000,9,   -999.0,9,   -999.0,9,  -999.00,9,41861.5,-999.0000,-999.000,-999.000,  1.4235,-999.000
   318MWESTW_4,  P21E,    42,  1,      3, SI9303,2,19940409,1223,-16.7500, -82.3362, 4562,   4399.9,   1.7835,  34.6904,2,  34.6899,2,    154.6,2,    153.7,2,   128.76,2,    35.29,2,     0.00,2,     2.44,2, -999.000,9, -999.000,9, -999.000,1,-999.0000,1,  -999.00,9,   -999.0,1,-999.000,9,   -999.0,9,   -999.0,9,  -999.00,9,43801.7,-999.0000,-999.000,-999.000,  1.4114,-999.000
   318MWESTW_4,  P21E,    42,  1,      2, SI9302,2,19940409,1223,-16.7500, -82.3362, 4562,   4573.3,   1.8025,  34.6916,2,  34.6897,2,    154.0,2,    154.2,2,   128.78,2,    35.45,2,     0.01,2,     2.44,2, -999.000,9, -999.000,9, -999.000,1,-999.0000,1,  -999.00,9,   -999.0,1,-999.000,9,   -999.0,9,   -999.0,9,  -999.00,9,45525.5,-999.0000,-999.000,-999.000,  1.4095,-999.000
   318MWESTW_4,  P21E,    42,  1,      1, SI9301,2,19940409,1223,-16.7500, -82.3362, 4562,   4616.6,   1.8077,  34.6919,2,  34.6910,2,    154.0,2,    154.1,2,   128.77,2,    35.33,2,     0.01,2,     2.46,2, -999.000,9, -999.000,9, -999.000,1,-999.0000,1,  -999.00,9,   -999.0,1,-999.000,9,   -999.0,9,   -999.0,9,  -999.00,9,45956.3,-999.0000,-999.000,-999.000,  1.4094,-999.000