BOTTLE,20010911WHPSIOdm
EXPOCODE,SECT_ID,STNNBR,CASTNO,SAMPNO,BTLNBR,BTLNBR_FLAG_W,DATE,TIME,LATITUDE,LONGITUDE,DEPTH,CTDPRS,CTDTMP,CTDSAL,CTDSAL_FLAG_W,SALNTY,SALNTY_FLAG_W,CTDOXY,CTDOXY_FLAG_W,OXYGEN,OXYGEN_FLAG_W,SILCAT,SILCAT_FLAG_W,NITRAT,NITRAT_FLAG_W,NITRIT,NITRIT_FLAG_W,PHSPHT,PHSPHT_FLAG_W,CFC-11,CFC-11_FLAG_W,CFC-12,CFC-12_FLAG_W,TRITUM,TRITUM_FLAG_W,HELIUM,HELIUM_FLAG_W,DELHE3,DELHE3_FLAG_W,DELC14,DELC14_FLAG_W,NEON,NEON_FLAG_W,TCARBN,TCARBN_FLAG_W,ALKALI,ALKALI_FLAG_W,PH,PH_FLAG_W,CTDRAW,HELIER,DELHER,NEONER,THETA,TRITER
,,,,,,,,,,,,DBAR,ITS-90,PSS-78,,PSS-78,,UMOL/KG,,UMOL/KG,,UMOL/KG,,UMOL/KG,,UMOL/KG,,UMOL/KG,,PMOL/KG,,PMOL/KG,,TU,,UMOL/KG,,PERCNT,,/MILLE,,NMOL/KG,,UMOL/KG,,UMOL/KG,,,,,NMOL/KG,PERCNT,NMOL/KG,ITS-90,TU
   318MWESTW_5,  P21W,   179,  1,     36, SI9442,2,19940525,1841,-17.5000,-159.0000, 4940,      6.5,  27.4061,  35.5417,2,  35.5405,2,    207.4,2,    211.4,2,     0.77,2,     0.16,2,     0.01,2,     0.18,2,    1.686,2,    0.963,2, -999.000,1,-999.0000,1,  -999.00,9,   -999.0,1,-999.000,9,   -999.0,9,   -999.0,9,  -999.00,9,  122.9,-999.0000,-999.000,-999.000, 27.4046,-999.000
   318MWESTW_5,  P21W,   179,  1,     35, SI9435,2,19940525,1841,-17.5000,-159.0000, 4940,     23.3,  27.1202,  35.4936,2,  35.4922,2,    207.0,2,    212.1,2,     0.78,2,     0.17,2,     0.01,2,     0.17,2,    1.720,2,    0.974,2, -999.000,1,-999.0000,1,  -999.00,9,   -999.0,1,-999.000,9,   -999.0,9,   -999.0,9,  -999.00,9,  290.2,-999.0000,-999.000,-999.000, 27.1148,-999.000
   318MWESTW_5,  P21W,   179,  1,     34, SI9441,2,19940525,1841,-17.5000,-159.0000, 4940,     53.9,  26.9806,  35.5808,2,  35.5592,2,    210.1,2,    209.8,2,     0.65,2,     0.18,2,     0.00,2,     0.17,2, -999.000,9, -999.000,9, -999.000,1,-999.0000,1,  -999.00,9,   -999.0,1,-999.000,9,   -999.0,9,   -999.0,9,  -999.00,9,  596.1,-999.0000,-999.000,-999.000, 26.9682,-999.000
   318MWESTW_5,  P21W,   179,  1,     33, SI9433,2,19940525,1841,-17.5000,-159.0000, 4940,     99.2,  24.5094,  35.9050,2,  35.9076,2,    216.3,2,    214.2,2,     0.66,2,     0.18,2,     0.00,2,     0.20,2,    1.885,2,    1.052,2, -999.000,1,-999.0000,1,  -999.00,9,   -999.0,1,-999.000,9,   -999.0,9,   -999.0,9,  -999.00,9, 1047.3,-999.0000,-999.000,-999.000, 24.4881,-999.000
   318MWESTW_5,  P21W,   179,  1,     32, SI9432,2,19940525,1841,-17.5000,-159.0000, 4940,    149.8,  22.7726,  35.9088,2,  35.9050,2,    189.3,2,    187.5,2,     0.68,2,     0.70,2,     0.12,2,     0.28,2,    1.935,2,    1.049,2, -999.000,1,-999.0000,1,  -999.00,9,   -999.0,1,-999.000,9,   -999.0,9,   -999.0,9,  -999.00,9, 1550.9,-999.0000,-999.000,-999.000, 22.7421,-999.000
   318MWESTW_5,  P21W,   179,  1,     31, SI9431,2,19940525,1841,-17.5000,-159.0000, 4940,    205.6,  20.6413,  35.7370,2,  35.7359,2,    198.9,2,    197.4,2,     0.69,2,     1.27,2,     0.01,2,     0.26,2,    2.109,2,    1.132,2, -999.000,1,-999.0000,1,  -999.00,9,   -999.0,1,-999.000,9,   -999.0,9,   -999.0,9,  -999.00,9, 2106.0,-999.0000,-999.000,-999.000, 20.6023,-999.000
   318MWESTW_5,  P21W,   179,  1,     30, SI9440,2,19940525,1841,-17.5000,-159.0000, 4940,    255.7,  19.2317,  35.6386,2,  35.6482,2,    190.4,2,    197.2,2,     0.86,2,     2.10,2,     0.00,2,     0.31,2,    2.093,2,    1.140,2, -999.000,1,-999.0000,1,  -999.00,9,   -999.0,1,-999.000,9,   -999.0,9,   -999.0,9,  -999.00,9, 2606.0,-999.0000,-999.000,-999.000, 19.1855,-999.000
   318MWESTW_5,  P21W,   179,  1,     29, SI9429,2,19940525,1841,-17.5000,-159.0000, 4940,    307.6,  17.2079,  35.4558,2,  35.4620,2,    195.0,2,    194.2,2,     1.33,2,     4.10,2,     0.00,2,     0.46,2,    2.013,2,    1.065,2, -999.000,1,-999.0000,1,  -999.00,9,   -999.0,1,-999.000,9,   -999.0,9,   -999.0,9,  -999.00,9, 3122.2,-999.0000,-999.000,-999.000, 17.1564,-999.000
   318MWESTW_5,  P21W,   179,  1,     28, SI9428,2,19940525,1841,-17.5000,-159.0000, 4940,    415.2,  11.5318,  34.7703,2,  34.7893,2,    173.1,2,    167.5,2,     7.16,2,    16.45,2,     0.00,2,     1.31,2,    0.976,2,    0.499,2, -999.000,1,-999.0000,1,  -999.00,9,   -999.0,1,-999.000,9,   -999.0,9,   -999.0,9,  -999.00,9, 4192.7,-999.0000,-999.000,-999.000, 11.4787,-999.000
   318MWESTW_5,  P21W,   179,  1,     27, SI9424,2,19940525,1841,-17.5000,-159.0000, 4940,    501.4,   8.7798,  34.5373,2,  34.5351,2,    163.8,2,    164.0,2,    13.16,2,    23.71,2,     0.00,2,     1.75,2,    0.511,2,    0.269,2, -999.000,1,-999.0000,1,  -999.00,9,   -999.0,1,-999.000,9,   -999.0,9,   -999.0,9,  -999.00,9, 5050.1,-999.0000,-999.000,-999.000,  8.7255,-999.000
   318MWESTW_5,  P21W,   179,  1,     26, SI9414,2,19940525,1841,-17.5000,-159.0000, 4940,    606.7,   6.8416,  34.4294,2,  34.4273,2,    170.9,2,    168.6,2,    20.79,2,    28.44,2,     0.00,2,     2.01,2,    0.201,2,    0.110,2, -999.000,1,-999.0000,1,  -999.00,9,   -999.0,1,-999.000,9,   -999.0,9,   -999.0,9,  -999.00,9, 6097.6,-999.0000,-999.000,-999.000,  6.7843,-999.000
   318MWESTW_5,  P21W,   179,  1,     25, SI9425,2,19940525,1841,-17.5000,-159.0000, 4940,    695.4,   5.7810,  34.4089,2,  34.4100,2,    170.8,2,    166.6,2,    30.07,2,    31.08,2,     0.00,2,     2.17,2,    0.065,2,    0.041,2, -999.000,1,-999.0000,1,  -999.00,9,   -999.0,1,-999.000,9,   -999.0,9,   -999.0,9,  -999.00,9, 6979.4,-999.0000,-999.000,-999.000,  5.7206,-999.000
   318MWESTW_5,  P21W,   179,  1,     24, SI9434,2,19940525,1841,-17.5000,-159.0000, 4940,    796.9,   4.8917,  34.4249,2,  34.4261,2,    163.2,2,    161.0,2,    43.53,2,    33.03,2,     0.00,2,     2.31,2,    0.012,2,    0.010,2, -999.000,1,-999.0000,1,  -999.00,9,   -999.0,1,-999.000,9,   -999.0,9,   -999.0,9,  -999.00,9, 7987.9,-999.0000,-999.000,-999.000,  4.8272,-999.000
   318MWESTW_5,  P21W,   179,  1,     23, SI9423,2,19940525,1841,-17.5000,-159.0000, 4940,    901.4,   4.2430,  34.4590,2,  34.4583,2,    157.7,2,    156.3,2,    56.99,2,    34.22,2,     0.00,2,     2.39,2,    0.004,2,    0.003,2, -999.000,1,-999.0000,1,  -999.00,9,   -999.0,1,-999.000,9,   -999.0,9,   -999.0,9,  -999.00,9, 9027.0,-999.0000,-999.000,-999.000,  4.1738,-999.000
   318MWESTW_5,  P21W,   179,  1,     22, SI9418,2,19940525,1841,-17.5000,-159.0000, 4940,    999.3,   3.7744,  34.4931,2,  34.4919,2,    153.2,2,    153.2,2,    68.66,2,    34.90,2,     0.00,2,     2.43,2,   -0.001,2,   -0.001,2, -999.000,1,-999.0000,1,  -999.00,9,   -999.0,1,-999.000,9,   -999.0,9,   -999.0,9,  -999.00,9,10000.9,-999.0000,-999.000,-999.000,  3.7006,-999.000
   318MWESTW_5,  P21W,   179,  1,     21, SI9421,2,19940525,1841,-17.5000,-159.0000, 4940,   1097.7,   3.4932,  34.5138,2,  34.5133,2,    150.5,2,    150.4,2,    75.99,2,    35.27,2,     0.00,2,     2.45,2,   -0.001,2,   -0.001,2, -999.000,1,-999.0000,1,  -999.00,9,   -999.0,1,-999.000,9,   -999.0,9,   -999.0,9,  -999.00,9,10979.4,-999.0000,-999.000,-999.000,  3.4136,-999.000
   318MWESTW_5,  P21W,   179,  1,     20, SI9420,2,19940525,1841,-17.5000,-159.0000, 4940,   1297.2,   3.0436,  34.5515,2,  34.5518,2,    147.7,2,    149.2,2,    88.71,2,    35.64,2,     0.00,2,     2.49,2,    0.003,2,    0.000,2, -999.000,1,-999.0000,1,  -999.00,9,   -999.0,1,-999.000,9,   -999.0,9,   -999.0,9,  -999.00,9,12962.5,-999.0000,-999.000,-999.000,  2.9520,-999.000
   318MWESTW_5,  P21W,   179,  1,     19, SI9419,2,19940525,1841,-17.5000,-159.0000, 4940,   1499.8,   2.7577,  34.5787,2,  34.5775,2,    147.9,2,    148.1,2,    97.69,2,    35.69,2,     0.00,2,     2.50,2, -999.000,9, -999.000,9, -999.000,1,-999.0000,1,  -999.00,9,   -999.0,1,-999.000,9,   -999.0,9,   -999.0,9,  -999.00,9,14977.3,-999.0000,-999.000,-999.000,  2.6527,-999.000
   318MWESTW_5,  P21W,   179,  1,     18, SI9439,2,19940525,1841,-17.5000,-159.0000, 4940,   1705.0,   2.5102,  34.6025,2,  34.6020,2,    147.6,2,    148.7,2,   105.77,2,    35.74,2,     0.00,2,     2.51,2, -999.000,9, -999.000,9, -999.000,1,-999.0000,1,  -999.00,9,   -999.0,1,-999.000,9,   -999.0,9,   -999.0,9,  -999.00,9,17017.0,-999.0000,-999.000,-999.000,  2.3912,-999.000
   318MWESTW_5,  P21W,   179,  1,     17, SI9417,2,19940525,1841,-17.5000,-159.0000, 4940,   1900.0,   2.3132,  34.6200,2,  34.6195,2,    148.9,2,    148.4,2,   112.07,2,    35.83,2,     0.00,2,     2.51,2, -999.000,9, -999.000,9, -999.000,1,-999.0000,1,  -999.00,9,   -999.0,1,-999.000,9,   -999.0,9,   -999.0,9,  -999.00,9,18955.2,-999.0000,-999.000,-999.000,  2.1806,-999.000
   318MWESTW_5,  P21W,   179,  1,     16, SI9416,2,19940525,1841,-17.5000,-159.0000, 4940,   2096.3,   2.1293,  34.6351,2,  34.6364,2,    151.2,2,    151.9,2,   116.71,2,    35.79,2,     0.00,2,     2.49,2, -999.000,9, -999.000,9, -999.000,1,-999.0000,1,  -999.00,9,   -999.0,1,-999.000,9,   -999.0,9,   -999.0,9,  -999.00,9,20907.2,-999.0000,-999.000,-999.000,  1.9827,-999.000
   318MWESTW_5,  P21W,   179,  1,     15, SI9415,2,19940525,1841,-17.5000,-159.0000, 4940,   2295.5,   2.0077,  34.6458,2,  34.6460,2,    153.0,2,    153.6,2,   120.01,2,    35.62,2,     0.00,2,     2.49,2, -999.000,9, -999.000,9, -999.000,1,-999.0000,1,  -999.00,9,   -999.0,1,-999.000,9,   -999.0,9,   -999.0,9,  -999.00,9,22887.7,-999.0000,-999.000,-999.000,  1.8457,-999.000
   318MWESTW_5,  P21W,   179,  1,     14, SI9436,2,19940525,1841,-17.5000,-159.0000, 4940,   2490.8,   1.8913,  34.6555,2,  34.6551,2,    154.7,2,    155.8,2,   123.17,2,    35.58,2,     0.00,2,     2.47,2, -999.000,9, -999.000,9, -999.000,1,-999.0000,1,  -999.00,9,   -999.0,1,-999.000,9,   -999.0,9,   -999.0,9,  -999.00,9,24829.5,-999.0000,-999.000,-999.000,  1.7139,-999.000
   318MWESTW_5,  P21W,   179,  1,     13, SI9413,2,19940525,1841,-17.5000,-159.0000, 4940,   2687.3,   1.8122,  34.6622,2,  34.6622,2,    157.5,2,    158.0,2,   124.68,2,    35.49,2,     0.00,2,     2.45,2, -999.000,9, -999.000,9, -999.000,1,-999.0000,1,  -999.00,9,   -999.0,1,-999.000,9,   -999.0,9,   -999.0,9,  -999.00,9,26782.3,-999.0000,-999.000,-999.000,  1.6183,-999.000
   318MWESTW_5,  P21W,   179,  1,     12, SI9438,2,19940525,1841,-17.5000,-159.0000, 4940,   2886.9,   1.7213,  34.6697,2,  34.6696,2,    162.0,2,    161.9,2,   125.75,2,    35.23,2,     0.00,2,     2.43,2, -999.000,9, -999.000,9, -999.000,1,-999.0000,1,  -999.00,9,   -999.0,1,-999.000,9,   -999.0,9,   -999.0,9,  -999.00,9,28766.8,-999.0000,-999.000,-999.000,  1.5105,-999.000
   318MWESTW_5,  P21W,   179,  1,     11, SI9411,2,19940525,1841,-17.5000,-159.0000, 4940,   3083.0,   1.6572,  34.6751,2,  34.6751,2,    164.7,2,    165.4,2,   126.06,2,    34.95,2,     0.00,2,     2.41,2,   -0.001,2,    0.001,2, -999.000,1,-999.0000,1,  -999.00,9,   -999.0,1,-999.000,9,   -999.0,9,   -999.0,9,  -999.00,9,30717.1,-999.0000,-999.000,-999.000,  1.4289,-999.000
   318MWESTW_5,  P21W,   179,  1,     10, SI9412,2,19940525,1841,-17.5000,-159.0000, 4940,   3274.2,   1.5937,  34.6798,2,  34.6794,2,    169.2,2,    169.4,2,   125.63,2,    34.64,2,     0.00,2,     2.40,2, -999.000,9, -999.000,9, -999.000,1,-999.0000,1,  -999.00,9,   -999.0,1,-999.000,9,   -999.0,9,   -999.0,9,  -999.00,9,32617.5,-999.0000,-999.000,-999.000,  1.3480,-999.000
   318MWESTW_5,  P21W,   179,  1,      9, SI9410,2,19940525,1841,-17.5000,-159.0000, 4940,   3481.1,   1.5390,  34.6839,2,  34.6842,2,    173.3,2,    174.0,2,   124.75,2,    34.29,2,     0.00,2,     2.38,2, -999.000,9, -999.000,9, -999.000,1,-999.0000,1,  -999.00,9,   -999.0,1,-999.000,9,   -999.0,9,   -999.0,9,  -999.00,9,34674.5,-999.0000,-999.000,-999.000,  1.2738,-999.000
   318MWESTW_5,  P21W,   179,  1,      8, SI9422,2,19940525,1841,-17.5000,-159.0000, 4940,   3688.8,   1.4984,  34.6874,2,  34.6873,2,    177.4,2,    178.1,2,   124.17,2,    34.01,2,     0.00,2,     2.37,2, -999.000,9, -999.000,9, -999.000,1,-999.0000,1,  -999.00,9,   -999.0,1,-999.000,9,   -999.0,9,   -999.0,9,  -999.00,9,36739.7,-999.0000,-999.000,-999.000,  1.2127,-999.000
   318MWESTW_5,  P21W,   179,  1,      7, SI9407,2,19940525,1841,-17.5000,-159.0000, 4940,   3886.0,   1.4624,  34.6905,2,  34.6906,2,    180.2,2,    180.8,2,   123.58,2,    33.80,2,     0.00,2,     2.36,2, -999.000,9, -999.000,9, -999.000,1,-999.0000,1,  -999.00,9,   -999.0,1,-999.000,9,   -999.0,9,   -999.0,9,  -999.00,9,38700.0,-999.0000,-999.000,-999.000,  1.1568,-999.000
   318MWESTW_5,  P21W,   179,  1,      6, SI9427,2,19940525,1841,-17.5000,-159.0000, 4940,   4106.1,   1.4335,  34.6930,2,  34.6932,2,    183.6,2,    184.1,2,   123.30,2,    33.66,2,     0.00,2,     2.34,2, -999.000,9, -999.000,9, -999.000,1,-999.0000,1,  -999.00,9,   -999.0,1,-999.000,9,   -999.0,9,   -999.0,9,  -999.00,9,40888.4,-999.0000,-999.000,-999.000,  1.1048,-999.000
   318MWESTW_5,  P21W,   179,  1,      5, SI9405,2,19940525,1841,-17.5000,-159.0000, 4940,   4324.0,   1.3925,  34.6970,2,  34.6971,2,    188.4,2,    187.5,2,   122.27,2,    33.21,2,     0.00,2,     2.31,2, -999.000,9, -999.000,9, -999.000,1,-999.0000,1,  -999.00,9,   -999.0,1,-999.000,9,   -999.0,9,   -999.0,9,  -999.00,9,43054.2,-999.0000,-999.000,-999.000,  1.0408,-999.000
   318MWESTW_5,  P21W,   179,  1,      4, SI9404,2,19940525,1841,-17.5000,-159.0000, 4940,   4510.4,   1.3675,  34.6995,2,  34.6985,2,    191.4,2,    190.4,2,   121.84,2,    33.04,2,     0.00,2,     2.30,2, -999.000,9, -999.000,9, -999.000,1,-999.0000,1,  -999.00,9,   -999.0,1,-999.000,9,   -999.0,9,   -999.0,9,  -999.00,9,44906.9,-999.0000,-999.000,-999.000,  0.9954,-999.000
   318MWESTW_5,  P21W,   179,  1,      3, SI9403,2,19940525,1841,-17.5000,-159.0000, 4940,   4709.6,   1.3193,  34.7023,2,  34.7017,2,    196.0,2,    195.3,2,   120.72,2,    32.99,2,     0.00,2,     2.27,2,    0.009,2,    0.002,2, -999.000,1,-999.0000,1,  -999.00,9,   -999.0,1,-999.000,9,   -999.0,9,   -999.0,9,  -999.00,9,46887.6,-999.0000,-999.000,-999.000,  0.9256,-999.000
   318MWESTW_5,  P21W,   179,  1,      2, SI9437,2,19940525,1841,-17.5000,-159.0000, 4940,   4908.4,   1.2977,  34.7039,2,  34.7054,2,    198.1,2,    197.3,2,   120.21,2,    32.79,2,     0.00,2,     2.25,2,    0.014,2,    0.000,2, -999.000,1,-999.0000,1,  -999.00,9,   -999.0,1,-999.000,9,   -999.0,9,   -999.0,9,  -999.00,9,48863.8,-999.0000,-999.000,-999.000,  0.8812,-999.000
   318MWESTW_5,  P21W,   179,  1,      1, SI9401,2,19940525,1841,-17.5000,-159.0000, 4940,   5005.7,   1.2754,  34.7060,2,  34.7068,2,    199.9,2,    201.1,2,   119.83,2,    32.60,2,     0.00,2,     2.25,2,    0.009,6,   -0.001,6, -999.000,1,-999.0000,1,  -999.00,9,   -999.0,1,-999.000,9,   -999.0,9,   -999.0,9,  -999.00,9,49831.1,-999.0000,-999.000,-999.000,  0.8480,-999.000