BOTTLE,20010911WHPSIOdm
EXPOCODE,SECT_ID,STNNBR,CASTNO,SAMPNO,BTLNBR,BTLNBR_FLAG_W,DATE,TIME,LATITUDE,LONGITUDE,DEPTH,CTDPRS,CTDTMP,CTDSAL,CTDSAL_FLAG_W,SALNTY,SALNTY_FLAG_W,CTDOXY,CTDOXY_FLAG_W,OXYGEN,OXYGEN_FLAG_W,SILCAT,SILCAT_FLAG_W,NITRAT,NITRAT_FLAG_W,NITRIT,NITRIT_FLAG_W,PHSPHT,PHSPHT_FLAG_W,CFC-11,CFC-11_FLAG_W,CFC-12,CFC-12_FLAG_W,TRITUM,TRITUM_FLAG_W,HELIUM,HELIUM_FLAG_W,DELHE3,DELHE3_FLAG_W,DELC14,DELC14_FLAG_W,NEON,NEON_FLAG_W,TCARBN,TCARBN_FLAG_W,ALKALI,ALKALI_FLAG_W,PH,PH_FLAG_W,CTDRAW,HELIER,DELHER,NEONER,THETA,TRITER
,,,,,,,,,,,,DBAR,ITS-90,PSS-78,,PSS-78,,UMOL/KG,,UMOL/KG,,UMOL/KG,,UMOL/KG,,UMOL/KG,,UMOL/KG,,PMOL/KG,,PMOL/KG,,TU,,UMOL/KG,,PERCNT,,/MILLE,,NMOL/KG,,UMOL/KG,,UMOL/KG,,,,,NMOL/KG,PERCNT,NMOL/KG,ITS-90,TU
   318MWESTW_4,  P21E,    95,  1,     36, SI9336,2,19940425,2110,-16.7472,-110.0000, 3600,      9.3,  25.7933,  36.3055,2,  36.3119,2,    208.7,2,    228.3,4,     0.00,2,     0.09,2,     0.01,2,     0.27,2,    1.790,2,    1.002,2, -999.000,1,-999.0000,1,  -999.00,9,   -999.0,1,-999.000,9,   -999.0,9,   2393.0,2,     8.08,2,  135.3,-999.0000,-999.000,-999.000, 25.7912,-999.000
   318MWESTW_4,  P21E,    95,  1,     35, SI9335,2,19940425,2110,-16.7472,-110.0000, 3600,     25.1,  25.6690,  36.3051,2,  36.3065,2,    208.9,2,    215.8,2,     0.00,2,     0.09,2,     0.01,2,     0.27,2,    1.802,2,    1.002,2,    0.722,2,   1.6960,2,    -1.26,2,   -999.0,1,   6.675,2,   2041.8,2,   2394.0,2,     8.08,2,  293.8,  0.0085,   0.080,   0.033, 25.6634,   0.007
   318MWESTW_4,  P21E,    95,  1,     34, SI9334,2,19940425,2110,-16.7472,-110.0000, 3600,     49.6,  25.6539,  36.3047,2,  36.3049,2,    209.6,2,    217.2,2,     0.00,2,     0.09,2,     0.01,2,     0.28,2,    1.815,2,    1.033,2, -999.000,1,   1.7028,2,    -1.20,2,   -999.0,1,   6.693,2,   2040.8,2,   2395.0,2,     8.08,2,  538.0,  0.0085,   0.080,   0.033, 25.6429,-999.000
   318MWESTW_4,  P21E,    95,  1,     33, SI9333,2,19940425,2110,-16.7472,-110.0000, 3600,    100.4,  23.6943,  36.2664,2,  36.2932,2,    224.5,2,    227.3,2,     0.00,2,     0.14,2,     0.01,2,     0.31,2,    1.975,2,    1.094,2,    0.681,2,   1.7135,2,    -1.21,2,   -999.0,1,   6.798,2,   2051.8,2,   2394.0,2,     8.06,2, 1046.3,  0.0086,   0.080,   0.034, 23.6733,   0.007
   318MWESTW_4,  P21E,    95,  1,     32, SI9332,2,19940425,2110,-16.7472,-110.0000, 3600,    150.2,  22.1329,  36.1816,2,  36.1963,2,    211.3,2,    208.0,2,     0.00,2,     0.25,2,     0.29,2,     0.38,2,    2.062,2,    1.137,2,    0.622,2,   1.7105,2,    -1.51,2,   -999.0,1,   6.858,2,   2076.8,2,   2390.0,2,     8.02,2, 1544.3,  0.0086,   0.080,   0.034, 22.1029,   0.007
   318MWESTW_4,  P21E,    95,  1,     31, SI9331,2,19940425,2110,-16.7472,-110.0000, 3600,    200.3,  20.2190,  35.7878,2,  35.8084,2,    197.9,2,    193.6,2,     0.00,2,     3.03,2,     0.07,2,     0.57,2,    2.167,2,    1.169,2,    0.551,2,   1.7187,2,    -1.47,2,   -999.0,1,   6.961,2,   2090.8,2,   2364.0,2,     7.97,2, 2044.7,  0.0086,   0.080,   0.035, 20.1815,   0.007
   318MWESTW_4,  P21E,    95,  1,     30, SI9330,2,19940425,2110,-16.7472,-110.0000, 3600,    249.0,  17.9176,  35.3635,2,  35.3841,2,    188.5,2,    183.5,2,     0.64,2,     5.41,2,     0.01,2,     0.69,2,    2.157,2,    1.143,2,    0.539,2,   1.7269,2,    -0.78,2,   -999.0,1,   7.069,2,   2093.8,2,   2335.0,2,     7.91,2, 2531.8,  0.0086,   0.080,   0.035, 17.8748,   0.007
   318MWESTW_4,  P21E,    95,  1,     29, SI9329,2,19940425,2110,-16.7472,-110.0000, 3600,    299.7,  14.4694,  34.8488,2,  34.8981,2,    127.2,2,    123.3,2,     5.58,2,    14.04,2,     0.01,2,     1.42,2,    1.796,2,    0.930,2,    0.429,2,   1.7440,2,     0.55,2,   -999.0,1,   7.229,2,   2148.8,2,   2304.0,2,     7.74,2, 3037.8,  0.0087,   0.080,   0.036, 14.4250,   0.006
   318MWESTW_4,  P21E,    95,  1,     28, SI9328,2,19940425,2110,-16.7472,-110.0000, 3600,    399.4,   9.5703,  34.5399,2,  34.5368,2,     58.9,2,     63.1,2,    18.48,2,    29.49,2,     0.01,2,     2.37,2,    0.309,2,    0.154,2,    0.106,2,   1.7586,2,     1.90,2,   -999.0,1,   7.551,2,   2229.9,2,   2289.0,2,     7.48,2, 4033.7,  0.0088,   0.080,   0.038,  9.5250,   0.004
   318MWESTW_4,  P21E,    95,  1,     27, SI9327,2,19940425,2110,-16.7472,-110.0000, 3600,    499.1,   7.5435,  34.5094,2,  34.5093,2,     72.8,2,     71.6,2,    26.30,2,    35.81,2,     0.00,2,     2.52,2,    0.034,2,    0.023,2,    0.009,2,   1.7783,2,     3.11,2,   -999.0,1,   7.664,2,   2242.9,2,   2296.0,2,     7.47,2, 5029.8,  0.0089,   0.080,   0.038,  7.4941,   0.004
   318MWESTW_4,  P21E,    95,  1,     26, SI9326,2,19940425,2110,-16.7472,-110.0000, 3600,    601.3,   6.4665,  34.4783,2,  34.4858,2,     88.7,2,     84.0,2,    33.78,2,    37.44,2,     0.01,2,     2.58,2,    0.007,2,    0.005,2,   -0.006,2,   1.7860,2,     5.34,2,   -999.0,1,   7.694,2,   2248.9,2,   2303.0,2,     7.48,2, 6050.9,  0.0089,   0.090,   0.038,  6.4114,   0.003
   318MWESTW_4,  P21E,    95,  1,     25, SI9325,2,19940425,2110,-16.7472,-110.0000, 3600,    701.5,   5.7003,  34.4800,2,  34.4797,2,     81.2,2,     79.3,2,    43.35,2,    39.48,2,     0.01,2,     2.74,2,   -0.002,2,    0.002,2,    0.002,2,   1.8099,2,     7.91,2,   -999.0,1,   7.769,2,   2262.9,2,   2312.0,2,     7.46,2, 7051.1,  0.0090,   0.090,   0.039,  5.6396,   0.004
   318MWESTW_4,  P21E,    95,  1,     24, SI9324,2,19940425,2110,-16.7472,-110.0000, 3600,    797.6,   5.1887,  34.4838,2,  34.4791,2,     86.2,2,     86.3,2,    50.84,2,    39.72,2,     0.00,2,     2.77,2,   -0.001,2,    0.002,2,   -0.003,2,   1.8268,2,    10.11,2,   -999.0,1,   7.818,2,   2269.0,2,   2320.0,2,     7.46,2, 8010.9,  0.0091,   0.090,   0.039,  5.1223,   0.003
   318MWESTW_4,  P21E,    95,  1,     23, SI9323,2,19940425,2110,-16.7472,-110.0000, 3600,    896.7,   4.7869,  34.5039,2,  34.5107,4,     80.0,2,     81.1,2,    61.84,2,    40.57,2,     0.01,2,     2.83,2,   -0.004,2,    0.001,2, -999.000,1,-999.0000,1,  -999.00,9,   -999.0,1,-999.000,9,   2284.0,2,   2330.0,2,     7.46,2, 9001.3,-999.0000,-999.000,-999.000,  4.7143,-999.000
   318MWESTW_4,  P21E,    95,  1,     22, SI9322,2,19940425,2110,-16.7472,-110.0000, 3600,   1000.0,   4.3690,  34.5205,2,  34.5184,2,     84.4,2,     83.3,2,    71.40,2,    40.68,2,     0.01,2,     2.85,2,    0.000,2,    0.001,2,   -0.004,2,   1.8490,2,    15.40,2,   -999.0,1,   7.893,2,   2294.0,2,   2343.0,2,     7.45,2,10032.8,  0.0092,   0.090,   0.039,  4.2905,   0.003
   318MWESTW_4,  P21E,    95,  1,     21, SI9321,2,19940425,2110,-16.7472,-110.0000, 3600,   1098.3,   4.0445,  34.5357,2,  34.5327,2,     84.2,2,     84.8,2,    79.69,2,    40.73,2,     0.01,2,     2.87,2, -999.000,9, -999.000,9, -999.000,1,-999.0000,1,  -999.00,9,   -999.0,1,-999.000,9,   2303.0,2,   2351.0,2,     7.46,2,11015.1,-999.0000,-999.000,-999.000,  3.9602,-999.000
   318MWESTW_4,  P21E,    95,  1,     20, SI9320,2,19940425,2110,-16.7472,-110.0000, 3600,   1198.4,   3.7722,  34.5506,2,  34.5474,2,     82.4,2,     81.8,2,    87.65,2,    41.12,2,     0.01,2,     2.91,2, -999.000,9, -999.000,9, -999.000,1,-999.0000,1,  -999.00,9,   -999.0,1,-999.000,9,   2314.0,2,   2360.0,2,     7.44,2,12014.5,-999.0000,-999.000,-999.000,  3.6817,-999.000
   318MWESTW_4,  P21E,    95,  1,     19, SI9319,2,19940425,2110,-16.7472,-110.0000, 3600,   1300.5,   3.4436,  34.5646,2,  34.5631,2,     88.4,2,     87.8,2,    95.30,2,    40.62,2,     0.01,2,     2.88,2, -999.000,9, -999.000,9,    0.001,2,   1.8741,2,    20.48,2,   -999.0,1,   7.959,2,   2319.0,2,   2369.0,2,     7.46,2,13034.6,  0.0094,   0.100,   0.040,  3.3477,   0.004
   318MWESTW_4,  P21E,    95,  1,     18, SI9318,2,19940425,2110,-16.7472,-110.0000, 3600,   1381.1,   3.2199,  34.5757,2,  34.5761,2,     92.3,2,     92.4,2,   101.03,2,    40.33,2,     0.01,2,     2.85,2, -999.000,9, -999.000,9, -999.000,1,-999.0000,1,  -999.00,9,   -999.0,1,-999.000,9,   2321.0,2,   2374.0,2,     7.46,2,13840.1,-999.0000,-999.000,-999.000,  3.1195,-999.000
   318MWESTW_4,  P21E,    95,  1,     17, SI9317,2,19940425,2110,-16.7472,-110.0000, 3600,   1497.4,   2.9476,  34.5917,2,  34.5940,3,     99.3,2,     99.3,2,   107.41,2,    39.81,2,     0.01,2,     2.82,2, -999.000,9, -999.000,9, -999.000,1,-999.0000,1,  -999.00,9,   -999.0,1,-999.000,9,   2325.0,2,   2381.0,2,     7.49,2,15001.6,-999.0000,-999.000,-999.000,  2.8405,-999.000
   318MWESTW_4,  P21E,    95,  1,     16, SI9316,2,19940425,2110,-16.7472,-110.0000, 3600,   1598.8,   2.7520,  34.6031,2,  34.6034,2,    103.4,2,    103.4,2,   112.18,2,    39.42,2,     0.01,2,     2.79,2, -999.000,9, -999.000,9,    0.002,2,   1.8947,2,    24.74,2,   -999.0,1,   8.004,2,   2327.0,2,   2387.0,2,     7.48,2,16014.9,  0.0095,   0.100,   0.040,  2.6388,   0.003
   318MWESTW_4,  P21E,    95,  1,     15, SI9315,2,19940425,2110,-16.7472,-110.0000, 3600,   1698.8,   2.5853,  34.6138,2,  34.6146,2,    107.9,2,    108.7,2,   116.02,2,    39.09,2,     0.00,2,     2.74,2, -999.000,9, -999.000,9, -999.000,1,-999.0000,1,  -999.00,9,   -999.0,1,-999.000,9,   2327.0,2,   2391.0,2,     7.50,2,17014.2,-999.0000,-999.000,-999.000,  2.4659,-999.000
   318MWESTW_4,  P21E,    95,  1,     14, SI9314,2,19940425,2110,-16.7472,-110.0000, 3600,   1799.2,   2.4375,  34.6227,2,  34.6244,2,    114.0,2,    115.5,2,   118.24,2,    38.45,2,     0.01,2,     2.70,2, -999.000,9, -999.000,9, -999.000,1,-999.0000,1,  -999.00,9,   -999.0,1,-999.000,9,   2327.0,2,   2394.0,2,     7.51,2,18016.5,-999.0000,-999.000,-999.000,  2.3116,-999.000
   318MWESTW_4,  P21E,    95,  1,     13, SI9313,2,19940425,2110,-16.7472,-110.0000, 3600,   1921.3,   2.2876,  34.6336,2,  34.6339,2,    123.5,2,    124.0,2,   119.51,2,    37.71,2,     0.01,2,     2.65,2, -999.000,9, -999.000,9, -999.000,1,-999.0000,1,  -999.00,9,   -999.0,1,-999.000,9,   2323.0,2,   2395.0,2,     7.52,2,19236.5,-999.0000,-999.000,-999.000,  2.1535,-999.000
   318MWESTW_4,  P21E,    95,  1,     12, SI9312,2,19940425,2110,-16.7472,-110.0000, 3600,   2086.5,   2.0853,  34.6459,2,  34.6460,2,    140.7,2,    141.1,2,   118.24,2,    36.40,2,     0.01,2,     2.53,2, -999.000,9, -999.000,9, -999.000,1,-999.0000,1,  -999.00,9,   -999.0,1,-999.000,9,   2317.0,2,   2397.0,2,     7.55,2,20887.4,-999.0000,-999.000,-999.000,  1.9402,-999.000
   318MWESTW_4,  P21E,    95,  1,     11, SI9311,2,19940425,2110,-16.7472,-110.0000, 3600,   2239.9,   1.9519,  34.6569,2,  34.6565,2,    151.2,2,    151.2,2,   118.08,2,    35.62,2,     0.00,2,     2.46,2, -999.000,9, -999.000,9, -999.000,1,-999.0000,1,  -999.00,9,   -999.0,1,-999.000,9,   2309.0,2,   2395.0,2,     7.54,2,22420.2,-999.0000,-999.000,-999.000,  1.7956,-999.000
   318MWESTW_4,  P21E,    95,  1,     10, SI9310,2,19940425,2110,-16.7472,-110.0000, 3600,   2405.8,   1.8708,  34.6665,2,  34.6673,2,    155.7,2,    155.2,2,   119.68,2,    35.33,2,     0.00,2,     2.44,2, -999.000,9, -999.000,9, -999.000,1,-999.0000,1,  -999.00,9,   -999.0,1,-999.000,9,   2306.0,2,   2399.0,2,     7.58,2,24077.3,-999.0000,-999.000,-999.000,  1.7013,-999.000
   318MWESTW_4,  P21E,    95,  1,      9, SI9309,2,19940425,2110,-16.7472,-110.0000, 3600,   2559.4,   1.8334,  34.6728,2,  34.6720,2,    155.1,2,    155.1,2,   122.06,2,    35.38,2,     0.00,2,     2.43,2, -999.000,9, -999.000,9, -999.000,1,-999.0000,1,  -999.00,9,   -999.0,1,-999.000,9,   2310.0,2,   2403.0,2,     7.57,2,25611.8,-999.0000,-999.000,-999.000,  1.6508,-999.000
   318MWESTW_4,  P21E,    95,  1,      8, SI9308,2,19940425,2110,-16.7472,-110.0000, 3600,   2687.3,   1.8157,  34.6766,2,  34.6777,2,    152.9,2,    152.6,2,   125.88,2,    35.56,2,     0.00,2,     2.45,2, -999.000,9, -999.000,9, -999.000,1,-999.0000,1,  -999.00,9,   -999.0,1,-999.000,9,   2316.0,2,   2410.0,2,     7.57,2,26889.8,-999.0000,-999.000,-999.000,  1.6216,-999.000
   318MWESTW_4,  P21E,    95,  1,      7, SI9307,2,19940425,2110,-16.7472,-110.0000, 3600,   2846.3,   1.8122,  34.6803,2,  34.6802,2,    149.5,2,    149.1,2,   129.23,2,    35.96,2,    -0.01,2,     2.47,2, -999.000,9, -999.000,9, -999.000,1,-999.0000,1,  -999.00,9,   -999.0,1,-999.000,9,   2323.0,2,   -999.0,9,     7.59,2,28479.1,-999.0000,-999.000,-999.000,  1.6033,-999.000
   318MWESTW_4,  P21E,    95,  1,      6, SI9306,2,19940425,2110,-16.7472,-110.0000, 3600,   2995.7,   1.8129,  34.6809,2,  34.6800,2,    147.0,2,    145.9,2,   132.58,2,    36.12,2,     0.00,2,     2.50,2, -999.000,9, -999.000,9, -999.000,1,-999.0000,1,  -999.00,9,   -999.0,1,-999.000,9,   2326.0,2,   2422.0,2,     7.58,2,29972.2,-999.0000,-999.000,-999.000,  1.5896,-999.000
   318MWESTW_4,  P21E,    95,  1,      5, SI9305,2,19940425,2110,-16.7472,-110.0000, 3600,   3145.2,   1.8118,  34.6815,2,  34.6818,2,    144.8,2,    144.8,2,   134.49,2,    36.24,2,    -0.01,2,     2.50,2, -999.000,9, -999.000,9, -999.000,1,-999.0000,1,  -999.00,9,   -999.0,1,-999.000,9,   2329.0,2,   2426.0,2,     7.57,2,31466.1,-999.0000,-999.000,-999.000,  1.5739,-999.000
   318MWESTW_4,  P21E,    95,  1,      4, SI9304,2,19940425,2110,-16.7472,-110.0000, 3600,   3296.4,   1.8141,  34.6836,2,  34.6820,2,    146.9,2,    146.8,2,   132.58,2,    36.07,2,    -0.01,2,     2.49,2, -999.000,9, -999.000,9, -999.000,1,-999.0000,1,  -999.00,9,   -999.0,1,-999.000,9,   2326.0,2,   2422.0,2,     7.58,2,32976.5,-999.0000,-999.000,-999.000,  1.5610,-999.000
   318MWESTW_4,  P21E,    95,  1,      3, SI9303,2,19940425,2110,-16.7472,-110.0000, 3600,   3447.4,   1.8188,  34.6849,2,  34.6848,2,    148.6,2,    147.8,2,   131.46,2,    35.96,2,    -0.01,2,     2.48,2, -999.000,9, -999.000,9, -999.000,1,-999.0000,1,  -999.00,9,   -999.0,1,-999.000,9,   2326.0,2,   2424.0,2,     7.58,2,34485.7,-999.0000,-999.000,-999.000,  1.5501,-999.000
   318MWESTW_4,  P21E,    95,  1,      2, SI9302,2,19940425,2110,-16.7472,-110.0000, 3600,   3591.9,   1.8203,  34.6860,2,  34.6855,2,    149.6,2,    149.0,2,   130.66,2,    35.90,2,    -0.01,2,     2.48,2, -999.000,9, -999.000,9, -999.000,1,-999.0000,1,  -999.00,9,   -999.0,1,-999.000,9,   2324.0,2,   2421.0,2,     7.58,2,35929.8,-999.0000,-999.000,-999.000,  1.5365,-999.000
   318MWESTW_4,  P21E,    95,  1,      1, SI9301,2,19940425,2110,-16.7472,-110.0000, 3600,   3643.0,   1.8258,  34.6864,2,  34.6855,2,    146.0,2,    149.5,2,   130.54,2,    35.85,2,     0.00,2,     2.47,2, -999.000,9, -999.000,9, -999.000,1,-999.0000,1,  -999.00,9,   -999.0,1,-999.000,9,   2324.0,2,   2423.0,2,     7.57,2,36441.4,-999.0000,-999.000,-999.000,  1.5364,-999.000