BOTTLE,20010911WHPSIOdm
EXPOCODE,SECT_ID,STNNBR,CASTNO,SAMPNO,BTLNBR,BTLNBR_FLAG_W,DATE,TIME,LATITUDE,LONGITUDE,DEPTH,CTDPRS,CTDTMP,CTDSAL,CTDSAL_FLAG_W,SALNTY,SALNTY_FLAG_W,CTDOXY,CTDOXY_FLAG_W,OXYGEN,OXYGEN_FLAG_W,SILCAT,SILCAT_FLAG_W,NITRAT,NITRAT_FLAG_W,NITRIT,NITRIT_FLAG_W,PHSPHT,PHSPHT_FLAG_W,CFC-11,CFC-11_FLAG_W,CFC-12,CFC-12_FLAG_W,TRITUM,TRITUM_FLAG_W,HELIUM,HELIUM_FLAG_W,DELHE3,DELHE3_FLAG_W,DELC14,DELC14_FLAG_W,NEON,NEON_FLAG_W,TCARBN,TCARBN_FLAG_W,ALKALI,ALKALI_FLAG_W,PH,PH_FLAG_W,CTDRAW,HELIER,DELHER,NEONER,THETA,TRITER
,,,,,,,,,,,,DBAR,ITS-90,PSS-78,,PSS-78,,UMOL/KG,,UMOL/KG,,UMOL/KG,,UMOL/KG,,UMOL/KG,,UMOL/KG,,PMOL/KG,,PMOL/KG,,TU,,UMOL/KG,,PERCNT,,/MILLE,,NMOL/KG,,UMOL/KG,,UMOL/KG,,,,,NMOL/KG,PERCNT,NMOL/KG,ITS-90,TU
   318MWESTW_4,  P21E,     8,  1,     36, SI9336,2,19940330,1908,-14.9112, -76.5028, 4385,     10.3,  23.3792,  35.1373,2,  35.1323,2,    216.4,2,    221.6,2,     0.46,2,     0.03,2,     0.00,2,     0.44,2,    1.933,2,    1.021,2, -999.000,1,   1.7112,2,    -1.14,2,   -999.0,1,   6.799,2,   2046.8,2,   2338.0,2,     8.02,2,  138.2,  0.0086,   0.080,   0.034, 23.3771,-999.000
   318MWESTW_4,  P21E,     8,  1,     35, SI9335,2,19940330,1908,-14.9112, -76.5028, 4385,     28.5,  21.1583,  34.9850,2,  35.0618,2,    174.3,3,    223.2,2,     1.02,2,     0.02,2,     0.01,2,     0.47,2,    2.046,2,    1.078,2, -999.000,1,   1.7296,2,    -0.80,2,   -999.0,1,   6.921,2,   2056.8,2,   2334.0,2,     7.99,2,  321.0,  0.0086,   0.080,   0.035, 21.1528,-999.000
   318MWESTW_4,  P21E,     8,  1,     34, SI9334,2,19940330,1908,-14.9112, -76.5028, 4385,     50.1,  16.3297,  34.9459,2,  35.0510,2,    107.8,2,    117.1,2,     5.08,2,    14.89,2,     0.27,2,     1.60,2,    2.128,2,    1.091,2, -999.000,1,   1.7398,2,    -0.32,2,   -999.0,1,   7.121,2,   2187.9,2,   2321.0,2,     7.69,2,  536.4,  0.0087,   0.080,   0.036, 16.3217,-999.000
   318MWESTW_4,  P21E,     8,  1,     33, SI9333,2,19940330,1908,-14.9112, -76.5028, 4385,     99.2,  12.8781,  34.7761,2,  34.7144,2,     29.1,2,     40.2,2,    17.05,2,    19.62,2,     0.02,2,     2.36,2,    1.099,2,    0.558,2, -999.000,1,   1.7676,2,     2.52,2,   -999.0,1,   7.346,2,   2246.9,2,   2299.0,2,     7.51,2, 1026.9,  0.0088,   0.080,   0.037, 12.8646,-999.000
   318MWESTW_4,  P21E,     8,  1,     32, SI9332,2,19940330,1908,-14.9112, -76.5028, 4385,    149.7,  12.3700,  34.8220,2,  34.8068,2,      2.5,2,      4.6,2,    26.02,2,    18.82,2,     0.00,2,     2.72,2,    0.409,2,    0.224,2, -999.000,1,   1.7723,2,     4.06,2,   -999.0,1,   7.371,2,   2270.0,2,   2307.0,2,     7.44,2, 1531.6,  0.0089,   0.090,   0.037, 12.3501,-999.000
   318MWESTW_4,  P21E,     8,  1,     31, SI9331,2,19940330,1908,-14.9112, -76.5028, 4385,    205.2,  11.1857,  34.7632,2,  34.7555,2,      1.8,2,      4.9,2,    26.75,2,    27.21,2,     0.00,2,     2.72,2,    0.168,2,    0.094,2, -999.000,1,-999.0000,1,  -999.00,9,   -999.0,1,-999.000,9,   2274.0,2,   2280.0,3,     7.40,2, 2085.9,-999.0000,-999.000,-999.000, 11.1602,-999.000
   318MWESTW_4,  P21E,     8,  1,     30, SI9330,2,19940330,1908,-14.9112, -76.5028, 4385,    251.3,  10.5114,  34.7153,2,  34.7280,2,      0.6,2,      3.2,2,    28.88,2,    30.27,2,     0.00,2,     2.78,2,    0.102,2,    0.058,2, -999.000,1,   1.7653,2,     3.41,2,   -999.0,1,   7.427,2,   2280.0,2,   2303.0,2,     7.39,2, 2546.9,  0.0088,   0.080,   0.037, 10.4813,-999.000
   318MWESTW_4,  P21E,     8,  1,     29, SI9329,3,19940330,1908,-14.9112, -76.5028, 4385,    297.1,   9.8429,  34.6863,2,  34.7132,4,      0.8,2,   -999.0,9,  -999.00,9,  -999.00,9,  -999.00,9,  -999.00,9, -999.000,9, -999.000,9, -999.000,1,-999.0000,1,  -999.00,9,   -999.0,1,-999.000,9,   -999.0,9,   -999.0,9,  -999.00,9, 3004.2,-999.0000,-999.000,-999.000,  9.8087,-999.000
   318MWESTW_4,  P21E,     8,  1,     28, SI9328,2,19940330,1908,-14.9112, -76.5028, 4385,    398.0,   8.3484,  34.6021,2,  34.6038,2,      8.3,2,     11.2,2,    34.17,2,    39.36,2,     0.00,2,     2.94,2,    0.026,2,    0.010,2, -999.000,1,-999.0000,1,  -999.00,9,   -999.0,1,-999.000,9,   2286.0,2,   2305.0,2,     7.37,2, 4012.5,-999.0000,-999.000,-999.000,  8.3068,-999.000
   318MWESTW_4,  P21E,     8,  1,     27, SI9327,2,19940330,1908,-14.9112, -76.5028, 4385,    500.6,   7.1197,  34.5514,2,  34.5472,2,     17.8,2,     21.3,2,    41.04,2,    42.32,2,     0.00,2,     3.06,2,    0.011,2,    0.003,2, -999.000,1,   1.8058,2,     5.76,2,   -999.0,1,   7.676,2,   2290.0,2,   2308.0,2,     7.37,2, 5036.5,  0.0090,   0.090,   0.038,  7.0717,-999.000
   318MWESTW_4,  P21E,     8,  1,     26, SI9326,2,19940330,1908,-14.9112, -76.5028, 4385,    601.3,   6.2988,  34.5252,2,  34.5235,2,     23.7,2,     26.2,2,    48.96,2,    43.74,2,    -0.01,2,     3.16,2,    0.003,2,   -0.003,2, -999.000,1,   1.8327,2,     7.30,2,   -999.0,1,   7.787,2,   2298.0,2,   2315.0,2,     7.36,2, 6042.2,  0.0092,   0.090,   0.039,  6.2445,-999.000
   318MWESTW_4,  P21E,     8,  1,     25, SI9325,2,19940330,1908,-14.9112, -76.5028, 4385,    703.7,   5.6735,  34.5176,2,  34.5174,2,     28.9,2,     29.7,2,    57.75,2,    44.57,2,    -0.01,2,     3.22,2,   -0.001,2,   -0.003,2, -999.000,1,-999.0000,1,  -999.00,9,   -999.0,1,-999.000,9,   2309.0,2,   2324.0,2,     7.37,2, 7065.2,-999.0000,-999.000,-999.000,  5.6127,-999.000
   318MWESTW_4,  P21E,     8,  1,     24, SI9324,2,19940330,1908,-14.9112, -76.5028, 4385,    801.5,   5.1954,  34.5219,2,  34.5219,2,     34.5,2,     35.2,2,    66.20,2,    44.71,2,     0.01,2,     3.23,2,    0.000,2,   -0.004,2, -999.000,1,-999.0000,1,  -999.00,9,   -999.0,1,-999.000,9,   2315.0,2,   2333.0,2,     7.37,2, 8042.6,-999.0000,-999.000,-999.000,  5.1286,-999.000
   318MWESTW_4,  P21E,     8,  1,     23, SI9323,2,19940330,1908,-14.9112, -76.5028, 4385,    899.7,   4.7314,  34.5272,2,  34.5264,2,     45.8,2,     45.5,2,    74.28,2,    44.25,2,    -0.01,2,     3.20,2,    0.001,2,   -0.002,2, -999.000,1,-999.0000,1,  -999.00,9,   -999.0,1,-999.000,9,   2318.0,2,   2343.0,2,     7.39,2, 9023.6,-999.0000,-999.000,-999.000,  4.6589,-999.000
   318MWESTW_4,  P21E,     8,  1,     22, SI9322,2,19940330,1908,-14.9112, -76.5028, 4385,   1001.3,   4.3350,  34.5379,2,  34.5390,2,     55.4,2,     54.2,2,    82.90,2,    43.48,2,     0.00,2,     3.16,2, -999.000,9, -999.000,9, -999.000,1,   1.8578,2,    16.30,2,   -999.0,1,   7.870,2,   2321.0,2,   2352.0,2,     7.41,2,10038.0,  0.0093,   0.100,   0.039,  4.2566,-999.000
   318MWESTW_4,  P21E,     8,  1,     21, SI9321,2,19940330,1908,-14.9112, -76.5028, 4385,   1099.8,   3.9901,  34.5495,2,  34.5510,2,     62.7,2,     61.9,2,    90.99,2,    42.78,2,     0.00,2,     3.13,2, -999.000,9, -999.000,9, -999.000,1,-999.0000,1,  -999.00,9,   -999.0,1,-999.000,9,   -999.0,9,   -999.0,9,  -999.00,9,11021.6,-999.0000,-999.000,-999.000,  3.9061,-999.000
   318MWESTW_4,  P21E,     8,  1,     20, SI9320,2,19940330,1908,-14.9112, -76.5028, 4385,   1196.8,   3.7199,  34.5605,2,  34.5608,2,     68.1,2,     63.7,2,    94.52,2,    42.29,2,     0.01,2,     3.11,2, -999.000,9, -999.000,9, -999.000,1,   1.8728,2,    19.01,2,   -999.0,1,   7.890,2,   -999.0,9,   -999.0,9,  -999.00,9,11991.3,  0.0094,   0.100,   0.039,  3.6300,-999.000
   318MWESTW_4,  P21E,     8,  1,     19, SI9319,2,19940330,1908,-14.9112, -76.5028, 4385,   1299.9,   3.4335,  34.5736,2,  34.5745,2,     73.8,2,     73.1,2,   104.52,2,    41.87,2,     0.00,2,     3.06,2, -999.000,9, -999.000,9, -999.000,1,-999.0000,1,  -999.00,9,   -999.0,1,-999.000,9,   -999.0,9,   -999.0,9,  -999.00,9,13020.8,-999.0000,-999.000,-999.000,  3.3377,-999.000
   318MWESTW_4,  P21E,     8,  1,     18, SI9318,2,19940330,1908,-14.9112, -76.5028, 4385,   1401.5,   3.2013,  34.5857,2,  34.5855,2,     77.4,2,     78.1,2,   110.85,2,    41.48,2,     0.00,2,     3.03,2, -999.000,9, -999.000,9, -999.000,1,-999.0000,1,  -999.00,9,   -999.0,1,-999.000,9,   -999.0,9,   -999.0,9,  -999.00,9,14036.1,-999.0000,-999.000,-999.000,  3.0994,-999.000
   318MWESTW_4,  P21E,     8,  1,     17, SI9317,2,19940330,1908,-14.9112, -76.5028, 4385,   1503.7,   3.0055,  34.5971,2,  34.5963,2,     81.2,2,     82.3,2,   116.12,2,    41.05,2,     0.00,2,     2.99,2, -999.000,9, -999.000,9, -999.000,1,   1.9493,2,    23.06,2,   -999.0,1,   8.172,2,   -999.0,9,   -999.0,9,  -999.00,9,15057.1,  0.0097,   0.100,   0.041,  2.8972,-999.000
   318MWESTW_4,  P21E,     8,  1,     16, SI9316,2,19940330,1908,-14.9112, -76.5028, 4385,   1602.0,   2.8320,  34.6071,2,  34.6064,2,     85.3,2,     87.4,2,   120.52,2,    40.62,2,     0.00,2,     2.96,2, -999.000,9, -999.000,9, -999.000,1,-999.0000,1,  -999.00,9,   -999.0,1,-999.000,9,   -999.0,9,   -999.0,9,  -999.00,9,16038.7,-999.0000,-999.000,-999.000,  2.7176,-999.000
   318MWESTW_4,  P21E,     8,  1,     15, SI9315,2,19940330,1908,-14.9112, -76.5028, 4385,   1801.6,   2.5528,  34.6245,2,  34.6219,2,     93.6,2,     97.0,2,   127.03,2,    39.76,2,     0.00,2,     2.89,2, -999.000,9, -999.000,9, -999.000,1,-999.0000,1,  -999.00,9,   -999.0,1,-999.000,9,   -999.0,9,   -999.0,9,  -999.00,9,18032.7,-999.0000,-999.000,-999.000,  2.4251,-999.000
   318MWESTW_4,  P21E,     8,  1,     14, SI9314,2,19940330,1908,-14.9112, -76.5028, 4385,   2003.0,   2.3145,  34.6403,2,  34.6378,2,    102.9,2,    104.9,2,   133.53,2,    39.06,2,     0.00,2,     2.82,2, -999.000,9, -999.000,9, -999.000,1,-999.0000,1,  -999.00,9,   -999.0,1,-999.000,9,   -999.0,9,   -999.0,9,  -999.00,9,20044.9,-999.0000,-999.000,-999.000,  2.1730,-999.000
   318MWESTW_4,  P21E,     8,  1,     13, SI9313,2,19940330,1908,-14.9112, -76.5028, 4385,   2202.2,   2.0392,  34.6572,2,  34.6567,2,    111.3,2,    117.6,2,   138.27,2,    38.02,2,     0.00,2,     2.74,2, -999.000,9, -999.000,9, -999.000,1,-999.0000,1,  -999.00,9,   -999.0,1,-999.000,9,   -999.0,9,   -999.0,9,  -999.00,9,22034.7,-999.0000,-999.000,-999.000,  1.8848,-999.000
   318MWESTW_4,  P21E,     8,  1,     12, SI9312,2,19940330,1908,-14.9112, -76.5028, 4385,   2400.3,   1.9214,  34.6660,2,  34.6651,2,    125.2,2,    125.4,2,   138.64,2,    37.43,2,     0.01,2,     2.68,2, -999.000,9, -999.000,9, -999.000,1,-999.0000,1,  -999.00,9,   -999.0,1,-999.000,9,   -999.0,9,   -999.0,9,  -999.00,9,24014.7,-999.0000,-999.000,-999.000,  1.7515,-999.000
   318MWESTW_4,  P21E,     8,  1,     11, SI9311,2,19940330,1908,-14.9112, -76.5028, 4385,   2599.9,   1.8514,  34.6718,2,  34.6700,2,    126.6,2,    130.6,2,   138.83,2,    37.10,2,     0.01,2,     2.64,2, -999.000,9, -999.000,9, -999.000,1,-999.0000,1,  -999.00,9,   -999.0,1,-999.000,9,   -999.0,9,   -999.0,9,  -999.00,9,26008.3,-999.0000,-999.000,-999.000,  1.6647,-999.000
   318MWESTW_4,  P21E,     8,  1,     10, SI9310,2,19940330,1908,-14.9112, -76.5028, 4385,   2797.2,   1.8017,  34.6763,2,  34.6753,2,    129.9,2,    132.1,2,   141.65,2,    37.10,2,     0.01,2,     2.63,2, -999.000,9, -999.000,9, -999.000,1,-999.0000,1,  -999.00,9,   -999.0,1,-999.000,9,   -999.0,9,   -999.0,9,  -999.00,9,27980.6,-999.0000,-999.000,-999.000,  1.5977,-999.000
   318MWESTW_4,  P21E,     8,  1,      9, SI9309,2,19940330,1908,-14.9112, -76.5028, 4385,   2998.4,   1.7889,  34.6786,2,  34.6783,2,    128.9,2,    131.1,2,   145.17,2,    37.23,2,     0.00,2,     2.64,2, -999.000,9, -999.000,9, -999.000,1,-999.0000,1,  -999.00,9,   -999.0,1,-999.000,9,   -999.0,9,   -999.0,9,  -999.00,9,29990.5,-999.0000,-999.000,-999.000,  1.5659,-999.000
   318MWESTW_4,  P21E,     8,  1,      8, SI9308,2,19940330,1908,-14.9112, -76.5028, 4385,   3199.2,   1.7894,  34.6801,2,  34.6783,2,    131.0,2,    132.1,2,   145.71,2,    37.11,2,     0.01,2,     2.63,2, -999.000,9, -999.000,9, -999.000,1,-999.0000,1,  -999.00,9,   -999.0,1,-999.000,9,   -999.0,9,   -999.0,9,  -999.00,9,31997.7,-999.0000,-999.000,-999.000,  1.5466,-999.000
   318MWESTW_4,  P21E,     8,  1,      7, SI9307,3,19940330,1908,-14.9112, -76.5028, 4385,   3395.6,   1.7960,  34.6816,2,  34.7052,4,    132.4,2,    119.6,4,   117.19,4,    34.16,4,     0.03,4,     2.53,4, -999.000,9, -999.000,9, -999.000,1,-999.0000,1,  -999.00,9,   -999.0,1,-999.000,9,   -999.0,9,   -999.0,9,  -999.00,9,33960.4,-999.0000,-999.000,-999.000,  1.5332,-999.000
   318MWESTW_4,  P21E,     8,  1,      6, SI9306,2,19940330,1908,-14.9112, -76.5028, 4385,   3596.8,   1.8041,  34.6827,2,  34.6806,2,    134.3,2,    134.9,2,   144.35,2,    36.85,2,     0.01,2,     2.62,2, -999.000,9, -999.000,9, -999.000,1,-999.0000,1,  -999.00,9,   -999.0,1,-999.000,9,   -999.0,9,   -999.0,9,  -999.00,9,35971.5,-999.0000,-999.000,-999.000,  1.5202,-999.000
   318MWESTW_4,  P21E,     8,  1,      5, SI9305,2,19940330,1908,-14.9112, -76.5028, 4385,   3793.3,   1.8052,  34.6844,2,  34.6830,2,    137.3,2,    137.9,2,   141.91,2,    36.64,2,     0.01,2,     2.60,2, -999.000,9, -999.000,9, -999.000,1,-999.0000,1,  -999.00,9,   -999.0,1,-999.000,9,   -999.0,9,   -999.0,9,  -999.00,9,37934.9,-999.0000,-999.000,-999.000,  1.5003,-999.000
   318MWESTW_4,  P21E,     8,  1,      4, SI9304,2,19940330,1908,-14.9112, -76.5028, 4385,   3998.4,   1.8044,  34.6863,2,  34.6853,2,    143.4,2,    142.6,2,   138.25,2,    36.20,2,     0.02,2,     2.56,2, -999.000,9, -999.000,9, -999.000,1,-999.0000,1,  -999.00,9,   -999.0,1,-999.000,9,   -999.0,9,   -999.0,9,  -999.00,9,39984.9,-999.0000,-999.000,-999.000,  1.4771,-999.000
   318MWESTW_4,  P21E,     8,  1,      3, SI9303,2,19940330,1908,-14.9112, -76.5028, 4385,   4195.0,   1.8052,  34.6875,2,  34.6875,2,    148.9,2,    147.7,2,   134.41,2,    35.88,2,     0.02,2,     2.55,2, -999.000,9, -999.000,9, -999.000,1,-999.0000,1,  -999.00,9,   -999.0,1,-999.000,9,   -999.0,9,   -999.0,9,  -999.00,9,41950.4,-999.0000,-999.000,-999.000,  1.4559,-999.000
   318MWESTW_4,  P21E,     8,  1,      2, SI9302,2,19940330,1908,-14.9112, -76.5028, 4385,   4383.9,   1.7899,  34.6900,2,  34.6887,2,    161.0,2,    156.6,2,   127.89,2,    35.24,2,     0.00,2,     2.47,2, -999.000,9, -999.000,9, -999.000,1,-999.0000,1,  -999.00,9,   -999.0,1,-999.000,9,   -999.0,9,   -999.0,9,  -999.00,9,43838.4,-999.0000,-999.000,-999.000,  1.4194,-999.000
   318MWESTW_4,  P21E,     8,  1,      1, SI9301,2,19940330,1908,-14.9112, -76.5028, 4385,   4434.5,   1.7874,  34.6910,2,  34.6914,2,    162.6,2,    157.5,2,   127.26,2,    35.15,2,     0.00,2,     2.47,2, -999.000,9, -999.000,9, -999.000,1,-999.0000,1,  -999.00,9,   -999.0,1,-999.000,9,   -999.0,9,   -999.0,9,  -999.00,9,44344.9,-999.0000,-999.000,-999.000,  1.4111,-999.000