BOTTLE,20010911WHPSIOdm
EXPOCODE,SECT_ID,STNNBR,CASTNO,SAMPNO,BTLNBR,BTLNBR_FLAG_W,DATE,TIME,LATITUDE,LONGITUDE,DEPTH,CTDPRS,CTDTMP,CTDSAL,CTDSAL_FLAG_W,SALNTY,SALNTY_FLAG_W,CTDOXY,CTDOXY_FLAG_W,OXYGEN,OXYGEN_FLAG_W,SILCAT,SILCAT_FLAG_W,NITRAT,NITRAT_FLAG_W,NITRIT,NITRIT_FLAG_W,PHSPHT,PHSPHT_FLAG_W,CFC-11,CFC-11_FLAG_W,CFC-12,CFC-12_FLAG_W,TRITUM,TRITUM_FLAG_W,HELIUM,HELIUM_FLAG_W,DELHE3,DELHE3_FLAG_W,DELC14,DELC14_FLAG_W,NEON,NEON_FLAG_W,TCARBN,TCARBN_FLAG_W,ALKALI,ALKALI_FLAG_W,PH,PH_FLAG_W,CTDRAW,HELIER,DELHER,NEONER,THETA,TRITER
,,,,,,,,,,,,DBAR,ITS-90,PSS-78,,PSS-78,,UMOL/KG,,UMOL/KG,,UMOL/KG,,UMOL/KG,,UMOL/KG,,UMOL/KG,,PMOL/KG,,PMOL/KG,,TU,,UMOL/KG,,PERCNT,,/MILLE,,NMOL/KG,,UMOL/KG,,UMOL/KG,,,,,NMOL/KG,PERCNT,NMOL/KG,ITS-90,TU
   318MWESTW_4,  P21E,    23,  1,     36, SI9336,2,19940403,0800,-16.4833, -75.8555, 4389,      6.3,  20.1027,  34.9806,2,  34.9821,2,    254.9,2,    244.5,2,     0.65,2,     0.29,2,     0.02,2,     0.61,2, -999.000,5, -999.000,5,    0.420,2,   1.7253,2,    -1.10,2,   -999.0,1,   7.035,2,   -999.0,9,   -999.0,9,  -999.00,9,  107.2,  0.0086,   0.080,   0.035, 20.1015,   0.006
   318MWESTW_4,  P21E,    23,  1,     35, SI9335,2,19940403,0800,-16.4833, -75.8555, 4389,     23.5,  16.2683,  35.0466,2,  34.9534,2,    252.4,4,    100.2,2,     4.84,2,     6.50,2,     0.62,2,     1.61,2,    2.079,2,    1.037,2,    0.430,2,-999.0000,1,  -999.00,9,   -999.0,1,-999.000,9,   -999.0,9,   -999.0,9,  -999.00,9,  278.6,-999.0000,-999.000,-999.000, 16.2646,   0.006
   318MWESTW_4,  P21E,    23,  1,     34, SI9334,2,19940403,0800,-16.4833, -75.8555, 4389,     48.9,  14.5956,  34.9141,2,  34.8943,2,     45.6,2,     24.2,2,    14.91,2,    21.79,2,     0.04,2,     2.46,2,    1.489,2,    0.725,2, -999.000,1,   1.7481,2,     1.98,2,   -999.0,1,   7.233,2,   -999.0,9,   -999.0,9,  -999.00,9,  532.9,  0.0087,   0.080,   0.036, 14.5884,-999.000
   318MWESTW_4,  P21E,    23,  1,     33, SI9333,2,19940403,0800,-16.4833, -75.8555, 4389,    103.3,  13.6424,  34.9443,2,  34.9429,2,      2.4,2,      0.8,2,    29.69,2,    10.02,2,     5.13,2,     2.79,2,    0.587,2,    0.351,2,    0.418,2,   1.7644,2,     4.72,2,   -999.0,1,   7.302,2,   -999.0,9,   -999.0,9,  -999.00,9, 1076.7,  0.0088,   0.090,   0.037, 13.6278,   0.006
   318MWESTW_4,  P21E,    23,  1,     32, SI9332,2,19940403,0800,-16.4833, -75.8555, 4389,    147.2,  13.5018,  34.9352,2,  34.9260,2,      2.1,2,      0.5,2,    28.65,2,    11.30,2,     5.01,2,     2.77,2,    0.560,2,    0.314,2,    0.382,2,   1.7553,2,     4.59,2,   -999.0,1,   7.283,2,   -999.0,9,   -999.0,9,  -999.00,9, 1514.7,  0.0088,   0.090,   0.036, 13.4811,   0.006
   318MWESTW_4,  P21E,    23,  1,     31, SI9331,2,19940403,0800,-16.4833, -75.8555, 4389,    202.5,  12.2186,  34.8559,2,  34.8505,2,      1.7,2,      1.0,2,    27.62,2,    19.43,2,     3.48,2,     2.70,2,    0.263,2,    0.156,2,    0.226,2,   1.7638,2,     4.21,2,   -999.0,1,   7.368,2,   -999.0,9,   -999.0,9,  -999.00,9, 2067.3,  0.0088,   0.090,   0.037, 12.1919,   0.005
   318MWESTW_4,  P21E,    23,  1,     30, SI9330,2,19940403,0800,-16.4833, -75.8555, 4389,    255.5,  11.4153,  34.8145,2,  34.8003,2,      1.5,2,      0.5,2,    28.50,2,    23.82,2,     3.63,2,     2.74,2,    0.155,2,    0.084,2,    0.116,2,   1.7853,2,     3.84,2,   -999.0,1,   7.487,2,   -999.0,9,   -999.0,9,  -999.00,9, 2596.3,  0.0089,   0.080,   0.037, 11.3830,   0.004
   318MWESTW_4,  P21E,    23,  1,     29, SI9329,2,19940403,0800,-16.4833, -75.8555, 4389,    301.9,  10.5936,  34.7536,2,  34.7443,2,      1.1,2,      0.8,2,    30.25,2,    29.15,2,     1.36,2,     2.81,2,    0.084,2,    0.046,2,    0.076,2,   1.7688,2,     3.70,2,   -999.0,1,   7.438,2,   -999.0,9,   -999.0,9,  -999.00,9, 3060.0,  0.0088,   0.080,   0.037, 10.5572,   0.004
   318MWESTW_4,  P21E,    23,  1,     28, SI9328,2,19940403,0800,-16.4833, -75.8555, 4389,    400.4,   9.0497,  34.6474,2,  34.6443,2,      3.6,2,      3.4,2,    33.56,2,    37.36,2,     0.01,2,     2.95,2,    0.036,2,    0.007,2,    0.026,2,   1.7869,2,     3.86,2,   -999.0,1,   7.597,2,   -999.0,9,   -999.0,9,  -999.00,9, 4044.1,  0.0089,   0.090,   0.038,  9.0057,   0.004
   318MWESTW_4,  P21E,    23,  1,     27, SI9327,2,19940403,0800,-16.4833, -75.8555, 4389,    497.4,   7.9181,  34.5759,2,  34.5763,2,     13.6,2,     14.6,2,    36.34,2,    40.21,2,     0.01,2,     3.01,2,    0.030,2,    0.008,2,    0.015,2,   1.8114,2,     4.43,2,   -999.0,1,   7.714,2,   -999.0,9,   -999.0,9,  -999.00,9, 5013.3,  0.0091,   0.090,   0.039,  7.8674,   0.003
   318MWESTW_4,  P21E,    23,  1,     26, SI9326,2,19940403,0800,-16.4833, -75.8555, 4389,    599.6,   6.8675,  34.5226,2,  34.5258,2,     29.3,2,     29.4,2,    41.56,2,    41.97,2,     0.01,2,     3.06,2,    0.017,2,    0.004,2,    0.012,2,   1.8014,2,     5.74,2,   -999.0,1,   7.702,2,   -999.0,9,   -999.0,9,  -999.00,9, 6033.5,  0.0090,   0.090,   0.039,  6.8107,   0.003
   318MWESTW_4,  P21E,    23,  1,     25, SI9325,2,19940403,0800,-16.4833, -75.8555, 4389,    700.1,   5.8050,  34.5040,2,  34.5066,2,     37.1,2,     35.2,2,    53.39,2,    43.72,2,     0.00,2,     3.17,2,    0.004,2,    0.000,2,   -0.001,2,   1.8231,2,     8.72,2,   -999.0,1,   7.792,2,   -999.0,9,   -999.0,9,  -999.00,9, 7037.5,  0.0091,   0.090,   0.039,  5.7439,   0.003
   318MWESTW_4,  P21E,    23,  1,     24, SI9324,2,19940403,0800,-16.4833, -75.8555, 4389,    804.8,   4.9954,  34.5130,2,  34.5125,2,     39.0,2,     45.2,2,    65.91,2,    43.83,2,     0.00,2,     3.19,2,   -0.003,2,   -0.002,2,    0.000,2,   1.8575,2,    11.94,2,   -999.0,1,   7.900,2,   -999.0,9,   -999.0,9,  -999.00,9, 8083.0,  0.0093,   0.090,   0.039,  4.9295,   0.003
   318MWESTW_4,  P21E,    23,  1,     23, SI9323,2,19940403,0800,-16.4833, -75.8555, 4389,    896.8,   4.5944,  34.5154,2,  34.6629,4,     50.7,2,    128.7,4,   132.96,4,    37.14,4,     0.00,4,     2.65,4, -999.000,9, -999.000,9, -999.000,1,-999.0000,1,  -999.00,9,   -999.0,1,-999.000,9,   -999.0,9,   -999.0,9,  -999.00,9, 9002.7,-999.0000,-999.000,-999.000,  4.5231,-999.000
   318MWESTW_4,  P21E,    23,  1,     22, SI9322,2,19940403,0800,-16.4833, -75.8555, 4389,    998.1,   4.1841,  34.5270,2,  34.5303,2,     59.3,2,     63.6,2,    81.56,2,    42.63,2,     0.00,2,     3.10,2, -999.000,9, -999.000,9,    0.007,2,   1.8607,2,    16.09,2,   -999.0,1,   7.913,2,   -999.0,9,   -999.0,9,  -999.00,9,10014.5,  0.0093,   0.100,   0.040,  4.1071,   0.004
   318MWESTW_4,  P21E,    23,  1,     21, SI9321,2,19940403,0800,-16.4833, -75.8555, 4389,   1097.3,   3.9067,  34.5410,2,  34.5433,2,     67.9,2,     68.7,2,    88.33,2,    42.27,2,    -0.01,2,     3.08,2, -999.000,9, -999.000,9, -999.000,1,-999.0000,1,  -999.00,9,   -999.0,1,-999.000,9,   -999.0,9,   -999.0,9,  -999.00,9,11005.2,-999.0000,-999.000,-999.000,  3.8236,-999.000
   318MWESTW_4,  P21E,    23,  1,     20, SI9320,2,19940403,0800,-16.4833, -75.8555, 4389,   1203.2,   3.5912,  34.5558,2,  34.5582,2,     74.9,2,     75.6,2,    95.98,2,    41.75,2,    -0.01,2,     3.03,2, -999.000,9, -999.000,9, -999.000,1,-999.0000,1,  -999.00,9,   -999.0,1,-999.000,9,   -999.0,9,   -999.0,9,  -999.00,9,12063.0,-999.0000,-999.000,-999.000,  3.5020,-999.000
   318MWESTW_4,  P21E,    23,  1,     19, SI9319,2,19940403,0800,-16.4833, -75.8555, 4389,   1301.9,   3.3274,  34.5702,2,  34.5720,2,     81.0,2,     81.4,2,   102.41,2,    41.23,2,    -0.01,2,     3.01,2, -999.000,9, -999.000,9,    0.002,2,   1.8900,2,    20.96,2,   -999.0,1,   7.994,2,   -999.0,9,   -999.0,9,  -999.00,9,13048.7,  0.0095,   0.100,   0.040,  3.2325,   0.004
   318MWESTW_4,  P21E,    23,  1,     18, SI9318,2,19940403,0800,-16.4833, -75.8555, 4389,   1403.3,   3.1059,  34.5829,2,  34.5857,2,     84.3,2,     85.4,2,   109.02,2,    40.92,2,    -0.01,2,     2.97,2, -999.000,9, -999.000,9, -999.000,1,-999.0000,1,  -999.00,9,   -999.0,1,-999.000,9,   -999.0,9,   -999.0,9,  -999.00,9,14061.3,-999.0000,-999.000,-999.000,  3.0049,-999.000
   318MWESTW_4,  P21E,    23,  1,     17, SI9317,2,19940403,0800,-16.4833, -75.8555, 4389,   1495.3,   2.9471,  34.5949,2,  34.5969,2,     88.1,2,     88.5,2,   113.89,2,    40.60,2,    -0.01,2,     2.96,2, -999.000,9, -999.000,9,    0.004,2,   1.8946,2,    23.84,2,   -999.0,1,   8.000,2,   -999.0,9,   -999.0,9,  -999.00,9,14980.8,  0.0095,   0.100,   0.040,  2.8402,   0.003
   318MWESTW_4,  P21E,    23,  1,     16, SI9316,2,19940403,0800,-16.4833, -75.8555, 4389,   1591.7,   2.7341,  34.6062,2,  34.6087,2,     93.8,2,     96.3,2,   118.24,2,    40.03,2,    -0.01,2,     2.90,2, -999.000,9, -999.000,9, -999.000,1,-999.0000,1,  -999.00,9,   -999.0,1,-999.000,9,   -999.0,9,   -999.0,9,  -999.00,9,15944.3,-999.0000,-999.000,-999.000,  2.6217,-999.000
   318MWESTW_4,  P21E,    23,  1,     15, SI9315,2,19940403,0800,-16.4833, -75.8555, 4389,   1793.6,   2.4977,  34.6265,2,  34.6282,2,     97.1,2,     98.2,2,   128.49,2,    39.76,2,     0.00,2,     2.87,2, -999.000,9, -999.000,9, -999.000,1,-999.0000,1,  -999.00,9,   -999.0,1,-999.000,9,   -999.0,9,   -999.0,9,  -999.00,9,17960.5,-999.0000,-999.000,-999.000,  2.3714,-999.000
   318MWESTW_4,  P21E,    23,  1,     14, SI9314,2,19940403,0800,-16.4833, -75.8555, 4389,   1998.1,   2.2500,  34.6418,2,  34.6437,2,    108.7,2,    109.0,2,   132.83,2,    38.78,2,    -0.01,2,     2.80,2, -999.000,9, -999.000,9, -999.000,1,-999.0000,1,  -999.00,9,   -999.0,1,-999.000,9,   -999.0,9,   -999.0,9,  -999.00,9,20004.2,-999.0000,-999.000,-999.000,  2.1099,-999.000
   318MWESTW_4,  P21E,    23,  1,     13, SI9313,2,19940403,0800,-16.4833, -75.8555, 4389,   2195.4,   2.0893,  34.6546,2,  34.6555,2,    115.4,2,    116.8,2,   135.79,2,    38.25,2,    -0.01,2,     2.75,2, -999.000,9, -999.000,9, -999.000,1,-999.0000,1,  -999.00,9,   -999.0,1,-999.000,9,   -999.0,9,   -999.0,9,  -999.00,9,21975.0,-999.0000,-999.000,-999.000,  1.9346,-999.000
   318MWESTW_4,  P21E,    23,  1,     12, SI9312,2,19940403,0800,-16.4833, -75.8555, 4389,   2401.3,   1.9464,  34.6645,2,  34.6665,2,    129.4,2,    129.7,2,   133.36,2,    37.19,2,     0.00,2,     2.66,2, -999.000,9, -999.000,9, -999.000,1,-999.0000,1,  -999.00,9,   -999.0,1,-999.000,9,   -999.0,9,   -999.0,9,  -999.00,9,24032.0,-999.0000,-999.000,-999.000,  1.7760,-999.000
   318MWESTW_4,  P21E,    23,  1,     11, SI9311,2,19940403,0800,-16.4833, -75.8555, 4389,   2603.7,   1.8548,  34.6725,2,  34.6728,2,    135.6,2,    136.2,2,   134.06,2,    36.67,2,     0.00,2,     2.61,2, -999.000,9, -999.000,9, -999.000,1,-999.0000,1,  -999.00,9,   -999.0,1,-999.000,9,   -999.0,9,   -999.0,9,  -999.00,9,26055.2,-999.0000,-999.000,-999.000,  1.6677,-999.000
   318MWESTW_4,  P21E,    23,  1,     10, SI9310,2,19940403,0800,-16.4833, -75.8555, 4389,   2791.2,   1.8115,  34.6765,2,  34.6769,2,    137.4,2,    138.3,2,   135.45,2,    36.50,2,     0.02,2,     2.59,2, -999.000,9, -999.000,9, -999.000,1,-999.0000,1,  -999.00,9,   -999.0,1,-999.000,9,   -999.0,9,   -999.0,9,  -999.00,9,27928.0,-999.0000,-999.000,-999.000,  1.6078,-999.000
   318MWESTW_4,  P21E,    23,  1,      9, SI9309,2,19940403,0800,-16.4833, -75.8555, 4389,   2996.6,   1.7931,  34.6791,2,  34.6800,2,    137.5,2,    138.5,2,   137.72,2,    36.45,2,     0.02,2,     2.60,2, -999.000,9, -999.000,9, -999.000,1,-999.0000,1,  -999.00,9,   -999.0,1,-999.000,9,   -999.0,9,   -999.0,9,  -999.00,9,29980.9,-999.0000,-999.000,-999.000,  1.5702,-999.000
   318MWESTW_4,  P21E,    23,  1,      8, SI9308,2,19940403,0800,-16.4833, -75.8555, 4389,   3203.0,   1.7813,  34.6814,2,  34.6824,2,    141.7,2,    145.1,2,   133.21,2,    36.00,2,     0.00,2,     2.54,2, -999.000,9, -999.000,9, -999.000,1,-999.0000,1,  -999.00,9,   -999.0,1,-999.000,9,   -999.0,9,   -999.0,9,  -999.00,9,32043.5,-999.0000,-999.000,-999.000,  1.5383,-999.000
   318MWESTW_4,  P21E,    23,  1,      7, SI9307,2,19940403,0800,-16.4833, -75.8555, 4389,   3404.1,   1.7643,  34.6853,2,  34.6850,2,    152.9,2,    149.9,2,   131.13,2,    35.65,2,    -0.01,2,     2.51,2, -999.000,9, -999.000,9, -999.000,1,-999.0000,1,  -999.00,9,   -999.0,1,-999.000,9,   -999.0,9,   -999.0,9,  -999.00,9,34053.7,-999.0000,-999.000,-999.000,  1.5014,-999.000
   318MWESTW_4,  P21E,    23,  1,      6, SI9306,2,19940403,0800,-16.4833, -75.8555, 4389,   3602.8,   1.7499,  34.6876,2,  34.6875,2,    157.5,2,    157.0,2,   125.24,2,    35.15,2,     0.02,2,     2.48,2, -999.000,9, -999.000,9, -999.000,1,-999.0000,1,  -999.00,9,   -999.0,1,-999.000,9,   -999.0,9,   -999.0,9,  -999.00,9,36039.3,-999.0000,-999.000,-999.000,  1.4667,-999.000
   318MWESTW_4,  P21E,    23,  1,      5, SI9305,2,19940403,0800,-16.4833, -75.8555, 4389,   3796.9,   1.7390,  34.6896,2,  34.6901,2,    159.3,2,    158.6,2,   125.41,2,    35.08,2,    -0.01,2,     2.46,2, -999.000,9, -999.000,9, -999.000,1,-999.0000,1,  -999.00,9,   -999.0,1,-999.000,9,   -999.0,9,   -999.0,9,  -999.00,9,37978.7,-999.0000,-999.000,-999.000,  1.4355,-999.000
   318MWESTW_4,  P21E,    23,  1,      4, SI9304,2,19940403,0800,-16.4833, -75.8555, 4389,   3997.5,   1.7464,  34.6903,2,  34.6906,2,    159.3,2,    159.0,2,   125.07,2,    35.13,2,     0.00,2,     2.46,2, -999.000,9, -999.000,9, -999.000,1,-999.0000,1,  -999.00,9,   -999.0,1,-999.000,9,   -999.0,9,   -999.0,9,  -999.00,9,39983.8,-999.0000,-999.000,-999.000,  1.4208,-999.000
   318MWESTW_4,  P21E,    23,  1,      3, SI9303,2,19940403,0800,-16.4833, -75.8555, 4389,   4187.4,   1.7599,  34.6908,2,  34.6912,2,    159.3,2,    158.3,2,   125.95,2,    35.09,2,    -0.01,2,     2.46,2, -999.000,9, -999.000,9, -999.000,1,-999.0000,1,  -999.00,9,   -999.0,1,-999.000,9,   -999.0,9,   -999.0,9,  -999.00,9,41882.5,-999.0000,-999.000,-999.000,  1.4127,-999.000
   318MWESTW_4,  P21E,    23,  1,      2, SI9302,2,19940403,0800,-16.4833, -75.8555, 4389,   4384.1,   1.7749,  34.6906,2,  34.6908,2,    157.3,2,    157.9,2,   126.48,2,    35.15,2,    -0.01,2,     2.46,2, -999.000,9, -999.000,9, -999.000,1,-999.0000,1,  -999.00,9,   -999.0,1,-999.000,9,   -999.0,9,   -999.0,9,  -999.00,9,43848.3,-999.0000,-999.000,-999.000,  1.4048,-999.000
   318MWESTW_4,  P21E,    23,  1,      1, SI9301,2,19940403,0800,-16.4833, -75.8555, 4389,   4420.1,   1.7784,  34.6912,2,  34.6914,2,    156.1,2,    158.0,2,   126.31,2,    35.05,2,     0.00,2,     2.47,2, -999.000,9, -999.000,9, -999.000,1,-999.0000,1,  -999.00,9,   -999.0,1,-999.000,9,   -999.0,9,   -999.0,9,  -999.00,9,44208.1,-999.0000,-999.000,-999.000,  1.4041,-999.000