BOTTLE,20010911WHPSIOdm
EXPOCODE,SECT_ID,STNNBR,CASTNO,SAMPNO,BTLNBR,BTLNBR_FLAG_W,DATE,TIME,LATITUDE,LONGITUDE,DEPTH,CTDPRS,CTDTMP,CTDSAL,CTDSAL_FLAG_W,SALNTY,SALNTY_FLAG_W,CTDOXY,CTDOXY_FLAG_W,OXYGEN,OXYGEN_FLAG_W,SILCAT,SILCAT_FLAG_W,NITRAT,NITRAT_FLAG_W,NITRIT,NITRIT_FLAG_W,PHSPHT,PHSPHT_FLAG_W,CFC-11,CFC-11_FLAG_W,CFC-12,CFC-12_FLAG_W,TRITUM,TRITUM_FLAG_W,HELIUM,HELIUM_FLAG_W,DELHE3,DELHE3_FLAG_W,DELC14,DELC14_FLAG_W,NEON,NEON_FLAG_W,TCARBN,TCARBN_FLAG_W,ALKALI,ALKALI_FLAG_W,PH,PH_FLAG_W,CTDRAW,HELIER,DELHER,NEONER,THETA,TRITER
,,,,,,,,,,,,DBAR,ITS-90,PSS-78,,PSS-78,,UMOL/KG,,UMOL/KG,,UMOL/KG,,UMOL/KG,,UMOL/KG,,UMOL/KG,,PMOL/KG,,PMOL/KG,,TU,,UMOL/KG,,PERCNT,,/MILLE,,NMOL/KG,,UMOL/KG,,UMOL/KG,,,,,NMOL/KG,PERCNT,NMOL/KG,ITS-90,TU
   318MWESTW_4,  P21E,   110,  1,     36, SI9336,2,19940430,0153,-16.7500,-120.0000, 3752,     10.1,  26.7990,  36.5170,2,  36.5268,2,    201.0,2,    211.6,2,     0.06,2,     0.00,2,     0.01,2,     0.25,2,    1.687,2,    0.950,2, -999.000,1,-999.0000,1,  -999.00,9,   -999.0,1,-999.000,9,   -999.0,9,   -999.0,9,  -999.00,9,  142.0,-999.0000,-999.000,-999.000, 26.7967,-999.000
   318MWESTW_4,  P21E,   110,  1,     35, SI9335,2,19940430,0153,-16.7500,-120.0000, 3752,     25.1,  26.7971,  36.5508,2,  36.5349,2,    201.9,2,    210.6,2,     0.23,2,     0.00,2,     0.01,2,     0.25,2,    1.707,2,    0.963,2, -999.000,1,-999.0000,1,  -999.00,9,   -999.0,1,-999.000,9,   -999.0,9,   -999.0,9,  -999.00,9,  291.6,-999.0000,-999.000,-999.000, 26.7913,-999.000
   318MWESTW_4,  P21E,   110,  1,     34, SI9334,2,19940430,0153,-16.7500,-120.0000, 3752,     49.9,  26.7090,  36.6357,2,  36.6298,2,    203.6,2,    212.5,2,     0.26,2,     0.05,2,     0.01,2,     0.25,2,    1.707,2,    0.995,2, -999.000,1,-999.0000,1,  -999.00,9,   -999.0,1,-999.000,9,   -999.0,9,   -999.0,9,  -999.00,9,  540.2,-999.0000,-999.000,-999.000, 26.6976,-999.000
   318MWESTW_4,  P21E,   110,  1,     33, SI9333,2,19940430,0153,-16.7500,-120.0000, 3752,    100.9,  24.1538,  36.4358,2,  36.4311,2,    221.4,2,    231.9,2,     0.13,2,     0.06,2,     0.00,2,     0.22,2,    1.931,2,    1.084,2, -999.000,1,-999.0000,1,  -999.00,9,   -999.0,1,-999.000,9,   -999.0,9,   -999.0,9,  -999.00,9, 1050.0,-999.0000,-999.000,-999.000, 24.1323,-999.000
   318MWESTW_4,  P21E,   110,  1,     32, SI9332,2,19940430,0153,-16.7500,-120.0000, 3752,    130.1,  23.3925,  36.3824,2,  36.3873,2,    215.9,2,    218.1,2,     0.31,2,     0.16,2,     0.00,2,     0.25,2,    1.959,2,    1.074,2, -999.000,1,-999.0000,1,  -999.00,9,   -999.0,1,-999.000,9,   -999.0,9,   -999.0,9,  -999.00,9, 1341.9,-999.0000,-999.000,-999.000, 23.3654,-999.000
   318MWESTW_4,  P21E,   110,  1,     31, SI9331,2,19940430,0153,-16.7500,-120.0000, 3752,    201.4,  21.4630,  36.0146,2,  36.0714,2,    200.7,2,    197.9,2,     0.34,2,     0.76,2,     0.23,2,     0.36,2,    2.063,2,    1.119,2, -999.000,1,-999.0000,1,  -999.00,9,   -999.0,1,-999.000,9,   -999.0,9,   -999.0,9,  -999.00,9, 2054.8,-999.0000,-999.000,-999.000, 21.4236,-999.000
   318MWESTW_4,  P21E,   110,  1,     30, SI9330,2,19940430,0153,-16.7500,-120.0000, 3752,    253.2,  18.8158,  35.4896,2,  35.5638,2,    198.8,2,    193.0,2,     0.68,2,     2.43,2,     0.02,2,     0.45,2,    2.105,2,    1.114,2, -999.000,1,-999.0000,1,  -999.00,9,   -999.0,1,-999.000,9,   -999.0,9,   -999.0,9,  -999.00,9, 2572.5,-999.0000,-999.000,-999.000, 18.7708,-999.000
   318MWESTW_4,  P21E,   110,  1,     29, SI9329,2,19940430,0153,-16.7500,-120.0000, 3752,    299.8,  15.3670,  35.0194,2,  35.0368,2,    179.3,2,    177.0,2,     2.29,2,     7.65,2,     0.01,2,     0.80,2,    1.852,2,    0.948,2, -999.000,1,-999.0000,1,  -999.00,9,   -999.0,1,-999.000,9,   -999.0,9,   -999.0,9,  -999.00,9, 3038.4,-999.0000,-999.000,-999.000, 15.3207,-999.000
   318MWESTW_4,  P21E,   110,  1,     28, SI9328,2,19940430,0153,-16.7500,-120.0000, 3752,    410.8,   8.8856,  34.4706,2,  34.4654,2,    114.9,2,    106.7,2,    15.31,2,    27.62,2,     0.01,2,     2.16,2,    0.431,6,    0.215,6, -999.000,1,-999.0000,1,  -999.00,9,   -999.0,1,-999.000,9,   -999.0,9,   -999.0,9,  -999.00,9, 4146.8,-999.0000,-999.000,-999.000,  8.8411,-999.000
   318MWESTW_4,  P21E,   110,  1,     27, SI9327,2,19940430,0153,-16.7500,-120.0000, 3752,    501.7,   6.9781,  34.4377,2,  34.4371,2,    105.6,2,    106.2,2,    22.93,2,    33.88,2,     0.00,2,     2.41,2,    0.078,2,    0.052,2, -999.000,1,-999.0000,1,  -999.00,9,   -999.0,1,-999.000,9,   -999.0,9,   -999.0,9,  -999.00,9, 5055.1,-999.0000,-999.000,-999.000,  6.9306,-999.000
   318MWESTW_4,  P21E,   110,  1,     26, SI9326,2,19940430,0153,-16.7500,-120.0000, 3752,    607.4,   6.0297,  34.4515,2,  34.4510,2,     98.4,2,     94.7,2,    34.67,2,    37.43,2,     0.00,2,     2.61,2,    0.010,2,    0.008,2, -999.000,1,-999.0000,1,  -999.00,9,   -999.0,1,-999.000,9,   -999.0,9,   -999.0,9,  -999.00,9, 6110.4,-999.0000,-999.000,-999.000,  5.9761,-999.000
   318MWESTW_4,  P21E,   110,  1,     25, SI9325,2,19940430,0153,-16.7500,-120.0000, 3752,    693.1,   5.6663,  34.4766,2,  34.4762,2,     81.5,2,     81.4,2,    44.05,2,    39.52,2,     0.00,2,     2.75,2,   -0.001,2,    0.003,2, -999.000,1,-999.0000,1,  -999.00,9,   -999.0,1,-999.000,9,   -999.0,9,   -999.0,9,  -999.00,9, 6966.8,-999.0000,-999.000,-999.000,  5.6066,-999.000
   318MWESTW_4,  P21E,   110,  1,     24, SI9324,2,19940430,0153,-16.7500,-120.0000, 3752,    797.3,   5.1942,  34.4944,2,  34.4952,2,     71.6,2,     71.2,2,    55.79,2,    41.18,2,     0.00,2,     2.88,2,   -0.002,2,   -0.001,2, -999.000,1,-999.0000,1,  -999.00,9,   -999.0,1,-999.000,9,   -999.0,9,   -999.0,9,  -999.00,9, 8007.0,-999.0000,-999.000,-999.000,  5.1278,-999.000
   318MWESTW_4,  P21E,   110,  1,     23, SI9323,2,19940430,0153,-16.7500,-120.0000, 3752,    897.5,   4.8043,  34.5070,2,  34.5058,2,     70.7,2,     71.2,2,    64.05,2,    41.61,2,    -0.01,2,     2.93,2,   -0.003,2,   -0.002,2, -999.000,1,-999.0000,1,  -999.00,9,   -999.0,1,-999.000,9,   -999.0,9,   -999.0,9,  -999.00,9, 9007.9,-999.0000,-999.000,-999.000,  4.7315,-999.000
   318MWESTW_4,  P21E,   110,  1,     22, SI9322,2,19940430,0153,-16.7500,-120.0000, 3752,   1001.2,   4.3623,  34.5201,2,  34.5223,2,     74.9,2,     75.7,2,    74.06,2,    41.41,2,    -0.01,2,     2.93,2,   -0.001,2,    0.001,2, -999.000,1,-999.0000,1,  -999.00,9,   -999.0,1,-999.000,9,   -999.0,9,   -999.0,9,  -999.00,9,10044.6,-999.0000,-999.000,-999.000,  4.2837,-999.000
   318MWESTW_4,  P21E,   110,  1,     21, SI9321,2,19940430,0153,-16.7500,-120.0000, 3752,   1100.6,   4.0496,  34.5350,2,  34.5345,2,     79.7,2,     80.1,2,    81.20,2,    41.20,2,    -0.01,2,     2.93,2, -999.000,9, -999.000,9, -999.000,1,-999.0000,1,  -999.00,9,   -999.0,1,-999.000,9,   -999.0,9,   -999.0,9,  -999.00,9,11037.0,-999.0000,-999.000,-999.000,  3.9650,-999.000
   318MWESTW_4,  P21E,   110,  1,     20, SI9320,2,19940430,0153,-16.7500,-120.0000, 3752,   1200.3,   3.7678,  34.5501,2,  34.5459,2,     84.2,2,     84.5,2,    87.88,2,    40.83,2,     0.00,2,     2.91,2, -999.000,9, -999.000,9, -999.000,1,-999.0000,1,  -999.00,9,   -999.0,1,-999.000,9,   -999.0,9,   -999.0,9,  -999.00,9,12033.1,-999.0000,-999.000,-999.000,  3.6772,-999.000
   318MWESTW_4,  P21E,   110,  1,     19, SI9319,2,19940430,0153,-16.7500,-120.0000, 3752,   1301.8,   3.4708,  34.5642,2,  34.5612,2,     89.5,2,     89.4,2,    94.88,2,    40.42,2,    -0.01,2,     2.88,2, -999.000,9, -999.000,9, -999.000,1,-999.0000,1,  -999.00,9,   -999.0,1,-999.000,9,   -999.0,9,   -999.0,9,  -999.00,9,13046.8,-999.0000,-999.000,-999.000,  3.3745,-999.000
   318MWESTW_4,  P21E,   110,  1,     18, SI9318,2,19940430,0153,-16.7500,-120.0000, 3752,   1399.5,   3.2234,  34.5782,2,  34.5745,2,     95.8,2,     94.9,2,   101.07,2,    39.99,2,     0.00,2,     2.85,2, -999.000,9, -999.000,9, -999.000,1,-999.0000,1,  -999.00,9,   -999.0,1,-999.000,9,   -999.0,9,   -999.0,9,  -999.00,9,14023.1,-999.0000,-999.000,-999.000,  3.1215,-999.000
   318MWESTW_4,  P21E,   110,  1,     17, SI9317,2,19940430,0153,-16.7500,-120.0000, 3752,   1499.8,   3.0042,  34.5908,2,  34.5871,2,    101.6,2,    100.5,2,   106.01,2,    39.58,2,     0.00,2,     2.83,2, -999.000,9, -999.000,9, -999.000,1,-999.0000,1,  -999.00,9,   -999.0,1,-999.000,9,   -999.0,9,   -999.0,9,  -999.00,9,15024.8,-999.0000,-999.000,-999.000,  2.8963,-999.000
   318MWESTW_4,  P21E,   110,  1,     16, SI9316,2,19940430,0153,-16.7500,-120.0000, 3752,   1598.5,   2.7669,  34.6002,2,  34.6001,2,    107.2,2,    107.7,2,   110.79,2,    38.81,2,    -0.01,2,     2.78,2, -999.000,9, -999.000,9, -999.000,1,-999.0000,1,  -999.00,9,   -999.0,1,-999.000,9,   -999.0,9,   -999.0,9,  -999.00,9,16011.0,-999.0000,-999.000,-999.000,  2.6536,-999.000
   318MWESTW_4,  P21E,   110,  1,     15, SI9315,2,19940430,0153,-16.7500,-120.0000, 3752,   1749.2,   2.4553,  34.6183,2,  34.6183,2,    121.5,2,    123.5,2,   114.29,2,    37.77,2,    -0.02,2,     2.68,2, -999.000,9, -999.000,9, -999.000,1,-999.0000,1,  -999.00,9,   -999.0,1,-999.000,9,   -999.0,9,   -999.0,9,  -999.00,9,17516.0,-999.0000,-999.000,-999.000,  2.3334,-999.000
   318MWESTW_4,  P21E,   110,  1,     14, SI9314,2,19940430,0153,-16.7500,-120.0000, 3752,   1902.9,   2.1908,  34.6330,2,  34.6346,2,    135.6,2,    138.6,2,   116.05,2,    36.46,2,    -0.01,2,     2.56,2, -999.000,9, -999.000,9, -999.000,1,-999.0000,1,  -999.00,9,   -999.0,1,-999.000,9,   -999.0,9,   -999.0,9,  -999.00,9,19051.5,-999.0000,-999.000,-999.000,  2.0597,-999.000
   318MWESTW_4,  P21E,   110,  1,     13, SI9313,2,19940430,0153,-16.7500,-120.0000, 3752,   2051.1,   2.0426,  34.6469,2,  34.6460,2,    146.6,2,    147.4,2,   117.35,2,    35.67,2,     0.00,2,     2.51,2, -999.000,9, -999.000,9, -999.000,1,-999.0000,1,  -999.00,9,   -999.0,1,-999.000,9,   -999.0,9,   -999.0,9,  -999.00,9,20532.6,-999.0000,-999.000,-999.000,  1.9011,-999.000
   318MWESTW_4,  P21E,   110,  1,     12, SI9312,2,19940430,0153,-16.7500,-120.0000, 3752,   2202.7,   1.9277,  34.6564,2,  34.6582,2,    150.5,2,    152.1,2,   120.07,2,    35.37,2,    -0.02,2,     2.47,2, -999.000,9, -999.000,9, -999.000,1,-999.0000,1,  -999.00,9,   -999.0,1,-999.000,9,   -999.0,9,   -999.0,9,  -999.00,9,22047.1,-999.0000,-999.000,-999.000,  1.7751,-999.000
   318MWESTW_4,  P21E,   110,  1,     11, SI9311,2,19940430,0153,-16.7500,-120.0000, 3752,   2352.0,   1.8710,  34.6634,2,  34.6647,2,    152.7,2,    154.1,2,   122.15,2,    35.20,2,     0.00,2,     2.46,2, -999.000,9, -999.000,9, -999.000,1,-999.0000,1,  -999.00,9,   -999.0,1,-999.000,9,   -999.0,9,   -999.0,9,  -999.00,9,23538.8,-999.0000,-999.000,-999.000,  1.7063,-999.000
   318MWESTW_4,  P21E,   110,  1,     10, SI9310,2,19940430,0153,-16.7500,-120.0000, 3752,   2503.5,   1.8335,  34.6683,2,  34.6698,2,    154.1,2,    155.0,2,   123.75,2,    35.16,2,    -0.01,2,     2.46,2, -999.000,9, -999.000,9, -999.000,1,-999.0000,1,  -999.00,9,   -999.0,1,-999.000,9,   -999.0,9,   -999.0,9,  -999.00,9,25052.7,-999.0000,-999.000,-999.000,  1.6559,-999.000
   318MWESTW_4,  P21E,   110,  1,      9, SI9309,2,19940430,0153,-16.7500,-120.0000, 3752,   2650.4,   1.8070,  34.6725,2,  34.6730,2,    154.4,2,    155.4,2,   125.68,2,    35.15,2,     0.00,2,     2.46,2, -999.000,9, -999.000,9, -999.000,1,-999.0000,1,  -999.00,9,   -999.0,1,-999.000,9,   -999.0,9,   -999.0,9,  -999.00,9,26520.3,-999.0000,-999.000,-999.000,  1.6165,-999.000
   318MWESTW_4,  P21E,   110,  1,      8, SI9308,2,19940430,0153,-16.7500,-120.0000, 3752,   2798.4,   1.7769,  34.6740,2,  34.6747,2,    156.7,2,    157.6,2,   125.86,2,    35.04,2,     0.00,2,     2.45,2, -999.000,9, -999.000,9, -999.000,1,-999.0000,1,  -999.00,9,   -999.0,1,-999.000,9,   -999.0,9,   -999.0,9,  -999.00,9,27999.2,-999.0000,-999.000,-999.000,  1.5733,-999.000
   318MWESTW_4,  P21E,   110,  1,      7, SI9307,2,19940430,0153,-16.7500,-120.0000, 3752,   2949.6,   1.7461,  34.6758,2,  34.6757,2,    158.9,2,    159.5,2,   126.20,2,    34.94,2,     0.00,2,     2.44,2, -999.000,9, -999.000,9, -999.000,1,-999.0000,1,  -999.00,9,   -999.0,1,-999.000,9,   -999.0,9,   -999.0,9,  -999.00,9,29510.4,-999.0000,-999.000,-999.000,  1.5287,-999.000
   318MWESTW_4,  P21E,   110,  1,      6, SI9306,2,19940430,0153,-16.7500,-120.0000, 3752,   3096.2,   1.7429,  34.6765,2,  34.6781,2,    159.1,2,    160.1,2,   126.55,2,    34.94,2,     0.00,2,     2.44,2, -999.000,9, -999.000,9, -999.000,1,-999.0000,1,  -999.00,9,   -999.0,1,-999.000,9,   -999.0,9,   -999.0,9,  -999.00,9,30975.4,-999.0000,-999.000,-999.000,  1.5114,-999.000
   318MWESTW_4,  P21E,   110,  1,      5, SI9305,2,19940430,0153,-16.7500,-120.0000, 3752,   3248.0,   1.7378,  34.6781,2,  34.6767,2,    160.3,2,    160.5,2,   127.05,2,    34.88,2,     0.00,2,     2.44,2, -999.000,9, -999.000,9, -999.000,1,-999.0000,1,  -999.00,9,   -999.0,1,-999.000,9,   -999.0,9,   -999.0,9,  -999.00,9,32491.8,-999.0000,-999.000,-999.000,  1.4914,-999.000
   318MWESTW_4,  P21E,   110,  1,      4, SI9304,2,19940430,0153,-16.7500,-120.0000, 3752,   3392.3,   1.7298,  34.6792,2,  34.6793,2,    160.8,2,    160.8,2,   127.87,2,    34.95,2,    -0.01,2,     2.44,2, -999.000,9, -999.000,9, -999.000,1,-999.0000,1,  -999.00,9,   -999.0,1,-999.000,9,   -999.0,9,   -999.0,9,  -999.00,9,33934.1,-999.0000,-999.000,-999.000,  1.4690,-999.000
   318MWESTW_4,  P21E,   110,  1,      3, SI9303,2,19940430,0153,-16.7500,-120.0000, 3752,   3596.3,   1.7201,  34.6810,2,  34.6798,2,    162.3,2,    161.2,2,   128.36,2,    34.84,2,     0.00,2,     2.44,2, -999.000,9, -999.000,9, -999.000,1,-999.0000,1,  -999.00,9,   -999.0,1,-999.000,9,   -999.0,9,   -999.0,9,  -999.00,9,35973.5,-999.0000,-999.000,-999.000,  1.4384,-999.000
   318MWESTW_4,  P21E,   110,  1,      2, SI9302,2,19940430,0153,-16.7500,-120.0000, 3752,   3748.0,   1.7219,  34.6816,2,  34.6810,2,    162.2,2,    161.5,2,   128.86,2,    34.84,2,    -0.01,2,     2.44,2, -999.000,9, -999.000,9, -999.000,1,-999.0000,1,  -999.00,9,   -999.0,1,-999.000,9,   -999.0,9,   -999.0,9,  -999.00,9,37489.1,-999.0000,-999.000,-999.000,  1.4241,-999.000
   318MWESTW_4,  P21E,   110,  1,      1, SI9301,2,19940430,0153,-16.7500,-120.0000, 3752,   3787.5,   1.7267,  34.6814,2,  34.6816,2,    162.8,2,    161.9,2,   128.51,2,    34.78,2,     0.00,2,     2.44,2, -999.000,9, -999.000,9, -999.000,1,-999.0000,1,  -999.00,9,   -999.0,1,-999.000,9,   -999.0,9,   -999.0,9,  -999.00,9,37884.6,-999.0000,-999.000,-999.000,  1.4246,-999.000