BOTTLE,20010911WHPSIOdm
EXPOCODE,SECT_ID,STNNBR,CASTNO,SAMPNO,BTLNBR,BTLNBR_FLAG_W,DATE,TIME,LATITUDE,LONGITUDE,DEPTH,CTDPRS,CTDTMP,CTDSAL,CTDSAL_FLAG_W,SALNTY,SALNTY_FLAG_W,CTDOXY,CTDOXY_FLAG_W,OXYGEN,OXYGEN_FLAG_W,SILCAT,SILCAT_FLAG_W,NITRAT,NITRAT_FLAG_W,NITRIT,NITRIT_FLAG_W,PHSPHT,PHSPHT_FLAG_W,CFC-11,CFC-11_FLAG_W,CFC-12,CFC-12_FLAG_W,TRITUM,TRITUM_FLAG_W,HELIUM,HELIUM_FLAG_W,DELHE3,DELHE3_FLAG_W,DELC14,DELC14_FLAG_W,NEON,NEON_FLAG_W,TCARBN,TCARBN_FLAG_W,ALKALI,ALKALI_FLAG_W,PH,PH_FLAG_W,CTDRAW,HELIER,DELHER,NEONER,THETA,TRITER
,,,,,,,,,,,,DBAR,ITS-90,PSS-78,,PSS-78,,UMOL/KG,,UMOL/KG,,UMOL/KG,,UMOL/KG,,UMOL/KG,,UMOL/KG,,PMOL/KG,,PMOL/KG,,TU,,UMOL/KG,,PERCNT,,/MILLE,,NMOL/KG,,UMOL/KG,,UMOL/KG,,,,,NMOL/KG,PERCNT,NMOL/KG,ITS-90,TU
   318MWESTW_4,  P21E,    10,  1,     36, SI9336,2,19940331,0616,-15.2445, -76.6722, 3699,      5.9,  23.5626,  35.1087,2,  35.1530,2,    195.2,2,    217.2,2,     0.51,2,     0.20,2,     0.00,2,     0.43,2,    1.984,2,    1.069,2, -999.000,1,-999.0000,1,  -999.00,9,   -999.0,1,-999.000,9,   2042.8,2,   2339.0,2,     8.01,2,  100.1,-999.0000,-999.000,-999.000, 23.5614,-999.000
   318MWESTW_4,  P21E,    10,  1,     35, SI9335,2,19940331,0616,-15.2445, -76.6722, 3699,     23.0,  22.7615,  35.0658,2,  35.0707,2,    200.7,2,    201.1,2,     1.23,2,     1.33,2,     0.15,2,     0.61,2,    2.124,2,    1.128,2, -999.000,1,-999.0000,1,  -999.00,9,   -999.0,1,-999.000,9,   2084.8,2,   2332.0,2,     7.92,2,  271.5,-999.0000,-999.000,-999.000, 22.7568,-999.000
   318MWESTW_4,  P21E,    10,  1,     34, SI9334,2,19940331,0616,-15.2445, -76.6722, 3699,     48.6,  14.2674,  34.9399,3,  34.8174,2,     59.2,2,     67.7,2,    10.52,2,    19.99,2,     0.06,2,     2.05,2,    1.815,2,    0.920,2, -999.000,1,-999.0000,1,  -999.00,9,   -999.0,1,-999.000,9,   2205.9,2,   2302.0,2,     7.58,2,  526.6,-999.0000,-999.000,-999.000, 14.2603,-999.000
   318MWESTW_4,  P21E,    10,  1,     33, SI9333,2,19940331,0616,-15.2445, -76.6722, 3699,     98.8,  12.9903,  34.7936,2,  34.8346,2,     23.2,2,      5.7,2,    23.82,2,    17.98,2,     0.01,2,     2.63,2,    0.627,2,    0.346,2, -999.000,1,-999.0000,1,  -999.00,9,   -999.0,1,-999.000,9,   2257.9,2,   2309.0,2,     7.46,2, 1028.5,-999.0000,-999.000,-999.000, 12.9768,-999.000
   318MWESTW_4,  P21E,    10,  1,     32, SI9332,2,19940331,0616,-15.2445, -76.6722, 3699,    151.2,  12.1429,  34.8237,2,  34.8300,2,      1.0,2,      0.5,2,    26.98,2,    17.81,2,     2.68,2,     2.72,2,    0.258,2,    0.152,2, -999.000,1,-999.0000,1,  -999.00,9,   -999.0,1,-999.000,9,   2269.0,2,   2309.0,2,     7.43,2, 1551.5,-999.0000,-999.000,-999.000, 12.1231,-999.000
   318MWESTW_4,  P21E,    10,  1,     31, SI9331,2,19940331,0616,-15.2445, -76.6722, 3699,    200.9,  11.4146,  34.7865,2,  34.7840,2,      1.0,2,      1.0,2,    27.18,2,    25.08,2,     1.20,2,     2.70,2,    0.165,2,    0.094,2, -999.000,1,-999.0000,1,  -999.00,9,   -999.0,1,-999.000,9,   2270.0,2,   2304.0,2,     7.41,2, 2048.0,-999.0000,-999.000,-999.000, 11.3893,-999.000
   318MWESTW_4,  P21E,    10,  1,     30, SI9330,2,19940331,0616,-15.2445, -76.6722, 3699,    251.8,  10.6513,  34.7370,2,  34.7394,2,      0.4,2,      0.5,2,    28.76,2,    29.14,2,     0.85,2,     2.76,2,    0.101,2,    0.057,2, -999.000,1,-999.0000,1,  -999.00,9,   -999.0,1,-999.000,9,   2276.0,2,   2305.0,2,     7.39,2, 2557.2,-999.0000,-999.000,-999.000, 10.6209,-999.000
   318MWESTW_4,  P21E,    10,  1,     29, SI9329,2,19940331,0616,-15.2445, -76.6722, 3699,    301.7,   9.6716,  34.6877,2,  34.6838,2,      0.9,2,      1.7,2,    31.06,2,    34.72,2,     0.02,2,     2.83,2,    0.047,2,    0.024,2, -999.000,1,-999.0000,1,  -999.00,9,   -999.0,1,-999.000,9,   2279.0,2,   2303.0,2,     7.38,2, 3055.7,-999.0000,-999.000,-999.000,  9.6373,-999.000
   318MWESTW_4,  P21E,    10,  1,     28, SI9328,2,19940331,0616,-15.2445, -76.6722, 3699,    398.4,   8.1088,  34.5984,2,  34.5871,2,     11.3,2,     15.2,2,    34.05,2,    39.96,2,     0.02,2,     2.92,2,    0.028,2,    0.010,2, -999.000,1,-999.0000,1,  -999.00,9,   -999.0,1,-999.000,9,   2279.0,2,   2304.0,2,     7.38,2, 4021.5,-999.0000,-999.000,-999.000,  8.0679,-999.000
   318MWESTW_4,  P21E,    10,  1,     27, SI9327,2,19940331,0616,-15.2445, -76.6722, 3699,    499.8,   7.2066,  34.5501,2,  34.5549,2,     18.2,2,     17.4,2,    41.23,2,    42.52,2,     0.02,2,     3.06,2,    0.015,2,    0.005,2, -999.000,1,-999.0000,1,  -999.00,9,   -999.0,1,-999.000,9,   2287.0,2,   2309.0,2,     7.37,2, 5033.6,-999.0000,-999.000,-999.000,  7.1583,-999.000
   318MWESTW_4,  P21E,    10,  1,     26, SI9326,2,19940331,0616,-15.2445, -76.6722, 3699,    600.9,   6.3674,  34.5205,2,  34.5270,2,     26.5,2,     24.6,2,    48.42,2,    43.92,2,     0.02,2,     3.14,2,    0.005,2,    0.000,2, -999.000,1,-999.0000,1,  -999.00,9,   -999.0,1,-999.000,9,   2295.0,2,   2313.0,2,     7.37,2, 6044.1,-999.0000,-999.000,-999.000,  6.3128,-999.000
   318MWESTW_4,  P21E,    10,  1,     25, SI9325,2,19940331,0616,-15.2445, -76.6722, 3699,    702.0,   5.6486,  34.5167,2,  34.5178,2,     32.0,2,     30.2,2,    57.69,2,    44.77,2,     0.02,2,     3.20,2,   -0.002,2,   -0.003,2, -999.000,1,-999.0000,1,  -999.00,9,   -999.0,1,-999.000,9,   2303.0,2,   2323.0,2,     7.38,2, 7054.0,-999.0000,-999.000,-999.000,  5.5881,-999.000
   318MWESTW_4,  P21E,    10,  1,     24, SI9324,2,19940331,0616,-15.2445, -76.6722, 3699,    804.9,   5.0863,  34.5178,2,  34.5186,2,     39.2,2,     38.5,2,    66.45,2,    44.81,2,     0.01,2,     3.19,2,   -0.003,2,   -0.004,2, -999.000,1,-999.0000,1,  -999.00,9,   -999.0,1,-999.000,9,   2310.0,2,   2333.0,2,     7.38,2, 8081.0,-999.0000,-999.000,-999.000,  5.0198,-999.000
   318MWESTW_4,  P21E,    10,  1,     23, SI9323,2,19940331,0616,-15.2445, -76.6722, 3699,    900.7,   4.6368,  34.5294,2,  34.5309,2,     48.8,2,     47.1,2,    76.25,2,    44.22,2,     0.02,2,     3.18,2,   -0.001,2,   -0.003,2, -999.000,1,-999.0000,1,  -999.00,9,   -999.0,1,-999.000,9,   2316.0,2,   2345.0,2,     7.40,2, 9038.0,-999.0000,-999.000,-999.000,  4.5649,-999.000
   318MWESTW_4,  P21E,    10,  1,     22, SI9322,2,19940331,0616,-15.2445, -76.6722, 3699,    999.9,   4.2853,  34.5384,2,  34.5400,2,     57.0,2,     55.5,2,    82.90,2,    43.48,2,     0.02,2,     3.14,2, -999.000,9, -999.000,9, -999.000,1,-999.0000,1,  -999.00,9,   -999.0,1,-999.000,9,   2317.0,2,   2352.0,2,     7.41,2,10029.3,-999.0000,-999.000,-999.000,  4.2074,-999.000
   318MWESTW_4,  P21E,    10,  1,     21, SI9321,2,19940331,0616,-15.2445, -76.6722, 3699,   1097.2,   4.0226,  34.5453,2,  34.5466,2,     62.4,2,     61.6,2,    88.86,2,    42.90,2,     0.02,2,     3.11,2, -999.000,9, -999.000,9, -999.000,1,-999.0000,1,  -999.00,9,   -999.0,1,-999.000,9,   2321.0,2,   2359.0,2,     7.42,2,11001.1,-999.0000,-999.000,-999.000,  3.9385,-999.000
   318MWESTW_4,  P21E,    10,  1,     20, SI9320,2,19940331,0616,-15.2445, -76.6722, 3699,   1199.8,   3.6578,  34.5612,2,  34.5626,2,     70.0,2,     69.5,2,    97.60,2,    42.23,2,     0.01,2,     3.07,2, -999.000,9, -999.000,9, -999.000,1,-999.0000,1,  -999.00,9,   -999.0,1,-999.000,9,   2326.0,2,   2370.0,2,     7.43,2,12025.9,-999.0000,-999.000,-999.000,  3.5683,-999.000
   318MWESTW_4,  P21E,    10,  1,     19, SI9319,2,19940331,0616,-15.2445, -76.6722, 3699,   1297.5,   3.4099,  34.5739,2,  34.5749,2,     75.0,2,     74.0,2,   104.26,2,    41.88,2,     0.01,2,     3.04,2, -999.000,9, -999.000,9, -999.000,1,-999.0000,1,  -999.00,9,   -999.0,1,-999.000,9,   2330.0,2,   2376.0,2,     7.44,2,13002.2,-999.0000,-999.000,-999.000,  3.3146,-999.000
   318MWESTW_4,  P21E,    10,  1,     18, SI9318,2,19940331,0616,-15.2445, -76.6722, 3699,   1399.4,   3.2072,  34.5836,2,  34.5853,2,     77.5,2,     78.8,2,   109.16,2,    41.47,2,     0.01,2,     3.00,2, -999.000,9, -999.000,9, -999.000,1,-999.0000,1,  -999.00,9,   -999.0,1,-999.000,9,   2333.0,2,   2383.0,2,     7.44,2,14019.8,-999.0000,-999.000,-999.000,  3.1054,-999.000
   318MWESTW_4,  P21E,    10,  1,     17, SI9317,2,19940331,0616,-15.2445, -76.6722, 3699,   1501.2,   2.9946,  34.5965,2,  34.5991,2,     83.1,2,     82.4,2,   116.33,2,    41.21,2,     0.01,2,     2.99,2, -999.000,9, -999.000,9, -999.000,1,-999.0000,1,  -999.00,9,   -999.0,1,-999.000,9,   2339.0,2,   2390.0,2,     7.46,2,15037.0,-999.0000,-999.000,-999.000,  2.8867,-999.000
   318MWESTW_4,  P21E,    10,  1,     16, SI9316,3,19940331,0616,-15.2445, -76.6722, 3699,   1604.1,   2.8020,  34.6075,2,  34.6887,4,     86.3,2,   -999.0,9,    56.45,4,    31.13,4,     0.27,4,     2.57,4, -999.000,9, -999.000,9, -999.000,1,-999.0000,1,  -999.00,9,   -999.0,1,-999.000,9,   -999.0,9,   -999.0,9,  -999.00,9,16065.1,-999.0000,-999.000,-999.000,  2.6877,-999.000
   318MWESTW_4,  P21E,    10,  1,     15, SI9315,2,19940331,0616,-15.2445, -76.6722, 3699,   1751.6,   2.5522,  34.6237,2,  34.6252,2,     93.0,2,     94.3,2,   128.22,2,    39.44,2,     0.02,2,     2.88,2, -999.000,9, -999.000,9, -999.000,1,-999.0000,1,  -999.00,9,   -999.0,1,-999.000,9,   2344.0,2,   2405.0,2,     7.48,2,17538.3,-999.0000,-999.000,-999.000,  2.4287,-999.000
   318MWESTW_4,  P21E,    10,  1,     14, SI9314,2,19940331,0616,-15.2445, -76.6722, 3699,   1898.8,   2.3719,  34.6344,2,  34.6362,2,    101.3,2,    102.2,2,   131.56,2,    38.81,2,     0.02,2,     2.84,2, -999.000,9, -999.000,9, -999.000,1,-999.0000,1,  -999.00,9,   -999.0,1,-999.000,9,   2343.0,2,   2410.0,2,     7.50,2,19008.9,-999.0000,-999.000,-999.000,  2.2385,-999.000
   318MWESTW_4,  P21E,    10,  1,     13, SI9313,2,19940331,0616,-15.2445, -76.6722, 3699,   2049.6,   2.2104,  34.6448,2,  34.6464,2,    105.5,2,    109.2,2,   134.71,2,    38.30,2,     0.01,2,     2.78,2, -999.000,9, -999.000,9, -999.000,1,-999.0000,1,  -999.00,9,   -999.0,1,-999.000,9,   2343.0,2,   2415.0,2,     7.51,2,20515.3,-999.0000,-999.000,-999.000,  2.0665,-999.000
   318MWESTW_4,  P21E,    10,  1,     12, SI9312,2,19940331,0616,-15.2445, -76.6722, 3699,   2203.0,   2.0820,  34.6530,2,  34.6553,2,    116.9,2,    118.4,2,   134.19,2,    37.61,2,     0.01,2,     2.72,2, -999.000,9, -999.000,9, -999.000,1,-999.0000,1,  -999.00,9,   -999.0,1,-999.000,9,   2339.0,2,   2413.0,2,     7.53,2,22048.3,-999.0000,-999.000,-999.000,  1.9268,-999.000
   318MWESTW_4,  P21E,    10,  1,     11, SI9311,2,19940331,0616,-15.2445, -76.6722, 3699,   2351.6,   1.9986,  34.6603,2,  34.6614,2,    122.8,2,    125.0,2,   133.86,2,    37.14,2,     0.01,2,     2.68,2, -999.000,9, -999.000,9, -999.000,1,-999.0000,1,  -999.00,9,   -999.0,1,-999.000,9,   2335.0,2,   2415.0,2,     7.54,2,23533.2,-999.0000,-999.000,-999.000,  1.8317,-999.000
   318MWESTW_4,  P21E,    10,  1,     10, SI9310,2,19940331,0616,-15.2445, -76.6722, 3699,   2495.4,   1.9099,  34.6667,2,  34.6673,2,    133.2,2,    134.2,2,   132.12,2,    36.57,2,     0.01,2,     2.62,2, -999.000,9, -999.000,9, -999.000,1,-999.0000,1,  -999.00,9,   -999.0,1,-999.000,9,   2329.0,2,   2412.0,2,     7.55,2,24969.3,-999.0000,-999.000,-999.000,  1.7317,-999.000
   318MWESTW_4,  P21E,    10,  1,      9, SI9309,2,19940331,0616,-15.2445, -76.6722, 3699,   2645.2,   1.8482,  34.6721,2,  34.6722,2,    136.9,2,    137.6,2,   133.36,2,    36.32,2,     0.01,2,     2.60,2, -999.000,9, -999.000,9, -999.000,1,-999.0000,1,  -999.00,9,   -999.0,1,-999.000,9,   2327.0,2,   2416.0,2,     7.55,2,26466.5,-999.0000,-999.000,-999.000,  1.6574,-999.000
   318MWESTW_4,  P21E,    10,  1,      8, SI9308,2,19940331,0616,-15.2445, -76.6722, 3699,   2793.9,   1.8165,  34.6759,2,  34.6749,2,    139.2,2,    138.6,2,   135.29,2,    36.29,2,     0.01,2,     2.60,2, -999.000,9, -999.000,9, -999.000,1,-999.0000,1,  -999.00,9,   -999.0,1,-999.000,9,   2329.0,2,   2418.0,2,     7.56,2,27951.9,-999.0000,-999.000,-999.000,  1.6125,-999.000
   318MWESTW_4,  P21E,    10,  1,      7, SI9307,2,19940331,0616,-15.2445, -76.6722, 3699,   2944.6,   1.7968,  34.6789,2,  34.6789,2,    141.8,2,    141.8,2,   134.42,2,    36.04,2,     0.01,2,     2.57,2, -999.000,9, -999.000,9, -999.000,1,-999.0000,1,  -999.00,9,   -999.0,1,-999.000,9,   2327.0,2,   2420.0,2,     7.57,2,29458.6,-999.0000,-999.000,-999.000,  1.5788,-999.000
   318MWESTW_4,  P21E,    10,  1,      6, SI9306,2,19940331,0616,-15.2445, -76.6722, 3699,   3100.0,   1.7804,  34.6807,2,  34.6812,2,    147.7,2,    148.1,2,   130.94,2,    35.73,2,     0.02,2,     2.53,2, -999.000,9, -999.000,9, -999.000,1,-999.0000,1,  -999.00,9,   -999.0,1,-999.000,9,   2321.0,2,   2415.0,2,     7.58,2,31010.8,-999.0000,-999.000,-999.000,  1.5477,-999.000
   318MWESTW_4,  P21E,    10,  1,      5, SI9305,2,19940331,0616,-15.2445, -76.6722, 3699,   3224.2,   1.7714,  34.6830,2,  34.6840,2,    149.8,2,    148.7,2,   131.13,2,    35.48,2,     0.02,2,     2.53,2, -999.000,9, -999.000,9, -999.000,1,-999.0000,1,  -999.00,9,   -999.0,1,-999.000,9,   2322.0,2,   2416.0,2,     7.58,2,32252.3,-999.0000,-999.000,-999.000,  1.5265,-999.000
   318MWESTW_4,  P21E,    10,  1,      4, SI9304,2,19940331,0616,-15.2445, -76.6722, 3699,   3391.8,   1.7625,  34.6846,2,  34.6855,2,    147.3,2,    146.7,2,   133.76,2,    35.68,2,     0.02,2,     2.54,2, -999.000,9, -999.000,9, -999.000,1,-999.0000,1,  -999.00,9,   -999.0,1,-999.000,9,   2324.0,2,   2419.0,2,     7.58,2,33926.9,-999.0000,-999.000,-999.000,  1.5009,-999.000
   318MWESTW_4,  P21E,    10,  1,      3, SI9303,2,19940331,0616,-15.2445, -76.6722, 3699,   3548.3,   1.7593,  34.6862,2,  34.6851,2,    152.7,2,    150.2,2,   131.34,2,    35.31,2,     0.02,2,     2.52,2, -999.000,9, -999.000,9, -999.000,1,-999.0000,1,  -999.00,9,   -999.0,1,-999.000,9,   2321.0,2,   2416.0,2,     7.58,2,35491.8,-999.0000,-999.000,-999.000,  1.4816,-999.000
   318MWESTW_4,  P21E,    10,  1,      2, SI9302,2,19940331,0616,-15.2445, -76.6722, 3699,   3654.9,   1.7534,  34.6872,2,  34.6877,2,    153.9,2,    153.6,2,   129.08,2,    35.12,2,     0.02,2,     2.49,2,   -0.001,2,   -0.005,2, -999.000,1,-999.0000,1,  -999.00,9,   -999.0,1,-999.000,9,   2317.0,2,   2416.0,2,     7.58,2,36557.1,-999.0000,-999.000,-999.000,  1.4646,-999.000
   318MWESTW_4,  P21E,    10,  1,      1, SI9301,2,19940331,0616,-15.2445, -76.6722, 3699,   3704.9,   1.7456,  34.6877,2,  34.6885,2,    155.7,2,    156.1,2,   127.65,2,    35.12,2,     0.01,2,     2.47,2,    0.000,2,   -0.004,2, -999.000,1,-999.0000,1,  -999.00,9,   -999.0,1,-999.000,9,   2314.0,2,   2412.0,2,     7.58,2,37056.3,-999.0000,-999.000,-999.000,  1.4517,-999.000