BOTTLE,20010911WHPSIOdm
EXPOCODE,SECT_ID,STNNBR,CASTNO,SAMPNO,BTLNBR,BTLNBR_FLAG_W,DATE,TIME,LATITUDE,LONGITUDE,DEPTH,CTDPRS,CTDTMP,CTDSAL,CTDSAL_FLAG_W,SALNTY,SALNTY_FLAG_W,CTDOXY,CTDOXY_FLAG_W,OXYGEN,OXYGEN_FLAG_W,SILCAT,SILCAT_FLAG_W,NITRAT,NITRAT_FLAG_W,NITRIT,NITRIT_FLAG_W,PHSPHT,PHSPHT_FLAG_W,CFC-11,CFC-11_FLAG_W,CFC-12,CFC-12_FLAG_W,TRITUM,TRITUM_FLAG_W,HELIUM,HELIUM_FLAG_W,DELHE3,DELHE3_FLAG_W,DELC14,DELC14_FLAG_W,NEON,NEON_FLAG_W,TCARBN,TCARBN_FLAG_W,ALKALI,ALKALI_FLAG_W,PH,PH_FLAG_W,CTDRAW,HELIER,DELHER,NEONER,THETA,TRITER
,,,,,,,,,,,,DBAR,ITS-90,PSS-78,,PSS-78,,UMOL/KG,,UMOL/KG,,UMOL/KG,,UMOL/KG,,UMOL/KG,,UMOL/KG,,PMOL/KG,,PMOL/KG,,TU,,UMOL/KG,,PERCNT,,/MILLE,,NMOL/KG,,UMOL/KG,,UMOL/KG,,,,,NMOL/KG,PERCNT,NMOL/KG,ITS-90,TU
   318MWESTW_5,  P21W,   230,  1,     29, SI9429,2,19940608,1604,-17.8333, 173.0000, 2953,      5.5,  25.6998,  34.7781,2,  34.7763,2,    212.4,2,    210.3,2,     0.76,2,     0.00,2,     0.00,2,     0.12,2,    1.731,2,    1.006,2, -999.000,1,-999.0000,1,  -999.00,9,   -999.0,1,-999.000,9,   1927.2,2,   2282.0,2,     8.12,2,  114.5,-999.0000,-999.000,-999.000, 25.6986,-999.000
   318MWESTW_5,  P21W,   230,  1,     28, SI9428,2,19940608,1604,-17.8333, 173.0000, 2953,     25.9,  25.7089,  34.7778,2,  34.7775,2,    217.8,2,    207.8,2,     0.78,2,     0.00,2,     0.00,2,     0.12,2,    1.748,2,    1.002,2, -999.000,1,-999.0000,1,  -999.00,9,   -999.0,1,-999.000,9,   1926.4,2,   2286.2,2,     8.12,2,  317.8,-999.0000,-999.000,-999.000, 25.7032,-999.000
   318MWESTW_5,  P21W,   230,  1,     27, SI9424,2,19940608,1604,-17.8333, 173.0000, 2953,     52.5,  25.5854,  35.0692,2,  35.0085,2,    209.2,2,    219.5,2,     0.65,2,     0.00,2,     0.00,2,     0.13,2, -999.000,9, -999.000,9, -999.000,1,-999.0000,1,  -999.00,9,   -999.0,1,-999.000,9,   1944.6,2,   2296.5,2,     8.11,2,  583.3,-999.0000,-999.000,-999.000, 25.5738,-999.000
   318MWESTW_5,  P21W,   230,  1,     26, SI9414,2,19940608,1604,-17.8333, 173.0000, 2953,    101.5,  23.5866,  35.6444,2,  35.6242,2,    203.0,2,    192.8,2,     0.82,2,     1.13,2,     0.09,2,     0.27,2,    1.860,2,    1.063,2, -999.000,1,-999.0000,1,  -999.00,9,   -999.0,1,-999.000,9,   2014.9,2,   2336.8,2,     8.04,2, 1070.7,-999.0000,-999.000,-999.000, 23.5654,-999.000
   318MWESTW_5,  P21W,   230,  1,     25, SI9425,2,19940608,1604,-17.8333, 173.0000, 2953,    142.0,  22.0520,  35.7711,2,  35.7712,2,    183.8,2,    182.1,2,     0.99,2,     3.00,2,     0.01,2,     0.36,2,    1.922,2,    1.077,2, -999.000,1,-999.0000,1,  -999.00,9,   -999.0,1,-999.000,9,   2043.6,2,   2348.7,2,     8.01,2, 1474.3,-999.0000,-999.000,-999.000, 22.0238,-999.000
   318MWESTW_5,  P21W,   230,  1,     24, SI9434,2,19940608,1604,-17.8333, 173.0000, 2953,    198.4,  20.4793,  35.7406,2,  35.7385,2,    189.9,2,    188.1,2,     1.01,2,     2.84,2,     0.01,2,     0.33,2,    2.042,2,    1.131,2, -999.000,1,-999.0000,1,  -999.00,9,   -999.0,1,-999.000,9,   2044.1,2,   2346.4,2,     8.00,2, 2035.7,-999.0000,-999.000,-999.000, 20.4418,-999.000
   318MWESTW_5,  P21W,   230,  1,     23, SI9423,2,19940608,1604,-17.8333, 173.0000, 2953,    248.8,  18.9497,  35.6314,2,  35.6287,2,    181.9,2,    178.5,2,     1.47,2,     4.78,2,     0.00,2,     0.50,2,    1.880,2,    1.035,2, -999.000,1,-999.0000,1,  -999.00,9,   -999.0,1,-999.000,9,   2067.6,2,   2333.9,2,     7.95,2, 2537.9,-999.0000,-999.000,-999.000, 18.9052,-999.000
   318MWESTW_5,  P21W,   230,  1,     22, SI9418,2,19940608,1604,-17.8333, 173.0000, 2953,    305.7,  16.9281,  35.4638,2,  35.4669,2,    181.2,2,    184.2,2,     2.08,2,     6.31,2,     0.00,2,     0.60,2,    1.849,2,    1.002,2, -999.000,1,-999.0000,1,  -999.00,9,   -999.0,1,-999.000,9,   2078.1,2,   2325.3,2,     7.92,2, 3103.8,-999.0000,-999.000,-999.000, 16.8775,-999.000
   318MWESTW_5,  P21W,   230,  1,     21, SI9421,2,19940608,1604,-17.8333, 173.0000, 2953,    345.9,  15.4684,  35.3322,2,  35.3301,2,    183.6,2,    184.3,2,     2.98,2,     8.43,2,     0.00,2,     0.71,2,    1.787,2,    0.952,2, -999.000,1,-999.0000,1,  -999.00,9,   -999.0,1,-999.000,9,   2089.5,2,   2319.9,2,     7.95,3, 3504.0,-999.0000,-999.000,-999.000, 15.4145,-999.000
   318MWESTW_5,  P21W,   230,  1,     20, SI9420,2,19940608,1604,-17.8333, 173.0000, 2953,    400.4,  13.2104,  35.0998,2,  35.1012,2,    183.9,2,    185.3,2,     4.48,2,    12.33,2,     0.00,2,     0.95,2,    1.594,2,    0.842,2, -999.000,1,-999.0000,1,  -999.00,9,   -999.0,1,-999.000,9,   2108.0,2,   2308.2,2,     7.83,2, 4046.2,-999.0000,-999.000,-999.000, 13.1543,-999.000
   318MWESTW_5,  P21W,   230,  1,     19, SI9419,2,19940608,1604,-17.8333, 173.0000, 2953,    445.2,  10.5618,  34.7710,2,  34.7675,2,    185.2,2,    186.0,2,     7.46,2,    17.67,2,     0.00,2,     1.31,2, -999.000,9, -999.000,9, -999.000,1,-999.0000,1,  -999.00,9,   -999.0,1,-999.000,9,   2133.2,2,   2294.3,2,     7.76,2, 4492.2,-999.0000,-999.000,-999.000, 10.5078,-999.000
   318MWESTW_5,  P21W,   230,  1,     18, SI9439,2,19940608,1604,-17.8333, 173.0000, 2953,    499.0,   8.6891,  34.5854,2,  34.5793,2,    190.3,2,    191.2,2,    10.28,2,    21.51,2,     0.00,2,     1.52,2,    0.732,6,    0.391,6, -999.000,1,-999.0000,1,  -999.00,9,   -999.0,1,-999.000,9,   2147.7,2,   2289.5,2,     7.71,2, 5027.2,-999.0000,-999.000,-999.000,  8.6354,-999.000
   318MWESTW_5,  P21W,   230,  1,     17, SI9417,2,19940608,1604,-17.8333, 173.0000, 2953,    600.2,   6.8236,  34.4357,2,  34.4347,2,    196.5,2,    199.0,2,    16.81,2,    25.85,2,     0.00,2,     1.81,2,    0.370,2,    0.205,2, -999.000,1,-999.0000,1,  -999.00,9,   -999.0,1,-999.000,9,   2162.8,2,   2289.1,2,     7.67,2, 6033.7,-999.0000,-999.000,-999.000,  6.7671,-999.000
   318MWESTW_5,  P21W,   230,  1,     16, SI9416,2,19940608,1604,-17.8333, 173.0000, 2953,    702.0,   5.7218,  34.3999,2,  34.4002,2,    187.9,2,    186.1,2,    27.19,2,    29.05,2,     0.00,2,     2.04,2,    0.152,2,    0.091,2, -999.000,1,-999.0000,1,  -999.00,9,   -999.0,1,-999.000,9,   2185.5,2,   2298.6,2,     7.63,2, 7045.5,-999.0000,-999.000,-999.000,  5.6611,-999.000
   318MWESTW_5,  P21W,   230,  1,     15, SI9415,2,19940608,1604,-17.8333, 173.0000, 2953,    795.2,   5.0001,  34.3964,2,  34.3955,2,    182.4,2,    182.2,2,    35.78,2,    30.66,2,     0.00,2,     2.15,2,    0.072,2,    0.045,2, -999.000,1,-999.0000,1,  -999.00,9,   -999.0,1,-999.000,9,   2198.4,2,   2306.6,2,     7.62,2, 7972.1,-999.0000,-999.000,-999.000,  4.9352,-999.000
   318MWESTW_5,  P21W,   230,  1,     14, SI9436,2,19940608,1604,-17.8333, 173.0000, 2953,    898.7,   4.5914,  34.4175,2,  34.4171,2,    173.9,2,    174.4,2,    44.53,2,    31.83,2,     0.00,2,     2.23,2,    0.041,2,    0.027,2, -999.000,1,-999.0000,1,  -999.00,9,   -999.0,1,-999.000,9,   2216.8,2,   2313.5,2,     7.59,2, 9001.3,-999.0000,-999.000,-999.000,  4.5201,-999.000
   318MWESTW_5,  P21W,   230,  1,     13, SI9413,2,19940608,1604,-17.8333, 173.0000, 2953,    993.9,   4.2161,  34.4437,2,  34.4442,2,    168.6,2,    168.8,2,    54.02,2,    32.81,2,     0.00,2,     2.29,2, -999.000,9, -999.000,9, -999.000,1,-999.0000,1,  -999.00,9,   -999.0,1,-999.000,9,   2226.5,2,   2325.2,2,     7.58,2, 9947.6,-999.0000,-999.000,-999.000,  4.1394,-999.000
   318MWESTW_5,  P21W,   230,  1,     12, SI9438,2,19940608,1604,-17.8333, 173.0000, 2953,   1095.9,   3.7680,  34.4904,2,  34.4913,2,    160.1,2,    158.8,2,    68.68,2,    33.97,2,     0.00,2,     2.38,2,    0.008,2,    0.004,2, -999.000,1,-999.0000,1,  -999.00,9,   -999.0,1,-999.000,9,   2245.2,2,   2341.6,2,     7.57,2,10961.5,-999.0000,-999.000,-999.000,  3.6863,-999.000
   318MWESTW_5,  P21W,   230,  1,     11, SI9411,2,19940608,1604,-17.8333, 173.0000, 2953,   1209.0,   3.5237,  34.5143,2,  34.5150,2,    155.7,2,    156.1,2,    76.40,2,    34.55,2,     0.00,2,     2.40,2,    0.007,2,    0.004,2, -999.000,1,-999.0000,1,  -999.00,9,   -999.0,1,-999.000,9,   2256.1,2,   2347.2,2,     7.56,2,12086.1,-999.0000,-999.000,-999.000,  3.4347,-999.000
   318MWESTW_5,  P21W,   230,  1,     10, SI9412,2,19940608,1604,-17.8333, 173.0000, 2953,   1404.4,   3.0576,  34.5603,2,  34.5590,2,    151.9,2,    149.4,2,    91.37,2,    35.22,2,     0.00,2,     2.45,2,   -0.001,2,    0.001,2, -999.000,1,-999.0000,1,  -999.00,9,   -999.0,1,-999.000,9,   2278.0,2,   2364.1,2,     7.55,2,14029.6,-999.0000,-999.000,-999.000,  2.9571,-999.000
   318MWESTW_5,  P21W,   230,  1,      9, SI9410,2,19940608,1604,-17.8333, 173.0000, 2953,   1615.3,   2.6976,  34.5930,2,  34.5928,2,    148.7,2,    147.5,2,   103.38,2,    35.60,2,     0.00,2,     2.48,2, -999.000,9, -999.000,9, -999.000,1,-999.0000,1,  -999.00,9,   -999.0,1,-999.000,9,   2296.6,2,   2380.6,2,     7.55,2,16126.0,-999.0000,-999.000,-999.000,  2.5837,-999.000
   318MWESTW_5,  P21W,   230,  1,      8, SI9422,2,19940608,1604,-17.8333, 173.0000, 2953,   1757.9,   2.4694,  34.6135,2,  34.6126,2,    147.8,2,    146.3,2,   110.37,2,    35.63,2,     0.00,2,     2.50,2, -999.000,9, -999.000,9, -999.000,1,-999.0000,1,  -999.00,9,   -999.0,1,-999.000,9,   2291.7,2,   2385.5,2,     7.55,2,17543.4,-999.0000,-999.000,-999.000,  2.3466,-999.000
   318MWESTW_5,  P21W,   230,  1,      7, SI9407,2,19940608,1604,-17.8333, 173.0000, 2953,   1989.8,   2.2378,  34.6328,2,  34.6321,2,    147.7,2,    147.0,2,   117.65,2,    35.52,2,     0.00,2,     2.51,2, -999.000,9, -999.000,9, -999.000,1,-999.0000,1,  -999.00,9,   -999.0,1,-999.000,9,   2303.6,2,   2393.3,2,     7.55,2,19848.8,-999.0000,-999.000,-999.000,  2.0986,-999.000
   318MWESTW_5,  P21W,   230,  1,      6, SI9427,2,19940608,1604,-17.8333, 173.0000, 2953,   2207.2,   2.0691,  34.6463,2,  34.6458,2,    148.1,2,    146.2,2,   123.89,2,    35.65,2,     0.00,2,     2.51,2,   -0.002,2,   -0.002,2, -999.000,1,-999.0000,1,  -999.00,9,   -999.0,1,-999.000,9,   2309.5,2,   2399.2,2,     7.55,2,22010.0,-999.0000,-999.000,-999.000,  1.9138,-999.000
   318MWESTW_5,  P21W,   230,  1,      5, SI9405,2,19940608,1604,-17.8333, 173.0000, 2953,   2405.1,   1.9816,  34.6518,2,  34.6521,2,    147.0,2,    146.5,2,   127.33,2,    35.83,2,     0.00,2,     2.51,2, -999.000,9, -999.000,9, -999.000,1,-999.0000,1,  -999.00,9,   -999.0,1,-999.000,9,   2313.5,2,   2405.4,2,     7.55,2,23977.6,-999.0000,-999.000,-999.000,  1.8102,-999.000
   318MWESTW_5,  P21W,   230,  1,      4, SI9404,2,19940608,1604,-17.8333, 173.0000, 2953,   2597.1,   1.9461,  34.6571,2,  34.6557,2,    146.7,2,    145.7,2,   129.14,2,    36.01,2,     0.00,2,     2.51,2, -999.000,9, -999.000,9, -999.000,1,-999.0000,1,  -999.00,9,   -999.0,1,-999.000,9,   2315.9,2,   2404.3,2,     7.55,2,25885.9,-999.0000,-999.000,-999.000,  1.7579,-999.000
   318MWESTW_5,  P21W,   230,  1,      3, SI9403,2,19940608,1604,-17.8333, 173.0000, 2953,   2791.6,   1.9145,  34.6595,2,  34.6582,2,    147.3,2,    146.3,2,   130.95,2,    36.15,2,     0.00,2,     2.51,2, -999.000,9, -999.000,9, -999.000,1,-999.0000,1,  -999.00,9,   -999.0,1,-999.000,9,   2321.6,2,   2408.5,2,     7.55,2,27819.8,-999.0000,-999.000,-999.000,  1.7087,-999.000
   318MWESTW_5,  P21W,   230,  1,      2, SI9437,2,19940608,1604,-17.8333, 173.0000, 2953,   2969.4,   1.9228,  34.6595,2,  34.6592,2,    146.8,2,    145.5,2,   130.98,2,    36.17,2,     0.00,2,     2.51,2, -999.000,9, -999.000,9, -999.000,1,-999.0000,1,  -999.00,9,   -999.0,1,-999.000,9,   2316.3,2,   2406.2,2,     7.55,2,29587.7,-999.0000,-999.000,-999.000,  1.6998,-999.000
   318MWESTW_5,  P21W,   230,  1,      1, SI9401,2,19940608,1604,-17.8333, 173.0000, 2953,   3011.0,   1.9265,  34.6600,2,  34.6590,2,    147.4,2,    150.3,4,   131.17,2,    36.04,2,     0.00,2,     2.51,2,    0.000,2,   -0.002,2, -999.000,1,-999.0000,1,  -999.00,9,   -999.0,1,-999.000,9,   2317.5,2,   2406.7,2,     7.55,2,30000.5,-999.0000,-999.000,-999.000,  1.6993,-999.000