BOTTLE,20010911WHPSIOdm
EXPOCODE,SECT_ID,STNNBR,CASTNO,SAMPNO,BTLNBR,BTLNBR_FLAG_W,DATE,TIME,LATITUDE,LONGITUDE,DEPTH,CTDPRS,CTDTMP,CTDSAL,CTDSAL_FLAG_W,SALNTY,SALNTY_FLAG_W,CTDOXY,CTDOXY_FLAG_W,OXYGEN,OXYGEN_FLAG_W,SILCAT,SILCAT_FLAG_W,NITRAT,NITRAT_FLAG_W,NITRIT,NITRIT_FLAG_W,PHSPHT,PHSPHT_FLAG_W,CFC-11,CFC-11_FLAG_W,CFC-12,CFC-12_FLAG_W,TRITUM,TRITUM_FLAG_W,HELIUM,HELIUM_FLAG_W,DELHE3,DELHE3_FLAG_W,DELC14,DELC14_FLAG_W,NEON,NEON_FLAG_W,TCARBN,TCARBN_FLAG_W,ALKALI,ALKALI_FLAG_W,PH,PH_FLAG_W,CTDRAW,HELIER,DELHER,NEONER,THETA,TRITER
,,,,,,,,,,,,DBAR,ITS-90,PSS-78,,PSS-78,,UMOL/KG,,UMOL/KG,,UMOL/KG,,UMOL/KG,,UMOL/KG,,UMOL/KG,,PMOL/KG,,PMOL/KG,,TU,,UMOL/KG,,PERCNT,,/MILLE,,NMOL/KG,,UMOL/KG,,UMOL/KG,,,,,NMOL/KG,PERCNT,NMOL/KG,ITS-90,TU
   318MWESTW_4,  P21E,    55,  1,     36, SI9336,2,19940413,2157,-16.7500, -88.6695, 4372,      9.2,  23.2908,  35.9398,2,  35.9328,2,    214.3,2,    216.7,2,     0.23,2,     0.09,2,     0.03,2,     0.39,2,    2.023,2,    1.078,2, -999.000,1,-999.0000,1,  -999.00,9,   -999.0,1,-999.000,9,   2055.8,2,   2377.0,2,     8.05,2,  130.1,-999.0000,-999.000,-999.000, 23.2889,-999.000
   318MWESTW_4,  P21E,    55,  1,     35, SI9335,2,19940413,2157,-16.7500, -88.6695, 4372,     25.3,  23.3055,  35.9450,2,  35.9392,2,    216.0,2,    215.5,2,     0.42,2,     0.05,2,     0.01,2,     0.39,2,    2.035,2,    1.102,2, -999.000,1,-999.0000,1,  -999.00,9,   -999.0,1,-999.000,9,   2055.8,2,   2380.0,2,     8.05,2,  290.9,-999.0000,-999.000,-999.000, 23.3003,-999.000
   318MWESTW_4,  P21E,    55,  1,     34, SI9334,2,19940413,2157,-16.7500, -88.6695, 4372,     51.1,  23.2688,  35.9513,2,  35.9504,2,    210.5,2,    218.2,2,     0.44,2,    -0.01,2,     0.01,2,     0.37,2,    2.004,2,    1.086,2, -999.000,1,-999.0000,1,  -999.00,9,   -999.0,1,-999.000,9,   2054.8,2,   2378.0,2,     8.04,2,  548.9,-999.0000,-999.000,-999.000, 23.2582,-999.000
   318MWESTW_4,  P21E,    55,  1,     33, SI9333,2,19940413,2157,-16.7500, -88.6695, 4372,    101.3,  19.6646,  35.6181,2,  35.6621,2,    220.1,2,    220.7,2,     0.63,2,     0.07,2,     0.10,2,     0.42,2,    2.344,2,    1.236,2, -999.000,1,-999.0000,1,  -999.00,9,   -999.0,1,-999.000,9,   2075.8,2,   2361.0,2,     7.99,2, 1050.6,-999.0000,-999.000,-999.000, 19.6461,-999.000
   318MWESTW_4,  P21E,    55,  1,     32, SI9332,2,19940413,2157,-16.7500, -88.6695, 4372,    153.4,  17.7033,  35.2886,2,  35.3321,3,    192.6,2,    189.4,2,     2.24,2,     8.09,2,     0.04,2,     0.92,2,    2.399,2,    1.240,2, -999.000,1,-999.0000,1,  -999.00,9,   -999.0,1,-999.000,9,   2111.8,2,   2333.0,2,     7.88,2, 1571.6,-999.0000,-999.000,-999.000, 17.6772,-999.000
   318MWESTW_4,  P21E,    55,  1,     31, SI9331,2,19940413,2157,-16.7500, -88.6695, 4372,    196.3,  13.4597,  34.7485,2,  34.7496,2,    125.2,2,    110.3,2,     7.93,2,    16.48,2,     0.02,2,     1.62,2,    1.746,2,    0.849,2, -999.000,1,-999.0000,1,  -999.00,9,   -999.0,1,-999.000,9,   2165.9,2,   2293.0,2,     7.67,2, 2000.1,-999.0000,-999.000,-999.000, 13.4321,-999.000
   318MWESTW_4,  P21E,    55,  1,     30, SI9330,2,19940413,2157,-16.7500, -88.6695, 4372,    246.8,  11.7779,  34.7120,2,  34.7121,2,     28.5,2,     17.7,2,    21.43,2,    24.00,2,     0.02,2,     2.59,2,    0.455,2,    0.214,2, -999.000,1,-999.0000,1,  -999.00,9,   -999.0,1,-999.000,9,   2253.9,2,   2292.0,2,     7.44,2, 2504.3,-999.0000,-999.000,-999.000, 11.7461,-999.000
   318MWESTW_4,  P21E,    55,  1,     29, SI9329,2,19940413,2157,-16.7500, -88.6695, 4372,    301.3,  10.6804,  34.7061,2,  34.7058,2,      6.3,2,      5.7,2,    25.53,2,    30.27,2,     0.02,2,     2.75,2,    0.143,2,    0.067,2, -999.000,1,-999.0000,1,  -999.00,9,   -999.0,1,-999.000,9,   2272.0,2,   2296.0,2,     7.39,2, 3049.4,-999.0000,-999.000,-999.000, 10.6439,-999.000
   318MWESTW_4,  P21E,    55,  1,     28, SI9328,2,19940413,2157,-16.7500, -88.6695, 4372,    400.8,   9.1103,  34.6363,2,  34.6364,2,      9.3,2,     10.5,2,    29.63,2,    36.96,2,     0.02,2,     2.82,2,    0.034,2,    0.010,2, -999.000,1,-999.0000,1,  -999.00,9,   -999.0,1,-999.000,9,   2279.0,2,   2295.0,2,     7.39,2, 4043.0,-999.0000,-999.000,-999.000,  9.0661,-999.000
   318MWESTW_4,  P21E,    55,  1,     27, SI9327,2,19940413,2157,-16.7500, -88.6695, 4372,    502.2,   7.6239,  34.5504,2,  34.5531,2,     29.1,2,     29.7,2,    33.36,2,    40.24,2,     0.02,2,     2.88,2,    0.018,2,    0.005,2, -999.000,1,-999.0000,1,  -999.00,9,   -999.0,1,-999.000,9,   2277.0,2,   2296.0,2,     7.39,2, 5055.7,-999.0000,-999.000,-999.000,  7.5738,-999.000
   318MWESTW_4,  P21E,    55,  1,     26, SI9326,2,19940413,2157,-16.7500, -88.6695, 4372,    598.1,   6.7037,  34.5087,2,  34.5133,2,     43.8,2,     43.0,2,    38.70,2,    41.56,2,     0.02,2,     2.94,2,    0.005,2,    0.000,2, -999.000,1,-999.0000,1,  -999.00,9,   -999.0,1,-999.000,9,   2277.0,2,   2305.0,2,     7.39,2, 6013.4,-999.0000,-999.000,-999.000,  6.6478,-999.000
   318MWESTW_4,  P21E,    55,  1,     25, SI9325,2,19940413,2157,-16.7500, -88.6695, 4372,    698.2,   5.8959,  34.4883,2,  34.4895,2,     48.9,2,     47.9,2,    46.35,2,    42.76,2,     0.01,2,     3.04,2,    0.000,2,   -0.003,2, -999.000,1,-999.0000,1,  -999.00,9,   -999.0,1,-999.000,9,   2287.0,2,   2310.0,2,     7.40,2, 7013.6,-999.0000,-999.000,-999.000,  5.8345,-999.000
   318MWESTW_4,  P21E,    55,  1,     24, SI9324,2,19940413,2157,-16.7500, -88.6695, 4372,    798.7,   5.2452,  34.4940,2,  34.4956,2,     51.4,2,     72.1,4,    57.19,2,    43.51,2,     0.00,2,     3.10,2,   -0.003,2,   -0.004,2, -999.000,1,-999.0000,1,  -999.00,9,   -999.0,1,-999.000,9,   2298.0,2,   2323.0,2,     7.39,2, 8017.6,-999.0000,-999.000,-999.000,  5.1783,-999.000
   318MWESTW_4,  P21E,    55,  1,     23, SI9323,2,19940413,2157,-16.7500, -88.6695, 4372,    895.8,   4.8006,  34.5087,2,  34.5131,3,     55.4,2,     56.0,2,    66.78,2,    43.51,2,     0.01,2,     3.11,2,   -0.003,2,   -0.004,2, -999.000,1,-999.0000,1,  -999.00,9,   -999.0,1,-999.000,9,   2312.0,3,   2332.0,2,     7.41,2, 8987.5,-999.0000,-999.000,-999.000,  4.7280,-999.000
   318MWESTW_4,  P21E,    55,  1,     22, SI9322,2,19940413,2157,-16.7500, -88.6695, 4372,    986.8,   4.3984,  34.5209,2,  34.5178,2,     66.9,2,     66.3,2,    73.89,2,    42.56,2,     0.00,2,     3.06,2,   -0.002,2,   -0.004,2, -999.000,1,-999.0000,1,  -999.00,9,   -999.0,1,-999.000,9,   2309.0,2,   2342.0,2,     7.42,2, 9896.6,-999.0000,-999.000,-999.000,  4.3208,-999.000
   318MWESTW_4,  P21E,    55,  1,     21, SI9321,2,19940413,2157,-16.7500, -88.6695, 4372,   1093.5,   4.0102,  34.5346,2,  34.5337,2,     74.5,2,     74.3,2,    83.13,2,    41.96,2,     0.00,2,     3.04,2, -999.000,9, -999.000,9, -999.000,1,-999.0000,1,  -999.00,9,   -999.0,1,-999.000,9,   2314.0,2,   2351.0,2,     7.44,2,10962.1,-999.0000,-999.000,-999.000,  3.9266,-999.000
   318MWESTW_4,  P21E,    55,  1,     20, SI9320,2,19940413,2157,-16.7500, -88.6695, 4372,   1197.5,   3.6562,  34.5518,2,  34.5506,2,     79.8,2,     79.8,2,    91.49,2,    41.56,2,     0.00,2,     2.99,2, -999.000,9, -999.000,9, -999.000,1,-999.0000,1,  -999.00,9,   -999.0,1,-999.000,9,   2320.0,2,   2362.0,2,     7.44,2,12001.0,-999.0000,-999.000,-999.000,  3.5669,-999.000
   318MWESTW_4,  P21E,    55,  1,     19, SI9319,2,19940413,2157,-16.7500, -88.6695, 4372,   1298.5,   3.3424,  34.5649,2,  34.5671,2,     86.5,2,     87.5,2,    99.12,2,    41.01,2,     0.00,2,     2.94,2, -999.000,9, -999.000,9, -999.000,1,-999.0000,1,  -999.00,9,   -999.0,1,-999.000,9,   2325.0,2,   2370.0,2,     7.47,2,13010.3,-999.0000,-999.000,-999.000,  3.2477,-999.000
   318MWESTW_4,  P21E,    55,  1,     18, SI9318,2,19940413,2157,-16.7500, -88.6695, 4372,   1402.0,   3.1035,  34.5839,2,  34.5838,2,     87.7,2,     87.9,2,   107.11,2,    40.89,2,     0.01,2,     2.95,2, -999.000,9, -999.000,9, -999.000,1,-999.0000,1,  -999.00,9,   -999.0,1,-999.000,9,   2333.0,2,   2379.0,2,     7.46,2,14044.1,-999.0000,-999.000,-999.000,  3.0026,-999.000
   318MWESTW_4,  P21E,    55,  1,     17, SI9317,2,19940413,2157,-16.7500, -88.6695, 4372,   1502.6,   2.9050,  34.5944,2,  34.5954,2,     92.0,2,     93.6,2,   111.92,2,    40.57,2,     0.00,2,     2.90,2, -999.000,9, -999.000,9, -999.000,1,-999.0000,1,  -999.00,9,   -999.0,1,-999.000,9,   2335.0,2,   2385.0,2,     7.48,2,15049.2,-999.0000,-999.000,-999.000,  2.7980,-999.000
   318MWESTW_4,  P21E,    55,  1,     16, SI9316,2,19940413,2157,-16.7500, -88.6695, 4372,   1604.6,   2.7524,  34.6053,2,  34.6050,2,     95.8,2,     96.6,2,   116.54,2,    40.27,2,     0.02,2,     2.87,2, -999.000,9, -999.000,9, -999.000,1,-999.0000,1,  -999.00,9,   -999.0,1,-999.000,9,   2335.0,2,   2391.0,2,     7.48,2,16067.8,-999.0000,-999.000,-999.000,  2.6387,-999.000
   318MWESTW_4,  P21E,    55,  1,     15, SI9315,2,19940413,2157,-16.7500, -88.6695, 4372,   1752.9,   2.5203,  34.6211,2,  34.6209,2,    100.9,2,    104.4,2,   122.76,2,    39.71,2,     0.02,2,     2.82,2, -999.000,9, -999.000,9, -999.000,1,-999.0000,1,  -999.00,9,   -999.0,1,-999.000,9,   2337.0,2,   2395.0,2,     7.50,2,17549.3,-999.0000,-999.000,-999.000,  2.3972,-999.000
   318MWESTW_4,  P21E,    55,  1,     14, SI9314,2,19940413,2157,-16.7500, -88.6695, 4372,   1903.6,   2.3451,  34.6335,2,  34.6331,2,    109.8,2,    111.8,2,   126.32,2,    38.93,2,     0.01,2,     2.79,2, -999.000,9, -999.000,9, -999.000,1,-999.0000,1,  -999.00,9,   -999.0,1,-999.000,9,   2338.0,2,   2402.0,2,     7.51,2,19054.9,-999.0000,-999.000,-999.000,  2.2117,-999.000
   318MWESTW_4,  P21E,    55,  1,     13, SI9313,2,19940413,2157,-16.7500, -88.6695, 4372,   2054.1,   2.1708,  34.6444,2,  34.6470,2,    119.3,2,    120.2,2,   128.46,2,    38.00,2,    -0.01,2,     2.72,2, -999.000,9, -999.000,9, -999.000,1,-999.0000,1,  -999.00,9,   -999.0,1,-999.000,9,   2335.0,2,   2407.0,2,     7.52,2,20558.4,-999.0000,-999.000,-999.000,  2.0271,-999.000
   318MWESTW_4,  P21E,    55,  1,     12, SI9312,2,19940413,2157,-16.7500, -88.6695, 4372,   2201.1,   2.0366,  34.6539,2,  34.6545,2,    129.0,2,    129.2,2,   129.00,2,    37.26,2,     0.00,2,     2.65,2, -999.000,9, -999.000,9, -999.000,1,-999.0000,1,  -999.00,9,   -999.0,1,-999.000,9,   -999.0,9,   -999.0,9,  -999.00,9,22026.9,-999.0000,-999.000,-999.000,  1.8823,-999.000
   318MWESTW_4,  P21E,    55,  1,     11, SI9311,2,19940413,2157,-16.7500, -88.6695, 4372,   2402.7,   1.9163,  34.6642,2,  34.6647,2,    141.3,2,    139.7,2,   128.12,2,    36.47,2,     0.00,2,     2.57,2, -999.000,9, -999.000,9, -999.000,1,-999.0000,1,  -999.00,9,   -999.0,1,-999.000,9,   -999.0,9,   2408.0,2,  -999.00,9,24041.8,-999.0000,-999.000,-999.000,  1.7463,-999.000
   318MWESTW_4,  P21E,    55,  1,     10, SI9310,2,19940413,2157,-16.7500, -88.6695, 4372,   2600.8,   1.8522,  34.6708,2,  34.6720,2,    137.4,2,    137.0,2,   134.16,2,    36.70,2,     0.00,2,     2.59,2, -999.000,9, -999.000,9, -999.000,1,-999.0000,1,  -999.00,9,   -999.0,1,-999.000,9,   2329.0,2,   2418.0,2,     7.55,2,26020.4,-999.0000,-999.000,-999.000,  1.6654,-999.000
   318MWESTW_4,  P21E,    55,  1,      9, SI9309,2,19940413,2157,-16.7500, -88.6695, 4372,   2796.8,   1.8103,  34.6762,2,  34.6769,2,    141.8,2,    141.6,2,   133.99,2,    36.37,2,     0.00,2,     2.57,2, -999.000,9, -999.000,9, -999.000,1,-999.0000,1,  -999.00,9,   -999.0,1,-999.000,9,   2330.0,2,   -999.0,9,     7.57,2,27979.3,-999.0000,-999.000,-999.000,  1.6061,-999.000
   318MWESTW_4,  P21E,    55,  1,      8, SI9308,2,19940413,2157,-16.7500, -88.6695, 4372,   2998.3,   1.7929,  34.6791,2,  34.6808,2,    141.1,2,    141.0,2,   136.14,2,    36.44,2,     0.00,2,     2.57,2, -999.000,9, -999.000,9, -999.000,1,-999.0000,1,  -999.00,9,   -999.0,1,-999.000,9,   2331.0,2,   2422.0,2,     7.57,2,29992.4,-999.0000,-999.000,-999.000,  1.5698,-999.000
   318MWESTW_4,  P21E,    55,  1,      7, SI9307,2,19940413,2157,-16.7500, -88.6695, 4372,   3196.4,   1.7863,  34.6813,2,  34.6816,2,    141.5,2,    141.6,2,   136.67,2,    36.55,2,     0.01,2,     2.56,2, -999.000,9, -999.000,9, -999.000,1,-999.0000,1,  -999.00,9,   -999.0,1,-999.000,9,   2331.0,2,   2424.0,2,     7.57,2,31972.4,-999.0000,-999.000,-999.000,  1.5439,-999.000
   318MWESTW_4,  P21E,    55,  1,      6, SI9306,2,19940413,2157,-16.7500, -88.6695, 4372,   3397.5,   1.7789,  34.6837,2,  34.6873,3,    142.8,2,    143.2,2,   136.68,2,    36.56,2,     0.01,2,     2.56,2, -999.000,9, -999.000,9, -999.000,1,-999.0000,1,  -999.00,9,   -999.0,1,-999.000,9,   2330.0,2,   2423.0,2,     7.58,2,33982.5,-999.0000,-999.000,-999.000,  1.5163,-999.000
   318MWESTW_4,  P21E,    55,  1,      5, SI9305,2,19940413,2157,-16.7500, -88.6695, 4372,   3598.8,   1.7689,  34.6858,2,  34.6867,2,    147.8,2,    148.4,2,   133.14,2,    36.11,2,     0.01,2,     2.53,2, -999.000,9, -999.000,9, -999.000,1,-999.0000,1,  -999.00,9,   -999.0,1,-999.000,9,   2325.0,2,   2419.0,2,     7.58,2,35994.5,-999.0000,-999.000,-999.000,  1.4857,-999.000
   318MWESTW_4,  P21E,    55,  1,      4, SI9304,2,19940413,2157,-16.7500, -88.6695, 4372,   3848.4,   1.7592,  34.6882,2,  34.6879,2,    152.1,2,    151.8,2,   131.02,2,    35.83,2,     0.01,2,     2.52,2, -999.000,9, -999.000,9, -999.000,1,-999.0000,1,  -999.00,9,   -999.0,1,-999.000,9,   2321.0,2,   2415.0,2,     7.58,2,38488.5,-999.0000,-999.000,-999.000,  1.4496,-999.000
   318MWESTW_4,  P21E,    55,  1,      3, SI9303,2,19940413,2157,-16.7500, -88.6695, 4372,   4096.1,   1.7706,  34.6899,2,  34.6897,2,    153.4,2,    152.7,2,   130.33,2,    35.57,2,     0.00,2,     2.50,2, -999.000,9, -999.000,9, -999.000,1,-999.0000,1,  -999.00,9,   -999.0,1,-999.000,9,   2320.0,2,   2416.0,2,     7.57,2,40964.9,-999.0000,-999.000,-999.000,  1.4334,-999.000
   318MWESTW_4,  P21E,    55,  1,      2, SI9302,2,19940413,2157,-16.7500, -88.6695, 4372,   4311.1,   1.7889,  34.6899,2,  34.6891,2,    153.5,2,    153.1,2,   130.51,2,    35.41,2,    -0.01,2,     2.50,2, -999.000,9, -999.000,9, -999.000,1,-999.0000,1,  -999.00,9,   -999.0,1,-999.000,9,   2321.0,2,   2416.0,2,     7.58,2,43114.0,-999.0000,-999.000,-999.000,  1.4268,-999.000
   318MWESTW_4,  P21E,    55,  1,      1, SI9301,2,19940413,2157,-16.7500, -88.6695, 4372,   4366.3,   1.7934,  34.6899,2,  34.6912,2,    150.7,2,    153.3,2,   130.07,2,    35.58,2,     0.01,2,     2.49,2, -999.000,9, -999.000,9, -999.000,1,-999.0000,1,  -999.00,9,   -999.0,1,-999.000,9,   2319.0,2,   2416.0,2,     7.58,2,43665.6,-999.0000,-999.000,-999.000,  1.4248,-999.000