BOTTLE,20010911WHPSIOdm
EXPOCODE,SECT_ID,STNNBR,CASTNO,SAMPNO,BTLNBR,BTLNBR_FLAG_W,DATE,TIME,LATITUDE,LONGITUDE,DEPTH,CTDPRS,CTDTMP,CTDSAL,CTDSAL_FLAG_W,SALNTY,SALNTY_FLAG_W,CTDOXY,CTDOXY_FLAG_W,OXYGEN,OXYGEN_FLAG_W,SILCAT,SILCAT_FLAG_W,NITRAT,NITRAT_FLAG_W,NITRIT,NITRIT_FLAG_W,PHSPHT,PHSPHT_FLAG_W,CFC-11,CFC-11_FLAG_W,CFC-12,CFC-12_FLAG_W,TRITUM,TRITUM_FLAG_W,HELIUM,HELIUM_FLAG_W,DELHE3,DELHE3_FLAG_W,DELC14,DELC14_FLAG_W,NEON,NEON_FLAG_W,TCARBN,TCARBN_FLAG_W,ALKALI,ALKALI_FLAG_W,PH,PH_FLAG_W,CTDRAW,HELIER,DELHER,NEONER,THETA,TRITER
,,,,,,,,,,,,DBAR,ITS-90,PSS-78,,PSS-78,,UMOL/KG,,UMOL/KG,,UMOL/KG,,UMOL/KG,,UMOL/KG,,UMOL/KG,,PMOL/KG,,PMOL/KG,,TU,,UMOL/KG,,PERCNT,,/MILLE,,NMOL/KG,,UMOL/KG,,UMOL/KG,,,,,NMOL/KG,PERCNT,NMOL/KG,ITS-90,TU
   318MWESTW_5,  P21W,   287,  1,     24, SI9434,2,19940621,0220,-25.0028, 153.7445, 1000,      8.8,  23.9701,  35.1253,2,  35.1246,2,    227.3,2,    213.3,2,     0.40,2,     0.00,2,     0.00,2,     0.14,2,    1.833,6,    1.021,6, -999.000,1,-999.0000,1,  -999.00,9,   -999.0,1,-999.000,9,   -999.0,9,   -999.0,9,  -999.00,9,  147.2,-999.0000,-999.000,-999.000, 23.9682,-999.000
   318MWESTW_5,  P21W,   287,  1,     23, SI9423,2,19940621,0220,-25.0028, 153.7445, 1000,     24.0,  23.9691,  35.1256,2,  35.1274,2,    230.1,2,    209.1,2,     0.41,2,     0.05,2,     0.00,2,     0.14,2,    1.874,2,    1.027,2, -999.000,1,-999.0000,1,  -999.00,9,   -999.0,1,-999.000,9,   -999.0,9,   -999.0,9,  -999.00,9,  298.6,-999.0000,-999.000,-999.000, 23.9641,-999.000
   318MWESTW_5,  P21W,   287,  1,     22, SI9418,2,19940621,0220,-25.0028, 153.7445, 1000,     48.5,  23.7501,  35.4910,2,  35.4935,2,    228.1,2,    196.8,2,     0.55,2,     0.76,2,     0.11,2,     0.22,2, -999.000,9, -999.000,9, -999.000,1,-999.0000,1,  -999.00,9,   -999.0,1,-999.000,9,   -999.0,9,   -999.0,9,  -999.00,9,  543.0,-999.0000,-999.000,-999.000, 23.7400,-999.000
   318MWESTW_5,  P21W,   287,  1,     21, SI9421,2,19940621,0220,-25.0028, 153.7445, 1000,     99.4,  22.9898,  35.6015,2,  35.5991,2,    210.0,2,    198.2,2,     0.69,2,     1.10,2,     0.20,2,     0.22,2,    1.885,2,    1.033,2, -999.000,1,-999.0000,1,  -999.00,9,   -999.0,1,-999.000,9,   -999.0,9,   -999.0,9,  -999.00,9, 1049.4,-999.0000,-999.000,-999.000, 22.9695,-999.000
   318MWESTW_5,  P21W,   287,  1,     20, SI9420,2,19940621,0220,-25.0028, 153.7445, 1000,    150.7,  20.0287,  35.6698,2,  35.6656,2,    171.3,2,    168.8,2,     1.40,2,     5.71,2,     0.00,2,     0.54,2,    1.870,2,    0.990,2, -999.000,1,-999.0000,1,  -999.00,9,   -999.0,1,-999.000,9,   -999.0,9,   -999.0,9,  -999.00,9, 1559.9,-999.0000,-999.000,-999.000, 20.0007,-999.000
   318MWESTW_5,  P21W,   287,  1,     19, SI9419,2,19940621,0220,-25.0028, 153.7445, 1000,    201.9,  18.1135,  35.5273,2,  35.5227,2,    166.1,2,    163.5,2,     2.38,2,     8.07,2,     0.00,2,     0.68,2, -999.000,9, -999.000,9, -999.000,1,-999.0000,1,  -999.00,9,   -999.0,1,-999.000,9,   -999.0,9,   -999.0,9,  -999.00,9, 2069.1,-999.0000,-999.000,-999.000, 18.0785,-999.000
   318MWESTW_5,  P21W,   287,  1,     18, SI9439,2,19940621,0220,-25.0028, 153.7445, 1000,    251.8,  17.1765,  35.4515,2,  35.4458,2,    166.3,2,    164.6,2,     2.94,2,     9.14,2,     0.00,2,     0.76,2,    1.650,2,    0.854,2, -999.000,1,-999.0000,1,  -999.00,9,   -999.0,1,-999.000,9,   -999.0,9,   -999.0,9,  -999.00,9, 2566.2,-999.0000,-999.000,-999.000, 17.1345,-999.000
   318MWESTW_5,  P21W,   287,  1,     17, SI9417,2,19940621,0220,-25.0028, 153.7445, 1000,    299.8,  15.9112,  35.3538,2,  35.3504,2,    171.9,2,    170.7,2,     3.37,2,    10.09,2,     0.00,2,     0.81,2, -999.000,9, -999.000,9, -999.000,1,-999.0000,1,  -999.00,9,   -999.0,1,-999.000,9,   -999.0,9,   -999.0,9,  -999.00,9, 3044.0,-999.0000,-999.000,-999.000, 15.8637,-999.000
   318MWESTW_5,  P21W,   287,  1,     16, SI9416,2,19940621,0220,-25.0028, 153.7445, 1000,    352.7,  14.0035,  35.1719,2,  35.1723,2,    175.1,2,    171.6,2,     4.90,2,    12.98,2,     0.00,2,     1.00,2,    1.445,2,    0.740,2, -999.000,1,-999.0000,1,  -999.00,9,   -999.0,1,-999.000,9,   -999.0,9,   -999.0,9,  -999.00,9, 3569.8,-999.0000,-999.000,-999.000, 13.9522,-999.000
   318MWESTW_5,  P21W,   287,  1,     15, SI9415,2,19940621,0220,-25.0028, 153.7445, 1000,    404.3,  12.5182,  35.0504,2,  35.0435,2,    180.7,2,    180.0,2,     5.61,2,    14.77,2,     0.00,2,     1.10,2,    1.421,2,    0.722,2, -999.000,1,-999.0000,1,  -999.00,9,   -999.0,1,-999.000,9,   -999.0,9,   -999.0,9,  -999.00,9, 4082.4,-999.0000,-999.000,-999.000, 12.4635,-999.000
   318MWESTW_5,  P21W,   287,  1,     14, SI9436,2,19940621,0220,-25.0028, 153.7445, 1000,    454.0,  10.9999,  34.8992,2,  34.8910,2,    185.2,2,    185.9,2,     7.01,2,    17.18,2,     0.00,2,     1.27,2,    1.316,2,    0.658,2, -999.000,1,-999.0000,1,  -999.00,9,   -999.0,1,-999.000,9,   -999.0,9,   -999.0,9,  -999.00,9, 4576.8,-999.0000,-999.000,-999.000, 10.9433,-999.000
   318MWESTW_5,  P21W,   287,  1,     13, SI9413,2,19940621,0220,-25.0028, 153.7445, 1000,    505.2,   9.8901,  34.7711,2,  34.7665,2,    187.2,2,    187.3,2,     8.83,2,    19.33,2,     0.00,2,     1.39,2,    1.074,2,    0.534,2, -999.000,1,-999.0000,1,  -999.00,9,   -999.0,1,-999.000,9,   -999.0,9,   -999.0,9,  -999.00,9, 5085.8,-999.0000,-999.000,-999.000,  9.8311,-999.000
   318MWESTW_5,  P21W,   287,  1,     12, SI9438,2,19940621,0220,-25.0028, 153.7445, 1000,    552.2,   9.0602,  34.6807,2,  34.6785,2,    188.5,2,    190.2,2,    10.64,2,    21.05,2,     0.00,2,     1.49,2,    0.883,2,    0.436,2, -999.000,1,-999.0000,1,  -999.00,9,   -999.0,1,-999.000,9,   -999.0,9,   -999.0,9,  -999.00,9, 5553.7,-999.0000,-999.000,-999.000,  8.9990,-999.000
   318MWESTW_5,  P21W,   287,  1,     11, SI9411,2,19940621,0220,-25.0028, 153.7445, 1000,    593.0,   8.3525,  34.6115,2,  34.6073,2,    191.2,2,    191.6,2,    12.60,2,    22.56,2,     0.00,2,     1.59,2, -999.000,9, -999.000,9, -999.000,1,-999.0000,1,  -999.00,9,   -999.0,1,-999.000,9,   -999.0,9,   -999.0,9,  -999.00,9, 5958.8,-999.0000,-999.000,-999.000,  8.2898,-999.000
   318MWESTW_5,  P21W,   287,  1,     10, SI9412,2,19940621,0220,-25.0028, 153.7445, 1000,    646.3,   7.8100,  34.5628,2,  34.5606,2,    191.2,2,    191.9,2,    14.56,2,    23.72,2,     0.00,2,     1.66,2,    0.558,2,    0.277,2, -999.000,1,-999.0000,1,  -999.00,9,   -999.0,1,-999.000,9,   -999.0,9,   -999.0,9,  -999.00,9, 6488.6,-999.0000,-999.000,-999.000,  7.7440,-999.000
   318MWESTW_5,  P21W,   287,  1,      9, SI9410,2,19940621,0220,-25.0028, 153.7445, 1000,    699.8,   7.1803,  34.5157,2,  34.5160,2,    191.9,2,    192.0,2,    17.91,2,    25.19,2,     0.00,2,     1.76,2, -999.000,9, -999.000,9, -999.000,1,-999.0000,1,  -999.00,9,   -999.0,1,-999.000,9,   -999.0,9,   -999.0,9,  -999.00,9, 7020.4,-999.0000,-999.000,-999.000,  7.1120,-999.000
   318MWESTW_5,  P21W,   287,  1,      8, SI9422,2,19940621,0220,-25.0028, 153.7445, 1000,    752.0,   6.6243,  34.4835,2,  34.4820,2,    189.1,2,    190.3,2,    22.24,2,    26.52,2,     0.00,2,     1.87,2,    0.291,2,    0.149,2, -999.000,1,-999.0000,1,  -999.00,9,   -999.0,1,-999.000,9,   -999.0,9,   -999.0,9,  -999.00,9, 7539.9,-999.0000,-999.000,-999.000,  6.5538,-999.000
   318MWESTW_5,  P21W,   287,  1,      7, SI9407,2,19940621,0220,-25.0028, 153.7445, 1000,    799.8,   6.2679,  34.4684,2,  34.4677,2,    187.5,2,    188.3,2,    25.87,2,    27.34,2,     0.00,2,     1.92,2, -999.000,9, -999.000,9, -999.000,1,-999.0000,1,  -999.00,9,   -999.0,1,-999.000,9,   -999.0,9,   -999.0,9,  -999.00,9, 8014.4,-999.0000,-999.000,-999.000,  6.1948,-999.000
   318MWESTW_5,  P21W,   287,  1,      6, SI9427,2,19940621,0220,-25.0028, 153.7445, 1000,    850.0,   5.8889,  34.4600,2,  34.4587,2,    186.5,2,    185.2,2,    30.47,2,    28.34,2,     0.00,2,     1.99,2,    0.168,2,    0.089,2, -999.000,1,-999.0000,1,  -999.00,9,   -999.0,1,-999.000,9,   -999.0,9,   -999.0,9,  -999.00,9, 8513.5,-999.0000,-999.000,-999.000,  5.8133,-999.000
   318MWESTW_5,  P21W,   287,  1,      5, SI9405,2,19940621,0220,-25.0028, 153.7445, 1000,    903.1,   5.4282,  34.4632,2,  34.4591,2,    180.3,2,    181.3,2,    37.17,2,    29.50,2,     0.00,2,     2.06,2, -999.000,9, -999.000,9, -999.000,1,-999.0000,1,  -999.00,9,   -999.0,1,-999.000,9,   -999.0,9,   -999.0,9,  -999.00,9, 9041.3,-999.0000,-999.000,-999.000,  5.3507,-999.000
   318MWESTW_5,  P21W,   287,  1,      4, SI9404,2,19940621,0220,-25.0028, 153.7445, 1000,    944.5,   5.2273,  34.4636,2,  34.4608,2,    178.2,2,    178.8,2,    39.95,2,    30.02,2,     0.00,2,     2.08,2,    0.103,2,    0.050,2, -999.000,1,-999.0000,1,  -999.00,9,   -999.0,1,-999.000,9,   -999.0,9,   -999.0,9,  -999.00,9, 9452.4,-999.0000,-999.000,-999.000,  5.1474,-999.000
   318MWESTW_5,  P21W,   287,  1,      3, SI9403,2,19940621,0220,-25.0028, 153.7445, 1000,    998.0,   4.7829,  34.4725,2,  34.4712,2,    172.7,2,    173.9,2,    49.02,2,    31.27,2,     0.00,2,     2.17,2, -999.000,9, -999.000,9, -999.000,1,-999.0000,1,  -999.00,9,   -999.0,1,-999.000,9,   -999.0,9,   -999.0,9,  -999.00,9, 9983.5,-999.0000,-999.000,-999.000,  4.7015,-999.000
   318MWESTW_5,  P21W,   287,  1,      2, SI9437,2,19940621,0220,-25.0028, 153.7445, 1000,   1027.7,   4.6759,  34.4759,2,  34.4750,2,    170.8,2,    171.8,2,    50.97,2,    31.54,2,     0.00,2,     2.19,2, -999.000,9, -999.000,9, -999.000,1,-999.0000,1,  -999.00,9,   -999.0,1,-999.000,9,   -999.0,9,   -999.0,9,  -999.00,9,10278.0,-999.0000,-999.000,-999.000,  4.5927,-999.000
   318MWESTW_5,  P21W,   287,  1,      1, SI9401,2,19940621,0220,-25.0028, 153.7445, 1000,   1050.5,   4.5978,  34.4789,2,  34.4765,2,    170.2,2,    171.7,2,    52.72,2,    31.63,2,     0.00,2,     2.21,2,    0.049,2,    0.023,2, -999.000,1,-999.0000,1,  -999.00,9,   -999.0,1,-999.000,9,   -999.0,9,   -999.0,9,  -999.00,9,10504.5,-999.0000,-999.000,-999.000,  4.5132,-999.000
   318MWESTW_5,  P21W,   288,  1,     12, SI9438,2,19940621,0425,-25.0333, 153.6500,  200,      4.1,  23.5516,  35.2595,2,  35.2595,2,    220.2,2,    211.4,2,     0.46,2,    -0.01,2,     0.01,2,     0.14,2,    1.865,2,    1.038,2,    0.878,2,   1.7086,2,    -1.28,2,   -999.0,1,   6.813,2,   -999.0,9,   -999.0,9,  -999.00,9,   96.1,  0.0085,   0.080,   0.034, 23.5507,   0.008
   318MWESTW_5,  P21W,   288,  1,     11, SI9411,2,19940621,0425,-25.0333, 153.6500,  200,     25.3,  23.5433,  35.2608,2,  35.2613,2,    223.7,2,    210.9,2,     0.47,2,    -0.01,2,     0.01,2,     0.14,2, -999.000,9, -999.000,9, -999.000,1,-999.0000,1,  -999.00,9,   -999.0,1,-999.000,9,   -999.0,9,   -999.0,9,  -999.00,9,  306.9,-999.0000,-999.000,-999.000, 23.5380,-999.000
   318MWESTW_5,  P21W,   288,  1,     10, SI9412,2,19940621,0425,-25.0333, 153.6500,  200,     47.2,  23.3547,  35.4544,2,  35.4478,2,    219.5,2,    211.7,2,     0.33,2,     0.00,2,     0.00,2,     0.14,2,    1.895,2,    1.050,2,    0.842,2,   1.7001,2,    -1.54,2,   -999.0,1,   6.781,2,   -999.0,9,   -999.0,9,  -999.00,9,  525.0,  0.0085,   0.080,   0.034, 23.3449,   0.008
   318MWESTW_5,  P21W,   288,  1,      9, SI9410,2,19940621,0425,-25.0333, 153.6500,  200,     57.3,  23.2962,  35.5537,2,  35.5476,2,    211.3,2,    190.6,2,     1.88,2,     1.89,2,     0.07,2,     0.25,2, -999.000,9, -999.000,9, -999.000,1,-999.0000,1,  -999.00,9,   -999.0,1,-999.000,9,   -999.0,9,   -999.0,9,  -999.00,9,  625.6,-999.0000,-999.000,-999.000, 23.2844,-999.000
   318MWESTW_5,  P21W,   288,  1,      8, SI9422,2,19940621,0425,-25.0333, 153.6500,  200,     66.8,  23.1751,  35.5630,2,  35.5618,2,    201.0,2,    200.5,2,     1.60,2,     0.98,2,     0.10,2,     0.19,2,    1.892,2,    1.053,2,    0.827,2,-999.0000,1,  -999.00,9,   -999.0,1,-999.000,9,   -999.0,9,   -999.0,9,  -999.00,9,  720.4,-999.0000,-999.000,-999.000, 23.1614,   0.008
   318MWESTW_5,  P21W,   288,  1,      7, SI9407,2,19940621,0425,-25.0333, 153.6500,  200,     76.9,  22.7566,  35.5738,2,  35.5766,2,    194.9,2,    181.7,2,     1.89,2,     2.98,2,     0.07,2,     0.35,2, -999.000,9, -999.000,9, -999.000,1,-999.0000,1,  -999.00,9,   -999.0,1,-999.000,9,   -999.0,9,   -999.0,9,  -999.00,9,  820.9,-999.0000,-999.000,-999.000, 22.7410,-999.000
   318MWESTW_5,  P21W,   288,  1,      6, SI9427,2,19940621,0425,-25.0333, 153.6500,  200,     98.1,  21.4459,  35.7164,2,  35.7167,2,    184.0,2,    173.6,2,     1.61,2,     4.27,2,     0.02,2,     0.43,2,    1.898,2,    1.019,2,    0.782,2,   1.7286,2,    -0.48,2,   -999.0,1,   6.945,2,   -999.0,9,   -999.0,9,  -999.00,9, 1031.4,  0.0086,   0.080,   0.035, 21.4268,   0.008
   318MWESTW_5,  P21W,   288,  1,      5, SI9405,2,19940621,0425,-25.0333, 153.6500,  200,    118.2,  20.5250,  35.6488,2,  35.6492,2,    174.6,2,    166.9,2,     2.03,2,     5.89,2,     0.03,2,     0.54,2, -999.000,9, -999.000,9,    0.714,2,   1.7213,2,    -0.05,2,   -999.0,1,   6.936,2,   -999.0,9,   -999.0,9,  -999.00,9, 1230.9,  0.0086,   0.080,   0.035, 20.5027,   0.008
   318MWESTW_5,  P21W,   288,  1,      4, SI9404,2,19940621,0425,-25.0333, 153.6500,  200,    143.7,  19.5669,  35.6304,2,  35.6257,2,    169.1,2,    164.5,2,     2.04,2,     6.77,2,     0.01,2,     0.60,2,    1.790,2,    0.950,2,    0.651,2,   1.7282,2,     0.36,2,   -999.0,1,   6.998,2,   -999.0,9,   -999.0,9,  -999.00,9, 1484.0,  0.0086,   0.080,   0.035, 19.5407,   0.007
   318MWESTW_5,  P21W,   288,  1,      3, SI9403,2,19940621,0425,-25.0333, 153.6500,  200,    165.0,  19.1486,  35.5925,2,  35.5904,2,    166.3,2,    162.8,2,     2.19,2,     7.37,2,     0.01,2,     0.64,2, -999.000,9, -999.000,9, -999.000,1,-999.0000,1,  -999.00,9,   -999.0,1,-999.000,9,   -999.0,9,   -999.0,9,  -999.00,9, 1695.7,-999.0000,-999.000,-999.000, 19.1189,-999.000
   318MWESTW_5,  P21W,   288,  1,      2, SI9437,2,19940621,0425,-25.0333, 153.6500,  200,    175.4,  18.9041,  35.5829,2,  35.5807,2,    166.8,2,    163.8,2,     2.05,2,     7.30,2,     0.01,2,     0.63,2,    1.753,2,    0.933,2,    0.673,2,   1.7230,2,     0.62,2,   -999.0,1,   7.016,2,   -999.0,9,   -999.0,9,  -999.00,9, 1799.8,  0.0086,   0.080,   0.035, 18.8728,   0.007
   318MWESTW_5,  P21W,   288,  1,      1, SI9401,2,19940621,0425,-25.0333, 153.6500,  200,    189.9,  18.2351,  35.5428,2,  35.5336,2,    168.9,2,    166.3,2,     2.34,2,     7.70,2,     0.02,2,     0.65,2,    1.827,2,    0.923,2,    0.663,2,   1.7249,2,     0.49,2,   -999.0,1,   7.032,2,   -999.0,9,   -999.0,9,  -999.00,9, 1943.7,  0.0086,   0.080,   0.035, 18.2021,   0.008