BOTTLE,20010911WHPSIOdm
EXPOCODE,SECT_ID,STNNBR,CASTNO,SAMPNO,BTLNBR,BTLNBR_FLAG_W,DATE,TIME,LATITUDE,LONGITUDE,DEPTH,CTDPRS,CTDTMP,CTDSAL,CTDSAL_FLAG_W,SALNTY,SALNTY_FLAG_W,CTDOXY,CTDOXY_FLAG_W,OXYGEN,OXYGEN_FLAG_W,SILCAT,SILCAT_FLAG_W,NITRAT,NITRAT_FLAG_W,NITRIT,NITRIT_FLAG_W,PHSPHT,PHSPHT_FLAG_W,CFC-11,CFC-11_FLAG_W,CFC-12,CFC-12_FLAG_W,TRITUM,TRITUM_FLAG_W,HELIUM,HELIUM_FLAG_W,DELHE3,DELHE3_FLAG_W,DELC14,DELC14_FLAG_W,NEON,NEON_FLAG_W,TCARBN,TCARBN_FLAG_W,ALKALI,ALKALI_FLAG_W,PH,PH_FLAG_W,CTDRAW,HELIER,DELHER,NEONER,THETA,TRITER
,,,,,,,,,,,,DBAR,ITS-90,PSS-78,,PSS-78,,UMOL/KG,,UMOL/KG,,UMOL/KG,,UMOL/KG,,UMOL/KG,,UMOL/KG,,PMOL/KG,,PMOL/KG,,TU,,UMOL/KG,,PERCNT,,/MILLE,,NMOL/KG,,UMOL/KG,,UMOL/KG,,,,,NMOL/KG,PERCNT,NMOL/KG,ITS-90,TU
   318MWESTW_4,  P21E,    76,  1,     36, SI9336,2,19940420,0353,-16.7528,-102.6612, 3760,     10.8,  25.1437,  36.2873,2,  36.2877,2,    200.0,2,    212.8,2,     0.37,2,     0.01,2,     0.01,2,     0.30,2,    1.924,2,    1.058,2, -999.000,1,-999.0000,1,  -999.00,9,   -999.0,1,-999.000,9,   -999.0,9,   -999.0,9,  -999.00,9,  155.9,-999.0000,-999.000,-999.000, 25.1413,-999.000
   318MWESTW_4,  P21E,    76,  1,     35, SI9335,2,19940420,0353,-16.7528,-102.6612, 3760,     25.5,  24.9467,  36.2864,2,  36.2855,2,    208.9,2,    211.4,2,     0.38,2,    -0.01,2,     0.01,2,     0.30,2,    1.918,2,    1.034,2, -999.000,1,-999.0000,1,  -999.00,9,   -999.0,1,-999.000,9,   -999.0,9,   -999.0,9,  -999.00,9,  302.4,-999.0000,-999.000,-999.000, 24.9412,-999.000
   318MWESTW_4,  P21E,    76,  1,     34, SI9334,2,19940420,0353,-16.7528,-102.6612, 3760,     48.6,  24.8164,  36.2831,2,  36.2824,2,    208.6,2,    211.5,2,     0.58,2,     0.00,2,     0.01,2,     0.30,2,    1.899,2,    1.039,2, -999.000,1,-999.0000,1,  -999.00,9,   -999.0,1,-999.000,9,   -999.0,9,   -999.0,9,  -999.00,9,  534.2,-999.0000,-999.000,-999.000, 24.8059,-999.000
   318MWESTW_4,  P21E,    76,  1,     33, SI9333,2,19940420,0353,-16.7528,-102.6612, 3760,    100.2,  22.4878,  36.2204,2,  36.2022,2,    223.5,2,    222.7,2,     0.24,2,     0.00,2,     0.01,2,     0.31,2,    2.155,2,    1.153,2, -999.000,1,-999.0000,1,  -999.00,9,   -999.0,1,-999.000,9,   -999.0,9,   -999.0,9,  -999.00,9, 1049.8,-999.0000,-999.000,-999.000, 22.4676,-999.000
   318MWESTW_4,  P21E,    76,  1,     32, SI9332,2,19940420,0353,-16.7528,-102.6612, 3760,    151.7,  20.8949,  35.9176,2,  35.9297,2,    219.8,2,    216.2,2,     0.43,2,     0.07,2,     0.06,2,     0.35,2,    2.236,2,    1.189,2, -999.000,1,-999.0000,1,  -999.00,9,   -999.0,1,-999.000,9,   -999.0,9,   -999.0,9,  -999.00,9, 1564.7,-999.0000,-999.000,-999.000, 20.8658,-999.000
   318MWESTW_4,  P21E,    76,  1,     31, SI9331,2,19940420,0353,-16.7528,-102.6612, 3760,    199.4,  18.0833,  35.3148,2,  35.3853,2,    201.5,2,    198.9,2,     0.79,2,     3.45,2,     0.03,2,     0.56,2,    2.413,2,    1.215,2, -999.000,1,-999.0000,1,  -999.00,9,   -999.0,1,-999.000,9,   -999.0,9,   -999.0,9,  -999.00,9, 2041.5,-999.0000,-999.000,-999.000, 18.0489,-999.000
   318MWESTW_4,  P21E,    76,  1,     30, SI9330,2,19940420,0353,-16.7528,-102.6612, 3760,    249.1,  13.8682,  34.7625,2,  34.7691,2,    170.9,2,    160.9,2,     4.08,2,    11.56,2,     0.02,2,     1.13,2,    1.973,2,    0.981,2, -999.000,1,-999.0000,1,  -999.00,9,   -999.0,1,-999.000,9,   -999.0,9,   -999.0,9,  -999.00,9, 2537.5,-999.0000,-999.000,-999.000, 13.8324,-999.000
   318MWESTW_4,  P21E,    76,  1,     29, SI9329,2,19940420,0353,-16.7528,-102.6612, 3760,    300.5,  10.8737,  34.5342,2,  34.5290,2,    119.0,2,    104.8,2,    12.18,2,    21.93,2,     0.01,2,     1.95,2,    0.983,2,    0.475,2, -999.000,1,-999.0000,1,  -999.00,9,   -999.0,1,-999.000,9,   -999.0,9,   -999.0,9,  -999.00,9, 3051.4,-999.0000,-999.000,-999.000, 10.8369,-999.000
   318MWESTW_4,  P21E,    76,  1,     28, SI9328,2,19940420,0353,-16.7528,-102.6612, 3760,    399.1,   8.3444,  34.5216,2,  34.5188,2,     57.2,2,     55.0,2,    23.71,2,    34.86,2,     0.01,2,     2.62,2,    0.110,2,    0.056,2, -999.000,1,-999.0000,1,  -999.00,9,   -999.0,1,-999.000,9,   -999.0,9,   -999.0,9,  -999.00,9, 4036.3,-999.0000,-999.000,-999.000,  8.3027,-999.000
   318MWESTW_4,  P21E,    76,  1,     27, SI9327,2,19940420,0353,-16.7528,-102.6612, 3760,    501.1,   6.9764,  34.4852,2,  34.4797,2,     76.4,2,     76.2,2,    28.72,2,    37.35,2,     0.02,2,     2.65,2,    0.035,2,    0.020,2, -999.000,1,-999.0000,1,  -999.00,9,   -999.0,1,-999.000,9,   -999.0,9,   -999.0,9,  -999.00,9, 5055.0,-999.0000,-999.000,-999.000,  6.9289,-999.000
   318MWESTW_4,  P21E,    76,  1,     26, SI9326,2,19940420,0353,-16.7528,-102.6612, 3760,    603.9,   6.1036,  34.4716,2,  34.4744,2,     76.9,2,     71.7,2,    38.20,2,    39.99,2,     0.01,2,     2.80,2,    0.005,2,    0.003,2, -999.000,1,-999.0000,1,  -999.00,9,   -999.0,1,-999.000,9,   -999.0,9,   -999.0,9,  -999.00,9, 6082.1,-999.0000,-999.000,-999.000,  6.0500,-999.000
   318MWESTW_4,  P21E,    76,  1,     25, SI9325,2,19940420,0353,-16.7528,-102.6612, 3760,    703.4,   5.5415,  34.4874,2,  34.4911,2,     66.3,2,     63.8,2,    49.57,2,    41.71,2,     0.01,2,     2.93,2,    0.000,2,    0.004,2, -999.000,1,-999.0000,1,  -999.00,9,   -999.0,1,-999.000,9,   -999.0,9,   -999.0,9,  -999.00,9, 7075.4,-999.0000,-999.000,-999.000,  5.4815,-999.000
   318MWESTW_4,  P21E,    76,  1,     24, SI9324,2,19940420,0353,-16.7528,-102.6612, 3760,    801.4,   5.0205,  34.4982,2,  34.5015,2,     65.4,2,     63.2,2,    60.08,2,    42.28,2,     0.01,2,     2.99,2,   -0.001,2,    0.003,2, -999.000,1,-999.0000,1,  -999.00,9,   -999.0,1,-999.000,9,   -999.0,9,   -999.0,9,  -999.00,9, 8054.0,-999.0000,-999.000,-999.000,  4.9548,-999.000
   318MWESTW_4,  P21E,    76,  1,     23, SI9323,2,19940420,0353,-16.7528,-102.6612, 3760,    900.6,   4.6186,  34.5118,2,  34.5144,2,     68.4,2,     67.6,2,    68.70,2,    42.08,2,     0.01,2,     3.00,2,   -0.001,2,    0.002,2, -999.000,1,-999.0000,1,  -999.00,9,   -999.0,1,-999.000,9,   -999.0,9,   -999.0,9,  -999.00,9, 9045.7,-999.0000,-999.000,-999.000,  4.5468,-999.000
   318MWESTW_4,  P21E,    76,  1,     22, SI9322,2,19940420,0353,-16.7528,-102.6612, 3760,   1000.4,   4.2573,  34.5295,2,  34.5286,2,     72.5,2,     71.4,2,    77.31,2,    41.88,2,     0.01,2,     3.00,2,    0.000,2,    0.001,2, -999.000,1,-999.0000,1,  -999.00,9,   -999.0,1,-999.000,9,   -999.0,9,   -999.0,9,  -999.00,9,10042.4,-999.0000,-999.000,-999.000,  4.1796,-999.000
   318MWESTW_4,  P21E,    76,  1,     21, SI9321,2,19940420,0353,-16.7528,-102.6612, 3760,   1101.0,   3.8886,  34.5451,2,  34.5431,2,     78.5,2,     77.2,2,    85.93,2,    41.48,2,     0.01,2,     2.99,2, -999.000,9, -999.000,9, -999.000,1,-999.0000,1,  -999.00,9,   -999.0,1,-999.000,9,   -999.0,9,   -999.0,9,  -999.00,9,11046.5,-999.0000,-999.000,-999.000,  3.8053,-999.000
   318MWESTW_4,  P21E,    76,  1,     20, SI9320,2,19940420,0353,-16.7528,-102.6612, 3760,   1201.9,   3.5925,  34.5596,2,  34.5590,2,     81.4,2,     80.8,2,    93.86,2,    41.22,2,     0.00,2,     2.97,2, -999.000,9, -999.000,9, -999.000,1,-999.0000,1,  -999.00,9,   -999.0,1,-999.000,9,   -999.0,9,   -999.0,9,  -999.00,9,12054.4,-999.0000,-999.000,-999.000,  3.5034,-999.000
   318MWESTW_4,  P21E,    76,  1,     19, SI9319,2,19940420,0353,-16.7528,-102.6612, 3760,   1301.1,   3.3294,  34.5711,2,  34.5730,2,     85.5,2,     86.3,2,   100.24,2,    40.75,2,     0.01,2,     2.94,2, -999.000,9, -999.000,9, -999.000,1,-999.0000,1,  -999.00,9,   -999.0,1,-999.000,9,   -999.0,9,   -999.0,9,  -999.00,9,13045.5,-999.0000,-999.000,-999.000,  3.2346,-999.000
   318MWESTW_4,  P21E,    76,  1,     18, SI9318,2,19940420,0353,-16.7528,-102.6612, 3760,   1399.4,   3.1232,  34.5828,2,  34.5861,3,     90.6,2,     91.3,2,   104.90,2,    40.23,2,     0.00,2,     2.91,2, -999.000,9, -999.000,9, -999.000,1,-999.0000,1,  -999.00,9,   -999.0,1,-999.000,9,   -999.0,9,   -999.0,9,  -999.00,9,14027.9,-999.0000,-999.000,-999.000,  3.0223,-999.000
   318MWESTW_4,  P21E,    76,  1,     17, SI9317,2,19940420,0353,-16.7528,-102.6612, 3760,   1499.3,   2.8750,  34.5957,2,  34.5969,2,     97.0,2,     97.7,2,   110.60,2,    39.77,2,     0.00,2,     2.86,2, -999.000,9, -999.000,9, -999.000,1,-999.0000,1,  -999.00,9,   -999.0,1,-999.000,9,   -999.0,9,   -999.0,9,  -999.00,9,15026.0,-999.0000,-999.000,-999.000,  2.7686,-999.000
   318MWESTW_4,  P21E,    76,  1,     16, SI9316,2,19940420,0353,-16.7528,-102.6612, 3760,   1599.3,   2.7162,  34.6056,2,  34.6069,2,    101.0,2,    102.1,2,   114.58,2,    39.38,2,     0.00,2,     2.82,2, -999.000,9, -999.000,9, -999.000,1,-999.0000,1,  -999.00,9,   -999.0,1,-999.000,9,   -999.0,9,   -999.0,9,  -999.00,9,16025.0,-999.0000,-999.000,-999.000,  2.6034,-999.000
   318MWESTW_4,  P21E,    76,  1,     15, SI9315,2,19940420,0353,-16.7528,-102.6612, 3760,   1749.4,   2.5192,  34.6209,2,  34.6209,2,    110.1,2,    109.9,2,   118.55,2,    38.73,2,     0.00,2,     2.79,2, -999.000,9, -999.000,9, -999.000,1,-999.0000,1,  -999.00,9,   -999.0,1,-999.000,9,   -999.0,9,   -999.0,9,  -999.00,9,17524.4,-999.0000,-999.000,-999.000,  2.3964,-999.000
   318MWESTW_4,  P21E,    76,  1,     14, SI9314,2,19940420,0353,-16.7528,-102.6612, 3760,   1903.0,   2.2698,  34.6364,2,  34.6386,2,    123.8,2,    122.9,2,   121.15,2,    37.70,2,    -0.01,2,     2.69,2, -999.000,9, -999.000,9, -999.000,1,-999.0000,1,  -999.00,9,   -999.0,1,-999.000,9,   -999.0,9,   -999.0,9,  -999.00,9,19058.4,-999.0000,-999.000,-999.000,  2.1375,-999.000
   318MWESTW_4,  P21E,    76,  1,     13, SI9313,2,19940420,0353,-16.7528,-102.6612, 3760,   2051.7,   2.1099,  34.6467,2,  34.6447,2,    135.7,2,    135.0,2,   121.16,2,    36.70,2,     0.01,2,     2.62,2, -999.000,9, -999.000,9, -999.000,1,-999.0000,1,  -999.00,9,   -999.0,1,-999.000,9,   -999.0,9,   -999.0,9,  -999.00,9,20544.0,-999.0000,-999.000,-999.000,  1.9673,-999.000
   318MWESTW_4,  P21E,    76,  1,     12, SI9312,2,19940420,0353,-16.7528,-102.6612, 3760,   2202.8,   1.9801,  34.6570,2,  34.6602,3,    145.8,2,    144.5,2,   121.52,2,    35.99,2,     0.01,2,     2.55,2, -999.000,9, -999.000,9, -999.000,1,-999.0000,1,  -999.00,9,   -999.0,1,-999.000,9,   -999.0,9,   -999.0,9,  -999.00,9,22054.4,-999.0000,-999.000,-999.000,  1.8266,-999.000
   318MWESTW_4,  P21E,    76,  1,     11, SI9311,2,19940420,0353,-16.7528,-102.6612, 3760,   2351.6,   1.8893,  34.6649,2,  34.6649,2,    149.3,2,    148.5,2,   123.44,2,    35.73,2,     0.01,2,     2.53,2, -999.000,9, -999.000,9, -999.000,1,-999.0000,1,  -999.00,9,   -999.0,1,-999.000,9,   -999.0,9,   -999.0,9,  -999.00,9,23540.6,-999.0000,-999.000,-999.000,  1.7243,-999.000
   318MWESTW_4,  P21E,    76,  1,     10, SI9310,2,19940420,0353,-16.7528,-102.6612, 3760,   2502.4,   1.8390,  34.6710,2,  34.6726,2,    151.8,2,    150.7,2,   124.84,2,    35.45,2,     0.01,2,     2.51,2, -999.000,9, -999.000,9, -999.000,1,-999.0000,1,  -999.00,9,   -999.0,1,-999.000,9,   -999.0,9,   -999.0,9,  -999.00,9,25047.6,-999.0000,-999.000,-999.000,  1.6614,-999.000
   318MWESTW_4,  P21E,    76,  1,      9, SI9309,2,19940420,0353,-16.7528,-102.6612, 3760,   2650.7,   1.8097,  34.6764,2,  34.6759,2,    149.8,2,    149.0,2,   128.81,2,    35.71,2,     0.01,2,     2.52,2, -999.000,9, -999.000,9, -999.000,1,-999.0000,1,  -999.00,9,   -999.0,1,-999.000,9,   -999.0,9,   -999.0,9,  -999.00,9,26529.1,-999.0000,-999.000,-999.000,  1.6191,-999.000
   318MWESTW_4,  P21E,    76,  1,      8, SI9308,2,19940420,0353,-16.7528,-102.6612, 3760,   2800.7,   1.8000,  34.6787,2,  34.6855,4,    147.0,2,    146.3,2,   132.10,2,    35.96,2,     0.00,2,     2.54,2, -999.000,9, -999.000,9, -999.000,1,-999.0000,1,  -999.00,9,   -999.0,1,-999.000,9,   -999.0,9,   -999.0,9,  -999.00,9,28028.0,-999.0000,-999.000,-999.000,  1.5957,-999.000
   318MWESTW_4,  P21E,    76,  1,      7, SI9307,2,19940420,0353,-16.7528,-102.6612, 3760,   2951.4,   1.8017,  34.6799,2,  34.6798,2,    145.3,2,    145.0,2,   134.01,2,    36.07,2,     0.01,2,     2.54,2, -999.000,9, -999.000,9, -999.000,1,-999.0000,1,  -999.00,9,   -999.0,1,-999.000,9,   -999.0,9,   -999.0,9,  -999.00,9,29534.4,-999.0000,-999.000,-999.000,  1.5830,-999.000
   318MWESTW_4,  P21E,    76,  1,      6, SI9306,2,19940420,0353,-16.7528,-102.6612, 3760,   3099.3,   1.7997,  34.6797,2,  34.6810,2,    143.6,2,    143.3,2,   136.26,2,    36.26,2,     0.00,2,     2.55,2, -999.000,9, -999.000,9, -999.000,1,-999.0000,1,  -999.00,9,   -999.0,1,-999.000,9,   -999.0,9,   -999.0,9,  -999.00,9,31012.4,-999.0000,-999.000,-999.000,  1.5666,-999.000
   318MWESTW_4,  P21E,    76,  1,      5, SI9305,2,19940420,0353,-16.7528,-102.6612, 3760,   3248.6,   1.8034,  34.6809,2,  34.6824,2,    141.5,2,    143.6,2,   136.46,2,    36.25,2,     0.00,2,     2.54,2, -999.000,9, -999.000,9, -999.000,1,-999.0000,1,  -999.00,9,   -999.0,1,-999.000,9,   -999.0,9,   -999.0,9,  -999.00,9,32504.2,-999.0000,-999.000,-999.000,  1.5553,-999.000
   318MWESTW_4,  P21E,    76,  1,      4, SI9304,2,19940420,0353,-16.7528,-102.6612, 3760,   3399.7,   1.8124,  34.6817,2,  34.6869,3,    144.3,2,    144.1,2,   135.96,2,    36.24,2,     0.00,2,     2.54,2, -999.000,9, -999.000,9, -999.000,1,-999.0000,1,  -999.00,9,   -999.0,1,-999.000,9,   -999.0,9,   -999.0,9,  -999.00,9,34014.2,-999.0000,-999.000,-999.000,  1.5488,-999.000
   318MWESTW_4,  P21E,    76,  1,      3, SI9303,2,19940420,0353,-16.7528,-102.6612, 3760,   3599.3,   1.8264,  34.6837,2,  34.6846,2,    146.8,2,    146.0,2,   133.92,2,    36.11,2,     0.00,2,     2.53,2, -999.000,9, -999.000,9, -999.000,1,-999.0000,1,  -999.00,9,   -999.0,1,-999.000,9,   -999.0,9,   -999.0,9,  -999.00,9,36009.0,-999.0000,-999.000,-999.000,  1.5416,-999.000
   318MWESTW_4,  P21E,    76,  1,      2, SI9302,2,19940420,0353,-16.7528,-102.6612, 3760,   3712.8,   1.8340,  34.6844,2,  34.6834,2,    148.1,2,    146.7,2,   133.08,2,    36.09,2,     0.01,2,     2.52,2, -999.000,9, -999.000,9, -999.000,1,-999.0000,1,  -999.00,9,   -999.0,1,-999.000,9,   -999.0,9,   -999.0,9,  -999.00,9,37144.0,-999.0000,-999.000,-999.000,  1.5370,-999.000
   318MWESTW_4,  P21E,    76,  1,      1, SI9301,2,19940420,0353,-16.7528,-102.6612, 3760,   3751.8,   1.8379,  34.6845,2,  34.6851,2,    148.1,2,    147.2,2,   132.62,2,    36.03,2,     0.00,2,     2.53,2, -999.000,9, -999.000,9, -999.000,1,-999.0000,1,  -999.00,9,   -999.0,1,-999.000,9,   -999.0,9,   -999.0,9,  -999.00,9,37533.1,-999.0000,-999.000,-999.000,  1.5366,-999.000