BOTTLE,20010911WHPSIOdm
EXPOCODE,SECT_ID,STNNBR,CASTNO,SAMPNO,BTLNBR,BTLNBR_FLAG_W,DATE,TIME,LATITUDE,LONGITUDE,DEPTH,CTDPRS,CTDTMP,CTDSAL,CTDSAL_FLAG_W,SALNTY,SALNTY_FLAG_W,CTDOXY,CTDOXY_FLAG_W,OXYGEN,OXYGEN_FLAG_W,SILCAT,SILCAT_FLAG_W,NITRAT,NITRAT_FLAG_W,NITRIT,NITRIT_FLAG_W,PHSPHT,PHSPHT_FLAG_W,CFC-11,CFC-11_FLAG_W,CFC-12,CFC-12_FLAG_W,TRITUM,TRITUM_FLAG_W,HELIUM,HELIUM_FLAG_W,DELHE3,DELHE3_FLAG_W,DELC14,DELC14_FLAG_W,NEON,NEON_FLAG_W,TCARBN,TCARBN_FLAG_W,ALKALI,ALKALI_FLAG_W,PH,PH_FLAG_W,CTDRAW,HELIER,DELHER,NEONER,THETA,TRITER
,,,,,,,,,,,,DBAR,ITS-90,PSS-78,,PSS-78,,UMOL/KG,,UMOL/KG,,UMOL/KG,,UMOL/KG,,UMOL/KG,,UMOL/KG,,PMOL/KG,,PMOL/KG,,TU,,UMOL/KG,,PERCNT,,/MILLE,,NMOL/KG,,UMOL/KG,,UMOL/KG,,,,,NMOL/KG,PERCNT,NMOL/KG,ITS-90,TU
   318MWESTW_4,  P21E,   105,  1,     36, SI9336,2,19940428,1623,-16.7500,-116.6667, 3320,      9.1,  26.3811,  36.5654,2,  36.5616,2,    209.9,2,    211.8,2,     0.49,2,     0.05,2,     0.00,2,     0.26,2,    1.735,2,    0.995,2, -999.000,1,-999.0000,1,  -999.00,9,   -999.0,1,-999.000,9,   -999.0,9,   -999.0,9,  -999.00,9,  131.6,-999.0000,-999.000,-999.000, 26.3790,-999.000
   318MWESTW_4,  P21E,   105,  1,     35, SI9335,2,19940428,1623,-16.7500,-116.6667, 3320,     26.8,  26.3638,  36.5652,2,  36.5630,2,    214.1,2,    210.5,2,     0.35,2,     0.04,2,     0.01,2,     0.26,2,    1.764,2,    0.988,2, -999.000,1,-999.0000,1,  -999.00,9,   -999.0,1,-999.000,9,   -999.0,9,   -999.0,9,  -999.00,9,  309.0,-999.0000,-999.000,-999.000, 26.3577,-999.000
   318MWESTW_4,  P21E,   105,  1,     34, SI9334,2,19940428,1623,-16.7500,-116.6667, 3320,     50.1,  26.3580,  36.5654,2,  36.5618,2,    209.7,2,    212.3,2,     0.38,2,     0.16,2,     0.01,2,     0.26,2,    1.770,2,    0.989,2, -999.000,1,-999.0000,1,  -999.00,9,   -999.0,1,-999.000,9,   -999.0,9,   -999.0,9,  -999.00,9,  541.7,-999.0000,-999.000,-999.000, 26.3467,-999.000
   318MWESTW_4,  P21E,   105,  1,     33, SI9333,2,19940428,1623,-16.7500,-116.6667, 3320,    102.7,  23.4694,  36.4440,2,  36.4479,2,    221.1,2,    215.0,2,     0.41,2,     0.03,2,     0.01,2,     0.32,2,    2.017,2,    1.098,2, -999.000,1,-999.0000,1,  -999.00,9,   -999.0,1,-999.000,9,   -999.0,9,   -999.0,9,  -999.00,9, 1067.5,-999.0000,-999.000,-999.000, 23.4480,-999.000
   318MWESTW_4,  P21E,   105,  1,     32, SI9332,2,19940428,1623,-16.7500,-116.6667, 3320,    148.9,  23.1301,  36.4469,2,  36.4667,2,    210.9,2,    207.7,2,     0.44,2,     0.07,2,     0.03,2,     0.31,2,    2.002,2,    1.097,2, -999.000,1,-999.0000,1,  -999.00,9,   -999.0,1,-999.000,9,   -999.0,9,   -999.0,9,  -999.00,9, 1530.0,-999.0000,-999.000,-999.000, 23.0994,-999.000
   318MWESTW_4,  P21E,   105,  1,     31, SI9331,2,19940428,1623,-16.7500,-116.6667, 3320,    202.3,  22.1934,  36.0698,3,  36.2457,2,    207.7,2,    204.5,2,     0.47,2,     0.13,2,     0.38,2,     0.32,2,    2.095,2,    1.128,2, -999.000,1,-999.0000,1,  -999.00,9,   -999.0,1,-999.000,9,   -999.0,9,   -999.0,9,  -999.00,9, 2063.8,-999.0000,-999.000,-999.000, 22.1529,-999.000
   318MWESTW_4,  P21E,   105,  1,     30, SI9330,2,19940428,1623,-16.7500,-116.6667, 3320,    249.4,  19.4862,  35.5884,3,  35.6786,2,    194.9,2,    192.5,2,     0.81,2,     3.11,2,     0.01,2,     0.52,2,    2.226,2,    1.180,2, -999.000,1,-999.0000,1,  -999.00,9,   -999.0,1,-999.000,9,   -999.0,9,   -999.0,9,  -999.00,9, 2534.9,-999.0000,-999.000,-999.000, 19.4407,-999.000
   318MWESTW_4,  P21E,   105,  1,     29, SI9329,2,19940428,1623,-16.7500,-116.6667, 3320,    301.0,  15.9739,  35.1352,2,  35.1152,2,    180.3,2,    179.6,2,     1.95,2,     6.72,2,     0.01,2,     0.76,2,    2.031,2,    1.002,2, -999.000,1,-999.0000,1,  -999.00,9,   -999.0,1,-999.000,9,   -999.0,9,   -999.0,9,  -999.00,9, 3050.4,-999.0000,-999.000,-999.000, 15.9261,-999.000
   318MWESTW_4,  P21E,   105,  1,     28, SI9328,2,19940428,1623,-16.7500,-116.6667, 3320,    399.3,   9.3444,  34.4979,2,  34.4930,2,     87.3,2,     90.0,2,    16.45,2,    27.73,2,     0.01,2,     2.24,2,    0.450,2,    0.223,2, -999.000,1,-999.0000,1,  -999.00,9,   -999.0,1,-999.000,9,   -999.0,9,   -999.0,9,  -999.00,9, 4031.7,-999.0000,-999.000,-999.000,  9.2998,-999.000
   318MWESTW_4,  P21E,   105,  1,     27, SI9327,2,19940428,1623,-16.7500,-116.6667, 3320,    501.0,   7.1415,  34.4251,2,  34.4339,2,    117.1,2,    106.5,2,    21.73,2,    33.55,2,     0.01,2,     2.40,2,    0.122,2,    0.067,2, -999.000,1,-999.0000,1,  -999.00,9,   -999.0,1,-999.000,9,   -999.0,9,   -999.0,9,  -999.00,9, 5048.2,-999.0000,-999.000,-999.000,  7.0934,-999.000
   318MWESTW_4,  P21E,   105,  1,     26, SI9326,2,19940428,1623,-16.7500,-116.6667, 3320,    603.3,   6.1082,  34.4386,2,  34.4237,2,    102.3,2,    112.3,2,    29.24,2,    35.74,2,     0.01,2,     2.49,2,    0.029,2,    0.022,2, -999.000,1,-999.0000,1,  -999.00,9,   -999.0,1,-999.000,9,   -999.0,9,   -999.0,9,  -999.00,9, 6069.5,-999.0000,-999.000,-999.000,  6.0546,-999.000
   318MWESTW_4,  P21E,   105,  1,     25, SI9325,2,19940428,1623,-16.7500,-116.6667, 3320,    703.4,   5.5896,  34.4816,2,  34.4781,2,     77.7,2,     79.3,2,    45.64,2,    39.78,2,     0.01,2,     2.80,2,    0.000,2,    0.001,2, -999.000,1,-999.0000,1,  -999.00,9,   -999.0,1,-999.000,9,   -999.0,9,   -999.0,9,  -999.00,9, 7069.5,-999.0000,-999.000,-999.000,  5.5294,-999.000
   318MWESTW_4,  P21E,   105,  1,     24, SI9324,2,19940428,1623,-16.7500,-116.6667, 3320,    801.3,   5.1345,  34.4925,2,  34.4942,2,     77.3,2,     74.9,2,    56.00,2,    41.06,2,     0.01,2,     2.87,2,   -0.003,2,    0.001,2, -999.000,1,-999.0000,1,  -999.00,9,   -999.0,1,-999.000,9,   -999.0,9,   -999.0,9,  -999.00,9, 8047.2,-999.0000,-999.000,-999.000,  5.0681,-999.000
   318MWESTW_4,  P21E,   105,  1,     23, SI9323,2,19940428,1623,-16.7500,-116.6667, 3320,    899.9,   4.6539,  34.5086,2,  34.5091,2,     74.4,2,     74.6,2,    66.69,2,    41.49,2,     0.01,2,     2.93,2,   -0.001,2,    0.001,2, -999.000,1,-999.0000,1,  -999.00,9,   -999.0,1,-999.000,9,   -999.0,9,   -999.0,9,  -999.00,9, 9032.2,-999.0000,-999.000,-999.000,  4.5820,-999.000
   318MWESTW_4,  P21E,   105,  1,     22, SI9322,2,19940428,1623,-16.7500,-116.6667, 3320,    999.8,   4.3169,  34.5233,2,  34.5235,2,     78.6,2,     78.5,2,    74.51,2,    41.18,2,     0.01,2,     2.93,2,    0.000,2,    0.000,2, -999.000,1,-999.0000,1,  -999.00,9,   -999.0,1,-999.000,9,   -999.0,9,   -999.0,9,  -999.00,9,10029.9,-999.0000,-999.000,-999.000,  4.2388,-999.000
   318MWESTW_4,  P21E,   105,  1,     21, SI9321,2,19940428,1623,-16.7500,-116.6667, 3320,   1099.7,   3.9960,  34.5384,2,  34.5364,2,     82.9,2,     81.2,2,    82.17,2,    41.18,2,     0.00,2,     2.92,2, -999.000,9, -999.000,9, -999.000,1,-999.0000,1,  -999.00,9,   -999.0,1,-999.000,9,   -999.0,9,   -999.0,9,  -999.00,9,11028.2,-999.0000,-999.000,-999.000,  3.9119,-999.000
   318MWESTW_4,  P21E,   105,  1,     20, SI9320,2,19940428,1623,-16.7500,-116.6667, 3320,   1199.2,   3.6627,  34.5533,2,  34.5519,2,     85.4,2,     85.0,2,    90.30,2,    40.83,2,     0.00,2,     2.91,2, -999.000,9, -999.000,9, -999.000,1,-999.0000,1,  -999.00,9,   -999.0,1,-999.000,9,   -999.0,9,   -999.0,9,  -999.00,9,12022.1,-999.0000,-999.000,-999.000,  3.5732,-999.000
   318MWESTW_4,  P21E,   105,  1,     19, SI9319,2,19940428,1623,-16.7500,-116.6667, 3320,   1301.5,   3.3710,  34.5667,2,  34.5669,2,     90.9,2,     90.3,2,    97.44,2,    40.48,2,     0.01,2,     2.88,2, -999.000,9, -999.000,9, -999.000,1,-999.0000,1,  -999.00,9,   -999.0,1,-999.000,9,   -999.0,9,   -999.0,9,  -999.00,9,13043.9,-999.0000,-999.000,-999.000,  3.2757,-999.000
   318MWESTW_4,  P21E,   105,  1,     18, SI9318,2,19940428,1623,-16.7500,-116.6667, 3320,   1400.8,   3.1211,  34.5808,2,  34.5810,2,     94.8,2,     95.4,2,   103.56,2,    39.99,2,     0.00,2,     2.86,2, -999.000,9, -999.000,9, -999.000,1,-999.0000,1,  -999.00,9,   -999.0,1,-999.000,9,   -999.0,9,   -999.0,9,  -999.00,9,14035.5,-999.0000,-999.000,-999.000,  3.0201,-999.000
   318MWESTW_4,  P21E,   105,  1,     17, SI9317,2,19940428,1623,-16.7500,-116.6667, 3320,   1499.2,   2.9074,  34.5927,2,  34.5932,2,     98.7,2,     98.8,2,   109.40,2,    39.85,2,     0.01,2,     2.83,2, -999.000,9, -999.000,9, -999.000,1,-999.0000,1,  -999.00,9,   -999.0,1,-999.000,9,   -999.0,9,   -999.0,9,  -999.00,9,15019.2,-999.0000,-999.000,-999.000,  2.8007,-999.000
   318MWESTW_4,  P21E,   105,  1,     16, SI9316,2,19940428,1623,-16.7500,-116.6667, 3320,   1599.4,   2.7470,  34.6028,2,  34.6034,2,    105.9,2,    105.2,2,   112.29,2,    39.36,2,     0.01,2,     2.80,2, -999.000,9, -999.000,9, -999.000,1,-999.0000,1,  -999.00,9,   -999.0,1,-999.000,9,   -999.0,9,   -999.0,9,  -999.00,9,16020.0,-999.0000,-999.000,-999.000,  2.6338,-999.000
   318MWESTW_4,  P21E,   105,  1,     15, SI9315,2,19940428,1623,-16.7500,-116.6667, 3320,   1698.8,   2.5588,  34.6134,2,  34.6150,2,    114.8,2,    114.9,2,   114.92,2,    38.68,2,    -0.01,2,     2.74,2, -999.000,9, -999.000,9, -999.000,1,-999.0000,1,  -999.00,9,   -999.0,1,-999.000,9,   -999.0,9,   -999.0,9,  -999.00,9,17013.0,-999.0000,-999.000,-999.000,  2.4397,-999.000
   318MWESTW_4,  P21E,   105,  1,     14, SI9314,2,19940428,1623,-16.7500,-116.6667, 3320,   1798.9,   2.3964,  34.6225,2,  34.6231,2,    122.4,2,    123.4,2,   116.38,2,    37.95,2,     0.00,2,     2.68,2, -999.000,9, -999.000,9, -999.000,1,-999.0000,1,  -999.00,9,   -999.0,1,-999.000,9,   -999.0,9,   -999.0,9,  -999.00,9,18012.8,-999.0000,-999.000,-999.000,  2.2711,-999.000
   318MWESTW_4,  P21E,   105,  1,     13, SI9313,2,19940428,1623,-16.7500,-116.6667, 3320,   1896.4,   2.2421,  34.6306,2,  34.6313,2,    133.2,2,    134.1,2,   116.56,2,    37.11,2,     0.00,2,     2.61,2, -999.000,9, -999.000,9, -999.000,1,-999.0000,1,  -999.00,9,   -999.0,1,-999.000,9,   -999.0,9,   -999.0,9,  -999.00,9,18987.3,-999.0000,-999.000,-999.000,  2.1108,-999.000
   318MWESTW_4,  P21E,   105,  1,     12, SI9312,3,19940428,1623,-16.7500,-116.6667, 3320,   2000.4,   2.1145,  34.6395,2,  34.9146,4,    141.2,2,    140.6,3,    79.70,4,    29.45,4,     0.01,4,     2.14,4, -999.000,9, -999.000,9, -999.000,1,-999.0000,1,  -999.00,9,   -999.0,1,-999.000,9,   -999.0,9,   -999.0,9,  -999.00,9,20025.6,-999.0000,-999.000,-999.000,  1.9763,-999.000
   318MWESTW_4,  P21E,   105,  1,     11, SI9311,2,19940428,1623,-16.7500,-116.6667, 3320,   2099.2,   2.0134,  34.6470,2,  34.6488,2,    148.3,2,    149.5,2,   117.10,2,    35.79,2,     0.00,2,     2.50,2, -999.000,9, -999.000,9, -999.000,1,-999.0000,1,  -999.00,9,   -999.0,1,-999.000,9,   -999.0,9,   -999.0,9,  -999.00,9,21013.4,-999.0000,-999.000,-999.000,  1.8683,-999.000
   318MWESTW_4,  P21E,   105,  1,     10, SI9310,2,19940428,1623,-16.7500,-116.6667, 3320,   2199.2,   1.9406,  34.6562,2,  34.6572,2,    152.6,2,    152.5,2,   118.87,2,    35.50,2,     0.00,2,     2.48,2, -999.000,9, -999.000,9, -999.000,1,-999.0000,1,  -999.00,9,   -999.0,1,-999.000,9,   -999.0,9,   -999.0,9,  -999.00,9,22012.2,-999.0000,-999.000,-999.000,  1.7881,-999.000
   318MWESTW_4,  P21E,   105,  1,      9, SI9309,2,19940428,1623,-16.7500,-116.6667, 3320,   2300.5,   1.8893,  34.6618,2,  34.6633,2,    155.1,2,    154.4,2,   121.12,2,    35.43,2,     0.00,2,     2.47,2, -999.000,9, -999.000,9, -999.000,1,-999.0000,1,  -999.00,9,   -999.0,1,-999.000,9,   -999.0,9,   -999.0,9,  -999.00,9,23024.2,-999.0000,-999.000,-999.000,  1.7288,-999.000
   318MWESTW_4,  P21E,   105,  1,      8, SI9308,2,19940428,1623,-16.7500,-116.6667, 3320,   2400.0,   1.8694,  34.6660,2,  34.6661,2,    155.0,2,    154.5,2,   121.94,2,    35.30,2,     0.00,2,     2.47,2, -999.000,9, -999.000,9, -999.000,1,-999.0000,1,  -999.00,9,   -999.0,1,-999.000,9,   -999.0,9,   -999.0,9,  -999.00,9,24018.2,-999.0000,-999.000,-999.000,  1.7005,-999.000
   318MWESTW_4,  P21E,   105,  1,      7, SI9307,3,19940428,1623,-16.7500,-116.6667, 3320,   2550.1,   1.8444,  34.6715,2,  34.6716,2,    154.4,2,    154.7,2,   124.67,2,    35.37,2,    -0.01,2,     2.47,2, -999.000,9, -999.000,9, -999.000,1,-999.0000,1,  -999.00,9,   -999.0,1,-999.000,9,   -999.0,9,   -999.0,9,  -999.00,9,25518.2,-999.0000,-999.000,-999.000,  1.6624,-999.000
   318MWESTW_4,  P21E,   105,  1,      6, SI9306,2,19940428,1623,-16.7500,-116.6667, 3320,   2700.9,   1.8138,  34.6728,2,  34.6734,2,    156.7,2,    156.3,2,   125.34,2,    35.25,2,    -0.01,2,     2.46,2, -999.000,9, -999.000,9, -999.000,1,-999.0000,1,  -999.00,9,   -999.0,1,-999.000,9,   -999.0,9,   -999.0,9,  -999.00,9,27024.5,-999.0000,-999.000,-999.000,  1.6185,-999.000
   318MWESTW_4,  P21E,   105,  1,      5, SI9305,2,19940428,1623,-16.7500,-116.6667, 3320,   2846.8,   1.7890,  34.6741,2,  34.6743,2,    158.4,2,    158.2,2,   125.35,2,    35.25,2,    -0.01,2,     2.46,2, -999.000,9, -999.000,9, -999.000,1,-999.0000,1,  -999.00,9,   -999.0,1,-999.000,9,   -999.0,9,   -999.0,9,  -999.00,9,28483.1,-999.0000,-999.000,-999.000,  1.5805,-999.000
   318MWESTW_4,  P21E,   105,  1,      4, SI9304,2,19940428,1623,-16.7500,-116.6667, 3320,   2992.5,   1.7589,  34.6757,2,  34.6757,2,    159.3,2,    159.8,2,   126.18,2,    35.11,2,     0.00,2,     2.46,2, -999.000,9, -999.000,9, -999.000,1,-999.0000,1,  -999.00,9,   -999.0,1,-999.000,9,   -999.0,9,   -999.0,9,  -999.00,9,29939.3,-999.0000,-999.000,-999.000,  1.5371,-999.000
   318MWESTW_4,  P21E,   105,  1,      3, SI9303,2,19940428,1623,-16.7500,-116.6667, 3320,   3152.9,   1.7491,  34.6768,2,  34.6769,2,    160.5,2,    160.5,2,   126.84,2,    35.11,2,     0.00,2,     2.46,2, -999.000,9, -999.000,9, -999.000,1,-999.0000,1,  -999.00,9,   -999.0,1,-999.000,9,   -999.0,9,   -999.0,9,  -999.00,9,31541.9,-999.0000,-999.000,-999.000,  1.5119,-999.000
   318MWESTW_4,  P21E,   105,  1,      2, SI9302,2,19940428,1623,-16.7500,-116.6667, 3320,   3304.7,   1.7419,  34.6781,2,  34.6783,2,    161.3,2,    160.6,2,   127.50,2,    35.10,2,     0.00,2,     2.46,2, -999.000,9, -999.000,9, -999.000,1,-999.0000,1,  -999.00,9,   -999.0,1,-999.000,9,   -999.0,9,   -999.0,9,  -999.00,9,33059.1,-999.0000,-999.000,-999.000,  1.4897,-999.000
   318MWESTW_4,  P21E,   105,  1,      1, SI9301,2,19940428,1623,-16.7500,-116.6667, 3320,   3355.2,   1.7384,  34.6790,2,  34.6804,3,    160.3,2,    161.2,2,   127.78,2,    35.14,2,     0.00,2,     2.44,2, -999.000,9, -999.000,9, -999.000,1,-999.0000,1,  -999.00,9,   -999.0,1,-999.000,9,   -999.0,9,   -999.0,9,  -999.00,9,33564.0,-999.0000,-999.000,-999.000,  1.4811,-999.000