BOTTLE,20010911WHPSIOdm
EXPOCODE,SECT_ID,STNNBR,CASTNO,SAMPNO,BTLNBR,BTLNBR_FLAG_W,DATE,TIME,LATITUDE,LONGITUDE,DEPTH,CTDPRS,CTDTMP,CTDSAL,CTDSAL_FLAG_W,SALNTY,SALNTY_FLAG_W,CTDOXY,CTDOXY_FLAG_W,OXYGEN,OXYGEN_FLAG_W,SILCAT,SILCAT_FLAG_W,NITRAT,NITRAT_FLAG_W,NITRIT,NITRIT_FLAG_W,PHSPHT,PHSPHT_FLAG_W,CFC-11,CFC-11_FLAG_W,CFC-12,CFC-12_FLAG_W,TRITUM,TRITUM_FLAG_W,HELIUM,HELIUM_FLAG_W,DELHE3,DELHE3_FLAG_W,DELC14,DELC14_FLAG_W,NEON,NEON_FLAG_W,TCARBN,TCARBN_FLAG_W,ALKALI,ALKALI_FLAG_W,PH,PH_FLAG_W,CTDRAW,HELIER,DELHER,NEONER,THETA,TRITER
,,,,,,,,,,,,DBAR,ITS-90,PSS-78,,PSS-78,,UMOL/KG,,UMOL/KG,,UMOL/KG,,UMOL/KG,,UMOL/KG,,UMOL/KG,,PMOL/KG,,PMOL/KG,,TU,,UMOL/KG,,PERCNT,,/MILLE,,NMOL/KG,,UMOL/KG,,UMOL/KG,,,,,NMOL/KG,PERCNT,NMOL/KG,ITS-90,TU
   318MWESTW_4,  P21E,    17,  1,     36, SI9436,2,19940401,2111,-15.8833, -75.4112, 3773,      7.9,  22.1268,  34.9061,2,  34.9803,2,    241.9,2,    234.7,2,     0.28,2,     0.12,2,     0.00,2,     0.42,2,    2.238,2,    1.191,2, -999.000,1,-999.0000,1,  -999.00,9,   -999.0,1,-999.000,9,   2048.8,2,   2325.0,2,     7.98,2,  119.2,-999.0000,-999.000,-999.000, 22.1252,-999.000
   318MWESTW_4,  P21E,    17,  1,     35, SI9435,2,19940401,2111,-15.8833, -75.4112, 3773,     26.8,  16.7460,  34.9370,2,  34.8379,2,    233.1,2,    231.3,2,     0.82,2,     0.18,2,     0.00,2,     0.58,2,    2.536,2,    1.295,2, -999.000,1,-999.0000,1,  -999.00,9,   -999.0,1,-999.000,9,   2077.8,2,   2316.0,2,     7.91,2,  308.4,-999.0000,-999.000,-999.000, 16.7416,-999.000
   318MWESTW_4,  P21E,    17,  1,     34, SI9434,2,19940401,2111,-15.8833, -75.4112, 3773,     52.3,  14.6880,  34.8796,2,  34.8635,2,    100.2,3,     55.2,2,    10.02,2,    20.06,2,     0.18,2,     2.11,2,    1.828,2,    0.917,2, -999.000,1,-999.0000,1,  -999.00,9,   -999.0,1,-999.000,9,   2218.9,2,   2303.0,2,     7.55,2,  564.1,-999.0000,-999.000,-999.000, 14.6802,-999.000
   318MWESTW_4,  P21E,    17,  1,     33, SI9433,2,19940401,2111,-15.8833, -75.4112, 3773,    103.1,  13.0129,  34.8420,2,  34.8511,2,     10.0,2,      3.7,2,    26.14,2,    16.51,2,     0.00,2,     2.66,2,    0.614,2,    0.316,2, -999.000,1,-999.0000,1,  -999.00,9,   -999.0,1,-999.000,9,   2263.9,2,   2310.0,2,     7.45,2, 1070.7,-999.0000,-999.000,-999.000, 12.9988,-999.000
   318MWESTW_4,  P21E,    17,  1,     32, SI9432,2,19940401,2111,-15.8833, -75.4112, 3773,    151.4,  12.3325,  34.8526,2,  34.8528,2,      2.6,2,      1.5,2,    28.23,2,    15.94,2,     4.56,2,     2.67,2,    0.314,2,    0.162,2, -999.000,1,-999.0000,1,  -999.00,9,   -999.0,1,-999.000,9,   2272.0,2,   2310.0,2,     7.43,2, 1553.6,-999.0000,-999.000,-999.000, 12.3125,-999.000
   318MWESTW_4,  P21E,    17,  1,     31, SI9431,2,19940401,2111,-15.8833, -75.4112, 3773,    199.3,  11.6238,  34.8032,2,  34.8007,2,      1.8,2,      2.6,2,    27.22,2,    24.98,2,     0.09,2,     2.66,2,    0.218,2,    0.110,2, -999.000,1,-999.0000,1,  -999.00,9,   -999.0,1,-999.000,9,   2271.0,2,   2312.0,2,     7.42,2, 2031.9,-999.0000,-999.000,-999.000, 11.5984,-999.000
   318MWESTW_4,  P21E,    17,  1,     30, SI9430,2,19940401,2111,-15.8833, -75.4112, 3773,    249.6,  11.0419,  34.7761,2,  34.7217,4,      1.1,2,      1.4,2,    29.83,2,    21.78,2,     6.05,2,     2.74,2,    0.106,2,    0.062,2, -999.000,1,-999.0000,1,  -999.00,9,   -999.0,1,-999.000,9,   2280.0,2,   2304.0,2,     7.38,2, 2534.2,-999.0000,-999.000,-999.000, 11.0111,-999.000
   318MWESTW_4,  P21E,    17,  1,     29, SI9429,2,19940401,2111,-15.8833, -75.4112, 3773,    298.9,  10.2583,  34.7092,2,  34.7223,2,      0.4,2,      1.7,2,    30.71,2,    29.80,2,     1.57,2,     2.80,2,    0.069,2,    0.041,2, -999.000,1,-999.0000,1,  -999.00,9,   -999.0,1,-999.000,9,   2281.0,2,   2304.0,2,     7.38,2, 3027.2,-999.0000,-999.000,-999.000, 10.2230,-999.000
   318MWESTW_4,  P21E,    17,  1,     28, SI9428,2,19940401,2111,-15.8833, -75.4112, 3773,    399.9,   8.7008,  34.6153,2,  34.6307,2,      4.5,2,      5.1,2,    34.37,2,    38.19,2,    -0.01,2,     2.94,2,    0.030,2,   -0.004,2, -999.000,1,-999.0000,1,  -999.00,9,   -999.0,1,-999.000,9,   2287.0,2,   2303.0,2,     7.36,2, 4036.2,-999.0000,-999.000,-999.000,  8.6579,-999.000
   318MWESTW_4,  P21E,    17,  1,     27, SI9427,2,19940401,2111,-15.8833, -75.4112, 3773,    500.7,   7.4079,  34.5549,2,  34.5618,2,     18.8,2,     16.7,2,    39.76,2,    41.51,2,     0.00,2,     3.02,2,    0.011,2,   -0.003,2, -999.000,1,-999.0000,1,  -999.00,9,   -999.0,1,-999.000,9,   2289.0,2,   2306.0,2,     7.37,2, 5042.5,-999.0000,-999.000,-999.000,  7.3588,-999.000
   318MWESTW_4,  P21E,    17,  1,     26, SI9426,2,19940401,2111,-15.8833, -75.4112, 3773,    602.9,   6.4419,  34.5218,2,  34.5243,2,     26.2,2,     26.1,2,    46.86,2,    42.68,2,     0.00,2,     3.11,2,    0.001,2,   -0.004,2, -999.000,1,-999.0000,1,  -999.00,9,   -999.0,1,-999.000,9,   -999.0,9,   2312.0,2,     7.37,2, 6064.1,-999.0000,-999.000,-999.000,  6.3867,-999.000
   318MWESTW_4,  P21E,    17,  1,     25, SI9425,2,19940401,2111,-15.8833, -75.4112, 3773,    702.2,   5.6743,  34.5035,2,  34.5023,2,     37.1,2,     38.7,2,    53.98,2,    42.72,2,    -0.01,2,     3.12,2,   -0.001,2,   -0.004,2, -999.000,1,-999.0000,1,  -999.00,9,   -999.0,1,-999.000,9,   2298.0,2,   2326.0,2,     7.38,2, 7055.6,-999.0000,-999.000,-999.000,  5.6137,-999.000
   318MWESTW_4,  P21E,    17,  1,     24, SI9424,2,19940401,2111,-15.8833, -75.4112, 3773,    798.9,   5.1543,  34.5195,2,  34.5199,2,     36.0,2,     37.0,2,    66.64,2,    43.25,2,     0.00,2,     3.19,2, -999.000,9, -999.000,9, -999.000,1,-999.0000,1,  -999.00,9,   -999.0,1,-999.000,9,   2312.0,2,   2331.0,2,     7.38,2, 8021.6,-999.0000,-999.000,-999.000,  5.0879,-999.000
   318MWESTW_4,  P21E,    17,  1,     23, SI9423,2,19940401,2111,-15.8833, -75.4112, 3773,    895.5,   4.6990,  34.5272,2,  34.5256,2,     47.7,2,     46.6,2,    74.44,2,    43.22,2,     0.00,2,     3.17,2, -999.000,9, -999.000,9, -999.000,1,-999.0000,1,  -999.00,9,   -999.0,1,-999.000,9,   2316.0,2,   2341.0,2,     7.39,2, 8986.2,-999.0000,-999.000,-999.000,  4.6271,-999.000
   318MWESTW_4,  P21E,    17,  1,     22, SI9422,2,19940401,2111,-15.8833, -75.4112, 3773,    998.1,   4.2576,  34.5401,2,  34.5394,2,     59.3,2,     56.2,2,    83.98,2,    42.79,2,     0.00,2,     3.13,2, -999.000,9, -999.000,9, -999.000,1,-999.0000,1,  -999.00,9,   -999.0,1,-999.000,9,   2321.0,2,   2351.0,2,     7.41,2,10011.3,-999.0000,-999.000,-999.000,  4.1801,-999.000
   318MWESTW_4,  P21E,    17,  1,     21, SI9421,2,19940401,2111,-15.8833, -75.4112, 3773,   1101.2,   3.9254,  34.5502,2,  34.5486,2,     64.6,2,     64.6,2,    90.57,2,    42.41,2,     0.00,2,     3.08,2, -999.000,9, -999.000,9, -999.000,1,-999.0000,1,  -999.00,9,   -999.0,1,-999.000,9,   2323.0,2,   2360.0,2,     7.43,2,11041.1,-999.0000,-999.000,-999.000,  3.8418,-999.000
   318MWESTW_4,  P21E,    17,  1,     20, SI9420,2,19940401,2111,-15.8833, -75.4112, 3773,   1200.9,   3.6878,  34.5645,2,  34.5637,2,     67.1,2,     67.1,2,    98.72,2,    42.29,2,    -0.01,2,     3.08,2, -999.000,9, -999.000,9, -999.000,1,-999.0000,1,  -999.00,9,   -999.0,1,-999.000,9,   2331.0,2,   2367.0,2,     7.43,2,12036.5,-999.0000,-999.000,-999.000,  3.5979,-999.000
   318MWESTW_4,  P21E,    17,  1,     19, SI9419,2,19940401,2111,-15.8833, -75.4112, 3773,   1293.6,   3.4205,  34.5753,2,  34.5761,2,     73.5,2,     73.7,2,   104.95,2,    41.67,2,     0.00,2,     3.03,2, -999.000,9, -999.000,9, -999.000,1,-999.0000,1,  -999.00,9,   -999.0,1,-999.000,9,   -999.0,9,   2376.0,2,     7.44,2,12962.9,-999.0000,-999.000,-999.000,  3.3254,-999.000
   318MWESTW_4,  P21E,    17,  1,     18, SI9418,2,19940401,2111,-15.8833, -75.4112, 3773,   1399.3,   3.1645,  34.5866,2,  34.5883,2,     77.2,2,     78.5,2,   111.89,2,    40.96,2,     0.00,2,     3.02,2, -999.000,9, -999.000,9, -999.000,1,-999.0000,1,  -999.00,9,   -999.0,1,-999.000,9,   2337.0,2,   2383.0,2,     7.45,2,14018.6,-999.0000,-999.000,-999.000,  3.0632,-999.000
   318MWESTW_4,  P21E,    17,  1,     17, SI9417,2,19940401,2111,-15.8833, -75.4112, 3773,   1499.3,   2.9565,  34.6005,2,  34.6036,2,     81.9,2,     82.1,2,   119.16,2,    40.29,2,     0.00,2,     3.00,2, -999.000,9, -999.000,9, -999.000,1,-999.0000,1,  -999.00,9,   -999.0,1,-999.000,9,   2343.0,2,   2393.0,2,     7.46,2,15018.2,-999.0000,-999.000,-999.000,  2.8492,-999.000
   318MWESTW_4,  P21E,    17,  1,     16, SI9416,2,19940401,2111,-15.8833, -75.4112, 3773,   1598.6,   2.8417,  34.6074,2,  34.6079,2,     85.0,2,     86.3,2,   121.43,2,    40.20,2,     0.00,2,     2.96,2, -999.000,9, -999.000,9, -999.000,1,-999.0000,1,  -999.00,9,   -999.0,1,-999.000,9,   2344.0,2,   2396.0,2,     7.46,2,16010.2,-999.0000,-999.000,-999.000,  2.7274,-999.000
   318MWESTW_4,  P21E,    17,  1,     15, SI9415,2,19940401,2111,-15.8833, -75.4112, 3773,   1705.2,   2.6289,  34.6159,2,  34.6164,2,     95.6,2,     96.4,2,   123.17,2,    39.89,2,     0.00,2,     2.88,2, -999.000,9, -999.000,9, -999.000,1,-999.0000,1,  -999.00,9,   -999.0,1,-999.000,9,   -999.0,9,   2397.0,2,     7.48,2,17074.6,-999.0000,-999.000,-999.000,  2.5083,-999.000
   318MWESTW_4,  P21E,    17,  1,     14, SI9414,2,19940401,2111,-15.8833, -75.4112, 3773,   1808.2,   2.4876,  34.6257,2,  34.6250,2,    101.4,2,    100.8,2,   126.81,2,    39.75,2,    -0.01,2,     2.85,2, -999.000,9, -999.000,9, -999.000,1,-999.0000,1,  -999.00,9,   -999.0,1,-999.000,9,   2340.0,2,   2402.0,2,     7.49,2,18103.4,-999.0000,-999.000,-999.000,  2.3602,-999.000
   318MWESTW_4,  P21E,    17,  1,     13, SI9413,2,19940401,2111,-15.8833, -75.4112, 3773,   2051.5,   2.2041,  34.6457,2,  34.6462,2,    109.6,2,    110.9,2,   134.09,2,    39.15,2,    -0.01,2,     2.78,2, -999.000,9, -999.000,9, -999.000,1,-999.0000,1,  -999.00,9,   -999.0,1,-999.000,9,   2340.0,2,   2409.0,2,     7.50,2,20534.1,-999.0000,-999.000,-999.000,  2.0601,-999.000
   318MWESTW_4,  P21E,    17,  1,     12, SI9412,2,19940401,2111,-15.8833, -75.4112, 3773,   2202.0,   2.0738,  34.6538,2,  34.6555,2,    116.8,2,    118.3,2,   135.13,2,    38.36,2,    -0.01,2,     2.73,2, -999.000,9, -999.000,9, -999.000,1,-999.0000,1,  -999.00,9,   -999.0,1,-999.000,9,   2338.0,2,   2414.0,2,     7.53,2,22037.9,-999.0000,-999.000,-999.000,  1.9188,-999.000
   318MWESTW_4,  P21E,    17,  1,     11, SI9411,2,19940401,2111,-15.8833, -75.4112, 3773,   2349.9,   1.9657,  34.6616,2,  34.6618,2,    125.4,2,    127.3,2,   134.45,2,    37.70,2,    -0.01,2,     2.67,2, -999.000,9, -999.000,9, -999.000,1,-999.0000,1,  -999.00,9,   -999.0,1,-999.000,9,   2333.0,2,   2415.0,2,     7.54,2,23515.6,-999.0000,-999.000,-999.000,  1.7995,-999.000
   318MWESTW_4,  P21E,    17,  1,     10, SI9410,2,19940401,2111,-15.8833, -75.4112, 3773,   2480.9,   1.8927,  34.6665,2,  34.6675,2,    132.4,2,    132.9,2,   134.28,2,    37.15,2,    -0.01,2,     2.63,2, -999.000,9, -999.000,9, -999.000,1,-999.0000,1,  -999.00,9,   -999.0,1,-999.000,9,   2330.0,2,   2415.0,2,     7.55,2,24825.2,-999.0000,-999.000,-999.000,  1.7161,-999.000
   318MWESTW_4,  P21E,    17,  1,      9, SI9409,2,19940401,2111,-15.8833, -75.4112, 3773,   2630.5,   1.8382,  34.6733,2,  34.6730,2,    138.5,2,    136.9,2,   134.64,2,    36.48,2,     0.00,2,     2.59,2, -999.000,9, -999.000,9, -999.000,1,-999.0000,1,  -999.00,9,   -999.0,1,-999.000,9,   2328.0,2,   2417.0,2,     7.55,2,26319.3,-999.0000,-999.000,-999.000,  1.6490,-999.000
   318MWESTW_4,  P21E,    17,  1,      8, SI9408,2,19940401,2111,-15.8833, -75.4112, 3773,   2788.6,   1.8068,  34.6764,2,  34.6775,2,    141.1,2,    138.7,2,   135.69,2,    35.93,2,     0.00,2,     2.58,2, -999.000,9, -999.000,9, -999.000,1,-999.0000,1,  -999.00,9,   -999.0,1,-999.000,9,   2329.0,2,   2419.0,2,     7.56,2,27899.6,-999.0000,-999.000,-999.000,  1.6035,-999.000
   318MWESTW_4,  P21E,    17,  1,      7, SI9407,2,19940401,2111,-15.8833, -75.4112, 3773,   2942.5,   1.7952,  34.6786,2,  34.6779,2,    143.0,2,    142.5,2,   134.31,2,    35.61,2,     0.00,2,     2.57,2, -999.000,9, -999.000,9, -999.000,1,-999.0000,1,  -999.00,9,   -999.0,1,-999.000,9,   2326.0,2,   2418.0,2,     7.57,2,29436.9,-999.0000,-999.000,-999.000,  1.5775,-999.000
   318MWESTW_4,  P21E,    17,  1,      6, SI9406,2,19940401,2111,-15.8833, -75.4112, 3773,   3096.4,   1.7829,  34.6801,2,  34.6798,2,    140.5,2,    139.8,2,   137.95,2,    36.09,2,     0.00,2,     2.58,2, -999.000,9, -999.000,9, -999.000,1,-999.0000,1,  -999.00,9,   -999.0,1,-999.000,9,   2331.0,2,   2423.0,2,     7.57,2,30975.6,-999.0000,-999.000,-999.000,  1.5505,-999.000
   318MWESTW_4,  P21E,    17,  1,      5, SI9405,2,19940401,2111,-15.8833, -75.4112, 3773,   3249.3,   1.7798,  34.6817,2,  34.6812,2,    139.2,2,    139.8,2,   138.82,2,    36.40,2,     0.00,2,     2.58,2, -999.000,9, -999.000,9, -999.000,1,-999.0000,1,  -999.00,9,   -999.0,1,-999.000,9,   2332.0,2,   2423.0,2,     7.56,2,32503.0,-999.0000,-999.000,-999.000,  1.5322,-999.000
   318MWESTW_4,  P21E,    17,  1,      4, SI9404,2,19940401,2111,-15.8833, -75.4112, 3773,   3399.2,   1.7781,  34.6833,2,  34.6836,2,    140.4,2,    141.6,2,   138.14,2,    36.43,2,     0.00,2,     2.57,2, -999.000,9, -999.000,9, -999.000,1,-999.0000,1,  -999.00,9,   -999.0,1,-999.000,9,   2331.0,2,   2424.0,2,     7.57,2,34001.5,-999.0000,-999.000,-999.000,  1.5154,-999.000
   318MWESTW_4,  P21E,    17,  1,      3, SI9403,2,19940401,2111,-15.8833, -75.4112, 3773,   3599.3,   1.7718,  34.6854,2,  34.6830,2,    147.0,2,    148.2,2,   133.48,2,    36.16,2,     0.00,2,     2.53,2, -999.000,9, -999.000,9, -999.000,1,-999.0000,1,  -999.00,9,   -999.0,1,-999.000,9,   2324.0,2,   2418.0,2,     7.58,2,36001.5,-999.0000,-999.000,-999.000,  1.4884,-999.000
   318MWESTW_4,  P21E,    17,  1,      2, SI9402,2,19940401,2111,-15.8833, -75.4112, 3773,   3787.0,   1.7674,  34.6870,2,  34.6851,2,    149.8,2,    150.6,2,   132.11,2,    35.90,2,     0.00,2,     2.53,2, -999.000,9, -999.000,9, -999.000,1,-999.0000,1,  -999.00,9,   -999.0,1,-999.000,9,   2322.0,2,   2416.0,2,     7.58,2,37877.3,-999.0000,-999.000,-999.000,  1.4642,-999.000
   318MWESTW_4,  P21E,    17,  1,      1, SI9401,2,19940401,2111,-15.8833, -75.4112, 3773,   3852.0,   1.7629,  34.6872,2,  34.6873,2,    149.7,2,    153.7,2,   130.05,2,    35.40,2,     0.01,2,     2.51,2, -999.000,9, -999.000,9, -999.000,1,-999.0000,1,  -999.00,9,   -999.0,1,-999.000,9,   2318.0,2,   2413.0,2,     7.58,2,38526.7,-999.0000,-999.000,-999.000,  1.4528,-999.000