BOTTLE,20010911WHPSIOdm
EXPOCODE,SECT_ID,STNNBR,CASTNO,SAMPNO,BTLNBR,BTLNBR_FLAG_W,DATE,TIME,LATITUDE,LONGITUDE,DEPTH,CTDPRS,CTDTMP,CTDSAL,CTDSAL_FLAG_W,SALNTY,SALNTY_FLAG_W,CTDOXY,CTDOXY_FLAG_W,OXYGEN,OXYGEN_FLAG_W,SILCAT,SILCAT_FLAG_W,NITRAT,NITRAT_FLAG_W,NITRIT,NITRIT_FLAG_W,PHSPHT,PHSPHT_FLAG_W,CFC-11,CFC-11_FLAG_W,CFC-12,CFC-12_FLAG_W,TRITUM,TRITUM_FLAG_W,HELIUM,HELIUM_FLAG_W,DELHE3,DELHE3_FLAG_W,DELC14,DELC14_FLAG_W,NEON,NEON_FLAG_W,TCARBN,TCARBN_FLAG_W,ALKALI,ALKALI_FLAG_W,PH,PH_FLAG_W,CTDRAW,HELIER,DELHER,NEONER,THETA,TRITER
,,,,,,,,,,,,DBAR,ITS-90,PSS-78,,PSS-78,,UMOL/KG,,UMOL/KG,,UMOL/KG,,UMOL/KG,,UMOL/KG,,UMOL/KG,,PMOL/KG,,PMOL/KG,,TU,,UMOL/KG,,PERCNT,,/MILLE,,NMOL/KG,,UMOL/KG,,UMOL/KG,,,,,NMOL/KG,PERCNT,NMOL/KG,ITS-90,TU
   318MWESTW_5,  P21W,   223,  1,     26, SI9414,2,19940607,0207,-18.0333, 176.9972, 2224,      5.3,  26.0378,  34.6561,2,  34.6537,2,    200.5,2,    211.5,2,     1.18,2,     0.04,2,     0.02,2,     0.13,2, -999.000,9, -999.000,9, -999.000,1,-999.0000,1,  -999.00,9,   -999.0,1,-999.000,9,   -999.0,9,   -999.0,9,  -999.00,9,  113.0,-999.0000,-999.000,-999.000, 26.0366,-999.000
   318MWESTW_5,  P21W,   223,  1,     25, SI9425,2,19940607,0207,-18.0333, 176.9972, 2224,     19.6,  26.0384,  34.6554,2,  34.6535,2,    202.6,2,    207.1,2,     1.20,2,     0.01,2,     0.01,2,     0.13,2, -999.000,9, -999.000,9, -999.000,1,-999.0000,1,  -999.00,9,   -999.0,1,-999.000,9,   -999.0,9,   -999.0,9,  -999.00,9,  255.8,-999.0000,-999.000,-999.000, 26.0340,-999.000
   318MWESTW_5,  P21W,   223,  1,     24, SI9434,2,19940607,0207,-18.0333, 176.9972, 2224,     46.5,  26.0569,  34.6621,2,  34.6565,2,    201.8,2,    204.5,2,     1.21,2,     0.05,2,     0.02,2,     0.14,2, -999.000,9, -999.000,9, -999.000,1,-999.0000,1,  -999.00,9,   -999.0,1,-999.000,9,   -999.0,9,   -999.0,9,  -999.00,9,  523.4,-999.0000,-999.000,-999.000, 26.0465,-999.000
   318MWESTW_5,  P21W,   223,  1,     23, SI9423,2,19940607,0207,-18.0333, 176.9972, 2224,     96.0,  23.6360,  35.7854,2,  35.7683,2,    178.4,2,    177.9,2,     1.07,2,     1.61,2,     0.07,2,     0.34,2, -999.000,9, -999.000,9, -999.000,1,-999.0000,1,  -999.00,9,   -999.0,1,-999.000,9,   -999.0,9,   -999.0,9,  -999.00,9, 1016.7,-999.0000,-999.000,-999.000, 23.6160,-999.000
   318MWESTW_5,  P21W,   223,  1,     22, SI9418,2,19940607,0207,-18.0333, 176.9972, 2224,    145.3,  22.0560,  35.8196,2,  35.8192,2,    171.3,2,    172.3,2,     1.23,2,     3.55,2,     0.02,2,     0.44,2, -999.000,9, -999.000,9, -999.000,1,-999.0000,1,  -999.00,9,   -999.0,1,-999.000,9,   -999.0,9,   -999.0,9,  -999.00,9, 1507.4,-999.0000,-999.000,-999.000, 22.0271,-999.000
   318MWESTW_5,  P21W,   223,  1,     21, SI9421,2,19940607,0207,-18.0333, 176.9972, 2224,    195.9,  20.6303,  35.7548,2,  35.7554,2,    172.8,2,    172.6,2,     1.40,2,     4.31,2,     0.03,2,     0.46,2, -999.000,9, -999.000,9, -999.000,1,-999.0000,1,  -999.00,9,   -999.0,1,-999.000,9,   -999.0,9,   -999.0,9,  -999.00,9, 2010.9,-999.0000,-999.000,-999.000, 20.5931,-999.000
   318MWESTW_5,  P21W,   223,  1,     20, SI9420,2,19940607,0207,-18.0333, 176.9972, 2224,    248.0,  18.8872,  35.6115,2,  35.6155,2,    172.2,2,    170.5,2,     2.01,2,     5.79,2,     0.03,2,     0.59,2, -999.000,9, -999.000,9, -999.000,1,-999.0000,1,  -999.00,9,   -999.0,1,-999.000,9,   -999.0,9,   -999.0,9,  -999.00,9, 2529.3,-999.0000,-999.000,-999.000, 18.8429,-999.000
   318MWESTW_5,  P21W,   223,  1,     19, SI9419,2,19940607,0207,-18.0333, 176.9972, 2224,    298.9,  16.7811,  35.4210,2,  35.4178,2,    174.3,2,    173.0,2,     2.92,2,     7.90,2,     0.03,2,     0.72,2, -999.000,9, -999.000,9, -999.000,1,-999.0000,1,  -999.00,9,   -999.0,1,-999.000,9,   -999.0,9,   -999.0,9,  -999.00,9, 3036.5,-999.0000,-999.000,-999.000, 16.7319,-999.000
   318MWESTW_5,  P21W,   223,  1,     18, SI9439,2,19940607,0207,-18.0333, 176.9972, 2224,    347.4,  14.6943,  35.1899,2,  35.1855,2,    173.3,2,    169.7,2,     4.73,2,    11.37,2,     0.01,2,     0.96,2, -999.000,9, -999.000,9, -999.000,1,-999.0000,1,  -999.00,9,   -999.0,1,-999.000,9,   -999.0,9,   -999.0,9,  -999.00,9, 3518.4,-999.0000,-999.000,-999.000, 14.6421,-999.000
   318MWESTW_5,  P21W,   223,  1,     17, SI9417,2,19940607,0207,-18.0333, 176.9972, 2224,    400.9,  12.4005,  34.9465,2,  34.9496,2,    174.8,2,    168.9,2,     7.13,2,    15.37,2,     0.01,2,     1.21,2, -999.000,9, -999.000,9, -999.000,1,-999.0000,1,  -999.00,9,   -999.0,1,-999.000,9,   -999.0,9,   -999.0,9,  -999.00,9, 4050.4,-999.0000,-999.000,-999.000, 12.3467,-999.000
   318MWESTW_5,  P21W,   223,  1,     16, SI9416,2,19940607,0207,-18.0333, 176.9972, 2224,    450.8,  10.6661,  34.7678,2,  34.7651,2,    175.4,2,    170.1,2,     9.70,2,    19.00,2,     0.01,2,     1.44,2, -999.000,9, -999.000,9, -999.000,1,-999.0000,1,  -999.00,9,   -999.0,1,-999.000,9,   -999.0,9,   -999.0,9,  -999.00,9, 4547.6,-999.0000,-999.000,-999.000, 10.6111,-999.000
   318MWESTW_5,  P21W,   223,  1,     15, SI9415,2,19940607,0207,-18.0333, 176.9972, 2224,    500.4,   8.9014,  34.6038,2,  34.5983,2,    182.2,2,    192.1,2,     9.78,2,    20.80,2,     0.01,2,     1.52,2, -999.000,9, -999.000,9, -999.000,1,-999.0000,1,  -999.00,9,   -999.0,1,-999.000,9,   -999.0,9,   -999.0,9,  -999.00,9, 5040.5,-999.0000,-999.000,-999.000,  8.8467,-999.000
   318MWESTW_5,  P21W,   223,  1,     14, SI9436,2,19940607,0207,-18.0333, 176.9972, 2224,    602.8,   6.7663,  34.4333,2,  34.4300,2,    196.0,2,    196.1,2,    17.50,2,    25.86,2,     0.02,2,     1.84,2, -999.000,9, -999.000,9, -999.000,1,-999.0000,1,  -999.00,9,   -999.0,1,-999.000,9,   -999.0,9,   -999.0,9,  -999.00,9, 6059.0,-999.0000,-999.000,-999.000,  6.7098,-999.000
   318MWESTW_5,  P21W,   223,  1,     13, SI9413,2,19940607,0207,-18.0333, 176.9972, 2224,    707.1,   5.7093,  34.4058,2,  34.4033,2,    186.0,2,    185.3,2,    28.44,2,    29.08,2,     0.02,2,     2.06,2, -999.000,9, -999.000,9, -999.000,1,-999.0000,1,  -999.00,9,   -999.0,1,-999.000,9,   -999.0,9,   -999.0,9,  -999.00,9, 7096.5,-999.0000,-999.000,-999.000,  5.6482,-999.000
   318MWESTW_5,  P21W,   223,  1,     12, SI9438,2,19940607,0207,-18.0333, 176.9972, 2224,    794.8,   4.8862,  34.4190,2,  34.4157,2,    174.2,2,    172.6,2,    41.32,2,    31.77,2,     0.02,2,     2.25,2, -999.000,9, -999.000,9, -999.000,1,-999.0000,1,  -999.00,9,   -999.0,1,-999.000,9,   -999.0,9,   -999.0,9,  -999.00,9, 7968.2,-999.0000,-999.000,-999.000,  4.8220,-999.000
   318MWESTW_5,  P21W,   223,  1,     11, SI9411,2,19940607,0207,-18.0333, 176.9972, 2224,    900.6,   4.4450,  34.4265,2,  34.4245,4,    170.7,2,    171.6,2,    48.07,2,    32.45,2,     0.02,2,     2.30,2, -999.000,9, -999.000,9, -999.000,1,-999.0000,1,  -999.00,9,   -999.0,1,-999.000,9,   -999.0,9,   -999.0,9,  -999.00,9, 9019.6,-999.0000,-999.000,-999.000,  4.3746,-999.000
   318MWESTW_5,  P21W,   223,  1,     10, SI9412,2,19940607,0207,-18.0333, 176.9972, 2224,   1001.9,   4.1109,  34.4607,2,  34.4583,2,    164.7,2,    164.7,2,    58.70,2,    33.35,2,     0.01,2,     2.36,2, -999.000,9, -999.000,9, -999.000,1,-999.0000,1,  -999.00,9,   -999.0,1,-999.000,9,   -999.0,9,   -999.0,9,  -999.00,9,10027.1,-999.0000,-999.000,-999.000,  4.0343,-999.000
   318MWESTW_5,  P21W,   223,  1,      9, SI9410,2,19940607,0207,-18.0333, 176.9972, 2224,   1094.4,   3.8544,  34.4877,2,  34.4864,2,    159.6,2,    157.1,2,    67.25,2,    34.20,2,     0.01,2,     2.40,2, -999.000,9, -999.000,9, -999.000,1,-999.0000,1,  -999.00,9,   -999.0,1,-999.000,9,   -999.0,9,   -999.0,9,  -999.00,9,10946.8,-999.0000,-999.000,-999.000,  3.7721,-999.000
   318MWESTW_5,  P21W,   223,  1,      8, SI9422,2,19940607,0207,-18.0333, 176.9972, 2224,   1198.4,   3.5652,  34.5138,2,  34.5107,2,    154.4,2,    153.5,2,    75.63,2,    34.60,2,     0.01,2,     2.43,2, -999.000,9, -999.000,9, -999.000,1,-999.0000,1,  -999.00,9,   -999.0,1,-999.000,9,   -999.0,9,   -999.0,9,  -999.00,9,11980.5,-999.0000,-999.000,-999.000,  3.4767,-999.000
   318MWESTW_5,  P21W,   223,  1,      7, SI9407,2,19940607,0207,-18.0333, 176.9972, 2224,   1299.1,   3.3588,  34.5331,2,  34.5303,2,    152.7,2,    152.1,2,    82.38,2,    34.86,2,     0.01,2,     2.45,2, -999.000,9, -999.000,9, -999.000,1,-999.0000,1,  -999.00,9,   -999.0,1,-999.000,9,   -999.0,9,   -999.0,9,  -999.00,9,12981.3,-999.0000,-999.000,-999.000,  3.2639,-999.000
   318MWESTW_5,  P21W,   223,  1,      6, SI9427,2,19940607,0207,-18.0333, 176.9972, 2224,   1494.8,   2.8902,  34.5762,2,  34.5741,2,    148.9,2,    148.8,2,    96.90,2,    35.35,2,     0.01,2,     2.49,2, -999.000,9, -999.000,9, -999.000,1,-999.0000,1,  -999.00,9,   -999.0,1,-999.000,9,   -999.0,9,   -999.0,9,  -999.00,9,14927.5,-999.0000,-999.000,-999.000,  2.7841,-999.000
   318MWESTW_5,  P21W,   223,  1,      5, SI9405,2,19940607,0207,-18.0333, 176.9972, 2224,   1700.5,   2.5790,  34.6017,2,  34.6034,2,    148.1,2,    148.8,2,   106.03,2,    35.42,2,     0.02,2,     2.51,2, -999.000,9, -999.000,9, -999.000,1,-999.0000,1,  -999.00,9,   -999.0,1,-999.000,9,   -999.0,9,   -999.0,9,  -999.00,9,16972.3,-999.0000,-999.000,-999.000,  2.4595,-999.000
   318MWESTW_5,  P21W,   223,  1,      4, SI9404,2,19940607,0207,-18.0333, 176.9972, 2224,   1894.8,   2.3559,  34.6269,2,  34.6244,2,    149.5,2,    149.3,2,   112.32,2,    35.46,2,     0.02,2,     2.51,2, -999.000,9, -999.000,9, -999.000,1,-999.0000,1,  -999.00,9,   -999.0,1,-999.000,9,   -999.0,9,   -999.0,9,  -999.00,9,18903.5,-999.0000,-999.000,-999.000,  2.2231,-999.000
   318MWESTW_5,  P21W,   223,  1,      3, SI9403,2,19940607,0207,-18.0333, 176.9972, 2224,   2092.6,   2.2076,  34.6380,2,  34.6392,2,    149.2,2,    149.8,2,   116.37,2,    35.42,2,     0.02,2,     2.51,2, -999.000,9, -999.000,9, -999.000,1,-999.0000,1,  -999.00,9,   -999.0,1,-999.000,9,   -999.0,9,   -999.0,9,  -999.00,9,20869.1,-999.0000,-999.000,-999.000,  2.0600,-999.000
   318MWESTW_5,  P21W,   223,  1,      2, SI9437,2,19940607,0207,-18.0333, 176.9972, 2224,   2176.1,   2.1211,  34.6474,2,  34.6474,2,    150.2,2,    149.8,2,   118.77,2,    35.33,2,     0.01,2,     2.51,2, -999.000,9, -999.000,9, -999.000,1,-999.0000,1,  -999.00,9,   -999.0,1,-999.000,9,   -999.0,9,   -999.0,9,  -999.00,9,21699.2,-999.0000,-999.000,-999.000,  1.9676,-999.000
   318MWESTW_5,  P21W,   223,  1,      1, SI9401,2,19940607,0207,-18.0333, 176.9972, 2224,   2215.9,   2.1000,  34.6514,2,  34.6490,2,    150.1,2,    150.8,2,   119.34,2,    35.45,2,     0.02,2,     2.49,2, -999.000,9, -999.000,9, -999.000,1,-999.0000,1,  -999.00,9,   -999.0,1,-999.000,9,   -999.0,9,   -999.0,9,  -999.00,9,22095.3,-999.0000,-999.000,-999.000,  1.9434,-999.000
   318MWESTW_5,  P21W,   224,  1,     23, SI9423,2,19940607,0505,-17.8333, 177.0000, 1350,      4.7,  26.1156,  34.6329,2,  34.6317,2,    203.7,2,    204.0,2,     0.87,2,     0.04,2,     0.00,2,     0.12,2,    1.735,2,    0.969,2, -999.000,1,-999.0000,1,  -999.00,9,   -999.0,1,-999.000,9,   -999.0,9,   -999.0,9,  -999.00,9,  106.2,-999.0000,-999.000,-999.000, 26.1145,-999.000
   318MWESTW_5,  P21W,   224,  1,     22, SI9418,2,19940607,0505,-17.8333, 177.0000, 1350,     21.1,  26.1129,  34.6335,2,  34.6346,2,    204.1,2,    202.6,2,     0.88,2,     0.00,2,     0.00,2,     0.12,2,    1.680,2,    0.994,2, -999.000,1,-999.0000,1,  -999.00,9,   -999.0,1,-999.000,9,   -999.0,9,   -999.0,9,  -999.00,9,  269.9,-999.0000,-999.000,-999.000, 26.1082,-999.000
   318MWESTW_5,  P21W,   224,  1,     21, SI9421,2,19940607,0505,-17.8333, 177.0000, 1350,     45.6,  26.0803,  34.6864,2,  34.6800,2,    204.0,2,    202.9,2,     0.89,2,     0.00,2,     0.00,2,     0.13,2,    1.689,2,    0.984,2, -999.000,1,-999.0000,1,  -999.00,9,   -999.0,1,-999.000,9,   -999.0,9,   -999.0,9,  -999.00,9,  514.0,-999.0000,-999.000,-999.000, 26.0701,-999.000
   318MWESTW_5,  P21W,   224,  1,     20, SI9420,2,19940607,0505,-17.8333, 177.0000, 1350,     97.4,  23.7299,  35.7712,2,  35.7683,2,    179.9,2,    178.0,2,     0.74,2,     1.52,2,     0.08,2,     0.34,2,    1.839,2,    1.021,2, -999.000,1,-999.0000,1,  -999.00,9,   -999.0,1,-999.000,9,   -999.0,9,   -999.0,9,  -999.00,9, 1030.1,-999.0000,-999.000,-999.000, 23.7095,-999.000
   318MWESTW_5,  P21W,   224,  1,     19, SI9419,2,19940607,0505,-17.8333, 177.0000, 1350,    146.0,  22.5493,  35.8127,2,  35.8159,2,    171.5,2,    172.0,2,     0.91,2,     2.87,2,     0.01,2,     0.38,2,    1.845,2,    1.028,2, -999.000,1,-999.0000,1,  -999.00,9,   -999.0,1,-999.000,9,   -999.0,9,   -999.0,9,  -999.00,9, 1514.2,-999.0000,-999.000,-999.000, 22.5198,-999.000
   318MWESTW_5,  P21W,   224,  1,     18, SI9439,2,19940607,0505,-17.8333, 177.0000, 1350,    194.9,  21.0346,  35.7890,2,  35.7882,2,    171.7,2,    169.4,2,     1.06,2,     4.21,2,     0.00,2,     0.46,2,    1.835,6,    1.006,6, -999.000,1,-999.0000,1,  -999.00,9,   -999.0,1,-999.000,9,   -999.0,9,   -999.0,9,  -999.00,9, 2000.3,-999.0000,-999.000,-999.000, 20.9971,-999.000
   318MWESTW_5,  P21W,   224,  1,     17, SI9417,2,19940607,0505,-17.8333, 177.0000, 1350,    247.7,  18.8493,  35.6190,2,  35.5997,2,    169.1,2,    168.3,2,     1.67,2,     6.12,2,     0.00,2,     0.60,2,    1.721,2,    0.932,2, -999.000,1,-999.0000,1,  -999.00,9,   -999.0,1,-999.000,9,   -999.0,9,   -999.0,9,  -999.00,9, 2526.3,-999.0000,-999.000,-999.000, 18.8051,-999.000
   318MWESTW_5,  P21W,   224,  1,     16, SI9416,2,19940607,0505,-17.8333, 177.0000, 1350,    296.4,  16.8418,  35.4023,2,  35.3926,2,    170.1,2,    169.0,2,     2.88,2,     8.46,2,     0.00,2,     0.75,2,    1.598,2,    0.839,2, -999.000,1,-999.0000,1,  -999.00,9,   -999.0,1,-999.000,9,   -999.0,9,   -999.0,9,  -999.00,9, 3010.5,-999.0000,-999.000,-999.000, 16.7929,-999.000
   318MWESTW_5,  P21W,   224,  1,     15, SI9415,2,19940607,0505,-17.8333, 177.0000, 1350,    348.5,  15.2080,  35.2429,2,  35.2408,2,    172.4,2,    169.8,2,     3.79,2,    10.47,2,     0.00,2,     0.89,2,    1.450,2,    0.763,2, -999.000,1,-999.0000,1,  -999.00,9,   -999.0,1,-999.000,9,   -999.0,9,   -999.0,9,  -999.00,9, 3528.6,-999.0000,-999.000,-999.000, 15.1544,-999.000
   318MWESTW_5,  P21W,   224,  1,     14, SI9436,2,19940607,0505,-17.8333, 177.0000, 1350,    395.7,  12.5736,  34.9665,2,  34.9604,2,    173.7,2,    169.3,2,     6.65,2,    15.12,2,     0.01,2,     1.19,2,    1.104,2,    0.575,2, -999.000,1,-999.0000,1,  -999.00,9,   -999.0,1,-999.000,9,   -999.0,9,   -999.0,9,  -999.00,9, 3998.4,-999.0000,-999.000,-999.000, 12.5200,-999.000
   318MWESTW_5,  P21W,   224,  1,     13, SI9413,2,19940607,0505,-17.8333, 177.0000, 1350,    450.3,  10.5571,  34.7575,2,  34.7551,2,    173.3,2,    169.7,2,     9.50,2,    19.06,2,     0.00,2,     1.44,2,    0.801,2,    0.417,2, -999.000,1,-999.0000,1,  -999.00,9,   -999.0,1,-999.000,9,   -999.0,9,   -999.0,9,  -999.00,9, 4541.0,-999.0000,-999.000,-999.000, 10.5025,-999.000
   318MWESTW_5,  P21W,   224,  1,     12, SI9438,2,19940607,0505,-17.8333, 177.0000, 1350,    506.3,   9.3890,  34.6520,2,  34.6616,2,    182.1,2,    179.6,2,    10.12,2,    20.40,2,     0.00,2,     1.50,2,    0.752,2,    0.389,2, -999.000,1,-999.0000,1,  -999.00,9,   -999.0,1,-999.000,9,   -999.0,9,   -999.0,9,  -999.00,9, 5098.4,-999.0000,-999.000,-999.000,  9.3318,-999.000
   318MWESTW_5,  P21W,   224,  1,     11, SI9411,2,19940607,0505,-17.8333, 177.0000, 1350,    553.3,   8.5164,  34.5692,2,  34.5663,2,    186.5,2,    187.1,2,    11.62,2,    22.28,2,     0.00,2,     1.60,2,    0.632,2,    0.326,2, -999.000,1,-999.0000,1,  -999.00,9,   -999.0,1,-999.000,9,   -999.0,9,   -999.0,9,  -999.00,9, 5565.6,-999.0000,-999.000,-999.000,  8.4574,-999.000
   318MWESTW_5,  P21W,   224,  1,     10, SI9412,2,19940607,0505,-17.8333, 177.0000, 1350,    593.0,   7.6234,  34.4961,2,  34.4966,2,    185.6,2,    183.7,2,    15.01,2,    24.61,2,     0.00,2,     1.75,2,    0.432,2,    0.226,2, -999.000,1,-999.0000,1,  -999.00,9,   -999.0,1,-999.000,9,   -999.0,9,   -999.0,9,  -999.00,9, 5960.9,-999.0000,-999.000,-999.000,  7.5640,-999.000
   318MWESTW_5,  P21W,   224,  1,      9, SI9410,2,19940607,0505,-17.8333, 177.0000, 1350,    698.7,   5.9454,  34.4166,2,  34.4163,2,    185.4,2,    185.3,2,    26.01,2,    28.55,2,     0.00,2,     1.99,2,    0.199,2,    0.110,2, -999.000,1,-999.0000,1,  -999.00,9,   -999.0,1,-999.000,9,   -999.0,9,   -999.0,9,  -999.00,9, 7011.5,-999.0000,-999.000,-999.000,  5.8838,-999.000
   318MWESTW_5,  P21W,   224,  1,      8, SI9422,2,19940607,0505,-17.8333, 177.0000, 1350,    797.9,   5.1001,  34.4201,2,  34.4190,2,    172.6,2,    173.2,2,    38.54,2,    31.18,2,     0.00,2,     2.17,2,    0.069,2,    0.040,2, -999.000,1,-999.0000,1,  -999.00,9,   -999.0,1,-999.000,9,   -999.0,9,   -999.0,9,  -999.00,9, 7997.9,-999.0000,-999.000,-999.000,  5.0343,-999.000
   318MWESTW_5,  P21W,   224,  1,      7, SI9407,2,19940607,0505,-17.8333, 177.0000, 1350,    899.4,   4.5517,  34.4381,2,  34.4369,2,    165.8,2,    166.3,2,    48.65,2,    32.61,2,     0.01,2,     2.28,2,    0.030,2,    0.017,2, -999.000,1,-999.0000,1,  -999.00,9,   -999.0,1,-999.000,9,   -999.0,9,   -999.0,9,  -999.00,9, 9006.2,-999.0000,-999.000,-999.000,  4.4806,-999.000
   318MWESTW_5,  P21W,   224,  1,      6, SI9427,2,19940607,0505,-17.8333, 177.0000, 1350,   1002.2,   4.1330,  34.4652,2,  34.4648,2,    163.3,2,    161.7,2,    59.13,2,    33.36,2,     0.00,2,     2.34,2,    0.015,2,    0.009,2, -999.000,1,-999.0000,1,  -999.00,9,   -999.0,1,-999.000,9,   -999.0,9,   -999.0,9,  -999.00,9,10028.6,-999.0000,-999.000,-999.000,  4.0562,-999.000
   318MWESTW_5,  P21W,   224,  1,      5, SI9405,2,19940607,0505,-17.8333, 177.0000, 1350,   1097.5,   3.8091,  34.4931,2,  34.4919,2,    155.4,2,    157.7,2,    68.58,2,    34.01,2,     0.00,2,     2.38,2,    0.008,2,    0.004,2, -999.000,1,-999.0000,1,  -999.00,9,   -999.0,1,-999.000,9,   -999.0,9,   -999.0,9,  -999.00,9,10975.6,-999.0000,-999.000,-999.000,  3.7269,-999.000
   318MWESTW_5,  P21W,   224,  1,      4, SI9404,2,19940607,0505,-17.8333, 177.0000, 1350,   1199.6,   3.5602,  34.5161,2,  34.5133,2,    155.1,2,    154.0,2,    75.92,2,    34.43,2,     0.00,2,     2.40,2,    0.004,2,    0.001,2, -999.000,1,-999.0000,1,  -999.00,9,   -999.0,1,-999.000,9,   -999.0,9,   -999.0,9,  -999.00,9,11989.5,-999.0000,-999.000,-999.000,  3.4717,-999.000
   318MWESTW_5,  P21W,   224,  1,      3, SI9403,2,19940607,0505,-17.8333, 177.0000, 1350,   1290.6,   3.3461,  34.5353,2,  34.5331,2,    153.0,2,    151.7,2,    82.51,2,    34.85,2,     0.00,2,     2.42,2,    0.004,2,    0.004,2, -999.000,1,-999.0000,1,  -999.00,9,   -999.0,1,-999.000,9,   -999.0,9,   -999.0,9,  -999.00,9,12893.7,-999.0000,-999.000,-999.000,  3.2520,-999.000
   318MWESTW_5,  P21W,   224,  1,      2, SI9437,2,19940607,0505,-17.8333, 177.0000, 1350,   1331.7,   3.2098,  34.5472,2,  34.5463,2,    151.0,2,    150.6,2,    86.86,2,    35.08,2,     0.00,2,     2.44,2, -999.000,9, -999.000,9, -999.000,1,-999.0000,1,  -999.00,9,   -999.0,1,-999.000,9,   -999.0,9,   -999.0,9,  -999.00,9,13302.2,-999.0000,-999.000,-999.000,  3.1137,-999.000
   318MWESTW_5,  P21W,   224,  1,      1, SI9401,2,19940607,0505,-17.8333, 177.0000, 1350,   1371.5,   3.0824,  34.5594,2,  34.5576,2,    150.0,2,    150.0,2,    90.42,2,    35.05,2,     0.00,2,     2.44,2,    0.002,2,    0.001,2, -999.000,1,-999.0000,1,  -999.00,9,   -999.0,1,-999.000,9,   -999.0,9,   -999.0,9,  -999.00,9,13697.5,-999.0000,-999.000,-999.000,  2.9843,-999.000