BOTTLE,20010911WHPSIOdm
EXPOCODE,SECT_ID,STNNBR,CASTNO,SAMPNO,BTLNBR,BTLNBR_FLAG_W,DATE,TIME,LATITUDE,LONGITUDE,DEPTH,CTDPRS,CTDTMP,CTDSAL,CTDSAL_FLAG_W,SALNTY,SALNTY_FLAG_W,CTDOXY,CTDOXY_FLAG_W,OXYGEN,OXYGEN_FLAG_W,SILCAT,SILCAT_FLAG_W,NITRAT,NITRAT_FLAG_W,NITRIT,NITRIT_FLAG_W,PHSPHT,PHSPHT_FLAG_W,CFC-11,CFC-11_FLAG_W,CFC-12,CFC-12_FLAG_W,TRITUM,TRITUM_FLAG_W,HELIUM,HELIUM_FLAG_W,DELHE3,DELHE3_FLAG_W,DELC14,DELC14_FLAG_W,NEON,NEON_FLAG_W,TCARBN,TCARBN_FLAG_W,ALKALI,ALKALI_FLAG_W,PH,PH_FLAG_W,CTDRAW,HELIER,DELHER,NEONER,THETA,TRITER
,,,,,,,,,,,,DBAR,ITS-90,PSS-78,,PSS-78,,UMOL/KG,,UMOL/KG,,UMOL/KG,,UMOL/KG,,UMOL/KG,,UMOL/KG,,PMOL/KG,,PMOL/KG,,TU,,UMOL/KG,,PERCNT,,/MILLE,,NMOL/KG,,UMOL/KG,,UMOL/KG,,,,,NMOL/KG,PERCNT,NMOL/KG,ITS-90,TU
   318MWESTW_4,  P21E,   108,  1,     36, SI9336,2,19940429,1214,-16.7500,-118.6667, 3550,      8.3,  26.6595,  36.4730,2,  36.4745,2,    208.6,2,    210.1,2,     0.59,2,    -0.01,2,     0.01,2,     0.25,2,    1.686,2,    0.970,2, -999.000,1,-999.0000,1,  -999.00,9,   -999.0,1,-999.000,9,   2035.8,2,   2399.0,2,     8.10,2,  126.9,-999.0000,-999.000,-999.000, 26.6576,-999.000
   318MWESTW_4,  P21E,   108,  1,     35, SI9335,2,19940429,1214,-16.7500,-118.6667, 3550,     23.0,  26.6746,  36.4731,2,  36.4741,2,    212.3,2,    207.2,2,     0.45,2,    -0.01,2,     0.01,2,     0.26,2,    1.684,2,    0.963,2, -999.000,1,-999.0000,1,  -999.00,9,   -999.0,1,-999.000,9,   2033.7,2,   2396.0,2,     8.11,2,  273.3,-999.0000,-999.000,-999.000, 26.6693,-999.000
   318MWESTW_4,  P21E,   108,  1,     34, SI9334,2,19940429,1214,-16.7500,-118.6667, 3550,     48.0,  26.6705,  36.4711,2,  36.4758,2,    210.1,2,    208.7,2,     0.48,2,    -0.01,2,     0.01,2,     0.26,2,    1.680,2,    0.962,2, -999.000,1,-999.0000,1,  -999.00,9,   -999.0,1,-999.000,9,   2034.8,2,   2399.0,2,     8.10,2,  524.1,-999.0000,-999.000,-999.000, 26.6595,-999.000
   318MWESTW_4,  P21E,   108,  1,     33, SI9333,2,19940429,1214,-16.7500,-118.6667, 3550,     98.6,  24.5462,  36.4929,2,  36.4857,2,    220.9,2,    221.8,2,     0.51,2,     0.00,2,     0.00,2,     0.23,2,    1.923,2,    1.069,2, -999.000,1,-999.0000,1,  -999.00,9,   -999.0,1,-999.000,9,   2055.8,2,   2395.0,2,     8.07,2, 1029.2,-999.0000,-999.000,-999.000, 24.5250,-999.000
   318MWESTW_4,  P21E,   108,  1,     32, SI9332,2,19940429,1214,-16.7500,-118.6667, 3550,    150.7,  22.7746,  36.2785,2,  36.3419,2,    207.0,2,    207.1,2,     0.37,2,    -0.02,2,     0.36,2,     0.31,2,    1.967,2,    1.098,2, -999.000,1,-999.0000,1,  -999.00,9,   -999.0,1,-999.000,9,   2068.8,2,   2390.0,2,     8.03,2, 1550.4,-999.0000,-999.000,-999.000, 22.7439,-999.000
   318MWESTW_4,  P21E,   108,  1,     31, SI9331,2,19940429,1214,-16.7500,-118.6667, 3550,    206.4,  21.1622,  35.7934,4,  36.0181,2,    196.3,2,    198.9,2,     0.71,2,     1.33,2,     0.17,2,     0.44,2,    2.107,2,    1.145,2, -999.000,1,-999.0000,1,  -999.00,9,   -999.0,1,-999.000,9,   2082.8,2,   2369.0,2,     8.00,2, 2106.7,-999.0000,-999.000,-999.000, 21.1223,-999.000
   318MWESTW_4,  P21E,   108,  1,     30, SI9330,2,19940429,1214,-16.7500,-118.6667, 3550,    256.4,  19.0542,  35.2735,4,  35.6044,2,    180.5,2,    194.6,2,     0.90,2,     2.46,2,     0.00,2,     0.48,2,    2.141,2,    1.150,2, -999.000,1,-999.0000,1,  -999.00,9,   -999.0,1,-999.000,9,   2079.8,2,   2341.0,2,     7.95,2, 2606.8,-999.0000,-999.000,-999.000, 19.0082,-999.000
   318MWESTW_4,  P21E,   108,  1,     29, SI9329,2,19940429,1214,-16.7500,-118.6667, 3550,    307.4,  15.4312,  34.7904,4,  35.0299,2,    133.6,3,    181.2,2,     2.20,2,     6.92,2,    -0.01,2,     0.76,2,    1.968,2,    1.031,2, -999.000,1,-999.0000,1,  -999.00,9,   -999.0,1,-999.000,9,   2090.8,2,   2301.0,2,     7.88,2, 3116.3,-999.0000,-999.000,-999.000, 15.3837,-999.000
   318MWESTW_4,  P21E,   108,  1,     28, SI9328,2,19940429,1214,-16.7500,-118.6667, 3550,    402.1,   9.5523,  34.4914,2,  34.4907,2,    107.9,2,    102.9,2,    14.65,2,    26.03,2,    -0.01,2,     2.12,2,    0.547,2,    0.270,2, -999.000,1,-999.0000,1,  -999.00,9,   -999.0,1,-999.000,9,   2198.9,2,   2277.0,2,     7.56,2, 4061.9,-999.0000,-999.000,-999.000,  9.5068,-999.000
   318MWESTW_4,  P21E,   108,  1,     27, SI9327,2,19940429,1214,-16.7500,-118.6667, 3550,    500.9,   7.0199,  34.4171,2,  34.4222,2,    114.1,2,    115.7,2,    21.20,2,    33.07,2,    -0.01,2,     2.38,2,    0.104,2,    0.064,2, -999.000,1,-999.0000,1,  -999.00,9,   -999.0,1,-999.000,9,   2215.9,2,   2281.0,2,     7.53,2, 5048.4,-999.0000,-999.000,-999.000,  6.9723,-999.000
   318MWESTW_4,  P21E,   108,  1,     26, SI9326,2,19940429,1214,-16.7500,-118.6667, 3550,    535.7,   6.5539,  34.4040,2,  34.4100,2,    124.2,2,    123.8,2,    23.14,2,    33.67,2,    -0.01,2,     2.39,2,    0.073,2,    0.050,2, -999.000,1,-999.0000,1,  -999.00,9,   -999.0,1,-999.000,9,   2216.9,2,   2285.0,2,     7.53,2, 5396.9,-999.0000,-999.000,-999.000,  6.5048,-999.000
   318MWESTW_4,  P21E,   108,  1,     25, SI9325,2,19940429,1214,-16.7500,-118.6667, 3550,    597.5,   6.0188,  34.4198,2,  34.4288,2,    118.5,2,    109.6,2,    31.28,2,    36.26,2,    -0.01,2,     2.54,2,    0.016,2,    0.013,2, -999.000,1,-999.0000,1,  -999.00,9,   -999.0,1,-999.000,9,   2231.9,2,   2289.0,2,     7.51,2, 6013.6,-999.0000,-999.000,-999.000,  5.9662,-999.000
   318MWESTW_4,  P21E,   108,  1,     24, SI9324,2,19940429,1214,-16.7500,-118.6667, 3550,    700.0,   5.5644,  34.4724,2,  34.4767,2,     82.4,2,     78.6,2,    46.90,2,    40.04,2,    -0.01,2,     2.83,2, -999.000,9, -999.000,9, -999.000,1,-999.0000,1,  -999.00,9,   -999.0,1,-999.000,9,   2265.9,2,   2307.0,2,     7.45,2, 7037.8,-999.0000,-999.000,-999.000,  5.5046,-999.000
   318MWESTW_4,  P21E,   108,  1,     23, SI9323,2,19940429,1214,-16.7500,-118.6667, 3550,    795.7,   5.0985,  34.4863,2,  34.4873,2,     82.5,2,     85.6,2,    55.05,2,    39.98,2,    -0.01,2,     2.83,2,   -0.002,2,    0.000,2, -999.000,1,-999.0000,1,  -999.00,9,   -999.0,1,-999.000,9,   2273.0,2,   2314.0,2,     7.47,2, 7993.4,-999.0000,-999.000,-999.000,  5.0328,-999.000
   318MWESTW_4,  P21E,   108,  1,     22, SI9322,2,19940429,1214,-16.7500,-118.6667, 3550,    900.8,   4.7312,  34.5036,2,  34.5044,2,     80.0,2,     78.9,2,    64.45,2,    41.00,2,    -0.01,2,     2.90,2,   -0.002,2,   -0.001,2, -999.000,1,-999.0000,1,  -999.00,9,   -999.0,1,-999.000,9,   2287.0,2,   2327.0,2,     7.45,2, 9043.0,-999.0000,-999.000,-999.000,  4.6586,-999.000
   318MWESTW_4,  P21E,   108,  1,     21, SI9321,2,19940429,1214,-16.7500,-118.6667, 3550,   1002.1,   4.3314,  34.5181,2,  34.5192,2,     80.7,2,     83.5,2,    73.70,2,    40.82,2,    -0.01,2,     2.92,2,   -0.002,2,    0.002,2, -999.000,1,-999.0000,1,  -999.00,9,   -999.0,1,-999.000,9,   2295.0,2,   2335.0,2,     7.46,2,10054.6,-999.0000,-999.000,-999.000,  4.2530,-999.000
   318MWESTW_4,  P21E,   108,  1,     20, SI9320,2,19940429,1214,-16.7500,-118.6667, 3550,   1103.9,   3.9567,  34.5361,2,  34.5382,2,     82.7,2,     81.3,2,    83.90,2,    41.19,2,    -0.02,2,     2.95,2, -999.000,9, -999.000,9, -999.000,1,-999.0000,1,  -999.00,9,   -999.0,1,-999.000,9,   2308.0,2,   2348.0,2,     7.45,2,11071.8,-999.0000,-999.000,-999.000,  3.8726,-999.000
   318MWESTW_4,  P21E,   108,  1,     19, SI9319,2,19940429,1214,-16.7500,-118.6667, 3550,   1203.4,   3.6169,  34.5510,2,  34.5527,2,     86.7,2,     88.0,3,    91.39,2,    40.65,2,    -0.02,2,     2.93,2, -999.000,9, -999.000,9, -999.000,1,-999.0000,1,  -999.00,9,   -999.0,1,-999.000,9,   2313.0,2,   2354.0,2,     7.46,2,12065.4,-999.0000,-999.000,-999.000,  3.5275,-999.000
   318MWESTW_4,  P21E,   108,  1,     18, SI9318,2,19940429,1214,-16.7500,-118.6667, 3550,   1298.6,   3.3687,  34.5642,2,  34.5661,2,     90.4,2,     92.9,3,    97.93,2,    40.35,2,    -0.02,2,     2.91,2, -999.000,9, -999.000,9, -999.000,1,-999.0000,1,  -999.00,9,   -999.0,1,-999.000,9,   2319.0,2,   2368.0,2,     7.47,2,13017.2,-999.0000,-999.000,-999.000,  3.2737,-999.000
   318MWESTW_4,  P21E,   108,  1,     17, SI9317,2,19940429,1214,-16.7500,-118.6667, 3550,   1398.7,   3.1369,  34.5772,2,  34.5775,2,     96.3,2,     97.0,3,   103.03,2,    39.93,2,    -0.02,2,     2.88,2, -999.000,9, -999.000,9, -999.000,1,-999.0000,1,  -999.00,9,   -999.0,1,-999.000,9,   2318.0,2,   2369.0,2,     7.47,2,14017.0,-999.0000,-999.000,-999.000,  3.0360,-999.000
   318MWESTW_4,  P21E,   108,  1,     16, SI9316,2,19940429,1214,-16.7500,-118.6667, 3550,   1500.7,   2.9505,  34.5876,2,  34.5895,2,    101.2,2,    104.9,3,   107.49,2,    39.50,2,    -0.01,2,     2.84,2, -999.000,9, -999.000,9, -999.000,1,-999.0000,1,  -999.00,9,   -999.0,1,-999.000,9,   2320.0,2,   2372.0,2,     7.49,2,15035.4,-999.0000,-999.000,-999.000,  2.8431,-999.000
   318MWESTW_4,  P21E,   108,  1,     15, SI9315,2,19940429,1214,-16.7500,-118.6667, 3550,   1649.7,   2.6354,  34.6062,2,  34.6105,3,    112.1,2,    117.0,3,   112.12,2,    38.48,2,    -0.01,2,     2.76,2, -999.000,9, -999.000,9, -999.000,1,-999.0000,1,  -999.00,9,   -999.0,1,-999.000,9,   2319.0,2,   2380.0,2,     7.51,2,16524.0,-999.0000,-999.000,-999.000,  2.5194,-999.000
   318MWESTW_4,  P21E,   108,  1,     14, SI9314,2,19940429,1214,-16.7500,-118.6667, 3550,   1796.4,   2.4105,  34.6203,2,  34.6201,2,    123.3,2,    128.7,3,   115.47,2,    37.70,2,    -0.01,2,     2.70,2, -999.000,9, -999.000,9, -999.000,1,-999.0000,1,  -999.00,9,   -999.0,1,-999.000,9,   2317.0,2,   2383.0,2,     7.53,2,17989.6,-999.0000,-999.000,-999.000,  2.2852,-999.000
   318MWESTW_4,  P21E,   108,  1,     13, SI9313,2,19940429,1214,-16.7500,-118.6667, 3550,   1952.1,   2.1557,  34.6373,2,  34.6358,2,    141.6,2,    144.2,3,   115.64,2,    36.26,2,    -0.01,2,     2.57,2, -999.000,9, -999.000,9, -999.000,1,-999.0000,1,  -999.00,9,   -999.0,1,-999.000,9,   2306.0,2,   2385.0,2,     7.55,2,19545.8,-999.0000,-999.000,-999.000,  2.0209,-999.000
   318MWESTW_4,  P21E,   108,  1,     12, SI9312,2,19940429,1214,-16.7500,-118.6667, 3550,   2102.2,   2.0126,  34.6499,2,  34.6492,2,    148.2,2,    148.3,2,   118.51,2,    35.76,2,     0.00,2,     2.53,2, -999.000,9, -999.000,9, -999.000,1,-999.0000,1,  -999.00,9,   -999.0,1,-999.000,9,   2309.0,2,   2387.0,2,     7.56,2,21044.9,-999.0000,-999.000,-999.000,  1.8673,-999.000
   318MWESTW_4,  P21E,   108,  1,     11, SI9311,2,19940429,1214,-16.7500,-118.6667, 3550,   2257.2,   1.9112,  34.6601,2,  34.6598,2,    152.1,2,    152.8,2,   121.07,2,    35.35,2,     0.00,2,     2.50,2, -999.000,9, -999.000,9, -999.000,1,-999.0000,1,  -999.00,9,   -999.0,1,-999.000,9,   2308.0,2,   2394.0,2,     7.58,2,22593.5,-999.0000,-999.000,-999.000,  1.7541,-999.000
   318MWESTW_4,  P21E,   108,  1,     10, SI9310,2,19940429,1214,-16.7500,-118.6667, 3550,   2398.6,   1.8751,  34.6641,2,  34.6647,2,    153.4,2,    153.8,2,   122.35,2,    35.30,2,     0.00,2,     2.49,2, -999.000,9, -999.000,9, -999.000,1,-999.0000,1,  -999.00,9,   -999.0,1,-999.000,9,   2309.0,2,   2392.0,2,     7.58,2,24006.5,-999.0000,-999.000,-999.000,  1.7062,-999.000
   318MWESTW_4,  P21E,   108,  1,      9, SI9309,2,19940429,1214,-16.7500,-118.6667, 3550,   2548.7,   1.8285,  34.6693,2,  34.6692,2,    154.5,2,    156.0,2,   124.10,2,    35.22,2,     0.01,2,     2.48,2, -999.000,9, -999.000,9, -999.000,1,-999.0000,1,  -999.00,9,   -999.0,1,-999.000,9,   2310.0,2,   2398.0,2,     7.58,2,25506.2,-999.0000,-999.000,-999.000,  1.6469,-999.000
   318MWESTW_4,  P21E,   108,  1,      8, SI9308,2,19940429,1214,-16.7500,-118.6667, 3550,   2701.7,   1.7950,  34.6724,2,  34.6722,2,    156.6,2,    156.5,2,   125.23,2,    35.17,2,     0.00,2,     2.48,2, -999.000,9, -999.000,9, -999.000,1,-999.0000,1,  -999.00,9,   -999.0,1,-999.000,9,   2311.0,2,   2396.0,2,     7.59,2,27034.5,-999.0000,-999.000,-999.000,  1.6000,-999.000
   318MWESTW_4,  P21E,   108,  1,      7, SI9307,2,19940429,1214,-16.7500,-118.6667, 3550,   2850.8,   1.7625,  34.6750,2,  34.6734,2,    158.1,2,    156.9,2,   126.20,2,    35.05,2,     0.00,2,     2.48,2, -999.000,9, -999.000,9, -999.000,1,-999.0000,1,  -999.00,9,   -999.0,1,-999.000,9,   2311.0,2,   2400.0,2,     7.58,2,28524.7,-999.0000,-999.000,-999.000,  1.5542,-999.000
   318MWESTW_4,  P21E,   108,  1,      6, SI9306,2,19940429,1214,-16.7500,-118.6667, 3550,   3001.1,   1.7449,  34.6767,2,  34.6755,2,    159.4,2,    159.7,2,   126.68,2,    35.05,2,     0.00,2,     2.48,2, -999.000,9, -999.000,9, -999.000,1,-999.0000,1,  -999.00,9,   -999.0,1,-999.000,9,   2310.0,2,   2399.0,2,     7.59,2,30026.8,-999.0000,-999.000,-999.000,  1.5226,-999.000
   318MWESTW_4,  P21E,   108,  1,      5, SI9305,2,19940429,1214,-16.7500,-118.6667, 3550,   3143.7,   1.7342,  34.6779,2,  34.6767,2,    160.0,2,    160.1,2,   127.65,2,    34.99,2,     0.00,2,     2.47,2, -999.000,9, -999.000,9, -999.000,1,-999.0000,1,  -999.00,9,   -999.0,1,-999.000,9,   2311.0,2,   2402.0,2,     7.58,2,31451.5,-999.0000,-999.000,-999.000,  1.4982,-999.000
   318MWESTW_4,  P21E,   108,  1,      4, SI9304,2,19940429,1214,-16.7500,-118.6667, 3550,   3298.9,   1.7248,  34.6797,2,  34.6779,2,    161.0,2,    160.1,2,   128.30,2,    34.99,2,     0.00,2,     2.47,2, -999.000,9, -999.000,9, -999.000,1,-999.0000,1,  -999.00,9,   -999.0,1,-999.000,9,   2311.0,2,   2402.0,2,     7.59,2,33002.4,-999.0000,-999.000,-999.000,  1.4736,-999.000
   318MWESTW_4,  P21E,   108,  1,      3, SI9303,2,19940429,1214,-16.7500,-118.6667, 3550,   3451.9,   1.7069,  34.6811,2,  34.6804,2,    161.7,2,    161.0,2,   129.25,2,    34.93,2,     0.00,2,     2.47,2, -999.000,9, -999.000,9, -999.000,1,-999.0000,1,  -999.00,9,   -999.0,1,-999.000,9,   2318.0,2,   2406.0,2,     7.59,2,34531.8,-999.0000,-999.000,-999.000,  1.4405,-999.000
   318MWESTW_4,  P21E,   108,  1,      2, SI9302,2,19940429,1214,-16.7500,-118.6667, 3550,   3545.1,   1.7126,  34.6813,2,  34.6806,2,    161.0,2,    161.0,2,   129.43,2,    35.05,2,     0.01,2,     2.47,2, -999.000,9, -999.000,9, -999.000,1,-999.0000,1,  -999.00,9,   -999.0,1,-999.000,9,   2314.0,2,   2404.0,2,     7.59,2,35463.9,-999.0000,-999.000,-999.000,  1.4364,-999.000
   318MWESTW_4,  P21E,   108,  1,      1, SI9301,2,19940429,1214,-16.7500,-118.6667, 3550,   3583.2,   1.7140,  34.6817,2,  34.6794,2,    162.0,2,    161.3,2,   129.21,2,    35.03,2,     0.00,2,     2.46,2, -999.000,9, -999.000,9, -999.000,1,-999.0000,1,  -999.00,9,   -999.0,1,-999.000,9,   2313.0,2,   2400.0,2,     7.58,2,35844.4,-999.0000,-999.000,-999.000,  1.4338,-999.000