BOTTLE,20010911WHPSIOdm
EXPOCODE,SECT_ID,STNNBR,CASTNO,SAMPNO,BTLNBR,BTLNBR_FLAG_W,DATE,TIME,LATITUDE,LONGITUDE,DEPTH,CTDPRS,CTDTMP,CTDSAL,CTDSAL_FLAG_W,SALNTY,SALNTY_FLAG_W,CTDOXY,CTDOXY_FLAG_W,OXYGEN,OXYGEN_FLAG_W,SILCAT,SILCAT_FLAG_W,NITRAT,NITRAT_FLAG_W,NITRIT,NITRIT_FLAG_W,PHSPHT,PHSPHT_FLAG_W,CFC-11,CFC-11_FLAG_W,CFC-12,CFC-12_FLAG_W,TRITUM,TRITUM_FLAG_W,HELIUM,HELIUM_FLAG_W,DELHE3,DELHE3_FLAG_W,DELC14,DELC14_FLAG_W,NEON,NEON_FLAG_W,TCARBN,TCARBN_FLAG_W,ALKALI,ALKALI_FLAG_W,PH,PH_FLAG_W,CTDRAW,HELIER,DELHER,NEONER,THETA,TRITER
,,,,,,,,,,,,DBAR,ITS-90,PSS-78,,PSS-78,,UMOL/KG,,UMOL/KG,,UMOL/KG,,UMOL/KG,,UMOL/KG,,UMOL/KG,,PMOL/KG,,PMOL/KG,,TU,,UMOL/KG,,PERCNT,,/MILLE,,NMOL/KG,,UMOL/KG,,UMOL/KG,,,,,NMOL/KG,PERCNT,NMOL/KG,ITS-90,TU
   318MWESTW_4,  P21E,    63,  1,     36, SI9336,2,19940416,0853,-16.7445, -93.9917, 4375,      7.6,  23.7097,  35.9890,2,  35.9835,2,    219.6,2,    219.0,2,     0.28,2,     0.45,2,     0.01,2,     0.36,2,    1.929,2,    1.086,2,    0.638,2,   1.7044,2,    -1.46,2,   -999.0,1,   6.769,2,   -999.0,9,   -999.0,9,  -999.00,9,  118.8,  0.0085,   0.080,   0.034, 23.7081,   0.007
   318MWESTW_4,  P21E,    63,  1,     35, SI9335,2,19940416,0853,-16.7445, -93.9917, 4375,     24.8,  23.7159,  35.9898,2,  35.9833,2,    218.6,2,    217.4,2,     0.30,2,     0.52,2,     0.01,2,     0.36,2,    1.925,2,    1.077,2,    0.618,2,   1.7008,2,    -1.18,2,   -999.0,1,   6.755,2,   -999.0,9,   -999.0,9,  -999.00,9,  290.5,  0.0085,   0.080,   0.034, 23.7107,   0.007
   318MWESTW_4,  P21E,    63,  1,     34, SI9334,2,19940416,0853,-16.7445, -93.9917, 4375,     49.9,  23.6598,  35.9920,2,  35.9854,2,    218.2,2,    219.3,2,     0.31,2,     0.46,2,     0.01,2,     0.37,2,    1.903,2,    1.061,2,    0.594,2,   1.6983,2,    -1.21,2,   -999.0,1,   6.743,2,   -999.0,9,   -999.0,9,  -999.00,9,  541.4,  0.0085,   0.080,   0.034, 23.6494,   0.007
   318MWESTW_4,  P21E,    63,  1,     33, SI9333,2,19940416,0853,-16.7445, -93.9917, 4375,    105.2,  19.9692,  35.6822,2,  35.7138,2,    223.7,2,    212.3,2,     1.03,2,     0.67,2,     0.25,2,     0.58,2,    2.287,2,    1.220,2,    0.514,2,   1.7154,2,    -1.42,2,   -999.0,1,   6.949,2,   -999.0,9,   -999.0,9,  -999.00,9, 1093.8,  0.0086,   0.080,   0.035, 19.9497,   0.006
   318MWESTW_4,  P21E,    63,  1,     32, SI9332,2,19940416,0853,-16.7445, -93.9917, 4375,    155.4,  18.6576,  35.5103,2,  35.5072,2,    213.5,2,    196.5,2,     1.39,2,     5.74,2,     0.04,2,     0.78,2,    2.342,6,    1.254,6,    0.469,2,   1.7207,2,    -1.28,2,   -999.0,1,   6.996,2,   -999.0,9,   -999.0,9,  -999.00,9, 1596.0,  0.0086,   0.080,   0.035, 18.6302,   0.006
   318MWESTW_4,  P21E,    63,  1,     31, SI9331,2,19940416,0853,-16.7445, -93.9917, 4375,    203.7,  14.1947,  34.7103,2,  34.8188,2,    188.3,2,    142.5,2,     4.88,2,    13.46,2,     0.00,2,     1.30,2,    2.068,2,    1.030,2,    0.424,2,   1.7477,2,    -0.03,2,   -999.0,1,   7.237,2,   -999.0,9,   -999.0,9,  -999.00,9, 2078.2,  0.0087,   0.080,   0.036, 14.1651,   0.006
   318MWESTW_4,  P21E,    63,  1,     30, SI9330,2,19940416,0853,-16.7445, -93.9917, 4375,    253.5,  11.5470,  34.6356,2,  34.6007,2,     81.7,2,     73.3,2,    14.60,2,    21.47,2,     0.00,2,     2.09,2,    0.894,2,    0.446,2,    0.246,2,   1.7679,2,     1.90,2,   -999.0,1,   7.440,2,   -999.0,9,   -999.0,9,  -999.00,9, 2576.2,  0.0088,   0.080,   0.037, 11.5148,   0.005
   318MWESTW_4,  P21E,    63,  1,     29, SI9329,2,19940416,0853,-16.7445, -93.9917, 4375,    298.6,  10.6320,  34.6059,2,  34.6669,2,     43.4,2,     16.7,2,    23.80,2,    29.21,2,     0.01,2,     2.61,2,    0.236,2,    0.121,2,    0.102,2,   1.7703,2,     2.86,2,   -999.0,1,   7.493,2,   -999.0,9,   -999.0,9,  -999.00,9, 3026.6,  0.0089,   0.080,   0.037, 10.5960,   0.004
   318MWESTW_4,  P21E,    63,  1,     28, SI9328,2,19940416,0853,-16.7445, -93.9917, 4375,    401.1,   8.3839,  34.5815,2,  34.5602,2,     23.4,2,     33.6,2,    27.29,2,    36.89,2,     0.00,2,     2.70,2,    0.054,2,    0.025,2,    0.022,2,   1.7744,2,     2.97,2,   -999.0,1,   7.589,2,   -999.0,9,   -999.0,9,  -999.00,9, 4050.1,  0.0089,   0.080,   0.038,  8.3419,   0.004
   318MWESTW_4,  P21E,    63,  1,     27, SI9327,2,19940416,0853,-16.7445, -93.9917, 4375,    502.8,   7.2356,  34.5142,2,  34.5084,2,     51.8,2,     55.2,2,    30.60,2,    38.76,2,     0.00,2,     2.69,2,    0.027,2,    0.014,2, -999.000,1,   1.8004,2,     3.94,2,   -999.0,1,   7.693,2,   -999.0,9,   -999.0,9,  -999.00,9, 5066.3,  0.0090,   0.090,   0.038,  7.1869,-999.000
   318MWESTW_4,  P21E,    63,  1,     26, SI9326,2,19940416,0853,-16.7445, -93.9917, 4375,    603.3,   6.4219,  34.4919,2,  34.4987,2,     54.3,2,     48.2,2,    39.28,2,    41.59,2,     0.00,2,     2.86,2,    0.006,2,    0.003,2,    0.008,2,   1.8005,2,     5.84,2,   -999.0,1,   7.706,2,   -999.0,9,   -999.0,9,  -999.00,9, 6069.6,  0.0090,   0.090,   0.039,  6.3668,   0.003
   318MWESTW_4,  P21E,    63,  1,     25, SI9325,2,19940416,0853,-16.7445, -93.9917, 4375,    702.9,   5.6877,  34.4943,2,  34.4989,2,     48.1,2,     48.1,2,    50.04,2,    43.23,2,     0.00,2,     2.96,2,   -0.002,2,   -0.001,2,    0.003,2,   1.8194,2,     8.78,2,   -999.0,1,   7.785,2,   -999.0,9,   -999.0,9,  -999.00,9, 7064.7,  0.0091,   0.090,   0.039,  5.6270,   0.003
   318MWESTW_4,  P21E,    63,  1,     24, SI9324,2,19940416,0853,-16.7445, -93.9917, 4375,    799.7,   5.1975,  34.5070,2,  34.5127,2,     42.5,2,     42.1,2,    61.67,2,    44.53,2,     0.00,2,     3.07,2,   -0.002,2,   -0.002,2,   -0.003,2,   1.8380,2,    11.59,2,   -999.0,1,   7.846,2,   -999.0,9,   -999.0,9,  -999.00,9, 8031.2,  0.0092,   0.090,   0.039,  5.1308,   0.003
   318MWESTW_4,  P21E,    63,  1,     23, SI9323,2,19940416,0853,-16.7445, -93.9917, 4375,    899.0,   4.8093,  34.5174,2,  34.5247,2,     46.6,2,     46.1,2,    71.05,2,    44.36,2,     0.00,2,     3.09,2,   -0.002,2,   -0.001,2, -999.000,1,-999.0000,1,  -999.00,9,   -999.0,1,-999.000,9,   -999.0,9,   -999.0,9,  -999.00,9, 9023.3,-999.0000,-999.000,-999.000,  4.7363,-999.000
   318MWESTW_4,  P21E,    63,  1,     22, SI9322,2,19940416,0853,-16.7445, -93.9917, 4375,    996.4,   4.3722,  34.5261,2,  34.5284,2,     58.7,2,     61.1,2,    77.30,2,    43.07,2,     0.00,2,     3.02,2,   -0.002,2,    0.000,2,    0.001,2,   1.8473,2,    15.70,2,   -999.0,1,   7.880,2,   -999.0,9,   -999.0,9,  -999.00,9, 9996.4,  0.0092,   0.090,   0.039,  4.2940,   0.003
   318MWESTW_4,  P21E,    63,  1,     21, SI9321,2,19940416,0853,-16.7445, -93.9917, 4375,   1098.9,   3.9898,  34.5377,2,  34.5409,2,     67.4,2,     69.1,2,    85.98,2,    42.34,2,     0.00,2,     2.98,2, -999.000,9, -999.000,9, -999.000,1,-999.0000,1,  -999.00,9,   -999.0,1,-999.000,9,   -999.0,9,   -999.0,9,  -999.00,9,11020.3,-999.0000,-999.000,-999.000,  3.9059,-999.000
   318MWESTW_4,  P21E,    63,  1,     20, SI9320,2,19940416,0853,-16.7445, -93.9917, 4375,   1204.7,   3.6801,  34.5507,2,  34.5523,2,     76.1,2,     78.3,2,    91.89,2,    41.55,2,     0.00,2,     2.92,2, -999.000,9, -999.000,9, -999.000,1,-999.0000,1,  -999.00,9,   -999.0,1,-999.000,9,   -999.0,9,   -999.0,9,  -999.00,9,12076.6,-999.0000,-999.000,-999.000,  3.5900,-999.000
   318MWESTW_4,  P21E,    63,  1,     19, SI9319,2,19940416,0853,-16.7445, -93.9917, 4375,   1304.2,   3.3959,  34.5659,2,  34.5671,2,     81.9,2,     84.1,2,    98.84,2,    41.10,2,     0.00,2,     2.89,2, -999.000,9, -999.000,9,   -0.002,2,   1.8770,2,    20.90,2,   -999.0,1,   7.988,2,   -999.0,9,   -999.0,9,  -999.00,9,13070.7,  0.0094,   0.100,   0.040,  3.3002,   0.003
   318MWESTW_4,  P21E,    63,  1,     18, SI9318,2,19940416,0853,-16.7445, -93.9917, 4375,   1404.2,   3.1259,  34.5783,2,  34.5822,2,     89.1,2,     88.7,2,   105.95,2,    40.71,2,     0.00,2,     2.86,2, -999.000,9, -999.000,9, -999.000,1,-999.0000,1,  -999.00,9,   -999.0,1,-999.000,9,   -999.0,9,   -999.0,9,  -999.00,9,14069.6,-999.0000,-999.000,-999.000,  3.0246,-999.000
   318MWESTW_4,  P21E,    63,  1,     17, SI9317,2,19940416,0853,-16.7445, -93.9917, 4375,   1505.2,   2.9390,  34.5927,2,  34.5934,2,     93.3,2,     93.8,2,   110.64,2,    40.37,2,     0.00,2,     2.82,2, -999.000,9, -999.000,9, -999.000,1,-999.0000,1,  -999.00,9,   -999.0,1,-999.000,9,   -999.0,9,   -999.0,9,  -999.00,9,15078.8,-999.0000,-999.000,-999.000,  2.8314,-999.000
   318MWESTW_4,  P21E,    63,  1,     16, SI9316,2,19940416,0853,-16.7445, -93.9917, 4375,   1658.9,   2.6729,  34.6106,2,  34.6115,2,     99.2,2,    101.6,2,   117.76,2,    39.75,2,     0.00,2,     2.78,2, -999.000,9, -999.000,9,   -0.001,2,   1.9008,2,    25.38,2,   -999.0,1,   8.044,2,   -999.0,9,   -999.0,9,  -999.00,9,16614.2,  0.0095,   0.100,   0.040,  2.5557,   0.004
   318MWESTW_4,  P21E,    63,  1,     15, SI9315,2,19940416,0853,-16.7445, -93.9917, 4375,   1803.5,   2.4824,  34.6243,2,  34.6242,2,    106.5,2,    107.2,2,   122.80,2,    39.25,2,     0.00,2,     2.73,2, -999.000,9, -999.000,9, -999.000,1,-999.0000,1,  -999.00,9,   -999.0,1,-999.000,9,   -999.0,9,   -999.0,9,  -999.00,9,18058.4,-999.0000,-999.000,-999.000,  2.3555,-999.000
   318MWESTW_4,  P21E,    63,  1,     14, SI9314,2,19940416,0853,-16.7445, -93.9917, 4375,   1999.3,   2.2633,  34.6387,2,  34.6396,2,    114.2,2,    115.2,2,   128.01,2,    38.63,2,     0.00,2,     2.69,2, -999.000,9, -999.000,9, -999.000,1,-999.0000,1,  -999.00,9,   -999.0,1,-999.000,9,   -999.0,9,   -999.0,9,  -999.00,9,20014.5,-999.0000,-999.000,-999.000,  2.1229,-999.000
   318MWESTW_4,  P21E,    63,  1,     13, SI9313,2,19940416,0853,-16.7445, -93.9917, 4375,   2214.7,   2.0420,  34.6539,2,  34.6541,2,    132.2,2,    132.4,2,   126.46,2,    37.22,2,     0.00,2,     2.57,2, -999.000,9, -999.000,9, -999.000,1,-999.0000,1,  -999.00,9,   -999.0,1,-999.000,9,   -999.0,9,   -999.0,9,  -999.00,9,22166.8,-999.0000,-999.000,-999.000,  1.8864,-999.000
   318MWESTW_4,  P21E,    63,  1,     12, SI9312,2,19940416,0853,-16.7445, -93.9917, 4375,   2405.8,   1.9387,  34.6631,2,  34.6625,2,    140.5,2,    139.6,2,   127.16,2,    36.60,2,     0.00,2,     2.52,2, -999.000,9, -999.000,9, -999.000,1,-999.0000,1,  -999.00,9,   -999.0,1,-999.000,9,   -999.0,9,   -999.0,9,  -999.00,9,24076.4,-999.0000,-999.000,-999.000,  1.7680,-999.000
   318MWESTW_4,  P21E,    63,  1,     11, SI9311,2,19940416,0853,-16.7445, -93.9917, 4375,   2599.5,   1.8602,  34.6700,2,  34.6698,2,    145.5,2,    144.6,2,   128.39,2,    36.16,2,     0.00,2,     2.49,2, -999.000,9, -999.000,9, -999.000,1,-999.0000,1,  -999.00,9,   -999.0,1,-999.000,9,   -999.0,9,   -999.0,9,  -999.00,9,26011.6,-999.0000,-999.000,-999.000,  1.6734,-999.000
   318MWESTW_4,  P21E,    63,  1,     10, SI9310,2,19940416,0853,-16.7445, -93.9917, 4375,   2799.5,   1.8074,  34.6772,2,  34.6763,2,    146.0,2,    145.7,2,   131.35,2,    36.21,2,     0.01,2,     2.49,2, -999.000,9, -999.000,9, -999.000,1,-999.0000,1,  -999.00,9,   -999.0,1,-999.000,9,   -999.0,9,   -999.0,9,  -999.00,9,28010.2,-999.0000,-999.000,-999.000,  1.6030,-999.000
   318MWESTW_4,  P21E,    63,  1,      9, SI9309,2,19940416,0853,-16.7445, -93.9917, 4375,   3001.0,   1.7896,  34.6810,2,  34.6804,2,    145.8,2,    145.2,2,   133.09,2,    36.10,2,     0.01,2,     2.49,2, -999.000,9, -999.000,9, -999.000,1,-999.0000,1,  -999.00,9,   -999.0,1,-999.000,9,   -999.0,9,   -999.0,9,  -999.00,9,30023.8,-999.0000,-999.000,-999.000,  1.5663,-999.000
   318MWESTW_4,  P21E,    63,  1,      8, SI9308,2,19940416,0853,-16.7445, -93.9917, 4375,   3198.2,   1.7810,  34.6834,2,  34.6822,2,    146.7,2,    146.1,2,   133.45,2,    36.12,2,     0.00,2,     2.49,2, -999.000,9, -999.000,9, -999.000,1,-999.0000,1,  -999.00,9,   -999.0,1,-999.000,9,   -999.0,9,   -999.0,9,  -999.00,9,31994.4,-999.0000,-999.000,-999.000,  1.5385,-999.000
   318MWESTW_4,  P21E,    63,  1,      7, SI9307,2,19940416,0853,-16.7445, -93.9917, 4375,   3396.7,   1.7740,  34.6855,2,  34.6848,2,    147.0,2,    147.6,2,   132.94,2,    36.00,2,     0.00,2,     2.48,2, -999.000,9, -999.000,9, -999.000,1,-999.0000,1,  -999.00,9,   -999.0,1,-999.000,9,   -999.0,9,   -999.0,9,  -999.00,9,33978.1,-999.0000,-999.000,-999.000,  1.5116,-999.000
   318MWESTW_4,  P21E,    63,  1,      6, SI9306,2,19940416,0853,-16.7445, -93.9917, 4375,   3599.5,   1.7696,  34.6878,2,  34.6875,2,    148.7,2,    149.4,2,   132.09,2,    35.89,2,     0.00,2,     2.47,2, -999.000,9, -999.000,9, -999.000,1,-999.0000,1,  -999.00,9,   -999.0,1,-999.000,9,   -999.0,9,   -999.0,9,  -999.00,9,36005.1,-999.0000,-999.000,-999.000,  1.4863,-999.000
   318MWESTW_4,  P21E,    63,  1,      5, SI9305,2,19940416,0853,-16.7445, -93.9917, 4375,   3794.3,   1.7699,  34.6887,2,  34.6887,2,    149.6,2,    150.4,2,   131.58,2,    35.78,2,     0.00,2,     2.47,2, -999.000,9, -999.000,9, -999.000,1,-999.0000,1,  -999.00,9,   -999.0,1,-999.000,9,   -999.0,9,   -999.0,9,  -999.00,9,37951.8,-999.0000,-999.000,-999.000,  1.4658,-999.000
   318MWESTW_4,  P21E,    63,  1,      4, SI9304,2,19940416,0853,-16.7445, -93.9917, 4375,   3999.1,   1.7812,  34.6899,2,  34.6885,2,    151.1,2,    151.2,2,   131.25,2,    35.78,2,     0.00,2,     2.47,2, -999.000,9, -999.000,9, -999.000,1,-999.0000,1,  -999.00,9,   -999.0,1,-999.000,9,   -999.0,9,   -999.0,9,  -999.00,9,39999.5,-999.0000,-999.000,-999.000,  1.4545,-999.000
   318MWESTW_4,  P21E,    63,  1,      3, SI9303,2,19940416,0853,-16.7445, -93.9917, 4375,   4199.0,   1.8014,  34.6901,2,  34.6895,2,    151.3,2,    151.6,2,   131.08,2,    35.68,2,     0.00,2,     2.46,2, -999.000,9, -999.000,9, -999.000,1,-999.0000,1,  -999.00,9,   -999.0,1,-999.000,9,   -999.0,9,   -999.0,9,  -999.00,9,41997.7,-999.0000,-999.000,-999.000,  1.4517,-999.000
   318MWESTW_4,  P21E,    63,  1,      2, SI9302,2,19940416,0853,-16.7445, -93.9917, 4375,   4297.0,   1.8120,  34.6901,2,  34.6893,2,    151.0,2,    151.6,2,   130.92,2,    35.63,2,     0.00,2,     2.47,2, -999.000,9, -999.000,9, -999.000,1,-999.0000,1,  -999.00,9,   -999.0,1,-999.000,9,   -999.0,9,   -999.0,9,  -999.00,9,42976.6,-999.0000,-999.000,-999.000,  1.4508,-999.000
   318MWESTW_4,  P21E,    63,  1,      1, SI9301,2,19940416,0853,-16.7445, -93.9917, 4375,   4381.9,   1.8213,  34.6902,2,  34.6891,2,    151.4,2,    151.5,2,   130.41,2,    35.70,2,    -0.01,2,     2.46,2, -999.000,9, -999.000,9, -999.000,1,-999.0000,1,  -999.00,9,   -999.0,1,-999.000,9,   -999.0,9,   -999.0,9,  -999.00,9,43826.2,-999.0000,-999.000,-999.000,  1.4501,-999.000