BOTTLE,20010911WHPSIOdm
EXPOCODE,SECT_ID,STNNBR,CASTNO,SAMPNO,BTLNBR,BTLNBR_FLAG_W,DATE,TIME,LATITUDE,LONGITUDE,DEPTH,CTDPRS,CTDTMP,CTDSAL,CTDSAL_FLAG_W,SALNTY,SALNTY_FLAG_W,CTDOXY,CTDOXY_FLAG_W,OXYGEN,OXYGEN_FLAG_W,SILCAT,SILCAT_FLAG_W,NITRAT,NITRAT_FLAG_W,NITRIT,NITRIT_FLAG_W,PHSPHT,PHSPHT_FLAG_W,CFC-11,CFC-11_FLAG_W,CFC-12,CFC-12_FLAG_W,TRITUM,TRITUM_FLAG_W,HELIUM,HELIUM_FLAG_W,DELHE3,DELHE3_FLAG_W,DELC14,DELC14_FLAG_W,NEON,NEON_FLAG_W,TCARBN,TCARBN_FLAG_W,ALKALI,ALKALI_FLAG_W,PH,PH_FLAG_W,CTDRAW,HELIER,DELHER,NEONER,THETA,TRITER
,,,,,,,,,,,,DBAR,ITS-90,PSS-78,,PSS-78,,UMOL/KG,,UMOL/KG,,UMOL/KG,,UMOL/KG,,UMOL/KG,,UMOL/KG,,PMOL/KG,,PMOL/KG,,TU,,UMOL/KG,,PERCNT,,/MILLE,,NMOL/KG,,UMOL/KG,,UMOL/KG,,,,,NMOL/KG,PERCNT,NMOL/KG,ITS-90,TU
   318MWESTW_5,  P21W,   202,  1,     36, SI9442,2,19940601,2023,-17.5000,-172.3333, 7720,      9.5,  25.3470,  35.4544,2,  35.4543,2,    212.3,2,    211.6,2,     0.78,2,     0.04,2,     0.00,2,     0.12,2,    1.759,2,    1.026,2, -999.000,1,-999.0000,1,  -999.00,9,   -999.0,1,-999.000,9,   -999.0,9,   -999.0,9,  -999.00,9,  154.5,-999.0000,-999.000,-999.000, 25.3449,-999.000
   318MWESTW_5,  P21W,   202,  1,     35, SI9435,2,19940601,2023,-17.5000,-172.3333, 7720,     24.9,  25.3493,  35.4547,2,  35.4531,2,    205.5,2,    209.8,2,     0.79,2,     0.00,2,     0.00,2,     0.13,2,    1.778,2,    1.030,2, -999.000,1,-999.0000,1,  -999.00,9,   -999.0,1,-999.000,9,   -999.0,9,   -999.0,9,  -999.00,9,  307.5,-999.0000,-999.000,-999.000, 25.3438,-999.000
   318MWESTW_5,  P21W,   202,  1,     34, SI9441,2,19940601,2023,-17.5000,-172.3333, 7720,     51.3,  25.3469,  35.4543,2,  35.4567,2,    208.9,2,    210.0,2,     0.79,2,     0.00,2,     0.00,2,     0.12,2, -999.000,9, -999.000,9, -999.000,1,-999.0000,1,  -999.00,9,   -999.0,1,-999.000,9,   -999.0,9,   -999.0,9,  -999.00,9,  571.6,-999.0000,-999.000,-999.000, 25.3357,-999.000
   318MWESTW_5,  P21W,   202,  1,     33, SI9433,2,19940601,2023,-17.5000,-172.3333, 7720,     96.3,  23.6954,  35.7580,2,  35.7574,2,    204.1,2,    203.2,2,     0.63,2,     0.00,2,     0.01,2,     0.19,2,    1.888,2,    1.069,2, -999.000,1,-999.0000,1,  -999.00,9,   -999.0,1,-999.000,9,   -999.0,9,   -999.0,9,  -999.00,9, 1019.0,-999.0000,-999.000,-999.000, 23.6753,-999.000
   318MWESTW_5,  P21W,   202,  1,     32, SI9432,2,19940601,2023,-17.5000,-172.3333, 7720,    156.7,  21.4337,  35.7677,2,  35.7707,2,    190.6,2,    188.7,2,     0.64,2,     1.81,2,     0.02,2,     0.29,2,    1.966,2,    1.107,2, -999.000,1,-999.0000,1,  -999.00,9,   -999.0,1,-999.000,9,   -999.0,9,   -999.0,9,  -999.00,9, 1621.0,-999.0000,-999.000,-999.000, 21.4032,-999.000
   318MWESTW_5,  P21W,   202,  1,     31, SI9431,2,19940601,2023,-17.5000,-172.3333, 7720,    203.0,  20.4670,  35.7328,2,  35.7315,2,    185.7,2,    188.9,2,     0.81,2,     2.36,2,     0.01,2,     0.31,2,    2.032,2,    1.132,2, -999.000,1,-999.0000,1,  -999.00,9,   -999.0,1,-999.000,9,   -999.0,9,   -999.0,9,  -999.00,9, 2081.8,-999.0000,-999.000,-999.000, 20.4287,-999.000
   318MWESTW_5,  P21W,   202,  1,     30, SI9440,2,19940601,2023,-17.5000,-172.3333, 7720,    241.6,  19.1219,  35.6796,2,  35.6784,2,    186.3,2,    192.9,2,     0.98,2,     3.09,2,     0.01,2,     0.35,2,    2.066,2,    1.119,2, -999.000,1,-999.0000,1,  -999.00,9,   -999.0,1,-999.000,9,   -999.0,9,   -999.0,9,  -999.00,9, 2465.9,-999.0000,-999.000,-999.000, 19.0784,-999.000
   318MWESTW_5,  P21W,   202,  1,     29, SI9429,2,19940601,2023,-17.5000,-172.3333, 7720,    293.4,  17.3395,  35.5505,2,  35.5482,2,    190.9,2,    195.2,2,     1.46,2,     4.70,2,     0.01,2,     0.47,2,    2.071,2,    1.115,2, -999.000,1,-999.0000,1,  -999.00,9,   -999.0,1,-999.000,9,   -999.0,9,   -999.0,9,  -999.00,9, 2982.3,-999.0000,-999.000,-999.000, 17.2901,-999.000
   318MWESTW_5,  P21W,   202,  1,     28, SI9428,2,19940601,2023,-17.5000,-172.3333, 7720,    344.8,  15.3138,  35.3117,2,  35.3090,2,    192.0,2,    188.5,2,     2.42,2,     7.75,2,     0.00,2,     0.69,2,    1.810,2,    0.950,2, -999.000,1,-999.0000,1,  -999.00,9,   -999.0,1,-999.000,9,   -999.0,9,   -999.0,9,  -999.00,9, 3493.1,-999.0000,-999.000,-999.000, 15.2605,-999.000
   318MWESTW_5,  P21W,   202,  1,     27, SI9424,2,19940601,2023,-17.5000,-172.3333, 7720,    393.4,  13.1033,  35.0141,2,  35.0183,2,    187.7,2,    182.2,2,     4.03,2,    12.04,2,     0.01,2,     0.98,2,    1.373,2,    0.708,2, -999.000,1,-999.0000,1,  -999.00,9,   -999.0,1,-999.000,9,   -999.0,9,   -999.0,9,  -999.00,9, 3977.1,-999.0000,-999.000,-999.000, 13.0485,-999.000
   318MWESTW_5,  P21W,   202,  1,     26, SI9414,2,19940601,2023,-17.5000,-172.3333, 7720,    497.3,   8.6417,  34.5430,2,  34.5415,2,    197.7,2,    197.9,2,     7.70,2,    20.66,2,     0.00,2,     1.50,2, -999.000,9, -999.000,9, -999.000,1,-999.0000,1,  -999.00,9,   -999.0,1,-999.000,9,   -999.0,9,   -999.0,9,  -999.00,9, 5010.2,-999.0000,-999.000,-999.000,  8.5884,-999.000
   318MWESTW_5,  P21W,   202,  1,     25, SI9425,2,19940601,2023,-17.5000,-172.3333, 7720,    585.8,   6.6414,  34.3805,2,  34.3813,2,    210.5,2,    211.5,2,    11.86,2,    24.89,2,     0.00,2,     1.75,2,    0.477,2,    0.247,2, -999.000,1,-999.0000,1,  -999.00,9,   -999.0,1,-999.000,9,   -999.0,9,   -999.0,9,  -999.00,9, 5890.8,-999.0000,-999.000,-999.000,  6.5871,-999.000
   318MWESTW_5,  P21W,   202,  1,     24, SI9434,2,19940601,2023,-17.5000,-172.3333, 7720,    695.7,   5.5438,  34.3527,2,  34.3529,2,    196.0,2,    194.2,2,    22.55,2,    29.15,2,     0.00,2,     2.03,2, -999.000,9, -999.000,9, -999.000,1,-999.0000,1,  -999.00,9,   -999.0,1,-999.000,9,   -999.0,9,   -999.0,9,  -999.00,9, 6982.9,-999.0000,-999.000,-999.000,  5.4846,-999.000
   318MWESTW_5,  P21W,   202,  1,     23, SI9423,2,19940601,2023,-17.5000,-172.3333, 7720,    796.4,   4.7805,  34.3889,2,  34.3874,2,    177.6,2,    172.3,2,    37.88,2,    32.35,2,     0.01,2,     2.25,2,    0.029,2,    0.015,2, -999.000,1,-999.0000,1,  -999.00,9,   -999.0,1,-999.000,9,   -999.0,9,   -999.0,9,  -999.00,9, 7984.2,-999.0000,-999.000,-999.000,  4.7168,-999.000
   318MWESTW_5,  P21W,   202,  1,     22, SI9418,2,19940601,2023,-17.5000,-172.3333, 7720,    893.9,   4.1067,  34.4213,2,  34.4204,2,    169.2,2,    165.8,2,    50.66,2,    33.67,2,     0.00,2,     2.35,2,    0.005,2,    0.004,2, -999.000,1,-999.0000,1,  -999.00,9,   -999.0,1,-999.000,9,   -999.0,9,   -999.0,9,  -999.00,9, 8954.1,-999.0000,-999.000,-999.000,  4.0392,-999.000
   318MWESTW_5,  P21W,   202,  1,     21, SI9421,2,19940601,2023,-17.5000,-172.3333, 7720,    996.7,   3.6698,  34.4731,2,  34.4718,2,    159.6,2,    157.5,2,    64.86,2,    34.56,2,     0.00,2,     2.41,2,    0.002,2,    0.001,2, -999.000,1,-999.0000,1,  -999.00,9,   -999.0,1,-999.000,9,   -999.0,9,   -999.0,9,  -999.00,9, 9975.7,-999.0000,-999.000,-999.000,  3.5970,-999.000
   318MWESTW_5,  P21W,   202,  1,     20, SI9420,2,19940601,2023,-17.5000,-172.3333, 7720,   1101.2,   3.3150,  34.5147,2,  34.5148,2,    154.6,2,    153.7,2,    77.15,2,    35.02,2,     0.00,2,     2.44,2,    0.001,2,    0.000,2, -999.000,1,-999.0000,1,  -999.00,9,   -999.0,1,-999.000,9,   -999.0,9,   -999.0,9,  -999.00,9,11014.6,-999.0000,-999.000,-999.000,  3.2366,-999.000
   318MWESTW_5,  P21W,   202,  1,     19, SI9419,2,19940601,2023,-17.5000,-172.3333, 7720,   1241.5,   3.0165,  34.5572,2,  34.5573,2,    148.0,2,    145.7,2,    90.23,2,    35.69,2,     0.00,2,     2.50,2, -999.000,9, -999.000,9, -999.000,1,-999.0000,1,  -999.00,9,   -999.0,1,-999.000,9,   -999.0,9,   -999.0,9,  -999.00,9,12409.4,-999.0000,-999.000,-999.000,  2.9296,-999.000
   318MWESTW_5,  P21W,   202,  1,     18, SI9439,2,19940601,2023,-17.5000,-172.3333, 7720,   1487.9,   2.6778,  34.5925,2,  34.5920,2,    145.2,2,    143.5,2,   102.52,2,    35.93,2,     0.01,2,     2.53,2, -999.000,9, -999.000,9, -999.000,1,-999.0000,1,  -999.00,9,   -999.0,1,-999.000,9,   -999.0,9,   -999.0,9,  -999.00,9,14859.6,-999.0000,-999.000,-999.000,  2.5746,-999.000
   318MWESTW_5,  P21W,   202,  1,     17, SI9417,2,19940601,2023,-17.5000,-172.3333, 7720,   1745.8,   2.3810,  34.6163,2,  34.6170,2,    145.6,2,    145.6,2,   111.13,2,    35.94,2,     0.00,2,     2.52,2, -999.000,9, -999.000,9, -999.000,1,-999.0000,1,  -999.00,9,   -999.0,1,-999.000,9,   -999.0,9,   -999.0,9,  -999.00,9,17424.1,-999.0000,-999.000,-999.000,  2.2603,-999.000
   318MWESTW_5,  P21W,   202,  1,     16, SI9416,2,19940601,2023,-17.5000,-172.3333, 7720,   2006.2,   2.1543,  34.6363,2,  34.6358,2,    146.1,2,    146.6,2,   118.47,2,    35.98,2,     0.00,2,     2.54,2, -999.000,9, -999.000,9, -999.000,1,-999.0000,1,  -999.00,9,   -999.0,1,-999.000,9,   -999.0,9,   -999.0,9,  -999.00,9,20012.9,-999.0000,-999.000,-999.000,  2.0150,-999.000
   318MWESTW_5,  P21W,   202,  1,     15, SI9415,2,19940601,2023,-17.5000,-172.3333, 7720,   2247.7,   2.0091,  34.6489,2,  34.6592,4,    146.2,2,    148.1,2,   122.61,4,    35.48,4,     0.00,4,     2.51,4, -999.000,9, -999.000,9, -999.000,1,-999.0000,1,  -999.00,9,   -999.0,1,-999.000,9,   -999.0,9,   -999.0,9,  -999.00,9,22413.7,-999.0000,-999.000,-999.000,  1.8512,-999.000
   318MWESTW_5,  P21W,   202,  1,     14, SI9436,2,19940601,2023,-17.5000,-172.3333, 7720,   2493.8,   1.9020,  34.6575,2,  34.6578,2,    145.3,2,    145.2,2,   129.47,2,    36.03,2,     0.00,2,     2.54,2, -999.000,9, -999.000,9, -999.000,1,-999.0000,1,  -999.00,9,   -999.0,1,-999.000,9,   -999.0,9,   -999.0,9,  -999.00,9,24860.1,-999.0000,-999.000,-999.000,  1.7241,-999.000
   318MWESTW_5,  P21W,   202,  1,     13, SI9413,2,19940601,2023,-17.5000,-172.3333, 7720,   2740.5,   1.8063,  34.6651,2,  34.6645,2,    146.0,2,    146.0,2,   133.30,2,    36.07,2,     0.00,2,     2.54,2, -999.000,9, -999.000,9, -999.000,1,-999.0000,1,  -999.00,9,   -999.0,1,-999.000,9,   -999.0,9,   -999.0,9,  -999.00,9,27312.9,-999.0000,-999.000,-999.000,  1.6075,-999.000
   318MWESTW_5,  P21W,   202,  1,     12, SI9438,2,19940601,2023,-17.5000,-172.3333, 7720,   2994.9,   1.7432,  34.6697,2,  34.6694,2,    149.3,2,    148.1,2,   134.74,2,    36.03,2,     0.00,2,     2.53,2,   -0.001,2,   -0.001,2, -999.000,1,-999.0000,1,  -999.00,9,   -999.0,1,-999.000,9,   -999.0,9,   -999.0,9,  -999.00,9,29842.1,-999.0000,-999.000,-999.000,  1.5216,-999.000
   318MWESTW_5,  P21W,   202,  1,     11, SI9411,2,19940601,2023,-17.5000,-172.3333, 7720,   3240.5,   1.6589,  34.6768,2,  34.6763,2,    151.7,2,    152.1,2,   135.70,2,    35.81,2,     0.00,2,     2.51,2,    0.003,2,   -0.001,2, -999.000,1,-999.0000,1,  -999.00,9,   -999.0,1,-999.000,9,   -999.0,9,   -999.0,9,  -999.00,9,32283.5,-999.0000,-999.000,-999.000,  1.4151,-999.000
   318MWESTW_5,  P21W,   202,  1,     10, SI9412,2,19940601,2023,-17.5000,-172.3333, 7720,   3497.1,   1.5509,  34.6849,2,  34.6842,2,    161.2,2,    162.3,2,   132.50,2,    35.09,2,     0.01,2,     2.45,2,    0.001,2,    0.000,2, -999.000,1,-999.0000,1,  -999.00,9,   -999.0,1,-999.000,9,   -999.0,9,   -999.0,9,  -999.00,9,34834.7,-999.0000,-999.000,-999.000,  1.2838,-999.000
   318MWESTW_5,  P21W,   202,  1,      9, SI9410,2,19940601,2023,-17.5000,-172.3333, 7720,   3744.7,   1.3666,  34.7146,2,  34.7140,2,    189.4,2,    194.3,2,   113.84,2,    32.23,2,     0.00,2,     2.26,2,    0.004,2,    0.000,2, -999.000,1,-999.0000,1,  -999.00,9,   -999.0,1,-999.000,9,   -999.0,9,   -999.0,9,  -999.00,9,37296.5,-999.0000,-999.000,-999.000,  1.0784,-999.000
   318MWESTW_5,  P21W,   202,  1,      8, SI9422,2,19940601,2023,-17.5000,-172.3333, 7720,   3993.2,   1.2151,  34.7173,2,  34.7164,2,    200.7,2,    202.2,2,   114.32,2,    31.81,2,     0.00,2,     2.22,2,    0.010,2,    0.003,2, -999.000,1,-999.0000,1,  -999.00,9,   -999.0,1,-999.000,9,   -999.0,9,   -999.0,9,  -999.00,9,39767.0,-999.0000,-999.000,-999.000,  0.9048,-999.000
   318MWESTW_5,  P21W,   202,  1,      7, SI9407,2,19940601,2023,-17.5000,-172.3333, 7720,   4240.3,   1.1166,  34.7140,2,  34.7136,2,    204.2,2,    205.6,2,   116.71,2,    31.85,2,     0.00,2,     2.21,2,    0.014,2,    0.005,2, -999.000,1,-999.0000,1,  -999.00,9,   -999.0,1,-999.000,9,   -999.0,9,   -999.0,9,  -999.00,9,42223.3,-999.0000,-999.000,-999.000,  0.7823,-999.000
   318MWESTW_5,  P21W,   202,  1,      6, SI9427,2,19940601,2023,-17.5000,-172.3333, 7720,   4494.4,   1.0716,  34.7109,2,  34.7117,2,    206.3,2,    207.1,2,   118.15,2,    31.94,2,     0.00,2,     2.22,2,    0.018,2,    0.008,2, -999.000,1,-999.0000,1,  -999.00,9,   -999.0,1,-999.000,9,   -999.0,9,   -999.0,9,  -999.00,9,44749.0,-999.0000,-999.000,-999.000,  0.7104,-999.000
   318MWESTW_5,  P21W,   202,  1,      5, SI9405,2,19940601,2023,-17.5000,-172.3333, 7720,   4734.6,   1.0567,  34.7090,2,  34.7101,2,    207.2,2,    207.4,2,   119.26,2,    31.98,2,     0.00,2,     2.22,2,    0.019,2,    0.010,2, -999.000,1,-999.0000,1,  -999.00,9,   -999.0,1,-999.000,9,   -999.0,9,   -999.0,9,  -999.00,9,47137.7,-999.0000,-999.000,-999.000,  0.6686,-999.000
   318MWESTW_5,  P21W,   202,  1,      4, SI9404,2,19940601,2023,-17.5000,-172.3333, 7720,   4994.9,   1.0588,  34.7091,2,  34.7085,2,    208.7,2,    207.7,2,   120.22,2,    31.98,2,     0.00,2,     2.23,2,    0.021,2,    0.010,2, -999.000,1,-999.0000,1,  -999.00,9,   -999.0,1,-999.000,9,   -999.0,9,   -999.0,9,  -999.00,9,49725.3,-999.0000,-999.000,-999.000,  0.6400,-999.000
   318MWESTW_5,  P21W,   202,  1,      3, SI9403,2,19940601,2023,-17.5000,-172.3333, 7720,   5246.3,   1.0727,  34.7080,2,  34.7085,2,    209.5,2,    208.3,2,   120.70,2,    31.97,2,     0.01,2,     2.22,2,    0.018,2,    0.006,2, -999.000,1,-999.0000,1,  -999.00,9,   -999.0,1,-999.000,9,   -999.0,9,   -999.0,9,  -999.00,9,52224.8,-999.0000,-999.000,-999.000,  0.6230,-999.000
   318MWESTW_5,  P21W,   202,  1,      2, SI9437,2,19940601,2023,-17.5000,-172.3333, 7720,   5425.5,   1.0848,  34.7077,2,  34.7079,2,    209.7,2,    208.2,2,   121.18,2,    31.94,2,     0.00,2,     2.23,2,    0.015,2,    0.007,2, -999.000,1,-999.0000,1,  -999.00,9,   -999.0,1,-999.000,9,   -999.0,9,   -999.0,9,  -999.00,9,54006.4,-999.0000,-999.000,-999.000,  0.6126,-999.000
   318MWESTW_5,  P21W,   202,  1,      1, SI9401,2,19940601,2023,-17.5000,-172.3333, 7720,   5637.4,   1.1047,  34.7069,2,  34.7060,2,    208.8,2,    208.8,2,   120.96,2,    32.03,2,     0.00,2,     2.22,2,    0.016,2,    0.008,2, -999.000,1,-999.0000,1,  -999.00,9,   -999.0,1,-999.000,9,   -999.0,9,   -999.0,9,  -999.00,9,56112.1,-999.0000,-999.000,-999.000,  0.6051,-999.000