BOTTLE,20010911WHPSIOdm
EXPOCODE,SECT_ID,STNNBR,CASTNO,SAMPNO,BTLNBR,BTLNBR_FLAG_W,DATE,TIME,LATITUDE,LONGITUDE,DEPTH,CTDPRS,CTDTMP,CTDSAL,CTDSAL_FLAG_W,SALNTY,SALNTY_FLAG_W,CTDOXY,CTDOXY_FLAG_W,OXYGEN,OXYGEN_FLAG_W,SILCAT,SILCAT_FLAG_W,NITRAT,NITRAT_FLAG_W,NITRIT,NITRIT_FLAG_W,PHSPHT,PHSPHT_FLAG_W,CFC-11,CFC-11_FLAG_W,CFC-12,CFC-12_FLAG_W,TRITUM,TRITUM_FLAG_W,HELIUM,HELIUM_FLAG_W,DELHE3,DELHE3_FLAG_W,DELC14,DELC14_FLAG_W,NEON,NEON_FLAG_W,TCARBN,TCARBN_FLAG_W,ALKALI,ALKALI_FLAG_W,PH,PH_FLAG_W,CTDRAW,HELIER,DELHER,NEONER,THETA,TRITER
,,,,,,,,,,,,DBAR,ITS-90,PSS-78,,PSS-78,,UMOL/KG,,UMOL/KG,,UMOL/KG,,UMOL/KG,,UMOL/KG,,UMOL/KG,,PMOL/KG,,PMOL/KG,,TU,,UMOL/KG,,PERCNT,,/MILLE,,NMOL/KG,,UMOL/KG,,UMOL/KG,,,,,NMOL/KG,PERCNT,NMOL/KG,ITS-90,TU
   318MWESTW_4,  P21E,    45,  1,     36, SI9336,2,19940410,1311,-16.7500, -84.3388, 4869,      8.9,  23.6640,  35.8960,2,  35.8961,2,    220.6,2,    216.6,2,     0.62,2,     0.09,2,     0.03,2,     0.41,2,    1.925,2,    1.040,2, -999.000,1,-999.0000,1,  -999.00,9,   -999.0,1,-999.000,9,   2047.8,2,   2376.0,2,     8.05,2,  141.5,-999.0000,-999.000,-999.000, 23.6621,-999.000
   318MWESTW_4,  P21E,    45,  1,     35, SI9335,2,19940410,1311,-16.7500, -84.3388, 4869,     23.7,  23.6626,  35.8951,2,  35.8967,2,    217.3,2,    214.6,2,     0.62,2,     0.15,2,     0.03,2,     0.42,2,    1.923,2,    1.044,2, -999.000,1,-999.0000,1,  -999.00,9,   -999.0,1,-999.000,9,   2048.8,2,   2378.0,2,     8.05,2,  289.5,-999.0000,-999.000,-999.000, 23.6576,-999.000
   318MWESTW_4,  P21E,    45,  1,     34, SI9334,2,19940410,1311,-16.7500, -84.3388, 4869,     49.4,  19.8451,  35.4297,2,  35.4249,2,    242.0,2,    231.0,2,     1.38,2,     3.56,2,     0.24,2,     0.72,2,    2.440,2,    1.274,2, -999.000,1,-999.0000,1,  -999.00,9,   -999.0,1,-999.000,9,   2077.8,2,   2344.0,2,     7.97,2,  545.3,-999.0000,-999.000,-999.000, 19.8360,-999.000
   318MWESTW_4,  P21E,    45,  1,     33, SI9333,2,19940410,1311,-16.7500, -84.3388, 4869,     99.1,  17.3564,  35.2737,2,  35.2704,2,    194.8,2,    192.7,2,     3.43,2,    10.37,2,     0.07,2,     1.14,2,    2.460,2,    1.257,2, -999.000,1,-999.0000,1,  -999.00,9,   -999.0,1,-999.000,9,   2123.8,2,   2332.0,2,     7.85,2, 1040.3,-999.0000,-999.000,-999.000, 17.3398,-999.000
   318MWESTW_4,  P21E,    45,  1,     32, SI9332,2,19940410,1311,-16.7500, -84.3388, 4869,    148.0,  12.7814,  34.6078,2,  34.6130,3,     93.4,2,    122.1,3,     7.91,2,    16.14,2,     0.02,2,     1.58,2,    1.804,2,    0.856,2, -999.000,1,-999.0000,1,  -999.00,9,   -999.0,1,-999.000,9,   2154.9,2,   -999.0,9,     7.70,2, 1526.5,-999.0000,-999.000,-999.000, 12.7614,-999.000
   318MWESTW_4,  P21E,    45,  1,     31, SI9331,2,19940410,1311,-16.7500, -84.3388, 4869,    197.6,  12.4912,  34.8536,2,  34.8526,2,      2.2,2,      1.2,2,    26.33,2,    16.50,2,     3.08,2,     2.66,2,    0.322,2,    0.182,2, -999.000,1,-999.0000,1,  -999.00,9,   -999.0,1,-999.000,9,   2267.0,2,   2307.0,2,     7.44,2, 2020.8,-999.0000,-999.000,-999.000, 12.4648,-999.000
   318MWESTW_4,  P21E,    45,  1,     30, SI9330,2,19940410,1311,-16.7500, -84.3388, 4869,    251.4,  11.4810,  34.8024,2,  34.7997,2,      1.3,2,      0.7,2,    27.26,2,    24.50,2,     2.25,2,     2.66,2,    0.142,2,    0.074,2, -999.000,1,-999.0000,1,  -999.00,9,   -999.0,1,-999.000,9,   2271.0,2,   2305.0,2,     7.42,2, 2556.0,-999.0000,-999.000,-999.000, 11.4491,-999.000
   318MWESTW_4,  P21E,    45,  1,     29, SI9329,2,19940410,1311,-16.7500, -84.3388, 4869,    299.6,  10.5922,  34.7472,2,  34.7461,2,      0.9,2,      1.3,2,    28.94,2,    30.07,2,     0.85,2,     2.71,2,    0.072,2,    0.037,2, -999.000,1,-999.0000,1,  -999.00,9,   -999.0,1,-999.000,9,   2276.0,2,   2301.0,2,     7.40,2, 3035.4,-999.0000,-999.000,-999.000, 10.5561,-999.000
   318MWESTW_4,  P21E,    45,  1,     28, SI9328,2,19940410,1311,-16.7500, -84.3388, 4869,    399.6,   8.7999,  34.6363,2,  34.6335,2,      6.8,2,      7.9,2,    32.30,2,    38.25,2,     0.01,2,     2.83,2,    0.023,2,    0.005,2, -999.000,1,-999.0000,1,  -999.00,9,   -999.0,1,-999.000,9,   2281.0,2,   2302.0,2,     7.38,2, 4029.6,-999.0000,-999.000,-999.000,  8.7568,-999.000
   318MWESTW_4,  P21E,    45,  1,     26, SI9326,2,19940410,1311,-16.7500, -84.3388, 4869,    501.0,   7.5401,  34.5606,2,  34.5582,2,     26.3,2,     25.6,2,    35.66,2,    40.67,2,     0.00,2,     2.88,2,    0.019,2,    0.005,2, -999.000,1,-999.0000,1,  -999.00,9,   -999.0,1,-999.000,9,   2278.0,2,   2303.0,2,     7.39,2, 5038.1,-999.0000,-999.000,-999.000,  7.4904,-999.000
   318MWESTW_4,  P21E,    45,  1,     25, SI9325,2,19940410,1311,-16.7500, -84.3388, 4869,    601.7,   6.5159,  34.5167,2,  34.5162,2,     34.2,2,     35.1,2,    41.99,2,    42.17,2,     0.01,2,     2.97,2,    0.004,2,    0.001,2, -999.000,1,-999.0000,1,  -999.00,9,   -999.0,1,-999.000,9,   2284.0,2,   2306.0,2,     7.39,2, 6039.8,-999.0000,-999.000,-999.000,  6.4605,-999.000
   318MWESTW_4,  P21E,    45,  1,     24, SI9324,2,19940410,1311,-16.7500, -84.3388, 4869,    698.8,   5.7826,  34.5109,2,  34.5095,2,     33.7,2,     34.3,2,    52.96,2,    43.62,2,     0.01,2,     3.12,2,   -0.001,2,   -0.004,2, -999.000,1,-999.0000,1,  -999.00,9,   -999.0,1,-999.000,9,   2298.0,2,   2318.0,2,     7.38,2, 7005.1,-999.0000,-999.000,-999.000,  5.7217,-999.000
   318MWESTW_4,  P21E,    45,  1,     23, SI9323,2,19940410,1311,-16.7500, -84.3388, 4869,    800.5,   5.1913,  34.5081,2,  34.5064,2,     39.8,2,     42.2,2,    61.16,2,    43.70,2,     0.00,2,     3.11,2,   -0.002,2,   -0.004,2, -999.000,1,-999.0000,1,  -999.00,9,   -999.0,1,-999.000,9,   2304.0,2,   2325.0,2,     7.39,2, 8016.9,-999.0000,-999.000,-999.000,  5.1246,-999.000
   318MWESTW_4,  P21E,    45,  1,     22, SI9322,2,19940410,1311,-16.7500, -84.3388, 4869,    896.2,   4.7926,  34.5193,2,  34.5193,2,     46.3,2,     47.4,2,    70.09,2,    43.55,2,    -0.01,2,     3.14,2,   -0.002,2,   -0.004,2, -999.000,1,-999.0000,1,  -999.00,9,   -999.0,1,-999.000,9,   2312.0,2,   2337.0,2,     7.39,2, 8968.6,-999.0000,-999.000,-999.000,  4.7200,-999.000
   318MWESTW_4,  P21E,    45,  1,     21, SI9321,2,19940410,1311,-16.7500, -84.3388, 4869,    997.7,   4.3513,  34.5275,2,  34.5276,2,     55.5,2,     58.1,2,    78.27,2,    42.75,2,     0.00,2,     3.07,2, -999.000,9, -999.000,9, -999.000,1,-999.0000,1,  -999.00,9,   -999.0,1,-999.000,9,   2315.0,2,   2344.0,2,     7.42,2, 9977.5,-999.0000,-999.000,-999.000,  4.2731,-999.000
   318MWESTW_4,  P21E,    45,  1,     20, SI9320,2,19940410,1311,-16.7500, -84.3388, 4869,   1097.1,   3.9927,  34.5373,2,  34.5368,2,     67.0,2,     69.6,2,    84.41,2,    41.95,2,     0.00,2,     2.99,2, -999.000,9, -999.000,9, -999.000,1,-999.0000,1,  -999.00,9,   -999.0,1,-999.000,9,   2316.0,2,   2354.0,2,     7.43,2,10965.8,-999.0000,-999.000,-999.000,  3.9089,-999.000
   318MWESTW_4,  P21E,    45,  1,     19, SI9319,2,19940410,1311,-16.7500, -84.3388, 4869,   1195.5,   3.6438,  34.5525,2,  34.5521,2,     80.0,2,     78.6,2,    91.86,2,    41.37,2,     0.00,2,     2.95,2, -999.000,9, -999.000,9, -999.000,1,-999.0000,1,  -999.00,9,   -999.0,1,-999.000,9,   2320.0,2,   2361.0,2,     7.45,2,11944.0,-999.0000,-999.000,-999.000,  3.5548,-999.000
   318MWESTW_4,  P21E,    45,  1,     18, SI9318,2,19940410,1311,-16.7500, -84.3388, 4869,   1305.1,   3.3423,  34.5707,2,  34.5734,3,     82.6,2,     82.6,2,   100.41,2,    41.16,2,    -0.01,2,     2.93,2, -999.000,9, -999.000,9, -999.000,1,-999.0000,1,  -999.00,9,   -999.0,1,-999.000,9,   2327.0,2,   2373.0,2,     7.46,2,13033.6,-999.0000,-999.000,-999.000,  3.2470,-999.000
   318MWESTW_4,  P21E,    45,  1,     17, SI9317,2,19940410,1311,-16.7500, -84.3388, 4869,   1398.0,   3.1104,  34.5820,2,  34.5826,2,     88.5,2,     89.7,2,   105.25,2,    40.41,2,     0.00,2,     2.89,2, -999.000,9, -999.000,9, -999.000,1,-999.0000,1,  -999.00,9,   -999.0,1,-999.000,9,   2327.0,2,   2377.0,2,     7.48,2,13957.5,-999.0000,-999.000,-999.000,  3.0098,-999.000
   318MWESTW_4,  P21E,    45,  1,     16, SI9316,2,19940410,1311,-16.7500, -84.3388, 4869,   1496.2,   2.9159,  34.5973,2,  34.5975,2,     91.6,2,     90.8,2,   112.13,2,    40.09,2,     0.01,2,     2.88,2, -999.000,9, -999.000,9, -999.000,1,-999.0000,1,  -999.00,9,   -999.0,1,-999.000,9,   2334.0,2,   2383.0,2,     7.47,2,14933.6,-999.0000,-999.000,-999.000,  2.8093,-999.000
   318MWESTW_4,  P21E,    45,  1,     15, SI9315,2,19940410,1311,-16.7500, -84.3388, 4869,   1597.4,   2.7435,  34.6069,2,  34.6075,2,     96.5,2,     96.5,2,   116.21,2,    39.51,2,     0.00,2,     2.84,2, -999.000,9, -999.000,9, -999.000,1,-999.0000,1,  -999.00,9,   -999.0,1,-999.000,9,   2333.0,2,   2389.0,2,     7.49,2,15940.6,-999.0000,-999.000,-999.000,  2.6305,-999.000
   318MWESTW_4,  P21E,    45,  1,     14, SI9314,2,19940410,1311,-16.7500, -84.3388, 4869,   1797.0,   2.4571,  34.6252,2,  34.6260,2,    107.2,2,    107.1,2,   122.35,2,    38.50,2,     0.00,2,     2.77,2, -999.000,9, -999.000,9, -999.000,1,-999.0000,1,  -999.00,9,   -999.0,1,-999.000,9,   2335.0,2,   2397.0,2,     7.49,2,17924.4,-999.0000,-999.000,-999.000,  2.3311,-999.000
   318MWESTW_4,  P21E,    45,  1,     13, SI9313,2,19940410,1311,-16.7500, -84.3388, 4869,   1998.5,   2.2277,  34.6411,2,  34.6409,2,    118.6,2,    118.7,2,   125.89,2,    37.59,2,     0.00,2,     2.68,2, -999.000,9, -999.000,9, -999.000,1,-999.0000,1,  -999.00,9,   -999.0,1,-999.000,9,   2332.0,2,   2403.0,2,     7.53,2,19927.7,-999.0000,-999.000,-999.000,  2.0879,-999.000
   318MWESTW_4,  P21E,    45,  1,     12, SI9312,2,19940410,1311,-16.7500, -84.3388, 4869,   2199.6,   2.0342,  34.6544,2,  34.6563,2,    131.7,2,    132.1,2,   125.51,2,    36.70,2,    -0.01,2,     2.57,2, -999.000,9, -999.000,9, -999.000,1,-999.0000,1,  -999.00,9,   -999.0,1,-999.000,9,   2325.0,2,   2402.0,2,     7.54,2,21926.7,-999.0000,-999.000,-999.000,  1.8801,-999.000
   318MWESTW_4,  P21E,    45,  1,     11, SI9311,2,19940410,1311,-16.7500, -84.3388, 4869,   2386.0,   1.9234,  34.6641,2,  34.6647,2,    139.2,2,    139.2,2,   126.63,2,    36.38,2,     0.00,2,     2.54,2, -999.000,9, -999.000,9, -999.000,1,-999.0000,1,  -999.00,9,   -999.0,1,-999.000,9,   2323.0,2,   2407.0,2,     7.56,2,23780.7,-999.0000,-999.000,-999.000,  1.7547,-999.000
   318MWESTW_4,  P21E,    45,  1,     10, SI9310,2,19940410,1311,-16.7500, -84.3388, 4869,   2643.6,   1.8392,  34.6731,2,  34.6753,2,    135.9,2,    136.9,2,   133.14,2,    36.66,2,    -0.01,2,     2.55,2, -999.000,9, -999.000,9, -999.000,1,-999.0000,1,  -999.00,9,   -999.0,1,-999.000,9,   2331.0,2,   2415.0,2,     7.56,2,26341.1,-999.0000,-999.000,-999.000,  1.6487,-999.000
   318MWESTW_4,  P21E,    45,  1,      9, SI9309,2,19940410,1311,-16.7500, -84.3388, 4869,   2899.5,   1.8050,  34.6774,2,  34.6773,2,    133.6,2,    135.6,2,   137.97,2,    36.83,2,    -0.01,2,     2.56,2, -999.000,9, -999.000,9, -999.000,1,-999.0000,1,  -999.00,9,   -999.0,1,-999.000,9,   2338.0,2,   2423.0,2,     7.56,2,28885.3,-999.0000,-999.000,-999.000,  1.5912,-999.000
   318MWESTW_4,  P21E,    45,  1,      8, SI9308,2,19940410,1311,-16.7500, -84.3388, 4869,   3254.7,   1.7961,  34.6808,2,  34.6844,3,    137.6,2,    138.6,2,   137.97,2,    36.40,2,    -0.01,2,     2.55,2, -999.000,9, -999.000,9, -999.000,1,-999.0000,1,  -999.00,9,   -999.0,1,-999.000,9,   2337.0,2,   2423.0,2,     7.57,2,32416.6,-999.0000,-999.000,-999.000,  1.5476,-999.000
   318MWESTW_4,  P21E,    45,  1,     27, SI9327,2,19940410,1311,-16.7500, -84.3388, 4869,   3401.2,   1.7957,  34.6820,2,  34.6791,3,    138.5,2,    139.7,2,   137.42,2,    36.19,2,    -0.01,2,     2.54,2,   -0.002,2,   -0.003,2, -999.000,1,-999.0000,1,  -999.00,9,   -999.0,1,-999.000,9,   2334.0,2,   2424.0,2,     7.57,2,33873.1,-999.0000,-999.000,-999.000,  1.5323,-999.000
   318MWESTW_4,  P21E,    45,  1,      7, SI9307,2,19940410,1311,-16.7500, -84.3388, 4869,   3653.5,   1.7935,  34.6842,2,  34.6846,2,    142.0,2,    142.8,2,   135.93,2,    35.77,2,    -0.01,2,     2.52,2, -999.000,9, -999.000,9, -999.000,1,-999.0000,1,  -999.00,9,   -999.0,1,-999.000,9,   2333.0,2,   -999.0,9,     7.58,2,36381.5,-999.0000,-999.000,-999.000,  1.5039,-999.000
   318MWESTW_4,  P21E,    45,  1,      6, SI9306,2,19940410,1311,-16.7500, -84.3388, 4869,   3896.9,   1.7812,  34.6872,2,  34.6879,2,    147.3,2,    146.7,2,   131.84,2,    35.29,2,    -0.01,2,     2.47,2, -999.000,9, -999.000,9, -999.000,1,-999.0000,1,  -999.00,9,   -999.0,1,-999.000,9,   2326.0,2,   2415.0,2,     7.58,2,38800.8,-999.0000,-999.000,-999.000,  1.4657,-999.000
   318MWESTW_4,  P21E,    45,  1,      5, SI9305,2,19940410,1311,-16.7500, -84.3388, 4869,   4141.1,   1.7783,  34.6887,2,  34.6895,2,    152.0,2,    153.2,2,   129.06,2,    35.20,2,    -0.01,2,     2.45,2, -999.000,9, -999.000,9, -999.000,1,-999.0000,1,  -999.00,9,   -999.0,1,-999.000,9,   2322.0,2,   2412.0,2,     7.58,2,41228.4,-999.0000,-999.000,-999.000,  1.4358,-999.000
   318MWESTW_4,  P21E,    45,  1,      4, SI9304,2,19940410,1311,-16.7500, -84.3388, 4869,   4395.7,   1.7889,  34.6901,2,  34.6895,2,    152.9,2,    153.7,2,   128.50,2,    35.19,2,     0.00,2,     2.45,2, -999.000,9, -999.000,9, -999.000,1,-999.0000,1,  -999.00,9,   -999.0,1,-999.000,9,   2321.0,2,   2413.0,2,     7.58,2,43759.6,-999.0000,-999.000,-999.000,  1.4171,-999.000
   318MWESTW_4,  P21E,    45,  1,      3, SI9303,2,19940410,1311,-16.7500, -84.3388, 4869,   4645.5,   1.8155,  34.6909,2,  34.6905,2,    152.4,2,    153.7,2,   128.32,2,    35.30,2,     0.00,2,     2.44,2, -999.000,9, -999.000,9, -999.000,1,-999.0000,1,  -999.00,9,   -999.0,1,-999.000,9,   2321.0,2,   2411.0,2,     7.58,2,46243.0,-999.0000,-999.000,-999.000,  1.4135,-999.000
   318MWESTW_4,  P21E,    45,  1,      2, SI9302,2,19940410,1311,-16.7500, -84.3388, 4869,   4896.5,   1.8471,  34.6907,2,  34.6903,2,    153.3,2,    153.6,2,   128.51,2,    35.30,2,     0.00,2,     2.44,2, -999.000,9, -999.000,9, -999.000,1,-999.0000,1,  -999.00,9,   -999.0,1,-999.000,9,   2322.0,2,   2413.0,2,     7.58,2,48738.4,-999.0000,-999.000,-999.000,  1.4139,-999.000
   318MWESTW_4,  P21E,    45,  1,      1, SI9301,2,19940410,1311,-16.7500, -84.3388, 4869,   4928.6,   1.8511,  34.6906,2,  34.6922,2,    152.8,2,    153.9,2,   128.47,2,    34.97,2,     0.00,2,     2.45,2, -999.000,9, -999.000,9, -999.000,1,-999.0000,1,  -999.00,9,   -999.0,1,-999.000,9,   2321.0,2,   2411.0,2,     7.58,2,49057.5,-999.0000,-999.000,-999.000,  1.4138,-999.000