BOTTLE,20010911WHPSIOdm
EXPOCODE,SECT_ID,STNNBR,CASTNO,SAMPNO,BTLNBR,BTLNBR_FLAG_W,DATE,TIME,LATITUDE,LONGITUDE,DEPTH,CTDPRS,CTDTMP,CTDSAL,CTDSAL_FLAG_W,SALNTY,SALNTY_FLAG_W,CTDOXY,CTDOXY_FLAG_W,OXYGEN,OXYGEN_FLAG_W,SILCAT,SILCAT_FLAG_W,NITRAT,NITRAT_FLAG_W,NITRIT,NITRIT_FLAG_W,PHSPHT,PHSPHT_FLAG_W,CFC-11,CFC-11_FLAG_W,CFC-12,CFC-12_FLAG_W,TRITUM,TRITUM_FLAG_W,HELIUM,HELIUM_FLAG_W,DELHE3,DELHE3_FLAG_W,DELC14,DELC14_FLAG_W,NEON,NEON_FLAG_W,TCARBN,TCARBN_FLAG_W,ALKALI,ALKALI_FLAG_W,PH,PH_FLAG_W,CTDRAW,HELIER,DELHER,NEONER,THETA,TRITER
,,,,,,,,,,,,DBAR,ITS-90,PSS-78,,PSS-78,,UMOL/KG,,UMOL/KG,,UMOL/KG,,UMOL/KG,,UMOL/KG,,UMOL/KG,,PMOL/KG,,PMOL/KG,,TU,,UMOL/KG,,PERCNT,,/MILLE,,NMOL/KG,,UMOL/KG,,UMOL/KG,,,,,NMOL/KG,PERCNT,NMOL/KG,ITS-90,TU
   318MWESTW_5,  P21W,   282,  1,     36, SI9442,2,19940619,2310,-24.5388, 154.9583, 4380,      7.0,  24.0754,  35.1140,2,  35.1142,2,    221.7,2,    209.2,2,     0.94,2,     0.03,2,     0.02,2,     0.13,2,    1.840,2,    1.027,2, -999.000,1,   1.7009,2,    -1.23,2,   -999.0,1,   6.763,2,   1953.1,2,   2296.6,2,     8.10,2,  128.9,  0.0085,   0.080,   0.034, 24.0739,-999.000
   318MWESTW_5,  P21W,   282,  1,     35, SI9435,2,19940619,2310,-24.5388, 154.9583, 4380,     27.0,  24.0706,  35.1127,2,  35.1146,2,    214.7,2,    209.0,2,     0.94,2,    -0.01,2,     0.01,2,     0.12,2, -999.000,9, -999.000,9, -999.000,1,-999.0000,1,  -999.00,9,   -999.0,1,-999.000,9,   1953.1,2,   2296.2,2,     8.10,2,  328.5,-999.0000,-999.000,-999.000, 24.0649,-999.000
   318MWESTW_5,  P21W,   282,  1,     34, SI9441,2,19940619,2310,-24.5388, 154.9583, 4380,     47.5,  24.1473,  35.2494,2,  35.2493,2,    206.0,2,    207.2,2,     0.80,2,    -0.01,2,     0.01,2,     0.12,2,    1.837,2,    1.020,2, -999.000,1,   1.7039,2,    -1.42,2,   -999.0,1,   6.758,2,   1961.9,2,   2315.0,2,     8.09,2,  532.0,  0.0085,   0.080,   0.034, 24.1373,-999.000
   318MWESTW_5,  P21W,   282,  1,     33, SI9433,2,19940619,2310,-24.5388, 154.9583, 4380,     98.3,  23.8213,  35.5934,2,  35.5924,2,    204.3,2,    207.6,2,     0.66,2,    -0.02,2,     0.02,2,     0.11,2,    1.903,2,    1.041,2, -999.000,1,   1.7119,2,    -1.47,2,   -999.0,1,   6.778,2,   1986.1,2,   2333.9,2,     8.08,2, 1038.1,  0.0086,   0.080,   0.034, 23.8007,-999.000
   318MWESTW_5,  P21W,   282,  1,     32, SI9432,2,19940619,2310,-24.5388, 154.9583, 4380,    149.3,  23.6958,  35.6145,2,  35.6269,2,    203.6,2,    205.2,2,     0.81,2,     0.12,2,     0.07,2,     0.12,2,    1.904,2,    1.047,2, -999.000,1,   1.7100,2,    -1.14,2,   -999.0,1,   6.770,2,   1996.5,2,   2336.1,2,     8.08,2, 1545.7,  0.0085,   0.080,   0.034, 23.6646,-999.000
   318MWESTW_5,  P21W,   282,  1,     31, SI9431,2,19940619,2310,-24.5388, 154.9583, 4380,    199.9,  21.9763,  35.7338,2,  35.7331,2,    180.4,2,    183.5,2,     1.25,2,     2.85,2,     0.03,2,     0.33,2,    1.937,2,    1.055,2, -999.000,1,   1.7354,2,    -0.28,2,   -999.0,1,   6.996,2,   2031.6,2,   2340.0,2,     8.02,2, 2049.7,  0.0087,   0.080,   0.035, 21.9366,-999.000
   318MWESTW_5,  P21W,   282,  1,     30, SI9440,2,19940619,2310,-24.5388, 154.9583, 4380,    251.2,  20.4351,  35.6846,2,  35.6776,2,    167.4,2,    167.1,2,     1.83,2,     5.80,2,     0.03,2,     0.53,2,    1.848,2,    0.988,2, -999.000,1,   1.7165,2,     0.34,2,   -999.0,1,   6.940,2,   2059.8,2,   2336.1,2,     7.96,2, 2560.5,  0.0086,   0.080,   0.035, 20.3877,-999.000
   318MWESTW_5,  P21W,   282,  1,     29, SI9429,2,19940619,2310,-24.5388, 154.9583, 4380,    301.0,  18.5177,  35.5518,2,  35.5531,2,    160.0,2,    161.9,2,     2.70,2,     7.95,2,     0.03,2,     0.67,2,    1.727,2,    0.901,2, -999.000,1,   1.7505,2,     0.89,2,   -999.0,1,   7.139,2,   2078.1,2,   2342.5,2,     7.92,2, 3056.5,  0.0088,   0.080,   0.036, 18.4647,-999.000
   318MWESTW_5,  P21W,   282,  1,     28, SI9428,2,19940619,2310,-24.5388, 154.9583, 4380,    346.8,  17.3471,  35.4782,2,  35.4780,2,    169.0,2,    171.2,2,     2.84,2,     8.09,2,     0.02,2,     0.67,2,    1.760,2,    0.917,2, -999.000,1,-999.0000,1,  -999.00,9,   -999.0,1,-999.000,9,   2078.7,2,   2332.5,2,     7.91,2, 3512.7,-999.0000,-999.000,-999.000, 17.2887,-999.000
   318MWESTW_5,  P21W,   282,  1,     27, SI9424,2,19940619,2310,-24.5388, 154.9583, 4380,    385.2,  16.2863,  35.3959,2,  35.3884,2,    172.0,2,    173.7,2,     3.42,2,     9.24,2,     0.00,2,     0.75,2,    1.721,2,    0.887,2, -999.000,1,   1.7628,2,     0.66,2,   -999.0,1,   7.253,2,   2086.2,2,   2332.7,2,     7.89,2, 3894.9,  0.0088,   0.080,   0.036, 16.2241,-999.000
   318MWESTW_5,  P21W,   282,  1,     26, SI9414,2,19940619,2310,-24.5388, 154.9583, 4380,    493.0,  12.9444,  35.0939,2,  35.0746,2,    177.6,2,    179.3,2,     6.01,2,    14.25,2,     0.01,2,     1.06,2,    1.432,2,    0.728,2, -999.000,1,   1.7515,2,     1.17,2,   -999.0,1,   7.313,2,   2112.7,2,   2307.6,2,  -999.00,9, 4967.0,  0.0088,   0.080,   0.037, 12.8760,-999.000
   318MWESTW_5,  P21W,   282,  1,     25, SI9425,2,19940619,2310,-24.5388, 154.9583, 4380,    596.5,   9.6384,  34.7390,2,  34.7351,2,    185.4,2,    185.9,2,    10.89,2,    20.24,2,     0.00,2,     1.43,2,    0.902,2,    0.458,2, -999.000,1,   1.7583,2,     2.08,2,   -999.0,1,   7.453,2,   2136.4,2,   2294.2,2,  -999.00,9, 5996.5,  0.0088,   0.080,   0.037,  9.5696,-999.000
   318MWESTW_5,  P21W,   282,  1,     24, SI9434,2,19940619,2310,-24.5388, 154.9583, 4380,    693.6,   7.7094,  34.5547,2,  34.5523,2,    192.0,2,    191.7,2,    15.78,2,    23.94,2,     0.01,2,     1.66,2,    0.527,2,    0.266,2, -999.000,1,   1.7743,2,     2.57,2,   -999.0,1,   7.598,2,   2155.9,2,   2300.5,2,     7.69,2, 6962.2,  0.0089,   0.080,   0.038,  7.6389,-999.000
   318MWESTW_5,  P21W,   282,  1,     23, SI9423,2,19940619,2310,-24.5388, 154.9583, 4380,    795.5,   6.8065,  34.4941,2,  34.4921,2,    191.1,2,    191.2,2,    21.38,2,    26.04,2,     0.01,2,     1.80,2,    0.340,2,    0.174,2, -999.000,1,-999.0000,1,  -999.00,9,   -999.0,1,-999.000,9,   2165.5,2,   2304.7,2,     7.67,2, 7975.5,-999.0000,-999.000,-999.000,  6.7305,-999.000
   318MWESTW_5,  P21W,   282,  1,     22, SI9418,2,19940619,2310,-24.5388, 154.9583, 4380,    898.1,   5.9145,  34.4632,2,  34.4610,2,    187.6,2,    186.9,2,    30.57,2,    28.32,2,     0.01,2,     1.96,2,    0.175,2,    0.092,2, -999.000,1,   1.8093,2,     5.43,2,   -999.0,1,   7.749,2,   2183.8,2,   2310.7,2,     7.64,2, 8995.2,  0.0090,   0.090,   0.039,  5.8342,-999.000
   318MWESTW_5,  P21W,   282,  1,     21, SI9421,2,19940619,2310,-24.5388, 154.9583, 4380,   1000.7,   5.2733,  34.4600,2,  34.4603,2,    182.9,2,    181.2,2,    39.90,2,    29.88,2,     0.01,2,     2.06,2,    0.107,2,    0.059,2, -999.000,1,-999.0000,1,  -999.00,9,   -999.0,1,-999.000,9,   2198.8,2,   2314.7,2,     7.62,2,10015.3,-999.0000,-999.000,-999.000,  5.1879,-999.000
   318MWESTW_5,  P21W,   282,  1,     20, SI9420,2,19940619,2310,-24.5388, 154.9583, 4380,   1102.0,   4.5965,  34.4782,2,  34.4779,2,    174.8,2,    171.6,2,    53.09,2,    31.58,2,     0.00,2,     2.20,2,    0.047,2,    0.025,2, -999.000,1,-999.0000,1,  -999.00,9,   -999.0,1,-999.000,9,   2220.2,2,   2335.7,2,     7.60,2,11022.3,-999.0000,-999.000,-999.000,  4.5073,-999.000
   318MWESTW_5,  P21W,   282,  1,     19, SI9419,2,19940619,2310,-24.5388, 154.9583, 4380,   1200.3,   4.0937,  34.5049,2,  34.5052,2,    165.4,2,    164.9,2,    64.71,2,    32.58,2,     0.01,2,     2.27,2,    0.021,2,    0.009,2, -999.000,1,   1.8705,2,    11.05,2,   -999.0,1,   7.862,2,   2237.9,2,   2339.4,2,     7.58,2,12000.2,  0.0094,   0.090,   0.039,  4.0002,-999.000
   318MWESTW_5,  P21W,   282,  1,     18, SI9439,2,19940619,2310,-24.5388, 154.9583, 4380,   1305.0,   3.7331,  34.5271,2,  34.5268,2,    158.7,2,    159.2,2,    74.32,2,    33.48,2,     0.00,2,     2.33,2,    0.009,2,    0.005,2, -999.000,1,-999.0000,1,  -999.00,9,   -999.0,1,-999.000,9,   2251.9,2,   2348.2,2,     7.57,2,13041.4,-999.0000,-999.000,-999.000,  3.6340,-999.000
   318MWESTW_5,  P21W,   282,  1,     17, SI9417,2,19940619,2310,-24.5388, 154.9583, 4380,   1398.5,   3.4500,  34.5496,2,  34.5492,2,    155.4,2,    153.4,2,    82.49,2,    34.14,2,     0.01,2,     2.38,2, -999.000,9, -999.000,9, -999.000,1,   1.8573,2,    17.39,2,   -999.0,1,   7.905,2,   2261.5,2,   2359.1,2,     7.57,2,13970.2,  0.0093,   0.100,   0.040,  3.3458,-999.000
   318MWESTW_5,  P21W,   282,  1,     16, SI9416,2,19940619,2310,-24.5388, 154.9583, 4380,   1601.0,   2.9454,  34.5931,2,  34.5932,2,    148.8,2,    148.2,2,    95.82,2,    34.92,2,     0.00,2,     2.43,2,    0.000,2,    0.000,2, -999.000,1,   1.8702,2,    19.62,2,   -999.0,1,   7.932,2,   2280.4,2,   2369.9,2,     7.55,2,15983.7,  0.0094,   0.100,   0.040,  2.8297,-999.000
   318MWESTW_5,  P21W,   282,  1,     15, SI9415,2,19940619,2310,-24.5388, 154.9583, 4380,   1794.4,   2.5896,  34.6276,2,  34.6282,2,    150.4,2,    151.0,2,   101.26,2,    34.81,2,     0.02,2,     2.42,2,    0.000,2,   -0.001,2, -999.000,1,-999.0000,1,  -999.00,9,   -999.0,1,-999.000,9,   -999.0,9,   -999.0,9,  -999.00,9,17906.3,-999.0000,-999.000,-999.000,  2.4620,-999.000
   318MWESTW_5,  P21W,   282,  1,     14, SI9436,2,19940619,2310,-24.5388, 154.9583, 4380,   1998.1,   2.3407,  34.6605,2,  34.6602,2,    160.8,2,    160.5,2,    99.26,2,    34.03,2,     0.00,2,     2.37,2,    0.000,2,    0.000,2, -999.000,1,-999.0000,1,  -999.00,9,   -999.0,1,-999.000,9,   2277.5,2,   2370.0,2,     7.56,2,19932.3,-999.0000,-999.000,-999.000,  2.1992,-999.000
   318MWESTW_5,  P21W,   282,  1,     13, SI9413,2,19940619,2310,-24.5388, 154.9583, 4380,   2198.3,   2.1325,  34.6909,2,  34.6912,2,    171.9,2,    174.8,2,    96.67,2,    32.90,2,     0.00,2,     2.29,2, -999.000,9, -999.000,9, -999.000,1,-999.0000,1,  -999.00,9,   -999.0,1,-999.000,9,   2269.3,2,   2367.9,2,     7.58,2,21922.1,-999.0000,-999.000,-999.000,  1.9767,-999.000
   318MWESTW_5,  P21W,   282,  1,     12, SI9438,2,19940619,2310,-24.5388, 154.9583, 4380,   2395.2,   1.9913,  34.7149,2,  34.7138,2,    179.5,2,    180.1,2,    95.66,2,    32.06,2,     0.00,2,     2.22,2, -999.000,9, -999.000,9, -999.000,1,-999.0000,1,  -999.00,9,   -999.0,1,-999.000,9,   2259.6,2,   2364.9,2,     7.58,2,23879.4,-999.0000,-999.000,-999.000,  1.8204,-999.000
   318MWESTW_5,  P21W,   282,  1,     11, SI9411,2,19940619,2310,-24.5388, 154.9583, 4380,   2595.6,   1.7848,  34.7217,2,  34.7201,2,    184.8,2,    184.7,2,   100.67,2,    31.89,2,     0.00,2,     2.20,2,   -0.001,2,   -0.001,2, -999.000,1,-999.0000,1,  -999.00,9,   -999.0,1,-999.000,9,   2264.1,2,   2362.6,2,  -999.00,2,25872.5,-999.0000,-999.000,-999.000,  1.5996,-999.000
   318MWESTW_5,  P21W,   282,  1,     10, SI9412,2,19940619,2310,-24.5388, 154.9583, 4380,   2797.0,   1.6268,  34.7248,2,  34.7241,2,    188.1,2,    194.5,4,   104.54,2,    31.89,2,     0.00,2,     2.19,2, -999.000,9, -999.000,9, -999.000,1,-999.0000,1,  -999.00,9,   -999.0,1,-999.000,9,   2264.5,2,   2370.1,2,     7.59,2,27874.7,-999.0000,-999.000,-999.000,  1.4262,-999.000
   318MWESTW_5,  P21W,   282,  1,      9, SI9410,2,19940619,2310,-24.5388, 154.9583, 4380,   2990.6,   1.4633,  34.7245,2,  34.7243,2,    191.0,2,    191.3,2,   108.12,2,    31.98,2,     0.00,2,     2.21,2, -999.000,9, -999.000,9, -999.000,1,-999.0000,1,  -999.00,9,   -999.0,1,-999.000,9,   2266.1,2,   2374.4,2,     7.60,2,29798.8,-999.0000,-999.000,-999.000,  1.2480,-999.000
   318MWESTW_5,  P21W,   282,  1,      8, SI9422,2,19940619,2310,-24.5388, 154.9583, 4380,   3195.7,   1.3053,  34.7206,2,  34.7207,2,    192.7,2,    193.6,2,   112.56,2,    32.20,2,     0.00,2,     2.22,2,    0.001,2,    0.000,2, -999.000,1,-999.0000,1,  -999.00,9,   -999.0,1,-999.000,9,   2270.8,2,   2379.8,2,     7.60,2,31838.6,-999.0000,-999.000,-999.000,  1.0739,-999.000
   318MWESTW_5,  P21W,   282,  1,      7, SI9407,2,19940619,2310,-24.5388, 154.9583, 4380,   3389.5,   1.2309,  34.7186,2,  34.7190,2,    194.1,2,    194.4,2,   114.71,2,    32.28,2,     0.00,2,     2.23,2, -999.000,9, -999.000,9, -999.000,1,-999.0000,1,  -999.00,9,   -999.0,1,-999.000,9,   2272.2,2,   2378.4,2,     7.60,2,33764.4,-999.0000,-999.000,-999.000,  0.9824,-999.000
   318MWESTW_5,  P21W,   282,  1,      6, SI9427,2,19940619,2310,-24.5388, 154.9583, 4380,   3594.2,   1.1737,  34.7170,2,  34.7172,2,    194.6,2,    199.4,4,   116.85,2,    32.37,2,     0.00,2,     2.24,2, -999.000,9, -999.000,9, -999.000,1,-999.0000,1,  -999.00,9,   -999.0,1,-999.000,9,   2270.0,2,   2381.6,2,     7.60,2,35800.2,-999.0000,-999.000,-999.000,  0.9061,-999.000
   318MWESTW_5,  P21W,   282,  1,      5, SI9405,2,19940619,2310,-24.5388, 154.9583, 4380,   3795.4,   1.1459,  34.7157,2,  34.7156,2,    196.5,2,    195.9,2,   117.71,2,    32.33,2,     0.00,2,     2.24,2,    0.001,2,    0.002,2, -999.000,1,-999.0000,1,  -999.00,9,   -999.0,1,-999.000,9,   2270.8,2,   2385.8,2,  -999.00,9,37800.3,-999.0000,-999.000,-999.000,  0.8584,-999.000
   318MWESTW_5,  P21W,   282,  1,      4, SI9404,2,19940619,2310,-24.5388, 154.9583, 4380,   3994.0,   1.1416,  34.7158,2,  34.7146,2,    197.4,2,    199.9,4,   117.99,2,    32.29,2,     0.00,2,     2.24,2, -999.000,9, -999.000,9, -999.000,1,-999.0000,1,  -999.00,9,   -999.0,1,-999.000,9,   2271.6,2,   2382.2,2,     7.60,2,39774.2,-999.0000,-999.000,-999.000,  0.8333,-999.000
   318MWESTW_5,  P21W,   282,  1,      3, SI9403,2,19940619,2310,-24.5388, 154.9583, 4380,   4196.9,   1.1422,  34.7153,2,  34.7152,2,    197.5,2,    197.3,2,   118.69,2,    32.34,2,     0.00,2,     2.23,2,    0.002,6,    0.002,6, -999.000,1,-999.0000,1,  -999.00,9,   -999.0,1,-999.000,9,   2272.7,2,   2385.3,2,     7.60,2,41791.3,-999.0000,-999.000,-999.000,  0.8119,-999.000
   318MWESTW_5,  P21W,   282,  1,      2, SI9437,2,19940619,2310,-24.5388, 154.9583, 4380,   4403.8,   1.1498,  34.7148,2,  34.7138,2,    196.7,2,    196.8,2,   119.12,2,    32.34,2,     0.00,2,     2.23,2, -999.000,9, -999.000,9, -999.000,1,-999.0000,1,  -999.00,9,   -999.0,1,-999.000,9,   2271.7,2,   2383.2,2,     7.60,2,43848.2,-999.0000,-999.000,-999.000,  0.7964,-999.000
   318MWESTW_5,  P21W,   282,  1,      1, SI9401,2,19940619,2310,-24.5388, 154.9583, 4380,   4440.1,   1.1530,  34.7139,2,  34.7138,2,    196.7,2,    202.0,4,   118.97,2,    32.40,2,     0.01,2,     2.23,2,    0.004,2,    0.003,2, -999.000,1,-999.0000,1,  -999.00,9,   -999.0,1,-999.000,9,   2273.6,2,   2387.3,2,     7.60,2,44209.7,-999.0000,-999.000,-999.000,  0.7954,-999.000