BOTTLE,20010911WHPSIOdm
EXPOCODE,SECT_ID,STNNBR,CASTNO,SAMPNO,BTLNBR,BTLNBR_FLAG_W,DATE,TIME,LATITUDE,LONGITUDE,DEPTH,CTDPRS,CTDTMP,CTDSAL,CTDSAL_FLAG_W,SALNTY,SALNTY_FLAG_W,CTDOXY,CTDOXY_FLAG_W,OXYGEN,OXYGEN_FLAG_W,SILCAT,SILCAT_FLAG_W,NITRAT,NITRAT_FLAG_W,NITRIT,NITRIT_FLAG_W,PHSPHT,PHSPHT_FLAG_W,CFC-11,CFC-11_FLAG_W,CFC-12,CFC-12_FLAG_W,TRITUM,TRITUM_FLAG_W,HELIUM,HELIUM_FLAG_W,DELHE3,DELHE3_FLAG_W,DELC14,DELC14_FLAG_W,NEON,NEON_FLAG_W,TCARBN,TCARBN_FLAG_W,ALKALI,ALKALI_FLAG_W,PH,PH_FLAG_W,CTDRAW,HELIER,DELHER,NEONER,THETA,TRITER
,,,,,,,,,,,,DBAR,ITS-90,PSS-78,,PSS-78,,UMOL/KG,,UMOL/KG,,UMOL/KG,,UMOL/KG,,UMOL/KG,,UMOL/KG,,PMOL/KG,,PMOL/KG,,TU,,UMOL/KG,,PERCNT,,/MILLE,,NMOL/KG,,UMOL/KG,,UMOL/KG,,,,,NMOL/KG,PERCNT,NMOL/KG,ITS-90,TU
   318MWESTW_5,  P21W,   237,  1,     25, SI9425,2,19940610,0606,-17.9500, 169.0805, 2000,     10.0,  25.5704,  35.0616,2,  35.0604,2,    214.6,2,    207.1,2,     0.90,2,     0.08,2,     0.01,2,     0.17,2,    1.752,2,    0.991,2, -999.000,1,-999.0000,1,  -999.00,9,   -999.0,1,-999.000,9,   -999.0,9,   -999.0,9,  -999.00,9,  159.6,-999.0000,-999.000,-999.000, 25.5682,-999.000
   318MWESTW_5,  P21W,   237,  1,     24, SI9434,2,19940610,0606,-17.9500, 169.0805, 2000,     25.3,  25.5592,  35.0639,2,  35.0610,2,    209.8,2,    206.8,2,     0.91,2,     0.09,2,     0.00,2,     0.16,2, -999.000,9, -999.000,9, -999.000,1,-999.0000,1,  -999.00,9,   -999.0,1,-999.000,9,   -999.0,9,   -999.0,9,  -999.00,9,  311.8,-999.0000,-999.000,-999.000, 25.5536,-999.000
   318MWESTW_5,  P21W,   237,  1,     23, SI9423,2,19940610,0606,-17.9500, 169.0805, 2000,     51.5,  25.5226,  35.0648,2,  35.0632,2,    207.3,2,    202.7,2,     0.91,2,     0.03,2,     0.01,2,     0.15,2, -999.000,9, -999.000,9, -999.000,1,-999.0000,1,  -999.00,9,   -999.0,1,-999.000,9,   -999.0,9,   -999.0,9,  -999.00,9,  573.3,-999.0000,-999.000,-999.000, 25.5113,-999.000
   318MWESTW_5,  P21W,   237,  1,     22, SI9418,2,19940610,0606,-17.9500, 169.0805, 2000,    101.5,  24.3281,  35.5044,2,  35.5150,2,    193.9,2,    192.9,2,     0.77,2,     0.20,2,     0.13,2,     0.25,2,    1.862,2,    1.021,2, -999.000,1,-999.0000,1,  -999.00,9,   -999.0,1,-999.000,9,   -999.0,9,   -999.0,9,  -999.00,9, 1071.1,-999.0000,-999.000,-999.000, 24.3065,-999.000
   318MWESTW_5,  P21W,   237,  1,     21, SI9421,2,19940610,0606,-17.9500, 169.0805, 2000,    153.3,  23.1080,  35.8353,2,  35.8307,2,    168.9,2,    170.0,2,     0.93,2,     2.96,2,     0.02,2,     0.41,2, -999.000,9, -999.000,9, -999.000,1,-999.0000,1,  -999.00,9,   -999.0,1,-999.000,9,   -999.0,9,   -999.0,9,  -999.00,9, 1586.3,-999.0000,-999.000,-999.000, 23.0765,-999.000
   318MWESTW_5,  P21W,   237,  1,     20, SI9420,2,19940610,0606,-17.9500, 169.0805, 2000,    202.5,  20.9724,  35.7508,2,  35.7481,2,    174.7,2,    173.7,2,     1.08,2,     4.15,2,     0.00,2,     0.43,2, -999.000,9, -999.000,9, -999.000,1,-999.0000,1,  -999.00,9,   -999.0,1,-999.000,9,   -999.0,9,   -999.0,9,  -999.00,9, 2076.3,-999.0000,-999.000,-999.000, 20.9335,-999.000
   318MWESTW_5,  P21W,   237,  1,     19, SI9419,2,19940610,0606,-17.9500, 169.0805, 2000,    253.4,  19.5287,  35.6688,2,  35.6585,2,    178.0,2,    175.0,2,     1.38,2,     5.08,2,     0.00,2,     0.49,2,    1.912,2,    1.015,2, -999.000,1,-999.0000,1,  -999.00,9,   -999.0,1,-999.000,9,   -999.0,9,   -999.0,9,  -999.00,9, 2583.5,-999.0000,-999.000,-999.000, 19.4824,-999.000
   318MWESTW_5,  P21W,   237,  1,     18, SI9439,2,19940610,0606,-17.9500, 169.0805, 2000,    304.6,  17.2833,  35.4662,2,  35.4689,2,    168.4,2,    168.0,2,     2.69,2,     8.02,2,     0.00,2,     0.71,2, -999.000,9, -999.000,9, -999.000,1,-999.0000,1,  -999.00,9,   -999.0,1,-999.000,9,   -999.0,9,   -999.0,9,  -999.00,9, 3092.4,-999.0000,-999.000,-999.000, 17.2321,-999.000
   318MWESTW_5,  P21W,   237,  1,     17, SI9417,2,19940610,0606,-17.9500, 169.0805, 2000,    355.7,  14.4474,  35.1327,2,  35.1299,2,    152.2,2,    146.9,2,     6.28,2,    14.01,2,     0.01,2,     1.14,2, -999.000,9, -999.000,9, -999.000,1,-999.0000,1,  -999.00,9,   -999.0,1,-999.000,9,   -999.0,9,   -999.0,9,  -999.00,9, 3601.5,-999.0000,-999.000,-999.000, 14.3946,-999.000
   318MWESTW_5,  P21W,   237,  1,     16, SI9416,2,19940610,0606,-17.9500, 169.0805, 2000,    404.3,  12.8714,  35.0240,2,  35.0205,2,    177.8,2,    173.5,2,     5.42,2,    13.98,2,     0.01,2,     1.08,2,    1.278,2,    0.646,2, -999.000,1,-999.0000,1,  -999.00,9,   -999.0,1,-999.000,9,   -999.0,9,   -999.0,9,  -999.00,9, 4084.7,-999.0000,-999.000,-999.000, 12.8157,-999.000
   318MWESTW_5,  P21W,   237,  1,     15, SI9415,2,19940610,0606,-17.9500, 169.0805, 2000,    453.2,  11.1513,  34.8482,2,  34.8442,2,    181.0,2,    179.8,2,     6.92,2,    16.89,2,     0.00,2,     1.26,2, -999.000,9, -999.000,9, -999.000,1,-999.0000,1,  -999.00,9,   -999.0,1,-999.000,9,   -999.0,9,   -999.0,9,  -999.00,9, 4570.8,-999.0000,-999.000,-999.000, 11.0944,-999.000
   318MWESTW_5,  P21W,   237,  1,     14, SI9436,2,19940610,0606,-17.9500, 169.0805, 2000,    496.6,   9.6236,  34.6800,2,  34.6763,2,    184.5,2,    182.6,2,     9.25,2,    20.07,2,     0.00,2,     1.45,2, -999.000,9, -999.000,9, -999.000,1,-999.0000,1,  -999.00,9,   -999.0,1,-999.000,9,   -999.0,9,   -999.0,9,  -999.00,9, 5003.1,-999.0000,-999.000,-999.000,  9.5667,-999.000
   318MWESTW_5,  P21W,   237,  1,     13, SI9413,2,19940610,0606,-17.9500, 169.0805, 2000,    598.9,   7.3248,  34.4740,2,  34.4693,2,    193.8,2,    194.7,2,    14.05,2,    24.50,2,     0.00,2,     1.71,2,    0.460,2,    0.232,2, -999.000,1,-999.0000,1,  -999.00,9,   -999.0,1,-999.000,9,   -999.0,9,   -999.0,9,  -999.00,9, 6020.3,-999.0000,-999.000,-999.000,  7.2661,-999.000
   318MWESTW_5,  P21W,   237,  1,     12, SI9438,2,19940610,0606,-17.9500, 169.0805, 2000,    700.5,   6.2648,  34.4122,2,  34.4165,2,    188.7,2,    187.7,2,    21.74,2,    27.76,2,     0.00,2,     1.92,2, -999.000,9, -999.000,9, -999.000,1,-999.0000,1,  -999.00,9,   -999.0,1,-999.000,9,   -999.0,9,   -999.0,9,  -999.00,9, 7030.1,-999.0000,-999.000,-999.000,  6.2013,-999.000
   318MWESTW_5,  P21W,   237,  1,     11, SI9411,2,19940610,0606,-17.9500, 169.0805, 2000,    801.8,   5.2527,  34.4090,2,  34.4069,2,    178.7,2,    176.5,2,    34.95,2,    30.93,2,     0.00,2,     2.13,2, -999.000,9, -999.000,9, -999.000,1,-999.0000,1,  -999.00,9,   -999.0,1,-999.000,9,   -999.0,9,   -999.0,9,  -999.00,9, 8037.7,-999.0000,-999.000,-999.000,  5.1856,-999.000
   318MWESTW_5,  P21W,   237,  1,     10, SI9412,2,19940610,0606,-17.9500, 169.0805, 2000,    906.7,   4.6350,  34.4361,2,  34.4351,2,    171.1,2,    165.0,2,    47.73,2,    32.75,2,     0.00,2,     2.27,2,    0.025,2,    0.009,2, -999.000,1,-999.0000,1,  -999.00,9,   -999.0,1,-999.000,9,   -999.0,9,   -999.0,9,  -999.00,9, 9080.4,-999.0000,-999.000,-999.000,  4.5627,-999.000
   318MWESTW_5,  P21W,   237,  1,      9, SI9410,2,19940610,0606,-17.9500, 169.0805, 2000,    993.6,   4.2190,  34.4615,2,  34.4593,2,    163.4,2,    161.2,2,    57.60,2,    33.35,2,     0.00,2,     2.33,2, -999.000,9, -999.000,9, -999.000,1,-999.0000,1,  -999.00,9,   -999.0,1,-999.000,9,   -999.0,9,   -999.0,9,  -999.00,9, 9943.9,-999.0000,-999.000,-999.000,  4.1423,-999.000
   318MWESTW_5,  P21W,   237,  1,      8, SI9422,2,19940610,0606,-17.9500, 169.0805, 2000,   1099.4,   3.7108,  34.5036,2,  34.5025,2,    160.7,2,    155.8,2,    72.25,2,    34.06,2,     0.00,2,     2.39,2, -999.000,9, -999.000,9, -999.000,1,-999.0000,1,  -999.00,9,   -999.0,1,-999.000,9,   -999.0,9,   -999.0,9,  -999.00,9,10995.5,-999.0000,-999.000,-999.000,  3.6292,-999.000
   318MWESTW_5,  P21W,   237,  1,      7, SI9407,2,19940610,0606,-17.9500, 169.0805, 2000,   1203.4,   3.3907,  34.5314,2,  34.5300,2,    154.4,2,    152.3,2,    81.98,2,    34.47,2,     0.00,2,     2.41,2,    0.005,2,   -0.001,2, -999.000,1,-999.0000,1,  -999.00,9,   -999.0,1,-999.000,9,   -999.0,9,   -999.0,9,  -999.00,9,12029.7,-999.0000,-999.000,-999.000,  3.3034,-999.000
   318MWESTW_5,  P21W,   237,  1,      6, SI9427,2,19940610,0606,-17.9500, 169.0805, 2000,   1305.9,   3.2316,  34.5464,2,  34.5441,2,    152.8,2,    150.7,2,    87.05,2,    34.75,2,     0.00,2,     2.42,2, -999.000,9, -999.000,9, -999.000,1,-999.0000,1,  -999.00,9,   -999.0,1,-999.000,9,   -999.0,9,   -999.0,9,  -999.00,9,13048.9,-999.0000,-999.000,-999.000,  3.1374,-999.000
   318MWESTW_5,  P21W,   237,  1,      5, SI9405,2,19940610,0606,-17.9500, 169.0805, 2000,   1499.6,   2.9799,  34.5682,2,  34.5677,2,    151.3,2,    149.1,2,    95.03,2,    35.17,2,     0.00,2,     2.45,2, -999.000,9, -999.000,9, -999.000,1,-999.0000,1,  -999.00,9,   -999.0,1,-999.000,9,   -999.0,9,   -999.0,9,  -999.00,9,14974.0,-999.0000,-999.000,-999.000,  2.8723,-999.000
   318MWESTW_5,  P21W,   237,  1,      4, SI9404,2,19940610,0606,-17.9500, 169.0805, 2000,   1696.7,   2.8022,  34.5852,2,  34.5830,2,    148.7,2,    147.6,2,   100.69,2,    35.43,2,     0.01,2,     2.46,2, -999.000,9, -999.000,9, -999.000,1,-999.0000,1,  -999.00,9,   -999.0,1,-999.000,9,   -999.0,9,   -999.0,9,  -999.00,9,16933.1,-999.0000,-999.000,-999.000,  2.6802,-999.000
   318MWESTW_5,  P21W,   237,  1,      3, SI9403,2,19940610,0606,-17.9500, 169.0805, 2000,   1798.7,   2.7670,  34.5881,2,  34.5875,2,    147.6,2,    147.3,2,   101.85,2,    35.52,2,     0.01,2,     2.46,2, -999.000,9, -999.000,9, -999.000,1,-999.0000,1,  -999.00,9,   -999.0,1,-999.000,9,   -999.0,9,   -999.0,9,  -999.00,9,17947.6,-999.0000,-999.000,-999.000,  2.6367,-999.000
   318MWESTW_5,  P21W,   237,  1,      2, SI9437,2,19940610,0606,-17.9500, 169.0805, 2000,   1942.1,   2.7610,  34.5909,2,  34.5881,2,    147.1,2,    147.9,2,   102.59,2,    35.47,2,     0.01,2,     2.48,2, -999.000,9, -999.000,9, -999.000,1,-999.0000,1,  -999.00,9,   -999.0,1,-999.000,9,   -999.0,9,   -999.0,9,  -999.00,9,19372.6,-999.0000,-999.000,-999.000,  2.6183,-999.000
   318MWESTW_5,  P21W,   237,  1,      1, SI9401,2,19940610,0606,-17.9500, 169.0805, 2000,   1982.0,   2.7615,  34.5912,2,  34.5871,2,    149.1,2,    148.0,2,   102.60,2,    35.40,2,     0.00,2,     2.47,2, -999.000,9, -999.000,9, -999.000,1,-999.0000,1,  -999.00,9,   -999.0,1,-999.000,9,   -999.0,9,   -999.0,9,  -999.00,9,19768.5,-999.0000,-999.000,-999.000,  2.6153,-999.000
   318MWESTW_5,  P21W,   238,  1,     16, SI9416,2,19940610,0906,-18.0500, 168.8333,  990,      4.8,  25.5065,  35.0699,2,  35.0693,2,    210.8,2,    213.0,2,     0.83,2,     0.00,2,     0.00,2,     0.14,2,    1.755,2,    0.991,2,    0.889,2,   1.7014,2,    -1.58,2,   -999.0,1,   6.728,2,   1951.9,2,   2309.1,2,     8.11,2,  106.2,  0.0085,   0.080,   0.034, 25.5054,   0.008
   318MWESTW_5,  P21W,   238,  1,     15, SI9415,2,19940610,0906,-18.0500, 168.8333,  990,     18.9,  25.5161,  35.0698,2,  35.0699,2,    210.0,2,    213.8,2,     0.83,2,     0.02,2,     0.00,2,     0.15,2,    1.777,2,    0.997,2,    0.870,2,-999.0000,1,  -999.00,9,   -999.0,1,-999.000,9,   1951.5,2,   2316.1,2,     8.11,2,  246.9,-999.0000,-999.000,-999.000, 25.5119,   0.008
   318MWESTW_5,  P21W,   238,  1,     14, SI9436,2,19940610,0906,-18.0500, 168.8333,  990,     49.6,  25.4637,  35.0663,2,  35.0677,2,    211.6,2,    212.0,2,     0.84,2,     0.02,2,     0.00,2,     0.16,2,    1.775,2,    0.990,2,    0.874,2,   1.7306,2,    -1.35,2,   -999.0,1,   6.842,2,   1950.5,2,   2306.5,2,     8.10,2,  552.6,  0.0087,   0.080,   0.034, 25.4528,   0.008
   318MWESTW_5,  P21W,   238,  1,     13, SI9413,2,19940610,0906,-18.0500, 168.8333,  990,     93.5,  24.3139,  35.6342,2,  35.6423,2,    195.8,2,    191.2,2,     0.85,2,     0.78,2,     0.10,2,     0.31,2, -999.000,9, -999.000,9, -999.000,1,-999.0000,1,  -999.00,9,   -999.0,1,-999.000,9,   -999.0,9,   -999.0,9,  -999.00,9,  989.9,-999.0000,-999.000,-999.000, 24.2940,-999.000
   318MWESTW_5,  P21W,   238,  1,     12, SI9438,2,19940610,0906,-18.0500, 168.8333,  990,    145.5,  22.6480,  35.8548,2,  35.8520,2,    170.8,2,    173.5,2,     0.86,2,     3.43,2,     0.01,2,     0.43,2,    1.831,2,    1.002,2,    0.774,2,   1.7404,2,    -0.88,2,   -999.0,1,   6.990,2,   2053.9,2,   2353.7,2,     8.00,2, 1507.6,  0.0087,   0.080,   0.035, 22.6185,   0.008
   318MWESTW_5,  P21W,   238,  1,     11, SI9411,2,19940610,0906,-18.0500, 168.8333,  990,    193.6,  21.0963,  35.7820,2,  35.7843,2,    173.4,2,    172.3,2,     1.15,2,     4.42,2,     0.00,2,     0.47,2,    1.867,2,    1.015,2, -999.000,1,   1.7407,2,    -0.39,2,   -999.0,1,   7.032,2,   2062.5,2,   2347.8,2,     7.98,2, 1986.7,  0.0087,   0.080,   0.035, 21.0590,-999.000
   318MWESTW_5,  P21W,   238,  1,     10, SI9412,2,19940610,0906,-18.0500, 168.8333,  990,    244.2,  19.8859,  35.6958,2,  35.6925,2,    174.9,2,    171.0,2,     1.31,2,     5.01,2,     0.00,2,     0.51,2,    1.825,2,    0.980,2,    0.709,2,   1.7461,2,    -0.28,2,   -999.0,1,   7.098,2,   2069.8,2,   2347.7,2,     7.96,2, 2489.9,  0.0087,   0.080,   0.035, 19.8407,   0.008
   318MWESTW_5,  P21W,   238,  1,      9, SI9410,2,19940610,0906,-18.0500, 168.8333,  990,    295.9,  17.9411,  35.5159,2,-999.0000,9,    169.5,2,    166.1,2,     2.33,2,     7.35,2,     0.00,2,     0.68,2,    1.691,2,    0.899,2,    0.595,2,   1.7654,2,     0.55,2,   -999.0,1,   7.224,2,   2088.1,2,   2331.3,2,     7.91,2, 3004.2,  0.0088,   0.080,   0.036, 17.8901,   0.007
   318MWESTW_5,  P21W,   238,  1,      8, SI9422,2,19940610,0906,-18.0500, 168.8333,  990,    347.9,  16.2343,  35.3258,2,  35.5141,4,    149.7,2,    144.4,2,     4.95,2,    11.84,2,     0.00,2,     1.02,2,    1.340,2,    0.706,2,    0.481,2,   1.7466,2,     1.62,2,   -999.0,1,   7.182,2,   2118.7,2,   2331.5,2,     7.83,2, 3522.1,  0.0087,   0.080,   0.036, 16.1783,   0.007
   318MWESTW_5,  P21W,   238,  1,      7, SI9407,2,19940610,0906,-18.0500, 168.8333,  990,    397.2,  13.7230,  35.0532,2,  35.0606,2,    155.1,2,    152.4,2,     6.57,2,    14.54,2,     0.00,2,     1.17,2, -999.000,9, -999.000,9, -999.000,1,-999.0000,1,  -999.00,9,   -999.0,1,-999.000,9,   -999.0,9,   -999.0,9,  -999.00,9, 4012.1,-999.0000,-999.000,-999.000, 13.6659,-999.000
   318MWESTW_5,  P21W,   238,  1,      6, SI9427,2,19940610,0906,-18.0500, 168.8333,  990,    494.6,   9.9444,  34.7066,2,  34.6950,2,    175.2,2,    173.8,2,     9.92,2,    20.21,2,     0.00,2,     1.48,2,    0.760,2,    0.397,2,    0.230,2,   1.7724,2,     2.08,2,   -999.0,1,   7.508,2,   2144.5,2,   2306.3,2,     7.72,2, 4980.5,  0.0089,   0.080,   0.038,  9.8865,   0.005
   318MWESTW_5,  P21W,   238,  1,      5, SI9405,2,19940610,0906,-18.0500, 168.8333,  990,    598.7,   6.9858,  34.4564,2,  34.4557,2,    183.0,2,    182.4,2,    18.65,2,    26.34,2,     0.00,2,     1.85,2,    0.311,2,    0.168,2,    0.085,2,   1.8005,2,     2.86,2,   -999.0,1,   7.716,2,   2168.5,2,   2291.2,2,     7.65,2, 6015.8,  0.0090,   0.080,   0.039,  6.9287,   0.004
   318MWESTW_5,  P21W,   238,  1,      4, SI9404,2,19940610,0906,-18.0500, 168.8333,  990,    697.3,   6.0467,  34.4114,2,  34.4135,2,    181.2,2,    179.4,2,    25.02,2,    28.83,2,     0.00,2,     1.99,2,    0.150,2,    0.079,2,    0.042,2,   1.8381,2,     4.12,2,   -999.0,1,   7.882,2,   2182.7,2,   2295.5,2,     7.63,2, 6995.2,  0.0092,   0.090,   0.039,  5.9847,   0.004
   318MWESTW_5,  P21W,   238,  1,      3, SI9403,2,19940610,0906,-18.0500, 168.8333,  990,    798.2,   5.0453,  34.4200,2,  34.4194,2,    170.7,2,    169.9,2,    39.63,2,    31.55,2,     0.00,2,     2.18,2,    0.047,2,    0.030,2,    0.010,2,   1.8351,2,     7.76,2,   -999.0,1,   7.876,2,   2207.2,2,   2316.7,2,     7.59,2, 7997.4,  0.0092,   0.090,   0.039,  4.9798,   0.004
   318MWESTW_5,  P21W,   238,  1,      2, SI9437,2,19940610,0906,-18.0500, 168.8333,  990,    901.5,   4.5556,  34.4428,2,  34.4420,2,    165.9,2,    165.2,2,    49.95,2,    32.55,2,     0.00,2,     2.26,2,    0.027,2,    0.013,2,    0.009,2,-999.0000,1,  -999.00,9,   -999.0,1,-999.000,9,   2221.9,2,   2331.0,2,     7.58,2, 9024.5,-999.0000,-999.000,-999.000,  4.4843,   0.004
   318MWESTW_5,  P21W,   238,  1,      1, SI9401,2,19940610,0906,-18.0500, 168.8333,  990,    985.9,   4.1613,  34.4684,2,  34.4683,2,    159.8,2,    161.6,2,    59.64,2,    33.30,2,     0.00,2,     2.31,2,    0.017,2,    0.009,2,    0.009,2,   1.8521,2,    14.04,2,   -999.0,1,   7.926,2,   2232.8,2,   2331.9,2,     7.57,2, 9861.5,  0.0093,   0.090,   0.040,  4.0856,   0.004