BOTTLE,20010911WHPSIOdm
EXPOCODE,SECT_ID,STNNBR,CASTNO,SAMPNO,BTLNBR,BTLNBR_FLAG_W,DATE,TIME,LATITUDE,LONGITUDE,DEPTH,CTDPRS,CTDTMP,CTDSAL,CTDSAL_FLAG_W,SALNTY,SALNTY_FLAG_W,CTDOXY,CTDOXY_FLAG_W,OXYGEN,OXYGEN_FLAG_W,SILCAT,SILCAT_FLAG_W,NITRAT,NITRAT_FLAG_W,NITRIT,NITRIT_FLAG_W,PHSPHT,PHSPHT_FLAG_W,CFC-11,CFC-11_FLAG_W,CFC-12,CFC-12_FLAG_W,TRITUM,TRITUM_FLAG_W,HELIUM,HELIUM_FLAG_W,DELHE3,DELHE3_FLAG_W,DELC14,DELC14_FLAG_W,NEON,NEON_FLAG_W,TCARBN,TCARBN_FLAG_W,ALKALI,ALKALI_FLAG_W,PH,PH_FLAG_W,CTDRAW,HELIER,DELHER,NEONER,THETA,TRITER
,,,,,,,,,,,,DBAR,ITS-90,PSS-78,,PSS-78,,UMOL/KG,,UMOL/KG,,UMOL/KG,,UMOL/KG,,UMOL/KG,,UMOL/KG,,PMOL/KG,,PMOL/KG,,TU,,UMOL/KG,,PERCNT,,/MILLE,,NMOL/KG,,UMOL/KG,,UMOL/KG,,,,,NMOL/KG,PERCNT,NMOL/KG,ITS-90,TU
   318MWESTW_4,  P21E,    49,  1,     36, SI9336,2,19940411,2022,-16.7500, -87.0000, 4449,      8.8,  22.7587,  35.7376,2,  35.7375,2,    218.7,2,    218.9,2,     0.56,2,    -0.03,2,     0.03,2,     0.47,2,    1.979,2,    1.965,3, -999.000,1,-999.0000,1,  -999.00,9,   -999.0,1,-999.000,9,   2058.8,2,   2369.0,2,     8.03,2,  140.5,-999.0000,-999.000,-999.000, 22.7569,-999.000
   318MWESTW_4,  P21E,    49,  1,     35, SI9335,2,19940411,2022,-16.7500, -87.0000, 4449,     26.1,  22.7496,  35.7383,2,  35.7375,2,    215.8,2,    217.6,2,     0.57,2,    -0.03,2,     0.03,2,     0.48,2,    1.997,2,    1.598,3, -999.000,1,-999.0000,1,  -999.00,9,   -999.0,1,-999.000,9,   2058.8,2,   2369.0,2,     8.03,2,  312.4,-999.0000,-999.000,-999.000, 22.7443,-999.000
   318MWESTW_4,  P21E,    49,  1,     34, SI9334,2,19940411,2022,-16.7500, -87.0000, 4449,     47.3,  22.5397,  35.7440,2,  35.7422,2,    218.6,2,    221.5,2,     0.58,2,    -0.02,2,     0.02,2,     0.48,2,    2.072,2,    1.116,2, -999.000,1,-999.0000,1,  -999.00,9,   -999.0,1,-999.000,9,   2058.8,2,   2371.0,2,     8.03,2,  524.3,-999.0000,-999.000,-999.000, 22.5302,-999.000
   318MWESTW_4,  P21E,    49,  1,     33, SI9333,2,19940411,2022,-16.7500, -87.0000, 4449,     99.3,  18.7909,  35.5017,2,  35.5044,2,    224.6,2,    211.6,2,     1.15,2,     2.42,2,     1.05,2,     0.64,2,    2.438,2,    1.282,2, -999.000,1,-999.0000,1,  -999.00,9,   -999.0,1,-999.000,9,   2086.8,2,   2349.0,2,     7.96,2, 1042.0,-999.0000,-999.000,-999.000, 18.7733,-999.000
   318MWESTW_4,  P21E,    49,  1,     32, SI9332,2,19940411,2022,-16.7500, -87.0000, 4449,    150.2,  14.0671,  34.7492,2,  34.7484,2,    220.5,3,    162.8,2,     3.77,2,    11.29,2,     0.03,2,     1.14,2,    2.184,2,    1.081,2, -999.000,1,-999.0000,1,  -999.00,9,   -999.0,1,-999.000,9,   2116.8,2,   2295.0,2,     7.80,2, 1548.2,-999.0000,-999.000,-999.000, 14.0454,-999.000
   318MWESTW_4,  P21E,    49,  1,     31, SI9331,2,19940411,2022,-16.7500, -87.0000, 4449,    201.0,  12.7626,  34.8488,2,  34.8460,2,     95.7,2,      3.1,2,    26.58,2,    15.41,2,     0.93,2,     2.78,2,    0.462,2,    0.258,2, -999.000,1,-999.0000,1,  -999.00,9,   -999.0,1,-999.000,9,   2269.0,2,   2307.0,2,     7.43,2, 2053.5,-999.0000,-999.000,-999.000, 12.7353,-999.000
   318MWESTW_4,  P21E,    49,  1,     30, SI9330,2,19940411,2022,-16.7500, -87.0000, 4449,    254.2,  11.8471,  34.8029,2,  34.7995,2,      5.7,2,      0.7,2,    26.97,2,    22.57,2,     0.27,2,     2.74,2,    0.235,2,    0.127,2, -999.000,1,-999.0000,1,  -999.00,9,   -999.0,1,-999.000,9,   2270.0,2,   2303.0,2,     7.42,2, 2582.5,-999.0000,-999.000,-999.000, 11.8142,-999.000
   318MWESTW_4,  P21E,    49,  1,     29, SI9329,2,19940411,2022,-16.7500, -87.0000, 4449,    303.2,  10.8583,  34.7542,2,  34.7514,2,      3.0,2,      0.8,2,    28.28,2,    28.51,2,     0.61,2,     2.76,2,    0.102,2,    0.050,2, -999.000,1,-999.0000,1,  -999.00,9,   -999.0,1,-999.000,9,   2275.0,2,   2301.0,2,     7.39,2, 3070.6,-999.0000,-999.000,-999.000, 10.8211,-999.000
   318MWESTW_4,  P21E,    49,  1,     28, SI9328,2,19940411,2022,-16.7500, -87.0000, 4449,    399.2,   9.3970,  34.6622,2,  34.6582,2,      3.7,2,      4.3,2,    30.54,2,    35.55,2,     0.01,2,     2.85,2,    0.040,2,    0.010,2, -999.000,1,-999.0000,1,  -999.00,9,   -999.0,1,-999.000,9,   -999.0,9,   2299.0,2,     7.39,2, 4025.8,-999.0000,-999.000,-999.000,  9.3521,-999.000
   318MWESTW_4,  P21E,    49,  1,     26, SI9326,2,19940411,2022,-16.7500, -87.0000, 4449,    500.1,   7.8667,  34.5916,2,  34.5127,4,     12.2,2,     13.0,2,    37.47,2,    40.59,2,     0.01,2,     3.00,2,    0.012,2,    0.000,2, -999.000,1,-999.0000,1,  -999.00,9,   -999.0,1,-999.000,9,   2287.0,2,   2304.0,2,     7.38,2, 5029.7,-999.0000,-999.000,-999.000,  7.8159,-999.000
   318MWESTW_4,  P21E,    49,  1,     25, SI9325,2,19940411,2022,-16.7500, -87.0000, 4449,    598.6,   6.8595,  34.5409,2,  34.5396,2,     21.0,2,     23.5,2,    42.52,2,    42.39,2,     0.01,2,     3.07,2,    0.005,2,   -0.003,2, -999.000,1,-999.0000,1,  -999.00,9,   -999.0,1,-999.000,9,   2289.0,2,   2304.0,2,     7.38,2, 6009.2,-999.0000,-999.000,-999.000,  6.8029,-999.000
   318MWESTW_4,  P21E,    49,  1,     24, SI9324,2,19940411,2022,-16.7500, -87.0000, 4449,    695.5,   6.0875,  34.5151,2,  34.5121,2,     27.4,2,     32.8,2,    48.89,2,    43.29,2,     0.01,2,     3.12,2,    0.000,2,   -0.004,2, -999.000,1,-999.0000,1,  -999.00,9,   -999.0,1,-999.000,9,   2294.0,2,   2313.0,2,     7.40,2, 6973.1,-999.0000,-999.000,-999.000,  6.0253,-999.000
   318MWESTW_4,  P21E,    49,  1,     27, SI9327,2,19940411,2022,-16.7500, -87.0000, 4449,    776.7,   5.5822,  34.5119,2,  34.5072,2,     32.0,2,     37.1,2,    55.99,2,    43.95,2,     0.01,2,     3.16,2,    0.000,2,   -0.003,2, -999.000,1,-999.0000,1,  -999.00,9,   -999.0,1,-999.000,9,   2301.0,2,   2317.0,2,     7.38,2, 7780.0,-999.0000,-999.000,-999.000,  5.5153,-999.000
   318MWESTW_4,  P21E,    49,  1,     23, SI9323,2,19940411,2022,-16.7500, -87.0000, 4449,    898.4,   4.9525,  34.5178,2,  34.5150,2,     42.8,2,     42.8,2,    67.34,2,    44.04,2,     0.01,2,     3.18,2,   -0.004,2,   -0.004,2, -999.000,1,-999.0000,1,  -999.00,9,   -999.0,1,-999.000,9,   2310.0,2,   2331.0,2,     7.39,2, 8990.1,-999.0000,-999.000,-999.000,  4.8786,-999.000
   318MWESTW_4,  P21E,    49,  1,     22, SI9322,2,19940411,2022,-16.7500, -87.0000, 4449,    997.6,   4.5026,  34.5298,2,  34.5282,2,     51.5,2,     52.1,2,    77.31,2,    43.39,2,     0.01,2,     3.16,2,    0.000,2,   -0.002,2, -999.000,1,-999.0000,1,  -999.00,9,   -999.0,1,-999.000,9,   2314.0,2,   2343.0,2,     7.42,2, 9976.3,-999.0000,-999.000,-999.000,  4.4232,-999.000
   318MWESTW_4,  P21E,    49,  1,     21, SI9321,2,19940411,2022,-16.7500, -87.0000, 4449,   1097.2,   4.1449,  34.5388,2,  34.5376,2,     62.5,2,     63.0,2,    84.23,2,    42.47,2,     0.00,2,     3.10,2, -999.000,9, -999.000,9, -999.000,1,-999.0000,1,  -999.00,9,   -999.0,1,-999.000,9,   2320.0,2,   2355.0,2,     7.42,2,10966.5,-999.0000,-999.000,-999.000,  4.0598,-999.000
   318MWESTW_4,  P21E,    49,  1,     20, SI9320,2,19940411,2022,-16.7500, -87.0000, 4449,   1197.7,   3.8015,  34.5538,2,  34.5518,2,     69.6,2,     69.9,2,    92.27,2,    42.07,2,     0.00,2,     3.08,2, -999.000,9, -999.000,9, -999.000,1,-999.0000,1,  -999.00,9,   -999.0,1,-999.000,9,   2323.0,2,   2361.0,2,     7.45,2,11966.6,-999.0000,-999.000,-999.000,  3.7108,-999.000
   318MWESTW_4,  P21E,    49,  1,     19, SI9319,2,19940411,2022,-16.7500, -87.0000, 4449,   1298.2,   3.5478,  34.5643,2,  34.5629,2,     75.4,2,     75.5,2,    98.06,2,    41.43,2,     0.01,2,     3.03,2, -999.000,9, -999.000,9, -999.000,1,-999.0000,1,  -999.00,9,   -999.0,1,-999.000,9,   2326.0,2,   2365.0,2,     7.44,2,12965.8,-999.0000,-999.000,-999.000,  3.4510,-999.000
   318MWESTW_4,  P21E,    49,  1,     18, SI9318,2,19940411,2022,-16.7500, -87.0000, 4449,   1399.8,   3.2511,  34.5779,2,  34.5769,2,     82.1,2,     83.2,2,   104.61,2,    40.80,2,     0.00,2,     3.00,2, -999.000,9, -999.000,9, -999.000,1,-999.0000,1,  -999.00,9,   -999.0,1,-999.000,9,   2326.0,2,   2373.0,2,     7.47,2,13975.1,-999.0000,-999.000,-999.000,  3.1488,-999.000
   318MWESTW_4,  P21E,    49,  1,     17, SI9317,2,19940411,2022,-16.7500, -87.0000, 4449,   1499.9,   3.0137,  34.5910,2,  34.5897,2,     88.1,2,     89.3,2,   110.59,2,    40.47,2,     0.00,2,     2.96,2, -999.000,9, -999.000,9, -999.000,1,-999.0000,1,  -999.00,9,   -999.0,1,-999.000,9,   2329.0,2,   2382.0,2,     7.47,2,14971.2,-999.0000,-999.000,-999.000,  2.9057,-999.000
   318MWESTW_4,  P21E,    49,  1,     16, SI9316,2,19940411,2022,-16.7500, -87.0000, 4449,   1600.9,   2.8337,  34.6024,2,  34.6007,2,     92.7,2,     93.3,2,   114.93,2,    39.87,2,     0.01,2,     2.91,2, -999.000,9, -999.000,9, -999.000,1,-999.0000,1,  -999.00,9,   -999.0,1,-999.000,9,   2331.0,2,   2385.0,2,     7.48,2,15975.0,-999.0000,-999.000,-999.000,  2.7193,-999.000
   318MWESTW_4,  P21E,    49,  1,     15, SI9315,2,19940411,2022,-16.7500, -87.0000, 4449,   1748.6,   2.5986,  34.6179,2,  34.6187,2,     98.9,2,    100.4,2,   121.81,2,    39.49,2,     0.00,2,     2.87,2, -999.000,9, -999.000,9, -999.000,1,-999.0000,1,  -999.00,9,   -999.0,1,-999.000,9,   2334.0,2,   2399.0,2,     7.49,2,17443.6,-999.0000,-999.000,-999.000,  2.4748,-999.000
   318MWESTW_4,  P21E,    49,  1,     14, SI9314,2,19940411,2022,-16.7500, -87.0000, 4449,   1898.8,   2.4114,  34.6307,2,  34.6293,2,    105.8,2,    106.5,2,   126.30,2,    38.84,2,     0.00,2,     2.82,2, -999.000,9, -999.000,9, -999.000,1,-999.0000,1,  -999.00,9,   -999.0,1,-999.000,9,   2336.0,2,   2399.0,2,     7.50,2,18936.3,-999.0000,-999.000,-999.000,  2.2774,-999.000
   318MWESTW_4,  P21E,    49,  1,     13, SI9313,2,19940411,2022,-16.7500, -87.0000, 4449,   2098.0,   2.2198,  34.6431,2,  34.6421,2,    115.2,2,    117.2,2,   128.72,2,    38.03,2,     0.00,2,     2.75,2, -999.000,9, -999.000,9, -999.000,1,-999.0000,1,  -999.00,9,   -999.0,1,-999.000,9,   2333.0,2,   2404.0,2,     7.52,2,20917.5,-999.0000,-999.000,-999.000,  2.0715,-999.000
   318MWESTW_4,  P21E,    49,  1,     12, SI9312,2,19940411,2022,-16.7500, -87.0000, 4449,   2298.1,   2.0307,  34.6563,2,  34.6559,2,    130.9,2,    131.0,2,   128.17,2,    36.92,2,     0.00,2,     2.65,2, -999.000,9, -999.000,9, -999.000,1,-999.0000,1,  -999.00,9,   -999.0,1,-999.000,9,   2325.0,2,   2403.0,2,     7.54,2,22906.0,-999.0000,-999.000,-999.000,  1.8680,-999.000
   318MWESTW_4,  P21E,    49,  1,     11, SI9311,2,19940411,2022,-16.7500, -87.0000, 4449,   2498.3,   1.9094,  34.6661,2,  34.6647,2,    142.1,2,    140.8,2,   127.98,2,    36.16,2,     0.00,2,     2.58,2, -999.000,9, -999.000,9, -999.000,1,-999.0000,1,  -999.00,9,   -999.0,1,-999.000,9,   2321.0,2,   2407.0,2,     7.56,2,24896.4,-999.0000,-999.000,-999.000,  1.7309,-999.000
   318MWESTW_4,  P21E,    49,  1,     10, SI9310,2,19940411,2022,-16.7500, -87.0000, 4449,   2698.6,   1.8408,  34.6729,2,  34.6737,2,    143.5,2,    143.4,2,   130.60,2,    35.99,2,     0.00,2,     2.57,2, -999.000,9, -999.000,9, -999.000,1,-999.0000,1,  -999.00,9,   -999.0,1,-999.000,9,   2323.0,2,   2410.0,2,     7.57,2,26887.5,-999.0000,-999.000,-999.000,  1.6452,-999.000
   318MWESTW_4,  P21E,    49,  1,      9, SI9309,2,19940411,2022,-16.7500, -87.0000, 4449,   2898.7,   1.8084,  34.6778,2,  34.6765,2,    143.2,2,    143.8,2,   133.22,2,    36.02,2,    -0.01,2,     2.57,2, -999.000,9, -999.000,9, -999.000,1,-999.0000,1,  -999.00,9,   -999.0,1,-999.000,9,   2326.0,2,   2418.0,2,     7.58,2,28877.2,-999.0000,-999.000,-999.000,  1.5946,-999.000
   318MWESTW_4,  P21E,    49,  1,      8, SI9308,2,19940411,2022,-16.7500, -87.0000, 4449,   3095.5,   1.7920,  34.6805,2,  34.6794,2,    142.6,2,    141.9,2,   135.46,2,    36.14,2,    -0.01,2,     2.57,2, -999.000,9, -999.000,9, -999.000,1,-999.0000,1,  -999.00,9,   -999.0,1,-999.000,9,   2329.0,2,   2418.0,2,     7.57,2,30834.3,-999.0000,-999.000,-999.000,  1.5594,-999.000
   318MWESTW_4,  P21E,    49,  1,      7, SI9307,2,19940411,2022,-16.7500, -87.0000, 4449,   3296.7,   1.7847,  34.6826,2,  34.6812,2,    143.7,2,    143.6,2,   135.09,2,    35.87,2,    -0.01,2,     2.57,2, -999.000,9, -999.000,9, -999.000,1,-999.0000,1,  -999.00,9,   -999.0,1,-999.000,9,   2328.0,2,   2421.0,2,     7.58,2,32834.2,-999.0000,-999.000,-999.000,  1.5322,-999.000
   318MWESTW_4,  P21E,    49,  1,      6, SI9306,2,19940411,2022,-16.7500, -87.0000, 4449,   3499.6,   1.7739,  34.6849,2,  34.6842,2,    146.5,2,    146.4,2,   133.79,2,    35.65,2,    -0.01,2,     2.55,2, -999.000,9, -999.000,9, -999.000,1,-999.0000,1,  -999.00,9,   -999.0,1,-999.000,9,   2326.0,2,   2415.0,2,     7.58,2,34850.8,-999.0000,-999.000,-999.000,  1.5009,-999.000
   318MWESTW_4,  P21E,    49,  1,      5, SI9305,2,19940411,2022,-16.7500, -87.0000, 4449,   3695.3,   1.7658,  34.6875,2,  34.6867,2,    150.2,2,    149.7,2,   131.92,2,    35.42,2,    -0.01,2,     2.53,2, -999.000,9, -999.000,9, -999.000,1,-999.0000,1,  -999.00,9,   -999.0,1,-999.000,9,   2322.0,2,   2416.0,2,     7.58,2,36797.0,-999.0000,-999.000,-999.000,  1.4724,-999.000
   318MWESTW_4,  P21E,    49,  1,      4, SI9304,2,19940411,2022,-16.7500, -87.0000, 4449,   3948.0,   1.7644,  34.6892,2,  34.6881,2,    153.4,2,    152.4,2,   130.25,2,    35.19,2,     0.00,2,     2.51,2, -999.000,9, -999.000,9, -999.000,1,-999.0000,1,  -999.00,9,   -999.0,1,-999.000,9,   2320.0,2,   2413.0,2,     7.58,2,39309.3,-999.0000,-999.000,-999.000,  1.4438,-999.000
   318MWESTW_4,  P21E,    49,  1,      3, SI9303,2,19940411,2022,-16.7500, -87.0000, 4449,   4199.0,   1.7833,  34.6905,2,  34.6887,2,    153.1,2,    152.9,2,   129.88,2,    35.14,2,     0.00,2,     2.52,2, -999.000,9, -999.000,9, -999.000,1,-999.0000,1,  -999.00,9,   -999.0,1,-999.000,9,   2320.0,2,   2415.0,2,     7.58,2,41803.9,-999.0000,-999.000,-999.000,  1.4341,-999.000
   318MWESTW_4,  P21E,    49,  1,      2, SI9302,2,19940411,2022,-16.7500, -87.0000, 4449,   4461.4,   1.8087,  34.6908,2,  34.6893,2,    153.7,2,    152.9,2,   129.89,2,    35.03,2,     0.00,2,     2.51,2, -999.000,9, -999.000,9, -999.000,1,-999.0000,1,  -999.00,9,   -999.0,1,-999.000,9,   2319.0,2,   2412.0,2,     7.58,2,44412.5,-999.0000,-999.000,-999.000,  1.4286,-999.000
   318MWESTW_4,  P21E,    49,  1,      1, SI9301,2,19940411,2022,-16.7500, -87.0000, 4449,   4522.4,   1.8127,  34.6905,2,  34.6893,2,    153.9,2,    154.0,2,   129.59,2,    35.08,2,     0.00,2,     2.49,2, -999.000,9, -999.000,9, -999.000,1,-999.0000,1,  -999.00,9,   -999.0,1,-999.000,9,   2319.0,2,   2414.0,2,     7.58,2,45019.1,-999.0000,-999.000,-999.000,  1.4254,-999.000