BOTTLE,20010911WHPSIOdm
EXPOCODE,SECT_ID,STNNBR,CASTNO,SAMPNO,BTLNBR,BTLNBR_FLAG_W,DATE,TIME,LATITUDE,LONGITUDE,DEPTH,CTDPRS,CTDTMP,CTDSAL,CTDSAL_FLAG_W,SALNTY,SALNTY_FLAG_W,CTDOXY,CTDOXY_FLAG_W,OXYGEN,OXYGEN_FLAG_W,SILCAT,SILCAT_FLAG_W,NITRAT,NITRAT_FLAG_W,NITRIT,NITRIT_FLAG_W,PHSPHT,PHSPHT_FLAG_W,CFC-11,CFC-11_FLAG_W,CFC-12,CFC-12_FLAG_W,TRITUM,TRITUM_FLAG_W,HELIUM,HELIUM_FLAG_W,DELHE3,DELHE3_FLAG_W,DELC14,DELC14_FLAG_W,NEON,NEON_FLAG_W,TCARBN,TCARBN_FLAG_W,ALKALI,ALKALI_FLAG_W,PH,PH_FLAG_W,CTDRAW,HELIER,DELHER,NEONER,THETA,TRITER
,,,,,,,,,,,,DBAR,ITS-90,PSS-78,,PSS-78,,UMOL/KG,,UMOL/KG,,UMOL/KG,,UMOL/KG,,UMOL/KG,,UMOL/KG,,PMOL/KG,,PMOL/KG,,TU,,UMOL/KG,,PERCNT,,/MILLE,,NMOL/KG,,UMOL/KG,,UMOL/KG,,,,,NMOL/KG,PERCNT,NMOL/KG,ITS-90,TU
   318MWESTW_4,  P21E,    73,  1,     36, SI9336,2,19940419,0655,-16.7472,-100.6667, 3981,      5.6,  24.3797,  36.2435,2,  36.2515,2,    213.1,2,    218.4,2,     0.15,2,    -0.02,2,     0.00,2,     0.34,2,    1.944,2,    1.061,2, -999.000,1,-999.0000,1,  -999.00,9,   -999.0,1,-999.000,9,   -999.0,9,   -999.0,9,  -999.00,9,  103.3,-999.0000,-999.000,-999.000, 24.3785,-999.000
   318MWESTW_4,  P21E,    73,  1,     35, SI9335,2,19940419,0655,-16.7472,-100.6667, 3981,     25.0,  23.9775,  36.2252,2,  36.2214,2,    210.6,2,    216.5,2,     0.17,2,     0.04,2,     0.00,2,     0.34,2,    1.960,2,    1.060,2, -999.000,1,-999.0000,1,  -999.00,9,   -999.0,1,-999.000,9,   -999.0,9,   -999.0,9,  -999.00,9,  297.4,-999.0000,-999.000,-999.000, 23.9722,-999.000
   318MWESTW_4,  P21E,    73,  1,     34, SI9334,2,19940419,0655,-16.7472,-100.6667, 3981,     51.0,  23.9008,  36.2110,2,  36.2180,2,    232.7,2,    219.4,2,     0.18,2,    -0.01,2,     0.00,2,     0.35,2,    1.971,2,    1.067,2, -999.000,1,-999.0000,1,  -999.00,9,   -999.0,1,-999.000,9,   -999.0,9,   -999.0,9,  -999.00,9,  557.1,-999.0000,-999.000,-999.000, 23.8901,-999.000
   318MWESTW_4,  P21E,    73,  1,     33, SI9333,2,19940419,0655,-16.7472,-100.6667, 3981,    101.0,  21.3173,  35.9025,2,  35.9137,2,    233.4,2,    229.7,2,     0.02,2,    -0.01,2,     0.00,2,     0.30,2,    2.204,2,    1.187,2, -999.000,1,-999.0000,1,  -999.00,9,   -999.0,1,-999.000,9,   -999.0,9,   -999.0,9,  -999.00,9, 1057.3,-999.0000,-999.000,-999.000, 21.2977,-999.000
   318MWESTW_4,  P21E,    73,  1,     32, SI9332,2,19940419,0655,-16.7472,-100.6667, 3981,    152.0,  19.9126,  35.6970,2,  35.7017,2,    224.9,2,    220.8,2,     0.21,2,     0.01,2,     0.04,2,     0.35,2,    2.310,2,    1.221,2, -999.000,1,-999.0000,1,  -999.00,9,   -999.0,1,-999.000,9,   -999.0,9,   -999.0,9,  -999.00,9, 1566.9,-999.0000,-999.000,-999.000, 19.8845,-999.000
   318MWESTW_4,  P21E,    73,  1,     31, SI9331,2,19940419,0655,-16.7472,-100.6667, 3981,    200.2,  17.3582,  35.2134,2,  35.2243,2,    209.8,2,    204.7,2,     0.40,2,     3.08,2,     0.04,2,     0.53,2,    2.364,2,    1.232,2, -999.000,1,-999.0000,1,  -999.00,9,   -999.0,1,-999.000,9,   -999.0,9,   -999.0,9,  -999.00,9, 2048.0,-999.0000,-999.000,-999.000, 17.3246,-999.000
   318MWESTW_4,  P21E,    73,  1,     30, SI9330,2,19940419,0655,-16.7472,-100.6667, 3981,    251.2,  13.0933,  34.6674,2,  34.6783,2,    127.3,2,    128.8,2,     6.81,2,    15.24,2,     0.01,2,     1.50,2,    1.688,2,    0.821,2, -999.000,1,-999.0000,1,  -999.00,9,   -999.0,1,-999.000,9,   -999.0,9,   -999.0,9,  -999.00,9, 2557.1,-999.0000,-999.000,-999.000, 13.0586,-999.000
   318MWESTW_4,  P21E,    73,  1,     29, SI9329,2,19940419,0655,-16.7472,-100.6667, 3981,    293.8,  11.3474,  34.6520,2,  34.6390,2,     31.0,2,     46.2,2,    18.08,2,    23.50,2,     0.00,2,     2.36,2,    0.631,2,    0.305,2, -999.000,1,-999.0000,1,  -999.00,9,   -999.0,1,-999.000,9,   -999.0,9,   -999.0,9,  -999.00,9, 2983.7,-999.0000,-999.000,-999.000, 11.3104,-999.000
   318MWESTW_4,  P21E,    73,  1,     28, SI9328,2,19940419,0655,-16.7472,-100.6667, 3981,    398.8,   9.0224,  34.5842,2,  34.5836,2,     21.7,2,     27.2,2,    25.71,2,    34.86,2,     0.00,2,     2.69,2,    0.090,2,    0.041,2, -999.000,1,-999.0000,1,  -999.00,9,   -999.0,1,-999.000,9,   -999.0,9,   -999.0,9,  -999.00,9, 4031.8,-999.0000,-999.000,-999.000,  8.9787,-999.000
   318MWESTW_4,  P21E,    73,  1,     27, SI9327,2,19940419,0655,-16.7472,-100.6667, 3981,    501.0,   7.5020,  34.5357,2,  34.5451,2,     40.9,2,     35.6,2,    32.73,2,    39.68,2,     0.00,2,     2.82,2,    0.018,2,    0.006,2, -999.000,1,-999.0000,1,  -999.00,9,   -999.0,1,-999.000,9,   -999.0,9,   -999.0,9,  -999.00,9, 5053.1,-999.0000,-999.000,-999.000,  7.4525,-999.000
   318MWESTW_4,  P21E,    73,  1,     26, SI9326,2,19940419,0655,-16.7472,-100.6667, 3981,    604.4,   6.5710,  34.5105,2,  34.5152,2,     43.7,2,     41.9,2,    40.26,2,    41.52,2,     0.01,2,     2.92,2,    0.001,2,    0.001,2, -999.000,1,-999.0000,1,  -999.00,9,   -999.0,1,-999.000,9,   -999.0,9,   -999.0,9,  -999.00,9, 6085.5,-999.0000,-999.000,-999.000,  6.5151,-999.000
   318MWESTW_4,  P21E,    73,  1,     25, SI9325,2,19940419,0655,-16.7472,-100.6667, 3981,    701.7,   5.8909,  34.4951,2,  34.4985,2,     62.3,2,     58.6,2,    45.46,2,    41.36,2,     0.01,2,     2.88,2,    0.000,2,    0.002,2, -999.000,1,-999.0000,1,  -999.00,9,   -999.0,1,-999.000,9,   -999.0,9,   -999.0,9,  -999.00,9, 7057.4,-999.0000,-999.000,-999.000,  5.8292,-999.000
   318MWESTW_4,  P21E,    73,  1,     24, SI9324,2,19940419,0655,-16.7472,-100.6667, 3981,    798.7,   5.2849,  34.4992,2,  34.4985,2,     61.7,2,     59.2,2,    55.50,2,    42.36,2,     0.01,2,     2.97,2,    0.000,2,   -0.001,2, -999.000,1,-999.0000,1,  -999.00,9,   -999.0,1,-999.000,9,   -999.0,9,   -999.0,9,  -999.00,9, 8026.4,-999.0000,-999.000,-999.000,  5.2178,-999.000
   318MWESTW_4,  P21E,    73,  1,     23, SI9323,2,19940419,0655,-16.7472,-100.6667, 3981,    902.9,   4.7757,  34.5112,2,  34.5097,2,     63.4,2,     62.3,2,    65.89,2,    42.53,2,     0.01,2,     3.00,2,   -0.002,2,   -0.001,2, -999.000,1,-999.0000,1,  -999.00,9,   -999.0,1,-999.000,9,   -999.0,9,   -999.0,9,  -999.00,9, 9066.8,-999.0000,-999.000,-999.000,  4.7026,-999.000
   318MWESTW_4,  P21E,    73,  1,     22, SI9322,2,19940419,0655,-16.7472,-100.6667, 3981,   1004.6,   4.3373,  34.5245,2,  34.5247,2,     69.5,2,     69.0,2,    75.58,2,    42.15,2,     0.00,2,     2.98,2, -999.000,9, -999.000,9, -999.000,1,-999.0000,1,  -999.00,9,   -999.0,1,-999.000,9,   -999.0,9,   -999.0,9,  -999.00,9,10083.5,-999.0000,-999.000,-999.000,  4.2586,-999.000
   318MWESTW_4,  P21E,    73,  1,     21, SI9321,2,19940419,0655,-16.7472,-100.6667, 3981,   1101.8,   3.9841,  34.5420,2,  34.5404,2,     73.2,2,     73.2,2,    84.41,2,    41.88,2,     0.00,2,     2.98,2, -999.000,9, -999.000,9, -999.000,1,-999.0000,1,  -999.00,9,   -999.0,1,-999.000,9,   -999.0,9,   -999.0,9,  -999.00,9,11053.9,-999.0000,-999.000,-999.000,  3.9000,-999.000
   318MWESTW_4,  P21E,    73,  1,     20, SI9320,2,19940419,0655,-16.7472,-100.6667, 3981,   1197.7,   3.6891,  34.5541,2,  34.5535,2,     79.3,2,     79.7,2,    91.16,2,    41.32,2,     0.00,2,     2.95,2, -999.000,9, -999.000,9, -999.000,1,-999.0000,1,  -999.00,9,   -999.0,1,-999.000,9,   -999.0,9,   -999.0,9,  -999.00,9,12011.6,-999.0000,-999.000,-999.000,  3.5995,-999.000
   318MWESTW_4,  P21E,    73,  1,     19, SI9319,2,19940419,0655,-16.7472,-100.6667, 3981,   1295.5,   3.4013,  34.5674,2,  34.5675,2,     86.4,2,     85.8,2,    98.08,2,    40.82,2,     0.00,2,     2.92,2, -999.000,9, -999.000,9, -999.000,1,-999.0000,1,  -999.00,9,   -999.0,1,-999.000,9,   -999.0,9,   -999.0,9,  -999.00,9,12988.5,-999.0000,-999.000,-999.000,  3.3062,-999.000
   318MWESTW_4,  P21E,    73,  1,     18, SI9318,2,19940419,0655,-16.7472,-100.6667, 3981,   1399.5,   3.1411,  34.5794,2,  34.5800,2,     90.6,2,     92.4,2,   103.62,2,    40.27,2,     0.00,2,     2.88,2, -999.000,9, -999.000,9, -999.000,1,-999.0000,1,  -999.00,9,   -999.0,1,-999.000,9,   -999.0,9,   -999.0,9,  -999.00,9,14028.2,-999.0000,-999.000,-999.000,  3.0400,-999.000
   318MWESTW_4,  P21E,    73,  1,     17, SI9317,2,19940419,0655,-16.7472,-100.6667, 3981,   1506.5,   2.8695,  34.5924,2,  34.5952,2,     97.4,2,     99.5,2,   110.20,2,    39.77,2,     0.00,2,     2.83,2, -999.000,9, -999.000,9, -999.000,1,-999.0000,1,  -999.00,9,   -999.0,1,-999.000,9,   -999.0,9,   -999.0,9,  -999.00,9,15096.6,-999.0000,-999.000,-999.000,  2.7626,-999.000
   318MWESTW_4,  P21E,    73,  1,     16, SI9316,2,19940419,0655,-16.7472,-100.6667, 3981,   1604.8,   2.6768,  34.6074,2,  34.6081,2,    103.5,2,    104.1,2,   115.06,2,    39.38,2,     0.00,2,     2.81,2, -999.000,9, -999.000,9, -999.000,1,-999.0000,1,  -999.00,9,   -999.0,1,-999.000,9,   -999.0,9,   -999.0,9,  -999.00,9,16078.7,-999.0000,-999.000,-999.000,  2.5640,-999.000
   318MWESTW_4,  P21E,    73,  1,     15, SI9315,2,19940419,0655,-16.7472,-100.6667, 3981,   1749.0,   2.4694,  34.6220,2,  34.6227,2,    110.9,2,    112.1,2,   119.55,2,    38.72,2,     0.00,2,     2.75,2, -999.000,9, -999.000,9, -999.000,1,-999.0000,1,  -999.00,9,   -999.0,1,-999.000,9,   -999.0,9,   -999.0,9,  -999.00,9,17519.7,-999.0000,-999.000,-999.000,  2.3473,-999.000
   318MWESTW_4,  P21E,    73,  1,     14, SI9314,2,19940419,0655,-16.7472,-100.6667, 3981,   1897.8,   2.2978,  34.6344,2,  34.6337,2,    120.1,2,    120.2,2,   121.99,2,    38.00,2,     0.00,2,     2.69,2, -999.000,9, -999.000,9, -999.000,1,-999.0000,1,  -999.00,9,   -999.0,1,-999.000,9,   -999.0,9,   -999.0,9,  -999.00,9,19006.3,-999.0000,-999.000,-999.000,  2.1655,-999.000
   318MWESTW_4,  P21E,    73,  1,     13, SI9313,2,19940419,0655,-16.7472,-100.6667, 3981,   2051.6,   2.1349,  34.6457,2,  34.6449,2,    132.5,2,    131.9,2,   122.34,2,    37.12,2,    -0.01,2,     2.61,2, -999.000,9, -999.000,9, -999.000,1,-999.0000,1,  -999.00,9,   -999.0,1,-999.000,9,   -999.0,9,   -999.0,9,  -999.00,9,20542.8,-999.0000,-999.000,-999.000,  1.9920,-999.000
   318MWESTW_4,  P21E,    73,  1,     12, SI9312,2,19940419,0655,-16.7472,-100.6667, 3981,   2207.6,   1.9796,  34.6550,2,  34.6567,2,    145.1,2,    144.7,2,   121.14,2,    36.01,2,    -0.01,2,     2.53,2, -999.000,9, -999.000,9, -999.000,1,-999.0000,1,  -999.00,9,   -999.0,1,-999.000,9,   -999.0,9,   -999.0,9,  -999.00,9,22100.8,-999.0000,-999.000,-999.000,  1.8257,-999.000
   318MWESTW_4,  P21E,    73,  1,     11, SI9311,2,19940419,0655,-16.7472,-100.6667, 3981,   2346.9,   1.9011,  34.6623,2,  34.6635,2,    149.0,2,    149.9,2,   122.01,2,    35.69,2,    -0.01,2,     2.49,2, -999.000,9, -999.000,9, -999.000,1,-999.0000,1,  -999.00,9,   -999.0,1,-999.000,9,   -999.0,9,   -999.0,9,  -999.00,9,23492.5,-999.0000,-999.000,-999.000,  1.7363,-999.000
   318MWESTW_4,  P21E,    73,  1,     10, SI9310,2,19940419,0655,-16.7472,-100.6667, 3981,   2541.3,   1.8331,  34.6715,2,  34.6726,2,    152.9,2,    150.8,2,   125.65,2,    35.57,2,     0.00,2,     2.49,2, -999.000,9, -999.000,9, -999.000,1,-999.0000,1,  -999.00,9,   -999.0,1,-999.000,9,   -999.0,9,   -999.0,9,  -999.00,9,25435.4,-999.0000,-999.000,-999.000,  1.6521,-999.000
   318MWESTW_4,  P21E,    73,  1,      9, SI9309,2,19940419,0655,-16.7472,-100.6667, 3981,   2749.9,   1.8030,  34.6777,2,  34.6769,2,    148.4,2,    146.8,2,   131.53,2,    35.90,2,     0.00,2,     2.51,2, -999.000,9, -999.000,9, -999.000,1,-999.0000,1,  -999.00,9,   -999.0,1,-999.000,9,   -999.0,9,   -999.0,9,  -999.00,9,27519.5,-999.0000,-999.000,-999.000,  1.6034,-999.000
   318MWESTW_4,  P21E,    73,  1,      8, SI9308,2,19940419,0655,-16.7472,-100.6667, 3981,   2913.5,   1.7937,  34.6794,2,  34.6791,2,    145.6,2,    145.3,2,   134.13,2,    36.13,2,     0.00,2,     2.52,2, -999.000,9, -999.000,9, -999.000,1,-999.0000,1,  -999.00,9,   -999.0,1,-999.000,9,   -999.0,9,   -999.0,9,  -999.00,9,29154.4,-999.0000,-999.000,-999.000,  1.5788,-999.000
   318MWESTW_4,  P21E,    73,  1,      7, SI9307,2,19940419,0655,-16.7472,-100.6667, 3981,   3059.0,   1.7970,  34.6802,2,  34.6791,2,    143.9,2,    144.5,2,   135.18,2,    36.13,2,     0.00,2,     2.53,2, -999.000,9, -999.000,9, -999.000,1,-999.0000,1,  -999.00,9,   -999.0,1,-999.000,9,   -999.0,9,   -999.0,9,  -999.00,9,30608.6,-999.0000,-999.000,-999.000,  1.5679,-999.000
   318MWESTW_4,  P21E,    73,  1,      6, SI9306,2,19940419,0655,-16.7472,-100.6667, 3981,   3202.3,   1.8014,  34.6813,2,  34.6806,2,    144.4,2,    144.8,2,   135.36,2,    36.14,2,     0.00,2,     2.53,2, -999.000,9, -999.000,9, -999.000,1,-999.0000,1,  -999.00,9,   -999.0,1,-999.000,9,   -999.0,9,   -999.0,9,  -999.00,9,32040.1,-999.0000,-999.000,-999.000,  1.5580,-999.000
   318MWESTW_4,  P21E,    73,  1,      5, SI9305,2,19940419,0655,-16.7472,-100.6667, 3981,   3401.7,   1.8046,  34.6836,2,  34.6836,2,    146.1,2,    146.4,2,   133.64,2,    35.97,2,     0.00,2,     2.51,2, -999.000,9, -999.000,9, -999.000,1,-999.0000,1,  -999.00,9,   -999.0,1,-999.000,9,   -999.0,9,   -999.0,9,  -999.00,9,34032.9,-999.0000,-999.000,-999.000,  1.5410,-999.000
   318MWESTW_4,  P21E,    73,  1,      4, SI9304,2,19940419,0655,-16.7472,-100.6667, 3981,   3596.6,   1.8133,  34.6859,2,  34.6853,2,    148.1,2,    147.9,2,   132.45,2,    35.86,2,     0.00,2,     2.50,2, -999.000,9, -999.000,9, -999.000,1,-999.0000,1,  -999.00,9,   -999.0,1,-999.000,9,   -999.0,9,   -999.0,9,  -999.00,9,35980.9,-999.0000,-999.000,-999.000,  1.5292,-999.000
   318MWESTW_4,  P21E,    73,  1,      3, SI9303,2,19940419,0655,-16.7472,-100.6667, 3981,   3803.5,   1.8276,  34.6866,2,  34.6851,2,    149.8,2,    148.8,2,   131.77,2,    35.80,2,     0.00,2,     2.50,2, -999.000,9, -999.000,9, -999.000,1,-999.0000,1,  -999.00,9,   -999.0,1,-999.000,9,   -999.0,9,   -999.0,9,  -999.00,9,38049.5,-999.0000,-999.000,-999.000,  1.5210,-999.000
   318MWESTW_4,  P21E,    73,  1,      2, SI9302,2,19940419,0655,-16.7472,-100.6667, 3981,   3985.0,   1.8394,  34.6874,2,  34.6863,2,    151.3,2,    149.3,2,   131.43,2,    35.70,2,     0.00,2,     2.50,2, -999.000,9, -999.000,9, -999.000,1,-999.0000,1,  -999.00,9,   -999.0,1,-999.000,9,   -999.0,9,   -999.0,9,  -999.00,9,39863.4,-999.0000,-999.000,-999.000,  1.5126,-999.000
   318MWESTW_4,  P21E,    73,  1,      1, SI9301,2,19940419,0655,-16.7472,-100.6667, 3981,   4021.8,   1.8435,  34.6875,2,  34.6859,2,    149.0,2,    149.7,2,   131.07,2,    35.70,2,     0.00,2,     2.49,2, -999.000,9, -999.000,9, -999.000,1,-999.0000,1,  -999.00,9,   -999.0,1,-999.000,9,   -999.0,9,   -999.0,9,  -999.00,9,40230.7,-999.0000,-999.000,-999.000,  1.5125,-999.000