BOTTLE,20010911WHPSIOdm
EXPOCODE,SECT_ID,STNNBR,CASTNO,SAMPNO,BTLNBR,BTLNBR_FLAG_W,DATE,TIME,LATITUDE,LONGITUDE,DEPTH,CTDPRS,CTDTMP,CTDSAL,CTDSAL_FLAG_W,SALNTY,SALNTY_FLAG_W,CTDOXY,CTDOXY_FLAG_W,OXYGEN,OXYGEN_FLAG_W,SILCAT,SILCAT_FLAG_W,NITRAT,NITRAT_FLAG_W,NITRIT,NITRIT_FLAG_W,PHSPHT,PHSPHT_FLAG_W,CFC-11,CFC-11_FLAG_W,CFC-12,CFC-12_FLAG_W,TRITUM,TRITUM_FLAG_W,HELIUM,HELIUM_FLAG_W,DELHE3,DELHE3_FLAG_W,DELC14,DELC14_FLAG_W,NEON,NEON_FLAG_W,TCARBN,TCARBN_FLAG_W,ALKALI,ALKALI_FLAG_W,PH,PH_FLAG_W,CTDRAW,HELIER,DELHER,NEONER,THETA,TRITER
,,,,,,,,,,,,DBAR,ITS-90,PSS-78,,PSS-78,,UMOL/KG,,UMOL/KG,,UMOL/KG,,UMOL/KG,,UMOL/KG,,UMOL/KG,,PMOL/KG,,PMOL/KG,,TU,,UMOL/KG,,PERCNT,,/MILLE,,NMOL/KG,,UMOL/KG,,UMOL/KG,,,,,NMOL/KG,PERCNT,NMOL/KG,ITS-90,TU
   318MWESTW_4,  P21E,    87,  1,     36, SI9336,2,19940423,1152,-16.7500,-107.3333, 3045,      7.5,  25.1434,  36.3972,2,  36.3948,2,    198.6,2,    213.4,2,     0.15,2,    -0.05,2,     0.01,2,     0.30,2,    1.883,2,    1.042,2, -999.000,1,-999.0000,1,  -999.00,9,   -999.0,1,-999.000,9,   -999.0,9,   -999.0,9,  -999.00,9,  120.7,-999.0000,-999.000,-999.000, 25.1418,-999.000
   318MWESTW_4,  P21E,    87,  1,     35, SI9335,2,19940423,1152,-16.7500,-107.3333, 3045,     23.5,  25.0181,  36.3974,2,  36.3889,2,    205.3,2,    211.5,2,     0.18,2,     0.02,2,     0.00,2,     0.30,2,    1.869,2,    1.033,2, -999.000,1,-999.0000,1,  -999.00,9,   -999.0,1,-999.000,9,   -999.0,9,   -999.0,9,  -999.00,9,  280.6,-999.0000,-999.000,-999.000, 25.0130,-999.000
   318MWESTW_4,  P21E,    87,  1,     34, SI9334,2,19940423,1152,-16.7500,-107.3333, 3045,     47.7,  24.8607,  36.3840,2,  36.3944,2,    202.4,2,    213.2,2,     0.36,2,    -0.04,2,     0.00,2,     0.31,2,    1.901,2,    1.067,2, -999.000,1,-999.0000,1,  -999.00,9,   -999.0,1,-999.000,9,   -999.0,9,   -999.0,9,  -999.00,9,  523.2,-999.0000,-999.000,-999.000, 24.8503,-999.000
   318MWESTW_4,  P21E,    87,  1,     33, SI9333,2,19940423,1152,-16.7500,-107.3333, 3045,     99.5,  22.7555,  36.3214,2,  36.2855,2,    217.5,2,    219.7,2,     0.23,2,    -0.05,2,     0.01,2,     0.29,2,    2.056,2,    1.122,2, -999.000,1,-999.0000,1,  -999.00,9,   -999.0,1,-999.000,9,   -999.0,9,   -999.0,9,  -999.00,9, 1041.3,-999.0000,-999.000,-999.000, 22.7352,-999.000
   318MWESTW_4,  P21E,    87,  1,     32, SI9332,2,19940423,1152,-16.7500,-107.3333, 3045,    146.9,  21.2254,  36.0970,2,  36.0313,2,    209.2,2,    204.5,2,     0.10,2,     0.49,2,     0.55,2,     0.43,2,    2.140,2,    1.161,2, -999.000,1,-999.0000,1,  -999.00,9,   -999.0,1,-999.000,9,   -999.0,9,   -999.0,9,  -999.00,9, 1514.8,-999.0000,-999.000,-999.000, 21.1969,-999.000
   318MWESTW_4,  P21E,    87,  1,     31, SI9331,3,19940423,1152,-16.7500,-107.3333, 3045,    200.3,  18.4746,  35.6502,3,  35.4604,2,    197.6,2,    186.6,2,     1.40,2,     5.37,2,     0.02,2,     0.72,2,    2.239,2,    1.198,2, -999.000,1,-999.0000,1,  -999.00,9,   -999.0,1,-999.000,9,   -999.0,9,   -999.0,9,  -999.00,9, 2048.7,-999.0000,-999.000,-999.000, 18.4394,-999.000
   318MWESTW_4,  P21E,    87,  1,     30, SI9330,2,19940423,1152,-16.7500,-107.3333, 3045,    248.3,  15.8418,  35.1127,2,  35.0496,2,    182.9,2,    176.5,2,     2.06,2,     7.81,2,     0.01,2,     0.87,2,    2.151,2,    1.110,2, -999.000,1,-999.0000,1,  -999.00,9,   -999.0,1,-999.000,9,   -999.0,9,   -999.0,9,  -999.00,9, 2527.4,-999.0000,-999.000,-999.000, 15.8027,-999.000
   318MWESTW_4,  P21E,    87,  1,     29, SI9329,2,19940423,1152,-16.7500,-107.3333, 3045,    292.7,  12.6471,  34.7082,2,  34.6757,2,    151.8,2,    145.0,2,     6.07,2,    14.54,2,     0.01,2,     1.34,2,    1.528,2,    0.769,2, -999.000,1,-999.0000,1,  -999.00,9,   -999.0,1,-999.000,9,   -999.0,9,   -999.0,9,  -999.00,9, 2971.5,-999.0000,-999.000,-999.000, 12.6075,-999.000
   318MWESTW_4,  P21E,    87,  1,     28, SI9328,2,19940423,1152,-16.7500,-107.3333, 3045,    397.2,   8.9102,  34.5162,2,  34.5227,2,     70.8,2,     57.7,2,    21.39,2,    32.21,2,     0.01,2,     2.50,2,    0.202,2,    0.106,2, -999.000,1,-999.0000,1,  -999.00,9,   -999.0,1,-999.000,9,   -999.0,9,   -999.0,9,  -999.00,9, 4014.7,-999.0000,-999.000,-999.000,  8.8671,-999.000
   318MWESTW_4,  P21E,    87,  1,     27, SI9327,2,19940423,1152,-16.7500,-107.3333, 3045,    500.2,   6.8087,  34.4625,2,  34.4604,2,     89.6,2,     92.8,2,    27.79,2,    36.15,2,     0.00,2,     2.52,2,    0.039,2,    0.025,2, -999.000,1,-999.0000,1,  -999.00,9,   -999.0,1,-999.000,9,   -999.0,9,   -999.0,9,  -999.00,9, 5043.8,-999.0000,-999.000,-999.000,  6.7620,-999.000
   318MWESTW_4,  P21E,    87,  1,     26, SI9326,2,19940423,1152,-16.7500,-107.3333, 3045,    602.0,   5.9988,  34.4742,2,  34.4763,2,     84.4,2,     76.2,2,    39.60,2,    39.37,2,     0.01,2,     2.73,2,    0.003,2,    0.004,2, -999.000,1,-999.0000,1,  -999.00,9,   -999.0,1,-999.000,9,   -999.0,9,   -999.0,9,  -999.00,9, 6060.3,-999.0000,-999.000,-999.000,  5.9458,-999.000
   318MWESTW_4,  P21E,    87,  1,     25, SI9325,2,19940423,1152,-16.7500,-107.3333, 3045,    699.1,   5.4633,  34.4785,2,  34.4791,2,     77.6,2,     77.4,2,    47.75,2,    40.28,2,     0.01,2,     2.80,2,    0.000,2,    0.005,2, -999.000,1,-999.0000,1,  -999.00,9,   -999.0,1,-999.000,9,   -999.0,9,   -999.0,9,  -999.00,9, 7030.5,-999.0000,-999.000,-999.000,  5.4041,-999.000
   318MWESTW_4,  P21E,    87,  1,     24, SI9324,2,19940423,1152,-16.7500,-107.3333, 3045,    802.4,   4.9486,  34.4954,2,  34.4977,2,     76.0,2,     75.8,2,    59.41,2,    41.03,2,     0.01,2,     2.86,2,   -0.002,2,    0.002,2, -999.000,1,-999.0000,1,  -999.00,9,   -999.0,1,-999.000,9,   -999.0,9,   -999.0,9,  -999.00,9, 8062.6,-999.0000,-999.000,-999.000,  4.8832,-999.000
   318MWESTW_4,  P21E,    87,  1,     23, SI9323,3,19940423,1152,-16.7500,-107.3333, 3045,    898.3,   4.5149,  34.5108,2,  34.5131,2,     76.0,2,     76.4,2,    69.46,2,    41.35,2,     0.01,2,     2.90,2,   -0.002,2,    0.004,2, -999.000,1,-999.0000,1,  -999.00,9,   -999.0,1,-999.000,9,   -999.0,9,   -999.0,9,  -999.00,9, 9019.9,-999.0000,-999.000,-999.000,  4.4440,-999.000
   318MWESTW_4,  P21E,    87,  1,     22, SI9322,2,19940423,1152,-16.7500,-107.3333, 3045,   1002.1,   4.1882,  34.5301,2,  34.5313,2,     77.2,2,     77.6,2,    78.42,2,    41.29,2,     0.01,2,     2.92,2, -999.000,9, -999.000,9, -999.000,1,-999.0000,1,  -999.00,9,   -999.0,1,-999.000,9,   -999.0,9,   -999.0,9,  -999.00,9,10056.7,-999.0000,-999.000,-999.000,  4.1109,-999.000
   318MWESTW_4,  P21E,    87,  1,     21, SI9321,2,19940423,1152,-16.7500,-107.3333, 3045,   1098.8,   3.8852,  34.5462,2,  34.5455,2,     77.7,2,     77.5,2,    86.73,2,    41.41,2,     0.00,2,     2.94,2, -999.000,9, -999.000,9, -999.000,1,-999.0000,1,  -999.00,9,   -999.0,1,-999.000,9,   -999.0,9,   -999.0,9,  -999.00,9,11023.3,-999.0000,-999.000,-999.000,  3.8021,-999.000
   318MWESTW_4,  P21E,    87,  1,     20, SI9320,2,19940423,1152,-16.7500,-107.3333, 3045,   1202.1,   3.6131,  34.5611,2,  34.5594,2,     82.1,2,     81.9,2,    93.44,2,    41.13,2,     0.00,2,     2.92,2, -999.000,9, -999.000,9, -999.000,1,-999.0000,1,  -999.00,9,   -999.0,1,-999.000,9,   -999.0,9,   -999.0,9,  -999.00,9,12054.5,-999.0000,-999.000,-999.000,  3.5238,-999.000
   318MWESTW_4,  P21E,    87,  1,     19, SI9319,2,19940423,1152,-16.7500,-107.3333, 3045,   1306.2,   3.3414,  34.5719,2,  34.5708,2,     89.0,2,     89.5,2,    99.68,2,    40.53,2,     0.01,2,     2.87,2, -999.000,9, -999.000,9, -999.000,1,-999.0000,1,  -999.00,9,   -999.0,1,-999.000,9,   -999.0,9,   -999.0,9,  -999.00,9,13094.8,-999.0000,-999.000,-999.000,  3.2460,-999.000
   318MWESTW_4,  P21E,    87,  1,     18, SI9318,2,19940423,1152,-16.7500,-107.3333, 3045,   1402.8,   3.0907,  34.5832,2,  34.5879,2,     94.5,2,     94.9,2,   105.60,2,    40.04,2,     0.01,2,     2.84,2, -999.000,9, -999.000,9, -999.000,1,-999.0000,1,  -999.00,9,   -999.0,1,-999.000,9,   -999.0,9,   -999.0,9,  -999.00,9,14059.3,-999.0000,-999.000,-999.000,  2.9899,-999.000
   318MWESTW_4,  P21E,    87,  1,     17, SI9317,2,19940423,1152,-16.7500,-107.3333, 3045,   1501.4,   2.9276,  34.5942,2,  34.5936,2,     98.4,2,     99.0,2,   109.61,2,    39.67,2,     0.01,2,     2.82,2, -999.000,9, -999.000,9, -999.000,1,-999.0000,1,  -999.00,9,   -999.0,1,-999.000,9,   -999.0,9,   -999.0,9,  -999.00,9,15044.7,-999.0000,-999.000,-999.000,  2.8204,-999.000
   318MWESTW_4,  P21E,    87,  1,     16, SI9316,2,19940423,1152,-16.7500,-107.3333, 3045,   1597.5,   2.7360,  34.6049,2,  34.6048,2,    102.5,2,    103.8,2,   114.09,2,    39.33,2,     0.01,2,     2.78,2, -999.000,9, -999.000,9, -999.000,1,-999.0000,1,  -999.00,9,   -999.0,1,-999.000,9,   -999.0,9,   -999.0,9,  -999.00,9,16004.5,-999.0000,-999.000,-999.000,  2.6231,-999.000
   318MWESTW_4,  P21E,    87,  1,     15, SI9315,2,19940423,1152,-16.7500,-107.3333, 3045,   1700.0,   2.5684,  34.6157,2,  34.6164,2,    108.3,2,    110.3,2,   117.14,2,    38.74,2,     0.01,2,     2.73,2, -999.000,9, -999.000,9, -999.000,1,-999.0000,1,  -999.00,9,   -999.0,1,-999.000,9,   -999.0,9,   -999.0,9,  -999.00,9,17029.2,-999.0000,-999.000,-999.000,  2.4491,-999.000
   318MWESTW_4,  P21E,    87,  1,     14, SI9314,2,19940423,1152,-16.7500,-107.3333, 3045,   1800.2,   2.4532,  34.6230,2,  34.6227,2,    113.1,2,    115.1,2,   119.24,2,    38.37,2,     0.01,2,     2.70,2, -999.000,9, -999.000,9, -999.000,1,-999.0000,1,  -999.00,9,   -999.0,1,-999.000,9,   -999.0,9,   -999.0,9,  -999.00,9,18030.2,-999.0000,-999.000,-999.000,  2.3270,-999.000
   318MWESTW_4,  P21E,    87,  1,     13, SI9313,2,19940423,1152,-16.7500,-107.3333, 3045,   1901.8,   2.2975,  34.6325,2,  34.6337,2,    121.7,2,    123.2,2,   121.02,2,    37.67,2,     0.00,2,     2.66,2, -999.000,9, -999.000,9, -999.000,1,-999.0000,1,  -999.00,9,   -999.0,1,-999.000,9,   -999.0,9,   -999.0,9,  -999.00,9,19045.0,-999.0000,-999.000,-999.000,  2.1649,-999.000
   318MWESTW_4,  P21E,    87,  1,     12, SI9312,2,19940423,1152,-16.7500,-107.3333, 3045,   1999.7,   2.1861,  34.6410,2,  34.6411,2,    128.2,2,    129.8,2,   121.84,2,    37.12,2,     0.01,2,     2.60,2, -999.000,9, -999.000,9, -999.000,1,-999.0000,1,  -999.00,9,   -999.0,1,-999.000,9,   -999.0,9,   -999.0,9,  -999.00,9,20022.9,-999.0000,-999.000,-999.000,  2.0468,-999.000
   318MWESTW_4,  P21E,    87,  1,     11, SI9311,2,19940423,1152,-16.7500,-107.3333, 3045,   2101.4,   2.0699,  34.6494,2,  34.6500,2,    134.4,2,    136.1,2,   123.29,2,    36.68,2,     0.01,2,     2.56,2, -999.000,9, -999.000,9, -999.000,1,-999.0000,1,  -999.00,9,   -999.0,1,-999.000,9,   -999.0,9,   -999.0,9,  -999.00,9,21038.6,-999.0000,-999.000,-999.000,  1.9237,-999.000
   318MWESTW_4,  P21E,    87,  1,     10, SI9310,2,19940423,1152,-16.7500,-107.3333, 3045,   2201.7,   1.9754,  34.6562,2,  34.6578,2,    140.8,2,    141.7,2,   123.80,2,    36.25,2,     0.01,2,     2.52,2, -999.000,9, -999.000,9, -999.000,1,-999.0000,1,  -999.00,9,   -999.0,1,-999.000,9,   -999.0,9,   -999.0,9,  -999.00,9,22041.5,-999.0000,-999.000,-999.000,  1.8221,-999.000
   318MWESTW_4,  P21E,    87,  1,      9, SI9309,2,19940423,1152,-16.7500,-107.3333, 3045,   2303.0,   1.9411,  34.6601,2,  34.6602,2,    144.7,2,    144.3,2,   124.31,2,    36.10,2,     0.00,2,     2.51,2, -999.000,9, -999.000,9, -999.000,1,-999.0000,1,  -999.00,9,   -999.0,1,-999.000,9,   -999.0,9,   -999.0,9,  -999.00,9,23052.9,-999.0000,-999.000,-999.000,  1.7795,-999.000
   318MWESTW_4,  P21E,    87,  1,      8, SI9308,2,19940423,1152,-16.7500,-107.3333, 3045,   2404.4,   1.8811,  34.6667,2,  34.6667,2,    147.1,2,    146.0,2,   126.24,2,    35.93,2,     0.00,2,     2.49,2, -999.000,9, -999.000,9, -999.000,1,-999.0000,1,  -999.00,9,   -999.0,1,-999.000,9,   -999.0,9,   -999.0,9,  -999.00,9,24066.5,-999.0000,-999.000,-999.000,  1.7116,-999.000
   318MWESTW_4,  P21E,    87,  1,      7, SI9307,2,19940423,1152,-16.7500,-107.3333, 3045,   2502.8,   1.8695,  34.6685,2,  34.6684,2,    147.4,2,    146.8,2,   126.75,2,    35.93,2,     0.00,2,     2.49,2, -999.000,9, -999.000,9, -999.000,1,-999.0000,1,  -999.00,9,   -999.0,1,-999.000,9,   -999.0,9,   -999.0,9,  -999.00,9,25049.2,-999.0000,-999.000,-999.000,  1.6913,-999.000
   318MWESTW_4,  P21E,    87,  1,      6, SI9306,2,19940423,1152,-16.7500,-107.3333, 3045,   2603.4,   1.8298,  34.6733,2,  34.6730,2,    148.4,2,    147.5,2,   128.84,2,    35.82,2,     0.00,2,     2.48,2, -999.000,9, -999.000,9, -999.000,1,-999.0000,1,  -999.00,9,   -999.0,1,-999.000,9,   -999.0,9,   -999.0,9,  -999.00,9,26054.4,-999.0000,-999.000,-999.000,  1.6432,-999.000
   318MWESTW_4,  P21E,    87,  1,      5, SI9305,2,19940423,1152,-16.7500,-107.3333, 3045,   2698.6,   1.8181,  34.6751,2,  34.6751,2,    148.5,2,    146.7,2,   130.14,2,    35.86,2,     0.01,2,     2.48,2, -999.000,9, -999.000,9, -999.000,1,-999.0000,1,  -999.00,9,   -999.0,1,-999.000,9,   -999.0,9,   -999.0,9,  -999.00,9,27006.0,-999.0000,-999.000,-999.000,  1.6230,-999.000
   318MWESTW_4,  P21E,    87,  1,      4, SI9304,2,19940423,1152,-16.7500,-107.3333, 3045,   2797.9,   1.8093,  34.6768,2,  34.6783,2,    146.5,2,    145.9,2,   131.92,2,    35.98,2,     0.00,2,     2.49,2, -999.000,9, -999.000,9, -999.000,1,-999.0000,1,  -999.00,9,   -999.0,1,-999.000,9,   -999.0,9,   -999.0,9,  -999.00,9,27997.9,-999.0000,-999.000,-999.000,  1.6050,-999.000
   318MWESTW_4,  P21E,    87,  1,      3, SI9303,2,19940423,1152,-16.7500,-107.3333, 3045,   2945.8,   1.8122,  34.6778,2,  34.6771,2,    145.9,2,    145.3,2,   133.55,2,    36.02,2,     0.01,2,     2.50,2, -999.000,9, -999.000,9, -999.000,1,-999.0000,1,  -999.00,9,   -999.0,1,-999.000,9,   -999.0,9,   -999.0,9,  -999.00,9,29476.3,-999.0000,-999.000,-999.000,  1.5938,-999.000
   318MWESTW_4,  P21E,    87,  1,      2, SI9302,2,19940423,1152,-16.7500,-107.3333, 3045,   3077.7,   1.8039,  34.6791,2,  34.6779,2,    143.2,2,    143.0,2,   136.28,2,    36.18,2,     0.01,2,     2.51,2, -999.000,9, -999.000,9, -999.000,1,-999.0000,1,  -999.00,9,   -999.0,1,-999.000,9,   -999.0,9,   -999.0,9,  -999.00,9,30794.6,-999.0000,-999.000,-999.000,  1.5728,-999.000
   318MWESTW_4,  P21E,    87,  1,      1, SI9301,2,19940423,1152,-16.7500,-107.3333, 3045,   3114.9,   1.8026,  34.6789,2,  34.6798,2,    142.5,2,    142.6,2,   137.05,2,    36.28,2,     0.00,2,     2.52,2, -999.000,9, -999.000,9, -999.000,1,-999.0000,1,  -999.00,9,   -999.0,1,-999.000,9,   -999.0,9,   -999.0,9,  -999.00,9,31166.2,-999.0000,-999.000,-999.000,  1.5679,-999.000