BOTTLE,20010911WHPSIOdm
EXPOCODE,SECT_ID,STNNBR,CASTNO,SAMPNO,BTLNBR,BTLNBR_FLAG_W,DATE,TIME,LATITUDE,LONGITUDE,DEPTH,CTDPRS,CTDTMP,CTDSAL,CTDSAL_FLAG_W,SALNTY,SALNTY_FLAG_W,CTDOXY,CTDOXY_FLAG_W,OXYGEN,OXYGEN_FLAG_W,SILCAT,SILCAT_FLAG_W,NITRAT,NITRAT_FLAG_W,NITRIT,NITRIT_FLAG_W,PHSPHT,PHSPHT_FLAG_W,CFC-11,CFC-11_FLAG_W,CFC-12,CFC-12_FLAG_W,TRITUM,TRITUM_FLAG_W,HELIUM,HELIUM_FLAG_W,DELHE3,DELHE3_FLAG_W,DELC14,DELC14_FLAG_W,NEON,NEON_FLAG_W,TCARBN,TCARBN_FLAG_W,ALKALI,ALKALI_FLAG_W,PH,PH_FLAG_W,CTDRAW,HELIER,DELHER,NEONER,THETA,TRITER
,,,,,,,,,,,,DBAR,ITS-90,PSS-78,,PSS-78,,UMOL/KG,,UMOL/KG,,UMOL/KG,,UMOL/KG,,UMOL/KG,,UMOL/KG,,PMOL/KG,,PMOL/KG,,TU,,UMOL/KG,,PERCNT,,/MILLE,,NMOL/KG,,UMOL/KG,,UMOL/KG,,,,,NMOL/KG,PERCNT,NMOL/KG,ITS-90,TU
   318MWESTW_4,  P21E,   126,  1,     24, SI9404,2,19940504,1259,-16.7500,-130.6667, 4080,      5.3,  27.8344,  36.4640,2,  36.4637,2,    203.7,2,    204.7,2,     0.40,2,  -999.00,2,     0.00,2,     0.20,2,    1.624,2,    0.935,2, -999.000,1,-999.0000,1,  -999.00,9,   -999.0,1,-999.000,9,   2018.7,2,   2396.0,2,     8.11,2,  104.3,-999.0000,-999.000,-999.000, 27.8332,-999.000
   318MWESTW_4,  P21E,   126,  1,     23, SI9405,2,19940504,1259,-16.7500,-130.6667, 4080,     22.8,  27.8399,  36.4638,2,  36.4637,2,    206.3,2,    201.2,2,     0.39,2,  -999.00,2,     0.01,2,     0.21,2,    1.601,2,    0.925,2, -999.000,1,-999.0000,1,  -999.00,9,   -999.0,1,-999.000,9,   2018.7,2,   2393.0,2,     8.12,2,  279.0,-999.0000,-999.000,-999.000, 27.8345,-999.000
   318MWESTW_4,  P21E,   126,  1,     22, SI9407,2,19940504,1259,-16.7500,-130.6667, 4080,     48.2,  27.8422,  36.4642,2,  36.4643,2,    206.5,2,    204.0,2,     0.38,2,    -0.01,2,     0.01,2,     0.21,2,    1.619,2,    0.929,2, -999.000,1,-999.0000,1,  -999.00,9,   -999.0,1,-999.000,9,   2017.7,2,   2395.0,2,     8.12,2,  532.3,-999.0000,-999.000,-999.000, 27.8308,-999.000
   318MWESTW_4,  P21E,   126,  1,     21, SI9408,2,19940504,1259,-16.7500,-130.6667, 4080,     98.5,  25.6896,  36.4949,2,  36.4881,2,    214.8,2,    216.8,2,     0.09,2,    -0.01,2,     0.01,2,     0.20,2,    1.813,2,    1.013,2, -999.000,1,-999.0000,1,  -999.00,9,   -999.0,1,-999.000,9,   2036.8,2,   2395.0,2,     8.10,2, 1033.3,-999.0000,-999.000,-999.000, 25.6677,-999.000
   318MWESTW_4,  P21E,   126,  1,     20, SI9409,2,19940504,1259,-16.7500,-130.6667, 4080,    149.2,  24.1847,  36.4134,2,  36.4093,2,    196.7,2,    204.5,2,     0.08,2,    -0.01,2,     0.02,2,     0.20,2,    1.870,2,    1.059,2, -999.000,1,-999.0000,1,  -999.00,9,   -999.0,1,-999.000,9,   2049.8,2,   2391.0,2,     8.07,2, 1538.4,-999.0000,-999.000,-999.000, 24.1529,-999.000
   318MWESTW_4,  P21E,   126,  1,     19, SI9411,2,19940504,1259,-16.7500,-130.6667, 4080,    200.0,  22.3344,  36.1615,2,  36.1678,2,    192.4,2,    192.1,2,     0.21,2,     0.73,2,     0.46,2,     0.32,2,    1.958,2,    1.097,2, -999.000,1,-999.0000,1,  -999.00,9,   -999.0,1,-999.000,9,   2069.8,2,   2374.0,2,     8.02,2, 2044.4,-999.0000,-999.000,-999.000, 22.2942,-999.000
   318MWESTW_4,  P21E,   126,  1,     18, SI9413,2,19940504,1259,-16.7500,-130.6667, 4080,    250.1,  19.6432,  35.7131,2,  35.7173,2,    187.8,2,    186.9,2,     0.35,2,     2.52,2,     0.01,2,     0.43,2,    2.032,2,    1.086,2, -999.000,1,-999.0000,1,  -999.00,9,   -999.0,1,-999.000,9,   2076.8,2,   2344.0,2,     7.96,2, 2543.2,-999.0000,-999.000,-999.000, 19.5973,-999.000
   318MWESTW_4,  P21E,   126,  1,     17, SI9415,2,19940504,1259,-16.7500,-130.6667, 4080,    300.9,  16.1144,  35.1684,2,  35.1855,2,    181.4,2,    178.6,2,     1.50,2,     6.49,2,     0.00,2,     0.70,2,    1.792,2,    0.944,2, -999.000,1,-999.0000,1,  -999.00,9,   -999.0,1,-999.000,9,   2089.8,2,   2309.0,2,     7.89,2, 3049.0,-999.0000,-999.000,-999.000, 16.0663,-999.000
   318MWESTW_4,  P21E,   126,  1,     16, SI9416,2,19940504,1259,-16.7500,-130.6667, 4080,    398.2,   9.9737,  34.5353,2,  34.5325,2,    108.7,2,    103.2,2,    14.96,2,    24.69,2,     0.00,2,     2.02,2,    0.537,2,    0.280,2, -999.000,1,-999.0000,1,  -999.00,9,   -999.0,1,-999.000,9,   2192.9,2,   2278.0,2,     7.58,2, 4016.6,-999.0000,-999.000,-999.000,  9.9274,-999.000
   318MWESTW_4,  P21E,   126,  1,     15, SI9417,2,19940504,1259,-16.7500,-130.6667, 4080,    500.5,   7.3071,  34.4644,2,  34.4620,2,     91.6,2,     95.6,2,    24.78,2,    33.98,2,     0.01,2,     2.45,2,    0.060,6,    0.036,6, -999.000,1,-999.0000,1,  -999.00,9,   -999.0,1,-999.000,9,   -999.0,9,   2285.0,2,     7.49,2, 5033.8,-999.0000,-999.000,-999.000,  7.2584,-999.000
   318MWESTW_4,  P21E,   126,  1,     14, SI9419,2,19940504,1259,-16.7500,-130.6667, 4080,    595.5,   6.3558,  34.4471,2,  34.4451,2,    106.6,2,    106.4,2,    30.71,2,    35.56,2,     0.01,2,     2.51,2,    0.021,2,    0.017,2, -999.000,1,-999.0000,1,  -999.00,9,   -999.0,1,-999.000,9,   2232.9,2,   2292.0,2,     7.51,2, 5978.6,-999.0000,-999.000,-999.000,  6.3018,-999.000
   318MWESTW_4,  P21E,   126,  1,     13, SI9420,2,19940504,1259,-16.7500,-130.6667, 4080,    697.4,   5.7555,  34.4692,2,  34.4675,2,     93.9,2,     93.6,2,    41.97,2,    38.04,2,     0.01,2,     2.68,2,    0.002,2,    0.002,2, -999.000,1,-999.0000,1,  -999.00,9,   -999.0,1,-999.000,9,   2251.9,2,   2301.0,2,     7.48,2, 6992.0,-999.0000,-999.000,-999.000,  5.6949,-999.000
   318MWESTW_4,  P21E,   126,  1,     12, SI9421,2,19940504,1259,-16.7500,-130.6667, 4080,    848.1,   5.0478,  34.4968,2,  34.4950,2,     84.5,2,     83.3,2,    58.30,2,    40.17,2,     0.01,2,     2.83,2,    0.000,2,    0.004,2, -999.000,1,-999.0000,1,  -999.00,9,   -999.0,1,-999.000,9,   2276.0,2,   2318.0,2,     7.47,2, 8490.3,-999.0000,-999.000,-999.000,  4.9778,-999.000
   318MWESTW_4,  P21E,   126,  1,     11, SI9423,2,19940504,1259,-16.7500,-130.6667, 4080,   1098.3,   4.1181,  34.5320,2,  34.5311,2,     84.4,2,     83.5,2,    79.83,2,    40.91,2,     0.01,2,     2.90,2,   -0.003,2,    0.001,2, -999.000,1,-999.0000,1,  -999.00,9,   -999.0,1,-999.000,9,   2300.0,2,   2341.0,2,     7.46,2,10978.0,-999.0000,-999.000,-999.000,  4.0331,-999.000
   318MWESTW_4,  P21E,   126,  1,     10, SI9425,2,19940504,1259,-16.7500,-130.6667, 4080,   1401.5,   3.2977,  34.5705,2,  34.5690,2,     98.7,2,     97.5,2,    98.89,2,    39.93,2,     0.00,2,     2.83,2,    0.000,2,    0.001,2, -999.000,1,-999.0000,1,  -999.00,9,   -999.0,1,-999.000,9,   2315.0,2,   2366.0,2,     7.48,2,13992.4,-999.0000,-999.000,-999.000,  3.1948,-999.000
   318MWESTW_4,  P21E,   126,  1,      9, SI9424,2,19940504,1259,-16.7500,-130.6667, 4080,   1703.3,   2.6721,  34.6015,2,  34.6016,2,    123.1,2,    122.3,2,   109.14,2,    37.86,2,     0.00,2,     2.65,2, -999.000,9, -999.000,9, -999.000,1,-999.0000,1,  -999.00,9,   -999.0,1,-999.000,9,   2311.0,2,   2375.0,2,     7.52,2,16993.1,-999.0000,-999.000,-999.000,  2.5512,-999.000
   318MWESTW_4,  P21E,   126,  1,      8, SI9428,2,19940504,1259,-16.7500,-130.6667, 4080,   2002.0,   2.1776,  34.6357,2,  34.6358,2,    142.2,2,    142.0,2,   116.48,2,    36.26,2,     0.01,2,     2.53,2, -999.000,9, -999.000,9, -999.000,1,-999.0000,1,  -999.00,9,   -999.0,1,-999.000,9,   2307.0,2,   2387.0,2,     7.55,2,19962.4,-999.0000,-999.000,-999.000,  2.0383,-999.000
   318MWESTW_4,  P21E,   126,  1,      7, SI9429,2,19940504,1259,-16.7500,-130.6667, 4080,   2301.5,   1.9343,  34.6579,2,  34.6484,4,    148.5,2,    146.8,2,   120.21,2,    35.93,2,     0.00,2,     2.49,2, -999.000,9, -999.000,9, -999.000,1,-999.0000,1,  -999.00,9,   -999.0,1,-999.000,9,   2310.0,2,   2389.0,2,     7.56,2,22939.9,-999.0000,-999.000,-999.000,  1.7729,-999.000
   318MWESTW_4,  P21E,   126,  1,      6, SI9431,2,19940504,1259,-16.7500,-130.6667, 4080,   2642.6,   1.7951,  34.6701,2,  34.6700,2,    152.4,2,    154.0,2,   127.13,2,    35.37,2,     0.01,2,     2.45,2, -999.000,9, -999.000,9, -999.000,1,-999.0000,1,  -999.00,9,   -999.0,1,-999.000,9,   2319.0,2,   2401.0,2,     7.58,2,26331.1,-999.0000,-999.000,-999.000,  1.6056,-999.000
   318MWESTW_4,  P21E,   126,  1,      5, SI9432,2,19940504,1259,-16.7500,-130.6667, 4080,   3000.8,   1.6788,  34.6778,2,  34.6781,2,    158.7,2,    159.0,2,   129.27,2,    35.09,2,     0.00,2,     2.45,2, -999.000,9, -999.000,9, -999.000,1,-999.0000,1,  -999.00,9,   -999.0,1,-999.000,9,   2312.0,2,   2401.0,2,     7.59,2,29892.7,-999.0000,-999.000,-999.000,  1.4580,-999.000
   318MWESTW_4,  P21E,   126,  1,      4, SI9433,2,19940504,1259,-16.7500,-130.6667, 4080,   3342.3,   1.6057,  34.6839,2,  34.6848,2,    161.9,2,    161.9,2,   130.98,2,    35.00,2,     0.00,2,     2.46,2,   -0.001,2,    0.001,2, -999.000,1,-999.0000,1,  -999.00,9,   -999.0,1,-999.000,9,   2314.0,2,   2406.0,2,     7.58,2,33287.7,-999.0000,-999.000,-999.000,  1.3529,-999.000
   318MWESTW_4,  P21E,   126,  1,      3, SI9435,2,19940504,1259,-16.7500,-130.6667, 4080,   3689.5,   1.5619,  34.6875,2,  34.6881,2,    166.3,2,    165.3,2,   131.25,2,    34.76,2,     0.00,2,     2.42,2,   -0.005,2,    0.000,2, -999.000,1,-999.0000,1,  -999.00,9,   -999.0,1,-999.000,9,   2311.0,2,   2403.0,2,     7.59,2,36738.6,-999.0000,-999.000,-999.000,  1.2745,-999.000
   318MWESTW_4,  P21E,   126,  1,      2, SI9401,2,19940504,1259,-16.7500,-130.6667, 4080,   4047.5,   1.5803,  34.6887,2,  34.6877,2,    166.6,2,    166.6,2,   131.22,2,    34.70,2,     0.00,2,     2.41,2,   -0.003,2,    0.002,2, -999.000,1,-999.0000,1,  -999.00,9,   -999.0,1,-999.000,9,   -999.0,9,   -999.0,9,  -999.00,9,40297.8,-999.0000,-999.000,-999.000,  1.2539,-999.000
   318MWESTW_4,  P21E,   126,  1,      1, SI9403,2,19940504,1259,-16.7500,-130.6667, 4080,   4140.4,   1.5873,  34.6887,2,  34.6883,2,    165.4,2,    166.2,2,   131.05,2,    34.74,2,     0.00,2,     2.41,2,    0.000,2,    0.001,2, -999.000,1,-999.0000,1,  -999.00,9,   -999.0,1,-999.000,9,   2310.0,2,   2404.0,2,     7.60,2,41222.0,-999.0000,-999.000,-999.000,  1.2504,-999.000
   318MWESTW_4,  P21E,   127,  1,     24, SI9404,2,19940504,1942,-16.7500,-131.3333, 3956,     25.5,  27.8604,  36.4039,2,  36.4016,2,    208.6,2,    207.5,2,     0.28,2,     0.11,2,     0.01,2,     0.20,2,    1.659,2,    0.933,2, -999.000,1,-999.0000,1,  -999.00,9,   -999.0,1,-999.000,9,   -999.0,9,   -999.0,9,  -999.00,9,  304.3,-999.0000,-999.000,-999.000, 27.8544,-999.000
   318MWESTW_4,  P21E,   127,  1,     23, SI9405,2,19940504,1942,-16.7500,-131.3333, 3956,     50.0,  27.8591,  36.4104,2,  36.4103,2,    207.1,2,    204.0,2,     0.30,2,     0.07,2,     0.00,2,     0.21,2,    1.638,2,    0.928,2, -999.000,1,-999.0000,1,  -999.00,9,   -999.0,1,-999.000,9,   -999.0,9,   -999.0,9,  -999.00,9,  549.6,-999.0000,-999.000,-999.000, 27.8473,-999.000
   318MWESTW_4,  P21E,   127,  1,     22, SI9407,2,19940504,1942,-16.7500,-131.3333, 3956,    100.9,  26.7763,  36.4502,2,  36.4435,2,    210.7,2,    215.3,2,     0.32,2,     0.03,2,     0.00,2,     0.22,2,    1.794,2,    1.010,2, -999.000,1,-999.0000,1,  -999.00,9,   -999.0,1,-999.000,9,   -999.0,9,   -999.0,9,  -999.00,9, 1056.7,-999.0000,-999.000,-999.000, 26.7532,-999.000
   318MWESTW_4,  P21E,   127,  1,     21, SI9408,2,19940504,1942,-16.7500,-131.3333, 3956,    149.2,  23.9881,  36.3994,2,  36.3994,2,    197.6,2,    197.0,2,     0.20,2,     0.10,2,     0.66,2,     0.34,2,    1.914,2,    1.056,2, -999.000,1,-999.0000,1,  -999.00,9,   -999.0,1,-999.000,9,   -999.0,9,   -999.0,9,  -999.00,9, 1537.7,-999.0000,-999.000,-999.000, 23.9565,-999.000
   318MWESTW_4,  P21E,   127,  1,     20, SI9409,2,19940504,1942,-16.7500,-131.3333, 3956,    200.9,  22.1074,  36.1688,2,  36.1688,2,    187.8,2,    186.3,2,     0.21,2,     2.29,2,     0.06,2,     0.44,2,    1.993,2,    1.091,2, -999.000,1,-999.0000,1,  -999.00,9,   -999.0,1,-999.000,9,   -999.0,9,   -999.0,9,  -999.00,9, 2052.7,-999.0000,-999.000,-999.000, 22.0673,-999.000
   318MWESTW_4,  P21E,   127,  1,     19, SI9411,2,19940504,1942,-16.7500,-131.3333, 3956,    250.3,  19.8667,  35.7725,2,  35.7896,2,    184.2,2,    182.5,2,     0.52,2,     3.36,2,     0.00,2,     0.50,2,    2.043,2,    1.101,2, -999.000,1,-999.0000,1,  -999.00,9,   -999.0,1,-999.000,9,   -999.0,9,   -999.0,9,  -999.00,9, 2545.4,-999.0000,-999.000,-999.000, 19.8204,-999.000
   318MWESTW_4,  P21E,   127,  1,     18, SI9413,2,19940504,1942,-16.7500,-131.3333, 3956,    299.6,  17.0246,  35.3125,2,  35.3045,2,    178.6,2,    179.6,2,     1.26,2,     5.76,2,     0.01,2,     0.65,2,    1.912,2,    0.968,2, -999.000,1,-999.0000,1,  -999.00,9,   -999.0,1,-999.000,9,   -999.0,9,   -999.0,9,  -999.00,9, 3035.8,-999.0000,-999.000,-999.000, 16.9749,-999.000
   318MWESTW_4,  P21E,   127,  1,     17, SI9415,2,19940504,1942,-16.7500,-131.3333, 3956,    398.3,  10.1320,  34.5466,2,  34.5518,2,    108.7,2,    104.5,2,    13.02,2,    24.16,2,     0.00,2,     2.00,2,    0.603,2,    0.298,2, -999.000,1,-999.0000,1,  -999.00,9,   -999.0,1,-999.000,9,   -999.0,9,   -999.0,9,  -999.00,9, 4017.6,-999.0000,-999.000,-999.000, 10.0852,-999.000
   318MWESTW_4,  P21E,   127,  1,     16, SI9416,2,19940504,1942,-16.7500,-131.3333, 3956,    500.5,   7.4583,  34.4649,2,  34.4634,2,     95.8,2,     95.0,2,    22.45,2,    33.79,2,     0.00,2,     2.45,2,    0.072,2,    0.039,2, -999.000,1,-999.0000,1,  -999.00,9,   -999.0,1,-999.000,9,   -999.0,9,   -999.0,9,  -999.00,9, 5034.1,-999.0000,-999.000,-999.000,  7.4091,-999.000
   318MWESTW_4,  P21E,   127,  1,     15, SI9417,2,19940504,1942,-16.7500,-131.3333, 3956,    598.9,   6.2120,  34.4505,2,  34.4477,2,    111.3,2,    109.9,2,    31.17,2,    35.62,2,     0.00,2,     2.51,2,    0.016,2,    0.006,2, -999.000,1,-999.0000,1,  -999.00,9,   -999.0,1,-999.000,9,   -999.0,9,   -999.0,9,  -999.00,9, 6012.7,-999.0000,-999.000,-999.000,  6.1583,-999.000
   318MWESTW_4,  P21E,   127,  1,     14, SI9419,2,19940504,1942,-16.7500,-131.3333, 3956,    697.4,   5.6445,  34.4734,2,  34.4720,2,    101.0,2,     92.8,2,    43.06,2,    38.47,2,    -0.01,2,     2.70,2,    0.001,2,    0.000,2, -999.000,1,-999.0000,1,  -999.00,9,   -999.0,1,-999.000,9,   -999.0,9,   -999.0,9,  -999.00,9, 6991.9,-999.0000,-999.000,-999.000,  5.5845,-999.000
   318MWESTW_4,  P21E,   127,  1,     13, SI9420,2,19940504,1942,-16.7500,-131.3333, 3956,    900.1,   4.7753,  34.5047,2,  34.5040,2,     87.3,2,     86.4,2,    62.19,2,    40.24,2,     0.01,2,     2.83,2,    0.000,2,   -0.002,2, -999.000,1,-999.0000,1,  -999.00,9,   -999.0,1,-999.000,9,   -999.0,9,   -999.0,9,  -999.00,9, 9007.5,-999.0000,-999.000,-999.000,  4.7025,-999.000
   318MWESTW_4,  P21E,   127,  1,     12, SI9421,2,19940504,1942,-16.7500,-131.3333, 3956,   1200.8,   3.7720,  34.5479,2,  34.5478,2,     86.3,2,     87.1,2,    86.83,2,    40.75,2,     0.00,2,     2.92,2,    0.000,2,   -0.002,2, -999.000,1,-999.0000,1,  -999.00,9,   -999.0,1,-999.000,9,   -999.0,9,   -999.0,9,  -999.00,9,11997.3,-999.0000,-999.000,-999.000,  3.6814,-999.000
   318MWESTW_4,  P21E,   127,  1,     11, SI9423,2,19940504,1942,-16.7500,-131.3333, 3956,   1505.1,   3.0043,  34.5853,2,  34.5855,2,    106.5,2,    106.2,2,   103.78,2,    39.20,2,     0.01,2,     2.81,2,    0.000,2,   -0.003,2, -999.000,1,-999.0000,1,  -999.00,9,   -999.0,1,-999.000,9,   -999.0,9,   -999.0,9,  -999.00,9,15022.5,-999.0000,-999.000,-999.000,  2.8960,-999.000
   318MWESTW_4,  P21E,   127,  1,     10, SI9425,2,19940504,1942,-16.7500,-131.3333, 3956,   1801.6,   2.4641,  34.6126,2,  34.6126,2,    133.2,2,    133.5,2,   109.86,2,    37.07,2,     0.00,2,     2.63,2,   -0.002,2,   -0.004,2, -999.000,1,-999.0000,1,  -999.00,9,   -999.0,1,-999.000,9,   -999.0,9,   -999.0,9,  -999.00,9,17970.7,-999.0000,-999.000,-999.000,  2.3377,-999.000
   318MWESTW_4,  P21E,   127,  1,      9, SI9424,2,19940504,1942,-16.7500,-131.3333, 3956,   2100.0,   2.0353,  34.6477,2,  34.6472,2,    147.1,2,    147.4,2,   117.97,2,    35.98,2,     0.00,2,     2.52,2,   -0.001,2,   -0.003,2, -999.000,1,-999.0000,1,  -999.00,9,   -999.0,1,-999.000,9,   -999.0,9,   -999.0,9,  -999.00,9,20937.3,-999.0000,-999.000,-999.000,  1.8898,-999.000
   318MWESTW_4,  P21E,   127,  1,      8, SI9428,2,19940504,1942,-16.7500,-131.3333, 3956,   2401.5,   1.8932,  34.6617,2,  34.6627,2,    151.8,2,    151.4,2,   122.61,2,    35.67,2,     0.00,2,     2.48,2, -999.000,9, -999.000,9, -999.000,1,-999.0000,1,  -999.00,9,   -999.0,1,-999.000,9,   -999.0,9,   -999.0,9,  -999.00,9,23934.4,-999.0000,-999.000,-999.000,  1.7237,-999.000
   318MWESTW_4,  P21E,   127,  1,      7, SI9429,2,19940504,1942,-16.7500,-131.3333, 3956,   2698.1,   1.7744,  34.6700,2,  34.6716,2,    155.0,2,    155.4,2,   126.08,2,    35.44,2,     0.00,2,     2.49,2, -999.000,9, -999.000,9, -999.000,1,-999.0000,1,  -999.00,9,   -999.0,1,-999.000,9,   -999.0,9,   -999.0,9,  -999.00,9,26883.2,-999.0000,-999.000,-999.000,  1.5802,-999.000
   318MWESTW_4,  P21E,   127,  1,      6, SI9431,2,19940504,1942,-16.7500,-131.3333, 3956,   3001.1,   1.6813,  34.6776,2,  34.6793,2,    158.0,2,    158.5,2,   128.83,2,    35.23,2,     0.00,2,     2.46,2, -999.000,9, -999.000,9, -999.000,1,-999.0000,1,  -999.00,9,   -999.0,1,-999.000,9,   -999.0,9,   -999.0,9,  -999.00,9,29895.6,-999.0000,-999.000,-999.000,  1.4604,-999.000
   318MWESTW_4,  P21E,   127,  1,      4, SI9433,3,19940504,1942,-16.7500,-131.3333, 3956,   3196.2,   1.6263,  34.6814,2,  34.7797,4,    160.6,2,    160.4,4,   114.37,4,    32.04,4,     0.00,4,     2.25,4, -999.000,9, -999.000,9, -999.000,1,-999.0000,1,  -999.00,9,   -999.0,1,-999.000,9,   -999.0,9,   -999.0,9,  -999.00,9,31834.4,-999.0000,-999.000,-999.000,  1.3876,-999.000
   318MWESTW_4,  P21E,   127,  1,      5, SI9432,2,19940504,1942,-16.7500,-131.3333, 3956,   3196.7,   1.6263,  34.6815,2,  34.6834,2,    160.6,2,    160.1,2,   130.43,2,    35.23,2,     0.00,2,     2.46,2, -999.000,9, -999.000,9, -999.000,1,-999.0000,1,  -999.00,9,   -999.0,1,-999.000,9,   -999.0,9,   -999.0,9,  -999.00,9,31840.1,-999.0000,-999.000,-999.000,  1.3876,-999.000
   318MWESTW_4,  P21E,   127,  1,      3, SI9435,2,19940504,1942,-16.7500,-131.3333, 3956,   3593.7,   1.5803,  34.6861,2,  34.6893,3,    164.0,2,    165.3,2,   130.57,2,    34.87,2,     0.00,2,     2.42,2, -999.000,9, -999.000,9, -999.000,1,-999.0000,1,  -999.00,9,   -999.0,1,-999.000,9,   -999.0,9,   -999.0,9,  -999.00,9,35786.5,-999.0000,-999.000,-999.000,  1.3024,-999.000
   318MWESTW_4,  P21E,   127,  1,      2, SI9401,2,19940504,1942,-16.7500,-131.3333, 3956,   3908.7,   1.5796,  34.6876,2,  34.6889,2,    166.5,2,    166.1,2,   130.57,2,    34.89,2,    -0.01,2,     2.43,2, -999.000,9, -999.000,9, -999.000,1,-999.0000,1,  -999.00,9,   -999.0,1,-999.000,9,   -999.0,9,   -999.0,9,  -999.00,9,38917.9,-999.0000,-999.000,-999.000,  1.2684,-999.000
   318MWESTW_4,  P21E,   127,  1,      1, SI9403,2,19940504,1942,-16.7500,-131.3333, 3956,   3999.3,   1.5840,  34.6882,2,  34.6883,2,    164.6,2,    166.6,2,   130.42,2,    34.80,2,     0.00,2,     2.42,2, -999.000,9, -999.000,9, -999.000,1,-999.0000,1,  -999.00,9,   -999.0,1,-999.000,9,   -999.0,9,   -999.0,9,  -999.00,9,39819.0,-999.0000,-999.000,-999.000,  1.2628,-999.000