BOTTLE,20010911WHPSIOdm
EXPOCODE,SECT_ID,STNNBR,CASTNO,SAMPNO,BTLNBR,BTLNBR_FLAG_W,DATE,TIME,LATITUDE,LONGITUDE,DEPTH,CTDPRS,CTDTMP,CTDSAL,CTDSAL_FLAG_W,SALNTY,SALNTY_FLAG_W,CTDOXY,CTDOXY_FLAG_W,OXYGEN,OXYGEN_FLAG_W,SILCAT,SILCAT_FLAG_W,NITRAT,NITRAT_FLAG_W,NITRIT,NITRIT_FLAG_W,PHSPHT,PHSPHT_FLAG_W,CFC-11,CFC-11_FLAG_W,CFC-12,CFC-12_FLAG_W,TRITUM,TRITUM_FLAG_W,HELIUM,HELIUM_FLAG_W,DELHE3,DELHE3_FLAG_W,DELC14,DELC14_FLAG_W,NEON,NEON_FLAG_W,TCARBN,TCARBN_FLAG_W,ALKALI,ALKALI_FLAG_W,PH,PH_FLAG_W,CTDRAW,HELIER,DELHER,NEONER,THETA,TRITER
,,,,,,,,,,,,DBAR,ITS-90,PSS-78,,PSS-78,,UMOL/KG,,UMOL/KG,,UMOL/KG,,UMOL/KG,,UMOL/KG,,UMOL/KG,,PMOL/KG,,PMOL/KG,,TU,,UMOL/KG,,PERCNT,,/MILLE,,NMOL/KG,,UMOL/KG,,UMOL/KG,,,,,NMOL/KG,PERCNT,NMOL/KG,ITS-90,TU
   318MWESTW_4,  P21E,    71,  1,     36, SI9336,2,19940418,1701,-16.7500, -99.3333, 3722,      7.8,  24.6813,  36.1752,2,  36.1747,2,    203.9,2,    211.8,2,     0.29,2,     0.09,2,     0.00,2,     0.35,2,    1.872,2,    1.029,2, -999.000,1,-999.0000,1,  -999.00,9,   -999.0,1,-999.000,9,   -999.0,9,   -999.0,9,  -999.00,9,  126.9,-999.0000,-999.000,-999.000, 24.6796,-999.000
   318MWESTW_4,  P21E,    71,  1,     35, SI9335,2,19940418,1701,-16.7500, -99.3333, 3722,     24.0,  24.4841,  36.1726,2,  36.1733,2,    206.8,2,    211.5,2,     0.13,2,     0.03,2,     0.00,2,     0.35,2,    1.878,2,    1.034,2, -999.000,1,-999.0000,1,  -999.00,9,   -999.0,1,-999.000,9,   -999.0,9,   -999.0,9,  -999.00,9,  288.6,-999.0000,-999.000,-999.000, 24.4790,-999.000
   318MWESTW_4,  P21E,    71,  1,     34, SI9334,2,19940418,1701,-16.7500, -99.3333, 3722,     48.8,  24.3872,  36.1718,2,  36.1709,2,    207.2,2,    212.1,2,     0.30,2,     0.04,2,     0.00,2,     0.35,2,    1.884,2,    1.046,2, -999.000,1,-999.0000,1,  -999.00,9,   -999.0,1,-999.000,9,   -999.0,9,   -999.0,9,  -999.00,9,  537.1,-999.0000,-999.000,-999.000, 24.3768,-999.000
   318MWESTW_4,  P21E,    71,  1,     33, SI9333,2,19940418,1701,-16.7500, -99.3333, 3722,     99.2,  21.2980,  35.9841,2,  35.9815,2,    231.6,2,    222.9,2,     0.13,2,     0.04,2,     0.00,2,     0.31,2,    2.185,2,    1.200,2, -999.000,1,-999.0000,1,  -999.00,9,   -999.0,1,-999.000,9,   -999.0,9,   -999.0,9,  -999.00,9, 1040.3,-999.0000,-999.000,-999.000, 21.2787,-999.000
   318MWESTW_4,  P21E,    71,  1,     32, SI9332,3,19940418,1701,-16.7500, -99.3333, 3722,    140.8,  20.0387,  35.7931,2,  35.7819,4,    218.8,2,    217.8,4,     0.48,2,     0.25,2,     0.17,2,     0.46,2,    2.271,2,    1.213,2, -999.000,1,-999.0000,1,  -999.00,9,   -999.0,1,-999.000,9,   -999.0,9,   -999.0,9,  -999.00,9, 1456.5,-999.0000,-999.000,-999.000, 20.0125,-999.000
   318MWESTW_4,  P21E,    71,  1,     31, SI9331,2,19940418,1701,-16.7500, -99.3333, 3722,    200.3,  17.2419,  35.1600,2,  35.2396,2,    194.0,2,    192.3,2,     1.01,2,     5.28,2,     0.02,2,     0.69,2,    2.314,2,    1.167,2, -999.000,1,-999.0000,1,  -999.00,9,   -999.0,1,-999.000,9,   -999.0,9,   -999.0,9,  -999.00,9, 2051.0,-999.0000,-999.000,-999.000, 17.2085,-999.000
   318MWESTW_4,  P21E,    71,  1,     30, SI9330,2,19940418,1701,-16.7500, -99.3333, 3722,    249.9,  13.6170,  34.7057,2,  34.7390,2,    164.2,2,    158.6,2,     4.13,2,    11.99,2,     0.00,2,     1.16,2,    1.957,2,    0.995,2, -999.000,1,-999.0000,1,  -999.00,9,   -999.0,1,-999.000,9,   -999.0,9,   -999.0,9,  -999.00,9, 2546.5,-999.0000,-999.000,-999.000, 13.5816,-999.000
   318MWESTW_4,  P21E,    71,  1,     29, SI9329,2,19940418,1701,-16.7500, -99.3333, 3722,    298.7,  10.9923,  34.5538,2,  34.5574,2,    104.3,2,     83.2,2,    14.38,2,    22.89,2,     0.01,2,     2.11,2,    0.839,2,    0.395,2, -999.000,1,-999.0000,1,  -999.00,9,   -999.0,1,-999.000,9,   -999.0,9,   -999.0,9,  -999.00,9, 3034.3,-999.0000,-999.000,-999.000, 10.9555,-999.000
   318MWESTW_4,  P21E,    71,  1,     28, SI9328,2,19940418,1701,-16.7500, -99.3333, 3722,    401.3,   8.4249,  34.5514,2,  34.5539,2,     41.0,2,     37.2,2,    26.54,2,    36.34,2,     0.00,2,     2.71,2,    0.066,2,    0.030,2, -999.000,1,-999.0000,1,  -999.00,9,   -999.0,1,-999.000,9,   -999.0,9,   -999.0,9,  -999.00,9, 4059.4,-999.0000,-999.000,-999.000,  8.3827,-999.000
   318MWESTW_4,  P21E,    71,  1,     27, SI9327,2,19940418,1701,-16.7500, -99.3333, 3722,    502.1,   7.2141,  34.5251,2,  34.5298,2,     48.4,2,     42.7,2,    33.66,2,    39.96,2,     0.00,2,     2.83,2,    0.015,2,    0.003,2, -999.000,1,-999.0000,1,  -999.00,9,   -999.0,1,-999.000,9,   -999.0,9,   -999.0,9,  -999.00,9, 5065.5,-999.0000,-999.000,-999.000,  7.1656,-999.000
   318MWESTW_4,  P21E,    71,  1,     26, SI9326,2,19940418,1701,-16.7500, -99.3333, 3722,    597.0,   6.2325,  34.4940,2,  34.4930,2,     63.9,2,     62.1,2,    39.91,2,    40.39,2,     0.01,2,     2.83,2,    0.003,2,    0.000,2, -999.000,1,-999.0000,1,  -999.00,9,   -999.0,1,-999.000,9,   -999.0,9,   -999.0,9,  -999.00,9, 6014.2,-999.0000,-999.000,-999.000,  6.1789,-999.000
   318MWESTW_4,  P21E,    71,  1,     25, SI9325,2,19940418,1701,-16.7500, -99.3333, 3722,    700.6,   5.6620,  34.4953,2,  34.4979,2,     60.3,2,     53.4,2,    49.81,2,    42.48,2,     0.00,2,     2.99,2,    0.000,2,    0.002,2, -999.000,1,-999.0000,1,  -999.00,9,   -999.0,1,-999.000,9,   -999.0,9,   -999.0,9,  -999.00,9, 7048.7,-999.0000,-999.000,-999.000,  5.6016,-999.000
   318MWESTW_4,  P21E,    71,  1,     24, SI9324,2,19940418,1701,-16.7500, -99.3333, 3722,    796.5,   5.2205,  34.5047,2,  34.5046,2,     48.7,2,     47.3,2,    59.01,2,    43.85,3,     0.00,2,     3.10,3,    0.014,3,    0.021,3, -999.000,1,-999.0000,1,  -999.00,9,   -999.0,1,-999.000,9,   -999.0,9,   -999.0,9,  -999.00,9, 8006.0,-999.0000,-999.000,-999.000,  5.1540,-999.000
   318MWESTW_4,  P21E,    71,  1,     23, SI9323,2,19940418,1701,-16.7500, -99.3333, 3722,    892.7,   4.6661,  34.5130,2,  34.5129,2,     60.2,2,     59.2,2,    69.08,2,    43.09,2,     0.00,2,     3.07,3,   -0.003,2,   -0.004,2, -999.000,1,-999.0000,1,  -999.00,9,   -999.0,1,-999.000,9,   -999.0,9,   -999.0,9,  -999.00,9, 8967.3,-999.0000,-999.000,-999.000,  4.5947,-999.000
   318MWESTW_4,  P21E,    71,  1,     22, SI9322,2,19940418,1701,-16.7500, -99.3333, 3722,    999.8,   4.2800,  34.5282,2,  34.5250,2,     67.2,2,     68.7,2,    76.89,2,    42.38,2,     0.00,2,     3.02,2,   -0.001,2,   -0.004,2, -999.000,1,-999.0000,1,  -999.00,9,   -999.0,1,-999.000,9,   -999.0,9,   -999.0,9,  -999.00,9,10036.7,-999.0000,-999.000,-999.000,  4.2022,-999.000
   318MWESTW_4,  P21E,    71,  1,     21, SI9321,2,19940418,1701,-16.7500, -99.3333, 3722,   1098.8,   3.9572,  34.5387,2,  34.5386,2,     76.7,2,     75.8,2,    84.18,2,    41.82,2,     0.00,2,     2.99,2, -999.000,9, -999.000,9, -999.000,1,-999.0000,1,  -999.00,9,   -999.0,1,-999.000,9,   -999.0,9,   -999.0,9,  -999.00,9,11026.3,-999.0000,-999.000,-999.000,  3.8735,-999.000
   318MWESTW_4,  P21E,    71,  1,     20, SI9320,2,19940418,1701,-16.7500, -99.3333, 3722,   1197.7,   3.6513,  34.5532,2,  34.5518,2,     83.2,2,     83.2,2,    90.78,2,    41.27,2,     0.00,2,     2.96,2, -999.000,9, -999.000,9, -999.000,1,-999.0000,1,  -999.00,9,   -999.0,1,-999.000,9,   -999.0,9,   -999.0,9,  -999.00,9,12013.6,-999.0000,-999.000,-999.000,  3.5620,-999.000
   318MWESTW_4,  P21E,    71,  1,     19, SI9319,2,19940418,1701,-16.7500, -99.3333, 3722,   1299.5,   3.3803,  34.5690,2,  34.5692,2,     85.3,2,     85.5,2,    98.94,2,    41.06,2,     0.00,2,     2.94,2, -999.000,9, -999.000,9, -999.000,1,-999.0000,1,  -999.00,9,   -999.0,1,-999.000,9,   -999.0,9,   -999.0,9,  -999.00,9,13031.1,-999.0000,-999.000,-999.000,  3.2851,-999.000
   318MWESTW_4,  P21E,    71,  1,     18, SI9318,2,19940418,1701,-16.7500, -99.3333, 3722,   1401.0,   3.1594,  34.5807,2,  34.5808,2,     90.0,2,     90.4,2,   104.33,2,    40.61,2,     0.00,2,     2.92,2, -999.000,9, -999.000,9, -999.000,1,-999.0000,1,  -999.00,9,   -999.0,1,-999.000,9,   -999.0,9,   -999.0,9,  -999.00,9,14044.6,-999.0000,-999.000,-999.000,  3.0580,-999.000
   318MWESTW_4,  P21E,    71,  1,     17, SI9317,2,19940418,1701,-16.7500, -99.3333, 3722,   1499.5,   2.9195,  34.5946,2,  34.5948,2,     94.6,2,     95.7,2,   110.40,2,    40.22,2,     0.00,2,     2.87,2, -999.000,9, -999.000,9, -999.000,1,-999.0000,1,  -999.00,9,   -999.0,1,-999.000,9,   -999.0,9,   -999.0,9,  -999.00,9,15029.0,-999.0000,-999.000,-999.000,  2.8126,-999.000
   318MWESTW_4,  P21E,    71,  1,     16, SI9316,2,19940418,1701,-16.7500, -99.3333, 3722,   1600.8,   2.7356,  34.6053,2,  34.6081,2,     99.6,2,    101.4,2,   114.57,2,    39.68,2,     0.00,2,     2.84,2, -999.000,9, -999.000,9, -999.000,1,-999.0000,1,  -999.00,9,   -999.0,1,-999.000,9,   -999.0,9,   -999.0,9,  -999.00,9,16040.3,-999.0000,-999.000,-999.000,  2.6224,-999.000
   318MWESTW_4,  P21E,    71,  1,     15, SI9315,2,19940418,1701,-16.7500, -99.3333, 3722,   1750.5,   2.5078,  34.6202,2,  34.6209,2,    108.5,2,    109.8,2,   119.25,2,    39.03,2,    -0.01,2,     2.78,2, -999.000,9, -999.000,9, -999.000,1,-999.0000,1,  -999.00,9,   -999.0,1,-999.000,9,   -999.0,9,   -999.0,9,  -999.00,9,17536.5,-999.0000,-999.000,-999.000,  2.3850,-999.000
   318MWESTW_4,  P21E,    71,  1,     14, SI9314,2,19940418,1701,-16.7500, -99.3333, 3722,   1899.9,   2.2935,  34.6325,2,  34.6352,2,    118.8,2,    121.4,2,   121.68,2,    38.03,2,     0.00,2,     2.69,2, -999.000,9, -999.000,9, -999.000,1,-999.0000,1,  -999.00,9,   -999.0,1,-999.000,9,   -999.0,9,   -999.0,9,  -999.00,9,19028.7,-999.0000,-999.000,-999.000,  2.1611,-999.000
   318MWESTW_4,  P21E,    71,  1,     13, SI9313,2,19940418,1701,-16.7500, -99.3333, 3722,   2049.5,   2.1277,  34.6455,2,  34.6449,2,    132.5,2,    133.4,2,   121.86,2,    37.15,2,     0.00,2,     2.62,2, -999.000,9, -999.000,9, -999.000,1,-999.0000,1,  -999.00,9,   -999.0,1,-999.000,9,   -999.0,9,   -999.0,9,  -999.00,9,20523.5,-999.0000,-999.000,-999.000,  1.9851,-999.000
   318MWESTW_4,  P21E,    71,  1,     12, SI9312,2,19940418,1701,-16.7500, -99.3333, 3722,   2195.7,   1.9718,  34.6567,2,  34.6570,2,    144.3,2,    145.2,2,   121.68,2,    36.17,2,     0.00,2,     2.53,2, -999.000,9, -999.000,9, -999.000,1,-999.0000,1,  -999.00,9,   -999.0,1,-999.000,9,   -999.0,9,   -999.0,9,  -999.00,9,21983.6,-999.0000,-999.000,-999.000,  1.8190,-999.000
   318MWESTW_4,  P21E,    71,  1,     11, SI9311,2,19940418,1701,-16.7500, -99.3333, 3722,   2349.1,   1.8987,  34.6645,2,  34.6647,2,    149.6,2,    148.6,2,   123.08,2,    35.84,2,    -0.01,2,     2.51,2, -999.000,9, -999.000,9, -999.000,1,-999.0000,1,  -999.00,9,   -999.0,1,-999.000,9,   -999.0,9,   -999.0,9,  -999.00,9,23517.1,-999.0000,-999.000,-999.000,  1.7338,-999.000
   318MWESTW_4,  P21E,    71,  1,     10, SI9310,2,19940418,1701,-16.7500, -99.3333, 3722,   2498.5,   1.8549,  34.6700,2,  34.6708,2,    148.1,2,    148.1,2,   126.37,2,    35.93,2,     0.01,2,     2.52,2, -999.000,9, -999.000,9, -999.000,1,-999.0000,1,  -999.00,9,   -999.0,1,-999.000,9,   -999.0,9,   -999.0,9,  -999.00,9,25009.6,-999.0000,-999.000,-999.000,  1.6774,-999.000
   318MWESTW_4,  P21E,    71,  1,      9, SI9309,2,19940418,1701,-16.7500, -99.3333, 3722,   2649.6,   1.8236,  34.6751,2,  34.6739,2,    150.4,2,    150.4,2,   127.42,2,    35.78,2,     0.00,2,     2.51,2, -999.000,9, -999.000,9, -999.000,1,-999.0000,1,  -999.00,9,   -999.0,1,-999.000,9,   -999.0,9,   -999.0,9,  -999.00,9,26519.0,-999.0000,-999.000,-999.000,  1.6329,-999.000
   318MWESTW_4,  P21E,    71,  1,      8, SI9308,2,19940418,1701,-16.7500, -99.3333, 3722,   2797.1,   1.8067,  34.6783,2,  34.6810,2,    148.5,2,    148.8,2,   129.32,2,    35.72,2,     0.00,2,     2.50,2, -999.000,9, -999.000,9, -999.000,1,-999.0000,1,  -999.00,9,   -999.0,1,-999.000,9,   -999.0,9,   -999.0,9,  -999.00,9,27993.6,-999.0000,-999.000,-999.000,  1.6026,-999.000
   318MWESTW_4,  P21E,    71,  1,      7, SI9307,2,19940418,1701,-16.7500, -99.3333, 3722,   2946.7,   1.8009,  34.6795,2,  34.6793,2,    145.8,2,    145.7,2,   133.14,2,    36.16,2,     0.00,2,     2.53,2, -999.000,9, -999.000,9, -999.000,1,-999.0000,1,  -999.00,9,   -999.0,1,-999.000,9,   -999.0,9,   -999.0,9,  -999.00,9,29488.3,-999.0000,-999.000,-999.000,  1.5826,-999.000
   318MWESTW_4,  P21E,    71,  1,      6, SI9306,2,19940418,1701,-16.7500, -99.3333, 3722,   3097.3,   1.8014,  34.6809,2,  34.6808,2,    144.9,2,    145.6,2,   133.66,2,    36.16,2,     0.00,2,     2.53,2, -999.000,9, -999.000,9, -999.000,1,-999.0000,1,  -999.00,9,   -999.0,1,-999.000,9,   -999.0,9,   -999.0,9,  -999.00,9,30992.8,-999.0000,-999.000,-999.000,  1.5684,-999.000
   318MWESTW_4,  P21E,    71,  1,      5, SI9305,2,19940418,1701,-16.7500, -99.3333, 3722,   3249.9,   1.8029,  34.6822,2,  34.6826,2,    145.3,2,    145.4,2,   134.71,2,    36.27,2,     0.00,2,     2.53,2, -999.000,9, -999.000,9, -999.000,1,-999.0000,1,  -999.00,9,   -999.0,1,-999.000,9,   -999.0,9,   -999.0,9,  -999.00,9,32518.6,-999.0000,-999.000,-999.000,  1.5547,-999.000
   318MWESTW_4,  P21E,    71,  1,      4, SI9304,2,19940418,1701,-16.7500, -99.3333, 3722,   3398.6,   1.8031,  34.6840,2,  34.6832,2,    146.1,2,    146.6,2,   133.50,2,    36.11,2,     0.00,2,     2.52,2, -999.000,9, -999.000,9, -999.000,1,-999.0000,1,  -999.00,9,   -999.0,1,-999.000,9,   -999.0,9,   -999.0,9,  -999.00,9,34004.6,-999.0000,-999.000,-999.000,  1.5398,-999.000
   318MWESTW_4,  P21E,    71,  1,      3, SI9303,2,19940418,1701,-16.7500, -99.3333, 3722,   3544.9,   1.8083,  34.6852,2,  34.6853,2,    147.9,2,    147.7,2,   132.63,2,    36.05,2,     0.00,2,     2.51,2, -999.000,9, -999.000,9, -999.000,1,-999.0000,1,  -999.00,9,   -999.0,1,-999.000,9,   -999.0,9,   -999.0,9,  -999.00,9,35466.2,-999.0000,-999.000,-999.000,  1.5297,-999.000
   318MWESTW_4,  P21E,    71,  1,      2, SI9302,2,19940418,1701,-16.7500, -99.3333, 3722,   3708.7,   1.8178,  34.6864,2,  34.6853,2,    148.2,2,    148.4,2,   131.93,2,    35.88,2,     0.00,2,     2.52,2, -999.000,9, -999.000,9, -999.000,1,-999.0000,1,  -999.00,9,   -999.0,1,-999.000,9,   -999.0,9,   -999.0,9,  -999.00,9,37103.9,-999.0000,-999.000,-999.000,  1.5216,-999.000
   318MWESTW_4,  P21E,    71,  1,      1, SI9301,2,19940418,1701,-16.7500, -99.3333, 3722,   3761.3,   1.8228,  34.6861,2,  34.6861,2,    144.4,2,    148.7,2,   131.74,2,    35.95,2,     0.00,2,     2.52,2, -999.000,9, -999.000,9, -999.000,1,-999.0000,1,  -999.00,9,   -999.0,1,-999.000,9,   -999.0,9,   -999.0,9,  -999.00,9,37629.3,-999.0000,-999.000,-999.000,  1.5209,-999.000