BOTTLE,20010911WHPSIOdm
EXPOCODE,SECT_ID,STNNBR,CASTNO,SAMPNO,BTLNBR,BTLNBR_FLAG_W,DATE,TIME,LATITUDE,LONGITUDE,DEPTH,CTDPRS,CTDTMP,CTDSAL,CTDSAL_FLAG_W,SALNTY,SALNTY_FLAG_W,CTDOXY,CTDOXY_FLAG_W,OXYGEN,OXYGEN_FLAG_W,SILCAT,SILCAT_FLAG_W,NITRAT,NITRAT_FLAG_W,NITRIT,NITRIT_FLAG_W,PHSPHT,PHSPHT_FLAG_W,CFC-11,CFC-11_FLAG_W,CFC-12,CFC-12_FLAG_W,TRITUM,TRITUM_FLAG_W,HELIUM,HELIUM_FLAG_W,DELHE3,DELHE3_FLAG_W,DELC14,DELC14_FLAG_W,NEON,NEON_FLAG_W,TCARBN,TCARBN_FLAG_W,ALKALI,ALKALI_FLAG_W,PH,PH_FLAG_W,CTDRAW,HELIER,DELHER,NEONER,THETA,TRITER
,,,,,,,,,,,,DBAR,ITS-90,PSS-78,,PSS-78,,UMOL/KG,,UMOL/KG,,UMOL/KG,,UMOL/KG,,UMOL/KG,,UMOL/KG,,PMOL/KG,,PMOL/KG,,TU,,UMOL/KG,,PERCNT,,/MILLE,,NMOL/KG,,UMOL/KG,,UMOL/KG,,,,,NMOL/KG,PERCNT,NMOL/KG,ITS-90,TU
   318MWESTW_4,  P21E,    27,  1,     36, SI9336,2,19940404,0749,-16.7500, -77.3362, 2917,      6.8,  22.9605,  34.9735,2,  34.9654,2,    228.9,2,    231.9,2,     0.81,2,     0.04,2,     0.00,2,     0.41,2,    2.130,2,    1.139,2, -999.000,1,-999.0000,1,  -999.00,9,   -999.0,1,-999.000,9,   -999.0,9,   -999.0,9,  -999.00,9,  113.0,-999.0000,-999.000,-999.000, 22.9591,-999.000
   318MWESTW_4,  P21E,    27,  1,     34, SI9334,2,19940404,0749,-16.7500, -77.3362, 2917,      6.9,  22.9583,  34.9735,2,  34.9660,2,    228.9,2,    234.3,2,     1.18,2,     0.11,2,     0.01,2,     0.42,2,    2.105,2,    1.130,2, -999.000,1,-999.0000,1,  -999.00,9,   -999.0,1,-999.000,9,   -999.0,9,   -999.0,9,  -999.00,9,  114.0,-999.0000,-999.000,-999.000, 22.9569,-999.000
   318MWESTW_4,  P21E,    27,  1,     35, SI9335,2,19940404,0749,-16.7500, -77.3362, 2917,      7.0,  22.9585,  34.9735,2,  34.9660,2,    228.9,2,    232.9,2,     1.18,2,     0.04,2,     0.01,2,     0.42,2, -999.000,5, -999.000,5, -999.000,1,-999.0000,1,  -999.00,9,   -999.0,1,-999.000,9,   -999.0,9,   -999.0,9,  -999.00,9,  114.5,-999.0000,-999.000,-999.000, 22.9571,-999.000
   318MWESTW_4,  P21E,    27,  1,     33, SI9333,2,19940404,0749,-16.7500, -77.3362, 2917,     26.9,  18.5686,  35.1142,2,  34.9662,2,    248.5,2,    234.5,2,     1.37,2,     0.84,2,     0.11,2,     0.57,2,    2.508,2,    1.296,2, -999.000,1,-999.0000,1,  -999.00,9,   -999.0,1,-999.000,9,   -999.0,9,   -999.0,9,  -999.00,9,  314.4,-999.0000,-999.000,-999.000, 18.5639,-999.000
   318MWESTW_4,  P21E,    27,  1,     32, SI9332,2,19940404,0749,-16.7500, -77.3362, 2917,     52.9,  16.8220,  35.0541,2,  35.0526,3,    188.1,2,    160.0,2,     3.97,2,     9.59,2,     0.51,2,     1.22,2,    2.373,2,    1.206,2, -999.000,1,-999.0000,1,  -999.00,9,   -999.0,1,-999.000,9,   -999.0,9,   -999.0,9,  -999.00,9,  573.6,-999.0000,-999.000,-999.000, 16.8134,-999.000
   318MWESTW_4,  P21E,    27,  1,     31, SI9331,2,19940404,0749,-16.7500, -77.3362, 2917,    102.9,  13.7377,  34.8303,2,  34.8247,2,      9.0,2,      7.0,2,    19.73,2,    19.38,2,     0.18,2,     2.63,2,    1.147,2,    0.566,2, -999.000,1,-999.0000,1,  -999.00,9,   -999.0,1,-999.000,9,   -999.0,9,   -999.0,9,  -999.00,9, 1073.0,-999.0000,-999.000,-999.000, 13.7231,-999.000
   318MWESTW_4,  P21E,    27,  1,     30, SI9330,2,19940404,0749,-16.7500, -77.3362, 2917,    148.2,  13.1543,  34.8838,2,  34.8863,2,      2.0,2,      0.3,2,    28.27,2,     9.97,2,     4.96,2,     2.75,2,    0.526,2,    0.295,2, -999.000,1,-999.0000,1,  -999.00,9,   -999.0,1,-999.000,9,   -999.0,9,   -999.0,9,  -999.00,9, 1526.2,-999.0000,-999.000,-999.000, 13.1338,-999.000
   318MWESTW_4,  P21E,    27,  1,     29, SI9329,2,19940404,0749,-16.7500, -77.3362, 2917,    201.4,  12.4185,  34.8526,2,  34.8611,2,      1.5,2,      0.4,2,    28.83,2,    14.26,2,     5.61,2,     2.72,2,    0.314,2,    0.163,2, -999.000,1,-999.0000,1,  -999.00,9,   -999.0,1,-999.000,9,   -999.0,9,   -999.0,9,  -999.00,9, 2057.5,-999.0000,-999.000,-999.000, 12.3917,-999.000
   318MWESTW_4,  P21E,    27,  1,     28, SI9328,2,19940404,0749,-16.7500, -77.3362, 2917,    244.2,  11.7500,  34.7716,2,  34.7781,2,      4.0,2,      4.0,2,    26.05,2,    23.60,2,     0.04,2,     2.70,2,    0.275,2,    0.144,2, -999.000,1,-999.0000,1,  -999.00,9,   -999.0,1,-999.000,9,   -999.0,9,   -999.0,9,  -999.00,9, 2484.5,-999.0000,-999.000,-999.000, 11.7186,-999.000
   318MWESTW_4,  P21E,    27,  1,     27, SI9327,2,19940404,0749,-16.7500, -77.3362, 2917,    295.5,  11.0669,  34.7506,2,  34.7777,4,      1.0,2,      0.5,2,    28.09,2,    26.98,2,     0.92,2,     2.75,2,    0.128,2,    0.067,2, -999.000,1,-999.0000,1,  -999.00,9,   -999.0,1,-999.000,9,   -999.0,9,   -999.0,9,  -999.00,9, 2997.1,-999.0000,-999.000,-999.000, 11.0303,-999.000
   318MWESTW_4,  P21E,    27,  1,     26, SI9326,2,19940404,0749,-16.7500, -77.3362, 2917,    398.2,   9.3261,  34.6444,2,  34.6517,2,      4.3,2,      4.4,2,    31.06,2,    35.89,2,     0.01,2,     2.87,2,    0.045,2,    0.013,2, -999.000,1,-999.0000,1,  -999.00,9,   -999.0,1,-999.000,9,   -999.0,9,   -999.0,9,  -999.00,9, 4022.7,-999.0000,-999.000,-999.000,  9.2816,-999.000
   318MWESTW_4,  P21E,    27,  1,     25, SI9325,2,19940404,0749,-16.7500, -77.3362, 2917,    504.1,   7.7730,  34.5756,2,  34.5734,2,     13.7,2,     16.1,2,    36.82,2,    40.86,2,     0.00,2,     3.00,2,    0.023,2,    0.009,2, -999.000,1,-999.0000,1,  -999.00,9,   -999.0,1,-999.000,9,   -999.0,9,   -999.0,9,  -999.00,9, 5080.5,-999.0000,-999.000,-999.000,  7.7221,-999.000
   318MWESTW_4,  P21E,    27,  1,     24, SI9324,2,19940404,0749,-16.7500, -77.3362, 2917,    605.9,   6.7329,  34.5171,2,  34.5215,2,     31.2,2,     31.8,2,    41.28,2,    42.16,2,     0.01,2,     3.02,2,    0.009,2,    0.001,2, -999.000,1,-999.0000,1,  -999.00,9,   -999.0,1,-999.000,9,   -999.0,9,   -999.0,9,  -999.00,9, 6097.2,-999.0000,-999.000,-999.000,  6.6761,-999.000
   318MWESTW_4,  P21E,    27,  1,     23, SI9323,2,19940404,0749,-16.7500, -77.3362, 2917,    701.0,   5.9767,  34.5043,2,  34.5091,2,     35.6,2,     32.9,2,    50.74,2,    43.77,2,     0.00,2,     3.12,2,    0.003,2,   -0.002,2, -999.000,1,-999.0000,1,  -999.00,9,   -999.0,1,-999.000,9,   -999.0,9,   -999.0,9,  -999.00,9, 7047.7,-999.0000,-999.000,-999.000,  5.9146,-999.000
   318MWESTW_4,  P21E,    27,  1,     22, SI9322,2,19940404,0749,-16.7500, -77.3362, 2917,    798.8,   5.3629,  34.5034,2,  34.5119,2,     37.4,2,     36.1,2,    60.77,2,    44.50,2,     0.01,2,     3.18,2,   -0.001,2,   -0.002,2, -999.000,1,-999.0000,1,  -999.00,9,   -999.0,1,-999.000,9,   -999.0,9,   -999.0,9,  -999.00,9, 8024.0,-999.0000,-999.000,-999.000,  5.2953,-999.000
   318MWESTW_4,  P21E,    27,  1,     21, SI9321,2,19940404,0749,-16.7500, -77.3362, 2917,    898.4,   4.8418,  34.5193,2,  34.5199,2,     40.5,2,     44.3,2,    70.43,2,    44.22,2,     0.01,2,     3.16,2,    0.000,2,   -0.003,2, -999.000,1,-999.0000,1,  -999.00,9,   -999.0,1,-999.000,9,   -999.0,9,   -999.0,9,  -999.00,9, 9019.7,-999.0000,-999.000,-999.000,  4.7687,-999.000
   318MWESTW_4,  P21E,    27,  1,     20, SI9320,2,19940404,0749,-16.7500, -77.3362, 2917,    996.1,   4.4555,  34.5284,2,  34.5294,2,     51.3,2,     53.4,2,    78.22,2,    43.54,2,     0.01,2,     3.13,2,   -0.003,2,   -0.002,2, -999.000,1,-999.0000,1,  -999.00,9,   -999.0,1,-999.000,9,   -999.0,9,   -999.0,9,  -999.00,9, 9995.4,-999.0000,-999.000,-999.000,  4.3766,-999.000
   318MWESTW_4,  P21E,    27,  1,     19, SI9319,2,19940404,0749,-16.7500, -77.3362, 2917,   1098.9,   4.0375,  34.5416,2,  34.5435,2,     61.8,2,     63.4,2,    87.14,2,    42.73,2,     0.01,2,     3.09,2, -999.000,9, -999.000,9, -999.000,1,-999.0000,1,  -999.00,9,   -999.0,1,-999.000,9,   -999.0,9,   -999.0,9,  -999.00,9,11022.2,-999.0000,-999.000,-999.000,  3.9532,-999.000
   318MWESTW_4,  P21E,    27,  1,     18, SI9318,2,19940404,0749,-16.7500, -77.3362, 2917,   1200.7,   3.7332,  34.5549,2,  34.5561,2,     69.3,2,     69.9,2,    94.38,2,    42.16,2,     0.01,2,     3.05,2, -999.000,9, -999.000,9, -999.000,1,-999.0000,1,  -999.00,9,   -999.0,1,-999.000,9,   -999.0,9,   -999.0,9,  -999.00,9,12039.0,-999.0000,-999.000,-999.000,  3.6429,-999.000
   318MWESTW_4,  P21E,    27,  1,     17, SI9317,2,19940404,0749,-16.7500, -77.3362, 2917,   1299.5,   3.5049,  34.5684,2,  34.5692,2,     73.3,2,     74.0,2,   101.06,2,    41.75,2,     0.03,2,     3.02,2, -999.000,9, -999.000,9, -999.000,1,-999.0000,1,  -999.00,9,   -999.0,1,-999.000,9,   -999.0,9,   -999.0,9,  -999.00,9,13026.0,-999.0000,-999.000,-999.000,  3.4085,-999.000
   318MWESTW_4,  P21E,    27,  1,     16, SI9316,2,19940404,0749,-16.7500, -77.3362, 2917,   1399.7,   3.2409,  34.5829,2,  34.5830,2,     77.8,2,     78.6,2,   108.68,2,    41.24,2,     0.03,2,     3.00,2, -999.000,9, -999.000,9, -999.000,1,-999.0000,1,  -999.00,9,   -999.0,1,-999.000,9,   -999.0,9,   -999.0,9,  -999.00,9,14027.2,-999.0000,-999.000,-999.000,  3.1387,-999.000
   318MWESTW_4,  P21E,    27,  1,     15, SI9315,2,19940404,0749,-16.7500, -77.3362, 2917,   1505.7,   3.0136,  34.5949,2,  34.5965,2,     84.2,2,     83.9,2,   114.07,2,    40.85,2,     0.02,2,     2.96,2, -999.000,9, -999.000,9, -999.000,1,-999.0000,1,  -999.00,9,   -999.0,1,-999.000,9,   -999.0,9,   -999.0,9,  -999.00,9,15085.9,-999.0000,-999.000,-999.000,  2.9051,-999.000
   318MWESTW_4,  P21E,    27,  1,     14, SI9314,2,19940404,0749,-16.7500, -77.3362, 2917,   1603.4,   2.8371,  34.6063,2,  34.6058,2,     88.0,2,     88.6,2,   118.90,2,    40.47,2,     0.01,2,     2.92,2, -999.000,9, -999.000,9, -999.000,1,-999.0000,1,  -999.00,9,   -999.0,1,-999.000,9,   -999.0,9,   -999.0,9,  -999.00,9,16061.6,-999.0000,-999.000,-999.000,  2.7225,-999.000
   318MWESTW_4,  P21E,    27,  1,     13, SI9313,2,19940404,0749,-16.7500, -77.3362, 2917,   1700.6,   2.6983,  34.6153,2,  34.6140,2,     93.9,2,     93.2,2,   122.07,2,    40.13,2,     0.01,2,     2.88,2, -999.000,9, -999.000,9, -999.000,1,-999.0000,1,  -999.00,9,   -999.0,1,-999.000,9,   -999.0,9,   -999.0,9,  -999.00,9,17032.8,-999.0000,-999.000,-999.000,  2.5772,-999.000
   318MWESTW_4,  P21E,    27,  1,     12, SI9312,2,19940404,0749,-16.7500, -77.3362, 2917,   1799.2,   2.5593,  34.6248,2,  34.6233,2,     97.0,2,     96.8,2,   126.15,2,    39.75,2,     0.00,2,     2.86,2, -999.000,9, -999.000,9, -999.000,1,-999.0000,1,  -999.00,9,   -999.0,1,-999.000,9,   -999.0,9,   -999.0,9,  -999.00,9,18017.4,-999.0000,-999.000,-999.000,  2.4317,-999.000
   318MWESTW_4,  P21E,    27,  1,     11, SI9311,2,19940404,0749,-16.7500, -77.3362, 2917,   1896.3,   2.4586,  34.6307,2,  34.6293,2,    100.0,2,    100.7,2,   128.57,2,    39.35,2,     0.00,2,     2.84,2, -999.000,9, -999.000,9, -999.000,1,-999.0000,1,  -999.00,9,   -999.0,1,-999.000,9,   -999.0,9,   -999.0,9,  -999.00,9,18987.8,-999.0000,-999.000,-999.000,  2.3242,-999.000
   318MWESTW_4,  P21E,    27,  1,     10, SI9310,2,19940404,0749,-16.7500, -77.3362, 2917,   1996.6,   2.3253,  34.6383,2,  34.6374,2,    106.5,2,    107.6,2,   129.69,2,    38.90,2,     0.00,2,     2.79,2, -999.000,9, -999.000,9, -999.000,1,-999.0000,1,  -999.00,9,   -999.0,1,-999.000,9,   -999.0,9,   -999.0,9,  -999.00,9,19990.3,-999.0000,-999.000,-999.000,  2.1842,-999.000
   318MWESTW_4,  P21E,    27,  1,      9, SI9309,2,19940404,0749,-16.7500, -77.3362, 2917,   2093.9,   2.2324,  34.6454,2,  34.6431,2,    113.6,2,    113.8,2,   130.07,2,    38.38,2,     0.00,2,     2.74,2, -999.000,9, -999.000,9, -999.000,1,-999.0000,1,  -999.00,9,   -999.0,1,-999.000,9,   -999.0,9,   -999.0,9,  -999.00,9,20962.0,-999.0000,-999.000,-999.000,  2.0843,-999.000
   318MWESTW_4,  P21E,    27,  1,      8, SI9308,2,19940404,0749,-16.7500, -77.3362, 2917,   2195.5,   2.1503,  34.6519,2,  34.6492,2,    117.4,2,    117.5,2,   131.93,2,    38.11,2,     0.00,2,     2.71,2, -999.000,9, -999.000,9, -999.000,1,-999.0000,1,  -999.00,9,   -999.0,1,-999.000,9,   -999.0,9,   -999.0,9,  -999.00,9,21977.0,-999.0000,-999.000,-999.000,  1.9946,-999.000
   318MWESTW_4,  P21E,    27,  1,      7, SI9307,2,19940404,0749,-16.7500, -77.3362, 2917,   2302.3,   2.0477,  34.6584,2,  34.6570,2,    126.4,2,    126.1,2,   130.82,2,    37.41,2,     0.01,2,     2.66,2, -999.000,9, -999.000,9, -999.000,1,-999.0000,1,  -999.00,9,   -999.0,1,-999.000,9,   -999.0,9,   -999.0,9,  -999.00,9,23044.0,-999.0000,-999.000,-999.000,  1.8843,-999.000
   318MWESTW_4,  P21E,    27,  1,      6, SI9306,2,19940404,0749,-16.7500, -77.3362, 2917,   2397.6,   1.9619,  34.6627,2,  34.6631,2,    133.2,2,    133.8,2,   129.72,2,    36.77,2,     0.02,2,     2.60,2, -999.000,9, -999.000,9, -999.000,1,-999.0000,1,  -999.00,9,   -999.0,1,-999.000,9,   -999.0,9,   -999.0,9,  -999.00,9,23996.1,-999.0000,-999.000,-999.000,  1.7915,-999.000
   318MWESTW_4,  P21E,    27,  1,      5, SI9305,2,19940404,0749,-16.7500, -77.3362, 2917,   2495.2,   1.9097,  34.6670,2,  34.6671,2,    138.7,2,    139.3,2,   128.61,2,    36.31,2,     0.02,2,     2.57,2, -999.000,9, -999.000,9, -999.000,1,-999.0000,1,  -999.00,9,   -999.0,1,-999.000,9,   -999.0,9,   -999.0,9,  -999.00,9,24971.9,-999.0000,-999.000,-999.000,  1.7315,-999.000
   318MWESTW_4,  P21E,    27,  1,      4, SI9304,2,19940404,0749,-16.7500, -77.3362, 2917,   2599.6,   1.8721,  34.6711,2,  34.6706,2,    142.3,2,    142.3,2,   128.62,2,    36.16,2,     0.02,2,     2.55,2, -999.000,9, -999.000,9, -999.000,1,-999.0000,1,  -999.00,9,   -999.0,1,-999.000,9,   -999.0,9,   -999.0,9,  -999.00,9,26014.3,-999.0000,-999.000,-999.000,  1.6851,-999.000
   318MWESTW_4,  P21E,    27,  1,      3, SI9303,2,19940404,0749,-16.7500, -77.3362, 2917,   2701.4,   1.8323,  34.6743,2,  34.6747,2,    144.7,2,    144.4,2,   128.99,2,    36.00,2,     0.02,2,     2.53,2, -999.000,9, -999.000,9, -999.000,1,-999.0000,1,  -999.00,9,   -999.0,1,-999.000,9,   -999.0,9,   -999.0,9,  -999.00,9,27031.6,-999.0000,-999.000,-999.000,  1.6366,-999.000
   318MWESTW_4,  P21E,    27,  1,      2, SI9302,2,19940404,0749,-16.7500, -77.3362, 2917,   2835.6,   1.7896,  34.6791,2,  34.6789,2,    144.2,2,    144.9,2,   131.23,2,    36.01,2,     0.02,2,     2.53,2, -999.000,9, -999.000,9, -999.000,1,-999.0000,1,  -999.00,9,   -999.0,1,-999.000,9,   -999.0,9,   -999.0,9,  -999.00,9,28372.7,-999.0000,-999.000,-999.000,  1.5822,-999.000
   318MWESTW_4,  P21E,    27,  1,      1, SI9301,2,19940404,0749,-16.7500, -77.3362, 2917,   2876.9,   1.7844,  34.6802,2,  34.6745,4,    143.4,2,    144.2,2,   132.04,2,    35.93,2,     0.00,2,     2.53,2, -999.000,9, -999.000,9, -999.000,1,-999.0000,1,  -999.00,9,   -999.0,1,-999.000,9,   -999.0,9,   -999.0,9,  -999.00,9,28785.2,-999.0000,-999.000,-999.000,  1.5732,-999.000