BOTTLE,20010911WHPSIOdm
EXPOCODE,SECT_ID,STNNBR,CASTNO,SAMPNO,BTLNBR,BTLNBR_FLAG_W,DATE,TIME,LATITUDE,LONGITUDE,DEPTH,CTDPRS,CTDTMP,CTDSAL,CTDSAL_FLAG_W,SALNTY,SALNTY_FLAG_W,CTDOXY,CTDOXY_FLAG_W,OXYGEN,OXYGEN_FLAG_W,SILCAT,SILCAT_FLAG_W,NITRAT,NITRAT_FLAG_W,NITRIT,NITRIT_FLAG_W,PHSPHT,PHSPHT_FLAG_W,CFC-11,CFC-11_FLAG_W,CFC-12,CFC-12_FLAG_W,TRITUM,TRITUM_FLAG_W,HELIUM,HELIUM_FLAG_W,DELHE3,DELHE3_FLAG_W,DELC14,DELC14_FLAG_W,NEON,NEON_FLAG_W,TCARBN,TCARBN_FLAG_W,ALKALI,ALKALI_FLAG_W,PH,PH_FLAG_W,CTDRAW,HELIER,DELHER,NEONER,THETA,TRITER
,,,,,,,,,,,,DBAR,ITS-90,PSS-78,,PSS-78,,UMOL/KG,,UMOL/KG,,UMOL/KG,,UMOL/KG,,UMOL/KG,,UMOL/KG,,PMOL/KG,,PMOL/KG,,TU,,UMOL/KG,,PERCNT,,/MILLE,,NMOL/KG,,UMOL/KG,,UMOL/KG,,,,,NMOL/KG,PERCNT,NMOL/KG,ITS-90,TU
   318MWESTW_4,  P21E,     7,  1,     33, SI9333,3,19940330,1447,-14.8750, -76.4083, 3342,      8.6,  23.4166,  35.1299,2,-999.0000,9,    222.5,2,   -999.0,9,  -999.00,9,  -999.00,9,  -999.00,9,  -999.00,9, -999.000,9, -999.000,9, -999.000,1,-999.0000,1,  -999.00,9,   -999.0,1,-999.000,9,   -999.0,9,   -999.0,9,  -999.00,9,  121.6,-999.0000,-999.000,-999.000, 23.4148,-999.000
   318MWESTW_4,  P21E,     7,  1,     32, SI9332,2,19940330,1447,-14.8750, -76.4083, 3342,     28.2,  17.9274,  34.9435,2,  34.9282,2,    249.1,2,    242.8,2,     0.35,2,     0.11,2,     0.01,2,     0.53,2, -999.000,9, -999.000,9, -999.000,1,-999.0000,1,  -999.00,9,   -999.0,1,-999.000,9,   -999.0,9,   -999.0,9,  -999.00,9,  318.5,-999.0000,-999.000,-999.000, 17.9226,-999.000
   318MWESTW_4,  P21E,     7,  1,     31, SI9331,2,19940330,1447,-14.8750, -76.4083, 3342,     51.9,  17.1200,  35.0857,2,  35.0374,2,    180.3,2,    194.7,2,     1.75,2,     3.50,2,     0.41,2,     0.90,2, -999.000,9, -999.000,9, -999.000,1,-999.0000,1,  -999.00,9,   -999.0,1,-999.000,9,   -999.0,9,   -999.0,9,  -999.00,9,  554.5,-999.0000,-999.000,-999.000, 17.1114,-999.000
   318MWESTW_4,  P21E,     7,  1,     30, SI9330,2,19940330,1447,-14.8750, -76.4083, 3342,    100.7,  13.2118,  34.7794,2,  34.7606,2,     25.8,2,     22.7,2,    18.24,2,    19.70,2,     0.00,2,     2.51,2, -999.000,9, -999.000,9, -999.000,1,-999.0000,1,  -999.00,9,   -999.0,1,-999.000,9,   -999.0,9,   -999.0,9,  -999.00,9, 1042.0,-999.0000,-999.000,-999.000, 13.1979,-999.000
   318MWESTW_4,  P21E,     7,  1,     29, SI9329,2,19940330,1447,-14.8750, -76.4083, 3342,    147.3,  12.5356,  34.8423,2,  34.8493,2,      1.4,2,      0.3,2,    27.18,2,    15.27,2,     2.65,2,     2.76,2, -999.000,9, -999.000,9, -999.000,1,-999.0000,1,  -999.00,9,   -999.0,1,-999.000,9,   -999.0,9,   -999.0,9,  -999.00,9, 1507.7,-999.0000,-999.000,-999.000, 12.5159,-999.000
   318MWESTW_4,  P21E,     7,  1,     28, SI9328,2,19940330,1447,-14.8750, -76.4083, 3342,    198.4,  11.6022,  34.7904,2,  34.7946,2,      1.0,2,      0.7,2,    27.00,2,    23.77,2,     1.51,2,     2.73,2, -999.000,9, -999.000,9, -999.000,1,-999.0000,1,  -999.00,9,   -999.0,1,-999.000,9,   -999.0,9,   -999.0,9,  -999.00,9, 2018.8,-999.0000,-999.000,-999.000, 11.5769,-999.000
   318MWESTW_4,  P21E,     7,  1,     27, SI9327,2,19940330,1447,-14.8750, -76.4083, 3342,    250.2,  10.6675,  34.7474,2,  34.7447,2,      0.5,2,      0.4,2,    28.58,2,    28.40,2,     1.42,2,     2.78,2, -999.000,9, -999.000,9, -999.000,1,-999.0000,1,  -999.00,9,   -999.0,1,-999.000,9,   -999.0,9,   -999.0,9,  -999.00,9, 2535.8,-999.0000,-999.000,-999.000, 10.6373,-999.000
   318MWESTW_4,  P21E,     7,  1,     26, SI9326,2,19940330,1447,-14.8750, -76.4083, 3342,    300.0,   9.8598,  34.7029,2,  34.6936,2,      0.5,2,      1.3,2,    30.16,2,    33.56,2,    -0.01,2,     2.84,2, -999.000,9, -999.000,9, -999.000,1,-999.0000,1,  -999.00,9,   -999.0,1,-999.000,9,   -999.0,9,   -999.0,9,  -999.00,9, 3033.3,-999.0000,-999.000,-999.000,  9.8252,-999.000
   318MWESTW_4,  P21E,     7,  1,     25, SI9325,2,19940330,1447,-14.8750, -76.4083, 3342,    396.9,   8.4758,  34.6186,2,  34.6295,2,      6.3,2,      3.7,2,    36.47,2,    39.41,2,    -0.01,2,     3.00,2, -999.000,9, -999.000,9, -999.000,1,-999.0000,1,  -999.00,9,   -999.0,1,-999.000,9,   -999.0,9,   -999.0,9,  -999.00,9, 4000.8,-999.0000,-999.000,-999.000,  8.4339,-999.000
   318MWESTW_4,  P21E,     7,  1,     24, SI9324,2,19940330,1447,-14.8750, -76.4083, 3342,    497.5,   7.1609,  34.5596,2,  34.5584,2,     13.5,2,     15.3,2,    42.08,2,    42.54,2,     0.00,2,     3.10,2, -999.000,9, -999.000,9, -999.000,1,-999.0000,1,  -999.00,9,   -999.0,1,-999.000,9,   -999.0,9,   -999.0,9,  -999.00,9, 5006.0,-999.0000,-999.000,-999.000,  7.1130,-999.000
   318MWESTW_4,  P21E,     7,  1,     23, SI9323,2,19940330,1447,-14.8750, -76.4083, 3342,    601.6,   6.4440,  34.5307,2,  34.5294,2,     20.4,2,     22.9,2,    47.52,2,    43.63,2,     0.00,2,     3.16,2, -999.000,9, -999.000,9, -999.000,1,-999.0000,1,  -999.00,9,   -999.0,1,-999.000,9,   -999.0,9,   -999.0,9,  -999.00,9, 6045.4,-999.0000,-999.000,-999.000,  6.3890,-999.000
   318MWESTW_4,  P21E,     7,  1,     22, SI9322,2,19940330,1447,-14.8750, -76.4083, 3342,    697.3,   5.8574,  34.5227,2,  34.5250,2,     24.6,2,     25.4,2,    55.58,2,    44.66,2,    -0.01,2,     3.22,2, -999.000,9, -999.000,9, -999.000,1,-999.0000,1,  -999.00,9,   -999.0,1,-999.000,9,   -999.0,9,   -999.0,9,  -999.00,9, 7001.2,-999.0000,-999.000,-999.000,  5.7962,-999.000
   318MWESTW_4,  P21E,     7,  1,     21, SI9321,2,19940330,1447,-14.8750, -76.4083, 3342,    795.1,   5.2847,  34.5188,2,  34.5215,2,     31.7,2,     33.5,2,    63.82,2,    44.71,2,     0.00,2,     3.25,2, -999.000,9, -999.000,9, -999.000,1,-999.0000,1,  -999.00,9,   -999.0,1,-999.000,9,   -999.0,9,   -999.0,9,  -999.00,9, 7978.0,-999.0000,-999.000,-999.000,  5.2179,-999.000
   318MWESTW_4,  P21E,     7,  1,     20, SI9320,2,19940330,1447,-14.8750, -76.4083, 3342,    896.5,   4.7351,  34.5294,2,  34.5793,4,     41.5,2,     49.1,3,    65.57,4,    39.59,4,     0.10,4,     3.01,4, -999.000,9, -999.000,9, -999.000,1,-999.0000,1,  -999.00,9,   -999.0,1,-999.000,9,   -999.0,9,   -999.0,9,  -999.00,9, 8991.7,-999.0000,-999.000,-999.000,  4.6629,-999.000
   318MWESTW_4,  P21E,     7,  1,     19, SI9319,2,19940330,1447,-14.8750, -76.4083, 3342,    999.7,   4.4323,  34.5391,2,  34.5404,2,     53.0,2,     50.7,2,    81.88,2,    43.47,2,     0.00,2,     3.19,2, -999.000,9, -999.000,9, -999.000,1,-999.0000,1,  -999.00,9,   -999.0,1,-999.000,9,   -999.0,9,   -999.0,9,  -999.00,9,10022.3,-999.0000,-999.000,-999.000,  4.3533,-999.000
   318MWESTW_4,  P21E,     7,  1,     18, SI9318,2,19940330,1447,-14.8750, -76.4083, 3342,   1096.5,   4.0700,  34.5498,2,  34.5484,2,     62.7,2,     60.2,2,    88.54,2,    42.82,2,     0.00,2,     3.15,2, -999.000,9, -999.000,9, -999.000,1,-999.0000,1,  -999.00,9,   -999.0,1,-999.000,9,   -999.0,9,   -999.0,9,  -999.00,9,10989.2,-999.0000,-999.000,-999.000,  3.9856,-999.000
   318MWESTW_4,  P21E,     7,  1,     17, SI9317,2,19940330,1447,-14.8750, -76.4083, 3342,   1197.4,   3.7342,  34.5645,2,  34.5641,2,     67.6,2,     65.6,2,    97.65,2,    42.23,2,     0.00,2,     3.11,2, -999.000,9, -999.000,9, -999.000,1,-999.0000,1,  -999.00,9,   -999.0,1,-999.000,9,   -999.0,9,   -999.0,9,  -999.00,9,11997.4,-999.0000,-999.000,-999.000,  3.6442,-999.000
   318MWESTW_4,  P21E,     7,  1,     16, SI9316,2,19940330,1447,-14.8750, -76.4083, 3342,   1301.6,   3.4942,  34.5732,2,  34.5726,2,     74.9,2,     71.5,2,   103.26,2,    41.91,2,     0.00,2,     3.06,2, -999.000,9, -999.000,9, -999.000,1,-999.0000,1,  -999.00,9,   -999.0,1,-999.000,9,   -999.0,9,   -999.0,9,  -999.00,9,13037.4,-999.0000,-999.000,-999.000,  3.3977,-999.000
   318MWESTW_4,  P21E,     7,  1,     15, SI9315,2,19940330,1447,-14.8750, -76.4083, 3342,   1398.6,   3.2471,  34.5853,2,  34.5849,2,     79.0,2,     76.3,2,   109.40,2,    41.47,2,     0.00,2,     3.04,2, -999.000,9, -999.000,9, -999.000,1,-999.0000,1,  -999.00,9,   -999.0,1,-999.000,9,   -999.0,9,   -999.0,9,  -999.00,9,14006.5,-999.0000,-999.000,-999.000,  3.1450,-999.000
   318MWESTW_4,  P21E,     7,  1,     14, SI9314,2,19940330,1447,-14.8750, -76.4083, 3342,   1494.7,   3.0483,  34.5945,2,  34.5957,2,     82.0,2,     81.7,2,   113.78,2,    41.10,2,     0.00,2,     3.00,2, -999.000,9, -999.000,9, -999.000,1,-999.0000,1,  -999.00,9,   -999.0,1,-999.000,9,   -999.0,9,   -999.0,9,  -999.00,9,14966.4,-999.0000,-999.000,-999.000,  2.9403,-999.000
   318MWESTW_4,  P21E,     7,  1,     13, SI9313,2,19940330,1447,-14.8750, -76.4083, 3342,   1597.1,   2.8611,  34.6086,2,  34.6087,2,     84.1,2,     83.8,2,   121.84,2,    40.78,2,     0.00,2,     3.00,2, -999.000,9, -999.000,9, -999.000,1,-999.0000,1,  -999.00,9,   -999.0,1,-999.000,9,   -999.0,9,   -999.0,9,  -999.00,9,15989.7,-999.0000,-999.000,-999.000,  2.7467,-999.000
   318MWESTW_4,  P21E,     7,  1,     12, SI9312,2,19940330,1447,-14.8750, -76.4083, 3342,   1749.6,   2.6383,  34.6202,2,  34.6203,2,     91.7,2,     91.6,2,   126.57,2,    40.18,2,     0.00,2,     2.93,2, -999.000,9, -999.000,9, -999.000,1,-999.0000,1,  -999.00,9,   -999.0,1,-999.000,9,   -999.0,9,   -999.0,9,  -999.00,9,17513.1,-999.0000,-999.000,-999.000,  2.5139,-999.000
   318MWESTW_4,  P21E,     7,  1,     11, SI9311,2,19940330,1447,-14.8750, -76.4083, 3342,   1897.4,   2.4203,  34.6351,2,  34.6346,2,     98.2,2,     97.8,2,   132.87,2,    39.65,2,     0.00,2,     2.88,2, -999.000,9, -999.000,9, -999.000,1,-999.0000,1,  -999.00,9,   -999.0,1,-999.000,9,   -999.0,9,   -999.0,9,  -999.00,9,18989.7,-999.0000,-999.000,-999.000,  2.2863,-999.000
   318MWESTW_4,  P21E,     7,  1,     10, SI9310,2,19940330,1447,-14.8750, -76.4083, 3342,   2044.6,   2.2315,  34.6441,2,  34.6451,2,    106.8,2,    108.6,2,   133.92,2,    38.79,2,     0.00,2,     2.81,2, -999.000,9, -999.000,9, -999.000,1,-999.0000,1,  -999.00,9,   -999.0,1,-999.000,9,   -999.0,9,   -999.0,9,  -999.00,9,20460.4,-999.0000,-999.000,-999.000,  2.0877,-999.000
   318MWESTW_4,  P21E,     7,  1,      9, SI9309,2,19940330,1447,-14.8750, -76.4083, 3342,   2197.9,   2.0951,  34.6537,2,  34.6543,2,    116.4,2,    117.0,2,   134.80,2,    38.14,2,     0.00,2,     2.75,2, -999.000,9, -999.000,9, -999.000,1,-999.0000,1,  -999.00,9,   -999.0,1,-999.000,9,   -999.0,9,   -999.0,9,  -999.00,9,21991.8,-999.0000,-999.000,-999.000,  1.9401,-999.000
   318MWESTW_4,  P21E,     7,  1,      8, SI9308,2,19940330,1447,-14.8750, -76.4083, 3342,   2350.3,   1.9601,  34.6639,2,  34.6635,2,    122.1,2,    125.4,2,   135.67,2,    37.34,2,    -0.01,2,     2.68,2, -999.000,9, -999.000,9, -999.000,1,-999.0000,1,  -999.00,9,   -999.0,1,-999.000,9,   -999.0,9,   -999.0,9,  -999.00,9,23514.3,-999.0000,-999.000,-999.000,  1.7940,-999.000
   318MWESTW_4,  P21E,     7,  1,      7, SI9307,2,19940330,1447,-14.8750, -76.4083, 3342,   2493.2,   1.8932,  34.6687,2,  34.6684,2,    129.1,2,    126.8,2,   137.77,2,    37.11,2,     0.00,2,     2.68,2, -999.000,9, -999.000,9, -999.000,1,-999.0000,1,  -999.00,9,   -999.0,1,-999.000,9,   -999.0,9,   -999.0,9,  -999.00,9,24942.3,-999.0000,-999.000,-999.000,  1.7155,-999.000
   318MWESTW_4,  P21E,     7,  1,      6, SI9306,2,19940330,1447,-14.8750, -76.4083, 3342,   2647.5,   1.8461,  34.6727,2,  34.6726,2,    132.8,2,    133.7,2,   136.01,2,    36.78,2,     0.01,2,     2.62,2, -999.000,9, -999.000,9, -999.000,1,-999.0000,1,  -999.00,9,   -999.0,1,-999.000,9,   -999.0,9,   -999.0,9,  -999.00,9,26484.3,-999.0000,-999.000,-999.000,  1.6551,-999.000
   318MWESTW_4,  P21E,     7,  1,      5, SI9305,2,19940330,1447,-14.8750, -76.4083, 3342,   2799.3,   1.8124,  34.6760,2,  34.6757,2,    129.2,2,    130.6,2,   142.32,2,    37.05,2,     0.01,2,     2.65,2, -999.000,9, -999.000,9, -999.000,1,-999.0000,1,  -999.00,9,   -999.0,1,-999.000,9,   -999.0,9,   -999.0,9,  -999.00,9,28000.9,-999.0000,-999.000,-999.000,  1.6079,-999.000
   318MWESTW_4,  P21E,     7,  1,      4, SI9304,2,19940330,1447,-14.8750, -76.4083, 3342,   2946.1,   1.7962,  34.6780,2,  34.6781,2,    130.1,2,    129.7,2,   144.42,2,    37.23,2,     0.00,2,     2.65,2, -999.000,9, -999.000,9, -999.000,1,-999.0000,1,  -999.00,9,   -999.0,1,-999.000,9,   -999.0,9,   -999.0,9,  -999.00,9,29468.5,-999.0000,-999.000,-999.000,  1.5781,-999.000
   318MWESTW_4,  P21E,     7,  1,      3, SI9303,2,19940330,1447,-14.8750, -76.4083, 3342,   3087.2,   1.7894,  34.6796,2,  34.6787,2,    128.6,2,    128.8,2,   143.37,2,    37.05,2,     0.01,2,     2.64,2, -999.000,9, -999.000,9, -999.000,1,-999.0000,1,  -999.00,9,   -999.0,1,-999.000,9,   -999.0,9,   -999.0,9,  -999.00,9,30877.9,-999.0000,-999.000,-999.000,  1.5577,-999.000
   318MWESTW_4,  P21E,     7,  1,      2, SI9302,2,19940330,1447,-14.8750, -76.4083, 3342,   3219.5,   1.7893,  34.6806,2,  34.6800,2,    129.6,2,    130.6,2,   145.64,2,    37.18,2,     0.00,2,     2.64,2, -999.000,9, -999.000,9, -999.000,1,-999.0000,1,  -999.00,9,   -999.0,1,-999.000,9,   -999.0,9,   -999.0,9,  -999.00,9,32200.1,-999.0000,-999.000,-999.000,  1.5445,-999.000
   318MWESTW_4,  P21E,     7,  1,      1, SI9301,2,19940330,1447,-14.8750, -76.4083, 3342,   3315.5,   1.7939,  34.6811,2,  34.6804,2,    130.5,2,    131.4,2,   145.64,2,    36.97,2,     0.00,2,     2.63,2, -999.000,9, -999.000,9, -999.000,1,-999.0000,1,  -999.00,9,   -999.0,1,-999.000,9,   -999.0,9,   -999.0,9,  -999.00,9,33159.8,-999.0000,-999.000,-999.000,  1.5393,-999.000