BOTTLE,20010911WHPSIOdm
EXPOCODE,SECT_ID,STNNBR,CASTNO,SAMPNO,BTLNBR,BTLNBR_FLAG_W,DATE,TIME,LATITUDE,LONGITUDE,DEPTH,CTDPRS,CTDTMP,CTDSAL,CTDSAL_FLAG_W,SALNTY,SALNTY_FLAG_W,CTDOXY,CTDOXY_FLAG_W,OXYGEN,OXYGEN_FLAG_W,SILCAT,SILCAT_FLAG_W,NITRAT,NITRAT_FLAG_W,NITRIT,NITRIT_FLAG_W,PHSPHT,PHSPHT_FLAG_W,CFC-11,CFC-11_FLAG_W,CFC-12,CFC-12_FLAG_W,TRITUM,TRITUM_FLAG_W,HELIUM,HELIUM_FLAG_W,DELHE3,DELHE3_FLAG_W,DELC14,DELC14_FLAG_W,NEON,NEON_FLAG_W,TCARBN,TCARBN_FLAG_W,ALKALI,ALKALI_FLAG_W,PH,PH_FLAG_W,CTDRAW,HELIER,DELHER,NEONER,THETA,TRITER
,,,,,,,,,,,,DBAR,ITS-90,PSS-78,,PSS-78,,UMOL/KG,,UMOL/KG,,UMOL/KG,,UMOL/KG,,UMOL/KG,,UMOL/KG,,PMOL/KG,,PMOL/KG,,TU,,UMOL/KG,,PERCNT,,/MILLE,,NMOL/KG,,UMOL/KG,,UMOL/KG,,,,,NMOL/KG,PERCNT,NMOL/KG,ITS-90,TU
   318MWESTW_5,  P21W,   231,  1,     28, SI9428,2,19940608,2218,-17.8333, 172.3333, 2950,      6.7,  25.8118,  34.8019,2,  34.8007,2,    213.2,2,    214.5,2,     0.65,2,     0.06,2,     0.00,2,     0.12,2,    1.736,6,    0.969,6, -999.000,1,-999.0000,1,  -999.00,9,   -999.0,1,-999.000,9,   -999.0,9,   -999.0,9,  -999.00,9,  126.1,-999.0000,-999.000,-999.000, 25.8103,-999.000
   318MWESTW_5,  P21W,   231,  1,     27, SI9424,2,19940608,2218,-17.8333, 172.3333, 2950,     22.2,  25.8175,  34.8010,2,  34.8005,2,    216.1,2,    211.7,2,     0.66,2,     0.06,2,     0.00,2,     0.13,2,    1.731,2,    0.978,2, -999.000,1,-999.0000,1,  -999.00,9,   -999.0,1,-999.000,9,   -999.0,9,   -999.0,9,  -999.00,9,  280.6,-999.0000,-999.000,-999.000, 25.8126,-999.000
   318MWESTW_5,  P21W,   231,  1,     26, SI9414,2,19940608,2218,-17.8333, 172.3333, 2950,     47.9,  25.8185,  34.8084,2,  34.8080,2,    210.0,2,    214.5,2,     0.69,2,     0.06,2,     0.00,2,     0.13,2,    1.736,2,    0.961,2, -999.000,1,-999.0000,1,  -999.00,9,   -999.0,1,-999.000,9,   -999.0,9,   -999.0,9,  -999.00,9,  536.9,-999.0000,-999.000,-999.000, 25.8079,-999.000
   318MWESTW_5,  P21W,   231,  1,     25, SI9425,2,19940608,2218,-17.8333, 172.3333, 2950,     95.6,  23.7608,  35.6379,2,  35.6368,2,    197.8,2,    193.0,2,     0.71,2,     0.75,2,     0.09,2,     0.28,2,    1.861,2,    1.018,2, -999.000,1,-999.0000,1,  -999.00,9,   -999.0,1,-999.000,9,   -999.0,9,   -999.0,9,  -999.00,9, 1011.9,-999.0000,-999.000,-999.000, 23.7408,-999.000
   318MWESTW_5,  P21W,   231,  1,     24, SI9434,2,19940608,2218,-17.8333, 172.3333, 2950,    144.7,  22.2491,  35.8409,2,  35.8398,2,    168.7,2,    176.3,2,     1.03,2,     3.85,2,     0.01,2,     0.45,2,    1.887,2,    1.022,2, -999.000,1,-999.0000,1,  -999.00,9,   -999.0,1,-999.000,9,   -999.0,9,   -999.0,9,  -999.00,9, 1500.9,-999.0000,-999.000,-999.000, 22.2201,-999.000
   318MWESTW_5,  P21W,   231,  1,     23, SI9423,2,19940608,2218,-17.8333, 172.3333, 2950,    186.1,  21.1811,  35.8256,2,  35.8232,2,    171.0,2,    170.3,2,     1.20,2,     4.50,2,     0.00,2,     0.48,2,    1.882,2,    1.000,2, -999.000,1,-999.0000,1,  -999.00,9,   -999.0,1,-999.000,9,   -999.0,9,   -999.0,9,  -999.00,9, 1913.5,-999.0000,-999.000,-999.000, 21.1451,-999.000
   318MWESTW_5,  P21W,   231,  1,     22, SI9418,2,19940608,2218,-17.8333, 172.3333, 2950,    238.1,  19.3533,  35.6669,2,  35.6621,2,    179.9,2,    178.3,2,     1.37,2,     4.79,2,     0.00,2,     0.47,2,    1.909,2,    1.021,2, -999.000,1,-999.0000,1,  -999.00,9,   -999.0,1,-999.000,9,   -999.0,9,   -999.0,9,  -999.00,9, 2430.9,-999.0000,-999.000,-999.000, 19.3101,-999.000
   318MWESTW_5,  P21W,   231,  1,     21, SI9421,2,19940608,2218,-17.8333, 172.3333, 2950,    291.3,  17.4039,  35.5006,2,  35.4991,2,    181.3,2,    181.1,2,     1.98,2,     6.44,2,     0.00,2,     0.58,2,    1.842,2,    0.984,2, -999.000,1,-999.0000,1,  -999.00,9,   -999.0,1,-999.000,9,   -999.0,9,   -999.0,9,  -999.00,9, 2960.4,-999.0000,-999.000,-999.000, 17.3548,-999.000
   318MWESTW_5,  P21W,   231,  1,     20, SI9420,2,19940608,2218,-17.8333, 172.3333, 2950,    347.1,  15.2849,  35.2697,2,  35.2696,2,    175.5,2,    173.9,2,     3.75,2,    10.06,2,     0.00,2,     0.83,2,    1.574,2,    0.818,2, -999.000,1,-999.0000,1,  -999.00,9,   -999.0,1,-999.000,9,   -999.0,9,   -999.0,9,  -999.00,9, 3515.7,-999.0000,-999.000,-999.000, 15.2313,-999.000
   318MWESTW_5,  P21W,   231,  1,     19, SI9419,2,19940608,2218,-17.8333, 172.3333, 2950,    395.5,  12.8808,  34.9810,2,  34.9793,2,    167.4,2,    165.3,2,     6.70,2,    15.02,2,     0.00,2,     1.17,2,    1.110,2,    0.582,2, -999.000,1,-999.0000,1,  -999.00,9,   -999.0,1,-999.000,9,   -999.0,9,   -999.0,9,  -999.00,9, 3997.9,-999.0000,-999.000,-999.000, 12.8263,-999.000
   318MWESTW_5,  P21W,   231,  1,     18, SI9439,2,19940608,2218,-17.8333, 172.3333, 2950,    448.8,  10.8167,  34.7705,2,  34.7691,2,    167.2,2,    164.9,2,     9.65,2,    19.20,2,     0.00,2,     1.44,2,    0.800,2,    0.416,2, -999.000,1,-999.0000,1,  -999.00,9,   -999.0,1,-999.000,9,   -999.0,9,   -999.0,9,  -999.00,9, 4527.5,-999.0000,-999.000,-999.000, 10.7615,-999.000
   318MWESTW_5,  P21W,   231,  1,     17, SI9417,2,19940608,2218,-17.8333, 172.3333, 2950,    497.8,   9.3609,  34.6369,2,  34.6356,2,    175.3,2,    175.9,2,    11.28,2,    21.46,2,     0.00,2,     1.56,2,    0.672,2,    0.349,2, -999.000,1,-999.0000,1,  -999.00,9,   -999.0,1,-999.000,9,   -999.0,9,   -999.0,9,  -999.00,9, 5015.4,-999.0000,-999.000,-999.000,  9.3048,-999.000
   318MWESTW_5,  P21W,   231,  1,     16, SI9416,2,19940608,2218,-17.8333, 172.3333, 2950,    596.6,   7.2873,  34.4702,2,  34.4669,2,    183.7,2,    184.7,2,    16.85,2,    25.73,2,     0.00,2,     1.83,2,    0.356,2,    0.188,2, -999.000,1,-999.0000,1,  -999.00,9,   -999.0,1,-999.000,9,   -999.0,9,   -999.0,9,  -999.00,9, 5997.9,-999.0000,-999.000,-999.000,  7.2290,-999.000
   318MWESTW_5,  P21W,   231,  1,     15, SI9415,2,19940608,2218,-17.8333, 172.3333, 2950,    697.9,   6.0152,  34.4147,2,  34.4124,2,    181.7,2,    180.3,2,    26.22,2,    29.08,2,     0.00,2,     2.03,2,    0.151,2,    0.082,2, -999.000,1,-999.0000,1,  -999.00,9,   -999.0,1,-999.000,9,   -999.0,9,   -999.0,9,  -999.00,9, 7004.6,-999.0000,-999.000,-999.000,  5.9533,-999.000
   318MWESTW_5,  P21W,   231,  1,     14, SI9436,2,19940608,2218,-17.8333, 172.3333, 2950,    801.8,   5.2297,  34.4119,2,  34.4114,2,    172.2,2,    172.7,2,    36.03,2,    31.21,2,     0.00,2,     2.18,2,    0.063,2,    0.040,2, -999.000,1,-999.0000,1,  -999.00,9,   -999.0,1,-999.000,9,   -999.0,9,   -999.0,9,  -999.00,9, 8037.4,-999.0000,-999.000,-999.000,  5.1628,-999.000
   318MWESTW_5,  P21W,   231,  1,     13, SI9413,2,19940608,2218,-17.8333, 172.3333, 2950,    897.4,   4.6697,  34.4318,2,  34.4312,2,    165.1,2,    165.3,2,    47.00,2,    32.77,2,     0.00,2,     2.29,2,    0.026,2,    0.017,2, -999.000,1,-999.0000,1,  -999.00,9,   -999.0,1,-999.000,9,   -999.0,9,   -999.0,9,  -999.00,9, 8988.3,-999.0000,-999.000,-999.000,  4.5980,-999.000
   318MWESTW_5,  P21W,   231,  1,     12, SI9438,3,19940608,2218,-17.8333, 172.3333, 2950,    995.6,   4.1897,  34.4605,2,  34.4587,2,    161.5,2,    160.5,2,    57.82,2,    33.75,2,     0.00,2,     2.37,2, -999.000,9, -999.000,9, -999.000,1,-999.0000,1,  -999.00,9,   -999.0,1,-999.000,9,   -999.0,9,   -999.0,9,  -999.00,9, 9965.0,-999.0000,-999.000,-999.000,  4.1130,-999.000
   318MWESTW_5,  P21W,   231,  1,     11, SI9411,2,19940608,2218,-17.8333, 172.3333, 2950,   1095.9,   3.7562,  34.4937,2,  34.4928,2,    157.3,2,    156.1,2,    69.81,2,    34.53,2,     0.00,2,     2.40,2,    0.006,2,    0.005,2, -999.000,1,-999.0000,1,  -999.00,9,   -999.0,1,-999.000,9,   -999.0,9,   -999.0,9,  -999.00,9,10962.2,-999.0000,-999.000,-999.000,  3.6746,-999.000
   318MWESTW_5,  P21W,   231,  1,     10, SI9412,3,19940608,2218,-17.8333, 172.3333, 2950,   1296.4,   3.1687,  34.5498,2,  34.5480,2,    151.6,2,    150.7,2,    88.22,2,    35.27,2,     0.00,2,     2.46,2, -999.000,9, -999.000,9, -999.000,1,-999.0000,1,  -999.00,9,   -999.0,1,-999.000,9,   -999.0,9,   -999.0,9,  -999.00,9,12955.8,-999.0000,-999.000,-999.000,  3.0759,-999.000
   318MWESTW_5,  P21W,   231,  1,      9, SI9410,2,19940608,2218,-17.8333, 172.3333, 2950,   1496.7,   2.8657,  34.5784,2,  34.5763,2,    148.8,2,    148.3,2,    98.01,2,    35.55,2,     0.00,2,     2.48,2,    0.002,2,    0.002,2, -999.000,1,-999.0000,1,  -999.00,9,   -999.0,1,-999.000,9,   -999.0,9,   -999.0,9,  -999.00,9,14947.1,-999.0000,-999.000,-999.000,  2.7597,-999.000
   318MWESTW_5,  P21W,   231,  1,      8, SI9422,2,19940608,2218,-17.8333, 172.3333, 2950,   1697.0,   2.5799,  34.6033,2,  34.6030,2,    147.3,2,    146.7,2,   107.22,2,    35.75,2,     0.00,2,     2.50,2, -999.000,9, -999.000,9, -999.000,1,-999.0000,1,  -999.00,9,   -999.0,1,-999.000,9,   -999.0,9,   -999.0,9,  -999.00,9,16937.8,-999.0000,-999.000,-999.000,  2.4607,-999.000
   318MWESTW_5,  P21W,   231,  1,      7, SI9407,2,19940608,2218,-17.8333, 172.3333, 2950,   1900.4,   2.2832,  34.6289,2,  34.6280,2,    147.0,2,    146.6,2,   116.14,2,    35.76,2,     0.00,2,     2.51,2, -999.000,9, -999.000,9, -999.000,1,-999.0000,1,  -999.00,9,   -999.0,1,-999.000,9,   -999.0,9,   -999.0,9,  -999.00,9,18960.6,-999.0000,-999.000,-999.000,  2.1509,-999.000
   318MWESTW_5,  P21W,   231,  1,      6, SI9427,2,19940608,2218,-17.8333, 172.3333, 2950,   2098.7,   2.1298,  34.6415,2,  34.6402,2,    146.8,2,    146.3,2,   121.41,2,    35.85,2,     0.00,2,     2.50,2, -999.000,9, -999.000,9, -999.000,1,-999.0000,1,  -999.00,9,   -999.0,1,-999.000,9,   -999.0,9,   -999.0,9,  -999.00,9,20931.1,-999.0000,-999.000,-999.000,  1.9829,-999.000
   318MWESTW_5,  P21W,   231,  1,      5, SI9405,2,19940608,2218,-17.8333, 172.3333, 2950,   2300.9,   2.0188,  34.6503,2,  34.6490,2,    146.7,2,    146.5,2,   125.65,2,    36.00,2,     0.00,2,     2.51,2,    0.000,2,    0.001,2, -999.000,1,-999.0000,1,  -999.00,9,   -999.0,1,-999.000,9,   -999.0,9,   -999.0,9,  -999.00,9,22941.5,-999.0000,-999.000,-999.000,  1.8561,-999.000
   318MWESTW_5,  P21W,   231,  1,      4, SI9404,3,19940608,2218,-17.8333, 172.3333, 2950,   2487.9,   1.9588,  34.6537,2,  34.6551,2,    146.8,2,    145.9,2,   128.01,2,    36.05,2,     0.00,2,     2.52,2, -999.000,9, -999.000,9, -999.000,1,-999.0000,1,  -999.00,9,   -999.0,1,-999.000,9,   -999.0,9,   -999.0,9,  -999.00,9,24800.5,-999.0000,-999.000,-999.000,  1.7804,-999.000
   318MWESTW_5,  P21W,   231,  1,      3, SI9403,2,19940608,2218,-17.8333, 172.3333, 2950,   2694.6,   1.9136,  34.6590,2,  34.6578,2,    146.6,2,    146.6,2,   130.20,2,    36.15,2,     0.00,2,     2.52,2, -999.000,9, -999.000,9, -999.000,1,-999.0000,1,  -999.00,9,   -999.0,1,-999.000,9,   -999.0,9,   -999.0,9,  -999.00,9,26855.3,-999.0000,-999.000,-999.000,  1.7170,-999.000
   318MWESTW_5,  P21W,   231,  1,      2, SI9437,2,19940608,2218,-17.8333, 172.3333, 2950,   2900.1,   1.8996,  34.6610,2,  34.6596,2,    146.1,2,    146.2,2,   131.53,2,    36.16,2,     0.00,2,     2.52,2, -999.000,9, -999.000,9, -999.000,1,-999.0000,1,  -999.00,9,   -999.0,1,-999.000,9,   -999.0,9,   -999.0,9,  -999.00,9,28897.7,-999.0000,-999.000,-999.000,  1.6838,-999.000
   318MWESTW_5,  P21W,   231,  1,      1, SI9401,2,19940608,2218,-17.8333, 172.3333, 2950,   2944.3,   1.9000,  34.6594,2,  34.6604,2,    147.6,2,    146.7,2,   131.63,2,    36.15,2,     0.00,2,     2.53,2,   -0.001,2,    0.000,2, -999.000,1,-999.0000,1,  -999.00,9,   -999.0,1,-999.000,9,   -999.0,9,   -999.0,9,  -999.00,9,29337.8,-999.0000,-999.000,-999.000,  1.6799,-999.000