BOTTLE,20010911WHPSIOdm
EXPOCODE,SECT_ID,STNNBR,CASTNO,SAMPNO,BTLNBR,BTLNBR_FLAG_W,DATE,TIME,LATITUDE,LONGITUDE,DEPTH,CTDPRS,CTDTMP,CTDSAL,CTDSAL_FLAG_W,SALNTY,SALNTY_FLAG_W,CTDOXY,CTDOXY_FLAG_W,OXYGEN,OXYGEN_FLAG_W,SILCAT,SILCAT_FLAG_W,NITRAT,NITRAT_FLAG_W,NITRIT,NITRIT_FLAG_W,PHSPHT,PHSPHT_FLAG_W,CFC-11,CFC-11_FLAG_W,CFC-12,CFC-12_FLAG_W,TRITUM,TRITUM_FLAG_W,HELIUM,HELIUM_FLAG_W,DELHE3,DELHE3_FLAG_W,DELC14,DELC14_FLAG_W,NEON,NEON_FLAG_W,TCARBN,TCARBN_FLAG_W,ALKALI,ALKALI_FLAG_W,PH,PH_FLAG_W,CTDRAW,HELIER,DELHER,NEONER,THETA,TRITER
,,,,,,,,,,,,DBAR,ITS-90,PSS-78,,PSS-78,,UMOL/KG,,UMOL/KG,,UMOL/KG,,UMOL/KG,,UMOL/KG,,UMOL/KG,,PMOL/KG,,PMOL/KG,,TU,,UMOL/KG,,PERCNT,,/MILLE,,NMOL/KG,,UMOL/KG,,UMOL/KG,,,,,NMOL/KG,PERCNT,NMOL/KG,ITS-90,TU
   318MWESTW_4,  P21E,   132,  1,     24, SI9404,2,19940506,0532,-16.7500,-134.6667, 4442,     10.8,  28.0667,  36.3923,2,  36.3916,2,    210.4,2,    208.4,2,     0.80,2,     0.05,2,     0.00,2,     0.21,2,    1.637,2,    0.937,2, -999.000,1,-999.0000,1,  -999.00,9,   -999.0,1,-999.000,9,   2012.7,2,   2390.0,2,     8.20,2,  158.0,-999.0000,-999.000,-999.000, 28.0641,-999.000
   318MWESTW_4,  P21E,   132,  1,     23, SI9405,2,19940506,0532,-16.7500,-134.6667, 4442,     24.6,  28.1130,  36.4684,2,  36.4663,2,    211.0,2,    208.1,2,     0.67,2,     0.05,2,     0.00,2,     0.21,2,    1.596,2,    0.906,2, -999.000,1,-999.0000,1,  -999.00,9,   -999.0,1,-999.000,9,   2017.7,2,   2392.0,2,     8.21,2,  295.1,-999.0000,-999.000,-999.000, 28.1072,-999.000
   318MWESTW_4,  P21E,   132,  1,     22, SI9407,2,19940506,0532,-16.7500,-134.6667, 4442,     48.1,  28.0655,  36.4725,2,  36.4745,2,    207.7,2,    207.5,2,     0.70,2,     0.03,2,     0.02,2,     0.22,2,    1.616,2,    0.927,2, -999.000,1,-999.0000,1,  -999.00,9,   -999.0,1,-999.000,9,   2019.7,2,   2394.0,2,     8.21,2,  530.0,-999.0000,-999.000,-999.000, 28.0541,-999.000
   318MWESTW_4,  P21E,   132,  1,     21, SI9408,2,19940506,0532,-16.7500,-134.6667, 4442,    101.6,  25.6786,  36.4599,2,  36.4604,2,    218.4,2,    218.3,2,     0.57,2,     0.05,2,     0.01,2,     0.22,2,    1.791,2,    0.999,2, -999.000,1,-999.0000,1,  -999.00,9,   -999.0,1,-999.000,9,   2032.7,2,   2392.0,2,     8.19,2, 1063.0,-999.0000,-999.000,-999.000, 25.6560,-999.000
   318MWESTW_4,  P21E,   132,  1,     20, SI9409,2,19940506,0532,-16.7500,-134.6667, 4442,    150.6,  24.0170,  36.2922,2,  36.2921,2,    213.2,2,    211.5,2,     0.60,2,     0.08,2,     0.02,2,     0.22,2,    1.901,2,    1.058,2, -999.000,1,-999.0000,1,  -999.00,9,   -999.0,1,-999.000,9,   2040.8,2,   2382.0,2,     8.16,2, 1551.7,-999.0000,-999.000,-999.000, 23.9851,-999.000
   318MWESTW_4,  P21E,   132,  1,     19, SI9411,2,19940506,0532,-16.7500,-134.6667, 4442,    201.8,  22.6017,  36.2089,2,  36.2077,2,    192.6,2,    190.5,2,     0.77,2,     1.01,2,     0.50,2,     0.39,2,    1.976,2,    1.067,2, -999.000,1,-999.0000,1,  -999.00,9,   -999.0,1,-999.000,9,   2072.8,2,   2376.0,2,     8.09,2, 2062.3,-999.0000,-999.000,-999.000, 22.5607,-999.000
   318MWESTW_4,  P21E,   132,  1,     18, SI9413,9,19940506,0532,-16.7500,-134.6667, 4442,    252.5,  20.0265,  35.7555,2,-999.0000,9,    191.2,2,   -999.0,9,  -999.00,9,  -999.00,9,  -999.00,9,  -999.00,9, -999.000,9, -999.000,9, -999.000,1,-999.0000,1,  -999.00,9,   -999.0,1,-999.000,9,   -999.0,9,   -999.0,9,  -999.00,9, 2567.3,-999.0000,-999.000,-999.000, 19.9795,-999.000
   318MWESTW_4,  P21E,   132,  1,     17, SI9415,2,19940506,0532,-16.7500,-134.6667, 4442,    302.4,  17.3969,  35.3700,2,  35.3693,2,    188.3,2,    183.8,2,     1.40,2,     4.83,2,     0.01,2,     0.56,2,    1.899,2,    0.991,2, -999.000,1,-999.0000,1,  -999.00,9,   -999.0,1,-999.000,9,   2081.8,2,   2321.0,2,     8.00,2, 3063.9,-999.0000,-999.000,-999.000, 17.3459,-999.000
   318MWESTW_4,  P21E,   132,  1,     16, SI9416,2,19940506,0532,-16.7500,-134.6667, 4442,    400.5,  10.6180,  34.5993,2,  34.5938,2,    159.0,3,    137.4,2,     9.56,2,    20.45,2,     0.02,2,     1.63,2,    0.776,2,    0.398,2, -999.000,1,-999.0000,1,  -999.00,9,   -999.0,1,-999.000,9,   2160.9,2,   2278.0,2,     7.75,2, 4039.5,-999.0000,-999.000,-999.000, 10.5695,-999.000
   318MWESTW_4,  P21E,   132,  1,     15, SI9417,2,19940506,0532,-16.7500,-134.6667, 4442,    501.0,   7.5711,  34.4166,2,  34.4157,2,    134.1,2,    136.0,2,    16.07,2,    29.46,2,     0.01,2,     2.11,2,    0.249,2,    0.135,2, -999.000,1,-999.0000,1,  -999.00,9,   -999.0,1,-999.000,9,   2196.9,2,   2278.0,2,     7.65,2, 5038.9,-999.0000,-999.000,-999.000,  7.5214,-999.000
   318MWESTW_4,  P21E,   132,  1,     14, SI9419,2,19940506,0532,-16.7500,-134.6667, 4442,    603.2,   6.0714,  34.4056,2,  34.4037,2,    132.2,2,    136.2,2,    26.35,2,    33.69,2,     0.00,2,     2.31,2,    0.036,2,    0.026,2, -999.000,1,-999.0000,1,  -999.00,9,   -999.0,1,-999.000,9,   2213.9,2,   2287.0,2,     7.63,2, 6055.6,-999.0000,-999.000,-999.000,  6.0180,-999.000
   318MWESTW_4,  P21E,   132,  1,     13, SI9420,2,19940506,0532,-16.7500,-134.6667, 4442,    750.5,   5.3174,  34.4712,2,  34.4703,2,    120.7,2,    115.8,2,    46.86,2,    36.59,2,     0.00,2,     2.51,2,    0.002,2,   -0.001,2, -999.000,1,-999.0000,1,  -999.00,9,   -999.0,1,-999.000,9,   2244.9,2,   2311.0,2,     7.59,2, 7519.9,-999.0000,-999.000,-999.000,  5.2544,-999.000
   318MWESTW_4,  P21E,   132,  1,     12, SI9421,2,19940506,0532,-16.7500,-134.6667, 4442,    899.3,   4.6685,  34.5050,2,  34.5050,2,    107.6,2,     99.5,2,    63.33,2,    39.09,2,     0.00,2,     2.70,2,    0.002,2,    0.001,2, -999.000,1,-999.0000,1,  -999.00,9,   -999.0,1,-999.000,9,   2274.0,2,   2325.0,2,     7.57,2, 8999.6,-999.0000,-999.000,-999.000,  4.5965,-999.000
   318MWESTW_4,  P21E,   132,  1,     11, SI9423,2,19940506,0532,-16.7500,-134.6667, 4442,   1152.9,   3.7829,  34.5406,2,  34.5402,2,    111.0,2,    103.6,2,    83.09,2,    39.29,2,     0.00,2,     2.74,2,    0.002,2,   -0.001,2, -999.000,1,-999.0000,1,  -999.00,9,   -999.0,1,-999.000,9,   2295.0,2,   2349.0,2,     7.57,2,11521.2,-999.0000,-999.000,-999.000,  3.6962,-999.000
   318MWESTW_4,  P21E,   132,  1,     10, SI9425,2,19940506,0532,-16.7500,-134.6667, 4442,   1500.9,   2.8502,  34.5828,2,  34.5816,2,    128.5,2,    130.2,2,    99.99,2,    37.35,2,     0.00,2,     2.59,2,   -0.004,2,   -0.002,2, -999.000,1,-999.0000,1,  -999.00,9,   -999.0,1,-999.000,9,   2299.0,2,   2370.0,2,     7.62,2,14980.7,-999.0000,-999.000,-999.000,  2.7440,-999.000
   318MWESTW_4,  P21E,   132,  1,      9, SI9424,2,19940506,0532,-16.7500,-134.6667, 4442,   1848.1,   2.2600,  34.6217,2,  34.6223,2,    145.5,2,    146.2,2,   110.55,2,    36.15,2,     0.00,2,     2.48,2,   -0.001,2,   -0.004,2, -999.000,1,-999.0000,1,  -999.00,9,   -999.0,1,-999.000,9,   2302.0,2,   2380.0,2,     7.64,2,18432.9,-999.0000,-999.000,-999.000,  2.1325,-999.000
   318MWESTW_4,  P21E,   132,  1,      8, SI9428,3,19940506,0532,-16.7500,-134.6667, 4442,   2248.0,   1.9588,  34.6527,2,  34.6549,2,    151.6,2,    151.1,2,   119.60,2,    35.75,2,    -0.01,2,     2.45,2, -999.000,9, -999.000,9, -999.000,1,-999.0000,1,  -999.00,9,   -999.0,1,-999.000,9,   2308.0,2,   2391.0,2,     7.65,2,22408.1,-999.0000,-999.000,-999.000,  1.8017,-999.000
   318MWESTW_4,  P21E,   132,  1,      7, SI9429,2,19940506,0532,-16.7500,-134.6667, 4442,   2645.6,   1.7987,  34.6691,2,  34.6692,2,    152.8,2,    153.3,2,   127.00,2,    35.65,2,     0.02,2,     2.45,2, -999.000,9, -999.000,9, -999.000,1,-999.0000,1,  -999.00,9,   -999.0,1,-999.000,9,   2315.0,2,   2403.0,2,     7.65,2,26361.5,-999.0000,-999.000,-999.000,  1.6089,-999.000
   318MWESTW_4,  P21E,   132,  1,      6, SI9431,2,19940506,0532,-16.7500,-134.6667, 4442,   3048.6,   1.6808,  34.6785,2,  34.6793,2,    156.9,2,    156.8,2,   131.08,2,    35.56,2,    -0.01,2,     2.44,2, -999.000,9, -999.000,9, -999.000,1,-999.0000,1,  -999.00,9,   -999.0,1,-999.000,9,   2316.0,2,   2395.0,3,     7.67,2,30367.9,-999.0000,-999.000,-999.000,  1.4553,-999.000
   318MWESTW_4,  P21E,   132,  1,      5, SI9432,2,19940506,0532,-16.7500,-134.6667, 4442,   3395.9,   1.5974,  34.6848,2,  34.6848,2,    160.3,2,    160.4,2,   132.91,2,    35.36,2,     0.02,2,     2.42,2, -999.000,9, -999.000,9, -999.000,1,-999.0000,1,  -999.00,9,   -999.0,1,-999.000,9,   2317.0,2,   2407.0,2,     7.67,2,33820.4,-999.0000,-999.000,-999.000,  1.3394,-999.000
   318MWESTW_4,  P21E,   132,  1,      4, SI9433,2,19940506,0532,-16.7500,-134.6667, 4442,   3748.1,   1.5628,  34.6873,2,  34.6873,2,    165.0,2,    163.5,2,   132.01,2,    35.07,2,     0.01,2,     2.41,2, -999.000,9, -999.000,9, -999.000,1,-999.0000,1,  -999.00,9,   -999.0,1,-999.000,9,   2313.0,2,   2407.0,2,     7.67,2,37322.0,-999.0000,-999.000,-999.000,  1.2692,-999.000
   318MWESTW_4,  P21E,   132,  1,      3, SI9435,2,19940506,0532,-16.7500,-134.6667, 4442,   4096.3,   1.5547,  34.6894,2,  34.6899,2,    168.9,2,    168.2,2,   130.83,2,    34.82,2,     0.00,2,     2.40,2, -999.000,9, -999.000,9, -999.000,1,-999.0000,1,  -999.00,9,   -999.0,1,-999.000,9,   2308.0,2,   2401.0,2,     7.67,2,40783.4,-999.0000,-999.000,-999.000,  1.2237,-999.000
   318MWESTW_4,  P21E,   132,  1,      2, SI9401,2,19940506,0532,-16.7500,-134.6667, 4442,   4419.9,   1.5613,  34.6916,2,  34.6910,2,    171.9,2,    170.0,2,   130.08,2,    34.69,2,     0.01,2,     2.38,2, -999.000,9, -999.000,9, -999.000,1,-999.0000,1,  -999.00,9,   -999.0,1,-999.000,9,   2307.0,2,   2400.0,2,     7.68,2,44000.3,-999.0000,-999.000,-999.000,  1.1936,-999.000
   318MWESTW_4,  P21E,   132,  1,      1, SI9403,2,19940506,0532,-16.7500,-134.6667, 4442,   4510.3,   1.5681,  34.6917,2,  34.6914,2,    172.3,2,    171.0,2,   129.71,2,    34.51,2,     0.00,2,     2.38,2, -999.000,9, -999.000,9, -999.000,1,-999.0000,1,  -999.00,9,   -999.0,1,-999.000,9,   2306.0,2,   2402.0,2,     7.67,2,44899.2,-999.0000,-999.000,-999.000,  1.1898,-999.000
   318MWESTW_4,  P21E,   133,  1,     12, SI9421,2,19940506,1216,-16.7500,-135.3333, 4260,      5.4,  28.0747,  36.4035,2,  36.4025,2,    195.0,2,    210.7,2,     0.73,2,     0.00,2,     0.00,2,     0.20,2,    1.628,2,    0.918,2, -999.000,1,-999.0000,1,  -999.00,9,   -999.0,1,-999.000,9,   -999.0,9,   -999.0,9,  -999.00,9,  104.2,-999.0000,-999.000,-999.000, 28.0734,-999.000
   318MWESTW_4,  P21E,   133,  1,     11, SI9423,2,19940506,1216,-16.7500,-135.3333, 4260,     22.9,  28.0882,  36.4042,2,  36.4027,2,    205.2,2,    207.8,2,     0.77,2,     0.00,2,     0.00,2,     0.20,2,    1.623,2,    0.914,2, -999.000,1,-999.0000,1,  -999.00,9,   -999.0,1,-999.000,9,   -999.0,9,   -999.0,9,  -999.00,9,  278.5,-999.0000,-999.000,-999.000, 28.0828,-999.000
   318MWESTW_4,  P21E,   133,  1,     10, SI9425,2,19940506,1216,-16.7500,-135.3333, 4260,     49.1,  28.0816,  36.4047,2,  36.4037,2,    204.4,2,    207.7,2,     0.66,2,    -0.01,2,     0.01,2,     0.21,2,    1.604,2,    0.925,2, -999.000,1,-999.0000,1,  -999.00,9,   -999.0,1,-999.000,9,   -999.0,9,   -999.0,9,  -999.00,9,  539.9,-999.0000,-999.000,-999.000, 28.0700,-999.000
   318MWESTW_4,  P21E,   133,  1,      9, SI9424,2,19940506,1216,-16.7500,-135.3333, 4260,    100.2,  25.5413,  36.4460,2,  36.4529,2,    221.2,2,    216.4,2,     0.56,2,     0.04,2,     0.00,2,     0.21,2,    1.813,2,    1.001,2, -999.000,1,-999.0000,1,  -999.00,9,   -999.0,1,-999.000,9,   -999.0,9,   -999.0,9,  -999.00,9, 1049.0,-999.0000,-999.000,-999.000, 25.5191,-999.000
   318MWESTW_4,  P21E,   133,  1,      8, SI9428,2,19940506,1216,-16.7500,-135.3333, 4260,    149.2,  24.2893,  36.4047,2,  36.4029,2,    203.1,2,    206.0,2,     0.60,2,    -0.03,2,     0.03,2,     0.26,2,    1.889,2,    1.038,2, -999.000,1,-999.0000,1,  -999.00,9,   -999.0,1,-999.000,9,   -999.0,9,   -999.0,9,  -999.00,9, 1537.1,-999.0000,-999.000,-999.000, 24.2574,-999.000
   318MWESTW_4,  P21E,   133,  1,      7, SI9429,2,19940506,1216,-16.7500,-135.3333, 4260,    200.6,  22.8679,  36.2669,2,  36.2729,2,    183.9,2,    187.9,2,     0.49,2,     1.03,2,     0.48,2,     0.40,2,    1.939,2,    1.053,2, -999.000,1,-999.0000,1,  -999.00,9,   -999.0,1,-999.000,9,   -999.0,9,   -999.0,9,  -999.00,9, 2049.3,-999.0000,-999.000,-999.000, 22.8268,-999.000
   318MWESTW_4,  P21E,   133,  1,      6, SI9431,2,19940506,1216,-16.7500,-135.3333, 4260,    251.2,  20.4315,  35.8758,2,  35.8763,2,    180.5,2,    180.4,2,     0.68,2,     3.41,2,     0.01,2,     0.51,2,    2.007,2,    1.071,2, -999.000,1,-999.0000,1,  -999.00,9,   -999.0,1,-999.000,9,   -999.0,9,   -999.0,9,  -999.00,9, 2553.7,-999.0000,-999.000,-999.000, 20.3841,-999.000
   318MWESTW_4,  P21E,   133,  1,      5, SI9432,2,19940506,1216,-16.7500,-135.3333, 4260,    300.9,  17.5239,  35.3942,2,  35.3833,2,    174.7,2,    178.6,2,     1.48,2,     5.60,2,     0.01,2,     0.63,2,    1.877,2,    0.991,2, -999.000,1,-999.0000,1,  -999.00,9,   -999.0,1,-999.000,9,   -999.0,9,   -999.0,9,  -999.00,9, 3048.4,-999.0000,-999.000,-999.000, 17.4729,-999.000
   318MWESTW_4,  P21E,   133,  1,      4, SI9433,2,19940506,1216,-16.7500,-135.3333, 4260,    403.1,  11.3992,  34.6622,2,  34.6618,2,    141.5,2,    143.7,2,     7.96,2,    18.12,2,     0.00,2,     1.50,2,    0.950,2,    0.502,2, -999.000,1,-999.0000,1,  -999.00,9,   -999.0,1,-999.000,9,   -999.0,9,   -999.0,9,  -999.00,9, 4065.5,-999.0000,-999.000,-999.000, 11.3481,-999.000
   318MWESTW_4,  P21E,   133,  1,      3, SI9435,2,19940506,1216,-16.7500,-135.3333, 4260,    495.8,   7.8667,  34.4314,2,  34.4316,2,    142.0,2,    144.1,2,    14.74,2,    27.83,2,     0.00,2,     2.03,2,    0.327,2,    0.170,2, -999.000,1,-999.0000,1,  -999.00,9,   -999.0,1,-999.000,9,   -999.0,9,   -999.0,9,  -999.00,9, 4987.6,-999.0000,-999.000,-999.000,  7.8165,-999.000
   318MWESTW_4,  P21E,   133,  1,      2, SI9401,2,19940506,1216,-16.7500,-135.3333, 4260,    601.6,   6.0705,  34.3980,2,  34.3990,2,    146.2,2,    142.9,2,    25.88,2,    32.83,2,     0.00,2,     2.29,2,    0.056,2,    0.035,2, -999.000,1,-999.0000,1,  -999.00,9,   -999.0,1,-999.000,9,   -999.0,9,   -999.0,9,  -999.00,9, 6039.4,-999.0000,-999.000,-999.000,  6.0173,-999.000
   318MWESTW_4,  P21E,   133,  1,      1, SI9403,2,19940506,1216,-16.7500,-135.3333, 4260,    756.5,   5.2632,  34.4758,2,  34.4724,2,    125.1,2,    117.6,2,    48.09,2,    36.25,2,     0.01,2,     2.53,2,    0.000,2,   -0.002,2, -999.000,1,-999.0000,1,  -999.00,9,   -999.0,1,-999.000,9,   -999.0,9,   -999.0,9,  -999.00,9, 7579.5,-999.0000,-999.000,-999.000,  5.2000,-999.000
   318MWESTW_4,  P21E,   133,  1,     24, SI9404,2,19940506,1216,-16.7500,-135.3333, 4260,    904.1,   4.7335,  34.5032,2,  34.5011,2,    105.1,2,    103.5,2,    61.46,2,    38.45,2,     0.00,2,     2.70,2,   -0.003,2,    0.001,2, -999.000,1,-999.0000,1,  -999.00,9,   -999.0,1,-999.000,9,   -999.0,9,   -999.0,9,  -999.00,9, 9047.6,-999.0000,-999.000,-999.000,  4.6606,-999.000
   318MWESTW_4,  P21E,   133,  1,     23, SI9405,2,19940506,1216,-16.7500,-135.3333, 4260,   1148.8,   3.8753,  34.5323,2,  34.5331,2,    111.7,2,    113.3,2,    78.72,2,    38.22,2,     0.00,2,     2.69,2,    0.001,2,   -0.002,2, -999.000,1,-999.0000,1,  -999.00,9,   -999.0,1,-999.000,9,   -999.0,9,   -999.0,9,  -999.00,9,11480.5,-999.0000,-999.000,-999.000,  3.7881,-999.000
   318MWESTW_4,  P21E,   133,  1,     22, SI9407,2,19940506,1216,-16.7500,-135.3333, 4260,   1499.4,   2.8722,  34.5826,2,  34.5820,2,    128.8,2,    128.5,2,    99.87,2,    37.47,2,     0.00,2,     2.63,2,   -0.001,2,   -0.003,2, -999.000,1,-999.0000,1,  -999.00,9,   -999.0,1,-999.000,9,   -999.0,9,   -999.0,9,  -999.00,9,14965.6,-999.0000,-999.000,-999.000,  2.7659,-999.000
   318MWESTW_4,  P21E,   133,  1,     21, SI9408,2,19940506,1216,-16.7500,-135.3333, 4260,   1802.5,   2.3418,  34.6232,2,  34.6223,2,    136.1,2,    135.4,2,   113.23,2,    37.06,2,     0.01,2,     2.59,2,   -0.001,2,   -0.002,2, -999.000,1,-999.0000,1,  -999.00,9,   -999.0,1,-999.000,9,   -999.0,9,   -999.0,9,  -999.00,9,17979.5,-999.0000,-999.000,-999.000,  2.2169,-999.000
   318MWESTW_4,  P21E,   133,  1,     20, SI9409,2,19940506,1216,-16.7500,-135.3333, 4260,   2159.0,   1.9918,  34.6496,2,  34.6506,2,    149.3,2,    149.3,2,   119.10,2,    35.82,2,     0.00,2,     2.49,2,   -0.003,2,   -0.001,2, -999.000,1,-999.0000,1,  -999.00,9,   -999.0,1,-999.000,9,   -999.0,9,   -999.0,9,  -999.00,9,21523.1,-999.0000,-999.000,-999.000,  1.8419,-999.000
   318MWESTW_4,  P21E,   133,  1,     19, SI9411,2,19940506,1216,-16.7500,-135.3333, 4260,   2504.7,   1.8328,  34.6668,2,  34.6657,2,    152.2,2,    152.5,2,   125.28,2,    35.64,2,     0.01,2,     2.48,2,   -0.002,2,   -0.001,2, -999.000,1,-999.0000,1,  -999.00,9,   -999.0,1,-999.000,9,   -999.0,9,   -999.0,9,  -999.00,9,24960.0,-999.0000,-999.000,-999.000,  1.6552,-999.000
   318MWESTW_4,  P21E,   133,  1,     18, SI9413,2,19940506,1216,-16.7500,-135.3333, 4260,   2849.9,   1.7419,  34.6732,2,  34.6737,2,    154.6,2,    155.0,2,   129.36,2,    35.61,2,     0.00,2,     2.47,2,   -0.002,2,    0.000,2, -999.000,1,-999.0000,1,  -999.00,9,   -999.0,1,-999.000,9,   -999.0,9,   -999.0,9,  -999.00,9,28392.6,-999.0000,-999.000,-999.000,  1.5341,-999.000
   318MWESTW_4,  P21E,   133,  1,     17, SI9415,2,19940506,1216,-16.7500,-135.3333, 4260,   3197.3,   1.6592,  34.6806,2,  34.6793,2,    158.4,2,    158.6,2,   131.64,2,    35.43,2,     0.00,2,     2.46,2,   -0.001,2,   -0.002,2, -999.000,1,-999.0000,1,  -999.00,9,   -999.0,1,-999.000,9,   -999.0,9,   -999.0,9,  -999.00,9,31846.0,-999.0000,-999.000,-999.000,  1.4196,-999.000
   318MWESTW_4,  P21E,   133,  1,     16, SI9416,2,19940506,1216,-16.7500,-135.3333, 4260,   3540.8,   1.5994,  34.6846,2,  34.6850,2,    162.0,2,    161.4,2,   132.27,2,    35.21,2,     0.00,2,     2.45,2,   -0.001,2,   -0.002,2, -999.000,1,-999.0000,1,  -999.00,9,   -999.0,1,-999.000,9,   -999.0,9,   -999.0,9,  -999.00,9,35260.6,-999.0000,-999.000,-999.000,  1.3265,-999.000
   318MWESTW_4,  P21E,   133,  1,     15, SI9417,2,19940506,1216,-16.7500,-135.3333, 4260,   3885.5,   1.5439,  34.6889,2,  34.6885,2,    167.2,2,    166.7,2,   131.11,2,    34.89,2,     0.00,2,     2.43,2,    0.000,2,   -0.001,2, -999.000,1,-999.0000,1,  -999.00,9,   -999.0,1,-999.000,9,   -999.0,9,   -999.0,9,  -999.00,9,38688.1,-999.0000,-999.000,-999.000,  1.2361,-999.000
   318MWESTW_4,  P21E,   133,  1,     14, SI9419,2,19940506,1216,-16.7500,-135.3333, 4260,   4222.6,   1.5384,  34.6920,2,  34.6899,2,    170.5,2,    170.0,2,   130.09,2,    34.67,2,     0.01,2,     2.40,2,    0.000,2,    0.000,2, -999.000,1,-999.0000,1,  -999.00,9,   -999.0,1,-999.000,9,   -999.0,9,   -999.0,9,  -999.00,9,42039.0,-999.0000,-999.000,-999.000,  1.1938,-999.000
   318MWESTW_4,  P21E,   133,  1,     13, SI9420,2,19940506,1216,-16.7500,-135.3333, 4260,   4315.7,   1.5426,  34.6913,2,  34.6918,2,    172.2,2,    170.1,2,   129.74,2,    34.57,2,     0.01,2,     2.40,2,   -0.002,2,   -0.003,2, -999.000,1,-999.0000,1,  -999.00,9,   -999.0,1,-999.000,9,   -999.0,9,   -999.0,9,  -999.00,9,42964.5,-999.0000,-999.000,-999.000,  1.1874,-999.000