BOTTLE,20010911WHPSIOdm
EXPOCODE,SECT_ID,STNNBR,CASTNO,SAMPNO,BTLNBR,BTLNBR_FLAG_W,DATE,TIME,LATITUDE,LONGITUDE,DEPTH,CTDPRS,CTDTMP,CTDSAL,CTDSAL_FLAG_W,SALNTY,SALNTY_FLAG_W,CTDOXY,CTDOXY_FLAG_W,OXYGEN,OXYGEN_FLAG_W,SILCAT,SILCAT_FLAG_W,NITRAT,NITRAT_FLAG_W,NITRIT,NITRIT_FLAG_W,PHSPHT,PHSPHT_FLAG_W,CFC-11,CFC-11_FLAG_W,CFC-12,CFC-12_FLAG_W,TRITUM,TRITUM_FLAG_W,HELIUM,HELIUM_FLAG_W,DELHE3,DELHE3_FLAG_W,DELC14,DELC14_FLAG_W,NEON,NEON_FLAG_W,TCARBN,TCARBN_FLAG_W,ALKALI,ALKALI_FLAG_W,PH,PH_FLAG_W,CTDRAW,HELIER,DELHER,NEONER,THETA,TRITER
,,,,,,,,,,,,DBAR,ITS-90,PSS-78,,PSS-78,,UMOL/KG,,UMOL/KG,,UMOL/KG,,UMOL/KG,,UMOL/KG,,UMOL/KG,,PMOL/KG,,PMOL/KG,,TU,,UMOL/KG,,PERCNT,,/MILLE,,NMOL/KG,,UMOL/KG,,UMOL/KG,,,,,NMOL/KG,PERCNT,NMOL/KG,ITS-90,TU
   318MWESTW_4,  P21E,     9,  1,     36, SI9336,2,19940331,0049,-15.1195, -76.5778, 4203,     13.6,  23.6429,  35.1539,2,  35.1543,2,    210.3,2,    221.1,2,     0.48,2,    -0.04,2,     0.00,2,     0.43,2, -999.000,9, -999.000,9, -999.000,1,-999.0000,1,  -999.00,9,   -999.0,1,-999.000,9,   -999.0,9,   -999.0,9,  -999.00,9,  170.5,-999.0000,-999.000,-999.000, 23.6401,-999.000
   318MWESTW_4,  P21E,     9,  1,     35, SI9335,2,19940331,0049,-15.1195, -76.5778, 4203,     28.0,  23.2083,  35.1421,2,  35.1473,2,    217.9,2,    219.8,2,     0.68,2,     0.07,2,     0.01,2,     0.42,2, -999.000,9, -999.000,9, -999.000,1,-999.0000,1,  -999.00,9,   -999.0,1,-999.000,9,   -999.0,9,   -999.0,9,  -999.00,9,  315.2,-999.0000,-999.000,-999.000, 23.2025,-999.000
   318MWESTW_4,  P21E,     9,  1,     34, SI9334,2,19940331,0049,-15.1195, -76.5778, 4203,     52.9,  15.4406,  34.9105,2,  34.9610,2,     61.1,2,     60.5,2,     9.12,2,    21.51,2,     0.30,2,     2.07,2, -999.000,9, -999.000,9, -999.000,1,-999.0000,1,  -999.00,9,   -999.0,1,-999.000,9,   -999.0,9,   -999.0,9,  -999.00,9,  563.4,-999.0000,-999.000,-999.000, 15.4325,-999.000
   318MWESTW_4,  P21E,     9,  1,     33, SI9333,2,19940331,0049,-15.1195, -76.5778, 4203,    104.8,  13.0516,  34.7831,2,  34.8015,2,      4.4,2,     15.5,2,    21.58,2,    18.63,2,     0.00,2,     2.57,2, -999.000,9, -999.000,9, -999.000,1,-999.0000,1,  -999.00,9,   -999.0,1,-999.000,9,   -999.0,9,   -999.0,9,  -999.00,9, 1082.6,-999.0000,-999.000,-999.000, 13.0372,-999.000
   318MWESTW_4,  P21E,     9,  1,     32, SI9332,2,19940331,0049,-15.1195, -76.5778, 4203,    150.1,  12.3617,  34.8248,2,  34.8261,2,      3.0,2,      2.4,2,    26.50,2,    19.40,2,     0.00,2,     2.72,2, -999.000,9, -999.000,9, -999.000,1,-999.0000,1,  -999.00,9,   -999.0,1,-999.000,9,   -999.0,9,   -999.0,9,  -999.00,9, 1534.7,-999.0000,-999.000,-999.000, 12.3418,-999.000
   318MWESTW_4,  P21E,     9,  1,     31, SI9331,2,19940331,0049,-15.1195, -76.5778, 4203,    201.5,  11.3908,  34.7480,2,  34.7510,2,      4.2,2,      6.9,2,    25.83,2,    25.80,2,    -0.01,2,     2.70,2, -999.000,9, -999.000,9, -999.000,1,-999.0000,1,  -999.00,9,   -999.0,1,-999.000,9,   -999.0,9,   -999.0,9,  -999.00,9, 2048.4,-999.0000,-999.000,-999.000, 11.3655,-999.000
   318MWESTW_4,  P21E,     9,  1,     30, SI9330,2,19940331,0049,-15.1195, -76.5778, 4203,    246.5,  10.5982,  34.7432,2,  34.7433,2,      0.3,2,      0.6,2,    29.01,2,    29.63,2,     0.67,2,     2.75,2, -999.000,9, -999.000,9, -999.000,1,-999.0000,1,  -999.00,9,   -999.0,1,-999.000,9,   -999.0,9,   -999.0,9,  -999.00,9, 2498.3,-999.0000,-999.000,-999.000, 10.5685,-999.000
   318MWESTW_4,  P21E,     9,  1,     29, SI9329,2,19940331,0049,-15.1195, -76.5778, 4203,    298.1,   9.6982,  34.6796,2,  34.6737,2,      1.8,2,      5.2,2,    29.92,2,    34.32,2,     0.01,2,     2.82,2, -999.000,9, -999.000,9, -999.000,1,-999.0000,1,  -999.00,9,   -999.0,1,-999.000,9,   -999.0,9,   -999.0,9,  -999.00,9, 3013.0,-999.0000,-999.000,-999.000,  9.6642,-999.000
   318MWESTW_4,  P21E,     9,  1,     28, SI9328,2,19940331,0049,-15.1195, -76.5778, 4203,    393.3,   8.2289,  34.6009,2,  34.6011,2,     10.0,2,     11.0,2,    35.02,2,    40.05,2,     0.01,2,     2.95,2, -999.000,9, -999.000,9, -999.000,1,-999.0000,1,  -999.00,9,   -999.0,1,-999.000,9,   -999.0,9,   -999.0,9,  -999.00,9, 3964.5,-999.0000,-999.000,-999.000,  8.1881,-999.000
   318MWESTW_4,  P21E,     9,  1,     27, SI9327,2,19940331,0049,-15.1195, -76.5778, 4203,    496.4,   7.1070,  34.5476,2,  34.5478,2,     21.4,2,     20.8,2,    41.01,2,    42.47,2,     0.01,2,     3.05,2, -999.000,9, -999.000,9, -999.000,1,-999.0000,1,  -999.00,9,   -999.0,1,-999.000,9,   -999.0,9,   -999.0,9,  -999.00,9, 4993.8,-999.0000,-999.000,-999.000,  7.0594,-999.000
   318MWESTW_4,  P21E,     9,  1,     26, SI9326,2,19940331,0049,-15.1195, -76.5778, 4203,    599.1,   6.2756,  34.5242,2,  34.5235,2,     25.4,2,     27.1,2,    49.45,2,    43.96,2,     0.01,2,     3.15,2, -999.000,9, -999.000,9, -999.000,1,-999.0000,1,  -999.00,9,   -999.0,1,-999.000,9,   -999.0,9,   -999.0,9,  -999.00,9, 6019.4,-999.0000,-999.000,-999.000,  6.2216,-999.000
   318MWESTW_4,  P21E,     9,  1,     25, SI9325,2,19940331,0049,-15.1195, -76.5778, 4203,    701.2,   5.6323,  34.5169,2,  34.5178,2,     31.8,2,     30.5,2,    58.07,2,    44.68,2,     0.01,2,     3.21,2, -999.000,9, -999.000,9, -999.000,1,-999.0000,1,  -999.00,9,   -999.0,1,-999.000,9,   -999.0,9,   -999.0,9,  -999.00,9, 7039.4,-999.0000,-999.000,-999.000,  5.5720,-999.000
   318MWESTW_4,  P21E,     9,  1,     24, SI9324,2,19940331,0049,-15.1195, -76.5778, 4203,    803.8,   5.1385,  34.5211,2,  34.5237,2,     42.9,2,     35.8,2,    67.03,2,    44.85,2,     0.01,2,     3.23,2, -999.000,9, -999.000,9, -999.000,1,-999.0000,1,  -999.00,9,   -999.0,1,-999.000,9,   -999.0,9,   -999.0,9,  -999.00,9, 8064.4,-999.0000,-999.000,-999.000,  5.0718,-999.000
   318MWESTW_4,  P21E,     9,  1,     23, SI9323,2,19940331,0049,-15.1195, -76.5778, 4203,    897.4,   4.6847,  34.5275,2,  34.5294,2,     51.4,2,     46.2,2,    75.11,2,    44.25,2,     0.01,2,     3.19,2, -999.000,9, -999.000,9, -999.000,1,-999.0000,1,  -999.00,9,   -999.0,1,-999.000,9,   -999.0,9,   -999.0,9,  -999.00,9, 8999.5,-999.0000,-999.000,-999.000,  4.6127,-999.000
   318MWESTW_4,  P21E,     9,  1,     22, SI9322,2,19940331,0049,-15.1195, -76.5778, 4203,    995.1,   4.3515,  34.5397,2,  34.5415,2,     59.3,2,     53.8,2,    82.68,2,    43.54,2,     0.01,2,     3.16,2, -999.000,9, -999.000,9, -999.000,1,-999.0000,1,  -999.00,9,   -999.0,1,-999.000,9,   -999.0,9,   -999.0,9,  -999.00,9, 9975.5,-999.0000,-999.000,-999.000,  4.2735,-999.000
   318MWESTW_4,  P21E,     9,  1,     21, SI9321,2,19940331,0049,-15.1195, -76.5778, 4203,   1099.0,   3.9998,  34.5504,2,  34.5498,2,     68.3,2,     63.5,2,    90.07,2,    42.82,2,     0.01,2,     3.13,2, -999.000,9, -999.000,9, -999.000,1,-999.0000,1,  -999.00,9,   -999.0,1,-999.000,9,   -999.0,9,   -999.0,9,  -999.00,9,11012.6,-999.0000,-999.000,-999.000,  3.9158,-999.000
   318MWESTW_4,  P21E,     9,  1,     20, SI9320,3,19940331,0049,-15.1195, -76.5778, 4203,   1196.3,   3.7226,  34.5596,2,-999.0000,9,     75.0,2,     52.2,4,    55.56,4,    33.24,4,     0.09,4,     2.69,4, -999.000,9, -999.000,9, -999.000,1,-999.0000,1,  -999.00,9,   -999.0,1,-999.000,9,   -999.0,9,   -999.0,9,  -999.00,9,11985.3,-999.0000,-999.000,-999.000,  3.6328,-999.000
   318MWESTW_4,  P21E,     9,  1,     19, SI9319,2,19940331,0049,-15.1195, -76.5778, 4203,   1294.5,   3.4233,  34.5763,2,  34.5737,2,     79.5,2,     77.2,2,   104.49,2,    41.68,2,     0.01,2,     3.04,2, -999.000,9, -999.000,9, -999.000,1,-999.0000,1,  -999.00,9,   -999.0,1,-999.000,9,   -999.0,9,   -999.0,9,  -999.00,9,12965.5,-999.0000,-999.000,-999.000,  3.3281,-999.000
   318MWESTW_4,  P21E,     9,  1,     18, SI9318,2,19940331,0049,-15.1195, -76.5778, 4203,   1397.7,   3.2259,  34.5850,2,  34.5793,2,     82.2,2,     81.1,2,   107.50,2,    41.14,2,     0.00,2,     3.00,2, -999.000,9, -999.000,9, -999.000,1,-999.0000,1,  -999.00,9,   -999.0,1,-999.000,9,   -999.0,9,   -999.0,9,  -999.00,9,13997.2,-999.0000,-999.000,-999.000,  3.1241,-999.000
   318MWESTW_4,  P21E,     9,  1,     17, SI9317,2,19940331,0049,-15.1195, -76.5778, 4203,   1501.5,   3.0310,  34.5979,2,  34.5963,2,     87.7,2,     82.4,2,   115.06,2,    40.97,2,     0.02,2,     2.99,2, -999.000,9, -999.000,9, -999.000,1,-999.0000,1,  -999.00,9,   -999.0,1,-999.000,9,   -999.0,9,   -999.0,9,  -999.00,9,15033.6,-999.0000,-999.000,-999.000,  2.9226,-999.000
   318MWESTW_4,  P21E,     9,  1,     16, SI9316,2,19940331,0049,-15.1195, -76.5778, 4203,   1597.6,   2.8554,  34.6071,2,  34.6052,2,     91.4,2,     86.3,2,   120.17,2,    40.59,2,     0.01,2,     2.97,2, -999.000,9, -999.000,9, -999.000,1,-999.0000,1,  -999.00,9,   -999.0,1,-999.000,9,   -999.0,9,   -999.0,9,  -999.00,9,15994.2,-999.0000,-999.000,-999.000,  2.7410,-999.000
   318MWESTW_4,  P21E,     9,  1,     15, SI9315,2,19940331,0049,-15.1195, -76.5778, 4203,   1792.0,   2.5244,  34.6260,2,  34.6233,2,     94.3,2,     98.1,2,   127.22,2,    39.60,2,     0.02,2,     2.87,2, -999.000,9, -999.000,9, -999.000,1,-999.0000,1,  -999.00,9,   -999.0,1,-999.000,9,   -999.0,9,   -999.0,9,  -999.00,9,17936.0,-999.0000,-999.000,-999.000,  2.3979,-999.000
   318MWESTW_4,  P21E,     9,  1,     14, SI9314,2,19940331,0049,-15.1195, -76.5778, 4203,   1999.7,   2.2945,  34.6435,2,  34.6423,2,    102.7,2,    104.3,2,   135.13,2,    39.11,2,     0.02,2,     2.82,2, -999.000,9, -999.000,9, -999.000,1,-999.0000,1,  -999.00,9,   -999.0,1,-999.000,9,   -999.0,9,   -999.0,9,  -999.00,9,20010.8,-999.0000,-999.000,-999.000,  2.1536,-999.000
   318MWESTW_4,  P21E,     9,  1,     13, SI9313,2,19940331,0049,-15.1195, -76.5778, 4203,   2201.7,   2.0771,  34.6557,2,  34.6557,2,    116.4,2,    115.6,2,   137.79,2,    38.18,2,     0.02,2,     2.75,2, -999.000,9, -999.000,9, -999.000,1,-999.0000,1,  -999.00,9,   -999.0,1,-999.000,9,   -999.0,9,   -999.0,9,  -999.00,9,22029.0,-999.0000,-999.000,-999.000,  1.9221,-999.000
   318MWESTW_4,  P21E,     9,  1,     12, SI9312,2,19940331,0049,-15.1195, -76.5778, 4203,   2400.0,   1.9315,  34.6647,2,  34.6663,2,    131.6,2,    130.9,2,   133.43,2,    37.08,2,     0.02,2,     2.64,2, -999.000,9, -999.000,9, -999.000,1,-999.0000,1,  -999.00,9,   -999.0,1,-999.000,9,   -999.0,9,   -999.0,9,  -999.00,9,24010.6,-999.0000,-999.000,-999.000,  1.7614,-999.000
   318MWESTW_4,  P21E,     9,  1,     11, SI9311,2,19940331,0049,-15.1195, -76.5778, 4203,   2595.2,   1.8568,  34.6715,2,  34.6716,2,    133.8,2,    134.4,2,   135.56,2,    36.88,2,     0.01,2,     2.61,2, -999.000,9, -999.000,9, -999.000,1,-999.0000,1,  -999.00,9,   -999.0,1,-999.000,9,   -999.0,9,   -999.0,9,  -999.00,9,25961.2,-999.0000,-999.000,-999.000,  1.6704,-999.000
   318MWESTW_4,  P21E,     9,  1,     10, SI9310,2,19940331,0049,-15.1195, -76.5778, 4203,   2791.7,   1.8100,  34.6756,2,  34.6773,2,    130.6,2,    131.0,2,   142.25,2,    37.20,2,     0.02,2,     2.64,2, -999.000,9, -999.000,9, -999.000,1,-999.0000,1,  -999.00,9,   -999.0,1,-999.000,9,   -999.0,9,   -999.0,9,  -999.00,9,27924.7,-999.0000,-999.000,-999.000,  1.6063,-999.000
   318MWESTW_4,  P21E,     9,  1,      9, SI9309,2,19940331,0049,-15.1195, -76.5778, 4203,   2993.4,   1.7928,  34.6786,2,  34.6791,2,    130.1,2,    131.0,2,   145.44,2,    37.32,2,     0.02,2,     2.62,2, -999.000,9, -999.000,9, -999.000,1,-999.0000,1,  -999.00,9,   -999.0,1,-999.000,9,   -999.0,9,   -999.0,9,  -999.00,9,29939.9,-999.0000,-999.000,-999.000,  1.5702,-999.000
   318MWESTW_4,  P21E,     9,  1,      8, SI9308,2,19940331,0049,-15.1195, -76.5778, 4203,   3190.3,   1.7936,  34.6798,2,  34.6800,2,    130.0,2,    131.5,2,   145.29,2,    37.16,2,     0.01,2,     2.62,2, -999.000,9, -999.000,9, -999.000,1,-999.0000,1,  -999.00,9,   -999.0,1,-999.000,9,   -999.0,9,   -999.0,9,  -999.00,9,31907.6,-999.0000,-999.000,-999.000,  1.5516,-999.000
   318MWESTW_4,  P21E,     9,  1,      7, SI9307,2,19940331,0049,-15.1195, -76.5778, 4203,   3397.7,   1.7976,  34.6816,2,  34.6820,2,    135.7,2,    136.8,2,   142.17,2,    36.84,2,     0.01,2,     2.58,2, -999.000,9, -999.000,9, -999.000,1,-999.0000,1,  -999.00,9,   -999.0,1,-999.000,9,   -999.0,9,   -999.0,9,  -999.00,9,33980.2,-999.0000,-999.000,-999.000,  1.5345,-999.000
   318MWESTW_4,  P21E,     9,  1,      6, SI9306,2,19940331,0049,-15.1195, -76.5778, 4203,   3593.0,   1.7896,  34.6841,2,  34.6844,2,    140.2,2,    140.8,2,   139.26,2,    36.41,2,     0.01,2,     2.53,2, -999.000,9, -999.000,9, -999.000,1,-999.0000,1,  -999.00,9,   -999.0,1,-999.000,9,   -999.0,9,   -999.0,9,  -999.00,9,35931.8,-999.0000,-999.000,-999.000,  1.5065,-999.000
   318MWESTW_4,  P21E,     9,  1,      5, SI9305,2,19940331,0049,-15.1195, -76.5778, 4203,   3794.1,   1.7615,  34.6874,2,  34.6883,2,    154.6,2,    154.5,2,   128.72,2,    35.30,2,     0.02,2,     2.49,2, -999.000,9, -999.000,9, -999.000,1,-999.0000,1,  -999.00,9,   -999.0,1,-999.000,9,   -999.0,9,   -999.0,9,  -999.00,9,37942.1,-999.0000,-999.000,-999.000,  1.4577,-999.000
   318MWESTW_4,  P21E,     9,  1,      4, SI9304,2,19940331,0049,-15.1195, -76.5778, 4203,   4001.9,   1.7571,  34.6895,2,  34.6897,2,    160.1,2,    158.6,2,   126.29,2,    35.09,2,     0.02,2,     2.47,2, -999.000,9, -999.000,9, -999.000,1,-999.0000,1,  -999.00,9,   -999.0,1,-999.000,9,   -999.0,9,   -999.0,9,  -999.00,9,40019.6,-999.0000,-999.000,-999.000,  1.4307,-999.000
   318MWESTW_4,  P21E,     9,  1,      3, SI9303,2,19940331,0049,-15.1195, -76.5778, 4203,   4090.7,   1.7638,  34.6897,2,  34.6901,2,    158.7,2,    158.8,2,   126.14,2,    34.98,2,     0.02,2,     2.47,2, -999.000,9, -999.000,9, -999.000,1,-999.0000,1,  -999.00,9,   -999.0,1,-999.000,9,   -999.0,9,   -999.0,9,  -999.00,9,40906.7,-999.0000,-999.000,-999.000,  1.4274,-999.000
   318MWESTW_4,  P21E,     9,  1,      2, SI9302,2,19940331,0049,-15.1195, -76.5778, 4203,   4211.8,   1.7715,  34.6903,2,  34.6946,3,    160.5,2,    159.3,2,   125.82,2,    34.87,2,     0.02,2,     2.47,2, -999.000,9, -999.000,9, -999.000,1,-999.0000,1,  -999.00,9,   -999.0,1,-999.000,9,   -999.0,9,   -999.0,9,  -999.00,9,42117.5,-999.0000,-999.000,-999.000,  1.4212,-999.000
   318MWESTW_4,  P21E,     9,  1,      1, SI9301,2,19940331,0049,-15.1195, -76.5778, 4203,   4249.4,   1.7759,  34.6902,2,  34.6910,2,    159.6,2,    161.6,2,   125.61,2,    34.91,2,     0.01,2,     2.46,2, -999.000,9, -999.000,9, -999.000,1,-999.0000,1,  -999.00,9,   -999.0,1,-999.000,9,   -999.0,9,   -999.0,9,  -999.00,9,42492.8,-999.0000,-999.000,-999.000,  1.4212,-999.000