BOTTLE,20010911WHPSIOdm
EXPOCODE,SECT_ID,STNNBR,CASTNO,SAMPNO,BTLNBR,BTLNBR_FLAG_W,DATE,TIME,LATITUDE,LONGITUDE,DEPTH,CTDPRS,CTDTMP,CTDSAL,CTDSAL_FLAG_W,SALNTY,SALNTY_FLAG_W,CTDOXY,CTDOXY_FLAG_W,OXYGEN,OXYGEN_FLAG_W,SILCAT,SILCAT_FLAG_W,NITRAT,NITRAT_FLAG_W,NITRIT,NITRIT_FLAG_W,PHSPHT,PHSPHT_FLAG_W,CFC-11,CFC-11_FLAG_W,CFC-12,CFC-12_FLAG_W,TRITUM,TRITUM_FLAG_W,HELIUM,HELIUM_FLAG_W,DELHE3,DELHE3_FLAG_W,DELC14,DELC14_FLAG_W,NEON,NEON_FLAG_W,TCARBN,TCARBN_FLAG_W,ALKALI,ALKALI_FLAG_W,PH,PH_FLAG_W,CTDRAW,HELIER,DELHER,NEONER,THETA,TRITER
,,,,,,,,,,,,DBAR,ITS-90,PSS-78,,PSS-78,,UMOL/KG,,UMOL/KG,,UMOL/KG,,UMOL/KG,,UMOL/KG,,UMOL/KG,,PMOL/KG,,PMOL/KG,,TU,,UMOL/KG,,PERCNT,,/MILLE,,NMOL/KG,,UMOL/KG,,UMOL/KG,,,,,NMOL/KG,PERCNT,NMOL/KG,ITS-90,TU
   318MWESTW_5,  P21W,   211,  1,     25, SI9425,2,19940603,2148,-17.5000,-177.6695, 2240,      8.5,  26.6445,  35.2303,2,  35.2288,2,    203.9,2,    203.5,2,     0.70,2,     0.09,2,     0.02,2,     0.16,2,    1.693,2,    0.962,2, -999.000,1,-999.0000,1,  -999.00,9,   -999.0,1,-999.000,9,   -999.0,9,   -999.0,9,  -999.00,9,  143.9,-999.0000,-999.000,-999.000, 26.6426,-999.000
   318MWESTW_5,  P21W,   211,  1,     24, SI9434,2,19940603,2148,-17.5000,-177.6695, 2240,     23.7,  26.6841,  35.2643,2,  35.2704,2,    213.0,2,    206.3,2,     0.71,2,     0.09,2,     0.02,2,     0.20,2,    1.693,2,    0.953,2, -999.000,1,-999.0000,1,  -999.00,9,   -999.0,1,-999.000,9,   -999.0,9,   -999.0,9,  -999.00,9,  295.7,-999.0000,-999.000,-999.000, 26.6787,-999.000
   318MWESTW_5,  P21W,   211,  1,     23, SI9423,2,19940603,2148,-17.5000,-177.6695, 2240,     48.0,  26.7876,  35.4206,2,  35.4216,2,    205.9,2,    205.3,2,     0.73,2,     0.06,2,     0.01,2,     0.21,2,    1.659,2,    0.941,2, -999.000,1,-999.0000,1,  -999.00,9,   -999.0,1,-999.000,9,   -999.0,9,   -999.0,9,  -999.00,9,  538.5,-999.0000,-999.000,-999.000, 26.7766,-999.000
   318MWESTW_5,  P21W,   211,  1,     22, SI9418,2,19940603,2148,-17.5000,-177.6695, 2240,    100.2,  26.1593,  35.8582,2,  35.8111,2,    201.5,2,    203.3,2,     0.60,2,     0.05,2,     0.02,2,     0.23,2,    1.756,2,    0.983,2, -999.000,1,-999.0000,1,  -999.00,9,   -999.0,1,-999.000,9,   -999.0,9,   -999.0,9,  -999.00,9, 1058.5,-999.0000,-999.000,-999.000, 26.1368,-999.000
   318MWESTW_5,  P21W,   211,  1,     21, SI9421,2,19940603,2148,-17.5000,-177.6695, 2240,    151.0,  23.6151,  36.0984,2,  36.0983,2,    166.4,2,    163.4,2,     0.76,2,     2.94,2,     0.04,2,     0.48,2,    1.795,2,    0.980,2, -999.000,1,-999.0000,1,  -999.00,9,   -999.0,1,-999.000,9,   -999.0,9,   -999.0,9,  -999.00,9, 1563.5,-999.0000,-999.000,-999.000, 23.5835,-999.000
   318MWESTW_5,  P21W,   211,  1,     20, SI9420,2,19940603,2148,-17.5000,-177.6695, 2240,    201.6,  20.8119,  35.8610,2,  35.8692,2,    163.3,2,    161.7,2,     1.24,2,     5.35,2,     0.02,2,     0.60,2,    1.801,2,    0.960,2, -999.000,1,-999.0000,1,  -999.00,9,   -999.0,1,-999.000,9,   -999.0,9,   -999.0,9,  -999.00,9, 2067.8,-999.0000,-999.000,-999.000, 20.7734,-999.000
   318MWESTW_5,  P21W,   211,  1,     19, SI9419,2,19940603,2148,-17.5000,-177.6695, 2240,    249.5,  19.1183,  35.6602,2,  35.6605,2,    186.3,2,    176.6,2,     1.41,2,     4.85,2,     0.01,2,     0.52,2,    1.866,2,    0.995,2, -999.000,1,-999.0000,1,  -999.00,9,   -999.0,1,-999.000,9,   -999.0,9,   -999.0,9,  -999.00,9, 2544.6,-999.0000,-999.000,-999.000, 19.0734,-999.000
   318MWESTW_5,  P21W,   211,  1,     18, SI9439,2,19940603,2148,-17.5000,-177.6695, 2240,    298.5,  16.6215,  35.4288,2,  35.4403,2,    189.4,2,    185.8,2,     1.89,2,     6.29,2,     0.01,2,     0.58,2,    1.869,2,    0.988,2, -999.000,1,-999.0000,1,  -999.00,9,   -999.0,1,-999.000,9,   -999.0,9,   -999.0,9,  -999.00,9, 3032.2,-999.0000,-999.000,-999.000, 16.5727,-999.000
   318MWESTW_5,  P21W,   211,  1,     17, SI9417,2,19940603,2148,-17.5000,-177.6695, 2240,    343.1,  14.8928,  35.2554,2,  35.2521,2,    189.0,2,    187.2,2,     2.66,2,     8.73,2,     0.01,2,     0.75,2,    1.745,2,    0.909,2, -999.000,1,-999.0000,1,  -999.00,9,   -999.0,1,-999.000,9,   -999.0,9,   -999.0,9,  -999.00,9, 3475.9,-999.0000,-999.000,-999.000, 14.8407,-999.000
   318MWESTW_5,  P21W,   211,  1,     16, SI9416,2,19940603,2148,-17.5000,-177.6695, 2240,    400.1,  11.7689,  34.8895,2,  34.8863,2,    187.7,2,    183.7,2,     5.12,2,    14.82,2,     0.01,2,     1.15,2,    1.256,2,    0.651,2, -999.000,1,-999.0000,1,  -999.00,9,   -999.0,1,-999.000,9,   -999.0,9,   -999.0,9,  -999.00,9, 4042.9,-999.0000,-999.000,-999.000, 11.7170,-999.000
   318MWESTW_5,  P21W,   211,  1,     15, SI9415,2,19940603,2148,-17.5000,-177.6695, 2240,    452.5,  10.1796,  34.7115,2,  34.7180,2,    192.2,2,    191.8,2,     6.06,2,    17.45,2,     0.01,2,     1.32,2,    0.986,2,    0.513,2, -999.000,1,-999.0000,1,  -999.00,9,   -999.0,1,-999.000,9,   -999.0,9,   -999.0,9,  -999.00,9, 4563.9,-999.0000,-999.000,-999.000, 10.1260,-999.000
   318MWESTW_5,  P21W,   211,  1,     14, SI9436,2,19940603,2148,-17.5000,-177.6695, 2240,    498.3,   8.9578,  34.5919,2,  34.5930,2,    200.1,2,    199.4,2,     6.99,2,    19.58,2,     0.00,2,     1.44,2,    0.971,2,    0.502,2, -999.000,1,-999.0000,1,  -999.00,9,   -999.0,1,-999.000,9,   -999.0,9,   -999.0,9,  -999.00,9, 5020.1,-999.0000,-999.000,-999.000,  8.9032,-999.000
   318MWESTW_5,  P21W,   211,  1,     13, SI9413,2,19940603,2148,-17.5000,-177.6695, 2240,    589.6,   7.5326,  34.4559,2,  34.4530,2,    209.4,2,    212.5,2,     8.85,2,    22.40,2,     0.00,2,     1.59,2,    0.796,2,    0.410,2, -999.000,1,-999.0000,1,  -999.00,9,   -999.0,1,-999.000,9,   -999.0,9,   -999.0,9,  -999.00,9, 5927.5,-999.0000,-999.000,-999.000,  7.4740,-999.000
   318MWESTW_5,  P21W,   211,  1,     12, SI9438,2,19940603,2148,-17.5000,-177.6695, 2240,    694.4,   6.3326,  34.3707,2,  34.3705,2,    212.3,2,    211.6,2,    14.06,2,    25.76,2,     0.00,2,     1.80,2,    0.389,2,    0.215,2, -999.000,1,-999.0000,1,  -999.00,9,   -999.0,1,-999.000,9,   -999.0,9,   -999.0,9,  -999.00,9, 6969.9,-999.0000,-999.000,-999.000,  6.2694,-999.000
   318MWESTW_5,  P21W,   211,  1,     11, SI9411,2,19940603,2148,-17.5000,-177.6695, 2240,    802.5,   5.5617,  34.3655,2,  34.3651,2,    192.3,2,    191.9,2,    24.47,2,    29.31,2,     0.00,2,     2.03,2,    0.134,2,    0.077,2, -999.000,1,-999.0000,1,  -999.00,9,   -999.0,1,-999.000,9,   -999.0,9,   -999.0,9,  -999.00,9, 8044.0,-999.0000,-999.000,-999.000,  5.4927,-999.000
   318MWESTW_5,  P21W,   211,  1,     10, SI9412,2,19940603,2148,-17.5000,-177.6695, 2240,    890.6,   4.9260,  34.3992,2,  34.3984,2,    174.3,2,    171.9,2,    38.10,2,    32.07,2,     0.00,2,     2.23,2,    0.034,2,    0.025,2, -999.000,1,-999.0000,1,  -999.00,9,   -999.0,1,-999.000,9,   -999.0,9,   -999.0,9,  -999.00,9, 8920.0,-999.0000,-999.000,-999.000,  4.8532,-999.000
   318MWESTW_5,  P21W,   211,  1,      9, SI9410,2,19940603,2148,-17.5000,-177.6695, 2240,    997.2,   4.3163,  34.4315,2,  34.4306,2,    165.2,2,    163.2,2,    50.96,2,    33.59,2,     0.00,2,     2.34,2,    0.012,2,    0.008,2, -999.000,1,-999.0000,1,  -999.00,9,   -999.0,1,-999.000,9,   -999.0,9,   -999.0,9,  -999.00,9, 9980.5,-999.0000,-999.000,-999.000,  4.2386,-999.000
   318MWESTW_5,  P21W,   211,  1,      8, SI9422,2,19940603,2148,-17.5000,-177.6695, 2240,   1097.1,   3.9289,  34.4747,2,  34.4738,2,    157.5,2,    156.0,2,    63.36,2,    34.38,2,     0.01,2,     2.40,2,    0.005,2,    0.005,2, -999.000,1,-999.0000,1,  -999.00,9,   -999.0,1,-999.000,9,   -999.0,9,   -999.0,9,  -999.00,9,10973.9,-999.0000,-999.000,-999.000,  3.8457,-999.000
   318MWESTW_5,  P21W,   211,  1,      7, SI9407,2,19940603,2148,-17.5000,-177.6695, 2240,   1200.3,   3.5130,  34.5104,2,  34.5097,2,    153.7,2,    152.7,2,    75.60,2,    34.91,2,     0.01,2,     2.43,2,    0.003,2,    0.004,2, -999.000,1,-999.0000,1,  -999.00,9,   -999.0,1,-999.000,9,   -999.0,9,   -999.0,9,  -999.00,9,11999.3,-999.0000,-999.000,-999.000,  3.4249,-999.000
   318MWESTW_5,  P21W,   211,  1,      6, SI9427,2,19940603,2148,-17.5000,-177.6695, 2240,   1398.8,   3.0659,  34.5491,2,  34.5472,2,    151.2,2,    160.3,4,    89.15,2,    35.21,2,     0.01,2,     2.45,2,    0.000,2,    0.005,2, -999.000,1,-999.0000,1,  -999.00,9,   -999.0,1,-999.000,9,   -999.0,9,   -999.0,9,  -999.00,9,13972.9,-999.0000,-999.000,-999.000,  2.9658,-999.000
   318MWESTW_5,  P21W,   211,  1,      5, SI9405,2,19940603,2148,-17.5000,-177.6695, 2240,   1595.5,   2.7278,  34.5795,2,  34.5787,2,    151.0,2,    151.2,2,    99.87,2,    35.31,2,     0.00,2,     2.46,2, -999.000,9, -999.000,9, -999.000,1,-999.0000,1,  -999.00,9,   -999.0,1,-999.000,9,   -999.0,9,   -999.0,9,  -999.00,9,15928.1,-999.0000,-999.000,-999.000,  2.6152,-999.000
   318MWESTW_5,  P21W,   211,  1,      4, SI9404,2,19940603,2148,-17.5000,-177.6695, 2240,   1792.7,   2.5328,  34.6003,2,  34.5999,2,    148.5,2,    149.7,2,   107.59,2,    35.37,2,     0.00,2,     2.48,2,   -0.001,6,    0.010,6, -999.000,1,-999.0000,1,  -999.00,9,   -999.0,1,-999.000,9,   -999.0,9,   -999.0,9,  -999.00,9,17888.0,-999.0000,-999.000,-999.000,  2.4062,-999.000
   318MWESTW_5,  P21W,   211,  1,      3, SI9403,2,19940603,2148,-17.5000,-177.6695, 2240,   1979.3,   2.4471,  34.6109,2,  34.6093,2,    148.4,2,    149.2,2,   111.12,2,    35.47,2,     0.00,2,     2.48,2, -999.000,9, -999.000,9, -999.000,1,-999.0000,1,  -999.00,9,   -999.0,1,-999.000,9,   -999.0,9,   -999.0,9,  -999.00,9,19743.5,-999.0000,-999.000,-999.000,  2.3057,-999.000
   318MWESTW_5,  P21W,   211,  1,      2, SI9437,2,19940603,2148,-17.5000,-177.6695, 2240,   2186.8,   2.4137,  34.6157,2,  34.6140,2,    149.1,2,    148.2,2,   112.81,2,    35.61,2,     0.00,2,     2.48,2,    0.002,2,    0.008,2, -999.000,1,-999.0000,1,  -999.00,9,   -999.0,1,-999.000,9,   -999.0,9,   -999.0,9,  -999.00,9,21806.2,-999.0000,-999.000,-999.000,  2.2546,-999.000
   318MWESTW_5,  P21W,   211,  1,      1, SI9401,2,19940603,2148,-17.5000,-177.6695, 2240,   2236.3,   2.4079,  34.6173,2,  34.6130,2,    149.2,2,    173.7,4,   113.09,2,    35.67,2,     0.00,2,     2.49,2,    0.001,2,    0.006,2, -999.000,1,-999.0000,1,  -999.00,9,   -999.0,1,-999.000,9,   -999.0,9,   -999.0,9,  -999.00,9,22298.3,-999.0000,-999.000,-999.000,  2.2444,-999.000
   318MWESTW_5,  P21W,   212,  1,     25, SI9425,2,19940604,0311,-17.7500,-178.2500, 1960,      5.7,  26.3143,  34.7982,2,  34.8015,2,    207.4,2,    203.6,2,     0.72,2,    -0.01,2,     0.01,2,     0.10,2,    1.723,2,    0.953,2, -999.000,1,   1.7078,2,    -1.01,2,   -999.0,1,   6.693,2,   -999.0,9,   -999.0,9,  -999.00,9,  116.6,  0.0085,   0.080,   0.033, 26.3130,-999.000
   318MWESTW_5,  P21W,   212,  1,     24, SI9434,2,19940604,0311,-17.7500,-178.2500, 1960,     20.9,  26.3536,  34.8970,2,  34.8977,2,    209.6,2,    203.2,2,     0.73,2,     0.02,2,     0.00,2,     0.11,2, -999.000,9, -999.000,9, -999.000,1,-999.0000,1,  -999.00,9,   -999.0,1,-999.000,9,   1925.3,2,   2293.8,2,     8.13,2,  267.8,-999.0000,-999.000,-999.000, 26.3489,-999.000
   318MWESTW_5,  P21W,   212,  1,     23, SI9423,2,19940604,0311,-17.7500,-178.2500, 1960,     46.8,  26.1981,  35.1312,2,  35.1321,2,    203.4,2,    203.4,2,     0.60,2,     0.02,2,     0.01,2,     0.11,2,    1.734,2,    0.969,2, -999.000,1,   1.6983,2,    -1.41,2,   -999.0,1,   6.689,2,   -999.0,9,   -999.0,9,  -999.00,9,  525.9,  0.0085,   0.080,   0.033, 26.1876,-999.000
   318MWESTW_5,  P21W,   212,  1,     22, SI9418,2,19940604,0311,-17.7500,-178.2500, 1960,     97.0,  23.8869,  35.7288,2,  35.7292,2,    202.8,2,    191.0,2,     0.61,2,     0.50,2,     0.14,2,     0.24,2,    1.887,2,    1.025,2, -999.000,1,-999.0000,1,  -999.00,9,   -999.0,1,-999.000,9,   2010.4,2,   2340.5,2,     8.06,2, 1026.5,-999.0000,-999.000,-999.000, 23.8665,-999.000
   318MWESTW_5,  P21W,   212,  1,     21, SI9421,2,19940604,0311,-17.7500,-178.2500, 1960,    146.7,  22.2344,  35.7649,2,  35.7665,2,    184.8,2,    182.9,2,     0.76,2,     2.08,2,     0.04,2,     0.32,2, -999.000,9, -999.000,9, -999.000,1,   1.7429,2,    -1.20,2,   -999.0,1,   6.985,2,   2033.7,2,   2343.4,2,     8.02,2, 1520.5,  0.0087,   0.080,   0.035, 22.2051,-999.000
   318MWESTW_5,  P21W,   212,  1,     20, SI9420,2,19940604,0311,-17.7500,-178.2500, 1960,    197.7,  20.5993,  35.7480,2,  35.7468,2,    183.2,2,    180.9,2,     0.77,2,     3.07,2,     0.03,2,     0.37,2,    1.961,2,    1.039,2, -999.000,1,   1.7499,2,    -0.04,2,   -999.0,1,   7.081,2,   -999.0,9,   -999.0,9,  -999.00,9, 2028.8,  0.0087,   0.080,   0.035, 20.5618,-999.000
   318MWESTW_5,  P21W,   212,  1,     19, SI9419,2,19940604,0311,-17.7500,-178.2500, 1960,    249.6,  18.9806,  35.6577,2,  35.6553,2,    188.6,2,    188.6,2,     1.08,2,     3.64,2,     0.01,2,     0.39,2, -999.000,9, -999.000,9, -999.000,1,   1.7526,2,    -0.19,2,   -999.0,1,   7.141,2,   2071.6,2,   2334.6,2,     7.97,2, 2545.5,  0.0088,   0.080,   0.036, 18.9359,-999.000
   318MWESTW_5,  P21W,   212,  1,     18, SI9439,2,19940604,0311,-17.7500,-178.2500, 1960,    301.3,  17.2454,  35.5006,2,  35.4991,2,    191.1,2,    188.0,2,     1.55,2,     5.36,2,     0.01,2,     0.52,2,    1.932,2,    1.008,2, -999.000,1,   1.7608,2,    -0.12,2,   -999.0,1,   7.225,2,   -999.0,9,   -999.0,9,  -999.00,9, 3059.4,  0.0088,   0.080,   0.036, 17.1949,-999.000
   318MWESTW_5,  P21W,   212,  1,     17, SI9417,2,19940604,0311,-17.7500,-178.2500, 1960,    351.3,  14.6609,  35.2311,2,  35.2219,2,    189.5,2,    186.6,2,     2.77,2,     9.03,2,     0.01,2,     0.75,2, -999.000,9, -999.000,9, -999.000,1,-999.0000,1,  -999.00,9,   -999.0,1,-999.000,9,   2093.2,2,   2312.5,2,     7.87,2, 3557.0,-999.0000,-999.000,-999.000, 14.6082,-999.000
   318MWESTW_5,  P21W,   212,  1,     16, SI9416,2,19940604,0311,-17.7500,-178.2500, 1960,    400.7,  12.4783,  34.9571,2,  34.9504,2,    182.6,2,    180.6,2,     4.75,2,    13.66,2,     0.01,2,     1.07,2,    1.293,6,    0.650,6, -999.000,1,   1.7903,2,     0.95,2,   -999.0,1,   7.502,2,   -999.0,9,   -999.0,9,  -999.00,9, 4048.3,  0.0090,   0.080,   0.038, 12.4243,-999.000
   318MWESTW_5,  P21W,   212,  1,     15, SI9415,2,19940604,0311,-17.7500,-178.2500, 1960,    451.9,  10.6258,  34.7592,2,  34.7532,2,    189.0,2,    186.9,2,     6.13,2,    16.97,2,     0.00,2,     1.27,2, -999.000,9, -999.000,9, -999.000,1,-999.0000,1,  -999.00,9,   -999.0,1,-999.000,9,   2127.0,2,   2293.2,2,     7.76,2, 4558.4,-999.0000,-999.000,-999.000, 10.5708,-999.000
   318MWESTW_5,  P21W,   212,  1,     14, SI9436,2,19940604,0311,-17.7500,-178.2500, 1960,    503.4,   8.8053,  34.5689,2,  34.5681,2,    198.9,2,    197.4,2,     7.65,2,    20.41,2,     0.00,2,     1.48,2,    0.876,2,    0.445,2, -999.000,1,   1.7948,2,     1.37,2,   -999.0,1,   7.633,2,   2136.8,2,   2287.2,2,     7.72,2, 5070.1,  0.0090,   0.080,   0.038,  8.7507,-999.000
   318MWESTW_5,  P21W,   212,  1,     13, SI9413,2,19940604,0311,-17.7500,-178.2500, 1960,    593.5,   7.2345,  34.4299,2,  34.4300,2,    211.6,2,    209.5,2,    10.24,2,    23.46,2,     0.01,2,     1.66,2, -999.000,9, -999.000,9, -999.000,1,   1.7736,2,     0.90,2,   -999.0,1,   7.718,2,   -999.0,9,   -999.0,9,  -999.00,9, 5965.8,  0.0089,   0.080,   0.039,  7.1768,-999.000
   318MWESTW_5,  P21W,   212,  1,     12, SI9438,2,19940604,0311,-17.7500,-178.2500, 1960,    697.5,   6.3689,  34.3765,2,  34.3757,2,    209.9,2,    209.4,2,    14.49,2,    25.88,2,     0.01,2,     1.82,2,    0.387,2,    0.208,2, -999.000,1,   1.8055,2,     1.51,2,   -999.0,1,   7.769,2,   2156.5,2,   2299.6,2,     7.67,2, 7000.2,  0.0090,   0.080,   0.039,  6.3052,-999.000
   318MWESTW_5,  P21W,   212,  1,     11, SI9411,2,19940604,0311,-17.7500,-178.2500, 1960,    797.6,   5.3123,  34.3852,2,  34.3849,2,    187.6,2,    178.8,2,    31.02,2,    30.66,2,     0.01,2,     2.15,2, -999.000,9, -999.000,9, -999.000,1,   1.8172,2,     5.73,2,   -999.0,1,   7.823,2,   -999.0,9,   -999.0,9,  -999.00,9, 7996.0,  0.0091,   0.090,   0.039,  5.2453,-999.000
   318MWESTW_5,  P21W,   212,  1,     10, SI9412,2,19940604,0311,-17.7500,-178.2500, 1960,    900.7,   4.8301,  34.4121,2,  34.4114,2,    172.1,2,    170.1,2,    41.48,2,    32.15,2,     0.00,2,     2.25,2,    0.033,2,    0.021,2, -999.000,1,-999.0000,1,  -999.00,9,   -999.0,1,-999.000,9,   -999.0,9,   -999.0,9,  -999.00,9, 9020.9,-999.0000,-999.000,-999.000,  4.7570,-999.000
   318MWESTW_5,  P21W,   212,  1,      9, SI9410,2,19940604,0311,-17.7500,-178.2500, 1960,   1002.1,   4.2293,  34.4459,2,  34.4447,2,    164.0,2,    162.1,2,    54.52,2,    33.59,2,     0.00,2,     2.34,2, -999.000,9, -999.000,9, -999.000,1,   1.8418,2,    12.76,2,   -999.0,1,   7.888,2,   -999.0,9,   -999.0,9,  -999.00,9,10028.5,  0.0092,   0.090,   0.039,  4.1518,-999.000
   318MWESTW_5,  P21W,   212,  1,      8, SI9422,2,19940604,0311,-17.7500,-178.2500, 1960,   1106.0,   3.8943,  34.4765,2,  34.4756,2,    157.6,2,    156.0,2,    64.23,2,    34.29,2,     0.00,2,     2.39,2,    0.008,2,    0.004,2, -999.000,1,-999.0000,1,  -999.00,9,   -999.0,1,-999.000,9,   2242.3,2,   2350.2,2,     7.56,2,11061.3,-999.0000,-999.000,-999.000,  3.8107,-999.000
   318MWESTW_5,  P21W,   212,  1,      7, SI9407,2,19940604,0311,-17.7500,-178.2500, 1960,   1208.1,   3.5202,  34.5057,2,  34.5054,2,    154.9,2,    154.2,2,    74.69,2,    34.61,2,     0.00,2,     2.42,2, -999.000,9, -999.000,9, -999.000,1,   1.8874,2,    20.90,2,   -999.0,1,   8.011,2,   -999.0,9,   -999.0,9,  -999.00,9,12076.8,  0.0094,   0.100,   0.040,  3.4314,-999.000
   318MWESTW_5,  P21W,   212,  1,      6, SI9427,2,19940604,0311,-17.7500,-178.2500, 1960,   1292.8,   3.2591,  34.5297,2,  34.5282,2,    153.2,2,    153.1,2,    82.74,2,    34.86,2,     0.00,2,     2.44,2,    0.000,2,    0.002,2, -999.000,1,-999.0000,1,  -999.00,9,   -999.0,1,-999.000,9,   2265.6,2,   2352.6,2,     7.55,2,12918.8,-999.0000,-999.000,-999.000,  3.1657,-999.000
   318MWESTW_5,  P21W,   212,  1,      5, SI9405,2,19940604,0311,-17.7500,-178.2500, 1960,   1394.2,   3.0619,  34.5435,2,  34.5433,2,    153.7,2,    153.5,2,    87.44,2,    34.86,2,     0.00,2,     2.44,2, -999.000,9, -999.000,9, -999.000,1,   1.9112,2,    25.12,2,   -999.0,1,   8.090,2,   -999.0,9,   -999.0,9,  -999.00,9,13926.4,  0.0096,   0.100,   0.040,  2.9622,-999.000
   318MWESTW_5,  P21W,   212,  1,      4, SI9404,2,19940604,0311,-17.7500,-178.2500, 1960,   1598.1,   2.6963,  34.5791,2,  34.5794,2,    151.9,2,    151.8,2,   100.03,2,    35.18,2,     0.00,2,     2.46,2,    0.001,2,    0.008,2, -999.000,1,   1.9096,2,    29.79,2,   -999.0,1,   8.060,2,   2280.3,2,   2384.7,2,     7.55,2,15952.9,  0.0095,   0.110,   0.040,  2.5839,-999.000
   318MWESTW_5,  P21W,   212,  1,      3, SI9403,2,19940604,0311,-17.7500,-178.2500, 1960,   1794.5,   2.5223,  34.6012,2,  34.5995,2,    149.4,2,    149.6,2,   107.61,2,    35.37,2,     0.01,2,     2.49,2, -999.000,9, -999.000,9, -999.000,1,-999.0000,1,  -999.00,9,   -999.0,1,-999.000,9,   2292.1,2,   2395.7,2,     7.55,2,17905.0,-999.0000,-999.000,-999.000,  2.3957,-999.000
   318MWESTW_5,  P21W,   212,  1,      2, SI9437,2,19940604,0311,-17.7500,-178.2500, 1960,   1883.7,   2.4893,  34.6054,2,  34.6056,2,    149.0,2,    149.0,2,   109.14,2,    35.37,2,     0.00,2,     2.49,2, -999.000,9, -999.000,9, -999.000,1,-999.0000,1,  -999.00,9,   -999.0,1,-999.000,9,   -999.0,9,   -999.0,9,  -999.00,9,18792.2,-999.0000,-999.000,-999.000,  2.3556,-999.000
   318MWESTW_5,  P21W,   212,  1,      1, SI9401,2,19940604,0311,-17.7500,-178.2500, 1960,   1925.7,   2.4320,  34.6115,2,  34.6113,2,    148.9,2,    149.6,2,   111.58,2,    35.39,2,     0.01,2,     2.49,2,    0.001,2,    0.006,2, -999.000,1,-999.0000,1,  -999.00,9,   -999.0,1,-999.000,9,   2296.1,2,   2386.1,4,     7.55,2,19209.1,-999.0000,-999.000,-999.000,  2.2955,-999.000