BOTTLE,20010911WHPSIOdm
EXPOCODE,SECT_ID,STNNBR,CASTNO,SAMPNO,BTLNBR,BTLNBR_FLAG_W,DATE,TIME,LATITUDE,LONGITUDE,DEPTH,CTDPRS,CTDTMP,CTDSAL,CTDSAL_FLAG_W,SALNTY,SALNTY_FLAG_W,CTDOXY,CTDOXY_FLAG_W,OXYGEN,OXYGEN_FLAG_W,SILCAT,SILCAT_FLAG_W,NITRAT,NITRAT_FLAG_W,NITRIT,NITRIT_FLAG_W,PHSPHT,PHSPHT_FLAG_W,CFC-11,CFC-11_FLAG_W,CFC-12,CFC-12_FLAG_W,TRITUM,TRITUM_FLAG_W,HELIUM,HELIUM_FLAG_W,DELHE3,DELHE3_FLAG_W,DELC14,DELC14_FLAG_W,NEON,NEON_FLAG_W,TCARBN,TCARBN_FLAG_W,ALKALI,ALKALI_FLAG_W,PH,PH_FLAG_W,CTDRAW,HELIER,DELHER,NEONER,THETA,TRITER
,,,,,,,,,,,,DBAR,ITS-90,PSS-78,,PSS-78,,UMOL/KG,,UMOL/KG,,UMOL/KG,,UMOL/KG,,UMOL/KG,,UMOL/KG,,PMOL/KG,,PMOL/KG,,TU,,UMOL/KG,,PERCNT,,/MILLE,,NMOL/KG,,UMOL/KG,,UMOL/KG,,,,,NMOL/KG,PERCNT,NMOL/KG,ITS-90,TU
   318MWESTW_5,  P21W,   228,  1,     29, SI9429,2,19940608,0349,-17.8333, 174.3333, 2780,     12.0,  25.1956,  34.9906,2,  34.9906,2,    216.7,2,    211.2,2,     0.58,2,     0.10,2,     0.00,2,     0.13,2,    1.796,2,    1.021,2, -999.000,1,-999.0000,1,  -999.00,9,   -999.0,1,-999.000,9,   1943.2,2,   -999.0,9,     8.12,2,  178.9,-999.0000,-999.000,-999.000, 25.1930,-999.000
   318MWESTW_5,  P21W,   228,  1,     28, SI9428,2,19940608,0349,-17.8333, 174.3333, 2780,     27.3,  25.1951,  34.9895,2,  34.9896,2,    208.7,2,    211.7,2,     0.59,2,     0.10,2,     0.00,2,     0.11,2, -999.000,9, -999.000,9, -999.000,1,-999.0000,1,  -999.00,9,   -999.0,1,-999.000,9,   1941.8,2,   2296.7,2,     8.12,2,  332.1,-999.0000,-999.000,-999.000, 25.1892,-999.000
   318MWESTW_5,  P21W,   228,  1,     27, SI9424,2,19940608,0349,-17.8333, 174.3333, 2780,     54.2,  25.2081,  34.9909,2,  34.9902,2,    212.9,2,    211.4,2,     0.61,2,     0.09,2,     0.01,2,     0.12,2,    1.804,2,    1.013,2, -999.000,1,-999.0000,1,  -999.00,9,   -999.0,1,-999.000,9,   -999.0,9,   -999.0,9,  -999.00,9,  600.2,-999.0000,-999.000,-999.000, 25.1963,-999.000
   318MWESTW_5,  P21W,   228,  1,     26, SI9414,2,19940608,0349,-17.8333, 174.3333, 2780,    103.1,  23.3607,  35.7417,2,  35.7377,2,    195.4,2,    188.1,2,     0.62,2,     1.52,2,     0.05,2,     0.31,2,    1.885,2,    1.041,2, -999.000,1,-999.0000,1,  -999.00,9,   -999.0,1,-999.000,9,   2026.2,2,   2343.3,2,     8.04,2, 1087.0,-999.0000,-999.000,-999.000, 23.3394,-999.000
   318MWESTW_5,  P21W,   228,  1,     25, SI9425,2,19940608,0349,-17.8333, 174.3333, 2780,    153.4,  21.8136,  35.7571,2,  35.7548,2,    182.3,2,    186.4,2,     0.78,2,     2.41,2,     0.03,2,     0.32,2,    2.007,2,    1.085,2, -999.000,1,-999.0000,1,  -999.00,9,   -999.0,1,-999.000,9,   2037.5,2,   2343.9,2,     8.02,2, 1587.5,-999.0000,-999.000,-999.000, 21.7833,-999.000
   318MWESTW_5,  P21W,   228,  1,     24, SI9434,2,19940608,0349,-17.8333, 174.3333, 2780,    202.1,  20.3104,  35.7231,2,  35.7274,2,    188.3,2,    185.4,2,     0.79,2,     3.33,2,     0.03,2,     0.37,2,    2.007,2,    1.083,2, -999.000,1,-999.0000,1,  -999.00,9,   -999.0,1,-999.000,9,   2048.4,2,   2345.5,2,     8.00,2, 2072.5,-999.0000,-999.000,-999.000, 20.2725,-999.000
   318MWESTW_5,  P21W,   228,  1,     23, SI9423,2,19940608,0349,-17.8333, 174.3333, 2780,    255.5,  18.7544,  35.6423,2,  35.6328,2,    182.9,2,    183.5,2,     1.26,2,     4.68,2,     0.02,2,     0.48,2,    1.973,2,    1.041,2, -999.000,1,-999.0000,1,  -999.00,9,   -999.0,1,-999.000,9,   2063.8,2,   2336.0,2,     7.96,2, 2603.7,-999.0000,-999.000,-999.000, 18.7090,-999.000
   318MWESTW_5,  P21W,   228,  1,     22, SI9418,2,19940608,0349,-17.8333, 174.3333, 2780,    304.1,  16.1716,  35.3854,2,  35.4007,2,    182.8,2,    182.0,2,     2.33,2,     7.60,2,     0.01,2,     0.67,2,    1.787,2,    0.939,2, -999.000,1,-999.0000,1,  -999.00,9,   -999.0,1,-999.000,9,   2084.7,2,   2332.1,2,     7.90,2, 3087.9,-999.0000,-999.000,-999.000, 16.1228,-999.000
   318MWESTW_5,  P21W,   228,  1,     21, SI9421,2,19940608,0349,-17.8333, 174.3333, 2780,    345.9,  14.9178,  35.2623,2,  35.2629,2,    188.5,2,    182.3,2,     3.15,2,     9.54,2,     0.03,2,     0.80,2, -999.000,9, -999.000,9, -999.000,1,-999.0000,1,  -999.00,9,   -999.0,1,-999.000,9,   2096.4,2,   2318.3,2,     7.87,2, 3504.0,-999.0000,-999.000,-999.000, 14.8653,-999.000
   318MWESTW_5,  P21W,   228,  1,     20, SI9420,2,19940608,0349,-17.8333, 174.3333, 2780,    393.1,  13.0119,  35.0663,2,  35.0681,2,    184.1,2,    183.6,2,     4.58,2,    12.81,2,     0.01,2,     1.00,2,    1.508,2,    0.773,2, -999.000,1,-999.0000,1,  -999.00,9,   -999.0,1,-999.000,9,   2111.1,2,   2307.1,2,     7.82,2, 3973.3,-999.0000,-999.000,-999.000, 12.9574,-999.000
   318MWESTW_5,  P21W,   228,  1,     19, SI9419,2,19940608,0349,-17.8333, 174.3333, 2780,    447.3,  10.8999,  34.8105,2,  34.8070,2,    182.9,2,    182.8,2,     6.98,2,    17.17,2,     0.01,2,     1.29,2, -999.000,9, -999.000,9, -999.000,1,-999.0000,1,  -999.00,9,   -999.0,1,-999.000,9,   2128.2,2,   2301.4,2,     7.77,2, 4513.0,-999.0000,-999.000,-999.000, 10.8446,-999.000
   318MWESTW_5,  P21W,   228,  1,     18, SI9439,2,19940608,0349,-17.8333, 174.3333, 2780,    495.3,   9.0623,  34.6217,2,  34.6199,2,    190.8,2,    193.8,2,     8.93,2,    20.52,2,     0.01,2,     1.50,2,    0.866,2,    0.458,2, -999.000,1,-999.0000,1,  -999.00,9,   -999.0,1,-999.000,9,   2140.8,2,   2292.8,2,     7.72,2, 4990.5,-999.0000,-999.000,-999.000,  9.0076,-999.000
   318MWESTW_5,  P21W,   228,  1,     17, SI9417,2,19940608,0349,-17.8333, 174.3333, 2780,    598.4,   6.8685,  34.4323,2,  34.4310,2,    197.5,2,    201.5,2,    14.76,2,    25.20,2,     0.01,2,     1.79,2,    0.431,2,    0.227,2, -999.000,1,-999.0000,1,  -999.00,9,   -999.0,1,-999.000,9,   2157.1,2,   2290.2,2,     7.68,2, 6015.2,-999.0000,-999.000,-999.000,  6.8119,-999.000
   318MWESTW_5,  P21W,   228,  1,     16, SI9416,2,19940608,0349,-17.8333, 174.3333, 2780,    689.2,   5.7840,  34.3922,2,  34.3892,2,    193.3,2,    193.6,2,    24.17,2,    28.44,2,     0.02,2,     2.00,2,    0.189,2,    0.104,2, -999.000,1,-999.0000,1,  -999.00,9,   -999.0,1,-999.000,9,   2177.7,2,   2298.3,2,     7.64,2, 6918.2,-999.0000,-999.000,-999.000,  5.7241,-999.000
   318MWESTW_5,  P21W,   228,  1,     15, SI9415,2,19940608,0349,-17.8333, 174.3333, 2780,    806.0,   5.0544,  34.4112,2,  34.4118,2,    178.3,2,    176.3,2,    37.75,2,    31.01,2,     0.01,2,     2.19,2,    0.073,2,    0.041,2, -999.000,1,-999.0000,1,  -999.00,9,   -999.0,1,-999.000,9,   2204.7,2,   2307.5,2,     7.61,2, 8079.3,-999.0000,-999.000,-999.000,  4.9882,-999.000
   318MWESTW_5,  P21W,   228,  1,     14, SI9436,2,19940608,0349,-17.8333, 174.3333, 2780,    901.3,   4.3573,  34.4439,2,  34.4444,2,    169.8,2,    167.7,2,    52.37,2,    32.70,2,     0.01,2,     2.31,2,    0.032,2,    0.017,2, -999.000,1,-999.0000,1,  -999.00,9,   -999.0,1,-999.000,9,   2225.1,2,   2323.7,2,     7.58,2, 9026.7,-999.0000,-999.000,-999.000,  4.2874,-999.000
   318MWESTW_5,  P21W,   228,  1,     13, SI9413,2,19940608,0349,-17.8333, 174.3333, 2780,    995.3,   4.0447,  34.4653,2,  34.4667,2,    163.9,2,    162.5,2,    60.28,2,    33.47,2,     0.01,2,     2.36,2, -999.000,9, -999.000,9, -999.000,1,-999.0000,1,  -999.00,9,   -999.0,1,-999.000,9,   2235.2,2,   2331.2,2,     7.57,2, 9961.6,-999.0000,-999.000,-999.000,  3.9692,-999.000
   318MWESTW_5,  P21W,   228,  1,     12, SI9438,2,19940608,0349,-17.8333, 174.3333, 2780,   1101.6,   3.7094,  34.4973,2,  34.4977,2,    158.7,2,    158.1,2,    70.58,2,    34.28,2,     0.01,2,     2.40,2,    0.007,6,    0.002,6, -999.000,1,-999.0000,1,  -999.00,9,   -999.0,1,-999.000,9,   2250.0,2,   2348.7,2,     7.57,2,11019.1,-999.0000,-999.000,-999.000,  3.6277,-999.000
   318MWESTW_5,  P21W,   228,  1,     11, SI9411,2,19940608,0349,-17.8333, 174.3333, 2780,   1192.2,   3.4504,  34.5207,2,  34.5221,2,    155.9,2,    154.9,2,    78.64,2,    34.70,2,     0.00,2,     2.43,2, -999.000,9, -999.000,9, -999.000,1,-999.0000,1,  -999.00,9,   -999.0,1,-999.000,9,   2260.0,2,   2352.9,2,     7.56,2,11919.4,-999.0000,-999.000,-999.000,  3.3635,-999.000
   318MWESTW_5,  P21W,   228,  1,     10, SI9412,2,19940608,0349,-17.8333, 174.3333, 2780,   1296.2,   3.2382,  34.5416,2,  34.5421,2,    152.8,2,    152.1,2,    85.36,2,    35.01,2,     0.00,2,     2.46,2,    0.002,2,   -0.001,2, -999.000,1,-999.0000,1,  -999.00,9,   -999.0,1,-999.000,9,   2269.4,2,   2361.2,2,     7.56,2,12953.5,-999.0000,-999.000,-999.000,  3.1447,-999.000
   318MWESTW_5,  P21W,   228,  1,      9, SI9410,2,19940608,0349,-17.8333, 174.3333, 2780,   1502.2,   2.8289,  34.5799,2,  34.5814,2,    147.7,2,    148.3,2,    98.63,2,    35.49,2,     0.01,2,     2.50,2, -999.000,9, -999.000,9, -999.000,1,-999.0000,1,  -999.00,9,   -999.0,1,-999.000,9,   2284.9,2,   2373.8,2,     7.55,2,15001.6,-999.0000,-999.000,-999.000,  2.7228,-999.000
   318MWESTW_5,  P21W,   228,  1,      8, SI9422,3,19940608,0349,-17.8333, 174.3333, 2780,   1706.0,   2.5539,  34.6050,2,  34.6066,2,    147.3,2,    149.2,2,   107.14,2,    35.67,2,     0.01,2,     2.52,2, -999.000,9, -999.000,9, -999.000,1,-999.0000,1,  -999.00,9,   -999.0,1,-999.000,9,   2294.4,2,   2389.1,3,     7.55,2,17027.0,-999.0000,-999.000,-999.000,  2.4343,-999.000
   318MWESTW_5,  P21W,   228,  1,      7, SI9407,2,19940608,0349,-17.8333, 174.3333, 2780,   1903.5,   2.3462,  34.6250,2,  34.6250,2,    147.6,2,    147.9,2,   113.26,2,    35.62,2,     0.00,2,     2.51,2, -999.000,9, -999.000,9, -999.000,1,-999.0000,1,  -999.00,9,   -999.0,1,-999.000,9,   2299.9,2,   2388.7,2,     7.55,2,18990.7,-999.0000,-999.000,-999.000,  2.2128,-999.000
   318MWESTW_5,  P21W,   228,  1,      6, SI9427,2,19940608,0349,-17.8333, 174.3333, 2780,   2099.7,   2.1065,  34.6447,2,  34.6441,2,    147.1,2,    147.6,2,   121.47,2,    35.78,2,     0.01,2,     2.52,2, -999.000,9, -999.000,9, -999.000,1,-999.0000,1,  -999.00,9,   -999.0,1,-999.000,9,   2308.8,2,   2400.8,2,     7.55,2,20941.4,-999.0000,-999.000,-999.000,  1.9599,-999.000
   318MWESTW_5,  P21W,   228,  1,      5, SI9405,2,19940608,0349,-17.8333, 174.3333, 2780,   2291.9,   2.0157,  34.6521,2,  34.6529,2,    147.0,2,    147.6,2,   124.91,2,    35.88,2,     0.00,2,     2.52,2, -999.000,9, -999.000,9, -999.000,1,-999.0000,1,  -999.00,9,   -999.0,1,-999.000,9,   2312.2,2,   2403.5,2,     7.55,2,22852.3,-999.0000,-999.000,-999.000,  1.8538,-999.000
   318MWESTW_5,  P21W,   228,  1,      4, SI9404,2,19940608,0349,-17.8333, 174.3333, 2780,   2501.8,   1.9857,  34.6561,2,  34.6557,2,    147.5,2,    146.6,2,   127.15,2,    36.01,2,     0.00,2,     2.53,2, -999.000,9, -999.000,9, -999.000,1,-999.0000,1,  -999.00,9,   -999.0,1,-999.000,9,   2314.6,2,   2400.2,2,     7.55,2,24938.3,-999.0000,-999.000,-999.000,  1.8055,-999.000
   318MWESTW_5,  P21W,   228,  1,      3, SI9403,2,19940608,0349,-17.8333, 174.3333, 2780,   2696.3,   1.9865,  34.6569,2,  34.6567,2,    146.8,2,    146.6,2,   128.06,2,    36.05,2,     0.00,2,     2.53,2, -999.000,9, -999.000,9, -999.000,1,-999.0000,1,  -999.00,9,   -999.0,1,-999.000,9,   2315.8,2,   2405.7,2,     7.55,2,26872.4,-999.0000,-999.000,-999.000,  1.7883,-999.000
   318MWESTW_5,  P21W,   228,  1,      2, SI9437,2,19940608,0349,-17.8333, 174.3333, 2780,   2797.8,   1.9944,  34.6577,2,  34.6576,2,    147.2,2,    146.3,2,   127.93,2,    35.93,2,     0.01,2,     2.53,2, -999.000,9, -999.000,9, -999.000,1,-999.0000,1,  -999.00,9,   -999.0,1,-999.000,9,   2315.3,2,   2403.7,2,     7.55,2,27881.3,-999.0000,-999.000,-999.000,  1.7864,-999.000
   318MWESTW_5,  P21W,   228,  1,      1, SI9401,2,19940608,0349,-17.8333, 174.3333, 2780,   2839.5,   1.9983,  34.6579,2,  34.6584,2,    148.4,2,    146.4,2,   127.35,2,    35.80,2,     0.01,2,     2.53,2,    0.000,2,   -0.002,2, -999.000,1,-999.0000,1,  -999.00,9,   -999.0,1,-999.000,9,   2317.0,2,   2407.6,2,     7.55,2,28295.7,-999.0000,-999.000,-999.000,  1.7862,-999.000