BOTTLE,20010911WHPSIOdm
EXPOCODE,SECT_ID,STNNBR,CASTNO,SAMPNO,BTLNBR,BTLNBR_FLAG_W,DATE,TIME,LATITUDE,LONGITUDE,DEPTH,CTDPRS,CTDTMP,CTDSAL,CTDSAL_FLAG_W,SALNTY,SALNTY_FLAG_W,CTDOXY,CTDOXY_FLAG_W,OXYGEN,OXYGEN_FLAG_W,SILCAT,SILCAT_FLAG_W,NITRAT,NITRAT_FLAG_W,NITRIT,NITRIT_FLAG_W,PHSPHT,PHSPHT_FLAG_W,CFC-11,CFC-11_FLAG_W,CFC-12,CFC-12_FLAG_W,TRITUM,TRITUM_FLAG_W,HELIUM,HELIUM_FLAG_W,DELHE3,DELHE3_FLAG_W,DELC14,DELC14_FLAG_W,NEON,NEON_FLAG_W,TCARBN,TCARBN_FLAG_W,ALKALI,ALKALI_FLAG_W,PH,PH_FLAG_W,CTDRAW,HELIER,DELHER,NEONER,THETA,TRITER
,,,,,,,,,,,,DBAR,ITS-90,PSS-78,,PSS-78,,UMOL/KG,,UMOL/KG,,UMOL/KG,,UMOL/KG,,UMOL/KG,,UMOL/KG,,PMOL/KG,,PMOL/KG,,TU,,UMOL/KG,,PERCNT,,/MILLE,,NMOL/KG,,UMOL/KG,,UMOL/KG,,,,,NMOL/KG,PERCNT,NMOL/KG,ITS-90,TU
   318MWESTW_4,  P21E,    75,  1,     36, SI9336,2,19940419,2042,-16.7528,-102.0055, 3836,      9.1,  25.0819,  36.2584,2,  36.2806,2,    205.0,2,    218.0,2,     0.34,2,     0.17,2,     0.01,2,     0.32,2,    1.885,2,    1.010,2,    0.639,2,   1.6953,2,    -1.10,2,   -999.0,1,   6.729,2,   -999.0,9,   -999.0,9,  -999.00,9,  134.0,  0.0085,   0.080,   0.034, 25.0799,   0.007
   318MWESTW_4,  P21E,    75,  1,     35, SI9335,2,19940419,2042,-16.7528,-102.0055, 3836,     24.8,  24.6655,  36.2514,2,  36.2588,2,    204.8,2,    216.3,2,     0.53,2,     0.11,2,     0.01,2,     0.31,2,    1.895,2,    1.031,2,    0.661,2,   1.6956,2,    -1.09,2,   -999.0,1,   6.732,2,   -999.0,9,   -999.0,9,  -999.00,9,  290.6,  0.0085,   0.080,   0.034, 24.6602,   0.007
   318MWESTW_4,  P21E,    75,  1,     34, SI9334,2,19940419,2042,-16.7528,-102.0055, 3836,     49.4,  24.5564,  36.2510,2,  36.2548,2,    206.0,2,    218.3,2,     0.55,2,     0.05,2,     0.01,2,     0.32,2,    1.924,2,    1.071,2,    0.630,2,   1.6969,2,    -1.19,2,   -999.0,1,   6.737,2,   -999.0,9,   -999.0,9,  -999.00,9,  537.0,  0.0085,   0.080,   0.034, 24.5458,   0.007
   318MWESTW_4,  P21E,    75,  1,     33, SI9333,2,19940419,2042,-16.7528,-102.0055, 3836,     99.9,  22.1961,  36.1166,2,  36.1707,2,    216.3,2,    223.0,2,     0.39,2,     0.17,2,     0.01,2,     0.34,2,    2.183,2,    1.187,2,    0.562,2,   1.7105,2,    -1.27,2,   -999.0,1,   6.882,2,   -999.0,9,   -999.0,9,  -999.00,9, 1041.4,  0.0086,   0.080,   0.034, 22.1761,   0.007
   318MWESTW_4,  P21E,    75,  1,     32, SI9332,2,19940419,2042,-16.7528,-102.0055, 3836,    150.2,  20.9975,  35.8766,2,  35.9667,2,    211.7,2,    216.4,2,     0.41,2,     0.39,2,     0.20,2,     0.40,2,    2.227,2,    1.158,2,    0.560,2,   1.7190,2,    -1.22,2,   -999.0,1,   6.919,2,   -999.0,9,   -999.0,9,  -999.00,9, 1544.2,  0.0086,   0.080,   0.035, 20.9686,   0.007
   318MWESTW_4,  P21E,    75,  1,     31, SI9331,2,19940419,2042,-16.7528,-102.0055, 3836,    202.0,  18.2974,  35.4843,2,  35.4328,2,    206.3,2,    198.0,2,     0.95,2,     3.94,2,     0.03,2,     0.62,2,    2.349,2,    1.199,2,    0.520,2,   1.7344,2,    -1.12,2,   -999.0,1,   7.075,2,   -999.0,9,   -999.0,9,  -999.00,9, 2061.6,  0.0087,   0.080,   0.035, 18.2622,   0.006
   318MWESTW_4,  P21E,    75,  1,     30, SI9330,2,19940419,2042,-16.7528,-102.0055, 3836,    251.5,  14.7699,  34.8245,2,  34.8621,2,    183.0,2,    176.8,2,     2.70,2,     9.19,2,     0.02,2,     0.93,2,    2.210,2,    1.076,2,    0.462,2,   1.7453,2,    -0.19,2,   -999.0,1,   7.252,2,   -999.0,9,   -999.0,9,  -999.00,9, 2556.5,  0.0087,   0.080,   0.036, 14.7322,   0.006
   318MWESTW_4,  P21E,    75,  1,     29, SI9329,2,19940419,2042,-16.7528,-102.0055, 3836,    301.7,  11.9342,  34.5825,2,  34.6024,2,    121.1,2,    122.3,2,     9.11,2,    17.95,2,     0.01,2,     1.63,2,    1.311,2,    0.629,2,    0.330,2,   1.7577,2,     1.33,2,   -999.0,1,   7.395,2,   -999.0,9,   -999.0,9,  -999.00,9, 3057.8,  0.0088,   0.080,   0.037, 11.8950,   0.005
   318MWESTW_4,  P21E,    75,  1,     28, SI9328,2,19940419,2042,-16.7528,-102.0055, 3836,    399.6,   8.6946,  34.5547,2,  34.5547,2,     40.3,2,     38.6,2,    25.21,2,    35.03,2,     0.00,2,     2.66,2,    0.095,2,    0.038,2, -999.000,1,   1.7868,2,     2.50,2,   -999.0,1,   7.606,2,   -999.0,9,   -999.0,9,  -999.00,9, 4036.5,  0.0089,   0.080,   0.038,  8.6518,-999.000
   318MWESTW_4,  P21E,    75,  1,     27, SI9327,2,19940419,2042,-16.7528,-102.0055, 3836,    501.4,   7.1132,  34.5181,2,  34.5182,2,     64.0,2,     61.9,2,    32.48,2,    38.18,2,     0.01,2,     2.67,2,    0.012,2,    0.005,2,    0.010,2,   1.7916,2,     4.41,2,   -999.0,1,   7.652,2,   -999.0,9,   -999.0,9,  -999.00,9, 5052.8,  0.0090,   0.090,   0.038,  7.0651,   0.003
   318MWESTW_4,  P21E,    75,  1,     26, SI9326,2,19940419,2042,-16.7528,-102.0055, 3836,    600.1,   6.3631,  34.5132,2,  34.5125,2,     50.4,2,     48.4,2,    42.36,2,    41.33,2,     0.01,2,     2.89,2,    0.003,2,   -0.003,2,    0.001,2,   1.8009,2,     6.84,2,   -999.0,1,   7.682,2,   -999.0,9,   -999.0,9,  -999.00,9, 6038.9,  0.0090,   0.090,   0.038,  6.3086,   0.003
   318MWESTW_4,  P21E,    75,  1,     25, SI9325,2,19940419,2042,-16.7528,-102.0055, 3836,    700.6,   5.5869,  34.5044,2,  34.5058,2,     51.3,2,     48.1,2,    53.10,2,    42.86,2,     0.00,2,     3.02,2,   -0.001,2,    0.001,2,    0.003,2,   1.8293,2,     9.93,2,   -999.0,1,   7.784,2,   -999.0,9,   -999.0,9,  -999.00,9, 7042.1,  0.0091,   0.090,   0.039,  5.5269,   0.004
   318MWESTW_4,  P21E,    75,  1,     24, SI9324,2,19940419,2042,-16.7528,-102.0055, 3836,    799.2,   5.2043,  34.5088,2,  34.5089,2,     46.7,2,     47.5,2,    60.38,2,    43.61,3,     0.00,2,     3.07,3,    0.000,2,   -0.003,2,   -0.002,2,   1.8425,2,    11.58,2,   -999.0,1,   7.821,2,   -999.0,9,   -999.0,9,  -999.00,9, 8027.0,  0.0092,   0.090,   0.039,  5.1376,   0.003
   318MWESTW_4,  P21E,    75,  1,     23, SI9323,2,19940419,2042,-16.7528,-102.0055, 3836,    899.7,   4.7207,  34.5177,2,  34.5168,2,     55.0,2,     56.7,2,    69.56,2,    43.08,2,     0.00,2,     3.05,3,   -0.002,2,   -0.003,2, -999.000,1,-999.0000,1,  -999.00,9,   -999.0,1,-999.000,9,   -999.0,9,   -999.0,9,  -999.00,9, 9031.1,-999.0000,-999.000,-999.000,  4.6483,-999.000
   318MWESTW_4,  P21E,    75,  1,     22, SI9322,2,19940419,2042,-16.7528,-102.0055, 3836,    999.9,   4.3415,  34.5277,2,  34.5290,2,     63.0,2,     64.0,2,    77.36,2,    42.62,2,     0.00,2,     3.02,2,    0.001,2,   -0.001,2,   -0.006,2,   1.8560,2,    16.06,2,   -999.0,1,   7.844,2,   -999.0,9,   -999.0,9,  -999.00,9,10031.9,  0.0093,   0.090,   0.039,  4.2632,   0.003
   318MWESTW_4,  P21E,    75,  1,     21, SI9321,2,19940419,2042,-16.7528,-102.0055, 3836,   1099.4,   3.9906,  34.5399,2,  34.5406,2,     69.8,2,     71.5,2,    85.34,2,    42.33,2,     0.01,2,     2.99,2, -999.000,9, -999.000,9, -999.000,1,-999.0000,1,  -999.00,9,   -999.0,1,-999.000,9,   -999.0,9,   -999.0,9,  -999.00,9,11025.7,-999.0000,-999.000,-999.000,  3.9066,-999.000
   318MWESTW_4,  P21E,    75,  1,     20, SI9320,2,19940419,2042,-16.7528,-102.0055, 3836,   1199.1,   3.6368,  34.5543,2,  34.5563,2,     78.2,2,     79.6,2,    93.14,2,    41.47,2,     0.01,2,     2.95,2, -999.000,9, -999.000,9, -999.000,1,-999.0000,1,  -999.00,9,   -999.0,1,-999.000,9,   -999.0,9,   -999.0,9,  -999.00,9,12021.9,-999.0000,-999.000,-999.000,  3.5475,-999.000
   318MWESTW_4,  P21E,    75,  1,     19, SI9319,2,19940419,2042,-16.7528,-102.0055, 3836,   1299.2,   3.3944,  34.5672,2,  34.5677,2,     83.3,2,     84.8,2,    99.21,2,    40.83,2,     0.01,2,     2.93,2, -999.000,9, -999.000,9,    0.002,2,   1.8818,2,    21.24,2,   -999.0,1,   7.976,2,   -999.0,9,   -999.0,9,  -999.00,9,13022.1,  0.0094,   0.100,   0.040,  3.2991,   0.003
   318MWESTW_4,  P21E,    75,  1,     18, SI9318,2,19940419,2042,-16.7528,-102.0055, 3836,   1398.1,   3.1735,  34.5813,2,  34.5798,2,     89.7,2,     90.3,2,   104.06,2,    40.49,2,     0.01,2,     2.89,2, -999.000,9, -999.000,9, -999.000,1,-999.0000,1,  -999.00,9,   -999.0,1,-999.000,9,   -999.0,9,   -999.0,9,  -999.00,9,14009.5,-999.0000,-999.000,-999.000,  3.0722,-999.000
   318MWESTW_4,  P21E,    75,  1,     17, SI9317,2,19940419,2042,-16.7528,-102.0055, 3836,   1498.3,   2.9427,  34.5952,2,  34.5922,2,     94.7,2,     96.1,2,   109.79,2,    39.97,2,     0.01,2,     2.85,2, -999.000,9, -999.000,9, -999.000,1,-999.0000,1,  -999.00,9,   -999.0,1,-999.000,9,   -999.0,9,   -999.0,9,  -999.00,9,15011.1,-999.0000,-999.000,-999.000,  2.8356,-999.000
   318MWESTW_4,  P21E,    75,  1,     16, SI9316,2,19940419,2042,-16.7528,-102.0055, 3836,   1598.6,   2.7260,  34.6062,2,  34.6064,2,    100.9,2,    102.7,2,   114.82,2,    39.39,2,     0.01,2,     2.81,2, -999.000,9, -999.000,9,   -0.005,2,   1.8998,2,    25.27,2,   -999.0,1,   8.036,2,   -999.0,9,   -999.0,9,  -999.00,9,16012.4,  0.0095,   0.100,   0.040,  2.6131,   0.003
   318MWESTW_4,  P21E,    75,  1,     15, SI9315,2,19940419,2042,-16.7528,-102.0055, 3836,   1695.1,   2.5950,  34.6163,2,  34.6148,2,    105.8,2,    107.2,2,   117.61,2,    39.05,2,     0.01,2,     2.77,2, -999.000,9, -999.000,9, -999.000,1,-999.0000,1,  -999.00,9,   -999.0,1,-999.000,9,   -999.0,9,   -999.0,9,  -999.00,9,16976.9,-999.0000,-999.000,-999.000,  2.4757,-999.000
   318MWESTW_4,  P21E,    75,  1,     14, SI9314,2,19940419,2042,-16.7528,-102.0055, 3836,   1848.5,   2.3650,  34.6291,2,  34.6293,2,    115.6,2,    117.6,2,   120.91,2,    38.13,2,     0.01,2,     2.70,2, -999.000,9, -999.000,9, -999.000,1,-999.0000,1,  -999.00,9,   -999.0,1,-999.000,9,   -999.0,9,   -999.0,9,  -999.00,9,18509.0,-999.0000,-999.000,-999.000,  2.2359,-999.000
   318MWESTW_4,  P21E,    75,  1,     13, SI9313,2,19940419,2042,-16.7528,-102.0055, 3836,   1999.1,   2.1466,  34.6447,2,  34.6449,2,    131.0,2,    131.3,2,   122.14,2,    36.94,2,     0.00,2,     2.60,2, -999.000,9, -999.000,9, -999.000,1,-999.0000,1,  -999.00,9,   -999.0,1,-999.000,9,   -999.0,9,   -999.0,9,  -999.00,9,20013.9,-999.0000,-999.000,-999.000,  2.0080,-999.000
   318MWESTW_4,  P21E,    75,  1,     12, SI9312,2,19940419,2042,-16.7528,-102.0055, 3836,   2148.5,   2.0163,  34.6538,2,  34.6531,2,    140.9,2,    141.5,2,   121.82,2,    36.18,2,     0.00,2,     2.53,2, -999.000,9, -999.000,9, -999.000,1,-999.0000,1,  -999.00,9,   -999.0,1,-999.000,9,   -999.0,9,   -999.0,9,  -999.00,9,21506.2,-999.0000,-999.000,-999.000,  1.8669,-999.000
   318MWESTW_4,  P21E,    75,  1,     11, SI9311,2,19940419,2042,-16.7528,-102.0055, 3836,   2300.9,   1.9050,  34.6628,2,  34.6635,2,    147.4,2,    147.3,2,   123.57,2,    35.67,2,     0.00,2,     2.49,2, -999.000,9, -999.000,9, -999.000,1,-999.0000,1,  -999.00,9,   -999.0,1,-999.000,9,   -999.0,9,   -999.0,9,  -999.00,9,23028.9,-999.0000,-999.000,-999.000,  1.7442,-999.000
   318MWESTW_4,  P21E,    75,  1,     10, SI9310,2,19940419,2042,-16.7528,-102.0055, 3836,   2447.4,   1.8538,  34.6705,2,  34.6696,2,    148.4,2,    148.4,2,   126.35,2,    35.67,2,     0.00,2,     2.49,2, -999.000,9, -999.000,9, -999.000,1,-999.0000,1,  -999.00,9,   -999.0,1,-999.000,9,   -999.0,9,   -999.0,9,  -999.00,9,24493.1,-999.0000,-999.000,-999.000,  1.6809,-999.000
   318MWESTW_4,  P21E,    75,  1,      9, SI9309,2,19940419,2042,-16.7528,-102.0055, 3836,   2595.8,   1.8244,  34.6745,2,  34.6728,2,    148.3,2,    148.5,2,   128.80,2,    35.72,2,     0.00,2,     2.50,2, -999.000,9, -999.000,9, -999.000,1,-999.0000,1,  -999.00,9,   -999.0,1,-999.000,9,   -999.0,9,   -999.0,9,  -999.00,9,25975.3,-999.0000,-999.000,-999.000,  1.6386,-999.000
   318MWESTW_4,  P21E,    75,  1,      8, SI9308,2,19940419,2042,-16.7528,-102.0055, 3836,   2753.1,   1.8054,  34.6780,2,  34.6781,2,    146.5,2,    146.5,2,   131.40,2,    35.85,2,    -0.01,2,     2.50,2, -999.000,9, -999.000,9, -999.000,1,-999.0000,1,  -999.00,9,   -999.0,1,-999.000,9,   -999.0,9,   -999.0,9,  -999.00,9,27547.2,-999.0000,-999.000,-999.000,  1.6054,-999.000
   318MWESTW_4,  P21E,    75,  1,      7, SI9307,2,19940419,2042,-16.7528,-102.0055, 3836,   2901.3,   1.8039,  34.6792,2,  34.6787,2,    144.5,2,    145.3,2,   133.68,2,    35.91,2,    -0.01,2,     2.50,2, -999.000,9, -999.000,9, -999.000,1,-999.0000,1,  -999.00,9,   -999.0,1,-999.000,9,   -999.0,9,   -999.0,9,  -999.00,9,29028.3,-999.0000,-999.000,-999.000,  1.5899,-999.000
   318MWESTW_4,  P21E,    75,  1,      6, SI9306,2,19940419,2042,-16.7528,-102.0055, 3836,   3052.2,   1.8025,  34.6804,2,  34.6789,2,    143.7,2,    144.1,2,   135.26,2,    36.14,2,    -0.01,2,     2.51,2, -999.000,9, -999.000,9, -999.000,1,-999.0000,1,  -999.00,9,   -999.0,1,-999.000,9,   -999.0,9,   -999.0,9,  -999.00,9,30536.7,-999.0000,-999.000,-999.000,  1.5739,-999.000
   318MWESTW_4,  P21E,    75,  1,      5, SI9305,2,19940419,2042,-16.7528,-102.0055, 3836,   3202.8,   1.8049,  34.6814,2,  34.6806,2,    143.0,2,    143.7,2,   136.13,2,    36.08,2,     0.00,2,     2.52,2, -999.000,9, -999.000,9, -999.000,1,-999.0000,1,  -999.00,9,   -999.0,1,-999.000,9,   -999.0,9,   -999.0,9,  -999.00,9,32041.2,-999.0000,-999.000,-999.000,  1.5614,-999.000
   318MWESTW_4,  P21E,    75,  1,      4, SI9304,2,19940419,2042,-16.7528,-102.0055, 3836,   3404.1,   1.8131,  34.6831,2,  34.6808,2,    144.4,2,    144.7,2,   135.47,2,    36.13,2,     0.00,2,     2.51,2, -999.000,9, -999.000,9, -999.000,1,-999.0000,1,  -999.00,9,   -999.0,1,-999.000,9,   -999.0,9,   -999.0,9,  -999.00,9,34053.1,-999.0000,-999.000,-999.000,  1.5490,-999.000
   318MWESTW_4,  P21E,    75,  1,      3, SI9303,2,19940419,2042,-16.7528,-102.0055, 3836,   3595.9,   1.8184,  34.6857,2,  34.6855,2,    147.2,2,    147.3,2,   133.07,2,    35.84,2,     0.00,2,     2.50,2, -999.000,9, -999.000,9, -999.000,1,-999.0000,1,  -999.00,9,   -999.0,1,-999.000,9,   -999.0,9,   -999.0,9,  -999.00,9,35970.6,-999.0000,-999.000,-999.000,  1.5342,-999.000
   318MWESTW_4,  P21E,    75,  1,      2, SI9302,2,19940419,2042,-16.7528,-102.0055, 3836,   3855.8,   1.8373,  34.6871,2,  34.6855,2,    148.8,2,    148.3,2,   132.05,2,    35.78,2,     0.00,2,     2.50,2, -999.000,9, -999.000,9, -999.000,1,-999.0000,1,  -999.00,9,   -999.0,1,-999.000,9,   -999.0,9,   -999.0,9,  -999.00,9,38567.5,-999.0000,-999.000,-999.000,  1.5247,-999.000
   318MWESTW_4,  P21E,    75,  1,      1, SI9301,2,19940419,2042,-16.7528,-102.0055, 3836,   3906.3,   1.8429,  34.6872,2,  34.6851,2,    147.4,2,    148.6,2,   131.99,2,    35.85,2,    -0.01,2,     2.49,2, -999.000,9, -999.000,9, -999.000,1,-999.0000,1,  -999.00,9,   -999.0,1,-999.000,9,   -999.0,9,   -999.0,9,  -999.00,9,39072.3,-999.0000,-999.000,-999.000,  1.5247,-999.000