BOTTLE,20010911WHPSIOdm
EXPOCODE,SECT_ID,STNNBR,CASTNO,SAMPNO,BTLNBR,BTLNBR_FLAG_W,DATE,TIME,LATITUDE,LONGITUDE,DEPTH,CTDPRS,CTDTMP,CTDSAL,CTDSAL_FLAG_W,SALNTY,SALNTY_FLAG_W,CTDOXY,CTDOXY_FLAG_W,OXYGEN,OXYGEN_FLAG_W,SILCAT,SILCAT_FLAG_W,NITRAT,NITRAT_FLAG_W,NITRIT,NITRIT_FLAG_W,PHSPHT,PHSPHT_FLAG_W,CFC-11,CFC-11_FLAG_W,CFC-12,CFC-12_FLAG_W,TRITUM,TRITUM_FLAG_W,HELIUM,HELIUM_FLAG_W,DELHE3,DELHE3_FLAG_W,DELC14,DELC14_FLAG_W,NEON,NEON_FLAG_W,TCARBN,TCARBN_FLAG_W,ALKALI,ALKALI_FLAG_W,PH,PH_FLAG_W,CTDRAW,HELIER,DELHER,NEONER,THETA,TRITER
,,,,,,,,,,,,DBAR,ITS-90,PSS-78,,PSS-78,,UMOL/KG,,UMOL/KG,,UMOL/KG,,UMOL/KG,,UMOL/KG,,UMOL/KG,,PMOL/KG,,PMOL/KG,,TU,,UMOL/KG,,PERCNT,,/MILLE,,NMOL/KG,,UMOL/KG,,UMOL/KG,,,,,NMOL/KG,PERCNT,NMOL/KG,ITS-90,TU
   318MWESTW_5,  P21W,   262,  1,     36, SI9442,2,19940616,0105,-21.1167, 163.7167, 3580,      6.3,  24.4223,  35.2477,2,  35.2477,2,    202.4,2,    208.7,2,     0.31,2,     0.07,2,     0.01,2,     0.11,2, -999.000,9, -999.000,9, -999.000,1,-999.0000,1,  -999.00,9,   -999.0,1,-999.000,9,   -999.0,9,   -999.0,9,  -999.00,9,  122.8,-999.0000,-999.000,-999.000, 24.4210,-999.000
   318MWESTW_5,  P21W,   262,  1,     35, SI9435,2,19940616,0105,-21.1167, 163.7167, 3580,     22.1,  24.4395,  35.2475,2,  35.2465,2,    206.1,2,    209.3,2,     0.51,2,     0.04,2,     0.00,2,     0.12,2,    1.840,2,    0.989,2, -999.000,1,-999.0000,1,  -999.00,9,   -999.0,1,-999.000,9,   -999.0,9,   -999.0,9,  -999.00,9,  280.6,-999.0000,-999.000,-999.000, 24.4348,-999.000
   318MWESTW_5,  P21W,   262,  1,     34, SI9441,2,19940616,0105,-21.1167, 163.7167, 3580,     46.6,  24.4450,  35.2474,2,  35.2489,2,    211.0,2,    209.1,2,     0.41,2,     0.01,2,     0.00,2,     0.12,2,    1.860,2,    0.980,2, -999.000,1,-999.0000,1,  -999.00,9,   -999.0,1,-999.000,9,   -999.0,9,   -999.0,9,  -999.00,9,  524.4,-999.0000,-999.000,-999.000, 24.4351,-999.000
   318MWESTW_5,  P21W,   262,  1,     33, SI9433,2,19940616,0105,-21.1167, 163.7167, 3580,     97.8,  23.5197,  35.5993,2,  35.6054,2,    207.6,2,    215.6,2,     0.47,2,     0.00,2,     0.00,2,     0.08,2,    1.945,2,    1.031,2, -999.000,1,-999.0000,1,  -999.00,9,   -999.0,1,-999.000,9,   -999.0,9,   -999.0,9,  -999.00,9, 1034.0,-999.0000,-999.000,-999.000, 23.4994,-999.000
   318MWESTW_5,  P21W,   262,  1,     32, SI9432,2,19940616,0105,-21.1167, 163.7167, 3580,    149.0,  21.1236,  35.7326,2,  35.7325,2,    189.6,2,    191.7,2,     0.81,2,     2.55,2,     0.02,2,     0.29,2,    2.037,2,    1.062,2, -999.000,1,-999.0000,1,  -999.00,9,   -999.0,1,-999.000,9,   -999.0,9,   -999.0,9,  -999.00,9, 1543.6,-999.0000,-999.000,-999.000, 21.0949,-999.000
   318MWESTW_5,  P21W,   262,  1,     31, SI9431,2,19940616,0105,-21.1167, 163.7167, 3580,    199.2,  20.1686,  35.6895,2,  35.6869,2,    180.3,2,    181.2,2,     1.16,2,     4.35,2,     0.01,2,     0.42,2,    2.006,6,    1.036,6, -999.000,1,-999.0000,1,  -999.00,9,   -999.0,1,-999.000,9,   -999.0,9,   -999.0,9,  -999.00,9, 2043.2,-999.0000,-999.000,-999.000, 20.1314,-999.000
   318MWESTW_5,  P21W,   262,  1,     30, SI9440,2,19940616,0105,-21.1167, 163.7167, 3580,    250.0,  18.7094,  35.5844,2,  35.5819,2,    174.7,2,    174.5,2,     1.80,2,     6.21,2,     0.01,2,     0.54,2,    1.900,2,    0.984,2, -999.000,1,-999.0000,1,  -999.00,9,   -999.0,1,-999.000,9,   -999.0,9,   -999.0,9,  -999.00,9, 2549.1,-999.0000,-999.000,-999.000, 18.6651,-999.000
   318MWESTW_5,  P21W,   262,  1,     29, SI9429,2,19940616,0105,-21.1167, 163.7167, 3580,    300.9,  17.3704,  35.4821,2,  35.4831,2,    172.9,2,    172.5,2,     2.59,2,     7.78,2,     0.01,2,     0.65,2,    1.796,2,    0.902,2, -999.000,1,-999.0000,1,  -999.00,9,   -999.0,1,-999.000,9,   -999.0,9,   -999.0,9,  -999.00,9, 3056.0,-999.0000,-999.000,-999.000, 17.3197,-999.000
   318MWESTW_5,  P21W,   262,  1,     28, SI9428,2,19940616,0105,-21.1167, 163.7167, 3580,    350.9,  15.4938,  35.3298,2,  35.3323,2,    181.0,2,    177.7,2,     3.53,2,     9.86,2,     0.01,2,     0.79,2,    1.710,2,    0.853,2, -999.000,1,-999.0000,1,  -999.00,9,   -999.0,1,-999.000,9,   -999.0,9,   -999.0,9,  -999.00,9, 3553.0,-999.0000,-999.000,-999.000, 15.4391,-999.000
   318MWESTW_5,  P21W,   262,  1,     27, SI9424,2,19940616,0105,-21.1167, 163.7167, 3580,    401.3,  13.8242,  35.1555,2,  35.1526,2,    178.3,2,    176.4,2,     5.20,2,    12.80,2,     0.01,2,     0.99,2,    1.450,2,    0.715,2, -999.000,1,-999.0000,1,  -999.00,9,   -999.0,1,-999.000,9,   -999.0,9,   -999.0,9,  -999.00,9, 4055.0,-999.0000,-999.000,-999.000, 13.7662,-999.000
   318MWESTW_5,  P21W,   262,  1,     26, SI9414,2,19940616,0105,-21.1167, 163.7167, 3580,    492.1,  11.0478,  34.8740,2,  34.8666,2,    181.3,2,    182.3,2,     8.64,2,    17.53,2,     0.00,2,     1.28,2,    1.086,2,    0.535,2, -999.000,1,-999.0000,1,  -999.00,9,   -999.0,1,-999.000,9,   -999.0,9,   -999.0,9,  -999.00,9, 4958.5,-999.0000,-999.000,-999.000, 10.9862,-999.000
   318MWESTW_5,  P21W,   262,  1,     25, SI9425,2,19940616,0105,-21.1167, 163.7167, 3580,    597.9,   8.3815,  34.6090,2,  34.6081,2,    192.6,2,    192.2,2,    13.69,2,    22.30,2,     0.00,2,     1.57,2,    0.677,2,    0.342,2, -999.000,1,-999.0000,1,  -999.00,9,   -999.0,1,-999.000,9,   -999.0,9,   -999.0,9,  -999.00,9, 6010.1,-999.0000,-999.000,-999.000,  8.3181,-999.000
   318MWESTW_5,  P21W,   262,  1,     24, SI9434,2,19940616,0105,-21.1167, 163.7167, 3580,    696.4,   6.8341,  34.4907,2,  34.4875,2,    192.2,2,    191.1,2,    21.41,2,    25.93,2,     0.00,2,     1.81,2,    0.328,2,    0.175,2, -999.000,1,-999.0000,1,  -999.00,9,   -999.0,1,-999.000,9,   -999.0,9,   -999.0,9,  -999.00,9, 6989.5,-999.0000,-999.000,-999.000,  6.7679,-999.000
   318MWESTW_5,  P21W,   262,  1,     23, SI9423,2,19940616,0105,-21.1167, 163.7167, 3580,    799.5,   5.6354,  34.4503,2,  34.4493,2,    187.2,2,    185.3,2,    33.39,2,    28.84,2,     0.00,2,     2.00,2,    0.148,2,    0.081,2, -999.000,1,-999.0000,1,  -999.00,9,   -999.0,1,-999.000,9,   -999.0,9,   -999.0,9,  -999.00,9, 8015.1,-999.0000,-999.000,-999.000,  5.5661,-999.000
   318MWESTW_5,  P21W,   262,  1,     22, SI9418,2,19940616,0105,-21.1167, 163.7167, 3580,    902.2,   4.9341,  34.4651,2,  34.4642,2,    177.8,2,    175.5,2,    46.11,2,    30.79,2,     0.00,2,     2.13,2,    0.076,2,    0.043,2, -999.000,1,-999.0000,1,  -999.00,9,   -999.0,1,-999.000,9,   -999.0,9,   -999.0,9,  -999.00,9, 9036.5,-999.0000,-999.000,-999.000,  4.8601,-999.000
   318MWESTW_5,  P21W,   262,  1,     21, SI9421,2,19940616,0105,-21.1167, 163.7167, 3580,    995.1,   4.4849,  34.4792,2,  34.4787,2,    171.6,2,    170.7,2,    54.86,2,    31.79,2,     0.00,2,     2.21,2,    0.043,2,    0.023,2, -999.000,1,-999.0000,1,  -999.00,9,   -999.0,1,-999.000,9,   -999.0,9,   -999.0,9,  -999.00,9, 9959.7,-999.0000,-999.000,-999.000,  4.4060,-999.000
   318MWESTW_5,  P21W,   262,  1,     20, SI9420,2,19940616,0105,-21.1167, 163.7167, 3580,   1097.5,   4.1075,  34.5004,2,  34.4993,2,    167.1,2,    166.1,2,    63.60,2,    32.62,2,     0.00,2,     2.28,2,    0.026,2,    0.011,2, -999.000,1,-999.0000,1,  -999.00,9,   -999.0,1,-999.000,9,   -999.0,9,   -999.0,9,  -999.00,9,10978.3,-999.0000,-999.000,-999.000,  4.0228,-999.000
   318MWESTW_5,  P21W,   262,  1,     19, SI9419,2,19940616,0105,-21.1167, 163.7167, 3580,   1199.5,   3.7841,  34.5236,2,  34.5229,2,    162.9,2,    162.2,2,    72.05,2,    33.23,2,     0.00,2,     2.33,2,    0.015,2,    0.008,2, -999.000,1,-999.0000,1,  -999.00,9,   -999.0,1,-999.000,9,   -999.0,9,   -999.0,9,  -999.00,9,11991.9,-999.0000,-999.000,-999.000,  3.6935,-999.000
   318MWESTW_5,  P21W,   262,  1,     18, SI9439,2,19940616,0105,-21.1167, 163.7167, 3580,   1343.7,   3.4185,  34.5492,2,  34.5480,2,    157.4,2,    157.8,2,    81.53,2,    33.83,2,     0.00,2,     2.37,2,    0.007,2,    0.003,2, -999.000,1,-999.0000,1,  -999.00,9,   -999.0,1,-999.000,9,   -999.0,9,   -999.0,9,  -999.00,9,13425.6,-999.0000,-999.000,-999.000,  3.3193,-999.000
   318MWESTW_5,  P21W,   262,  1,     17, SI9417,2,19940616,0105,-21.1167, 163.7167, 3580,   1497.6,   3.0865,  34.5751,2,  34.5743,2,    153.0,2,    153.0,2,    91.01,2,    34.45,2,     0.00,2,     2.41,2, -999.000,9, -999.000,9, -999.000,1,-999.0000,1,  -999.00,9,   -999.0,1,-999.000,9,   -999.0,9,   -999.0,9,  -999.00,9,14955.9,-999.0000,-999.000,-999.000,  2.9779,-999.000
   318MWESTW_5,  P21W,   262,  1,     16, SI9416,2,19940616,0105,-21.1167, 163.7167, 3580,   1652.2,   2.8437,  34.5986,2,  34.5979,2,    150.8,2,    151.4,2,    97.25,2,    34.71,2,     0.00,2,     2.42,2,    0.001,2,    0.000,2, -999.000,1,-999.0000,1,  -999.00,9,   -999.0,1,-999.000,9,   -999.0,9,   -999.0,9,  -999.00,9,16492.7,-999.0000,-999.000,-999.000,  2.7249,-999.000
   318MWESTW_5,  P21W,   262,  1,     15, SI9415,2,19940616,0105,-21.1167, 163.7167, 3580,   1795.4,   2.6205,  34.6188,2,  34.6185,2,    150.9,2,    151.5,2,   102.31,2,    34.85,2,     0.00,2,     2.43,2, -999.000,9, -999.000,9, -999.000,1,-999.0000,1,  -999.00,9,   -999.0,1,-999.000,9,   -999.0,9,   -999.0,9,  -999.00,9,17916.3,-999.0000,-999.000,-999.000,  2.4924,-999.000
   318MWESTW_5,  P21W,   262,  1,     14, SI9436,2,19940616,0105,-21.1167, 163.7167, 3580,   1951.7,   2.4872,  34.6322,2,  34.6307,2,    151.2,2,    151.3,2,   105.17,2,    34.93,2,     0.00,2,     2.44,2,    0.001,2,   -0.001,2, -999.000,1,-999.0000,1,  -999.00,9,   -999.0,1,-999.000,9,   -999.0,9,   -999.0,9,  -999.00,9,19470.0,-999.0000,-999.000,-999.000,  2.3476,-999.000
   318MWESTW_5,  P21W,   262,  1,     13, SI9413,2,19940616,0105,-21.1167, 163.7167, 3580,   2094.0,   2.3363,  34.6463,2,  34.6455,2,    152.6,2,    152.3,2,   108.61,2,    34.94,2,     0.00,2,     2.44,2, -999.000,9, -999.000,9, -999.000,1,-999.0000,1,  -999.00,9,   -999.0,1,-999.000,9,   -999.0,9,   -999.0,9,  -999.00,9,20885.3,-999.0000,-999.000,-999.000,  2.1865,-999.000
   318MWESTW_5,  P21W,   262,  1,     12, SI9438,2,19940616,0105,-21.1167, 163.7167, 3580,   2250.2,   2.1906,  34.6594,2,  34.6584,2,    153.5,2,    153.8,2,   111.17,2,    34.94,2,     0.00,2,     2.44,2, -999.000,9, -999.000,9, -999.000,1,-999.0000,1,  -999.00,9,   -999.0,1,-999.000,9,   -999.0,9,   -999.0,9,  -999.00,9,22437.6,-999.0000,-999.000,-999.000,  2.0294,-999.000
   318MWESTW_5,  P21W,   262,  1,     11, SI9411,2,19940616,0105,-21.1167, 163.7167, 3580,   2394.7,   2.1095,  34.6669,2,  34.6667,2,    155.5,2,    155.5,2,   112.70,2,    34.77,2,     0.01,2,     2.44,2, -999.000,9, -999.000,9, -999.000,1,-999.0000,1,  -999.00,9,   -999.0,1,-999.000,9,   -999.0,9,   -999.0,9,  -999.00,9,23874.4,-999.0000,-999.000,-999.000,  1.9367,-999.000
   318MWESTW_5,  P21W,   262,  1,     10, SI9412,2,19940616,0105,-21.1167, 163.7167, 3580,   2549.1,   2.0435,  34.6734,2,  34.6726,2,    156.0,2,    156.6,2,   113.79,2,    34.61,2,     0.00,2,     2.43,2,   -0.001,2,   -0.002,2, -999.000,1,-999.0000,1,  -999.00,9,   -999.0,1,-999.000,9,   -999.0,9,   -999.0,9,  -999.00,9,25409.7,-999.0000,-999.000,-999.000,  1.8578,-999.000
   318MWESTW_5,  P21W,   262,  1,      9, SI9410,2,19940616,0105,-21.1167, 163.7167, 3580,   2692.0,   2.0001,  34.6773,2,  34.6769,2,    157.4,2,    157.5,2,   114.73,2,    34.57,2,     0.00,2,     2.40,2, -999.000,9, -999.000,9, -999.000,1,-999.0000,1,  -999.00,9,   -999.0,1,-999.000,9,   -999.0,9,   -999.0,9,  -999.00,9,26830.5,-999.0000,-999.000,-999.000,  1.8019,-999.000
   318MWESTW_5,  P21W,   262,  1,      8, SI9422,2,19940616,0105,-21.1167, 163.7167, 3580,   2848.1,   1.9696,  34.6813,2,  34.6802,2,    157.9,2,    158.3,2,   115.08,2,    34.53,2,     0.00,2,     2.41,2, -999.000,9, -999.000,9, -999.000,1,-999.0000,1,  -999.00,9,   -999.0,1,-999.000,9,   -999.0,9,   -999.0,9,  -999.00,9,28381.5,-999.0000,-999.000,-999.000,  1.7572,-999.000
   318MWESTW_5,  P21W,   262,  1,      7, SI9407,2,19940616,0105,-21.1167, 163.7167, 3580,   2994.2,   1.9464,  34.6833,2,  34.6836,2,    159.9,2,    159.7,2,   115.58,2,    34.45,2,     0.00,2,     2.40,2, -999.000,9, -999.000,9, -999.000,1,-999.0000,1,  -999.00,9,   -999.0,1,-999.000,9,   -999.0,9,   -999.0,9,  -999.00,9,29834.4,-999.0000,-999.000,-999.000,  1.7203,-999.000
   318MWESTW_5,  P21W,   262,  1,      6, SI9427,2,19940616,0105,-21.1167, 163.7167, 3580,   3148.2,   1.9277,  34.6859,2,  34.6851,2,    160.7,2,    161.3,2,   115.64,2,    34.45,2,     0.00,2,     2.39,2,   -0.002,2,   -0.001,2, -999.000,1,-999.0000,1,  -999.00,9,   -999.0,1,-999.000,9,   -999.0,9,   -999.0,9,  -999.00,9,31365.0,-999.0000,-999.000,-999.000,  1.6868,-999.000
   318MWESTW_5,  P21W,   262,  1,      5, SI9405,2,19940616,0105,-21.1167, 163.7167, 3580,   3292.6,   1.9108,  34.6872,2,  34.6857,2,    161.6,2,    161.6,2,   116.58,2,    34.46,2,     0.00,2,     2.40,2, -999.000,9, -999.000,9, -999.000,1,-999.0000,1,  -999.00,9,   -999.0,1,-999.000,9,   -999.0,9,   -999.0,9,  -999.00,9,32801.3,-999.0000,-999.000,-999.000,  1.6557,-999.000
   318MWESTW_5,  P21W,   262,  1,      4, SI9404,2,19940616,0105,-21.1167, 163.7167, 3580,   3396.4,   1.9001,  34.6876,2,  34.6875,2,    162.9,2,    161.9,2,   117.07,2,    34.41,2,     0.01,2,     2.40,2, -999.000,9, -999.000,9, -999.000,1,-999.0000,1,  -999.00,9,   -999.0,1,-999.000,9,   -999.0,9,   -999.0,9,  -999.00,9,33832.9,-999.0000,-999.000,-999.000,  1.6346,-999.000
   318MWESTW_5,  P21W,   262,  1,      3, SI9403,2,19940616,0105,-21.1167, 163.7167, 3580,   3500.7,   1.8845,  34.6884,2,  34.6885,2,    163.0,2,    162.7,2,   117.87,2,    34.30,2,     0.00,2,     2.40,2, -999.000,9, -999.000,9, -999.000,1,-999.0000,1,  -999.00,9,   -999.0,1,-999.000,9,   -999.0,9,   -999.0,9,  -999.00,9,34869.6,-999.0000,-999.000,-999.000,  1.6086,-999.000
   318MWESTW_5,  P21W,   262,  1,      2, SI9437,2,19940616,0105,-21.1167, 163.7167, 3580,   3563.5,   1.8681,  34.6893,2,  34.6899,2,    161.8,2,    162.4,2,   118.66,2,    34.22,2,     0.00,2,     2.40,2, -999.000,9, -999.000,9, -999.000,1,-999.0000,1,  -999.00,9,   -999.0,1,-999.000,9,   -999.0,9,   -999.0,9,  -999.00,9,35493.7,-999.0000,-999.000,-999.000,  1.5860,-999.000
   318MWESTW_5,  P21W,   262,  1,      1, SI9401,2,19940616,0105,-21.1167, 163.7167, 3580,   3603.1,   1.8686,  34.6898,2,  34.6879,2,    162.5,2,    163.4,2,   118.75,2,    34.27,2,     0.00,2,     2.38,2,    0.001,2,    0.001,2, -999.000,1,-999.0000,1,  -999.00,9,   -999.0,1,-999.000,9,   -999.0,9,   -999.0,9,  -999.00,9,35887.9,-999.0000,-999.000,-999.000,  1.5823,-999.000