BOTTLE,20010911WHPSIOdm
EXPOCODE,SECT_ID,STNNBR,CASTNO,SAMPNO,BTLNBR,BTLNBR_FLAG_W,DATE,TIME,LATITUDE,LONGITUDE,DEPTH,CTDPRS,CTDTMP,CTDSAL,CTDSAL_FLAG_W,SALNTY,SALNTY_FLAG_W,CTDOXY,CTDOXY_FLAG_W,OXYGEN,OXYGEN_FLAG_W,SILCAT,SILCAT_FLAG_W,NITRAT,NITRAT_FLAG_W,NITRIT,NITRIT_FLAG_W,PHSPHT,PHSPHT_FLAG_W,CFC-11,CFC-11_FLAG_W,CFC-12,CFC-12_FLAG_W,TRITUM,TRITUM_FLAG_W,HELIUM,HELIUM_FLAG_W,DELHE3,DELHE3_FLAG_W,DELC14,DELC14_FLAG_W,NEON,NEON_FLAG_W,TCARBN,TCARBN_FLAG_W,ALKALI,ALKALI_FLAG_W,PH,PH_FLAG_W,CTDRAW,HELIER,DELHER,NEONER,THETA,TRITER
,,,,,,,,,,,,DBAR,ITS-90,PSS-78,,PSS-78,,UMOL/KG,,UMOL/KG,,UMOL/KG,,UMOL/KG,,UMOL/KG,,UMOL/KG,,PMOL/KG,,PMOL/KG,,TU,,UMOL/KG,,PERCNT,,/MILLE,,NMOL/KG,,UMOL/KG,,UMOL/KG,,,,,NMOL/KG,PERCNT,NMOL/KG,ITS-90,TU
   318MWESTW_5,  P21W,   208,  1,     25, SI9425,2,19940603,0440,-17.5000,-175.6722, 2147,      7.6,  26.2233,  35.3006,2,  35.3015,2,    203.7,2,    212.8,2,     0.77,2,     0.00,2,     0.00,2,     0.13,2,    1.725,2,    0.972,2, -999.000,1,-999.0000,1,  -999.00,9,   -999.0,1,-999.000,9,   -999.0,9,   -999.0,9,  -999.00,9,  135.2,-999.0000,-999.000,-999.000, 26.2216,-999.000
   318MWESTW_5,  P21W,   208,  1,     24, SI9434,2,19940603,0440,-17.5000,-175.6722, 2147,     22.0,  26.1997,  35.3325,2,  35.3336,2,    208.3,2,    217.1,2,     0.78,2,     0.00,2,     0.00,2,     0.12,2,    1.677,2,    0.967,2, -999.000,1,-999.0000,1,  -999.00,9,   -999.0,1,-999.000,9,   -999.0,9,   -999.0,9,  -999.00,9,  279.1,-999.0000,-999.000,-999.000, 26.1948,-999.000
   318MWESTW_5,  P21W,   208,  1,     23, SI9423,2,19940603,0440,-17.5000,-175.6722, 2147,     48.1,  25.9462,  35.4573,2,  35.4555,2,    206.2,2,    211.2,2,     0.64,2,     0.01,2,     0.00,2,     0.12,2,    1.698,2,    0.977,2, -999.000,1,-999.0000,1,  -999.00,9,   -999.0,1,-999.000,9,   -999.0,9,   -999.0,9,  -999.00,9,  538.9,-999.0000,-999.000,-999.000, 25.9355,-999.000
   318MWESTW_5,  P21W,   208,  1,     22, SI9418,2,19940603,0440,-17.5000,-175.6722, 2147,     97.9,  25.8720,  35.4844,2,  35.4829,2,    214.4,2,    211.6,2,     0.65,2,     0.01,2,     0.00,2,     0.12,2,    1.710,2,    0.978,2, -999.000,1,-999.0000,1,  -999.00,9,   -999.0,1,-999.000,9,   -999.0,9,   -999.0,9,  -999.00,9, 1035.6,-999.0000,-999.000,-999.000, 25.8502,-999.000
   318MWESTW_5,  P21W,   208,  1,     21, SI9421,2,19940603,0440,-17.5000,-175.6722, 2147,    147.2,  23.1285,  35.7877,2,  35.7831,2,    206.4,2,    195.7,2,     0.67,2,     0.52,2,     0.07,2,     0.21,2, -999.000,9, -999.000,9, -999.000,1,-999.0000,1,  -999.00,9,   -999.0,1,-999.000,9,   -999.0,9,   -999.0,9,  -999.00,9, 1526.0,-999.0000,-999.000,-999.000, 23.0982,-999.000
   318MWESTW_5,  P21W,   208,  1,     20, SI9420,2,19940603,0440,-17.5000,-175.6722, 2147,    197.5,  20.6971,  35.7495,2,  35.7487,2,    184.2,2,    181.0,2,     0.85,2,     2.84,2,     0.01,2,     0.36,2,    1.969,2,    1.055,2, -999.000,1,-999.0000,1,  -999.00,9,   -999.0,1,-999.000,9,   -999.0,9,   -999.0,9,  -999.00,9, 2027.0,-999.0000,-999.000,-999.000, 20.6595,-999.000
   318MWESTW_5,  P21W,   208,  1,     19, SI9419,2,19940603,0440,-17.5000,-175.6722, 2147,    249.6,  19.0072,  35.6338,2,  35.6396,2,    188.2,2,    185.1,2,     1.04,2,     3.72,2,     0.01,2,     0.43,2,    1.951,2,    1.064,2, -999.000,1,-999.0000,1,  -999.00,9,   -999.0,1,-999.000,9,   -999.0,9,   -999.0,9,  -999.00,9, 2545.6,-999.0000,-999.000,-999.000, 18.9624,-999.000
   318MWESTW_5,  P21W,   208,  1,     18, SI9439,2,19940603,0440,-17.5000,-175.6722, 2147,    295.8,  17.6508,  35.5662,2,  35.5652,2,    195.9,2,    192.8,2,     1.36,2,     4.54,2,     0.00,2,     0.47,2,    1.973,2,    1.070,2, -999.000,1,-999.0000,1,  -999.00,9,   -999.0,1,-999.000,9,   -999.0,9,   -999.0,9,  -999.00,9, 3005.2,-999.0000,-999.000,-999.000, 17.6004,-999.000
   318MWESTW_5,  P21W,   208,  1,     17, SI9417,2,19940603,0440,-17.5000,-175.6722, 2147,    350.4,  15.4756,  35.3194,2,  35.3159,2,    198.9,2,    190.1,2,     2.61,2,     7.96,2,     0.00,2,     0.69,2,    1.807,2,    0.949,2, -999.000,1,-999.0000,1,  -999.00,9,   -999.0,1,-999.000,9,   -999.0,9,   -999.0,9,  -999.00,9, 3548.3,-999.0000,-999.000,-999.000, 15.4210,-999.000
   318MWESTW_5,  P21W,   208,  1,     16, SI9416,2,19940603,0440,-17.5000,-175.6722, 2147,    400.4,  13.9859,  35.1564,2,  35.1504,2,    194.2,2,    189.4,2,     3.55,2,    10.57,2,     0.00,2,     0.85,2,    1.571,2,    0.824,2, -999.000,1,-999.0000,1,  -999.00,9,   -999.0,1,-999.000,9,   -999.0,9,   -999.0,9,  -999.00,9, 4045.7,-999.0000,-999.000,-999.000, 13.9276,-999.000
   318MWESTW_5,  P21W,   208,  1,     15, SI9415,2,19940603,0440,-17.5000,-175.6722, 2147,    451.2,  10.6775,  34.7455,2,  34.7406,2,    187.7,2,    186.1,2,     6.03,2,    16.94,2,     0.00,2,     1.28,2,    1.015,6,    0.515,6, -999.000,1,-999.0000,1,  -999.00,9,   -999.0,1,-999.000,9,   -999.0,9,   -999.0,9,  -999.00,9, 4551.1,-999.0000,-999.000,-999.000, 10.6224,-999.000
   318MWESTW_5,  P21W,   208,  1,     14, SI9436,2,19940603,0440,-17.5000,-175.6722, 2147,    489.9,   9.8361,  34.6878,2,  34.6869,2,    195.5,2,    195.2,2,     6.35,2,    18.13,2,     0.00,2,     1.33,2,    1.071,2,    0.548,2, -999.000,1,-999.0000,1,  -999.00,9,   -999.0,1,-999.000,9,   -999.0,9,   -999.0,9,  -999.00,9, 4936.5,-999.0000,-999.000,-999.000,  9.7792,-999.000
   318MWESTW_5,  P21W,   208,  1,     13, SI9413,2,19940603,0440,-17.5000,-175.6722, 2147,    593.9,   7.8423,  34.4791,2,  34.4769,2,    198.9,2,    198.3,2,    10.08,2,    22.92,2,     0.00,2,     1.64,2,    0.639,2,    0.333,2, -999.000,1,-999.0000,1,  -999.00,9,   -999.0,1,-999.000,9,   -999.0,9,   -999.0,9,  -999.00,9, 5970.4,-999.0000,-999.000,-999.000,  7.7818,-999.000
   318MWESTW_5,  P21W,   208,  1,     12, SI9438,2,19940603,0440,-17.5000,-175.6722, 2147,    696.2,   6.2822,  34.3760,2,  34.3741,2,    205.5,2,    209.0,2,    15.36,2,    26.30,2,     0.00,2,     1.83,2,    0.366,2,    0.192,2, -999.000,1,-999.0000,1,  -999.00,9,   -999.0,1,-999.000,9,   -999.0,9,   -999.0,9,  -999.00,9, 6987.8,-999.0000,-999.000,-999.000,  6.2191,-999.000
   318MWESTW_5,  P21W,   208,  1,     11, SI9411,2,19940603,0440,-17.5000,-175.6722, 2147,    797.9,   5.3444,  34.3799,2,  34.3788,2,    181.3,2,    170.0,4,    29.59,2,    30.62,2,     0.00,2,     2.12,2,    0.088,2,    0.047,2, -999.000,1,-999.0000,1,  -999.00,9,   -999.0,1,-999.000,9,   -999.0,9,   -999.0,9,  -999.00,9, 7998.7,-999.0000,-999.000,-999.000,  5.2772,-999.000
   318MWESTW_5,  P21W,   208,  1,     10, SI9412,2,19940603,0440,-17.5000,-175.6722, 2147,    894.9,   4.8687,  34.4098,2,  34.4082,2,    171.9,2,    170.0,2,    40.28,2,    32.38,2,     0.01,2,     2.26,2,    0.034,2,    0.024,2, -999.000,1,-999.0000,1,  -999.00,9,   -999.0,1,-999.000,9,   -999.0,9,   -999.0,9,  -999.00,9, 8963.3,-999.0000,-999.000,-999.000,  4.7959,-999.000
   318MWESTW_5,  P21W,   208,  1,      9, SI9410,2,19940603,0440,-17.5000,-175.6722, 2147,    995.4,   4.3131,  34.4568,2,  34.4557,2,    158.5,2,    161.7,2,    55.75,2,    33.90,2,     0.00,2,     2.38,2,    0.009,2,    0.006,2, -999.000,1,-999.0000,1,  -999.00,9,   -999.0,1,-999.000,9,   -999.0,9,   -999.0,9,  -999.00,9, 9962.1,-999.0000,-999.000,-999.000,  4.2355,-999.000
   318MWESTW_5,  P21W,   208,  1,      8, SI9422,2,19940603,0440,-17.5000,-175.6722, 2147,   1091.3,   3.8396,  34.4691,2,  34.4681,2,    160.4,2,    160.4,2,    62.72,2,    34.05,2,     0.00,2,     2.39,2,    0.009,2,    0.007,2, -999.000,1,-999.0000,1,  -999.00,9,   -999.0,1,-999.000,9,   -999.0,9,   -999.0,9,  -999.00,9,10915.6,-999.0000,-999.000,-999.000,  3.7577,-999.000
   318MWESTW_5,  P21W,   208,  1,      7, SI9407,2,19940603,0440,-17.5000,-175.6722, 2147,   1197.2,   3.4270,  34.5058,2,  34.5066,2,    157.6,2,    156.7,2,    75.25,2,    34.58,2,     0.00,2,     2.42,2, -999.000,9, -999.000,9, -999.000,1,-999.0000,1,  -999.00,9,   -999.0,1,-999.000,9,   -999.0,9,   -999.0,9,  -999.00,9,11968.4,-999.0000,-999.000,-999.000,  3.3399,-999.000
   318MWESTW_5,  P21W,   208,  1,      6, SI9427,2,19940603,0440,-17.5000,-175.6722, 2147,   1394.7,   2.9550,  34.5516,2,  34.5506,2,    154.8,2,    153.8,2,    90.41,2,    35.10,2,     0.00,2,     2.44,2,    0.000,2,    0.003,2, -999.000,1,-999.0000,1,  -999.00,9,   -999.0,1,-999.000,9,   -999.0,9,   -999.0,9,  -999.00,9,13931.9,-999.0000,-999.000,-999.000,  2.8564,-999.000
   318MWESTW_5,  P21W,   208,  1,      5, SI9405,2,19940603,0440,-17.5000,-175.6722, 2147,   1598.6,   2.5930,  34.5924,2,  34.5926,2,    150.7,2,    149.6,2,   104.34,2,    35.49,2,     0.00,2,     2.47,2, -999.000,9, -999.000,9, -999.000,1,-999.0000,1,  -999.00,9,   -999.0,1,-999.000,9,   -999.0,9,   -999.0,9,  -999.00,9,15959.1,-999.0000,-999.000,-999.000,  2.4818,-999.000
   318MWESTW_5,  P21W,   208,  1,      4, SI9404,2,19940603,0440,-17.5000,-175.6722, 2147,   1805.7,   2.4381,  34.6117,2,  34.6111,2,    148.4,2,    147.2,2,   110.84,2,    35.78,2,     0.00,2,     2.48,2, -999.000,9, -999.000,9, -999.000,1,-999.0000,1,  -999.00,9,   -999.0,1,-999.000,9,   -999.0,9,   -999.0,9,  -999.00,9,18017.5,-999.0000,-999.000,-999.000,  2.3117,-999.000
   318MWESTW_5,  P21W,   208,  1,      3, SI9403,2,19940603,0440,-17.5000,-175.6722, 2147,   2010.0,   2.3285,  34.6236,2,  34.6233,2,    148.2,2,    146.9,2,   115.16,2,    35.97,2,     0.00,2,     2.50,2,   -0.001,2,    0.006,2, -999.000,1,-999.0000,1,  -999.00,9,   -999.0,1,-999.000,9,   -999.0,9,   -999.0,9,  -999.00,9,20048.7,-999.0000,-999.000,-999.000,  2.1862,-999.000
   318MWESTW_5,  P21W,   208,  1,      2, SI9437,2,19940603,0440,-17.5000,-175.6722, 2147,   2111.0,   2.3238,  34.6257,2,  34.6246,2,    149.0,2,    146.4,2,   115.79,2,    35.98,2,     0.00,2,     2.50,2, -999.000,9, -999.000,9, -999.000,1,-999.0000,1,  -999.00,9,   -999.0,1,-999.000,9,   -999.0,9,   -999.0,9,  -999.00,9,21052.6,-999.0000,-999.000,-999.000,  2.1728,-999.000
   318MWESTW_5,  P21W,   208,  1,      1, SI9401,2,19940603,0440,-17.5000,-175.6722, 2147,   2150.6,   2.3208,  34.6266,2,  34.6266,2,    149.1,2,    146.6,2,   115.94,2,    35.80,2,     0.01,2,     2.51,2,    0.000,2,    0.005,2, -999.000,1,-999.0000,1,  -999.00,9,   -999.0,1,-999.000,9,   -999.0,9,   -999.0,9,  -999.00,9,21445.3,-999.0000,-999.000,-999.000,  2.1664,-999.000