BOTTLE,20010911WHPSIOdm
EXPOCODE,SECT_ID,STNNBR,CASTNO,SAMPNO,BTLNBR,BTLNBR_FLAG_W,DATE,TIME,LATITUDE,LONGITUDE,DEPTH,CTDPRS,CTDTMP,CTDSAL,CTDSAL_FLAG_W,SALNTY,SALNTY_FLAG_W,CTDOXY,CTDOXY_FLAG_W,OXYGEN,OXYGEN_FLAG_W,SILCAT,SILCAT_FLAG_W,NITRAT,NITRAT_FLAG_W,NITRIT,NITRIT_FLAG_W,PHSPHT,PHSPHT_FLAG_W,CFC-11,CFC-11_FLAG_W,CFC-12,CFC-12_FLAG_W,TRITUM,TRITUM_FLAG_W,HELIUM,HELIUM_FLAG_W,DELHE3,DELHE3_FLAG_W,DELC14,DELC14_FLAG_W,NEON,NEON_FLAG_W,TCARBN,TCARBN_FLAG_W,ALKALI,ALKALI_FLAG_W,PH,PH_FLAG_W,CTDRAW,HELIER,DELHER,NEONER,THETA,TRITER
,,,,,,,,,,,,DBAR,ITS-90,PSS-78,,PSS-78,,UMOL/KG,,UMOL/KG,,UMOL/KG,,UMOL/KG,,UMOL/KG,,UMOL/KG,,PMOL/KG,,PMOL/KG,,TU,,UMOL/KG,,PERCNT,,/MILLE,,NMOL/KG,,UMOL/KG,,UMOL/KG,,,,,NMOL/KG,PERCNT,NMOL/KG,ITS-90,TU
   318MWESTW_5,  P21W,   291,  1,     36, SI9442,2,19940622,0123,-25.5500, 154.4000, 4500,     12.0,  24.1050,  35.1743,2,  35.1742,2,    205.6,2,    206.1,2,     0.44,2,    -0.01,2,     0.01,2,     0.10,2,    1.852,2,    1.032,2, -999.000,1,-999.0000,1,  -999.00,9,   -999.0,1,-999.000,9,   -999.0,9,   -999.0,9,  -999.00,9,  178.0,-999.0000,-999.000,-999.000, 24.1025,-999.000
   318MWESTW_5,  P21W,   291,  1,     35, SI9435,2,19940622,0123,-25.5500, 154.4000, 4500,     26.9,  24.0858,  35.1754,2,  35.1766,2,    214.3,2,    208.2,2,     0.58,2,    -0.01,2,     0.01,2,     0.11,2,    1.855,2,    1.022,2, -999.000,1,-999.0000,1,  -999.00,9,   -999.0,1,-999.000,9,   -999.0,9,   -999.0,9,  -999.00,9,  327.4,-999.0000,-999.000,-999.000, 24.0801,-999.000
   318MWESTW_5,  P21W,   291,  1,     34, SI9441,3,19940622,0123,-25.5500, 154.4000, 4500,     52.1,  24.0888,  35.2636,2,  35.2589,2,    217.0,2,    207.6,2,     0.58,2,    -0.01,2,     0.01,2,     0.12,2, -999.000,9, -999.000,9, -999.000,1,-999.0000,1,  -999.00,9,   -999.0,1,-999.000,9,   -999.0,9,   -999.0,9,  -999.00,9,  578.5,-999.0000,-999.000,-999.000, 24.0778,-999.000
   318MWESTW_5,  P21W,   291,  1,     33, SI9433,2,19940622,0123,-25.5500, 154.4000, 4500,    102.9,  23.7670,  35.6115,2,  35.6021,2,    197.9,2,    191.3,2,     0.71,2,     0.91,2,     0.13,2,     0.23,2,    1.879,2,    1.013,2, -999.000,1,-999.0000,1,  -999.00,9,   -999.0,1,-999.000,9,   -999.0,9,   -999.0,9,  -999.00,9, 1083.8,-999.0000,-999.000,-999.000, 23.7454,-999.000
   318MWESTW_5,  P21W,   291,  1,     32, SI9432,2,19940622,0123,-25.5500, 154.4000, 4500,    152.3,  22.8604,  35.7420,2,  35.7432,2,    195.9,2,    194.6,2,     0.57,2,     1.30,2,     0.08,2,     0.21,2, -999.000,9, -999.000,9, -999.000,1,-999.0000,1,  -999.00,9,   -999.0,1,-999.000,9,   -999.0,9,   -999.0,9,  -999.00,9, 1576.1,-999.0000,-999.000,-999.000, 22.8293,-999.000
   318MWESTW_5,  P21W,   291,  1,     31, SI9431,2,19940622,0123,-25.5500, 154.4000, 4500,    202.5,  21.2915,  35.7282,2,  35.7274,2,    177.3,2,    175.5,2,     0.99,2,     4.11,2,     0.02,2,     0.41,2,    1.929,2,    1.038,2, -999.000,1,-999.0000,1,  -999.00,9,   -999.0,1,-999.000,9,   -999.0,9,   -999.0,9,  -999.00,9, 2075.9,-999.0000,-999.000,-999.000, 21.2522,-999.000
   318MWESTW_5,  P21W,   291,  1,     30, SI9440,2,19940622,0123,-25.5500, 154.4000, 4500,    252.1,  19.5692,  35.6057,2,  35.6255,2,    160.7,2,    165.7,2,     1.83,2,     6.46,2,     0.01,2,     0.57,2, -999.000,9, -999.000,9, -999.000,1,-999.0000,1,  -999.00,9,   -999.0,1,-999.000,9,   -999.0,9,   -999.0,9,  -999.00,9, 2569.2,-999.0000,-999.000,-999.000, 19.5231,-999.000
   318MWESTW_5,  P21W,   291,  1,     29, SI9429,2,19940622,0123,-25.5500, 154.4000, 4500,    301.5,  17.4001,  35.4521,2,  35.4513,2,    163.3,2,    159.7,2,     3.23,2,     9.30,2,     0.01,2,     0.76,2,    1.614,2,    0.835,2, -999.000,1,-999.0000,1,  -999.00,9,   -999.0,1,-999.000,9,   -999.0,9,   -999.0,9,  -999.00,9, 3061.3,-999.0000,-999.000,-999.000, 17.3492,-999.000
   318MWESTW_5,  P21W,   291,  1,     28, SI9428,2,19940622,0123,-25.5500, 154.4000, 4500,    352.2,  16.0183,  35.3764,2,  35.3764,2,    178.0,2,    175.6,2,     3.10,2,     9.30,2,     0.01,2,     0.74,2,    1.748,2,    0.902,2, -999.000,1,-999.0000,1,  -999.00,9,   -999.0,1,-999.000,9,   -999.0,9,   -999.0,9,  -999.00,9, 3566.4,-999.0000,-999.000,-999.000, 15.9621,-999.000
   318MWESTW_5,  P21W,   291,  1,     27, SI9424,2,19940622,0123,-25.5500, 154.4000, 4500,    405.3,  14.5070,  35.2304,2,  35.2266,2,    173.0,2,    173.7,2,     4.22,2,    11.84,2,     0.01,2,     0.90,2,    1.544,2,    0.789,2, -999.000,1,-999.0000,1,  -999.00,9,   -999.0,1,-999.000,9,   -999.0,9,   -999.0,9,  -999.00,9, 4094.5,-999.0000,-999.000,-999.000, 14.4465,-999.000
   318MWESTW_5,  P21W,   291,  1,     26, SI9414,2,19940622,0123,-25.5500, 154.4000, 4500,    495.0,  11.5874,  34.9421,2,  34.9382,2,    180.1,2,    181.1,2,     6.90,2,    16.39,2,     0.01,2,     1.18,2,    1.262,2,    0.635,2, -999.000,1,-999.0000,1,  -999.00,9,   -999.0,1,-999.000,9,   -999.0,9,   -999.0,9,  -999.00,9, 4986.7,-999.0000,-999.000,-999.000, 11.5235,-999.000
   318MWESTW_5,  P21W,   291,  1,     25, SI9425,2,19940622,0123,-25.5500, 154.4000, 4500,    598.7,   9.3137,  34.7081,2,  34.7040,2,    188.4,2,    190.1,2,     9.85,2,    20.43,2,     0.00,2,     1.43,2,    0.991,2,    0.494,2, -999.000,1,-999.0000,1,  -999.00,9,   -999.0,1,-999.000,9,   -999.0,9,   -999.0,9,  -999.00,9, 6017.7,-999.0000,-999.000,-999.000,  9.2460,-999.000
   318MWESTW_5,  P21W,   291,  1,     24, SI9434,2,19940622,0123,-25.5500, 154.4000, 4500,    701.5,   7.9171,  34.5703,2,  34.5679,2,    191.1,2,    192.0,2,    14.37,2,    23.43,2,     0.01,2,     1.62,2,    0.573,2,    0.295,2, -999.000,1,-999.0000,1,  -999.00,9,   -999.0,1,-999.000,9,   -999.0,9,   -999.0,9,  -999.00,9, 7040.0,-999.0000,-999.000,-999.000,  7.8447,-999.000
   318MWESTW_5,  P21W,   291,  1,     23, SI9423,2,19940622,0123,-25.5500, 154.4000, 4500,    790.6,   6.8320,  34.4924,2,  34.4911,2,    191.8,2,    191.2,2,    20.85,2,    25.94,2,     0.01,2,     1.79,2,    0.332,2,    0.171,2, -999.000,1,-999.0000,1,  -999.00,9,   -999.0,1,-999.000,9,   -999.0,9,   -999.0,9,  -999.00,9, 7926.2,-999.0000,-999.000,-999.000,  6.7564,-999.000
   318MWESTW_5,  P21W,   291,  1,     22, SI9418,2,19940622,0123,-25.5500, 154.4000, 4500,    898.2,   5.9671,  34.4576,2,  34.4565,2,    187.0,2,    187.4,2,    29.02,2,    27.94,2,     0.01,2,     1.96,2, -999.000,9, -999.000,9, -999.000,1,-999.0000,1,  -999.00,9,   -999.0,1,-999.000,9,   -999.0,9,   -999.0,9,  -999.00,9, 8996.6,-999.0000,-999.000,-999.000,  5.8864,-999.000
   318MWESTW_5,  P21W,   291,  1,     21, SI9421,2,19940622,0123,-25.5500, 154.4000, 4500,    995.7,   5.1890,  34.4589,2,  34.4583,2,    181.4,2,    178.8,2,    41.01,2,    29.90,2,     0.00,2,     2.07,2,    0.090,2,    0.044,2, -999.000,1,-999.0000,1,  -999.00,9,   -999.0,1,-999.000,9,   -999.0,9,   -999.0,9,  -999.00,9, 9965.6,-999.0000,-999.000,-999.000,  5.1047,-999.000
   318MWESTW_5,  P21W,   291,  1,     20, SI9420,2,19940622,0123,-25.5500, 154.4000, 4500,   1098.9,   4.5860,  34.4762,2,  34.4767,2,    174.0,2,    171.2,2,    52.85,2,    31.38,2,     0.01,2,     2.17,2, -999.000,9, -999.000,9, -999.000,1,-999.0000,1,  -999.00,9,   -999.0,1,-999.000,9,   -999.0,9,   -999.0,9,  -999.00,9,10991.7,-999.0000,-999.000,-999.000,  4.4972,-999.000
   318MWESTW_5,  P21W,   291,  1,     19, SI9419,2,19940622,0123,-25.5500, 154.4000, 4500,   1201.3,   4.1774,  34.4963,2,  34.4944,2,    167.8,2,    165.1,2,    62.29,2,    32.44,2,     0.01,2,     2.25,2,    0.023,2,    0.012,2, -999.000,1,-999.0000,1,  -999.00,9,   -999.0,1,-999.000,9,   -999.0,9,   -999.0,9,  -999.00,9,12010.1,-999.0000,-999.000,-999.000,  4.0831,-999.000
   318MWESTW_5,  P21W,   291,  1,     18, SI9439,2,19940622,0123,-25.5500, 154.4000, 4500,   1396.0,   3.4661,  34.5466,2,  34.5463,2,    155.1,2,    154.3,2,    81.59,2,    34.11,2,     0.00,2,     2.37,2,    0.005,2,    0.001,2, -999.000,1,-999.0000,1,  -999.00,9,   -999.0,1,-999.000,9,   -999.0,9,   -999.0,9,  -999.00,9,13945.6,-999.0000,-999.000,-999.000,  3.3619,-999.000
   318MWESTW_5,  P21W,   291,  1,     17, SI9417,2,19940622,0123,-25.5500, 154.4000, 4500,   1606.8,   2.8636,  34.5996,2,  34.6003,2,    150.9,2,    150.6,2,    94.70,2,    34.66,2,     0.00,2,     2.41,2,   -0.001,2,    0.000,2, -999.000,1,-999.0000,1,  -999.00,9,   -999.0,1,-999.000,9,   -999.0,9,   -999.0,9,  -999.00,9,16041.6,-999.0000,-999.000,-999.000,  2.7484,-999.000
   318MWESTW_5,  P21W,   291,  1,     16, SI9416,2,19940622,0123,-25.5500, 154.4000, 4500,   1811.6,   2.5390,  34.6348,2,  34.6346,2,    156.7,2,    155.5,2,    98.21,2,    34.44,2,     0.01,2,     2.39,2, -999.000,9, -999.000,9, -999.000,1,-999.0000,1,  -999.00,9,   -999.0,1,-999.000,9,   -999.0,9,   -999.0,9,  -999.00,9,18077.4,-999.0000,-999.000,-999.000,  2.4106,-999.000
   318MWESTW_5,  P21W,   291,  1,     15, SI9415,2,19940622,0123,-25.5500, 154.4000, 4500,   1998.1,   2.3436,  34.6637,2,  34.6635,2,    164.1,2,    164.2,2,    94.55,2,    33.59,2,     0.01,2,     2.33,2, -999.000,9, -999.000,9, -999.000,1,-999.0000,1,  -999.00,9,   -999.0,1,-999.000,9,   -999.0,9,   -999.0,9,  -999.00,9,19931.5,-999.0000,-999.000,-999.000,  2.2020,-999.000
   318MWESTW_5,  P21W,   291,  1,     14, SI9436,2,19940622,0123,-25.5500, 154.4000, 4500,   2197.9,   2.1384,  34.6935,2,  34.6940,2,    172.7,2,    173.0,2,    94.82,2,    32.70,2,     0.01,2,     2.27,2, -999.000,9, -999.000,9, -999.000,1,-999.0000,1,  -999.00,9,   -999.0,1,-999.000,9,   -999.0,9,   -999.0,9,  -999.00,9,21918.4,-999.0000,-999.000,-999.000,  1.9826,-999.000
   318MWESTW_5,  P21W,   291,  1,     13, SI9413,2,19940622,0123,-25.5500, 154.4000, 4500,   2399.3,   1.9703,  34.7137,2,  34.7131,2,    179.5,2,    180.2,2,    95.94,2,    32.09,2,     0.00,2,     2.22,2, -999.000,9, -999.000,9, -999.000,1,-999.0000,1,  -999.00,9,   -999.0,1,-999.000,9,   -999.0,9,   -999.0,9,  -999.00,9,23920.6,-999.0000,-999.000,-999.000,  1.7994,-999.000
   318MWESTW_5,  P21W,   291,  1,     12, SI9438,2,19940622,0123,-25.5500, 154.4000, 4500,   2594.7,   1.7703,  34.7206,2,  34.7209,2,    183.3,2,    184.4,2,   100.58,2,    31.95,2,     0.01,2,     2.20,2, -999.000,9, -999.000,9, -999.000,1,-999.0000,1,  -999.00,9,   -999.0,1,-999.000,9,   -999.0,9,   -999.0,9,  -999.00,9,25862.9,-999.0000,-999.000,-999.000,  1.5855,-999.000
   318MWESTW_5,  P21W,   291,  1,     11, SI9411,2,19940622,0123,-25.5500, 154.4000, 4500,   2802.4,   1.5694,  34.7240,2,  34.7239,2,    188.0,2,    189.8,2,   105.37,2,    31.88,2,     0.00,2,     2.19,2, -999.000,9, -999.000,9, -999.000,1,-999.0000,1,  -999.00,9,   -999.0,1,-999.000,9,   -999.0,9,   -999.0,9,  -999.00,9,27928.1,-999.0000,-999.000,-999.000,  1.3695,-999.000
   318MWESTW_5,  P21W,   291,  1,     10, SI9412,2,19940622,0123,-25.5500, 154.4000, 4500,   2994.1,   1.4266,  34.7228,2,  34.7225,2,    189.9,2,    192.2,2,   108.88,2,    32.00,2,     0.01,2,     2.21,2, -999.000,9, -999.000,9, -999.000,1,-999.0000,1,  -999.00,9,   -999.0,1,-999.000,9,   -999.0,9,   -999.0,9,  -999.00,9,29833.7,-999.0000,-999.000,-999.000,  1.2117,-999.000
   318MWESTW_5,  P21W,   291,  1,      9, SI9410,2,19940622,0123,-25.5500, 154.4000, 4500,   3204.2,   1.2953,  34.7198,2,  34.7195,2,    192.5,2,    193.7,2,   112.40,2,    32.14,2,     0.00,2,     2.21,2, -999.000,9, -999.000,9, -999.000,1,-999.0000,1,  -999.00,9,   -999.0,1,-999.000,9,   -999.0,9,   -999.0,9,  -999.00,9,31922.4,-999.0000,-999.000,-999.000,  1.0633,-999.000
   318MWESTW_5,  P21W,   291,  1,      7, SI9407,2,19940622,0123,-25.5500, 154.4000, 4500,   3399.4,   1.2097,  34.7184,2,  34.7184,2,    193.2,2,    195.3,2,   118.88,2,    32.44,2,     0.00,2,     2.23,2, -999.000,9, -999.000,9, -999.000,1,-999.0000,1,  -999.00,9,   -999.0,1,-999.000,9,   -999.0,9,   -999.0,9,  -999.00,9,33863.7,-999.0000,-999.000,-999.000,  0.9607,-999.000
   318MWESTW_5,  P21W,   291,  1,      6, SI9427,2,19940622,0123,-25.5500, 154.4000, 4500,   3585.7,   1.1732,  34.7163,2,  34.7158,2,    195.9,2,    196.3,2,   114.65,2,    32.30,2,     0.01,2,     2.24,2, -999.000,9, -999.000,9, -999.000,1,-999.0000,1,  -999.00,9,   -999.0,1,-999.000,9,   -999.0,9,   -999.0,9,  -999.00,9,35715.6,-999.0000,-999.000,-999.000,  0.9065,-999.000
   318MWESTW_5,  P21W,   291,  1,      5, SI9405,2,19940622,0123,-25.5500, 154.4000, 4500,   3792.1,   1.1552,  34.7158,2,  34.7154,2,    196.4,2,    195.3,2,   116.19,2,    32.26,2,     0.01,2,     2.24,2,    0.000,2,    0.000,2, -999.000,1,-999.0000,1,  -999.00,9,   -999.0,1,-999.000,9,   -999.0,9,   -999.0,9,  -999.00,9,37767.4,-999.0000,-999.000,-999.000,  0.8678,-999.000
   318MWESTW_5,  P21W,   291,  1,      4, SI9404,2,19940622,0123,-25.5500, 154.4000, 4500,   3993.8,   1.1539,  34.7152,2,  34.7152,2,    195.8,2,    196.3,2,   117.17,2,    32.23,2,     0.00,2,     2.24,2,    0.002,2,    0.000,2, -999.000,1,-999.0000,1,  -999.00,9,   -999.0,1,-999.000,9,   -999.0,9,   -999.0,9,  -999.00,9,39772.3,-999.0000,-999.000,-999.000,  0.8452,-999.000
   318MWESTW_5,  P21W,   291,  1,      3, SI9403,2,19940622,0123,-25.5500, 154.4000, 4500,   4238.7,   1.1570,  34.7145,2,  34.7146,2,    197.9,2,    196.7,2,   117.73,2,    32.23,2,     0.01,2,     2.24,2,    0.001,2,    0.000,2, -999.000,1,-999.0000,1,  -999.00,9,   -999.0,1,-999.000,9,   -999.0,9,   -999.0,9,  -999.00,9,42207.2,-999.0000,-999.000,-999.000,  0.8217,-999.000
   318MWESTW_5,  P21W,   291,  1,      8, SI9422,2,19940622,0123,-25.5500, 154.4000, 4500,   4525.3,   1.1617,  34.7139,2,  34.7138,2,    198.5,2,    197.0,2,   118.88,2,    32.44,2,     0.00,2,     2.23,2,    0.004,2,    0.002,2, -999.000,1,-999.0000,1,  -999.00,9,   -999.0,1,-999.000,9,   -999.0,9,   -999.0,9,  -999.00,9,45056.3,-999.0000,-999.000,-999.000,  0.7942,-999.000
   318MWESTW_5,  P21W,   291,  1,      2, SI9437,2,19940622,0123,-25.5500, 154.4000, 4500,   4525.3,   1.1619,  34.7138,2,  34.7125,2,    198.5,2,    197.1,2,   118.84,2,    32.32,2,     0.01,2,     2.24,2,    0.006,2,    0.000,2, -999.000,1,-999.0000,1,  -999.00,9,   -999.0,1,-999.000,9,   -999.0,9,   -999.0,9,  -999.00,9,45056.3,-999.0000,-999.000,-999.000,  0.7944,-999.000
   318MWESTW_5,  P21W,   291,  1,      1, SI9401,2,19940622,0123,-25.5500, 154.4000, 4500,   4563.4,   1.1607,  34.7129,2,  34.7097,2,    198.4,2,    197.9,2,   119.09,2,    32.45,2,     0.01,2,     2.23,2,    0.006,2,    0.003,2, -999.000,1,-999.0000,1,  -999.00,9,   -999.0,1,-999.000,9,   -999.0,9,   -999.0,9,  -999.00,9,45435.0,-999.0000,-999.000,-999.000,  0.7889,-999.000