BOTTLE,20010911WHPSIOdm
EXPOCODE,SECT_ID,STNNBR,CASTNO,SAMPNO,BTLNBR,BTLNBR_FLAG_W,DATE,TIME,LATITUDE,LONGITUDE,DEPTH,CTDPRS,CTDTMP,CTDSAL,CTDSAL_FLAG_W,SALNTY,SALNTY_FLAG_W,CTDOXY,CTDOXY_FLAG_W,OXYGEN,OXYGEN_FLAG_W,SILCAT,SILCAT_FLAG_W,NITRAT,NITRAT_FLAG_W,NITRIT,NITRIT_FLAG_W,PHSPHT,PHSPHT_FLAG_W,CFC-11,CFC-11_FLAG_W,CFC-12,CFC-12_FLAG_W,TRITUM,TRITUM_FLAG_W,HELIUM,HELIUM_FLAG_W,DELHE3,DELHE3_FLAG_W,DELC14,DELC14_FLAG_W,NEON,NEON_FLAG_W,TCARBN,TCARBN_FLAG_W,ALKALI,ALKALI_FLAG_W,PH,PH_FLAG_W,CTDRAW,HELIER,DELHER,NEONER,THETA,TRITER
,,,,,,,,,,,,DBAR,ITS-90,PSS-78,,PSS-78,,UMOL/KG,,UMOL/KG,,UMOL/KG,,UMOL/KG,,UMOL/KG,,UMOL/KG,,PMOL/KG,,PMOL/KG,,TU,,UMOL/KG,,PERCNT,,/MILLE,,NMOL/KG,,UMOL/KG,,UMOL/KG,,,,,NMOL/KG,PERCNT,NMOL/KG,ITS-90,TU
   318MWESTW_4,  P21E,    19,  1,     36, SI9436,2,19940402,0909,-16.1278, -75.5888, 5231,      8.1,  22.5801,  34.9727,2,  34.9817,2,    229.7,2,    235.3,2,     0.49,2,     0.06,2,     0.00,2,     0.35,2, -999.000,9, -999.000,9, -999.000,1,-999.0000,1,  -999.00,9,   -999.0,1,-999.000,9,   2023.7,2,   2327.0,2,     8.03,2,  121.3,-999.0000,-999.000,-999.000, 22.5785,-999.000
   318MWESTW_4,  P21E,    19,  1,     35, SI9435,2,19940402,0909,-16.1278, -75.5888, 5231,     23.8,  16.3331,  34.9372,2,  34.9341,2,    198.3,4,    131.5,2,     3.45,2,     2.23,2,     0.64,2,     1.03,2, -999.000,9, -999.000,9, -999.000,1,-999.0000,1,  -999.00,9,   -999.0,1,-999.000,9,   2181.9,2,   2326.0,2,     7.71,2,  278.5,-999.0000,-999.000,-999.000, 16.3293,-999.000
   318MWESTW_4,  P21E,    19,  1,     34, SI9434,2,19940402,0909,-16.1278, -75.5888, 5231,     49.5,  13.9090,  34.7962,2,  34.7895,2,     54.5,2,     37.2,2,    13.53,2,    21.30,2,     0.15,2,     2.31,2, -999.000,9, -999.000,9, -999.000,1,-999.0000,1,  -999.00,9,   -999.0,1,-999.000,9,   2233.9,2,   2298.0,2,     7.51,2,  535.4,-999.0000,-999.000,-999.000, 13.9019,-999.000
   318MWESTW_4,  P21E,    19,  1,     33, SI9433,2,19940402,0909,-16.1278, -75.5888, 5231,     98.7,  12.3885,  34.7731,2,  34.7298,2,     17.6,2,     28.8,2,    21.36,2,    19.55,2,     0.00,2,     2.49,2, -999.000,9, -999.000,9, -999.000,1,-999.0000,1,  -999.00,9,   -999.0,1,-999.000,9,   2246.9,2,   2302.0,2,     7.47,2, 1026.6,-999.0000,-999.000,-999.000, 12.3754,-999.000
   318MWESTW_4,  P21E,    19,  1,     32, SI9432,2,19940402,0909,-16.1278, -75.5888, 5231,    150.2,  11.5971,  34.7363,2,  34.7302,2,     14.2,2,     11.2,2,    24.14,2,    23.53,2,     0.00,2,     2.58,2,    0.418,2,    0.212,2, -999.000,1,-999.0000,1,  -999.00,9,   -999.0,1,-999.000,9,   2260.9,2,   2299.0,2,     7.43,2, 1541.2,-999.0000,-999.000,-999.000, 11.5780,-999.000
   318MWESTW_4,  P21E,    19,  1,     31, SI9431,2,19940402,0909,-16.1278, -75.5888, 5231,    200.7,  11.0437,  34.7639,2,  34.7419,2,      3.2,2,      4.4,2,    26.94,2,    27.24,2,     0.00,2,     2.68,2,    0.197,2,    0.102,2, -999.000,1,-999.0000,1,  -999.00,9,   -999.0,1,-999.000,9,   2271.0,2,   2300.0,2,     7.40,2, 2045.5,-999.0000,-999.000,-999.000, 11.0190,-999.000
   318MWESTW_4,  P21E,    19,  1,     30, SI9430,2,19940402,0909,-16.1278, -75.5888, 5231,    252.8,  10.3001,  34.7315,2,  34.7140,2,      1.0,2,      1.5,2,    29.21,2,    30.91,2,     0.05,2,     2.73,2,    0.090,2,    0.051,2, -999.000,1,-999.0000,1,  -999.00,9,   -999.0,1,-999.000,9,   2278.0,2,   2302.0,2,     7.38,2, 2566.3,-999.0000,-999.000,-999.000, 10.2702,-999.000
   318MWESTW_4,  P21E,    19,  1,     29, SI9429,2,19940402,0909,-16.1278, -75.5888, 5231,    297.8,   9.8473,  34.7031,2,  34.6985,2,      0.7,2,      1.0,2,    31.48,2,    33.42,2,     0.04,2,     2.78,2,    0.058,2,    0.030,2, -999.000,1,-999.0000,1,  -999.00,9,   -999.0,1,-999.000,9,   2280.0,2,   2302.0,2,     7.37,2, 3015.5,-999.0000,-999.000,-999.000,  9.8130,-999.000
   318MWESTW_4,  P21E,    19,  1,     28, SI9428,2,19940402,0909,-16.1278, -75.5888, 5231,    400.9,   8.4761,  34.6114,2,  34.6054,2,      6.4,2,      9.3,2,    34.28,2,    39.03,2,     0.00,2,     2.90,2,    0.030,2,    0.015,2, -999.000,1,-999.0000,1,  -999.00,9,   -999.0,1,-999.000,9,   2283.0,2,   2303.0,2,     7.37,2, 4045.2,-999.0000,-999.000,-999.000,  8.4338,-999.000
   318MWESTW_4,  P21E,    19,  1,     27, SI9427,2,19940402,0909,-16.1278, -75.5888, 5231,    497.4,   7.1276,  34.5233,2,  34.5235,2,     29.2,2,     33.4,2,    36.73,2,    41.12,2,     0.00,2,     2.91,2,    0.025,2,    0.016,2, -999.000,1,-999.0000,1,  -999.00,9,   -999.0,1,-999.000,9,   -999.0,9,   2301.0,2,  -999.00,9, 5008.5,-999.0000,-999.000,-999.000,  7.0799,-999.000
   318MWESTW_4,  P21E,    19,  1,     26, SI9426,2,19940402,0909,-16.1278, -75.5888, 5231,    599.3,   6.3054,  34.4913,2,  34.4930,2,     45.6,2,     45.6,2,    41.83,2,    41.88,2,    -0.01,2,     2.91,2,    0.002,2,    0.006,2, -999.000,1,-999.0000,1,  -999.00,9,   -999.0,1,-999.000,9,   -999.0,9,   2306.0,2,  -999.00,9, 6027.1,-999.0000,-999.000,-999.000,  6.2512,-999.000
   318MWESTW_4,  P21E,    19,  1,     25, SI9425,2,19940402,0909,-16.1278, -75.5888, 5231,    701.9,   5.7516,  34.5137,2,  34.5139,2,     30.4,2,     31.6,2,    54.94,2,    44.24,2,    -0.01,2,     3.10,2, -999.000,9, -999.000,9, -999.000,1,-999.0000,1,  -999.00,9,   -999.0,1,-999.000,9,   2300.0,2,   2319.0,2,     7.37,2, 7051.7,-999.0000,-999.000,-999.000,  5.6906,-999.000
   318MWESTW_4,  P21E,    19,  1,     24, SI9424,2,19940402,0909,-16.1278, -75.5888, 5231,    798.8,   5.0794,  34.5062,2,  34.5050,2,     44.2,2,     45.8,2,    63.02,2,    43.87,2,    -0.02,2,     3.11,2, -999.000,9, -999.000,9, -999.000,1,-999.0000,1,  -999.00,9,   -999.0,1,-999.000,9,   2304.0,2,   2328.0,2,     7.39,2, 8019.8,-999.0000,-999.000,-999.000,  5.0135,-999.000
   318MWESTW_4,  P21E,    19,  1,     23, SI9423,2,19940402,0909,-16.1278, -75.5888, 5231,    901.4,   4.6155,  34.5176,2,  34.5209,3,     48.1,2,     52.0,2,    74.06,2,    43.49,2,     0.01,2,     3.09,2, -999.000,9, -999.000,9, -999.000,1,-999.0000,1,  -999.00,9,   -999.0,1,-999.000,9,   2311.0,2,   2340.0,2,     7.40,2, 9044.5,-999.0000,-999.000,-999.000,  4.5437,-999.000
   318MWESTW_4,  P21E,    19,  1,     22, SI9422,2,19940402,0909,-16.1278, -75.5888, 5231,    998.6,   4.2475,  34.5297,2,  34.5317,2,     57.8,2,     59.9,2,    81.70,2,    42.92,2,     0.00,2,     3.04,2, -999.000,9, -999.000,9, -999.000,1,-999.0000,1,  -999.00,9,   -999.0,1,-999.000,9,   2316.0,2,   2350.0,2,     7.41,2,10015.6,-999.0000,-999.000,-999.000,  4.1700,-999.000
   318MWESTW_4,  P21E,    19,  1,     21, SI9421,2,19940402,0909,-16.1278, -75.5888, 5231,   1102.1,   3.9581,  34.5450,2,  34.5468,2,     65.4,2,     64.7,2,    89.51,2,    42.62,2,     0.00,2,     3.03,2, -999.000,9, -999.000,9, -999.000,1,-999.0000,1,  -999.00,9,   -999.0,1,-999.000,9,   2321.0,2,   2359.0,2,     7.42,2,11049.4,-999.0000,-999.000,-999.000,  3.8742,-999.000
   318MWESTW_4,  P21E,    19,  1,     20, SI9420,2,19940402,0909,-16.1278, -75.5888, 5231,   1203.6,   3.6766,  34.5590,2,  34.5606,2,     69.6,2,     70.1,2,    96.46,2,    42.21,2,     0.00,2,     3.00,2, -999.000,9, -999.000,9, -999.000,1,-999.0000,1,  -999.00,9,   -999.0,1,-999.000,9,   2326.0,2,   2367.0,2,     7.43,2,12063.1,-999.0000,-999.000,-999.000,  3.5866,-999.000
   318MWESTW_4,  P21E,    19,  1,     19, SI9419,2,19940402,0909,-16.1278, -75.5888, 5231,   1300.9,   3.4260,  34.5706,2,  34.5696,2,     77.1,2,     79.0,2,   102.02,2,    41.79,2,     0.01,2,     2.96,2, -999.000,9, -999.000,9, -999.000,1,-999.0000,1,  -999.00,9,   -999.0,1,-999.000,9,   2326.0,2,   2372.0,2,     7.45,2,13035.0,-999.0000,-999.000,-999.000,  3.3302,-999.000
   318MWESTW_4,  P21E,    19,  1,     18, SI9418,2,19940402,0909,-16.1278, -75.5888, 5231,   1449.7,   3.0947,  34.5892,2,  34.5902,2,     82.1,2,     82.8,2,   111.91,2,    41.28,2,     0.00,2,     2.92,2, -999.000,9, -999.000,9, -999.000,1,-999.0000,1,  -999.00,9,   -999.0,1,-999.000,9,   2334.0,2,   2384.0,2,     7.46,2,14520.8,-999.0000,-999.000,-999.000,  2.9900,-999.000
   318MWESTW_4,  P21E,    19,  1,     17, SI9417,2,19940402,0909,-16.1278, -75.5888, 5231,   1597.6,   2.8093,  34.6040,2,  34.6052,2,     91.1,2,     90.3,2,   118.85,2,    40.55,2,     0.00,2,     2.87,2, -999.000,9, -999.000,9, -999.000,1,-999.0000,1,  -999.00,9,   -999.0,1,-999.000,9,   2337.0,2,   2391.0,2,     7.47,2,15999.0,-999.0000,-999.000,-999.000,  2.6955,-999.000
   318MWESTW_4,  P21E,    19,  1,     16, SI9416,2,19940402,0909,-16.1278, -75.5888, 5231,   1747.6,   2.5851,  34.6184,2,  34.6164,2,    100.5,2,    101.4,2,   121.81,2,    39.67,2,    -0.01,2,     2.80,2, -999.000,9, -999.000,9, -999.000,1,-999.0000,1,  -999.00,9,   -999.0,1,-999.000,9,   2335.0,2,   2396.0,2,     7.49,2,17497.5,-999.0000,-999.000,-999.000,  2.4616,-999.000
   318MWESTW_4,  P21E,    19,  1,     15, SI9415,2,19940402,0909,-16.1278, -75.5888, 5231,   2000.2,   2.2775,  34.6400,2,  34.6396,2,    108.3,2,    110.0,2,   131.35,2,    38.77,2,     0.00,2,     2.74,2, -999.000,9, -999.000,9, -999.000,1,-999.0000,1,  -999.00,9,   -999.0,1,-999.000,9,   2338.0,2,   2406.0,2,     7.51,2,20020.4,-999.0000,-999.000,-999.000,  2.1368,-999.000
   318MWESTW_4,  P21E,    19,  1,     14, SI9414,2,19940402,0909,-16.1278, -75.5888, 5231,   2247.9,   2.0612,  34.6551,2,  34.6555,2,    119.7,2,    120.9,2,   134.30,2,    37.82,2,     0.00,2,     2.65,2, -999.000,9, -999.000,9, -999.000,1,-999.0000,1,  -999.00,9,   -999.0,1,-999.000,9,   2337.0,2,   2412.0,2,     7.53,2,22496.1,-999.0000,-999.000,-999.000,  1.9024,-999.000
   318MWESTW_4,  P21E,    19,  1,     13, SI9413,2,19940402,0909,-16.1278, -75.5888, 5231,   2500.2,   1.9168,  34.6676,2,  34.6661,2,    133.8,2,    133.2,2,   133.27,2,    36.87,2,     0.00,2,     2.57,2, -999.000,9, -999.000,9, -999.000,1,-999.0000,1,  -999.00,9,   -999.0,1,-999.000,9,   2329.0,2,   2412.0,2,     7.55,2,25016.8,-999.0000,-999.000,-999.000,  1.7380,-999.000
   318MWESTW_4,  P21E,    19,  1,     12, SI9412,2,19940402,0909,-16.1278, -75.5888, 5231,   2739.7,   1.8313,  34.6750,2,  34.6743,2,    137.7,2,    138.3,2,   134.85,2,    36.63,2,    -0.01,2,     2.54,2, -999.000,9, -999.000,9, -999.000,1,-999.0000,1,  -999.00,9,   -999.0,1,-999.000,9,   2329.0,2,   2414.0,2,     7.56,2,27409.9,-999.0000,-999.000,-999.000,  1.6321,-999.000
   318MWESTW_4,  P21E,    19,  1,     11, SI9411,2,19940402,0909,-16.1278, -75.5888, 5231,   2997.5,   1.7954,  34.6788,2,  34.6775,2,    137.9,2,    138.4,2,   138.67,2,    36.75,2,    -0.01,2,     2.54,2, -999.000,9, -999.000,9, -999.000,1,-999.0000,1,  -999.00,9,   -999.0,1,-999.000,9,   2334.0,2,   -999.0,9,     7.56,2,29985.4,-999.0000,-999.000,-999.000,  1.5723,-999.000
   318MWESTW_4,  P21E,    19,  1,     10, SI9410,2,19940402,0909,-16.1278, -75.5888, 5231,   3251.2,   1.7789,  34.6822,2,  34.6818,2,    141.1,2,    141.5,2,   137.64,2,    36.59,2,    -0.01,2,     2.52,2, -999.000,9, -999.000,9, -999.000,1,-999.0000,1,  -999.00,9,   -999.0,1,-999.000,9,   2331.0,2,   -999.0,9,     7.57,2,32521.6,-999.0000,-999.000,-999.000,  1.5312,-999.000
   318MWESTW_4,  P21E,    19,  1,      9, SI9409,3,19940402,0909,-16.1278, -75.5888, 5231,   3506.6,   1.7575,  34.6860,2,  34.6851,2,    151.3,2,    151.1,2,   131.25,2,    35.85,2,     0.00,2,     2.47,2, -999.000,9, -999.000,9, -999.000,1,-999.0000,1,  -999.00,9,   -999.0,1,-999.000,9,   2320.0,2,   2410.0,2,     7.58,2,35073.2,-999.0000,-999.000,-999.000,  1.4842,-999.000
   318MWESTW_4,  P21E,    19,  1,      8, SI9408,2,19940402,0909,-16.1278, -75.5888, 5231,   3753.8,   1.7283,  34.6898,2,  34.6903,2,    160.0,2,    159.5,2,   125.02,2,    35.22,2,     0.01,2,     2.41,2, -999.000,9, -999.000,9, -999.000,1,-999.0000,1,  -999.00,9,   -999.0,1,-999.000,9,   2311.0,2,   2406.0,2,     7.59,2,37543.9,-999.0000,-999.000,-999.000,  1.4297,-999.000
   318MWESTW_4,  P21E,    19,  1,      7, SI9407,2,19940402,0909,-16.1278, -75.5888, 5231,   3992.9,   1.7368,  34.6906,2,  34.6897,2,    159.2,2,    159.7,2,   125.72,2,    35.33,2,     0.01,2,     2.42,2, -999.000,9, -999.000,9, -999.000,1,-999.0000,1,  -999.00,9,   -999.0,1,-999.000,9,   2311.0,2,   2408.0,2,     7.59,2,39934.4,-999.0000,-999.000,-999.000,  1.4120,-999.000
   318MWESTW_4,  P21E,    19,  1,      6, SI9406,2,19940402,0909,-16.1278, -75.5888, 5231,   4247.8,   1.7418,  34.6912,2,  34.6912,2,    160.0,2,    159.9,2,   126.09,2,    34.97,2,     0.01,2,     2.41,2, -999.000,9, -999.000,9, -999.000,1,-999.0000,1,  -999.00,9,   -999.0,1,-999.000,9,   2312.0,2,   2408.0,2,     7.58,2,42481.8,-999.0000,-999.000,-999.000,  1.3883,-999.000
   318MWESTW_4,  P21E,    19,  1,      5, SI9405,2,19940402,0909,-16.1278, -75.5888, 5231,   4492.7,   1.7440,  34.6916,2,  34.6914,2,    161.5,2,    161.3,2,   126.11,2,    34.83,2,     0.00,2,     2.40,2, -999.000,9, -999.000,9, -999.000,1,-999.0000,1,  -999.00,9,   -999.0,1,-999.000,9,   2311.0,2,   2407.0,2,     7.59,2,44930.7,-999.0000,-999.000,-999.000,  1.3623,-999.000
   318MWESTW_4,  P21E,    19,  1,      4, SI9404,2,19940402,0909,-16.1278, -75.5888, 5231,   4743.1,   1.7455,  34.6930,2,  34.6930,2,    161.8,2,    161.7,2,   126.63,2,    34.80,2,     0.00,2,     2.41,2, -999.000,9, -999.000,9, -999.000,1,-999.0000,1,  -999.00,9,   -999.0,1,-999.000,9,   2310.0,2,   2407.0,2,     7.59,2,47433.9,-999.0000,-999.000,-999.000,  1.3341,-999.000
   318MWESTW_4,  P21E,    19,  1,      3, SI9403,2,19940402,0909,-16.1278, -75.5888, 5231,   4989.2,   1.7688,  34.6929,2,  34.6950,3,    162.1,2,    161.9,2,   126.48,2,    34.82,2,    -0.01,2,     2.41,2, -999.000,9, -999.000,9, -999.000,1,-999.0000,1,  -999.00,9,   -999.0,1,-999.000,9,   2309.0,2,   2410.0,2,     7.59,2,49893.9,-999.0000,-999.000,-999.000,  1.3268,-999.000
   318MWESTW_4,  P21E,    19,  1,      2, SI9402,2,19940402,0909,-16.1278, -75.5888, 5231,   5260.9,   1.7905,  34.6932,2,  34.6924,2,    160.7,2,    161.8,2,   127.18,2,    34.83,2,    -0.01,2,     2.41,2, -999.000,9, -999.000,9, -999.000,1,-999.0000,1,  -999.00,9,   -999.0,1,-999.000,9,   2310.0,2,   2405.0,2,     7.58,2,52610.8,-999.0000,-999.000,-999.000,  1.3139,-999.000
   318MWESTW_4,  P21E,    19,  1,      1, SI9401,2,19940402,0909,-16.1278, -75.5888, 5231,   5302.0,   1.7953,  34.6936,2,  34.6928,2,    160.3,2,    161.9,2,   127.20,2,    34.72,2,    -0.01,2,     2.43,2, -999.000,9, -999.000,9, -999.000,1,-999.0000,1,  -999.00,9,   -999.0,1,-999.000,9,   2310.0,2,   2405.0,2,     7.58,2,53021.4,-999.0000,-999.000,-999.000,  1.3133,-999.000