BOTTLE,20010911WHPSIOdm
EXPOCODE,SECT_ID,STNNBR,CASTNO,SAMPNO,BTLNBR,BTLNBR_FLAG_W,DATE,TIME,LATITUDE,LONGITUDE,DEPTH,CTDPRS,CTDTMP,CTDSAL,CTDSAL_FLAG_W,SALNTY,SALNTY_FLAG_W,CTDOXY,CTDOXY_FLAG_W,OXYGEN,OXYGEN_FLAG_W,SILCAT,SILCAT_FLAG_W,NITRAT,NITRAT_FLAG_W,NITRIT,NITRIT_FLAG_W,PHSPHT,PHSPHT_FLAG_W,CFC-11,CFC-11_FLAG_W,CFC-12,CFC-12_FLAG_W,TRITUM,TRITUM_FLAG_W,HELIUM,HELIUM_FLAG_W,DELHE3,DELHE3_FLAG_W,DELC14,DELC14_FLAG_W,NEON,NEON_FLAG_W,TCARBN,TCARBN_FLAG_W,ALKALI,ALKALI_FLAG_W,PH,PH_FLAG_W,CTDRAW,HELIER,DELHER,NEONER,THETA,TRITER
,,,,,,,,,,,,DBAR,ITS-90,PSS-78,,PSS-78,,UMOL/KG,,UMOL/KG,,UMOL/KG,,UMOL/KG,,UMOL/KG,,UMOL/KG,,PMOL/KG,,PMOL/KG,,TU,,UMOL/KG,,PERCNT,,/MILLE,,NMOL/KG,,UMOL/KG,,UMOL/KG,,,,,NMOL/KG,PERCNT,NMOL/KG,ITS-90,TU
   318MWESTW_4,  P21E,    64,  1,     36, SI9336,2,19940416,1556,-16.7417, -94.6667, 4042,      8.1,  23.6229,  36.0633,2,  36.0758,2,    215.6,2,    214.7,2,     0.33,2,     0.00,2,     0.00,2,     0.36,2,    1.953,2,    1.073,2, -999.000,1,-999.0000,1,  -999.00,9,   -999.0,1,-999.000,9,   2070.8,2,   2388.0,2,     8.05,2,  124.1,-999.0000,-999.000,-999.000, 23.6212,-999.000
   318MWESTW_4,  P21E,    64,  1,     35, SI9335,2,19940416,1556,-16.7417, -94.6667, 4042,     24.9,  23.3962,  36.0621,2,  36.0710,2,    218.0,2,    214.4,2,     0.19,2,     0.00,2,     0.00,2,     0.36,2,    1.960,2,    1.077,2, -999.000,1,-999.0000,1,  -999.00,9,   -999.0,1,-999.000,9,   2063.8,2,   2391.0,2,     8.05,2,  292.1,-999.0000,-999.000,-999.000, 23.3910,-999.000
   318MWESTW_4,  P21E,    64,  1,     34, SI9334,2,19940416,1556,-16.7417, -94.6667, 4042,     49.7,  23.1918,  36.0393,2,  36.0507,2,    217.2,2,    216.1,2,     0.38,2,     0.00,2,     0.00,2,     0.36,2,    2.006,2,    1.130,2, -999.000,1,-999.0000,1,  -999.00,9,   -999.0,1,-999.000,9,   2063.8,2,   2388.0,2,     8.04,2,  539.8,-999.0000,-999.000,-999.000, 23.1816,-999.000
   318MWESTW_4,  P21E,    64,  1,     33, SI9333,2,19940416,1556,-16.7417, -94.6667, 4042,     99.2,  20.2596,  35.7567,2,  35.7691,2,    227.0,2,    223.6,2,     0.40,2,    -0.02,2,     0.02,2,     0.41,2,    2.273,2,    1.225,2, -999.000,1,-999.0000,1,  -999.00,9,   -999.0,1,-999.000,9,   2076.8,2,   2372.0,2,     8.00,2, 1035.1,-999.0000,-999.000,-999.000, 20.2410,-999.000
   318MWESTW_4,  P21E,    64,  1,     32, SI9332,2,19940416,1556,-16.7417, -94.6667, 4042,    154.5,  18.9931,  35.4982,2,  35.5707,2,    209.2,2,    206.4,2,     0.77,2,     3.02,2,     0.04,2,     0.63,2,    2.318,6,    1.228,6, -999.000,1,-999.0000,1,  -999.00,9,   -999.0,1,-999.000,9,   2098.8,2,   2358.0,2,     7.96,2, 1587.1,-999.0000,-999.000,-999.000, 18.9655,-999.000
   318MWESTW_4,  P21E,    64,  1,     31, SI9331,2,19940416,1556,-16.7417, -94.6667, 4042,    201.9,  15.8850,  34.9478,3,  35.0301,2,    169.1,2,    173.7,2,     2.52,2,     8.84,2,     0.02,2,     0.98,2,    2.260,2,    1.152,2, -999.000,1,-999.0000,1,  -999.00,9,   -999.0,1,-999.000,9,   2128.8,2,   2315.0,2,     7.85,2, 2061.0,-999.0000,-999.000,-999.000, 15.8532,-999.000
   318MWESTW_4,  P21E,    64,  1,     30, SI9330,2,19940416,1556,-16.7417, -94.6667, 4042,    251.7,  12.7424,  34.7598,2,  34.7117,2,     27.7,2,     45.8,2,    15.88,2,    19.68,2,     0.01,2,     2.28,2,    1.068,2,    0.529,2, -999.000,1,-999.0000,1,  -999.00,9,   -999.0,1,-999.000,9,   2220.9,2,   2299.0,2,     7.52,2, 2559.0,-999.0000,-999.000,-999.000, 12.7082,-999.000
   318MWESTW_4,  P21E,    64,  1,     29, SI9329,2,19940416,1556,-16.7417, -94.6667, 4042,    300.4,  11.6945,  34.7517,2,  34.7351,2,      5.6,2,     12.7,2,    23.35,2,    23.25,2,     0.01,2,     2.64,2,    0.379,2,    0.188,2, -999.000,1,-999.0000,1,  -999.00,9,   -999.0,1,-999.000,9,   -999.0,9,   -999.0,9,  -999.00,9, 3045.5,-999.0000,-999.000,-999.000, 11.6559,-999.000
   318MWESTW_4,  P21E,    64,  1,     28, SI9328,2,19940416,1556,-16.7417, -94.6667, 4042,    400.4,   9.6485,  34.6150,2,  34.6443,2,     12.6,2,      9.6,2,    27.53,2,    33.86,2,     0.01,2,     2.77,2,    0.081,2,    0.038,2, -999.000,1,-999.0000,1,  -999.00,9,   -999.0,1,-999.000,9,   -999.0,9,   -999.0,9,  -999.00,9, 4043.6,-999.0000,-999.000,-999.000,  9.6028,-999.000
   318MWESTW_4,  P21E,    64,  1,     27, SI9327,2,19940416,1556,-16.7417, -94.6667, 4042,    498.5,   7.7904,  34.5392,2,  34.5494,2,     38.2,2,     35.4,2,    30.84,2,    38.54,2,     0.01,2,     2.78,2,    0.025,2,    0.010,2, -999.000,1,-999.0000,1,  -999.00,9,   -999.0,1,-999.000,9,   2273.0,2,   2299.0,2,     7.40,2, 5024.1,-999.0000,-999.000,-999.000,  7.7401,-999.000
   318MWESTW_4,  P21E,    64,  1,     26, SI9326,2,19940416,1556,-16.7417, -94.6667, 4042,    597.8,   6.6791,  34.5026,2,  34.5025,2,     54.8,2,     52.7,2,    36.23,2,    40.09,2,     0.00,2,     2.83,2,    0.009,2,    0.002,2, -999.000,1,-999.0000,1,  -999.00,9,   -999.0,1,-999.000,9,   2284.0,2,   2303.0,2,     7.42,2, 6015.4,-999.0000,-999.000,-999.000,  6.6234,-999.000
   318MWESTW_4,  P21E,    64,  1,     25, SI9325,2,19940416,1556,-16.7417, -94.6667, 4042,    699.0,   5.9470,  34.4904,2,  34.4921,2,     54.4,2,     53.1,2,    44.73,2,    41.68,2,     0.00,2,     2.94,2,    0.001,2,    0.001,2, -999.000,1,-999.0000,1,  -999.00,9,   -999.0,1,-999.000,9,   2291.0,2,   2312.0,2,     7.41,2, 7026.4,-999.0000,-999.000,-999.000,  5.8852,-999.000
   318MWESTW_4,  P21E,    64,  1,     24, SI9324,2,19940416,1556,-16.7417, -94.6667, 4042,    799.4,   5.3596,  34.5010,2,  34.5029,2,     47.4,2,     47.3,2,    56.36,2,    43.27,2,     0.00,2,     3.06,2,   -0.004,2,   -0.001,2, -999.000,1,-999.0000,1,  -999.00,9,   -999.0,1,-999.000,9,   2299.0,2,   2322.0,2,     7.39,2, 8029.3,-999.0000,-999.000,-999.000,  5.2920,-999.000
   318MWESTW_4,  P21E,    64,  1,     23, SI9323,2,19940416,1556,-16.7417, -94.6667, 4042,    899.1,   4.9868,  34.5110,2,  34.5089,2,     50.8,2,     50.0,2,    63.82,2,    43.39,2,     0.00,2,     3.08,2,   -0.003,2,   -0.002,2, -999.000,1,-999.0000,1,  -999.00,9,   -999.0,1,-999.000,9,   2305.0,2,   2331.0,2,     7.39,2, 9025.7,-999.0000,-999.000,-999.000,  4.9126,-999.000
   318MWESTW_4,  P21E,    64,  1,     22, SI9322,2,19940416,1556,-16.7417, -94.6667, 4042,    999.5,   4.4456,  34.5142,2,  34.5131,2,     71.1,2,     71.9,2,    71.12,2,    41.77,2,     0.00,2,     2.96,2, -999.000,9, -999.000,9, -999.000,1,-999.0000,1,  -999.00,9,   -999.0,1,-999.000,9,   2310.0,2,   2341.0,2,     7.44,2,10028.0,-999.0000,-999.000,-999.000,  4.3665,-999.000
   318MWESTW_4,  P21E,    64,  1,     21, SI9321,2,19940416,1556,-16.7417, -94.6667, 4042,   1100.9,   4.0590,  34.5333,2,  34.5343,2,     75.2,2,     73.5,2,    81.88,2,    41.66,2,     0.00,2,     2.98,2, -999.000,9, -999.000,9, -999.000,1,-999.0000,1,  -999.00,9,   -999.0,1,-999.000,9,   2313.0,2,   2352.0,2,     7.43,2,11040.7,-999.0000,-999.000,-999.000,  3.9743,-999.000
   318MWESTW_4,  P21E,    64,  1,     20, SI9320,2,19940416,1556,-16.7417, -94.6667, 4042,   1201.6,   3.6699,  34.5450,2,  34.5480,2,     86.5,2,     85.4,2,    89.17,2,    40.65,2,     0.00,2,     2.91,2, -999.000,9, -999.000,9, -999.000,1,-999.0000,1,  -999.00,9,   -999.0,1,-999.000,9,   2319.0,2,   2361.0,2,     7.46,2,12047.2,-999.0000,-999.000,-999.000,  3.5801,-999.000
   318MWESTW_4,  P21E,    64,  1,     19, SI9319,2,19940416,1556,-16.7417, -94.6667, 4042,   1302.1,   3.3641,  34.5619,2,  34.5637,2,     91.0,2,     91.4,2,    96.46,2,    40.20,2,     0.01,2,     2.88,2, -999.000,9, -999.000,9, -999.000,1,-999.0000,1,  -999.00,9,   -999.0,1,-999.000,9,   2315.0,3,   2369.0,2,     7.46,2,13050.7,-999.0000,-999.000,-999.000,  3.2689,-999.000
   318MWESTW_4,  P21E,    64,  1,     18, SI9318,2,19940416,1556,-16.7417, -94.6667, 4042,   1402.0,   3.1196,  34.5790,2,  34.5796,2,     94.0,2,     93.7,2,   103.74,2,    39.99,2,     0.01,2,     2.87,2, -999.000,9, -999.000,9, -999.000,1,-999.0000,1,  -999.00,9,   -999.0,1,-999.000,9,   2326.0,2,   2377.0,2,     7.47,2,14048.5,-999.0000,-999.000,-999.000,  3.0186,-999.000
   318MWESTW_4,  P21E,    64,  1,     17, SI9317,2,19940416,1556,-16.7417, -94.6667, 4042,   1505.4,   2.9300,  34.5927,2,  34.5916,2,     96.9,2,     97.3,2,   108.96,2,    39.72,2,     0.00,2,     2.85,2, -999.000,9, -999.000,9, -999.000,1,-999.0000,1,  -999.00,9,   -999.0,1,-999.000,9,   2325.0,2,   2383.0,2,     7.47,2,15081.3,-999.0000,-999.000,-999.000,  2.8225,-999.000
   318MWESTW_4,  P21E,    64,  1,     16, SI9316,2,19940416,1556,-16.7417, -94.6667, 4042,   1606.1,   2.7627,  34.6054,2,  34.5777,4,     98.5,2,     99.7,2,   114.69,2,    39.57,2,     0.00,2,     2.82,2, -999.000,9, -999.000,9, -999.000,1,-999.0000,1,  -999.00,9,   -999.0,1,-999.000,9,   2328.0,2,   2389.0,2,     7.48,2,16087.7,-999.0000,-999.000,-999.000,  2.6488,-999.000
   318MWESTW_4,  P21E,    64,  1,     15, SI9315,2,19940416,1556,-16.7417, -94.6667, 4042,   1751.3,   2.5484,  34.6193,2,  34.6199,2,    105.2,2,    106.7,2,   119.90,2,    38.90,2,     0.00,2,     2.79,2, -999.000,9, -999.000,9, -999.000,1,-999.0000,1,  -999.00,9,   -999.0,1,-999.000,9,   2330.0,2,   2396.0,2,     7.49,2,17538.1,-999.0000,-999.000,-999.000,  2.4250,-999.000
   318MWESTW_4,  P21E,    64,  1,     14, SI9314,2,19940416,1556,-16.7417, -94.6667, 4042,   1900.4,   2.3582,  34.6310,2,  34.6321,2,    112.0,2,    113.7,2,   123.90,2,    38.35,2,     0.00,2,     2.74,2, -999.000,9, -999.000,9, -999.000,1,-999.0000,1,  -999.00,9,   -999.0,1,-999.000,9,   2327.0,2,   2401.0,2,     7.51,2,19028.0,-999.0000,-999.000,-999.000,  2.2249,-999.000
   318MWESTW_4,  P21E,    64,  1,     13, SI9313,2,19940416,1556,-16.7417, -94.6667, 4042,   2051.5,   2.2081,  34.6431,2,  34.6423,2,    121.1,2,    123.0,2,   125.82,2,    37.74,2,     0.00,2,     2.68,2, -999.000,9, -999.000,9, -999.000,1,-999.0000,1,  -999.00,9,   -999.0,1,-999.000,9,   2321.0,2,   2405.0,2,     7.52,2,20537.8,-999.0000,-999.000,-999.000,  2.0641,-999.000
   318MWESTW_4,  P21E,    64,  1,     12, SI9312,2,19940416,1556,-16.7417, -94.6667, 4042,   2202.6,   2.0597,  34.6517,2,  34.6533,2,    129.4,2,    130.9,2,   126.53,2,    37.06,2,     0.00,2,     2.62,2, -999.000,9, -999.000,9, -999.000,1,-999.0000,1,  -999.00,9,   -999.0,1,-999.000,9,   2322.0,2,   2407.0,2,     7.54,2,22047.2,-999.0000,-999.000,-999.000,  1.9049,-999.000
   318MWESTW_4,  P21E,    64,  1,     11, SI9311,2,19940416,1556,-16.7417, -94.6667, 4042,   2335.8,   1.9822,  34.6592,2,  34.6588,2,    135.0,2,    135.5,2,   127.42,2,    36.74,2,     0.00,2,     2.59,2, -999.000,9, -999.000,9, -999.000,1,-999.0000,1,  -999.00,9,   -999.0,1,-999.000,9,   2322.0,2,   2407.0,2,     7.54,2,23378.2,-999.0000,-999.000,-999.000,  1.8170,-999.000
   318MWESTW_4,  P21E,    64,  1,     10, SI9310,2,19940416,1556,-16.7417, -94.6667, 4042,   2497.8,   1.8967,  34.6666,2,  34.6675,2,    140.8,2,    140.8,2,   128.30,2,    36.36,2,    -0.01,2,     2.55,2, -999.000,9, -999.000,9, -999.000,1,-999.0000,1,  -999.00,9,   -999.0,1,-999.000,9,   2323.0,2,   2411.0,2,     7.55,2,24996.6,-999.0000,-999.000,-999.000,  1.7185,-999.000
   318MWESTW_4,  P21E,    64,  1,      9, SI9309,2,19940416,1556,-16.7417, -94.6667, 4042,   2647.1,   1.8500,  34.6722,2,  34.6718,2,    143.1,2,    143.5,2,   129.35,2,    36.14,2,     0.00,2,     2.53,2, -999.000,9, -999.000,9, -999.000,1,-999.0000,1,  -999.00,9,   -999.0,1,-999.000,9,   2326.0,2,   2411.0,2,     7.56,2,26488.1,-999.0000,-999.000,-999.000,  1.6590,-999.000
   318MWESTW_4,  P21E,    64,  1,      8, SI9308,2,19940416,1556,-16.7417, -94.6667, 4042,   2847.7,   1.8137,  34.6770,2,  34.6763,2,    145.0,2,    144.8,2,   130.93,2,    35.98,2,     0.00,2,     2.52,2, -999.000,9, -999.000,9, -999.000,1,-999.0000,1,  -999.00,9,   -999.0,1,-999.000,9,   2327.0,2,   2415.0,2,     7.57,2,28493.3,-999.0000,-999.000,-999.000,  1.6046,-999.000
   318MWESTW_4,  P21E,    64,  1,      7, SI9307,2,19940416,1556,-16.7417, -94.6667, 4042,   3043.6,   1.7963,  34.6806,2,  34.6808,2,    144.6,2,    145.0,2,   132.51,2,    36.06,2,    -0.01,2,     2.53,2, -999.000,9, -999.000,9, -999.000,1,-999.0000,1,  -999.00,9,   -999.0,1,-999.000,9,   2327.0,2,   2420.0,2,     7.57,2,30450.5,-999.0000,-999.000,-999.000,  1.5687,-999.000
   318MWESTW_4,  P21E,    64,  1,      6, SI9306,2,19940416,1556,-16.7417, -94.6667, 4042,   3241.5,   1.7884,  34.6826,2,  34.6828,2,    145.0,2,    145.8,2,   133.21,2,    36.01,2,    -0.01,2,     2.53,2, -999.000,9, -999.000,9, -999.000,1,-999.0000,1,  -999.00,9,   -999.0,1,-999.000,9,   2328.0,2,   2419.0,2,     7.57,2,32428.4,-999.0000,-999.000,-999.000,  1.5414,-999.000
   318MWESTW_4,  P21E,    64,  1,      5, SI9305,2,19940416,1556,-16.7417, -94.6667, 4042,   3448.1,   1.7769,  34.6859,2,  34.6851,2,    146.8,2,    147.6,2,   132.54,2,    35.89,2,     0.00,2,     2.51,2, -999.000,9, -999.000,9, -999.000,1,-999.0000,1,  -999.00,9,   -999.0,1,-999.000,9,   2321.0,2,   2420.0,2,     7.58,2,34493.1,-999.0000,-999.000,-999.000,  1.5091,-999.000
   318MWESTW_4,  P21E,    64,  1,      4, SI9304,2,19940416,1556,-16.7417, -94.6667, 4042,   3637.7,   1.7628,  34.6881,2,  34.6871,2,    149.1,2,    149.6,2,   131.34,2,    35.68,2,     0.00,2,     2.50,2, -999.000,9, -999.000,9, -999.000,1,-999.0000,1,  -999.00,9,   -999.0,1,-999.000,9,   2321.0,2,   2419.0,2,     7.57,2,36387.8,-999.0000,-999.000,-999.000,  1.4756,-999.000
   318MWESTW_4,  P21E,    64,  1,      3, SI9303,2,19940416,1556,-16.7417, -94.6667, 4042,   3845.5,   1.7690,  34.6893,2,  34.6887,2,    150.4,2,    150.8,2,   130.67,2,    35.52,2,     0.00,2,     2.49,2, -999.000,9, -999.000,9, -999.000,1,-999.0000,1,  -999.00,9,   -999.0,1,-999.000,9,   2321.0,2,   2419.0,2,     7.58,2,38465.1,-999.0000,-999.000,-999.000,  1.4594,-999.000
   318MWESTW_4,  P21E,    64,  1,      2, SI9302,2,19940416,1556,-16.7417, -94.6667, 4042,   4066.6,   1.7889,  34.6900,2,  34.6887,2,    150.8,2,    151.4,2,   130.51,2,    35.53,2,     0.00,2,     2.49,2, -999.000,9, -999.000,9, -999.000,1,-999.0000,1,  -999.00,9,   -999.0,1,-999.000,9,   2321.0,2,   2418.0,2,     7.56,2,40675.2,-999.0000,-999.000,-999.000,  1.4544,-999.000
   318MWESTW_4,  P21E,    64,  1,      1, SI9301,2,19940416,1556,-16.7417, -94.6667, 4042,   4114.5,   1.7944,  34.6900,2,  34.6891,2,    150.9,2,    152.1,2,   130.38,2,    35.47,2,     0.00,2,     2.49,2, -999.000,9, -999.000,9, -999.000,1,-999.0000,1,  -999.00,9,   -999.0,1,-999.000,9,   2318.0,2,   2416.0,2,     7.58,2,41153.4,-999.0000,-999.000,-999.000,  1.4544,-999.000