BOTTLE,20010911WHPSIOdm
EXPOCODE,SECT_ID,STNNBR,CASTNO,SAMPNO,BTLNBR,BTLNBR_FLAG_W,DATE,TIME,LATITUDE,LONGITUDE,DEPTH,CTDPRS,CTDTMP,CTDSAL,CTDSAL_FLAG_W,SALNTY,SALNTY_FLAG_W,CTDOXY,CTDOXY_FLAG_W,OXYGEN,OXYGEN_FLAG_W,SILCAT,SILCAT_FLAG_W,NITRAT,NITRAT_FLAG_W,NITRIT,NITRIT_FLAG_W,PHSPHT,PHSPHT_FLAG_W,CFC-11,CFC-11_FLAG_W,CFC-12,CFC-12_FLAG_W,TRITUM,TRITUM_FLAG_W,HELIUM,HELIUM_FLAG_W,DELHE3,DELHE3_FLAG_W,DELC14,DELC14_FLAG_W,NEON,NEON_FLAG_W,TCARBN,TCARBN_FLAG_W,ALKALI,ALKALI_FLAG_W,PH,PH_FLAG_W,CTDRAW,HELIER,DELHER,NEONER,THETA,TRITER
,,,,,,,,,,,,DBAR,ITS-90,PSS-78,,PSS-78,,UMOL/KG,,UMOL/KG,,UMOL/KG,,UMOL/KG,,UMOL/KG,,UMOL/KG,,PMOL/KG,,PMOL/KG,,TU,,UMOL/KG,,PERCNT,,/MILLE,,NMOL/KG,,UMOL/KG,,UMOL/KG,,,,,NMOL/KG,PERCNT,NMOL/KG,ITS-90,TU
   318MWESTW_5,  P21W,   292,  1,     36, SI9442,2,19940622,0621,-25.6805, 154.0833, 2835,     11.2,  24.0520,  35.1756,2,  35.1756,2,    204.7,2,    210.7,2,     1.05,2,     0.06,2,     0.00,2,     0.13,2,    1.847,2,    1.031,2, -999.000,1,-999.0000,1,  -999.00,9,   -999.0,1,-999.000,9,   -999.0,9,   -999.0,9,  -999.00,9,  172.2,-999.0000,-999.000,-999.000, 24.0496,-999.000
   318MWESTW_5,  P21W,   292,  1,     35, SI9435,2,19940622,0621,-25.6805, 154.0833, 2835,     26.1,  24.0454,  35.1770,2,  35.1780,2,    209.5,2,    210.1,2,     1.05,2,     0.00,2,     0.00,2,     0.13,2,    1.845,2,    1.018,2, -999.000,1,-999.0000,1,  -999.00,9,   -999.0,1,-999.000,9,   -999.0,9,   -999.0,9,  -999.00,9,  320.5,-999.0000,-999.000,-999.000, 24.0399,-999.000
   318MWESTW_5,  P21W,   292,  1,     34, SI9441,3,19940622,0621,-25.6805, 154.0833, 2835,     52.0,  24.0271,  35.1852,2,  35.1863,2,    209.5,2,    208.0,2,     1.06,2,     0.00,2,     0.00,2,     0.13,2, -999.000,9, -999.000,9, -999.000,1,-999.0000,1,  -999.00,9,   -999.0,1,-999.000,9,   -999.0,9,   -999.0,9,  -999.00,9,  578.8,-999.0000,-999.000,-999.000, 24.0161,-999.000
   318MWESTW_5,  P21W,   292,  1,     33, SI9433,2,19940622,0621,-25.6805, 154.0833, 2835,    101.8,  22.9348,  35.5807,2,  35.5833,2,    203.6,2,    207.0,2,     1.89,2,     0.89,2,     0.28,2,     0.19,2,    1.929,2,    1.055,2, -999.000,1,-999.0000,1,  -999.00,9,   -999.0,1,-999.000,9,   -999.0,9,   -999.0,9,  -999.00,9, 1074.9,-999.0000,-999.000,-999.000, 22.9140,-999.000
   318MWESTW_5,  P21W,   292,  1,     32, SI9432,2,19940622,0621,-25.6805, 154.0833, 2835,    151.7,  20.7702,  35.7049,2,  35.7061,2,    166.1,2,    170.6,2,     1.75,2,     4.98,2,     0.01,2,     0.46,2,    1.901,2,    1.034,2, -999.000,1,-999.0000,1,  -999.00,9,   -999.0,1,-999.000,9,   -999.0,9,   -999.0,9,  -999.00,9, 1571.5,-999.0000,-999.000,-999.000, 20.7413,-999.000
   318MWESTW_5,  P21W,   292,  1,     31, SI9431,2,19940622,0621,-25.6805, 154.0833, 2835,    203.9,  18.3200,  35.5573,2,  35.5537,2,    163.0,2,    172.0,2,     2.59,2,     6.90,2,     0.00,2,     0.58,2, -999.000,9, -999.000,9, -999.000,1,-999.0000,1,  -999.00,9,   -999.0,1,-999.000,9,   -999.0,9,   -999.0,9,  -999.00,9, 2090.4,-999.0000,-999.000,-999.000, 18.2844,-999.000
   318MWESTW_5,  P21W,   292,  1,     30, SI9440,2,19940622,0621,-25.6805, 154.0833, 2835,    253.2,  16.9081,  35.4304,2,  35.4292,2,    163.0,2,    166.8,2,     3.58,2,     9.28,2,     0.00,2,     0.75,2,    1.681,2,    0.880,2, -999.000,1,-999.0000,1,  -999.00,9,   -999.0,1,-999.000,9,   -999.0,9,   -999.0,9,  -999.00,9, 2581.6,-999.0000,-999.000,-999.000, 16.8663,-999.000
   318MWESTW_5,  P21W,   292,  1,     29, SI9429,2,19940622,0621,-25.6805, 154.0833, 2835,    302.0,  15.2715,  35.2866,2,  35.2790,2,    168.2,2,    168.0,2,     4.69,2,    11.48,2,     0.01,2,     0.89,2,    1.534,2,    0.796,2, -999.000,1,-999.0000,1,  -999.00,9,   -999.0,1,-999.000,9,   -999.0,9,   -999.0,9,  -999.00,9, 3067.2,-999.0000,-999.000,-999.000, 15.2249,-999.000
   318MWESTW_5,  P21W,   292,  1,     28, SI9428,2,19940622,0621,-25.6805, 154.0833, 2835,    356.3,  13.4061,  35.1236,2,  35.1215,2,    174.6,2,    174.3,2,     5.80,2,    13.70,2,     0.00,2,     1.03,2,    1.440,2,    0.742,2, -999.000,1,-999.0000,1,  -999.00,9,   -999.0,1,-999.000,9,   -999.0,9,   -999.0,9,  -999.00,9, 3607.4,-999.0000,-999.000,-999.000, 13.3557,-999.000
   318MWESTW_5,  P21W,   292,  1,     27, SI9424,2,19940622,0621,-25.6805, 154.0833, 2835,    402.5,  12.0879,  35.0077,2,  35.0215,2,    180.6,2,    181.5,2,     6.51,2,    15.07,2,     0.00,2,     1.11,2,    1.415,2,    0.733,2, -999.000,1,-999.0000,1,  -999.00,9,   -999.0,1,-999.000,9,   -999.0,9,   -999.0,9,  -999.00,9, 4066.5,-999.0000,-999.000,-999.000, 12.0347,-999.000
   318MWESTW_5,  P21W,   292,  1,     26, SI9414,3,19940622,0621,-25.6805, 154.0833, 2835,    479.9,  10.5590,  34.8508,2,  34.8267,4,    186.9,2,    187.2,4,     8.46,2,    18.17,2,     0.00,2,     1.29,2, -999.000,9, -999.000,9, -999.000,1,-999.0000,1,  -999.00,9,   -999.0,1,-999.000,9,   -999.0,9,   -999.0,9,  -999.00,9, 4837.0,-999.0000,-999.000,-999.000, 10.5007,-999.000
   318MWESTW_5,  P21W,   292,  1,     25, SI9425,2,19940622,0621,-25.6805, 154.0833, 2835,    599.9,   8.5272,  34.6273,2,  34.6236,2,    189.4,2,    190.0,2,    12.79,2,    22.17,2,     0.00,2,     1.54,2,    0.735,6,    0.376,6, -999.000,1,-999.0000,1,  -999.00,9,   -999.0,1,-999.000,9,   -999.0,9,   -999.0,9,  -999.00,9, 6030.3,-999.0000,-999.000,-999.000,  8.4629,-999.000
   318MWESTW_5,  P21W,   292,  1,     24, SI9434,2,19940622,0621,-25.6805, 154.0833, 2835,    701.9,   7.0643,  34.5091,2,  34.5084,2,    191.2,2,    191.4,2,    19.63,2,    25.41,2,     0.00,2,     1.77,2,    0.387,2,    0.203,2, -999.000,1,-999.0000,1,  -999.00,9,   -999.0,1,-999.000,9,   -999.0,9,   -999.0,9,  -999.00,9, 7044.4,-999.0000,-999.000,-999.000,  6.9964,-999.000
   318MWESTW_5,  P21W,   292,  1,     23, SI9423,2,19940622,0621,-25.6805, 154.0833, 2835,    783.0,   6.2121,  34.4662,2,  34.4646,2,    190.1,2,    188.3,2,    27.30,2,    27.58,2,     0.00,2,     1.91,2,    0.217,2,    0.118,2, -999.000,1,-999.0000,1,  -999.00,9,   -999.0,1,-999.000,9,   -999.0,9,   -999.0,9,  -999.00,9, 7850.5,-999.0000,-999.000,-999.000,  6.1409,-999.000
   318MWESTW_5,  P21W,   292,  1,     22, SI9418,2,19940622,0621,-25.6805, 154.0833, 2835,    895.3,   5.5629,  34.4587,2,  34.4591,2,    183.7,2,    182.3,2,    35.54,2,    29.19,2,     0.01,2,     2.02,2, -999.000,9, -999.000,9, -999.000,1,-999.0000,1,  -999.00,9,   -999.0,1,-999.000,9,   -999.0,9,   -999.0,9,  -999.00,9, 8967.1,-999.0000,-999.000,-999.000,  5.4852,-999.000
   318MWESTW_5,  P21W,   292,  1,     21, SI9421,2,19940622,0621,-25.6805, 154.0833, 2835,    998.5,   5.0002,  34.4657,2,  34.4644,2,    176.5,2,    176.0,2,    44.89,2,    30.61,2,     0.00,2,     2.12,2,    0.076,2,    0.043,2, -999.000,1,-999.0000,1,  -999.00,9,   -999.0,1,-999.000,9,   -999.0,9,   -999.0,9,  -999.00,9, 9993.1,-999.0000,-999.000,-999.000,  4.9171,-999.000
   318MWESTW_5,  P21W,   292,  1,     20, SI9420,2,19940622,0621,-25.6805, 154.0833, 2835,   1101.6,   4.4714,  34.4820,2,  34.4824,2,    170.2,2,    169.1,2,    55.50,2,    31.84,2,     0.00,2,     2.22,2, -999.000,9, -999.000,9, -999.000,1,-999.0000,1,  -999.00,9,   -999.0,1,-999.000,9,   -999.0,9,   -999.0,9,  -999.00,9,11018.4,-999.0000,-999.000,-999.000,  4.3833,-999.000
   318MWESTW_5,  P21W,   292,  1,     19, SI9419,2,19940622,0621,-25.6805, 154.0833, 2835,   1197.1,   4.0311,  34.5063,2,  34.5056,2,    164.0,2,    163.3,2,    66.38,2,    32.83,2,     0.00,2,     2.29,2,    0.018,2,    0.012,2, -999.000,1,-999.0000,1,  -999.00,9,   -999.0,1,-999.000,9,   -999.0,9,   -999.0,9,  -999.00,9,11968.3,-999.0000,-999.000,-999.000,  3.9385,-999.000
   318MWESTW_5,  P21W,   292,  1,     18, SI9439,2,19940622,0621,-25.6805, 154.0833, 2835,   1300.5,   3.6812,  34.5303,2,  34.5303,2,    158.9,2,    158.1,2,    74.33,2,    33.51,2,     0.00,2,     2.35,2, -999.000,9, -999.000,9, -999.000,1,-999.0000,1,  -999.00,9,   -999.0,1,-999.000,9,   -999.0,9,   -999.0,9,  -999.00,9,12996.3,-999.0000,-999.000,-999.000,  3.5830,-999.000
   318MWESTW_5,  P21W,   292,  1,     17, SI9417,2,19940622,0621,-25.6805, 154.0833, 2835,   1396.9,   3.3848,  34.5546,2,  34.5539,2,    154.4,2,    153.4,2,    82.98,2,    34.23,2,     0.00,2,     2.39,2,    0.005,2,    0.003,2, -999.000,1,-999.0000,1,  -999.00,9,   -999.0,1,-999.000,9,   -999.0,9,   -999.0,9,  -999.00,9,13954.8,-999.0000,-999.000,-999.000,  3.2814,-999.000
   318MWESTW_5,  P21W,   292,  1,     16, SI9416,2,19940622,0621,-25.6805, 154.0833, 2835,   1502.1,   3.0337,  34.5828,2,  34.5838,2,    152.5,2,    151.4,2,    90.10,2,    34.62,2,     0.00,2,     2.41,2, -999.000,9, -999.000,9, -999.000,1,-999.0000,1,  -999.00,9,   -999.0,1,-999.000,9,   -999.0,9,   -999.0,9,  -999.00,9,15000.3,-999.0000,-999.000,-999.000,  2.9253,-999.000
   318MWESTW_5,  P21W,   292,  1,     15, SI9415,2,19940622,0621,-25.6805, 154.0833, 2835,   1600.0,   2.7785,  34.6081,2,  34.6081,2,    151.3,2,    150.4,2,    96.23,2,    34.87,2,     0.01,2,     2.43,2,    0.002,2,    0.002,2, -999.000,1,-999.0000,1,  -999.00,9,   -999.0,1,-999.000,9,   -999.0,9,   -999.0,9,  -999.00,9,15974.2,-999.0000,-999.000,-999.000,  2.6649,-999.000
   318MWESTW_5,  P21W,   292,  1,     14, SI9436,2,19940622,0621,-25.6805, 154.0833, 2835,   1696.3,   2.6086,  34.6261,2,  34.6266,2,    153.0,2,    153.5,2,    97.63,2,    34.66,2,     0.01,2,     2.42,2, -999.000,9, -999.000,9, -999.000,1,-999.0000,1,  -999.00,9,   -999.0,1,-999.000,9,   -999.0,9,   -999.0,9,  -999.00,9,16930.8,-999.0000,-999.000,-999.000,  2.4890,-999.000
   318MWESTW_5,  P21W,   292,  1,     13, SI9413,2,19940622,0621,-25.6805, 154.0833, 2835,   1799.6,   2.4666,  34.6446,2,  34.6449,2,    157.7,2,    158.0,2,    97.49,2,    34.16,2,     0.00,2,     2.38,2, -999.000,9, -999.000,9, -999.000,1,-999.0000,1,  -999.00,9,   -999.0,1,-999.000,9,   -999.0,9,   -999.0,9,  -999.00,9,17957.7,-999.0000,-999.000,-999.000,  2.3402,-999.000
   318MWESTW_5,  P21W,   292,  1,     12, SI9438,2,19940622,0621,-25.6805, 154.0833, 2835,   1902.4,   2.3526,  34.6602,2,  34.6602,2,    161.1,2,    161.7,2,    96.80,2,    33.74,2,     0.00,2,     2.36,2, -999.000,9, -999.000,9, -999.000,1,-999.0000,1,  -999.00,9,   -999.0,1,-999.000,9,   -999.0,9,   -999.0,9,  -999.00,9,18980.2,-999.0000,-999.000,-999.000,  2.2191,-999.000
   318MWESTW_5,  P21W,   292,  1,     11, SI9411,2,19940622,0621,-25.6805, 154.0833, 2835,   2003.6,   2.2654,  34.6740,2,  34.6734,2,    166.6,2,    166.9,2,    95.54,2,    33.32,2,     0.00,2,     2.31,2, -999.000,9, -999.000,9, -999.000,1,-999.0000,1,  -999.00,9,   -999.0,1,-999.000,9,   -999.0,9,   -999.0,9,  -999.00,9,19986.0,-999.0000,-999.000,-999.000,  2.1245,-999.000
   318MWESTW_5,  P21W,   292,  1,     10, SI9412,2,19940622,0621,-25.6805, 154.0833, 2835,   2108.6,   2.1449,  34.6908,2,  34.6891,2,    170.4,2,    171.8,2,    95.41,2,    32.90,2,     0.00,2,     2.28,2, -999.000,9, -999.000,9, -999.000,1,-999.0000,1,  -999.00,9,   -999.0,1,-999.000,9,   -999.0,9,   -999.0,9,  -999.00,9,21030.0,-999.0000,-999.000,-999.000,  1.9968,-999.000
   318MWESTW_5,  P21W,   292,  1,      9, SI9410,2,19940622,0621,-25.6805, 154.0833, 2835,   2211.7,   2.0807,  34.6993,2,  34.6985,2,    173.6,2,    174.9,2,    95.40,2,    32.65,2,     0.00,2,     2.26,2,    0.000,2,    0.001,2, -999.000,1,-999.0000,1,  -999.00,9,   -999.0,1,-999.000,9,   -999.0,9,   -999.0,9,  -999.00,9,22055.4,-999.0000,-999.000,-999.000,  1.9246,-999.000
   318MWESTW_5,  P21W,   292,  1,      8, SI9422,2,19940622,0621,-25.6805, 154.0833, 2835,   2296.6,   2.0274,  34.7066,2,  34.7064,2,    176.7,2,    177.6,2,    95.55,2,    32.48,2,     0.00,2,     2.25,2, -999.000,9, -999.000,9, -999.000,1,-999.0000,1,  -999.00,9,   -999.0,1,-999.000,9,   -999.0,9,   -999.0,9,  -999.00,9,22899.2,-999.0000,-999.000,-999.000,  1.8647,-999.000
   318MWESTW_5,  P21W,   292,  1,      7, SI9407,2,19940622,0621,-25.6805, 154.0833, 2835,   2407.9,   1.9478,  34.7133,2,  34.7138,2,    179.2,2,    180.3,2,    96.81,2,    32.27,2,     0.00,2,     2.24,2, -999.000,9, -999.000,9, -999.000,1,-999.0000,1,  -999.00,9,   -999.0,1,-999.000,9,   -999.0,9,   -999.0,9,  -999.00,9,24005.0,-999.0000,-999.000,-999.000,  1.7766,-999.000
   318MWESTW_5,  P21W,   292,  1,      6, SI9427,2,19940622,0621,-25.6805, 154.0833, 2835,   2501.7,   1.8858,  34.7182,2,  34.7178,2,    181.4,2,    182.1,2,    98.06,2,    32.15,2,     0.00,2,     2.23,2, -999.000,9, -999.000,9, -999.000,1,-999.0000,1,  -999.00,9,   -999.0,1,-999.000,9,   -999.0,9,   -999.0,9,  -999.00,9,24937.7,-999.0000,-999.000,-999.000,  1.7072,-999.000
   318MWESTW_5,  P21W,   292,  1,      5, SI9405,2,19940622,0621,-25.6805, 154.0833, 2835,   2598.6,   1.8017,  34.7219,2,  34.7215,2,    181.9,2,    185.0,2,   100.02,2,    31.90,2,     0.00,2,     2.23,2, -999.000,9, -999.000,9, -999.000,1,-999.0000,1,  -999.00,9,   -999.0,1,-999.000,9,   -999.0,9,   -999.0,9,  -999.00,9,25901.5,-999.0000,-999.000,-999.000,  1.6159,-999.000
   318MWESTW_5,  P21W,   292,  1,      4, SI9404,2,19940622,0621,-25.6805, 154.0833, 2835,   2696.5,   1.7339,  34.7231,2,  34.7225,2,    185.0,2,    185.3,2,   101.70,2,    31.86,2,     0.00,2,     2.21,2, -999.000,9, -999.000,9, -999.000,1,-999.0000,1,  -999.00,9,   -999.0,1,-999.000,9,   -999.0,9,   -999.0,9,  -999.00,9,26873.9,-999.0000,-999.000,-999.000,  1.5404,-999.000
   318MWESTW_5,  P21W,   292,  1,      3, SI9403,2,19940622,0621,-25.6805, 154.0833, 2835,   2799.4,   1.6546,  34.7245,2,  34.7248,2,    186.7,2,    187.3,2,   103.52,2,    31.91,2,     0.00,2,     2.21,2, -999.000,9, -999.000,9, -999.000,1,-999.0000,1,  -999.00,9,   -999.0,1,-999.000,9,   -999.0,9,   -999.0,9,  -999.00,9,27897.5,-999.0000,-999.000,-999.000,  1.4532,-999.000
   318MWESTW_5,  P21W,   292,  1,      2, SI9437,2,19940622,0621,-25.6805, 154.0833, 2835,   2850.5,   1.6041,  34.7249,2,  34.7231,2,    187.6,2,    188.0,2,   104.77,2,    32.04,2,     0.00,2,     2.21,2, -999.000,9, -999.000,9, -999.000,1,-999.0000,1,  -999.00,9,   -999.0,1,-999.000,9,   -999.0,9,   -999.0,9,  -999.00,9,28404.6,-999.0000,-999.000,-999.000,  1.3989,-999.000
   318MWESTW_5,  P21W,   292,  1,      1, SI9401,2,19940622,0621,-25.6805, 154.0833, 2835,   2890.5,   1.5980,  34.7247,2,  34.7276,4,    187.9,2,    189.1,2,   104.80,2,    32.08,2,     0.01,2,     2.21,2,    0.002,2,    0.002,2, -999.000,1,-999.0000,1,  -999.00,9,   -999.0,1,-999.000,9,   -999.0,9,   -999.0,9,  -999.00,9,28802.2,-999.0000,-999.000,-999.000,  1.3892,-999.000