BOTTLE,20010911WHPSIOdm
EXPOCODE,SECT_ID,STNNBR,CASTNO,SAMPNO,BTLNBR,BTLNBR_FLAG_W,DATE,TIME,LATITUDE,LONGITUDE,DEPTH,CTDPRS,CTDTMP,CTDSAL,CTDSAL_FLAG_W,SALNTY,SALNTY_FLAG_W,CTDOXY,CTDOXY_FLAG_W,OXYGEN,OXYGEN_FLAG_W,SILCAT,SILCAT_FLAG_W,NITRAT,NITRAT_FLAG_W,NITRIT,NITRIT_FLAG_W,PHSPHT,PHSPHT_FLAG_W,CFC-11,CFC-11_FLAG_W,CFC-12,CFC-12_FLAG_W,TRITUM,TRITUM_FLAG_W,HELIUM,HELIUM_FLAG_W,DELHE3,DELHE3_FLAG_W,DELC14,DELC14_FLAG_W,NEON,NEON_FLAG_W,TCARBN,TCARBN_FLAG_W,ALKALI,ALKALI_FLAG_W,PH,PH_FLAG_W,CTDRAW,HELIER,DELHER,NEONER,THETA,TRITER
,,,,,,,,,,,,DBAR,ITS-90,PSS-78,,PSS-78,,UMOL/KG,,UMOL/KG,,UMOL/KG,,UMOL/KG,,UMOL/KG,,UMOL/KG,,PMOL/KG,,PMOL/KG,,TU,,UMOL/KG,,PERCNT,,/MILLE,,NMOL/KG,,UMOL/KG,,UMOL/KG,,,,,NMOL/KG,PERCNT,NMOL/KG,ITS-90,TU
   318MWESTW_4,  P21E,    54,  1,     36, SI9336,3,19940413,1440,-16.7500, -88.0000, 4508,     10.2,  22.9197,  35.7194,2,  35.7254,2,    212.2,2,    219.2,2,     0.45,2,    -0.03,2,     0.02,2,     0.50,2,    2.045,2,    1.090,2, -999.000,1,-999.0000,1,  -999.00,9,   -999.0,1,-999.000,9,   -999.0,9,   -999.0,9,  -999.00,9,  139.7,-999.0000,-999.000,-999.000, 22.9176,-999.000
   318MWESTW_4,  P21E,    54,  1,     35, SI9335,2,19940413,1440,-16.7500, -88.0000, 4508,     25.0,  22.8956,  35.7193,2,  35.7240,2,    215.3,2,    219.4,2,     0.64,2,    -0.03,2,     0.02,2,     0.51,2,    2.049,2,    1.103,2, -999.000,1,-999.0000,1,  -999.00,9,   -999.0,1,-999.000,9,   -999.0,9,   -999.0,9,  -999.00,9,  288.0,-999.0000,-999.000,-999.000, 22.8905,-999.000
   318MWESTW_4,  P21E,    54,  1,     34, SI9334,2,19940413,1440,-16.7500, -88.0000, 4508,     51.7,  20.7997,  35.7169,2,  35.5622,2,    230.6,2,    229.6,2,     1.03,2,     1.44,2,     0.14,2,     0.59,2, -999.000,9, -999.000,9, -999.000,1,-999.0000,1,  -999.00,9,   -999.0,1,-999.000,9,   -999.0,9,   -999.0,9,  -999.00,9,  554.9,-999.0000,-999.000,-999.000, 20.7899,-999.000
   318MWESTW_4,  P21E,    54,  1,     33, SI9333,2,19940413,1440,-16.7500, -88.0000, 4508,    100.8,  18.0764,  35.3610,2,  35.3581,2,    223.4,2,    217.5,2,     1.41,2,     2.58,2,     0.98,2,     0.69,2,    2.522,2,    1.324,2, -999.000,1,-999.0000,1,  -999.00,9,   -999.0,1,-999.000,9,   -999.0,9,   -999.0,9,  -999.00,9, 1046.2,-999.0000,-999.000,-999.000, 18.0590,-999.000
   318MWESTW_4,  P21E,    54,  1,     32, SI9332,2,19940413,1440,-16.7500, -88.0000, 4508,    149.1,  16.7587,  35.1692,2,  35.1473,2,    197.7,2,    187.5,2,     3.63,2,    10.18,2,     0.05,2,     1.09,2,    2.456,6,    1.254,6, -999.000,1,-999.0000,1,  -999.00,9,   -999.0,1,-999.000,9,   -999.0,9,   -999.0,9,  -999.00,9, 1528.8,-999.0000,-999.000,-999.000, 16.7343,-999.000
   318MWESTW_4,  P21E,    54,  1,     31, SI9331,2,19940413,1440,-16.7500, -88.0000, 4508,    205.2,  13.2235,  34.8026,2,  34.8112,2,     32.8,2,      6.5,2,    19.55,2,    21.04,2,     0.10,2,     2.61,2,    0.925,2,    0.439,2, -999.000,1,-999.0000,1,  -999.00,9,   -999.0,1,-999.000,9,   -999.0,9,   -999.0,9,  -999.00,9, 2089.3,-999.0000,-999.000,-999.000, 13.1950,-999.000
   318MWESTW_4,  P21E,    54,  1,     30, SI9330,2,19940413,1440,-16.7500, -88.0000, 4508,    247.5,  12.1165,  34.7888,2,  34.7868,3,      6.2,2,      5.1,2,    25.11,2,    21.08,2,     0.00,2,     2.69,2,    0.385,2,    0.189,2, -999.000,1,-999.0000,1,  -999.00,9,   -999.0,1,-999.000,9,   -999.0,9,   -999.0,9,  -999.00,9, 2511.5,-999.0000,-999.000,-999.000, 12.0840,-999.000
   318MWESTW_4,  P21E,    54,  1,     29, SI9329,2,19940413,1440,-16.7500, -88.0000, 4508,    301.1,  11.1574,  34.7756,2,  34.7740,2,      1.9,2,      1.0,2,    27.71,2,    25.50,2,     2.26,2,     2.73,2,    0.119,2,    0.066,2, -999.000,1,-999.0000,1,  -999.00,9,   -999.0,1,-999.000,9,   -999.0,9,   -999.0,9,  -999.00,9, 3047.5,-999.0000,-999.000,-999.000, 11.1199,-999.000
   318MWESTW_4,  P21E,    54,  1,     28, SI9328,2,19940413,1440,-16.7500, -88.0000, 4508,    401.7,   9.3214,  34.6356,2,  34.6451,3,      7.5,2,      7.0,2,    29.75,2,    35.73,2,     0.00,2,     2.82,2,    0.049,2,    0.017,2, -999.000,1,-999.0000,1,  -999.00,9,   -999.0,1,-999.000,9,   -999.0,9,   -999.0,9,  -999.00,9, 4052.0,-999.0000,-999.000,-999.000,  9.2765,-999.000
   318MWESTW_4,  P21E,    54,  1,     27, SI9327,2,19940413,1440,-16.7500, -88.0000, 4508,    501.3,   7.8165,  34.5608,2,  34.5751,2,     23.8,2,     18.7,2,    35.13,2,    40.31,2,     0.00,2,     2.92,2,    0.017,2,    0.002,2, -999.000,1,-999.0000,1,  -999.00,9,   -999.0,1,-999.000,9,   -999.0,9,   -999.0,9,  -999.00,9, 5047.2,-999.0000,-999.000,-999.000,  7.7658,-999.000
   318MWESTW_4,  P21E,    54,  1,     26, SI9326,2,19940413,1440,-16.7500, -88.0000, 4508,    602.9,   6.7125,  34.5196,2,  34.5229,2,     34.2,2,     32.1,2,    41.07,2,    42.11,2,     0.00,2,     3.00,2,    0.006,2,   -0.002,2, -999.000,1,-999.0000,1,  -999.00,9,   -999.0,1,-999.000,9,   -999.0,9,   -999.0,9,  -999.00,9, 6061.3,-999.0000,-999.000,-999.000,  6.6561,-999.000
   318MWESTW_4,  P21E,    54,  1,     25, SI9325,2,19940413,1440,-16.7500, -88.0000, 4508,    699.1,   6.0341,  34.5072,2,  34.5084,2,     34.6,2,     33.9,2,    48.85,2,    43.53,2,     0.00,2,     3.08,2,   -0.001,2,   -0.003,2, -999.000,1,-999.0000,1,  -999.00,9,   -999.0,1,-999.000,9,   -999.0,9,   -999.0,9,  -999.00,9, 7023.0,-999.0000,-999.000,-999.000,  5.9719,-999.000
   318MWESTW_4,  P21E,    54,  1,     24, SI9324,2,19940413,1440,-16.7500, -88.0000, 4508,    797.5,   5.4652,  34.5026,2,  34.5091,2,     41.8,2,     37.0,2,    57.56,2,    44.32,2,     0.00,2,     3.12,2,   -0.001,2,   -0.004,2, -999.000,1,-999.0000,1,  -999.00,9,   -999.0,1,-999.000,9,   -999.0,9,   -999.0,9,  -999.00,9, 8005.7,-999.0000,-999.000,-999.000,  5.3971,-999.000
   318MWESTW_4,  P21E,    54,  1,     23, SI9323,2,19940413,1440,-16.7500, -88.0000, 4508,    900.7,   4.8527,  34.5088,2,  34.5072,2,     53.3,2,     52.7,2,    65.71,2,    43.64,2,     0.00,2,     3.08,2, -999.000,9, -999.000,9, -999.000,1,-999.0000,1,  -999.00,9,   -999.0,1,-999.000,9,   -999.0,9,   -999.0,9,  -999.00,9, 9036.7,-999.0000,-999.000,-999.000,  4.7793,-999.000
   318MWESTW_4,  P21E,    54,  1,     22, SI9322,2,19940413,1440,-16.7500, -88.0000, 4508,    999.2,   4.4231,  34.5236,2,  34.5241,2,     58.3,2,     59.6,2,    76.08,2,    43.29,2,     0.00,2,     3.07,2,   -0.002,2,   -0.004,2, -999.000,1,-999.0000,1,  -999.00,9,   -999.0,1,-999.000,9,   -999.0,9,   -999.0,9,  -999.00,9,10020.3,-999.0000,-999.000,-999.000,  4.3442,-999.000
   318MWESTW_4,  P21E,    54,  1,     21, SI9321,3,19940413,1440,-16.7500, -88.0000, 4508,   1101.3,   4.0550,  34.5395,2,  34.8351,4,     65.0,2,     97.7,4,    56.66,4,    31.05,4,     0.10,4,     2.37,4, -999.000,9, -999.000,9, -999.000,1,-999.0000,1,  -999.00,9,   -999.0,1,-999.000,9,   -999.0,9,   -999.0,9,  -999.00,9,11039.9,-999.0000,-999.000,-999.000,  3.9703,-999.000
   318MWESTW_4,  P21E,    54,  1,     20, SI9320,2,19940413,1440,-16.7500, -88.0000, 4508,   1197.4,   3.7435,  34.5525,2,  34.5543,2,     70.6,2,     71.6,2,    92.57,2,    42.39,2,     0.00,2,     3.02,2, -999.000,9, -999.000,9, -999.000,1,-999.0000,1,  -999.00,9,   -999.0,1,-999.000,9,   -999.0,9,   -999.0,9,  -999.00,9,12000.0,-999.0000,-999.000,-999.000,  3.6534,-999.000
   318MWESTW_4,  P21E,    54,  1,     19, SI9319,2,19940413,1440,-16.7500, -88.0000, 4508,   1300.5,   3.4707,  34.5668,2,  34.5667,2,     76.4,2,     76.8,2,    99.61,2,    41.99,2,     0.00,2,     2.99,2, -999.000,9, -999.000,9, -999.000,1,-999.0000,1,  -999.00,9,   -999.0,1,-999.000,9,   -999.0,9,   -999.0,9,  -999.00,9,13029.4,-999.0000,-999.000,-999.000,  3.3745,-999.000
   318MWESTW_4,  P21E,    54,  1,     18, SI9318,2,19940413,1440,-16.7500, -88.0000, 4508,   1400.0,   3.2406,  34.5778,2,  34.5761,2,     86.1,2,     85.5,2,   103.14,2,    41.13,2,     0.01,2,     2.93,2, -999.000,9, -999.000,9, -999.000,1,-999.0000,1,  -999.00,9,   -999.0,1,-999.000,9,   -999.0,9,   -999.0,9,  -999.00,9,14023.3,-999.0000,-999.000,-999.000,  3.1384,-999.000
   318MWESTW_4,  P21E,    54,  1,     17, SI9317,2,19940413,1440,-16.7500, -88.0000, 4508,   1552.0,   2.9256,  34.5968,2,  34.5957,2,     90.3,2,     90.5,2,   112.39,2,    40.50,2,     0.02,2,     2.90,2, -999.000,9, -999.000,9, -999.000,1,-999.0000,1,  -999.00,9,   -999.0,1,-999.000,9,   -999.0,9,   -999.0,9,  -999.00,9,15542.6,-999.0000,-999.000,-999.000,  2.8142,-999.000
   318MWESTW_4,  P21E,    54,  1,     16, SI9316,2,19940413,1440,-16.7500, -88.0000, 4508,   1701.6,   2.6530,  34.6131,2,  34.6124,2,     98.8,2,     99.2,2,   118.69,2,    39.68,2,     0.00,2,     2.83,2, -999.000,9, -999.000,9, -999.000,1,-999.0000,1,  -999.00,9,   -999.0,1,-999.000,9,   -999.0,9,   -999.0,9,  -999.00,9,17036.9,-999.0000,-999.000,-999.000,  2.5324,-999.000
   318MWESTW_4,  P21E,    54,  1,     15, SI9315,2,19940413,1440,-16.7500, -88.0000, 4508,   1849.2,   2.4353,  34.6265,2,  34.6472,4,    108.9,2,    109.5,2,   122.96,2,    38.70,2,     0.01,2,     2.76,2, -999.000,9, -999.000,9, -999.000,1,-999.0000,1,  -999.00,9,   -999.0,1,-999.000,9,   -999.0,9,   -999.0,9,  -999.00,9,18510.9,-999.0000,-999.000,-999.000,  2.3052,-999.000
   318MWESTW_4,  P21E,    54,  1,     14, SI9314,2,19940413,1440,-16.7500, -88.0000, 4508,   1994.8,   2.2569,  34.6368,2,  34.6378,2,    118.6,2,    120.2,2,   124.26,2,    37.86,2,     0.01,2,     2.69,2, -999.000,9, -999.000,9, -999.000,1,-999.0000,1,  -999.00,9,   -999.0,1,-999.000,9,   -999.0,9,   -999.0,9,  -999.00,9,19966.1,-999.0000,-999.000,-999.000,  2.1170,-999.000
   318MWESTW_4,  P21E,    54,  1,     13, SI9313,2,19940413,1440,-16.7500, -88.0000, 4508,   2150.8,   2.1137,  34.6482,2,  34.6478,2,    126.7,2,    127.2,2,   126.13,2,    37.29,2,     0.01,2,     2.62,2, -999.000,9, -999.000,9, -999.000,1,-999.0000,1,  -999.00,9,   -999.0,1,-999.000,9,   -999.0,9,   -999.0,9,  -999.00,9,21524.8,-999.0000,-999.000,-999.000,  1.9625,-999.000
   318MWESTW_4,  P21E,    54,  1,     12, SI9312,2,19940413,1440,-16.7500, -88.0000, 4508,   2305.0,   2.0072,  34.6567,2,  34.6576,2,    131.5,2,    132.6,2,   128.36,2,    36.89,2,     0.01,2,     2.60,2, -999.000,9, -999.000,9, -999.000,1,-999.0000,1,  -999.00,9,   -999.0,1,-999.000,9,   -999.0,9,   -999.0,9,  -999.00,9,23065.2,-999.0000,-999.000,-999.000,  1.8443,-999.000
   318MWESTW_4,  P21E,    54,  1,     11, SI9311,2,19940413,1440,-16.7500, -88.0000, 4508,   2503.9,   1.9007,  34.6657,2,  34.6663,2,    138.6,2,    140.0,2,   128.92,2,    36.44,2,     0.01,2,     2.55,2, -999.000,9, -999.000,9, -999.000,1,-999.0000,1,  -999.00,9,   -999.0,1,-999.000,9,   -999.0,9,   -999.0,9,  -999.00,9,25052.5,-999.0000,-999.000,-999.000,  1.7219,-999.000
   318MWESTW_4,  P21E,    54,  1,     10, SI9310,2,19940413,1440,-16.7500, -88.0000, 4508,   2702.7,   1.8425,  34.6725,2,  34.6726,2,    143.5,2,    143.3,2,   129.86,2,    36.21,2,     0.01,2,     2.52,2, -999.000,9, -999.000,9, -999.000,1,-999.0000,1,  -999.00,9,   -999.0,1,-999.000,9,   -999.0,9,   -999.0,9,  -999.00,9,27038.9,-999.0000,-999.000,-999.000,  1.6465,-999.000
   318MWESTW_4,  P21E,    54,  1,      9, SI9309,2,19940413,1440,-16.7500, -88.0000, 4508,   2897.7,   1.8077,  34.6772,2,  34.6773,2,    142.9,2,    142.6,2,   133.02,2,    36.44,2,     0.01,2,     2.52,2, -999.000,9, -999.000,9, -999.000,1,-999.0000,1,  -999.00,9,   -999.0,1,-999.000,9,   -999.0,9,   -999.0,9,  -999.00,9,28987.2,-999.0000,-999.000,-999.000,  1.5940,-999.000
   318MWESTW_4,  P21E,    54,  1,      8, SI9308,2,19940413,1440,-16.7500, -88.0000, 4508,   3094.9,   1.7914,  34.6801,2,  34.6814,2,    145.3,2,    144.8,2,   132.66,2,    36.20,2,     0.01,2,     2.51,2, -999.000,9, -999.000,9, -999.000,1,-999.0000,1,  -999.00,9,   -999.0,1,-999.000,9,   -999.0,9,   -999.0,9,  -999.00,9,30957.7,-999.0000,-999.000,-999.000,  1.5589,-999.000
   318MWESTW_4,  P21E,    54,  1,      7, SI9307,2,19940413,1440,-16.7500, -88.0000, 4508,   3298.1,   1.7781,  34.6831,2,  34.6824,2,    146.4,2,    146.3,2,   133.96,2,    36.20,2,     0.01,2,     2.50,2, -999.000,9, -999.000,9, -999.000,1,-999.0000,1,  -999.00,9,   -999.0,1,-999.000,9,   -999.0,9,   -999.0,9,  -999.00,9,32988.5,-999.0000,-999.000,-999.000,  1.5256,-999.000
   318MWESTW_4,  P21E,    54,  1,      6, SI9306,2,19940413,1440,-16.7500, -88.0000, 4508,   3549.1,   1.7661,  34.6856,2,  34.6846,2,    146.2,2,    147.6,2,   133.42,2,    36.14,2,     0.01,2,     2.50,2, -999.000,9, -999.000,9, -999.000,1,-999.0000,1,  -999.00,9,   -999.0,1,-999.000,9,   -999.0,9,   -999.0,9,  -999.00,9,35497.5,-999.0000,-999.000,-999.000,  1.4881,-999.000
   318MWESTW_4,  P21E,    54,  1,      5, SI9305,2,19940413,1440,-16.7500, -88.0000, 4508,   3799.8,   1.7588,  34.6879,2,  34.6879,2,    151.3,2,    151.4,2,   130.65,2,    35.70,2,     0.01,2,     2.46,2, -999.000,9, -999.000,9, -999.000,1,-999.0000,1,  -999.00,9,   -999.0,1,-999.000,9,   -999.0,9,   -999.0,9,  -999.00,9,38002.7,-999.0000,-999.000,-999.000,  1.4544,-999.000
   318MWESTW_4,  P21E,    54,  1,      4, SI9304,2,19940413,1440,-16.7500, -88.0000, 4508,   4051.1,   1.7703,  34.6892,2,  34.6887,2,    153.2,2,    152.7,2,   129.74,2,    35.47,2,     0.01,2,     2.47,2, -999.000,9, -999.000,9, -999.000,1,-999.0000,1,  -999.00,9,   -999.0,1,-999.000,9,   -999.0,9,   -999.0,9,  -999.00,9,40514.9,-999.0000,-999.000,-999.000,  1.4381,-999.000
   318MWESTW_4,  P21E,    54,  1,      3, SI9303,2,19940413,1440,-16.7500, -88.0000, 4508,   4300.3,   1.7959,  34.6894,2,  34.6885,2,    154.4,2,    152.8,2,   129.75,2,    35.26,2,     0.00,2,     2.46,2, -999.000,9, -999.000,9, -999.000,1,-999.0000,1,  -999.00,9,   -999.0,1,-999.000,9,   -999.0,9,   -999.0,9,  -999.00,9,43006.4,-999.0000,-999.000,-999.000,  1.4349,-999.000
   318MWESTW_4,  P21E,    54,  1,      2, SI9302,2,19940413,1440,-16.7500, -88.0000, 4508,   4537.7,   1.8232,  34.6898,2,  34.6883,2,    154.4,2,    152.9,2,   130.13,2,    35.20,2,     0.00,2,     2.46,2, -999.000,9, -999.000,9, -999.000,1,-999.0000,1,  -999.00,9,   -999.0,1,-999.000,9,   -999.0,9,   -999.0,9,  -999.00,9,45378.9,-999.0000,-999.000,-999.000,  1.4338,-999.000
   318MWESTW_4,  P21E,    54,  1,      1, SI9301,2,19940413,1440,-16.7500, -88.0000, 4508,   4590.1,   1.8277,  34.6899,2,  34.6887,2,    152.9,2,    152.7,2,   129.85,2,    35.32,2,     0.00,2,     2.47,2, -999.000,9, -999.000,9, -999.000,1,-999.0000,1,  -999.00,9,   -999.0,1,-999.000,9,   -999.0,9,   -999.0,9,  -999.00,9,45902.6,-999.0000,-999.000,-999.000,  1.4319,-999.000