BOTTLE,20010911WHPSIOdm
EXPOCODE,SECT_ID,STNNBR,CASTNO,SAMPNO,BTLNBR,BTLNBR_FLAG_W,DATE,TIME,LATITUDE,LONGITUDE,DEPTH,CTDPRS,CTDTMP,CTDSAL,CTDSAL_FLAG_W,SALNTY,SALNTY_FLAG_W,CTDOXY,CTDOXY_FLAG_W,OXYGEN,OXYGEN_FLAG_W,SILCAT,SILCAT_FLAG_W,NITRAT,NITRAT_FLAG_W,NITRIT,NITRIT_FLAG_W,PHSPHT,PHSPHT_FLAG_W,CFC-11,CFC-11_FLAG_W,CFC-12,CFC-12_FLAG_W,TRITUM,TRITUM_FLAG_W,HELIUM,HELIUM_FLAG_W,DELHE3,DELHE3_FLAG_W,DELC14,DELC14_FLAG_W,NEON,NEON_FLAG_W,TCARBN,TCARBN_FLAG_W,ALKALI,ALKALI_FLAG_W,PH,PH_FLAG_W,CTDRAW,HELIER,DELHER,NEONER,THETA,TRITER
,,,,,,,,,,,,DBAR,ITS-90,PSS-78,,PSS-78,,UMOL/KG,,UMOL/KG,,UMOL/KG,,UMOL/KG,,UMOL/KG,,UMOL/KG,,PMOL/KG,,PMOL/KG,,TU,,UMOL/KG,,PERCNT,,/MILLE,,NMOL/KG,,UMOL/KG,,UMOL/KG,,,,,NMOL/KG,PERCNT,NMOL/KG,ITS-90,TU
   318MWESTW_4,  P21E,    48,  1,     36, SI9336,2,19940411,1243,-16.7500, -86.3362, 4500,      8.1,  22.5813,  35.7997,2,  35.8001,2,    205.1,2,    219.1,2,     0.45,2,     0.06,2,     0.01,2,     0.46,2,    1.998,2,    2.756,4,    0.499,2,   1.7094,2,    -1.27,2,   -999.0,1,   6.829,2,   -999.0,9,   -999.0,9,  -999.00,9,  132.6,  0.0085,   0.080,   0.034, 22.5797,   0.006
   318MWESTW_4,  P21E,    48,  1,     35, SI9335,9,19940411,1243,-16.7500, -86.3362, 4500,     24.0,  22.5787,  35.7990,2,-999.0000,9,    216.0,2,   -999.0,9,  -999.00,1,  -999.00,1,  -999.00,1,  -999.00,1, -999.000,9, -999.000,9, -999.000,1,-999.0000,1,  -999.00,9,   -999.0,1,-999.000,9,   -999.0,9,   -999.0,9,  -999.00,9,  291.5,-999.0000,-999.000,-999.000, 22.5739,-999.000
   318MWESTW_4,  P21E,    48,  1,     34, SI9334,2,19940411,1243,-16.7500, -86.3362, 4500,     49.3,  22.5832,  35.7981,2,  35.7977,2,    212.2,2,    221.1,2,     0.45,2,     0.07,2,     0.01,2,     0.47,2,    2.042,2,    1.110,2,    0.500,2,   1.7026,2,    -1.05,2,   -999.0,1,   6.813,2,   -999.0,9,   -999.0,9,  -999.00,9,  543.6,  0.0085,   0.080,   0.034, 22.5732,   0.006
   318MWESTW_4,  P21E,    48,  1,     33, SI9333,2,19940411,1243,-16.7500, -86.3362, 4500,     99.8,  18.5766,  35.4713,2,  35.4720,2,    209.5,2,    212.2,2,     1.19,2,     3.83,2,     0.26,2,     0.70,2,    2.375,2,    1.235,2,    0.481,2,-999.0000,1,  -999.00,9,   -999.0,1,-999.000,9,   -999.0,9,   -999.0,9,  -999.00,9, 1047.1,-999.0000,-999.000,-999.000, 18.5591,   0.006
   318MWESTW_4,  P21E,    48,  1,     32, SI9332,2,19940411,1243,-16.7500, -86.3362, 4500,    149.3,  15.9354,  35.0088,2,  35.0150,2,    176.8,2,    185.4,2,     2.31,2,     8.19,2,     0.03,2,     0.92,2,    2.368,6,    1.204,6,    0.445,2,   1.7408,2,    -0.60,2,   -999.0,1,   7.176,2,   -999.0,9,   -999.0,9,  -999.00,9, 1539.9,  0.0087,   0.080,   0.036, 15.9119,   0.006
   318MWESTW_4,  P21E,    48,  1,     30, SI9330,2,19940411,1243,-16.7500, -86.3362, 4500,    200.6,  12.4759,  34.7195,2,  34.7144,2,     18.4,2,     29.8,2,    18.80,2,    20.25,2,     0.00,2,     2.43,2,    0.863,2,    0.401,2,    0.293,2,   1.7621,2,     2.82,2,   -999.0,1,   7.384,2,   -999.0,9,   -999.0,9,  -999.00,9, 2050.2,  0.0088,   0.080,   0.037, 12.4491,   0.005
   318MWESTW_4,  P21E,    48,  1,     29, SI9329,2,19940411,1243,-16.7500, -86.3362, 4500,    249.8,  11.8868,  34.8197,2,  34.8169,2,      4.9,2,      1.0,2,    26.94,2,    21.27,2,     2.22,2,     2.68,2,    0.209,2,    0.110,2,    0.165,2,   1.7687,2,     3.58,2,   -999.0,1,   7.415,2,   -999.0,9,   -999.0,9,  -999.00,9, 2540.3,  0.0088,   0.080,   0.037, 11.8544,   0.004
   318MWESTW_4,  P21E,    48,  1,     28, SI9328,2,19940411,1243,-16.7500, -86.3362, 4500,    299.4,  10.8590,  34.7441,2,  34.7414,2,      3.2,2,      2.8,2,    27.69,2,    28.34,2,     0.00,2,     2.71,2,    0.125,2,    0.063,2,    0.092,2,   1.7794,2,     3.25,2,   -999.0,1,   7.479,2,   -999.0,9,   -999.0,9,  -999.00,9, 3033.0,  0.0089,   0.080,   0.037, 10.8223,   0.004
   318MWESTW_4,  P21E,    48,  1,     27, SI9327,2,19940411,1243,-16.7500, -86.3362, 4500,    400.9,   9.1572,  34.6680,2,  34.6643,2,      2.2,2,      3.5,2,    32.69,2,    36.94,2,     0.00,2,     2.81,2,    0.023,2,    0.007,2,    0.014,2,   1.7828,2,     3.61,2,   -999.0,1,   7.587,2,   -999.0,9,   -999.0,9,  -999.00,9, 4042.9,  0.0089,   0.080,   0.038,  9.1129,   0.003
   318MWESTW_4,  P21E,    48,  1,     26, SI9326,2,19940411,1243,-16.7500, -86.3362, 4500,    500.0,   7.7275,  34.5728,2,  34.5724,2,     18.0,2,     22.1,2,    35.29,2,    40.23,2,     0.00,2,     2.87,2,    0.018,2,    0.006,2,    0.006,2,   1.7947,2,     4.51,2,   -999.0,1,   7.652,2,   -999.0,9,   -999.0,9,  -999.00,9, 5028.3,  0.0090,   0.090,   0.038,  7.6772,   0.003
   318MWESTW_4,  P21E,    48,  1,     25, SI9325,2,19940411,1243,-16.7500, -86.3362, 4500,    598.9,   6.7117,  34.5216,2,  34.5203,2,     36.3,2,     35.5,2,    39.92,2,    41.59,2,     0.01,2,     2.93,2,    0.008,2,    0.002,2,    0.002,2,   1.7989,2,     5.80,2,   -999.0,1,   7.703,2,   -999.0,9,   -999.0,9,  -999.00,9, 6011.9,  0.0090,   0.090,   0.039,  6.6557,   0.003
   318MWESTW_4,  P21E,    48,  1,     31, SI9331,2,19940411,1243,-16.7500, -86.3362, 4500,    699.2,   5.9391,  34.4993,2,  34.4983,2,     42.2,2,     42.6,2,    47.15,2,    42.56,2,     0.01,2,     3.01,2,    0.002,2,   -0.001,2, -999.000,1,   1.8083,2,     7.65,2,   -999.0,1,   7.746,2,   -999.0,9,   -999.0,9,  -999.00,9, 7009.6,  0.0090,   0.090,   0.039,  5.8774,-999.000
   318MWESTW_4,  P21E,    48,  1,     24, SI9324,2,19940411,1243,-16.7500, -86.3362, 4500,    798.2,   5.4219,  34.5099,2,  34.5091,2,     36.9,2,     37.4,2,    58.07,2,    43.76,2,     0.01,2,     3.11,2,   -0.002,2,   -0.004,2,    0.005,2,   1.8227,2,    10.33,2,   -999.0,1,   7.805,2,   -999.0,9,   -999.0,9,  -999.00,9, 7994.1,  0.0091,   0.090,   0.039,  5.3540,   0.004
   318MWESTW_4,  P21E,    48,  1,     23, SI9323,2,19940411,1243,-16.7500, -86.3362, 4500,    895.6,   4.9322,  34.5175,2,  34.5158,2,     44.4,2,     44.0,2,    67.15,2,    43.62,2,     0.00,2,     3.13,2,    0.001,2,   -0.004,2,    0.007,2,   1.8359,2,    12.64,2,   -999.0,1,   7.845,2,   -999.0,9,   -999.0,9,  -999.00,9, 8962.4,  0.0092,   0.090,   0.039,  4.8587,   0.003
   318MWESTW_4,  P21E,    48,  1,     22, SI9322,2,19940411,1243,-16.7500, -86.3362, 4500,   1002.6,   4.4622,  34.5305,2,  34.5311,2,     53.2,2,     53.6,2,    77.32,2,    42.89,2,     0.00,2,     3.10,2,   -0.002,2,   -0.004,2,    0.003,2,   1.8428,2,    15.29,2,   -999.0,1,   7.868,2,   -999.0,9,   -999.0,9,  -999.00,9,10026.0,  0.0092,   0.090,   0.039,  4.3827,   0.003
   318MWESTW_4,  P21E,    48,  1,     21, SI9321,2,19940411,1243,-16.7500, -86.3362, 4500,   1102.4,   4.1195,  34.5410,2,  34.5400,2,     61.6,2,     61.6,2,    84.55,2,    42.23,2,     0.00,2,     3.06,2, -999.000,9, -999.000,9, -999.000,1,-999.0000,1,  -999.00,9,   -999.0,1,-999.000,9,   -999.0,9,   -999.0,9,  -999.00,9,11018.8,-999.0000,-999.000,-999.000,  4.0342,-999.000
   318MWESTW_4,  P21E,    48,  1,     20, SI9320,2,19940411,1243,-16.7500, -86.3362, 4500,   1200.9,   3.8079,  34.5523,2,  34.5504,2,     69.2,2,     69.6,2,    91.57,2,    41.73,2,     0.00,2,     3.02,2, -999.000,9, -999.000,9, -999.000,1,-999.0000,1,  -999.00,9,   -999.0,1,-999.000,9,   -999.0,9,   -999.0,9,  -999.00,9,11998.4,-999.0000,-999.000,-999.000,  3.7169,-999.000
   318MWESTW_4,  P21E,    48,  1,     19, SI9319,2,19940411,1243,-16.7500, -86.3362, 4500,   1300.4,   3.5108,  34.5646,2,  34.5631,2,     77.2,2,     78.0,2,    97.86,2,    41.23,2,     0.00,2,     2.95,2, -999.000,9, -999.000,9,    0.000,2,   1.8794,2,    20.28,2,   -999.0,1,   8.001,2,   -999.0,9,   -999.0,9,  -999.00,9,12987.0,  0.0094,   0.100,   0.040,  3.4142,   0.003
   318MWESTW_4,  P21E,    48,  1,     18, SI9318,2,19940411,1243,-16.7500, -86.3362, 4500,   1399.7,   3.2386,  34.5787,2,  34.5781,2,     82.8,2,     83.6,2,   104.71,2,    40.85,2,     0.00,2,     2.93,2, -999.000,9, -999.000,9, -999.000,1,-999.0000,1,  -999.00,9,   -999.0,1,-999.000,9,   -999.0,9,   -999.0,9,  -999.00,9,13974.3,-999.0000,-999.000,-999.000,  3.1365,-999.000
   318MWESTW_4,  P21E,    48,  1,     17, SI9317,2,19940411,1243,-16.7500, -86.3362, 4500,   1497.1,   3.0002,  34.5914,2,  34.5906,2,     88.6,2,     90.0,2,   109.69,2,    40.24,2,     0.00,2,     2.88,2, -999.000,9, -999.000,9, -999.000,1,-999.0000,1,  -999.00,9,   -999.0,1,-999.000,9,   -999.0,9,   -999.0,9,  -999.00,9,14943.0,-999.0000,-999.000,-999.000,  2.8926,-999.000
   318MWESTW_4,  P21E,    48,  1,     16, SI9316,2,19940411,1243,-16.7500, -86.3362, 4500,   1648.4,   2.7192,  34.6102,2,  34.6099,2,     95.2,2,     96.2,2,   118.02,2,    39.58,2,     0.00,2,     2.83,2, -999.000,9, -999.000,9,    0.005,2,   1.8964,2,    24.85,2,   -999.0,1,   8.060,2,   -999.0,9,   -999.0,9,  -999.00,9,16447.4,  0.0095,   0.100,   0.040,  2.6023,   0.003
   318MWESTW_4,  P21E,    48,  1,     15, SI9315,2,19940411,1243,-16.7500, -86.3362, 4500,   1818.3,   2.4779,  34.6254,2,  34.6252,2,    104.1,2,    105.1,2,   123.75,2,    38.63,2,     0.00,2,     2.78,2, -999.000,9, -999.000,9, -999.000,1,-999.0000,1,  -999.00,9,   -999.0,1,-999.000,9,   -999.0,9,   -999.0,9,  -999.00,9,18136.3,-999.0000,-999.000,-999.000,  2.3498,-999.000
   318MWESTW_4,  P21E,    48,  1,     14, SI9314,2,19940411,1243,-16.7500, -86.3362, 4500,   1964.0,   2.3160,  34.6358,2,  34.6362,2,    111.9,2,    112.0,2,   126.70,2,    37.96,2,    -0.01,2,     2.73,2, -999.000,9, -999.000,9, -999.000,1,-999.0000,1,  -999.00,9,   -999.0,1,-999.000,9,   -999.0,9,   -999.0,9,  -999.00,9,19585.3,-999.0000,-999.000,-999.000,  2.1778,-999.000
   318MWESTW_4,  P21E,    48,  1,     13, SI9313,2,19940411,1243,-16.7500, -86.3362, 4500,   2101.4,   2.1654,  34.6462,2,  34.6457,2,    121.5,2,    122.5,2,   126.69,2,    37.07,2,    -0.01,2,     2.64,2, -999.000,9, -999.000,9, -999.000,1,-999.0000,1,  -999.00,9,   -999.0,1,-999.000,9,   -999.0,9,   -999.0,9,  -999.00,9,20951.2,-999.0000,-999.000,-999.000,  2.0177,-999.000
   318MWESTW_4,  P21E,    48,  1,     12, SI9312,2,19940411,1243,-16.7500, -86.3362, 4500,   2298.1,   2.0184,  34.6563,2,  34.6574,2,    135.1,2,    133.1,2,   126.87,2,    36.39,2,     0.01,2,     2.57,2, -999.000,9, -999.000,9, -999.000,1,-999.0000,1,  -999.00,9,   -999.0,1,-999.000,9,   -999.0,9,   -999.0,9,  -999.00,9,22906.6,-999.0000,-999.000,-999.000,  1.8559,-999.000
   318MWESTW_4,  P21E,    48,  1,     11, SI9311,2,19940411,1243,-16.7500, -86.3362, 4500,   2547.3,   1.8915,  34.6679,2,  34.6749,4,    143.7,2,    142.8,2,   127.05,2,    35.79,2,     0.00,2,     2.51,2, -999.000,9, -999.000,9, -999.000,1,-999.0000,1,  -999.00,9,   -999.0,1,-999.000,9,   -999.0,9,   -999.0,9,  -999.00,9,25383.9,-999.0000,-999.000,-999.000,  1.7089,-999.000
   318MWESTW_4,  P21E,    48,  1,     10, SI9310,2,19940411,1243,-16.7500, -86.3362, 4500,   2794.3,   1.8242,  34.6752,2,  34.6755,2,    143.9,2,    143.3,2,   131.10,2,    35.91,2,     0.00,2,     2.50,2, -999.000,9, -999.000,9, -999.000,1,-999.0000,1,  -999.00,9,   -999.0,1,-999.000,9,   -999.0,9,   -999.0,9,  -999.00,9,27839.4,-999.0000,-999.000,-999.000,  1.6200,-999.000
   318MWESTW_4,  P21E,    48,  1,      9, SI9309,2,19940411,1243,-16.7500, -86.3362, 4500,   3050.3,   1.7941,  34.6798,2,  34.6793,2,    141.8,2,    141.8,2,   134.98,2,    36.15,2,     0.00,2,     2.51,2, -999.000,9, -999.000,9, -999.000,1,-999.0000,1,  -999.00,9,   -999.0,1,-999.000,9,   -999.0,9,   -999.0,9,  -999.00,9,30384.3,-999.0000,-999.000,-999.000,  1.5659,-999.000
   318MWESTW_4,  P21E,    48,  1,      8, SI9308,2,19940411,1243,-16.7500, -86.3362, 4500,   3305.9,   1.7851,  34.6827,2,  34.6834,2,    141.5,2,    142.0,2,   136.27,2,    36.05,2,     0.00,2,     2.51,2, -999.000,9, -999.000,9, -999.000,1,-999.0000,1,  -999.00,9,   -999.0,1,-999.000,9,   -999.0,9,   -999.0,9,  -999.00,9,32925.1,-999.0000,-999.000,-999.000,  1.5317,-999.000
   318MWESTW_4,  P21E,    48,  1,      7, SI9307,2,19940411,1243,-16.7500, -86.3362, 4500,   3551.1,   1.7765,  34.6855,2,  34.6855,2,    145.2,2,    144.9,2,   134.78,2,    35.56,2,     0.00,2,     2.49,2, -999.000,9, -999.000,9, -999.000,1,-999.0000,1,  -999.00,9,   -999.0,1,-999.000,9,   -999.0,9,   -999.0,9,  -999.00,9,35363.6,-999.0000,-999.000,-999.000,  1.4981,-999.000
   318MWESTW_4,  P21E,    48,  1,      6, SI9306,2,19940411,1243,-16.7500, -86.3362, 4500,   3791.8,   1.7650,  34.6876,2,  34.6895,2,    150.4,2,    150.7,2,   131.26,2,    35.17,2,     0.00,2,     2.47,2, -999.000,9, -999.000,9, -999.000,1,-999.0000,1,  -999.00,9,   -999.0,1,-999.000,9,   -999.0,9,   -999.0,9,  -999.00,9,37756.5,-999.0000,-999.000,-999.000,  1.4613,-999.000
   318MWESTW_4,  P21E,    48,  1,      5, SI9305,2,19940411,1243,-16.7500, -86.3362, 4500,   4036.2,   1.7621,  34.6895,2,  34.6901,2,    153.7,2,    154.0,2,   128.84,2,    34.85,2,    -0.01,2,     2.44,2, -999.000,9, -999.000,9, -999.000,1,-999.0000,1,  -999.00,9,   -999.0,1,-999.000,9,   -999.0,9,   -999.0,9,  -999.00,9,40186.3,-999.0000,-999.000,-999.000,  1.4318,-999.000
   318MWESTW_4,  P21E,    48,  1,      4, SI9304,2,19940411,1243,-16.7500, -86.3362, 4500,   4293.9,   1.7799,  34.6905,2,  34.6908,2,    154.0,2,    153.9,2,   129.02,2,    34.97,2,     0.00,2,     2.42,2, -999.000,9, -999.000,9, -999.000,1,-999.0000,1,  -999.00,9,   -999.0,1,-999.000,9,   -999.0,9,   -999.0,9,  -999.00,9,42747.7,-999.0000,-999.000,-999.000,  1.4201,-999.000
   318MWESTW_4,  P21E,    48,  1,      3, SI9303,2,19940411,1243,-16.7500, -86.3362, 4500,   4294.1,   1.7798,  34.6905,2,  34.6905,2,    154.0,2,    154.0,2,   129.01,2,    35.04,2,     0.00,2,     2.44,2, -999.000,9, -999.000,9, -999.000,1,-999.0000,1,  -999.00,9,   -999.0,1,-999.000,9,   -999.0,9,   -999.0,9,  -999.00,9,42749.5,-999.0000,-999.000,-999.000,  1.4199,-999.000
   318MWESTW_4,  P21E,    48,  1,      2, SI9302,2,19940411,1243,-16.7500, -86.3362, 4500,   4514.5,   1.8019,  34.6909,2,  34.6906,2,    153.9,2,    154.3,2,   128.82,2,    35.05,2,     0.00,2,     2.42,2, -999.000,9, -999.000,9, -999.000,1,-999.0000,1,  -999.00,9,   -999.0,1,-999.000,9,   -999.0,9,   -999.0,9,  -999.00,9,44941.1,-999.0000,-999.000,-999.000,  1.4158,-999.000
   318MWESTW_4,  P21E,    48,  1,      1, SI9301,2,19940411,1243,-16.7500, -86.3362, 4500,   4546.9,   1.8052,  34.6908,2,  34.6910,2,    153.7,2,    153.9,2,   128.80,2,    35.06,2,     0.00,2,     2.44,2, -999.000,9, -999.000,9, -999.000,1,-999.0000,1,  -999.00,9,   -999.0,1,-999.000,9,   -999.0,9,   -999.0,9,  -999.00,9,45262.5,-999.0000,-999.000,-999.000,  1.4152,-999.000