BOTTLE,20010911WHPSIOdm
EXPOCODE,SECT_ID,STNNBR,CASTNO,SAMPNO,BTLNBR,BTLNBR_FLAG_W,DATE,TIME,LATITUDE,LONGITUDE,DEPTH,CTDPRS,CTDTMP,CTDSAL,CTDSAL_FLAG_W,SALNTY,SALNTY_FLAG_W,CTDOXY,CTDOXY_FLAG_W,OXYGEN,OXYGEN_FLAG_W,SILCAT,SILCAT_FLAG_W,NITRAT,NITRAT_FLAG_W,NITRIT,NITRIT_FLAG_W,PHSPHT,PHSPHT_FLAG_W,CFC-11,CFC-11_FLAG_W,CFC-12,CFC-12_FLAG_W,TRITUM,TRITUM_FLAG_W,HELIUM,HELIUM_FLAG_W,DELHE3,DELHE3_FLAG_W,DELC14,DELC14_FLAG_W,NEON,NEON_FLAG_W,TCARBN,TCARBN_FLAG_W,ALKALI,ALKALI_FLAG_W,PH,PH_FLAG_W,CTDRAW,HELIER,DELHER,NEONER,THETA,TRITER
,,,,,,,,,,,,DBAR,ITS-90,PSS-78,,PSS-78,,UMOL/KG,,UMOL/KG,,UMOL/KG,,UMOL/KG,,UMOL/KG,,UMOL/KG,,PMOL/KG,,PMOL/KG,,TU,,UMOL/KG,,PERCNT,,/MILLE,,NMOL/KG,,UMOL/KG,,UMOL/KG,,,,,NMOL/KG,PERCNT,NMOL/KG,ITS-90,TU
   318MWESTW_4,  P21E,    74,  1,     36, SI9336,2,19940419,1352,-16.7500,-101.3333, 3675,      7.7,  24.5090,  36.2415,2,  36.2509,2,    207.4,2,    215.3,2,     0.28,2,     0.01,2,     0.01,2,     0.33,2,    1.966,2,    1.081,2, -999.000,1,-999.0000,1,  -999.00,9,   -999.0,1,-999.000,9,   -999.0,9,   -999.0,9,  -999.00,9,  120.0,-999.0000,-999.000,-999.000, 24.5073,-999.000
   318MWESTW_4,  P21E,    74,  1,     35, SI9335,2,19940419,1352,-16.7500,-101.3333, 3675,     23.5,  24.0701,  36.2401,2,  36.2463,2,    214.7,2,    214.8,2,     0.29,2,     0.01,2,     0.01,2,     0.33,2,    1.978,2,    1.068,2, -999.000,1,-999.0000,1,  -999.00,9,   -999.0,1,-999.000,9,   -999.0,9,   -999.0,9,  -999.00,9,  278.2,-999.0000,-999.000,-999.000, 24.0651,-999.000
   318MWESTW_4,  P21E,    74,  1,     34, SI9334,2,19940419,1352,-16.7500,-101.3333, 3675,     48.0,  23.9364,  36.2365,2,  36.2410,2,    215.7,2,    214.6,2,     0.31,2,     0.03,2,     0.00,2,     0.34,2,    2.023,2,    1.079,2, -999.000,1,-999.0000,1,  -999.00,9,   -999.0,1,-999.000,9,   -999.0,9,   -999.0,9,  -999.00,9,  523.2,-999.0000,-999.000,-999.000, 23.9263,-999.000
   318MWESTW_4,  P21E,    74,  1,     33, SI9333,2,19940419,1352,-16.7500,-101.3333, 3675,    100.2,  22.2675,  36.1099,2,  36.1802,2,    223.6,2,    223.4,2,     0.33,2,     0.02,2,     0.01,2,     0.31,2,    2.156,2,    1.142,2, -999.000,1,-999.0000,1,  -999.00,9,   -999.0,1,-999.000,9,   -999.0,9,   -999.0,9,  -999.00,9, 1045.6,-999.0000,-999.000,-999.000, 22.2474,-999.000
   318MWESTW_4,  P21E,    74,  1,     32, SI9332,2,19940419,1352,-16.7500,-101.3333, 3675,    148.9,  20.7029,  35.8931,2,  35.8914,2,    216.7,2,    216.3,2,     0.35,2,     0.22,2,     0.15,2,     0.35,2,    2.260,2,    1.183,2, -999.000,1,-999.0000,1,  -999.00,9,   -999.0,1,-999.000,9,   -999.0,9,   -999.0,9,  -999.00,9, 1531.8,-999.0000,-999.000,-999.000, 20.6746,-999.000
   318MWESTW_4,  P21E,    74,  1,     31, SI9331,2,19940419,1352,-16.7500,-101.3333, 3675,    200.5,  18.7601,  35.4025,3,  35.5087,2,    205.1,2,    199.8,2,     0.71,2,     3.33,2,     0.03,2,     0.58,2,    2.336,2,    1.218,2, -999.000,1,-999.0000,1,  -999.00,9,   -999.0,1,-999.000,9,   -999.0,9,   -999.0,9,  -999.00,9, 2047.9,-999.0000,-999.000,-999.000, 18.7246,-999.000
   318MWESTW_4,  P21E,    74,  1,     30, SI9330,2,19940419,1352,-16.7500,-101.3333, 3675,    250.9,  14.0901,  34.7987,2,  34.7878,2,    163.0,2,    151.5,2,     4.53,2,    12.28,2,    -0.01,2,     1.20,2,    2.022,6,    0.982,6, -999.000,1,-999.0000,1,  -999.00,9,   -999.0,1,-999.000,9,   -999.0,9,   -999.0,9,  -999.00,9, 2552.0,-999.0000,-999.000,-999.000, 14.0537,-999.000
   318MWESTW_4,  P21E,    74,  1,     29, SI9329,2,19940419,1352,-16.7500,-101.3333, 3675,    299.7,  11.1194,  34.6370,2,  34.6502,2,     65.5,2,     30.6,2,    20.59,2,    25.98,2,    -0.02,2,     2.48,2,    0.441,2,    0.203,2, -999.000,1,-999.0000,1,  -999.00,9,   -999.0,1,-999.000,9,   -999.0,9,   -999.0,9,  -999.00,9, 3039.4,-999.0000,-999.000,-999.000, 11.0822,-999.000
   318MWESTW_4,  P21E,    74,  1,     28, SI9328,2,19940419,1352,-16.7500,-101.3333, 3675,    399.7,   8.9446,  34.6024,2,  34.5936,2,     22.5,2,     22.8,2,    27.00,2,    35.68,2,    -0.02,2,     2.71,2,    0.069,2,    0.032,2, -999.000,1,-999.0000,1,  -999.00,9,   -999.0,1,-999.000,9,   -999.0,9,   -999.0,9,  -999.00,9, 4037.9,-999.0000,-999.000,-999.000,  8.9011,-999.000
   318MWESTW_4,  P21E,    74,  1,     27, SI9327,2,19940419,1352,-16.7500,-101.3333, 3675,    500.1,   7.3613,  34.5061,2,  34.5146,2,     63.6,2,     59.9,2,    29.42,2,    37.57,2,     0.01,2,     2.63,2,    0.027,2,    0.012,2, -999.000,1,-999.0000,1,  -999.00,9,   -999.0,1,-999.000,9,   -999.0,9,   -999.0,9,  -999.00,9, 5040.5,-999.0000,-999.000,-999.000,  7.3124,-999.000
   318MWESTW_4,  P21E,    74,  1,     26, SI9326,2,19940419,1352,-16.7500,-101.3333, 3675,    566.2,   6.6236,  34.4985,2,  34.4960,2,     69.4,2,     65.1,2,    34.97,2,    38.99,2,     0.00,2,     2.70,2,    0.010,2,    0.007,2, -999.000,1,-999.0000,1,  -999.00,9,   -999.0,1,-999.000,9,   -999.0,9,   -999.0,9,  -999.00,9, 5701.3,-999.0000,-999.000,-999.000,  6.5712,-999.000
   318MWESTW_4,  P21E,    74,  1,     25, SI9325,2,19940419,1352,-16.7500,-101.3333, 3675,    599.5,   6.4316,  34.5025,2,  34.5023,2,     59.1,2,     55.0,2,    38.95,2,    40.53,2,    -0.01,2,     2.84,2,    0.003,2,    0.002,2, -999.000,1,-999.0000,1,  -999.00,9,   -999.0,1,-999.000,9,   -999.0,9,   -999.0,9,  -999.00,9, 6033.3,-999.0000,-999.000,-999.000,  6.3768,-999.000
   318MWESTW_4,  P21E,    74,  1,     24, SI9324,2,19940419,1352,-16.7500,-101.3333, 3675,    698.7,   5.8451,  34.4996,2,  34.4972,2,     51.1,2,     54.3,2,    46.73,2,    41.87,2,     0.00,2,     2.93,2,   -0.001,2,    0.000,2, -999.000,1,-999.0000,1,  -999.00,9,   -999.0,1,-999.000,9,   -999.0,9,   -999.0,9,  -999.00,9, 7024.7,-999.0000,-999.000,-999.000,  5.7839,-999.000
   318MWESTW_4,  P21E,    74,  1,     23, SI9323,2,19940419,1352,-16.7500,-101.3333, 3675,    799.8,   5.2469,  34.4997,2,  34.4993,2,     59.9,2,     57.9,2,    56.57,2,    42.48,2,     0.01,2,     2.99,2,   -0.003,2,   -0.002,2, -999.000,1,-999.0000,1,  -999.00,9,   -999.0,1,-999.000,9,   -999.0,9,   -999.0,9,  -999.00,9, 8034.1,-999.0000,-999.000,-999.000,  5.1799,-999.000
   318MWESTW_4,  P21E,    74,  1,     22, SI9322,2,19940419,1352,-16.7500,-101.3333, 3675,    899.4,   4.7519,  34.5114,2,  34.5113,2,     62.0,2,     61.8,2,    66.77,2,    42.66,2,     0.00,2,     3.00,2,   -0.003,2,    0.000,2, -999.000,1,-999.0000,1,  -999.00,9,   -999.0,1,-999.000,9,   -999.0,9,   -999.0,9,  -999.00,9, 9029.5,-999.0000,-999.000,-999.000,  4.6793,-999.000
   318MWESTW_4,  P21E,    74,  1,     21, SI9321,2,19940419,1352,-16.7500,-101.3333, 3675,    998.9,   4.3299,  34.5258,2,  34.5262,2,     69.0,2,     69.0,2,    75.92,2,    42.22,2,     0.00,2,     2.99,2, -999.000,9, -999.000,9, -999.000,1,-999.0000,1,  -999.00,9,   -999.0,1,-999.000,9,   -999.0,9,   -999.0,9,  -999.00,9,10023.3,-999.0000,-999.000,-999.000,  4.2518,-999.000
   318MWESTW_4,  P21E,    74,  1,     20, SI9320,2,19940419,1352,-16.7500,-101.3333, 3675,   1099.7,   3.9745,  34.5412,2,  34.5406,2,     74.3,2,     74.8,2,    84.73,2,    41.88,2,     0.00,2,     2.98,2, -999.000,9, -999.000,9, -999.000,1,-999.0000,1,  -999.00,9,   -999.0,1,-999.000,9,   -999.0,9,   -999.0,9,  -999.00,9,11030.2,-999.0000,-999.000,-999.000,  3.8906,-999.000
   318MWESTW_4,  P21E,    74,  1,     19, SI9319,2,19940419,1352,-16.7500,-101.3333, 3675,   1200.2,   3.7186,  34.5510,2,  34.5567,3,     77.8,2,     79.5,2,    90.61,2,    41.38,2,     0.00,2,     2.95,2, -999.000,9, -999.000,9, -999.000,1,-999.0000,1,  -999.00,9,   -999.0,1,-999.000,9,   -999.0,9,   -999.0,9,  -999.00,9,12034.0,-999.0000,-999.000,-999.000,  3.6285,-999.000
   318MWESTW_4,  P21E,    74,  1,     18, SI9318,2,19940419,1352,-16.7500,-101.3333, 3675,   1298.5,   3.4559,  34.5658,2,  34.5665,2,     84.7,2,     85.0,2,    96.48,2,    40.93,2,     0.00,2,     2.92,2, -999.000,9, -999.000,9, -999.000,1,-999.0000,1,  -999.00,9,   -999.0,1,-999.000,9,   -999.0,9,   -999.0,9,  -999.00,9,13016.0,-999.0000,-999.000,-999.000,  3.3600,-999.000
   318MWESTW_4,  P21E,    74,  1,     17, SI9317,2,19940419,1352,-16.7500,-101.3333, 3675,   1396.3,   3.1873,  34.5789,2,  34.5791,2,     89.8,2,     90.8,2,   102.87,2,    40.48,2,     0.00,2,     2.88,2, -999.000,9, -999.000,9, -999.000,1,-999.0000,1,  -999.00,9,   -999.0,1,-999.000,9,   -999.0,9,   -999.0,9,  -999.00,9,13993.3,-999.0000,-999.000,-999.000,  3.0860,-999.000
   318MWESTW_4,  P21E,    74,  1,     16, SI9316,2,19940419,1352,-16.7500,-101.3333, 3675,   1495.6,   2.9981,  34.5912,2,  34.5893,2,     94.7,2,     95.1,2,   107.88,2,    40.09,2,     0.00,2,     2.86,2, -999.000,9, -999.000,9, -999.000,1,-999.0000,1,  -999.00,9,   -999.0,1,-999.000,9,   -999.0,9,   -999.0,9,  -999.00,9,14985.2,-999.0000,-999.000,-999.000,  2.8906,-999.000
   318MWESTW_4,  P21E,    74,  1,     15, SI9315,2,19940419,1352,-16.7500,-101.3333, 3675,   1596.9,   2.8143,  34.6008,2,  34.6036,2,     98.8,2,    100.0,2,   112.37,2,    39.71,2,    -0.01,2,     2.82,2, -999.000,9, -999.000,9, -999.000,1,-999.0000,1,  -999.00,9,   -999.0,1,-999.000,9,   -999.0,9,   -999.0,9,  -999.00,9,15997.2,-999.0000,-999.000,-999.000,  2.7005,-999.000
   318MWESTW_4,  P21E,    74,  1,     14, SI9314,2,19940419,1352,-16.7500,-101.3333, 3675,   1696.8,   2.6353,  34.6112,2,  34.6140,2,    104.0,2,    105.8,2,   116.34,2,    39.26,2,    -0.01,2,     2.78,2, -999.000,9, -999.000,9, -999.000,1,-999.0000,1,  -999.00,9,   -999.0,1,-999.000,9,   -999.0,9,   -999.0,9,  -999.00,9,16994.9,-999.0000,-999.000,-999.000,  2.5154,-999.000
   318MWESTW_4,  P21E,    74,  1,     13, SI9313,2,19940419,1352,-16.7500,-101.3333, 3675,   1850.1,   2.3725,  34.6276,2,  34.6280,2,    115.0,2,    118.0,2,   120.32,2,    38.30,2,    -0.01,2,     2.70,2, -999.000,9, -999.000,9, -999.000,1,-999.0000,1,  -999.00,9,   -999.0,1,-999.000,9,   -999.0,9,   -999.0,9,  -999.00,9,18526.2,-999.0000,-999.000,-999.000,  2.2432,-999.000
   318MWESTW_4,  P21E,    74,  1,     12, SI9312,2,19940419,1352,-16.7500,-101.3333, 3675,   2000.1,   2.1912,  34.6397,2,  34.6449,3,    127.2,2,    129.6,2,   121.18,2,    37.35,2,    -0.01,2,     2.63,2, -999.000,9, -999.000,9, -999.000,1,-999.0000,1,  -999.00,9,   -999.0,1,-999.000,9,   -999.0,9,   -999.0,9,  -999.00,9,20025.0,-999.0000,-999.000,-999.000,  2.0518,-999.000
   318MWESTW_4,  P21E,    74,  1,     11, SI9311,2,19940419,1352,-16.7500,-101.3333, 3675,   2153.2,   2.0290,  34.6513,2,  34.6527,2,    139.7,2,    141.5,2,   120.85,2,    36.33,2,    -0.01,2,     2.54,2, -999.000,9, -999.000,9, -999.000,1,-999.0000,1,  -999.00,9,   -999.0,1,-999.000,9,   -999.0,9,   -999.0,9,  -999.00,9,21554.9,-999.0000,-999.000,-999.000,  1.8790,-999.000
   318MWESTW_4,  P21E,    74,  1,     10, SI9310,2,19940419,1352,-16.7500,-101.3333, 3675,   2300.6,   1.9359,  34.6609,2,  34.6655,3,    148.8,2,    148.0,2,   121.72,2,    35.83,2,    -0.01,2,     2.50,2, -999.000,9, -999.000,9, -999.000,1,-999.0000,1,  -999.00,9,   -999.0,1,-999.000,9,   -999.0,9,   -999.0,9,  -999.00,9,23027.2,-999.0000,-999.000,-999.000,  1.7746,-999.000
   318MWESTW_4,  P21E,    74,  1,      9, SI9309,2,19940419,1352,-16.7500,-101.3333, 3675,   2451.5,   1.8718,  34.6686,2,  34.6698,2,    151.0,2,    150.1,2,   123.97,2,    35.66,2,     0.00,2,     2.48,2, -999.000,9, -999.000,9, -999.000,1,-999.0000,1,  -999.00,9,   -999.0,1,-999.000,9,   -999.0,9,   -999.0,9,  -999.00,9,24535.3,-999.0000,-999.000,-999.000,  1.6982,-999.000
   318MWESTW_4,  P21E,    74,  1,      8, SI9308,2,19940419,1352,-16.7500,-101.3333, 3675,   2602.4,   1.8238,  34.6746,2,  34.6753,2,    150.7,2,    149.6,2,   127.07,2,    35.66,2,     0.00,2,     2.48,2, -999.000,9, -999.000,9, -999.000,1,-999.0000,1,  -999.00,9,   -999.0,1,-999.000,9,   -999.0,9,   -999.0,9,  -999.00,9,26043.0,-999.0000,-999.000,-999.000,  1.6374,-999.000
   318MWESTW_4,  P21E,    74,  1,      7, SI9307,2,19940419,1352,-16.7500,-101.3333, 3675,   2746.1,   1.8068,  34.6786,2,  34.6785,2,    148.3,2,    147.9,2,   130.36,2,    35.88,2,     0.00,2,     2.50,2, -999.000,9, -999.000,9, -999.000,1,-999.0000,1,  -999.00,9,   -999.0,1,-999.000,9,   -999.0,9,   -999.0,9,  -999.00,9,27478.6,-999.0000,-999.000,-999.000,  1.6074,-999.000
   318MWESTW_4,  P21E,    74,  1,      6, SI9306,2,19940419,1352,-16.7500,-101.3333, 3675,   2896.3,   1.7985,  34.6796,2,  34.6791,2,    146.1,2,    146.0,2,   132.95,2,    36.06,2,     0.00,2,     2.50,2, -999.000,9, -999.000,9, -999.000,1,-999.0000,1,  -999.00,9,   -999.0,1,-999.000,9,   -999.0,9,   -999.0,9,  -999.00,9,28980.0,-999.0000,-999.000,-999.000,  1.5851,-999.000
   318MWESTW_4,  P21E,    74,  1,      5, SI9305,2,19940419,1352,-16.7500,-101.3333, 3675,   3095.7,   1.7996,  34.6812,2,  34.6808,2,    145.2,2,    145.5,2,   134.68,2,    36.12,2,     0.00,2,     2.51,2, -999.000,9, -999.000,9, -999.000,1,-999.0000,1,  -999.00,9,   -999.0,1,-999.000,9,   -999.0,9,   -999.0,9,  -999.00,9,30972.5,-999.0000,-999.000,-999.000,  1.5668,-999.000
   318MWESTW_4,  P21E,    74,  1,      4, SI9304,2,19940419,1352,-16.7500,-101.3333, 3675,   3297.0,   1.8068,  34.6824,2,  34.6838,2,    145.4,2,    145.2,2,   134.69,2,    36.12,2,     0.00,2,     2.51,2, -999.000,9, -999.000,9, -999.000,1,-999.0000,1,  -999.00,9,   -999.0,1,-999.000,9,   -999.0,9,   -999.0,9,  -999.00,9,32983.5,-999.0000,-999.000,-999.000,  1.5538,-999.000
   318MWESTW_4,  P21E,    74,  1,      3, SI9303,2,19940419,1352,-16.7500,-101.3333, 3675,   3501.6,   1.8110,  34.6846,2,  34.6853,2,    147.7,2,    147.1,2,   132.98,2,    35.90,2,    -0.01,2,     2.50,2, -999.000,9, -999.000,9, -999.000,1,-999.0000,1,  -999.00,9,   -999.0,1,-999.000,9,   -999.0,9,   -999.0,9,  -999.00,9,35029.2,-999.0000,-999.000,-999.000,  1.5369,-999.000
   318MWESTW_4,  P21E,    74,  1,      2, SI9302,2,19940419,1352,-16.7500,-101.3333, 3675,   3667.8,   1.8222,  34.6862,2,  34.6848,2,    148.2,2,    148.4,2,   132.12,2,    35.79,2,    -0.01,2,     2.49,2, -999.000,9, -999.000,9, -999.000,1,-999.0000,1,  -999.00,9,   -999.0,1,-999.000,9,   -999.0,9,   -999.0,9,  -999.00,9,36689.5,-999.0000,-999.000,-999.000,  1.5303,-999.000
   318MWESTW_4,  P21E,    74,  1,      1, SI9301,2,19940419,1352,-16.7500,-101.3333, 3675,   3709.6,   1.8266,  34.6857,2,  34.6851,2,    146.8,2,    148.5,2,   132.12,2,    35.76,2,    -0.01,2,     2.48,2, -999.000,9, -999.000,9, -999.000,1,-999.0000,1,  -999.00,9,   -999.0,1,-999.000,9,   -999.0,9,   -999.0,9,  -999.00,9,37107.4,-999.0000,-999.000,-999.000,  1.5301,-999.000