BOTTLE,20010911WHPSIOdm
EXPOCODE,SECT_ID,STNNBR,CASTNO,SAMPNO,BTLNBR,BTLNBR_FLAG_W,DATE,TIME,LATITUDE,LONGITUDE,DEPTH,CTDPRS,CTDTMP,CTDSAL,CTDSAL_FLAG_W,SALNTY,SALNTY_FLAG_W,CTDOXY,CTDOXY_FLAG_W,OXYGEN,OXYGEN_FLAG_W,SILCAT,SILCAT_FLAG_W,NITRAT,NITRAT_FLAG_W,NITRIT,NITRIT_FLAG_W,PHSPHT,PHSPHT_FLAG_W,CFC-11,CFC-11_FLAG_W,CFC-12,CFC-12_FLAG_W,TRITUM,TRITUM_FLAG_W,HELIUM,HELIUM_FLAG_W,DELHE3,DELHE3_FLAG_W,DELC14,DELC14_FLAG_W,NEON,NEON_FLAG_W,TCARBN,TCARBN_FLAG_W,ALKALI,ALKALI_FLAG_W,PH,PH_FLAG_W,CTDRAW,HELIER,DELHER,NEONER,THETA,TRITER
,,,,,,,,,,,,DBAR,ITS-90,PSS-78,,PSS-78,,UMOL/KG,,UMOL/KG,,UMOL/KG,,UMOL/KG,,UMOL/KG,,UMOL/KG,,PMOL/KG,,PMOL/KG,,TU,,UMOL/KG,,PERCNT,,/MILLE,,NMOL/KG,,UMOL/KG,,UMOL/KG,,,,,NMOL/KG,PERCNT,NMOL/KG,ITS-90,TU
   318MWESTW_5,  P21W,   266,  1,     22, SI9418,2,19940616,1753,-21.7195, 162.1833, 1655,      5.1,  23.7550,  35.2981,2,  35.2982,2,    214.0,2,    210.6,2,     0.09,2,     0.00,2,     0.00,2,     0.11,2,    1.891,2,    1.034,2, -999.000,1,-999.0000,1,  -999.00,9,   -999.0,1,-999.000,9,   -999.0,9,   -999.0,9,  -999.00,9,  111.1,-999.0000,-999.000,-999.000, 23.7539,-999.000
   318MWESTW_5,  P21W,   266,  1,     21, SI9421,2,19940616,1753,-21.7195, 162.1833, 1655,     24.7,  22.9773,  35.6735,2,  35.6717,2,    221.1,2,    213.5,2,     0.41,2,     0.00,2,     0.00,2,     0.08,2,    1.936,2,    1.070,2, -999.000,1,-999.0000,1,  -999.00,9,   -999.0,1,-999.000,9,   -999.0,9,   -999.0,9,  -999.00,9,  306.1,-999.0000,-999.000,-999.000, 22.9723,-999.000
   318MWESTW_5,  P21W,   266,  1,     20, SI9420,2,19940616,1753,-21.7195, 162.1833, 1655,     44.3,  22.8984,  35.7735,2,  35.7683,2,    217.4,2,    213.7,2,     0.43,2,     0.00,2,     0.00,2,     0.09,2, -999.000,9, -999.000,9, -999.000,1,-999.0000,1,  -999.00,9,   -999.0,1,-999.000,9,   -999.0,9,   -999.0,9,  -999.00,9,  501.2,-999.0000,-999.000,-999.000, 22.8894,-999.000
   318MWESTW_5,  P21W,   266,  1,     19, SI9419,2,19940616,1753,-21.7195, 162.1833, 1655,     94.3,  21.7028,  35.7613,2,  35.7641,2,    206.1,2,    201.4,2,     0.46,2,     1.09,2,     0.05,2,     0.21,2,    2.018,2,    1.082,2, -999.000,1,-999.0000,1,  -999.00,9,   -999.0,1,-999.000,9,   -999.0,9,   -999.0,9,  -999.00,9,  999.7,-999.0000,-999.000,-999.000, 21.6843,-999.000
   318MWESTW_5,  P21W,   266,  1,     18, SI9439,2,19940616,1753,-21.7195, 162.1833, 1655,    145.5,  20.2713,  35.7280,2,  35.7280,2,    191.3,2,    195.7,2,     0.78,2,     2.70,2,     0.02,2,     0.33,2,    2.085,2,    1.138,2, -999.000,1,-999.0000,1,  -999.00,9,   -999.0,1,-999.000,9,   -999.0,9,   -999.0,9,  -999.00,9, 1508.6,-999.0000,-999.000,-999.000, 20.2440,-999.000
   318MWESTW_5,  P21W,   266,  1,     17, SI9417,2,19940616,1753,-21.7195, 162.1833, 1655,    197.8,  19.1486,  35.6566,2,  35.6569,2,    186.7,2,    187.6,2,     1.10,2,     4.25,2,     0.00,2,     0.42,2,    2.055,6,    1.082,6, -999.000,1,-999.0000,1,  -999.00,9,   -999.0,1,-999.000,9,   -999.0,9,   -999.0,9,  -999.00,9, 2029.6,-999.0000,-999.000,-999.000, 19.1130,-999.000
   318MWESTW_5,  P21W,   266,  1,     16, SI9416,2,19940616,1753,-21.7195, 162.1833, 1655,    249.1,  17.9219,  35.5956,2,  35.5955,2,    191.6,2,    192.0,2,     1.42,2,     4.98,2,     0.00,2,     0.47,2, -999.000,9, -999.000,9, -999.000,1,-999.0000,1,  -999.00,9,   -999.0,1,-999.000,9,   -999.0,9,   -999.0,9,  -999.00,9, 2540.1,-999.0000,-999.000,-999.000, 17.8790,-999.000
   318MWESTW_5,  P21W,   266,  1,     15, SI9415,2,19940616,1753,-21.7195, 162.1833, 1655,    298.5,  16.7755,  35.4911,2,  35.4886,2,    190.6,2,    188.3,2,     2.03,2,     6.69,2,     0.00,2,     0.58,2,    1.984,2,    1.051,2, -999.000,1,-999.0000,1,  -999.00,9,   -999.0,1,-999.000,9,   -999.0,9,   -999.0,9,  -999.00,9, 3031.1,-999.0000,-999.000,-999.000, 16.7264,-999.000
   318MWESTW_5,  P21W,   266,  1,     14, SI9436,2,19940616,1753,-21.7195, 162.1833, 1655,    349.4,  14.9118,  35.3050,2,  35.3003,2,    191.8,2,    185.5,2,     3.22,2,     9.71,2,     0.00,2,     0.77,2, -999.000,9, -999.000,9, -999.000,1,-999.0000,1,  -999.00,9,   -999.0,1,-999.000,9,   -999.0,9,   -999.0,9,  -999.00,9, 3537.6,-999.0000,-999.000,-999.000, 14.8587,-999.000
   318MWESTW_5,  P21W,   266,  1,     13, SI9413,2,19940616,1753,-21.7195, 162.1833, 1655,    401.5,  13.5610,  35.1604,2,  35.1508,2,    187.1,2,    184.5,2,     4.57,2,    12.43,2,     0.00,2,     0.95,2,    1.637,2,    0.812,2, -999.000,1,-999.0000,1,  -999.00,9,   -999.0,1,-999.000,9,   -999.0,9,   -999.0,9,  -999.00,9, 4055.8,-999.0000,-999.000,-999.000, 13.5037,-999.000
   318MWESTW_5,  P21W,   266,  1,     12, SI9438,2,19940616,1753,-21.7195, 162.1833, 1655,    446.9,  12.2640,  35.0221,2,  35.0130,2,    185.8,2,    184.3,2,     5.77,2,    14.82,2,     0.00,2,     1.09,2, -999.000,9, -999.000,9, -999.000,1,-999.0000,1,  -999.00,9,   -999.0,1,-999.000,9,   -999.0,9,   -999.0,9,  -999.00,9, 4508.2,-999.0000,-999.000,-999.000, 12.2043,-999.000
   318MWESTW_5,  P21W,   266,  1,     11, SI9411,2,19940616,1753,-21.7195, 162.1833, 1655,    497.8,  10.5423,  34.8234,2,  34.8186,2,    183.5,2,    183.3,2,     9.15,2,    18.48,2,     0.00,2,     1.34,2,    0.999,2,    0.504,2, -999.000,1,-999.0000,1,  -999.00,9,   -999.0,1,-999.000,9,   -999.0,9,   -999.0,9,  -999.00,9, 5013.8,-999.0000,-999.000,-999.000, 10.4818,-999.000
   318MWESTW_5,  P21W,   266,  1,     10, SI9412,2,19940616,1753,-21.7195, 162.1833, 1655,    599.0,   8.5456,  34.6258,2,  34.6250,2,    188.6,2,    188.9,2,    14.00,2,    22.27,2,     0.00,2,     1.59,2, -999.000,9, -999.000,9, -999.000,1,-999.0000,1,  -999.00,9,   -999.0,1,-999.000,9,   -999.0,9,   -999.0,9,  -999.00,9, 6020.5,-999.0000,-999.000,-999.000,  8.4813,-999.000
   318MWESTW_5,  P21W,   266,  1,      9, SI9410,2,19940616,1753,-21.7195, 162.1833, 1655,    700.9,   7.0040,  34.5011,2,  34.4993,2,    191.0,2,    192.7,2,    20.15,2,    25.34,2,     0.00,2,     1.80,2,    0.383,2,    0.206,2, -999.000,1,-999.0000,1,  -999.00,9,   -999.0,1,-999.000,9,   -999.0,9,   -999.0,9,  -999.00,9, 7033.3,-999.0000,-999.000,-999.000,  6.9365,-999.000
   318MWESTW_5,  P21W,   266,  1,      8, SI9422,2,19940616,1753,-21.7195, 162.1833, 1655,    796.7,   5.8011,  34.4580,2,  34.4575,2,    186.4,2,    186.6,2,    31.85,2,    28.24,2,     0.00,2,     1.98,2, -999.000,9, -999.000,9, -999.000,1,-999.0000,1,  -999.00,9,   -999.0,1,-999.000,9,   -999.0,9,   -999.0,9,  -999.00,9, 7986.1,-999.0000,-999.000,-999.000,  5.7311,-999.000
   318MWESTW_5,  P21W,   266,  1,      7, SI9407,2,19940616,1753,-21.7195, 162.1833, 1655,    894.5,   4.9881,  34.4571,2,  34.4571,2,    180.9,2,    179.7,2,    43.41,2,    30.25,2,     0.00,2,     2.11,2,    0.090,2,    0.052,2, -999.000,1,-999.0000,1,  -999.00,9,   -999.0,1,-999.000,9,   -999.0,9,   -999.0,9,  -999.00,9, 8958.0,-999.0000,-999.000,-999.000,  4.9144,-999.000
   318MWESTW_5,  P21W,   266,  1,      6, SI9427,2,19940616,1753,-21.7195, 162.1833, 1655,    996.9,   4.3867,  34.4857,2,  34.4856,2,    172.6,2,    171.4,2,    56.57,2,    31.70,2,     0.00,2,     2.23,2, -999.000,9, -999.000,9, -999.000,1,-999.0000,1,  -999.00,9,   -999.0,1,-999.000,9,   -999.0,9,   -999.0,9,  -999.00,9, 9976.3,-999.0000,-999.000,-999.000,  4.3084,-999.000
   318MWESTW_5,  P21W,   266,  1,      5, SI9405,2,19940616,1753,-21.7195, 162.1833, 1655,   1099.7,   3.9460,  34.5158,2,  34.5150,2,    166.1,2,    167.0,2,    67.54,2,    32.69,2,     0.00,2,     2.29,2,    0.026,2,    0.017,2, -999.000,1,-999.0000,1,  -999.00,9,   -999.0,1,-999.000,9,   -999.0,9,   -999.0,9,  -999.00,9,10998.1,-999.0000,-999.000,-999.000,  3.8624,-999.000
   318MWESTW_5,  P21W,   266,  1,      4, SI9404,2,19940616,1753,-21.7195, 162.1833, 1655,   1301.3,   3.4479,  34.5512,2,  34.5506,2,    156.9,2,    157.0,2,    80.83,2,    33.90,2,     0.00,2,     2.39,2,    0.008,2,    0.003,2, -999.000,1,-999.0000,1,  -999.00,9,   -999.0,1,-999.000,9,   -999.0,9,   -999.0,9,  -999.00,9,13001.9,-999.0000,-999.000,-999.000,  3.3519,-999.000
   318MWESTW_5,  P21W,   266,  1,      3, SI9403,2,19940616,1753,-21.7195, 162.1833, 1655,   1494.0,   3.0179,  34.5855,2,  34.5857,2,    152.3,2,    152.8,2,    92.24,2,    34.59,2,     0.00,2,     2.43,2,    0.001,2,    0.000,2, -999.000,1,-999.0000,1,  -999.00,9,   -999.0,1,-999.000,9,   -999.0,9,   -999.0,9,  -999.00,9,14916.7,-999.0000,-999.000,-999.000,  2.9103,-999.000
   318MWESTW_5,  P21W,   266,  1,      2, SI9437,2,19940616,1753,-21.7195, 162.1833, 1655,   1616.9,   2.8446,  34.6011,2,  34.6011,2,    149.7,2,    151.9,2,    96.49,2,    34.69,2,     0.00,2,     2.45,2, -999.000,9, -999.000,9, -999.000,1,-999.0000,1,  -999.00,9,   -999.0,1,-999.000,9,   -999.0,9,   -999.0,9,  -999.00,9,16138.1,-999.0000,-999.000,-999.000,  2.7288,-999.000
   318MWESTW_5,  P21W,   266,  1,      1, SI9401,2,19940616,1753,-21.7195, 162.1833, 1655,   1657.7,   2.8489,  34.6011,2,  34.6018,2,    150.9,2,    151.1,2,    96.53,2,    34.58,2,     0.00,2,     2.45,2,    0.000,2,    0.001,2, -999.000,1,-999.0000,1,  -999.00,9,   -999.0,1,-999.000,9,   -999.0,9,   -999.0,9,  -999.00,9,16543.4,-999.0000,-999.000,-999.000,  2.7296,-999.000
   318MWESTW_5,  P21W,   267,  1,     22, SI9418,2,19940616,2300,-21.9667, 161.5500, 1625,      3.5,  22.5620,  35.7090,2,  35.7114,2,    218.3,2,    218.4,2,     0.36,2,     0.01,2,     0.00,2,     0.08,2,    1.979,2,    1.081,2,    0.857,2,   1.6995,2,    -1.65,2,   -999.0,1,   6.824,2,   1993.1,2,   2334.0,2,     8.08,2,   94.6,  0.0085,   0.080,   0.034, 22.5613,   0.008
   318MWESTW_5,  P21W,   267,  1,     21, SI9421,2,19940616,2300,-21.9667, 161.5500, 1625,     24.1,  22.5495,  35.7078,2,  35.7094,2,    212.9,2,    215.0,2,     0.39,2,     0.00,2,     0.00,2,     0.08,2, -999.000,9, -999.000,9, -999.000,1,-999.0000,1,  -999.00,9,   -999.0,1,-999.000,9,   1992.2,2,   2335.5,2,     8.09,2,  300.1,-999.0000,-999.000,-999.000, 22.5446,-999.000
   318MWESTW_5,  P21W,   267,  1,     20, SI9420,2,19940616,2300,-21.9667, 161.5500, 1625,     43.9,  22.5529,  35.7086,2,  35.7104,2,    213.8,2,    214.9,2,     0.43,2,     0.00,2,     0.00,2,     0.07,2,    2.003,2,    1.075,2,    0.854,2,   1.7092,2,    -1.51,2,   -999.0,1,   6.854,2,   1992.7,2,   2353.4,2,     8.08,2,  497.0,  0.0085,   0.080,   0.034, 22.5440,   0.008
   318MWESTW_5,  P21W,   267,  1,     19, SI9419,2,19940616,2300,-21.9667, 161.5500, 1625,     94.6,  22.2957,  35.7680,2,  35.7701,2,    210.4,2,    217.9,2,     0.46,2,     0.08,2,     0.04,2,     0.11,2,    2.016,2,    1.086,2,    0.820,2,   1.7387,2,    -1.64,2,   -999.0,1,   6.980,2,   2007.6,2,   2346.6,2,     8.06,2, 1001.4,  0.0087,   0.080,   0.035, 22.2768,   0.008
   318MWESTW_5,  P21W,   267,  1,     18, SI9439,2,19940616,2300,-21.9667, 161.5500, 1625,    145.2,  20.2544,  35.7291,2,  35.7306,2,    194.0,2,    197.2,2,     0.78,2,     2.80,2,     0.03,2,     0.31,2,    2.103,2,    1.127,2,    0.786,2,   1.7483,2,    -1.26,2,   -999.0,1,   7.062,2,   2038.4,2,   2338.2,2,     8.01,2, 1505.5,  0.0087,   0.080,   0.035, 20.2272,   0.008
   318MWESTW_5,  P21W,   267,  1,     17, SI9417,2,19940616,2300,-21.9667, 161.5500, 1625,    196.3,  19.0247,  35.6455,2,  35.6425,2,    183.6,2,    196.4,2,     1.25,2,     4.59,2,     0.02,2,     0.44,2, -999.000,9, -999.000,9,    0.716,2,   1.7640,2,    -0.36,2,   -999.0,1,   7.168,2,   2057.1,2,   2329.6,2,     7.97,2, 2014.7,  0.0088,   0.080,   0.036, 18.9895,   0.008
   318MWESTW_5,  P21W,   267,  1,     16, SI9416,2,19940616,2300,-21.9667, 161.5500, 1625,    247.4,  17.6333,  35.5694,2,  35.5626,2,    188.3,2,    191.1,2,     1.57,2,     5.70,2,     0.01,2,     0.52,2,    2.069,6,    1.084,6,    0.721,2,   1.7632,2,    -0.51,2,   -999.0,1,   7.214,2,   2065.8,2,   2343.8,2,     7.95,2, 2522.5,  0.0088,   0.080,   0.036, 17.5912,   0.008
   318MWESTW_5,  P21W,   267,  1,     15, SI9415,2,19940616,2300,-21.9667, 161.5500, 1625,    297.9,  16.4848,  35.5085,2,  35.5044,4,    194.6,2,    198.2,2,     2.04,2,     6.40,2,     0.00,2,     0.57,2,    2.160,2,    1.144,2,    0.656,2,   1.7621,2,    -0.62,2,   -999.0,1,   7.254,2,   2071.8,2,   2340.2,2,     7.93,2, 3025.3,  0.0088,   0.080,   0.036, 16.4364,   0.008
   318MWESTW_5,  P21W,   267,  1,     14, SI9436,2,19940616,2300,-21.9667, 161.5500, 1625,    348.8,  15.0658,  35.3312,2,  35.3222,2,    189.3,2,    191.7,2,     3.09,2,     9.45,2,     0.00,2,     0.76,2,    1.868,2,    0.968,2, -999.000,1,-999.0000,1,  -999.00,9,   -999.0,1,-999.000,9,   2090.5,2,   2313.0,2,     7.88,2, 3531.4,-999.0000,-999.000,-999.000, 15.0124,-999.000
   318MWESTW_5,  P21W,   267,  1,     13, SI9413,2,19940616,2300,-21.9667, 161.5500, 1625,    399.6,  13.4689,  35.1444,2,  35.1291,2,    186.9,2,    185.4,2,     4.13,2,    12.23,2,     0.01,2,     0.94,2, -999.000,9, -999.000,9,    0.556,2,   1.7727,2,     0.37,2,   -999.0,1,   7.360,2,   -999.0,9,   -999.0,9,  -999.00,9, 4037.1,  0.0089,   0.080,   0.037, 13.4121,   0.007
   318MWESTW_5,  P21W,   267,  1,     12, SI9438,2,19940616,2300,-21.9667, 161.5500, 1625,    450.6,  11.5653,  34.9327,2,  34.9300,2,    189.0,2,    194.7,3,     5.77,2,    15.58,2,     0.01,2,     1.14,2,    1.350,2,    0.703,2, -999.000,1,-999.0000,1,  -999.00,9,   -999.0,1,-999.000,9,   2121.6,2,   2306.2,2,     7.79,2, 4544.5,-999.0000,-999.000,-999.000, 11.5073,-999.000
   318MWESTW_5,  P21W,   267,  1,     11, SI9411,2,19940616,2300,-21.9667, 161.5500, 1625,    501.6,  10.5149,  34.8172,2,  34.8110,2,    189.7,2,    203.2,4,     7.25,2,    17.74,2,     0.01,2,     1.28,2, -999.000,9, -999.000,9,    0.290,2,   1.7768,2,     1.26,2,   -999.0,1,   7.520,2,   2129.9,2,   2297.6,2,     7.76,2, 5051.5,  0.0089,   0.080,   0.038, 10.4541,   0.006
   318MWESTW_5,  P21W,   267,  1,     10, SI9412,2,19940616,2300,-21.9667, 161.5500, 1625,    597.8,   8.4157,  34.5960,2,  34.5948,2,    197.6,2,    199.0,2,    10.91,2,    21.84,2,     0.01,2,     1.53,2,    0.766,2,    0.395,2,    0.184,2,   1.7828,2,     1.78,2,   -999.0,1,   7.613,2,   -999.0,9,   -999.0,9,  -999.00,9, 6007.9,  0.0089,   0.080,   0.038,  8.3522,   0.005
   318MWESTW_5,  P21W,   267,  1,      9, SI9410,2,19940616,2300,-21.9667, 161.5500, 1625,    701.0,   7.0428,  34.4967,2,  34.4944,2,    197.3,2,    214.1,4,    18.20,2,    25.18,2,     0.01,2,     1.77,2, -999.000,9, -999.000,9,    0.104,2,-999.0000,1,  -999.00,9,   -999.0,1,-999.000,9,   2161.0,2,   2294.3,2,     7.68,2, 7034.1,-999.0000,-999.000,-999.000,  6.9751,   0.004
   318MWESTW_5,  P21W,   267,  1,      8, SI9422,2,19940616,2300,-21.9667, 161.5500, 1625,    798.1,   6.1055,  34.4543,2,  34.4555,2,    193.2,2,    194.7,2,    26.36,2,    27.47,2,     0.01,2,     1.93,2,    0.259,2,    0.145,2,    0.066,2,   1.8439,2,     4.49,2,   -999.0,1,   7.879,2,   2177.3,2,   2297.8,2,     7.65,2, 7999.6,  0.0092,   0.090,   0.039,  6.0335,   0.005
   318MWESTW_5,  P21W,   267,  1,      7, SI9407,2,19940616,2300,-21.9667, 161.5500, 1625,    895.4,   5.2298,  34.4409,2,  34.4424,2,    185.3,2,    196.1,4,    37.86,2,    29.73,2,     0.00,2,     2.07,2, -999.000,9, -999.000,9, -999.000,1,-999.0000,1,  -999.00,9,   -999.0,1,-999.000,9,   2197.3,2,   2307.3,2,     7.63,2, 8967.3,-999.0000,-999.000,-999.000,  5.1544,-999.000
   318MWESTW_5,  P21W,   267,  1,      6, SI9427,2,19940616,2300,-21.9667, 161.5500, 1625,    996.8,   4.6480,  34.4679,2,  34.4681,2,    177.5,2,    177.1,2,    49.94,2,    31.12,2,     0.01,2,     2.16,2, -999.000,9, -999.000,9,    0.023,2,   1.8374,2,     9.62,2,   -999.0,1,   7.887,2,   2216.6,2,   2322.4,2,     7.61,2, 9975.5,  0.0092,   0.090,   0.039,  4.5677,   0.004
   318MWESTW_5,  P21W,   267,  1,      5, SI9405,2,19940616,2300,-21.9667, 161.5500, 1625,   1094.4,   4.1764,  34.4973,2,  34.4979,2,    169.4,2,    168.6,2,    61.44,2,    32.17,2,     0.01,2,     2.25,2,    0.035,2,    0.020,2, -999.000,1,-999.0000,1,  -999.00,9,   -999.0,1,-999.000,9,   2233.2,2,   2331.8,2,     7.59,2,10944.9,-999.0000,-999.000,-999.000,  4.0914,-999.000
   318MWESTW_5,  P21W,   267,  1,      4, SI9404,2,19940616,2300,-21.9667, 161.5500, 1625,   1192.3,   3.7761,  34.5252,2,  34.5248,2,    163.9,2,    162.7,2,    71.35,2,    33.08,2,     0.00,2,     2.30,2, -999.000,9, -999.000,9,    0.014,2,   1.8706,2,    14.35,2,   -999.0,1,   7.982,2,   2246.9,2,   2346.9,2,     7.58,2,11918.3,  0.0094,   0.090,   0.040,  3.6862,   0.005
   318MWESTW_5,  P21W,   267,  1,      3, SI9403,2,19940616,2300,-21.9667, 161.5500, 1625,   1406.9,   3.0850,  34.5783,2,  34.5785,2,    153.5,2,    165.9,4,    90.12,2,    34.47,2,     0.01,2,     2.41,2,    0.002,2,    0.002,2,   -0.001,2,   1.8811,2,    18.08,2,   -999.0,1,   8.022,2,   2272.7,2,   2364.1,2,     7.56,2,14051.4,  0.0094,   0.100,   0.040,  2.9839,   0.004
   318MWESTW_5,  P21W,   267,  1,      2, SI9437,2,19940616,2300,-21.9667, 161.5500, 1625,   1569.5,   2.9347,  34.5917,2,  34.5924,2,    150.6,2,    169.0,4,    94.51,2,    34.76,2,     0.01,2,     2.42,2, -999.000,9, -999.000,9, -999.000,1,-999.0000,1,  -999.00,9,   -999.0,1,-999.000,9,   2277.5,2,   2373.8,2,     7.56,2,15667.1,-999.0000,-999.000,-999.000,  2.8218,-999.000
   318MWESTW_5,  P21W,   267,  1,      1, SI9401,2,19940616,2300,-21.9667, 161.5500, 1625,   1612.9,   2.8125,  34.6012,2,  34.6016,2,    150.9,2,    151.6,2,    97.18,2,    34.77,2,     0.00,2,     2.44,2,    0.001,2,    0.000,2,   -0.003,2,   1.8832,2,    18.64,2,   -999.0,1,   8.027,2,   2280.9,2,   2371.8,2,     7.56,2,16097.8,  0.0094,   0.100,   0.040,  2.6974,   0.004