BOTTLE,20010911WHPSIOdm
EXPOCODE,SECT_ID,STNNBR,CASTNO,SAMPNO,BTLNBR,BTLNBR_FLAG_W,DATE,TIME,LATITUDE,LONGITUDE,DEPTH,CTDPRS,CTDTMP,CTDSAL,CTDSAL_FLAG_W,SALNTY,SALNTY_FLAG_W,CTDOXY,CTDOXY_FLAG_W,OXYGEN,OXYGEN_FLAG_W,SILCAT,SILCAT_FLAG_W,NITRAT,NITRAT_FLAG_W,NITRIT,NITRIT_FLAG_W,PHSPHT,PHSPHT_FLAG_W,CFC-11,CFC-11_FLAG_W,CFC-12,CFC-12_FLAG_W,TRITUM,TRITUM_FLAG_W,HELIUM,HELIUM_FLAG_W,DELHE3,DELHE3_FLAG_W,DELC14,DELC14_FLAG_W,NEON,NEON_FLAG_W,TCARBN,TCARBN_FLAG_W,ALKALI,ALKALI_FLAG_W,PH,PH_FLAG_W,CTDRAW,HELIER,DELHER,NEONER,THETA,TRITER
,,,,,,,,,,,,DBAR,ITS-90,PSS-78,,PSS-78,,UMOL/KG,,UMOL/KG,,UMOL/KG,,UMOL/KG,,UMOL/KG,,UMOL/KG,,PMOL/KG,,PMOL/KG,,TU,,UMOL/KG,,PERCNT,,/MILLE,,NMOL/KG,,UMOL/KG,,UMOL/KG,,,,,NMOL/KG,PERCNT,NMOL/KG,ITS-90,TU
   318MWESTW_5,  P21W,   187,  1,     11, SI9411,2,19940528,0652,-17.5000,-164.3305, 5500,      9.2,  28.3012,  35.0939,2,  35.0947,2,    210.7,2,    203.2,2,     0.60,2,     0.00,2,     0.00,2,     0.17,2,    1.597,2,    0.917,2, -999.000,1,-999.0000,1,  -999.00,9,   -999.0,1,-999.000,9,   -999.0,9,   -999.0,9,  -999.00,9,  150.2,-999.0000,-999.000,-999.000, 28.2990,-999.000
   318MWESTW_5,  P21W,   187,  1,     10, SI9412,2,19940528,0652,-17.5000,-164.3305, 5500,     19.5,  28.2945,  35.0909,2,  35.0915,2,    205.6,2,    204.3,2,     0.60,2,     0.00,2,     0.00,2,     0.17,2, -999.000,9, -999.000,9, -999.000,1,-999.0000,1,  -999.00,9,   -999.0,1,-999.000,9,   -999.0,9,   -999.0,9,  -999.00,9,  253.4,-999.0000,-999.000,-999.000, 28.2899,-999.000
   318MWESTW_5,  P21W,   187,  1,      9, SI9410,2,19940528,0652,-17.5000,-164.3305, 5500,     44.7,  27.5981,  35.6169,2,  35.6287,2,    199.1,2,    215.1,2,     0.61,2,     0.00,2,     0.00,2,     0.17,2,    1.716,2,    0.968,2, -999.000,1,-999.0000,1,  -999.00,9,   -999.0,1,-999.000,9,   -999.0,9,   -999.0,9,  -999.00,9,  504.2,-999.0000,-999.000,-999.000, 27.5877,-999.000
   318MWESTW_5,  P21W,   187,  1,      8, SI9422,2,19940528,0652,-17.5000,-164.3305, 5500,     70.8,  26.4980,  35.9013,2,  35.8989,2,    216.9,2,    215.6,2,     0.62,2,     0.00,2,     0.00,2,     0.19,2, -999.000,9, -999.000,9, -999.000,1,-999.0000,1,  -999.00,9,   -999.0,1,-999.000,9,   -999.0,9,   -999.0,9,  -999.00,9,  764.8,-999.0000,-999.000,-999.000, 26.4819,-999.000
   318MWESTW_5,  P21W,   187,  1,      7, SI9407,2,19940528,0652,-17.5000,-164.3305, 5500,     95.9,  25.3072,  35.9512,2,  35.9544,2,    211.8,2,    211.4,2,     0.46,2,     0.00,2,     0.00,2,     0.21,2,    1.812,2,    1.002,2, -999.000,1,-999.0000,1,  -999.00,9,   -999.0,1,-999.000,9,   -999.0,9,   -999.0,9,  -999.00,9, 1015.4,-999.0000,-999.000,-999.000, 25.2861,-999.000
   318MWESTW_5,  P21W,   187,  1,      6, SI9427,2,19940528,0652,-17.5000,-164.3305, 5500,    125.9,  23.9038,  35.9618,2,  35.9552,2,    198.1,2,    192.2,2,     0.62,2,    -0.01,2,     0.01,2,     0.25,2, -999.000,9, -999.000,9, -999.000,1,-999.0000,1,  -999.00,9,   -999.0,1,-999.000,9,   -999.0,9,   -999.0,9,  -999.00,9, 1314.9,-999.0000,-999.000,-999.000, 23.8773,-999.000
   318MWESTW_5,  P21W,   187,  1,      5, SI9405,2,19940528,0652,-17.5000,-164.3305, 5500,    151.3,  23.3360,  35.9428,2,  35.9390,2,    185.4,2,    192.9,2,     0.62,2,     0.38,2,     0.17,2,     0.28,2, -999.000,9, -999.000,9, -999.000,1,-999.0000,1,  -999.00,9,   -999.0,1,-999.000,9,   -999.0,9,   -999.0,9,  -999.00,9, 1567.7,-999.0000,-999.000,-999.000, 23.3046,-999.000
   318MWESTW_5,  P21W,   187,  1,      4, SI9404,2,19940528,0652,-17.5000,-164.3305, 5500,    200.9,  22.0072,  35.9275,2,  35.9251,2,    165.2,2,    175.9,2,     0.63,2,     2.97,2,     0.02,2,     0.42,2,    1.868,2,    1.008,2, -999.000,1,-999.0000,1,  -999.00,9,   -999.0,1,-999.000,9,   -999.0,9,   -999.0,9,  -999.00,9, 2062.2,-999.0000,-999.000,-999.000, 21.9672,-999.000
   318MWESTW_5,  P21W,   187,  1,      3, SI9403,2,19940528,0652,-17.5000,-164.3305, 5500,    303.1,  17.1716,  35.4072,2,  35.4011,2,    163.5,2,    170.9,2,     2.39,2,     7.24,2,     0.01,2,     0.71,2,    1.633,2,    0.858,2, -999.000,1,-999.0000,1,  -999.00,9,   -999.0,1,-999.000,9,   -999.0,9,   -999.0,9,  -999.00,9, 3079.5,-999.0000,-999.000,-999.000, 17.1209,-999.000
   318MWESTW_5,  P21W,   187,  1,      2, SI9437,2,19940528,0652,-17.5000,-164.3305, 5500,    396.4,  12.0929,  34.8538,2,  34.8672,2,    175.8,2,    172.1,2,     5.75,2,    14.97,2,     0.02,2,     1.20,2,    1.060,2,    0.550,2, -999.000,1,-999.0000,1,  -999.00,9,   -999.0,1,-999.000,9,   -999.0,9,   -999.0,9,  -999.00,9, 4008.0,-999.0000,-999.000,-999.000, 12.0406,-999.000
   318MWESTW_5,  P21W,   187,  1,      1, SI9401,2,19940528,0652,-17.5000,-164.3305, 5500,    494.6,   8.2895,  34.5067,2,  34.5036,2,    165.2,2,    167.9,2,    13.90,2,    24.71,2,     0.01,2,     1.81,2,    0.429,2,    0.230,2, -999.000,1,-999.0000,1,  -999.00,9,   -999.0,1,-999.000,9,   -999.0,9,   -999.0,9,  -999.00,9, 4984.9,-999.0000,-999.000,-999.000,  8.2378,-999.000
   318MWESTW_5,  P21W,   187,  1,     36, SI9442,2,19940528,0652,-17.5000,-164.3305, 5500,    597.4,   6.4041,  34.4038,2,  34.4014,2,    178.4,2,    177.4,2,    21.09,2,    28.62,2,     0.00,2,     2.02,2,    0.174,2,    0.105,2, -999.000,1,-999.0000,1,  -999.00,9,   -999.0,1,-999.000,9,   -999.0,9,   -999.0,9,  -999.00,9, 6006.6,-999.0000,-999.000,-999.000,  6.3498,-999.000
   318MWESTW_5,  P21W,   187,  1,     35, SI9435,2,19940528,0652,-17.5000,-164.3305, 5500,    697.2,   5.4192,  34.3980,2,  34.3980,2,    178.6,2,    169.3,2,    32.11,2,    31.31,2,     0.00,2,     2.19,2,    0.051,2,    0.037,2, -999.000,1,-999.0000,1,  -999.00,9,   -999.0,1,-999.000,9,   -999.0,9,   -999.0,9,  -999.00,9, 6999.2,-999.0000,-999.000,-999.000,  5.3605,-999.000
   318MWESTW_5,  P21W,   187,  1,     34, SI9441,2,19940528,0652,-17.5000,-164.3305, 5500,    802.9,   4.7618,  34.4359,2,  34.4355,2,    161.1,2,    157.8,2,    46.32,2,    33.36,2,     0.00,2,     2.33,2,    0.012,2,    0.007,2, -999.000,1,-999.0000,1,  -999.00,9,   -999.0,1,-999.000,9,   -999.0,9,   -999.0,9,  -999.00,9, 8050.1,-999.0000,-999.000,-999.000,  4.6976,-999.000
   318MWESTW_5,  P21W,   187,  1,     33, SI9433,2,19940528,0652,-17.5000,-164.3305, 5500,    900.8,   4.2008,  34.4630,2,  34.4618,2,    156.6,2,    155.2,2,    57.49,2,    34.35,2,     0.00,2,     2.40,2,    0.005,2,    0.003,2, -999.000,1,-999.0000,1,  -999.00,9,   -999.0,1,-999.000,9,   -999.0,9,   -999.0,9,  -999.00,9, 9023.5,-999.0000,-999.000,-999.000,  4.1320,-999.000
   318MWESTW_5,  P21W,   187,  1,     32, SI9432,2,19940528,0652,-17.5000,-164.3305, 5500,    996.6,   3.7237,  34.4926,2,  34.4919,2,    153.9,2,    151.9,2,    68.66,2,    34.93,2,     0.01,2,     2.44,2,    0.003,2,    0.003,2, -999.000,1,-999.0000,1,  -999.00,9,   -999.0,1,-999.000,9,   -999.0,9,   -999.0,9,  -999.00,9, 9976.4,-999.0000,-999.000,-999.000,  3.6505,-999.000
   318MWESTW_5,  P21W,   187,  1,     31, SI9431,2,19940528,0652,-17.5000,-164.3305, 5500,   1249.6,   3.1002,  34.5514,2,  34.5518,2,    147.1,2,    146.3,2,    87.81,2,    35.77,2,     0.01,2,     2.51,2,    0.001,2,    0.001,2, -999.000,1,-999.0000,1,  -999.00,9,   -999.0,1,-999.000,9,   -999.0,9,   -999.0,9,  -999.00,9,12491.1,-999.0000,-999.000,-999.000,  3.0119,-999.000
   318MWESTW_5,  P21W,   187,  1,     30, SI9440,2,19940528,0652,-17.5000,-164.3305, 5500,   1500.5,   2.7019,  34.5860,2,  34.5869,2,    146.1,2,    146.4,2,    99.77,2,    35.86,2,     0.00,2,     2.52,2, -999.000,9, -999.000,9, -999.000,1,-999.0000,1,  -999.00,9,   -999.0,1,-999.000,9,   -999.0,9,   -999.0,9,  -999.00,9,14986.1,-999.0000,-999.000,-999.000,  2.5974,-999.000
   318MWESTW_5,  P21W,   187,  1,     29, SI9429,2,19940528,0652,-17.5000,-164.3305, 5500,   1730.6,   2.4693,  34.6084,2,  34.6083,2,    146.6,2,    146.9,2,   107.59,2,    35.91,2,     0.00,2,     2.51,2, -999.000,9, -999.000,9, -999.000,1,-999.0000,1,  -999.00,9,   -999.0,1,-999.000,9,   -999.0,9,   -999.0,9,  -999.00,9,17273.9,-999.0000,-999.000,-999.000,  2.3487,-999.000
   318MWESTW_5,  P21W,   187,  1,     28, SI9428,2,19940528,0652,-17.5000,-164.3305, 5500,   1999.5,   2.2424,  34.6289,2,  34.6291,2,    147.5,2,    147.0,2,   115.09,2,    35.92,2,     0.00,2,     2.51,2, -999.000,9, -999.000,9, -999.000,1,-999.0000,1,  -999.00,9,   -999.0,1,-999.000,9,   -999.0,9,   -999.0,9,  -999.00,9,19946.6,-999.0000,-999.000,-999.000,  2.1023,-999.000
   318MWESTW_5,  P21W,   187,  1,     27, SI9424,2,19940528,0652,-17.5000,-164.3305, 5500,   2252.0,   2.0525,  34.6442,2,  34.6453,2,    150.6,2,    150.0,2,   119.55,2,    35.76,2,     0.00,2,     2.50,2,    0.001,2,    0.014,2, -999.000,1,-999.0000,1,  -999.00,9,   -999.0,1,-999.000,9,   -999.0,9,   -999.0,9,  -999.00,9,22457.2,-999.0000,-999.000,-999.000,  1.8935,-999.000
   318MWESTW_5,  P21W,   187,  1,     26, SI9414,2,19940528,0652,-17.5000,-164.3305, 5500,   2504.6,   1.9100,  34.6573,2,  34.6582,2,    153.0,2,    152.0,2,   123.85,2,    35.73,2,     0.01,2,     2.49,2, -999.000,9, -999.000,9, -999.000,1,-999.0000,1,  -999.00,9,   -999.0,1,-999.000,9,   -999.0,9,   -999.0,9,  -999.00,9,24968.9,-999.0000,-999.000,-999.000,  1.7310,-999.000
   318MWESTW_5,  P21W,   187,  1,     25, SI9425,2,19940528,0652,-17.5000,-164.3305, 5500,   2758.0,   1.8006,  34.6656,2,  34.6661,2,    155.9,2,    155.4,2,   126.59,2,    35.56,2,     0.01,2,     2.49,2,   -0.001,2,    0.001,2, -999.000,1,-999.0000,1,  -999.00,9,   -999.0,1,-999.000,9,   -999.0,9,   -999.0,9,  -999.00,9,27487.3,-999.0000,-999.000,-999.000,  1.6003,-999.000
   318MWESTW_5,  P21W,   187,  1,     24, SI9434,2,19940528,0652,-17.5000,-164.3305, 5500,   3010.0,   1.7135,  34.6730,2,  35.9427,4,    159.1,2,    201.3,4,     1.77,4,     0.28,4,     0.01,4,     0.23,4, -999.000,9, -999.000,9, -999.000,1,-999.0000,1,  -999.00,9,   -999.0,1,-999.000,9,   -999.0,9,   -999.0,9,  -999.00,9,29992.5,-999.0000,-999.000,-999.000,  1.4911,-999.000
   318MWESTW_5,  P21W,   187,  1,     23, SI9423,2,19940528,0652,-17.5000,-164.3305, 5500,   3266.3,   1.6357,  34.6788,2,  34.6793,2,    164.7,2,    163.7,2,   127.36,2,    34.89,2,     0.00,2,     2.43,2, -999.000,9, -999.000,9, -999.000,1,-999.0000,1,  -999.00,9,   -999.0,1,-999.000,9,   -999.0,9,   -999.0,9,  -999.00,9,32541.5,-999.0000,-999.000,-999.000,  1.3898,-999.000
   318MWESTW_5,  P21W,   187,  1,     22, SI9418,2,19940528,0652,-17.5000,-164.3305, 5500,   3513.3,   1.5652,  34.6844,2,  34.6850,2,    169.0,2,    167.3,2,   127.99,2,    34.69,2,     0.00,2,     2.41,2, -999.000,9, -999.000,9, -999.000,1,-999.0000,1,  -999.00,9,   -999.0,1,-999.000,9,   -999.0,9,   -999.0,9,  -999.00,9,34996.3,-999.0000,-999.000,-999.000,  1.2960,-999.000
   318MWESTW_5,  P21W,   187,  1,     21, SI9421,2,19940528,0652,-17.5000,-164.3305, 5500,   3763.5,   1.4802,  34.6925,2,  34.6928,2,    176.8,2,    174.9,2,   125.92,2,    34.11,2,     0.01,2,     2.38,2,    0.001,2,   -0.001,2, -999.000,1,-999.0000,1,  -999.00,9,   -999.0,1,-999.000,9,   -999.0,9,   -999.0,9,  -999.00,9,37484.1,-999.0000,-999.000,-999.000,  1.1872,-999.000
   318MWESTW_5,  P21W,   187,  1,     20, SI9420,2,19940528,0652,-17.5000,-164.3305, 5500,   4002.8,   1.3794,  34.7006,2,  34.7013,2,    185.2,2,    184.7,2,   122.09,2,    33.43,2,     0.00,2,     2.32,2,    0.000,2,    0.001,2, -999.000,1,-999.0000,1,  -999.00,9,   -999.0,1,-999.000,9,   -999.0,9,   -999.0,9,  -999.00,9,39863.3,-999.0000,-999.000,-999.000,  1.0635,-999.000
   318MWESTW_5,  P21W,   187,  1,     19, SI9419,2,19940528,0652,-17.5000,-164.3305, 5500,   4251.2,   1.2726,  34.7070,2,  34.7068,2,    194.5,2,    194.7,2,   119.38,2,    32.81,2,     0.00,2,     2.28,2,    0.000,2,    0.002,2, -999.000,1,-999.0000,1,  -999.00,9,   -999.0,1,-999.000,9,   -999.0,9,   -999.0,9,  -999.00,9,42332.7,-999.0000,-999.000,-999.000,  0.9326,-999.000
   318MWESTW_5,  P21W,   187,  1,     18, SI9439,2,19940528,0652,-17.5000,-164.3305, 5500,   4490.2,   1.1748,  34.7096,2,  34.7093,2,    201.2,2,    201.0,2,   118.90,2,    32.41,2,     0.00,2,     2.25,2,    0.000,2,    0.002,2, -999.000,1,-999.0000,1,  -999.00,9,   -999.0,1,-999.000,9,   -999.0,9,   -999.0,9,  -999.00,9,44708.5,-999.0000,-999.000,-999.000,  0.8109,-999.000
   318MWESTW_5,  P21W,   187,  1,     17, SI9417,2,19940528,0652,-17.5000,-164.3305, 5500,   4742.2,   1.1298,  34.7097,2,  34.7105,2,    205.2,2,    204.9,2,   119.21,2,    32.18,2,     0.00,2,     2.22,2,    0.001,2,    0.000,2, -999.000,1,-999.0000,1,  -999.00,9,   -999.0,1,-999.000,9,   -999.0,9,   -999.0,9,  -999.00,9,47213.5,-999.0000,-999.000,-999.000,  0.7384,-999.000
   318MWESTW_5,  P21W,   187,  1,     16, SI9416,2,19940528,0652,-17.5000,-164.3305, 5500,   4991.2,   1.1091,  34.7093,2,  34.7105,2,    207.2,2,    206.4,2,   119.37,2,    32.10,2,     0.00,2,     2.22,2,    0.001,2,    0.000,2, -999.000,1,-999.0000,1,  -999.00,9,   -999.0,1,-999.000,9,   -999.0,9,   -999.0,9,  -999.00,9,49689.5,-999.0000,-999.000,-999.000,  0.6890,-999.000
   318MWESTW_5,  P21W,   187,  1,     15, SI9415,2,19940528,0652,-17.5000,-164.3305, 5500,   5232.5,   1.1146,  34.7103,2,  34.7117,2,    209.1,2,    207.5,2,   119.37,2,    32.06,2,     0.01,2,     2.22,2,    0.002,6,    0.002,6, -999.000,1,-999.0000,1,  -999.00,9,   -999.0,1,-999.000,9,   -999.0,9,   -999.0,9,  -999.00,9,52087.9,-999.0000,-999.000,-999.000,  0.6651,-999.000
   318MWESTW_5,  P21W,   187,  1,     14, SI9436,2,19940528,0652,-17.5000,-164.3305, 5500,   5483.2,   1.1343,  34.7094,2,  34.7117,2,    210.6,2,    208.0,2,   119.53,2,    32.11,2,     0.01,2,     2.22,2,    0.002,2,    0.001,2, -999.000,1,-999.0000,1,  -999.00,9,   -999.0,1,-999.000,9,   -999.0,9,   -999.0,9,  -999.00,9,54580.4,-999.0000,-999.000,-999.000,  0.6531,-999.000
   318MWESTW_5,  P21W,   187,  1,     13, SI9413,2,19940528,0652,-17.5000,-164.3305, 5500,   5639.8,   1.1517,  34.7097,2,  34.7107,2,    209.5,2,    208.2,2,   119.68,2,    32.12,2,     0.01,2,     2.23,2,    0.002,2,    0.005,2, -999.000,1,-999.0000,1,  -999.00,9,   -999.0,1,-999.000,9,   -999.0,9,   -999.0,9,  -999.00,9,56137.6,-999.0000,-999.000,-999.000,  0.6500,-999.000
   318MWESTW_5,  P21W,   187,  1,     12, SI9438,2,19940528,0652,-17.5000,-164.3305, 5500,   5684.2,   1.1576,  34.7090,2,  34.7109,2,    209.9,2,    208.0,2,   119.71,2,    32.13,2,     0.00,2,     2.23,2,    0.003,2,    0.003,2, -999.000,1,-999.0000,1,  -999.00,9,   -999.0,1,-999.000,9,   -999.0,9,   -999.0,9,  -999.00,9,56578.9,-999.0000,-999.000,-999.000,  0.6500,-999.000