BOTTLE,20010911WHPSIOdm
EXPOCODE,SECT_ID,STNNBR,CASTNO,SAMPNO,BTLNBR,BTLNBR_FLAG_W,DATE,TIME,LATITUDE,LONGITUDE,DEPTH,CTDPRS,CTDTMP,CTDSAL,CTDSAL_FLAG_W,SALNTY,SALNTY_FLAG_W,CTDOXY,CTDOXY_FLAG_W,OXYGEN,OXYGEN_FLAG_W,SILCAT,SILCAT_FLAG_W,NITRAT,NITRAT_FLAG_W,NITRIT,NITRIT_FLAG_W,PHSPHT,PHSPHT_FLAG_W,CFC-11,CFC-11_FLAG_W,CFC-12,CFC-12_FLAG_W,TRITUM,TRITUM_FLAG_W,HELIUM,HELIUM_FLAG_W,DELHE3,DELHE3_FLAG_W,DELC14,DELC14_FLAG_W,NEON,NEON_FLAG_W,TCARBN,TCARBN_FLAG_W,ALKALI,ALKALI_FLAG_W,PH,PH_FLAG_W,CTDRAW,HELIER,DELHER,NEONER,THETA,TRITER
,,,,,,,,,,,,DBAR,ITS-90,PSS-78,,PSS-78,,UMOL/KG,,UMOL/KG,,UMOL/KG,,UMOL/KG,,UMOL/KG,,UMOL/KG,,PMOL/KG,,PMOL/KG,,TU,,UMOL/KG,,PERCNT,,/MILLE,,NMOL/KG,,UMOL/KG,,UMOL/KG,,,,,NMOL/KG,PERCNT,NMOL/KG,ITS-90,TU
   318MWESTW_5,  P21W,   220,  1,     23, SI9423,2,19940606,1208,-18.7500, 178.0667, 2160,      6.5,  25.3759,  34.9239,2,  34.9215,2,    215.2,2,    211.4,2,     0.92,2,    -0.03,2,     0.03,2,     0.13,2, -999.000,9, -999.000,9, -999.000,1,-999.0000,1,  -999.00,9,   -999.0,1,-999.000,9,   -999.0,9,   -999.0,9,  -999.00,9,  124.0,-999.0000,-999.000,-999.000, 25.3745,-999.000
   318MWESTW_5,  P21W,   220,  1,     22, SI9418,2,19940606,1208,-18.7500, 178.0667, 2160,     19.8,  25.3751,  34.9243,2,  34.9227,2,    214.3,2,    210.5,2,     0.92,2,    -0.02,2,     0.02,2,     0.12,2, -999.000,9, -999.000,9, -999.000,1,-999.0000,1,  -999.00,9,   -999.0,1,-999.000,9,   1934.3,2,   2291.4,2,     8.12,2,  257.1,-999.0000,-999.000,-999.000, 25.3708,-999.000
   318MWESTW_5,  P21W,   220,  1,     21, SI9421,2,19940606,1208,-18.7500, 178.0667, 2160,     44.5,  25.3793,  34.9298,2,  34.9402,2,    206.6,2,    214.6,2,     0.93,2,     0.03,2,     0.02,2,     0.12,2, -999.000,9, -999.000,9, -999.000,1,-999.0000,1,  -999.00,9,   -999.0,1,-999.000,9,   1935.9,2,   2293.1,2,     8.11,2,  502.9,-999.0000,-999.000,-999.000, 25.3696,-999.000
   318MWESTW_5,  P21W,   220,  1,     20, SI9420,2,19940606,1208,-18.7500, 178.0667, 2160,     95.5,  23.6540,  35.6564,2,  35.6579,2,    190.1,2,    197.5,2,     1.07,2,     0.89,2,     0.18,2,     0.25,2, -999.000,9, -999.000,9, -999.000,1,-999.0000,1,  -999.00,9,   -999.0,1,-999.000,9,   2009.0,2,   2339.4,2,     8.11,2, 1011.1,-999.0000,-999.000,-999.000, 23.6341,-999.000
   318MWESTW_5,  P21W,   220,  1,     19, SI9419,2,19940606,1208,-18.7500, 178.0667, 2160,    146.0,  21.3646,  35.7590,2,  35.7592,2,    179.4,2,    186.7,2,     1.08,2,     2.79,2,     0.03,2,     0.35,2, -999.000,9, -999.000,9, -999.000,1,-999.0000,1,  -999.00,9,   -999.0,1,-999.000,9,   2041.6,2,   2376.0,2,     8.06,2, 1514.0,-999.0000,-999.000,-999.000, 21.3362,-999.000
   318MWESTW_5,  P21W,   220,  1,     18, SI9439,2,19940606,1208,-18.7500, 178.0667, 2160,    196.5,  19.8671,  35.7176,2,  35.7152,2,    186.1,2,    187.7,2,     1.23,2,     3.25,2,     0.03,2,     0.37,2, -999.000,9, -999.000,9, -999.000,1,-999.0000,1,  -999.00,9,   -999.0,1,-999.000,9,   2048.8,2,   2338.6,2,     8.01,2, 2017.1,-999.0000,-999.000,-999.000, 19.8308,-999.000
   318MWESTW_5,  P21W,   220,  1,     17, SI9417,2,19940606,1208,-18.7500, 178.0667, 2160,    247.3,  18.8953,  35.6725,2,  35.6688,2,    189.0,2,    191.5,2,     1.24,2,     3.62,2,     0.04,2,     0.40,2, -999.000,9, -999.000,9, -999.000,1,-999.0000,1,  -999.00,9,   -999.0,1,-999.000,9,   2055.5,2,   2342.7,2,     7.99,2, 2522.2,-999.0000,-999.000,-999.000, 18.8511,-999.000
   318MWESTW_5,  P21W,   220,  1,     16, SI9416,2,19940606,1208,-18.7500, 178.0667, 2160,    297.4,  16.9749,  35.4906,2,  35.4868,2,    185.2,2,    188.4,2,     1.99,2,     5.97,2,     0.04,2,     0.58,2, -999.000,9, -999.000,9, -999.000,1,-999.0000,1,  -999.00,9,   -999.0,1,-999.000,9,   -999.0,9,   -999.0,9,  -999.00,9, 3021.0,-999.0000,-999.000,-999.000, 16.9256,-999.000
   318MWESTW_5,  P21W,   220,  1,     15, SI9415,2,19940606,1208,-18.7500, 178.0667, 2160,    345.3,  15.3663,  35.3249,2,  35.3161,2,    187.4,2,    186.5,2,     2.89,2,     8.51,2,     0.03,2,     0.75,2, -999.000,9, -999.000,9, -999.000,1,-999.0000,1,  -999.00,9,   -999.0,1,-999.000,9,   2088.0,2,   2319.7,2,     7.92,2, 3497.7,-999.0000,-999.000,-999.000, 15.3128,-999.000
   318MWESTW_5,  P21W,   220,  1,     14, SI9436,2,19940606,1208,-18.7500, 178.0667, 2160,    399.7,  13.3100,  35.1021,2,  35.1016,2,    190.1,2,    186.1,2,     4.25,2,    11.84,2,     0.02,2,     0.96,2, -999.000,9, -999.000,9, -999.000,1,-999.0000,1,  -999.00,9,   -999.0,1,-999.000,9,   2105.9,2,   2320.5,2,     7.88,2, 4039.1,-999.0000,-999.000,-999.000, 13.2537,-999.000
   318MWESTW_5,  P21W,   220,  1,     13, SI9413,2,19940606,1208,-18.7500, 178.0667, 2160,    495.4,   9.7073,  34.6812,2,  34.6794,2,    188.9,2,    189.9,2,     8.45,2,    19.16,2,     0.02,2,     1.42,2, -999.000,9, -999.000,9, -999.000,1,-999.0000,1,  -999.00,9,   -999.0,1,-999.000,9,   2132.5,2,   2322.6,2,     7.83,2, 4990.6,-999.0000,-999.000,-999.000,  9.6502,-999.000
   318MWESTW_5,  P21W,   220,  1,     12, SI9438,2,19940606,1208,-18.7500, 178.0667, 2160,    602.2,   7.3459,  34.4662,2,  34.4638,2,    198.2,2,    199.2,2,    13.56,2,    24.19,2,     0.02,2,     1.73,2, -999.000,9, -999.000,9, -999.000,1,-999.0000,1,  -999.00,9,   -999.0,1,-999.000,9,   2151.3,2,   2287.4,2,     7.74,2, 6052.6,-999.0000,-999.000,-999.000,  7.2868,-999.000
   318MWESTW_5,  P21W,   220,  1,     11, SI9411,2,19940606,1208,-18.7500, 178.0667, 2160,    699.4,   6.0446,  34.3959,2,  34.3953,2,    195.5,2,    197.1,2,    21.36,2,    27.50,2,     0.02,2,     1.94,2, -999.000,9, -999.000,9, -999.000,1,-999.0000,1,  -999.00,9,   -999.0,1,-999.000,9,   2169.4,2,   2291.4,2,     7.68,2, 7019.9,-999.0000,-999.000,-999.000,  5.9824,-999.000
   318MWESTW_5,  P21W,   220,  1,     10, SI9412,2,19940606,1208,-18.7500, 178.0667, 2160,    795.8,   5.3748,  34.4064,2,  34.4035,2,    183.8,2,    183.0,2,    32.92,2,    29.92,2,     0.03,2,     2.12,2, -999.000,9, -999.000,9, -999.000,1,-999.0000,1,  -999.00,9,   -999.0,1,-999.000,9,   2192.5,2,   2303.3,2,     7.65,2, 7977.5,-999.0000,-999.000,-999.000,  5.3075,-999.000
   318MWESTW_5,  P21W,   220,  1,      9, SI9410,2,19940606,1208,-18.7500, 178.0667, 2160,    902.3,   4.7058,  34.4320,2,  34.4302,2,    174.5,2,    173.5,2,    45.81,2,    31.64,2,     0.03,2,     2.25,2, -999.000,9, -999.000,9, -999.000,1,-999.0000,1,  -999.00,9,   -999.0,1,-999.000,9,   2212.6,2,   2319.8,2,     7.62,2, 9037.1,-999.0000,-999.000,-999.000,  4.6334,-999.000
   318MWESTW_5,  P21W,   220,  1,      8, SI9422,2,19940606,1208,-18.7500, 178.0667, 2160,    982.8,   4.3030,  34.4567,2,  34.4559,2,    168.2,2,    167.4,2,    55.57,2,    32.56,2,     0.02,2,     2.32,2, -999.000,9, -999.000,9, -999.000,1,-999.0000,1,  -999.00,9,   -999.0,1,-999.000,9,   -999.0,9,   -999.0,9,  -999.00,9, 9837.0,-999.0000,-999.000,-999.000,  4.2266,-999.000
   318MWESTW_5,  P21W,   220,  1,      7, SI9407,2,19940606,1208,-18.7500, 178.0667, 2160,   1097.5,   3.8107,  34.4890,2,  34.4871,2,    159.9,2,    159.9,2,    67.56,2,    33.81,2,     0.02,2,     2.40,2, -999.000,9, -999.000,9, -999.000,1,-999.0000,1,  -999.00,9,   -999.0,1,-999.000,9,   2244.4,2,   2338.3,2,     7.58,2,10977.1,-999.0000,-999.000,-999.000,  3.7285,-999.000
   318MWESTW_5,  P21W,   220,  1,      6, SI9427,2,19940606,1208,-18.7500, 178.0667, 2160,   1299.0,   3.2712,  34.5403,2,  34.5386,2,    151.5,2,    151.9,2,    84.80,2,    34.94,2,     0.00,2,     2.46,2, -999.000,9, -999.000,9, -999.000,1,-999.0000,1,  -999.00,9,   -999.0,1,-999.000,9,   2266.4,2,   2359.6,2,     7.57,2,12981.1,-999.0000,-999.000,-999.000,  3.1772,-999.000
   318MWESTW_5,  P21W,   220,  1,      5, SI9405,2,19940606,1208,-18.7500, 178.0667, 2160,   1499.0,   2.8552,  34.5794,2,  34.5773,2,    148.6,2,    148.8,2,    97.69,2,    35.40,2,     0.00,2,     2.51,2, -999.000,9, -999.000,9, -999.000,1,-999.0000,1,  -999.00,9,   -999.0,1,-999.000,9,   2280.9,2,   2370.0,2,     7.56,2,14969.2,-999.0000,-999.000,-999.000,  2.7491,-999.000
   318MWESTW_5,  P21W,   220,  1,      4, SI9404,2,19940606,1208,-18.7500, 178.0667, 2160,   1700.5,   2.5849,  34.6042,2,  34.6026,2,    148.1,2,    148.9,2,   105.19,2,    35.44,2,     0.00,2,     2.50,2, -999.000,9, -999.000,9, -999.000,1,-999.0000,1,  -999.00,9,   -999.0,1,-999.000,9,   2289.6,2,   2382.3,2,     7.55,2,16972.0,-999.0000,-999.000,-999.000,  2.4653,-999.000
   318MWESTW_5,  P21W,   220,  1,      3, SI9403,2,19940606,1208,-18.7500, 178.0667, 2160,   1900.8,   2.3448,  34.6281,2,  34.6268,2,    148.9,2,    150.0,2,   111.47,2,    35.34,2,     0.02,2,     2.51,2, -999.000,9, -999.000,9, -999.000,1,-999.0000,1,  -999.00,9,   -999.0,1,-999.000,9,   2297.9,2,   2391.3,2,     7.55,2,18962.9,-999.0000,-999.000,-999.000,  2.2116,-999.000
   318MWESTW_5,  P21W,   220,  1,      2, SI9437,2,19940606,1208,-18.7500, 178.0667, 2160,   2101.6,   2.1742,  34.6427,2,  34.6425,2,    149.4,2,    151.2,2,   116.72,2,    35.30,2,     0.02,2,     2.52,2, -999.000,9, -999.000,9, -999.000,1,-999.0000,1,  -999.00,9,   -999.0,1,-999.000,9,   2301.6,2,   -999.0,9,     7.56,2,20959.0,-999.0000,-999.000,-999.000,  2.0264,-999.000
   318MWESTW_5,  P21W,   220,  1,      1, SI9401,2,19940606,1208,-18.7500, 178.0667, 2160,   2158.4,   2.1103,  34.6499,2,  34.6482,2,    150.0,2,    151.1,2,   118.70,2,    35.28,2,     0.02,2,     2.51,2, -999.000,9, -999.000,9, -999.000,1,-999.0000,1,  -999.00,9,   -999.0,1,-999.000,9,   2303.5,2,   2408.1,2,     7.56,2,21523.2,-999.0000,-999.000,-999.000,  1.9585,-999.000
   318MWESTW_5,  P21W,   221,  1,     23, SI9423,2,19940606,1533,-18.7500, 177.8305, 1920,      4.6,  25.4328,  34.9308,2,  34.9303,2,    211.5,2,    204.8,2,     0.81,2,     0.00,2,     0.00,2,     0.10,2,    1.753,2,    1.007,2, -999.000,1,   1.7003,2,    -1.38,2,   -999.0,1,   6.708,2,   -999.0,9,   -999.0,9,  -999.00,9,  104.8,  0.0085,   0.080,   0.034, 25.4318,-999.000
   318MWESTW_5,  P21W,   221,  1,     22, SI9418,2,19940606,1533,-18.7500, 177.8305, 1920,     23.2,  25.4419,  34.9295,2,  34.9300,2,    217.7,2,    207.9,2,     0.82,2,     0.02,2,     0.00,2,     0.11,2,    1.761,2,    0.995,2, -999.000,1,-999.0000,1,  -999.00,9,   -999.0,1,-999.000,9,   -999.0,9,   -999.0,9,  -999.00,9,  290.8,-999.0000,-999.000,-999.000, 25.4368,-999.000
   318MWESTW_5,  P21W,   221,  1,     21, SI9421,2,19940606,1533,-18.7500, 177.8305, 1920,     49.2,  25.4475,  34.9470,2,  34.9433,2,    216.2,2,    207.9,2,     0.82,2,     0.01,2,     0.01,2,     0.11,2,    1.773,2,    1.002,2, -999.000,1,   1.7010,2,    -1.42,2,   -999.0,1,   6.727,2,   -999.0,9,   -999.0,9,  -999.00,9,  549.8,  0.0085,   0.080,   0.034, 25.4367,-999.000
   318MWESTW_5,  P21W,   221,  1,     20, SI9420,2,19940606,1533,-18.7500, 177.8305, 1920,     99.2,  24.0892,  35.6550,2,  35.6561,2,    189.8,2,    186.5,2,     1.13,2,     1.37,2,     0.09,2,     0.30,2,    1.869,2,    1.044,2, -999.000,1,   1.7353,2,    -0.93,2,   -999.0,1,   6.911,2,   -999.0,9,   -999.0,9,  -999.00,9, 1048.2,  0.0087,   0.080,   0.035, 24.0682,-999.000
   318MWESTW_5,  P21W,   221,  1,     19, SI9419,2,19940606,1533,-18.7500, 177.8305, 1920,    151.9,  21.7870,  35.7597,2,  35.7582,2,    184.9,2,    185.0,2,     0.99,2,     2.43,2,     0.02,2,     0.32,2,    1.977,2,    1.090,2, -999.000,1,   1.7392,2,    -0.68,2,   -999.0,1,   6.964,2,   -999.0,9,   -999.0,9,  -999.00,9, 1572.1,  0.0087,   0.080,   0.035, 21.7571,-999.000
   318MWESTW_5,  P21W,   221,  1,     18, SI9439,2,19940606,1533,-18.7500, 177.8305, 1920,    202.5,  20.3550,  35.7355,2,  35.7347,2,    182.0,2,    191.2,2,     1.00,2,     2.93,2,     0.02,2,     0.33,2,    2.029,2,    1.107,2, -999.000,1,   1.7684,2,    -0.67,2,   -999.0,1,   7.107,2,   -999.0,9,   -999.0,9,  -999.00,9, 2075.8,  0.0088,   0.080,   0.036, 20.3169,-999.000
   318MWESTW_5,  P21W,   221,  1,     17, SI9417,2,19940606,1533,-18.7500, 177.8305, 1920,    246.8,  19.0106,  35.6987,2,  35.6954,2,    193.6,2,    197.3,2,     1.15,2,     3.13,2,     0.01,2,     0.34,2,    2.093,2,    1.153,2, -999.000,1,   1.7593,2,    -0.60,2,   -999.0,1,   7.151,2,   -999.0,9,   -999.0,9,  -999.00,9, 2517.1,  0.0088,   0.080,   0.036, 18.9663,-999.000
   318MWESTW_5,  P21W,   221,  1,     16, SI9416,2,19940606,1533,-18.7500, 177.8305, 1920,    298.1,  16.9314,  35.4857,2,  35.4819,2,    188.6,2,    188.6,2,     2.06,2,     6.13,2,     0.01,2,     0.56,2,    1.923,6,    1.039,6, -999.000,1,   1.7637,2,    -0.09,2,   -999.0,1,   7.234,2,   -999.0,9,   -999.0,9,  -999.00,9, 3028.2,  0.0088,   0.080,   0.036, 16.8820,-999.000
   318MWESTW_5,  P21W,   221,  1,     15, SI9415,2,19940606,1533,-18.7500, 177.8305, 1920,    354.4,  15.1241,  35.3014,2,  35.3021,2,    187.0,2,    187.9,2,     2.97,2,     8.87,2,     0.01,2,     0.73,2,    1.812,2,    0.962,2, -999.000,1,-999.0000,1,  -999.00,9,   -999.0,1,-999.000,9,   -999.0,9,   -999.0,9,  -999.00,9, 3588.7,-999.0000,-999.000,-999.000, 15.0697,-999.000
   318MWESTW_5,  P21W,   221,  1,     14, SI9436,2,19940606,1533,-18.7500, 177.8305, 1920,    402.6,  12.6532,  35.0061,2,  35.0067,2,    184.3,2,    185.2,2,     4.93,2,    13.28,2,     0.01,2,     1.04,2,    1.383,2,    0.720,2, -999.000,1,   1.7946,2,     1.00,2,   -999.0,1,   7.470,2,   -999.0,9,   -999.0,9,  -999.00,9, 4067.9,  0.0090,   0.080,   0.037, 12.5984,-999.000
   318MWESTW_5,  P21W,   221,  1,     13, SI9413,3,19940606,1533,-18.7500, 177.8305, 1920,    450.9,  10.7442,  34.7882,2,  34.7852,2,    187.0,2,    186.9,2,     6.89,2,    17.05,2,     0.01,2,     1.28,2, -999.000,9, -999.000,9, -999.000,1,-999.0000,1,  -999.00,9,   -999.0,1,-999.000,9,   -999.0,9,   -999.0,9,  -999.00,9, 4548.6,-999.0000,-999.000,-999.000, 10.6889,-999.000
   318MWESTW_5,  P21W,   221,  1,     12, SI9438,2,19940606,1533,-18.7500, 177.8305, 1920,    501.9,   9.2231,  34.6420,2,  34.6337,2,    193.7,2,    196.7,2,     8.10,2,    19.76,2,     0.01,2,     1.44,2,    0.944,2,    0.491,2, -999.000,1,-999.0000,1,  -999.00,9,   -999.0,1,-999.000,9,   -999.0,9,   -999.0,9,  -999.00,9, 5055.0,-999.0000,-999.000,-999.000,  9.1670,-999.000
   318MWESTW_5,  P21W,   221,  1,     11, SI9411,2,19940606,1533,-18.7500, 177.8305, 1920,    602.1,   7.0685,  34.4454,2,  34.4438,2,    200.5,2,    210.5,4,    14.28,2,    24.54,2,     0.00,2,     1.74,2,    0.478,2,    0.259,2, -999.000,1,   1.8106,2,     1.72,2,   -999.0,1,   7.762,2,   -999.0,9,   -999.0,9,  -999.00,9, 6052.1,  0.0091,   0.080,   0.039,  7.0107,-999.000
   318MWESTW_5,  P21W,   221,  1,     10, SI9412,2,19940606,1533,-18.7500, 177.8305, 1920,    697.0,   6.0006,  34.4073,2,  34.4043,2,    192.7,2,    192.2,2,    24.22,2,    27.92,2,     0.00,2,     1.96,2,    0.249,2,    0.138,2, -999.000,1,   1.7996,2,     3.92,2,   -999.0,1,   7.748,2,   -999.0,9,   -999.0,9,  -999.00,9, 6995.7,  0.0090,   0.090,   0.039,  5.9388,-999.000
   318MWESTW_5,  P21W,   221,  1,      9, SI9410,2,19940606,1533,-18.7500, 177.8305, 1920,    791.3,   5.1821,  34.4155,2,  34.4175,2,    180.5,2,    178.4,2,    37.60,2,    30.77,2,     0.00,2,     2.14,2,    0.093,2,    0.059,2, -999.000,1,   1.8173,2,     7.51,2,   -999.0,1,   7.820,2,   -999.0,9,   -999.0,9,  -999.00,9, 7933.2,  0.0091,   0.090,   0.039,  5.1164,-999.000
   318MWESTW_5,  P21W,   221,  1,      8, SI9422,2,19940606,1533,-18.7500, 177.8305, 1920,    897.7,   4.4854,  34.4469,2,  34.4453,2,    169.5,2,    168.4,2,    51.59,2,    32.38,2,     0.01,2,     2.27,2,    0.044,2,    0.029,2, -999.000,1,   1.8422,2,    11.31,2,   -999.0,1,   7.911,2,   -999.0,9,   -999.0,9,  -999.00,9, 8990.7,  0.0092,   0.090,   0.040,  4.4149,-999.000
   318MWESTW_5,  P21W,   221,  1,      7, SI9407,2,19940606,1533,-18.7500, 177.8305, 1920,    995.6,   4.0479,  34.4705,2,  34.4701,2,    161.7,2,    161.5,2,    61.67,2,    33.64,2,     0.02,2,     2.36,2,    0.013,2,    0.010,2, -999.000,1,-999.0000,1,  -999.00,9,   -999.0,1,-999.000,9,   -999.0,9,   -999.0,9,  -999.00,9, 9963.8,-999.0000,-999.000,-999.000,  3.9723,-999.000
   318MWESTW_5,  P21W,   221,  1,      6, SI9427,2,19940606,1533,-18.7500, 177.8305, 1920,   1098.7,   3.7073,  34.4992,2,  34.4964,2,    156.1,2,    158.1,2,    70.69,2,    34.19,2,     0.01,2,     2.39,2,    0.005,2,    0.004,2, -999.000,1,   1.8838,2,    18.07,2,   -999.0,1,   8.029,2,   -999.0,9,   -999.0,9,  -999.00,9,10988.6,  0.0094,   0.100,   0.040,  3.6258,-999.000
   318MWESTW_5,  P21W,   221,  1,      5, SI9405,2,19940606,1533,-18.7500, 177.8305, 1920,   1300.6,   3.1689,  34.5472,2,  34.5466,2,    150.7,2,    151.9,2,    87.67,2,    34.92,2,     0.02,2,     2.46,2,    0.001,2,    0.002,2, -999.000,1,   1.8955,2,    23.95,2,   -999.0,1,   8.007,2,   -999.0,9,   -999.0,9,  -999.00,9,12996.4,  0.0095,   0.100,   0.040,  3.0758,-999.000
   318MWESTW_5,  P21W,   221,  1,      4, SI9404,2,19940606,1533,-18.7500, 177.8305, 1920,   1504.0,   2.8211,  34.5790,2,  34.5796,2,    149.4,2,    149.8,2,    98.64,2,    35.22,2,     0.00,2,     2.47,2,    0.000,2,    0.002,2, -999.000,1,-999.0000,1,  -999.00,9,   -999.0,1,-999.000,9,   -999.0,9,   -999.0,9,  -999.00,9,15017.7,-999.0000,-999.000,-999.000,  2.7150,-999.000
   318MWESTW_5,  P21W,   221,  1,      3, SI9403,2,19940606,1533,-18.7500, 177.8305, 1920,   1697.2,   2.5407,  34.6080,2,  34.6073,2,    149.4,2,    150.8,2,   106.60,2,    35.36,2,     0.00,2,     2.47,2,    0.000,2,   -0.001,2, -999.000,1,   1.9051,2,    25.96,2,   -999.0,1,   8.027,2,   -999.0,9,   -999.0,9,  -999.00,9,16937.9,  0.0095,   0.100,   0.040,  2.4220,-999.000
   318MWESTW_5,  P21W,   221,  1,      2, SI9437,2,19940606,1533,-18.7500, 177.8305, 1920,   1893.7,   2.3512,  34.6250,2,  34.6256,2,    147.5,2,    150.3,2,   111.86,2,    35.33,2,     0.01,2,     2.47,2,    0.003,2,    0.000,2, -999.000,1,-999.0000,1,  -999.00,9,   -999.0,1,-999.000,9,   -999.0,9,   -999.0,9,  -999.00,9,18891.0,-999.0000,-999.000,-999.000,  2.2185,-999.000
   318MWESTW_5,  P21W,   221,  1,      1, SI9401,2,19940606,1533,-18.7500, 177.8305, 1920,   1936.9,   2.2787,  34.6324,2,  34.6307,2,    148.4,2,    150.7,2,   113.88,2,    35.28,2,     0.01,2,     2.46,2,    0.005,2,    0.001,2, -999.000,1,-999.0000,1,  -999.00,9,   -999.0,1,-999.000,9,   -999.0,9,   -999.0,9,  -999.00,9,19320.3,-999.0000,-999.000,-999.000,  2.1434,-999.000