BOTTLE,20010911WHPSIOdm
EXPOCODE,SECT_ID,STNNBR,CASTNO,SAMPNO,BTLNBR,BTLNBR_FLAG_W,DATE,TIME,LATITUDE,LONGITUDE,DEPTH,CTDPRS,CTDTMP,CTDSAL,CTDSAL_FLAG_W,SALNTY,SALNTY_FLAG_W,CTDOXY,CTDOXY_FLAG_W,OXYGEN,OXYGEN_FLAG_W,SILCAT,SILCAT_FLAG_W,NITRAT,NITRAT_FLAG_W,NITRIT,NITRIT_FLAG_W,PHSPHT,PHSPHT_FLAG_W,CFC-11,CFC-11_FLAG_W,CFC-12,CFC-12_FLAG_W,TRITUM,TRITUM_FLAG_W,HELIUM,HELIUM_FLAG_W,DELHE3,DELHE3_FLAG_W,DELC14,DELC14_FLAG_W,NEON,NEON_FLAG_W,TCARBN,TCARBN_FLAG_W,ALKALI,ALKALI_FLAG_W,PH,PH_FLAG_W,CTDRAW,HELIER,DELHER,NEONER,THETA,TRITER
,,,,,,,,,,,,DBAR,ITS-90,PSS-78,,PSS-78,,UMOL/KG,,UMOL/KG,,UMOL/KG,,UMOL/KG,,UMOL/KG,,UMOL/KG,,PMOL/KG,,PMOL/KG,,TU,,UMOL/KG,,PERCNT,,/MILLE,,NMOL/KG,,UMOL/KG,,UMOL/KG,,,,,NMOL/KG,PERCNT,NMOL/KG,ITS-90,TU
   318MWESTW_4,  P21E,    72,  1,     36, SI9336,2,19940419,0005,-16.7500,-100.0000, 3866,     11.6,  24.3615,  36.1723,2,  36.1800,2,    214.9,2,    215.9,2,     0.33,2,     0.05,2,     0.02,2,     0.35,2,    1.919,2,    1.053,2, -999.000,1,-999.0000,1,  -999.00,9,   -999.0,1,-999.000,9,   2062.8,2,   2391.0,2,     8.04,2,  162.8,-999.0000,-999.000,-999.000, 24.3590,-999.000
   318MWESTW_4,  P21E,    72,  1,     35, SI9335,2,19940419,0005,-16.7500,-100.0000, 3866,     24.3,  23.9912,  36.1660,2,  36.1680,2,    215.4,2,    216.1,2,     0.33,2,     0.01,2,     0.01,2,     0.35,2,    1.950,2,    1.063,2, -999.000,1,-999.0000,1,  -999.00,9,   -999.0,1,-999.000,9,   2061.8,2,   2392.0,2,     8.04,2,  290.2,-999.0000,-999.000,-999.000, 23.9861,-999.000
   318MWESTW_4,  P21E,    72,  1,     34, SI9334,2,19940419,0005,-16.7500,-100.0000, 3866,     50.9,  23.8009,  36.1648,2,  36.1640,2,    216.8,2,    219.0,2,     0.34,2,     0.07,2,     0.01,2,     0.36,2,    1.967,2,    1.108,2, -999.000,1,-999.0000,1,  -999.00,9,   -999.0,1,-999.000,9,   2062.8,2,   2391.0,2,     8.04,2,  556.2,-999.0000,-999.000,-999.000, 23.7902,-999.000
   318MWESTW_4,  P21E,    72,  1,     33, SI9333,2,19940419,0005,-16.7500,-100.0000, 3866,    100.9,  21.0567,  35.9003,2,  35.9022,2,    233.9,2,    228.1,2,     0.18,2,     0.02,2,     0.01,2,     0.39,2,    2.226,2,    1.183,2, -999.000,1,-999.0000,1,  -999.00,9,   -999.0,1,-999.000,9,   2064.8,2,   2376.0,2,     8.02,2, 1056.3,-999.0000,-999.000,-999.000, 21.0373,-999.000
   318MWESTW_4,  P21E,    72,  1,     32, SI9332,2,19940419,0005,-16.7500,-100.0000, 3866,    150.1,  19.8565,  35.6770,2,  35.7351,2,    210.4,2,    209.0,2,     0.35,2,     1.25,2,     0.50,2,     0.51,2, -999.000,9, -999.000,9, -999.000,1,-999.0000,1,  -999.00,9,   -999.0,1,-999.000,9,   2078.8,2,   2363.0,2,     7.98,2, 1547.4,-999.0000,-999.000,-999.000, 19.8288,-999.000
   318MWESTW_4,  P21E,    72,  1,     31, SI9331,2,19940419,0005,-16.7500,-100.0000, 3866,    197.2,  17.5315,  35.2846,2,  35.2997,2,    201.6,2,    193.2,2,     1.06,2,     5.21,2,     0.03,2,     0.72,2,    2.324,2,    1.226,2, -999.000,1,-999.0000,1,  -999.00,9,   -999.0,1,-999.000,9,   2090.8,2,   2335.0,2,     7.91,2, 2018.7,-999.0000,-999.000,-999.000, 17.4982,-999.000
   318MWESTW_4,  P21E,    72,  1,     30, SI9330,2,19940419,0005,-16.7500,-100.0000, 3866,    252.1,  13.0404,  34.6946,2,  34.6865,2,    135.0,2,    124.4,2,     7.28,2,    15.65,2,     0.01,2,     1.53,2,    1.625,2,    0.775,2, -999.000,1,-999.0000,1,  -999.00,9,   -999.0,1,-999.000,9,   2150.9,2,   2291.0,2,     7.71,2, 2566.5,-999.0000,-999.000,-999.000, 13.0057,-999.000
   318MWESTW_4,  P21E,    72,  1,     29, SI9329,2,19940419,0005,-16.7500,-100.0000, 3866,    296.0,  11.2226,  34.5861,2,  34.5895,2,     87.5,2,     76.8,2,    14.37,2,    22.52,2,     0.01,2,     2.12,2,    0.829,2,    0.385,2, -999.000,1,-999.0000,1,  -999.00,9,   -999.0,1,-999.000,9,   2203.9,2,   2288.0,2,     7.55,2, 3005.3,-999.0000,-999.000,-999.000, 11.1856,-999.000
   318MWESTW_4,  P21E,    72,  1,     28, SI9328,2,19940419,0005,-16.7500,-100.0000, 3866,    397.1,   8.5684,  34.5170,2,  34.5184,2,     56.5,2,     55.6,2,    22.50,2,    33.76,2,     0.01,2,     2.57,2,    0.153,2,    0.066,2, -999.000,1,-999.0000,1,  -999.00,9,   -999.0,1,-999.000,9,   2244.9,2,   2289.0,2,     7.44,2, 4014.8,-999.0000,-999.000,-999.000,  8.5263,-999.000
   318MWESTW_4,  P21E,    72,  1,     27, SI9327,2,19940419,0005,-16.7500,-100.0000, 3866,    498.0,   6.8625,  34.4763,2,  34.4705,2,     81.9,2,     80.1,2,    28.38,2,    37.21,2,     0.01,2,     2.61,2,    0.034,2,    0.013,2, -999.000,1,-999.0000,1,  -999.00,9,   -999.0,1,-999.000,9,   2243.9,2,   2296.0,2,     7.46,2, 5023.2,-999.0000,-999.000,-999.000,  6.8158,-999.000
   318MWESTW_4,  P21E,    72,  1,     26, SI9326,2,19940419,0005,-16.7500,-100.0000, 3866,    599.5,   6.2146,  34.4891,2,  34.4871,2,     70.3,2,     66.1,2,    38.75,2,    40.04,2,     0.01,2,     2.80,2,    0.006,2,   -0.002,2, -999.000,1,-999.0000,1,  -999.00,9,   -999.0,1,-999.000,9,   2262.9,2,   2305.0,2,     7.44,2, 6036.9,-999.0000,-999.000,-999.000,  6.1608,-999.000
   318MWESTW_4,  P21E,    72,  1,     25, SI9325,2,19940419,0005,-16.7500,-100.0000, 3866,    700.8,   5.6422,  34.4925,2,  34.4936,2,     64.1,2,     60.7,2,    48.60,2,    41.82,2,     0.01,2,     2.92,2,    0.000,2,   -0.003,2, -999.000,1,-999.0000,1,  -999.00,9,   -999.0,1,-999.000,9,   2277.0,2,   2315.0,2,     7.42,2, 7048.6,-999.0000,-999.000,-999.000,  5.5819,-999.000
   318MWESTW_4,  P21E,    72,  1,     24, SI9324,2,19940419,0005,-16.7500,-100.0000, 3866,    800.2,   5.2154,  34.4987,2,  34.4983,2,     55.4,2,     55.8,2,    57.07,2,    43.04,2,     0.01,2,     3.01,2,   -0.003,2,   -0.004,2, -999.000,1,-999.0000,1,  -999.00,9,   -999.0,1,-999.000,9,   2291.0,2,   2322.0,2,     7.41,2, 8041.4,-999.0000,-999.000,-999.000,  5.1486,-999.000
   318MWESTW_4,  P21E,    72,  1,     23, SI9323,2,19940419,0005,-16.7500,-100.0000, 3866,    896.4,   4.6779,  34.5114,2,  34.5093,2,     62.7,2,     63.7,2,    67.26,2,    42.72,2,     0.00,2,     3.01,2,   -0.002,2,   -0.004,2, -999.000,1,-999.0000,1,  -999.00,9,   -999.0,1,-999.000,9,   2298.0,2,   2335.0,2,     7.42,2, 9002.2,-999.0000,-999.000,-999.000,  4.6061,-999.000
   318MWESTW_4,  P21E,    72,  1,     22, SI9322,2,19940419,0005,-16.7500,-100.0000, 3866,   1002.9,   4.2564,  34.5243,2,  34.5239,2,     71.9,2,     72.1,2,    76.25,2,    42.06,2,     0.00,2,     2.99,2,    0.000,2,   -0.003,2, -999.000,1,-999.0000,1,  -999.00,9,   -999.0,1,-999.000,9,   2304.0,2,   2344.0,2,     7.43,2,10066.5,-999.0000,-999.000,-999.000,  4.1785,-999.000
   318MWESTW_4,  P21E,    72,  1,     21, SI9321,3,19940419,0005,-16.7500,-100.0000, 3866,   1095.5,   3.9565,  34.5412,2,  34.7292,4,     74.5,2,     94.7,4,    67.79,4,    35.29,4,     0.02,4,     2.56,4, -999.000,9, -999.000,9, -999.000,1,-999.0000,1,  -999.00,9,   -999.0,1,-999.000,9,   -999.0,9,   2353.0,2,  -999.00,9,10990.6,-999.0000,-999.000,-999.000,  3.8731,-999.000
   318MWESTW_4,  P21E,    72,  1,     20, SI9320,2,19940419,0005,-16.7500,-100.0000, 3866,   1202.5,   3.6665,  34.5530,2,  34.5510,2,     81.1,2,     82.0,2,    90.59,2,    41.30,2,     0.00,2,     2.94,2, -999.000,9, -999.000,9, -999.000,1,-999.0000,1,  -999.00,9,   -999.0,1,-999.000,9,   2313.0,2,   2361.0,2,     7.47,2,12060.2,-999.0000,-999.000,-999.000,  3.5767,-999.000
   318MWESTW_4,  P21E,    72,  1,     19, SI9319,2,19940419,0005,-16.7500,-100.0000, 3866,   1301.3,   3.3350,  34.5693,2,  34.5702,2,     86.5,2,     88.1,2,    98.87,2,    40.78,2,     0.02,2,     2.92,2, -999.000,9, -999.000,9, -999.000,1,-999.0000,1,  -999.00,9,   -999.0,1,-999.000,9,   2318.0,2,   2371.0,2,     7.46,2,13047.2,-999.0000,-999.000,-999.000,  3.2401,-999.000
   318MWESTW_4,  P21E,    72,  1,     18, SI9318,2,19940419,0005,-16.7500,-100.0000, 3866,   1399.1,   3.1068,  34.5822,2,  34.5828,2,     90.0,2,     92.2,2,   104.92,2,    40.53,2,     0.00,2,     2.89,2, -999.000,9, -999.000,9, -999.000,1,-999.0000,1,  -999.00,9,   -999.0,1,-999.000,9,   -999.0,9,   2376.0,2,  -999.00,9,14023.7,-999.0000,-999.000,-999.000,  3.0061,-999.000
   318MWESTW_4,  P21E,    72,  1,     17, SI9317,2,19940419,0005,-16.7500,-100.0000, 3866,   1500.5,   2.9271,  34.5942,2,  34.5944,2,     94.4,2,     96.9,2,   109.59,2,    40.10,2,     0.00,2,     2.86,2, -999.000,9, -999.000,9, -999.000,1,-999.0000,1,  -999.00,9,   -999.0,1,-999.000,9,   2325.0,2,   2383.0,2,     7.47,2,15036.8,-999.0000,-999.000,-999.000,  2.8200,-999.000
   318MWESTW_4,  P21E,    72,  1,     16, SI9316,2,19940419,0005,-16.7500,-100.0000, 3866,   1601.6,   2.7467,  34.6044,2,  34.6054,2,     98.3,2,    101.2,2,   114.07,2,    39.71,2,     0.00,2,     2.82,2, -999.000,9, -999.000,9, -999.000,1,-999.0000,1,  -999.00,9,   -999.0,1,-999.000,9,   2312.0,3,   2387.0,2,     7.50,2,16046.5,-999.0000,-999.000,-999.000,  2.6333,-999.000
   318MWESTW_4,  P21E,    72,  1,     15, SI9315,2,19940419,0005,-16.7500,-100.0000, 3866,   1701.6,   2.5827,  34.6161,2,  34.6185,3,    103.9,2,    107.2,2,   117.70,2,    39.28,2,    -0.01,2,     2.79,2, -999.000,9, -999.000,9, -999.000,1,-999.0000,1,  -999.00,9,   -999.0,1,-999.000,9,   -999.0,9,   2394.0,2,     7.49,2,17046.0,-999.0000,-999.000,-999.000,  2.4630,-999.000
   318MWESTW_4,  P21E,    72,  1,     14, SI9314,3,19940419,0005,-16.7500,-100.0000, 3866,   1799.4,   2.4190,  34.6259,2,  34.6260,3,    111.0,2,    114.8,2,   120.11,2,    38.62,2,    -0.01,2,     2.73,2, -999.000,9, -999.000,9, -999.000,1,-999.0000,1,  -999.00,9,   -999.0,1,-999.000,9,   2306.0,3,   2395.0,2,     7.52,2,18023.0,-999.0000,-999.000,-999.000,  2.2933,-999.000
   318MWESTW_4,  P21E,    72,  1,     13, SI9313,2,19940419,0005,-16.7500,-100.0000, 3866,   1950.6,   2.2397,  34.6385,2,  34.6380,2,    122.6,2,    125.4,2,   121.49,2,    37.79,2,     0.00,2,     2.66,2, -999.000,9, -999.000,9, -999.000,1,-999.0000,1,  -999.00,9,   -999.0,1,-999.000,9,   2322.0,2,   2400.0,2,     7.53,2,19533.4,-999.0000,-999.000,-999.000,  2.1038,-999.000
   318MWESTW_4,  P21E,    72,  1,     12, SI9312,2,19940419,0005,-16.7500,-100.0000, 3866,   2096.7,   2.0759,  34.6498,2,  34.6496,2,    134.8,2,    136.4,2,   122.35,2,    36.85,2,     0.00,2,     2.59,2, -999.000,9, -999.000,9, -999.000,1,-999.0000,1,  -999.00,9,   -999.0,1,-999.000,9,   2317.0,2,   2402.0,2,     7.54,2,20992.5,-999.0000,-999.000,-999.000,  1.9300,-999.000
   318MWESTW_4,  P21E,    72,  1,     11, SI9311,2,19940419,0005,-16.7500,-100.0000, 3866,   2247.4,   1.9469,  34.6588,2,  34.6590,2,    147.2,2,    147.5,2,   121.13,2,    35.97,2,     0.00,2,     2.52,2, -999.000,9, -999.000,9, -999.000,1,-999.0000,1,  -999.00,9,   -999.0,1,-999.000,9,   2310.0,2,   2402.0,2,     7.56,2,22499.1,-999.0000,-999.000,-999.000,  1.7901,-999.000
   318MWESTW_4,  P21E,    72,  1,     10, SI9310,2,19940419,0005,-16.7500,-100.0000, 3866,   2401.0,   1.8588,  34.6678,2,  34.6690,2,    153.4,2,    152.8,2,   121.83,2,    35.59,2,     0.00,2,     2.48,2, -999.000,9, -999.000,9, -999.000,1,-999.0000,1,  -999.00,9,   -999.0,1,-999.000,9,   2309.0,2,   2403.0,2,     7.57,2,24033.7,-999.0000,-999.000,-999.000,  1.6900,-999.000
   318MWESTW_4,  P21E,    72,  1,      9, SI9309,2,19940419,0005,-16.7500,-100.0000, 3866,   2548.7,   1.8239,  34.6737,2,  34.6734,2,    153.4,2,    152.7,2,   124.24,2,    35.59,2,     0.00,2,     2.48,2, -999.000,9, -999.000,9, -999.000,1,-999.0000,1,  -999.00,9,   -999.0,1,-999.000,9,   2311.0,2,   2408.0,2,     7.58,2,25509.1,-999.0000,-999.000,-999.000,  1.6424,-999.000
   318MWESTW_4,  P21E,    72,  1,      8, SI9308,2,19940419,0005,-16.7500,-100.0000, 3866,   2695.3,   1.8044,  34.6774,2,  34.6789,3,    151.4,2,    151.1,2,   127.17,2,    35.71,2,     0.00,2,     2.49,2, -999.000,9, -999.000,9, -999.000,1,-999.0000,1,  -999.00,9,   -999.0,1,-999.000,9,   2316.0,2,   2412.0,2,     7.57,2,26974.4,-999.0000,-999.000,-999.000,  1.6098,-999.000
   318MWESTW_4,  P21E,    72,  1,      7, SI9307,2,19940419,0005,-16.7500,-100.0000, 3866,   2899.6,   1.7993,  34.6801,2,  34.6789,2,    146.1,2,    146.6,2,   132.34,2,    36.15,2,     0.00,2,     2.52,2, -999.000,9, -999.000,9, -999.000,1,-999.0000,1,  -999.00,9,   -999.0,1,-999.000,9,   2324.0,2,   2419.0,2,     7.58,2,29015.9,-999.0000,-999.000,-999.000,  1.5856,-999.000
   318MWESTW_4,  P21E,    72,  1,      6, SI9306,2,19940419,0005,-16.7500,-100.0000, 3866,   3100.7,   1.7950,  34.6816,2,  34.6814,2,    143.8,2,    144.9,2,   134.93,2,    36.32,2,     0.00,2,     2.53,2, -999.000,9, -999.000,9, -999.000,1,-999.0000,1,  -999.00,9,   -999.0,1,-999.000,9,   2328.0,2,   2426.0,2,     7.57,2,31025.6,-999.0000,-999.000,-999.000,  1.5619,-999.000
   318MWESTW_4,  P21E,    72,  1,      5, SI9305,2,19940419,0005,-16.7500,-100.0000, 3866,   3299.5,   1.7984,  34.6839,2,  34.6836,2,    145.1,2,    146.4,2,   133.54,2,    36.17,2,    -0.01,2,     2.52,2, -999.000,9, -999.000,9, -999.000,1,-999.0000,1,  -999.00,9,   -999.0,1,-999.000,9,   2328.0,2,   2423.0,2,     7.58,2,33012.0,-999.0000,-999.000,-999.000,  1.5453,-999.000
   318MWESTW_4,  P21E,    72,  1,      4, SI9304,2,19940419,0005,-16.7500,-100.0000, 3866,   3502.1,   1.8030,  34.6858,2,  34.6855,2,    147.3,2,    148.1,2,   131.99,2,    36.00,2,     0.00,2,     2.51,2, -999.000,9, -999.000,9, -999.000,1,-999.0000,1,  -999.00,9,   -999.0,1,-999.000,9,   2326.0,2,   2424.0,2,     7.58,2,35036.6,-999.0000,-999.000,-999.000,  1.5290,-999.000
   318MWESTW_4,  P21E,    72,  1,      3, SI9303,2,19940419,0005,-16.7500,-100.0000, 3866,   3701.9,   1.8163,  34.6870,2,  34.6869,2,    147.2,2,    148.8,2,   131.47,2,    35.95,2,     0.00,2,     2.50,2, -999.000,9, -999.000,9, -999.000,1,-999.0000,1,  -999.00,9,   -999.0,1,-999.000,9,   2324.0,2,   2421.0,2,     7.58,2,37033.5,-999.0000,-999.000,-999.000,  1.5209,-999.000
   318MWESTW_4,  P21E,    72,  1,      2, SI9302,2,19940419,0005,-16.7500,-100.0000, 3866,   3837.8,   1.8268,  34.6874,2,  34.6863,2,    148.1,2,    149.0,2,   131.13,2,    35.91,2,    -0.01,2,     2.50,2, -999.000,9, -999.000,9, -999.000,1,-999.0000,1,  -999.00,9,   -999.0,1,-999.000,9,   2324.0,2,   2424.0,2,     7.57,2,38392.2,-999.0000,-999.000,-999.000,  1.5165,-999.000
   318MWESTW_4,  P21E,    72,  1,      1, SI9301,2,19940419,0005,-16.7500,-100.0000, 3866,   3880.1,   1.8306,  34.6874,2,  34.6861,2,    146.6,2,    150.1,2,   131.16,2,    35.94,2,     0.00,2,     2.50,2, -999.000,9, -999.000,9, -999.000,1,-999.0000,1,  -999.00,9,   -999.0,1,-999.000,9,   2325.0,2,   2421.0,2,     7.58,2,38815.0,-999.0000,-999.000,-999.000,  1.5156,-999.000