BOTTLE,20010911WHPSIOdm
EXPOCODE,SECT_ID,STNNBR,CASTNO,SAMPNO,BTLNBR,BTLNBR_FLAG_W,DATE,TIME,LATITUDE,LONGITUDE,DEPTH,CTDPRS,CTDTMP,CTDSAL,CTDSAL_FLAG_W,SALNTY,SALNTY_FLAG_W,CTDOXY,CTDOXY_FLAG_W,OXYGEN,OXYGEN_FLAG_W,SILCAT,SILCAT_FLAG_W,NITRAT,NITRAT_FLAG_W,NITRIT,NITRIT_FLAG_W,PHSPHT,PHSPHT_FLAG_W,CFC-11,CFC-11_FLAG_W,CFC-12,CFC-12_FLAG_W,TRITUM,TRITUM_FLAG_W,HELIUM,HELIUM_FLAG_W,DELHE3,DELHE3_FLAG_W,DELC14,DELC14_FLAG_W,NEON,NEON_FLAG_W,TCARBN,TCARBN_FLAG_W,ALKALI,ALKALI_FLAG_W,PH,PH_FLAG_W,CTDRAW,HELIER,DELHER,NEONER,THETA,TRITER
,,,,,,,,,,,,DBAR,ITS-90,PSS-78,,PSS-78,,UMOL/KG,,UMOL/KG,,UMOL/KG,,UMOL/KG,,UMOL/KG,,UMOL/KG,,PMOL/KG,,PMOL/KG,,TU,,UMOL/KG,,PERCNT,,/MILLE,,NMOL/KG,,UMOL/KG,,UMOL/KG,,,,,NMOL/KG,PERCNT,NMOL/KG,ITS-90,TU
   318MWESTW_5,  P21W,   189,  1,     36, SI9442,2,19940528,2142,-17.5000,-165.6638, 5415,      7.0,  28.2135,  34.8678,2,  34.8678,2,    207.8,2,    203.2,2,     0.68,2,    -0.01,2,     0.01,2,     0.15,2,    1.599,2,    0.915,2, -999.000,1,-999.0000,1,  -999.00,9,   -999.0,1,-999.000,9,   1917.1,2,   2289.2,2,     8.14,2,  131.0,-999.0000,-999.000,-999.000, 28.2118,-999.000
   318MWESTW_5,  P21W,   189,  1,     35, SI9435,2,19940528,2142,-17.5000,-165.6638, 5415,     24.0,  28.2079,  34.8676,2,  34.8709,2,    208.0,2,    207.1,2,     0.70,2,    -0.01,2,     0.01,2,     0.14,2,    1.610,6,    0.915,6, -999.000,1,-999.0000,1,  -999.00,9,   -999.0,1,-999.000,9,   1917.5,2,   2292.0,2,     8.14,2,  300.3,-999.0000,-999.000,-999.000, 28.2022,-999.000
   318MWESTW_5,  P21W,   189,  1,     34, SI9441,3,19940528,2142,-17.5000,-165.6638, 5415,     49.8,  28.0960,  35.2782,2,  35.3076,2,    213.6,2,    203.2,2,     0.71,2,     0.00,2,     0.00,2,     0.16,2,    1.639,2,    0.919,2, -999.000,1,-999.0000,1,  -999.00,9,   -999.0,1,-999.000,9,   1946.3,2,   2324.9,2,     8.14,2,  558.3,-999.0000,-999.000,-999.000, 28.0842,-999.000
   318MWESTW_5,  P21W,   189,  1,     33, SI9433,2,19940528,2142,-17.5000,-165.6638, 5415,     99.4,  25.7587,  35.9364,2,  35.9356,2,    206.2,2,    211.7,2,     0.57,2,    -0.01,2,     0.01,2,     0.20,2,    1.814,2,    1.001,2, -999.000,1,-999.0000,1,  -999.00,9,   -999.0,1,-999.000,9,   2003.3,2,   2361.3,2,     8.10,2, 1052.3,-999.0000,-999.000,-999.000, 25.7366,-999.000
   318MWESTW_5,  P21W,   189,  1,     32, SI9432,2,19940528,2142,-17.5000,-165.6638, 5415,    149.3,  23.6831,  35.9527,2,  35.9526,2,    183.1,2,    185.9,2,     0.59,2,     0.15,2,     0.07,2,     0.27,2,    1.896,2,    1.015,2, -999.000,1,-999.0000,1,  -999.00,9,   -999.0,1,-999.000,9,   2037.0,2,   2362.7,2,     8.04,2, 1548.5,-999.0000,-999.000,-999.000, 23.6518,-999.000
   318MWESTW_5,  P21W,   189,  1,     31, SI9431,2,19940528,2142,-17.5000,-165.6638, 5415,    200.8,  21.9879,  35.8589,2,  35.8629,2,    172.4,2,    179.6,2,     0.76,2,     2.17,2,     0.03,2,     0.36,2,    1.939,2,    1.031,2, -999.000,1,-999.0000,1,  -999.00,9,   -999.0,1,-999.000,9,   2050.6,2,   2355.3,2,     8.01,2, 2062.1,-999.0000,-999.000,-999.000, 21.9480,-999.000
   318MWESTW_5,  P21W,   189,  1,     30, SI9440,2,19940528,2142,-17.5000,-165.6638, 5415,    291.8,  17.9290,  35.5244,2,  35.5269,2,    190.7,2,    185.6,2,     1.41,2,     4.64,2,     0.01,2,     0.50,2,    1.888,2,    0.997,2, -999.000,1,-999.0000,1,  -999.00,9,   -999.0,1,-999.000,9,   2071.3,2,   2332.0,2,     7.94,2, 2967.1,-999.0000,-999.000,-999.000, 17.8787,-999.000
   318MWESTW_5,  P21W,   189,  1,     29, SI9429,2,19940528,2142,-17.5000,-165.6638, 5415,    395.0,  12.7293,  34.9145,2,  34.9115,2,    175.1,2,    170.9,2,     5.57,2,    14.02,2,     0.01,2,     1.15,2,    1.112,2,    0.567,2, -999.000,1,-999.0000,1,  -999.00,9,   -999.0,1,-999.000,9,   2118.7,2,   2299.8,2,     7.79,2, 3994.3,-999.0000,-999.000,-999.000, 12.6754,-999.000
   318MWESTW_5,  P21W,   189,  1,     28, SI9428,2,19940528,2142,-17.5000,-165.6638, 5415,    495.6,   8.5979,  34.5285,2,  34.5300,2,    186.8,2,    187.6,2,     9.57,2,    21.72,2,     0.01,2,     1.59,2,    0.687,2,    0.347,2, -999.000,1,-999.0000,1,  -999.00,9,   -999.0,1,-999.000,9,   2146.4,2,   2286.9,2,     7.70,2, 4994.3,-999.0000,-999.000,-999.000,  8.5449,-999.000
   318MWESTW_5,  P21W,   189,  1,     27, SI9424,2,19940528,2142,-17.5000,-165.6638, 5415,    594.5,   6.4456,  34.3808,2,  34.3804,2,    193.2,2,    194.3,2,    16.43,2,    26.96,2,     0.00,2,     1.91,2,    0.282,2,    0.155,2, -999.000,1,-999.0000,1,  -999.00,9,   -999.0,1,-999.000,9,   2166.0,2,   2288.9,2,     7.65,2, 5977.8,-999.0000,-999.000,-999.000,  6.3914,-999.000
   318MWESTW_5,  P21W,   189,  1,     26, SI9414,2,19940528,2142,-17.5000,-165.6638, 5415,    685.7,   5.6640,  34.3790,2,  34.3784,2,    181.7,2,    181.0,2,    25.86,2,    30.00,2,     0.01,2,     2.09,2, -999.000,9, -999.000,9, -999.000,1,-999.0000,1,  -999.00,9,   -999.0,1,-999.000,9,   2186.7,2,   2297.8,2,     7.62,2, 6884.7,-999.0000,-999.000,-999.000,  5.6051,-999.000
   318MWESTW_5,  P21W,   189,  1,     25, SI9425,2,19940528,2142,-17.5000,-165.6638, 5415,    791.1,   4.9579,  34.4099,2,  34.4104,2,    166.9,2,    165.6,2,    39.91,2,    32.56,2,     0.01,2,     2.29,2,    0.019,2,    0.013,2, -999.000,1,-999.0000,1,  -999.00,9,   -999.0,1,-999.000,9,   2210.1,2,   2309.4,2,     7.58,2, 7933.1,-999.0000,-999.000,-999.000,  4.8936,-999.000
   318MWESTW_5,  P21W,   189,  1,     24, SI9434,2,19940528,2142,-17.5000,-165.6638, 5415,    894.7,   4.3007,  34.4398,2,  34.4402,2,    159.4,2,    159.9,2,    52.51,2,    33.93,2,     0.01,2,     2.39,2,    0.010,2,    0.006,2, -999.000,1,-999.0000,1,  -999.00,9,   -999.0,1,-999.000,9,   2229.5,2,   2321.6,2,     7.57,2, 8962.4,-999.0000,-999.000,-999.000,  4.2317,-999.000
   318MWESTW_5,  P21W,   189,  1,     23, SI9423,2,19940528,2142,-17.5000,-165.6638, 5415,   1099.6,   3.3854,  34.5059,2,  34.5056,2,    155.9,2,    154.7,4,    74.52,2,    34.86,2,     0.01,2,     2.46,2,    0.000,2,   -0.001,2, -999.000,1,-999.0000,1,  -999.00,9,   -999.0,1,-999.000,9,   2255.4,2,   2346.8,2,     7.55,2,11000.5,-999.0000,-999.000,-999.000,  3.3066,-999.000
   318MWESTW_5,  P21W,   189,  1,     22, SI9418,2,19940528,2142,-17.5000,-165.6638, 5415,   1293.9,   2.9922,  34.5589,2,  34.5582,2,    146.1,2,    147.1,2,    90.48,2,    35.62,2,     0.01,2,     2.51,2,   -0.001,2,   -0.001,2, -999.000,1,-999.0000,1,  -999.00,9,   -999.0,1,-999.000,9,   2276.8,2,   2363.0,2,     7.54,2,12931.7,-999.0000,-999.000,-999.000,  2.9013,-999.000
   318MWESTW_5,  P21W,   189,  1,     21, SI9421,2,19940528,2142,-17.5000,-165.6638, 5415,   1499.9,   2.6669,  34.5886,2,  34.5895,2,    146.4,2,    145.5,2,   101.00,2,    35.82,2,     0.01,2,     2.51,2,   -0.002,2,   -0.001,2, -999.000,1,-999.0000,1,  -999.00,9,   -999.0,1,-999.000,9,   2287.1,2,   2378.0,2,     7.54,2,14980.2,-999.0000,-999.000,-999.000,  2.5629,-999.000
   318MWESTW_5,  P21W,   189,  1,     20, SI9420,2,19940528,2142,-17.5000,-165.6638, 5415,   1704.6,   2.4598,  34.6083,2,  34.6097,2,    146.3,2,    146.7,2,   107.87,2,    35.90,2,     0.01,2,     2.51,2, -999.000,9, -999.000,9, -999.000,1,-999.0000,1,  -999.00,9,   -999.0,1,-999.000,9,   2296.2,2,   2382.6,2,     7.55,2,17014.5,-999.0000,-999.000,-999.000,  2.3415,-999.000
   318MWESTW_5,  P21W,   189,  1,     19, SI9419,2,19940528,2142,-17.5000,-165.6638, 5415,   1900.0,   2.2659,  34.6264,2,  34.6254,2,    147.4,2,    147.8,2,   114.26,2,    35.93,2,     0.01,2,     2.53,2, -999.000,9, -999.000,9, -999.000,1,-999.0000,1,  -999.00,9,   -999.0,1,-999.000,9,   2302.2,2,   2393.8,2,     7.55,2,18957.5,-999.0000,-999.000,-999.000,  2.1339,-999.000
   318MWESTW_5,  P21W,   189,  1,     18, SI9439,2,19940528,2142,-17.5000,-165.6638, 5415,   2106.5,   2.0893,  34.6402,2,  34.6398,2,    149.0,2,    149.2,2,   118.74,2,    35.78,2,     0.02,2,     2.51,2, -999.000,9, -999.000,9, -999.000,1,-999.0000,1,  -999.00,9,   -999.0,1,-999.000,9,   2304.7,2,   2391.5,2,     7.55,2,21010.7,-999.0000,-999.000,-999.000,  1.9424,-999.000
   318MWESTW_5,  P21W,   189,  1,     17, SI9417,2,19940528,2142,-17.5000,-165.6638, 5415,   2303.3,   1.9615,  34.6514,2,  34.6510,2,    150.6,2,    150.6,2,   123.06,2,    35.75,2,     0.00,2,     2.52,2, -999.000,9, -999.000,9, -999.000,1,-999.0000,1,  -999.00,9,   -999.0,1,-999.000,9,   2310.0,2,   2400.9,2,     7.55,2,22966.9,-999.0000,-999.000,-999.000,  1.7995,-999.000
   318MWESTW_5,  P21W,   189,  1,     16, SI9416,2,19940528,2142,-17.5000,-165.6638, 5415,   2496.8,   1.8666,  34.6601,2,  34.6604,2,    151.7,2,    151.7,2,   126.10,2,    35.66,2,     0.00,2,     2.50,2,    0.001,2,   -0.002,2, -999.000,1,-999.0000,1,  -999.00,9,   -999.0,1,-999.000,9,   2309.9,2,   2402.3,2,     7.56,2,24891.2,-999.0000,-999.000,-999.000,  1.6891,-999.000
   318MWESTW_5,  P21W,   189,  1,     15, SI9415,2,19940528,2142,-17.5000,-165.6638, 5415,   2705.9,   1.7866,  34.6662,2,  34.6661,2,    154.4,2,    155.7,2,   127.07,2,    35.38,2,     0.00,2,     2.48,2, -999.000,9, -999.000,9, -999.000,1,-999.0000,1,  -999.00,9,   -999.0,1,-999.000,9,   2310.5,2,   2404.2,2,     7.56,2,26969.8,-999.0000,-999.000,-999.000,  1.5914,-999.000
   318MWESTW_5,  P21W,   189,  1,     14, SI9436,2,19940528,2142,-17.5000,-165.6638, 5415,   2901.7,   1.7185,  34.6721,2,  34.6722,2,    156.9,2,    157.6,2,   128.99,2,    35.41,2,     0.01,2,     2.48,2, -999.000,9, -999.000,9, -999.000,1,-999.0000,1,  -999.00,9,   -999.0,1,-999.000,9,   2308.4,2,   2404.7,2,     7.56,2,28916.6,-999.0000,-999.000,-999.000,  1.5063,-999.000
   318MWESTW_5,  P21W,   189,  1,     13, SI9413,2,19940528,2142,-17.5000,-165.6638, 5415,   3098.9,   1.6669,  34.6762,2,  34.6753,2,    159.7,2,    159.9,2,   129.80,2,    35.27,2,     0.01,2,     2.46,2, -999.000,9, -999.000,9, -999.000,1,-999.0000,1,  -999.00,9,   -999.0,1,-999.000,9,   2309.5,2,   2407.1,2,     7.57,2,30876.8,-999.0000,-999.000,-999.000,  1.4369,-999.000
   318MWESTW_5,  P21W,   189,  1,     12, SI9438,2,19940528,2142,-17.5000,-165.6638, 5415,   3306.1,   1.6035,  34.6809,2,  34.6820,2,    163.0,2,    163.5,2,   129.65,2,    34.95,2,     0.02,2,     2.44,2, -999.000,9, -999.000,9, -999.000,1,-999.0000,1,  -999.00,9,   -999.0,1,-999.000,9,   2307.9,2,   2403.0,2,     7.57,2,32936.8,-999.0000,-999.000,-999.000,  1.3544,-999.000
   318MWESTW_5,  P21W,   189,  1,     11, SI9411,2,19940528,2142,-17.5000,-165.6638, 5415,   3503.2,   1.5461,  34.6860,2,  34.6859,2,    169.0,2,    168.8,2,   128.72,2,    34.60,2,     0.02,2,     2.42,2,   -0.001,2,   -0.003,2, -999.000,1,-999.0000,1,  -999.00,9,   -999.0,1,-999.000,9,   2302.7,2,   2398.5,2,     7.57,2,34896.4,-999.0000,-999.000,-999.000,  1.2785,-999.000
   318MWESTW_5,  P21W,   189,  1,     10, SI9412,2,19940528,2142,-17.5000,-165.6638, 5415,   3686.5,   1.4789,  34.6921,2,  34.6922,2,    173.9,2,    174.7,2,   126.50,2,    34.09,2,     0.00,2,     2.38,2, -999.000,9, -999.000,9, -999.000,1,-999.0000,1,  -999.00,9,   -999.0,1,-999.000,9,   2297.4,2,   2395.3,2,     7.58,2,36718.4,-999.0000,-999.000,-999.000,  1.1940,-999.000
   318MWESTW_5,  P21W,   189,  1,      9, SI9410,2,19940528,2142,-17.5000,-165.6638, 5415,   3877.4,   1.3957,  34.6975,2,  34.6973,2,    180.9,2,    182.7,2,   123.80,2,    33.45,2,     0.00,2,     2.34,2, -999.000,9, -999.000,9, -999.000,1,-999.0000,1,  -999.00,9,   -999.0,1,-999.000,9,   2286.3,2,   2387.0,2,     7.58,2,38616.2,-999.0000,-999.000,-999.000,  1.0928,-999.000
   318MWESTW_5,  P21W,   189,  1,      8, SI9422,2,19940528,2142,-17.5000,-165.6638, 5415,   4079.6,   1.3141,  34.7029,2,  34.7026,2,    188.9,2,    190.0,2,   121.42,2,    33.02,2,     0.00,2,     2.30,2, -999.000,9, -999.000,9, -999.000,1,-999.0000,1,  -999.00,9,   -999.0,1,-999.000,9,   2280.2,2,   2380.6,2,     7.59,2,40626.5,-999.0000,-999.000,-999.000,  0.9917,-999.000
   318MWESTW_5,  P21W,   189,  1,      7, SI9407,2,19940528,2142,-17.5000,-165.6638, 5415,   4304.3,   1.2139,  34.7072,2,  34.7081,2,    196.6,2,    198.6,2,   119.37,2,    32.54,2,     0.00,2,     2.26,2, -999.000,9, -999.000,9, -999.000,1,-999.0000,1,  -999.00,9,   -999.0,1,-999.000,9,   2272.5,2,   2374.5,2,     7.59,2,42860.6,-999.0000,-999.000,-999.000,  0.8697,-999.000
   318MWESTW_5,  P21W,   189,  1,      6, SI9427,2,19940528,2142,-17.5000,-165.6638, 5415,   4500.7,   1.1457,  34.7089,2,  34.7091,2,    202.1,2,    203.5,2,   118.74,2,    32.22,2,     0.00,2,     2.23,2,   -0.001,2,   -0.001,2, -999.000,1,-999.0000,1,  -999.00,9,   -999.0,1,-999.000,9,   2268.5,2,   2373.5,2,     7.59,2,44813.0,-999.0000,-999.000,-999.000,  0.7815,-999.000
   318MWESTW_5,  P21W,   189,  1,      5, SI9405,2,19940528,2142,-17.5000,-165.6638, 5415,   4699.3,   1.1048,  34.7106,2,  34.7103,2,    205.5,2,    206.2,2,   119.08,2,    32.18,2,     0.00,2,     2.22,2, -999.000,9, -999.000,9, -999.000,1,-999.0000,1,  -999.00,9,   -999.0,1,-999.000,9,   2265.7,2,   2368.9,2,     7.59,2,46786.9,-999.0000,-999.000,-999.000,  0.7192,-999.000
   318MWESTW_5,  P21W,   189,  1,      4, SI9404,2,19940528,2142,-17.5000,-165.6638, 5415,   4901.8,   1.0917,  34.7103,2,  34.7097,2,    207.2,2,    207.2,2,   119.41,2,    32.04,2,     0.00,2,     2.22,2,    0.001,2,    0.000,2, -999.000,1,-999.0000,1,  -999.00,9,   -999.0,1,-999.000,9,   2264.4,2,   2367.4,2,     7.59,2,48800.8,-999.0000,-999.000,-999.000,  0.6828,-999.000
   318MWESTW_5,  P21W,   189,  1,      3, SI9403,2,19940528,2142,-17.5000,-165.6638, 5415,   5111.3,   1.0955,  34.7097,2,  34.7095,2,    208.5,2,    208.2,2,   119.74,2,    31.99,2,     0.00,2,     2.21,2,    0.001,2,    0.000,2, -999.000,1,-999.0000,1,  -999.00,9,   -999.0,1,-999.000,9,   2264.6,2,   2368.9,2,     7.59,2,50883.4,-999.0000,-999.000,-999.000,  0.6615,-999.000
   318MWESTW_5,  P21W,   189,  1,      2, SI9437,2,19940528,2142,-17.5000,-165.6638, 5415,   5308.7,   1.1071,  34.7090,2,  34.7089,2,    209.3,2,    207.8,2,   119.90,2,    31.97,2,     0.00,2,     2.22,2,    0.001,2,    0.000,2, -999.000,1,-999.0000,1,  -999.00,9,   -999.0,1,-999.000,9,   2261.5,2,   2368.6,2,     7.59,2,52845.4,-999.0000,-999.000,-999.000,  0.6486,-999.000
   318MWESTW_5,  P21W,   189,  1,      1, SI9401,2,19940528,2142,-17.5000,-165.6638, 5415,   5519.3,   1.1293,  34.7090,2,  34.7091,2,    210.0,2,    209.2,2,   120.03,2,    31.94,2,     0.01,2,     2.22,2,    0.001,2,    0.000,2, -999.000,1,-999.0000,1,  -999.00,9,   -999.0,1,-999.000,9,   2261.6,2,   2371.6,2,     7.59,2,54939.2,-999.0000,-999.000,-999.000,  0.6437,-999.000