BOTTLE,20010911WHPSIOdm
EXPOCODE,SECT_ID,STNNBR,CASTNO,SAMPNO,BTLNBR,BTLNBR_FLAG_W,DATE,TIME,LATITUDE,LONGITUDE,DEPTH,CTDPRS,CTDTMP,CTDSAL,CTDSAL_FLAG_W,SALNTY,SALNTY_FLAG_W,CTDOXY,CTDOXY_FLAG_W,OXYGEN,OXYGEN_FLAG_W,SILCAT,SILCAT_FLAG_W,NITRAT,NITRAT_FLAG_W,NITRIT,NITRIT_FLAG_W,PHSPHT,PHSPHT_FLAG_W,CFC-11,CFC-11_FLAG_W,CFC-12,CFC-12_FLAG_W,TRITUM,TRITUM_FLAG_W,HELIUM,HELIUM_FLAG_W,DELHE3,DELHE3_FLAG_W,DELC14,DELC14_FLAG_W,NEON,NEON_FLAG_W,TCARBN,TCARBN_FLAG_W,ALKALI,ALKALI_FLAG_W,PH,PH_FLAG_W,CTDRAW,HELIER,DELHER,NEONER,THETA,TRITER
,,,,,,,,,,,,DBAR,ITS-90,PSS-78,,PSS-78,,UMOL/KG,,UMOL/KG,,UMOL/KG,,UMOL/KG,,UMOL/KG,,UMOL/KG,,PMOL/KG,,PMOL/KG,,TU,,UMOL/KG,,PERCNT,,/MILLE,,NMOL/KG,,UMOL/KG,,UMOL/KG,,,,,NMOL/KG,PERCNT,NMOL/KG,ITS-90,TU
   318MWESTW_5,  P21W,   252,  1,     36, SI9442,2,19940613,0302,-19.7167, 164.9278, 3260,      6.0,  24.2060,  35.1551,2,  35.1538,2,    215.1,2,    212.1,2,     0.61,2,    -0.01,2,     0.01,2,     0.09,2, -999.000,9, -999.000,9, -999.000,1,-999.0000,1,  -999.00,9,   -999.0,1,-999.000,9,   -999.0,9,   -999.0,9,  -999.00,9,  120.4,-999.0000,-999.000,-999.000, 24.2047,-999.000
   318MWESTW_5,  P21W,   252,  1,     35, SI9435,2,19940613,0302,-19.7167, 164.9278, 3260,     21.4,  24.2063,  35.1535,2,  35.1528,2,    209.7,2,    208.6,2,     0.61,2,     0.01,2,     0.01,2,     0.08,2, -999.000,9, -999.000,9, -999.000,1,-999.0000,1,  -999.00,9,   -999.0,1,-999.000,9,   -999.0,9,   -999.0,9,  -999.00,9,  273.7,-999.0000,-999.000,-999.000, 24.2018,-999.000
   318MWESTW_5,  P21W,   252,  1,     34, SI9441,2,19940613,0302,-19.7167, 164.9278, 3260,     46.3,  24.1689,  35.1548,2,  35.1713,2,    205.3,2,    212.9,2,     0.62,2,     0.01,2,     0.01,2,     0.08,2, -999.000,9, -999.000,9, -999.000,1,-999.0000,1,  -999.00,9,   -999.0,1,-999.000,9,   -999.0,9,   -999.0,9,  -999.00,9,  522.2,-999.0000,-999.000,-999.000, 24.1591,-999.000
   318MWESTW_5,  P21W,   252,  1,     33, SI9433,2,19940613,0302,-19.7167, 164.9278, 3260,     97.2,  23.9451,  35.3332,2,  35.3510,2,    197.2,2,    213.1,2,     0.48,2,     0.17,2,     0.08,2,     0.12,2, -999.000,9, -999.000,9, -999.000,1,-999.0000,1,  -999.00,9,   -999.0,1,-999.000,9,   -999.0,9,   -999.0,9,  -999.00,9, 1028.3,-999.0000,-999.000,-999.000, 23.9246,-999.000
   318MWESTW_5,  P21W,   252,  1,     32, SI9432,2,19940613,0302,-19.7167, 164.9278, 3260,    148.4,  21.3941,  35.7522,2,  35.7515,2,    172.8,2,    176.8,2,     0.90,2,     3.57,2,     0.03,2,     0.39,2, -999.000,9, -999.000,9, -999.000,1,-999.0000,1,  -999.00,9,   -999.0,1,-999.000,9,   -999.0,9,   -999.0,9,  -999.00,9, 1538.2,-999.0000,-999.000,-999.000, 21.3652,-999.000
   318MWESTW_5,  P21W,   252,  1,     31, SI9431,2,19940613,0302,-19.7167, 164.9278, 3260,    198.9,  20.1471,  35.7136,2,  35.7071,2,    172.1,2,    178.8,2,     1.18,2,     4.31,2,     0.01,2,     0.44,2, -999.000,9, -999.000,9, -999.000,1,-999.0000,1,  -999.00,9,   -999.0,1,-999.000,9,   -999.0,9,   -999.0,9,  -999.00,9, 2041.3,-999.0000,-999.000,-999.000, 20.1100,-999.000
   318MWESTW_5,  P21W,   252,  1,     30, SI9440,2,19940613,0302,-19.7167, 164.9278, 3260,    249.0,  18.7719,  35.6213,2,  35.6078,2,    172.9,2,    178.1,2,     1.60,2,     5.56,2,     0.02,2,     0.51,2, -999.000,9, -999.000,9, -999.000,1,-999.0000,1,  -999.00,9,   -999.0,1,-999.000,9,   -999.0,9,   -999.0,9,  -999.00,9, 2539.5,-999.0000,-999.000,-999.000, 18.7276,-999.000
   318MWESTW_5,  P21W,   252,  1,     29, SI9429,2,19940613,0302,-19.7167, 164.9278, 3260,    298.5,  17.0728,  35.4706,2,  35.4663,2,    171.0,2,    174.6,2,     2.16,2,     7.40,2,     0.01,2,     0.65,2, -999.000,9, -999.000,9, -999.000,1,-999.0000,1,  -999.00,9,   -999.0,1,-999.000,9,   -999.0,9,   -999.0,9,  -999.00,9, 3032.3,-999.0000,-999.000,-999.000, 17.0231,-999.000
   318MWESTW_5,  P21W,   252,  1,     28, SI9428,2,19940613,0302,-19.7167, 164.9278, 3260,    346.6,  15.5164,  35.3295,2,  35.3273,2,    179.2,2,    178.0,2,     3.14,2,     9.33,2,     0.01,2,     0.76,2, -999.000,9, -999.000,9, -999.000,1,-999.0000,1,  -999.00,9,   -999.0,1,-999.000,9,   -999.0,9,   -999.0,9,  -999.00,9, 3511.4,-999.0000,-999.000,-999.000, 15.4623,-999.000
   318MWESTW_5,  P21W,   252,  1,     27, SI9424,2,19940613,0302,-19.7167, 164.9278, 3260,    400.2,  13.4038,  35.0783,2,  35.0754,2,    177.4,2,    173.9,2,     4.94,2,    13.04,2,     0.01,2,     1.03,2, -999.000,9, -999.000,9, -999.000,1,-999.0000,1,  -999.00,9,   -999.0,1,-999.000,9,   -999.0,9,   -999.0,9,  -999.00,9, 4044.5,-999.0000,-999.000,-999.000, 13.3472,-999.000
   318MWESTW_5,  P21W,   252,  1,     26, SI9414,2,19940613,0302,-19.7167, 164.9278, 3260,    452.6,  11.7713,  34.9284,2,  34.8918,2,    181.8,2,    181.0,2,     6.33,2,    16.18,2,     0.01,2,     1.19,2, -999.000,9, -999.000,9, -999.000,1,-999.0000,1,  -999.00,9,   -999.0,1,-999.000,9,   -999.0,9,   -999.0,9,  -999.00,9, 4565.9,-999.0000,-999.000,-999.000, 11.7124,-999.000
   318MWESTW_5,  P21W,   252,  1,     25, SI9425,2,19940613,0302,-19.7167, 164.9278, 3260,    503.0,   9.9419,  34.7206,2,  34.7184,2,    182.9,2,    183.9,2,     8.70,2,    19.37,2,     0.01,2,     1.41,2, -999.000,9, -999.000,9, -999.000,1,-999.0000,1,  -999.00,9,   -999.0,1,-999.000,9,   -999.0,9,   -999.0,9,  -999.00,9, 5066.6,-999.0000,-999.000,-999.000,  9.8830,-999.000
   318MWESTW_5,  P21W,   252,  1,     24, SI9434,2,19940613,0302,-19.7167, 164.9278, 3260,    595.1,   7.6095,  34.5008,2,  34.4966,2,    195.2,2,    193.9,2,    13.28,2,    23.90,2,     0.01,2,     1.68,2, -999.000,9, -999.000,9, -999.000,1,-999.0000,1,  -999.00,9,   -999.0,1,-999.000,9,   -999.0,9,   -999.0,9,  -999.00,9, 5982.8,-999.0000,-999.000,-999.000,  7.5499,-999.000
   318MWESTW_5,  P21W,   252,  1,     23, SI9423,2,19940613,0302,-19.7167, 164.9278, 3260,    695.7,   6.4049,  34.4293,2,  34.4253,2,    191.5,2,    191.0,2,    20.91,2,    27.09,2,     0.01,2,     1.89,2, -999.000,9, -999.000,9, -999.000,1,-999.0000,1,  -999.00,9,   -999.0,1,-999.000,9,   -999.0,9,   -999.0,9,  -999.00,9, 6982.8,-999.0000,-999.000,-999.000,  6.3411,-999.000
   318MWESTW_5,  P21W,   252,  1,     22, SI9418,2,19940613,0302,-19.7167, 164.9278, 3260,    796.5,   5.4697,  34.4162,2,  34.4147,2,    183.7,2,    182.0,2,    32.28,2,    29.68,2,     0.01,2,     2.06,2, -999.000,9, -999.000,9, -999.000,1,-999.0000,1,  -999.00,9,   -999.0,1,-999.000,9,   -999.0,9,   -999.0,9,  -999.00,9, 7985.3,-999.0000,-999.000,-999.000,  5.4018,-999.000
   318MWESTW_5,  P21W,   252,  1,     21, SI9421,2,19940613,0302,-19.7167, 164.9278, 3260,    902.0,   4.7126,  34.4411,2,  34.4408,2,    171.9,2,    172.1,2,    46.71,2,    31.65,2,     0.01,2,     2.21,2, -999.000,9, -999.000,9, -999.000,1,-999.0000,1,  -999.00,9,   -999.0,1,-999.000,9,   -999.0,9,   -999.0,9,  -999.00,9, 9033.7,-999.0000,-999.000,-999.000,  4.6402,-999.000
   318MWESTW_5,  P21W,   252,  1,     20, SI9420,2,19940613,0302,-19.7167, 164.9278, 3260,   1005.1,   4.2488,  34.4644,2,  34.4636,2,    167.7,2,    168.1,2,    56.55,2,    32.51,2,     0.00,2,     2.26,2, -999.000,9, -999.000,9, -999.000,1,-999.0000,1,  -999.00,9,   -999.0,1,-999.000,9,   -999.0,9,   -999.0,9,  -999.00,9,10059.2,-999.0000,-999.000,-999.000,  4.1709,-999.000
   318MWESTW_5,  P21W,   252,  1,     19, SI9419,2,19940613,0302,-19.7167, 164.9278, 3260,   1094.9,   3.8397,  34.4957,2,  34.4942,2,    163.9,2,    163.7,2,    66.96,2,    33.24,2,     0.00,2,     2.31,2, -999.000,9, -999.000,9, -999.000,1,-999.0000,1,  -999.00,9,   -999.0,1,-999.000,9,   -999.0,9,   -999.0,9,  -999.00,9,10952.4,-999.0000,-999.000,-999.000,  3.7574,-999.000
   318MWESTW_5,  P21W,   252,  1,     18, SI9439,2,19940613,0302,-19.7167, 164.9278, 3260,   1198.7,   3.4989,  34.5242,2,  34.5262,2,    161.0,2,    161.5,2,    76.39,2,    33.63,2,     0.01,2,     2.34,2, -999.000,9, -999.000,9, -999.000,1,-999.0000,1,  -999.00,9,   -999.0,1,-999.000,9,   -999.0,9,   -999.0,9,  -999.00,9,11983.8,-999.0000,-999.000,-999.000,  3.4110,-999.000
   318MWESTW_5,  P21W,   252,  1,     17, SI9417,2,19940613,0302,-19.7167, 164.9278, 3260,   1302.2,   3.2137,  34.5517,2,  34.5527,2,    159.2,2,    159.5,2,    84.57,2,    33.91,2,     0.00,2,     2.37,2, -999.000,9, -999.000,9, -999.000,1,-999.0000,1,  -999.00,9,   -999.0,1,-999.000,9,   -999.0,9,   -999.0,9,  -999.00,9,13012.9,-999.0000,-999.000,-999.000,  3.1200,-999.000
   318MWESTW_5,  P21W,   252,  1,     16, SI9416,2,19940613,0302,-19.7167, 164.9278, 3260,   1394.2,   3.0287,  34.5701,2,  34.5702,2,    156.9,2,    156.9,2,    90.26,2,    34.27,2,     0.00,2,     2.40,2, -999.000,9, -999.000,9, -999.000,1,-999.0000,1,  -999.00,9,   -999.0,1,-999.000,9,   -999.0,9,   -999.0,9,  -999.00,9,13927.5,-999.0000,-999.000,-999.000,  2.9293,-999.000
   318MWESTW_5,  P21W,   252,  1,     15, SI9415,2,19940613,0302,-19.7167, 164.9278, 3260,   1496.8,   2.8990,  34.5841,2,  34.5840,2,    153.1,2,    151.4,4,    94.70,2,    34.58,2,     0.00,2,     2.41,2, -999.000,9, -999.000,9, -999.000,1,-999.0000,1,  -999.00,9,   -999.0,1,-999.000,9,   -999.0,9,   -999.0,9,  -999.00,9,14948.0,-999.0000,-999.000,-999.000,  2.7926,-999.000
   318MWESTW_5,  P21W,   252,  1,     14, SI9436,2,19940613,0302,-19.7167, 164.9278, 3260,   1600.3,   2.7276,  34.6012,2,  34.6005,2,    152.6,2,    152.2,2,    99.42,2,    34.80,2,     0.01,2,     2.43,2, -999.000,9, -999.000,9, -999.000,1,-999.0000,1,  -999.00,9,   -999.0,1,-999.000,9,   -999.0,9,   -999.0,9,  -999.00,9,15976.5,-999.0000,-999.000,-999.000,  2.6146,-999.000
   318MWESTW_5,  P21W,   252,  1,     13, SI9413,2,19940613,0302,-19.7167, 164.9278, 3260,   1692.2,   2.6186,  34.6118,2,  34.6113,2,    151.2,2,    150.3,2,   102.74,2,    34.93,2,     0.01,2,     2.46,2, -999.000,9, -999.000,9, -999.000,1,-999.0000,1,  -999.00,9,   -999.0,1,-999.000,9,   -999.0,9,   -999.0,9,  -999.00,9,16890.5,-999.0000,-999.000,-999.000,  2.4993,-999.000
   318MWESTW_5,  P21W,   252,  1,     12, SI9438,2,19940613,0302,-19.7167, 164.9278, 3260,   1846.5,   2.4326,  34.6296,2,  34.6293,2,    150.9,2,    150.9,2,   107.19,2,    35.03,2,     0.00,2,     2.45,2, -999.000,9, -999.000,9, -999.000,1,-999.0000,1,  -999.00,9,   -999.0,1,-999.000,9,   -999.0,9,   -999.0,9,  -999.00,9,18424.4,-999.0000,-999.000,-999.000,  2.3028,-999.000
   318MWESTW_5,  P21W,   252,  1,     11, SI9411,2,19940613,0302,-19.7167, 164.9278, 3260,   2000.8,   2.2801,  34.6456,2,  34.6451,2,    150.5,2,    150.8,2,   110.79,2,    35.07,2,     0.01,2,     2.46,2, -999.000,9, -999.000,9, -999.000,1,-999.0000,1,  -999.00,9,   -999.0,1,-999.000,9,   -999.0,9,   -999.0,9,  -999.00,9,19958.3,-999.0000,-999.000,-999.000,  2.1393,-999.000
   318MWESTW_5,  P21W,   252,  1,     10, SI9412,2,19940613,0302,-19.7167, 164.9278, 3260,   2155.7,   2.1684,  34.6564,2,  34.6557,2,    152.3,2,    152.7,2,   112.87,2,    34.98,2,     0.00,2,     2.45,2, -999.000,9, -999.000,9, -999.000,1,-999.0000,1,  -999.00,9,   -999.0,1,-999.000,9,   -999.0,9,   -999.0,9,  -999.00,9,21498.0,-999.0000,-999.000,-999.000,  2.0159,-999.000
   318MWESTW_5,  P21W,   252,  1,      9, SI9410,2,19940613,0302,-19.7167, 164.9278, 3260,   2299.6,   2.0905,  34.6632,2,  34.6618,2,    153.0,2,    153.6,2,   114.40,2,    34.93,2,     0.01,2,     2.44,2, -999.000,9, -999.000,9, -999.000,1,-999.0000,1,  -999.00,9,   -999.0,1,-999.000,9,   -999.0,9,   -999.0,9,  -999.00,9,22929.1,-999.0000,-999.000,-999.000,  1.9266,-999.000
   318MWESTW_5,  P21W,   252,  1,      8, SI9422,2,19940613,0302,-19.7167, 164.9278, 3260,   2443.5,   2.0149,  34.6686,2,  34.6684,2,    154.0,2,    155.0,2,   116.21,2,    34.85,2,     0.01,2,     2.44,2, -999.000,9, -999.000,9, -999.000,1,-999.0000,1,  -999.00,9,   -999.0,1,-999.000,9,   -999.0,9,   -999.0,9,  -999.00,9,24359.7,-999.0000,-999.000,-999.000,  1.8394,-999.000
   318MWESTW_5,  P21W,   252,  1,      7, SI9407,2,19940613,0302,-19.7167, 164.9278, 3260,   2600.0,   1.9521,  34.6732,2,  34.6736,2,    154.5,2,    155.8,2,   118.01,2,    34.85,2,     0.01,2,     2.43,2, -999.000,9, -999.000,9, -999.000,1,-999.0000,1,  -999.00,9,   -999.0,1,-999.000,9,   -999.0,9,   -999.0,9,  -999.00,9,25915.5,-999.0000,-999.000,-999.000,  1.7635,-999.000
   318MWESTW_5,  P21W,   252,  1,      6, SI9427,2,19940613,0302,-19.7167, 164.9278, 3260,   2742.4,   1.9303,  34.6757,2,  34.6765,2,    155.1,2,    156.0,2,   118.65,2,    34.84,2,     0.01,2,     2.43,2, -999.000,9, -999.000,9, -999.000,1,-999.0000,1,  -999.00,9,   -999.0,1,-999.000,9,   -999.0,9,   -999.0,9,  -999.00,9,27331.2,-999.0000,-999.000,-999.000,  1.7288,-999.000
   318MWESTW_5,  P21W,   252,  1,      5, SI9405,2,19940613,0302,-19.7167, 164.9278, 3260,   2899.5,   1.8856,  34.6801,2,  34.6793,2,    155.6,2,    156.9,2,   119.90,2,    34.77,2,     0.01,2,     2.42,2, -999.000,9, -999.000,9, -999.000,1,-999.0000,1,  -999.00,9,   -999.0,1,-999.000,9,   -999.0,9,   -999.0,9,  -999.00,9,28892.3,-999.0000,-999.000,-999.000,  1.6700,-999.000
   318MWESTW_5,  P21W,   252,  1,      4, SI9404,2,19940613,0302,-19.7167, 164.9278, 3260,   3043.5,   1.8617,  34.6815,2,  34.6800,2,    156.1,2,    157.0,2,   120.87,2,    34.77,2,     0.01,2,     2.43,2, -999.000,9, -999.000,9, -999.000,1,-999.0000,1,  -999.00,9,   -999.0,1,-999.000,9,   -999.0,9,   -999.0,9,  -999.00,9,30324.4,-999.0000,-999.000,-999.000,  1.6327,-999.000
   318MWESTW_5,  P21W,   252,  1,      3, SI9403,2,19940613,0302,-19.7167, 164.9278, 3260,   3189.2,   1.8488,  34.6833,2,  34.6826,2,    156.4,2,    157.3,2,   121.77,2,    34.84,2,     0.01,2,     2.42,2, -999.000,9, -999.000,9, -999.000,1,-999.0000,1,  -999.00,9,   -999.0,1,-999.000,9,   -999.0,9,   -999.0,9,  -999.00,9,31772.6,-999.0000,-999.000,-999.000,  1.6056,-999.000
   318MWESTW_5,  P21W,   252,  1,      2, SI9437,2,19940613,0302,-19.7167, 164.9278, 3260,   3240.5,   1.8452,  34.6830,2,  34.6834,2,    154.9,2,    157.2,2,   122.19,2,    34.84,2,     0.01,2,     2.43,2, -999.000,9, -999.000,9, -999.000,1,-999.0000,1,  -999.00,9,   -999.0,1,-999.000,9,   -999.0,9,   -999.0,9,  -999.00,9,32282.6,-999.0000,-999.000,-999.000,  1.5970,-999.000
   318MWESTW_5,  P21W,   252,  1,      1, SI9401,2,19940613,0302,-19.7167, 164.9278, 3260,   3281.5,   1.8471,  34.6826,2,  34.6814,2,    154.9,2,    158.2,2,   122.20,2,    34.83,2,     0.00,2,     2.43,2, -999.000,9, -999.000,9, -999.000,1,-999.0000,1,  -999.00,9,   -999.0,1,-999.000,9,   -999.0,9,   -999.0,9,  -999.00,9,32689.8,-999.0000,-999.000,-999.000,  1.5947,-999.000