BOTTLE,20010911WHPSIOdm
EXPOCODE,SECT_ID,STNNBR,CASTNO,SAMPNO,BTLNBR,BTLNBR_FLAG_W,DATE,TIME,LATITUDE,LONGITUDE,DEPTH,CTDPRS,CTDTMP,CTDSAL,CTDSAL_FLAG_W,SALNTY,SALNTY_FLAG_W,CTDOXY,CTDOXY_FLAG_W,OXYGEN,OXYGEN_FLAG_W,SILCAT,SILCAT_FLAG_W,NITRAT,NITRAT_FLAG_W,NITRIT,NITRIT_FLAG_W,PHSPHT,PHSPHT_FLAG_W,CFC-11,CFC-11_FLAG_W,CFC-12,CFC-12_FLAG_W,TRITUM,TRITUM_FLAG_W,HELIUM,HELIUM_FLAG_W,DELHE3,DELHE3_FLAG_W,DELC14,DELC14_FLAG_W,NEON,NEON_FLAG_W,TCARBN,TCARBN_FLAG_W,ALKALI,ALKALI_FLAG_W,PH,PH_FLAG_W,CTDRAW,HELIER,DELHER,NEONER,THETA,TRITER
,,,,,,,,,,,,DBAR,ITS-90,PSS-78,,PSS-78,,UMOL/KG,,UMOL/KG,,UMOL/KG,,UMOL/KG,,UMOL/KG,,UMOL/KG,,PMOL/KG,,PMOL/KG,,TU,,UMOL/KG,,PERCNT,,/MILLE,,NMOL/KG,,UMOL/KG,,UMOL/KG,,,,,NMOL/KG,PERCNT,NMOL/KG,ITS-90,TU
   318MWESTW_5,  P21W,   170,  1,     36, SI9442,2,19940523,0005,-17.4972,-153.0028, 4483,      3.2,  28.4066,  35.7401,2,  35.7426,2,    210.4,2,    222.3,2,     0.83,2,     0.00,2,     0.00,2,     0.20,2,    1.613,2,    0.947,2,    0.888,2,-999.0000,1,  -999.00,9,   -999.0,1,-999.000,9,   -999.0,9,   -999.0,9,  -999.00,9,   86.9,-999.0000,-999.000,-999.000, 28.4058,   0.007
   318MWESTW_5,  P21W,   170,  1,     35, SI9435,2,19940523,0005,-17.4972,-153.0028, 4483,     24.3,  28.2909,  35.7339,2,  35.7312,2,    203.8,2,    221.2,2,     0.86,2,     0.00,2,     0.00,2,     0.18,2,    1.598,2,    0.966,2,    0.894,2,   1.6928,2,    -1.10,2,   -999.0,1,   6.584,2,   1966.1,2,   2355.6,2,     8.14,2,  297.9,  0.0085,   0.080,   0.033, 28.2851,   0.007
   318MWESTW_5,  P21W,   170,  1,     34, SI9441,2,19940523,0005,-17.4972,-153.0028, 4483,     48.9,  28.2796,  35.7334,2,  35.7363,2,    206.2,2,    223.8,2,     0.87,2,     0.00,2,     0.00,2,     0.19,2,    1.612,2,    0.947,2,    0.932,2,   1.6928,2,    -1.11,2,   -999.0,1,   6.603,2,   1967.4,2,   2360.3,2,     8.13,2,  542.8,  0.0085,   0.080,   0.033, 28.2680,   0.007
   318MWESTW_5,  P21W,   170,  1,     33, SI9433,2,19940523,0005,-17.4972,-153.0028, 4483,    105.1,  25.1982,  36.0719,2,  36.0730,2,    223.6,2,    217.1,2,     0.74,2,    -0.02,2,     0.02,2,     0.21,2,    1.883,2,    1.000,2,    0.893,2,   1.7048,2,    -0.96,2,   -999.0,1,   6.771,2,   2017.0,2,   2350.2,2,     8.14,2, 1102.6,  0.0085,   0.080,   0.034, 25.1752,   0.008
   318MWESTW_5,  P21W,   170,  1,     32, SI9432,2,19940523,0005,-17.4972,-153.0028, 4483,    155.6,  23.6012,  36.1485,2,  36.1448,2,    192.1,2,    179.2,2,     0.76,2,     1.07,2,     0.04,2,     0.35,2,    1.913,2,    1.066,2,    0.796,2,   1.7058,2,    -0.72,2,   -999.0,1,   6.814,2,   2037.1,2,   2375.2,2,     8.09,2, 1606.3,  0.0085,   0.080,   0.034, 23.5687,   0.007
   318MWESTW_5,  P21W,   170,  1,     31, SI9431,2,19940523,0005,-17.4972,-153.0028, 4483,    211.2,  22.0518,  36.0640,2,  36.0487,2,    185.2,2,    180.1,2,     0.92,2,     3.09,2,     0.02,2,     0.48,2,    1.946,2,    1.001,2,    0.677,2,-999.0000,1,  -999.00,9,   -999.0,1,-999.000,9,   2075.8,2,   2380.9,2,     8.03,2, 2159.4,-999.0000,-999.000,-999.000, 22.0097,   0.007
   318MWESTW_5,  P21W,   170,  1,     30, SI9440,2,19940523,0005,-17.4972,-153.0028, 4483,    251.4,  20.0464,  35.7831,2,  35.7821,2,    182.5,2,    177.0,2,     1.36,2,     4.52,2,     0.01,2,     0.57,2, -999.000,9, -999.000,9,    0.652,2,   1.7207,2,     0.13,2,   -999.0,1,   6.992,2,   2082.3,2,   2354.7,2,     7.95,2, 2560.5,  0.0086,   0.080,   0.035, 19.9996,   0.007
   318MWESTW_5,  P21W,   170,  1,     29, SI9429,2,19940523,0005,-17.4972,-153.0028, 4483,    301.7,  17.1339,  35.3939,2,  35.3908,2,    181.7,2,    168.7,2,     2.75,2,     7.66,2,     0.00,2,     0.77,2,    1.643,2,    0.861,2,    0.501,2,   1.7316,2,     0.96,2,   -999.0,1,   7.052,2,   2094.6,2,   2329.6,2,     7.89,2, 3060.8,  0.0087,   0.080,   0.035, 17.0836,   0.006
   318MWESTW_5,  P21W,   170,  1,     28, SI9428,2,19940523,0005,-17.4972,-153.0028, 4483,    391.5,  12.2951,  34.8358,2,  34.8302,2,    168.4,2,    153.5,2,     8.42,2,    16.73,2,     0.01,2,     1.37,2,    0.944,2,    0.495,2,    0.330,2,   1.7486,2,     1.66,2,   -999.0,1,   7.357,2,   2134.5,2,   2299.8,2,     7.76,2, 3954.4,  0.0087,   0.080,   0.037, 12.2429,   0.005
   318MWESTW_5,  P21W,   170,  1,     27, SI9424,2,19940523,0005,-17.4972,-153.0028, 4483,    496.1,   8.5085,  34.5356,2,  34.5325,2,    152.2,2,    142.2,4,    18.73,2,    26.46,2,     0.01,2,     1.95,2,    0.339,2,    0.170,2,    0.132,2,   1.7704,2,     2.99,2,   -999.0,1,   7.561,2,   2180.8,2,   2297.6,2,     7.62,2, 4994.1,  0.0089,   0.080,   0.038,  8.4558,   0.005
   318MWESTW_5,  P21W,   170,  1,     26, SI9414,2,19940523,0005,-17.4972,-153.0028, 4483,    597.1,   6.6253,  34.4405,2,  34.4365,2,    159.3,2,    155.7,2,    24.72,2,    29.44,2,     0.01,2,     2.10,2,    0.164,2,    0.094,2,    0.058,2,   1.7874,2,     4.46,2,   -999.0,1,   7.672,2,   2189.4,2,   2295.2,2,     7.60,2, 5998.4,  0.0089,   0.090,   0.038,  6.5700,   0.004
   318MWESTW_5,  P21W,   170,  1,     25, SI9425,2,19940523,0005,-17.4972,-153.0028, 4483,    698.5,   5.5202,  34.4218,2,  34.4188,2,    162.6,2,    159.6,2,    35.63,2,    31.80,2,     0.01,2,     2.23,2,    0.056,2,    0.033,2,    0.014,2,   1.8046,2,     7.29,2,   -999.0,1,   7.760,2,   2206.5,2,   2310.3,2,     7.58,2, 7006.8,  0.0090,   0.090,   0.039,  5.4608,   0.004
   318MWESTW_5,  P21W,   170,  1,     24, SI9434,2,19940523,0005,-17.4972,-153.0028, 4483,    802.7,   4.9616,  34.4437,2,  34.4414,2,    158.6,2,    154.5,2,    45.79,2,    33.06,2,     0.00,2,     2.32,2,    0.020,2,    0.015,2,    0.009,2,   1.8361,2,     9.82,2,   -999.0,1,   7.805,2,   2221.1,2,   2322.0,2,     7.57,2, 8042.8,  0.0092,   0.090,   0.039,  4.8962,   0.004
   318MWESTW_5,  P21W,   170,  1,     23, SI9423,2,19940523,0005,-17.4972,-153.0028, 4483,    905.6,   4.3654,  34.4727,2,  34.4710,2,    153.0,2,    149.7,2,    58.19,2,    34.22,2,     0.00,2,     2.38,2, -999.000,9, -999.000,9,   -0.001,2,   1.8290,2,    13.44,2,   -999.0,1,   7.803,2,   2236.7,2,   2331.6,2,     7.56,2, 9066.0,  0.0091,   0.090,   0.039,  4.2950,   0.004
   318MWESTW_5,  P21W,   170,  1,     22, SI9418,2,19940523,0005,-17.4972,-153.0028, 4483,    994.6,   4.0251,  34.4898,2,  34.4875,2,    150.2,2,    148.9,2,    65.53,2,    34.64,2,     0.00,2,     2.41,2,    0.002,2,    0.000,2, -999.000,1,-999.0000,1,  -999.00,9,   -999.0,1,-999.000,9,   2255.5,2,   2346.9,2,     7.55,2, 9951.0,-999.0000,-999.000,-999.000,  3.9497,-999.000
   318MWESTW_5,  P21W,   170,  1,     21, SI9421,2,19940523,0005,-17.4972,-153.0028, 4483,   1100.4,   3.5980,  34.5140,2,  34.5135,2,    148.0,2,    148.3,2,    75.24,2,    35.11,2,     0.00,2,     2.45,2,    0.001,2,    0.000,2, -999.000,1,-999.0000,1,  -999.00,9,   -999.0,1,-999.000,9,   2255.7,2,   2368.6,2,     7.55,2,11003.2,-999.0000,-999.000,-999.000,  3.5173,-999.000
   318MWESTW_5,  P21W,   170,  1,     20, SI9420,2,19940523,0005,-17.4972,-153.0028, 4483,   1190.8,   3.2862,  34.5363,2,  34.5343,2,    147.8,2,    147.2,2,    82.72,2,    35.48,2,     0.00,2,     2.46,2,   -0.002,2,    0.003,2,    0.004,2,   1.9156,2,    20.09,2,   -999.0,1,   8.159,2,   2264.6,2,   2361.7,2,     7.55,2,11901.3,  0.0096,   0.100,   0.041,  3.2009,   0.004
   318MWESTW_5,  P21W,   170,  1,     19, SI9419,2,19940523,0005,-17.4972,-153.0028, 4483,   1296.3,   3.0705,  34.5538,2,  34.5527,2,    146.7,2,    146.9,2,    88.85,2,    35.62,2,     0.00,2,     2.47,2,   -0.001,2,    0.003,2, -999.000,1,-999.0000,1,  -999.00,9,   -999.0,1,-999.000,9,   2272.1,2,   2374.6,2,     7.55,2,12950.6,-999.0000,-999.000,-999.000,  2.9787,-999.000
   318MWESTW_5,  P21W,   170,  1,     18, SI9439,2,19940523,0005,-17.4972,-153.0028, 4483,   1448.3,   2.8401,  34.5745,2,  34.5730,2,    146.4,2,    147.0,2,    95.58,2,    35.66,2,     0.01,2,     2.49,2, -999.000,9, -999.000,9,    0.006,2,   1.9273,2,    23.29,2,   -999.0,1,   8.181,2,   2280.2,2,   2382.7,2,     7.55,2,14462.1,  0.0096,   0.100,   0.041,  2.7383,   0.004
   318MWESTW_5,  P21W,   170,  1,     17, SI9417,2,19940523,0005,-17.4972,-153.0028, 4483,   1591.9,   2.6395,  34.5931,2,  34.5916,2,    147.0,2,    147.3,2,   101.86,2,    35.72,2,     0.00,2,     2.50,2, -999.000,9, -999.000,9, -999.000,1,-999.0000,1,  -999.00,9,   -999.0,1,-999.000,9,   2284.8,2,   2384.5,2,     7.55,2,15889.2,-999.0000,-999.000,-999.000,  2.5283,-999.000
   318MWESTW_5,  P21W,   170,  1,     16, SI9416,2,19940523,0005,-17.4972,-153.0028, 4483,   1747.5,   2.3800,  34.6138,2,  34.6166,2,    148.2,2,    149.3,2,   109.05,2,    35.58,2,     0.01,2,     2.51,2,    0.000,2,    0.005,2, -999.000,1,-999.0000,1,  -999.00,9,   -999.0,1,-999.000,9,   2291.9,2,   2388.1,2,     7.61,4,17436.3,-999.0000,-999.000,-999.000,  2.2592,-999.000
   318MWESTW_5,  P21W,   170,  1,     15, SI9415,3,19940523,0005,-17.4972,-153.0028, 4483,   1889.5,   2.2295,  34.6271,2,  34.7304,4,    149.9,2,    153.2,4,    94.73,4,    31.42,4,     0.01,4,     2.23,4, -999.000,9, -999.000,9, -999.000,1,-999.0000,1,  -999.00,9,   -999.0,1,-999.000,9,   -999.0,9,   -999.0,9,  -999.00,9,18848.2,-999.0000,-999.000,-999.000,  2.0989,-999.000
   318MWESTW_5,  P21W,   170,  1,     14, SI9436,2,19940523,0005,-17.4972,-153.0028, 4483,   2095.7,   2.0761,  34.6404,2,  34.6402,2,    152.2,2,    152.5,2,   117.43,2,    35.35,2,     0.01,2,     2.49,2, -999.000,9, -999.000,9, -999.000,1,-999.0000,1,  -999.00,9,   -999.0,1,-999.000,9,   2298.9,2,   2397.4,2,     7.56,2,20897.8,-999.0000,-999.000,-999.000,  1.9303,-999.000
   318MWESTW_5,  P21W,   170,  1,     13, SI9413,2,19940523,0005,-17.4972,-153.0028, 4483,   2291.5,   1.9679,  34.6497,2,  34.6592,4,    154.5,2,    155.3,2,   120.13,2,    35.31,2,     0.01,2,     2.47,2, -999.000,9, -999.000,9, -999.000,1,-999.0000,1,  -999.00,9,   -999.0,1,-999.000,9,   2300.5,2,   2401.6,2,     7.56,2,22844.4,-999.0000,-999.000,-999.000,  1.8069,-999.000
   318MWESTW_5,  P21W,   170,  1,     12, SI9438,2,19940523,0005,-17.4972,-153.0028, 4483,   2499.1,   1.8614,  34.6595,2,  34.6594,2,    157.1,2,    157.7,2,   122.98,2,    35.18,2,     0.00,2,     2.45,2,    0.001,2,    0.001,2, -999.000,1,-999.0000,1,  -999.00,9,   -999.0,1,-999.000,9,   2301.3,2,   2404.3,2,     7.57,2,24908.3,-999.0000,-999.000,-999.000,  1.6838,-999.000
   318MWESTW_5,  P21W,   170,  1,     11, SI9411,2,19940523,0005,-17.4972,-153.0028, 4483,   2672.6,   1.7951,  34.6650,2,  34.6641,2,    159.2,2,    160.1,2,   124.34,2,    35.03,2,     0.01,2,     2.45,2, -999.000,9, -999.000,9, -999.000,1,-999.0000,1,  -999.00,9,   -999.0,1,-999.000,9,   2299.1,2,   2401.3,2,     7.57,2,26634.0,-999.0000,-999.000,-999.000,  1.6029,-999.000
   318MWESTW_5,  P21W,   170,  1,     10, SI9412,2,19940523,0005,-17.4972,-153.0028, 4483,   2870.2,   1.6978,  34.6729,2,  34.6722,2,    163.3,2,    164.1,2,   124.20,2,    34.81,2,     0.01,2,     2.42,2, -999.000,9, -999.000,9, -999.000,1,-999.0000,1,  -999.00,9,   -999.0,1,-999.000,9,   2298.5,2,   2402.6,2,     7.57,2,28597.8,-999.0000,-999.000,-999.000,  1.4891,-999.000
   318MWESTW_5,  P21W,   170,  1,      9, SI9410,2,19940523,0005,-17.4972,-153.0028, 4483,   3089.1,   1.6266,  34.6786,2,  34.6779,2,    166.8,2,    167.1,2,   124.66,2,    34.64,2,     0.00,2,     2.41,2,    0.000,2,    0.003,2, -999.000,1,-999.0000,1,  -999.00,9,   -999.0,1,-999.000,9,   -999.0,9,   -999.0,9,  -999.00,9,30774.4,-999.0000,-999.000,-999.000,  1.3984,-999.000
   318MWESTW_5,  P21W,   170,  1,      8, SI9422,2,19940523,0005,-17.4972,-153.0028, 4483,   3292.2,   1.5614,  34.6830,2,  34.6832,2,    170.1,2,    171.5,2,   124.68,2,    34.36,2,     0.00,2,     2.39,2, -999.000,9, -999.000,9, -999.000,1,-999.0000,1,  -999.00,9,   -999.0,1,-999.000,9,   2293.0,2,   2408.8,2,     7.58,2,32793.2,-999.0000,-999.000,-999.000,  1.3147,-999.000
   318MWESTW_5,  P21W,   170,  1,      7, SI9407,2,19940523,0005,-17.4972,-153.0028, 4483,   3497.5,   1.5179,  34.6874,2,  34.6881,2,    174.0,2,    173.0,2,   124.09,2,    34.08,2,     0.00,2,     2.38,2, -999.000,9, -999.000,9, -999.000,1,-999.0000,1,  -999.00,9,   -999.0,1,-999.000,9,   2292.7,2,   2401.3,2,     7.58,2,34834.6,-999.0000,-999.000,-999.000,  1.2515,-999.000
   318MWESTW_5,  P21W,   170,  1,      6, SI9427,2,19940523,0005,-17.4972,-153.0028, 4483,   3711.3,   1.4850,  34.6903,2,  34.6901,2,    177.4,2,    177.8,2,   123.97,2,    33.95,2,     0.01,2,     2.37,2,    0.000,2,    0.005,2, -999.000,1,-999.0000,1,  -999.00,9,   -999.0,1,-999.000,9,   2286.7,2,   2400.7,2,     7.58,2,36960.3,-999.0000,-999.000,-999.000,  1.1973,-999.000
   318MWESTW_5,  P21W,   170,  1,      5, SI9405,2,19940523,0005,-17.4972,-153.0028, 4483,   3908.1,   1.4605,  34.6932,2,  34.6940,2,    180.0,2,    180.2,2,   123.53,2,    33.67,2,     0.01,2,     2.35,2, -999.000,9, -999.000,9, -999.000,1,-999.0000,1,  -999.00,9,   -999.0,1,-999.000,9,   2286.0,2,   2387.2,2,     7.58,2,38916.3,-999.0000,-999.000,-999.000,  1.1526,-999.000
   318MWESTW_5,  P21W,   170,  1,      4, SI9404,2,19940523,0005,-17.4972,-153.0028, 4483,   4107.1,   1.4362,  34.6954,2,  34.6948,2,    182.7,2,    182.6,2,   123.39,2,    33.49,2,     0.01,2,     2.34,2,    0.004,2,    0.001,2, -999.000,1,-999.0000,1,  -999.00,9,   -999.0,1,-999.000,9,   2281.8,2,   2387.4,2,     7.58,2,40895.0,-999.0000,-999.000,-999.000,  1.1073,-999.000
   318MWESTW_5,  P21W,   170,  1,      3, SI9403,2,19940523,0005,-17.4972,-153.0028, 4483,   4313.8,   1.4519,  34.6963,2,  34.6961,2,    183.9,2,    183.8,2,   123.26,2,    33.36,2,     0.00,2,     2.34,2, -999.000,9, -999.000,9, -999.000,1,-999.0000,1,  -999.00,9,   -999.0,1,-999.000,9,   2283.3,2,   2388.5,2,     7.58,2,42949.9,-999.0000,-999.000,-999.000,  1.0996,-999.000
   318MWESTW_5,  P21W,   170,  1,      2, SI9437,2,19940523,0005,-17.4972,-153.0028, 4483,   4500.2,   1.4674,  34.6958,2,  34.6965,2,    184.5,2,    183.7,2,   122.98,2,    33.32,2,     0.00,2,     2.33,2, -999.000,9, -999.000,9, -999.000,1,-999.0000,1,  -999.00,9,   -999.0,1,-999.000,9,   2282.0,2,   2385.2,2,     7.58,2,44803.2,-999.0000,-999.000,-999.000,  1.0934,-999.000
   318MWESTW_5,  P21W,   170,  1,      1, SI9401,2,19940523,0005,-17.4972,-153.0028, 4483,   4543.1,   1.4707,  34.6965,2,  34.6960,2,    184.1,2,    184.0,2,   122.90,2,    33.46,2,     0.00,2,     2.32,2,    0.005,2,    0.003,2, -999.000,1,-999.0000,1,  -999.00,9,   -999.0,1,-999.000,9,   2284.0,2,   2389.9,2,     7.58,2,45229.4,-999.0000,-999.000,-999.000,  1.0916,-999.000