BOTTLE,20010911WHPSIOdm
EXPOCODE,SECT_ID,STNNBR,CASTNO,SAMPNO,BTLNBR,BTLNBR_FLAG_W,DATE,TIME,LATITUDE,LONGITUDE,DEPTH,CTDPRS,CTDTMP,CTDSAL,CTDSAL_FLAG_W,SALNTY,SALNTY_FLAG_W,CTDOXY,CTDOXY_FLAG_W,OXYGEN,OXYGEN_FLAG_W,SILCAT,SILCAT_FLAG_W,NITRAT,NITRAT_FLAG_W,NITRIT,NITRIT_FLAG_W,PHSPHT,PHSPHT_FLAG_W,CFC-11,CFC-11_FLAG_W,CFC-12,CFC-12_FLAG_W,TRITUM,TRITUM_FLAG_W,HELIUM,HELIUM_FLAG_W,DELHE3,DELHE3_FLAG_W,DELC14,DELC14_FLAG_W,NEON,NEON_FLAG_W,TCARBN,TCARBN_FLAG_W,ALKALI,ALKALI_FLAG_W,PH,PH_FLAG_W,CTDRAW,HELIER,DELHER,NEONER,THETA,TRITER
,,,,,,,,,,,,DBAR,ITS-90,PSS-78,,PSS-78,,UMOL/KG,,UMOL/KG,,UMOL/KG,,UMOL/KG,,UMOL/KG,,UMOL/KG,,PMOL/KG,,PMOL/KG,,TU,,UMOL/KG,,PERCNT,,/MILLE,,NMOL/KG,,UMOL/KG,,UMOL/KG,,,,,NMOL/KG,PERCNT,NMOL/KG,ITS-90,TU
   318MWESTW_4,  P21E,    61,  1,     36, SI9336,2,19940415,1824,-16.7445, -92.6778, 4282,     10.3,  23.4789,  36.0042,2,  36.0125,2,    213.8,2,    216.2,2,     0.00,2,     0.05,2,     0.01,2,     0.35,2,    1.938,2,    1.069,2, -999.000,1,-999.0000,1,  -999.00,9,   -999.0,1,-999.000,9,   -999.0,9,   -999.0,9,  -999.00,9,  145.3,-999.0000,-999.000,-999.000, 23.4768,-999.000
   318MWESTW_4,  P21E,    61,  1,     35, SI9335,2,19940415,1824,-16.7445, -92.6778, 4282,     26.7,  23.3646,  36.0056,2,  36.0066,2,    217.0,2,    215.6,2,     0.00,2,     0.11,2,     0.01,2,     0.35,2,    1.954,2,    1.094,2, -999.000,1,-999.0000,1,  -999.00,9,   -999.0,1,-999.000,9,   -999.0,9,   -999.0,9,  -999.00,9,  309.4,-999.0000,-999.000,-999.000, 23.3591,-999.000
   318MWESTW_4,  P21E,    61,  1,     34, SI9334,2,19940415,1824,-16.7445, -92.6778, 4282,     50.5,  23.2336,  35.9619,2,  36.0074,2,    218.9,2,    218.8,2,     0.00,2,     0.06,2,     0.00,2,     0.35,2,    1.952,2,    1.081,2, -999.000,1,-999.0000,1,  -999.00,9,   -999.0,1,-999.000,9,   -999.0,9,   -999.0,9,  -999.00,9,  547.1,-999.0000,-999.000,-999.000, 23.2232,-999.000
   318MWESTW_4,  P21E,    61,  1,     33, SI9333,2,19940415,1824,-16.7445, -92.6778, 4282,    101.7,  19.5610,  35.6471,2,  35.6409,2,    214.1,2,    204.2,2,     1.04,2,     2.87,2,     1.78,2,     0.74,2,    2.306,2,    1.254,2, -999.000,1,-999.0000,1,  -999.00,9,   -999.0,1,-999.000,9,   -999.0,9,   -999.0,9,  -999.00,9, 1059.2,-999.0000,-999.000,-999.000, 19.5424,-999.000
   318MWESTW_4,  P21E,    61,  1,     32, SI9332,2,19940415,1824,-16.7445, -92.6778, 4282,    150.6,  18.4584,  35.4184,2,  35.4894,2,    196.3,2,    195.8,2,     1.21,2,     5.97,2,     0.05,2,     0.83,2,    2.335,2,    1.243,2, -999.000,1,-999.0000,1,  -999.00,9,   -999.0,1,-999.000,9,   -999.0,9,   -999.0,9,  -999.00,9, 1547.9,-999.0000,-999.000,-999.000, 18.4320,-999.000
   318MWESTW_4,  P21E,    61,  1,     31, SI9331,2,19940415,1824,-16.7445, -92.6778, 4282,    200.4,  13.9598,  34.8374,2,  34.8190,2,    105.2,2,     84.4,2,     3.64,2,    11.90,2,     0.01,2,     1.19,2,    1.570,2,    0.783,2, -999.000,1,-999.0000,1,  -999.00,9,   -999.0,1,-999.000,9,   -999.0,9,   -999.0,9,  -999.00,9, 2044.7,-999.0000,-999.000,-999.000, 13.9309,-999.000
   318MWESTW_4,  P21E,    61,  1,     30, SI9330,2,19940415,1824,-16.7445, -92.6778, 4282,    248.9,  12.1882,  34.7867,2,  34.7954,2,      7.3,2,      2.3,2,    24.26,2,    21.65,2,     0.02,2,     2.74,2,    0.345,2,    0.164,2, -999.000,1,-999.0000,1,  -999.00,9,   -999.0,1,-999.000,9,   -999.0,9,   -999.0,9,  -999.00,9, 2529.3,-999.0000,-999.000,-999.000, 12.1554,-999.000
   318MWESTW_4,  P21E,    61,  1,     29, SI9329,2,19940415,1824,-16.7445, -92.6778, 4282,    300.8,  10.8423,  34.7222,2,  34.7231,2,      6.8,2,      5.0,2,    24.96,2,    30.16,2,     0.01,2,     2.71,2,    0.130,2,    0.062,2, -999.000,1,-999.0000,1,  -999.00,9,   -999.0,1,-999.000,9,   -999.0,9,   -999.0,9,  -999.00,9, 3048.0,-999.0000,-999.000,-999.000, 10.8055,-999.000
   318MWESTW_4,  P21E,    61,  1,     28, SI9328,2,19940415,1824,-16.7445, -92.6778, 4282,    400.6,   9.2590,  34.6544,2,  34.6578,2,     13.2,2,     11.3,2,    29.29,2,    36.58,2,     0.01,2,     2.78,2,    0.031,2,    0.011,2, -999.000,1,-999.0000,1,  -999.00,9,   -999.0,1,-999.000,9,   -999.0,9,   -999.0,9,  -999.00,9, 4044.7,-999.0000,-999.000,-999.000,  9.2144,-999.000
   318MWESTW_4,  P21E,    61,  1,     27, SI9327,2,19940415,1824,-16.7445, -92.6778, 4282,    502.6,   7.9752,  34.5868,2,  34.5952,2,     15.6,2,     13.6,2,    35.89,2,    40.66,2,     0.01,2,     2.96,2,    0.010,2,    0.004,2, -999.000,1,-999.0000,1,  -999.00,9,   -999.0,1,-999.000,9,   -999.0,9,   -999.0,9,  -999.00,9, 5064.0,-999.0000,-999.000,-999.000,  7.9237,-999.000
   318MWESTW_4,  P21E,    61,  1,     26, SI9326,2,19940415,1824,-16.7445, -92.6778, 4282,    602.2,   6.9622,  34.5431,2,  34.5500,2,     21.4,2,     21.4,2,    42.14,2,    42.71,2,     0.01,2,     3.06,2,    0.004,2,   -0.003,2, -999.000,1,-999.0000,1,  -999.00,9,   -999.0,1,-999.000,9,   -999.0,9,   -999.0,9,  -999.00,9, 6058.8,-999.0000,-999.000,-999.000,  6.9047,-999.000
   318MWESTW_4,  P21E,    61,  1,     25, SI9325,2,19940415,1824,-16.7445, -92.6778, 4282,    693.4,   6.0852,  34.5112,2,  34.5123,2,     37.2,2,     35.9,2,    47.52,2,    43.50,2,     0.01,2,     3.08,2,    0.000,2,   -0.003,2, -999.000,1,-999.0000,1,  -999.00,9,   -999.0,1,-999.000,9,   -999.0,9,   -999.0,9,  -999.00,9, 6969.8,-999.0000,-999.000,-999.000,  6.0232,-999.000
   318MWESTW_4,  P21E,    61,  1,     24, SI9324,2,19940415,1824,-16.7445, -92.6778, 4282,    798.8,   5.3983,  34.5100,2,  34.5127,2,     37.4,2,     37.3,2,    58.80,2,    44.47,2,     0.01,2,     3.16,2,   -0.002,2,    0.001,2, -999.000,1,-999.0000,1,  -999.00,9,   -999.0,1,-999.000,9,   -999.0,9,   -999.0,9,  -999.00,9, 8022.2,-999.0000,-999.000,-999.000,  5.3305,-999.000
   318MWESTW_4,  P21E,    61,  1,     23, SI9323,2,19940415,1824,-16.7445, -92.6778, 4282,    901.2,   4.8908,  34.5149,2,  34.5160,2,     45.8,2,     45.8,2,    67.49,2,    44.30,2,     0.01,2,     3.16,2,   -0.002,2,   -0.004,2, -999.000,1,-999.0000,1,  -999.00,9,   -999.0,1,-999.000,9,   -999.0,9,   -999.0,9,  -999.00,9, 9045.1,-999.0000,-999.000,-999.000,  4.8171,-999.000
   318MWESTW_4,  P21E,    61,  1,     22, SI9322,2,19940415,1824,-16.7445, -92.6778, 4282,   1002.1,   4.4646,  34.5310,2,  34.5323,2,     53.5,2,     54.7,2,    77.04,2,    43.68,2,     0.01,2,     3.14,2,   -0.001,2,   -0.001,2, -999.000,1,-999.0000,1,  -999.00,9,   -999.0,1,-999.000,9,   -999.0,9,   -999.0,9,  -999.00,9,10053.0,-999.0000,-999.000,-999.000,  4.3851,-999.000
   318MWESTW_4,  P21E,    61,  1,     21, SI9321,2,19940415,1824,-16.7445, -92.6778, 4282,   1092.7,   4.1274,  34.5411,2,  34.5411,2,     61.3,2,     63.3,2,    84.33,2,    42.94,2,     0.01,2,     3.10,2, -999.000,9, -999.000,9, -999.000,1,-999.0000,1,  -999.00,9,   -999.0,1,-999.000,9,   -999.0,9,   -999.0,9,  -999.00,9,10958.3,-999.0000,-999.000,-999.000,  4.0428,-999.000
   318MWESTW_4,  P21E,    61,  1,     20, SI9320,2,19940415,1824,-16.7445, -92.6778, 4282,   1206.4,   3.7638,  34.5552,2,  34.5551,2,     71.2,2,     71.6,2,    92.67,2,    42.22,2,     0.00,2,     3.05,2, -999.000,9, -999.000,9, -999.000,1,-999.0000,1,  -999.00,9,   -999.0,1,-999.000,9,   -999.0,9,   -999.0,9,  -999.00,9,12093.9,-999.0000,-999.000,-999.000,  3.6727,-999.000
   318MWESTW_4,  P21E,    61,  1,     19, SI9319,2,19940415,1824,-16.7445, -92.6778, 4282,   1310.6,   3.4377,  34.5668,2,  34.5651,2,     82.6,2,     82.5,2,    98.06,2,    41.37,2,     0.00,2,     2.98,2, -999.000,9, -999.000,9, -999.000,1,-999.0000,1,  -999.00,9,   -999.0,1,-999.000,9,   -999.0,9,   -999.0,9,  -999.00,9,13134.9,-999.0000,-999.000,-999.000,  3.3410,-999.000
   318MWESTW_4,  P21E,    61,  1,     18, SI9318,2,19940415,1824,-16.7445, -92.6778, 4282,   1383.0,   3.2361,  34.5760,2,  34.5761,2,     87.7,2,     87.9,2,   102.41,2,    40.86,2,     0.00,2,     2.94,2, -999.000,9, -999.000,9, -999.000,1,-999.0000,1,  -999.00,9,   -999.0,1,-999.000,9,   -999.0,9,   -999.0,9,  -999.00,9,13857.5,-999.0000,-999.000,-999.000,  3.1354,-999.000
   318MWESTW_4,  P21E,    61,  1,     17, SI9317,2,19940415,1824,-16.7445, -92.6778, 4282,   1499.0,   2.9874,  34.5925,2,  34.5920,2,     90.7,2,     90.2,2,   110.41,2,    40.58,2,     0.00,2,     2.93,2, -999.000,9, -999.000,9, -999.000,1,-999.0000,1,  -999.00,9,   -999.0,1,-999.000,9,   -999.0,9,   -999.0,9,  -999.00,9,15017.0,-999.0000,-999.000,-999.000,  2.8798,-999.000
   318MWESTW_4,  P21E,    61,  1,     16, SI9316,2,19940415,1824,-16.7445, -92.6778, 4282,   1597.4,   2.7804,  34.6027,2,  34.6030,2,     98.1,2,     99.1,2,   113.90,2,    39.84,2,     0.00,2,     2.87,2, -999.000,9, -999.000,9, -999.000,1,-999.0000,1,  -999.00,9,   -999.0,1,-999.000,9,   -999.0,9,   -999.0,9,  -999.00,9,16000.2,-999.0000,-999.000,-999.000,  2.6670,-999.000
   318MWESTW_4,  P21E,    61,  1,     15, SI9315,2,19940415,1824,-16.7445, -92.6778, 4282,   1750.5,   2.5440,  34.6201,2,  34.6203,2,    103.1,2,    105.4,2,   121.21,2,    39.39,2,     0.00,2,     2.82,2, -999.000,9, -999.000,9, -999.000,1,-999.0000,1,  -999.00,9,   -999.0,1,-999.000,9,   -999.0,9,   -999.0,9,  -999.00,9,17529.6,-999.0000,-999.000,-999.000,  2.4208,-999.000
   318MWESTW_4,  P21E,    61,  1,     14, SI9314,2,19940415,1824,-16.7445, -92.6778, 4282,   1901.4,   2.3449,  34.6348,2,  34.6346,2,    108.8,2,    110.3,2,   126.95,2,    38.82,2,     0.00,2,     2.79,2, -999.000,9, -999.000,9, -999.000,1,-999.0000,1,  -999.00,9,   -999.0,1,-999.000,9,   -999.0,9,   -999.0,9,  -999.00,9,19036.9,-999.0000,-999.000,-999.000,  2.2116,-999.000
   318MWESTW_4,  P21E,    61,  1,     13, SI9313,2,19940415,1824,-16.7445, -92.6778, 4282,   2045.6,   2.2098,  34.6451,2,  34.6429,2,    117.4,2,    116.8,2,   129.22,2,    38.33,2,    -0.01,2,     2.75,2, -999.000,9, -999.000,9, -999.000,1,-999.0000,1,  -999.00,9,   -999.0,1,-999.000,9,   -999.0,9,   -999.0,9,  -999.00,9,20477.9,-999.0000,-999.000,-999.000,  2.0662,-999.000
   318MWESTW_4,  P21E,    61,  1,     12, SI9312,2,19940415,1824,-16.7445, -92.6778, 4282,   2199.8,   2.0771,  34.6544,2,  34.6525,2,    124.4,2,    125.0,2,   130.27,2,    37.70,2,    -0.01,2,     2.68,2, -999.000,9, -999.000,9, -999.000,1,-999.0000,1,  -999.00,9,   -999.0,1,-999.000,9,   -999.0,9,   -999.0,9,  -999.00,9,22017.6,-999.0000,-999.000,-999.000,  1.9223,-999.000
   318MWESTW_4,  P21E,    61,  1,     11, SI9311,2,19940415,1824,-16.7445, -92.6778, 4282,   2403.3,   1.9384,  34.6644,2,  34.6627,2,    136.9,2,    136.6,2,   129.25,2,    36.74,2,    -0.01,2,     2.60,2, -999.000,9, -999.000,9, -999.000,1,-999.0000,1,  -999.00,9,   -999.0,1,-999.000,9,   -999.0,9,   -999.0,9,  -999.00,9,24051.4,-999.0000,-999.000,-999.000,  1.7679,-999.000
   318MWESTW_4,  P21E,    61,  1,     10, SI9310,2,19940415,1824,-16.7445, -92.6778, 4282,   2600.1,   1.8669,  34.6719,2,  34.6698,2,    142.7,2,    141.5,2,   129.96,2,    36.34,2,    -0.01,2,     2.57,2, -999.000,9, -999.000,9, -999.000,1,-999.0000,1,  -999.00,9,   -999.0,1,-999.000,9,   -999.0,9,   -999.0,9,  -999.00,9,26018.0,-999.0000,-999.000,-999.000,  1.6799,-999.000
   318MWESTW_4,  P21E,    61,  1,      9, SI9309,2,19940415,1824,-16.7445, -92.6778, 4282,   2799.2,   1.8218,  34.6770,2,  34.6757,2,    145.6,2,    145.2,2,   130.85,2,    36.16,2,     0.00,2,     2.54,2, -999.000,9, -999.000,9, -999.000,1,-999.0000,1,  -999.00,9,   -999.0,1,-999.000,9,   -999.0,9,   -999.0,9,  -999.00,9,28007.3,-999.0000,-999.000,-999.000,  1.6172,-999.000
   318MWESTW_4,  P21E,    61,  1,      8, SI9308,2,19940415,1824,-16.7445, -92.6778, 4282,   2996.4,   1.7963,  34.6807,2,  34.6793,2,    145.6,2,    145.5,2,   132.25,2,    36.11,2,     0.00,2,     2.55,2, -999.000,9, -999.000,9, -999.000,1,-999.0000,1,  -999.00,9,   -999.0,1,-999.000,9,   -999.0,9,   -999.0,9,  -999.00,9,29977.4,-999.0000,-999.000,-999.000,  1.5733,-999.000
   318MWESTW_4,  P21E,    61,  1,      7, SI9307,2,19940415,1824,-16.7445, -92.6778, 4282,   3197.5,   1.7811,  34.6834,2,  34.6824,2,    145.9,2,    145.7,2,   133.49,2,    36.12,2,     0.00,2,     2.54,2, -999.000,9, -999.000,9, -999.000,1,-999.0000,1,  -999.00,9,   -999.0,1,-999.000,9,   -999.0,9,   -999.0,9,  -999.00,9,31987.6,-999.0000,-999.000,-999.000,  1.5387,-999.000
   318MWESTW_4,  P21E,    61,  1,      6, SI9306,2,19940415,1824,-16.7445, -92.6778, 4282,   3394.7,   1.7737,  34.6859,2,  34.6844,2,    147.0,2,    146.7,2,   133.15,2,    36.17,2,     0.00,2,     2.54,2, -999.000,9, -999.000,9, -999.000,1,-999.0000,1,  -999.00,9,   -999.0,1,-999.000,9,   -999.0,9,   -999.0,9,  -999.00,9,33957.9,-999.0000,-999.000,-999.000,  1.5115,-999.000
   318MWESTW_4,  P21E,    61,  1,      5, SI9305,2,19940415,1824,-16.7445, -92.6778, 4282,   3600.9,   1.7629,  34.6879,2,  34.6869,2,    148.7,2,    148.8,2,   131.95,2,    35.95,2,     0.00,2,     2.52,2, -999.000,9, -999.000,9, -999.000,1,-999.0000,1,  -999.00,9,   -999.0,1,-999.000,9,   -999.0,9,   -999.0,9,  -999.00,9,36019.4,-999.0000,-999.000,-999.000,  1.4796,-999.000
   318MWESTW_4,  P21E,    61,  1,      4, SI9304,2,19940415,1824,-16.7445, -92.6778, 4282,   3799.3,   1.7594,  34.6896,2,  34.6885,2,    151.9,2,    151.2,2,   130.75,2,    35.77,2,     0.00,2,     2.51,2, -999.000,9, -999.000,9, -999.000,1,-999.0000,1,  -999.00,9,   -999.0,1,-999.000,9,   -999.0,9,   -999.0,9,  -999.00,9,38002.6,-999.0000,-999.000,-999.000,  1.4551,-999.000
   318MWESTW_4,  P21E,    61,  1,      3, SI9303,2,19940415,1824,-16.7445, -92.6778, 4282,   4003.8,   1.7734,  34.6904,2,  34.6889,2,    152.3,2,    151.7,2,   130.24,2,    35.78,2,     0.00,2,     2.51,2, -999.000,9, -999.000,9, -999.000,1,-999.0000,1,  -999.00,9,   -999.0,1,-999.000,9,   -999.0,9,   -999.0,9,  -999.00,9,40046.5,-999.0000,-999.000,-999.000,  1.4464,-999.000
   318MWESTW_4,  P21E,    61,  1,      2, SI9302,2,19940415,1824,-16.7445, -92.6778, 4282,   4203.4,   1.7949,  34.6905,2,  34.6918,2,    151.4,2,    151.7,2,   130.08,2,    35.84,2,     0.00,2,     2.50,2, -999.000,9, -999.000,9, -999.000,1,-999.0000,1,  -999.00,9,   -999.0,1,-999.000,9,   -999.0,9,   -999.0,9,  -999.00,9,42041.3,-999.0000,-999.000,-999.000,  1.4449,-999.000
   318MWESTW_4,  P21E,    61,  1,      1, SI9301,2,19940415,1824,-16.7445, -92.6778, 4282,   4257.5,   1.8011,  34.6910,2,  34.6895,2,    151.8,2,    152.4,2,   129.81,2,    35.83,2,     0.00,2,     2.51,2, -999.000,9, -999.000,9, -999.000,1,-999.0000,1,  -999.00,9,   -999.0,1,-999.000,9,   -999.0,9,   -999.0,9,  -999.00,9,42582.0,-999.0000,-999.000,-999.000,  1.4448,-999.000