BOTTLE,20010911WHPSIOdm
EXPOCODE,SECT_ID,STNNBR,CASTNO,SAMPNO,BTLNBR,BTLNBR_FLAG_W,DATE,TIME,LATITUDE,LONGITUDE,DEPTH,CTDPRS,CTDTMP,CTDSAL,CTDSAL_FLAG_W,SALNTY,SALNTY_FLAG_W,CTDOXY,CTDOXY_FLAG_W,OXYGEN,OXYGEN_FLAG_W,SILCAT,SILCAT_FLAG_W,NITRAT,NITRAT_FLAG_W,NITRIT,NITRIT_FLAG_W,PHSPHT,PHSPHT_FLAG_W,CFC-11,CFC-11_FLAG_W,CFC-12,CFC-12_FLAG_W,TRITUM,TRITUM_FLAG_W,HELIUM,HELIUM_FLAG_W,DELHE3,DELHE3_FLAG_W,DELC14,DELC14_FLAG_W,NEON,NEON_FLAG_W,TCARBN,TCARBN_FLAG_W,ALKALI,ALKALI_FLAG_W,PH,PH_FLAG_W,CTDRAW,HELIER,DELHER,NEONER,THETA,TRITER
,,,,,,,,,,,,DBAR,ITS-90,PSS-78,,PSS-78,,UMOL/KG,,UMOL/KG,,UMOL/KG,,UMOL/KG,,UMOL/KG,,UMOL/KG,,PMOL/KG,,PMOL/KG,,TU,,UMOL/KG,,PERCNT,,/MILLE,,NMOL/KG,,UMOL/KG,,UMOL/KG,,,,,NMOL/KG,PERCNT,NMOL/KG,ITS-90,TU
   318MWESTW_4,  P21E,    36,  1,     36, SI9336,2,19940406,2216,-16.7528, -83.3333, 4672,      9.9,  24.0958,  35.8123,2,  35.8151,2,    217.9,2,    218.1,2,     0.52,2,     0.05,2,     0.02,2,     0.37,2,    1.851,2,    1.005,2,    0.578,2,   1.7089,2,    -0.99,2,   -999.0,1,   6.780,2,   -999.0,9,   -999.0,9,  -999.00,9,  142.3,  0.0085,   0.080,   0.034, 24.0937,   0.007
   318MWESTW_4,  P21E,    36,  1,     35, SI9335,2,19940406,2216,-16.7528, -83.3333, 4672,     24.8,  24.1027,  35.8110,2,  35.8145,2,    214.9,2,    217.2,2,     0.52,2,     0.05,2,     0.02,2,     0.39,2,    1.885,2,    1.018,2, -999.000,1,-999.0000,1,  -999.00,9,   -999.0,1,-999.000,9,   -999.0,9,   -999.0,9,  -999.00,9,  291.5,-999.0000,-999.000,-999.000, 24.0975,-999.000
   318MWESTW_4,  P21E,    36,  1,     34, SI9334,2,19940406,2216,-16.7528, -83.3333, 4672,     49.3,  20.2001,  35.5784,2,  35.5878,2,    238.1,2,    238.0,2,     1.05,2,     0.47,2,     0.04,2,     0.49,2,    2.363,2,    1.235,2,    0.500,2,   1.7273,2,    -1.22,2,   -999.0,1,   6.969,2,   -999.0,9,   -999.0,9,  -999.00,9,  537.1,  0.0086,   0.080,   0.035, 20.1909,   0.006
   318MWESTW_4,  P21E,    36,  1,     33, SI9333,2,19940406,2216,-16.7528, -83.3333, 4672,     98.5,  17.8889,  35.3190,2,  35.3662,2,    191.2,2,    190.0,2,     2.86,2,     9.84,2,     0.11,2,     1.05,2,    2.427,2,    1.248,2,    0.485,2,   1.7425,2,    -1.11,2,   -999.0,1,   7.061,2,   -999.0,9,   -999.0,9,  -999.00,9, 1028.2,  0.0087,   0.080,   0.035, 17.8721,   0.006
   318MWESTW_4,  P21E,    36,  1,     32, SI9332,2,19940406,2216,-16.7528, -83.3333, 4672,    149.6,  14.3613,  34.8590,2,  34.8920,2,     53.2,2,     82.9,2,     9.38,2,    19.15,2,     0.03,2,     1.86,2,    1.823,2,    0.878,2,    0.430,2,   1.7669,2,     1.15,2,   -999.0,1,   7.254,2,   -999.0,9,   -999.0,9,  -999.00,9, 1538.7,  0.0088,   0.080,   0.036, 14.3394,   0.006
   318MWESTW_4,  P21E,    36,  1,     31, SI9331,2,19940406,2216,-16.7528, -83.3333, 4672,    202.8,  12.8183,  34.8423,2,  34.8450,2,      2.7,2,      1.7,2,    24.78,2,    16.29,2,     1.93,2,     2.74,2,    0.471,2,    0.260,2,    0.284,2,   1.7631,2,     3.93,2,   -999.0,1,   7.363,2,   -999.0,9,   -999.0,9,  -999.00,9, 2069.9,  0.0088,   0.090,   0.037, 12.7907,   0.005
   318MWESTW_4,  P21E,    36,  1,     30, SI9330,2,19940406,2216,-16.7528, -83.3333, 4672,    251.9,  11.9631,  34.8066,2,  34.8123,2,      2.2,2,      0.6,2,    26.41,2,    22.09,2,     1.42,2,     2.71,2,    0.232,2,    0.118,2,    0.152,2,   1.7738,2,     3.78,2,   -999.0,1,   7.428,2,   -999.0,9,   -999.0,9,  -999.00,9, 2560.5,  0.0089,   0.080,   0.037, 11.9303,   0.004
   318MWESTW_4,  P21E,    36,  1,     29, SI9329,2,19940406,2216,-16.7528, -83.3333, 4672,    300.3,  11.0114,  34.7696,2,  34.7736,3,      1.6,2,      0.7,2,    28.39,2,    27.27,2,     1.92,2,     2.74,2,    0.108,2,    0.053,2,    0.092,2,   1.7797,2,     3.50,2,   -999.0,1,   7.480,2,   -999.0,9,   -999.0,9,  -999.00,9, 3044.1,  0.0089,   0.080,   0.037, 10.9743,   0.004
   318MWESTW_4,  P21E,    36,  1,     28, SI9328,4,19940406,2216,-16.7528, -83.3333, 4672,    400.8,   9.1871,  34.6561,2,  34.6111,4,      3.4,2,     31.1,4,    44.70,4,    38.85,2,     0.01,2,     2.90,2,    0.036,2,    0.008,2, -999.000,1,   1.8105,2,     7.51,2,   -999.0,1,   7.684,2,   -999.0,9,   -999.0,9,  -999.00,9, 4047.6,  0.0091,   0.090,   0.038,  9.1427,-999.000
   318MWESTW_4,  P21E,    36,  1,     27, SI9327,2,19940406,2216,-16.7528, -83.3333, 4672,    497.1,   7.8414,  34.5621,2,  34.5671,2,     20.2,2,     20.7,2,    34.72,2,    40.26,2,     0.01,2,     2.95,2,    0.027,2,    0.003,2,    0.019,2,   1.8024,2,     4.17,2,   -999.0,1,   7.676,2,   -999.0,9,   -999.0,9,  -999.00,9, 5010.3,  0.0090,   0.090,   0.038,  7.7910,   0.004
   318MWESTW_4,  P21E,    36,  1,     26, SI9326,2,19940406,2216,-16.7528, -83.3333, 4672,    598.2,   6.7555,  34.5105,2,  34.5174,2,     38.5,2,     36.0,2,    40.15,2,    42.06,2,     0.01,2,     3.00,2,    0.015,2,   -0.001,2,    0.017,2,   1.8092,2,     5.69,2,   -999.0,1,   7.711,2,   -999.0,9,   -999.0,9,  -999.00,9, 6019.8,  0.0090,   0.090,   0.039,  6.6994,   0.004
   318MWESTW_4,  P21E,    36,  1,     25, SI9325,2,19940406,2216,-16.7528, -83.3333, 4672,    701.4,   6.0421,  34.5100,2,  34.5154,2,     30.0,2,     30.4,2,    50.47,2,    44.13,2,     0.01,2,     3.17,2,    0.003,2,   -0.003,2,    0.004,2,   1.8142,2,     8.02,2,   -999.0,1,   7.744,2,   -999.0,9,   -999.0,9,  -999.00,9, 7050.5,  0.0091,   0.090,   0.039,  5.9796,   0.003
   318MWESTW_4,  P21E,    36,  1,     24, SI9324,2,19940406,2216,-16.7528, -83.3333, 4672,    805.0,   5.3253,  34.5043,2,  34.5095,2,     37.7,2,     38.9,2,    59.87,2,    44.52,2,     0.00,2,     3.20,2,   -0.003,2,   -0.004,2, -999.000,1,-999.0000,1,  -999.00,9,   -999.0,1,-999.000,9,   -999.0,9,   -999.0,9,  -999.00,9, 8085.0,-999.0000,-999.000,-999.000,  5.2574,-999.000
   318MWESTW_4,  P21E,    36,  1,     23, SI9323,2,19940406,2216,-16.7528, -83.3333, 4672,    903.9,   4.8411,  34.5040,2,  34.5056,2,     51.1,2,     51.1,2,    66.75,2,    43.61,2,     0.00,2,     3.15,2,   -0.004,2,   -0.004,2,   -0.001,2,   1.8453,2,    12.41,2,   -999.0,1,   7.853,2,   -999.0,9,   -999.0,9,  -999.00,9, 9073.2,  0.0092,   0.090,   0.039,  4.7675,   0.003
   318MWESTW_4,  P21E,    36,  1,     22, SI9322,2,19940406,2216,-16.7528, -83.3333, 4672,   1001.8,   4.4072,  34.5275,2,  34.5280,2,     52.1,2,     56.0,2,    77.97,2,    43.19,2,     0.00,2,     3.14,2,   -0.003,2,   -0.004,2, -999.000,1,-999.0000,1,  -999.00,9,   -999.0,1,-999.000,9,   -999.0,9,   -999.0,9,  -999.00,9,10051.3,-999.0000,-999.000,-999.000,  4.3282,-999.000
   318MWESTW_4,  P21E,    36,  1,     21, SI9321,2,19940406,2216,-16.7528, -83.3333, 4672,   1102.8,   4.1036,  34.5380,2,  34.5409,2,     60.5,2,     62.7,2,    85.56,2,    42.65,2,     0.01,2,     3.12,2, -999.000,9, -999.000,9,    0.000,2,   1.8707,2,    17.01,2,   -999.0,1,   7.956,2,   -999.0,9,   -999.0,9,  -999.00,9,11059.7,  0.0094,   0.100,   0.040,  4.0184,   0.003
   318MWESTW_4,  P21E,    36,  1,     20, SI9320,2,19940406,2216,-16.7528, -83.3333, 4672,   1199.2,   3.7548,  34.5476,2,  34.5488,2,     71.3,2,     73.7,2,    91.34,2,    41.91,2,     0.01,2,     3.04,2, -999.000,9, -999.000,9,    0.001,2,   1.8772,2,    20.53,2,   -999.0,1,   7.956,2,   -999.0,9,   -999.0,9,  -999.00,9,12022.7,  0.0094,   0.100,   0.040,  3.6644,   0.004
   318MWESTW_4,  P21E,    36,  1,     19, SI9319,2,19940406,2216,-16.7528, -83.3333, 4672,   1302.3,   3.4087,  34.5595,2,  34.5629,2,     83.2,2,     84.2,2,    97.84,2,    41.15,2,     0.01,2,     2.98,2, -999.000,9, -999.000,9, -999.000,1,-999.0000,1,  -999.00,9,   -999.0,1,-999.000,9,   -999.0,9,   -999.0,9,  -999.00,9,13052.5,-999.0000,-999.000,-999.000,  3.3130,-999.000
   318MWESTW_4,  P21E,    36,  1,     18, SI9318,2,19940406,2216,-16.7528, -83.3333, 4672,   1401.2,   3.2212,  34.5756,2,  34.5785,2,     83.5,2,     83.5,2,   105.07,2,    41.27,2,     0.01,2,     2.99,2, -999.000,9, -999.000,9, -999.000,1,-999.0000,1,  -999.00,9,   -999.0,1,-999.000,9,   -999.0,9,   -999.0,9,  -999.00,9,14040.3,-999.0000,-999.000,-999.000,  3.1192,-999.000
   318MWESTW_4,  P21E,    36,  1,     17, SI9317,2,19940406,2216,-16.7528, -83.3333, 4672,   1501.0,   2.9707,  34.5917,2,  34.5928,2,     88.7,2,     89.1,2,   111.57,2,    40.91,2,     0.01,2,     2.96,2, -999.000,9, -999.000,9,    0.003,2,-999.0000,1,  -999.00,9,   -999.0,1,-999.000,9,   -999.0,9,   -999.0,9,  -999.00,9,15037.5,-999.0000,-999.000,-999.000,  2.8631,   0.003
   318MWESTW_4,  P21E,    36,  1,     16, SI9316,2,19940406,2216,-16.7528, -83.3333, 4672,   1597.7,   2.8045,  34.6011,2,  34.6012,2,     96.8,2,     96.8,2,   113.72,2,    40.21,2,     0.01,2,     2.90,2, -999.000,9, -999.000,9, -999.000,1,-999.0000,1,  -999.00,9,   -999.0,1,-999.000,9,   -999.0,9,   -999.0,9,  -999.00,9,16004.0,-999.0000,-999.000,-999.000,  2.6908,-999.000
   318MWESTW_4,  P21E,    36,  1,     15, SI9315,2,19940406,2216,-16.7528, -83.3333, 4672,   1799.0,   2.5182,  34.6202,2,  34.6213,2,    104.4,2,    104.8,2,   122.03,2,    39.47,2,     0.00,2,     2.84,2, -999.000,9, -999.000,9, -999.000,1,-999.0000,1,  -999.00,9,   -999.0,1,-999.000,9,   -999.0,9,   -999.0,9,  -999.00,9,18015.1,-999.0000,-999.000,-999.000,  2.3912,-999.000
   318MWESTW_4,  P21E,    36,  1,     14, SI9314,2,19940406,2216,-16.7528, -83.3333, 4672,   2001.4,   2.2664,  34.6377,2,  34.6398,2,    113.8,2,    114.2,2,   127.63,2,    38.51,2,     0.00,2,     2.77,2, -999.000,9, -999.000,9, -999.000,1,-999.0000,1,  -999.00,9,   -999.0,1,-999.000,9,   -999.0,9,   -999.0,9,  -999.00,9,20036.7,-999.0000,-999.000,-999.000,  2.1258,-999.000
   318MWESTW_4,  P21E,    36,  1,     13, SI9313,2,19940406,2216,-16.7528, -83.3333, 4672,   2200.7,   2.0728,  34.6514,2,  34.6525,2,    126.8,2,    127.0,2,   128.14,2,    37.54,2,     0.00,2,     2.67,2, -999.000,9, -999.000,9, -999.000,1,-999.0000,1,  -999.00,9,   -999.0,1,-999.000,9,   -999.0,9,   -999.0,9,  -999.00,9,22027.7,-999.0000,-999.000,-999.000,  1.9180,-999.000
   318MWESTW_4,  P21E,    36,  1,     12, SI9312,2,19940406,2216,-16.7528, -83.3333, 4672,   2397.2,   1.9341,  34.6624,2,  34.6639,2,    139.4,2,    138.5,2,   127.40,2,    36.73,2,     0.01,2,     2.60,2, -999.000,9, -999.000,9, -999.000,1,-999.0000,1,  -999.00,9,   -999.0,1,-999.000,9,   -999.0,9,   -999.0,9,  -999.00,9,23991.8,-999.0000,-999.000,-999.000,  1.7643,-999.000
   318MWESTW_4,  P21E,    36,  1,     11, SI9311,2,19940406,2216,-16.7528, -83.3333, 4672,   2598.5,   1.8561,  34.6703,2,  34.6704,2,    141.7,2,    140.5,2,   130.27,2,    36.63,2,     0.01,2,     2.59,2, -999.000,9, -999.000,9, -999.000,1,-999.0000,1,  -999.00,9,   -999.0,1,-999.000,9,   -999.0,9,   -999.0,9,  -999.00,9,26002.7,-999.0000,-999.000,-999.000,  1.6695,-999.000
   318MWESTW_4,  P21E,    36,  1,     10, SI9310,2,19940406,2216,-16.7528, -83.3333, 4672,   2847.3,   1.8099,  34.6766,2,  34.6763,2,    138.3,2,    137.1,2,   136.59,2,    37.02,2,     0.01,2,     2.61,2, -999.000,9, -999.000,9, -999.000,1,-999.0000,1,  -999.00,9,   -999.0,1,-999.000,9,   -999.0,9,   -999.0,9,  -999.00,9,28488.7,-999.0000,-999.000,-999.000,  1.6010,-999.000
   318MWESTW_4,  P21E,    36,  1,      9, SI9309,2,19940406,2216,-16.7528, -83.3333, 4672,   3100.3,   1.7916,  34.6800,2,  34.6798,2,    138.1,2,    138.0,2,   138.37,2,    37.03,2,     0.01,2,     2.60,2, -999.000,9, -999.000,9, -999.000,1,-999.0000,1,  -999.00,9,   -999.0,1,-999.000,9,   -999.0,9,   -999.0,9,  -999.00,9,31016.9,-999.0000,-999.000,-999.000,  1.5586,-999.000
   318MWESTW_4,  P21E,    36,  1,      8, SI9308,2,19940406,2216,-16.7528, -83.3333, 4672,   3349.0,   1.7903,  34.6827,2,  34.6828,2,    138.6,2,    139.4,2,   138.35,2,    36.77,2,     0.01,2,     2.59,2, -999.000,9, -999.000,9, -999.000,1,-999.0000,1,  -999.00,9,   -999.0,1,-999.000,9,   -999.0,9,   -999.0,9,  -999.00,9,33502.4,-999.0000,-999.000,-999.000,  1.5324,-999.000
   318MWESTW_4,  P21E,    36,  1,      7, SI9307,2,19940406,2216,-16.7528, -83.3333, 4672,   3597.2,   1.7851,  34.6848,2,  34.6844,2,    141.8,2,    142.8,2,   136.70,2,    36.41,2,     0.00,2,     2.57,2, -999.000,9, -999.000,9, -999.000,1,-999.0000,1,  -999.00,9,   -999.0,1,-999.000,9,   -999.0,9,   -999.0,9,  -999.00,9,35982.8,-999.0000,-999.000,-999.000,  1.5016,-999.000
   318MWESTW_4,  P21E,    36,  1,      6, SI9306,2,19940406,2216,-16.7528, -83.3333, 4672,   3846.4,   1.7759,  34.6876,2,  34.6883,2,    147.6,2,    148.1,2,   133.25,2,    35.83,2,    -0.01,2,     2.53,2, -999.000,9, -999.000,9, -999.000,1,-999.0000,1,  -999.00,9,   -999.0,1,-999.000,9,   -999.0,9,   -999.0,9,  -999.00,9,38473.5,-999.0000,-999.000,-999.000,  1.4660,-999.000
   318MWESTW_4,  P21E,    36,  1,      5, SI9305,2,19940406,2216,-16.7528, -83.3333, 4672,   4097.9,   1.7704,  34.6896,2,  34.6885,2,    152.9,2,    152.2,2,   130.34,2,    35.51,2,     0.00,2,     2.51,2, -999.000,9, -999.000,9, -999.000,1,-999.0000,1,  -999.00,9,   -999.0,1,-999.000,9,   -999.0,9,   -999.0,9,  -999.00,9,40988.2,-999.0000,-999.000,-999.000,  1.4330,-999.000
   318MWESTW_4,  P21E,    36,  1,      4, SI9304,2,19940406,2216,-16.7528, -83.3333, 4672,   4343.1,   1.7796,  34.6908,2,  34.6905,2,    154.1,2,    153.7,2,   129.60,2,    35.40,2,     0.01,2,     2.50,2, -999.000,9, -999.000,9, -999.000,1,-999.0000,1,  -999.00,9,   -999.0,1,-999.000,9,   -999.0,9,   -999.0,9,  -999.00,9,43438.5,-999.0000,-999.000,-999.000,  1.4141,-999.000
   318MWESTW_4,  P21E,    36,  1,      3, SI9303,2,19940406,2216,-16.7528, -83.3333, 4672,   4606.6,   1.8068,  34.6911,2,  34.6901,2,    153.9,2,    153.8,2,   129.58,2,    35.53,2,     0.00,2,     2.49,2, -999.000,9, -999.000,9, -999.000,1,-999.0000,1,  -999.00,9,   -999.0,1,-999.000,9,   -999.0,9,   -999.0,9,  -999.00,9,46073.4,-999.0000,-999.000,-999.000,  1.4097,-999.000
   318MWESTW_4,  P21E,    36,  1,      2, SI9302,2,19940406,2216,-16.7528, -83.3333, 4672,   4722.0,   1.8208,  34.6911,2,  34.6908,2,    153.8,2,    153.7,2,   129.56,2,    35.64,2,     0.01,2,     2.50,2, -999.000,9, -999.000,9, -999.000,1,-999.0000,1,  -999.00,9,   -999.0,1,-999.000,9,   -999.0,9,   -999.0,9,  -999.00,9,47226.8,-999.0000,-999.000,-999.000,  1.4095,-999.000
   318MWESTW_4,  P21E,    36,  1,      1, SI9301,2,19940406,2216,-16.7528, -83.3333, 4672,   4763.4,   1.8262,  34.6917,2,  34.6906,2,    152.4,2,    153.8,2,   129.57,2,    35.46,2,     0.01,2,     2.50,2, -999.000,9, -999.000,9, -999.000,1,-999.0000,1,  -999.00,9,   -999.0,1,-999.000,9,   -999.0,9,   -999.0,9,  -999.00,9,47640.9,-999.0000,-999.000,-999.000,  1.4098,-999.000