BOTTLE,20010911WHPSIOdm
EXPOCODE,SECT_ID,STNNBR,CASTNO,SAMPNO,BTLNBR,BTLNBR_FLAG_W,DATE,TIME,LATITUDE,LONGITUDE,DEPTH,CTDPRS,CTDTMP,CTDSAL,CTDSAL_FLAG_W,SALNTY,SALNTY_FLAG_W,CTDOXY,CTDOXY_FLAG_W,OXYGEN,OXYGEN_FLAG_W,SILCAT,SILCAT_FLAG_W,NITRAT,NITRAT_FLAG_W,NITRIT,NITRIT_FLAG_W,PHSPHT,PHSPHT_FLAG_W,CFC-11,CFC-11_FLAG_W,CFC-12,CFC-12_FLAG_W,TRITUM,TRITUM_FLAG_W,HELIUM,HELIUM_FLAG_W,DELHE3,DELHE3_FLAG_W,DELC14,DELC14_FLAG_W,NEON,NEON_FLAG_W,TCARBN,TCARBN_FLAG_W,ALKALI,ALKALI_FLAG_W,PH,PH_FLAG_W,CTDRAW,HELIER,DELHER,NEONER,THETA,TRITER
,,,,,,,,,,,,DBAR,ITS-90,PSS-78,,PSS-78,,UMOL/KG,,UMOL/KG,,UMOL/KG,,UMOL/KG,,UMOL/KG,,UMOL/KG,,PMOL/KG,,PMOL/KG,,TU,,UMOL/KG,,PERCNT,,/MILLE,,NMOL/KG,,UMOL/KG,,UMOL/KG,,,,,NMOL/KG,PERCNT,NMOL/KG,ITS-90,TU
   318MWESTW_5,  P21W,   204,  1,     32, SI9432,2,19940602,0712,-17.5000,-173.0000, 2560,      6.7,  25.5696,  35.4322,2,  35.4318,2,    208.3,2,    216.3,2,     0.83,2,     0.04,2,     0.00,2,     0.12,2,    1.750,2,    1.004,2,    0.850,2,   1.6991,2,    -1.24,2,   -999.0,1,   6.703,2,   1961.5,2,   2328.4,2,     8.12,2,  124.7,  0.0085,   0.080,   0.034, 25.5681,   0.007
   318MWESTW_5,  P21W,   204,  1,     31, SI9431,2,19940602,0712,-17.5000,-173.0000, 2560,     21.3,  25.5656,  35.4580,2,  35.4559,2,    206.8,2,    214.3,2,     0.66,2,     0.04,2,     0.00,2,     0.13,2,    1.770,2,    1.010,2, -999.000,1,-999.0000,1,  -999.00,9,   -999.0,1,-999.000,9,   1963.2,2,   2334.0,2,     8.12,2,  271.1,-999.0000,-999.000,-999.000, 25.5609,-999.000
   318MWESTW_5,  P21W,   204,  1,     30, SI9440,2,19940602,0712,-17.5000,-173.0000, 2560,     46.4,  25.5096,  35.4719,2,  35.4707,2,    207.3,2,    217.1,2,     0.86,2,     0.00,2,     0.00,2,     0.12,2, -999.000,9, -999.000,9, -999.000,1,   1.7829,2,    -0.93,2,   -999.0,1,   7.036,2,   1965.1,2,   2337.3,2,     8.12,2,  521.1,  0.0089,   0.080,   0.035, 25.4994,-999.000
   318MWESTW_5,  P21W,   204,  1,     29, SI9429,2,19940602,0712,-17.5000,-173.0000, 2560,     96.5,  23.7122,  35.7627,2,  35.7618,2,    211.3,2,    208.4,2,     0.69,2,    -0.01,2,     0.02,2,     0.19,2,    1.915,2,    1.062,2,    0.800,2,-999.0000,1,  -999.00,9,   -999.0,1,-999.000,9,   2011.7,2,   2350.3,2,     8.07,2, 1020.5,-999.0000,-999.000,-999.000, 23.6920,   0.007
   318MWESTW_5,  P21W,   204,  1,     28, SI9428,2,19940602,0712,-17.5000,-173.0000, 2560,    147.4,  22.2708,  35.7948,2,  35.7940,2,    191.0,2,    198.1,2,     0.71,2,     1.08,2,     0.02,2,     0.25,2,    1.977,2,    1.094,2,    0.813,2,   1.7402,2,    -0.93,2,   -999.0,1,   6.983,2,   2031.6,2,   2354.0,2,     8.04,2, 1527.6,  0.0087,   0.080,   0.035, 22.2413,   0.007
   318MWESTW_5,  P21W,   204,  1,     27, SI9424,2,19940602,0712,-17.5000,-173.0000, 2560,    193.6,  20.7311,  35.7605,2,  35.7594,2,    184.5,2,    181.1,2,     0.90,2,     2.96,2,     0.00,2,     0.37,2,    1.937,2,    1.055,2,    0.764,2,   1.7540,2,    -0.40,2,   -999.0,1,   7.079,2,   2058.0,2,   2354.2,2,     7.99,2, 1988.2,  0.0088,   0.080,   0.035, 20.6942,   0.007
   318MWESTW_5,  P21W,   204,  1,     26, SI9414,2,19940602,0712,-17.5000,-173.0000, 2560,    244.8,  18.8683,  35.6707,2,  35.6690,2,    190.6,2,    193.5,2,     1.09,2,     3.11,2,     0.00,2,     0.35,2,    2.051,2,    1.106,2, -999.000,1,   1.7600,2,    -0.46,2,   -999.0,1,   7.164,2,   2056.9,2,   2341.0,2,     7.98,2, 2497.4,  0.0088,   0.080,   0.036, 18.8246,-999.000
   318MWESTW_5,  P21W,   204,  1,     25, SI9425,2,19940602,0712,-17.5000,-173.0000, 2560,    295.3,  17.0606,  35.5402,2,  35.5310,2,    201.6,2,    197.3,2,     1.64,2,     4.86,2,     0.00,2,     0.48,2,    2.125,2,    1.126,2,    0.672,2,   1.7619,2,    -0.18,2,   -999.0,1,   7.231,2,   2070.7,2,   2336.8,2,     7.94,2, 3000.2,  0.0088,   0.080,   0.036, 17.0114,   0.007
   318MWESTW_5,  P21W,   204,  1,     24, SI9434,2,19940602,0712,-17.5000,-173.0000, 2560,    345.4,  15.5423,  35.3660,2,  35.3644,2,    200.2,2,    193.5,2,     2.18,2,     7.09,2,     0.00,2,     0.64,2,    1.991,2,    1.040,2, -999.000,1,-999.0000,1,  -999.00,9,   -999.0,1,-999.000,9,   2085.7,2,   2328.2,2,     7.90,2, 3498.5,-999.0000,-999.000,-999.000, 15.4883,-999.000
   318MWESTW_5,  P21W,   204,  1,     23, SI9423,2,19940602,0712,-17.5000,-173.0000, 2560,    396.0,  12.9392,  35.0345,2,  35.0293,2,    193.5,2,    185.5,2,     4.13,2,    12.12,2,     0.00,2,     0.98,2,    1.503,2,    0.774,2,    0.413,2,   1.7860,2,     1.03,2,   -999.0,1,   7.483,2,   2110.3,2,   2311.4,2,     7.82,2, 4002.1,  0.0089,   0.080,   0.037, 12.8845,   0.006
   318MWESTW_5,  P21W,   204,  1,     22, SI9418,2,19940602,0712,-17.5000,-173.0000, 2560,    493.6,   9.3265,  34.6141,2,  34.6128,2,    194.6,2,    194.6,2,     6.78,2,    19.04,2,     0.00,2,     1.41,2,    0.951,2,    0.477,2,    0.230,2,-999.0000,1,  -999.00,9,   -999.0,1,-999.000,9,   2133.8,2,   2290.9,2,     7.74,2, 4973.1,-999.0000,-999.000,-999.000,  9.2710,   0.005
   318MWESTW_5,  P21W,   204,  1,     21, SI9421,2,19940602,0712,-17.5000,-173.0000, 2560,    596.3,   6.8078,  34.4036,2,  34.4016,2,    193.2,2,    192.6,2,    15.24,2,    26.10,2,     0.00,2,     1.85,2,    0.343,2,    0.185,2,    0.090,2,   1.7950,2,     2.13,2,   -999.0,1,   7.733,2,   2162.8,2,   2286.4,2,     7.66,2, 5994.7,  0.0090,   0.080,   0.039,  6.7517,   0.004
   318MWESTW_5,  P21W,   204,  1,     20, SI9420,2,19940602,0712,-17.5000,-173.0000, 2560,    697.8,   5.6865,  34.3737,2,  34.3727,2,    180.6,2,    185.7,2,    24.58,2,    29.47,2,     0.00,2,     2.05,2, -999.000,9, -999.000,9,    0.028,2,   1.8025,2,     4.07,2,   -999.0,1,   7.770,2,   2184.9,2,   2293.4,2,     7.62,2, 7003.9,  0.0090,   0.090,   0.039,  5.6264,   0.004
   318MWESTW_5,  P21W,   204,  1,     19, SI9419,2,19940602,0712,-17.5000,-173.0000, 2560,    801.3,   4.7562,  34.4028,2,  34.4006,2,    165.4,2,    169.2,2,    40.42,2,    32.51,2,     0.00,2,     2.26,2,    0.024,2,    0.015,2,   -0.001,2,   1.8341,2,     8.12,2,   -999.0,1,   7.870,2,   2212.9,2,   2315.2,2,     7.58,2, 8032.7,  0.0092,   0.090,   0.039,  4.6922,   0.004
   318MWESTW_5,  P21W,   204,  1,     18, SI9439,2,19940602,0712,-17.5000,-173.0000, 2560,    896.3,   4.4384,  34.4477,2,  34.4465,2,    156.9,2,    156.9,2,    52.57,2,    33.79,2,     0.00,2,     2.35,2, -999.000,9, -999.000,9,    0.006,2,   1.8154,2,    12.00,2,   -999.0,1,   7.881,2,   2232.1,2,   2332.0,2,     7.57,2, 8977.7,  0.0091,   0.090,   0.039,  4.3683,   0.004
   318MWESTW_5,  P21W,   204,  1,     17, SI9417,2,19940602,0712,-17.5000,-173.0000, 2560,    998.2,   4.0262,  34.4946,2,  34.4932,2,    147.6,2,    146.9,2,    66.83,2,    34.83,2,     0.00,2,     2.43,2,    0.004,2,    0.002,2,    0.007,2,   1.8256,2,    17.94,2,   -999.0,1,   7.908,2,   2252.3,2,   2343.8,2,     7.55,2, 9990.2,  0.0091,   0.100,   0.040,  3.9505,   0.004
   318MWESTW_5,  P21W,   204,  1,     16, SI9416,2,19940602,0712,-17.5000,-173.0000, 2560,   1100.6,   3.6913,  34.5220,2,  34.5215,2,    145.0,2,    142.8,2,    76.34,2,    35.49,2,     0.00,2,     2.47,2,    0.002,2,    0.001,2, -999.000,1,-999.0000,1,  -999.00,9,   -999.0,1,-999.000,9,   2262.5,2,   2352.1,2,     7.54,2,11008.5,-999.0000,-999.000,-999.000,  3.6098,-999.000
   318MWESTW_5,  P21W,   204,  1,     15, SI9415,2,19940602,0712,-17.5000,-173.0000, 2560,   1199.1,   3.4340,  34.5367,2,  34.5356,2,    144.6,2,    142.7,2,    82.59,2,    35.69,2,     0.00,2,     2.50,2,    0.003,2,    0.000,2,   -0.002,2,-999.0000,1,  -999.00,9,   -999.0,1,-999.000,9,   2270.4,2,   2360.6,2,     7.54,2,11988.0,-999.0000,-999.000,-999.000,  3.3466,   0.004
   318MWESTW_5,  P21W,   204,  1,     14, SI9436,2,19940602,0712,-17.5000,-173.0000, 2560,   1295.0,   3.1849,  34.5514,2,  34.5512,2,    145.6,2,    143.0,2,    87.80,2,    35.75,2,     0.00,2,     2.51,2,   -0.001,2,    0.000,2, -999.000,1,-999.0000,1,  -999.00,9,   -999.0,1,-999.000,9,   2276.6,2,   2367.6,2,     7.54,2,12941.5,-999.0000,-999.000,-999.000,  3.0921,-999.000
   318MWESTW_5,  P21W,   204,  1,     13, SI9413,2,19940602,0712,-17.5000,-173.0000, 2560,   1401.4,   2.9558,  34.5660,2,  34.5635,2,    145.2,2,    144.5,2,    93.25,2,    35.71,2,     0.00,2,     2.50,2,   -0.001,2,    0.000,2, -999.000,1,-999.0000,1,  -999.00,9,   -999.0,1,-999.000,9,   2281.0,2,   2367.5,2,     7.54,2,13998.9,-999.0000,-999.000,-999.000,  2.8566,-999.000
   318MWESTW_5,  P21W,   204,  1,     12, SI9438,2,19940602,0712,-17.5000,-173.0000, 2560,   1501.8,   2.8365,  34.5769,2,  34.5757,2,    146.0,2,    144.3,2,    97.13,2,    35.76,2,     0.00,2,     2.50,2, -999.000,9, -999.000,9,   -0.004,2,   1.8688,2,    25.02,2,   -999.0,1,   8.017,2,   2284.8,2,   2370.0,2,     7.54,2,14997.5,  0.0093,   0.100,   0.040,  2.7304,   0.004
   318MWESTW_5,  P21W,   204,  1,     11, SI9411,2,19940602,0712,-17.5000,-173.0000, 2560,   1600.0,   2.7144,  34.5886,2,  34.5881,2,    145.8,2,    144.2,2,   101.19,2,    35.81,2,     0.00,2,     2.50,2, -999.000,9, -999.000,9, -999.000,1,-999.0000,1,  -999.00,9,   -999.0,1,-999.000,9,   2290.7,2,   2381.9,2,     7.54,2,15973.8,-999.0000,-999.000,-999.000,  2.6016,-999.000
   318MWESTW_5,  P21W,   204,  1,     10, SI9412,2,19940602,0712,-17.5000,-173.0000, 2560,   1703.4,   2.6272,  34.5977,2,  34.6007,2,    144.7,2,    144.0,2,   104.38,2,    35.96,2,     0.00,2,     2.50,2,   -0.003,2,   -0.002,2, -999.000,1,-999.0000,1,  -999.00,9,   -999.0,1,-999.000,9,   2293.1,2,   2389.0,2,     7.54,2,17001.5,-999.0000,-999.000,-999.000,  2.5069,-999.000
   318MWESTW_5,  P21W,   204,  1,      9, SI9410,2,19940602,0712,-17.5000,-173.0000, 2560,   1805.7,   2.4902,  34.6097,2,  34.6089,2,    145.1,2,    144.4,2,   108.78,2,    35.91,2,     0.00,2,     2.51,2, -999.000,9, -999.000,9, -999.000,1,-999.0000,1,  -999.00,9,   -999.0,1,-999.000,9,   2298.0,2,   2388.4,2,     7.54,2,18018.8,-999.0000,-999.000,-999.000,  2.3631,-999.000
   318MWESTW_5,  P21W,   204,  1,      8, SI9422,2,19940602,0712,-17.5000,-173.0000, 2560,   1909.9,   2.3752,  34.6185,2,  34.6181,2,    145.5,2,    144.5,2,   112.49,2,    36.02,2,     0.00,2,     2.50,2, -999.000,9, -999.000,9, -999.000,1,-999.0000,1,  -999.00,9,   -999.0,1,-999.000,9,   2302.2,2,   2396.1,2,     7.55,2,19054.5,-999.0000,-999.000,-999.000,  2.2408,-999.000
   318MWESTW_5,  P21W,   204,  1,      7, SI9407,2,19940602,0712,-17.5000,-173.0000, 2560,   2009.5,   2.2834,  34.6259,2,  34.6266,2,    146.0,2,    144.5,2,   115.31,2,    36.02,2,     0.00,2,     2.51,2, -999.000,9, -999.000,9, -999.000,1,-999.0000,1,  -999.00,9,   -999.0,1,-999.000,9,   2305.7,2,   2395.3,2,     7.55,2,20044.0,-999.0000,-999.000,-999.000,  2.1419,-999.000
   318MWESTW_5,  P21W,   204,  1,      6, SI9427,2,19940602,0712,-17.5000,-173.0000, 2560,   2111.1,   2.2580,  34.6296,2,  34.6303,2,    145.7,2,    144.4,2,   116.73,2,    36.07,2,     0.01,2,     2.52,2,   -0.002,2,   -0.001,2, -999.000,1,-999.0000,1,  -999.00,9,   -999.0,1,-999.000,9,   2306.7,2,   2397.3,2,     7.55,2,21054.3,-999.0000,-999.000,-999.000,  2.1080,-999.000
   318MWESTW_5,  P21W,   204,  1,      5, SI9405,2,19940602,0712,-17.5000,-173.0000, 2560,   2214.1,   2.1458,  34.6384,2,  34.6386,2,    145.6,2,    144.5,2,   120.96,2,    35.99,2,     0.00,2,     2.52,2, -999.000,9, -999.000,9, -999.000,1,-999.0000,1,  -999.00,9,   -999.0,1,-999.000,9,   2311.1,2,   2407.3,2,     7.55,2,22078.4,-999.0000,-999.000,-999.000,  1.9886,-999.000
   318MWESTW_5,  P21W,   204,  1,      4, SI9404,2,19940602,0712,-17.5000,-173.0000, 2560,   2308.5,   2.0964,  34.6431,2,  34.6421,2,    145.0,2,    144.2,2,   122.90,2,    35.99,2,     0.00,2,     2.51,2, -999.000,9, -999.000,9, -999.000,1,-999.0000,1,  -999.00,9,   -999.0,1,-999.000,9,   2313.1,2,   2407.2,2,     7.55,2,23016.7,-999.0000,-999.000,-999.000,  1.9317,-999.000
   318MWESTW_5,  P21W,   204,  1,      3, SI9403,2,19940602,0712,-17.5000,-173.0000, 2560,   2404.8,   2.0165,  34.6492,2,  34.6492,2,    145.6,2,    144.5,2,   126.08,2,    36.09,2,     0.00,2,     2.50,2,   -0.001,2,    0.000,2, -999.000,1,-999.0000,1,  -999.00,9,   -999.0,1,-999.000,9,   2315.6,2,   2409.7,2,     7.55,2,23973.9,-999.0000,-999.000,-999.000,  1.8446,-999.000
   318MWESTW_5,  P21W,   204,  1,      2, SI9437,2,19940602,0712,-17.5000,-173.0000, 2560,   2519.1,   1.9421,  34.6545,2,  34.6539,2,    145.0,2,    144.5,2,   128.91,2,    36.10,2,     0.00,2,     2.51,2, -999.000,9, -999.000,9, -999.000,1,-999.0000,1,  -999.00,9,   -999.0,1,-999.000,9,   2320.2,2,   2417.6,2,     7.55,2,25110.4,-999.0000,-999.000,-999.000,  1.7612,-999.000
   318MWESTW_5,  P21W,   204,  1,      1, SI9401,2,19940602,0712,-17.5000,-173.0000, 2560,   2560.5,   1.8744,  34.6590,2,  34.6616,2,    145.8,2,    145.1,2,   130.98,2,    36.30,2,     0.00,2,     2.51,2,   -0.002,2,    0.000,2, -999.000,1,-999.0000,1,  -999.00,9,   -999.0,1,-999.000,9,   2319.0,2,   2413.6,2,     7.55,2,25521.2,-999.0000,-999.000,-999.000,  1.6909,-999.000