BOTTLE,20010911WHPSIOdm
EXPOCODE,SECT_ID,STNNBR,CASTNO,SAMPNO,BTLNBR,BTLNBR_FLAG_W,DATE,TIME,LATITUDE,LONGITUDE,DEPTH,CTDPRS,CTDTMP,CTDSAL,CTDSAL_FLAG_W,SALNTY,SALNTY_FLAG_W,CTDOXY,CTDOXY_FLAG_W,OXYGEN,OXYGEN_FLAG_W,SILCAT,SILCAT_FLAG_W,NITRAT,NITRAT_FLAG_W,NITRIT,NITRIT_FLAG_W,PHSPHT,PHSPHT_FLAG_W,CFC-11,CFC-11_FLAG_W,CFC-12,CFC-12_FLAG_W,TRITUM,TRITUM_FLAG_W,HELIUM,HELIUM_FLAG_W,DELHE3,DELHE3_FLAG_W,DELC14,DELC14_FLAG_W,NEON,NEON_FLAG_W,TCARBN,TCARBN_FLAG_W,ALKALI,ALKALI_FLAG_W,PH,PH_FLAG_W,CTDRAW,HELIER,DELHER,NEONER,THETA,TRITER
,,,,,,,,,,,,DBAR,ITS-90,PSS-78,,PSS-78,,UMOL/KG,,UMOL/KG,,UMOL/KG,,UMOL/KG,,UMOL/KG,,UMOL/KG,,PMOL/KG,,PMOL/KG,,TU,,UMOL/KG,,PERCNT,,/MILLE,,NMOL/KG,,UMOL/KG,,UMOL/KG,,,,,NMOL/KG,PERCNT,NMOL/KG,ITS-90,TU
   318MWESTW_5,  P21W,   258,  1,     28, SI9428,2,19940614,1152,-19.0125, 163.9000, 3190,      5.4,  24.1190,  35.3057,2,  35.3064,2,    210.3,2,    205.5,2,     0.67,2,     0.01,2,     0.01,2,     0.06,2,    1.867,2,    1.060,2, -999.000,1,-999.0000,1,  -999.00,9,   -999.0,1,-999.000,9,   -999.0,9,   -999.0,9,  -999.00,9,  112.4,-999.0000,-999.000,-999.000, 24.1179,-999.000
   318MWESTW_5,  P21W,   258,  1,     27, SI9424,2,19940614,1152,-19.0125, 163.9000, 3190,     20.7,  24.1271,  35.3063,2,  35.3072,2,    207.7,2,    214.0,2,     0.55,2,     0.02,2,     0.01,2,     0.07,2, -999.000,9, -999.000,9, -999.000,1,-999.0000,1,  -999.00,9,   -999.0,1,-999.000,9,   -999.0,9,   -999.0,9,  -999.00,9,  264.9,-999.0000,-999.000,-999.000, 24.1227,-999.000
   318MWESTW_5,  P21W,   258,  1,     26, SI9414,2,19940614,1152,-19.0125, 163.9000, 3190,     45.9,  24.1312,  35.3075,2,  35.3086,2,    209.8,2,    212.9,2,     0.69,2,    -0.01,2,     0.01,2,     0.07,2,    1.867,2,    1.043,2, -999.000,1,-999.0000,1,  -999.00,9,   -999.0,1,-999.000,9,   -999.0,9,   -999.0,9,  -999.00,9,  516.7,-999.0000,-999.000,-999.000, 24.1215,-999.000
   318MWESTW_5,  P21W,   258,  1,     25, SI9425,2,19940614,1152,-19.0125, 163.9000, 3190,     96.9,  23.9526,  35.3735,2,  35.3809,2,    185.9,2,    207.9,2,     0.70,2,     0.09,2,     0.06,2,     0.09,2,    1.870,2,    1.050,2, -999.000,1,-999.0000,1,  -999.00,9,   -999.0,1,-999.000,9,   -999.0,9,   -999.0,9,  -999.00,9, 1024.5,-999.0000,-999.000,-999.000, 23.9322,-999.000
   318MWESTW_5,  P21W,   258,  1,     24, SI9434,2,19940614,1152,-19.0125, 163.9000, 3190,    146.9,  21.3523,  35.7268,2,  35.7331,2,    181.3,2,    180.0,2,     1.13,2,     3.30,2,     0.02,2,     0.34,2,    1.975,2,    1.084,2, -999.000,1,-999.0000,1,  -999.00,9,   -999.0,1,-999.000,9,   -999.0,9,   -999.0,9,  -999.00,9, 1521.9,-999.0000,-999.000,-999.000, 21.3238,-999.000
   318MWESTW_5,  P21W,   258,  1,     23, SI9423,2,19940614,1152,-19.0125, 163.9000, 3190,    195.2,  19.9257,  35.6819,2,  35.6838,2,    180.0,2,    182.2,2,     1.42,2,     4.27,2,     0.02,2,     0.41,2,    1.989,2,    1.083,2, -999.000,1,-999.0000,1,  -999.00,9,   -999.0,1,-999.000,9,   -999.0,9,   -999.0,9,  -999.00,9, 2002.5,-999.0000,-999.000,-999.000, 19.8896,-999.000
   318MWESTW_5,  P21W,   258,  1,     22, SI9418,2,19940614,1152,-19.0125, 163.9000, 3190,    246.8,  18.4034,  35.5896,2,  35.5890,2,    181.8,2,    183.1,2,     1.85,2,     5.67,2,     0.01,2,     0.51,2,    1.930,2,    1.043,2, -999.000,1,-999.0000,1,  -999.00,9,   -999.0,1,-999.000,9,   -999.0,9,   -999.0,9,  -999.00,9, 2516.6,-999.0000,-999.000,-999.000, 18.3601,-999.000
   318MWESTW_5,  P21W,   258,  1,     21, SI9421,2,19940614,1152,-19.0125, 163.9000, 3190,    299.5,  17.3442,  35.5128,2,  35.5162,2,    180.1,2,    182.9,2,     2.28,2,     6.55,2,     0.00,2,     0.57,2,    1.932,2,    1.022,2, -999.000,1,-999.0000,1,  -999.00,9,   -999.0,1,-999.000,9,   -999.0,9,   -999.0,9,  -999.00,9, 3041.2,-999.0000,-999.000,-999.000, 17.2938,-999.000
   318MWESTW_5,  P21W,   258,  1,     20, SI9420,2,19940614,1152,-19.0125, 163.9000, 3190,    337.0,  16.0579,  35.3903,2,  35.3900,2,    183.3,2,    181.0,2,     2.98,2,     8.39,2,     0.01,2,     0.68,2, -999.000,9, -999.000,9, -999.000,1,-999.0000,1,  -999.00,9,   -999.0,1,-999.000,9,   -999.0,9,   -999.0,9,  -999.00,9, 3414.9,-999.0000,-999.000,-999.000, 16.0041,-999.000
   318MWESTW_5,  P21W,   258,  1,     19, SI9419,2,19940614,1152,-19.0125, 163.9000, 3190,    399.2,  13.4359,  35.1166,2,  35.1071,2,    184.6,2,    180.0,2,     4.66,2,    12.63,2,     0.00,2,     0.96,2,    1.488,2,    0.777,2, -999.000,1,-999.0000,1,  -999.00,9,   -999.0,1,-999.000,9,   -999.0,9,   -999.0,9,  -999.00,9, 4033.8,-999.0000,-999.000,-999.000, 13.3793,-999.000
   318MWESTW_5,  P21W,   258,  1,     18, SI9439,2,19940614,1152,-19.0125, 163.9000, 3190,    502.1,  10.3368,  34.7793,2,  34.7854,2,    187.9,2,    186.4,2,     8.00,2,    18.20,2,     0.00,2,     1.30,2, -999.000,9, -999.000,9, -999.000,1,-999.0000,1,  -999.00,9,   -999.0,1,-999.000,9,   -999.0,9,   -999.0,9,  -999.00,9, 5057.6,-999.0000,-999.000,-999.000, 10.2766,-999.000
   318MWESTW_5,  P21W,   258,  1,     17, SI9417,2,19940614,1152,-19.0125, 163.9000, 3190,    600.9,   8.4328,  34.5818,4,  34.5804,2,    194.6,2,    196.8,2,    10.52,2,    21.75,2,     0.00,2,     1.52,2,    0.741,2,    0.379,2, -999.000,1,-999.0000,1,  -999.00,9,   -999.0,1,-999.000,9,   -999.0,9,   -999.0,9,  -999.00,9, 6040.0,-999.0000,-999.000,-999.000,  8.3689,-999.000
   318MWESTW_5,  P21W,   258,  1,     16, SI9416,2,19940614,1152,-19.0125, 163.9000, 3190,    690.7,   6.6635,  34.4333,2,  34.4316,2,    199.4,2,    199.2,2,    17.35,2,    25.89,2,     0.01,2,     1.80,2, -999.000,9, -999.000,9, -999.000,1,-999.0000,1,  -999.00,9,   -999.0,1,-999.000,9,   -999.0,9,   -999.0,9,  -999.00,9, 6932.8,-999.0000,-999.000,-999.000,  6.5988,-999.000
   318MWESTW_5,  P21W,   258,  1,     15, SI9415,2,19940614,1152,-19.0125, 163.9000, 3190,    802.7,   5.4580,  34.4121,2,  34.4131,2,    191.4,2,    189.6,2,    30.99,2,    29.11,2,     0.01,2,     2.01,2,    0.144,2,    0.084,2, -999.000,1,-999.0000,1,  -999.00,9,   -999.0,1,-999.000,9,   -999.0,9,   -999.0,9,  -999.00,9, 8046.7,-999.0000,-999.000,-999.000,  5.3896,-999.000
   318MWESTW_5,  P21W,   258,  1,     14, SI9436,2,19940614,1152,-19.0125, 163.9000, 3190,    898.4,   4.8759,  34.4259,2,  34.4269,2,    182.4,2,    181.5,2,    41.29,2,    30.65,2,     0.00,2,     2.12,2, -999.000,9, -999.000,9, -999.000,1,-999.0000,1,  -999.00,9,   -999.0,1,-999.000,9,   -999.0,9,   -999.0,9,  -999.00,9, 8998.4,-999.0000,-999.000,-999.000,  4.8027,-999.000
   318MWESTW_5,  P21W,   258,  1,     13, SI9413,2,19940614,1152,-19.0125, 163.9000, 3190,   1000.9,   4.3772,  34.4545,2,  34.4549,2,    173.6,2,    173.0,2,    52.43,2,    31.76,2,     0.00,2,     2.20,2,    0.050,2,    0.028,2, -999.000,1,-999.0000,1,  -999.00,9,   -999.0,1,-999.000,9,   -999.0,9,   -999.0,9,  -999.00,9,10017.5,-999.0000,-999.000,-999.000,  4.2986,-999.000
   318MWESTW_5,  P21W,   258,  1,     12, SI9438,2,19940614,1152,-19.0125, 163.9000, 3190,   1207.1,   3.6004,  34.5195,2,  34.5193,2,    162.7,2,    162.4,2,    73.57,2,    33.29,2,     0.00,2,     2.31,2,    0.019,2,    0.011,2, -999.000,1,-999.0000,1,  -999.00,9,   -999.0,1,-999.000,9,   -999.0,9,   -999.0,9,  -999.00,9,12067.7,-999.0000,-999.000,-999.000,  3.5109,-999.000
   318MWESTW_5,  P21W,   258,  1,     11, SI9411,2,19940614,1152,-19.0125, 163.9000, 3190,   1400.6,   3.1886,  34.5518,2,  34.5563,2,    156.6,2,    158.6,2,    85.84,2,    34.11,2,     0.00,2,     2.37,2,    0.008,6,    0.006,6, -999.000,1,-999.0000,1,  -999.00,9,   -999.0,1,-999.000,9,   -999.0,9,   -999.0,9,  -999.00,9,13991.1,-999.0000,-999.000,-999.000,  3.0870,-999.000
   318MWESTW_5,  P21W,   258,  1,     10, SI9412,2,19940614,1152,-19.0125, 163.9000, 3190,   1598.8,   2.7526,  34.5979,2,  34.5987,2,    152.3,2,    152.9,2,    98.61,2,    34.74,2,     0.00,2,     2.40,2,    0.002,2,    0.002,2, -999.000,1,-999.0000,1,  -999.00,9,   -999.0,1,-999.000,9,   -999.0,9,   -999.0,9,  -999.00,9,15961.5,-999.0000,-999.000,-999.000,  2.6394,-999.000
   318MWESTW_5,  P21W,   258,  1,      9, SI9410,2,19940614,1152,-19.0125, 163.9000, 3190,   1806.1,   2.5207,  34.6210,2,  34.6223,2,    150.5,2,    151.3,2,   105.28,2,    34.98,2,     0.00,2,     2.43,2,    0.001,2,    0.001,2, -999.000,1,-999.0000,1,  -999.00,9,   -999.0,1,-999.000,9,   -999.0,9,   -999.0,9,  -999.00,9,18022.9,-999.0000,-999.000,-999.000,  2.3931,-999.000
   318MWESTW_5,  P21W,   258,  1,      8, SI9422,2,19940614,1152,-19.0125, 163.9000, 3190,   2007.5,   2.3735,  34.6370,2,  34.6374,2,    150.4,2,    150.5,2,   109.03,2,    35.12,2,     0.01,2,     2.45,2, -999.000,9, -999.000,9, -999.000,1,-999.0000,1,  -999.00,9,   -999.0,1,-999.000,9,   -999.0,9,   -999.0,9,  -999.00,9,20024.6,-999.0000,-999.000,-999.000,  2.2307,-999.000
   318MWESTW_5,  P21W,   258,  1,      7, SI9407,2,19940614,1152,-19.0125, 163.9000, 3190,   2207.2,   2.1960,  34.6535,2,  34.6903,4,    151.4,2,    152.7,2,   113.07,2,    35.05,2,     0.00,2,     2.44,2, -999.000,9, -999.000,9, -999.000,1,-999.0000,1,  -999.00,9,   -999.0,1,-999.000,9,   -999.0,9,   -999.0,9,  -999.00,9,22010.6,-999.0000,-999.000,-999.000,  2.0385,-999.000
   318MWESTW_5,  P21W,   258,  1,      6, SI9427,2,19940614,1152,-19.0125, 163.9000, 3190,   2407.1,   2.0510,  34.6652,2,  34.6663,2,    153.3,2,    154.5,2,   115.99,2,    34.93,2,     0.00,2,     2.43,2, -999.000,9, -999.000,9, -999.000,1,-999.0000,1,  -999.00,9,   -999.0,1,-999.000,9,   -999.0,9,   -999.0,9,  -999.00,9,23997.3,-999.0000,-999.000,-999.000,  1.8782,-999.000
   318MWESTW_5,  P21W,   258,  1,      5, SI9405,2,19940614,1152,-19.0125, 163.9000, 3190,   2610.9,   1.9729,  34.6744,2,  34.6749,2,    155.1,2,    155.7,2,   117.24,2,    34.76,2,     0.00,2,     2.42,2,    0.000,2,    0.001,2, -999.000,1,-999.0000,1,  -999.00,9,   -999.0,1,-999.000,9,   -999.0,9,   -999.0,9,  -999.00,9,26024.0,-999.0000,-999.000,-999.000,  1.7828,-999.000
   318MWESTW_5,  P21W,   258,  1,      4, SI9404,2,19940614,1152,-19.0125, 163.9000, 3190,   2804.6,   1.9008,  34.6696,4,  34.6789,2,    156.0,2,    156.3,2,   119.61,2,    34.78,2,     0.00,2,     2.42,2, -999.000,9, -999.000,9, -999.000,1,-999.0000,1,  -999.00,9,   -999.0,1,-999.000,9,   -999.0,9,   -999.0,9,  -999.00,9,27949.2,-999.0000,-999.000,-999.000,  1.6940,-999.000
   318MWESTW_5,  P21W,   258,  1,      3, SI9403,2,19940614,1152,-19.0125, 163.9000, 3190,   3015.3,   1.8487,  34.6822,2,  34.6818,2,    157.0,2,    157.5,2,   121.41,2,    34.84,2,     0.00,2,     2.41,2, -999.000,9, -999.000,9, -999.000,1,-999.0000,1,  -999.00,9,   -999.0,1,-999.000,9,   -999.0,9,   -999.0,9,  -999.00,9,30043.5,-999.0000,-999.000,-999.000,  1.6227,-999.000
   318MWESTW_5,  P21W,   258,  1,      2, SI9437,2,19940614,1152,-19.0125, 163.9000, 3190,   3184.7,   1.8306,  34.6841,2,  34.6840,2,    157.4,2,    157.4,2,   122.53,2,    34.80,2,     0.00,2,     2.41,2, -999.000,9, -999.000,9, -999.000,1,-999.0000,1,  -999.00,9,   -999.0,1,-999.000,9,   -999.0,9,   -999.0,9,  -999.00,9,31727.6,-999.0000,-999.000,-999.000,  1.5883,-999.000
   318MWESTW_5,  P21W,   258,  1,      1, SI9401,2,19940614,1152,-19.0125, 163.9000, 3190,   3238.3,   1.8350,  34.6726,4,  34.6834,2,    155.5,2,    157.9,2,   122.56,2,    34.85,2,     0.00,2,     2.42,2,   -0.001,2,    0.001,2, -999.000,1,-999.0000,1,  -999.00,9,   -999.0,1,-999.000,9,   -999.0,9,   -999.0,9,  -999.00,9,32260.3,-999.0000,-999.000,-999.000,  1.5873,-999.000