BOTTLE,20010911WHPSIOdm
EXPOCODE,SECT_ID,STNNBR,CASTNO,SAMPNO,BTLNBR,BTLNBR_FLAG_W,DATE,TIME,LATITUDE,LONGITUDE,DEPTH,CTDPRS,CTDTMP,CTDSAL,CTDSAL_FLAG_W,SALNTY,SALNTY_FLAG_W,CTDOXY,CTDOXY_FLAG_W,OXYGEN,OXYGEN_FLAG_W,SILCAT,SILCAT_FLAG_W,NITRAT,NITRAT_FLAG_W,NITRIT,NITRIT_FLAG_W,PHSPHT,PHSPHT_FLAG_W,CFC-11,CFC-11_FLAG_W,CFC-12,CFC-12_FLAG_W,TRITUM,TRITUM_FLAG_W,HELIUM,HELIUM_FLAG_W,DELHE3,DELHE3_FLAG_W,DELC14,DELC14_FLAG_W,NEON,NEON_FLAG_W,TCARBN,TCARBN_FLAG_W,ALKALI,ALKALI_FLAG_W,PH,PH_FLAG_W,CTDRAW,HELIER,DELHER,NEONER,THETA,TRITER
,,,,,,,,,,,,DBAR,ITS-90,PSS-78,,PSS-78,,UMOL/KG,,UMOL/KG,,UMOL/KG,,UMOL/KG,,UMOL/KG,,UMOL/KG,,PMOL/KG,,PMOL/KG,,TU,,UMOL/KG,,PERCNT,,/MILLE,,NMOL/KG,,UMOL/KG,,UMOL/KG,,,,,NMOL/KG,PERCNT,NMOL/KG,ITS-90,TU
   318MWESTW_4,  P21E,    88,  1,     36, SI9336,2,19940423,1822,-16.7500,-108.0000, 3680,      6.8,  25.3509,  36.4200,2,  36.4269,2,    205.9,2,    235.2,4,     0.35,2,     0.01,2,     0.01,2,     0.31,2,    1.853,2,    1.023,2, -999.000,1,-999.0000,1,  -999.00,9,   -999.0,1,-999.000,9,   2056.8,2,   2405.0,2,     8.07,2,  114.9,-999.0000,-999.000,-999.000, 25.3494,-999.000
   318MWESTW_4,  P21E,    88,  1,     35, SI9335,2,19940423,1822,-16.7500,-108.0000, 3680,     26.1,  25.1397,  36.4229,2,  36.4241,2,    211.7,2,    217.7,2,     0.22,2,     0.01,2,     0.01,2,     0.31,2,    1.869,2,    1.028,2, -999.000,1,-999.0000,1,  -999.00,9,   -999.0,1,-999.000,9,   2056.8,2,   2405.0,2,     8.07,2,  307.6,-999.0000,-999.000,-999.000, 25.1340,-999.000
   318MWESTW_4,  P21E,    88,  1,     34, SI9334,2,19940423,1822,-16.7500,-108.0000, 3680,     48.9,  24.9414,  36.3976,2,  36.3966,2,    209.3,2,    219.0,2,     0.25,2,     0.01,2,     0.01,2,     0.32,2,    1.882,2,    1.064,2, -999.000,1,-999.0000,1,  -999.00,9,   -999.0,1,-999.000,9,   2054.8,2,   2403.0,2,     8.07,2,  536.0,-999.0000,-999.000,-999.000, 24.9308,-999.000
   318MWESTW_4,  P21E,    88,  1,     33, SI9333,2,19940423,1822,-16.7500,-108.0000, 3680,     99.2,  23.2741,  36.3284,2,  36.3520,2,    226.3,2,    226.7,2,     0.28,2,     0.06,2,     0.01,2,     0.31,2,    2.045,2,    1.102,2, -999.000,1,-999.0000,1,  -999.00,9,   -999.0,1,-999.000,9,   2063.8,2,   2400.0,2,     8.05,2, 1038.6,-999.0000,-999.000,-999.000, 23.2536,-999.000
   318MWESTW_4,  P21E,    88,  1,     32, SI9332,2,19940423,1822,-16.7500,-108.0000, 3680,    152.9,  21.6455,  36.1161,2,  36.1191,2,    213.5,2,    212.7,2,     0.16,2,     0.18,2,     0.16,2,     0.36,2,    2.134,2,    1.151,2, -999.000,1,-999.0000,1,  -999.00,9,   -999.0,1,-999.000,9,   2076.8,2,   2384.0,2,     8.02,2, 1575.6,-999.0000,-999.000,-999.000, 21.6154,-999.000
   318MWESTW_4,  P21E,    88,  1,     31, SI9331,2,19940423,1822,-16.7500,-108.0000, 3680,    200.3,  19.6552,  35.7307,2,  35.6982,2,    206.1,2,    199.5,2,     0.51,2,     2.33,2,     0.05,2,     0.51,2,    2.254,2,    1.177,2, -999.000,1,-999.0000,1,  -999.00,9,   -999.0,1,-999.000,9,   2083.8,2,   2358.0,2,     7.97,2, 2049.0,-999.0000,-999.000,-999.000, 19.6184,-999.000
   318MWESTW_4,  P21E,    88,  1,     30, SI9330,2,19940423,1822,-16.7500,-108.0000, 3680,    251.9,  16.2678,  35.2427,3,  35.1152,2,    201.9,2,    185.9,2,     1.49,2,     6.23,2,     0.02,2,     0.74,2,    2.250,2,    1.162,2, -999.000,1,-999.0000,1,  -999.00,9,   -999.0,1,-999.000,9,   2090.8,2,   2317.0,2,     7.89,2, 2564.4,-999.0000,-999.000,-999.000, 16.2273,-999.000
   318MWESTW_4,  P21E,    88,  1,     29, SI9329,2,19940423,1822,-16.7500,-108.0000, 3680,    298.0,  13.0030,  34.7887,2,  34.7188,2,    185.5,3,    147.9,2,     5.51,2,    13.61,2,     0.01,2,     1.29,2,    1.633,2,    0.812,2, -999.000,1,-999.0000,1,  -999.00,9,   -999.0,1,-999.000,9,   2130.8,2,   2292.0,2,     7.76,2, 3024.8,-999.0000,-999.000,-999.000, 12.9619,-999.000
   318MWESTW_4,  P21E,    88,  1,     28, SI9328,2,19940423,1822,-16.7500,-108.0000, 3680,    397.8,   8.9532,  34.5003,2,  34.5068,2,     75.6,2,     69.7,2,    19.60,2,    31.17,2,     0.01,2,     2.43,2,    0.257,2,    0.126,2, -999.000,1,-999.0000,1,  -999.00,9,   -999.0,1,-999.000,9,   2231.9,2,   2288.0,2,     7.49,2, 4022.1,-999.0000,-999.000,-999.000,  8.9099,-999.000
   318MWESTW_4,  P21E,    88,  1,     27, SI9327,2,19940423,1822,-16.7500,-108.0000, 3680,    500.3,   7.0348,  34.4354,2,  34.4440,2,    108.0,2,    103.1,2,    23.30,2,    34.58,2,     0.00,2,     2.44,2,    0.124,2,    0.066,2, -999.000,1,-999.0000,1,  -999.00,9,   -999.0,1,-999.000,9,   2227.9,2,   2291.0,2,     7.50,2, 5045.5,-999.0000,-999.000,-999.000,  6.9872,-999.000
   318MWESTW_4,  P21E,    88,  1,     26, SI9326,2,19940423,1822,-16.7500,-108.0000, 3680,    594.9,   5.9092,  34.4115,2,  34.4071,2,    117.9,2,    121.1,2,    28.92,2,    35.69,2,     0.01,2,     2.47,2,    0.031,2,    0.023,2, -999.000,1,-999.0000,1,  -999.00,9,   -999.0,1,-999.000,9,   2225.9,2,   2296.0,2,  -999.00,9, 5990.6,-999.0000,-999.000,-999.000,  5.8573,-999.000
   318MWESTW_4,  P21E,    88,  1,     25, SI9325,3,19940423,1822,-16.7500,-108.0000, 3680,    699.4,   5.3882,  34.4596,2,  34.4569,2,     94.7,2,     94.8,2,    44.12,2,    38.87,2,     0.01,2,     2.70,2,    0.002,2,    0.005,2, -999.000,1,-999.0000,1,  -999.00,9,   -999.0,1,-999.000,9,   2256.9,2,   2311.0,2,     7.49,2, 7034.2,-999.0000,-999.000,-999.000,  5.3294,-999.000
   318MWESTW_4,  P21E,    88,  1,     24, SI9324,2,19940423,1822,-16.7500,-108.0000, 3680,    802.7,   5.0204,  34.4962,2,  34.4962,2,     74.8,2,     74.3,2,    58.36,2,    41.51,2,     0.01,2,     2.89,2,    0.024,4,    0.051,4, -999.000,1,-999.0000,1,  -999.00,9,   -999.0,1,-999.000,9,   2284.0,2,   2328.0,2,     7.46,2, 8066.6,-999.0000,-999.000,-999.000,  4.9546,-999.000
   318MWESTW_4,  P21E,    88,  1,     23, SI9323,2,19940423,1822,-16.7500,-108.0000, 3680,    895.2,   4.6396,  34.5123,2,  34.5117,2,     73.4,2,     70.1,2,    67.80,2,    42.20,2,     0.01,2,     2.96,2,   -0.003,2,   -0.001,2, -999.000,1,-999.0000,1,  -999.00,9,   -999.0,1,-999.000,9,   2284.0,2,   2337.0,2,     7.46,2, 8990.7,-999.0000,-999.000,-999.000,  4.5682,-999.000
   318MWESTW_4,  P21E,    88,  1,     22, SI9322,2,19940423,1822,-16.7500,-108.0000, 3680,    994.6,   4.2497,  34.5290,2,  34.5302,2,     78.6,2,     75.9,2,    77.10,2,    41.82,2,     0.01,2,     2.94,2,    0.000,2,   -0.001,2, -999.000,1,-999.0000,1,  -999.00,9,   -999.0,1,-999.000,9,   -999.0,9,   -999.0,9,  -999.00,9, 9983.0,-999.0000,-999.000,-999.000,  4.1725,-999.000
   318MWESTW_4,  P21E,    88,  1,     21, SI9321,2,19940423,1822,-16.7500,-108.0000, 3680,   1097.9,   3.8905,  34.5400,2,  34.5400,2,     82.6,2,     82.3,2,    84.63,2,    41.39,2,     0.01,2,     2.92,2, -999.000,9, -999.000,9, -999.000,1,-999.0000,1,  -999.00,9,   -999.0,1,-999.000,9,   2306.0,2,   2356.0,2,     7.45,2,11015.2,-999.0000,-999.000,-999.000,  3.8075,-999.000
   318MWESTW_4,  P21E,    88,  1,     20, SI9320,2,19940423,1822,-16.7500,-108.0000, 3680,   1195.4,   3.5815,  34.5548,2,  34.5557,2,     86.0,2,     86.7,2,    92.33,2,    41.06,2,     0.01,2,     2.90,2, -999.000,9, -999.000,9,   -0.005,2,   1.8729,2,    20.01,2,   -999.0,1,   7.950,2,   2311.0,2,   2366.0,2,     7.47,2,11988.6,  0.0094,   0.100,   0.040,  3.4930,   0.004
   318MWESTW_4,  P21E,    88,  1,     19, SI9319,2,19940423,1822,-16.7500,-108.0000, 3680,   1298.3,   3.3111,  34.5699,2,  34.5706,2,     87.9,2,     89.3,2,    99.70,2,    40.85,2,     0.00,2,     2.90,2, -999.000,9, -999.000,9, -999.000,1,-999.0000,1,  -999.00,9,   -999.0,1,-999.000,9,   2318.0,2,   2374.0,2,     7.47,2,13016.6,-999.0000,-999.000,-999.000,  3.2167,-999.000
   318MWESTW_4,  P21E,    88,  1,     18, SI9318,2,19940423,1822,-16.7500,-108.0000, 3680,   1401.3,   3.0900,  34.5834,2,  34.5838,2,     93.5,2,     94.2,2,   105.17,2,    40.47,2,     0.00,2,     2.86,2, -999.000,9, -999.000,9, -999.000,1,-999.0000,1,  -999.00,9,   -999.0,1,-999.000,9,   2322.0,2,   2379.0,2,     7.48,2,14045.5,-999.0000,-999.000,-999.000,  2.9893,-999.000
   318MWESTW_4,  P21E,    88,  1,     17, SI9317,2,19940423,1822,-16.7500,-108.0000, 3680,   1503.3,   2.8747,  34.5964,2,  34.5967,2,     96.9,2,     99.4,2,   110.79,2,    40.04,2,     0.00,2,     2.82,2, -999.000,9, -999.000,9, -999.000,1,-999.0000,1,  -999.00,9,   -999.0,1,-999.000,9,   2323.0,2,   2387.0,2,     7.48,2,15064.5,-999.0000,-999.000,-999.000,  2.7680,-999.000
   318MWESTW_4,  P21E,    88,  1,     16, SI9316,2,19940423,1822,-16.7500,-108.0000, 3680,   1601.7,   2.7063,  34.6068,2,  34.6081,2,    104.2,2,    104.7,2,   114.49,2,    39.60,2,     0.01,2,     2.79,2, -999.000,9, -999.000,9,    0.003,2,   1.9006,2,    25.50,2,   -999.0,1,   8.053,2,   2325.0,2,   2391.0,2,     7.50,2,16047.4,  0.0095,   0.100,   0.040,  2.5934,   0.004
   318MWESTW_4,  P21E,    88,  1,     15, SI9315,2,19940423,1822,-16.7500,-108.0000, 3680,   1693.6,   2.5676,  34.6160,2,  34.6162,2,    109.3,2,    110.4,2,   117.08,2,    39.05,2,     0.01,2,     2.76,2, -999.000,9, -999.000,9, -999.000,1,-999.0000,1,  -999.00,9,   -999.0,1,-999.000,9,   2325.0,2,   2396.0,2,     7.50,2,16966.1,-999.0000,-999.000,-999.000,  2.4488,-999.000
   318MWESTW_4,  P21E,    88,  1,     14, SI9314,2,19940423,1822,-16.7500,-108.0000, 3680,   1846.7,   2.3435,  34.6307,2,  34.6315,2,    120.3,2,    121.3,2,   120.31,2,    38.20,2,     0.00,2,     2.68,2, -999.000,9, -999.000,9, -999.000,1,-999.0000,1,  -999.00,9,   -999.0,1,-999.000,9,   2322.0,2,   -999.0,9,     7.53,2,18494.8,-999.0000,-999.000,-999.000,  2.2149,-999.000
   318MWESTW_4,  P21E,    88,  1,     13, SI9313,2,19940423,1822,-16.7500,-108.0000, 3680,   1992.3,   2.1583,  34.6420,2,  34.6417,2,    132.9,2,    132.9,2,   120.50,2,    37.22,2,     0.00,2,     2.61,2, -999.000,9, -999.000,9,    0.005,2,   1.9106,2,    28.34,2,   -999.0,1,   8.065,2,   2318.0,2,   2403.0,2,     7.54,2,19950.2,  0.0096,   0.110,   0.040,  2.0201,   0.003
   318MWESTW_4,  P21E,    88,  1,     12, SI9312,2,19940423,1822,-16.7500,-108.0000, 3680,   2145.5,   2.0072,  34.6530,2,  34.6539,2,    141.6,2,    142.5,2,   121.49,2,    36.47,2,     0.00,2,     2.54,2, -999.000,9, -999.000,9, -999.000,1,-999.0000,1,  -999.00,9,   -999.0,1,-999.000,9,   2314.0,2,   2400.0,2,     7.56,2,21480.8,-999.0000,-999.000,-999.000,  1.8582,-999.000
   318MWESTW_4,  P21E,    88,  1,     11, SI9311,2,19940423,1822,-16.7500,-108.0000, 3680,   2299.6,   1.9079,  34.6632,2,  34.6618,2,    150.2,2,    149.9,2,   121.84,2,    35.87,2,     0.00,2,     2.49,2, -999.000,9, -999.000,9, -999.000,1,-999.0000,1,  -999.00,9,   -999.0,1,-999.000,9,   2310.0,2,   2403.0,2,     7.57,2,23020.5,-999.0000,-999.000,-999.000,  1.7472,-999.000
   318MWESTW_4,  P21E,    88,  1,     10, SI9310,2,19940423,1822,-16.7500,-108.0000, 3680,   2448.4,   1.8413,  34.6702,2,  34.6712,2,    152.8,2,    152.8,2,   123.31,2,    35.66,2,     0.00,2,     2.47,2, -999.000,9, -999.000,9, -999.000,1,   1.9258,2,    28.61,2,   -999.0,1,   8.137,2,   2311.0,2,   2405.0,2,     7.58,2,24506.8,  0.0096,   0.110,   0.041,  1.6685,-999.000
   318MWESTW_4,  P21E,    88,  1,      9, SI9309,2,19940423,1822,-16.7500,-108.0000, 3680,   2611.5,   1.8195,  34.6745,2,  34.6743,2,    152.2,2,    150.9,2,   126.69,2,    35.81,2,     0.00,2,     2.48,2, -999.000,9, -999.000,9, -999.000,1,-999.0000,1,  -999.00,9,   -999.0,1,-999.000,9,   2316.0,2,   2412.0,2,     7.57,2,26137.1,-999.0000,-999.000,-999.000,  1.6324,-999.000
   318MWESTW_4,  P21E,    88,  1,      8, SI9308,2,19940423,1822,-16.7500,-108.0000, 3680,   2745.1,   1.8093,  34.6783,2,  34.6785,2,    149.6,2,    148.6,2,   129.61,2,    35.96,2,     0.01,2,     2.50,2, -999.000,9, -999.000,9, -999.000,1,-999.0000,1,  -999.00,9,   -999.0,1,-999.000,9,   2322.0,2,   2416.0,2,     7.58,2,27471.3,-999.0000,-999.000,-999.000,  1.6100,-999.000
   318MWESTW_4,  P21E,    88,  1,      7, SI9307,2,19940423,1822,-16.7500,-108.0000, 3680,   2898.2,   1.8060,  34.6793,2,  34.6810,2,    146.2,2,    145.5,2,   133.31,2,    36.24,2,     0.00,2,     2.51,2, -999.000,9, -999.000,9,    0.002,2,   1.9223,2,    26.85,2,   -999.0,1,   8.153,2,   2327.0,2,   2423.0,2,     7.57,2,29001.3,  0.0096,   0.100,   0.041,  1.5923,   0.003
   318MWESTW_4,  P21E,    88,  1,      6, SI9306,2,19940423,1822,-16.7500,-108.0000, 3680,   3045.5,   1.8006,  34.6799,2,  34.6802,2,    143.8,2,    143.2,2,   136.55,2,    36.51,2,     0.00,2,     2.54,2, -999.000,9, -999.000,9, -999.000,1,-999.0000,1,  -999.00,9,   -999.0,1,-999.000,9,   2332.0,2,   2427.0,2,     7.58,2,30473.1,-999.0000,-999.000,-999.000,  1.5727,-999.000
   318MWESTW_4,  P21E,    88,  1,      5, SI9305,2,19940423,1822,-16.7500,-108.0000, 3680,   3192.1,   1.8052,  34.6805,2,  34.6802,2,    143.6,2,    142.8,2,   137.53,2,    36.56,2,     0.00,2,     2.54,2, -999.000,9, -999.000,9,   -0.003,2,   1.9142,2,    26.34,2,   -999.0,1,   8.115,2,   2332.0,2,   2427.0,2,     7.58,2,31938.2,  0.0096,   0.100,   0.041,  1.5628,   0.004
   318MWESTW_4,  P21E,    88,  1,      4, SI9304,2,19940423,1822,-16.7500,-108.0000, 3680,   3346.3,   1.8129,  34.6806,2,  34.6800,2,    143.9,2,    142.0,2,   137.25,2,    36.56,2,     0.00,2,     2.53,2, -999.000,9, -999.000,9, -999.000,1,-999.0000,1,  -999.00,9,   -999.0,1,-999.000,9,   2333.0,2,   2429.0,2,     7.58,2,33480.0,-999.0000,-999.000,-999.000,  1.5547,-999.000
   318MWESTW_4,  P21E,    88,  1,      3, SI9303,2,19940423,1822,-16.7500,-108.0000, 3680,   3496.6,   1.8264,  34.6817,2,  34.6808,2,    144.1,2,    143.5,2,   136.80,2,    36.49,2,     0.01,2,     2.53,2, -999.000,9, -999.000,9,   -0.005,2,   1.9238,2,    25.97,2,   -999.0,1,   8.153,2,   2332.0,2,   2427.0,2,     7.58,2,34982.2,  0.0096,   0.100,   0.041,  1.5524,   0.003
   318MWESTW_4,  P21E,    88,  1,      2, SI9302,2,19940423,1822,-16.7500,-108.0000, 3680,   3729.7,   1.8336,  34.6845,2,  34.6844,2,    147.0,2,    147.3,2,   133.09,2,    36.16,2,     0.00,2,     2.51,2, -999.000,9, -999.000,9, -999.000,1,-999.0000,1,  -999.00,9,   -999.0,1,-999.000,9,   2327.0,2,   2425.0,2,     7.58,2,37311.4,-999.0000,-999.000,-999.000,  1.5348,-999.000
   318MWESTW_4,  P21E,    88,  1,      1, SI9301,2,19940423,1822,-16.7500,-108.0000, 3680,   3780.5,   1.8403,  34.6844,2,  34.6846,2,    148.5,2,    146.8,2,   133.34,2,    36.19,2,     0.00,2,     2.51,2, -999.000,9, -999.000,9,   -0.001,2,   1.9244,2,    25.33,2,   -999.0,1,   8.168,2,   2327.0,2,   2423.0,2,     7.58,2,37819.3,  0.0096,   0.100,   0.041,  1.5358,   0.004