BOTTLE,20010911WHPSIOdm
EXPOCODE,SECT_ID,STNNBR,CASTNO,SAMPNO,BTLNBR,BTLNBR_FLAG_W,DATE,TIME,LATITUDE,LONGITUDE,DEPTH,CTDPRS,CTDTMP,CTDSAL,CTDSAL_FLAG_W,SALNTY,SALNTY_FLAG_W,CTDOXY,CTDOXY_FLAG_W,OXYGEN,OXYGEN_FLAG_W,SILCAT,SILCAT_FLAG_W,NITRAT,NITRAT_FLAG_W,NITRIT,NITRIT_FLAG_W,PHSPHT,PHSPHT_FLAG_W,CFC-11,CFC-11_FLAG_W,CFC-12,CFC-12_FLAG_W,TRITUM,TRITUM_FLAG_W,HELIUM,HELIUM_FLAG_W,DELHE3,DELHE3_FLAG_W,DELC14,DELC14_FLAG_W,NEON,NEON_FLAG_W,TCARBN,TCARBN_FLAG_W,ALKALI,ALKALI_FLAG_W,PH,PH_FLAG_W,CTDRAW,HELIER,DELHER,NEONER,THETA,TRITER
,,,,,,,,,,,,DBAR,ITS-90,PSS-78,,PSS-78,,UMOL/KG,,UMOL/KG,,UMOL/KG,,UMOL/KG,,UMOL/KG,,UMOL/KG,,PMOL/KG,,PMOL/KG,,TU,,UMOL/KG,,PERCNT,,/MILLE,,NMOL/KG,,UMOL/KG,,UMOL/KG,,,,,NMOL/KG,PERCNT,NMOL/KG,ITS-90,TU
   318MWESTW_4,  P21E,   107,  1,     36, SI9336,2,19940429,0531,-16.7500,-118.0000, 3548,     10.6,  26.4547,  36.5682,2,  36.5614,2,    220.7,2,    210.8,2,     0.47,2,     0.03,2,     0.01,2,     0.27,2,    1.743,2,    0.970,2, -999.000,1,-999.0000,1,  -999.00,9,   -999.0,1,-999.000,9,   -999.0,9,   -999.0,9,  -999.00,9,  149.1,-999.0000,-999.000,-999.000, 26.4523,-999.000
   318MWESTW_4,  P21E,   107,  1,     35, SI9335,2,19940429,0531,-16.7500,-118.0000, 3548,     23.9,  26.4565,  36.5665,2,  36.5634,2,    217.8,2,    211.5,2,     0.64,2,     0.03,2,     0.01,2,     0.27,2,    1.755,2,    0.987,2,    0.720,2,   1.6903,2,    -1.18,2,   -999.0,1,   6.636,2,   -999.0,9,   -999.0,9,  -999.00,9,  282.3,  0.0085,   0.080,   0.033, 26.4511,   0.006
   318MWESTW_4,  P21E,   107,  1,     34, SI9334,2,19940429,0531,-16.7500,-118.0000, 3548,     49.1,  26.4544,  36.5670,2,  36.5630,2,    214.8,2,    212.6,2,     0.65,2,     0.04,2,     0.01,2,     0.27,2,    1.730,2,    0.970,2,    0.715,2,   1.6834,2,    -0.89,2,   -999.0,1,   6.622,2,   -999.0,9,   -999.0,9,  -999.00,9,  533.8,  0.0084,   0.080,   0.033, 26.4432,   0.006
   318MWESTW_4,  P21E,   107,  1,     33, SI9333,2,19940429,0531,-16.7500,-118.0000, 3548,    100.1,  23.8014,  36.4546,2,  36.4493,2,    225.4,2,    225.1,2,     0.67,2,     0.04,2,     0.01,2,     0.29,2,    1.970,2,    1.084,2,    0.617,2,   1.7019,2,    -0.98,2,   -999.0,1,   6.789,2,   -999.0,9,   -999.0,9,  -999.00,9, 1044.1,  0.0085,   0.080,   0.034, 23.7803,   0.006
   318MWESTW_4,  P21E,   107,  1,     32, SI9332,2,19940429,0531,-16.7500,-118.0000, 3548,    150.7,  22.6188,  36.3050,2,  36.3154,2,    211.2,2,    204.8,2,     0.53,2,     0.13,2,     0.52,2,     0.38,2,    2.033,2,    1.107,2,    0.598,2,   1.7045,2,    -1.34,2,   -999.0,1,   6.839,2,   -999.0,9,   -999.0,9,  -999.00,9, 1549.5,  0.0085,   0.080,   0.034, 22.5882,   0.006
   318MWESTW_4,  P21E,   107,  1,     31, SI9331,2,19940429,0531,-16.7500,-118.0000, 3548,    202.6,  21.0296,  35.9102,2,  36.0024,2,    201.1,2,    198.4,2,     0.70,2,     1.40,2,     0.14,2,     0.42,2,    2.145,2,    1.150,2,    0.556,2,   1.7208,2,    -0.92,2,   -999.0,1,   6.926,2,   -999.0,9,   -999.0,9,  -999.00,9, 2069.1,  0.0086,   0.080,   0.035, 20.9906,   0.006
   318MWESTW_4,  P21E,   107,  1,     30, SI9330,2,19940429,0531,-16.7500,-118.0000, 3548,    252.9,  18.1124,  35.4101,2,  35.4571,2,    193.5,2,    190.2,2,     1.19,2,     3.86,2,     0.01,2,     0.56,2,    2.160,2,    1.131,2,    0.544,2,   1.7388,2,    -0.22,2,   -999.0,1,   7.055,2,   -999.0,9,   -999.0,9,  -999.00,9, 2571.5,  0.0087,   0.080,   0.035, 18.0686,   0.006
   318MWESTW_4,  P21E,   107,  1,     29, SI9329,2,19940429,0531,-16.7500,-118.0000, 3548,    305.1,  14.4923,  34.8693,2,  34.9264,2,    177.5,2,    175.6,2,     2.80,2,     8.94,2,     0.00,2,     0.88,2,    1.823,2,    0.936,2,    0.437,2,   1.7432,2,     0.81,2,   -999.0,1,   7.236,2,   -999.0,9,   -999.0,9,  -999.00,9, 3092.7,  0.0087,   0.080,   0.036, 14.4471,   0.005
   318MWESTW_4,  P21E,   107,  1,     28, SI9328,2,19940429,0531,-16.7500,-118.0000, 3548,    406.0,   8.7808,  34.4777,2,  34.4763,2,     89.9,2,     88.9,2,    17.99,2,    29.84,2,     0.00,2,     2.33,2,    0.333,2,    0.169,2,    0.091,2,-999.0000,1,  -999.00,9,   -999.0,1,-999.000,9,   -999.0,9,   -999.0,9,  -999.00,9, 4101.1,-999.0000,-999.000,-999.000,  8.7371,   0.004
   318MWESTW_4,  P21E,   107,  1,     27, SI9327,2,19940429,0531,-16.7500,-118.0000, 3548,    504.3,   7.0600,  34.4151,2,  34.4389,2,    112.6,2,    105.4,2,    22.91,2,    34.08,2,     0.00,2,     2.44,2,    0.100,2,    0.061,2,    0.031,2,   1.7890,2,     2.48,2,   -999.0,1,   7.658,2,   -999.0,9,   -999.0,9,  -999.00,9, 5082.9,  0.0089,   0.080,   0.038,  7.0119,   0.004
   318MWESTW_4,  P21E,   107,  1,     26, SI9326,2,19940429,0531,-16.7500,-118.0000, 3548,    603.6,   5.9404,  34.4006,2,  34.3937,2,    132.3,2,    133.5,2,    26.55,2,    34.38,2,     0.00,2,     2.40,2,    0.037,2,    0.030,2,    0.015,2,   1.7892,2,     3.25,2,   -999.0,1,   7.720,2,   -999.0,9,   -999.0,9,  -999.00,9, 6074.4,  0.0089,   0.080,   0.039,  5.8876,   0.004
   318MWESTW_4,  P21E,   107,  1,     25, SI9325,2,19940429,0531,-16.7500,-118.0000, 3548,    701.6,   5.4799,  34.4688,2,  34.4465,2,     97.7,2,    105.4,2,    41.58,2,    37.67,2,     0.00,2,     2.64,2,    0.000,2,    0.008,2,    0.006,2,   1.8106,2,     7.35,2,   -999.0,1,   7.769,2,   -999.0,9,   -999.0,9,  -999.00,9, 7053.7,  0.0091,   0.090,   0.039,  5.4204,   0.004
   318MWESTW_4,  P21E,   107,  1,     24, SI9324,2,19940429,0531,-16.7500,-118.0000, 3548,    801.0,   5.0577,  34.4942,2,  34.4893,2,     83.7,2,     85.6,2,    55.96,2,    40.12,2,     0.00,2,     2.83,2,   -0.004,2,    0.001,2,    0.009,2,   1.8269,2,    11.45,2,   -999.0,1,   7.811,2,   -999.0,9,   -999.0,9,  -999.00,9, 8046.5,  0.0091,   0.090,   0.039,  4.9918,   0.004
   318MWESTW_4,  P21E,   107,  1,     23, SI9323,2,19940429,0531,-16.7500,-118.0000, 3548,    902.2,   4.6142,  34.5101,2,  34.5103,2,     74.8,2,     74.5,2,    68.14,2,    41.67,2,     0.00,2,     2.96,2,   -0.003,2,    0.000,2, -999.000,1,-999.0000,1,  -999.00,9,   -999.0,1,-999.000,9,   -999.0,9,   -999.0,9,  -999.00,9, 9057.5,-999.0000,-999.000,-999.000,  4.5423,-999.000
   318MWESTW_4,  P21E,   107,  1,     22, SI9322,2,19940429,0531,-16.7500,-118.0000, 3548,   1000.9,   4.2540,  34.5252,2,  34.5268,2,     77.1,2,     77.7,2,    76.69,2,    41.55,2,     0.00,2,     2.97,2,   -0.002,2,    0.000,2,    0.005,2,   1.8487,2,    16.21,2,   -999.0,1,   7.859,2,   -999.0,9,   -999.0,9,  -999.00,9,10043.5,  0.0092,   0.100,   0.039,  4.1763,   0.004
   318MWESTW_4,  P21E,   107,  1,     21, SI9321,2,19940429,0531,-16.7500,-118.0000, 3548,   1100.7,   3.9076,  34.5400,2,  34.5411,2,     81.2,2,     81.6,2,    85.23,2,    41.33,2,    -0.01,2,     2.96,2, -999.000,9, -999.000,9, -999.000,1,-999.0000,1,  -999.00,9,   -999.0,1,-999.000,9,   -999.0,9,   -999.0,9,  -999.00,9,11039.7,-999.0000,-999.000,-999.000,  3.8242,-999.000
   318MWESTW_4,  P21E,   107,  1,     20, SI9320,2,19940429,0531,-16.7500,-118.0000, 3548,   1198.7,   3.6261,  34.5542,2,  34.5559,2,     85.7,2,     86.3,2,    91.87,2,    40.98,2,    -0.01,2,     2.95,2, -999.000,9, -999.000,9, -999.000,1,-999.0000,1,  -999.00,9,   -999.0,1,-999.000,9,   -999.0,9,   -999.0,9,  -999.00,9,12018.8,-999.0000,-999.000,-999.000,  3.5370,-999.000
   318MWESTW_4,  P21E,   107,  1,     19, SI9319,2,19940429,0531,-16.7500,-118.0000, 3548,   1300.3,   3.3454,  34.5658,2,  34.5681,2,     91.6,2,     92.0,2,    98.51,2,    40.56,2,    -0.01,2,     2.92,2, -999.000,9, -999.000,9,    0.005,2,   1.8719,2,    21.60,2,   -999.0,1,   7.928,2,   -999.0,9,   -999.0,9,  -999.00,9,13033.5,  0.0094,   0.100,   0.040,  3.2505,   0.004
   318MWESTW_4,  P21E,   107,  1,     18, SI9318,2,19940429,0531,-16.7500,-118.0000, 3548,   1399.9,   3.1266,  34.5794,2,  34.5800,2,     95.7,2,     96.3,2,   103.72,2,    40.09,2,    -0.01,2,     2.88,2, -999.000,9, -999.000,9, -999.000,1,-999.0000,1,  -999.00,9,   -999.0,1,-999.000,9,   -999.0,9,   -999.0,9,  -999.00,9,14028.5,-999.0000,-999.000,-999.000,  3.0257,-999.000
   318MWESTW_4,  P21E,   107,  1,     17, SI9317,2,19940429,0531,-16.7500,-118.0000, 3548,   1500.5,   2.9286,  34.5911,2,  34.5918,2,    100.5,2,    101.3,2,   108.78,2,    39.65,2,     0.01,2,     2.86,2, -999.000,9, -999.000,9, -999.000,1,-999.0000,1,  -999.00,9,   -999.0,1,-999.000,9,   -999.0,9,   -999.0,9,  -999.00,9,15033.3,-999.0000,-999.000,-999.000,  2.8215,-999.000
   318MWESTW_4,  P21E,   107,  1,     16, SI9316,2,19940429,0531,-16.7500,-118.0000, 3548,   1601.7,   2.7151,  34.6031,2,  34.6048,2,    106.9,2,    108.9,2,   113.05,2,    39.07,2,    -0.01,2,     2.80,2, -999.000,9, -999.000,9,    0.002,2,   1.8927,2,    25.23,2,   -999.0,1,   7.987,2,   -999.0,9,   -999.0,9,  -999.00,9,16045.1,  0.0095,   0.100,   0.040,  2.6021,   0.004
   318MWESTW_4,  P21E,   107,  1,     15, SI9315,2,19940429,0531,-16.7500,-118.0000, 3548,   1698.3,   2.5366,  34.6143,2,  34.6150,2,    115.8,2,    116.9,2,   115.26,2,    38.40,2,     0.00,2,     2.75,2, -999.000,9, -999.000,9, -999.000,1,-999.0000,1,  -999.00,9,   -999.0,1,-999.000,9,   -999.0,9,   -999.0,9,  -999.00,9,17009.4,-999.0000,-999.000,-999.000,  2.4178,-999.000
   318MWESTW_4,  P21E,   107,  1,     14, SI9314,2,19940429,0531,-16.7500,-118.0000, 3548,   1798.9,   2.3886,  34.6230,2,  34.6248,2,    123.8,2,    124.5,2,   116.69,2,    37.82,2,     0.00,2,     2.69,2, -999.000,9, -999.000,9, -999.000,1,-999.0000,1,  -999.00,9,   -999.0,1,-999.000,9,   -999.0,9,   -999.0,9,  -999.00,9,18015.1,-999.0000,-999.000,-999.000,  2.2634,-999.000
   318MWESTW_4,  P21E,   107,  1,     13, SI9313,2,19940429,0531,-16.7500,-118.0000, 3548,   1952.3,   2.1742,  34.6360,2,  34.6362,2,    139.2,2,    139.8,2,   116.53,2,    36.63,2,     0.00,2,     2.59,2, -999.000,9, -999.000,9, -999.000,1,-999.0000,1,  -999.00,9,   -999.0,1,-999.000,9,   -999.0,9,   -999.0,9,  -999.00,9,19547.2,-999.0000,-999.000,-999.000,  2.0391,-999.000
   318MWESTW_4,  P21E,   107,  1,     12, SI9312,2,19940429,0531,-16.7500,-118.0000, 3548,   2101.1,   1.9948,  34.6494,2,  34.6513,2,    148.2,2,    149.7,2,   118.59,2,    35.78,2,     0.00,2,     2.52,2, -999.000,9, -999.000,9, -999.000,1,-999.0000,1,  -999.00,9,   -999.0,1,-999.000,9,   -999.0,9,   -999.0,9,  -999.00,9,21034.4,-999.0000,-999.000,-999.000,  1.8498,-999.000
   318MWESTW_4,  P21E,   107,  1,     11, SI9311,2,19940429,0531,-16.7500,-118.0000, 3548,   2251.2,   1.9087,  34.6602,2,  34.6604,2,    152.8,2,    153.4,2,   120.64,2,    35.42,2,     0.01,2,     2.49,2, -999.000,9, -999.000,9, -999.000,1,-999.0000,1,  -999.00,9,   -999.0,1,-999.000,9,   -999.0,9,   -999.0,9,  -999.00,9,22533.5,-999.0000,-999.000,-999.000,  1.7522,-999.000
   318MWESTW_4,  P21E,   107,  1,     10, SI9310,2,19940429,0531,-16.7500,-118.0000, 3548,   2402.5,   1.8548,  34.6666,2,  34.6675,2,    153.8,2,    154.9,2,   123.02,2,    35.26,2,     0.00,2,     2.49,2, -999.000,9, -999.000,9, -999.000,1,-999.0000,1,  -999.00,9,   -999.0,1,-999.000,9,   -999.0,9,   -999.0,9,  -999.00,9,24045.8,-999.0000,-999.000,-999.000,  1.6859,-999.000
   318MWESTW_4,  P21E,   107,  1,      9, SI9309,2,19940429,0531,-16.7500,-118.0000, 3548,   2554.4,   1.8248,  34.6703,2,  34.6708,2,    154.9,2,    154.9,2,   124.92,2,    35.36,2,     0.01,2,     2.49,2, -999.000,9, -999.000,9, -999.000,1,-999.0000,1,  -999.00,9,   -999.0,1,-999.000,9,   -999.0,9,   -999.0,9,  -999.00,9,25562.8,-999.0000,-999.000,-999.000,  1.6428,-999.000
   318MWESTW_4,  P21E,   107,  1,      8, SI9308,2,19940429,0531,-16.7500,-118.0000, 3548,   2702.0,   1.7929,  34.6733,2,  34.6724,2,    157.1,2,    156.8,2,   125.71,2,    35.14,2,     0.00,2,     2.48,2, -999.000,9, -999.000,9, -999.000,1,-999.0000,1,  -999.00,9,   -999.0,1,-999.000,9,   -999.0,9,   -999.0,9,  -999.00,9,27038.0,-999.0000,-999.000,-999.000,  1.5980,-999.000
   318MWESTW_4,  P21E,   107,  1,      7, SI9307,2,19940429,0531,-16.7500,-118.0000, 3548,   2850.9,   1.7678,  34.6752,2,  34.6747,2,    157.7,2,    157.5,2,   126.81,2,    35.27,2,     0.00,2,     2.48,2, -999.000,9, -999.000,9, -999.000,1,-999.0000,1,  -999.00,9,   -999.0,1,-999.000,9,   -999.0,9,   -999.0,9,  -999.00,9,28526.0,-999.0000,-999.000,-999.000,  1.5594,-999.000
   318MWESTW_4,  P21E,   107,  1,      6, SI9306,2,19940429,0531,-16.7500,-118.0000, 3548,   2998.1,   1.7429,  34.6766,2,  34.6765,2,    159.4,2,    159.5,2,   126.82,2,    35.08,2,     0.01,2,     2.48,2, -999.000,9, -999.000,9, -999.000,1,-999.0000,1,  -999.00,9,   -999.0,1,-999.000,9,   -999.0,9,   -999.0,9,  -999.00,9,29997.3,-999.0000,-999.000,-999.000,  1.5209,-999.000
   318MWESTW_4,  P21E,   107,  1,      5, SI9305,2,19940429,0531,-16.7500,-118.0000, 3548,   3147.3,   1.7366,  34.6773,2,  34.6777,2,    160.4,2,    160.3,2,   127.30,2,    35.08,2,     0.01,2,     2.47,2, -999.000,9, -999.000,9, -999.000,1,-999.0000,1,  -999.00,9,   -999.0,1,-999.000,9,   -999.0,9,   -999.0,9,  -999.00,9,31487.9,-999.0000,-999.000,-999.000,  1.5002,-999.000
   318MWESTW_4,  P21E,   107,  1,      4, SI9304,2,19940429,0531,-16.7500,-118.0000, 3548,   3297.4,   1.7238,  34.6793,2,  34.6789,2,    160.9,2,    160.3,2,   128.40,2,    35.14,2,     0.01,2,     2.48,2, -999.000,9, -999.000,9, -999.000,1,-999.0000,1,  -999.00,9,   -999.0,1,-999.000,9,   -999.0,9,   -999.0,9,  -999.00,9,32988.0,-999.0000,-999.000,-999.000,  1.4727,-999.000
   318MWESTW_4,  P21E,   107,  1,      3, SI9303,2,19940429,0531,-16.7500,-118.0000, 3548,   3452.8,   1.7084,  34.6811,2,  34.6806,2,    162.1,2,    161.0,2,   129.04,2,    35.14,2,     0.01,2,     2.47,2, -999.000,9, -999.000,9, -999.000,1,-999.0000,1,  -999.00,9,   -999.0,1,-999.000,9,   -999.0,9,   -999.0,9,  -999.00,9,34540.7,-999.0000,-999.000,-999.000,  1.4419,-999.000
   318MWESTW_4,  P21E,   107,  1,      2, SI9302,2,19940429,0531,-16.7500,-118.0000, 3548,   3545.5,   1.7073,  34.6816,2,  34.6808,2,    162.4,2,    161.0,2,   129.83,2,    35.09,2,     0.01,2,     2.46,2, -999.000,9, -999.000,9, -999.000,1,-999.0000,1,  -999.00,9,   -999.0,1,-999.000,9,   -999.0,9,   -999.0,9,  -999.00,9,35467.1,-999.0000,-999.000,-999.000,  1.4312,-999.000
   318MWESTW_4,  P21E,   107,  1,      1, SI9301,2,19940429,0531,-16.7500,-118.0000, 3548,   3584.1,   1.7080,  34.6819,2,  34.6810,2,    161.8,2,    161.5,2,   129.62,2,    35.13,2,     0.01,2,     2.48,2, -999.000,9, -999.000,9, -999.000,1,-999.0000,1,  -999.00,9,   -999.0,1,-999.000,9,   -999.0,9,   -999.0,9,  -999.00,9,35853.0,-999.0000,-999.000,-999.000,  1.4279,-999.000