BOTTLE,20010911WHPSIOdm
EXPOCODE,SECT_ID,STNNBR,CASTNO,SAMPNO,BTLNBR,BTLNBR_FLAG_W,DATE,TIME,LATITUDE,LONGITUDE,DEPTH,CTDPRS,CTDTMP,CTDSAL,CTDSAL_FLAG_W,SALNTY,SALNTY_FLAG_W,CTDOXY,CTDOXY_FLAG_W,OXYGEN,OXYGEN_FLAG_W,SILCAT,SILCAT_FLAG_W,NITRAT,NITRAT_FLAG_W,NITRIT,NITRIT_FLAG_W,PHSPHT,PHSPHT_FLAG_W,CFC-11,CFC-11_FLAG_W,CFC-12,CFC-12_FLAG_W,TRITUM,TRITUM_FLAG_W,HELIUM,HELIUM_FLAG_W,DELHE3,DELHE3_FLAG_W,DELC14,DELC14_FLAG_W,NEON,NEON_FLAG_W,TCARBN,TCARBN_FLAG_W,ALKALI,ALKALI_FLAG_W,PH,PH_FLAG_W,CTDRAW,HELIER,DELHER,NEONER,THETA,TRITER
,,,,,,,,,,,,DBAR,ITS-90,PSS-78,,PSS-78,,UMOL/KG,,UMOL/KG,,UMOL/KG,,UMOL/KG,,UMOL/KG,,UMOL/KG,,PMOL/KG,,PMOL/KG,,TU,,UMOL/KG,,PERCNT,,/MILLE,,NMOL/KG,,UMOL/KG,,UMOL/KG,,,,,NMOL/KG,PERCNT,NMOL/KG,ITS-90,TU
   318MWESTW_4,  P21E,    24,  1,     36, SI9336,2,19940403,1302,-16.6250, -75.9250, 4252,      8.0,  21.1637,  34.9670,2,  34.9563,2,    234.5,2,    252.5,2,     0.45,2,     0.17,2,     0.00,2,     0.45,2,    2.256,2,    1.153,2, -999.000,1,-999.0000,1,  -999.00,9,   -999.0,1,-999.000,9,   -999.0,9,   -999.0,9,  -999.00,9,  125.7,-999.0000,-999.000,-999.000, 21.1622,-999.000
   318MWESTW_4,  P21E,    24,  1,     35, SI9335,9,19940403,1302,-16.6250, -75.9250, 4252,     24.6,  15.8509,  34.9443,2,-999.0000,9,    154.8,2,   -999.0,9,  -999.00,9,  -999.00,9,  -999.00,9,  -999.00,9, -999.000,9, -999.000,9, -999.000,1,-999.0000,1,  -999.00,9,   -999.0,1,-999.000,9,   -999.0,9,   -999.0,9,  -999.00,9,  291.2,-999.0000,-999.000,-999.000, 15.8471,-999.000
   318MWESTW_4,  P21E,    24,  1,     34, SI9334,2,19940403,1302,-16.6250, -75.9250, 4252,     48.1,  14.5693,  34.9509,2,  34.9752,2,     20.7,2,      0.9,2,    19.27,2,    22.95,2,     0.58,2,     2.54,2,    1.058,3,    0.458,3, -999.000,1,-999.0000,1,  -999.00,9,   -999.0,1,-999.000,9,   -999.0,9,   -999.0,9,  -999.00,9,  525.8,-999.0000,-999.000,-999.000, 14.5622,-999.000
   318MWESTW_4,  P21E,    24,  1,     33, SI9333,2,19940403,1302,-16.6250, -75.9250, 4252,     99.0,  14.0769,  34.9681,2,  34.9685,2,      1.5,2,      4.3,2,    30.25,2,     8.79,2,     3.64,2,     2.84,2,    0.701,2,    0.382,2, -999.000,1,-999.0000,1,  -999.00,9,   -999.0,1,-999.000,9,   -999.0,9,   -999.0,9,  -999.00,9, 1034.2,-999.0000,-999.000,-999.000, 14.0626,-999.000
   318MWESTW_4,  P21E,    24,  1,     32, SI9332,2,19940403,1302,-16.6250, -75.9250, 4252,    151.3,  13.6737,  34.9333,2,  34.9396,2,      1.1,2,      0.4,2,    29.23,2,    10.66,2,     4.20,2,     2.79,2,    0.608,2,    0.336,2, -999.000,1,-999.0000,1,  -999.00,9,   -999.0,1,-999.000,9,   -999.0,9,   -999.0,9,  -999.00,9, 1557.5,-999.0000,-999.000,-999.000, 13.6522,-999.000
   318MWESTW_4,  P21E,    24,  1,     31, SI9331,2,19940403,1302,-16.6250, -75.9250, 4252,    200.9,  12.8464,  34.8715,2,  34.8873,2,      0.8,2,      2.0,2,    28.72,2,    13.47,2,     5.17,2,     2.74,2,    0.371,2,    0.212,2, -999.000,1,-999.0000,1,  -999.00,9,   -999.0,1,-999.000,9,   -999.0,9,   -999.0,9,  -999.00,9, 2053.3,-999.0000,-999.000,-999.000, 12.8190,-999.000
   318MWESTW_4,  P21E,    24,  1,     30, SI9330,2,19940403,1302,-16.6250, -75.9250, 4252,    252.0,  11.9613,  34.8076,2,  34.8410,2,      0.6,2,      0.7,2,    28.58,2,    17.80,2,     6.25,2,     2.71,2,    0.210,2,    0.113,2, -999.000,1,-999.0000,1,  -999.00,9,   -999.0,1,-999.000,9,   -999.0,9,   -999.0,9,  -999.00,9, 2563.8,-999.0000,-999.000,-999.000, 11.9285,-999.000
   318MWESTW_4,  P21E,    24,  1,     29, SI9329,2,19940403,1302,-16.6250, -75.9250, 4252,    297.7,  11.0433,  34.7389,2,  34.7571,2,      1.3,2,      1.3,2,    28.25,2,    27.21,2,     0.46,2,     2.75,2,    0.148,6,    0.075,6, -999.000,1,-999.0000,1,  -999.00,9,   -999.0,1,-999.000,9,   -999.0,9,   -999.0,9,  -999.00,9, 3020.2,-999.0000,-999.000,-999.000, 11.0064,-999.000
   318MWESTW_4,  P21E,    24,  1,     28, SI9328,2,19940403,1302,-16.6250, -75.9250, 4252,    399.4,   9.5402,  34.6506,2,  34.6659,2,      2.1,2,      4.1,2,    30.88,2,    34.95,2,     0.00,2,     2.85,2,    0.043,2,    0.020,2, -999.000,1,-999.0000,1,  -999.00,9,   -999.0,1,-999.000,9,   -999.0,9,   -999.0,9,  -999.00,9, 4035.5,-999.0000,-999.000,-999.000,  9.4949,-999.000
   318MWESTW_4,  P21E,    24,  1,     27, SI9327,2,19940403,1302,-16.6250, -75.9250, 4252,    499.8,   8.2408,  34.6117,2,  34.5957,2,      4.3,2,     10.8,2,    35.25,2,    39.51,2,     0.01,2,     2.98,2,    0.025,2,    0.006,2, -999.000,1,-999.0000,1,  -999.00,9,   -999.0,1,-999.000,9,   -999.0,9,   -999.0,9,  -999.00,9, 5038.4,-999.0000,-999.000,-999.000,  8.1886,-999.000
   318MWESTW_4,  P21E,    24,  1,     26, SI9326,2,19940403,1302,-16.6250, -75.9250, 4252,    599.5,   7.3447,  34.5414,2,  34.5533,2,     22.3,2,     19.5,2,    39.62,2,    41.66,2,     0.00,2,     3.04,2,    0.018,2,    0.006,2, -999.000,1,-999.0000,1,  -999.00,9,   -999.0,1,-999.000,9,   -999.0,9,   -999.0,9,  -999.00,9, 6034.8,-999.0000,-999.000,-999.000,  7.2858,-999.000
   318MWESTW_4,  P21E,    24,  1,     25, SI9325,2,19940403,1302,-16.6250, -75.9250, 4252,    698.1,   6.2887,  34.5081,2,  34.5082,2,     34.2,2,     35.0,2,    46.25,2,    42.85,2,     0.00,2,     3.08,2,   -0.003,2,   -0.002,2, -999.000,1,-999.0000,1,  -999.00,9,   -999.0,1,-999.000,9,   -999.0,9,   -999.0,9,  -999.00,9, 7019.7,-999.0000,-999.000,-999.000,  6.2252,-999.000
   318MWESTW_4,  P21E,    24,  1,     24, SI9324,2,19940403,1302,-16.6250, -75.9250, 4252,    797.8,   5.0663,  34.5161,2,  34.5142,2,     41.8,2,     41.7,2,    66.62,2,    44.14,2,     0.00,2,     3.18,2,   -0.004,2,   -0.004,2, -999.000,1,-999.0000,1,  -999.00,9,   -999.0,1,-999.000,9,   -999.0,9,   -999.0,9,  -999.00,9, 8015.8,-999.0000,-999.000,-999.000,  5.0006,-999.000
   318MWESTW_4,  P21E,    24,  1,     23, SI9323,2,19940403,1302,-16.6250, -75.9250, 4252,    899.0,   4.4213,  34.5260,2,  34.5268,2,     53.3,2,     55.1,2,    78.11,2,    43.51,2,     0.00,2,     3.13,2,   -0.004,2,   -0.004,2, -999.000,1,-999.0000,1,  -999.00,9,   -999.0,1,-999.000,9,   -999.0,9,   -999.0,9,  -999.00,9, 9025.8,-999.0000,-999.000,-999.000,  4.3510,-999.000
   318MWESTW_4,  P21E,    24,  1,     22, SI9322,2,19940403,1302,-16.6250, -75.9250, 4252,    999.3,   4.1654,  34.5339,2,  34.5345,2,     61.7,2,     61.8,2,    83.34,2,    42.99,2,     0.00,2,     3.10,2, -999.000,9, -999.000,9, -999.000,1,-999.0000,1,  -999.00,9,   -999.0,1,-999.000,9,   -999.0,9,   -999.0,9,  -999.00,9,10027.8,-999.0000,-999.000,-999.000,  4.0885,-999.000
   318MWESTW_4,  P21E,    24,  1,     21, SI9321,2,19940403,1302,-16.6250, -75.9250, 4252,   1099.9,   3.9173,  34.5447,2,  34.5445,2,     66.9,2,     67.0,2,    89.27,2,    42.53,2,     0.00,2,     3.07,2, -999.000,9, -999.000,9, -999.000,1,-999.0000,1,  -999.00,9,   -999.0,1,-999.000,9,   -999.0,9,   -999.0,9,  -999.00,9,11033.1,-999.0000,-999.000,-999.000,  3.8339,-999.000
   318MWESTW_4,  P21E,    24,  1,     20, SI9320,2,19940403,1302,-16.6250, -75.9250, 4252,   1196.0,   3.6176,  34.5551,2,  34.5553,2,     74.8,2,     75.4,2,    95.02,2,    41.86,2,     0.00,2,     3.03,2, -999.000,9, -999.000,9, -999.000,1,-999.0000,1,  -999.00,9,   -999.0,1,-999.000,9,   -999.0,9,   -999.0,9,  -999.00,9,11992.5,-999.0000,-999.000,-999.000,  3.5288,-999.000
   318MWESTW_4,  P21E,    24,  1,     19, SI9319,2,19940403,1302,-16.6250, -75.9250, 4252,   1300.1,   3.3902,  34.5689,2,  34.5663,2,     81.7,2,     81.2,2,   100.42,2,    41.45,2,     0.00,2,     2.99,2, -999.000,9, -999.000,9, -999.000,1,-999.0000,1,  -999.00,9,   -999.0,1,-999.000,9,   -999.0,9,   -999.0,9,  -999.00,9,13032.6,-999.0000,-999.000,-999.000,  3.2948,-999.000
   318MWESTW_4,  P21E,    24,  1,     18, SI9318,2,19940403,1302,-16.6250, -75.9250, 4252,   1402.6,   3.1133,  34.5814,2,  34.5820,2,     88.3,2,     88.6,2,   106.87,2,    40.94,2,     0.00,2,     2.92,2, -999.000,9, -999.000,9, -999.000,1,-999.0000,1,  -999.00,9,   -999.0,1,-999.000,9,   -999.0,9,   -999.0,9,  -999.00,9,14057.1,-999.0000,-999.000,-999.000,  3.0123,-999.000
   318MWESTW_4,  P21E,    24,  1,     17, SI9317,2,19940403,1302,-16.6250, -75.9250, 4252,   1502.8,   2.9148,  34.5953,2,  34.5942,2,     92.4,2,     93.4,2,   111.91,2,    40.58,2,     0.00,2,     2.91,2, -999.000,9, -999.000,9, -999.000,1,-999.0000,1,  -999.00,9,   -999.0,1,-999.000,9,   -999.0,9,   -999.0,9,  -999.00,9,15058.0,-999.0000,-999.000,-999.000,  2.8077,-999.000
   318MWESTW_4,  P21E,    24,  1,     16, SI9316,2,19940403,1302,-16.6250, -75.9250, 4252,   1601.1,   2.7454,  34.6071,2,  34.6087,2,     92.9,2,     93.6,2,   118.88,2,    40.38,2,     0.00,2,     2.89,2, -999.000,9, -999.000,9, -999.000,1,-999.0000,1,  -999.00,9,   -999.0,1,-999.000,9,   -999.0,9,   -999.0,9,  -999.00,9,16039.8,-999.0000,-999.000,-999.000,  2.6321,-999.000
   318MWESTW_4,  P21E,    24,  1,     15, SI9315,2,19940403,1302,-16.6250, -75.9250, 4252,   1748.5,   2.5620,  34.6214,2,  34.6225,2,     97.4,2,     97.3,2,   126.01,2,    40.08,2,     0.00,2,     2.85,2, -999.000,9, -999.000,9, -999.000,1,-999.0000,1,  -999.00,9,   -999.0,1,-999.000,9,   -999.0,9,   -999.0,9,  -999.00,9,17512.3,-999.0000,-999.000,-999.000,  2.4387,-999.000
   318MWESTW_4,  P21E,    24,  1,     14, SI9314,2,19940403,1302,-16.6250, -75.9250, 4252,   1900.9,   2.3913,  34.6338,2,  34.6331,2,    102.6,2,    103.0,2,   130.02,2,    39.52,2,    -0.01,2,     2.82,2, -999.000,9, -999.000,9, -999.000,1,-999.0000,1,  -999.00,9,   -999.0,1,-999.000,9,   -999.0,9,   -999.0,9,  -999.00,9,19034.5,-999.0000,-999.000,-999.000,  2.2574,-999.000
   318MWESTW_4,  P21E,    24,  1,     13, SI9313,2,19940403,1302,-16.6250, -75.9250, 4252,   2051.9,   2.2387,  34.6454,2,  34.6437,2,    108.3,2,    108.8,2,   133.68,2,    38.95,2,    -0.01,2,     2.78,2, -999.000,9, -999.000,9, -999.000,1,-999.0000,1,  -999.00,9,   -999.0,1,-999.000,9,   -999.0,9,   -999.0,9,  -999.00,9,20543.8,-999.0000,-999.000,-999.000,  2.0941,-999.000
   318MWESTW_4,  P21E,    24,  1,     12, SI9312,2,19940403,1302,-16.6250, -75.9250, 4252,   2197.9,   2.0991,  34.6543,2,  34.6541,2,    116.1,2,    117.9,2,   134.20,2,    38.21,2,     0.00,2,     2.71,2, -999.000,9, -999.000,9, -999.000,1,-999.0000,1,  -999.00,9,   -999.0,1,-999.000,9,   -999.0,9,   -999.0,9,  -999.00,9,22002.4,-999.0000,-999.000,-999.000,  1.9441,-999.000
   318MWESTW_4,  P21E,    24,  1,     11, SI9311,2,19940403,1302,-16.6250, -75.9250, 4252,   2400.6,   1.9679,  34.6641,2,  34.6622,2,    130.1,2,    129.3,2,   132.65,2,    37.33,2,    -0.01,2,     2.65,2, -999.000,9, -999.000,9, -999.000,1,-999.0000,1,  -999.00,9,   -999.0,1,-999.000,9,   -999.0,9,   -999.0,9,  -999.00,9,24026.9,-999.0000,-999.000,-999.000,  1.7971,-999.000
   318MWESTW_4,  P21E,    24,  1,     10, SI9310,2,19940403,1302,-16.6250, -75.9250, 4252,   2599.9,   1.8702,  34.6727,2,  34.6702,2,    137.7,2,    135.8,2,   133.53,2,    36.82,2,    -0.01,2,     2.59,2, -999.000,9, -999.000,9, -999.000,1,-999.0000,1,  -999.00,9,   -999.0,1,-999.000,9,   -999.0,9,   -999.0,9,  -999.00,9,26018.6,-999.0000,-999.000,-999.000,  1.6832,-999.000
   318MWESTW_4,  P21E,    24,  1,      9, SI9309,2,19940403,1302,-16.6250, -75.9250, 4252,   2800.4,   1.8144,  34.6768,2,  34.6765,2,    139.4,2,    138.9,2,   135.27,2,    36.67,2,    -0.01,2,     2.56,2, -999.000,9, -999.000,9, -999.000,1,-999.0000,1,  -999.00,9,   -999.0,1,-999.000,9,   -999.0,9,   -999.0,9,  -999.00,9,28022.4,-999.0000,-999.000,-999.000,  1.6098,-999.000
   318MWESTW_4,  P21E,    24,  1,      8, SI9308,2,19940403,1302,-16.6250, -75.9250, 4252,   3002.1,   1.7891,  34.6805,2,  34.6796,2,    139.2,2,    138.4,2,   138.06,2,    36.68,2,    -0.01,2,     2.57,2, -999.000,9, -999.000,9, -999.000,1,-999.0000,1,  -999.00,9,   -999.0,1,-999.000,9,   -999.0,9,   -999.0,9,  -999.00,9,30037.5,-999.0000,-999.000,-999.000,  1.5657,-999.000
   318MWESTW_4,  P21E,    24,  1,      7, SI9307,2,19940403,1302,-16.6250, -75.9250, 4252,   3194.2,   1.7799,  34.6824,2,  34.6814,2,    141.4,2,    141.4,2,   137.20,2,    36.55,2,    -0.01,2,     2.55,2, -999.000,9, -999.000,9, -999.000,1,-999.0000,1,  -999.00,9,   -999.0,1,-999.000,9,   -999.0,9,   -999.0,9,  -999.00,9,31957.5,-999.0000,-999.000,-999.000,  1.5378,-999.000
   318MWESTW_4,  P21E,    24,  1,      6, SI9306,2,19940403,1302,-16.6250, -75.9250, 4252,   3395.9,   1.7598,  34.6852,2,  34.6867,3,    150.2,2,    150.9,2,   130.60,2,    35.81,2,    -0.01,2,     2.49,2, -999.000,9, -999.000,9, -999.000,1,-999.0000,1,  -999.00,9,   -999.0,1,-999.000,9,   -999.0,9,   -999.0,9,  -999.00,9,33973.3,-999.0000,-999.000,-999.000,  1.4978,-999.000
   318MWESTW_4,  P21E,    24,  1,      5, SI9305,2,19940403,1302,-16.6250, -75.9250, 4252,   3598.4,   1.7311,  34.6889,2,  34.6865,3,    158.4,2,    157.3,2,   125.75,2,    35.40,2,    -0.01,2,     2.44,2, -999.000,9, -999.000,9, -999.000,1,-999.0000,1,  -999.00,9,   -999.0,1,-999.000,9,   -999.0,9,   -999.0,9,  -999.00,9,35997.0,-999.0000,-999.000,-999.000,  1.4489,-999.000
   318MWESTW_4,  P21E,    24,  1,      4, SI9304,2,19940403,1302,-16.6250, -75.9250, 4252,   3796.0,   1.7297,  34.6906,2,  34.6903,2,    160.5,2,    159.3,2,   124.72,2,    35.20,2,     0.00,2,     2.44,2, -999.000,9, -999.000,9, -999.000,1,-999.0000,1,  -999.00,9,   -999.0,1,-999.000,9,   -999.0,9,   -999.0,9,  -999.00,9,37971.8,-999.0000,-999.000,-999.000,  1.4265,-999.000
   318MWESTW_4,  P21E,    24,  1,      3, SI9303,2,19940403,1302,-16.6250, -75.9250, 4252,   3996.8,   1.7443,  34.6910,2,  34.6895,2,    160.3,2,    159.3,2,   125.08,2,    35.21,2,     0.00,2,     2.44,2, -999.000,9, -999.000,9, -999.000,1,-999.0000,1,  -999.00,9,   -999.0,1,-999.000,9,   -999.0,9,   -999.0,9,  -999.00,9,39979.7,-999.0000,-999.000,-999.000,  1.4188,-999.000
   318MWESTW_4,  P21E,    24,  1,      2, SI9302,2,19940403,1302,-16.6250, -75.9250, 4252,   4230.7,   1.7652,  34.6915,2,  34.6897,2,    158.6,2,    159.3,2,   125.61,2,    35.39,2,    -0.01,2,     2.44,2, -999.000,9, -999.000,9, -999.000,1,-999.0000,1,  -999.00,9,   -999.0,1,-999.000,9,   -999.0,9,   -999.0,9,  -999.00,9,42316.9,-999.0000,-999.000,-999.000,  1.4130,-999.000
   318MWESTW_4,  P21E,    24,  1,      1, SI9301,2,19940403,1302,-16.6250, -75.9250, 4252,   4278.6,   1.7709,  34.6913,2,  34.6906,2,    156.2,2,    158.7,2,   125.80,2,    35.26,2,     0.00,2,     2.45,2, -999.000,9, -999.000,9, -999.000,1,-999.0000,1,  -999.00,9,   -999.0,1,-999.000,9,   -999.0,9,   -999.0,9,  -999.00,9,42796.4,-999.0000,-999.000,-999.000,  1.4131,-999.000