BOTTLE,20010911WHPSIOdm
EXPOCODE,SECT_ID,STNNBR,CASTNO,SAMPNO,BTLNBR,BTLNBR_FLAG_W,DATE,TIME,LATITUDE,LONGITUDE,DEPTH,CTDPRS,CTDTMP,CTDSAL,CTDSAL_FLAG_W,SALNTY,SALNTY_FLAG_W,CTDOXY,CTDOXY_FLAG_W,OXYGEN,OXYGEN_FLAG_W,SILCAT,SILCAT_FLAG_W,NITRAT,NITRAT_FLAG_W,NITRIT,NITRIT_FLAG_W,PHSPHT,PHSPHT_FLAG_W,CFC-11,CFC-11_FLAG_W,CFC-12,CFC-12_FLAG_W,TRITUM,TRITUM_FLAG_W,HELIUM,HELIUM_FLAG_W,DELHE3,DELHE3_FLAG_W,DELC14,DELC14_FLAG_W,NEON,NEON_FLAG_W,TCARBN,TCARBN_FLAG_W,ALKALI,ALKALI_FLAG_W,PH,PH_FLAG_W,CTDRAW,HELIER,DELHER,NEONER,THETA,TRITER
,,,,,,,,,,,,DBAR,ITS-90,PSS-78,,PSS-78,,UMOL/KG,,UMOL/KG,,UMOL/KG,,UMOL/KG,,UMOL/KG,,UMOL/KG,,PMOL/KG,,PMOL/KG,,TU,,UMOL/KG,,PERCNT,,/MILLE,,NMOL/KG,,UMOL/KG,,UMOL/KG,,,,,NMOL/KG,PERCNT,NMOL/KG,ITS-90,TU
   318MWESTW_4,  P21E,   160,  1,     24, SI9404,2,19940512,2323,-17.5000,-148.4972, 3870,      9.5,  29.0053,  35.8785,2,  35.8799,2,    207.1,2,    205.2,2,     0.53,2,     0.00,2,     0.00,2,     0.21,2,    1.602,2,    0.909,2, -999.000,1,-999.0000,1,  -999.00,9,   -999.0,1,-999.000,9,   1976.7,2,   2350.0,2,     8.22,2,  144.5,-999.0000,-999.000,-999.000, 29.0030,-999.000
   318MWESTW_4,  P21E,   160,  1,     23, SI9405,2,19940512,2323,-17.5000,-148.4972, 3870,     25.3,  28.9358,  35.8731,2,  35.8730,2,    201.8,2,    204.6,2,     0.54,2,     0.00,2,     0.01,2,     0.21,2,    1.572,2,    0.889,2, -999.000,1,-999.0000,1,  -999.00,9,   -999.0,1,-999.000,9,   1976.7,2,   2353.0,2,     8.22,2,  302.4,-999.0000,-999.000,-999.000, 28.9297,-999.000
   318MWESTW_4,  P21E,   160,  1,     22, SI9407,2,19940512,2323,-17.5000,-148.4972, 3870,     50.1,  28.9349,  35.8743,2,  35.8793,2,    192.6,2,    203.5,2,     0.55,2,     0.00,2,     0.01,2,     0.21,2,    1.655,2,    1.063,2, -999.000,1,-999.0000,1,  -999.00,9,   -999.0,1,-999.000,9,   1975.7,2,   2349.0,2,     8.21,2,  549.6,-999.0000,-999.000,-999.000, 28.9228,-999.000
   318MWESTW_4,  P21E,   160,  1,     21, SI9422,2,19940512,2323,-17.5000,-148.4972, 3870,     99.8,  27.2207,  36.3012,2,  36.3012,2,    204.8,2,    215.5,2,     0.56,2,     0.05,2,     0.01,2,     0.24,2,    1.750,2,    0.971,2, -999.000,1,-999.0000,1,  -999.00,9,   -999.0,1,-999.000,9,   2012.7,2,   2384.0,2,     8.20,2, 1045.1,-999.0000,-999.000,-999.000, 27.1976,-999.000
   318MWESTW_4,  P21E,   160,  1,     20, SI9410,2,19940512,2323,-17.5000,-148.4972, 3870,    151.4,  24.5099,  36.1982,2,  36.2006,2,    189.1,2,    195.8,2,     0.40,2,     0.06,2,     0.17,2,     0.30,2,    1.845,2,    1.031,2, -999.000,1,-999.0000,1,  -999.00,9,   -999.0,1,-999.000,9,   2040.8,2,   2372.0,2,     8.15,2, 1559.4,-999.0000,-999.000,-999.000, 24.4774,-999.000
   318MWESTW_4,  P21E,   160,  1,     19, SI9411,2,19940512,2323,-17.5000,-148.4972, 3870,    202.2,  22.5705,  36.1340,2,  36.1197,2,    178.2,2,    182.7,2,     0.57,2,     2.39,2,     0.03,2,     0.47,2,    1.908,2,    1.048,2, -999.000,1,-999.0000,1,  -999.00,9,   -999.0,1,-999.000,9,   2076.8,2,   2372.0,2,     8.08,2, 2065.5,-999.0000,-999.000,-999.000, 22.5295,-999.000
   318MWESTW_4,  P21E,   160,  1,     18, SI9413,2,19940512,2323,-17.5000,-148.4972, 3870,    251.6,  20.2927,  35.8252,2,  35.8283,2,    176.1,2,    175.7,2,     0.89,2,     3.88,2,     0.00,2,     0.56,2,    1.903,2,    1.015,2, -999.000,1,-999.0000,1,  -999.00,9,   -999.0,1,-999.000,9,   2082.8,2,   2349.0,2,     8.04,2, 2557.8,-999.0000,-999.000,-999.000, 20.2454,-999.000
   318MWESTW_4,  P21E,   160,  1,     17, SI9415,2,19940512,2323,-17.5000,-148.4972, 3870,    298.8,  17.7440,  35.4640,2,  35.4614,2,    171.8,2,    169.5,2,     2.01,2,     6.64,2,    -0.01,2,     0.74,2,    1.720,2,    0.909,2, -999.000,1,-999.0000,1,  -999.00,9,   -999.0,1,-999.000,9,   2094.8,2,   2328.0,2,     7.99,2, 3027.8,-999.0000,-999.000,-999.000, 17.6929,-999.000
   318MWESTW_4,  P21E,   160,  1,     16, SI9416,2,19940512,2323,-17.5000,-148.4972, 3870,    398.9,  12.1842,  34.8046,2,  34.7994,2,    152.1,2,    155.9,2,     7.11,2,    16.20,2,     0.00,2,     1.34,2,    1.012,2,    0.513,2, -999.000,1,-999.0000,1,  -999.00,9,   -999.0,1,-999.000,9,   2135.8,2,   2297.0,2,     7.83,2, 4023.0,-999.0000,-999.000,-999.000, 12.1313,-999.000
   318MWESTW_4,  P21E,   160,  1,     15, SI9417,2,19940512,2323,-17.5000,-148.4972, 3870,    497.8,   7.9192,  34.4777,2,  34.4758,2,    141.2,2,    143.0,2,    17.96,2,    27.63,2,    -0.01,2,     2.03,2,    0.301,2,    0.148,2, -999.000,1,-999.0000,1,  -999.00,9,   -999.0,1,-999.000,9,   2189.9,2,   2284.0,2,     7.67,2, 5006.8,-999.0000,-999.000,-999.000,  7.8685,-999.000
   318MWESTW_4,  P21E,   160,  1,     14, SI9419,2,19940512,2323,-17.5000,-148.4972, 3870,    598.6,   6.4317,  34.4319,2,  34.4318,2,    148.2,2,    148.3,2,    26.56,2,    30.92,2,     0.00,2,     2.20,2,    0.112,2,    0.054,2, -999.000,1,-999.0000,1,  -999.00,9,   -999.0,1,-999.000,9,   2203.9,2,   2289.0,2,     7.65,2, 6009.8,-999.0000,-999.000,-999.000,  6.3771,-999.000
   318MWESTW_4,  P21E,   160,  1,     13, SI9420,2,19940512,2323,-17.5000,-148.4972, 3870,    698.7,   5.6017,  34.4504,2,  34.4500,2,    145.7,2,    143.9,2,    39.13,2,    32.92,2,     0.01,2,     2.33,2,    0.036,2,    0.013,2, -999.000,1,-999.0000,1,  -999.00,9,   -999.0,1,-999.000,9,   2220.9,2,   2305.0,2,     7.64,2, 7004.8,-999.0000,-999.000,-999.000,  5.5419,-999.000
   318MWESTW_4,  P21E,   160,  1,     12, SI9421,2,19940512,2323,-17.5000,-148.4972, 3870,    901.2,   4.5431,  34.4842,2,  34.4842,2,    139.7,2,    140.0,2,    58.23,2,    34.66,2,     0.01,2,     2.45,2,    0.005,2,    0.001,2, -999.000,1,-999.0000,1,  -999.00,9,   -999.0,1,-999.000,9,   2246.9,2,   2322.0,2,     7.63,2, 9018.6,-999.0000,-999.000,-999.000,  4.4718,-999.000
   318MWESTW_4,  P21E,   160,  1,     11, SI9423,2,19940512,2323,-17.5000,-148.4972, 3870,   1103.5,   3.8373,  34.5140,2,  34.5133,2,    143.1,2,    142.5,2,    71.76,2,    35.05,2,     0.00,2,     2.48,2,    0.001,2,   -0.003,2, -999.000,1,-999.0000,1,  -999.00,9,   -999.0,1,-999.000,9,   2260.9,2,   2340.0,2,     7.62,2,11029.4,-999.0000,-999.000,-999.000,  3.7543,-999.000
   318MWESTW_4,  P21E,   160,  1,     10, SI9425,2,19940512,2323,-17.5000,-148.4972, 3870,   1400.9,   2.9936,  34.5616,2,  34.5612,2,    144.9,2,    145.7,2,    90.37,2,    35.51,2,     0.00,2,     2.50,2,   -0.001,2,   -0.004,2, -999.000,1,-999.0000,1,  -999.00,9,   -999.0,1,-999.000,9,   2280.0,2,   2357.0,2,     7.62,2,13986.6,-999.0000,-999.000,-999.000,  2.8941,-999.000
   318MWESTW_4,  P21E,   160,  1,      9, SI9424,2,19940512,2323,-17.5000,-148.4972, 3870,   1701.9,   2.4805,  34.6041,2,  34.6034,2,    147.8,2,    147.9,2,   104.51,2,    35.68,2,     0.00,2,     2.51,2, -999.000,9, -999.000,9, -999.000,1,-999.0000,1,  -999.00,9,   -999.0,1,-999.000,9,   2293.0,2,   2375.0,2,     7.63,2,16979.0,-999.0000,-999.000,-999.000,  2.3622,-999.000
   318MWESTW_4,  P21E,   160,  1,      8, SI9428,2,19940512,2323,-17.5000,-148.4972, 3870,   2002.4,   2.1834,  34.6295,2,  34.6303,2,    150.2,2,    151.1,2,   112.46,2,    35.54,2,     0.00,2,     2.49,2, -999.000,9, -999.000,9, -999.000,1,-999.0000,1,  -999.00,9,   -999.0,1,-999.000,9,   2300.0,2,   2381.0,2,     7.64,2,19966.6,-999.0000,-999.000,-999.000,  2.0440,-999.000
   318MWESTW_4,  P21E,   160,  1,      7, SI9429,2,19940512,2323,-17.5000,-148.4972, 3870,   2300.2,   1.9957,  34.6460,2,  34.6464,2,    153.8,2,    154.1,2,   117.06,2,    35.36,2,     0.00,2,     2.49,2, -999.000,9, -999.000,9, -999.000,1,-999.0000,1,  -999.00,9,   -999.0,1,-999.000,9,   2303.0,2,   2388.0,2,     7.63,2,22926.8,-999.0000,-999.000,-999.000,  1.8334,-999.000
   318MWESTW_4,  P21E,   160,  1,      6, SI9431,2,19940512,2323,-17.5000,-148.4972, 3870,   2600.9,   1.8243,  34.6605,2,  34.6612,2,    158.1,2,    158.5,2,   120.70,2,    35.04,2,     0.01,2,     2.46,2, -999.000,9, -999.000,9, -999.000,1,-999.0000,1,  -999.00,9,   -999.0,1,-999.000,9,   2305.0,2,   2390.0,2,     7.65,2,25917.0,-999.0000,-999.000,-999.000,  1.6381,-999.000
   318MWESTW_4,  P21E,   160,  1,      5, SI9432,2,19940512,2323,-17.5000,-148.4972, 3870,   2898.4,   1.7042,  34.6709,2,  34.6716,2,    162.4,2,    162.3,2,   122.91,2,    34.88,2,    -0.01,2,     2.44,2, -999.000,9, -999.000,9, -999.000,1,-999.0000,1,  -999.00,9,   -999.0,1,-999.000,9,   2303.0,2,   2394.0,2,     7.66,2,28874.4,-999.0000,-999.000,-999.000,  1.4927,-999.000
   318MWESTW_4,  P21E,   160,  1,      4, SI9433,2,19940512,2323,-17.5000,-148.4972, 3870,   3196.5,   1.5978,  34.6794,2,  34.6800,2,    168.0,2,    167.4,2,   123.21,2,    34.58,2,    -0.01,2,     2.42,2, -999.000,9, -999.000,9, -999.000,1,-999.0000,1,  -999.00,9,   -999.0,1,-999.000,9,   2293.0,3,   2390.0,2,     7.67,2,31837.6,-999.0000,-999.000,-999.000,  1.3597,-999.000
   318MWESTW_4,  P21E,   160,  1,      3, SI9435,2,19940512,2323,-17.5000,-148.4972, 3870,   3494.4,   1.5388,  34.6851,2,  34.6865,2,    172.1,2,    172.1,2,   122.72,2,    34.18,2,    -0.01,2,     2.40,2, -999.000,9, -999.000,9, -999.000,1,-999.0000,1,  -999.00,9,   -999.0,1,-999.000,9,   2295.0,2,   2389.0,2,     7.66,2,34799.6,-999.0000,-999.000,-999.000,  1.2722,-999.000
   318MWESTW_4,  P21E,   160,  1,      2, SI9401,2,19940512,2323,-17.5000,-148.4972, 3870,   3837.6,   1.4866,  34.6897,2,  34.6889,2,    177.9,2,    176.9,2,   122.24,2,    33.91,2,     0.00,2,     2.37,2, -999.000,9, -999.000,9, -999.000,1,-999.0000,1,  -999.00,9,   -999.0,1,-999.000,9,   2293.0,2,   2384.0,2,     7.67,2,38210.9,-999.0000,-999.000,-999.000,  1.1855,-999.000
   318MWESTW_4,  P21E,   160,  1,      1, SI9403,2,19940512,2323,-17.5000,-148.4972, 3870,   3931.4,   1.4854,  34.6911,2,  34.6903,2,    177.8,2,    178.4,2,   122.06,2,    33.74,2,     0.00,2,     2.35,2, -999.000,9, -999.000,9, -999.000,1,-999.0000,1,  -999.00,9,   -999.0,1,-999.000,9,   -999.0,9,   -999.0,9,  -999.00,9,39143.6,-999.0000,-999.000,-999.000,  1.1743,-999.000