BOTTLE,20010911WHPSIOdm
EXPOCODE,SECT_ID,STNNBR,CASTNO,SAMPNO,BTLNBR,BTLNBR_FLAG_W,DATE,TIME,LATITUDE,LONGITUDE,DEPTH,CTDPRS,CTDTMP,CTDSAL,CTDSAL_FLAG_W,SALNTY,SALNTY_FLAG_W,CTDOXY,CTDOXY_FLAG_W,OXYGEN,OXYGEN_FLAG_W,SILCAT,SILCAT_FLAG_W,NITRAT,NITRAT_FLAG_W,NITRIT,NITRIT_FLAG_W,PHSPHT,PHSPHT_FLAG_W,CFC-11,CFC-11_FLAG_W,CFC-12,CFC-12_FLAG_W,TRITUM,TRITUM_FLAG_W,HELIUM,HELIUM_FLAG_W,DELHE3,DELHE3_FLAG_W,DELC14,DELC14_FLAG_W,NEON,NEON_FLAG_W,TCARBN,TCARBN_FLAG_W,ALKALI,ALKALI_FLAG_W,PH,PH_FLAG_W,CTDRAW,HELIER,DELHER,NEONER,THETA,TRITER
,,,,,,,,,,,,DBAR,ITS-90,PSS-78,,PSS-78,,UMOL/KG,,UMOL/KG,,UMOL/KG,,UMOL/KG,,UMOL/KG,,UMOL/KG,,PMOL/KG,,PMOL/KG,,TU,,UMOL/KG,,PERCNT,,/MILLE,,NMOL/KG,,UMOL/KG,,UMOL/KG,,,,,NMOL/KG,PERCNT,NMOL/KG,ITS-90,TU
   318MWESTW_5,  P21W,   177,  1,     36, SI9442,2,19940525,0349,-17.5000,-157.6667, 4697,      6.6,  28.8401,  35.5549,2,  35.5529,2,    207.0,2,    218.3,2,     0.81,2,     0.03,2,     0.02,2,     0.18,2,    1.583,6,    0.913,6, -999.000,1,-999.0000,1,  -999.00,9,   -999.0,1,-999.000,9,   -999.0,9,   -999.0,9,  -999.00,9,  124.9,-999.0000,-999.000,-999.000, 28.8385,-999.000
   318MWESTW_5,  P21W,   177,  1,     35, SI9435,2,19940525,0349,-17.5000,-157.6667, 4697,     22.9,  28.8448,  35.5610,2,  35.5673,2,    206.6,2,    217.3,2,     0.82,2,     0.01,2,  -999.00,2,     0.17,2,    1.597,2,    0.908,2, -999.000,1,-999.0000,1,  -999.00,9,   -999.0,1,-999.000,9,   -999.0,9,   -999.0,9,  -999.00,9,  287.8,-999.0000,-999.000,-999.000, 28.8393,-999.000
   318MWESTW_5,  P21W,   177,  1,     34, SI9441,2,19940525,0349,-17.5000,-157.6667, 4697,     48.1,  28.9310,  35.6595,2,  35.6603,2,    201.5,2,    220.0,2,     0.83,2,     0.06,2,  -999.00,2,     0.18,2,    1.615,2,    0.927,2, -999.000,1,-999.0000,1,  -999.00,9,   -999.0,1,-999.000,9,   -999.0,9,   -999.0,9,  -999.00,9,  538.8,-999.0000,-999.000,-999.000, 28.9194,-999.000
   318MWESTW_5,  P21W,   177,  1,     33, SI9433,2,19940525,0349,-17.5000,-157.6667, 4697,     99.9,  26.4588,  36.0513,2,  36.0540,2,    213.0,2,    219.4,2,     0.84,2,     0.05,2,     0.01,2,     0.19,2,    1.810,2,    0.990,2, -999.000,1,-999.0000,1,  -999.00,9,   -999.0,1,-999.000,9,   -999.0,9,   -999.0,9,  -999.00,9, 1054.3,-999.0000,-999.000,-999.000, 26.4361,-999.000
   318MWESTW_5,  P21W,   177,  1,     32, SI9432,2,19940525,0349,-17.5000,-157.6667, 4697,    149.8,  24.4834,  36.1188,2,  36.1161,2,    185.2,2,    200.1,2,     0.70,2,     0.14,2,     0.11,2,     0.27,2,    1.885,2,    1.020,2, -999.000,1,-999.0000,1,  -999.00,9,   -999.0,1,-999.000,9,   -999.0,9,   -999.0,9,  -999.00,9, 1552.0,-999.0000,-999.000,-999.000, 24.4512,-999.000
   318MWESTW_5,  P21W,   177,  1,     31, SI9431,2,19940525,0349,-17.5000,-157.6667, 4697,    200.3,  21.6877,  35.8456,2,  35.8424,2,    191.9,2,    190.3,2,     0.86,2,     1.87,2,     0.02,2,     0.36,2,    2.003,2,    1.081,2, -999.000,1,-999.0000,1,  -999.00,9,   -999.0,1,-999.000,9,   -999.0,9,   -999.0,9,  -999.00,9, 2054.8,-999.0000,-999.000,-999.000, 21.6483,-999.000
   318MWESTW_5,  P21W,   177,  1,     30, SI9440,2,19940525,0349,-17.5000,-157.6667, 4697,    280.6,  17.9340,  35.4762,2,  35.4827,2,    181.7,2,    173.6,2,     2.06,2,     6.28,2,     0.01,2,     0.65,2,    1.727,2,    0.908,2, -999.000,1,-999.0000,1,  -999.00,9,   -999.0,1,-999.000,9,   -999.0,9,   -999.0,9,  -999.00,9, 2853.2,-999.0000,-999.000,-999.000, 17.8857,-999.000
   318MWESTW_5,  P21W,   177,  1,     29, SI9429,2,19940525,0349,-17.5000,-157.6667, 4697,    351.6,  14.3263,  35.0635,2,  35.0636,2,    176.0,2,    168.8,2,     4.46,2,    11.53,2,     0.00,2,     1.00,2,    1.353,2,    0.700,2, -999.000,1,-999.0000,1,  -999.00,9,   -999.0,1,-999.000,9,   -999.0,9,   -999.0,9,  -999.00,9, 3559.7,-999.0000,-999.000,-999.000, 14.2744,-999.000
   318MWESTW_5,  P21W,   177,  1,     28, SI9428,3,19940525,0349,-17.5000,-157.6667, 4697,    404.2,  11.2563,  34.7394,2,  34.7480,2,    172.9,2,    165.2,2,     7.90,2,    17.66,2,     0.01,2,     1.39,2, -999.000,9, -999.000,9, -999.000,1,-999.0000,1,  -999.00,9,   -999.0,1,-999.000,9,   -999.0,9,   -999.0,9,  -999.00,9, 4083.0,-999.0000,-999.000,-999.000, 11.2054,-999.000
   318MWESTW_5,  P21W,   177,  1,     27, SI9424,2,19940525,0349,-17.5000,-157.6667, 4697,    494.2,   8.1663,  34.4947,2,  34.4926,2,    172.3,2,    167.4,2,    14.32,2,    24.97,2,     0.00,2,     1.82,2,    0.447,2,    0.235,2, -999.000,1,-999.0000,1,  -999.00,9,   -999.0,1,-999.000,9,   -999.0,9,   -999.0,9,  -999.00,9, 4978.7,-999.0000,-999.000,-999.000,  8.1151,-999.000
   318MWESTW_5,  P21W,   177,  1,     26, SI9414,2,19940525,0349,-17.5000,-157.6667, 4697,    596.2,   6.3415,  34.3941,2,  34.3947,2,    180.3,2,    180.1,3,    20.89,2,    28.61,2,     0.01,2,     2.01,2,    0.213,2,    0.122,2, -999.000,1,-999.0000,1,  -999.00,9,   -999.0,1,-999.000,9,   -999.0,9,   -999.0,9,  -999.00,9, 5992.7,-999.0000,-999.000,-999.000,  6.2876,-999.000
   318MWESTW_5,  P21W,   177,  1,     25, SI9425,2,19940525,0349,-17.5000,-157.6667, 4697,    698.3,   5.4494,  34.4078,2,  34.4080,2,    170.4,2,    165.5,2,    33.58,2,    31.64,2,     0.00,2,     2.21,2,    0.050,2,    0.022,2, -999.000,1,-999.0000,1,  -999.00,9,   -999.0,1,-999.000,9,   -999.0,9,   -999.0,9,  -999.00,9, 7007.8,-999.0000,-999.000,-999.000,  5.3905,-999.000
   318MWESTW_5,  P21W,   177,  1,     24, SI9434,2,19940525,0349,-17.5000,-157.6667, 4697,    798.5,   4.8754,  34.4362,2,  34.4365,2,    159.3,2,    157.1,2,    45.37,2,    33.28,2,     0.00,2,     2.33,2,    0.014,2,    0.008,2, -999.000,1,-999.0000,1,  -999.00,9,   -999.0,1,-999.000,9,   -999.0,9,   -999.0,9,  -999.00,9, 8004.4,-999.0000,-999.000,-999.000,  4.8109,-999.000
   318MWESTW_5,  P21W,   177,  1,     23, SI9423,2,19940525,0349,-17.5000,-157.6667, 4697,    894.0,   4.4616,  34.4574,2,  34.4571,2,    155.3,2,    153.8,2,    54.18,2,    34.13,2,     0.00,2,     2.39,2,    0.009,2,    0.004,2, -999.000,1,-999.0000,1,  -999.00,9,   -999.0,1,-999.000,9,   -999.0,9,   -999.0,9,  -999.00,9, 8953.9,-999.0000,-999.000,-999.000,  4.3916,-999.000
   318MWESTW_5,  P21W,   177,  1,     22, SI9418,2,19940525,0349,-17.5000,-157.6667, 4697,    995.1,   3.8893,  34.4907,2,  34.4899,2,    153.0,2,    151.0,2,    66.86,2,    34.88,2,     0.01,2,     2.45,2, -999.000,9, -999.000,9, -999.000,1,-999.0000,1,  -999.00,9,   -999.0,1,-999.000,9,   -999.0,9,   -999.0,9,  -999.00,9, 9958.6,-999.0000,-999.000,-999.000,  3.8149,-999.000
   318MWESTW_5,  P21W,   177,  1,     21, SI9421,2,19940525,0349,-17.5000,-157.6667, 4697,   1099.2,   3.5426,  34.5152,2,  34.5144,2,    150.1,2,    148.1,2,    75.82,2,    35.42,2,     0.01,2,     2.48,2,   -0.001,2,    0.000,2, -999.000,1,-999.0000,1,  -999.00,9,   -999.0,1,-999.000,9,   -999.0,9,   -999.0,9,  -999.00,9,10994.2,-999.0000,-999.000,-999.000,  3.4625,-999.000
   318MWESTW_5,  P21W,   177,  1,     20, SI9420,2,19940525,0349,-17.5000,-157.6667, 4697,   1198.5,   3.2955,  34.5332,2,  34.5349,2,    149.6,2,    148.1,2,    82.09,2,    35.58,2,     0.02,2,     2.49,2,    0.002,2,   -0.001,2, -999.000,1,-999.0000,1,  -999.00,9,   -999.0,1,-999.000,9,   -999.0,9,   -999.0,9,  -999.00,9,11980.9,-999.0000,-999.000,-999.000,  3.2095,-999.000
   318MWESTW_5,  P21W,   177,  1,     19, SI9419,2,19940525,0349,-17.5000,-157.6667, 4697,   1301.2,   3.0896,  34.5493,2,  34.5500,2,    149.0,2,    146.1,2,    87.91,2,    35.68,2,     0.01,2,     2.51,2, -999.000,9, -999.000,9, -999.000,1,-999.0000,1,  -999.00,9,   -999.0,1,-999.000,9,   -999.0,9,   -999.0,9,  -999.00,9,13002.6,-999.0000,-999.000,-999.000,  2.9972,-999.000
   318MWESTW_5,  P21W,   177,  1,     18, SI9439,2,19940525,0349,-17.5000,-157.6667, 4697,   1507.1,   2.7720,  34.5783,2,  34.5785,2,    148.2,2,    145.8,2,    97.47,2,    35.78,2,     0.01,2,     2.51,2,    0.001,2,   -0.001,2, -999.000,1,-999.0000,1,  -999.00,9,   -999.0,1,-999.000,9,   -999.0,9,   -999.0,9,  -999.00,9,15049.0,-999.0000,-999.000,-999.000,  2.6662,-999.000
   318MWESTW_5,  P21W,   177,  1,     17, SI9417,2,19940525,0349,-17.5000,-157.6667, 4697,   1700.9,   2.5042,  34.6034,2,  34.6034,2,    149.1,2,    146.3,2,   105.97,2,    35.86,2,     0.01,2,     2.52,2, -999.000,9, -999.000,9, -999.000,1,-999.0000,1,  -999.00,9,   -999.0,1,-999.000,9,   -999.0,9,   -999.0,9,  -999.00,9,16975.7,-999.0000,-999.000,-999.000,  2.3857,-999.000
   318MWESTW_5,  P21W,   177,  1,     16, SI9416,2,19940525,0349,-17.5000,-157.6667, 4697,   1901.3,   2.3262,  34.6195,2,  35.5551,4,    149.2,2,    218.3,4,     0.80,4,     0.05,4,     0.00,4,     0.19,4, -999.000,9, -999.000,9, -999.000,1,-999.0000,1,  -999.00,9,   -999.0,1,-999.000,9,   -999.0,9,   -999.0,9,  -999.00,9,18968.3,-999.0000,-999.000,-999.000,  2.1933,-999.000
   318MWESTW_5,  P21W,   177,  1,     15, SI9415,2,19940525,0349,-17.5000,-157.6667, 4697,   2105.2,   2.1384,  34.6356,2,  34.6362,2,    151.3,2,    150.9,2,   116.41,2,    35.82,2,     0.01,2,     2.50,2, -999.000,9, -999.000,9, -999.000,1,-999.0000,1,  -999.00,9,   -999.0,1,-999.000,9,   -999.0,9,   -999.0,9,  -999.00,9,20995.6,-999.0000,-999.000,-999.000,  1.9908,-999.000
   318MWESTW_5,  P21W,   177,  1,     14, SI9436,2,19940525,0349,-17.5000,-157.6667, 4697,   2300.0,   2.0017,  34.6473,2,  34.6476,2,    154.1,2,    152.8,2,   120.15,2,    35.75,2,     0.00,2,     2.50,2,    0.000,2,   -0.001,2, -999.000,1,-999.0000,1,  -999.00,9,   -999.0,1,-999.000,9,   -999.0,9,   -999.0,9,  -999.00,9,22932.8,-999.0000,-999.000,-999.000,  1.8394,-999.000
   318MWESTW_5,  P21W,   177,  1,     13, SI9413,2,19940525,0349,-17.5000,-157.6667, 4697,   2498.6,   1.8944,  34.6561,2,  34.6563,2,    155.6,2,    154.4,2,   122.99,2,    35.66,2,     0.01,2,     2.48,2, -999.000,9, -999.000,9, -999.000,1,-999.0000,1,  -999.00,9,   -999.0,1,-999.000,9,   -999.0,9,   -999.0,9,  -999.00,9,24906.9,-999.0000,-999.000,-999.000,  1.7162,-999.000
   318MWESTW_5,  P21W,   177,  1,     12, SI9438,3,19940525,0349,-17.5000,-157.6667, 4697,   2693.9,   1.7958,  34.6639,2,  34.6645,2,    158.0,2,    157.8,2,   124.94,2,    35.52,2,     0.01,2,     2.48,2, -999.000,9, -999.000,9, -999.000,1,-999.0000,1,  -999.00,9,   -999.0,1,-999.000,9,   -999.0,9,   -999.0,9,  -999.00,9,26848.2,-999.0000,-999.000,-999.000,  1.6016,-999.000
   318MWESTW_5,  P21W,   177,  1,     11, SI9411,2,19940525,0349,-17.5000,-157.6667, 4697,   2902.6,   1.7214,  34.6704,2,  34.6690,2,    160.7,2,    160.0,2,   125.99,2,    35.38,2,     0.02,2,     2.47,2, -999.000,9, -999.000,9, -999.000,1,-999.0000,1,  -999.00,9,   -999.0,1,-999.000,9,   -999.0,9,   -999.0,9,  -999.00,9,28923.0,-999.0000,-999.000,-999.000,  1.5091,-999.000
   318MWESTW_5,  P21W,   177,  1,     10, SI9412,2,19940525,0349,-17.5000,-157.6667, 4697,   3097.8,   1.6401,  34.6763,2,  34.6773,2,    165.1,2,    165.3,2,   126.30,2,    35.00,2,     0.00,2,     2.44,2,   -0.002,2,   -0.003,2, -999.000,1,-999.0000,1,  -999.00,9,   -999.0,1,-999.000,9,   -999.0,9,   -999.0,9,  -999.00,9,30863.8,-999.0000,-999.000,-999.000,  1.4108,-999.000
   318MWESTW_5,  P21W,   177,  1,      9, SI9410,2,19940525,0349,-17.5000,-157.6667, 4697,   3293.4,   1.5880,  34.6810,2,  34.6812,2,    169.4,2,    168.5,2,   126.01,2,    34.74,2,     0.00,2,     2.41,2, -999.000,9, -999.000,9, -999.000,1,-999.0000,1,  -999.00,9,   -999.0,1,-999.000,9,   -999.0,9,   -999.0,9,  -999.00,9,32808.2,-999.0000,-999.000,-999.000,  1.3406,-999.000
   318MWESTW_5,  P21W,   177,  1,      8, SI9422,2,19940525,0349,-17.5000,-157.6667, 4697,   3491.1,   1.5302,  34.6856,2,  34.6855,2,    173.5,2,    172.6,2,   125.42,2,    34.52,2,     0.00,2,     2.40,2, -999.000,9, -999.000,9, -999.000,1,-999.0000,1,  -999.00,9,   -999.0,1,-999.000,9,   -999.0,9,   -999.0,9,  -999.00,9,34774.3,-999.0000,-999.000,-999.000,  1.2642,-999.000
   318MWESTW_5,  P21W,   177,  1,      7, SI9407,2,19940525,0349,-17.5000,-157.6667, 4697,   3689.3,   1.4973,  34.6888,2,  34.6885,2,    177.1,2,    175.7,2,   124.24,2,    34.20,2,     0.01,2,     2.38,2, -999.000,9, -999.000,9, -999.000,1,-999.0000,1,  -999.00,9,   -999.0,1,-999.000,9,   -999.0,9,   -999.0,9,  -999.00,9,36744.5,-999.0000,-999.000,-999.000,  1.2116,-999.000
   318MWESTW_5,  P21W,   177,  1,      6, SI9427,2,19940525,0349,-17.5000,-157.6667, 4697,   3897.1,   1.4543,  34.6918,2,  34.6916,2,    181.1,2,    180.4,2,   123.81,2,    33.99,2,     0.00,2,     2.35,2,    0.000,2,    0.000,2, -999.000,1,-999.0000,1,  -999.00,9,   -999.0,1,-999.000,9,   -999.0,9,   -999.0,9,  -999.00,9,38809.9,-999.0000,-999.000,-999.000,  1.1477,-999.000
   318MWESTW_5,  P21W,   177,  1,      5, SI9405,2,19940525,0349,-17.5000,-157.6667, 4697,   4082.5,   1.4201,  34.6946,2,  34.6954,2,    185.1,2,    181.8,2,   122.63,2,    33.69,2,     0.00,2,     2.34,2, -999.000,9, -999.000,9, -999.000,1,-999.0000,1,  -999.00,9,   -999.0,1,-999.000,9,   -999.0,9,   -999.0,9,  -999.00,9,40653.7,-999.0000,-999.000,-999.000,  1.0944,-999.000
   318MWESTW_5,  P21W,   177,  1,      4, SI9404,2,19940525,0349,-17.5000,-157.6667, 4697,   4292.7,   1.3999,  34.6966,2,  34.6965,2,    187.8,2,    187.0,2,   122.33,2,    33.54,2,     0.01,2,     2.33,2, -999.000,9, -999.000,9, -999.000,1,-999.0000,1,  -999.00,9,   -999.0,1,-999.000,9,   -999.0,9,   -999.0,9,  -999.00,9,42742.7,-999.0000,-999.000,-999.000,  1.0515,-999.000
   318MWESTW_5,  P21W,   177,  1,      3, SI9403,2,19940525,0349,-17.5000,-157.6667, 4697,   4490.9,   1.3737,  34.6988,2,  34.6991,2,    191.0,2,    189.4,2,   121.75,2,    33.33,2,     0.01,2,     2.31,2, -999.000,9, -999.000,9, -999.000,1,-999.0000,1,  -999.00,9,   -999.0,1,-999.000,9,   -999.0,9,   -999.0,9,  -999.00,9,44713.4,-999.0000,-999.000,-999.000,  1.0036,-999.000
   318MWESTW_5,  P21W,   177,  1,      2, SI9437,2,19940525,0349,-17.5000,-157.6667, 4697,   4718.9,   1.3866,  34.7003,2,  34.6999,2,    192.3,2,    190.6,2,   121.61,2,    33.28,2,     0.02,2,     2.31,2, -999.000,9, -999.000,9, -999.000,1,-999.0000,1,  -999.00,9,   -999.0,1,-999.000,9,   -999.0,9,   -999.0,9,  -999.00,9,46979.7,-999.0000,-999.000,-999.000,  0.9896,-999.000
   318MWESTW_5,  P21W,   177,  1,      1, SI9401,2,19940525,0349,-17.5000,-157.6667, 4697,   4759.8,   1.3667,  34.7016,2,  34.7019,2,    193.5,2,    191.3,2,   121.33,2,    33.07,2,     0.01,2,     2.29,2,    0.007,2,    0.000,2, -999.000,1,-999.0000,1,  -999.00,9,   -999.0,1,-999.000,9,   -999.0,9,   -999.0,9,  -999.00,9,47386.7,-999.0000,-999.000,-999.000,  0.9656,-999.000