BOTTLE,20010911WHPSIOdm
EXPOCODE,SECT_ID,STNNBR,CASTNO,SAMPNO,BTLNBR,BTLNBR_FLAG_W,DATE,TIME,LATITUDE,LONGITUDE,DEPTH,CTDPRS,CTDTMP,CTDSAL,CTDSAL_FLAG_W,SALNTY,SALNTY_FLAG_W,CTDOXY,CTDOXY_FLAG_W,OXYGEN,OXYGEN_FLAG_W,SILCAT,SILCAT_FLAG_W,NITRAT,NITRAT_FLAG_W,NITRIT,NITRIT_FLAG_W,PHSPHT,PHSPHT_FLAG_W,CFC-11,CFC-11_FLAG_W,CFC-12,CFC-12_FLAG_W,TRITUM,TRITUM_FLAG_W,HELIUM,HELIUM_FLAG_W,DELHE3,DELHE3_FLAG_W,DELC14,DELC14_FLAG_W,NEON,NEON_FLAG_W,TCARBN,TCARBN_FLAG_W,ALKALI,ALKALI_FLAG_W,PH,PH_FLAG_W,CTDRAW,HELIER,DELHER,NEONER,THETA,TRITER
,,,,,,,,,,,,DBAR,ITS-90,PSS-78,,PSS-78,,UMOL/KG,,UMOL/KG,,UMOL/KG,,UMOL/KG,,UMOL/KG,,UMOL/KG,,PMOL/KG,,PMOL/KG,,TU,,UMOL/KG,,PERCNT,,/MILLE,,NMOL/KG,,UMOL/KG,,UMOL/KG,,,,,NMOL/KG,PERCNT,NMOL/KG,ITS-90,TU
   318MWESTW_5,  P21W,   162,  1,     35, SI9435,2,19940520,1332,-17.4972,-147.8305, 3893,   3910.9,   1.4470,  34.6933,2,  34.6963,2,    177.9,2,    180.1,3,   122.16,2,    33.58,2,     0.03,2,     2.34,2,    0.003,2,    0.001,2, -999.000,1,-999.0000,1,  -999.00,9,   -999.0,1,-999.000,9,   -999.0,9,   -999.0,9,  -999.00,9,38937.6,-999.0000,-999.000,-999.000,  1.1392,-999.000
   318MWESTW_5,  P21W,   162,  1,     36, SI9442,2,19940520,1332,-17.4972,-147.8305, 3893,   3911.1,   1.4468,  34.6937,2,  34.6944,2,    177.9,2,    180.1,3,   122.29,2,    33.58,2,     0.02,2,     2.33,2,    0.015,2,    0.022,2, -999.000,1,-999.0000,1,  -999.00,9,   -999.0,1,-999.000,9,   -999.0,9,   -999.0,9,  -999.00,9,38938.8,-999.0000,-999.000,-999.000,  1.1389,-999.000
   318MWESTW_5,  P21W,   162,  1,     34, SI9441,3,19940520,1332,-17.4972,-147.8305, 3893,   3911.2,   1.4469,  34.6936,2,  34.6961,2,    177.9,2,    181.0,3,   122.17,2,    33.70,2,     0.02,2,     2.35,2,    0.042,2,    0.023,2, -999.000,1,-999.0000,1,  -999.00,9,   -999.0,1,-999.000,9,   -999.0,9,   -999.0,9,  -999.00,9,38939.6,-999.0000,-999.000,-999.000,  1.1390,-999.000
   318MWESTW_5,  P21W,   162,  1,     33, SI9433,2,19940520,1332,-17.4972,-147.8305, 3893,   3911.3,   1.4465,  34.6934,2,  34.6950,2,    177.9,2,    182.5,3,   122.93,2,    33.55,2,     0.03,2,     2.34,2,    0.009,2,    0.002,2, -999.000,1,-999.0000,1,  -999.00,9,   -999.0,1,-999.000,9,   -999.0,9,   -999.0,9,  -999.00,9,38941.4,-999.0000,-999.000,-999.000,  1.1386,-999.000
   318MWESTW_5,  P21W,   162,  1,     32, SI9432,2,19940520,1332,-17.4972,-147.8305, 3893,   3911.4,   1.4465,  34.6936,2,  34.6950,2,    177.9,2,    182.5,3,   122.49,2,    33.62,2,     0.02,2,     2.35,2,    0.004,2,    0.003,2, -999.000,1,-999.0000,1,  -999.00,9,   -999.0,1,-999.000,9,   -999.0,9,   -999.0,9,  -999.00,9,38941.8,-999.0000,-999.000,-999.000,  1.1386,-999.000
   318MWESTW_5,  P21W,   162,  1,     31, SI9431,2,19940520,1332,-17.4972,-147.8305, 3893,   3911.4,   1.4467,  34.6937,2,  34.6944,2,    177.9,2,    180.1,3,   122.35,2,    33.53,2,     0.02,2,     2.35,2,    0.005,2,    0.002,2, -999.000,1,-999.0000,1,  -999.00,9,   -999.0,1,-999.000,9,   -999.0,9,   -999.0,9,  -999.00,9,38942.6,-999.0000,-999.000,-999.000,  1.1388,-999.000
   318MWESTW_5,  P21W,   162,  1,     30, SI9440,2,19940520,1332,-17.4972,-147.8305, 3893,   3911.5,   1.4464,  34.6932,2,  34.6954,2,    177.9,2,    180.1,3,   122.36,2,    33.63,2,     0.02,2,     2.35,2,    0.001,2,    0.001,2, -999.000,1,-999.0000,1,  -999.00,9,   -999.0,1,-999.000,9,   -999.0,9,   -999.0,9,  -999.00,9,38943.6,-999.0000,-999.000,-999.000,  1.1385,-999.000
   318MWESTW_5,  P21W,   162,  1,     29, SI9429,2,19940520,1332,-17.4972,-147.8305, 3893,   3911.6,   1.4464,  34.6937,2,  34.6952,2,    177.9,2,    181.2,3,   122.37,2,    33.59,2,     0.02,2,     2.34,2,    0.008,2,    0.003,2, -999.000,1,-999.0000,1,  -999.00,9,   -999.0,1,-999.000,9,   -999.0,9,   -999.0,9,  -999.00,9,38944.0,-999.0000,-999.000,-999.000,  1.1385,-999.000
   318MWESTW_5,  P21W,   162,  1,     28, SI9428,2,19940520,1332,-17.4972,-147.8305, 3893,   3911.7,   1.4465,  34.6942,2,  34.6916,2,    177.9,2,    180.4,3,   122.38,2,    33.70,2,     0.02,2,     2.35,2,   -0.001,2,    0.003,2, -999.000,1,-999.0000,1,  -999.00,9,   -999.0,1,-999.000,9,   -999.0,9,   -999.0,9,  -999.00,9,38945.6,-999.0000,-999.000,-999.000,  1.1386,-999.000
   318MWESTW_5,  P21W,   162,  1,     27, SI9424,2,19940520,1332,-17.4972,-147.8305, 3893,   3911.8,   1.4468,  34.6942,2,  34.6948,2,    177.9,2,    180.8,3,   122.55,2,    33.52,2,     0.02,2,     2.35,2,    0.011,2,    0.001,2, -999.000,1,-999.0000,1,  -999.00,9,   -999.0,1,-999.000,9,   -999.0,9,   -999.0,9,  -999.00,9,38946.0,-999.0000,-999.000,-999.000,  1.1389,-999.000
   318MWESTW_5,  P21W,   162,  1,     26, SI9414,2,19940520,1332,-17.4972,-147.8305, 3893,   3911.8,   1.4469,  34.6941,2,  34.6961,2,    177.9,2,    180.8,3,   123.01,2,    33.47,2,     0.02,2,     2.36,2,    0.003,2,    0.002,2, -999.000,1,-999.0000,1,  -999.00,9,   -999.0,1,-999.000,9,   -999.0,9,   -999.0,9,  -999.00,9,38946.5,-999.0000,-999.000,-999.000,  1.1390,-999.000
   318MWESTW_5,  P21W,   162,  1,     25, SI9425,2,19940520,1332,-17.4972,-147.8305, 3893,   3911.9,   1.4465,  34.6940,2,  34.6958,2,    177.9,2,    180.8,3,   122.71,2,    33.43,2,     0.02,2,     2.35,2,    0.007,2,    0.002,2, -999.000,1,-999.0000,1,  -999.00,9,   -999.0,1,-999.000,9,   -999.0,9,   -999.0,9,  -999.00,9,38947.0,-999.0000,-999.000,-999.000,  1.1386,-999.000
   318MWESTW_5,  P21W,   162,  1,     24, SI9434,2,19940520,1332,-17.4972,-147.8305, 3893,   3911.9,   1.4467,  34.6934,2,  34.6948,2,    178.4,2,    180.8,3,   122.42,2,    33.49,2,     0.02,2,     2.35,2,    0.004,2,    0.004,2, -999.000,1,-999.0000,1,  -999.00,9,   -999.0,1,-999.000,9,   -999.0,9,   -999.0,9,  -999.00,9,38947.6,-999.0000,-999.000,-999.000,  1.1388,-999.000
   318MWESTW_5,  P21W,   162,  1,     23, SI9423,2,19940520,1332,-17.4972,-147.8305, 3893,   3912.0,   1.4469,  34.6933,2,  34.6946,2,    178.2,2,    180.8,3,   122.28,2,    33.64,2,     0.02,2,     2.34,2,    0.007,2,   -0.001,2, -999.000,1,-999.0000,1,  -999.00,9,   -999.0,1,-999.000,9,   -999.0,9,   -999.0,9,  -999.00,9,38948.4,-999.0000,-999.000,-999.000,  1.1389,-999.000
   318MWESTW_5,  P21W,   162,  1,     22, SI9418,2,19940520,1332,-17.4972,-147.8305, 3893,   3912.1,   1.4470,  34.6943,2,  34.6956,2,    178.4,2,    179.9,3,   122.60,2,    33.73,2,     0.03,2,     2.36,2,    0.001,2,    0.003,2, -999.000,1,-999.0000,1,  -999.00,9,   -999.0,1,-999.000,9,   -999.0,9,   -999.0,9,  -999.00,9,38949.0,-999.0000,-999.000,-999.000,  1.1390,-999.000
   318MWESTW_5,  P21W,   162,  1,     21, SI9421,2,19940520,1332,-17.4972,-147.8305, 3893,   3912.2,   1.4465,  34.6940,2,  34.6956,2,    178.4,2,    179.9,3,   122.76,2,    33.55,2,     0.02,2,     2.36,2,    0.006,2,    0.002,2, -999.000,1,-999.0000,1,  -999.00,9,   -999.0,1,-999.000,9,   -999.0,9,   -999.0,9,  -999.00,9,38949.8,-999.0000,-999.000,-999.000,  1.1385,-999.000
   318MWESTW_5,  P21W,   162,  1,     20, SI9420,2,19940520,1332,-17.4972,-147.8305, 3893,   3912.3,   1.4470,  34.6939,2,  34.6936,2,    178.4,2,    181.1,3,   122.67,2,    33.53,2,     0.02,2,     2.34,2,    0.003,2,    0.001,2, -999.000,1,-999.0000,1,  -999.00,9,   -999.0,1,-999.000,9,   -999.0,9,   -999.0,9,  -999.00,9,38951.4,-999.0000,-999.000,-999.000,  1.1390,-999.000
   318MWESTW_5,  P21W,   162,  1,     19, SI9419,2,19940520,1332,-17.4972,-147.8305, 3893,   3912.4,   1.4467,  34.6944,2,  34.6936,2,    178.4,2,    181.6,3,   122.49,2,    33.75,2,     0.00,2,     2.32,2,    0.002,2,    0.002,2, -999.000,1,-999.0000,1,  -999.00,9,   -999.0,1,-999.000,9,   -999.0,9,   -999.0,9,  -999.00,9,38952.4,-999.0000,-999.000,-999.000,  1.1387,-999.000
   318MWESTW_5,  P21W,   162,  1,     18, SI9439,2,19940520,1332,-17.4972,-147.8305, 3893,   3912.5,   1.4465,  34.6938,2,  34.6934,2,    178.4,2,    180.8,3,   122.49,2,    33.75,2,     0.00,2,     2.32,2,    0.001,2,    0.004,2, -999.000,1,-999.0000,1,  -999.00,9,   -999.0,1,-999.000,9,   -999.0,9,   -999.0,9,  -999.00,9,38953.0,-999.0000,-999.000,-999.000,  1.1385,-999.000
   318MWESTW_5,  P21W,   162,  1,     17, SI9417,2,19940520,1332,-17.4972,-147.8305, 3893,   3912.5,   1.4464,  34.6939,2,  34.6971,2,    178.4,2,    180.8,3,   122.49,2,    33.75,2,     0.00,2,     2.32,2,    0.000,2,    0.003,2, -999.000,1,-999.0000,1,  -999.00,9,   -999.0,1,-999.000,9,   -999.0,9,   -999.0,9,  -999.00,9,38953.4,-999.0000,-999.000,-999.000,  1.1384,-999.000
   318MWESTW_5,  P21W,   162,  1,     16, SI9416,2,19940520,1332,-17.4972,-147.8305, 3893,   3912.7,   1.4470,  34.6937,2,  34.6926,2,    178.4,2,    181.1,3,   122.49,2,    33.75,2,     0.00,2,     2.32,2,    0.001,2,    0.002,2, -999.000,1,-999.0000,1,  -999.00,9,   -999.0,1,-999.000,9,   -999.0,9,   -999.0,9,  -999.00,9,38955.4,-999.0000,-999.000,-999.000,  1.1390,-999.000
   318MWESTW_5,  P21W,   162,  1,     15, SI9415,2,19940520,1332,-17.4972,-147.8305, 3893,   3912.8,   1.4470,  34.6940,2,  34.6952,2,    178.4,2,    181.1,3,   122.49,2,    33.75,2,     0.00,2,     2.32,2,    0.019,2,    0.007,2, -999.000,1,-999.0000,1,  -999.00,9,   -999.0,1,-999.000,9,   -999.0,9,   -999.0,9,  -999.00,9,38955.8,-999.0000,-999.000,-999.000,  1.1389,-999.000
   318MWESTW_5,  P21W,   162,  1,     14, SI9436,2,19940520,1332,-17.4972,-147.8305, 3893,   3912.8,   1.4467,  34.6943,2,  34.6946,2,    178.4,2,    181.1,3,   122.49,2,    33.75,2,     0.00,2,     2.32,2,    0.002,2,    0.003,2, -999.000,1,-999.0000,1,  -999.00,9,   -999.0,1,-999.000,9,   -999.0,9,   -999.0,9,  -999.00,9,38956.2,-999.0000,-999.000,-999.000,  1.1387,-999.000
   318MWESTW_5,  P21W,   162,  1,     13, SI9413,2,19940520,1332,-17.4972,-147.8305, 3893,   3912.9,   1.4465,  34.6937,2,  34.6940,2,    178.4,2,    181.6,3,   122.49,2,    33.75,2,     0.00,2,     2.32,2,    0.002,2,    0.001,2, -999.000,1,-999.0000,1,  -999.00,9,   -999.0,1,-999.000,9,   -999.0,9,   -999.0,9,  -999.00,9,38956.8,-999.0000,-999.000,-999.000,  1.1385,-999.000
   318MWESTW_5,  P21W,   162,  1,     12, SI9438,3,19940520,1332,-17.4972,-147.8305, 3893,   3912.9,   1.4469,  34.6937,2,  34.6954,2,    178.4,2,    180.1,3,   122.49,2,    33.75,2,     0.00,2,     2.32,2,    0.027,2,    0.020,2, -999.000,1,-999.0000,1,  -999.00,9,   -999.0,1,-999.000,9,   -999.0,9,   -999.0,9,  -999.00,9,38957.0,-999.0000,-999.000,-999.000,  1.1388,-999.000
   318MWESTW_5,  P21W,   162,  1,     11, SI9411,2,19940520,1332,-17.4972,-147.8305, 3893,   3913.1,   1.4470,  34.6941,2,  34.6940,2,    178.2,2,    181.0,3,   122.49,2,    33.75,2,     0.00,2,     2.32,2,    0.004,2,    0.006,2, -999.000,1,-999.0000,1,  -999.00,9,   -999.0,1,-999.000,9,   -999.0,9,   -999.0,9,  -999.00,9,38958.6,-999.0000,-999.000,-999.000,  1.1389,-999.000
   318MWESTW_5,  P21W,   162,  1,     10, SI9412,2,19940520,1332,-17.4972,-147.8305, 3893,   3913.4,   1.4470,  34.6940,2,  34.6950,2,    178.2,2,    179.4,3,   122.49,2,    33.75,2,     0.00,2,     2.32,2,    0.003,2,    0.001,2, -999.000,1,-999.0000,1,  -999.00,9,   -999.0,1,-999.000,9,   -999.0,9,   -999.0,9,  -999.00,9,38961.8,-999.0000,-999.000,-999.000,  1.1389,-999.000
   318MWESTW_5,  P21W,   162,  1,      9, SI9410,2,19940520,1332,-17.4972,-147.8305, 3893,   3913.6,   1.4465,  34.6939,2,  34.6944,2,    178.5,2,    180.1,3,   122.59,2,    33.51,2,     0.02,2,     2.37,2,    0.000,2,    0.002,2, -999.000,1,-999.0000,1,  -999.00,9,   -999.0,1,-999.000,9,   -999.0,9,   -999.0,9,  -999.00,9,38963.6,-999.0000,-999.000,-999.000,  1.1384,-999.000
   318MWESTW_5,  P21W,   162,  1,      8, SI9422,2,19940520,1332,-17.4972,-147.8305, 3893,   3913.7,   1.4470,  34.6938,2,  34.6938,2,    178.2,2,    182.8,3,   122.60,2,    33.43,2,     0.01,2,     2.36,2,    0.007,2,    0.006,2, -999.000,1,-999.0000,1,  -999.00,9,   -999.0,1,-999.000,9,   -999.0,9,   -999.0,9,  -999.00,9,38964.8,-999.0000,-999.000,-999.000,  1.1389,-999.000
   318MWESTW_5,  P21W,   162,  1,      7, SI9407,2,19940520,1332,-17.4972,-147.8305, 3893,   3913.7,   1.4466,  34.6934,2,  34.6950,2,    178.2,2,    180.8,3,   122.46,2,    33.39,2,     0.00,2,     2.35,2, -999.000,9, -999.000,9, -999.000,1,-999.0000,1,  -999.00,9,   -999.0,1,-999.000,9,   -999.0,9,   -999.0,9,  -999.00,9,38965.2,-999.0000,-999.000,-999.000,  1.1385,-999.000
   318MWESTW_5,  P21W,   162,  1,      6, SI9427,2,19940520,1332,-17.4972,-147.8305, 3893,   3913.8,   1.4469,  34.6934,2,  34.6940,2,    178.5,2,    180.8,3,   122.62,2,    33.43,2,     0.02,2,     2.38,2,    0.001,2,    0.004,2, -999.000,1,-999.0000,1,  -999.00,9,   -999.0,1,-999.000,9,   -999.0,9,   -999.0,9,  -999.00,9,38965.6,-999.0000,-999.000,-999.000,  1.1387,-999.000
   318MWESTW_5,  P21W,   162,  1,      5, SI9405,2,19940520,1332,-17.4972,-147.8305, 3893,   3913.8,   1.4468,  34.6939,2,  34.6952,2,    178.5,2,    180.8,3,   122.48,2,    33.50,2,     0.01,2,     2.35,2,    0.005,2,    0.001,2, -999.000,1,-999.0000,1,  -999.00,9,   -999.0,1,-999.000,9,   -999.0,9,   -999.0,9,  -999.00,9,38965.8,-999.0000,-999.000,-999.000,  1.1386,-999.000
   318MWESTW_5,  P21W,   162,  1,      4, SI9404,2,19940520,1332,-17.4972,-147.8305, 3893,   3914.1,   1.4465,  34.6937,2,  34.6940,2,    178.5,2,    179.4,3,   122.49,2,    33.59,2,     0.02,2,     2.34,2,    0.002,2,    0.000,2, -999.000,1,-999.0000,1,  -999.00,9,   -999.0,1,-999.000,9,   -999.0,9,   -999.0,9,  -999.00,9,38968.6,-999.0000,-999.000,-999.000,  1.1383,-999.000
   318MWESTW_5,  P21W,   162,  1,      3, SI9403,2,19940520,1332,-17.4972,-147.8305, 3893,   3914.2,   1.4469,  34.6934,2,  34.6938,2,    178.5,2,    181.0,3,   122.35,2,    33.60,2,     0.02,2,     2.35,2,    0.003,2,    0.003,2, -999.000,1,-999.0000,1,  -999.00,9,   -999.0,1,-999.000,9,   -999.0,9,   -999.0,9,  -999.00,9,38970.0,-999.0000,-999.000,-999.000,  1.1387,-999.000
   318MWESTW_5,  P21W,   162,  1,      2, SI9437,2,19940520,1332,-17.4972,-147.8305, 3893,   3914.2,   1.4470,  34.6938,2,  34.6960,2,    178.5,2,    181.0,3,   122.66,2,    33.37,2,     0.01,2,     2.36,2,    0.005,2,    0.002,2, -999.000,1,-999.0000,1,  -999.00,9,   -999.0,1,-999.000,9,   -999.0,9,   -999.0,9,  -999.00,9,38970.4,-999.0000,-999.000,-999.000,  1.1388,-999.000
   318MWESTW_5,  P21W,   162,  1,      1, SI9401,2,19940520,1332,-17.4972,-147.8305, 3893,   3914.6,   1.4469,  34.6934,2,  34.6942,2,    178.2,2,    180.5,3,   122.49,2,    33.75,2,     0.00,2,     2.32,2,    0.003,2,    0.001,2, -999.000,1,-999.0000,1,  -999.00,9,   -999.0,1,-999.000,9,   -999.0,9,   -999.0,9,  -999.00,9,38974.2,-999.0000,-999.000,-999.000,  1.1387,-999.000