BOTTLE,20010911WHPSIOdm
EXPOCODE,SECT_ID,STNNBR,CASTNO,SAMPNO,BTLNBR,BTLNBR_FLAG_W,DATE,TIME,LATITUDE,LONGITUDE,DEPTH,CTDPRS,CTDTMP,CTDSAL,CTDSAL_FLAG_W,SALNTY,SALNTY_FLAG_W,CTDOXY,CTDOXY_FLAG_W,OXYGEN,OXYGEN_FLAG_W,SILCAT,SILCAT_FLAG_W,NITRAT,NITRAT_FLAG_W,NITRIT,NITRIT_FLAG_W,PHSPHT,PHSPHT_FLAG_W,CFC-11,CFC-11_FLAG_W,CFC-12,CFC-12_FLAG_W,TRITUM,TRITUM_FLAG_W,HELIUM,HELIUM_FLAG_W,DELHE3,DELHE3_FLAG_W,DELC14,DELC14_FLAG_W,NEON,NEON_FLAG_W,TCARBN,TCARBN_FLAG_W,ALKALI,ALKALI_FLAG_W,PH,PH_FLAG_W,CTDRAW,HELIER,DELHER,NEONER,THETA,TRITER
,,,,,,,,,,,,DBAR,ITS-90,PSS-78,,PSS-78,,UMOL/KG,,UMOL/KG,,UMOL/KG,,UMOL/KG,,UMOL/KG,,UMOL/KG,,PMOL/KG,,PMOL/KG,,TU,,UMOL/KG,,PERCNT,,/MILLE,,NMOL/KG,,UMOL/KG,,UMOL/KG,,,,,NMOL/KG,PERCNT,NMOL/KG,ITS-90,TU
   318MWESTW_4,  P21E,    96,  1,     36, SI9336,2,19940426,0400,-16.7528,-110.6695, 3760,     10.5,  25.7611,  36.3136,2,  36.3126,2,    210.8,2,    215.3,2,     0.50,2,     0.09,2,     0.01,2,     0.30,2,    1.808,2,    1.024,2, -999.000,1,-999.0000,1,  -999.00,9,   -999.0,1,-999.000,9,   -999.0,9,   -999.0,9,  -999.00,9,  147.6,-999.0000,-999.000,-999.000, 25.7588,-999.000
   318MWESTW_4,  P21E,    96,  1,     35, SI9335,2,19940426,0400,-16.7528,-110.6695, 3760,     25.1,  25.7643,  36.3138,2,  36.3146,2,    214.9,2,    213.8,2,     0.67,2,     0.04,2,     0.01,2,     0.30,2,    1.798,2,    1.019,2, -999.000,1,-999.0000,1,  -999.00,9,   -999.0,1,-999.000,9,   -999.0,9,   -999.0,9,  -999.00,9,  293.4,-999.0000,-999.000,-999.000, 25.7587,-999.000
   318MWESTW_4,  P21E,    96,  1,     34, SI9334,2,19940426,0400,-16.7528,-110.6695, 3760,     49.5,  25.7300,  36.3119,2,  36.3134,2,    214.7,2,    214.6,2,     0.52,2,     0.04,2,     0.01,2,     0.29,2,    1.787,2,    1.006,2, -999.000,1,-999.0000,1,  -999.00,9,   -999.0,1,-999.000,9,   -999.0,9,   -999.0,9,  -999.00,9,  537.0,-999.0000,-999.000,-999.000, 25.7190,-999.000
   318MWESTW_4,  P21E,    96,  1,     33, SI9333,2,19940426,0400,-16.7528,-110.6695, 3760,    102.0,  23.8662,  36.2933,2,  36.3218,2,    216.1,2,    214.7,2,     0.69,2,     0.03,2,     0.02,2,     0.32,2,    1.935,2,    1.085,2, -999.000,1,-999.0000,1,  -999.00,9,   -999.0,1,-999.000,9,   -999.0,9,   -999.0,9,  -999.00,9, 1062.2,-999.0000,-999.000,-999.000, 23.8447,-999.000
   318MWESTW_4,  P21E,    96,  1,     32, SI9332,2,19940426,0400,-16.7528,-110.6695, 3760,    152.0,  22.0941,  36.1763,2,  36.1626,2,    203.2,2,    200.4,2,     0.70,2,     0.32,2,     1.47,2,     0.47,2,    2.022,2,    1.132,2, -999.000,1,-999.0000,1,  -999.00,9,   -999.0,1,-999.000,9,   -999.0,9,   -999.0,9,  -999.00,9, 1562.5,-999.0000,-999.000,-999.000, 22.0638,-999.000
   318MWESTW_4,  P21E,    96,  1,     31, SI9331,2,19940426,0400,-16.7528,-110.6695, 3760,    200.4,  20.1365,  35.7360,2,  35.7999,2,    196.7,2,    193.3,2,     0.71,2,     2.94,2,     0.03,2,     0.55,2,    2.181,2,    1.177,2, -999.000,1,-999.0000,1,  -999.00,9,   -999.0,1,-999.000,9,   -999.0,9,   -999.0,9,  -999.00,9, 2046.1,-999.0000,-999.000,-999.000, 20.0991,-999.000
   318MWESTW_4,  P21E,    96,  1,     30, SI9330,2,19940426,0400,-16.7528,-110.6695, 3760,    251.7,  17.7814,  35.2159,3,  35.3804,2,    183.3,2,    183.9,2,     1.38,2,     5.14,2,     0.01,2,     0.67,2,    2.136,2,    1.142,2, -999.000,1,-999.0000,1,  -999.00,9,   -999.0,1,-999.000,9,   -999.0,9,   -999.0,9,  -999.00,9, 2559.0,-999.0000,-999.000,-999.000, 17.7384,-999.000
   318MWESTW_4,  P21E,    96,  1,     29, SI9329,2,19940426,0400,-16.7528,-110.6695, 3760,    301.1,  14.3102,  34.7606,3,  34.8894,2,    145.8,2,    161.2,2,     3.84,2,    10.57,2,     0.01,2,     1.04,2,    1.824,2,    0.953,2, -999.000,1,-999.0000,1,  -999.00,9,   -999.0,1,-999.000,9,   -999.0,9,   -999.0,9,  -999.00,9, 3052.5,-999.0000,-999.000,-999.000, 14.2660,-999.000
   318MWESTW_4,  P21E,    96,  1,     28, SI9328,2,19940426,0400,-16.7528,-110.6695, 3760,    398.0,   9.4737,  34.5119,2,  34.5199,2,     71.7,2,     70.7,2,    18.70,2,    29.25,2,     0.00,2,     2.34,2,    0.333,2,    0.178,2, -999.000,1,-999.0000,1,  -999.00,9,   -999.0,1,-999.000,9,   -999.0,9,   -999.0,9,  -999.00,9, 4020.4,-999.0000,-999.000,-999.000,  9.4288,-999.000
   318MWESTW_4,  P21E,    96,  1,     27, SI9327,2,19940426,0400,-16.7528,-110.6695, 3760,    498.9,   7.3210,  34.4843,2,  34.4848,2,     83.4,2,     81.5,2,    26.06,2,    35.58,2,     0.00,2,     2.49,2,    0.048,2,    0.032,2, -999.000,1,-999.0000,1,  -999.00,9,   -999.0,1,-999.000,9,   -999.0,9,   -999.0,9,  -999.00,9, 5028.3,-999.0000,-999.000,-999.000,  7.2724,-999.000
   318MWESTW_4,  P21E,    96,  1,     26, SI9326,2,19940426,0400,-16.7528,-110.6695, 3760,    600.3,   6.4225,  34.4796,2,  34.4813,2,     98.2,2,     85.8,2,    34.56,2,    37.60,2,     0.01,2,     2.59,2,    0.008,2,    0.010,2, -999.000,1,-999.0000,1,  -999.00,9,   -999.0,1,-999.000,9,   -999.0,9,   -999.0,9,  -999.00,9, 6040.3,-999.0000,-999.000,-999.000,  6.3677,-999.000
   318MWESTW_4,  P21E,    96,  1,     25, SI9325,2,19940426,0400,-16.7528,-110.6695, 3760,    699.9,   5.7746,  34.4818,2,  34.4822,2,     81.0,2,     78.4,2,    43.70,2,    39.73,2,     0.01,2,     2.74,2,   -0.001,2,    0.001,2, -999.000,1,-999.0000,1,  -999.00,9,   -999.0,1,-999.000,9,   -999.0,9,   -999.0,9,  -999.00,9, 7035.5,-999.0000,-999.000,-999.000,  5.7137,-999.000
   318MWESTW_4,  P21E,    96,  1,     24, SI9324,2,19940426,0400,-16.7528,-110.6695, 3760,    800.9,   5.1456,  34.4842,2,  34.4864,2,     83.8,2,     80.7,2,    54.30,2,    40.48,2,     0.01,2,     2.81,2,   -0.003,2,    0.002,2, -999.000,1,-999.0000,1,  -999.00,9,   -999.0,1,-999.000,9,   -999.0,9,   -999.0,9,  -999.00,9, 8044.0,-999.0000,-999.000,-999.000,  5.0792,-999.000
   318MWESTW_4,  P21E,    96,  1,     23, SI9323,2,19940426,0400,-16.7528,-110.6695, 3760,    899.5,   4.7012,  34.5020,2,  34.5032,2,     82.6,2,     82.2,2,    64.43,2,    40.80,2,     0.01,2,     2.84,2,   -0.003,2,    0.001,2, -999.000,1,-999.0000,1,  -999.00,9,   -999.0,1,-999.000,9,   -999.0,9,   -999.0,9,  -999.00,9, 9028.9,-999.0000,-999.000,-999.000,  4.6290,-999.000
   318MWESTW_4,  P21E,    96,  1,     22, SI9322,2,19940426,0400,-16.7528,-110.6695, 3760,   1001.1,   4.3236,  34.5215,2,  34.5243,2,     78.3,2,     74.5,2,    75.19,2,    41.88,2,     0.01,2,     2.93,2,   -0.002,2,    0.002,2, -999.000,1,-999.0000,1,  -999.00,9,   -999.0,1,-999.000,9,   -999.0,9,   -999.0,9,  -999.00,9,10043.9,-999.0000,-999.000,-999.000,  4.2453,-999.000
   318MWESTW_4,  P21E,    96,  1,     21, SI9321,2,19940426,0400,-16.7528,-110.6695, 3760,   1100.8,   3.9978,  34.5343,2,  34.5349,2,     84.6,2,     84.6,2,    81.71,2,    41.03,2,     0.01,2,     2.87,2, -999.000,9, -999.000,9, -999.000,1,-999.0000,1,  -999.00,9,   -999.0,1,-999.000,9,   -999.0,9,   -999.0,9,  -999.00,9,11039.7,-999.0000,-999.000,-999.000,  3.9136,-999.000
   318MWESTW_4,  P21E,    96,  1,     20, SI9320,2,19940426,0400,-16.7528,-110.6695, 3760,   1201.6,   3.6760,  34.5469,2,  34.5500,2,     87.2,2,     85.6,2,    90.20,2,    41.04,2,     0.01,2,     2.89,2, -999.000,9, -999.000,9, -999.000,1,-999.0000,1,  -999.00,9,   -999.0,1,-999.000,9,   -999.0,9,   -999.0,9,  -999.00,9,12046.5,-999.0000,-999.000,-999.000,  3.5862,-999.000
   318MWESTW_4,  P21E,    96,  1,     19, SI9319,2,19940426,0400,-16.7528,-110.6695, 3760,   1304.3,   3.4062,  34.5629,2,  34.5651,2,     86.8,2,     87.4,2,    97.20,2,    40.89,2,     0.00,2,     2.89,2, -999.000,9, -999.000,9, -999.000,1,-999.0000,1,  -999.00,9,   -999.0,1,-999.000,9,   -999.0,9,   -999.0,9,  -999.00,9,13072.6,-999.0000,-999.000,-999.000,  3.3103,-999.000
   318MWESTW_4,  P21E,    96,  1,     18, SI9318,2,19940426,0400,-16.7528,-110.6695, 3760,   1397.4,   3.1601,  34.5768,2,  34.5791,2,     91.9,2,     92.5,2,   103.39,2,    40.51,2,     0.01,2,     2.86,2, -999.000,9, -999.000,9, -999.000,1,-999.0000,1,  -999.00,9,   -999.0,1,-999.000,9,   -999.0,9,   -999.0,9,  -999.00,9,14003.0,-999.0000,-999.000,-999.000,  3.0590,-999.000
   318MWESTW_4,  P21E,    96,  1,     17, SI9317,2,19940426,0400,-16.7528,-110.6695, 3760,   1495.5,   2.9290,  34.5889,2,  34.5924,2,     96.7,2,     98.3,2,   108.93,2,    40.05,2,     0.00,2,     2.82,2, -999.000,9, -999.000,9, -999.000,1,-999.0000,1,  -999.00,9,   -999.0,1,-999.000,9,   -999.0,9,   -999.0,9,  -999.00,9,14983.1,-999.0000,-999.000,-999.000,  2.8223,-999.000
   318MWESTW_4,  P21E,    96,  1,     16, SI9316,2,19940426,0400,-16.7528,-110.6695, 3760,   1600.8,   2.7384,  34.6007,2,  34.6042,2,    101.9,2,    103.2,2,   113.65,2,    39.68,2,     0.00,2,     2.79,2, -999.000,9, -999.000,9, -999.000,1,-999.0000,1,  -999.00,9,   -999.0,1,-999.000,9,   -999.0,9,   -999.0,9,  -999.00,9,16034.9,-999.0000,-999.000,-999.000,  2.6252,-999.000
   318MWESTW_4,  P21E,    96,  1,     15, SI9315,2,19940426,0400,-16.7528,-110.6695, 3760,   1753.0,   2.4752,  34.6167,2,  34.6242,3,    111.2,2,    115.3,2,   118.20,2,    38.73,2,     0.00,2,     2.71,2, -999.000,9, -999.000,9, -999.000,1,-999.0000,1,  -999.00,9,   -999.0,1,-999.000,9,   -999.0,9,   -999.0,9,  -999.00,9,17554.9,-999.0000,-999.000,-999.000,  2.3527,-999.000
   318MWESTW_4,  P21E,    96,  1,     14, SI9314,3,19940426,0400,-16.7528,-110.6695, 3760,   1898.7,   2.2863,  34.6320,2,  34.6339,2,    123.1,2,    124.6,2,   120.16,2,    37.93,2,     0.00,2,     2.63,2, -999.000,9, -999.000,9, -999.000,1,-999.0000,1,  -999.00,9,   -999.0,1,-999.000,9,   -999.0,9,   -999.0,9,  -999.00,9,19010.5,-999.0000,-999.000,-999.000,  2.1541,-999.000
   318MWESTW_4,  P21E,    96,  1,     13, SI9313,2,19940426,0400,-16.7528,-110.6695, 3760,   2051.4,   2.0716,  34.6430,2,  34.6460,2,    141.7,2,    144.0,2,   118.19,2,    36.34,2,    -0.01,2,     2.51,2, -999.000,9, -999.000,9, -999.000,1,-999.0000,1,  -999.00,9,   -999.0,1,-999.000,9,   -999.0,9,   -999.0,9,  -999.00,9,20536.3,-999.0000,-999.000,-999.000,  1.9297,-999.000
   318MWESTW_4,  P21E,    96,  1,     12, SI9312,2,19940426,0400,-16.7528,-110.6695, 3760,   2197.8,   1.9494,  34.6549,2,  34.6565,2,    152.5,2,    152.2,2,   118.51,2,    35.76,2,    -0.01,2,     2.46,2, -999.000,9, -999.000,9, -999.000,1,-999.0000,1,  -999.00,9,   -999.0,1,-999.000,9,   -999.0,9,   -999.0,9,  -999.00,9,21998.7,-999.0000,-999.000,-999.000,  1.7968,-999.000
   318MWESTW_4,  P21E,    96,  1,     11, SI9311,2,19940426,0400,-16.7528,-110.6695, 3760,   2349.7,   1.8804,  34.6638,2,  34.6669,3,    156.4,2,    155.1,2,   120.29,2,    35.44,2,     0.00,2,     2.43,2, -999.000,9, -999.000,9, -999.000,1,-999.0000,1,  -999.00,9,   -999.0,1,-999.000,9,   -999.0,9,   -999.0,9,  -999.00,9,23516.7,-999.0000,-999.000,-999.000,  1.7157,-999.000
   318MWESTW_4,  P21E,    96,  1,     10, SI9310,2,19940426,0400,-16.7528,-110.6695, 3760,   2498.3,   1.8388,  34.6710,2,  34.6724,2,    156.7,2,    154.6,2,   122.74,2,    35.39,2,     0.00,2,     2.43,2, -999.000,9, -999.000,9, -999.000,1,-999.0000,1,  -999.00,9,   -999.0,1,-999.000,9,   -999.0,9,   -999.0,9,  -999.00,9,25001.8,-999.0000,-999.000,-999.000,  1.6616,-999.000
   318MWESTW_4,  P21E,    96,  1,      9, SI9309,2,19940426,0400,-16.7528,-110.6695, 3760,   2650.0,   1.8158,  34.6778,2,  34.6777,2,    152.4,2,    151.1,2,   127.77,2,    35.76,2,     0.00,2,     2.46,2, -999.000,9, -999.000,9, -999.000,1,-999.0000,1,  -999.00,9,   -999.0,1,-999.000,9,   -999.0,9,   -999.0,9,  -999.00,9,26517.8,-999.0000,-999.000,-999.000,  1.6252,-999.000
   318MWESTW_4,  P21E,    96,  1,      8, SI9308,2,19940426,0400,-16.7528,-110.6695, 3760,   2797.7,   1.8158,  34.6795,2,  34.6804,2,    147.5,2,    146.9,2,   132.98,2,    36.10,2,     0.00,2,     2.49,2, -999.000,9, -999.000,9, -999.000,1,-999.0000,1,  -999.00,9,   -999.0,1,-999.000,9,   -999.0,9,   -999.0,9,  -999.00,9,27992.8,-999.0000,-999.000,-999.000,  1.6114,-999.000
   318MWESTW_4,  P21E,    96,  1,      7, SI9307,2,19940426,0400,-16.7528,-110.6695, 3760,   2948.1,   1.8208,  34.6801,2,  34.6800,2,    146.1,2,    145.3,2,   134.27,2,    36.25,2,     0.00,2,     2.50,2, -999.000,9, -999.000,9, -999.000,1,-999.0000,1,  -999.00,9,   -999.0,1,-999.000,9,   -999.0,9,   -999.0,9,  -999.00,9,29496.6,-999.0000,-999.000,-999.000,  1.6020,-999.000
   318MWESTW_4,  P21E,    96,  1,      6, SI9306,2,19940426,0400,-16.7528,-110.6695, 3760,   3099.4,   1.8233,  34.6802,2,  34.6804,2,    143.8,2,    142.7,2,   137.02,2,    36.58,2,     0.00,2,     2.51,2, -999.000,9, -999.000,9, -999.000,1,-999.0000,1,  -999.00,9,   -999.0,1,-999.000,9,   -999.0,9,   -999.0,9,  -999.00,9,31007.9,-999.0000,-999.000,-999.000,  1.5896,-999.000
   318MWESTW_4,  P21E,    96,  1,      5, SI9305,2,19940426,0400,-16.7528,-110.6695, 3760,   3251.5,   1.8288,  34.6795,2,  34.6802,2,    141.1,2,    140.6,2,   139.29,2,    36.80,2,     0.00,2,     2.52,2, -999.000,9, -999.000,9, -999.000,1,-999.0000,1,  -999.00,9,   -999.0,1,-999.000,9,   -999.0,9,   -999.0,9,  -999.00,9,32528.2,-999.0000,-999.000,-999.000,  1.5799,-999.000
   318MWESTW_4,  P21E,    96,  1,      4, SI9304,2,19940426,0400,-16.7528,-110.6695, 3760,   3398.9,   1.8364,  34.6817,2,  34.6822,2,    144.4,2,    144.1,2,   136.04,2,    36.49,2,     0.00,2,     2.51,2, -999.000,9, -999.000,9, -999.000,1,-999.0000,1,  -999.00,9,   -999.0,1,-999.000,9,   -999.0,9,   -999.0,9,  -999.00,9,34000.9,-999.0000,-999.000,-999.000,  1.5723,-999.000
   318MWESTW_4,  P21E,    96,  1,      3, SI9303,2,19940426,0400,-16.7528,-110.6695, 3760,   3601.3,   1.8435,  34.6842,2,  34.6832,2,    147.4,2,    147.3,2,   132.93,2,    36.13,2,    -0.01,2,     2.48,2, -999.000,9, -999.000,9, -999.000,1,-999.0000,1,  -999.00,9,   -999.0,1,-999.000,9,   -999.0,9,   -999.0,9,  -999.00,9,36024.5,-999.0000,-999.000,-999.000,  1.5581,-999.000
   318MWESTW_4,  P21E,    96,  1,      2, SI9302,2,19940426,0400,-16.7528,-110.6695, 3760,   3728.8,   1.8568,  34.6844,2,  34.6850,2,    147.6,2,    147.1,2,   132.93,2,    36.17,2,     0.00,2,     2.49,2, -999.000,9, -999.000,9, -999.000,1,-999.0000,1,  -999.00,9,   -999.0,1,-999.000,9,   -999.0,9,   -999.0,9,  -999.00,9,37298.5,-999.0000,-999.000,-999.000,  1.5575,-999.000
   318MWESTW_4,  P21E,    96,  1,      1, SI9301,2,19940426,0400,-16.7528,-110.6695, 3760,   3769.3,   1.8610,  34.6849,2,  34.6859,2,    145.7,2,    147.6,2,   133.07,2,    36.17,2,     0.01,2,     2.49,2, -999.000,9, -999.000,9, -999.000,1,-999.0000,1,  -999.00,9,   -999.0,1,-999.000,9,   -999.0,9,   -999.0,9,  -999.00,9,37703.5,-999.0000,-999.000,-999.000,  1.5572,-999.000