BOTTLE,20010911WHPSIOdm
EXPOCODE,SECT_ID,STNNBR,CASTNO,SAMPNO,BTLNBR,BTLNBR_FLAG_W,DATE,TIME,LATITUDE,LONGITUDE,DEPTH,CTDPRS,CTDTMP,CTDSAL,CTDSAL_FLAG_W,SALNTY,SALNTY_FLAG_W,CTDOXY,CTDOXY_FLAG_W,OXYGEN,OXYGEN_FLAG_W,SILCAT,SILCAT_FLAG_W,NITRAT,NITRAT_FLAG_W,NITRIT,NITRIT_FLAG_W,PHSPHT,PHSPHT_FLAG_W,CFC-11,CFC-11_FLAG_W,CFC-12,CFC-12_FLAG_W,TRITUM,TRITUM_FLAG_W,HELIUM,HELIUM_FLAG_W,DELHE3,DELHE3_FLAG_W,DELC14,DELC14_FLAG_W,NEON,NEON_FLAG_W,TCARBN,TCARBN_FLAG_W,ALKALI,ALKALI_FLAG_W,PH,PH_FLAG_W,CTDRAW,HELIER,DELHER,NEONER,THETA,TRITER
,,,,,,,,,,,,DBAR,ITS-90,PSS-78,,PSS-78,,UMOL/KG,,UMOL/KG,,UMOL/KG,,UMOL/KG,,UMOL/KG,,UMOL/KG,,PMOL/KG,,PMOL/KG,,TU,,UMOL/KG,,PERCNT,,/MILLE,,NMOL/KG,,UMOL/KG,,UMOL/KG,,,,,NMOL/KG,PERCNT,NMOL/KG,ITS-90,TU
   318MWESTW_5,  P21W,   201,  1,     36, SI9442,2,19940601,1426,-17.5000,-172.6667, 5100,     12.2,  25.5581,  35.4291,2,  35.4291,2,    211.6,2,    206.5,2,     0.82,2,     0.03,2,     0.00,2,     0.12,2,    1.755,2,    1.001,2, -999.000,1,-999.0000,1,  -999.00,9,   -999.0,1,-999.000,9,   1957.5,2,   2329.4,2,     8.13,2,  181.0,-999.0000,-999.000,-999.000, 25.5554,-999.000
   318MWESTW_5,  P21W,   201,  1,     35, SI9435,2,19940601,1426,-17.5000,-172.6667, 5100,     27.0,  25.5664,  35.4299,2,  35.4296,2,    207.0,2,    205.6,2,     0.66,2,     0.00,2,     0.00,2,     0.12,2, -999.000,9, -999.000,9, -999.000,1,-999.0000,1,  -999.00,9,   -999.0,1,-999.000,9,   1958.2,2,   2337.2,2,     8.12,2,  329.6,-999.0000,-999.000,-999.000, 25.5604,-999.000
   318MWESTW_5,  P21W,   201,  1,     34, SI9441,2,19940601,1426,-17.5000,-172.6667, 5100,     52.4,  25.4655,  35.4387,2,  35.4373,2,    207.8,2,    208.9,2,     0.83,2,     0.03,2,     0.00,2,     0.13,2, -999.000,9, -999.000,9, -999.000,1,-999.0000,1,  -999.00,9,   -999.0,1,-999.000,9,   1958.4,2,   2330.0,2,     8.12,2,  582.5,-999.0000,-999.000,-999.000, 25.4540,-999.000
   318MWESTW_5,  P21W,   201,  1,     33, SI9433,2,19940601,1426,-17.5000,-172.6667, 5100,     94.5,  23.0630,  35.7634,2,  35.7596,2,    216.8,2,    209.4,2,     0.68,2,     0.05,2,     0.07,2,     0.19,2,    1.954,2,    1.082,2, -999.000,1,-999.0000,1,  -999.00,9,   -999.0,1,-999.000,9,   2011.1,2,   2365.8,2,     8.06,2, 1001.2,-999.0000,-999.000,-999.000, 23.0436,-999.000
   318MWESTW_5,  P21W,   201,  1,     32, SI9432,2,19940601,1426,-17.5000,-172.6667, 5100,    140.6,  21.8569,  35.7959,2,  35.7934,2,    196.9,2,    186.9,2,     0.85,2,     1.49,2,     0.02,2,     0.29,2,    1.966,2,    1.074,2, -999.000,1,-999.0000,1,  -999.00,9,   -999.0,1,-999.000,9,   2035.3,2,   2348.1,2,     8.02,2, 1460.3,-999.0000,-999.000,-999.000, 21.8291,-999.000
   318MWESTW_5,  P21W,   201,  1,     31, SI9431,2,19940601,1426,-17.5000,-172.6667, 5100,    192.9,  20.4061,  35.7315,2,  35.7302,2,    182.8,2,    183.1,2,     0.86,2,     2.76,2,     0.01,2,     0.35,2, -999.000,9, -999.000,9, -999.000,1,-999.0000,1,  -999.00,9,   -999.0,1,-999.000,9,   2052.0,2,   2341.9,2,     7.99,2, 1981.5,-999.0000,-999.000,-999.000, 20.3698,-999.000
   318MWESTW_5,  P21W,   201,  1,     30, SI9440,2,19940601,1426,-17.5000,-172.6667, 5100,    246.0,  18.7810,  35.6196,2,  35.6192,2,    186.8,2,    188.1,2,     1.19,2,     3.95,2,     0.01,2,     0.44,2,    1.917,2,    1.039,2, -999.000,1,-999.0000,1,  -999.00,9,   -999.0,1,-999.000,9,   2062.7,2,   2336.0,2,     7.96,2, 2510.0,-999.0000,-999.000,-999.000, 18.7373,-999.000
   318MWESTW_5,  P21W,   201,  1,     29, SI9429,2,19940601,1426,-17.5000,-172.6667, 5100,    297.5,  17.7549,  35.6258,2,  35.6253,2,    200.2,2,    202.0,2,     1.36,2,     3.66,2,     0.01,2,     0.39,2, -999.000,9, -999.000,9, -999.000,1,-999.0000,1,  -999.00,9,   -999.0,1,-999.000,9,   2060.9,2,   2329.8,2,     7.96,2, 3022.8,-999.0000,-999.000,-999.000, 17.7040,-999.000
   318MWESTW_5,  P21W,   201,  1,     28, SI9428,2,19940601,1426,-17.5000,-172.6667, 5100,    348.3,  15.5953,  35.3851,2,  35.3798,2,    198.5,2,    196.5,2,     2.16,2,     6.91,2,     0.01,2,     0.63,2,    2.033,2,    1.074,2, -999.000,1,-999.0000,1,  -999.00,9,   -999.0,1,-999.000,9,   2080.7,2,   2319.3,2,     7.90,2, 3528.3,-999.0000,-999.000,-999.000, 15.5407,-999.000
   318MWESTW_5,  P21W,   201,  1,     27, SI9424,2,19940601,1426,-17.5000,-172.6667, 5100,    396.9,  12.8949,  35.0307,2,  35.0293,2,    194.1,2,    193.0,2,     3.76,2,    12.00,2,     0.01,2,     0.98,2,    1.502,2,    0.783,2, -999.000,1,-999.0000,1,  -999.00,9,   -999.0,1,-999.000,9,   2109.1,2,   2304.2,2,     7.82,2, 4012.1,-999.0000,-999.000,-999.000, 12.8402,-999.000
   318MWESTW_5,  P21W,   201,  1,     26, SI9414,2,19940601,1426,-17.5000,-172.6667, 5100,    499.1,   8.6385,  34.5541,2,  34.5468,2,    204.8,2,    204.3,2,     6.96,2,    20.15,2,     0.00,2,     1.48,2,    0.946,2,    0.481,2, -999.000,1,-999.0000,1,  -999.00,9,   -999.0,1,-999.000,9,   2134.6,2,   2283.2,2,     7.73,2, 5027.9,-999.0000,-999.000,-999.000,  8.5850,-999.000
   318MWESTW_5,  P21W,   201,  1,     25, SI9425,2,19940601,1426,-17.5000,-172.6667, 5100,    602.0,   6.6078,  34.3789,2,  34.3770,2,    221.1,2,    222.1,2,    10.80,2,    24.24,3,     0.00,2,     1.70,3,    0.529,2,    0.289,2, -999.000,1,-999.0000,1,  -999.00,9,   -999.0,1,-999.000,9,   2145.1,2,   2282.3,2,     7.69,2, 6051.8,-999.0000,-999.000,-999.000,  6.5521,-999.000
   318MWESTW_5,  P21W,   201,  1,     24, SI9434,2,19940601,1426,-17.5000,-172.6667, 5100,    695.4,   5.5888,  34.3500,2,  34.3498,2,    196.8,2,    195.8,2,    21.81,2,    28.91,2,     0.00,2,     2.03,2,    0.140,2,    0.082,2, -999.000,1,-999.0000,1,  -999.00,9,   -999.0,1,-999.000,9,   2175.2,2,   2287.9,2,     7.64,2, 6979.9,-999.0000,-999.000,-999.000,  5.5294,-999.000
   318MWESTW_5,  P21W,   201,  1,     23, SI9423,2,19940601,1426,-17.5000,-172.6667, 5100,    796.6,   5.0996,  34.4263,2,  34.4247,2,    165.4,2,    163.6,2,    40.47,2,    32.20,2,     0.00,2,     2.26,2,    0.039,2,    0.020,2, -999.000,1,-999.0000,1,  -999.00,9,   -999.0,1,-999.000,9,   2212.1,2,   2311.8,2,     7.58,2, 7986.7,-999.0000,-999.000,-999.000,  5.0339,-999.000
   318MWESTW_5,  P21W,   201,  1,     22, SI9418,2,19940601,1426,-17.5000,-172.6667, 5100,    894.2,   4.5006,  34.4632,2,  34.4620,2,    157.4,2,    153.3,2,    54.51,2,    33.89,2,     0.00,2,     2.39,2,    0.009,2,    0.007,2, -999.000,1,-999.0000,1,  -999.00,9,   -999.0,1,-999.000,9,   2232.5,2,   2324.6,2,     7.56,2, 8957.0,-999.0000,-999.000,-999.000,  4.4303,-999.000
   318MWESTW_5,  P21W,   201,  1,     21, SI9421,2,19940601,1426,-17.5000,-172.6667, 5100,    993.4,   3.8931,  34.5048,2,  34.5032,2,    153.8,2,    146.2,2,    69.82,3,    35.02,3,     0.01,3,     2.46,3,    0.002,2,    0.002,2, -999.000,1,-999.0000,1,  -999.00,9,   -999.0,1,-999.000,9,   2254.9,2,   2343.0,2,     7.55,2, 9943.0,-999.0000,-999.000,-999.000,  3.8188,-999.000
   318MWESTW_5,  P21W,   201,  1,     20, SI9420,2,19940601,1426,-17.5000,-172.6667, 5100,   1096.1,   3.5504,  34.4960,2,  34.4942,2,    157.4,2,    155.0,4,    71.09,2,    34.78,2,     0.00,2,     2.45,2, -999.000,9, -999.000,9, -999.000,1,-999.0000,1,  -999.00,9,   -999.0,1,-999.000,9,   2254.5,2,   2341.3,2,     7.55,2,10964.3,-999.0000,-999.000,-999.000,  3.4705,-999.000
   318MWESTW_5,  P21W,   201,  1,     19, SI9419,2,19940601,1426,-17.5000,-172.6667, 5100,   1226.9,   3.3009,  34.5304,2,  34.5288,2,    150.9,2,    151.8,2,    81.13,2,    35.25,2,     0.00,2,     2.49,2, -999.000,9, -999.000,9, -999.000,1,-999.0000,1,  -999.00,9,   -999.0,1,-999.000,9,   2266.1,2,   2354.5,2,     7.54,2,12264.4,-999.0000,-999.000,-999.000,  3.2125,-999.000
   318MWESTW_5,  P21W,   201,  1,     18, SI9439,2,19940601,1426,-17.5000,-172.6667, 5100,   1393.8,   2.9405,  34.5682,2,  34.5673,2,    147.9,2,    146.8,2,    93.40,2,    35.76,2,     0.00,2,     2.52,2, -999.000,9, -999.000,9, -999.000,1,-999.0000,1,  -999.00,9,   -999.0,1,-999.000,9,   2282.1,2,   2366.3,2,     7.54,2,13923.8,-999.0000,-999.000,-999.000,  2.8421,-999.000
   318MWESTW_5,  P21W,   201,  1,     17, SI9417,2,19940601,1426,-17.5000,-172.6667, 5100,   1592.2,   2.6917,  34.5912,2,  34.5914,2,    148.0,2,    145.8,2,   101.69,2,    35.88,2,     0.00,2,     2.52,2, -999.000,9, -999.000,9, -999.000,1,-999.0000,1,  -999.00,9,   -999.0,1,-999.000,9,   2288.1,2,   2376.1,2,     7.54,2,15896.4,-999.0000,-999.000,-999.000,  2.5798,-999.000
   318MWESTW_5,  P21W,   201,  1,     16, SI9416,2,19940601,1426,-17.5000,-172.6667, 5100,   1795.3,   2.4428,  34.6116,2,  34.6119,2,    149.4,2,    150.3,2,   109.17,2,    35.88,2,     0.01,2,     2.53,2,   -0.001,2,    0.001,2, -999.000,1,-999.0000,1,  -999.00,9,   -999.0,1,-999.000,9,   2296.3,2,   2384.0,2,     7.54,2,17916.0,-999.0000,-999.000,-999.000,  2.3172,-999.000
   318MWESTW_5,  P21W,   201,  1,     15, SI9415,2,19940601,1426,-17.5000,-172.6667, 5100,   2003.2,   2.2389,  34.6284,2,  34.6278,2,    150.3,2,    150.7,2,   113.46,2,    35.84,2,     0.01,2,     2.52,2, -999.000,9, -999.000,9, -999.000,1,-999.0000,1,  -999.00,9,   -999.0,1,-999.000,9,   2299.7,2,   2384.8,2,     7.55,2,19982.8,-999.0000,-999.000,-999.000,  2.0986,-999.000
   318MWESTW_5,  P21W,   201,  1,     14, SI9436,2,19940601,1426,-17.5000,-172.6667, 5100,   2198.6,   2.0917,  34.6412,2,  34.6409,2,    150.6,2,    151.0,2,   119.67,2,    35.90,2,     0.00,2,     2.52,2, -999.000,9, -999.000,9,   -0.007,2,-999.0000,1,  -999.00,9,   -999.0,1,-999.000,9,   2303.1,2,   2397.7,2,     7.55,2,21925.4,-999.0000,-999.000,-999.000,  1.9368,   0.004
   318MWESTW_5,  P21W,   201,  1,     13, SI9413,2,19940601,1426,-17.5000,-172.6667, 5100,   2383.0,   1.9801,  34.6516,2,  34.6506,2,    151.8,2,    150.1,2,   123.01,2,    35.77,2,     0.00,2,     2.51,2,    0.000,2,   -0.001,2, -999.000,1,-999.0000,1,  -999.00,9,   -999.0,1,-999.000,9,   2306.4,2,   2402.0,2,     7.55,2,23759.0,-999.0000,-999.000,-999.000,  1.8107,-999.000
   318MWESTW_5,  P21W,   201,  1,     12, SI9438,2,19940601,1426,-17.5000,-172.6667, 5100,   2644.4,   1.8730,  34.6609,2,  34.6596,2,    149.6,2,    158.9,4,   131.13,2,    36.16,2,     0.00,2,     2.54,2, -999.000,9, -999.000,9,   -0.003,2,   1.9540,2,    25.12,2,   -999.0,1,   8.249,2,   2318.8,2,   2408.9,2,     7.54,2,26357.7,  0.0098,   0.100,   0.041,  1.6819,   0.004
   318MWESTW_5,  P21W,   201,  1,     11, SI9411,3,19940601,1426,-17.5000,-172.6667, 5100,   2872.7,   1.7795,  34.6670,2,  34.6655,2,    149.1,2,    151.4,2,   134.79,2,    36.20,2,     0.00,2,     2.54,2,   -0.001,2,   -0.001,2, -999.000,1,-999.0000,1,  -999.00,9,   -999.0,1,-999.000,9,   2321.9,2,   2411.4,2,     7.56,2,28627.1,-999.0000,-999.000,-999.000,  1.5688,-999.000
   318MWESTW_5,  P21W,   201,  1,     10, SI9412,2,19940601,1426,-17.5000,-172.6667, 5100,   3135.9,   1.6903,  34.6741,4,-999.0000,9,    153.8,4,   -999.0,9,  -999.00,9,  -999.00,9,  -999.00,9,  -999.00,9, -999.000,9, -999.000,9, -999.000,1,-999.0000,1,  -999.00,9,   -999.0,1,-999.000,9,   -999.0,9,   -999.0,9,  -999.00,9,31243.6,-999.0000,-999.000,-999.000,  1.4561,-999.000
   318MWESTW_5,  P21W,   201,  1,      9, SI9410,3,19940601,1426,-17.5000,-172.6667, 5100,   3382.7,   1.5752,  34.6822,2,  34.6810,2,    158.9,2,    161.1,2,   134.30,2,    35.41,2,     0.00,2,     2.48,2,   -0.001,2,    0.000,2,    0.004,2,   1.9206,2,    19.71,2,   -999.0,1,   8.216,2,   2310.0,2,   2408.3,2,     7.56,2,33697.0,  0.0096,   0.100,   0.041,  1.3191,   0.004
   318MWESTW_5,  P21W,   201,  1,      8, SI9422,2,19940601,1426,-17.5000,-172.6667, 5100,   3634.1,   1.3296,  34.7096,2,  34.7093,2,    185.2,2,    193.5,2,   117.89,2,    32.80,2,     0.00,2,     2.28,2,    0.004,2,    0.002,2,    0.000,2,   1.9097,2,    12.81,2,   -999.0,1,   8.225,2,   2274.8,2,   -999.0,9,     7.59,2,36196.4,  0.0095,   0.090,   0.041,  1.0539,   0.004
   318MWESTW_5,  P21W,   201,  1,      7, SI9407,2,19940601,1426,-17.5000,-172.6667, 5100,   3897.8,   1.1651,  34.7166,2,  34.7154,2,    203.0,2,    204.2,2,   113.92,2,    31.91,2,     0.01,2,     2.22,2,    0.012,2,    0.007,2, -999.000,1,-999.0000,1,  -999.00,9,   -999.0,1,-999.000,9,   2260.2,2,   -999.0,9,     7.59,2,38818.0,-999.0000,-999.000,-999.000,  0.8663,-999.000
   318MWESTW_5,  P21W,   201,  1,      6, SI9427,2,19940601,1426,-17.5000,-172.6667, 5100,   4158.8,   1.1133,  34.7147,2,  34.7136,2,    206.1,2,    206.2,2,   115.82,2,    31.87,2,     0.01,2,     2.22,2,    0.013,2,    0.007,2,   -0.002,2,   1.9086,2,     9.37,2,   -999.0,1,   8.259,2,   2260.2,2,   2363.4,2,     7.59,2,41412.9,  0.0095,   0.090,   0.041,  0.7880,   0.004
   318MWESTW_5,  P21W,   201,  1,      5, SI9405,2,19940601,1426,-17.5000,-172.6667, 5100,   4415.0,   1.0894,  34.7130,2,  34.7131,2,    206.8,2,    207.1,2,   117.09,2,    31.89,2,     0.00,2,     2.21,2,    0.018,2,    0.010,2, -999.000,1,-999.0000,1,  -999.00,9,   -999.0,1,-999.000,9,   2259.8,2,   2366.2,2,     7.59,2,43960.2,-999.0000,-999.000,-999.000,  0.7366,-999.000
   318MWESTW_5,  P21W,   201,  1,      4, SI9404,2,19940601,1426,-17.5000,-172.6667, 5100,   4665.7,   1.0623,  34.7107,2,  34.7109,2,    209.3,2,    207.8,2,   118.52,2,    31.96,2,     0.02,2,     2.23,2,    0.018,2,    0.009,2,    0.003,2,   1.8996,2,     9.32,2,   -999.0,1,   8.233,2,   2257.7,2,   2364.6,2,     7.59,2,46452.7,  0.0095,   0.090,   0.041,  0.6819,   0.004
   318MWESTW_5,  P21W,   201,  1,      3, SI9403,2,19940601,1426,-17.5000,-172.6667, 5100,   4913.0,   1.0580,  34.7097,2,  34.7095,2,    209.4,2,    216.3,4,   119.62,2,    32.02,2,     0.00,2,     2.23,2,    0.020,2,    0.010,2,    0.004,2,   1.9077,2,     9.19,2,   -999.0,1,   8.261,2,   2259.7,2,   2367.2,2,     7.59,2,48911.1,  0.0095,   0.090,   0.041,  0.6489,   0.004
   318MWESTW_5,  P21W,   201,  1,      2, SI9437,2,19940601,1426,-17.5000,-172.6667, 5100,   5160.6,   1.0747,  34.7084,2,  34.7095,2,    210.7,2,    210.5,2,   120.10,2,    32.11,2,     0.00,2,     2.23,2,    0.020,2,    0.013,2, -999.000,1,-999.0000,1,  -999.00,9,   -999.0,1,-999.000,9,   2260.1,2,   2364.6,2,     7.59,2,51372.8,-999.0000,-999.000,-999.000,  0.6354,-999.000
   318MWESTW_5,  P21W,   201,  1,      1, SI9401,2,19940601,1426,-17.5000,-172.6667, 5100,   5200.4,   1.0795,  34.7094,2,  34.7079,2,    209.9,2,    223.4,4,   120.08,2,    31.95,2,     0.01,2,     2.23,2,    0.021,2,    0.010,2,   -0.001,2,   1.8853,2,     9.16,2,   -999.0,1,   8.172,2,   2260.1,2,   2368.0,2,     7.59,2,51767.8,  0.0094,   0.090,   0.041,  0.6352,   0.004