BOTTLE,20010911WHPSIOdm
EXPOCODE,SECT_ID,STNNBR,CASTNO,SAMPNO,BTLNBR,BTLNBR_FLAG_W,DATE,TIME,LATITUDE,LONGITUDE,DEPTH,CTDPRS,CTDTMP,CTDSAL,CTDSAL_FLAG_W,SALNTY,SALNTY_FLAG_W,CTDOXY,CTDOXY_FLAG_W,OXYGEN,OXYGEN_FLAG_W,SILCAT,SILCAT_FLAG_W,NITRAT,NITRAT_FLAG_W,NITRIT,NITRIT_FLAG_W,PHSPHT,PHSPHT_FLAG_W,CFC-11,CFC-11_FLAG_W,CFC-12,CFC-12_FLAG_W,TRITUM,TRITUM_FLAG_W,HELIUM,HELIUM_FLAG_W,DELHE3,DELHE3_FLAG_W,DELC14,DELC14_FLAG_W,NEON,NEON_FLAG_W,TCARBN,TCARBN_FLAG_W,ALKALI,ALKALI_FLAG_W,PH,PH_FLAG_W,CTDRAW,HELIER,DELHER,NEONER,THETA,TRITER
,,,,,,,,,,,,DBAR,ITS-90,PSS-78,,PSS-78,,UMOL/KG,,UMOL/KG,,UMOL/KG,,UMOL/KG,,UMOL/KG,,UMOL/KG,,PMOL/KG,,PMOL/KG,,TU,,UMOL/KG,,PERCNT,,/MILLE,,NMOL/KG,,UMOL/KG,,UMOL/KG,,,,,NMOL/KG,PERCNT,NMOL/KG,ITS-90,TU
   318MWESTW_4,  P21E,   122,  1,     24, SI9404,2,19940503,1044,-16.7500,-127.9972, 3840,      6.1,  27.5208,  36.5826,2,  36.5821,2,    201.4,2,    206.3,2,     0.69,2,     0.03,2,    -0.01,2,     0.21,2,    1.669,2,    0.961,2, -999.000,1,-999.0000,1,  -999.00,9,   -999.0,1,-999.000,9,   -999.0,9,   -999.0,9,  -999.00,9,  112.0,-999.0000,-999.000,-999.000, 27.5194,-999.000
   318MWESTW_4,  P21E,   122,  1,     23, SI9405,2,19940503,1044,-16.7500,-127.9972, 3840,     23.1,  27.5300,  36.5824,2,  36.5821,2,    209.6,2,    203.8,2,     1.01,2,    -0.01,2,     0.01,2,     0.19,2,    1.671,2,    0.958,2,    0.819,2,   1.6839,2,    -1.18,2,   -999.0,1,   6.605,2,   -999.0,9,   -999.0,9,  -999.00,9,  281.5,  0.0084,   0.080,   0.033, 27.5246,   0.007
   318MWESTW_4,  P21E,   122,  1,     22, SI9407,2,19940503,1044,-16.7500,-127.9972, 3840,     48.2,  27.5369,  36.5826,2,  36.5821,2,    207.2,2,    206.4,2,     1.02,2,    -0.02,2,     0.02,2,     0.19,2,    1.637,2,    0.933,2, -999.000,1,-999.0000,1,  -999.00,9,   -999.0,1,-999.000,9,   -999.0,9,   -999.0,9,  -999.00,9,  532.0,-999.0000,-999.000,-999.000, 27.5256,-999.000
   318MWESTW_4,  P21E,   122,  1,     21, SI9408,2,19940503,1044,-16.7500,-127.9972, 3840,     98.9,  25.6217,  36.5308,2,  36.5283,2,    215.2,2,    217.9,2,     0.90,2,    -0.01,2,     0.01,2,     0.20,2,    1.862,2,    1.036,2,    0.764,2,   1.6909,2,    -1.26,2,   -999.0,1,   6.710,2,   -999.0,9,   -999.0,9,  -999.00,9, 1037.3,  0.0085,   0.080,   0.034, 25.5997,   0.007
   318MWESTW_4,  P21E,   122,  1,     20, SI9409,2,19940503,1044,-16.7500,-127.9972, 3840,    149.4,  23.0918,  36.3199,2,  36.3206,2,    198.1,2,    196.5,2,     0.77,2,     0.13,2,     0.40,2,     0.26,2,    1.969,2,    1.090,2,    0.672,2,   1.6975,2,    -1.10,2,   -999.0,1,   6.810,2,   -999.0,9,   -999.0,9,  -999.00,9, 1540.6,  0.0085,   0.080,   0.034, 23.0610,   0.007
   318MWESTW_4,  P21E,   122,  1,     19, SI9411,2,19940503,1044,-16.7500,-127.9972, 3840,    199.9,  21.2776,  36.0157,2,  36.0232,2,    190.4,2,    188.4,2,     0.79,2,     1.78,2,     0.07,2,     0.38,2,    2.044,2,    1.110,2,    0.654,2,   1.7151,2,    -0.90,2,   -999.0,1,   6.897,2,   -999.0,9,   -999.0,9,  -999.00,9, 2043.3,  0.0086,   0.080,   0.034, 21.2388,   0.007
   318MWESTW_4,  P21E,   122,  1,     18, SI9413,2,19940503,1044,-16.7500,-127.9972, 3840,    250.6,  19.1089,  35.6313,2,  35.6246,2,    181.9,2,    185.6,2,     1.10,2,     3.25,2,     0.01,2,     0.47,2,    2.092,2,    1.108,2, -999.000,1,-999.0000,1,  -999.00,9,   -999.0,1,-999.000,9,   -999.0,9,   -999.0,9,  -999.00,9, 2548.4,-999.0000,-999.000,-999.000, 19.0638,-999.000
   318MWESTW_4,  P21E,   122,  1,     17, SI9415,2,19940503,1044,-16.7500,-127.9972, 3840,    299.4,  15.8077,  35.1325,2,  35.1258,2,    178.8,2,    179.0,2,     2.32,2,     6.85,2,     0.01,2,     0.70,2,    1.797,2,    0.944,2,    0.527,2,   1.7307,2,     0.45,2,   -999.0,1,   7.163,2,   -999.0,9,   -999.0,9,  -999.00,9, 3034.1,  0.0087,   0.080,   0.036, 15.7605,   0.006
   318MWESTW_4,  P21E,   122,  1,     16, SI9416,2,19940503,1044,-16.7500,-127.9972, 3840,    396.6,   9.8363,  34.5200,2,  34.5319,2,    123.7,2,    121.2,2,    12.26,2,    22.83,2,    -0.01,2,     1.85,2,    0.677,2,    0.344,2,    0.214,2,   1.7618,2,     1.67,2,   -999.0,1,   7.482,2,   -999.0,9,   -999.0,9,  -999.00,9, 4000.5,  0.0088,   0.080,   0.037,  9.7906,   0.005
   318MWESTW_4,  P21E,   122,  1,     15, SI9417,2,19940503,1044,-16.7500,-127.9972, 3840,    498.1,   7.3297,  34.4276,2,  34.4269,2,    109.6,2,    115.8,2,    19.99,2,    31.98,2,     0.01,2,     2.28,2,    0.121,2,    0.072,2, -999.000,1,   1.7788,2,     1.51,2,   -999.0,1,   7.633,2,   -999.0,9,   -999.0,9,  -999.00,9, 5010.3,  0.0089,   0.080,   0.038,  7.2812,-999.000
   318MWESTW_4,  P21E,   122,  1,     14, SI9419,2,19940503,1044,-16.7500,-127.9972, 3840,    593.8,   6.2019,  34.4077,2,  34.4043,2,    132.7,2,    131.7,2,    25.64,2,    33.61,2,     0.00,2,     2.34,2,    0.044,2,    0.027,2, -999.000,1,-999.0000,1,  -999.00,9,   -999.0,1,-999.000,9,   -999.0,9,   -999.0,9,  -999.00,9, 5961.7,-999.0000,-999.000,-999.000,  6.1488,-999.000
   318MWESTW_4,  P21E,   122,  1,     13, SI9420,2,19940503,1044,-16.7500,-127.9972, 3840,    700.7,   5.7112,  34.4578,2,  34.4540,2,    102.5,2,    103.8,2,    39.59,2,    37.30,2,     0.00,2,     2.57,2,    0.003,2,    0.004,2,   -0.001,2,   1.8076,2,     6.78,2,   -999.0,1,   7.770,2,   -999.0,9,   -999.0,9,  -999.00,9, 7024.3,  0.0090,   0.090,   0.039,  5.6506,   0.004
   318MWESTW_4,  P21E,   122,  1,     12, SI9421,2,19940503,1044,-16.7500,-127.9972, 3840,    856.7,   4.9267,  34.4988,2,  34.4960,2,     92.2,2,     90.7,2,    58.72,2,    39.42,2,     0.01,2,     2.73,2,    0.000,2,   -0.001,2,    0.000,2,   1.8410,2,    12.53,2,   -999.0,1,   7.851,2,   -999.0,9,   -999.0,9,  -999.00,9, 8576.4,  0.0092,   0.090,   0.039,  4.8567,   0.004
   318MWESTW_4,  P21E,   122,  1,     11, SI9423,2,19940503,1044,-16.7500,-127.9972, 3840,   1098.0,   4.0311,  34.5345,2,  34.5333,2,     89.1,2,     88.2,2,    80.52,2,    40.45,2,     0.00,2,     2.84,2,    0.000,2,    0.001,2, -999.000,1,-999.0000,1,  -999.00,9,   -999.0,1,-999.000,9,   -999.0,9,   -999.0,9,  -999.00,9,10974.7,-999.0000,-999.000,-999.000,  3.9469,-999.000
   318MWESTW_4,  P21E,   122,  1,     10, SI9425,3,19940503,1044,-16.7500,-127.9972, 3840,   1401.0,   3.2433,  34.5732,2,  34.5736,2,    100.8,2,    100.0,2,    99.06,2,    39.59,2,     0.00,2,     2.78,2,   -0.002,2,    0.004,2,   -0.004,2,   1.8852,2,    21.85,2,   -999.0,1,   7.978,2,   -999.0,9,   -999.0,9,  -999.00,9,13987.7,  0.0094,   0.100,   0.040,  3.1410,   0.003
   318MWESTW_4,  P21E,   122,  1,      9, SI9424,2,19940503,1044,-16.7500,-127.9972, 3840,   1704.0,   2.6088,  34.6073,2,  34.6075,2,    120.7,2,    120.5,2,   111.52,2,    37.92,2,     0.00,2,     2.64,2,   -0.001,2,    0.003,2, -999.000,1,-999.0000,1,  -999.00,9,   -999.0,1,-999.000,9,   -999.0,9,   -999.0,9,  -999.00,9,16999.8,-999.0000,-999.000,-999.000,  2.4886,-999.000
   318MWESTW_4,  P21E,   122,  1,      8, SI9428,2,19940503,1044,-16.7500,-127.9972, 3840,   2002.1,   2.1444,  34.6390,2,  34.6386,2,    142.4,2,    141.7,2,   116.66,2,    36.22,2,     0.01,2,     2.51,2,   -0.004,2,    0.000,2,    0.000,2,   1.9222,2,    30.45,2,   -999.0,1,   8.078,2,   -999.0,9,   -999.0,9,  -999.00,9,19963.6,  0.0096,   0.110,   0.040,  2.0056,   0.003
   318MWESTW_4,  P21E,   122,  1,      7, SI9429,2,19940503,1044,-16.7500,-127.9972, 3840,   2301.6,   1.9274,  34.6590,2,  34.6598,2,    148.3,2,    149.4,2,   122.60,2,    35.58,2,     0.00,2,     2.45,2,   -0.005,2,    0.004,2, -999.000,1,   1.9356,2,    34.46,2,   -999.0,1,   8.113,2,   -999.0,9,   -999.0,9,  -999.00,9,22941.5,  0.0097,   0.110,   0.041,  1.7662,-999.000
   318MWESTW_4,  P21E,   122,  1,      6, SI9431,2,19940503,1044,-16.7500,-127.9972, 3840,   2601.8,   1.8222,  34.6707,2,  34.6702,2,    151.1,2,    151.1,2,   127.95,2,    35.47,2,     0.01,2,     2.46,2, -999.000,9, -999.000,9, -999.000,1,-999.0000,1,  -999.00,9,   -999.0,1,-999.000,9,   -999.0,9,   -999.0,9,  -999.00,9,25925.5,-999.0000,-999.000,-999.000,  1.6359,-999.000
   318MWESTW_4,  P21E,   122,  1,      5, SI9432,2,19940503,1044,-16.7500,-127.9972, 3840,   2901.9,   1.7584,  34.6754,2,  34.6747,2,    154.7,2,    154.6,2,   129.23,2,    35.18,2,     0.00,2,     2.44,2, -999.000,9, -999.000,9,   -0.002,2,   1.9271,2,    30.88,2,   -999.0,1,   8.105,2,   -999.0,9,   -999.0,9,  -999.00,9,28909.1,  0.0096,   0.110,   0.041,  1.5453,   0.003
   318MWESTW_4,  P21E,   122,  1,      4, SI9433,2,19940503,1044,-16.7500,-127.9972, 3840,   3201.5,   1.6755,  34.6799,2,  34.6789,2,    160.4,2,    160.1,2,   129.03,2,    34.95,2,    -0.01,2,     2.41,2, -999.000,9, -999.000,9, -999.000,1,-999.0000,1,  -999.00,9,   -999.0,1,-999.000,9,   -999.0,9,   -999.0,9,  -999.00,9,31887.5,-999.0000,-999.000,-999.000,  1.4351,-999.000
   318MWESTW_4,  P21E,   122,  1,      3, SI9435,2,19940503,1044,-16.7500,-127.9972, 3840,   3490.6,   1.5883,  34.6934,2,  34.6853,3,    164.0,2,    163.3,2,   130.89,2,    34.83,2,    -0.01,2,     2.38,2, -999.000,9, -999.000,9,    0.000,2,   1.9065,2,    21.15,2,   -999.0,1,   8.126,2,   -999.0,9,   -999.0,9,  -999.00,9,34761.5,  0.0095,   0.100,   0.041,  1.3208,   0.004
   318MWESTW_4,  P21E,   122,  1,      2, SI9401,2,19940503,1044,-16.7500,-127.9972, 3840,   3783.6,   1.5454,  34.6890,2,  34.6889,2,    168.0,2,    167.0,2,   131.50,2,    34.62,2,     0.00,2,     2.38,2, -999.000,9, -999.000,9,    0.002,2,   1.8990,2,    21.09,2,   -999.0,1,   8.098,2,   -999.0,9,   -999.0,9,  -999.00,9,37674.0,  0.0095,   0.100,   0.040,  1.2485,   0.003
   318MWESTW_4,  P21E,   122,  1,      1, SI9403,2,19940503,1044,-16.7500,-127.9972, 3840,   3881.8,   1.5466,  34.6897,2,  34.6895,2,    167.9,2,    167.3,2,   130.67,2,    34.47,2,     0.00,2,     2.38,2, -999.000,9, -999.000,9,   -0.002,2,   1.9114,2,    20.75,2,   -999.0,1,   8.152,2,   -999.0,9,   -999.0,9,  -999.00,9,38650.1,  0.0096,   0.100,   0.041,  1.2392,   0.004
   318MWESTW_4,  P21E,   123,  1,     24, SI9404,2,19940503,1722,-16.7500,-128.6667, 3945,      7.7,  27.6663,  36.5601,2,  36.5605,2,    203.9,2,    210.7,2,     0.57,2,    -0.01,2,     0.01,2,     0.20,2,    1.692,2,    0.948,2, -999.000,1,-999.0000,1,  -999.00,9,   -999.0,1,-999.000,9,   -999.0,9,   -999.0,9,  -999.00,9,  125.9,-999.0000,-999.000,-999.000, 27.6645,-999.000
   318MWESTW_4,  P21E,   123,  1,     23, SI9405,2,19940503,1722,-16.7500,-128.6667, 3945,     24.9,  27.6664,  36.5600,2,  36.5599,2,    203.5,2,    207.1,2,     0.59,2,     0.05,2,     0.00,2,     0.20,2,    1.663,2,    0.937,2, -999.000,1,-999.0000,1,  -999.00,9,   -999.0,1,-999.000,9,   2026.7,2,   2403.0,2,     8.12,2,  297.9,-999.0000,-999.000,-999.000, 27.6606,-999.000
   318MWESTW_4,  P21E,   123,  1,     22, SI9407,2,19940503,1722,-16.7500,-128.6667, 3945,     48.9,  27.6669,  36.5595,2,  36.5601,2,    206.9,2,    207.8,2,     0.45,2,     0.00,2,     0.00,2,     0.20,2,    1.671,2,    0.946,2, -999.000,1,-999.0000,1,  -999.00,9,   -999.0,1,-999.000,9,   2025.7,2,   2401.0,2,     8.12,2,  537.7,-999.0000,-999.000,-999.000, 27.6554,-999.000
   318MWESTW_4,  P21E,   123,  1,     21, SI9408,2,19940503,1722,-16.7500,-128.6667, 3945,     99.2,  25.0391,  36.4797,2,  36.4788,2,    214.2,2,    220.3,2,     0.32,2,     0.00,2,     0.00,2,     0.17,2,    1.935,2,    1.111,2, -999.000,1,-999.0000,1,  -999.00,9,   -999.0,1,-999.000,9,   2037.8,2,   2394.0,2,     8.09,2, 1039.2,-999.0000,-999.000,-999.000, 25.0174,-999.000
   318MWESTW_4,  P21E,   123,  1,     20, SI9409,2,19940503,1722,-16.7500,-128.6667, 3945,    148.6,  23.8067,  36.3787,2,  36.3780,2,    210.9,2,    211.7,2,     0.33,2,     0.00,2,     0.00,2,     0.19,2,    1.938,2,    1.083,2, -999.000,1,-999.0000,1,  -999.00,9,   -999.0,1,-999.000,9,   2045.8,2,   2388.0,2,     8.07,2, 1532.0,-999.0000,-999.000,-999.000, 23.7754,-999.000
   318MWESTW_4,  P21E,   123,  1,     19, SI9411,2,19940503,1722,-16.7500,-128.6667, 3945,    198.9,  22.0770,  36.1008,2,  36.1088,2,    187.9,2,    193.4,2,     0.50,2,     0.54,2,     0.38,2,     0.29,2,    2.021,2,    1.100,2, -999.000,1,-999.0000,1,  -999.00,9,   -999.0,1,-999.000,9,   2062.8,2,   2368.0,2,     8.02,2, 2032.5,-999.0000,-999.000,-999.000, 22.0373,-999.000
   318MWESTW_4,  P21E,   123,  1,     18, SI9413,2,19940503,1722,-16.7500,-128.6667, 3945,    250.0,  18.9150,  35.5918,2,  35.5912,2,    189.5,2,    188.6,2,     0.66,2,     2.76,2,     0.00,2,     0.41,2,    2.044,2,    1.079,2, -999.000,1,-999.0000,1,  -999.00,9,   -999.0,1,-999.000,9,   2072.8,2,   2335.0,2,     7.95,2, 2541.6,-999.0000,-999.000,-999.000, 18.8703,-999.000
   318MWESTW_4,  P21E,   123,  1,     17, SI9415,2,19940503,1722,-16.7500,-128.6667, 3945,    299.4,  15.8188,  35.1351,2,  35.1429,2,    179.3,2,    182.2,2,     1.72,2,     6.45,2,     0.00,2,     0.66,2,    1.814,2,    0.937,2, -999.000,1,-999.0000,1,  -999.00,9,   -999.0,1,-999.000,9,   2083.8,2,   2305.0,2,     7.89,2, 3033.4,-999.0000,-999.000,-999.000, 15.7716,-999.000
   318MWESTW_4,  P21E,   123,  1,     16, SI9416,2,19940503,1722,-16.7500,-128.6667, 3945,    402.3,  10.1850,  34.5485,2,  34.5445,2,    103.6,2,    108.2,2,    12.87,2,    23.72,2,     0.00,2,     1.94,2,    0.625,6,    0.310,6, -999.000,1,-999.0000,1,  -999.00,9,   -999.0,1,-999.000,9,   2183.9,2,   2279.0,2,     7.60,2, 4057.0,-999.0000,-999.000,-999.000, 10.1376,-999.000
   318MWESTW_4,  P21E,   123,  1,     15, SI9417,2,19940503,1722,-16.7500,-128.6667, 3945,    495.5,   7.6491,  34.4972,2,  34.4952,2,     81.0,2,     82.2,2,    24.47,2,    34.27,2,     0.00,2,     2.45,2,    0.053,2,    0.028,2, -999.000,1,-999.0000,1,  -999.00,9,   -999.0,1,-999.000,9,   2231.9,2,   2284.0,2,     7.49,2, 4984.7,-999.0000,-999.000,-999.000,  7.5997,-999.000
   318MWESTW_4,  P21E,   123,  1,     14, SI9419,2,19940503,1722,-16.7500,-128.6667, 3945,    601.9,   6.6079,  34.4903,2,  34.4897,2,     87.4,2,     88.5,2,    33.10,2,    36.63,2,     0.00,2,     2.55,2,    0.007,2,   -0.001,2, -999.000,1,-999.0000,1,  -999.00,9,   -999.0,1,-999.000,9,   2241.9,2,   2295.0,2,     7.49,2, 6042.6,-999.0000,-999.000,-999.000,  6.5521,-999.000
   318MWESTW_4,  P21E,   123,  1,     13, SI9420,2,19940503,1722,-16.7500,-128.6667, 3945,    697.3,   5.8266,  34.4905,2,  34.4893,2,     83.4,2,     82.6,2,    43.80,2,    38.89,2,     0.01,2,     2.68,2,   -0.001,2,    0.001,2, -999.000,1,-999.0000,1,  -999.00,9,   -999.0,1,-999.000,9,   2258.9,2,   2303.0,2,     7.47,2, 6991.2,-999.0000,-999.000,-999.000,  5.7656,-999.000
   318MWESTW_4,  P21E,   123,  1,     12, SI9421,2,19940503,1722,-16.7500,-128.6667, 3945,    901.4,   4.7453,  34.5083,2,  34.5080,2,     82.8,2,     81.6,2,    64.16,2,    40.70,2,     0.00,2,     2.83,2,   -0.001,2,   -0.002,2, -999.000,1,-999.0000,1,  -999.00,9,   -999.0,1,-999.000,9,   2283.0,2,   2327.0,2,     7.45,2, 9020.1,-999.0000,-999.000,-999.000,  4.6726,-999.000
   318MWESTW_4,  P21E,   123,  1,     11, SI9423,2,19940503,1722,-16.7500,-128.6667, 3945,   1199.8,   3.7426,  34.5482,2,  34.5468,2,     94.5,2,     94.5,2,    86.58,2,    40.05,2,     0.00,2,     2.83,2,    0.000,2,   -0.003,2, -999.000,1,-999.0000,1,  -999.00,9,   -999.0,1,-999.000,9,   2302.0,2,   2350.0,2,     7.48,2,11986.9,-999.0000,-999.000,-999.000,  3.6523,-999.000
   318MWESTW_4,  P21E,   123,  1,     10, SI9425,2,19940503,1722,-16.7500,-128.6667, 3945,   1503.2,   3.0778,  34.5824,2,  34.5818,2,    105.2,2,    104.2,2,   102.63,2,    39.35,2,     0.01,2,     2.77,2,   -0.003,2,   -0.004,2, -999.000,1,-999.0000,1,  -999.00,9,   -999.0,1,-999.000,9,   2315.0,2,   2371.0,2,     7.49,2,15004.0,-999.0000,-999.000,-999.000,  2.9688,-999.000
   318MWESTW_4,  P21E,   123,  1,      9, SI9424,2,19940503,1722,-16.7500,-128.6667, 3945,   1802.2,   2.4726,  34.6163,2,  34.6164,2,    124.4,2,    126.7,2,   113.02,2,    37.56,2,     0.01,2,     2.63,2, -999.000,9, -999.000,9, -999.000,1,-999.0000,1,  -999.00,9,   -999.0,1,-999.000,9,   2312.0,2,   2380.0,2,     7.53,2,17976.3,-999.0000,-999.000,-999.000,  2.3460,-999.000
   318MWESTW_4,  P21E,   123,  1,      8, SI9428,2,19940503,1722,-16.7500,-128.6667, 3945,   2103.3,   2.0473,  34.6474,2,  34.6476,2,    144.8,2,    145.9,2,   118.67,2,    36.00,2,     0.01,2,     2.48,2, -999.000,9, -999.000,9, -999.000,1,-999.0000,1,  -999.00,9,   -999.0,1,-999.000,9,   2308.0,2,   2383.0,2,     7.55,2,20970.0,-999.0000,-999.000,-999.000,  1.9013,-999.000
   318MWESTW_4,  P21E,   123,  1,      7, SI9429,2,19940503,1722,-16.7500,-128.6667, 3945,   2396.7,   1.8986,  34.6631,2,  34.6633,2,    148.9,2,    149.5,2,   124.33,2,    35.82,2,     0.00,2,     2.46,2, -999.000,9, -999.000,9, -999.000,1,-999.0000,1,  -999.00,9,   -999.0,1,-999.000,9,   2312.0,2,   2396.0,2,     7.57,2,23886.8,-999.0000,-999.000,-999.000,  1.7294,-999.000
   318MWESTW_4,  P21E,   123,  1,      6, SI9431,2,19940503,1722,-16.7500,-128.6667, 3945,   2698.8,   1.8054,  34.6705,2,  34.6706,2,    151.7,2,    153.1,2,   127.31,2,    35.60,2,     0.00,2,     2.45,2, -999.000,9, -999.000,9, -999.000,1,-999.0000,1,  -999.00,9,   -999.0,1,-999.000,9,   2315.0,2,   2403.0,2,     7.57,2,26890.3,-999.0000,-999.000,-999.000,  1.6105,-999.000
   318MWESTW_4,  P21E,   123,  1,      5, SI9432,2,19940503,1722,-16.7500,-128.6667, 3945,   2999.2,   1.7030,  34.6764,2,  34.6763,2,    158.5,2,    159.5,2,   127.02,2,    35.14,2,     0.00,2,     2.41,2, -999.000,9, -999.000,9, -999.000,1,-999.0000,1,  -999.00,9,   -999.0,1,-999.000,9,   2310.0,2,   2398.0,2,     7.59,2,29876.8,-999.0000,-999.000,-999.000,  1.4818,-999.000
   318MWESTW_4,  P21E,   123,  1,      4, SI9433,2,19940503,1722,-16.7500,-128.6667, 3945,   3297.1,   1.6370,  34.6815,2,  34.6812,2,    162.2,2,    161.9,2,   129.11,2,    35.05,2,     0.00,2,     2.41,2, -999.000,9, -999.000,9, -999.000,1,-999.0000,1,  -999.00,9,   -999.0,1,-999.000,9,   2310.0,2,   2403.0,2,     7.59,2,32838.1,-999.0000,-999.000,-999.000,  1.3880,-999.000
   318MWESTW_4,  P21E,   123,  1,      3, SI9435,2,19940503,1722,-16.7500,-128.6667, 3945,   3591.2,   1.5742,  34.6873,2,  34.6865,2,    164.0,2,    164.1,2,   131.05,2,    34.92,2,     0.00,2,     2.39,2, -999.000,9, -999.000,9, -999.000,1,-999.0000,1,  -999.00,9,   -999.0,1,-999.000,9,   2310.0,2,   2402.0,2,     7.59,2,35761.9,-999.0000,-999.000,-999.000,  1.2968,-999.000
   318MWESTW_4,  P21E,   123,  1,      2, SI9401,2,19940503,1722,-16.7500,-128.6667, 3945,   3895.7,   1.5503,  34.6891,2,  34.6885,2,    168.2,2,    167.4,2,   130.32,2,    34.74,2,     0.00,2,     2.38,2, -999.000,9, -999.000,9, -999.000,1,-999.0000,1,  -999.00,9,   -999.0,1,-999.000,9,   2309.0,2,   2404.0,2,     7.59,2,38788.3,-999.0000,-999.000,-999.000,  1.2413,-999.000
   318MWESTW_4,  P21E,   123,  1,      1, SI9403,2,19940503,1722,-16.7500,-128.6667, 3945,   3989.4,   1.5571,  34.6903,2,  34.6893,2,    169.2,2,    168.1,2,   130.41,2,    34.72,2,     0.00,2,     2.38,2, -999.000,9, -999.000,9, -999.000,1,-999.0000,1,  -999.00,9,   -999.0,1,-999.000,9,   2308.0,2,   2403.0,2,     7.60,2,39720.2,-999.0000,-999.000,-999.000,  1.2377,-999.000