BOTTLE,20010911WHPSIOdm
EXPOCODE,SECT_ID,STNNBR,CASTNO,SAMPNO,BTLNBR,BTLNBR_FLAG_W,DATE,TIME,LATITUDE,LONGITUDE,DEPTH,CTDPRS,CTDTMP,CTDSAL,CTDSAL_FLAG_W,SALNTY,SALNTY_FLAG_W,CTDOXY,CTDOXY_FLAG_W,OXYGEN,OXYGEN_FLAG_W,SILCAT,SILCAT_FLAG_W,NITRAT,NITRAT_FLAG_W,NITRIT,NITRIT_FLAG_W,PHSPHT,PHSPHT_FLAG_W,CFC-11,CFC-11_FLAG_W,CFC-12,CFC-12_FLAG_W,TRITUM,TRITUM_FLAG_W,HELIUM,HELIUM_FLAG_W,DELHE3,DELHE3_FLAG_W,DELC14,DELC14_FLAG_W,NEON,NEON_FLAG_W,TCARBN,TCARBN_FLAG_W,ALKALI,ALKALI_FLAG_W,PH,PH_FLAG_W,CTDRAW,HELIER,DELHER,NEONER,THETA,TRITER
,,,,,,,,,,,,DBAR,ITS-90,PSS-78,,PSS-78,,UMOL/KG,,UMOL/KG,,UMOL/KG,,UMOL/KG,,UMOL/KG,,UMOL/KG,,PMOL/KG,,PMOL/KG,,TU,,UMOL/KG,,PERCNT,,/MILLE,,NMOL/KG,,UMOL/KG,,UMOL/KG,,,,,NMOL/KG,PERCNT,NMOL/KG,ITS-90,TU
   318MWESTW_4,  P21E,    57,  1,     36, SI9336,2,19940414,1232,-16.7528, -90.0000, 4322,      8.5,  22.9946,  35.9468,2,  35.9498,2,    213.6,2,    218.1,2,     0.14,2,     0.01,2,     0.01,2,     0.38,2,    2.043,2,    1.094,2,    0.506,2,   1.7019,2,    -1.14,2,   -999.0,1,   6.805,2,   2061.8,2,   2380.0,2,     8.04,2,  124.3,  0.0085,   0.080,   0.034, 22.9929,   0.006
   318MWESTW_4,  P21E,    57,  1,     35, SI9335,2,19940414,1232,-16.7528, -90.0000, 4322,     26.2,  22.9946,  35.9457,2,  35.9491,2,    216.5,2,    217.2,2,     0.16,2,     0.01,2,     0.01,2,     0.38,2,    2.055,2,    1.109,2,    0.546,2,   1.7035,2,    -1.13,2,   -999.0,1,   6.808,2,   2061.8,2,   2381.0,2,     8.03,2,  301.3,  0.0085,   0.080,   0.034, 22.9892,   0.007
   318MWESTW_4,  P21E,    57,  1,     34, SI9334,2,19940414,1232,-16.7528, -90.0000, 4322,     52.3,  22.8435,  35.9435,2,  35.9400,2,    218.5,2,    220.4,2,     0.17,2,     0.02,2,     0.00,2,     0.38,2,    2.068,2,    1.114,2,    0.542,2,   1.7079,2,    -1.22,2,   -999.0,1,   6.823,2,   2061.8,2,   2380.0,2,     8.03,2,  562.1,  0.0085,   0.080,   0.034, 22.8328,   0.007
   318MWESTW_4,  P21E,    57,  1,     33, SI9333,2,19940414,1232,-16.7528, -90.0000, 4322,    101.4,  19.6624,  35.6725,2,  35.6650,2,    218.9,2,    215.6,2,     0.36,2,     0.35,2,     0.45,2,     0.47,2,    2.311,2,    1.221,2,    0.514,2,   1.7208,2,    -1.19,2,   -999.0,1,   6.976,2,   2076.8,2,   2361.0,2,     7.98,2, 1052.7,  0.0086,   0.080,   0.035, 19.6438,   0.006
   318MWESTW_4,  P21E,    57,  1,     32, SI9332,2,19940414,1232,-16.7528, -90.0000, 4322,    149.4,  18.1301,  35.4883,3,  35.3934,2,    210.8,2,    194.9,2,     1.60,2,     6.54,2,     0.03,2,     0.85,2,    2.376,2,    1.239,2,    0.470,2,   1.7509,2,    -1.07,2,   -999.0,1,   7.084,2,   2103.8,2,   2340.0,2,     7.91,2, 1532.8,  0.0088,   0.080,   0.035, 18.1043,   0.006
   318MWESTW_4,  P21E,    57,  1,     31, SI9331,2,19940414,1232,-16.7528, -90.0000, 4322,    201.3,  13.8383,  34.8087,2,  34.7262,2,    171.7,2,    150.4,2,     4.60,2,    13.13,2,     0.01,2,     1.29,2,    2.119,2,    1.026,2,    0.429,2,   1.7752,2,     0.16,2,   -999.0,1,   7.314,2,   2130.8,2,   2295.0,2,     7.77,2, 2051.0,  0.0089,   0.080,   0.037, 13.8095,   0.006
   318MWESTW_4,  P21E,    57,  1,     30, SI9330,2,19940414,1232,-16.7528, -90.0000, 4322,    251.2,  11.6866,  34.6515,2,  34.6547,2,     55.3,2,     42.8,2,    17.98,2,    23.19,2,     0.01,2,     2.38,2,    0.677,2,    0.303,2,    0.228,2,   1.7764,2,     2.59,2,   -999.0,1,   7.449,2,   2232.9,2,   2292.0,2,     7.50,2, 2549.3,  0.0089,   0.080,   0.037, 11.6544,   0.005
   318MWESTW_4,  P21E,    57,  1,     29, SI9329,2,19940414,1232,-16.7528, -90.0000, 4322,    300.5,  10.5041,  34.6570,2,  34.6568,2,     19.7,2,     16.7,2,    23.44,2,    29.48,2,     0.01,2,     2.65,2,    0.221,6,    0.094,6,    0.098,2,   1.7748,2,     2.81,2,   -999.0,1,   7.491,2,   2262.9,2,   2295.0,2,     7.41,2, 3042.4,  0.0089,   0.080,   0.037, 10.4681,   0.004
   318MWESTW_4,  P21E,    57,  1,     28, SI9328,2,19940414,1232,-16.7528, -90.0000, 4322,    398.6,   8.5943,  34.5851,2,  34.5904,2,     23.0,2,     19.3,2,    29.25,2,    37.65,2,     0.01,2,     2.81,2,    0.039,2,    0.012,2,    0.018,2,   1.8060,2,     3.32,2,   -999.0,1,   7.683,2,   2275.0,2,   2297.0,2,     7.39,2, 4022.3,  0.0090,   0.080,   0.038,  8.5519,   0.004
   318MWESTW_4,  P21E,    57,  1,     27, SI9327,2,19940414,1232,-16.7528, -90.0000, 4322,    499.9,   7.2661,  34.5187,2,  34.5325,2,     46.2,2,     40.5,2,    34.01,2,    40.05,2,     0.01,2,     2.83,2,    0.017,2,    0.006,2,    0.004,2,   1.8020,2,     4.53,2,   -999.0,1,   7.702,2,   2273.0,2,   2301.0,2,     7.40,2, 5033.4,  0.0090,   0.090,   0.039,  7.2176,   0.003
   318MWESTW_4,  P21E,    57,  1,     26, SI9326,2,19940414,1232,-16.7528, -90.0000, 4322,    600.8,   6.2222,  34.4850,2,  34.4871,2,     60.4,2,     56.8,2,    40.00,2,    41.12,2,     0.00,2,     2.88,2,    0.004,2,   -0.002,2,    0.000,2,   1.8124,2,     6.04,2,   -999.0,1,   7.779,2,   2271.0,2,   2305.0,2,     7.42,2, 6041.7,  0.0091,   0.090,   0.039,  6.1683,   0.003
   318MWESTW_4,  P21E,    57,  1,     25, SI9325,2,19940414,1232,-16.7528, -90.0000, 4322,    699.5,   5.6299,  34.4904,2,  34.4923,2,     55.4,2,     52.3,2,    50.03,2,    42.79,2,     0.00,2,     3.01,2,   -0.003,2,   -0.003,2,    0.002,2,   1.8193,2,     8.65,2,   -999.0,1,   7.794,2,   2285.0,2,   2315.0,2,     7.40,2, 7027.6,  0.0091,   0.090,   0.039,  5.5698,   0.004
   318MWESTW_4,  P21E,    57,  1,     24, SI9324,2,19940414,1232,-16.7528, -90.0000, 4322,    799.8,   5.0430,  34.4951,2,  34.4989,2,     60.2,2,     58.1,2,    60.07,2,    43.00,2,     0.00,2,     3.03,2,   -0.004,2,   -0.004,2,   -0.001,2,   1.8296,2,    11.57,2,   -999.0,1,   7.818,2,   2294.0,2,   2325.0,2,     7.41,2, 8029.0,  0.0091,   0.090,   0.039,  4.9773,   0.003
   318MWESTW_4,  P21E,    57,  1,     23, SI9323,2,19940414,1232,-16.7528, -90.0000, 4322,    903.2,   4.5254,  34.5128,2,  34.5154,2,     64.9,2,     63.6,2,    71.86,2,    42.73,2,     0.00,2,     3.05,2, -999.000,9, -999.000,9, -999.000,1,-999.0000,1,  -999.00,9,   -999.0,1,-999.000,9,   2305.0,2,   2339.0,2,     7.41,2, 9062.4,-999.0000,-999.000,-999.000,  4.4541,-999.000
   318MWESTW_4,  P21E,    57,  1,     22, SI9322,2,19940414,1232,-16.7528, -90.0000, 4322,   1005.8,   4.1738,  34.5266,2,  34.5292,2,     72.3,2,     70.6,2,    79.43,2,    42.05,2,     0.01,2,     3.03,2, -999.000,9, -999.000,9, -999.000,1,   1.8589,2,    16.13,2,   -999.0,1,   7.906,2,   2309.0,2,   2345.0,2,     7.43,2,10087.5,  0.0093,   0.100,   0.040,  4.0963,-999.000
   318MWESTW_4,  P21E,    57,  1,     21, SI9321,2,19940414,1232,-16.7528, -90.0000, 4322,   1104.0,   3.8515,  34.5415,2,  34.5429,2,     76.8,2,     75.1,2,    87.35,2,    41.60,2,     0.01,2,     3.00,2, -999.000,9, -999.000,9, -999.000,1,-999.0000,1,  -999.00,9,   -999.0,1,-999.000,9,   2315.0,2,   2357.0,2,     7.44,2,11067.5,-999.0000,-999.000,-999.000,  3.7683,-999.000
   318MWESTW_4,  P21E,    57,  1,     20, SI9320,2,19940414,1232,-16.7528, -90.0000, 4322,   1200.5,   3.5339,  34.5567,2,  34.5573,2,     85.1,2,     83.2,2,    94.40,2,    40.94,2,     0.01,2,     2.95,2, -999.000,9, -999.000,9, -999.000,1,-999.0000,1,  -999.00,9,   -999.0,1,-999.000,9,   2319.0,2,   2364.0,2,     7.46,2,12031.7,-999.0000,-999.000,-999.000,  3.4455,-999.000
   318MWESTW_4,  P21E,    57,  1,     19, SI9319,2,19940414,1232,-16.7528, -90.0000, 4322,   1298.3,   3.2505,  34.5710,2,  34.5724,2,     91.7,2,     90.1,2,   100.92,2,    40.44,2,     0.01,2,     2.90,2, -999.000,9, -999.000,9,    0.000,2,   1.8814,2,    21.28,2,   -999.0,1,   7.987,2,   2321.0,2,   2373.0,2,     7.47,2,13008.7,  0.0094,   0.100,   0.040,  3.1567,   0.003
   318MWESTW_4,  P21E,    57,  1,     18, SI9318,2,19940414,1232,-16.7528, -90.0000, 4322,   1401.4,   3.0253,  34.5830,2,  34.5859,2,     97.0,2,     94.0,2,   106.73,2,    40.05,2,     0.01,2,     2.88,2, -999.000,9, -999.000,9, -999.000,1,-999.0000,1,  -999.00,9,   -999.0,1,-999.000,9,   2326.0,2,   2378.0,2,     7.47,2,14038.8,-999.0000,-999.000,-999.000,  2.9253,-999.000
   318MWESTW_4,  P21E,    57,  1,     17, SI9317,2,19940414,1232,-16.7528, -90.0000, 4322,   1502.2,   2.8082,  34.5979,2,  34.6005,2,    101.4,2,    100.2,2,   112.37,2,    39.67,2,     0.01,2,     2.85,2, -999.000,9, -999.000,9, -999.000,1,-999.0000,1,  -999.00,9,   -999.0,1,-999.000,9,   2329.0,2,   2386.0,2,     7.48,2,15046.0,-999.0000,-999.000,-999.000,  2.7023,-999.000
   318MWESTW_4,  P21E,    57,  1,     16, SI9316,2,19940414,1232,-16.7528, -90.0000, 4322,   1654.3,   2.5669,  34.6140,2,  34.6166,2,    106.0,2,    106.9,2,   118.54,2,    39.16,2,     0.01,2,     2.81,2, -999.000,9, -999.000,9,    0.004,2,   1.9052,2,    25.56,2,   -999.0,1,   8.049,2,   2330.0,2,   2394.0,2,     7.49,2,16565.3,  0.0095,   0.100,   0.040,  2.4514,   0.003
   318MWESTW_4,  P21E,    57,  1,     15, SI9315,2,19940414,1232,-16.7528, -90.0000, 4322,   1854.4,   2.3431,  34.6337,2,  34.6352,2,    111.9,2,    111.1,2,   125.94,2,    38.61,2,     0.01,2,     2.76,2, -999.000,9, -999.000,9, -999.000,1,-999.0000,1,  -999.00,9,   -999.0,1,-999.000,9,   2335.0,2,   2402.0,2,     7.50,2,18564.7,-999.0000,-999.000,-999.000,  2.2138,-999.000
   318MWESTW_4,  P21E,    57,  1,     14, SI9314,2,19940414,1232,-16.7528, -90.0000, 4322,   2003.3,   2.1897,  34.6429,2,  34.6431,2,    124.7,2,    123.2,2,   125.43,2,    37.77,2,     0.01,2,     2.68,2, -999.000,9, -999.000,9, -999.000,1,-999.0000,1,  -999.00,9,   -999.0,1,-999.000,9,   2328.0,2,   2403.0,2,     7.52,2,20051.4,-999.0000,-999.000,-999.000,  2.0501,-999.000
   318MWESTW_4,  P21E,    57,  1,     13, SI9313,2,19940414,1232,-16.7528, -90.0000, 4322,   2204.0,   2.0248,  34.6566,2,  34.6549,2,    133.6,2,    132.0,2,   127.55,2,    37.10,2,     0.01,2,     2.63,2, -999.000,9, -999.000,9, -999.000,1,-999.0000,1,  -999.00,9,   -999.0,1,-999.000,9,   2325.0,2,   2406.0,2,     7.54,2,22057.3,-999.0000,-999.000,-999.000,  1.8704,-999.000
   318MWESTW_4,  P21E,    57,  1,     12, SI9312,2,19940414,1232,-16.7528, -90.0000, 4322,   2399.2,   1.9172,  34.6653,2,  34.6655,2,    138.2,2,    137.9,2,   129.68,2,    36.72,2,     0.00,2,     2.58,2, -999.000,9, -999.000,9, -999.000,1,-999.0000,1,  -999.00,9,   -999.0,1,-999.000,9,   2325.0,2,   2411.0,2,     7.54,2,24007.3,-999.0000,-999.000,-999.000,  1.7475,-999.000
   318MWESTW_4,  P21E,    57,  1,     11, SI9311,2,19940414,1232,-16.7528, -90.0000, 4322,   2602.1,   1.8455,  34.6724,2,  34.6732,2,    141.9,2,    142.1,2,   130.74,2,    36.34,2,     0.00,2,     2.56,2, -999.000,9, -999.000,9, -999.000,1,-999.0000,1,  -999.00,9,   -999.0,1,-999.000,9,   2323.0,2,   2411.0,2,     7.57,2,26035.0,-999.0000,-999.000,-999.000,  1.6587,-999.000
   318MWESTW_4,  P21E,    57,  1,     10, SI9310,2,19940414,1232,-16.7528, -90.0000, 4322,   2798.3,   1.8004,  34.6774,2,  34.6783,2,    142.9,2,    143.1,2,   133.05,2,    36.33,2,     0.01,2,     2.56,2, -999.000,9, -999.000,9, -999.000,1,-999.0000,1,  -999.00,9,   -999.0,1,-999.000,9,   2325.0,2,   2417.0,2,     7.57,2,27994.9,-999.0000,-999.000,-999.000,  1.5963,-999.000
   318MWESTW_4,  P21E,    57,  1,      9, SI9309,2,19940414,1232,-16.7528, -90.0000, 4322,   3000.0,   1.7829,  34.6803,2,  34.6802,2,    142.3,2,    143.4,2,   134.99,2,    36.21,2,     0.01,2,     2.55,2, -999.000,9, -999.000,9, -999.000,1,-999.0000,1,  -999.00,9,   -999.0,1,-999.000,9,   2327.0,2,   2418.0,2,     7.57,2,30010.7,-999.0000,-999.000,-999.000,  1.5599,-999.000
   318MWESTW_4,  P21E,    57,  1,      8, SI9308,2,19940414,1232,-16.7528, -90.0000, 4322,   3202.6,   1.7750,  34.6823,2,  34.6842,2,    143.6,2,    143.7,2,   135.26,2,    36.21,2,     0.00,2,     2.55,2, -999.000,9, -999.000,9, -999.000,1,-999.0000,1,  -999.00,9,   -999.0,1,-999.000,9,   2330.0,2,   2423.0,2,     7.57,2,32035.5,-999.0000,-999.000,-999.000,  1.5322,-999.000
   318MWESTW_4,  P21E,    57,  1,      7, SI9307,2,19940414,1232,-16.7528, -90.0000, 4322,   3398.3,   1.7689,  34.6848,2,  34.6848,2,    144.7,2,    145.6,2,   134.32,2,    36.02,2,     0.00,2,     2.53,2, -999.000,9, -999.000,9, -999.000,1,-999.0000,1,  -999.00,9,   -999.0,1,-999.000,9,   2327.0,2,   2419.0,2,     7.57,2,33991.3,-999.0000,-999.000,-999.000,  1.5065,-999.000
   318MWESTW_4,  P21E,    57,  1,      6, SI9306,2,19940414,1232,-16.7528, -90.0000, 4322,   3602.0,   1.7616,  34.6872,2,  34.6871,2,    147.8,2,    148.4,2,   132.58,2,    35.84,2,     0.01,2,     2.50,2, -999.000,9, -999.000,9, -999.000,1,-999.0000,1,  -999.00,9,   -999.0,1,-999.000,9,   2324.0,2,   2420.0,2,     7.57,2,36027.0,-999.0000,-999.000,-999.000,  1.4782,-999.000
   318MWESTW_4,  P21E,    57,  1,      5, SI9305,2,19940414,1232,-16.7528, -90.0000, 4322,   3803.4,   1.7573,  34.6889,2,  34.6905,2,    150.2,2,    150.9,2,   131.45,2,    35.66,2,     0.01,2,     2.50,2, -999.000,9, -999.000,9, -999.000,1,-999.0000,1,  -999.00,9,   -999.0,1,-999.000,9,   2321.0,2,   2418.0,2,     7.58,2,38039.7,-999.0000,-999.000,-999.000,  1.4526,-999.000
   318MWESTW_4,  P21E,    57,  1,      4, SI9304,2,19940414,1232,-16.7528, -90.0000, 4322,   3991.0,   1.7664,  34.6892,2,  34.6901,2,    151.3,2,    152.1,2,   130.68,2,    35.61,2,     0.01,2,     2.49,2, -999.000,9, -999.000,9, -999.000,1,-999.0000,1,  -999.00,9,   -999.0,1,-999.000,9,   2321.0,2,   2413.0,2,     7.57,2,39915.0,-999.0000,-999.000,-999.000,  1.4410,-999.000
   318MWESTW_4,  P21E,    57,  1,      3, SI9303,2,19940414,1232,-16.7528, -90.0000, 4322,   4198.2,   1.7796,  34.6903,2,  34.6901,2,    152.4,2,    152.4,2,   130.17,2,    35.61,2,     0.01,2,     2.49,2, -999.000,9, -999.000,9, -999.000,1,-999.0000,1,  -999.00,9,   -999.0,1,-999.000,9,   2320.0,2,   2414.0,2,     7.58,2,41986.7,-999.0000,-999.000,-999.000,  1.4306,-999.000
   318MWESTW_4,  P21E,    57,  1,      2, SI9302,2,19940414,1232,-16.7528, -90.0000, 4322,   4330.8,   1.7944,  34.6901,2,  34.6901,2,    152.1,2,    152.8,2,   130.19,2,    35.54,2,     0.02,2,     2.49,2, -999.000,9, -999.000,9, -999.000,1,-999.0000,1,  -999.00,9,   -999.0,1,-999.000,9,   2321.0,2,   2415.0,2,     7.57,2,43311.6,-999.0000,-999.000,-999.000,  1.4299,-999.000
   318MWESTW_4,  P21E,    57,  1,      1, SI9301,2,19940414,1232,-16.7528, -90.0000, 4322,   4369.5,   1.7989,  34.6904,2,  34.6905,2,    152.1,2,    152.7,2,   130.13,2,    35.64,2,     0.01,2,     2.49,2, -999.000,9, -999.000,9, -999.000,1,-999.0000,1,  -999.00,9,   -999.0,1,-999.000,9,   2321.0,2,   2414.0,2,     7.58,2,43698.6,-999.0000,-999.000,-999.000,  1.4298,-999.000