BOTTLE,20010911WHPSIOdm
EXPOCODE,SECT_ID,STNNBR,CASTNO,SAMPNO,BTLNBR,BTLNBR_FLAG_W,DATE,TIME,LATITUDE,LONGITUDE,DEPTH,CTDPRS,CTDTMP,CTDSAL,CTDSAL_FLAG_W,SALNTY,SALNTY_FLAG_W,CTDOXY,CTDOXY_FLAG_W,OXYGEN,OXYGEN_FLAG_W,SILCAT,SILCAT_FLAG_W,NITRAT,NITRAT_FLAG_W,NITRIT,NITRIT_FLAG_W,PHSPHT,PHSPHT_FLAG_W,CFC-11,CFC-11_FLAG_W,CFC-12,CFC-12_FLAG_W,TRITUM,TRITUM_FLAG_W,HELIUM,HELIUM_FLAG_W,DELHE3,DELHE3_FLAG_W,DELC14,DELC14_FLAG_W,NEON,NEON_FLAG_W,TCARBN,TCARBN_FLAG_W,ALKALI,ALKALI_FLAG_W,PH,PH_FLAG_W,CTDRAW,HELIER,DELHER,NEONER,THETA,TRITER
,,,,,,,,,,,,DBAR,ITS-90,PSS-78,,PSS-78,,UMOL/KG,,UMOL/KG,,UMOL/KG,,UMOL/KG,,UMOL/KG,,UMOL/KG,,PMOL/KG,,PMOL/KG,,TU,,UMOL/KG,,PERCNT,,/MILLE,,NMOL/KG,,UMOL/KG,,UMOL/KG,,,,,NMOL/KG,PERCNT,NMOL/KG,ITS-90,TU
   318MWESTW_5,  P21W,   235,  1,     24, SI9434,2,19940609,2130,-17.8333, 169.8333, 2150,      5.3,  25.1706,  35.1073,2,  35.1073,2,    209.1,2,    209.1,2,     0.63,2,     0.00,2,     0.00,2,     0.12,2,    1.784,2,    0.976,2, -999.000,1,-999.0000,1,  -999.00,9,   -999.0,1,-999.000,9,   1954.5,2,   2302.5,2,     8.11,2,  112.1,-999.0000,-999.000,-999.000, 25.1694,-999.000
   318MWESTW_5,  P21W,   235,  1,     23, SI9423,2,19940609,2130,-17.8333, 169.8333, 2150,     25.7,  25.1659,  35.1080,2,  35.1061,2,    210.0,2,    215.9,2,     0.65,2,     0.00,2,     0.00,2,     0.12,2, -999.000,9, -999.000,9, -999.000,1,-999.0000,1,  -999.00,9,   -999.0,1,-999.000,9,   1953.7,2,   2309.0,2,     8.10,2,  316.2,-999.0000,-999.000,-999.000, 25.1603,-999.000
   318MWESTW_5,  P21W,   235,  1,     22, SI9418,2,19940609,2130,-17.8333, 169.8333, 2150,     45.2,  25.1586,  35.1082,2,  35.1077,2,    210.3,2,    215.2,2,     0.67,2,     0.00,2,     0.00,2,     0.13,2,    1.790,2,    0.989,2, -999.000,1,-999.0000,1,  -999.00,9,   -999.0,1,-999.000,9,   1952.8,2,   2304.0,2,     8.11,2,  510.8,-999.0000,-999.000,-999.000, 25.1488,-999.000
   318MWESTW_5,  P21W,   235,  1,     21, SI9421,2,19940609,2130,-17.8333, 169.8333, 2150,     96.6,  24.5074,  35.6860,2,  35.6826,2,    206.6,4,    181.4,2,     0.85,2,     1.92,2,     0.07,2,     0.36,2,    1.804,2,    0.974,2, -999.000,1,-999.0000,1,  -999.00,9,   -999.0,1,-999.000,9,   2024.7,2,   2343.8,2,     8.04,2, 1022.0,-999.0000,-999.000,-999.000, 24.4867,-999.000
   318MWESTW_5,  P21W,   235,  1,     20, SI9420,2,19940609,2130,-17.8333, 169.8333, 2150,    145.3,  22.5154,  35.8152,2,  35.8098,2,    176.4,2,    169.5,2,     0.87,2,     3.52,2,     0.02,2,     0.43,2,    1.890,2,    1.014,2, -999.000,1,-999.0000,1,  -999.00,9,   -999.0,1,-999.000,9,   2052.4,2,   2346.9,2,     8.01,2, 1506.7,-999.0000,-999.000,-999.000, 22.4861,-999.000
   318MWESTW_5,  P21W,   235,  1,     19, SI9419,2,19940609,2130,-17.8333, 169.8333, 2150,    197.6,  20.4792,  35.7345,2,  35.7323,2,    176.2,2,    177.4,2,     1.18,2,     4.44,2,     0.00,2,     0.45,2,    1.926,2,    1.020,2, -999.000,1,-999.0000,1,  -999.00,9,   -999.0,1,-999.000,9,   2062.8,2,   2342.8,2,     7.98,2, 2027.9,-999.0000,-999.000,-999.000, 20.4419,-999.000
   318MWESTW_5,  P21W,   235,  1,     18, SI9439,2,19940609,2130,-17.8333, 169.8333, 2150,    247.3,  18.9603,  35.6345,2,  35.6295,2,    168.5,2,    165.1,2,     1.93,2,     6.57,2,     0.00,2,     0.63,2,    1.782,2,    0.928,2, -999.000,1,-999.0000,1,  -999.00,9,   -999.0,1,-999.000,9,   2089.4,2,   2338.4,2,     7.93,2, 2523.1,-999.0000,-999.000,-999.000, 18.9160,-999.000
   318MWESTW_5,  P21W,   235,  1,     17, SI9417,2,19940609,2130,-17.8333, 169.8333, 2150,    297.8,  17.1261,  35.4652,2,  35.4634,2,    172.0,2,    176.3,2,     2.54,2,     7.72,2,     0.00,2,     0.68,2,    1.750,2,    0.908,2, -999.000,1,-999.0000,1,  -999.00,9,   -999.0,1,-999.000,9,   2093.8,2,   2328.9,2,     7.90,2, 3025.7,-999.0000,-999.000,-999.000, 17.0764,-999.000
   318MWESTW_5,  P21W,   235,  1,     16, SI9416,2,19940609,2130,-17.8333, 169.8333, 2150,    348.4,  14.6090,  35.2204,2,  35.2158,2,    176.5,2,    175.3,2,     3.86,2,    10.89,2,     0.00,2,     0.89,2,    1.549,2,    0.798,2, -999.000,1,-999.0000,1,  -999.00,9,   -999.0,1,-999.000,9,   2106.2,2,   2312.9,2,     7.85,2, 3528.8,-999.0000,-999.000,-999.000, 14.5568,-999.000
   318MWESTW_5,  P21W,   235,  1,     15, SI9415,2,19940609,2130,-17.8333, 169.8333, 2150,    400.6,  12.7223,  35.0058,2,  35.0028,2,    176.7,2,    176.1,2,     5.63,2,    14.26,2,     0.00,2,     1.09,2, -999.000,9, -999.000,9, -999.000,1,-999.0000,1,  -999.00,9,   -999.0,1,-999.000,9,   2118.0,2,   2305.1,2,     7.80,2, 4048.1,-999.0000,-999.000,-999.000, 12.6676,-999.000
   318MWESTW_5,  P21W,   235,  1,     14, SI9436,2,19940609,2130,-17.8333, 169.8333, 2150,    449.6,  10.0111,  34.7251,2,  34.7203,2,    185.2,2,    191.2,4,     8.11,2,    18.94,2,     0.00,2,     1.38,2,    0.914,2,    0.468,2, -999.000,1,-999.0000,1,  -999.00,9,   -999.0,1,-999.000,9,   2135.3,2,   2294.2,2,     7.74,2, 4535.9,-999.0000,-999.000,-999.000,  9.9584,-999.000
   318MWESTW_5,  P21W,   235,  1,     13, SI9413,2,19940609,2130,-17.8333, 169.8333, 2150,    495.3,   8.8319,  34.6003,2,  34.6009,2,    188.4,2,    187.8,2,    10.30,2,    21.40,2,     0.00,2,     1.52,2, -999.000,9, -999.000,9, -999.000,1,-999.0000,1,  -999.00,9,   -999.0,1,-999.000,9,   2146.1,2,   2288.0,2,     7.71,2, 4990.4,-999.0000,-999.000,-999.000,  8.7781,-999.000
   318MWESTW_5,  P21W,   235,  1,     12, SI9438,2,19940609,2130,-17.8333, 169.8333, 2150,    597.7,   7.0916,  34.4572,2,  34.4557,2,    193.4,2,    193.5,2,    15.53,2,    25.22,2,     0.00,2,     1.76,2,    0.398,2,    0.214,2, -999.000,1,-999.0000,1,  -999.00,9,   -999.0,1,-999.000,9,   2160.8,2,   2289.0,2,     7.67,2, 6007.7,-999.0000,-999.000,-999.000,  7.0341,-999.000
   318MWESTW_5,  P21W,   235,  1,     11, SI9411,2,19940609,2130,-17.8333, 169.8333, 2150,    701.0,   5.8489,  34.4061,2,  34.4035,2,    187.6,2,    188.0,2,    25.75,2,    28.52,2,     0.00,2,     1.98,2, -999.000,9, -999.000,9, -999.000,1,-999.0000,1,  -999.00,9,   -999.0,1,-999.000,9,   2180.1,2,   2295.6,2,     7.63,2, 7035.7,-999.0000,-999.000,-999.000,  5.7876,-999.000
   318MWESTW_5,  P21W,   235,  1,     10, SI9412,2,19940609,2130,-17.8333, 169.8333, 2150,    798.4,   5.1770,  34.4110,2,  34.4102,2,    181.1,2,    177.9,2,    35.89,2,    30.58,2,     0.00,2,     2.12,2,    0.079,2,    0.045,2, -999.000,1,-999.0000,1,  -999.00,9,   -999.0,1,-999.000,9,   2201.7,2,   2305.1,2,     7.61,2, 8003.8,-999.0000,-999.000,-999.000,  5.1107,-999.000
   318MWESTW_5,  P21W,   235,  1,      9, SI9410,2,19940609,2130,-17.8333, 169.8333, 2150,    900.9,   4.5381,  34.4393,2,  34.4383,2,    171.2,2,    172.5,2,    49.29,2,    32.41,2,     0.00,2,     2.27,2, -999.000,9, -999.000,9, -999.000,1,-999.0000,1,  -999.00,9,   -999.0,1,-999.000,9,   -999.0,9,   -999.0,9,  -999.00,9, 9023.1,-999.0000,-999.000,-999.000,  4.4670,-999.000
   318MWESTW_5,  P21W,   235,  1,      8, SI9422,2,19940609,2130,-17.8333, 169.8333, 2150,    999.1,   4.0967,  34.4705,2,  34.4689,2,    163.1,2,    166.2,2,    60.58,2,    33.28,2,     0.00,2,     2.34,2,    0.016,2,    0.009,2, -999.000,1,-999.0000,1,  -999.00,9,   -999.0,1,-999.000,9,   2246.5,2,   2330.9,2,     7.57,2, 9999.0,-999.0000,-999.000,-999.000,  4.0204,-999.000
   318MWESTW_5,  P21W,   235,  1,      7, SI9407,2,19940609,2130,-17.8333, 169.8333, 2150,   1098.3,   3.8713,  34.4913,2,  34.4895,2,    159.1,2,    158.6,2,    67.69,2,    33.64,2,     0.00,2,     2.36,2, -999.000,9, -999.000,9, -999.000,1,-999.0000,1,  -999.00,9,   -999.0,1,-999.000,9,   2245.3,2,   2339.1,2,     7.57,2,10985.3,-999.0000,-999.000,-999.000,  3.7885,-999.000
   318MWESTW_5,  P21W,   235,  1,      6, SI9427,2,19940609,2130,-17.8333, 169.8333, 2150,   1300.3,   3.2716,  34.5407,2,  34.5382,2,    154.5,2,    162.5,4,    84.16,2,    34.46,2,     0.00,2,     2.40,2,    0.002,2,    0.001,2, -999.000,1,-999.0000,1,  -999.00,9,   -999.0,1,-999.000,9,   2262.9,2,   2358.4,2,     7.56,2,12993.4,-999.0000,-999.000,-999.000,  3.1775,-999.000
   318MWESTW_5,  P21W,   235,  1,      5, SI9405,2,19940609,2130,-17.8333, 169.8333, 2150,   1490.0,   2.8415,  34.5796,2,  34.5783,2,    149.7,2,    149.4,2,    98.63,2,    35.15,2,     0.00,2,     2.45,2, -999.000,9, -999.000,9, -999.000,1,-999.0000,1,  -999.00,9,   -999.0,1,-999.000,9,   2283.0,2,   2372.9,2,     7.55,2,14879.4,-999.0000,-999.000,-999.000,  2.7363,-999.000
   318MWESTW_5,  P21W,   235,  1,      4, SI9404,2,19940609,2130,-17.8333, 169.8333, 2150,   1692.8,   2.5759,  34.6032,2,  34.6014,2,    149.1,2,    147.5,2,   106.73,2,    35.47,2,     0.00,2,     2.47,2, -999.000,9, -999.000,9, -999.000,1,-999.0000,1,  -999.00,9,   -999.0,1,-999.000,9,   2296.2,2,   2383.8,2,     7.55,2,16895.0,-999.0000,-999.000,-999.000,  2.4571,-999.000
   318MWESTW_5,  P21W,   235,  1,      3, SI9403,2,19940609,2130,-17.8333, 169.8333, 2150,   1892.2,   2.3876,  34.6203,2,  34.6189,2,    148.0,2,    151.9,4,   112.52,2,    35.66,2,     0.00,2,     2.49,2, -999.000,9, -999.000,9, -999.000,1,-999.0000,1,  -999.00,9,   -999.0,1,-999.000,9,   2299.1,2,   2388.1,2,     7.55,2,18877.7,-999.0000,-999.000,-999.000,  2.2546,-999.000
   318MWESTW_5,  P21W,   235,  1,      2, SI9437,2,19940609,2130,-17.8333, 169.8333, 2150,   2092.1,   2.1824,  34.6375,2,  34.6354,2,    147.3,2,    150.8,4,   119.74,2,    35.88,2,     0.00,2,     2.49,2, -999.000,9, -999.000,9, -999.000,1,-999.0000,1,  -999.00,9,   -999.0,1,-999.000,9,   2313.4,2,   2395.8,2,     7.55,2,20864.0,-999.0000,-999.000,-999.000,  2.0353,-999.000
   318MWESTW_5,  P21W,   235,  1,      1, SI9401,2,19940609,2130,-17.8333, 169.8333, 2150,   2130.1,   2.1823,  34.6375,2,  34.6335,2,    147.5,2,    147.8,2,   120.11,2,    35.74,2,     0.00,2,     2.50,2,    0.000,2,   -0.001,2, -999.000,1,-999.0000,1,  -999.00,9,   -999.0,1,-999.000,9,   2308.2,2,   2397.4,2,     7.55,2,21242.1,-999.0000,-999.000,-999.000,  2.0319,-999.000