BOTTLE,20010911WHPSIOdm
EXPOCODE,SECT_ID,STNNBR,CASTNO,SAMPNO,BTLNBR,BTLNBR_FLAG_W,DATE,TIME,LATITUDE,LONGITUDE,DEPTH,CTDPRS,CTDTMP,CTDSAL,CTDSAL_FLAG_W,SALNTY,SALNTY_FLAG_W,CTDOXY,CTDOXY_FLAG_W,OXYGEN,OXYGEN_FLAG_W,SILCAT,SILCAT_FLAG_W,NITRAT,NITRAT_FLAG_W,NITRIT,NITRIT_FLAG_W,PHSPHT,PHSPHT_FLAG_W,CFC-11,CFC-11_FLAG_W,CFC-12,CFC-12_FLAG_W,TRITUM,TRITUM_FLAG_W,HELIUM,HELIUM_FLAG_W,DELHE3,DELHE3_FLAG_W,DELC14,DELC14_FLAG_W,NEON,NEON_FLAG_W,TCARBN,TCARBN_FLAG_W,ALKALI,ALKALI_FLAG_W,PH,PH_FLAG_W,CTDRAW,HELIER,DELHER,NEONER,THETA,TRITER
,,,,,,,,,,,,DBAR,ITS-90,PSS-78,,PSS-78,,UMOL/KG,,UMOL/KG,,UMOL/KG,,UMOL/KG,,UMOL/KG,,UMOL/KG,,PMOL/KG,,PMOL/KG,,TU,,UMOL/KG,,PERCNT,,/MILLE,,NMOL/KG,,UMOL/KG,,UMOL/KG,,,,,NMOL/KG,PERCNT,NMOL/KG,ITS-90,TU
   318MWESTW_4,  P21E,    39,  1,     18, SI9318,2,19940407,1850,-16.7500, -85.3362, 4579,      9.3,  23.0828,  35.6956,2,  35.6830,2,    209.8,2,    216.2,2,     0.54,2,     0.04,2,     0.01,2,     0.54,2,    2.003,2,    1.077,2, -999.000,1,-999.0000,1,  -999.00,9,   -999.0,1,-999.000,9,   2049.8,2,   2366.0,2,     8.04,2,  139.1,-999.0000,-999.000,-999.000, 23.0809,-999.000
   318MWESTW_4,  P21E,    39,  1,     17, SI9317,2,19940407,1850,-16.7500, -85.3362, 4579,     25.6,  23.0264,  35.6960,2,  35.6808,2,    217.0,2,    217.1,2,     0.72,2,     0.10,2,     0.01,2,     0.54,2,    1.995,2,    1.086,2, -999.000,1,-999.0000,1,  -999.00,9,   -999.0,1,-999.000,9,   2048.8,2,   2368.0,2,     8.04,2,  302.5,-999.0000,-999.000,-999.000, 23.0212,-999.000
   318MWESTW_4,  P21E,    39,  1,     16, SI9316,2,19940407,1850,-16.7500, -85.3362, 4579,     48.7,  22.5812,  35.6501,2,  35.6459,2,    223.7,2,    220.0,2,     0.91,2,     0.18,2,     0.00,2,     0.55,2,    2.092,2,    1.125,2, -999.000,1,-999.0000,1,  -999.00,9,   -999.0,1,-999.000,9,   2051.8,2,   2365.0,2,     8.03,2,  533.4,-999.0000,-999.000,-999.000, 22.5714,-999.000
   318MWESTW_4,  P21E,    39,  1,     15, SI9315,3,19940407,1850,-16.7500, -85.3362, 4579,     99.6,  18.6651,  35.4557,2,  35.4778,2,    215.1,2,    211.9,2,     1.63,2,     3.69,2,     1.17,2,     0.78,2,    2.478,2,    1.292,2, -999.000,1,-999.0000,1,  -999.00,9,   -999.0,1,-999.000,9,   2088.8,2,   2346.0,2,     7.94,2, 1041.8,-999.0000,-999.000,-999.000, 18.6475,-999.000
   318MWESTW_4,  P21E,    39,  1,     14, SI9314,2,19940407,1850,-16.7500, -85.3362, 4579,    148.5,  15.7399,  34.9381,2,  34.9839,2,    181.8,2,    167.9,2,     4.16,2,    11.38,2,     0.02,2,     1.21,2,    2.402,2,    1.199,2, -999.000,1,-999.0000,1,  -999.00,9,   -999.0,1,-999.000,9,   2119.8,2,   2310.0,2,     7.81,2, 1530.6,-999.0000,-999.000,-999.000, 15.7167,-999.000
   318MWESTW_4,  P21E,    39,  1,     13, SI9313,2,19940407,1850,-16.7500, -85.3362, 4579,    200.3,  12.0415,  34.6084,2,  34.5382,2,     87.3,2,    103.5,2,    11.21,2,    18.77,2,     0.01,2,     1.89,2,    1.506,2,    0.699,2, -999.000,1,-999.0000,1,  -999.00,9,   -999.0,1,-999.000,9,   2175.9,2,   2285.0,2,     7.63,2, 2048.1,-999.0000,-999.000,-999.000, 12.0154,-999.000
   318MWESTW_4,  P21E,    39,  1,     12, SI9312,2,19940407,1850,-16.7500, -85.3362, 4579,    250.2,  11.1964,  34.7265,2,  34.7142,2,     12.6,2,     10.1,2,    24.75,2,    26.08,2,     0.02,2,     2.71,2,    0.287,2,    0.137,2, -999.000,1,-999.0000,1,  -999.00,9,   -999.0,1,-999.000,9,   2263.9,2,   2298.0,2,     7.43,2, 2546.6,-999.0000,-999.000,-999.000, 11.1652,-999.000
   318MWESTW_4,  P21E,    39,  1,     11, SI9311,2,19940407,1850,-16.7500, -85.3362, 4579,    298.9,  10.2699,  34.6666,2,  34.6753,2,      9.7,2,      8.9,2,    26.56,2,    31.11,2,     0.01,2,     2.77,2,    0.140,2,    0.060,2, -999.000,1,-999.0000,1,  -999.00,9,   -999.0,1,-999.000,9,   2269.0,2,   2299.0,2,     7.41,2, 3033.0,-999.0000,-999.000,-999.000, 10.2346,-999.000
   318MWESTW_4,  P21E,    39,  1,     10, SI9310,2,19940407,1850,-16.7500, -85.3362, 4579,    399.6,   8.5545,  34.6086,2,  34.6007,2,     13.2,2,     16.0,2,    30.90,2,    38.14,2,     0.02,2,     2.86,2,    0.032,2,    0.010,2, -999.000,1,-999.0000,1,  -999.00,9,   -999.0,1,-999.000,9,   2275.0,2,   2300.0,2,     7.40,2, 4038.7,-999.0000,-999.000,-999.000,  8.5121,-999.000
   318MWESTW_4,  P21E,    39,  1,      9, SI9309,2,19940407,1850,-16.7500, -85.3362, 4579,    499.7,   7.4677,  34.5528,2,  34.5563,2,     27.2,2,     25.6,2,    36.68,2,    41.03,2,     0.04,2,     2.96,2, -999.000,5, -999.000,5, -999.000,1,-999.0000,1,  -999.00,9,   -999.0,1,-999.000,9,   2278.0,2,   2304.0,2,     7.40,2, 5038.5,-999.0000,-999.000,-999.000,  7.4185,-999.000
   318MWESTW_4,  P21E,    39,  1,      8, SI9308,2,19940407,1850,-16.7500, -85.3362, 4579,    600.2,   6.5017,  34.5209,2,  34.5211,2,     34.5,2,     33.2,2,    43.36,2,    42.95,2,     0.02,2,     3.06,2,    0.007,2,   -0.004,2, -999.000,1,-999.0000,1,  -999.00,9,   -999.0,1,-999.000,9,   2284.0,2,   2309.0,2,     7.39,2, 6042.4,-999.0000,-999.000,-999.000,  6.4465,-999.000
   318MWESTW_4,  P21E,    39,  1,      7, SI9307,2,19940407,1850,-16.7500, -85.3362, 4579,    699.4,   5.8388,  34.5075,2,  34.5068,2,     34.9,2,     34.6,2,    51.66,2,    44.19,2,     0.02,2,     3.15,2,    0.000,2,   -0.004,2, -999.000,1,-999.0000,1,  -999.00,9,   -999.0,1,-999.000,9,   2295.0,2,   2318.0,2,     7.38,2, 7033.8,-999.0000,-999.000,-999.000,  5.7776,-999.000
   318MWESTW_4,  P21E,    39,  1,      6, SI9306,2,19940407,1850,-16.7500, -85.3362, 4579,    799.4,   5.1890,  34.5049,2,  34.5056,2,     40.5,2,     42.6,2,    61.42,2,    44.34,2,     0.03,2,     3.18,2, -999.000,9, -999.000,9, -999.000,1,-999.0000,1,  -999.00,9,   -999.0,1,-999.000,9,   2301.0,2,   2324.0,2,     7.39,2, 8032.8,-999.0000,-999.000,-999.000,  5.1224,-999.000
   318MWESTW_4,  P21E,    39,  1,      5, SI9305,2,19940407,1850,-16.7500, -85.3362, 4579,    900.3,   4.6867,  34.5127,2,  34.5133,2,     48.3,2,     53.3,2,    70.44,2,    43.40,2,     0.03,2,     3.15,2,   -0.001,2,   -0.005,2, -999.000,1,-999.0000,1,  -999.00,9,   -999.0,1,-999.000,9,   2306.0,2,   2337.0,2,     7.41,2, 9040.5,-999.0000,-999.000,-999.000,  4.6145,-999.000
   318MWESTW_4,  P21E,    39,  1,      4, SI9304,2,19940407,1850,-16.7500, -85.3362, 4579,    999.0,   4.2783,  34.5258,2,  34.5286,2,     59.0,2,     60.7,2,    80.19,2,    42.75,2,     0.01,2,     3.13,2,    0.004,2,   -0.005,2, -999.000,1,-999.0000,1,  -999.00,9,   -999.0,1,-999.000,9,   2313.0,2,   2346.0,2,     7.42,2,10026.4,-999.0000,-999.000,-999.000,  4.2005,-999.000
   318MWESTW_4,  P21E,    39,  1,      3, SI9303,2,19940407,1850,-16.7500, -85.3362, 4579,   1101.3,   3.9400,  34.5403,2,  34.5411,2,     68.3,2,     70.0,2,    87.22,2,    41.92,2,     0.01,2,     3.07,2,   -0.003,2,   -0.004,2, -999.000,1,-999.0000,1,  -999.00,9,   -999.0,1,-999.000,9,   2316.0,2,   2356.0,2,     7.43,2,11048.4,-999.0000,-999.000,-999.000,  3.8563,-999.000
   318MWESTW_4,  P21E,    39,  1,      2, SI9302,2,19940407,1850,-16.7500, -85.3362, 4579,   1198.9,   3.6412,  34.5525,2,  34.5529,2,     77.5,2,     77.6,2,    93.54,2,    41.38,2,     0.00,2,     3.03,2,   -0.003,2,   -0.005,2, -999.000,1,-999.0000,1,  -999.00,9,   -999.0,1,-999.000,9,   2319.0,2,   2361.0,2,     7.45,2,12023.0,-999.0000,-999.000,-999.000,  3.5519,-999.000
   318MWESTW_4,  P21E,    39,  1,      1, SI9301,2,19940407,1850,-16.7500, -85.3362, 4579,   1299.5,   3.3445,  34.5676,2,  34.5692,2,     81.4,2,     82.2,2,   101.30,2,    41.08,2,     0.02,2,     3.00,2,   -0.001,2,   -0.005,2, -999.000,1,-999.0000,1,  -999.00,9,   -999.0,1,-999.000,9,   2324.0,2,   2373.0,2,     7.46,2,13028.1,-999.0000,-999.000,-999.000,  3.2497,-999.000
   318MWESTW_4,  P21E,    39,  1,     36, SI9336,2,19940407,1850,-16.7500, -85.3362, 4579,   1398.7,   3.1300,  34.5820,2,  34.5828,2,     87.7,2,     86.3,2,   106.89,2,    40.86,2,     0.02,2,     2.98,2,   -0.002,2,   -0.004,2, -999.000,1,-999.0000,1,  -999.00,9,   -999.0,1,-999.000,9,   2328.0,2,   2378.0,2,     7.46,2,14018.6,-999.0000,-999.000,-999.000,  3.0291,-999.000
   318MWESTW_4,  P21E,    39,  1,     35, SI9335,2,19940407,1850,-16.7500, -85.3362, 4579,   1498.9,   2.8912,  34.5934,2,  34.5954,2,     93.9,2,     94.9,2,   111.58,2,    40.36,2,     0.02,2,     2.91,2,   -0.001,2,   -0.004,2, -999.000,1,-999.0000,1,  -999.00,9,   -999.0,1,-999.000,9,   2327.0,2,   2385.0,2,     7.48,2,15020.1,-999.0000,-999.000,-999.000,  2.7847,-999.000
   318MWESTW_4,  P21E,    39,  1,     34, SI9334,2,19940407,1850,-16.7500, -85.3362, 4579,   1597.4,   2.7160,  34.6049,2,  34.6138,4,     97.9,2,     99.0,2,   116.26,2,    40.09,2,     0.02,2,     2.88,2,    0.000,2,   -0.003,2, -999.000,1,-999.0000,1,  -999.00,9,   -999.0,1,-999.000,9,   2331.0,2,   2388.0,2,     7.49,2,16004.2,-999.0000,-999.000,-999.000,  2.6034,-999.000
   318MWESTW_4,  P21E,    39,  1,     33, SI9333,2,19940407,1850,-16.7500, -85.3362, 4579,   1749.3,   2.4913,  34.6211,2,  34.6242,2,    102.5,2,    104.5,2,   123.11,2,    39.48,2,     0.02,2,     2.85,2,    0.000,2,   -0.004,2, -999.000,1,-999.0000,1,  -999.00,9,   -999.0,1,-999.000,9,   2335.0,2,   2399.0,2,     7.50,2,17521.6,-999.0000,-999.000,-999.000,  2.3689,-999.000
   318MWESTW_4,  P21E,    39,  1,     32, SI9332,2,19940407,1850,-16.7500, -85.3362, 4579,   1901.0,   2.2992,  34.6357,2,  34.6376,2,    113.3,2,    111.5,2,   127.80,2,    38.76,2,     0.02,2,     2.81,2,   -0.001,2,   -0.004,2, -999.000,1,-999.0000,1,  -999.00,9,   -999.0,1,-999.000,9,   2336.0,2,   2403.0,2,     7.51,2,19036.4,-999.0000,-999.000,-999.000,  2.1666,-999.000
   318MWESTW_4,  P21E,    39,  1,     31, SI9331,2,19940407,1850,-16.7500, -85.3362, 4579,   2047.3,   2.1771,  34.6459,2,  34.6458,2,    118.3,2,    118.1,2,   129.42,2,    37.93,2,     0.01,2,     2.76,2,    0.000,2,   -0.003,2, -999.000,1,-999.0000,1,  -999.00,9,   -999.0,1,-999.000,9,   2334.0,2,   2407.0,2,     7.52,2,20498.8,-999.0000,-999.000,-999.000,  2.0339,-999.000
   318MWESTW_4,  P21E,    39,  1,     30, SI9330,2,19940407,1850,-16.7500, -85.3362, 4579,   2196.4,   2.0452,  34.6547,2,  34.6549,2,    130.4,2,    129.1,2,   128.51,2,    37.07,2,    -0.01,2,     2.68,2,   -0.002,2,   -0.003,2, -999.000,1,-999.0000,1,  -999.00,9,   -999.0,1,-999.000,9,   2327.0,2,   2405.0,2,     7.54,2,21987.7,-999.0000,-999.000,-999.000,  1.8912,-999.000
   318MWESTW_4,  P21E,    39,  1,     29, SI9329,2,19940407,1850,-16.7500, -85.3362, 4579,   2346.3,   1.9271,  34.6640,2,  34.6639,2,    138.3,2,    136.6,2,   129.24,2,    36.44,2,     0.01,2,     2.62,2,   -0.002,2,   -0.003,2, -999.000,1,-999.0000,1,  -999.00,9,   -999.0,1,-999.000,9,   2325.0,2,   2408.0,2,     7.55,2,23486.2,-999.0000,-999.000,-999.000,  1.7619,-999.000
   318MWESTW_4,  P21E,    39,  1,     28, SI9328,2,19940407,1850,-16.7500, -85.3362, 4579,   2599.2,   1.8372,  34.6732,2,  34.6741,2,    139.8,2,    139.2,2,   132.66,2,    36.27,2,     0.02,2,     2.61,2,   -0.002,2,   -0.003,2, -999.000,1,-999.0000,1,  -999.00,9,   -999.0,1,-999.000,9,   2326.0,2,   2414.0,2,     7.56,2,26012.6,-999.0000,-999.000,-999.000,  1.6509,-999.000
   318MWESTW_4,  P21E,    39,  1,     27, SI9327,2,19940407,1850,-16.7500, -85.3362, 4579,   2848.1,   1.7953,  34.6778,2,  34.6783,2,    136.9,2,    137.0,2,   138.25,2,    36.66,2,     0.02,2,     2.61,2,   -0.003,2,   -0.003,2, -999.000,1,-999.0000,1,  -999.00,9,   -999.0,1,-999.000,9,   2335.0,2,   2423.0,2,     7.56,2,28500.1,-999.0000,-999.000,-999.000,  1.5866,-999.000
   318MWESTW_4,  P21E,    39,  1,     26, SI9326,2,19940407,1850,-16.7500, -85.3362, 4579,   3097.2,   1.7857,  34.6804,2,  34.6804,2,    138.2,2,    138.4,2,   138.78,2,    36.78,2,     0.02,2,     2.61,2,   -0.003,2,    0.001,2, -999.000,1,-999.0000,1,  -999.00,9,   -999.0,1,-999.000,9,   2335.0,2,   2424.0,2,     7.57,2,30989.3,-999.0000,-999.000,-999.000,  1.5531,-999.000
   318MWESTW_4,  P21E,    39,  1,     25, SI9325,2,19940407,1850,-16.7500, -85.3362, 4579,   3348.8,   1.7866,  34.6833,2,  34.6828,2,    140.5,2,    140.7,2,   137.69,2,    36.68,2,     0.01,2,     2.60,2,   -0.004,2,   -0.003,2, -999.000,1,-999.0000,1,  -999.00,9,   -999.0,1,-999.000,9,   2334.0,2,   2425.0,2,     7.57,2,33503.3,-999.0000,-999.000,-999.000,  1.5288,-999.000
   318MWESTW_4,  P21E,    39,  1,     24, SI9324,2,19940407,1850,-16.7500, -85.3362, 4579,   3596.5,   1.7760,  34.6857,2,  34.6863,2,    145.1,2,    145.0,2,   135.17,2,    36.41,2,     0.01,2,     2.57,2,   -0.004,2,   -0.004,2, -999.000,1,-999.0000,1,  -999.00,9,   -999.0,1,-999.000,9,   2329.0,2,   2420.0,2,     7.57,2,35979.0,-999.0000,-999.000,-999.000,  1.4928,-999.000
   318MWESTW_4,  P21E,    39,  1,     23, SI9323,2,19940407,1850,-16.7500, -85.3362, 4579,   3842.1,   1.7654,  34.6886,2,  34.6875,2,    150.8,2,    151.2,2,   131.19,2,    35.91,2,     0.01,2,     2.53,2,   -0.004,2,   -0.004,2, -999.000,1,-999.0000,1,  -999.00,9,   -999.0,1,-999.000,9,   2321.0,2,   2415.0,2,     7.58,2,38434.3,-999.0000,-999.000,-999.000,  1.4563,-999.000
   318MWESTW_4,  P21E,    39,  1,     22, SI9322,2,19940407,1850,-16.7500, -85.3362, 4579,   4096.2,   1.7678,  34.6905,2,  34.6906,2,    154.1,2,    153.7,2,   129.39,2,    35.53,2,     0.01,2,     2.51,2,   -0.002,2,   -0.002,2, -999.000,1,-999.0000,1,  -999.00,9,   -999.0,1,-999.000,9,   2319.0,2,   2412.0,2,     7.58,2,40973.6,-999.0000,-999.000,-999.000,  1.4306,-999.000
   318MWESTW_4,  P21E,    39,  1,     21, SI9321,2,19940407,1850,-16.7500, -85.3362, 4579,   4345.3,   1.7829,  34.6910,2,  34.6897,2,    154.2,2,    154.2,2,   129.38,2,    35.31,2,     0.00,2,     2.51,2,   -0.003,2,   -0.004,2, -999.000,1,-999.0000,1,  -999.00,9,   -999.0,1,-999.000,9,   2318.0,2,   2413.0,2,     7.58,2,43463.5,-999.0000,-999.000,-999.000,  1.4171,-999.000
   318MWESTW_4,  P21E,    39,  1,     20, SI9320,2,19940407,1850,-16.7500, -85.3362, 4579,   4596.1,   1.8106,  34.6912,2,  34.6906,2,    154.1,2,    154.2,2,   129.56,2,    35.17,2,    -0.01,2,     2.52,2,   -0.005,2,   -0.003,2, -999.000,1,-999.0000,1,  -999.00,9,   -999.0,1,-999.000,9,   2317.0,2,   2410.0,2,     7.58,2,45971.0,-999.0000,-999.000,-999.000,  1.4147,-999.000
   318MWESTW_4,  P21E,    39,  1,     19, SI9319,2,19940407,1850,-16.7500, -85.3362, 4579,   4647.4,   1.8168,  34.6904,2,  34.6901,2,    153.8,2,    154.6,2,   129.30,2,    35.19,2,     0.00,2,     2.49,2,   -0.004,2,   -0.004,2, -999.000,1,-999.0000,1,  -999.00,9,   -999.0,1,-999.000,9,   2319.0,2,   2412.0,2,     7.57,2,46484.0,-999.0000,-999.000,-999.000,  1.4146,-999.000