BOTTLE,20010911WHPSIOdm
EXPOCODE,SECT_ID,STNNBR,CASTNO,SAMPNO,BTLNBR,BTLNBR_FLAG_W,DATE,TIME,LATITUDE,LONGITUDE,DEPTH,CTDPRS,CTDTMP,CTDSAL,CTDSAL_FLAG_W,SALNTY,SALNTY_FLAG_W,CTDOXY,CTDOXY_FLAG_W,OXYGEN,OXYGEN_FLAG_W,SILCAT,SILCAT_FLAG_W,NITRAT,NITRAT_FLAG_W,NITRIT,NITRIT_FLAG_W,PHSPHT,PHSPHT_FLAG_W,CFC-11,CFC-11_FLAG_W,CFC-12,CFC-12_FLAG_W,TRITUM,TRITUM_FLAG_W,HELIUM,HELIUM_FLAG_W,DELHE3,DELHE3_FLAG_W,DELC14,DELC14_FLAG_W,NEON,NEON_FLAG_W,TCARBN,TCARBN_FLAG_W,ALKALI,ALKALI_FLAG_W,PH,PH_FLAG_W,CTDRAW,HELIER,DELHER,NEONER,THETA,TRITER
,,,,,,,,,,,,DBAR,ITS-90,PSS-78,,PSS-78,,UMOL/KG,,UMOL/KG,,UMOL/KG,,UMOL/KG,,UMOL/KG,,UMOL/KG,,PMOL/KG,,PMOL/KG,,TU,,UMOL/KG,,PERCNT,,/MILLE,,NMOL/KG,,UMOL/KG,,UMOL/KG,,,,,NMOL/KG,PERCNT,NMOL/KG,ITS-90,TU
   318MWESTW_4,  P21E,   120,  1,     24, SI9404,2,19940502,2130,-16.7500,-126.6695, 3809,      8.1,  27.1631,  36.6077,2,  36.6070,2,    208.1,2,    213.9,2,     0.33,2,     0.05,2,     0.01,2,     0.26,2,    1.731,2,    0.967,2, -999.000,1,-999.0000,1,  -999.00,9,   -999.0,1,-999.000,9,   2036.8,2,   2406.0,2,     8.11,2,  130.1,-999.0000,-999.000,-999.000, 27.1612,-999.000
   318MWESTW_4,  P21E,   120,  1,     23, SI9405,2,19940502,2130,-16.7500,-126.6695, 3809,     24.1,  27.1668,  36.6076,2,  36.6070,2,    203.2,2,    211.2,2,     0.35,2,     0.04,2,     0.01,2,     0.26,2,    1.693,2,    0.951,2, -999.000,1,-999.0000,1,  -999.00,9,   -999.0,1,-999.000,9,   2037.8,2,   2407.0,2,     8.11,2,  289.7,-999.0000,-999.000,-999.000, 27.1612,-999.000
   318MWESTW_4,  P21E,   120,  1,     22, SI9407,2,19940502,2130,-16.7500,-126.6695, 3809,     47.5,  27.1410,  36.6057,2,  36.6068,2,    202.4,2,    211.7,2,     0.38,2,     0.04,2,     0.01,2,     0.27,2,    1.715,2,    1.016,2, -999.000,1,-999.0000,1,  -999.00,9,   -999.0,1,-999.000,9,   2035.8,2,   2406.0,2,     8.11,2,  523.5,-999.0000,-999.000,-999.000, 27.1300,-999.000
   318MWESTW_4,  P21E,   120,  1,     21, SI9408,2,19940502,2130,-16.7500,-126.6695, 3809,     99.8,  25.0781,  36.4698,2,  36.4735,2,    213.4,2,    222.5,2,     0.40,2,     0.03,2,     0.01,2,     0.23,2,    1.893,2,    1.068,2, -999.000,1,-999.0000,1,  -999.00,9,   -999.0,1,-999.000,9,   2042.8,2,   2396.0,2,     8.08,2, 1045.2,-999.0000,-999.000,-999.000, 25.0563,-999.000
   318MWESTW_4,  P21E,   120,  1,     20, SI9409,2,19940502,2130,-16.7500,-126.6695, 3809,    150.1,  23.5962,  36.4003,2,  36.3988,2,    208.5,2,    212.7,2,     0.27,2,     0.08,2,     0.15,2,     0.26,2, -999.000,9, -999.000,9, -999.000,1,-999.0000,1,  -999.00,9,   -999.0,1,-999.000,9,   2057.8,2,   2386.0,2,     8.06,2, 1546.2,-999.0000,-999.000,-999.000, 23.5648,-999.000
   318MWESTW_4,  P21E,   120,  1,     19, SI9411,2,19940502,2130,-16.7500,-126.6695, 3809,    199.9,  22.0704,  36.1527,2,  36.1527,2,    202.9,2,    197.7,2,     0.44,2,     0.88,2,     0.25,2,     0.36,2,    2.031,2,    1.114,2, -999.000,1,-999.0000,1,  -999.00,9,   -999.0,1,-999.000,9,   2071.8,2,   2374.0,2,     8.02,2, 2043.2,-999.0000,-999.000,-999.000, 22.0305,-999.000
   318MWESTW_4,  P21E,   120,  1,     18, SI9413,2,19940502,2130,-16.7500,-126.6695, 3809,    253.7,  19.4047,  35.6760,2,  35.6749,2,    185.6,2,    186.0,2,     0.77,2,     3.26,2,     0.02,2,     0.55,2, -999.000,9, -999.000,9, -999.000,1,-999.0000,1,  -999.00,9,   -999.0,1,-999.000,9,   2081.8,2,   2341.0,2,     7.96,2, 2579.0,-999.0000,-999.000,-999.000, 19.3585,-999.000
   318MWESTW_4,  P21E,   120,  1,     17, SI9415,2,19940502,2130,-16.7500,-126.6695, 3809,    298.6,  16.1257,  35.1685,2,  35.1648,2,    190.1,2,    184.1,2,     1.54,2,     5.90,2,     0.01,2,     0.67,2,    1.884,2,    0.993,2, -999.000,1,-999.0000,1,  -999.00,9,   -999.0,1,-999.000,9,   2082.8,2,   2308.0,2,     7.90,2, 3025.8,-999.0000,-999.000,-999.000, 16.0780,-999.000
   318MWESTW_4,  P21E,   120,  1,     16, SI9416,2,19940502,2130,-16.7500,-126.6695, 3809,    399.0,  10.4313,  34.5531,2,  34.5519,2,     89.1,2,     97.9,2,    13.38,2,    23.74,2,     0.01,2,     2.02,2,    0.663,2,    0.337,2, -999.000,1,-999.0000,1,  -999.00,9,   -999.0,1,-999.000,9,   2190.9,2,   2277.0,2,     7.58,2, 4024.6,-999.0000,-999.000,-999.000, 10.3835,-999.000
   318MWESTW_4,  P21E,   120,  1,     15, SI9417,2,19940502,2130,-16.7500,-126.6695, 3809,    494.4,   7.7018,  34.4665,2,  34.4642,2,     91.2,2,     89.2,2,    21.89,2,    33.48,2,     0.00,2,     2.45,2,    0.107,6,    0.058,6, -999.000,1,-999.0000,1,  -999.00,9,   -999.0,1,-999.000,9,   2226.9,2,   2281.0,2,     7.49,2, 4973.5,-999.0000,-999.000,-999.000,  7.6523,-999.000
   318MWESTW_4,  P21E,   120,  1,     14, SI9419,2,19940502,2130,-16.7500,-126.6695, 3809,    598.7,   6.3488,  34.4353,2,  34.4343,2,    108.2,2,    109.3,2,    28.12,2,    35.45,2,     0.00,2,     2.49,2,    0.029,2,    0.014,2, -999.000,1,-999.0000,1,  -999.00,9,   -999.0,1,-999.000,9,   2227.9,2,   2289.0,2,     7.51,2, 6010.0,-999.0000,-999.000,-999.000,  6.2946,-999.000
   318MWESTW_4,  P21E,   120,  1,     13, SI9420,2,19940502,2130,-16.7500,-126.6695, 3809,    698.0,   5.7163,  34.4598,2,  34.4583,2,     93.0,2,     93.7,2,    39.95,2,    38.16,2,     0.01,2,     2.67,2,    0.002,2,    0.003,2, -999.000,1,-999.0000,1,  -999.00,9,   -999.0,1,-999.000,9,   2247.9,2,   2301.0,2,     7.49,2, 6998.2,-999.0000,-999.000,-999.000,  5.6559,-999.000
   318MWESTW_4,  P21E,   120,  1,     12, SI9421,2,19940502,2130,-16.7500,-126.6695, 3809,    897.0,   4.7894,  34.5040,2,  34.5031,2,     82.0,2,     81.1,2,    62.54,2,    40.70,2,     0.01,2,     2.87,2,    0.001,2,   -0.001,2, -999.000,1,-999.0000,1,  -999.00,9,   -999.0,1,-999.000,9,   2281.0,2,   2325.0,2,     7.45,2, 8976.1,-999.0000,-999.000,-999.000,  4.7168,-999.000
   318MWESTW_4,  P21E,   120,  1,     11, SI9423,2,19940502,2130,-16.7500,-126.6695, 3809,   1104.4,   4.0642,  34.5336,2,  34.5325,2,     85.2,2,     86.2,2,    79.69,2,    40.79,2,     0.00,2,     2.88,2,    0.001,2,   -0.003,2, -999.000,1,-999.0000,1,  -999.00,9,   -999.0,1,-999.000,9,   2297.0,2,   2343.0,2,     7.46,2,11038.4,-999.0000,-999.000,-999.000,  3.9792,-999.000
   318MWESTW_4,  P21E,   120,  1,     10, SI9425,2,19940502,2130,-16.7500,-126.6695, 3809,   1400.9,   3.1397,  34.5780,2,  34.5771,2,    102.1,2,    102.0,2,   101.07,2,    39.50,2,    -0.01,2,     2.82,2, -999.000,9, -999.000,9, -999.000,1,-999.0000,1,  -999.00,9,   -999.0,1,-999.000,9,   2313.0,2,   2368.0,2,     7.48,2,13986.5,-999.0000,-999.000,-999.000,  3.0385,-999.000
   318MWESTW_4,  P21E,   120,  1,      9, SI9424,2,19940502,2130,-16.7500,-126.6695, 3809,   1703.0,   2.5537,  34.6102,2,  34.6101,2,    122.1,2,    124.2,2,   110.80,2,    37.77,2,    -0.01,2,     2.66,2, -999.000,9, -999.000,9, -999.000,1,-999.0000,1,  -999.00,9,   -999.0,1,-999.000,9,   2311.0,2,   2379.0,2,     7.53,2,16989.9,-999.0000,-999.000,-999.000,  2.4343,-999.000
   318MWESTW_4,  P21E,   120,  1,      8, SI9428,2,19940502,2130,-16.7500,-126.6695, 3809,   2003.5,   2.1344,  34.6391,2,  34.6388,2,    143.6,2,    143.9,2,   115.82,2,    36.27,2,    -0.01,2,     2.53,2, -999.000,9, -999.000,9, -999.000,1,-999.0000,1,  -999.00,9,   -999.0,1,-999.000,9,   2307.0,2,   2389.0,2,     7.56,2,19977.2,-999.0000,-999.000,-999.000,  1.9956,-999.000
   318MWESTW_4,  P21E,   120,  1,      7, SI9429,2,19940502,2130,-16.7500,-126.6695, 3809,   2303.7,   1.9106,  34.6605,2,  34.6612,2,    149.7,2,    150.9,2,   122.82,2,    35.70,2,    -0.01,2,     2.49,2, -999.000,9, -999.000,9, -999.000,1,-999.0000,1,  -999.00,9,   -999.0,1,-999.000,9,   2309.0,2,   2394.0,2,     7.57,2,22961.6,-999.0000,-999.000,-999.000,  1.7495,-999.000
   318MWESTW_4,  P21E,   120,  1,      6, SI9431,2,19940502,2130,-16.7500,-126.6695, 3809,   2594.5,   1.8156,  34.6709,2,  34.6700,2,    151.2,2,    152.2,2,   127.24,2,    35.64,2,    -0.01,2,     2.47,2, -999.000,9, -999.000,9, -999.000,1,-999.0000,1,  -999.00,9,   -999.0,1,-999.000,9,   2314.0,2,   2403.0,2,     7.57,2,25853.3,-999.0000,-999.000,-999.000,  1.6301,-999.000
   318MWESTW_4,  P21E,   120,  1,      5, SI9432,2,19940502,2130,-16.7500,-126.6695, 3809,   2898.2,   1.7475,  34.6755,2,  34.6745,2,    155.0,2,    155.6,2,   128.34,2,    35.44,2,    -0.01,2,     2.45,2, -999.000,9, -999.000,9, -999.000,1,-999.0000,1,  -999.00,9,   -999.0,1,-999.000,9,   2315.0,2,   2401.0,2,     7.58,2,28872.7,-999.0000,-999.000,-999.000,  1.5350,-999.000
   318MWESTW_4,  P21E,   120,  1,      4, SI9433,2,19940502,2130,-16.7500,-126.6695, 3809,   3196.8,   1.6734,  34.6798,2,  34.6793,2,    160.3,2,    159.8,2,   128.82,2,    35.20,2,    -0.01,2,     2.43,2, -999.000,9, -999.000,9, -999.000,1,-999.0000,1,  -999.00,9,   -999.0,1,-999.000,9,   2310.0,2,   2404.0,2,     7.58,2,31841.1,-999.0000,-999.000,-999.000,  1.4336,-999.000
   318MWESTW_4,  P21E,   120,  1,      3, SI9435,2,19940502,2130,-16.7500,-126.6695, 3809,   3498.3,   1.6154,  34.6847,2,  34.6846,2,    163.8,2,    163.2,2,   129.76,2,    34.99,2,    -0.01,2,     2.42,2, -999.000,9, -999.000,9, -999.000,1,-999.0000,1,  -999.00,9,   -999.0,1,-999.000,9,   2310.0,2,   2403.0,2,     7.59,2,34838.2,-999.0000,-999.000,-999.000,  1.3465,-999.000
   318MWESTW_4,  P21E,   120,  1,      2, SI9401,2,19940502,2130,-16.7500,-126.6695, 3809,   3755.6,   1.5871,  34.6873,2,  34.6848,2,    166.2,2,    165.0,2,   130.25,2,    34.83,2,     0.01,2,     2.41,2, -999.000,9, -999.000,9, -999.000,1,-999.0000,1,  -999.00,9,   -999.0,1,-999.000,9,   2310.0,2,   2405.0,2,     7.59,2,37395.6,-999.0000,-999.000,-999.000,  1.2921,-999.000
   318MWESTW_4,  P21E,   120,  1,      1, SI9403,2,19940502,2130,-16.7500,-126.6695, 3809,   3847.5,   1.5847,  34.6872,2,  34.6863,2,    164.8,2,    166.3,2,   130.53,2,    34.84,2,     0.00,2,     2.41,2, -999.000,9, -999.000,9, -999.000,1,-999.0000,1,  -999.00,9,   -999.0,1,-999.000,9,   2308.0,2,   2406.0,2,     7.58,2,38309.7,-999.0000,-999.000,-999.000,  1.2799,-999.000
   318MWESTW_4,  P21E,   121,  1,     24, SI9404,2,19940503,0417,-16.7500,-127.3362, 4001,     10.8,  27.3641,  36.5893,2,  36.5902,2,    206.3,2,    210.5,2,     0.18,2,     0.00,2,     0.00,2,     0.21,2,    1.694,2,    0.953,2, -999.000,1,-999.0000,1,  -999.00,9,   -999.0,1,-999.000,9,   -999.0,9,   -999.0,9,  -999.00,9,  157.6,-999.0000,-999.000,-999.000, 27.3616,-999.000
   318MWESTW_4,  P21E,   121,  1,     23, SI9405,2,19940503,0417,-16.7500,-127.3362, 4001,     25.4,  27.3618,  36.5896,2,  36.5906,2,    203.0,2,    209.0,2,     0.19,2,     0.00,2,     0.00,2,     0.21,2,    1.678,2,    0.948,2, -999.000,1,-999.0000,1,  -999.00,9,   -999.0,1,-999.000,9,   -999.0,9,   -999.0,9,  -999.00,9,  303.9,-999.0000,-999.000,-999.000, 27.3559,-999.000
   318MWESTW_4,  P21E,   121,  1,     22, SI9407,2,19940503,0417,-16.7500,-127.3362, 4001,     46.8,  27.3716,  36.5898,2,  36.5894,2,    209.8,2,    206.1,2,     0.19,2,     0.00,2,     0.00,2,     0.22,2,    1.665,2,    0.954,2, -999.000,1,-999.0000,1,  -999.00,9,   -999.0,1,-999.000,9,   -999.0,9,   -999.0,9,  -999.00,9,  517.9,-999.0000,-999.000,-999.000, 27.3607,-999.000
   318MWESTW_4,  P21E,   121,  1,     21, SI9408,2,19940503,0417,-16.7500,-127.3362, 4001,     99.1,  25.1456,  36.5018,2,  36.5024,2,    215.4,2,    217.5,2,     0.20,2,    -0.01,2,     0.01,2,     0.20,2,    1.909,2,    1.063,2, -999.000,1,-999.0000,1,  -999.00,9,   -999.0,1,-999.000,9,   -999.0,9,   -999.0,9,  -999.00,9, 1038.8,-999.0000,-999.000,-999.000, 25.1239,-999.000
   318MWESTW_4,  P21E,   121,  1,     20, SI9409,2,19940503,0417,-16.7500,-127.3362, 4001,    150.4,  23.7301,  36.4268,2,  36.4237,2,    200.0,2,    206.4,2,     0.06,2,    -0.07,2,     0.20,2,     0.24,2,    1.926,2,    1.072,2, -999.000,1,-999.0000,1,  -999.00,9,   -999.0,1,-999.000,9,   -999.0,9,   -999.0,9,  -999.00,9, 1550.6,-999.0000,-999.000,-999.000, 23.6985,-999.000
   318MWESTW_4,  P21E,   121,  1,     19, SI9411,2,19940503,0417,-16.7500,-127.3362, 4001,    191.0,  22.0667,  36.1520,2,  36.1563,2,    192.7,2,    192.3,2,     0.21,2,     1.14,2,     0.28,2,     0.36,2,    2.028,2,    1.101,2, -999.000,1,-999.0000,1,  -999.00,9,   -999.0,1,-999.000,9,   -999.0,9,   -999.0,9,  -999.00,9, 1954.8,-999.0000,-999.000,-999.000, 22.0286,-999.000
   318MWESTW_4,  P21E,   121,  1,     18, SI9413,2,19940503,0417,-16.7500,-127.3362, 4001,    252.1,  19.2826,  35.6533,2,  35.6589,2,    186.3,2,    183.0,2,     0.53,2,     3.73,2,     0.02,2,     0.55,2,    2.103,2,    1.114,2, -999.000,1,-999.0000,1,  -999.00,9,   -999.0,1,-999.000,9,   -999.0,9,   -999.0,9,  -999.00,9, 2563.4,-999.0000,-999.000,-999.000, 19.2369,-999.000
   318MWESTW_4,  P21E,   121,  1,     17, SI9415,2,19940503,0417,-16.7500,-127.3362, 4001,    298.6,  16.3264,  35.1942,2,  35.1937,2,    180.8,2,    171.7,2,     1.88,2,     7.16,2,     0.01,2,     0.76,2,    1.908,2,    0.986,2, -999.000,1,-999.0000,1,  -999.00,9,   -999.0,1,-999.000,9,   -999.0,9,   -999.0,9,  -999.00,9, 3026.2,-999.0000,-999.000,-999.000, 16.2783,-999.000
   318MWESTW_4,  P21E,   121,  1,     16, SI9416,2,19940503,0417,-16.7500,-127.3362, 4001,    399.0,  10.1282,  34.5390,2,  34.5337,2,    110.8,2,    108.9,2,    12.83,2,    23.91,2,     0.01,2,     1.95,2,    0.626,2,    0.319,2, -999.000,1,-999.0000,1,  -999.00,9,   -999.0,1,-999.000,9,   -999.0,9,   -999.0,9,  -999.00,9, 4024.9,-999.0000,-999.000,-999.000, 10.0813,-999.000
   318MWESTW_4,  P21E,   121,  1,     15, SI9417,2,19940503,0417,-16.7500,-127.3362, 4001,    501.9,   7.4753,  34.4531,2,  34.4506,2,    100.2,2,    100.1,2,    21.37,2,    33.12,2,     0.01,2,     2.39,2,    0.094,2,    0.057,2, -999.000,1,-999.0000,1,  -999.00,9,   -999.0,1,-999.000,9,   -999.0,9,   -999.0,9,  -999.00,9, 5047.7,-999.0000,-999.000,-999.000,  7.4259,-999.000
   318MWESTW_4,  P21E,   121,  1,     14, SI9419,2,19940503,0417,-16.7500,-127.3362, 4001,    600.5,   6.3042,  34.4308,2,  34.4302,2,    113.7,2,    115.5,2,    27.82,2,    34.96,2,     0.00,2,     2.42,2,    0.028,2,    0.020,2, -999.000,1,-999.0000,1,  -999.00,9,   -999.0,1,-999.000,9,   -999.0,9,   -999.0,9,  -999.00,9, 6028.5,-999.0000,-999.000,-999.000,  6.2500,-999.000
   318MWESTW_4,  P21E,   121,  1,     13, SI9420,2,19940503,0417,-16.7500,-127.3362, 4001,    701.5,   5.6300,  34.4591,2,  34.4587,2,    101.3,2,    101.9,2,    40.73,2,    37.68,2,     0.00,2,     2.61,2,    0.001,2,   -0.004,2, -999.000,1,-999.0000,1,  -999.00,9,   -999.0,1,-999.000,9,   -999.0,9,   -999.0,9,  -999.00,9, 7032.9,-999.0000,-999.000,-999.000,  5.5697,-999.000
   318MWESTW_4,  P21E,   121,  1,     12, SI9421,2,19940503,0417,-16.7500,-127.3362, 4001,    853.2,   4.9115,  34.4954,2,  34.4946,2,    101.4,2,    100.3,2,    57.52,2,    38.57,2,    -0.01,2,     2.69,2,    0.002,2,    0.001,2, -999.000,1,-999.0000,1,  -999.00,9,   -999.0,1,-999.000,9,   -999.0,9,   -999.0,9,  -999.00,9, 8540.7,-999.0000,-999.000,-999.000,  4.8419,-999.000
   318MWESTW_4,  P21E,   121,  1,     11, SI9423,2,19940503,0417,-16.7500,-127.3362, 4001,   1102.5,   4.0125,  34.5345,2,-999.0000,9,     94.1,2,     92.5,2,    79.56,2,    40.13,2,     0.01,2,     2.83,2,    0.000,2,    0.001,2, -999.000,1,-999.0000,1,  -999.00,9,   -999.0,1,-999.000,9,   -999.0,9,   -999.0,9,  -999.00,9,11020.3,-999.0000,-999.000,-999.000,  3.9281,-999.000
   318MWESTW_4,  P21E,   121,  1,     10, SI9425,2,19940503,0417,-16.7500,-127.3362, 4001,   1399.2,   3.1425,  34.5772,2,  34.5765,2,    106.0,2,    104.3,2,   100.25,2,    39.43,2,     0.00,2,     2.79,2,    0.000,2,   -0.003,2, -999.000,1,-999.0000,1,  -999.00,9,   -999.0,1,-999.000,9,   -999.0,9,   -999.0,9,  -999.00,9,13970.0,-999.0000,-999.000,-999.000,  3.0415,-999.000
   318MWESTW_4,  P21E,   121,  1,      9, SI9424,2,19940503,0417,-16.7500,-127.3362, 4001,   1696.7,   2.5816,  34.6084,2,  34.6081,2,    122.3,2,    123.3,2,   110.16,2,    37.89,2,     0.00,2,     2.65,2,   -0.001,2,    0.000,2, -999.000,1,-999.0000,1,  -999.00,9,   -999.0,1,-999.000,9,   -999.0,9,   -999.0,9,  -999.00,9,16927.3,-999.0000,-999.000,-999.000,  2.4624,-999.000
   318MWESTW_4,  P21E,   121,  1,      8, SI9428,2,19940503,0417,-16.7500,-127.3362, 4001,   2003.8,   2.1118,  34.6399,2,  34.6411,2,    144.4,2,    145.3,2,   115.88,2,    36.05,2,     0.00,2,     2.52,2, -999.000,9, -999.000,9, -999.000,1,-999.0000,1,  -999.00,9,   -999.0,1,-999.000,9,   -999.0,9,   -999.0,9,  -999.00,9,19980.8,-999.0000,-999.000,-999.000,  1.9733,-999.000
   318MWESTW_4,  P21E,   121,  1,      7, SI9429,2,19940503,0417,-16.7500,-127.3362, 4001,   2292.5,   1.9017,  34.6617,2,  34.6625,2,    148.9,2,    150.2,2,   122.64,2,    35.74,2,     0.00,2,     2.46,2, -999.000,9, -999.000,9, -999.000,1,-999.0000,1,  -999.00,9,   -999.0,1,-999.000,9,   -999.0,9,   -999.0,9,  -999.00,9,22850.7,-999.0000,-999.000,-999.000,  1.7417,-999.000
   318MWESTW_4,  P21E,   121,  1,      6, SI9431,2,19940503,0417,-16.7500,-127.3362, 4001,   2647.7,   1.7968,  34.6721,2,  34.6714,2,    152.4,2,    152.4,2,   127.60,2,    35.65,2,    -0.01,2,     2.47,2, -999.000,9, -999.000,9, -999.000,1,-999.0000,1,  -999.00,9,   -999.0,1,-999.000,9,   -999.0,9,   -999.0,9,  -999.00,9,26382.1,-999.0000,-999.000,-999.000,  1.6068,-999.000
   318MWESTW_4,  P21E,   121,  1,      5, SI9432,2,19940503,0417,-16.7500,-127.3362, 4001,   2997.1,   1.7167,  34.6774,2,  34.6798,3,    156.9,2,    157.3,2,   128.37,2,    35.32,2,     0.01,2,     2.44,2, -999.000,9, -999.000,9, -999.000,1,-999.0000,1,  -999.00,9,   -999.0,1,-999.000,9,   -999.0,9,   -999.0,9,  -999.00,9,29855.2,-999.0000,-999.000,-999.000,  1.4954,-999.000
   318MWESTW_4,  P21E,   121,  1,      4, SI9433,3,19940503,0417,-16.7500,-127.3362, 4001,   3346.7,   1.6338,  34.6817,2,  34.9380,4,    162.5,2,    161.4,2,   106.80,4,    30.17,4,     0.01,4,     2.11,4, -999.000,9, -999.000,9, -999.000,1,-999.0000,1,  -999.00,9,   -999.0,1,-999.000,9,   -999.0,9,   -999.0,9,  -999.00,9,33331.1,-999.0000,-999.000,-999.000,  1.3799,-999.000
   318MWESTW_4,  P21E,   121,  1,      3, SI9435,2,19940503,0417,-16.7500,-127.3362, 4001,   3695.2,   1.5734,  34.6877,2,  34.6881,2,    166.6,2,    165.4,2,   130.21,2,    34.82,2,     0.00,2,     2.39,2, -999.000,9, -999.000,9, -999.000,1,-999.0000,1,  -999.00,9,   -999.0,1,-999.000,9,   -999.0,9,   -999.0,9,  -999.00,9,36795.7,-999.0000,-999.000,-999.000,  1.2851,-999.000
   318MWESTW_4,  P21E,   121,  1,      2, SI9401,2,19940503,0417,-16.7500,-127.3362, 4001,   4006.2,   1.5662,  34.6892,2,  34.6885,2,    169.1,2,    167.5,2,   130.23,2,    34.77,2,     0.00,2,     2.38,2, -999.000,9, -999.000,9, -999.000,1,-999.0000,1,  -999.00,9,   -999.0,1,-999.000,9,   -999.0,9,   -999.0,9,  -999.00,9,39887.6,-999.0000,-999.000,-999.000,  1.2447,-999.000
   318MWESTW_4,  P21E,   121,  1,      1, SI9403,2,19940503,0417,-16.7500,-127.3362, 4001,   4047.0,   1.5684,  34.6896,2,  34.6887,2,    168.9,2,    168.1,2,   130.15,2,    34.75,2,     0.00,2,     2.39,2, -999.000,9, -999.000,9, -999.000,1,-999.0000,1,  -999.00,9,   -999.0,1,-999.000,9,   -999.0,9,   -999.0,9,  -999.00,9,40293.1,-999.0000,-999.000,-999.000,  1.2424,-999.000