BOTTLE,20010911WHPSIOdm
EXPOCODE,SECT_ID,STNNBR,CASTNO,SAMPNO,BTLNBR,BTLNBR_FLAG_W,DATE,TIME,LATITUDE,LONGITUDE,DEPTH,CTDPRS,CTDTMP,CTDSAL,CTDSAL_FLAG_W,SALNTY,SALNTY_FLAG_W,CTDOXY,CTDOXY_FLAG_W,OXYGEN,OXYGEN_FLAG_W,SILCAT,SILCAT_FLAG_W,NITRAT,NITRAT_FLAG_W,NITRIT,NITRIT_FLAG_W,PHSPHT,PHSPHT_FLAG_W,CFC-11,CFC-11_FLAG_W,CFC-12,CFC-12_FLAG_W,TRITUM,TRITUM_FLAG_W,HELIUM,HELIUM_FLAG_W,DELHE3,DELHE3_FLAG_W,DELC14,DELC14_FLAG_W,NEON,NEON_FLAG_W,TCARBN,TCARBN_FLAG_W,ALKALI,ALKALI_FLAG_W,PH,PH_FLAG_W,CTDRAW,HELIER,DELHER,NEONER,THETA,TRITER
,,,,,,,,,,,,DBAR,ITS-90,PSS-78,,PSS-78,,UMOL/KG,,UMOL/KG,,UMOL/KG,,UMOL/KG,,UMOL/KG,,UMOL/KG,,PMOL/KG,,PMOL/KG,,TU,,UMOL/KG,,PERCNT,,/MILLE,,NMOL/KG,,UMOL/KG,,UMOL/KG,,,,,NMOL/KG,PERCNT,NMOL/KG,ITS-90,TU
   318MWESTW_4,  P21E,   158,  1,     24, SI9404,2,19940512,1443,-17.5028,-149.0000, 3145,      4.2,  28.8223,  35.8841,2,  35.8813,2,    197.9,2,    206.3,2,     0.69,2,     0.00,2,     0.00,2,     0.17,2,    1.571,2,    0.883,2,    0.908,2,   1.6884,2,    -1.23,2,   -999.0,1,   6.569,2,   -999.0,9,   -999.0,9,  -999.00,9,   93.3,  0.0084,   0.080,   0.033, 28.8213,   0.007
   318MWESTW_4,  P21E,   158,  1,     23, SI9405,9,19940512,1443,-17.5028,-149.0000, 3145,     22.6,  28.8830,  35.9214,2,-999.0000,9,    206.7,2,   -999.0,9,  -999.00,9,  -999.00,9,  -999.00,9,  -999.00,9, -999.000,9, -999.000,9, -999.000,1,-999.0000,1,  -999.00,9,   -999.0,1,-999.000,9,   -999.0,9,   -999.0,9,  -999.00,9,  277.6,-999.0000,-999.000,-999.000, 28.8775,-999.000
   318MWESTW_4,  P21E,   158,  1,     22, SI9407,2,19940512,1443,-17.5028,-149.0000, 3145,     47.4,  28.9025,  35.9330,2,  35.9516,2,    206.5,2,    201.9,2,  -999.00,9,  -999.00,9,  -999.00,9,  -999.00,9,    1.554,2,    0.889,2,    0.914,2,   1.6798,2,    -1.34,2,   -999.0,1,   6.534,2,   -999.0,9,   -999.0,9,  -999.00,9,  524.7,  0.0084,   0.080,   0.033, 28.8910,   0.007
   318MWESTW_4,  P21E,   158,  1,     21, SI9422,2,19940512,1443,-17.5028,-149.0000, 3145,     97.7,  27.2198,  36.3232,2,  36.3188,2,    210.7,2,    217.9,2,     0.70,2,     0.03,2,     0.00,2,     0.22,2,    1.742,2,    0.975,2,    0.832,2,   1.6946,2,    -1.18,2,   -999.0,1,   6.666,2,   -999.0,9,   -999.0,9,  -999.00,9, 1025.6,  0.0085,   0.080,   0.033, 27.1972,   0.007
   318MWESTW_4,  P21E,   158,  1,     20, SI9410,2,19940512,1443,-17.5028,-149.0000, 3145,    149.1,  24.2518,  36.2060,2,  36.2014,2,    191.1,2,    195.6,2,     0.71,2,     0.21,2,     0.17,2,     0.30,2,    1.856,2,    1.019,2,    0.802,2,   1.7067,2,    -1.17,2,   -999.0,1,   6.779,2,   -999.0,9,   -999.0,9,  -999.00,9, 1537.7,  0.0085,   0.080,   0.034, 24.2200,   0.007
   318MWESTW_4,  P21E,   158,  1,     19, SI9411,2,19940512,1443,-17.5028,-149.0000, 3145,    199.3,  22.0847,  36.0368,2,  36.0030,2,    179.0,2,    179.1,2,     0.88,2,     2.43,2,     0.02,2,     0.44,2,    1.886,2,    1.038,2,    0.719,2,-999.0000,1,  -999.00,9,   -999.0,1,-999.000,9,   -999.0,9,   -999.0,9,  -999.00,9, 2037.3,-999.0000,-999.000,-999.000, 22.0449,   0.007
   318MWESTW_4,  P21E,   158,  1,     18, SI9413,2,19940512,1443,-17.5028,-149.0000, 3145,    249.4,  19.2230,  35.6724,2,  35.6703,2,    173.7,2,    173.8,2,     1.37,2,     4.90,2,     0.01,2,     0.62,2,    1.839,2,    0.970,2,    0.631,2,   1.7242,2,    -0.13,2,   -999.0,1,   6.991,2,   -999.0,9,   -999.0,9,  -999.00,9, 2536.7,  0.0086,   0.080,   0.035, 19.1779,   0.006
   318MWESTW_4,  P21E,   158,  1,     17, SI9415,2,19940512,1443,-17.5028,-149.0000, 3145,    305.6,  15.6415,  35.1922,2,  34.8027,4,    165.3,2,    152.9,4,    55.11,4,    24.19,4,     0.01,4,     1.84,4,    0.379,3,    0.188,3, -999.000,1,   1.8338,2,    12.98,2,   -999.0,1,-999.000,9,   -999.0,9,   -999.0,9,  -999.00,9, 3095.7,  0.0092,   0.090,  -0.045, 15.5937,-999.000
   318MWESTW_4,  P21E,   158,  1,     16, SI9416,2,19940512,1443,-17.5028,-149.0000, 3145,    403.0,  12.0417,  34.8033,2,  34.8131,2,    154.5,2,    154.7,2,     7.62,2,    16.49,2,     0.00,2,     1.37,2,    0.999,2,    0.508,2,    0.352,2,   1.7679,2,     1.49,2,   -999.0,1,   7.399,2,   -999.0,9,   -999.0,9,  -999.00,9, 4064.1,  0.0088,   0.080,   0.037, 11.9887,   0.005
   318MWESTW_4,  P21E,   158,  1,     15, SI9417,2,19940512,1443,-17.5028,-149.0000, 3145,    499.5,   8.5261,  34.4992,2,  34.4976,2,    140.8,2,    142.4,2,    15.15,2,    25.95,2,     0.00,2,     1.94,2,    0.397,2,    0.203,2,    0.134,2,   1.7801,2,     2.27,2,   -999.0,1,   7.571,2,   -999.0,9,   -999.0,9,  -999.00,9, 5024.2,  0.0089,   0.080,   0.038,  8.4730,   0.004
   318MWESTW_4,  P21E,   158,  1,     14, SI9419,2,19940512,1443,-17.5028,-149.0000, 3145,    600.4,   6.5832,  34.4525,2,  34.4500,2,    143.4,2,    144.3,2,    28.44,2,    30.83,2,    -0.01,2,     2.19,2,    0.107,2,    0.058,2,    0.039,2,   1.7949,2,     5.52,2,   -999.0,1,   7.672,2,   -999.0,9,   -999.0,9,  -999.00,9, 6027.2,  0.0090,   0.090,   0.038,  6.5277,   0.004
   318MWESTW_4,  P21E,   158,  1,     13, SI9420,2,19940512,1443,-17.5028,-149.0000, 3145,    699.0,   5.7030,  34.4517,2,  34.4496,2,    143.0,2,    143.0,2,    38.20,2,    32.64,2,     0.01,2,     2.31,2,    0.036,2,    0.021,2,    0.022,2,-999.0000,1,  -999.00,9,   -999.0,1,-999.000,9,   -999.0,9,   -999.0,9,  -999.00,9, 7007.5,-999.0000,-999.000,-999.000,  5.6426,   0.004
   318MWESTW_4,  P21E,   158,  1,     12, SI9421,2,19940512,1443,-17.5028,-149.0000, 3145,    800.2,   5.0542,  34.4666,2,  34.4659,2,    141.8,2,    141.5,2,    48.77,2,    33.79,2,     0.00,2,     2.38,2,    0.018,2,    0.009,2,    0.004,2,   1.8272,2,    11.57,2,   -999.0,1,   7.809,2,   -999.0,9,   -999.0,9,  -999.00,9, 8014.4,  0.0091,   0.090,   0.039,  4.9884,   0.004
   318MWESTW_4,  P21E,   158,  1,     11, SI9423,2,19940512,1443,-17.5028,-149.0000, 3145,    998.5,   4.1103,  34.5053,2,  34.5034,2,    139.8,2,    140.8,2,    67.34,2,    34.95,2,    -0.01,2,     2.45,2,    0.003,2,   -0.003,2,    0.000,2,   1.8433,2,    16.41,2,   -999.0,1,   7.859,2,   -999.0,9,   -999.0,9,  -999.00,9, 9985.5,  0.0092,   0.100,   0.039,  4.0339,   0.004
   318MWESTW_4,  P21E,   158,  1,     10, SI9425,2,19940512,1443,-17.5028,-149.0000, 3145,   1198.6,   3.4618,  34.5376,2,  34.5370,2,    141.6,2,    142.1,2,    81.26,2,    35.43,2,     0.01,2,     2.49,2,   -0.002,2,   -0.004,2,   -0.007,2,   1.8594,2,    19.92,2,   -999.0,1,   7.896,2,   -999.0,9,   -999.0,9,  -999.00,9,11975.3,  0.0093,   0.100,   0.039,  3.3742,   0.004
   318MWESTW_4,  P21E,   158,  1,      9, SI9424,2,19940512,1443,-17.5028,-149.0000, 3145,   1406.2,   3.0168,  34.5641,2,  34.5624,2,    145.2,2,    145.1,2,    91.03,2,    35.52,2,     0.00,2,     2.49,2, -999.000,9, -999.000,9, -999.000,1,-999.0000,1,  -999.00,9,   -999.0,1,-999.000,9,   -999.0,9,   -999.0,9,  -999.00,9,14039.4,-999.0000,-999.000,-999.000,  2.9166,-999.000
   318MWESTW_4,  P21E,   158,  1,      8, SI9428,2,19940512,1443,-17.5028,-149.0000, 3145,   1599.4,   2.6990,  34.5866,2,  34.5855,2,    145.7,2,    146.7,2,    99.35,2,    35.61,2,    -0.01,2,     2.50,2, -999.000,9, -999.000,9,    0.000,2,   1.8935,2,    25.69,2,   -999.0,1,   8.009,2,   -999.0,9,   -999.0,9,  -999.00,9,15959.5,  0.0095,   0.100,   0.040,  2.5865,   0.004
   318MWESTW_4,  P21E,   158,  1,      7, SI9429,2,19940512,1443,-17.5028,-149.0000, 3145,   1853.4,   2.3767,  34.6143,2,  34.7408,4,    148.7,2,    148.8,2,    76.97,4,    28.57,4,    -0.01,4,     2.04,4, -999.000,9, -999.000,9, -999.000,1,-999.0000,1,  -999.00,9,   -999.0,1,-999.000,9,   -999.0,9,   -999.0,9,  -999.00,9,18485.3,-999.0000,-999.000,-999.000,  2.2471,-999.000
   318MWESTW_4,  P21E,   158,  1,      6, SI9431,2,19940512,1443,-17.5028,-149.0000, 3145,   2095.4,   2.1435,  34.6342,2,  34.6341,2,    150.4,2,    151.2,2,   114.72,2,    35.46,2,     0.01,2,     2.49,2, -999.000,9, -999.000,9, -999.000,1,-999.0000,1,  -999.00,9,   -999.0,1,-999.000,9,   -999.0,9,   -999.0,9,  -999.00,9,20891.3,-999.0000,-999.000,-999.000,  1.9967,-999.000
   318MWESTW_4,  P21E,   158,  1,      5, SI9432,2,19940512,1443,-17.5028,-149.0000, 3145,   2356.0,   1.9459,  34.6505,2,  34.6500,2,    155.1,2,    155.0,2,   119.04,2,    35.22,2,     0.00,2,     2.48,2, -999.000,9, -999.000,9, -999.000,1,-999.0000,1,  -999.00,9,   -999.0,1,-999.000,9,   -999.0,9,   -999.0,9,  -999.00,9,23481.4,-999.0000,-999.000,-999.000,  1.7796,-999.000
   318MWESTW_4,  P21E,   158,  1,      4, SI9433,2,19940512,1443,-17.5028,-149.0000, 3145,   2593.7,   1.8312,  34.6605,2,  34.6598,2,    156.7,2,    157.7,2,   121.45,2,    35.07,2,     0.01,2,     2.46,2, -999.000,9, -999.000,9, -999.000,1,-999.0000,1,  -999.00,9,   -999.0,1,-999.000,9,   -999.0,9,   -999.0,9,  -999.00,9,25845.1,-999.0000,-999.000,-999.000,  1.6455,-999.000
   318MWESTW_4,  P21E,   158,  1,      3, SI9435,2,19940512,1443,-17.5028,-149.0000, 3145,   2840.1,   1.7210,  34.6695,2,  34.6694,2,    161.5,2,    162.1,2,   123.06,2,    34.79,2,     0.00,2,     2.43,2, -999.000,9, -999.000,9, -999.000,1,-999.0000,1,  -999.00,9,   -999.0,1,-999.000,9,   -999.0,9,   -999.0,9,  -999.00,9,28294.0,-999.0000,-999.000,-999.000,  1.5146,-999.000
   318MWESTW_4,  P21E,   158,  1,      2, SI9401,2,19940512,1443,-17.5028,-149.0000, 3145,   3070.0,   1.6318,  34.6765,2,  34.6759,2,    166.4,2,    166.0,2,   123.86,2,    34.47,2,     0.01,2,     2.42,2, -999.000,9, -999.000,9, -999.000,1,-999.0000,1,  -999.00,9,   -999.0,1,-999.000,9,   -999.0,9,   -999.0,9,  -999.00,9,30579.7,-999.0000,-999.000,-999.000,  1.4053,-999.000
   318MWESTW_4,  P21E,   158,  1,      1, SI9403,2,19940512,1443,-17.5028,-149.0000, 3145,   3162.4,   1.6198,  34.6787,2,  34.6759,2,    165.4,2,    166.3,2,   123.84,2,    34.35,2,     0.00,2,     2.40,2, -999.000,9, -999.000,9, -999.000,1,-999.0000,1,  -999.00,9,   -999.0,1,-999.000,9,   -999.0,9,   -999.0,9,  -999.00,9,31498.1,-999.0000,-999.000,-999.000,  1.3846,-999.000
   318MWESTW_4,  P21E,   159,  1,     24, SI9404,2,19940512,1850,-17.5028,-148.8333, 2850,      7.1,  28.9515,  35.8891,2,  35.8898,2,    207.3,2,    208.6,2,     0.67,2,     0.00,2,     0.00,2,     0.18,2, -999.000,9, -999.000,9, -999.000,1,-999.0000,1,  -999.00,9,   -999.0,1,-999.000,9,   -999.0,9,   -999.0,9,  -999.00,9,  120.5,-999.0000,-999.000,-999.000, 28.9498,-999.000
   318MWESTW_4,  P21E,   159,  1,     23, SI9405,2,19940512,1850,-17.5028,-148.8333, 2850,     23.4,  28.9579,  35.9062,2,  35.9062,2,    194.5,2,    205.8,2,     0.52,2,     0.01,2,    -0.01,2,     0.19,2, -999.000,9, -999.000,9, -999.000,1,-999.0000,1,  -999.00,9,   -999.0,1,-999.000,9,   -999.0,9,   -999.0,9,  -999.00,9,  284.2,-999.0000,-999.000,-999.000, 28.9522,-999.000
   318MWESTW_4,  P21E,   159,  1,     22, SI9407,2,19940512,1850,-17.5028,-148.8333, 2850,     47.0,  28.9550,  35.9055,2,  35.9054,2,    196.7,2,    205.6,2,     0.53,2,     0.00,2,     0.01,2,     0.19,2, -999.000,9, -999.000,9, -999.000,1,-999.0000,1,  -999.00,9,   -999.0,1,-999.000,9,   -999.0,9,   -999.0,9,  -999.00,9,  519.7,-999.0000,-999.000,-999.000, 28.9436,-999.000
   318MWESTW_4,  P21E,   159,  1,     21, SI9422,2,19940512,1850,-17.5028,-148.8333, 2850,     98.0,  26.7744,  36.2762,2,  36.2738,2,    216.1,2,    218.5,2,     0.53,2,     0.05,2,     0.01,2,     0.21,2, -999.000,9, -999.000,9, -999.000,1,-999.0000,1,  -999.00,9,   -999.0,1,-999.000,9,   -999.0,9,   -999.0,9,  -999.00,9, 1027.2,-999.0000,-999.000,-999.000, 26.7520,-999.000
   318MWESTW_4,  P21E,   159,  1,     20, SI9410,2,19940512,1850,-17.5028,-148.8333, 2850,    149.2,  23.9359,  36.1437,2,  36.1432,2,    197.4,2,    197.9,2,     0.54,2,     0.29,2,     0.13,2,     0.30,2, -999.000,9, -999.000,9, -999.000,1,-999.0000,1,  -999.00,9,   -999.0,1,-999.000,9,   -999.0,9,   -999.0,9,  -999.00,9, 1537.0,-999.0000,-999.000,-999.000, 23.9044,-999.000
   318MWESTW_4,  P21E,   159,  1,     19, SI9411,2,19940512,1850,-17.5028,-148.8333, 2850,    198.0,  21.7003,  35.9843,2,  35.9870,2,    181.8,2,    177.6,2,     0.70,2,     2.58,2,     0.02,2,     0.45,2, -999.000,9, -999.000,9, -999.000,1,-999.0000,1,  -999.00,9,   -999.0,1,-999.000,9,   -999.0,9,   -999.0,9,  -999.00,9, 2024.0,-999.0000,-999.000,-999.000, 21.6613,-999.000
   318MWESTW_4,  P21E,   159,  1,     18, SI9413,2,19940512,1850,-17.5028,-148.8333, 2850,    248.8,  19.6745,  35.7083,2,  35.7063,2,    177.8,2,    177.7,2,     1.03,2,     3.83,2,     0.02,2,     0.52,2, -999.000,9, -999.000,9, -999.000,1,-999.0000,1,  -999.00,9,   -999.0,1,-999.000,9,   -999.0,9,   -999.0,9,  -999.00,9, 2529.8,-999.0000,-999.000,-999.000, 19.6288,-999.000
   318MWESTW_4,  P21E,   159,  1,     17, SI9415,2,19940512,1850,-17.5028,-148.8333, 2850,    297.5,  17.0004,  35.3637,2,  35.3640,2,    166.8,2,    168.1,2,     2.47,2,     7.49,2,     0.01,2,     0.79,2, -999.000,9, -999.000,9, -999.000,1,-999.0000,1,  -999.00,9,   -999.0,1,-999.000,9,   -999.0,9,   -999.0,9,  -999.00,9, 3015.1,-999.0000,-999.000,-999.000, 16.9510,-999.000
   318MWESTW_4,  P21E,   159,  1,     16, SI9416,2,19940512,1850,-17.5028,-148.8333, 2850,    402.1,  12.2157,  34.8115,2,  34.8039,2,    143.6,2,    148.9,2,     8.41,2,    16.90,2,     0.01,2,     1.41,2, -999.000,9, -999.000,9, -999.000,1,-999.0000,1,  -999.00,9,   -999.0,1,-999.000,9,   -999.0,9,   -999.0,9,  -999.00,9, 4055.4,-999.0000,-999.000,-999.000, 12.1623,-999.000
   318MWESTW_4,  P21E,   159,  1,     15, SI9417,2,19940512,1850,-17.5028,-148.8333, 2850,    495.2,   8.6787,  34.5277,2,  34.5252,2,    139.6,2,    140.2,2,    16.28,2,    25.72,2,     0.01,2,     1.92,2, -999.000,9, -999.000,9, -999.000,1,-999.0000,1,  -999.00,9,   -999.0,1,-999.000,9,   -999.0,9,   -999.0,9,  -999.00,9, 4981.5,-999.0000,-999.000,-999.000,  8.6255,-999.000
   318MWESTW_4,  P21E,   159,  1,     14, SI9419,2,19940512,1850,-17.5028,-148.8333, 2850,    602.0,   6.6485,  34.4408,2,  34.4394,2,    145.7,2,    147.0,2,    25.42,2,    30.39,2,     0.01,2,     2.16,2, -999.000,9, -999.000,9, -999.000,1,-999.0000,1,  -999.00,9,   -999.0,1,-999.000,9,   -999.0,9,   -999.0,9,  -999.00,9, 6042.9,-999.0000,-999.000,-999.000,  6.5926,-999.000
   318MWESTW_4,  P21E,   159,  1,     13, SI9420,2,19940512,1850,-17.5028,-148.8333, 2850,    699.3,   5.7111,  34.4515,2,  34.4493,2,    143.0,2,    143.2,2,    37.93,2,    32.72,2,     0.00,2,     2.29,2, -999.000,9, -999.000,9, -999.000,1,-999.0000,1,  -999.00,9,   -999.0,1,-999.000,9,   -999.0,9,   -999.0,9,  -999.00,9, 7010.8,-999.0000,-999.000,-999.000,  5.6506,-999.000
   318MWESTW_4,  P21E,   159,  1,     12, SI9421,2,19940512,1850,-17.5028,-148.8333, 2850,    801.6,   5.0519,  34.4694,2,  34.4685,2,    140.8,2,    141.0,2,    49.31,2,    33.87,2,     0.01,2,     2.36,2, -999.000,9, -999.000,9, -999.000,1,-999.0000,1,  -999.00,9,   -999.0,1,-999.000,9,   -999.0,9,   -999.0,9,  -999.00,9, 8027.9,-999.0000,-999.000,-999.000,  4.9860,-999.000
   318MWESTW_4,  P21E,   159,  1,     11, SI9423,2,19940512,1850,-17.5028,-148.8333, 2850,    998.1,   3.9483,  34.5121,2,  34.5111,2,    141.2,2,    141.7,2,    70.64,2,    35.26,2,     0.00,2,     2.45,2, -999.000,9, -999.000,9, -999.000,1,-999.0000,1,  -999.00,9,   -999.0,1,-999.000,9,   -999.0,9,   -999.0,9,  -999.00,9, 9981.6,-999.0000,-999.000,-999.000,  3.8732,-999.000
   318MWESTW_4,  P21E,   159,  1,     10, SI9425,2,19940512,1850,-17.5028,-148.8333, 2850,   1198.6,   3.3104,  34.5443,2,  34.5443,2,    142.3,2,    143.2,2,    84.11,2,    35.65,2,     0.00,2,     2.47,2, -999.000,9, -999.000,9, -999.000,1,-999.0000,1,  -999.00,9,   -999.0,1,-999.000,9,   -999.0,9,   -999.0,9,  -999.00,9,11975.4,-999.0000,-999.000,-999.000,  3.2242,-999.000
   318MWESTW_4,  P21E,   159,  1,      9, SI9424,2,19940512,1850,-17.5028,-148.8333, 2850,   1399.5,   2.8799,  34.5735,2,  34.5726,2,    145.4,2,    146.0,2,    94.36,2,    35.70,2,     0.00,2,     2.48,2, -999.000,9, -999.000,9, -999.000,1,-999.0000,1,  -999.00,9,   -999.0,1,-999.000,9,   -999.0,9,   -999.0,9,  -999.00,9,13972.5,-999.0000,-999.000,-999.000,  2.7817,-999.000
   318MWESTW_4,  P21E,   159,  1,      8, SI9428,2,19940512,1850,-17.5028,-148.8333, 2850,   1599.5,   2.5952,  34.5955,2,  34.5940,2,    146.8,2,    147.2,2,   101.89,2,    35.73,2,     0.01,2,     2.47,2, -999.000,9, -999.000,9, -999.000,1,-999.0000,1,  -999.00,9,   -999.0,1,-999.000,9,   -999.0,9,   -999.0,9,  -999.00,9,15960.6,-999.0000,-999.000,-999.000,  2.4839,-999.000
   318MWESTW_4,  P21E,   159,  1,      7, SI9429,3,19940512,1850,-17.5028,-148.8333, 2850,   1797.5,   2.3627,  34.6155,2,  34.8460,4,    147.5,2,    151.2,4,    80.58,4,    29.10,4,     0.01,4,     2.05,4, -999.000,9, -999.000,9, -999.000,1,-999.0000,1,  -999.00,9,   -999.0,1,-999.000,9,   -999.0,9,   -999.0,9,  -999.00,9,17928.9,-999.0000,-999.000,-999.000,  2.2380,-999.000
   318MWESTW_4,  P21E,   159,  1,      6, SI9431,2,19940512,1850,-17.5028,-148.8333, 2850,   1999.3,   2.1815,  34.6312,2,  34.6305,2,    150.3,2,    151.3,2,   113.28,2,    35.59,2,     0.01,2,     2.46,2, -999.000,9, -999.000,9, -999.000,1,-999.0000,1,  -999.00,9,   -999.0,1,-999.000,9,   -999.0,9,   -999.0,9,  -999.00,9,19935.1,-999.0000,-999.000,-999.000,  2.0424,-999.000
   318MWESTW_4,  P21E,   159,  1,      5, SI9432,2,19940512,1850,-17.5028,-148.8333, 2850,   2198.7,   2.0190,  34.6440,2,  34.6433,2,    153.4,2,    153.6,2,   117.12,2,    35.40,2,     0.02,2,     2.46,2, -999.000,9, -999.000,9, -999.000,1,-999.0000,1,  -999.00,9,   -999.0,1,-999.000,9,   -999.0,9,   -999.0,9,  -999.00,9,21917.7,-999.0000,-999.000,-999.000,  1.8653,-999.000
   318MWESTW_4,  P21E,   159,  1,      4, SI9433,2,19940512,1850,-17.5028,-148.8333, 2850,   2402.8,   1.9082,  34.6535,2,  34.6529,2,    154.7,2,    156.3,2,   119.36,2,    35.18,2,     0.02,2,     2.44,2, -999.000,9, -999.000,9, -999.000,1,-999.0000,1,  -999.00,9,   -999.0,1,-999.000,9,   -999.0,9,   -999.0,9,  -999.00,9,23946.4,-999.0000,-999.000,-999.000,  1.7384,-999.000
   318MWESTW_4,  P21E,   159,  1,      3, SI9435,2,19940512,1850,-17.5028,-148.8333, 2850,   2600.4,   1.8003,  34.6639,2,  34.6629,2,    157.9,2,    158.3,2,   122.09,2,    35.01,2,     0.00,2,     2.42,2, -999.000,9, -999.000,9, -999.000,1,-999.0000,1,  -999.00,9,   -999.0,1,-999.000,9,   -999.0,9,   -999.0,9,  -999.00,9,25910.6,-999.0000,-999.000,-999.000,  1.6146,-999.000
   318MWESTW_4,  P21E,   159,  1,      2, SI9401,2,19940512,1850,-17.5028,-148.8333, 2850,   2835.4,   1.7401,  34.6689,2,  34.6688,2,    161.0,2,    161.0,2,   122.73,2,    34.87,2,     0.01,2,     2.42,2, -999.000,9, -999.000,9, -999.000,1,-999.0000,1,  -999.00,9,   -999.0,1,-999.000,9,   -999.0,9,   -999.0,9,  -999.00,9,28247.3,-999.0000,-999.000,-999.000,  1.5338,-999.000
   318MWESTW_4,  P21E,   159,  1,      1, SI9403,2,19940512,1850,-17.5028,-148.8333, 2850,   2926.0,   1.6604,  34.6744,2,  34.6739,2,    162.0,2,    164.0,2,   123.32,2,    34.45,2,     0.01,2,     2.39,2, -999.000,9, -999.000,9, -999.000,1,-999.0000,1,  -999.00,9,   -999.0,1,-999.000,9,   -999.0,9,   -999.0,9,  -999.00,9,29147.8,-999.0000,-999.000,-999.000,  1.4472,-999.000