BOTTLE,20010911WHPSIOdm
#code : jjward hyd_to_exchange.pl 
#original files copied from HTML directory: 20010911
#original HYD file: p21_hy.txt   Tue Sep 11 11:56:39 2001
#original SUM file: p21su   Tue Sep 11 11:56:15 2001
EXPOCODE,SECT_ID,STNNBR,CASTNO,SAMPNO,BTLNBR,BTLNBR_FLAG_W,DATE,TIME,LATITUDE,LONGITUDE,DEPTH,CTDPRS,CTDTMP,CTDSAL,CTDSAL_FLAG_W,SALNTY,SALNTY_FLAG_W,CTDOXY,CTDOXY_FLAG_W,OXYGEN,OXYGEN_FLAG_W,SILCAT,SILCAT_FLAG_W,NITRAT,NITRAT_FLAG_W,NITRIT,NITRIT_FLAG_W,PHSPHT,PHSPHT_FLAG_W,CFC-11,CFC-11_FLAG_W,CFC-12,CFC-12_FLAG_W,TRITUM,TRITUM_FLAG_W,HELIUM,HELIUM_FLAG_W,DELHE3,DELHE3_FLAG_W,DELC14,DELC14_FLAG_W,NEON,NEON_FLAG_W,TCARBN,TCARBN_FLAG_W,ALKALI,ALKALI_FLAG_W,PH,PH_FLAG_W,CTDRAW,HELIER,DELHER,NEONER,THETA,TRITER
,,,,,,,,,,,,DBAR,ITS-90,PSS-78,,PSS-78,,UMOL/KG,,UMOL/KG,,UMOL/KG,,UMOL/KG,,UMOL/KG,,UMOL/KG,,PMOL/KG,,PMOL/KG,,TU,,UMOL/KG,,PERCNT,,/MILLE,,NMOL/KG,,UMOL/KG,,UMOL/KG,,,,,NMOL/KG,PERCNT,NMOL/KG,ITS-90,TU
   318MWESTW_4,  P21E,     4,  1,      5, SI9305,2,19940330,0603,-14.5000, -76.1630,  134,      6.9,  17.2185,  34.9678,2,  34.9921,2,    244.0,2,    243.8,2,     1.87,2,     0.35,2,     0.09,2,     0.79,2, -999.000,9, -999.000,9, -999.000,1,-999.0000,1,  -999.00,9,   -999.0,1,-999.000,9,   -999.0,9,   -999.0,9,  -999.00,9,  101.4,-999.0000,-999.000,-999.000, 17.2174,-999.000
   318MWESTW_4,  P21E,     4,  1,      4, SI9304,2,19940330,0603,-14.5000, -76.1630,  134,     27.7,  15.9830,  34.9768,2,  34.9880,2,    163.3,2,    131.5,2,    10.69,2,     3.83,2,     0.44,2,     1.89,2, -999.000,9, -999.000,9, -999.000,1,-999.0000,1,  -999.00,9,   -999.0,1,-999.000,9,   -999.0,9,   -999.0,9,  -999.00,9,  308.7,-999.0000,-999.000,-999.000, 15.9786,-999.000
   318MWESTW_4,  P21E,     4,  1,      3, SI9303,2,19940330,0603,-14.5000, -76.1630,  134,     52.6,  14.0632,  34.8749,2,  34.8808,2,     49.8,2,     33.6,2,    19.53,2,    14.58,2,     0.21,2,     2.48,2, -999.000,9, -999.000,9, -999.000,1,   1.7549,2,     2.53,2,   -999.0,1,   7.279,2,   -999.0,9,   -999.0,9,  -999.00,9,  556.9,  0.0088,   0.080,   0.036, 14.0556,-999.000
   318MWESTW_4,  P21E,     4,  1,      2, SI9302,2,19940330,0603,-14.5000, -76.1630,  134,    103.4,  13.9853,  34.9652,2,  34.9689,2,      1.4,2,      0.7,2,    32.91,2,     5.36,2,     2.25,2,     2.95,2, -999.000,9, -999.000,9, -999.000,1,   1.7806,2,     4.27,2,   -999.0,1,   7.353,2,   -999.0,9,   -999.0,9,  -999.00,9, 1064.8,  0.0089,   0.090,   0.037, 13.9704,-999.000
   318MWESTW_4,  P21E,     4,  1,      1, SI9301,2,19940330,0603,-14.5000, -76.1630,  134,    117.0,  13.9337,  34.9647,2,  34.9628,3,      1.1,2,      1.3,2,    34.23,2,     4.57,2,     2.46,2,     2.99,2, -999.000,9, -999.000,9, -999.000,1,-999.0000,1,  -999.00,9,   -999.0,1,-999.000,9,   -999.0,9,   -999.0,9,  -999.00,9, 1200.6,-999.0000,-999.000,-999.000, 13.9169,-999.000
   318MWESTW_4,  P21E,     5,  1,      6, SI9306,2,19940330,0829,-14.6222, -76.2483,  200,      8.0,  22.3424,  35.1053,2,  35.0711,2,    211.2,2,    229.1,2,     0.64,2,     0.07,2,     0.00,2,     0.47,2,    2.796,3,    1.954,3, -999.000,1,   1.7107,2,    -1.69,2,   -999.0,1,   6.897,2,   -999.0,9,   -999.0,9,  -999.00,9,  113.9,  0.0086,   0.080,   0.034, 22.3408,-999.000
   318MWESTW_4,  P21E,     5,  1,      5, SI9305,2,19940330,0829,-14.6222, -76.2483,  200,     28.3,  17.6620,  35.1786,2,  35.1780,2,    247.6,2,    228.9,2,     1.07,2,     1.73,2,     0.33,2,     0.66,2,    2.348,2,    1.178,2, -999.000,1,-999.0000,1,  -999.00,9,   -999.0,1,-999.000,9,   -999.0,9,   -999.0,9,  -999.00,9,  316.7,-999.0000,-999.000,-999.000, 17.6572,-999.000
   318MWESTW_4,  P21E,     5,  1,      4, SI9304,2,19940330,0829,-14.6222, -76.2483,  200,     53.3,  16.5483,  35.0655,2,  35.0565,2,    194.1,2,    185.7,2,     3.63,2,    10.13,2,     0.19,2,     1.21,2,    2.575,2,    1.416,2, -999.000,1,   1.7345,2,    -1.10,2,   -999.0,1,   7.117,2,   -999.0,9,   -999.0,9,  -999.00,9,  566.4,  0.0087,   0.080,   0.036, 16.5397,-999.000
   318MWESTW_4,  P21E,     5,  1,      3, SI9303,3,19940330,0829,-14.6222, -76.2483,  200,    103.7,  13.7830,  34.9331,2,  34.9589,2,      9.5,2,      7.5,2,    25.20,2,    10.17,2,     3.61,2,     2.66,2, -999.000,9, -999.000,9, -999.000,1,-999.0000,1,  -999.00,9,   -999.0,1,-999.000,9,   -999.0,9,   -999.0,9,  -999.00,9, 1069.8,-999.0000,-999.000,-999.000, 13.7682,-999.000
   318MWESTW_4,  P21E,     5,  1,      2, SI9302,2,19940330,0829,-14.6222, -76.2483,  200,    155.1,  12.8042,  34.8902,2,  34.8890,2,      2.9,2,      1.1,2,    27.62,2,    13.37,2,     5.86,2,     2.79,2,    0.365,2,    0.203,2, -999.000,1,-999.0000,1,  -999.00,9,   -999.0,1,-999.000,9,   -999.0,9,   -999.0,9,  -999.00,9, 1583.4,-999.0000,-999.000,-999.000, 12.7831,-999.000
   318MWESTW_4,  P21E,     5,  1,      1, SI9301,2,19940330,0829,-14.6222, -76.2483,  200,    200.2,  12.2052,  34.8500,2,  34.8544,2,      1.4,2,      1.7,2,    29.80,2,    15.01,2,     5.17,2,     2.82,2,    0.247,2,    0.141,2, -999.000,1,-999.0000,1,  -999.00,9,   -999.0,1,-999.000,9,   -999.0,9,   -999.0,9,  -999.00,9, 2033.5,-999.0000,-999.000,-999.000, 12.1788,-999.000
   318MWESTW_4,  P21E,     6,  1,     22, SI9322,2,19940330,1055,-14.7480, -76.3250, 1879,     10.4,  23.1387,  35.1069,2,  35.1075,2,    221.8,2,    224.4,2,     0.44,2,     0.30,2,     0.01,2,     0.47,2,    2.009,2,    1.113,2, -999.000,1,-999.0000,1,  -999.00,9,   -999.0,1,-999.000,9,   2042.8,2,   2338.0,2,     8.01,2,  138.2,-999.0000,-999.000,-999.000, 23.1366,-999.000
   318MWESTW_4,  P21E,     6,  1,     21, SI9321,2,19940330,1055,-14.7480, -76.3250, 1879,     25.7,  18.7569,  34.9754,2,  34.9762,2,    248.3,2,    248.1,2,     0.62,2,     0.29,2,     0.01,2,     0.49,2,    2.543,2,    1.409,2, -999.000,1,-999.0000,1,  -999.00,9,   -999.0,1,-999.000,9,   2056.8,2,   2324.0,2,     7.97,2,  292.1,-999.0000,-999.000,-999.000, 18.7524,-999.000
   318MWESTW_4,  P21E,     6,  1,     20, SI9320,3,19940330,1055,-14.7480, -76.3250, 1879,     49.9,  16.6283,  35.0925,2,  35.0016,2,    210.5,2,    207.3,2,     1.69,2,     5.00,2,     0.59,2,     0.84,2,    2.909,2,    1.833,3, -999.000,1,-999.0000,1,  -999.00,9,   -999.0,1,-999.000,9,   2097.8,2,   2321.0,2,     7.88,2,  533.7,-999.0000,-999.000,-999.000, 16.6202,-999.000
   318MWESTW_4,  P21E,     6,  1,     19, SI9319,2,19940330,1055,-14.7480, -76.3250, 1879,    101.3,  13.5680,  34.8373,2,  34.8373,2,     28.1,2,     12.9,2,    18.89,2,    20.54,2,     0.00,2,     2.55,2,    1.122,2,    0.574,2, -999.000,1,-999.0000,1,  -999.00,9,   -999.0,1,-999.000,9,   2249.9,2,   2304.0,2,     7.48,2, 1047.6,-999.0000,-999.000,-999.000, 13.5537,-999.000
   318MWESTW_4,  P21E,     6,  1,     18, SI9318,2,19940330,1055,-14.7480, -76.3250, 1879,    147.1,  12.7943,  34.8675,2,  34.8589,2,      2.3,2,      0.5,2,    26.21,2,    15.83,2,     2.06,2,     2.74,2,    0.397,2,    0.233,2, -999.000,1,-999.0000,1,  -999.00,9,   -999.0,1,-999.000,9,   2269.0,2,   2312.0,2,     7.44,2, 1504.9,-999.0000,-999.000,-999.000, 12.7743,-999.000
   318MWESTW_4,  P21E,     6,  1,     17, SI9317,2,19940330,1055,-14.7480, -76.3250, 1879,    198.2,  11.9108,  34.8109,2,  34.8184,2,      1.8,2,      0.6,2,    27.37,2,    20.48,2,     2.34,2,     2.75,2,    0.323,2,    0.181,2, -999.000,1,-999.0000,1,  -999.00,9,   -999.0,1,-999.000,9,   2273.0,2,   2306.0,2,     7.41,2, 2015.4,-999.0000,-999.000,-999.000, 11.8851,-999.000
   318MWESTW_4,  P21E,     6,  1,     16, SI9316,2,19940330,1055,-14.7480, -76.3250, 1879,    248.1,  11.3069,  34.7909,2,  34.7997,2,      1.4,2,      0.6,2,    28.30,2,    23.20,2,     4.63,2,     2.74,2,    0.128,2,    0.082,2, -999.000,1,-999.0000,1,  -999.00,9,   -999.0,1,-999.000,9,   2276.0,2,   2305.0,2,     7.40,2, 2513.5,-999.0000,-999.000,-999.000, 11.2758,-999.000
   318MWESTW_4,  P21E,     6,  1,     15, SI9315,2,19940330,1055,-14.7480, -76.3250, 1879,    299.3,  10.4518,  34.7285,2,  34.7416,2,      1.1,2,      0.6,2,    30.21,2,    28.92,2,     2.19,2,     2.81,2,    0.071,2,    0.045,2, -999.000,1,-999.0000,1,  -999.00,9,   -999.0,1,-999.000,9,   2281.0,2,   2305.0,2,     7.39,2, 3024.7,-999.0000,-999.000,-999.000, 10.4160,-999.000
   318MWESTW_4,  P21E,     6,  1,     14, SI9314,2,19940330,1055,-14.7480, -76.3250, 1879,    401.1,   8.7299,  34.6341,2,  34.6541,2,      1.8,2,      1.4,2,    27.50,2,    20.48,2,     2.38,2,     2.74,2,    0.027,2,    0.012,2, -999.000,1,-999.0000,1,  -999.00,9,   -999.0,1,-999.000,9,   2292.0,2,   2308.0,2,     7.36,2, 4041.9,-999.0000,-999.000,-999.000,  8.6868,-999.000
   318MWESTW_4,  P21E,     6,  1,     13, SI9313,2,19940330,1055,-14.7480, -76.3250, 1879,    501.7,   7.3758,  34.5796,2,  34.5759,2,      8.4,2,     10.4,2,    43.18,2,    42.39,2,     0.00,2,     3.12,2,    0.013,2,    0.003,2, -999.000,1,-999.0000,1,  -999.00,9,   -999.0,1,-999.000,9,   2295.0,2,   2310.0,2,     7.36,2, 5046.8,-999.0000,-999.000,-999.000,  7.3267,-999.000
   318MWESTW_4,  P21E,     6,  1,     12, SI9312,2,19940330,1055,-14.7480, -76.3250, 1879,    598.8,   6.5590,  34.5392,2,  34.5415,2,     17.5,2,     17.7,2,    48.82,2,    43.85,2,     0.00,2,     3.21,2,    0.006,2,    0.001,2, -999.000,1,-999.0000,1,  -999.00,9,   -999.0,1,-999.000,9,   2299.0,2,   2315.0,2,     7.36,2, 6017.0,-999.0000,-999.000,-999.000,  6.5037,-999.000
   318MWESTW_4,  P21E,     6,  1,     11, SI9311,2,19940330,1055,-14.7480, -76.3250, 1879,    696.0,   5.9458,  34.5309,2,  34.5290,2,     20.5,2,     22.9,2,    56.29,2,    44.71,2,     0.00,2,     3.26,2,    0.002,2,   -0.002,2, -999.000,1,-999.0000,1,  -999.00,9,   -999.0,1,-999.000,9,   2306.0,2,   2323.0,2,     7.36,2, 6987.3,-999.0000,-999.000,-999.000,  5.8843,-999.000
   318MWESTW_4,  P21E,     6,  1,     10, SI9310,2,19940330,1055,-14.7480, -76.3250, 1879,    798.6,   5.2686,  34.5245,2,  34.5243,2,     30.3,2,     33.0,2,    66.04,2,    44.70,2,     0.00,2,     3.26,2,   -0.001,2,   -0.002,2, -999.000,1,-999.0000,1,  -999.00,9,   -999.0,1,-999.000,9,   2311.0,2,   2333.0,2,     7.38,2, 8012.2,-999.0000,-999.000,-999.000,  5.2016,-999.000
   318MWESTW_4,  P21E,     6,  1,      9, SI9309,2,19940330,1055,-14.7480, -76.3250, 1879,    900.6,   4.7044,  34.5316,2,  34.5309,2,     42.1,2,     44.4,2,    76.09,2,    44.21,2,     0.00,2,     3.22,2,    0.003,2,   -0.002,2, -999.000,1,-999.0000,1,  -999.00,9,   -999.0,1,-999.000,9,   2317.0,2,   2343.0,2,     7.39,2, 9031.0,-999.0000,-999.000,-999.000,  4.6320,-999.000
   318MWESTW_4,  P21E,     6,  1,      8, SI9308,2,19940330,1055,-14.7480, -76.3250, 1879,    998.5,   4.3505,  34.5427,2,  34.5402,2,     52.0,2,     53.4,2,    82.94,2,    43.51,2,     0.00,2,     3.19,2,   -0.001,2,   -0.004,2, -999.000,1,-999.0000,1,  -999.00,9,   -999.0,1,-999.000,9,   2319.0,2,   2353.0,2,     7.40,2,10008.6,-999.0000,-999.000,-999.000,  4.2722,-999.000
   318MWESTW_4,  P21E,     6,  1,      7, SI9307,2,19940330,1055,-14.7480, -76.3250, 1879,   1100.7,   3.9699,  34.5562,2,  34.5565,2,     65.0,2,     60.2,2,    93.30,2,    42.85,2,     0.00,2,     3.16,2,    0.000,2,    0.000,2, -999.000,1,-999.0000,1,  -999.00,9,   -999.0,1,-999.000,9,   2327.0,2,   2362.0,2,     7.42,2,11029.9,-999.0000,-999.000,-999.000,  3.8859,-999.000
   318MWESTW_4,  P21E,     6,  1,      6, SI9306,2,19940330,1055,-14.7480, -76.3250, 1879,   1201.0,   3.6787,  34.5692,2,  34.5669,2,     70.0,2,     65.9,2,   100.76,2,    42.30,2,     0.02,2,     3.13,2,   -0.001,2,   -0.005,2, -999.000,1,-999.0000,1,  -999.00,9,   -999.0,1,-999.000,9,   2331.0,2,   2371.0,2,     7.42,2,12031.3,-999.0000,-999.000,-999.000,  3.5889,-999.000
   318MWESTW_4,  P21E,     6,  1,      5, SI9305,2,19940330,1055,-14.7480, -76.3250, 1879,   1303.7,   3.4738,  34.5781,2,  34.5767,2,     73.1,2,     70.0,2,   105.65,2,    41.93,2,     0.00,2,     3.09,2,    0.000,2,   -0.005,2, -999.000,1,-999.0000,1,  -999.00,9,   -999.0,1,-999.000,9,   2334.0,2,   2377.0,2,     7.44,2,13057.6,-999.0000,-999.000,-999.000,  3.3773,-999.000
   318MWESTW_4,  P21E,     6,  1,      4, SI9304,2,19940330,1055,-14.7480, -76.3250, 1879,   1403.5,   3.2506,  34.5891,2,  34.5895,2,     76.4,2,     73.8,2,   112.66,2,    41.53,2,     0.02,2,     3.06,2,    0.000,2,    0.000,2, -999.000,1,-999.0000,1,  -999.00,9,   -999.0,1,-999.000,9,   2339.0,2,   2385.0,2,     7.44,2,14054.3,-999.0000,-999.000,-999.000,  3.1480,-999.000
   318MWESTW_4,  P21E,     6,  1,      3, SI9303,2,19940330,1055,-14.7480, -76.3250, 1879,   1496.2,   3.0645,  34.5961,2,  34.5954,2,     80.0,2,     79.8,2,   115.56,2,    41.10,2,     0.01,2,     3.03,2,    0.000,2,   -0.002,2, -999.000,1,-999.0000,1,  -999.00,9,   -999.0,1,-999.000,9,   2339.0,2,   2389.0,2,     7.46,2,14980.2,-999.0000,-999.000,-999.000,  2.9562,-999.000
   318MWESTW_4,  P21E,     6,  1,      2, SI9302,3,19940330,1055,-14.7480, -76.3250, 1879,   1599.4,   2.9283,  34.6063,2,  34.6056,2,     81.7,2,     82.1,2,   120.43,2,    40.78,2,     0.01,2,     3.00,2,    0.000,2,   -0.003,2, -999.000,1,-999.0000,1,  -999.00,9,   -999.0,1,-999.000,9,   2343.0,2,   2395.0,2,     7.45,2,16011.5,-999.0000,-999.000,-999.000,  2.8129,-999.000
   318MWESTW_4,  P21E,     6,  1,      1, SI9301,2,19940330,1055,-14.7480, -76.3250, 1879,   1766.1,   2.5044,  34.6293,2,  34.6280,2,     93.2,2,     95.7,2,   129.52,2,    39.88,2,     0.00,2,     2.90,2,    0.011,3,   -0.001,2, -999.000,1,-999.0000,1,  -999.00,9,   -999.0,1,-999.000,9,   2346.0,2,   2405.0,2,     7.48,2,17676.4,-999.0000,-999.000,-999.000,  2.3803,-999.000