BOTTLE,20010911WHPSIOdm
EXPOCODE,SECT_ID,STNNBR,CASTNO,SAMPNO,BTLNBR,BTLNBR_FLAG_W,DATE,TIME,LATITUDE,LONGITUDE,DEPTH,CTDPRS,CTDTMP,CTDSAL,CTDSAL_FLAG_W,SALNTY,SALNTY_FLAG_W,CTDOXY,CTDOXY_FLAG_W,OXYGEN,OXYGEN_FLAG_W,SILCAT,SILCAT_FLAG_W,NITRAT,NITRAT_FLAG_W,NITRIT,NITRIT_FLAG_W,PHSPHT,PHSPHT_FLAG_W,CFC-11,CFC-11_FLAG_W,CFC-12,CFC-12_FLAG_W,TRITUM,TRITUM_FLAG_W,HELIUM,HELIUM_FLAG_W,DELHE3,DELHE3_FLAG_W,DELC14,DELC14_FLAG_W,NEON,NEON_FLAG_W,TCARBN,TCARBN_FLAG_W,ALKALI,ALKALI_FLAG_W,PH,PH_FLAG_W,CTDRAW,HELIER,DELHER,NEONER,THETA,TRITER
,,,,,,,,,,,,DBAR,ITS-90,PSS-78,,PSS-78,,UMOL/KG,,UMOL/KG,,UMOL/KG,,UMOL/KG,,UMOL/KG,,UMOL/KG,,PMOL/KG,,PMOL/KG,,TU,,UMOL/KG,,PERCNT,,/MILLE,,NMOL/KG,,UMOL/KG,,UMOL/KG,,,,,NMOL/KG,PERCNT,NMOL/KG,ITS-90,TU
   318MWESTW_4,  P21E,   136,  1,     24, SI9404,2,19940507,0809,-16.7500,-137.3333, 3702,      8.1,  28.2995,  36.2927,2,  36.2925,2,    198.7,2,    207.3,2,     1.03,2,     0.00,2,     0.00,2,     0.20,2,    1.596,2,    0.914,2, -999.000,1,-999.0000,1,  -999.00,9,   -999.0,1,-999.000,9,   -999.0,9,   -999.0,9,  -999.00,9,  132.1,-999.0000,-999.000,-999.000, 28.2976,-999.000
   318MWESTW_4,  P21E,   136,  1,     23, SI9405,2,19940507,0809,-16.7500,-137.3333, 3702,     25.0,  28.3118,  36.2937,2,  36.2936,2,    203.1,2,    207.3,2,     1.03,2,     0.00,2,     0.00,2,     0.23,2,    1.589,2,    0.902,2, -999.000,1,-999.0000,1,  -999.00,9,   -999.0,1,-999.000,9,   -999.0,9,   -999.0,9,  -999.00,9,  300.3,-999.0000,-999.000,-999.000, 28.3058,-999.000
   318MWESTW_4,  P21E,   136,  1,     22, SI9407,2,19940507,0809,-16.7500,-137.3333, 3702,     49.7,  28.2661,  36.2900,2,  36.2903,2,    204.7,2,    204.8,2,     0.88,2,     0.00,2,     0.00,2,     0.21,2,    1.593,2,    0.912,2, -999.000,1,-999.0000,1,  -999.00,9,   -999.0,1,-999.000,9,   -999.0,9,   -999.0,9,  -999.00,9,  547.5,-999.0000,-999.000,-999.000, 28.2543,-999.000
   318MWESTW_4,  P21E,   136,  1,     21, SI9408,4,19940507,0809,-16.7500,-137.3333, 3702,    101.6,  25.8234,  36.5102,2,  35.8238,4,    212.9,2,    161.6,4,    13.84,4,     9.57,4,     0.05,4,     0.89,4,    0.978,3,    0.526,3, -999.000,1,-999.0000,1,  -999.00,9,   -999.0,1,-999.000,9,   -999.0,9,   -999.0,9,  -999.00,9, 1064.5,-999.0000,-999.000,-999.000, 25.8007,-999.000
   318MWESTW_4,  P21E,   136,  1,     20, SI9409,2,19940507,0809,-16.7500,-137.3333, 3702,    150.3,  24.3890,  36.4272,2,  36.4277,2,    197.7,2,    201.1,2,     0.59,2,    -0.05,2,     0.28,2,     0.28,2,    1.827,2,    1.011,2, -999.000,1,-999.0000,1,  -999.00,9,   -999.0,1,-999.000,9,   -999.0,9,   -999.0,9,  -999.00,9, 1549.4,-999.0000,-999.000,-999.000, 24.3568,-999.000
   318MWESTW_4,  P21E,   136,  1,     19, SI9411,2,19940507,0809,-16.7500,-137.3333, 3702,    200.8,  22.2438,  36.1568,2,  36.1573,2,    185.1,2,    184.4,2,     0.60,2,     1.76,2,     0.13,2,     0.42,2,    1.951,2,    1.061,2, -999.000,1,-999.0000,1,  -999.00,9,   -999.0,1,-999.000,9,   -999.0,9,   -999.0,9,  -999.00,9, 2052.7,-999.0000,-999.000,-999.000, 22.2035,-999.000
   318MWESTW_4,  P21E,   136,  1,     18, SI9413,2,19940507,0809,-16.7500,-137.3333, 3702,    252.0,  19.7443,  35.7603,2,  35.7602,2,    184.3,2,    180.9,2,     0.90,2,     3.57,2,     0.01,2,     0.54,2,    1.981,2,    1.045,2, -999.000,1,-999.0000,1,  -999.00,9,   -999.0,1,-999.000,9,   -999.0,9,   -999.0,9,  -999.00,9, 2562.5,-999.0000,-999.000,-999.000, 19.6979,-999.000
   318MWESTW_4,  P21E,   136,  1,     17, SI9415,2,19940507,0809,-16.7500,-137.3333, 3702,    296.5,  17.7130,  35.4255,2,  35.4367,2,    183.1,2,    179.8,2,     1.79,2,     4.99,2,     0.01,2,     0.61,2,    1.870,2,    0.993,2, -999.000,1,-999.0000,1,  -999.00,9,   -999.0,1,-999.000,9,   -999.0,9,   -999.0,9,  -999.00,9, 3004.7,-999.0000,-999.000,-999.000, 17.6624,-999.000
   318MWESTW_4,  P21E,   136,  1,     16, SI9416,2,19940507,0809,-16.7500,-137.3333, 3702,    397.4,  11.4461,  34.6779,2,  34.6753,2,    123.7,2,    117.9,2,    10.60,2,    19.93,2,     0.00,2,     1.69,2,    0.805,2,    0.403,2, -999.000,1,-999.0000,1,  -999.00,9,   -999.0,1,-999.000,9,   -999.0,9,   -999.0,9,  -999.00,9, 4009.2,-999.0000,-999.000,-999.000, 11.3956,-999.000
   318MWESTW_4,  P21E,   136,  1,     15, SI9417,2,19940507,0809,-16.7500,-137.3333, 3702,    501.0,   8.2008,  34.4956,2,  34.4974,2,    100.8,2,    101.3,2,    21.04,2,    30.60,2,     0.00,2,     2.27,2,    0.156,2,    0.081,2, -999.000,1,-999.0000,1,  -999.00,9,   -999.0,1,-999.000,9,   -999.0,9,   -999.0,9,  -999.00,9, 5039.2,-999.0000,-999.000,-999.000,  8.1487,-999.000
   318MWESTW_4,  P21E,   136,  1,     14, SI9419,2,19940507,0809,-16.7500,-137.3333, 3702,    601.6,   6.5763,  34.4837,2,  34.4832,2,    117.8,2,    120.0,2,    32.37,2,    33.25,2,     0.01,2,     2.35,2,    0.029,2,    0.016,2, -999.000,1,-999.0000,1,  -999.00,9,   -999.0,1,-999.000,9,   -999.0,9,   -999.0,9,  -999.00,9, 6039.0,-999.0000,-999.000,-999.000,  6.5207,-999.000
   318MWESTW_4,  P21E,   136,  1,     13, SI9420,2,19940507,0809,-16.7500,-137.3333, 3702,    706.4,   5.7951,  34.4837,2,  34.4836,2,    118.7,2,    121.9,2,    41.92,2,    34.63,2,     0.00,2,     2.42,2,    0.010,2,    0.002,2, -999.000,1,-999.0000,1,  -999.00,9,   -999.0,1,-999.000,9,   -999.0,9,   -999.0,9,  -999.00,9, 7081.0,-999.0000,-999.000,-999.000,  5.7335,-999.000
   318MWESTW_4,  P21E,   136,  1,     12, SI9421,2,19940507,0809,-16.7500,-137.3333, 3702,    853.4,   5.0618,  34.4940,2,  34.4915,2,    105.5,2,    106.0,2,    54.73,2,    37.64,2,     0.01,2,     2.62,2,    0.001,2,   -0.002,2, -999.000,1,-999.0000,1,  -999.00,9,   -999.0,1,-999.000,9,   -999.0,9,   -999.0,9,  -999.00,9, 8542.7,-999.0000,-999.000,-999.000,  4.9912,-999.000
   318MWESTW_4,  P21E,   136,  1,     11, SI9423,2,19940507,0809,-16.7500,-137.3333, 3702,   1096.8,   4.0434,  34.5275,2,  34.5270,2,    110.4,2,    108.2,2,    76.20,2,    38.42,2,     0.00,2,     2.70,2,    0.001,2,   -0.003,2, -999.000,1,-999.0000,1,  -999.00,9,   -999.0,1,-999.000,9,   -999.0,9,   -999.0,9,  -999.00,9,10962.7,-999.0000,-999.000,-999.000,  3.9592,-999.000
   318MWESTW_4,  P21E,   136,  1,     10, SI9425,2,19940507,0809,-16.7500,-137.3333, 3702,   1355.4,   3.2531,  34.5577,2,  34.5574,2,    126.1,2,    128.7,2,    89.76,2,    36.99,2,     0.01,2,     2.59,2,   -0.003,2,   -0.004,2, -999.000,1,-999.0000,1,  -999.00,9,   -999.0,1,-999.000,9,   -999.0,9,   -999.0,9,  -999.00,9,13534.0,-999.0000,-999.000,-999.000,  3.1546,-999.000
   318MWESTW_4,  P21E,   136,  1,      9, SI9424,2,19940507,0809,-16.7500,-137.3333, 3702,   1602.7,   2.6613,  34.5909,2,  34.5902,2,    140.0,2,    141.3,2,   100.94,2,    36.21,2,     0.01,2,     2.53,2, -999.000,9, -999.000,9, -999.000,1,-999.0000,1,  -999.00,9,   -999.0,1,-999.000,9,   -999.0,9,   -999.0,9,  -999.00,9,15992.9,-999.0000,-999.000,-999.000,  2.5489,-999.000
   318MWESTW_4,  P21E,   136,  1,      8, SI9428,2,19940507,0809,-16.7500,-137.3333, 3702,   1899.6,   2.1646,  34.6292,2,  34.6299,2,    148.3,2,    149.6,2,   112.55,2,    35.61,2,     0.01,2,     2.50,2, -999.000,9, -999.000,9, -999.000,1,-999.0000,1,  -999.00,9,   -999.0,1,-999.000,9,   -999.0,9,   -999.0,9,  -999.00,9,18944.4,-999.0000,-999.000,-999.000,  2.0341,-999.000
   318MWESTW_4,  P21E,   136,  1,      7, SI9429,2,19940507,0809,-16.7500,-137.3333, 3702,   2200.8,   1.9573,  34.6524,2,  34.6529,2,    151.6,2,    150.8,2,   119.84,2,    35.55,2,     0.02,2,     2.47,2, -999.000,9, -999.000,9, -999.000,1,-999.0000,1,  -999.00,9,   -999.0,1,-999.000,9,   -999.0,9,   -999.0,9,  -999.00,9,21938.7,-999.0000,-999.000,-999.000,  1.8044,-999.000
   318MWESTW_4,  P21E,   136,  1,      6, SI9431,2,19940507,0809,-16.7500,-137.3333, 3702,   2498.8,   1.8349,  34.6635,2,  34.6637,2,    154.0,2,    154.5,2,   123.41,2,    35.28,2,     0.01,2,     2.45,2, -999.000,9, -999.000,9, -999.000,1,-999.0000,1,  -999.00,9,   -999.0,1,-999.000,9,   -999.0,9,   -999.0,9,  -999.00,9,24902.0,-999.0000,-999.000,-999.000,  1.6578,-999.000
   318MWESTW_4,  P21E,   136,  1,      5, SI9432,2,19940507,0809,-16.7500,-137.3333, 3702,   2798.7,   1.7500,  34.6730,2,  34.6739,2,    154.3,2,    155.1,2,   127.58,2,    35.37,2,     0.01,2,     2.46,2, -999.000,9, -999.000,9, -999.000,1,-999.0000,1,  -999.00,9,   -999.0,1,-999.000,9,   -999.0,9,   -999.0,9,  -999.00,9,27883.2,-999.0000,-999.000,-999.000,  1.5469,-999.000
   318MWESTW_4,  P21E,   136,  1,      4, SI9433,2,19940507,0809,-16.7500,-137.3333, 3702,   3100.0,   1.6903,  34.6787,2,  34.6783,2,    156.1,2,    157.1,2,   129.96,2,    35.28,2,     0.01,2,     2.44,2, -999.000,9, -999.000,9, -999.000,1,-999.0000,1,  -999.00,9,   -999.0,1,-999.000,9,   -999.0,9,   -999.0,9,  -999.00,9,30878.4,-999.0000,-999.000,-999.000,  1.4596,-999.000
   318MWESTW_4,  P21E,   136,  1,      3, SI9435,2,19940507,0809,-16.7500,-137.3333, 3702,   3400.0,   1.6263,  34.6836,2,  34.6836,2,    158.7,2,    159.5,2,   131.59,2,    35.14,2,     0.01,2,     2.45,2, -999.000,9, -999.000,9, -999.000,1,-999.0000,1,  -999.00,9,   -999.0,1,-999.000,9,   -999.0,9,   -999.0,9,  -999.00,9,33860.7,-999.0000,-999.000,-999.000,  1.3672,-999.000
   318MWESTW_4,  P21E,   136,  1,      2, SI9401,2,19940507,0809,-16.7500,-137.3333, 3702,   3638.1,   1.5896,  34.6862,2,  34.6855,2,    162.3,2,    162.9,2,   131.14,2,    34.95,2,     0.01,2,     2.43,2, -999.000,9, -999.000,9, -999.000,1,-999.0000,1,  -999.00,9,   -999.0,1,-999.000,9,   -999.0,9,   -999.0,9,  -999.00,9,36228.0,-999.0000,-999.000,-999.000,  1.3069,-999.000
   318MWESTW_4,  P21E,   136,  1,      1, SI9403,2,19940507,0809,-16.7500,-137.3333, 3702,   3730.2,   1.5760,  34.6873,2,  34.6871,2,    164.0,2,    164.5,2,   131.17,2,    34.88,2,     0.01,2,     2.44,2, -999.000,9, -999.000,9, -999.000,1,-999.0000,1,  -999.00,9,   -999.0,1,-999.000,9,   -999.0,9,   -999.0,9,  -999.00,9,37143.6,-999.0000,-999.000,-999.000,  1.2839,-999.000
   318MWESTW_4,  P21E,   137,  1,     24, SI9404,2,19940507,1428,-16.7500,-138.0000, 3550,      5.8,  28.4397,  36.2733,2,  36.2736,2,    206.2,2,    204.7,2,     1.52,2,     0.03,2,    -0.01,2,     0.22,2,    1.585,2,    0.909,2,    0.855,2,   1.6814,2,    -1.29,2,   -999.0,1,   6.547,2,   2004.7,2,   2380.0,2,     8.21,2,  109.2,  0.0084,   0.080,   0.033, 28.4383,   0.007
   318MWESTW_4,  P21E,   137,  1,     23, SI9405,2,19940507,1428,-16.7500,-138.0000, 3550,     22.5,  28.4505,  36.2731,2,  36.2736,2,    201.1,2,    202.3,2,     1.39,2,     0.02,2,     0.00,2,     0.22,2,    1.568,2,    0.905,2,    0.857,2,   1.6796,2,    -1.36,2,   -999.0,1,   6.529,2,   2001.7,2,   2385.0,2,     8.20,2,  275.5,  0.0084,   0.080,   0.033, 28.4451,   0.007
   318MWESTW_4,  P21E,   137,  1,     22, SI9407,3,19940507,1428,-16.7500,-138.0000, 3550,     47.8,  28.4519,  36.2738,2,  36.2750,2,    204.0,2,    203.5,2,     1.40,2,     0.08,2,    -0.01,2,     0.22,2,    1.585,2,    0.901,2,    0.820,2,   1.6820,2,    -1.40,2,   -999.0,1,   6.530,2,   2003.7,2,   2382.0,2,     8.21,2,  527.6,  0.0084,   0.080,   0.033, 28.4405,   0.007
   318MWESTW_4,  P21E,   137,  1,     21, SI9408,4,19940507,1428,-16.7500,-138.0000, 3550,     99.2,  26.1261,  36.4739,2,  36.0335,4,    204.3,2,    178.4,4,    24.33,4,     7.72,4,     0.04,4,     0.77,4,    0.809,3,    0.439,3, -999.000,1,   1.8072,2,    12.62,2,   -999.0,1,-999.000,9,   -999.0,9,   2385.0,2,  -999.00,9, 1039.9,  0.0090,   0.090,  -0.045, 26.1038,-999.000
   318MWESTW_4,  P21E,   137,  1,     20, SI9409,2,19940507,1428,-16.7500,-138.0000, 3550,    150.9,  24.5658,  36.3803,2,  36.3790,2,    196.6,2,    203.6,2,     0.98,2,    -0.01,2,     0.03,2,     0.27,2,    1.838,2,    1.020,2,    0.722,2,   1.7020,2,    -1.33,2,   -999.0,1,   6.737,2,   2042.8,2,   2388.0,2,     8.16,2, 1555.3,  0.0085,   0.080,   0.034, 24.5333,   0.006
   318MWESTW_4,  P21E,   137,  1,     19, SI9411,2,19940507,1428,-16.7500,-138.0000, 3550,    199.4,  22.8059,  36.2615,2,  36.2639,2,    186.8,2,    185.7,2,     0.84,2,     1.40,2,     0.41,2,     0.43,2,    1.914,2,    1.056,2,    0.657,2,   1.7068,2,    -0.85,2,   -999.0,1,   6.799,2,   2077.8,2,   2383.0,2,     8.09,2, 2038.1,  0.0085,   0.080,   0.034, 22.7652,   0.006
   318MWESTW_4,  P21E,   137,  1,     18, SI9413,2,19940507,1428,-16.7500,-138.0000, 3550,    249.1,  20.7040,  35.9300,2,  35.9273,2,    188.5,2,    182.2,2,     1.00,2,     2.93,2,     0.01,2,     0.51,2,    2.021,2,    1.100,2,    0.609,2,   1.7198,2,    -0.80,2,   -999.0,1,   6.912,2,   2087.8,2,   2361.0,2,     8.05,2, 2533.1,  0.0086,   0.080,   0.035, 20.6565,   0.006
   318MWESTW_4,  P21E,   137,  1,     17, SI9415,2,19940507,1428,-16.7500,-138.0000, 3550,    300.3,  18.3950,  35.5146,2,  35.5636,2,    183.0,2,    179.4,2,     1.46,2,     4.53,2,     0.00,2,     0.61,2,    1.955,2,    1.042,2,    0.579,2,   1.7324,2,    -0.25,2,   -999.0,1,   7.035,2,   2088.8,2,   2339.0,2,     8.01,2, 3042.5,  0.0087,   0.080,   0.035, 18.3423,   0.006
   318MWESTW_4,  P21E,   137,  1,     16, SI9416,2,19940507,1428,-16.7500,-138.0000, 3550,    400.5,  12.1140,  34.7352,2,  34.7290,2,    131.6,2,    135.0,2,     9.07,2,    17.22,2,     0.00,2,     1.47,2,    0.988,2,    0.513,2,    0.319,2,   1.7586,2,     1.57,2,   -999.0,1,   7.372,2,   2146.8,2,   2287.0,2,     7.79,2, 4039.8,  0.0088,   0.080,   0.037, 12.0611,   0.005
   318MWESTW_4,  P21E,   137,  1,     15, SI9417,2,19940507,1428,-16.7500,-138.0000, 3550,    500.4,   7.8720,  34.4505,2,  34.4463,2,    123.6,2,    123.6,2,    18.77,2,    29.44,2,     0.00,2,     2.15,2,    0.223,2,    0.117,2,    0.072,2,   1.7791,2,     1.93,2,   -999.0,1,   7.613,2,   2197.9,2,   2283.0,2,     7.64,2, 5032.7,  0.0089,   0.080,   0.038,  7.8213,   0.004
   318MWESTW_4,  P21E,   137,  1,     14, SI9419,2,19940507,1428,-16.7500,-138.0000, 3550,    601.7,   6.2585,  34.4192,2,  34.4163,2,    133.7,2,    134.9,2,    27.87,2,    32.78,2,     0.00,2,     2.29,2,    0.046,2,    0.026,2,    0.017,2,   1.7947,2,     3.66,2,   -999.0,1,   7.728,2,   2210.9,2,   2290.0,2,     7.63,2, 6040.3,  0.0090,   0.080,   0.039,  6.2044,   0.004
   318MWESTW_4,  P21E,   137,  1,     13, SI9420,2,19940507,1428,-16.7500,-138.0000, 3550,    702.6,   5.6463,  34.4613,2,  34.4593,2,    122.2,2,    120.2,2,    41.59,2,    35.12,2,     0.00,2,     2.45,2,    0.007,2,    0.005,2,    0.003,2,   1.8103,2,     8.11,2,   -999.0,1,   7.761,2,   2228.9,2,   2308.0,2,     7.61,2, 7044.1,  0.0091,   0.090,   0.039,  5.5859,   0.004
   318MWESTW_4,  P21E,   137,  1,     12, SI9421,2,19940507,1428,-16.7500,-138.0000, 3550,    795.1,   5.2338,  34.4859,2,  34.4856,2,    114.0,2,    112.3,2,    51.58,2,    36.54,2,     0.00,2,     2.55,2,    0.002,2,    0.003,2,   -0.005,2,   1.8277,2,    11.38,2,   -999.0,1,   7.811,2,   2249.9,2,   2314.0,2,     7.59,2, 7963.5,  0.0091,   0.090,   0.039,  5.1673,   0.004
   318MWESTW_4,  P21E,   137,  1,     11, SI9423,2,19940507,1428,-16.7500,-138.0000, 3550,   1052.1,   4.1891,  34.5200,2,  34.5193,2,    116.3,2,    113.0,2,    72.74,2,    37.58,2,     0.00,2,     2.64,2,    0.000,2,    0.002,2,   -0.003,2,   1.8470,2,    16.54,2,   -999.0,1,   7.880,2,   2276.0,2,   2340.0,2,     7.59,2,10519.2,  0.0092,   0.100,   0.039,  4.1075,   0.004
   318MWESTW_4,  P21E,   137,  1,     10, SI9425,2,19940507,1428,-16.7500,-138.0000, 3550,   1309.3,   3.2527,  34.5535,2,  34.5547,2,    134.3,2,    135.0,2,    88.53,2,    36.22,2,     0.00,2,     2.53,2, -999.000,9, -999.000,9,   -0.005,2,   1.8680,2,    20.03,2,   -999.0,1,   7.939,2,   2282.0,2,   2355.0,2,     7.62,2,13076.2,  0.0093,   0.100,   0.040,  3.1580,   0.003
   318MWESTW_4,  P21E,   137,  1,      9, SI9424,2,19940507,1428,-16.7500,-138.0000, 3550,   1553.4,   2.6564,  34.5911,2,  34.5904,2,    140.8,2,    142.6,2,   101.49,2,    35.88,2,     0.00,2,     2.51,2, -999.000,9, -999.000,9,   -0.002,2,   1.8904,2,    23.02,2,   -999.0,1,   8.025,2,   2291.0,2,   2371.0,2,     7.63,2,15502.4,  0.0095,   0.100,   0.040,  2.5481,   0.004
   318MWESTW_4,  P21E,   137,  1,      8, SI9428,2,19940507,1428,-16.7500,-138.0000, 3550,   1807.2,   2.2890,  34.6197,2,  34.6189,2,    146.5,2,    146.9,2,   110.29,2,    35.61,2,     0.00,2,     2.48,2, -999.000,9, -999.000,9, -999.000,1,-999.0000,1,  -999.00,9,   -999.0,1,-999.000,9,   2294.0,2,   2378.0,2,     7.64,2,18026.2,-999.0000,-999.000,-999.000,  2.1645,-999.000
   318MWESTW_4,  P21E,   137,  1,      7, SI9429,2,19940507,1428,-16.7500,-138.0000, 3550,   2052.8,   2.0650,  34.6400,2,  34.6392,2,    150.8,2,    152.0,2,   115.80,2,    35.32,2,     0.01,2,     2.46,2, -999.000,9, -999.000,9, -999.000,1,-999.0000,1,  -999.00,9,   -999.0,1,-999.000,9,   2296.0,2,   2389.0,2,     7.65,2,20467.4,-999.0000,-999.000,-999.000,  1.9231,-999.000
   318MWESTW_4,  P21E,   137,  1,      6, SI9431,2,19940507,1428,-16.7500,-138.0000, 3550,   2301.7,   1.8993,  34.6563,2,  34.6559,2,    153.5,2,    155.2,2,   120.57,2,    35.23,2,     0.01,2,     2.45,2, -999.000,9, -999.000,9, -999.000,1,-999.0000,1,  -999.00,9,   -999.0,1,-999.000,9,   2305.0,2,   2392.0,2,     7.65,2,22941.6,-999.0000,-999.000,-999.000,  1.7385,-999.000
   318MWESTW_4,  P21E,   137,  1,      5, SI9432,2,19940507,1428,-16.7500,-138.0000, 3550,   2599.4,   1.8392,  34.6642,2,  34.6637,2,    153.1,2,    155.4,2,   123.55,2,    35.24,2,     0.00,2,     2.44,2, -999.000,9, -999.000,9, -999.000,1,-999.0000,1,  -999.00,9,   -999.0,1,-999.000,9,   2308.0,2,   2397.0,2,     7.65,2,25901.7,-999.0000,-999.000,-999.000,  1.6528,-999.000
   318MWESTW_4,  P21E,   137,  1,      4, SI9433,2,19940507,1428,-16.7500,-138.0000, 3550,   2897.7,   1.7622,  34.6714,2,  34.6718,2,    155.6,2,    157.4,2,   126.23,2,    35.14,2,     0.01,2,     2.45,2, -999.000,9, -999.000,9, -999.000,1,-999.0000,1,  -999.00,9,   -999.0,1,-999.000,9,   -999.0,9,   2397.0,2,     7.66,2,28867.6,-999.0000,-999.000,-999.000,  1.5495,-999.000
   318MWESTW_4,  P21E,   137,  1,      3, SI9435,2,19940507,1428,-16.7500,-138.0000, 3550,   3196.7,   1.6980,  34.6784,2,  34.6781,2,    156.5,2,    158.0,2,   129.96,2,    35.05,2,     0.00,2,     2.44,2, -999.000,9, -999.000,9, -999.000,1,-999.0000,1,  -999.00,9,   -999.0,1,-999.000,9,   2311.0,2,   2405.0,2,     7.66,2,31839.1,-999.0000,-999.000,-999.000,  1.4576,-999.000
   318MWESTW_4,  P21E,   137,  1,      2, SI9401,2,19940507,1428,-16.7500,-138.0000, 3550,   3489.7,   1.6279,  34.6841,2,  34.6834,2,    159.7,2,    160.6,2,   131.90,2,    35.01,2,     0.00,2,     2.44,2, -999.000,9, -999.000,9, -999.000,1,-999.0000,1,  -999.00,9,   -999.0,1,-999.000,9,   2306.0,2,   2410.0,2,     7.66,2,34752.0,-999.0000,-999.000,-999.000,  1.3596,-999.000
   318MWESTW_4,  P21E,   137,  1,      1, SI9403,2,19940507,1428,-16.7500,-138.0000, 3550,   3585.7,   1.5999,  34.6855,2,  34.6850,2,    161.9,2,    162.3,2,   132.01,2,    34.81,2,    -0.01,2,     2.41,2, -999.000,9, -999.000,9, -999.000,1,-999.0000,1,  -999.00,9,   -999.0,1,-999.000,9,   2310.0,2,   2408.0,2,     7.66,2,35706.8,-999.0000,-999.000,-999.000,  1.3224,-999.000