BOTTLE,20010911WHPSIOdm
EXPOCODE,SECT_ID,STNNBR,CASTNO,SAMPNO,BTLNBR,BTLNBR_FLAG_W,DATE,TIME,LATITUDE,LONGITUDE,DEPTH,CTDPRS,CTDTMP,CTDSAL,CTDSAL_FLAG_W,SALNTY,SALNTY_FLAG_W,CTDOXY,CTDOXY_FLAG_W,OXYGEN,OXYGEN_FLAG_W,SILCAT,SILCAT_FLAG_W,NITRAT,NITRAT_FLAG_W,NITRIT,NITRIT_FLAG_W,PHSPHT,PHSPHT_FLAG_W,CFC-11,CFC-11_FLAG_W,CFC-12,CFC-12_FLAG_W,TRITUM,TRITUM_FLAG_W,HELIUM,HELIUM_FLAG_W,DELHE3,DELHE3_FLAG_W,DELC14,DELC14_FLAG_W,NEON,NEON_FLAG_W,TCARBN,TCARBN_FLAG_W,ALKALI,ALKALI_FLAG_W,PH,PH_FLAG_W,CTDRAW,HELIER,DELHER,NEONER,THETA,TRITER
,,,,,,,,,,,,DBAR,ITS-90,PSS-78,,PSS-78,,UMOL/KG,,UMOL/KG,,UMOL/KG,,UMOL/KG,,UMOL/KG,,UMOL/KG,,PMOL/KG,,PMOL/KG,,TU,,UMOL/KG,,PERCNT,,/MILLE,,NMOL/KG,,UMOL/KG,,UMOL/KG,,,,,NMOL/KG,PERCNT,NMOL/KG,ITS-90,TU
   318MWESTW_4,  P21E,    46,  1,     36, SI9336,2,19940410,2105,-16.7500, -85.0028, 4785,      9.0,  22.8636,  35.7467,2,  35.7477,2,    218.2,2,    217.0,2,     0.63,2,     0.07,2,     0.02,2,     0.49,2,    2.004,2,    1.090,2, -999.000,1,-999.0000,1,  -999.00,9,   -999.0,1,-999.000,9,   -999.0,9,   -999.0,9,  -999.00,9,  141.9,-999.0000,-999.000,-999.000, 22.8618,-999.000
   318MWESTW_4,  P21E,    46,  1,     35, SI9335,2,19940410,2105,-16.7500, -85.0028, 4785,     18.7,  22.8595,  35.7481,2,  35.7473,2,    215.5,2,    216.8,2,     0.64,2,     0.13,2,     0.02,2,     0.50,2,    1.990,2,    1.081,2, -999.000,1,-999.0000,1,  -999.00,9,   -999.0,1,-999.000,9,   -999.0,9,   -999.0,9,  -999.00,9,  239.3,-999.0000,-999.000,-999.000, 22.8557,-999.000
   318MWESTW_4,  P21E,    46,  1,     34, SI9334,2,19940410,2105,-16.7500, -85.0028, 4785,     44.7,  22.4101,  35.7247,2,  35.7124,2,    218.5,2,    219.1,2,     0.65,2,     0.17,2,     0.04,2,     0.52,2,    2.069,2,    1.115,2, -999.000,1,-999.0000,1,  -999.00,9,   -999.0,1,-999.000,9,   -999.0,9,   -999.0,9,  -999.00,9,  498.4,-999.0000,-999.000,-999.000, 22.4011,-999.000
   318MWESTW_4,  P21E,    46,  1,     33, SI9333,2,19940410,2105,-16.7500, -85.0028, 4785,     99.0,  17.6768,  35.2896,2,  35.2875,2,    216.3,2,    210.0,2,     1.61,2,     4.74,2,     0.14,2,     0.79,2,    2.572,2,    1.318,2, -999.000,1,-999.0000,1,  -999.00,9,   -999.0,1,-999.000,9,   -999.0,9,   -999.0,9,  -999.00,9, 1039.5,-999.0000,-999.000,-999.000, 17.6600,-999.000
   318MWESTW_4,  P21E,    46,  1,     32, SI9332,2,19940410,2105,-16.7500, -85.0028, 4785,    146.8,  14.8128,  34.9032,2,  34.8975,2,    126.6,2,    120.4,2,     7.27,2,    16.25,2,     0.03,2,     1.59,2,    2.011,2,    0.985,2, -999.000,1,-999.0000,1,  -999.00,9,   -999.0,1,-999.000,9,   -999.0,9,   -999.0,9,  -999.00,9, 1515.2,-999.0000,-999.000,-999.000, 14.7908,-999.000
   318MWESTW_4,  P21E,    46,  1,     31, SI9331,2,19940410,2105,-16.7500, -85.0028, 4785,    193.4,  12.2924,  34.7025,2,  34.6851,2,     35.5,2,     39.4,2,    18.18,2,    20.61,2,     0.02,2,     2.38,2,    0.891,2,    0.405,2, -999.000,1,-999.0000,1,  -999.00,9,   -999.0,1,-999.000,9,   -999.0,9,   -999.0,9,  -999.00,9, 1979.5,-999.0000,-999.000,-999.000, 12.2668,-999.000
   318MWESTW_4,  P21E,    46,  1,     30, SI9330,2,19940410,2105,-16.7500, -85.0028, 4785,    239.1,  11.0891,  34.7196,2,  34.7164,2,     24.7,2,      7.2,2,    25.15,2,    27.45,2,     0.02,2,     2.67,2,    0.222,2,    0.097,2, -999.000,1,-999.0000,1,  -999.00,9,   -999.0,1,-999.000,9,   -999.0,9,   -999.0,9,  -999.00,9, 2433.7,-999.0000,-999.000,-999.000, 11.0595,-999.000
   318MWESTW_4,  P21E,    46,  1,     29, SI9329,2,19940410,2105,-16.7500, -85.0028, 4785,    292.0,  10.2133,  34.6894,2,  34.6879,2,      7.5,2,      5.3,2,    27.42,2,    32.09,2,     0.01,2,     2.72,2,    0.098,2,    0.042,2, -999.000,1,-999.0000,1,  -999.00,9,   -999.0,1,-999.000,9,   -999.0,9,   -999.0,9,  -999.00,9, 2959.9,-999.0000,-999.000,-999.000, 10.1789,-999.000
   318MWESTW_4,  P21E,    46,  1,     28, SI9328,2,19940410,2105,-16.7500, -85.0028, 4785,    397.2,   8.7979,  34.6422,2,  34.6382,2,      7.6,2,      5.9,2,    33.63,2,    38.49,2,     0.01,2,     2.87,2,    0.018,2,    0.004,2, -999.000,1,-999.0000,1,  -999.00,9,   -999.0,1,-999.000,9,   -999.0,9,   -999.0,9,  -999.00,9, 4006.6,-999.0000,-999.000,-999.000,  8.7550,-999.000
   318MWESTW_4,  P21E,    46,  1,     27, SI9327,2,19940410,2105,-16.7500, -85.0028, 4785,    492.3,   7.5792,  34.5654,2,  34.5614,2,     21.7,2,     22.0,2,    36.84,2,    40.94,2,     0.01,2,     2.94,2,    0.016,2,    0.007,2, -999.000,1,-999.0000,1,  -999.00,9,   -999.0,1,-999.000,9,   -999.0,9,   -999.0,9,  -999.00,9, 4952.3,-999.0000,-999.000,-999.000,  7.5303,-999.000
   318MWESTW_4,  P21E,    46,  1,     26, SI9326,2,19940410,2105,-16.7500, -85.0028, 4785,    597.1,   6.5578,  34.5204,2,  34.5178,2,     36.2,2,     34.1,2,    42.49,2,    42.24,2,     0.02,2,     3.00,2,    0.006,2,   -0.003,2, -999.000,1,-999.0000,1,  -999.00,9,   -999.0,1,-999.000,9,   -999.0,9,   -999.0,9,  -999.00,9, 5994.5,-999.0000,-999.000,-999.000,  6.5027,-999.000
   318MWESTW_4,  P21E,    46,  1,     25, SI9325,2,19940410,2105,-16.7500, -85.0028, 4785,    701.1,   5.8080,  34.5093,2,  34.5103,2,     35.4,2,     33.8,2,    52.27,2,    43.66,2,     0.01,2,     3.11,2,   -0.002,2,   -0.003,2, -999.000,1,-999.0000,1,  -999.00,9,   -999.0,1,-999.000,9,   -999.0,9,   -999.0,9,  -999.00,9, 7028.9,-999.0000,-999.000,-999.000,  5.7468,-999.000
   318MWESTW_4,  P21E,    46,  1,     24, SI9324,2,19940410,2105,-16.7500, -85.0028, 4785,    800.5,   5.1970,  34.5077,2,  34.5066,2,     37.5,2,     41.1,2,    61.67,2,    43.98,2,     0.01,2,     3.13,2,   -0.002,2,   -0.004,2, -999.000,1,-999.0000,1,  -999.00,9,   -999.0,1,-999.000,9,   -999.0,9,   -999.0,9,  -999.00,9, 8016.8,-999.0000,-999.000,-999.000,  5.1303,-999.000
   318MWESTW_4,  P21E,    46,  1,     23, SI9323,2,19940410,2105,-16.7500, -85.0028, 4785,    894.1,   4.6914,  34.5156,2,  34.5142,2,     49.8,2,     52.5,2,    70.51,2,    43.50,2,     0.00,2,     3.08,2,   -0.003,2,   -0.004,2, -999.000,1,-999.0000,1,  -999.00,9,   -999.0,1,-999.000,9,   -999.0,9,   -999.0,9,  -999.00,9, 8947.8,-999.0000,-999.000,-999.000,  4.6197,-999.000
   318MWESTW_4,  P21E,    46,  1,     22, SI9322,2,19940410,2105,-16.7500, -85.0028, 4785,   1003.6,   4.2506,  34.5281,2,  34.5274,2,     60.8,2,     64.0,2,    79.35,2,    42.74,2,     0.00,2,     3.05,2,    0.002,2,   -0.004,2, -999.000,1,-999.0000,1,  -999.00,9,   -999.0,1,-999.000,9,   -999.0,9,   -999.0,9,  -999.00,9,10036.4,-999.0000,-999.000,-999.000,  4.1727,-999.000
   318MWESTW_4,  P21E,    46,  1,     21, SI9321,2,19940410,2105,-16.7500, -85.0028, 4785,   1101.7,   3.8682,  34.5430,2,  34.5423,2,     69.5,2,     72.8,2,    87.80,2,    42.14,2,     0.00,2,     3.00,2, -999.000,9, -999.000,9, -999.000,1,-999.0000,1,  -999.00,9,   -999.0,1,-999.000,9,   -999.0,9,   -999.0,9,  -999.00,9,11011.4,-999.0000,-999.000,-999.000,  3.7850,-999.000
   318MWESTW_4,  P21E,    46,  1,     20, SI9320,2,19940410,2105,-16.7500, -85.0028, 4785,   1201.7,   3.6070,  34.5576,2,  34.5563,2,     75.9,2,     76.2,2,    95.13,2,    41.81,2,     0.01,2,     2.99,2, -999.000,9, -999.000,9, -999.000,1,-999.0000,1,  -999.00,9,   -999.0,1,-999.000,9,   -999.0,9,   -999.0,9,  -999.00,9,12006.2,-999.0000,-999.000,-999.000,  3.5178,-999.000
   318MWESTW_4,  P21E,    46,  1,     19, SI9319,2,19940410,2105,-16.7500, -85.0028, 4785,   1302.3,   3.3123,  34.5691,2,  34.5702,2,     85.0,2,     87.1,2,   100.40,2,    40.94,2,     0.01,2,     2.92,2, -999.000,9, -999.000,9, -999.000,1,-999.0000,1,  -999.00,9,   -999.0,1,-999.000,9,   -999.0,9,   -999.0,9,  -999.00,9,13006.0,-999.0000,-999.000,-999.000,  3.2175,-999.000
   318MWESTW_4,  P21E,    46,  1,     18, SI9318,2,19940410,2105,-16.7500, -85.0028, 4785,   1396.8,   3.0895,  34.5848,2,  34.5840,2,     90.2,2,     88.2,2,   107.54,2,    40.61,2,     0.01,2,     2.92,2, -999.000,9, -999.000,9, -999.000,1,-999.0000,1,  -999.00,9,   -999.0,1,-999.000,9,   -999.0,9,   -999.0,9,  -999.00,9,13945.5,-999.0000,-999.000,-999.000,  2.9892,-999.000
   318MWESTW_4,  P21E,    46,  1,     17, SI9317,2,19940410,2105,-16.7500, -85.0028, 4785,   1501.3,   2.8790,  34.5965,2,  34.5956,2,     93.7,2,     95.1,2,   112.05,2,    39.96,2,     0.01,2,     2.88,2, -999.000,9, -999.000,9, -999.000,1,-999.0000,1,  -999.00,9,   -999.0,1,-999.000,9,   -999.0,9,   -999.0,9,  -999.00,9,14985.1,-999.0000,-999.000,-999.000,  2.7724,-999.000
   318MWESTW_4,  P21E,    46,  1,     16, SI9316,2,19940410,2105,-16.7500, -85.0028, 4785,   1602.0,   2.6975,  34.6044,2,  34.6075,3,     99.3,2,    100.1,2,   117.13,2,    39.42,2,     0.01,2,     2.82,2, -999.000,9, -999.000,9, -999.000,1,-999.0000,1,  -999.00,9,   -999.0,1,-999.000,9,   -999.0,9,   -999.0,9,  -999.00,9,15986.2,-999.0000,-999.000,-999.000,  2.5847,-999.000
   318MWESTW_4,  P21E,    46,  1,     15, SI9315,2,19940410,2105,-16.7500, -85.0028, 4785,   1755.0,   2.4776,  34.6245,2,  34.6236,2,    104.9,2,    105.1,2,   123.88,2,    39.16,2,     0.00,2,     2.80,2, -999.000,9, -999.000,9, -999.000,1,-999.0000,1,  -999.00,9,   -999.0,1,-999.000,9,   -999.0,9,   -999.0,9,  -999.00,9,17506.6,-999.0000,-999.000,-999.000,  2.3549,-999.000
   318MWESTW_4,  P21E,    46,  1,     14, SI9314,2,19940410,2105,-16.7500, -85.0028, 4785,   1888.3,   2.2911,  34.6374,2,  34.6374,2,    113.8,2,    113.1,2,   127.09,2,    38.61,2,     0.00,2,     2.73,2, -999.000,9, -999.000,9, -999.000,1,-999.0000,1,  -999.00,9,   -999.0,1,-999.000,9,   -999.0,9,   -999.0,9,  -999.00,9,18832.5,-999.0000,-999.000,-999.000,  2.1597,-999.000
   318MWESTW_4,  P21E,    46,  1,     13, SI9313,2,19940410,2105,-16.7500, -85.0028, 4785,   2099.1,   2.1056,  34.6513,2,  34.6498,2,    119.1,2,    121.7,2,   130.65,2,    38.01,2,     0.00,2,     2.67,2, -999.000,9, -999.000,9, -999.000,1,-999.0000,1,  -999.00,9,   -999.0,1,-999.000,9,   -999.0,9,   -999.0,9,  -999.00,9,20928.0,-999.0000,-999.000,-999.000,  1.9590,-999.000
   318MWESTW_4,  P21E,    46,  1,     12, SI9312,2,19940410,2105,-16.7500, -85.0028, 4785,   2299.6,   1.9686,  34.6610,2,  34.6602,2,    133.7,2,    132.2,2,   130.10,2,    37.15,2,     0.00,2,     2.61,2, -999.000,9, -999.000,9, -999.000,1,-999.0000,1,  -999.00,9,   -999.0,1,-999.000,9,   -999.0,9,   -999.0,9,  -999.00,9,22921.3,-999.0000,-999.000,-999.000,  1.8068,-999.000
   318MWESTW_4,  P21E,    46,  1,     11, SI9311,2,19940410,2105,-16.7500, -85.0028, 4785,   2499.8,   1.8790,  34.6686,2,  34.6686,2,    139.9,2,    138.7,2,   130.48,2,    36.66,2,     0.00,2,     2.57,2, -999.000,9, -999.000,9, -999.000,1,-999.0000,1,  -999.00,9,   -999.0,1,-999.000,9,   -999.0,9,   -999.0,9,  -999.00,9,24912.0,-999.0000,-999.000,-999.000,  1.7009,-999.000
   318MWESTW_4,  P21E,    46,  1,     10, SI9310,2,19940410,2105,-16.7500, -85.0028, 4785,   2697.5,   1.8264,  34.6749,2,  34.6739,2,    139.2,2,    139.0,2,   134.43,2,    36.44,2,     0.00,2,     2.57,2, -999.000,9, -999.000,9, -999.000,1,-999.0000,1,  -999.00,9,   -999.0,1,-999.000,9,   -999.0,9,   -999.0,9,  -999.00,9,26877.5,-999.0000,-999.000,-999.000,  1.6312,-999.000
   318MWESTW_4,  P21E,    46,  1,      9, SI9309,2,19940410,2105,-16.7500, -85.0028, 4785,   2896.2,   1.8056,  34.6775,2,  34.6773,2,    139.2,2,    138.9,2,   136.50,2,    36.39,2,     0.00,2,     2.57,2, -999.000,9, -999.000,9, -999.000,1,-999.0000,1,  -999.00,9,   -999.0,1,-999.000,9,   -999.0,9,   -999.0,9,  -999.00,9,28852.4,-999.0000,-999.000,-999.000,  1.5921,-999.000
   318MWESTW_4,  P21E,    46,  1,      8, SI9308,2,19940410,2105,-16.7500, -85.0028, 4785,   3096.8,   1.7942,  34.6801,2,  34.6796,2,    138.8,2,    139.2,2,   138.00,2,    36.23,2,    -0.01,2,     2.56,2, -999.000,9, -999.000,9, -999.000,1,-999.0000,1,  -999.00,9,   -999.0,1,-999.000,9,   -999.0,9,   -999.0,9,  -999.00,9,30847.2,-999.0000,-999.000,-999.000,  1.5615,-999.000
   318MWESTW_4,  P21E,    46,  1,      7, SI9307,2,19940410,2105,-16.7500, -85.0028, 4785,   3295.1,   1.7901,  34.6824,2,  34.6820,2,    140.7,2,    141.4,2,   136.88,2,    36.22,2,     0.00,2,     2.53,2, -999.000,9, -999.000,9, -999.000,1,-999.0000,1,  -999.00,9,   -999.0,1,-999.000,9,   -999.0,9,   -999.0,9,  -999.00,9,32818.5,-999.0000,-999.000,-999.000,  1.5377,-999.000
   318MWESTW_4,  P21E,    46,  1,      6, SI9306,2,19940410,2105,-16.7500, -85.0028, 4785,   3497.8,   1.7799,  34.6846,2,  34.6838,2,    143.7,2,    144.3,2,   135.76,2,    36.12,2,     0.00,2,     2.52,2, -999.000,9, -999.000,9, -999.000,1,-999.0000,1,  -999.00,9,   -999.0,1,-999.000,9,   -999.0,9,   -999.0,9,  -999.00,9,34833.5,-999.0000,-999.000,-999.000,  1.5069,-999.000
   318MWESTW_4,  P21E,    46,  1,      5, SI9305,2,19940410,2105,-16.7500, -85.0028, 4785,   3691.9,   1.7726,  34.6864,2,  34.6863,2,    147.1,2,    147.5,2,   133.51,2,    35.85,2,     0.00,2,     2.50,2, -999.000,9, -999.000,9, -999.000,1,-999.0000,1,  -999.00,9,   -999.0,1,-999.000,9,   -999.0,9,   -999.0,9,  -999.00,9,36762.9,-999.0000,-999.000,-999.000,  1.4794,-999.000
   318MWESTW_4,  P21E,    46,  1,      4, SI9304,2,19940410,2105,-16.7500, -85.0028, 4785,   3896.9,   1.7677,  34.6880,2,  34.6877,2,    151.4,2,    151.6,2,   130.91,2,    35.69,2,     0.00,2,     2.48,2, -999.000,9, -999.000,9, -999.000,1,-999.0000,1,  -999.00,9,   -999.0,1,-999.000,9,   -999.0,9,   -999.0,9,  -999.00,9,38801.2,-999.0000,-999.000,-999.000,  1.4526,-999.000
   318MWESTW_4,  P21E,    46,  1,      3, SI9303,2,19940410,2105,-16.7500, -85.0028, 4785,   4144.2,   1.7716,  34.6896,2,  34.6883,2,    153.5,2,    153.7,2,   129.41,2,    35.48,2,    -0.01,2,     2.48,2, -999.000,9, -999.000,9, -999.000,1,-999.0000,1,  -999.00,9,   -999.0,1,-999.000,9,   -999.0,9,   -999.0,9,  -999.00,9,41259.8,-999.0000,-999.000,-999.000,  1.4290,-999.000
   318MWESTW_4,  P21E,    46,  1,      2, SI9302,2,19940410,2105,-16.7500, -85.0028, 4785,   4399.9,   1.7895,  34.6905,2,  34.6869,3,    153.7,2,    154.0,2,   129.60,2,    35.30,2,     0.00,2,     2.48,2, -999.000,9, -999.000,9, -999.000,1,-999.0000,1,  -999.00,9,   -999.0,1,-999.000,9,   -999.0,9,   -999.0,9,  -999.00,9,43801.7,-999.0000,-999.000,-999.000,  1.4172,-999.000
   318MWESTW_4,  P21E,    46,  1,      1, SI9301,2,19940410,2105,-16.7500, -85.0028, 4785,   4433.9,   1.7928,  34.6913,2,  34.6905,2,    153.4,2,    154.4,2,   129.39,2,    35.25,2,     0.00,2,     2.47,2, -999.000,9, -999.000,9, -999.000,1,-999.0000,1,  -999.00,9,   -999.0,1,-999.000,9,   -999.0,9,   -999.0,9,  -999.00,9,44139.5,-999.0000,-999.000,-999.000,  1.4164,-999.000