BOTTLE,20010911WHPSIOdm
EXPOCODE,SECT_ID,STNNBR,CASTNO,SAMPNO,BTLNBR,BTLNBR_FLAG_W,DATE,TIME,LATITUDE,LONGITUDE,DEPTH,CTDPRS,CTDTMP,CTDSAL,CTDSAL_FLAG_W,SALNTY,SALNTY_FLAG_W,CTDOXY,CTDOXY_FLAG_W,OXYGEN,OXYGEN_FLAG_W,SILCAT,SILCAT_FLAG_W,NITRAT,NITRAT_FLAG_W,NITRIT,NITRIT_FLAG_W,PHSPHT,PHSPHT_FLAG_W,CFC-11,CFC-11_FLAG_W,CFC-12,CFC-12_FLAG_W,TRITUM,TRITUM_FLAG_W,HELIUM,HELIUM_FLAG_W,DELHE3,DELHE3_FLAG_W,DELC14,DELC14_FLAG_W,NEON,NEON_FLAG_W,TCARBN,TCARBN_FLAG_W,ALKALI,ALKALI_FLAG_W,PH,PH_FLAG_W,CTDRAW,HELIER,DELHER,NEONER,THETA,TRITER
,,,,,,,,,,,,DBAR,ITS-90,PSS-78,,PSS-78,,UMOL/KG,,UMOL/KG,,UMOL/KG,,UMOL/KG,,UMOL/KG,,UMOL/KG,,PMOL/KG,,PMOL/KG,,TU,,UMOL/KG,,PERCNT,,/MILLE,,NMOL/KG,,UMOL/KG,,UMOL/KG,,,,,NMOL/KG,PERCNT,NMOL/KG,ITS-90,TU
   318MWESTW_5,  P21W,   280,  1,     36, SI9442,2,19940619,0843,-24.2333, 155.7945, 3890,      7.0,  23.7418,  35.2673,2,  35.2670,2,    207.8,2,    211.2,2,  -999.00,1,  -999.00,1,  -999.00,1,  -999.00,1,    1.883,2,    1.061,2, -999.000,1,-999.0000,1,  -999.00,9,   -999.0,1,-999.000,9,   -999.0,9,   -999.0,9,  -999.00,9,  128.7,-999.0000,-999.000,-999.000, 23.7403,-999.000
   318MWESTW_5,  P21W,   280,  1,     35, SI9435,2,19940619,0843,-24.2333, 155.7945, 3890,     21.2,  23.7429,  35.2681,2,  35.2676,2,    207.9,2,    209.0,2,     0.70,2,     0.00,2,     0.00,2,     0.13,2, -999.000,9, -999.000,9, -999.000,1,-999.0000,1,  -999.00,9,   -999.0,1,-999.000,9,   -999.0,9,   -999.0,9,  -999.00,9,  270.6,-999.0000,-999.000,-999.000, 23.7385,-999.000
   318MWESTW_5,  P21W,   280,  1,     34, SI9441,2,19940619,0843,-24.2333, 155.7945, 3890,     46.8,  23.7391,  35.2700,2,  35.2903,2,    209.0,2,    212.7,2,     0.71,2,     0.04,2,     0.00,2,     0.13,2,    1.875,6,    1.050,6, -999.000,1,-999.0000,1,  -999.00,9,   -999.0,1,-999.000,9,   -999.0,9,   -999.0,9,  -999.00,9,  525.4,-999.0000,-999.000,-999.000, 23.7293,-999.000
   318MWESTW_5,  P21W,   280,  1,     33, SI9433,2,19940619,0843,-24.2333, 155.7945, 3890,     97.1,  23.3959,  35.6392,2,  35.6382,2,    189.5,2,    203.4,2,     0.72,2,     0.38,2,     0.05,2,     0.17,2,    1.915,2,    1.063,2, -999.000,1,-999.0000,1,  -999.00,9,   -999.0,1,-999.000,9,   -999.0,9,   -999.0,9,  -999.00,9, 1026.7,-999.0000,-999.000,-999.000, 23.3758,-999.000
   318MWESTW_5,  P21W,   280,  1,     32, SI9432,2,19940619,0843,-24.2333, 155.7945, 3890,    147.8,  21.6596,  35.7272,2,  35.7246,2,    165.4,2,    172.7,2,     1.16,2,     4.09,2,     0.01,2,     0.42,2,    1.905,2,    1.044,2, -999.000,1,-999.0000,1,  -999.00,9,   -999.0,1,-999.000,9,   -999.0,9,   -999.0,9,  -999.00,9, 1531.5,-999.0000,-999.000,-999.000, 21.6306,-999.000
   318MWESTW_5,  P21W,   280,  1,     31, SI9431,2,19940619,0843,-24.2333, 155.7945, 3890,    198.4,  20.4123,  35.6951,2,  35.6938,2,    175.3,2,    176.3,2,     1.31,2,     4.57,2,     0.01,2,     0.44,2,    1.904,2,    1.056,2, -999.000,1,-999.0000,1,  -999.00,9,   -999.0,1,-999.000,9,   -999.0,9,   -999.0,9,  -999.00,9, 2035.5,-999.0000,-999.000,-999.000, 20.3749,-999.000
   318MWESTW_5,  P21W,   280,  1,     30, SI9440,2,19940619,0843,-24.2333, 155.7945, 3890,    249.9,  19.1128,  35.6232,2,  35.6188,2,    173.1,2,    177.8,2,     1.61,2,     5.50,2,     0.00,2,     0.50,2,    1.940,2,    1.044,2, -999.000,1,-999.0000,1,  -999.00,9,   -999.0,1,-999.000,9,   -999.0,9,   -999.0,9,  -999.00,9, 2547.5,-999.0000,-999.000,-999.000, 19.0678,-999.000
   318MWESTW_5,  P21W,   280,  1,     29, SI9429,2,19940619,0843,-24.2333, 155.7945, 3890,    295.8,  17.8959,  35.5285,2,  35.5247,2,    175.8,2,    173.9,2,     2.33,2,     7.11,2,     0.00,2,     0.62,2,    1.831,2,    0.994,2, -999.000,1,-999.0000,1,  -999.00,9,   -999.0,1,-999.000,9,   -999.0,9,   -999.0,9,  -999.00,9, 3004.7,-999.0000,-999.000,-999.000, 17.8450,-999.000
   318MWESTW_5,  P21W,   280,  1,     28, SI9428,2,19940619,0843,-24.2333, 155.7945, 3890,    395.6,  15.3843,  35.3207,2,  35.3212,2,    177.3,2,    174.6,2,     3.64,2,    10.22,2,     0.00,2,     0.81,2,    1.669,2,    0.882,2, -999.000,1,-999.0000,1,  -999.00,9,   -999.0,1,-999.000,9,   -999.0,9,   -999.0,9,  -999.00,9, 3997.4,-999.0000,-999.000,-999.000, 15.3228,-999.000
   318MWESTW_5,  P21W,   280,  1,     27, SI9424,2,19940619,0843,-24.2333, 155.7945, 3890,    499.3,  12.2035,  35.0109,2,  35.0049,2,    180.0,2,    179.9,2,     6.39,2,    15.34,2,     0.00,2,     1.13,2,    1.348,2,    0.703,2, -999.000,1,-999.0000,1,  -999.00,9,   -999.0,1,-999.000,9,   -999.0,9,   -999.0,9,  -999.00,9, 5029.4,-999.0000,-999.000,-999.000, 12.1368,-999.000
   318MWESTW_5,  P21W,   280,  1,     26, SI9414,2,19940619,0843,-24.2333, 155.7945, 3890,    601.6,   9.1456,  34.6873,2,  34.6830,2,    190.1,2,    188.8,2,    11.01,2,    20.95,2,     0.00,2,     1.49,2,    0.826,2,    0.435,2, -999.000,1,-999.0000,1,  -999.00,9,   -999.0,1,-999.000,9,   -999.0,9,   -999.0,9,  -999.00,9, 6046.6,-999.0000,-999.000,-999.000,  9.0784,-999.000
   318MWESTW_5,  P21W,   280,  1,     25, SI9425,2,19940619,0843,-24.2333, 155.7945, 3890,    704.1,   7.9148,  34.5714,2,  34.5698,2,    194.1,2,    191.6,2,    14.77,2,    23.36,2,     0.00,2,     1.64,2,    0.548,2,    0.292,2, -999.000,1,-999.0000,1,  -999.00,9,   -999.0,1,-999.000,9,   -999.0,9,   -999.0,9,  -999.00,9, 7065.7,-999.0000,-999.000,-999.000,  7.8421,-999.000
   318MWESTW_5,  P21W,   280,  1,     24, SI9434,2,19940619,0843,-24.2333, 155.7945, 3890,    799.6,   6.7863,  34.4946,2,  34.4924,2,    193.6,2,    189.8,2,    21.84,2,    26.00,2,     0.00,2,     1.81,2,    0.315,2,    0.172,2, -999.000,1,-999.0000,1,  -999.00,9,   -999.0,1,-999.000,9,   -999.0,9,   -999.0,9,  -999.00,9, 8016.1,-999.0000,-999.000,-999.000,  6.7101,-999.000
   318MWESTW_5,  P21W,   280,  1,     23, SI9423,2,19940619,0843,-24.2333, 155.7945, 3890,    898.0,   5.9330,  34.4596,2,  34.4587,2,    188.6,2,    185.0,2,    30.20,2,    28.19,2,     0.00,2,     1.96,2,    0.169,2,    0.100,2, -999.000,1,-999.0000,1,  -999.00,9,   -999.0,1,-999.000,9,   -999.0,9,   -999.0,9,  -999.00,9, 8994.7,-999.0000,-999.000,-999.000,  5.8526,-999.000
   318MWESTW_5,  P21W,   280,  1,     21, SI9421,2,19940619,0843,-24.2333, 155.7945, 3890,   1102.7,   4.5415,  34.4797,2,  34.4791,2,    174.8,2,    169.0,2,    53.84,2,    31.76,2,     0.00,2,     2.20,2,    0.044,2,    0.025,2, -999.000,1,-999.0000,1,  -999.00,9,   -999.0,1,-999.000,9,   -999.0,9,   -999.0,9,  -999.00,9,11030.1,-999.0000,-999.000,-999.000,  4.4527,-999.000
   318MWESTW_5,  P21W,   280,  1,     20, SI9420,2,19940619,0843,-24.2333, 155.7945, 3890,   1294.9,   3.7570,  34.5275,2,  34.5256,2,    162.7,2,    158.5,2,    73.44,2,    33.56,2,     0.01,2,     2.35,2, -999.000,9, -999.000,9, -999.000,1,-999.0000,1,  -999.00,9,   -999.0,1,-999.000,9,   -999.0,9,   -999.0,9,  -999.00,9,12940.7,-999.0000,-999.000,-999.000,  3.6585,-999.000
   318MWESTW_5,  P21W,   280,  1,     19, SI9419,2,19940619,0843,-24.2333, 155.7945, 3890,   1503.1,   3.2100,  34.5720,2,  34.5706,2,    152.1,2,    149.7,2,    89.30,2,    34.71,2,     0.00,2,     2.42,2,    0.002,2,    0.001,2, -999.000,1,-999.0000,1,  -999.00,9,   -999.0,1,-999.000,9,   -999.0,9,   -999.0,9,  -999.00,9,15010.5,-999.0000,-999.000,-999.000,  3.0995,-999.000
   318MWESTW_5,  P21W,   280,  1,     18, SI9439,2,19940619,0843,-24.2333, 155.7945, 3890,   1594.1,   2.8599,  34.6015,2,  34.6012,2,    146.2,2,    145.5,2,    98.81,2,    35.12,2,     0.00,2,     2.45,2, -999.000,9, -999.000,9, -999.000,1,-999.0000,1,  -999.00,9,   -999.0,1,-999.000,9,   -999.0,9,   -999.0,9,  -999.00,9,15915.6,-999.0000,-999.000,-999.000,  2.7458,-999.000
   318MWESTW_5,  P21W,   280,  1,     17, SI9417,2,19940619,0843,-24.2333, 155.7945, 3890,   1698.4,   2.6715,  34.6216,2,  34.6207,2,    150.9,2,    152.1,2,    97.52,2,    34.64,2,     0.00,2,     2.42,2,   -0.001,2,   -0.002,2, -999.000,1,-999.0000,1,  -999.00,9,   -999.0,1,-999.000,9,   -999.0,9,   -999.0,9,  -999.00,9,16952.5,-999.0000,-999.000,-999.000,  2.5509,-999.000
   318MWESTW_5,  P21W,   280,  1,     16, SI9416,2,19940619,0843,-24.2333, 155.7945, 3890,   1893.4,   2.3873,  34.6555,2,  34.6543,2,    158.0,2,    159.1,2,    98.83,2,    34.04,2,     0.00,2,     2.37,2, -999.000,9, -999.000,9, -999.000,1,-999.0000,1,  -999.00,9,   -999.0,1,-999.000,9,   -999.0,9,   -999.0,9,  -999.00,9,18891.1,-999.0000,-999.000,-999.000,  2.2541,-999.000
   318MWESTW_5,  P21W,   280,  1,     15, SI9415,2,19940619,0843,-24.2333, 155.7945, 3890,   2099.3,   2.2113,  34.6839,2,  34.6832,2,    169.4,2,    168.9,2,    95.23,2,    33.04,2,     0.00,2,     2.30,2, -999.000,9, -999.000,9, -999.000,1,-999.0000,1,  -999.00,9,   -999.0,1,-999.000,9,   -999.0,9,   -999.0,9,  -999.00,9,20937.7,-999.0000,-999.000,-999.000,  2.0629,-999.000
   318MWESTW_5,  P21W,   280,  1,     12, SI9438,2,19940619,0843,-24.2333, 155.7945, 3890,   2305.0,   2.0179,  34.7069,2,  34.7066,2,    177.5,2,    177.5,2,    95.98,2,    32.54,2,     0.00,2,     2.26,2,    0.000,2,   -0.001,2, -999.000,1,-999.0000,1,  -999.00,9,   -999.0,1,-999.000,9,   -999.0,9,   -999.0,9,  -999.00,9,22982.8,-999.0000,-999.000,-999.000,  1.8546,-999.000
   318MWESTW_5,  P21W,   280,  1,     13, SI9413,2,19940619,0843,-24.2333, 155.7945, 3890,   2305.4,   2.0186,  34.7068,2,  34.7068,2,    177.5,2,    177.1,2,    95.97,2,    32.58,2,     0.00,2,     2.25,2,    0.000,2,    0.000,2, -999.000,1,-999.0000,1,  -999.00,9,   -999.0,1,-999.000,9,   -999.0,9,   -999.0,9,  -999.00,9,22987.1,-999.0000,-999.000,-999.000,  1.8553,-999.000
   318MWESTW_5,  P21W,   280,  1,     14, SI9436,2,19940619,0843,-24.2333, 155.7945, 3890,   2306.6,   2.0186,  34.7077,2,  34.7066,2,    177.5,2,    176.9,2,    95.81,2,    32.48,2,     0.00,2,     2.25,2, -999.000,9, -999.000,9, -999.000,1,-999.0000,1,  -999.00,9,   -999.0,1,-999.000,9,   -999.0,9,   -999.0,9,  -999.00,9,22999.0,-999.0000,-999.000,-999.000,  1.8551,-999.000
   318MWESTW_5,  P21W,   280,  1,     11, SI9411,2,19940619,0843,-24.2333, 155.7945, 3890,   2499.9,   1.8572,  34.7221,2,  34.7221,2,    183.0,2,    183.4,2,    98.43,2,    32.02,2,     0.00,2,     2.22,2, -999.000,9, -999.000,9, -999.000,1,-999.0000,1,  -999.00,9,   -999.0,1,-999.000,9,   -999.0,9,   -999.0,9,  -999.00,9,24920.4,-999.0000,-999.000,-999.000,  1.6793,-999.000
   318MWESTW_5,  P21W,   280,  1,     10, SI9412,2,19940619,0843,-24.2333, 155.7945, 3890,   2696.5,   1.6400,  34.7255,2,  34.7247,2,    187.3,2,    187.4,2,   103.63,2,    31.85,2,     0.00,2,     2.21,2, -999.000,9, -999.000,9, -999.000,1,-999.0000,1,  -999.00,9,   -999.0,1,-999.000,9,   -999.0,9,   -999.0,9,  -999.00,9,26875.1,-999.0000,-999.000,-999.000,  1.4484,-999.000
   318MWESTW_5,  P21W,   280,  1,      9, SI9410,2,19940619,0843,-24.2333, 155.7945, 3890,   2894.1,   1.4816,  34.7253,2,  34.7243,2,    191.0,2,    190.4,2,   107.52,2,    31.95,2,     0.00,2,     2.20,2,    0.001,2,   -0.001,2, -999.000,1,-999.0000,1,  -999.00,9,   -999.0,1,-999.000,9,   -999.0,9,   -999.0,9,  -999.00,9,28840.0,-999.0000,-999.000,-999.000,  1.2750,-999.000
   318MWESTW_5,  P21W,   280,  1,      8, SI9422,2,19940619,0843,-24.2333, 155.7945, 3890,   3091.4,   1.3326,  34.7231,2,  34.7227,2,    192.8,2,    193.0,2,   110.99,2,    32.05,2,     0.00,2,     2.21,2, -999.000,9, -999.000,9, -999.000,1,-999.0000,1,  -999.00,9,   -999.0,1,-999.000,9,   -999.0,9,   -999.0,9,  -999.00,9,30801.0,-999.0000,-999.000,-999.000,  1.1106,-999.000
   318MWESTW_5,  P21W,   280,  1,      7, SI9407,2,19940619,0843,-24.2333, 155.7945, 3890,   3297.6,   1.2402,  34.7213,2,  34.7201,2,    194.4,2,    193.9,2,   113.45,2,    32.15,2,     0.00,2,     2.22,2, -999.000,9, -999.000,9, -999.000,1,-999.0000,1,  -999.00,9,   -999.0,1,-999.000,9,   -999.0,9,   -999.0,9,  -999.00,9,32851.5,-999.0000,-999.000,-999.000,  1.0005,-999.000
   318MWESTW_5,  P21W,   280,  1,      6, SI9427,2,19940619,0843,-24.2333, 155.7945, 3890,   3495.6,   1.1702,  34.7191,2,  34.7174,2,    195.9,2,    195.7,2,   115.62,2,    32.37,2,     0.00,2,     2.23,2,    0.000,2,   -0.002,2, -999.000,1,-999.0000,1,  -999.00,9,   -999.0,1,-999.000,9,   -999.0,9,   -999.0,9,  -999.00,9,34819.0,-999.0000,-999.000,-999.000,  0.9126,-999.000
   318MWESTW_5,  P21W,   280,  1,      5, SI9405,2,19940619,0843,-24.2333, 155.7945, 3890,   3702.4,   1.1530,  34.7183,2,  34.7172,2,    196.6,2,    195.6,2,   116.78,2,    32.43,2,     0.00,2,     2.25,2, -999.000,9, -999.000,9, -999.000,1,-999.0000,1,  -999.00,9,   -999.0,1,-999.000,9,   -999.0,9,   -999.0,9,  -999.00,9,36875.4,-999.0000,-999.000,-999.000,  0.8749,-999.000
   318MWESTW_5,  P21W,   280,  1,      4, SI9404,2,19940619,0843,-24.2333, 155.7945, 3890,   3794.5,   1.1535,  34.7178,2,  34.7166,2,    196.7,2,    195.7,2,   117.07,2,    32.35,2,     0.00,2,     2.24,2, -999.000,9, -999.000,9, -999.000,1,-999.0000,1,  -999.00,9,   -999.0,1,-999.000,9,   -999.0,9,   -999.0,9,  -999.00,9,37791.1,-999.0000,-999.000,-999.000,  0.8658,-999.000
   318MWESTW_5,  P21W,   280,  1,      3, SI9403,2,19940619,0843,-24.2333, 155.7945, 3890,   3857.2,   1.1520,  34.7181,2,  34.7164,2,    194.0,2,    195.8,2,   117.38,2,    32.27,2,     0.00,2,     2.24,2,   -0.001,2,   -0.002,2, -999.000,1,-999.0000,1,  -999.00,9,   -999.0,1,-999.000,9,   -999.0,9,   -999.0,9,  -999.00,9,38413.7,-999.0000,-999.000,-999.000,  0.8578,-999.000
   318MWESTW_5,  P21W,   280,  1,      2, SI9437,3,19940619,0843,-24.2333, 155.7945, 3890,   3887.9,   1.1517,  34.7187,2,  34.8861,4,    194.2,2,    184.4,4,    59.34,4,    24.35,4,     0.00,4,     1.70,4, -999.000,9, -999.000,9, -999.000,1,-999.0000,1,  -999.00,9,   -999.0,1,-999.000,9,   -999.0,9,   -999.0,9,  -999.00,9,38719.6,-999.0000,-999.000,-999.000,  0.8543,-999.000
   318MWESTW_5,  P21W,   280,  1,      1, SI9401,2,19940619,0843,-24.2333, 155.7945, 3890,   3924.2,   1.1470,  34.7180,2,  34.7162,2,    195.9,2,    195.9,2,   117.52,2,    32.45,2,     0.00,2,     2.23,2,    0.001,2,   -0.003,2, -999.000,1,-999.0000,1,  -999.00,9,   -999.0,1,-999.000,9,   -999.0,9,   -999.0,9,  -999.00,9,39080.6,-999.0000,-999.000,-999.000,  0.8459,-999.000