BOTTLE,20010911WHPSIOdm
EXPOCODE,SECT_ID,STNNBR,CASTNO,SAMPNO,BTLNBR,BTLNBR_FLAG_W,DATE,TIME,LATITUDE,LONGITUDE,DEPTH,CTDPRS,CTDTMP,CTDSAL,CTDSAL_FLAG_W,SALNTY,SALNTY_FLAG_W,CTDOXY,CTDOXY_FLAG_W,OXYGEN,OXYGEN_FLAG_W,SILCAT,SILCAT_FLAG_W,NITRAT,NITRAT_FLAG_W,NITRIT,NITRIT_FLAG_W,PHSPHT,PHSPHT_FLAG_W,CFC-11,CFC-11_FLAG_W,CFC-12,CFC-12_FLAG_W,TRITUM,TRITUM_FLAG_W,HELIUM,HELIUM_FLAG_W,DELHE3,DELHE3_FLAG_W,DELC14,DELC14_FLAG_W,NEON,NEON_FLAG_W,TCARBN,TCARBN_FLAG_W,ALKALI,ALKALI_FLAG_W,PH,PH_FLAG_W,CTDRAW,HELIER,DELHER,NEONER,THETA,TRITER
,,,,,,,,,,,,DBAR,ITS-90,PSS-78,,PSS-78,,UMOL/KG,,UMOL/KG,,UMOL/KG,,UMOL/KG,,UMOL/KG,,UMOL/KG,,PMOL/KG,,PMOL/KG,,TU,,UMOL/KG,,PERCNT,,/MILLE,,NMOL/KG,,UMOL/KG,,UMOL/KG,,,,,NMOL/KG,PERCNT,NMOL/KG,ITS-90,TU
   318MWESTW_4,  P21E,    69,  1,     36, SI9336,2,19940418,0304,-16.7417, -98.0000, 4190,     10.7,  24.1182,  36.1704,2,  36.1741,2,    213.2,2,    215.7,2,     0.31,2,     0.09,2,     0.01,2,     0.35,2,    1.930,2,    1.083,2,    0.591,2,   1.6983,2,    -1.27,2,   -999.0,1,   6.756,2,   -999.0,9,   -999.0,9,  -999.00,9,  153.2,  0.0085,   0.080,   0.034, 24.1159,   0.007
   318MWESTW_4,  P21E,    69,  1,     35, SI9335,2,19940418,0304,-16.7417, -98.0000, 4190,     25.4,  24.0933,  36.1671,2,  36.1737,2,    212.7,2,    213.5,2,     0.31,2,     0.04,2,     0.01,2,     0.35,2,    1.921,2,    1.058,2, -999.000,1,   1.6967,2,    -0.99,2,   -999.0,1,   6.738,2,   -999.0,9,   -999.0,9,  -999.00,9,  300.2,  0.0085,   0.080,   0.034, 24.0879,-999.000
   318MWESTW_4,  P21E,    69,  1,     34, SI9334,2,19940418,0304,-16.7417, -98.0000, 4190,     50.9,  23.8738,  36.1659,2,  36.1696,2,    217.0,2,    215.7,2,     0.32,2,     0.00,2,     0.00,2,     0.36,2,    1.901,2,    1.060,2,    0.573,2,   1.7011,2,    -1.14,2,   -999.0,1,   6.777,2,   -999.0,9,   -999.0,9,  -999.00,9,  554.8,  0.0085,   0.080,   0.034, 23.8631,   0.007
   318MWESTW_4,  P21E,    69,  1,     33, SI9333,2,19940418,0304,-16.7417, -98.0000, 4190,    101.9,  21.3844,  35.7898,3,  35.8838,2,    228.8,2,    227.7,2,     0.32,2,    -0.01,2,     0.01,2,     0.38,2,    2.202,2,    1.192,2,    0.550,2,   1.7129,2,    -1.29,2,   -999.0,1,   6.925,2,   -999.0,9,   -999.0,9,  -999.00,9, 1064.3,  0.0086,   0.080,   0.035, 21.3646,   0.007
   318MWESTW_4,  P21E,    69,  1,     32, SI9332,2,19940418,0304,-16.7417, -98.0000, 4190,    149.7,  19.5518,  35.6255,2,  35.6625,2,    213.3,2,    210.2,2,     0.51,2,     1.18,2,     0.54,2,     0.51,2,    2.314,2,    1.227,2,    0.508,2,   1.7191,2,    -1.29,2,   -999.0,1,   6.988,2,   -999.0,9,   -999.0,9,  -999.00,9, 1542.6,  0.0086,   0.080,   0.035, 19.5245,   0.006
   318MWESTW_4,  P21E,    69,  1,     31, SI9331,2,19940418,0304,-16.7417, -98.0000, 4190,    199.8,  16.7303,  35.1833,2,  35.1624,2,    199.4,2,    186.6,2,     1.54,2,     7.03,2,     0.02,2,     0.84,2,    2.326,2,    1.209,2,    0.471,2,   1.7404,2,    -0.78,2,   -999.0,1,   7.140,2,   -999.0,9,   -999.0,9,  -999.00,9, 2042.8,  0.0087,   0.080,   0.036, 16.6976,   0.006
   318MWESTW_4,  P21E,    69,  1,     30, SI9330,2,19940418,0304,-16.7417, -98.0000, 4190,    249.7,  12.7907,  34.6895,2,  34.6692,2,    144.5,2,    106.5,2,     9.16,2,    17.31,2,     0.01,2,     1.70,2,    1.473,2,    0.704,2,    0.337,2,   1.7597,2,     1.18,2,   -999.0,1,   7.350,2,   -999.0,9,   -999.0,9,  -999.00,9, 2541.7,  0.0088,   0.080,   0.037, 12.7568,   0.006
   318MWESTW_4,  P21E,    69,  1,     29, SI9329,2,19940418,0304,-16.7417, -98.0000, 4190,    298.9,  10.9101,  34.6301,2,  34.6372,2,     54.0,2,     34.7,2,    20.23,2,    26.64,2,     0.01,2,     2.48,2,    0.399,2,    0.193,2,    0.163,2,   1.7689,2,     2.70,2,   -999.0,1,   7.474,2,   -999.0,9,   -999.0,9,  -999.00,9, 3033.0,  0.0088,   0.080,   0.037, 10.8734,   0.005
   318MWESTW_4,  P21E,    69,  1,     28, SI9328,2,19940418,0304,-16.7417, -98.0000, 4190,    400.9,   8.9805,  34.6021,2,  34.6189,2,     20.0,2,     14.5,2,    28.72,2,    36.74,2,     0.01,2,     2.78,2,    0.039,2,    0.013,2,    0.024,2,   1.7867,2,     3.42,2,   -999.0,1,   7.578,2,   -999.0,9,   -999.0,9,  -999.00,9, 4052.3,  0.0089,   0.080,   0.038,  8.9367,   0.004
   318MWESTW_4,  P21E,    69,  1,     27, SI9327,2,19940418,0304,-16.7417, -98.0000, 4190,    500.9,   7.7646,  34.5587,2,  34.5661,2,     30.1,2,     28.8,2,    33.04,2,    39.76,2,     0.00,2,     2.82,2,    0.012,2,    0.005,2,    0.010,2,   1.7981,2,     4.63,2,   -999.0,1,   7.642,2,   -999.0,9,   -999.0,9,  -999.00,9, 5051.2,  0.0090,   0.090,   0.038,  7.7141,   0.004
   318MWESTW_4,  P21E,    69,  1,     26, SI9326,2,19940418,0304,-16.7417, -98.0000, 4190,    600.9,   6.5614,  34.5053,2,  34.5111,2,     53.3,2,     45.5,2,    39.10,2,    41.37,2,     0.01,2,     2.90,2,    0.003,2,    0.002,2,    0.004,2,   1.8111,2,     6.19,2,   -999.0,1,   7.703,2,   -999.0,9,   -999.0,9,  -999.00,9, 6049.5,  0.0091,   0.090,   0.039,  6.5059,   0.003
   318MWESTW_4,  P21E,    69,  1,     25, SI9325,2,19940418,0304,-16.7417, -98.0000, 4190,    702.1,   5.8334,  34.4958,2,  34.4999,2,     53.8,2,     53.3,2,    47.06,2,    42.16,2,     0.01,2,     2.94,2,    0.000,2,   -0.002,2,   -0.001,2,   1.8153,2,     8.55,2,   -999.0,1,   7.735,2,   -999.0,9,   -999.0,9,  -999.00,9, 7060.9,  0.0091,   0.090,   0.039,  5.7720,   0.003
   318MWESTW_4,  P21E,    69,  1,     24, SI9324,2,19940418,0304,-16.7417, -98.0000, 4190,    801.7,   5.2498,  34.4999,2,  34.5015,2,     53.1,2,     52.1,2,    57.09,2,    43.30,2,     0.00,2,     3.03,2,   -0.003,2,   -0.001,2,    0.002,2,   1.8276,2,    10.77,2,   -999.0,1,   7.817,2,   -999.0,9,   -999.0,9,  -999.00,9, 8055.8,  0.0091,   0.090,   0.039,  5.1826,   0.003
   318MWESTW_4,  P21E,    69,  1,     23, SI9323,2,19940418,0304,-16.7417, -98.0000, 4190,    900.6,   4.8317,  34.5136,2,  34.5146,2,     51.6,2,     52.2,2,    67.12,2,    43.74,2,     0.01,2,     3.08,2,   -0.004,2,   -0.002,2, -999.000,1,-999.0000,1,  -999.00,9,   -999.0,1,-999.000,9,   -999.0,9,   -999.0,9,  -999.00,9, 9042.8,-999.0000,-999.000,-999.000,  4.7585,-999.000
   318MWESTW_4,  P21E,    69,  1,     22, SI9322,2,19940418,0304,-16.7417, -98.0000, 4190,   1001.1,   4.3355,  34.5257,2,  34.5284,2,     63.5,2,     63.6,2,    76.79,2,    42.77,2,     0.00,2,     3.03,2,   -0.002,2,    0.000,2,   -0.005,2,   1.8464,2,    15.73,2,   -999.0,1,   7.861,2,   -999.0,9,   -999.0,9,  -999.00,9,10047.1,  0.0092,   0.090,   0.039,  4.2571,   0.003
   318MWESTW_4,  P21E,    69,  1,     21, SI9321,2,19940418,0304,-16.7417, -98.0000, 4190,   1101.0,   3.9954,  34.5373,2,  34.5402,2,     71.3,2,     72.4,2,    83.88,2,    42.11,2,     0.00,2,     3.00,2, -999.000,9, -999.000,9, -999.000,1,-999.0000,1,  -999.00,9,   -999.0,1,-999.000,9,   -999.0,9,   -999.0,9,  -999.00,9,11045.0,-999.0000,-999.000,-999.000,  3.9113,-999.000
   318MWESTW_4,  P21E,    69,  1,     20, SI9320,2,19940418,0304,-16.7417, -98.0000, 4190,   1200.2,   3.7160,  34.5510,2,  34.5529,2,     77.3,2,     77.7,2,    90.63,2,    41.61,2,     0.01,2,     2.97,2, -999.000,9, -999.000,9, -999.000,1,-999.0000,1,  -999.00,9,   -999.0,1,-999.000,9,   -999.0,9,   -999.0,9,  -999.00,9,12035.8,-999.0000,-999.000,-999.000,  3.6259,-999.000
   318MWESTW_4,  P21E,    69,  1,     19, SI9319,2,19940418,0304,-16.7417, -98.0000, 4190,   1300.1,   3.4609,  34.5634,2,  34.5645,2,     82.4,2,     83.2,2,    96.85,2,    41.12,2,     0.01,2,     2.94,2, -999.000,9, -999.000,9,    0.006,2,   1.8843,2,    20.57,2,   -999.0,1,   7.977,2,   -999.0,9,   -999.0,9,  -999.00,9,13034.3,  0.0094,   0.100,   0.040,  3.3649,   0.004
   318MWESTW_4,  P21E,    69,  1,     18, SI9318,2,19940418,0304,-16.7417, -98.0000, 4190,   1399.8,   3.2049,  34.5776,2,  34.5808,2,     87.2,2,     88.1,2,   103.41,2,    40.75,2,     0.01,2,     2.91,2, -999.000,9, -999.000,9, -999.000,1,-999.0000,1,  -999.00,9,   -999.0,1,-999.000,9,   -999.0,9,   -999.0,9,  -999.00,9,14030.0,-999.0000,-999.000,-999.000,  3.1031,-999.000
   318MWESTW_4,  P21E,    69,  1,     17, SI9317,2,19940418,0304,-16.7417, -98.0000, 4190,   1502.2,   2.9859,  34.5923,2,  34.5930,2,     90.7,2,     92.4,2,   109.80,2,    40.43,2,     0.01,2,     2.89,2, -999.000,9, -999.000,9, -999.000,1,-999.0000,1,  -999.00,9,   -999.0,1,-999.000,9,   -999.0,9,   -999.0,9,  -999.00,9,15052.5,-999.0000,-999.000,-999.000,  2.8780,-999.000
   318MWESTW_4,  P21E,    69,  1,     16, SI9316,2,19940418,0304,-16.7417, -98.0000, 4190,   1601.0,   2.8318,  34.6018,2,  34.6022,2,     95.8,2,     96.5,2,   113.43,2,    40.11,2,     0.01,2,     2.85,2, -999.000,9, -999.000,9, -999.000,1,   1.9011,2,    24.41,2,   -999.0,1,   8.032,2,   -999.0,9,   -999.0,9,  -999.00,9,16039.3,  0.0095,   0.100,   0.040,  2.7175,-999.000
   318MWESTW_4,  P21E,    69,  1,     15, SI9315,2,19940418,0304,-16.7417, -98.0000, 4190,   1750.7,   2.5863,  34.6169,2,  34.6195,2,    101.7,2,    104.1,2,   119.65,2,    39.45,2,     0.01,2,     2.81,2, -999.000,9, -999.000,9, -999.000,1,-999.0000,1,  -999.00,9,   -999.0,1,-999.000,9,   -999.0,9,   -999.0,9,  -999.00,9,17535.5,-999.0000,-999.000,-999.000,  2.4625,-999.000
   318MWESTW_4,  P21E,    69,  1,     14, SI9314,2,19940418,0304,-16.7417, -98.0000, 4190,   1899.5,   2.4108,  34.6295,2,  34.6311,2,    109.0,2,    110.8,2,   123.44,2,    38.85,2,     0.01,2,     2.76,2, -999.000,9, -999.000,9, -999.000,1,-999.0000,1,  -999.00,9,   -999.0,1,-999.000,9,   -999.0,9,   -999.0,9,  -999.00,9,19021.9,-999.0000,-999.000,-999.000,  2.2768,-999.000
   318MWESTW_4,  P21E,    69,  1,     13, SI9313,2,19940418,0304,-16.7417, -98.0000, 4190,   2050.0,   2.2181,  34.6410,2,  34.6417,2,    120.2,2,    122.3,2,   124.48,2,    37.97,2,     0.01,2,     2.68,2, -999.000,9, -999.000,9, -999.000,1,-999.0000,1,  -999.00,9,   -999.0,1,-999.000,9,   -999.0,9,   -999.0,9,  -999.00,9,20525.5,-999.0000,-999.000,-999.000,  2.0740,-999.000
   318MWESTW_4,  P21E,    69,  1,     12, SI9312,2,19940418,0304,-16.7417, -98.0000, 4190,   2202.1,   2.0320,  34.6528,2,  34.6539,2,    137.9,2,    139.2,2,   122.05,2,    36.64,2,     0.01,2,     2.57,2, -999.000,9, -999.000,9, -999.000,1,-999.0000,1,  -999.00,9,   -999.0,1,-999.000,9,   -999.0,9,   -999.0,9,  -999.00,9,22045.5,-999.0000,-999.000,-999.000,  1.8777,-999.000
   318MWESTW_4,  P21E,    69,  1,     11, SI9311,2,19940418,0304,-16.7417, -98.0000, 4190,   2401.4,   1.8877,  34.6651,2,  34.6671,2,    147.4,2,    147.1,2,   124.12,2,    35.93,2,     0.01,2,     2.51,2, -999.000,9, -999.000,9, -999.000,1,-999.0000,1,  -999.00,9,   -999.0,1,-999.000,9,   -999.0,9,   -999.0,9,  -999.00,9,24036.4,-999.0000,-999.000,-999.000,  1.7183,-999.000
   318MWESTW_4,  P21E,    69,  1,     10, SI9310,2,19940418,0304,-16.7417, -98.0000, 4190,   2602.1,   1.8472,  34.6709,2,  34.6726,2,    148.1,2,    147.7,2,   126.54,2,    35.90,2,     0.00,2,     2.50,2, -999.000,9, -999.000,9, -999.000,1,-999.0000,1,  -999.00,9,   -999.0,1,-999.000,9,   -999.0,9,   -999.0,9,  -999.00,9,26041.8,-999.0000,-999.000,-999.000,  1.6604,-999.000
   318MWESTW_4,  P21E,    69,  1,      9, SI9309,2,19940418,0304,-16.7417, -98.0000, 4190,   2803.4,   1.8226,  34.6756,2,  34.6763,2,    146.5,2,    146.9,2,   129.47,2,    35.97,2,     0.00,2,     2.51,2, -999.000,9, -999.000,9, -999.000,1,-999.0000,1,  -999.00,9,   -999.0,1,-999.000,9,   -999.0,9,   -999.0,9,  -999.00,9,28053.6,-999.0000,-999.000,-999.000,  1.6176,-999.000
   318MWESTW_4,  P21E,    69,  1,      8, SI9308,2,19940418,0304,-16.7417, -98.0000, 4190,   3002.7,   1.8093,  34.6787,2,  34.6808,2,    146.4,2,    146.3,2,   131.88,2,    36.09,2,     0.00,2,     2.52,2, -999.000,9, -999.000,9, -999.000,1,-999.0000,1,  -999.00,9,   -999.0,1,-999.000,9,   -999.0,9,   -999.0,9,  -999.00,9,30044.8,-999.0000,-999.000,-999.000,  1.5855,-999.000
   318MWESTW_4,  P21E,    69,  1,      7, SI9307,2,19940418,0304,-16.7417, -98.0000, 4190,   3201.6,   1.8029,  34.6811,2,  34.6814,2,    144.4,2,    145.0,2,   134.12,2,    36.27,2,     0.00,2,     2.53,2, -999.000,9, -999.000,9, -999.000,1,-999.0000,1,  -999.00,9,   -999.0,1,-999.000,9,   -999.0,9,   -999.0,9,  -999.00,9,32032.1,-999.0000,-999.000,-999.000,  1.5596,-999.000
   318MWESTW_4,  P21E,    69,  1,      6, SI9306,2,19940418,0304,-16.7417, -98.0000, 4190,   3401.5,   1.8080,  34.6828,2,  34.6844,2,    145.3,2,    146.4,2,   133.09,2,    36.16,2,     0.00,2,     2.52,2, -999.000,9, -999.000,9, -999.000,1,-999.0000,1,  -999.00,9,   -999.0,1,-999.000,9,   -999.0,9,   -999.0,9,  -999.00,9,34029.9,-999.0000,-999.000,-999.000,  1.5443,-999.000
   318MWESTW_4,  P21E,    69,  1,      5, SI9305,2,19940418,0304,-16.7417, -98.0000, 4190,   3599.2,   1.8129,  34.6845,2,  34.6859,2,    146.9,2,    148.2,2,   131.87,2,    36.02,2,     0.00,2,     2.50,2, -999.000,9, -999.000,9, -999.000,1,-999.0000,1,  -999.00,9,   -999.0,1,-999.000,9,   -999.0,9,   -999.0,9,  -999.00,9,36005.7,-999.0000,-999.000,-999.000,  1.5285,-999.000
   318MWESTW_4,  P21E,    69,  1,      4, SI9304,2,19940418,0304,-16.7417, -98.0000, 4190,   3798.2,   1.8186,  34.6861,2,  34.6865,2,    148.1,2,    148.8,2,   131.00,2,    35.80,2,     0.00,2,     2.51,2, -999.000,9, -999.000,9, -999.000,1,-999.0000,1,  -999.00,9,   -999.0,1,-999.000,9,   -999.0,9,   -999.0,9,  -999.00,9,37995.2,-999.0000,-999.000,-999.000,  1.5128,-999.000
   318MWESTW_4,  P21E,    69,  1,      3, SI9303,2,19940418,0304,-16.7417, -98.0000, 4190,   3998.8,   1.8307,  34.6873,2,  34.6889,2,    149.0,2,    149.5,2,   130.83,2,    35.92,2,     0.00,2,     2.50,2, -999.000,9, -999.000,9, -999.000,1,-999.0000,1,  -999.00,9,   -999.0,1,-999.000,9,   -999.0,9,   -999.0,9,  -999.00,9,40000.7,-999.0000,-999.000,-999.000,  1.5026,-999.000
   318MWESTW_4,  P21E,    69,  1,      2, SI9302,2,19940418,0304,-16.7417, -98.0000, 4190,   4195.7,   1.8434,  34.6876,2,  34.6883,2,    148.9,2,    149.7,2,   130.65,2,    35.94,2,     0.00,2,     2.49,2, -999.000,9, -999.000,9, -999.000,1,-999.0000,1,  -999.00,9,   -999.0,1,-999.000,9,   -999.0,9,   -999.0,9,  -999.00,9,41968.5,-999.0000,-999.000,-999.000,  1.4929,-999.000
   318MWESTW_4,  P21E,    69,  1,      1, SI9301,2,19940418,0304,-16.7417, -98.0000, 4190,   4237.7,   1.8478,  34.6877,2,  34.6883,2,    148.1,2,    150.3,2,   130.67,2,    35.80,2,     0.01,2,     2.49,2, -999.000,9, -999.000,9, -999.000,1,-999.0000,1,  -999.00,9,   -999.0,1,-999.000,9,   -999.0,9,   -999.0,9,  -999.00,9,42387.8,-999.0000,-999.000,-999.000,  1.4924,-999.000