BOTTLE,20010911WHPSIOdm
EXPOCODE,SECT_ID,STNNBR,CASTNO,SAMPNO,BTLNBR,BTLNBR_FLAG_W,DATE,TIME,LATITUDE,LONGITUDE,DEPTH,CTDPRS,CTDTMP,CTDSAL,CTDSAL_FLAG_W,SALNTY,SALNTY_FLAG_W,CTDOXY,CTDOXY_FLAG_W,OXYGEN,OXYGEN_FLAG_W,SILCAT,SILCAT_FLAG_W,NITRAT,NITRAT_FLAG_W,NITRIT,NITRIT_FLAG_W,PHSPHT,PHSPHT_FLAG_W,CFC-11,CFC-11_FLAG_W,CFC-12,CFC-12_FLAG_W,TRITUM,TRITUM_FLAG_W,HELIUM,HELIUM_FLAG_W,DELHE3,DELHE3_FLAG_W,DELC14,DELC14_FLAG_W,NEON,NEON_FLAG_W,TCARBN,TCARBN_FLAG_W,ALKALI,ALKALI_FLAG_W,PH,PH_FLAG_W,CTDRAW,HELIER,DELHER,NEONER,THETA,TRITER
,,,,,,,,,,,,DBAR,ITS-90,PSS-78,,PSS-78,,UMOL/KG,,UMOL/KG,,UMOL/KG,,UMOL/KG,,UMOL/KG,,UMOL/KG,,PMOL/KG,,PMOL/KG,,TU,,UMOL/KG,,PERCNT,,/MILLE,,NMOL/KG,,UMOL/KG,,UMOL/KG,,,,,NMOL/KG,PERCNT,NMOL/KG,ITS-90,TU
   318MWESTW_4,  P21E,   144,  1,     24, SI9404,2,19940509,1148,-16.7500,-142.6667, 1950,      7.1,  28.7914,  36.1603,2,  36.1606,2,    209.5,2,    203.2,2,     0.00,2,    -0.01,2,     0.02,2,     0.20,2,    1.591,2,    0.912,2, -999.000,1,-999.0000,1,  -999.00,9,   -999.0,1,-999.000,9,   1997.7,2,   2371.0,2,     8.21,2,  120.9,-999.0000,-999.000,-999.000, 28.7897,-999.000
   318MWESTW_4,  P21E,   144,  1,     23, SI9405,2,19940509,1148,-16.7500,-142.6667, 1950,     25.3,  28.7950,  36.1610,2,  36.1597,2,    200.9,2,    201.3,2,     0.00,2,     0.03,2,     0.02,2,     0.20,2,    1.597,2,    0.914,2, -999.000,1,-999.0000,1,  -999.00,9,   -999.0,1,-999.000,9,   1998.7,2,   2371.0,2,     8.21,2,  302.5,-999.0000,-999.000,-999.000, 28.7889,-999.000
   318MWESTW_4,  P21E,   144,  1,     22, SI9407,3,19940509,1148,-16.7500,-142.6667, 1950,     50.1,  28.8143,  36.1752,2,  36.1723,2,    202.3,2,    201.4,2,     0.00,2,     0.04,2,     0.01,2,     0.20,2,    1.584,2,    0.904,2, -999.000,1,-999.0000,1,  -999.00,9,   -999.0,1,-999.000,9,   1999.7,2,   2369.0,2,     8.21,2,  549.9,-999.0000,-999.000,-999.000, 28.8022,-999.000
   318MWESTW_4,  P21E,   144,  1,     21, SI9408,2,19940509,1148,-16.7500,-142.6667, 1950,    102.0,  25.9184,  36.3666,2,  36.3649,2,    206.3,2,    208.4,2,     0.11,2,    -0.02,2,     0.02,2,     0.21,2,    1.796,2,    0.998,2, -999.000,1,-999.0000,1,  -999.00,9,   -999.0,1,-999.000,9,   2029.7,2,   2388.0,2,     8.18,2, 1067.2,-999.0000,-999.000,-999.000, 25.8956,-999.000
   318MWESTW_4,  P21E,   144,  1,     20, SI9409,2,19940509,1148,-16.7500,-142.6667, 1950,    147.1,  23.8224,  36.2381,2,  36.2384,2,    202.2,2,    192.7,2,     0.00,2,     0.39,2,     0.16,2,     0.30,2,    1.865,2,    1.018,2, -999.000,1,-999.0000,1,  -999.00,9,   -999.0,1,-999.000,9,   2052.8,2,   2381.0,2,     8.13,2, 1516.5,-999.0000,-999.000,-999.000, 23.7914,-999.000
   318MWESTW_4,  P21E,   144,  1,     19, SI9411,2,19940509,1148,-16.7500,-142.6667, 1950,    202.8,  20.9468,  35.9223,2,  35.9218,2,    183.4,2,    177.7,2,     0.08,2,     3.22,2,     0.02,2,     0.48,2,    1.943,2,    1.040,2, -999.000,1,-999.0000,1,  -999.00,9,   -999.0,1,-999.000,9,   2080.8,2,   2356.0,2,     8.06,2, 2071.8,-999.0000,-999.000,-999.000, 20.9078,-999.000
   318MWESTW_4,  P21E,   144,  1,     18, SI9413,2,19940509,1148,-16.7500,-142.6667, 1950,    251.0,  19.7668,  35.7473,2,  35.7572,2,    172.9,2,    177.4,2,     0.07,2,     4.06,2,     0.02,2,     0.54,2,    1.908,2,    1.005,2, -999.000,1,-999.0000,1,  -999.00,9,   -999.0,1,-999.000,9,   2083.8,2,   2348.0,2,     8.04,2, 2552.0,-999.0000,-999.000,-999.000, 19.7205,-999.000
   318MWESTW_4,  P21E,   144,  1,     17, SI9415,2,19940509,1148,-16.7500,-142.6667, 1950,    295.1,  17.4965,  35.4175,2,  35.4156,2,    174.1,2,    173.9,2,     0.85,2,     6.31,2,     0.00,2,     0.70,2,    1.776,6,    0.939,6, -999.000,1,-999.0000,1,  -999.00,9,   -999.0,1,-999.000,9,   2091.8,2,   2326.0,2,     7.99,2, 2990.3,-999.0000,-999.000,-999.000, 17.4466,-999.000
   318MWESTW_4,  P21E,   144,  1,     16, SI9416,2,19940509,1148,-16.7500,-142.6667, 1950,    398.5,  10.9707,  34.6618,2,  34.6651,2,    127.9,2,    124.5,2,    10.32,2,    21.27,2,     0.00,2,     1.74,2,    0.746,2,    0.371,2, -999.000,1,-999.0000,1,  -999.00,9,   -999.0,1,-999.000,9,   2167.9,2,   2286.0,2,     7.74,2, 4018.7,-999.0000,-999.000,-999.000, 10.9214,-999.000
   318MWESTW_4,  P21E,   144,  1,     15, SI9417,2,19940509,1148,-16.7500,-142.6667, 1950,    499.9,   7.7232,  34.4869,2,  34.4848,2,    124.1,2,    123.1,2,    21.09,2,    30.23,2,     0.00,2,     2.21,2,    0.178,2,    0.093,2, -999.000,1,-999.0000,1,  -999.00,9,   -999.0,1,-999.000,9,   2204.9,2,   2286.0,2,     7.65,2, 5028.0,-999.0000,-999.000,-999.000,  7.6730,-999.000
   318MWESTW_4,  P21E,   144,  1,     14, SI9419,2,19940509,1148,-16.7500,-142.6667, 1950,    595.5,   6.3794,  34.4631,2,  34.4638,2,    133.2,2,    132.0,2,    32.02,2,    32.84,2,     0.00,2,     2.34,2,    0.051,2,    0.029,2, -999.000,1,-999.0000,1,  -999.00,9,   -999.0,1,-999.000,9,   2216.9,2,   2298.0,2,     7.64,2, 5977.7,-999.0000,-999.000,-999.000,  6.3253,-999.000
   318MWESTW_4,  P21E,   144,  1,     13, SI9420,2,19940509,1148,-16.7500,-142.6667, 1950,    699.8,   5.5849,  34.4754,2,  34.4736,2,    131.9,2,    130.2,2,    44.55,2,    34.54,2,     0.01,2,     2.43,2,    0.013,2,    0.003,2, -999.000,1,-999.0000,1,  -999.00,9,   -999.0,1,-999.000,9,   2231.9,2,   2307.0,2,     7.63,2, 7015.4,-999.0000,-999.000,-999.000,  5.5250,-999.000
   318MWESTW_4,  P21E,   144,  1,     12, SI9421,2,19940509,1148,-16.7500,-142.6667, 1950,    800.5,   5.0842,  34.4896,2,  34.4917,3,    125.8,2,    123.7,2,    54.04,2,    35.88,2,     0.01,2,     2.53,2,    0.006,2,    0.000,2, -999.000,1,-999.0000,1,  -999.00,9,   -999.0,1,-999.000,9,   2246.9,2,   2319.0,2,     7.61,2, 8016.6,-999.0000,-999.000,-999.000,  5.0182,-999.000
   318MWESTW_4,  P21E,   144,  1,     11, SI9423,2,19940509,1148,-16.7500,-142.6667, 1950,    898.3,   4.5927,  34.5035,2,  34.5023,2,    124.9,2,    123.3,2,    63.21,2,    36.59,2,     0.01,2,     2.58,2,    0.002,2,    0.002,2, -999.000,1,-999.0000,1,  -999.00,9,   -999.0,1,-999.000,9,   2257.9,2,   2326.0,2,     7.61,2, 8988.9,-999.0000,-999.000,-999.000,  4.5213,-999.000
   318MWESTW_4,  P21E,   144,  1,     10, SI9425,2,19940509,1148,-16.7500,-142.6667, 1950,   1001.6,   4.1500,  34.5225,2,  34.5207,2,    118.8,2,    116.4,2,    73.67,2,    37.75,2,     0.01,2,     2.67,2,   -0.001,2,   -0.004,2, -999.000,1,-999.0000,1,  -999.00,9,   -999.0,1,-999.000,9,   2274.0,2,   2337.0,2,     7.58,2,10015.7,-999.0000,-999.000,-999.000,  4.0730,-999.000
   318MWESTW_4,  P21E,   144,  1,      9, SI9424,2,19940509,1148,-16.7500,-142.6667, 1950,   1104.0,   3.9136,  34.5318,2,  34.5305,2,    121.7,2,    119.7,2,    78.17,2,    37.66,2,     0.01,2,     2.65,2, -999.000,9, -999.000,9, -999.000,1,-999.0000,1,  -999.00,9,   -999.0,1,-999.000,9,   2277.0,2,   2344.0,2,     7.60,2,11033.3,-999.0000,-999.000,-999.000,  3.8299,-999.000
   318MWESTW_4,  P21E,   144,  1,      8, SI9428,2,19940509,1148,-16.7500,-142.6667, 1950,   1204.0,   3.5434,  34.5461,2,  34.5421,2,    131.2,2,    129.4,2,    83.81,2,    36.98,2,     0.01,2,     2.61,2, -999.000,9, -999.000,9, -999.000,1,-999.0000,1,  -999.00,9,   -999.0,1,-999.000,9,   2279.0,2,   2348.0,2,     7.61,2,12027.6,-999.0000,-999.000,-999.000,  3.4546,-999.000
   318MWESTW_4,  P21E,   144,  1,      7, SI9429,2,19940509,1148,-16.7500,-142.6667, 1950,   1300.5,   3.2284,  34.5562,2,  34.5541,2,    139.5,2,    139.5,2,    88.33,2,    36.26,2,     0.01,2,     2.55,2, -999.000,9, -999.000,9, -999.000,1,-999.0000,1,  -999.00,9,   -999.0,1,-999.000,9,   2280.0,2,   2355.0,2,     7.61,2,12987.5,-999.0000,-999.000,-999.000,  3.1347,-999.000
   318MWESTW_4,  P21E,   144,  1,      6, SI9431,2,19940509,1148,-16.7500,-142.6667, 1950,   1398.3,   3.0557,  34.5643,2,  34.5641,2,    144.1,2,    143.7,2,    91.71,2,    36.03,2,     0.01,2,     2.53,2, -999.000,9, -999.000,9, -999.000,1,-999.0000,1,  -999.00,9,   -999.0,1,-999.000,9,   2281.0,2,   2359.0,2,     7.64,2,13959.1,-999.0000,-999.000,-999.000,  2.9557,-999.000
   318MWESTW_4,  P21E,   144,  1,      5, SI9432,2,19940509,1148,-16.7500,-142.6667, 1950,   1500.8,   2.8599,  34.5774,2,  34.5761,2,    145.2,2,    145.8,2,    96.22,2,    35.94,2,     0.01,2,     2.53,2, -999.000,9, -999.000,9, -999.000,1,-999.0000,1,  -999.00,9,   -999.0,1,-999.000,9,   2285.0,2,   2364.0,2,     7.63,2,14978.0,-999.0000,-999.000,-999.000,  2.7536,-999.000
   318MWESTW_4,  P21E,   144,  1,      4, SI9433,2,19940509,1148,-16.7500,-142.6667, 1950,   1599.9,   2.6962,  34.5892,2,  34.5889,2,    147.2,2,    146.7,2,   100.10,2,    35.97,2,     0.01,2,     2.47,2, -999.000,9, -999.000,9, -999.000,1,-999.0000,1,  -999.00,9,   -999.0,1,-999.000,9,   2288.0,2,   2368.0,2,     7.64,2,15962.9,-999.0000,-999.000,-999.000,  2.5836,-999.000
   318MWESTW_4,  P21E,   144,  1,      3, SI9435,2,19940509,1148,-16.7500,-142.6667, 1950,   1695.3,   2.5234,  34.6020,2,  34.6014,2,    147.7,2,    148.9,2,   103.97,2,    35.88,2,     0.01,2,     2.46,2, -999.000,9, -999.000,9, -999.000,1,-999.0000,1,  -999.00,9,   -999.0,1,-999.000,9,   2291.0,2,   2373.0,2,     7.64,2,16911.3,-999.0000,-999.000,-999.000,  2.4051,-999.000
   318MWESTW_4,  P21E,   144,  1,      2, SI9401,2,19940509,1148,-16.7500,-142.6667, 1950,   1839.8,   2.3556,  34.6154,2,  34.6148,2,    150.1,2,    151.7,2,   108.18,2,    35.79,2,     0.00,2,     2.46,2,   -0.002,2,   -0.004,2, -999.000,1,-999.0000,1,  -999.00,9,   -999.0,1,-999.000,9,   2295.0,2,   2382.0,2,     7.64,2,18346.9,-999.0000,-999.000,-999.000,  2.2275,-999.000
   318MWESTW_4,  P21E,   144,  1,      1, SI9403,2,19940509,1148,-16.7500,-142.6667, 1950,   1930.0,   2.3098,  34.6200,2,  34.6223,3,    151.2,2,    153.0,2,   109.29,2,    35.80,2,     0.01,2,     2.45,2,   -0.004,2,   -0.005,2, -999.000,1,-999.0000,1,  -999.00,9,   -999.0,1,-999.000,9,   2296.0,2,   2379.0,2,     7.64,2,19243.4,-999.0000,-999.000,-999.000,  2.1747,-999.000
   318MWESTW_4,  P21E,   145,  1,     21, SI9408,2,19940509,1530,-17.0000,-142.8333, 1470,      5.0,  28.7069,  36.2824,2,  36.2820,2,    205.2,2,    206.0,2,     0.82,2,     0.05,2,     0.00,2,     0.20,2, -999.000,9, -999.000,9, -999.000,1,-999.0000,1,  -999.00,9,   -999.0,1,-999.000,9,   -999.0,9,   -999.0,9,  -999.00,9,  100.2,-999.0000,-999.000,-999.000, 28.7057,-999.000
   318MWESTW_4,  P21E,   145,  1,     20, SI9409,2,19940509,1530,-17.0000,-142.8333, 1470,     20.4,  28.7121,  36.2824,2,  36.2814,2,    202.8,2,    204.8,2,     0.89,2,     0.00,2,     0.01,2,     0.21,2, -999.000,9, -999.000,9, -999.000,1,-999.0000,1,  -999.00,9,   -999.0,1,-999.000,9,   -999.0,9,   -999.0,9,  -999.00,9,  253.4,-999.0000,-999.000,-999.000, 28.7072,-999.000
   318MWESTW_4,  P21E,   145,  1,     19, SI9411,2,19940509,1530,-17.0000,-142.8333, 1470,     50.4,  28.7227,  36.2825,2,  36.2824,2,    199.7,2,    207.0,2,     0.95,2,    -0.01,2,     0.01,2,     0.21,2, -999.000,9, -999.000,9, -999.000,1,-999.0000,1,  -999.00,9,   -999.0,1,-999.000,9,   -999.0,9,   -999.0,9,  -999.00,9,  553.4,-999.0000,-999.000,-999.000, 28.7106,-999.000
   318MWESTW_4,  P21E,   145,  1,     18, SI9413,2,19940509,1530,-17.0000,-142.8333, 1470,     75.7,  27.9161,  36.3724,2,  36.3629,2,    209.5,2,    217.0,2,     0.85,2,    -0.01,2,     0.01,2,     0.22,2, -999.000,9, -999.000,9, -999.000,1,-999.0000,1,  -999.00,9,   -999.0,1,-999.000,9,   -999.0,9,   -999.0,9,  -999.00,9,  805.9,-999.0000,-999.000,-999.000, 27.8982,-999.000
   318MWESTW_4,  P21E,   145,  1,     17, SI9415,2,19940509,1530,-17.0000,-142.8333, 1470,    100.3,  25.8991,  36.2869,2,  36.2885,2,    213.7,2,    218.0,2,     0.75,2,    -0.01,2,     0.01,2,     0.21,2, -999.000,9, -999.000,9, -999.000,1,-999.0000,1,  -999.00,9,   -999.0,1,-999.000,9,   -999.0,9,   -999.0,9,  -999.00,9, 1050.7,-999.0000,-999.000,-999.000, 25.8767,-999.000
   318MWESTW_4,  P21E,   145,  1,     16, SI9416,2,19940509,1530,-17.0000,-142.8333, 1470,    150.7,  25.0431,  36.3877,2,  36.3885,2,    199.3,2,    208.8,2,     0.82,2,     0.03,2,     0.02,2,     0.27,2, -999.000,9, -999.000,9, -999.000,1,-999.0000,1,  -999.00,9,   -999.0,1,-999.000,9,   -999.0,9,   -999.0,9,  -999.00,9, 1552.6,-999.0000,-999.000,-999.000, 25.0102,-999.000
   318MWESTW_4,  P21E,   145,  1,     15, SI9417,2,19940509,1530,-17.0000,-142.8333, 1470,    201.0,  22.1942,  36.1048,2,  36.1063,2,    187.5,2,    184.3,2,     0.88,2,     1.86,2,     0.16,2,     0.43,2, -999.000,9, -999.000,9, -999.000,1,-999.0000,1,  -999.00,9,   -999.0,1,-999.000,9,   -999.0,9,   -999.0,9,  -999.00,9, 2054.1,-999.0000,-999.000,-999.000, 22.1540,-999.000
   318MWESTW_4,  P21E,   145,  1,     14, SI9419,2,19940509,1530,-17.0000,-142.8333, 1470,    250.3,  19.0901,  35.6489,2,  35.6465,2,    189.3,2,    177.6,2,     1.25,2,     4.47,2,     0.01,2,     0.59,2, -999.000,9, -999.000,9, -999.000,1,-999.0000,1,  -999.00,9,   -999.0,1,-999.000,9,   -999.0,9,   -999.0,9,  -999.00,9, 2544.1,-999.0000,-999.000,-999.000, 19.0451,-999.000
   318MWESTW_4,  P21E,   145,  1,     13, SI9420,2,19940509,1530,-17.0000,-142.8333, 1470,    301.8,  16.5918,  35.2909,2,  35.2913,2,    179.3,2,    171.0,2,     2.72,2,     7.52,2,     0.01,2,     0.80,2, -999.000,9, -999.000,9, -999.000,1,-999.0000,1,  -999.00,9,   -999.0,1,-999.000,9,   -999.0,9,   -999.0,9,  -999.00,9, 3056.7,-999.0000,-999.000,-999.000, 16.5426,-999.000
   318MWESTW_4,  P21E,   145,  1,     12, SI9421,2,19940509,1530,-17.0000,-142.8333, 1470,    403.4,  11.7372,  34.7369,2,  34.7331,2,    131.0,2,    135.3,2,     9.63,2,    18.64,2,     0.01,2,     1.56,2, -999.000,9, -999.000,9, -999.000,1,-999.0000,1,  -999.00,9,   -999.0,1,-999.000,9,   -999.0,9,   -999.0,9,  -999.00,9, 4067.5,-999.0000,-999.000,-999.000, 11.6850,-999.000
   318MWESTW_4,  P21E,   145,  1,     11, SI9423,2,19940509,1530,-17.0000,-142.8333, 1470,    499.6,   7.7866,  34.4811,2,  34.4789,2,    124.3,2,    128.2,2,    20.75,2,    29.55,2,     0.00,2,     2.19,2, -999.000,9, -999.000,9, -999.000,1,-999.0000,1,  -999.00,9,   -999.0,1,-999.000,9,   -999.0,9,   -999.0,9,  -999.00,9, 5023.9,-999.0000,-999.000,-999.000,  7.7362,-999.000
   318MWESTW_4,  P21E,   145,  1,     10, SI9425,2,19940509,1530,-17.0000,-142.8333, 1470,    596.1,   6.5050,  34.4480,2,  34.4463,2,    133.8,2,    133.9,2,    28.46,2,    32.07,2,     0.01,2,     2.30,2, -999.000,9, -999.000,9, -999.000,1,-999.0000,1,  -999.00,9,   -999.0,1,-999.000,9,   -999.0,9,   -999.0,9,  -999.00,9, 5983.7,-999.0000,-999.000,-999.000,  6.4503,-999.000
   318MWESTW_4,  P21E,   145,  1,      9, SI9424,2,19940509,1530,-17.0000,-142.8333, 1470,    704.5,   5.7646,  34.4689,2,  34.4673,2,    133.2,2,    130.8,2,    40.05,2,    33.78,2,     0.01,2,     2.40,2, -999.000,9, -999.000,9, -999.000,1,-999.0000,1,  -999.00,9,   -999.0,1,-999.000,9,   -999.0,9,   -999.0,9,  -999.00,9, 7061.3,-999.0000,-999.000,-999.000,  5.7033,-999.000
   318MWESTW_4,  P21E,   145,  1,      8, SI9428,2,19940509,1530,-17.0000,-142.8333, 1470,    806.7,   5.1923,  34.4860,2,  34.4844,2,    128.1,2,    124.7,2,    50.72,2,    35.30,2,     0.00,2,     2.50,2, -999.000,9, -999.000,9, -999.000,1,-999.0000,1,  -999.00,9,   -999.0,1,-999.000,9,   -999.0,9,   -999.0,9,  -999.00,9, 8077.3,-999.0000,-999.000,-999.000,  5.1251,-999.000
   318MWESTW_4,  P21E,   145,  1,      7, SI9429,2,19940509,1530,-17.0000,-142.8333, 1470,    903.9,   4.6640,  34.5025,2,  34.5003,2,    124.8,2,    120.9,2,    61.22,2,    36.36,2,     0.00,2,     2.58,2, -999.000,9, -999.000,9, -999.000,1,-999.0000,1,  -999.00,9,   -999.0,1,-999.000,9,   -999.0,9,   -999.0,9,  -999.00,9, 9043.3,-999.0000,-999.000,-999.000,  4.5916,-999.000
   318MWESTW_4,  P21E,   145,  1,      6, SI9431,2,19940509,1530,-17.0000,-142.8333, 1470,    995.5,   4.2482,  34.5181,2,  34.5162,2,    121.1,2,    119.2,2,    69.85,2,    37.00,2,     0.00,2,     2.62,2, -999.000,9, -999.000,9, -999.000,1,-999.0000,1,  -999.00,9,   -999.0,1,-999.000,9,   -999.0,9,   -999.0,9,  -999.00,9, 9954.1,-999.0000,-999.000,-999.000,  4.1710,-999.000
   318MWESTW_4,  P21E,   145,  1,      5, SI9432,2,19940509,1530,-17.0000,-142.8333, 1470,   1110.3,   3.8372,  34.5329,2,  34.5303,2,    128.6,2,    126.9,2,    77.25,2,    36.61,2,    -0.01,2,     2.60,2, -999.000,9, -999.000,9, -999.000,1,-999.0000,1,  -999.00,9,   -999.0,1,-999.000,9,   -999.0,9,   -999.0,9,  -999.00,9,11095.2,-999.0000,-999.000,-999.000,  3.7536,-999.000
   318MWESTW_4,  P21E,   145,  1,      4, SI9433,2,19940509,1530,-17.0000,-142.8333, 1470,   1200.5,   3.5301,  34.5444,2,  34.5433,2,    134.3,2,    132.9,2,    82.46,2,    36.29,2,     0.01,2,     2.56,2, -999.000,9, -999.000,9, -999.000,1,-999.0000,1,  -999.00,9,   -999.0,1,-999.000,9,   -999.0,9,   -999.0,9,  -999.00,9,11991.2,-999.0000,-999.000,-999.000,  3.4417,-999.000
   318MWESTW_4,  P21E,   145,  1,      3, SI9435,2,19940509,1530,-17.0000,-142.8333, 1470,   1284.2,   3.2592,  34.5575,2,  34.5573,2,    135.9,2,    136.5,2,    87.83,2,    36.11,2,     0.00,2,     2.55,2, -999.000,9, -999.000,9, -999.000,1,-999.0000,1,  -999.00,9,   -999.0,1,-999.000,9,   -999.0,9,   -999.0,9,  -999.00,9,12823.5,-999.0000,-999.000,-999.000,  3.1665,-999.000
   318MWESTW_4,  P21E,   145,  1,      2, SI9401,2,19940509,1530,-17.0000,-142.8333, 1470,   1359.6,   3.0629,  34.5686,2,  34.5675,2,    140.9,2,    140.5,2,    91.63,2,    35.87,2,     0.01,2,     2.55,2, -999.000,9, -999.000,9, -999.000,1,-999.0000,1,  -999.00,9,   -999.0,1,-999.000,9,   -999.0,9,   -999.0,9,  -999.00,9,13572.0,-999.0000,-999.000,-999.000,  2.9660,-999.000
   318MWESTW_4,  P21E,   145,  1,      1, SI9403,2,19940509,1530,-17.0000,-142.8333, 1470,   1452.0,   2.7114,  34.5898,2,  34.5889,2,    144.4,2,    145.6,2,    98.95,2,    35.62,2,     0.01,2,     2.50,2, -999.000,9, -999.000,9, -999.000,1,-999.0000,1,  -999.00,9,   -999.0,1,-999.000,9,   -999.0,9,   -999.0,9,  -999.00,9,14490.4,-999.0000,-999.000,-999.000,  2.6107,-999.000