BOTTLE,20010911WHPSIOdm
EXPOCODE,SECT_ID,STNNBR,CASTNO,SAMPNO,BTLNBR,BTLNBR_FLAG_W,DATE,TIME,LATITUDE,LONGITUDE,DEPTH,CTDPRS,CTDTMP,CTDSAL,CTDSAL_FLAG_W,SALNTY,SALNTY_FLAG_W,CTDOXY,CTDOXY_FLAG_W,OXYGEN,OXYGEN_FLAG_W,SILCAT,SILCAT_FLAG_W,NITRAT,NITRAT_FLAG_W,NITRIT,NITRIT_FLAG_W,PHSPHT,PHSPHT_FLAG_W,CFC-11,CFC-11_FLAG_W,CFC-12,CFC-12_FLAG_W,TRITUM,TRITUM_FLAG_W,HELIUM,HELIUM_FLAG_W,DELHE3,DELHE3_FLAG_W,DELC14,DELC14_FLAG_W,NEON,NEON_FLAG_W,TCARBN,TCARBN_FLAG_W,ALKALI,ALKALI_FLAG_W,PH,PH_FLAG_W,CTDRAW,HELIER,DELHER,NEONER,THETA,TRITER
,,,,,,,,,,,,DBAR,ITS-90,PSS-78,,PSS-78,,UMOL/KG,,UMOL/KG,,UMOL/KG,,UMOL/KG,,UMOL/KG,,UMOL/KG,,PMOL/KG,,PMOL/KG,,TU,,UMOL/KG,,PERCNT,,/MILLE,,NMOL/KG,,UMOL/KG,,UMOL/KG,,,,,NMOL/KG,PERCNT,NMOL/KG,ITS-90,TU
   318MWESTW_5,  P21W,   184,  1,     36, SI9442,2,19940527,0743,-17.5000,-162.3305, 4820,      8.8,  28.0450,  35.3510,2,  35.3510,2,    211.7,2,    217.2,2,     0.85,2,    -0.01,2,     0.02,2,     0.20,2,    1.595,2,    0.927,2, -999.000,1,-999.0000,1,  -999.00,9,   -999.0,1,-999.000,9,   -999.0,9,   -999.0,9,  -999.00,9,  144.8,-999.0000,-999.000,-999.000, 28.0429,-999.000
   318MWESTW_5,  P21W,   184,  1,     35, SI9435,2,19940527,0743,-17.5000,-162.3305, 4820,     19.1,  28.0454,  35.3525,2,  35.3520,2,    206.7,2,    215.9,2,     0.85,2,    -0.02,2,     0.02,2,     0.19,2, -999.000,9, -999.000,9, -999.000,1,-999.0000,1,  -999.00,9,   -999.0,1,-999.000,9,   -999.0,9,   -999.0,9,  -999.00,9,  248.1,-999.0000,-999.000,-999.000, 28.0409,-999.000
   318MWESTW_5,  P21W,   184,  1,     34, SI9441,2,19940527,0743,-17.5000,-162.3305, 4820,     44.2,  28.0615,  35.3521,2,  35.3695,2,    206.7,2,    220.9,2,     0.85,2,     0.02,2,     0.02,2,     0.20,2,    1.648,2,    0.928,2, -999.000,1,-999.0000,1,  -999.00,9,   -999.0,1,-999.000,9,   -999.0,9,   -999.0,9,  -999.00,9,  499.3,-999.0000,-999.000,-999.000, 28.0511,-999.000
   318MWESTW_5,  P21W,   184,  1,     33, SI9433,2,19940527,0743,-17.5000,-162.3305, 4820,     94.2,  25.7588,  35.9203,2,  35.9210,2,    206.7,2,    213.9,2,     0.69,2,    -0.03,2,     0.04,2,     0.21,2,    1.794,2,    1.012,2, -999.000,1,-999.0000,1,  -999.00,9,   -999.0,1,-999.000,9,   -999.0,9,   -999.0,9,  -999.00,9,  997.0,-999.0000,-999.000,-999.000, 25.7379,-999.000
   318MWESTW_5,  P21W,   184,  1,     32, SI9432,2,19940527,0743,-17.5000,-162.3305, 4820,    144.8,  24.1936,  35.9628,2,  35.9627,2,    196.1,2,    205.1,2,     0.69,2,     0.06,2,     0.04,2,     0.27,2, -999.000,9, -999.000,9, -999.000,1,-999.0000,1,  -999.00,9,   -999.0,1,-999.000,9,   -999.0,9,   -999.0,9,  -999.00,9, 1501.4,-999.0000,-999.000,-999.000, 24.1628,-999.000
   318MWESTW_5,  P21W,   184,  1,     31, SI9431,2,19940527,0743,-17.5000,-162.3305, 4820,    195.6,  21.7856,  35.8290,2,  35.8291,2,    192.8,2,    192.2,2,     0.69,2,     1.49,2,     0.03,2,     0.32,2,    1.988,2,    1.087,2, -999.000,1,-999.0000,1,  -999.00,9,   -999.0,1,-999.000,9,   -999.0,9,   -999.0,9,  -999.00,9, 2006.9,-999.0000,-999.000,-999.000, 21.7470,-999.000
   318MWESTW_5,  P21W,   184,  1,     30, SI9440,2,19940527,0743,-17.5000,-162.3305, 4820,    246.4,  19.8026,  35.6845,2,  35.6895,2,    187.7,2,    187.4,2,     1.01,2,     2.88,2,     0.02,2,     0.41,2,    1.938,2,    1.047,2, -999.000,1,-999.0000,1,  -999.00,9,   -999.0,1,-999.000,9,   -999.0,9,   -999.0,9,  -999.00,9, 2512.7,-999.0000,-999.000,-999.000, 19.7571,-999.000
   318MWESTW_5,  P21W,   184,  1,     29, SI9429,2,19940527,0743,-17.5000,-162.3305, 4820,    295.5,  17.4007,  35.4198,2,  35.4182,2,    185.5,2,    180.9,2,     1.81,2,     5.67,2,     0.02,2,     0.60,2, -999.000,9, -999.000,9, -999.000,1,-999.0000,1,  -999.00,9,   -999.0,1,-999.000,9,   -999.0,9,   -999.0,9,  -999.00,9, 3002.0,-999.0000,-999.000,-999.000, 17.3509,-999.000
   318MWESTW_5,  P21W,   184,  1,     28, SI9428,2,19940527,0743,-17.5000,-162.3305, 4820,    399.3,  11.9916,  34.8322,2,  34.8330,2,    169.9,2,    164.6,2,     7.21,2,    16.11,2,     0.02,2,     1.29,2,    0.970,2,    0.502,2, -999.000,1,-999.0000,1,  -999.00,9,   -999.0,1,-999.000,9,   -999.0,9,   -999.0,9,  -999.00,9, 4034.2,-999.0000,-999.000,-999.000, 11.9392,-999.000
   318MWESTW_5,  P21W,   184,  1,     27, SI9424,2,19940527,0743,-17.5000,-162.3305, 4820,    494.8,   8.7807,  34.5426,2,  34.5376,2,    165.2,2,    162.9,2,    13.26,2,    23.85,2,     0.02,2,     1.76,2,    0.512,2,    0.268,2, -999.000,1,-999.0000,1,  -999.00,9,   -999.0,1,-999.000,9,   -999.0,9,   -999.0,9,  -999.00,9, 4983.9,-999.0000,-999.000,-999.000,  8.7271,-999.000
   318MWESTW_5,  P21W,   184,  1,     26, SI9414,2,19940527,0743,-17.5000,-162.3305, 4820,    596.0,   6.4727,  34.3765,2,  34.3776,2,    197.9,2,    200.1,2,    15.48,2,    26.69,2,     0.02,2,     1.88,2,    0.357,6,    0.196,6, -999.000,1,-999.0000,1,  -999.00,9,   -999.0,1,-999.000,9,   -999.0,9,   -999.0,9,  -999.00,9, 5990.2,-999.0000,-999.000,-999.000,  6.4182,-999.000
   318MWESTW_5,  P21W,   184,  1,     25, SI9425,2,19940527,0743,-17.5000,-162.3305, 4820,    694.1,   5.5349,  34.3761,2,  34.3757,2,    180.3,2,    180.4,2,    27.25,2,    30.42,2,     0.01,2,     2.12,2,    0.096,2,    0.059,2, -999.000,1,-999.0000,1,  -999.00,9,   -999.0,1,-999.000,9,   -999.0,9,   -999.0,9,  -999.00,9, 6966.1,-999.0000,-999.000,-999.000,  5.4759,-999.000
   318MWESTW_5,  P21W,   184,  1,     24, SI9434,2,19940527,0743,-17.5000,-162.3305, 4820,    797.1,   4.7461,  34.4330,2,  34.4438,2,    163.9,2,    159.1,2,    46.16,2,    33.04,2,     0.01,2,     2.31,2,    0.020,2,    0.014,2, -999.000,1,-999.0000,1,  -999.00,9,   -999.0,1,-999.000,9,   -999.0,9,   -999.0,9,  -999.00,9, 7990.3,-999.0000,-999.000,-999.000,  4.6825,-999.000
   318MWESTW_5,  P21W,   184,  1,     23, SI9423,2,19940527,0743,-17.5000,-162.3305, 4820,    848.2,   4.4384,  34.4536,2,  34.4522,2,    158.5,2,    154.5,2,    53.63,2,    33.95,2,     0.01,2,     2.37,2,    0.006,2,    0.005,2, -999.000,1,-999.0000,1,  -999.00,9,   -999.0,1,-999.000,9,   -999.0,9,   -999.0,9,  -999.00,9, 8498.2,-999.0000,-999.000,-999.000,  4.3724,-999.000
   318MWESTW_5,  P21W,   184,  1,     22, SI9418,2,19940527,0743,-17.5000,-162.3305, 4820,    900.4,   4.1395,  34.4680,2,  34.4675,2,    157.1,2,    153.3,2,    59.66,2,    34.44,2,     0.01,2,     2.40,2, -999.000,9, -999.000,9, -999.000,1,-999.0000,1,  -999.00,9,   -999.0,1,-999.000,9,   -999.0,9,   -999.0,9,  -999.00,9, 9017.7,-999.0000,-999.000,-999.000,  4.0711,-999.000
   318MWESTW_5,  P21W,   184,  1,     21, SI9421,2,19940527,0743,-17.5000,-162.3305, 4820,    950.6,   3.9522,  34.4799,2,  34.4793,2,    154.8,2,    152.5,2,    63.95,2,    34.75,2,     0.01,2,     2.42,2,    0.002,2,    0.001,2, -999.000,1,-999.0000,1,  -999.00,9,   -999.0,1,-999.000,9,   -999.0,9,   -999.0,9,  -999.00,9, 9517.0,-999.0000,-999.000,-999.000,  3.8810,-999.000
   318MWESTW_5,  P21W,   184,  1,     20, SI9420,2,19940527,0743,-17.5000,-162.3305, 4820,   1002.9,   3.7900,  34.4912,2,  34.4926,2,    153.2,2,    151.8,2,    68.24,2,    34.98,2,     0.01,2,     2.43,2,    0.003,2,    0.001,2, -999.000,1,-999.0000,1,  -999.00,9,   -999.0,1,-999.000,9,   -999.0,9,   -999.0,9,  -999.00,9,10036.5,-999.0000,-999.000,-999.000,  3.7157,-999.000
   318MWESTW_5,  P21W,   184,  1,     19, SI9419,2,19940527,0743,-17.5000,-162.3305, 4820,   1104.4,   3.4320,  34.5237,2,  34.5237,2,    149.6,2,    147.4,2,    78.56,2,    35.48,2,     0.02,2,     2.47,2,    0.001,2,   -0.001,2, -999.000,1,-999.0000,1,  -999.00,9,   -999.0,1,-999.000,9,   -999.0,9,   -999.0,9,  -999.00,9,11046.1,-999.0000,-999.000,-999.000,  3.3524,-999.000
   318MWESTW_5,  P21W,   184,  1,     18, SI9439,2,19940527,0743,-17.5000,-162.3305, 4820,   1200.1,   3.2192,  34.5410,2,  34.5417,2,    147.5,2,    146.2,2,    84.59,2,    35.68,2,     0.01,2,     2.49,2,   -0.001,2,    0.001,2, -999.000,1,-999.0000,1,  -999.00,9,   -999.0,1,-999.000,9,   -999.0,9,   -999.0,9,  -999.00,9,11996.9,-999.0000,-999.000,-999.000,  3.1337,-999.000
   318MWESTW_5,  P21W,   184,  1,     17, SI9417,2,19940527,0743,-17.5000,-162.3305, 4820,   1299.7,   3.0268,  34.5585,2,  34.5590,2,    146.5,2,    145.2,2,    90.47,2,    35.78,2,     0.01,2,     2.50,2,   -0.004,2,   -0.002,2, -999.000,1,-999.0000,1,  -999.00,9,   -999.0,1,-999.000,9,   -999.0,9,   -999.0,9,  -999.00,9,12987.5,-999.0000,-999.000,-999.000,  2.9351,-999.000
   318MWESTW_5,  P21W,   184,  1,     16, SI9416,2,19940527,0743,-17.5000,-162.3305, 4820,   1401.5,   2.8596,  34.5728,2,  34.5739,2,    146.2,2,    145.5,2,    95.38,2,    35.80,2,     0.00,2,     2.50,2, -999.000,9, -999.000,9, -999.000,1,-999.0000,1,  -999.00,9,   -999.0,1,-999.000,9,   -999.0,9,   -999.0,9,  -999.00,9,13999.3,-999.0000,-999.000,-999.000,  2.7614,-999.000
   318MWESTW_5,  P21W,   184,  1,     15, SI9415,2,19940527,0743,-17.5000,-162.3305, 4820,   1505.5,   2.7059,  34.5866,2,  34.5871,2,    146.6,2,    145.9,2,    99.99,2,    35.92,2,     0.02,2,     2.51,2, -999.000,9, -999.000,9, -999.000,1,-999.0000,1,  -999.00,9,   -999.0,1,-999.000,9,   -999.0,9,   -999.0,9,  -999.00,9,15033.7,-999.0000,-999.000,-999.000,  2.6010,-999.000
   318MWESTW_5,  P21W,   184,  1,     14, SI9436,2,19940527,0743,-17.5000,-162.3305, 4820,   1705.1,   2.4713,  34.6070,2,  34.6085,2,    147.3,2,    146.9,2,   107.29,2,    36.07,2,     0.01,2,     2.51,2, -999.000,9, -999.000,9, -999.000,1,-999.0000,1,  -999.00,9,   -999.0,1,-999.000,9,   -999.0,9,   -999.0,9,  -999.00,9,17017.9,-999.0000,-999.000,-999.000,  2.3528,-999.000
   318MWESTW_5,  P21W,   184,  1,     13, SI9413,2,19940527,0743,-17.5000,-162.3305, 4820,   1905.4,   2.2793,  34.6229,2,  34.6242,2,    148.6,2,    148.1,2,   112.99,2,    36.04,2,     0.01,2,     2.51,2, -999.000,9, -999.000,9, -999.000,1,-999.0000,1,  -999.00,9,   -999.0,1,-999.000,9,   -999.0,9,   -999.0,9,  -999.00,9,19009.0,-999.0000,-999.000,-999.000,  2.1467,-999.000
   318MWESTW_5,  P21W,   184,  1,     12, SI9438,2,19940527,0743,-17.5000,-162.3305, 4820,   2110.9,   2.1110,  34.6374,2,  34.6394,2,    151.0,2,    150.3,2,   117.27,2,    35.83,2,     0.02,2,     2.50,2, -999.000,9, -999.000,9, -999.000,1,-999.0000,1,  -999.00,9,   -999.0,1,-999.000,9,   -999.0,9,   -999.0,9,  -999.00,9,21052.7,-999.0000,-999.000,-999.000,  1.9634,-999.000
   318MWESTW_5,  P21W,   184,  1,     11, SI9411,2,19940527,0743,-17.5000,-162.3305, 4820,   2321.7,   1.9725,  34.6490,2,  34.6504,2,    153.1,2,    152.5,2,   121.24,2,    35.73,2,     0.01,2,     2.51,2,   -0.003,2,   -0.002,2, -999.000,1,-999.0000,1,  -999.00,9,   -999.0,1,-999.000,9,   -999.0,9,   -999.0,9,  -999.00,9,23147.7,-999.0000,-999.000,-999.000,  1.8087,-999.000
   318MWESTW_5,  P21W,   184,  1,     10, SI9412,2,19940527,0743,-17.5000,-162.3305, 4820,   2515.1,   1.8645,  34.6587,2,  34.6598,2,    155.4,2,    154.8,2,   123.77,2,    35.60,2,     0.02,2,     2.49,2, -999.000,9, -999.000,9, -999.000,1,-999.0000,1,  -999.00,9,   -999.0,1,-999.000,9,   -999.0,9,   -999.0,9,  -999.00,9,25071.1,-999.0000,-999.000,-999.000,  1.6854,-999.000
   318MWESTW_5,  P21W,   184,  1,      9, SI9410,2,19940527,0743,-17.5000,-162.3305, 4820,   2701.5,   1.7658,  34.6669,2,  34.6675,2,    158.0,2,    157.8,2,   125.82,2,    35.48,2,     0.02,2,     2.47,2, -999.000,9, -999.000,9, -999.000,1,-999.0000,1,  -999.00,9,   -999.0,1,-999.000,9,   -999.0,9,   -999.0,9,  -999.00,9,26923.5,-999.0000,-999.000,-999.000,  1.5715,-999.000
   318MWESTW_5,  P21W,   184,  1,      8, SI9422,2,19940527,0743,-17.5000,-162.3305, 4820,   2900.9,   1.6928,  34.6720,2,  34.6732,2,    161.5,2,    161.3,2,   126.45,2,    35.28,2,     0.02,2,     2.45,2, -999.000,9, -999.000,9, -999.000,1,-999.0000,1,  -999.00,9,   -999.0,1,-999.000,9,   -999.0,9,   -999.0,9,  -999.00,9,28906.1,-999.0000,-999.000,-999.000,  1.4813,-999.000
   318MWESTW_5,  P21W,   184,  1,      7, SI9407,2,19940527,0743,-17.5000,-162.3305, 4820,   3201.6,   1.6044,  34.6801,2,  34.6814,2,    166.3,2,    166.3,2,   126.81,2,    34.91,2,     0.03,2,     2.40,2, -999.000,9, -999.000,9, -999.000,1,-999.0000,1,  -999.00,9,   -999.0,1,-999.000,9,   -999.0,9,   -999.0,9,  -999.00,9,31896.0,-999.0000,-999.000,-999.000,  1.3657,-999.000
   318MWESTW_5,  P21W,   184,  1,      6, SI9427,2,19940527,0743,-17.5000,-162.3305, 4820,   3514.2,   1.5302,  34.6856,2,  34.6855,2,    172.7,2,    172.4,2,   125.65,2,    34.53,2,     0.02,2,     2.38,2, -999.000,9, -999.000,9, -999.000,1,-999.0000,1,  -999.00,9,   -999.0,1,-999.000,9,   -999.0,9,   -999.0,9,  -999.00,9,35003.3,-999.0000,-999.000,-999.000,  1.2618,-999.000
   318MWESTW_5,  P21W,   184,  1,      5, SI9405,2,19940527,0743,-17.5000,-162.3305, 4820,   3918.0,   1.4373,  34.6931,2,  34.6942,2,    181.1,2,    180.5,2,   124.21,2,    33.87,2,     0.01,2,     2.34,2,    0.002,2,    0.000,2, -999.000,1,-999.0000,1,  -999.00,9,   -999.0,1,-999.000,9,   -999.0,9,   -999.0,9,  -999.00,9,39017.5,-999.0000,-999.000,-999.000,  1.1290,-999.000
   318MWESTW_5,  P21W,   184,  1,      4, SI9404,2,19940527,0743,-17.5000,-162.3305, 4820,   4210.4,   1.3317,  34.7015,2,  34.7022,2,    189.9,2,    190.3,2,   121.34,2,    33.13,2,     0.03,2,     2.28,2,    0.001,2,   -0.002,2, -999.000,1,-999.0000,1,  -999.00,9,   -999.0,1,-999.000,9,   -999.0,9,   -999.0,9,  -999.00,9,41925.0,-999.0000,-999.000,-999.000,  0.9945,-999.000
   318MWESTW_5,  P21W,   184,  1,      3, SI9403,2,19940527,0743,-17.5000,-162.3305, 4820,   4516.8,   1.1547,  34.7103,2,  34.7089,2,    201.8,2,    202.9,2,   118.95,2,    32.39,2,     0.02,2,     2.22,2,    0.003,2,    0.000,2, -999.000,1,-999.0000,1,  -999.00,9,   -999.0,1,-999.000,9,   -999.0,9,   -999.0,9,  -999.00,9,44970.6,-999.0000,-999.000,-999.000,  0.7884,-999.000
   318MWESTW_5,  P21W,   184,  1,      2, SI9437,2,19940527,0743,-17.5000,-162.3305, 4820,   4818.8,   1.1167,  34.7098,2,  34.7105,2,    206.1,2,    205.9,2,   119.57,2,    32.27,2,     0.02,2,     2.21,2, -999.000,9, -999.000,9, -999.000,1,-999.0000,1,  -999.00,9,   -999.0,1,-999.000,9,   -999.0,9,   -999.0,9,  -999.00,9,47973.3,-999.0000,-999.000,-999.000,  0.7168,-999.000
   318MWESTW_5,  P21W,   184,  1,      1, SI9401,2,19940527,0743,-17.5000,-162.3305, 4820,   4881.4,   1.1187,  34.7096,2,  34.7111,2,    205.2,2,    206.2,2,   119.27,2,    32.22,2,     0.03,2,     2.21,2,    0.001,2,    0.000,2, -999.000,1,-999.0000,1,  -999.00,9,   -999.0,1,-999.000,9,   -999.0,9,   -999.0,9,  -999.00,9,48596.0,-999.0000,-999.000,-999.000,  0.7113,-999.000