BOTTLE,20010911WHPSIOdm
EXPOCODE,SECT_ID,STNNBR,CASTNO,SAMPNO,BTLNBR,BTLNBR_FLAG_W,DATE,TIME,LATITUDE,LONGITUDE,DEPTH,CTDPRS,CTDTMP,CTDSAL,CTDSAL_FLAG_W,SALNTY,SALNTY_FLAG_W,CTDOXY,CTDOXY_FLAG_W,OXYGEN,OXYGEN_FLAG_W,SILCAT,SILCAT_FLAG_W,NITRAT,NITRAT_FLAG_W,NITRIT,NITRIT_FLAG_W,PHSPHT,PHSPHT_FLAG_W,CFC-11,CFC-11_FLAG_W,CFC-12,CFC-12_FLAG_W,TRITUM,TRITUM_FLAG_W,HELIUM,HELIUM_FLAG_W,DELHE3,DELHE3_FLAG_W,DELC14,DELC14_FLAG_W,NEON,NEON_FLAG_W,TCARBN,TCARBN_FLAG_W,ALKALI,ALKALI_FLAG_W,PH,PH_FLAG_W,CTDRAW,HELIER,DELHER,NEONER,THETA,TRITER
,,,,,,,,,,,,DBAR,ITS-90,PSS-78,,PSS-78,,UMOL/KG,,UMOL/KG,,UMOL/KG,,UMOL/KG,,UMOL/KG,,UMOL/KG,,PMOL/KG,,PMOL/KG,,TU,,UMOL/KG,,PERCNT,,/MILLE,,NMOL/KG,,UMOL/KG,,UMOL/KG,,,,,NMOL/KG,PERCNT,NMOL/KG,ITS-90,TU
   318MWESTW_4,  P21E,    60,  1,     36, SI9336,2,19940415,1022,-16.7500, -92.0028, 4380,      7.1,  23.0493,  35.9611,2,  35.9609,2,    215.9,2,    219.3,2,     0.01,2,    -0.01,2,     0.01,2,     0.38,2,    1.984,2,    1.098,2, -999.000,1,-999.0000,1,  -999.00,9,   -999.0,1,-999.000,9,   2070.8,2,   2379.0,2,     8.03,2,  113.2,-999.0000,-999.000,-999.000, 23.0478,-999.000
   318MWESTW_4,  P21E,    60,  1,     35, SI9335,2,19940415,1022,-16.7500, -92.0028, 4380,     23.1,  23.0505,  35.9611,2,  35.9609,2,    217.2,2,    218.9,2,     0.02,2,     0.05,2,     0.01,2,     0.38,2,    1.970,2,    1.079,2, -999.000,1,-999.0000,1,  -999.00,9,   -999.0,1,-999.000,9,   2063.8,2,   2378.0,2,     8.03,2,  273.7,-999.0000,-999.000,-999.000, 23.0458,-999.000
   318MWESTW_4,  P21E,    60,  1,     34, SI9334,2,19940415,1022,-16.7500, -92.0028, 4380,     54.0,  23.0606,  35.9350,2,  35.9589,2,    218.7,2,    220.3,2,     0.04,2,     0.01,2,     0.00,2,     0.38,2,    1.934,2,    1.068,2, -999.000,1,-999.0000,1,  -999.00,9,   -999.0,1,-999.000,9,   2063.8,2,   2381.0,2,     8.03,2,  582.5,-999.0000,-999.000,-999.000, 23.0495,-999.000
   318MWESTW_4,  P21E,    60,  1,     33, SI9333,2,19940415,1022,-16.7500, -92.0028, 4380,    105.4,  19.1124,  35.5857,2,  35.5198,2,    222.5,2,    213.1,2,     0.40,2,     1.01,2,     0.61,2,     0.49,2,    2.299,2,    1.235,2, -999.000,1,-999.0000,1,  -999.00,9,   -999.0,1,-999.000,9,   2076.8,2,   2348.0,2,     7.97,2, 1095.8,-999.0000,-999.000,-999.000, 19.0935,-999.000
   318MWESTW_4,  P21E,    60,  1,     32, SI9332,2,19940415,1022,-16.7500, -92.0028, 4380,    151.0,  18.3213,  35.4402,2,  35.4387,2,    207.1,2,    199.2,2,     1.11,2,     5.27,2,     0.03,2,     0.77,2,    2.315,2,    1.236,2, -999.000,1,-999.0000,1,  -999.00,9,   -999.0,1,-999.000,9,   2098.8,2,   2344.0,2,     7.92,2, 1552.3,-999.0000,-999.000,-999.000, 18.2950,-999.000
   318MWESTW_4,  P21E,    60,  1,     31, SI9331,2,19940415,1022,-16.7500, -92.0028, 4380,    199.6,  14.3837,  34.8134,2,  34.7925,2,    157.8,2,    158.2,2,     3.73,2,    11.89,2,     0.01,2,     1.18,2,    2.074,2,    1.029,2, -999.000,1,-999.0000,1,  -999.00,9,   -999.0,1,-999.000,9,   2128.8,2,   2297.0,2,     7.79,2, 2037.5,-999.0000,-999.000,-999.000, 14.3544,-999.000
   318MWESTW_4,  P21E,    60,  1,     30, SI9330,2,19940415,1022,-16.7500, -92.0028, 4380,    256.4,  12.0415,  34.6700,2,  34.6606,2,     41.4,2,     53.1,2,    15.90,2,    21.53,2,     0.01,2,     2.27,2,    0.845,2,    0.398,2, -999.000,1,-999.0000,1,  -999.00,9,   -999.0,1,-999.000,9,   2220.9,2,   2291.0,2,     7.53,2, 2604.4,-999.0000,-999.000,-999.000, 12.0080,-999.000
   318MWESTW_4,  P21E,    60,  1,     29, SI9329,2,19940415,1022,-16.7500, -92.0028, 4380,    297.9,  10.7930,  34.6749,2,  34.6704,2,     15.4,2,     16.6,2,    23.20,2,    28.52,2,     0.01,2,     2.67,2,    0.243,2,    0.109,2, -999.000,1,-999.0000,1,  -999.00,9,   -999.0,1,-999.000,9,   2261.9,2,   2293.0,2,     7.42,2, 3019.1,-999.0000,-999.000,-999.000, 10.7567,-999.000
   318MWESTW_4,  P21E,    60,  1,     28, SI9328,2,19940415,1022,-16.7500, -92.0028, 4380,    404.3,   8.6151,  34.5974,2,  34.6016,2,     21.1,2,     18.2,2,    29.99,2,    37.95,2,     0.00,2,     2.82,2,    0.031,2,    0.009,2, -999.000,1,-999.0000,1,  -999.00,9,   -999.0,1,-999.000,9,   2277.0,2,   2298.0,2,     7.38,2, 4082.5,-999.0000,-999.000,-999.000,  8.5720,-999.000
   318MWESTW_4,  P21E,    60,  1,     27, SI9327,2,19940415,1022,-16.7500, -92.0028, 4380,    499.0,   7.3572,  34.5485,2,  34.5370,2,     34.9,2,     38.0,2,    34.00,2,    40.27,2,     0.00,2,     2.84,2,    0.015,2,    0.009,2, -999.000,1,-999.0000,1,  -999.00,9,   -999.0,1,-999.000,9,   2273.0,2,   2299.0,2,     7.40,2, 5027.9,-999.0000,-999.000,-999.000,  7.3084,-999.000
   318MWESTW_4,  P21E,    60,  1,     26, SI9326,2,19940415,1022,-16.7500, -92.0028, 4380,    603.8,   6.3897,  34.5163,2,  34.5127,2,     42.7,2,     40.3,2,    42.69,2,    42.54,2,     0.00,2,     2.99,2,    0.000,2,   -0.003,2, -999.000,1,-999.0000,1,  -999.00,9,   -999.0,1,-999.000,9,   2284.0,2,   2308.0,2,     7.39,2, 6075.1,-999.0000,-999.000,-999.000,  6.3347,-999.000
   318MWESTW_4,  P21E,    60,  1,     25, SI9325,2,19940415,1022,-16.7500, -92.0028, 4380,    700.1,   5.7318,  34.5091,2,  34.5068,2,     42.0,2,     40.5,2,    51.73,2,    43.92,2,     0.00,2,     3.09,2,   -0.001,2,   -0.003,2, -999.000,1,-999.0000,1,  -999.00,9,   -999.0,1,-999.000,9,   2291.0,2,   2318.0,2,     7.38,2, 7036.5,-999.0000,-999.000,-999.000,  5.6711,-999.000
   318MWESTW_4,  P21E,    60,  1,     24, SI9324,2,19940415,1022,-16.7500, -92.0028, 4380,    798.0,   5.2618,  34.5088,2,  34.5097,2,     44.5,2,     42.6,2,    59.90,2,    44.37,2,     0.00,2,     3.14,2,   -0.002,2,   -0.001,2, -999.000,1,-999.0000,1,  -999.00,9,   -999.0,1,-999.000,9,   2299.0,2,   2326.0,2,     7.38,2, 8014.9,-999.0000,-999.000,-999.000,  5.1949,-999.000
   318MWESTW_4,  P21E,    60,  1,     23, SI9323,2,19940415,1022,-16.7500, -92.0028, 4380,    901.2,   4.8171,  34.5156,2,  34.5188,2,     52.3,2,     49.1,2,    68.42,2,    44.11,2,     0.00,2,     3.14,2,   -0.003,2,   -0.004,2, -999.000,1,-999.0000,1,  -999.00,9,   -999.0,1,-999.000,9,   2305.0,2,   2336.0,2,     7.39,2, 9044.8,-999.0000,-999.000,-999.000,  4.7439,-999.000
   318MWESTW_4,  P21E,    60,  1,     22, SI9322,2,19940415,1022,-16.7500, -92.0028, 4380,   1005.4,   4.3434,  34.5297,2,  34.5300,2,     63.3,2,     61.4,2,    77.97,2,    43.01,2,     0.00,2,     3.08,2,   -0.001,2,   -0.004,2, -999.000,1,-999.0000,1,  -999.00,9,   -999.0,1,-999.000,9,   2310.0,2,   2346.0,2,     7.42,2,10086.1,-999.0000,-999.000,-999.000,  4.2646,-999.000
   318MWESTW_4,  P21E,    60,  1,     21, SI9321,2,19940415,1022,-16.7500, -92.0028, 4380,   1104.2,   4.0117,  34.5422,2,  34.5415,2,     70.2,2,     68.7,2,    85.44,2,    42.58,2,     0.00,2,     3.05,2, -999.000,9, -999.000,9, -999.000,1,-999.0000,1,  -999.00,9,   -999.0,1,-999.000,9,   2313.0,2,   2355.0,2,     7.43,2,11073.2,-999.0000,-999.000,-999.000,  3.9271,-999.000
   318MWESTW_4,  P21E,    60,  1,     20, SI9320,2,19940415,1022,-16.7500, -92.0028, 4380,   1204.0,   3.6918,  34.5557,2,  34.5561,2,     74.7,2,     74.3,2,    93.60,2,    41.97,2,     0.01,2,     3.04,2, -999.000,9, -999.000,9, -999.000,1,-999.0000,1,  -999.00,9,   -999.0,1,-999.000,9,   2319.0,2,   2363.0,2,     7.44,2,12069.7,-999.0000,-999.000,-999.000,  3.6016,-999.000
   318MWESTW_4,  P21E,    60,  1,     19, SI9319,2,19940415,1022,-16.7500, -92.0028, 4380,   1304.8,   3.4089,  34.5662,2,  34.5690,2,     81.7,2,     80.2,2,   100.37,2,    41.49,2,     0.01,2,     3.00,2, -999.000,9, -999.000,9, -999.000,1,-999.0000,1,  -999.00,9,   -999.0,1,-999.000,9,   -999.0,9,   2372.0,2,     7.43,2,13077.2,-999.0000,-999.000,-999.000,  3.3130,-999.000
   318MWESTW_4,  P21E,    60,  1,     18, SI9318,2,19940415,1022,-16.7500, -92.0028, 4380,   1402.1,   3.2084,  34.5812,2,  34.5806,2,     83.9,2,     83.4,2,   106.11,2,    41.22,2,     0.01,2,     2.98,2, -999.000,9, -999.000,9, -999.000,1,-999.0000,1,  -999.00,9,   -999.0,1,-999.000,9,   2326.0,2,   2378.0,2,     7.46,2,14048.7,-999.0000,-999.000,-999.000,  3.1064,-999.000
   318MWESTW_4,  P21E,    60,  1,     17, SI9317,2,19940415,1022,-16.7500, -92.0028, 4380,   1500.8,   2.9827,  34.5921,2,  34.5906,2,     92.7,2,     93.0,2,   109.23,2,    40.58,2,     0.01,2,     2.90,2, -999.000,9, -999.000,9,   -0.001,2,   1.8893,2,    23.32,2,   -999.0,1,   7.993,2,   2325.0,2,   2382.0,2,     7.47,2,15034.4,  0.0094,   0.100,   0.040,  2.8750,   0.003
   318MWESTW_4,  P21E,    60,  1,     16, SI9316,2,19940415,1022,-16.7500, -92.0028, 4380,   1597.0,   2.7919,  34.6029,2,  34.6028,2,     99.0,2,     98.4,2,   113.92,2,    39.98,2,     0.01,2,     2.87,2, -999.000,9, -999.000,9, -999.000,1,-999.0000,1,  -999.00,9,   -999.0,1,-999.000,9,   2328.0,2,   2387.0,2,     7.49,2,15995.8,-999.0000,-999.000,-999.000,  2.6784,-999.000
   318MWESTW_4,  P21E,    60,  1,     15, SI9315,2,19940415,1022,-16.7500, -92.0028, 4380,   1799.1,   2.4942,  34.6232,2,  34.6223,2,    109.3,2,    108.9,2,   120.86,2,    39.22,2,     0.01,2,     2.79,2, -999.000,9, -999.000,9, -999.000,1,-999.0000,1,  -999.00,9,   -999.0,1,-999.000,9,   2330.0,2,   2397.0,2,     7.50,2,18015.1,-999.0000,-999.000,-999.000,  2.3675,-999.000
   318MWESTW_4,  P21E,    60,  1,     14, SI9314,2,19940415,1022,-16.7500, -92.0028, 4380,   1999.7,   2.2338,  34.6387,2,  34.6399,2,    119.6,2,    121.0,2,   124.85,2,    38.23,2,     0.01,2,     2.71,2, -999.000,9, -999.000,9,    0.000,2,   1.9134,2,    27.57,2,   -999.0,1,   8.059,2,   2327.0,2,   2403.0,2,     7.53,2,20018.9,  0.0096,   0.100,   0.040,  2.0938,   0.003
   318MWESTW_4,  P21E,    60,  1,     13, SI9313,2,19940415,1022,-16.7500, -92.0028, 4380,   2199.8,   2.0502,  34.6524,2,  34.6537,2,    134.4,2,    133.6,2,   125.20,2,    37.25,2,     0.01,2,     2.62,2, -999.000,9, -999.000,9, -999.000,1,-999.0000,1,  -999.00,9,   -999.0,1,-999.000,9,   2321.0,2,   2405.0,2,     7.54,2,22017.9,-999.0000,-999.000,-999.000,  1.8958,-999.000
   318MWESTW_4,  P21E,    60,  1,     12, SI9312,2,19940415,1022,-16.7500, -92.0028, 4380,   2396.8,   1.9367,  34.6621,2,  34.6643,2,    138.8,2,    137.4,2,   127.98,2,    36.98,2,     0.01,2,     2.59,2, -999.000,9, -999.000,9,   -0.003,2,   1.9232,2,    27.49,2,   -999.0,1,   8.112,2,   2322.0,2,   2410.0,2,     7.56,2,23986.5,  0.0096,   0.100,   0.041,  1.7668,   0.003
   318MWESTW_4,  P21E,    60,  1,     11, SI9311,2,19940415,1022,-16.7500, -92.0028, 4380,   2599.3,   1.8593,  34.6711,2,  34.6708,2,    142.7,2,    143.1,2,   129.37,2,    36.71,2,     0.01,2,     2.56,2, -999.000,9, -999.000,9, -999.000,1,-999.0000,1,  -999.00,9,   -999.0,1,-999.000,9,   2322.0,2,   2415.0,2,     7.56,2,26009.5,-999.0000,-999.000,-999.000,  1.6725,-999.000
   318MWESTW_4,  P21E,    60,  1,     10, SI9310,2,19940415,1022,-16.7500, -92.0028, 4380,   2799.9,   1.8208,  34.6756,2,  34.6761,2,    145.1,2,    144.4,2,   130.94,2,    36.39,2,     0.01,2,     2.55,2, -999.000,9, -999.000,9, -999.000,1,-999.0000,1,  -999.00,9,   -999.0,1,-999.000,9,   2323.0,2,   2417.0,2,     7.57,2,28014.5,-999.0000,-999.000,-999.000,  1.6161,-999.000
   318MWESTW_4,  P21E,    60,  1,      9, SI9309,2,19940415,1022,-16.7500, -92.0028, 4380,   3000.6,   1.7983,  34.6795,2,  34.6791,2,    144.7,2,    144.5,2,   133.19,2,    36.47,2,     0.00,2,     2.55,2, -999.000,9, -999.000,9,   -0.002,2,   1.9193,2,    26.32,2,   -999.0,1,   8.128,2,   2326.0,2,   2422.0,2,     7.57,2,30020.0,  0.0096,   0.100,   0.041,  1.5749,   0.003
   318MWESTW_4,  P21E,    60,  1,      8, SI9308,2,19940415,1022,-16.7500, -92.0028, 4380,   3197.7,   1.7870,  34.6815,2,  34.6824,2,    145.3,2,    145.5,2,   133.37,2,    36.24,2,     0.01,2,     2.55,2, -999.000,9, -999.000,9, -999.000,1,-999.0000,1,  -999.00,9,   -999.0,1,-999.000,9,   -999.0,9,   2422.0,2,     7.58,2,31989.1,-999.0000,-999.000,-999.000,  1.5444,-999.000
   318MWESTW_4,  P21E,    60,  1,      7, SI9307,2,19940415,1022,-16.7500, -92.0028, 4380,   3400.0,   1.7795,  34.6843,2,  34.6844,2,    146.7,2,    145.4,2,   133.37,2,    36.19,2,     0.01,2,     2.54,2, -999.000,9, -999.000,9,   -0.005,2,   1.9186,2,    25.37,2,   -999.0,1,   8.123,2,   2327.0,2,   2424.0,2,     7.58,2,34011.7,  0.0096,   0.100,   0.041,  1.5166,   0.003
   318MWESTW_4,  P21E,    60,  1,      6, SI9306,2,19940415,1022,-16.7500, -92.0028, 4380,   3602.8,   1.7675,  34.6870,2,  34.6867,2,    147.9,2,    147.0,2,   132.16,2,    35.99,2,     0.01,2,     2.52,2, -999.000,9, -999.000,9, -999.000,1,-999.0000,1,  -999.00,9,   -999.0,1,-999.000,9,   -999.0,9,   2419.0,2,  -999.00,9,36038.4,-999.0000,-999.000,-999.000,  1.4839,-999.000
   318MWESTW_4,  P21E,    60,  1,      5, SI9305,2,19940415,1022,-16.7500, -92.0028, 4380,   3790.3,   1.7630,  34.6887,2,  34.6895,2,    152.0,2,    150.9,2,   130.78,2,    35.78,2,     0.00,2,     2.50,2, -999.000,9, -999.000,9,    0.002,2,   1.9109,2,    24.65,2,   -999.0,1,   8.104,2,   2321.0,2,   2421.0,2,     7.58,2,37911.7,  0.0096,   0.100,   0.041,  1.4595,   0.003
   318MWESTW_4,  P21E,    60,  1,      4, SI9304,2,19940415,1022,-16.7500, -92.0028, 4380,   3995.5,   1.7709,  34.6899,2,  34.6897,2,    153.0,2,    152.1,2,   130.44,2,    35.72,2,     0.01,2,     2.52,2, -999.000,9, -999.000,9, -999.000,1,-999.0000,1,  -999.00,9,   -999.0,1,-999.000,9,   2321.0,2,   2418.0,2,     7.59,2,39963.5,-999.0000,-999.000,-999.000,  1.4448,-999.000
   318MWESTW_4,  P21E,    60,  1,      3, SI9303,2,19940415,1022,-16.7500, -92.0028, 4380,   4194.1,   1.7901,  34.6906,2,  34.6901,2,    152.5,2,    153.0,2,   130.09,2,    35.74,2,     0.00,2,     2.51,2, -999.000,9, -999.000,9,    0.000,2,   1.9157,2,    24.25,2,   -999.0,1,   8.125,2,   2321.0,2,   2419.0,2,     7.58,2,41948.2,  0.0096,   0.100,   0.041,  1.4413,   0.003
   318MWESTW_4,  P21E,    60,  1,      2, SI9302,2,19940415,1022,-16.7500, -92.0028, 4380,   4400.0,   1.8123,  34.6905,2,  34.6903,2,    151.7,2,    152.9,2,   129.58,2,    35.75,2,     0.00,2,     2.51,2, -999.000,9, -999.000,9, -999.000,1,-999.0000,1,  -999.00,9,   -999.0,1,-999.000,9,   2321.0,2,   2420.0,2,     7.58,2,44006.9,-999.0000,-999.000,-999.000,  1.4393,-999.000
   318MWESTW_4,  P21E,    60,  1,      1, SI9301,2,19940415,1022,-16.7500, -92.0028, 4380,   4437.0,   1.8133,  34.6903,2,  34.6906,2,    150.4,2,    152.4,2,   129.94,2,    35.70,2,     0.01,2,     2.51,2, -999.000,9, -999.000,9, -999.000,1,   1.9234,2,    24.27,2,   -999.0,1,   8.162,2,   2318.0,2,   2420.0,2,     7.58,2,44376.1,  0.0096,   0.100,   0.041,  1.4359,-999.000