BOTTLE,20010911WHPSIOdm
EXPOCODE,SECT_ID,STNNBR,CASTNO,SAMPNO,BTLNBR,BTLNBR_FLAG_W,DATE,TIME,LATITUDE,LONGITUDE,DEPTH,CTDPRS,CTDTMP,CTDSAL,CTDSAL_FLAG_W,SALNTY,SALNTY_FLAG_W,CTDOXY,CTDOXY_FLAG_W,OXYGEN,OXYGEN_FLAG_W,SILCAT,SILCAT_FLAG_W,NITRAT,NITRAT_FLAG_W,NITRIT,NITRIT_FLAG_W,PHSPHT,PHSPHT_FLAG_W,CFC-11,CFC-11_FLAG_W,CFC-12,CFC-12_FLAG_W,TRITUM,TRITUM_FLAG_W,HELIUM,HELIUM_FLAG_W,DELHE3,DELHE3_FLAG_W,DELC14,DELC14_FLAG_W,NEON,NEON_FLAG_W,TCARBN,TCARBN_FLAG_W,ALKALI,ALKALI_FLAG_W,PH,PH_FLAG_W,CTDRAW,HELIER,DELHER,NEONER,THETA,TRITER
,,,,,,,,,,,,DBAR,ITS-90,PSS-78,,PSS-78,,UMOL/KG,,UMOL/KG,,UMOL/KG,,UMOL/KG,,UMOL/KG,,UMOL/KG,,PMOL/KG,,PMOL/KG,,TU,,UMOL/KG,,PERCNT,,/MILLE,,NMOL/KG,,UMOL/KG,,UMOL/KG,,,,,NMOL/KG,PERCNT,NMOL/KG,ITS-90,TU
   318MWESTW_4,  P21E,    13,  1,     35, SI9335,2,19940331,2021,-15.6083, -76.9222, 2927,      9.2,  22.9874,  35.0302,2,  35.0244,2,    231.8,2,    232.9,2,     0.44,2,     0.00,2,     0.01,2,     0.45,2, -999.000,9, -999.000,9, -999.000,1,-999.0000,1,  -999.00,9,   -999.0,1,-999.000,9,   2022.7,2,   2332.0,2,     8.04,2,  130.7,-999.0000,-999.000,-999.000, 22.9855,-999.000
   318MWESTW_4,  P21E,    13,  1,     34, SI9334,2,19940331,2021,-15.6083, -76.9222, 2927,     26.1,  17.9277,  35.0404,2,  35.0169,2,    243.8,2,    238.4,2,     0.98,2,    -0.02,2,     0.03,2,     0.55,2,    2.415,2,    1.286,2, -999.000,1,-999.0000,1,  -999.00,9,   -999.0,1,-999.000,9,   2077.8,2,   2332.0,2,     7.94,2,  300.1,-999.0000,-999.000,-999.000, 17.9232,-999.000
   318MWESTW_4,  P21E,    13,  1,     33, SI9333,2,19940331,2021,-15.6083, -76.9222, 2927,     50.5,  14.3480,  34.7482,2,  35.0333,2,    110.1,2,    230.6,3,     1.00,2,     0.08,2,     0.00,2,     0.53,2,    2.381,2,    1.269,2, -999.000,1,-999.0000,1,  -999.00,9,   -999.0,1,-999.000,9,   -999.0,9,   -999.0,9,  -999.00,9,  543.9,-999.0000,-999.000,-999.000, 14.3406,-999.000
   318MWESTW_4,  P21E,    13,  1,     32, SI9332,2,19940331,2021,-15.6083, -76.9222, 2927,    102.2,  13.1685,  34.8751,2,  34.8894,2,      6.2,2,      1.3,2,    28.46,2,     8.82,2,     5.92,2,     2.67,2, -999.000,9, -999.000,9, -999.000,1,-999.0000,1,  -999.00,9,   -999.0,1,-999.000,9,   2272.0,2,   2317.0,2,     7.44,2, 1060.2,-999.0000,-999.000,-999.000, 13.1544,-999.000
   318MWESTW_4,  P21E,    13,  1,     31, SI9331,2,19940331,2021,-15.6083, -76.9222, 2927,    151.4,  12.6263,  34.8680,2,  34.8772,2,      4.2,2,      1.0,2,    28.64,2,    12.40,2,     6.92,2,     2.64,2,    0.328,2,    0.192,2, -999.000,1,-999.0000,1,  -999.00,9,   -999.0,1,-999.000,9,   2271.0,2,   2312.0,2,     7.44,2, 1551.7,-999.0000,-999.000,-999.000, 12.6059,-999.000
   318MWESTW_4,  P21E,    13,  1,     30, SI9330,2,19940331,2021,-15.6083, -76.9222, 2927,    201.7,  12.0211,  34.8338,2,  34.8332,2,      3.2,2,      1.0,2,    28.14,2,    19.23,2,     3.88,2,     2.64,2,    0.242,2,    0.144,2, -999.000,1,-999.0000,1,  -999.00,9,   -999.0,1,-999.000,9,   2271.0,2,   2308.0,2,     7.42,2, 2054.7,-999.0000,-999.000,-999.000, 11.9948,-999.000
   318MWESTW_4,  P21E,    13,  1,     29, SI9329,2,19940331,2021,-15.6083, -76.9222, 2927,    250.7,  11.0621,  34.7742,2,  34.7541,2,      2.6,2,      1.7,2,    27.28,2,    27.71,2,     0.05,2,     2.66,2,    0.155,2,    0.090,2, -999.000,1,-999.0000,1,  -999.00,9,   -999.0,1,-999.000,9,   2274.0,2,   2303.0,2,     7.40,2, 2544.1,-999.0000,-999.000,-999.000, 11.0311,-999.000
   318MWESTW_4,  P21E,    13,  1,     28, SI9328,2,19940331,2021,-15.6083, -76.9222, 2927,    300.9,  10.2194,  34.7203,2,  34.7056,2,      2.1,2,      2.3,2,    29.04,2,    31.77,2,     0.01,2,     2.72,2,    0.087,6,    0.051,6, -999.000,1,-999.0000,1,  -999.00,9,   -999.0,1,-999.000,9,   2277.0,2,   2302.0,2,     7.38,2, 3045.5,-999.0000,-999.000,-999.000, 10.1839,-999.000
   318MWESTW_4,  P21E,    13,  1,     27, SI9327,2,19940331,2021,-15.6083, -76.9222, 2927,    400.6,   8.4885,  34.6313,2,  34.6299,2,      2.9,2,      4.3,2,    36.40,2,    39.23,2,     0.01,2,     2.90,2,    0.046,2,    0.006,2, -999.000,1,-999.0000,1,  -999.00,9,   -999.0,1,-999.000,9,   2288.0,2,   2306.0,2,     7.37,2, 4040.8,-999.0000,-999.000,-999.000,  8.4462,-999.000
   318MWESTW_4,  P21E,    13,  1,     26, SI9326,2,19940331,2021,-15.6083, -76.9222, 2927,    498.7,   7.3957,  34.5745,2,  34.5645,2,      9.8,2,     14.5,2,    40.97,2,    41.79,2,     0.01,2,     2.99,2,    0.013,2,   -0.003,2, -999.000,1,-999.0000,1,  -999.00,9,   -999.0,1,-999.000,9,   2291.0,2,   2309.0,2,     7.37,2, 5020.8,-999.0000,-999.000,-999.000,  7.3468,-999.000
   318MWESTW_4,  P21E,    13,  1,     25, SI9325,2,19940331,2021,-15.6083, -76.9222, 2927,    598.8,   6.4989,  34.5320,2,  34.5305,2,     21.9,2,     23.3,2,    47.10,2,    43.21,2,     0.01,2,     3.04,2,    0.004,2,   -0.003,2, -999.000,1,-999.0000,1,  -999.00,9,   -999.0,1,-999.000,9,   2295.0,2,   2313.0,2,     7.37,2, 6020.9,-999.0000,-999.000,-999.000,  6.4439,-999.000
   318MWESTW_4,  P21E,    13,  1,     24, SI9324,2,19940331,2021,-15.6083, -76.9222, 2927,    699.6,   5.8092,  34.5157,2,  34.5188,2,     31.0,2,     29.0,2,    55.50,2,    44.24,2,     0.01,2,     3.10,2,    0.001,2,   -0.004,2, -999.000,1,-999.0000,1,  -999.00,9,   -999.0,1,-999.000,9,   2303.0,2,   2322.0,2,     7.37,2, 7027.8,-999.0000,-999.000,-999.000,  5.7481,-999.000
   318MWESTW_4,  P21E,    13,  1,     23, SI9323,2,19940331,2021,-15.6083, -76.9222, 2927,    798.3,   5.2759,  34.5164,2,  34.5182,2,     35.5,2,     34.5,2,    64.44,2,    44.89,2,     0.00,2,     3.13,2,   -0.001,2,   -0.001,2, -999.000,1,-999.0000,1,  -999.00,9,   -999.0,1,-999.000,9,   2311.0,2,   2330.0,2,     7.38,2, 8013.7,-999.0000,-999.000,-999.000,  5.2089,-999.000
   318MWESTW_4,  P21E,    13,  1,     22, SI9322,2,19940331,2021,-15.6083, -76.9222, 2927,    897.9,   4.7534,  34.5233,2,  34.5250,2,     47.4,2,     44.8,2,    73.20,2,    44.46,2,    -0.01,2,     3.10,2, -999.000,9, -999.000,9, -999.000,1,-999.0000,1,  -999.00,9,   -999.0,1,-999.000,9,   2313.0,2,   2341.0,2,     7.39,2, 9007.9,-999.0000,-999.000,-999.000,  4.6809,-999.000
   318MWESTW_4,  P21E,    13,  1,     21, SI9321,2,19940331,2021,-15.6083, -76.9222, 2927,    997.4,   4.3503,  34.5346,2,  34.5353,2,     56.3,2,     55.1,2,    81.43,2,    43.68,2,    -0.01,2,     3.06,2, -999.000,9, -999.000,9, -999.000,1,-999.0000,1,  -999.00,9,   -999.0,1,-999.000,9,   2317.0,2,   2359.0,3,     7.41,2,10002.4,-999.0000,-999.000,-999.000,  4.2721,-999.000
   318MWESTW_4,  P21E,    13,  1,     20, SI9320,2,19940331,2021,-15.6083, -76.9222, 2927,   1095.1,   4.0292,  34.5446,2,  34.5429,2,     63.7,2,     62.4,2,    88.44,2,    42.83,2,     0.00,2,     3.03,2, -999.000,9, -999.000,9, -999.000,1,-999.0000,1,  -999.00,9,   -999.0,1,-999.000,9,   2321.0,2,   2359.0,2,     7.42,2,10978.3,-999.0000,-999.000,-999.000,  3.9452,-999.000
   318MWESTW_4,  P21E,    13,  1,     19, SI9319,2,19940331,2021,-15.6083, -76.9222, 2927,   1197.3,   3.7642,  34.5549,2,  34.5553,2,     68.1,2,     67.2,2,    95.44,2,    42.22,2,     0.00,2,     3.02,2, -999.000,9, -999.000,9, -999.000,1,-999.0000,1,  -999.00,9,   -999.0,1,-999.000,9,   2326.0,2,   2366.0,2,     7.43,2,11999.0,-999.0000,-999.000,-999.000,  3.6739,-999.000
   318MWESTW_4,  P21E,    13,  1,     18, SI9318,2,19940331,2021,-15.6083, -76.9222, 2927,   1298.6,   3.4830,  34.5659,2,  34.5690,2,     74.5,2,     74.1,2,   101.58,2,    41.55,2,     0.00,2,     2.97,2, -999.000,9, -999.000,9, -999.000,1,-999.0000,1,  -999.00,9,   -999.0,1,-999.000,9,   2327.0,2,   2375.0,2,     7.44,2,13011.1,-999.0000,-999.000,-999.000,  3.3869,-999.000
   318MWESTW_4,  P21E,    13,  1,     17, SI9317,2,19940331,2021,-15.6083, -76.9222, 2927,   1396.8,   3.2410,  34.5814,2,  34.5820,2,     78.5,2,     78.4,2,   108.59,2,    41.05,2,     0.00,2,     2.95,2, -999.000,9, -999.000,9, -999.000,1,-999.0000,1,  -999.00,9,   -999.0,1,-999.000,9,   2334.0,2,   2381.0,2,     7.45,2,13991.3,-999.0000,-999.000,-999.000,  3.1391,-999.000
   318MWESTW_4,  P21E,    13,  1,     16, SI9316,2,19940331,2021,-15.6083, -76.9222, 2927,   1497.4,   3.0257,  34.5955,2,  34.5957,2,     82.2,2,     82.8,2,   114.73,2,    40.78,2,     0.00,2,     2.90,2, -999.000,9, -999.000,9, -999.000,1,-999.0000,1,  -999.00,9,   -999.0,1,-999.000,9,   2337.0,2,   2389.0,2,     7.46,2,14997.2,-999.0000,-999.000,-999.000,  2.9177,-999.000
   318MWESTW_4,  P21E,    13,  1,     15, SI9315,2,19940331,2021,-15.6083, -76.9222, 2927,   1599.9,   2.8261,  34.6062,2,  34.6058,2,     88.5,2,     88.5,2,   119.46,2,    40.57,2,    -0.01,2,     2.87,2, -999.000,9, -999.000,9, -999.000,1,-999.0000,1,  -999.00,9,   -999.0,1,-999.000,9,   2339.0,2,   2394.0,2,     7.46,2,16020.9,-999.0000,-999.000,-999.000,  2.7119,-999.000
   318MWESTW_4,  P21E,    13,  1,     14, SI9314,2,19940331,2021,-15.6083, -76.9222, 2927,   1700.0,   2.6916,  34.6152,2,  34.6154,2,     90.9,2,     91.5,2,   123.85,2,    40.48,2,    -0.01,2,     2.84,2, -999.000,9, -999.000,9, -999.000,1,-999.0000,1,  -999.00,9,   -999.0,1,-999.000,9,   2342.0,2,   2402.0,2,     7.47,2,17020.3,-999.0000,-999.000,-999.000,  2.5707,-999.000
   318MWESTW_4,  P21E,    13,  1,     13, SI9313,2,19940331,2021,-15.6083, -76.9222, 2927,   1799.2,   2.5385,  34.6239,2,  34.6240,2,     94.7,2,     96.3,2,   128.05,2,    40.09,2,     0.00,2,     2.82,2, -999.000,9, -999.000,9, -999.000,1,-999.0000,1,  -999.00,9,   -999.0,1,-999.000,9,   2344.0,2,   2405.0,2,     7.49,2,18011.9,-999.0000,-999.000,-999.000,  2.4112,-999.000
   318MWESTW_4,  P21E,    13,  1,     12, SI9312,2,19940331,2021,-15.6083, -76.9222, 2927,   1899.9,   2.4043,  34.6324,2,  34.6339,2,     99.3,2,    100.7,2,   131.21,2,    39.76,2,    -0.01,2,     2.79,2, -999.000,9, -999.000,9, -999.000,1,-999.0000,1,  -999.00,9,   -999.0,1,-999.000,9,   2345.0,2,   2407.0,2,     7.49,2,19017.9,-999.0000,-999.000,-999.000,  2.2703,-999.000
   318MWESTW_4,  P21E,    13,  1,     11, SI9311,2,19940331,2021,-15.6083, -76.9222, 2927,   1998.0,   2.3006,  34.6383,2,  34.6403,2,    105.2,2,    106.0,2,   132.63,2,    39.15,2,     0.00,2,     2.76,2, -999.000,9, -999.000,9, -999.000,1,-999.0000,1,  -999.00,9,   -999.0,1,-999.000,9,   2344.0,2,   2411.0,2,     7.50,2,19998.2,-999.0000,-999.000,-999.000,  2.1597,-999.000
   318MWESTW_4,  P21E,    13,  1,     10, SI9310,2,19940331,2021,-15.6083, -76.9222, 2927,   2095.8,   2.2206,  34.6445,2,  34.6453,2,    108.8,2,    110.0,2,   134.39,2,    38.65,2,     0.00,2,     2.73,2, -999.000,9, -999.000,9, -999.000,1,-999.0000,1,  -999.00,9,   -999.0,1,-999.000,9,   2343.0,2,   2413.0,2,     7.51,2,20974.7,-999.0000,-999.000,-999.000,  2.0725,-999.000
   318MWESTW_4,  P21E,    13,  1,      9, SI9309,2,19940331,2021,-15.6083, -76.9222, 2927,   2199.3,   2.1019,  34.6521,2,  34.6527,2,    118.3,2,    119.3,2,   133.53,2,    37.75,2,     0.00,2,     2.67,2, -999.000,9, -999.000,9, -999.000,1,-999.0000,1,  -999.00,9,   -999.0,1,-999.000,9,   2337.0,2,   2411.0,2,     7.53,2,22009.2,-999.0000,-999.000,-999.000,  1.9467,-999.000
   318MWESTW_4,  P21E,    13,  1,      8, SI9308,2,19940331,2021,-15.6083, -76.9222, 2927,   2299.1,   1.9956,  34.6585,2,  34.6696,3,    127.5,2,    127.4,2,   132.49,2,    36.96,2,     0.01,2,     2.61,2, -999.000,9, -999.000,9, -999.000,1,-999.0000,1,  -999.00,9,   -999.0,1,-999.000,9,   2333.0,2,   2414.0,2,     7.54,2,23006.6,-999.0000,-999.000,-999.000,  1.8334,-999.000
   318MWESTW_4,  P21E,    13,  1,      7, SI9307,2,19940331,2021,-15.6083, -76.9222, 2927,   2399.1,   1.9310,  34.6635,2,  34.6639,2,    132.3,2,    131.9,2,   132.68,2,    36.93,2,     0.00,2,     2.58,2, -999.000,9, -999.000,9, -999.000,1,-999.0000,1,  -999.00,9,   -999.0,1,-999.000,9,   2337.0,3,   2413.0,2,     7.54,2,24005.8,-999.0000,-999.000,-999.000,  1.7610,-999.000
   318MWESTW_4,  P21E,    13,  1,      6, SI9306,2,19940331,2021,-15.6083, -76.9222, 2927,   2500.6,   1.8956,  34.6669,2,  34.6667,2,    137.2,2,    135.4,2,   131.99,2,    36.88,2,     0.00,2,     2.56,2, -999.000,9, -999.000,9, -999.000,1,-999.0000,1,  -999.00,9,   -999.0,1,-999.000,9,   2327.0,2,   2413.0,2,     7.55,2,25019.6,-999.0000,-999.000,-999.000,  1.7171,-999.000
   318MWESTW_4,  P21E,    13,  1,      5, SI9305,2,19940331,2021,-15.6083, -76.9222, 2927,   2599.7,   1.8652,  34.6693,2,  34.6704,2,    139.4,2,    138.4,2,   131.84,2,    36.71,2,     0.01,2,     2.54,2, -999.000,9, -999.000,9, -999.000,1,-999.0000,1,  -999.00,9,   -999.0,1,-999.000,9,   2326.0,2,   2412.0,2,     7.56,2,26009.8,-999.0000,-999.000,-999.000,  1.6783,-999.000
   318MWESTW_4,  P21E,    13,  1,      4, SI9304,2,19940331,2021,-15.6083, -76.9222, 2927,   2699.3,   1.8334,  34.6724,2,  34.6730,2,    141.8,2,    140.7,2,   132.20,2,    36.50,2,     0.01,2,     2.53,2, -999.000,9, -999.000,9, -999.000,1,-999.0000,1,  -999.00,9,   -999.0,1,-999.000,9,   2326.0,2,   2415.0,2,     7.56,2,27005.2,-999.0000,-999.000,-999.000,  1.6379,-999.000
   318MWESTW_4,  P21E,    13,  1,      3, SI9303,2,19940331,2021,-15.6083, -76.9222, 2927,   2796.5,   1.7998,  34.6758,2,  34.6771,2,    146.4,2,    143.8,2,   131.86,2,    36.06,2,     0.00,2,     2.52,2, -999.000,9, -999.000,9, -999.000,1,-999.0000,1,  -999.00,9,   -999.0,1,-999.000,9,   2324.0,2,   2415.0,2,     7.57,2,27976.2,-999.0000,-999.000,-999.000,  1.5959,-999.000
   318MWESTW_4,  P21E,    13,  1,      2, SI9302,2,19940331,2021,-15.6083, -76.9222, 2927,   2885.9,   1.7862,  34.6777,2,  34.6777,2,    143.6,2,    144.8,2,   132.40,2,    35.68,2,     0.00,2,     2.54,2, -999.000,9, -999.000,9, -999.000,1,-999.0000,1,  -999.00,9,   -999.0,1,-999.000,9,   2325.0,2,   2416.0,2,     7.57,2,28869.8,-999.0000,-999.000,-999.000,  1.5741,-999.000
   318MWESTW_4,  P21E,    13,  1,      1, SI9301,2,19940331,2021,-15.6083, -76.9222, 2927,   2934.6,   1.7798,  34.6788,2,  34.6851,4,    142.7,2,    143.5,2,   134.70,2,    35.65,2,     0.00,2,     2.51,2, -999.000,9, -999.000,9, -999.000,1,-999.0000,1,  -999.00,9,   -999.0,1,-999.000,9,   2328.0,2,   2418.0,2,     7.56,2,29355.8,-999.0000,-999.000,-999.000,  1.5631,-999.000
   318MWESTW_4,  P21E,    14,  1,     13, SI9413,2,19940401,1124,-15.5000, -75.1667,  737,      6.1,  18.1083,  35.0077,2,  35.0091,2,    250.6,2,    250.2,2,     0.64,2,     0.20,2,     0.02,2,     0.59,2, -999.000,9, -999.000,9, -999.000,1,-999.0000,1,  -999.00,9,   -999.0,1,-999.000,9,   -999.0,9,   -999.0,9,  -999.00,9,   98.5,-999.0000,-999.000,-999.000, 18.1073,-999.000
   318MWESTW_4,  P21E,    14,  1,     12, SI9412,2,19940401,1124,-15.5000, -75.1667,  737,     26.7,  16.7009,  35.0447,2,  35.0533,2,    160.8,2,    160.6,2,     2.39,2,     7.67,2,     0.62,2,     1.22,2, -999.000,9, -999.000,9, -999.000,1,-999.0000,1,  -999.00,9,   -999.0,1,-999.000,9,   -999.0,9,   -999.0,9,  -999.00,9,  304.0,-999.0000,-999.000,-999.000, 16.6966,-999.000
   318MWESTW_4,  P21E,    14,  1,     11, SI9411,2,19940401,1124,-15.5000, -75.1667,  737,     54.3,  14.6661,  34.9958,2,  34.9943,2,      7.0,2,      7.2,2,    30.85,2,     5.95,2,     0.57,2,     3.02,2, -999.000,9, -999.000,9, -999.000,1,-999.0000,1,  -999.00,9,   -999.0,1,-999.000,9,   -999.0,9,   -999.0,9,  -999.00,9,  579.8,-999.0000,-999.000,-999.000, 14.6580,-999.000
   318MWESTW_4,  P21E,    14,  1,     10, SI9410,2,19940401,1124,-15.5000, -75.1667,  737,     98.7,  14.3054,  34.9673,2,  34.9787,2,      3.0,2,      1.1,2,    34.51,2,     3.28,2,     0.18,2,     3.10,2, -999.000,9, -999.000,9, -999.000,1,-999.0000,1,  -999.00,9,   -999.0,1,-999.000,9,   -999.0,9,   -999.0,9,  -999.00,9, 1023.9,-999.0000,-999.000,-999.000, 14.2910,-999.000
   318MWESTW_4,  P21E,    14,  1,      9, SI9409,2,19940401,1124,-15.5000, -75.1667,  737,    149.5,  13.4253,  34.9368,2,  34.9211,2,      2.0,2,      0.3,2,    31.22,2,     9.40,2,     2.60,2,     2.84,2, -999.000,9, -999.000,9, -999.000,1,-999.0000,1,  -999.00,9,   -999.0,1,-999.000,9,   -999.0,9,   -999.0,9,  -999.00,9, 1531.0,-999.0000,-999.000,-999.000, 13.4043,-999.000
   318MWESTW_4,  P21E,    14,  1,      8, SI9408,2,19940401,1124,-15.5000, -75.1667,  737,    199.5,  12.7672,  34.8897,2,  34.8820,2,      1.6,2,      0.5,2,    30.54,2,    12.76,2,     4.25,2,     2.79,2, -999.000,9, -999.000,9, -999.000,1,-999.0000,1,  -999.00,9,   -999.0,1,-999.000,9,   -999.0,9,   -999.0,9,  -999.00,9, 2030.4,-999.0000,-999.000,-999.000, 12.7401,-999.000
   318MWESTW_4,  P21E,    14,  1,      7, SI9407,2,19940401,1124,-15.5000, -75.1667,  737,    249.8,  11.7854,  34.8259,2,  34.8308,2,      1.2,2,      0.5,2,    29.34,2,    19.79,2,     4.95,2,     2.75,2, -999.000,9, -999.000,9, -999.000,1,-999.0000,1,  -999.00,9,   -999.0,1,-999.000,9,   -999.0,9,   -999.0,9,  -999.00,9, 2533.5,-999.0000,-999.000,-999.000, 11.7532,-999.000
   318MWESTW_4,  P21E,    14,  1,      6, SI9406,2,19940401,1124,-15.5000, -75.1667,  737,    300.4,  10.9402,  34.7835,2,  34.7811,2,      0.6,2,      0.4,2,    30.04,2,    25.35,2,     4.06,2,     2.76,2, -999.000,9, -999.000,9, -999.000,1,-999.0000,1,  -999.00,9,   -999.0,1,-999.000,9,   -999.0,9,   -999.0,9,  -999.00,9, 3038.5,-999.0000,-999.000,-999.000, 10.9032,-999.000
   318MWESTW_4,  P21E,    14,  1,      5, SI9405,2,19940401,1124,-15.5000, -75.1667,  737,    396.7,   9.6907,  34.6930,2,  34.7015,2,      0.1,2,      0.7,2,    34.39,2,    32.88,2,     0.42,2,     2.92,2, -999.000,9, -999.000,9, -999.000,1,-999.0000,1,  -999.00,9,   -999.0,1,-999.000,9,   -999.0,9,   -999.0,9,  -999.00,9, 4000.3,-999.0000,-999.000,-999.000,  9.6453,-999.000
   318MWESTW_4,  P21E,    14,  1,      4, SI9404,2,19940401,1124,-15.5000, -75.1667,  737,    500.4,   8.1822,  34.6082,2,  34.6105,2,      6.1,2,      6.3,2,    38.21,2,    39.50,2,     0.00,2,     3.03,2, -999.000,9, -999.000,9, -999.000,1,-999.0000,1,  -999.00,9,   -999.0,1,-999.000,9,   -999.0,9,   -999.0,9,  -999.00,9, 5035.7,-999.0000,-999.000,-999.000,  8.1302,-999.000
   318MWESTW_4,  P21E,    14,  1,      3, SI9403,2,19940401,1124,-15.5000, -75.1667,  737,    607.0,   6.5773,  34.5381,2,  34.5368,2,     19.8,2,     20.2,2,    48.62,2,    42.39,2,     0.01,2,     3.18,2, -999.000,9, -999.000,9, -999.000,1,-999.0000,1,  -999.00,9,   -999.0,1,-999.000,9,   -999.0,9,   -999.0,9,  -999.00,9, 6100.5,-999.0000,-999.000,-999.000,  6.5211,-999.000
   318MWESTW_4,  P21E,    14,  1,      2, SI9402,2,19940401,1124,-15.5000, -75.1667,  737,    707.6,   5.8638,  34.5231,2,  34.5211,2,     27.9,2,     27.3,2,    57.29,2,    43.08,2,     0.03,2,     3.22,2, -999.000,9, -999.000,9, -999.000,1,-999.0000,1,  -999.00,9,   -999.0,1,-999.000,9,   -999.0,9,   -999.0,9,  -999.00,9, 7105.0,-999.0000,-999.000,-999.000,  5.8017,-999.000
   318MWESTW_4,  P21E,    14,  1,      1, SI9401,2,19940401,1124,-15.5000, -75.1667,  737,    756.2,   5.5587,  34.5228,2,  34.5195,2,     31.0,2,     30.6,2,    61.55,2,    43.39,2,     0.05,2,     3.25,2, -999.000,9, -999.000,9, -999.000,1,-999.0000,1,  -999.00,9,   -999.0,1,-999.000,9,   -999.0,9,   -999.0,9,  -999.00,9, 7590.5,-999.0000,-999.000,-999.000,  5.4938,-999.000