BOTTLE,20010911WHPSIOdm
EXPOCODE,SECT_ID,STNNBR,CASTNO,SAMPNO,BTLNBR,BTLNBR_FLAG_W,DATE,TIME,LATITUDE,LONGITUDE,DEPTH,CTDPRS,CTDTMP,CTDSAL,CTDSAL_FLAG_W,SALNTY,SALNTY_FLAG_W,CTDOXY,CTDOXY_FLAG_W,OXYGEN,OXYGEN_FLAG_W,SILCAT,SILCAT_FLAG_W,NITRAT,NITRAT_FLAG_W,NITRIT,NITRIT_FLAG_W,PHSPHT,PHSPHT_FLAG_W,CFC-11,CFC-11_FLAG_W,CFC-12,CFC-12_FLAG_W,TRITUM,TRITUM_FLAG_W,HELIUM,HELIUM_FLAG_W,DELHE3,DELHE3_FLAG_W,DELC14,DELC14_FLAG_W,NEON,NEON_FLAG_W,TCARBN,TCARBN_FLAG_W,ALKALI,ALKALI_FLAG_W,PH,PH_FLAG_W,CTDRAW,HELIER,DELHER,NEONER,THETA,TRITER
,,,,,,,,,,,,DBAR,ITS-90,PSS-78,,PSS-78,,UMOL/KG,,UMOL/KG,,UMOL/KG,,UMOL/KG,,UMOL/KG,,UMOL/KG,,PMOL/KG,,PMOL/KG,,TU,,UMOL/KG,,PERCNT,,/MILLE,,NMOL/KG,,UMOL/KG,,UMOL/KG,,,,,NMOL/KG,PERCNT,NMOL/KG,ITS-90,TU
   318MWESTW_4,  P21E,    89,  1,     36, SI9336,2,19940424,0105,-16.7500,-108.6695, 3662,     10.7,  25.7660,  36.4177,2,  36.4237,2,    210.8,2,    215.5,2,     0.45,2,    -0.01,2,     0.01,2,     0.28,2,    1.834,2,    1.011,2, -999.000,1,-999.0000,1,  -999.00,9,   -999.0,1,-999.000,9,   -999.0,9,   -999.0,9,  -999.00,9,  152.5,-999.0000,-999.000,-999.000, 25.7636,-999.000
   318MWESTW_4,  P21E,    89,  1,     35, SI9335,2,19940424,0105,-16.7500,-108.6695, 3662,     25.5,  25.7025,  36.4108,2,  36.4071,2,    213.0,2,    211.9,2,     0.48,2,    -0.01,2,     0.01,2,     0.29,2,    1.827,2,    1.026,2, -999.000,1,-999.0000,1,  -999.00,9,   -999.0,1,-999.000,9,   -999.0,9,   -999.0,9,  -999.00,9,  300.2,-999.0000,-999.000,-999.000, 25.6968,-999.000
   318MWESTW_4,  P21E,    89,  1,     34, SI9334,2,19940424,0105,-16.7500,-108.6695, 3662,     49.2,  25.5872,  36.3966,2,  36.4097,2,    215.8,2,    216.2,2,     0.51,2,    -0.01,2,     0.01,2,     0.29,2,    1.840,2,    1.012,2, -999.000,1,-999.0000,1,  -999.00,9,   -999.0,1,-999.000,9,   -999.0,9,   -999.0,9,  -999.00,9,  537.1,-999.0000,-999.000,-999.000, 25.5763,-999.000
   318MWESTW_4,  P21E,    89,  1,     33, SI9333,2,19940424,0105,-16.7500,-108.6695, 3662,    101.8,  23.7117,  36.3723,2,  36.3697,2,    227.9,2,    228.5,2,     0.53,2,     0.03,2,     0.01,2,     0.33,2,    2.025,2,    1.128,2, -999.000,1,-999.0000,1,  -999.00,9,   -999.0,1,-999.000,9,   -999.0,9,   -999.0,9,  -999.00,9, 1063.1,-999.0000,-999.000,-999.000, 23.6903,-999.000
   318MWESTW_4,  P21E,    89,  1,     32, SI9332,2,19940424,0105,-16.7500,-108.6695, 3662,    150.7,  22.4036,  36.3322,2,  36.2810,2,    216.1,2,    206.1,2,     0.39,2,     0.06,2,     0.31,2,     0.40,2,    2.031,2,    1.121,2, -999.000,1,-999.0000,1,  -999.00,9,   -999.0,1,-999.000,9,   -999.0,9,   -999.0,9,  -999.00,9, 1552.3,-999.0000,-999.000,-999.000, 22.3732,-999.000
   318MWESTW_4,  P21E,    89,  1,     31, SI9331,2,19940424,0105,-16.7500,-108.6695, 3662,    200.3,  20.4907,  35.8895,2,  35.8700,2,    206.5,2,    194.3,2,     0.74,2,     2.50,2,     0.04,2,     0.55,2,    2.229,2,    1.176,2, -999.000,1,-999.0000,1,  -999.00,9,   -999.0,1,-999.000,9,   -999.0,9,   -999.0,9,  -999.00,9, 2048.1,-999.0000,-999.000,-999.000, 20.4528,-999.000
   318MWESTW_4,  P21E,    89,  1,     30, SI9330,2,19940424,0105,-16.7500,-108.6695, 3662,    251.9,  18.0738,  35.3772,2,  35.4007,2,    183.8,2,    175.1,2,     2.03,2,     7.01,2,     0.02,2,     0.91,2,    2.232,6,    1.177,6, -999.000,1,-999.0000,1,  -999.00,9,   -999.0,1,-999.000,9,   -999.0,9,   -999.0,9,  -999.00,9, 2563.2,-999.0000,-999.000,-999.000, 18.0303,-999.000
   318MWESTW_4,  P21E,    89,  1,     29, SI9329,2,19940424,0105,-16.7500,-108.6695, 3662,    301.2,  13.7583,  34.7987,2,  34.8086,2,    150.3,2,    147.8,2,     5.08,2,    12.39,2,     0.01,2,     1.29,2,    1.738,2,    0.890,2, -999.000,1,-999.0000,1,  -999.00,9,   -999.0,1,-999.000,9,   -999.0,9,   -999.0,9,  -999.00,9, 3056.4,-999.0000,-999.000,-999.000, 13.7152,-999.000
   318MWESTW_4,  P21E,    89,  1,     28, SI9328,2,19940424,0105,-16.7500,-108.6695, 3662,    399.3,   9.1786,  34.5028,2,  34.5135,2,     75.7,2,     69.6,2,    19.24,2,    30.19,2,     0.01,2,     2.46,2,    0.303,2,    0.150,2, -999.000,1,-999.0000,1,  -999.00,9,   -999.0,1,-999.000,9,   -999.0,9,   -999.0,9,  -999.00,9, 4035.9,-999.0000,-999.000,-999.000,  9.1345,-999.000
   318MWESTW_4,  P21E,    89,  1,     27, SI9327,2,19940424,0105,-16.7500,-108.6695, 3662,    498.8,   7.1071,  34.4438,2,  34.4504,2,    105.4,2,     97.6,2,    23.87,2,    34.74,2,     0.00,2,     2.47,2,    0.087,2,    0.060,2, -999.000,1,-999.0000,1,  -999.00,9,   -999.0,1,-999.000,9,   -999.0,9,   -999.0,9,  -999.00,9, 5030.3,-999.0000,-999.000,-999.000,  7.0594,-999.000
   318MWESTW_4,  P21E,    89,  1,     26, SI9326,2,19940424,0105,-16.7500,-108.6695, 3662,    600.0,   6.0442,  34.4379,2,  34.4426,2,    105.4,2,     98.2,2,    33.11,2,    37.40,2,     0.00,2,     2.60,2,    0.015,2,    0.012,2, -999.000,1,-999.0000,1,  -999.00,9,   -999.0,1,-999.000,9,   -999.0,9,   -999.0,9,  -999.00,9, 6040.6,-999.0000,-999.000,-999.000,  5.9912,-999.000
   318MWESTW_4,  P21E,    89,  1,     25, SI9325,2,19940424,0105,-16.7500,-108.6695, 3662,    701.4,   5.5133,  34.4643,2,  34.4695,2,     90.1,2,     83.8,2,    45.52,2,    39.83,2,     0.01,2,     2.78,2,   -0.002,2,    0.004,2, -999.000,1,-999.0000,1,  -999.00,9,   -999.0,1,-999.000,9,   -999.0,9,   -999.0,9,  -999.00,9, 7053.8,-999.0000,-999.000,-999.000,  5.4537,-999.000
   318MWESTW_4,  P21E,    89,  1,     24, SI9324,2,19940424,0105,-16.7500,-108.6695, 3662,    801.0,   5.0970,  34.4893,2,  34.4917,2,     81.3,2,     77.8,2,    55.70,2,    40.96,2,     0.01,2,     2.86,2,   -0.002,2,    0.003,2, -999.000,1,-999.0000,1,  -999.00,9,   -999.0,1,-999.000,9,   -999.0,9,   -999.0,9,  -999.00,9, 8048.0,-999.0000,-999.000,-999.000,  5.0308,-999.000
   318MWESTW_4,  P21E,    89,  1,     23, SI9323,2,19940424,0105,-16.7500,-108.6695, 3662,    895.1,   4.6602,  34.5038,2,  34.5036,2,     88.0,2,     85.5,2,    64.62,2,    40.64,2,     0.01,2,     2.86,2,   -0.002,2,   -0.001,2, -999.000,1,-999.0000,1,  -999.00,9,   -999.0,1,-999.000,9,   -999.0,9,   -999.0,9,  -999.00,9, 8988.8,-999.0000,-999.000,-999.000,  4.5886,-999.000
   318MWESTW_4,  P21E,    89,  1,     22, SI9322,2,19940424,0105,-16.7500,-108.6695, 3662,    997.5,   4.2167,  34.5159,2,  34.5152,2,     97.6,2,     97.9,2,    72.26,2,    39.66,2,     0.01,2,     2.80,2, -999.000,9, -999.000,9, -999.000,1,-999.0000,1,  -999.00,9,   -999.0,1,-999.000,9,   -999.0,9,   -999.0,9,  -999.00,9,10010.8,-999.0000,-999.000,-999.000,  4.1396,-999.000
   318MWESTW_4,  P21E,    89,  1,     21, SI9321,2,19940424,0105,-16.7500,-108.6695, 3662,   1096.8,   3.9327,  34.5366,2,  34.5362,2,     88.6,2,     88.2,2,    82.29,2,    40.73,2,     0.01,2,     2.88,2, -999.000,9, -999.000,9, -999.000,1,-999.0000,1,  -999.00,9,   -999.0,1,-999.000,9,   -999.0,9,   -999.0,9,  -999.00,9,11002.9,-999.0000,-999.000,-999.000,  3.8494,-999.000
   318MWESTW_4,  P21E,    89,  1,     20, SI9320,2,19940424,0105,-16.7500,-108.6695, 3662,   1196.8,   3.6370,  34.5539,2,  34.5531,2,     85.8,2,     84.1,2,    91.04,2,    41.28,2,     0.01,2,     2.93,2, -999.000,9, -999.000,9, -999.000,1,-999.0000,1,  -999.00,9,   -999.0,1,-999.000,9,   -999.0,9,   -999.0,9,  -999.00,9,12001.9,-999.0000,-999.000,-999.000,  3.5479,-999.000
   318MWESTW_4,  P21E,    89,  1,     19, SI9319,2,19940424,0105,-16.7500,-108.6695, 3662,   1298.8,   3.3412,  34.5687,2,  34.5692,2,     89.4,2,     90.0,2,    98.51,2,    40.78,2,     0.01,2,     2.90,2, -999.000,9, -999.000,9, -999.000,1,-999.0000,1,  -999.00,9,   -999.0,1,-999.000,9,   -999.0,9,   -999.0,9,  -999.00,9,13020.9,-999.0000,-999.000,-999.000,  3.2464,-999.000
   318MWESTW_4,  P21E,    89,  1,     18, SI9318,2,19940424,0105,-16.7500,-108.6695, 3662,   1403.4,   3.1038,  34.5821,2,  34.5828,2,     94.3,2,     93.7,2,   104.57,2,    40.46,2,     0.01,2,     2.88,2, -999.000,9, -999.000,9, -999.000,1,-999.0000,1,  -999.00,9,   -999.0,1,-999.000,9,   -999.0,9,   -999.0,9,  -999.00,9,14065.4,-999.0000,-999.000,-999.000,  3.0028,-999.000
   318MWESTW_4,  P21E,    89,  1,     17, SI9317,2,19940424,0105,-16.7500,-108.6695, 3662,   1500.4,   2.9145,  34.5931,2,  34.5932,2,     97.1,2,     97.9,2,   109.66,2,    40.19,2,     0.00,2,     2.85,2, -999.000,9, -999.000,9, -999.000,1,-999.0000,1,  -999.00,9,   -999.0,1,-999.000,9,   -999.0,9,   -999.0,9,  -999.00,9,15034.3,-999.0000,-999.000,-999.000,  2.8076,-999.000
   318MWESTW_4,  P21E,    89,  1,     16, SI9316,2,19940424,0105,-16.7500,-108.6695, 3662,   1594.3,   2.7378,  34.6047,2,  34.6048,2,    102.6,2,    102.8,2,   113.97,2,    39.81,2,     0.00,2,     2.82,2, -999.000,9, -999.000,9, -999.000,1,-999.0000,1,  -999.00,9,   -999.0,1,-999.000,9,   -999.0,9,   -999.0,9,  -999.00,9,15973.2,-999.0000,-999.000,-999.000,  2.6252,-999.000
   318MWESTW_4,  P21E,    89,  1,     15, SI9315,2,19940424,0105,-16.7500,-108.6695, 3662,   1749.8,   2.4863,  34.6210,2,  34.6233,2,    112.2,2,    112.4,2,   118.75,2,    39.00,2,     0.00,2,     2.75,2, -999.000,9, -999.000,9, -999.000,1,-999.0000,1,  -999.00,9,   -999.0,1,-999.000,9,   -999.0,9,   -999.0,9,  -999.00,9,17526.2,-999.0000,-999.000,-999.000,  2.3639,-999.000
   318MWESTW_4,  P21E,    89,  1,     14, SI9314,2,19940424,0105,-16.7500,-108.6695, 3662,   1901.2,   2.2780,  34.6342,2,  34.6346,2,    123.8,2,    124.0,2,   120.68,2,    37.91,2,     0.01,2,     2.66,2, -999.000,9, -999.000,9, -999.000,1,-999.0000,1,  -999.00,9,   -999.0,1,-999.000,9,   -999.0,9,   -999.0,9,  -999.00,9,19038.6,-999.0000,-999.000,-999.000,  2.1457,-999.000
   318MWESTW_4,  P21E,    89,  1,     13, SI9313,2,19940424,0105,-16.7500,-108.6695, 3662,   2049.7,   2.1002,  34.6451,2,  34.6449,2,    139.7,2,    138.4,2,   119.90,2,    36.82,2,     0.01,2,     2.57,2, -999.000,9, -999.000,9, -999.000,1,-999.0000,1,  -999.00,9,   -999.0,1,-999.000,9,   -999.0,9,   -999.0,9,  -999.00,9,20522.5,-999.0000,-999.000,-999.000,  1.9580,-999.000
   318MWESTW_4,  P21E,    89,  1,     12, SI9312,2,19940424,0105,-16.7500,-108.6695, 3662,   2200.9,   1.9508,  34.6567,2,  34.6567,2,    150.6,2,    150.5,2,   119.44,2,    35.84,2,     0.01,2,     2.49,2, -999.000,9, -999.000,9, -999.000,1,-999.0000,1,  -999.00,9,   -999.0,1,-999.000,9,   -999.0,9,   -999.0,9,  -999.00,9,22033.2,-999.0000,-999.000,-999.000,  1.7979,-999.000
   318MWESTW_4,  P21E,    89,  1,     11, SI9311,2,19940424,0105,-16.7500,-108.6695, 3662,   2352.3,   1.8777,  34.6656,2,  34.6649,2,    154.5,2,    154.8,2,   120.10,2,    35.52,2,     0.00,2,     2.46,2, -999.000,9, -999.000,9, -999.000,1,-999.0000,1,  -999.00,9,   -999.0,1,-999.000,9,   -999.0,9,   -999.0,9,  -999.00,9,23545.7,-999.0000,-999.000,-999.000,  1.7128,-999.000
   318MWESTW_4,  P21E,    89,  1,     10, SI9310,2,19940424,0105,-16.7500,-108.6695, 3662,   2501.7,   1.8286,  34.6721,2,  34.6810,4,    151.5,2,    153.4,2,   123.92,2,    35.52,2,     0.00,2,     2.47,2, -999.000,9, -999.000,9, -999.000,1,-999.0000,1,  -999.00,9,   -999.0,1,-999.000,9,   -999.0,9,   -999.0,9,  -999.00,9,25038.9,-999.0000,-999.000,-999.000,  1.6513,-999.000
   318MWESTW_4,  P21E,    89,  1,      9, SI9309,2,19940424,0105,-16.7500,-108.6695, 3662,   2648.5,   1.8100,  34.6770,2,  34.6773,2,    149.6,2,    149.4,2,   128.70,2,    35.90,2,     0.00,2,     2.49,2, -999.000,9, -999.000,9, -999.000,1,-999.0000,1,  -999.00,9,   -999.0,1,-999.000,9,   -999.0,9,   -999.0,9,  -999.00,9,26505.8,-999.0000,-999.000,-999.000,  1.6196,-999.000
   318MWESTW_4,  P21E,    89,  1,      8, SI9308,2,19940424,0105,-16.7500,-108.6695, 3662,   2801.1,   1.8038,  34.6794,2,  34.6804,2,    146.6,2,    147.1,2,   132.05,2,    36.06,2,     0.00,2,     2.52,2, -999.000,9, -999.000,9, -999.000,1,-999.0000,1,  -999.00,9,   -999.0,1,-999.000,9,   -999.0,9,   -999.0,9,  -999.00,9,28030.1,-999.0000,-999.000,-999.000,  1.5993,-999.000
   318MWESTW_4,  P21E,    89,  1,      7, SI9307,2,19940424,0105,-16.7500,-108.6695, 3662,   2950.1,   1.8059,  34.6798,2,  34.6812,2,    144.9,2,    145.5,2,   133.82,2,    36.21,2,     0.00,2,     2.52,2, -999.000,9, -999.000,9, -999.000,1,-999.0000,1,  -999.00,9,   -999.0,1,-999.000,9,   -999.0,9,   -999.0,9,  -999.00,9,29519.4,-999.0000,-999.000,-999.000,  1.5872,-999.000
   318MWESTW_4,  P21E,    89,  1,      6, SI9306,2,19940424,0105,-16.7500,-108.6695, 3662,   3099.3,   1.8084,  34.6797,2,  34.6796,2,    142.8,2,    142.8,2,   136.06,2,    36.49,2,     0.00,2,     2.54,2, -999.000,9, -999.000,9, -999.000,1,-999.0000,1,  -999.00,9,   -999.0,1,-999.000,9,   -999.0,9,   -999.0,9,  -999.00,9,31010.4,-999.0000,-999.000,-999.000,  1.5751,-999.000
   318MWESTW_4,  P21E,    89,  1,      5, SI9305,2,19940424,0105,-16.7500,-108.6695, 3662,   3247.5,   1.8103,  34.6812,2,  34.6824,2,    143.6,2,    144.1,2,   136.08,2,    36.38,2,     0.00,2,     2.54,2, -999.000,9, -999.000,9, -999.000,1,-999.0000,1,  -999.00,9,   -999.0,1,-999.000,9,   -999.0,9,   -999.0,9,  -999.00,9,32490.9,-999.0000,-999.000,-999.000,  1.5622,-999.000
   318MWESTW_4,  P21E,    89,  1,      4, SI9304,2,19940424,0105,-16.7500,-108.6695, 3662,   3397.1,   1.8131,  34.6827,2,  34.6838,2,    144.6,2,    145.7,2,   134.35,2,    36.22,2,    -0.01,2,     2.52,2, -999.000,9, -999.000,9, -999.000,1,-999.0000,1,  -999.00,9,   -999.0,1,-999.000,9,   -999.0,9,   -999.0,9,  -999.00,9,33985.9,-999.0000,-999.000,-999.000,  1.5497,-999.000
   318MWESTW_4,  P21E,    89,  1,      3, SI9303,2,19940424,0105,-16.7500,-108.6695, 3662,   3551.5,   1.8233,  34.6840,2,  34.6850,2,    147.2,2,    147.4,2,   132.78,2,    36.12,2,    -0.01,2,     2.52,2, -999.000,9, -999.000,9, -999.000,1,-999.0000,1,  -999.00,9,   -999.0,1,-999.000,9,   -999.0,9,   -999.0,9,  -999.00,9,35529.4,-999.0000,-999.000,-999.000,  1.5436,-999.000
   318MWESTW_4,  P21E,    89,  1,      2, SI9302,2,19940424,0105,-16.7500,-108.6695, 3662,   3650.2,   1.8281,  34.6851,2,  34.6842,2,    148.1,2,    148.4,2,   131.84,2,    35.99,2,     0.00,2,     2.51,2, -999.000,9, -999.000,9, -999.000,1,-999.0000,1,  -999.00,9,   -999.0,1,-999.000,9,   -999.0,9,   -999.0,9,  -999.00,9,36516.1,-999.0000,-999.000,-999.000,  1.5379,-999.000
   318MWESTW_4,  P21E,    89,  1,      1, SI9301,2,19940424,0105,-16.7500,-108.6695, 3662,   3691.4,   1.8292,  34.6854,2,  34.6863,2,    147.8,2,    149.4,2,   131.48,2,    35.96,2,     0.00,2,     2.50,2, -999.000,9, -999.000,9, -999.000,1,-999.0000,1,  -999.00,9,   -999.0,1,-999.000,9,   -999.0,9,   -999.0,9,  -999.00,9,36928.0,-999.0000,-999.000,-999.000,  1.5346,-999.000