BOTTLE,20010911WHPSIOdm
EXPOCODE,SECT_ID,STNNBR,CASTNO,SAMPNO,BTLNBR,BTLNBR_FLAG_W,DATE,TIME,LATITUDE,LONGITUDE,DEPTH,CTDPRS,CTDTMP,CTDSAL,CTDSAL_FLAG_W,SALNTY,SALNTY_FLAG_W,CTDOXY,CTDOXY_FLAG_W,OXYGEN,OXYGEN_FLAG_W,SILCAT,SILCAT_FLAG_W,NITRAT,NITRAT_FLAG_W,NITRIT,NITRIT_FLAG_W,PHSPHT,PHSPHT_FLAG_W,CFC-11,CFC-11_FLAG_W,CFC-12,CFC-12_FLAG_W,TRITUM,TRITUM_FLAG_W,HELIUM,HELIUM_FLAG_W,DELHE3,DELHE3_FLAG_W,DELC14,DELC14_FLAG_W,NEON,NEON_FLAG_W,TCARBN,TCARBN_FLAG_W,ALKALI,ALKALI_FLAG_W,PH,PH_FLAG_W,CTDRAW,HELIER,DELHER,NEONER,THETA,TRITER
,,,,,,,,,,,,DBAR,ITS-90,PSS-78,,PSS-78,,UMOL/KG,,UMOL/KG,,UMOL/KG,,UMOL/KG,,UMOL/KG,,UMOL/KG,,PMOL/KG,,PMOL/KG,,TU,,UMOL/KG,,PERCNT,,/MILLE,,NMOL/KG,,UMOL/KG,,UMOL/KG,,,,,NMOL/KG,PERCNT,NMOL/KG,ITS-90,TU
   318MWESTW_4,  P21E,    33,  1,     36, SI9336,2,19940405,2331,-16.7472, -81.3333, 4437,     10.6,  23.3733,  35.6070,2,  35.6058,2,    215.4,2,    218.6,2,     1.67,2,     0.05,2,     0.00,2,     0.54,2,    1.977,2,    1.047,2, -999.000,1,-999.0000,1,  -999.00,9,   -999.0,1,-999.000,9,   2059.8,2,   2363.0,2,     8.02,2,  150.8,-999.0000,-999.000,-999.000, 23.3711,-999.000
   318MWESTW_4,  P21E,    33,  1,     35, SI9335,2,19940405,2331,-16.7472, -81.3333, 4437,     24.7,  23.3689,  35.6064,2,  35.6064,2,    216.8,2,    218.5,2,     1.66,2,    -0.01,2,     0.01,2,     0.54,2,    1.960,2,    1.031,2, -999.000,1,-999.0000,1,  -999.00,9,   -999.0,1,-999.000,9,   2059.8,2,   2362.0,2,     8.02,2,  292.0,-999.0000,-999.000,-999.000, 23.3638,-999.000
   318MWESTW_4,  P21E,    33,  1,     34, SI9334,2,19940405,2331,-16.7472, -81.3333, 4437,     51.7,  18.8088,  35.2830,2,  35.2452,2,    245.0,2,    245.5,2,     2.20,2,    -0.01,2,     0.02,2,     0.58,2, -999.000,9, -999.000,9, -999.000,1,-999.0000,1,  -999.00,9,   -999.0,1,-999.000,9,   2072.8,2,   2336.0,2,     7.96,2,  561.0,-999.0000,-999.000,-999.000, 18.7997,-999.000
   318MWESTW_4,  P21E,    33,  1,     33, SI9333,2,19940405,2331,-16.7472, -81.3333, 4437,     95.7,  14.8443,  35.0397,2,  34.9134,2,    161.5,2,    108.1,2,     9.82,2,    17.09,2,     0.05,2,     1.80,2,    2.069,2,    0.978,2, -999.000,1,-999.0000,1,  -999.00,9,   -999.0,1,-999.000,9,   2182.9,2,   -999.0,9,     7.67,2, 1001.3,-999.0000,-999.000,-999.000, 14.8299,-999.000
   318MWESTW_4,  P21E,    33,  1,     32, SI9332,2,19940405,2331,-16.7472, -81.3333, 4437,    151.7,  13.4037,  34.9183,2,  34.9130,2,      3.0,2,      0.9,2,    29.62,2,     3.97,2,     9.73,2,     2.81,2,    0.548,2,    0.310,2, -999.000,1,-999.0000,1,  -999.00,9,   -999.0,1,-999.000,9,   2275.0,2,   2312.0,2,     7.44,2, 1560.3,-999.0000,-999.000,-999.000, 13.3825,-999.000
   318MWESTW_4,  P21E,    33,  1,     31, SI9331,2,19940405,2331,-16.7472, -81.3333, 4437,    201.1,  12.7885,  34.9005,2,  34.8839,2,      2.6,2,      1.0,2,    29.79,2,     8.97,2,     7.57,2,     2.79,2,    0.360,2,    0.199,2, -999.000,1,-999.0000,1,  -999.00,9,   -999.0,1,-999.000,9,   2275.0,2,   2311.0,2,     7.43,2, 2054.1,-999.0000,-999.000,-999.000, 12.7612,-999.000
   318MWESTW_4,  P21E,    33,  1,     30, SI9330,2,19940405,2331,-16.7472, -81.3333, 4437,    246.4,  12.3137,  34.8660,2,  34.8546,2,      2.3,2,      0.4,2,    29.42,2,    13.85,2,     5.85,2,     2.77,2,    0.271,2,    0.128,2, -999.000,1,-999.0000,1,  -999.00,9,   -999.0,1,-999.000,9,   2276.0,2,   2309.0,2,     7.43,2, 2506.4,-999.0000,-999.000,-999.000, 12.2810,-999.000
   318MWESTW_4,  P21E,    33,  1,     29, SI9329,2,19940405,2331,-16.7472, -81.3333, 4437,    298.8,  11.5558,  34.8255,2,  34.8066,2,      1.9,2,      0.3,2,    29.59,2,    19.54,2,     5.50,2,     2.77,2,    0.155,2,    0.084,2, -999.000,1,-999.0000,1,  -999.00,9,   -999.0,1,-999.000,9,   2278.0,2,   2302.0,2,     7.39,2, 3029.9,-999.0000,-999.000,-999.000, 11.5177,-999.000
   318MWESTW_4,  P21E,    33,  1,     28, SI9328,2,19940405,2331,-16.7472, -81.3333, 4437,    399.5,   9.8528,  34.7162,2,  34.7005,2,      1.3,2,      0.5,2,    32.86,2,    33.17,2,     0.05,2,     2.86,2, -999.000,9, -999.000,9, -999.000,1,-999.0000,1,  -999.00,9,   -999.0,1,-999.000,9,   2285.0,2,   2303.0,2,     7.38,2, 4035.5,-999.0000,-999.000,-999.000,  9.8066,-999.000
   318MWESTW_4,  P21E,    33,  1,     27, SI9327,2,19940405,2331,-16.7472, -81.3333, 4437,    496.7,   8.1999,  34.6243,2,  34.5914,3,      8.3,2,     15.3,2,    35.03,2,    39.23,2,     0.01,2,     2.91,2,    0.021,2,   -0.001,2, -999.000,1,-999.0000,1,  -999.00,9,   -999.0,1,-999.000,9,   2279.0,2,   2301.0,2,     7.38,2, 5007.3,-999.0000,-999.000,-999.000,  8.1482,-999.000
   318MWESTW_4,  P21E,    33,  1,     26, SI9326,2,19940405,2331,-16.7472, -81.3333, 4437,    601.8,   6.9312,  34.5466,2,  34.5345,2,     20.8,2,     27.0,2,    41.74,2,    41.96,2,     0.01,2,     3.03,2,    0.016,2,   -0.003,2, -999.000,1,-999.0000,1,  -999.00,9,   -999.0,1,-999.000,9,   2284.0,2,   2305.0,2,     7.39,2, 6056.4,-999.0000,-999.000,-999.000,  6.8739,-999.000
   318MWESTW_4,  P21E,    33,  1,     25, SI9325,2,19940405,2331,-16.7472, -81.3333, 4437,    703.9,   6.2084,  34.5165,2,  34.5176,2,     30.6,2,     29.3,2,    49.55,2,    43.43,2,     0.00,2,     3.13,2,    0.001,2,   -0.003,2, -999.000,1,-999.0000,1,  -999.00,9,   -999.0,1,-999.000,9,   2301.0,2,   2313.0,2,     7.38,2, 7076.6,-999.0000,-999.000,-999.000,  6.1448,-999.000
   318MWESTW_4,  P21E,    33,  1,     24, SI9324,2,19940405,2331,-16.7472, -81.3333, 4437,    801.3,   5.5607,  34.5105,2,  34.5125,2,     31.4,2,     34.2,2,    58.44,2,    44.42,2,    -0.01,2,     3.19,2,    0.011,3,   -0.004,2, -999.000,1,-999.0000,1,  -999.00,9,   -999.0,1,-999.000,9,   2293.0,2,   2321.0,2,     7.37,2, 8049.0,-999.0000,-999.000,-999.000,  5.4917,-999.000
   318MWESTW_4,  P21E,    33,  1,     23, SI9323,2,19940405,2331,-16.7472, -81.3333, 4437,    902.0,   4.9963,  34.5036,2,  34.5060,2,     44.2,2,     47.1,2,    65.33,2,    43.95,2,    -0.01,2,     3.16,2,   -0.001,2,   -0.004,2, -999.000,1,-999.0000,1,  -999.00,9,   -999.0,1,-999.000,9,   2304.0,2,   2328.0,2,     7.39,2, 9054.9,-999.0000,-999.000,-999.000,  4.9218,-999.000
   318MWESTW_4,  P21E,    33,  1,     22, SI9322,2,19940405,2331,-16.7472, -81.3333, 4437,   1000.0,   4.4530,  34.5114,2,  34.5152,2,     59.2,2,     61.3,2,    74.59,2,    42.91,2,     0.00,2,     3.08,2,    0.005,2,   -0.002,2, -999.000,1,-999.0000,1,  -999.00,9,   -999.0,1,-999.000,9,   2307.0,2,   2341.0,2,     7.42,2,10033.7,-999.0000,-999.000,-999.000,  4.3738,-999.000
   318MWESTW_4,  P21E,    33,  1,     21, SI9321,2,19940405,2331,-16.7472, -81.3333, 4437,   1101.1,   4.1525,  34.5334,2,  34.5331,2,     63.9,2,     63.6,2,    83.83,2,    42.57,2,    -0.01,2,     3.10,2, -999.000,9, -999.000,9, -999.000,1,-999.0000,1,  -999.00,9,   -999.0,1,-999.000,9,   -999.0,9,   -999.0,9,  -999.00,9,11044.2,-999.0000,-999.000,-999.000,  4.0670,-999.000
   318MWESTW_4,  P21E,    33,  1,     20, SI9320,2,19940405,2331,-16.7472, -81.3333, 4437,   1198.0,   3.8212,  34.5482,2,  34.5490,2,     69.2,2,     69.6,2,    91.99,2,    41.67,2,    -0.01,2,     3.08,2, -999.000,9, -999.000,9, -999.000,1,-999.0000,1,  -999.00,9,   -999.0,1,-999.000,9,   -999.0,9,   -999.0,9,  -999.00,9,12011.6,-999.0000,-999.000,-999.000,  3.7303,-999.000
   318MWESTW_4,  P21E,    33,  1,     19, SI9319,2,19940405,2331,-16.7472, -81.3333, 4437,   1303.1,   3.5554,  34.5597,2,  34.5600,2,     75.9,2,     76.3,2,    97.79,2,    41.20,2,    -0.01,2,     3.01,2, -999.000,9, -999.000,9, -999.000,1,-999.0000,1,  -999.00,9,   -999.0,1,-999.000,9,   -999.0,9,   -999.0,9,  -999.00,9,13061.5,-999.0000,-999.000,-999.000,  3.4582,-999.000
   318MWESTW_4,  P21E,    33,  1,     18, SI9318,2,19940405,2331,-16.7472, -81.3333, 4437,   1397.7,   3.3056,  34.5757,2,  34.5737,2,     81.9,2,     81.6,2,   104.32,2,    40.90,2,    -0.01,2,     2.98,2, -999.000,9, -999.000,9, -999.000,1,-999.0000,1,  -999.00,9,   -999.0,1,-999.000,9,   -999.0,9,   -999.0,9,  -999.00,9,14007.0,-999.0000,-999.000,-999.000,  3.2029,-999.000
   318MWESTW_4,  P21E,    33,  1,     17, SI9317,2,19940405,2331,-16.7472, -81.3333, 4437,   1498.4,   3.0720,  34.5902,2,  34.5873,2,     87.1,2,     86.7,2,   110.29,2,    40.58,2,     0.02,2,     2.96,2, -999.000,9, -999.000,9, -999.000,1,-999.0000,1,  -999.00,9,   -999.0,1,-999.000,9,   -999.0,9,   -999.0,9,  -999.00,9,15012.8,-999.0000,-999.000,-999.000,  2.9634,-999.000
   318MWESTW_4,  P21E,    33,  1,     16, SI9316,2,19940405,2331,-16.7472, -81.3333, 4437,   1599.3,   2.8789,  34.6027,2,  34.6016,2,     88.7,2,     89.2,2,   116.81,2,    40.53,2,     0.02,2,     2.93,2, -999.000,9, -999.000,9, -999.000,1,-999.0000,1,  -999.00,9,   -999.0,1,-999.000,9,   -999.0,9,   -999.0,9,  -999.00,9,16020.8,-999.0000,-999.000,-999.000,  2.7641,-999.000
   318MWESTW_4,  P21E,    33,  1,     15, SI9315,2,19940405,2331,-16.7472, -81.3333, 4437,   1801.6,   2.5755,  34.6221,2,  34.6203,2,    100.8,2,    101.7,2,   122.60,2,    39.86,2,     0.03,2,     2.84,2, -999.000,9, -999.000,9, -999.000,1,-999.0000,1,  -999.00,9,   -999.0,1,-999.000,9,   -999.0,9,   -999.0,9,  -999.00,9,18041.6,-999.0000,-999.000,-999.000,  2.4475,-999.000
   318MWESTW_4,  P21E,    33,  1,     14, SI9314,2,19940405,2331,-16.7472, -81.3333, 4437,   2000.5,   2.3154,  34.6381,2,  34.6370,2,    113.0,2,    110.8,2,   128.34,2,    38.85,2,     0.01,2,     2.78,2, -999.000,9, -999.000,9, -999.000,1,-999.0000,1,  -999.00,9,   -999.0,1,-999.000,9,   -999.0,9,   -999.0,9,  -999.00,9,20029.1,-999.0000,-999.000,-999.000,  2.1741,-999.000
   318MWESTW_4,  P21E,    33,  1,     13, SI9313,2,19940405,2331,-16.7472, -81.3333, 4437,   2201.5,   2.0928,  34.6506,2,  34.6504,2,    130.5,2,    129.7,2,   126.50,2,    37.32,2,     0.01,2,     2.65,2, -999.000,9, -999.000,9, -999.000,1,-999.0000,1,  -999.00,9,   -999.0,1,-999.000,9,   -999.0,9,   -999.0,9,  -999.00,9,22037.5,-999.0000,-999.000,-999.000,  1.9376,-999.000
   318MWESTW_4,  P21E,    33,  1,     12, SI9312,2,19940405,2331,-16.7472, -81.3333, 4437,   2403.7,   1.9415,  34.6634,2,  34.6635,2,    140.5,2,    139.0,2,   127.85,2,    36.15,2,     0.01,2,     2.59,2, -999.000,9, -999.000,9, -999.000,1,-999.0000,1,  -999.00,9,   -999.0,1,-999.000,9,   -999.0,9,   -999.0,9,  -999.00,9,24057.3,-999.0000,-999.000,-999.000,  1.7709,-999.000
   318MWESTW_4,  P21E,    33,  1,     11, SI9311,2,19940405,2331,-16.7472, -81.3333, 4437,   2595.2,   1.8564,  34.6710,2,  34.6718,2,    142.6,2,    141.3,2,   131.07,2,    35.72,2,     0.02,2,     2.56,2, -999.000,9, -999.000,9, -999.000,1,-999.0000,1,  -999.00,9,   -999.0,1,-999.000,9,   -999.0,9,   -999.0,9,  -999.00,9,25971.2,-999.0000,-999.000,-999.000,  1.6701,-999.000
   318MWESTW_4,  P21E,    33,  1,     10, SI9310,2,19940405,2331,-16.7472, -81.3333, 4437,   2797.2,   1.8068,  34.6763,2,  34.6763,2,    138.9,2,    138.9,2,   136.50,2,    36.15,2,     0.02,2,     2.57,2, -999.000,9, -999.000,9, -999.000,1,-999.0000,1,  -999.00,9,   -999.0,1,-999.000,9,   -999.0,9,   -999.0,9,  -999.00,9,27988.9,-999.0000,-999.000,-999.000,  1.6027,-999.000
   318MWESTW_4,  P21E,    33,  1,      9, SI9309,2,19940405,2331,-16.7472, -81.3333, 4437,   2999.3,   1.7939,  34.6794,2,  34.6785,2,    137.0,2,    137.4,2,   139.03,2,    36.58,2,     0.02,2,     2.58,2, -999.000,9, -999.000,9, -999.000,1,-999.0000,1,  -999.00,9,   -999.0,1,-999.000,9,   -999.0,9,   -999.0,9,  -999.00,9,30008.4,-999.0000,-999.000,-999.000,  1.5707,-999.000
   318MWESTW_4,  P21E,    33,  1,      8, SI9308,2,19940405,2331,-16.7472, -81.3333, 4437,   3205.1,   1.7890,  34.6811,2,  34.6820,2,    137.2,2,    137.4,2,   140.64,2,    36.72,2,     0.02,2,     2.58,2, -999.000,9, -999.000,9, -999.000,1,-999.0000,1,  -999.00,9,   -999.0,1,-999.000,9,   -999.0,9,   -999.0,9,  -999.00,9,32065.8,-999.0000,-999.000,-999.000,  1.5456,-999.000
   318MWESTW_4,  P21E,    33,  1,      7, SI9307,2,19940405,2331,-16.7472, -81.3333, 4437,   3399.9,   1.7854,  34.6835,2,  34.6826,2,    138.8,2,    139.0,2,   139.90,2,    36.73,2,     0.02,2,     2.57,2, -999.000,9, -999.000,9, -999.000,1,-999.0000,1,  -999.00,9,   -999.0,1,-999.000,9,   -999.0,9,   -999.0,9,  -999.00,9,34012.0,-999.0000,-999.000,-999.000,  1.5224,-999.000
   318MWESTW_4,  P21E,    33,  1,      6, SI9306,2,19940405,2331,-16.7472, -81.3333, 4437,   3588.2,   1.7755,  34.6856,2,  34.6842,2,    143.5,2,    143.4,2,   137.16,2,    35.96,2,     0.01,2,     2.54,2, -999.000,9, -999.000,9, -999.000,1,-999.0000,1,  -999.00,9,   -999.0,1,-999.000,9,   -999.0,9,   -999.0,9,  -999.00,9,35894.1,-999.0000,-999.000,-999.000,  1.4932,-999.000
   318MWESTW_4,  P21E,    33,  1,      5, SI9305,2,19940405,2331,-16.7472, -81.3333, 4437,   3799.5,   1.7672,  34.6879,2,  34.6903,2,    149.6,2,    149.6,2,   132.97,2,    35.54,2,     0.01,2,     2.51,2, -999.000,9, -999.000,9, -999.000,1,-999.0000,1,  -999.00,9,   -999.0,1,-999.000,9,   -999.0,9,   -999.0,9,  -999.00,9,38005.7,-999.0000,-999.000,-999.000,  1.4626,-999.000
   318MWESTW_4,  P21E,    33,  1,      4, SI9304,2,19940405,2331,-16.7472, -81.3333, 4437,   3995.9,   1.7634,  34.6894,2,  34.6899,2,    154.7,2,    153.5,2,   130.23,2,    35.37,2,     0.01,2,     2.50,2, -999.000,9, -999.000,9, -999.000,1,-999.0000,1,  -999.00,9,   -999.0,1,-999.000,9,   -999.0,9,   -999.0,9,  -999.00,9,39969.4,-999.0000,-999.000,-999.000,  1.4375,-999.000
   318MWESTW_4,  P21E,    33,  1,      3, SI9303,4,19940405,2331,-16.7472, -81.3333, 4437,   4197.0,   1.7613,  34.6907,2,  34.8039,4,    155.3,2,    139.5,4,    92.12,4,    31.85,4,     0.50,4,     2.48,4, -999.000,9, -999.000,9, -999.000,1,-999.0000,1,  -999.00,9,   -999.0,1,-999.000,9,   -999.0,9,   -999.0,9,  -999.00,9,41979.5,-999.0000,-999.000,-999.000,  1.4130,-999.000
   318MWESTW_4,  P21E,    33,  1,      2, SI9302,2,19940405,2331,-16.7472, -81.3333, 4437,   4456.3,   1.7829,  34.6910,2,  34.6916,2,    155.2,2,    154.3,2,   130.03,2,    34.83,2,     0.01,2,     2.47,2, -999.000,9, -999.000,9, -999.000,1,-999.0000,1,  -999.00,9,   -999.0,1,-999.000,9,   -999.0,9,   -999.0,9,  -999.00,9,44571.1,-999.0000,-999.000,-999.000,  1.4042,-999.000
   318MWESTW_4,  P21E,    33,  1,      1, SI9301,2,19940405,2331,-16.7472, -81.3333, 4437,   4496.5,   1.7884,  34.6912,2,  34.6916,2,    153.9,2,    155.0,2,   130.34,2,    35.06,2,     0.00,2,     2.48,2, -999.000,9, -999.000,9, -999.000,1,-999.0000,1,  -999.00,9,   -999.0,1,-999.000,9,   -999.0,9,   -999.0,9,  -999.00,9,44973.3,-999.0000,-999.000,-999.000,  1.4049,-999.000