BOTTLE,20010911WHPSIOdm
EXPOCODE,SECT_ID,STNNBR,CASTNO,SAMPNO,BTLNBR,BTLNBR_FLAG_W,DATE,TIME,LATITUDE,LONGITUDE,DEPTH,CTDPRS,CTDTMP,CTDSAL,CTDSAL_FLAG_W,SALNTY,SALNTY_FLAG_W,CTDOXY,CTDOXY_FLAG_W,OXYGEN,OXYGEN_FLAG_W,SILCAT,SILCAT_FLAG_W,NITRAT,NITRAT_FLAG_W,NITRIT,NITRIT_FLAG_W,PHSPHT,PHSPHT_FLAG_W,CFC-11,CFC-11_FLAG_W,CFC-12,CFC-12_FLAG_W,TRITUM,TRITUM_FLAG_W,HELIUM,HELIUM_FLAG_W,DELHE3,DELHE3_FLAG_W,DELC14,DELC14_FLAG_W,NEON,NEON_FLAG_W,TCARBN,TCARBN_FLAG_W,ALKALI,ALKALI_FLAG_W,PH,PH_FLAG_W,CTDRAW,HELIER,DELHER,NEONER,THETA,TRITER
,,,,,,,,,,,,DBAR,ITS-90,PSS-78,,PSS-78,,UMOL/KG,,UMOL/KG,,UMOL/KG,,UMOL/KG,,UMOL/KG,,UMOL/KG,,PMOL/KG,,PMOL/KG,,TU,,UMOL/KG,,PERCNT,,/MILLE,,NMOL/KG,,UMOL/KG,,UMOL/KG,,,,,NMOL/KG,PERCNT,NMOL/KG,ITS-90,TU
   318MWESTW_5,  P21W,   244,  1,     36, SI9442,2,19940611,0739,-18.4945, 167.7972, 4970,      6.3,  25.8152,  34.9356,2,  34.9459,2,    202.9,2,    211.2,2,     0.75,2,    -0.01,2,     0.01,2,     0.16,2,    1.742,2,    0.986,2, -999.000,1,-999.0000,1,  -999.00,9,   -999.0,1,-999.000,9,   1943.9,2,   2307.5,2,     8.11,2,  120.3,-999.0000,-999.000,-999.000, 25.8138,-999.000
   318MWESTW_5,  P21W,   244,  1,     35, SI9435,2,19940611,0739,-18.4945, 167.7972, 4970,     23.7,  25.7384,  34.9351,2,  34.9337,2,    207.2,2,    211.1,2,     0.77,2,     0.00,2,     0.00,2,     0.16,2,    1.755,2,    0.981,2, -999.000,1,-999.0000,1,  -999.00,9,   -999.0,1,-999.000,9,   1942.0,2,   2293.7,2,     8.11,2,  294.8,-999.0000,-999.000,-999.000, 25.7332,-999.000
   318MWESTW_5,  P21W,   244,  1,     34, SI9441,2,19940611,0739,-18.4945, 167.7972, 4970,     49.1,  25.7259,  34.9352,2,  34.9329,2,    210.3,2,    210.7,2,     0.65,2,    -0.01,2,     0.01,2,     0.15,2, -999.000,9, -999.000,9, -999.000,1,-999.0000,1,  -999.00,9,   -999.0,1,-999.000,9,   1941.6,2,   2306.6,2,     8.11,2,  548.3,-999.0000,-999.000,-999.000, 25.7150,-999.000
   318MWESTW_5,  P21W,   244,  1,     33, SI9433,2,19940611,0739,-18.4945, 167.7972, 4970,     99.7,  25.6594,  35.5207,2,  35.5202,2,    199.1,2,    200.5,2,     0.81,2,     0.51,2,     0.22,2,     0.27,2,    1.762,2,    0.988,2, -999.000,1,-999.0000,1,  -999.00,9,   -999.0,1,-999.000,9,   2001.3,2,   2334.9,2,     8.07,2, 1052.5,-999.0000,-999.000,-999.000, 25.6373,-999.000
   318MWESTW_5,  P21W,   244,  1,     32, SI9432,2,19940611,0739,-18.4945, 167.7972, 4970,    150.9,  23.6716,  35.7901,2,  35.7916,2,    172.4,2,    174.8,2,     0.97,2,     2.78,2,     0.03,2,     0.40,2, -999.000,9, -999.000,9, -999.000,1,-999.0000,1,  -999.00,9,   -999.0,1,-999.000,9,   2038.5,2,   2354.5,2,     8.02,2, 1561.8,-999.0000,-999.000,-999.000, 23.6400,-999.000
   318MWESTW_5,  P21W,   244,  1,     31, SI9431,2,19940611,0739,-18.4945, 167.7972, 4970,    202.2,  21.5648,  35.7721,2,  35.7701,2,    168.2,2,    175.2,2,     0.99,2,     3.84,2,     0.01,2,     0.42,2,    1.926,2,    1.051,2, -999.000,1,-999.0000,1,  -999.00,9,   -999.0,1,-999.000,9,   2052.5,2,   2352.6,2,     8.00,2, 2072.8,-999.0000,-999.000,-999.000, 21.5252,-999.000
   318MWESTW_5,  P21W,   244,  1,     30, SI9440,2,19940611,0739,-18.4945, 167.7972, 4970,    251.2,  20.0311,  35.7225,2,  35.7183,2,    159.7,2,    166.8,2,     1.56,2,     5.52,2,     0.01,2,     0.54,2, -999.000,9, -999.000,9, -999.000,1,-999.0000,1,  -999.00,9,   -999.0,1,-999.000,9,   2073.4,2,   2346.3,2,     7.96,2, 2561.7,-999.0000,-999.000,-999.000, 19.9844,-999.000
   318MWESTW_5,  P21W,   244,  1,     29, SI9429,2,19940611,0739,-18.4945, 167.7972, 4970,    294.0,  18.3415,  35.5538,2,  35.5521,2,    155.9,2,    158.8,2,     2.96,2,     8.23,2,     0.01,2,     0.75,2,    1.611,2,    0.858,2, -999.000,1,-999.0000,1,  -999.00,9,   -999.0,1,-999.000,9,   2094.7,2,   2337.8,2,     7.91,2, 2987.3,-999.0000,-999.000,-999.000, 18.2900,-999.000
   318MWESTW_5,  P21W,   244,  1,     28, SI9428,2,19940611,0739,-18.4945, 167.7972, 4970,    346.9,  15.5057,  35.2748,2,  35.2629,2,    163.6,2,    163.4,2,     4.21,2,    10.68,2,     0.01,2,     0.92,2, -999.000,9, -999.000,9, -999.000,1,-999.0000,1,  -999.00,9,   -999.0,1,-999.000,9,   2105.9,2,   2328.8,2,     7.85,2, 3513.5,-999.0000,-999.000,-999.000, 15.4516,-999.000
   318MWESTW_5,  P21W,   244,  1,     27, SI9424,2,19940611,0739,-18.4945, 167.7972, 4970,    392.6,  13.6093,  35.0661,2,  35.0604,2,    166.1,2,    164.2,2,     5.88,2,    13.62,2,     0.01,2,     1.09,2,    1.217,2,    0.639,2, -999.000,1,-999.0000,1,  -999.00,9,   -999.0,1,-999.000,9,   2119.8,2,   2305.8,2,     7.81,2, 3968.8,-999.0000,-999.000,-999.000, 13.5532,-999.000
   318MWESTW_5,  P21W,   244,  1,     26, SI9414,2,19940611,0739,-18.4945, 167.7972, 4970,    495.3,   8.9375,  34.6148,2,  34.6193,2,    180.8,2,    181.2,2,    11.41,2,    21.46,2,     0.00,2,     1.54,2, -999.000,9, -999.000,9, -999.000,1,-999.0000,1,  -999.00,9,   -999.0,1,-999.000,9,   2147.1,2,   2290.5,2,     7.71,2, 4990.2,-999.0000,-999.000,-999.000,  8.8833,-999.000
   318MWESTW_5,  P21W,   244,  1,     25, SI9425,2,19940611,0739,-18.4945, 167.7972, 4970,    598.1,   7.2650,  34.4831,2,  34.4801,2,    190.2,2,    190.8,2,    16.25,2,    24.81,2,     0.00,2,     1.74,2, -999.000,9, -999.000,9, -999.000,1,-999.0000,1,  -999.00,9,   -999.0,1,-999.000,9,   -999.0,9,   2297.0,2,     7.67,2, 6012.2,-999.0000,-999.000,-999.000,  7.2066,-999.000
   318MWESTW_5,  P21W,   244,  1,     24, SI9434,2,19940611,0739,-18.4945, 167.7972, 4970,    698.9,   6.2016,  34.4253,2,  34.4228,2,    184.1,2,    187.6,2,    23.56,2,    27.66,2,     0.01,2,     1.94,2,    0.222,6,    0.123,6, -999.000,1,-999.0000,1,  -999.00,9,   -999.0,1,-999.000,9,   -999.0,9,   2297.0,2,     7.64,2, 7014.8,-999.0000,-999.000,-999.000,  6.1386,-999.000
   318MWESTW_5,  P21W,   244,  1,     23, SI9423,2,19940611,0739,-18.4945, 167.7972, 4970,    802.0,   5.2573,  34.4216,2,  34.4194,2,    177.0,2,    177.9,2,    36.24,2,    30.33,2,     0.01,2,     2.10,2, -999.000,9, -999.000,9, -999.000,1,-999.0000,1,  -999.00,9,   -999.0,1,-999.000,9,   -999.0,9,   2304.0,2,     7.61,2, 8040.0,-999.0000,-999.000,-999.000,  5.1902,-999.000
   318MWESTW_5,  P21W,   244,  1,     22, SI9418,2,19940611,0739,-18.4945, 167.7972, 4970,    904.1,   4.6563,  34.4568,2,  34.4542,2,    168.5,2,    167.9,2,    50.15,2,    31.95,2,     0.01,2,     2.23,2, -999.000,9, -999.000,9, -999.000,1,-999.0000,1,  -999.00,9,   -999.0,1,-999.000,9,   -999.0,9,   2324.0,2,     7.59,2, 9054.9,-999.0000,-999.000,-999.000,  4.5841,-999.000
   318MWESTW_5,  P21W,   244,  1,     21, SI9421,2,19940611,0739,-18.4945, 167.7972, 4970,    999.6,   4.1861,  34.4875,2,  34.4868,2,    162.5,2,    161.2,2,    61.87,2,    33.00,2,     0.00,2,     2.31,2,    0.022,2,    0.009,2, -999.000,1,-999.0000,1,  -999.00,9,   -999.0,1,-999.000,9,   -999.0,9,   2347.0,2,     7.58,2,10004.7,-999.0000,-999.000,-999.000,  4.1091,-999.000
   318MWESTW_5,  P21W,   244,  1,     20, SI9420,2,19940611,0739,-18.4945, 167.7972, 4970,   1200.9,   3.4995,  34.5379,2,  34.5368,2,    156.4,2,    154.7,2,    79.87,2,    34.04,2,     0.00,2,     2.39,2,    0.008,2,    0.002,2, -999.000,1,-999.0000,1,  -999.00,9,   -999.0,1,-999.000,9,   -999.0,9,   2359.0,2,     7.57,2,12005.6,-999.0000,-999.000,-999.000,  3.4114,-999.000
   318MWESTW_5,  P21W,   244,  1,     19, SI9419,2,19940611,0739,-18.4945, 167.7972, 4970,   1405.1,   3.1331,  34.5674,2,  34.5665,2,    152.7,2,    151.9,2,    90.40,2,    34.50,2,     0.00,2,     2.41,2,    0.003,2,    0.002,2, -999.000,1,-999.0000,1,  -999.00,9,   -999.0,1,-999.000,9,   -999.0,9,   2378.0,2,     7.56,2,14036.6,-999.0000,-999.000,-999.000,  3.0317,-999.000
   318MWESTW_5,  P21W,   244,  1,     18, SI9439,2,19940611,0739,-18.4945, 167.7972, 4970,   1606.3,   2.7679,  34.5989,2,  34.5981,2,    150.8,2,    149.9,2,    99.90,2,    34.81,2,     0.00,2,     2.44,2, -999.000,9, -999.000,9, -999.000,1,-999.0000,1,  -999.00,9,   -999.0,1,-999.000,9,   -999.0,9,   2381.0,2,     7.56,2,16036.3,-999.0000,-999.000,-999.000,  2.6539,-999.000
   318MWESTW_5,  P21W,   244,  1,     17, SI9417,2,19940611,0739,-18.4945, 167.7972, 4970,   1807.9,   2.5368,  34.6192,2,  34.6203,2,    149.4,2,    149.3,2,   106.25,2,    34.98,2,     0.00,2,     2.45,2, -999.000,9, -999.000,9, -999.000,1,-999.0000,1,  -999.00,9,   -999.0,1,-999.000,9,   -999.0,9,   2389.0,2,     7.56,2,18041.0,-999.0000,-999.000,-999.000,  2.4088,-999.000
   318MWESTW_5,  P21W,   244,  1,     16, SI9416,2,19940611,0739,-18.4945, 167.7972, 4970,   2006.6,   2.3528,  34.6379,2,  34.6372,2,    149.2,2,    149.2,2,   110.67,2,    35.07,2,     0.01,2,     2.46,2, -999.000,9, -999.000,9, -999.000,1,-999.0000,1,  -999.00,9,   -999.0,1,-999.000,9,   -999.0,9,   -999.0,9,  -999.00,9,20016.5,-999.0000,-999.000,-999.000,  2.2104,-999.000
   318MWESTW_5,  P21W,   244,  1,     15, SI9415,2,19940611,0739,-18.4945, 167.7972, 4970,   2202.3,   2.1982,  34.6522,2,  34.6517,2,    150.5,2,    150.8,2,   114.26,2,    35.02,2,     0.01,2,     2.45,2, -999.000,9, -999.000,9, -999.000,1,-999.0000,1,  -999.00,9,   -999.0,1,-999.000,9,   -999.0,9,   2399.0,2,     7.56,2,21962.3,-999.0000,-999.000,-999.000,  2.0411,-999.000
   318MWESTW_5,  P21W,   244,  1,     14, SI9436,2,19940611,0739,-18.4945, 167.7972, 4970,   2406.2,   2.0655,  34.6627,2,  34.6631,2,    151.5,2,    152.2,2,   117.72,2,    35.02,2,     0.01,2,     2.45,2,   -0.002,2,   -0.002,2, -999.000,1,-999.0000,1,  -999.00,9,   -999.0,1,-999.000,9,   -999.0,9,   2405.0,2,     7.56,2,23989.1,-999.0000,-999.000,-999.000,  1.8925,-999.000
   318MWESTW_5,  P21W,   244,  1,     13, SI9413,2,19940611,0739,-18.4945, 167.7972, 4970,   2603.0,   1.9698,  34.6693,2,  34.6706,2,    152.9,2,    153.4,2,   120.36,2,    35.02,2,     0.01,2,     2.45,2, -999.000,9, -999.000,9, -999.000,1,-999.0000,1,  -999.00,9,   -999.0,1,-999.000,9,   -999.0,9,   2398.0,2,     7.56,2,25945.6,-999.0000,-999.000,-999.000,  1.7806,-999.000
   318MWESTW_5,  P21W,   244,  1,     12, SI9438,2,19940611,0739,-18.4945, 167.7972, 4970,   2797.7,   1.9025,  34.6747,2,  34.6745,2,    153.2,2,    153.6,2,   122.72,2,    35.16,2,     0.01,2,     2.45,2, -999.000,9, -999.000,9, -999.000,1,-999.0000,1,  -999.00,9,   -999.0,1,-999.000,9,   -999.0,9,   2401.0,2,     7.56,2,27881.1,-999.0000,-999.000,-999.000,  1.6963,-999.000
   318MWESTW_5,  P21W,   244,  1,     11, SI9411,2,19940611,0739,-18.4945, 167.7972, 4970,   2995.6,   1.8707,  34.6764,2,  34.6769,2,    153.6,2,    154.0,2,   124.52,2,    35.11,2,     0.01,2,     2.46,2, -999.000,9, -999.000,9, -999.000,1,-999.0000,1,  -999.00,9,   -999.0,1,-999.000,9,   -999.0,9,   2401.0,2,     7.56,2,29848.1,-999.0000,-999.000,-999.000,  1.6462,-999.000
   318MWESTW_5,  P21W,   244,  1,     10, SI9412,2,19940611,0739,-18.4945, 167.7972, 4970,   3242.4,   1.8458,  34.6782,2,  34.6785,2,    153.7,2,    153.7,2,   125.78,2,    35.17,2,     0.00,2,     2.46,2, -999.000,9, -999.000,9, -999.000,1,-999.0000,1,  -999.00,9,   -999.0,1,-999.000,9,   -999.0,9,   2410.0,2,     7.56,2,32302.4,-999.0000,-999.000,-999.000,  1.5974,-999.000
   318MWESTW_5,  P21W,   244,  1,      9, SI9410,2,19940611,0739,-18.4945, 167.7972, 4970,   3502.4,   1.8331,  34.6794,2,  34.6810,2,    154.4,2,    154.4,2,   126.77,2,    35.07,2,     0.00,2,     2.46,2,   -0.001,2,   -0.001,2, -999.000,1,-999.0000,1,  -999.00,9,   -999.0,1,-999.000,9,   -999.0,9,   2410.0,2,     7.56,2,34887.3,-999.0000,-999.000,-999.000,  1.5584,-999.000
   318MWESTW_5,  P21W,   244,  1,      8, SI9422,2,19940611,0739,-18.4945, 167.7972, 4970,   3747.9,   1.8335,  34.6826,2,  34.6818,2,    155.2,2,    154.7,2,   127.16,2,    35.02,2,     0.01,2,     2.45,2, -999.000,9, -999.000,9, -999.000,1,-999.0000,1,  -999.00,9,   -999.0,1,-999.000,9,   -999.0,9,   2410.0,2,     7.56,2,37327.6,-999.0000,-999.000,-999.000,  1.5328,-999.000
   318MWESTW_5,  P21W,   244,  1,      7, SI9407,2,19940611,0739,-18.4945, 167.7972, 4970,   4000.0,   1.8476,  34.6832,2,  34.6830,2,    156.8,2,    156.0,2,   127.39,2,    34.94,2,     0.00,2,     2.45,2, -999.000,9, -999.000,9, -999.000,1,-999.0000,1,  -999.00,9,   -999.0,1,-999.000,9,   -999.0,9,   2406.0,2,     7.56,2,39833.7,-999.0000,-999.000,-999.000,  1.5189,-999.000
   318MWESTW_5,  P21W,   244,  1,      6, SI9427,2,19940611,0739,-18.4945, 167.7972, 4970,   4248.4,   1.8664,  34.6842,2,  34.6828,2,    157.3,2,    156.1,2,   127.06,2,    34.94,2,     0.00,2,     2.44,2, -999.000,9, -999.000,9, -999.000,1,-999.0000,1,  -999.00,9,   -999.0,1,-999.000,9,   -999.0,9,   2409.0,2,     7.56,2,42303.2,-999.0000,-999.000,-999.000,  1.5092,-999.000
   318MWESTW_5,  P21W,   244,  1,      5, SI9405,2,19940611,0739,-18.4945, 167.7972, 4970,   4487.6,   1.8877,  34.6855,2,  34.6853,2,    157.8,2,    157.0,2,   126.47,2,    34.84,2,     0.00,2,     2.43,2,   -0.001,2,   -0.001,2, -999.000,1,-999.0000,1,  -999.00,9,   -999.0,1,-999.000,9,   -999.0,9,   2410.0,2,     7.57,2,44681.8,-999.0000,-999.000,-999.000,  1.5022,-999.000
   318MWESTW_5,  P21W,   244,  1,      4, SI9404,2,19940611,0739,-18.4945, 167.7972, 4970,   4737.7,   1.9133,  34.6860,2,  34.6848,2,    159.3,2,    157.3,2,   126.56,2,    34.94,2,     0.00,2,     2.43,2, -999.000,9, -999.000,9, -999.000,1,-999.0000,1,  -999.00,9,   -999.0,1,-999.000,9,   -999.0,9,   2415.0,2,     7.57,2,47167.7,-999.0000,-999.000,-999.000,  1.4972,-999.000
   318MWESTW_5,  P21W,   244,  1,      3, SI9403,2,19940611,0739,-18.4945, 167.7972, 4970,   4894.1,   1.9316,  34.6853,2,  34.6865,2,    159.9,2,    158.0,2,   126.48,2,    34.94,2,     0.00,2,     2.43,2, -999.000,9, -999.000,9, -999.000,1,-999.0000,1,  -999.00,9,   -999.0,1,-999.000,9,   -999.0,9,   2408.0,2,     7.57,2,48722.5,-999.0000,-999.000,-999.000,  1.4959,-999.000
   318MWESTW_5,  P21W,   244,  1,      2, SI9437,2,19940611,0739,-18.4945, 167.7972, 4970,   5019.2,   1.9466,  34.6865,2,  34.6848,2,    159.3,2,    157.9,2,   126.36,2,    34.92,2,     0.01,2,     2.43,2, -999.000,9, -999.000,9, -999.000,1,-999.0000,1,  -999.00,9,   -999.0,1,-999.000,9,   -999.0,9,   2413.0,2,     7.57,2,49966.6,-999.0000,-999.000,-999.000,  1.4949,-999.000
   318MWESTW_5,  P21W,   244,  1,      1, SI9401,2,19940611,0739,-18.4945, 167.7972, 4970,   5061.0,   1.9521,  34.6863,2,  34.6851,2,    159.5,2,    158.6,2,   126.40,2,    34.91,2,     0.00,2,     2.43,2,    0.000,2,    0.001,2, -999.000,1,-999.0000,1,  -999.00,9,   -999.0,1,-999.000,9,   -999.0,9,   2403.0,2,     7.56,2,50381.5,-999.0000,-999.000,-999.000,  1.4951,-999.000