BOTTLE,20010911WHPSIOdm
EXPOCODE,SECT_ID,STNNBR,CASTNO,SAMPNO,BTLNBR,BTLNBR_FLAG_W,DATE,TIME,LATITUDE,LONGITUDE,DEPTH,CTDPRS,CTDTMP,CTDSAL,CTDSAL_FLAG_W,SALNTY,SALNTY_FLAG_W,CTDOXY,CTDOXY_FLAG_W,OXYGEN,OXYGEN_FLAG_W,SILCAT,SILCAT_FLAG_W,NITRAT,NITRAT_FLAG_W,NITRIT,NITRIT_FLAG_W,PHSPHT,PHSPHT_FLAG_W,CFC-11,CFC-11_FLAG_W,CFC-12,CFC-12_FLAG_W,TRITUM,TRITUM_FLAG_W,HELIUM,HELIUM_FLAG_W,DELHE3,DELHE3_FLAG_W,DELC14,DELC14_FLAG_W,NEON,NEON_FLAG_W,TCARBN,TCARBN_FLAG_W,ALKALI,ALKALI_FLAG_W,PH,PH_FLAG_W,CTDRAW,HELIER,DELHER,NEONER,THETA,TRITER
,,,,,,,,,,,,DBAR,ITS-90,PSS-78,,PSS-78,,UMOL/KG,,UMOL/KG,,UMOL/KG,,UMOL/KG,,UMOL/KG,,UMOL/KG,,PMOL/KG,,PMOL/KG,,TU,,UMOL/KG,,PERCNT,,/MILLE,,NMOL/KG,,UMOL/KG,,UMOL/KG,,,,,NMOL/KG,PERCNT,NMOL/KG,ITS-90,TU
   318MWESTW_5,  P21W,   241,  1,     25, SI9425,2,19940610,1755,-18.3000, 168.2167, 2205,      4.6,  25.4171,  35.0396,2,  35.0388,2,    222.0,2,    208.6,2,     0.71,2,     0.10,2,     0.01,2,     0.15,2, -999.000,9, -999.000,9, -999.000,1,-999.0000,1,  -999.00,9,   -999.0,1,-999.000,9,   -999.0,9,   -999.0,9,  -999.00,9,  105.0,-999.0000,-999.000,-999.000, 25.4161,-999.000
   318MWESTW_5,  P21W,   241,  1,     24, SI9434,2,19940610,1755,-18.3000, 168.2167, 2205,     24.9,  25.4318,  35.0436,2,  35.0415,2,    205.4,2,    215.1,2,     0.74,2,     0.10,2,     0.01,2,     0.17,2, -999.000,9, -999.000,9, -999.000,1,-999.0000,1,  -999.00,9,   -999.0,1,-999.000,9,   -999.0,9,   -999.0,9,  -999.00,9,  307.7,-999.0000,-999.000,-999.000, 25.4263,-999.000
   318MWESTW_5,  P21W,   241,  1,     23, SI9423,2,19940610,1755,-18.3000, 168.2167, 2205,     54.8,  25.4380,  35.0609,2,  35.0581,2,    206.4,2,    207.8,2,     0.77,2,     0.10,2,     0.02,2,     0.17,2,    1.769,2,    0.988,2, -999.000,1,-999.0000,1,  -999.00,9,   -999.0,1,-999.000,9,   -999.0,9,   -999.0,9,  -999.00,9,  605.9,-999.0000,-999.000,-999.000, 25.4260,-999.000
   318MWESTW_5,  P21W,   241,  1,     22, SI9418,2,19940610,1755,-18.3000, 168.2167, 2205,     96.2,  25.1125,  35.5471,2,  35.5464,2,    191.6,2,    186.0,2,     0.94,2,     1.44,2,     0.11,2,     0.31,2, -999.000,9, -999.000,9, -999.000,1,-999.0000,1,  -999.00,9,   -999.0,1,-999.000,9,   -999.0,9,   -999.0,9,  -999.00,9, 1018.1,-999.0000,-999.000,-999.000, 25.0915,-999.000
   318MWESTW_5,  P21W,   241,  1,     21, SI9421,2,19940610,1755,-18.3000, 168.2167, 2205,    147.5,  23.7619,  35.8072,2,  35.7993,2,    178.2,2,    173.9,2,     0.82,2,     2.16,2,     0.03,2,     0.38,2,    1.839,2,    0.994,2, -999.000,1,-999.0000,1,  -999.00,9,   -999.0,1,-999.000,9,   -999.0,9,   -999.0,9,  -999.00,9, 1528.8,-999.0000,-999.000,-999.000, 23.7310,-999.000
   318MWESTW_5,  P21W,   241,  1,     20, SI9420,2,19940610,1755,-18.3000, 168.2167, 2205,    196.3,  22.4741,  35.9539,2,  35.9510,2,    159.0,2,    155.8,2,     1.12,2,     5.34,2,     0.02,2,     0.58,2, -999.000,9, -999.000,9, -999.000,1,-999.0000,1,  -999.00,9,   -999.0,1,-999.000,9,   -999.0,9,   -999.0,9,  -999.00,9, 2015.2,-999.0000,-999.000,-999.000, 22.4345,-999.000
   318MWESTW_5,  P21W,   241,  1,     19, SI9419,2,19940610,1755,-18.3000, 168.2167, 2205,    244.5,  20.5603,  35.7800,2,  35.7853,2,    167.9,2,    164.2,2,     1.43,2,     5.59,2,     0.01,2,     0.57,2,    1.852,2,    0.992,2, -999.000,1,-999.0000,1,  -999.00,9,   -999.0,1,-999.000,9,   -999.0,9,   -999.0,9,  -999.00,9, 2494.4,-999.0000,-999.000,-999.000, 20.5140,-999.000
   318MWESTW_5,  P21W,   241,  1,     18, SI9439,2,19940610,1755,-18.3000, 168.2167, 2205,    297.7,  18.2767,  35.5653,2,  35.5517,2,    157.7,2,    161.9,2,     2.54,2,     7.71,2,     0.01,2,     0.72,2, -999.000,9, -999.000,9, -999.000,1,-999.0000,1,  -999.00,9,   -999.0,1,-999.000,9,   -999.0,9,   -999.0,9,  -999.00,9, 3024.3,-999.0000,-999.000,-999.000, 18.2247,-999.000
   318MWESTW_5,  P21W,   241,  1,     17, SI9417,2,19940610,1755,-18.3000, 168.2167, 2205,    352.6,  15.1860,  35.2491,2,  35.2394,2,    169.0,2,    165.3,2,     4.33,2,    11.12,2,     0.00,2,     0.93,2,    1.480,2,    0.761,2, -999.000,1,-999.0000,1,  -999.00,9,   -999.0,1,-999.000,9,   -999.0,9,   -999.0,9,  -999.00,9, 3570.5,-999.0000,-999.000,-999.000, 15.1318,-999.000
   318MWESTW_5,  P21W,   241,  1,     16, SI9416,2,19940610,1755,-18.3000, 168.2167, 2205,    401.0,  12.3290,  34.9162,2,  34.9246,2,    158.1,2,    164.8,2,     7.48,2,    16.11,2,     0.00,2,     1.25,2, -999.000,9, -999.000,9, -999.000,1,-999.0000,1,  -999.00,9,   -999.0,1,-999.000,9,   -999.0,9,   -999.0,9,  -999.00,9, 4051.7,-999.0000,-999.000,-999.000, 12.2754,-999.000
   318MWESTW_5,  P21W,   241,  1,     15, SI9415,2,19940610,1755,-18.3000, 168.2167, 2205,    449.8,  10.4344,  34.7294,2,  34.7262,2,    162.2,2,    162.5,2,    10.63,2,    20.11,2,     0.00,2,     1.51,2, -999.000,9, -999.000,9, -999.000,1,-999.0000,1,  -999.00,9,   -999.0,1,-999.000,9,   -999.0,9,   -999.0,9,  -999.00,9, 4537.1,-999.0000,-999.000,-999.000, 10.3803,-999.000
   318MWESTW_5,  P21W,   241,  1,     14, SI9436,2,19940610,1755,-18.3000, 168.2167, 2205,    496.2,   9.1746,  34.6137,2,  34.6154,2,    170.4,2,    170.1,2,    12.56,2,    22.37,2,     0.00,2,     1.62,2, -999.000,9, -999.000,9, -999.000,1,-999.0000,1,  -999.00,9,   -999.0,1,-999.000,9,   -999.0,9,   -999.0,9,  -999.00,9, 4998.7,-999.0000,-999.000,-999.000,  9.1194,-999.000
   318MWESTW_5,  P21W,   241,  1,     13, SI9413,2,19940610,1755,-18.3000, 168.2167, 2205,    607.4,   6.6763,  34.4411,2,  34.4363,2,    183.1,2,    182.3,2,    20.20,2,    27.27,2,     0.00,2,     1.90,2,    0.250,2,    0.139,2, -999.000,1,-999.0000,1,  -999.00,9,   -999.0,1,-999.000,9,   -999.0,9,   -999.0,9,  -999.00,9, 6105.2,-999.0000,-999.000,-999.000,  6.6197,-999.000
   318MWESTW_5,  P21W,   241,  1,     12, SI9438,2,19940610,1755,-18.3000, 168.2167, 2205,    684.7,   5.9802,  34.4303,2,  34.4300,2,    182.0,2,    179.3,2,    28.37,2,    29.02,2,     0.00,2,     2.00,2, -999.000,9, -999.000,9, -999.000,1,-999.0000,1,  -999.00,9,   -999.0,1,-999.000,9,   -999.0,9,   -999.0,9,  -999.00,9, 6873.0,-999.0000,-999.000,-999.000,  5.9197,-999.000
   318MWESTW_5,  P21W,   241,  1,     11, SI9411,2,19940610,1755,-18.3000, 168.2167, 2205,    795.6,   5.2490,  34.4260,2,  34.4245,2,    181.3,2,    178.0,2,    37.63,2,    30.87,2,     0.00,2,     2.13,2,    0.082,2,    0.049,2, -999.000,1,-999.0000,1,  -999.00,9,   -999.0,1,-999.000,9,   -999.0,9,   -999.0,9,  -999.00,9, 7976.0,-999.0000,-999.000,-999.000,  5.1825,-999.000
   318MWESTW_5,  P21W,   241,  1,     10, SI9412,3,19940610,1755,-18.3000, 168.2167, 2205,    893.4,   4.7041,  34.4450,2,  34.4463,2,    170.9,2,    171.0,2,    48.11,2,    32.12,2,     0.00,2,     2.21,2, -999.000,9, -999.000,9, -999.000,1,-999.0000,1,  -999.00,9,   -999.0,1,-999.000,9,   -999.0,9,   -999.0,9,  -999.00,9, 8948.0,-999.0000,-999.000,-999.000,  4.6325,-999.000
   318MWESTW_5,  P21W,   241,  1,      9, SI9410,2,19940610,1755,-18.3000, 168.2167, 2205,    996.0,   4.2396,  34.4794,2,  34.4789,2,    165.1,2,    163.8,2,    59.81,2,    33.04,2,     0.01,2,     2.30,2, -999.000,9, -999.000,9, -999.000,1,-999.0000,1,  -999.00,9,   -999.0,1,-999.000,9,   -999.0,9,   -999.0,9,  -999.00,9, 9968.7,-999.0000,-999.000,-999.000,  4.1625,-999.000
   318MWESTW_5,  P21W,   241,  1,      8, SI9422,2,19940610,1755,-18.3000, 168.2167, 2205,   1098.3,   3.7261,  34.5193,2,  34.5193,2,    159.5,2,    161.5,2,    73.68,2,    33.94,2,     0.00,2,     2.36,2,    0.011,2,    0.006,2, -999.000,1,-999.0000,1,  -999.00,9,   -999.0,1,-999.000,9,   -999.0,9,   -999.0,9,  -999.00,9,10985.2,-999.0000,-999.000,-999.000,  3.6445,-999.000
   318MWESTW_5,  P21W,   241,  1,      7, SI9407,2,19940610,1755,-18.3000, 168.2167, 2205,   1191.4,   3.5314,  34.5345,2,  34.5337,2,    156.5,2,    155.8,2,    78.85,2,    34.13,2,     0.00,2,     2.38,2, -999.000,9, -999.000,9, -999.000,1,-999.0000,1,  -999.00,9,   -999.0,1,-999.000,9,   -999.0,9,   -999.0,9,  -999.00,9,11910.7,-999.0000,-999.000,-999.000,  3.4438,-999.000
   318MWESTW_5,  P21W,   241,  1,      6, SI9427,2,19940610,1755,-18.3000, 168.2167, 2205,   1395.5,   3.0721,  34.5740,2,  34.5736,2,    152.2,2,    156.5,4,    91.90,2,    34.74,2,     0.00,2,     2.42,2, -999.000,9, -999.000,9, -999.000,1,-999.0000,1,  -999.00,9,   -999.0,1,-999.000,9,   -999.0,9,   -999.0,9,  -999.00,9,13940.7,-999.0000,-999.000,-999.000,  2.9721,-999.000
   318MWESTW_5,  P21W,   241,  1,      5, SI9405,2,19940610,1755,-18.3000, 168.2167, 2205,   1594.8,   2.8110,  34.5962,2,  34.5961,2,    149.6,2,    154.0,4,    98.98,2,    35.11,2,     0.00,2,     2.43,2, -999.000,9, -999.000,9, -999.000,1,-999.0000,1,  -999.00,9,   -999.0,1,-999.000,9,   -999.0,9,   -999.0,9,  -999.00,9,15921.2,-999.0000,-999.000,-999.000,  2.6974,-999.000
   318MWESTW_5,  P21W,   241,  1,      4, SI9404,2,19940610,1755,-18.3000, 168.2167, 2205,   1788.2,   2.5246,  34.6214,2,  34.6215,2,    149.1,2,    149.4,2,   106.59,2,    35.39,2,     0.00,2,     2.45,2, -999.000,9, -999.000,9, -999.000,1,-999.0000,1,  -999.00,9,   -999.0,1,-999.000,9,   -999.0,9,   -999.0,9,  -999.00,9,17843.8,-999.0000,-999.000,-999.000,  2.3984,-999.000
   318MWESTW_5,  P21W,   241,  1,      3, SI9403,2,19940610,1755,-18.3000, 168.2167, 2205,   1997.9,   2.3392,  34.6378,2,  34.6378,2,    147.6,2,    150.6,2,   110.68,2,    35.45,2,     0.00,2,     2.45,2, -999.000,9, -999.000,9, -999.000,1,-999.0000,1,  -999.00,9,   -999.0,1,-999.000,9,   -999.0,9,   -999.0,9,  -999.00,9,19928.9,-999.0000,-999.000,-999.000,  2.1978,-999.000
   318MWESTW_5,  P21W,   241,  1,      2, SI9437,2,19940610,1755,-18.3000, 168.2167, 2205,   2141.8,   2.2653,  34.6455,2,  34.6447,2,    149.2,2,    151.3,2,   112.87,2,    35.45,2,     0.00,2,     2.46,2, -999.000,9, -999.000,9, -999.000,1,-999.0000,1,  -999.00,9,   -999.0,1,-999.000,9,   -999.0,9,   -999.0,9,  -999.00,9,21358.9,-999.0000,-999.000,-999.000,  2.1125,-999.000
   318MWESTW_5,  P21W,   241,  1,      1, SI9401,2,19940610,1755,-18.3000, 168.2167, 2205,   2174.0,   2.2666,  34.6450,2,  34.6451,2,    147.3,2,    171.3,4,   113.06,2,    35.28,2,     0.00,2,     2.45,2, -999.000,9, -999.000,9, -999.000,1,-999.0000,1,  -999.00,9,   -999.0,1,-999.000,9,   -999.0,9,   -999.0,9,  -999.00,9,21679.5,-999.0000,-999.000,-999.000,  2.1109,-999.000