BOTTLE,20010911WHPSIOdm
EXPOCODE,SECT_ID,STNNBR,CASTNO,SAMPNO,BTLNBR,BTLNBR_FLAG_W,DATE,TIME,LATITUDE,LONGITUDE,DEPTH,CTDPRS,CTDTMP,CTDSAL,CTDSAL_FLAG_W,SALNTY,SALNTY_FLAG_W,CTDOXY,CTDOXY_FLAG_W,OXYGEN,OXYGEN_FLAG_W,SILCAT,SILCAT_FLAG_W,NITRAT,NITRAT_FLAG_W,NITRIT,NITRIT_FLAG_W,PHSPHT,PHSPHT_FLAG_W,CFC-11,CFC-11_FLAG_W,CFC-12,CFC-12_FLAG_W,TRITUM,TRITUM_FLAG_W,HELIUM,HELIUM_FLAG_W,DELHE3,DELHE3_FLAG_W,DELC14,DELC14_FLAG_W,NEON,NEON_FLAG_W,TCARBN,TCARBN_FLAG_W,ALKALI,ALKALI_FLAG_W,PH,PH_FLAG_W,CTDRAW,HELIER,DELHER,NEONER,THETA,TRITER
,,,,,,,,,,,,DBAR,ITS-90,PSS-78,,PSS-78,,UMOL/KG,,UMOL/KG,,UMOL/KG,,UMOL/KG,,UMOL/KG,,UMOL/KG,,PMOL/KG,,PMOL/KG,,TU,,UMOL/KG,,PERCNT,,/MILLE,,NMOL/KG,,UMOL/KG,,UMOL/KG,,,,,NMOL/KG,PERCNT,NMOL/KG,ITS-90,TU
   318MWESTW_5,  P21W,   259,  1,     31, SI9431,2,19940614,1607,-18.9167, 164.0000, 3510,      5.4,  24.0731,  35.2264,2,  35.2266,2,    195.3,2,    210.1,2,     0.74,2,     0.06,2,     0.00,2,     0.09,2,    1.849,2,    1.044,2, -999.000,1,-999.0000,1,  -999.00,9,   -999.0,1,-999.000,9,   1955.3,2,   2340.2,2,     8.11,2,  113.0,-999.0000,-999.000,-999.000, 24.0720,-999.000
   318MWESTW_5,  P21W,   259,  1,     30, SI9440,2,19940614,1607,-18.9167, 164.0000, 3510,     20.4,  24.0926,  35.2558,2,  35.2686,2,    211.1,2,    212.4,2,     0.75,2,     0.02,2,     0.00,2,     0.09,2,    1.844,2,    1.036,2, -999.000,1,-999.0000,1,  -999.00,9,   -999.0,1,-999.000,9,   1957.5,2,   2330.1,2,     8.11,2,  263.1,-999.0000,-999.000,-999.000, 24.0883,-999.000
   318MWESTW_5,  P21W,   259,  1,     29, SI9429,2,19940614,1607,-18.9167, 164.0000, 3510,     45.8,  24.0870,  35.3506,2,  35.3518,2,    207.0,2,    215.8,2,     0.76,2,     0.03,2,     0.01,2,     0.09,2,    1.868,2,    1.040,2, -999.000,1,-999.0000,1,  -999.00,9,   -999.0,1,-999.000,9,   1966.5,2,   2321.3,2,     8.10,2,  515.7,-999.0000,-999.000,-999.000, 24.0773,-999.000
   318MWESTW_5,  P21W,   259,  1,     28, SI9428,2,19940614,1607,-18.9167, 164.0000, 3510,     95.6,  23.9250,  35.4073,2,  35.4527,2,    200.6,2,    200.4,2,     0.77,2,     0.65,2,     0.16,2,     0.16,2,    1.877,2,    1.041,2, -999.000,1,-999.0000,1,  -999.00,9,   -999.0,1,-999.000,9,   1986.6,2,   2330.8,2,     8.07,2, 1012.5,-999.0000,-999.000,-999.000, 23.9049,-999.000
   318MWESTW_5,  P21W,   259,  1,     27, SI9424,2,19940614,1607,-18.9167, 164.0000, 3510,    147.4,  21.3462,  35.7645,2,  35.7631,2,    184.9,2,    182.2,2,     1.05,2,     3.12,2,     0.02,2,     0.35,2,    1.989,2,    1.077,2, -999.000,1,-999.0000,1,  -999.00,9,   -999.0,1,-999.000,9,   2042.8,2,   2352.1,2,     8.01,2, 1528.1,-999.0000,-999.000,-999.000, 21.3176,-999.000
   318MWESTW_5,  P21W,   259,  1,     26, SI9414,2,19940614,1607,-18.9167, 164.0000, 3510,    198.6,  20.2073,  35.6995,2,  35.6982,2,    178.9,2,    183.0,2,     1.34,2,     4.12,2,     0.02,2,     0.41,2,    1.992,2,    1.076,2, -999.000,1,-999.0000,1,  -999.00,9,   -999.0,1,-999.000,9,   2050.3,2,   2351.0,2,     7.99,2, 2037.9,-999.0000,-999.000,-999.000, 20.1702,-999.000
   318MWESTW_5,  P21W,   259,  1,     25, SI9425,2,19940614,1607,-18.9167, 164.0000, 3510,    248.7,  18.5179,  35.5945,2,  35.5942,2,    180.4,2,    182.7,2,     1.90,2,     5.58,2,     0.02,2,     0.51,2,    1.944,2,    1.048,2, -999.000,1,-999.0000,1,  -999.00,9,   -999.0,1,-999.000,9,   2063.1,2,   2366.5,2,     7.96,2, 2536.4,-999.0000,-999.000,-999.000, 18.4741,-999.000
   318MWESTW_5,  P21W,   259,  1,     24, SI9434,2,19940614,1607,-18.9167, 164.0000, 3510,    299.7,  17.3417,  35.5091,2,  35.5072,2,    178.1,2,    182.9,2,     2.33,2,     6.82,2,     0.01,2,     0.60,2,    1.908,6,    1.015,6, -999.000,1,-999.0000,1,  -999.00,9,   -999.0,1,-999.000,9,   2071.5,2,   2325.0,2,     7.95,2, 3044.0,-999.0000,-999.000,-999.000, 17.2912,-999.000
   318MWESTW_5,  P21W,   259,  1,     23, SI9423,2,19940614,1607,-18.9167, 164.0000, 3510,    348.9,  15.7150,  35.3655,2,  35.3601,2,    181.4,2,    180.7,2,     3.04,2,     8.96,2,     0.01,2,     0.74,2,    1.806,2,    0.928,2, -999.000,1,-999.0000,1,  -999.00,9,   -999.0,1,-999.000,9,   2086.5,2,   2319.7,2,     7.88,2, 3533.4,-999.0000,-999.000,-999.000, 15.6601,-999.000
   318MWESTW_5,  P21W,   259,  1,     22, SI9418,2,19940614,1607,-18.9167, 164.0000, 3510,    405.9,  14.2292,  35.2183,2,  35.2095,2,    178.4,2,    182.9,2,     3.88,2,    10.96,2,     0.01,2,     0.86,2,    1.690,2,    0.872,2, -999.000,1,-999.0000,1,  -999.00,9,   -999.0,1,-999.000,9,   2098.8,2,   2308.7,2,     7.85,2, 4101.2,-999.0000,-999.000,-999.000, 14.1694,-999.000
   318MWESTW_5,  P21W,   259,  1,     21, SI9421,2,19940614,1607,-18.9167, 164.0000, 3510,    506.8,  10.1043,  34.7509,2,  34.7543,2,    187.9,2,    189.1,2,     7.36,2,    18.45,2,     0.00,2,     1.33,2,    1.059,2,    0.534,2, -999.000,1,-999.0000,1,  -999.00,9,   -999.0,1,-999.000,9,   2129.7,2,   2296.2,2,     7.75,2, 5104.5,-999.0000,-999.000,-999.000, 10.0444,-999.000
   318MWESTW_5,  P21W,   259,  1,     20, SI9420,2,19940614,1607,-18.9167, 164.0000, 3510,    591.3,   8.1479,  34.5508,2,  34.5459,2,    193.5,2,    196.3,2,    11.26,2,    22.49,2,     0.01,2,     1.58,2,    0.652,2,    0.336,2, -999.000,1,-999.0000,1,  -999.00,9,   -999.0,1,-999.000,9,   2144.3,2,   2286.1,2,     7.69,2, 5944.4,-999.0000,-999.000,-999.000,  8.0863,-999.000
   318MWESTW_5,  P21W,   259,  1,     19, SI9419,2,19940614,1607,-18.9167, 164.0000, 3510,    689.4,   6.5603,  34.4281,2,  34.4249,2,    195.6,2,    197.4,2,    18.49,2,    26.49,2,     0.00,2,     1.84,2,    0.318,2,    0.168,2, -999.000,1,-999.0000,1,  -999.00,9,   -999.0,1,-999.000,9,   2161.5,2,   2279.3,2,     7.67,2, 6919.9,-999.0000,-999.000,-999.000,  6.4963,-999.000
   318MWESTW_5,  P21W,   259,  1,     18, SI9439,2,19940614,1607,-18.9167, 164.0000, 3510,    797.7,   5.7356,  34.4135,2,  34.4116,2,    188.3,2,    192.5,2,    27.11,2,    28.49,2,     0.01,2,     1.97,2,    0.182,2,    0.104,2, -999.000,1,-999.0000,1,  -999.00,9,   -999.0,1,-999.000,9,   2176.9,2,   2296.3,2,     7.64,2, 7997.5,-999.0000,-999.000,-999.000,  5.6660,-999.000
   318MWESTW_5,  P21W,   259,  1,     17, SI9417,2,19940614,1607,-18.9167, 164.0000, 3510,    906.8,   4.8269,  34.4290,2,  34.4286,2,    178.9,2,    181.3,2,    42.39,2,    30.99,2,     0.01,2,     2.14,2,    0.078,2,    0.045,2, -999.000,1,-999.0000,1,  -999.00,9,   -999.0,1,-999.000,9,   2203.0,2,   2311.9,2,     7.61,2, 9081.8,-999.0000,-999.000,-999.000,  4.7533,-999.000
   318MWESTW_5,  P21W,   259,  1,     16, SI9416,2,19940614,1607,-18.9167, 164.0000, 3510,    993.7,   4.3469,  34.4556,2,  34.4548,2,    167.8,2,    172.3,2,    53.37,2,    32.27,2,     0.01,2,     2.24,2,    0.040,2,    0.023,2, -999.000,1,-999.0000,1,  -999.00,9,   -999.0,1,-999.000,9,   2220.0,2,   2325.5,2,     7.59,2, 9946.3,-999.0000,-999.000,-999.000,  4.2692,-999.000
   318MWESTW_5,  P21W,   259,  1,     15, SI9415,2,19940614,1607,-18.9167, 164.0000, 3510,   1149.2,   3.9376,  34.4906,2,  34.4909,2,    162.5,2,    163.7,4,    65.74,2,    33.29,2,     0.00,2,     2.32,2,    0.018,2,    0.010,2, -999.000,1,-999.0000,1,  -999.00,9,   -999.0,1,-999.000,9,   2236.5,2,   2336.5,2,     7.58,2,11492.1,-999.0000,-999.000,-999.000,  3.8499,-999.000
   318MWESTW_5,  P21W,   259,  1,     14, SI9436,2,19940614,1607,-18.9167, 164.0000, 3510,   1298.0,   3.4534,  34.5325,2,  34.5321,2,    160.0,2,    161.3,2,    78.04,2,    33.74,2,     0.00,2,     2.35,2,    0.016,2,    0.010,2, -999.000,1,-999.0000,1,  -999.00,9,   -999.0,1,-999.000,9,   2252.3,2,   2330.1,3,     7.58,2,12971.4,-999.0000,-999.000,-999.000,  3.3577,-999.000
   318MWESTW_5,  P21W,   259,  1,     13, SI9413,2,19940614,1607,-18.9167, 164.0000, 3510,   1501.6,   2.8941,  34.5846,2,  34.5846,2,    152.3,2,    154.8,2,    95.26,2,    34.79,2,     0.01,2,     2.41,2,    0.003,2,    0.004,2, -999.000,1,-999.0000,1,  -999.00,9,   -999.0,1,-999.000,9,   2275.7,2,   2376.1,2,     7.57,2,14995.7,-999.0000,-999.000,-999.000,  2.7873,-999.000
   318MWESTW_5,  P21W,   259,  1,     12, SI9438,2,19940614,1607,-18.9167, 164.0000, 3510,   1707.0,   2.5281,  34.6201,2,  34.6205,2,    150.4,2,    150.2,2,   105.61,2,    35.22,2,     0.00,2,     2.45,2,    0.000,2,    0.001,2, -999.000,1,-999.0000,1,  -999.00,9,   -999.0,1,-999.000,9,   2288.2,2,   2391.0,3,     7.56,2,17037.8,-999.0000,-999.000,-999.000,  2.4087,-999.000
   318MWESTW_5,  P21W,   259,  1,     11, SI9411,2,19940614,1607,-18.9167, 164.0000, 3510,   1912.3,   2.3469,  34.6383,2,  34.6390,2,    149.9,2,    151.0,2,   109.80,2,    35.35,2,     0.01,2,     2.47,2,   -0.002,2,   -0.001,2, -999.000,1,-999.0000,1,  -999.00,9,   -999.0,1,-999.000,9,   2292.4,2,   2384.9,2,     7.55,2,19078.7,-999.0000,-999.000,-999.000,  2.2127,-999.000
   318MWESTW_5,  P21W,   259,  1,     10, SI9412,2,19940614,1607,-18.9167, 164.0000, 3510,   2109.2,   2.1829,  34.6534,2,  34.6549,2,    151.6,2,    154.5,2,   113.14,2,    35.28,2,     0.01,2,     2.45,2, -999.000,9, -999.000,9, -999.000,1,-999.0000,1,  -999.00,9,   -999.0,1,-999.000,9,   2295.9,2,   2390.2,2,     7.56,2,21036.6,-999.0000,-999.000,-999.000,  2.0342,-999.000
   318MWESTW_5,  P21W,   259,  1,      8, SI9422,2,19940614,1607,-18.9167, 164.0000, 3510,   2309.3,   2.0858,  34.6638,2,  34.6635,2,    153.1,2,    154.1,2,   114.96,2,    35.20,2,     0.01,2,     2.45,2, -999.000,9, -999.000,9, -999.000,1,-999.0000,1,  -999.00,9,   -999.0,1,-999.000,9,   2295.4,2,   2390.9,2,     7.56,2,23025.8,-999.0000,-999.000,-999.000,  1.9211,-999.000
   318MWESTW_5,  P21W,   259,  1,      7, SI9407,2,19940614,1607,-18.9167, 164.0000, 3510,   2503.7,   1.9676,  34.6704,2,  34.6716,2,    154.7,2,    155.7,2,   118.17,2,    35.04,2,     0.00,2,     2.45,2, -999.000,9, -999.000,9, -999.000,1,-999.0000,1,  -999.00,9,   -999.0,1,-999.000,9,   2299.0,2,   2392.9,2,     7.56,2,24957.8,-999.0000,-999.000,-999.000,  1.7875,-999.000
   318MWESTW_5,  P21W,   259,  1,      6, SI9427,2,19940614,1607,-18.9167, 164.0000, 3510,   2706.7,   1.8890,  34.6765,2,  34.6783,2,    155.5,2,    157.1,2,   119.99,2,    34.96,2,     0.00,2,     2.44,2,    0.001,2,    0.001,2, -999.000,1,-999.0000,1,  -999.00,9,   -999.0,1,-999.000,9,   2301.2,2,   2410.0,3,     7.57,2,26976.4,-999.0000,-999.000,-999.000,  1.6917,-999.000
   318MWESTW_5,  P21W,   259,  1,      5, SI9405,2,19940614,1607,-18.9167, 164.0000, 3510,   2909.5,   1.8592,  34.6806,2,  34.6808,2,    156.5,2,    157.9,2,   120.98,2,    34.91,2,     0.01,2,     2.42,2, -999.000,9, -999.000,9, -999.000,1,-999.0000,1,  -999.00,9,   -999.0,1,-999.000,9,   2301.5,2,   2413.7,3,     7.57,2,28992.2,-999.0000,-999.000,-999.000,  1.6432,-999.000
   318MWESTW_5,  P21W,   259,  1,      4, SI9404,2,19940614,1607,-18.9167, 164.0000, 3510,   3110.6,   1.8328,  34.6820,2,  34.6838,2,    157.2,2,    163.4,4,   122.24,2,    35.02,2,     0.01,2,     2.42,2, -999.000,9, -999.000,9, -999.000,1,-999.0000,1,  -999.00,9,   -999.0,1,-999.000,9,   2303.3,2,   2396.9,2,     7.57,2,30991.8,-999.0000,-999.000,-999.000,  1.5978,-999.000
   318MWESTW_5,  P21W,   259,  1,      3, SI9403,2,19940614,1607,-18.9167, 164.0000, 3510,   3306.8,   1.8308,  34.6840,2,  34.6840,2,    157.7,2,    158.4,2,   122.81,2,    35.03,2,     0.01,2,     2.43,2, -999.000,9, -999.000,9, -999.000,1,-999.0000,1,  -999.00,9,   -999.0,1,-999.000,9,   2304.0,2,   2398.5,2,     7.57,2,32941.6,-999.0000,-999.000,-999.000,  1.5762,-999.000
   318MWESTW_5,  P21W,   259,  1,      2, SI9437,2,19940614,1607,-18.9167, 164.0000, 3510,   3478.6,   1.8268,  34.6839,2,  34.6846,2,    157.6,2,    158.4,2,   123.65,2,    35.13,2,     0.01,2,     2.43,2, -999.000,9, -999.000,9, -999.000,1,-999.0000,1,  -999.00,9,   -999.0,1,-999.000,9,   2305.5,2,   -999.0,9,     7.57,2,34649.4,-999.0000,-999.000,-999.000,  1.5547,-999.000
   318MWESTW_5,  P21W,   259,  1,      1, SI9401,2,19940614,1607,-18.9167, 164.0000, 3510,   3525.9,   1.8291,  34.6859,2,  34.6844,2,    155.9,2,    164.9,4,   123.81,2,    35.06,2,     0.01,2,     2.42,2,   -0.001,2,    0.001,2, -999.000,1,-999.0000,1,  -999.00,9,   -999.0,1,-999.000,9,   2305.2,2,   -999.0,9,     7.57,2,35119.7,-999.0000,-999.000,-999.000,  1.5520,-999.000