BOTTLE,20010911WHPSIOdm
EXPOCODE,SECT_ID,STNNBR,CASTNO,SAMPNO,BTLNBR,BTLNBR_FLAG_W,DATE,TIME,LATITUDE,LONGITUDE,DEPTH,CTDPRS,CTDTMP,CTDSAL,CTDSAL_FLAG_W,SALNTY,SALNTY_FLAG_W,CTDOXY,CTDOXY_FLAG_W,OXYGEN,OXYGEN_FLAG_W,SILCAT,SILCAT_FLAG_W,NITRAT,NITRAT_FLAG_W,NITRIT,NITRIT_FLAG_W,PHSPHT,PHSPHT_FLAG_W,CFC-11,CFC-11_FLAG_W,CFC-12,CFC-12_FLAG_W,TRITUM,TRITUM_FLAG_W,HELIUM,HELIUM_FLAG_W,DELHE3,DELHE3_FLAG_W,DELC14,DELC14_FLAG_W,NEON,NEON_FLAG_W,TCARBN,TCARBN_FLAG_W,ALKALI,ALKALI_FLAG_W,PH,PH_FLAG_W,CTDRAW,HELIER,DELHER,NEONER,THETA,TRITER
,,,,,,,,,,,,DBAR,ITS-90,PSS-78,,PSS-78,,UMOL/KG,,UMOL/KG,,UMOL/KG,,UMOL/KG,,UMOL/KG,,UMOL/KG,,PMOL/KG,,PMOL/KG,,TU,,UMOL/KG,,PERCNT,,/MILLE,,NMOL/KG,,UMOL/KG,,UMOL/KG,,,,,NMOL/KG,PERCNT,NMOL/KG,ITS-90,TU
   318MWESTW_4,  P21E,   154,  1,     24, SI9404,2,19940511,1559,-17.5000,-147.1667, 4040,     24.3,  28.4715,  35.9800,2,  35.9797,2,    204.5,2,    204.7,2,     0.54,2,    -0.03,2,     0.01,2,     0.19,2,    1.614,2,    0.919,2, -999.000,1,-999.0000,1,  -999.00,9,   -999.0,1,-999.000,9,   -999.0,9,   -999.0,9,  -999.00,9,  291.2,-999.0000,-999.000,-999.000, 28.4657,-999.000
   318MWESTW_4,  P21E,   154,  1,     23, SI9405,3,19940511,1559,-17.5000,-147.1667, 4040,     52.5,  27.9590,  36.2088,2,  36.1692,4,    210.4,2,   -999.0,9,  -999.00,9,  -999.00,9,  -999.00,9,  -999.00,9, -999.000,9, -999.000,9, -999.000,1,-999.0000,1,  -999.00,9,   -999.0,1,-999.000,9,   -999.0,9,   -999.0,9,  -999.00,9,  573.2,-999.0000,-999.000,-999.000, 27.9466,-999.000
   318MWESTW_4,  P21E,   154,  1,     22, SI9407,2,19940511,1559,-17.5000,-147.1667, 4040,    110.2,  25.0891,  36.2000,2,  36.2101,2,    203.4,2,    208.2,2,     0.29,2,     0.02,2,     0.00,2,     0.21,2,    1.850,2,    1.044,2, -999.000,1,-999.0000,1,  -999.00,9,   -999.0,1,-999.000,9,   -999.0,9,   -999.0,9,  -999.00,9, 1147.9,-999.0000,-999.000,-999.000, 25.0650,-999.000
   318MWESTW_4,  P21E,   154,  1,     21, SI9408,2,19940511,1559,-17.5000,-147.1667, 4040,    143.7,  23.9608,  36.1462,2,  36.1456,2,    194.6,2,    197.7,2,     0.35,2,     0.07,2,     0.12,2,     0.26,2,    1.872,2,    1.028,2, -999.000,1,-999.0000,1,  -999.00,9,   -999.0,1,-999.000,9,   -999.0,9,   -999.0,9,  -999.00,9, 1482.0,-999.0000,-999.000,-999.000, 23.9304,-999.000
   318MWESTW_4,  P21E,   154,  1,     20, SI9409,2,19940511,1559,-17.5000,-147.1667, 4040,    200.1,  22.0604,  35.9882,2,  35.9920,2,    186.1,2,    183.1,2,     0.57,2,     1.91,2,     0.04,2,     0.39,2,    1.911,2,    1.042,2, -999.000,1,-999.0000,1,  -999.00,9,   -999.0,1,-999.000,9,   -999.0,9,   -999.0,9,  -999.00,9, 2044.7,-999.0000,-999.000,-999.000, 22.0205,-999.000
   318MWESTW_4,  P21E,   154,  1,     19, SI9411,2,19940511,1559,-17.5000,-147.1667, 4040,    249.9,  19.6805,  35.7054,2,  35.7088,2,    182.6,2,    181.3,2,     0.78,2,     3.82,2,     0.02,2,     0.50,2,    1.854,2,    1.014,2, -999.000,1,-999.0000,1,  -999.00,9,   -999.0,1,-999.000,9,   -999.0,9,   -999.0,9,  -999.00,9, 2540.9,-999.0000,-999.000,-999.000, 19.6346,-999.000
   318MWESTW_4,  P21E,   154,  1,     18, SI9413,2,19940511,1559,-17.5000,-147.1667, 4040,    300.0,  17.0376,  35.3581,2,  35.3524,2,    180.9,2,    176.8,2,     1.91,2,     6.59,2,     0.02,2,     0.68,2,    1.699,2,    0.884,2, -999.000,1,-999.0000,1,  -999.00,9,   -999.0,1,-999.000,9,   -999.0,9,   -999.0,9,  -999.00,9, 3039.5,-999.0000,-999.000,-999.000, 16.9878,-999.000
   318MWESTW_4,  P21E,   154,  1,     17, SI9415,2,19940511,1559,-17.5000,-147.1667, 4040,    399.9,  12.8328,  34.8701,2,  34.8762,2,    167.3,2,    167.4,2,     5.36,2,    13.89,2,     0.01,2,     1.16,2,    1.191,2,    0.595,2, -999.000,1,-999.0000,1,  -999.00,9,   -999.0,1,-999.000,9,   -999.0,9,   -999.0,9,  -999.00,9, 4034.0,-999.0000,-999.000,-999.000, 12.7779,-999.000
   318MWESTW_4,  P21E,   154,  1,     16, SI9416,2,19940511,1559,-17.5000,-147.1667, 4040,    499.5,   8.4601,  34.4944,2,  34.4981,2,    151.2,2,    154.7,2,    13.85,2,    25.13,2,     0.00,2,     1.86,2,    0.478,6,    0.246,6, -999.000,1,-999.0000,1,  -999.00,9,   -999.0,1,-999.000,9,   -999.0,9,   -999.0,9,  -999.00,9, 5024.1,-999.0000,-999.000,-999.000,  8.4072,-999.000
   318MWESTW_4,  P21E,   154,  1,     15, SI9417,2,19940511,1559,-17.5000,-147.1667, 4040,    595.3,   6.9513,  34.4426,2,  34.4410,2,    148.5,2,    146.9,2,    22.81,2,    29.95,2,     0.01,2,     2.14,2,    0.176,2,    0.098,2, -999.000,1,-999.0000,1,  -999.00,9,   -999.0,1,-999.000,9,   -999.0,9,   -999.0,9,  -999.00,9, 5977.3,-999.0000,-999.000,-999.000,  6.8947,-999.000
   318MWESTW_4,  P21E,   154,  1,     14, SI9419,2,19940511,1559,-17.5000,-147.1667, 4040,    697.8,   5.7616,  34.4466,2,  34.4453,2,    144.4,2,    144.1,2,    36.52,2,    32.77,2,     0.01,2,     2.31,2,    0.045,2,    0.029,2, -999.000,1,-999.0000,1,  -999.00,9,   -999.0,1,-999.000,9,   -999.0,9,   -999.0,9,  -999.00,9, 6996.4,-999.0000,-999.000,-999.000,  5.7010,-999.000
   318MWESTW_4,  P21E,   154,  1,     13, SI9420,2,19940511,1559,-17.5000,-147.1667, 4040,    861.6,   4.6954,  34.4666,2,  34.4656,2,    144.6,2,    144.8,2,    53.14,2,    34.39,2,     0.00,2,     2.40,2,    0.010,2,    0.019,2,   -0.002,2,-999.0000,1,  -999.00,9,   -999.0,1,-999.000,9,   -999.0,9,   -999.0,9,  -999.00,9, 8624.4,-999.0000,-999.000,-999.000,  4.6265,   0.004
   318MWESTW_4,  P21E,   154,  1,     12, SI9421,2,19940511,1559,-17.5000,-147.1667, 4040,   1109.8,   3.5838,  34.5242,2,  34.5237,2,    143.6,2,    143.8,2,    76.97,2,    35.48,2,     0.00,2,     2.48,2,    0.000,2,    0.004,2, -999.000,1,-999.0000,1,  -999.00,9,   -999.0,1,-999.000,9,   -999.0,9,   -999.0,9,  -999.00,9,11092.0,-999.0000,-999.000,-999.000,  3.5024,-999.000
   318MWESTW_4,  P21E,   154,  1,     11, SI9423,2,19940511,1559,-17.5000,-147.1667, 4040,   1404.0,   2.9165,  34.5711,2,  34.5700,2,    145.7,2,    145.8,2,    93.59,2,    35.73,2,     0.00,2,     2.50,2,   -0.002,2,    0.000,2,   -0.001,2,-999.0000,1,  -999.00,9,   -999.0,1,-999.000,9,   -999.0,9,   -999.0,9,  -999.00,9,14017.1,-999.0000,-999.000,-999.000,  2.8175,   0.004
   318MWESTW_4,  P21E,   154,  1,     10, SI9425,2,19940511,1559,-17.5000,-147.1667, 4040,   1703.5,   2.4790,  34.6045,2,  34.6050,2,    148.2,2,    148.6,2,   105.14,2,    35.72,2,     0.01,2,     2.50,2,   -0.003,2,   -0.004,2, -999.000,1,-999.0000,1,  -999.00,9,   -999.0,1,-999.000,9,   -999.0,9,   -999.0,9,  -999.00,9,16994.8,-999.0000,-999.000,-999.000,  2.3606,-999.000
   318MWESTW_4,  P21E,   154,  1,      9, SI9424,2,19940511,1559,-17.5000,-147.1667, 4040,   2000.5,   2.1265,  34.6332,2,  34.6329,2,    152.4,2,    153.2,2,   114.09,2,    35.55,2,     0.02,2,     2.48,2, -999.000,9, -999.000,9,    0.006,2,   1.9124,2,    25.33,2,   -999.0,1,   8.097,2,   -999.0,9,   -999.0,9,  -999.00,9,19947.5,  0.0096,   0.100,   0.040,  1.9881,   0.004
   318MWESTW_4,  P21E,   154,  1,      8, SI9428,2,19940511,1559,-17.5000,-147.1667, 4040,   2300.6,   1.9430,  34.6507,2,  34.6494,2,    155.1,2,    155.5,2,   118.91,2,    35.39,2,     0.02,2,     2.47,2, -999.000,9, -999.000,9, -999.000,1,-999.0000,1,  -999.00,9,   -999.0,1,-999.000,9,   -999.0,9,   -999.0,9,  -999.00,9,22931.4,-999.0000,-999.000,-999.000,  1.7816,-999.000
   318MWESTW_4,  P21E,   154,  1,      7, SI9429,2,19940511,1559,-17.5000,-147.1667, 4040,   2640.7,   1.8095,  34.6626,2,  34.6629,2,    157.1,2,    157.4,2,   123.25,2,    35.33,2,     0.00,2,     2.46,2, -999.000,9, -999.000,9, -999.000,1,   1.9195,2,    25.82,2,   -999.0,1,   8.125,2,   -999.0,9,   -999.0,9,  -999.00,9,26312.1,  0.0096,   0.100,   0.041,  1.6199,-999.000
   318MWESTW_4,  P21E,   154,  1,      6, SI9431,2,19940511,1559,-17.5000,-147.1667, 4040,   3004.2,   1.6873,  34.6737,2,  34.6732,2,    163.7,2,    163.1,2,   124.39,2,    35.01,2,     0.00,2,     2.43,2, -999.000,9, -999.000,9, -999.000,1,   1.9093,2,    23.62,2,   -999.0,1,   8.100,2,   -999.0,9,   -999.0,9,  -999.00,9,29926.5,  0.0095,   0.100,   0.040,  1.4660,-999.000
   318MWESTW_4,  P21E,   154,  1,      5, SI9432,2,19940511,1559,-17.5000,-147.1667, 4040,   3350.3,   1.5663,  34.6829,2,  34.6824,2,    170.7,2,    170.2,2,   123.99,2,    34.43,2,     0.02,2,     2.39,2, -999.000,9, -999.000,9, -999.000,1,-999.0000,1,  -999.00,9,   -999.0,1,-999.000,9,   -999.0,9,   -999.0,9,  -999.00,9,33366.7,-999.0000,-999.000,-999.000,  1.3137,-999.000
   318MWESTW_4,  P21E,   154,  1,      4, SI9433,2,19940511,1559,-17.5000,-147.1667, 4040,   3646.5,   1.4829,  34.6897,2,  34.6891,2,    177.1,2,    176.5,2,   122.97,2,    34.00,2,     0.01,2,     2.37,2, -999.000,9, -999.000,9,    0.002,2,   1.9008,2,    18.23,2,   -999.0,1,   8.125,2,   -999.0,9,   -999.0,9,  -999.00,9,36311.2,  0.0095,   0.100,   0.041,  1.2021,   0.004
   318MWESTW_4,  P21E,   154,  1,      3, SI9435,2,19940511,1559,-17.5000,-147.1667, 4040,   3941.5,   1.4744,  34.6922,2,  34.6926,2,    179.4,2,    178.7,2,   122.57,2,    33.79,2,     0.02,2,     2.36,2, -999.000,9, -999.000,9, -999.000,1,-999.0000,1,  -999.00,9,   -999.0,1,-999.000,9,   -999.0,9,   -999.0,9,  -999.00,9,39244.5,-999.0000,-999.000,-999.000,  1.1625,-999.000
   318MWESTW_4,  P21E,   154,  1,      2, SI9401,2,19940511,1559,-17.5000,-147.1667, 4040,   4035.5,   1.4759,  34.6920,2,  34.6924,2,    180.9,2,    179.2,2,   122.63,2,    33.85,2,     0.01,2,     2.35,2, -999.000,9, -999.000,9,   -0.001,2,   1.8856,2,    17.42,2,   -999.0,1,   8.089,2,   -999.0,9,   -999.0,9,  -999.00,9,40179.1,  0.0094,   0.100,   0.040,  1.1538,   0.004
   318MWESTW_4,  P21E,   154,  1,      1, SI9403,2,19940511,1559,-17.5000,-147.1667, 4040,   4036.0,   1.4759,  34.6924,2,  34.6908,2,    180.9,2,    179.2,2,   122.50,2,    33.77,2,     0.01,2,     2.35,2, -999.000,9, -999.000,9,    0.002,2,   1.8943,2,    17.38,2,   -999.0,1,   8.119,2,   -999.0,9,   -999.0,9,  -999.00,9,40183.5,  0.0095,   0.100,   0.041,  1.1537,   0.004
   318MWESTW_4,  P21E,   155,  1,     24, SI9404,2,19940511,2251,-17.5000,-147.8333, 3918,     24.0,  28.8327,  35.8342,2,  35.8335,2,    196.7,2,    209.8,2,     0.67,2,     0.05,2,     0.00,2,     0.21,2,    1.659,2,    0.903,2, -999.000,1,-999.0000,1,  -999.00,9,   -999.0,1,-999.000,9,   1973.7,2,   2352.0,2,     8.22,2,  289.6,-999.0000,-999.000,-999.000, 28.8269,-999.000
   318MWESTW_4,  P21E,   155,  1,     23, SI9405,2,19940511,2251,-17.5000,-147.8333, 3918,     49.0,  28.8222,  35.8357,2,  35.8360,2,    200.6,2,    208.3,2,     0.73,2,     0.00,2,     0.00,2,     0.21,2,    1.587,2,    0.905,2, -999.000,1,-999.0000,1,  -999.00,9,   -999.0,1,-999.000,9,   1973.7,2,   2349.0,2,     8.22,2,  538.7,-999.0000,-999.000,-999.000, 28.8104,-999.000
   318MWESTW_4,  P21E,   155,  1,     22, SI9407,2,19940511,2251,-17.5000,-147.8333, 3918,     96.4,  26.4116,  36.2318,2,  36.2349,2,    213.7,2,    222.0,2,     0.49,2,     0.01,2,     0.01,2,     0.20,2,    1.851,2,    1.117,3, -999.000,1,-999.0000,1,  -999.00,9,   -999.0,1,-999.000,9,   2012.7,2,   2376.0,2,     8.20,2, 1011.6,-999.0000,-999.000,-999.000, 26.3897,-999.000
   318MWESTW_4,  P21E,   155,  1,     21, SI9422,3,19940511,2251,-17.5000,-147.8333, 3918,    148.6,  24.0322,  36.1010,2,  36.1070,2,    203.8,2,    206.8,2,     0.55,2,     0.06,2,     0.12,2,     0.23,2,    1.898,2,    1.048,2, -999.000,1,-999.0000,1,  -999.00,9,   -999.0,1,-999.000,9,   2026.7,2,   2369.0,2,     8.15,2, 1531.9,-999.0000,-999.000,-999.000, 24.0007,-999.000
   318MWESTW_4,  P21E,   155,  1,     20, SI9410,2,19940511,2251,-17.5000,-147.8333, 3918,    200.1,  21.2615,  35.8697,2,  35.8736,2,    192.3,2,    183.1,2,     0.61,2,     2.26,2,     0.01,2,     0.37,2,    1.971,2,    1.061,2, -999.000,1,-999.0000,1,  -999.00,9,   -999.0,1,-999.000,9,   2058.8,2,   2348.0,2,     8.09,2, 2044.4,-999.0000,-999.000,-999.000, 21.2227,-999.000
   318MWESTW_4,  P21E,   155,  1,     19, SI9411,2,19940511,2251,-17.5000,-147.8333, 3918,    251.7,  19.1352,  35.6200,2,  35.6263,2,    189.8,2,    185.8,2,     0.98,2,     3.70,2,     0.01,2,     0.47,2,    1.922,2,    1.025,2, -999.000,1,-999.0000,1,  -999.00,9,   -999.0,1,-999.000,9,   2068.8,2,   2335.0,2,     8.04,2, 2558.4,-999.0000,-999.000,-999.000, 19.0899,-999.000
   318MWESTW_4,  P21E,   155,  1,     18, SI9413,2,19940511,2251,-17.5000,-147.8333, 3918,    297.9,  17.4214,  35.4071,2,  35.4034,2,    180.1,2,    178.5,2,     1.65,2,     5.83,2,     0.01,2,     0.61,2,    1.780,2,    0.931,2, -999.000,1,-999.0000,1,  -999.00,9,   -999.0,1,-999.000,9,   2081.8,2,   2319.0,2,     8.00,2, 3018.6,-999.0000,-999.000,-999.000, 17.3711,-999.000
   318MWESTW_4,  P21E,   155,  1,     17, SI9415,2,19940511,2251,-17.5000,-147.8333, 3918,    395.8,  12.0382,  34.7900,2,  34.7872,2,    160.7,2,    161.6,2,     6.92,2,    16.05,2,     0.00,2,     1.29,2,    1.046,6,    0.524,6, -999.000,1,-999.0000,1,  -999.00,9,   -999.0,1,-999.000,9,   2127.8,2,   2287.0,2,     7.84,2, 3992.9,-999.0000,-999.000,-999.000, 11.9861,-999.000
   318MWESTW_4,  P21E,   155,  1,     16, SI9416,2,19940511,2251,-17.5000,-147.8333, 3918,    497.1,   8.3312,  34.4829,2,  34.4860,2,    155.9,2,    157.2,2,    13.72,2,    25.12,2,     0.00,2,     1.84,2,    0.487,2,    0.250,2, -999.000,1,-999.0000,1,  -999.00,9,   -999.0,1,-999.000,9,   2169.9,2,   2279.0,2,     7.73,2, 4999.9,-999.0000,-999.000,-999.000,  8.2791,-999.000
   318MWESTW_4,  P21E,   155,  1,     15, SI9417,2,19940511,2251,-17.5000,-147.8333, 3918,    598.0,   6.7364,  34.4296,2,  34.4281,2,    146.9,2,    151.0,2,    23.28,2,    30.02,2,     0.00,2,     2.12,2,    0.164,2,    0.088,2, -999.000,1,-999.0000,1,  -999.00,9,   -999.0,1,-999.000,9,   2196.9,2,   2288.0,2,     7.67,2, 6003.4,-999.0000,-999.000,-999.000,  6.6805,-999.000
   318MWESTW_4,  P21E,   155,  1,     14, SI9419,2,19940511,2251,-17.5000,-147.8333, 3918,    702.5,   5.7422,  34.4443,2,  34.4420,2,    143.7,2,    144.6,2,    36.36,2,    32.67,2,     0.00,2,     2.28,2,    0.047,2,    0.018,2, -999.000,1,-999.0000,1,  -999.00,9,   -999.0,1,-999.000,9,   2216.9,2,   2299.0,2,     7.65,2, 7042.7,-999.0000,-999.000,-999.000,  5.6813,-999.000
   318MWESTW_4,  P21E,   155,  1,     13, SI9420,2,19940511,2251,-17.5000,-147.8333, 3918,    901.7,   4.3304,  34.4781,2,  34.4771,2,    144.9,2,    145.0,2,    59.69,2,    34.59,2,     0.00,2,     2.41,2, -999.000,9, -999.000,9, -999.000,1,-999.0000,1,  -999.00,9,   -999.0,1,-999.000,9,   2244.9,2,   2326.0,2,     7.63,2, 9023.7,-999.0000,-999.000,-999.000,  4.2606,-999.000
   318MWESTW_4,  P21E,   155,  1,     12, SI9421,2,19940511,2251,-17.5000,-147.8333, 3918,   1103.0,   3.4996,  34.5295,2,  34.5282,2,    144.3,2,    143.8,2,    78.58,2,    35.35,2,     0.00,2,     2.47,2,    0.001,2,    0.001,2, -999.000,1,-999.0000,1,  -999.00,9,   -999.0,1,-999.000,9,   2267.0,2,   2343.0,2,     7.62,2,11024.6,-999.0000,-999.000,-999.000,  3.4195,-999.000
   318MWESTW_4,  P21E,   155,  1,     11, SI9423,2,19940511,2251,-17.5000,-147.8333, 3918,   1404.6,   2.8612,  34.5730,2,  34.5726,2,    145.6,2,    146.0,2,    94.41,2,    35.58,2,     0.00,2,     2.49,2,    0.002,2,   -0.003,2, -999.000,1,-999.0000,1,  -999.00,9,   -999.0,1,-999.000,9,   2283.0,2,   2364.0,2,     7.63,2,14023.4,-999.0000,-999.000,-999.000,  2.7628,-999.000
   318MWESTW_4,  P21E,   155,  1,     10, SI9425,2,19940511,2251,-17.5000,-147.8333, 3918,   1704.1,   2.4403,  34.6067,2,  34.6069,2,    147.7,2,    148.9,2,   105.64,2,    35.58,2,     0.00,2,     2.49,2,    0.000,2,   -0.003,2, -999.000,1,-999.0000,1,  -999.00,9,   -999.0,1,-999.000,9,   2294.0,2,   2361.0,3,     7.64,2,17000.8,-999.0000,-999.000,-999.000,  2.3223,-999.000
   318MWESTW_4,  P21E,   155,  1,      9, SI9424,2,19940511,2251,-17.5000,-147.8333, 3918,   2004.0,   2.1393,  34.6330,2,  34.6484,4,    151.1,2,    151.0,2,   113.66,2,    35.46,2,    -0.01,2,     2.47,2, -999.000,9, -999.000,9, -999.000,1,-999.0000,1,  -999.00,9,   -999.0,1,-999.000,9,   2300.0,2,   2372.0,3,     7.64,2,19982.4,-999.0000,-999.000,-999.000,  2.0004,-999.000
   318MWESTW_4,  P21E,   155,  1,      8, SI9428,2,19940511,2251,-17.5000,-147.8333, 3918,   2302.4,   1.9648,  34.6489,2,  34.6484,2,    153.2,2,    153.8,2,   118.76,2,    35.37,2,     0.00,2,     2.46,2, -999.000,9, -999.000,9, -999.000,1,-999.0000,1,  -999.00,9,   -999.0,1,-999.000,9,   2303.0,2,   2391.0,2,     7.63,2,22949.5,-999.0000,-999.000,-999.000,  1.8029,-999.000
   318MWESTW_4,  P21E,   155,  1,      7, SI9429,2,19940511,2251,-17.5000,-147.8333, 3918,   2598.1,   1.8440,  34.6592,2,  34.6592,2,    156.9,2,    157.1,2,   121.57,2,    35.13,2,     0.00,2,     2.45,2, -999.000,9, -999.000,9, -999.000,1,-999.0000,1,  -999.00,9,   -999.0,1,-999.000,9,   2304.0,2,   2392.0,2,     7.64,2,25889.2,-999.0000,-999.000,-999.000,  1.6577,-999.000
   318MWESTW_4,  P21E,   155,  1,      6, SI9431,2,19940511,2251,-17.5000,-147.8333, 3918,   2896.1,   1.7240,  34.6699,2,  34.6702,2,    160.4,2,    161.6,2,   123.31,2,    34.85,2,    -0.01,2,     2.42,2, -999.000,9, -999.000,9, -999.000,1,-999.0000,1,  -999.00,9,   -999.0,1,-999.000,9,   2304.0,2,   2393.0,2,     7.65,2,28851.8,-999.0000,-999.000,-999.000,  1.5123,-999.000
   318MWESTW_4,  P21E,   155,  1,      5, SI9432,2,19940511,2251,-17.5000,-147.8333, 3918,   3194.4,   1.5911,  34.6799,2,  34.6796,2,    168.3,2,    168.5,2,   123.36,2,    34.40,2,     0.00,2,     2.38,2, -999.000,9, -999.000,9, -999.000,1,-999.0000,1,  -999.00,9,   -999.0,1,-999.000,9,   2299.0,2,   2388.0,2,     7.66,2,31816.7,-999.0000,-999.000,-999.000,  1.3534,-999.000
   318MWESTW_4,  P21E,   155,  1,      4, SI9433,2,19940511,2251,-17.5000,-147.8333, 3918,   3497.1,   1.4981,  34.6881,2,  34.6865,2,    173.5,2,    174.4,2,   123.12,2,    33.96,2,    -0.01,2,     2.36,2, -999.000,9, -999.000,9, -999.000,1,-999.0000,1,  -999.00,9,   -999.0,1,-999.000,9,   2294.0,2,   2384.0,2,     7.66,2,34825.8,-999.0000,-999.000,-999.000,  1.2323,-999.000
   318MWESTW_4,  P21E,   155,  1,      3, SI9435,2,19940511,2251,-17.5000,-147.8333, 3918,   3844.9,   1.4684,  34.6921,2,  34.6908,2,    179.1,2,    177.9,2,   122.56,2,    33.67,2,    -0.01,2,     2.33,2, -999.000,9, -999.000,9, -999.000,1,-999.0000,1,  -999.00,9,   -999.0,1,-999.000,9,   2292.0,2,   2385.0,2,     7.67,2,38283.7,-999.0000,-999.000,-999.000,  1.1670,-999.000
   318MWESTW_4,  P21E,   155,  1,      2, SI9401,2,19940511,2251,-17.5000,-147.8333, 3918,   3926.8,   1.4655,  34.6931,2,  34.6910,2,    178.9,2,    179.0,2,   122.46,2,    33.68,2,    -0.02,2,     2.34,2, -999.000,9, -999.000,9, -999.000,1,-999.0000,1,  -999.00,9,   -999.0,1,-999.000,9,   2291.0,2,   2382.0,2,     7.67,2,39097.9,-999.0000,-999.000,-999.000,  1.1554,-999.000
   318MWESTW_4,  P21E,   155,  1,      1, SI9403,2,19940511,2251,-17.5000,-147.8333, 3918,   3929.4,   1.4657,  34.6932,2,  34.6920,2,    179.0,2,    179.5,2,   122.34,2,    33.69,2,    -0.01,2,     2.35,2, -999.000,9, -999.000,9, -999.000,1,-999.0000,1,  -999.00,9,   -999.0,1,-999.000,9,   2290.0,2,   2384.0,2,     7.66,2,39124.2,-999.0000,-999.000,-999.000,  1.1553,-999.000