BOTTLE,20010911WHPSIOdm
EXPOCODE,SECT_ID,STNNBR,CASTNO,SAMPNO,BTLNBR,BTLNBR_FLAG_W,DATE,TIME,LATITUDE,LONGITUDE,DEPTH,CTDPRS,CTDTMP,CTDSAL,CTDSAL_FLAG_W,SALNTY,SALNTY_FLAG_W,CTDOXY,CTDOXY_FLAG_W,OXYGEN,OXYGEN_FLAG_W,SILCAT,SILCAT_FLAG_W,NITRAT,NITRAT_FLAG_W,NITRIT,NITRIT_FLAG_W,PHSPHT,PHSPHT_FLAG_W,CFC-11,CFC-11_FLAG_W,CFC-12,CFC-12_FLAG_W,TRITUM,TRITUM_FLAG_W,HELIUM,HELIUM_FLAG_W,DELHE3,DELHE3_FLAG_W,DELC14,DELC14_FLAG_W,NEON,NEON_FLAG_W,TCARBN,TCARBN_FLAG_W,ALKALI,ALKALI_FLAG_W,PH,PH_FLAG_W,CTDRAW,HELIER,DELHER,NEONER,THETA,TRITER
,,,,,,,,,,,,DBAR,ITS-90,PSS-78,,PSS-78,,UMOL/KG,,UMOL/KG,,UMOL/KG,,UMOL/KG,,UMOL/KG,,UMOL/KG,,PMOL/KG,,PMOL/KG,,TU,,UMOL/KG,,PERCNT,,/MILLE,,NMOL/KG,,UMOL/KG,,UMOL/KG,,,,,NMOL/KG,PERCNT,NMOL/KG,ITS-90,TU
   318MWESTW_5,  P21W,   227,  1,     24, SI9434,2,19940607,2204,-17.8362, 175.0000, 2100,      5.6,  25.6669,  34.8219,2,  34.8218,2,    209.4,2,    209.4,2,     0.62,2,     0.06,2,     0.01,2,     0.13,2,    1.731,2,    0.979,2, -999.000,1,-999.0000,1,  -999.00,9,   -999.0,1,-999.000,9,   -999.0,9,   -999.0,9,  -999.00,9,  115.1,-999.0000,-999.000,-999.000, 25.6657,-999.000
   318MWESTW_5,  P21W,   227,  1,     23, SI9423,2,19940607,2204,-17.8362, 175.0000, 2100,     26.4,  25.6735,  34.8234,2,  34.8218,2,    212.1,2,    208.8,2,     0.64,2,     0.02,2,     0.00,2,     0.13,2,    1.743,2,    0.975,2, -999.000,1,-999.0000,1,  -999.00,9,   -999.0,1,-999.000,9,   -999.0,9,   -999.0,9,  -999.00,9,  323.2,-999.0000,-999.000,-999.000, 25.6677,-999.000
   318MWESTW_5,  P21W,   227,  1,     22, SI9418,2,19940607,2204,-17.8362, 175.0000, 2100,     45.3,  25.6801,  34.8249,2,  34.8261,2,    210.0,2,    205.7,2,     0.65,2,    -0.01,2,     0.01,2,     0.12,2, -999.000,9, -999.000,9, -999.000,1,-999.0000,1,  -999.00,9,   -999.0,1,-999.000,9,   -999.0,9,   -999.0,9,  -999.00,9,  511.6,-999.0000,-999.000,-999.000, 25.6701,-999.000
   318MWESTW_5,  P21W,   227,  1,     21, SI9421,2,19940607,2204,-17.8362, 175.0000, 2100,     96.8,  23.9671,  35.6359,2,  35.6423,2,    185.6,2,    194.5,2,     0.67,2,     0.21,2,     0.12,2,     0.23,2,    1.867,2,    1.020,2, -999.000,1,-999.0000,1,  -999.00,9,   -999.0,1,-999.000,9,   -999.0,9,   -999.0,9,  -999.00,9, 1024.0,-999.0000,-999.000,-999.000, 23.9467,-999.000
   318MWESTW_5,  P21W,   227,  1,     20, SI9420,2,19940607,2204,-17.8362, 175.0000, 2100,    148.0,  21.8633,  35.7874,2,  35.7888,2,    180.5,2,    178.0,2,     0.84,2,     3.08,2,     0.02,2,     0.37,2,    1.905,2,    1.038,2, -999.000,1,-999.0000,1,  -999.00,9,   -999.0,1,-999.000,9,   -999.0,9,   -999.0,9,  -999.00,9, 1534.6,-999.0000,-999.000,-999.000, 21.8340,-999.000
   318MWESTW_5,  P21W,   227,  1,     19, SI9419,2,19940607,2204,-17.8362, 175.0000, 2100,    196.9,  20.3107,  35.7207,2,  35.7213,2,    180.6,2,    175.4,2,     1.15,2,     4.32,2,     0.02,2,     0.44,2,    1.901,2,    1.012,2, -999.000,1,-999.0000,1,  -999.00,9,   -999.0,1,-999.000,9,   -999.0,9,   -999.0,9,  -999.00,9, 2021.1,-999.0000,-999.000,-999.000, 20.2737,-999.000
   318MWESTW_5,  P21W,   227,  1,     18, SI9439,2,19940607,2204,-17.8362, 175.0000, 2100,    248.4,  18.0551,  35.5524,2,  35.5511,2,    177.3,2,    176.7,2,     1.77,2,     6.10,2,     0.02,2,     0.58,2,    1.821,2,    0.963,2, -999.000,1,-999.0000,1,  -999.00,9,   -999.0,1,-999.000,9,   -999.0,9,   -999.0,9,  -999.00,9, 2533.5,-999.0000,-999.000,-999.000, 18.0121,-999.000
   318MWESTW_5,  P21W,   227,  1,     17, SI9417,2,19940607,2204,-17.8362, 175.0000, 2100,    300.8,  16.3370,  35.3977,2,  35.3953,2,    181.9,2,    181.0,2,     2.38,2,     7.66,2,     0.02,2,     0.68,2, -999.000,9, -999.000,9, -999.000,1,-999.0000,1,  -999.00,9,   -999.0,1,-999.000,9,   -999.0,9,   -999.0,9,  -999.00,9, 3055.5,-999.0000,-999.000,-999.000, 16.2884,-999.000
   318MWESTW_5,  P21W,   227,  1,     16, SI9416,2,19940607,2204,-17.8362, 175.0000, 2100,    349.2,  14.2609,  35.1788,2,  35.1790,2,    186.2,2,    181.1,2,     3.74,2,    10.83,2,     0.02,2,     0.89,2,    1.543,2,    0.803,2, -999.000,1,-999.0000,1,  -999.00,9,   -999.0,1,-999.000,9,   -999.0,9,   -999.0,9,  -999.00,9, 3536.5,-999.0000,-999.000,-999.000, 14.2095,-999.000
   318MWESTW_5,  P21W,   227,  1,     15, SI9415,2,19940607,2204,-17.8362, 175.0000, 2100,    398.5,  11.6321,  34.9039,2,  34.9034,2,    185.5,2,    184.7,2,     5.70,2,    15.39,2,     0.01,2,     1.17,2,    1.260,2,    0.645,2, -999.000,1,-999.0000,1,  -999.00,9,   -999.0,1,-999.000,9,   -999.0,9,   -999.0,9,  -999.00,9, 4027.4,-999.0000,-999.000,-999.000, 11.5808,-999.000
   318MWESTW_5,  P21W,   227,  1,     14, SI9436,2,19940607,2204,-17.8362, 175.0000, 2100,    445.2,   9.0890,  34.6235,2,  34.6233,2,    188.4,2,    189.0,2,     9.60,2,    20.57,2,     0.01,2,     1.50,2,    0.776,2,    0.406,2, -999.000,1,-999.0000,1,  -999.00,9,   -999.0,1,-999.000,9,   -999.0,9,   -999.0,9,  -999.00,9, 4492.1,-999.0000,-999.000,-999.000,  9.0399,-999.000
   318MWESTW_5,  P21W,   227,  1,     13, SI9413,2,19940607,2204,-17.8362, 175.0000, 2100,    502.9,   7.3533,  34.4672,2,  34.4614,2,    201.3,2,    206.2,2,    11.26,2,    23.51,2,     0.01,2,     1.65,2,    0.598,2,    0.314,2, -999.000,1,-999.0000,1,  -999.00,9,   -999.0,1,-999.000,9,   -999.0,9,   -999.0,9,  -999.00,9, 5065.1,-999.0000,-999.000,-999.000,  7.3042,-999.000
   318MWESTW_5,  P21W,   227,  1,     12, SI9438,2,19940607,2204,-17.8362, 175.0000, 2100,    608.9,   6.0695,  34.3773,2,  34.3772,2,    202.4,2,    208.3,2,    17.25,2,    26.62,2,     0.03,2,     1.86,2,    0.300,2,    0.168,2, -999.000,1,-999.0000,1,  -999.00,9,   -999.0,1,-999.000,9,   -999.0,9,   -999.0,9,  -999.00,9, 6119.8,-999.0000,-999.000,-999.000,  6.0156,-999.000
   318MWESTW_5,  P21W,   227,  1,     11, SI9411,2,19940607,2204,-17.8362, 175.0000, 2100,    693.5,   5.5168,  34.3658,2,  34.3662,2,    199.5,2,    201.4,2,    23.19,2,    28.46,2,     0.01,2,     1.97,2,    0.176,2,    0.102,2, -999.000,1,-999.0000,1,  -999.00,9,   -999.0,1,-999.000,9,   -999.0,9,   -999.0,9,  -999.00,9, 6961.1,-999.0000,-999.000,-999.000,  5.4580,-999.000
   318MWESTW_5,  P21W,   227,  1,     10, SI9412,2,19940607,2204,-17.8362, 175.0000, 2100,    798.5,   5.0984,  34.3786,2,  34.3788,2,    189.3,2,    189.5,2,    31.16,2,    30.19,2,     0.02,2,     2.10,2,    0.097,2,    0.058,2, -999.000,1,-999.0000,1,  -999.00,9,   -999.0,1,-999.000,9,   -999.0,9,   -999.0,9,  -999.00,9, 8004.8,-999.0000,-999.000,-999.000,  5.0326,-999.000
   318MWESTW_5,  P21W,   227,  1,      9, SI9410,2,19940607,2204,-17.8362, 175.0000, 2100,    910.4,   4.6352,  34.4084,2,  34.4071,2,    177.6,2,    177.6,2,    42.21,2,    31.84,2,     0.02,2,     2.23,2,    0.047,6,    0.027,6, -999.000,1,-999.0000,1,  -999.00,9,   -999.0,1,-999.000,9,   -999.0,9,   -999.0,9,  -999.00,9, 9117.6,-999.0000,-999.000,-999.000,  4.5626,-999.000
   318MWESTW_5,  P21W,   227,  1,      8, SI9422,2,19940607,2204,-17.8362, 175.0000, 2100,    993.8,   4.2388,  34.4408,2,  34.4392,2,    172.8,2,    169.4,2,    52.83,2,    32.81,2,     0.01,2,     2.29,2,    0.025,2,    0.013,2, -999.000,1,-999.0000,1,  -999.00,9,   -999.0,1,-999.000,9,   -999.0,9,   -999.0,9,  -999.00,9, 9946.7,-999.0000,-999.000,-999.000,  4.1619,-999.000
   318MWESTW_5,  P21W,   227,  1,      7, SI9407,2,19940607,2204,-17.8362, 175.0000, 2100,   1096.4,   3.8140,  34.4874,2,  34.4879,2,    160.7,2,    158.6,2,    67.46,2,    33.94,2,     0.01,2,     2.38,2,    0.006,2,    0.005,2, -999.000,1,-999.0000,1,  -999.00,9,   -999.0,1,-999.000,9,   -999.0,9,   -999.0,9,  -999.00,9,10966.0,-999.0000,-999.000,-999.000,  3.7319,-999.000
   318MWESTW_5,  P21W,   227,  1,      6, SI9427,2,19940607,2204,-17.8362, 175.0000, 2100,   1297.7,   3.2747,  34.5390,2,  34.5390,2,    152.7,2,    152.1,2,    84.48,2,    34.78,2,     0.01,2,     2.43,2,    0.000,2,    0.000,2, -999.000,1,-999.0000,1,  -999.00,9,   -999.0,1,-999.000,9,   -999.0,9,   -999.0,9,  -999.00,9,12967.3,-999.0000,-999.000,-999.000,  3.1808,-999.000
   318MWESTW_5,  P21W,   227,  1,      5, SI9405,2,19940607,2204,-17.8362, 175.0000, 2100,   1499.9,   2.8572,  34.5774,2,  34.5769,2,    149.0,2,    148.6,2,    97.62,2,    35.40,2,     0.01,2,     2.49,2,    0.000,2,    0.000,2, -999.000,1,-999.0000,1,  -999.00,9,   -999.0,1,-999.000,9,   -999.0,9,   -999.0,9,  -999.00,9,14977.7,-999.0000,-999.000,-999.000,  2.7510,-999.000
   318MWESTW_5,  P21W,   227,  1,      4, SI9404,2,19940607,2204,-17.8362, 175.0000, 2100,   1690.1,   2.5817,  34.6027,2,  34.6014,2,    147.8,2,    147.6,2,   105.68,2,    35.57,2,     0.02,2,     2.49,2,   -0.001,2,    0.000,2, -999.000,1,-999.0000,1,  -999.00,9,   -999.0,1,-999.000,9,   -999.0,9,   -999.0,9,  -999.00,9,16868.3,-999.0000,-999.000,-999.000,  2.4631,-999.000
   318MWESTW_5,  P21W,   227,  1,      3, SI9403,2,19940607,2204,-17.8362, 175.0000, 2100,   1900.6,   2.2773,  34.6295,2,  34.6288,2,    147.8,2,    148.4,2,   115.25,2,    35.66,2,     0.02,2,     2.50,2, -999.000,9, -999.000,9, -999.000,1,-999.0000,1,  -999.00,9,   -999.0,1,-999.000,9,   -999.0,9,   -999.0,9,  -999.00,9,18960.7,-999.0000,-999.000,-999.000,  2.1451,-999.000
   318MWESTW_5,  P21W,   227,  1,      2, SI9437,2,19940607,2204,-17.8362, 175.0000, 2100,   2052.6,   2.2603,  34.6327,2,  34.6317,2,    147.9,2,    147.8,2,   116.31,2,    35.65,2,     0.02,2,     2.51,2,    0.003,2,   -0.001,2, -999.000,1,-999.0000,1,  -999.00,9,   -999.0,1,-999.000,9,   -999.0,9,   -999.0,9,  -999.00,9,20471.6,-999.0000,-999.000,-999.000,  2.1154,-999.000
   318MWESTW_5,  P21W,   227,  1,      1, SI9401,2,19940607,2204,-17.8362, 175.0000, 2100,   2096.8,   2.1897,  34.6384,2,  34.6362,2,    148.1,2,    181.5,4,   118.41,2,    35.64,2,     0.01,2,     2.50,2,    0.002,2,    0.000,2, -999.000,1,-999.0000,1,  -999.00,9,   -999.0,1,-999.000,9,   -999.0,9,   -999.0,9,  -999.00,9,20910.2,-999.0000,-999.000,-999.000,  2.0420,-999.000