BOTTLE,20010911WHPSIOdm
EXPOCODE,SECT_ID,STNNBR,CASTNO,SAMPNO,BTLNBR,BTLNBR_FLAG_W,DATE,TIME,LATITUDE,LONGITUDE,DEPTH,CTDPRS,CTDTMP,CTDSAL,CTDSAL_FLAG_W,SALNTY,SALNTY_FLAG_W,CTDOXY,CTDOXY_FLAG_W,OXYGEN,OXYGEN_FLAG_W,SILCAT,SILCAT_FLAG_W,NITRAT,NITRAT_FLAG_W,NITRIT,NITRIT_FLAG_W,PHSPHT,PHSPHT_FLAG_W,CFC-11,CFC-11_FLAG_W,CFC-12,CFC-12_FLAG_W,TRITUM,TRITUM_FLAG_W,HELIUM,HELIUM_FLAG_W,DELHE3,DELHE3_FLAG_W,DELC14,DELC14_FLAG_W,NEON,NEON_FLAG_W,TCARBN,TCARBN_FLAG_W,ALKALI,ALKALI_FLAG_W,PH,PH_FLAG_W,CTDRAW,HELIER,DELHER,NEONER,THETA,TRITER
,,,,,,,,,,,,DBAR,ITS-90,PSS-78,,PSS-78,,UMOL/KG,,UMOL/KG,,UMOL/KG,,UMOL/KG,,UMOL/KG,,UMOL/KG,,PMOL/KG,,PMOL/KG,,TU,,UMOL/KG,,PERCNT,,/MILLE,,NMOL/KG,,UMOL/KG,,UMOL/KG,,,,,NMOL/KG,PERCNT,NMOL/KG,ITS-90,TU
   318MWESTW_5,  P21W,   215,  1,     26, SI9414,2,19940605,0747,-18.4138,-179.6667, 2955,      6.4,  25.7369,  35.2526,2,  35.2536,2,    207.9,2,    215.4,2,     0.64,2,     0.08,2,     0.00,2,     0.14,2, -999.000,9, -999.000,9, -999.000,1,-999.0000,1,  -999.00,9,   -999.0,1,-999.000,9,   1951.7,2,   2314.0,2,     8.16,2,  122.0,-999.0000,-999.000,-999.000, 25.7355,-999.000
   318MWESTW_5,  P21W,   215,  1,     25, SI9425,2,19940605,0747,-18.4138,-179.6667, 2955,     19.4,  25.7459,  35.2528,2,  35.2530,2,    208.2,2,    213.6,2,     0.64,2,     0.04,2,     0.00,2,     0.13,2, -999.000,9, -999.000,9, -999.000,1,-999.0000,1,  -999.00,9,   -999.0,1,-999.000,9,   1950.3,2,   2320.2,2,     8.12,2,  251.0,-999.0000,-999.000,-999.000, 25.7416,-999.000
   318MWESTW_5,  P21W,   215,  1,     24, SI9434,2,19940605,0747,-18.4138,-179.6667, 2955,     44.4,  25.7489,  35.2518,2,  35.2544,2,    208.7,2,    216.4,2,     0.65,2,     0.04,2,     0.00,2,     0.13,2,    1.734,2,    0.990,2, -999.000,1,-999.0000,1,  -999.00,9,   -999.0,1,-999.000,9,   1951.8,2,   2314.7,2,     8.12,2,  500.7,-999.0000,-999.000,-999.000, 25.7391,-999.000
   318MWESTW_5,  P21W,   215,  1,     23, SI9423,2,19940605,0747,-18.4138,-179.6667, 2955,     96.1,  24.8215,  35.5719,2,  35.5573,2,    195.4,2,    206.3,2,     0.66,2,     0.16,2,     0.17,2,     0.18,2,    1.839,2,    1.037,2, -999.000,1,-999.0000,1,  -999.00,9,   -999.0,1,-999.000,9,   2029.4,2,   2353.4,2,     8.03,2, 1015.0,-999.0000,-999.000,-999.000, 24.8007,-999.000
   318MWESTW_5,  P21W,   215,  1,     22, SI9418,2,19940605,0747,-18.4138,-179.6667, 2955,    147.1,  22.6715,  35.7495,2,  35.7521,2,    181.7,2,    186.4,2,     0.67,2,     1.88,2,     0.04,2,     0.30,2,    1.908,2,    1.068,2, -999.000,1,-999.0000,1,  -999.00,9,   -999.0,1,-999.000,9,   1990.4,4,   2341.6,2,     8.08,3, 1523.7,-999.0000,-999.000,-999.000, 22.6417,-999.000
   318MWESTW_5,  P21W,   215,  1,     21, SI9421,2,19940605,0747,-18.4138,-179.6667, 2955,    195.6,  21.2302,  35.7528,2,  35.7519,2,    179.5,2,    185.3,2,     0.83,2,     2.68,2,     0.03,2,     0.32,2,    1.981,2,    1.101,2, -999.000,1,-999.0000,1,  -999.00,9,   -999.0,1,-999.000,9,   2041.2,2,   2369.3,2,     8.01,2, 2006.1,-999.0000,-999.000,-999.000, 21.1923,-999.000
   318MWESTW_5,  P21W,   215,  1,     20, SI9420,2,19940605,0747,-18.4138,-179.6667, 2955,    248.4,  19.0759,  35.6513,2,  35.6502,2,    180.7,2,    185.8,2,     0.99,2,     3.92,2,     0.03,2,     0.43,2,    1.979,2,    1.071,2, -999.000,1,-999.0000,1,  -999.00,9,   -999.0,1,-999.000,9,   2061.0,2,   2344.9,2,     7.97,2, 2532.0,-999.0000,-999.000,-999.000, 19.0312,-999.000
   318MWESTW_5,  P21W,   215,  1,     19, SI9419,2,19940605,0747,-18.4138,-179.6667, 2955,    304.7,  17.6479,  35.5431,2,  35.5431,2,    188.4,2,    188.9,2,     1.45,2,     4.99,2,     0.01,2,     0.50,2,    1.960,2,    1.060,2, -999.000,1,-999.0000,1,  -999.00,9,   -999.0,1,-999.000,9,   2069.5,2,   2340.1,2,     7.94,2, 3092.4,-999.0000,-999.000,-999.000, 17.5960,-999.000
   318MWESTW_5,  P21W,   215,  1,     18, SI9439,2,19940605,0747,-18.4138,-179.6667, 2955,    353.1,  15.8510,  35.3074,2,  35.3058,2,    183.7,2,    176.4,2,     2.81,2,     8.70,2,     0.01,2,     0.77,2,    1.612,2,    0.855,2, -999.000,1,-999.0000,1,  -999.00,9,   -999.0,1,-999.000,9,   2092.8,2,   2330.3,2,     7.88,2, 3574.9,-999.0000,-999.000,-999.000, 15.7951,-999.000
   318MWESTW_5,  P21W,   215,  1,     17, SI9417,2,19940605,0747,-18.4138,-179.6667, 2955,    405.4,  13.1794,  35.0139,2,  34.9919,3,    181.8,2,    175.2,2,     5.23,2,    13.52,2,     0.00,2,     1.08,2,    1.248,2,    0.656,2, -999.000,1,-999.0000,1,  -999.00,9,   -999.0,1,-999.000,9,   2115.2,2,   2316.7,2,     7.81,2, 4096.1,-999.0000,-999.000,-999.000, 13.1227,-999.000
   318MWESTW_5,  P21W,   215,  1,     16, SI9416,2,19940605,0747,-18.4138,-179.6667, 2955,    482.5,  10.0797,  34.7002,2,  34.7060,2,    185.3,2,    184.7,2,     7.80,2,    18.67,2,     0.00,2,     1.38,2,    0.924,2,    0.484,2, -999.000,1,-999.0000,1,  -999.00,9,   -999.0,1,-999.000,9,   2133.0,2,   2300.2,2,     7.74,2, 4862.8,-999.0000,-999.000,-999.000, 10.0228,-999.000
   318MWESTW_5,  P21W,   215,  1,     15, SI9415,2,19940605,0747,-18.4138,-179.6667, 2955,    592.5,   7.7952,  34.4971,2,  34.4997,2,    198.5,2,    197.2,2,    11.87,2,    23.26,2,     0.00,2,     1.65,2,    0.600,2,    0.319,2, -999.000,1,-999.0000,1,  -999.00,9,   -999.0,1,-999.000,9,   2149.9,2,   2296.0,2,     7.70,2, 5956.3,-999.0000,-999.000,-999.000,  7.7351,-999.000
   318MWESTW_5,  P21W,   215,  1,     14, SI9436,2,19940605,0747,-18.4138,-179.6667, 2955,    700.1,   6.2836,  34.4052,2,  34.4047,2,    195.7,2,    194.4,2,    20.31,2,    27.29,2,     0.01,2,     1.91,2,    0.286,6,    0.163,6, -999.000,1,-999.0000,1,  -999.00,9,   -999.0,1,-999.000,9,   2170.0,2,   2310.1,3,     7.65,2, 7026.9,-999.0000,-999.000,-999.000,  6.2201,-999.000
   318MWESTW_5,  P21W,   215,  1,     13, SI9413,2,19940605,0747,-18.4138,-179.6667, 2955,    802.4,   5.4103,  34.4098,2,  34.4090,2,    184.1,2,    181.6,2,    33.12,2,    30.05,2,     0.01,2,     2.11,2,    0.133,2,    0.078,2, -999.000,1,-999.0000,1,  -999.00,9,   -999.0,1,-999.000,9,   2193.3,2,   2304.2,2,     7.62,2, 8043.6,-999.0000,-999.000,-999.000,  5.3422,-999.000
   318MWESTW_5,  P21W,   215,  1,     12, SI9438,2,19940605,0747,-18.4138,-179.6667, 2955,    903.5,   4.7549,  34.4399,2,  34.4404,2,    173.4,2,    172.5,2,    46.83,2,    31.75,2,     0.02,2,     2.23,2,    0.082,2,    0.048,2, -999.000,1,-999.0000,1,  -999.00,9,   -999.0,1,-999.000,9,   2213.8,2,   2318.5,2,     7.60,2, 9048.8,-999.0000,-999.000,-999.000,  4.6820,-999.000
   318MWESTW_5,  P21W,   215,  1,     11, SI9411,2,19940605,0747,-18.4138,-179.6667, 2955,   1002.0,   4.1732,  34.4691,2,  34.4689,2,    167.3,2,    165.6,2,    59.48,2,    33.10,2,     0.01,2,     2.32,2,    0.038,2,    0.023,2, -999.000,1,-999.0000,1,  -999.00,9,   -999.0,1,-999.000,9,   2233.1,2,   2338.2,2,     7.58,2,10028.4,-999.0000,-999.000,-999.000,  4.0961,-999.000
   318MWESTW_5,  P21W,   215,  1,     10, SI9412,2,19940605,0747,-18.4138,-179.6667, 2955,   1109.5,   3.8155,  34.4949,2,  34.4942,2,    161.1,2,    160.2,2,    68.81,2,    33.72,2,     0.00,2,     2.38,2,    0.020,2,    0.015,2, -999.000,1,-999.0000,1,  -999.00,9,   -999.0,1,-999.000,9,   2246.3,2,   2353.4,2,     7.57,2,11096.8,-999.0000,-999.000,-999.000,  3.7322,-999.000
   318MWESTW_5,  P21W,   215,  1,      9, SI9410,2,19940605,0747,-18.4138,-179.6667, 2955,   1298.8,   3.2177,  34.5436,2,  34.5429,2,    154.5,2,    152.8,2,    85.66,2,    34.78,2,     0.01,2,     2.44,2,    0.006,2,    0.006,2, -999.000,1,-999.0000,1,  -999.00,9,   -999.0,1,-999.000,9,   2264.1,2,   2369.4,2,     7.56,2,12978.7,-999.0000,-999.000,-999.000,  3.1242,-999.000
   318MWESTW_5,  P21W,   215,  1,      8, SI9422,2,19940605,0747,-18.4138,-179.6667, 2955,   1504.2,   2.8736,  34.5762,2,  34.5761,2,    151.6,2,    150.7,2,    95.89,2,    35.22,2,     0.00,2,     2.47,2,   -0.001,2,    0.001,2, -999.000,1,-999.0000,1,  -999.00,9,   -999.0,1,-999.000,9,   2279.6,2,   2369.8,2,     7.56,2,15021.5,-999.0000,-999.000,-999.000,  2.7669,-999.000
   318MWESTW_5,  P21W,   215,  1,      7, SI9407,2,19940605,0747,-18.4138,-179.6667, 2955,   1897.3,   2.3937,  34.6227,2,  34.6236,2,    149.6,2,    150.0,2,   109.44,2,    35.50,2,     0.00,2,     2.48,2, -999.000,9, -999.000,9, -999.000,1,-999.0000,1,  -999.00,9,   -999.0,1,-999.000,9,   2296.1,2,   2402.3,2,     7.56,2,18929.4,-999.0000,-999.000,-999.000,  2.2601,-999.000
   318MWESTW_5,  P21W,   215,  1,      6, SI9427,2,19940605,0747,-18.4138,-179.6667, 2955,   2106.9,   2.2044,  34.6415,2,  34.6421,2,    150.4,2,    150.8,2,   114.69,2,    35.56,2,     0.01,2,     2.49,2,    0.001,2,    0.000,2, -999.000,1,-999.0000,1,  -999.00,9,   -999.0,1,-999.000,9,   2300.2,2,   2414.6,2,     7.56,2,21013.3,-999.0000,-999.000,-999.000,  2.0556,-999.000
   318MWESTW_5,  P21W,   215,  1,      5, SI9405,2,19940605,0747,-18.4138,-179.6667, 2955,   2306.1,   2.1079,  34.6523,2,  34.6515,2,    151.9,2,    151.2,2,   117.40,2,    35.58,2,     0.00,2,     2.48,2, -999.000,9, -999.000,9, -999.000,1,-999.0000,1,  -999.00,9,   -999.0,1,-999.000,9,   2303.7,2,   2409.1,2,     7.56,2,22993.6,-999.0000,-999.000,-999.000,  1.9432,-999.000
   318MWESTW_5,  P21W,   215,  1,      4, SI9404,2,19940605,0747,-18.4138,-179.6667, 2955,   2514.2,   2.0723,  34.6565,2,  34.6568,2,    151.9,2,    151.1,2,   118.60,2,    35.63,2,     0.02,2,     2.50,2,    0.000,2,    0.000,2, -999.000,1,-999.0000,1,  -999.00,9,   -999.0,1,-999.000,9,   2305.8,2,   2408.5,2,     7.56,2,25061.7,-999.0000,-999.000,-999.000,  1.8894,-999.000
   318MWESTW_5,  P21W,   215,  1,      3, SI9403,2,19940605,0747,-18.4138,-179.6667, 2955,   2712.5,   2.0815,  34.6580,2,  34.6567,2,    152.8,2,    151.8,2,   118.90,2,    35.57,2,     0.00,2,     2.50,2, -999.000,9, -999.000,9, -999.000,1,-999.0000,1,  -999.00,9,   -999.0,1,-999.000,9,   2306.1,2,   2413.5,2,     7.56,2,27033.6,-999.0000,-999.000,-999.000,  1.8799,-999.000
   318MWESTW_5,  P21W,   215,  1,      2, SI9437,2,19940605,0747,-18.4138,-179.6667, 2955,   2907.9,   2.0987,  34.6578,2,  34.6578,2,    151.9,2,    150.6,2,   119.04,2,    35.57,2,     0.01,2,     2.52,2, -999.000,9, -999.000,9, -999.000,1,-999.0000,1,  -999.00,9,   -999.0,1,-999.000,9,   2309.5,2,   2407.2,2,     7.56,2,28975.4,-999.0000,-999.000,-999.000,  1.8779,-999.000
   318MWESTW_5,  P21W,   215,  1,      1, SI9401,2,19940605,0747,-18.4138,-179.6667, 2955,   2967.5,   2.1049,  34.6585,2,  34.6580,2,    151.5,2,    150.9,2,   119.26,2,    35.48,2,     0.01,2,     2.50,2,    0.000,2,    0.002,2, -999.000,1,-999.0000,1,  -999.00,9,   -999.0,1,-999.000,9,   2309.7,2,   2398.3,2,     7.56,2,29568.6,-999.0000,-999.000,-999.000,  1.8781,-999.000