BOTTLE,20010911WHPSIOdm
EXPOCODE,SECT_ID,STNNBR,CASTNO,SAMPNO,BTLNBR,BTLNBR_FLAG_W,DATE,TIME,LATITUDE,LONGITUDE,DEPTH,CTDPRS,CTDTMP,CTDSAL,CTDSAL_FLAG_W,SALNTY,SALNTY_FLAG_W,CTDOXY,CTDOXY_FLAG_W,OXYGEN,OXYGEN_FLAG_W,SILCAT,SILCAT_FLAG_W,NITRAT,NITRAT_FLAG_W,NITRIT,NITRIT_FLAG_W,PHSPHT,PHSPHT_FLAG_W,CFC-11,CFC-11_FLAG_W,CFC-12,CFC-12_FLAG_W,TRITUM,TRITUM_FLAG_W,HELIUM,HELIUM_FLAG_W,DELHE3,DELHE3_FLAG_W,DELC14,DELC14_FLAG_W,NEON,NEON_FLAG_W,TCARBN,TCARBN_FLAG_W,ALKALI,ALKALI_FLAG_W,PH,PH_FLAG_W,CTDRAW,HELIER,DELHER,NEONER,THETA,TRITER
,,,,,,,,,,,,DBAR,ITS-90,PSS-78,,PSS-78,,UMOL/KG,,UMOL/KG,,UMOL/KG,,UMOL/KG,,UMOL/KG,,UMOL/KG,,PMOL/KG,,PMOL/KG,,TU,,UMOL/KG,,PERCNT,,/MILLE,,NMOL/KG,,UMOL/KG,,UMOL/KG,,,,,NMOL/KG,PERCNT,NMOL/KG,ITS-90,TU
   318MWESTW_5,  P21W,   290,  1,     36, SI9442,2,19940621,2007,-25.4500, 154.6667, 4650,     13.9,  23.5130,  35.2940,2,  35.2940,2,    210.1,2,    209.1,2,     1.00,2,     0.00,2,     0.00,2,     0.11,2,    1.873,2,    1.033,2, -999.000,1,-999.0000,1,  -999.00,9,   -999.0,1,-999.000,9,   -999.0,9,   -999.0,9,  -999.00,9,  197.8,-999.0000,-999.000,-999.000, 23.5101,-999.000
   318MWESTW_5,  P21W,   290,  1,     35, SI9435,2,19940621,2007,-25.4500, 154.6667, 4650,     24.1,  23.5257,  35.3011,2,  35.3056,2,    213.1,2,    210.0,2,     1.13,2,     0.00,2,     0.00,2,     0.12,2,    1.877,2,    1.040,2, -999.000,1,-999.0000,1,  -999.00,9,   -999.0,1,-999.000,9,   -999.0,9,   -999.0,9,  -999.00,9,  299.3,-999.0000,-999.000,-999.000, 23.5207,-999.000
   318MWESTW_5,  P21W,   290,  1,     34, SI9441,2,19940621,2007,-25.4500, 154.6667, 4650,     49.5,  23.7104,  35.5139,2,  35.5119,2,    212.4,2,    211.7,2,     1.00,2,     0.00,2,     0.00,2,     0.11,2, -999.000,9, -999.000,9, -999.000,1,-999.0000,1,  -999.00,9,   -999.0,1,-999.000,9,   -999.0,9,   -999.0,9,  -999.00,9,  552.2,-999.0000,-999.000,-999.000, 23.7001,-999.000
   318MWESTW_5,  P21W,   290,  1,     33, SI9433,2,19940621,2007,-25.4500, 154.6667, 4650,    100.3,  23.5875,  35.4924,2,  35.4959,2,    209.1,2,    208.7,2,     1.00,2,     0.00,2,     0.00,2,     0.12,2,    1.903,2,    1.043,2, -999.000,1,-999.0000,1,  -999.00,9,   -999.0,1,-999.000,9,   -999.0,9,   -999.0,9,  -999.00,9, 1058.8,-999.0000,-999.000,-999.000, 23.5666,-999.000
   318MWESTW_5,  P21W,   290,  1,     32, SI9432,2,19940621,2007,-25.4500, 154.6667, 4650,    155.3,  23.0506,  35.6961,2,  35.6950,2,    197.0,2,    180.8,2,     1.27,2,     2.25,2,     0.04,2,     0.33,2,    1.874,2,    1.014,2, -999.000,1,-999.0000,1,  -999.00,9,   -999.0,1,-999.000,9,   -999.0,9,   -999.0,9,  -999.00,9, 1606.6,-999.0000,-999.000,-999.000, 23.0187,-999.000
   318MWESTW_5,  P21W,   290,  1,     31, SI9431,2,19940621,2007,-25.4500, 154.6667, 4650,    199.9,  21.7811,  35.7358,2,  35.7319,2,    185.8,2,    182.1,2,     1.41,2,     2.87,2,     0.02,2,     0.35,2,    1.946,2,    1.043,2, -999.000,1,-999.0000,1,  -999.00,9,   -999.0,1,-999.000,9,   -999.0,9,   -999.0,9,  -999.00,9, 2049.9,-999.0000,-999.000,-999.000, 21.7417,-999.000
   318MWESTW_5,  P21W,   290,  1,     30, SI9440,2,19940621,2007,-25.4500, 154.6667, 4650,    244.1,  20.2187,  35.6965,2,  35.6921,2,    179.9,2,    178.5,2,     1.68,2,     4.40,2,     0.00,2,     0.45,2,    1.941,2,    1.036,2, -999.000,1,-999.0000,1,  -999.00,9,   -999.0,1,-999.000,9,   -999.0,9,   -999.0,9,  -999.00,9, 2490.0,-999.0000,-999.000,-999.000, 20.1730,-999.000
   318MWESTW_5,  P21W,   290,  1,     29, SI9429,2,19940621,2007,-25.4500, 154.6667, 4650,    308.8,  18.5384,  35.5803,2,  35.5821,2,    171.1,2,    178.3,2,     2.09,2,     5.78,2,     0.00,2,     0.54,2,    1.947,2,    1.018,2, -999.000,1,-999.0000,1,  -999.00,9,   -999.0,1,-999.000,9,   -999.0,9,   -999.0,9,  -999.00,9, 3134.0,-999.0000,-999.000,-999.000, 18.4839,-999.000
   318MWESTW_5,  P21W,   290,  1,     28, SI9428,2,19940621,2007,-25.4500, 154.6667, 4650,    418.0,  15.0073,  35.2640,2,  35.2593,2,    165.8,2,    169.4,2,     4.83,2,    11.47,2,     0.00,2,     0.91,2,    1.525,2,    0.785,2, -999.000,1,-999.0000,1,  -999.00,9,   -999.0,1,-999.000,9,   -999.0,9,   -999.0,9,  -999.00,9, 4221.0,-999.0000,-999.000,-999.000, 14.9434,-999.000
   318MWESTW_5,  P21W,   290,  1,     27, SI9424,2,19940621,2007,-25.4500, 154.6667, 4650,    503.6,  11.7174,  34.9582,2,  34.9579,2,    178.6,2,    180.3,2,     7.43,2,    16.08,2,     0.00,2,     1.18,2,    1.267,2,    0.653,2, -999.000,1,-999.0000,1,  -999.00,9,   -999.0,1,-999.000,9,   -999.0,9,   -999.0,9,  -999.00,9, 5071.9,-999.0000,-999.000,-999.000, 11.6519,-999.000
   318MWESTW_5,  P21W,   290,  1,     26, SI9414,2,19940621,2007,-25.4500, 154.6667, 4650,    576.9,  10.2943,  34.8181,2,  34.8170,2,    183.2,2,    188.3,2,     8.52,2,    18.36,2,     0.00,2,     1.30,2,    1.237,2,    0.621,2, -999.000,1,-999.0000,1,  -999.00,9,   -999.0,1,-999.000,9,   -999.0,9,   -999.0,9,  -999.00,9, 5801.5,-999.0000,-999.000,-999.000, 10.2250,-999.000
   318MWESTW_5,  P21W,   290,  1,     25, SI9425,2,19940621,2007,-25.4500, 154.6667, 4650,    695.2,   8.2160,  34.5985,2,  34.5934,2,    190.8,2,    191.8,2,    13.72,2,    22.84,2,     0.00,2,     1.59,2,    0.674,2,    0.343,2, -999.000,1,-999.0000,1,  -999.00,9,   -999.0,1,-999.000,9,   -999.0,9,   -999.0,9,  -999.00,9, 6977.4,-999.0000,-999.000,-999.000,  8.1427,-999.000
   318MWESTW_5,  P21W,   290,  1,     24, SI9434,2,19940621,2007,-25.4500, 154.6667, 4650,    803.5,   6.7620,  34.4903,2,  34.4897,2,    191.1,2,    192.7,2,    21.53,2,    26.12,2,     0.00,2,     1.82,2,    0.336,2,    0.174,2, -999.000,1,-999.0000,1,  -999.00,9,   -999.0,1,-999.000,9,   -999.0,9,   -999.0,9,  -999.00,9, 8054.5,-999.0000,-999.000,-999.000,  6.6855,-999.000
   318MWESTW_5,  P21W,   290,  1,     23, SI9423,2,19940621,2007,-25.4500, 154.6667, 4650,    898.9,   5.9561,  34.4592,2,  34.4581,2,    187.2,2,    187.8,2,    29.45,2,    28.11,2,     0.00,2,     1.95,2,    0.187,6,    0.101,6, -999.000,1,-999.0000,1,  -999.00,9,   -999.0,1,-999.000,9,   -999.0,9,   -999.0,9,  -999.00,9, 9002.7,-999.0000,-999.000,-999.000,  5.8754,-999.000
   318MWESTW_5,  P21W,   290,  1,     22, SI9418,2,19940621,2007,-25.4500, 154.6667, 4650,   1006.7,   5.0927,  34.4617,2,  34.4610,2,    180.8,2,    178.1,2,    42.73,2,    30.26,2,     0.00,2,     2.10,2,    0.082,2,    0.046,2, -999.000,1,-999.0000,1,  -999.00,9,   -999.0,1,-999.000,9,   -999.0,9,   -999.0,9,  -999.00,9,10074.8,-999.0000,-999.000,-999.000,  5.0081,-999.000
   318MWESTW_5,  P21W,   290,  1,     21, SI9421,2,19940621,2007,-25.4500, 154.6667, 4650,   1105.6,   4.5964,  34.4768,2,  34.4767,2,    171.8,2,    171.1,2,    52.72,2,    31.47,2,     0.00,2,     2.20,2, -999.000,9, -999.000,9, -999.000,1,-999.0000,1,  -999.00,9,   -999.0,1,-999.000,9,   -999.0,9,   -999.0,9,  -999.00,9,11058.4,-999.0000,-999.000,-999.000,  4.5069,-999.000
   318MWESTW_5,  P21W,   290,  1,     20, SI9420,2,19940621,2007,-25.4500, 154.6667, 4650,   1198.0,   4.1774,  34.4962,2,  34.4970,2,    165.6,2,    165.6,2,    62.16,2,    32.51,2,     0.00,2,     2.26,2,    0.025,2,    0.013,2, -999.000,1,-999.0000,1,  -999.00,9,   -999.0,1,-999.000,9,   -999.0,9,   -999.0,9,  -999.00,9,11977.0,-999.0000,-999.000,-999.000,  4.0834,-999.000
   318MWESTW_5,  P21W,   290,  1,     19, SI9419,2,19940621,2007,-25.4500, 154.6667, 4650,   1295.1,   3.7950,  34.5236,2,  34.5225,2,    159.0,2,    159.3,2,    72.14,2,    33.42,2,     0.00,2,     2.32,2, -999.000,9, -999.000,9, -999.000,1,-999.0000,1,  -999.00,9,   -999.0,1,-999.000,9,   -999.0,9,   -999.0,9,  -999.00,9,12943.0,-999.0000,-999.000,-999.000,  3.6961,-999.000
   318MWESTW_5,  P21W,   290,  1,     18, SI9439,2,19940621,2007,-25.4500, 154.6667, 4650,   1390.3,   3.4966,  34.5468,2,  34.5461,2,    155.5,2,    155.7,2,    79.53,2,    34.03,2,     0.00,2,     2.37,2,    0.007,2,    0.005,2, -999.000,1,-999.0000,1,  -999.00,9,   -999.0,1,-999.000,9,   -999.0,9,   -999.0,9,  -999.00,9,13889.6,-999.0000,-999.000,-999.000,  3.3926,-999.000
   318MWESTW_5,  P21W,   290,  1,     17, SI9417,2,19940621,2007,-25.4500, 154.6667, 4650,   1597.8,   2.8782,  34.5987,2,  34.5981,2,    151.0,2,    150.7,2,    93.90,2,    34.82,2,     0.00,2,     2.42,2,    0.000,2,    0.000,2, -999.000,1,-999.0000,1,  -999.00,9,   -999.0,1,-999.000,9,   -999.0,9,   -999.0,9,  -999.00,9,15951.8,-999.0000,-999.000,-999.000,  2.7636,-999.000
   318MWESTW_5,  P21W,   290,  1,     16, SI9416,2,19940621,2007,-25.4500, 154.6667, 4650,   1791.8,   2.5534,  34.6329,2,  34.6333,2,    155.8,2,    154.9,2,    97.18,2,    34.56,2,     0.00,2,     2.40,2, -999.000,9, -999.000,9, -999.000,1,-999.0000,1,  -999.00,9,   -999.0,1,-999.000,9,   -999.0,9,   -999.0,9,  -999.00,9,17880.6,-999.0000,-999.000,-999.000,  2.4265,-999.000
   318MWESTW_5,  P21W,   290,  1,     15, SI9415,2,19940621,2007,-25.4500, 154.6667, 4650,   1993.5,   2.3089,  34.6662,2,  34.6661,2,    162.4,2,    163.7,2,    96.77,2,    33.75,2,     0.00,2,     2.35,2, -999.000,9, -999.000,9, -999.000,1,-999.0000,1,  -999.00,9,   -999.0,1,-999.000,9,   -999.0,9,   -999.0,9,  -999.00,9,19885.9,-999.0000,-999.000,-999.000,  2.1682,-999.000
   318MWESTW_5,  P21W,   290,  1,     14, SI9436,2,19940621,2007,-25.4500, 154.6667, 4650,   2192.1,   2.1485,  34.6929,2,  34.6932,2,    172.6,2,    172.9,2,    94.31,2,    32.82,2,     0.00,2,     2.28,2, -999.000,9, -999.000,9, -999.000,1,-999.0000,1,  -999.00,9,   -999.0,1,-999.000,9,   -999.0,9,   -999.0,9,  -999.00,9,21861.0,-999.0000,-999.000,-999.000,  1.9930,-999.000
   318MWESTW_5,  P21W,   290,  1,     13, SI9413,2,19940621,2007,-25.4500, 154.6667, 4650,   2398.7,   1.9669,  34.7111,2,  34.7125,2,    176.9,2,    181.9,3,    96.36,2,    32.22,2,     0.00,2,     2.23,2, -999.000,9, -999.000,9, -999.000,1,-999.0000,1,  -999.00,9,   -999.0,1,-999.000,9,   -999.0,9,   -999.0,9,  -999.00,9,23914.6,-999.0000,-999.000,-999.000,  1.7961,-999.000
   318MWESTW_5,  P21W,   290,  1,     12, SI9438,2,19940621,2007,-25.4500, 154.6667, 4650,   2601.5,   1.7797,  34.7210,2,  34.7223,2,    184.5,2,    184.7,2,   100.06,2,    32.02,2,     0.00,2,     2.21,2, -999.000,9, -999.000,9, -999.000,1,-999.0000,1,  -999.00,9,   -999.0,1,-999.000,9,   -999.0,9,   -999.0,9,  -999.00,9,25930.7,-999.0000,-999.000,-999.000,  1.5940,-999.000
   318MWESTW_5,  P21W,   290,  1,     11, SI9411,2,19940621,2007,-25.4500, 154.6667, 4650,   2799.2,   1.6367,  34.7241,2,  34.7252,2,    186.6,2,    187.5,2,   103.48,2,    31.99,2,     0.00,2,     2.21,2, -999.000,9, -999.000,9, -999.000,1,-999.0000,1,  -999.00,9,   -999.0,1,-999.000,9,   -999.0,9,   -999.0,9,  -999.00,9,27896.8,-999.0000,-999.000,-999.000,  1.4357,-999.000
   318MWESTW_5,  P21W,   290,  1,     10, SI9412,2,19940621,2007,-25.4500, 154.6667, 4650,   3004.5,   1.4566,  34.7233,2,  34.7241,2,    189.6,2,    191.1,2,   107.99,2,    32.17,2,     0.00,2,     2.21,2, -999.000,9, -999.000,9, -999.000,1,-999.0000,1,  -999.00,9,   -999.0,1,-999.000,9,   -999.0,9,   -999.0,9,  -999.00,9,29936.9,-999.0000,-999.000,-999.000,  1.2401,-999.000
   318MWESTW_5,  P21W,   290,  1,      9, SI9410,2,19940621,2007,-25.4500, 154.6667, 4650,   3195.9,   1.3088,  34.7204,2,  34.7207,2,    193.4,2,    193.7,2,   111.96,2,    32.30,2,     0.00,2,     2.22,2, -999.000,9, -999.000,9, -999.000,1,-999.0000,1,  -999.00,9,   -999.0,1,-999.000,9,   -999.0,9,   -999.0,9,  -999.00,9,31840.2,-999.0000,-999.000,-999.000,  1.0773,-999.000
   318MWESTW_5,  P21W,   290,  1,      8, SI9422,2,19940621,2007,-25.4500, 154.6667, 4650,   3404.6,   1.2006,  34.7183,2,  34.7176,2,    194.1,2,    196.0,2,   114.56,2,    32.49,2,     0.00,2,     2.24,2,    0.001,2,    0.000,2, -999.000,1,-999.0000,1,  -999.00,9,   -999.0,1,-999.000,9,   -999.0,9,   -999.0,9,  -999.00,9,33914.7,-999.0000,-999.000,-999.000,  0.9513,-999.000
   318MWESTW_5,  P21W,   290,  1,      7, SI9407,2,19940621,2007,-25.4500, 154.6667, 4650,   3598.2,   1.1597,  34.7170,2,  34.7160,2,    195.2,2,    195.8,2,   116.20,2,    32.45,2,     0.00,2,     2.24,2, -999.000,9, -999.000,9, -999.000,1,-999.0000,1,  -999.00,9,   -999.0,1,-999.000,9,   -999.0,9,   -999.0,9,  -999.00,9,35839.4,-999.0000,-999.000,-999.000,  0.8921,-999.000
   318MWESTW_5,  P21W,   290,  1,      6, SI9427,2,19940621,2007,-25.4500, 154.6667, 4650,   3801.7,   1.1522,  34.7161,2,  34.7158,2,    197.1,2,    197.3,2,   117.03,2,    32.46,2,     0.00,2,     2.24,2, -999.000,9, -999.000,9, -999.000,1,-999.0000,1,  -999.00,9,   -999.0,1,-999.000,9,   -999.0,9,   -999.0,9,  -999.00,9,37862.8,-999.0000,-999.000,-999.000,  0.8638,-999.000
   318MWESTW_5,  P21W,   290,  1,      5, SI9405,2,19940621,2007,-25.4500, 154.6667, 4650,   3969.5,   1.1494,  34.7158,2,  34.7156,2,    196.3,2,    196.6,2,   117.58,2,    32.43,2,     0.00,2,     2.25,2,    0.002,2,    0.002,2, -999.000,1,-999.0000,1,  -999.00,9,   -999.0,1,-999.000,9,   -999.0,9,   -999.0,9,  -999.00,9,39530.5,-999.0000,-999.000,-999.000,  0.8435,-999.000
   318MWESTW_5,  P21W,   290,  1,      4, SI9404,2,19940621,2007,-25.4500, 154.6667, 4650,   4237.5,   1.1523,  34.7149,2,  34.7146,2,    197.7,2,    197.8,2,   118.26,2,    32.48,2,     0.00,2,     2.23,2,    0.004,2,    0.002,2, -999.000,1,-999.0000,1,  -999.00,9,   -999.0,1,-999.000,9,   -999.0,9,   -999.0,9,  -999.00,9,42195.3,-999.0000,-999.000,-999.000,  0.8173,-999.000
   318MWESTW_5,  P21W,   290,  1,      3, SI9403,2,19940621,2007,-25.4500, 154.6667, 4650,   4493.0,   1.1719,  34.7142,2,  34.7146,2,    199.1,2,    196.7,2,   118.26,2,    32.53,2,     0.00,2,     2.23,2, -999.000,9, -999.000,9, -999.000,1,-999.0000,1,  -999.00,9,   -999.0,1,-999.000,9,   -999.0,9,   -999.0,9,  -999.00,9,44735.4,-999.0000,-999.000,-999.000,  0.8077,-999.000
   318MWESTW_5,  P21W,   290,  1,      2, SI9437,2,19940621,2007,-25.4500, 154.6667, 4650,   4693.3,   1.1842,  34.7133,2,  34.7138,2,    198.5,2,    197.9,2,   118.54,2,    32.54,2,     0.00,2,     2.24,2,    0.005,2,    0.002,2, -999.000,1,-999.0000,1,  -999.00,9,   -999.0,1,-999.000,9,   -999.0,9,   -999.0,9,  -999.00,9,46726.9,-999.0000,-999.000,-999.000,  0.7967,-999.000
   318MWESTW_5,  P21W,   290,  1,      1, SI9401,2,19940621,2007,-25.4500, 154.6667, 4650,   4731.0,   1.1845,  34.7136,2,  34.7134,2,    199.5,2,    197.9,2,   118.71,2,    32.53,2,     0.00,2,     2.24,2,    0.004,2,    0.001,2, -999.000,1,-999.0000,1,  -999.00,9,   -999.0,1,-999.000,9,   -999.0,9,   -999.0,9,  -999.00,9,47101.1,-999.0000,-999.000,-999.000,  0.7926,-999.000