BOTTLE,20010911WHPSIOdm
EXPOCODE,SECT_ID,STNNBR,CASTNO,SAMPNO,BTLNBR,BTLNBR_FLAG_W,DATE,TIME,LATITUDE,LONGITUDE,DEPTH,CTDPRS,CTDTMP,CTDSAL,CTDSAL_FLAG_W,SALNTY,SALNTY_FLAG_W,CTDOXY,CTDOXY_FLAG_W,OXYGEN,OXYGEN_FLAG_W,SILCAT,SILCAT_FLAG_W,NITRAT,NITRAT_FLAG_W,NITRIT,NITRIT_FLAG_W,PHSPHT,PHSPHT_FLAG_W,CFC-11,CFC-11_FLAG_W,CFC-12,CFC-12_FLAG_W,TRITUM,TRITUM_FLAG_W,HELIUM,HELIUM_FLAG_W,DELHE3,DELHE3_FLAG_W,DELC14,DELC14_FLAG_W,NEON,NEON_FLAG_W,TCARBN,TCARBN_FLAG_W,ALKALI,ALKALI_FLAG_W,PH,PH_FLAG_W,CTDRAW,HELIER,DELHER,NEONER,THETA,TRITER
,,,,,,,,,,,,DBAR,ITS-90,PSS-78,,PSS-78,,UMOL/KG,,UMOL/KG,,UMOL/KG,,UMOL/KG,,UMOL/KG,,UMOL/KG,,PMOL/KG,,PMOL/KG,,TU,,UMOL/KG,,PERCNT,,/MILLE,,NMOL/KG,,UMOL/KG,,UMOL/KG,,,,,NMOL/KG,PERCNT,NMOL/KG,ITS-90,TU
   318MWESTW_5,  P21W,   286,  1,     36, SI9442,2,19940620,2239,-24.9555, 153.8667, 3330,      5.8,  24.0735,  35.1249,2,  35.1242,2,    228.8,2,    209.8,2,     0.85,2,     0.00,2,     0.00,2,     0.13,2,    1.849,2,    1.022,2, -999.000,1,-999.0000,1,  -999.00,9,   -999.0,1,-999.000,9,   -999.0,9,   -999.0,9,  -999.00,9,  117.8,-999.0000,-999.000,-999.000, 24.0723,-999.000
   318MWESTW_5,  P21W,   286,  1,     35, SI9435,2,19940620,2239,-24.9555, 153.8667, 3330,     25.4,  24.0704,  35.1237,2,  35.1236,2,    212.7,2,    209.2,2,     0.85,2,     0.00,2,     0.00,2,     0.12,2, -999.000,9, -999.000,9, -999.000,1,-999.0000,1,  -999.00,9,   -999.0,1,-999.000,9,   -999.0,9,   -999.0,9,  -999.00,9,  312.8,-999.0000,-999.000,-999.000, 24.0650,-999.000
   318MWESTW_5,  P21W,   286,  1,     34, SI9441,2,19940620,2239,-24.9555, 153.8667, 3330,     48.7,  24.0729,  35.1241,2,  35.1244,2,    210.0,2,    210.0,2,     0.86,2,     0.00,2,     0.00,2,     0.13,2,    1.858,2,    1.026,2, -999.000,1,-999.0000,1,  -999.00,9,   -999.0,1,-999.000,9,   -999.0,9,   -999.0,9,  -999.00,9,  544.8,-999.0000,-999.000,-999.000, 24.0626,-999.000
   318MWESTW_5,  P21W,   286,  1,     33, SI9433,2,19940620,2239,-24.9555, 153.8667, 3330,     96.3,  23.1319,  35.5637,2,  35.5614,2,    222.6,2,    226.2,2,     0.44,2,     0.01,2,     0.02,2,     0.14,2,    1.913,2,    1.052,2, -999.000,1,-999.0000,1,  -999.00,9,   -999.0,1,-999.000,9,   -999.0,9,   -999.0,9,  -999.00,9, 1019.0,-999.0000,-999.000,-999.000, 23.1121,-999.000
   318MWESTW_5,  P21W,   286,  1,     32, SI9432,2,19940620,2239,-24.9555, 153.8667, 3330,    145.3,  21.8066,  35.5797,2,  35.5790,3,    185.4,2,    175.5,2,     2.14,2,     4.48,2,     0.03,2,     0.44,2, -999.000,9, -999.000,9, -999.000,1,-999.0000,1,  -999.00,9,   -999.0,1,-999.000,9,   -999.0,9,   -999.0,9,  -999.00,9, 1506.9,-999.0000,-999.000,-999.000, 21.7780,-999.000
   318MWESTW_5,  P21W,   286,  1,     31, SI9431,2,19940620,2239,-24.9555, 153.8667, 3330,    198.2,  19.4037,  35.5810,2,  35.5756,2,    168.0,2,    162.9,2,     2.57,2,     7.17,2,     0.01,2,     0.63,2,    1.714,2,    0.911,2, -999.000,1,-999.0000,1,  -999.00,9,   -999.0,1,-999.000,9,   -999.0,9,   -999.0,9,  -999.00,9, 2033.2,-999.0000,-999.000,-999.000, 19.3677,-999.000
   318MWESTW_5,  P21W,   286,  1,     30, SI9440,2,19940620,2239,-24.9555, 153.8667, 3330,    248.3,  18.0019,  35.5127,2,  35.5097,2,    166.3,2,    163.4,2,     2.99,2,     8.40,2,     0.01,2,     0.73,2, -999.000,9, -999.000,9, -999.000,1,-999.0000,1,  -999.00,9,   -999.0,1,-999.000,9,   -999.0,9,   -999.0,9,  -999.00,9, 2532.0,-999.0000,-999.000,-999.000, 17.9591,-999.000
   318MWESTW_5,  P21W,   286,  1,     29, SI9429,2,19940620,2239,-24.9555, 153.8667, 3330,    295.2,  16.2233,  35.3305,2,  35.3531,2,    166.9,2,    160.5,2,     4.41,2,    10.79,2,     0.00,2,     0.89,2,    1.508,2,    0.779,2, -999.000,1,-999.0000,1,  -999.00,9,   -999.0,1,-999.000,9,   -999.0,9,   -999.0,9,  -999.00,9, 2999.4,-999.0000,-999.000,-999.000, 16.1759,-999.000
   318MWESTW_5,  P21W,   286,  1,     28, SI9428,2,19940620,2239,-24.9555, 153.8667, 3330,    347.5,  14.4747,  35.2111,2,  35.2073,2,    175.9,2,    171.0,2,     5.12,2,    12.44,2,     0.00,2,     0.97,2, -999.000,9, -999.000,9, -999.000,1,-999.0000,1,  -999.00,9,   -999.0,1,-999.000,9,   -999.0,9,   -999.0,9,  -999.00,9, 3520.0,-999.0000,-999.000,-999.000, 14.4230,-999.000
   318MWESTW_5,  P21W,   286,  1,     27, SI9424,2,19940620,2239,-24.9555, 153.8667, 3330,    406.3,  12.5539,  35.0429,2,  35.0423,2,    181.1,2,    187.8,3,     6.53,2,    14.85,2,     0.00,2,     1.11,2,    1.329,2,    0.679,2, -999.000,1,-999.0000,1,  -999.00,9,   -999.0,1,-999.000,9,   -999.0,9,   -999.0,9,  -999.00,9, 4104.1,-999.0000,-999.000,-999.000, 12.4988,-999.000
   318MWESTW_5,  P21W,   286,  1,     26, SI9414,2,19940620,2239,-24.9555, 153.8667, 3330,    495.0,  10.1398,  34.7971,2,  34.7962,2,    188.4,2,    190.5,3,     8.65,2,    18.75,2,     0.01,2,     1.34,2,    1.143,2,    0.576,2, -999.000,1,-999.0000,1,  -999.00,9,   -999.0,1,-999.000,9,   -999.0,9,   -999.0,9,  -999.00,9, 4986.9,-999.0000,-999.000,-999.000, 10.0811,-999.000
   318MWESTW_5,  P21W,   286,  1,     25, SI9425,2,19940620,2239,-24.9555, 153.8667, 3330,    600.3,   8.2722,  34.6027,2,  34.6007,2,    191.8,2,    193.0,2,    13.16,2,    22.61,2,     0.00,2,     1.59,2,    0.678,6,    0.344,6, -999.000,1,-999.0000,1,  -999.00,9,   -999.0,1,-999.000,9,   -999.0,9,   -999.0,9,  -999.00,9, 6034.5,-999.0000,-999.000,-999.000,  8.2090,-999.000
   318MWESTW_5,  P21W,   286,  1,     24, SI9434,2,19940620,2239,-24.9555, 153.8667, 3330,    701.5,   7.2469,  34.5190,2,  34.5158,2,    192.9,2,    203.7,4,    18.22,2,    24.94,2,     0.00,2,     1.75,2,    0.421,2,    0.221,2, -999.000,1,-999.0000,1,  -999.00,9,   -999.0,1,-999.000,9,   -999.0,9,   -999.0,9,  -999.00,9, 7040.5,-999.0000,-999.000,-999.000,  7.1780,-999.000
   318MWESTW_5,  P21W,   286,  1,     23, SI9423,2,19940620,2239,-24.9555, 153.8667, 3330,    797.8,   6.4061,  34.4731,2,  34.4709,2,    189.9,2,    192.2,2,    24.56,2,    26.88,2,     0.01,2,     1.89,2,    0.255,2,    0.130,2, -999.000,1,-999.0000,1,  -999.00,9,   -999.0,1,-999.000,9,   -999.0,9,   -999.0,9,  -999.00,9, 7998.2,-999.0000,-999.000,-999.000,  6.3323,-999.000
   318MWESTW_5,  P21W,   286,  1,     22, SI9418,2,19940620,2239,-24.9555, 153.8667, 3330,    894.3,   5.6300,  34.4571,2,  34.4553,2,    184.2,2,    199.3,4,    34.27,2,    28.89,2,     0.00,2,     2.02,2, -999.000,9, -999.000,9, -999.000,1,-999.0000,1,  -999.00,9,   -999.0,1,-999.000,9,   -999.0,9,   -999.0,9,  -999.00,9, 8958.0,-999.0000,-999.000,-999.000,  5.5520,-999.000
   318MWESTW_5,  P21W,   286,  1,     21, SI9421,2,19940620,2239,-24.9555, 153.8667, 3330,    995.7,   4.9666,  34.4649,2,  34.4646,2,    176.8,2,    176.8,2,    45.11,2,    30.49,2,     0.00,2,     2.13,2,    0.073,2,    0.038,2, -999.000,1,-999.0000,1,  -999.00,9,   -999.0,1,-999.000,9,   -999.0,9,   -999.0,9,  -999.00,9, 9965.8,-999.0000,-999.000,-999.000,  4.8840,-999.000
   318MWESTW_5,  P21W,   286,  1,     20, SI9420,2,19940620,2239,-24.9555, 153.8667, 3330,   1099.9,   4.3525,  34.4873,2,  34.4877,2,    169.3,2,    167.5,2,    57.91,2,    32.02,2,     0.00,2,     2.25,2,    0.033,2,    0.017,2, -999.000,1,-999.0000,1,  -999.00,9,   -999.0,1,-999.000,9,   -999.0,9,   -999.0,9,  -999.00,9,11001.9,-999.0000,-999.000,-999.000,  4.2655,-999.000
   318MWESTW_5,  P21W,   286,  1,     19, SI9419,2,19940620,2239,-24.9555, 153.8667, 3330,   1202.8,   3.9050,  34.5130,2,  34.5125,2,    162.3,2,    161.2,2,    69.02,2,    33.12,2,     0.00,2,     2.32,2,    0.015,2,    0.006,2, -999.000,1,-999.0000,1,  -999.00,9,   -999.0,1,-999.000,9,   -999.0,9,   -999.0,9,  -999.00,9,12024.9,-999.0000,-999.000,-999.000,  3.8130,-999.000
   318MWESTW_5,  P21W,   286,  1,     18, SI9439,2,19940620,2239,-24.9555, 153.8667, 3330,   1299.3,   3.5095,  34.5440,2,  34.5421,2,    157.2,2,    154.5,2,    79.85,2,    33.97,2,     0.00,2,     2.39,2,    0.005,2,    0.003,2, -999.000,1,-999.0000,1,  -999.00,9,   -999.0,1,-999.000,9,   -999.0,9,   -999.0,9,  -999.00,9,12984.0,-999.0000,-999.000,-999.000,  3.4131,-999.000
   318MWESTW_5,  P21W,   286,  1,     17, SI9417,2,19940620,2239,-24.9555, 153.8667, 3330,   1395.8,   3.2232,  34.5668,2,  34.5669,2,    151.7,2,    155.6,4,    87.31,2,    34.47,2,     0.01,2,     2.42,2,    0.002,2,    0.000,2, -999.000,1,-999.0000,1,  -999.00,9,   -999.0,1,-999.000,9,   -999.0,9,   -999.0,9,  -999.00,9,13943.3,-999.0000,-999.000,-999.000,  3.1216,-999.000
   318MWESTW_5,  P21W,   286,  1,     16, SI9416,2,19940620,2239,-24.9555, 153.8667, 3330,   1495.0,   2.9512,  34.5916,2,  34.5906,2,    152.3,2,    150.9,2,    92.51,2,    34.52,2,     0.00,2,     2.44,2, -999.000,9, -999.000,9, -999.000,1,-999.0000,1,  -999.00,9,   -999.0,1,-999.000,9,   -999.0,9,   -999.0,9,  -999.00,9,14930.0,-999.0000,-999.000,-999.000,  2.8443,-999.000
   318MWESTW_5,  P21W,   286,  1,     15, SI9415,2,19940620,2239,-24.9555, 153.8667, 3330,   1592.2,   2.7392,  34.6118,2,  34.5908,4,    150.2,2,    151.0,2,    97.29,2,    34.68,2,     0.01,2,     2.44,2,    0.000,2,   -0.001,2, -999.000,1,-999.0000,1,  -999.00,9,   -999.0,1,-999.000,9,   -999.0,9,   -999.0,9,  -999.00,9,15896.3,-999.0000,-999.000,-999.000,  2.6267,-999.000
   318MWESTW_5,  P21W,   286,  1,     14, SI9436,2,19940620,2239,-24.9555, 153.8667, 3330,   1696.4,   2.5519,  34.6331,2,  34.6323,2,    154.4,2,    155.2,2,    97.85,2,    34.40,2,     0.00,2,     2.40,2, -999.000,9, -999.000,9, -999.000,1,-999.0000,1,  -999.00,9,   -999.0,1,-999.000,9,   -999.0,9,   -999.0,9,  -999.00,9,16932.8,-999.0000,-999.000,-999.000,  2.4330,-999.000
   318MWESTW_5,  P21W,   286,  1,     13, SI9413,2,19940620,2239,-24.9555, 153.8667, 3330,   1900.9,   2.3342,  34.6614,2,  34.6620,2,    162.1,2,    163.2,2,    97.01,2,    33.72,2,     0.00,2,     2.36,2,    0.000,2,   -0.002,2, -999.000,1,-999.0000,1,  -999.00,9,   -999.0,1,-999.000,9,   -999.0,9,   -999.0,9,  -999.00,9,18965.2,-999.0000,-999.000,-999.000,  2.2011,-999.000
   318MWESTW_5,  P21W,   286,  1,     12, SI9438,2,19940620,2239,-24.9555, 153.8667, 3330,   2203.5,   2.0762,  34.6994,2,  34.7001,2,    173.6,2,    175.6,2,    95.04,2,    32.57,2,     0.01,2,     2.26,2, -999.000,9, -999.000,9, -999.000,1,-999.0000,1,  -999.00,9,   -999.0,1,-999.000,9,   -999.0,9,   -999.0,9,  -999.00,9,21973.5,-999.0000,-999.000,-999.000,  1.9209,-999.000
   318MWESTW_5,  P21W,   286,  1,     11, SI9411,2,19940620,2239,-24.9555, 153.8667, 3330,   2401.1,   1.9246,  34.7146,2,  34.7150,2,    179.3,2,    187.5,4,    97.15,2,    32.15,2,     0.01,2,     2.24,2,    0.000,2,   -0.002,2, -999.000,1,-999.0000,1,  -999.00,9,   -999.0,1,-999.000,9,   -999.0,9,   -999.0,9,  -999.00,9,23938.3,-999.0000,-999.000,-999.000,  1.7544,-999.000
   318MWESTW_5,  P21W,   286,  1,     10, SI9412,2,19940620,2239,-24.9555, 153.8667, 3330,   2496.8,   1.8712,  34.7186,2,  34.7182,2,    180.6,2,    182.4,2,    98.29,2,    31.98,2,     0.01,2,     2.24,2, -999.000,9, -999.000,9, -999.000,1,-999.0000,1,  -999.00,9,   -999.0,1,-999.000,9,   -999.0,9,   -999.0,9,  -999.00,9,24889.2,-999.0000,-999.000,-999.000,  1.6933,-999.000
   318MWESTW_5,  P21W,   286,  1,      9, SI9410,2,19940620,2239,-24.9555, 153.8667, 3330,   2597.2,   1.7870,  34.7216,2,  34.7215,2,    183.6,2,    190.5,4,    99.97,2,    31.86,2,     0.00,2,     2.23,2, -999.000,9, -999.000,9, -999.000,1,-999.0000,1,  -999.00,9,   -999.0,1,-999.000,9,   -999.0,9,   -999.0,9,  -999.00,9,25887.7,-999.0000,-999.000,-999.000,  1.6016,-999.000
   318MWESTW_5,  P21W,   286,  1,      8, SI9422,2,19940620,2239,-24.9555, 153.8667, 3330,   2697.2,   1.7039,  34.7233,2,  34.7231,2,    184.4,2,    186.1,2,   101.80,2,    31.87,2,     0.00,2,     2.22,2, -999.000,9, -999.000,9, -999.000,1,-999.0000,1,  -999.00,9,   -999.0,1,-999.000,9,   -999.0,9,   -999.0,9,  -999.00,9,26881.6,-999.0000,-999.000,-999.000,  1.5110,-999.000
   318MWESTW_5,  P21W,   286,  1,      7, SI9407,2,19940620,2239,-24.9555, 153.8667, 3330,   2793.9,   1.6637,  34.7242,2,  34.7233,2,    185.1,2,    187.4,2,   103.07,2,    31.91,2,     0.00,2,     2.22,2, -999.000,9, -999.000,9, -999.000,1,-999.0000,1,  -999.00,9,   -999.0,1,-999.000,9,   -999.0,9,   -999.0,9,  -999.00,9,27843.5,-999.0000,-999.000,-999.000,  1.4626,-999.000
   318MWESTW_5,  P21W,   286,  1,      6, SI9427,2,19940620,2239,-24.9555, 153.8667, 3330,   2895.2,   1.5830,  34.7245,2,  34.7237,2,    188.1,2,    189.1,2,   104.90,2,    31.91,2,     0.00,2,     2.21,2,   -0.001,2,   -0.002,2, -999.000,1,-999.0000,1,  -999.00,9,   -999.0,1,-999.000,9,   -999.0,9,   -999.0,9,  -999.00,9,28850.0,-999.0000,-999.000,-999.000,  1.3741,-999.000
   318MWESTW_5,  P21W,   286,  1,      5, SI9405,2,19940620,2239,-24.9555, 153.8667, 3330,   2979.7,   1.5309,  34.7244,2,  34.7229,2,    188.6,2,    190.6,2,   106.58,2,    31.99,2,     0.01,2,     2.22,2, -999.000,9, -999.000,9, -999.000,1,-999.0000,1,  -999.00,9,   -999.0,1,-999.000,9,   -999.0,9,   -999.0,9,  -999.00,9,29690.2,-999.0000,-999.000,-999.000,  1.3151,-999.000
   318MWESTW_5,  P21W,   286,  1,      4, SI9404,2,19940620,2239,-24.9555, 153.8667, 3330,   3082.3,   1.4637,  34.7243,2,  34.7229,2,    189.4,2,    190.6,2,   107.99,2,    32.04,2,     0.01,2,     2.23,2, -999.000,9, -999.000,9, -999.000,1,-999.0000,1,  -999.00,9,   -999.0,1,-999.000,9,   -999.0,9,   -999.0,9,  -999.00,9,30710.2,-999.0000,-999.000,-999.000,  1.2396,-999.000
   318MWESTW_5,  P21W,   286,  1,      3, SI9403,2,19940620,2239,-24.9555, 153.8667, 3330,   3186.9,   1.3860,  34.7220,2,  34.7223,2,    189.3,2,    193.6,2,   110.25,2,    32.05,2,     0.00,2,     2.24,2, -999.000,9, -999.000,9, -999.000,1,-999.0000,1,  -999.00,9,   -999.0,1,-999.000,9,   -999.0,9,   -999.0,9,  -999.00,9,31749.9,-999.0000,-999.000,-999.000,  1.1536,-999.000
   318MWESTW_5,  P21W,   286,  1,      2, SI9437,2,19940620,2239,-24.9555, 153.8667, 3330,   3302.7,   1.3046,  34.7211,2,  34.7197,2,    191.0,2,    194.1,2,   112.36,2,    32.10,2,     0.00,2,     2.23,2, -999.000,9, -999.000,9, -999.000,1,-999.0000,1,  -999.00,9,   -999.0,1,-999.000,9,   -999.0,9,   -999.0,9,  -999.00,9,32901.0,-999.0000,-999.000,-999.000,  1.0628,-999.000
   318MWESTW_5,  P21W,   286,  1,      1, SI9401,2,19940620,2239,-24.9555, 153.8667, 3330,   3346.5,   1.3001,  34.7206,2,  34.7191,2,    192.8,2,    212.2,4,   112.50,2,    32.21,2,     0.00,2,     2.23,2,    0.000,2,   -0.001,2, -999.000,1,-999.0000,1,  -999.00,9,   -999.0,1,-999.000,9,   -999.0,9,   -999.0,9,  -999.00,9,33336.5,-999.0000,-999.000,-999.000,  1.0541,-999.000