BOTTLE,20010911WHPSIOdm
EXPOCODE,SECT_ID,STNNBR,CASTNO,SAMPNO,BTLNBR,BTLNBR_FLAG_W,DATE,TIME,LATITUDE,LONGITUDE,DEPTH,CTDPRS,CTDTMP,CTDSAL,CTDSAL_FLAG_W,SALNTY,SALNTY_FLAG_W,CTDOXY,CTDOXY_FLAG_W,OXYGEN,OXYGEN_FLAG_W,SILCAT,SILCAT_FLAG_W,NITRAT,NITRAT_FLAG_W,NITRIT,NITRIT_FLAG_W,PHSPHT,PHSPHT_FLAG_W,CFC-11,CFC-11_FLAG_W,CFC-12,CFC-12_FLAG_W,TRITUM,TRITUM_FLAG_W,HELIUM,HELIUM_FLAG_W,DELHE3,DELHE3_FLAG_W,DELC14,DELC14_FLAG_W,NEON,NEON_FLAG_W,TCARBN,TCARBN_FLAG_W,ALKALI,ALKALI_FLAG_W,PH,PH_FLAG_W,CTDRAW,HELIER,DELHER,NEONER,THETA,TRITER
,,,,,,,,,,,,DBAR,ITS-90,PSS-78,,PSS-78,,UMOL/KG,,UMOL/KG,,UMOL/KG,,UMOL/KG,,UMOL/KG,,UMOL/KG,,PMOL/KG,,PMOL/KG,,TU,,UMOL/KG,,PERCNT,,/MILLE,,NMOL/KG,,UMOL/KG,,UMOL/KG,,,,,NMOL/KG,PERCNT,NMOL/KG,ITS-90,TU
   318MWESTW_4,  P21E,   130,  1,     12, SI9421,2,19940505,1552,-16.7500,-133.3333, 4390,      8.2,  28.0453,  36.3671,2,  36.3663,2,    224.3,2,    209.5,2,     0.85,2,     0.00,2,     0.00,2,     0.22,2,    1.626,2,    0.918,2, -999.000,1,-999.0000,1,  -999.00,9,   -999.0,1,-999.000,9,   -999.0,9,   -999.0,9,  -999.00,9,  130.9,-999.0000,-999.000,-999.000, 28.0434,-999.000
   318MWESTW_4,  P21E,   130,  1,     11, SI9423,2,19940505,1552,-16.7500,-133.3333, 4390,     24.1,  28.0487,  36.3754,2,  36.3758,2,    211.0,2,    208.8,2,     0.90,2,     0.00,2,     0.00,2,     0.22,2,    1.624,2,    0.932,2, -999.000,1,-999.0000,1,  -999.00,9,   -999.0,1,-999.000,9,   -999.0,9,   -999.0,9,  -999.00,9,  290.4,-999.0000,-999.000,-999.000, 28.0430,-999.000
   318MWESTW_4,  P21E,   130,  1,     10, SI9425,3,19940505,1552,-16.7500,-133.3333, 4390,     48.2,  28.0991,  36.4241,2,  36.4230,2,    207.0,2,    208.0,2,     0.79,2,     0.05,2,     0.00,2,     0.21,2,    1.613,2,    0.921,2, -999.000,1,-999.0000,1,  -999.00,9,   -999.0,1,-999.000,9,   -999.0,9,   -999.0,9,  -999.00,9,  530.3,-999.0000,-999.000,-999.000, 28.0877,-999.000
   318MWESTW_4,  P21E,   130,  1,      9, SI9424,2,19940505,1552,-16.7500,-133.3333, 4390,     99.8,  25.3157,  36.3226,2,  36.3384,2,    218.2,2,    220.0,2,     0.68,2,    -0.02,2,     0.02,2,     0.20,2,    1.858,2,    1.035,2, -999.000,1,-999.0000,1,  -999.00,9,   -999.0,1,-999.000,9,   -999.0,9,   -999.0,9,  -999.00,9, 1044.3,-999.0000,-999.000,-999.000, 25.2938,-999.000
   318MWESTW_4,  P21E,   130,  1,      8, SI9428,2,19940505,1552,-16.7500,-133.3333, 4390,    150.6,  23.7547,  36.2699,2,  36.2715,2,    214.2,2,    213.6,2,     0.58,2,     0.03,2,     0.02,2,     0.21,2,    1.923,2,    1.056,2, -999.000,1,-999.0000,1,  -999.00,9,   -999.0,1,-999.000,9,   -999.0,9,   -999.0,9,  -999.00,9, 1551.2,-999.0000,-999.000,-999.000, 23.7230,-999.000
   318MWESTW_4,  P21E,   130,  1,      7, SI9429,2,19940505,1552,-16.7500,-133.3333, 4390,    201.5,  22.3550,  36.1012,2,  36.1039,2,    195.3,2,    196.9,2,     0.62,2,     0.37,2,     0.39,2,     0.30,2,    1.995,2,    1.045,2, -999.000,1,-999.0000,1,  -999.00,9,   -999.0,1,-999.000,9,   -999.0,9,   -999.0,9,  -999.00,9, 2057.9,-999.0000,-999.000,-999.000, 22.3144,-999.000
   318MWESTW_4,  P21E,   130,  1,      6, SI9431,2,19940505,1552,-16.7500,-133.3333, 4390,    252.4,  20.5368,  35.8756,2,  35.8945,2,    187.9,2,    183.3,2,     0.66,2,     2.93,2,     0.02,2,     0.49,2,    2.046,2,    1.094,2, -999.000,1,-999.0000,1,  -999.00,9,   -999.0,1,-999.000,9,   -999.0,9,   -999.0,9,  -999.00,9, 2565.9,-999.0000,-999.000,-999.000, 20.4890,-999.000
   318MWESTW_4,  P21E,   130,  1,      5, SI9432,2,19940505,1552,-16.7500,-133.3333, 4390,    300.6,  17.3811,  35.3600,2,  35.3543,2,    185.6,2,    178.9,2,     1.32,2,     5.63,2,     0.01,2,     0.65,2,    1.945,2,    0.997,2, -999.000,1,-999.0000,1,  -999.00,9,   -999.0,1,-999.000,9,   -999.0,9,   -999.0,9,  -999.00,9, 3045.9,-999.0000,-999.000,-999.000, 17.3305,-999.000
   318MWESTW_4,  P21E,   130,  1,      4, SI9433,2,19940505,1552,-16.7500,-133.3333, 4390,    403.3,  10.7592,  34.5893,2,  34.5877,2,    117.9,2,    115.1,2,    11.38,2,    21.66,2,     0.01,2,     1.81,2,    0.758,2,    0.369,2, -999.000,1,-999.0000,1,  -999.00,9,   -999.0,1,-999.000,9,   -999.0,9,   -999.0,9,  -999.00,9, 4067.5,-999.0000,-999.000,-999.000, 10.7099,-999.000
   318MWESTW_4,  P21E,   130,  1,      3, SI9435,2,19940505,1552,-16.7500,-133.3333, 4390,    501.4,   7.3566,  34.4251,2,  34.4214,2,    122.9,2,    125.1,2,    18.11,2,    31.03,2,     0.00,2,     2.23,2,    0.157,2,    0.080,2, -999.000,1,-999.0000,1,  -999.00,9,   -999.0,1,-999.000,9,   -999.0,9,   -999.0,9,  -999.00,9, 5042.9,-999.0000,-999.000,-999.000,  7.3077,-999.000
   318MWESTW_4,  P21E,   130,  1,      2, SI9401,2,19940505,1552,-16.7500,-133.3333, 4390,    595.1,   6.1595,  34.3882,2,  34.3857,2,    144.6,2,    145.9,2,    22.70,2,    32.56,2,    -0.01,2,     2.27,2,    0.065,2,    0.043,2, -999.000,1,-999.0000,1,  -999.00,9,   -999.0,1,-999.000,9,   -999.0,9,   -999.0,9,  -999.00,9, 5974.5,-999.0000,-999.000,-999.000,  6.1065,-999.000
   318MWESTW_4,  P21E,   130,  1,      1, SI9403,2,19940505,1552,-16.7500,-133.3333, 4390,    748.7,   5.3531,  34.4727,2,  34.4722,2,    120.6,2,    109.7,2,    46.60,2,    36.90,2,     0.00,2,     2.56,2,   -0.001,2,   -0.001,2, -999.000,1,-999.0000,1,  -999.00,9,   -999.0,1,-999.000,9,   -999.0,9,   -999.0,9,  -999.00,9, 7501.9,-999.0000,-999.000,-999.000,  5.2901,-999.000
   318MWESTW_4,  P21E,   130,  1,     24, SI9404,2,19940505,1552,-16.7500,-133.3333, 4390,    901.6,   4.7358,  34.5072,2,  34.5115,3,     97.0,2,     85.8,2,    63.62,2,    40.31,2,    -0.01,2,     2.82,2,   -0.003,2,   -0.002,2, -999.000,1,-999.0000,1,  -999.00,9,   -999.0,1,-999.000,9,   -999.0,9,   -999.0,9,  -999.00,9, 9022.2,-999.0000,-999.000,-999.000,  4.6631,-999.000
   318MWESTW_4,  P21E,   130,  1,     23, SI9405,2,19940505,1552,-16.7500,-133.3333, 4390,   1150.5,   3.8766,  34.5423,2,  34.5425,2,     87.8,2,     88.0,2,    84.14,2,    40.58,2,     0.00,2,     2.88,2,   -0.003,2,    0.004,2, -999.000,1,-999.0000,1,  -999.00,9,   -999.0,1,-999.000,9,   -999.0,9,   -999.0,9,  -999.00,9,11497.5,-999.0000,-999.000,-999.000,  3.7893,-999.000
   318MWESTW_4,  P21E,   130,  1,     22, SI9407,2,19940505,1552,-16.7500,-133.3333, 4390,   1499.6,   3.0080,  34.5824,2,  34.5834,2,    112.9,2,    113.2,2,   101.49,2,    38.56,2,     0.00,2,     2.74,2,    0.000,2,   -0.002,2, -999.000,1,-999.0000,1,  -999.00,9,   -999.0,1,-999.000,9,   -999.0,9,   -999.0,9,  -999.00,9,14967.4,-999.0000,-999.000,-999.000,  2.9001,-999.000
   318MWESTW_4,  P21E,   130,  1,     21, SI9408,2,19940505,1552,-16.7500,-133.3333, 4390,   1859.5,   2.3195,  34.6250,2,  34.6254,2,    135.4,2,    135.3,2,   113.97,2,    36.87,2,    -0.01,2,     2.59,2,    0.000,2,    0.001,2, -999.000,1,-999.0000,1,  -999.00,9,   -999.0,1,-999.000,9,   -999.0,9,   -999.0,9,  -999.00,9,18546.0,-999.0000,-999.000,-999.000,  2.1902,-999.000
   318MWESTW_4,  P21E,   130,  1,     20, SI9409,2,19940505,1552,-16.7500,-133.3333, 4390,   2249.7,   1.9886,  34.6533,2,  34.6557,2,    146.0,2,    146.7,2,   121.30,2,    35.92,2,     0.00,2,     2.52,2,    0.000,2,   -0.001,2, -999.000,1,-999.0000,1,  -999.00,9,   -999.0,1,-999.000,9,   -999.0,9,   -999.0,9,  -999.00,9,22425.5,-999.0000,-999.000,-999.000,  1.8309,-999.000
   318MWESTW_4,  P21E,   130,  1,     19, SI9411,2,19940505,1552,-16.7500,-133.3333, 4390,   2600.8,   1.8266,  34.6670,2,  34.6677,2,    152.1,2,    153.2,2,   125.30,2,    35.49,2,    -0.01,2,     2.51,2,    0.000,2,    0.000,2, -999.000,1,-999.0000,1,  -999.00,9,   -999.0,1,-999.000,9,   -999.0,9,   -999.0,9,  -999.00,9,25915.8,-999.0000,-999.000,-999.000,  1.6403,-999.000
   318MWESTW_4,  P21E,   130,  1,     18, SI9413,2,19940505,1552,-16.7500,-133.3333, 4390,   2953.0,   1.7159,  34.6753,2,  34.6779,2,    157.0,2,    157.3,2,   128.23,2,    35.34,2,     0.00,2,     2.46,2,    0.000,2,    0.000,2, -999.000,1,-999.0000,1,  -999.00,9,   -999.0,1,-999.000,9,   -999.0,9,   -999.0,9,  -999.00,9,29417.6,-999.0000,-999.000,-999.000,  1.4989,-999.000
   318MWESTW_4,  P21E,   130,  1,     17, SI9415,2,19940505,1552,-16.7500,-133.3333, 4390,   3303.0,   1.6413,  34.6815,2,  34.6830,2,    159.3,2,    159.1,2,   131.61,2,    35.23,2,    -0.01,2,     2.50,2,   -0.001,2,    0.000,2, -999.000,1,-999.0000,1,  -999.00,9,   -999.0,1,-999.000,9,   -999.0,9,   -999.0,9,  -999.00,9,32896.6,-999.0000,-999.000,-999.000,  1.3916,-999.000
   318MWESTW_4,  P21E,   130,  1,     16, SI9416,2,19940505,1552,-16.7500,-133.3333, 4390,   3647.9,   1.5847,  34.6863,2,  34.6863,2,    163.3,2,    163.0,2,   132.11,2,    34.99,2,     0.00,2,     2.46,2,   -0.001,2,   -0.002,2, -999.000,1,-999.0000,1,  -999.00,9,   -999.0,1,-999.000,9,   -999.0,9,   -999.0,9,  -999.00,9,36325.5,-999.0000,-999.000,-999.000,  1.3011,-999.000
   318MWESTW_4,  P21E,   130,  1,     15, SI9417,2,19940505,1552,-16.7500,-133.3333, 4390,   3996.1,   1.5456,  34.6893,2,  34.6889,2,    168.5,2,    167.8,2,   130.64,2,    34.73,2,     0.00,2,     2.42,2,    0.000,2,    0.003,2, -999.000,1,-999.0000,1,  -999.00,9,   -999.0,1,-999.000,9,   -999.0,9,   -999.0,9,  -999.00,9,39786.9,-999.0000,-999.000,-999.000,  1.2258,-999.000
   318MWESTW_4,  P21E,   130,  1,     14, SI9419,2,19940505,1552,-16.7500,-133.3333, 4390,   4359.1,   1.5614,  34.6903,2,  34.6905,2,    169.7,2,    169.7,2,   129.93,2,    34.54,2,     0.01,2,     2.43,2,    0.000,2,   -0.003,2, -999.000,1,-999.0000,1,  -999.00,9,   -999.0,1,-999.000,9,   -999.0,9,   -999.0,9,  -999.00,9,43396.1,-999.0000,-999.000,-999.000,  1.2007,-999.000
   318MWESTW_4,  P21E,   130,  1,     13, SI9420,2,19940505,1552,-16.7500,-133.3333, 4390,   4453.1,   1.5718,  34.6910,2,  34.6916,2,    170.4,2,    169.8,2,   129.98,2,    34.50,2,     0.00,2,     2.42,2,   -0.002,2,    0.001,2, -999.000,1,-999.0000,1,  -999.00,9,   -999.0,1,-999.000,9,   -999.0,9,   -999.0,9,  -999.00,9,44330.6,-999.0000,-999.000,-999.000,  1.2000,-999.000
   318MWESTW_4,  P21E,   131,  1,     24, SI9404,2,19940505,2252,-16.7500,-134.0000, 4293,      9.7,  28.3231,  36.3724,2,  36.3707,2,    206.2,2,    204.4,2,     1.20,2,     0.01,2,     0.00,2,     0.21,2,    1.621,2,    0.916,2,    0.899,2,   1.6860,2,    -1.08,2,   -999.0,1,   6.576,2,   2011.7,2,   2389.0,2,     8.21,2,  146.0,  0.0084,   0.080,   0.033, 28.3208,   0.007
   318MWESTW_4,  P21E,   131,  1,     23, SI9405,2,19940505,2252,-16.7500,-134.0000, 4293,     26.0,  28.2935,  36.3730,2,  36.3722,2,    199.1,2,    203.9,2,     1.12,2,    -0.05,2,     0.01,2,     0.21,2,    1.612,2,    0.914,2,    0.919,2,   1.7496,2,    -1.04,2,   -999.0,1,   6.803,2,   2011.7,2,   2389.0,2,     8.21,2,  309.1,  0.0087,   0.080,   0.034, 28.2873,   0.008
   318MWESTW_4,  P21E,   131,  1,     22, SI9407,2,19940505,2252,-16.7500,-134.0000, 4293,     48.8,  28.2796,  36.3748,2,  36.3744,2,    200.6,2,    204.4,2,     1.04,2,     0.03,2,     0.02,2,     0.21,2,    1.603,2,    0.916,2,    0.874,2,   1.6871,2,    -1.16,2,   -999.0,1,   6.573,2,   2010.7,2,   2387.0,2,     8.21,2,  537.0,  0.0084,   0.080,   0.033, 28.2680,   0.007
   318MWESTW_4,  P21E,   131,  1,     21, SI9408,2,19940505,2252,-16.7500,-134.0000, 4293,    101.1,  26.3834,  36.4477,2,  36.4515,2,    212.9,2,    219.2,2,     0.82,2,    -0.02,2,     0.02,2,     0.20,2,    1.841,2,    1.073,2,    0.857,2,   1.7009,2,    -0.88,2,   -999.0,1,   6.722,2,   2028.7,2,   2395.0,2,     8.19,2, 1058.6,  0.0085,   0.080,   0.034, 26.3605,   0.007
   318MWESTW_4,  P21E,   131,  1,     20, SI9409,2,19940505,2252,-16.7500,-134.0000, 4293,    151.9,  24.3439,  36.3148,2,  36.3305,2,    212.1,2,    206.6,2,     0.75,2,     0.02,2,     0.02,2,     0.22,2,    1.865,2,    1.042,2,    0.828,2,   1.7014,2,    -1.24,2,   -999.0,1,   6.765,2,   2038.8,2,   2386.0,2,     8.16,2, 1564.5,  0.0085,   0.080,   0.034, 24.3114,   0.007
   318MWESTW_4,  P21E,   131,  1,     19, SI9411,2,19940505,2252,-16.7500,-134.0000, 4293,    201.0,  22.1847,  36.0604,2,  36.0667,2,    199.5,2,    196.1,2,     0.82,2,     0.59,2,     0.38,2,     0.30,2,    1.981,2,    1.080,2,    0.790,2,   1.7155,2,    -0.81,2,   -999.0,1,   6.872,2,   -999.0,9,   -999.0,9,  -999.00,9, 2054.1,  0.0086,   0.080,   0.034, 22.1445,   0.007
   318MWESTW_4,  P21E,   131,  1,     18, SI9413,9,19940505,2252,-16.7500,-134.0000, 4293,    249.4,  19.9574,  35.7518,2,-999.0000,9,    188.0,2,   -999.0,9,  -999.00,9,  -999.00,9,  -999.00,9,  -999.00,9, -999.000,9, -999.000,9, -999.000,1,-999.0000,1,  -999.00,9,   -999.0,1,-999.000,9,   -999.0,9,   -999.0,9,  -999.00,9, 2536.4,-999.0000,-999.000,-999.000, 19.9111,-999.000
   318MWESTW_4,  P21E,   131,  1,     17, SI9415,2,19940505,2252,-16.7500,-134.0000, 4293,    297.7,  17.5675,  35.3903,2,  35.3955,2,    184.1,2,    180.6,2,     1.36,2,     5.09,2,     0.03,2,     0.62,2,    1.934,2,    1.012,2,    0.599,2,   1.7359,2,     0.25,2,   -999.0,1,   7.098,2,   2087.8,2,   2324.0,2,     8.00,2, 3016.8,  0.0087,   0.080,   0.035, 17.5170,   0.007
   318MWESTW_4,  P21E,   131,  1,     16, SI9416,2,19940505,2252,-16.7500,-134.0000, 4293,    395.8,  10.7936,  34.5942,2,  34.5916,2,    124.2,2,    115.8,2,    11.30,2,    21.43,2,     0.01,2,     1.79,2,    0.752,2,    0.378,2,    0.269,2,   1.7361,2,     1.88,2,   -999.0,1,   7.365,2,   2174.9,2,   2282.0,2,     7.72,2, 3993.2,  0.0087,   0.080,   0.037, 10.7452,   0.005
   318MWESTW_4,  P21E,   131,  1,     15, SI9417,2,19940505,2252,-16.7500,-134.0000, 4293,    499.0,   7.5044,  34.4345,2,  34.4316,2,    115.2,2,    115.9,2,    18.98,2,    31.45,2,     0.02,2,     2.26,2,    0.152,2,    0.076,2, -999.000,1,   1.7583,2,     1.62,2,   -999.0,1,   7.562,2,   2211.9,2,   2282.0,2,     7.61,2, 5019.5,  0.0088,   0.080,   0.038,  7.4552,-999.000
   318MWESTW_4,  P21E,   131,  1,     14, SI9419,2,19940505,2252,-16.7500,-134.0000, 4293,    598.2,   5.9788,  34.3808,2,  34.3768,2,    151.3,2,    150.9,2,    23.45,2,    32.45,2,     0.02,2,     2.23,2,    0.059,2,    0.034,2,    0.016,2,   1.7897,2,     2.42,2,   -999.0,1,   7.721,2,   2204.9,2,   2285.0,2,     7.65,2, 6005.8,  0.0089,   0.080,   0.039,  5.9263,   0.004
   318MWESTW_4,  P21E,   131,  1,     13, SI9420,2,19940505,2252,-16.7500,-134.0000, 4293,    704.8,   5.4325,  34.4415,2,  34.4365,2,    129.0,2,    125.8,2,    39.48,2,    35.55,2,     0.03,2,     2.45,2,    0.006,2,    0.002,2,    0.004,2,   1.8116,2,     7.25,2,   -999.0,1,   7.769,2,   2232.9,2,   2300.0,2,     7.61,2, 7065.5,  0.0091,   0.090,   0.039,  5.3730,   0.004
   318MWESTW_4,  P21E,   131,  1,     12, SI9421,2,19940505,2252,-16.7500,-134.0000, 4293,    897.0,   4.6867,  34.5035,2,  34.5025,2,    103.0,2,    102.1,2,    62.78,2,    38.66,2,     0.01,2,     2.68,2,    0.001,2,   -0.001,2,   -0.003,2,   1.8364,2,    13.95,2,   -999.0,1,   7.839,2,   2273.0,2,   2325.0,2,     7.57,2, 8976.3,  0.0092,   0.090,   0.039,  4.6148,   0.003
   318MWESTW_4,  P21E,   131,  1,     11, SI9423,2,19940505,2252,-16.7500,-134.0000, 4293,   1201.9,   3.6503,  34.5504,2,  34.5490,2,     98.2,2,     98.0,2,    87.90,2,    39.79,2,     0.01,2,     2.80,2,    0.002,2,   -0.003,2,   -0.001,2,   1.8595,2,    19.57,2,   -999.0,1,   7.910,2,   2303.0,2,   2356.0,2,     7.55,2,12008.3,  0.0093,   0.100,   0.040,  3.5607,   0.004
   318MWESTW_4,  P21E,   131,  1,     10, SI9425,2,19940505,2252,-16.7500,-134.0000, 4293,   1502.1,   2.9641,  34.5855,2,  34.5863,2,    112.4,2,    113.8,2,   103.30,2,    38.64,2,     0.00,2,     2.72,2,    0.002,2,   -0.002,2,    0.006,2,   1.8911,2,    23.14,2,   -999.0,1,   8.004,2,   2312.0,2,   2370.0,2,     7.59,2,14993.1,  0.0095,   0.100,   0.040,  2.8565,   0.004
   318MWESTW_4,  P21E,   131,  1,      9, SI9424,2,19940505,2252,-16.7500,-134.0000, 4293,   1800.9,   2.3848,  34.6212,2,  34.6205,2,    130.4,2,    131.9,2,   113.55,2,    37.20,2,     0.01,2,     2.59,2,    0.001,2,   -0.001,2,   -0.005,2,   1.9014,2,    27.52,2,   -999.0,1,   8.039,2,   2313.0,2,   2383.0,2,     7.62,2,17963.7,  0.0095,   0.100,   0.040,  2.2595,   0.003
   318MWESTW_4,  P21E,   131,  1,      8, SI9428,2,19940505,2252,-16.7500,-134.0000, 4293,   2144.2,   1.9971,  34.6481,2,  34.6476,2,    151.0,2,    150.8,2,   118.33,2,    35.73,2,     0.01,2,     2.47,2, -999.000,9, -999.000,9, -999.000,1,-999.0000,1,  -999.00,9,   -999.0,1,-999.000,9,   2304.0,2,   2390.0,2,     7.64,2,21376.5,-999.0000,-999.000,-999.000,  1.8484,-999.000
   318MWESTW_4,  P21E,   131,  1,      7, SI9429,2,19940505,2252,-16.7500,-134.0000, 4293,   2498.3,   1.8358,  34.6642,2,  34.6645,2,    152.6,2,    153.0,2,   124.63,2,    35.49,2,     0.00,2,     2.45,2, -999.000,9, -999.000,9, -999.000,1,-999.0000,1,  -999.00,9,   -999.0,1,-999.000,9,   2308.0,2,   2396.0,2,     7.65,2,24896.9,-999.0000,-999.000,-999.000,  1.6587,-999.000
   318MWESTW_4,  P21E,   131,  1,      6, SI9431,2,19940505,2252,-16.7500,-134.0000, 4293,   2846.6,   1.7355,  34.6739,2,  34.6739,2,    154.4,2,    155.1,2,   128.96,2,    35.58,2,    -0.01,2,     2.45,2, -999.000,9, -999.000,9, -999.000,1,-999.0000,1,  -999.00,9,   -999.0,1,-999.000,9,   2313.0,2,   2403.0,2,     7.65,2,28359.3,-999.0000,-999.000,-999.000,  1.5282,-999.000
   318MWESTW_4,  P21E,   131,  1,      5, SI9432,2,19940505,2252,-16.7500,-134.0000, 4293,   3196.1,   1.6622,  34.6804,2,  34.6800,2,    157.1,2,    157.2,2,   132.37,2,    35.36,2,     0.01,2,     2.45,2, -999.000,9, -999.000,9, -999.000,1,-999.0000,1,  -999.00,9,   -999.0,1,-999.000,9,   2315.0,2,   2407.0,2,     7.66,2,31834.4,-999.0000,-999.000,-999.000,  1.4227,-999.000
   318MWESTW_4,  P21E,   131,  1,      4, SI9433,2,19940505,2252,-16.7500,-134.0000, 4293,   3545.8,   1.5914,  34.6855,2,  34.6840,2,    161.5,2,    161.6,2,   132.75,2,    35.08,2,     0.01,2,     2.42,2, -999.000,9, -999.000,9, -999.000,1,-999.0000,1,  -999.00,9,   -999.0,1,-999.000,9,   2312.0,2,   2409.0,2,     7.66,2,35310.5,-999.0000,-999.000,-999.000,  1.3182,-999.000
   318MWESTW_4,  P21E,   131,  1,      3, SI9435,2,19940505,2252,-16.7500,-134.0000, 4293,   3898.3,   1.5404,  34.6899,2,  34.6889,2,    167.6,2,    167.4,2,   131.01,2,    34.65,2,     0.01,2,     2.39,2, -999.000,9, -999.000,9, -999.000,1,-999.0000,1,  -999.00,9,   -999.0,1,-999.000,9,   2306.0,2,   2402.0,2,     7.67,2,38814.5,-999.0000,-999.000,-999.000,  1.2314,-999.000
   318MWESTW_4,  P21E,   131,  1,      2, SI9401,2,19940505,2252,-16.7500,-134.0000, 4293,   4250.6,   1.5458,  34.6907,2,  34.6893,2,    170.5,2,    169.5,2,   130.18,2,    34.56,2,     0.00,2,     2.38,2, -999.000,9, -999.000,9, -999.000,1,-999.0000,1,  -999.00,9,   -999.0,1,-999.000,9,   2304.0,2,   2402.0,2,     7.67,2,42316.7,-999.0000,-999.000,-999.000,  1.1978,-999.000
   318MWESTW_4,  P21E,   131,  1,      1, SI9403,2,19940505,2252,-16.7500,-134.0000, 4293,   4344.7,   1.5537,  34.6904,2,  34.6905,2,    168.6,2,    170.4,2,   130.12,2,    34.49,2,     0.01,2,     2.38,2, -999.000,9, -999.000,9, -999.000,1,-999.0000,1,  -999.00,9,   -999.0,1,-999.000,9,   2304.0,2,   2400.0,2,     7.67,2,43252.5,-999.0000,-999.000,-999.000,  1.1948,-999.000