BOTTLE,20010911WHPSIOdm
EXPOCODE,SECT_ID,STNNBR,CASTNO,SAMPNO,BTLNBR,BTLNBR_FLAG_W,DATE,TIME,LATITUDE,LONGITUDE,DEPTH,CTDPRS,CTDTMP,CTDSAL,CTDSAL_FLAG_W,SALNTY,SALNTY_FLAG_W,CTDOXY,CTDOXY_FLAG_W,OXYGEN,OXYGEN_FLAG_W,SILCAT,SILCAT_FLAG_W,NITRAT,NITRAT_FLAG_W,NITRIT,NITRIT_FLAG_W,PHSPHT,PHSPHT_FLAG_W,CFC-11,CFC-11_FLAG_W,CFC-12,CFC-12_FLAG_W,TRITUM,TRITUM_FLAG_W,HELIUM,HELIUM_FLAG_W,DELHE3,DELHE3_FLAG_W,DELC14,DELC14_FLAG_W,NEON,NEON_FLAG_W,TCARBN,TCARBN_FLAG_W,ALKALI,ALKALI_FLAG_W,PH,PH_FLAG_W,CTDRAW,HELIER,DELHER,NEONER,THETA,TRITER
,,,,,,,,,,,,DBAR,ITS-90,PSS-78,,PSS-78,,UMOL/KG,,UMOL/KG,,UMOL/KG,,UMOL/KG,,UMOL/KG,,UMOL/KG,,PMOL/KG,,PMOL/KG,,TU,,UMOL/KG,,PERCNT,,/MILLE,,NMOL/KG,,UMOL/KG,,UMOL/KG,,,,,NMOL/KG,PERCNT,NMOL/KG,ITS-90,TU
   318MWESTW_5,  P21W,   176,  1,     36, SI9442,2,19940524,2035,-17.4972,-157.0000, 4870,      4.5,  28.6242,  35.5486,2,  35.5504,2,    213.9,2,    203.1,2,     1.05,2,     0.03,2,     0.00,2,     0.20,2,    1.577,2,    0.925,2,    0.840,2,   1.6884,2,    -1.35,2,   -999.0,1,   6.589,2,   -999.0,9,   -999.0,9,  -999.00,9,  103.3,  0.0084,   0.080,   0.033, 28.6231,   0.007
   318MWESTW_5,  P21W,   176,  1,     35, SI9435,2,19940524,2035,-17.4972,-157.0000, 4870,     24.9,  28.5806,  35.5480,2,  35.5488,2,    204.1,2,    210.4,2,     0.91,2,     0.00,2,     0.00,2,     0.20,2,    1.580,2,    0.917,2, -999.000,1,-999.0000,1,  -999.00,9,   -999.0,1,-999.000,9,   -999.0,9,   -999.0,9,  -999.00,9,  306.6,-999.0000,-999.000,-999.000, 28.5746,-999.000
   318MWESTW_5,  P21W,   176,  1,     34, SI9441,2,19940524,2035,-17.4972,-157.0000, 4870,     49.5,  28.5768,  35.5516,2,  35.5531,2,    205.2,2,    203.3,2,     1.06,2,     0.00,2,     0.00,2,     0.19,2, -999.000,9, -999.000,9,    0.789,2,   1.6883,2,    -1.60,2,   -999.0,1,   6.597,2,   -999.0,9,   -999.0,9,  -999.00,9,  552.5,  0.0084,   0.080,   0.033, 28.5649,   0.007
   318MWESTW_5,  P21W,   176,  1,     33, SI9433,2,19940524,2035,-17.4972,-157.0000, 4870,     98.9,  27.2056,  36.0888,2,  36.0950,2,    213.0,2,    221.5,2,     0.93,2,     0.04,2,     0.00,2,     0.20,2,    1.751,2,    0.984,2,    0.805,2,-999.0000,1,  -999.00,9,   -999.0,1,-999.000,9,   -999.0,9,   -999.0,9,  -999.00,9, 1044.5,-999.0000,-999.000,-999.000, 27.1827,   0.007
   318MWESTW_5,  P21W,   176,  1,     32, SI9432,2,19940524,2035,-17.4972,-157.0000, 4870,    149.2,  24.1165,  35.9734,2,  35.9738,2,    196.8,2,    199.8,2,     0.93,2,     0.04,2,     0.05,2,     0.23,2,    1.921,2,    1.051,2, -999.000,1,   1.7018,2,    -1.14,2,   -999.0,1,   6.812,2,   -999.0,9,   -999.0,9,  -999.00,9, 1545.8,  0.0085,   0.080,   0.034, 24.0848,-999.000
   318MWESTW_5,  P21W,   176,  1,     31, SI9431,2,19940524,2035,-17.4972,-157.0000, 4870,    212.2,  21.5444,  35.8354,2,  35.8431,2,    182.2,2,    179.7,2,     0.94,2,     2.32,2,     0.00,2,     0.38,2,    1.933,2,    1.049,2,    0.727,2,   1.7124,2,    -0.28,2,   -999.0,1,   6.885,2,   -999.0,9,   -999.0,9,  -999.00,9, 2172.5,  0.0086,   0.080,   0.034, 21.5028,   0.007
   318MWESTW_5,  P21W,   176,  1,     30, SI9440,2,19940524,2035,-17.4972,-157.0000, 4870,    263.9,  19.1337,  35.6450,2,  35.6465,2,    177.0,2,    170.1,2,     1.84,2,     5.59,2,     0.00,2,     0.63,2,    1.764,2,    0.956,2,    0.596,2,   1.7714,2,     0.34,2,   -999.0,1,   7.199,2,   -999.0,9,   -999.0,9,  -999.00,9, 2687.6,  0.0089,   0.080,   0.036, 19.0861,   0.007
   318MWESTW_5,  P21W,   176,  1,     29, SI9429,2,19940524,2035,-17.4972,-157.0000, 4870,    352.3,  14.3060,  35.0636,2,  35.0608,2,    176.9,2,    168.4,2,     4.66,2,    11.68,2,     0.00,2,     1.02,2,    1.321,2,    0.679,2,    0.419,2,   1.7544,2,     1.47,2,   -999.0,1,   7.266,2,   -999.0,9,   -999.0,9,  -999.00,9, 3567.2,  0.0088,   0.080,   0.036, 14.2540,   0.006
   318MWESTW_5,  P21W,   176,  1,     28, SI9428,2,19940524,2035,-17.4972,-157.0000, 4870,    394.6,  12.3738,  34.8530,2,  34.8532,2,    173.3,2,    165.6,2,     6.60,2,    15.39,2,     0.00,2,     1.25,2, -999.000,9, -999.000,9,    0.306,2,   1.7455,2,     1.54,2,   -999.0,1,   7.321,2,   -999.0,9,   -999.0,9,  -999.00,9, 3987.6,  0.0087,   0.080,   0.037, 12.3209,   0.005
   318MWESTW_5,  P21W,   176,  1,     27, SI9424,2,19940524,2035,-17.4972,-157.0000, 4870,    505.3,   8.6881,  34.5311,2,  34.5278,2,    165.1,2,    160.3,2,    13.73,2,    24.34,2,     0.01,2,     1.80,2,    0.484,2,    0.249,2,    0.149,2,   1.7554,2,     1.90,2,   -999.0,1,   7.534,2,   -999.0,9,   -999.0,9,  -999.00,9, 5088.6,  0.0088,   0.080,   0.038,  8.6337,   0.005
   318MWESTW_5,  P21W,   176,  1,     26, SI9414,2,19940524,2035,-17.4972,-157.0000, 4870,    601.6,   6.6094,  34.4126,2,  34.4118,2,    175.2,2,    172.6,2,    21.02,2,    28.56,2,     0.00,2,     2.03,2,    0.221,2,    0.119,2,    0.061,2,   1.7785,2,     3.02,2,   -999.0,1,   7.654,2,   -999.0,9,   -999.0,9,  -999.00,9, 6046.1,  0.0089,   0.080,   0.038,  6.5537,   0.004
   318MWESTW_5,  P21W,   176,  1,     25, SI9425,2,19940524,2035,-17.4972,-157.0000, 4870,    705.8,   5.6118,  34.4057,2,  34.4057,2,    169.5,2,    167.4,2,    31.57,2,    31.24,2,     0.00,2,     2.20,2,    0.072,2,    0.043,2,    0.023,2,   1.8082,2,     5.96,2,   -999.0,1,   7.778,2,   -999.0,9,   -999.0,9,  -999.00,9, 7082.6,  0.0090,   0.090,   0.039,  5.5513,   0.004
   318MWESTW_5,  P21W,   176,  1,     24, SI9434,2,19940524,2035,-17.4972,-157.0000, 4870,    789.8,   5.1530,  34.4140,2,  34.4131,2,    161.2,2,    162.6,2,    38.40,2,    32.46,2,     0.00,2,     2.28,2,    0.037,2,    0.025,2,    0.012,2,   1.8288,2,     7.32,2,   -999.0,1,   7.857,2,   -999.0,9,   -999.0,9,  -999.00,9, 7917.3,  0.0091,   0.090,   0.039,  5.0876,   0.004
   318MWESTW_5,  P21W,   176,  1,     23, SI9423,2,19940524,2035,-17.4972,-157.0000, 4870,    903.7,   4.4460,  34.4554,2,  34.4548,2,    155.8,2,    153.9,2,    54.00,2,    34.07,2,     0.00,2,     2.39,2,    0.005,6,    0.002,6,    0.003,2,   1.8339,2,    12.15,2,   -999.0,1,   7.840,2,   -999.0,9,   -999.0,9,  -999.00,9, 9050.3,  0.0092,   0.090,   0.039,  4.3752,   0.004
   318MWESTW_5,  P21W,   176,  1,     22, SI9418,2,19940524,2035,-17.4972,-157.0000, 4870,    990.1,   3.9454,  34.4801,2,  34.4793,2,    154.7,2,    152.5,2,    63.95,2,    34.70,2,     0.00,2,     2.43,2,    0.000,2,    0.001,2,    0.001,2,   1.8415,2,    15.28,2,   -999.0,1,   7.869,2,   -999.0,9,   -999.0,9,  -999.00,9, 9909.7,  0.0092,   0.090,   0.039,  3.8710,   0.004
   318MWESTW_5,  P21W,   176,  1,     21, SI9421,2,19940524,2035,-17.4972,-157.0000, 4870,   1095.6,   3.5231,  34.5154,2,  34.5164,2,    151.8,2,    149.1,2,    75.98,2,    35.33,2,     0.00,2,     2.48,2,    0.000,2,   -0.002,2, -999.000,1,-999.0000,1,  -999.00,9,   -999.0,1,-999.000,9,   -999.0,9,   -999.0,9,  -999.00,9,10958.3,-999.0000,-999.000,-999.000,  3.4434,-999.000
   318MWESTW_5,  P21W,   176,  1,     20, SI9420,2,19940524,2035,-17.4972,-157.0000, 4870,   1191.5,   3.3022,  34.5330,2,  34.5335,2,    148.4,2,    147.0,2,    81.93,2,    35.51,2,     0.00,2,     2.50,2,    0.000,2,   -0.001,2,   -0.006,2,   1.9218,2,    20.25,2,   -999.0,1,   8.143,2,   -999.0,9,   -999.0,9,  -999.00,9,11912.1,  0.0096,   0.100,   0.041,  3.2167,   0.003
   318MWESTW_5,  P21W,   176,  1,     19, SI9419,2,19940524,2035,-17.4972,-157.0000, 4870,   1394.0,   2.8923,  34.5673,2,  34.6160,4,    148.1,2,    147.2,2,    93.51,2,    35.83,2,     0.00,2,     2.52,2,   -0.002,2,    0.000,2, -999.000,1,-999.0000,1,  -999.00,9,   -999.0,1,-999.000,9,   -999.0,9,   -999.0,9,  -999.00,9,13924.7,-999.0000,-999.000,-999.000,  2.7944,-999.000
   318MWESTW_5,  P21W,   176,  1,     18, SI9439,2,19940524,2035,-17.4972,-157.0000, 4870,   1590.3,   2.6118,  34.5941,2,  34.5936,2,    147.0,2,    146.7,2,   102.86,2,    35.91,2,     0.00,2,     2.53,2, -999.000,9, -999.000,9,   -0.001,2,   1.9372,2,    26.16,2,   -999.0,1,   8.204,2,   -999.0,9,   -999.0,9,  -999.00,9,15876.7,  0.0097,   0.100,   0.041,  2.5011,   0.004
   318MWESTW_5,  P21W,   176,  1,     17, SI9417,2,19940524,2035,-17.4972,-157.0000, 4870,   1796.4,   2.3638,  34.6169,2,  34.6162,2,    148.0,2,    147.2,2,   110.87,2,    35.96,2,     0.00,2,     2.53,2, -999.000,9, -999.000,9, -999.000,1,-999.0000,1,  -999.00,9,   -999.0,1,-999.000,9,   -999.0,9,   -999.0,9,  -999.00,9,17925.5,-999.0000,-999.000,-999.000,  2.2392,-999.000
   318MWESTW_5,  P21W,   176,  1,     16, SI9416,2,19940524,2035,-17.4972,-157.0000, 4870,   2001.3,   2.1863,  34.6320,2,  34.6327,2,    150.0,2,    149.0,2,   115.34,2,    35.78,2,     0.00,2,     2.52,2,    0.001,2,    0.000,2, -999.000,1,-999.0000,1,  -999.00,9,   -999.0,1,-999.000,9,   -999.0,9,   -999.0,9,  -999.00,9,19963.2,-999.0000,-999.000,-999.000,  2.0469,-999.000
   318MWESTW_5,  P21W,   176,  1,     15, SI9415,2,19940524,2035,-17.4972,-157.0000, 4870,   2205.7,   2.0594,  34.6428,2,  34.6441,2,    151.7,2,    151.4,2,   118.31,2,    35.75,2,     0.00,2,     2.50,2, -999.000,9, -999.000,9, -999.000,1,-999.0000,1,  -999.00,9,   -999.0,1,-999.000,9,   -999.0,9,   -999.0,9,  -999.00,9,21994.6,-999.0000,-999.000,-999.000,  1.9044,-999.000
   318MWESTW_5,  P21W,   176,  1,     14, SI9436,2,19940524,2035,-17.4972,-157.0000, 4870,   2402.6,   1.9324,  34.6526,2,  34.6529,2,    155.0,2,    154.8,2,   120.98,2,    35.52,2,     0.00,2,     2.49,2, -999.000,9, -999.000,9, -999.000,1,-999.0000,1,  -999.00,9,   -999.0,1,-999.000,9,   -999.0,9,   -999.0,9,  -999.00,9,23952.5,-999.0000,-999.000,-999.000,  1.7621,-999.000
   318MWESTW_5,  P21W,   176,  1,     13, SI9413,2,19940524,2035,-17.4972,-157.0000, 4870,   2600.2,   1.8171,  34.6628,2,  34.6631,2,    157.1,2,    157.3,2,   123.66,2,    35.43,2,     0.00,2,     2.48,2,    0.000,2,   -0.001,2, -999.000,1,-999.0000,1,  -999.00,9,   -999.0,1,-999.000,9,   -999.0,9,   -999.0,9,  -999.00,9,25917.2,-999.0000,-999.000,-999.000,  1.6311,-999.000
   318MWESTW_5,  P21W,   176,  1,     12, SI9438,2,19940524,2035,-17.4972,-157.0000, 4870,   2799.0,   1.7402,  34.6691,2,  34.6698,2,    160.2,2,    158.8,2,   125.88,2,    35.34,2,     0.00,2,     2.47,2, -999.000,9, -999.000,9, -999.000,1,-999.0000,1,  -999.00,9,   -999.0,1,-999.000,9,   -999.0,9,   -999.0,9,  -999.00,9,27893.4,-999.0000,-999.000,-999.000,  1.5373,-999.000
   318MWESTW_5,  P21W,   176,  1,     11, SI9411,2,19940524,2035,-17.4972,-157.0000, 4870,   3010.5,   1.6553,  34.6764,2,  34.6763,2,    165.0,2,    164.8,2,   125.74,2,    35.04,2,     0.00,2,     2.44,2, -999.000,9, -999.000,9, -999.000,1,-999.0000,1,  -999.00,9,   -999.0,1,-999.000,9,   -999.0,9,   -999.0,9,  -999.00,9,29995.9,-999.0000,-999.000,-999.000,  1.4341,-999.000
   318MWESTW_5,  P21W,   176,  1,     10, SI9412,2,19940524,2035,-17.4972,-157.0000, 4870,   3201.4,   1.5906,  34.6804,2,  34.6814,2,    169.6,2,    168.7,2,   125.15,2,    34.72,2,     0.01,2,     2.41,2, -999.000,9, -999.000,9, -999.000,1,-999.0000,1,  -999.00,9,   -999.0,1,-999.000,9,   -999.0,9,   -999.0,9,  -999.00,9,31894.0,-999.0000,-999.000,-999.000,  1.3522,-999.000
   318MWESTW_5,  P21W,   176,  1,      9, SI9410,2,19940524,2035,-17.4972,-157.0000, 4870,   3400.2,   1.5424,  34.6846,2,  34.6848,2,    173.1,2,    172.9,2,   125.00,2,    34.49,2,     0.01,2,     2.40,2, -999.000,9, -999.000,9, -999.000,1,-999.0000,1,  -999.00,9,   -999.0,1,-999.000,9,   -999.0,9,   -999.0,9,  -999.00,9,33870.6,-999.0000,-999.000,-999.000,  1.2853,-999.000
   318MWESTW_5,  P21W,   176,  1,      8, SI9422,2,19940524,2035,-17.4972,-157.0000, 4870,   3601.0,   1.4849,  34.6891,2,  34.6895,2,    176.5,2,    176.5,2,   124.56,2,    34.18,2,     0.01,2,     2.38,2,    0.001,2,    0.000,2, -999.000,1,-999.0000,1,  -999.00,9,   -999.0,1,-999.000,9,   -999.0,9,   -999.0,9,  -999.00,9,35866.0,-999.0000,-999.000,-999.000,  1.2087,-999.000
   318MWESTW_5,  P21W,   176,  1,      7, SI9407,2,19940524,2035,-17.4972,-157.0000, 4870,   3803.5,   1.4293,  34.6934,2,  34.6940,2,    181.1,2,    174.5,4,   123.83,2,    33.79,2,     0.00,2,     2.36,2, -999.000,9, -999.000,9, -999.000,1,-999.0000,1,  -999.00,9,   -999.0,1,-999.000,9,   -999.0,9,   -999.0,9,  -999.00,9,37879.9,-999.0000,-999.000,-999.000,  1.1334,-999.000
   318MWESTW_5,  P21W,   176,  1,      6, SI9427,2,19940524,2035,-17.4972,-157.0000, 4870,   4002.7,   1.4133,  34.6953,2,  34.6958,2,    184.1,2,    184.0,2,   122.96,2,    33.64,2,     0.00,2,     2.35,2, -999.000,9, -999.000,9, -999.000,1,-999.0000,1,  -999.00,9,   -999.0,1,-999.000,9,   -999.0,9,   -999.0,9,  -999.00,9,39860.4,-999.0000,-999.000,-999.000,  1.0965,-999.000
   318MWESTW_5,  P21W,   176,  1,      5, SI9405,2,19940524,2035,-17.4972,-157.0000, 4870,   4189.7,   1.3961,  34.6971,2,  34.6989,2,    187.1,2,    185.7,2,   122.58,2,    33.42,2,     0.00,2,     2.33,2, -999.000,9, -999.000,9, -999.000,1,-999.0000,1,  -999.00,9,   -999.0,1,-999.000,9,   -999.0,9,   -999.0,9,  -999.00,9,41719.5,-999.0000,-999.000,-999.000,  1.0593,-999.000
   318MWESTW_5,  P21W,   176,  1,      4, SI9404,2,19940524,2035,-17.4972,-157.0000, 4870,   4375.4,   1.3849,  34.6995,2,  34.6995,2,    189.0,2,    187.4,2,   122.21,2,    33.35,2,     0.00,2,     2.32,2, -999.000,9, -999.000,9, -999.000,1,-999.0000,1,  -999.00,9,   -999.0,1,-999.000,9,   -999.0,9,   -999.0,9,  -999.00,9,43565.5,-999.0000,-999.000,-999.000,  1.0276,-999.000
   318MWESTW_5,  P21W,   176,  1,      3, SI9403,2,19940524,2035,-17.4972,-157.0000, 4870,   4583.7,   1.3884,  34.7000,2,  34.7003,2,    190.9,2,    188.8,2,   121.77,2,    33.27,2,     0.00,2,     2.30,2,    0.002,2,   -0.001,2, -999.000,1,-999.0000,1,  -999.00,9,   -999.0,1,-999.000,9,   -999.0,9,   -999.0,9,  -999.00,9,45636.4,-999.0000,-999.000,-999.000,  1.0072,-999.000
   318MWESTW_5,  P21W,   176,  1,      2, SI9437,2,19940524,2035,-17.4972,-157.0000, 4870,   4833.5,   1.4041,  34.7010,2,  34.7011,2,    191.4,2,    189.5,2,   121.77,2,    33.21,2,     0.01,2,     2.30,2, -999.000,9, -999.000,9, -999.000,1,-999.0000,1,  -999.00,9,   -999.0,1,-999.000,9,   -999.0,9,   -999.0,9,  -999.00,9,48119.0,-999.0000,-999.000,-999.000,  0.9930,-999.000
   318MWESTW_5,  P21W,   176,  1,      1, SI9401,2,19940524,2035,-17.4972,-157.0000, 4870,   4946.2,   1.4155,  34.7019,2,  34.7011,2,    192.9,2,    191.0,2,   121.55,2,    33.14,2,     0.01,2,     2.31,2, -999.000,9, -999.000,9, -999.000,1,-999.0000,1,  -999.00,9,   -999.0,1,-999.000,9,   -999.0,9,   -999.0,9,  -999.00,9,49239.4,-999.0000,-999.000,-999.000,  0.9905,-999.000