BOTTLE,20010911WHPSIOdm
EXPOCODE,SECT_ID,STNNBR,CASTNO,SAMPNO,BTLNBR,BTLNBR_FLAG_W,DATE,TIME,LATITUDE,LONGITUDE,DEPTH,CTDPRS,CTDTMP,CTDSAL,CTDSAL_FLAG_W,SALNTY,SALNTY_FLAG_W,CTDOXY,CTDOXY_FLAG_W,OXYGEN,OXYGEN_FLAG_W,SILCAT,SILCAT_FLAG_W,NITRAT,NITRAT_FLAG_W,NITRIT,NITRIT_FLAG_W,PHSPHT,PHSPHT_FLAG_W,CFC-11,CFC-11_FLAG_W,CFC-12,CFC-12_FLAG_W,TRITUM,TRITUM_FLAG_W,HELIUM,HELIUM_FLAG_W,DELHE3,DELHE3_FLAG_W,DELC14,DELC14_FLAG_W,NEON,NEON_FLAG_W,TCARBN,TCARBN_FLAG_W,ALKALI,ALKALI_FLAG_W,PH,PH_FLAG_W,CTDRAW,HELIER,DELHER,NEONER,THETA,TRITER
,,,,,,,,,,,,DBAR,ITS-90,PSS-78,,PSS-78,,UMOL/KG,,UMOL/KG,,UMOL/KG,,UMOL/KG,,UMOL/KG,,UMOL/KG,,PMOL/KG,,PMOL/KG,,TU,,UMOL/KG,,PERCNT,,/MILLE,,NMOL/KG,,UMOL/KG,,UMOL/KG,,,,,NMOL/KG,PERCNT,NMOL/KG,ITS-90,TU
   318MWESTW_4,  P21E,   140,  1,     24, SI9404,2,19940508,1037,-16.7500,-140.0000, 2595,     21.6,  28.6150,  36.2710,2,  36.2665,2,    201.6,2,    204.2,2,     0.36,2,     0.02,2,     0.00,2,     0.21,2,    1.585,2,    0.897,2, -999.000,1,-999.0000,1,  -999.00,9,   -999.0,1,-999.000,9,   -999.0,9,   -999.0,9,  -999.00,9,  266.7,-999.0000,-999.000,-999.000, 28.6098,-999.000
   318MWESTW_4,  P21E,   140,  1,     23, SI9405,2,19940508,1037,-16.7500,-140.0000, 2595,     52.2,  28.5817,  36.2827,2,  36.2867,2,    201.0,2,    203.3,2,     0.37,2,     0.02,2,     0.00,2,     0.21,2,    1.563,2,    0.894,2, -999.000,1,-999.0000,1,  -999.00,9,   -999.0,1,-999.000,9,   -999.0,9,   -999.0,9,  -999.00,9,  571.8,-999.0000,-999.000,-999.000, 28.5692,-999.000
   318MWESTW_4,  P21E,   140,  1,     22, SI9407,2,19940508,1037,-16.7500,-140.0000, 2595,     98.0,  26.8774,  36.4143,2,  36.4136,2,    215.5,2,    214.7,2,     0.23,2,     0.07,2,    -0.01,2,     0.22,2,    1.740,2,    0.994,2, -999.000,1,-999.0000,1,  -999.00,9,   -999.0,1,-999.000,9,   -999.0,9,   -999.0,9,  -999.00,9, 1028.5,-999.0000,-999.000,-999.000, 26.8549,-999.000
   318MWESTW_4,  P21E,   140,  1,     21, SI9408,2,19940508,1037,-16.7500,-140.0000, 2595,    147.7,  24.4398,  36.3066,2,  36.3200,2,    206.7,2,    206.1,2,     0.10,2,     0.01,2,     0.00,2,     0.24,2,    1.862,2,    1.028,2, -999.000,1,-999.0000,1,  -999.00,9,   -999.0,1,-999.000,9,   -999.0,9,   -999.0,9,  -999.00,9, 1523.5,-999.0000,-999.000,-999.000, 24.4081,-999.000
   318MWESTW_4,  P21E,   140,  1,     20, SI9409,2,19940508,1037,-16.7500,-140.0000, 2595,    199.1,  22.4989,  36.1368,2,  36.1280,2,    191.3,2,    192.3,2,     0.10,2,     1.15,2,     0.25,2,     0.37,2,    1.923,2,    1.049,2, -999.000,1,-999.0000,1,  -999.00,9,   -999.0,1,-999.000,9,   -999.0,9,   -999.0,9,  -999.00,9, 2035.5,-999.0000,-999.000,-999.000, 22.4586,-999.000
   318MWESTW_4,  P21E,   140,  1,     19, SI9411,2,19940508,1037,-16.7500,-140.0000, 2595,    248.7,  20.3702,  35.8555,2,  35.8532,2,    182.1,2,    180.9,2,     0.25,2,     3.22,2,     0.01,2,     0.51,2,    1.959,2,    1.046,2, -999.000,1,-999.0000,1,  -999.00,9,   -999.0,1,-999.000,9,   -999.0,9,   -999.0,9,  -999.00,9, 2529.2,-999.0000,-999.000,-999.000, 20.3233,-999.000
   318MWESTW_4,  P21E,   140,  1,     18, SI9413,2,19940508,1037,-16.7500,-140.0000, 2595,    299.1,  17.1372,  35.3462,2,  35.3524,2,    176.7,2,    173.4,2,     1.46,2,     6.51,2,     0.00,2,     0.71,2,    1.821,2,    0.950,2, -999.000,1,-999.0000,1,  -999.00,9,   -999.0,1,-999.000,9,   -999.0,9,   -999.0,9,  -999.00,9, 3030.7,-999.0000,-999.000,-999.000, 17.0873,-999.000
   318MWESTW_4,  P21E,   140,  1,     17, SI9415,2,19940508,1037,-16.7500,-140.0000, 2595,    401.4,  11.0819,  34.6480,2,  34.6464,2,    136.2,2,    133.3,2,     9.32,2,    19.85,2,     0.01,2,     1.63,2,    0.827,2,    0.413,2, -999.000,1,-999.0000,1,  -999.00,9,   -999.0,1,-999.000,9,   -999.0,9,   -999.0,9,  -999.00,9, 4048.0,-999.0000,-999.000,-999.000, 11.0319,-999.000
   318MWESTW_4,  P21E,   140,  1,     16, SI9416,2,19940508,1037,-16.7500,-140.0000, 2595,    503.9,   7.6676,  34.4504,2,  34.4455,2,    118.8,2,    118.6,2,    18.54,2,    30.60,2,     0.00,2,     2.23,2,    0.174,6,    0.096,6, -999.000,1,-999.0000,1,  -999.00,9,   -999.0,1,-999.000,9,   -999.0,9,   -999.0,9,  -999.00,9, 5067.5,-999.0000,-999.000,-999.000,  7.6173,-999.000
   318MWESTW_4,  P21E,   140,  1,     15, SI9417,2,19940508,1037,-16.7500,-140.0000, 2595,    599.0,   6.3658,  34.4547,2,  34.4542,2,    128.5,2,    125.5,2,    30.41,2,    33.42,2,     0.00,2,     2.35,2,    0.037,2,    0.018,2, -999.000,1,-999.0000,1,  -999.00,9,   -999.0,1,-999.000,9,   -999.0,9,   -999.0,9,  -999.00,9, 6012.9,-999.0000,-999.000,-999.000,  6.3114,-999.000
   318MWESTW_4,  P21E,   140,  1,     14, SI9419,2,19940508,1037,-16.7500,-140.0000, 2595,    696.3,   5.7838,  34.4676,2,  34.4671,2,    126.2,2,    123.8,2,    39.32,2,    34.80,2,     0.00,2,     2.43,2,    0.013,2,    0.006,2, -999.000,1,-999.0000,1,  -999.00,9,   -999.0,1,-999.000,9,   -999.0,9,   -999.0,9,  -999.00,9, 6980.6,-999.0000,-999.000,-999.000,  5.7232,-999.000
   318MWESTW_4,  P21E,   140,  1,     13, SI9420,2,19940508,1037,-16.7500,-140.0000, 2595,    799.0,   5.2426,  34.4891,2,  34.4870,2,    120.5,2,    115.6,2,    50.16,2,    36.37,2,     0.00,2,     2.55,2,    0.001,2,   -0.001,2, -999.000,1,-999.0000,1,  -999.00,9,   -999.0,1,-999.000,9,   -999.0,9,   -999.0,9,  -999.00,9, 8002.3,-999.0000,-999.000,-999.000,  5.1757,-999.000
   318MWESTW_4,  P21E,   140,  1,     12, SI9421,2,19940508,1037,-16.7500,-140.0000, 2595,    902.6,   4.7984,  34.4994,2,  34.4987,2,    114.7,2,    113.8,2,    59.22,2,    37.21,2,     0.01,2,     2.61,2,    0.003,2,    0.000,2, -999.000,1,-999.0000,1,  -999.00,9,   -999.0,1,-999.000,9,   -999.0,9,   -999.0,9,  -999.00,9, 9031.6,-999.0000,-999.000,-999.000,  4.7252,-999.000
   318MWESTW_4,  P21E,   140,  1,     11, SI9423,2,19940508,1037,-16.7500,-140.0000, 2595,    990.6,   4.4123,  34.5129,2,  34.5119,2,    113.3,2,    112.2,2,    67.38,2,    37.81,2,     0.00,2,     2.66,2,    0.000,2,    0.000,2, -999.000,1,-999.0000,1,  -999.00,9,   -999.0,1,-999.000,9,   -999.0,9,   -999.0,9,  -999.00,9, 9906.8,-999.0000,-999.000,-999.000,  4.3343,-999.000
   318MWESTW_4,  P21E,   140,  1,     10, SI9425,2,19940508,1037,-16.7500,-140.0000, 2595,   1196.8,   3.5208,  34.5420,2,  34.5408,2,    132.2,2,    133.5,2,    81.94,2,    36.44,2,     0.01,2,     2.57,2,   -0.003,2,   -0.003,2, -999.000,1,-999.0000,1,  -999.00,9,   -999.0,1,-999.000,9,   -999.0,9,   -999.0,9,  -999.00,9,11957.5,-999.0000,-999.000,-999.000,  3.4328,-999.000
   318MWESTW_4,  P21E,   140,  1,      9, SI9424,2,19940508,1037,-16.7500,-140.0000, 2595,   1399.7,   3.0522,  34.5709,2,  34.5700,2,    130.6,2,    130.1,2,    94.26,2,    37.09,2,     0.00,2,     2.62,2, -999.000,9, -999.000,9, -999.000,1,-999.0000,1,  -999.00,9,   -999.0,1,-999.000,9,   -999.0,9,   -999.0,9,  -999.00,9,13974.3,-999.0000,-999.000,-999.000,  2.9521,-999.000
   318MWESTW_4,  P21E,   140,  1,      8, SI9428,2,19940508,1037,-16.7500,-140.0000, 2595,   1599.5,   2.6337,  34.5945,2,  34.5938,2,    140.7,2,    141.4,2,   101.83,2,    36.32,2,     0.01,2,     2.55,2, -999.000,9, -999.000,9, -999.000,1,-999.0000,1,  -999.00,9,   -999.0,1,-999.000,9,   -999.0,9,   -999.0,9,  -999.00,9,15960.9,-999.0000,-999.000,-999.000,  2.5219,-999.000
   318MWESTW_4,  P21E,   140,  1,      7, SI9429,2,19940508,1037,-16.7500,-140.0000, 2595,   1806.2,   2.3334,  34.6167,2,  34.6150,2,    147.2,2,    146.8,2,   108.22,2,    35.81,2,     0.02,2,     2.52,2, -999.000,9, -999.000,9, -999.000,1,-999.0000,1,  -999.00,9,   -999.0,1,-999.000,9,   -999.0,9,   -999.0,9,  -999.00,9,18015.5,-999.0000,-999.000,-999.000,  2.2084,-999.000
   318MWESTW_4,  P21E,   140,  1,      6, SI9431,2,19940508,1037,-16.7500,-140.0000, 2595,   1999.6,   2.1314,  34.6344,2,  34.6327,2,    150.9,2,    151.1,2,   113.27,2,    35.64,2,     0.01,2,     2.49,2, -999.000,9, -999.000,9, -999.000,1,-999.0000,1,  -999.00,9,   -999.0,1,-999.000,9,   -999.0,9,   -999.0,9,  -999.00,9,19938.3,-999.0000,-999.000,-999.000,  1.9930,-999.000
   318MWESTW_4,  P21E,   140,  1,      5, SI9432,2,19940508,1037,-16.7500,-140.0000, 2595,   2194.6,   1.9743,  34.6481,2,  34.6488,2,    154.4,2,    154.7,2,   117.14,2,    35.33,2,     0.00,2,     2.48,2, -999.000,9, -999.000,9, -999.000,1,-999.0000,1,  -999.00,9,   -999.0,1,-999.000,9,   -999.0,9,   -999.0,9,  -999.00,9,21876.4,-999.0000,-999.000,-999.000,  1.8216,-999.000
   318MWESTW_4,  P21E,   140,  1,      4, SI9433,2,19940508,1037,-16.7500,-140.0000, 2595,   2351.8,   1.8800,  34.6565,2,  34.6561,2,    157.4,2,    157.8,2,   118.78,2,    35.09,2,     0.01,2,     2.47,2, -999.000,9, -999.000,9, -999.000,1,-999.0000,1,  -999.00,9,   -999.0,1,-999.000,9,   -999.0,9,   -999.0,9,  -999.00,9,23439.1,-999.0000,-999.000,-999.000,  1.7152,-999.000
   318MWESTW_4,  P21E,   140,  1,      3, SI9435,2,19940508,1037,-16.7500,-140.0000, 2595,   2509.7,   1.8392,  34.6609,2,  34.6604,2,    158.3,2,    159.3,2,   119.68,2,    34.98,2,     0.02,2,     2.45,2, -999.000,9, -999.000,9, -999.000,1,-999.0000,1,  -999.00,9,   -999.0,1,-999.000,9,   -999.0,9,   -999.0,9,  -999.00,9,25009.0,-999.0000,-999.000,-999.000,  1.6610,-999.000
   318MWESTW_4,  P21E,   140,  1,      1, SI9403,2,19940508,1037,-16.7500,-140.0000, 2595,   2602.9,   1.8292,  34.6619,2,  34.6608,2,    157.8,2,    160.3,2,   119.95,2,    35.04,2,     0.00,2,     2.45,2, -999.000,9, -999.000,9, -999.000,1,-999.0000,1,  -999.00,9,   -999.0,1,-999.000,9,   -999.0,9,   -999.0,9,  -999.00,9,25934.9,-999.0000,-999.000,-999.000,  1.6427,-999.000
   318MWESTW_4,  P21E,   140,  1,      2, SI9401,2,19940508,1037,-16.7500,-140.0000, 2595,   2603.5,   1.8292,  34.6620,2,  34.6604,2,    156.3,2,    159.9,2,   119.99,2,    35.02,2,     0.01,2,     2.45,2, -999.000,9, -999.000,9, -999.000,1,-999.0000,1,  -999.00,9,   -999.0,1,-999.000,9,   -999.0,9,   -999.0,9,  -999.00,9,25941.2,-999.0000,-999.000,-999.000,  1.6427,-999.000
   318MWESTW_4,  P21E,   141,  1,     24, SI9404,2,19940508,1644,-16.7500,-140.6667, 3280,      7.9,  28.6105,  36.3159,2,  36.3160,2,    199.7,2,    209.3,2,     0.69,2,     0.00,2,     0.00,2,     0.23,2,    1.586,2,    0.913,2, -999.000,1,-999.0000,1,  -999.00,9,   -999.0,1,-999.000,9,   2005.7,2,   2382.0,2,     8.21,2,  128.4,-999.0000,-999.000,-999.000, 28.6086,-999.000
   318MWESTW_4,  P21E,   141,  1,     23, SI9405,2,19940508,1644,-16.7500,-140.6667, 3280,     24.2,  28.6138,  36.3172,2,  36.3162,2,    206.0,2,    209.5,2,     0.73,2,     0.04,2,     0.01,2,     0.23,2,    1.603,2,    0.922,2, -999.000,1,-999.0000,1,  -999.00,9,   -999.0,1,-999.000,9,   2007.7,2,   2384.0,2,     8.21,2,  291.4,-999.0000,-999.000,-999.000, 28.6080,-999.000
   318MWESTW_4,  P21E,   141,  1,     22, SI9407,2,19940508,1644,-16.7500,-140.6667, 3280,     48.6,  28.6121,  36.3313,2,  36.3313,2,    204.9,2,    204.6,2,     0.76,2,     0.00,2,     0.00,2,     0.21,2,    1.582,2,    0.900,2, -999.000,1,-999.0000,1,  -999.00,9,   -999.0,1,-999.000,9,   2009.7,2,   2386.0,2,     8.21,2,  535.4,-999.0000,-999.000,-999.000, 28.6004,-999.000
   318MWESTW_4,  P21E,   141,  1,     21, SI9408,2,19940508,1644,-16.7500,-140.6667, 3280,     99.2,  25.7794,  36.3307,2,  36.3269,2,    222.5,2,    216.4,2,     0.63,2,     0.05,2,     0.00,2,     0.21,2,    1.834,2,    1.008,2, -999.000,1,-999.0000,1,  -999.00,9,   -999.0,1,-999.000,9,   2027.7,2,   2387.0,2,     8.18,2, 1039.5,-999.0000,-999.000,-999.000, 25.7573,-999.000
   318MWESTW_4,  P21E,   141,  1,     20, SI9409,2,19940508,1644,-16.7500,-140.6667, 3280,    149.2,  24.1362,  36.2123,2,  36.2151,2,    209.0,2,    211.8,2,     0.51,2,     0.21,2,     0.00,2,     0.23,2,    1.896,2,    1.048,2, -999.000,1,-999.0000,1,  -999.00,9,   -999.0,1,-999.000,9,   2035.8,2,   2378.0,2,     8.16,2, 1538.2,-999.0000,-999.000,-999.000, 24.1045,-999.000
   318MWESTW_4,  P21E,   141,  1,     19, SI9411,2,19940508,1644,-16.7500,-140.6667, 3280,    199.7,  22.4685,  36.0955,2,  36.0875,2,    188.2,2,    191.6,2,     0.55,2,     0.89,2,     0.23,2,     0.34,2,    1.955,2,    1.066,2, -999.000,1,-999.0000,1,  -999.00,9,   -999.0,1,-999.000,9,   2060.8,2,   2372.0,2,     8.11,2, 2040.8,-999.0000,-999.000,-999.000, 22.4282,-999.000
   318MWESTW_4,  P21E,   141,  1,     18, SI9413,2,19940508,1644,-16.7500,-140.6667, 3280,    250.9,  20.0120,  35.7664,2,  35.7679,2,    187.3,2,    184.5,2,     0.74,2,     2.77,2,     0.00,2,     0.46,2,    1.999,2,    1.055,2, -999.000,1,-999.0000,1,  -999.00,9,   -999.0,1,-999.000,9,   2075.8,2,   2347.0,2,     8.05,2, 2551.3,-999.0000,-999.000,-999.000, 19.9653,-999.000
   318MWESTW_4,  P21E,   141,  1,     17, SI9415,2,19940508,1644,-16.7500,-140.6667, 3280,    301.3,  16.2468,  35.2384,2,  35.2310,2,    176.3,2,    175.3,2,     2.40,2,     7.28,2,     0.00,2,     0.75,2,    1.700,6,    0.866,6, -999.000,1,-999.0000,1,  -999.00,9,   -999.0,1,-999.000,9,   2092.8,2,   2314.0,2,     7.96,2, 3052.8,-999.0000,-999.000,-999.000, 16.1984,-999.000
   318MWESTW_4,  P21E,   141,  1,     16, SI9416,2,19940508,1644,-16.7500,-140.6667, 3280,    400.1,  10.4567,  34.6060,2,  34.6052,2,    139.1,2,    134.7,2,    10.54,2,    21.11,2,     0.01,2,     1.72,2,    0.725,2,    0.366,2, -999.000,1,-999.0000,1,  -999.00,9,   -999.0,1,-999.000,9,   2165.9,2,   2282.0,2,     7.74,2, 4035.9,-999.0000,-999.000,-999.000, 10.4087,-999.000
   318MWESTW_4,  P21E,   141,  1,     15, SI9417,2,19940508,1644,-16.7500,-140.6667, 3280,    499.2,   7.5737,  34.4412,2,  34.4404,2,    161.7,2,    159.0,2,    15.92,2,    27.02,2,     0.01,2,     1.97,2,    0.368,2,    0.187,2, -999.000,1,-999.0000,1,  -999.00,9,   -999.0,1,-999.000,9,   2179.9,2,   2282.0,2,     7.71,2, 5021.0,-999.0000,-999.000,-999.000,  7.5242,-999.000
   318MWESTW_4,  P21E,   141,  1,     14, SI9419,2,19940508,1644,-16.7500,-140.6667, 3280,    598.5,   6.4392,  34.4250,2,  34.4231,2,    153.6,2,    149.9,2,    25.37,2,    30.88,2,     0.02,2,     2.20,2,    0.140,2,    0.076,2, -999.000,1,-999.0000,1,  -999.00,9,   -999.0,1,-999.000,9,   2202.9,2,   2288.0,2,     7.66,2, 6008.8,-999.0000,-999.000,-999.000,  6.3846,-999.000
   318MWESTW_4,  P21E,   141,  1,     13, SI9420,2,19940508,1644,-16.7500,-140.6667, 3280,    704.4,   5.7048,  34.4718,2,  34.4703,2,    133.2,2,    131.3,2,    41.14,2,    33.90,2,     0.01,2,     2.40,2,    0.014,2,    0.009,2, -999.000,1,-999.0000,1,  -999.00,9,   -999.0,1,-999.000,9,   2229.9,2,   2307.0,2,     7.63,2, 7061.3,-999.0000,-999.000,-999.000,  5.6439,-999.000
   318MWESTW_4,  P21E,   141,  1,     12, SI9421,2,19940508,1644,-16.7500,-140.6667, 3280,    797.7,   5.2849,  34.4837,2,  34.4818,2,    129.5,2,    122.3,2,    48.96,2,    35.63,2,     0.02,2,     2.51,2,    0.005,2,    0.000,2, -999.000,1,-999.0000,1,  -999.00,9,   -999.0,1,-999.000,9,   2244.9,2,   2318.0,2,     7.61,2, 7989.6,-999.0000,-999.000,-999.000,  5.2179,-999.000
   318MWESTW_4,  P21E,   141,  1,     11, SI9423,2,19940508,1644,-16.7500,-140.6667, 3280,   1006.3,   4.1592,  34.5168,2,  34.5170,2,    123.3,2,    124.0,2,    70.56,2,    36.71,2,     0.02,2,     2.60,2,   -0.001,2,   -0.003,2, -999.000,1,-999.0000,1,  -999.00,9,   -999.0,1,-999.000,9,   2270.0,2,   2337.0,2,     7.61,2,10063.2,-999.0000,-999.000,-999.000,  4.0818,-999.000
   318MWESTW_4,  P21E,   141,  1,     10, SI9425,2,19940508,1644,-16.7500,-140.6667, 3280,   1192.7,   3.4934,  34.5406,2,  34.5392,2,    135.2,2,    136.8,2,    81.96,2,    36.14,2,     0.01,2,     2.57,2, -999.000,9, -999.000,9, -999.000,1,-999.0000,1,  -999.00,9,   -999.0,1,-999.000,9,   2277.0,2,   2348.0,2,     7.62,2,11916.4,-999.0000,-999.000,-999.000,  3.4060,-999.000
   318MWESTW_4,  P21E,   141,  1,      9, SI9424,2,19940508,1644,-16.7500,-140.6667, 3280,   1398.0,   3.0067,  34.5641,2,  34.5637,2,    144.2,2,    143.3,2,    91.40,2,    35.85,2,     0.01,2,     2.54,2, -999.000,9, -999.000,9, -999.000,1,-999.0000,1,  -999.00,9,   -999.0,1,-999.000,9,   2282.0,2,   2360.0,2,     7.63,2,13957.5,-999.0000,-999.000,-999.000,  2.9072,-999.000
   318MWESTW_4,  P21E,   141,  1,      8, SI9428,2,19940508,1644,-16.7500,-140.6667, 3280,   1650.2,   2.5515,  34.5967,2,  34.5959,2,    148.2,2,    147.2,2,   102.14,2,    35.81,2,     0.01,2,     2.53,2, -999.000,9, -999.000,9, -999.000,1,-999.0000,1,  -999.00,9,   -999.0,1,-999.000,9,   2293.0,2,   2369.0,2,     7.63,2,16465.1,-999.0000,-999.000,-999.000,  2.4366,-999.000
   318MWESTW_4,  P21E,   141,  1,      7, SI9429,2,19940508,1644,-16.7500,-140.6667, 3280,   1897.9,   2.2167,  34.6245,2,  34.6246,2,    150.5,2,    150.4,2,   110.93,2,    35.66,2,     0.01,2,     2.52,2, -999.000,9, -999.000,9, -999.000,1,-999.0000,1,  -999.00,9,   -999.0,1,-999.000,9,   2300.0,2,   2382.0,2,     7.64,2,18927.3,-999.0000,-999.000,-999.000,  2.0856,-999.000
   318MWESTW_4,  P21E,   141,  1,      6, SI9431,2,19940508,1644,-16.7500,-140.6667, 3280,   2147.6,   2.0137,  34.6435,2,  34.6437,2,    154.2,2,    154.7,2,   116.00,2,    35.42,2,     0.01,2,     2.50,2, -999.000,9, -999.000,9, -999.000,1,-999.0000,1,  -999.00,9,   -999.0,1,-999.000,9,   2303.0,2,   2385.0,2,     7.65,2,21410.1,-999.0000,-999.000,-999.000,  1.8645,-999.000
   318MWESTW_4,  P21E,   141,  1,      5, SI9432,2,19940508,1644,-16.7500,-140.6667, 3280,   2398.4,   1.8722,  34.6572,2,  34.6578,2,    158.1,2,    157.8,2,   119.61,2,    35.19,2,     0.01,2,     2.48,2, -999.000,9, -999.000,9, -999.000,1,-999.0000,1,  -999.00,9,   -999.0,1,-999.000,9,   2305.0,2,   2392.0,2,     7.66,2,23903.5,-999.0000,-999.000,-999.000,  1.7034,-999.000
   318MWESTW_4,  P21E,   141,  1,      4, SI9433,3,19940508,1644,-16.7500,-140.6667, 3280,   2649.6,   1.7735,  34.6661,2,  35.0116,4,    161.4,2,    155.6,4,    55.90,4,    24.49,4,     0.01,4,     1.81,4, -999.000,9, -999.000,9, -999.000,1,-999.0000,1,  -999.00,9,   -999.0,1,-999.000,9,   -999.0,9,   -999.0,9,  -999.00,9,26400.5,-999.0000,-999.000,-999.000,  1.5838,-999.000
   318MWESTW_4,  P21E,   141,  1,      3, SI9435,2,19940508,1644,-16.7500,-140.6667, 3280,   2890.3,   1.7089,  34.6718,2,  34.6726,2,    164.0,2,    164.4,2,   122.13,2,    34.72,2,     0.00,2,     2.45,2, -999.000,9, -999.000,9, -999.000,1,-999.0000,1,  -999.00,9,   -999.0,1,-999.000,9,   2302.0,2,   2390.0,2,     7.66,2,28793.2,-999.0000,-999.000,-999.000,  1.4980,-999.000
   318MWESTW_4,  P21E,   141,  1,      2, SI9401,2,19940508,1644,-16.7500,-140.6667, 3280,   3214.3,   1.6711,  34.6773,2,  34.6767,2,    166.3,2,    167.1,2,   122.66,2,    34.57,2,     0.00,2,     2.45,2, -999.000,9, -999.000,9, -999.000,1,-999.0000,1,  -999.00,9,   -999.0,1,-999.000,9,   2298.0,2,   2392.0,2,     7.67,2,32014.5,-999.0000,-999.000,-999.000,  1.4296,-999.000
   318MWESTW_4,  P21E,   141,  1,      1, SI9403,2,19940508,1644,-16.7500,-140.6667, 3280,   3306.6,   1.6809,  34.6773,2,  34.6757,2,    166.7,2,    167.4,2,   122.68,2,    34.61,2,     0.00,2,     2.42,2, -999.000,9, -999.000,9, -999.000,1,-999.0000,1,  -999.00,9,   -999.0,1,-999.000,9,   2301.0,2,   2391.0,2,     7.66,2,32931.5,-999.0000,-999.000,-999.000,  1.4299,-999.000