BOTTLE,20010911WHPSIOdm
EXPOCODE,SECT_ID,STNNBR,CASTNO,SAMPNO,BTLNBR,BTLNBR_FLAG_W,DATE,TIME,LATITUDE,LONGITUDE,DEPTH,CTDPRS,CTDTMP,CTDSAL,CTDSAL_FLAG_W,SALNTY,SALNTY_FLAG_W,CTDOXY,CTDOXY_FLAG_W,OXYGEN,OXYGEN_FLAG_W,SILCAT,SILCAT_FLAG_W,NITRAT,NITRAT_FLAG_W,NITRIT,NITRIT_FLAG_W,PHSPHT,PHSPHT_FLAG_W,CFC-11,CFC-11_FLAG_W,CFC-12,CFC-12_FLAG_W,TRITUM,TRITUM_FLAG_W,HELIUM,HELIUM_FLAG_W,DELHE3,DELHE3_FLAG_W,DELC14,DELC14_FLAG_W,NEON,NEON_FLAG_W,TCARBN,TCARBN_FLAG_W,ALKALI,ALKALI_FLAG_W,PH,PH_FLAG_W,CTDRAW,HELIER,DELHER,NEONER,THETA,TRITER
,,,,,,,,,,,,DBAR,ITS-90,PSS-78,,PSS-78,,UMOL/KG,,UMOL/KG,,UMOL/KG,,UMOL/KG,,UMOL/KG,,UMOL/KG,,PMOL/KG,,PMOL/KG,,TU,,UMOL/KG,,PERCNT,,/MILLE,,NMOL/KG,,UMOL/KG,,UMOL/KG,,,,,NMOL/KG,PERCNT,NMOL/KG,ITS-90,TU
   318MWESTW_5,  P21W,   253,  1,     36, SI9442,2,19940613,0757,-19.8305, 164.6638, 3160,      7.5,  24.2670,  35.1658,2,  35.1664,2,    206.0,2,    207.1,2,     0.45,2,    -0.01,2,     0.01,2,     0.07,2,    1.835,2,    1.039,2, -999.000,1,-999.0000,1,  -999.00,9,   -999.0,1,-999.000,9,   -999.0,9,   -999.0,9,  -999.00,9,  133.4,-999.0000,-999.000,-999.000, 24.2654,-999.000
   318MWESTW_5,  P21W,   253,  1,     35, SI9435,2,19940613,0757,-19.8305, 164.6638, 3160,     20.7,  24.2680,  35.1665,2,  35.1656,2,    206.3,2,    210.7,2,     0.46,2,     0.00,2,     0.00,2,     0.07,2,    1.845,2,    1.041,2, -999.000,1,-999.0000,1,  -999.00,9,   -999.0,1,-999.000,9,   -999.0,9,   -999.0,9,  -999.00,9,  265.0,-999.0000,-999.000,-999.000, 24.2636,-999.000
   318MWESTW_5,  P21W,   253,  1,     34, SI9441,2,19940613,0757,-19.8305, 164.6638, 3160,     46.0,  24.2650,  35.1666,2,  35.1697,2,    202.1,2,    209.8,2,     0.46,2,     0.00,2,     0.00,2,     0.07,2, -999.000,9, -999.000,9, -999.000,1,-999.0000,1,  -999.00,9,   -999.0,1,-999.000,9,   -999.0,9,   -999.0,9,  -999.00,9,  516.9,-999.0000,-999.000,-999.000, 24.2552,-999.000
   318MWESTW_5,  P21W,   253,  1,     33, SI9433,2,19940613,0757,-19.8305, 164.6638, 3160,     96.5,  23.9130,  35.3272,2,  35.3220,2,    206.6,2,    210.8,2,     0.33,2,     0.01,2,     0.01,2,     0.08,2,    1.891,2,    1.058,2, -999.000,1,-999.0000,1,  -999.00,9,   -999.0,1,-999.000,9,   -999.0,9,   -999.0,9,  -999.00,9, 1019.9,-999.0000,-999.000,-999.000, 23.8927,-999.000
   318MWESTW_5,  P21W,   253,  1,     32, SI9432,2,19940613,0757,-19.8305, 164.6638, 3160,    147.5,  21.6687,  35.7257,2,  35.7252,2,    179.0,2,    181.3,2,     0.75,2,     2.98,2,     0.03,2,     0.34,2,    2.004,2,    1.087,2, -999.000,1,-999.0000,1,  -999.00,9,   -999.0,1,-999.000,9,   -999.0,9,   -999.0,9,  -999.00,9, 1528.0,-999.0000,-999.000,-999.000, 21.6397,-999.000
   318MWESTW_5,  P21W,   253,  1,     31, SI9431,2,19940613,0757,-19.8305, 164.6638, 3160,    198.2,  20.1880,  35.7107,2,  35.7112,2,    175.2,2,    179.6,2,     1.03,2,     4.12,2,     0.02,2,     0.40,2,    1.984,2,    1.076,2, -999.000,1,-999.0000,1,  -999.00,9,   -999.0,1,-999.000,9,   -999.0,9,   -999.0,9,  -999.00,9, 2032.6,-999.0000,-999.000,-999.000, 20.1510,-999.000
   318MWESTW_5,  P21W,   253,  1,     30, SI9440,2,19940613,0757,-19.8305, 164.6638, 3160,    248.0,  18.7655,  35.6175,2,  35.6232,2,    168.2,2,    170.8,2,     1.59,2,     6.00,2,     0.01,2,     0.55,2, -999.000,9, -999.000,9, -999.000,1,-999.0000,1,  -999.00,9,   -999.0,1,-999.000,9,   -999.0,9,   -999.0,9,  -999.00,9, 2528.9,-999.0000,-999.000,-999.000, 18.7214,-999.000
   318MWESTW_5,  P21W,   253,  1,     29, SI9429,2,19940613,0757,-19.8305, 164.6638, 3160,    290.8,  17.3397,  35.4949,2,  35.4937,2,    171.2,2,    175.2,2,     2.01,2,     7.08,2,     0.01,2,     0.63,2,    1.814,6,    0.964,6, -999.000,1,-999.0000,1,  -999.00,9,   -999.0,1,-999.000,9,   -999.0,9,   -999.0,9,  -999.00,9, 2954.9,-999.0000,-999.000,-999.000, 17.2908,-999.000
   318MWESTW_5,  P21W,   253,  1,     28, SI9428,2,19940613,0757,-19.8305, 164.6638, 3160,    342.3,  15.6138,  35.3492,2,  35.3470,2,    184.4,2,    180.8,2,     2.84,2,     8.90,2,     0.01,2,     0.73,2,    1.772,2,    0.934,2, -999.000,1,-999.0000,1,  -999.00,9,   -999.0,1,-999.000,9,   -999.0,9,   -999.0,9,  -999.00,9, 3467.7,-999.0000,-999.000,-999.000, 15.5602,-999.000
   318MWESTW_5,  P21W,   253,  1,     27, SI9424,2,19940613,0757,-19.8305, 164.6638, 3160,    395.8,  13.7482,  35.1642,2,  35.1589,2,    184.6,2,    181.3,2,     3.96,2,    11.71,2,     0.01,2,     0.91,2,    1.625,2,    0.843,2, -999.000,1,-999.0000,1,  -999.00,9,   -999.0,1,-999.000,9,   -999.0,9,   -999.0,9,  -999.00,9, 3999.6,-999.0000,-999.000,-999.000, 13.6912,-999.000
   318MWESTW_5,  P21W,   253,  1,     26, SI9414,2,19940613,0757,-19.8305, 164.6638, 3160,    497.8,  10.6014,  34.7977,2,  34.7697,3,    186.8,2,    186.5,2,     7.43,2,    18.09,2,     0.01,2,     1.32,2,    1.041,2,    0.517,2, -999.000,1,-999.0000,1,  -999.00,9,   -999.0,1,-999.000,9,   -999.0,9,   -999.0,9,  -999.00,9, 5015.1,-999.0000,-999.000,-999.000, 10.5407,-999.000
   318MWESTW_5,  P21W,   253,  1,     25, SI9425,2,19940613,0757,-19.8305, 164.6638, 3160,    600.2,   8.3389,  34.5753,2,  34.5649,2,    194.4,2,    197.0,2,    10.21,2,    21.86,2,     0.01,2,     1.54,2,    0.731,2,    0.374,2, -999.000,1,-999.0000,1,  -999.00,9,   -999.0,1,-999.000,9,   -999.0,9,   -999.0,9,  -999.00,9, 6032.6,-999.0000,-999.000,-999.000,  8.2755,-999.000
   318MWESTW_5,  P21W,   253,  1,     24, SI9434,2,19940613,0757,-19.8305, 164.6638, 3160,    700.2,   6.6172,  34.4342,2,  34.4328,2,    194.7,2,    194.2,2,    18.25,2,    26.18,2,     0.00,2,     1.83,2,    0.321,2,    0.174,2, -999.000,1,-999.0000,1,  -999.00,9,   -999.0,1,-999.000,9,   -999.0,9,   -999.0,9,  -999.00,9, 7027.7,-999.0000,-999.000,-999.000,  6.5519,-999.000
   318MWESTW_5,  P21W,   253,  1,     23, SI9423,2,19940613,0757,-19.8305, 164.6638, 3160,    797.6,   5.6264,  34.4109,2,  34.4100,2,    187.0,2,    189.5,2,    28.38,2,    28.67,2,     0.00,2,     2.00,2,    0.170,2,    0.097,2, -999.000,1,-999.0000,1,  -999.00,9,   -999.0,1,-999.000,9,   -999.0,9,   -999.0,9,  -999.00,9, 7995.9,-999.0000,-999.000,-999.000,  5.5574,-999.000
   318MWESTW_5,  P21W,   253,  1,     22, SI9418,2,19940613,0757,-19.8305, 164.6638, 3160,    891.0,   5.0105,  34.4162,2,  34.4157,2,    181.2,2,    181.4,2,    38.09,2,    30.49,2,     0.00,2,     2.12,2,    0.081,2,    0.045,2, -999.000,1,-999.0000,1,  -999.00,9,   -999.0,1,-999.000,9,   -999.0,9,   -999.0,9,  -999.00,9, 8924.2,-999.0000,-999.000,-999.000,  4.9370,-999.000
   318MWESTW_5,  P21W,   253,  1,     21, SI9421,2,19940613,0757,-19.8305, 164.6638, 3160,    996.1,   4.4338,  34.4468,2,  34.4473,2,    171.9,2,    172.8,2,    50.99,2,    31.90,2,     0.00,2,     2.23,2,    0.045,2,    0.025,2, -999.000,1,-999.0000,1,  -999.00,9,   -999.0,1,-999.000,9,   -999.0,9,   -999.0,9,  -999.00,9, 9969.2,-999.0000,-999.000,-999.000,  4.3552,-999.000
   318MWESTW_5,  P21W,   253,  1,     20, SI9420,2,19940613,0757,-19.8305, 164.6638, 3160,   1100.5,   3.9641,  34.4804,2,  34.4797,2,    166.6,2,    165.8,2,    62.50,2,    32.84,2,     0.01,2,     2.30,2,    0.021,2,    0.011,2, -999.000,1,-999.0000,1,  -999.00,9,   -999.0,1,-999.000,9,   -999.0,9,   -999.0,9,  -999.00,9,11007.5,-999.0000,-999.000,-999.000,  3.8804,-999.000
   318MWESTW_5,  P21W,   253,  1,     19, SI9419,2,19940613,0757,-19.8305, 164.6638, 3160,   1193.4,   3.7345,  34.5071,2,  34.5076,2,    163.4,2,    166.0,2,    69.99,2,    32.98,2,     0.01,2,     2.30,2,    0.022,2,    0.008,2, -999.000,1,-999.0000,1,  -999.00,9,   -999.0,1,-999.000,9,   -999.0,9,   -999.0,9,  -999.00,9,11931.0,-999.0000,-999.000,-999.000,  3.6449,-999.000
   318MWESTW_5,  P21W,   253,  1,     18, SI9439,2,19940613,0757,-19.8305, 164.6638, 3160,   1296.2,   3.4590,  34.5309,2,  34.5311,2,    160.6,2,    161.3,2,    77.48,2,    33.48,2,     0.01,2,     2.33,2,    0.016,2,    0.008,2, -999.000,1,-999.0000,1,  -999.00,9,   -999.0,1,-999.000,9,   -999.0,9,   -999.0,9,  -999.00,9,12952.9,-999.0000,-999.000,-999.000,  3.3634,-999.000
   318MWESTW_5,  P21W,   253,  1,     17, SI9417,2,19940613,0757,-19.8305, 164.6638, 3160,   1399.4,   3.1915,  34.5566,2,  34.5563,2,    157.6,2,    158.9,2,    85.67,2,    33.94,2,     0.01,2,     2.37,2,    0.009,2,    0.002,2, -999.000,1,-999.0000,1,  -999.00,9,   -999.0,1,-999.000,9,   -999.0,9,   -999.0,9,  -999.00,9,13978.9,-999.0000,-999.000,-999.000,  3.0900,-999.000
   318MWESTW_5,  P21W,   253,  1,     16, SI9416,2,19940613,0757,-19.8305, 164.6638, 3160,   1501.9,   3.0153,  34.5723,2,  34.5716,2,    154.6,2,    156.3,2,    90.53,2,    34.21,2,     0.01,2,     2.38,2,    0.007,2,    0.002,2, -999.000,1,-999.0000,1,  -999.00,9,   -999.0,1,-999.000,9,   -999.0,9,   -999.0,9,  -999.00,9,14998.3,-999.0000,-999.000,-999.000,  2.9071,-999.000
   318MWESTW_5,  P21W,   253,  1,     15, SI9415,2,19940613,0757,-19.8305, 164.6638, 3160,   1604.3,   2.8590,  34.5881,2,  34.5883,2,    152.7,2,    153.3,2,    95.80,2,    34.58,2,     0.01,2,     2.42,2,    0.004,2,    0.001,2, -999.000,1,-999.0000,1,  -999.00,9,   -999.0,1,-999.000,9,   -999.0,9,   -999.0,9,  -999.00,9,16016.8,-999.0000,-999.000,-999.000,  2.7441,-999.000
   318MWESTW_5,  P21W,   253,  1,     14, SI9436,2,19940613,0757,-19.8305, 164.6638, 3160,   1695.4,   2.7027,  34.6043,2,  34.6046,2,    151.6,2,    151.5,2,   100.52,2,    34.77,2,     0.01,2,     2.43,2, -999.000,9, -999.000,9, -999.000,1,-999.0000,1,  -999.00,9,   -999.0,1,-999.000,9,   -999.0,9,   -999.0,9,  -999.00,9,16922.2,-999.0000,-999.000,-999.000,  2.5820,-999.000
   318MWESTW_5,  P21W,   253,  1,     13, SI9413,2,19940613,0757,-19.8305, 164.6638, 3160,   1798.2,   2.5719,  34.6182,2,  34.6177,2,    149.8,2,    149.6,2,   104.41,2,    34.95,2,     0.01,2,     2.44,2, -999.000,9, -999.000,9, -999.000,1,-999.0000,1,  -999.00,9,   -999.0,1,-999.000,9,   -999.0,9,   -999.0,9,  -999.00,9,17944.4,-999.0000,-999.000,-999.000,  2.4443,-999.000
   318MWESTW_5,  P21W,   253,  1,     12, SI9438,2,19940613,0757,-19.8305, 164.6638, 3160,   1902.3,   2.4562,  34.6293,2,  34.6282,2,    150.8,2,    150.4,2,   106.78,2,    34.92,2,     0.00,2,     2.44,2, -999.000,9, -999.000,9, -999.000,1,-999.0000,1,  -999.00,9,   -999.0,1,-999.000,9,   -999.0,9,   -999.0,9,  -999.00,9,18979.1,-999.0000,-999.000,-999.000,  2.3213,-999.000
   318MWESTW_5,  P21W,   253,  1,     11, SI9411,2,19940613,0757,-19.8305, 164.6638, 3160,   1994.8,   2.3590,  34.6377,2,  34.6380,2,    151.1,2,    152.0,2,   108.87,2,    34.91,2,     0.01,2,     2.44,2, -999.000,9, -999.000,9, -999.000,1,-999.0000,1,  -999.00,9,   -999.0,1,-999.000,9,   -999.0,9,   -999.0,9,  -999.00,9,19899.1,-999.0000,-999.000,-999.000,  2.2175,-999.000
   318MWESTW_5,  P21W,   253,  1,     10, SI9412,2,19940613,0757,-19.8305, 164.6638, 3160,   2097.5,   2.2338,  34.6504,2,  34.6496,2,    151.9,2,    152.2,2,   111.64,2,    34.96,2,     0.01,2,     2.44,2,   -0.002,2,   -0.001,2, -999.000,1,-999.0000,1,  -999.00,9,   -999.0,1,-999.000,9,   -999.0,9,   -999.0,9,  -999.00,9,20919.4,-999.0000,-999.000,-999.000,  2.0853,-999.000
   318MWESTW_5,  P21W,   253,  1,      9, SI9410,2,19940613,0757,-19.8305, 164.6638, 3160,   2201.4,   2.1704,  34.6567,2,  34.6555,2,    152.3,2,    152.0,2,   112.90,2,    34.92,2,     0.01,2,     2.44,2, -999.000,9, -999.000,9, -999.000,1,-999.0000,1,  -999.00,9,   -999.0,1,-999.000,9,   -999.0,9,   -999.0,9,  -999.00,9,21953.0,-999.0000,-999.000,-999.000,  2.0139,-999.000
   318MWESTW_5,  P21W,   253,  1,      8, SI9422,2,19940613,0757,-19.8305, 164.6638, 3160,   2291.5,   2.0940,  34.6624,2,  34.6624,2,    153.0,2,    153.5,2,   114.57,2,    34.88,2,     0.01,2,     2.44,2, -999.000,9, -999.000,9, -999.000,1,-999.0000,1,  -999.00,9,   -999.0,1,-999.000,9,   -999.0,9,   -999.0,9,  -999.00,9,22848.5,-999.0000,-999.000,-999.000,  1.9308,-999.000
   318MWESTW_5,  P21W,   253,  1,      7, SI9407,2,19940613,0757,-19.8305, 164.6638, 3160,   2394.6,   2.0475,  34.6661,2,  34.6659,2,    153.6,2,    153.5,2,   115.69,2,    34.85,2,     0.01,2,     2.43,2, -999.000,9, -999.000,9, -999.000,1,-999.0000,1,  -999.00,9,   -999.0,1,-999.000,9,   -999.0,9,   -999.0,9,  -999.00,9,23873.0,-999.0000,-999.000,-999.000,  1.8758,-999.000
   318MWESTW_5,  P21W,   253,  1,      6, SI9427,2,19940613,0757,-19.8305, 164.6638, 3160,   2498.9,   1.9931,  34.6698,2,  34.6708,2,    154.4,2,    154.7,2,   116.95,2,    34.81,2,     0.01,2,     2.43,2, -999.000,9, -999.000,9, -999.000,1,-999.0000,1,  -999.00,9,   -999.0,1,-999.000,9,   -999.0,9,   -999.0,9,  -999.00,9,24909.7,-999.0000,-999.000,-999.000,  1.8130,-999.000
   318MWESTW_5,  P21W,   253,  1,      5, SI9405,2,19940613,0757,-19.8305, 164.6638, 3160,   2600.3,   1.9557,  34.6747,2,  34.6724,2,    154.8,2,    155.1,2,   117.93,2,    34.77,2,     0.01,2,     2.42,2,   -0.001,2,   -0.001,2, -999.000,1,-999.0000,1,  -999.00,9,   -999.0,1,-999.000,9,   -999.0,9,   -999.0,9,  -999.00,9,25917.8,-999.0000,-999.000,-999.000,  1.7670,-999.000
   318MWESTW_5,  P21W,   253,  1,      4, SI9404,2,19940613,0757,-19.8305, 164.6638, 3160,   2799.2,   1.9040,  34.6774,2,  34.6781,2,    155.7,2,    156.3,2,   119.46,2,    34.77,2,     0.01,2,     2.42,2, -999.000,9, -999.000,9, -999.000,1,-999.0000,1,  -999.00,9,   -999.0,1,-999.000,9,   -999.0,9,   -999.0,9,  -999.00,9,27895.5,-999.0000,-999.000,-999.000,  1.6977,-999.000
   318MWESTW_5,  P21W,   253,  1,      3, SI9403,2,19940613,0757,-19.8305, 164.6638, 3160,   2986.8,   1.8792,  34.6809,2,  34.6796,2,    156.4,2,    156.9,2,   120.30,2,    34.73,2,     0.01,2,     2.41,2, -999.000,9, -999.000,9, -999.000,1,-999.0000,1,  -999.00,9,   -999.0,1,-999.000,9,   -999.0,9,   -999.0,9,  -999.00,9,29760.2,-999.0000,-999.000,-999.000,  1.6553,-999.000
   318MWESTW_5,  P21W,   253,  1,      2, SI9437,2,19940613,0757,-19.8305, 164.6638, 3160,   3140.5,   1.8625,  34.6829,2,  34.6824,2,    154.4,2,    157.0,2,   121.29,2,    34.78,2,     0.01,2,     2.42,2, -999.000,9, -999.000,9, -999.000,1,-999.0000,1,  -999.00,9,   -999.0,1,-999.000,9,   -999.0,9,   -999.0,9,  -999.00,9,31288.6,-999.0000,-999.000,-999.000,  1.6239,-999.000
   318MWESTW_5,  P21W,   253,  1,      1, SI9401,2,19940613,0757,-19.8305, 164.6638, 3160,   3179.2,   1.8400,  34.6843,2,  34.6816,2,    154.7,2,    157.5,2,   122.06,2,    34.81,2,     0.01,2,     2.42,2,    0.000,2,   -0.001,2, -999.000,1,-999.0000,1,  -999.00,9,   -999.0,1,-999.000,9,   -999.0,9,   -999.0,9,  -999.00,9,31673.4,-999.0000,-999.000,-999.000,  1.5980,-999.000