BOTTLE,20010911WHPSIOdm
EXPOCODE,SECT_ID,STNNBR,CASTNO,SAMPNO,BTLNBR,BTLNBR_FLAG_W,DATE,TIME,LATITUDE,LONGITUDE,DEPTH,CTDPRS,CTDTMP,CTDSAL,CTDSAL_FLAG_W,SALNTY,SALNTY_FLAG_W,CTDOXY,CTDOXY_FLAG_W,OXYGEN,OXYGEN_FLAG_W,SILCAT,SILCAT_FLAG_W,NITRAT,NITRAT_FLAG_W,NITRIT,NITRIT_FLAG_W,PHSPHT,PHSPHT_FLAG_W,CFC-11,CFC-11_FLAG_W,CFC-12,CFC-12_FLAG_W,TRITUM,TRITUM_FLAG_W,HELIUM,HELIUM_FLAG_W,DELHE3,DELHE3_FLAG_W,DELC14,DELC14_FLAG_W,NEON,NEON_FLAG_W,TCARBN,TCARBN_FLAG_W,ALKALI,ALKALI_FLAG_W,PH,PH_FLAG_W,CTDRAW,HELIER,DELHER,NEONER,THETA,TRITER
,,,,,,,,,,,,DBAR,ITS-90,PSS-78,,PSS-78,,UMOL/KG,,UMOL/KG,,UMOL/KG,,UMOL/KG,,UMOL/KG,,UMOL/KG,,PMOL/KG,,PMOL/KG,,TU,,UMOL/KG,,PERCNT,,/MILLE,,NMOL/KG,,UMOL/KG,,UMOL/KG,,,,,NMOL/KG,PERCNT,NMOL/KG,ITS-90,TU
   318MWESTW_4,  P21E,    53,  1,     36, SI9336,2,19940413,0241,-16.7555, -89.6667, 4503,     10.2,  23.2930,  35.9863,2,  35.9870,2,    212.3,2,    214.2,2,     0.28,2,     0.01,2,    -0.01,2,     0.35,2,    2.007,2,    1.083,2, -999.000,1,-999.0000,1,  -999.00,9,   -999.0,1,-999.000,9,   2054.8,2,   2383.0,2,     7.97,2,  153.1,-999.0000,-999.000,-999.000, 23.2909,-999.000
   318MWESTW_4,  P21E,    53,  1,     35, SI9335,2,19940413,0241,-16.7555, -89.6667, 4503,     25.3,  23.2896,  35.9848,2,  35.9862,2,    208.9,2,    215.5,2,     0.29,2,     0.01,2,    -0.01,2,     0.36,2,    1.985,2,    1.085,2, -999.000,1,-999.0000,1,  -999.00,9,   -999.0,1,-999.000,9,   2054.8,2,   2382.0,2,     7.96,2,  304.2,-999.0000,-999.000,-999.000, 23.2844,-999.000
   318MWESTW_4,  P21E,    53,  1,     34, SI9334,2,19940413,0241,-16.7555, -89.6667, 4503,     50.1,  23.1748,  35.9693,2,  35.9730,2,    209.2,2,    216.6,2,     0.30,2,     0.04,2,    -0.03,2,     0.36,2,    2.005,2,    1.098,2, -999.000,1,-999.0000,1,  -999.00,9,   -999.0,1,-999.000,9,   2058.8,2,   2380.0,2,     7.96,2,  551.8,-999.0000,-999.000,-999.000, 23.1645,-999.000
   318MWESTW_4,  P21E,    53,  1,     33, SI9333,2,19940413,0241,-16.7555, -89.6667, 4503,    100.4,  19.4933,  35.6107,2,  35.6117,2,    204.6,2,    219.2,2,     0.51,2,     0.39,2,     0.22,2,     0.46,2,    2.348,2,    1.226,2, -999.000,1,-999.0000,1,  -999.00,9,   -999.0,1,-999.000,9,   2074.8,2,   2359.0,2,     7.90,2, 1053.5,-999.0000,-999.000,-999.000, 19.4750,-999.000
   318MWESTW_4,  P21E,    53,  1,     32, SI9332,2,19940413,0241,-16.7555, -89.6667, 4503,    149.4,  18.5652,  35.4802,2,  35.4799,2,    197.8,2,    204.0,2,     1.07,2,     4.39,2,     0.01,2,     0.71,2,    2.405,2,    1.246,2, -999.000,1,-999.0000,1,  -999.00,9,   -999.0,1,-999.000,9,   2092.8,2,   2348.0,2,     7.86,2, 1541.6,-999.0000,-999.000,-999.000, 18.5389,-999.000
   318MWESTW_4,  P21E,    53,  1,     31, SI9331,2,19940413,0241,-16.7555, -89.6667, 4503,    197.0,  14.4936,  34.8086,2,  34.8359,2,    158.5,2,    155.6,2,     4.08,2,    12.23,2,     0.00,2,     1.21,2,    2.213,2,    1.095,2, -999.000,1,-999.0000,1,  -999.00,9,   -999.0,1,-999.000,9,   2125.8,2,   2303.0,2,     7.72,2, 2014.5,-999.0000,-999.000,-999.000, 14.4645,-999.000
   318MWESTW_4,  P21E,    53,  1,     30, SI9330,2,19940413,0241,-16.7555, -89.6667, 4503,    251.1,  11.6259,  34.6305,2,  34.6293,2,     68.5,2,     51.2,2,    17.35,2,    22.34,2,    -0.01,2,     2.33,2,    0.776,2,    0.363,2, -999.000,1,-999.0000,1,  -999.00,9,   -999.0,1,-999.000,9,   2224.9,2,   2291.0,2,     7.44,2, 2552.9,-999.0000,-999.000,-999.000, 11.5939,-999.000
   318MWESTW_4,  P21E,    53,  1,     29, SI9329,2,19940413,0241,-16.7555, -89.6667, 4503,    298.0,  10.2756,  34.6220,2,  34.6223,2,     39.5,2,     26.9,2,    22.60,2,    29.12,2,     0.00,2,     2.61,2,    0.289,2,    0.129,2, -999.000,1,-999.0000,1,  -999.00,9,   -999.0,1,-999.000,9,   2252.9,2,   2292.0,2,     7.37,2, 3019.6,-999.0000,-999.000,-999.000, 10.2404,-999.000
   318MWESTW_4,  P21E,    53,  1,     28, SI9328,2,19940413,0241,-16.7555, -89.6667, 4503,    396.0,   8.6667,  34.5960,2,  34.5944,2,     27.4,2,     19.3,2,    29.16,2,    37.52,2,    -0.01,2,     2.81,2,    0.045,2,    0.016,2, -999.000,1,-999.0000,1,  -999.00,9,   -999.0,1,-999.000,9,   2273.0,2,   2300.0,2,     7.33,2, 3994.2,-999.0000,-999.000,-999.000,  8.6244,-999.000
   318MWESTW_4,  P21E,    53,  1,     26, SI9326,2,19940413,0241,-16.7555, -89.6667, 4503,    496.6,   7.4050,  34.5334,2,  34.5323,2,     47.3,2,     41.2,2,    32.55,2,    39.64,2,    -0.01,2,     2.82,2,    0.020,2,    0.008,2, -999.000,1,-999.0000,1,  -999.00,9,   -999.0,1,-999.000,9,   2268.0,2,   2302.0,2,     7.36,2, 4994.9,-999.0000,-999.000,-999.000,  7.3563,-999.000
   318MWESTW_4,  P21E,    53,  1,     25, SI9325,2,19940413,0241,-16.7555, -89.6667, 4503,    595.0,   6.3205,  34.4884,2,  34.4877,2,     59.8,2,     57.2,3,    38.93,2,    40.98,2,    -0.01,2,     2.88,2,    0.005,2,    0.000,2, -999.000,1,-999.0000,1,  -999.00,9,   -999.0,1,-999.000,9,   2269.0,2,   2304.0,2,     7.37,2, 5973.7,-999.0000,-999.000,-999.000,  6.2667,-999.000
   318MWESTW_4,  P21E,    53,  1,     24, SI9324,2,19940413,0241,-16.7555, -89.6667, 4503,    699.6,   5.6429,  34.4914,2,  34.4907,2,     58.1,2,     52.3,2,    49.61,2,    42.58,2,     0.00,2,     3.01,2,   -0.001,2,   -0.002,2, -999.000,1,-999.0000,1,  -999.00,9,   -999.0,1,-999.000,9,   2285.0,2,   2317.0,2,     7.36,2, 7013.6,-999.0000,-999.000,-999.000,  5.5827,-999.000
   318MWESTW_4,  P21E,    53,  1,     23, SI9323,2,19940413,0241,-16.7555, -89.6667, 4503,    803.9,   5.0972,  34.4977,2,  34.4968,2,     58.1,2,     54.0,2,    59.74,2,    43.04,2,    -0.01,2,     3.07,2,   -0.004,2,   -0.004,2, -999.000,1,-999.0000,1,  -999.00,9,   -999.0,1,-999.000,9,   2296.0,2,   2325.0,2,     7.35,2, 8051.2,-999.0000,-999.000,-999.000,  5.0308,-999.000
   318MWESTW_4,  P21E,    53,  1,     22, SI9322,2,19940413,0241,-16.7555, -89.6667, 4503,    903.0,   4.6699,  34.5092,2,  34.5103,2,     63.0,2,     61.0,2,    68.56,2,    42.72,2,    -0.01,2,     3.07,2,   -0.002,2,   -0.004,2, -999.000,1,-999.0000,1,  -999.00,9,   -999.0,1,-999.000,9,   2303.0,2,   2338.0,2,     7.36,2, 9036.4,-999.0000,-999.000,-999.000,  4.5976,-999.000
   318MWESTW_4,  P21E,    53,  1,     21, SI9321,3,19940413,0241,-16.7555, -89.6667, 4503,   1001.3,   4.2577,  34.5235,2,  34.7716,4,     71.1,2,     75.9,4,    59.41,4,    34.89,4,     0.00,4,     2.58,4, -999.000,5, -999.000,5, -999.000,1,-999.0000,1,  -999.00,9,   -999.0,1,-999.000,9,   -999.0,9,   2342.0,2,  -999.00,9,10013.4,-999.0000,-999.000,-999.000,  4.1799,-999.000
   318MWESTW_4,  P21E,    53,  1,     20, SI9320,2,19940413,0241,-16.7555, -89.6667, 4503,   1100.6,   3.9092,  34.5393,2,  34.5409,2,     76.5,2,     74.9,2,    86.22,2,    41.62,2,    -0.01,2,     3.01,2,   -0.004,2,   -0.004,2, -999.000,1,-999.0000,1,  -999.00,9,   -999.0,1,-999.000,9,   2315.0,2,   2358.0,2,     7.37,2,11001.1,-999.0000,-999.000,-999.000,  3.8258,-999.000
   318MWESTW_4,  P21E,    53,  1,     19, SI9319,2,19940413,0241,-16.7555, -89.6667, 4503,   1201.2,   3.5538,  34.5551,2,  34.5547,2,     84.3,2,     84.3,2,    93.74,2,    40.91,2,    -0.01,2,     2.95,2,    0.000,2,   -0.002,2, -999.000,1,-999.0000,1,  -999.00,9,   -999.0,1,-999.000,9,   2317.0,2,   2364.0,2,     7.39,2,12000.9,-999.0000,-999.000,-999.000,  3.4651,-999.000
   318MWESTW_4,  P21E,    53,  1,     18, SI9318,2,19940413,0241,-16.7555, -89.6667, 4503,   1305.2,   3.2148,  34.5736,2,  34.5793,4,     89.6,2,     90.0,2,   102.21,2,    40.47,2,    -0.01,2,     2.91,2, -999.000,9, -999.000,9, -999.000,1,-999.0000,1,  -999.00,9,   -999.0,1,-999.000,9,   2323.0,2,   2376.0,2,     7.40,2,13035.2,-999.0000,-999.000,-999.000,  3.1208,-999.000
   318MWESTW_4,  P21E,    53,  1,     17, SI9317,2,19940413,0241,-16.7555, -89.6667, 4503,   1353.5,   3.0986,  34.5809,2,  34.5814,2,     91.6,2,     91.5,2,   105.24,2,    40.59,2,    -0.01,2,     2.90,2, -999.000,9, -999.000,9, -999.000,1,-999.0000,1,  -999.00,9,   -999.0,1,-999.000,9,   2324.0,2,   2375.0,2,     7.40,2,13515.3,-999.0000,-999.000,-999.000,  3.0018,-999.000
   318MWESTW_4,  P21E,    53,  1,     16, SI9316,2,19940413,0241,-16.7555, -89.6667, 4503,   1550.2,   2.7458,  34.6052,2,  34.6077,3,     97.8,2,     97.3,2,   116.33,2,    40.10,2,    -0.01,2,     2.86,2, -999.000,9, -999.000,9, -999.000,1,-999.0000,1,  -999.00,9,   -999.0,1,-999.000,9,   2333.0,2,   2390.0,2,     7.41,2,15470.5,-999.0000,-999.000,-999.000,  2.6367,-999.000
   318MWESTW_4,  P21E,    53,  1,     15, SI9315,2,19940413,0241,-16.7555, -89.6667, 4503,   1698.0,   2.5497,  34.6202,2,  34.6211,2,    100.2,2,    100.4,2,   123.31,2,    39.75,2,     0.00,2,     2.85,2, -999.000,9, -999.000,9, -999.000,1,-999.0000,1,  -999.00,9,   -999.0,1,-999.000,9,   2337.0,2,   2395.0,2,     7.50,2,16940.1,-999.0000,-999.000,-999.000,  2.4308,-999.000
   318MWESTW_4,  P21E,    53,  1,     14, SI9314,2,19940413,0241,-16.7555, -89.6667, 4503,   1903.3,   2.2971,  34.6361,2,  34.6370,2,    112.5,2,    112.9,2,   127.28,2,    38.71,2,     0.00,2,     2.76,2, -999.000,9, -999.000,9, -999.000,1,-999.0000,1,  -999.00,9,   -999.0,1,-999.000,9,   2335.0,2,   2399.0,2,     7.52,2,18981.4,-999.0000,-999.000,-999.000,  2.1644,-999.000
   318MWESTW_4,  P21E,    53,  1,     13, SI9313,2,19940413,0241,-16.7555, -89.6667, 4503,   2100.4,   2.1052,  34.6499,2,  34.6490,2,    123.9,2,    124.7,2,   128.83,2,    37.72,2,     0.00,2,     2.68,2, -999.000,9, -999.000,9, -999.000,1,-999.0000,1,  -999.00,9,   -999.0,1,-999.000,9,   2330.0,2,   2407.0,2,     7.54,2,20940.7,-999.0000,-999.000,-999.000,  1.9585,-999.000
   318MWESTW_4,  P21E,    53,  1,     12, SI9312,2,19940413,0241,-16.7555, -89.6667, 4503,   2300.2,   1.9677,  34.6605,2,  34.6618,2,    133.4,2,    133.1,2,   130.00,2,    36.90,2,    -0.01,2,     2.62,2, -999.000,9, -999.000,9, -999.000,1,-999.0000,1,  -999.00,9,   -999.0,1,-999.000,9,   2328.0,2,   2403.0,3,     7.56,2,22926.9,-999.0000,-999.000,-999.000,  1.8059,-999.000
   318MWESTW_4,  P21E,    53,  1,     11, SI9311,2,19940413,0241,-16.7555, -89.6667, 4503,   2497.7,   1.8763,  34.6683,2,  34.6690,2,    137.8,2,    138.4,2,   131.91,2,    36.46,2,    -0.01,2,     2.58,2, -999.000,9, -999.000,9, -999.000,1,-999.0000,1,  -999.00,9,   -999.0,1,-999.000,9,   2328.0,2,   2412.0,2,     7.57,2,24890.9,-999.0000,-999.000,-999.000,  1.6985,-999.000
   318MWESTW_4,  P21E,    53,  1,     10, SI9310,2,19940413,0241,-16.7555, -89.6667, 4503,   2699.6,   1.8300,  34.6730,2,  34.6745,2,    142.1,2,    143.0,2,   132.15,2,    36.08,2,    -0.01,2,     2.55,2, -999.000,9, -999.000,9, -999.000,1,-999.0000,1,  -999.00,9,   -999.0,1,-999.000,9,   2327.0,2,   2409.0,3,     7.57,2,26897.5,-999.0000,-999.000,-999.000,  1.6345,-999.000
   318MWESTW_4,  P21E,    53,  1,      9, SI9309,2,19940413,0241,-16.7555, -89.6667, 4503,   2899.9,   1.8045,  34.6776,2,  34.6773,2,    142.3,2,    143.4,2,   134.06,2,    36.15,2,    -0.01,2,     2.54,2, -999.000,9, -999.000,9, -999.000,1,-999.0000,1,  -999.00,9,   -999.0,1,-999.000,9,   2329.0,2,   2421.0,2,     7.56,2,28889.7,-999.0000,-999.000,-999.000,  1.5906,-999.000
   318MWESTW_4,  P21E,    53,  1,      8, SI9308,2,19940413,0241,-16.7555, -89.6667, 4503,   3098.8,   1.7932,  34.6798,2,  34.6812,2,    143.8,2,    143.2,2,   135.42,2,    36.20,2,    -0.01,2,     2.54,2, -999.000,9, -999.000,9, -999.000,1,-999.0000,1,  -999.00,9,   -999.0,1,-999.000,9,   2331.0,2,   2422.0,2,     7.58,2,30867.0,-999.0000,-999.000,-999.000,  1.5603,-999.000
   318MWESTW_4,  P21E,    53,  1,      7, SI9307,2,19940413,0241,-16.7555, -89.6667, 4503,   3299.5,   1.7830,  34.6822,2,  34.6822,2,    143.0,2,    142.5,2,   136.41,2,    36.25,2,     0.00,2,     2.55,2, -999.000,9, -999.000,9, -999.000,1,-999.0000,1,  -999.00,9,   -999.0,1,-999.000,9,   2335.0,2,   2425.0,2,     7.57,2,32862.0,-999.0000,-999.000,-999.000,  1.5303,-999.000
   318MWESTW_4,  P21E,    53,  1,      6, SI9306,2,19940413,0241,-16.7555, -89.6667, 4503,   3497.9,   1.7750,  34.6844,2,  34.6848,2,    144.8,2,    145.1,2,   134.99,2,    36.11,2,     0.00,2,     2.52,2, -999.000,9, -999.000,9, -999.000,1,-999.0000,1,  -999.00,9,   -999.0,1,-999.000,9,   2331.0,2,   2417.0,2,     7.57,2,34833.9,-999.0000,-999.000,-999.000,  1.5022,-999.000
   318MWESTW_4,  P21E,    53,  1,      5, SI9305,2,19940413,0241,-16.7555, -89.6667, 4503,   3698.8,   1.7649,  34.6863,2,  34.6879,2,    149.1,2,    149.2,2,   132.22,2,    35.82,2,     0.01,2,     2.51,2, -999.000,9, -999.000,9, -999.000,1,-999.0000,1,  -999.00,9,   -999.0,1,-999.000,9,   2324.0,2,   2413.0,2,     7.59,2,36831.9,-999.0000,-999.000,-999.000,  1.4712,-999.000
   318MWESTW_4,  P21E,    53,  1,      4, SI9304,2,19940413,0241,-16.7555, -89.6667, 4503,   3899.7,   1.7616,  34.6884,2,  34.6885,2,    152.1,2,    151.7,2,   130.94,2,    35.68,2,     0.00,2,     2.49,2, -999.000,9, -999.000,9, -999.000,1,-999.0000,1,  -999.00,9,   -999.0,1,-999.000,9,   2324.0,2,   2414.0,2,     7.57,2,38829.0,-999.0000,-999.000,-999.000,  1.4463,-999.000
   318MWESTW_4,  P21E,    53,  1,      3, SI9303,2,19940413,0241,-16.7555, -89.6667, 4503,   4099.3,   1.7735,  34.6891,2,  34.6895,2,    152.9,2,    152.4,2,   130.43,2,    35.51,2,     0.00,2,     2.49,2, -999.000,9, -999.000,9, -999.000,1,-999.0000,1,  -999.00,9,   -999.0,1,-999.000,9,   2323.0,2,   2409.0,3,     7.58,2,40813.4,-999.0000,-999.000,-999.000,  1.4358,-999.000
   318MWESTW_4,  P21E,    53,  1,     27, SI9327,2,19940413,0241,-16.7555, -89.6667, 4503,   4300.4,   1.7908,  34.6896,2,  34.6912,2,    153.2,2,    152.7,2,   130.25,2,    35.43,2,     0.00,2,     2.48,2,   -0.001,2,   -0.001,2, -999.000,1,-999.0000,1,  -999.00,9,   -999.0,1,-999.000,9,   2320.0,2,   2415.0,2,  -999.00,9,42812.2,-999.0000,-999.000,-999.000,  1.4299,-999.000
   318MWESTW_4,  P21E,    53,  1,      2, SI9302,2,19940413,0241,-16.7555, -89.6667, 4503,   4520.8,   1.8156,  34.6894,2,  34.6905,2,    153.1,2,    152.9,2,   129.91,2,    35.36,2,    -0.01,2,     2.50,2, -999.000,9, -999.000,9, -999.000,1,-999.0000,1,  -999.00,9,   -999.0,1,-999.000,9,   2324.0,2,   2413.0,2,     7.58,2,45003.0,-999.0000,-999.000,-999.000,  1.4284,-999.000
   318MWESTW_4,  P21E,    53,  1,      1, SI9301,2,19940413,0241,-16.7555, -89.6667, 4503,   4561.5,   1.8206,  34.6895,2,  34.6895,2,    152.3,2,    153.4,2,   129.82,2,    35.39,2,    -0.01,2,     2.49,2, -999.000,9, -999.000,9, -999.000,1,-999.0000,1,  -999.00,9,   -999.0,1,-999.000,9,   2323.0,2,   2409.0,2,     7.58,2,45408.4,-999.0000,-999.000,-999.000,  1.4284,-999.000