BOTTLE,20010911WHPSIOdm
EXPOCODE,SECT_ID,STNNBR,CASTNO,SAMPNO,BTLNBR,BTLNBR_FLAG_W,DATE,TIME,LATITUDE,LONGITUDE,DEPTH,CTDPRS,CTDTMP,CTDSAL,CTDSAL_FLAG_W,SALNTY,SALNTY_FLAG_W,CTDOXY,CTDOXY_FLAG_W,OXYGEN,OXYGEN_FLAG_W,SILCAT,SILCAT_FLAG_W,NITRAT,NITRAT_FLAG_W,NITRIT,NITRIT_FLAG_W,PHSPHT,PHSPHT_FLAG_W,CFC-11,CFC-11_FLAG_W,CFC-12,CFC-12_FLAG_W,TRITUM,TRITUM_FLAG_W,HELIUM,HELIUM_FLAG_W,DELHE3,DELHE3_FLAG_W,DELC14,DELC14_FLAG_W,NEON,NEON_FLAG_W,TCARBN,TCARBN_FLAG_W,ALKALI,ALKALI_FLAG_W,PH,PH_FLAG_W,CTDRAW,HELIER,DELHER,NEONER,THETA,TRITER
,,,,,,,,,,,,DBAR,ITS-90,PSS-78,,PSS-78,,UMOL/KG,,UMOL/KG,,UMOL/KG,,UMOL/KG,,UMOL/KG,,UMOL/KG,,PMOL/KG,,PMOL/KG,,TU,,UMOL/KG,,PERCNT,,/MILLE,,NMOL/KG,,UMOL/KG,,UMOL/KG,,,,,NMOL/KG,PERCNT,NMOL/KG,ITS-90,TU
   318MWESTW_5,  P21W,   256,  1,     20, SI9420,2,19940614,0354,-19.1305, 163.7583, 1055,      3.9,  24.0792,  35.2862,2,  35.2857,2,    199.9,2,    209.0,2,     0.49,2,     0.07,2,     0.02,2,     0.09,2,    1.864,2,    1.042,2, -999.000,1,-999.0000,1,  -999.00,9,   -999.0,1,-999.000,9,   -999.0,9,   2311.6,2,     8.10,2,   97.8,-999.0000,-999.000,-999.000, 24.0784,-999.000
   318MWESTW_5,  P21W,   256,  1,     19, SI9419,2,19940614,0354,-19.1305, 163.7583, 1055,     18.7,  24.0556,  35.2875,2,  35.2897,2,    203.7,2,    211.8,2,     0.50,2,     0.11,2,     0.03,2,     0.10,2, -999.000,9, -999.000,9, -999.000,1,-999.0000,1,  -999.00,9,   -999.0,1,-999.000,9,   -999.0,9,   2312.4,2,     8.10,2,  245.6,-999.0000,-999.000,-999.000, 24.0517,-999.000
   318MWESTW_5,  P21W,   256,  1,     18, SI9439,2,19940614,0354,-19.1305, 163.7583, 1055,     43.7,  24.0375,  35.2928,2,  35.2936,2,    208.3,2,    211.1,2,     0.51,2,     0.17,2,     0.03,2,     0.11,2,    1.853,2,    1.036,2, -999.000,1,-999.0000,1,  -999.00,9,   -999.0,1,-999.000,9,   -999.0,9,   2311.1,2,     8.10,2,  494.7,-999.0000,-999.000,-999.000, 24.0283,-999.000
   318MWESTW_5,  P21W,   256,  1,     17, SI9417,2,19940614,0354,-19.1305, 163.7583, 1055,     94.3,  23.7672,  35.3448,2,  35.3664,2,    198.6,2,    204.8,2,     0.65,2,     0.59,2,     0.03,2,     0.15,2,    1.872,2,    1.038,2, -999.000,1,-999.0000,1,  -999.00,9,   -999.0,1,-999.000,9,   -999.0,9,   2317.8,2,     8.09,2,  998.5,-999.0000,-999.000,-999.000, 23.7475,-999.000
   318MWESTW_5,  P21W,   256,  1,     16, SI9416,2,19940614,0354,-19.1305, 163.7583, 1055,    144.5,  21.3241,  35.7232,2,  35.7237,2,    177.4,2,    182.3,2,     1.07,2,     3.24,2,     0.03,2,     0.35,2, -999.000,9, -999.000,9, -999.000,1,-999.0000,1,  -999.00,9,   -999.0,1,-999.000,9,   -999.0,9,   2335.5,2,     8.01,2, 1498.1,-999.0000,-999.000,-999.000, 21.2960,-999.000
   318MWESTW_5,  P21W,   256,  1,     15, SI9415,2,19940614,0354,-19.1305, 163.7583, 1055,    201.3,  19.2293,  35.6406,2,  35.6465,2,    178.4,2,    180.7,2,     1.50,2,     4.90,2,     0.02,2,     0.46,2,    1.951,2,    1.049,2, -999.000,1,-999.0000,1,  -999.00,9,   -999.0,1,-999.000,9,   -999.0,9,   -999.0,9,  -999.00,9, 2063.3,-999.0000,-999.000,-999.000, 19.1929,-999.000
   318MWESTW_5,  P21W,   256,  1,     14, SI9436,2,19940614,0354,-19.1305, 163.7583, 1055,    242.2,  18.2482,  35.5760,2,  35.5723,2,    177.7,2,    182.3,2,     1.92,2,     5.88,2,     0.01,2,     0.53,2,    1.949,2,    1.015,2, -999.000,1,-999.0000,1,  -999.00,9,   -999.0,1,-999.000,9,   -999.0,9,   2329.3,2,     7.95,2, 2469.7,-999.0000,-999.000,-999.000, 18.2060,-999.000
   318MWESTW_5,  P21W,   256,  1,     13, SI9413,2,19940614,0354,-19.1305, 163.7583, 1055,    295.4,  17.1183,  35.4889,2,  35.4841,2,    184.8,2,    183.0,2,     2.35,2,     7.08,2,     0.01,2,     0.61,2,    1.890,2,    0.993,2, -999.000,1,-999.0000,1,  -999.00,9,   -999.0,1,-999.000,9,   -999.0,9,   -999.0,9,  -999.00,9, 2998.9,-999.0000,-999.000,-999.000, 17.0690,-999.000
   318MWESTW_5,  P21W,   256,  1,     12, SI9438,2,19940614,0354,-19.1305, 163.7583, 1055,    348.5,  15.7312,  35.3585,2,  34.8703,4,    182.1,2,    183.4,2,    16.99,4,    18.32,4,     0.02,4,     1.34,4,    1.050,4,    0.537,4, -999.000,1,-999.0000,1,  -999.00,9,   -999.0,1,-999.000,9,   -999.0,9,   2311.3,2,     7.78,3, 3527.3,-999.0000,-999.000,-999.000, 15.6763,-999.000
   318MWESTW_5,  P21W,   256,  1,     11, SI9411,2,19940614,0354,-19.1305, 163.7583, 1055,    399.6,  14.3774,  35.2096,2,  35.2136,2,    182.8,2,    182.3,2,     4.18,2,    11.16,2,     0.02,2,     0.88,2,    1.613,2,    0.826,2, -999.000,1,-999.0000,1,  -999.00,9,   -999.0,1,-999.000,9,   -999.0,9,   -999.0,9,  -999.00,9, 4035.3,-999.0000,-999.000,-999.000, 14.3181,-999.000
   318MWESTW_5,  P21W,   256,  1,     10, SI9412,2,19940614,0354,-19.1305, 163.7583, 1055,    450.1,  12.4141,  35.0144,2,  34.9990,2,    183.8,2,    180.8,2,     5.86,2,    14.61,2,     0.01,2,     1.10,2,    1.300,6,    0.660,6, -999.000,1,-999.0000,1,  -999.00,9,   -999.0,1,-999.000,9,   -999.0,9,   2303.0,2,     7.80,2, 4537.4,-999.0000,-999.000,-999.000, 12.3534,-999.000
   318MWESTW_5,  P21W,   256,  1,      9, SI9410,2,19940614,0354,-19.1305, 163.7583, 1055,    499.8,  11.0785,  34.8523,2,  34.8479,2,    183.2,2,    181.8,2,     7.40,2,    17.13,2,     0.01,2,     1.27,2,    1.083,2,    0.543,2, -999.000,1,-999.0000,1,  -999.00,9,   -999.0,1,-999.000,9,   -999.0,9,   -999.0,9,  -999.00,9, 5031.5,-999.0000,-999.000,-999.000, 11.0158,-999.000
   318MWESTW_5,  P21W,   256,  1,      8, SI9422,2,19940614,0354,-19.1305, 163.7583, 1055,    552.1,  10.4972,  34.7905,2,  34.7842,2,    183.9,2,    183.8,2,     8.10,2,    18.24,2,     0.01,2,     1.33,2,    0.991,2,    0.490,2, -999.000,1,-999.0000,1,  -999.00,9,   -999.0,1,-999.000,9,   -999.0,9,   2298.8,2,     7.75,2, 5551.6,-999.0000,-999.000,-999.000, 10.4302,-999.000
   318MWESTW_5,  P21W,   256,  1,      7, SI9407,2,19940614,0354,-19.1305, 163.7583, 1055,    598.1,   8.9726,  34.6238,2,  34.6295,2,    190.3,2,    190.3,2,    10.34,2,    21.04,2,     0.01,2,     1.50,2,    0.777,2,    0.384,2, -999.000,1,-999.0000,1,  -999.00,9,   -999.0,1,-999.000,9,   -999.0,9,   -999.0,9,  -999.00,9, 6008.8,-999.0000,-999.000,-999.000,  8.9066,-999.000
   318MWESTW_5,  P21W,   256,  1,      6, SI9427,2,19940614,0354,-19.1305, 163.7583, 1055,    695.3,   6.8859,  34.4463,2,  34.4573,2,    193.6,2,    196.0,2,    17.74,2,    25.58,2,     0.01,2,     1.79,2,    0.378,2,    0.201,2, -999.000,1,-999.0000,1,  -999.00,9,   -999.0,1,-999.000,9,   -999.0,9,   2289.0,2,     7.67,2, 6975.1,-999.0000,-999.000,-999.000,  6.8196,-999.000
   318MWESTW_5,  P21W,   256,  1,      5, SI9405,2,19940614,0354,-19.1305, 163.7583, 1055,    797.1,   5.6066,  34.4246,2,  34.4243,2,    186.9,2,    186.1,2,    31.84,2,    29.15,2,     0.02,2,     2.02,2,    0.156,2,    0.086,2, -999.000,1,-999.0000,1,  -999.00,9,   -999.0,1,-999.000,9,   -999.0,9,   2304.8,2,     7.63,2, 7987.0,-999.0000,-999.000,-999.000,  5.5378,-999.000
   318MWESTW_5,  P21W,   256,  1,      4, SI9404,2,19940614,0354,-19.1305, 163.7583, 1055,    900.2,   4.9426,  34.4404,2,  34.4375,2,    176.9,2,    179.5,2,    42.45,2,    30.64,2,     0.01,2,     2.13,2,    0.094,2,    0.054,2, -999.000,1,-999.0000,1,  -999.00,9,   -999.0,1,-999.000,9,   -999.0,9,   2311.3,2,     7.61,2, 9011.4,-999.0000,-999.000,-999.000,  4.8687,-999.000
   318MWESTW_5,  P21W,   256,  1,      3, SI9403,2,19940614,0354,-19.1305, 163.7583, 1055,    929.9,   4.8321,  34.4433,2,  34.4404,2,    175.9,2,    178.4,2,    44.41,2,    30.83,2,     0.01,2,     2.16,2, -999.000,9, -999.000,9, -999.000,1,-999.0000,1,  -999.00,9,   -999.0,1,-999.000,9,   -999.0,9,   -999.0,9,  -999.00,9, 9305.8,-999.0000,-999.000,-999.000,  4.7564,-999.000
   318MWESTW_5,  P21W,   256,  1,      2, SI9437,2,19940614,0354,-19.1305, 163.7583, 1055,    961.6,   4.6609,  34.4499,2,  34.4489,2,    173.8,2,    176.5,2,    48.62,2,    31.21,2,     0.01,2,     2.19,2,    0.068,2,    0.038,2, -999.000,1,-999.0000,1,  -999.00,9,   -999.0,1,-999.000,9,   -999.0,9,   -999.0,9,  -999.00,9, 9621.1,-999.0000,-999.000,-999.000,  4.5836,-999.000
   318MWESTW_5,  P21W,   256,  1,      1, SI9401,2,19940614,0354,-19.1305, 163.7583, 1055,   1002.2,   4.2245,  34.4729,2,  34.4691,2,    169.8,2,    172.9,2,    57.05,2,    32.05,2,     0.00,2,     2.23,2,    0.046,2,    0.024,2, -999.000,1,-999.0000,1,  -999.00,9,   -999.0,1,-999.000,9,   -999.0,9,   2324.4,2,     7.60,2,10023.6,-999.0000,-999.000,-999.000,  4.1470,-999.000