BOTTLE,20010911WHPSIOdm
EXPOCODE,SECT_ID,STNNBR,CASTNO,SAMPNO,BTLNBR,BTLNBR_FLAG_W,DATE,TIME,LATITUDE,LONGITUDE,DEPTH,CTDPRS,CTDTMP,CTDSAL,CTDSAL_FLAG_W,SALNTY,SALNTY_FLAG_W,CTDOXY,CTDOXY_FLAG_W,OXYGEN,OXYGEN_FLAG_W,SILCAT,SILCAT_FLAG_W,NITRAT,NITRAT_FLAG_W,NITRIT,NITRIT_FLAG_W,PHSPHT,PHSPHT_FLAG_W,CFC-11,CFC-11_FLAG_W,CFC-12,CFC-12_FLAG_W,TRITUM,TRITUM_FLAG_W,HELIUM,HELIUM_FLAG_W,DELHE3,DELHE3_FLAG_W,DELC14,DELC14_FLAG_W,NEON,NEON_FLAG_W,TCARBN,TCARBN_FLAG_W,ALKALI,ALKALI_FLAG_W,PH,PH_FLAG_W,CTDRAW,HELIER,DELHER,NEONER,THETA,TRITER
,,,,,,,,,,,,DBAR,ITS-90,PSS-78,,PSS-78,,UMOL/KG,,UMOL/KG,,UMOL/KG,,UMOL/KG,,UMOL/KG,,UMOL/KG,,PMOL/KG,,PMOL/KG,,TU,,UMOL/KG,,PERCNT,,/MILLE,,NMOL/KG,,UMOL/KG,,UMOL/KG,,,,,NMOL/KG,PERCNT,NMOL/KG,ITS-90,TU
   318MWESTW_5,  P21W,   166,  1,     36, SI9442,2,19940521,1807,-17.5000,-150.3333, 3726,      8.8,  28.6310,  36.0163,2,  36.0167,2,    203.7,2,    207.5,3,     0.90,2,     0.11,2,     0.00,2,     0.16,2,    1.565,2,    0.893,2, -999.000,1,-999.0000,1,  -999.00,9,   -999.0,1,-999.000,9,   -999.0,9,   2370.2,2,     8.13,2,  141.0,-999.0000,-999.000,-999.000, 28.6289,-999.000
   318MWESTW_5,  P21W,   166,  1,     35, SI9435,2,19940521,1807,-17.5000,-150.3333, 3726,     27.9,  28.6207,  36.0590,2,  36.0580,2,    199.5,2,    210.1,3,     0.94,2,     0.12,2,     0.00,2,     0.17,2, -999.000,9, -999.000,9, -999.000,1,-999.0000,1,  -999.00,9,   -999.0,1,-999.000,9,   -999.0,9,   2367.0,2,     8.13,2,  331.9,-999.0000,-999.000,-999.000, 28.6140,-999.000
   318MWESTW_5,  P21W,   166,  1,     34, SI9441,2,19940521,1807,-17.5000,-150.3333, 3726,     48.3,  28.6018,  36.0641,2,  36.0697,2,    196.1,2,    214.5,3,     0.98,2,     0.08,2,     0.00,2,     0.16,2,    1.631,2,    0.876,2, -999.000,1,-999.0000,1,  -999.00,9,   -999.0,1,-999.000,9,   -999.0,9,   2370.7,2,     8.13,2,  535.5,-999.0000,-999.000,-999.000, 28.5902,-999.000
   318MWESTW_5,  P21W,   166,  1,     33, SI9433,2,19940521,1807,-17.5000,-150.3333, 3726,     98.8,  26.2475,  36.2699,2,  36.2683,2,    205.5,2,    221.2,3,     0.86,2,     0.05,2,     0.00,2,     0.20,2,    1.790,2,    0.994,2, -999.000,1,-999.0000,1,  -999.00,9,   -999.0,1,-999.000,9,   -999.0,9,   2386.8,2,     8.10,2, 1039.1,-999.0000,-999.000,-999.000, 26.2252,-999.000
   318MWESTW_5,  P21W,   166,  1,     32, SI9432,2,19940521,1807,-17.5000,-150.3333, 3726,    150.4,  24.0993,  36.2175,2,  36.2228,2,    193.0,2,    203.1,3,     0.90,2,     0.31,2,     0.21,2,     0.28,2,    1.872,2,    0.994,2, -999.000,1,-999.0000,1,  -999.00,9,   -999.0,1,-999.000,9,   -999.0,9,   2381.9,2,     8.05,2, 1552.8,-999.0000,-999.000,-999.000, 24.0674,-999.000
   318MWESTW_5,  P21W,   166,  1,     31, SI9431,3,19940521,1807,-17.5000,-150.3333, 3726,    200.9,  22.1290,  36.0495,2,  36.0483,2,    187.7,2,    181.6,3,     0.94,2,     2.29,2,     0.03,2,     0.39,2, -999.000,9, -999.000,9, -999.000,1,-999.0000,1,  -999.00,9,   -999.0,1,-999.000,9,   -999.0,9,   2371.6,2,     8.01,2, 2055.9,-999.0000,-999.000,-999.000, 22.0889,-999.000
   318MWESTW_5,  P21W,   166,  1,     30, SI9440,2,19940521,1807,-17.5000,-150.3333, 3726,    251.2,  19.0084,  35.6219,2,  35.6194,2,    184.9,2,    178.5,3,     1.58,2,     4.86,2,     0.01,2,     0.56,2, -999.000,9, -999.000,9, -999.000,1,-999.0000,1,  -999.00,9,   -999.0,1,-999.000,9,   -999.0,9,   2340.8,2,     7.94,2, 2557.1,-999.0000,-999.000,-999.000, 18.9634,-999.000
   318MWESTW_5,  P21W,   166,  1,     29, SI9429,2,19940521,1807,-17.5000,-150.3333, 3726,    300.3,  17.0845,  35.3644,2,  35.3668,2,    178.8,2,    177.6,3,     2.53,2,     6.76,2,     0.01,2,     0.66,2,    1.689,2,    0.879,2, -999.000,1,-999.0000,1,  -999.00,9,   -999.0,1,-999.000,9,   -999.0,9,   2326.3,2,     7.91,2, 3045.9,-999.0000,-999.000,-999.000, 17.0345,-999.000
   318MWESTW_5,  P21W,   166,  1,     28, SI9428,2,19940521,1807,-17.5000,-150.3333, 3726,    392.5,  11.9959,  34.7924,2,  34.7895,2,    162.4,2,    161.2,3,     7.91,2,    16.73,2,     0.01,2,     1.33,2,    1.012,2,    0.507,2, -999.000,1,-999.0000,1,  -999.00,9,   -999.0,1,-999.000,9,   -999.0,9,   2296.0,2,     7.75,2, 3963.3,-999.0000,-999.000,-999.000, 11.9444,-999.000
   318MWESTW_5,  P21W,   166,  1,     27, SI9424,2,19940521,1807,-17.5000,-150.3333, 3726,    494.2,   8.3120,  34.4922,2,  34.4856,2,    151.8,2,    144.2,3,    16.93,2,    27.24,2,     0.02,2,     1.98,2,    0.359,2,    0.186,2, -999.000,1,-999.0000,1,  -999.00,9,   -999.0,1,-999.000,9,   -999.0,9,   2289.2,2,     7.61,2, 4974.4,-999.0000,-999.000,-999.000,  8.2603,-999.000
   318MWESTW_5,  P21W,   166,  1,     26, SI9414,2,19940521,1807,-17.5000,-150.3333, 3726,    596.1,   6.5965,  34.4496,2,  34.4473,2,    152.5,2,    155.1,3,    27.79,2,    31.00,2,     0.01,2,     2.18,2,    0.122,6,    0.071,6, -999.000,1,-999.0000,1,  -999.00,9,   -999.0,1,-999.000,9,   -999.0,9,   2297.2,2,     7.59,2, 5987.9,-999.0000,-999.000,-999.000,  6.5414,-999.000
   318MWESTW_5,  P21W,   166,  1,     25, SI9425,2,19940521,1807,-17.5000,-150.3333, 3726,    692.5,   5.5312,  34.4393,2,  34.4385,2,    151.3,2,    150.6,3,    38.96,2,    33.00,2,     0.00,2,     2.31,2,    0.050,2,    0.027,2, -999.000,1,-999.0000,1,  -999.00,9,   -999.0,1,-999.000,9,   -999.0,9,   2310.3,2,     7.57,2, 6946.0,-999.0000,-999.000,-999.000,  5.4723,-999.000
   318MWESTW_5,  P21W,   166,  1,     24, SI9434,2,19940521,1807,-17.5000,-150.3333, 3726,    795.2,   4.9541,  34.4603,2,  34.4614,2,    148.4,2,    148.6,3,    49.66,2,    33.98,2,     0.00,2,     2.39,2,    0.015,2,    0.011,2, -999.000,1,-999.0000,1,  -999.00,9,   -999.0,1,-999.000,9,   -999.0,9,   2319.3,2,     7.56,2, 7967.1,-999.0000,-999.000,-999.000,  4.8894,-999.000
   318MWESTW_5,  P21W,   166,  1,     23, SI9423,2,19940521,1807,-17.5000,-150.3333, 3726,    892.1,   4.4035,  34.4843,2,  34.4834,2,    147.0,2,    145.0,3,    60.67,2,    34.78,2,     0.00,2,     2.42,2,    0.011,2,    0.006,2, -999.000,1,-999.0000,1,  -999.00,9,   -999.0,1,-999.000,9,   -999.0,9,   2329.8,2,     7.56,2, 8930.6,-999.0000,-999.000,-999.000,  4.3340,-999.000
   318MWESTW_5,  P21W,   166,  1,     22, SI9418,2,19940521,1807,-17.5000,-150.3333, 3726,    994.9,   3.8983,  34.5048,2,  34.5029,2,    146.2,2,    146.6,3,    70.30,2,    35.30,2,     0.00,2,     2.46,2,    0.003,2,    0.003,2, -999.000,1,-999.0000,1,  -999.00,9,   -999.0,1,-999.000,9,   -999.0,9,   2342.4,2,     7.55,2, 9952.9,-999.0000,-999.000,-999.000,  3.8238,-999.000
   318MWESTW_5,  P21W,   166,  1,     21, SI9421,2,19940521,1807,-17.5000,-150.3333, 3726,   1099.4,   3.5921,  34.5282,2,  34.5264,2,    144.6,2,    144.0,3,    78.87,2,    35.72,2,     0.00,2,     2.49,2,    0.002,2,    0.000,2, -999.000,1,-999.0000,1,  -999.00,9,   -999.0,1,-999.000,9,   -999.0,9,   2353.6,2,     7.55,2,10992.3,-999.0000,-999.000,-999.000,  3.5115,-999.000
   318MWESTW_5,  P21W,   166,  1,     20, SI9420,2,19940521,1807,-17.5000,-150.3333, 3726,   1194.6,   3.3775,  34.5410,2,  34.5396,2,    144.4,2,    145.6,3,    83.77,2,    35.88,2,     0.00,2,     2.50,2,   -0.001,2,    0.001,2, -999.000,1,-999.0000,1,  -999.00,9,   -999.0,1,-999.000,9,   -999.0,9,   2356.9,2,     7.55,2,11938.0,-999.0000,-999.000,-999.000,  3.2910,-999.000
   318MWESTW_5,  P21W,   166,  1,     19, SI9419,2,19940521,1807,-17.5000,-150.3333, 3726,   1298.7,   3.1212,  34.5562,2,  34.5539,2,    145.3,2,    146.0,3,    89.60,2,    35.92,2,     0.01,2,     2.51,2, -999.000,9, -999.000,9, -999.000,1,-999.0000,1,  -999.00,9,   -999.0,1,-999.000,9,   -999.0,9,   2364.4,2,     7.55,2,12973.6,-999.0000,-999.000,-999.000,  3.0287,-999.000
   318MWESTW_5,  P21W,   166,  1,     18, SI9439,2,19940521,1807,-17.5000,-150.3333, 3726,   1396.4,   2.9694,  34.5670,2,  34.5665,2,    145.9,2,    147.0,3,    93.74,2,    36.03,2,     0.00,2,     2.51,2, -999.000,9, -999.000,9, -999.000,1,-999.0000,1,  -999.00,9,   -999.0,1,-999.000,9,   -999.0,9,   2365.9,2,     7.55,2,13944.6,-999.0000,-999.000,-999.000,  2.8705,-999.000
   318MWESTW_5,  P21W,   166,  1,     17, SI9417,2,19940521,1807,-17.5000,-150.3333, 3726,   1498.1,   2.7413,  34.5837,2,  34.5824,2,    146.7,2,    148.9,3,    99.25,2,    35.95,2,     0.00,2,     2.51,2, -999.000,9, -999.000,9, -999.000,1,-999.0000,1,  -999.00,9,   -999.0,1,-999.000,9,   -999.0,9,   2373.0,2,     7.55,2,14955.9,-999.0000,-999.000,-999.000,  2.6366,-999.000
   318MWESTW_5,  P21W,   166,  1,     16, SI9416,2,19940521,1807,-17.5000,-150.3333, 3726,   1590.9,   2.6157,  34.5955,2,  34.5946,2,    147.8,2,    149.6,3,   102.79,2,    36.01,2,     0.00,2,     2.52,2, -999.000,9, -999.000,9, -999.000,1,-999.0000,1,  -999.00,9,   -999.0,1,-999.000,9,   -999.0,9,   2376.8,2,     7.55,2,15878.2,-999.0000,-999.000,-999.000,  2.5048,-999.000
   318MWESTW_5,  P21W,   166,  1,     15, SI9415,2,19940521,1807,-17.5000,-150.3333, 3726,   1697.5,   2.5141,  34.6028,2,  34.6024,2,    148.9,2,    150.4,3,   104.77,2,    35.94,2,     0.00,2,     2.54,2, -999.000,9, -999.000,9, -999.000,1,-999.0000,1,  -999.00,9,   -999.0,1,-999.000,9,   -999.0,9,   2381.5,2,     7.55,2,16938.1,-999.0000,-999.000,-999.000,  2.3957,-999.000
   318MWESTW_5,  P21W,   166,  1,     14, SI9436,2,19940521,1807,-17.5000,-150.3333, 3726,   1896.2,   2.3052,  34.6207,2,  34.6207,2,    150.7,2,    152.3,3,   110.31,2,    35.91,2,     0.00,2,     2.53,2,    0.008,2,    0.002,2, -999.000,1,-999.0000,1,  -999.00,9,   -999.0,1,-999.000,9,   -999.0,9,   2386.1,2,     7.55,2,18913.9,-999.0000,-999.000,-999.000,  2.1730,-999.000
   318MWESTW_5,  P21W,   166,  1,     13, SI9413,2,19940521,1807,-17.5000,-150.3333, 3726,   2052.7,   2.1585,  34.6333,2,  34.6323,2,    152.0,2,    153.8,3,   114.62,2,    35.67,2,     0.01,2,     2.50,2, -999.000,9, -999.000,9, -999.000,1,-999.0000,1,  -999.00,9,   -999.0,1,-999.000,9,   -999.0,9,   2391.8,2,     7.56,2,20469.6,-999.0000,-999.000,-999.000,  2.0152,-999.000
   318MWESTW_5,  P21W,   166,  1,     12, SI9438,2,19940521,1807,-17.5000,-150.3333, 3726,   2200.8,   2.0643,  34.6418,2,  34.6417,2,    153.9,2,    155.3,3,   117.08,2,    35.50,2,     0.00,2,     2.49,2, -999.000,9, -999.000,9, -999.000,1,-999.0000,1,  -999.00,9,   -999.0,1,-999.000,9,   -999.0,9,   2394.9,2,     7.56,2,21942.1,-999.0000,-999.000,-999.000,  1.9096,-999.000
   318MWESTW_5,  P21W,   166,  1,     11, SI9411,2,19940521,1807,-17.5000,-150.3333, 3726,   2344.0,   1.9603,  34.6507,2,  34.6504,2,    156.2,2,    157.2,3,   119.55,2,    35.47,2,     0.00,2,     2.46,2, -999.000,9, -999.000,9, -999.000,1,-999.0000,1,  -999.00,9,   -999.0,1,-999.000,9,   -999.0,9,   2396.6,2,     7.56,2,23365.6,-999.0000,-999.000,-999.000,  1.7948,-999.000
   318MWESTW_5,  P21W,   166,  1,     10, SI9412,2,19940521,1807,-17.5000,-150.3333, 3726,   2499.3,   1.8766,  34.6580,2,  34.6580,2,    157.8,2,    158.3,3,   121.41,2,    35.38,2,     0.00,2,     2.46,2, -999.000,9, -999.000,9, -999.000,1,-999.0000,1,  -999.00,9,   -999.0,1,-999.000,9,   -999.0,9,   2397.7,2,     7.56,2,24909.2,-999.0000,-999.000,-999.000,  1.6987,-999.000
   318MWESTW_5,  P21W,   166,  1,      9, SI9410,2,19940521,1807,-17.5000,-150.3333, 3726,   2641.2,   1.8162,  34.6638,2,  34.6618,2,    159.6,2,    160.4,3,   122.80,2,    35.30,2,     0.00,2,     2.46,2, -999.000,9, -999.000,9, -999.000,1,-999.0000,1,  -999.00,9,   -999.0,1,-999.000,9,   -999.0,9,   2399.3,2,     7.57,2,26319.9,-999.0000,-999.000,-999.000,  1.6264,-999.000
   318MWESTW_5,  P21W,   166,  1,      8, SI9422,2,19940521,1807,-17.5000,-150.3333, 3726,   2795.9,   1.7442,  34.6695,2,  34.6679,2,    161.8,2,    163.6,3,   123.60,2,    35.13,2,     0.00,2,     2.44,2, -999.000,9, -999.000,9, -999.000,1,-999.0000,1,  -999.00,9,   -999.0,1,-999.000,9,   -999.0,9,   2397.2,2,     7.57,2,27857.9,-999.0000,-999.000,-999.000,  1.5415,-999.000
   318MWESTW_5,  P21W,   166,  1,      7, SI9407,2,19940521,1807,-17.5000,-150.3333, 3726,   2935.9,   1.6770,  34.6745,2,  34.6745,2,    164.7,2,    166.1,3,   124.08,2,    34.86,2,     0.00,2,     2.43,2, -999.000,9, -999.000,9, -999.000,1,-999.0000,1,  -999.00,9,   -999.0,1,-999.000,9,   -999.0,9,   2398.9,2,     7.57,2,29249.7,-999.0000,-999.000,-999.000,  1.4625,-999.000
   318MWESTW_5,  P21W,   166,  1,      6, SI9427,2,19940521,1807,-17.5000,-150.3333, 3726,   3086.5,   1.6228,  34.6788,2,  34.6804,2,    166.5,2,    169.1,3,   124.43,2,    34.78,2,     0.01,2,     2.42,2,    0.000,2,    0.001,2, -999.000,1,-999.0000,1,  -999.00,9,   -999.0,1,-999.000,9,   -999.0,9,   2394.1,2,     7.57,2,30746.9,-999.0000,-999.000,-999.000,  1.3949,-999.000
   318MWESTW_5,  P21W,   166,  1,      5, SI9405,2,19940521,1807,-17.5000,-150.3333, 3726,   3243.7,   1.5991,  34.6811,2,  34.6812,2,    168.8,2,    170.9,3,   124.30,2,    34.65,2,     0.01,2,     2.41,2, -999.000,9, -999.000,9, -999.000,1,-999.0000,1,  -999.00,9,   -999.0,1,-999.000,9,   -999.0,9,   2397.0,2,     7.58,2,32310.5,-999.0000,-999.000,-999.000,  1.3563,-999.000
   318MWESTW_5,  P21W,   166,  1,      4, SI9404,2,19940521,1807,-17.5000,-150.3333, 3726,   3397.2,   1.5689,  34.6843,2,  34.6828,2,    170.9,2,    173.1,3,   124.48,2,    34.52,2,     0.01,2,     2.40,2, -999.000,9, -999.000,9, -999.000,1,-999.0000,1,  -999.00,9,   -999.0,1,-999.000,9,   -999.0,9,   2394.1,2,     7.58,2,33836.0,-999.0000,-999.000,-999.000,  1.3115,-999.000
   318MWESTW_5,  P21W,   166,  1,      3, SI9403,2,19940521,1807,-17.5000,-150.3333, 3726,   3553.2,   1.5418,  34.6868,2,  34.6842,2,    173.4,2,    175.4,3,   124.21,2,    34.22,2,     0.00,2,     2.39,2, -999.000,9, -999.000,9, -999.000,1,-999.0000,1,  -999.00,9,   -999.0,1,-999.000,9,   -999.0,9,   2395.0,2,     7.58,2,35386.7,-999.0000,-999.000,-999.000,  1.2691,-999.000
   318MWESTW_5,  P21W,   166,  1,      2, SI9437,2,19940521,1807,-17.5000,-150.3333, 3726,   3668.4,   1.5294,  34.6882,2,  34.6865,2,    174.2,2,    176.9,3,   124.40,2,    34.13,2,     0.01,2,     2.38,2, -999.000,9, -999.000,9, -999.000,1,-999.0000,1,  -999.00,9,   -999.0,1,-999.000,9,   -999.0,9,   2393.6,2,     7.58,2,36532.2,-999.0000,-999.000,-999.000,  1.2451,-999.000
   318MWESTW_5,  P21W,   166,  1,      1, SI9401,2,19940521,1807,-17.5000,-150.3333, 3726,   3742.1,   1.5273,  34.6890,2,  34.6867,2,    175.2,2,    176.8,3,   123.60,2,    34.25,2,     0.01,2,     2.38,2, -999.000,9, -999.000,9, -999.000,1,-999.0000,1,  -999.00,9,   -999.0,1,-999.000,9,   -999.0,9,   2393.5,2,     7.58,2,37264.7,-999.0000,-999.000,-999.000,  1.2353,-999.000