BOTTLE,20010911WHPSIOdm
EXPOCODE,SECT_ID,STNNBR,CASTNO,SAMPNO,BTLNBR,BTLNBR_FLAG_W,DATE,TIME,LATITUDE,LONGITUDE,DEPTH,CTDPRS,CTDTMP,CTDSAL,CTDSAL_FLAG_W,SALNTY,SALNTY_FLAG_W,CTDOXY,CTDOXY_FLAG_W,OXYGEN,OXYGEN_FLAG_W,SILCAT,SILCAT_FLAG_W,NITRAT,NITRAT_FLAG_W,NITRIT,NITRIT_FLAG_W,PHSPHT,PHSPHT_FLAG_W,CFC-11,CFC-11_FLAG_W,CFC-12,CFC-12_FLAG_W,TRITUM,TRITUM_FLAG_W,HELIUM,HELIUM_FLAG_W,DELHE3,DELHE3_FLAG_W,DELC14,DELC14_FLAG_W,NEON,NEON_FLAG_W,TCARBN,TCARBN_FLAG_W,ALKALI,ALKALI_FLAG_W,PH,PH_FLAG_W,CTDRAW,HELIER,DELHER,NEONER,THETA,TRITER
,,,,,,,,,,,,DBAR,ITS-90,PSS-78,,PSS-78,,UMOL/KG,,UMOL/KG,,UMOL/KG,,UMOL/KG,,UMOL/KG,,UMOL/KG,,PMOL/KG,,PMOL/KG,,TU,,UMOL/KG,,PERCNT,,/MILLE,,NMOL/KG,,UMOL/KG,,UMOL/KG,,,,,NMOL/KG,PERCNT,NMOL/KG,ITS-90,TU
   318MWESTW_5,  P21W,   268,  1,     24, SI9434,2,19940617,0404,-22.2167, 160.9167, 1560,      3.4,  22.4701,  35.8018,2,  35.8034,2,    216.1,2,    215.2,2,     0.44,2,    -0.01,2,     0.01,2,     0.08,2,    1.986,2,    1.090,2, -999.000,1,-999.0000,1,  -999.00,9,   -999.0,1,-999.000,9,   -999.0,9,   -999.0,9,  -999.00,9,   93.7,-999.0000,-999.000,-999.000, 22.4694,-999.000
   318MWESTW_5,  P21W,   268,  1,     23, SI9423,2,19940617,0404,-22.2167, 160.9167, 1560,     19.3,  22.4434,  35.7997,2,  35.8017,2,    207.2,2,    214.8,2,     0.32,2,     0.00,2,     0.00,2,     0.07,2,    2.017,2,    1.088,2, -999.000,1,-999.0000,1,  -999.00,9,   -999.0,1,-999.000,9,   -999.0,9,   -999.0,9,  -999.00,9,  252.3,-999.0000,-999.000,-999.000, 22.4395,-999.000
   318MWESTW_5,  P21W,   268,  1,     22, SI9418,2,19940617,0404,-22.2167, 160.9167, 1560,     44.0,  22.3777,  35.8067,2,  35.8078,2,    205.5,2,    216.4,2,     0.36,2,    -0.01,2,     0.01,2,     0.08,2,    1.997,2,    1.084,2, -999.000,1,-999.0000,1,  -999.00,9,   -999.0,1,-999.000,9,   -999.0,9,   -999.0,9,  -999.00,9,  498.1,-999.0000,-999.000,-999.000, 22.3689,-999.000
   318MWESTW_5,  P21W,   268,  1,     21, SI9421,2,19940617,0404,-22.2167, 160.9167, 1560,     94.5,  21.5472,  35.7930,2,  35.7934,2,    213.0,2,    204.5,2,     0.54,2,     0.76,2,     0.10,2,     0.19,2,    2.045,2,    1.103,2, -999.000,1,-999.0000,1,  -999.00,9,   -999.0,1,-999.000,9,   -999.0,9,   -999.0,9,  -999.00,9, 1000.7,-999.0000,-999.000,-999.000, 21.5287,-999.000
   318MWESTW_5,  P21W,   268,  1,     20, SI9420,2,19940617,0404,-22.2167, 160.9167, 1560,    145.6,  20.1600,  35.7198,2,  35.7179,2,    197.3,2,    193.6,2,     0.86,2,     2.78,2,     0.03,2,     0.33,2,    2.071,2,    1.099,2, -999.000,1,-999.0000,1,  -999.00,9,   -999.0,1,-999.000,9,   -999.0,9,   -999.0,9,  -999.00,9, 1509.8,-999.0000,-999.000,-999.000, 20.1328,-999.000
   318MWESTW_5,  P21W,   268,  1,     19, SI9419,2,19940617,0404,-22.2167, 160.9167, 1560,    196.0,  19.0250,  35.6670,2,  35.6678,2,    191.0,2,    194.8,2,     1.04,2,     3.66,2,     0.01,2,     0.39,2,    2.118,2,    1.124,2, -999.000,1,-999.0000,1,  -999.00,9,   -999.0,1,-999.000,9,   -999.0,9,   -999.0,9,  -999.00,9, 2011.0,-999.0000,-999.000,-999.000, 18.9899,-999.000
   318MWESTW_5,  P21W,   268,  1,     18, SI9439,2,19940617,0404,-22.2167, 160.9167, 1560,    247.5,  17.8075,  35.6264,2,  35.6255,2,    194.7,2,    199.1,2,     1.36,2,     4.39,2,     0.01,2,     0.42,2,    2.178,2,    1.164,2, -999.000,1,-999.0000,1,  -999.00,9,   -999.0,1,-999.000,9,   -999.0,9,   -999.0,9,  -999.00,9, 2523.8,-999.0000,-999.000,-999.000, 17.7651,-999.000
   318MWESTW_5,  P21W,   268,  1,     17, SI9417,2,19940617,0404,-22.2167, 160.9167, 1560,    294.8,  16.7322,  35.5141,2,  35.5154,2,    196.0,2,    194.0,2,     1.96,2,     6.26,2,     0.01,2,     0.54,2,    2.096,2,    1.097,2, -999.000,1,-999.0000,1,  -999.00,9,   -999.0,1,-999.000,9,   -999.0,9,   -999.0,9,  -999.00,9, 2994.3,-999.0000,-999.000,-999.000, 16.6838,-999.000
   318MWESTW_5,  P21W,   268,  1,     16, SI9416,2,19940617,0404,-22.2167, 160.9167, 1560,    345.0,  15.3870,  35.3578,2,  35.3581,2,    196.7,2,    186.7,2,     2.86,2,     8.86,2,     0.01,2,     0.70,2,    1.891,2,    0.982,2, -999.000,1,-999.0000,1,  -999.00,9,   -999.0,1,-999.000,9,   -999.0,9,   -999.0,9,  -999.00,9, 3493.6,-999.0000,-999.000,-999.000, 15.3335,-999.000
   318MWESTW_5,  P21W,   268,  1,     15, SI9415,2,19940617,0404,-22.2167, 160.9167, 1560,    399.8,  14.0324,  35.2182,2,  35.2130,2,    187.9,2,    185.5,2,     3.76,2,    11.13,2,     0.00,2,     0.86,2,    1.750,2,    0.888,2, -999.000,1,-999.0000,1,  -999.00,9,   -999.0,1,-999.000,9,   -999.0,9,   -999.0,9,  -999.00,9, 4038.6,-999.0000,-999.000,-999.000, 13.9740,-999.000
   318MWESTW_5,  P21W,   268,  1,     14, SI9436,2,19940617,0404,-22.2167, 160.9167, 1560,    450.8,  12.7858,  35.0787,2,  35.0697,2,    188.2,2,    186.5,2,     4.81,2,    13.38,2,     0.01,2,     1.00,2, -999.000,9, -999.000,9, -999.000,1,-999.0000,1,  -999.00,9,   -999.0,1,-999.000,9,   -999.0,9,   -999.0,9,  -999.00,9, 4546.0,-999.0000,-999.000,-999.000, 12.7238,-999.000
   318MWESTW_5,  P21W,   268,  1,     13, SI9413,2,19940617,0404,-22.2167, 160.9167, 1560,    501.8,  11.7475,  34.9609,2,  34.9589,2,    187.9,2,    187.4,2,     5.84,2,    15.34,2,     0.01,2,     1.13,2,    1.433,2,    0.716,2, -999.000,1,-999.0000,1,  -999.00,9,   -999.0,1,-999.000,9,   -999.0,9,   -999.0,9,  -999.00,9, 5053.2,-999.0000,-999.000,-999.000, 11.6821,-999.000
   318MWESTW_5,  P21W,   268,  1,     12, SI9438,2,19940617,0404,-22.2167, 160.9167, 1560,    552.3,  10.3623,  34.7929,2,  34.7878,2,    188.7,2,    189.0,2,     7.32,2,    17.87,2,     0.00,2,     1.30,2, -999.000,9, -999.000,9, -999.000,1,-999.0000,1,  -999.00,9,   -999.0,1,-999.000,9,   -999.0,9,   -999.0,9,  -999.00,9, 5555.6,-999.0000,-999.000,-999.000, 10.2958,-999.000
   318MWESTW_5,  P21W,   268,  1,     11, SI9411,2,19940617,0404,-22.2167, 160.9167, 1560,    600.6,   9.3296,  34.6887,2,  34.6785,2,    190.1,2,    192.5,2,     9.09,2,    20.01,2,     0.00,2,     1.43,2,    0.941,2,    0.474,2, -999.000,1,-999.0000,1,  -999.00,9,   -999.0,1,-999.000,9,   -999.0,9,   -999.0,9,  -999.00,9, 6036.4,-999.0000,-999.000,-999.000,  9.2617,-999.000
   318MWESTW_5,  P21W,   268,  1,     10, SI9412,2,19940617,0404,-22.2167, 160.9167, 1560,    695.5,   7.5743,  34.5352,2,  34.5325,2,    195.2,2,    195.6,2,    15.62,2,    23.80,2,     0.00,2,     1.66,2,    0.545,2,    0.280,2, -999.000,1,-999.0000,1,  -999.00,9,   -999.0,1,-999.000,9,   -999.0,9,   -999.0,9,  -999.00,9, 6979.3,-999.0000,-999.000,-999.000,  7.5043,-999.000
   318MWESTW_5,  P21W,   268,  1,      9, SI9410,2,19940617,0404,-22.2167, 160.9167, 1560,    799.0,   6.0789,  34.4471,2,  34.4457,2,    194.1,2,    191.9,2,    25.61,2,    27.37,2,     0.01,2,     1.90,2,    0.231,2,    0.125,2, -999.000,1,-999.0000,1,  -999.00,9,   -999.0,1,-999.000,9,   -999.0,9,   -999.0,9,  -999.00,9, 8008.4,-999.0000,-999.000,-999.000,  6.0070,-999.000
   318MWESTW_5,  P21W,   268,  1,      8, SI9422,2,19940617,0404,-22.2167, 160.9167, 1560,    904.8,   5.3013,  34.4427,2,  34.4420,2,    187.2,2,    184.5,2,    36.61,2,    29.44,2,     0.00,2,     2.03,2,    0.127,2,    0.064,2, -999.000,1,-999.0000,1,  -999.00,9,   -999.0,1,-999.000,9,   -999.0,9,   -999.0,9,  -999.00,9, 9060.6,-999.0000,-999.000,-999.000,  5.2246,-999.000
   318MWESTW_5,  P21W,   268,  1,      7, SI9407,2,19940617,0404,-22.2167, 160.9167, 1560,    996.9,   4.6097,  34.4698,2,  34.4681,2,    176.3,2,    175.5,2,    50.49,2,    31.19,2,     0.00,2,     2.16,2,    0.065,2,    0.033,2, -999.000,1,-999.0000,1,  -999.00,9,   -999.0,1,-999.000,9,   -999.0,9,   -999.0,9,  -999.00,9, 9976.3,-999.0000,-999.000,-999.000,  4.5297,-999.000
   318MWESTW_5,  P21W,   268,  1,      6, SI9427,2,19940617,0404,-22.2167, 160.9167, 1560,   1099.8,   4.0763,  34.5019,2,  34.5025,2,    168.7,2,    167.4,2,    63.50,2,    32.39,2,     0.01,2,     2.25,2,    0.032,6,    0.016,6, -999.000,1,-999.0000,1,  -999.00,9,   -999.0,1,-999.000,9,   -999.0,9,   -999.0,9,  -999.00,9,10998.3,-999.0000,-999.000,-999.000,  3.9916,-999.000
   318MWESTW_5,  P21W,   268,  1,      5, SI9405,2,19940617,0404,-22.2167, 160.9167, 1560,   1202.4,   3.7125,  34.5309,2,  34.5303,2,    162.7,2,    161.1,2,    73.48,2,    33.13,2,     0.01,2,     2.32,2,    0.017,2,    0.008,2, -999.000,1,-999.0000,1,  -999.00,9,   -999.0,1,-999.000,9,   -999.0,9,   -999.0,9,  -999.00,9,12018.8,-999.0000,-999.000,-999.000,  3.6223,-999.000
   318MWESTW_5,  P21W,   268,  1,      4, SI9404,2,19940617,0404,-22.2167, 160.9167, 1560,   1298.8,   3.4644,  34.5499,2,  34.5498,2,    158.7,2,    157.4,2,    80.14,2,    33.58,2,     0.00,2,     2.35,2,    0.009,2,    0.004,2, -999.000,1,-999.0000,1,  -999.00,9,   -999.0,1,-999.000,9,   -999.0,9,   -999.0,9,  -999.00,9,12976.5,-999.0000,-999.000,-999.000,  3.3685,-999.000
   318MWESTW_5,  P21W,   268,  1,      3, SI9403,2,19940617,0404,-22.2167, 160.9167, 1560,   1396.6,   3.3088,  34.5620,2,  34.5608,2,    156.0,2,    156.5,2,    84.35,2,    33.85,2,     0.00,2,     2.36,2,    0.007,2,    0.002,2, -999.000,1,-999.0000,1,  -999.00,9,   -999.0,1,-999.000,9,   -999.0,9,   -999.0,9,  -999.00,9,13947.9,-999.0000,-999.000,-999.000,  3.2062,-999.000
   318MWESTW_5,  P21W,   268,  1,      2, SI9437,2,19940617,0404,-22.2167, 160.9167, 1560,   1508.8,   3.1752,  34.5721,2,  34.5732,2,    154.1,2,    153.9,2,    87.97,2,    34.11,2,     0.01,2,     2.38,2, -999.000,9, -999.000,9, -999.000,1,-999.0000,1,  -999.00,9,   -999.0,1,-999.000,9,   -999.0,9,   -999.0,9,  -999.00,9,15063.7,-999.0000,-999.000,-999.000,  3.0646,-999.000
   318MWESTW_5,  P21W,   268,  1,      1, SI9401,2,19940617,0404,-22.2167, 160.9167, 1560,   1551.9,   3.0874,  34.5795,2,  34.5793,2,    151.4,2,    153.7,2,    90.13,2,    34.27,2,     0.00,2,     2.39,2,    0.003,2,    0.001,2, -999.000,1,-999.0000,1,  -999.00,9,   -999.0,1,-999.000,9,   -999.0,9,   -999.0,9,  -999.00,9,15490.9,-999.0000,-999.000,-999.000,  2.9742,-999.000
   318MWESTW_5,  P21W,   269,  1,     25, SI9425,2,19940617,0909,-22.4625, 160.2792, 2180,      6.0,  22.2116,  35.7640,2,  35.7653,2,    215.4,2,    215.4,2,     0.48,2,     0.01,2,     0.00,2,     0.07,2,    2.003,2,    1.101,2, -999.000,1,   1.7095,2,    -1.40,2,   -999.0,1,   6.808,2,   1995.9,2,   2356.5,2,     8.08,2,  118.7,  0.0085,   0.080,   0.034, 22.2104,-999.000
   318MWESTW_5,  P21W,   269,  1,     24, SI9434,2,19940617,0909,-22.4625, 160.2792, 2180,     24.3,  22.2170,  35.7634,2,  35.7645,2,    214.7,2,    216.2,2,     0.38,2,     0.00,2,     0.00,2,     0.07,2, -999.000,9, -999.000,9, -999.000,1,-999.0000,1,  -999.00,9,   -999.0,1,-999.000,9,   1994.6,2,   2358.4,2,     8.08,2,  301.7,-999.0000,-999.000,-999.000, 22.2122,-999.000
   318MWESTW_5,  P21W,   269,  1,     23, SI9423,2,19940617,0909,-22.4625, 160.2792, 2180,     50.0,  22.1222,  35.8099,2,  35.8111,2,    215.4,2,    217.3,2,     0.42,2,     0.03,2,     0.00,2,     0.08,2,    2.001,6,    1.106,6, -999.000,1,   1.7175,2,    -1.17,2,   -999.0,1,   6.843,2,   2002.9,2,   2382.8,2,     8.07,2,  557.4,  0.0086,   0.080,   0.034, 22.1122,-999.000
   318MWESTW_5,  P21W,   269,  1,     22, SI9418,2,19940617,0909,-22.4625, 160.2792, 2180,    100.0,  21.5326,  35.8370,2,  35.8364,2,    216.3,2,    211.3,2,     0.46,2,     0.33,2,     0.09,2,     0.15,2,    2.046,2,    1.120,2, -999.000,1,-999.0000,1,  -999.00,9,   -999.0,1,-999.000,9,   2017.3,2,   2346.0,2,     8.05,2, 1054.8,-999.0000,-999.000,-999.000, 21.5131,-999.000
   318MWESTW_5,  P21W,   269,  1,     21, SI9421,2,19940617,0909,-22.4625, 160.2792, 2180,    151.4,  20.2339,  35.7240,2,  35.7219,2,    191.4,2,    192.5,2,     0.78,2,     2.90,2,     0.03,2,     0.33,2,    2.071,2,    1.121,2, -999.000,1,   1.7354,2,    -0.74,2,   -999.0,1,   6.973,2,   2039.2,2,   2336.1,2,     8.00,2, 1566.5,  0.0087,   0.080,   0.035, 20.2056,-999.000
   318MWESTW_5,  P21W,   269,  1,     20, SI9420,2,19940617,0909,-22.4625, 160.2792, 2180,    202.4,  18.9466,  35.6527,2,  35.6494,2,    189.2,2,    191.6,2,     1.26,2,     4.11,2,     0.02,2,     0.41,2, -999.000,9, -999.000,9, -999.000,1,   1.7571,2,    -0.82,2,   -999.0,1,   7.138,2,   2049.8,2,   2361.1,2,     7.98,2, 2074.4,  0.0088,   0.080,   0.036, 18.9104,-999.000
   318MWESTW_5,  P21W,   269,  1,     19, SI9419,2,19940617,0909,-22.4625, 160.2792, 2180,    251.5,  18.2368,  35.6229,2,  35.6228,2,    194.4,2,    193.1,2,     1.45,2,     4.63,2,     0.02,2,     0.43,2,    2.117,2,    1.131,2, -999.000,1,   1.7569,2,    -0.79,2,   -999.0,1,   7.177,2,   2055.3,2,   2329.3,2,     7.97,2, 2563.2,  0.0088,   0.080,   0.036, 18.1930,-999.000
   318MWESTW_5,  P21W,   269,  1,     18, SI9439,2,19940617,0909,-22.4625, 160.2792, 2180,    303.4,  17.0258,  35.5385,2,  35.5391,2,    190.2,2,    193.2,2,     1.78,2,     5.80,2,     0.00,2,     0.51,2, -999.000,9, -999.000,9, -999.000,1,   1.7615,2,    -0.40,2,   -999.0,1,   7.248,2,   2065.3,2,   2328.9,2,     7.94,2, 3079.6,  0.0088,   0.080,   0.036, 16.9753,-999.000
   318MWESTW_5,  P21W,   269,  1,     17, SI9417,2,19940617,0909,-22.4625, 160.2792, 2180,    355.4,  15.7784,  35.4169,2,  35.4151,2,    194.6,2,    190.7,2,     2.54,2,     7.98,2,     0.00,2,     0.66,2,    2.017,2,    1.060,2, -999.000,1,-999.0000,1,  -999.00,9,   -999.0,1,-999.000,9,   2080.4,2,   2338.0,2,     7.91,2, 3598.1,-999.0000,-999.000,-999.000, 15.7223,-999.000
   318MWESTW_5,  P21W,   269,  1,     16, SI9416,2,19940617,0909,-22.4625, 160.2792, 2180,    399.9,  14.7535,  35.3213,2,  35.3208,2,    193.5,2,    192.7,2,     3.17,2,     9.35,2,     0.00,2,     0.74,2, -999.000,9, -999.000,9, -999.000,1,   1.7725,2,    -0.16,2,   -999.0,1,   7.373,2,   2087.6,2,   2324.9,2,     7.88,2, 4040.2,  0.0089,   0.080,   0.037, 14.6931,-999.000
   318MWESTW_5,  P21W,   269,  1,     15, SI9415,2,19940617,0909,-22.4625, 160.2792, 2180,    501.8,  11.7926,  34.9605,2,  34.9561,2,    187.8,2,    186.3,2,     5.82,2,    15.31,2,     0.00,2,     1.13,2,    1.373,2,    0.711,2, -999.000,1,   1.7668,2,     0.87,2,   -999.0,1,   7.422,2,   2117.8,2,   2319.8,2,     7.79,2, 5054.2,  0.0088,   0.080,   0.037, 11.7271,-999.000
   318MWESTW_5,  P21W,   269,  1,     14, SI9436,2,19940617,0909,-22.4625, 160.2792, 2180,    598.9,   9.1647,  34.6812,2,  34.6753,2,    192.5,2,    191.6,2,    10.37,2,    20.68,2,     0.00,2,     1.49,2, -999.000,9, -999.000,9, -999.000,1,   1.7870,2,     1.56,2,   -999.0,1,   7.583,2,   2137.7,2,   2291.6,2,     7.73,2, 6019.8,  0.0089,   0.080,   0.038,  9.0977,-999.000
   318MWESTW_5,  P21W,   269,  1,     13, SI9413,2,19940617,0909,-22.4625, 160.2792, 2180,    701.8,   7.6464,  34.5445,2,  34.5415,2,    191.7,2,    194.7,2,    16.08,2,    23.84,2,     0.00,2,     1.68,2,    0.534,2,    0.281,2, -999.000,1,   1.8087,2,     2.34,2,   -999.0,1,   7.736,2,   2154.2,2,   2293.3,2,     7.69,2, 7042.6,  0.0090,   0.080,   0.039,  7.5754,-999.000
   318MWESTW_5,  P21W,   269,  1,     12, SI9438,2,19940617,0909,-22.4625, 160.2792, 2180,    804.6,   6.3621,  34.4607,2,  34.4604,2,    191.7,2,    192.5,2,    23.98,2,    26.79,2,     0.00,2,     1.87,2, -999.000,9, -999.000,9, -999.000,1,   1.8194,2,     3.86,2,   -999.0,1,   7.795,2,   2172.2,2,   2320.2,2,     7.66,2, 8065.2,  0.0091,   0.080,   0.039,  6.2879,-999.000
   318MWESTW_5,  P21W,   269,  1,     11, SI9411,2,19940617,0909,-22.4625, 160.2792, 2180,    892.7,   5.5594,  34.4410,2,  34.4408,2,    183.8,2,    187.2,2,    33.19,2,    28.97,2,     0.00,2,     2.01,2,    0.155,2,    0.086,2, -999.000,1,   1.9310,2,     5.43,2,   -999.0,1,   8.232,2,   2189.2,2,   2316.7,2,     7.63,2, 8941.5,  0.0097,   0.090,   0.041,  5.4820,-999.000
   318MWESTW_5,  P21W,   269,  1,     10, SI9412,2,19940617,0909,-22.4625, 160.2792, 2180,    992.6,   4.7738,  34.4630,2,  34.4634,2,    177.7,2,    177.5,2,    47.49,2,    30.93,2,     0.00,2,     2.14,2, -999.000,9, -999.000,9, -999.000,1,-999.0000,1,  -999.00,9,   -999.0,1,-999.000,9,   2210.2,2,   2330.4,2,     7.61,2, 9934.5,-999.0000,-999.000,-999.000,  4.6929,-999.000
   318MWESTW_5,  P21W,   269,  1,      9, SI9410,2,19940617,0909,-22.4625, 160.2792, 2180,   1100.3,   4.2703,  34.4902,2,  34.4913,2,    171.0,2,    170.0,2,    59.03,2,    32.08,2,     0.00,2,     2.24,2,    0.039,2,    0.022,2, -999.000,1,   1.8596,2,    11.45,2,   -999.0,1,   7.956,2,   2229.2,2,   2346.5,2,     7.60,2,11005.1,  0.0093,   0.090,   0.040,  4.1840,-999.000
   318MWESTW_5,  P21W,   269,  1,      8, SI9422,2,19940617,0909,-22.4625, 160.2792, 2180,   1200.6,   3.9361,  34.5149,2,  34.5150,2,    164.4,2,    163.7,2,    68.10,2,    32.93,2,     0.00,2,     2.30,2, -999.000,9, -999.000,9, -999.000,1,-999.0000,1,  -999.00,9,   -999.0,1,-999.000,9,   2241.4,2,   2352.9,2,     7.59,2,12002.0,-999.0000,-999.000,-999.000,  3.8440,-999.000
   318MWESTW_5,  P21W,   269,  1,      7, SI9407,2,19940617,0909,-22.4625, 160.2792, 2180,   1306.2,   3.5920,  34.5408,2,  34.5429,2,    159.0,2,    158.3,2,    77.75,2,    33.71,2,     0.00,2,     2.36,2,    0.011,2,    0.007,2, -999.000,1,   1.8715,2,    15.77,2,   -999.0,1,   7.989,2,   2255.5,2,   2366.3,2,     7.58,2,13052.5,  0.0094,   0.090,   0.040,  3.4942,-999.000
   318MWESTW_5,  P21W,   269,  1,      6, SI9427,2,19940617,0909,-22.4625, 160.2792, 2180,   1402.2,   3.2137,  34.5682,2,  34.5694,2,    153.6,2,    151.8,2,    88.28,2,    34.49,2,     0.00,2,     2.42,2, -999.000,9, -999.000,9, -999.000,1,-999.0000,1,  -999.00,9,   -999.0,1,-999.000,9,   2270.2,2,   2378.0,2,     7.56,2,14006.4,-999.0000,-999.000,-999.000,  3.1117,-999.000
   318MWESTW_5,  P21W,   269,  1,      5, SI9405,2,19940617,0909,-22.4625, 160.2792, 2180,   1602.2,   2.8792,  34.5972,2,  34.5989,2,    151.6,2,    150.7,2,    96.07,2,    34.77,2,     0.00,2,     2.43,2,    0.001,2,    0.001,2, -999.000,1,   1.8917,2,    18.76,2,   -999.0,1,   8.032,2,   2280.2,2,   2390.0,2,     7.56,2,15994.6,  0.0095,   0.100,   0.040,  2.7642,-999.000
   318MWESTW_5,  P21W,   269,  1,      4, SI9404,2,19940617,0909,-22.4625, 160.2792, 2180,   1808.1,   2.6218,  34.6219,2,  34.6231,2,    151.4,2,    150.5,2,   101.65,2,    34.91,2,     0.00,2,     2.44,2, -999.000,9, -999.000,9, -999.000,1,-999.0000,1,  -999.00,9,   -999.0,1,-999.000,9,   2287.6,2,   -999.0,9,     7.56,2,18041.6,-999.0000,-999.000,-999.000,  2.4926,-999.000
   318MWESTW_5,  P21W,   269,  1,      3, SI9403,2,19940617,0909,-22.4625, 160.2792, 2180,   2007.5,   2.4036,  34.6463,2,  34.6478,4,    154.9,2,    154.2,4,   103.36,2,    34.61,2,     0.00,2,     2.43,2,   -0.001,2,    0.000,2, -999.000,1,-999.0000,1,  -999.00,9,   -999.0,1,-999.000,9,   2285.3,2,   2380.6,2,     7.56,2,20023.3,-999.0000,-999.000,-999.000,  2.2603,-999.000
   318MWESTW_5,  P21W,   269,  1,      2, SI9437,2,19940617,0909,-22.4625, 160.2792, 2180,   2146.8,   2.2609,  34.6662,2,  34.6667,4,    159.9,2,    159.8,4,   102.44,2,    34.25,2,     0.00,2,     2.38,2, -999.000,9, -999.000,9, -999.000,1,-999.0000,1,  -999.00,9,   -999.0,1,-999.000,9,   2282.6,2,   2388.8,2,     7.57,2,21408.2,-999.0000,-999.000,-999.000,  2.1076,-999.000
   318MWESTW_5,  P21W,   269,  1,      1, SI9401,2,19940617,0909,-22.4625, 160.2792, 2180,   2189.6,   2.1487,  34.6832,2,  34.6887,4,    168.3,2,    168.1,4,    99.32,2,    33.45,2,     0.00,2,     2.33,2,    0.000,2,    0.000,2, -999.000,1,-999.0000,1,  -999.00,9,   -999.0,1,-999.000,9,   2272.9,2,   -999.0,9,     7.57,2,21832.9,-999.0000,-999.000,-999.000,  1.9935,-999.000