BOTTLE,20010911WHPSIOdm
EXPOCODE,SECT_ID,STNNBR,CASTNO,SAMPNO,BTLNBR,BTLNBR_FLAG_W,DATE,TIME,LATITUDE,LONGITUDE,DEPTH,CTDPRS,CTDTMP,CTDSAL,CTDSAL_FLAG_W,SALNTY,SALNTY_FLAG_W,CTDOXY,CTDOXY_FLAG_W,OXYGEN,OXYGEN_FLAG_W,SILCAT,SILCAT_FLAG_W,NITRAT,NITRAT_FLAG_W,NITRIT,NITRIT_FLAG_W,PHSPHT,PHSPHT_FLAG_W,CFC-11,CFC-11_FLAG_W,CFC-12,CFC-12_FLAG_W,TRITUM,TRITUM_FLAG_W,HELIUM,HELIUM_FLAG_W,DELHE3,DELHE3_FLAG_W,DELC14,DELC14_FLAG_W,NEON,NEON_FLAG_W,TCARBN,TCARBN_FLAG_W,ALKALI,ALKALI_FLAG_W,PH,PH_FLAG_W,CTDRAW,HELIER,DELHER,NEONER,THETA,TRITER
,,,,,,,,,,,,DBAR,ITS-90,PSS-78,,PSS-78,,UMOL/KG,,UMOL/KG,,UMOL/KG,,UMOL/KG,,UMOL/KG,,UMOL/KG,,PMOL/KG,,PMOL/KG,,TU,,UMOL/KG,,PERCNT,,/MILLE,,NMOL/KG,,UMOL/KG,,UMOL/KG,,,,,NMOL/KG,PERCNT,NMOL/KG,ITS-90,TU
   318MWESTW_5,  P21W,   229,  1,     23, SI9423,2,19940608,0947,-17.8333, 173.6667, 2735,      5.3,  25.0781,  35.0711,2,  35.0699,2,    204.4,2,    210.5,2,     0.50,2,    -0.01,2,     0.01,2,     0.10,2,    1.789,2,    1.024,2, -999.000,1,-999.0000,1,  -999.00,9,   -999.0,1,-999.000,9,   -999.0,9,   -999.0,9,  -999.00,9,  110.6,-999.0000,-999.000,-999.000, 25.0769,-999.000
   318MWESTW_5,  P21W,   229,  1,     22, SI9418,2,19940608,0947,-17.8333, 173.6667, 2735,     19.6,  25.0974,  35.0703,2,  35.0709,2,    211.7,2,    209.5,2,     0.52,2,    -0.01,2,     0.01,2,     0.11,2,    1.798,2,    1.030,2, -999.000,1,-999.0000,1,  -999.00,9,   -999.0,1,-999.000,9,   -999.0,9,   -999.0,9,  -999.00,9,  253.5,-999.0000,-999.000,-999.000, 25.0931,-999.000
   318MWESTW_5,  P21W,   229,  1,     21, SI9421,2,19940608,0947,-17.8333, 173.6667, 2735,     46.9,  25.1081,  35.0718,2,  35.0711,2,    212.3,2,    213.1,2,     0.53,2,     0.04,2,     0.01,2,     0.10,2,    1.795,2,    1.021,2, -999.000,1,-999.0000,1,  -999.00,9,   -999.0,1,-999.000,9,   -999.0,9,   -999.0,9,  -999.00,9,  525.6,-999.0000,-999.000,-999.000, 25.0979,-999.000
   318MWESTW_5,  P21W,   229,  1,     20, SI9420,2,19940608,0947,-17.8333, 173.6667, 2735,     94.8,  25.0606,  35.1024,2,  35.1031,2,    200.3,2,    211.8,2,     0.55,2,     0.04,2,     0.01,2,     0.11,2,    1.808,2,    1.026,2, -999.000,1,-999.0000,1,  -999.00,9,   -999.0,1,-999.000,9,   -999.0,9,   -999.0,9,  -999.00,9, 1003.7,-999.0000,-999.000,-999.000, 25.0400,-999.000
   318MWESTW_5,  P21W,   229,  1,     19, SI9419,2,19940608,0947,-17.8333, 173.6667, 2735,    146.2,  22.7223,  35.7376,2,  35.7365,2,    186.1,2,    188.6,2,     0.71,2,     1.71,2,     0.04,2,     0.30,2,    1.921,2,    1.077,2, -999.000,1,-999.0000,1,  -999.00,9,   -999.0,1,-999.000,9,   -999.0,9,   -999.0,9,  -999.00,9, 1515.1,-999.0000,-999.000,-999.000, 22.6926,-999.000
   318MWESTW_5,  P21W,   229,  1,     18, SI9439,2,19940608,0947,-17.8333, 173.6667, 2735,    195.5,  21.1427,  35.7597,2,  35.7596,2,    183.9,2,    182.6,2,     0.88,2,     2.97,2,     0.03,2,     0.36,2,    1.960,2,    1.089,2, -999.000,1,-999.0000,1,  -999.00,9,   -999.0,1,-999.000,9,   -999.0,9,   -999.0,9,  -999.00,9, 2006.9,-999.0000,-999.000,-999.000, 21.1049,-999.000
   318MWESTW_5,  P21W,   229,  1,     17, SI9417,2,19940608,0947,-17.8333, 173.6667, 2735,    246.5,  18.5937,  35.5941,2,  35.5940,2,    182.6,2,    177.7,2,     1.49,2,     5.36,2,     0.01,2,     0.54,2,    1.862,2,    1.010,2, -999.000,1,-999.0000,1,  -999.00,9,   -999.0,1,-999.000,9,   -999.0,9,   -999.0,9,  -999.00,9, 2514.1,-999.0000,-999.000,-999.000, 18.5502,-999.000
   318MWESTW_5,  P21W,   229,  1,     16, SI9416,2,19940608,0947,-17.8333, 173.6667, 2735,    299.5,  15.7247,  35.3081,2,  35.3080,2,    178.3,2,    176.1,2,     2.99,2,     8.99,2,     0.01,2,     0.79,2,    1.579,2,    0.856,2, -999.000,1,-999.0000,1,  -999.00,9,   -999.0,1,-999.000,9,   -999.0,9,   -999.0,9,  -999.00,9, 3042.5,-999.0000,-999.000,-999.000, 15.6776,-999.000
   318MWESTW_5,  P21W,   229,  1,     15, SI9415,2,19940608,0947,-17.8333, 173.6667, 2735,    348.9,  13.5854,  35.0796,2,  35.0846,2,    181.7,2,    176.3,2,     4.64,2,    12.29,2,     0.01,2,     1.01,2,    1.358,2,    0.720,2, -999.000,1,-999.0000,1,  -999.00,9,   -999.0,1,-999.000,9,   -999.0,9,   -999.0,9,  -999.00,9, 3533.6,-999.0000,-999.000,-999.000, 13.5357,-999.000
   318MWESTW_5,  P21W,   229,  1,     14, SI9436,2,19940608,0947,-17.8333, 173.6667, 2735,    396.7,  11.3069,  34.8432,2,  34.8407,2,    182.1,2,    180.3,2,     6.73,2,    16.45,2,     0.01,2,     1.26,2,    1.077,2,    0.573,2, -999.000,1,-999.0000,1,  -999.00,9,   -999.0,1,-999.000,9,   -999.0,9,   -999.0,9,  -999.00,9, 4009.6,-999.0000,-999.000,-999.000, 11.2568,-999.000
   318MWESTW_5,  P21W,   229,  1,     13, SI9413,2,19940608,0947,-17.8333, 173.6667, 2735,    497.2,   7.9810,  34.5200,2,  34.5193,2,    193.5,2,    194.0,2,    11.79,2,    22.89,2,     0.01,2,     1.65,2,    0.621,2,    0.332,2, -999.000,1,-999.0000,1,  -999.00,9,   -999.0,1,-999.000,9,   -999.0,9,   -999.0,9,  -999.00,9, 5009.3,-999.0000,-999.000,-999.000,  7.9301,-999.000
   318MWESTW_5,  P21W,   229,  1,     12, SI9438,2,19940608,0947,-17.8333, 173.6667, 2735,    599.0,   6.5154,  34.4158,2,  34.4139,2,    196.4,2,    196.9,2,    17.74,2,    26.38,2,     0.01,2,     1.88,2,    0.321,2,    0.183,2, -999.000,1,-999.0000,1,  -999.00,9,   -999.0,1,-999.000,9,   -999.0,9,   -999.0,9,  -999.00,9, 6021.0,-999.0000,-999.000,-999.000,  6.4604,-999.000
   318MWESTW_5,  P21W,   229,  1,     11, SI9411,2,19940608,0947,-17.8333, 173.6667, 2735,    700.4,   5.6511,  34.3958,2,  34.3967,2,    185.6,2,    187.1,2,    27.25,2,    29.13,2,     0.02,2,     2.08,2,    0.142,2,    0.087,2, -999.000,1,-999.0000,1,  -999.00,9,   -999.0,1,-999.000,9,   -999.0,9,   -999.0,9,  -999.00,9, 7029.8,-999.0000,-999.000,-999.000,  5.5909,-999.000
   318MWESTW_5,  P21W,   229,  1,     10, SI9412,2,19940608,0947,-17.8333, 173.6667, 2735,    801.0,   5.0484,  34.4115,2,  34.4116,2,    174.9,2,    174.9,2,    38.09,2,    31.14,2,     0.02,2,     2.21,2,    0.062,2,    0.040,2, -999.000,1,-999.0000,1,  -999.00,9,   -999.0,1,-999.000,9,   -999.0,9,   -999.0,9,  -999.00,9, 8030.1,-999.0000,-999.000,-999.000,  4.9826,-999.000
   318MWESTW_5,  P21W,   229,  1,      9, SI9410,2,19940608,0947,-17.8333, 173.6667, 2735,    904.6,   4.4052,  34.4412,2,  34.4426,2,    168.0,2,    166.6,2,    51.44,2,    32.76,2,     0.01,2,     2.33,2,    0.024,2,    0.014,2, -999.000,1,-999.0000,1,  -999.00,9,   -999.0,1,-999.000,9,   -999.0,9,   -999.0,9,  -999.00,9, 9060.4,-999.0000,-999.000,-999.000,  4.3347,-999.000
   318MWESTW_5,  P21W,   229,  1,      8, SI9422,2,19940608,0947,-17.8333, 173.6667, 2735,   1006.4,   3.9727,  34.4721,2,  34.4730,2,    162.3,2,    160.9,2,    62.43,2,    33.51,2,     0.01,2,     2.39,2,    0.012,2,    0.006,2, -999.000,1,-999.0000,1,  -999.00,9,   -999.0,1,-999.000,9,   -999.0,9,   -999.0,9,  -999.00,9,10072.5,-999.0000,-999.000,-999.000,  3.8968,-999.000
   318MWESTW_5,  P21W,   229,  1,      7, SI9407,2,19940608,0947,-17.8333, 173.6667, 2735,   1206.3,   3.4236,  34.5221,2,  34.5250,2,    156.0,2,    154.0,2,    79.34,2,    34.49,2,     0.01,2,     2.44,2,    0.004,2,    0.005,2, -999.000,1,-999.0000,1,  -999.00,9,   -999.0,1,-999.000,9,   -999.0,9,   -999.0,9,  -999.00,9,12059.8,-999.0000,-999.000,-999.000,  3.3358,-999.000
   318MWESTW_5,  P21W,   229,  1,      6, SI9427,2,19940608,0947,-17.8333, 173.6667, 2735,   1501.5,   2.8073,  34.5832,2,  34.5838,2,    148.0,2,    147.0,2,    99.50,2,    35.42,2,     0.01,2,     2.52,2,    0.001,2,    0.002,2, -999.000,1,-999.0000,1,  -999.00,9,   -999.0,1,-999.000,9,   -999.0,9,   -999.0,9,  -999.00,9,14994.2,-999.0000,-999.000,-999.000,  2.7015,-999.000
   318MWESTW_5,  P21W,   229,  1,      5, SI9405,2,19940608,0947,-17.8333, 173.6667, 2735,   1801.8,   2.4071,  34.6181,2,  34.6197,2,    146.4,2,    146.0,2,   111.96,2,    35.69,2,     0.01,2,     2.52,2,   -0.003,2,    0.001,2, -999.000,1,-999.0000,1,  -999.00,9,   -999.0,1,-999.000,9,   -999.0,9,   -999.0,9,  -999.00,9,17980.2,-999.0000,-999.000,-999.000,  2.2814,-999.000
   318MWESTW_5,  P21W,   229,  1,      4, SI9404,2,19940608,0947,-17.8333, 173.6667, 2735,   2100.7,   2.0794,  34.6455,2,  34.6468,2,    146.6,2,    145.6,2,   123.08,2,    35.90,2,     0.01,2,     2.53,2,    0.000,2,    0.002,2, -999.000,1,-999.0000,1,  -999.00,9,   -999.0,1,-999.000,9,   -999.0,9,   -999.0,9,  -999.00,9,20951.5,-999.0000,-999.000,-999.000,  1.9331,-999.000
   318MWESTW_5,  P21W,   229,  1,      3, SI9403,2,19940608,0947,-17.8333, 173.6667, 2735,   2398.7,   1.9915,  34.6530,2,  34.6549,2,    146.3,2,    145.5,2,   127.09,2,    35.93,2,     0.02,2,     2.55,2,    0.004,2,    0.001,2, -999.000,1,-999.0000,1,  -999.00,9,   -999.0,1,-999.000,9,   -999.0,9,   -999.0,9,  -999.00,9,23913.4,-999.0000,-999.000,-999.000,  1.8205,-999.000
   318MWESTW_5,  P21W,   229,  1,      2, SI9437,2,19940608,0947,-17.8333, 173.6667, 2735,   2679.1,   1.9821,  34.6555,2,  34.6568,2,    146.4,2,    146.1,2,   128.88,2,    35.98,2,     0.02,2,     2.55,2,    0.001,2,    0.001,2, -999.000,1,-999.0000,1,  -999.00,9,   -999.0,1,-999.000,9,   -999.0,9,   -999.0,9,  -999.00,9,26700.7,-999.0000,-999.000,-999.000,  1.7856,-999.000
   318MWESTW_5,  P21W,   229,  1,      1, SI9401,2,19940608,0947,-17.8333, 173.6667, 2735,   2725.5,   1.9865,  34.6555,2,  34.6594,2,    146.2,2,    145.3,2,   128.49,2,    35.90,2,     0.01,2,     2.54,2,   -0.004,2,    0.001,2, -999.000,1,-999.0000,1,  -999.00,9,   -999.0,1,-999.000,9,   -999.0,9,   -999.0,9,  -999.00,9,27162.4,-999.0000,-999.000,-999.000,  1.7855,-999.000