BOTTLE,20010911WHPSIOdm
EXPOCODE,SECT_ID,STNNBR,CASTNO,SAMPNO,BTLNBR,BTLNBR_FLAG_W,DATE,TIME,LATITUDE,LONGITUDE,DEPTH,CTDPRS,CTDTMP,CTDSAL,CTDSAL_FLAG_W,SALNTY,SALNTY_FLAG_W,CTDOXY,CTDOXY_FLAG_W,OXYGEN,OXYGEN_FLAG_W,SILCAT,SILCAT_FLAG_W,NITRAT,NITRAT_FLAG_W,NITRIT,NITRIT_FLAG_W,PHSPHT,PHSPHT_FLAG_W,CFC-11,CFC-11_FLAG_W,CFC-12,CFC-12_FLAG_W,TRITUM,TRITUM_FLAG_W,HELIUM,HELIUM_FLAG_W,DELHE3,DELHE3_FLAG_W,DELC14,DELC14_FLAG_W,NEON,NEON_FLAG_W,TCARBN,TCARBN_FLAG_W,ALKALI,ALKALI_FLAG_W,PH,PH_FLAG_W,CTDRAW,HELIER,DELHER,NEONER,THETA,TRITER
,,,,,,,,,,,,DBAR,ITS-90,PSS-78,,PSS-78,,UMOL/KG,,UMOL/KG,,UMOL/KG,,UMOL/KG,,UMOL/KG,,UMOL/KG,,PMOL/KG,,PMOL/KG,,TU,,UMOL/KG,,PERCNT,,/MILLE,,NMOL/KG,,UMOL/KG,,UMOL/KG,,,,,NMOL/KG,PERCNT,NMOL/KG,ITS-90,TU
   318MWESTW_5,  P21W,   192,  1,     36, SI9442,2,19940529,2005,-17.5000,-167.6667, 5460,      9.6,  27.0576,  35.4145,2,  35.4143,2,    212.2,2,    207.2,2,     0.57,2,     0.00,2,     0.00,2,     0.16,2,    1.692,2,    0.964,2, -999.000,1,-999.0000,1,  -999.00,9,   -999.0,1,-999.000,9,   -999.0,9,   -999.0,9,  -999.00,9,  155.8,-999.0000,-999.000,-999.000, 27.0554,-999.000
   318MWESTW_5,  P21W,   192,  1,     35, SI9435,2,19940529,2005,-17.5000,-167.6667, 5460,     29.7,  27.0576,  35.4143,2,  35.4143,2,    209.1,2,    209.5,2,     0.73,2,     0.00,2,     0.00,2,     0.17,2,    1.682,2,    0.965,2, -999.000,1,-999.0000,1,  -999.00,9,   -999.0,1,-999.000,9,   -999.0,9,   -999.0,9,  -999.00,9,  356.9,-999.0000,-999.000,-999.000, 27.0508,-999.000
   318MWESTW_5,  P21W,   192,  1,     34, SI9441,2,19940529,2005,-17.5000,-167.6667, 5460,     49.2,  27.0566,  35.4143,2,  35.4182,2,    216.6,2,    206.2,2,     0.75,2,     0.03,2,     0.01,2,     0.17,2,    1.692,2,    0.957,2, -999.000,1,-999.0000,1,  -999.00,9,   -999.0,1,-999.000,9,   -999.0,9,   -999.0,9,  -999.00,9,  550.6,-999.0000,-999.000,-999.000, 27.0453,-999.000
   318MWESTW_5,  P21W,   192,  1,     33, SI9433,2,19940529,2005,-17.5000,-167.6667, 5460,     95.0,  24.7030,  35.9048,2,  35.9093,2,    218.5,2,    205.6,2,     0.61,2,     0.01,2,     0.00,2,     0.22,2,    1.857,2,    1.028,2, -999.000,1,-999.0000,1,  -999.00,9,   -999.0,1,-999.000,9,   -999.0,9,   -999.0,9,  -999.00,9, 1006.9,-999.0000,-999.000,-999.000, 24.6825,-999.000
   318MWESTW_5,  P21W,   192,  1,     32, SI9432,2,19940529,2005,-17.5000,-167.6667, 5460,    146.6,  22.6694,  35.9280,2,  35.9115,2,    181.1,2,    177.6,2,     0.77,2,     1.85,2,     0.03,2,     0.37,2,    1.903,2,    1.029,2, -999.000,1,-999.0000,1,  -999.00,9,   -999.0,1,-999.000,9,   -999.0,9,   -999.0,9,  -999.00,9, 1521.5,-999.0000,-999.000,-999.000, 22.6396,-999.000
   318MWESTW_5,  P21W,   192,  1,     31, SI9431,2,19940529,2005,-17.5000,-167.6667, 5460,    198.0,  20.2760,  35.7258,2,  35.7219,2,    185.0,2,    178.9,2,     0.95,2,     3.14,2,     0.01,2,     0.42,2,    1.920,2,    1.030,2, -999.000,1,-999.0000,1,  -999.00,9,   -999.0,1,-999.000,9,   -999.0,9,   -999.0,9,  -999.00,9, 2033.2,-999.0000,-999.000,-999.000, 20.2389,-999.000
   318MWESTW_5,  P21W,   192,  1,     30, SI9440,2,19940529,2005,-17.5000,-167.6667, 5460,    258.4,  18.1517,  35.5223,2,  35.5263,2,    182.1,2,    177.6,2,     1.59,2,     5.14,2,     0.00,2,     0.56,2,    1.789,2,    0.955,2, -999.000,1,-999.0000,1,  -999.00,9,   -999.0,1,-999.000,9,   -999.0,9,   -999.0,9,  -999.00,9, 2633.6,-999.0000,-999.000,-999.000, 18.1068,-999.000
   318MWESTW_5,  P21W,   192,  1,     29, SI9429,2,19940529,2005,-17.5000,-167.6667, 5460,    298.0,  16.6666,  35.3579,2,  35.3498,2,    180.2,2,    175.8,2,     2.56,2,     7.25,2,     0.00,2,     0.70,2,    1.638,2,    0.863,2, -999.000,1,-999.0000,1,  -999.00,9,   -999.0,1,-999.000,9,   -999.0,9,   -999.0,9,  -999.00,9, 3028.4,-999.0000,-999.000,-999.000, 16.6178,-999.000
   318MWESTW_5,  P21W,   192,  1,     28, SI9428,2,19940529,2005,-17.5000,-167.6667, 5460,    394.4,  11.6180,  34.7854,2,  34.7783,2,    160.2,2,    153.8,2,     8.93,2,    18.09,2,     0.00,2,     1.44,2,    0.816,2,    0.417,2, -999.000,1,-999.0000,1,  -999.00,9,   -999.0,1,-999.000,9,   -999.0,9,   -999.0,9,  -999.00,9, 3987.3,-999.0000,-999.000,-999.000, 11.5673,-999.000
   318MWESTW_5,  P21W,   192,  1,     27, SI9424,2,19940529,2005,-17.5000,-167.6667, 5460,    497.1,   8.4423,  34.5148,2,  34.5113,2,    170.5,2,    175.4,2,    13.39,2,    24.18,2,     0.00,2,     1.78,2,    0.461,2,    0.237,2, -999.000,1,-999.0000,1,  -999.00,9,   -999.0,1,-999.000,9,   -999.0,9,   -999.0,9,  -999.00,9, 5008.7,-999.0000,-999.000,-999.000,  8.3897,-999.000
   318MWESTW_5,  P21W,   192,  1,     26, SI9414,2,19940529,2005,-17.5000,-167.6667, 5460,    598.8,   6.6724,  34.4134,2,  34.4129,2,    179.6,2,    166.8,2,    19.92,2,    28.08,2,     0.01,2,     2.00,2,    0.198,6,    0.112,6, -999.000,1,-999.0000,1,  -999.00,9,   -999.0,1,-999.000,9,   -999.0,9,   -999.0,9,  -999.00,9, 6019.8,-999.0000,-999.000,-999.000,  6.6167,-999.000
   318MWESTW_5,  P21W,   192,  1,     25, SI9425,2,19940529,2005,-17.5000,-167.6667, 5460,    701.7,   5.6930,  34.3906,2,  34.3915,2,    172.4,2,    175.1,2,    27.73,2,    30.29,2,     0.00,2,     2.13,2,    0.071,2,    0.043,2, -999.000,1,-999.0000,1,  -999.00,9,   -999.0,1,-999.000,9,   -999.0,9,   -999.0,9,  -999.00,9, 7042.9,-999.0000,-999.000,-999.000,  5.6325,-999.000
   318MWESTW_5,  P21W,   192,  1,     24, SI9434,2,19940529,2005,-17.5000,-167.6667, 5460,    801.2,   5.0295,  34.4277,2,  34.4265,2,    161.3,2,    160.3,2,    41.88,2,    32.64,2,     0.00,2,     2.31,2,    0.015,2,    0.010,2, -999.000,1,-999.0000,1,  -999.00,9,   -999.0,1,-999.000,9,   -999.0,9,   -999.0,9,  -999.00,9, 8032.6,-999.0000,-999.000,-999.000,  4.9638,-999.000
   318MWESTW_5,  P21W,   192,  1,     23, SI9423,2,19940529,2005,-17.5000,-167.6667, 5460,    900.0,   4.3108,  34.4487,2,  34.4481,2,    158.7,2,    157.0,2,    54.13,2,    33.95,2,     0.00,2,     2.39,2,    0.007,2,    0.003,2, -999.000,1,-999.0000,1,  -999.00,9,   -999.0,1,-999.000,9,   -999.0,9,   -999.0,9,  -999.00,9, 9014.6,-999.0000,-999.000,-999.000,  4.2413,-999.000
   318MWESTW_5,  P21W,   192,  1,     22, SI9418,2,19940529,2005,-17.5000,-167.6667, 5460,    997.6,   3.8466,  34.4833,2,  34.4818,2,    153.9,2,    153.6,2,    65.57,2,    34.61,2,     0.00,2,     2.42,2,   -0.001,2,    0.000,2, -999.000,1,-999.0000,1,  -999.00,9,   -999.0,1,-999.000,9,   -999.0,9,   -999.0,9,  -999.00,9, 9985.4,-999.0000,-999.000,-999.000,  3.7724,-999.000
   318MWESTW_5,  P21W,   192,  1,     21, SI9421,2,19940529,2005,-17.5000,-167.6667, 5460,   1201.5,   3.1534,  34.5413,2,  34.5396,2,    148.0,2,    148.3,2,    84.97,2,    35.46,2,     0.00,2,     2.50,2,    0.000,2,   -0.001,2, -999.000,1,-999.0000,1,  -999.00,9,   -999.0,1,-999.000,9,   -999.0,9,   -999.0,9,  -999.00,9,12012.5,-999.0000,-999.000,-999.000,  3.0684,-999.000
   318MWESTW_5,  P21W,   192,  1,     20, SI9420,2,19940529,2005,-17.5000,-167.6667, 5460,   1401.7,   2.8264,  34.5744,2,  34.5751,2,    144.9,2,    145.8,2,    96.10,2,    35.80,2,     0.00,2,     2.51,2, -999.000,9, -999.000,9, -999.000,1,-999.0000,1,  -999.00,9,   -999.0,1,-999.000,9,   -999.0,9,   -999.0,9,  -999.00,9,14002.5,-999.0000,-999.000,-999.000,  2.7286,-999.000
   318MWESTW_5,  P21W,   192,  1,     19, SI9419,2,19940529,2005,-17.5000,-167.6667, 5460,   1604.1,   2.5807,  34.5968,2,  34.5969,2,    145.9,2,    147.0,2,   103.57,2,    35.83,2,     0.01,2,     2.53,2,   -0.001,2,    0.000,2, -999.000,1,-999.0000,1,  -999.00,9,   -999.0,1,-999.000,9,   -999.0,9,   -999.0,9,  -999.00,9,16014.5,-999.0000,-999.000,-999.000,  2.4692,-999.000
   318MWESTW_5,  P21W,   192,  1,     18, SI9439,2,19940529,2005,-17.5000,-167.6667, 5460,   1784.5,   2.4022,  34.6133,2,  34.6128,2,    146.1,2,    146.6,2,   109.78,2,    35.93,2,     0.00,2,     2.53,2, -999.000,9, -999.000,9, -999.000,1,-999.0000,1,  -999.00,9,   -999.0,1,-999.000,9,   -999.0,9,   -999.0,9,  -999.00,9,17808.2,-999.0000,-999.000,-999.000,  2.2780,-999.000
   318MWESTW_5,  P21W,   192,  1,     17, SI9417,2,19940529,2005,-17.5000,-167.6667, 5460,   1984.2,   2.2179,  34.6288,2,  34.6290,2,    147.1,2,    147.6,2,   115.51,2,    35.85,2,     0.00,2,     2.53,2, -999.000,9, -999.000,9, -999.000,1,-999.0000,1,  -999.00,9,   -999.0,1,-999.000,9,   -999.0,9,   -999.0,9,  -999.00,9,19793.5,-999.0000,-999.000,-999.000,  2.0795,-999.000
   318MWESTW_5,  P21W,   192,  1,     16, SI9416,2,19940529,2005,-17.5000,-167.6667, 5460,   2180.8,   2.0745,  34.6417,2,  34.6413,2,    148.5,2,    149.6,2,   119.65,2,    35.74,2,     0.00,2,     2.51,2, -999.000,9, -999.000,9, -999.000,1,-999.0000,1,  -999.00,9,   -999.0,1,-999.000,9,   -999.0,9,   -999.0,9,  -999.00,9,21747.8,-999.0000,-999.000,-999.000,  1.9214,-999.000
   318MWESTW_5,  P21W,   192,  1,     15, SI9415,2,19940529,2005,-17.5000,-167.6667, 5460,   2384.9,   1.9475,  34.6530,2,  34.6533,2,    149.7,2,    150.4,2,   123.63,2,    35.71,2,     0.00,2,     2.50,2,   -0.001,2,   -0.002,2, -999.000,1,-999.0000,1,  -999.00,9,   -999.0,1,-999.000,9,   -999.0,9,   -999.0,9,  -999.00,9,23777.1,-999.0000,-999.000,-999.000,  1.7786,-999.000
   318MWESTW_5,  P21W,   192,  1,     14, SI9436,2,19940529,2005,-17.5000,-167.6667, 5460,   2580.4,   1.8507,  34.6613,2,  34.6606,2,    151.8,2,    152.1,2,   126.18,2,    35.63,2,     0.00,2,     2.49,2, -999.000,9, -999.000,9, -999.000,1,-999.0000,1,  -999.00,9,   -999.0,1,-999.000,9,   -999.0,9,   -999.0,9,  -999.00,9,25720.7,-999.0000,-999.000,-999.000,  1.6659,-999.000
   318MWESTW_5,  P21W,   192,  1,     13, SI9413,2,19940529,2005,-17.5000,-167.6667, 5460,   2790.3,   1.7658,  34.6675,2,  34.6671,2,    154.2,2,    155.4,2,   127.94,2,    35.56,2,     0.00,2,     2.48,2, -999.000,9, -999.000,9, -999.000,1,-999.0000,1,  -999.00,9,   -999.0,1,-999.000,9,   -999.0,9,   -999.0,9,  -999.00,9,27807.6,-999.0000,-999.000,-999.000,  1.5632,-999.000
   318MWESTW_5,  P21W,   192,  1,     12, SI9438,2,19940529,2005,-17.5000,-167.6667, 5460,   2992.7,   1.7062,  34.6723,2,  34.6720,2,    157.6,2,    158.8,2,   128.41,2,    35.35,2,     0.01,2,     2.48,2, -999.000,9, -999.000,9, -999.000,1,-999.0000,1,  -999.00,9,   -999.0,1,-999.000,9,   -999.0,9,   -999.0,9,  -999.00,9,29819.6,-999.0000,-999.000,-999.000,  1.4856,-999.000
   318MWESTW_5,  P21W,   192,  1,     11, SI9411,2,19940529,2005,-17.5000,-167.6667, 5460,   3192.0,   1.6503,  34.6760,2,  34.6767,2,    161.0,2,    160.5,2,   129.06,2,    35.16,2,     0.01,2,     2.46,2, -999.000,9, -999.000,9, -999.000,1,-999.0000,1,  -999.00,9,   -999.0,1,-999.000,9,   -999.0,9,   -999.0,9,  -999.00,9,31801.6,-999.0000,-999.000,-999.000,  1.4115,-999.000
   318MWESTW_5,  P21W,   192,  1,     10, SI9412,2,19940529,2005,-17.5000,-167.6667, 5460,   3436.7,   1.5757,  34.6834,2,  34.6824,2,    165.9,2,    163.4,2,   128.77,2,    34.71,2,     0.01,2,     2.43,2, -999.000,9, -999.000,9, -999.000,1,-999.0000,1,  -999.00,9,   -999.0,1,-999.000,9,   -999.0,9,   -999.0,9,  -999.00,9,34233.8,-999.0000,-999.000,-999.000,  1.3141,-999.000
   318MWESTW_5,  P21W,   192,  1,      9, SI9410,2,19940529,2005,-17.5000,-167.6667, 5460,   3685.5,   1.5090,  34.6888,2,  34.6887,2,    170.4,2,    171.9,2,   127.50,2,    34.31,2,     0.01,2,     2.40,2,    0.001,2,   -0.001,2, -999.000,1,-999.0000,1,  -999.00,9,   -999.0,1,-999.000,9,   -999.0,9,   -999.0,9,  -999.00,9,36707.9,-999.0000,-999.000,-999.000,  1.2234,-999.000
   318MWESTW_5,  P21W,   192,  1,      8, SI9422,2,19940529,2005,-17.5000,-167.6667, 5460,   3945.6,   1.4012,  34.6971,2,  34.6956,2,    178.8,2,    181.9,2,   124.41,2,    33.59,2,     0.00,2,     2.35,2, -999.000,9, -999.000,9, -999.000,1,-999.0000,1,  -999.00,9,   -999.0,1,-999.000,9,   -999.0,9,   -999.0,9,  -999.00,9,39293.1,-999.0000,-999.000,-999.000,  1.0909,-999.000
   318MWESTW_5,  P21W,   192,  1,      7, SI9407,2,19940529,2005,-17.5000,-167.6667, 5460,   4193.8,   1.3164,  34.7053,2,  34.7044,2,    189.5,2,    192.3,2,   119.89,2,    32.71,2,     0.01,2,     2.30,2, -999.000,9, -999.000,9, -999.000,1,-999.0000,1,  -999.00,9,   -999.0,1,-999.000,9,   -999.0,9,   -999.0,9,  -999.00,9,41761.1,-999.0000,-999.000,-999.000,  0.9814,-999.000
   318MWESTW_5,  P21W,   192,  1,      6, SI9427,2,19940529,2005,-17.5000,-167.6667, 5460,   4440.5,   1.1966,  34.7119,2,  34.7121,2,    198.9,2,    203.0,2,   116.56,2,    32.12,2,     0.00,2,     2.23,2, -999.000,9, -999.000,9, -999.000,1,-999.0000,1,  -999.00,9,   -999.0,1,-999.000,9,   -999.0,9,   -999.0,9,  -999.00,9,44214.0,-999.0000,-999.000,-999.000,  0.8376,-999.000
   318MWESTW_5,  P21W,   192,  1,      5, SI9405,2,19940529,2005,-17.5000,-167.6667, 5460,   4698.8,   1.1209,  34.7108,2,  34.7113,2,    204.2,2,    205.5,2,   118.00,2,    32.04,2,     0.01,2,     2.22,2,    0.003,2,    0.001,2, -999.000,1,-999.0000,1,  -999.00,9,   -999.0,1,-999.000,9,   -999.0,9,   -999.0,9,  -999.00,9,46781.8,-999.0000,-999.000,-999.000,  0.7348,-999.000
   318MWESTW_5,  P21W,   192,  1,      4, SI9404,2,19940529,2005,-17.5000,-167.6667, 5460,   4961.5,   1.0777,  34.7088,2,  34.7101,2,    207.7,2,    207.9,2,   119.28,2,    32.09,2,     0.01,2,     2.22,2, -999.000,9, -999.000,9, -999.000,1,-999.0000,1,  -999.00,9,   -999.0,1,-999.000,9,   -999.0,9,   -999.0,9,  -999.00,9,49393.0,-999.0000,-999.000,-999.000,  0.6622,-999.000
   318MWESTW_5,  P21W,   192,  1,      3, SI9403,2,19940529,2005,-17.5000,-167.6667, 5460,   5220.8,   1.0817,  34.7085,2,  34.7079,2,    208.2,2,    209.3,2,   120.08,2,    32.09,2,     0.01,2,     2.22,2, -999.000,9, -999.000,9, -999.000,1,-999.0000,1,  -999.00,9,   -999.0,1,-999.000,9,   -999.0,9,   -999.0,9,  -999.00,9,51970.5,-999.0000,-999.000,-999.000,  0.6348,-999.000
   318MWESTW_5,  P21W,   192,  1,      2, SI9437,2,19940529,2005,-17.5000,-167.6667, 5460,   5483.6,   1.1027,  34.7074,2,  34.7081,2,    208.5,2,    208.5,2,   120.42,2,    32.02,2,     0.01,2,     2.23,2, -999.000,9, -999.000,9, -999.000,1,-999.0000,1,  -999.00,9,   -999.0,1,-999.000,9,   -999.0,9,   -999.0,9,  -999.00,9,54583.1,-999.0000,-999.000,-999.000,  0.6226,-999.000
   318MWESTW_5,  P21W,   192,  1,      1, SI9401,2,19940529,2005,-17.5000,-167.6667, 5460,   5539.7,   1.1097,  34.7079,2,  34.7079,2,    208.7,2,    210.3,2,   120.36,2,    32.09,2,     0.00,2,     2.22,2,    0.004,2,    0.003,2, -999.000,1,-999.0000,1,  -999.00,9,   -999.0,1,-999.000,9,   -999.0,9,   -999.0,9,  -999.00,9,55141.4,-999.0000,-999.000,-999.000,  0.6223,-999.000