BOTTLE,20010911WHPSIOdm
EXPOCODE,SECT_ID,STNNBR,CASTNO,SAMPNO,BTLNBR,BTLNBR_FLAG_W,DATE,TIME,LATITUDE,LONGITUDE,DEPTH,CTDPRS,CTDTMP,CTDSAL,CTDSAL_FLAG_W,SALNTY,SALNTY_FLAG_W,CTDOXY,CTDOXY_FLAG_W,OXYGEN,OXYGEN_FLAG_W,SILCAT,SILCAT_FLAG_W,NITRAT,NITRAT_FLAG_W,NITRIT,NITRIT_FLAG_W,PHSPHT,PHSPHT_FLAG_W,CFC-11,CFC-11_FLAG_W,CFC-12,CFC-12_FLAG_W,TRITUM,TRITUM_FLAG_W,HELIUM,HELIUM_FLAG_W,DELHE3,DELHE3_FLAG_W,DELC14,DELC14_FLAG_W,NEON,NEON_FLAG_W,TCARBN,TCARBN_FLAG_W,ALKALI,ALKALI_FLAG_W,PH,PH_FLAG_W,CTDRAW,HELIER,DELHER,NEONER,THETA,TRITER
,,,,,,,,,,,,DBAR,ITS-90,PSS-78,,PSS-78,,UMOL/KG,,UMOL/KG,,UMOL/KG,,UMOL/KG,,UMOL/KG,,UMOL/KG,,PMOL/KG,,PMOL/KG,,TU,,UMOL/KG,,PERCNT,,/MILLE,,NMOL/KG,,UMOL/KG,,UMOL/KG,,,,,NMOL/KG,PERCNT,NMOL/KG,ITS-90,TU
   318MWESTW_4,  P21E,    32,  1,     36,     36,2,19940405,1616,-16.7417, -80.6695, 4706,      9.3,  23.3235,  35.6301,2,  35.6324,2,    216.4,2,    215.9,2,     0.78,2,    -0.05,2,     0.01,2,     0.56,2,    1.983,2,    1.027,2, -999.000,1,-999.0000,1,  -999.00,9,   -999.0,1,-999.000,9,   -999.0,9,   -999.0,9,  -999.00,9,  140.5,-999.0000,-999.000,-999.000, 23.3216,-999.000
   318MWESTW_4,  P21E,    32,  1,     35,     35,2,19940405,1616,-16.7417, -80.6695, 4706,     25.6,  23.3286,  35.6301,2,  35.6326,2,    214.7,2,    215.5,2,     0.79,2,     0.02,2,     0.01,2,     0.57,2,    2.007,2,    1.031,2, -999.000,1,-999.0000,1,  -999.00,9,   -999.0,1,-999.000,9,   -999.0,9,   -999.0,9,  -999.00,9,  303.5,-999.0000,-999.000,-999.000, 23.3233,-999.000
   318MWESTW_4,  P21E,    32,  1,     34,     34,2,19940405,1616,-16.7417, -80.6695, 4706,     50.5,  23.0299,  35.6156,2,  35.6238,2,    214.7,2,    216.0,2,     0.80,2,     0.09,2,     0.00,2,     0.57,2,    2.052,2,    1.096,2, -999.000,1,-999.0000,1,  -999.00,9,   -999.0,1,-999.000,9,   -999.0,9,   -999.0,9,  -999.00,9,  551.7,-999.0000,-999.000,-999.000, 23.0196,-999.000
   318MWESTW_4,  P21E,    32,  1,     33,     33,2,19940405,1616,-16.7417, -80.6695, 4706,     99.4,  17.0452,  35.1869,2,  35.2085,2,    192.8,2,    196.4,2,     3.55,2,     9.52,2,     0.07,2,     1.11,2,    2.555,2,    1.272,2, -999.000,1,-999.0000,1,  -999.00,9,   -999.0,1,-999.000,9,   -999.0,9,   -999.0,9,  -999.00,9, 1041.2,-999.0000,-999.000,-999.000, 17.0288,-999.000
   318MWESTW_4,  P21E,    32,  1,     32,     32,2,19940405,1616,-16.7417, -80.6695, 4706,    149.8,  13.7435,  34.8594,2,  34.8385,2,     14.5,2,     15.3,2,    18.72,2,    20.17,2,     0.05,2,     2.53,2,    1.208,3,    0.530,3, -999.000,1,-999.0000,1,  -999.00,9,   -999.0,1,-999.000,9,   -999.0,9,   -999.0,9,  -999.00,9, 1544.0,-999.0000,-999.000,-999.000, 13.7222,-999.000
   318MWESTW_4,  P21E,    32,  1,     31,     31,2,19940405,1616,-16.7417, -80.6695, 4706,    200.1,  12.7651,  34.8619,2,  34.8776,2,      2.7,2,      2.6,2,    28.04,2,    11.67,2,     5.72,2,     2.75,2,    0.367,2,    0.202,2, -999.000,1,-999.0000,1,  -999.00,9,   -999.0,1,-999.000,9,   -999.0,9,   -999.0,9,  -999.00,9, 2046.5,-999.0000,-999.000,-999.000, 12.7379,-999.000
   318MWESTW_4,  P21E,    32,  1,     30,     30,2,19940405,1616,-16.7417, -80.6695, 4706,    251.4,  11.9960,  34.8119,2,  34.8330,2,      2.2,2,      0.9,2,    28.23,2,    17.61,2,     4.71,2,     2.74,2,    0.214,2,    0.111,2, -999.000,1,-999.0000,1,  -999.00,9,   -999.0,1,-999.000,9,   -999.0,9,   -999.0,9,  -999.00,9, 2559.1,-999.0000,-999.000,-999.000, 11.9632,-999.000
   318MWESTW_4,  P21E,    32,  1,     29,     29,2,19940405,1616,-16.7417, -80.6695, 4706,    299.4,  11.1895,  34.7779,2,  34.7858,2,      1.8,2,      1.5,2,    28.05,2,    26.15,2,     2.19,2,     2.70,2,    0.119,2,    0.053,2, -999.000,1,-999.0000,1,  -999.00,9,   -999.0,1,-999.000,9,   -999.0,9,   -999.0,9,  -999.00,9, 3038.7,-999.0000,-999.000,-999.000, 11.1521,-999.000
   318MWESTW_4,  P21E,    32,  1,     28,     28,2,19940405,1616,-16.7417, -80.6695, 4706,    396.7,   9.5805,  34.6993,2,  34.6965,2,      1.5,2,      1.8,2,    32.63,2,    35.78,2,     0.01,2,     2.81,2,    0.029,2,   -0.003,2, -999.000,1,-999.0000,1,  -999.00,9,   -999.0,1,-999.000,9,   -999.0,9,   -999.0,9,  -999.00,9, 4011.0,-999.0000,-999.000,-999.000,  9.5354,-999.000
   318MWESTW_4,  P21E,    32,  1,     27,     27,2,19940405,1616,-16.7417, -80.6695, 4706,    497.4,   8.1294,  34.6051,2,  34.6075,2,     10.6,2,     12.0,2,    36.47,2,    40.34,2,     0.00,2,     2.94,2,    0.011,2,   -0.003,2, -999.000,1,-999.0000,1,  -999.00,9,   -999.0,1,-999.000,9,   -999.0,9,   -999.0,9,  -999.00,9, 5016.8,-999.0000,-999.000,-999.000,  8.0779,-999.000
   318MWESTW_4,  P21E,    32,  1,     26,     26,2,19940405,1616,-16.7417, -80.6695, 4706,    600.1,   6.9272,  34.5383,2,  34.5372,2,     25.9,2,     26.5,2,    40.86,2,    42.51,2,     0.00,2,     3.02,2,    0.006,2,   -0.002,2, -999.000,1,-999.0000,1,  -999.00,9,   -999.0,1,-999.000,9,   -999.0,9,   -999.0,9,  -999.00,9, 6042.8,-999.0000,-999.000,-999.000,  6.8701,-999.000
   318MWESTW_4,  P21E,    32,  1,     25,     25,2,19940405,1616,-16.7417, -80.6695, 4706,    700.4,   6.0503,  34.5074,2,  34.5084,2,     34.5,2,     34.1,2,    49.27,2,    43.67,2,     0.00,2,     3.11,2,   -0.001,2,   -0.003,2, -999.000,1,-999.0000,1,  -999.00,9,   -999.0,1,-999.000,9,   -999.0,9,   -999.0,9,  -999.00,9, 7044.2,-999.0000,-999.000,-999.000,  5.9878,-999.000
   318MWESTW_4,  P21E,    32,  1,     24,     24,2,19940405,1616,-16.7417, -80.6695, 4706,    802.1,   5.4227,  34.5139,2,  34.5148,2,     31.9,2,     34.1,2,    60.60,2,    44.59,2,     0.00,2,     3.20,2,   -0.002,2,   -0.004,2, -999.000,1,-999.0000,1,  -999.00,9,   -999.0,1,-999.000,9,   -999.0,9,   -999.0,9,  -999.00,9, 8060.6,-999.0000,-999.000,-999.000,  5.3544,-999.000
   318MWESTW_4,  P21E,    32,  1,     23,     23,2,19940405,1616,-16.7417, -80.6695, 4706,    899.3,   4.9520,  34.5165,2,-999.0000,9,     40.5,2,     42.3,2,    68.64,2,    44.07,2,     0.01,2,     3.20,2,   -0.004,2,   -0.004,2, -999.000,1,-999.0000,1,  -999.00,9,   -999.0,1,-999.000,9,   -999.0,9,   -999.0,9,  -999.00,9, 9031.7,-999.0000,-999.000,-999.000,  4.8780,-999.000
   318MWESTW_4,  P21E,    32,  1,     22,     22,2,19940405,1616,-16.7417, -80.6695, 4706,    999.9,   4.4322,  34.5248,2,  34.5278,2,     50.9,2,     55.4,2,    77.96,2,    43.07,2,     0.01,2,     3.14,2,    0.000,2,   -0.002,2, -999.000,1,-999.0000,1,  -999.00,9,   -999.0,1,-999.000,9,   -999.0,9,   -999.0,9,  -999.00,9,10035.8,-999.0000,-999.000,-999.000,  4.3532,-999.000
   318MWESTW_4,  P21E,    32,  1,     21,     21,2,19940405,1616,-16.7417, -80.6695, 4706,   1101.2,   4.0666,  34.5362,2,  34.5402,2,     63.1,2,     64.1,2,    85.82,2,    42.45,2,     0.00,2,     3.08,2, -999.000,9, -999.000,9, -999.000,1,-999.0000,1,  -999.00,9,   -999.0,1,-999.000,9,   -999.0,9,   -999.0,9,  -999.00,9,11048.3,-999.0000,-999.000,-999.000,  3.9818,-999.000
   318MWESTW_4,  P21E,    32,  1,     20,     20,2,19940405,1616,-16.7417, -80.6695, 4706,   1203.1,   3.7223,  34.5482,2,  34.5519,2,     70.4,2,     73.3,2,    92.76,2,    41.94,2,     0.00,2,     3.02,2, -999.000,9, -999.000,9, -999.000,1,-999.0000,1,  -999.00,9,   -999.0,1,-999.000,9,   -999.0,9,   -999.0,9,  -999.00,9,12065.5,-999.0000,-999.000,-999.000,  3.6319,-999.000
   318MWESTW_4,  P21E,    32,  1,     19,     19,2,19940405,1616,-16.7417, -80.6695, 4706,   1301.8,   3.4531,  34.5622,2,  34.5671,2,     76.8,2,     77.2,2,   100.07,2,    41.77,2,     0.01,2,     2.99,2, -999.000,9, -999.000,9, -999.000,1,-999.0000,1,  -999.00,9,   -999.0,1,-999.000,9,   -999.0,9,   -999.0,9,  -999.00,9,13051.5,-999.0000,-999.000,-999.000,  3.3570,-999.000
   318MWESTW_4,  P21E,    32,  1,     18,     18,2,19940405,1616,-16.7417, -80.6695, 4706,   1401.0,   3.2071,  34.5758,2,  34.5802,2,     80.9,2,     82.2,2,   106.83,2,    41.26,2,     0.01,2,     2.97,2, -999.000,9, -999.000,9, -999.000,1,-999.0000,1,  -999.00,9,   -999.0,1,-999.000,9,   -999.0,9,   -999.0,9,  -999.00,9,14042.5,-999.0000,-999.000,-999.000,  3.1052,-999.000
   318MWESTW_4,  P21E,    32,  1,     17,     17,2,19940405,1616,-16.7417, -80.6695, 4706,   1500.2,   3.0219,  34.5918,2,  34.5926,2,     82.6,2,     85.3,2,   112.49,2,    40.93,2,     0.01,2,     2.96,2, -999.000,9, -999.000,9, -999.000,1,-999.0000,1,  -999.00,9,   -999.0,1,-999.000,9,   -999.0,9,   -999.0,9,  -999.00,9,15033.3,-999.0000,-999.000,-999.000,  2.9138,-999.000
   318MWESTW_4,  P21E,    32,  1,     16,     16,2,19940405,1616,-16.7417, -80.6695, 4706,   1599.1,   2.8283,  34.6017,2,  34.6048,2,     89.7,2,     90.9,2,   117.06,2,    40.25,2,    -0.01,2,     2.91,2, -999.000,9, -999.000,9, -999.000,1,-999.0000,1,  -999.00,9,   -999.0,1,-999.000,9,   -999.0,9,   -999.0,9,  -999.00,9,16021.7,-999.0000,-999.000,-999.000,  2.7142,-999.000
   318MWESTW_4,  P21E,    32,  1,     15,     15,2,19940405,1616,-16.7417, -80.6695, 4706,   1745.8,   2.6106,  34.6166,2,  34.6168,2,     97.1,2,     99.1,2,   122.00,2,    39.43,2,    -0.01,2,     2.86,2, -999.000,9, -999.000,9, -999.000,1,-999.0000,1,  -999.00,9,   -999.0,1,-999.000,9,   -999.0,9,   -999.0,9,  -999.00,9,17487.2,-999.0000,-999.000,-999.000,  2.4869,-999.000
   318MWESTW_4,  P21E,    32,  1,     14,     14,2,19940405,1616,-16.7417, -80.6695, 4706,   1903.3,   2.4017,  34.6299,2,  34.6303,2,    105.6,2,    108.4,2,   125.28,2,    38.55,2,     0.00,2,     2.79,2, -999.000,9, -999.000,9, -999.000,1,-999.0000,1,  -999.00,9,   -999.0,1,-999.000,9,   -999.0,9,   -999.0,9,  -999.00,9,19061.0,-999.0000,-999.000,-999.000,  2.2675,-999.000
   318MWESTW_4,  P21E,    32,  1,     13,     13,2,19940405,1616,-16.7417, -80.6695, 4706,   2097.6,   2.1864,  34.6438,2,  34.6445,2,    120.7,2,    120.1,2,   127.84,2,    37.79,2,     0.00,2,     2.71,2, -999.000,9, -999.000,9, -999.000,1,-999.0000,1,  -999.00,9,   -999.0,1,-999.000,9,   -999.0,9,   -999.0,9,  -999.00,9,21001.5,-999.0000,-999.000,-999.000,  2.0387,-999.000
   318MWESTW_4,  P21E,    32,  1,     12,     12,2,19940405,1616,-16.7417, -80.6695, 4706,   2295.9,   2.0126,  34.6566,2,  34.6612,4,    132.4,2,    130.9,2,   127.85,2,    36.86,2,     0.00,2,     2.61,2, -999.000,9, -999.000,9, -999.000,1,-999.0000,1,  -999.00,9,   -999.0,1,-999.000,9,   -999.0,9,   -999.0,9,  -999.00,9,22982.9,-999.0000,-999.000,-999.000,  1.8504,-999.000
   318MWESTW_4,  P21E,    32,  1,     11,     11,2,19940405,1616,-16.7417, -80.6695, 4706,   2500.1,   1.8955,  34.6663,2,  34.6661,2,    146.0,2,    144.7,2,   125.11,2,    36.15,2,     0.01,2,     2.52,2, -999.000,9, -999.000,9, -999.000,1,-999.0000,1,  -999.00,9,   -999.0,1,-999.000,9,   -999.0,9,   -999.0,9,  -999.00,9,25023.2,-999.0000,-999.000,-999.000,  1.7171,-999.000
   318MWESTW_4,  P21E,    32,  1,     10,     10,2,19940405,1616,-16.7417, -80.6695, 4706,   2750.2,   1.8221,  34.6753,2,  34.6751,2,    149.0,2,    146.8,2,   128.40,2,    36.16,2,     0.01,2,     2.52,2, -999.000,9, -999.000,9, -999.000,1,-999.0000,1,  -999.00,9,   -999.0,1,-999.000,9,   -999.0,9,   -999.0,9,  -999.00,9,27522.7,-999.0000,-999.000,-999.000,  1.6221,-999.000
   318MWESTW_4,  P21E,    32,  1,      9,      9,2,19940405,1616,-16.7417, -80.6695, 4706,   2997.3,   1.7909,  34.6793,2,  34.6796,2,    141.9,2,    141.2,2,   135.71,2,    36.55,2,     0.01,2,     2.56,2, -999.000,9, -999.000,9, -999.000,1,-999.0000,1,  -999.00,9,   -999.0,1,-999.000,9,   -999.0,9,   -999.0,9,  -999.00,9,29991.9,-999.0000,-999.000,-999.000,  1.5680,-999.000
   318MWESTW_4,  P21E,    32,  1,      8,      8,2,19940405,1616,-16.7417, -80.6695, 4706,   3250.1,   1.7839,  34.6819,2,  34.6830,2,    141.2,2,    140.4,2,   137.53,2,    36.39,2,     0.01,2,     2.56,2, -999.000,9, -999.000,9, -999.000,1,-999.0000,1,  -999.00,9,   -999.0,1,-999.000,9,   -999.0,9,   -999.0,9,  -999.00,9,32517.9,-999.0000,-999.000,-999.000,  1.5362,-999.000
   318MWESTW_4,  P21E,    32,  1,      7,      7,2,19940405,1616,-16.7417, -80.6695, 4706,   3497.4,   1.7741,  34.6846,2,  34.6846,2,    143.7,2,    144.2,2,   136.26,2,    35.88,2,     0.00,2,     2.54,2, -999.000,9, -999.000,9, -999.000,1,-999.0000,1,  -999.00,9,   -999.0,1,-999.000,9,   -999.0,9,   -999.0,9,  -999.00,9,34990.2,-999.0000,-999.000,-999.000,  1.5013,-999.000
   318MWESTW_4,  P21E,    32,  1,      6,      6,2,19940405,1616,-16.7417, -80.6695, 4706,   3749.2,   1.7594,  34.6877,2,  34.6875,2,    151.7,2,    151.4,2,   131.52,2,    35.42,2,     0.00,2,     2.49,2, -999.000,9, -999.000,9, -999.000,1,-999.0000,1,  -999.00,9,   -999.0,1,-999.000,9,   -999.0,9,   -999.0,9,  -999.00,9,37506.3,-999.0000,-999.000,-999.000,  1.4604,-999.000
   318MWESTW_4,  P21E,    32,  1,      5,      5,2,19940405,1616,-16.7417, -80.6695, 4706,   3994.8,   1.7564,  34.6900,2,  34.6901,2,    155.7,2,    155.0,2,   128.78,2,    35.14,2,     0.00,2,     2.47,2, -999.000,9, -999.000,9, -999.000,1,-999.0000,1,  -999.00,9,   -999.0,1,-999.000,9,   -999.0,9,   -999.0,9,  -999.00,9,39961.3,-999.0000,-999.000,-999.000,  1.4308,-999.000
   318MWESTW_4,  P21E,    32,  1,      4,      4,2,19940405,1616,-16.7417, -80.6695, 4706,   4246.6,   1.7658,  34.6913,2,  34.6910,2,    156.8,2,    155.0,2,   128.79,2,    35.04,2,     0.00,2,     2.45,2, -999.000,9, -999.000,9, -999.000,1,-999.0000,1,  -999.00,9,   -999.0,1,-999.000,9,   -999.0,9,   -999.0,9,  -999.00,9,42478.3,-999.0000,-999.000,-999.000,  1.4118,-999.000
   318MWESTW_4,  P21E,    32,  1,      3,      3,2,19940405,1616,-16.7417, -80.6695, 4706,   4497.7,   1.7859,  34.6913,2,  34.6903,2,    156.4,2,    155.8,2,   129.34,2,    35.25,2,     0.00,2,     2.45,2, -999.000,9, -999.000,9, -999.000,1,-999.0000,1,  -999.00,9,   -999.0,1,-999.000,9,   -999.0,9,   -999.0,9,  -999.00,9,44988.4,-999.0000,-999.000,-999.000,  1.4023,-999.000
   318MWESTW_4,  P21E,    32,  1,      2,      2,2,19940405,1616,-16.7417, -80.6695, 4706,   4737.4,   1.8130,  34.6910,2,  34.6908,2,    156.2,2,    155.8,2,   129.35,2,    35.32,2,     0.00,2,     2.45,2, -999.000,9, -999.000,9, -999.000,1,-999.0000,1,  -999.00,9,   -999.0,1,-999.000,9,   -999.0,9,   -999.0,9,  -999.00,9,47384.9,-999.0000,-999.000,-999.000,  1.4001,-999.000
   318MWESTW_4,  P21E,    32,  1,      1,      1,2,19940405,1616,-16.7417, -80.6695, 4706,   4788.4,   1.8193,  34.6914,2,  34.6905,2,    156.0,2,    155.4,2,   129.09,2,    35.20,2,     0.01,2,     2.46,2, -999.000,9, -999.000,9, -999.000,1,-999.0000,1,  -999.00,9,   -999.0,1,-999.000,9,   -999.0,9,   -999.0,9,  -999.00,9,47894.2,-999.0000,-999.000,-999.000,  1.4001,-999.000