BOTTLE,20010911WHPSIOdm
EXPOCODE,SECT_ID,STNNBR,CASTNO,SAMPNO,BTLNBR,BTLNBR_FLAG_W,DATE,TIME,LATITUDE,LONGITUDE,DEPTH,CTDPRS,CTDTMP,CTDSAL,CTDSAL_FLAG_W,SALNTY,SALNTY_FLAG_W,CTDOXY,CTDOXY_FLAG_W,OXYGEN,OXYGEN_FLAG_W,SILCAT,SILCAT_FLAG_W,NITRAT,NITRAT_FLAG_W,NITRIT,NITRIT_FLAG_W,PHSPHT,PHSPHT_FLAG_W,CFC-11,CFC-11_FLAG_W,CFC-12,CFC-12_FLAG_W,TRITUM,TRITUM_FLAG_W,HELIUM,HELIUM_FLAG_W,DELHE3,DELHE3_FLAG_W,DELC14,DELC14_FLAG_W,NEON,NEON_FLAG_W,TCARBN,TCARBN_FLAG_W,ALKALI,ALKALI_FLAG_W,PH,PH_FLAG_W,CTDRAW,HELIER,DELHER,NEONER,THETA,TRITER
,,,,,,,,,,,,DBAR,ITS-90,PSS-78,,PSS-78,,UMOL/KG,,UMOL/KG,,UMOL/KG,,UMOL/KG,,UMOL/KG,,UMOL/KG,,PMOL/KG,,PMOL/KG,,TU,,UMOL/KG,,PERCNT,,/MILLE,,NMOL/KG,,UMOL/KG,,UMOL/KG,,,,,NMOL/KG,PERCNT,NMOL/KG,ITS-90,TU
   318MWESTW_5,  P21W,   270,  1,     27, SI9424,2,19940617,1301,-22.6000, 159.9500, 2235,      5.9,  23.1953,  35.4934,2,  35.4932,2,    219.9,2,    213.8,2,     0.38,2,     0.00,2,     0.00,2,     0.08,2,    1.890,2,    1.052,2, -999.000,1,-999.0000,1,  -999.00,9,   -999.0,1,-999.000,9,   -999.0,9,   -999.0,9,  -999.00,9,  117.8,-999.0000,-999.000,-999.000, 23.1941,-999.000
   318MWESTW_5,  P21W,   270,  1,     26, SI9414,2,19940617,1301,-22.6000, 159.9500, 2235,     18.5,  23.1799,  35.5000,2,  35.4971,2,    212.7,2,    214.8,2,     0.40,2,     0.00,2,     0.00,2,     0.09,2,    1.915,2,    1.060,2, -999.000,1,-999.0000,1,  -999.00,9,   -999.0,1,-999.000,9,   -999.0,9,   -999.0,9,  -999.00,9,  243.3,-999.0000,-999.000,-999.000, 23.1761,-999.000
   318MWESTW_5,  P21W,   270,  1,     25, SI9425,2,19940617,1301,-22.6000, 159.9500, 2235,     44.7,  22.9850,  35.6363,2,  35.6396,2,    210.5,2,    213.4,2,     0.43,2,     0.00,2,     0.00,2,     0.10,2, -999.000,9, -999.000,9, -999.000,1,-999.0000,1,  -999.00,9,   -999.0,1,-999.000,9,   -999.0,9,   -999.0,9,  -999.00,9,  503.7,-999.0000,-999.000,-999.000, 22.9759,-999.000
   318MWESTW_5,  P21W,   270,  1,     24, SI9434,2,19940617,1301,-22.6000, 159.9500, 2235,     95.6,  22.7870,  35.7555,2,  35.7543,2,    192.5,2,    205.5,2,     0.46,2,     0.49,2,     0.10,2,     0.18,2,    1.926,2,    1.065,2, -999.000,1,-999.0000,1,  -999.00,9,   -999.0,1,-999.000,9,   -999.0,9,   -999.0,9,  -999.00,9, 1010.9,-999.0000,-999.000,-999.000, 22.7676,-999.000
   318MWESTW_5,  P21W,   270,  1,     23, SI9423,2,19940617,1301,-22.6000, 159.9500, 2235,    145.6,  21.2323,  35.7341,2,  35.7331,2,    183.0,2,    186.6,2,     0.78,2,     2.98,2,     0.02,2,     0.34,2,    1.976,2,    1.075,2, -999.000,1,-999.0000,1,  -999.00,9,   -999.0,1,-999.000,9,   -999.0,9,   -999.0,9,  -999.00,9, 1509.1,-999.0000,-999.000,-999.000, 21.2041,-999.000
   318MWESTW_5,  P21W,   270,  1,     22, SI9418,2,19940617,1301,-22.6000, 159.9500, 2235,    195.9,  20.3314,  35.7250,2,  35.7250,2,    190.6,2,    192.4,2,     0.80,2,     2.96,2,     0.00,2,     0.33,2,    2.076,2,    1.118,2, -999.000,1,-999.0000,1,  -999.00,9,   -999.0,1,-999.000,9,   -999.0,9,   -999.0,9,  -999.00,9, 2009.3,-999.0000,-999.000,-999.000, 20.2946,-999.000
   318MWESTW_5,  P21W,   270,  1,     21, SI9421,2,19940617,1301,-22.6000, 159.9500, 2235,    245.1,  19.4885,  35.6683,2,  35.6662,2,    185.2,2,    187.4,2,     1.12,2,     4.11,2,     0.00,2,     0.40,2, -999.000,9, -999.000,9, -999.000,1,-999.0000,1,  -999.00,9,   -999.0,1,-999.000,9,   -999.0,9,   -999.0,9,  -999.00,9, 2499.7,-999.0000,-999.000,-999.000, 19.4438,-999.000
   318MWESTW_5,  P21W,   270,  1,     20, SI9420,2,19940617,1301,-22.6000, 159.9500, 2235,    298.7,  17.8889,  35.5663,2,  35.5642,2,    184.1,2,    186.0,2,     1.73,2,     5.72,2,     0.00,2,     0.51,2,    2.012,2,    1.069,2, -999.000,1,-999.0000,1,  -999.00,9,   -999.0,1,-999.000,9,   -999.0,9,   -999.0,9,  -999.00,9, 3033.5,-999.0000,-999.000,-999.000, 17.8375,-999.000
   318MWESTW_5,  P21W,   270,  1,     19, SI9419,2,19940617,1301,-22.6000, 159.9500, 2235,    344.1,  16.9574,  35.4899,2,  35.4880,2,    186.3,2,    184.4,2,     2.19,2,     7.08,2,     0.00,2,     0.59,2,    1.943,2,    1.030,2, -999.000,1,-999.0000,1,  -999.00,9,   -999.0,1,-999.000,9,   -999.0,9,   -999.0,9,  -999.00,9, 3484.6,-999.0000,-999.000,-999.000, 16.9003,-999.000
   318MWESTW_5,  P21W,   270,  1,     18, SI9439,2,19940617,1301,-22.6000, 159.9500, 2235,    400.6,  15.4351,  35.3551,2,  35.3585,2,    186.5,2,    183.4,2,     3.23,2,     9.20,2,     0.00,2,     0.72,2, -999.000,9, -999.000,9, -999.000,1,-999.0000,1,  -999.00,9,   -999.0,1,-999.000,9,   -999.0,9,   -999.0,9,  -999.00,9, 4047.2,-999.0000,-999.000,-999.000, 15.3727,-999.000
   318MWESTW_5,  P21W,   270,  1,     17, SI9417,2,19940617,1301,-22.6000, 159.9500, 2235,    490.4,  13.0946,  35.1045,2,  35.1037,2,    181.3,2,    181.2,2,     5.14,2,    13.39,2,     0.00,2,     1.00,2,    1.467,2,    0.759,2, -999.000,1,-999.0000,1,  -999.00,9,   -999.0,1,-999.000,9,   -999.0,9,   -999.0,9,  -999.00,9, 4941.0,-999.0000,-999.000,-999.000, 13.0260,-999.000
   318MWESTW_5,  P21W,   270,  1,     16, SI9416,2,19940617,1301,-22.6000, 159.9500, 2235,    599.3,   9.5823,  34.7237,2,  34.7233,2,    189.3,2,    188.8,2,     9.65,2,    19.82,2,     0.00,2,     1.41,2, -999.000,9, -999.000,9, -999.000,1,-999.0000,1,  -999.00,9,   -999.0,1,-999.000,9,   -999.0,9,   -999.0,9,  -999.00,9, 6023.4,-999.0000,-999.000,-999.000,  9.5134,-999.000
   318MWESTW_5,  P21W,   270,  1,     15, SI9415,2,19940617,1301,-22.6000, 159.9500, 2235,    695.9,   7.8866,  34.5710,2,  34.5700,2,    193.0,2,    190.5,2,    15.90,2,    23.42,2,     0.00,2,     1.65,2,    0.547,2,    0.284,2, -999.000,1,-999.0000,1,  -999.00,9,   -999.0,1,-999.000,9,   -999.0,9,   -999.0,9,  -999.00,9, 6984.1,-999.0000,-999.000,-999.000,  7.8149,-999.000
   318MWESTW_5,  P21W,   270,  1,     14, SI9436,3,19940617,1301,-22.6000, 159.9500, 2235,    797.5,   6.2673,  34.4669,2,  34.4681,2,    191.0,2,    190.5,2,    26.05,2,    26.98,2,     0.00,2,     1.89,2, -999.000,9, -999.000,9, -999.000,1,-999.0000,1,  -999.00,9,   -999.0,1,-999.000,9,   -999.0,9,   -999.0,9,  -999.00,9, 7994.5,-999.0000,-999.000,-999.000,  6.1944,-999.000
   318MWESTW_5,  P21W,   270,  1,     13, SI9413,2,19940617,1301,-22.6000, 159.9500, 2235,    900.0,   5.3597,  34.4576,2,  34.4571,2,    183.8,2,    181.2,2,    38.53,2,    29.32,2,     0.00,2,     2.04,2, -999.000,9, -999.000,9, -999.000,1,-999.0000,1,  -999.00,9,   -999.0,1,-999.000,9,   -999.0,9,   -999.0,9,  -999.00,9, 9014.1,-999.0000,-999.000,-999.000,  5.2830,-999.000
   318MWESTW_5,  P21W,   270,  1,     12, SI9438,2,19940617,1301,-22.6000, 159.9500, 2235,   1002.0,   4.6978,  34.4748,2,  34.4762,2,    175.5,2,    173.3,2,    50.71,2,    30.98,2,     0.00,2,     2.15,2,    0.059,2,    0.034,2, -999.000,1,-999.0000,1,  -999.00,9,   -999.0,1,-999.000,9,   -999.0,9,   -999.0,9,  -999.00,9,10027.9,-999.0000,-999.000,-999.000,  4.6167,-999.000
   318MWESTW_5,  P21W,   270,  1,     11, SI9411,2,19940617,1301,-22.6000, 159.9500, 2235,   1153.0,   4.0169,  34.5103,2,  34.5105,2,    166.1,2,    164.6,2,    66.21,2,    32.50,2,     0.00,2,     2.26,2, -999.000,9, -999.000,9, -999.000,1,-999.0000,1,  -999.00,9,   -999.0,1,-999.000,9,   -999.0,9,   -999.0,9,  -999.00,9,11529.5,-999.0000,-999.000,-999.000,  3.9282,-999.000
   318MWESTW_5,  P21W,   270,  1,     10, SI9412,2,19940617,1301,-22.6000, 159.9500, 2235,   1303.5,   3.5398,  34.5433,2,  34.5441,2,    157.5,2,    156.3,2,    78.95,2,    33.66,2,     0.00,2,     2.36,2,    0.006,2,    0.003,2, -999.000,1,-999.0000,1,  -999.00,9,   -999.0,1,-999.000,9,   -999.0,9,   -999.0,9,  -999.00,9,13025.4,-999.0000,-999.000,-999.000,  3.4427,-999.000
   318MWESTW_5,  P21W,   270,  1,      9, SI9410,2,19940617,1301,-22.6000, 159.9500, 2235,   1451.3,   3.1496,  34.5736,2,  34.5747,2,    152.2,2,    149.3,2,    89.69,2,    34.48,2,     0.00,2,     2.41,2, -999.000,9, -999.000,9, -999.000,1,-999.0000,1,  -999.00,9,   -999.0,1,-999.000,9,   -999.0,9,   -999.0,9,  -999.00,9,14495.2,-999.0000,-999.000,-999.000,  3.0441,-999.000
   318MWESTW_5,  P21W,   270,  1,      8, SI9422,2,19940617,1301,-22.6000, 159.9500, 2235,   1601.9,   2.8811,  34.5971,2,  34.5979,2,    150.7,2,    150.0,2,    95.92,2,    34.69,2,     0.00,2,     2.43,2,    0.000,2,   -0.001,2, -999.000,1,-999.0000,1,  -999.00,9,   -999.0,1,-999.000,9,   -999.0,9,   -999.0,9,  -999.00,9,15992.4,-999.0000,-999.000,-999.000,  2.7661,-999.000
   318MWESTW_5,  P21W,   270,  1,      7, SI9407,2,19940617,1301,-22.6000, 159.9500, 2235,   1751.5,   2.6927,  34.6147,2,  34.6154,2,    149.7,2,    149.3,2,   100.57,2,    34.83,2,     0.00,2,     2.44,2, -999.000,9, -999.000,9, -999.000,1,-999.0000,1,  -999.00,9,   -999.0,1,-999.000,9,   -999.0,9,   -999.0,9,  -999.00,9,17479.2,-999.0000,-999.000,-999.000,  2.5674,-999.000
   318MWESTW_5,  P21W,   270,  1,      6, SI9427,2,19940617,1301,-22.6000, 159.9500, 2235,   1854.6,   2.5528,  34.6285,2,  34.6284,2,    151.8,2,    150.9,2,   102.76,2,    34.63,2,     0.00,2,     2.43,2,   -0.002,6,   -0.002,6, -999.000,1,-999.0000,1,  -999.00,9,   -999.0,1,-999.000,9,   -999.0,9,   -999.0,9,  -999.00,9,18503.5,-999.0000,-999.000,-999.000,  2.4206,-999.000
   318MWESTW_5,  P21W,   270,  1,      5, SI9405,3,19940617,1301,-22.6000, 159.9500, 2235,   1956.8,   2.4266,  34.6427,2,  34.6437,2,    154.6,2,    153.4,2,   103.51,2,    34.43,2,     0.00,2,     2.40,2, -999.000,9, -999.000,9, -999.000,1,-999.0000,1,  -999.00,9,   -999.0,1,-999.000,9,   -999.0,9,   -999.0,9,  -999.00,9,19520.0,-999.0000,-999.000,-999.000,  2.2874,-999.000
   318MWESTW_5,  P21W,   270,  1,      4, SI9404,2,19940617,1301,-22.6000, 159.9500, 2235,   2058.7,   2.3567,  34.6514,2,  34.6519,2,    156.3,2,    155.1,2,   103.53,2,    34.27,2,     0.00,2,     2.39,2,    0.000,2,    0.000,2, -999.000,1,-999.0000,1,  -999.00,9,   -999.0,1,-999.000,9,   -999.0,9,   -999.0,9,  -999.00,9,20533.1,-999.0000,-999.000,-999.000,  2.2097,-999.000
   318MWESTW_5,  P21W,   270,  1,      3, SI9403,2,19940617,1301,-22.6000, 159.9500, 2235,   2156.6,   2.2556,  34.6657,2,  34.6669,2,    159.8,2,    160.7,2,   102.10,2,    33.86,2,     0.00,2,     2.36,2, -999.000,9, -999.000,9, -999.000,1,-999.0000,1,  -999.00,9,   -999.0,1,-999.000,9,   -999.0,9,   -999.0,9,  -999.00,9,21505.5,-999.0000,-999.000,-999.000,  2.1016,-999.000
   318MWESTW_5,  P21W,   270,  1,      2, SI9437,2,19940617,1301,-22.6000, 159.9500, 2235,   2203.4,   2.1744,  34.6783,2,  34.6794,2,    163.4,2,    166.0,2,    99.67,2,    33.45,2,     0.00,2,     2.33,2, -999.000,9, -999.000,9, -999.000,1,-999.0000,1,  -999.00,9,   -999.0,1,-999.000,9,   -999.0,9,   -999.0,9,  -999.00,9,21970.8,-999.0000,-999.000,-999.000,  2.0175,-999.000
   318MWESTW_5,  P21W,   270,  1,      1, SI9401,2,19940617,1301,-22.6000, 159.9500, 2235,   2243.8,   2.1613,  34.6817,2,  34.6802,2,    166.1,2,    166.5,2,    99.38,2,    33.32,2,     0.00,2,     2.36,2,    0.000,2,    0.000,2, -999.000,1,-999.0000,1,  -999.00,9,   -999.0,1,-999.000,9,   -999.0,9,   -999.0,9,  -999.00,9,22372.2,-999.0000,-999.000,-999.000,  2.0011,-999.000
   318MWESTW_5,  P21W,   271,  1,     21, SI9421,2,19940617,1647,-22.7167, 159.6500, 1450,      3.6,  23.4210,  35.4621,2,  35.4620,2,    223.5,2,    213.8,2,     0.34,2,     0.09,2,     0.00,2,     0.11,2,    1.905,2,    1.049,2, -999.000,1,-999.0000,1,  -999.00,9,   -999.0,1,-999.000,9,   -999.0,9,   -999.0,9,  -999.00,9,   94.5,-999.0000,-999.000,-999.000, 23.4203,-999.000
   318MWESTW_5,  P21W,   271,  1,     20, SI9420,2,19940617,1647,-22.7167, 159.6500, 1450,     23.4,  23.4333,  35.4626,2,  35.4647,2,    224.1,2,    211.1,2,     0.36,2,     0.06,2,     0.00,2,     0.11,2, -999.000,9, -999.000,9, -999.000,1,-999.0000,1,  -999.00,9,   -999.0,1,-999.000,9,   -999.0,9,   -999.0,9,  -999.00,9,  292.4,-999.0000,-999.000,-999.000, 23.4285,-999.000
   318MWESTW_5,  P21W,   271,  1,     19, SI9419,2,19940617,1647,-22.7167, 159.6500, 1450,     48.8,  23.4413,  35.4654,2,  35.4748,2,    215.0,2,    211.2,2,     0.39,2,     0.02,2,     0.00,2,     0.11,2, -999.000,9, -999.000,9, -999.000,1,-999.0000,1,  -999.00,9,   -999.0,1,-999.000,9,   -999.0,9,   -999.0,9,  -999.00,9,  545.3,-999.0000,-999.000,-999.000, 23.4312,-999.000
   318MWESTW_5,  P21W,   271,  1,     18, SI9439,2,19940617,1647,-22.7167, 159.6500, 1450,     98.8,  23.3703,  35.6199,2,  35.6247,2,    210.7,2,    210.3,2,     0.41,2,     0.00,2,     0.00,2,     0.10,2,    1.908,2,    1.050,2, -999.000,1,-999.0000,1,  -999.00,9,   -999.0,1,-999.000,9,   -999.0,9,   -999.0,9,  -999.00,9, 1043.5,-999.0000,-999.000,-999.000, 23.3498,-999.000
   318MWESTW_5,  P21W,   271,  1,     17, SI9417,2,19940617,1647,-22.7167, 159.6500, 1450,    145.3,  22.0248,  35.7427,2,  35.7428,2,    196.7,2,    196.0,2,     0.72,2,     1.88,2,     0.08,2,     0.27,2, -999.000,9, -999.000,9, -999.000,1,-999.0000,1,  -999.00,9,   -999.0,1,-999.000,9,   -999.0,9,   -999.0,9,  -999.00,9, 1506.2,-999.0000,-999.000,-999.000, 21.9959,-999.000
   318MWESTW_5,  P21W,   271,  1,     16, SI9416,2,19940617,1647,-22.7167, 159.6500, 1450,    196.3,  20.6093,  35.7354,2,  35.7343,2,    192.0,2,    199.9,2,     0.75,2,     2.60,2,     0.01,2,     0.31,2,    2.052,2,    1.115,2, -999.000,1,-999.0000,1,  -999.00,9,   -999.0,1,-999.000,9,   -999.0,9,   -999.0,9,  -999.00,9, 2013.6,-999.0000,-999.000,-999.000, 20.5721,-999.000
   318MWESTW_5,  P21W,   271,  1,     15, SI9415,2,19940617,1647,-22.7167, 159.6500, 1450,    247.7,  19.8971,  35.6898,2,  35.6889,2,    185.6,2,    186.6,2,     1.06,2,     4.08,2,     0.00,2,     0.40,2, -999.000,9, -999.000,9, -999.000,1,-999.0000,1,  -999.00,9,   -999.0,1,-999.000,9,   -999.0,9,   -999.0,9,  -999.00,9, 2524.8,-999.0000,-999.000,-999.000, 19.8512,-999.000
   318MWESTW_5,  P21W,   271,  1,     14, SI9436,2,19940617,1647,-22.7167, 159.6500, 1450,    296.3,  18.5679,  35.5973,2,  35.5948,2,    185.3,2,    184.0,2,     1.51,2,     5.49,2,     0.00,2,     0.50,2,    1.951,2,    1.055,2, -999.000,1,-999.0000,1,  -999.00,9,   -999.0,1,-999.000,9,   -999.0,9,   -999.0,9,  -999.00,9, 3008.7,-999.0000,-999.000,-999.000, 18.5156,-999.000
   318MWESTW_5,  P21W,   271,  1,     13, SI9413,2,19940617,1647,-22.7167, 159.6500, 1450,    349.5,  17.2892,  35.5115,2,  35.5040,2,    186.4,2,    183.2,2,     2.12,2,     6.92,2,     0.01,2,     0.60,2, -999.000,9, -999.000,9, -999.000,1,-999.0000,1,  -999.00,9,   -999.0,1,-999.000,9,   -999.0,9,   -999.0,9,  -999.00,9, 3538.4,-999.0000,-999.000,-999.000, 17.2304,-999.000
   318MWESTW_5,  P21W,   271,  1,     12, SI9438,3,19940617,1647,-22.7167, 159.6500, 1450,    399.2,  15.6621,  35.3651,2,  35.3595,2,    184.4,2,    182.0,2,     3.15,2,     9.26,2,     0.00,2,     0.75,2, -999.000,9, -999.000,9, -999.000,1,-999.0000,1,  -999.00,9,   -999.0,1,-999.000,9,   -999.0,9,   -999.0,9,  -999.00,9, 4033.3,-999.0000,-999.000,-999.000, 15.5993,-999.000
   318MWESTW_5,  P21W,   271,  1,     11, SI9411,2,19940617,1647,-22.7167, 159.6500, 1450,    501.5,  12.2568,  35.0119,2,  35.0024,2,    181.9,2,    182.0,2,     6.05,2,    15.02,2,     0.00,2,     1.10,2, -999.000,9, -999.000,9, -999.000,1,-999.0000,1,  -999.00,9,   -999.0,1,-999.000,9,   -999.0,9,   -999.0,9,  -999.00,9, 5050.6,-999.0000,-999.000,-999.000, 12.1896,-999.000
   318MWESTW_5,  P21W,   271,  1,     10, SI9412,2,19940617,1647,-22.7167, 159.6500, 1450,    603.9,   9.2572,  34.6939,2,  34.6918,2,    189.8,2,    189.7,2,    10.53,2,    20.56,2,     0.00,2,     1.46,2,    0.839,2,    0.440,2, -999.000,1,-999.0000,1,  -999.00,9,   -999.0,1,-999.000,9,   -999.0,9,   -999.0,9,  -999.00,9, 6068.8,-999.0000,-999.000,-999.000,  9.1892,-999.000
   318MWESTW_5,  P21W,   271,  1,      9, SI9410,2,19940617,1647,-22.7167, 159.6500, 1450,    699.0,   7.3335,  34.5213,2,  34.5199,2,    193.8,2,    193.6,2,    17.45,2,    24.59,2,     0.00,2,     1.71,2, -999.000,9, -999.000,9, -999.000,1,-999.0000,1,  -999.00,9,   -999.0,1,-999.000,9,   -999.0,9,   -999.0,9,  -999.00,9, 7014.0,-999.0000,-999.000,-999.000,  7.2644,-999.000
   318MWESTW_5,  P21W,   271,  1,      8, SI9422,2,19940617,1647,-22.7167, 159.6500, 1450,    797.0,   6.1768,  34.4619,2,  34.4599,2,    190.4,2,    190.2,2,    26.67,2,    27.40,2,     0.00,2,     1.91,2,    0.234,2,    0.135,2, -999.000,1,-999.0000,1,  -999.00,9,   -999.0,1,-999.000,9,   -999.0,9,   -999.0,9,  -999.00,9, 7988.1,-999.0000,-999.000,-999.000,  6.1045,-999.000
   318MWESTW_5,  P21W,   271,  1,      7, SI9407,2,19940617,1647,-22.7167, 159.6500, 1450,    899.6,   5.3861,  34.4568,2,  34.4551,2,    182.2,2,    183.7,2,    37.61,2,    29.40,2,     0.00,2,     2.04,2, -999.000,9, -999.000,9, -999.000,1,-999.0000,1,  -999.00,9,   -999.0,1,-999.000,9,   -999.0,9,   -999.0,9,  -999.00,9, 9008.5,-999.0000,-999.000,-999.000,  5.3092,-999.000
   318MWESTW_5,  P21W,   271,  1,      6, SI9427,2,19940617,1647,-22.7167, 159.6500, 1450,    995.7,   4.6419,  34.4768,2,  34.4754,2,    174.4,2,    173.8,2,    51.27,2,    31.18,2,     0.00,2,     2.18,2,    0.058,2,    0.043,2, -999.000,1,-999.0000,1,  -999.00,9,   -999.0,1,-999.000,9,   -999.0,9,   -999.0,9,  -999.00,9, 9963.4,-999.0000,-999.000,-999.000,  4.5617,-999.000
   318MWESTW_5,  P21W,   271,  1,      5, SI9405,2,19940617,1647,-22.7167, 159.6500, 1450,   1098.9,   4.1150,  34.5037,2,  34.5034,2,    167.1,2,    183.6,4,    63.64,2,    32.34,2,     0.00,2,     2.27,2, -999.000,9, -999.000,9, -999.000,1,-999.0000,1,  -999.00,9,   -999.0,1,-999.000,9,   -999.0,9,   -999.0,9,  -999.00,9,10989.0,-999.0000,-999.000,-999.000,  4.0301,-999.000
   318MWESTW_5,  P21W,   271,  1,      4, SI9404,2,19940617,1647,-22.7167, 159.6500, 1450,   1202.3,   3.8546,  34.5212,2,  34.5205,2,    162.0,2,    161.8,2,    70.40,2,    32.98,2,     0.00,2,     2.31,2,    0.016,2,    0.011,2, -999.000,1,-999.0000,1,  -999.00,9,   -999.0,1,-999.000,9,   -999.0,9,   -999.0,9,  -999.00,9,12017.0,-999.0000,-999.000,-999.000,  3.7631,-999.000
   318MWESTW_5,  P21W,   271,  1,      3, SI9403,2,19940617,1647,-22.7167, 159.6500, 1450,   1305.0,   3.5051,  34.5468,2,  34.5455,2,    156.7,2,    159.7,2,    79.75,2,    33.80,2,     0.00,2,     2.35,2, -999.000,9, -999.000,9, -999.000,1,-999.0000,1,  -999.00,9,   -999.0,1,-999.000,9,   -999.0,9,   -999.0,9,  -999.00,9,13037.9,-999.0000,-999.000,-999.000,  3.4082,-999.000
   318MWESTW_5,  P21W,   271,  1,      2, SI9437,2,19940617,1647,-22.7167, 159.6500, 1450,   1402.2,   3.2250,  34.5680,2,  34.5679,2,    152.5,2,    151.7,2,    87.52,2,    34.36,2,     0.00,2,     2.40,2, -999.000,9, -999.000,9, -999.000,1,-999.0000,1,  -999.00,9,   -999.0,1,-999.000,9,   -999.0,9,   -999.0,9,  -999.00,9,14003.3,-999.0000,-999.000,-999.000,  3.1228,-999.000
   318MWESTW_5,  P21W,   271,  1,      1, SI9401,2,19940617,1647,-22.7167, 159.6500, 1450,   1489.4,   3.1930,  34.5716,2,  34.5714,2,    150.1,2,    152.8,3,    88.40,2,    34.54,2,     0.00,2,     2.41,2,    0.002,2,    0.001,2, -999.000,1,-999.0000,1,  -999.00,9,   -999.0,1,-999.000,9,   -999.0,9,   -999.0,9,  -999.00,9,14869.4,-999.0000,-999.000,-999.000,  3.0839,-999.000