BOTTLE,20010911WHPSIOdm
EXPOCODE,SECT_ID,STNNBR,CASTNO,SAMPNO,BTLNBR,BTLNBR_FLAG_W,DATE,TIME,LATITUDE,LONGITUDE,DEPTH,CTDPRS,CTDTMP,CTDSAL,CTDSAL_FLAG_W,SALNTY,SALNTY_FLAG_W,CTDOXY,CTDOXY_FLAG_W,OXYGEN,OXYGEN_FLAG_W,SILCAT,SILCAT_FLAG_W,NITRAT,NITRAT_FLAG_W,NITRIT,NITRIT_FLAG_W,PHSPHT,PHSPHT_FLAG_W,CFC-11,CFC-11_FLAG_W,CFC-12,CFC-12_FLAG_W,TRITUM,TRITUM_FLAG_W,HELIUM,HELIUM_FLAG_W,DELHE3,DELHE3_FLAG_W,DELC14,DELC14_FLAG_W,NEON,NEON_FLAG_W,TCARBN,TCARBN_FLAG_W,ALKALI,ALKALI_FLAG_W,PH,PH_FLAG_W,CTDRAW,HELIER,DELHER,NEONER,THETA,TRITER
,,,,,,,,,,,,DBAR,ITS-90,PSS-78,,PSS-78,,UMOL/KG,,UMOL/KG,,UMOL/KG,,UMOL/KG,,UMOL/KG,,UMOL/KG,,PMOL/KG,,PMOL/KG,,TU,,UMOL/KG,,PERCNT,,/MILLE,,NMOL/KG,,UMOL/KG,,UMOL/KG,,,,,NMOL/KG,PERCNT,NMOL/KG,ITS-90,TU
   318MWESTW_5,  P21W,   203,  1,     36, SI9442,2,19940602,0244,-17.5000,-172.8333, 4317,      7.3,  25.5938,  35.3920,2,  35.3926,2,    211.1,2,    210.3,2,     0.67,2,     0.00,2,     0.00,2,     0.11,2,    1.763,2,    0.999,2, -999.000,1,-999.0000,1,  -999.00,9,   -999.0,1,-999.000,9,   -999.0,9,   -999.0,9,  -999.00,9,  131.8,-999.0000,-999.000,-999.000, 25.5922,-999.000
   318MWESTW_5,  P21W,   203,  1,     35, SI9435,2,19940602,0244,-17.5000,-172.8333, 4317,     24.5,  25.5980,  35.3927,2,  35.3922,2,    211.1,2,    214.1,2,     0.68,2,     0.00,2,     0.00,2,     0.11,2, -999.000,9, -999.000,9, -999.000,1,-999.0000,1,  -999.00,9,   -999.0,1,-999.000,9,   -999.0,9,   -999.0,9,  -999.00,9,  303.8,-999.0000,-999.000,-999.000, 25.5926,-999.000
   318MWESTW_5,  P21W,   203,  1,     34, SI9441,2,19940602,0244,-17.5000,-172.8333, 4317,     49.7,  25.3018,  35.4311,2,  35.4320,2,    212.1,2,    214.6,2,     0.69,2,    -0.01,2,     0.01,2,     0.12,2,    1.782,2,    1.001,2, -999.000,1,-999.0000,1,  -999.00,9,   -999.0,1,-999.000,9,   -999.0,9,   -999.0,9,  -999.00,9,  555.2,-999.0000,-999.000,-999.000, 25.2909,-999.000
   318MWESTW_5,  P21W,   203,  1,     33, SI9433,2,19940602,0244,-17.5000,-172.8333, 4317,    100.4,  23.6245,  35.7578,2,  35.7582,2,    202.1,2,    208.7,2,     0.53,2,    -0.01,2,     0.05,2,     0.19,2,    1.939,2,    1.063,2, -999.000,1,-999.0000,1,  -999.00,9,   -999.0,1,-999.000,9,   -999.0,9,   -999.0,9,  -999.00,9, 1059.8,-999.0000,-999.000,-999.000, 23.6035,-999.000
   318MWESTW_5,  P21W,   203,  1,     32, SI9432,2,19940602,0244,-17.5000,-172.8333, 4317,    149.5,  22.1375,  35.7846,2,  35.7861,2,    197.9,2,    190.4,2,     0.54,2,     1.08,2,     0.04,2,     0.27,2,    2.011,2,    1.081,2, -999.000,1,-999.0000,1,  -999.00,9,   -999.0,1,-999.000,9,   -999.0,9,   -999.0,9,  -999.00,9, 1549.1,-999.0000,-999.000,-999.000, 22.1077,-999.000
   318MWESTW_5,  P21W,   203,  1,     31, SI9431,2,19940602,0244,-17.5000,-172.8333, 4317,    200.2,  20.6905,  35.7465,2,  35.7472,2,    180.3,2,    181.4,2,     0.71,2,     2.63,2,     0.02,2,     0.35,2,    1.985,2,    1.056,2, -999.000,1,-999.0000,1,  -999.00,9,   -999.0,1,-999.000,9,   -999.0,9,   -999.0,9,  -999.00,9, 2053.7,-999.0000,-999.000,-999.000, 20.6524,-999.000
   318MWESTW_5,  P21W,   203,  1,     30, SI9440,2,19940602,0244,-17.5000,-172.8333, 4317,    251.8,  18.7687,  35.6526,2,  35.6522,2,    190.4,2,    192.4,2,     1.07,2,     3.14,2,     0.01,2,     0.37,2,    2.014,2,    1.092,2, -999.000,1,-999.0000,1,  -999.00,9,   -999.0,1,-999.000,9,   -999.0,9,   -999.0,9,  -999.00,9, 2567.3,-999.0000,-999.000,-999.000, 18.7239,-999.000
   318MWESTW_5,  P21W,   203,  1,     29, SI9429,2,19940602,0244,-17.5000,-172.8333, 4317,    300.6,  17.3512,  35.5606,2,  35.5578,2,    198.8,2,    196.8,2,     1.44,2,     4.27,2,     0.01,2,     0.44,2,    2.111,2,    1.130,2, -999.000,1,-999.0000,1,  -999.00,9,   -999.0,1,-999.000,9,   -999.0,9,   -999.0,9,  -999.00,9, 3053.2,-999.0000,-999.000,-999.000, 17.3006,-999.000
   318MWESTW_5,  P21W,   203,  1,     28, SI9428,2,19940602,0244,-17.5000,-172.8333, 4317,    353.6,  14.9803,  35.2813,2,  35.2735,2,    193.6,2,    188.9,2,     2.50,2,     8.11,2,     0.01,2,     0.70,2, -999.000,9, -999.000,9, -999.000,1,-999.0000,1,  -999.00,9,   -999.0,1,-999.000,9,   -999.0,9,   -999.0,9,  -999.00,9, 3581.3,-999.0000,-999.000,-999.000, 14.9264,-999.000
   318MWESTW_5,  P21W,   203,  1,     27, SI9424,2,19940602,0244,-17.5000,-172.8333, 4317,    394.1,  13.3542,  35.0826,2,  35.0795,2,    189.0,2,    186.7,2,     3.57,2,    11.16,2,     0.02,2,     0.90,2,    1.566,2,    0.810,2, -999.000,1,-999.0000,1,  -999.00,9,   -999.0,1,-999.000,9,   -999.0,9,   -999.0,9,  -999.00,9, 3983.4,-999.0000,-999.000,-999.000, 13.2986,-999.000
   318MWESTW_5,  P21W,   203,  1,     26, SI9414,2,19940602,0244,-17.5000,-172.8333, 4317,    495.8,   8.7777,  34.5652,2,  34.5629,2,    201.7,2,    201.7,2,     6.74,2,    19.88,2,     0.01,2,     1.44,2,    0.969,2,    0.487,2, -999.000,1,-999.0000,1,  -999.00,9,   -999.0,1,-999.000,9,   -999.0,9,   -999.0,9,  -999.00,9, 4995.0,-999.0000,-999.000,-999.000,  8.7240,-999.000
   318MWESTW_5,  P21W,   203,  1,     25, SI9425,2,19940602,0244,-17.5000,-172.8333, 4317,    598.8,   6.6508,  34.3829,2,  34.3821,2,    207.4,2,    207.4,2,    12.56,2,    25.30,2,     0.01,2,     1.79,2, -999.000,9, -999.000,9, -999.000,1,-999.0000,1,  -999.00,9,   -999.0,1,-999.000,9,   -999.0,9,   -999.0,9,  -999.00,9, 6019.3,-999.0000,-999.000,-999.000,  6.5952,-999.000
   318MWESTW_5,  P21W,   203,  1,     24, SI9434,2,19940602,0244,-17.5000,-172.8333, 4317,    699.0,   5.6272,  34.3629,2,  34.3631,2,    188.2,2,    189.9,2,    23.47,2,    29.30,2,     0.01,2,     2.05,2,    0.116,2,    0.067,2, -999.000,1,-999.0000,1,  -999.00,9,   -999.0,1,-999.000,9,   -999.0,9,   -999.0,9,  -999.00,9, 7016.2,-999.0000,-999.000,-999.000,  5.5673,-999.000
   318MWESTW_5,  P21W,   203,  1,     23, SI9423,2,19940602,0244,-17.5000,-172.8333, 4317,    801.6,   5.1130,  34.4164,2,  34.4145,2,    165.7,2,    164.6,2,    38.78,2,    32.15,2,     0.01,2,     2.26,2, -999.000,9, -999.000,9, -999.000,1,-999.0000,1,  -999.00,9,   -999.0,1,-999.000,9,   -999.0,9,   -999.0,9,  -999.00,9, 8035.9,-999.0000,-999.000,-999.000,  5.0468,-999.000
   318MWESTW_5,  P21W,   203,  1,     22, SI9418,2,19940602,0244,-17.5000,-172.8333, 4317,    904.2,   4.3519,  34.4475,2,  34.4481,2,    156.9,2,    157.0,2,    53.40,2,    33.75,2,     0.00,2,     2.38,2,    0.009,2,    0.007,2, -999.000,1,-999.0000,1,  -999.00,9,   -999.0,1,-999.000,9,   -999.0,9,   -999.0,9,  -999.00,9, 9055.9,-999.0000,-999.000,-999.000,  4.2818,-999.000
   318MWESTW_5,  P21W,   203,  1,     21, SI9421,2,19940602,0244,-17.5000,-172.8333, 4317,    996.1,   3.9302,  34.4727,2,  34.4732,2,    153.5,2,    153.9,2,    63.08,2,    34.53,2,     0.02,2,     2.42,2,    0.005,2,    0.002,2, -999.000,1,-999.0000,1,  -999.00,9,   -999.0,1,-999.000,9,   -999.0,9,   -999.0,9,  -999.00,9, 9969.7,-999.0000,-999.000,-999.000,  3.8555,-999.000
   318MWESTW_5,  P21W,   203,  1,     20, SI9420,2,19940602,0244,-17.5000,-172.8333, 4317,   1098.8,   3.7381,  34.5217,2,  34.5207,2,    143.2,2,    142.3,2,    75.93,2,    35.33,2,     0.01,2,     2.48,2,    0.002,2,    0.000,2, -999.000,1,-999.0000,1,  -999.00,9,   -999.0,1,-999.000,9,   -999.0,9,   -999.0,9,  -999.00,9,10990.9,-999.0000,-999.000,-999.000,  3.6563,-999.000
   318MWESTW_5,  P21W,   203,  1,     19, SI9419,2,19940602,0244,-17.5000,-172.8333, 4317,   1200.5,   3.4895,  34.5327,2,  34.5313,2,    144.8,2,    143.4,2,    81.05,2,    35.48,2,     0.01,2,     2.50,2,    0.000,2,   -0.001,2, -999.000,1,-999.0000,1,  -999.00,9,   -999.0,1,-999.000,9,   -999.0,9,   -999.0,9,  -999.00,9,12002.1,-999.0000,-999.000,-999.000,  3.4015,-999.000
   318MWESTW_5,  P21W,   203,  1,     18, SI9439,2,19940602,0244,-17.5000,-172.8333, 4317,   1407.6,   3.0645,  34.5610,2,  34.5616,2,    145.1,2,    143.3,2,    91.61,2,    35.79,2,     0.02,2,     2.52,2, -999.000,9, -999.000,9, -999.000,1,-999.0000,1,  -999.00,9,   -999.0,1,-999.000,9,   -999.0,9,   -999.0,9,  -999.00,9,14061.4,-999.0000,-999.000,-999.000,  2.9636,-999.000
   318MWESTW_5,  P21W,   203,  1,     17, SI9417,2,19940602,0244,-17.5000,-172.8333, 4317,   1601.3,   2.7213,  34.5889,2,  34.5889,2,    144.6,2,    143.9,2,   100.94,2,    35.89,2,     0.02,2,     2.54,2,   -0.001,2,   -0.002,2, -999.000,1,-999.0000,1,  -999.00,9,   -999.0,1,-999.000,9,   -999.0,9,   -999.0,9,  -999.00,9,15986.8,-999.0000,-999.000,-999.000,  2.6083,-999.000
   318MWESTW_5,  P21W,   203,  1,     16, SI9416,2,19940602,0244,-17.5000,-172.8333, 4317,   1807.9,   2.5122,  34.6068,2,  34.6062,2,    145.1,2,    145.2,2,   107.12,2,    35.95,2,     0.02,2,     2.55,2, -999.000,9, -999.000,9, -999.000,1,-999.0000,1,  -999.00,9,   -999.0,1,-999.000,9,   -999.0,9,   -999.0,9,  -999.00,9,18040.5,-999.0000,-999.000,-999.000,  2.3846,-999.000
   318MWESTW_5,  P21W,   203,  1,     15, SI9415,2,19940602,0244,-17.5000,-172.8333, 4317,   2001.8,   2.2834,  34.6257,2,  34.6262,2,    145.9,2,    144.6,2,   115.75,2,    35.97,2,     0.01,2,     2.53,2, -999.000,9, -999.000,9, -999.000,1,-999.0000,1,  -999.00,9,   -999.0,1,-999.000,9,   -999.0,9,   -999.0,9,  -999.00,9,19968.7,-999.0000,-999.000,-999.000,  2.1425,-999.000
   318MWESTW_5,  P21W,   203,  1,     14, SI9436,2,19940602,0244,-17.5000,-172.8333, 4317,   2250.2,   2.0926,  34.6427,2,  34.6425,2,    146.1,2,    145.0,2,   122.28,2,    35.98,2,     0.01,2,     2.53,2, -999.000,9, -999.000,9, -999.000,1,-999.0000,1,  -999.00,9,   -999.0,1,-999.000,9,   -999.0,9,   -999.0,9,  -999.00,9,22438.0,-999.0000,-999.000,-999.000,  1.9331,-999.000
   318MWESTW_5,  P21W,   203,  1,     13, SI9413,2,19940602,0244,-17.5000,-172.8333, 4317,   2492.0,   1.9710,  34.6533,2,  34.6515,2,    145.2,2,    143.2,2,   128.45,2,    36.18,2,     0.01,2,     2.55,2,   -0.001,2,   -0.002,2, -999.000,1,-999.0000,1,  -999.00,9,   -999.0,1,-999.000,9,   -999.0,9,   -999.0,9,  -999.00,9,24842.5,-999.0000,-999.000,-999.000,  1.7920,-999.000
   318MWESTW_5,  P21W,   203,  1,     12, SI9438,2,19940602,0244,-17.5000,-172.8333, 4317,   2746.0,   1.8652,  34.6616,2,  34.6602,2,    146.9,2,    144.2,2,   132.16,2,    36.19,2,     0.01,2,     2.54,2, -999.000,9, -999.000,9, -999.000,1,-999.0000,1,  -999.00,9,   -999.0,1,-999.000,9,   -999.0,9,   -999.0,9,  -999.00,9,27366.9,-999.0000,-999.000,-999.000,  1.6647,-999.000
   318MWESTW_5,  P21W,   203,  1,     11, SI9411,2,19940602,0244,-17.5000,-172.8333, 4317,   3003.4,   1.6619,  34.6752,2,  34.6739,2,    152.7,2,    151.6,2,   134.81,2,    35.71,2,     0.01,2,     2.51,2,   -0.001,2,    0.000,2, -999.000,1,-999.0000,1,  -999.00,9,   -999.0,1,-999.000,9,   -999.0,9,   -999.0,9,  -999.00,9,29926.6,-999.0000,-999.000,-999.000,  1.4412,-999.000
   318MWESTW_5,  P21W,   203,  1,     10, SI9412,2,19940602,0244,-17.5000,-172.8333, 4317,   3250.4,   1.5184,  34.6871,2,  34.6867,2,    164.5,2,    163.7,2,   130.60,2,    34.84,2,     0.00,2,     2.44,2, -999.000,9, -999.000,9, -999.000,1,-999.0000,1,  -999.00,9,   -999.0,1,-999.000,9,   -999.0,9,   -999.0,9,  -999.00,9,32382.3,-999.0000,-999.000,-999.000,  1.2769,-999.000
   318MWESTW_5,  P21W,   203,  1,      9, SI9410,2,19940602,0244,-17.5000,-172.8333, 4317,   3501.0,   1.3947,  34.7067,2,  34.7064,2,    184.8,2,    185.1,2,   119.17,2,    32.93,2,     0.00,2,     2.32,2,    0.003,2,    0.001,2, -999.000,1,-999.0000,1,  -999.00,9,   -999.0,1,-999.000,9,   -999.0,9,   -999.0,9,  -999.00,9,34873.4,-999.0000,-999.000,-999.000,  1.1310,-999.000
   318MWESTW_5,  P21W,   203,  1,      8, SI9422,2,19940602,0244,-17.5000,-172.8333, 4317,   3749.6,   1.2595,  34.7152,2,  34.7148,2,    196.6,2,    198.0,2,   114.62,2,    31.95,2,     0.00,2,     2.25,2, -999.000,9, -999.000,9, -999.000,1,-999.0000,1,  -999.00,9,   -999.0,1,-999.000,9,   -999.0,9,   -999.0,9,  -999.00,9,37344.5,-999.0000,-999.000,-999.000,  0.9737,-999.000
   318MWESTW_5,  P21W,   203,  1,      7, SI9407,2,19940602,0244,-17.5000,-172.8333, 4317,   3894.8,   1.1870,  34.7169,2,  34.7160,2,    201.0,2,    202.6,2,   114.28,2,    31.67,2,     0.00,2,     2.23,2,    0.009,2,    0.004,2, -999.000,1,-999.0000,1,  -999.00,9,   -999.0,1,-999.000,9,   -999.0,9,   -999.0,9,  -999.00,9,38788.6,-999.0000,-999.000,-999.000,  0.8879,-999.000
   318MWESTW_5,  P21W,   203,  1,      6, SI9427,2,19940602,0244,-17.5000,-172.8333, 4317,   3997.5,   1.1602,  34.7161,2,  34.7146,2,    201.9,2,    203.4,2,   115.18,2,    31.67,2,     0.00,2,     2.21,2,    0.009,2,    0.004,2, -999.000,1,-999.0000,1,  -999.00,9,   -999.0,1,-999.000,9,   -999.0,9,   -999.0,9,  -999.00,9,39809.6,-999.0000,-999.000,-999.000,  0.8510,-999.000
   318MWESTW_5,  P21W,   203,  1,      5, SI9405,2,19940602,0244,-17.5000,-172.8333, 4317,   4093.3,   1.1452,  34.7159,2,  34.7152,2,    203.1,2,    204.0,2,   115.71,2,    31.78,2,     0.00,2,     2.21,2,    0.013,2,    0.005,2, -999.000,1,-999.0000,1,  -999.00,9,   -999.0,1,-999.000,9,   -999.0,9,   -999.0,9,  -999.00,9,40761.8,-999.0000,-999.000,-999.000,  0.8261,-999.000
   318MWESTW_5,  P21W,   203,  1,      4, SI9404,2,19940602,0244,-17.5000,-172.8333, 4317,   4198.5,   1.1367,  34.7151,2,  34.7140,2,    204.1,2,    203.8,2,   116.26,2,    31.83,2,     0.00,2,     2.22,2,    0.014,2,    0.004,2, -999.000,1,-999.0000,1,  -999.00,9,   -999.0,1,-999.000,9,   -999.0,9,   -999.0,9,  -999.00,9,41807.1,-999.0000,-999.000,-999.000,  0.8064,-999.000
   318MWESTW_5,  P21W,   203,  1,      3, SI9403,2,19940602,0244,-17.5000,-172.8333, 4317,   4259.4,   1.1077,  34.7142,2,  34.7132,2,    204.1,2,    205.3,2,   116.81,2,    31.89,2,     0.00,2,     2.22,2, -999.000,9, -999.000,9, -999.000,1,-999.0000,1,  -999.00,9,   -999.0,1,-999.000,9,   -999.0,9,   -999.0,9,  -999.00,9,42412.7,-999.0000,-999.000,-999.000,  0.7716,-999.000
   318MWESTW_5,  P21W,   203,  1,      2, SI9437,2,19940602,0244,-17.5000,-172.8333, 4317,   4329.2,   1.0815,  34.7132,2,  34.7109,2,    205.2,2,    205.6,2,   117.87,2,    31.89,2,     0.01,2,     2.22,2,    0.019,2,    0.006,2, -999.000,1,-999.0000,1,  -999.00,9,   -999.0,1,-999.000,9,   -999.0,9,   -999.0,9,  -999.00,9,43107.1,-999.0000,-999.000,-999.000,  0.7385,-999.000
   318MWESTW_5,  P21W,   203,  1,      1, SI9401,2,19940602,0244,-17.5000,-172.8333, 4317,   4373.7,   1.0742,  34.7123,2,  34.7123,2,    205.3,2,    205.8,2,   117.92,2,    31.82,2,     0.00,2,     2.22,2,    0.016,2,    0.006,2, -999.000,1,-999.0000,1,  -999.00,9,   -999.0,1,-999.000,9,   -999.0,9,   -999.0,9,  -999.00,9,43548.8,-999.0000,-999.000,-999.000,  0.7265,-999.000