BOTTLE,20010911WHPSIOdm
EXPOCODE,SECT_ID,STNNBR,CASTNO,SAMPNO,BTLNBR,BTLNBR_FLAG_W,DATE,TIME,LATITUDE,LONGITUDE,DEPTH,CTDPRS,CTDTMP,CTDSAL,CTDSAL_FLAG_W,SALNTY,SALNTY_FLAG_W,CTDOXY,CTDOXY_FLAG_W,OXYGEN,OXYGEN_FLAG_W,SILCAT,SILCAT_FLAG_W,NITRAT,NITRAT_FLAG_W,NITRIT,NITRIT_FLAG_W,PHSPHT,PHSPHT_FLAG_W,CFC-11,CFC-11_FLAG_W,CFC-12,CFC-12_FLAG_W,TRITUM,TRITUM_FLAG_W,HELIUM,HELIUM_FLAG_W,DELHE3,DELHE3_FLAG_W,DELC14,DELC14_FLAG_W,NEON,NEON_FLAG_W,TCARBN,TCARBN_FLAG_W,ALKALI,ALKALI_FLAG_W,PH,PH_FLAG_W,CTDRAW,HELIER,DELHER,NEONER,THETA,TRITER
,,,,,,,,,,,,DBAR,ITS-90,PSS-78,,PSS-78,,UMOL/KG,,UMOL/KG,,UMOL/KG,,UMOL/KG,,UMOL/KG,,UMOL/KG,,PMOL/KG,,PMOL/KG,,TU,,UMOL/KG,,PERCNT,,/MILLE,,NMOL/KG,,UMOL/KG,,UMOL/KG,,,,,NMOL/KG,PERCNT,NMOL/KG,ITS-90,TU
   318MWESTW_4,  P21E,   128,  1,     24, SI9404,2,19940505,0221,-16.7500,-132.0000, 4310,     10.9,  27.9991,  36.4330,2,  36.4340,2,    209.1,2,    210.0,2,     0.54,2,    -0.01,2,     0.01,2,     0.18,2,    1.661,2,    0.931,2, -999.000,1,-999.0000,1,  -999.00,9,   -999.0,1,-999.000,9,   2018.7,2,   2392.0,2,     8.12,2,  159.6,-999.0000,-999.000,-999.000, 27.9965,-999.000
   318MWESTW_4,  P21E,   128,  1,     23, SI9405,2,19940505,0221,-16.7500,-132.0000, 4310,     24.3,  27.9621,  36.4322,2,  36.4327,2,    203.1,2,    209.3,2,     0.53,2,    -0.01,2,     0.01,2,     0.19,2,    1.616,2,    0.905,2, -999.000,1,-999.0000,1,  -999.00,9,   -999.0,1,-999.000,9,   2016.7,2,   2391.0,2,     8.12,2,  293.5,-999.0000,-999.000,-999.000, 27.9564,-999.000
   318MWESTW_4,  P21E,   128,  1,     22, SI9407,2,19940505,0221,-16.7500,-132.0000, 4310,     49.4,  27.9216,  36.4334,2,  36.4422,2,    200.8,2,    203.9,2,     0.53,2,     0.05,2,     0.00,2,     0.18,2,    1.647,2,    0.985,2, -999.000,1,-999.0000,1,  -999.00,9,   -999.0,1,-999.000,9,   2017.7,2,   2393.0,2,     8.12,2,  544.5,-999.0000,-999.000,-999.000, 27.9099,-999.000
   318MWESTW_4,  P21E,   128,  1,     21, SI9408,2,19940505,0221,-16.7500,-132.0000, 4310,     99.7,  25.2015,  36.4320,2,  36.4261,2,    219.4,2,    218.3,2,     0.37,2,     0.04,2,     0.01,2,     0.19,2,    1.852,2,    1.033,2, -999.000,1,-999.0000,1,  -999.00,9,   -999.0,1,-999.000,9,   2034.8,2,   2390.0,2,     8.10,2, 1045.1,-999.0000,-999.000,-999.000, 25.1796,-999.000
   318MWESTW_4,  P21E,   128,  1,     20, SI9409,2,19940505,0221,-16.7500,-132.0000, 4310,    151.3,  23.5661,  36.3150,2,  36.3134,2,    203.1,2,    204.6,2,     0.37,2,     0.06,2,     0.17,2,     0.25,2,    1.909,2,    1.053,2, -999.000,1,-999.0000,1,  -999.00,9,   -999.0,1,-999.000,9,   2057.8,2,   2384.0,2,     8.05,2, 1559.2,-999.0000,-999.000,-999.000, 23.5345,-999.000
   318MWESTW_4,  P21E,   128,  1,     19, SI9411,2,19940505,0221,-16.7500,-132.0000, 4310,    202.8,  21.5837,  36.0567,2,  36.0467,2,    186.3,2,    187.6,2,     0.51,2,     1.96,2,     0.06,2,     0.39,2,    2.010,2,    1.092,2, -999.000,1,-999.0000,1,  -999.00,9,   -999.0,1,-999.000,9,   2078.8,2,   2364.0,2,     8.00,2, 2072.5,-999.0000,-999.000,-999.000, 21.5439,-999.000
   318MWESTW_4,  P21E,   128,  1,     18, SI9413,3,19940505,0221,-16.7500,-132.0000, 4310,    251.6,  19.3530,  35.6832,2,  35.7002,3,    189.1,2,   -999.0,9,  -999.00,9,  -999.00,9,  -999.00,9,  -999.00,9, -999.000,9, -999.000,9, -999.000,1,-999.0000,1,  -999.00,9,   -999.0,1,-999.000,9,   -999.0,9,   -999.0,9,  -999.00,9, 2558.4,-999.0000,-999.000,-999.000, 19.3073,-999.000
   318MWESTW_4,  P21E,   128,  1,     17, SI9415,2,19940505,0221,-16.7500,-132.0000, 4310,    300.8,  16.9092,  35.2878,2,  35.3009,2,    178.2,2,    178.1,2,     1.12,2,     6.00,2,     0.01,2,     0.64,2,    1.882,2,    0.985,2, -999.000,1,-999.0000,1,  -999.00,9,   -999.0,1,-999.000,9,   2090.8,2,   2318.0,2,     7.90,2, 3047.6,-999.0000,-999.000,-999.000, 16.8595,-999.000
   318MWESTW_4,  P21E,   128,  1,     16, SI9416,2,19940505,0221,-16.7500,-132.0000, 4310,    401.3,  10.3398,  34.5632,2,  34.5610,2,    106.6,2,    101.5,2,    12.81,2,    24.00,2,     0.01,2,     1.97,2,    0.592,2,    0.297,2, -999.000,1,-999.0000,1,  -999.00,9,   -999.0,1,-999.000,9,   -999.0,9,   -999.0,9,  -999.00,9, 4047.6,-999.0000,-999.000,-999.000, 10.2920,-999.000
   318MWESTW_4,  P21E,   128,  1,     15, SI9417,2,19940505,0221,-16.7500,-132.0000, 4310,    500.0,   7.3996,  34.4485,2,  34.4459,2,    103.8,2,    107.9,2,    20.90,2,    32.78,2,     0.00,2,     2.37,2,    0.092,2,    0.048,2, -999.000,1,-999.0000,1,  -999.00,9,   -999.0,1,-999.000,9,   2217.9,2,   2284.0,2,     7.53,2, 5028.7,-999.0000,-999.000,-999.000,  7.3507,-999.000
   318MWESTW_4,  P21E,   128,  1,     14, SI9419,2,19940505,0221,-16.7500,-132.0000, 4310,    601.1,   6.1753,  34.4345,2,  34.4334,2,    119.3,2,    116.4,2,    29.13,2,    35.16,2,     0.00,2,     2.44,2,    0.022,2,    0.011,2, -999.000,1,-999.0000,1,  -999.00,9,   -999.0,1,-999.000,9,   2225.9,2,   2293.0,2,     7.52,2, 6034.7,-999.0000,-999.000,-999.000,  6.1216,-999.000
   318MWESTW_4,  P21E,   128,  1,     13, SI9420,2,19940505,0221,-16.7500,-132.0000, 4310,    751.4,   5.4277,  34.4808,2,  34.4795,2,     93.8,2,     92.7,2,    47.28,2,    38.75,2,     0.00,2,     2.70,2,    0.000,2,   -0.004,2, -999.000,1,-999.0000,1,  -999.00,9,   -999.0,1,-999.000,9,   2258.9,2,   2313.0,2,     7.48,2, 7529.2,-999.0000,-999.000,-999.000,  5.3640,-999.000
   318MWESTW_4,  P21E,   128,  1,     12, SI9421,2,19940505,0221,-16.7500,-132.0000, 4310,    899.7,   4.7661,  34.5056,2,  34.5042,2,     87.0,2,     86.1,2,    62.43,2,    40.27,2,     0.00,2,     2.83,2,    0.001,2,   -0.002,2, -999.000,1,-999.0000,1,  -999.00,9,   -999.0,1,-999.000,9,   2280.0,2,   2325.0,2,     7.46,2, 9003.3,-999.0000,-999.000,-999.000,  4.6934,-999.000
   318MWESTW_4,  P21E,   128,  1,     11, SI9423,2,19940505,0221,-16.7500,-132.0000, 4310,   1151.6,   3.9289,  34.5396,2,  34.5382,2,     86.8,2,     87.7,2,    82.44,2,    40.67,2,     0.00,2,     2.87,2,    0.003,2,   -0.003,2, -999.000,1,-999.0000,1,  -999.00,9,   -999.0,1,-999.000,9,   2302.0,2,   2358.0,2,     7.47,2,11507.9,-999.0000,-999.000,-999.000,  3.8410,-999.000
   318MWESTW_4,  P21E,   128,  1,     10, SI9425,2,19940505,0221,-16.7500,-132.0000, 4310,   1499.8,   2.9613,  34.5796,2,  34.5798,2,    122.8,2,    122.6,2,    99.16,2,    37.83,2,     0.00,2,     2.67,2,   -0.001,2,   -0.004,2, -999.000,1,-999.0000,1,  -999.00,9,   -999.0,1,-999.000,9,   2301.0,2,   2366.0,2,     7.52,2,14969.5,-999.0000,-999.000,-999.000,  2.8539,-999.000
   318MWESTW_4,  P21E,   128,  1,      9, SI9424,2,19940505,0221,-16.7500,-132.0000, 4310,   1847.7,   2.2702,  34.6232,2,  34.6240,2,    142.4,2,    143.0,2,   111.41,2,    36.31,2,     0.00,2,     2.52,2,    0.000,2,   -0.003,2, -999.000,1,-999.0000,1,  -999.00,9,   -999.0,1,-999.000,9,   2303.0,2,   2385.0,2,     7.55,2,18428.5,-999.0000,-999.000,-999.000,  2.1426,-999.000
   318MWESTW_4,  P21E,   128,  1,      8, SI9428,2,19940505,0221,-16.7500,-132.0000, 4310,   2244.9,   1.9375,  34.6560,2,  34.6561,2,    151.2,2,    150.9,2,   120.37,2,    35.75,2,     0.00,2,     2.48,2, -999.000,9, -999.000,9, -999.000,1,-999.0000,1,  -999.00,9,   -999.0,1,-999.000,9,   2308.0,2,   2394.0,2,     7.57,2,22377.5,-999.0000,-999.000,-999.000,  1.7811,-999.000
   318MWESTW_4,  P21E,   128,  1,      7, SI9429,2,19940505,0221,-16.7500,-132.0000, 4310,   2598.2,   1.8126,  34.6687,2,  34.6696,2,    151.5,2,    152.8,2,   126.02,2,    35.68,2,    -0.01,2,     2.48,2, -999.000,9, -999.000,9, -999.000,1,-999.0000,1,  -999.00,9,   -999.0,1,-999.000,9,   2315.0,2,   2404.0,2,     7.58,2,25889.8,-999.0000,-999.000,-999.000,  1.6268,-999.000
   318MWESTW_4,  P21E,   128,  1,      6, SI9431,2,19940505,0221,-16.7500,-132.0000, 4310,   2949.8,   1.6995,  34.6765,2,  34.6759,2,    157.7,2,    158.1,2,   128.07,2,    35.29,2,     0.00,2,     2.46,2, -999.000,9, -999.000,9, -999.000,1,-999.0000,1,  -999.00,9,   -999.0,1,-999.000,9,   2314.0,2,   2405.0,2,     7.59,2,29385.7,-999.0000,-999.000,-999.000,  1.4831,-999.000
   318MWESTW_4,  P21E,   128,  1,      5, SI9432,2,19940505,0221,-16.7500,-132.0000, 4310,   3295.1,   1.6359,  34.6824,2,  34.6816,2,    160.3,2,    160.0,2,   130.56,2,    35.29,2,     0.00,2,     2.45,2, -999.000,9, -999.000,9, -999.000,1,-999.0000,1,  -999.00,9,   -999.0,1,-999.000,9,   2315.0,2,   2410.0,2,     7.58,2,32818.0,-999.0000,-999.000,-999.000,  1.3871,-999.000
   318MWESTW_4,  P21E,   128,  1,      4, SI9433,2,19940505,0221,-16.7500,-132.0000, 4310,   3642.8,   1.5723,  34.6867,2,  34.6867,2,    164.4,2,    164.0,2,   131.61,2,    34.93,2,     0.00,2,     2.43,2, -999.000,9, -999.000,9, -999.000,1,-999.0000,1,  -999.00,9,   -999.0,1,-999.000,9,   2313.0,2,   2407.0,2,     7.59,2,36274.3,-999.0000,-999.000,-999.000,  1.2895,-999.000
   318MWESTW_4,  P21E,   128,  1,      3, SI9435,2,19940505,0221,-16.7500,-132.0000, 4310,   3995.7,   1.5427,  34.6897,2,  34.6901,2,    169.5,2,    168.2,2,   130.22,2,    34.70,2,     0.00,2,     2.40,2, -999.000,9, -999.000,9, -999.000,1,-999.0000,1,  -999.00,9,   -999.0,1,-999.000,9,   2308.0,2,   2406.0,2,     7.59,2,39783.4,-999.0000,-999.000,-999.000,  1.2230,-999.000
   318MWESTW_4,  P21E,   128,  1,      2, SI9401,2,19940505,0221,-16.7500,-132.0000, 4310,   4298.5,   1.5704,  34.6902,2,  34.6891,2,    170.2,2,    168.8,2,   130.41,2,    34.66,2,     0.00,2,     2.41,2, -999.000,9, -999.000,9, -999.000,1,-999.0000,1,  -999.00,9,   -999.0,1,-999.000,9,   2308.0,2,   2403.0,2,     7.59,2,42793.1,-999.0000,-999.000,-999.000,  1.2163,-999.000
   318MWESTW_4,  P21E,   128,  1,      1, SI9403,2,19940505,0221,-16.7500,-132.0000, 4310,   4389.8,   1.5806,  34.6907,2,  34.6903,2,    168.9,2,    168.9,2,   130.49,2,    34.66,2,     0.00,2,     2.41,2, -999.000,9, -999.000,9, -999.000,1,-999.0000,1,  -999.00,9,   -999.0,1,-999.000,9,   2309.0,2,   2403.0,2,     7.60,2,43700.9,-999.0000,-999.000,-999.000,  1.2158,-999.000
   318MWESTW_4,  P21E,   129,  1,     24, SI9404,2,19940505,0859,-16.7500,-132.6667, 3925,      7.5,  28.0230,  36.3810,2,  36.3800,2,    209.2,2,    207.2,2,     0.59,2,     0.01,2,    -0.01,2,     0.21,2,    1.619,2,    0.921,2, -999.000,1,-999.0000,1,  -999.00,9,   -999.0,1,-999.000,9,   -999.0,9,   -999.0,9,  -999.00,9,  124.7,-999.0000,-999.000,-999.000, 28.0212,-999.000
   318MWESTW_4,  P21E,   129,  1,     23, SI9405,2,19940505,0859,-16.7500,-132.6667, 3925,     25.2,  28.0315,  36.3803,2,  36.3808,2,    209.0,2,    204.9,2,     0.62,2,     0.01,2,     0.01,2,     0.21,2,    1.600,2,    0.926,2, -999.000,1,-999.0000,1,  -999.00,9,   -999.0,1,-999.000,9,   -999.0,9,   -999.0,9,  -999.00,9,  302.1,-999.0000,-999.000,-999.000, 28.0255,-999.000
   318MWESTW_4,  P21E,   129,  1,     22, SI9407,2,19940505,0859,-16.7500,-132.6667, 3925,     49.9,  28.0255,  36.4663,2,  36.4677,2,    205.5,2,    205.1,2,     0.63,2,    -0.01,2,     0.01,2,     0.20,2,    1.590,2,    0.922,2, -999.000,1,-999.0000,1,  -999.00,9,   -999.0,1,-999.000,9,   -999.0,9,   -999.0,9,  -999.00,9,  548.7,-999.0000,-999.000,-999.000, 28.0137,-999.000
   318MWESTW_4,  P21E,   129,  1,     21, SI9408,2,19940505,0859,-16.7500,-132.6667, 3925,    100.8,  25.3185,  36.3374,2,  36.3544,2,    220.4,2,    217.8,2,     0.37,2,     0.01,2,     0.01,2,     0.19,2,    1.817,2,    1.023,2, -999.000,1,-999.0000,1,  -999.00,9,   -999.0,1,-999.000,9,   -999.0,9,   -999.0,9,  -999.00,9, 1055.8,-999.0000,-999.000,-999.000, 25.2963,-999.000
   318MWESTW_4,  P21E,   129,  1,     20, SI9409,3,19940505,0859,-16.7500,-132.6667, 3925,    151.0,  23.6708,  36.2456,2,  36.2438,2,    209.3,2,    210.3,2,     0.39,2,    -0.01,2,     0.01,2,     0.20,2,    1.893,2,    1.058,2, -999.000,1,-999.0000,1,  -999.00,9,   -999.0,1,-999.000,9,   -999.0,9,   -999.0,9,  -999.00,9, 1556.1,-999.0000,-999.000,-999.000, 23.6391,-999.000
   318MWESTW_4,  P21E,   129,  1,     19, SI9411,2,19940505,0859,-16.7500,-132.6667, 3925,    202.1,  22.1574,  36.1314,2,  36.1320,2,    192.1,2,    190.9,2,     0.42,2,     0.99,2,     0.34,2,     0.35,2,    1.984,2,    1.086,2, -999.000,1,-999.0000,1,  -999.00,9,   -999.0,1,-999.000,9,   -999.0,9,   -999.0,9,  -999.00,9, 2065.0,-999.0000,-999.000,-999.000, 22.1170,-999.000
   318MWESTW_4,  P21E,   129,  1,     18, SI9413,2,19940505,0859,-16.7500,-132.6667, 3925,    252.4,  20.1353,  35.8095,2,  35.8202,2,    191.2,2,    183.6,2,     0.59,2,     2.92,2,     0.00,2,     0.47,2,    2.030,2,    1.085,2, -999.000,1,-999.0000,1,  -999.00,9,   -999.0,1,-999.000,9,   -999.0,9,   -999.0,9,  -999.00,9, 2566.5,-999.0000,-999.000,-999.000, 20.0881,-999.000
   318MWESTW_4,  P21E,   129,  1,     17, SI9415,2,19940505,0859,-16.7500,-132.6667, 3925,    297.3,  17.4581,  35.3790,2,  35.3752,2,    185.7,2,    177.9,2,     1.36,2,     5.63,2,     0.00,2,     0.65,2,    1.943,2,    1.023,2, -999.000,1,-999.0000,1,  -999.00,9,   -999.0,1,-999.000,9,   -999.0,9,   -999.0,9,  -999.00,9, 3012.9,-999.0000,-999.000,-999.000, 17.4079,-999.000
   318MWESTW_4,  P21E,   129,  1,     16, SI9416,2,19940505,0859,-16.7500,-132.6667, 3925,    398.4,  10.9041,  34.6020,2,  34.5991,2,    117.0,2,    109.0,2,    11.62,2,    21.71,2,     0.00,2,     1.85,2,    0.741,2,    0.380,2, -999.000,1,-999.0000,1,  -999.00,9,   -999.0,1,-999.000,9,   -999.0,9,   -999.0,9,  -999.00,9, 4019.1,-999.0000,-999.000,-999.000, 10.8550,-999.000
   318MWESTW_4,  P21E,   129,  1,     15, SI9417,2,19940505,0859,-16.7500,-132.6667, 3925,    499.9,   7.5062,  34.4358,2,  34.4310,2,    119.4,2,    119.7,2,    18.18,2,    30.90,2,    -0.01,2,     2.25,2,    0.166,2,    0.094,2, -999.000,1,-999.0000,1,  -999.00,9,   -999.0,1,-999.000,9,   -999.0,9,   -999.0,9,  -999.00,9, 5027.7,-999.0000,-999.000,-999.000,  7.4569,-999.000
   318MWESTW_4,  P21E,   129,  1,     14, SI9419,2,19940505,0859,-16.7500,-132.6667, 3925,    600.6,   6.2941,  34.4086,2,  34.4080,2,    129.0,2,    133.9,2,    24.29,2,    33.10,2,     0.01,2,     2.33,2,    0.048,2,    0.037,2, -999.000,1,-999.0000,1,  -999.00,9,   -999.0,1,-999.000,9,   -999.0,9,   -999.0,9,  -999.00,9, 6029.5,-999.0000,-999.000,-999.000,  6.2399,-999.000
   318MWESTW_4,  P21E,   129,  1,     13, SI9420,2,19940505,0859,-16.7500,-132.6667, 3925,    704.7,   5.6427,  34.4601,2,  34.4595,2,    112.0,2,    108.6,2,    40.49,2,    36.69,2,    -0.01,2,     2.56,2,    0.003,2,    0.003,2, -999.000,1,-999.0000,1,  -999.00,9,   -999.0,1,-999.000,9,   -999.0,9,   -999.0,9,  -999.00,9, 7064.4,-999.0000,-999.000,-999.000,  5.5821,-999.000
   318MWESTW_4,  P21E,   129,  1,     12, SI9421,2,19940505,0859,-16.7500,-132.6667, 3925,    851.5,   5.0207,  34.4960,2,  34.4960,2,     94.2,2,     94.1,2,    56.70,2,    38.99,2,     0.00,2,     2.74,2,    0.000,2,    0.006,2, -999.000,1,-999.0000,1,  -999.00,9,   -999.0,1,-999.000,9,   -999.0,9,   -999.0,9,  -999.00,9, 8524.4,-999.0000,-999.000,-999.000,  4.9505,-999.000
   318MWESTW_4,  P21E,   129,  1,     11, SI9423,2,19940505,0859,-16.7500,-132.6667, 3925,   1104.1,   4.0683,  34.5310,2,  34.5311,2,     92.4,2,     92.8,2,    78.40,2,    39.85,2,     0.00,2,     2.83,2, -999.000,9, -999.000,9, -999.000,1,-999.0000,1,  -999.00,9,   -999.0,1,-999.000,9,   -999.0,9,   -999.0,9,  -999.00,9,11036.2,-999.0000,-999.000,-999.000,  3.9833,-999.000
   318MWESTW_4,  P21E,   129,  1,     10, SI9425,2,19940505,0859,-16.7500,-132.6667, 3925,   1408.2,   3.2371,  34.5710,2,  34.5696,2,    105.5,2,    105.6,2,    97.12,2,    38.93,2,     0.00,2,     2.77,2, -999.000,9, -999.000,9, -999.000,1,-999.0000,1,  -999.00,9,   -999.0,1,-999.000,9,   -999.0,9,   -999.0,9,  -999.00,9,14059.5,-999.0000,-999.000,-999.000,  3.1343,-999.000
   318MWESTW_4,  P21E,   129,  1,      9, SI9424,2,19940505,0859,-16.7500,-132.6667, 3925,   1696.5,   2.5472,  34.6034,2,  34.6069,3,    133.4,2,    133.4,2,   107.39,2,    36.85,2,     0.00,2,     2.60,2, -999.000,9, -999.000,9, -999.000,1,-999.0000,1,  -999.00,9,   -999.0,1,-999.000,9,   -999.0,9,   -999.0,9,  -999.00,9,16925.0,-999.0000,-999.000,-999.000,  2.4285,-999.000
   318MWESTW_4,  P21E,   129,  1,      8, SI9428,2,19940505,0859,-16.7500,-132.6667, 3925,   1999.0,   2.1134,  34.6410,2,  34.6415,2,    144.0,2,    143.8,2,   117.35,2,    36.07,2,     0.00,2,     2.52,2,   -0.003,2,    0.001,2, -999.000,1,-999.0000,1,  -999.00,9,   -999.0,1,-999.000,9,   -999.0,9,   -999.0,9,  -999.00,9,19933.0,-999.0000,-999.000,-999.000,  1.9753,-999.000
   318MWESTW_4,  P21E,   129,  1,      7, SI9429,2,19940505,0859,-16.7500,-132.6667, 3925,   2299.4,   1.9171,  34.6601,2,  34.6608,2,    148.3,2,    148.4,2,   123.91,2,    35.73,2,     0.00,2,     2.49,2,   -0.003,2,    0.002,2, -999.000,1,-999.0000,1,  -999.00,9,   -999.0,1,-999.000,9,   -999.0,9,   -999.0,9,  -999.00,9,22919.0,-999.0000,-999.000,-999.000,  1.7562,-999.000
   318MWESTW_4,  P21E,   129,  1,      6, SI9431,2,19940505,0859,-16.7500,-132.6667, 3925,   2597.9,   1.8158,  34.6690,2,  34.6700,2,    151.8,2,    151.4,2,   127.50,2,    35.53,2,     0.00,2,     2.48,2,    0.000,2,    0.002,2, -999.000,1,-999.0000,1,  -999.00,9,   -999.0,1,-999.000,9,   -999.0,9,   -999.0,9,  -999.00,9,25886.9,-999.0000,-999.000,-999.000,  1.6300,-999.000
   318MWESTW_4,  P21E,   129,  1,      5, SI9432,2,19940505,0859,-16.7500,-132.6667, 3925,   2892.7,   1.7123,  34.6755,2,  34.6767,2,    156.5,2,    156.4,2,   129.01,2,    35.28,2,     0.00,2,     2.44,2,   -0.001,2,    0.002,2, -999.000,1,-999.0000,1,  -999.00,9,   -999.0,1,-999.000,9,   -999.0,9,   -999.0,9,  -999.00,9,28817.7,-999.0000,-999.000,-999.000,  1.5011,-999.000
   318MWESTW_4,  P21E,   129,  1,      4, SI9433,2,19940505,0859,-16.7500,-132.6667, 3925,   3245.5,   1.6244,  34.6822,2,  34.6830,2,    160.6,2,    160.0,2,   131.56,2,    35.14,2,     0.00,2,     2.44,2, -999.000,9, -999.000,9, -999.000,1,-999.0000,1,  -999.00,9,   -999.0,1,-999.000,9,   -999.0,9,   -999.0,9,  -999.00,9,32325.2,-999.0000,-999.000,-999.000,  1.3809,-999.000
   318MWESTW_4,  P21E,   129,  1,      3, SI9435,2,19940505,0859,-16.7500,-132.6667, 3925,   3597.2,   1.5769,  34.6864,2,  34.6865,2,    163.9,2,    163.2,2,   132.04,2,    34.94,2,     0.00,2,     2.42,2, -999.000,9, -999.000,9, -999.000,1,-999.0000,1,  -999.00,9,   -999.0,1,-999.000,9,   -999.0,9,   -999.0,9,  -999.00,9,35821.3,-999.0000,-999.000,-999.000,  1.2988,-999.000
   318MWESTW_4,  P21E,   129,  1,      2, SI9401,2,19940505,0859,-16.7500,-132.6667, 3925,   3876.0,   1.5613,  34.6890,2,  34.6889,2,    167.3,2,    165.9,2,   131.33,2,    34.74,2,     0.00,2,     2.40,2, -999.000,9, -999.000,9, -999.000,1,-999.0000,1,  -999.00,9,   -999.0,1,-999.000,9,   -999.0,9,   -999.0,9,  -999.00,9,38593.3,-999.0000,-999.000,-999.000,  1.2541,-999.000
   318MWESTW_4,  P21E,   129,  1,      1, SI9403,2,19940505,0859,-16.7500,-132.6667, 3925,   3967.8,   1.5577,  34.6882,2,  34.6889,2,    167.5,2,    167.3,2,   130.91,2,    34.65,2,    -0.01,2,     2.39,2, -999.000,9, -999.000,9, -999.000,1,-999.0000,1,  -999.00,9,   -999.0,1,-999.000,9,   -999.0,9,   -999.0,9,  -999.00,9,39505.9,-999.0000,-999.000,-999.000,  1.2407,-999.000