BOTTLE,20010911WHPSIOdm
EXPOCODE,SECT_ID,STNNBR,CASTNO,SAMPNO,BTLNBR,BTLNBR_FLAG_W,DATE,TIME,LATITUDE,LONGITUDE,DEPTH,CTDPRS,CTDTMP,CTDSAL,CTDSAL_FLAG_W,SALNTY,SALNTY_FLAG_W,CTDOXY,CTDOXY_FLAG_W,OXYGEN,OXYGEN_FLAG_W,SILCAT,SILCAT_FLAG_W,NITRAT,NITRAT_FLAG_W,NITRIT,NITRIT_FLAG_W,PHSPHT,PHSPHT_FLAG_W,CFC-11,CFC-11_FLAG_W,CFC-12,CFC-12_FLAG_W,TRITUM,TRITUM_FLAG_W,HELIUM,HELIUM_FLAG_W,DELHE3,DELHE3_FLAG_W,DELC14,DELC14_FLAG_W,NEON,NEON_FLAG_W,TCARBN,TCARBN_FLAG_W,ALKALI,ALKALI_FLAG_W,PH,PH_FLAG_W,CTDRAW,HELIER,DELHER,NEONER,THETA,TRITER
,,,,,,,,,,,,DBAR,ITS-90,PSS-78,,PSS-78,,UMOL/KG,,UMOL/KG,,UMOL/KG,,UMOL/KG,,UMOL/KG,,UMOL/KG,,PMOL/KG,,PMOL/KG,,TU,,UMOL/KG,,PERCNT,,/MILLE,,NMOL/KG,,UMOL/KG,,UMOL/KG,,,,,NMOL/KG,PERCNT,NMOL/KG,ITS-90,TU
   318MWESTW_5,  P21W,   217,  1,     24, SI9434,2,19940605,2041,-18.4167, 179.0000, 2250,      6.1,  25.8092,  35.1847,4,  35.2388,2,    208.2,2,    207.9,2,     0.81,2,     0.09,2,     0.03,2,     0.11,2,    1.752,2,    0.982,2, -999.000,1,-999.0000,1,  -999.00,9,   -999.0,1,-999.000,9,   -999.0,9,   -999.0,9,  -999.00,9,  120.0,-999.0000,-999.000,-999.000, 25.8078,-999.000
   318MWESTW_5,  P21W,   217,  1,     23, SI9423,2,19940605,2041,-18.4167, 179.0000, 2250,     26.3,  25.8124,  35.1848,4,  35.2392,2,    199.9,2,    205.6,2,     0.67,2,     0.06,2,     0.01,2,     0.11,2,    1.767,6,    0.986,6, -999.000,1,-999.0000,1,  -999.00,9,   -999.0,1,-999.000,9,   1947.6,2,   2310.3,2,     8.12,2,  322.0,-999.0000,-999.000,-999.000, 25.8066,-999.000
   318MWESTW_5,  P21W,   217,  1,     22, SI9418,2,19940605,2041,-18.4167, 179.0000, 2250,     46.1,  25.8233,  35.1861,4,  35.2410,2,    203.8,2,    203.7,2,     0.69,2,     0.08,2,     0.00,2,     0.11,2,    1.754,2,    0.986,2, -999.000,1,-999.0000,1,  -999.00,9,   -999.0,1,-999.000,9,   1947.6,2,   2308.7,2,     8.12,2,  518.9,-999.0000,-999.000,-999.000, 25.8131,-999.000
   318MWESTW_5,  P21W,   217,  1,     21, SI9421,2,19940605,2041,-18.4167, 179.0000, 2250,     97.2,  24.5733,  35.6139,4,  35.6773,2,    186.2,2,    186.4,2,     1.01,2,     1.34,2,     0.09,2,     0.27,2,    1.853,2,    1.019,2, -999.000,1,-999.0000,1,  -999.00,9,   -999.0,1,-999.000,9,   2008.2,2,   2341.4,2,     8.11,2, 1028.2,-999.0000,-999.000,-999.000, 24.5524,-999.000
   318MWESTW_5,  P21W,   217,  1,     20, SI9420,2,19940605,2041,-18.4167, 179.0000, 2250,    148.4,  22.5293,  35.7339,4,  35.7874,2,    175.9,2,    176.0,2,     1.03,2,     2.89,2,     0.03,2,     0.35,2,    1.923,2,    1.041,2, -999.000,1,-999.0000,1,  -999.00,9,   -999.0,1,-999.000,9,   2038.8,2,   2345.1,2,     8.05,2, 1538.1,-999.0000,-999.000,-999.000, 22.4993,-999.000
   318MWESTW_5,  P21W,   217,  1,     19, SI9419,2,19940605,2041,-18.4167, 179.0000, 2250,    199.4,  21.0938,  35.7006,4,  35.7592,2,    179.6,2,    181.9,2,     0.89,2,     3.04,2,     0.02,2,     0.34,2,    1.979,2,    1.074,2, -999.000,1,-999.0000,1,  -999.00,9,   -999.0,1,-999.000,9,   2044.0,2,   2344.4,2,     8.02,2, 2045.5,-999.0000,-999.000,-999.000, 21.0554,-999.000
   318MWESTW_5,  P21W,   217,  1,     18, SI9439,2,19940605,2041,-18.4167, 179.0000, 2250,    249.4,  18.8366,  35.5625,4,  35.6098,2,    179.8,2,    180.5,2,     1.50,2,     4.80,2,     0.02,2,     0.47,2,    1.894,2,    1.010,2, -999.000,1,-999.0000,1,  -999.00,9,   -999.0,1,-999.000,9,   2066.0,2,   2335.3,2,     8.00,2, 2543.4,-999.0000,-999.000,-999.000, 18.7922,-999.000
   318MWESTW_5,  P21W,   217,  1,     17, SI9417,2,19940605,2041,-18.4167, 179.0000, 2250,    300.0,  17.1796,  35.4303,4,  35.4827,2,    180.8,2,    189.1,2,     1.97,2,     6.06,2,     0.02,2,     0.55,2,    1.916,2,    1.000,2, -999.000,1,-999.0000,1,  -999.00,9,   -999.0,1,-999.000,9,   2075.4,2,   2326.4,2,     7.95,2, 3046.8,-999.0000,-999.000,-999.000, 17.1294,-999.000
   318MWESTW_5,  P21W,   217,  1,     16, SI9416,2,19940605,2041,-18.4167, 179.0000, 2250,    347.2,  15.3992,  35.2257,4,  35.2802,2,    181.4,2,    182.3,2,     2.89,2,     8.72,2,     0.01,2,     0.75,2,    1.638,2,    0.865,2, -999.000,1,-999.0000,1,  -999.00,9,   -999.0,1,-999.000,9,   2087.2,2,   2317.2,2,     7.93,2, 3516.5,-999.0000,-999.000,-999.000, 15.3453,-999.000
   318MWESTW_5,  P21W,   217,  1,     15, SI9415,2,19940605,2041,-18.4167, 179.0000, 2250,    393.5,  13.3294,  35.0148,4,  35.0697,2,    183.6,2,    187.4,2,     4.41,2,    12.12,2,     0.00,2,     0.96,2,    1.491,2,    0.756,2, -999.000,1,-999.0000,1,  -999.00,9,   -999.0,1,-999.000,9,   2104.4,2,   2307.0,2,     7.88,2, 3977.1,-999.0000,-999.000,-999.000, 13.2740,-999.000
   318MWESTW_5,  P21W,   217,  1,     14, SI9436,2,19940605,2041,-18.4167, 179.0000, 2250,    499.2,   9.1622,  34.5720,4,  34.6291,2,    193.1,2,    194.1,2,     8.62,2,    20.04,2,     0.01,2,     1.45,2,    0.894,2,    0.457,2, -999.000,1,-999.0000,1,  -999.00,9,   -999.0,1,-999.000,9,   2135.6,2,   2290.1,2,     7.83,2, 5029.1,-999.0000,-999.000,-999.000,  9.1067,-999.000
   318MWESTW_5,  P21W,   217,  1,     13, SI9413,2,19940605,2041,-18.4167, 179.0000, 2250,    594.3,   7.5133,  34.4169,4,  34.4707,2,    199.9,2,    200.1,2,    12.43,2,    23.77,2,     0.01,2,     1.67,2,    0.572,2,    0.297,2, -999.000,1,-999.0000,1,  -999.00,9,   -999.0,1,-999.000,9,   2150.7,2,   2286.0,2,     7.73,2, 5974.2,-999.0000,-999.000,-999.000,  7.4543,-999.000
   318MWESTW_5,  P21W,   217,  1,     12, SI9438,2,19940605,2041,-18.4167, 179.0000, 2250,    694.3,   6.1390,  34.3418,4,  34.3984,2,    197.6,2,    194.9,2,    21.40,2,    27.57,2,     0.01,2,     1.94,2,    0.260,2,    0.142,2, -999.000,1,-999.0000,1,  -999.00,9,   -999.0,1,-999.000,9,   2167.7,2,   2292.7,2,     7.69,2, 6968.7,-999.0000,-999.000,-999.000,  6.0768,-999.000
   318MWESTW_5,  P21W,   217,  1,     11, SI9411,2,19940605,2041,-18.4167, 179.0000, 2250,    800.1,   5.3503,  34.3408,4,  34.3972,2,    184.1,2,    190.3,2,    31.46,2,    29.83,2,     0.01,2,     2.08,2,    0.130,2,    0.077,2, -999.000,1,-999.0000,1,  -999.00,9,   -999.0,1,-999.000,9,   2187.5,2,   2301.0,2,     7.65,2, 8020.5,-999.0000,-999.000,-999.000,  5.2829,-999.000
   318MWESTW_5,  P21W,   217,  1,     10, SI9412,2,19940605,2041,-18.4167, 179.0000, 2250,    893.7,   4.5870,  34.4263,2,  34.4251,2,    173.5,2,    178.2,2,    46.31,2,    32.11,2,     0.02,2,     2.25,2,    0.046,2,    0.028,2, -999.000,1,-999.0000,1,  -999.00,9,   -999.0,1,-999.000,9,   2211.4,2,   2316.0,2,     7.62,2, 8950.9,-999.0000,-999.000,-999.000,  4.5162,-999.000
   318MWESTW_5,  P21W,   217,  1,      9, SI9410,2,19940605,2041,-18.4167, 179.0000, 2250,    994.2,   4.0806,  34.4634,2,  34.4612,2,    166.1,2,    166.4,2,    59.36,2,    33.11,2,     0.02,2,     2.33,2,    0.022,2,    0.012,2, -999.000,1,-999.0000,1,  -999.00,9,   -999.0,1,-999.000,9,   2230.1,2,   2331.5,2,     7.59,2, 9950.5,-999.0000,-999.000,-999.000,  4.0049,-999.000
   318MWESTW_5,  P21W,   217,  1,      8, SI9422,2,19940605,2041,-18.4167, 179.0000, 2250,   1095.1,   3.7428,  34.4935,2,  34.4913,2,    160.1,2,    162.4,2,    69.11,2,    33.75,2,     0.01,2,     2.38,2,    0.012,2,    0.008,2, -999.000,1,-999.0000,1,  -999.00,9,   -999.0,1,-999.000,9,   2242.9,2,   2348.8,2,     7.58,2,10954.1,-999.0000,-999.000,-999.000,  3.6613,-999.000
   318MWESTW_5,  P21W,   217,  1,      7, SI9407,2,19940605,2041,-18.4167, 179.0000, 2250,   1184.9,   3.4615,  34.5197,2,  34.5178,2,    157.6,2,    157.4,2,    77.51,2,    34.20,2,     0.01,2,     2.40,2,    0.007,2,    0.005,2, -999.000,1,-999.0000,1,  -999.00,9,   -999.0,1,-999.000,9,   2253.3,2,   2351.2,2,     7.57,2,11846.3,-999.0000,-999.000,-999.000,  3.3751,-999.000
   318MWESTW_5,  P21W,   217,  1,      6, SI9427,2,19940605,2041,-18.4167, 179.0000, 2250,   1393.6,   3.0616,  34.5587,2,  34.5584,2,    151.8,2,    160.9,4,    90.40,2,    34.89,2,     0.01,2,     2.44,2,    0.003,2,    0.003,2, -999.000,1,-999.0000,1,  -999.00,9,   -999.0,1,-999.000,9,   2271.3,2,   2364.7,2,     7.57,2,13921.5,-999.0000,-999.000,-999.000,  2.9619,-999.000
   318MWESTW_5,  P21W,   217,  1,      5, SI9405,2,19940605,2041,-18.4167, 179.0000, 2250,   1595.1,   2.7678,  34.5872,2,  34.5863,2,    149.7,2,    154.8,4,    99.24,2,    35.11,2,     0.01,2,     2.46,2, -999.000,9, -999.000,9, -999.000,1,-999.0000,1,  -999.00,9,   -999.0,1,-999.000,9,   2279.4,2,   2374.5,2,     7.56,2,15923.9,-999.0000,-999.000,-999.000,  2.6548,-999.000
   318MWESTW_5,  P21W,   217,  1,      4, SI9404,2,19940605,2041,-18.4167, 179.0000, 2250,   1800.4,   2.5387,  34.6094,2,  34.6081,2,    149.8,2,    169.4,4,   105.84,2,    35.25,2,     0.01,2,     2.47,2, -999.000,9, -999.000,9, -999.000,1,-999.0000,1,  -999.00,9,   -999.0,1,-999.000,9,   2288.2,2,   2384.3,2,     7.56,2,17964.9,-999.0000,-999.000,-999.000,  2.4114,-999.000
   318MWESTW_5,  P21W,   217,  1,      3, SI9403,2,19940605,2041,-18.4167, 179.0000, 2250,   2015.6,   2.3006,  34.6326,2,  34.6313,2,    150.2,2,    151.9,2,   112.44,2,    35.32,2,     0.03,2,     2.49,2, -999.000,9, -999.000,9, -999.000,1,-999.0000,1,  -999.00,9,   -999.0,1,-999.000,9,   2294.8,2,   2390.4,2,     7.56,2,20104.7,-999.0000,-999.000,-999.000,  2.1583,-999.000
   318MWESTW_5,  P21W,   217,  1,      2, SI9437,2,19940605,2041,-18.4167, 179.0000, 2250,   2211.0,   2.1558,  34.6472,2,  34.6457,2,    150.8,2,    151.4,2,   116.34,2,    35.20,2,     0.02,2,     2.48,2, -999.000,9, -999.000,9, -999.000,1,-999.0000,1,  -999.00,9,   -999.0,1,-999.000,9,   2300.5,2,   2396.2,2,     7.56,2,22046.7,-999.0000,-999.000,-999.000,  1.9987,-999.000
   318MWESTW_5,  P21W,   217,  1,      1, SI9401,2,19940605,2041,-18.4167, 179.0000, 2250,   2250.3,   2.1484,  34.6482,2,  34.6460,2,    151.2,2,    152.0,2,   116.45,2,    35.21,2,     0.02,2,     2.48,2,    0.000,2,    0.001,2, -999.000,1,-999.0000,1,  -999.00,9,   -999.0,1,-999.000,9,   2299.4,2,   2395.3,2,     7.56,2,22437.2,-999.0000,-999.000,-999.000,  1.9879,-999.000
   318MWESTW_5,  P21W,   218,  1,     25, SI9425,2,19940606,0227,-18.4167, 178.3333, 2040,      9.4,  25.2906,  35.0313,2,  35.0301,2,    204.5,2,    207.7,2,     0.74,2,     0.04,2,     0.01,2,     0.11,2,    1.791,2,    1.013,2, -999.000,1,-999.0000,1,  -999.00,9,   -999.0,1,-999.000,9,   -999.0,9,   -999.0,9,  -999.00,9,  154.3,-999.0000,-999.000,-999.000, 25.2885,-999.000
   318MWESTW_5,  P21W,   218,  1,     24, SI9434,2,19940606,0227,-18.4167, 178.3333, 2040,     24.8,  25.3020,  35.0298,2,  35.0323,2,    208.4,2,    210.7,2,     0.75,2,     0.05,2,     0.01,2,     0.11,2, -999.000,9, -999.000,9, -999.000,1,-999.0000,1,  -999.00,9,   -999.0,1,-999.000,9,   -999.0,9,   -999.0,9,  -999.00,9,  308.1,-999.0000,-999.000,-999.000, 25.2966,-999.000
   318MWESTW_5,  P21W,   218,  1,     23, SI9423,2,19940606,0227,-18.4167, 178.3333, 2040,     50.0,  25.3082,  35.0489,2,  35.0472,2,    216.6,2,    209.4,2,     0.90,2,     0.08,2,     0.03,2,     0.12,2,    1.796,2,    1.000,2, -999.000,1,-999.0000,1,  -999.00,9,   -999.0,1,-999.000,9,   -999.0,9,   -999.0,9,  -999.00,9,  558.9,-999.0000,-999.000,-999.000, 25.2973,-999.000
   318MWESTW_5,  P21W,   218,  1,     22, SI9418,2,19940606,0227,-18.4167, 178.3333, 2040,     98.0,  25.0653,  35.2303,2,  35.2298,2,    207.2,2,    203.7,2,     0.90,2,     0.27,2,     0.11,2,     0.13,2,    1.807,2,    1.021,2, -999.000,1,-999.0000,1,  -999.00,9,   -999.0,1,-999.000,9,   -999.0,9,   -999.0,9,  -999.00,9, 1037.1,-999.0000,-999.000,-999.000, 25.0440,-999.000
   318MWESTW_5,  P21W,   218,  1,     21, SI9421,2,19940606,0227,-18.4167, 178.3333, 2040,    148.3,  22.5471,  35.7927,2,  35.7926,2,    171.0,2,    174.5,2,     1.20,2,     3.03,2,     0.03,2,     0.39,2, -999.000,9, -999.000,9, -999.000,1,-999.0000,1,  -999.00,9,   -999.0,1,-999.000,9,   -999.0,9,   -999.0,9,  -999.00,9, 1537.9,-999.0000,-999.000,-999.000, 22.5171,-999.000
   318MWESTW_5,  P21W,   218,  1,     20, SI9420,2,19940606,0227,-18.4167, 178.3333, 2040,    201.5,  20.6246,  35.7442,2,  35.7400,2,    178.8,2,    181.5,2,     1.05,2,     3.30,2,     0.03,2,     0.38,2,    1.989,2,    1.079,2, -999.000,1,-999.0000,1,  -999.00,9,   -999.0,1,-999.000,9,   -999.0,9,   -999.0,9,  -999.00,9, 2067.6,-999.0000,-999.000,-999.000, 20.5864,-999.000
   318MWESTW_5,  P21W,   218,  1,     19, SI9419,2,19940606,0227,-18.4167, 178.3333, 2040,    252.6,  18.0780,  35.5689,2,  35.5511,2,    185.8,2,    183.7,2,     1.66,2,     5.36,2,     0.01,2,     0.53,2, -999.000,9, -999.000,9, -999.000,1,-999.0000,1,  -999.00,9,   -999.0,1,-999.000,9,   -999.0,9,   -999.0,9,  -999.00,9, 2575.6,-999.0000,-999.000,-999.000, 18.0343,-999.000
   318MWESTW_5,  P21W,   218,  1,     18, SI9439,2,19940606,0227,-18.4167, 178.3333, 2040,    303.0,  16.1915,  35.3904,2,  35.3882,2,    182.6,2,    185.5,2,     2.41,2,     7.32,2,     0.01,2,     0.66,2,    1.823,2,    0.960,2, -999.000,1,-999.0000,1,  -999.00,9,   -999.0,1,-999.000,9,   -999.0,9,   -999.0,9,  -999.00,9, 3077.6,-999.0000,-999.000,-999.000, 16.1429,-999.000
   318MWESTW_5,  P21W,   218,  1,     17, SI9417,2,19940606,0227,-18.4167, 178.3333, 2040,    353.7,  14.2942,  35.1956,2,  35.1756,2,    183.3,2,    185.2,2,     3.62,2,    10.44,2,     0.01,2,     0.86,2, -999.000,9, -999.000,9, -999.000,1,-999.0000,1,  -999.00,9,   -999.0,1,-999.000,9,   -999.0,9,   -999.0,9,  -999.00,9, 3581.7,-999.0000,-999.000,-999.000, 14.2420,-999.000
   318MWESTW_5,  P21W,   218,  1,     16, SI9416,2,19940606,0227,-18.4167, 178.3333, 2040,    404.4,  11.8624,  34.9286,2,  34.9217,2,    189.1,2,    187.4,2,     5.27,2,    14.63,2,     0.00,2,     1.11,2,    1.328,6,    0.684,6, -999.000,1,-999.0000,1,  -999.00,9,   -999.0,1,-999.000,9,   -999.0,9,   -999.0,9,  -999.00,9, 4086.0,-999.0000,-999.000,-999.000, 11.8096,-999.000
   318MWESTW_5,  P21W,   218,  1,     15, SI9415,2,19940606,0227,-18.4167, 178.3333, 2040,    453.5,   9.9314,  34.6997,2,  34.6899,2,    189.8,2,    188.2,2,     8.27,2,    18.94,2,     0.00,2,     1.40,2, -999.000,9, -999.000,9, -999.000,1,-999.0000,1,  -999.00,9,   -999.0,1,-999.000,9,   -999.0,9,   -999.0,9,  -999.00,9, 4574.5,-999.0000,-999.000,-999.000,  9.8785,-999.000
   318MWESTW_5,  P21W,   218,  1,     14, SI9436,2,19940606,0227,-18.4167, 178.3333, 2040,    505.4,   8.4433,  34.5574,2,  34.5516,2,    195.1,2,    193.5,2,    11.28,2,    22.08,2,     0.00,2,     1.59,2,    0.694,2,    0.358,2, -999.000,1,-999.0000,1,  -999.00,9,   -999.0,1,-999.000,9,   -999.0,9,   -999.0,9,  -999.00,9, 5090.4,-999.0000,-999.000,-999.000,  8.3898,-999.000
   318MWESTW_5,  P21W,   218,  1,     13, SI9413,2,19940606,0227,-18.4167, 178.3333, 2040,    557.5,   7.3708,  34.4695,2,  34.4673,2,    200.0,2,    197.3,2,    14.43,2,    24.44,2,     0.00,2,     1.74,2, -999.000,9, -999.000,9, -999.000,1,-999.0000,1,  -999.00,9,   -999.0,1,-999.000,9,   -999.0,9,   -999.0,9,  -999.00,9, 5608.6,-999.0000,-999.000,-999.000,  7.3161,-999.000
   318MWESTW_5,  P21W,   218,  1,     12, SI9438,2,19940606,0227,-18.4167, 178.3333, 2040,    608.9,   6.4855,  34.4107,2,  34.4100,2,    201.5,2,    198.5,2,    18.04,2,    26.42,2,     0.01,2,     1.87,2, -999.000,9, -999.000,9, -999.000,1,-999.0000,1,  -999.00,9,   -999.0,1,-999.000,9,   -999.0,9,   -999.0,9,  -999.00,9, 6119.4,-999.0000,-999.000,-999.000,  6.4297,-999.000
   318MWESTW_5,  P21W,   218,  1,     11, SI9411,2,19940606,0227,-18.4167, 178.3333, 2040,    699.0,   5.6912,  34.3867,2,  34.3861,2,    195.6,2,    194.9,2,    25.10,2,    28.52,2,     0.01,2,     2.01,2,    0.183,2,    0.103,2, -999.000,1,-999.0000,1,  -999.00,9,   -999.0,1,-999.000,9,   -999.0,9,   -999.0,9,  -999.00,9, 7015.3,-999.0000,-999.000,-999.000,  5.6309,-999.000
   318MWESTW_5,  P21W,   218,  1,     10, SI9412,2,19940606,0227,-18.4167, 178.3333, 2040,    802.2,   5.0576,  34.4079,2,  34.4067,2,    181.6,2,    179.9,2,    37.41,2,    30.79,2,     0.00,2,     2.16,2, -999.000,9, -999.000,9, -999.000,1,-999.0000,1,  -999.00,9,   -999.0,1,-999.000,9,   -999.0,9,   -999.0,9,  -999.00,9, 8041.3,-999.0000,-999.000,-999.000,  4.9917,-999.000
   318MWESTW_5,  P21W,   218,  1,      9, SI9410,2,19940606,0227,-18.4167, 178.3333, 2040,    902.8,   4.5255,  34.4347,2,  34.4336,2,    172.2,2,    171.3,2,    48.82,2,    32.16,2,     0.00,2,     2.26,2,    0.045,2,    0.027,2, -999.000,1,-999.0000,1,  -999.00,9,   -999.0,1,-999.000,9,   -999.0,9,   -999.0,9,  -999.00,9, 9041.6,-999.0000,-999.000,-999.000,  4.4543,-999.000
   318MWESTW_5,  P21W,   218,  1,      8, SI9422,2,19940606,0227,-18.4167, 178.3333, 2040,    997.1,   4.2328,  34.4581,2,  34.4575,2,    165.8,2,    166.6,2,    56.78,2,    32.93,2,     0.00,2,     2.30,2, -999.000,9, -999.000,9, -999.000,1,-999.0000,1,  -999.00,9,   -999.0,1,-999.000,9,   -999.0,9,   -999.0,9,  -999.00,9, 9979.3,-999.0000,-999.000,-999.000,  4.1557,-999.000
   318MWESTW_5,  P21W,   218,  1,      7, SI9407,2,19940606,0227,-18.4167, 178.3333, 2040,   1099.6,   3.7768,  34.4940,2,  34.4932,2,    160.8,2,    158.6,2,    69.39,2,    33.97,2,     0.00,2,     2.38,2,    0.012,2,    0.006,2, -999.000,1,-999.0000,1,  -999.00,9,   -999.0,1,-999.000,9,   -999.0,9,   -999.0,9,  -999.00,9,10998.3,-999.0000,-999.000,-999.000,  3.6947,-999.000
   318MWESTW_5,  P21W,   218,  1,      6, SI9427,2,19940606,0227,-18.4167, 178.3333, 2040,   1304.8,   3.2099,  34.5450,2,  34.5445,2,    152.1,2,    152.4,2,    86.65,2,    35.00,2,     0.01,2,     2.46,2, -999.000,9, -999.000,9, -999.000,1,-999.0000,1,  -999.00,9,   -999.0,1,-999.000,9,   -999.0,9,   -999.0,9,  -999.00,9,13037.9,-999.0000,-999.000,-999.000,  3.1160,-999.000
   318MWESTW_5,  P21W,   218,  1,      5, SI9405,2,19940606,0227,-18.4167, 178.3333, 2040,   1508.5,   2.8832,  34.5754,2,  34.5755,2,    150.3,2,    149.8,2,    96.41,2,    35.24,2,     0.01,2,     2.48,2,    0.001,2,    0.001,2, -999.000,1,-999.0000,1,  -999.00,9,   -999.0,1,-999.000,9,   -999.0,9,   -999.0,9,  -999.00,9,15063.0,-999.0000,-999.000,-999.000,  2.7760,-999.000
   318MWESTW_5,  P21W,   218,  1,      4, SI9404,2,19940606,0227,-18.4167, 178.3333, 2040,   1703.5,   2.6323,  34.6003,2,  34.5993,2,    150.6,2,    149.5,2,   103.91,2,    35.24,2,     0.01,2,     2.48,2, -999.000,9, -999.000,9, -999.000,1,-999.0000,1,  -999.00,9,   -999.0,1,-999.000,9,   -999.0,9,   -999.0,9,  -999.00,9,17001.0,-999.0000,-999.000,-999.000,  2.5119,-999.000
   318MWESTW_5,  P21W,   218,  1,      3, SI9403,2,19940606,0227,-18.4167, 178.3333, 2040,   1900.4,   2.3670,  34.6243,2,  34.6264,2,    150.7,2,    150.0,2,   111.26,2,    35.20,2,     0.00,2,     2.49,2,   -0.001,2,   -0.001,2, -999.000,1,-999.0000,1,  -999.00,9,   -999.0,1,-999.000,9,   -999.0,9,   -999.0,9,  -999.00,9,18957.9,-999.0000,-999.000,-999.000,  2.2335,-999.000
   318MWESTW_5,  P21W,   218,  1,      2, SI9437,2,19940606,0227,-18.4167, 178.3333, 2040,   1980.1,   2.2780,  34.6330,2,  34.6331,2,    149.8,2,    150.3,2,   113.81,2,    35.16,2,     0.00,2,     2.49,2, -999.000,9, -999.000,9, -999.000,1,-999.0000,1,  -999.00,9,   -999.0,1,-999.000,9,   -999.0,9,   -999.0,9,  -999.00,9,19750.5,-999.0000,-999.000,-999.000,  2.1390,-999.000
   318MWESTW_5,  P21W,   218,  1,      1, SI9401,2,19940606,0227,-18.4167, 178.3333, 2040,   2025.1,   2.2253,  34.6385,2,  34.6386,2,    148.4,2,    149.8,2,   115.53,2,    35.32,2,     0.01,2,     2.48,2,    0.001,2,    0.001,2, -999.000,1,-999.0000,1,  -999.00,9,   -999.0,1,-999.000,9,   -999.0,9,   -999.0,9,  -999.00,9,20197.0,-999.0000,-999.000,-999.000,  2.0833,-999.000