BOTTLE,20010911WHPSIOdm
EXPOCODE,SECT_ID,STNNBR,CASTNO,SAMPNO,BTLNBR,BTLNBR_FLAG_W,DATE,TIME,LATITUDE,LONGITUDE,DEPTH,CTDPRS,CTDTMP,CTDSAL,CTDSAL_FLAG_W,SALNTY,SALNTY_FLAG_W,CTDOXY,CTDOXY_FLAG_W,OXYGEN,OXYGEN_FLAG_W,SILCAT,SILCAT_FLAG_W,NITRAT,NITRAT_FLAG_W,NITRIT,NITRIT_FLAG_W,PHSPHT,PHSPHT_FLAG_W,CFC-11,CFC-11_FLAG_W,CFC-12,CFC-12_FLAG_W,TRITUM,TRITUM_FLAG_W,HELIUM,HELIUM_FLAG_W,DELHE3,DELHE3_FLAG_W,DELC14,DELC14_FLAG_W,NEON,NEON_FLAG_W,TCARBN,TCARBN_FLAG_W,ALKALI,ALKALI_FLAG_W,PH,PH_FLAG_W,CTDRAW,HELIER,DELHER,NEONER,THETA,TRITER
,,,,,,,,,,,,DBAR,ITS-90,PSS-78,,PSS-78,,UMOL/KG,,UMOL/KG,,UMOL/KG,,UMOL/KG,,UMOL/KG,,UMOL/KG,,PMOL/KG,,PMOL/KG,,TU,,UMOL/KG,,PERCNT,,/MILLE,,NMOL/KG,,UMOL/KG,,UMOL/KG,,,,,NMOL/KG,PERCNT,NMOL/KG,ITS-90,TU
   318MWESTW_4,  P21E,    68,  1,     36, SI9336,2,19940417,2006,-16.7445, -97.3278, 4247,      8.7,  24.2312,  36.1558,2,  36.1701,2,    208.8,2,    214.5,2,     0.00,2,    -0.01,2,     0.01,2,     0.34,2,    1.879,2,    1.040,2, -999.000,1,-999.0000,1,  -999.00,9,   -999.0,1,-999.000,9,   2053.8,2,   2391.0,2,     8.06,2,  130.5,-999.0000,-999.000,-999.000, 24.2293,-999.000
   318MWESTW_4,  P21E,    68,  1,     35, SI9335,2,19940417,2006,-16.7445, -97.3278, 4247,     24.1,  24.0183,  36.1521,2,  36.1622,2,    209.2,2,    214.9,2,     0.07,2,    -0.01,2,     0.01,2,     0.35,2,    1.892,2,    1.054,2, -999.000,1,-999.0000,1,  -999.00,9,   -999.0,1,-999.000,9,   2052.8,2,   2389.0,2,     8.06,2,  284.4,-999.0000,-999.000,-999.000, 24.0132,-999.000
   318MWESTW_4,  P21E,    68,  1,     34, SI9334,2,19940417,2006,-16.7445, -97.3278, 4247,     50.2,  23.9429,  36.0998,2,  36.1539,2,    212.4,2,    217.1,2,     0.04,2,     0.00,2,     0.00,2,     0.35,2,    1.917,2,    1.051,2, -999.000,1,-999.0000,1,  -999.00,9,   -999.0,1,-999.000,9,   2052.8,2,   2389.0,2,     8.05,2,  544.7,-999.0000,-999.000,-999.000, 23.9323,-999.000
   318MWESTW_4,  P21E,    68,  1,     33, SI9333,2,19940417,2006,-16.7445, -97.3278, 4247,     98.6,  20.6033,  35.7657,2,  35.8285,2,    222.5,2,    225.7,2,     0.01,2,     0.00,2,     0.00,2,     0.41,2,    2.233,2,    1.195,2, -999.000,1,-999.0000,1,  -999.00,9,   -999.0,1,-999.000,9,   2065.8,2,   2369.0,2,     8.01,2, 1029.2,-999.0000,-999.000,-999.000, 20.5846,-999.000
   318MWESTW_4,  P21E,    68,  1,     32, SI9332,2,19940417,2006,-16.7445, -97.3278, 4247,    150.6,  19.4008,  35.5829,2,  35.6165,2,    209.4,2,    211.8,2,     0.00,2,     1.15,2,     0.37,2,     0.50,2,    2.343,2,    1.288,2, -999.000,1,-999.0000,1,  -999.00,9,   -999.0,1,-999.000,9,   2076.8,2,   2356.0,2,     7.97,2, 1549.0,-999.0000,-999.000,-999.000, 19.3735,-999.000
   318MWESTW_4,  P21E,    68,  1,     31, SI9331,2,19940417,2006,-16.7445, -97.3278, 4247,    199.6,  16.7086,  35.0950,2,  35.1569,2,    185.2,2,    183.0,2,     1.49,2,     7.36,2,     0.01,2,     0.87,2,    2.300,2,    1.203,2, -999.000,1,-999.0000,1,  -999.00,9,   -999.0,1,-999.000,9,   2100.8,2,   2323.0,2,     7.88,2, 2038.6,-999.0000,-999.000,-999.000, 16.6760,-999.000
   318MWESTW_4,  P21E,    68,  1,     30, SI9330,2,19940417,2006,-16.7445, -97.3278, 4247,    249.6,  12.3284,  34.6805,2,  34.6610,2,    107.5,2,     80.4,2,    12.15,2,    19.31,2,     0.00,2,     1.97,2,    1.122,2,    0.505,2, -999.000,1,-999.0000,1,  -999.00,9,   -999.0,1,-999.000,9,   2189.9,2,   2291.0,2,     7.59,2, 2537.4,-999.0000,-999.000,-999.000, 12.2953,-999.000
   318MWESTW_4,  P21E,    68,  1,     29, SI9329,2,19940417,2006,-16.7445, -97.3278, 4247,    303.1,  10.7117,  34.6567,2,  34.6559,2,     24.6,2,     25.9,2,    21.25,2,    27.61,2,     0.00,2,     2.57,2,    0.312,2,    0.139,2, -999.000,1,-999.0000,1,  -999.00,9,   -999.0,1,-999.000,9,   2247.9,2,   2293.0,2,     7.44,2, 3072.1,-999.0000,-999.000,-999.000, 10.6749,-999.000
   318MWESTW_4,  P21E,    68,  1,     28, SI9328,2,19940417,2006,-16.7445, -97.3278, 4247,    404.6,   8.5892,  34.6037,2,  34.5932,2,     21.6,2,     23.4,2,    28.45,2,    37.04,2,     0.00,2,     2.77,2,    0.036,2,    0.019,2, -999.000,1,-999.0000,1,  -999.00,9,   -999.0,1,-999.000,9,   2267.0,2,   2297.0,2,     7.39,2, 4086.3,-999.0000,-999.000,-999.000,  8.5462,-999.000
   318MWESTW_4,  P21E,    68,  1,     27, SI9327,2,19940417,2006,-16.7445, -97.3278, 4247,    502.3,   7.5833,  34.5541,2,  34.5557,2,     32.5,2,     31.7,2,    33.25,2,    39.78,2,     0.00,2,     2.84,2,    0.013,2,    0.002,2, -999.000,1,-999.0000,1,  -999.00,9,   -999.0,1,-999.000,9,   2272.0,2,   2300.0,2,     7.39,2, 5061.5,-999.0000,-999.000,-999.000,  7.5334,-999.000
   318MWESTW_4,  P21E,    68,  1,     26, SI9326,2,19940417,2006,-16.7445, -97.3278, 4247,    599.7,   6.4821,  34.5074,2,  34.5072,2,     45.0,2,     46.5,2,    39.25,2,    41.18,2,     0.00,2,     2.91,2,    0.005,2,    0.000,2, -999.000,1,-999.0000,1,  -999.00,9,   -999.0,1,-999.000,9,   2273.0,2,   2305.0,2,     7.40,2, 6035.0,-999.0000,-999.000,-999.000,  6.4271,-999.000
   318MWESTW_4,  P21E,    68,  1,     25, SI9325,2,19940417,2006,-16.7445, -97.3278, 4247,    700.9,   5.7732,  34.4995,2,  34.5025,2,     45.1,2,     43.5,2,    49.20,2,    42.99,2,     0.00,2,     3.05,2,   -0.002,2,   -0.003,2, -999.000,1,-999.0000,1,  -999.00,9,   -999.0,1,-999.000,9,   2287.0,2,   2314.0,2,     7.40,2, 7045.1,-999.0000,-999.000,-999.000,  5.7122,-999.000
   318MWESTW_4,  P21E,    68,  1,     24, SI9324,2,19940417,2006,-16.7445, -97.3278, 4247,    802.0,   5.2987,  34.5102,2,  34.5115,2,     39.6,2,     40.9,2,    59.16,2,    44.04,2,     0.00,2,     3.13,2,   -0.002,2,   -0.004,2, -999.000,1,-999.0000,1,  -999.00,9,   -999.0,1,-999.000,9,   2308.0,2,   2324.0,2,     7.38,2, 8055.5,-999.0000,-999.000,-999.000,  5.2312,-999.000
   318MWESTW_4,  P21E,    68,  1,     23, SI9323,2,19940417,2006,-16.7445, -97.3278, 4247,    901.9,   4.8768,  34.5192,2,  34.5193,2,     45.3,2,     46.4,2,    67.39,2,    43.98,2,     0.00,2,     3.14,2,   -0.003,2,   -0.003,2, -999.000,1,-999.0000,1,  -999.00,9,   -999.0,1,-999.000,9,   2311.0,2,   2332.0,2,     7.39,2, 9053.3,-999.0000,-999.000,-999.000,  4.8031,-999.000
   318MWESTW_4,  P21E,    68,  1,     22, SI9322,2,19940417,2006,-16.7445, -97.3278, 4247,   1001.8,   4.4141,  34.5268,2,  34.5278,2,     60.6,2,     60.7,2,    74.93,2,    42.80,2,     0.01,2,     3.09,2,   -0.002,2,   -0.004,2, -999.000,1,-999.0000,1,  -999.00,9,   -999.0,1,-999.000,9,   2311.0,2,   2343.0,2,     7.41,2,10050.9,-999.0000,-999.000,-999.000,  4.3351,-999.000
   318MWESTW_4,  P21E,    68,  1,     21, SI9321,2,19940417,2006,-16.7445, -97.3278, 4247,   1101.4,   4.0328,  34.5394,2,  34.5404,2,     69.9,2,     69.7,2,    82.99,2,    42.17,2,    -0.01,2,     3.04,2, -999.000,9, -999.000,9, -999.000,1,-999.0000,1,  -999.00,9,   -999.0,1,-999.000,9,   2315.0,2,   2351.0,2,     7.43,2,11045.5,-999.0000,-999.000,-999.000,  3.9483,-999.000
   318MWESTW_4,  P21E,    68,  1,     20, SI9320,2,19940417,2006,-16.7445, -97.3278, 4247,   1200.7,   3.6976,  34.5519,2,  34.5539,2,     77.7,2,     78.2,2,    90.53,2,    41.33,2,     0.01,2,     2.99,2, -999.000,9, -999.000,9, -999.000,1,-999.0000,1,  -999.00,9,   -999.0,1,-999.000,9,   2319.0,2,   2361.0,2,     7.44,2,12037.5,-999.0000,-999.000,-999.000,  3.6076,-999.000
   318MWESTW_4,  P21E,    68,  1,     19, SI9319,2,19940417,2006,-16.7445, -97.3278, 4247,   1299.8,   3.4401,  34.5671,2,  34.5663,2,     82.6,2,     82.6,2,    96.86,2,    41.04,2,     0.00,2,     2.97,2, -999.000,9, -999.000,9, -999.000,1,-999.0000,1,  -999.00,9,   -999.0,1,-999.000,9,   2322.0,2,   2369.0,2,     7.46,2,13027.7,-999.0000,-999.000,-999.000,  3.3443,-999.000
   318MWESTW_4,  P21E,    68,  1,     18, SI9318,2,19940417,2006,-16.7445, -97.3278, 4247,   1400.9,   3.1876,  34.5797,2,  34.5802,2,     87.9,2,     88.0,2,   103.02,2,    40.57,2,     0.00,2,     2.94,2, -999.000,9, -999.000,9, -999.000,1,-999.0000,1,  -999.00,9,   -999.0,1,-999.000,9,   2326.0,2,   2376.0,2,     7.46,2,14037.3,-999.0000,-999.000,-999.000,  3.0859,-999.000
   318MWESTW_4,  P21E,    68,  1,     17, SI9317,2,19940417,2006,-16.7445, -97.3278, 4247,   1498.7,   2.9824,  34.5923,2,  34.5920,2,     91.9,2,     92.7,2,   108.31,2,    40.16,2,     0.00,2,     2.91,2, -999.000,9, -999.000,9, -999.000,1,-999.0000,1,  -999.00,9,   -999.0,1,-999.000,9,   2330.0,2,   2381.0,2,     7.47,2,15015.0,-999.0000,-999.000,-999.000,  2.8748,-999.000
   318MWESTW_4,  P21E,    68,  1,     16, SI9316,2,19940417,2006,-16.7445, -97.3278, 4247,   1596.9,   2.8022,  34.6030,2,  34.6030,2,     96.8,2,     97.7,2,   112.06,2,    39.80,2,     0.00,2,     2.88,2, -999.000,9, -999.000,9, -999.000,1,-999.0000,1,  -999.00,9,   -999.0,1,-999.000,9,   2332.0,2,   2388.0,2,     7.48,2,15995.7,-999.0000,-999.000,-999.000,  2.6886,-999.000
   318MWESTW_4,  P21E,    68,  1,     15, SI9315,2,19940417,2006,-16.7445, -97.3278, 4247,   1744.2,   2.5503,  34.6187,2,  34.6209,2,    104.9,2,    106.2,2,   118.56,2,    39.04,2,     0.00,2,     2.82,2, -999.000,9, -999.000,9, -999.000,1,-999.0000,1,  -999.00,9,   -999.0,1,-999.000,9,   2334.0,2,   2395.0,2,     7.50,2,17467.6,-999.0000,-999.000,-999.000,  2.4275,-999.000
   318MWESTW_4,  P21E,    68,  1,     14, SI9314,2,19940417,2006,-16.7445, -97.3278, 4247,   1903.4,   2.3661,  34.6319,2,  34.6319,2,    111.5,2,    113.0,2,   122.65,2,    38.45,2,     0.00,2,     2.77,2, -999.000,9, -999.000,9, -999.000,1,-999.0000,1,  -999.00,9,   -999.0,1,-999.000,9,   2337.0,2,   2399.0,2,     7.51,2,19057.5,-999.0000,-999.000,-999.000,  2.2324,-999.000
   318MWESTW_4,  P21E,    68,  1,     13, SI9313,2,19940417,2006,-16.7445, -97.3278, 4247,   2050.3,   2.2202,  34.6427,2,  34.6439,2,    118.3,2,    118.7,2,   125.88,2,    38.03,2,     0.00,2,     2.73,2, -999.000,9, -999.000,9, -999.000,1,-999.0000,1,  -999.00,9,   -999.0,1,-999.000,9,   2337.0,2,   2405.0,2,     7.53,2,20525.2,-999.0000,-999.000,-999.000,  2.0761,-999.000
   318MWESTW_4,  P21E,    68,  1,     12, SI9312,2,19940417,2006,-16.7445, -97.3278, 4247,   2248.8,   2.0348,  34.6543,2,  34.6551,2,    131.9,2,    133.3,2,   124.98,2,    36.87,2,     0.00,2,     2.62,2, -999.000,9, -999.000,9, -999.000,1,-999.0000,1,  -999.00,9,   -999.0,1,-999.000,9,   2321.0,2,   2406.0,2,     7.55,2,22508.8,-999.0000,-999.000,-999.000,  1.8764,-999.000
   318MWESTW_4,  P21E,    68,  1,     11, SI9311,2,19940417,2006,-16.7445, -97.3278, 4247,   2447.7,   1.8952,  34.6650,2,  34.6747,4,    148.6,2,    148.8,2,   122.70,2,    35.70,2,     0.00,2,     2.53,2, -999.000,9, -999.000,9, -999.000,1,-999.0000,1,  -999.00,9,   -999.0,1,-999.000,9,   2311.0,2,   2405.0,2,     7.57,2,24495.6,-999.0000,-999.000,-999.000,  1.7216,-999.000
   318MWESTW_4,  P21E,    68,  1,     10, SI9310,2,19940417,2006,-16.7445, -97.3278, 4247,   2648.6,   1.8338,  34.6733,2,  34.6741,2,    151.8,2,    151.2,2,   124.55,2,    35.51,2,     0.00,2,     2.51,2, -999.000,9, -999.000,9, -999.000,1,-999.0000,1,  -999.00,9,   -999.0,1,-999.000,9,   2313.0,2,   2410.0,2,     7.58,2,26503.4,-999.0000,-999.000,-999.000,  1.6430,-999.000
   318MWESTW_4,  P21E,    68,  1,      9, SI9309,2,19940417,2006,-16.7445, -97.3278, 4247,   2849.8,   1.8113,  34.6785,2,  34.6785,2,    148.1,2,    148.8,2,   128.30,2,    35.63,2,     0.00,2,     2.52,2, -999.000,9, -999.000,9, -999.000,1,-999.0000,1,  -999.00,9,   -999.0,1,-999.000,9,   2319.0,2,   2417.0,2,     7.58,2,28513.5,-999.0000,-999.000,-999.000,  1.6021,-999.000
   318MWESTW_4,  P21E,    68,  1,      8, SI9308,2,19940417,2006,-16.7445, -97.3278, 4247,   3048.6,   1.8018,  34.6800,2,  34.6804,2,    145.5,2,    145.8,2,   132.21,2,    35.92,2,     0.00,2,     2.54,2, -999.000,9, -999.000,9, -999.000,1,-999.0000,1,  -999.00,9,   -999.0,1,-999.000,9,   2325.0,2,   2421.0,2,     7.58,2,30500.9,-999.0000,-999.000,-999.000,  1.5736,-999.000
   318MWESTW_4,  P21E,    68,  1,      7, SI9307,2,19940417,2006,-16.7445, -97.3278, 4247,   3249.6,   1.7979,  34.6824,2,  34.6818,2,    145.1,2,    146.1,2,   132.34,2,    35.91,2,     0.00,2,     2.54,2, -999.000,9, -999.000,9, -999.000,1,-999.0000,1,  -999.00,9,   -999.0,1,-999.000,9,   2325.0,2,   2424.0,2,     7.57,2,32508.7,-999.0000,-999.000,-999.000,  1.5499,-999.000
   318MWESTW_4,  P21E,    68,  1,      6, SI9306,2,19940417,2006,-16.7445, -97.3278, 4247,   3451.0,   1.8017,  34.6842,2,  34.6838,2,    146.3,2,    147.5,2,   131.61,2,    35.79,2,     0.00,2,     2.54,2, -999.000,9, -999.000,9, -999.000,1,-999.0000,1,  -999.00,9,   -999.0,1,-999.000,9,   2325.0,2,   2422.0,2,     7.58,2,34522.3,-999.0000,-999.000,-999.000,  1.5331,-999.000
   318MWESTW_4,  P21E,    68,  1,      5, SI9305,2,19940417,2006,-16.7445, -97.3278, 4247,   3646.9,   1.8125,  34.6853,2,  34.6855,2,    147.4,2,    148.4,2,   130.71,2,    35.73,2,     0.00,2,     2.52,2, -999.000,9, -999.000,9, -999.000,1,-999.0000,1,  -999.00,9,   -999.0,1,-999.000,9,   2324.0,2,   2424.0,2,     7.58,2,36479.7,-999.0000,-999.000,-999.000,  1.5231,-999.000
   318MWESTW_4,  P21E,    68,  1,      4, SI9304,2,19940417,2006,-16.7445, -97.3278, 4247,   3846.5,   1.8235,  34.6861,2,  34.6865,2,    148.1,2,    148.7,2,   130.85,2,    35.72,2,     0.00,2,     2.51,2, -999.000,9, -999.000,9, -999.000,1,-999.0000,1,  -999.00,9,   -999.0,1,-999.000,9,   2323.0,2,   2421.0,2,     7.58,2,38474.5,-999.0000,-999.000,-999.000,  1.5124,-999.000
   318MWESTW_4,  P21E,    68,  1,      3, SI9303,2,19940417,2006,-16.7445, -97.3278, 4247,   4045.1,   1.8263,  34.6876,2,  34.6869,2,    149.0,2,    149.4,2,   130.29,2,    35.61,2,     0.00,2,     2.51,2, -999.000,9, -999.000,9, -999.000,1,-999.0000,1,  -999.00,9,   -999.0,1,-999.000,9,   2323.0,2,   2422.0,2,     7.58,2,40460.0,-999.0000,-999.000,-999.000,  1.4932,-999.000
   318MWESTW_4,  P21E,    68,  1,      2, SI9302,2,19940417,2006,-16.7445, -97.3278, 4247,   4253.9,   1.8428,  34.6879,2,  34.6881,2,    149.8,2,    149.8,2,   130.93,2,    35.50,2,    -0.01,2,     2.51,2, -999.000,9, -999.000,9, -999.000,1,-999.0000,1,  -999.00,9,   -999.0,1,-999.000,9,   2323.0,2,   2421.0,2,     7.58,2,42547.5,-999.0000,-999.000,-999.000,  1.4857,-999.000
   318MWESTW_4,  P21E,    68,  1,      1, SI9301,2,19940417,2006,-16.7445, -97.3278, 4247,   4304.9,   1.8483,  34.6878,2,  34.6883,2,    146.3,2,    150.7,2,   130.67,2,    35.53,2,     0.00,2,     2.51,2, -999.000,9, -999.000,9, -999.000,1,-999.0000,1,  -999.00,9,   -999.0,1,-999.000,9,   2323.0,2,   2421.0,2,     7.58,2,43057.2,-999.0000,-999.000,-999.000,  1.4852,-999.000