BOTTLE,20010911WHPSIOdm
EXPOCODE,SECT_ID,STNNBR,CASTNO,SAMPNO,BTLNBR,BTLNBR_FLAG_W,DATE,TIME,LATITUDE,LONGITUDE,DEPTH,CTDPRS,CTDTMP,CTDSAL,CTDSAL_FLAG_W,SALNTY,SALNTY_FLAG_W,CTDOXY,CTDOXY_FLAG_W,OXYGEN,OXYGEN_FLAG_W,SILCAT,SILCAT_FLAG_W,NITRAT,NITRAT_FLAG_W,NITRIT,NITRIT_FLAG_W,PHSPHT,PHSPHT_FLAG_W,CFC-11,CFC-11_FLAG_W,CFC-12,CFC-12_FLAG_W,TRITUM,TRITUM_FLAG_W,HELIUM,HELIUM_FLAG_W,DELHE3,DELHE3_FLAG_W,DELC14,DELC14_FLAG_W,NEON,NEON_FLAG_W,TCARBN,TCARBN_FLAG_W,ALKALI,ALKALI_FLAG_W,PH,PH_FLAG_W,CTDRAW,HELIER,DELHER,NEONER,THETA,TRITER
,,,,,,,,,,,,DBAR,ITS-90,PSS-78,,PSS-78,,UMOL/KG,,UMOL/KG,,UMOL/KG,,UMOL/KG,,UMOL/KG,,UMOL/KG,,PMOL/KG,,PMOL/KG,,TU,,UMOL/KG,,PERCNT,,/MILLE,,NMOL/KG,,UMOL/KG,,UMOL/KG,,,,,NMOL/KG,PERCNT,NMOL/KG,ITS-90,TU
   318MWESTW_5,  P21W,   168,  1,     33, SI9433,2,19940522,0759,-17.5000,-151.6695, 4063,      8.1,  27.8248,  35.7169,2,  35.7130,2,    206.9,2,    221.1,2,     0.53,2,     0.00,2,     0.00,2,     0.15,2,    1.632,2,    0.933,2, -999.000,1,-999.0000,1,  -999.00,9,   -999.0,1,-999.000,9,   1966.0,2,   2347.7,2,     8.13,2,  135.8,-999.0000,-999.000,-999.000, 27.8229,-999.000
   318MWESTW_5,  P21W,   168,  1,     32, SI9432,2,19940522,0759,-17.5000,-151.6695, 4063,     17.6,  27.8277,  35.7132,2,  35.7114,2,    202.5,2,    212.5,2,     0.54,2,     0.00,2,     0.00,2,     0.15,2,    1.641,2,    0.916,2, -999.000,1,-999.0000,1,  -999.00,9,   -999.0,1,-999.000,9,   1970.6,2,   2347.4,2,     8.13,2,  231.6,-999.0000,-999.000,-999.000, 27.8236,-999.000
   318MWESTW_5,  P21W,   168,  1,     31, SI9431,2,19940522,0759,-17.5000,-151.6695, 4063,     44.4,  27.7858,  35.7071,2,  35.7067,2,    203.6,2,    212.0,2,     0.70,2,     0.00,2,     0.00,2,     0.16,2,    1.663,2,    0.935,2, -999.000,1,-999.0000,1,  -999.00,9,   -999.0,1,-999.000,9,   1967.8,2,   2349.4,2,     8.13,2,  499.0,-999.0000,-999.000,-999.000, 27.7754,-999.000
   318MWESTW_5,  P21W,   168,  1,     30, SI9440,2,19940522,0759,-17.5000,-151.6695, 4063,     95.0,  25.7418,  36.2314,2,  36.2317,2,    211.3,2,    210.5,2,     0.57,2,    -0.01,2,     0.01,2,     0.22,2,    1.771,2,    0.998,2, -999.000,1,-999.0000,1,  -999.00,9,   -999.0,1,-999.000,9,   2023.0,2,   2382.2,2,     8.09,2, 1003.4,-999.0000,-999.000,-999.000, 25.7207,-999.000
   318MWESTW_5,  P21W,   168,  1,     29, SI9429,2,19940522,0759,-17.5000,-151.6695, 4063,    144.5,  23.4358,  36.0546,2,  36.0485,2,    194.0,2,    191.1,2,     0.59,2,     0.60,2,     0.11,2,     0.30,2,    1.908,2,    1.047,2, -999.000,1,-999.0000,1,  -999.00,9,   -999.0,1,-999.000,9,   2042.2,2,   2370.8,2,     8.04,2, 1497.3,-999.0000,-999.000,-999.000, 23.4058,-999.000
   318MWESTW_5,  P21W,   168,  1,     28, SI9428,2,19940522,0759,-17.5000,-151.6695, 4063,    195.6,  21.5436,  35.8866,2,  35.8842,2,    190.0,2,    183.6,2,     0.75,2,     2.16,2,     0.01,2,     0.37,2,    1.924,2,    1.049,2, -999.000,1,-999.0000,1,  -999.00,9,   -999.0,1,-999.000,9,   2056.8,2,   2356.9,2,     8.01,2, 2005.9,-999.0000,-999.000,-999.000, 21.5053,-999.000
   318MWESTW_5,  P21W,   168,  1,     27, SI9424,2,19940522,0759,-17.5000,-151.6695, 4063,    295.4,  17.1262,  35.3857,2,  35.3800,2,    179.9,2,    179.8,2,     1.96,2,     5.95,2,     0.01,2,     0.61,2,    1.767,2,    0.927,2, -999.000,1,-999.0000,1,  -999.00,9,   -999.0,1,-999.000,9,   2077.0,2,   2325.9,2,     7.92,2, 2998.8,-999.0000,-999.000,-999.000, 17.0769,-999.000
   318MWESTW_5,  P21W,   168,  1,     26, SI9414,2,19940522,0759,-17.5000,-151.6695, 4063,    393.2,  11.8635,  34.7888,2,  34.7960,2,    160.7,2,    155.1,2,     8.27,2,    17.27,2,     0.00,2,     1.37,2,    0.936,6,    0.490,6, -999.000,1,-999.0000,1,  -999.00,9,   -999.0,1,-999.000,9,   2135.2,2,   2296.0,2,     7.75,2, 3971.5,-999.0000,-999.000,-999.000, 11.8123,-999.000
   318MWESTW_5,  P21W,   168,  1,     25, SI9425,2,19940522,0759,-17.5000,-151.6695, 4063,    497.3,   8.7986,  34.5400,2,  34.5378,2,    150.3,2,    143.8,2,    15.92,2,    25.48,2,     0.00,2,     1.88,2,    0.416,2,    0.223,2, -999.000,1,-999.0000,1,  -999.00,9,   -999.0,1,-999.000,9,   2187.1,2,   2290.5,2,     7.63,2, 5007.0,-999.0000,-999.000,-999.000,  8.7447,-999.000
   318MWESTW_5,  P21W,   168,  1,     24, SI9434,2,19940522,0759,-17.5000,-151.6695, 4063,    597.1,   6.7506,  34.4352,2,  34.4339,2,    158.7,2,    156.4,2,    23.58,2,    29.55,2,     0.00,2,     2.09,2,    0.185,2,    0.111,2, -999.000,1,-999.0000,1,  -999.00,9,   -999.0,1,-999.000,9,   2173.5,3,   2294.4,2,     7.61,2, 5999.3,-999.0000,-999.000,-999.000,  6.6947,-999.000
   318MWESTW_5,  P21W,   168,  1,     23, SI9423,2,19940522,0759,-17.5000,-151.6695, 4063,    693.7,   5.7086,  34.4346,2,  34.4326,2,    155.5,2,    153.1,2,    35.43,2,    31.98,2,     0.00,2,     2.24,2,    0.069,2,    0.044,2, -999.000,1,-999.0000,1,  -999.00,9,   -999.0,1,-999.000,9,   2207.6,2,   2310.2,2,     7.58,2, 6960.1,-999.0000,-999.000,-999.000,  5.6487,-999.000
   318MWESTW_5,  P21W,   168,  1,     22, SI9418,2,19940522,0759,-17.5000,-151.6695, 4063,    797.6,   4.9293,  34.4439,2,  34.4400,2,    149.7,2,    151.3,2,    45.93,2,    33.50,2,     0.00,2,     2.34,2,    0.025,2,    0.020,2, -999.000,1,-999.0000,1,  -999.00,9,   -999.0,1,-999.000,9,   2220.5,2,   2315.1,2,     7.57,2, 7993.3,-999.0000,-999.000,-999.000,  4.8645,-999.000
   318MWESTW_5,  P21W,   168,  1,     21, SI9421,2,19940522,0759,-17.5000,-151.6695, 4063,    898.9,   4.3897,  34.4740,2,  34.4724,2,    148.6,2,    147.2,2,    58.23,2,    34.36,2,     0.00,2,     2.41,2,    0.008,2,    0.006,2, -999.000,1,-999.0000,1,  -999.00,9,   -999.0,1,-999.000,9,   2237.9,2,   2331.5,2,     7.55,2, 9000.5,-999.0000,-999.000,-999.000,  4.3197,-999.000
   318MWESTW_5,  P21W,   168,  1,     20, SI9420,2,19940522,0759,-17.5000,-151.6695, 4063,   1000.5,   3.9432,  34.4971,2,  34.4962,2,    147.4,2,    146.9,2,    67.69,2,    34.82,2,     0.00,2,     2.44,2,    0.003,2,    0.004,2, -999.000,1,-999.0000,1,  -999.00,9,   -999.0,1,-999.000,9,   2249.3,2,   2336.0,2,     7.55,2,10010.6,-999.0000,-999.000,-999.000,  3.8679,-999.000
   318MWESTW_5,  P21W,   168,  1,     19, SI9419,2,19940522,0759,-17.5000,-151.6695, 4063,   1104.6,   3.5919,  34.5174,2,  34.5158,2,    146.0,2,    146.9,2,    75.34,2,    35.19,2,     0.00,2,     2.45,2, -999.000,9, -999.000,9, -999.000,1,-999.0000,1,  -999.00,9,   -999.0,1,-999.000,9,   2255.2,2,   2349.6,2,     7.55,2,11045.9,-999.0000,-999.000,-999.000,  3.5109,-999.000
   318MWESTW_5,  P21W,   168,  1,     18, SI9439,2,19940522,0759,-17.5000,-151.6695, 4063,   1205.1,   3.2940,  34.5363,2,  34.5349,2,    146.3,2,    146.1,2,    82.40,2,    35.51,2,     0.00,2,     2.49,2, -999.000,9, -999.000,9, -999.000,1,-999.0000,1,  -999.00,9,   -999.0,1,-999.000,9,   2265.8,2,   2357.9,2,     7.55,2,12044.7,-999.0000,-999.000,-999.000,  3.2074,-999.000
   318MWESTW_5,  P21W,   168,  1,     17, SI9417,2,19940522,0759,-17.5000,-151.6695, 4063,   1299.0,   3.0646,  34.5565,2,  34.5553,2,    147.2,2,    145.4,2,    89.31,2,    35.66,2,     0.00,2,     2.49,2, -999.000,9, -999.000,9, -999.000,1,-999.0000,1,  -999.00,9,   -999.0,1,-999.000,9,   2272.6,2,   2361.9,2,     7.55,2,12978.0,-999.0000,-999.000,-999.000,  2.9726,-999.000
   318MWESTW_5,  P21W,   168,  1,     16, SI9416,2,19940522,0759,-17.5000,-151.6695, 4063,   1402.5,   2.8945,  34.5701,2,  34.5702,2,    147.0,2,    145.9,2,    93.83,2,    35.72,2,     0.00,2,     2.49,2,    0.001,2,    0.004,2, -999.000,1,-999.0000,1,  -999.00,9,   -999.0,1,-999.000,9,   2277.2,2,   2370.7,2,     7.55,2,14007.2,-999.0000,-999.000,-999.000,  2.7959,-999.000
   318MWESTW_5,  P21W,   168,  1,     15, SI9415,2,19940522,0759,-17.5000,-151.6695, 4063,   1505.0,   2.7416,  34.5833,2,  34.8153,4,    147.7,2,    154.0,4,    75.18,4,    29.08,4,     0.00,4,     2.05,4, -999.000,9, -999.000,9, -999.000,1,-999.0000,1,  -999.00,9,   -999.0,1,-999.000,9,   -999.0,9,   -999.0,9,  -999.00,9,15026.7,-999.0000,-999.000,-999.000,  2.6363,-999.000
   318MWESTW_5,  P21W,   168,  1,     14, SI9436,2,19940522,0759,-17.5000,-151.6695, 4063,   1602.6,   2.5925,  34.5962,2,  34.5959,2,    147.6,2,    147.1,2,   102.69,2,    35.81,2,     0.00,2,     2.51,2, -999.000,9, -999.000,9, -999.000,1,-999.0000,1,  -999.00,9,   -999.0,1,-999.000,9,   2285.6,2,   2382.2,2,     7.55,2,15996.4,-999.0000,-999.000,-999.000,  2.4810,-999.000
   318MWESTW_5,  P21W,   168,  1,     13, SI9413,2,19940522,0759,-17.5000,-151.6695, 4063,   1797.9,   2.3551,  34.6164,2,  34.6156,2,    148.7,2,    148.2,2,   109.60,2,    35.79,2,     0.00,2,     2.51,2, -999.000,9, -999.000,9, -999.000,1,-999.0000,1,  -999.00,9,   -999.0,1,-999.000,9,   2292.5,2,   2387.4,2,     7.56,2,17939.0,-999.0000,-999.000,-999.000,  2.2305,-999.000
   318MWESTW_5,  P21W,   168,  1,     12, SI9438,2,19940522,0759,-17.5000,-151.6695, 4063,   2002.0,   2.1369,  34.6358,2,  34.6362,2,    152.4,2,    151.6,2,   115.13,2,    35.64,2,     0.00,2,     2.49,2, -999.000,9, -999.000,9, -999.000,1,-999.0000,1,  -999.00,9,   -999.0,1,-999.000,9,   2295.9,2,   2395.8,2,     7.56,2,19967.7,-999.0000,-999.000,-999.000,  1.9982,-999.000
   318MWESTW_5,  P21W,   168,  1,     11, SI9411,2,19940522,0759,-17.5000,-151.6695, 4063,   2198.8,   2.0095,  34.6465,2,  34.6455,2,    153.9,2,    153.5,2,   118.48,2,    35.57,2,     0.00,2,     2.48,2,    0.001,2,    0.004,2, -999.000,1,-999.0000,1,  -999.00,9,   -999.0,1,-999.000,9,   2298.0,2,   2395.5,2,     7.56,2,21924.5,-999.0000,-999.000,-999.000,  1.8559,-999.000
   318MWESTW_5,  P21W,   168,  1,     10, SI9412,2,19940522,0759,-17.5000,-151.6695, 4063,   2401.8,   1.8859,  34.6569,2,  34.6557,2,    156.2,2,    155.9,2,   121.05,2,    35.39,2,     0.00,2,     2.46,2, -999.000,9, -999.000,9, -999.000,1,-999.0000,1,  -999.00,9,   -999.0,1,-999.000,9,   2300.8,2,   2400.6,2,     7.55,2,23941.9,-999.0000,-999.000,-999.000,  1.7165,-999.000
   318MWESTW_5,  P21W,   168,  1,      9, SI9410,2,19940522,0759,-17.5000,-151.6695, 4063,   2606.2,   1.7943,  34.6650,2,  34.6645,2,    158.9,2,    159.0,2,   122.74,2,    35.16,2,     0.00,2,     2.45,2, -999.000,9, -999.000,9, -999.000,1,-999.0000,1,  -999.00,9,   -999.0,1,-999.000,9,   2299.7,2,   2399.2,2,     7.56,2,25974.9,-999.0000,-999.000,-999.000,  1.6082,-999.000
   318MWESTW_5,  P21W,   168,  1,      8, SI9422,2,19940522,0759,-17.5000,-151.6695, 4063,   2818.4,   1.7125,  34.6713,2,  34.6708,2,    162.4,2,    162.9,2,   123.62,2,    34.99,2,     0.00,2,     2.44,2, -999.000,9, -999.000,9, -999.000,1,-999.0000,1,  -999.00,9,   -999.0,1,-999.000,9,   2299.0,2,   2395.9,2,     7.58,2,28083.6,-999.0000,-999.000,-999.000,  1.5083,-999.000
   318MWESTW_5,  P21W,   168,  1,      7, SI9407,2,19940522,0759,-17.5000,-151.6695, 4063,   3004.0,   1.6426,  34.6772,2,  34.6769,2,    165.5,2,    166.1,2,   123.64,2,    34.78,2,     0.00,2,     2.40,2,    0.000,2,    0.003,2, -999.000,1,-999.0000,1,  -999.00,9,   -999.0,1,-999.000,9,   2297.6,2,   2400.1,2,     7.57,2,29929.5,-999.0000,-999.000,-999.000,  1.4223,-999.000
   318MWESTW_5,  P21W,   168,  1,      6, SI9427,2,19940522,0759,-17.5000,-151.6695, 4063,   3206.9,   1.5790,  34.6820,2,  34.6818,2,    168.9,2,    169.8,2,   123.97,2,    34.51,2,     0.00,2,     2.39,2, -999.000,9, -999.000,9, -999.000,1,-999.0000,1,  -999.00,9,   -999.0,1,-999.000,9,   2296.0,2,   2403.3,2,     7.57,2,31946.4,-999.0000,-999.000,-999.000,  1.3403,-999.000
   318MWESTW_5,  P21W,   168,  1,      5, SI9405,2,19940522,0759,-17.5000,-151.6695, 4063,   3409.3,   1.5253,  34.6864,2,  34.6853,2,    172.7,2,    173.3,2,   123.68,2,    34.17,2,     0.00,2,     2.38,2, -999.000,9, -999.000,9, -999.000,1,-999.0000,1,  -999.00,9,   -999.0,1,-999.000,9,   2292.4,2,   2395.6,2,     7.58,2,33958.0,-999.0000,-999.000,-999.000,  1.2677,-999.000
   318MWESTW_5,  P21W,   168,  1,      4, SI9404,2,19940522,0759,-17.5000,-151.6695, 4063,   3606.5,   1.5000,  34.6890,2,  34.6891,2,    174.5,2,    175.5,2,   123.85,2,    34.11,2,     0.00,2,     2.37,2,    0.003,2,    0.002,2, -999.000,1,-999.0000,1,  -999.00,9,   -999.0,1,-999.000,9,   2291.2,2,   2392.2,2,     7.58,2,35918.6,-999.0000,-999.000,-999.000,  1.2229,-999.000
   318MWESTW_5,  P21W,   168,  1,      3, SI9403,2,19940522,0759,-17.5000,-151.6695, 4063,   3808.4,   1.4905,  34.6912,2,  34.6897,2,    177.0,2,    177.5,2,   123.42,2,    33.94,2,     0.00,2,     2.36,2, -999.000,9, -999.000,9, -999.000,1,-999.0000,1,  -999.00,9,   -999.0,1,-999.000,9,   2291.1,2,   2395.8,2,     7.58,2,37926.0,-999.0000,-999.000,-999.000,  1.1924,-999.000
   318MWESTW_5,  P21W,   168,  1,      2, SI9437,2,19940522,0759,-17.5000,-151.6695, 4063,   4016.3,   1.4691,  34.6936,2,  34.6924,2,    180.5,2,    180.1,2,   122.97,2,    33.68,2,     0.00,2,     2.35,2, -999.000,9, -999.000,9, -999.000,1,-999.0000,1,  -999.00,9,   -999.0,1,-999.000,9,   2290.0,2,   2389.2,2,     7.58,2,39992.8,-999.0000,-999.000,-999.000,  1.1492,-999.000
   318MWESTW_5,  P21W,   168,  1,      1, SI9401,2,19940522,0759,-17.5000,-151.6695, 4063,   4104.0,   1.4714,  34.6945,2,  34.6922,2,    180.8,2,    180.8,2,   122.73,2,    33.75,2,     0.00,2,     2.35,2,    0.000,2,   -0.001,2, -999.000,1,-999.0000,1,  -999.00,9,   -999.0,1,-999.000,9,   2286.7,2,   2391.3,2,     7.58,2,40864.4,-999.0000,-999.000,-999.000,  1.1419,-999.000