BOTTLE,20010911WHPSIOdm
EXPOCODE,SECT_ID,STNNBR,CASTNO,SAMPNO,BTLNBR,BTLNBR_FLAG_W,DATE,TIME,LATITUDE,LONGITUDE,DEPTH,CTDPRS,CTDTMP,CTDSAL,CTDSAL_FLAG_W,SALNTY,SALNTY_FLAG_W,CTDOXY,CTDOXY_FLAG_W,OXYGEN,OXYGEN_FLAG_W,SILCAT,SILCAT_FLAG_W,NITRAT,NITRAT_FLAG_W,NITRIT,NITRIT_FLAG_W,PHSPHT,PHSPHT_FLAG_W,CFC-11,CFC-11_FLAG_W,CFC-12,CFC-12_FLAG_W,TRITUM,TRITUM_FLAG_W,HELIUM,HELIUM_FLAG_W,DELHE3,DELHE3_FLAG_W,DELC14,DELC14_FLAG_W,NEON,NEON_FLAG_W,TCARBN,TCARBN_FLAG_W,ALKALI,ALKALI_FLAG_W,PH,PH_FLAG_W,CTDRAW,HELIER,DELHER,NEONER,THETA,TRITER
,,,,,,,,,,,,DBAR,ITS-90,PSS-78,,PSS-78,,UMOL/KG,,UMOL/KG,,UMOL/KG,,UMOL/KG,,UMOL/KG,,UMOL/KG,,PMOL/KG,,PMOL/KG,,TU,,UMOL/KG,,PERCNT,,/MILLE,,NMOL/KG,,UMOL/KG,,UMOL/KG,,,,,NMOL/KG,PERCNT,NMOL/KG,ITS-90,TU
   318MWESTW_5,  P21W,   236,  1,     36, SI9442,2,19940610,0217,-17.8305, 169.3333, 2650,      5.5,  25.6181,  35.0730,2,  35.0718,2,    203.1,2,    207.1,2,     0.88,2,     0.02,2,     0.00,2,     0.15,2,    1.730,2,    0.975,2, -999.000,1,-999.0000,1,  -999.00,9,   -999.0,1,-999.000,9,   -999.0,9,   -999.0,9,  -999.00,9,  114.2,-999.0000,-999.000,-999.000, 25.6169,-999.000
   318MWESTW_5,  P21W,   236,  1,     35, SI9435,2,19940610,0217,-17.8305, 169.3333, 2650,     20.2,  25.5921,  35.0707,2,  35.0705,2,    201.0,2,    207.9,2,     0.89,2,     0.02,2,     0.01,2,     0.16,2,    1.760,2,    0.977,2, -999.000,1,-999.0000,1,  -999.00,9,   -999.0,1,-999.000,9,   -999.0,9,   -999.0,9,  -999.00,9,  260.7,-999.0000,-999.000,-999.000, 25.5876,-999.000
   318MWESTW_5,  P21W,   236,  1,     34, SI9441,2,19940610,0217,-17.8305, 169.3333, 2650,     46.6,  25.5608,  35.0711,2,  35.0699,2,    202.7,2,    205.7,2,     0.91,2,     0.06,2,     0.01,2,     0.17,2, -999.000,9, -999.000,9, -999.000,1,-999.0000,1,  -999.00,9,   -999.0,1,-999.000,9,   -999.0,9,   -999.0,9,  -999.00,9,  523.8,-999.0000,-999.000,-999.000, 25.5505,-999.000
   318MWESTW_5,  P21W,   236,  1,     33, SI9433,2,19940610,0217,-17.8305, 169.3333, 2650,     95.4,  25.0992,  35.4690,2,  35.4715,2,    197.2,2,    202.0,2,     0.77,2,     0.03,2,     0.05,2,     0.23,2, -999.000,9, -999.000,9, -999.000,1,-999.0000,1,  -999.00,9,   -999.0,1,-999.000,9,   -999.0,9,   -999.0,9,  -999.00,9, 1010.2,-999.0000,-999.000,-999.000, 25.0784,-999.000
   318MWESTW_5,  P21W,   236,  1,     32, SI9432,2,19940610,0217,-17.8305, 169.3333, 2650,    147.2,  23.4600,  35.7759,2,  35.7760,2,    179.5,2,    171.9,2,     1.07,2,     2.89,2,     0.03,2,     0.42,2,    1.867,2,    0.999,2, -999.000,1,-999.0000,1,  -999.00,9,   -999.0,1,-999.000,9,   -999.0,9,   -999.0,9,  -999.00,9, 1526.1,-999.0000,-999.000,-999.000, 23.4294,-999.000
   318MWESTW_5,  P21W,   236,  1,     31, SI9431,2,19940610,0217,-17.8305, 169.3333, 2650,    197.9,  21.3462,  35.7563,2,  35.7541,2,    172.8,2,    174.5,2,     1.08,2,     3.74,2,     0.01,2,     0.41,2,    1.956,2,    1.031,2, -999.000,1,-999.0000,1,  -999.00,9,   -999.0,1,-999.000,9,   -999.0,9,   -999.0,9,  -999.00,9, 2030.5,-999.0000,-999.000,-999.000, 21.3077,-999.000
   318MWESTW_5,  P21W,   236,  1,     30, SI9440,2,19940610,0217,-17.8305, 169.3333, 2650,    247.8,  19.6238,  35.6993,2,  35.6966,2,    165.3,2,    161.6,2,     1.82,2,     6.46,2,     0.00,2,     0.63,2,    1.732,2,    0.925,2, -999.000,1,-999.0000,1,  -999.00,9,   -999.0,1,-999.000,9,   -999.0,9,   -999.0,9,  -999.00,9, 2527.7,-999.0000,-999.000,-999.000, 19.5784,-999.000
   318MWESTW_5,  P21W,   236,  1,     29, SI9429,2,19940610,0217,-17.8305, 169.3333, 2650,    299.1,  17.6723,  35.4870,2,  35.4924,2,    147.0,2,    146.1,2,     3.71,2,     9.93,2,     0.01,2,     0.90,2,    1.472,2,    0.771,2, -999.000,1,-999.0000,1,  -999.00,9,   -999.0,1,-999.000,9,   -999.0,9,   -999.0,9,  -999.00,9, 3037.6,-999.0000,-999.000,-999.000, 17.6213,-999.000
   318MWESTW_5,  P21W,   236,  1,     28, SI9428,2,19940610,0217,-17.8305, 169.3333, 2650,    350.6,  15.1081,  35.2226,2,  35.2197,2,    159.0,2,    153.3,2,     5.18,2,    12.42,2,     0.00,2,     1.03,2, -999.000,9, -999.000,9, -999.000,1,-999.0000,1,  -999.00,9,   -999.0,1,-999.000,9,   -999.0,9,   -999.0,9,  -999.00,9, 3550.8,-999.0000,-999.000,-999.000, 15.0544,-999.000
   318MWESTW_5,  P21W,   236,  1,     27, SI9424,2,19940610,0217,-17.8305, 169.3333, 2650,    398.3,  13.7470,  35.0862,2,  35.0823,2,    165.3,2,    160.4,2,     5.91,2,    13.89,2,     0.00,2,     1.10,2,    1.228,2,    0.635,2, -999.000,1,-999.0000,1,  -999.00,9,   -999.0,1,-999.000,9,   -999.0,9,   -999.0,9,  -999.00,9, 4025.2,-999.0000,-999.000,-999.000, 13.6897,-999.000
   318MWESTW_5,  P21W,   236,  1,     26, SI9414,2,19940610,0217,-17.8305, 169.3333, 2650,    452.4,  11.4521,  34.8793,2,  34.8794,2,    178.9,2,    179.4,2,     6.66,2,    16.33,2,     0.00,2,     1.20,2, -999.000,9, -999.000,9, -999.000,1,-999.0000,1,  -999.00,9,   -999.0,1,-999.000,9,   -999.0,9,   -999.0,9,  -999.00,9, 4562.8,-999.0000,-999.000,-999.000, 11.3943,-999.000
   318MWESTW_5,  P21W,   236,  1,     25, SI9425,2,19940610,0217,-17.8305, 169.3333, 2650,    501.1,   9.9192,  34.7190,2,  34.7131,2,    183.3,2,    183.0,2,     8.70,2,    19.36,2,     0.00,2,     1.40,2,    0.897,6,    0.456,6, -999.000,1,-999.0000,1,  -999.00,9,   -999.0,1,-999.000,9,   -999.0,9,   -999.0,9,  -999.00,9, 5047.7,-999.0000,-999.000,-999.000,  9.8606,-999.000
   318MWESTW_5,  P21W,   236,  1,     24, SI9434,2,19940610,0217,-17.8305, 169.3333, 2650,    553.6,   8.5578,  34.5793,2,  34.5726,2,    186.1,2,    184.8,2,    12.04,2,    22.38,2,     0.00,2,     1.60,2, -999.000,9, -999.000,9, -999.000,1,-999.0000,1,  -999.00,9,   -999.0,1,-999.000,9,   -999.0,9,   -999.0,9,  -999.00,9, 5570.0,-999.0000,-999.000,-999.000,  8.4986,-999.000
   318MWESTW_5,  P21W,   236,  1,     23, SI9423,2,19940610,0217,-17.8305, 169.3333, 2650,    604.3,   6.8920,  34.4503,2,  34.4516,2,    185.1,2,    183.9,2,    19.17,2,    26.39,2,     0.00,2,     1.86,2,    0.308,2,    0.162,2, -999.000,1,-999.0000,1,  -999.00,9,   -999.0,1,-999.000,9,   -999.0,9,   -999.0,9,  -999.00,9, 6074.3,-999.0000,-999.000,-999.000,  6.8347,-999.000
   318MWESTW_5,  P21W,   236,  1,     22, SI9418,2,19940610,0217,-17.8305, 169.3333, 2650,    646.3,   6.2264,  34.4207,2,  34.4194,2,    183.5,2,    181.8,2,    24.11,2,    28.13,2,     0.00,2,     1.96,2, -999.000,9, -999.000,9, -999.000,1,-999.0000,1,  -999.00,9,   -999.0,1,-999.000,9,   -999.0,9,   -999.0,9,  -999.00,9, 6492.0,-999.0000,-999.000,-999.000,  6.1682,-999.000
   318MWESTW_5,  P21W,   236,  1,     21, SI9421,2,19940610,0217,-17.8305, 169.3333, 2650,    696.7,   5.8160,  34.4146,2,  34.4114,2,    179.7,2,    178.7,2,    28.77,2,    29.41,2,     0.00,2,     2.04,2,    0.125,2,    0.065,2, -999.000,1,-999.0000,1,  -999.00,9,   -999.0,1,-999.000,9,   -999.0,9,   -999.0,9,  -999.00,9, 6992.7,-999.0000,-999.000,-999.000,  5.7552,-999.000
   318MWESTW_5,  P21W,   236,  1,     20, SI9420,2,19940610,0217,-17.8305, 169.3333, 2650,    798.0,   5.0659,  34.4205,2,  34.4192,2,    171.3,2,    169.2,2,    39.66,2,    31.52,2,     0.00,2,     2.19,2, -999.000,9, -999.000,9, -999.000,1,-999.0000,1,  -999.00,9,   -999.0,1,-999.000,9,   -999.0,9,   -999.0,9,  -999.00,9, 7999.4,-999.0000,-999.000,-999.000,  5.0003,-999.000
   318MWESTW_5,  P21W,   236,  1,     19, SI9419,2,19940610,0217,-17.8305, 169.3333, 2650,    901.7,   4.6029,  34.4382,2,  34.4371,2,    165.4,2,    166.1,2,    48.37,2,    32.52,2,     0.00,2,     2.25,2,    0.027,2,    0.013,2, -999.000,1,-999.0000,1,  -999.00,9,   -999.0,1,-999.000,9,   -999.0,9,   -999.0,9,  -999.00,9, 9031.2,-999.0000,-999.000,-999.000,  4.5313,-999.000
   318MWESTW_5,  P21W,   236,  1,     18, SI9439,2,19940610,0217,-17.8305, 169.3333, 2650,    994.7,   4.1085,  34.4700,2,  34.4679,2,    161.2,2,    160.7,2,    60.42,2,    33.49,2,     0.00,2,     2.32,2,    0.013,2,    0.004,2, -999.000,1,-999.0000,1,  -999.00,9,   -999.0,1,-999.000,9,   -999.0,9,   -999.0,9,  -999.00,9, 9956.0,-999.0000,-999.000,-999.000,  4.0325,-999.000
   318MWESTW_5,  P21W,   236,  1,     17, SI9417,2,19940610,0217,-17.8305, 169.3333, 2650,   1095.9,   3.7513,  34.4962,2,  34.4952,2,    159.0,2,    158.1,2,    70.15,2,    33.95,2,     0.00,2,     2.35,2, -999.000,9, -999.000,9, -999.000,1,-999.0000,1,  -999.00,9,   -999.0,1,-999.000,9,   -999.0,9,   -999.0,9,  -999.00,9,10961.9,-999.0000,-999.000,-999.000,  3.6697,-999.000
   318MWESTW_5,  P21W,   236,  1,     16, SI9416,2,19940610,0217,-17.8305, 169.3333, 2650,   1199.5,   3.5335,  34.5176,2,  34.5168,2,    155.5,2,    154.4,2,    77.26,2,    34.36,2,     0.00,2,     2.39,2, -999.000,9, -999.000,9, -999.000,1,-999.0000,1,  -999.00,9,   -999.0,1,-999.000,9,   -999.0,9,   -999.0,9,  -999.00,9,11991.6,-999.0000,-999.000,-999.000,  3.4452,-999.000
   318MWESTW_5,  P21W,   236,  1,     15, SI9415,2,19940610,0217,-17.8305, 169.3333, 2650,   1301.1,   3.3148,  34.5382,2,  34.5364,2,    153.0,2,    151.8,2,    84.23,2,    34.59,2,     0.00,2,     2.41,2,    0.005,2,   -0.001,2, -999.000,1,-999.0000,1,  -999.00,9,   -999.0,1,-999.000,9,   -999.0,9,   -999.0,9,  -999.00,9,13001.7,-999.0000,-999.000,-999.000,  3.2202,-999.000
   318MWESTW_5,  P21W,   236,  1,     14, SI9436,2,19940610,0217,-17.8305, 169.3333, 2650,   1403.7,   3.1200,  34.5558,2,  34.5551,2,    151.2,2,    149.7,2,    90.62,2,    34.82,2,     0.00,2,     2.43,2,    0.002,2,   -0.002,2, -999.000,1,-999.0000,1,  -999.00,9,   -999.0,1,-999.000,9,   -999.0,9,   -999.0,9,  -999.00,9,14021.7,-999.0000,-999.000,-999.000,  3.0189,-999.000
   318MWESTW_5,  P21W,   236,  1,     13, SI9413,2,19940610,0217,-17.8305, 169.3333, 2650,   1504.8,   2.9571,  34.5694,2,  34.5704,2,    149.6,2,    149.1,2,    95.84,2,    34.91,2,     0.00,2,     2.44,2, -999.000,9, -999.000,9, -999.000,1,-999.0000,1,  -999.00,9,   -999.0,1,-999.000,9,   -999.0,9,   -999.0,9,  -999.00,9,15026.7,-999.0000,-999.000,-999.000,  2.8494,-999.000
   318MWESTW_5,  P21W,   236,  1,     12, SI9438,2,19940610,0217,-17.8305, 169.3333, 2650,   1596.8,   2.9203,  34.5742,2,  34.5724,2,    148.4,2,    148.4,2,    97.15,2,    35.00,2,     0.00,2,     2.44,2, -999.000,9, -999.000,9, -999.000,1,-999.0000,1,  -999.00,9,   -999.0,1,-999.000,9,   -999.0,9,   -999.0,9,  -999.00,9,15941.2,-999.0000,-999.000,-999.000,  2.8053,-999.000
   318MWESTW_5,  P21W,   236,  1,     11, SI9411,2,19940610,0217,-17.8305, 169.3333, 2650,   1700.3,   2.8180,  34.5834,2,  34.5830,2,    148.2,2,    148.3,2,   100.35,2,    35.13,2,     0.01,2,     2.44,2, -999.000,9, -999.000,9, -999.000,1,-999.0000,1,  -999.00,9,   -999.0,1,-999.000,9,   -999.0,9,   -999.0,9,  -999.00,9,16970.8,-999.0000,-999.000,-999.000,  2.6955,-999.000
   318MWESTW_5,  P21W,   236,  1,     10, SI9412,2,19940610,0217,-17.8305, 169.3333, 2650,   1804.1,   2.7546,  34.5893,2,  34.5891,2,    148.4,2,    147.8,2,   102.25,2,    35.28,2,     0.00,2,     2.45,2,   -0.002,2,   -0.004,2, -999.000,1,-999.0000,1,  -999.00,9,   -999.0,1,-999.000,9,   -999.0,9,   -999.0,9,  -999.00,9,18002.3,-999.0000,-999.000,-999.000,  2.6240,-999.000
   318MWESTW_5,  P21W,   236,  1,      9, SI9410,2,19940610,0217,-17.8305, 169.3333, 2650,   1896.2,   2.7495,  34.5908,2,  34.5897,2,    147.9,2,    147.6,2,   102.68,2,    35.31,2,     0.01,2,     2.46,2, -999.000,9, -999.000,9, -999.000,1,-999.0000,1,  -999.00,9,   -999.0,1,-999.000,9,   -999.0,9,   -999.0,9,  -999.00,9,18917.9,-999.0000,-999.000,-999.000,  2.6110,-999.000
   318MWESTW_5,  P21W,   236,  1,      8, SI9422,2,19940610,0217,-17.8305, 169.3333, 2650,   1999.4,   2.7489,  34.5916,2,  34.5901,2,    148.4,2,    148.0,2,   102.98,2,    35.37,2,     0.00,2,     2.46,2, -999.000,9, -999.000,9, -999.000,1,-999.0000,1,  -999.00,9,   -999.0,1,-999.000,9,   -999.0,9,   -999.0,9,  -999.00,9,19943.9,-999.0000,-999.000,-999.000,  2.6013,-999.000
   318MWESTW_5,  P21W,   236,  1,      7, SI9407,2,19940610,0217,-17.8305, 169.3333, 2650,   2102.3,   2.7441,  34.5928,2,  34.5920,2,    147.8,2,    147.5,2,   103.27,2,    35.36,2,     0.01,2,     2.46,2, -999.000,9, -999.000,9, -999.000,1,-999.0000,1,  -999.00,9,   -999.0,1,-999.000,9,   -999.0,9,   -999.0,9,  -999.00,9,20967.1,-999.0000,-999.000,-999.000,  2.5874,-999.000
   318MWESTW_5,  P21W,   236,  1,      6, SI9427,2,19940610,0217,-17.8305, 169.3333, 2650,   2206.3,   2.7390,  34.5935,2,  34.5928,2,    147.8,2,    147.7,2,   103.86,2,    35.36,2,     0.01,2,     2.46,2,   -0.001,2,   -0.003,2, -999.000,1,-999.0000,1,  -999.00,9,   -999.0,1,-999.000,9,   -999.0,9,   -999.0,9,  -999.00,9,22000.3,-999.0000,-999.000,-999.000,  2.5729,-999.000
   318MWESTW_5,  P21W,   236,  1,      5, SI9405,2,19940610,0217,-17.8305, 169.3333, 2650,   2298.3,   2.7381,  34.5950,2,  34.5930,2,    147.6,2,    147.3,2,   104.44,2,    35.27,2,     0.01,2,     2.47,2, -999.000,9, -999.000,9, -999.000,1,-999.0000,1,  -999.00,9,   -999.0,1,-999.000,9,   -999.0,9,   -999.0,9,  -999.00,9,22915.0,-999.0000,-999.000,-999.000,  2.5635,-999.000
   318MWESTW_5,  P21W,   236,  1,      4, SI9404,2,19940610,0217,-17.8305, 169.3333, 2650,   2403.3,   2.7440,  34.5962,2,  34.5938,2,    147.6,2,    146.9,2,   104.42,2,    35.21,2,     0.00,2,     2.46,2, -999.000,9, -999.000,9, -999.000,1,-999.0000,1,  -999.00,9,   -999.0,1,-999.000,9,   -999.0,9,   -999.0,9,  -999.00,9,23959.1,-999.0000,-999.000,-999.000,  2.5594,-999.000
   318MWESTW_5,  P21W,   236,  1,      3, SI9403,2,19940610,0217,-17.8305, 169.3333, 2650,   2495.0,   2.7510,  34.5954,2,  34.5942,2,    148.3,2,    147.8,2,   104.43,2,    35.21,2,     0.00,2,     2.46,2, -999.000,9, -999.000,9, -999.000,1,-999.0000,1,  -999.00,9,   -999.0,1,-999.000,9,   -999.0,9,   -999.0,9,  -999.00,9,24870.5,-999.0000,-999.000,-999.000,  2.5575,-999.000
   318MWESTW_5,  P21W,   236,  1,      2, SI9437,2,19940610,0217,-17.8305, 169.3333, 2650,   2630.6,   2.7640,  34.5960,2,  34.5940,2,    147.7,2,    147.7,2,   104.37,2,    35.23,2,     0.00,2,     2.45,2, -999.000,9, -999.000,9, -999.000,1,-999.0000,1,  -999.00,9,   -999.0,1,-999.000,9,   -999.0,9,   -999.0,9,  -999.00,9,26218.0,-999.0000,-999.000,-999.000,  2.5571,-999.000
   318MWESTW_5,  P21W,   236,  1,      1, SI9401,2,19940610,0217,-17.8305, 169.3333, 2650,   2670.4,   2.7684,  34.5956,2,  34.5938,2,    147.7,2,    147.7,2,   104.34,2,    35.34,2,     0.00,2,     2.45,2,   -0.001,2,   -0.005,2, -999.000,1,-999.0000,1,  -999.00,9,   -999.0,1,-999.000,9,   -999.0,9,   -999.0,9,  -999.00,9,26613.7,-999.0000,-999.000,-999.000,  2.5575,-999.000