BOTTLE,20010911WHPSIOdm
EXPOCODE,SECT_ID,STNNBR,CASTNO,SAMPNO,BTLNBR,BTLNBR_FLAG_W,DATE,TIME,LATITUDE,LONGITUDE,DEPTH,CTDPRS,CTDTMP,CTDSAL,CTDSAL_FLAG_W,SALNTY,SALNTY_FLAG_W,CTDOXY,CTDOXY_FLAG_W,OXYGEN,OXYGEN_FLAG_W,SILCAT,SILCAT_FLAG_W,NITRAT,NITRAT_FLAG_W,NITRIT,NITRIT_FLAG_W,PHSPHT,PHSPHT_FLAG_W,CFC-11,CFC-11_FLAG_W,CFC-12,CFC-12_FLAG_W,TRITUM,TRITUM_FLAG_W,HELIUM,HELIUM_FLAG_W,DELHE3,DELHE3_FLAG_W,DELC14,DELC14_FLAG_W,NEON,NEON_FLAG_W,TCARBN,TCARBN_FLAG_W,ALKALI,ALKALI_FLAG_W,PH,PH_FLAG_W,CTDRAW,HELIER,DELHER,NEONER,THETA,TRITER
,,,,,,,,,,,,DBAR,ITS-90,PSS-78,,PSS-78,,UMOL/KG,,UMOL/KG,,UMOL/KG,,UMOL/KG,,UMOL/KG,,UMOL/KG,,PMOL/KG,,PMOL/KG,,TU,,UMOL/KG,,PERCNT,,/MILLE,,NMOL/KG,,UMOL/KG,,UMOL/KG,,,,,NMOL/KG,PERCNT,NMOL/KG,ITS-90,TU
   318MWESTW_4,  P21E,    38,  1,     36, SI9336,2,19940407,1148,-16.7528, -84.6667, 4602,      8.7,  23.2008,  35.8017,2,  35.8005,2,    227.4,2,   -999.0,9,     0.58,2,    -0.06,2,     0.02,2,     0.49,2,    1.975,2,    1.078,2, -999.000,1,-999.0000,1,  -999.00,9,   -999.0,1,-999.000,9,   -999.0,9,   -999.0,9,  -999.00,9,  132.2,-999.0000,-999.000,-999.000, 23.1990,-999.000
   318MWESTW_4,  P21E,    38,  1,     35, SI9335,2,19940407,1148,-16.7528, -84.6667, 4602,     24.3,  23.2082,  35.7990,2,  35.7989,2,    223.0,2,   -999.0,9,     0.76,2,    -0.01,2,     0.02,2,     0.49,2,    1.969,2,    1.057,2, -999.000,1,-999.0000,1,  -999.00,9,   -999.0,1,-999.000,9,   -999.0,9,   -999.0,9,  -999.00,9,  288.2,-999.0000,-999.000,-999.000, 23.2032,-999.000
   318MWESTW_4,  P21E,    38,  1,     34, SI9334,2,19940407,1148,-16.7528, -84.6667, 4602,     50.8,  20.7977,  35.3322,3,  35.5028,2,    230.8,2,   -999.0,9,     0.96,2,     1.13,2,     0.08,2,     0.60,2, -999.000,5, -999.000,5, -999.000,1,-999.0000,1,  -999.00,9,   -999.0,1,-999.000,9,   -999.0,9,   -999.0,9,  -999.00,9,  553.3,-999.0000,-999.000,-999.000, 20.7880,-999.000
   318MWESTW_4,  P21E,    38,  1,     33, SI9333,2,19940407,1148,-16.7528, -84.6667, 4602,    100.3,  17.4657,  35.2655,2,  35.2820,2,    199.7,2,   -999.0,9,     2.77,2,     8.09,2,     0.06,2,     1.00,2,    2.515,2,    1.284,2, -999.000,1,-999.0000,1,  -999.00,9,   -999.0,1,-999.000,9,   -999.0,9,   -999.0,9,  -999.00,9, 1048.2,-999.0000,-999.000,-999.000, 17.4488,-999.000
   318MWESTW_4,  P21E,    38,  1,     32, SI9332,2,19940407,1148,-16.7528, -84.6667, 4602,    148.1,  13.9216,  34.7087,2,  34.7632,2,     97.3,2,   -999.0,9,     6.59,2,    15.23,2,     0.03,2,     1.53,2,    2.001,2,    0.986,2, -999.000,1,-999.0000,1,  -999.00,9,   -999.0,1,-999.000,9,   -999.0,9,   -999.0,9,  -999.00,9, 1525.6,-999.0000,-999.000,-999.000, 13.9004,-999.000
   318MWESTW_4,  P21E,    38,  1,     31, SI9331,2,19940407,1148,-16.7528, -84.6667, 4602,    199.9,  11.5498,  34.6932,2,  34.6066,2,     43.1,2,   -999.0,9,    16.93,2,    21.85,2,     0.02,2,     2.27,2,    0.835,2,    0.383,2, -999.000,1,-999.0000,1,  -999.00,9,   -999.0,1,-999.000,9,   -999.0,9,   -999.0,9,  -999.00,9, 2043.1,-999.0000,-999.000,-999.000, 11.5244,-999.000
   318MWESTW_4,  P21E,    38,  1,     30, SI9330,2,19940407,1148,-16.7528, -84.6667, 4602,    254.6,  10.8472,  34.7485,2,  34.7160,2,      3.5,2,   -999.0,9,    26.00,2,    28.13,2,     0.02,2,     2.70,2,    0.177,2,    0.084,2, -999.000,1,-999.0000,1,  -999.00,9,   -999.0,1,-999.000,9,   -999.0,9,   -999.0,9,  -999.00,9, 2589.3,-999.0000,-999.000,-999.000, 10.8161,-999.000
   318MWESTW_4,  P21E,    38,  1,     29, SI9329,2,19940407,1148,-16.7528, -84.6667, 4602,    299.4,  10.2809,  34.7297,2,  34.7309,2,      1.0,2,   -999.0,9,    29.99,2,    31.64,2,     0.25,2,     2.77,2,    0.054,2,    0.026,2, -999.000,1,-999.0000,1,  -999.00,9,   -999.0,1,-999.000,9,   -999.0,9,   -999.0,9,  -999.00,9, 3037.2,-999.0000,-999.000,-999.000, 10.2455,-999.000
   318MWESTW_4,  P21E,    38,  1,     28, SI9328,2,19940407,1148,-16.7528, -84.6667, 4602,    398.2,   8.7091,  34.6402,2,  34.6256,2,      4.4,2,   -999.0,9,    32.54,2,    38.34,2,     0.01,2,     2.85,2,    0.015,2,    0.005,2, -999.000,1,-999.0000,1,  -999.00,9,   -999.0,1,-999.000,9,   -999.0,9,   -999.0,9,  -999.00,9, 4023.7,-999.0000,-999.000,-999.000,  8.6664,-999.000
   318MWESTW_4,  P21E,    38,  1,     27, SI9327,2,19940407,1148,-16.7528, -84.6667, 4602,    498.6,   7.3474,  34.5586,2,  34.5502,2,     23.6,2,   -999.0,9,    37.25,2,    41.04,2,     0.01,2,     2.96,2,    0.006,2,    0.001,2, -999.000,1,-999.0000,1,  -999.00,9,   -999.0,1,-999.000,9,   -999.0,9,   -999.0,9,  -999.00,9, 5026.5,-999.0000,-999.000,-999.000,  7.2987,-999.000
   318MWESTW_4,  P21E,    38,  1,     26, SI9326,2,19940407,1148,-16.7528, -84.6667, 4602,    600.2,   6.3967,  34.5124,2,  34.5117,2,     38.4,2,   -999.0,9,    43.42,2,    42.31,2,     0.01,2,     3.02,2,    0.000,2,   -0.001,2, -999.000,1,-999.0000,1,  -999.00,9,   -999.0,1,-999.000,9,   -999.0,9,   -999.0,9,  -999.00,9, 6041.6,-999.0000,-999.000,-999.000,  6.3420,-999.000
   318MWESTW_4,  P21E,    38,  1,     25, SI9325,2,19940407,1148,-16.7528, -84.6667, 4602,    701.4,   5.7113,  34.5067,2,  34.5074,2,     34.5,2,   -999.0,9,    53.40,2,    43.70,2,     0.00,2,     3.13,2,   -0.002,2,   -0.003,2, -999.000,1,-999.0000,1,  -999.00,9,   -999.0,1,-999.000,9,   -999.0,9,   -999.0,9,  -999.00,9, 7052.5,-999.0000,-999.000,-999.000,  5.6506,-999.000
   318MWESTW_4,  P21E,    38,  1,     24, SI9324,2,19940407,1148,-16.7528, -84.6667, 4602,    800.8,   5.1576,  34.5028,2,  34.5044,2,     40.7,2,   -999.0,9,    61.38,2,    44.14,2,     0.00,2,     3.13,2,   -0.004,2,   -0.004,2, -999.000,1,-999.0000,1,  -999.00,9,   -999.0,1,-999.000,9,   -999.0,9,   -999.0,9,  -999.00,9, 8045.1,-999.0000,-999.000,-999.000,  5.0911,-999.000
   318MWESTW_4,  P21E,    38,  1,     23, SI9323,2,19940407,1148,-16.7528, -84.6667, 4602,    898.7,   4.7180,  34.5163,2,  34.5190,2,     47.1,2,   -999.0,9,    71.54,2,    43.92,2,     0.00,2,     3.14,2,   -0.004,2,   -0.004,2, -999.000,1,-999.0000,1,  -999.00,9,   -999.0,1,-999.000,9,   -999.0,9,   -999.0,9,  -999.00,9, 9023.3,-999.0000,-999.000,-999.000,  4.6457,-999.000
   318MWESTW_4,  P21E,    38,  1,     22, SI9322,2,19940407,1148,-16.7528, -84.6667, 4602,   1002.1,   4.3006,  34.5271,2,  34.5272,2,     58.6,2,   -999.0,9,    78.97,2,    43.03,2,     0.00,2,     3.09,2,   -0.004,2,   -0.001,2, -999.000,1,-999.0000,1,  -999.00,9,   -999.0,1,-999.000,9,   -999.0,9,   -999.0,9,  -999.00,9,10055.7,-999.0000,-999.000,-999.000,  4.2224,-999.000
   318MWESTW_4,  P21E,    38,  1,     21, SI9321,2,19940407,1148,-16.7528, -84.6667, 4602,   1100.3,   3.9937,  34.5374,2,  34.5409,2,     69.9,2,   -999.0,9,    86.23,2,    42.55,2,    -0.01,2,     3.06,2, -999.000,9, -999.000,9, -999.000,1,-999.0000,1,  -999.00,9,   -999.0,1,-999.000,9,   -999.0,9,   -999.0,9,  -999.00,9,11037.5,-999.0000,-999.000,-999.000,  3.9096,-999.000
   318MWESTW_4,  P21E,    38,  1,     20, SI9320,2,19940407,1148,-16.7528, -84.6667, 4602,   1202.4,   3.6087,  34.5528,2,  34.5514,2,     81.6,2,   -999.0,9,    92.21,2,    41.71,2,     0.00,2,     2.97,2, -999.000,9, -999.000,9, -999.000,1,-999.0000,1,  -999.00,9,   -999.0,1,-999.000,9,   -999.0,9,   -999.0,9,  -999.00,9,12057.2,-999.0000,-999.000,-999.000,  3.5194,-999.000
   318MWESTW_4,  P21E,    38,  1,     19, SI9319,2,19940407,1148,-16.7528, -84.6667, 4602,   1298.6,   3.3599,  34.5676,2,  34.5681,2,     83.4,2,   -999.0,9,   100.01,2,    41.44,2,     0.00,2,     2.95,2, -999.000,9, -999.000,9, -999.000,1,-999.0000,1,  -999.00,9,   -999.0,1,-999.000,9,   -999.0,9,   -999.0,9,  -999.00,9,13018.0,-999.0000,-999.000,-999.000,  3.2650,-999.000
   318MWESTW_4,  P21E,    38,  1,     18, SI9318,2,19940407,1148,-16.7528, -84.6667, 4602,   1394.7,   3.1203,  34.5800,2,  34.5793,2,     91.6,2,   -999.0,9,   104.18,2,    40.82,2,     0.00,2,     2.91,2, -999.000,9, -999.000,9, -999.000,1,-999.0000,1,  -999.00,9,   -999.0,1,-999.000,9,   -999.0,9,   -999.0,9,  -999.00,9,13977.8,-999.0000,-999.000,-999.000,  3.0199,-999.000
   318MWESTW_4,  P21E,    38,  1,     17, SI9317,2,19940407,1148,-16.7528, -84.6667, 4602,   1500.2,   2.9049,  34.5958,2,  34.5959,2,     95.2,2,   -999.0,9,   111.06,2,    40.43,2,     0.01,2,     2.89,2, -999.000,9, -999.000,9, -999.000,1,-999.0000,1,  -999.00,9,   -999.0,1,-999.000,9,   -999.0,9,   -999.0,9,  -999.00,9,15031.3,-999.0000,-999.000,-999.000,  2.7981,-999.000
   318MWESTW_4,  P21E,    38,  1,     16, SI9316,2,19940407,1148,-16.7528, -84.6667, 4602,   1599.5,   2.7220,  34.6075,2,  34.6085,2,     96.7,2,   -999.0,9,   117.05,2,    40.12,2,    -0.01,2,     2.88,2, -999.000,9, -999.000,9, -999.000,1,-999.0000,1,  -999.00,9,   -999.0,1,-999.000,9,   -999.0,9,   -999.0,9,  -999.00,9,16024.1,-999.0000,-999.000,-999.000,  2.6091,-999.000
   318MWESTW_4,  P21E,    38,  1,     15, SI9315,2,19940407,1148,-16.7528, -84.6667, 4602,   1806.6,   2.4034,  34.6267,2,  34.6284,2,    112.4,2,   -999.0,9,   122.85,2,    38.83,2,     0.00,2,     2.77,2, -999.000,9, -999.000,9, -999.000,1,-999.0000,1,  -999.00,9,   -999.0,1,-999.000,9,   -999.0,9,   -999.0,9,  -999.00,9,18093.1,-999.0000,-999.000,-999.000,  2.2773,-999.000
   318MWESTW_4,  P21E,    38,  1,     14, SI9314,2,19940407,1148,-16.7528, -84.6667, 4602,   2001.7,   2.2076,  34.6421,2,  34.6427,2,    119.7,2,   -999.0,9,   126.47,2,    38.06,2,     0.00,2,     2.71,2, -999.000,9, -999.000,9, -999.000,1,-999.0000,1,  -999.00,9,   -999.0,1,-999.000,9,   -999.0,9,   -999.0,9,  -999.00,9,20042.2,-999.0000,-999.000,-999.000,  2.0678,-999.000
   318MWESTW_4,  P21E,    38,  1,     13, SI9313,2,19940407,1148,-16.7528, -84.6667, 4602,   2210.3,   2.0218,  34.6563,2,  34.6570,2,    128.6,2,   -999.0,9,   129.01,2,    37.45,2,     0.00,2,     2.64,2, -999.000,9, -999.000,9, -999.000,1,-999.0000,1,  -999.00,9,   -999.0,1,-999.000,9,   -999.0,9,   -999.0,9,  -999.00,9,22125.5,-999.0000,-999.000,-999.000,  1.8670,-999.000
   318MWESTW_4,  P21E,    38,  1,     12, SI9312,2,19940407,1148,-16.7528, -84.6667, 4602,   2404.2,   1.9024,  34.6658,2,  34.6673,2,    136.8,2,   -999.0,9,   130.28,2,    36.90,2,     0.00,2,     2.59,2, -999.000,9, -999.000,9, -999.000,1,-999.0000,1,  -999.00,9,   -999.0,1,-999.000,9,   -999.0,9,   -999.0,9,  -999.00,9,24063.7,-999.0000,-999.000,-999.000,  1.7325,-999.000
   318MWESTW_4,  P21E,    38,  1,     11, SI9311,2,19940407,1148,-16.7528, -84.6667, 4602,   2603.0,   1.8439,  34.6719,2,  34.6726,2,    136.7,2,   -999.0,9,   135.54,2,    37.23,2,     0.00,2,     2.60,2, -999.000,9, -999.000,9, -999.000,1,-999.0000,1,  -999.00,9,   -999.0,1,-999.000,9,   -999.0,9,   -999.0,9,  -999.00,9,26049.9,-999.0000,-999.000,-999.000,  1.6571,-999.000
   318MWESTW_4,  P21E,    38,  1,     10, SI9310,2,19940407,1148,-16.7528, -84.6667, 4602,   2799.0,   1.8109,  34.6763,2,  34.6767,2,    135.8,2,   -999.0,9,   137.53,2,    37.17,2,     0.00,2,     2.59,2, -999.000,9, -999.000,9, -999.000,1,-999.0000,1,  -999.00,9,   -999.0,1,-999.000,9,   -999.0,9,   -999.0,9,  -999.00,9,28008.0,-999.0000,-999.000,-999.000,  1.6065,-999.000
   318MWESTW_4,  P21E,    38,  1,      9, SI9309,2,19940407,1148,-16.7528, -84.6667, 4602,   3006.4,   1.7968,  34.6794,2,  34.6793,2,    135.2,2,   -999.0,9,   139.17,2,    37.11,2,     0.00,2,     2.59,2, -999.000,9, -999.000,9, -999.000,1,-999.0000,1,  -999.00,9,   -999.0,1,-999.000,9,   -999.0,9,   -999.0,9,  -999.00,9,30080.7,-999.0000,-999.000,-999.000,  1.5728,-999.000
   318MWESTW_4,  P21E,    38,  1,      8, SI9308,2,19940407,1148,-16.7528, -84.6667, 4602,   3255.8,   1.7907,  34.6820,2,  34.6818,2,    138.5,2,   -999.0,9,   137.00,2,    36.56,2,     0.00,2,     2.57,2, -999.000,9, -999.000,9, -999.000,1,-999.0000,1,  -999.00,9,   -999.0,1,-999.000,9,   -999.0,9,   -999.0,9,  -999.00,9,32573.6,-999.0000,-999.000,-999.000,  1.5422,-999.000
   318MWESTW_4,  P21E,    38,  1,      7, SI9307,2,19940407,1148,-16.7528, -84.6667, 4602,   3504.3,   1.7857,  34.6846,2,  34.6848,2,    142.1,2,   -999.0,9,   136.27,2,    36.22,2,     0.00,2,     2.55,2, -999.000,9, -999.000,9, -999.000,1,-999.0000,1,  -999.00,9,   -999.0,1,-999.000,9,   -999.0,9,   -999.0,9,  -999.00,9,35056.4,-999.0000,-999.000,-999.000,  1.5119,-999.000
   318MWESTW_4,  P21E,    38,  1,      6, SI9306,2,19940407,1148,-16.7528, -84.6667, 4602,   3752.1,   1.7750,  34.6873,2,  34.6865,2,    146.8,2,   -999.0,9,   133.55,2,    35.85,2,    -0.01,2,     2.52,2, -999.000,9, -999.000,9, -999.000,1,-999.0000,1,  -999.00,9,   -999.0,1,-999.000,9,   -999.0,9,   -999.0,9,  -999.00,9,37533.2,-999.0000,-999.000,-999.000,  1.4753,-999.000
   318MWESTW_4,  P21E,    38,  1,      5, SI9305,2,19940407,1148,-16.7528, -84.6667, 4602,   4001.6,   1.7654,  34.6893,2,  34.6897,2,    152.2,2,   -999.0,9,   130.30,2,    35.51,2,     0.00,2,     2.48,2, -999.000,9, -999.000,9, -999.000,1,-999.0000,1,  -999.00,9,   -999.0,1,-999.000,9,   -999.0,9,   -999.0,9,  -999.00,9,40027.6,-999.0000,-999.000,-999.000,  1.4388,-999.000
   318MWESTW_4,  P21E,    38,  1,      4, SI9304,2,19940407,1148,-16.7528, -84.6667, 4602,   4240.9,   1.7711,  34.6913,2,  34.6903,2,    153.8,2,   -999.0,9,   129.40,2,    35.46,2,    -0.01,2,     2.47,2, -999.000,9, -999.000,9, -999.000,1,-999.0000,1,  -999.00,9,   -999.0,1,-999.000,9,   -999.0,9,   -999.0,9,  -999.00,9,42418.8,-999.0000,-999.000,-999.000,  1.4175,-999.000
   318MWESTW_4,  P21E,    38,  1,      3, SI9303,2,19940407,1148,-16.7528, -84.6667, 4602,   4502.9,   1.7973,  34.6919,2,  34.6899,2,    152.1,2,   -999.0,9,   129.58,2,    35.50,2,     0.00,2,     2.47,2, -999.000,9, -999.000,9, -999.000,1,-999.0000,1,  -999.00,9,   -999.0,1,-999.000,9,   -999.0,9,   -999.0,9,  -999.00,9,45038.0,-999.0000,-999.000,-999.000,  1.4127,-999.000
   318MWESTW_4,  P21E,    38,  1,      2, SI9302,2,19940407,1148,-16.7528, -84.6667, 4602,   4616.7,   1.8114,  34.6917,2,  34.6910,2,    151.9,2,   -999.0,9,   129.40,2,    35.50,2,     0.00,2,     2.47,2, -999.000,9, -999.000,9, -999.000,1,-999.0000,1,  -999.00,9,   -999.0,1,-999.000,9,   -999.0,9,   -999.0,9,  -999.00,9,46176.2,-999.0000,-999.000,-999.000,  1.4130,-999.000
   318MWESTW_4,  P21E,    38,  1,      1, SI9301,2,19940407,1148,-16.7528, -84.6667, 4602,   4658.8,   1.8167,  34.6914,2,  34.6897,2,    151.7,2,   -999.0,9,   129.35,2,    35.21,2,     0.00,2,     2.47,2, -999.000,9, -999.000,9, -999.000,1,-999.0000,1,  -999.00,9,   -999.0,1,-999.000,9,   -999.0,9,   -999.0,9,  -999.00,9,46596.7,-999.0000,-999.000,-999.000,  1.4131,-999.000