BOTTLE,20010911WHPSIOdm
EXPOCODE,SECT_ID,STNNBR,CASTNO,SAMPNO,BTLNBR,BTLNBR_FLAG_W,DATE,TIME,LATITUDE,LONGITUDE,DEPTH,CTDPRS,CTDTMP,CTDSAL,CTDSAL_FLAG_W,SALNTY,SALNTY_FLAG_W,CTDOXY,CTDOXY_FLAG_W,OXYGEN,OXYGEN_FLAG_W,SILCAT,SILCAT_FLAG_W,NITRAT,NITRAT_FLAG_W,NITRIT,NITRIT_FLAG_W,PHSPHT,PHSPHT_FLAG_W,CFC-11,CFC-11_FLAG_W,CFC-12,CFC-12_FLAG_W,TRITUM,TRITUM_FLAG_W,HELIUM,HELIUM_FLAG_W,DELHE3,DELHE3_FLAG_W,DELC14,DELC14_FLAG_W,NEON,NEON_FLAG_W,TCARBN,TCARBN_FLAG_W,ALKALI,ALKALI_FLAG_W,PH,PH_FLAG_W,CTDRAW,HELIER,DELHER,NEONER,THETA,TRITER
,,,,,,,,,,,,DBAR,ITS-90,PSS-78,,PSS-78,,UMOL/KG,,UMOL/KG,,UMOL/KG,,UMOL/KG,,UMOL/KG,,UMOL/KG,,PMOL/KG,,PMOL/KG,,TU,,UMOL/KG,,PERCNT,,/MILLE,,NMOL/KG,,UMOL/KG,,UMOL/KG,,,,,NMOL/KG,PERCNT,NMOL/KG,ITS-90,TU
   318MWESTW_5,  P21W,   180,  1,     36, SI9442,2,19940526,0206,-17.4972,-159.6695, 5110,      5.7,  27.7784,  35.5626,2,  35.5638,2,    201.4,2,    210.2,2,     0.73,2,     0.00,2,     0.00,2,     0.18,2,    1.657,2,    0.953,2, -999.000,1,-999.0000,1,  -999.00,9,   -999.0,1,-999.000,9,   1961.7,2,   2337.8,2,     8.14,2,  115.4,-999.0000,-999.000,-999.000, 27.7771,-999.000
   318MWESTW_5,  P21W,   180,  1,     35, SI9435,2,19940526,0206,-17.4972,-159.6695, 5110,     23.6,  27.7205,  35.5628,2,  35.5628,2,    204.0,2,    213.5,2,     0.73,2,     0.00,2,     0.00,2,     0.19,2, -999.000,9, -999.000,9, -999.000,1,-999.0000,1,  -999.00,9,   -999.0,1,-999.000,9,   1961.5,2,   2341.0,2,     8.14,2,  294.2,-999.0000,-999.000,-999.000, 27.7150,-999.000
   318MWESTW_5,  P21W,   180,  1,     34, SI9441,2,19940526,0206,-17.4972,-159.6695, 5110,     48.5,  27.7138,  35.5634,2,  35.5638,2,    206.5,2,    211.2,2,     0.74,2,     0.01,2,     0.00,2,     0.19,2,    1.674,2,    0.948,2, -999.000,1,-999.0000,1,  -999.00,9,   -999.0,1,-999.000,9,   1959.7,2,   2335.7,2,     8.13,2,  543.0,-999.0000,-999.000,-999.000, 27.7024,-999.000
   318MWESTW_5,  P21W,   180,  1,     33, SI9433,2,19940526,0206,-17.4972,-159.6695, 5110,     98.6,  25.6701,  36.0062,2,  35.9890,2,    209.4,2,     89.8,4,     0.74,2,     0.07,2,     0.00,2,     0.21,2,    1.842,2,    1.025,2, -999.000,1,-999.0000,1,  -999.00,9,   -999.0,1,-999.000,9,   2006.6,2,   2365.0,2,     8.10,2, 1042.2,-999.0000,-999.000,-999.000, 25.6482,-999.000
   318MWESTW_5,  P21W,   180,  1,     32, SI9432,2,19940526,0206,-17.4972,-159.6695, 5110,    149.2,  23.1067,  35.8630,2,  35.8599,2,    203.9,2,    207.3,2,     0.59,2,     0.12,2,     0.05,2,     0.21,2, -999.000,9, -999.000,9, -999.000,1,-999.0000,1,  -999.00,9,   -999.0,1,-999.000,9,   2022.4,2,   2360.3,2,     8.06,2, 1545.8,-999.0000,-999.000,-999.000, 23.0760,-999.000
   318MWESTW_5,  P21W,   180,  1,     31, SI9431,2,19940526,0206,-17.4972,-159.6695, 5110,    200.2,  21.3010,  35.7740,2,  35.7728,2,    194.4,2,    192.1,2,     0.75,2,     1.28,2,     0.02,2,     0.29,2,    2.047,2,    1.120,2, -999.000,1,-999.0000,1,  -999.00,9,   -999.0,1,-999.000,9,   2038.8,2,   2346.8,2,     8.02,2, 2053.2,-999.0000,-999.000,-999.000, 21.2621,-999.000
   318MWESTW_5,  P21W,   180,  1,     30, SI9440,2,19940526,0206,-17.4972,-159.6695, 5110,    250.5,  19.2907,  35.6324,2,  35.6100,3,    186.3,2,    182.1,2,     1.23,2,     3.80,2,     0.01,2,     0.48,2, -999.000,9, -999.000,9, -999.000,1,-999.0000,1,  -999.00,9,   -999.0,1,-999.000,9,   2069.7,2,   2339.5,2,     7.96,2, 2554.1,-999.0000,-999.000,-999.000, 19.2453,-999.000
   318MWESTW_5,  P21W,   180,  1,     29, SI9429,2,19940526,0206,-17.4972,-159.6695, 5110,    330.6,  15.4999,  35.2014,2,  35.2002,2,    178.3,2,    174.0,2,     3.17,2,     9.04,2,     0.00,2,     0.84,2,    1.523,2,    0.796,2, -999.000,1,-999.0000,1,  -999.00,9,   -999.0,1,-999.000,9,   2098.3,2,   2316.1,2,     7.87,2, 3351.3,-999.0000,-999.000,-999.000, 15.4484,-999.000
   318MWESTW_5,  P21W,   180,  1,     28, SI9428,2,19940526,0206,-17.4972,-159.6695, 5110,    402.7,  11.7267,  34.7923,2,  34.7840,2,    170.9,2,    163.7,2,     7.68,2,    17.11,2,     0.00,2,     1.37,2,    0.920,2,    0.468,2, -999.000,1,-999.0000,1,  -999.00,9,   -999.0,1,-999.000,9,   2134.7,2,   2296.7,2,     7.75,2, 4068.4,-999.0000,-999.000,-999.000, 11.6746,-999.000
   318MWESTW_5,  P21W,   180,  1,     27, SI9424,2,19940526,0206,-17.4972,-159.6695, 5110,    504.5,   8.3658,  34.5028,2,  34.4995,2,    170.2,2,    170.2,2,    13.00,2,    24.23,2,     0.01,2,     1.78,2,    0.496,2,    0.258,2, -999.000,1,-999.0000,1,  -999.00,9,   -999.0,1,-999.000,9,   2161.8,2,   2286.7,2,     7.66,2, 5081.1,-999.0000,-999.000,-999.000,  8.3127,-999.000
   318MWESTW_5,  P21W,   180,  1,     26, SI9414,2,19940526,0206,-17.4972,-159.6695, 5110,    606.0,   6.3402,  34.3927,2,  34.3923,2,    182.0,2,    182.1,2,    20.58,2,    28.49,2,     0.00,2,     2.01,2,    0.208,2,    0.110,2, -999.000,1,-999.0000,1,  -999.00,9,   -999.0,1,-999.000,9,   2179.2,2,   2290.8,2,     7.63,2, 6090.5,-999.0000,-999.000,-999.000,  6.2853,-999.000
   318MWESTW_5,  P21W,   180,  1,     25, SI9425,2,19940526,0206,-17.4972,-159.6695, 5110,    697.1,   5.4938,  34.4032,2,  34.4037,2,    171.3,2,    168.7,2,    32.67,2,    31.42,2,     0.02,2,     2.20,2,    0.053,6,    0.034,6, -999.000,1,-999.0000,1,  -999.00,9,   -999.0,1,-999.000,9,   2202.7,2,   2301.8,2,     7.59,2, 6996.3,-999.0000,-999.000,-999.000,  5.4347,-999.000
   318MWESTW_5,  P21W,   180,  1,     24, SI9434,2,19940526,0206,-17.4972,-159.6695, 5110,    789.9,   4.8784,  34.4367,2,  34.4373,2,    159.2,2,    157.7,2,    45.74,2,    33.30,2,     0.01,2,     2.34,2,    0.010,2,    0.008,2, -999.000,1,-999.0000,1,  -999.00,9,   -999.0,1,-999.000,9,   2224.1,2,   2318.5,2,     7.57,2, 7919.0,-999.0000,-999.000,-999.000,  4.8146,-999.000
   318MWESTW_5,  P21W,   180,  1,     23, SI9423,2,19940526,0206,-17.4972,-159.6695, 5110,    882.4,   4.3390,  34.4618,2,  34.4614,2,    155.9,2,    154.3,2,    56.39,2,    34.23,2,     0.01,2,     2.40,2,    0.022,2,    0.010,2, -999.000,1,-999.0000,1,  -999.00,9,   -999.0,1,-999.000,9,   2235.5,2,   2324.3,2,     7.56,2, 8838.5,-999.0000,-999.000,-999.000,  4.2708,-999.000
   318MWESTW_5,  P21W,   180,  1,     22, SI9418,2,19940526,0206,-17.4972,-159.6695, 5110,    975.2,   3.8897,  34.4880,2,  34.4881,2,    153.6,2,    151.8,2,    66.40,2,    34.76,2,     0.00,2,     2.44,2,    0.001,2,    0.002,2, -999.000,1,-999.0000,1,  -999.00,9,   -999.0,1,-999.000,9,   2249.2,2,   2342.5,2,     7.55,2, 9761.5,-999.0000,-999.000,-999.000,  3.8170,-999.000
   318MWESTW_5,  P21W,   180,  1,     21, SI9421,2,19940526,0206,-17.4972,-159.6695, 5110,   1087.6,   3.5345,  34.5135,2,  34.5137,2,    150.8,2,    149.8,2,    75.76,2,    35.21,2,     0.00,2,     2.47,2,   -0.001,2,    0.001,2, -999.000,1,-999.0000,1,  -999.00,9,   -999.0,1,-999.000,9,   2260.6,2,   2347.5,2,     7.55,2,10878.9,-999.0000,-999.000,-999.000,  3.4554,-999.000
   318MWESTW_5,  P21W,   180,  1,     20, SI9420,2,19940526,0206,-17.4972,-159.6695, 5110,   1191.3,   3.2606,  34.5351,2,  34.5360,2,    148.7,2,    147.5,2,    83.03,2,    35.47,2,     0.01,2,     2.49,2, -999.000,9, -999.000,9, -999.000,1,-999.0000,1,  -999.00,9,   -999.0,1,-999.000,9,   2270.6,2,   2360.0,2,     7.55,2,11909.5,-999.0000,-999.000,-999.000,  3.1755,-999.000
   318MWESTW_5,  P21W,   180,  1,     19, SI9419,2,19940526,0206,-17.4972,-159.6695, 5110,   1304.4,   3.0419,  34.5541,2,  34.5563,2,    147.6,2,    147.4,2,    89.33,2,    35.71,2,     0.01,2,     2.51,2, -999.000,9, -999.000,9, -999.000,1,-999.0000,1,  -999.00,9,   -999.0,1,-999.000,9,   2276.5,2,   2362.3,2,     7.54,2,13033.8,-999.0000,-999.000,-999.000,  2.9497,-999.000
   318MWESTW_5,  P21W,   180,  1,     18, SI9439,2,19940526,0206,-17.4972,-159.6695, 5110,   1407.3,   2.8791,  34.5685,2,  34.5683,2,    147.1,2,    146.9,2,    94.04,2,    35.77,2,     0.01,2,     2.52,2, -999.000,9, -999.000,9, -999.000,1,-999.0000,1,  -999.00,9,   -999.0,1,-999.000,9,   2281.0,2,   2375.0,2,     7.54,2,14057.5,-999.0000,-999.000,-999.000,  2.7803,-999.000
   318MWESTW_5,  P21W,   180,  1,     17, SI9417,2,19940526,0206,-17.4972,-159.6695, 5110,   1509.7,   2.7280,  34.5825,2,  34.5944,4,    147.3,2,    146.0,2,   103.09,2,    35.92,2,     0.00,2,     2.52,2,   -0.001,2,    0.000,2, -999.000,1,-999.0000,1,  -999.00,9,   -999.0,1,-999.000,9,   2289.1,2,   2376.6,2,     7.54,2,15075.2,-999.0000,-999.000,-999.000,  2.6225,-999.000
   318MWESTW_5,  P21W,   180,  1,     16, SI9416,2,19940526,0206,-17.4972,-159.6695, 5110,   1755.8,   2.4366,  34.6088,2,  34.6111,2,    147.9,2,    147.4,2,   108.59,2,    35.93,2,     0.01,2,     2.52,2, -999.000,9, -999.000,9, -999.000,1,-999.0000,1,  -999.00,9,   -999.0,1,-999.000,9,   2299.5,2,   2383.8,2,     7.55,2,17522.1,-999.0000,-999.000,-999.000,  2.3144,-999.000
   318MWESTW_5,  P21W,   180,  1,     15, SI9415,2,19940526,0206,-17.4972,-159.6695, 5110,   2003.5,   2.1980,  34.6293,2,  34.6313,2,    150.7,2,    150.6,2,   114.58,2,    35.82,2,     0.01,2,     2.51,2,   -0.001,2,   -0.002,2, -999.000,1,-999.0000,1,  -999.00,9,   -999.0,1,-999.000,9,   2300.9,2,   2390.7,2,     7.55,2,19984.5,-999.0000,-999.000,-999.000,  2.0583,-999.000
   318MWESTW_5,  P21W,   180,  1,     14, SI9436,2,19940526,0206,-17.4972,-159.6695, 5110,   2249.1,   2.0228,  34.6444,2,  34.6451,2,    152.9,2,    152.2,2,   119.44,2,    35.83,2,     0.01,2,     2.52,2, -999.000,9, -999.000,9, -999.000,1,-999.0000,1,  -999.00,9,   -999.0,1,-999.000,9,   2302.7,2,   2402.2,2,     7.55,2,22426.5,-999.0000,-999.000,-999.000,  1.8646,-999.000
   318MWESTW_5,  P21W,   180,  1,     13, SI9413,2,19940526,0206,-17.4972,-159.6695, 5110,   2497.6,   1.8783,  34.6573,2,  34.6567,2,    155.9,2,    155.9,2,   123.34,2,    35.60,2,     0.01,2,     2.51,2, -999.000,9, -999.000,9, -999.000,1,-999.0000,1,  -999.00,9,   -999.0,1,-999.000,9,   2306.3,2,   2398.6,2,     7.56,2,24896.5,-999.0000,-999.000,-999.000,  1.7005,-999.000
   318MWESTW_5,  P21W,   180,  1,     12, SI9438,2,19940526,0206,-17.4972,-159.6695, 5110,   2746.2,   1.7672,  34.6657,2,  34.6659,2,    158.6,2,    159.3,2,   125.62,2,    35.31,2,     0.00,2,     2.48,2, -999.000,9, -999.000,9, -999.000,1,-999.0000,1,  -999.00,9,   -999.0,1,-999.000,9,   2309.9,2,   2400.9,2,     7.56,2,27368.8,-999.0000,-999.000,-999.000,  1.5687,-999.000
   318MWESTW_5,  P21W,   180,  1,     11, SI9411,2,19940526,0206,-17.4972,-159.6695, 5110,   3004.6,   1.6640,  34.6743,2,  34.6749,2,    164.3,2,    164.6,2,   126.13,2,    34.99,2,     0.00,2,     2.45,2, -999.000,9, -999.000,9, -999.000,1,-999.0000,1,  -999.00,9,   -999.0,1,-999.000,9,   2301.8,2,   2398.7,2,     7.57,2,29936.9,-999.0000,-999.000,-999.000,  1.4432,-999.000
   318MWESTW_5,  P21W,   180,  1,     10, SI9412,2,19940526,0206,-17.4972,-159.6695, 5110,   3254.5,   1.5834,  34.6809,2,  34.6816,2,    169.1,2,    169.5,2,   125.67,2,    34.70,2,     0.00,2,     2.42,2,   -0.002,2,    0.000,2, -999.000,1,-999.0000,1,  -999.00,9,   -999.0,1,-999.000,9,   2297.7,2,   2398.4,2,     7.57,2,32421.8,-999.0000,-999.000,-999.000,  1.3399,-999.000
   318MWESTW_5,  P21W,   180,  1,      9, SI9410,2,19940526,0206,-17.4972,-159.6695, 5110,   3501.9,   1.5201,  34.6859,2,  34.6851,2,    174.6,2,    174.5,2,   124.73,2,    34.38,2,     0.00,2,     2.40,2,   -0.003,2,    0.001,2, -999.000,1,-999.0000,1,  -999.00,9,   -999.0,1,-999.000,9,   2294.0,2,   2393.9,2,     7.58,2,34880.8,-999.0000,-999.000,-999.000,  1.2532,-999.000
   318MWESTW_5,  P21W,   180,  1,      8, SI9422,2,19940526,0206,-17.4972,-159.6695, 5110,   3740.9,   1.4796,  34.6895,2,  34.6895,2,    178.7,2,    177.6,2,   124.26,2,    34.13,2,     0.00,2,     2.38,2,   -0.001,2,    0.000,2, -999.000,1,-999.0000,1,  -999.00,9,   -999.0,1,-999.000,9,   2290.8,2,   2393.2,2,     7.58,2,37256.8,-999.0000,-999.000,-999.000,  1.1890,-999.000
   318MWESTW_5,  P21W,   180,  1,      7, SI9407,2,19940526,0206,-17.4972,-159.6695, 5110,   4042.0,   1.4325,  34.6939,2,  34.6950,2,    183.2,2,    182.9,2,   123.32,2,    33.80,2,     0.00,2,     2.36,2,    0.000,2,    0.003,2, -999.000,1,-999.0000,1,  -999.00,9,   -999.0,1,-999.000,9,   2287.4,2,   2387.0,2,     7.58,2,40250.7,-999.0000,-999.000,-999.000,  1.1109,-999.000
   318MWESTW_5,  P21W,   180,  1,      6, SI9427,2,19940526,0206,-17.4972,-159.6695, 5110,   4276.4,   1.3935,  34.6962,2,  34.6967,2,    188.2,2,    187.2,2,   122.69,2,    33.60,2,     0.00,2,     2.34,2,   -0.002,2,   -0.002,2, -999.000,1,-999.0000,1,  -999.00,9,   -999.0,1,-999.000,9,   2282.9,2,   2390.8,2,     7.59,2,42580.7,-999.0000,-999.000,-999.000,  1.0471,-999.000
   318MWESTW_5,  P21W,   180,  1,      5, SI9405,2,19940526,0206,-17.4972,-159.6695, 5110,   4533.4,   1.3564,  34.7001,2,  34.7019,2,    192.2,2,    190.3,2,   121.75,2,    33.32,2,     0.00,2,     2.33,2,    0.004,2,    0.000,2, -999.000,1,-999.0000,1,  -999.00,9,   -999.0,1,-999.000,9,   2280.4,2,   2381.1,2,     7.59,2,45135.9,-999.0000,-999.000,-999.000,  0.9820,-999.000
   318MWESTW_5,  P21W,   180,  1,      4, SI9404,2,19940526,0206,-17.4972,-159.6695, 5110,   4798.5,   1.3019,  34.7043,2,  34.7058,2,    197.1,2,    195.0,2,   120.64,2,    32.86,2,     0.00,2,     2.30,2,    0.009,2,    0.001,2, -999.000,1,-999.0000,1,  -999.00,9,   -999.0,1,-999.000,9,   2270.0,2,   2382.2,2,     7.59,2,47771.2,-999.0000,-999.000,-999.000,  0.8983,-999.000
   318MWESTW_5,  P21W,   180,  1,      3, SI9403,2,19940526,0206,-17.4972,-159.6695, 5110,   5022.4,   1.2843,  34.7063,2,  34.7068,2,    201.2,2,    198.3,2,   120.17,2,    32.65,2,     0.00,2,     2.27,2,    0.009,2,   -0.002,2, -999.000,1,-999.0000,1,  -999.00,9,   -999.0,1,-999.000,9,   2271.0,2,   2374.8,2,     7.59,2,49997.4,-999.0000,-999.000,-999.000,  0.8545,-999.000
   318MWESTW_5,  P21W,   180,  1,      2, SI9437,2,19940526,0206,-17.4972,-159.6695, 5110,   5124.2,   1.2819,  34.7066,2,  34.7070,2,    200.2,2,    199.2,2,   120.20,2,    32.59,2,     0.00,2,     2.27,2,    0.002,2,   -0.002,2, -999.000,1,-999.0000,1,  -999.00,9,   -999.0,1,-999.000,9,   2269.0,2,   2375.2,2,     7.59,2,51009.9,-999.0000,-999.000,-999.000,  0.8399,-999.000
   318MWESTW_5,  P21W,   180,  1,      1, SI9401,2,19940526,0206,-17.4972,-159.6695, 5110,   5188.8,   1.2804,  34.7068,2,  34.7072,2,    201.0,2,    199.6,2,   120.04,2,    32.57,2,     0.00,2,     2.26,2,    0.001,2,   -0.001,2, -999.000,1,-999.0000,1,  -999.00,9,   -999.0,1,-999.000,9,   2269.7,2,   2373.9,2,     7.59,2,51651.5,-999.0000,-999.000,-999.000,  0.8305,-999.000