BOTTLE,20010911WHPSIOdm
EXPOCODE,SECT_ID,STNNBR,CASTNO,SAMPNO,BTLNBR,BTLNBR_FLAG_W,DATE,TIME,LATITUDE,LONGITUDE,DEPTH,CTDPRS,CTDTMP,CTDSAL,CTDSAL_FLAG_W,SALNTY,SALNTY_FLAG_W,CTDOXY,CTDOXY_FLAG_W,OXYGEN,OXYGEN_FLAG_W,SILCAT,SILCAT_FLAG_W,NITRAT,NITRAT_FLAG_W,NITRIT,NITRIT_FLAG_W,PHSPHT,PHSPHT_FLAG_W,CFC-11,CFC-11_FLAG_W,CFC-12,CFC-12_FLAG_W,TRITUM,TRITUM_FLAG_W,HELIUM,HELIUM_FLAG_W,DELHE3,DELHE3_FLAG_W,DELC14,DELC14_FLAG_W,NEON,NEON_FLAG_W,TCARBN,TCARBN_FLAG_W,ALKALI,ALKALI_FLAG_W,PH,PH_FLAG_W,CTDRAW,HELIER,DELHER,NEONER,THETA,TRITER
,,,,,,,,,,,,DBAR,ITS-90,PSS-78,,PSS-78,,UMOL/KG,,UMOL/KG,,UMOL/KG,,UMOL/KG,,UMOL/KG,,UMOL/KG,,PMOL/KG,,PMOL/KG,,TU,,UMOL/KG,,PERCNT,,/MILLE,,NMOL/KG,,UMOL/KG,,UMOL/KG,,,,,NMOL/KG,PERCNT,NMOL/KG,ITS-90,TU
   318MWESTW_4,  P21E,    30,  1,     36,     36,2,19940405,0216,-16.7472, -79.3417, 4453,     10.9,  23.1354,  35.6288,2,  35.6277,2,    216.7,2,    215.9,2,     0.83,2,     0.06,2,     0.00,2,     0.53,2,    1.991,2,    1.069,2, -999.000,1,-999.0000,1,  -999.00,9,   -999.0,1,-999.000,9,   -999.0,9,   -999.0,9,  -999.00,9,  153.6,-999.0000,-999.000,-999.000, 23.1332,-999.000
   318MWESTW_4,  P21E,    30,  1,     35,     35,2,19940405,0216,-16.7472, -79.3417, 4453,     25.2,  23.0925,  35.6270,2,  35.6291,2,    217.6,2,    217.8,2,     0.85,2,    -0.23,2,     0.00,2,     0.52,2,    2.052,2,    1.085,2, -999.000,1,-999.0000,1,  -999.00,9,   -999.0,1,-999.000,9,   -999.0,9,   -999.0,9,  -999.00,9,  296.5,-999.0000,-999.000,-999.000, 23.0873,-999.000
   318MWESTW_4,  P21E,    30,  1,     34,     34,4,19940405,0216,-16.7472, -79.3417, 4453,     49.6,  19.0865,  35.1229,2,  34.6869,4,    245.2,2,    147.2,4,   134.56,4,    35.94,4,     0.00,4,     2.56,4,    0.009,3,    0.002,3, -999.000,1,-999.0000,1,  -999.00,9,   -999.0,1,-999.000,9,   -999.0,9,   -999.0,9,  -999.00,9,  540.4,-999.0000,-999.000,-999.000, 19.0776,-999.000
   318MWESTW_4,  P21E,    30,  1,     33,     33,2,19940405,0216,-16.7472, -79.3417, 4453,     99.6,  17.3151,  35.1994,2,  35.2050,2,    211.3,2,    204.3,2,     2.73,2,     7.07,2,     0.06,2,     1.01,2,    2.519,2,    1.295,2, -999.000,1,-999.0000,1,  -999.00,9,   -999.0,1,-999.000,9,   -999.0,9,   -999.0,9,  -999.00,9, 1039.8,-999.0000,-999.000,-999.000, 17.2985,-999.000
   318MWESTW_4,  P21E,    30,  1,     32,     32,2,19940405,0216,-16.7472, -79.3417, 4453,    149.3,  13.8334,  34.7529,2,  34.7685,2,     94.2,2,     99.2,2,     9.19,2,    17.63,2,     0.03,2,     1.80,2,    1.833,2,    0.905,2, -999.000,1,-999.0000,1,  -999.00,9,   -999.0,1,-999.000,9,   -999.0,9,   -999.0,9,  -999.00,9, 1536.6,-999.0000,-999.000,-999.000, 13.8121,-999.000
   318MWESTW_4,  P21E,    30,  1,     31,     31,2,19940405,0216,-16.7472, -79.3417, 4453,    199.7,  12.3513,  34.7889,2,  34.7860,3,      9.2,2,      7.4,2,    24.29,2,    19.88,2,     0.00,2,     2.70,2,    0.511,2,    0.253,2, -999.000,1,-999.0000,1,  -999.00,9,   -999.0,1,-999.000,9,   -999.0,9,   -999.0,9,  -999.00,9, 2040.6,-999.0000,-999.000,-999.000, 12.3248,-999.000
   318MWESTW_4,  P21E,    30,  1,     30,     30,2,19940405,0216,-16.7472, -79.3417, 4453,    249.4,  11.6018,  34.7595,2,  34.7661,2,      2.9,2,      2.4,2,    26.14,2,    24.68,2,    -0.02,5,     2.76,2,    0.252,2,    0.123,2, -999.000,1,-999.0000,1,  -999.00,9,   -999.0,1,-999.000,9,   -999.0,9,   -999.0,9,  -999.00,9, 2536.6,-999.0000,-999.000,-999.000, 11.5700,-999.000
   318MWESTW_4,  P21E,    30,  1,     29,     29,2,19940405,0216,-16.7472, -79.3417, 4453,    298.6,  10.8486,  34.7551,2,  34.7608,2,      1.3,2,      0.3,2,    29.65,2,    25.47,2,     3.74,2,     2.80,2,    0.089,2,    0.052,2, -999.000,1,-999.0000,1,  -999.00,9,   -999.0,1,-999.000,9,   -999.0,9,   -999.0,9,  -999.00,9, 3028.4,-999.0000,-999.000,-999.000, 10.8120,-999.000
   318MWESTW_4,  P21E,    30,  1,     28,     28,2,19940405,0216,-16.7472, -79.3417, 4453,    398.3,   8.9151,  34.6291,2,  34.6134,2,      8.5,2,     12.3,2,    30.42,2,    36.67,2,     0.01,2,     2.88,2,    0.065,2,    0.026,2, -999.000,1,-999.0000,1,  -999.00,9,   -999.0,1,-999.000,9,   -999.0,9,   -999.0,9,  -999.00,9, 4023.9,-999.0000,-999.000,-999.000,  8.8718,-999.000
   318MWESTW_4,  P21E,    30,  1,     27,     27,2,19940405,0216,-16.7472, -79.3417, 4453,    500.3,   7.5397,  34.5514,2,  34.5516,3,     22.6,2,     24.2,2,    36.32,2,    40.33,2,     0.00,2,     3.00,2,    0.034,2,    0.008,2, -999.000,1,-999.0000,1,  -999.00,9,   -999.0,1,-999.000,9,   -999.0,9,   -999.0,9,  -999.00,9, 5043.2,-999.0000,-999.000,-999.000,  7.4901,-999.000
   318MWESTW_4,  P21E,    30,  1,     26,     26,2,19940405,0216,-16.7472, -79.3417, 4453,    602.1,   6.3954,  34.4963,2,  34.4972,2,     45.1,2,     44.6,2,    41.67,2,    41.48,2,     0.00,2,     3.01,2,    0.016,2,    0.002,2, -999.000,1,-999.0000,1,  -999.00,9,   -999.0,1,-999.000,9,   -999.0,9,   -999.0,9,  -999.00,9, 6060.1,-999.0000,-999.000,-999.000,  6.3406,-999.000
   318MWESTW_4,  P21E,    30,  1,     25,     25,2,19940405,0216,-16.7472, -79.3417, 4453,    701.5,   5.7192,  34.4938,2,  34.6916,4,     43.8,2,    155.1,4,   129.98,4,    35.03,4,     0.00,4,     2.49,4,   -0.001,2,   -0.003,2, -999.000,1,-999.0000,1,  -999.00,9,   -999.0,1,-999.000,9,   -999.0,9,   -999.0,9,  -999.00,9, 7052.4,-999.0000,-999.000,-999.000,  5.6584,-999.000
   318MWESTW_4,  P21E,    30,  1,     24,     24,2,19940405,0216,-16.7472, -79.3417, 4453,    794.3,   5.1698,  34.4977,2,  34.4983,2,     46.6,2,     48.1,2,    59.91,2,    43.75,2,     0.00,2,     3.12,2, -999.000,9, -999.000,9, -999.000,1,-999.0000,1,  -999.00,9,   -999.0,1,-999.000,9,   -999.0,9,   -999.0,9,  -999.00,9, 7979.2,-999.0000,-999.000,-999.000,  5.1038,-999.000
   318MWESTW_4,  P21E,    30,  1,     23,     23,2,19940405,0216,-16.7472, -79.3417, 4453,    897.8,   4.7055,  34.5139,2,  34.5172,2,     48.4,2,     49.4,2,    71.89,2,    43.95,2,    -0.02,2,     3.18,2, -999.000,9, -999.000,9, -999.000,1,-999.0000,1,  -999.00,9,   -999.0,1,-999.000,9,   -999.0,9,   -999.0,9,  -999.00,9, 9013.5,-999.0000,-999.000,-999.000,  4.6334,-999.000
   318MWESTW_4,  P21E,    30,  1,     22,     22,2,19940405,0216,-16.7472, -79.3417, 4453,    998.4,   4.3441,  34.5277,2,  34.5317,2,     57.1,2,     57.2,2,    80.18,2,    43.47,2,    -0.02,2,     3.15,2, -999.000,9, -999.000,9, -999.000,1,-999.0000,1,  -999.00,9,   -999.0,1,-999.000,9,   -999.0,9,   -999.0,9,  -999.00,9,10018.0,-999.0000,-999.000,-999.000,  4.2659,-999.000
   318MWESTW_4,  P21E,    30,  1,     21,     21,2,19940405,0216,-16.7472, -79.3417, 4453,   1100.0,   3.9607,  34.5401,2,  34.5429,2,     65.3,2,     66.5,2,    87.92,2,    42.50,2,     0.00,2,     3.09,2, -999.000,9, -999.000,9, -999.000,1,-999.0000,1,  -999.00,9,   -999.0,1,-999.000,9,   -999.0,9,   -999.0,9,  -999.00,9,11033.3,-999.0000,-999.000,-999.000,  3.8769,-999.000
   318MWESTW_4,  P21E,    30,  1,     20,     20,2,19940405,0216,-16.7472, -79.3417, 4453,   1200.7,   3.6681,  34.5541,2,  34.5553,2,     72.8,2,     74.1,2,    94.18,2,    41.66,2,     0.00,2,     3.05,2, -999.000,9, -999.000,9, -999.000,1,-999.0000,1,  -999.00,9,   -999.0,1,-999.000,9,   -999.0,9,   -999.0,9,  -999.00,9,12039.0,-999.0000,-999.000,-999.000,  3.5784,-999.000
   318MWESTW_4,  P21E,    30,  1,     19,     19,2,19940405,0216,-16.7472, -79.3417, 4453,   1303.7,   3.3771,  34.5683,2,  34.5694,2,     79.7,2,     81.1,2,   101.19,2,    40.96,2,    -0.01,2,     3.02,2, -999.000,9, -999.000,9, -999.000,1,-999.0000,1,  -999.00,9,   -999.0,1,-999.000,9,   -999.0,9,   -999.0,9,  -999.00,9,13067.5,-999.0000,-999.000,-999.000,  3.2816,-999.000
   318MWESTW_4,  P21E,    30,  1,     18,     18,2,19940405,0216,-16.7472, -79.3417, 4453,   1402.0,   3.1096,  34.5807,2,  34.5824,2,     90.2,2,     89.5,2,   106.35,2,    40.25,2,    -0.02,2,     2.94,2, -999.000,9, -999.000,9, -999.000,1,-999.0000,1,  -999.00,9,   -999.0,1,-999.000,9,   -999.0,9,   -999.0,9,  -999.00,9,14050.1,-999.0000,-999.000,-999.000,  3.0087,-999.000
   318MWESTW_4,  P21E,    30,  1,     17,     17,2,19940405,0216,-16.7472, -79.3417, 4453,   1503.4,   2.8935,  34.5935,2,  34.5942,2,     97.3,2,     95.9,2,   111.34,2,    39.90,2,    -0.02,2,     2.89,2, -999.000,9, -999.000,9, -999.000,1,-999.0000,1,  -999.00,9,   -999.0,1,-999.000,9,   -999.0,9,   -999.0,9,  -999.00,9,15062.9,-999.0000,-999.000,-999.000,  2.7866,-999.000
   318MWESTW_4,  P21E,    30,  1,     16,     16,2,19940405,0216,-16.7472, -79.3417, 4453,   1600.8,   2.7454,  34.6097,2,  34.6097,2,     92.0,2,     92.2,2,   120.54,2,    40.20,2,    -0.02,2,     2.93,2, -999.000,9, -999.000,9, -999.000,1,-999.0000,1,  -999.00,9,   -999.0,1,-999.000,9,   -999.0,9,   -999.0,9,  -999.00,9,16035.4,-999.0000,-999.000,-999.000,  2.6321,-999.000
   318MWESTW_4,  P21E,    30,  1,     15,     15,2,19940405,0216,-16.7472, -79.3417, 4453,   1903.6,   2.3059,  34.6362,2,  34.6402,3,    109.9,2,    111.0,2,   128.10,2,    38.75,2,  -999.00,2,     2.79,2, -999.000,9, -999.000,9, -999.000,1,-999.0000,1,  -999.00,9,   -999.0,1,-999.000,9,   -999.0,9,   -999.0,9,  -999.00,9,19061.1,-999.0000,-999.000,-999.000,  2.1730,-999.000
   318MWESTW_4,  P21E,    30,  1,     14,     14,2,19940405,0216,-16.7472, -79.3417, 4453,   1999.3,   2.2003,  34.6423,2,  34.6443,2,    115.1,2,    117.1,2,   129.02,2,    38.28,2,     0.00,2,     2.75,2, -999.000,9, -999.000,9, -999.000,1,-999.0000,1,  -999.00,9,   -999.0,1,-999.000,9,   -999.0,9,   -999.0,9,  -999.00,9,20017.3,-999.0000,-999.000,-999.000,  2.0608,-999.000
   318MWESTW_4,  P21E,    30,  1,     13,     13,3,19940405,0216,-16.7472, -79.3417, 4453,   2198.6,   2.0096,  34.6556,2,  34.6576,2,    128.7,2,    133.7,2,   126.83,2,    36.90,2,     0.00,2,     2.63,2, -999.000,9, -999.000,9, -999.000,1,-999.0000,1,  -999.00,9,   -999.0,1,-999.000,9,   -999.0,9,   -999.0,9,  -999.00,9,22008.1,-999.0000,-999.000,-999.000,  1.8560,-999.000
   318MWESTW_4,  P21E,    30,  1,     12,     12,2,19940405,0216,-16.7472, -79.3417, 4453,   2398.6,   1.8943,  34.6658,2,  34.6671,2,    143.5,2,    143.3,2,   126.48,2,    36.00,2,     0.01,2,     2.58,2, -999.000,9, -999.000,9, -999.000,1,-999.0000,1,  -999.00,9,   -999.0,1,-999.000,9,   -999.0,9,   -999.0,9,  -999.00,9,24006.2,-999.0000,-999.000,-999.000,  1.7250,-999.000
   318MWESTW_4,  P21E,    30,  1,     11,     11,2,19940405,0216,-16.7472, -79.3417, 4453,   2594.0,   1.8342,  34.6730,2,  34.6734,2,    142.0,2,    140.2,2,   132.56,2,    36.06,2,     0.01,2,     2.60,2, -999.000,9, -999.000,9, -999.000,1,-999.0000,1,  -999.00,9,   -999.0,1,-999.000,9,   -999.0,9,   -999.0,9,  -999.00,9,25958.6,-999.0000,-999.000,-999.000,  1.6484,-999.000
   318MWESTW_4,  P21E,    30,  1,     10,     10,2,19940405,0216,-16.7472, -79.3417, 4453,   2796.1,   1.7974,  34.6769,2,  34.6771,2,    140.3,2,    138.9,2,   136.62,2,    36.23,2,     0.02,2,     2.59,2, -999.000,9, -999.000,9, -999.000,1,-999.0000,1,  -999.00,9,   -999.0,1,-999.000,9,   -999.0,9,   -999.0,9,  -999.00,9,27978.6,-999.0000,-999.000,-999.000,  1.5935,-999.000
   318MWESTW_4,  P21E,    30,  1,      9,      9,2,19940405,0216,-16.7472, -79.3417, 4453,   2993.6,   1.7872,  34.6799,2,  34.6787,2,    136.1,2,    136.9,2,   139.76,2,    36.43,2,     0.01,2,     2.61,2, -999.000,9, -999.000,9, -999.000,1,-999.0000,1,  -999.00,9,   -999.0,1,-999.000,9,   -999.0,9,   -999.0,9,  -999.00,9,29952.1,-999.0000,-999.000,-999.000,  1.5647,-999.000
   318MWESTW_4,  P21E,    30,  1,      8,      8,2,19940405,0216,-16.7472, -79.3417, 4453,   3197.2,   1.7838,  34.6817,2,  34.6818,2,    138.9,2,    139.7,2,   138.68,2,    36.39,2,    -0.01,2,     2.59,2, -999.000,9, -999.000,9, -999.000,1,-999.0000,1,  -999.00,9,   -999.0,1,-999.000,9,   -999.0,9,   -999.0,9,  -999.00,9,31986.9,-999.0000,-999.000,-999.000,  1.5413,-999.000
   318MWESTW_4,  P21E,    30,  1,      7,      7,2,19940405,0216,-16.7472, -79.3417, 4453,   3397.8,   1.7777,  34.6837,2,  34.6840,2,    139.2,2,    140.5,2,   139.06,2,    36.39,2,    -0.01,2,     2.58,2, -999.000,9, -999.000,9, -999.000,1,-999.0000,1,  -999.00,9,   -999.0,1,-999.000,9,   -999.0,9,   -999.0,9,  -999.00,9,33991.5,-999.0000,-999.000,-999.000,  1.5151,-999.000
   318MWESTW_4,  P21E,    30,  1,      6,      6,2,19940405,0216,-16.7472, -79.3417, 4453,   3600.1,   1.7703,  34.6862,2,  34.6861,2,    144.3,2,    145.7,2,   135.76,2,    35.90,2,     0.00,2,     2.55,2, -999.000,9, -999.000,9, -999.000,1,-999.0000,1,  -999.00,9,   -999.0,1,-999.000,9,   -999.0,9,   -999.0,9,  -999.00,9,36013.0,-999.0000,-999.000,-999.000,  1.4869,-999.000
   318MWESTW_4,  P21E,    30,  1,      5,      5,2,19940405,0216,-16.7472, -79.3417, 4453,   3801.0,   1.7615,  34.6882,2,  34.6887,2,    151.7,2,    151.9,2,   131.00,2,    35.37,2,     0.00,2,     2.51,2, -999.000,9, -999.000,9, -999.000,1,-999.0000,1,  -999.00,9,   -999.0,1,-999.000,9,   -999.0,9,   -999.0,9,  -999.00,9,38021.0,-999.0000,-999.000,-999.000,  1.4569,-999.000
   318MWESTW_4,  P21E,    30,  1,      4,      4,2,19940405,0216,-16.7472, -79.3417, 4453,   3993.3,   1.7599,  34.6895,2,  34.6895,2,    154.2,2,    154.4,2,   129.36,2,    35.00,2,     0.01,2,     2.50,2, -999.000,9, -999.000,9, -999.000,1,-999.0000,1,  -999.00,9,   -999.0,1,-999.000,9,   -999.0,9,   -999.0,9,  -999.00,9,39943.5,-999.0000,-999.000,-999.000,  1.4344,-999.000
   318MWESTW_4,  P21E,    30,  1,      3,      3,2,19940405,0216,-16.7472, -79.3417, 4453,   4195.5,   1.7632,  34.6908,2,  34.6901,2,    155.4,2,    155.5,2,   129.38,2,    34.76,2,     0.02,2,     2.50,2, -999.000,9, -999.000,9, -999.000,1,-999.0000,1,  -999.00,9,   -999.0,1,-999.000,9,   -999.0,9,   -999.0,9,  -999.00,9,41964.1,-999.0000,-999.000,-999.000,  1.4150,-999.000
   318MWESTW_4,  P21E,    30,  1,      2,      2,2,19940405,0216,-16.7472, -79.3417, 4453,   4467.3,   1.7805,  34.6912,2,  34.6920,2,    155.4,2,    155.1,2,   129.76,2,    34.71,2,     0.01,2,     2.49,2, -999.000,9, -999.000,9, -999.000,1,-999.0000,1,  -999.00,9,   -999.0,1,-999.000,9,   -999.0,9,   -999.0,9,  -999.00,9,44681.5,-999.0000,-999.000,-999.000,  1.4006,-999.000
   318MWESTW_4,  P21E,    30,  1,      1,      1,2,19940405,0216,-16.7472, -79.3417, 4453,   4507.5,   1.7849,  34.6913,2,  34.6930,2,    153.4,2,    156.0,2,   129.63,2,    35.18,2,    -0.01,2,     2.49,2, -999.000,9, -999.000,9, -999.000,1,-999.0000,1,  -999.00,9,   -999.0,1,-999.000,9,   -999.0,9,   -999.0,9,  -999.00,9,45083.5,-999.0000,-999.000,-999.000,  1.4002,-999.000