BOTTLE,20010911WHPSIOdm
EXPOCODE,SECT_ID,STNNBR,CASTNO,SAMPNO,BTLNBR,BTLNBR_FLAG_W,DATE,TIME,LATITUDE,LONGITUDE,DEPTH,CTDPRS,CTDTMP,CTDSAL,CTDSAL_FLAG_W,SALNTY,SALNTY_FLAG_W,CTDOXY,CTDOXY_FLAG_W,OXYGEN,OXYGEN_FLAG_W,SILCAT,SILCAT_FLAG_W,NITRAT,NITRAT_FLAG_W,NITRIT,NITRIT_FLAG_W,PHSPHT,PHSPHT_FLAG_W,CFC-11,CFC-11_FLAG_W,CFC-12,CFC-12_FLAG_W,TRITUM,TRITUM_FLAG_W,HELIUM,HELIUM_FLAG_W,DELHE3,DELHE3_FLAG_W,DELC14,DELC14_FLAG_W,NEON,NEON_FLAG_W,TCARBN,TCARBN_FLAG_W,ALKALI,ALKALI_FLAG_W,PH,PH_FLAG_W,CTDRAW,HELIER,DELHER,NEONER,THETA,TRITER
,,,,,,,,,,,,DBAR,ITS-90,PSS-78,,PSS-78,,UMOL/KG,,UMOL/KG,,UMOL/KG,,UMOL/KG,,UMOL/KG,,UMOL/KG,,PMOL/KG,,PMOL/KG,,TU,,UMOL/KG,,PERCNT,,/MILLE,,NMOL/KG,,UMOL/KG,,UMOL/KG,,,,,NMOL/KG,PERCNT,NMOL/KG,ITS-90,TU
   318MWESTW_4,  P21E,    86,  1,     36, SI9336,2,19940423,0524,-16.7500,-106.6667, 2943,      6.3,  25.1820,  36.3393,2,  36.3376,2,    221.0,2,    218.3,3,     0.31,2,    -0.04,2,     0.01,2,     0.32,2,    1.872,2,    1.046,2, -999.000,1,-999.0000,1,  -999.00,9,   -999.0,1,-999.000,9,   2051.8,2,   2398.0,2,     8.07,2,  109.3,-999.0000,-999.000,-999.000, 25.1806,-999.000
   318MWESTW_4,  P21E,    86,  1,     35, SI9335,2,19940423,0524,-16.7500,-106.6667, 2943,     24.4,  25.1802,  36.3377,2,  36.3364,2,    213.4,2,    214.6,2,     0.34,2,    -0.04,2,     0.01,2,     0.33,2,    1.887,2,    1.051,2, -999.000,1,-999.0000,1,  -999.00,9,   -999.0,1,-999.000,9,   2051.8,2,   2400.0,2,     8.07,2,  291.0,-999.0000,-999.000,-999.000, 25.1749,-999.000
   318MWESTW_4,  P21E,    86,  1,     34, SI9334,2,19940423,0524,-16.7500,-106.6667, 2943,     50.3,  24.7646,  36.3056,2,  36.3024,2,    209.6,2,    220.5,2,     0.36,2,    -0.04,2,     0.01,2,     0.33,2,    1.890,2,    1.038,2, -999.000,1,-999.0000,1,  -999.00,9,   -999.0,1,-999.000,9,   2050.8,2,   2398.0,2,     8.07,2,  550.3,-999.0000,-999.000,-999.000, 24.7537,-999.000
   318MWESTW_4,  P21E,    86,  1,     33, SI9333,2,19940423,0524,-16.7500,-106.6667, 2943,    100.7,  22.1707,  36.1164,2,  36.1124,2,    220.0,2,    225.2,2,     0.39,2,    -0.04,2,     0.01,2,     0.40,2,    2.104,2,    1.151,2, -999.000,1,-999.0000,1,  -999.00,9,   -999.0,1,-999.000,9,   2058.8,2,   2386.0,2,     8.04,2, 1053.5,-999.0000,-999.000,-999.000, 22.1506,-999.000
   318MWESTW_4,  P21E,    86,  1,     32, SI9332,2,19940423,0524,-16.7500,-106.6667, 2943,    151.7,  21.0088,  35.9431,2,  35.9864,2,    202.6,2,    203.1,2,     0.42,2,     1.06,2,     0.63,2,     0.52,2,    2.188,2,    1.166,2, -999.000,1,-999.0000,1,  -999.00,9,   -999.0,1,-999.000,9,   2081.8,2,   2379.0,2,     7.99,2, 1563.6,-999.0000,-999.000,-999.000, 20.9796,-999.000
   318MWESTW_4,  P21E,    86,  1,     31, SI9331,2,19940423,0524,-16.7500,-106.6667, 2943,    203.3,  18.4447,  35.3597,3,  35.4872,2,    185.5,2,    187.8,2,     1.08,2,     5.02,2,     0.02,2,     0.73,2,    2.268,2,    1.193,2, -999.000,1,-999.0000,1,  -999.00,9,   -999.0,1,-999.000,9,   2093.8,2,   2344.0,2,     7.92,2, 2078.8,-999.0000,-999.000,-999.000, 18.4091,-999.000
   318MWESTW_4,  P21E,    86,  1,     30, SI9330,2,19940423,0524,-16.7500,-106.6667, 2943,    251.9,  14.6762,  34.8712,2,  34.9004,2,    171.7,2,    167.6,2,     3.02,2,     9.84,2,     0.01,2,     1.04,2,    2.014,2,    1.040,2, -999.000,1,-999.0000,1,  -999.00,9,   -999.0,1,-999.000,9,   2106.8,2,   2304.0,2,     7.83,2, 2564.6,-999.0000,-999.000,-999.000, 14.6386,-999.000
   318MWESTW_4,  P21E,    86,  1,     29, SI9329,2,19940423,0524,-16.7500,-106.6667, 2943,    299.9,  11.8161,  34.5899,2,  34.5883,2,    134.8,2,    124.0,2,     8.79,2,    17.95,2,     0.00,2,     1.66,2,    1.312,6,    0.646,6, -999.000,1,-999.0000,1,  -999.00,9,   -999.0,1,-999.000,9,   2156.9,2,   2286.0,2,     7.67,2, 3044.0,-999.0000,-999.000,-999.000, 11.7774,-999.000
   318MWESTW_4,  P21E,    86,  1,     28, SI9328,2,19940423,0524,-16.7500,-106.6667, 2943,    404.8,   8.4637,  34.5351,2,  34.5392,2,     53.6,2,     49.1,2,    24.58,2,    35.05,2,     0.00,2,     2.64,2,    0.082,2,    0.047,2, -999.000,1,-999.0000,1,  -999.00,9,   -999.0,1,-999.000,9,   2249.9,2,   2292.0,2,     7.44,2, 4091.7,-999.0000,-999.000,-999.000,  8.4211,-999.000
   318MWESTW_4,  P21E,    86,  1,     27, SI9327,2,19940423,0524,-16.7500,-106.6667, 2943,    506.9,   7.0285,  34.5104,2,  34.5085,2,     79.1,2,     74.9,2,    31.31,2,    37.10,2,     0.01,2,     2.61,2,    0.016,2,    0.012,2, -999.000,1,-999.0000,1,  -999.00,9,   -999.0,1,-999.000,9,   2278.0,2,   2300.0,2,     7.47,2, 5112.0,-999.0000,-999.000,-999.000,  6.9802,-999.000
   318MWESTW_4,  P21E,    86,  1,     26, SI9326,2,19940423,0524,-16.7500,-106.6667, 2943,    587.8,   6.3652,  34.5113,2,  34.5127,2,     65.0,2,     56.5,2,    41.07,2,    40.70,2,     0.01,2,     2.85,2,    0.001,2,    0.001,2, -999.000,1,-999.0000,1,  -999.00,9,   -999.0,1,-999.000,9,   2269.0,2,   2309.0,2,     7.43,2, 5920.1,-999.0000,-999.000,-999.000,  6.3118,-999.000
   318MWESTW_4,  P21E,    86,  1,     25, SI9325,2,19940423,0524,-16.7500,-106.6667, 2943,    703.3,   5.5449,  34.4891,2,  34.4903,2,     72.7,2,     71.9,2,    49.06,2,    40.88,2,     0.00,2,     2.85,2,   -0.001,2,    0.004,2, -999.000,1,-999.0000,1,  -999.00,9,   -999.0,1,-999.000,9,   2271.0,2,   2317.0,2,     7.45,2, 7073.1,-999.0000,-999.000,-999.000,  5.4849,-999.000
   318MWESTW_4,  P21E,    86,  1,     24, SI9324,2,19940423,0524,-16.7500,-106.6667, 2943,    801.2,   5.0866,  34.5053,2,  34.5046,2,     61.9,2,     64.7,2,    59.45,2,    42.34,2,     0.00,2,     2.97,2,   -0.002,2,    0.001,2, -999.000,1,-999.0000,1,  -999.00,9,   -999.0,1,-999.000,9,   2288.0,2,   2327.0,2,     7.43,2, 8051.5,-999.0000,-999.000,-999.000,  5.0205,-999.000
   318MWESTW_4,  P21E,    86,  1,     23, SI9323,2,19940423,0524,-16.7500,-106.6667, 2943,    902.0,   4.6086,  34.5143,2,  34.5160,2,     68.7,2,     67.5,2,    69.69,2,    42.44,2,     0.00,2,     3.00,2,   -0.002,2,    0.001,2, -999.000,1,-999.0000,1,  -999.00,9,   -999.0,1,-999.000,9,   2299.0,2,   2339.0,2,     7.43,2, 9058.4,-999.0000,-999.000,-999.000,  4.5368,-999.000
   318MWESTW_4,  P21E,    86,  1,     22, SI9322,2,19940423,0524,-16.7500,-106.6667, 2943,   1001.8,   4.2690,  34.5275,2,  34.5292,2,     71.7,2,     71.7,2,    77.37,2,    42.22,2,     0.01,2,     3.00,2,   -0.001,2,    0.001,2, -999.000,1,-999.0000,1,  -999.00,9,   -999.0,1,-999.000,9,   2304.0,2,   2347.0,2,     7.44,2,10054.9,-999.0000,-999.000,-999.000,  4.1911,-999.000
   318MWESTW_4,  P21E,    86,  1,     21, SI9321,2,19940423,0524,-16.7500,-106.6667, 2943,   1101.1,   3.9612,  34.5388,2,  34.5404,2,     77.2,2,     76.8,2,    84.58,2,    41.84,2,     0.01,2,     2.98,2, -999.000,9, -999.000,9, -999.000,1,-999.0000,1,  -999.00,9,   -999.0,1,-999.000,9,   2309.0,2,   2356.0,2,     7.44,2,11046.5,-999.0000,-999.000,-999.000,  3.8773,-999.000
   318MWESTW_4,  P21E,    86,  1,     20, SI9320,2,19940423,0524,-16.7500,-106.6667, 2943,   1202.3,   3.6340,  34.5530,2,  34.5545,2,     82.5,2,     82.4,2,    92.10,2,    41.41,2,     0.01,2,     2.95,2, -999.000,9, -999.000,9, -999.000,1,-999.0000,1,  -999.00,9,   -999.0,1,-999.000,9,   2315.0,2,   2363.0,2,     7.46,2,12058.2,-999.0000,-999.000,-999.000,  3.5445,-999.000
   318MWESTW_4,  P21E,    86,  1,     19, SI9319,2,19940423,0524,-16.7500,-106.6667, 2943,   1302.0,   3.3333,  34.5677,2,  34.5698,2,     88.4,2,     88.7,2,    99.30,2,    40.86,2,     0.01,2,     2.92,2, -999.000,9, -999.000,9, -999.000,1,-999.0000,1,  -999.00,9,   -999.0,1,-999.000,9,   2319.0,2,   2372.0,2,     7.46,2,13054.1,-999.0000,-999.000,-999.000,  3.2384,-999.000
   318MWESTW_4,  P21E,    86,  1,     18, SI9318,2,19940423,0524,-16.7500,-106.6667, 2943,   1402.4,   3.1099,  34.5797,2,  34.5840,2,     92.0,2,     93.0,2,   105.39,2,    40.49,2,     0.01,2,     2.90,2, -999.000,9, -999.000,9, -999.000,1,-999.0000,1,  -999.00,9,   -999.0,1,-999.000,9,   2321.0,2,   2378.0,2,     7.48,2,14056.9,-999.0000,-999.000,-999.000,  3.0089,-999.000
   318MWESTW_4,  P21E,    86,  1,     17, SI9317,2,19940423,0524,-16.7500,-106.6667, 2943,   1502.0,   2.9251,  34.5923,2,  34.5942,2,     99.0,2,     98.6,2,   109.73,2,    40.00,2,     0.01,2,     2.85,2, -999.000,9, -999.000,9, -999.000,1,-999.0000,1,  -999.00,9,   -999.0,1,-999.000,9,   2324.0,2,   2385.0,2,     7.48,2,15052.1,-999.0000,-999.000,-999.000,  2.8179,-999.000
   318MWESTW_4,  P21E,    86,  1,     16, SI9316,2,19940423,0524,-16.7500,-106.6667, 2943,   1602.0,   2.7704,  34.6032,2,  34.6042,2,    103.5,2,    104.0,2,   113.44,2,    39.62,2,     0.01,2,     2.82,2, -999.000,9, -999.000,9, -999.000,1,-999.0000,1,  -999.00,9,   -999.0,1,-999.000,9,   2323.0,2,   2391.0,2,     7.50,2,16050.8,-999.0000,-999.000,-999.000,  2.6567,-999.000
   318MWESTW_4,  P21E,    86,  1,     15, SI9315,2,19940423,0524,-16.7500,-106.6667, 2943,   1699.7,   2.6037,  34.6137,2,  34.6177,3,    108.7,2,    109.8,2,   116.82,2,    39.08,2,     0.01,2,     2.78,2, -999.000,9, -999.000,9, -999.000,1,-999.0000,1,  -999.00,9,   -999.0,1,-999.000,9,   2325.0,2,   2394.0,2,     7.51,2,17026.5,-999.0000,-999.000,-999.000,  2.4839,-999.000
   318MWESTW_4,  P21E,    86,  1,     14, SI9314,2,19940423,0524,-16.7500,-106.6667, 2943,   1798.0,   2.4368,  34.6237,2,  34.6248,2,    114.8,2,    116.3,2,   119.56,2,    38.59,2,     0.01,2,     2.73,2, -999.000,9, -999.000,9, -999.000,1,-999.0000,1,  -999.00,9,   -999.0,1,-999.000,9,   2322.0,2,   2397.0,2,     7.51,2,18008.9,-999.0000,-999.000,-999.000,  2.3110,-999.000
   318MWESTW_4,  P21E,    86,  1,     13, SI9313,2,19940423,0524,-16.7500,-106.6667, 2943,   1898.0,   2.2900,  34.6325,2,  34.6335,2,    122.1,2,    123.4,2,   120.87,2,    38.10,2,     0.01,2,     2.69,2, -999.000,9, -999.000,9, -999.000,1,-999.0000,1,  -999.00,9,   -999.0,1,-999.000,9,   2321.0,2,   2398.0,2,     7.49,3,19007.6,-999.0000,-999.000,-999.000,  2.1578,-999.000
   318MWESTW_4,  P21E,    86,  1,     12, SI9312,2,19940423,0524,-16.7500,-106.6667, 2943,   1999.0,   2.1560,  34.6419,2,  34.6474,4,    130.9,2,    131.9,2,   121.70,2,    37.40,2,     0.02,2,     2.63,2, -999.000,9, -999.000,9, -999.000,1,-999.0000,1,  -999.00,9,   -999.0,1,-999.000,9,   2318.0,2,   2400.0,2,     7.54,2,20017.3,-999.0000,-999.000,-999.000,  2.0172,-999.000
   318MWESTW_4,  P21E,    86,  1,     11, SI9311,2,19940423,0524,-16.7500,-106.6667, 2943,   2097.5,   2.0742,  34.6488,2,  34.6492,2,    137.8,2,    136.7,2,   122.06,2,    37.03,2,     0.01,2,     2.59,2, -999.000,9, -999.000,9, -999.000,1,-999.0000,1,  -999.00,9,   -999.0,1,-999.000,9,   2317.0,2,   2403.0,2,     7.54,2,21001.2,-999.0000,-999.000,-999.000,  1.9283,-999.000
   318MWESTW_4,  P21E,    86,  1,     10, SI9310,2,19940423,0524,-16.7500,-106.6667, 2943,   2198.1,   1.9775,  34.6565,2,  34.6578,2,    141.9,2,    141.8,2,   123.37,2,    36.54,2,     0.01,2,     2.56,2, -999.000,9, -999.000,9, -999.000,1,-999.0000,1,  -999.00,9,   -999.0,1,-999.000,9,   2316.0,2,   2406.0,2,     7.56,2,22006.5,-999.0000,-999.000,-999.000,  1.8244,-999.000
   318MWESTW_4,  P21E,    86,  1,      9, SI9309,2,19940423,0524,-16.7500,-106.6667, 2943,   2299.4,   1.9181,  34.6627,2,  34.6627,2,    145.7,2,    145.0,2,   124.84,2,    36.21,2,     0.01,2,     2.55,2, -999.000,9, -999.000,9, -999.000,1,-999.0000,1,  -999.00,9,   -999.0,1,-999.000,9,   2315.0,2,   2406.0,2,     7.55,2,23017.7,-999.0000,-999.000,-999.000,  1.7572,-999.000
   318MWESTW_4,  P21E,    86,  1,      8, SI9308,2,19940423,0524,-16.7500,-106.6667, 2943,   2391.3,   1.8782,  34.6667,2,  34.6667,2,    146.9,2,    146.4,2,   126.15,2,    36.01,2,     0.00,2,     2.53,2, -999.000,9, -999.000,9, -999.000,1,-999.0000,1,  -999.00,9,   -999.0,1,-999.000,9,   2316.0,2,   2409.0,2,     7.57,2,23935.9,-999.0000,-999.000,-999.000,  1.7099,-999.000
   318MWESTW_4,  P21E,    86,  1,      7, SI9307,2,19940423,0524,-16.7500,-106.6667, 2943,   2499.0,   1.8574,  34.6698,2,  34.6698,2,    148.0,2,    146.9,2,   127.30,2,    35.95,2,     0.00,2,     2.52,2, -999.000,9, -999.000,9, -999.000,1,-999.0000,1,  -999.00,9,   -999.0,1,-999.000,9,   2318.0,2,   2411.0,2,     7.57,2,25012.5,-999.0000,-999.000,-999.000,  1.6798,-999.000
   318MWESTW_4,  P21E,    86,  1,      6, SI9306,2,19940423,0524,-16.7500,-106.6667, 2943,   2599.0,   1.8375,  34.6721,2,  34.6728,2,    148.6,2,    146.9,2,   128.93,2,    35.94,2,     0.01,2,     2.51,2, -999.000,9, -999.000,9, -999.000,1,-999.0000,1,  -999.00,9,   -999.0,1,-999.000,9,   2320.0,2,   2414.0,2,     7.57,2,26012.2,-999.0000,-999.000,-999.000,  1.6512,-999.000
   318MWESTW_4,  P21E,    86,  1,      5, SI9305,2,19940423,0524,-16.7500,-106.6667, 2943,   2700.2,   1.8272,  34.6746,2,  34.6737,2,    147.8,2,    146.7,2,   129.93,2,    36.00,2,     0.01,2,     2.52,2, -999.000,9, -999.000,9, -999.000,1,-999.0000,1,  -999.00,9,   -999.0,1,-999.000,9,   2322.0,2,   2417.0,2,     7.57,2,27023.3,-999.0000,-999.000,-999.000,  1.6317,-999.000
   318MWESTW_4,  P21E,    86,  1,      4, SI9304,2,19940423,0524,-16.7500,-106.6667, 2943,   2806.8,   1.8141,  34.6769,2,  34.6765,2,    146.8,2,    145.6,2,   132.20,2,    36.15,2,     0.01,2,     2.53,2, -999.000,9, -999.000,9, -999.000,1,-999.0000,1,  -999.00,9,   -999.0,1,-999.000,9,   2323.0,2,   2420.0,2,     7.58,2,28088.2,-999.0000,-999.000,-999.000,  1.6089,-999.000
   318MWESTW_4,  P21E,    86,  1,      3, SI9303,2,19940423,0524,-16.7500,-106.6667, 2943,   2902.0,   1.8112,  34.6773,2,  34.6773,2,    145.5,2,    144.5,2,   133.35,2,    36.21,2,     0.01,2,     2.52,2, -999.000,9, -999.000,9, -999.000,1,-999.0000,1,  -999.00,9,   -999.0,1,-999.000,9,   2326.0,2,   2422.0,2,     7.57,2,29039.6,-999.0000,-999.000,-999.000,  1.5970,-999.000
   318MWESTW_4,  P21E,    86,  1,      2, SI9302,2,19940423,0524,-16.7500,-106.6667, 2943,   2934.0,   1.8128,  34.6776,2,  34.6773,2,    145.6,2,    144.5,2,   133.70,2,    36.22,2,     0.00,2,     2.53,2, -999.000,9, -999.000,9, -999.000,1,-999.0000,1,  -999.00,9,   -999.0,1,-999.000,9,   2327.0,2,   2423.0,2,     7.58,2,29359.3,-999.0000,-999.000,-999.000,  1.5955,-999.000
   318MWESTW_4,  P21E,    86,  1,      1, SI9301,2,19940423,0524,-16.7500,-106.6667, 2943,   2974.8,   1.8145,  34.6776,2,  34.6783,2,    144.5,2,    144.9,2,   133.61,2,    36.24,2,     0.01,2,     2.54,2, -999.000,9, -999.000,9, -999.000,1,-999.0000,1,  -999.00,9,   -999.0,1,-999.000,9,   2328.0,2,   2423.0,2,     7.57,2,29766.9,-999.0000,-999.000,-999.000,  1.5932,-999.000