BOTTLE,20010911WHPSIOdm
EXPOCODE,SECT_ID,STNNBR,CASTNO,SAMPNO,BTLNBR,BTLNBR_FLAG_W,DATE,TIME,LATITUDE,LONGITUDE,DEPTH,CTDPRS,CTDTMP,CTDSAL,CTDSAL_FLAG_W,SALNTY,SALNTY_FLAG_W,CTDOXY,CTDOXY_FLAG_W,OXYGEN,OXYGEN_FLAG_W,SILCAT,SILCAT_FLAG_W,NITRAT,NITRAT_FLAG_W,NITRIT,NITRIT_FLAG_W,PHSPHT,PHSPHT_FLAG_W,CFC-11,CFC-11_FLAG_W,CFC-12,CFC-12_FLAG_W,TRITUM,TRITUM_FLAG_W,HELIUM,HELIUM_FLAG_W,DELHE3,DELHE3_FLAG_W,DELC14,DELC14_FLAG_W,NEON,NEON_FLAG_W,TCARBN,TCARBN_FLAG_W,ALKALI,ALKALI_FLAG_W,PH,PH_FLAG_W,CTDRAW,HELIER,DELHER,NEONER,THETA,TRITER
,,,,,,,,,,,,DBAR,ITS-90,PSS-78,,PSS-78,,UMOL/KG,,UMOL/KG,,UMOL/KG,,UMOL/KG,,UMOL/KG,,UMOL/KG,,PMOL/KG,,PMOL/KG,,TU,,UMOL/KG,,PERCNT,,/MILLE,,NMOL/KG,,UMOL/KG,,UMOL/KG,,,,,NMOL/KG,PERCNT,NMOL/KG,ITS-90,TU
   318MWESTW_5,  P21W,   285,  1,     18, SI9439,2,19940620,1659,-24.8833, 154.0528, 3860,      5.8,  24.1069,  35.1437,2,  35.1433,2,    209.2,2,    208.4,2,     0.77,2,     0.00,2,     0.00,2,     0.11,2,    1.847,2,    1.026,2,    0.875,2,-999.0000,1,  -999.00,9,   -999.0,1,-999.000,9,   -999.0,9,   -999.0,9,  -999.00,9,  117.8,-999.0000,-999.000,-999.000, 24.1057,   0.008
   318MWESTW_5,  P21W,   285,  1,     17, SI9417,2,19940620,1659,-24.8833, 154.0528, 3860,     25.6,  24.1128,  35.1474,2,  35.1447,2,    215.7,2,    208.4,2,     0.77,2,    -0.01,2,     0.01,2,     0.13,2, -999.000,9, -999.000,9, -999.000,1,-999.0000,1,  -999.00,9,   -999.0,1,-999.000,9,   -999.0,9,   -999.0,9,  -999.00,9,  315.1,-999.0000,-999.000,-999.000, 24.1074,-999.000
   318MWESTW_5,  P21W,   285,  1,     16, SI9416,2,19940620,1659,-24.8833, 154.0528, 3860,     51.8,  24.0920,  35.2402,2,  35.2292,2,    223.2,2,    225.4,2,     0.78,2,    -0.01,2,     0.01,2,     0.13,2, -999.000,9, -999.000,9,    0.864,2,-999.0000,1,  -999.00,9,   -999.0,1,-999.000,9,   -999.0,9,   -999.0,9,  -999.00,9,  575.9,-999.0000,-999.000,-999.000, 24.0811,   0.008
   318MWESTW_5,  P21W,   285,  1,     15, SI9415,2,19940620,1659,-24.8833, 154.0528, 3860,     99.4,  23.6612,  35.5840,2,  35.5727,2,    210.2,2,    209.8,2,     0.78,2,    -0.01,2,     0.01,2,     0.12,2,    1.908,2,    1.047,2,    0.860,2,-999.0000,1,  -999.00,9,   -999.0,1,-999.000,9,   -999.0,9,   -999.0,9,  -999.00,9, 1050.2,-999.0000,-999.000,-999.000, 23.6404,   0.008
   318MWESTW_5,  P21W,   285,  1,     14, SI9436,2,19940620,1659,-24.8833, 154.0528, 3860,    143.1,  22.7739,  35.7346,2,  35.7339,2,    204.0,2,    200.8,2,     0.94,2,     1.70,2,     0.05,2,     0.26,2, -999.000,9, -999.000,9,    0.860,2,-999.0000,1,  -999.00,9,   -999.0,1,-999.000,9,   -999.0,9,   -999.0,9,  -999.00,9, 1485.5,-999.0000,-999.000,-999.000, 22.7448,   0.009
   318MWESTW_5,  P21W,   285,  1,     13, SI9413,2,19940620,1659,-24.8833, 154.0528, 3860,    187.6,  21.4085,  35.7184,2,  35.7173,2,    183.7,2,    187.6,2,     1.37,2,     4.15,2,     0.01,2,     0.42,2, -999.000,9, -999.000,9,    0.749,2,-999.0000,1,  -999.00,9,   -999.0,1,-999.000,9,   -999.0,9,   -999.0,9,  -999.00,9, 1928.0,-999.0000,-999.000,-999.000, 21.3720,   0.008
   318MWESTW_5,  P21W,   285,  1,     12, SI9438,2,19940620,1659,-24.8833, 154.0528, 3860,    247.6,  19.5750,  35.6174,2,  35.6109,2,    166.7,2,    165.1,2,     2.23,2,     6.70,2,     0.01,2,     0.59,2,    1.820,2,    0.967,2,    0.665,2,   1.7250,2,     0.66,2,   -999.0,1,   6.983,2,   -999.0,9,   -999.0,9,  -999.00,9, 2525.3,  0.0086,   0.080,   0.035, 19.5297,   0.007
   318MWESTW_5,  P21W,   285,  1,     11, SI9411,2,19940620,1659,-24.8833, 154.0528, 3860,    293.4,  17.0998,  35.4370,2,  35.4634,2,    166.7,2,    169.2,2,     3.22,2,     9.04,2,     0.01,2,     0.74,2, -999.000,9, -999.000,9,    0.572,2,   1.7273,2,     1.49,2,   -999.0,1,-999.000,9,   -999.0,9,   -999.0,9,  -999.00,9, 2981.5,  0.0086,   0.080,  -0.045, 17.0509,   0.007
   318MWESTW_5,  P21W,   285,  1,     10, SI9412,2,19940620,1659,-24.8833, 154.0528, 3860,    337.5,  15.8241,  35.3558,2,  35.3502,2,    175.8,2,    189.7,4,     3.51,2,     9.85,2,     0.01,2,     0.79,2, -999.000,9, -999.000,9,    0.535,2,   1.7551,2,     1.21,2,   -999.0,1,   7.270,2,   -999.0,9,   -999.0,9,  -999.00,9, 3419.9,  0.0088,   0.080,   0.036, 15.7707,   0.007
   318MWESTW_5,  P21W,   285,  1,      9, SI9410,2,19940620,1659,-24.8833, 154.0528, 3860,    396.7,  14.2299,  35.2182,2,  35.2148,2,    177.8,2,    194.2,4,     4.51,2,    11.85,2,     0.01,2,     0.93,2,    1.613,2,    0.826,2,    0.500,2,   1.7051,2,     0.59,2,   -999.0,1,   7.205,2,   -999.0,9,   -999.0,9,  -999.00,9, 4009.6,  0.0085,   0.080,   0.036, 14.1714,   0.007
   318MWESTW_5,  P21W,   285,  1,      8, SI9422,2,19940620,1659,-24.8833, 154.0528, 3860,    501.4,  10.2531,  34.8100,2,  34.7925,2,    183.2,2,    185.8,2,     9.07,2,    18.86,2,     0.00,2,     1.36,2, -999.000,9, -999.000,9,    0.274,2,   1.8905,2,     1.62,2,   -999.0,1,   7.935,2,   -999.0,9,   -999.0,9,  -999.00,9, 5050.5,  0.0095,   0.080,   0.040, 10.1932,   0.005
   318MWESTW_5,  P21W,   285,  1,      7, SI9407,2,19940620,1659,-24.8833, 154.0528, 3860,    623.2,   8.0074,  34.5786,2,  34.5793,2,    192.4,2,    191.9,2,    13.91,2,    23.03,2,     0.00,2,     1.62,2,    0.630,2,    0.329,2, -999.000,1,-999.0000,1,  -999.00,9,   -999.0,1,-999.000,9,   -999.0,9,   -999.0,9,  -999.00,9, 6261.2,-999.0000,-999.000,-999.000,  7.9430,-999.000
   318MWESTW_5,  P21W,   285,  1,      6, SI9427,2,19940620,1659,-24.8833, 154.0528, 3860,    692.0,   7.2965,  34.5240,2,  34.5209,2,    192.8,2,    204.5,4,    17.75,2,    24.78,2,     0.00,2,     1.73,2, -999.000,9, -999.000,9,    0.109,2,   1.7719,2,     2.98,2,   -999.0,1,   7.610,2,   -999.0,9,   -999.0,9,  -999.00,9, 6945.6,  0.0089,   0.080,   0.038,  7.2283,   0.005
   318MWESTW_5,  P21W,   285,  1,      5, SI9405,2,19940620,1659,-24.8833, 154.0528, 3860,    807.1,   6.2553,  34.4682,2,  34.4661,2,    192.0,2,    189.2,2,    25.99,2,    27.24,2,     0.01,2,     1.90,2, -999.000,9, -999.000,9,    0.068,2,   1.8068,2,     4.24,2,   -999.0,1,   7.723,2,   -999.0,9,   -999.0,9,  -999.00,9, 8090.5,  0.0090,   0.090,   0.039,  6.1815,   0.005
   318MWESTW_5,  P21W,   285,  1,      4, SI9404,2,19940620,1659,-24.8833, 154.0528, 3860,    883.6,   5.6954,  34.4570,2,  34.4555,2,    187.3,2,    189.0,3,    32.96,2,    28.74,2,     0.00,2,     2.00,2,    0.146,2,    0.083,2, -999.000,1,-999.0000,1,  -999.00,9,   -999.0,1,-999.000,9,   -999.0,9,   -999.0,9,  -999.00,9, 8851.5,-999.0000,-999.000,-999.000,  5.6179,-999.000
   318MWESTW_5,  P21W,   285,  1,      3, SI9403,2,19940620,1659,-24.8833, 154.0528, 3860,   1008.1,   4.9138,  34.4661,2,  34.4656,2,    178.4,2,    175.8,2,    46.32,2,    30.77,2,     0.01,2,     2.15,2, -999.000,9, -999.000,9,    0.019,2,   1.8325,2,     8.32,2,   -999.0,1,   7.767,2,   -999.0,9,   -999.0,9,  -999.00,9,10089.2,  0.0092,   0.090,   0.039,  4.8305,   0.004
   318MWESTW_5,  P21W,   285,  1,      2, SI9437,2,19940620,1659,-24.8833, 154.0528, 3860,   1078.1,   4.5494,  34.4790,2,  34.4787,2,    173.3,2,    170.5,2,    53.85,2,    31.63,2,     0.00,2,     2.23,2, -999.000,9, -999.000,9, -999.000,1,-999.0000,1,  -999.00,9,   -999.0,1,-999.000,9,   -999.0,9,   -999.0,9,  -999.00,9,10784.8,-999.0000,-999.000,-999.000,  4.4627,-999.000
   318MWESTW_5,  P21W,   285,  1,      1, SI9401,2,19940620,1659,-24.8833, 154.0528, 3860,   1200.6,   4.0043,  34.5077,2,  34.5064,2,    165.6,2,    163.3,2,    66.49,2,    32.91,2,     0.00,2,     2.31,2,    0.017,2,    0.011,2,    0.003,2,   1.8707,2,    12.04,2,   -999.0,1,   7.910,2,   -999.0,9,   -999.0,9,  -999.00,9,12002.6,  0.0094,   0.090,   0.040,  3.9116,   0.004
   318MWESTW_5,  P21W,   285,  1,     36, SI9442,2,19940620,1659,-24.8833, 154.0528, 3860,   1304.9,   3.6256,  34.5376,2,  34.5370,2,    160.3,2,    157.9,2,    75.73,2,    33.55,2,     0.00,2,     2.36,2,    0.011,2,    0.007,2, -999.000,1,-999.0000,1,  -999.00,9,   -999.0,1,-999.000,9,   -999.0,9,   -999.0,9,  -999.00,9,13040.0,-999.0000,-999.000,-999.000,  3.5276,-999.000
   318MWESTW_5,  P21W,   285,  1,     35, SI9435,2,19940620,1659,-24.8833, 154.0528, 3860,   1492.1,   3.0740,  34.5816,2,  34.5816,2,    153.2,2,    170.4,4,    89.50,2,    34.45,2,     0.00,2,     2.42,2,    0.002,2,    0.002,2,   -0.001,2,   1.8630,2,    17.79,2,   -999.0,1,   7.950,2,   -999.0,9,   -999.0,9,  -999.00,9,14900.8,  0.0093,   0.100,   0.040,  2.9660,   0.004
   318MWESTW_5,  P21W,   285,  1,     34, SI9441,2,19940620,1659,-24.8833, 154.0528, 3860,   1597.8,   2.8280,  34.6036,2,  34.6032,2,    149.8,2,    149.2,2,    96.88,2,    34.91,2,     0.01,2,     2.45,2,    0.000,2,    0.001,2, -999.000,1,-999.0000,1,  -999.00,9,   -999.0,1,-999.000,9,   -999.0,9,   -999.0,9,  -999.00,9,15952.2,-999.0000,-999.000,-999.000,  2.7140,-999.000
   318MWESTW_5,  P21W,   285,  1,     33, SI9433,2,19940620,1659,-24.8833, 154.0528, 3860,   1695.2,   2.6356,  34.6233,2,  34.6227,2,    151.0,2,    151.6,2,    98.58,2,    34.79,2,     0.01,2,     2.44,2,    0.000,2,    0.000,2,    0.003,2,   1.8702,2,    18.61,2,   -999.0,1,   7.973,2,   -999.0,9,   -999.0,9,  -999.00,9,16920.0,  0.0094,   0.100,   0.040,  2.5158,   0.004
   318MWESTW_5,  P21W,   285,  1,     32, SI9432,2,19940620,1659,-24.8833, 154.0528, 3860,   1849.9,   2.4252,  34.6497,2,  34.6498,2,    158.9,2,    158.6,2,    97.57,2,    34.12,2,     0.00,2,     2.38,2,   -0.001,2,    0.001,2, -999.000,1,-999.0000,1,  -999.00,9,   -999.0,1,-999.000,9,   -999.0,9,   -999.0,9,  -999.00,9,18458.6,-999.0000,-999.000,-999.000,  2.2951,-999.000
   318MWESTW_5,  P21W,   285,  1,     31, SI9431,2,19940620,1659,-24.8833, 154.0528, 3860,   2014.1,   2.2624,  34.6748,2,  34.6737,2,    166.6,2,    173.2,4,    95.29,2,    33.32,2,     0.00,2,     2.34,2,    0.002,2,    0.000,2, -999.000,1,-999.0000,1,  -999.00,9,   -999.0,1,-999.000,9,   -999.0,9,   -999.0,9,  -999.00,9,20090.7,-999.0000,-999.000,-999.000,  2.1206,-999.000
   318MWESTW_5,  P21W,   285,  1,     30, SI9440,2,19940620,1659,-24.8833, 154.0528, 3860,   2163.6,   2.1390,  34.6923,2,  34.6924,2,    170.5,2,    176.6,3,    95.00,2,    32.77,2,     0.00,2,     2.31,2, -999.000,9, -999.000,9, -999.000,1,-999.0000,1,  -999.00,9,   -999.0,1,-999.000,9,   -999.0,9,   -999.0,9,  -999.00,9,21577.3,-999.0000,-999.000,-999.000,  1.9862,-999.000
   318MWESTW_5,  P21W,   285,  1,     29, SI9429,2,19940620,1659,-24.8833, 154.0528, 3860,   2292.8,   2.0257,  34.7068,2,  34.7066,2,    177.2,2,    178.5,2,    95.42,2,    32.39,2,     0.00,2,     2.26,2,    0.000,2,    0.001,2, -999.000,1,-999.0000,1,  -999.00,9,   -999.0,1,-999.000,9,   -999.0,9,   -999.0,9,  -999.00,9,22861.7,-999.0000,-999.000,-999.000,  1.8634,-999.000
   318MWESTW_5,  P21W,   285,  1,     28, SI9428,2,19940620,1659,-24.8833, 154.0528, 3860,   2467.4,   1.8993,  34.7172,2,  34.7162,2,    180.7,2,    182.3,2,    97.40,2,    32.11,2,     0.00,2,     2.24,2,    0.001,2,    0.001,2, -999.000,1,-999.0000,1,  -999.00,9,   -999.0,1,-999.000,9,   -999.0,9,   -999.0,9,  -999.00,9,24598.0,-999.0000,-999.000,-999.000,  1.7236,-999.000
   318MWESTW_5,  P21W,   285,  1,     27, SI9424,2,19940620,1659,-24.8833, 154.0528, 3860,   2570.6,   1.8212,  34.7215,2,  34.7211,2,    182.8,2,    184.1,2,    99.24,2,    32.06,2,     0.01,2,     2.23,2,    0.002,2,    0.000,2, -999.000,1,-999.0000,1,  -999.00,9,   -999.0,1,-999.000,9,   -999.0,9,   -999.0,9,  -999.00,9,25624.0,-999.0000,-999.000,-999.000,  1.6376,-999.000
   318MWESTW_5,  P21W,   285,  1,     26, SI9414,2,19940620,1659,-24.8833, 154.0528, 3860,   2759.3,   1.6853,  34.7248,2,  34.7245,2,    186.0,2,    186.7,2,   102.35,2,    32.02,2,     0.01,2,     2.23,2,    0.002,2,    0.001,2, -999.000,1,-999.0000,1,  -999.00,9,   -999.0,1,-999.000,9,   -999.0,9,   -999.0,9,  -999.00,9,27499.7,-999.0000,-999.000,-999.000,  1.4870,-999.000
   318MWESTW_5,  P21W,   285,  1,     25, SI9425,2,19940620,1659,-24.8833, 154.0528, 3860,   2913.3,   1.5520,  34.7257,2,  34.7241,2,    188.1,2,    189.7,2,   105.75,2,    32.02,2,     0.01,2,     2.24,2,    0.000,2,   -0.001,2, -999.000,1,-999.0000,1,  -999.00,9,   -999.0,1,-999.000,9,   -999.0,9,   -999.0,9,  -999.00,9,29030.1,-999.0000,-999.000,-999.000,  1.3420,-999.000
   318MWESTW_5,  P21W,   285,  1,     24, SI9434,2,19940620,1659,-24.8833, 154.0528, 3860,   3115.3,   1.4041,  34.7234,2,  34.7225,2,    191.2,2,    194.9,4,   109.44,2,    32.08,2,     0.00,2,     2.24,2,    0.000,2,    0.000,2, -999.000,1,-999.0000,1,  -999.00,9,   -999.0,1,-999.000,9,   -999.0,9,   -999.0,9,  -999.00,9,31038.9,-999.0000,-999.000,-999.000,  1.1782,-999.000
   318MWESTW_5,  P21W,   285,  1,     23, SI9423,2,19940620,1659,-24.8833, 154.0528, 3860,   3308.5,   1.2854,  34.7202,2,  34.7199,2,    193.7,2,    194.0,2,   112.69,2,    32.21,2,     0.01,2,     2.25,2,   -0.001,2,    0.000,2, -999.000,1,-999.0000,1,  -999.00,9,   -999.0,1,-999.000,9,   -999.0,9,   -999.0,9,  -999.00,9,32959.8,-999.0000,-999.000,-999.000,  1.0435,-999.000
   318MWESTW_5,  P21W,   285,  1,     22, SI9418,2,19940620,1659,-24.8833, 154.0528, 3860,   3514.2,   1.1907,  34.7191,2,  34.7182,2,    194.7,2,    195.0,2,   115.10,2,    32.33,2,     0.01,2,     2.25,2,    0.001,2,    0.000,2, -999.000,1,-999.0000,1,  -999.00,9,   -999.0,1,-999.000,9,   -999.0,9,   -999.0,9,  -999.00,9,35004.5,-999.0000,-999.000,-999.000,  0.9307,-999.000
   318MWESTW_5,  P21W,   285,  1,     21, SI9421,2,19940620,1659,-24.8833, 154.0528, 3860,   3707.2,   1.1436,  34.7165,2,  34.7162,2,    194.8,2,    196.1,2,   116.64,2,    32.43,2,     0.01,2,     2.25,2,    0.002,2,    0.001,2, -999.000,1,-999.0000,1,  -999.00,9,   -999.0,1,-999.000,9,   -999.0,9,   -999.0,9,  -999.00,9,36922.5,-999.0000,-999.000,-999.000,  0.8653,-999.000
   318MWESTW_5,  P21W,   285,  1,     20, SI9420,2,19940620,1659,-24.8833, 154.0528, 3860,   3862.5,   1.1272,  34.7163,2,  34.7156,2,    194.9,2,    195.9,2,   117.49,2,    32.52,2,     0.01,2,     2.26,2,    0.003,2,    0.002,2, -999.000,1,-999.0000,1,  -999.00,9,   -999.0,1,-999.000,9,   -999.0,9,   -999.0,9,  -999.00,9,38467.2,-999.0000,-999.000,-999.000,  0.8332,-999.000
   318MWESTW_5,  P21W,   285,  1,     19, SI9419,2,19940620,1659,-24.8833, 154.0528, 3860,   3901.8,   1.1258,  34.7164,2,  34.7158,2,    194.0,2,    196.4,2,   117.87,2,    32.45,2,     0.00,2,     2.25,2,    0.002,2,    0.001,2, -999.000,1,-999.0000,1,  -999.00,9,   -999.0,1,-999.000,9,   -999.0,9,   -999.0,9,  -999.00,9,38857.3,-999.0000,-999.000,-999.000,  0.8277,-999.000