BOTTLE,20010911WHPSIOdm
EXPOCODE,SECT_ID,STNNBR,CASTNO,SAMPNO,BTLNBR,BTLNBR_FLAG_W,DATE,TIME,LATITUDE,LONGITUDE,DEPTH,CTDPRS,CTDTMP,CTDSAL,CTDSAL_FLAG_W,SALNTY,SALNTY_FLAG_W,CTDOXY,CTDOXY_FLAG_W,OXYGEN,OXYGEN_FLAG_W,SILCAT,SILCAT_FLAG_W,NITRAT,NITRAT_FLAG_W,NITRIT,NITRIT_FLAG_W,PHSPHT,PHSPHT_FLAG_W,CFC-11,CFC-11_FLAG_W,CFC-12,CFC-12_FLAG_W,TRITUM,TRITUM_FLAG_W,HELIUM,HELIUM_FLAG_W,DELHE3,DELHE3_FLAG_W,DELC14,DELC14_FLAG_W,NEON,NEON_FLAG_W,TCARBN,TCARBN_FLAG_W,ALKALI,ALKALI_FLAG_W,PH,PH_FLAG_W,CTDRAW,HELIER,DELHER,NEONER,THETA,TRITER
,,,,,,,,,,,,DBAR,ITS-90,PSS-78,,PSS-78,,UMOL/KG,,UMOL/KG,,UMOL/KG,,UMOL/KG,,UMOL/KG,,UMOL/KG,,PMOL/KG,,PMOL/KG,,TU,,UMOL/KG,,PERCNT,,/MILLE,,NMOL/KG,,UMOL/KG,,UMOL/KG,,,,,NMOL/KG,PERCNT,NMOL/KG,ITS-90,TU
   318MWESTW_4,  P21E,    59,  1,     36, SI9336,2,19940415,0311,-16.7500, -91.3333, 4377,     10.9,  22.8913,  35.9146,2,  35.9107,2,    222.3,2,    218.0,2,     0.26,2,     0.06,2,     0.02,2,     0.38,2,    2.061,2,    1.121,2, -999.000,1,-999.0000,1,  -999.00,9,   -999.0,1,-999.000,9,   -999.0,9,   -999.0,9,  -999.00,9,  149.6,-999.0000,-999.000,-999.000, 22.8891,-999.000
   318MWESTW_4,  P21E,    59,  1,     35, SI9335,2,19940415,0311,-16.7500, -91.3333, 4377,     25.2,  22.8925,  35.9131,2,  35.9078,2,    218.5,2,    217.6,2,     0.09,2,     0.02,2,     0.01,2,     0.39,2,    2.068,2,    1.122,2, -999.000,1,-999.0000,1,  -999.00,9,   -999.0,1,-999.000,9,   -999.0,9,   -999.0,9,  -999.00,9,  293.0,-999.0000,-999.000,-999.000, 22.8874,-999.000
   318MWESTW_4,  P21E,    59,  1,     34, SI9334,2,19940415,0311,-16.7500, -91.3333, 4377,     50.4,  22.8135,  35.8992,2,  35.8955,2,    213.5,2,    219.6,2,     0.09,2,     0.02,2,     0.01,2,     0.39,2,    2.061,2,    1.096,2, -999.000,1,-999.0000,1,  -999.00,9,   -999.0,1,-999.000,9,   -999.0,9,   -999.0,9,  -999.00,9,  545.5,-999.0000,-999.000,-999.000, 22.8032,-999.000
   318MWESTW_4,  P21E,    59,  1,     33, SI9333,2,19940415,0311,-16.7500, -91.3333, 4377,     99.8,  19.9027,  35.7098,2,  35.6699,2,    224.8,2,    224.0,2,     0.26,2,     0.07,2,     0.02,2,     0.37,2,    2.324,2,    1.230,2, -999.000,1,-999.0000,1,  -999.00,9,   -999.0,1,-999.000,9,   -999.0,9,   -999.0,9,  -999.00,9, 1038.7,-999.0000,-999.000,-999.000, 19.8843,-999.000
   318MWESTW_4,  P21E,    59,  1,     32, SI9332,2,19940415,0311,-16.7500, -91.3333, 4377,    149.2,  18.6788,  35.4943,2,  35.4551,2,    210.6,2,    211.0,2,     0.43,2,     1.76,2,     0.25,2,     0.49,2,    2.379,2,    1.239,2, -999.000,1,-999.0000,1,  -999.00,9,   -999.0,1,-999.000,9,   -999.0,9,   -999.0,9,  -999.00,9, 1532.8,-999.0000,-999.000,-999.000, 18.6524,-999.000
   318MWESTW_4,  P21E,    59,  1,     31, SI9331,2,19940415,0311,-16.7500, -91.3333, 4377,    198.4,  14.8038,  34.7983,2,  34.7734,2,    195.5,2,    193.6,2,     1.48,2,     7.40,2,     0.03,2,     0.78,2,    2.417,2,    1.219,2, -999.000,1,-999.0000,1,  -999.00,9,   -999.0,1,-999.000,9,   -999.0,9,   -999.0,9,  -999.00,9, 2024.2,-999.0000,-999.000,-999.000, 14.7741,-999.000
   318MWESTW_4,  P21E,    59,  1,     30, SI9330,2,19940415,0311,-16.7500, -91.3333, 4377,    250.4,  11.8547,  34.5589,2,  34.5722,2,     99.7,2,     96.6,2,    11.19,2,    19.61,2,     0.02,2,     1.92,2,    1.234,2,    0.578,2, -999.000,1,-999.0000,1,  -999.00,9,   -999.0,1,-999.000,9,   -999.0,9,   -999.0,9,  -999.00,9, 2544.2,-999.0000,-999.000,-999.000, 11.8224,-999.000
   318MWESTW_4,  P21E,    59,  1,     29, SI9329,2,19940415,0311,-16.7500, -91.3333, 4377,    300.4,  10.1455,  34.5872,2,  34.5910,2,     36.8,2,     38.3,2,    20.74,2,    29.05,2,     0.02,2,     2.55,2,    0.340,2,    0.154,2, -999.000,1,-999.0000,1,  -999.00,9,   -999.0,1,-999.000,9,   -999.0,9,   -999.0,9,  -999.00,9, 3043.2,-999.0000,-999.000,-999.000, 10.1103,-999.000
   318MWESTW_4,  P21E,    59,  1,     28, SI9328,2,19940415,0311,-16.7500, -91.3333, 4377,    401.6,   8.2881,  34.5742,2,  34.5751,2,     22.5,2,     23.4,2,    29.42,2,    38.44,2,     0.02,2,     2.84,2,    0.039,2,    0.013,2, -999.000,1,-999.0000,1,  -999.00,9,   -999.0,1,-999.000,9,   -999.0,9,   -999.0,9,  -999.00,9, 4053.7,-999.0000,-999.000,-999.000,  8.2463,-999.000
   318MWESTW_4,  P21E,    59,  1,     27, SI9327,2,19940415,0311,-16.7500, -91.3333, 4377,    500.5,   7.1937,  34.5143,2,  34.5215,2,     44.9,2,     45.4,2,    32.73,2,    39.82,2,     0.02,2,     2.83,2,    0.019,2,    0.004,2, -999.000,1,-999.0000,1,  -999.00,9,   -999.0,1,-999.000,9,   -999.0,9,   -999.0,9,  -999.00,9, 5042.4,-999.0000,-999.000,-999.000,  7.1454,-999.000
   318MWESTW_4,  P21E,    59,  1,     26, SI9326,2,19940415,0311,-16.7500, -91.3333, 4377,    603.0,   6.2804,  34.4974,2,  34.4989,2,     48.5,2,     49.3,2,    40.54,2,    41.70,2,     0.02,2,     2.95,2,    0.002,2,   -0.003,2, -999.000,1,-999.0000,1,  -999.00,9,   -999.0,1,-999.000,9,   -999.0,9,   -999.0,9,  -999.00,9, 6065.5,-999.0000,-999.000,-999.000,  6.2260,-999.000
   318MWESTW_4,  P21E,    59,  1,     25, SI9325,2,19940415,0311,-16.7500, -91.3333, 4377,    701.6,   5.7337,  34.4950,2,  34.4987,2,     47.9,2,     46.9,2,    49.22,2,    42.98,2,     0.02,2,     3.06,2,   -0.003,2,   -0.003,2, -999.000,1,-999.0000,1,  -999.00,9,   -999.0,1,-999.000,9,   -999.0,9,   -999.0,9,  -999.00,9, 7050.3,-999.0000,-999.000,-999.000,  5.6728,-999.000
   318MWESTW_4,  P21E,    59,  1,     24, SI9324,2,19940415,0311,-16.7500, -91.3333, 4377,    805.0,   5.1393,  34.5006,2,  34.5007,2,     55.4,2,     53.1,2,    58.77,2,    43.21,2,     0.02,2,     3.08,2,   -0.002,2,   -0.004,2, -999.000,1,-999.0000,1,  -999.00,9,   -999.0,1,-999.000,9,   -999.0,9,   -999.0,9,  -999.00,9, 8083.2,-999.0000,-999.000,-999.000,  5.0725,-999.000
   318MWESTW_4,  P21E,    59,  1,     23, SI9323,2,19940415,0311,-16.7500, -91.3333, 4377,    897.7,   4.6953,  34.5114,2,  34.5097,2,     59.7,2,     59.1,2,    67.80,2,    42.99,2,     0.02,2,     3.08,2,   -0.003,2,   -0.001,2, -999.000,1,-999.0000,1,  -999.00,9,   -999.0,1,-999.000,9,   -999.0,9,   -999.0,9,  -999.00,9, 9009.5,-999.0000,-999.000,-999.000,  4.6233,-999.000
   318MWESTW_4,  P21E,    59,  1,     22, SI9322,2,19940415,0311,-16.7500, -91.3333, 4377,    997.4,   4.2992,  34.5231,2,  34.5235,2,     69.4,2,     67.3,2,    76.14,2,    42.39,2,     0.02,2,     3.05,2,   -0.002,2,   -0.002,2, -999.000,1,-999.0000,1,  -999.00,9,   -999.0,1,-999.000,9,   -999.0,9,   -999.0,9,  -999.00,9,10005.5,-999.0000,-999.000,-999.000,  4.2214,-999.000
   318MWESTW_4,  P21E,    59,  1,     21, SI9321,2,19940415,0311,-16.7500, -91.3333, 4377,   1102.3,   3.9071,  34.5423,2,  34.5402,2,     74.2,2,     75.3,2,    85.35,2,    41.67,2,     0.02,2,     3.01,2, -999.000,9, -999.000,9, -999.000,1,-999.0000,1,  -999.00,9,   -999.0,1,-999.000,9,   -999.0,9,   -999.0,9,  -999.00,9,11052.9,-999.0000,-999.000,-999.000,  3.8236,-999.000
   318MWESTW_4,  P21E,    59,  1,     20, SI9320,2,19940415,0311,-16.7500, -91.3333, 4377,   1204.9,   3.5981,  34.5577,2,  34.5578,2,     77.7,2,     77.8,2,    94.21,2,    41.58,2,     0.01,2,     3.02,2, -999.000,9, -999.000,9, -999.000,1,-999.0000,1,  -999.00,9,   -999.0,1,-999.000,9,   -999.0,9,   -999.0,9,  -999.00,9,12077.5,-999.0000,-999.000,-999.000,  3.5087,-999.000
   318MWESTW_4,  P21E,    59,  1,     19, SI9319,2,19940415,0311,-16.7500, -91.3333, 4377,   1297.8,   3.3483,  34.5693,2,  34.5696,2,     83.6,2,     84.1,2,    99.60,2,    41.08,2,     0.01,2,     2.97,2, -999.000,9, -999.000,9, -999.000,1,-999.0000,1,  -999.00,9,   -999.0,1,-999.000,9,   -999.0,9,   -999.0,9,  -999.00,9,13005.7,-999.0000,-999.000,-999.000,  3.2536,-999.000
   318MWESTW_4,  P21E,    59,  1,     18, SI9318,2,19940415,0311,-16.7500, -91.3333, 4377,   1400.8,   3.1006,  34.5833,2,  34.5830,2,     89.0,2,     89.6,2,   105.68,2,    40.70,2,     0.01,2,     2.93,2, -999.000,9, -999.000,9, -999.000,1,-999.0000,1,  -999.00,9,   -999.0,1,-999.000,9,   -999.0,9,   -999.0,9,  -999.00,9,14035.2,-999.0000,-999.000,-999.000,  2.9999,-999.000
   318MWESTW_4,  P21E,    59,  1,     17, SI9317,2,19940415,0311,-16.7500, -91.3333, 4377,   1501.5,   2.8754,  34.5957,2,  34.5969,2,     94.1,2,     94.7,2,   111.59,2,    40.39,2,     0.00,2,     2.92,2, -999.000,9, -999.000,9, -999.000,1,-999.0000,1,  -999.00,9,   -999.0,1,-999.000,9,   -999.0,9,   -999.0,9,  -999.00,9,15040.8,-999.0000,-999.000,-999.000,  2.7688,-999.000
   318MWESTW_4,  P21E,    59,  1,     16, SI9316,2,19940415,0311,-16.7500, -91.3333, 4377,   1600.1,   2.7122,  34.6067,2,  34.6069,2,     98.0,2,     99.6,2,   115.94,2,    39.94,2,     0.01,2,     2.87,2, -999.000,9, -999.000,9, -999.000,1,-999.0000,1,  -999.00,9,   -999.0,1,-999.000,9,   -999.0,9,   -999.0,9,  -999.00,9,16025.5,-999.0000,-999.000,-999.000,  2.5994,-999.000
   318MWESTW_4,  P21E,    59,  1,     15, SI9315,2,19940415,0311,-16.7500, -91.3333, 4377,   1804.8,   2.4277,  34.6265,2,  34.6262,2,    109.6,2,    109.9,2,   120.85,2,    39.07,2,     0.00,2,     2.80,2, -999.000,9, -999.000,9, -999.000,1,-999.0000,1,  -999.00,9,   -999.0,1,-999.000,9,   -999.0,9,   -999.0,9,  -999.00,9,18070.5,-999.0000,-999.000,-999.000,  2.3015,-999.000
   318MWESTW_4,  P21E,    59,  1,     14, SI9314,2,19940415,0311,-16.7500, -91.3333, 4377,   2004.4,   2.2295,  34.6406,2,  34.6409,2,    119.5,2,    118.9,2,   125.33,2,    38.31,2,     0.00,2,     2.74,2, -999.000,9, -999.000,9, -999.000,1,-999.0000,1,  -999.00,9,   -999.0,1,-999.000,9,   -999.0,9,   -999.0,9,  -999.00,9,20064.5,-999.0000,-999.000,-999.000,  2.0892,-999.000
   318MWESTW_4,  P21E,    59,  1,     13, SI9313,2,19940415,0311,-16.7500, -91.3333, 4377,   2205.5,   2.0428,  34.6543,2,  34.6535,2,    128.0,2,    129.0,2,   129.31,2,    37.31,2,     0.00,2,     2.66,2, -999.000,9, -999.000,9, -999.000,1,-999.0000,1,  -999.00,9,   -999.0,1,-999.000,9,   -999.0,9,   -999.0,9,  -999.00,9,22074.2,-999.0000,-999.000,-999.000,  1.8880,-999.000
   318MWESTW_4,  P21E,    59,  1,     12, SI9312,2,19940415,0311,-16.7500, -91.3333, 4377,   2404.1,   1.9255,  34.6649,2,  34.6641,2,    138.9,2,    137.0,2,   130.14,2,    36.71,2,     0.00,2,     2.61,2, -999.000,9, -999.000,9, -999.000,1,-999.0000,1,  -999.00,9,   -999.0,1,-999.000,9,   -999.0,9,   -999.0,9,  -999.00,9,24058.6,-999.0000,-999.000,-999.000,  1.7552,-999.000
   318MWESTW_4,  P21E,    59,  1,     11, SI9311,2,19940415,0311,-16.7500, -91.3333, 4377,   2599.2,   1.8555,  34.6710,2,  34.6712,2,    142.2,2,    141.8,2,   131.47,2,    36.44,2,     0.00,2,     2.58,2, -999.000,9, -999.000,9, -999.000,1,-999.0000,1,  -999.00,9,   -999.0,1,-999.000,9,   -999.0,9,   -999.0,9,  -999.00,9,26007.9,-999.0000,-999.000,-999.000,  1.6688,-999.000
   318MWESTW_4,  P21E,    59,  1,     10, SI9310,2,19940415,0311,-16.7500, -91.3333, 4377,   2801.0,   1.8148,  34.6754,2,  34.6767,2,    144.0,2,    143.2,2,   133.13,2,    36.27,2,     0.01,2,     2.56,2, -999.000,9, -999.000,9, -999.000,1,-999.0000,1,  -999.00,9,   -999.0,1,-999.000,9,   -999.0,9,   -999.0,9,  -999.00,9,28024.6,-999.0000,-999.000,-999.000,  1.6101,-999.000
   318MWESTW_4,  P21E,    59,  1,      9, SI9309,2,19940415,0311,-16.7500, -91.3333, 4377,   2998.2,   1.7944,  34.6788,2,  34.6796,2,    144.0,2,    144.4,2,   133.97,2,    36.27,2,     0.01,2,     2.55,2, -999.000,9, -999.000,9, -999.000,1,-999.0000,1,  -999.00,9,   -999.0,1,-999.000,9,   -999.0,9,   -999.0,9,  -999.00,9,29994.4,-999.0000,-999.000,-999.000,  1.5713,-999.000
   318MWESTW_4,  P21E,    59,  1,      8, SI9308,2,19940415,0311,-16.7500, -91.3333, 4377,   3203.4,   1.7845,  34.6821,2,  34.6828,2,    145.1,2,    145.1,2,   134.30,2,    36.22,2,     0.01,2,     2.55,2, -999.000,9, -999.000,9, -999.000,1,-999.0000,1,  -999.00,9,   -999.0,1,-999.000,9,   -999.0,9,   -999.0,9,  -999.00,9,32045.2,-999.0000,-999.000,-999.000,  1.5414,-999.000
   318MWESTW_4,  P21E,    59,  1,      7, SI9307,2,19940415,0311,-16.7500, -91.3333, 4377,   3402.8,   1.7789,  34.6839,2,  34.6848,2,    145.9,2,    146.4,2,   133.31,2,    36.17,2,     0.01,2,     2.55,2, -999.000,9, -999.000,9, -999.000,1,-999.0000,1,  -999.00,9,   -999.0,1,-999.000,9,   -999.0,9,   -999.0,9,  -999.00,9,34038.0,-999.0000,-999.000,-999.000,  1.5158,-999.000
   318MWESTW_4,  P21E,    59,  1,      6, SI9306,2,19940415,0311,-16.7500, -91.3333, 4377,   3602.3,   1.7695,  34.6859,2,  34.6867,2,    148.1,2,    148.2,2,   132.49,2,    36.07,2,     0.01,2,     2.53,2, -999.000,9, -999.000,9, -999.000,1,-999.0000,1,  -999.00,9,   -999.0,1,-999.000,9,   -999.0,9,   -999.0,9,  -999.00,9,36032.0,-999.0000,-999.000,-999.000,  1.4859,-999.000
   318MWESTW_4,  P21E,    59,  1,      5, SI9305,2,19940415,0311,-16.7500, -91.3333, 4377,   3801.2,   1.7629,  34.6878,2,  34.6881,2,    151.0,2,    149.8,2,   129.84,2,    35.91,2,     0.00,2,     2.52,2, -999.000,9, -999.000,9, -999.000,1,-999.0000,1,  -999.00,9,   -999.0,1,-999.000,9,   -999.0,9,   -999.0,9,  -999.00,9,38020.6,-999.0000,-999.000,-999.000,  1.4583,-999.000
   318MWESTW_4,  P21E,    59,  1,      4, SI9304,2,19940415,0311,-16.7500, -91.3333, 4377,   3997.9,   1.7719,  34.6886,2,  34.6891,2,    151.9,2,    151.8,2,   129.51,2,    35.81,2,     0.00,2,     2.51,2, -999.000,9, -999.000,9, -999.000,1,-999.0000,1,  -999.00,9,   -999.0,1,-999.000,9,   -999.0,9,   -999.0,9,  -999.00,9,39986.3,-999.0000,-999.000,-999.000,  1.4456,-999.000
   318MWESTW_4,  P21E,    59,  1,      3, SI9303,2,19940415,0311,-16.7500, -91.3333, 4377,   4196.0,   1.7889,  34.6891,2,  34.6897,2,    152.5,2,    152.1,2,   130.18,2,    35.75,2,     0.00,2,     2.50,2, -999.000,9, -999.000,9, -999.000,1,-999.0000,1,  -999.00,9,   -999.0,1,-999.000,9,   -999.0,9,   -999.0,9,  -999.00,9,41966.5,-999.0000,-999.000,-999.000,  1.4399,-999.000
   318MWESTW_4,  P21E,    59,  1,      2, SI9302,2,19940415,0311,-16.7500, -91.3333, 4377,   4403.7,   1.8127,  34.6889,2,  34.6887,2,    152.5,2,    152.3,2,   129.18,2,    35.66,2,     0.00,2,     2.51,2, -999.000,9, -999.000,9, -999.000,1,-999.0000,1,  -999.00,9,   -999.0,1,-999.000,9,   -999.0,9,   -999.0,9,  -999.00,9,44042.8,-999.0000,-999.000,-999.000,  1.4392,-999.000
   318MWESTW_4,  P21E,    59,  1,      1, SI9301,2,19940415,0311,-16.7500, -91.3333, 4377,   4445.5,   1.8178,  34.6891,2,  34.6885,2,    150.4,2,    153.1,2,   129.98,2,    35.64,2,     0.00,2,     2.52,2, -999.000,9, -999.000,9, -999.000,1,-999.0000,1,  -999.00,9,   -999.0,1,-999.000,9,   -999.0,9,   -999.0,9,  -999.00,9,44460.1,-999.0000,-999.000,-999.000,  1.4393,-999.000