BOTTLE,20010911WHPSIOdm
EXPOCODE,SECT_ID,STNNBR,CASTNO,SAMPNO,BTLNBR,BTLNBR_FLAG_W,DATE,TIME,LATITUDE,LONGITUDE,DEPTH,CTDPRS,CTDTMP,CTDSAL,CTDSAL_FLAG_W,SALNTY,SALNTY_FLAG_W,CTDOXY,CTDOXY_FLAG_W,OXYGEN,OXYGEN_FLAG_W,SILCAT,SILCAT_FLAG_W,NITRAT,NITRAT_FLAG_W,NITRIT,NITRIT_FLAG_W,PHSPHT,PHSPHT_FLAG_W,CFC-11,CFC-11_FLAG_W,CFC-12,CFC-12_FLAG_W,TRITUM,TRITUM_FLAG_W,HELIUM,HELIUM_FLAG_W,DELHE3,DELHE3_FLAG_W,DELC14,DELC14_FLAG_W,NEON,NEON_FLAG_W,TCARBN,TCARBN_FLAG_W,ALKALI,ALKALI_FLAG_W,PH,PH_FLAG_W,CTDRAW,HELIER,DELHER,NEONER,THETA,TRITER
,,,,,,,,,,,,DBAR,ITS-90,PSS-78,,PSS-78,,UMOL/KG,,UMOL/KG,,UMOL/KG,,UMOL/KG,,UMOL/KG,,UMOL/KG,,PMOL/KG,,PMOL/KG,,TU,,UMOL/KG,,PERCNT,,/MILLE,,NMOL/KG,,UMOL/KG,,UMOL/KG,,,,,NMOL/KG,PERCNT,NMOL/KG,ITS-90,TU
   318MWESTW_4,  P21E,   106,  1,     36, SI9336,2,19940428,2303,-16.7500,-117.3333, 3376,      9.4,  26.6965,  36.5472,2,  36.5543,2,    201.4,2,    214.1,2,     0.36,2,     0.10,2,     0.01,2,     0.26,2,    1.766,2,    0.970,2, -999.000,1,-999.0000,1,  -999.00,9,   -999.0,1,-999.000,9,   2040.8,2,   2404.0,2,     8.09,2,  136.1,-999.0000,-999.000,-999.000, 26.6944,-999.000
   318MWESTW_4,  P21E,   106,  1,     35, SI9335,2,19940428,2303,-16.7500,-117.3333, 3376,     25.5,  26.5391,  36.5458,2,  36.5448,2,    203.4,2,    213.1,2,     0.38,2,     0.10,2,     0.01,2,     0.27,2,    1.737,2,    0.974,2, -999.000,1,-999.0000,1,  -999.00,9,   -999.0,1,-999.000,9,   2039.8,2,   2398.0,2,     8.10,2,  297.6,-999.0000,-999.000,-999.000, 26.5333,-999.000
   318MWESTW_4,  P21E,   106,  1,     34, SI9334,2,19940428,2303,-16.7500,-117.3333, 3376,     48.0,  26.5242,  36.5465,2,  36.5464,2,    206.8,2,    212.7,2,     0.40,2,     0.04,2,     0.01,2,     0.26,2,    1.741,2,    0.974,2, -999.000,1,-999.0000,1,  -999.00,9,   -999.0,1,-999.000,9,   2041.8,2,   2402.0,2,     8.10,2,  522.5,-999.0000,-999.000,-999.000, 26.5133,-999.000
   318MWESTW_4,  P21E,   106,  1,     33, SI9333,2,19940428,2303,-16.7500,-117.3333, 3376,    100.3,  24.5909,  36.5113,2,  36.5040,2,    218.1,2,    219.3,2,     0.42,2,     0.03,2,     0.01,2,     0.27,2,    1.987,2,    1.122,2, -999.000,1,-999.0000,1,  -999.00,9,   -999.0,1,-999.000,9,   2056.8,2,   2397.0,2,     8.07,2, 1045.3,-999.0000,-999.000,-999.000, 24.5693,-999.000
   318MWESTW_4,  P21E,   106,  1,     32, SI9332,2,19940428,2303,-16.7500,-117.3333, 3376,    149.0,  22.7223,  36.3706,2,  36.3358,2,    216.2,2,    219.1,2,     0.28,2,     0.09,2,     0.01,2,     0.25,2,    2.056,2,    1.102,2, -999.000,1,-999.0000,1,  -999.00,9,   -999.0,1,-999.000,9,   2061.8,2,   2387.0,2,     8.05,2, 1532.2,-999.0000,-999.000,-999.000, 22.6919,-999.000
   318MWESTW_4,  P21E,   106,  1,     31, SI9331,2,19940428,2303,-16.7500,-117.3333, 3376,    200.5,  20.8921,  36.0666,3,  35.9583,2,    204.8,2,    193.1,2,     0.62,2,     2.30,2,     0.06,2,     0.51,2,    2.141,2,    1.133,2, -999.000,1,-999.0000,1,  -999.00,9,   -999.0,1,-999.000,9,   2085.8,2,   2362.0,2,     7.98,2, 2047.2,-999.0000,-999.000,-999.000, 20.8536,-999.000
   318MWESTW_4,  P21E,   106,  1,     30, SI9330,2,19940428,2303,-16.7500,-117.3333, 3376,    252.3,  18.1297,  35.5391,2,  35.4787,2,    195.1,2,    188.8,2,     0.96,2,     3.77,2,     0.02,2,     0.57,2,    2.140,2,    1.110,2, -999.000,1,-999.0000,1,  -999.00,9,   -999.0,1,-999.000,9,   2083.8,2,   2332.0,2,     7.93,2, 2564.5,-999.0000,-999.000,-999.000, 18.0859,-999.000
   318MWESTW_4,  P21E,   106,  1,     29, SI9329,2,19940428,2303,-16.7500,-117.3333, 3376,    302.2,  14.8738,  34.9518,2,  34.9736,2,    177.5,2,    167.8,2,     3.05,2,     9.24,2,     0.02,2,     0.95,2,    1.875,2,    0.939,2, -999.000,1,-999.0000,1,  -999.00,9,   -999.0,1,-999.000,9,   2104.8,2,   2298.0,2,     7.83,2, 3062.8,-999.0000,-999.000,-999.000, 14.8282,-999.000
   318MWESTW_4,  P21E,   106,  1,     28, SI9328,2,19940428,2303,-16.7500,-117.3333, 3376,    401.2,   9.0473,  34.4859,2,  34.4854,2,     92.4,2,     87.1,2,    17.54,2,    29.20,2,     0.01,2,     2.33,2,    0.364,6,    0.176,6, -999.000,1,-999.0000,1,  -999.00,9,   -999.0,1,-999.000,9,   2216.9,2,   2279.0,2,     7.51,2, 4052.5,-999.0000,-999.000,-999.000,  9.0034,-999.000
   318MWESTW_4,  P21E,   106,  1,     27, SI9327,2,19940428,2303,-16.7500,-117.3333, 3376,    500.8,   6.9515,  34.4220,2,  34.4233,2,    115.0,2,    115.5,2,    21.85,2,    33.49,2,     0.01,2,     2.40,2,    0.100,2,    0.054,2, -999.000,1,-999.0000,1,  -999.00,9,   -999.0,1,-999.000,9,   -999.0,9,   2279.0,2,     7.52,2, 5046.5,-999.0000,-999.000,-999.000,  6.9042,-999.000
   318MWESTW_4,  P21E,   106,  1,     26, SI9326,2,19940428,2303,-16.7500,-117.3333, 3376,    601.8,   5.9593,  34.4243,2,  34.4283,2,    116.2,2,    109.4,2,    31.88,2,    36.64,2,     0.01,2,     2.56,2,    0.014,2,    0.006,2, -999.000,1,-999.0000,1,  -999.00,9,   -999.0,1,-999.000,9,   2233.9,2,   2292.0,2,     7.50,2, 6055.4,-999.0000,-999.000,-999.000,  5.9066,-999.000
   318MWESTW_4,  P21E,   106,  1,     25, SI9325,2,19940428,2303,-16.7500,-117.3333, 3376,    702.7,   5.4900,  34.4699,2,  34.4687,2,     89.4,2,     88.3,2,    45.57,2,    39.39,2,     0.00,2,     2.79,2,   -0.001,2,   -0.002,2, -999.000,1,-999.0000,1,  -999.00,9,   -999.0,1,-999.000,9,   2260.9,2,   2304.0,2,     7.47,2, 7063.3,-999.0000,-999.000,-999.000,  5.4304,-999.000
   318MWESTW_4,  P21E,   106,  1,     24, SI9324,2,19940428,2303,-16.7500,-117.3333, 3376,    802.9,   5.0125,  34.4889,2,  34.4899,2,     92.6,2,     90.5,2,    56.25,2,    39.74,2,     0.00,2,     2.82,2,   -0.001,2,    0.001,2, -999.000,1,-999.0000,1,  -999.00,9,   -999.0,1,-999.000,9,   2270.0,2,   2318.0,2,     7.46,2, 8064.6,-999.0000,-999.000,-999.000,  4.9467,-999.000
   318MWESTW_4,  P21E,   106,  1,     23, SI9323,2,19940428,2303,-16.7500,-117.3333, 3376,    901.2,   4.6730,  34.5075,2,  34.5025,2,     86.6,2,     87.9,2,    64.53,2,    40.27,2,     0.00,2,     2.87,2,   -0.001,2,   -0.002,2, -999.000,1,-999.0000,1,  -999.00,9,   -999.0,1,-999.000,9,   2281.0,2,   2324.0,2,     7.47,2, 9046.1,-999.0000,-999.000,-999.000,  4.6008,-999.000
   318MWESTW_4,  P21E,   106,  1,     22, SI9322,2,19940428,2303,-16.7500,-117.3333, 3376,   1002.8,   4.2360,  34.5259,2,  34.5239,2,     83.7,2,     82.9,2,    75.84,2,    41.04,2,     0.00,2,     2.94,2,   -0.001,2,   -0.004,2, -999.000,1,-999.0000,1,  -999.00,9,   -999.0,1,-999.000,9,   2297.0,2,   2339.0,2,     7.45,2,10061.3,-999.0000,-999.000,-999.000,  4.1583,-999.000
   318MWESTW_4,  P21E,   106,  1,     21, SI9321,2,19940428,2303,-16.7500,-117.3333, 3376,   1102.4,   3.9546,  34.5394,2,  34.5360,2,     87.5,2,     85.7,2,    82.85,2,    40.79,2,     0.00,2,     2.94,2, -999.000,9, -999.000,9, -999.000,1,-999.0000,1,  -999.00,9,   -999.0,1,-999.000,9,   -999.0,9,   2344.0,2,     7.46,2,11056.3,-999.0000,-999.000,-999.000,  3.8707,-999.000
   318MWESTW_4,  P21E,   106,  1,     20, SI9320,2,19940428,2303,-16.7500,-117.3333, 3376,   1200.8,   3.6749,  34.5543,2,  34.5516,2,     86.2,2,     86.0,2,    90.66,2,    40.96,2,     0.00,2,     2.95,2, -999.000,9, -999.000,9, -999.000,1,-999.0000,1,  -999.00,9,   -999.0,1,-999.000,9,   2311.0,2,   2355.0,2,     7.45,2,12039.0,-999.0000,-999.000,-999.000,  3.5851,-999.000
   318MWESTW_4,  P21E,   106,  1,     19, SI9319,2,19940428,2303,-16.7500,-117.3333, 3376,   1297.0,   3.4239,  34.5689,2,  34.5653,2,     91.2,2,     90.1,2,    96.88,2,    40.64,2,     0.01,2,     2.94,2, -999.000,9, -999.000,9, -999.000,1,-999.0000,1,  -999.00,9,   -999.0,1,-999.000,9,   2316.0,2,   2360.0,2,     7.47,2,12999.4,-999.0000,-999.000,-999.000,  3.3285,-999.000
   318MWESTW_4,  P21E,   106,  1,     18, SI9318,2,19940428,2303,-16.7500,-117.3333, 3376,   1397.5,   3.1517,  34.5820,2,  34.5800,2,     97.3,2,     95.9,2,   103.42,2,    40.17,2,     0.00,2,     2.89,2, -999.000,9, -999.000,9, -999.000,1,-999.0000,1,  -999.00,9,   -999.0,1,-999.000,9,   2320.0,2,   2369.0,2,     7.47,2,14004.2,-999.0000,-999.000,-999.000,  3.0507,-999.000
   318MWESTW_4,  P21E,   106,  1,     17, SI9317,2,19940428,2303,-16.7500,-117.3333, 3376,   1497.9,   2.9347,  34.5943,2,  34.5912,2,    102.2,2,    101.6,2,   108.83,2,    39.70,2,     0.00,2,     2.86,2, -999.000,9, -999.000,9, -999.000,1,-999.0000,1,  -999.00,9,   -999.0,1,-999.000,9,   2322.0,2,   2374.0,2,     7.49,2,15006.8,-999.0000,-999.000,-999.000,  2.8277,-999.000
   318MWESTW_4,  P21E,   106,  1,     16, SI9316,2,19940428,2303,-16.7500,-117.3333, 3376,   1598.2,   2.7390,  34.6059,2,  34.6032,2,    108.4,2,    107.4,2,   112.67,2,    39.22,2,     0.00,2,     2.82,2, -999.000,9, -999.000,9, -999.000,1,-999.0000,1,  -999.00,9,   -999.0,1,-999.000,9,   2323.0,2,   2381.0,2,     7.50,2,16008.8,-999.0000,-999.000,-999.000,  2.6260,-999.000
   318MWESTW_4,  P21E,   106,  1,     15, SI9315,3,19940428,2303,-16.7500,-117.3333, 3376,   1694.7,   2.5370,  34.6168,2,  34.6174,2,    116.6,2,    115.8,2,   115.87,2,    38.49,2,     0.00,2,     2.77,2, -999.000,9, -999.000,9, -999.000,1,-999.0000,1,  -999.00,9,   -999.0,1,-999.000,9,   2322.0,2,   2384.0,2,     7.51,2,16973.1,-999.0000,-999.000,-999.000,  2.4185,-999.000
   318MWESTW_4,  P21E,   106,  1,     14, SI9314,2,19940428,2303,-16.7500,-117.3333, 3376,   1795.9,   2.3464,  34.6267,2,  34.6286,2,    125.0,2,    125.7,2,   118.11,2,    37.90,2,     0.00,2,     2.70,2, -999.000,9, -999.000,9, -999.000,1,-999.0000,1,  -999.00,9,   -999.0,1,-999.000,9,   2319.0,2,   2389.0,2,     7.53,2,17983.5,-999.0000,-999.000,-999.000,  2.2220,-999.000
   318MWESTW_4,  P21E,   106,  1,     13, SI9313,2,19940428,2303,-16.7500,-117.3333, 3376,   1899.8,   2.2145,  34.6360,2,  34.6344,2,    134.2,2,    133.9,2,   118.60,2,    37.06,2,    -0.01,2,     2.64,2, -999.000,9, -999.000,9, -999.000,1,-999.0000,1,  -999.00,9,   -999.0,1,-999.000,9,   2318.0,2,   2389.0,2,     7.54,2,19022.2,-999.0000,-999.000,-999.000,  2.0833,-999.000
   318MWESTW_4,  P21E,   106,  1,     12, SI9312,2,19940428,2303,-16.7500,-117.3333, 3376,   1999.6,   2.1101,  34.6423,2,  34.6415,2,    142.2,2,    141.8,2,   118.31,2,    36.47,2,    -0.01,2,     2.59,2, -999.000,9, -999.000,9, -999.000,1,-999.0000,1,  -999.00,9,   -999.0,1,-999.000,9,   2312.0,2,   2386.0,2,     7.55,2,20019.3,-999.0000,-999.000,-999.000,  1.9720,-999.000
   318MWESTW_4,  P21E,   106,  1,     11, SI9311,2,19940428,2303,-16.7500,-117.3333, 3376,   2100.1,   1.9964,  34.6508,2,  34.6496,2,    150.8,2,    150.3,2,   117.85,2,    35.81,2,    -0.01,2,     2.53,2, -999.000,9, -999.000,9, -999.000,1,-999.0000,1,  -999.00,9,   -999.0,1,-999.000,9,   -999.0,9,   2390.0,2,     7.57,2,21022.5,-999.0000,-999.000,-999.000,  1.8515,-999.000
   318MWESTW_4,  P21E,   106,  1,     10, SI9310,2,19940428,2303,-16.7500,-117.3333, 3376,   2200.6,   1.9418,  34.6570,2,  34.6568,2,    153.8,2,    153.2,2,   118.82,2,    35.51,2,    -0.01,2,     2.51,2, -999.000,9, -999.000,9, -999.000,1,-999.0000,1,  -999.00,9,   -999.0,1,-999.000,9,   -999.0,9,   2389.0,2,     7.56,2,22027.5,-999.0000,-999.000,-999.000,  1.7891,-999.000
   318MWESTW_4,  P21E,   106,  1,      9, SI9309,2,19940428,2303,-16.7500,-117.3333, 3376,   2348.8,   1.8848,  34.6648,2,  34.6631,2,    155.5,2,    154.7,2,   121.70,2,    35.38,2,    -0.01,2,     2.49,2, -999.000,9, -999.000,9, -999.000,1,-999.0000,1,  -999.00,9,   -999.0,1,-999.000,9,   2306.0,2,   2393.0,2,     7.58,2,23507.7,-999.0000,-999.000,-999.000,  1.7201,-999.000
   318MWESTW_4,  P21E,   106,  1,      8, SI9308,2,19940428,2303,-16.7500,-117.3333, 3376,   2498.2,   1.8350,  34.6703,2,  34.6734,3,    155.9,2,    155.3,2,   124.26,2,    35.32,2,    -0.01,2,     2.50,2, -999.000,9, -999.000,9, -999.000,1,-999.0000,1,  -999.00,9,   -999.0,1,-999.000,9,   2308.0,2,   2398.0,2,     7.58,2,25000.6,-999.0000,-999.000,-999.000,  1.6579,-999.000
   318MWESTW_4,  P21E,   106,  1,      7, SI9307,2,19940428,2303,-16.7500,-117.3333, 3376,   2659.6,   1.7961,  34.6730,2,  34.6728,2,    157.9,2,    156.4,2,   125.39,2,    35.25,2,     0.00,2,     2.50,2, -999.000,9, -999.000,9, -999.000,1,-999.0000,1,  -999.00,9,   -999.0,1,-999.000,9,   2309.0,2,   2397.0,2,     7.58,2,26613.7,-999.0000,-999.000,-999.000,  1.6050,-999.000
   318MWESTW_4,  P21E,   106,  1,      6, SI9306,2,19940428,2303,-16.7500,-117.3333, 3376,   2799.4,   1.7709,  34.6745,2,  34.6745,2,    159.0,2,    158.7,2,   125.73,2,    35.19,2,     0.00,2,     2.49,2, -999.000,9, -999.000,9, -999.000,1,-999.0000,1,  -999.00,9,   -999.0,1,-999.000,9,   2308.0,2,   2400.0,2,     7.58,2,28009.9,-999.0000,-999.000,-999.000,  1.5673,-999.000
   318MWESTW_4,  P21E,   106,  1,      5, SI9305,2,19940428,2303,-16.7500,-117.3333, 3376,   2949.8,   1.7475,  34.6754,2,  34.6773,2,    160.6,2,    159.8,2,   126.38,2,    35.19,2,    -0.01,2,     2.49,2, -999.000,9, -999.000,9, -999.000,1,-999.0000,1,  -999.00,9,   -999.0,1,-999.000,9,   2308.0,2,   2399.0,2,     7.59,2,29513.2,-999.0000,-999.000,-999.000,  1.5301,-999.000
   318MWESTW_4,  P21E,   106,  1,      4, SI9304,2,19940428,2303,-16.7500,-117.3333, 3376,   3092.9,   1.7410,  34.6766,2,  34.6773,2,    161.7,2,    161.0,2,   126.88,2,    35.19,2,    -0.01,2,     2.48,2, -999.000,9, -999.000,9, -999.000,1,-999.0000,1,  -999.00,9,   -999.0,1,-999.000,9,   2308.0,2,   2402.0,2,     7.58,2,30943.6,-999.0000,-999.000,-999.000,  1.5099,-999.000
   318MWESTW_4,  P21E,   106,  1,      3, SI9303,2,19940428,2303,-16.7500,-117.3333, 3376,   3244.6,   1.7205,  34.6793,2,  34.6800,2,    162.0,2,    160.5,2,   128.33,2,    35.24,2,    -0.01,2,     2.49,2, -999.000,9, -999.000,9, -999.000,1,-999.0000,1,  -999.00,9,   -999.0,1,-999.000,9,   2309.0,2,   2401.0,2,     7.59,2,32459.3,-999.0000,-999.000,-999.000,  1.4748,-999.000
   318MWESTW_4,  P21E,   106,  1,      2, SI9302,2,19940428,2303,-16.7500,-117.3333, 3376,   3398.1,   1.7132,  34.6807,2,  34.6820,2,    162.0,2,    160.8,2,   128.98,2,    35.18,2,    -0.01,2,     2.49,2, -999.000,9, -999.000,9, -999.000,1,-999.0000,1,  -999.00,9,   -999.0,1,-999.000,9,   2310.0,2,   -999.0,9,     7.59,2,33993.8,-999.0000,-999.000,-999.000,  1.4522,-999.000
   318MWESTW_4,  P21E,   106,  1,      1, SI9301,2,19940428,2303,-16.7500,-117.3333, 3376,   3447.4,   1.7120,  34.6808,2,  34.6812,2,    161.5,2,    161.6,2,   128.98,2,    35.17,2,     0.00,2,     2.48,2, -999.000,9, -999.000,9, -999.000,1,-999.0000,1,  -999.00,9,   -999.0,1,-999.000,9,   2311.0,2,   2403.0,2,     7.59,2,34486.1,-999.0000,-999.000,-999.000,  1.4460,-999.000