BOTTLE,20010911WHPSIOdm
EXPOCODE,SECT_ID,STNNBR,CASTNO,SAMPNO,BTLNBR,BTLNBR_FLAG_W,DATE,TIME,LATITUDE,LONGITUDE,DEPTH,CTDPRS,CTDTMP,CTDSAL,CTDSAL_FLAG_W,SALNTY,SALNTY_FLAG_W,CTDOXY,CTDOXY_FLAG_W,OXYGEN,OXYGEN_FLAG_W,SILCAT,SILCAT_FLAG_W,NITRAT,NITRAT_FLAG_W,NITRIT,NITRIT_FLAG_W,PHSPHT,PHSPHT_FLAG_W,CFC-11,CFC-11_FLAG_W,CFC-12,CFC-12_FLAG_W,TRITUM,TRITUM_FLAG_W,HELIUM,HELIUM_FLAG_W,DELHE3,DELHE3_FLAG_W,DELC14,DELC14_FLAG_W,NEON,NEON_FLAG_W,TCARBN,TCARBN_FLAG_W,ALKALI,ALKALI_FLAG_W,PH,PH_FLAG_W,CTDRAW,HELIER,DELHER,NEONER,THETA,TRITER
,,,,,,,,,,,,DBAR,ITS-90,PSS-78,,PSS-78,,UMOL/KG,,UMOL/KG,,UMOL/KG,,UMOL/KG,,UMOL/KG,,UMOL/KG,,PMOL/KG,,PMOL/KG,,TU,,UMOL/KG,,PERCNT,,/MILLE,,NMOL/KG,,UMOL/KG,,UMOL/KG,,,,,NMOL/KG,PERCNT,NMOL/KG,ITS-90,TU
   318MWESTW_4,  P21E,    18,  1,     36, SI9436,3,19940402,0314,-16.0112, -75.4445, 5689,      4.5,  22.3473,  34.9818,2,  34.9758,2,    239.3,2,    233.1,2,     1.19,2,     0.05,2,     0.00,2,     0.36,2,    2.205,2,    1.179,2, -999.000,1,-999.0000,1,  -999.00,9,   -999.0,1,-999.000,9,   -999.0,9,   -999.0,9,  -999.00,9,   84.6,-999.0000,-999.000,-999.000, 22.3464,-999.000
   318MWESTW_4,  P21E,    18,  1,     35, SI9435,2,19940402,0314,-16.0112, -75.4445, 5689,     25.0,  16.5141,  34.9406,2,  34.9349,2,    133.4,2,     98.2,2,     4.14,2,     2.95,2,     0.65,2,     1.12,2,    2.290,2,    1.163,2, -999.000,1,-999.0000,1,  -999.00,9,   -999.0,1,-999.000,9,   -999.0,9,   -999.0,9,  -999.00,9,  289.3,-999.0000,-999.000,-999.000, 16.5101,-999.000
   318MWESTW_4,  P21E,    18,  1,     34, SI9434,2,19940402,0314,-16.0112, -75.4445, 5689,     50.4,  13.8082,  34.7970,2,  34.7960,2,     49.6,2,     33.0,2,    15.74,2,    20.96,2,     0.11,2,     2.34,2,    1.462,2,    0.732,2, -999.000,1,-999.0000,1,  -999.00,9,   -999.0,1,-999.000,9,   -999.0,9,   -999.0,9,  -999.00,9,  542.6,-999.0000,-999.000,-999.000, 13.8010,-999.000
   318MWESTW_4,  P21E,    18,  1,     33, SI9433,2,19940402,0314,-16.0112, -75.4445, 5689,    101.5,  12.9671,  34.8639,2,  34.8792,2,      2.4,2,      0.7,2,    28.89,2,    14.36,2,     2.19,2,     2.64,2,    0.478,2,    0.274,2, -999.000,1,-999.0000,1,  -999.00,9,   -999.0,1,-999.000,9,   -999.0,9,   -999.0,9,  -999.00,9, 1053.1,-999.0000,-999.000,-999.000, 12.9532,-999.000
   318MWESTW_4,  P21E,    18,  1,     32, SI9432,2,19940402,0314,-16.0112, -75.4445, 5689,    151.5,  12.1369,  34.8406,2,  34.8355,2,      1.9,2,      0.9,2,    28.57,2,    17.08,2,     3.62,2,     2.66,2,    0.268,2,    0.150,2, -999.000,1,-999.0000,1,  -999.00,9,   -999.0,1,-999.000,9,   -999.0,9,   -999.0,9,  -999.00,9, 1552.8,-999.0000,-999.000,-999.000, 12.1171,-999.000
   318MWESTW_4,  P21E,    18,  1,     31, SI9431,2,19940402,0314,-16.0112, -75.4445, 5689,    203.3,  11.0780,  34.7621,2,  34.7482,2,      3.0,2,      3.8,2,    27.55,2,    27.46,2,     0.02,2,     2.66,2,    0.181,2,    0.100,2, -999.000,1,-999.0000,1,  -999.00,9,   -999.0,1,-999.000,9,   -999.0,9,   -999.0,9,  -999.00,9, 2070.5,-999.0000,-999.000,-999.000, 11.0529,-999.000
   318MWESTW_4,  P21E,    18,  1,     30, SI9430,2,19940402,0314,-16.0112, -75.4445, 5689,    253.0,  10.5391,  34.7646,2,  34.7441,2,      1.3,2,      0.8,2,    30.35,2,    30.09,2,     0.63,2,     2.70,2,    0.085,2,    0.050,2, -999.000,1,-999.0000,1,  -999.00,9,   -999.0,1,-999.000,9,   -999.0,9,   -999.0,9,  -999.00,9, 2567.1,-999.0000,-999.000,-999.000, 10.5088,-999.000
   318MWESTW_4,  P21E,    18,  1,     29, SI9429,2,19940402,0314,-16.0112, -75.4445, 5689,    301.5,   9.9729,  34.7167,2,  34.7060,2,      1.1,2,      1.0,2,    31.92,2,    32.98,2,     0.06,2,     2.78,2,    0.059,2,    0.032,2, -999.000,1,-999.0000,1,  -999.00,9,   -999.0,1,-999.000,9,   -999.0,9,   -999.0,9,  -999.00,9, 3051.8,-999.0000,-999.000,-999.000,  9.9379,-999.000
   318MWESTW_4,  P21E,    18,  1,     28, SI9428,2,19940402,0314,-16.0112, -75.4445, 5689,    404.7,   8.4784,  34.6119,2,  34.6085,2,      6.8,2,      8.8,2,    34.19,2,    39.13,2,    -0.01,2,     2.89,2,    0.029,2,    0.017,2, -999.000,1,-999.0000,1,  -999.00,9,   -999.0,1,-999.000,9,   -999.0,9,   -999.0,9,  -999.00,9, 4082.5,-999.0000,-999.000,-999.000,  8.4357,-999.000
   318MWESTW_4,  P21E,    18,  1,     27, SI9427,2,19940402,0314,-16.0112, -75.4445, 5689,    504.1,   7.3155,  34.5366,2,  34.5523,2,     27.2,2,     21.6,2,    39.58,2,    41.97,2,     0.00,2,     3.04,2,    0.011,2,    0.008,2, -999.000,1,-999.0000,1,  -999.00,9,   -999.0,1,-999.000,9,   -999.0,9,   -999.0,9,  -999.00,9, 5074.5,-999.0000,-999.000,-999.000,  7.2664,-999.000
   318MWESTW_4,  P21E,    18,  1,     26, SI9426,2,19940402,0314,-16.0112, -75.4445, 5689,    601.4,   6.5020,  34.5282,2,  34.5270,2,     25.6,2,     25.9,2,    46.18,2,    43.43,2,     0.00,2,     3.05,2,   -0.006,2,   -0.001,2, -999.000,1,-999.0000,1,  -999.00,9,   -999.0,1,-999.000,9,   -999.0,9,   -999.0,9,  -999.00,9, 6047.0,-999.0000,-999.000,-999.000,  6.4467,-999.000
   318MWESTW_4,  P21E,    18,  1,     25, SI9425,2,19940402,0314,-16.0112, -75.4445, 5689,    699.3,   5.7808,  34.5172,2,  34.5164,2,     29.4,2,     30.6,2,    55.53,2,    44.41,2,    -0.01,2,     3.12,2,   -0.004,2,   -0.004,2, -999.000,1,-999.0000,1,  -999.00,9,   -999.0,1,-999.000,9,   -999.0,9,   -999.0,9,  -999.00,9, 7025.0,-999.0000,-999.000,-999.000,  5.7199,-999.000
   318MWESTW_4,  P21E,    18,  1,     24, SI9424,2,19940402,0314,-16.0112, -75.4445, 5689,    801.5,   5.2096,  34.5186,2,  34.5203,2,     36.1,2,     36.3,2,    65.59,2,    44.57,2,    -0.01,2,     3.15,2,   -0.007,2,   -0.005,2, -999.000,1,-999.0000,1,  -999.00,9,   -999.0,1,-999.000,9,   -999.0,9,   -999.0,9,  -999.00,9, 8045.5,-999.0000,-999.000,-999.000,  5.1427,-999.000
   318MWESTW_4,  P21E,    18,  1,     23, SI9423,2,19940402,0314,-16.0112, -75.4445, 5689,    904.3,   4.6296,  34.5285,2,  34.5315,2,     45.2,2,     47.5,2,    76.69,2,    44.09,2,    -0.01,2,     3.11,2,    0.000,2,    0.000,2, -999.000,1,-999.0000,1,  -999.00,9,   -999.0,1,-999.000,9,   -999.0,9,   -999.0,9,  -999.00,9, 9072.4,-999.0000,-999.000,-999.000,  4.5574,-999.000
   318MWESTW_4,  P21E,    18,  1,     22, SI9422,2,19940402,0314,-16.0112, -75.4445, 5689,    999.5,   4.2952,  34.5401,2,  34.5425,2,     54.6,2,     54.2,2,    84.32,2,    43.59,2,     0.00,2,     3.10,2, -999.000,9, -999.000,9, -999.000,1,-999.0000,1,  -999.00,9,   -999.0,1,-999.000,9,   -999.0,9,   -999.0,9,  -999.00,9,10023.6,-999.0000,-999.000,-999.000,  4.2173,-999.000
   318MWESTW_4,  P21E,    18,  1,     21, SI9421,2,19940402,0314,-16.0112, -75.4445, 5689,   1148.2,   3.8640,  34.5551,2,  34.5537,2,     65.3,2,     65.2,2,    92.65,2,    42.78,2,     0.00,2,     3.03,2, -999.000,9, -999.000,9, -999.000,1,-999.0000,1,  -999.00,9,   -999.0,1,-999.000,9,   -999.0,9,   -999.0,9,  -999.00,9,11508.8,-999.0000,-999.000,-999.000,  3.7770,-999.000
   318MWESTW_4,  P21E,    18,  1,     20, SI9420,2,19940402,0314,-16.0112, -75.4445, 5689,   1342.6,   3.2871,  34.5755,2,  34.5763,2,     78.5,2,     80.4,2,   104.79,2,    41.55,2,    -0.01,2,     2.94,2, -999.000,9, -999.000,9, -999.000,1,-999.0000,1,  -999.00,9,   -999.0,1,-999.000,9,   -999.0,9,   -999.0,9,  -999.00,9,13450.6,-999.0000,-999.000,-999.000,  3.1892,-999.000
   318MWESTW_4,  P21E,    18,  1,     19, SI9419,2,19940402,0314,-16.0112, -75.4445, 5689,   1594.2,   2.8088,  34.6071,2,  34.6064,2,     88.8,2,     92.2,2,   117.62,2,    40.53,2,    -0.01,2,     2.86,2, -999.000,9, -999.000,9, -999.000,1,-999.0000,1,  -999.00,9,   -999.0,1,-999.000,9,   -999.0,9,   -999.0,9,  -999.00,9,15963.8,-999.0000,-999.000,-999.000,  2.6953,-999.000
   318MWESTW_4,  P21E,    18,  1,     18, SI9418,2,19940402,0314,-16.0112, -75.4445, 5689,   1853.2,   2.4609,  34.6283,2,  34.6266,2,    105.3,2,    104.8,2,   124.74,2,    39.45,2,    -0.01,2,     2.77,2, -999.000,9, -999.000,9, -999.000,1,-999.0000,1,  -999.00,9,   -999.0,1,-999.000,9,   -999.0,9,   -999.0,9,  -999.00,9,18550.9,-999.0000,-999.000,-999.000,  2.3301,-999.000
   318MWESTW_4,  P21E,    18,  1,     17, SI9417,2,19940402,0314,-16.0112, -75.4445, 5689,   2101.1,   2.1868,  34.6483,2,  34.6478,2,    114.0,2,    112.5,2,   133.60,2,    38.59,2,    -0.01,2,     2.72,2, -999.000,9, -999.000,9, -999.000,1,-999.0000,1,  -999.00,9,   -999.0,1,-999.000,9,   -999.0,9,   -999.0,9,  -999.00,9,21027.8,-999.0000,-999.000,-999.000,  2.0388,-999.000
   318MWESTW_4,  P21E,    18,  1,     16, SI9416,2,19940402,0314,-16.0112, -75.4445, 5689,   2356.6,   1.9872,  34.6623,2,  34.6618,2,    127.1,2,    126.1,2,   133.46,2,    37.47,2,    -0.02,2,     2.61,2, -999.000,9, -999.000,9, -999.000,1,-999.0000,1,  -999.00,9,   -999.0,1,-999.000,9,   -999.0,9,   -999.0,9,  -999.00,9,23580.6,-999.0000,-999.000,-999.000,  1.8200,-999.000
   318MWESTW_4,  P21E,    18,  1,     15, SI9415,2,19940402,0314,-16.0112, -75.4445, 5689,   2587.3,   1.8817,  34.6716,2,  34.6728,3,    136.5,2,    135.7,2,   132.97,2,    36.69,2,     0.00,2,     2.54,2, -999.000,9, -999.000,9, -999.000,1,-999.0000,1,  -999.00,9,   -999.0,1,-999.000,9,   -999.0,9,   -999.0,9,  -999.00,9,25885.5,-999.0000,-999.000,-999.000,  1.6956,-999.000
   318MWESTW_4,  P21E,    18,  1,     14, SI9414,2,19940402,0314,-16.0112, -75.4445, 5689,   2835.6,   1.8141,  34.6775,2,  34.6759,2,    138.8,2,    138.4,2,   135.42,2,    36.63,2,     0.01,2,     2.52,2, -999.000,9, -999.000,9, -999.000,1,-999.0000,1,  -999.00,9,   -999.0,1,-999.000,9,   -999.0,9,   -999.0,9,  -999.00,9,28367.4,-999.0000,-999.000,-999.000,  1.6062,-999.000
   318MWESTW_4,  P21E,    18,  1,     13, SI9413,2,19940402,0314,-16.0112, -75.4445, 5689,   3102.0,   1.7916,  34.6805,2,  34.6806,2,    138.5,2,    138.7,2,   138.23,2,    36.68,2,     0.01,2,     2.52,2, -999.000,9, -999.000,9, -999.000,1,-999.0000,1,  -999.00,9,   -999.0,1,-999.000,9,   -999.0,9,   -999.0,9,  -999.00,9,31029.1,-999.0000,-999.000,-999.000,  1.5584,-999.000
   318MWESTW_4,  P21E,    18,  1,     12, SI9412,2,19940402,0314,-16.0112, -75.4445, 5689,   3347.2,   1.7859,  34.6839,2,  34.6826,2,    148.2,2,    142.1,2,   137.04,2,    36.47,2,     0.01,2,     2.51,2, -999.000,9, -999.000,9, -999.000,1,-999.0000,1,  -999.00,9,   -999.0,1,-999.000,9,   -999.0,9,   -999.0,9,  -999.00,9,33479.9,-999.0000,-999.000,-999.000,  1.5283,-999.000
   318MWESTW_4,  P21E,    18,  1,     11, SI9411,2,19940402,0314,-16.0112, -75.4445, 5689,   3594.9,   1.7649,  34.6870,2,  34.6861,2,    154.2,2,    151.6,2,   130.33,2,    35.82,2,     0.01,2,     2.45,2, -999.000,9, -999.000,9, -999.000,1,-999.0000,1,  -999.00,9,   -999.0,1,-999.000,9,   -999.0,9,   -999.0,9,  -999.00,9,35955.6,-999.0000,-999.000,-999.000,  1.4822,-999.000
   318MWESTW_4,  P21E,    18,  1,     10, SI9410,2,19940402,0314,-16.0112, -75.4445, 5689,   3834.0,   1.7439,  34.6897,2,  34.6891,2,    159.3,2,    158.6,2,   125.86,2,    35.35,2,     0.00,2,     2.41,2, -999.000,9, -999.000,9, -999.000,1,-999.0000,1,  -999.00,9,   -999.0,1,-999.000,9,   -999.0,9,   -999.0,9,  -999.00,9,38344.7,-999.0000,-999.000,-999.000,  1.4362,-999.000
   318MWESTW_4,  P21E,    18,  1,      9, SI9409,2,19940402,0314,-16.0112, -75.4445, 5689,   4089.4,   1.7417,  34.6637,4,  34.6908,2,    160.7,2,    159.3,2,   125.72,2,    35.26,2,    -0.01,2,     2.41,2, -999.000,9, -999.000,9, -999.000,1,-999.0000,1,  -999.00,9,   -999.0,1,-999.000,9,   -999.0,9,   -999.0,9,  -999.00,9,40897.7,-999.0000,-999.000,-999.000,  1.4062,-999.000
   318MWESTW_4,  P21E,    18,  1,      8, SI9408,3,19940402,0314,-16.0112, -75.4445, 5689,   4334.8,   1.7364,  34.6677,4,  34.6934,3,    161.5,2,    160.3,2,   126.10,2,    35.03,2,     0.00,2,     2.40,2, -999.000,9, -999.000,9, -999.000,1,-999.0000,1,  -999.00,9,   -999.0,1,-999.000,9,   -999.0,9,   -999.0,9,  -999.00,9,43351.1,-999.0000,-999.000,-999.000,  1.3733,-999.000
   318MWESTW_4,  P21E,    18,  1,      7, SI9407,2,19940402,0314,-16.0112, -75.4445, 5689,   4593.9,   1.7438,  34.6661,4,  34.6924,2,    162.8,2,    161.4,2,   125.96,2,    34.77,2,    -0.01,2,     2.40,2, -999.000,9, -999.000,9, -999.000,1,-999.0000,1,  -999.00,9,   -999.0,1,-999.000,9,   -999.0,9,   -999.0,9,  -999.00,9,45940.8,-999.0000,-999.000,-999.000,  1.3504,-999.000
   318MWESTW_4,  P21E,    18,  1,      6, SI9406,2,19940402,0314,-16.0112, -75.4445, 5689,   4851.2,   1.7569,  34.6936,2,  34.6932,2,    162.0,2,    161.6,2,   126.68,2,    34.60,2,     0.00,2,     2.40,2, -999.000,9, -999.000,9, -999.000,1,-999.0000,1,  -999.00,9,   -999.0,1,-999.000,9,   -999.0,9,   -999.0,9,  -999.00,9,48512.8,-999.0000,-999.000,-999.000,  1.3321,-999.000
   318MWESTW_4,  P21E,    18,  1,      5, SI9405,2,19940402,0314,-16.0112, -75.4445, 5689,   5090.9,   1.7789,  34.6937,2,  34.6928,2,    162.1,2,    161.6,2,   126.71,2,    34.65,2,     0.00,2,     2.40,2, -999.000,9, -999.000,9, -999.000,1,-999.0000,1,  -999.00,9,   -999.0,1,-999.000,9,   -999.0,9,   -999.0,9,  -999.00,9,50909.5,-999.0000,-999.000,-999.000,  1.3240,-999.000
   318MWESTW_4,  P21E,    18,  1,      4, SI9404,2,19940402,0314,-16.0112, -75.4445, 5689,   5345.3,   1.8031,  34.6940,2,  34.6926,2,    162.3,2,    161.9,2,   127.09,2,    34.70,2,     0.01,2,     2.41,2, -999.000,9, -999.000,9, -999.000,1,-999.0000,1,  -999.00,9,   -999.0,1,-999.000,9,   -999.0,9,   -999.0,9,  -999.00,9,53453.7,-999.0000,-999.000,-999.000,  1.3153,-999.000
   318MWESTW_4,  P21E,    18,  1,      3, SI9403,2,19940402,0314,-16.0112, -75.4445, 5689,   5794.5,   1.8628,  34.6937,2,  34.6928,2,    162.6,2,    161.6,2,   127.46,2,    34.75,2,     0.01,2,     2.42,2, -999.000,9, -999.000,9, -999.000,1,-999.0000,1,  -999.00,9,   -999.0,1,-999.000,9,   -999.0,9,   -999.0,9,  -999.00,9,57944.7,-999.0000,-999.000,-999.000,  1.3144,-999.000
   318MWESTW_4,  P21E,    18,  1,      2, SI9402,2,19940402,0314,-16.0112, -75.4445, 5689,   5838.0,   1.8676,  34.6937,2,  34.6938,2,    162.5,2,    161.6,2,   127.33,2,    34.76,2,     0.00,2,     2.41,2, -999.000,9, -999.000,9, -999.000,1,-999.0000,1,  -999.00,9,   -999.0,1,-999.000,9,   -999.0,9,   -999.0,9,  -999.00,9,58380.0,-999.0000,-999.000,-999.000,  1.3132,-999.000
   318MWESTW_4,  P21E,    18,  1,      1, SI9401,2,19940402,0314,-16.0112, -75.4445, 5689,   5879.5,   1.8733,  34.6934,2,  34.6950,3,    160.5,2,    161.7,2,   127.12,2,    34.91,2,    -0.01,2,     2.41,2, -999.000,9, -999.000,9, -999.000,1,-999.0000,1,  -999.00,9,   -999.0,1,-999.000,9,   -999.0,9,   -999.0,9,  -999.00,9,58795.1,-999.0000,-999.000,-999.000,  1.3131,-999.000