BOTTLE,20010911WHPSIOdm
EXPOCODE,SECT_ID,STNNBR,CASTNO,SAMPNO,BTLNBR,BTLNBR_FLAG_W,DATE,TIME,LATITUDE,LONGITUDE,DEPTH,CTDPRS,CTDTMP,CTDSAL,CTDSAL_FLAG_W,SALNTY,SALNTY_FLAG_W,CTDOXY,CTDOXY_FLAG_W,OXYGEN,OXYGEN_FLAG_W,SILCAT,SILCAT_FLAG_W,NITRAT,NITRAT_FLAG_W,NITRIT,NITRIT_FLAG_W,PHSPHT,PHSPHT_FLAG_W,CFC-11,CFC-11_FLAG_W,CFC-12,CFC-12_FLAG_W,TRITUM,TRITUM_FLAG_W,HELIUM,HELIUM_FLAG_W,DELHE3,DELHE3_FLAG_W,DELC14,DELC14_FLAG_W,NEON,NEON_FLAG_W,TCARBN,TCARBN_FLAG_W,ALKALI,ALKALI_FLAG_W,PH,PH_FLAG_W,CTDRAW,HELIER,DELHER,NEONER,THETA,TRITER
,,,,,,,,,,,,DBAR,ITS-90,PSS-78,,PSS-78,,UMOL/KG,,UMOL/KG,,UMOL/KG,,UMOL/KG,,UMOL/KG,,UMOL/KG,,PMOL/KG,,PMOL/KG,,TU,,UMOL/KG,,PERCNT,,/MILLE,,NMOL/KG,,UMOL/KG,,UMOL/KG,,,,,NMOL/KG,PERCNT,NMOL/KG,ITS-90,TU
   318MWESTW_4,  P21E,    67,  1,     36, SI9336,2,19940417,1250,-16.7500, -96.6555, 3880,      7.7,  24.1893,  36.1809,2,  36.1814,2,    234.2,2,    216.5,2,     0.65,2,     0.05,2,     0.01,2,     0.34,2,    1.855,2,    1.028,2, -999.000,1,-999.0000,1,  -999.00,9,   -999.0,1,-999.000,9,   -999.0,9,   -999.0,9,  -999.00,9,  118.1,-999.0000,-999.000,-999.000, 24.1877,-999.000
   318MWESTW_4,  P21E,    67,  1,     35, SI9335,2,19940417,1250,-16.7500, -96.6555, 3880,     24.6,  24.1751,  36.1785,2,  36.1860,2,    218.7,2,    215.5,2,     0.51,2,     0.06,2,     0.01,2,     0.35,2,    1.886,2,    1.040,2, -999.000,1,-999.0000,1,  -999.00,9,   -999.0,1,-999.000,9,   -999.0,9,   -999.0,9,  -999.00,9,  287.6,-999.0000,-999.000,-999.000, 24.1699,-999.000
   318MWESTW_4,  P21E,    67,  1,     34, SI9334,2,19940417,1250,-16.7500, -96.6555, 3880,     49.8,  24.0907,  36.1644,2,  36.1678,2,    219.4,2,    218.1,2,     0.54,2,     0.07,2,     0.01,2,     0.34,2,    1.904,2,    1.049,2, -999.000,1,-999.0000,1,  -999.00,9,   -999.0,1,-999.000,9,   -999.0,9,   -999.0,9,  -999.00,9,  539.6,-999.0000,-999.000,-999.000, 24.0801,-999.000
   318MWESTW_4,  P21E,    67,  1,     33, SI9333,2,19940417,1250,-16.7500, -96.6555, 3880,     99.5,  20.2806,  35.7503,2,  35.7564,2,    219.3,2,    221.6,2,     0.56,2,     0.25,2,     0.07,2,     0.50,2,    2.271,2,    1.216,2, -999.000,1,-999.0000,1,  -999.00,9,   -999.0,1,-999.000,9,   -999.0,9,   -999.0,9,  -999.00,9, 1036.8,-999.0000,-999.000,-999.000, 20.2620,-999.000
   318MWESTW_4,  P21E,    67,  1,     32, SI9332,2,19940417,1250,-16.7500, -96.6555, 3880,    149.7,  18.8778,  35.5367,2,  35.5470,2,    207.1,2,    204.6,2,     1.46,2,     3.58,2,     0.06,2,     0.66,2,    2.347,2,    1.254,2, -999.000,1,-999.0000,1,  -999.00,9,   -999.0,1,-999.000,9,   -999.0,9,   -999.0,9,  -999.00,9, 1538.3,-999.0000,-999.000,-999.000, 18.8512,-999.000
   318MWESTW_4,  P21E,    67,  1,     31, SI9331,2,19940417,1250,-16.7500, -96.6555, 3880,    200.4,  15.1875,  34.9394,2,  34.8896,2,    202.7,2,    180.9,2,     2.00,2,     8.55,2,     0.03,2,     0.92,2,    2.302,2,    1.149,2, -999.000,1,-999.0000,1,  -999.00,9,   -999.0,1,-999.000,9,   -999.0,9,   -999.0,9,  -999.00,9, 2045.3,-999.0000,-999.000,-999.000, 15.1569,-999.000
   318MWESTW_4,  P21E,    67,  1,     30, SI9330,2,19940417,1250,-16.7500, -96.6555, 3880,    250.8,  11.8921,  34.6524,2,  34.6107,2,     86.3,2,     78.5,2,    13.44,2,    20.24,2,     0.02,2,     2.05,2,    1.025,2,    0.505,2, -999.000,1,-999.0000,1,  -999.00,9,   -999.0,1,-999.000,9,   -999.0,9,   -999.0,9,  -999.00,9, 2548.9,-999.0000,-999.000,-999.000, 11.8596,-999.000
   318MWESTW_4,  P21E,    67,  1,     29, SI9329,2,19940417,1250,-16.7500, -96.6555, 3880,    296.6,  11.0540,  34.6731,2,  34.6879,2,     23.1,2,     15.8,2,    22.81,2,    26.87,2,     0.02,2,     2.63,2,    0.290,2,    0.136,2, -999.000,1,-999.0000,1,  -999.00,9,   -999.0,1,-999.000,9,   -999.0,9,   -999.0,9,  -999.00,9, 3006.5,-999.0000,-999.000,-999.000, 11.0173,-999.000
   318MWESTW_4,  P21E,    67,  1,     28, SI9328,2,19940417,1250,-16.7500, -96.6555, 3880,    398.3,   8.9890,  34.6141,2,  34.6201,2,     14.5,2,     14.1,2,    28.72,2,    36.76,2,     0.01,2,     2.78,2,    0.036,2,    0.015,2, -999.000,1,-999.0000,1,  -999.00,9,   -999.0,1,-999.000,9,   -999.0,9,   -999.0,9,  -999.00,9, 4022.1,-999.0000,-999.000,-999.000,  8.9455,-999.000
   318MWESTW_4,  P21E,    67,  1,     27, SI9327,2,19940417,1250,-16.7500, -96.6555, 3880,    494.8,   7.6259,  34.5608,2,  34.5606,2,     28.5,2,     29.2,2,    33.94,2,    40.10,2,     0.01,2,     2.84,2,    0.014,2,    0.007,2, -999.000,1,-999.0000,1,  -999.00,9,   -999.0,1,-999.000,9,   -999.0,9,   -999.0,9,  -999.00,9, 4985.5,-999.0000,-999.000,-999.000,  7.5766,-999.000
   318MWESTW_4,  P21E,    67,  1,     26, SI9326,2,19940417,1250,-16.7500, -96.6555, 3880,    599.1,   6.4977,  34.5124,2,  34.5109,2,     41.2,2,     44.1,2,    40.19,2,    41.62,2,     0.01,2,     2.91,2,    0.005,2,    0.001,2, -999.000,1,-999.0000,1,  -999.00,9,   -999.0,1,-999.000,9,   -999.0,9,   -999.0,9,  -999.00,9, 6027.3,-999.0000,-999.000,-999.000,  6.4427,-999.000
   318MWESTW_4,  P21E,    67,  1,     25, SI9325,2,19940417,1250,-16.7500, -96.6555, 3880,    699.4,   5.8106,  34.5049,2,  34.5115,2,     43.2,2,     36.9,2,    51.28,2,    43.79,2,     0.01,2,     3.08,2,    0.002,2,   -0.003,2, -999.000,1,-999.0000,1,  -999.00,9,   -999.0,1,-999.000,9,   -999.0,9,   -999.0,9,  -999.00,9, 7029.2,-999.0000,-999.000,-999.000,  5.7495,-999.000
   318MWESTW_4,  P21E,    67,  1,     24, SI9324,2,19940417,1250,-16.7500, -96.6555, 3880,    800.0,   5.3479,  34.5072,2,  34.5056,2,     43.1,2,     45.8,2,    57.35,2,    43.65,2,     0.00,2,     3.07,2,   -0.004,2,   -0.004,2, -999.000,1,-999.0000,1,  -999.00,9,   -999.0,1,-999.000,9,   -999.0,9,   -999.0,9,  -999.00,9, 8034.4,-999.0000,-999.000,-999.000,  5.2803,-999.000
   318MWESTW_4,  P21E,    67,  1,     23, SI9323,2,19940417,1250,-16.7500, -96.6555, 3880,    899.0,   4.8981,  34.5160,2,  34.5154,2,     45.6,2,     46.9,2,    67.24,2,    44.18,2,     0.00,2,     3.11,2, -999.000,9, -999.000,9, -999.000,1,-999.0000,1,  -999.00,9,   -999.0,1,-999.000,9,   -999.0,9,   -999.0,9,  -999.00,9, 9022.8,-999.0000,-999.000,-999.000,  4.8245,-999.000
   318MWESTW_4,  P21E,    67,  1,     22, SI9322,2,19940417,1250,-16.7500, -96.6555, 3880,   1000.1,   4.4472,  34.5284,2,  34.5298,2,     59.3,2,     59.1,2,    76.08,2,    43.04,2,     0.00,2,     3.05,2, -999.000,9, -999.000,9, -999.000,1,-999.0000,1,  -999.00,9,   -999.0,1,-999.000,9,   -999.0,9,   -999.0,9,  -999.00,9,10032.7,-999.0000,-999.000,-999.000,  4.3681,-999.000
   318MWESTW_4,  P21E,    67,  1,     21, SI9321,2,19940417,1250,-16.7500, -96.6555, 3880,   1097.4,   4.0619,  34.5378,2,  34.5392,2,     68.5,2,     69.4,2,    83.53,2,    41.96,2,     0.00,2,     3.01,2, -999.000,9, -999.000,9, -999.000,1,-999.0000,1,  -999.00,9,   -999.0,1,-999.000,9,   -999.0,9,   -999.0,9,  -999.00,9,11005.4,-999.0000,-999.000,-999.000,  3.9775,-999.000
   318MWESTW_4,  P21E,    67,  1,     20, SI9320,2,19940417,1250,-16.7500, -96.6555, 3880,   1198.2,   3.7506,  34.5513,2,  34.5518,2,     76.5,2,     74.7,2,    91.33,2,    41.51,2,     0.00,2,     2.99,2, -999.000,9, -999.000,9, -999.000,1,-999.0000,1,  -999.00,9,   -999.0,1,-999.000,9,   -999.0,9,   -999.0,9,  -999.00,9,12012.2,-999.0000,-999.000,-999.000,  3.6604,-999.000
   318MWESTW_4,  P21E,    67,  1,     19, SI9319,2,19940417,1250,-16.7500, -96.6555, 3880,   1299.5,   3.4730,  34.5630,2,  34.5653,2,     80.9,2,     81.5,2,    97.75,2,    40.94,2,     0.00,2,     2.95,2, -999.000,9, -999.000,9, -999.000,1,-999.0000,1,  -999.00,9,   -999.0,1,-999.000,9,   -999.0,9,   -999.0,9,  -999.00,9,13023.5,-999.0000,-999.000,-999.000,  3.3769,-999.000
   318MWESTW_4,  P21E,    67,  1,     18, SI9318,2,19940417,1250,-16.7500, -96.6555, 3880,   1397.1,   3.2587,  34.5751,2,  34.5769,2,     85.6,2,     86.3,2,   103.30,2,    40.55,2,     0.00,2,     2.92,2, -999.000,9, -999.000,9, -999.000,1,-999.0000,1,  -999.00,9,   -999.0,1,-999.000,9,   -999.0,9,   -999.0,9,  -999.00,9,13998.6,-999.0000,-999.000,-999.000,  3.1566,-999.000
   318MWESTW_4,  P21E,    67,  1,     17, SI9317,2,19940417,1250,-16.7500, -96.6555, 3880,   1469.8,   3.1196,  34.5820,2,  34.5848,2,     90.7,2,     90.6,2,   106.25,2,    40.39,2,     0.00,2,     2.89,2, -999.000,9, -999.000,9, -999.000,1,-999.0000,1,  -999.00,9,   -999.0,1,-999.000,9,   -999.0,9,   -999.0,9,  -999.00,9,14724.6,-999.0000,-999.000,-999.000,  3.0129,-999.000
   318MWESTW_4,  P21E,    67,  1,     16, SI9316,2,19940417,1250,-16.7500, -96.6555, 3880,   1595.6,   2.8665,  34.5969,2,  34.6005,2,     96.0,2,     97.5,2,   112.32,2,    39.77,2,    -0.01,2,     2.83,2, -999.000,9, -999.000,9, -999.000,1,-999.0000,1,  -999.00,9,   -999.0,1,-999.000,9,   -999.0,9,   -999.0,9,  -999.00,9,15981.4,-999.0000,-999.000,-999.000,  2.7522,-999.000
   318MWESTW_4,  P21E,    67,  1,     15, SI9315,2,19940417,1250,-16.7500, -96.6555, 3880,   1755.2,   2.6215,  34.6129,2,  34.6156,2,    102.3,2,    104.3,2,   118.56,2,    39.26,2,    -0.01,2,     2.80,2, -999.000,9, -999.000,9, -999.000,1,-999.0000,1,  -999.00,9,   -999.0,1,-999.000,9,   -999.0,9,   -999.0,9,  -999.00,9,17576.1,-999.0000,-999.000,-999.000,  2.4969,-999.000
   318MWESTW_4,  P21E,    67,  1,     14, SI9314,2,19940417,1250,-16.7500, -96.6555, 3880,   1905.9,   2.4339,  34.6273,2,  34.6295,2,    108.2,2,    110.3,2,   123.59,2,    38.76,2,    -0.01,2,     2.75,2, -999.000,9, -999.000,9, -999.000,1,-999.0000,1,  -999.00,9,   -999.0,1,-999.000,9,   -999.0,9,   -999.0,9,  -999.00,9,19081.3,-999.0000,-999.000,-999.000,  2.2990,-999.000
   318MWESTW_4,  P21E,    67,  1,     13, SI9313,2,19940417,1250,-16.7500, -96.6555, 3880,   2057.0,   2.2485,  34.6419,2,  34.6411,2,    115.8,2,    116.8,2,   128.27,2,    38.26,2,    -0.01,2,     2.71,2, -999.000,9, -999.000,9, -999.000,1,-999.0000,1,  -999.00,9,   -999.0,1,-999.000,9,   -999.0,9,   -999.0,9,  -999.00,9,20591.4,-999.0000,-999.000,-999.000,  2.1034,-999.000
   318MWESTW_4,  P21E,    67,  1,     12, SI9312,2,19940417,1250,-16.7500, -96.6555, 3880,   2202.2,   2.1045,  34.6503,2,  34.6515,2,    129.0,2,    128.5,2,   126.74,2,    37.28,2,    -0.01,2,     2.63,2, -999.000,9, -999.000,9, -999.000,1,-999.0000,1,  -999.00,9,   -999.0,1,-999.000,9,   -999.0,9,   -999.0,9,  -999.00,9,22042.3,-999.0000,-999.000,-999.000,  1.9490,-999.000
   318MWESTW_4,  P21E,    67,  1,     11, SI9311,2,19940417,1250,-16.7500, -96.6555, 3880,   2349.5,   1.9607,  34.6592,2,  34.6602,2,    148.2,2,    144.3,2,   123.29,2,    36.12,2,     0.01,2,     2.52,2, -999.000,9, -999.000,9, -999.000,1,-999.0000,1,  -999.00,9,   -999.0,1,-999.000,9,   -999.0,9,   -999.0,9,  -999.00,9,23514.1,-999.0000,-999.000,-999.000,  1.7947,-999.000
   318MWESTW_4,  P21E,    67,  1,     10, SI9310,2,19940417,1250,-16.7500, -96.6555, 3880,   2505.0,   1.8886,  34.6669,2,  34.6667,2,    150.5,2,    149.0,2,   123.65,2,    35.68,2,     0.00,2,     2.49,2, -999.000,9, -999.000,9, -999.000,1,-999.0000,1,  -999.00,9,   -999.0,1,-999.000,9,   -999.0,9,   -999.0,9,  -999.00,9,25067.1,-999.0000,-999.000,-999.000,  1.7099,-999.000
   318MWESTW_4,  P21E,    67,  1,      9, SI9309,2,19940417,1250,-16.7500, -96.6555, 3880,   2649.7,   1.8428,  34.6721,2,  34.6743,2,    151.4,2,    150.6,2,   125.75,2,    35.57,2,     0.00,2,     2.48,2, -999.000,9, -999.000,9, -999.000,1,-999.0000,1,  -999.00,9,   -999.0,1,-999.000,9,   -999.0,9,   -999.0,9,  -999.00,9,26513.3,-999.0000,-999.000,-999.000,  1.6517,-999.000
   318MWESTW_4,  P21E,    67,  1,      8, SI9308,2,19940417,1250,-16.7500, -96.6555, 3880,   2808.7,   1.8130,  34.6769,2,  34.8351,4,    151.1,2,    111.2,4,    82.06,4,    30.66,4,     0.03,4,     2.26,4, -999.000,9, -999.000,9, -999.000,1,-999.0000,1,  -999.00,9,   -999.0,1,-999.000,9,   -999.0,9,   -999.0,9,  -999.00,9,28102.2,-999.0000,-999.000,-999.000,  1.6077,-999.000
   318MWESTW_4,  P21E,    67,  1,      7, SI9307,2,19940417,1250,-16.7500, -96.6555, 3880,   2951.0,   1.8049,  34.6788,2,  34.6794,2,    146.5,2,    148.0,2,   130.96,2,    35.77,2,     0.00,2,     2.50,2, -999.000,9, -999.000,9, -999.000,1,-999.0000,1,  -999.00,9,   -999.0,1,-999.000,9,   -999.0,9,   -999.0,9,  -999.00,9,29524.1,-999.0000,-999.000,-999.000,  1.5862,-999.000
   318MWESTW_4,  P21E,    67,  1,      6, SI9306,2,19940417,1250,-16.7500, -96.6555, 3880,   3095.1,   1.7949,  34.6814,2,  34.6816,2,    147.2,2,    146.8,2,   132.88,2,    35.91,2,     0.00,2,     2.50,2, -999.000,9, -999.000,9, -999.000,1,-999.0000,1,  -999.00,9,   -999.0,1,-999.000,9,   -999.0,9,   -999.0,9,  -999.00,9,30964.0,-999.0000,-999.000,-999.000,  1.5623,-999.000
   318MWESTW_4,  P21E,    67,  1,      5, SI9305,2,19940417,1250,-16.7500, -96.6555, 3880,   3296.6,   1.7928,  34.6834,2,  34.6838,2,    147.7,2,    147.7,2,   133.07,2,    35.93,2,     0.00,2,     2.50,2, -999.000,9, -999.000,9, -999.000,1,-999.0000,1,  -999.00,9,   -999.0,1,-999.000,9,   -999.0,9,   -999.0,9,  -999.00,9,32977.5,-999.0000,-999.000,-999.000,  1.5402,-999.000
   318MWESTW_4,  P21E,    67,  1,      4, SI9304,2,19940417,1250,-16.7500, -96.6555, 3880,   3496.9,   1.7939,  34.6853,2,  34.6885,2,    147.8,2,    148.2,2,   132.39,2,    35.82,2,     0.00,2,     2.49,2, -999.000,9, -999.000,9, -999.000,1,-999.0000,1,  -999.00,9,   -999.0,1,-999.000,9,   -999.0,9,   -999.0,9,  -999.00,9,34979.9,-999.0000,-999.000,-999.000,  1.5207,-999.000
   318MWESTW_4,  P21E,    67,  1,      3, SI9303,2,19940417,1250,-16.7500, -96.6555, 3880,   3698.3,   1.7974,  34.6868,2,  34.6891,2,    148.6,2,    149.4,2,   132.23,2,    35.73,2,    -0.01,2,     2.48,2, -999.000,9, -999.000,9, -999.000,1,-999.0000,1,  -999.00,9,   -999.0,1,-999.000,9,   -999.0,9,   -999.0,9,  -999.00,9,36993.1,-999.0000,-999.000,-999.000,  1.5029,-999.000
   318MWESTW_4,  P21E,    67,  1,      2, SI9302,2,19940417,1250,-16.7500, -96.6555, 3880,   3858.9,   1.7973,  34.6877,2,  34.6905,2,    149.4,2,    150.0,2,   132.42,2,    35.70,2,    -0.01,2,     2.48,2, -999.000,9, -999.000,9, -999.000,1,-999.0000,1,  -999.00,9,   -999.0,1,-999.000,9,   -999.0,9,   -999.0,9,  -999.00,9,38598.0,-999.0000,-999.000,-999.000,  1.4855,-999.000
   318MWESTW_4,  P21E,    67,  1,      1, SI9301,2,19940417,1250,-16.7500, -96.6555, 3880,   3900.8,   1.7996,  34.6878,2,  34.6893,2,    148.2,2,    150.0,2,   131.45,2,    35.66,2,     0.00,2,     2.48,2, -999.000,9, -999.000,9, -999.000,1,-999.0000,1,  -999.00,9,   -999.0,1,-999.000,9,   -999.0,9,   -999.0,9,  -999.00,9,39016.7,-999.0000,-999.000,-999.000,  1.4832,-999.000