BOTTLE,20010911WHPSIOdm
EXPOCODE,SECT_ID,STNNBR,CASTNO,SAMPNO,BTLNBR,BTLNBR_FLAG_W,DATE,TIME,LATITUDE,LONGITUDE,DEPTH,CTDPRS,CTDTMP,CTDSAL,CTDSAL_FLAG_W,SALNTY,SALNTY_FLAG_W,CTDOXY,CTDOXY_FLAG_W,OXYGEN,OXYGEN_FLAG_W,SILCAT,SILCAT_FLAG_W,NITRAT,NITRAT_FLAG_W,NITRIT,NITRIT_FLAG_W,PHSPHT,PHSPHT_FLAG_W,CFC-11,CFC-11_FLAG_W,CFC-12,CFC-12_FLAG_W,TRITUM,TRITUM_FLAG_W,HELIUM,HELIUM_FLAG_W,DELHE3,DELHE3_FLAG_W,DELC14,DELC14_FLAG_W,NEON,NEON_FLAG_W,TCARBN,TCARBN_FLAG_W,ALKALI,ALKALI_FLAG_W,PH,PH_FLAG_W,CTDRAW,HELIER,DELHER,NEONER,THETA,TRITER
,,,,,,,,,,,,DBAR,ITS-90,PSS-78,,PSS-78,,UMOL/KG,,UMOL/KG,,UMOL/KG,,UMOL/KG,,UMOL/KG,,UMOL/KG,,PMOL/KG,,PMOL/KG,,TU,,UMOL/KG,,PERCNT,,/MILLE,,NMOL/KG,,UMOL/KG,,UMOL/KG,,,,,NMOL/KG,PERCNT,NMOL/KG,ITS-90,TU
   318MWESTW_4,  P21E,    20,  1,     36, SI9336,2,19940402,1553,-16.1250, -75.5833, 5242,      8.8,  22.9513,  34.9686,2,  34.9705,2,    231.6,2,    235.3,2,     0.25,2,    -0.09,2,     0.00,2,     0.31,2,    2.155,2,    1.146,2, -999.000,1,-999.0000,1,  -999.00,9,   -999.0,1,-999.000,9,   -999.0,9,   -999.0,9,  -999.00,9,  130.2,-999.0000,-999.000,-999.000, 22.9495,-999.000
   318MWESTW_4,  P21E,    20,  1,     35, SI9335,2,19940402,1553,-16.1250, -75.5833, 5242,     26.9,  15.8953,  34.8709,2,  34.9264,2,    122.6,2,     89.3,2,     4.44,2,     7.49,2,     1.32,2,     1.38,2,    2.237,2,    1.112,2, -999.000,1,-999.0000,1,  -999.00,9,   -999.0,1,-999.000,9,   -999.0,9,   -999.0,9,  -999.00,9,  310.9,-999.0000,-999.000,-999.000, 15.8911,-999.000
   318MWESTW_4,  P21E,    20,  1,     34, SI9334,2,19940402,1553,-16.1250, -75.5833, 5242,     49.3,  14.0895,  34.7928,2,  34.7919,2,     50.2,2,     43.9,2,    12.26,2,    20.80,2,     0.12,2,     2.23,2,    1.671,3,    0.729,3, -999.000,1,-999.0000,1,  -999.00,9,   -999.0,1,-999.000,9,   -999.0,9,   -999.0,9,  -999.00,9,  534.7,-999.0000,-999.000,-999.000, 14.0824,-999.000
   318MWESTW_4,  P21E,    20,  1,     33, SI9333,2,19940402,1553,-16.1250, -75.5833, 5242,     98.3,  12.6864,  34.7620,2,  34.7573,2,     19.2,2,     19.2,2,    21.65,2,    18.97,2,     0.00,2,     2.53,2,    0.849,2,    0.419,2, -999.000,1,-999.0000,1,  -999.00,9,   -999.0,1,-999.000,9,   -999.0,9,   -999.0,9,  -999.00,9, 1024.1,-999.0000,-999.000,-999.000, 12.6732,-999.000
   318MWESTW_4,  P21E,    20,  1,     32, SI9332,2,19940402,1553,-16.1250, -75.5833, 5242,    149.5,  11.7990,  34.7411,2,  34.7766,2,     13.7,2,      5.1,2,    25.65,2,    22.94,2,     0.00,2,     2.67,2,    0.329,2,    0.166,2, -999.000,1,-999.0000,1,  -999.00,9,   -999.0,1,-999.000,9,   -999.0,9,   -999.0,9,  -999.00,9, 1536.1,-999.0000,-999.000,-999.000, 11.7798,-999.000
   318MWESTW_4,  P21E,    20,  1,     31, SI9331,2,19940402,1553,-16.1250, -75.5833, 5242,    202.7,  11.0867,  34.7494,2,  34.7459,2,      4.1,2,      4.5,2,    26.87,2,    27.31,2,     0.02,2,     2.71,2,    0.200,2,    0.098,2, -999.000,1,-999.0000,1,  -999.00,9,   -999.0,1,-999.000,9,   -999.0,9,   -999.0,9,  -999.00,9, 2067.3,-999.0000,-999.000,-999.000, 11.0616,-999.000
   318MWESTW_4,  P21E,    20,  1,     30, SI9330,2,19940402,1553,-16.1250, -75.5833, 5242,    252.0,  10.4990,  34.7402,2,  34.7337,2,      2.0,2,      0.8,2,    29.30,2,    29.24,2,     1.10,2,     2.75,2,    0.093,2,    0.046,2, -999.000,1,-999.0000,1,  -999.00,9,   -999.0,1,-999.000,9,   -999.0,9,   -999.0,9,  -999.00,9, 2559.9,-999.0000,-999.000,-999.000, 10.4689,-999.000
   318MWESTW_4,  P21E,    20,  1,     29, SI9329,2,19940402,1553,-16.1250, -75.5833, 5242,    302.6,   9.8700,  34.6991,2,  34.6963,2,      1.4,2,      1.2,2,    31.04,2,    33.57,2,     0.00,2,     2.83,2,    0.059,2,    0.026,2, -999.000,1,-999.0000,1,  -999.00,9,   -999.0,1,-999.000,9,   -999.0,9,   -999.0,9,  -999.00,9, 3064.8,-999.0000,-999.000,-999.000,  9.8351,-999.000
   318MWESTW_4,  P21E,    20,  1,     28, SI9328,2,19940402,1553,-16.1250, -75.5833, 5242,    401.6,   8.3822,  34.6081,2,  34.6069,2,      7.5,2,      8.8,2,    34.69,2,    39.20,2,    -0.01,2,     2.93,2,    0.032,2,    0.010,2, -999.000,1,-999.0000,1,  -999.00,9,   -999.0,1,-999.000,9,   -999.0,9,   -999.0,9,  -999.00,9, 4054.4,-999.0000,-999.000,-999.000,  8.3401,-999.000
   318MWESTW_4,  P21E,    20,  1,     27, SI9327,2,19940402,1553,-16.1250, -75.5833, 5242,    504.4,   7.1190,  34.5226,2,  34.5258,2,     33.4,2,     32.0,2,    37.13,2,    41.20,2,     0.00,2,     2.94,2,    0.034,2,    0.008,2, -999.000,1,-999.0000,1,  -999.00,9,   -999.0,1,-999.000,9,   -999.0,9,   -999.0,9,  -999.00,9, 5080.5,-999.0000,-999.000,-999.000,  7.0706,-999.000
   318MWESTW_4,  P21E,    20,  1,     26, SI9326,2,19940402,1553,-16.1250, -75.5833, 5242,    602.0,   6.3117,  34.4917,2,  34.4928,2,     43.5,2,     45.0,2,    42.00,2,    42.01,2,    -0.01,2,     2.95,2,    0.014,2,    0.001,2, -999.000,1,-999.0000,1,  -999.00,9,   -999.0,1,-999.000,9,   -999.0,9,   -999.0,9,  -999.00,9, 6056.1,-999.0000,-999.000,-999.000,  6.2573,-999.000
   318MWESTW_4,  P21E,    20,  1,     25, SI9325,2,19940402,1553,-16.1250, -75.5833, 5242,    697.8,   5.7776,  34.5121,2,  34.5140,2,     30.1,2,     31.0,2,    54.66,2,    44.38,2,    -0.01,2,     3.14,2,    0.002,2,   -0.002,2, -999.000,1,-999.0000,1,  -999.00,9,   -999.0,1,-999.000,9,   -999.0,9,   -999.0,9,  -999.00,9, 7012.8,-999.0000,-999.000,-999.000,  5.7168,-999.000
   318MWESTW_4,  P21E,    20,  1,     24, SI9324,2,19940402,1553,-16.1250, -75.5833, 5242,    803.0,   5.0486,  34.5039,2,  34.5117,2,     44.5,2,     42.6,2,    65.43,2,    44.02,2,    -0.01,2,     3.14,2,   -0.003,2,   -0.003,2, -999.000,1,-999.0000,1,  -999.00,9,   -999.0,1,-999.000,9,   -999.0,9,   -999.0,9,  -999.00,9, 8062.9,-999.0000,-999.000,-999.000,  4.9825,-999.000
   318MWESTW_4,  P21E,    20,  1,     23, SI9323,2,19940402,1553,-16.1250, -75.5833, 5242,    900.7,   4.5811,  34.5220,2,  34.5284,2,     45.8,2,     49.3,2,    76.36,2,    44.02,2,    -0.01,2,     3.14,2,   -0.002,2,   -0.002,2, -999.000,1,-999.0000,1,  -999.00,9,   -999.0,1,-999.000,9,   -999.0,9,   -999.0,9,  -999.00,9, 9039.6,-999.0000,-999.000,-999.000,  4.5096,-999.000
   318MWESTW_4,  P21E,    20,  1,     22, SI9322,2,19940402,1553,-16.1250, -75.5833, 5242,    999.4,   4.2489,  34.5288,2,  34.5374,2,     57.6,2,     57.9,2,    82.94,2,    43.38,2,    -0.01,2,     3.09,2, -999.000,9, -999.000,9, -999.000,1,-999.0000,1,  -999.00,9,   -999.0,1,-999.000,9,   -999.0,9,   -999.0,9,  -999.00,9,10025.5,-999.0000,-999.000,-999.000,  4.1713,-999.000
   318MWESTW_4,  P21E,    20,  1,     21, SI9321,2,19940402,1553,-16.1250, -75.5833, 5242,   1100.0,   3.9450,  34.5467,2,  34.5478,2,     65.1,2,     64.7,2,    89.71,2,    42.86,2,    -0.01,2,     3.06,2, -999.000,9, -999.000,9, -999.000,1,-999.0000,1,  -999.00,9,   -999.0,1,-999.000,9,   -999.0,9,   -999.0,9,  -999.00,9,11030.1,-999.0000,-999.000,-999.000,  3.8613,-999.000
   318MWESTW_4,  P21E,    20,  1,     20, SI9320,2,19940402,1553,-16.1250, -75.5833, 5242,   1205.7,   3.6664,  34.5584,2,  34.5600,2,     68.8,2,     70.7,2,    95.94,2,    42.27,2,     0.00,2,     3.02,2, -999.000,9, -999.000,9, -999.000,1,-999.0000,1,  -999.00,9,   -999.0,1,-999.000,9,   -999.0,9,   -999.0,9,  -999.00,9,12085.8,-999.0000,-999.000,-999.000,  3.5763,-999.000
   318MWESTW_4,  P21E,    20,  1,     19, SI9319,2,19940402,1553,-16.1250, -75.5833, 5242,   1302.8,   3.3978,  34.5701,2,  34.5706,2,     74.9,2,     77.3,2,   102.35,2,    41.53,2,     0.00,2,     2.98,2, -999.000,9, -999.000,9, -999.000,1,-999.0000,1,  -999.00,9,   -999.0,1,-999.000,9,   -999.0,9,   -999.0,9,  -999.00,9,13055.4,-999.0000,-999.000,-999.000,  3.3021,-999.000
   318MWESTW_4,  P21E,    20,  1,     18, SI9318,2,19940402,1553,-16.1250, -75.5833, 5242,   1447.2,   3.0660,  34.5902,2,  34.5926,2,     81.1,2,     82.8,2,   112.41,2,    40.85,2,     0.00,2,     2.95,2, -999.000,9, -999.000,9, -999.000,1,-999.0000,1,  -999.00,9,   -999.0,1,-999.000,9,   -999.0,9,   -999.0,9,  -999.00,9,14498.4,-999.0000,-999.000,-999.000,  2.9618,-999.000
   318MWESTW_4,  P21E,    20,  1,     17, SI9317,2,19940402,1553,-16.1250, -75.5833, 5242,   1604.1,   2.8164,  34.6050,2,  34.6064,2,     90.8,2,     89.0,2,   119.16,2,    40.27,2,     0.00,2,     2.91,2, -999.000,9, -999.000,9, -999.000,1,-999.0000,1,  -999.00,9,   -999.0,1,-999.000,9,   -999.0,9,   -999.0,9,  -999.00,9,16066.1,-999.0000,-999.000,-999.000,  2.7020,-999.000
   318MWESTW_4,  P21E,    20,  1,     16, SI9316,2,19940402,1553,-16.1250, -75.5833, 5242,   1748.5,   2.5593,  34.6197,2,  34.6193,2,    102.0,2,    102.0,2,   122.10,2,    39.38,2,    -0.01,2,     2.82,2, -999.000,9, -999.000,9, -999.000,1,-999.0000,1,  -999.00,9,   -999.0,1,-999.000,9,   -999.0,9,   -999.0,9,  -999.00,9,17508.6,-999.0000,-999.000,-999.000,  2.4360,-999.000
   318MWESTW_4,  P21E,    20,  1,     15, SI9315,2,19940402,1553,-16.1250, -75.5833, 5242,   1998.9,   2.2955,  34.6406,2,  34.6392,2,    108.5,2,    108.6,2,   130.93,2,    38.84,2,     0.00,2,     2.77,2, -999.000,9, -999.000,9, -999.000,1,-999.0000,1,  -999.00,9,   -999.0,1,-999.000,9,   -999.0,9,   -999.0,9,  -999.00,9,20009.4,-999.0000,-999.000,-999.000,  2.1546,-999.000
   318MWESTW_4,  P21E,    20,  1,     14, SI9314,2,19940402,1553,-16.1250, -75.5833, 5242,   2249.2,   2.0746,  34.6558,2,  34.6555,2,    121.0,2,    120.0,2,   133.51,2,    38.06,2,     0.00,2,     2.69,2, -999.000,9, -999.000,9, -999.000,1,-999.0000,1,  -999.00,9,   -999.0,1,-999.000,9,   -999.0,9,   -999.0,9,  -999.00,9,22510.2,-999.0000,-999.000,-999.000,  1.9155,-999.000
   318MWESTW_4,  P21E,    20,  1,     13, SI9313,2,19940402,1553,-16.1250, -75.5833, 5242,   2506.3,   1.9089,  34.6678,2,  34.6667,2,    135.6,2,    133.5,2,   132.64,2,    37.16,2,     0.00,2,     2.60,2, -999.000,9, -999.000,9, -999.000,1,-999.0000,1,  -999.00,9,   -999.0,1,-999.000,9,   -999.0,9,   -999.0,9,  -999.00,9,25079.3,-999.0000,-999.000,-999.000,  1.7297,-999.000
   318MWESTW_4,  P21E,    20,  1,     12, SI9312,2,19940402,1553,-16.1250, -75.5833, 5242,   2750.7,   1.8154,  34.6754,2,  34.6761,2,    138.2,2,    137.9,2,   135.39,2,    36.90,2,     0.00,2,     2.56,2, -999.000,9, -999.000,9, -999.000,1,-999.0000,1,  -999.00,9,   -999.0,1,-999.000,9,   -999.0,9,   -999.0,9,  -999.00,9,27521.5,-999.0000,-999.000,-999.000,  1.6154,-999.000
   318MWESTW_4,  P21E,    20,  1,     11, SI9311,2,19940402,1553,-16.1250, -75.5833, 5242,   2996.8,   1.7858,  34.6793,2,  34.6798,2,    138.6,2,    138.4,2,   138.15,2,    36.74,2,     0.00,2,     2.56,2, -999.000,9, -999.000,9, -999.000,1,-999.0000,1,  -999.00,9,   -999.0,1,-999.000,9,   -999.0,9,   -999.0,9,  -999.00,9,29981.0,-999.0000,-999.000,-999.000,  1.5630,-999.000
   318MWESTW_4,  P21E,    20,  1,     10, SI9310,2,19940402,1553,-16.1250, -75.5833, 5242,   3251.5,   1.7707,  34.6827,2,  34.6828,2,    141.7,2,    142.3,2,   137.28,2,    36.12,2,     0.00,2,     2.55,2, -999.000,9, -999.000,9, -999.000,1,-999.0000,1,  -999.00,9,   -999.0,1,-999.000,9,   -999.0,9,   -999.0,9,  -999.00,9,32526.4,-999.0000,-999.000,-999.000,  1.5231,-999.000
   318MWESTW_4,  P21E,    20,  1,      9, SI9309,2,19940402,1553,-16.1250, -75.5833, 5242,   3499.2,   1.7538,  34.6861,2,  34.6857,2,    152.2,2,    154.6,2,   128.08,2,    35.23,2,    -0.01,2,     2.42,3, -999.000,9, -999.000,9, -999.000,1,-999.0000,1,  -999.00,9,   -999.0,1,-999.000,9,   -999.0,9,   -999.0,9,  -999.00,9,35001.3,-999.0000,-999.000,-999.000,  1.4813,-999.000
   318MWESTW_4,  P21E,    20,  1,      8, SI9308,2,19940402,1553,-16.1250, -75.5833, 5242,   3745.7,   1.7274,  34.6897,2,  34.6901,2,    160.9,2,    160.1,2,   124.61,2,    34.97,2,    -0.01,2,     2.39,3, -999.000,9, -999.000,9, -999.000,1,-999.0000,1,  -999.00,9,   -999.0,1,-999.000,9,   -999.0,9,   -999.0,9,  -999.00,9,37465.2,-999.0000,-999.000,-999.000,  1.4297,-999.000
   318MWESTW_4,  P21E,    20,  1,      7, SI9307,2,19940402,1553,-16.1250, -75.5833, 5242,   3997.0,   1.7380,  34.6906,2,  34.6901,2,    160.6,2,    159.4,2,   125.46,2,    35.13,2,    -0.01,2,     2.39,3, -999.000,9, -999.000,9, -999.000,1,-999.0000,1,  -999.00,9,   -999.0,1,-999.000,9,   -999.0,9,   -999.0,9,  -999.00,9,39977.1,-999.0000,-999.000,-999.000,  1.4127,-999.000
   318MWESTW_4,  P21E,    20,  1,      6, SI9306,2,19940402,1553,-16.1250, -75.5833, 5242,   4246.6,   1.7416,  34.6911,2,  34.6918,2,    160.6,2,    160.2,2,   125.63,2,    35.02,2,     0.00,2,     2.40,2, -999.000,9, -999.000,9, -999.000,1,-999.0000,1,  -999.00,9,   -999.0,1,-999.000,9,   -999.0,9,   -999.0,9,  -999.00,9,42472.1,-999.0000,-999.000,-999.000,  1.3883,-999.000
   318MWESTW_4,  P21E,    20,  1,      5, SI9305,2,19940402,1553,-16.1250, -75.5833, 5242,   4495.9,   1.7443,  34.6922,2,  34.6916,2,    162.0,2,    161.2,2,   125.44,2,    35.01,2,     0.01,2,     2.40,2, -999.000,9, -999.000,9, -999.000,1,-999.0000,1,  -999.00,9,   -999.0,1,-999.000,9,   -999.0,9,   -999.0,9,  -999.00,9,44964.2,-999.0000,-999.000,-999.000,  1.3622,-999.000
   318MWESTW_4,  P21E,    20,  1,      4, SI9304,2,19940402,1553,-16.1250, -75.5833, 5242,   4746.5,   1.7479,  34.6926,2,  34.6932,2,    162.6,2,    161.7,2,   125.77,2,    35.01,2,     0.01,2,     2.40,2, -999.000,9, -999.000,9, -999.000,1,-999.0000,1,  -999.00,9,   -999.0,1,-999.000,9,   -999.0,9,   -999.0,9,  -999.00,9,47469.4,-999.0000,-999.000,-999.000,  1.3360,-999.000
   318MWESTW_4,  P21E,    20,  1,      3, SI9303,2,19940402,1553,-16.1250, -75.5833, 5242,   4997.2,   1.7706,  34.6932,2,  34.6924,2,    162.4,2,    161.9,2,   126.28,2,    34.92,2,     0.00,2,     2.41,2, -999.000,9, -999.000,9, -999.000,1,-999.0000,1,  -999.00,9,   -999.0,1,-999.000,9,   -999.0,9,   -999.0,9,  -999.00,9,49976.1,-999.0000,-999.000,-999.000,  1.3275,-999.000
   318MWESTW_4,  P21E,    20,  1,      2, SI9302,2,19940402,1553,-16.1250, -75.5833, 5242,   5259.7,   1.7911,  34.6932,2,  34.6934,2,    162.0,2,    161.7,2,   126.79,2,    34.65,2,     0.01,2,     2.41,2, -999.000,9, -999.000,9, -999.000,1,-999.0000,1,  -999.00,9,   -999.0,1,-999.000,9,   -999.0,9,   -999.0,9,  -999.00,9,52600.8,-999.0000,-999.000,-999.000,  1.3146,-999.000
   318MWESTW_4,  P21E,    20,  1,      1, SI9301,2,19940402,1553,-16.1250, -75.5833, 5242,   5322.4,   1.7965,  34.6931,2,  34.6932,2,    159.0,2,    161.5,2,   126.63,2,    34.57,2,     0.00,2,     2.40,2, -999.000,9, -999.000,9, -999.000,1,-999.0000,1,  -999.00,9,   -999.0,1,-999.000,9,   -999.0,9,   -999.0,9,  -999.00,9,53227.8,-999.0000,-999.000,-999.000,  1.3119,-999.000