BOTTLE,20010911WHPSIOdm
EXPOCODE,SECT_ID,STNNBR,CASTNO,SAMPNO,BTLNBR,BTLNBR_FLAG_W,DATE,TIME,LATITUDE,LONGITUDE,DEPTH,CTDPRS,CTDTMP,CTDSAL,CTDSAL_FLAG_W,SALNTY,SALNTY_FLAG_W,CTDOXY,CTDOXY_FLAG_W,OXYGEN,OXYGEN_FLAG_W,SILCAT,SILCAT_FLAG_W,NITRAT,NITRAT_FLAG_W,NITRIT,NITRIT_FLAG_W,PHSPHT,PHSPHT_FLAG_W,CFC-11,CFC-11_FLAG_W,CFC-12,CFC-12_FLAG_W,TRITUM,TRITUM_FLAG_W,HELIUM,HELIUM_FLAG_W,DELHE3,DELHE3_FLAG_W,DELC14,DELC14_FLAG_W,NEON,NEON_FLAG_W,TCARBN,TCARBN_FLAG_W,ALKALI,ALKALI_FLAG_W,PH,PH_FLAG_W,CTDRAW,HELIER,DELHER,NEONER,THETA,TRITER
,,,,,,,,,,,,DBAR,ITS-90,PSS-78,,PSS-78,,UMOL/KG,,UMOL/KG,,UMOL/KG,,UMOL/KG,,UMOL/KG,,UMOL/KG,,PMOL/KG,,PMOL/KG,,TU,,UMOL/KG,,PERCNT,,/MILLE,,NMOL/KG,,UMOL/KG,,UMOL/KG,,,,,NMOL/KG,PERCNT,NMOL/KG,ITS-90,TU
   318MWESTW_5,  P21W,   242,  1,     36, SI9442,2,19940610,2136,-18.3333, 168.1472, 3140,      5.3,  25.4945,  35.0414,2,  35.0394,2,    205.1,2,    204.3,2,     0.74,2,     0.08,2,     0.00,2,     0.16,2,    1.757,2,    0.967,2, -999.000,1,-999.0000,1,  -999.00,9,   -999.0,1,-999.000,9,   -999.0,9,   -999.0,9,  -999.00,9,  111.5,-999.0000,-999.000,-999.000, 25.4933,-999.000
   318MWESTW_5,  P21W,   242,  1,     35, SI9435,2,19940610,2136,-18.3333, 168.1472, 3140,     20.2,  25.4258,  35.0466,2,  35.0455,2,    206.2,2,    205.2,2,     0.91,2,     0.07,2,     0.01,2,     0.15,2,    1.768,2,    0.976,2, -999.000,1,-999.0000,1,  -999.00,9,   -999.0,1,-999.000,9,   -999.0,9,   -999.0,9,  -999.00,9,  260.2,-999.0000,-999.000,-999.000, 25.4214,-999.000
   318MWESTW_5,  P21W,   242,  1,     34, SI9441,2,19940610,2136,-18.3333, 168.1472, 3140,     45.8,  25.4244,  35.0472,2,  35.0470,2,    206.6,2,    206.2,2,     0.94,2,     0.07,2,     0.01,2,     0.16,2, -999.000,9, -999.000,9, -999.000,1,-999.0000,1,  -999.00,9,   -999.0,1,-999.000,9,   -999.0,9,   -999.0,9,  -999.00,9,  515.5,-999.0000,-999.000,-999.000, 25.4144,-999.000
   318MWESTW_5,  P21W,   242,  1,     33, SI9433,2,19940610,2136,-18.3333, 168.1472, 3140,     97.1,  25.3061,  35.4754,2,  35.5152,2,    184.9,2,    187.0,2,     0.97,2,     1.43,2,     0.13,2,     0.30,2,    1.779,2,    0.964,2, -999.000,1,-999.0000,1,  -999.00,9,   -999.0,1,-999.000,9,   -999.0,9,   -999.0,9,  -999.00,9, 1027.2,-999.0000,-999.000,-999.000, 25.2848,-999.000
   318MWESTW_5,  P21W,   242,  1,     32, SI9432,2,19940610,2136,-18.3333, 168.1472, 3140,    142.3,  23.8582,  35.7491,2,  35.7466,2,    173.8,2,    177.7,2,     0.86,2,     1.73,2,     0.05,2,     0.36,2,    1.858,2,    1.001,2, -999.000,1,-999.0000,1,  -999.00,9,   -999.0,1,-999.000,9,   -999.0,9,   -999.0,9,  -999.00,9, 1477.3,-999.0000,-999.000,-999.000, 23.8283,-999.000
   318MWESTW_5,  P21W,   242,  1,     31, SI9431,2,19940610,2136,-18.3333, 168.1472, 3140,    192.0,  22.8522,  35.9080,2,  35.9058,2,    157.9,2,    163.5,2,     1.16,2,     4.15,2,     0.03,2,     0.50,2,    1.853,2,    0.975,2, -999.000,1,-999.0000,1,  -999.00,9,   -999.0,1,-999.000,9,   -999.0,9,   -999.0,9,  -999.00,9, 1972.1,-999.0000,-999.000,-999.000, 22.8130,-999.000
   318MWESTW_5,  P21W,   242,  1,     30, SI9440,2,19940610,2136,-18.3333, 168.1472, 3140,    242.8,  21.0083,  35.8383,2,  35.8230,2,    165.0,2,    161.6,2,     1.46,2,     5.74,2,     0.00,2,     0.60,2,    1.828,2,    0.952,2, -999.000,1,-999.0000,1,  -999.00,9,   -999.0,1,-999.000,9,   -999.0,9,   -999.0,9,  -999.00,9, 2477.3,-999.0000,-999.000,-999.000, 20.9616,-999.000
   318MWESTW_5,  P21W,   242,  1,     29, SI9429,2,19940610,2136,-18.3333, 168.1472, 3140,    294.5,  18.7393,  35.6124,2,  35.6105,2,    164.9,2,    167.5,2,     2.04,2,     6.73,2,     0.00,2,     0.63,2,    1.793,2,    0.932,2, -999.000,1,-999.0000,1,  -999.00,9,   -999.0,1,-999.000,9,   -999.0,9,   -999.0,9,  -999.00,9, 2992.5,-999.0000,-999.000,-999.000, 18.6870,-999.000
   318MWESTW_5,  P21W,   242,  1,     28, SI9428,3,19940610,2136,-18.3333, 168.1472, 3140,    344.5,  16.2543,  35.3825,2,  35.3780,2,    172.5,2,    172.3,2,     3.30,2,     8.90,2,     0.01,2,     0.77,2, -999.000,9, -999.000,9, -999.000,1,-999.0000,1,  -999.00,9,   -999.0,1,-999.000,9,   -999.0,9,   -999.0,9,  -999.00,9, 3490.1,-999.0000,-999.000,-999.000, 16.1988,-999.000
   318MWESTW_5,  P21W,   242,  1,     27, SI9424,2,19940610,2136,-18.3333, 168.1472, 3140,    395.6,  13.2464,  35.0238,2,  35.0148,2,    163.9,2,    164.0,2,     6.47,2,    14.45,2,     0.00,2,     1.14,2,    1.169,2,    0.587,2, -999.000,1,-999.0000,1,  -999.00,9,   -999.0,1,-999.000,9,   -999.0,9,   -999.0,9,  -999.00,9, 3998.4,-999.0000,-999.000,-999.000, 13.1909,-999.000
   318MWESTW_5,  P21W,   242,  1,     26, SI9414,2,19940610,2136,-18.3333, 168.1472, 3140,    445.9,  10.8603,  34.7716,2,  34.7691,2,    159.7,2,    160.5,2,    10.18,2,    19.44,2,     0.01,2,     1.46,2, -999.000,9, -999.000,9, -999.000,1,-999.0000,1,  -999.00,9,   -999.0,1,-999.000,9,   -999.0,9,   -999.0,9,  -999.00,9, 4498.8,-999.0000,-999.000,-999.000, 10.8053,-999.000
   318MWESTW_5,  P21W,   242,  1,     25, SI9425,2,19940610,2136,-18.3333, 168.1472, 3140,    496.5,   9.4357,  34.6416,2,  34.6382,2,    167.4,2,    167.2,2,    12.54,2,    22.13,2,     0.00,2,     1.60,2,    0.600,6,    0.303,6, -999.000,1,-999.0000,1,  -999.00,9,   -999.0,1,-999.000,9,   -999.0,9,   -999.0,9,  -999.00,9, 5001.6,-999.0000,-999.000,-999.000,  9.3795,-999.000
   318MWESTW_5,  P21W,   242,  1,     24, SI9434,2,19940610,2136,-18.3333, 168.1472, 3140,    599.6,   7.3673,  34.5020,2,  34.4979,2,    176.1,2,    176.6,2,    20.09,2,    26.16,2,     0.00,2,     1.84,2,    0.341,2,    0.174,2, -999.000,1,-999.0000,1,  -999.00,9,   -999.0,1,-999.000,9,   -999.0,9,   -999.0,9,  -999.00,9, 6026.9,-999.0000,-999.000,-999.000,  7.3083,-999.000
   318MWESTW_5,  P21W,   242,  1,     23, SI9423,2,19940610,2136,-18.3333, 168.1472, 3140,    695.6,   6.2097,  34.4340,2,  34.4324,2,    178.4,2,    178.5,2,    26.40,2,    28.70,2,     0.00,2,     2.00,2,    0.181,2,    0.096,2, -999.000,1,-999.0000,1,  -999.00,9,   -999.0,1,-999.000,9,   -999.0,9,   -999.0,9,  -999.00,9, 6982.2,-999.0000,-999.000,-999.000,  6.1469,-999.000
   318MWESTW_5,  P21W,   242,  1,     22, SI9418,2,19940610,2136,-18.3333, 168.1472, 3140,    798.4,   5.3708,  34.4396,2,  34.4377,2,    175.2,2,    171.6,2,    38.31,2,    30.71,2,     0.01,2,     2.15,2,    0.099,2,    0.052,2, -999.000,1,-999.0000,1,  -999.00,9,   -999.0,1,-999.000,9,   -999.0,9,   -999.0,9,  -999.00,9, 8004.4,-999.0000,-999.000,-999.000,  5.3033,-999.000
   318MWESTW_5,  P21W,   242,  1,     21, SI9421,2,19940610,2136,-18.3333, 168.1472, 3140,    900.5,   4.7551,  34.4440,2,  34.4449,2,    170.1,2,    169.6,2,    47.64,2,    31.92,2,     0.01,2,     2.23,2,    0.053,2,    0.028,2, -999.000,1,-999.0000,1,  -999.00,9,   -999.0,1,-999.000,9,   -999.0,9,   -999.0,9,  -999.00,9, 9019.2,-999.0000,-999.000,-999.000,  4.6825,-999.000
   318MWESTW_5,  P21W,   242,  1,     20, SI9420,2,19940610,2136,-18.3333, 168.1472, 3140,   1002.7,   4.2243,  34.4787,2,  34.4793,2,    165.1,2,    163.8,2,    60.24,2,    32.87,2,     0.00,2,     2.29,2,    0.024,2,    0.012,2, -999.000,1,-999.0000,1,  -999.00,9,   -999.0,1,-999.000,9,   -999.0,9,   -999.0,9,  -999.00,9,10035.6,-999.0000,-999.000,-999.000,  4.1467,-999.000
   318MWESTW_5,  P21W,   242,  1,     19, SI9419,2,19940610,2136,-18.3333, 168.1472, 3140,   1099.7,   3.9448,  34.5032,2,  34.5007,2,    160.6,2,    159.7,2,    67.91,2,    33.41,2,     0.00,2,     2.34,2,    0.015,2,    0.009,2, -999.000,1,-999.0000,1,  -999.00,9,   -999.0,1,-999.000,9,   -999.0,9,   -999.0,9,  -999.00,9,11000.1,-999.0000,-999.000,-999.000,  3.8612,-999.000
   318MWESTW_5,  P21W,   242,  1,     18, SI9439,2,19940610,2136,-18.3333, 168.1472, 3140,   1196.1,   3.6511,  34.5246,2,  34.5237,2,    156.1,2,    156.5,2,    76.00,2,    33.94,2,     0.01,2,     2.38,2,    0.010,2,    0.004,2, -999.000,1,-999.0000,1,  -999.00,9,   -999.0,1,-999.000,9,   -999.0,9,   -999.0,9,  -999.00,9,11958.1,-999.0000,-999.000,-999.000,  3.5620,-999.000
   318MWESTW_5,  P21W,   242,  1,     17, SI9417,2,19940610,2136,-18.3333, 168.1472, 3140,   1397.4,   3.1505,  34.5665,2,  34.5655,2,    152.7,2,    152.3,2,    89.96,2,    34.67,2,     0.00,2,     2.42,2,    0.004,2,    0.005,2, -999.000,1,-999.0000,1,  -999.00,9,   -999.0,1,-999.000,9,   -999.0,9,   -999.0,9,  -999.00,9,13960.0,-999.0000,-999.000,-999.000,  3.0495,-999.000
   318MWESTW_5,  P21W,   242,  1,     16, SI9416,2,19940610,2136,-18.3333, 168.1472, 3140,   1595.8,   2.8697,  34.5911,2,  34.5912,2,    149.7,2,    150.0,2,    97.78,2,    35.03,2,     0.00,2,     2.45,2, -999.000,9, -999.000,9, -999.000,1,-999.0000,1,  -999.00,9,   -999.0,1,-999.000,9,   -999.0,9,   -999.0,9,  -999.00,9,15931.9,-999.0000,-999.000,-999.000,  2.7554,-999.000
   318MWESTW_5,  P21W,   242,  1,     15, SI9415,2,19940610,2136,-18.3333, 168.1472, 3140,   1799.9,   2.6415,  34.6115,2,  34.6111,2,    148.9,2,    149.2,2,   104.09,2,    35.30,2,     0.00,2,     2.47,2, -999.000,9, -999.000,9, -999.000,1,-999.0000,1,  -999.00,9,   -999.0,1,-999.000,9,   -999.0,9,   -999.0,9,  -999.00,9,17960.9,-999.0000,-999.000,-999.000,  2.5128,-999.000
   318MWESTW_5,  P21W,   242,  1,     14, SI9436,2,19940610,2136,-18.3333, 168.1472, 3140,   2000.0,   2.4035,  34.6321,2,  34.6325,2,    148.7,2,    149.4,2,   109.98,2,    35.39,2,     0.00,2,     2.47,2, -999.000,9, -999.000,9, -999.000,1,-999.0000,1,  -999.00,9,   -999.0,1,-999.000,9,   -999.0,9,   -999.0,9,  -999.00,9,19950.1,-999.0000,-999.000,-999.000,  2.2609,-999.000
   318MWESTW_5,  P21W,   242,  1,     13, SI9413,2,19940610,2136,-18.3333, 168.1472, 3140,   2102.2,   2.3134,  34.6402,2,  34.6399,2,    148.9,2,    151.2,2,   112.20,2,    35.39,2,     0.01,2,     2.49,2, -999.000,9, -999.000,9, -999.000,1,-999.0000,1,  -999.00,9,   -999.0,1,-999.000,9,   -999.0,9,   -999.0,9,  -999.00,9,20967.0,-999.0000,-999.000,-999.000,  2.1633,-999.000
   318MWESTW_5,  P21W,   242,  1,     12, SI9438,2,19940610,2136,-18.3333, 168.1472, 3140,   2200.3,   2.2318,  34.6475,2,  34.6472,2,    149.6,2,    151.0,2,   113.87,2,    35.31,2,     0.01,2,     2.48,2, -999.000,9, -999.000,9, -999.000,1,-999.0000,1,  -999.00,9,   -999.0,1,-999.000,9,   -999.0,9,   -999.0,9,  -999.00,9,21941.7,-999.0000,-999.000,-999.000,  2.0744,-999.000
   318MWESTW_5,  P21W,   242,  1,     11, SI9411,2,19940610,2136,-18.3333, 168.1472, 3140,   2304.0,   2.1313,  34.6559,2,  34.6561,2,    151.1,2,    151.5,2,   116.22,2,    35.28,2,     0.00,2,     2.47,2, -999.000,9, -999.000,9, -999.000,1,-999.0000,1,  -999.00,9,   -999.0,1,-999.000,9,   -999.0,9,   -999.0,9,  -999.00,9,22972.6,-999.0000,-999.000,-999.000,  1.9663,-999.000
   318MWESTW_5,  P21W,   242,  1,     10, SI9412,2,19940610,2136,-18.3333, 168.1472, 3140,   2401.7,   2.0357,  34.6638,2,  34.6633,2,    152.2,2,    153.0,2,   118.44,2,    35.23,2,     0.01,2,     2.47,2, -999.000,9, -999.000,9, -999.000,1,-999.0000,1,  -999.00,9,   -999.0,1,-999.000,9,   -999.0,9,   -999.0,9,  -999.00,9,23944.0,-999.0000,-999.000,-999.000,  1.8636,-999.000
   318MWESTW_5,  P21W,   242,  1,      9, SI9410,2,19940610,2136,-18.3333, 168.1472, 3140,   2498.8,   1.9912,  34.6673,2,  34.6663,2,    151.7,2,    153.0,2,   119.69,2,    35.23,2,     0.01,2,     2.46,2,   -0.002,2,   -0.001,2, -999.000,1,-999.0000,1,  -999.00,9,   -999.0,1,-999.000,9,   -999.0,9,   -999.0,9,  -999.00,9,24909.5,-999.0000,-999.000,-999.000,  1.8111,-999.000
   318MWESTW_5,  P21W,   242,  1,      8, SI9422,2,19940610,2136,-18.3333, 168.1472, 3140,   2603.1,   1.9288,  34.6718,2,  34.6694,2,    152.4,2,    153.4,2,   121.36,2,    35.29,2,     0.00,2,     2.46,2, -999.000,9, -999.000,9, -999.000,1,-999.0000,1,  -999.00,9,   -999.0,1,-999.000,9,   -999.0,9,   -999.0,9,  -999.00,9,25945.9,-999.0000,-999.000,-999.000,  1.7403,-999.000
   318MWESTW_5,  P21W,   242,  1,      7, SI9407,2,19940610,2136,-18.3333, 168.1472, 3140,   2702.1,   1.8943,  34.6733,2,  34.6718,2,    152.4,2,    153.6,2,   122.62,2,    35.29,2,     0.00,2,     2.47,2, -999.000,9, -999.000,9, -999.000,1,-999.0000,1,  -999.00,9,   -999.0,1,-999.000,9,   -999.0,9,   -999.0,9,  -999.00,9,26930.4,-999.0000,-999.000,-999.000,  1.6973,-999.000
   318MWESTW_5,  P21W,   242,  1,      6, SI9427,2,19940610,2136,-18.3333, 168.1472, 3140,   2793.6,   1.8662,  34.6745,2,  34.6747,2,    152.2,2,    153.6,2,   123.87,2,    35.34,2,     0.00,2,     2.47,2, -999.000,9, -999.000,9, -999.000,1,-999.0000,1,  -999.00,9,   -999.0,1,-999.000,9,   -999.0,9,   -999.0,9,  -999.00,9,27840.1,-999.0000,-999.000,-999.000,  1.6612,-999.000
   318MWESTW_5,  P21W,   242,  1,      5, SI9405,2,19940610,2136,-18.3333, 168.1472, 3140,   2891.8,   1.8521,  34.6755,2,  34.6753,2,    152.2,2,    153.7,2,   124.45,2,    35.33,2,     0.01,2,     2.47,2, -999.000,9, -999.000,9, -999.000,1,-999.0000,1,  -999.00,9,   -999.0,1,-999.000,9,   -999.0,9,   -999.0,9,  -999.00,9,28816.5,-999.0000,-999.000,-999.000,  1.6380,-999.000
   318MWESTW_5,  P21W,   242,  1,      4, SI9404,2,19940610,2136,-18.3333, 168.1472, 3140,   2986.5,   1.8437,  34.6774,2,  34.6765,2,    152.7,2,    164.0,4,   125.16,2,    35.29,2,     0.01,2,     2.48,2, -999.000,9, -999.000,9, -999.000,1,-999.0000,1,  -999.00,9,   -999.0,1,-999.000,9,   -999.0,9,   -999.0,9,  -999.00,9,29758.0,-999.0000,-999.000,-999.000,  1.6207,-999.000
   318MWESTW_5,  P21W,   242,  1,      3, SI9403,2,19940610,2136,-18.3333, 168.1472, 3140,   3084.4,   1.8314,  34.6780,2,  34.6775,2,    153.1,2,    154.7,2,   125.60,2,    35.26,2,     0.01,2,     2.47,2, -999.000,9, -999.000,9, -999.000,1,-999.0000,1,  -999.00,9,   -999.0,1,-999.000,9,   -999.0,9,   -999.0,9,  -999.00,9,30730.4,-999.0000,-999.000,-999.000,  1.5991,-999.000
   318MWESTW_5,  P21W,   242,  1,      2, SI9437,2,19940610,2136,-18.3333, 168.1472, 3140,   3167.1,   1.8262,  34.6784,2,  34.6783,2,    152.7,2,    154.1,2,   125.90,2,    35.19,2,     0.00,2,     2.47,2, -999.000,9, -999.000,9, -999.000,1,-999.0000,1,  -999.00,9,   -999.0,1,-999.000,9,   -999.0,9,   -999.0,9,  -999.00,9,31552.6,-999.0000,-999.000,-999.000,  1.5858,-999.000
   318MWESTW_5,  P21W,   242,  1,      1, SI9401,2,19940610,2136,-18.3333, 168.1472, 3140,   3203.4,   1.8227,  34.6797,2,  34.6741,4,    152.1,2,    155.8,2,   125.93,2,    35.20,2,     0.00,2,     2.45,2,   -0.001,2,    0.000,2, -999.000,1,-999.0000,1,  -999.00,9,   -999.0,1,-999.000,9,   -999.0,9,   -999.0,9,  -999.00,9,31914.1,-999.0000,-999.000,-999.000,  1.5787,-999.000