BOTTLE,20010911WHPSIOdm
EXPOCODE,SECT_ID,STNNBR,CASTNO,SAMPNO,BTLNBR,BTLNBR_FLAG_W,DATE,TIME,LATITUDE,LONGITUDE,DEPTH,CTDPRS,CTDTMP,CTDSAL,CTDSAL_FLAG_W,SALNTY,SALNTY_FLAG_W,CTDOXY,CTDOXY_FLAG_W,OXYGEN,OXYGEN_FLAG_W,SILCAT,SILCAT_FLAG_W,NITRAT,NITRAT_FLAG_W,NITRIT,NITRIT_FLAG_W,PHSPHT,PHSPHT_FLAG_W,CFC-11,CFC-11_FLAG_W,CFC-12,CFC-12_FLAG_W,TRITUM,TRITUM_FLAG_W,HELIUM,HELIUM_FLAG_W,DELHE3,DELHE3_FLAG_W,DELC14,DELC14_FLAG_W,NEON,NEON_FLAG_W,TCARBN,TCARBN_FLAG_W,ALKALI,ALKALI_FLAG_W,PH,PH_FLAG_W,CTDRAW,HELIER,DELHER,NEONER,THETA,TRITER
,,,,,,,,,,,,DBAR,ITS-90,PSS-78,,PSS-78,,UMOL/KG,,UMOL/KG,,UMOL/KG,,UMOL/KG,,UMOL/KG,,UMOL/KG,,PMOL/KG,,PMOL/KG,,TU,,UMOL/KG,,PERCNT,,/MILLE,,NMOL/KG,,UMOL/KG,,UMOL/KG,,,,,NMOL/KG,PERCNT,NMOL/KG,ITS-90,TU
   318MWESTW_5,  P21W,   279,  1,     30, SI9440,2,19940619,0335,-24.0472, 156.2500, 2010,      3.5,  23.1412,  35.4733,2,  35.4746,2,    206.7,2,    211.7,2,     0.30,2,     0.06,2,     0.00,2,     0.11,2,    1.920,2,    1.059,2, -999.000,1,-999.0000,1,  -999.00,9,   -999.0,1,-999.000,9,   -999.0,9,   -999.0,9,  -999.00,9,   94.8,-999.0000,-999.000,-999.000, 23.1405,-999.000
   318MWESTW_5,  P21W,   279,  1,     29, SI9429,2,19940619,0335,-24.0472, 156.2500, 2010,     18.4,  23.1088,  35.4719,2,  35.4734,2,    210.9,2,    212.1,2,     0.31,2,     0.11,2,     0.00,2,     0.12,2,    1.938,2,    1.056,2, -999.000,1,-999.0000,1,  -999.00,9,   -999.0,1,-999.000,9,   -999.0,9,   -999.0,9,  -999.00,9,  243.5,-999.0000,-999.000,-999.000, 23.1050,-999.000
   318MWESTW_5,  P21W,   279,  1,     28, SI9428,2,19940619,0335,-24.0472, 156.2500, 2010,     44.4,  23.0418,  35.5721,2,  35.5778,2,    207.2,2,    214.8,2,     0.32,2,     0.10,2,     0.01,2,     0.12,2,    1.936,2,    1.053,2, -999.000,1,-999.0000,1,  -999.00,9,   -999.0,1,-999.000,9,   -999.0,9,   -999.0,9,  -999.00,9,  501.7,-999.0000,-999.000,-999.000, 23.0327,-999.000
   318MWESTW_5,  P21W,   279,  1,     27, SI9424,2,19940619,0335,-24.0472, 156.2500, 2010,     95.4,  22.3977,  35.7911,2,  35.7934,2,    212.5,2,    211.9,2,     0.33,2,     0.10,2,     0.01,2,     0.12,2,    1.993,2,    1.096,2, -999.000,1,-999.0000,1,  -999.00,9,   -999.0,1,-999.000,9,   -999.0,9,   -999.0,9,  -999.00,9, 1010.1,-999.0000,-999.000,-999.000, 22.3785,-999.000
   318MWESTW_5,  P21W,   279,  1,     26, SI9414,2,19940619,0335,-24.0472, 156.2500, 2010,    145.8,  21.2833,  35.7208,2,  35.7227,2,    176.0,2,    173.7,4,     1.05,4,     4.32,4,     0.02,4,     0.44,4,    1.923,2,    1.023,2, -999.000,1,-999.0000,1,  -999.00,9,   -999.0,1,-999.000,9,   -999.0,9,   -999.0,9,  -999.00,9, 1511.0,-999.0000,-999.000,-999.000, 21.2550,-999.000
   318MWESTW_5,  P21W,   279,  1,     25, SI9425,2,19940619,0335,-24.0472, 156.2500, 2010,    196.1,  20.1278,  35.7155,2,  35.7148,2,    185.4,2,    191.6,2,     0.78,2,     3.18,2,     0.01,2,     0.34,2,    2.093,2,    1.122,2, -999.000,1,-999.0000,1,  -999.00,9,   -999.0,1,-999.000,9,   -999.0,9,   -999.0,9,  -999.00,9, 2012.1,-999.0000,-999.000,-999.000, 20.0912,-999.000
   318MWESTW_5,  P21W,   279,  1,     24, SI9434,2,19940619,0335,-24.0472, 156.2500, 2010,    246.8,  18.8461,  35.6180,2,  35.6184,2,    184.1,2,    183.5,2,     1.22,2,     5.09,2,     0.00,2,     0.47,2,    2.023,2,    1.065,2, -999.000,1,-999.0000,1,  -999.00,9,   -999.0,1,-999.000,9,   -999.0,9,   -999.0,9,  -999.00,9, 2516.3,-999.0000,-999.000,-999.000, 18.8021,-999.000
   318MWESTW_5,  P21W,   279,  1,     23, SI9423,2,19940619,0335,-24.0472, 156.2500, 2010,    298.0,  17.1762,  35.5201,2,  35.5135,2,    186.1,2,    186.4,2,     1.81,2,     6.44,2,     0.00,2,     0.56,2,    2.021,2,    1.054,2, -999.000,1,-999.0000,1,  -999.00,9,   -999.0,1,-999.000,9,   -999.0,9,   -999.0,9,  -999.00,9, 3026.5,-999.0000,-999.000,-999.000, 17.1264,-999.000
   318MWESTW_5,  P21W,   279,  1,     22, SI9418,2,19940619,0335,-24.0472, 156.2500, 2010,    349.7,  15.9161,  35.3907,2,  35.3898,2,    183.2,2,    179.5,2,     2.82,2,     8.95,2,     0.00,2,     0.73,2,    1.833,2,    0.952,2, -999.000,1,-999.0000,1,  -999.00,9,   -999.0,1,-999.000,9,   -999.0,9,   -999.0,9,  -999.00,9, 3540.6,-999.0000,-999.000,-999.000, 15.8605,-999.000
   318MWESTW_5,  P21W,   279,  1,     21, SI9421,2,19940619,0335,-24.0472, 156.2500, 2010,    398.1,  14.5928,  35.2685,2,  35.2694,2,    182.2,2,    181.0,2,     3.56,2,    10.72,2,     0.00,2,     0.85,2,    1.734,2,    0.892,2, -999.000,1,-999.0000,1,  -999.00,9,   -999.0,1,-999.000,9,   -999.0,9,   -999.0,9,  -999.00,9, 4022.5,-999.0000,-999.000,-999.000, 14.5331,-999.000
   318MWESTW_5,  P21W,   279,  1,     20, SI9420,2,19940619,0335,-24.0472, 156.2500, 2010,    498.7,  11.4197,  34.9509,2,  34.9459,2,    184.8,2,    186.2,2,     6.45,2,    15.98,2,     0.00,2,     1.18,2,    1.439,2,    0.726,2, -999.000,1,-999.0000,1,  -999.00,9,   -999.0,1,-999.000,9,   -999.0,9,   -999.0,9,  -999.00,9, 5022.8,-999.0000,-999.000,-999.000, 11.3559,-999.000
   318MWESTW_5,  P21W,   279,  1,     19, SI9419,2,19940619,0335,-24.0472, 156.2500, 2010,    603.4,   9.5244,  34.7295,2,  34.7264,2,    187.3,2,    188.4,2,     9.64,2,    20.01,2,     0.00,2,     1.45,2,    1.008,2,    0.502,2, -999.000,1,-999.0000,1,  -999.00,9,   -999.0,1,-999.000,9,   -999.0,9,   -999.0,9,  -999.00,9, 6064.1,-999.0000,-999.000,-999.000,  9.4552,-999.000
   318MWESTW_5,  P21W,   279,  1,     18, SI9439,2,19940619,0335,-24.0472, 156.2500, 2010,    645.0,   8.7084,  34.6418,2,  34.6386,2,    190.9,2,    191.0,2,    11.38,2,    21.56,2,     0.00,2,     1.55,2,    0.819,2,    0.411,2, -999.000,1,-999.0000,1,  -999.00,9,   -999.0,1,-999.000,9,   -999.0,9,   -999.0,9,  -999.00,9, 6478.1,-999.0000,-999.000,-999.000,  8.6382,-999.000
   318MWESTW_5,  P21W,   279,  1,     17, SI9417,2,19940619,0335,-24.0472, 156.2500, 2010,    694.8,   7.7798,  34.5528,2,  34.5506,2,    194.6,2,    193.9,2,    14.43,2,    23.42,2,     0.00,2,     1.65,2,    0.545,2,    0.276,2, -999.000,1,-999.0000,1,  -999.00,9,   -999.0,1,-999.000,9,   -999.0,9,   -999.0,9,  -999.00,9, 6973.3,-999.0000,-999.000,-999.000,  7.7088,-999.000
   318MWESTW_5,  P21W,   279,  1,     16, SI9416,2,19940619,0335,-24.0472, 156.2500, 2010,    745.0,   7.0356,  34.5021,2,  34.5003,2,    194.8,2,    193.4,2,    18.48,2,    25.06,2,     0.00,2,     1.77,2,    0.401,2,    0.198,2, -999.000,1,-999.0000,1,  -999.00,9,   -999.0,1,-999.000,9,   -999.0,9,   -999.0,9,  -999.00,9, 7472.3,-999.0000,-999.000,-999.000,  6.9634,-999.000
   318MWESTW_5,  P21W,   279,  1,     15, SI9415,2,19940619,0335,-24.0472, 156.2500, 2010,    797.7,   6.3247,  34.4673,2,  34.4669,2,    192.4,2,    190.5,2,    24.84,2,    26.94,2,     0.01,2,     1.90,2,    0.256,2,    0.133,2, -999.000,1,-999.0000,1,  -999.00,9,   -999.0,1,-999.000,9,   -999.0,9,   -999.0,9,  -999.00,9, 7996.6,-999.0000,-999.000,-999.000,  6.2514,-999.000
   318MWESTW_5,  P21W,   279,  1,     14, SI9436,2,19940619,0335,-24.0472, 156.2500, 2010,    900.5,   5.4629,  34.4560,2,  34.4555,2,    182.9,2,    182.2,2,    35.98,2,    29.09,2,     0.00,2,     2.04,2, -999.000,9, -999.000,9, -999.000,1,-999.0000,1,  -999.00,9,   -999.0,1,-999.000,9,   -999.0,9,   -999.0,9,  -999.00,9, 9018.3,-999.0000,-999.000,-999.000,  5.3854,-999.000
   318MWESTW_5,  P21W,   279,  1,     13, SI9413,2,19940619,0335,-24.0472, 156.2500, 2010,   1001.4,   4.8534,  34.4665,2,  34.4681,2,    174.7,2,    175.2,2,    47.39,2,    30.90,2,     0.00,2,     2.16,2,    0.062,6,    0.031,6, -999.000,1,-999.0000,1,  -999.00,9,   -999.0,1,-999.000,9,   -999.0,9,   -999.0,9,  -999.00,9,10021.9,-999.0000,-999.000,-999.000,  4.7711,-999.000
   318MWESTW_5,  P21W,   279,  1,     12, SI9438,2,19940619,0335,-24.0472, 156.2500, 2010,   1095.7,   4.3427,  34.4875,2,  34.4868,2,    168.7,2,    167.6,2,    58.22,2,    32.13,2,     0.00,2,     2.26,2,    0.029,2,    0.014,2, -999.000,1,-999.0000,1,  -999.00,9,   -999.0,1,-999.000,9,   -999.0,9,   -999.0,9,  -999.00,9,10958.8,-999.0000,-999.000,-999.000,  4.2562,-999.000
   318MWESTW_5,  P21W,   279,  1,     11, SI9411,2,19940619,0335,-24.0472, 156.2500, 2010,   1197.4,   3.9732,  34.5100,2,  34.5095,2,    163.8,2,    162.6,2,    67.19,2,    32.76,2,     0.00,2,     2.33,2,    0.020,2,    0.007,2, -999.000,1,-999.0000,1,  -999.00,9,   -999.0,1,-999.000,9,   -999.0,9,   -999.0,9,  -999.00,9,11970.6,-999.0000,-999.000,-999.000,  3.8811,-999.000
   318MWESTW_5,  P21W,   279,  1,     10, SI9412,2,19940619,0335,-24.0472, 156.2500, 2010,   1298.4,   3.5720,  34.5387,2,  34.5384,2,    157.4,2,    155.7,2,    78.46,2,    33.62,2,     0.00,2,     2.39,2,    0.004,2,    0.000,2, -999.000,1,-999.0000,1,  -999.00,9,   -999.0,1,-999.000,9,   -999.0,9,   -999.0,9,  -999.00,9,12974.8,-999.0000,-999.000,-999.000,  3.4750,-999.000
   318MWESTW_5,  P21W,   279,  1,      9, SI9410,2,19940619,0335,-24.0472, 156.2500, 2010,   1401.4,   3.2611,  34.5633,2,  34.5643,2,    152.7,2,    151.3,2,    87.27,2,    34.49,2,     0.00,2,     2.42,2,    0.003,2,    0.000,2, -999.000,1,-999.0000,1,  -999.00,9,   -999.0,1,-999.000,9,   -999.0,9,   -999.0,9,  -999.00,9,13998.0,-999.0000,-999.000,-999.000,  3.1586,-999.000
   318MWESTW_5,  P21W,   279,  1,      8, SI9422,2,19940619,0335,-24.0472, 156.2500, 2010,   1494.0,   3.0941,  34.5783,2,  34.5783,2,    150.3,2,    151.3,4,    90.59,3,    34.60,3,     0.00,2,     2.43,3,    0.002,2,    0.000,2, -999.000,1,-999.0000,1,  -999.00,9,   -999.0,1,-999.000,9,   -999.0,9,   -999.0,9,  -999.00,9,14918.5,-999.0000,-999.000,-999.000,  2.9857,-999.000
   318MWESTW_5,  P21W,   279,  1,      7, SI9407,2,19940619,0335,-24.0472, 156.2500, 2010,   1607.1,   2.8433,  34.5998,2,  34.6003,2,    146.0,2,    145.1,2,    99.85,2,    35.35,2,     0.00,2,     2.48,2,   -0.001,2,   -0.001,2, -999.000,1,-999.0000,1,  -999.00,9,   -999.0,1,-999.000,9,   -999.0,9,   -999.0,9,  -999.00,9,16042.8,-999.0000,-999.000,-999.000,  2.7283,-999.000
   318MWESTW_5,  P21W,   279,  1,      6, SI9427,2,19940619,0335,-24.0472, 156.2500, 2010,   1707.8,   2.7183,  34.6113,2,  34.6123,2,    146.2,2,    144.7,2,   102.60,2,    35.27,2,     0.00,2,     2.49,2,   -0.001,2,   -0.003,2, -999.000,1,-999.0000,1,  -999.00,9,   -999.0,1,-999.000,9,   -999.0,9,   -999.0,9,  -999.00,9,17043.4,-999.0000,-999.000,-999.000,  2.5964,-999.000
   318MWESTW_5,  P21W,   279,  1,      5, SI9405,2,19940619,0335,-24.0472, 156.2500, 2010,   1790.4,   2.5978,  34.6239,2,  34.6233,2,    149.0,2,    147.5,2,   103.61,2,    35.23,2,     0.00,2,     2.47,2, -999.000,9, -999.000,9, -999.000,1,-999.0000,1,  -999.00,9,   -999.0,1,-999.000,9,   -999.0,9,   -999.0,9,  -999.00,9,17865.0,-999.0000,-999.000,-999.000,  2.4704,-999.000
   318MWESTW_5,  P21W,   279,  1,      4, SI9404,2,19940619,0335,-24.0472, 156.2500, 2010,   1897.8,   2.4921,  34.6361,2,  34.6362,2,    151.0,2,    150.2,2,   104.33,2,    34.83,2,     0.00,2,     2.45,2,    0.001,2,   -0.001,2, -999.000,1,-999.0000,1,  -999.00,9,   -999.0,1,-999.000,9,   -999.0,9,   -999.0,9,  -999.00,9,18932.3,-999.0000,-999.000,-999.000,  2.3570,-999.000
   318MWESTW_5,  P21W,   279,  1,      3, SI9403,2,19940619,0335,-24.0472, 156.2500, 2010,   1960.1,   2.3689,  34.6514,2,  34.6510,2,    153.2,2,    155.1,2,   103.19,2,    34.53,2,     0.00,2,     2.43,2, -999.000,9, -999.000,9, -999.000,1,-999.0000,1,  -999.00,9,   -999.0,1,-999.000,9,   -999.0,9,   -999.0,9,  -999.00,9,19551.8,-999.0000,-999.000,-999.000,  2.2302,-999.000
   318MWESTW_5,  P21W,   279,  1,      2, SI9437,2,19940619,0335,-24.0472, 156.2500, 2010,   2001.3,   2.2669,  34.6697,2,  34.6690,2,    160.4,2,    163.2,4,    98.72,2,    33.59,2,     0.00,2,     2.37,2, -999.000,9, -999.000,9, -999.000,1,-999.0000,1,  -999.00,9,   -999.0,1,-999.000,9,   -999.0,9,   -999.0,9,  -999.00,9,19960.4,-999.0000,-999.000,-999.000,  2.1262,-999.000
   318MWESTW_5,  P21W,   279,  1,      1, SI9401,2,19940619,0335,-24.0472, 156.2500, 2010,   2010.2,   2.2478,  34.6744,2,  34.6747,2,    163.7,3,    167.1,2,    96.46,2,    33.38,2,     0.00,2,     2.33,2,    0.003,2,    0.000,2, -999.000,1,-999.0000,1,  -999.00,9,   -999.0,1,-999.000,9,   -999.0,9,   -999.0,9,  -999.00,9,20048.7,-999.0000,-999.000,-999.000,  2.1066,-999.000