BOTTLE,20010911WHPSIOdm
EXPOCODE,SECT_ID,STNNBR,CASTNO,SAMPNO,BTLNBR,BTLNBR_FLAG_W,DATE,TIME,LATITUDE,LONGITUDE,DEPTH,CTDPRS,CTDTMP,CTDSAL,CTDSAL_FLAG_W,SALNTY,SALNTY_FLAG_W,CTDOXY,CTDOXY_FLAG_W,OXYGEN,OXYGEN_FLAG_W,SILCAT,SILCAT_FLAG_W,NITRAT,NITRAT_FLAG_W,NITRIT,NITRIT_FLAG_W,PHSPHT,PHSPHT_FLAG_W,CFC-11,CFC-11_FLAG_W,CFC-12,CFC-12_FLAG_W,TRITUM,TRITUM_FLAG_W,HELIUM,HELIUM_FLAG_W,DELHE3,DELHE3_FLAG_W,DELC14,DELC14_FLAG_W,NEON,NEON_FLAG_W,TCARBN,TCARBN_FLAG_W,ALKALI,ALKALI_FLAG_W,PH,PH_FLAG_W,CTDRAW,HELIER,DELHER,NEONER,THETA,TRITER
,,,,,,,,,,,,DBAR,ITS-90,PSS-78,,PSS-78,,UMOL/KG,,UMOL/KG,,UMOL/KG,,UMOL/KG,,UMOL/KG,,UMOL/KG,,PMOL/KG,,PMOL/KG,,TU,,UMOL/KG,,PERCNT,,/MILLE,,NMOL/KG,,UMOL/KG,,UMOL/KG,,,,,NMOL/KG,PERCNT,NMOL/KG,ITS-90,TU
   318MWESTW_4,  P21E,   112,  1,     24, SI9404,2,19940430,1753,-16.7500,-121.3333, 3613,      8.3,  26.7510,  36.6819,2,  36.6832,2,    208.7,2,    210.7,2,     0.00,2,     0.11,2,     0.01,2,     0.25,2,    1.713,2,    0.982,2, -999.000,1,-999.0000,1,  -999.00,9,   -999.0,1,-999.000,9,   2046.8,2,   2408.0,2,     8.10,2,  132.6,-999.0000,-999.000,-999.000, 26.7491,-999.000
   318MWESTW_4,  P21E,   112,  1,     23, SI9405,3,19940430,1753,-16.7500,-121.3333, 3613,     24.5,  26.7537,  36.6796,2,  36.6826,2,    213.5,2,    207.9,2,    -0.14,2,     0.19,2,     0.01,2,     0.24,2,    1.732,2,    1.045,2, -999.000,1,-999.0000,1,  -999.00,9,   -999.0,1,-999.000,9,   2046.8,2,   2411.0,2,     8.10,2,  294.9,-999.0000,-999.000,-999.000, 26.7481,-999.000
   318MWESTW_4,  P21E,   112,  1,     22, SI9407,2,19940430,1753,-16.7500,-121.3333, 3613,     47.9,  26.7448,  36.6846,2,  36.6856,2,    209.6,2,    208.3,2,    -0.12,2,     0.20,2,     0.01,2,     0.26,2,    1.711,2,    0.971,2, -999.000,1,-999.0000,1,  -999.00,9,   -999.0,1,-999.000,9,   2046.8,2,   2411.0,2,     8.09,2,  528.3,-999.0000,-999.000,-999.000, 26.7338,-999.000
   318MWESTW_4,  P21E,   112,  1,     21, SI9408,2,19940430,1753,-16.7500,-121.3333, 3613,     98.8,  24.3076,  36.4679,2,  36.4711,2,    220.6,2,    217.3,2,     0.08,2,     0.15,2,     0.01,2,     0.25,2,    1.933,2,    1.067,2, -999.000,1,-999.0000,1,  -999.00,9,   -999.0,1,-999.000,9,   2050.8,2,   2394.0,2,     8.07,2, 1035.5,-999.0000,-999.000,-999.000, 24.2865,-999.000
   318MWESTW_4,  P21E,   112,  1,     20, SI9409,2,19940430,1753,-16.7500,-121.3333, 3613,    150.7,  23.1693,  36.3572,2,  36.3663,2,    211.7,2,    208.6,2,     0.11,2,     0.19,2,     0.10,2,     0.25,2,    1.948,2,    1.090,2, -999.000,1,-999.0000,1,  -999.00,9,   -999.0,1,-999.000,9,   2059.8,2,   2389.0,2,     8.04,2, 1553.0,-999.0000,-999.000,-999.000, 23.1382,-999.000
   318MWESTW_4,  P21E,   112,  1,     19, SI9411,2,19940430,1753,-16.7500,-121.3333, 3613,    204.8,  21.3447,  36.0432,2,  36.0491,2,    195.8,2,    190.6,2,     0.13,2,     2.11,2,     0.07,2,     0.46,2,    2.088,2,    1.129,2, -999.000,1,-999.0000,1,  -999.00,9,   -999.0,1,-999.000,9,   2082.8,2,   2369.0,2,     7.99,2, 2092.4,-999.0000,-999.000,-999.000, 21.3048,-999.000
   318MWESTW_4,  P21E,   112,  1,     18, SI9413,2,19940430,1753,-16.7500,-121.3333, 3613,    244.6,  19.4932,  35.6918,2,  35.6889,2,    188.9,2,    185.2,2,     0.48,2,     3.64,2,     0.02,2,     0.56,2,    2.129,2,    1.123,2, -999.000,1,-999.0000,1,  -999.00,9,   -999.0,1,-999.000,9,   2088.8,2,   2346.0,2,     7.94,2, 2488.3,-999.0000,-999.000,-999.000, 19.4486,-999.000
   318MWESTW_4,  P21E,   112,  1,     17, SI9415,2,19940430,1753,-16.7500,-121.3333, 3613,    301.6,  15.4732,  35.0600,2,  35.0555,2,    185.5,2,    182.6,2,     1.66,2,     6.98,2,     0.01,2,     0.73,2,    1.878,2,    0.971,2, -999.000,1,-999.0000,1,  -999.00,9,   -999.0,1,-999.000,9,   2086.8,2,   2300.0,2,     7.88,2, 3055.8,-999.0000,-999.000,-999.000, 15.4264,-999.000
   318MWESTW_4,  P21E,   112,  1,     16, SI9416,2,19940430,1753,-16.7500,-121.3333, 3613,    395.0,   9.4679,  34.4832,2,  34.4826,2,    118.1,2,    118.1,2,    12.69,2,    25.24,2,     0.00,2,     1.99,2,    0.587,6,    0.293,6, -999.000,1,-999.0000,1,  -999.00,9,   -999.0,1,-999.000,9,   2185.9,2,   2275.0,2,     7.59,2, 3984.4,-999.0000,-999.000,-999.000,  9.4234,-999.000
   318MWESTW_4,  P21E,   112,  1,     15, SI9417,3,19940430,1753,-16.7500,-121.3333, 3613,    498.9,   7.0975,  34.4301,2,  35.3072,4,    117.1,2,   -999.0,9,  -999.00,9,  -999.00,9,  -999.00,9,  -999.00,9, -999.000,9, -999.000,9, -999.000,1,-999.0000,1,  -999.00,9,   -999.0,1,-999.000,9,   -999.0,9,   -999.0,9,  -999.00,9, 5017.8,-999.0000,-999.000,-999.000,  7.0498,-999.000
   318MWESTW_4,  P21E,   112,  1,     14, SI9419,2,19940430,1753,-16.7500,-121.3333, 3613,    596.5,   6.1684,  34.4165,2,  34.4155,2,    108.5,2,    121.3,2,    27.00,2,    35.18,2,     0.01,2,     2.43,2,    0.039,2,    0.020,2, -999.000,1,-999.0000,1,  -999.00,9,   -999.0,1,-999.000,9,   2221.9,2,   2288.0,2,     7.53,2, 5988.4,-999.0000,-999.000,-999.000,  6.1152,-999.000
   318MWESTW_4,  P21E,   112,  1,     13, SI9420,3,19940430,1753,-16.7500,-121.3333, 3613,    698.5,   5.5807,  34.4619,2,  34.4805,4,     93.9,2,     96.3,2,    41.32,2,    38.25,2,     0.00,2,     2.64,2,    0.025,2,    0.009,2, -999.000,1,-999.0000,1,  -999.00,9,   -999.0,1,-999.000,9,   2248.9,2,   2304.0,2,     7.48,2, 7003.3,-999.0000,-999.000,-999.000,  5.5210,-999.000
   318MWESTW_4,  P21E,   112,  1,     12, SI9421,2,19940430,1753,-16.7500,-121.3333, 3613,    798.7,   5.1395,  34.4920,2,  34.4924,2,     79.2,2,     75.7,2,    55.48,2,    41.55,2,     0.00,2,     2.87,2,   -0.001,2,    0.001,2, -999.000,1,-999.0000,1,  -999.00,9,   -999.0,1,-999.000,9,   2280.0,2,   2321.0,2,     7.45,2, 7998.9,-999.0000,-999.000,-999.000,  5.0733,-999.000
   318MWESTW_4,  P21E,   112,  1,     11, SI9423,2,19940430,1753,-16.7500,-121.3333, 3613,   1050.3,   4.1078,  34.5306,2,  34.5311,2,     83.0,2,     82.5,2,    79.15,2,    41.59,2,     0.00,2,     2.91,2,    0.002,2,   -0.003,2, -999.000,1,-999.0000,1,  -999.00,9,   -999.0,1,-999.000,9,   2301.0,2,   2350.0,2,     7.46,2,10500.6,-999.0000,-999.000,-999.000,  4.0270,-999.000
   318MWESTW_4,  P21E,   112,  1,     10, SI9425,2,19940430,1753,-16.7500,-121.3333, 3613,   1302.9,   3.3921,  34.5659,2,  34.5649,2,     91.0,2,     92.4,2,    96.92,2,    40.81,2,    -0.01,2,     2.87,2,    0.001,2,   -0.002,2, -999.000,1,-999.0000,1,  -999.00,9,   -999.0,1,-999.000,9,   2314.0,2,   2362.0,2,     7.47,2,13012.2,-999.0000,-999.000,-999.000,  3.2965,-999.000
   318MWESTW_4,  P21E,   112,  1,      9, SI9424,2,19940430,1753,-16.7500,-121.3333, 3613,   1556.0,   2.8289,  34.5963,2,  34.5963,2,    105.2,2,    106.6,2,   109.17,2,    39.26,2,     0.01,2,     2.79,2, -999.000,9, -999.000,9, -999.000,1,-999.0000,1,  -999.00,9,   -999.0,1,-999.000,9,   2320.0,2,   2377.0,2,     7.49,2,15528.2,-999.0000,-999.000,-999.000,  2.7184,-999.000
   318MWESTW_4,  P21E,   112,  1,      8, SI9428,2,19940430,1753,-16.7500,-121.3333, 3613,   1802.9,   2.3722,  34.6224,2,  34.6236,2,    124.5,2,    128.0,2,   115.21,2,    37.33,2,     0.00,2,     2.65,2, -999.000,9, -999.000,9, -999.000,1,-999.0000,1,  -999.00,9,   -999.0,1,-999.000,9,   2316.0,2,   2386.0,2,     7.53,2,17983.5,-999.0000,-999.000,-999.000,  2.2469,-999.000
   318MWESTW_4,  P21E,   112,  1,      7, SI9429,2,19940430,1753,-16.7500,-121.3333, 3613,   2099.0,   2.0090,  34.6494,2,  34.6496,2,    147.0,2,    148.9,2,   118.36,2,    35.71,2,     0.00,2,     2.51,2, -999.000,9, -999.000,9, -999.000,1,-999.0000,1,  -999.00,9,   -999.0,1,-999.000,9,   2307.0,2,   2390.0,2,     7.56,2,20926.5,-999.0000,-999.000,-999.000,  1.8640,-999.000
   318MWESTW_4,  P21E,   112,  1,      6, SI9431,2,19940430,1753,-16.7500,-121.3333, 3613,   2396.8,   1.8766,  34.6634,2,  34.6649,2,    151.8,2,    153.2,2,   122.49,2,    35.33,2,     0.00,2,     2.47,2, -999.000,9, -999.000,9, -999.000,1,-999.0000,1,  -999.00,9,   -999.0,1,-999.000,9,   2310.0,2,   2395.0,2,     7.58,2,23887.7,-999.0000,-999.000,-999.000,  1.7078,-999.000
   318MWESTW_4,  P21E,   112,  1,      5, SI9432,2,19940430,1753,-16.7500,-121.3333, 3613,   2697.5,   1.8027,  34.6719,2,  34.6726,2,    154.8,2,    155.8,2,   126.14,2,    35.20,2,     0.00,2,     2.47,2, -999.000,9, -999.000,9, -999.000,1,-999.0000,1,  -999.00,9,   -999.0,1,-999.000,9,   2312.0,2,   2402.0,2,     7.58,2,26877.0,-999.0000,-999.000,-999.000,  1.6080,-999.000
   318MWESTW_4,  P21E,   112,  1,      4, SI9433,2,19940430,1753,-16.7500,-121.3333, 3613,   2996.1,   1.7641,  34.6750,2,  34.6753,2,    157.2,2,    158.4,2,   126.66,2,    35.13,2,    -0.01,2,     2.46,2, -999.000,9, -999.000,9, -999.000,1,-999.0000,1,  -999.00,9,   -999.0,1,-999.000,9,   2310.0,2,   2400.0,2,     7.59,2,29845.3,-999.0000,-999.000,-999.000,  1.5419,-999.000
   318MWESTW_4,  P21E,   112,  1,      3, SI9435,2,19940430,1753,-16.7500,-121.3333, 3613,   3285.9,   1.7143,  34.6778,2,  34.6783,2,    160.2,2,    160.7,2,   127.85,2,    35.05,2,    -0.01,2,     2.45,2, -999.000,9, -999.000,9, -999.000,1,-999.0000,1,  -999.00,9,   -999.0,1,-999.000,9,   2310.0,2,   2403.0,2,     7.60,2,32726.2,-999.0000,-999.000,-999.000,  1.4646,-999.000
   318MWESTW_4,  P21E,   112,  1,      2, SI9401,2,19940430,1753,-16.7500,-121.3333, 3613,   3564.1,   1.6894,  34.6805,2,  34.6806,2,    162.0,2,    162.1,2,   128.70,2,    35.02,2,     0.00,2,     2.44,2, -999.000,9, -999.000,9, -999.000,1,-999.0000,1,  -999.00,9,   -999.0,1,-999.000,9,   2312.0,2,   2404.0,2,     7.59,2,35491.9,-999.0000,-999.000,-999.000,  1.4119,-999.000
   318MWESTW_4,  P21E,   112,  1,      1, SI9403,2,19940430,1753,-16.7500,-121.3333, 3613,   3658.1,   1.6974,  34.6810,2,  34.6814,2,    159.5,2,    162.2,2,   128.53,2,    35.05,2,     0.00,2,     2.44,2, -999.000,9, -999.000,9, -999.000,1,-999.0000,1,  -999.00,9,   -999.0,1,-999.000,9,   2310.0,2,   2407.0,2,     7.59,2,36426.3,-999.0000,-999.000,-999.000,  1.4098,-999.000
   318MWESTW_4,  P21E,   113,  1,     24, SI9404,2,19940431,0009,-16.7500,-122.0000, 3173,      7.2,  26.8332,  36.6954,2,  36.6959,2,    217.2,2,    213.4,2,     0.19,2,     0.00,2,  -999.00,2,     0.25,2,    1.716,2,    0.963,2,    0.779,2,   1.6867,2,    -1.34,2,   -999.0,1,   6.624,2,   2047.8,2,   2411.0,2,     8.10,2,  121.9,  0.0084,   0.080,   0.033, 26.8315,   0.007
   318MWESTW_4,  P21E,   113,  1,     23, SI9405,2,19940431,0009,-16.7500,-122.0000, 3173,     24.2,  26.8398,  36.6952,2,  36.6955,2,    214.0,2,    212.5,2,     0.05,2,     0.00,2,  -999.00,2,     0.25,2,    1.735,2,    0.962,2,    0.755,2,   1.6800,2,    -1.02,2,   -999.0,1,   6.579,2,   2046.8,2,   2414.0,2,     8.10,2,  292.3,  0.0084,   0.080,   0.033, 26.8342,   0.007
   318MWESTW_4,  P21E,   113,  1,     22, SI9407,2,19940431,0009,-16.7500,-122.0000, 3173,     47.6,  26.8452,  36.6960,2,  36.6973,2,    207.2,2,    209.1,2,     0.06,2,     0.00,2,  -999.00,2,     0.25,2,    1.698,2,    0.974,2, -999.000,1,   1.6841,2,    -1.27,2,   -999.0,1,   6.615,2,   2045.8,2,   2411.0,2,     8.10,2,  525.5,  0.0084,   0.080,   0.033, 26.8343,-999.000
   318MWESTW_4,  P21E,   113,  1,     21, SI9408,2,19940431,0009,-16.7500,-122.0000, 3173,     99.5,  24.7139,  36.4535,2,  36.4538,2,    219.4,2,    223.5,2,     0.24,2,     0.00,2,  -999.00,2,     0.23,2,    1.956,2,    1.141,2,    0.752,2,   1.7053,2,    -1.12,2,   -999.0,1,   6.774,2,   2044.8,2,   2395.0,2,     8.07,2, 1042.6,  0.0085,   0.080,   0.034, 24.6924,   0.008
   318MWESTW_4,  P21E,   113,  1,     20, SI9409,2,19940431,0009,-16.7500,-122.0000, 3173,    152.2,  23.2385,  36.3581,2,  36.3679,2,    208.7,2,    214.1,2,     0.25,2,     0.02,2,  -999.00,2,     0.26,2,    1.977,2,    1.103,2,    0.747,2,   1.7119,2,    -1.19,2,   -999.0,1,   6.806,2,   2056.8,2,   2386.0,2,     8.05,2, 1568.2,  0.0086,   0.080,   0.034, 23.2070,   0.007
   318MWESTW_4,  P21E,   113,  1,     19, SI9411,2,19940431,0009,-16.7500,-122.0000, 3173,    201.5,  21.3712,  36.0020,2,  36.0281,2,    195.5,2,    198.1,2,     0.27,2,     0.83,2,  -999.00,2,     0.33,2,    2.052,2,    1.116,2,    0.712,2,   1.7245,2,    -0.82,2,   -999.0,1,   6.909,2,   2064.8,2,   2364.0,2,     8.01,2, 2058.6,  0.0086,   0.080,   0.035, 21.3319,   0.007
   318MWESTW_4,  P21E,   113,  1,     18, SI9413,2,19940431,0009,-16.7500,-122.0000, 3173,    253.8,  18.4021,  35.4969,2,  35.5148,2,    192.0,2,    189.2,2,     0.62,2,     3.08,2,  -999.00,2,     0.48,2,    2.047,2,    1.070,2,    0.652,2,   1.7156,2,    -0.25,2,   -999.0,1,   6.981,2,   2075.8,2,   2329.0,2,     7.95,2, 2579.6,  0.0086,   0.080,   0.035, 18.3576,   0.007
   318MWESTW_4,  P21E,   113,  1,     17, SI9415,2,19940431,0009,-16.7500,-122.0000, 3173,    295.7,  16.0977,  35.1490,2,  35.1612,2,    188.6,2,    184.6,2,     1.44,2,     5.84,2,  -999.00,2,     0.66,2,    1.893,2,    0.981,2,    0.570,2,   1.7332,2,     0.35,2,   -999.0,1,   7.169,2,   2082.8,2,   2309.0,2,     7.90,2, 2997.3,  0.0087,   0.080,   0.036, 16.0505,   0.007
   318MWESTW_4,  P21E,   113,  1,     16, SI9416,2,19940431,0009,-16.7500,-122.0000, 3173,    399.6,   9.7534,  34.5187,2,  34.5135,2,     90.1,2,     90.6,2,    15.36,2,    26.57,2,  -999.00,2,     2.18,2,    0.484,2,    0.241,2,    0.157,2,   1.7727,2,     1.94,2,   -999.0,1,   7.523,2,   2205.9,2,   2278.0,2,     7.55,2, 4030.7,  0.0089,   0.080,   0.038,  9.7075,   0.004
   318MWESTW_4,  P21E,   113,  1,     15, SI9417,2,19940431,0009,-16.7500,-122.0000, 3173,    499.4,   7.0444,  34.4537,2,  34.4504,2,     94.5,2,     99.2,2,    24.26,2,    34.68,2,  -999.00,2,     2.46,2,    0.068,2,    0.034,2,    0.012,2,   1.7812,2,     2.38,2,   -999.0,1,   7.656,2,   2230.9,2,   2284.0,2,     7.50,2, 5022.5,  0.0089,   0.080,   0.038,  6.9969,   0.004
   318MWESTW_4,  P21E,   113,  1,     14, SI9419,2,19940431,0009,-16.7500,-122.0000, 3173,    602.3,   6.1862,  34.4600,2,  34.4575,2,     94.7,2,     93.9,2,    33.49,2,    37.31,2,  -999.00,2,     2.60,2,    0.013,2,    0.006,2,    0.001,2,   1.7962,2,     4.95,2,   -999.0,1,   7.711,2,   2243.9,2,   2294.0,2,     7.48,2, 6046.5,  0.0090,   0.090,   0.039,  6.1323,   0.004
   318MWESTW_4,  P21E,   113,  1,     13, SI9420,2,19940431,0009,-16.7500,-122.0000, 3173,    699.1,   5.6626,  34.4756,2,  34.4756,2,     81.9,2,     82.6,2,    44.01,2,    39.46,2,  -999.00,2,     2.76,2,   -0.001,2,   -0.002,2,    0.007,2,   1.8084,2,     8.11,2,   -999.0,1,   7.760,2,   2269.0,2,   2303.0,2,     7.46,2, 7008.7,  0.0090,   0.090,   0.039,  5.6024,   0.004
   318MWESTW_4,  P21E,   113,  1,     12, SI9421,2,19940431,0009,-16.7500,-122.0000, 3173,    803.6,   5.1679,  34.4919,2,  34.4913,2,     77.2,2,     76.1,2,    54.86,2,    40.89,2,  -999.00,2,     2.86,2,    0.001,2,    0.000,2,   -0.002,2,   1.8298,2,    10.82,2,   -999.0,1,   7.818,2,   2280.0,2,   2316.0,2,     7.45,2, 8048.3,  0.0091,   0.090,   0.039,  5.1011,   0.004
   318MWESTW_4,  P21E,   113,  1,     11, SI9423,2,19940431,0009,-16.7500,-122.0000, 3173,   1001.9,   4.2902,  34.5252,2,  34.5254,2,     81.4,2,     82.0,2,    74.75,2,    40.94,2,  -999.00,2,     2.90,2,    0.004,2,   -0.003,2,    0.006,2,   1.8466,2,    15.98,2,   -999.0,1,   7.865,2,   2299.0,2,   2336.0,2,     7.45,2,10019.3,  0.0092,   0.090,   0.039,  4.2121,   0.004
   318MWESTW_4,  P21E,   113,  1,     10, SI9425,2,19940431,0009,-16.7500,-122.0000, 3173,   1197.3,   3.6895,  34.5521,2,  34.5506,2,     87.4,2,     86.5,2,    89.47,2,    40.75,2,  -999.00,2,     2.91,2,    0.001,2,   -0.004,2,    0.002,2,   1.8714,2,    19.41,2,   -999.0,1,   7.935,2,   2314.0,2,   2355.0,2,     7.46,2,11962.3,  0.0094,   0.100,   0.040,  3.5999,   0.004
   318MWESTW_4,  P21E,   113,  1,      9, SI9424,2,19940431,0009,-16.7500,-122.0000, 3173,   1397.2,   3.1613,  34.5780,2,  34.5775,2,    100.0,2,     99.2,2,   101.28,2,    39.74,2,  -999.00,2,     2.84,2,    0.000,2,   -0.002,2, -999.000,1,-999.0000,1,  -999.00,9,   -999.0,1,-999.000,9,   2320.0,2,   2367.0,2,     7.49,2,13949.5,-999.0000,-999.000,-999.000,  3.0602,-999.000
   318MWESTW_4,  P21E,   113,  1,      8, SI9428,2,19940431,0009,-16.7500,-122.0000, 3173,   1598.1,   2.7210,  34.6023,2,  34.6028,2,    112.9,2,    112.5,2,   110.18,2,    38.65,2,  -999.00,2,     2.76,2, -999.000,9, -999.000,9,    0.002,2,   1.8953,2,    25.14,2,   -999.0,1,   8.017,2,   2319.0,2,   2379.0,2,     7.50,2,15947.2,  0.0095,   0.100,   0.040,  2.6082,   0.004
   318MWESTW_4,  P21E,   113,  1,      7, SI9429,2,19940431,0009,-16.7500,-122.0000, 3173,   1800.9,   2.3599,  34.6239,2,  34.6233,2,    127.2,2,    128.5,2,   115.05,2,    37.41,2,  -999.00,2,     2.64,2, -999.000,9, -999.000,9, -999.000,1,-999.0000,1,  -999.00,9,   -999.0,1,-999.000,9,   2312.0,2,   2382.0,2,     7.53,2,17963.6,-999.0000,-999.000,-999.000,  2.2349,-999.000
   318MWESTW_4,  P21E,   113,  1,      6, SI9431,2,19940431,0009,-16.7500,-122.0000, 3173,   1999.8,   2.0934,  34.6430,2,  34.6427,2,    143.0,2,    144.1,2,   117.00,2,    36.21,2,  -999.00,2,     2.54,2, -999.000,9, -999.000,9, -999.000,1,-999.0000,1,  -999.00,9,   -999.0,1,-999.000,9,   -999.0,9,   2388.0,2,     7.55,2,19940.7,-999.0000,-999.000,-999.000,  1.9555,-999.000
   318MWESTW_4,  P21E,   113,  1,      5, SI9432,2,19940431,0009,-16.7500,-122.0000, 3173,   2197.9,   1.9508,  34.6554,2,  34.6555,2,    150.6,2,    150.6,2,   119.92,2,    35.64,2,  -999.00,2,     2.49,2, -999.000,9, -999.000,9, -999.000,1,-999.0000,1,  -999.00,9,   -999.0,1,-999.000,9,   2306.0,2,   2389.0,2,     7.57,2,21909.8,-999.0000,-999.000,-999.000,  1.7982,-999.000
   318MWESTW_4,  P21E,   113,  1,      4, SI9433,2,19940431,0009,-16.7500,-122.0000, 3173,   2399.1,   1.8887,  34.6628,2,  34.6625,2,    152.6,2,    153.2,2,   121.71,2,    35.49,2,  -999.00,2,     2.48,2, -999.000,9, -999.000,9, -999.000,1,-999.0000,1,  -999.00,9,   -999.0,1,-999.000,9,   2305.0,2,   2395.0,2,     7.57,2,23910.5,-999.0000,-999.000,-999.000,  1.7195,-999.000
   318MWESTW_4,  P21E,   113,  1,      3, SI9435,2,19940431,0009,-16.7500,-122.0000, 3173,   2695.5,   1.8182,  34.6711,2,  34.6706,2,    154.5,2,    154.9,2,   125.12,2,    35.26,2,  -999.00,2,     2.47,2, -999.000,9, -999.000,9, -999.000,1,-999.0000,1,  -999.00,9,   -999.0,1,-999.000,9,   2308.0,2,   2398.0,2,     7.58,2,26856.4,-999.0000,-999.000,-999.000,  1.6234,-999.000
   318MWESTW_4,  P21E,   113,  1,      2, SI9401,2,19940431,0009,-16.7500,-122.0000, 3173,   3189.5,   1.7109,  34.6782,2,  34.6781,2,    159.9,2,    160.0,2,   127.55,2,    35.21,2,  -999.00,2,     2.45,2, -999.000,9, -999.000,9, -999.000,1,-999.0000,1,  -999.00,9,   -999.0,1,-999.000,9,   2306.0,2,   2403.0,2,     7.58,2,31768.2,-999.0000,-999.000,-999.000,  1.4709,-999.000
   318MWESTW_4,  P21E,   113,  1,      1, SI9403,2,19940431,0009,-16.7500,-122.0000, 3173,   3278.6,   1.7025,  34.6786,2,  34.6787,2,    160.4,2,    160.8,2,   127.96,2,    35.10,2,  -999.00,2,     2.45,2, -999.000,9, -999.000,9, -999.000,1,-999.0000,1,  -999.00,9,   -999.0,1,-999.000,9,   -999.0,9,   -999.0,9,  -999.00,9,32653.5,-999.0000,-999.000,-999.000,  1.4538,-999.000