BOTTLE,20010911WHPSIOdm
EXPOCODE,SECT_ID,STNNBR,CASTNO,SAMPNO,BTLNBR,BTLNBR_FLAG_W,DATE,TIME,LATITUDE,LONGITUDE,DEPTH,CTDPRS,CTDTMP,CTDSAL,CTDSAL_FLAG_W,SALNTY,SALNTY_FLAG_W,CTDOXY,CTDOXY_FLAG_W,OXYGEN,OXYGEN_FLAG_W,SILCAT,SILCAT_FLAG_W,NITRAT,NITRAT_FLAG_W,NITRIT,NITRIT_FLAG_W,PHSPHT,PHSPHT_FLAG_W,CFC-11,CFC-11_FLAG_W,CFC-12,CFC-12_FLAG_W,TRITUM,TRITUM_FLAG_W,HELIUM,HELIUM_FLAG_W,DELHE3,DELHE3_FLAG_W,DELC14,DELC14_FLAG_W,NEON,NEON_FLAG_W,TCARBN,TCARBN_FLAG_W,ALKALI,ALKALI_FLAG_W,PH,PH_FLAG_W,CTDRAW,HELIER,DELHER,NEONER,THETA,TRITER
,,,,,,,,,,,,DBAR,ITS-90,PSS-78,,PSS-78,,UMOL/KG,,UMOL/KG,,UMOL/KG,,UMOL/KG,,UMOL/KG,,UMOL/KG,,PMOL/KG,,PMOL/KG,,TU,,UMOL/KG,,PERCNT,,/MILLE,,NMOL/KG,,UMOL/KG,,UMOL/KG,,,,,NMOL/KG,PERCNT,NMOL/KG,ITS-90,TU
   318MWESTW_4,  P21E,   150,  1,     24, SI9404,2,19940510,1813,-17.5028,-145.1695, 3140,      8.5,  28.5764,  36.0892,2,  36.0819,2,    203.5,2,    201.8,2,     0.67,2,     0.00,2,     0.00,2,     0.20,2,    1.610,2,    0.915,2, -999.000,1,-999.0000,1,  -999.00,9,   -999.0,1,-999.000,9,   1993.7,2,   2366.0,2,     8.21,2,  134.9,-999.0000,-999.000,-999.000, 28.5744,-999.000
   318MWESTW_4,  P21E,   150,  1,     23, SI9405,2,19940510,1813,-17.5028,-145.1695, 3140,     25.7,  28.6005,  36.1298,2,  36.1290,2,    206.7,2,    201.6,2,     0.55,2,     0.00,2,     0.00,2,     0.19,2,    1.593,2,    0.911,2, -999.000,1,-999.0000,1,  -999.00,9,   -999.0,1,-999.000,9,   1993.7,2,   2368.0,2,     8.21,2,  306.7,-999.0000,-999.000,-999.000, 28.5943,-999.000
   318MWESTW_4,  P21E,   150,  1,     22, SI9407,2,19940510,1813,-17.5028,-145.1695, 3140,     48.7,  28.6645,  36.1846,2,  36.1820,2,    208.3,2,    201.4,2,     0.58,2,     0.00,2,     0.00,2,     0.20,2,    1.572,2,    0.904,2, -999.000,1,-999.0000,1,  -999.00,9,   -999.0,1,-999.000,9,   1998.7,2,   2373.0,2,     8.21,2,  536.7,-999.0000,-999.000,-999.000, 28.6528,-999.000
   318MWESTW_4,  P21E,   150,  1,     21, SI9408,2,19940510,1813,-17.5028,-145.1695, 3140,     99.0,  25.8032,  36.3214,2,  36.3194,2,    216.4,2,    209.7,2,     0.45,2,     0.00,2,     0.00,2,     0.21,2,    1.825,2,    1.014,2, -999.000,1,-999.0000,1,  -999.00,9,   -999.0,1,-999.000,9,   2026.7,2,   2383.0,2,     8.18,2, 1037.4,-999.0000,-999.000,-999.000, 25.7811,-999.000
   318MWESTW_4,  P21E,   150,  1,     20, SI9409,2,19940510,1813,-17.5028,-145.1695, 3140,    151.2,  23.8981,  36.2086,2,  36.2075,2,    195.2,2,    196.0,2,     0.48,2,     0.23,2,     0.09,2,     0.26,2,    1.878,2,    1.042,2, -999.000,1,-999.0000,1,  -999.00,9,   -999.0,1,-999.000,9,   2045.8,2,   2378.0,2,     8.14,2, 1557.1,-999.0000,-999.000,-999.000, 23.8662,-999.000
   318MWESTW_4,  P21E,   150,  1,     19, SI9411,2,19940510,1813,-17.5028,-145.1695, 3140,    194.7,  22.2983,  36.0579,2,  36.0558,2,    186.5,2,    185.9,2,     0.51,2,     1.61,2,     0.15,2,     0.37,2,    1.899,2,    1.054,2, -999.000,1,-999.0000,1,  -999.00,9,   -999.0,1,-999.000,9,   2063.8,2,   2363.0,2,     8.10,2, 1991.2,-999.0000,-999.000,-999.000, 22.2592,-999.000
   318MWESTW_4,  P21E,   150,  1,     18, SI9413,2,19940510,1813,-17.5028,-145.1695, 3140,    252.1,  19.8063,  35.7515,2,  35.7519,2,    175.1,2,    177.0,2,     0.84,2,     3.98,2,     0.00,2,     0.54,2,    1.881,2,    1.003,2, -999.000,1,-999.0000,1,  -999.00,9,   -999.0,1,-999.000,9,   2082.8,2,   2349.0,2,     8.04,2, 2562.2,-999.0000,-999.000,-999.000, 19.7597,-999.000
   318MWESTW_4,  P21E,   150,  1,     17, SI9415,2,19940510,1813,-17.5028,-145.1695, 3140,    295.9,  18.0051,  35.4971,2,  35.4924,2,    172.3,2,    172.8,2,     1.63,2,     6.00,2,     0.01,2,     0.66,2,    1.755,6,    0.920,6, -999.000,1,-999.0000,1,  -999.00,9,   -999.0,1,-999.000,9,   2091.8,2,   2329.0,2,     8.00,2, 2998.4,-999.0000,-999.000,-999.000, 17.9540,-999.000
   318MWESTW_4,  P21E,   150,  1,     16, SI9416,2,19940510,1813,-17.5028,-145.1695, 3140,    405.5,  11.5143,  34.7316,2,  34.7304,2,    144.7,2,    145.4,2,     9.00,2,    18.22,2,     0.00,2,     1.48,2,    0.889,2,    0.458,2, -999.000,1,-999.0000,1,  -999.00,9,   -999.0,1,-999.000,9,   2148.8,2,   2290.0,2,     7.80,2, 4088.7,-999.0000,-999.000,-999.000, 11.4625,-999.000
   318MWESTW_4,  P21E,   150,  1,     15, SI9417,2,19940510,1813,-17.5028,-145.1695, 3140,    505.9,   8.9881,  34.5362,2,  34.5335,2,    138.4,2,    138.7,2,    14.84,2,    24.96,3,     0.00,2,     1.86,2,    0.465,2,    0.237,2, -999.000,1,-999.0000,1,  -999.00,9,   -999.0,1,-999.000,9,   2177.9,2,   2282.0,2,     7.71,2, 5087.4,-999.0000,-999.000,-999.000,  8.9325,-999.000
   318MWESTW_4,  P21E,   150,  1,     14, SI9419,2,19940510,1813,-17.5028,-145.1695, 3140,    592.5,   7.3609,  34.4671,2,  34.4654,2,    137.5,2,    141.9,2,    21.91,2,    28.77,3,     0.00,2,     2.06,2,    0.221,2,    0.116,2, -999.000,1,-999.0000,1,  -999.00,9,   -999.0,1,-999.000,9,   2194.9,2,   2288.0,2,     7.67,2, 5948.4,-999.0000,-999.000,-999.000,  7.3027,-999.000
   318MWESTW_4,  P21E,   150,  1,     13, SI9420,2,19940510,1813,-17.5028,-145.1695, 3140,    698.6,   6.1528,  34.4639,2,  34.4626,2,    139.8,2,    139.8,2,    34.48,2,    31.73,3,     0.00,2,     2.23,2,    0.057,2,    0.025,2, -999.000,1,-999.0000,1,  -999.00,9,   -999.0,1,-999.000,9,   2213.9,2,   2299.0,2,     7.65,2, 7003.4,-999.0000,-999.000,-999.000,  6.0900,-999.000
   318MWESTW_4,  P21E,   150,  1,     12, SI9421,2,19940510,1813,-17.5028,-145.1695, 3140,    795.2,   5.1419,  34.4707,2,  34.4699,2,    141.0,2,    140.3,2,    48.58,2,    33.52,3,     0.00,2,     2.34,2,    0.019,2,    0.010,2, -999.000,1,-999.0000,1,  -999.00,9,   -999.0,1,-999.000,9,   2232.9,2,   2315.0,2,     7.64,2, 7964.5,-999.0000,-999.000,-999.000,  5.0760,-999.000
   318MWESTW_4,  P21E,   150,  1,     11, SI9423,2,19940510,1813,-17.5028,-145.1695, 3140,    995.9,   3.9957,  34.5101,2,  34.5091,2,    141.5,2,    141.9,2,    69.41,2,    34.72,3,     0.01,2,     2.41,3,    0.002,2,   -0.003,2, -999.000,1,-999.0000,1,  -999.00,9,   -999.0,1,-999.000,9,   2256.9,2,   2333.0,2,     7.63,2, 9959.8,-999.0000,-999.000,-999.000,  3.9204,-999.000
   318MWESTW_4,  P21E,   150,  1,     10, SI9425,2,19940510,1813,-17.5028,-145.1695, 3140,   1197.8,   3.3830,  34.5455,2,  34.5453,2,    142.3,2,    143.3,2,    83.35,2,    35.08,3,     0.00,2,     2.44,3, -999.000,9, -999.000,9, -999.000,1,-999.0000,1,  -999.00,9,   -999.0,1,-999.000,9,   2274.0,2,   2349.0,2,     7.63,2,11966.8,-999.0000,-999.000,-999.000,  3.2962,-999.000
   318MWESTW_4,  P21E,   150,  1,      9, SI9424,2,19940510,1813,-17.5028,-145.1695, 3140,   1401.5,   2.9857,  34.5701,2,  34.5698,2,    145.1,2,    145.7,2,    92.25,2,    35.11,3,     0.01,2,     2.44,3, -999.000,9, -999.000,9, -999.000,1,-999.0000,1,  -999.00,9,   -999.0,1,-999.000,9,   2281.0,2,   2358.0,2,     7.63,2,13992.8,-999.0000,-999.000,-999.000,  2.8862,-999.000
   318MWESTW_4,  P21E,   150,  1,      8, SI9428,2,19940510,1813,-17.5028,-145.1695, 3140,   1600.0,   2.6291,  34.5942,2,  34.5936,2,    147.6,2,    149.1,2,   100.54,2,    35.04,3,     0.01,2,     2.43,3, -999.000,9, -999.000,9, -999.000,1,-999.0000,1,  -999.00,9,   -999.0,1,-999.000,9,   2291.0,2,   2370.0,2,     7.64,2,15965.6,-999.0000,-999.000,-999.000,  2.5173,-999.000
   318MWESTW_4,  P21E,   150,  1,      7, SI9429,2,19940510,1813,-17.5028,-145.1695, 3140,   1850.7,   2.3342,  34.6171,2,  34.6176,2,    150.9,2,    152.1,2,   107.60,2,    34.93,3,     0.00,2,     2.42,3, -999.000,9, -999.000,9, -999.000,1,-999.0000,1,  -999.00,9,   -999.0,1,-999.000,9,   2295.0,2,   2378.0,2,     7.65,2,18458.1,-999.0000,-999.000,-999.000,  2.2054,-999.000
   318MWESTW_4,  P21E,   150,  1,      6, SI9431,2,19940510,1813,-17.5028,-145.1695, 3140,   2100.1,   2.1175,  34.6351,2,  34.6341,2,    153.5,2,    154.9,2,   113.14,2,    34.69,3,     0.02,2,     2.42,3, -999.000,9, -999.000,9, -999.000,1,-999.0000,1,  -999.00,9,   -999.0,1,-999.000,9,   2297.0,2,   2381.0,2,     7.64,2,20938.0,-999.0000,-999.000,-999.000,  1.9707,-999.000
   318MWESTW_4,  P21E,   150,  1,      5, SI9432,2,19940510,1813,-17.5028,-145.1695, 3140,   2350.3,   1.9596,  34.6490,2,  34.6547,4,    156.0,2,    159.4,3,   117.76,2,    34.48,3,     0.00,2,     2.42,3, -999.000,9, -999.000,9, -999.000,1,-999.0000,1,  -999.00,9,   -999.0,1,-999.000,9,   2299.0,2,   2388.0,2,     7.65,2,23425.4,-999.0000,-999.000,-999.000,  1.7935,-999.000
   318MWESTW_4,  P21E,   150,  1,      4, SI9433,3,19940510,1813,-17.5028,-145.1695, 3140,   2595.1,   1.8643,  34.6579,2,  34.9534,4,    159.6,2,    161.2,2,    80.92,4,    25.47,4,     0.02,4,     1.85,4, -999.000,9, -999.000,9, -999.000,1,-999.0000,1,  -999.00,9,   -999.0,1,-999.000,9,   -999.0,9,   -999.0,9,  -999.00,9,25858.5,-999.0000,-999.000,-999.000,  1.6779,-999.000
   318MWESTW_4,  P21E,   150,  1,      3, SI9435,2,19940510,1813,-17.5028,-145.1695, 3140,   2847.8,   1.7868,  34.6652,2,  34.6724,4,    162.4,2,    163.2,2,   119.96,2,    34.30,3,     0.00,2,     2.40,3, -999.000,9, -999.000,9, -999.000,1,-999.0000,1,  -999.00,9,   -999.0,1,-999.000,9,   2299.0,2,   2390.0,2,     7.64,2,28371.1,-999.0000,-999.000,-999.000,  1.5783,-999.000
   318MWESTW_4,  P21E,   150,  1,      2, SI9401,2,19940510,1813,-17.5028,-145.1695, 3140,   3105.6,   1.7077,  34.6719,2,  34.6726,2,    166.1,2,    166.0,2,   121.06,2,    34.01,3,     0.01,2,     2.38,3, -999.000,9, -999.000,9, -999.000,1,-999.0000,1,  -999.00,9,   -999.0,1,-999.000,9,   2299.0,2,   2387.0,2,     7.65,2,30933.3,-999.0000,-999.000,-999.000,  1.4761,-999.000
   318MWESTW_4,  P21E,   150,  1,      1, SI9403,2,19940510,1813,-17.5028,-145.1695, 3140,   3197.9,   1.6616,  34.6761,2,  34.6761,2,    167.9,2,    168.4,2,   121.48,2,    34.03,3,     0.00,2,     2.37,3, -999.000,9, -999.000,9, -999.000,1,-999.0000,1,  -999.00,9,   -999.0,1,-999.000,9,   2297.0,2,   2390.0,2,     7.66,2,31850.6,-999.0000,-999.000,-999.000,  1.4219,-999.000
   318MWESTW_4,  P21E,   151,  1,     22, SI9407,2,19940510,2223,-17.5028,-145.5028, 1550,      5.9,  28.6761,  36.1046,2,  36.1045,2,    207.1,2,    204.1,2,     0.73,2,    -0.01,2,     0.01,2,     0.21,2, -999.000,9, -999.000,9, -999.000,1,-999.0000,1,  -999.00,9,   -999.0,1,-999.000,9,   -999.0,9,   -999.0,9,  -999.00,9,  107.8,-999.0000,-999.000,-999.000, 28.6747,-999.000
   318MWESTW_4,  P21E,   151,  1,     21, SI9408,2,19940510,2223,-17.5028,-145.5028, 1550,     22.8,  28.6794,  36.1025,2,  36.1023,2,    205.7,2,    206.2,2,     0.63,2,     0.00,2,     0.00,2,     0.21,2, -999.000,9, -999.000,9,    0.899,2,   1.6900,2,    -1.51,2,   -999.0,1,   6.557,2,   -999.0,9,   -999.0,9,  -999.00,9,  277.1,  0.0084,   0.080,   0.033, 28.6739,   0.007
   318MWESTW_4,  P21E,   151,  1,     20, SI9409,2,19940510,2223,-17.5028,-145.5028, 1550,     46.7,  28.7139,  36.1322,2,  36.1387,2,    200.7,2,    206.6,2,     0.68,2,    -0.01,2,     0.01,2,     0.21,2, -999.000,9, -999.000,9,    0.831,2,   1.6959,2,    -1.28,2,   -999.0,1,   6.559,2,   -999.0,9,   -999.0,9,  -999.00,9,  515.8,  0.0085,   0.080,   0.033, 28.7027,   0.007
   318MWESTW_4,  P21E,   151,  1,     19, SI9411,2,19940510,2223,-17.5028,-145.5028, 1550,     94.3,  26.8068,  36.3064,2,  36.3077,2,    214.2,2,    210.5,2,     0.59,2,     0.01,2,     0.00,2,     0.22,2, -999.000,9, -999.000,9, -999.000,1,   1.7138,2,    -1.12,2,   -999.0,1,   6.683,2,   -999.0,9,   -999.0,9,  -999.00,9,  990.0,  0.0086,   0.080,   0.033, 26.7852,-999.000
   318MWESTW_4,  P21E,   151,  1,     18, SI9413,2,19940510,2223,-17.5028,-145.5028, 1550,    146.8,  24.8361,  36.2859,2,  36.2871,2,    202.5,2,    204.1,2,     0.48,2,     0.10,2,     0.02,2,     0.26,2, -999.000,9, -999.000,9,    0.810,2,   1.6976,2,    -1.12,2,   -999.0,1,   6.726,2,   -999.0,9,   -999.0,9,  -999.00,9, 1513.8,  0.0085,   0.080,   0.034, 24.8042,   0.007
   318MWESTW_4,  P21E,   151,  1,     17, SI9415,2,19940510,2223,-17.5028,-145.5028, 1550,    199.4,  21.4813,  35.9767,2,  35.9736,2,    186.2,2,    183.0,2,     0.68,2,     2.55,2,     0.04,2,     0.46,2, -999.000,9, -999.000,9,    0.713,2,   1.7243,2,    -0.52,2,   -999.0,1,   6.927,2,   -999.0,9,   -999.0,9,  -999.00,9, 2037.3,  0.0086,   0.080,   0.035, 21.4423,   0.007
   318MWESTW_4,  P21E,   151,  1,     16, SI9416,2,19940510,2223,-17.5028,-145.5028, 1550,    249.7,  19.3849,  35.6827,2,  35.6879,2,    178.8,2,    179.6,2,     1.05,2,     4.21,2,     0.00,2,     0.57,2, -999.000,9, -999.000,9,    0.625,2,   1.7220,2,    -0.14,2,   -999.0,1,   6.984,2,   -999.0,9,   -999.0,9,  -999.00,9, 2538.2,  0.0086,   0.080,   0.035, 19.3395,   0.006
   318MWESTW_4,  P21E,   151,  1,     15, SI9417,2,19940510,2223,-17.5028,-145.5028, 1550,    297.9,  16.9807,  35.3500,2,  35.3772,2,    174.8,2,    170.8,2,     2.33,2,     7.00,2,     0.00,2,     0.76,2, -999.000,9, -999.000,9,    0.566,2,   1.7347,2,     0.50,2,   -999.0,1,   7.121,2,   -999.0,9,   -999.0,9,  -999.00,9, 3018.0,  0.0087,   0.080,   0.036, 16.9313,   0.006
   318MWESTW_4,  P21E,   151,  1,     14, SI9419,2,19940510,2223,-17.5028,-145.5028, 1550,    410.2,  10.5595,  34.6496,2,  34.6500,2,    149.2,2,    147.4,2,    10.32,2,    20.27,2,     0.00,2,     1.61,2, -999.000,9, -999.000,9,    0.252,2,   1.7706,2,     1.53,2,   -999.0,1,   7.470,2,   -999.0,9,   -999.0,9,  -999.00,9, 4135.3,  0.0089,   0.080,   0.037, 10.5099,   0.005
   318MWESTW_4,  P21E,   151,  1,     13, SI9420,2,19940510,2223,-17.5028,-145.5028, 1550,    490.7,   8.2306,  34.4930,2,  34.4977,2,    134.5,2,    132.7,2,    18.02,2,    27.32,2,    -0.01,2,     2.03,2, -999.000,9, -999.000,9,    0.105,2,   1.7888,2,     2.65,2,   -999.0,1,   7.604,2,   -999.0,9,   -999.0,9,  -999.00,9, 4936.1,  0.0089,   0.080,   0.038,  8.1795,   0.004
   318MWESTW_4,  P21E,   151,  1,     12, SI9421,2,19940510,2223,-17.5028,-145.5028, 1550,    605.5,   6.6296,  34.4575,2,  34.4559,2,    137.8,2,    137.0,2,    28.15,2,    31.15,2,     0.01,2,     2.22,2, -999.000,9, -999.000,9,    0.031,2,   1.7896,2,     5.30,2,   -999.0,1,   7.708,2,   -999.0,9,   -999.0,9,  -999.00,9, 6077.0,  0.0089,   0.090,   0.039,  6.5734,   0.004
   318MWESTW_4,  P21E,   151,  1,     11, SI9423,2,19940510,2223,-17.5028,-145.5028, 1550,    703.6,   5.4992,  34.4578,2,  34.4589,2,    141.0,2,    141.1,2,    41.35,2,    33.09,2,     0.01,2,     2.33,2, -999.000,9, -999.000,9,    0.022,2,   1.8128,2,     9.34,2,   -999.0,1,   7.785,2,   -999.0,9,   -999.0,9,  -999.00,9, 7052.3,  0.0091,   0.090,   0.039,  5.4395,   0.004
   318MWESTW_4,  P21E,   151,  1,     10, SI9425,2,19940510,2223,-17.5028,-145.5028, 1550,    806.7,   4.7642,  34.4783,2,  34.4775,2,    142.6,2,    141.5,2,    54.24,2,    33.99,2,     0.00,2,     2.40,2, -999.000,9, -999.000,9,    0.007,2,   1.8341,2,    12.79,2,   -999.0,1,   7.841,2,   -999.0,9,   -999.0,9,  -999.00,9, 8077.3,  0.0092,   0.090,   0.039,  4.6996,   0.004
   318MWESTW_4,  P21E,   151,  1,      9, SI9424,2,19940510,2223,-17.5028,-145.5028, 1550,    903.4,   4.2685,  34.4977,2,  34.5154,4,    143.1,2,    141.5,2,    63.60,2,    34.53,2,     0.00,2,     2.43,2, -999.000,9, -999.000,9, -999.000,1,-999.0000,1,  -999.00,9,   -999.0,1,-999.000,9,   -999.0,9,   -999.0,9,  -999.00,9, 9038.9,-999.0000,-999.000,-999.000,  4.1989,-999.000
   318MWESTW_4,  P21E,   151,  1,      8, SI9428,2,19940510,2223,-17.5028,-145.5028, 1550,    992.5,   3.9537,  34.5151,2,  34.5137,2,    141.6,2,    140.8,2,    70.82,2,    34.85,2,     0.00,2,     2.46,2, -999.000,9, -999.000,9,   -0.003,2,   1.8517,2,    17.25,2,   -999.0,1,   7.908,2,   -999.0,9,   -999.0,9,  -999.00,9, 9924.4,  0.0093,   0.100,   0.040,  3.8790,   0.004
   318MWESTW_4,  P21E,   151,  1,      7, SI9429,2,19940510,2223,-17.5028,-145.5028, 1550,   1092.0,   3.7987,  34.5246,2,  34.5229,2,    141.1,2,    140.8,2,    74.54,2,    35.01,2,     0.00,2,     2.46,2, -999.000,9, -999.000,9, -999.000,1,-999.0000,1,  -999.00,9,   -999.0,1,-999.000,9,   -999.0,9,   -999.0,9,  -999.00,9,10913.6,-999.0000,-999.000,-999.000,  3.7170,-999.000
   318MWESTW_4,  P21E,   151,  1,      6, SI9431,2,19940510,2223,-17.5028,-145.5028, 1550,   1196.3,   3.4688,  34.5437,2,  34.5415,2,    141.0,2,    140.8,2,    81.92,2,    35.28,2,     0.00,2,     2.49,2, -999.000,9, -999.000,9, -999.000,1,   1.8633,2,    19.69,2,   -999.0,1,   7.944,2,   -999.0,9,   -999.0,9,  -999.00,9,11949.9,  0.0093,   0.100,   0.040,  3.3813,-999.000
   318MWESTW_4,  P21E,   151,  1,      5, SI9432,2,19940510,2223,-17.5028,-145.5028, 1550,   1301.0,   3.2816,  34.5542,2,  34.5519,2,    141.9,2,    141.4,2,    86.08,2,    35.38,2,     0.00,2,     2.49,2, -999.000,9, -999.000,9, -999.000,1,-999.0000,1,  -999.00,9,   -999.0,1,-999.000,9,   -999.0,9,   -999.0,9,  -999.00,9,12991.0,-999.0000,-999.000,-999.000,  3.1873,-999.000
   318MWESTW_4,  P21E,   151,  1,      4, SI9433,2,19940510,2223,-17.5028,-145.5028, 1550,   1397.4,   3.1258,  34.5628,2,  34.5602,2,    142.7,2,    142.9,2,    89.33,2,    35.25,2,     0.00,2,     2.48,2, -999.000,9, -999.000,9, -999.000,1,-999.0000,1,  -999.00,9,   -999.0,1,-999.000,9,   -999.0,9,   -999.0,9,  -999.00,9,13948.7,-999.0000,-999.000,-999.000,  3.0251,-999.000
   318MWESTW_4,  P21E,   151,  1,      3, SI9435,2,19940510,2223,-17.5028,-145.5028, 1550,   1555.0,   2.7668,  34.5858,2,  34.5857,2,    146.4,2,    145.8,2,    97.78,2,    35.18,2,     0.00,2,     2.47,2, -999.000,9, -999.000,9,   -0.008,2,   1.8896,2,    23.67,2,   -999.0,1,   8.014,2,   -999.0,9,   -999.0,9,  -999.00,9,15514.9,  0.0094,   0.100,   0.040,  2.6571,   0.004
   318MWESTW_4,  P21E,   151,  1,      2, SI9401,2,19940510,2223,-17.5028,-145.5028, 1550,   1605.6,   2.5587,  34.6006,2,  34.5997,2,    146.6,2,    147.5,2,   102.70,2,    35.21,2,     0.01,2,     2.47,2, -999.000,9, -999.000,9, -999.000,1,-999.0000,1,  -999.00,9,   -999.0,1,-999.000,9,   -999.0,9,   -999.0,9,  -999.00,9,16017.6,-999.0000,-999.000,-999.000,  2.4473,-999.000
   318MWESTW_4,  P21E,   151,  1,      1, SI9403,2,19940510,2223,-17.5028,-145.5028, 1550,   1608.6,   2.5594,  34.6010,2,  34.5989,2,    146.7,2,    147.9,2,   102.61,2,    35.16,2,     0.01,2,     2.47,2, -999.000,9, -999.000,9, -999.000,1,-999.0000,1,  -999.00,9,   -999.0,1,-999.000,9,   -999.0,9,   -999.0,9,  -999.00,9,16047.1,-999.0000,-999.000,-999.000,  2.4478,-999.000