BOTTLE,20010911WHPSIOdm
EXPOCODE,SECT_ID,STNNBR,CASTNO,SAMPNO,BTLNBR,BTLNBR_FLAG_W,DATE,TIME,LATITUDE,LONGITUDE,DEPTH,CTDPRS,CTDTMP,CTDSAL,CTDSAL_FLAG_W,SALNTY,SALNTY_FLAG_W,CTDOXY,CTDOXY_FLAG_W,OXYGEN,OXYGEN_FLAG_W,SILCAT,SILCAT_FLAG_W,NITRAT,NITRAT_FLAG_W,NITRIT,NITRIT_FLAG_W,PHSPHT,PHSPHT_FLAG_W,CFC-11,CFC-11_FLAG_W,CFC-12,CFC-12_FLAG_W,TRITUM,TRITUM_FLAG_W,HELIUM,HELIUM_FLAG_W,DELHE3,DELHE3_FLAG_W,DELC14,DELC14_FLAG_W,NEON,NEON_FLAG_W,TCARBN,TCARBN_FLAG_W,ALKALI,ALKALI_FLAG_W,PH,PH_FLAG_W,CTDRAW,HELIER,DELHER,NEONER,THETA,TRITER
,,,,,,,,,,,,DBAR,ITS-90,PSS-78,,PSS-78,,UMOL/KG,,UMOL/KG,,UMOL/KG,,UMOL/KG,,UMOL/KG,,UMOL/KG,,PMOL/KG,,PMOL/KG,,TU,,UMOL/KG,,PERCNT,,/MILLE,,NMOL/KG,,UMOL/KG,,UMOL/KG,,,,,NMOL/KG,PERCNT,NMOL/KG,ITS-90,TU
   318MWESTW_4,  P21E,    78,  1,     36, SI9336,2,19940420,1818,-16.7500,-104.0000, 3867,      8.7,  24.8056,  36.4518,2,  36.4451,2,    218.5,2,    218.5,2,     0.35,2,    -0.02,2,     0.02,2,     0.33,2,    1.980,2,    1.051,2, -999.000,1,-999.0000,1,  -999.00,9,   -999.0,1,-999.000,9,   -999.0,9,   -999.0,9,  -999.00,9,  130.5,-999.0000,-999.000,-999.000, 24.8037,-999.000
   318MWESTW_4,  P21E,    78,  1,     35, SI9335,2,19940420,1818,-16.7500,-104.0000, 3867,     24.5,  24.5607,  36.4360,2,  36.4273,2,    223.3,2,    217.6,2,     0.37,2,     0.00,2,     0.01,2,     0.33,2,    1.954,2,    1.039,2, -999.000,1,-999.0000,1,  -999.00,9,   -999.0,1,-999.000,9,   -999.0,9,   -999.0,9,  -999.00,9,  288.5,-999.0000,-999.000,-999.000, 24.5554,-999.000
   318MWESTW_4,  P21E,    78,  1,     34, SI9334,2,19940420,1818,-16.7500,-104.0000, 3867,     48.4,  24.4638,  36.4151,2,  36.4180,2,    214.0,2,    221.0,2,     0.38,2,    -0.01,2,     0.01,2,     0.33,2,    2.007,2,    1.099,2, -999.000,1,-999.0000,1,  -999.00,9,   -999.0,1,-999.000,9,   -999.0,9,   -999.0,9,  -999.00,9,  528.1,-999.0000,-999.000,-999.000, 24.4534,-999.000
   318MWESTW_4,  P21E,    78,  1,     33, SI9333,2,19940420,1818,-16.7500,-104.0000, 3867,     98.5,  22.7980,  36.3038,2,  36.2998,2,    224.4,2,    222.7,2,     0.40,2,     0.01,2,     0.00,2,     0.33,2,    2.160,2,    1.165,2, -999.000,1,-999.0000,1,  -999.00,9,   -999.0,1,-999.000,9,   -999.0,9,   -999.0,9,  -999.00,9, 1028.8,-999.0000,-999.000,-999.000, 22.7779,-999.000
   318MWESTW_4,  P21E,    78,  1,     32, SI9332,2,19940420,1818,-16.7500,-104.0000, 3867,    150.4,  21.7538,  36.0865,2,  36.1296,2,    216.3,2,    220.4,2,     0.41,2,     0.06,2,     0.01,2,     0.35,2,    2.195,2,    1.138,2, -999.000,1,-999.0000,1,  -999.00,9,   -999.0,1,-999.000,9,   -999.0,9,   -999.0,9,  -999.00,9, 1547.2,-999.0000,-999.000,-999.000, 21.7241,-999.000
   318MWESTW_4,  P21E,    78,  1,     31, SI9331,2,19940420,1818,-16.7500,-104.0000, 3867,    200.8,  19.5465,  35.4628,4,  35.6565,2,    208.6,2,    203.8,2,     0.61,2,     1.71,2,     0.09,2,     0.46,2,    2.334,2,    1.195,2, -999.000,1,-999.0000,1,  -999.00,9,   -999.0,1,-999.000,9,   -999.0,9,   -999.0,9,  -999.00,9, 2051.1,-999.0000,-999.000,-999.000, 19.5099,-999.000
   318MWESTW_4,  P21E,    78,  1,     30, SI9330,2,19940420,1818,-16.7500,-104.0000, 3867,    249.7,  15.7310,  34.9699,2,  34.9898,2,    191.2,2,    185.9,2,     1.83,2,     6.79,2,     0.00,2,     0.79,2,    2.190,2,    1.104,2, -999.000,1,-999.0000,1,  -999.00,9,   -999.0,1,-999.000,9,   -999.0,9,   -999.0,9,  -999.00,9, 2539.2,-999.0000,-999.000,-999.000, 15.6919,-999.000
   318MWESTW_4,  P21E,    78,  1,     29, SI9329,2,19940420,1818,-16.7500,-104.0000, 3867,    297.6,  13.0180,  34.6096,3,  34.6694,2,    138.4,2,    145.9,2,     5.84,2,    13.85,2,    -0.01,2,     1.36,2,    1.798,2,    0.851,2, -999.000,1,-999.0000,1,  -999.00,9,   -999.0,1,-999.000,9,   -999.0,9,   -999.0,9,  -999.00,9, 3018.4,-999.0000,-999.000,-999.000, 12.9770,-999.000
   318MWESTW_4,  P21E,    78,  1,     28, SI9328,2,19940420,1818,-16.7500,-104.0000, 3867,    399.0,   8.7355,  34.5377,2,  34.5380,2,     38.6,2,     49.0,2,    23.35,2,    33.06,2,     0.00,2,     2.61,2,    0.131,3,    0.049,3, -999.000,1,-999.0000,1,  -999.00,9,   -999.0,1,-999.000,9,   -999.0,9,   -999.0,9,  -999.00,9, 4030.7,-999.0000,-999.000,-999.000,  8.6927,-999.000
   318MWESTW_4,  P21E,    78,  1,     27, SI9327,2,19940420,1818,-16.7500,-104.0000, 3867,    497.2,   7.2936,  34.4845,2,  34.5015,2,     86.3,2,     71.7,2,    28.40,2,    36.47,2,    -0.02,2,     2.61,2,    0.030,2,    0.014,2, -999.000,1,-999.0000,1,  -999.00,9,   -999.0,1,-999.000,9,   -999.0,9,   -999.0,9,  -999.00,9, 5012.0,-999.0000,-999.000,-999.000,  7.2453,-999.000
   318MWESTW_4,  P21E,    78,  1,     26, SI9326,2,19940420,1818,-16.7500,-104.0000, 3867,    597.6,   6.1744,  34.4522,2,  34.4459,2,     96.2,2,     92.4,2,    32.74,2,    37.42,2,    -0.01,2,     2.65,2,    0.018,2,    0.010,2, -999.000,1,-999.0000,1,  -999.00,9,   -999.0,1,-999.000,9,   -999.0,9,   -999.0,9,  -999.00,9, 6014.5,-999.0000,-999.000,-999.000,  6.1210,-999.000
   318MWESTW_4,  P21E,    78,  1,     25, SI9325,2,19940420,1818,-16.7500,-104.0000, 3867,    699.4,   5.6441,  34.4734,2,  34.4842,2,     79.7,2,     67.7,2,    46.62,2,    41.07,2,    -0.01,2,     2.89,2,   -0.001,2,   -0.003,2, -999.000,1,-999.0000,1,  -999.00,9,   -999.0,1,-999.000,9,   -999.0,9,   -999.0,9,  -999.00,9, 7031.4,-999.0000,-999.000,-999.000,  5.5839,-999.000
   318MWESTW_4,  P21E,    78,  1,     24, SI9324,2,19940420,1818,-16.7500,-104.0000, 3867,    795.0,   5.0684,  34.4866,2,  34.4883,2,     74.2,2,     77.1,2,    55.99,2,    40.81,2,    -0.02,2,     2.89,2,   -0.001,2,   -0.001,2, -999.000,1,-999.0000,1,  -999.00,9,   -999.0,1,-999.000,9,   -999.0,9,   -999.0,9,  -999.00,9, 7986.9,-999.0000,-999.000,-999.000,  5.0030,-999.000
   318MWESTW_4,  P21E,    78,  1,     23, SI9323,2,19940420,1818,-16.7500,-104.0000, 3867,    897.6,   4.6121,  34.5071,2,  34.5107,2,     74.1,2,     69.5,2,    68.49,2,    41.89,2,    -0.01,2,     2.99,2,   -0.002,2,    0.001,2, -999.000,1,-999.0000,1,  -999.00,9,   -999.0,1,-999.000,9,   -999.0,9,   -999.0,9,  -999.00,9, 9011.1,-999.0000,-999.000,-999.000,  4.5406,-999.000
   318MWESTW_4,  P21E,    78,  1,     22, SI9322,2,19940420,1818,-16.7500,-104.0000, 3867,    998.3,   4.2282,  34.5208,2,  34.5258,2,     74.8,2,     74.8,2,    76.99,2,    41.69,2,    -0.01,2,     2.98,2,   -0.001,2,    0.000,2, -999.000,1,-999.0000,1,  -999.00,9,   -999.0,1,-999.000,9,   -999.0,9,   -999.0,9,  -999.00,9,10016.9,-999.0000,-999.000,-999.000,  4.1509,-999.000
   318MWESTW_4,  P21E,    78,  1,     21, SI9321,2,19940420,1818,-16.7500,-104.0000, 3867,   1096.0,   3.9300,  34.5355,2,  34.5388,2,     78.3,2,     78.5,2,    84.45,2,    41.43,2,    -0.01,2,     2.96,2, -999.000,9, -999.000,9, -999.000,1,-999.0000,1,  -999.00,9,   -999.0,1,-999.000,9,   -999.0,9,   -999.0,9,  -999.00,9,10992.7,-999.0000,-999.000,-999.000,  3.8468,-999.000
   318MWESTW_4,  P21E,    78,  1,     20, SI9320,2,19940420,1818,-16.7500,-104.0000, 3867,   1188.4,   3.6373,  34.5492,2,  34.5533,2,     82.9,2,     84.6,2,    91.05,2,    40.91,2,    -0.01,2,     2.94,2, -999.000,9, -999.000,9, -999.000,1,-999.0000,1,  -999.00,9,   -999.0,1,-999.000,9,   -999.0,9,   -999.0,9,  -999.00,9,11915.7,-999.0000,-999.000,-999.000,  3.5489,-999.000
   318MWESTW_4,  P21E,    78,  1,     19, SI9319,2,19940420,1818,-16.7500,-104.0000, 3867,   1296.1,   3.3105,  34.5698,2,  34.5710,2,     85.9,2,     88.0,2,   100.07,2,    40.64,2,    -0.01,2,     2.93,2, -999.000,9, -999.000,9, -999.000,1,-999.0000,1,  -999.00,9,   -999.0,1,-999.000,9,   -999.0,9,   -999.0,9,  -999.00,9,12992.3,-999.0000,-999.000,-999.000,  3.2163,-999.000
   318MWESTW_4,  P21E,    78,  1,     18, SI9318,2,19940420,1818,-16.7500,-104.0000, 3867,   1396.7,   3.0724,  34.5813,2,  34.5828,2,     94.0,2,     95.5,2,   104.92,2,    40.14,2,    -0.01,2,     2.88,2, -999.000,9, -999.000,9, -999.000,1,-999.0000,1,  -999.00,9,   -999.0,1,-999.000,9,   -999.0,9,   -999.0,9,  -999.00,9,13996.4,-999.0000,-999.000,-999.000,  2.9723,-999.000
   318MWESTW_4,  P21E,    78,  1,     17, SI9317,2,19940420,1818,-16.7500,-104.0000, 3867,   1497.9,   2.9034,  34.5951,2,  34.5956,2,     97.5,2,     98.3,2,   109.61,2,    39.94,2,    -0.01,2,     2.86,2, -999.000,9, -999.000,9, -999.000,1,-999.0000,1,  -999.00,9,   -999.0,1,-999.000,9,   -999.0,9,   -999.0,9,  -999.00,9,15007.9,-999.0000,-999.000,-999.000,  2.7968,-999.000
   318MWESTW_4,  P21E,    78,  1,     16, SI9316,2,19940420,1818,-16.7500,-104.0000, 3867,   1606.7,   2.6870,  34.6086,2,  34.6089,2,    102.7,2,    104.4,2,   115.18,2,    39.43,2,    -0.02,2,     2.82,2, -999.000,9, -999.000,9, -999.000,1,-999.0000,1,  -999.00,9,   -999.0,1,-999.000,9,   -999.0,9,   -999.0,9,  -999.00,9,16094.7,-999.0000,-999.000,-999.000,  2.5739,-999.000
   318MWESTW_4,  P21E,    78,  1,     15, SI9315,2,19940420,1818,-16.7500,-104.0000, 3867,   1750.1,   2.4614,  34.6225,2,  34.6227,2,    112.6,2,    113.6,2,   119.16,2,    38.53,2,    -0.02,2,     2.76,2, -999.000,9, -999.000,9, -999.000,1,-999.0000,1,  -999.00,9,   -999.0,1,-999.000,9,   -999.0,9,   -999.0,9,  -999.00,9,17527.4,-999.0000,-999.000,-999.000,  2.3393,-999.000
   318MWESTW_4,  P21E,    78,  1,     14, SI9314,2,19940420,1818,-16.7500,-104.0000, 3867,   1901.0,   2.2694,  34.6372,2,  34.6346,2,    124.7,2,    124.0,2,   121.25,2,    37.82,2,    -0.02,2,     2.69,2, -999.000,9, -999.000,9, -999.000,1,-999.0000,1,  -999.00,9,   -999.0,1,-999.000,9,   -999.0,9,   -999.0,9,  -999.00,9,19034.6,-999.0000,-999.000,-999.000,  2.1373,-999.000
   318MWESTW_4,  P21E,    78,  1,     13, SI9313,2,19940420,1818,-16.7500,-104.0000, 3867,   2050.9,   2.0728,  34.6490,2,  34.6474,2,    138.3,2,    138.1,2,   120.92,2,    36.66,2,    -0.02,2,     2.59,2, -999.000,9, -999.000,9, -999.000,1,-999.0000,1,  -999.00,9,   -999.0,1,-999.000,9,   -999.0,9,   -999.0,9,  -999.00,9,20532.3,-999.0000,-999.000,-999.000,  1.9309,-999.000
   318MWESTW_4,  P21E,    78,  1,     12, SI9312,2,19940420,1818,-16.7500,-104.0000, 3867,   2198.3,   1.9592,  34.6574,2,  34.6576,2,    145.0,2,    144.8,2,   122.14,2,    36.08,2,    -0.02,2,     2.55,2, -999.000,9, -999.000,9, -999.000,1,-999.0000,1,  -999.00,9,   -999.0,1,-999.000,9,   -999.0,9,   -999.0,9,  -999.00,9,22005.1,-999.0000,-999.000,-999.000,  1.8064,-999.000
   318MWESTW_4,  P21E,    78,  1,     11, SI9311,2,19940420,1818,-16.7500,-104.0000, 3867,   2350.1,   1.8904,  34.6651,2,  34.6647,2,    147.5,2,    148.5,2,   123.88,2,    35.88,2,    -0.02,2,     2.52,2, -999.000,9, -999.000,9, -999.000,1,-999.0000,1,  -999.00,9,   -999.0,1,-999.000,9,   -999.0,9,   -999.0,9,  -999.00,9,23522.2,-999.0000,-999.000,-999.000,  1.7255,-999.000
   318MWESTW_4,  P21E,    78,  1,     10, SI9310,2,19940420,1818,-16.7500,-104.0000, 3867,   2498.5,   1.8376,  34.6711,2,  34.6716,2,    153.9,2,    150.1,2,   125.63,2,    35.69,2,    -0.02,2,     2.50,2, -999.000,9, -999.000,9, -999.000,1,-999.0000,1,  -999.00,9,   -999.0,1,-999.000,9,   -999.0,9,   -999.0,9,  -999.00,9,25004.6,-999.0000,-999.000,-999.000,  1.6604,-999.000
   318MWESTW_4,  P21E,    78,  1,      9, SI9309,2,19940420,1818,-16.7500,-104.0000, 3867,   2650.1,   1.8171,  34.6750,2,  34.6736,2,    148.0,2,    148.1,2,   129.63,2,    35.81,2,    -0.02,2,     2.53,2, -999.000,9, -999.000,9, -999.000,1,-999.0000,1,  -999.00,9,   -999.0,1,-999.000,9,   -999.0,9,   -999.0,9,  -999.00,9,26519.4,-999.0000,-999.000,-999.000,  1.6265,-999.000
   318MWESTW_4,  P21E,    78,  1,      8, SI9308,2,19940420,1818,-16.7500,-104.0000, 3867,   2799.1,   1.8106,  34.6768,2,  34.6767,2,    144.9,2,    146.7,2,   131.71,2,    35.85,2,     0.00,2,     2.53,2, -999.000,9, -999.000,9, -999.000,1,-999.0000,1,  -999.00,9,   -999.0,1,-999.000,9,   -999.0,9,   -999.0,9,  -999.00,9,28007.9,-999.0000,-999.000,-999.000,  1.6062,-999.000
   318MWESTW_4,  P21E,    78,  1,      7, SI9307,2,19940420,1818,-16.7500,-104.0000, 3867,   2950.3,   1.8095,  34.6786,2,  34.6769,2,    145.1,2,    145.9,2,   133.28,2,    36.11,2,     0.00,2,     2.54,2, -999.000,9, -999.000,9, -999.000,1,-999.0000,1,  -999.00,9,   -999.0,1,-999.000,9,   -999.0,9,   -999.0,9,  -999.00,9,29519.0,-999.0000,-999.000,-999.000,  1.5907,-999.000
   318MWESTW_4,  P21E,    78,  1,      6, SI9306,2,19940420,1818,-16.7500,-104.0000, 3867,   3100.0,   1.8143,  34.6792,2,  34.6773,2,    144.7,2,    144.7,2,   134.33,2,    36.23,2,     0.00,2,     2.54,2, -999.000,9, -999.000,9, -999.000,1,-999.0000,1,  -999.00,9,   -999.0,1,-999.000,9,   -999.0,9,   -999.0,9,  -999.00,9,31015.2,-999.0000,-999.000,-999.000,  1.5808,-999.000
   318MWESTW_4,  P21E,    78,  1,      5, SI9305,2,19940420,1818,-16.7500,-104.0000, 3867,   3245.1,   1.8192,  34.6797,2,  34.6793,2,    144.0,2,    144.1,2,   135.55,2,    36.29,2,     0.00,2,     2.54,2, -999.000,9, -999.000,9, -999.000,1,-999.0000,1,  -999.00,9,   -999.0,1,-999.000,9,   -999.0,9,   -999.0,9,  -999.00,9,32465.3,-999.0000,-999.000,-999.000,  1.5711,-999.000
   318MWESTW_4,  P21E,    78,  1,      4, SI9304,2,19940420,1818,-16.7500,-104.0000, 3867,   3498.3,   1.8307,  34.6813,2,  34.6794,2,    144.3,2,    144.7,2,   135.56,2,    36.35,2,     0.00,2,     2.55,2, -999.000,9, -999.000,9, -999.000,1,-999.0000,1,  -999.00,9,   -999.0,1,-999.000,9,   -999.0,9,   -999.0,9,  -999.00,9,34995.5,-999.0000,-999.000,-999.000,  1.5564,-999.000
   318MWESTW_4,  P21E,    78,  1,      2, SI9302,2,19940420,1818,-16.7500,-104.0000, 3867,   3860.6,   1.8427,  34.6851,2,  34.6836,2,    149.9,2,    148.5,2,   132.29,2,    36.01,2,     0.01,2,     2.52,2, -999.000,9, -999.000,9, -999.000,1,-999.0000,1,  -999.00,9,   -999.0,1,-999.000,9,   -999.0,9,   -999.0,9,  -999.00,9,38617.2,-999.0000,-999.000,-999.000,  1.5295,-999.000
   318MWESTW_4,  P21E,    78,  1,      3, SI9303,2,19940420,1818,-16.7500,-104.0000, 3867,   3861.0,   1.8429,  34.6852,2,  34.6846,2,    149.5,2,    148.0,2,   132.28,2,    36.03,2,     0.00,2,     2.52,2, -999.000,9, -999.000,9, -999.000,1,-999.0000,1,  -999.00,9,   -999.0,1,-999.000,9,   -999.0,9,   -999.0,9,  -999.00,9,38620.4,-999.0000,-999.000,-999.000,  1.5296,-999.000
   318MWESTW_4,  P21E,    78,  1,      1, SI9301,2,19940420,1818,-16.7500,-104.0000, 3867,   3913.3,   1.8468,  34.6856,2,  34.6840,2,    149.4,2,    149.3,2,   131.89,2,    35.86,2,     0.01,2,     2.52,2, -999.000,9, -999.000,9, -999.000,1,-999.0000,1,  -999.00,9,   -999.0,1,-999.000,9,   -999.0,9,   -999.0,9,  -999.00,9,39143.5,-999.0000,-999.000,-999.000,  1.5277,-999.000