BOTTLE,20010911WHPSIOdm
EXPOCODE,SECT_ID,STNNBR,CASTNO,SAMPNO,BTLNBR,BTLNBR_FLAG_W,DATE,TIME,LATITUDE,LONGITUDE,DEPTH,CTDPRS,CTDTMP,CTDSAL,CTDSAL_FLAG_W,SALNTY,SALNTY_FLAG_W,CTDOXY,CTDOXY_FLAG_W,OXYGEN,OXYGEN_FLAG_W,SILCAT,SILCAT_FLAG_W,NITRAT,NITRAT_FLAG_W,NITRIT,NITRIT_FLAG_W,PHSPHT,PHSPHT_FLAG_W,CFC-11,CFC-11_FLAG_W,CFC-12,CFC-12_FLAG_W,TRITUM,TRITUM_FLAG_W,HELIUM,HELIUM_FLAG_W,DELHE3,DELHE3_FLAG_W,DELC14,DELC14_FLAG_W,NEON,NEON_FLAG_W,TCARBN,TCARBN_FLAG_W,ALKALI,ALKALI_FLAG_W,PH,PH_FLAG_W,CTDRAW,HELIER,DELHER,NEONER,THETA,TRITER
,,,,,,,,,,,,DBAR,ITS-90,PSS-78,,PSS-78,,UMOL/KG,,UMOL/KG,,UMOL/KG,,UMOL/KG,,UMOL/KG,,UMOL/KG,,PMOL/KG,,PMOL/KG,,TU,,UMOL/KG,,PERCNT,,/MILLE,,NMOL/KG,,UMOL/KG,,UMOL/KG,,,,,NMOL/KG,PERCNT,NMOL/KG,ITS-90,TU
   318MWESTW_5,  P21W,   289,  1,     36, SI9442,2,19940621,1412,-25.1000, 154.5167, 4165,      9.0,  23.8713,  35.1945,2,  35.1989,2,    217.9,2,    207.9,2,     1.07,2,     0.00,2,     0.00,2,     0.11,2,    1.857,2,    1.027,2, -999.000,1,-999.0000,1,  -999.00,9,   -999.0,1,-999.000,9,   -999.0,9,   -999.0,9,  -999.00,9,  147.8,-999.0000,-999.000,-999.000, 23.8694,-999.000
   318MWESTW_5,  P21W,   289,  1,     35, SI9435,2,19940621,1412,-25.1000, 154.5167, 4165,     21.7,  23.8341,  35.2872,2,  35.2895,2,    216.6,2,    209.3,2,     1.07,2,     0.00,2,     0.00,2,     0.12,2, -999.000,9, -999.000,9, -999.000,1,-999.0000,1,  -999.00,9,   -999.0,1,-999.000,9,   -999.0,9,   -999.0,9,  -999.00,9,  274.7,-999.0000,-999.000,-999.000, 23.8296,-999.000
   318MWESTW_5,  P21W,   289,  1,     34, SI9441,2,19940621,1412,-25.1000, 154.5167, 4165,     46.7,  23.5919,  35.4988,2,  35.4995,2,    212.5,2,    211.7,2,     1.07,2,     0.00,2,     0.00,2,     0.12,2,    1.908,2,    1.042,2, -999.000,1,-999.0000,1,  -999.00,9,   -999.0,1,-999.000,9,   -999.0,9,   -999.0,9,  -999.00,9,  523.7,-999.0000,-999.000,-999.000, 23.5822,-999.000
   318MWESTW_5,  P21W,   289,  1,     33, SI9433,2,19940621,1412,-25.1000, 154.5167, 4165,     92.5,  23.6082,  35.5134,2,  35.5129,2,    214.2,2,    209.4,2,     1.07,2,    -0.01,2,     0.01,2,     0.13,2,    1.898,2,    1.046,2, -999.000,1,-999.0000,1,  -999.00,9,   -999.0,1,-999.000,9,   -999.0,9,   -999.0,9,  -999.00,9,  979.2,-999.0000,-999.000,-999.000, 23.5889,-999.000
   318MWESTW_5,  P21W,   289,  1,     32, SI9432,2,19940621,1412,-25.1000, 154.5167, 4165,    143.5,  23.5108,  35.6980,2,  35.6986,2,    199.6,2,    204.0,2,     1.07,2,     0.36,2,     0.15,2,     0.18,2,    1.931,2,    1.049,2, -999.000,1,-999.0000,1,  -999.00,9,   -999.0,1,-999.000,9,   -999.0,9,   -999.0,9,  -999.00,9, 1487.3,-999.0000,-999.000,-999.000, 23.4809,-999.000
   318MWESTW_5,  P21W,   289,  1,     31, SI9431,2,19940621,1412,-25.1000, 154.5167, 4165,    194.6,  21.6014,  35.7407,2,  35.7381,2,    186.0,2,    186.2,2,     1.35,2,     2.63,2,     0.02,2,     0.33,2,    1.985,2,    1.073,2, -999.000,1,-999.0000,1,  -999.00,9,   -999.0,1,-999.000,9,   -999.0,9,   -999.0,9,  -999.00,9, 1996.3,-999.0000,-999.000,-999.000, 21.5632,-999.000
   318MWESTW_5,  P21W,   289,  1,     30, SI9440,2,19940621,1412,-25.1000, 154.5167, 4165,    244.6,  20.1955,  35.6866,2,  35.6857,2,    175.2,2,    176.8,2,     1.89,2,     4.82,2,     0.00,2,     0.46,2,    1.936,2,    1.038,2, -999.000,1,-999.0000,1,  -999.00,9,   -999.0,1,-999.000,9,   -999.0,9,   -999.0,9,  -999.00,9, 2493.3,-999.0000,-999.000,-999.000, 20.1497,-999.000
   318MWESTW_5,  P21W,   289,  1,     29, SI9429,2,19940621,1412,-25.1000, 154.5167, 4165,    296.3,  18.6675,  35.5845,2,  35.5813,2,    170.7,2,    174.5,2,     2.31,2,     6.33,2,     0.00,2,     0.56,2,    1.894,2,    0.995,2, -999.000,1,-999.0000,1,  -999.00,9,   -999.0,1,-999.000,9,   -999.0,9,   -999.0,9,  -999.00,9, 3008.1,-999.0000,-999.000,-999.000, 18.6150,-999.000
   318MWESTW_5,  P21W,   289,  1,     28, SI9428,2,19940621,1412,-25.1000, 154.5167, 4165,    346.5,  17.1683,  35.4874,2,  35.4859,2,    175.7,2,    178.9,2,     2.73,2,     7.44,2,     0.00,2,     0.63,2,    1.881,2,    0.988,2, -999.000,1,-999.0000,1,  -999.00,9,   -999.0,1,-999.000,9,   -999.0,9,   -999.0,9,  -999.00,9, 3507.8,-999.0000,-999.000,-999.000, 17.1103,-999.000
   318MWESTW_5,  P21W,   289,  1,     27, SI9424,2,19940621,1412,-25.1000, 154.5167, 4165,    394.8,  15.5381,  35.3513,2,  35.3514,2,    178.5,2,    180.3,2,     3.56,2,     9.44,2,     0.01,2,     0.76,2,    1.795,2,    0.937,2, -999.000,1,-999.0000,1,  -999.00,9,   -999.0,1,-999.000,9,   -999.0,9,   -999.0,9,  -999.00,9, 3989.3,-999.0000,-999.000,-999.000, 15.4763,-999.000
   318MWESTW_5,  P21W,   289,  1,     26, SI9414,2,19940621,1412,-25.1000, 154.5167, 4165,    447.2,  14.3296,  35.2133,2,  35.2105,2,    168.4,2,    174.4,2,     4.92,2,    12.14,2,     0.00,2,     0.94,2, -999.000,9, -999.000,9, -999.000,1,-999.0000,1,  -999.00,9,   -999.0,1,-999.000,9,   -999.0,9,   -999.0,9,  -999.00,9, 4510.1,-999.0000,-999.000,-999.000, 14.2633,-999.000
   318MWESTW_5,  P21W,   289,  1,     25, SI9425,2,19940621,1412,-25.1000, 154.5167, 4165,    498.1,  12.7460,  35.0787,2,  35.0744,2,    179.8,2,    181.5,2,     6.03,2,    14.12,2,     0.00,2,     1.07,2,    1.501,2,    0.774,2, -999.000,1,-999.0000,1,  -999.00,9,   -999.0,1,-999.000,9,   -999.0,9,   -999.0,9,  -999.00,9, 5017.2,-999.0000,-999.000,-999.000, 12.6776,-999.000
   318MWESTW_5,  P21W,   289,  1,     24, SI9434,2,19940621,1412,-25.1000, 154.5167, 4165,    550.2,  11.0397,  34.9011,2,  34.8973,2,    184.0,2,    186.2,2,     7.68,2,    16.94,2,     0.00,2,     1.25,2,    1.313,6,    0.671,6, -999.000,1,-999.0000,1,  -999.00,9,   -999.0,1,-999.000,9,   -999.0,9,   -999.0,9,  -999.00,9, 5535.5,-999.0000,-999.000,-999.000, 10.9707,-999.000
   318MWESTW_5,  P21W,   289,  1,     23, SI9423,2,19940621,1412,-25.1000, 154.5167, 4165,    599.3,   9.7658,  34.7590,2,  34.7569,2,    188.7,2,    189.5,2,     9.33,2,    19.42,2,     0.00,2,     1.40,2,    1.149,2,    0.583,2, -999.000,1,-999.0000,1,  -999.00,9,   -999.0,1,-999.000,9,   -999.0,9,   -999.0,9,  -999.00,9, 6024.0,-999.0000,-999.000,-999.000,  9.6961,-999.000
   318MWESTW_5,  P21W,   289,  1,     22, SI9418,2,19940621,1412,-25.1000, 154.5167, 4165,    648.3,   8.9358,  34.6670,2,  34.6667,2,    192.3,2,    191.7,2,    11.12,2,    21.18,2,     0.00,2,     1.50,2,    0.916,2,    0.462,2, -999.000,1,-999.0000,1,  -999.00,9,   -999.0,1,-999.000,9,   -999.0,9,   -999.0,9,  -999.00,9, 6510.9,-999.0000,-999.000,-999.000,  8.8642,-999.000
   318MWESTW_5,  P21W,   289,  1,     21, SI9421,2,19940621,1412,-25.1000, 154.5167, 4165,    703.0,   7.9876,  34.5780,2,  34.5791,2,    193.8,2,    192.6,2,    14.30,2,    23.27,2,     0.00,2,     1.63,2,    0.635,2,    0.325,2, -999.000,1,-999.0000,1,  -999.00,9,   -999.0,1,-999.000,9,   -999.0,9,   -999.0,9,  -999.00,9, 7054.8,-999.0000,-999.000,-999.000,  7.9147,-999.000
   318MWESTW_5,  P21W,   289,  1,     20, SI9420,2,19940621,1412,-25.1000, 154.5167, 4165,    797.1,   6.7061,  34.4861,2,  34.4846,2,    193.4,2,    191.5,2,    21.59,2,    26.19,2,     0.00,2,     1.84,2,    0.317,2,    0.170,2, -999.000,1,-999.0000,1,  -999.00,9,   -999.0,1,-999.000,9,   -999.0,9,   -999.0,9,  -999.00,9, 7990.6,-999.0000,-999.000,-999.000,  6.6306,-999.000
   318MWESTW_5,  P21W,   289,  1,     19, SI9419,2,19940621,1412,-25.1000, 154.5167, 4165,    902.3,   5.8378,  34.4589,2,  34.4569,2,    190.4,2,    186.3,2,    30.82,2,    28.37,2,     0.00,2,     1.98,2,    0.170,2,    0.091,2, -999.000,1,-999.0000,1,  -999.00,9,   -999.0,1,-999.000,9,   -999.0,9,   -999.0,9,  -999.00,9, 9037.4,-999.0000,-999.000,-999.000,  5.7576,-999.000
   318MWESTW_5,  P21W,   289,  1,     18, SI9439,2,19940621,1412,-25.1000, 154.5167, 4165,   1005.2,   5.1935,  34.4597,2,  34.4603,2,    180.3,2,    179.6,2,    41.16,2,    29.95,2,     0.00,2,     2.11,2,    0.092,2,    0.051,2, -999.000,1,-999.0000,1,  -999.00,9,   -999.0,1,-999.000,9,   -999.0,9,   -999.0,9,  -999.00,9,10060.6,-999.0000,-999.000,-999.000,  5.1083,-999.000
   318MWESTW_5,  P21W,   289,  1,     17, SI9417,2,19940621,1412,-25.1000, 154.5167, 4165,   1205.4,   4.1167,  34.5026,2,  34.5029,2,    165.5,2,    164.4,2,    64.02,2,    32.51,2,     0.00,2,     2.30,2,    0.023,2,    0.011,2, -999.000,1,-999.0000,1,  -999.00,9,   -999.0,1,-999.000,9,   -999.0,9,   -999.0,9,  -999.00,9,12050.8,-999.0000,-999.000,-999.000,  4.0226,-999.000
   318MWESTW_5,  P21W,   289,  1,     16, SI9416,2,19940621,1412,-25.1000, 154.5167, 4165,   1405.9,   3.4058,  34.5542,2,  34.5543,2,    156.0,2,    154.7,2,    81.92,2,    33.97,2,     0.00,2,     2.39,2,    0.006,2,    0.005,2, -999.000,1,-999.0000,1,  -999.00,9,   -999.0,1,-999.000,9,   -999.0,9,   -999.0,9,  -999.00,9,14044.6,-999.0000,-999.000,-999.000,  3.3014,-999.000
   318MWESTW_5,  P21W,   289,  1,     15, SI9415,2,19940621,1412,-25.1000, 154.5167, 4165,   1598.8,   2.8245,  34.6034,2,  34.6046,2,    151.6,2,    149.5,2,    96.52,2,    34.83,2,     0.00,2,     2.45,2,    0.001,2,    0.000,2, -999.000,1,-999.0000,1,  -999.00,9,   -999.0,1,-999.000,9,   -999.0,9,   -999.0,9,  -999.00,9,15961.7,-999.0000,-999.000,-999.000,  2.7104,-999.000
   318MWESTW_5,  P21W,   289,  1,     14, SI9436,2,19940621,1412,-25.1000, 154.5167, 4165,   1805.9,   2.4705,  34.6434,2,  34.6439,2,    157.8,2,    157.2,2,    97.89,2,    34.28,2,     0.00,2,     2.40,2, -999.000,9, -999.000,9, -999.000,1,-999.0000,1,  -999.00,9,   -999.0,1,-999.000,9,   -999.0,9,   -999.0,9,  -999.00,9,18021.1,-999.0000,-999.000,-999.000,  2.3435,-999.000
   318MWESTW_5,  P21W,   289,  1,     13, SI9413,2,19940621,1412,-25.1000, 154.5167, 4165,   2007.3,   2.2408,  34.6773,2,  34.6783,2,    167.8,2,    167.7,2,    95.41,2,    33.34,2,     0.00,2,     2.33,2, -999.000,9, -999.000,9, -999.000,1,-999.0000,1,  -999.00,9,   -999.0,1,-999.000,9,   -999.0,9,   -999.0,9,  -999.00,9,20023.1,-999.0000,-999.000,-999.000,  2.0999,-999.000
   318MWESTW_5,  P21W,   289,  1,     12, SI9438,2,19940621,1412,-25.1000, 154.5167, 4165,   2206.1,   2.0581,  34.7023,2,  34.7034,2,    175.2,2,    175.6,2,    95.27,2,    32.56,2,     0.01,2,     2.28,2, -999.000,9, -999.000,9, -999.000,1,-999.0000,1,  -999.00,9,   -999.0,1,-999.000,9,   -999.0,9,   -999.0,9,  -999.00,9,21999.4,-999.0000,-999.000,-999.000,  1.9028,-999.000
   318MWESTW_5,  P21W,   289,  1,     11, SI9411,2,19940621,1412,-25.1000, 154.5167, 4165,   2413.9,   1.9274,  34.7147,2,  34.7154,2,    181.2,2,    181.0,2,    97.19,2,    32.10,2,     0.00,2,     2.26,2, -999.000,9, -999.000,9, -999.000,1,-999.0000,1,  -999.00,9,   -999.0,1,-999.000,9,   -999.0,9,   -999.0,9,  -999.00,9,24065.3,-999.0000,-999.000,-999.000,  1.7560,-999.000
   318MWESTW_5,  P21W,   289,  1,     10, SI9412,2,19940621,1412,-25.1000, 154.5167, 4165,   2613.4,   1.7609,  34.7221,2,  34.7229,2,    184.6,2,    185.1,2,   101.05,2,    31.85,2,     0.00,2,     2.25,2, -999.000,9, -999.000,9, -999.000,1,-999.0000,1,  -999.00,9,   -999.0,1,-999.000,9,   -999.0,9,   -999.0,9,  -999.00,9,26048.7,-999.0000,-999.000,-999.000,  1.5745,-999.000
   318MWESTW_5,  P21W,   289,  1,      9, SI9410,2,19940621,1412,-25.1000, 154.5167, 4165,   2816.5,   1.6024,  34.7246,2,  34.7252,2,    188.4,2,    188.7,2,   104.63,2,    31.80,2,     0.00,2,     2.23,2, -999.000,9, -999.000,9, -999.000,1,-999.0000,1,  -999.00,9,   -999.0,1,-999.000,9,   -999.0,9,   -999.0,9,  -999.00,9,28068.2,-999.0000,-999.000,-999.000,  1.4005,-999.000
   318MWESTW_5,  P21W,   289,  1,      8, SI9422,2,19940621,1412,-25.1000, 154.5167, 4165,   3014.7,   1.4400,  34.7237,2,  34.7239,2,    190.5,2,    191.1,2,   108.63,2,    31.98,2,     0.00,2,     2.23,2,    0.001,2,    0.000,2, -999.000,1,-999.0000,1,  -999.00,9,   -999.0,1,-999.000,9,   -999.0,9,   -999.0,9,  -999.00,9,30038.7,-999.0000,-999.000,-999.000,  1.2229,-999.000
   318MWESTW_5,  P21W,   289,  1,      7, SI9407,2,19940621,1412,-25.1000, 154.5167, 4165,   3220.9,   1.2984,  34.7212,2,  34.7213,2,    193.5,2,    194.0,2,   112.34,2,    32.15,2,     0.01,2,     2.24,2, -999.000,9, -999.000,9, -999.000,1,-999.0000,1,  -999.00,9,   -999.0,1,-999.000,9,   -999.0,9,   -999.0,9,  -999.00,9,32088.2,-999.0000,-999.000,-999.000,  1.0647,-999.000
   318MWESTW_5,  P21W,   289,  1,      6, SI9427,2,19940621,1412,-25.1000, 154.5167, 4165,   3414.7,   1.2241,  34.7195,2,  34.7190,2,    194.8,2,    194.7,2,   114.55,2,    32.27,2,     0.01,2,     2.25,2, -999.000,9, -999.000,9, -999.000,1,-999.0000,1,  -999.00,9,   -999.0,1,-999.000,9,   -999.0,9,   -999.0,9,  -999.00,9,34015.0,-999.0000,-999.000,-999.000,  0.9732,-999.000
   318MWESTW_5,  P21W,   289,  1,      5, SI9405,2,19940621,1412,-25.1000, 154.5167, 4165,   3614.0,   1.1735,  34.7180,2,  34.7174,2,    196.3,2,    195.6,2,   116.20,2,    32.43,2,     0.00,2,     2.26,2, -999.000,9, -999.000,9, -999.000,1,-999.0000,1,  -999.00,9,   -999.0,1,-999.000,9,   -999.0,9,   -999.0,9,  -999.00,9,35997.1,-999.0000,-999.000,-999.000,  0.9039,-999.000
   318MWESTW_5,  P21W,   289,  1,      4, SI9404,2,19940621,1412,-25.1000, 154.5167, 4165,   3812.1,   1.1458,  34.7171,2,  34.7162,2,    197.0,2,    196.1,2,   117.44,2,    32.35,2,     0.00,2,     2.27,2, -999.000,9, -999.000,9, -999.000,1,-999.0000,1,  -999.00,9,   -999.0,1,-999.000,9,   -999.0,9,   -999.0,9,  -999.00,9,37965.8,-999.0000,-999.000,-999.000,  0.8565,-999.000
   318MWESTW_5,  P21W,   289,  1,      3, SI9403,2,19940621,1412,-25.1000, 154.5167, 4165,   4009.7,   1.1369,  34.7155,2,  34.7160,2,    197.5,2,    196.7,2,   118.20,2,    32.35,2,     0.00,2,     2.27,2, -999.000,9, -999.000,9, -999.000,1,-999.0000,1,  -999.00,9,   -999.0,1,-999.000,9,   -999.0,9,   -999.0,9,  -999.00,9,39930.5,-999.0000,-999.000,-999.000,  0.8270,-999.000
   318MWESTW_5,  P21W,   289,  1,      2, SI9437,2,19940621,1412,-25.1000, 154.5167, 4165,   4175.1,   1.1224,  34.7149,2,  34.8776,4,    198.4,2,    188.9,4,    75.86,4,    26.40,4,     0.00,4,     1.85,4, -999.000,9, -999.000,9, -999.000,1,-999.0000,1,  -999.00,9,   -999.0,1,-999.000,9,   -999.0,9,   -999.0,9,  -999.00,9,41574.4,-999.0000,-999.000,-999.000,  0.7951,-999.000
   318MWESTW_5,  P21W,   289,  1,      1, SI9401,2,19940621,1412,-25.1000, 154.5167, 4165,   4219.5,   1.1221,  34.7150,2,  34.7156,2,    197.6,2,    197.5,2,   119.06,2,    32.44,2,     0.00,2,     2.26,2,    0.005,2,    0.003,2, -999.000,1,-999.0000,1,  -999.00,9,   -999.0,1,-999.000,9,   -999.0,9,   -999.0,9,  -999.00,9,42016.2,-999.0000,-999.000,-999.000,  0.7900,-999.000