BOTTLE,20010911WHPSIOdm
EXPOCODE,SECT_ID,STNNBR,CASTNO,SAMPNO,BTLNBR,BTLNBR_FLAG_W,DATE,TIME,LATITUDE,LONGITUDE,DEPTH,CTDPRS,CTDTMP,CTDSAL,CTDSAL_FLAG_W,SALNTY,SALNTY_FLAG_W,CTDOXY,CTDOXY_FLAG_W,OXYGEN,OXYGEN_FLAG_W,SILCAT,SILCAT_FLAG_W,NITRAT,NITRAT_FLAG_W,NITRIT,NITRIT_FLAG_W,PHSPHT,PHSPHT_FLAG_W,CFC-11,CFC-11_FLAG_W,CFC-12,CFC-12_FLAG_W,TRITUM,TRITUM_FLAG_W,HELIUM,HELIUM_FLAG_W,DELHE3,DELHE3_FLAG_W,DELC14,DELC14_FLAG_W,NEON,NEON_FLAG_W,TCARBN,TCARBN_FLAG_W,ALKALI,ALKALI_FLAG_W,PH,PH_FLAG_W,CTDRAW,HELIER,DELHER,NEONER,THETA,TRITER
,,,,,,,,,,,,DBAR,ITS-90,PSS-78,,PSS-78,,UMOL/KG,,UMOL/KG,,UMOL/KG,,UMOL/KG,,UMOL/KG,,UMOL/KG,,PMOL/KG,,PMOL/KG,,TU,,UMOL/KG,,PERCNT,,/MILLE,,NMOL/KG,,UMOL/KG,,UMOL/KG,,,,,NMOL/KG,PERCNT,NMOL/KG,ITS-90,TU
   318MWESTW_4,  P21E,   138,  1,     24, SI9404,2,19940507,2035,-16.7500,-138.6667, 2987,      6.6,  28.5600,  36.2921,2,  36.2928,2,    203.7,2,    205.2,2,     0.96,2,     0.00,2,     0.00,2,     0.21,2,    1.623,2,    0.920,2, -999.000,1,-999.0000,1,  -999.00,9,   -999.0,1,-999.000,9,   -999.0,9,   -999.0,9,  -999.00,9,  114.2,-999.0000,-999.000,-999.000, 28.5584,-999.000
   318MWESTW_4,  P21E,   138,  1,     23, SI9405,2,19940507,2035,-16.7500,-138.6667, 2987,     22.9,  28.4867,  36.2950,2,  36.2956,2,    206.0,2,    203.2,2,     1.01,2,     0.00,2,     0.00,2,     0.21,2,    1.603,2,    0.916,2, -999.000,1,-999.0000,1,  -999.00,9,   -999.0,1,-999.000,9,   -999.0,9,   -999.0,9,  -999.00,9,  277.9,-999.0000,-999.000,-999.000, 28.4812,-999.000
   318MWESTW_4,  P21E,   138,  1,     22, SI9407,2,19940507,2035,-16.7500,-138.6667, 2987,     47.5,  28.4292,  36.3216,2,  36.3208,2,    207.5,2,    205.6,2,     0.91,2,     0.00,2,     0.00,2,     0.22,2,    1.651,3,    0.998,3, -999.000,1,-999.0000,1,  -999.00,9,   -999.0,1,-999.000,9,   -999.0,9,   -999.0,9,  -999.00,9,  522.6,-999.0000,-999.000,-999.000, 28.4178,-999.000
   318MWESTW_4,  P21E,   138,  1,     21, SI9408,3,19940507,2035,-16.7500,-138.6667, 2987,     98.9,  26.3718,  36.5191,2,  36.4572,2,    213.1,2,    212.3,2,     0.80,2,     0.06,2,     0.03,2,     0.25,2,    1.836,2,    1.030,2, -999.000,1,-999.0000,1,  -999.00,9,   -999.0,1,-999.000,9,   -999.0,9,   -999.0,9,  -999.00,9, 1036.0,-999.0000,-999.000,-999.000, 26.3494,-999.000
   318MWESTW_4,  P21E,   138,  1,     20, SI9409,2,19940507,2035,-16.7500,-138.6667, 2987,    149.5,  24.5451,  36.4076,2,  36.4073,2,    209.2,2,    208.8,2,     0.85,2,    -0.01,2,     0.01,2,     0.24,2,    1.866,2,    1.045,2, -999.000,1,-999.0000,1,  -999.00,9,   -999.0,1,-999.000,9,   -999.0,9,   -999.0,9,  -999.00,9, 1540.1,-999.0000,-999.000,-999.000, 24.5129,-999.000
   318MWESTW_4,  P21E,   138,  1,     19, SI9411,2,19940507,2035,-16.7500,-138.6667, 2987,    200.6,  22.9547,  36.2979,2,  36.2974,2,    188.0,2,    182.1,2,     0.75,2,     1.51,2,     0.44,2,     0.45,2,    1.952,2,    1.069,2, -999.000,1,-999.0000,1,  -999.00,9,   -999.0,1,-999.000,9,   -999.0,9,   -999.0,9,  -999.00,9, 2048.9,-999.0000,-999.000,-999.000, 22.9135,-999.000
   318MWESTW_4,  P21E,   138,  1,     18, SI9413,2,19940507,2035,-16.7500,-138.6667, 2987,    250.8,  21.4397,  36.0548,2,  36.0546,2,    185.9,2,    181.0,2,     0.95,2,     2.76,2,     0.02,2,     0.51,2,    2.009,2,    1.092,2, -999.000,1,-999.0000,1,  -999.00,9,   -999.0,1,-999.000,9,   -999.0,9,   -999.0,9,  -999.00,9, 2549.4,-999.0000,-999.000,-999.000, 21.3907,-999.000
   318MWESTW_4,  P21E,   138,  1,     17, SI9415,2,19940507,2035,-16.7500,-138.6667, 2987,    301.5,  18.3606,  35.5355,2,  35.5318,2,    185.6,2,    177.3,2,     2.64,2,     4.90,2,    -0.01,2,     0.62,2,    1.898,2,    1.007,2, -999.000,1,-999.0000,1,  -999.00,9,   -999.0,1,-999.000,9,   -999.0,9,   -999.0,9,  -999.00,9, 3054.4,-999.0000,-999.000,-999.000, 18.3078,-999.000
   318MWESTW_4,  P21E,   138,  1,     16, SI9416,2,19940507,2035,-16.7500,-138.6667, 2987,    401.4,  11.5892,  34.6988,2,  34.6901,2,    158.6,2,    133.7,2,     9.84,2,    18.47,2,     0.00,2,     1.55,2,    0.897,2,    0.462,2, -999.000,1,-999.0000,1,  -999.00,9,   -999.0,1,-999.000,9,   -999.0,9,   -999.0,9,  -999.00,9, 4048.1,-999.0000,-999.000,-999.000, 11.5377,-999.000
   318MWESTW_4,  P21E,   138,  1,     15, SI9417,2,19940507,2035,-16.7500,-138.6667, 2987,    501.3,   7.8831,  34.4567,2,  34.4553,2,    112.0,2,    114.0,2,    18.99,2,    30.19,2,     0.00,2,     2.23,2,    0.178,2,    0.088,2, -999.000,1,-999.0000,1,  -999.00,9,   -999.0,1,-999.000,9,   -999.0,9,   -999.0,9,  -999.00,9, 5041.7,-999.0000,-999.000,-999.000,  7.8322,-999.000
   318MWESTW_4,  P21E,   138,  1,     14, SI9419,2,19940507,2035,-16.7500,-138.6667, 2987,    596.9,   6.3064,  34.4228,2,  34.4210,2,    135.2,2,    140.1,2,    26.51,2,    32.09,2,    -0.01,2,     2.27,2,    0.080,2,    0.044,2, -999.000,1,-999.0000,1,  -999.00,9,   -999.0,1,-999.000,9,   -999.0,9,   -999.0,9,  -999.00,9, 5992.7,-999.0000,-999.000,-999.000,  6.2525,-999.000
   318MWESTW_4,  P21E,   138,  1,     13, SI9420,2,19940507,2035,-16.7500,-138.6667, 2987,    697.2,   5.6840,  34.4609,2,  34.4591,2,    129.6,2,    127.2,2,    39.55,2,    34.39,2,    -0.02,2,     2.42,2,    0.016,2,    0.006,2, -999.000,1,-999.0000,1,  -999.00,9,   -999.0,1,-999.000,9,   -999.0,9,   -999.0,9,  -999.00,9, 6989.3,-999.0000,-999.000,-999.000,  5.6238,-999.000
   318MWESTW_4,  P21E,   138,  1,     12, SI9421,2,19940507,2035,-16.7500,-138.6667, 2987,    800.2,   5.1745,  34.4866,2,  34.4854,2,    120.3,2,    119.3,2,    50.65,2,    35.81,2,    -0.01,2,     2.53,2,    0.005,2,    0.002,2, -999.000,1,-999.0000,1,  -999.00,9,   -999.0,1,-999.000,9,   -999.0,9,   -999.0,9,  -999.00,9, 8014.1,-999.0000,-999.000,-999.000,  5.1079,-999.000
   318MWESTW_4,  P21E,   138,  1,     11, SI9423,2,19940507,2035,-16.7500,-138.6667, 2987,    900.3,   4.7591,  34.4979,2,  34.4968,2,    119.4,2,    120.1,2,    58.76,2,    36.35,2,    -0.01,2,     2.57,2,    0.002,2,    0.003,2, -999.000,1,-999.0000,1,  -999.00,9,   -999.0,1,-999.000,9,   -999.0,9,   -999.0,9,  -999.00,9, 9009.6,-999.0000,-999.000,-999.000,  4.6864,-999.000
   318MWESTW_4,  P21E,   138,  1,     10, SI9425,2,19940507,2035,-16.7500,-138.6667, 2987,   1097.3,   4.0141,  34.5271,2,  34.5252,2,    117.4,2,    116.1,2,    74.78,2,    37.56,2,     0.00,2,     2.66,2,   -0.001,2,   -0.002,2, -999.000,1,-999.0000,1,  -999.00,9,   -999.0,1,-999.000,9,   -999.0,9,   -999.0,9,  -999.00,9,10967.6,-999.0000,-999.000,-999.000,  3.9301,-999.000
   318MWESTW_4,  P21E,   138,  1,      9, SI9424,2,19940507,2035,-16.7500,-138.6667, 2987,   1296.3,   3.5532,  34.5514,2,  34.5504,2,    114.0,2,    110.5,2,    87.07,2,    38.35,2,     0.00,2,     2.74,2, -999.000,9, -999.000,9, -999.000,1,-999.0000,1,  -999.00,9,   -999.0,1,-999.000,9,   -999.0,9,   -999.0,9,  -999.00,9,12946.6,-999.0000,-999.000,-999.000,  3.4566,-999.000
   318MWESTW_4,  P21E,   138,  1,      8, SI9428,2,19940507,2035,-16.7500,-138.6667, 2987,   1503.0,   2.9039,  34.5732,2,  34.5724,2,    142.6,2,    142.4,2,    93.67,2,    35.79,2,     0.00,2,     2.54,2, -999.000,9, -999.000,9, -999.000,1,-999.0000,1,  -999.00,9,   -999.0,1,-999.000,9,   -999.0,9,   -999.0,9,  -999.00,9,15001.5,-999.0000,-999.000,-999.000,  2.7969,-999.000
   318MWESTW_4,  P21E,   138,  1,      7, SI9429,2,19940507,2035,-16.7500,-138.6667, 2987,   1698.0,   2.5196,  34.6009,2,  34.5993,2,    145.9,2,    145.5,2,   102.98,2,    35.69,2,     0.00,2,     2.53,2, -999.000,9, -999.000,9, -999.000,1,-999.0000,1,  -999.00,9,   -999.0,1,-999.000,9,   -999.0,9,   -999.0,9,  -999.00,9,16939.9,-999.0000,-999.000,-999.000,  2.4011,-999.000
   318MWESTW_4,  P21E,   138,  1,      6, SI9431,2,19940507,2035,-16.7500,-138.6667, 2987,   1901.0,   2.2458,  34.6237,2,  34.6223,2,    149.0,2,    149.4,2,   110.18,2,    35.50,2,    -0.01,2,     2.50,2, -999.000,9, -999.000,9, -999.000,1,-999.0000,1,  -999.00,9,   -999.0,1,-999.000,9,   -999.0,9,   -999.0,9,  -999.00,9,18958.0,-999.0000,-999.000,-999.000,  2.1141,-999.000
   318MWESTW_4,  P21E,   138,  1,      5, SI9432,2,19940507,2035,-16.7500,-138.6667, 2987,   2101.9,   2.0482,  34.6435,2,  34.6427,2,    151.3,2,    151.0,2,   115.90,2,    35.39,2,    -0.01,2,     2.50,2, -999.000,9, -999.000,9, -999.000,1,-999.0000,1,  -999.00,9,   -999.0,1,-999.000,9,   -999.0,9,   -999.0,9,  -999.00,9,20955.6,-999.0000,-999.000,-999.000,  1.9023,-999.000
   318MWESTW_4,  P21E,   138,  1,      4, SI9433,2,19940507,2035,-16.7500,-138.6667, 2987,   2301.2,   1.9321,  34.6538,2,  34.6533,2,    152.9,2,    153.5,2,   119.37,2,    35.13,2,     0.01,2,     2.48,2, -999.000,9, -999.000,9, -999.000,1,-999.0000,1,  -999.00,9,   -999.0,1,-999.000,9,   -999.0,9,   -999.0,9,  -999.00,9,22937.0,-999.0000,-999.000,-999.000,  1.7708,-999.000
   318MWESTW_4,  P21E,   138,  1,      3, SI9435,2,19940507,2035,-16.7500,-138.6667, 2987,   2598.9,   1.8195,  34.6654,2,  34.6661,2,    154.3,2,    155.6,2,   123.30,2,    35.04,2,     0.00,2,     2.47,2, -999.000,9, -999.000,9, -999.000,1,-999.0000,1,  -999.00,9,   -999.0,1,-999.000,9,   -999.0,9,   -999.0,9,  -999.00,9,25896.3,-999.0000,-999.000,-999.000,  1.6336,-999.000
   318MWESTW_4,  P21E,   138,  1,      2, SI9401,2,19940507,2035,-16.7500,-138.6667, 2987,   2904.1,   1.7487,  34.6739,2,  34.6734,2,    156.5,2,    156.5,2,   127.07,2,    35.05,2,    -0.01,2,     2.47,2, -999.000,9, -999.000,9, -999.000,1,-999.0000,1,  -999.00,9,   -999.0,1,-999.000,9,   -999.0,9,   -999.0,9,  -999.00,9,28929.5,-999.0000,-999.000,-999.000,  1.5357,-999.000
   318MWESTW_4,  P21E,   138,  1,      1, SI9403,2,19940507,2035,-16.7500,-138.6667, 2987,   2995.5,   1.7247,  34.6759,2,  34.6753,2,    156.3,2,    157.2,2,   128.18,2,    35.02,2,     0.01,2,     2.47,2, -999.000,9, -999.000,9, -999.000,1,-999.0000,1,  -999.00,9,   -999.0,1,-999.000,9,   -999.0,9,   -999.0,9,  -999.00,9,29838.1,-999.0000,-999.000,-999.000,  1.5034,-999.000
   318MWESTW_4,  P21E,   139,  1,     24, SI9404,2,19940508,0220,-16.7500,-139.3333, 2224,      8.7,  28.7747,  36.2009,2,  36.2020,2,    205.3,2,    209.9,2,     0.35,2,    -0.01,2,     0.01,2,     0.22,2,    1.598,2,    0.908,2, -999.000,1,-999.0000,1,  -999.00,9,   -999.0,1,-999.000,9,   1996.7,2,   2375.0,2,     8.21,2,  137.1,-999.0000,-999.000,-999.000, 28.7726,-999.000
   318MWESTW_4,  P21E,   139,  1,     23, SI9405,2,19940508,0220,-16.7500,-139.3333, 2224,     22.4,  28.6265,  36.1834,2,  36.1830,2,    194.5,2,    209.2,2,     0.22,2,     0.02,2,     0.01,2,     0.22,2,    1.622,2,    0.941,2, -999.000,1,-999.0000,1,  -999.00,9,   -999.0,1,-999.000,9,   1996.7,2,   2375.0,2,     8.21,2,  274.5,-999.0000,-999.000,-999.000, 28.6211,-999.000
   318MWESTW_4,  P21E,   139,  1,     22, SI9407,2,19940508,0220,-16.7500,-139.3333, 2224,     47.5,  28.6085,  36.1860,2,  36.1971,2,    205.6,2,    203.9,2,     0.39,2,     0.08,2,     0.00,2,     0.22,2,    1.589,2,    0.902,2, -999.000,1,-999.0000,1,  -999.00,9,   -999.0,1,-999.000,9,   1996.7,2,   2374.0,2,     8.21,2,  524.7,-999.0000,-999.000,-999.000, 28.5971,-999.000
   318MWESTW_4,  P21E,   139,  1,     21, SI9408,2,19940508,0220,-16.7500,-139.3333, 2224,     98.4,  26.9887,  36.4171,2,  36.4226,2,    219.9,2,    219.4,2,     0.12,2,     0.06,2,     0.02,2,     0.23,2,    1.758,2,    0.988,2, -999.000,1,-999.0000,1,  -999.00,9,   -999.0,1,-999.000,9,   2011.7,2,   2391.0,2,     8.19,2, 1031.7,-999.0000,-999.000,-999.000, 26.9660,-999.000
   318MWESTW_4,  P21E,   139,  1,     20, SI9409,2,19940508,0220,-16.7500,-139.3333, 2224,    150.7,  24.8827,  36.4090,2,  36.4073,2,    206.7,2,    205.2,2,     0.14,2,     0.11,2,     0.10,2,     0.30,2,    1.842,2,    1.013,2, -999.000,1,-999.0000,1,  -999.00,9,   -999.0,1,-999.000,9,   2041.8,2,   2391.0,2,     8.15,2, 1553.2,-999.0000,-999.000,-999.000, 24.8499,-999.000
   318MWESTW_4,  P21E,   139,  1,     19, SI9411,2,19940508,0220,-16.7500,-139.3333, 2224,    199.8,  22.7324,  36.1961,2,  36.2028,2,    192.3,2,    184.4,2,     0.16,2,     1.67,2,     0.27,2,     0.42,2,    1.925,2,    1.047,2, -999.000,1,-999.0000,1,  -999.00,9,   -999.0,1,-999.000,9,   2073.8,2,   2376.0,2,     8.10,2, 2042.0,-999.0000,-999.000,-999.000, 22.6917,-999.000
   318MWESTW_4,  P21E,   139,  1,     18, SI9413,2,19940508,0220,-16.7500,-139.3333, 2224,    250.8,  20.8427,  35.9131,2,  35.9180,2,    190.2,2,    183.9,2,     0.32,2,     2.76,2,     0.02,2,     0.47,2,    1.992,2,    1.062,2, -999.000,1,-999.0000,1,  -999.00,9,   -999.0,1,-999.000,9,   2076.8,2,   2356.0,2,     8.06,2, 2550.0,-999.0000,-999.000,-999.000, 20.7947,-999.000
   318MWESTW_4,  P21E,   139,  1,     17, SI9415,2,19940508,0220,-16.7500,-139.3333, 2224,    298.7,  17.6784,  35.4250,2,  35.4308,2,    186.6,2,    181.0,2,     0.94,2,     5.11,2,     0.01,2,     0.59,2,    1.852,2,    0.974,2, -999.000,1,-999.0000,1,  -999.00,9,   -999.0,1,-999.000,9,   2070.8,2,   2324.0,2,     8.00,2, 3026.7,-999.0000,-999.000,-999.000, 17.6275,-999.000
   318MWESTW_4,  P21E,   139,  1,     16, SI9416,2,19940508,0220,-16.7500,-139.3333, 2224,    399.6,  10.4692,  34.5958,2,  34.5883,2,    132.5,2,    122.0,2,    11.06,2,    22.56,2,     0.00,2,     1.82,2,    0.663,2,    0.320,2, -999.000,1,-999.0000,1,  -999.00,9,   -999.0,1,-999.000,9,   2169.9,2,   2280.0,2,     7.72,2, 4030.5,-999.0000,-999.000,-999.000, 10.4212,-999.000
   318MWESTW_4,  P21E,   139,  1,     15, SI9417,2,19940508,0220,-16.7500,-139.3333, 2224,    500.0,   7.2241,  34.4348,2,  34.4322,2,    116.5,2,    121.5,2,    20.13,2,    32.08,2,     0.00,2,     2.31,2,    0.111,2,    0.053,2, -999.000,1,-999.0000,1,  -999.00,9,   -999.0,1,-999.000,9,   2202.9,2,   2283.0,2,     7.62,2, 5028.8,-999.0000,-999.000,-999.000,  7.1758,-999.000
   318MWESTW_4,  P21E,   139,  1,     14, SI9419,2,19940508,0220,-16.7500,-139.3333, 2224,    596.5,   6.2456,  34.4339,2,  34.4322,2,    128.1,2,    129.1,2,    28.31,2,    33.85,2,     0.01,2,     2.38,2,    0.036,2,    0.012,2, -999.000,1,-999.0000,1,  -999.00,9,   -999.0,1,-999.000,9,   2215.9,2,   2289.0,2,     7.62,2, 5988.2,-999.0000,-999.000,-999.000,  6.1920,-999.000
   318MWESTW_4,  P21E,   139,  1,     13, SI9420,2,19940508,0220,-16.7500,-139.3333, 2224,    701.6,   5.7239,  34.4784,2,  34.4781,2,    115.8,2,    115.6,2,    41.69,2,    35.93,2,     0.00,2,     2.52,2,    0.008,2,   -0.001,2, -999.000,1,-999.0000,1,  -999.00,9,   -999.0,1,-999.000,9,   2236.9,2,   2306.0,2,     7.60,2, 7033.5,-999.0000,-999.000,-999.000,  5.6631,-999.000
   318MWESTW_4,  P21E,   139,  1,     12, SI9421,2,19940508,0220,-16.7500,-139.3333, 2224,    801.8,   5.2736,  34.4889,2,  34.4870,2,    109.8,2,    109.6,2,    50.02,2,    37.36,2,     0.00,2,     2.62,2,    0.007,2,    0.001,2, -999.000,1,-999.0000,1,  -999.00,9,   -999.0,1,-999.000,9,   2250.9,2,   2312.0,2,     7.58,2, 8029.5,-999.0000,-999.000,-999.000,  5.2063,-999.000
   318MWESTW_4,  P21E,   139,  1,     11, SI9423,2,19940508,0220,-16.7500,-139.3333, 2224,    898.6,   4.9140,  34.5009,2,  34.4991,2,     99.3,2,     98.5,2,    58.20,2,    39.05,2,     0.00,2,     2.74,2,    0.000,2,   -0.003,2, -999.000,1,-999.0000,1,  -999.00,9,   -999.0,1,-999.000,9,   2267.0,2,   2324.0,2,     7.56,2, 8991.6,-999.0000,-999.000,-999.000,  4.8404,-999.000
   318MWESTW_4,  P21E,   139,  1,     10, SI9425,2,19940508,0220,-16.7500,-139.3333, 2224,   1000.8,   4.4355,  34.5187,2,  34.5180,2,     91.5,2,     89.8,2,    69.65,2,    40.40,2,     0.00,2,     2.84,2,    0.000,2,   -0.004,2, -999.000,1,-999.0000,1,  -999.00,9,   -999.0,1,-999.000,9,   2280.0,2,   2333.0,2,     7.54,2,10008.3,-999.0000,-999.000,-999.000,  4.3564,-999.000
   318MWESTW_4,  P21E,   139,  1,      9, SI9424,2,19940508,0220,-16.7500,-139.3333, 2224,   1099.6,   4.0724,  34.5330,2,  34.5303,2,     96.1,2,     95.9,2,    77.23,2,    40.05,2,     0.00,2,     2.83,2, -999.000,9, -999.000,9, -999.000,1,-999.0000,1,  -999.00,9,   -999.0,1,-999.000,9,   2291.0,2,   2343.0,2,     7.55,2,10989.8,-999.0000,-999.000,-999.000,  3.9877,-999.000
   318MWESTW_4,  P21E,   139,  1,      8, SI9428,2,19940508,0220,-16.7500,-139.3333, 2224,   1199.4,   3.7238,  34.5485,2,  34.5457,2,     98.3,2,     98.3,2,    85.42,2,    40.05,2,     0.00,2,     2.83,2, -999.000,9, -999.000,9, -999.000,1,-999.0000,1,  -999.00,9,   -999.0,1,-999.000,9,   2293.0,2,   2349.0,2,     7.57,2,11982.5,-999.0000,-999.000,-999.000,  3.6337,-999.000
   318MWESTW_4,  P21E,   139,  1,      7, SI9429,2,19940508,0220,-16.7500,-139.3333, 2224,   1295.9,   3.4868,  34.5589,2,  34.5569,2,    104.5,2,    104.2,2,    90.32,2,    39.62,2,     0.00,2,     2.81,2, -999.000,9, -999.000,9, -999.000,1,-999.0000,1,  -999.00,9,   -999.0,1,-999.000,9,   2303.0,2,   2357.0,2,     7.57,2,12941.4,-999.0000,-999.000,-999.000,  3.3909,-999.000
   318MWESTW_4,  P21E,   139,  1,      6, SI9431,2,19940508,0220,-16.7500,-139.3333, 2224,   1398.0,   3.2039,  34.5719,2,  34.5708,2,    111.9,2,    112.6,2,    95.82,2,    38.96,2,     0.01,2,     2.76,2, -999.000,9, -999.000,9, -999.000,1,-999.0000,1,  -999.00,9,   -999.0,1,-999.000,9,   2303.0,2,   2365.0,2,     7.58,2,13956.3,-999.0000,-999.000,-999.000,  3.1023,-999.000
   318MWESTW_4,  P21E,   139,  1,      5, SI9432,2,19940508,0220,-16.7500,-139.3333, 2224,   1599.5,   2.6676,  34.5938,2,  34.5926,2,    135.0,2,    138.0,2,   101.63,2,    36.89,2,     0.01,2,     2.59,2, -999.000,9, -999.000,9, -999.000,1,-999.0000,1,  -999.00,9,   -999.0,1,-999.000,9,   2295.0,2,   2372.0,2,     7.62,2,15959.9,-999.0000,-999.000,-999.000,  2.5554,-999.000
   318MWESTW_4,  P21E,   139,  1,      4, SI9433,2,19940508,0220,-16.7500,-139.3333, 2224,   1801.5,   2.3079,  34.6212,2,  34.6199,2,    145.2,2,    144.7,2,   109.80,2,    36.46,2,     0.01,2,     2.55,2, -999.000,9, -999.000,9, -999.000,1,-999.0000,1,  -999.00,9,   -999.0,1,-999.000,9,   2300.0,2,   2382.0,2,     7.63,2,17968.0,-999.0000,-999.000,-999.000,  2.1836,-999.000
   318MWESTW_4,  P21E,   139,  1,      3, SI9435,2,19940508,0220,-16.7500,-139.3333, 2224,   2003.7,   2.1041,  34.6376,2,  34.6360,2,    150.6,2,    150.5,2,   113.97,2,    35.96,2,     0.00,2,     2.52,2, -999.000,9, -999.000,9, -999.000,1,-999.0000,1,  -999.00,9,   -999.0,1,-999.000,9,   2301.0,2,   2385.0,2,     7.64,2,19978.0,-999.0000,-999.000,-999.000,  1.9657,-999.000
   318MWESTW_4,  P21E,   139,  1,      2, SI9401,2,19940508,0220,-16.7500,-139.3333, 2224,   2156.3,   2.0038,  34.6477,2,  34.6458,2,    152.7,2,    152.7,2,   117.10,2,    35.86,2,     0.01,2,     2.50,2, -999.000,9, -999.000,9, -999.000,1,-999.0000,1,  -999.00,9,   -999.0,1,-999.000,9,   2304.0,2,   2392.0,2,     7.64,2,21494.5,-999.0000,-999.000,-999.000,  1.8540,-999.000
   318MWESTW_4,  P21E,   139,  1,      1, SI9403,2,19940508,0220,-16.7500,-139.3333, 2224,   2227.5,   1.9930,  34.6491,2,  34.6472,2,    151.9,2,    153.1,2,   117.42,2,    35.82,2,     0.00,2,     2.51,2, -999.000,9, -999.000,9, -999.000,1,-999.0000,1,  -999.00,9,   -999.0,1,-999.000,9,   2304.0,2,   2391.0,2,     7.64,2,22202.0,-999.0000,-999.000,-999.000,  1.8372,-999.000