BOTTLE,20010911WHPSIOdm
EXPOCODE,SECT_ID,STNNBR,CASTNO,SAMPNO,BTLNBR,BTLNBR_FLAG_W,DATE,TIME,LATITUDE,LONGITUDE,DEPTH,CTDPRS,CTDTMP,CTDSAL,CTDSAL_FLAG_W,SALNTY,SALNTY_FLAG_W,CTDOXY,CTDOXY_FLAG_W,OXYGEN,OXYGEN_FLAG_W,SILCAT,SILCAT_FLAG_W,NITRAT,NITRAT_FLAG_W,NITRIT,NITRIT_FLAG_W,PHSPHT,PHSPHT_FLAG_W,CFC-11,CFC-11_FLAG_W,CFC-12,CFC-12_FLAG_W,TRITUM,TRITUM_FLAG_W,HELIUM,HELIUM_FLAG_W,DELHE3,DELHE3_FLAG_W,DELC14,DELC14_FLAG_W,NEON,NEON_FLAG_W,TCARBN,TCARBN_FLAG_W,ALKALI,ALKALI_FLAG_W,PH,PH_FLAG_W,CTDRAW,HELIER,DELHER,NEONER,THETA,TRITER
,,,,,,,,,,,,DBAR,ITS-90,PSS-78,,PSS-78,,UMOL/KG,,UMOL/KG,,UMOL/KG,,UMOL/KG,,UMOL/KG,,UMOL/KG,,PMOL/KG,,PMOL/KG,,TU,,UMOL/KG,,PERCNT,,/MILLE,,NMOL/KG,,UMOL/KG,,UMOL/KG,,,,,NMOL/KG,PERCNT,NMOL/KG,ITS-90,TU
   318MWESTW_4,  P21E,    62,  1,     36, SI9336,2,19940416,0143,-16.7500, -93.3362, 4282,     10.6,  23.8598,  35.9932,2,  35.9920,2,    221.0,2,    216.2,2,     0.22,2,     0.70,2,     0.03,2,     0.39,2,    1.928,2,    1.101,2, -999.000,1,-999.0000,1,  -999.00,9,   -999.0,1,-999.000,9,   -999.0,9,   -999.0,9,  -999.00,9,  148.0,-999.0000,-999.000,-999.000, 23.8576,-999.000
   318MWESTW_4,  P21E,    62,  1,     35, SI9335,2,19940416,0143,-16.7500, -93.3362, 4282,     25.2,  23.8633,  35.9920,2,  35.9918,2,    214.8,2,    217.3,2,     0.06,2,     0.64,2,     0.03,2,     0.38,2,    1.951,2,    1.074,2, -999.000,1,-999.0000,1,  -999.00,9,   -999.0,1,-999.000,9,   -999.0,9,   -999.0,9,  -999.00,9,  294.3,-999.0000,-999.000,-999.000, 23.8580,-999.000
   318MWESTW_4,  P21E,    62,  1,     34, SI9334,2,19940416,0143,-16.7500, -93.3362, 4282,     49.6,  23.8054,  35.9906,2,  35.9833,2,    216.3,2,    218.3,2,     0.23,2,     0.60,2,     0.02,2,     0.40,2,    1.878,2,    1.038,2, -999.000,1,-999.0000,1,  -999.00,9,   -999.0,1,-999.000,9,   -999.0,9,   -999.0,9,  -999.00,9,  538.2,-999.0000,-999.000,-999.000, 23.7950,-999.000
   318MWESTW_4,  P21E,    62,  1,     33, SI9333,2,19940416,0143,-16.7500, -93.3362, 4282,    100.4,  19.3203,  35.6480,2,  35.6267,2,    216.5,2,    214.6,2,     0.59,2,     1.65,2,     1.17,2,     0.61,2, -999.000,9, -999.000,9, -999.000,1,-999.0000,1,  -999.00,9,   -999.0,1,-999.000,9,   -999.0,9,   -999.0,9,  -999.00,9, 1046.3,-999.0000,-999.000,-999.000, 19.3021,-999.000
   318MWESTW_4,  P21E,    62,  1,     32, SI9332,2,19940416,0143,-16.7500, -93.3362, 4282,    146.2,  18.4498,  35.4694,2,  35.4616,2,    200.7,2,    199.1,2,     1.10,2,     5.10,2,     0.05,2,     0.76,2,    2.366,2,    1.249,2, -999.000,1,-999.0000,1,  -999.00,9,   -999.0,1,-999.000,9,   -999.0,9,   -999.0,9,  -999.00,9, 1503.8,-999.0000,-999.000,-999.000, 18.4242,-999.000
   318MWESTW_4,  P21E,    62,  1,     31, SI9331,2,19940416,0143,-16.7500, -93.3362, 4282,    200.5,  13.6958,  34.8324,2,  34.8009,2,    112.8,2,     95.2,2,     8.70,2,    17.60,2,     0.02,2,     1.75,2,    1.616,2,    0.806,2, -999.000,1,-999.0000,1,  -999.00,9,   -999.0,1,-999.000,9,   -999.0,9,   -999.0,9,  -999.00,9, 2045.9,-999.0000,-999.000,-999.000, 13.6673,-999.000
   318MWESTW_4,  P21E,    62,  1,     30, SI9330,2,19940416,0143,-16.7500, -93.3362, 4282,    250.2,  11.9454,  34.7201,2,  34.7390,2,     43.6,2,     12.5,2,    21.81,2,    23.27,2,     0.02,2,     2.62,2,    0.445,2,    0.223,2, -999.000,1,-999.0000,1,  -999.00,9,   -999.0,1,-999.000,9,   -999.0,9,   -999.0,9,  -999.00,9, 2542.5,-999.0000,-999.000,-999.000, 11.9129,-999.000
   318MWESTW_4,  P21E,    62,  1,     29, SI9329,2,19940416,0143,-16.7500, -93.3362, 4282,    298.0,  10.8302,  34.7160,2,  34.7146,2,      8.1,2,      5.1,2,    25.27,2,    29.52,2,     0.02,2,     2.72,2,    0.152,2,    0.074,2, -999.000,1,-999.0000,1,  -999.00,9,   -999.0,1,-999.000,9,   -999.0,9,   -999.0,9,  -999.00,9, 3020.6,-999.0000,-999.000,-999.000, 10.7938,-999.000
   318MWESTW_4,  P21E,    62,  1,     28, SI9328,2,19940416,0143,-16.7500, -93.3362, 4282,    398.6,   9.1226,  34.6281,2,  34.6409,2,     14.1,2,     11.9,2,    29.40,2,    36.89,2,     0.02,2,     2.79,2,    0.033,2,    0.013,2, -999.000,1,-999.0000,1,  -999.00,9,   -999.0,1,-999.000,9,   -999.0,9,   -999.0,9,  -999.00,9, 4024.9,-999.0000,-999.000,-999.000,  9.0786,-999.000
   318MWESTW_4,  P21E,    62,  1,     27, SI9327,2,19940416,0143,-16.7500, -93.3362, 4282,    500.7,   7.7281,  34.5601,2,  34.5667,2,     30.2,2,     25.8,2,    33.72,2,    40.31,2,     0.01,2,     2.86,2,    0.014,2,   -0.001,2, -999.000,1,-999.0000,1,  -999.00,9,   -999.0,1,-999.000,9,   -999.0,9,   -999.0,9,  -999.00,9, 5044.4,-999.0000,-999.000,-999.000,  7.6778,-999.000
   318MWESTW_4,  P21E,    62,  1,     26, SI9326,2,19940416,0143,-16.7500, -93.3362, 4282,    602.1,   6.7046,  34.5260,2,  34.5258,3,     37.7,2,     35.9,2,    40.27,2,    42.19,2,     0.01,2,     2.96,2,    0.003,2,   -0.003,2, -999.000,1,-999.0000,1,  -999.00,9,   -999.0,1,-999.000,9,   -999.0,9,   -999.0,9,  -999.00,9, 6057.5,-999.0000,-999.000,-999.000,  6.6483,-999.000
   318MWESTW_4,  P21E,    62,  1,     25, SI9325,2,19940416,0143,-16.7500, -93.3362, 4282,    702.8,   5.8931,  34.5061,2,  34.5076,2,     42.1,2,     40.8,2,    48.91,2,    43.55,2,     0.01,2,     3.06,2,   -0.002,2,    0.000,2, -999.000,1,-999.0000,1,  -999.00,9,   -999.0,1,-999.000,9,   -999.0,9,   -999.0,9,  -999.00,9, 7063.5,-999.0000,-999.000,-999.000,  5.8313,-999.000
   318MWESTW_4,  P21E,    62,  1,     24, SI9324,2,19940416,0143,-16.7500, -93.3362, 4282,    801.9,   5.3435,  34.5135,2,  34.5166,2,     37.8,2,     36.5,2,    60.46,2,    44.92,2,     0.01,2,     3.16,2,   -0.002,2,   -0.002,2, -999.000,1,-999.0000,1,  -999.00,9,   -999.0,1,-999.000,9,   -999.0,9,   -999.0,9,  -999.00,9, 8053.8,-999.0000,-999.000,-999.000,  5.2757,-999.000
   318MWESTW_4,  P21E,    62,  1,     23, SI9323,2,19940416,0143,-16.7500, -93.3362, 4282,    902.5,   4.8177,  34.5199,2,  34.5162,2,     48.2,2,     50.4,2,    67.87,2,    44.07,2,     0.01,2,     3.12,2,   -0.002,2,   -0.001,2, -999.000,1,-999.0000,1,  -999.00,9,   -999.0,1,-999.000,9,   -999.0,9,   -999.0,9,  -999.00,9, 9058.4,-999.0000,-999.000,-999.000,  4.7444,-999.000
   318MWESTW_4,  P21E,    62,  1,     22, SI9322,2,19940416,0143,-16.7500, -93.3362, 4282,   1002.9,   4.4187,  34.5307,2,  34.5313,2,     55.2,2,     56.4,2,    77.35,2,    43.45,2,     0.01,2,     3.10,2,    0.002,2,    0.000,2, -999.000,1,-999.0000,1,  -999.00,9,   -999.0,1,-999.000,9,   -999.0,9,   -999.0,9,  -999.00,9,10060.6,-999.0000,-999.000,-999.000,  4.3395,-999.000
   318MWESTW_4,  P21E,    62,  1,     21, SI9321,2,19940416,0143,-16.7500, -93.3362, 4282,   1102.5,   4.0532,  34.5440,2,  34.5437,2,     64.8,2,     64.5,2,    85.81,2,    42.77,2,     0.01,2,     3.07,2, -999.000,9, -999.000,9, -999.000,1,-999.0000,1,  -999.00,9,   -999.0,1,-999.000,9,   -999.0,9,   -999.0,9,  -999.00,9,11055.8,-999.0000,-999.000,-999.000,  3.9684,-999.000
   318MWESTW_4,  P21E,    62,  1,     20, SI9320,2,19940416,0143,-16.7500, -93.3362, 4282,   1200.5,   3.7698,  34.5570,2,  34.5571,2,     70.1,2,     70.2,2,    92.87,2,    42.26,2,     0.01,2,     3.04,2, -999.000,9, -999.000,9, -999.000,1,-999.0000,1,  -999.00,9,   -999.0,1,-999.000,9,   -999.0,9,   -999.0,9,  -999.00,9,12035.1,-999.0000,-999.000,-999.000,  3.6792,-999.000
   318MWESTW_4,  P21E,    62,  1,     19, SI9319,2,19940416,0143,-16.7500, -93.3362, 4282,   1297.5,   3.5229,  34.5680,2,  34.5683,2,     75.2,2,     75.8,2,    98.90,2,    41.93,2,     0.01,2,     3.00,2, -999.000,9, -999.000,9, -999.000,1,-999.0000,1,  -999.00,9,   -999.0,1,-999.000,9,   -999.0,9,   -999.0,9,  -999.00,9,13003.7,-999.0000,-999.000,-999.000,  3.4264,-999.000
   318MWESTW_4,  P21E,    62,  1,     18, SI9318,2,19940416,0143,-16.7500, -93.3362, 4282,   1404.7,   3.2418,  34.5781,2,  34.5773,2,     86.9,2,     86.1,2,   102.86,2,    41.13,2,     0.01,2,     2.94,2, -999.000,9, -999.000,9, -999.000,1,-999.0000,1,  -999.00,9,   -999.0,1,-999.000,9,   -999.0,9,   -999.0,9,  -999.00,9,14074.6,-999.0000,-999.000,-999.000,  3.1392,-999.000
   318MWESTW_4,  P21E,    62,  1,     17, SI9317,2,19940416,0143,-16.7500, -93.3362, 4282,   1505.3,   3.0293,  34.5908,2,  34.5875,2,     93.2,2,     92.4,2,   107.69,2,    40.57,2,     0.01,2,     2.90,2, -999.000,9, -999.000,9, -999.000,1,-999.0000,1,  -999.00,9,   -999.0,1,-999.000,9,   -999.0,9,   -999.0,9,  -999.00,9,15079.4,-999.0000,-999.000,-999.000,  2.9206,-999.000
   318MWESTW_4,  P21E,    62,  1,     16, SI9316,2,19940416,0143,-16.7500, -93.3362, 4282,   1605.0,   2.8241,  34.6043,2,  34.6026,2,     94.9,2,     95.3,2,   114.06,2,    40.40,2,     0.01,2,     2.88,2, -999.000,9, -999.000,9, -999.000,1,-999.0000,1,  -999.00,9,   -999.0,1,-999.000,9,   -999.0,9,   -999.0,9,  -999.00,9,16075.7,-999.0000,-999.000,-999.000,  2.7095,-999.000
   318MWESTW_4,  P21E,    62,  1,     15, SI9315,2,19940416,0143,-16.7500, -93.3362, 4282,   1800.6,   2.5358,  34.6250,2,  34.6238,2,    102.5,2,    106.3,2,   123.02,2,    39.78,2,     0.01,2,     2.82,2, -999.000,9, -999.000,9, -999.000,1,-999.0000,1,  -999.00,9,   -999.0,1,-999.000,9,   -999.0,9,   -999.0,9,  -999.00,9,18029.7,-999.0000,-999.000,-999.000,  2.4084,-999.000
   318MWESTW_4,  P21E,    62,  1,     14, SI9314,2,19940416,0143,-16.7500, -93.3362, 4282,   2000.1,   2.3015,  34.6409,2,  34.6390,2,    111.6,2,    111.3,2,   128.88,2,    39.05,2,     0.00,2,     2.77,2, -999.000,9, -999.000,9, -999.000,1,-999.0000,1,  -999.00,9,   -999.0,1,-999.000,9,   -999.0,9,   -999.0,9,  -999.00,9,20022.4,-999.0000,-999.000,-999.000,  2.1604,-999.000
   318MWESTW_4,  P21E,    62,  1,     13, SI9313,2,19940416,0143,-16.7500, -93.3362, 4282,   2199.1,   2.1270,  34.6521,2,  34.6508,2,    124.5,2,    123.0,2,   129.57,2,    38.20,2,     0.00,2,     2.69,2, -999.000,9, -999.000,9, -999.000,1,-999.0000,1,  -999.00,9,   -999.0,1,-999.000,9,   -999.0,9,   -999.0,9,  -999.00,9,22010.7,-999.0000,-999.000,-999.000,  1.9714,-999.000
   318MWESTW_4,  P21E,    62,  1,     12, SI9312,2,19940416,0143,-16.7500, -93.3362, 4282,   2395.6,   1.9847,  34.6617,2,  34.6633,4,    134.5,2,    132.7,2,   129.39,2,    37.41,2,     0.00,2,     2.62,2, -999.000,9, -999.000,9, -999.000,1,-999.0000,1,  -999.00,9,   -999.0,1,-999.000,9,   -999.0,9,   -999.0,9,  -999.00,9,23974.2,-999.0000,-999.000,-999.000,  1.8141,-999.000
   318MWESTW_4,  P21E,    62,  1,     11, SI9311,2,19940416,0143,-16.7500, -93.3362, 4282,   2598.1,   1.8929,  34.6693,2,  34.6688,2,    143.7,2,    141.4,2,   128.70,2,    36.73,2,     0.00,2,     2.56,2, -999.000,9, -999.000,9, -999.000,1,-999.0000,1,  -999.00,9,   -999.0,1,-999.000,9,   -999.0,9,   -999.0,9,  -999.00,9,25998.2,-999.0000,-999.000,-999.000,  1.7056,-999.000
   318MWESTW_4,  P21E,    62,  1,     10, SI9310,2,19940416,0143,-16.7500, -93.3362, 4282,   2799.1,   1.8335,  34.6765,2,  34.6753,2,    147.6,2,    145.3,2,   129.56,2,    36.33,2,     0.01,2,     2.54,2, -999.000,9, -999.000,9, -999.000,1,-999.0000,1,  -999.00,9,   -999.0,1,-999.000,9,   -999.0,9,   -999.0,9,  -999.00,9,28006.4,-999.0000,-999.000,-999.000,  1.6286,-999.000
   318MWESTW_4,  P21E,    62,  1,      9, SI9309,2,19940416,0143,-16.7500, -93.3362, 4282,   3000.0,   1.8037,  34.6800,2,  34.6791,2,    146.8,2,    145.9,2,   131.63,2,    36.22,2,     0.00,2,     2.53,2, -999.000,9, -999.000,9, -999.000,1,-999.0000,1,  -999.00,9,   -999.0,1,-999.000,9,   -999.0,9,   -999.0,9,  -999.00,9,30014.3,-999.0000,-999.000,-999.000,  1.5802,-999.000
   318MWESTW_4,  P21E,    62,  1,      8, SI9308,2,19940416,0143,-16.7500, -93.3362, 4282,   3196.9,   1.7933,  34.6829,2,  34.6828,2,    147.4,2,    146.2,2,   132.66,2,    36.11,2,     0.01,2,     2.53,2, -999.000,9, -999.000,9, -999.000,1,-999.0000,1,  -999.00,9,   -999.0,1,-999.000,9,   -999.0,9,   -999.0,9,  -999.00,9,31981.4,-999.0000,-999.000,-999.000,  1.5507,-999.000
   318MWESTW_4,  P21E,    62,  1,      7, SI9307,2,19940416,0143,-16.7500, -93.3362, 4282,   3399.9,   1.7850,  34.6853,2,  34.6850,2,    148.0,2,    146.5,2,   133.00,2,    36.12,2,     0.00,2,     2.53,2, -999.000,9, -999.000,9, -999.000,1,-999.0000,1,  -999.00,9,   -999.0,1,-999.000,9,   -999.0,9,   -999.0,9,  -999.00,9,34010.1,-999.0000,-999.000,-999.000,  1.5220,-999.000
   318MWESTW_4,  P21E,    62,  1,      6, SI9306,2,19940416,0143,-16.7500, -93.3362, 4282,   3594.2,   1.7934,  34.6869,2,  34.6865,2,    146.5,2,    145.1,2,   133.86,2,    36.17,2,     0.00,2,     2.53,2, -999.000,9, -999.000,9, -999.000,1,-999.0000,1,  -999.00,9,   -999.0,1,-999.000,9,   -999.0,9,   -999.0,9,  -999.00,9,35952.6,-999.0000,-999.000,-999.000,  1.5100,-999.000
   318MWESTW_4,  P21E,    62,  1,      5, SI9305,2,19940416,0143,-16.7500, -93.3362, 4282,   3797.0,   1.7762,  34.6880,2,  34.6891,2,    151.1,2,    149.7,2,   131.28,2,    35.84,2,     0.00,2,     2.51,2, -999.000,9, -999.000,9, -999.000,1,-999.0000,1,  -999.00,9,   -999.0,1,-999.000,9,   -999.0,9,   -999.0,9,  -999.00,9,37979.4,-999.0000,-999.000,-999.000,  1.4717,-999.000
   318MWESTW_4,  P21E,    62,  1,      4, SI9304,2,19940416,0143,-16.7500, -93.3362, 4282,   3994.9,   1.7808,  34.6895,2,  34.6885,2,    153.0,2,    151.3,2,   130.42,2,    35.84,2,     0.00,2,     2.50,2, -999.000,9, -999.000,9, -999.000,1,-999.0000,1,  -999.00,9,   -999.0,1,-999.000,9,   -999.0,9,   -999.0,9,  -999.00,9,39957.3,-999.0000,-999.000,-999.000,  1.4545,-999.000
   318MWESTW_4,  P21E,    62,  1,      3, SI9303,2,19940416,0143,-16.7500, -93.3362, 4282,   4205.9,   1.7964,  34.6903,2,  34.6897,2,    153.6,2,    151.4,2,   129.72,2,    35.73,2,     0.00,2,     2.50,2, -999.000,9, -999.000,9, -999.000,1,-999.0000,1,  -999.00,9,   -999.0,1,-999.000,9,   -999.0,9,   -999.0,9,  -999.00,9,42066.0,-999.0000,-999.000,-999.000,  1.4461,-999.000
   318MWESTW_4,  P21E,    62,  1,      2, SI9302,2,19940416,0143,-16.7500, -93.3362, 4282,   4263.5,   1.8028,  34.6902,2,  34.6897,2,    153.0,2,    152.3,2,   129.89,2,    35.84,2,     0.00,2,     2.49,2, -999.000,9, -999.000,9, -999.000,1,-999.0000,1,  -999.00,9,   -999.0,1,-999.000,9,   -999.0,9,   -999.0,9,  -999.00,9,42641.7,-999.0000,-999.000,-999.000,  1.4457,-999.000
   318MWESTW_4,  P21E,    62,  1,      1, SI9301,2,19940416,0143,-16.7500, -93.3362, 4282,   4304.8,   1.8076,  34.6900,2,  34.6895,2,    151.2,2,    152.1,2,   129.74,2,    35.74,2,     0.01,2,     2.49,2, -999.000,9, -999.000,9, -999.000,1,-999.0000,1,  -999.00,9,   -999.0,1,-999.000,9,   -999.0,9,   -999.0,9,  -999.00,9,43054.7,-999.0000,-999.000,-999.000,  1.4457,-999.000