BOTTLE,20010911WHPSIOdm
EXPOCODE,SECT_ID,STNNBR,CASTNO,SAMPNO,BTLNBR,BTLNBR_FLAG_W,DATE,TIME,LATITUDE,LONGITUDE,DEPTH,CTDPRS,CTDTMP,CTDSAL,CTDSAL_FLAG_W,SALNTY,SALNTY_FLAG_W,CTDOXY,CTDOXY_FLAG_W,OXYGEN,OXYGEN_FLAG_W,SILCAT,SILCAT_FLAG_W,NITRAT,NITRAT_FLAG_W,NITRIT,NITRIT_FLAG_W,PHSPHT,PHSPHT_FLAG_W,CFC-11,CFC-11_FLAG_W,CFC-12,CFC-12_FLAG_W,TRITUM,TRITUM_FLAG_W,HELIUM,HELIUM_FLAG_W,DELHE3,DELHE3_FLAG_W,DELC14,DELC14_FLAG_W,NEON,NEON_FLAG_W,TCARBN,TCARBN_FLAG_W,ALKALI,ALKALI_FLAG_W,PH,PH_FLAG_W,CTDRAW,HELIER,DELHER,NEONER,THETA,TRITER
,,,,,,,,,,,,DBAR,ITS-90,PSS-78,,PSS-78,,UMOL/KG,,UMOL/KG,,UMOL/KG,,UMOL/KG,,UMOL/KG,,UMOL/KG,,PMOL/KG,,PMOL/KG,,TU,,UMOL/KG,,PERCNT,,/MILLE,,NMOL/KG,,UMOL/KG,,UMOL/KG,,,,,NMOL/KG,PERCNT,NMOL/KG,ITS-90,TU
   318MWESTW_4,  P21E,    97,  1,     36, SI9336,2,19940426,1045,-16.7500,-111.3333, 3457,      7.2,  25.8855,  36.3632,2,  36.3600,2,    211.7,2,    211.0,2,     0.62,2,    -0.03,2,     0.01,2,     0.27,2,    1.758,2,    0.992,2, -999.000,1,-999.0000,1,  -999.00,9,   -999.0,1,-999.000,9,   2037.8,2,   2399.0,2,     8.09,2,  115.5,-999.0000,-999.000,-999.000, 25.8839,-999.000
   318MWESTW_4,  P21E,    97,  1,     35, SI9335,2,19940426,1045,-16.7500,-111.3333, 3457,     22.2,  25.8696,  36.3619,2,  36.3596,2,    216.2,2,    209.9,2,     0.64,2,    -0.03,2,     0.01,2,     0.27,2,    1.779,2,    1.001,2, -999.000,1,-999.0000,1,  -999.00,9,   -999.0,1,-999.000,9,   2037.8,2,   2399.0,2,     8.09,2,  265.3,-999.0000,-999.000,-999.000, 25.8646,-999.000
   318MWESTW_4,  P21E,    97,  1,     34, SI9334,2,19940426,1045,-16.7500,-111.3333, 3457,     48.7,  25.8863,  36.4082,2,  36.3606,2,    212.1,2,    212.2,2,     0.65,2,     0.02,2,     0.01,2,     0.26,2,    1.770,2,    1.001,2, -999.000,1,-999.0000,1,  -999.00,9,   -999.0,1,-999.000,9,   2037.8,2,   2398.0,2,     8.09,2,  530.6,-999.0000,-999.000,-999.000, 25.8754,-999.000
   318MWESTW_4,  P21E,    97,  1,     33, SI9333,2,19940426,1045,-16.7500,-111.3333, 3457,     97.6,  23.8653,  36.4471,2,  36.4439,2,    222.0,2,    221.6,2,     0.51,2,    -0.01,2,    -0.01,2,     0.27,2,    1.965,2,    1.087,2, -999.000,1,-999.0000,1,  -999.00,9,   -999.0,1,-999.000,9,   2064.8,2,   2404.0,2,     8.05,2, 1019.3,-999.0000,-999.000,-999.000, 23.8447,-999.000
   318MWESTW_4,  P21E,    97,  1,     32, SI9332,2,19940426,1045,-16.7500,-111.3333, 3457,    148.8,  22.2678,  36.2846,2,  36.2527,2,    205.8,2,    206.3,2,     0.53,2,     0.14,2,     0.31,2,     0.31,2,    2.013,2,    1.111,2, -999.000,1,-999.0000,1,  -999.00,9,   -999.0,1,-999.000,9,   2073.8,2,   2388.0,2,     8.02,2, 1531.5,-999.0000,-999.000,-999.000, 22.2379,-999.000
   318MWESTW_4,  P21E,    97,  1,     31, SI9331,2,19940426,1045,-16.7500,-111.3333, 3457,    200.3,  20.4929,  35.8437,2,  35.8629,2,    199.5,2,    204.6,2,     0.54,2,     0.87,2,     0.21,2,     0.36,2,    2.186,2,    1.180,2, -999.000,1,-999.0000,1,  -999.00,9,   -999.0,1,-999.000,9,   2073.8,2,   2364.0,2,     7.99,2, 2045.9,-999.0000,-999.000,-999.000, 20.4550,-999.000
   318MWESTW_4,  P21E,    97,  1,     30, SI9330,2,19940426,1045,-16.7500,-111.3333, 3457,    255.3,  17.1886,  35.1955,2,  35.2595,2,    185.8,2,    187.3,2,     1.37,2,     4.90,2,    -0.01,2,     0.63,2,    2.156,2,    1.139,2, -999.000,1,-999.0000,1,  -999.00,9,   -999.0,1,-999.000,9,   2105.8,2,   2296.0,2,     7.82,2, 2595.5,-999.0000,-999.000,-999.000, 17.1460,-999.000
   318MWESTW_4,  P21E,    97,  1,     29, SI9329,2,19940426,1045,-16.7500,-111.3333, 3457,    306.3,  13.6950,  34.7358,3,  34.8233,2,    166.2,2,    169.7,2,     3.66,2,    10.58,2,    -0.01,2,     1.00,2,    1.693,2,    0.873,2, -999.000,1,-999.0000,1,  -999.00,9,   -999.0,1,-999.000,9,   2167.9,2,   2285.0,2,     7.65,2, 3105.1,-999.0000,-999.000,-999.000, 13.6513,-999.000
   318MWESTW_4,  P21E,    97,  1,     28, SI9328,2,19940426,1045,-16.7500,-111.3333, 3457,    348.5,  11.2446,  34.5496,3,  34.5848,2,    110.8,2,    118.2,2,    10.50,2,    19.72,2,     0.01,2,     1.71,2,    0.977,2,    0.494,2, -999.000,1,-999.0000,1,  -999.00,9,   -999.0,1,-999.000,9,   2234.9,2,   2288.0,2,     7.47,2, 3526.8,-999.0000,-999.000,-999.000, 11.2009,-999.000
   318MWESTW_4,  P21E,    97,  1,     27, SI9327,2,19940426,1045,-16.7500,-111.3333, 3457,    422.7,   8.7121,  34.5070,2,  34.5044,2,     68.8,2,     68.3,2,    21.09,2,    32.13,2,    -0.01,2,     2.43,2,    0.201,2,    0.105,2, -999.000,1,-999.0000,1,  -999.00,9,   -999.0,1,-999.000,9,   2235.9,2,   2289.0,2,     7.47,2, 4267.6,-999.0000,-999.000,-999.000,  8.6668,-999.000
   318MWESTW_4,  P21E,    97,  1,     26, SI9326,2,19940426,1045,-16.7500,-111.3333, 3457,    501.8,   7.2479,  34.4737,2,  34.4736,2,     85.0,2,     86.2,2,    25.66,2,    35.37,2,    -0.01,2,     2.46,2,    0.055,2,    0.035,2, -999.000,1,-999.0000,1,  -999.00,9,   -999.0,1,-999.000,9,   2234.9,2,   2293.0,2,     7.48,2, 5057.5,-999.0000,-999.000,-999.000,  7.1993,-999.000
   318MWESTW_4,  P21E,    97,  1,     25, SI9325,2,19940426,1045,-16.7500,-111.3333, 3457,    595.7,   6.3844,  34.4705,2,  34.4736,2,     89.8,2,     87.3,2,    33.96,2,    37.53,2,     0.00,2,     2.57,2,    0.009,2,    0.006,2, -999.000,1,-999.0000,1,  -999.00,9,   -999.0,1,-999.000,9,   2245.9,2,   2301.0,2,     7.47,2, 5995.4,-999.0000,-999.000,-999.000,  6.3302,-999.000
   318MWESTW_4,  P21E,    97,  1,     24, SI9324,2,19940426,1045,-16.7500,-111.3333, 3457,    674.6,   5.7212,  34.4677,2,  34.4689,2,     83.3,2,     83.1,2,    42.44,2,    39.39,2,     0.00,2,     2.70,2,   -0.001,2,    0.002,2, -999.000,1,-999.0000,1,  -999.00,9,   -999.0,1,-999.000,9,   2258.9,2,   2308.0,2,     7.46,2, 6784.2,-999.0000,-999.000,-999.000,  5.6629,-999.000
   318MWESTW_4,  P21E,    97,  1,     23, SI9323,2,19940426,1045,-16.7500,-111.3333, 3457,    799.5,   5.0774,  34.4891,2,  34.4903,2,     80.2,2,     79.1,2,    56.43,2,    40.75,2,     0.00,2,     2.81,2,   -0.003,2,    0.000,2, -999.000,1,-999.0000,1,  -999.00,9,   -999.0,1,-999.000,9,   2277.0,2,   2324.0,2,     7.44,2, 8031.6,-999.0000,-999.000,-999.000,  5.0115,-999.000
   318MWESTW_4,  P21E,    97,  1,     22, SI9322,2,19940426,1045,-16.7500,-111.3333, 3457,    903.5,   4.6871,  34.5020,2,  34.5040,2,     83.7,2,     82.9,2,    64.90,2,    40.71,2,     0.00,2,     2.82,2,   -0.002,2,    0.001,2, -999.000,1,-999.0000,1,  -999.00,9,   -999.0,1,-999.000,9,   2284.0,2,   2333.0,2,     7.46,2, 9070.2,-999.0000,-999.000,-999.000,  4.6146,-999.000
   318MWESTW_4,  P21E,    97,  1,     21, SI9321,2,19940426,1045,-16.7500,-111.3333, 3457,   1000.0,   4.3606,  34.5205,2,  34.5201,2,     77.9,2,     77.9,2,    74.02,2,    41.50,2,     0.00,2,     2.88,2,   -0.001,2,    0.001,2, -999.000,1,-999.0000,1,  -999.00,9,   -999.0,1,-999.000,9,   2298.0,2,   2345.0,2,     7.44,2,10034.5,-999.0000,-999.000,-999.000,  4.2821,-999.000
   318MWESTW_4,  P21E,    97,  1,     20, SI9320,2,19940426,1045,-16.7500,-111.3333, 3457,   1096.6,   4.0175,  34.5360,2,  34.5349,2,     79.3,2,     79.7,2,    82.32,2,    41.39,2,     0.00,2,     2.89,2, -999.000,9, -999.000,9, -999.000,1,-999.0000,1,  -999.00,9,   -999.0,1,-999.000,9,   2306.0,2,   2351.0,2,     7.45,2,10999.1,-999.0000,-999.000,-999.000,  3.9335,-999.000
   318MWESTW_4,  P21E,    97,  1,     19, SI9319,2,19940426,1045,-16.7500,-111.3333, 3457,   1201.8,   3.6646,  34.5512,2,  34.5516,2,     85.4,2,     85.1,2,    91.11,2,    40.97,2,     0.00,2,     2.86,2, -999.000,9, -999.000,9, -999.000,1,-999.0000,1,  -999.00,9,   -999.0,1,-999.000,9,   2312.0,2,   2365.0,2,     7.45,2,12049.6,-999.0000,-999.000,-999.000,  3.5749,-999.000
   318MWESTW_4,  P21E,    97,  1,     18, SI9318,2,19940426,1045,-16.7500,-111.3333, 3457,   1303.8,   3.4009,  34.5637,2,  34.5647,2,     89.0,2,     89.1,2,    97.62,2,    40.64,2,     0.00,2,     2.85,2, -999.000,9, -999.000,9, -999.000,1,-999.0000,1,  -999.00,9,   -999.0,1,-999.000,9,   2317.0,2,   2368.0,2,     7.47,2,13068.4,-999.0000,-999.000,-999.000,  3.3051,-999.000
   318MWESTW_4,  P21E,    97,  1,     17, SI9317,2,19940426,1045,-16.7500,-111.3333, 3457,   1401.0,   3.1544,  34.5774,2,  34.5783,2,     92.9,2,     93.5,2,   103.65,2,    40.33,2,     0.00,2,     2.82,2, -999.000,9, -999.000,9, -999.000,1,-999.0000,1,  -999.00,9,   -999.0,1,-999.000,9,   2320.0,2,   2377.0,2,     7.47,2,14039.5,-999.0000,-999.000,-999.000,  3.0531,-999.000
   318MWESTW_4,  P21E,    97,  1,     16, SI9316,2,19940426,1045,-16.7500,-111.3333, 3457,   1503.5,   2.9280,  34.5909,2,  34.5918,2,     97.3,2,     98.1,2,   109.35,2,    40.01,2,     0.00,2,     2.80,2, -999.000,9, -999.000,9, -999.000,1,-999.0000,1,  -999.00,9,   -999.0,1,-999.000,9,   2325.0,2,   2380.0,2,     7.48,2,15063.3,-999.0000,-999.000,-999.000,  2.8207,-999.000
   318MWESTW_4,  P21E,    97,  1,     15, SI9315,2,19940426,1045,-16.7500,-111.3333, 3457,   1608.3,   2.7460,  34.6032,2,  34.6038,2,    101.5,2,    102.6,2,   114.07,2,    39.69,2,     0.00,2,     2.77,2, -999.000,9, -999.000,9, -999.000,1,-999.0000,1,  -999.00,9,   -999.0,1,-999.000,9,   2326.0,2,   2392.0,2,     7.48,2,16110.2,-999.0000,-999.000,-999.000,  2.6321,-999.000
   318MWESTW_4,  P21E,    97,  1,     14, SI9314,2,19940426,1045,-16.7500,-111.3333, 3457,   1698.0,   2.5930,  34.6124,2,  34.6134,2,    106.4,2,    107.9,2,   117.50,2,    39.22,2,    -0.01,2,     2.74,2, -999.000,9, -999.000,9, -999.000,1,-999.0000,1,  -999.00,9,   -999.0,1,-999.000,9,   2325.0,2,   2393.0,2,     7.51,2,17006.8,-999.0000,-999.000,-999.000,  2.4735,-999.000
   318MWESTW_4,  P21E,    97,  1,     13, SI9313,2,19940426,1045,-16.7500,-111.3333, 3457,   1797.9,   2.4213,  34.6237,2,  34.6238,2,    114.9,2,    124.9,4,   119.30,2,    38.47,2,    -0.01,2,     2.67,2, -999.000,9, -999.000,9, -999.000,1,-999.0000,1,  -999.00,9,   -999.0,1,-999.000,9,   2314.0,2,   2395.0,2,     7.54,2,18004.5,-999.0000,-999.000,-999.000,  2.2957,-999.000
   318MWESTW_4,  P21E,    97,  1,     12, SI9312,2,19940426,1045,-16.7500,-111.3333, 3457,   1952.5,   2.1870,  34.6354,2,  34.6360,2,    129.9,2,    134.4,2,   118.98,2,    37.03,2,     0.01,2,     2.54,2, -999.000,9, -999.000,9, -999.000,1,-999.0000,1,  -999.00,9,   -999.0,1,-999.000,9,   2314.0,2,   2394.0,2,     7.54,2,19549.6,-999.0000,-999.000,-999.000,  2.0517,-999.000
   318MWESTW_4,  P21E,    97,  1,     11, SI9311,2,19940426,1045,-16.7500,-111.3333, 3457,   2101.4,   2.0186,  34.6465,2,  34.6470,2,    148.2,2,    149.9,2,   117.53,2,    35.81,2,     0.00,2,     2.46,2, -999.000,9, -999.000,9, -999.000,1,-999.0000,1,  -999.00,9,   -999.0,1,-999.000,9,   2306.0,2,   2392.0,2,     7.57,2,21037.1,-999.0000,-999.000,-999.000,  1.8732,-999.000
   318MWESTW_4,  P21E,    97,  1,     10, SI9310,2,19940426,1045,-16.7500,-111.3333, 3457,   2255.7,   1.9066,  34.6592,2,  34.6608,2,    154.4,2,    154.7,2,   119.16,2,    35.33,2,     0.00,2,     2.41,2, -999.000,9, -999.000,9, -999.000,1,-999.0000,1,  -999.00,9,   -999.0,1,-999.000,9,   2304.0,2,   2396.0,2,     7.57,2,22578.3,-999.0000,-999.000,-999.000,  1.7497,-999.000
   318MWESTW_4,  P21E,    97,  1,      9, SI9309,2,19940426,1045,-16.7500,-111.3333, 3457,   2406.6,   1.8449,  34.6684,2,  34.6684,2,    155.7,2,    155.0,2,   122.59,2,    35.43,2,     0.01,2,     2.42,2, -999.000,9, -999.000,9, -999.000,1,-999.0000,1,  -999.00,9,   -999.0,1,-999.000,9,   2309.0,2,   2401.0,2,     7.58,2,24086.7,-999.0000,-999.000,-999.000,  1.6758,-999.000
   318MWESTW_4,  P21E,    97,  1,      8, SI9308,2,19940426,1045,-16.7500,-111.3333, 3457,   2550.0,   1.8253,  34.6744,2,  34.6745,2,    154.3,2,    153.6,2,   125.52,2,    35.48,2,     0.01,2,     2.42,2, -999.000,9, -999.000,9, -999.000,1,-999.0000,1,  -999.00,9,   -999.0,1,-999.000,9,   2313.0,2,   2407.0,2,     7.57,2,25518.7,-999.0000,-999.000,-999.000,  1.6437,-999.000
   318MWESTW_4,  P21E,    97,  1,      7, SI9307,2,19940426,1045,-16.7500,-111.3333, 3457,   2705.2,   1.8162,  34.6783,2,  34.6781,2,    150.5,2,    149.4,2,   130.08,2,    35.92,2,     0.00,2,     2.44,2, -999.000,9, -999.000,9, -999.000,1,-999.0000,1,  -999.00,9,   -999.0,1,-999.000,9,   2321.0,2,   2415.0,2,     7.58,2,27070.0,-999.0000,-999.000,-999.000,  1.6205,-999.000
   318MWESTW_4,  P21E,    97,  1,      6, SI9306,2,19940426,1045,-16.7500,-111.3333, 3457,   2859.6,   1.8188,  34.6792,2,  34.6785,2,    145.9,2,    145.1,2,   134.47,2,    36.23,2,     0.00,2,     2.47,2, -999.000,9, -999.000,9, -999.000,1,-999.0000,1,  -999.00,9,   -999.0,1,-999.000,9,   2328.0,2,   2423.0,2,     7.57,2,28612.7,-999.0000,-999.000,-999.000,  1.6085,-999.000
   318MWESTW_4,  P21E,    97,  1,      5, SI9305,2,19940426,1045,-16.7500,-111.3333, 3457,   3005.3,   1.8266,  34.6793,2,  34.6783,2,    143.1,2,    142.8,2,   137.08,2,    36.50,2,     0.00,2,     2.48,2, -999.000,9, -999.000,9, -999.000,1,-999.0000,1,  -999.00,9,   -999.0,1,-999.000,9,   -999.0,9,   -999.0,9,  -999.00,9,30069.2,-999.0000,-999.000,-999.000,  1.6021,-999.000
   318MWESTW_4,  P21E,    97,  1,      4, SI9304,2,19940426,1045,-16.7500,-111.3333, 3457,   3151.0,   1.8378,  34.6795,2,  34.6793,2,    143.3,2,    142.7,2,   136.94,2,    36.39,2,     0.00,2,     2.48,2, -999.000,9, -999.000,9, -999.000,1,-999.0000,1,  -999.00,9,   -999.0,1,-999.000,9,   2332.0,2,   2426.0,2,     7.57,2,31524.7,-999.0000,-999.000,-999.000,  1.5987,-999.000
   318MWESTW_4,  P21E,    97,  1,      3, SI9303,2,19940426,1045,-16.7500,-111.3333, 3457,   3301.1,   1.8496,  34.6803,2,  34.6804,2,    144.3,2,    143.2,2,   136.29,2,    36.39,2,     0.00,2,     2.48,2, -999.000,9, -999.000,9, -999.000,1,-999.0000,1,  -999.00,9,   -999.0,1,-999.000,9,   2331.0,2,   2422.0,2,     7.57,2,33024.6,-999.0000,-999.000,-999.000,  1.5952,-999.000
   318MWESTW_4,  P21E,    97,  1,      2, SI9302,2,19940426,1045,-16.7500,-111.3333, 3457,   3440.1,   1.8574,  34.6815,2,  34.6798,2,    145.3,2,    145.5,2,   134.03,2,    36.23,2,     0.00,2,     2.46,2, -999.000,9, -999.000,9, -999.000,1,-999.0000,1,  -999.00,9,   -999.0,1,-999.000,9,   2327.0,2,   2422.0,2,     7.57,2,34414.4,-999.0000,-999.000,-999.000,  1.5885,-999.000
   318MWESTW_4,  P21E,    97,  1,      1, SI9301,2,19940426,1045,-16.7500,-111.3333, 3457,   3482.7,   1.8608,  34.6821,2,  34.6816,2,    144.2,2,    145.7,2,   133.94,2,    36.14,2,     0.01,2,     2.47,2, -999.000,9, -999.000,9, -999.000,1,-999.0000,1,  -999.00,9,   -999.0,1,-999.000,9,   2327.0,2,   2423.0,2,     7.58,2,34840.0,-999.0000,-999.000,-999.000,  1.5874,-999.000