BOTTLE,20010911WHPSIOdm
EXPOCODE,SECT_ID,STNNBR,CASTNO,SAMPNO,BTLNBR,BTLNBR_FLAG_W,DATE,TIME,LATITUDE,LONGITUDE,DEPTH,CTDPRS,CTDTMP,CTDSAL,CTDSAL_FLAG_W,SALNTY,SALNTY_FLAG_W,CTDOXY,CTDOXY_FLAG_W,OXYGEN,OXYGEN_FLAG_W,SILCAT,SILCAT_FLAG_W,NITRAT,NITRAT_FLAG_W,NITRIT,NITRIT_FLAG_W,PHSPHT,PHSPHT_FLAG_W,CFC-11,CFC-11_FLAG_W,CFC-12,CFC-12_FLAG_W,TRITUM,TRITUM_FLAG_W,HELIUM,HELIUM_FLAG_W,DELHE3,DELHE3_FLAG_W,DELC14,DELC14_FLAG_W,NEON,NEON_FLAG_W,TCARBN,TCARBN_FLAG_W,ALKALI,ALKALI_FLAG_W,PH,PH_FLAG_W,CTDRAW,HELIER,DELHER,NEONER,THETA,TRITER
,,,,,,,,,,,,DBAR,ITS-90,PSS-78,,PSS-78,,UMOL/KG,,UMOL/KG,,UMOL/KG,,UMOL/KG,,UMOL/KG,,UMOL/KG,,PMOL/KG,,PMOL/KG,,TU,,UMOL/KG,,PERCNT,,/MILLE,,NMOL/KG,,UMOL/KG,,UMOL/KG,,,,,NMOL/KG,PERCNT,NMOL/KG,ITS-90,TU
   318MWESTW_5,  P21W,   195,  1,     36, SI9442,2,19940530,1809,-17.5000,-169.6667, 4955,      7.8,  26.7256,  35.3975,2,  35.3969,2,    200.0,2,    206.6,2,     0.84,2,     0.05,2,     0.00,2,     0.15,2,    1.691,2,    0.950,2, -999.000,1,-999.0000,1,  -999.00,9,   -999.0,1,-999.000,9,   1952.6,2,   2326.0,2,     8.14,2,  136.8,-999.0000,-999.000,-999.000, 26.7238,-999.000
   318MWESTW_5,  P21W,   195,  1,     35, SI9435,2,19940530,1809,-17.5000,-169.6667, 4955,     27.9,  26.7320,  35.3999,2,  35.3985,2,    207.1,2,    206.9,2,     0.85,2,     0.05,2,     0.00,2,     0.15,2,    1.693,2,    0.961,2, -999.000,1,-999.0000,1,  -999.00,9,   -999.0,1,-999.000,9,   1952.4,2,   2328.9,2,     8.14,2,  338.0,-999.0000,-999.000,-999.000, 26.7256,-999.000
   318MWESTW_5,  P21W,   195,  1,     34, SI9441,2,19940530,1809,-17.5000,-169.6667, 4955,     52.7,  26.7359,  35.4000,2,  35.3983,2,    208.5,2,    208.1,2,     0.87,2,     0.00,2,     0.00,2,     0.15,2,    1.720,2,    0.959,2, -999.000,1,-999.0000,1,  -999.00,9,   -999.0,1,-999.000,9,   1953.0,2,   2326.2,2,     8.14,2,  585.5,-999.0000,-999.000,-999.000, 26.7239,-999.000
   318MWESTW_5,  P21W,   195,  1,     33, SI9433,2,19940530,1809,-17.5000,-169.6667, 4955,     98.6,  24.3060,  35.7170,2,  35.7114,2,    207.1,2,    210.2,2,     0.72,2,     0.00,2,     0.00,2,     0.18,2,    1.895,6,    1.032,6, -999.000,1,-999.0000,1,  -999.00,9,   -999.0,1,-999.000,9,   2000.3,2,   2343.5,2,     8.11,2, 1042.3,-999.0000,-999.000,-999.000, 24.2850,-999.000
   318MWESTW_5,  P21W,   195,  1,     32, SI9432,2,19940530,1809,-17.5000,-169.6667, 4955,    143.4,  22.2951,  35.7719,2,  35.7699,2,    189.4,2,    192.2,2,     0.74,2,     1.31,2,     0.02,2,     0.27,2,    1.977,2,    1.080,2, -999.000,1,-999.0000,1,  -999.00,9,   -999.0,1,-999.000,9,   2027.3,2,   2345.7,2,     8.05,2, 1488.7,-999.0000,-999.000,-999.000, 22.2664,-999.000
   318MWESTW_5,  P21W,   195,  1,     31, SI9431,2,19940530,1809,-17.5000,-169.6667, 4955,    195.5,  20.6675,  35.7512,2,  35.7489,2,    181.4,2,    183.0,2,     0.91,2,     2.83,2,     0.00,2,     0.36,2,    1.981,2,    1.053,2, -999.000,1,-999.0000,1,  -999.00,9,   -999.0,1,-999.000,9,   2052.6,2,   2344.6,2,     8.00,2, 2007.5,-999.0000,-999.000,-999.000, 20.6303,-999.000
   318MWESTW_5,  P21W,   195,  1,     30, SI9440,2,19940530,1809,-17.5000,-169.6667, 4955,    245.2,  18.4828,  35.5791,2,  35.5719,2,    186.3,2,    185.5,2,     1.24,2,     4.13,2,     0.01,2,     0.46,2,    1.931,2,    1.027,2, -999.000,1,-999.0000,1,  -999.00,9,   -999.0,1,-999.000,9,   2065.1,2,   2332.0,2,     7.95,2, 2502.8,-999.0000,-999.000,-999.000, 18.4397,-999.000
   318MWESTW_5,  P21W,   195,  1,     29, SI9429,2,19940530,1809,-17.5000,-169.6667, 4955,    295.7,  16.3316,  35.3654,2,  35.3581,2,    189.0,2,    184.7,2,     2.20,2,     6.65,2,     0.01,2,     0.64,2,    1.762,2,    0.917,2, -999.000,1,-999.0000,1,  -999.00,9,   -999.0,1,-999.000,9,   2082.4,2,   2320.0,2,     7.91,2, 3004.7,-999.0000,-999.000,-999.000, 16.2839,-999.000
   318MWESTW_5,  P21W,   195,  1,     28, SI9428,2,19940530,1809,-17.5000,-169.6667, 4955,    341.8,  14.0114,  35.0671,2,  35.0449,2,    177.8,2,    160.6,2,     5.67,2,    13.13,2,     0.00,2,     1.11,2,    1.216,2,    0.636,2, -999.000,1,-999.0000,1,  -999.00,9,   -999.0,1,-999.000,9,   2119.0,2,   2307.1,2,     7.77,2, 3464.1,-999.0000,-999.000,-999.000, 13.9617,-999.000
   318MWESTW_5,  P21W,   195,  1,     27, SI9424,2,19940530,1809,-17.5000,-169.6667, 4955,    393.2,  11.1525,  34.7375,2,  34.7376,2,    143.5,2,    135.2,2,    11.65,2,    20.70,2,     0.00,2,     1.63,2,    0.632,2,    0.324,2, -999.000,1,-999.0000,1,  -999.00,9,   -999.0,1,-999.000,9,   2159.6,2,   2297.1,2,     7.66,2, 3975.3,-999.0000,-999.000,-999.000, 11.1033,-999.000
   318MWESTW_5,  P21W,   195,  1,     26, SI9414,2,19940530,1809,-17.5000,-169.6667, 4955,    500.0,   7.9644,  34.4859,2,  34.4828,2,    166.0,2,    177.7,2,    13.87,2,    24.65,2,     0.00,2,     1.79,2,    0.418,2,    0.224,2, -999.000,1,-999.0000,1,  -999.00,9,   -999.0,1,-999.000,9,   2163.4,2,   2287.1,2,     7.62,2, 5037.2,-999.0000,-999.000,-999.000,  7.9133,-999.000
   318MWESTW_5,  P21W,   195,  1,     25, SI9425,2,19940530,1809,-17.5000,-169.6667, 4955,    600.8,   6.2714,  34.4027,2,  34.4002,2,    178.5,2,    180.5,2,    22.06,2,    28.64,2,     0.01,2,     2.01,2,    0.134,2,    0.079,2, -999.000,1,-999.0000,1,  -999.00,9,   -999.0,1,-999.000,9,   2180.2,2,   2292.4,2,     7.59,2, 6039.7,-999.0000,-999.000,-999.000,  6.2173,-999.000
   318MWESTW_5,  P21W,   195,  1,     24, SI9434,2,19940530,1809,-17.5000,-169.6667, 4955,    699.4,   5.5461,  34.4088,2,  34.4080,2,    170.7,2,    170.2,2,    31.97,2,    31.02,2,     0.00,2,     2.17,2,    0.044,2,    0.030,2, -999.000,1,-999.0000,1,  -999.00,9,   -999.0,1,-999.000,9,   2196.6,2,   2300.8,2,     7.56,2, 7020.0,-999.0000,-999.000,-999.000,  5.4865,-999.000
   318MWESTW_5,  P21W,   195,  1,     23, SI9423,2,19940530,1809,-17.5000,-169.6667, 4955,    797.3,   4.7967,  34.4069,2,  34.4053,2,    165.6,2,    168.3,2,    40.94,2,    32.65,2,     0.00,2,     2.27,2,    0.019,2,    0.010,2, -999.000,1,-999.0000,1,  -999.00,9,   -999.0,1,-999.000,9,   2212.6,2,   2310.6,2,     7.92,4, 7993.7,-999.0000,-999.000,-999.000,  4.7328,-999.000
   318MWESTW_5,  P21W,   195,  1,     22, SI9418,2,19940530,1809,-17.5000,-169.6667, 4955,    895.9,   4.0768,  34.4367,2,  34.4347,2,    162.6,2,    163.6,2,    53.68,2,    33.96,2,     0.00,2,     2.36,2,    0.002,2,    0.002,2, -999.000,1,-999.0000,1,  -999.00,9,   -999.0,1,-999.000,9,   2232.9,2,   2323.8,2,     7.57,2, 8973.3,-999.0000,-999.000,-999.000,  4.0093,-999.000
   318MWESTW_5,  P21W,   195,  1,     21, SI9421,2,19940530,1809,-17.5000,-169.6667, 4955,    998.6,   3.5259,  34.4837,2,  34.4822,2,    158.3,2,    159.5,2,    67.99,2,    34.70,2,     0.00,2,     2.42,2,    0.000,2,    0.000,2, -999.000,1,-999.0000,1,  -999.00,9,   -999.0,1,-999.000,9,   2266.5,2,   2338.1,2,     7.56,2, 9995.3,-999.0000,-999.000,-999.000,  3.4541,-999.000
   318MWESTW_5,  P21W,   195,  1,     20, SI9420,2,19940530,1809,-17.5000,-169.6667, 4955,   1096.3,   3.2652,  34.5306,2,  34.5288,2,    154.6,2,    150.1,2,    80.72,2,    35.39,2,     0.01,2,     2.48,2, -999.000,9, -999.000,9, -999.000,1,-999.0000,1,  -999.00,9,   -999.0,1,-999.000,9,   2266.9,2,   2353.5,2,     7.54,2,10966.1,-999.0000,-999.000,-999.000,  3.1876,-999.000
   318MWESTW_5,  P21W,   195,  1,     19, SI9419,2,19940530,1809,-17.5000,-169.6667, 4955,   1187.5,   3.1081,  34.5519,2,  34.5504,2,    145.6,2,    147.0,2,    87.80,2,    35.69,2,     0.00,2,     2.50,2, -999.000,9, -999.000,9, -999.000,1,-999.0000,1,  -999.00,9,   -999.0,1,-999.000,9,   2272.2,2,   2359.9,2,     7.55,2,11872.5,-999.0000,-999.000,-999.000,  3.0246,-999.000
   318MWESTW_5,  P21W,   195,  1,     18, SI9439,2,19940530,1809,-17.5000,-169.6667, 4955,   1292.2,   2.9290,  34.5688,2,  34.5673,2,    148.0,2,    146.4,2,    93.47,2,    35.78,2,     0.00,2,     2.50,2, -999.000,9, -999.000,9, -999.000,1,-999.0000,1,  -999.00,9,   -999.0,1,-999.000,9,   2281.1,2,   2368.2,2,     7.54,2,12914.3,-999.0000,-999.000,-999.000,  2.8389,-999.000
   318MWESTW_5,  P21W,   195,  1,     17, SI9417,2,19940530,1809,-17.5000,-169.6667, 4955,   1395.1,   2.7768,  34.5795,2,  34.5783,2,    145.7,2,    147.7,2,    97.24,2,    35.75,2,     0.00,2,     2.50,2, -999.000,9, -999.000,9, -999.000,1,-999.0000,1,  -999.00,9,   -999.0,1,-999.000,9,   2285.5,2,   2370.8,2,     7.55,2,13936.5,-999.0000,-999.000,-999.000,  2.6800,-999.000
   318MWESTW_5,  P21W,   195,  1,     16, SI9416,2,19940530,1809,-17.5000,-169.6667, 4955,   1498.6,   2.6299,  34.5942,2,  34.5938,2,    146.6,2,    147.6,2,   102.43,2,    35.80,2,     0.00,2,     2.50,2, -999.000,9, -999.000,9, -999.000,1,-999.0000,1,  -999.00,9,   -999.0,1,-999.000,9,   2289.8,2,   2376.6,2,     7.55,2,14966.4,-999.0000,-999.000,-999.000,  2.5264,-999.000
   318MWESTW_5,  P21W,   195,  1,     15, SI9415,2,19940530,1809,-17.5000,-169.6667, 4955,   1745.8,   2.3885,  34.6161,2,  34.6152,2,    146.2,2,    147.6,2,   110.44,2,    35.83,2,     0.01,2,     2.50,2, -999.000,9, -999.000,9, -999.000,1,-999.0000,1,  -999.00,9,   -999.0,1,-999.000,9,   2298.9,2,   2386.9,2,     7.57,2,17423.8,-999.0000,-999.000,-999.000,  2.2677,-999.000
   318MWESTW_5,  P21W,   195,  1,     14, SI9436,2,19940530,1809,-17.5000,-169.6667, 4955,   1997.9,   2.1815,  34.6340,2,  34.6333,2,    147.0,2,    148.5,2,   116.74,2,    35.93,2,     0.00,2,     2.50,2, -999.000,9, -999.000,9, -999.000,1,-999.0000,1,  -999.00,9,   -999.0,1,-999.000,9,   2304.5,2,   2392.9,2,     7.56,2,19930.3,-999.0000,-999.000,-999.000,  2.0425,-999.000
   318MWESTW_5,  P21W,   195,  1,     13, SI9413,2,19940530,1809,-17.5000,-169.6667, 4955,   2239.7,   2.0320,  34.6467,2,  34.6455,2,    148.2,2,    148.5,2,   122.08,2,    35.90,2,     0.00,2,     2.50,2, -999.000,9, -999.000,9, -999.000,1,-999.0000,1,  -999.00,9,   -999.0,1,-999.000,9,   2307.9,2,   2402.5,2,     7.58,2,22334.1,-999.0000,-999.000,-999.000,  1.8744,-999.000
   318MWESTW_5,  P21W,   195,  1,     12, SI9438,2,19940530,1809,-17.5000,-169.6667, 4955,   2486.9,   1.9197,  34.6573,2,  34.6565,2,    147.4,2,    149.0,2,   126.64,2,    35.91,2,     0.00,2,     2.51,2,   -0.001,2,    0.000,2, -999.000,1,-999.0000,1,  -999.00,9,   -999.0,1,-999.000,9,   2312.3,2,   2407.9,2,     7.57,2,24791.2,-999.0000,-999.000,-999.000,  1.7421,-999.000
   318MWESTW_5,  P21W,   195,  1,     11, SI9411,2,19940530,1809,-17.5000,-169.6667, 4955,   2735.2,   1.8399,  34.6644,2,  34.6631,2,    149.8,2,    150.5,2,   129.94,2,    35.79,2,     0.00,2,     2.50,2, -999.000,9, -999.000,9, -999.000,1,-999.0000,1,  -999.00,9,   -999.0,1,-999.000,9,   2315.8,2,   2404.3,2,     7.56,2,27260.1,-999.0000,-999.000,-999.000,  1.6410,-999.000
   318MWESTW_5,  P21W,   195,  1,     10, SI9412,2,19940530,1809,-17.5000,-169.6667, 4955,   2978.2,   1.7648,  34.6702,2,  34.6696,2,    151.1,2,    151.7,2,   132.30,2,    35.72,2,     0.00,2,     2.49,2, -999.000,9, -999.000,9, -999.000,1,-999.0000,1,  -999.00,9,   -999.0,1,-999.000,9,   2314.3,2,   2408.6,2,     7.56,2,29675.8,-999.0000,-999.000,-999.000,  1.5443,-999.000
   318MWESTW_5,  P21W,   195,  1,      9, SI9410,2,19940530,1809,-17.5000,-169.6667, 4955,   3242.4,   1.6838,  34.6763,2,  34.6755,2,    155.2,2,    155.8,2,   133.25,2,    35.57,2,     0.00,2,     2.47,2, -999.000,9, -999.000,9, -999.000,1,-999.0000,1,  -999.00,9,   -999.0,1,-999.000,9,   2313.7,2,   2408.6,2,     7.57,2,32302.6,-999.0000,-999.000,-999.000,  1.4392,-999.000
   318MWESTW_5,  P21W,   195,  1,      8, SI9422,2,19940530,1809,-17.5000,-169.6667, 4955,   3492.1,   1.5850,  34.6842,2,  34.6830,2,    161.3,2,    162.7,2,   132.31,2,    35.17,2,     0.00,2,     2.44,2, -999.000,9, -999.000,9, -999.000,1,-999.0000,1,  -999.00,9,   -999.0,1,-999.000,9,   2307.4,2,   2404.7,2,     7.58,2,34785.2,-999.0000,-999.000,-999.000,  1.3175,-999.000
   318MWESTW_5,  P21W,   195,  1,      7, SI9407,2,19940530,1809,-17.5000,-169.6667, 4955,   3740.0,   1.4604,  34.6971,2,  34.6960,2,    174.8,2,    178.2,2,   124.46,2,    33.87,2,     0.00,2,     2.34,2,   -0.001,2,   -0.001,2, -999.000,1,-999.0000,1,  -999.00,9,   -999.0,1,-999.000,9,   2289.6,2,   2389.9,2,     7.58,2,37249.8,-999.0000,-999.000,-999.000,  1.1703,-999.000
   318MWESTW_5,  P21W,   195,  1,      6, SI9427,2,19940530,1809,-17.5000,-169.6667, 4955,   4000.6,   1.3229,  34.7119,2,  34.7107,2,    189.7,2,    196.0,2,   116.47,2,    32.54,2,     0.00,2,     2.25,2, -999.000,9, -999.000,9, -999.000,1,-999.0000,1,  -999.00,9,   -999.0,1,-999.000,9,   2281.1,2,   2374.0,2,     7.60,2,39840.5,-999.0000,-999.000,-999.000,  1.0088,-999.000
   318MWESTW_5,  P21W,   195,  1,      5, SI9405,2,19940530,1809,-17.5000,-169.6667, 4955,   4250.8,   1.1443,  34.7136,2,  34.7134,2,    201.7,2,    205.5,2,   116.16,2,    31.93,2,     0.00,2,     2.23,2, -999.000,9, -999.000,9, -999.000,1,-999.0000,1,  -999.00,9,   -999.0,1,-999.000,9,   2264.5,2,   -999.0,9,     7.59,2,42327.5,-999.0000,-999.000,-999.000,  0.8081,-999.000
   318MWESTW_5,  P21W,   195,  1,      4, SI9404,2,19940530,1809,-17.5000,-169.6667, 4955,   4499.9,   1.0443,  34.7112,2,  34.7103,2,    205.4,2,    208.4,2,   118.68,2,    31.89,2,     0.00,2,     2.22,2,    0.001,2,    0.000,2, -999.000,1,-999.0000,1,  -999.00,9,   -999.0,1,-999.000,9,   2260.7,2,   -999.0,9,     7.59,2,44804.1,-999.0000,-999.000,-999.000,  0.6834,-999.000
   318MWESTW_5,  P21W,   195,  1,      3, SI9403,2,19940530,1809,-17.5000,-169.6667, 4955,   4749.3,   1.0389,  34.7095,2,  34.7097,2,    206.3,2,    210.1,2,   119.31,2,    31.94,2,     0.00,2,     2.22,2, -999.000,9, -999.000,9, -999.000,1,-999.0000,1,  -999.00,9,   -999.0,1,-999.000,9,   2260.6,2,   2366.3,2,     7.59,2,47283.5,-999.0000,-999.000,-999.000,  0.6496,-999.000
   318MWESTW_5,  P21W,   195,  1,      2, SI9437,2,19940530,1809,-17.5000,-169.6667, 4955,   5000.9,   1.0578,  34.7099,2,  34.7099,2,    206.5,2,    209.6,2,   119.63,2,    32.04,2,     0.00,2,     2.22,2, -999.000,9, -999.000,9, -999.000,1,-999.0000,1,  -999.00,9,   -999.0,1,-999.000,9,   2261.0,2,   2367.4,2,     7.59,2,49784.7,-999.0000,-999.000,-999.000,  0.6383,-999.000
   318MWESTW_5,  P21W,   195,  1,      1, SI9401,2,19940530,1809,-17.5000,-169.6667, 4955,   5042.0,   1.0618,  34.7093,2,  34.7089,2,    207.3,2,    209.3,2,   119.76,2,    32.04,2,     0.00,2,     2.22,2,    0.003,2,    0.001,2, -999.000,1,-999.0000,1,  -999.00,9,   -999.0,1,-999.000,9,   2260.4,2,   2367.8,2,     7.59,2,50192.9,-999.0000,-999.000,-999.000,  0.6373,-999.000