BOTTLE,20010911WHPSIOdm
EXPOCODE,SECT_ID,STNNBR,CASTNO,SAMPNO,BTLNBR,BTLNBR_FLAG_W,DATE,TIME,LATITUDE,LONGITUDE,DEPTH,CTDPRS,CTDTMP,CTDSAL,CTDSAL_FLAG_W,SALNTY,SALNTY_FLAG_W,CTDOXY,CTDOXY_FLAG_W,OXYGEN,OXYGEN_FLAG_W,SILCAT,SILCAT_FLAG_W,NITRAT,NITRAT_FLAG_W,NITRIT,NITRIT_FLAG_W,PHSPHT,PHSPHT_FLAG_W,CFC-11,CFC-11_FLAG_W,CFC-12,CFC-12_FLAG_W,TRITUM,TRITUM_FLAG_W,HELIUM,HELIUM_FLAG_W,DELHE3,DELHE3_FLAG_W,DELC14,DELC14_FLAG_W,NEON,NEON_FLAG_W,TCARBN,TCARBN_FLAG_W,ALKALI,ALKALI_FLAG_W,PH,PH_FLAG_W,CTDRAW,HELIER,DELHER,NEONER,THETA,TRITER
,,,,,,,,,,,,DBAR,ITS-90,PSS-78,,PSS-78,,UMOL/KG,,UMOL/KG,,UMOL/KG,,UMOL/KG,,UMOL/KG,,UMOL/KG,,PMOL/KG,,PMOL/KG,,TU,,UMOL/KG,,PERCNT,,/MILLE,,NMOL/KG,,UMOL/KG,,UMOL/KG,,,,,NMOL/KG,PERCNT,NMOL/KG,ITS-90,TU
   318MWESTW_4,  P21E,    66,  1,     36, SI9336,2,19940417,0555,-16.7500, -96.0000, 4149,      7.2,  23.4496,  36.0264,2,  36.0232,2,    222.5,2,    215.7,2,     0.09,2,     0.05,2,     0.01,2,     0.36,2,    1.958,2,    1.082,2, -999.000,1,-999.0000,1,  -999.00,9,   -999.0,1,-999.000,9,   -999.0,9,   -999.0,9,  -999.00,9,  113.7,-999.0000,-999.000,-999.000, 23.4481,-999.000
   318MWESTW_4,  P21E,    66,  1,     35, SI9335,2,19940417,0555,-16.7500, -96.0000, 4149,     26.5,  23.3101,  36.0192,2,  36.0149,2,    219.6,2,    215.8,2,     0.09,2,     0.06,2,     0.01,2,     0.36,2,    1.987,2,    1.096,2, -999.000,1,-999.0000,1,  -999.00,9,   -999.0,1,-999.000,9,   -999.0,9,   -999.0,9,  -999.00,9,  307.3,-999.0000,-999.000,-999.000, 23.3046,-999.000
   318MWESTW_4,  P21E,    66,  1,     34, SI9334,2,19940417,0555,-16.7500, -96.0000, 4149,     51.2,  23.2702,  36.0088,2,  36.0131,2,    220.0,2,    216.1,2,     0.09,2,     0.06,2,     0.01,2,     0.37,2,    1.970,2,    1.083,2, -999.000,1,-999.0000,1,  -999.00,9,   -999.0,1,-999.000,9,   -999.0,9,   -999.0,9,  -999.00,9,  554.3,-999.0000,-999.000,-999.000, 23.2596,-999.000
   318MWESTW_4,  P21E,    66,  1,     33, SI9333,2,19940417,0555,-16.7500, -96.0000, 4149,    101.6,  20.5217,  35.7731,2,  35.7685,2,    227.9,2,    228.2,2,     0.00,2,     0.13,2,     0.00,2,     0.35,2,    2.260,2,    1.205,2, -999.000,1,-999.0000,1,  -999.00,9,   -999.0,1,-999.000,9,   -999.0,9,   -999.0,9,  -999.00,9, 1057.7,-999.0000,-999.000,-999.000, 20.5025,-999.000
   318MWESTW_4,  P21E,    66,  1,     32, SI9332,2,19940417,0555,-16.7500, -96.0000, 4149,    157.3,  19.1041,  35.4903,3,  35.5798,2,    207.9,2,    207.7,2,     0.43,2,     2.68,2,     0.12,2,     0.60,2,    2.318,2,    1.238,2, -999.000,1,-999.0000,1,  -999.00,9,   -999.0,1,-999.000,9,   -999.0,9,   -999.0,9,  -999.00,9, 1614.9,-999.0000,-999.000,-999.000, 19.0759,-999.000
   318MWESTW_4,  P21E,    66,  1,     31, SI9331,2,19940417,0555,-16.7500, -96.0000, 4149,    207.2,  15.6778,  34.8774,3,  34.9951,2,    169.3,2,    179.2,2,     1.98,2,     8.40,2,     0.01,2,     0.93,2,    2.290,2,    1.190,2, -999.000,1,-999.0000,1,  -999.00,9,   -999.0,1,-999.000,9,   -999.0,9,   -999.0,9,  -999.00,9, 2113.3,-999.0000,-999.000,-999.000, 15.6455,-999.000
   318MWESTW_4,  P21E,    66,  1,     30, SI9330,2,19940417,0555,-16.7500, -96.0000, 4149,    251.2,  12.7179,  34.7441,2,  34.7250,2,     34.5,2,     36.1,2,    17.01,2,    20.10,2,     0.01,2,     2.38,2,    0.964,2,    0.464,2, -999.000,1,-999.0000,1,  -999.00,9,   -999.0,1,-999.000,9,   -999.0,9,   -999.0,9,  -999.00,9, 2552.8,-999.0000,-999.000,-999.000, 12.6839,-999.000
   318MWESTW_4,  P21E,    66,  1,     29, SI9329,2,19940417,0555,-16.7500, -96.0000, 4149,    296.4,  11.6817,  34.7638,2,  34.7514,2,      7.7,2,      6.3,2,    24.26,2,    24.17,2,     0.00,2,     2.70,2,    0.301,2,    0.153,2, -999.000,1,-999.0000,1,  -999.00,9,   -999.0,1,-999.000,9,   -999.0,9,   -999.0,9,  -999.00,9, 3004.0,-999.0000,-999.000,-999.000, 11.6436,-999.000
   318MWESTW_4,  P21E,    66,  1,     28, SI9328,2,19940417,0555,-16.7500, -96.0000, 4149,    399.0,   9.7787,  34.6489,2,  34.6565,2,      7.4,2,      7.9,2,    27.36,2,    33.74,2,     0.00,2,     2.79,2,    0.080,2,    0.038,2, -999.000,1,-999.0000,1,  -999.00,9,   -999.0,1,-999.000,9,   -999.0,9,   -999.0,9,  -999.00,9, 4028.8,-999.0000,-999.000,-999.000,  9.7328,-999.000
   318MWESTW_4,  P21E,    66,  1,     27, SI9327,2,19940417,0555,-16.7500, -96.0000, 4149,    500.2,   8.1308,  34.5631,2,  34.5669,2,     25.9,2,     26.5,2,    30.13,2,    38.68,2,    -0.01,2,     2.82,2,    0.031,2,    0.007,2, -999.000,1,-999.0000,1,  -999.00,9,   -999.0,1,-999.000,9,   -999.0,9,   -999.0,9,  -999.00,9, 5039.9,-999.0000,-999.000,-999.000,  8.0790,-999.000
   318MWESTW_4,  P21E,    66,  1,     26, SI9326,2,19940417,0555,-16.7500, -96.0000, 4149,    602.7,   6.6414,  34.5012,2,  34.5021,2,     51.3,2,     50.9,2,    37.03,2,    40.65,2,     0.00,2,     2.86,2,    0.008,2,    0.006,2, -999.000,1,-999.0000,1,  -999.00,9,   -999.0,1,-999.000,9,   -999.0,9,   -999.0,9,  -999.00,9, 6063.7,-999.0000,-999.000,-999.000,  6.5854,-999.000
   318MWESTW_4,  P21E,    66,  1,     25, SI9325,2,19940417,0555,-16.7500, -96.0000, 4149,    702.5,   5.9440,  34.4968,2,  34.4979,2,     47.2,2,     46.4,2,    47.22,2,    42.63,2,    -0.01,2,     3.00,2,   -0.001,2,    0.000,2, -999.000,1,-999.0000,1,  -999.00,9,   -999.0,1,-999.000,9,   -999.0,9,   -999.0,9,  -999.00,9, 7061.0,-999.0000,-999.000,-999.000,  5.8819,-999.000
   318MWESTW_4,  P21E,    66,  1,     24, SI9324,2,19940417,0555,-16.7500, -96.0000, 4149,    803.0,   5.2961,  34.4973,2,  34.4983,2,     49.4,2,     51.9,2,    56.54,2,    43.33,2,    -0.01,2,     3.05,2,   -0.002,2,    0.000,2, -999.000,1,-999.0000,1,  -999.00,9,   -999.0,1,-999.000,9,   -999.0,9,   -999.0,9,  -999.00,9, 8064.8,-999.0000,-999.000,-999.000,  5.2285,-999.000
   318MWESTW_4,  P21E,    66,  1,     23, SI9323,2,19940417,0555,-16.7500, -96.0000, 4149,    904.2,   4.8174,  34.5089,2,  34.5093,2,     55.8,2,     56.1,2,    66.38,2,    43.40,2,    -0.01,2,     3.07,2,   -0.003,2,   -0.002,2, -999.000,1,-999.0000,1,  -999.00,9,   -999.0,1,-999.000,9,   -999.0,9,   -999.0,9,  -999.00,9, 9074.8,-999.0000,-999.000,-999.000,  4.7439,-999.000
   318MWESTW_4,  P21E,    66,  1,     22, SI9322,2,19940417,0555,-16.7500, -96.0000, 4149,   1003.7,   4.3701,  34.5221,2,  34.5239,2,     63.1,2,     65.6,2,    75.69,2,    42.66,2,    -0.01,2,     3.03,2,   -0.002,2,   -0.001,2, -999.000,1,-999.0000,1,  -999.00,9,   -999.0,1,-999.000,9,   -999.0,9,   -999.0,9,  -999.00,9,10069.2,-999.0000,-999.000,-999.000,  4.2912,-999.000
   318MWESTW_4,  P21E,    66,  1,     21, SI9321,2,19940417,0555,-16.7500, -96.0000, 4149,   1106.1,   4.0158,  34.5362,2,  34.5380,2,     69.0,2,     71.0,2,    84.15,2,    42.19,2,     0.00,2,     3.02,2, -999.000,9, -999.000,9, -999.000,1,-999.0000,1,  -999.00,9,   -999.0,1,-999.000,9,   -999.0,9,   -999.0,9,  -999.00,9,11092.3,-999.0000,-999.000,-999.000,  3.9310,-999.000
   318MWESTW_4,  P21E,    66,  1,     20, SI9320,2,19940417,0555,-16.7500, -96.0000, 4149,   1197.4,   3.7326,  34.5492,2,  34.5523,2,     73.8,2,     75.9,2,    91.74,2,    41.85,2,     0.00,2,     3.01,2, -999.000,9, -999.000,9, -999.000,1,-999.0000,1,  -999.00,9,   -999.0,1,-999.000,9,   -999.0,9,   -999.0,9,  -999.00,9,12003.8,-999.0000,-999.000,-999.000,  3.6426,-999.000
   318MWESTW_4,  P21E,    66,  1,     19, SI9319,2,19940417,0555,-16.7500, -96.0000, 4149,   1300.1,   3.4566,  34.5629,2,  34.5641,2,     80.4,2,     82.3,2,    97.95,2,    41.33,2,     0.00,2,     2.96,2, -999.000,9, -999.000,9, -999.000,1,-999.0000,1,  -999.00,9,   -999.0,1,-999.000,9,   -999.0,9,   -999.0,9,  -999.00,9,13030.3,-999.0000,-999.000,-999.000,  3.3606,-999.000
   318MWESTW_4,  P21E,    66,  1,     18, SI9318,2,19940417,0555,-16.7500, -96.0000, 4149,   1402.5,   3.1999,  34.5734,2,  34.5771,2,     88.7,2,     90.1,2,   102.95,2,    40.64,2,     0.00,2,     2.92,2, -999.000,9, -999.000,9, -999.000,1,-999.0000,1,  -999.00,9,   -999.0,1,-999.000,9,   -999.0,9,   -999.0,9,  -999.00,9,14052.8,-999.0000,-999.000,-999.000,  3.0980,-999.000
   318MWESTW_4,  P21E,    66,  1,     17, SI9317,2,19940417,0555,-16.7500, -96.0000, 4149,   1505.5,   3.0001,  34.5852,2,  34.5881,2,     95.3,2,     95.2,2,   107.44,2,    40.13,2,     0.00,2,     2.87,2, -999.000,9, -999.000,9, -999.000,1,-999.0000,1,  -999.00,9,   -999.0,1,-999.000,9,   -999.0,9,   -999.0,9,  -999.00,9,15081.6,-999.0000,-999.000,-999.000,  2.8918,-999.000
   318MWESTW_4,  P21E,    66,  1,     16, SI9316,2,19940417,0555,-16.7500, -96.0000, 4149,   1606.5,   2.8270,  34.5994,2,  34.5993,2,     98.5,2,     99.3,2,   112.43,2,    40.02,2,     0.00,2,     2.85,2, -999.000,9, -999.000,9, -999.000,1,-999.0000,1,  -999.00,9,   -999.0,1,-999.000,9,   -999.0,9,   -999.0,9,  -999.00,9,16090.4,-999.0000,-999.000,-999.000,  2.7123,-999.000
   318MWESTW_4,  P21E,    66,  1,     15, SI9315,2,19940417,0555,-16.7500, -96.0000, 4149,   1805.7,   2.5130,  34.6204,2,  34.6215,2,    107.2,2,    108.0,2,   120.71,2,    39.22,2,     0.00,2,     2.79,2, -999.000,9, -999.000,9, -999.000,1,-999.0000,1,  -999.00,9,   -999.0,1,-999.000,9,   -999.0,9,   -999.0,9,  -999.00,9,18080.4,-999.0000,-999.000,-999.000,  2.3855,-999.000
   318MWESTW_4,  P21E,    66,  1,     14, SI9314,2,19940417,0555,-16.7500, -96.0000, 4149,   2005.8,   2.2723,  34.6371,2,  34.6382,2,    117.6,2,    118.2,2,   125.19,2,    38.47,2,     0.00,2,     2.72,2, -999.000,9, -999.000,9, -999.000,1,-999.0000,1,  -999.00,9,   -999.0,1,-999.000,9,   -999.0,9,   -999.0,9,  -999.00,9,20080.3,-999.0000,-999.000,-999.000,  2.1312,-999.000
   318MWESTW_4,  P21E,    66,  1,     13, SI9313,2,19940417,0555,-16.7500, -96.0000, 4149,   2187.9,   2.1046,  34.6502,2,  34.6500,2,    126.7,2,    128.0,2,   126.74,2,    37.72,2,     0.00,2,     2.66,2, -999.000,9, -999.000,9, -999.000,1,-999.0000,1,  -999.00,9,   -999.0,1,-999.000,9,   -999.0,9,   -999.0,9,  -999.00,9,21899.6,-999.0000,-999.000,-999.000,  1.9504,-999.000
   318MWESTW_4,  P21E,    66,  1,     12, SI9312,2,19940417,0555,-16.7500, -96.0000, 4149,   2394.8,   1.9467,  34.6619,2,  34.6631,2,    137.7,2,    137.6,2,   128.11,2,    36.98,2,     0.00,2,     2.59,2, -999.000,9, -999.000,9, -999.000,1,-999.0000,1,  -999.00,9,   -999.0,1,-999.000,9,   -999.0,9,   -999.0,9,  -999.00,9,23966.7,-999.0000,-999.000,-999.000,  1.7768,-999.000
   318MWESTW_4,  P21E,    66,  1,     11, SI9311,2,19940417,0555,-16.7500, -96.0000, 4149,   2598.8,   1.8664,  34.6698,2,  34.6698,2,    144.2,2,    143.7,2,   128.28,2,    36.58,2,     0.00,2,     2.55,2, -999.000,9, -999.000,9, -999.000,1,-999.0000,1,  -999.00,9,   -999.0,1,-999.000,9,   -999.0,9,   -999.0,9,  -999.00,9,26005.2,-999.0000,-999.000,-999.000,  1.6795,-999.000
   318MWESTW_4,  P21E,    66,  1,     10, SI9310,2,19940417,0555,-16.7500, -96.0000, 4149,   2797.0,   1.8170,  34.6757,2,  34.6763,2,    146.6,2,    146.0,2,   130.01,2,    36.41,2,     0.00,2,     2.53,2, -999.000,9, -999.000,9, -999.000,1,-999.0000,1,  -999.00,9,   -999.0,1,-999.000,9,   -999.0,9,   -999.0,9,  -999.00,9,27985.2,-999.0000,-999.000,-999.000,  1.6127,-999.000
   318MWESTW_4,  P21E,    66,  1,      9, SI9309,2,19940417,0555,-16.7500, -96.0000, 4149,   2998.7,   1.7975,  34.6797,2,  34.6791,2,    147.1,2,    146.1,2,   131.89,2,    36.54,2,     0.00,2,     2.53,2, -999.000,9, -999.000,9, -999.000,1,-999.0000,1,  -999.00,9,   -999.0,1,-999.000,9,   -999.0,9,   -999.0,9,  -999.00,9,30000.8,-999.0000,-999.000,-999.000,  1.5743,-999.000
   318MWESTW_4,  P21E,    66,  1,      8, SI9308,2,19940417,0555,-16.7500, -96.0000, 4149,   3200.3,   1.7869,  34.6825,2,  34.6832,2,    147.1,2,    146.8,2,   132.93,2,    36.55,2,    -0.01,2,     2.54,2, -999.000,9, -999.000,9, -999.000,1,-999.0000,1,  -999.00,9,   -999.0,1,-999.000,9,   -999.0,9,   -999.0,9,  -999.00,9,32016.0,-999.0000,-999.000,-999.000,  1.5441,-999.000
   318MWESTW_4,  P21E,    66,  1,      7, SI9307,2,19940417,0555,-16.7500, -96.0000, 4149,   3402.2,   1.7832,  34.6843,2,  34.6850,2,    147.5,2,    148.0,2,   132.40,2,    36.50,2,    -0.01,2,     2.53,2, -999.000,9, -999.000,9, -999.000,1,-999.0000,1,  -999.00,9,   -999.0,1,-999.000,9,   -999.0,9,   -999.0,9,  -999.00,9,34033.7,-999.0000,-999.000,-999.000,  1.5200,-999.000
   318MWESTW_4,  P21E,    66,  1,      6, SI9306,2,19940417,0555,-16.7500, -96.0000, 4149,   3600.5,   1.7789,  34.6867,2,  34.6867,2,    150.2,2,    149.1,2,   133.72,2,    36.26,2,     0.00,2,     2.52,2, -999.000,9, -999.000,9, -999.000,1,-999.0000,1,  -999.00,9,   -999.0,1,-999.000,9,   -999.0,9,   -999.0,9,  -999.00,9,36015.2,-999.0000,-999.000,-999.000,  1.4952,-999.000
   318MWESTW_4,  P21E,    66,  1,      5, SI9305,2,19940417,0555,-16.7500, -96.0000, 4149,   3807.2,   1.7829,  34.6880,2,  34.6881,2,    150.4,2,    150.3,2,   133.55,2,    35.98,2,     0.00,2,     2.52,2, -999.000,9, -999.000,9, -999.000,1,-999.0000,1,  -999.00,9,   -999.0,1,-999.000,9,   -999.0,9,   -999.0,9,  -999.00,9,38080.7,-999.0000,-999.000,-999.000,  1.4771,-999.000
   318MWESTW_4,  P21E,    66,  1,      4, SI9304,2,19940417,0555,-16.7500, -96.0000, 4149,   4006.3,   1.7969,  34.6887,2,  34.6881,2,    151.3,2,    150.7,2,   133.55,2,    35.87,2,     0.00,2,     2.51,2, -999.000,9, -999.000,9, -999.000,1,-999.0000,1,  -999.00,9,   -999.0,1,-999.000,9,   -999.0,9,   -999.0,9,  -999.00,9,40071.4,-999.0000,-999.000,-999.000,  1.4689,-999.000
   318MWESTW_4,  P21E,    66,  1,      3, SI9303,2,19940417,0555,-16.7500, -96.0000, 4149,   4162.9,   1.8120,  34.6887,2,  34.6887,2,    151.1,2,    151.0,2,   133.39,2,    35.76,2,     0.00,2,     2.51,2, -999.000,9, -999.000,9, -999.000,1,-999.0000,1,  -999.00,9,   -999.0,1,-999.000,9,   -999.0,9,   -999.0,9,  -999.00,9,41636.9,-999.0000,-999.000,-999.000,  1.4661,-999.000
   318MWESTW_4,  P21E,    66,  1,      2, SI9302,3,19940417,0555,-16.7500, -96.0000, 4149,   4200.2,   1.8157,  34.6890,2,  34.6891,2,    150.5,2,    151.3,2,   131.50,2,    35.75,2,    -0.01,2,     2.50,2, -999.000,9, -999.000,9, -999.000,1,-999.0000,1,  -999.00,9,   -999.0,1,-999.000,9,   -999.0,9,   -999.0,9,  -999.00,9,42009.2,-999.0000,-999.000,-999.000,  1.4655,-999.000