BOTTLE,20010911WHPSIOdm
EXPOCODE,SECT_ID,STNNBR,CASTNO,SAMPNO,BTLNBR,BTLNBR_FLAG_W,DATE,TIME,LATITUDE,LONGITUDE,DEPTH,CTDPRS,CTDTMP,CTDSAL,CTDSAL_FLAG_W,SALNTY,SALNTY_FLAG_W,CTDOXY,CTDOXY_FLAG_W,OXYGEN,OXYGEN_FLAG_W,SILCAT,SILCAT_FLAG_W,NITRAT,NITRAT_FLAG_W,NITRIT,NITRIT_FLAG_W,PHSPHT,PHSPHT_FLAG_W,CFC-11,CFC-11_FLAG_W,CFC-12,CFC-12_FLAG_W,TRITUM,TRITUM_FLAG_W,HELIUM,HELIUM_FLAG_W,DELHE3,DELHE3_FLAG_W,DELC14,DELC14_FLAG_W,NEON,NEON_FLAG_W,TCARBN,TCARBN_FLAG_W,ALKALI,ALKALI_FLAG_W,PH,PH_FLAG_W,CTDRAW,HELIER,DELHER,NEONER,THETA,TRITER
,,,,,,,,,,,,DBAR,ITS-90,PSS-78,,PSS-78,,UMOL/KG,,UMOL/KG,,UMOL/KG,,UMOL/KG,,UMOL/KG,,UMOL/KG,,PMOL/KG,,PMOL/KG,,TU,,UMOL/KG,,PERCNT,,/MILLE,,NMOL/KG,,UMOL/KG,,UMOL/KG,,,,,NMOL/KG,PERCNT,NMOL/KG,ITS-90,TU
   318MWESTW_5,  P21W,   260,  1,     29, SI9429,2,19940615,1509,-20.9333, 164.1833, 3430,      5.4,  24.1820,  35.2077,2,  35.2087,2,    202.1,2,    211.9,2,     0.27,2,     0.00,2,     0.00,2,     0.10,2,    1.862,2,    0.985,2,    0.884,2,   1.7073,2,    -1.48,2,   -999.0,1,   6.787,2,   1957.0,2,   2332.3,2,     8.11,2,  113.0,  0.0085,   0.080,   0.034, 24.1809,   0.009
   318MWESTW_5,  P21W,   260,  1,     28, SI9428,2,19940615,1509,-20.9333, 164.1833, 3430,     20.9,  24.1875,  35.2082,2,  35.2093,2,    203.0,2,    208.8,2,     0.31,2,     0.00,2,     0.00,2,     0.10,2, -999.000,9, -999.000,9, -999.000,1,-999.0000,1,  -999.00,9,   -999.0,1,-999.000,9,   1957.0,2,   2321.0,2,     8.11,2,  267.1,-999.0000,-999.000,-999.000, 24.1831,-999.000
   318MWESTW_5,  P21W,   260,  1,     27, SI9424,2,19940615,1509,-20.9333, 164.1833, 3430,     46.7,  24.1946,  35.2088,2,  35.2121,2,    206.8,2,    217.4,2,     0.35,2,     0.01,2,     0.00,2,     0.10,2, -999.000,9, -999.000,9,    0.853,2,-999.0000,1,  -999.00,9,   -999.0,1,-999.000,9,   1957.7,2,   2331.5,2,     8.10,2,  524.4,-999.0000,-999.000,-999.000, 24.1847,   0.009
   318MWESTW_5,  P21W,   260,  1,     26, SI9414,2,19940615,1509,-20.9333, 164.1833, 3430,     96.9,  23.7110,  35.6855,2,  35.7031,2,    208.7,2,    210.1,2,     0.24,2,     0.02,2,     0.09,2,     0.12,2,    1.918,2,    1.035,2,    0.783,2,   1.7371,2,    -1.15,2,   -999.0,1,   6.945,2,   2000.7,2,   2384.5,2,     8.08,2, 1024.2,  0.0087,   0.080,   0.035, 23.6907,   0.008
   318MWESTW_5,  P21W,   260,  1,     25, SI9425,2,19940615,1509,-20.9333, 164.1833, 3430,    147.9,  21.5763,  35.7501,2,  35.7505,2,    193.9,2,    196.8,2,     0.43,2,     1.59,2,     0.03,2,     0.25,2, -999.000,9, -999.000,9,    0.841,2,   1.7362,2,    -1.26,2,   -999.0,1,   6.994,2,   2028.6,2,   2357.7,2,     8.03,2, 1531.9,  0.0087,   0.080,   0.035, 21.5473,   0.008
   318MWESTW_5,  P21W,   260,  1,     24, SI9434,2,19940615,1509,-20.9333, 164.1833, 3430,    199.1,  20.1785,  35.7311,2,  35.7266,2,    190.7,2,    194.8,2,     0.62,2,     2.90,2,     0.01,2,     0.32,2,    2.097,2,    1.096,2,    0.788,2,   1.7614,2,    -1.18,2,   -999.0,1,   7.142,2,   2039.3,2,   2342.1,2,     8.01,2, 2042.3,  0.0088,   0.080,   0.036, 20.1413,   0.008
   318MWESTW_5,  P21W,   260,  1,     23, SI9423,2,19940615,1509,-20.9333, 164.1833, 3430,    249.3,  18.9463,  35.6342,2,  35.6285,2,    184.7,2,    186.6,2,     1.25,2,     4.74,2,     0.00,2,     0.43,2, -999.000,9, -999.000,9,    0.709,2,   1.7592,2,    -0.79,2,   -999.0,1,   7.164,2,   2054.7,2,   2332.6,2,     7.97,2, 2541.9,  0.0088,   0.080,   0.036, 18.9017,   0.008
   318MWESTW_5,  P21W,   260,  1,     22, SI9418,2,19940615,1509,-20.9333, 164.1833, 3430,    300.9,  17.7046,  35.5519,2,  35.5500,2,    179.5,2,    188.0,2,     1.58,2,     6.03,2,     0.00,2,     0.53,2,    2.010,2,    1.037,2,    0.627,2,   1.7575,2,    -0.27,2,   -999.0,1,   7.202,2,   2068.1,2,   2326.3,2,     7.95,2, 3055.3,  0.0088,   0.080,   0.036, 17.6532,   0.007
   318MWESTW_5,  P21W,   260,  1,     21, SI9421,2,19940615,1509,-20.9333, 164.1833, 3430,    343.2,  16.1505,  35.3927,2,  35.3886,2,    177.6,2,    178.3,2,     2.95,2,     8.91,2,     0.00,2,     0.71,2, -999.000,9, -999.000,9,    0.576,2,   1.7431,2,     0.52,2,   -999.0,1,   7.223,2,   2086.4,2,   2330.6,2,     7.90,2, 3476.6,  0.0087,   0.080,   0.036, 16.0954,   0.007
   318MWESTW_5,  P21W,   260,  1,     20, SI9420,2,19940615,1509,-20.9333, 164.1833, 3430,    396.4,  14.7604,  35.2422,2,  35.2414,2,    173.9,2,    174.8,2,     4.16,2,    11.40,2,     0.00,2,     0.88,2,    1.530,2,    0.778,2,    0.486,2,   1.7778,2,     0.96,2,   -999.0,1,   7.378,2,   2102.7,2,   2324.6,2,     7.86,2, 4005.8,  0.0089,   0.080,   0.037, 14.7005,   0.007
   318MWESTW_5,  P21W,   260,  1,     19, SI9419,2,19940615,1509,-20.9333, 164.1833, 3430,    495.4,  11.8307,  34.9316,2,  34.9321,2,    177.6,2,    180.4,2,     7.59,2,    16.46,2,     0.00,2,     1.21,2, -999.000,9, -999.000,9,    0.320,2,-999.0000,1,  -999.00,9,   -999.0,1,-999.000,9,   2125.3,2,   2302.3,2,     7.79,2, 4990.7,-999.0000,-999.000,-999.000, 11.7659,   0.006
   318MWESTW_5,  P21W,   260,  1,     18, SI9439,2,19940615,1509,-20.9333, 164.1833, 3430,    599.3,   9.1131,  34.6771,2,  34.6755,2,    185.8,2,    185.8,2,    12.20,2,    21.43,2,     0.00,2,     1.52,2,    0.743,2,    0.363,2,    0.196,2,-999.0000,1,  -999.00,9,   -999.0,1,-999.000,9,   2146.3,2,   2302.6,2,     7.73,2, 6023.8,-999.0000,-999.000,-999.000,  9.0463,   0.005
   318MWESTW_5,  P21W,   260,  1,     17, SI9417,2,19940615,1509,-20.9333, 164.1833, 3430,    706.4,   6.7052,  34.4898,2,  34.4875,2,    190.9,2,    190.5,2,    22.26,2,    26.28,2,     0.00,2,     1.83,2, -999.000,9, -999.000,9,    0.082,2,-999.0000,1,  -999.00,9,   -999.0,1,-999.000,9,   2169.5,2,   2293.3,2,     7.66,2, 7088.7,-999.0000,-999.000,-999.000,  6.6387,   0.004
   318MWESTW_5,  P21W,   260,  1,     16, SI9416,2,19940615,1509,-20.9333, 164.1833, 3430,    797.8,   5.8068,  34.4644,2,  34.4626,2,    183.2,2,    183.0,2,    32.76,2,    28.69,2,     0.00,2,     1.99,2,    0.170,2,    0.104,2,    0.046,2,   1.8465,2,     6.51,2,   -999.0,1,   7.759,2,   2189.1,2,   2316.9,2,     7.64,2, 7998.1,  0.0092,   0.090,   0.039,  5.7366,   0.004
   318MWESTW_5,  P21W,   260,  1,     15, SI9415,2,19940615,1509,-20.9333, 164.1833, 3430,    906.5,   5.0106,  34.4598,2,  34.4595,2,    176.6,2,    176.9,2,    43.81,2,    30.57,2,     0.00,2,     2.12,2,    0.079,2,    0.049,2,    0.020,2,   1.8218,2,     8.26,2,   -999.0,1,   7.898,2,   2208.9,2,   2317.3,2,     7.61,2, 9079.1,  0.0091,   0.090,   0.039,  4.9357,   0.004
   318MWESTW_5,  P21W,   260,  1,     14, SI9436,3,19940615,1509,-20.9333, 164.1833, 3430,   1008.6,   4.4436,  34.4810,2,  34.4803,2,    168.4,2,    174.0,2,    55.24,2,    32.05,2,     0.00,2,     2.23,2, -999.000,9, -999.000,9, -999.000,1,-999.0000,1,  -999.00,9,   -999.0,1,-999.000,9,   2225.6,2,   2331.1,2,     7.59,2,10094.0,-999.0000,-999.000,-999.000,  4.3638,-999.000
   318MWESTW_5,  P21W,   260,  1,     13, SI9413,2,19940615,1509,-20.9333, 164.1833, 3430,   1192.2,   3.7903,  34.5214,2,  34.5209,2,    161.2,2,    161.7,2,    71.35,2,    33.40,2,     0.00,2,     2.33,2,    0.014,2,    0.011,2,    0.009,2,   1.8710,2,    14.74,2,   -999.0,1,   8.023,2,   2248.0,2,   2343.3,2,     7.59,2,11919.2,  0.0094,   0.090,   0.040,  3.7003,   0.004
   318MWESTW_5,  P21W,   260,  1,     12, SI9438,2,19940615,1509,-20.9333, 164.1833, 3430,   1399.0,   3.2803,  34.5597,2,  34.5592,2,    155.5,2,    155.5,2,    84.66,2,    34.40,2,     0.00,2,     2.39,2,    0.002,2,    0.003,2,    0.007,2,   1.8723,2,    17.76,2,   -999.0,1,   8.012,2,   2266.5,2,   2359.1,2,     7.57,2,13975.5,  0.0094,   0.100,   0.040,  3.1778,   0.004
   318MWESTW_5,  P21W,   260,  1,     11, SI9411,2,19940615,1509,-20.9333, 164.1833, 3430,   1608.9,   2.8861,  34.5951,2,  34.5944,2,    151.3,2,    151.8,2,    95.62,2,    34.95,2,     0.00,2,     2.44,2,    0.000,2,    0.005,2, -999.000,1,-999.0000,1,  -999.00,9,   -999.0,1,-999.000,9,   2268.8,3,   2373.7,2,     7.56,2,16061.8,-999.0000,-999.000,-999.000,  2.7704,-999.000
   318MWESTW_5,  P21W,   260,  1,     10, SI9412,2,19940615,1509,-20.9333, 164.1833, 3430,   1797.3,   2.5963,  34.6215,2,  34.6211,2,    150.3,2,    153.9,4,   102.90,2,    35.11,2,     0.00,2,     2.46,2, -999.000,9, -999.000,9, -999.000,1,-999.0000,1,  -999.00,9,   -999.0,1,-999.000,9,   2288.3,2,   2379.0,2,     7.56,2,17934.9,-999.0000,-999.000,-999.000,  2.4684,-999.000
   318MWESTW_5,  P21W,   260,  1,      9, SI9410,2,19940615,1509,-20.9333, 164.1833, 3430,   2004.0,   2.3235,  34.6373,2,  34.6447,2,    151.1,2,    151.2,2,   108.40,2,    35.04,2,     0.00,2,     2.46,2, -999.000,9, -999.000,9, -999.000,1,-999.0000,1,  -999.00,9,   -999.0,1,-999.000,9,   2293.7,2,   2388.2,2,     7.56,2,19990.3,-999.0000,-999.000,-999.000,  2.1818,-999.000
   318MWESTW_5,  P21W,   260,  1,      8, SI9422,2,19940615,1509,-20.9333, 164.1833, 3430,   2206.5,   2.1800,  34.6591,2,  34.6594,2,    153.0,2,    158.2,4,   110.67,2,    34.97,2,     0.00,2,     2.44,2, -999.000,9, -999.000,9, -999.000,1,-999.0000,1,  -999.00,9,   -999.0,1,-999.000,9,   2294.8,2,   2391.9,2,     7.56,2,22003.8,-999.0000,-999.000,-999.000,  2.0228,-999.000
   318MWESTW_5,  P21W,   260,  1,      7, SI9407,2,19940615,1509,-20.9333, 164.1833, 3430,   2407.7,   2.0689,  34.6705,2,  34.6704,2,    154.8,2,    156.1,2,   112.64,2,    34.86,2,     0.00,2,     2.43,2,   -0.002,2,    0.002,2, -999.000,1,-999.0000,1,  -999.00,9,   -999.0,1,-999.000,9,   2297.2,2,   2389.5,2,     7.56,2,24003.2,-999.0000,-999.000,-999.000,  1.8957,-999.000
   318MWESTW_5,  P21W,   260,  1,      6, SI9427,2,19940615,1509,-20.9333, 164.1833, 3430,   2603.7,   1.9931,  34.6778,2,  34.6767,2,    156.7,2,    159.4,3,   113.88,2,    34.80,2,     0.00,2,     2.42,2, -999.000,9, -999.000,9, -999.000,1,-999.0000,1,  -999.00,9,   -999.0,1,-999.000,9,   2297.2,2,   2407.2,2,     7.57,2,25952.1,-999.0000,-999.000,-999.000,  1.8033,-999.000
   318MWESTW_5,  P21W,   260,  1,      5, SI9405,2,19940615,1509,-20.9333, 164.1833, 3430,   2805.5,   1.9595,  34.6815,2,  34.6800,2,    157.8,2,    159.5,2,   114.52,2,    34.73,2,     0.00,2,     2.42,2, -999.000,9, -999.000,9, -999.000,1,-999.0000,1,  -999.00,9,   -999.0,1,-999.000,9,   2297.3,2,   2403.0,2,     7.57,2,27958.4,-999.0000,-999.000,-999.000,  1.7514,-999.000
   318MWESTW_5,  P21W,   260,  1,      4, SI9404,2,19940615,1509,-20.9333, 164.1833, 3430,   3014.2,   1.9243,  34.6843,2,  34.6842,2,    159.3,2,    160.3,2,   115.32,2,    34.71,2,     0.00,2,     2.42,2, -999.000,9, -999.000,9, -999.000,1,-999.0000,1,  -999.00,9,   -999.0,1,-999.000,9,   2297.1,2,   -999.0,9,     7.57,2,30033.5,-999.0000,-999.000,-999.000,  1.6968,-999.000
   318MWESTW_5,  P21W,   260,  1,      3, SI9403,2,19940615,1509,-20.9333, 164.1833, 3430,   3213.5,   1.9004,  34.6868,2,  34.6865,2,    160.6,2,    163.8,4,   116.55,2,    34.64,2,     0.00,2,     2.42,2, -999.000,9, -999.000,9, -999.000,1,-999.0000,1,  -999.00,9,   -999.0,1,-999.000,9,   2298.2,2,   -999.0,9,     7.58,2,32014.5,-999.0000,-999.000,-999.000,  1.6536,-999.000
   318MWESTW_5,  P21W,   260,  1,      2, SI9437,2,19940615,1509,-20.9333, 164.1833, 3430,   3414.8,   1.9039,  34.6880,2,  34.6863,2,    160.0,2,    162.0,2,   117.05,2,    34.48,2,     0.00,2,     2.41,2, -999.000,9, -999.000,9, -999.000,1,-999.0000,1,  -999.00,9,   -999.0,1,-999.000,9,   2298.0,2,   -999.0,9,     7.57,2,34015.5,-999.0000,-999.000,-999.000,  1.6364,-999.000
   318MWESTW_5,  P21W,   260,  1,      1, SI9401,2,19940615,1509,-20.9333, 164.1833, 3430,   3452.6,   1.9057,  34.6881,2,  34.6908,3,    160.2,2,    162.6,2,   117.25,2,    34.41,2,     0.00,2,     2.40,2,   -0.001,2,    0.002,2, -999.000,1,-999.0000,1,  -999.00,9,   -999.0,1,-999.000,9,   2297.3,2,   -999.0,9,     7.57,2,34390.8,-999.0000,-999.000,-999.000,  1.6343,-999.000
   318MWESTW_5,  P21W,   261,  1,     20, SI9420,2,19940615,1956,-20.8805, 164.3112,  970,      3.8,  24.0093,  35.3013,2,  35.3090,2,    205.9,2,    211.7,2,     0.48,2,     0.00,2,     0.00,2,     0.10,2,    1.882,2,    1.054,2, -999.000,1,-999.0000,1,  -999.00,9,   -999.0,1,-999.000,9,   -999.0,9,   -999.0,9,  -999.00,9,   97.2,-999.0000,-999.000,-999.000, 24.0085,-999.000
   318MWESTW_5,  P21W,   261,  1,     19, SI9419,2,19940615,1956,-20.8805, 164.3112,  970,     24.2,  24.0351,  35.3179,2,  35.3234,2,    207.3,2,    209.2,2,     0.51,2,    -0.01,2,     0.01,2,     0.09,2, -999.000,9, -999.000,9, -999.000,1,-999.0000,1,  -999.00,9,   -999.0,1,-999.000,9,   -999.0,9,   -999.0,9,  -999.00,9,  300.1,-999.0000,-999.000,-999.000, 24.0300,-999.000
   318MWESTW_5,  P21W,   261,  1,     18, SI9439,2,19940615,1956,-20.8805, 164.3112,  970,     49.6,  24.0521,  35.3283,2,  35.3346,2,    212.2,2,    212.3,2,     0.40,2,    -0.01,2,     0.01,2,     0.09,2,    1.868,2,    1.069,2, -999.000,1,-999.0000,1,  -999.00,9,   -999.0,1,-999.000,9,   -999.0,9,   -999.0,9,  -999.00,9,  553.3,-999.0000,-999.000,-999.000, 24.0416,-999.000
   318MWESTW_5,  P21W,   261,  1,     17, SI9417,2,19940615,1956,-20.8805, 164.3112,  970,     99.6,  23.8788,  35.5506,2,  35.5549,2,    201.7,2,    207.5,2,     0.43,2,     0.27,2,     0.12,2,     0.13,2,    1.898,2,    1.058,2, -999.000,1,-999.0000,1,  -999.00,9,   -999.0,1,-999.000,9,   -999.0,9,   -999.0,9,  -999.00,9, 1051.0,-999.0000,-999.000,-999.000, 23.8579,-999.000
   318MWESTW_5,  P21W,   261,  1,     16, SI9416,2,19940615,1956,-20.8805, 164.3112,  970,    150.0,  21.8007,  35.7492,2,  35.7489,2,    198.3,2,    205.9,2,     0.47,2,     1.27,2,     0.04,2,     0.22,2,    2.027,2,    1.121,2, -999.000,1,-999.0000,1,  -999.00,9,   -999.0,1,-999.000,9,   -999.0,9,   -999.0,9,  -999.00,9, 1552.5,-999.0000,-999.000,-999.000, 21.7711,-999.000
   318MWESTW_5,  P21W,   261,  1,     15, SI9415,2,19940615,1956,-20.8805, 164.3112,  970,    199.2,  20.3220,  35.7301,2,  35.7268,2,    195.6,2,    196.7,2,     0.80,2,     2.86,2,     0.02,2,     0.31,2,    2.105,2,    1.157,2, -999.000,1,-999.0000,1,  -999.00,9,   -999.0,1,-999.000,9,   -999.0,9,   -999.0,9,  -999.00,9, 2041.7,-999.0000,-999.000,-999.000, 20.2846,-999.000
   318MWESTW_5,  P21W,   261,  1,     14, SI9436,2,19940615,1956,-20.8805, 164.3112,  970,    250.4,  18.6607,  35.6087,2,  35.6143,2,    185.5,2,    185.9,2,     1.28,2,     5.05,2,     0.02,2,     0.46,2,    2.044,2,    1.111,2, -999.000,1,-999.0000,1,  -999.00,9,   -999.0,1,-999.000,9,   -999.0,9,   -999.0,9,  -999.00,9, 2551.6,-999.0000,-999.000,-999.000, 18.6164,-999.000
   318MWESTW_5,  P21W,   261,  1,     13, SI9413,2,19940615,1956,-20.8805, 164.3112,  970,    294.0,  17.0705,  35.4777,2,  35.4748,2,    180.7,2,    180.6,2,     2.20,2,     7.46,2,     0.01,2,     0.63,2,    1.895,2,    1.011,2, -999.000,1,-999.0000,1,  -999.00,9,   -999.0,1,-999.000,9,   -999.0,9,   -999.0,9,  -999.00,9, 2984.6,-999.0000,-999.000,-999.000, 17.0216,-999.000
   318MWESTW_5,  P21W,   261,  1,     12, SI9438,2,19940615,1956,-20.8805, 164.3112,  970,    354.9,  15.8704,  35.3578,2,  35.3595,2,    174.1,2,    176.6,2,     3.12,2,     9.43,2,     0.01,2,     0.76,2, -999.000,9, -999.000,9, -999.000,1,-999.0000,1,  -999.00,9,   -999.0,1,-999.000,9,   -999.0,9,   -999.0,9,  -999.00,9, 3590.8,-999.0000,-999.000,-999.000, 15.8141,-999.000
   318MWESTW_5,  P21W,   261,  1,     11, SI9411,2,19940615,1956,-20.8805, 164.3112,  970,    397.8,  15.0112,  35.2846,2,  35.2696,2,    173.9,2,    187.0,2,     4.03,2,    10.87,2,     0.01,2,     0.85,2,    1.568,2,    0.853,2, -999.000,1,-999.0000,1,  -999.00,9,   -999.0,1,-999.000,9,   -999.0,9,   -999.0,9,  -999.00,9, 4017.6,-999.0000,-999.000,-999.000, 14.9504,-999.000
   318MWESTW_5,  P21W,   261,  1,     10, SI9412,2,19940615,1956,-20.8805, 164.3112,  970,    450.7,  13.3353,  35.0936,2,  35.0882,2,    177.7,2,    177.1,2,     5.84,2,    13.80,2,     0.01,2,     1.04,2, -999.000,9, -999.000,9, -999.000,1,-999.0000,1,  -999.00,9,   -999.0,1,-999.000,9,   -999.0,9,   -999.0,9,  -999.00,9, 4543.5,-999.0000,-999.000,-999.000, 13.2716,-999.000
   318MWESTW_5,  P21W,   261,  1,      9, SI9410,2,19940615,1956,-20.8805, 164.3112,  970,    504.9,  11.7530,  34.9337,2,  34.9288,2,    178.3,2,    178.6,2,     7.65,2,    16.52,2,     0.00,2,     1.20,2,    1.130,2,    0.596,2, -999.000,1,-999.0000,1,  -999.00,9,   -999.0,1,-999.000,9,   -999.0,9,   -999.0,9,  -999.00,9, 5082.9,-999.0000,-999.000,-999.000, 11.6872,-999.000
   318MWESTW_5,  P21W,   261,  1,      8, SI9422,2,19940615,1956,-20.8805, 164.3112,  970,    556.1,  10.3466,  34.7924,2,  34.7899,2,    181.9,2,    190.6,2,     9.90,2,    19.13,2,     0.01,2,     1.37,2, -999.000,9, -999.000,9, -999.000,1,-999.0000,1,  -999.00,9,   -999.0,1,-999.000,9,   -999.0,9,   -999.0,9,  -999.00,9, 5591.1,-999.0000,-999.000,-999.000, 10.2797,-999.000
   318MWESTW_5,  P21W,   261,  1,      7, SI9407,2,19940615,1956,-20.8805, 164.3112,  970,    602.5,   8.9796,  34.6634,2,  34.6671,2,    185.7,2,    186.5,2,    12.60,2,    21.58,2,     0.01,2,     1.52,2,    0.719,2,    0.378,2, -999.000,1,-999.0000,1,  -999.00,9,   -999.0,1,-999.000,9,   -999.0,9,   -999.0,9,  -999.00,9, 6052.3,-999.0000,-999.000,-999.000,  8.9130,-999.000
   318MWESTW_5,  P21W,   261,  1,      6, SI9427,2,19940615,1956,-20.8805, 164.3112,  970,    646.0,   7.8579,  34.5638,2,  34.5673,2,    189.5,2,    197.4,2,    15.88,2,    23.64,2,     0.01,2,     1.66,2,    0.534,6,    0.287,6, -999.000,1,-999.0000,1,  -999.00,9,   -999.0,1,-999.000,9,   -999.0,9,   -999.0,9,  -999.00,9, 6485.1,-999.0000,-999.000,-999.000,  7.7917,-999.000
   318MWESTW_5,  P21W,   261,  1,      5, SI9405,2,19940615,1956,-20.8805, 164.3112,  970,    691.4,   7.0687,  34.5102,2,  34.5084,2,    190.4,2,    194.3,2,    19.91,2,    25.41,2,     0.00,2,     1.77,2,    0.389,2,    0.214,2, -999.000,1,-999.0000,1,  -999.00,9,   -999.0,1,-999.000,9,   -999.0,9,   -999.0,9,  -999.00,9, 6935.6,-999.0000,-999.000,-999.000,  7.0018,-999.000
   318MWESTW_5,  P21W,   261,  1,      4, SI9404,2,19940615,1956,-20.8805, 164.3112,  970,    747.9,   6.3087,  34.4713,2,  34.4677,2,    186.1,2,    195.2,2,    26.30,2,    27.24,2,     0.01,2,     1.90,2, -999.000,9, -999.000,9, -999.000,1,-999.0000,1,  -999.00,9,   -999.0,1,-999.000,9,   -999.0,9,   -999.0,9,  -999.00,9, 7497.4,-999.0000,-999.000,-999.000,  6.2404,-999.000
   318MWESTW_5,  P21W,   261,  1,      3, SI9403,2,19940615,1956,-20.8805, 164.3112,  970,    792.6,   5.8092,  34.4640,2,  34.4614,2,    182.4,2,    184.1,2,    32.69,2,    28.56,2,     0.01,2,     1.96,2,    0.182,2,    0.103,2, -999.000,1,-999.0000,1,  -999.00,9,   -999.0,1,-999.000,9,   -999.0,9,   -999.0,9,  -999.00,9, 7941.6,-999.0000,-999.000,-999.000,  5.7395,-999.000
   318MWESTW_5,  P21W,   261,  1,      2, SI9437,2,19940615,1956,-20.8805, 164.3112,  970,    915.0,   4.9507,  34.4673,2,  34.4644,2,    172.5,2,    175.3,2,    46.01,2,    30.75,2,     0.00,2,     2.12,2, -999.000,9, -999.000,9, -999.000,1,-999.0000,1,  -999.00,9,   -999.0,1,-999.000,9,   -999.0,9,   -999.0,9,  -999.00,9, 9157.5,-999.0000,-999.000,-999.000,  4.8754,-999.000
   318MWESTW_5,  P21W,   261,  1,      1, SI9401,2,19940615,1956,-20.8805, 164.3112,  970,    953.2,   4.8188,  34.4703,2,  34.4683,2,    170.5,2,    173.4,2,    48.30,2,    31.12,2,     0.01,2,     2.15,2,    0.070,2,    0.044,2, -999.000,1,-999.0000,1,  -999.00,9,   -999.0,1,-999.000,9,   -999.0,9,   -999.0,9,  -999.00,9, 9537.2,-999.0000,-999.000,-999.000,  4.7411,-999.000