BOTTLE,20010911WHPSIOdm
EXPOCODE,SECT_ID,STNNBR,CASTNO,SAMPNO,BTLNBR,BTLNBR_FLAG_W,DATE,TIME,LATITUDE,LONGITUDE,DEPTH,CTDPRS,CTDTMP,CTDSAL,CTDSAL_FLAG_W,SALNTY,SALNTY_FLAG_W,CTDOXY,CTDOXY_FLAG_W,OXYGEN,OXYGEN_FLAG_W,SILCAT,SILCAT_FLAG_W,NITRAT,NITRAT_FLAG_W,NITRIT,NITRIT_FLAG_W,PHSPHT,PHSPHT_FLAG_W,CFC-11,CFC-11_FLAG_W,CFC-12,CFC-12_FLAG_W,TRITUM,TRITUM_FLAG_W,HELIUM,HELIUM_FLAG_W,DELHE3,DELHE3_FLAG_W,DELC14,DELC14_FLAG_W,NEON,NEON_FLAG_W,TCARBN,TCARBN_FLAG_W,ALKALI,ALKALI_FLAG_W,PH,PH_FLAG_W,CTDRAW,HELIER,DELHER,NEONER,THETA,TRITER
,,,,,,,,,,,,DBAR,ITS-90,PSS-78,,PSS-78,,UMOL/KG,,UMOL/KG,,UMOL/KG,,UMOL/KG,,UMOL/KG,,UMOL/KG,,PMOL/KG,,PMOL/KG,,TU,,UMOL/KG,,PERCNT,,/MILLE,,NMOL/KG,,UMOL/KG,,UMOL/KG,,,,,NMOL/KG,PERCNT,NMOL/KG,ITS-90,TU
   318MWESTW_5,  P21W,   257,  1,     36, SI9442,2,19940614,0723,-19.1000, 163.8000, 2700,     11.0,  24.1039,  35.2904,2,  35.2907,2,    209.5,2,    211.2,2,     0.51,2,    -0.01,2,     0.01,2,     0.08,2,    1.862,2,    1.052,2, -999.000,1,-999.0000,1,  -999.00,9,   -999.0,1,-999.000,9,   1961.1,2,   2314.8,2,     8.11,2,  168.8,-999.0000,-999.000,-999.000, 24.1016,-999.000
   318MWESTW_5,  P21W,   257,  1,     35, SI9435,2,19940614,0723,-19.1000, 163.8000, 2700,     25.9,  24.1251,  35.2917,2,  35.2920,2,    214.2,2,    212.0,2,     0.52,2,     0.04,2,     0.02,2,     0.08,2,    1.868,2,    1.035,2, -999.000,1,-999.0000,1,  -999.00,9,   -999.0,1,-999.000,9,   1962.2,2,   2317.5,2,     8.11,2,  318.2,-999.0000,-999.000,-999.000, 24.1196,-999.000
   318MWESTW_5,  P21W,   257,  1,     34, SI9441,2,19940614,0723,-19.1000, 163.8000, 2700,     51.4,  24.1217,  35.2893,2,  35.2901,2,    206.3,2,    214.8,2,     0.52,2,     0.01,2,     0.01,2,     0.08,2, -999.000,9, -999.000,9, -999.000,1,-999.0000,1,  -999.00,9,   -999.0,1,-999.000,9,   1960.3,2,   2325.5,2,     8.11,2,  572.3,-999.0000,-999.000,-999.000, 24.1108,-999.000
   318MWESTW_5,  P21W,   257,  1,     33, SI9433,2,19940614,0723,-19.1000, 163.8000, 2700,    101.7,  23.9152,  35.4174,2,  35.4298,2,    201.1,2,    198.5,2,     0.66,2,     0.53,2,     0.17,2,     0.17,2,    1.869,2,    1.046,2, -999.000,1,-999.0000,1,  -999.00,9,   -999.0,1,-999.000,9,   1984.8,2,   2332.6,2,     8.08,2, 1073.3,-999.0000,-999.000,-999.000, 23.8938,-999.000
   318MWESTW_5,  P21W,   257,  1,     32, SI9432,2,19940614,0723,-19.1000, 163.8000, 2700,    152.5,  21.3027,  35.7356,2,  35.7353,2,    185.4,2,    182.3,2,     0.95,2,     3.15,2,     0.04,2,     0.37,2,    1.957,6,    1.073,6, -999.000,1,-999.0000,1,  -999.00,9,   -999.0,1,-999.000,9,   2041.2,2,   2365.4,2,     8.01,2, 1578.2,-999.0000,-999.000,-999.000, 21.2731,-999.000
   318MWESTW_5,  P21W,   257,  1,     31, SI9431,2,19940614,0723,-19.1000, 163.8000, 2700,    202.6,  20.0154,  35.6902,2,  35.6927,2,    176.1,2,    181.1,2,     1.24,2,     4.02,2,     0.02,2,     0.42,2,    1.976,2,    1.041,2, -999.000,1,-999.0000,1,  -999.00,9,   -999.0,1,-999.000,9,   2052.3,2,   2351.6,2,     7.98,2, 2077.1,-999.0000,-999.000,-999.000, 19.9778,-999.000
   318MWESTW_5,  P21W,   257,  1,     30, SI9440,2,19940614,0723,-19.1000, 163.8000, 2700,    252.0,  18.6021,  35.6046,2,  35.6021,2,    176.8,2,    183.0,2,     1.66,2,     5.22,2,     0.02,2,     0.49,2,    1.937,2,    1.053,2, -999.000,1,-999.0000,1,  -999.00,9,   -999.0,1,-999.000,9,   2064.8,2,   2330.0,2,     7.96,2, 2568.9,-999.0000,-999.000,-999.000, 18.5576,-999.000
   318MWESTW_5,  P21W,   257,  1,     29, SI9429,2,19940614,0723,-19.1000, 163.8000, 2700,    302.2,  17.2472,  35.5030,2,  35.5093,2,    180.3,2,    181.7,2,     2.08,2,     6.54,2,     0.01,2,     0.58,2,    1.880,2,    1.002,2, -999.000,1,-999.0000,1,  -999.00,9,   -999.0,1,-999.000,9,   2077.1,2,   2352.6,2,     7.93,2, 3068.7,-999.0000,-999.000,-999.000, 17.1965,-999.000
   318MWESTW_5,  P21W,   257,  1,     28, SI9428,2,19940614,0723,-19.1000, 163.8000, 2700,    348.3,  16.0036,  35.3850,2,  35.3865,2,    184.8,2,    182.3,2,     2.92,2,     8.33,2,     0.02,2,     0.69,2,    1.804,2,    0.944,2, -999.000,1,-999.0000,1,  -999.00,9,   -999.0,1,-999.000,9,   2086.8,2,   2346.7,2,     7.90,2, 3527.4,-999.0000,-999.000,-999.000, 15.9481,-999.000
   318MWESTW_5,  P21W,   257,  1,     27, SI9424,2,19940614,0723,-19.1000, 163.8000, 2700,    398.7,  14.4650,  35.2306,2,  35.2327,2,    184.1,2,    180.5,2,     3.91,2,    10.75,2,     0.01,2,     0.85,2,    1.651,2,    0.866,2, -999.000,1,-999.0000,1,  -999.00,9,   -999.0,1,-999.000,9,   2100.2,2,   2326.9,2,     7.86,2, 4029.3,-999.0000,-999.000,-999.000, 14.4056,-999.000
   318MWESTW_5,  P21W,   257,  1,     26, SI9414,2,19940614,0723,-19.1000, 163.8000, 2700,    449.9,  12.6259,  35.0356,2,  35.0333,2,    185.2,2,    182.5,2,     5.44,2,    13.89,2,     0.02,2,     1.06,2,    1.370,2,    0.712,2, -999.000,1,-999.0000,1,  -999.00,9,   -999.0,1,-999.000,9,   2115.4,2,   2308.0,2,     7.81,2, 4538.2,-999.0000,-999.000,-999.000, 12.5646,-999.000
   318MWESTW_5,  P21W,   257,  1,     25, SI9425,2,19940614,0723,-19.1000, 163.8000, 2700,    504.8,  10.5517,  34.8047,2,  34.7862,2,    189.4,2,    185.8,2,     7.81,2,    17.95,2,     0.00,2,     1.32,2,    1.031,2,    0.516,2, -999.000,1,-999.0000,1,  -999.00,9,   -999.0,1,-999.000,9,   2132.8,2,   2299.4,2,     7.76,2, 5084.1,-999.0000,-999.000,-999.000, 10.4903,-999.000
   318MWESTW_5,  P21W,   257,  1,     24, SI9434,2,19940614,0723,-19.1000, 163.8000, 2700,    607.7,   8.1103,  34.5505,2,  34.5523,2,    193.3,2,    192.8,2,    12.13,2,    22.61,2,     0.00,2,     1.60,2,    0.625,2,    0.322,2, -999.000,1,-999.0000,1,  -999.00,9,   -999.0,1,-999.000,9,   2150.5,2,   2305.5,2,     7.70,2, 6108.0,-999.0000,-999.000,-999.000,  8.0471,-999.000
   318MWESTW_5,  P21W,   257,  1,     23, SI9423,2,19940614,0723,-19.1000, 163.8000, 2700,    689.2,   6.8901,  34.4532,2,  34.4559,2,    195.0,2,    197.5,2,    16.73,2,    25.19,2,     0.00,2,     1.76,2,    0.402,2,    0.209,2, -999.000,1,-999.0000,1,  -999.00,9,   -999.0,1,-999.000,9,   -999.0,9,   -999.0,9,  -999.00,9, 6917.8,-999.0000,-999.000,-999.000,  6.8244,-999.000
   318MWESTW_5,  P21W,   257,  1,     22, SI9418,2,19940614,0723,-19.1000, 163.8000, 2700,    797.5,   5.9619,  34.4073,2,  34.4122,2,    188.3,2,    190.4,2,    25.08,2,    28.10,2,     0.00,2,     1.95,2,    0.191,2,    0.111,2, -999.000,1,-999.0000,1,  -999.00,9,   -999.0,1,-999.000,9,   2178.7,2,   2294.2,2,     7.64,2, 7995.3,-999.0000,-999.000,-999.000,  5.8909,-999.000
   318MWESTW_5,  P21W,   257,  1,     21, SI9421,2,19940614,0723,-19.1000, 163.8000, 2700,    904.9,   5.1132,  34.4316,2,  34.4304,2,    177.6,2,    177.6,2,    39.83,2,    30.68,2,     0.00,2,     2.12,2,    0.085,2,    0.051,2, -999.000,1,-999.0000,1,  -999.00,9,   -999.0,1,-999.000,9,   -999.0,9,   -999.0,9,  -999.00,9, 9063.0,-999.0000,-999.000,-999.000,  5.0378,-999.000
   318MWESTW_5,  P21W,   257,  1,     20, SI9420,2,19940614,0723,-19.1000, 163.8000, 2700,   1004.8,   4.4901,  34.4451,2,  34.4463,2,    175.6,2,    176.4,2,    49.43,2,    31.60,2,     0.01,2,     2.19,2,    0.057,2,    0.036,2, -999.000,1,-999.0000,1,  -999.00,9,   -999.0,1,-999.000,9,   2217.3,2,   2338.3,2,     7.60,2,10055.7,-999.0000,-999.000,-999.000,  4.4104,-999.000
   318MWESTW_5,  P21W,   257,  1,     19, SI9419,2,19940614,0723,-19.1000, 163.8000, 2700,   1097.2,   4.0332,  34.4822,2,  34.4817,2,    169.5,2,    169.5,2,    61.66,2,    32.54,2,     0.00,2,     2.26,2,    0.034,2,    0.022,2, -999.000,1,-999.0000,1,  -999.00,9,   -999.0,1,-999.000,9,   -999.0,9,   -999.0,9,  -999.00,9,10974.7,-999.0000,-999.000,-999.000,  3.9491,-999.000
   318MWESTW_5,  P21W,   257,  1,     18, SI9439,2,19940614,0723,-19.1000, 163.8000, 2700,   1198.9,   3.7747,  34.5054,2,  34.5042,2,    165.3,2,    165.7,2,    69.03,2,    32.91,2,     0.00,2,     2.30,2,    0.025,2,    0.016,2, -999.000,1,-999.0000,1,  -999.00,9,   -999.0,1,-999.000,9,   2243.5,2,   2344.0,2,     7.58,2,11985.9,-999.0000,-999.000,-999.000,  3.6843,-999.000
   318MWESTW_5,  P21W,   257,  1,     17, SI9417,2,19940614,0723,-19.1000, 163.8000, 2700,   1300.8,   3.5521,  34.5225,2,  34.5233,2,    162.8,2,    163.3,2,    75.02,2,    33.29,2,     0.00,2,     2.33,2,    0.018,2,    0.011,2, -999.000,1,-999.0000,1,  -999.00,9,   -999.0,1,-999.000,9,   -999.0,9,   -999.0,9,  -999.00,9,12998.7,-999.0000,-999.000,-999.000,  3.4552,-999.000
   318MWESTW_5,  P21W,   257,  1,     16, SI9416,2,19940614,0723,-19.1000, 163.8000, 2700,   1404.9,   3.2526,  34.5511,2,  34.5516,2,    158.2,2,    158.9,2,    84.06,2,    33.93,2,     0.00,2,     2.37,2,    0.010,2,    0.005,2, -999.000,1,-999.0000,1,  -999.00,9,   -999.0,1,-999.000,9,   2261.4,2,   2360.9,2,     7.57,2,14033.5,-999.0000,-999.000,-999.000,  3.1500,-999.000
   318MWESTW_5,  P21W,   257,  1,     15, SI9415,2,19940614,0723,-19.1000, 163.8000, 2700,   1491.9,   3.1083,  34.5642,2,  34.5655,2,    155.6,2,    156.9,2,    88.79,2,    34.19,2,     0.01,2,     2.38,2,    0.007,2,    0.004,2, -999.000,1,-999.0000,1,  -999.00,9,   -999.0,1,-999.000,9,   -999.0,9,   -999.0,9,  -999.00,9,14899.3,-999.0000,-999.000,-999.000,  2.9999,-999.000
   318MWESTW_5,  P21W,   257,  1,     14, SI9436,3,19940614,0723,-19.1000, 163.8000, 2700,   1602.3,   2.9129,  34.5836,2,  34.5851,2,    153.5,2,    155.0,2,    94.21,2,    34.52,2,     0.01,2,     2.40,2, -999.000,9, -999.000,9, -999.000,1,-999.0000,1,  -999.00,9,   -999.0,1,-999.000,9,   -999.0,9,   -999.0,9,  -999.00,9,15996.7,-999.0000,-999.000,-999.000,  2.7975,-999.000
   318MWESTW_5,  P21W,   257,  1,     13, SI9413,2,19940614,0723,-19.1000, 163.8000, 2700,   1695.0,   2.8069,  34.5936,2,  34.6624,4,    151.8,2,    160.7,4,    87.82,4,    31.99,4,     0.01,4,     2.23,4, -999.000,9, -999.000,9, -999.000,1,-999.0000,1,  -999.00,9,   -999.0,1,-999.000,9,   -999.0,9,   -999.0,9,  -999.00,9,16918.3,-999.0000,-999.000,-999.000,  2.6850,-999.000
   318MWESTW_5,  P21W,   257,  1,     12, SI9438,2,19940614,0723,-19.1000, 163.8000, 2700,   1790.5,   2.6252,  34.6125,2,  34.6111,2,    151.0,2,    151.2,2,   102.56,2,    34.92,2,     0.01,2,     2.43,2,    0.000,2,    0.001,2, -999.000,1,-999.0000,1,  -999.00,9,   -999.0,1,-999.000,9,   2286.0,2,   2377.6,2,     7.56,2,17867.0,-999.0000,-999.000,-999.000,  2.4975,-999.000
   318MWESTW_5,  P21W,   257,  1,     11, SI9411,2,19940614,0723,-19.1000, 163.8000, 2700,   1897.7,   2.5045,  34.6244,2,  34.6236,2,    151.2,2,    151.2,2,   105.75,2,    34.98,2,     0.00,2,     2.45,2, -999.000,9, -999.000,9, -999.000,1,-999.0000,1,  -999.00,9,   -999.0,1,-999.000,9,   -999.0,9,   -999.0,9,  -999.00,9,18933.4,-999.0000,-999.000,-999.000,  2.3693,-999.000
   318MWESTW_5,  P21W,   257,  1,     10, SI9412,2,19940614,0723,-19.1000, 163.8000, 2700,   2003.7,   2.3972,  34.6358,2,  34.6344,2,    150.8,2,    150.7,2,   108.81,2,    35.02,2,     0.00,2,     2.46,2, -999.000,9, -999.000,9, -999.000,1,-999.0000,1,  -999.00,9,   -999.0,1,-999.000,9,   2292.2,2,   2387.2,2,     7.56,2,19987.1,-999.0000,-999.000,-999.000,  2.2544,-999.000
   318MWESTW_5,  P21W,   257,  1,      9, SI9410,2,19940614,0723,-19.1000, 163.8000, 2700,   2104.9,   2.2964,  34.6444,2,  34.6435,2,    151.3,2,    150.1,2,   110.63,2,    34.96,2,     0.00,2,     2.45,2, -999.000,9, -999.000,9, -999.000,1,-999.0000,1,  -999.00,9,   -999.0,1,-999.000,9,   -999.0,9,   -999.0,9,  -999.00,9,20993.1,-999.0000,-999.000,-999.000,  2.1463,-999.000
   318MWESTW_5,  P21W,   257,  1,      8, SI9422,2,19940614,0723,-19.1000, 163.8000, 2700,   2192.6,   2.2309,  34.6507,2,  34.6492,2,    151.7,2,    149.1,2,   111.88,2,    34.96,2,     0.00,2,     2.45,2, -999.000,9, -999.000,9, -999.000,1,-999.0000,1,  -999.00,9,   -999.0,1,-999.000,9,   2295.7,2,   2387.5,2,     7.56,2,21864.9,-999.0000,-999.000,-999.000,  2.0742,-999.000
   318MWESTW_5,  P21W,   257,  1,      7, SI9407,2,19940614,0723,-19.1000, 163.8000, 2700,   2300.0,   2.1641,  34.6566,2,  34.6574,2,    152.3,2,    151.4,2,   113.55,2,    34.99,2,     0.01,2,     2.44,2,   -0.002,2,    0.000,2, -999.000,1,-999.0000,1,  -999.00,9,   -999.0,1,-999.000,9,   2297.8,2,   2391.7,2,     7.56,2,22932.0,-999.0000,-999.000,-999.000,  1.9989,-999.000
   318MWESTW_5,  P21W,   257,  1,      6, SI9427,2,19940614,0723,-19.1000, 163.8000, 2700,   2403.3,   2.0896,  34.6639,2,  34.6627,2,    153.6,2,    153.4,2,   114.99,2,    34.98,2,     0.01,2,     2.44,2, -999.000,9, -999.000,9, -999.000,1,-999.0000,1,  -999.00,9,   -999.0,1,-999.000,9,   2298.7,2,   2390.6,2,     7.56,2,23959.0,-999.0000,-999.000,-999.000,  1.9164,-999.000
   318MWESTW_5,  P21W,   257,  1,      5, SI9405,2,19940614,0723,-19.1000, 163.8000, 2700,   2503.6,   2.0429,  34.6679,2,  34.6671,2,    154.3,2,    154.5,2,   116.33,2,    34.88,2,     0.01,2,     2.44,2, -999.000,9, -999.000,9, -999.000,1,-999.0000,1,  -999.00,9,   -999.0,1,-999.000,9,   -999.0,9,   -999.0,9,  -999.00,9,24956.1,-999.0000,-999.000,-999.000,  1.8614,-999.000
   318MWESTW_5,  P21W,   257,  1,      4, SI9404,2,19940614,0723,-19.1000, 163.8000, 2700,   2598.3,   2.0227,  34.6698,2,  34.6686,2,    154.4,2,    153.6,2,   116.70,2,    34.74,2,     0.00,2,     2.44,2, -999.000,9, -999.000,9, -999.000,1,-999.0000,1,  -999.00,9,   -999.0,1,-999.000,9,   2298.0,2,   2395.1,2,     7.56,2,25897.5,-999.0000,-999.000,-999.000,  1.8329,-999.000
   318MWESTW_5,  P21W,   257,  1,      3, SI9403,2,19940614,0723,-19.1000, 163.8000, 2700,   2638.1,   2.0148,  34.6702,2,  34.6698,2,    152.3,2,    155.9,2,   116.70,2,    34.74,2,     0.00,2,     2.43,2, -999.000,9, -999.000,9, -999.000,1,-999.0000,1,  -999.00,9,   -999.0,1,-999.000,9,   -999.0,9,   -999.0,9,  -999.00,9,26293.5,-999.0000,-999.000,-999.000,  1.8214,-999.000
   318MWESTW_5,  P21W,   257,  1,      2, SI9437,2,19940614,0723,-19.1000, 163.8000, 2700,   2665.8,   2.0147,  34.6702,2,  34.6700,2,    152.3,2,    155.0,2,   116.49,2,    34.82,2,     0.01,2,     2.42,2, -999.000,9, -999.000,9, -999.000,1,-999.0000,1,  -999.00,9,   -999.0,1,-999.000,9,   -999.0,9,   -999.0,9,  -999.00,9,26568.1,-999.0000,-999.000,-999.000,  1.8187,-999.000
   318MWESTW_5,  P21W,   257,  1,      1, SI9401,2,19940614,0723,-19.1000, 163.8000, 2700,   2694.5,   2.0122,  34.6714,2,  34.6696,2,    153.3,2,    156.4,2,   116.88,2,    34.83,2,     0.01,2,     2.43,2,    0.000,2,    0.001,2, -999.000,1,-999.0000,1,  -999.00,9,   -999.0,1,-999.000,9,   2297.6,2,   2393.4,2,     7.56,2,26853.6,-999.0000,-999.000,-999.000,  1.8136,-999.000