BOTTLE,20010911WHPSIOdm
EXPOCODE,SECT_ID,STNNBR,CASTNO,SAMPNO,BTLNBR,BTLNBR_FLAG_W,DATE,TIME,LATITUDE,LONGITUDE,DEPTH,CTDPRS,CTDTMP,CTDSAL,CTDSAL_FLAG_W,SALNTY,SALNTY_FLAG_W,CTDOXY,CTDOXY_FLAG_W,OXYGEN,OXYGEN_FLAG_W,SILCAT,SILCAT_FLAG_W,NITRAT,NITRAT_FLAG_W,NITRIT,NITRIT_FLAG_W,PHSPHT,PHSPHT_FLAG_W,CFC-11,CFC-11_FLAG_W,CFC-12,CFC-12_FLAG_W,TRITUM,TRITUM_FLAG_W,HELIUM,HELIUM_FLAG_W,DELHE3,DELHE3_FLAG_W,DELC14,DELC14_FLAG_W,NEON,NEON_FLAG_W,TCARBN,TCARBN_FLAG_W,ALKALI,ALKALI_FLAG_W,PH,PH_FLAG_W,CTDRAW,HELIER,DELHER,NEONER,THETA,TRITER
,,,,,,,,,,,,DBAR,ITS-90,PSS-78,,PSS-78,,UMOL/KG,,UMOL/KG,,UMOL/KG,,UMOL/KG,,UMOL/KG,,UMOL/KG,,PMOL/KG,,PMOL/KG,,TU,,UMOL/KG,,PERCNT,,/MILLE,,NMOL/KG,,UMOL/KG,,UMOL/KG,,,,,NMOL/KG,PERCNT,NMOL/KG,ITS-90,TU
   318MWESTW_4,  P21E,    43,  1,     36, SI9336,3,19940409,2017,-16.7500, -83.0000, 4630,     11.5,  23.6868,  35.7673,2,  35.7683,2,    217.6,2,    216.3,2,     0.55,2,    -0.01,2,     0.02,2,     0.43,2,    1.882,2,    1.019,2, -999.000,1,-999.0000,1,  -999.00,9,   -999.0,1,-999.000,9,   2038.8,2,   2368.0,2,     8.06,2,  167.2,-999.0000,-999.000,-999.000, 23.6844,-999.000
   318MWESTW_4,  P21E,    43,  1,     35, SI9335,2,19940409,2017,-16.7500, -83.0000, 4630,     24.7,  23.6883,  35.7679,2,  35.7671,2,    215.1,2,    215.7,2,     0.57,2,     0.00,2,     0.02,2,     0.44,2,    1.927,2,    1.037,2, -999.000,1,-999.0000,1,  -999.00,9,   -999.0,1,-999.000,9,   2040.8,2,   2372.0,2,     8.06,2,  298.8,-999.0000,-999.000,-999.000, 23.6831,-999.000
   318MWESTW_4,  P21E,    43,  1,     34, SI9334,2,19940409,2017,-16.7500, -83.0000, 4630,     51.5,  20.0374,  35.5369,2,  35.5245,2,    243.2,2,    235.0,2,     1.53,2,     2.56,2,     0.15,2,     0.63,2,    2.395,2,    1.260,2, -999.000,1,-999.0000,1,  -999.00,9,   -999.0,1,-999.000,9,   2071.8,2,   2350.0,2,     7.98,2,  565.8,-999.0000,-999.000,-999.000, 20.0279,-999.000
   318MWESTW_4,  P21E,    43,  1,     33, SI9333,9,19940409,2017,-16.7500, -83.0000, 4630,    102.3,  17.9061,  35.3612,2,-999.0000,9,    193.6,2,   -999.0,9,  -999.00,9,  -999.00,9,  -999.00,9,  -999.00,9, -999.000,9, -999.000,9, -999.000,1,-999.0000,1,  -999.00,9,   -999.0,1,-999.000,9,   -999.0,9,   -999.0,9,  -999.00,9, 1072.3,-999.0000,-999.000,-999.000, 17.8886,-999.000
   318MWESTW_4,  P21E,    43,  1,     32, SI9332,2,19940409,2017,-16.7500, -83.0000, 4630,    154.3,  14.3423,  34.9131,2,  34.9073,2,     53.0,2,     60.3,2,    10.87,2,    21.17,2,     0.02,2,     2.01,2,    1.676,2,    0.780,2, -999.000,1,-999.0000,1,  -999.00,9,   -999.0,1,-999.000,9,   2201.9,2,   2305.0,2,     7.59,2, 1589.8,-999.0000,-999.000,-999.000, 14.3197,-999.000
   318MWESTW_4,  P21E,    43,  1,     31, SI9331,2,19940409,2017,-16.7500, -83.0000, 4630,    201.2,  12.7452,  34.8487,2,  34.8452,2,      6.0,2,      2.3,2,    25.33,2,    16.09,2,     2.15,2,     2.69,2,    0.418,2,    0.232,2, -999.000,1,-999.0000,1,  -999.00,9,   -999.0,1,-999.000,9,   2263.9,2,   2299.0,2,     7.46,2, 2056.2,-999.0000,-999.000,-999.000, 12.7179,-999.000
   318MWESTW_4,  P21E,    43,  1,     30, SI9330,2,19940409,2017,-16.7500, -83.0000, 4630,    248.4,  11.8925,  34.8178,2,  34.8169,2,      4.2,2,      1.0,2,    26.68,2,    21.59,2,     2.30,2,     2.67,2,    0.203,2,    0.101,2, -999.000,1,-999.0000,1,  -999.00,9,   -999.0,1,-999.000,9,   2265.9,2,   2303.0,2,     7.42,2, 2525.6,-999.0000,-999.000,-999.000, 11.8603,-999.000
   318MWESTW_4,  P21E,    43,  1,     29, SI9329,2,19940409,2017,-16.7500, -83.0000, 4630,    300.7,  11.0784,  34.7803,2,  34.7769,2,      2.8,2,      1.8,2,    28.02,2,    27.01,2,     1.64,2,     2.68,2,    0.110,2,    0.056,2, -999.000,1,-999.0000,1,  -999.00,9,   -999.0,1,-999.000,9,   2271.0,2,   2302.0,2,     7.42,2, 3046.7,-999.0000,-999.000,-999.000, 11.0411,-999.000
   318MWESTW_4,  P21E,    43,  1,     28, SI9328,2,19940409,2017,-16.7500, -83.0000, 4630,    402.4,   9.4526,  34.6716,2,  34.6698,2,      4.7,2,      3.3,2,    30.52,2,    35.70,2,     0.01,2,     2.80,2,    0.034,2,    0.007,2, -999.000,1,-999.0000,1,  -999.00,9,   -999.0,1,-999.000,9,   2277.0,2,   2299.0,2,     7.38,2, 4057.9,-999.0000,-999.000,-999.000,  9.4072,-999.000
   318MWESTW_4,  P21E,    43,  1,     26, SI9326,2,19940409,2017,-16.7500, -83.0000, 4630,    499.6,   8.1608,  34.6042,2,  34.6032,2,     12.0,2,     11.8,2,    35.47,2,    40.05,2,     0.01,2,     2.91,2, -999.000,9, -999.000,9, -999.000,1,-999.0000,1,  -999.00,9,   -999.0,1,-999.000,9,   2282.0,2,   2303.0,2,     7.39,2, 5024.8,-999.0000,-999.000,-999.000,  8.1089,-999.000
   318MWESTW_4,  P21E,    43,  1,     25, SI9325,2,19940409,2017,-16.7500, -83.0000, 4630,    596.1,   7.0650,  34.5380,2,  34.5364,2,     26.7,2,     28.3,2,    38.92,2,    41.77,2,     0.01,2,     2.97,2,    0.011,2,    0.004,2, -999.000,1,-999.0000,1,  -999.00,9,   -999.0,1,-999.000,9,   2281.0,2,   2302.0,2,     7.38,2, 5984.5,-999.0000,-999.000,-999.000,  7.0077,-999.000
   318MWESTW_4,  P21E,    43,  1,     24, SI9324,2,19940409,2017,-16.7500, -83.0000, 4630,    699.4,   6.0715,  34.5047,2,  34.5025,2,     38.0,2,     38.9,2,    46.91,2,    43.17,2,     0.02,2,     3.03,2,    0.000,2,    0.000,2, -999.000,1,-999.0000,1,  -999.00,9,   -999.0,1,-999.000,9,   2286.0,2,   2311.0,2,     7.40,2, 7011.5,-999.0000,-999.000,-999.000,  6.0090,-999.000
   318MWESTW_4,  P21E,    43,  1,     23, SI9323,2,19940409,2017,-16.7500, -83.0000, 4630,    801.5,   5.4748,  34.5042,2,  34.5027,2,     39.5,2,     38.9,2,    56.62,2,    44.11,2,     0.02,2,     3.14,2,   -0.002,2,   -0.004,2, -999.000,1,-999.0000,1,  -999.00,9,   -999.0,1,-999.000,9,   2299.0,2,   2319.0,2,     7.38,2, 8027.1,-999.0000,-999.000,-999.000,  5.4063,-999.000
   318MWESTW_4,  P21E,    43,  1,     22, SI9322,2,19940409,2017,-16.7500, -83.0000, 4630,    903.4,   4.8833,  34.5152,2,  34.5152,2,     44.8,2,     45.5,2,    68.23,2,    43.90,2,     0.02,2,     3.13,2,   -0.002,2,   -0.004,2, -999.000,1,-999.0000,1,  -999.00,9,   -999.0,1,-999.000,9,   2309.0,2,   2333.0,2,     7.40,2, 9040.1,-999.0000,-999.000,-999.000,  4.8095,-999.000
   318MWESTW_4,  P21E,    43,  1,     21, SI9321,2,19940409,2017,-16.7500, -83.0000, 4630,   1003.5,   4.4365,  34.5262,2,  34.5254,2,     53.5,2,     55.7,2,    77.18,2,    43.08,2,     0.02,2,     3.11,2,   -0.003,2,   -0.004,2, -999.000,1,-999.0000,1,  -999.00,9,   -999.0,1,-999.000,9,   2313.0,2,   2342.0,2,     7.40,2,10034.9,-999.0000,-999.000,-999.000,  4.3571,-999.000
   318MWESTW_4,  P21E,    43,  1,     20, SI9320,2,19940409,2017,-16.7500, -83.0000, 4630,   1098.8,   4.0983,  34.5382,2,  34.5366,2,     62.7,2,     64.5,2,    84.41,2,    42.38,2,     0.01,2,     3.05,2, -999.000,9, -999.000,9, -999.000,1,-999.0000,1,  -999.00,9,   -999.0,1,-999.000,9,   -999.0,9,   -999.0,9,  -999.00,9,10982.8,-999.0000,-999.000,-999.000,  4.0135,-999.000
   318MWESTW_4,  P21E,    43,  1,     19, SI9319,2,19940409,2017,-16.7500, -83.0000, 4630,   1199.0,   3.7975,  34.5513,2,  34.5502,2,     69.2,2,     70.0,2,    92.21,2,    41.96,2,     0.01,2,     3.02,2, -999.000,9, -999.000,9, -999.000,1,-999.0000,1,  -999.00,9,   -999.0,1,-999.000,9,   -999.0,9,   -999.0,9,  -999.00,9,11979.2,-999.0000,-999.000,-999.000,  3.7068,-999.000
   318MWESTW_4,  P21E,    43,  1,     18, SI9318,2,19940409,2017,-16.7500, -83.0000, 4630,   1301.9,   3.4958,  34.5649,2,  34.5661,2,     76.6,2,     77.1,2,    99.06,2,    41.46,2,     0.01,2,     2.98,2, -999.000,9, -999.000,9, -999.000,1,-999.0000,1,  -999.00,9,   -999.0,1,-999.000,9,   -999.0,9,   -999.0,9,  -999.00,9,13002.5,-999.0000,-999.000,-999.000,  3.3992,-999.000
   318MWESTW_4,  P21E,    43,  1,     17, SI9317,2,19940409,2017,-16.7500, -83.0000, 4630,   1399.4,   3.2273,  34.5813,2,  34.5800,2,     80.7,2,     81.6,2,   106.11,2,    41.20,2,     0.01,2,     2.95,2, -999.000,9, -999.000,9, -999.000,1,-999.0000,1,  -999.00,9,   -999.0,1,-999.000,9,   -999.0,9,   -999.0,9,  -999.00,9,13971.1,-999.0000,-999.000,-999.000,  3.1253,-999.000
   318MWESTW_4,  P21E,    43,  1,     16, SI9316,2,19940409,2017,-16.7500, -83.0000, 4630,   1496.0,   2.9906,  34.5885,2,  34.5881,2,     89.7,2,     94.6,2,   107.83,2,    40.17,2,     0.01,2,     2.85,2, -999.000,9, -999.000,9, -999.000,1,-999.0000,1,  -999.00,9,   -999.0,1,-999.000,9,   -999.0,9,   -999.0,9,  -999.00,9,14932.3,-999.0000,-999.000,-999.000,  2.8832,-999.000
   318MWESTW_4,  P21E,    43,  1,     27, SI9327,2,19940409,2017,-16.7500, -83.0000, 4630,   1593.2,   2.8241,  34.6014,2,  34.6007,2,     97.3,2,     96.2,2,   113.53,2,    40.07,2,     0.02,2,     2.85,2, -999.000,9, -999.000,9, -999.000,1,-999.0000,1,  -999.00,9,   -999.0,1,-999.000,9,   -999.0,9,   -999.0,9,  -999.00,9,15898.8,-999.0000,-999.000,-999.000,  2.7105,-999.000
   318MWESTW_4,  P21E,    43,  1,     15, SI9315,2,19940409,2017,-16.7500, -83.0000, 4630,   1793.7,   2.5466,  34.6209,2,  34.6252,3,    101.3,2,    100.5,2,   123.81,2,    39.61,2,     0.02,2,     2.82,2, -999.000,9, -999.000,9, -999.000,1,-999.0000,1,  -999.00,9,   -999.0,1,-999.000,9,   -999.0,9,   -999.0,9,  -999.00,9,17891.4,-999.0000,-999.000,-999.000,  2.4197,-999.000
   318MWESTW_4,  P21E,    43,  1,     14, SI9314,2,19940409,2017,-16.7500, -83.0000, 4630,   1995.8,   2.3099,  34.6369,2,  34.6364,2,    113.9,2,    112.3,2,   127.04,2,    38.43,2,     0.01,2,     2.75,2, -999.000,9, -999.000,9, -999.000,1,-999.0000,1,  -999.00,9,   -999.0,1,-999.000,9,   -999.0,9,   -999.0,9,  -999.00,9,19900.9,-999.0000,-999.000,-999.000,  2.1691,-999.000
   318MWESTW_4,  P21E,    43,  1,     13, SI9313,2,19940409,2017,-16.7500, -83.0000, 4630,   2197.2,   2.1058,  34.6511,2,  34.6504,2,    126.6,2,    123.9,2,   129.34,2,    37.54,2,     0.02,2,     2.64,2, -999.000,9, -999.000,9, -999.000,1,-999.0000,1,  -999.00,9,   -999.0,1,-999.000,9,   -999.0,9,   -999.0,9,  -999.00,9,21903.1,-999.0000,-999.000,-999.000,  1.9507,-999.000
   318MWESTW_4,  P21E,    43,  1,     12, SI9312,2,19940409,2017,-16.7500, -83.0000, 4630,   2399.0,   1.9515,  34.6614,2,  34.6673,3,    138.6,2,    137.2,2,   127.63,2,    36.58,2,     0.01,2,     2.55,2, -999.000,9, -999.000,9, -999.000,1,-999.0000,1,  -999.00,9,   -999.0,1,-999.000,9,   -999.0,9,   -999.0,9,  -999.00,9,23909.1,-999.0000,-999.000,-999.000,  1.7812,-999.000
   318MWESTW_4,  P21E,    43,  1,     11, SI9311,2,19940409,2017,-16.7500, -83.0000, 4630,   2596.5,   1.8570,  34.6708,2,  34.6692,2,    139.9,2,    141.2,2,   130.30,2,    36.37,2,     0.01,2,     2.53,2, -999.000,9, -999.000,9, -999.000,1,-999.0000,1,  -999.00,9,   -999.0,1,-999.000,9,   -999.0,9,   -999.0,9,  -999.00,9,25873.1,-999.0000,-999.000,-999.000,  1.6705,-999.000
   318MWESTW_4,  P21E,    43,  1,     10, SI9310,2,19940409,2017,-16.7500, -83.0000, 4630,   2798.1,   1.8180,  34.6759,2,  34.6800,3,    138.8,2,    138.9,2,   135.06,2,    36.58,2,     0.01,2,     2.54,2, -999.000,9, -999.000,9, -999.000,1,-999.0000,1,  -999.00,9,   -999.0,1,-999.000,9,   -999.0,9,   -999.0,9,  -999.00,9,27877.7,-999.0000,-999.000,-999.000,  1.6135,-999.000
   318MWESTW_4,  P21E,    43,  1,      9, SI9309,2,19940409,2017,-16.7500, -83.0000, 4630,   2999.0,   1.8010,  34.6780,2,  34.6781,2,    137.1,2,    137.2,2,   138.71,2,    36.78,2,     0.01,2,     2.55,2, -999.000,9, -999.000,9, -999.000,1,-999.0000,1,  -999.00,9,   -999.0,1,-999.000,9,   -999.0,9,   -999.0,9,  -999.00,9,29874.1,-999.0000,-999.000,-999.000,  1.5777,-999.000
   318MWESTW_4,  P21E,    43,  1,      8, SI9308,2,19940409,2017,-16.7500, -83.0000, 4630,   3194.9,   1.7972,  34.6804,2,  34.6836,3,    137.2,2,    138.0,2,   139.48,2,    36.60,2,     0.01,2,     2.54,2, -999.000,9, -999.000,9, -999.000,1,-999.0000,1,  -999.00,9,   -999.0,1,-999.000,9,   -999.0,9,   -999.0,9,  -999.00,9,31821.8,-999.0000,-999.000,-999.000,  1.5547,-999.000
   318MWESTW_4,  P21E,    43,  1,      7, SI9307,2,19940409,2017,-16.7500, -83.0000, 4630,   3451.4,   1.7921,  34.6831,2,  34.6818,2,    140.0,2,    140.2,2,   138.53,2,    36.30,2,     0.01,2,     2.52,2, -999.000,9, -999.000,9, -999.000,1,-999.0000,1,  -999.00,9,   -999.0,1,-999.000,9,   -999.0,9,   -999.0,9,  -999.00,9,34371.9,-999.0000,-999.000,-999.000,  1.5236,-999.000
   318MWESTW_4,  P21E,    43,  1,      6, SI9306,2,19940409,2017,-16.7500, -83.0000, 4630,   3694.5,   1.7875,  34.6856,2,  34.6840,2,    143.8,2,    144.0,2,   136.24,2,    36.05,2,     0.01,2,     2.52,2, -999.000,9, -999.000,9, -999.000,1,-999.0000,1,  -999.00,9,   -999.0,1,-999.000,9,   -999.0,9,   -999.0,9,  -999.00,9,36788.7,-999.0000,-999.000,-999.000,  1.4937,-999.000
   318MWESTW_4,  P21E,    43,  1,      5, SI9305,2,19940409,2017,-16.7500, -83.0000, 4630,   3949.6,   1.7799,  34.6873,2,  34.6869,2,    150.4,2,    150.3,2,   132.08,2,    35.43,2,     0.00,2,     2.48,2, -999.000,9, -999.000,9, -999.000,1,-999.0000,1,  -999.00,9,   -999.0,1,-999.000,9,   -999.0,9,   -999.0,9,  -999.00,9,39325.0,-999.0000,-999.000,-999.000,  1.4587,-999.000
   318MWESTW_4,  P21E,    43,  1,      4, SI9304,2,19940409,2017,-16.7500, -83.0000, 4630,   4198.4,   1.7758,  34.6896,2,  34.6905,2,    153.0,2,    153.7,2,   129.81,2,    35.24,2,     0.00,2,     2.44,2, -999.000,9, -999.000,9, -999.000,1,-999.0000,1,  -999.00,9,   -999.0,1,-999.000,9,   -999.0,9,   -999.0,9,  -999.00,9,41798.8,-999.0000,-999.000,-999.000,  1.4269,-999.000
   318MWESTW_4,  P21E,    43,  1,      3, SI9303,2,19940409,2017,-16.7500, -83.0000, 4630,   4447.7,   1.7901,  34.6903,2,  34.6895,2,    154.5,2,    154.3,2,   129.25,2,    35.18,2,     0.01,2,     2.44,2, -999.000,9, -999.000,9, -999.000,1,-999.0000,1,  -999.00,9,   -999.0,1,-999.000,9,   -999.0,9,   -999.0,9,  -999.00,9,44277.1,-999.0000,-999.000,-999.000,  1.4122,-999.000
   318MWESTW_4,  P21E,    43,  1,      1, SI9301,2,19940409,2017,-16.7500, -83.0000, 4630,   4699.3,   1.8189,  34.6909,2,  34.6905,2,    154.8,2,    154.1,2,   129.56,2,    35.28,2,     0.00,2,     2.44,2, -999.000,9, -999.000,9, -999.000,1,-999.0000,1,  -999.00,9,   -999.0,1,-999.000,9,   -999.0,9,   -999.0,9,  -999.00,9,46778.0,-999.0000,-999.000,-999.000,  1.4104,-999.000
   318MWESTW_4,  P21E,    43,  1,      2, SI9302,2,19940409,2017,-16.7500, -83.0000, 4630,   4701.6,   1.8195,  34.6906,2,  34.6901,2,    154.8,2,    153.8,2,   129.45,2,    35.29,2,     0.01,2,     2.44,2, -999.000,9, -999.000,9, -999.000,1,-999.0000,1,  -999.00,9,   -999.0,1,-999.000,9,   -999.0,9,   -999.0,9,  -999.00,9,46800.7,-999.0000,-999.000,-999.000,  1.4107,-999.000