BOTTLE,20010911WHPSIOdm
EXPOCODE,SECT_ID,STNNBR,CASTNO,SAMPNO,BTLNBR,BTLNBR_FLAG_W,DATE,TIME,LATITUDE,LONGITUDE,DEPTH,CTDPRS,CTDTMP,CTDSAL,CTDSAL_FLAG_W,SALNTY,SALNTY_FLAG_W,CTDOXY,CTDOXY_FLAG_W,OXYGEN,OXYGEN_FLAG_W,SILCAT,SILCAT_FLAG_W,NITRAT,NITRAT_FLAG_W,NITRIT,NITRIT_FLAG_W,PHSPHT,PHSPHT_FLAG_W,CFC-11,CFC-11_FLAG_W,CFC-12,CFC-12_FLAG_W,TRITUM,TRITUM_FLAG_W,HELIUM,HELIUM_FLAG_W,DELHE3,DELHE3_FLAG_W,DELC14,DELC14_FLAG_W,NEON,NEON_FLAG_W,TCARBN,TCARBN_FLAG_W,ALKALI,ALKALI_FLAG_W,PH,PH_FLAG_W,CTDRAW,HELIER,DELHER,NEONER,THETA,TRITER
,,,,,,,,,,,,DBAR,ITS-90,PSS-78,,PSS-78,,UMOL/KG,,UMOL/KG,,UMOL/KG,,UMOL/KG,,UMOL/KG,,UMOL/KG,,PMOL/KG,,PMOL/KG,,TU,,UMOL/KG,,PERCNT,,/MILLE,,NMOL/KG,,UMOL/KG,,UMOL/KG,,,,,NMOL/KG,PERCNT,NMOL/KG,ITS-90,TU
   318MWESTW_4,  P21E,   134,  1,     24, SI9404,2,19940506,1859,-16.7500,-136.0000, 4485,      8.9,  28.1471,  36.3260,2,  36.3259,2,    207.8,2,    202.3,2,     0.41,2,     0.00,2,     0.00,2,     0.21,2,    1.616,2,    0.914,2, -999.000,1,-999.0000,1,  -999.00,9,   -999.0,1,-999.000,9,   2010.7,2,   2384.0,2,     8.21,2,  139.1,-999.0000,-999.000,-999.000, 28.1450,-999.000
   318MWESTW_4,  P21E,   134,  1,     23, SI9405,2,19940506,1859,-16.7500,-136.0000, 4485,     24.9,  28.1368,  36.3259,2,  36.3253,2,    201.3,2,    200.6,2,     0.28,2,     0.00,2,     0.00,2,     0.21,2,    1.606,2,    0.923,2, -999.000,1,-999.0000,1,  -999.00,9,   -999.0,1,-999.000,9,   2009.7,2,   2385.0,2,     8.20,2,  299.2,-999.0000,-999.000,-999.000, 28.1309,-999.000
   318MWESTW_4,  P21E,   134,  1,     22, SI9407,2,19940506,1859,-16.7500,-136.0000, 4485,     49.2,  28.1325,  36.3255,2,  36.3257,2,    199.9,2,    204.5,2,     0.31,2,     0.02,2,     0.01,2,     0.21,2,    1.619,2,    0.957,2, -999.000,1,-999.0000,1,  -999.00,9,   -999.0,1,-999.000,9,   2009.7,2,   2388.0,2,     8.21,2,  542.0,-999.0000,-999.000,-999.000, 28.1208,-999.000
   318MWESTW_4,  P21E,   134,  1,     21, SI9408,2,19940506,1859,-16.7500,-136.0000, 4485,    100.7,  25.6319,  36.4372,2,  36.4376,2,    207.8,2,    212.7,2,     0.19,2,    -0.01,2,     0.01,2,     0.22,2,    1.823,2,    1.020,2, -999.000,1,-999.0000,1,  -999.00,9,   -999.0,1,-999.000,9,   2034.8,2,   2392.0,2,     8.18,2, 1055.5,-999.0000,-999.000,-999.000, 25.6095,-999.000
   318MWESTW_4,  P21E,   134,  1,     20, SI9409,2,19940506,1859,-16.7500,-136.0000, 4485,    151.0,  23.8122,  36.3408,2,  36.3414,2,    194.5,2,    194.1,2,     0.21,2,     0.05,2,     0.24,2,     0.31,2,    1.885,2,    1.046,2, -999.000,1,-999.0000,1,  -999.00,9,   -999.0,1,-999.000,9,   2060.8,2,   2385.0,2,     8.13,2, 1556.5,-999.0000,-999.000,-999.000, 23.7804,-999.000
   318MWESTW_4,  P21E,   134,  1,     19, SI9411,2,19940506,1859,-16.7500,-136.0000, 4485,    200.2,  22.2008,  36.1788,2,  36.1834,2,    185.7,2,    186.9,2,     0.09,2,     1.80,2,     0.19,2,     0.44,2,    1.973,2,    1.076,2, -999.000,1,-999.0000,1,  -999.00,9,   -999.0,1,-999.000,9,   2082.8,2,   2380.0,2,     8.08,2, 2046.8,-999.0000,-999.000,-999.000, 22.1607,-999.000
   318MWESTW_4,  P21E,   134,  1,     18, SI9413,2,19940506,1859,-16.7500,-136.0000, 4485,    250.8,  19.9461,  35.7934,2,  35.7888,2,    181.4,2,    181.2,2,     0.27,2,     3.61,2,     0.01,2,     0.55,2,    2.014,2,    1.080,2, -999.000,1,-999.0000,1,  -999.00,9,   -999.0,1,-999.000,9,   2089.8,2,   2351.0,2,     8.04,2, 2550.7,-999.0000,-999.000,-999.000, 19.8995,-999.000
   318MWESTW_4,  P21E,   134,  1,     17, SI9415,2,19940506,1859,-16.7500,-136.0000, 4485,    300.0,  17.0645,  35.3145,2,  35.3293,2,    181.4,2,    175.5,2,     1.20,2,     6.29,2,    -0.01,2,     0.70,2,    1.829,2,    0.966,2, -999.000,1,-999.0000,1,  -999.00,9,   -999.0,1,-999.000,9,   2092.8,2,   2308.0,2,     7.95,2, 3040.4,-999.0000,-999.000,-999.000, 17.0146,-999.000
   318MWESTW_4,  P21E,   134,  1,     16, SI9416,2,19940506,1859,-16.7500,-136.0000, 4485,    399.5,  10.9476,  34.6230,2,  34.6233,2,    149.5,2,    136.8,2,     8.64,2,    19.69,2,    -0.02,2,     1.61,2,    0.833,2,    0.425,2, -999.000,1,-999.0000,1,  -999.00,9,   -999.0,1,-999.000,9,   2156.9,2,   2295.0,2,     7.76,2, 4029.7,-999.0000,-999.000,-999.000, 10.8982,-999.000
   318MWESTW_4,  P21E,   134,  1,     15, SI9417,2,19940506,1859,-16.7500,-136.0000, 4485,    498.9,   7.2118,  34.4072,2,  34.4055,2,    128.4,2,    139.2,2,    16.83,2,    30.13,2,     0.00,2,     2.17,2,    0.197,2,    0.108,2, -999.000,1,-999.0000,1,  -999.00,9,   -999.0,1,-999.000,9,   2195.9,2,   2282.0,2,     7.65,2, 5018.2,-999.0000,-999.000,-999.000,  7.1637,-999.000
   318MWESTW_4,  P21E,   134,  1,     14, SI9419,2,19940506,1859,-16.7500,-136.0000, 4485,    603.5,   6.0904,  34.4024,2,  34.4014,2,    146.8,2,    145.0,2,    25.48,2,    32.49,2,    -0.01,2,     2.28,2,    0.070,2,    0.039,2, -999.000,1,-999.0000,1,  -999.00,9,   -999.0,1,-999.000,9,   2205.9,2,   2289.0,2,     7.64,2, 6058.5,-999.0000,-999.000,-999.000,  6.0369,-999.000
   318MWESTW_4,  P21E,   134,  1,     13, SI9420,2,19940506,1859,-16.7500,-136.0000, 4485,    754.7,   5.2942,  34.4804,2,  34.4803,2,    113.8,2,    110.6,2,    48.48,2,    37.00,2,     0.00,2,     2.59,2,    0.001,2,   -0.004,2, -999.000,1,-999.0000,1,  -999.00,9,   -999.0,1,-999.000,9,   2249.9,2,   2314.0,2,     7.58,2, 7561.5,-999.0000,-999.000,-999.000,  5.2310,-999.000
   318MWESTW_4,  P21E,   134,  1,     12, SI9421,2,19940506,1859,-16.7500,-136.0000, 4485,   1004.1,   4.2215,  34.5219,2,  34.5219,2,    101.3,2,    100.3,2,    72.84,2,    39.08,2,     0.00,2,     2.77,2,    0.000,2,   -0.002,2, -999.000,1,-999.0000,1,  -999.00,9,   -999.0,1,-999.000,9,   2283.0,2,   2338.0,2,     7.56,2,10042.0,-999.0000,-999.000,-999.000,  4.1438,-999.000
   318MWESTW_4,  P21E,   134,  1,     11, SI9423,2,19940506,1859,-16.7500,-136.0000, 4485,   1298.6,   3.3746,  34.5558,2,  34.5551,2,    122.8,2,    120.6,2,    88.88,2,    37.70,2,     0.01,2,     2.67,2,    0.005,2,   -0.003,2, -999.000,1,-999.0000,1,  -999.00,9,   -999.0,1,-999.000,9,   2290.0,2,   2358.0,2,     7.59,2,12969.1,-999.0000,-999.000,-999.000,  3.2796,-999.000
   318MWESTW_4,  P21E,   134,  1,     10, SI9425,2,19940506,1859,-16.7500,-136.0000, 4485,   1648.3,   2.6260,  34.5988,2,  34.5989,2,    130.8,2,    132.0,2,   105.68,2,    37.05,2,     0.00,2,     2.63,2,   -0.003,2,   -0.004,2, -999.000,1,-999.0000,1,  -999.00,9,   -999.0,1,-999.000,9,   2302.0,2,   2374.0,2,     7.61,2,16445.8,-999.0000,-999.000,-999.000,  2.5103,-999.000
   318MWESTW_4,  P21E,   134,  1,      9, SI9424,2,19940506,1859,-16.7500,-136.0000, 4485,   1998.3,   2.1316,  34.6354,2,  34.6358,2,    147.2,2,    146.4,2,   114.91,2,    35.85,2,     0.00,2,     2.53,2, -999.000,9, -999.000,9, -999.000,1,-999.0000,1,  -999.00,9,   -999.0,1,-999.000,9,   2303.0,2,   2387.0,2,     7.63,2,19926.2,-999.0000,-999.000,-999.000,  1.9933,-999.000
   318MWESTW_4,  P21E,   134,  1,      8, SI9428,2,19940506,1859,-16.7500,-136.0000, 4485,   2347.3,   1.8861,  34.6609,2,  34.6612,2,    148.4,2,    148.8,2,   124.74,2,    35.72,2,     0.00,2,     2.51,2, -999.000,9, -999.000,9, -999.000,1,-999.0000,1,  -999.00,9,   -999.0,1,-999.000,9,   2312.0,2,   2397.0,2,     7.64,2,23395.5,-999.0000,-999.000,-999.000,  1.7215,-999.000
   318MWESTW_4,  P21E,   134,  1,      7, SI9429,2,19940506,1859,-16.7500,-136.0000, 4485,   2701.2,   1.7834,  34.6715,2,  34.6720,2,    150.3,2,    150.4,2,   129.90,2,    35.79,2,     0.01,2,     2.50,2, -999.000,9, -999.000,9, -999.000,1,-999.0000,1,  -999.00,9,   -999.0,1,-999.000,9,   2316.0,2,   2407.0,2,     7.65,2,26914.3,-999.0000,-999.000,-999.000,  1.5887,-999.000
   318MWESTW_4,  P21E,   134,  1,      6, SI9431,2,19940506,1859,-16.7500,-136.0000, 4485,   3045.9,   1.7098,  34.6779,2,  34.6769,2,    154.3,2,    154.8,2,   131.73,2,    35.53,2,     0.01,2,     2.50,2, -999.000,9, -999.000,9, -999.000,1,-999.0000,1,  -999.00,9,   -999.0,1,-999.000,9,   2315.0,2,   2406.0,2,     7.66,2,30340.6,-999.0000,-999.000,-999.000,  1.4839,-999.000
   318MWESTW_4,  P21E,   134,  1,      5, SI9432,2,19940506,1859,-16.7500,-136.0000, 4485,   3392.7,   1.6365,  34.6826,2,  34.6832,2,    158.8,2,    159.1,2,   132.50,2,    35.32,2,     0.00,2,     2.47,2, -999.000,9, -999.000,9, -999.000,1,-999.0000,1,  -999.00,9,   -999.0,1,-999.000,9,   2316.0,2,   2410.0,2,     7.66,2,33788.9,-999.0000,-999.000,-999.000,  1.3779,-999.000
   318MWESTW_4,  P21E,   134,  1,      4, SI9433,2,19940506,1859,-16.7500,-136.0000, 4485,   3749.0,   1.5738,  34.6869,2,  34.6875,2,    164.0,2,    163.8,2,   132.36,2,    35.01,2,     0.00,2,     2.44,2, -999.000,9, -999.000,9, -999.000,1,-999.0000,1,  -999.00,9,   -999.0,1,-999.000,9,   -999.0,9,   -999.0,9,  -999.00,9,37330.7,-999.0000,-999.000,-999.000,  1.2798,-999.000
   318MWESTW_4,  P21E,   134,  1,      3, SI9435,2,19940506,1859,-16.7500,-136.0000, 4485,   4091.3,   1.5350,  34.6900,2,  34.6918,2,    169.7,2,    169.2,2,   130.42,2,    34.56,2,     0.01,2,     2.41,2, -999.000,9, -999.000,9, -999.000,1,-999.0000,1,  -999.00,9,   -999.0,1,-999.000,9,   2306.0,2,   2403.0,2,     7.67,2,40733.7,-999.0000,-999.000,-999.000,  1.2051,-999.000
   318MWESTW_4,  P21E,   134,  1,      2, SI9401,2,19940506,1859,-16.7500,-136.0000, 4485,   4467.9,   1.5502,  34.6917,2,  34.6910,2,    172.8,2,    171.1,2,   129.53,2,    34.43,2,     0.00,2,     2.41,2, -999.000,9, -999.000,9, -999.000,1,-999.0000,1,  -999.00,9,   -999.0,1,-999.000,9,   2302.0,2,   2399.0,2,     7.67,2,44477.7,-999.0000,-999.000,-999.000,  1.1773,-999.000
   318MWESTW_4,  P21E,   134,  1,      1, SI9403,2,19940506,1859,-16.7500,-136.0000, 4485,   4572.6,   1.5612,  34.6914,2,  34.6916,2,    171.3,2,    171.8,2,   129.64,2,    34.37,2,     0.01,2,     2.40,2, -999.000,9, -999.000,9, -999.000,1,-999.0000,1,  -999.00,9,   -999.0,1,-999.000,9,   2304.0,2,   2400.0,2,     7.67,2,45518.0,-999.0000,-999.000,-999.000,  1.1759,-999.000
   318MWESTW_4,  P21E,   135,  1,     24, SI9404,2,19940507,0145,-16.7500,-136.6695, 4301,      7.8,  28.2644,  36.3152,2,  36.3162,2,    203.5,2,    210.5,2,     0.84,2,     0.01,2,    -0.01,2,     0.21,2,    1.662,2,    1.000,2, -999.000,1,-999.0000,1,  -999.00,9,   -999.0,1,-999.000,9,   2008.7,2,   2382.0,2,     8.21,2,  128.8,-999.0000,-999.000,-999.000, 28.2625,-999.000
   318MWESTW_4,  P21E,   135,  1,     23, SI9405,3,19940507,0145,-16.7500,-136.6695, 4301,     24.4,  28.1687,  36.3141,2,  36.3182,2,    204.9,2,    207.0,2,     0.85,2,     0.00,2,     0.00,2,     0.21,2,    1.594,2,    0.903,2, -999.000,1,-999.0000,1,  -999.00,9,   -999.0,1,-999.000,9,   2008.7,2,   2384.0,2,     8.21,2,  294.3,-999.0000,-999.000,-999.000, 28.1629,-999.000
   318MWESTW_4,  P21E,   135,  1,     22, SI9407,3,19940507,0145,-16.7500,-136.6695, 4301,     48.7,  28.1392,  36.3309,2,  36.3317,2,    203.1,2,    208.1,2,     0.86,2,     0.04,2,     0.01,2,     0.21,2,    1.591,2,    0.913,2, -999.000,1,-999.0000,1,  -999.00,9,   -999.0,1,-999.000,9,   2009.7,2,   2383.0,2,     8.21,2,  536.7,-999.0000,-999.000,-999.000, 28.1276,-999.000
   318MWESTW_4,  P21E,   135,  1,     21, SI9408,2,19940507,0145,-16.7500,-136.6695, 4301,     99.9,  26.7532,  36.3741,2,  36.3736,2,    215.8,2,    219.8,2,     0.72,2,    -0.01,2,     0.01,2,     0.21,2,    1.774,2,    0.994,2, -999.000,1,-999.0000,1,  -999.00,9,   -999.0,1,-999.000,9,   2021.7,2,   2387.0,2,     8.19,2, 1047.5,-999.0000,-999.000,-999.000, 26.7303,-999.000
   318MWESTW_4,  P21E,   135,  1,     20, SI9409,2,19940507,0145,-16.7500,-136.6695, 4301,    153.8,  24.5151,  36.4205,2,  36.4202,2,    200.1,2,    206.9,2,     0.58,2,     0.03,2,     0.02,2,     0.27,2,    1.825,2,    1.016,2, -999.000,1,-999.0000,1,  -999.00,9,   -999.0,1,-999.000,9,   2051.8,2,   2390.0,2,     8.15,2, 1584.3,-999.0000,-999.000,-999.000, 24.4820,-999.000
   318MWESTW_4,  P21E,   135,  1,     19, SI9411,2,19940507,0145,-16.7500,-136.6695, 4301,    200.6,  22.6300,  36.2435,2,  36.2495,2,    192.0,2,    185.7,2,     0.59,2,     1.45,2,     0.30,2,     0.43,2,    1.929,2,    1.064,2, -999.000,1,-999.0000,1,  -999.00,9,   -999.0,1,-999.000,9,   2080.8,2,   2382.0,2,     8.09,2, 2050.5,-999.0000,-999.000,-999.000, 22.5892,-999.000
   318MWESTW_4,  P21E,   135,  1,     18, SI9413,2,19940507,0145,-16.7500,-136.6695, 4301,    246.7,  20.1451,  35.8269,2,  35.8269,2,    189.1,2,    181.1,2,     0.74,2,     3.37,2,     0.01,2,     0.52,2,    2.000,2,    1.052,2, -999.000,1,-999.0000,1,  -999.00,9,   -999.0,1,-999.000,9,   2086.8,2,   2352.0,2,     8.04,2, 2509.4,-999.0000,-999.000,-999.000, 20.0990,-999.000
   318MWESTW_4,  P21E,   135,  1,     17, SI9415,2,19940507,0145,-16.7500,-136.6695, 4301,    302.5,  17.6017,  35.4058,2,  35.4115,2,    188.6,2,    178.4,2,     1.36,2,     5.35,2,     0.00,2,     0.63,2,    1.856,2,    0.988,2, -999.000,1,-999.0000,1,  -999.00,9,   -999.0,1,-999.000,9,   2088.8,2,   2324.0,2,     8.00,2, 3064.5,-999.0000,-999.000,-999.000, 17.5503,-999.000
   318MWESTW_4,  P21E,   135,  1,     16, SI9416,2,19940507,0145,-16.7500,-136.6695, 4301,    394.5,  12.1652,  34.7427,2,  34.7461,2,    159.2,2,    152.7,2,     6.45,2,    15.63,2,     0.01,2,     1.33,2,    1.082,2,    0.537,2, -999.000,1,-999.0000,1,  -999.00,9,   -999.0,1,-999.000,9,   2150.9,2,   2285.0,2,     7.83,2, 3979.7,-999.0000,-999.000,-999.000, 12.1130,-999.000
   318MWESTW_4,  P21E,   135,  1,     15, SI9417,2,19940507,0145,-16.7500,-136.6695, 4301,    501.2,   7.4473,  34.4223,2,  34.4235,2,    134.8,2,    140.4,2,    16.50,2,    29.05,2,     0.00,2,     2.12,2,    0.251,2,    0.130,2, -999.000,1,-999.0000,1,  -999.00,9,   -999.0,1,-999.000,9,   2176.9,2,   2279.0,2,     7.66,2, 5041.1,-999.0000,-999.000,-999.000,  7.3981,-999.000
   318MWESTW_4,  P21E,   135,  1,     14, SI9419,2,19940507,0145,-16.7500,-136.6695, 4301,    600.4,   6.2410,  34.4137,2,  34.4135,2,    145.9,2,    137.1,2,    26.25,2,    32.91,2,     0.00,2,     2.31,2,    0.052,2,    0.030,2, -999.000,1,-999.0000,1,  -999.00,9,   -999.0,1,-999.000,9,   2212.9,2,   2287.0,2,     7.64,2, 6027.5,-999.0000,-999.000,-999.000,  6.1871,-999.000
   318MWESTW_4,  P21E,   135,  1,     13, SI9420,2,19940507,0145,-16.7500,-136.6695, 4301,    700.8,   5.6765,  34.4426,2,  34.4412,2,    129.4,2,    132.2,2,    36.88,2,    34.25,2,     0.00,2,     2.40,2,    0.024,2,    0.004,2, -999.000,1,-999.0000,1,  -999.00,9,   -999.0,1,-999.000,9,   2227.9,2,   2300.0,2,     7.63,2, 7025.9,-999.0000,-999.000,-999.000,  5.6161,-999.000
   318MWESTW_4,  P21E,   135,  1,     12, SI9421,2,19940507,0145,-16.7500,-136.6695, 4301,    854.6,   5.0100,  34.4908,2,  34.4895,2,    114.1,2,    112.4,2,    54.57,2,    37.06,2,     0.00,2,     2.60,2,    0.002,2,   -0.002,2, -999.000,1,-999.0000,1,  -999.00,9,   -999.0,1,-999.000,9,   2256.9,2,   2318.0,2,     7.60,2, 8555.0,-999.0000,-999.000,-999.000,  4.9397,-999.000
   318MWESTW_4,  P21E,   135,  1,     11, SI9423,2,19940507,0145,-16.7500,-136.6695, 4301,   1103.4,   3.9754,  34.5299,2,  34.5280,2,    108.9,2,    110.2,2,    77.19,2,    38.31,2,     0.00,2,     2.71,2,    0.000,2,   -0.003,2, -999.000,1,-999.0000,1,  -999.00,9,   -999.0,1,-999.000,9,   2286.0,2,   2343.0,2,     7.58,2,11028.8,-999.0000,-999.000,-999.000,  3.8912,-999.000
   318MWESTW_4,  P21E,   135,  1,     10, SI9425,2,19940507,0145,-16.7500,-136.6695, 4301,   1451.8,   3.0422,  34.5720,2,  34.5739,2,    128.8,2,    125.5,2,    96.21,2,    37.48,2,     0.01,2,     2.66,2,   -0.004,2,   -0.004,2, -999.000,1,-999.0000,1,  -999.00,9,   -999.0,1,-999.000,9,   2296.0,2,   2364.0,2,     7.59,2,14492.6,-999.0000,-999.000,-999.000,  2.9379,-999.000
   318MWESTW_4,  P21E,   135,  1,      9, SI9424,2,19940507,0145,-16.7500,-136.6695, 4301,   1799.7,   2.3544,  34.6141,2,  34.6134,2,    145.4,2,    147.3,2,   107.88,2,    35.86,2,     0.00,2,     2.53,2,   -0.001,2,   -0.004,2, -999.000,1,-999.0000,1,  -999.00,9,   -999.0,1,-999.000,9,   2297.0,2,   2378.0,2,     7.63,2,17951.2,-999.0000,-999.000,-999.000,  2.2296,-999.000
   318MWESTW_4,  P21E,   135,  1,      8, SI9428,2,19940507,0145,-16.7500,-136.6695, 4301,   2149.7,   1.9955,  34.6491,2,  34.6488,2,    147.7,2,    149.6,2,   118.95,2,    35.76,2,     0.00,2,     2.51,2, -999.000,9, -999.000,9, -999.000,1,-999.0000,1,  -999.00,9,   -999.0,1,-999.000,9,   2307.0,2,   2394.0,2,     7.64,2,21430.6,-999.0000,-999.000,-999.000,  1.8464,-999.000
   318MWESTW_4,  P21E,   135,  1,      7, SI9429,2,19940507,0145,-16.7500,-136.6695, 4301,   2497.4,   1.8374,  34.6660,2,  34.6665,2,    149.3,2,    151.1,2,   126.29,2,    35.66,2,     0.00,2,     2.50,2, -999.000,9, -999.000,9, -999.000,1,-999.0000,1,  -999.00,9,   -999.0,1,-999.000,9,   2313.0,2,   2403.0,2,     7.65,2,24887.3,-999.0000,-999.000,-999.000,  1.6603,-999.000
   318MWESTW_4,  P21E,   135,  1,      6, SI9431,2,19940507,0145,-16.7500,-136.6695, 4301,   2849.8,   1.7585,  34.6737,2,  34.6730,2,    152.0,2,    153.4,2,   129.42,2,    35.72,2,    -0.01,2,     2.48,2, -999.000,9, -999.000,9, -999.000,1,-999.0000,1,  -999.00,9,   -999.0,1,-999.000,9,   2315.0,2,   2405.0,2,     7.65,2,28391.5,-999.0000,-999.000,-999.000,  1.5504,-999.000
   318MWESTW_4,  P21E,   135,  1,      5, SI9432,2,19940507,0145,-16.7500,-136.6695, 4301,   3200.1,   1.6821,  34.6793,2,  34.6800,2,    155.4,2,    156.4,2,   131.89,2,    35.54,2,     0.00,2,     2.48,2, -999.000,9, -999.000,9, -999.000,1,-999.0000,1,  -999.00,9,   -999.0,1,-999.000,9,   2316.0,2,   2411.0,2,     7.67,2,31873.7,-999.0000,-999.000,-999.000,  1.4417,-999.000
   318MWESTW_4,  P21E,   135,  1,      4, SI9433,2,19940507,0145,-16.7500,-136.6695, 4301,   3554.9,   1.6225,  34.6840,2,  34.6834,2,    159.2,2,    160.3,2,   132.49,2,    35.27,2,     0.00,2,     2.45,2, -999.000,9, -999.000,9, -999.000,1,-999.0000,1,  -999.00,9,   -999.0,1,-999.000,9,   2314.0,2,   2410.0,2,     7.67,2,35401.3,-999.0000,-999.000,-999.000,  1.3476,-999.000
   318MWESTW_4,  P21E,   135,  1,      3, SI9435,2,19940507,0145,-16.7500,-136.6695, 4301,   3902.4,   1.5509,  34.6892,2,  34.6883,2,    167.5,2,    166.9,2,   130.77,2,    34.80,2,     0.01,2,     2.41,2, -999.000,9, -999.000,9, -999.000,1,-999.0000,1,  -999.00,9,   -999.0,1,-999.000,9,   2307.0,2,   2407.0,2,     7.67,2,38855.8,-999.0000,-999.000,-999.000,  1.2411,-999.000
   318MWESTW_4,  P21E,   135,  1,      2, SI9401,2,19940507,0145,-16.7500,-136.6695, 4301,   4255.6,   1.5379,  34.6913,2,  34.6910,2,    171.4,2,    170.7,2,   129.65,2,    34.51,2,     0.01,2,     2.39,2, -999.000,9, -999.000,9, -999.000,1,-999.0000,1,  -999.00,9,   -999.0,1,-999.000,9,   2304.0,2,   -999.0,9,     7.67,2,42367.0,-999.0000,-999.000,-999.000,  1.1896,-999.000
   318MWESTW_4,  P21E,   135,  1,      1, SI9403,2,19940507,0145,-16.7500,-136.6695, 4301,   4354.2,   1.5482,  34.6912,2,  34.6906,2,    171.0,2,    170.9,2,   129.50,2,    34.55,2,     0.00,2,     2.40,2, -999.000,9, -999.000,9, -999.000,1,-999.0000,1,  -999.00,9,   -999.0,1,-999.000,9,   2303.0,2,   2408.0,2,     7.67,2,43346.6,-999.0000,-999.000,-999.000,  1.1884,-999.000