BOTTLE,20010911WHPSIOdm
EXPOCODE,SECT_ID,STNNBR,CASTNO,SAMPNO,BTLNBR,BTLNBR_FLAG_W,DATE,TIME,LATITUDE,LONGITUDE,DEPTH,CTDPRS,CTDTMP,CTDSAL,CTDSAL_FLAG_W,SALNTY,SALNTY_FLAG_W,CTDOXY,CTDOXY_FLAG_W,OXYGEN,OXYGEN_FLAG_W,SILCAT,SILCAT_FLAG_W,NITRAT,NITRAT_FLAG_W,NITRIT,NITRIT_FLAG_W,PHSPHT,PHSPHT_FLAG_W,CFC-11,CFC-11_FLAG_W,CFC-12,CFC-12_FLAG_W,TRITUM,TRITUM_FLAG_W,HELIUM,HELIUM_FLAG_W,DELHE3,DELHE3_FLAG_W,DELC14,DELC14_FLAG_W,NEON,NEON_FLAG_W,TCARBN,TCARBN_FLAG_W,ALKALI,ALKALI_FLAG_W,PH,PH_FLAG_W,CTDRAW,HELIER,DELHER,NEONER,THETA,TRITER
,,,,,,,,,,,,DBAR,ITS-90,PSS-78,,PSS-78,,UMOL/KG,,UMOL/KG,,UMOL/KG,,UMOL/KG,,UMOL/KG,,UMOL/KG,,PMOL/KG,,PMOL/KG,,TU,,UMOL/KG,,PERCNT,,/MILLE,,NMOL/KG,,UMOL/KG,,UMOL/KG,,,,,NMOL/KG,PERCNT,NMOL/KG,ITS-90,TU
   318MWESTW_4,  P21E,   146,  1,     21, SI9408,2,19940509,1850,-17.2500,-143.0000, 1531,      5.6,  28.5928,  36.2804,2,  36.2798,2,    203.3,2,    207.6,2,     1.15,2,     0.00,2,     0.00,2,     0.21,2,    1.583,2,    0.915,2, -999.000,1,-999.0000,1,  -999.00,9,   -999.0,1,-999.000,9,   -999.0,9,   -999.0,9,  -999.00,9,  105.5,-999.0000,-999.000,-999.000, 28.5915,-999.000
   318MWESTW_4,  P21E,   146,  1,     20, SI9409,2,19940509,1850,-17.2500,-143.0000, 1531,     21.9,  28.5913,  36.2814,2,  36.2810,2,    196.4,2,    207.4,2,     1.19,2,    -0.02,2,     0.02,2,     0.21,2,    1.642,2,    1.007,2, -999.000,1,-999.0000,1,  -999.00,9,   -999.0,1,-999.000,9,   -999.0,9,   -999.0,9,  -999.00,9,  268.1,-999.0000,-999.000,-999.000, 28.5860,-999.000
   318MWESTW_4,  P21E,   146,  1,     19, SI9411,2,19940509,1850,-17.2500,-143.0000, 1531,     46.7,  28.5381,  36.3183,2,  36.3176,2,    198.0,2,    205.6,2,     1.08,2,    -0.01,2,     0.01,2,     0.22,2,    1.618,2,    0.919,2, -999.000,1,-999.0000,1,  -999.00,9,   -999.0,1,-999.000,9,   -999.0,9,   -999.0,9,  -999.00,9,  515.9,-999.0000,-999.000,-999.000, 28.5269,-999.000
   318MWESTW_4,  P21E,   146,  1,     18, SI9413,2,19940509,1850,-17.2500,-143.0000, 1531,     95.9,  25.6601,  36.3212,2,  36.3229,2,    216.7,2,    214.7,2,     0.97,2,    -0.01,2,     0.01,2,     0.23,2,    1.853,2,    1.023,2, -999.000,1,-999.0000,1,  -999.00,9,   -999.0,1,-999.000,9,   -999.0,9,   -999.0,9,  -999.00,9, 1006.4,-999.0000,-999.000,-999.000, 25.6388,-999.000
   318MWESTW_4,  P21E,   146,  1,     17, SI9415,2,19940509,1850,-17.2500,-143.0000, 1531,    148.0,  23.3949,  36.1583,2,  36.1567,2,    197.9,2,    200.0,2,     0.86,2,     0.22,2,     0.19,2,     0.30,2,    1.927,2,    1.051,2, -999.000,1,-999.0000,1,  -999.00,9,   -999.0,1,-999.000,9,   -999.0,9,   -999.0,9,  -999.00,9, 1525.9,-999.0000,-999.000,-999.000, 23.3641,-999.000
   318MWESTW_4,  P21E,   146,  1,     16, SI9416,2,19940509,1850,-17.2500,-143.0000, 1531,    197.5,  21.1124,  35.9216,2,  35.9190,2,    187.4,2,    185.1,2,     0.75,2,     2.44,2,     0.03,2,     0.45,2,    1.919,2,    1.038,2, -999.000,1,-999.0000,1,  -999.00,9,   -999.0,1,-999.000,9,   -999.0,9,   -999.0,9,  -999.00,9, 2018.4,-999.0000,-999.000,-999.000, 21.0743,-999.000
   318MWESTW_4,  P21E,   146,  1,     15, SI9417,2,19940509,1850,-17.2500,-143.0000, 1531,    248.8,  18.9567,  35.6278,2,  35.6257,2,    182.8,2,    179.5,2,     1.26,2,     4.36,2,     0.00,2,     0.59,2,    1.889,2,    0.999,2, -999.000,1,-999.0000,1,  -999.00,9,   -999.0,1,-999.000,9,   -999.0,9,   -999.0,9,  -999.00,9, 2529.2,-999.0000,-999.000,-999.000, 18.9122,-999.000
   318MWESTW_4,  P21E,   146,  1,     14, SI9419,2,19940509,1850,-17.2500,-143.0000, 1531,    300.3,  16.3601,  35.2656,2,  35.2627,2,    174.0,2,    172.2,2,     2.86,2,     7.72,2,     0.02,2,     0.81,2,    1.630,2,    0.850,2, -999.000,1,-999.0000,1,  -999.00,9,   -999.0,1,-999.000,9,   -999.0,9,   -999.0,9,  -999.00,9, 3041.7,-999.0000,-999.000,-999.000, 16.3116,-999.000
   318MWESTW_4,  P21E,   146,  1,     13, SI9420,2,19940509,1850,-17.2500,-143.0000, 1531,    400.6,  11.7038,  34.7358,2,  34.7398,2,    141.2,2,    139.1,2,     9.29,2,    18.34,2,     0.01,2,     1.54,2,    0.910,2,    0.473,2, -999.000,1,-999.0000,1,  -999.00,9,   -999.0,1,-999.000,9,   -999.0,9,   -999.0,9,  -999.00,9, 4039.8,-999.0000,-999.000,-999.000, 11.6521,-999.000
   318MWESTW_4,  P21E,   146,  1,     12, SI9421,2,19940509,1850,-17.2500,-143.0000, 1531,    499.4,   7.8307,  34.4940,2,  34.4909,2,    125.4,2,    119.8,2,    22.25,2,    30.05,2,     0.00,2,     2.21,2,    0.174,2,    0.090,2, -999.000,1,-999.0000,1,  -999.00,9,   -999.0,1,-999.000,9,   -999.0,9,   -999.0,9,  -999.00,9, 5021.7,-999.0000,-999.000,-999.000,  7.7802,-999.000
   318MWESTW_4,  P21E,   146,  1,     11, SI9423,2,19940509,1850,-17.2500,-143.0000, 1531,    599.8,   6.2560,  34.4642,2,  34.4610,2,    133.6,2,    132.9,2,    33.04,2,    32.81,2,     0.00,2,     2.33,2,    0.042,2,    0.025,2, -999.000,1,-999.0000,1,  -999.00,9,   -999.0,1,-999.000,9,   -999.0,9,   -999.0,9,  -999.00,9, 6020.8,-999.0000,-999.000,-999.000,  6.2020,-999.000
   318MWESTW_4,  P21E,   146,  1,     10, SI9425,2,19940509,1850,-17.2500,-143.0000, 1531,    700.8,   5.6563,  34.4726,2,  34.4716,2,    134.0,2,    131.1,2,    42.11,2,    34.13,2,    -0.01,2,     2.41,2,    0.017,2,    0.007,2, -999.000,1,-999.0000,1,  -999.00,9,   -999.0,1,-999.000,9,   -999.0,9,   -999.0,9,  -999.00,9, 7024.7,-999.0000,-999.000,-999.000,  5.5959,-999.000
   318MWESTW_4,  P21E,   146,  1,      9, SI9424,2,19940509,1850,-17.2500,-143.0000, 1531,    800.5,   5.2172,  34.4838,2,  34.4813,2,    129.6,2,    126.4,2,    49.93,2,    35.35,2,    -0.01,2,     2.50,2,    0.009,2,   -0.001,2, -999.000,1,-999.0000,1,  -999.00,9,   -999.0,1,-999.000,9,   -999.0,9,   -999.0,9,  -999.00,9, 8015.6,-999.0000,-999.000,-999.000,  5.1504,-999.000
   318MWESTW_4,  P21E,   146,  1,      8, SI9428,2,19940509,1850,-17.2500,-143.0000, 1531,    896.8,   4.7938,  34.4972,2,  34.4962,2,    127.7,2,    122.7,2,    58.39,2,    36.20,2,     0.00,2,     2.57,2,    0.003,2,   -0.002,2, -999.000,1,-999.0000,1,  -999.00,9,   -999.0,1,-999.000,9,   -999.0,9,   -999.0,9,  -999.00,9, 8973.0,-999.0000,-999.000,-999.000,  4.7212,-999.000
   318MWESTW_4,  P21E,   146,  1,      7, SI9429,2,19940509,1850,-17.2500,-143.0000, 1531,   1000.0,   4.1667,  34.5123,2,  34.5101,2,    135.5,2,    135.3,2,    68.39,2,    35.67,2,     0.00,2,     2.52,2,    0.002,2,   -0.003,2, -999.000,1,-999.0000,1,  -999.00,9,   -999.0,1,-999.000,9,   -999.0,9,   -999.0,9,  -999.00,9, 9998.9,-999.0000,-999.000,-999.000,  4.0897,-999.000
   318MWESTW_4,  P21E,   146,  1,      6, SI9431,2,19940509,1850,-17.2500,-143.0000, 1531,   1096.0,   3.9075,  34.5222,2,  34.5209,2,    137.7,2,    138.4,2,    73.10,2,    35.58,2,    -0.01,2,     2.52,2, -999.000,9, -999.000,9, -999.000,1,-999.0000,1,  -999.00,9,   -999.0,1,-999.000,9,   -999.0,9,   -999.0,9,  -999.00,9,10953.2,-999.0000,-999.000,-999.000,  3.8245,-999.000
   318MWESTW_4,  P21E,   146,  1,      5, SI9432,2,19940509,1850,-17.2500,-143.0000, 1531,   1197.4,   3.6917,  34.5315,2,  34.5296,2,    141.6,2,    139.5,2,    77.20,2,    35.64,2,     0.01,2,     2.53,2, -999.000,9, -999.000,9, -999.000,1,-999.0000,1,  -999.00,9,   -999.0,1,-999.000,9,   -999.0,9,   -999.0,9,  -999.00,9,11961.4,-999.0000,-999.000,-999.000,  3.6021,-999.000
   318MWESTW_4,  P21E,   146,  1,      4, SI9433,2,19940509,1850,-17.2500,-143.0000, 1531,   1300.0,   3.3215,  34.5511,2,  34.5488,2,    142.4,2,    142.5,2,    85.17,2,    35.73,2,     0.00,2,     2.52,2, -999.000,9, -999.000,9, -999.000,1,-999.0000,1,  -999.00,9,   -999.0,1,-999.000,9,   -999.0,9,   -999.0,9,  -999.00,9,12981.1,-999.0000,-999.000,-999.000,  3.2269,-999.000
   318MWESTW_4,  P21E,   146,  1,      3, SI9435,2,19940509,1850,-17.2500,-143.0000, 1531,   1401.5,   2.9902,  34.5690,2,  34.5706,2,    144.7,2,    144.5,2,    92.06,2,    35.81,2,     0.01,2,     2.53,2, -999.000,9, -999.000,9, -999.000,1,-999.0000,1,  -999.00,9,   -999.0,1,-999.000,9,   -999.0,9,   -999.0,9,  -999.00,9,13989.6,-999.0000,-999.000,-999.000,  2.8906,-999.000
   318MWESTW_4,  P21E,   146,  1,      2, SI9401,2,19940509,1850,-17.2500,-143.0000, 1531,   1482.5,   2.8152,  34.5821,2,  34.5800,2,    145.8,2,    146.5,2,    96.22,2,    35.63,2,     0.06,3,     2.34,3, -999.000,9, -999.000,9, -999.000,1,-999.0000,1,  -999.00,9,   -999.0,1,-999.000,9,   -999.0,9,   -999.0,9,  -999.00,9,14793.7,-999.0000,-999.000,-999.000,  2.7109,-999.000
   318MWESTW_4,  P21E,   146,  1,      1, SI9403,2,19940509,1850,-17.2500,-143.0000, 1531,   1533.6,   2.7637,  34.5851,2,  34.5838,2,    145.0,2,    147.8,2,    97.34,2,    35.65,2,     0.00,2,     2.50,2, -999.000,9, -999.000,9, -999.000,1,-999.0000,1,  -999.00,9,   -999.0,1,-999.000,9,   -999.0,9,   -999.0,9,  -999.00,9,15301.2,-999.0000,-999.000,-999.000,  2.6558,-999.000
   318MWESTW_4,  P21E,   147,  1,     24, SI9404,2,19940509,2251,-17.4972,-143.1667, 3356,      7.9,  28.6033,  36.2335,2,  36.2331,2,    201.1,2,    202.7,2,     0.65,2,     0.01,2,     0.00,2,     0.21,2, -999.000,9, -999.000,9, -999.000,1,-999.0000,1,  -999.00,9,   -999.0,1,-999.000,9,   -999.0,9,   -999.0,9,  -999.00,9,  128.8,-999.0000,-999.000,-999.000, 28.6014,-999.000
   318MWESTW_4,  P21E,   147,  1,     23, SI9405,3,19940509,2251,-17.4972,-143.1667, 3356,     23.6,  28.6104,  36.2331,2,  36.2323,2,    196.4,2,    203.9,2,     0.68,2,     0.01,2,     0.00,2,     0.21,2, -999.000,9, -999.000,9, -999.000,1,-999.0000,1,  -999.00,9,   -999.0,1,-999.000,9,   -999.0,9,   -999.0,9,  -999.00,9,  285.5,-999.0000,-999.000,-999.000, 28.6047,-999.000
   318MWESTW_4,  P21E,   147,  1,     22, SI9407,9,19940509,2251,-17.4972,-143.1667, 3356,     48.8,  28.6145,  36.3274,2,-999.0000,9,    206.2,2,   -999.0,9,  -999.00,9,  -999.00,9,  -999.00,9,  -999.00,9, -999.000,9, -999.000,9, -999.000,1,-999.0000,1,  -999.00,9,   -999.0,1,-999.000,9,   -999.0,9,   -999.0,9,  -999.00,9,  536.4,-999.0000,-999.000,-999.000, 28.6028,-999.000
   318MWESTW_4,  P21E,   147,  1,     21, SI9408,2,19940509,2251,-17.4972,-143.1667, 3356,    100.1,  25.7557,  36.3898,2,  36.3926,2,    218.6,2,    212.9,2,     0.57,2,     0.01,2,     0.00,2,     0.23,2, -999.000,9, -999.000,9, -999.000,1,-999.0000,1,  -999.00,9,   -999.0,1,-999.000,9,   -999.0,9,   -999.0,9,  -999.00,9, 1048.3,-999.0000,-999.000,-999.000, 25.7334,-999.000
   318MWESTW_4,  P21E,   147,  1,     20, SI9409,2,19940509,2251,-17.4972,-143.1667, 3356,    151.0,  24.2790,  36.2270,2,  36.2246,2,    203.1,2,    203.6,2,     0.44,2,     0.02,2,     0.03,2,     0.23,2, -999.000,9, -999.000,9, -999.000,1,-999.0000,1,  -999.00,9,   -999.0,1,-999.000,9,   -999.0,9,   -999.0,9,  -999.00,9, 1555.7,-999.0000,-999.000,-999.000, 24.2468,-999.000
   318MWESTW_4,  P21E,   147,  1,     19, SI9411,2,19940509,2251,-17.4972,-143.1667, 3356,    200.8,  22.1846,  36.0146,2,  36.0175,2,    191.8,2,    192.0,2,     0.47,2,     1.10,2,     0.17,2,     0.33,2, -999.000,9, -999.000,9, -999.000,1,-999.0000,1,  -999.00,9,   -999.0,1,-999.000,9,   -999.0,9,   -999.0,9,  -999.00,9, 2051.3,-999.0000,-999.000,-999.000, 22.1444,-999.000
   318MWESTW_4,  P21E,   147,  1,     18, SI9413,2,19940509,2251,-17.4972,-143.1667, 3356,    251.6,  20.1525,  35.8025,2,  35.8125,2,    183.9,2,    180.2,2,     0.66,2,     3.29,2,     0.02,2,     0.51,2, -999.000,9, -999.000,9, -999.000,1,-999.0000,1,  -999.00,9,   -999.0,1,-999.000,9,   -999.0,9,   -999.0,9,  -999.00,9, 2557.3,-999.0000,-999.000,-999.000, 20.1055,-999.000
   318MWESTW_4,  P21E,   147,  1,     17, SI9415,2,19940509,2251,-17.4972,-143.1667, 3356,    298.1,  17.5276,  35.4427,2,  35.4616,2,    180.0,2,    178.8,2,     1.47,2,     5.29,2,     0.01,2,     0.62,2, -999.000,9, -999.000,9, -999.000,1,-999.0000,1,  -999.00,9,   -999.0,1,-999.000,9,   -999.0,9,   -999.0,9,  -999.00,9, 3021.0,-999.0000,-999.000,-999.000, 17.4771,-999.000
   318MWESTW_4,  P21E,   147,  1,     16, SI9416,2,19940509,2251,-17.4972,-143.1667, 3356,    400.3,  10.6360,  34.6386,2,  34.6374,2,    133.8,2,    130.7,2,    11.26,2,    21.52,2,     0.00,2,     1.72,2, -999.000,9, -999.000,9, -999.000,1,-999.0000,1,  -999.00,9,   -999.0,1,-999.000,9,   -999.0,9,   -999.0,9,  -999.00,9, 4036.9,-999.0000,-999.000,-999.000, 10.5874,-999.000
   318MWESTW_4,  P21E,   147,  1,     15, SI9417,2,19940509,2251,-17.4972,-143.1667, 3356,    497.6,   7.5342,  34.4685,2,  34.4707,2,    127.1,2,    130.6,2,    21.84,2,    29.86,2,     0.00,2,     2.17,2, -999.000,9, -999.000,9, -999.000,1,-999.0000,1,  -999.00,9,   -999.0,1,-999.000,9,   -999.0,9,   -999.0,9,  -999.00,9, 5004.9,-999.0000,-999.000,-999.000,  7.4850,-999.000
   318MWESTW_4,  P21E,   147,  1,     14, SI9419,2,19940509,2251,-17.4972,-143.1667, 3356,    597.1,   6.5920,  34.4572,2,  34.4546,2,    134.8,2,    135.6,2,    28.68,2,    31.86,2,     0.00,2,     2.27,2, -999.000,9, -999.000,9, -999.000,1,-999.0000,1,  -999.00,9,   -999.0,1,-999.000,9,   -999.0,9,   -999.0,9,  -999.00,9, 5994.9,-999.0000,-999.000,-999.000,  6.5368,-999.000
   318MWESTW_4,  P21E,   147,  1,     13, SI9420,2,19940509,2251,-17.4972,-143.1667, 3356,    698.5,   6.0820,  34.4642,2,  34.4620,2,    135.2,2,    137.3,2,    35.22,2,    32.67,2,     0.00,2,     2.31,2, -999.000,9, -999.000,9, -999.000,1,-999.0000,1,  -999.00,9,   -999.0,1,-999.000,9,   -999.0,9,   -999.0,9,  -999.00,9, 7002.4,-999.0000,-999.000,-999.000,  6.0196,-999.000
   318MWESTW_4,  P21E,   147,  1,     12, SI9421,2,19940509,2251,-17.4972,-143.1667, 3356,    897.0,   4.6497,  34.4912,2,  34.4911,2,    137.0,2,    135.3,4,    58.50,2,    35.12,2,    -0.01,2,     2.47,2, -999.000,9, -999.000,9, -999.000,1,-999.0000,1,  -999.00,9,   -999.0,1,-999.000,9,   -999.0,9,   -999.0,9,  -999.00,9, 8976.9,-999.0000,-999.000,-999.000,  4.5781,-999.000
   318MWESTW_4,  P21E,   147,  1,     11, SI9423,2,19940509,2251,-17.4972,-143.1667, 3356,   1102.6,   3.8201,  34.5207,2,  34.5199,2,    142.8,2,    141.2,2,    74.18,2,    35.46,2,     0.01,2,     2.49,2, -999.000,9, -999.000,9, -999.000,1,-999.0000,1,  -999.00,9,   -999.0,1,-999.000,9,   -999.0,9,   -999.0,9,  -999.00,9,11020.5,-999.0000,-999.000,-999.000,  3.7373,-999.000
   318MWESTW_4,  P21E,   147,  1,     10, SI9425,2,19940509,2251,-17.4972,-143.1667, 3356,   1300.4,   3.1895,  34.5535,2,  34.5521,2,    144.6,2,    143.9,2,    87.21,2,    35.60,2,     0.00,2,     2.51,2, -999.000,9, -999.000,9, -999.000,1,-999.0000,1,  -999.00,9,   -999.0,1,-999.000,9,   -999.0,9,   -999.0,9,  -999.00,9,12987.5,-999.0000,-999.000,-999.000,  3.0962,-999.000
   318MWESTW_4,  P21E,   147,  1,      9, SI9424,2,19940509,2251,-17.4972,-143.1667, 3356,   1506.1,   2.8353,  34.5790,2,  34.5789,2,    146.6,2,    146.4,2,    95.92,2,    35.69,2,     0.00,2,     2.51,2, -999.000,9, -999.000,9, -999.000,1,-999.0000,1,  -999.00,9,   -999.0,1,-999.000,9,   -999.0,9,   -999.0,9,  -999.00,9,15032.3,-999.0000,-999.000,-999.000,  2.7288,-999.000
   318MWESTW_4,  P21E,   147,  1,      8, SI9428,2,19940509,2251,-17.4972,-143.1667, 3356,   1704.3,   2.5212,  34.6025,2,  34.6009,2,    149.1,2,    149.5,2,   103.38,2,    35.55,2,    -0.01,2,     2.50,2, -999.000,9, -999.000,9, -999.000,1,-999.0000,1,  -999.00,9,   -999.0,1,-999.000,9,   -999.0,9,   -999.0,9,  -999.00,9,17003.2,-999.0000,-999.000,-999.000,  2.4022,-999.000
   318MWESTW_4,  P21E,   147,  1,      7, SI9429,2,19940509,2251,-17.4972,-143.1667, 3356,   1901.0,   2.2722,  34.6215,2,  34.6209,2,    152.3,2,    152.4,2,   109.29,2,    35.41,2,    -0.01,2,     2.48,2, -999.000,9, -999.000,9, -999.000,1,-999.0000,1,  -999.00,9,   -999.0,1,-999.000,9,   -999.0,9,   -999.0,9,  -999.00,9,18958.2,-999.0000,-999.000,-999.000,  2.1401,-999.000
   318MWESTW_4,  P21E,   147,  1,      6, SI9431,2,19940509,2251,-17.4972,-143.1667, 3356,   2098.4,   2.0990,  34.6360,2,  34.6346,2,    155.3,2,    155.4,2,   113.50,2,    35.32,2,    -0.01,2,     2.47,2, -999.000,9, -999.000,9, -999.000,1,-999.0000,1,  -999.00,9,   -999.0,1,-999.000,9,   -999.0,9,   -999.0,9,  -999.00,9,20920.9,-999.0000,-999.000,-999.000,  1.9527,-999.000
   318MWESTW_4,  P21E,   147,  1,      5, SI9432,2,19940509,2251,-17.4972,-143.1667, 3356,   2396.6,   1.8925,  34.6535,2,  34.6531,2,    158.5,2,    159.8,2,   118.02,2,    35.02,2,     0.01,2,     2.45,2, -999.000,9, -999.000,9, -999.000,1,-999.0000,1,  -999.00,9,   -999.0,1,-999.000,9,   -999.0,9,   -999.0,9,  -999.00,9,23885.4,-999.0000,-999.000,-999.000,  1.7235,-999.000
   318MWESTW_4,  P21E,   147,  1,      4, SI9433,2,19940509,2251,-17.4972,-143.1667, 3356,   2698.3,   1.7743,  34.6640,2,  34.6647,2,    162.5,2,    162.8,2,   120.36,2,    34.85,2,     0.00,2,     2.43,2, -999.000,9, -999.000,9, -999.000,1,-999.0000,1,  -999.00,9,   -999.0,1,-999.000,9,   -999.0,9,   -999.0,9,  -999.00,9,26884.9,-999.0000,-999.000,-999.000,  1.5801,-999.000
   318MWESTW_4,  P21E,   147,  1,      3, SI9435,2,19940509,2251,-17.4972,-143.1667, 3356,   2995.8,   1.6957,  34.6715,2,  34.6720,2,    166.6,2,    166.7,2,   121.16,2,    34.58,2,    -0.01,2,     2.41,2, -999.000,9, -999.000,9, -999.000,1,-999.0000,1,  -999.00,9,   -999.0,1,-999.000,9,   -999.0,9,   -999.0,9,  -999.00,9,29842.5,-999.0000,-999.000,-999.000,  1.4750,-999.000
   318MWESTW_4,  P21E,   147,  1,      2, SI9401,2,19940509,2251,-17.4972,-143.1667, 3356,   3295.9,   1.5988,  34.6812,2,  34.6787,2,    171.9,2,    171.2,2,   122.12,2,    34.31,2,    -0.01,2,     2.39,2, -999.000,9, -999.000,9, -999.000,1,-999.0000,1,  -999.00,9,   -999.0,1,-999.000,9,   -999.0,9,   -999.0,9,  -999.00,9,32825.8,-999.0000,-999.000,-999.000,  1.3509,-999.000
   318MWESTW_4,  P21E,   147,  1,      1, SI9403,2,19940509,2251,-17.4972,-143.1667, 3356,   3380.2,   1.5679,  34.6839,2,  34.6824,2,    172.0,2,    173.0,2,   122.24,2,    34.16,2,     0.01,2,     2.39,2, -999.000,9, -999.000,9, -999.000,1,-999.0000,1,  -999.00,9,   -999.0,1,-999.000,9,   -999.0,9,   -999.0,9,  -999.00,9,33663.2,-999.0000,-999.000,-999.000,  1.3122,-999.000