BOTTLE,20010911WHPSIOdm
EXPOCODE,SECT_ID,STNNBR,CASTNO,SAMPNO,BTLNBR,BTLNBR_FLAG_W,DATE,TIME,LATITUDE,LONGITUDE,DEPTH,CTDPRS,CTDTMP,CTDSAL,CTDSAL_FLAG_W,SALNTY,SALNTY_FLAG_W,CTDOXY,CTDOXY_FLAG_W,OXYGEN,OXYGEN_FLAG_W,SILCAT,SILCAT_FLAG_W,NITRAT,NITRAT_FLAG_W,NITRIT,NITRIT_FLAG_W,PHSPHT,PHSPHT_FLAG_W,CFC-11,CFC-11_FLAG_W,CFC-12,CFC-12_FLAG_W,TRITUM,TRITUM_FLAG_W,HELIUM,HELIUM_FLAG_W,DELHE3,DELHE3_FLAG_W,DELC14,DELC14_FLAG_W,NEON,NEON_FLAG_W,TCARBN,TCARBN_FLAG_W,ALKALI,ALKALI_FLAG_W,PH,PH_FLAG_W,CTDRAW,HELIER,DELHER,NEONER,THETA,TRITER
,,,,,,,,,,,,DBAR,ITS-90,PSS-78,,PSS-78,,UMOL/KG,,UMOL/KG,,UMOL/KG,,UMOL/KG,,UMOL/KG,,UMOL/KG,,PMOL/KG,,PMOL/KG,,TU,,UMOL/KG,,PERCNT,,/MILLE,,NMOL/KG,,UMOL/KG,,UMOL/KG,,,,,NMOL/KG,PERCNT,NMOL/KG,ITS-90,TU
   318MWESTW_5,  P21W,   276,  1,     25, SI9425,2,19940618,1340,-23.5000, 157.6500, 2150,      5.8,  22.6978,  35.7720,2,  35.7722,2,    211.3,2,    212.6,2,     0.42,2,     0.00,2,     0.01,2,     0.11,2,    1.947,2,    1.070,2, -999.000,1,-999.0000,1,  -999.00,9,   -999.0,1,-999.000,9,   2001.7,2,   2348.8,2,     8.07,2,  115.5,-999.0000,-999.000,-999.000, 22.6966,-999.000
   318MWESTW_5,  P21W,   276,  1,     24, SI9434,2,19940618,1340,-23.5000, 157.6500, 2150,     19.1,  22.7004,  35.7720,2,  35.7726,2,    208.6,2,    213.2,2,     0.43,2,     0.00,2,     0.02,2,     0.11,2, -999.000,9, -999.000,9, -999.000,1,-999.0000,1,  -999.00,9,   -999.0,1,-999.000,9,   2001.1,2,   2351.9,2,     8.07,2,  248.2,-999.0000,-999.000,-999.000, 22.6965,-999.000
   318MWESTW_5,  P21W,   276,  1,     23, SI9423,2,19940618,1340,-23.5000, 157.6500, 2150,     44.7,  22.7042,  35.7717,2,  35.7730,2,    215.6,2,    212.8,2,     0.43,2,     0.04,2,     0.02,2,     0.12,2, -999.000,9, -999.000,9, -999.000,1,-999.0000,1,  -999.00,9,   -999.0,1,-999.000,9,   2001.5,2,   2347.8,2,     8.07,2,  504.0,-999.0000,-999.000,-999.000, 22.6951,-999.000
   318MWESTW_5,  P21W,   276,  1,     22, SI9418,2,19940618,1340,-23.5000, 157.6500, 2150,     94.9,  22.7097,  35.7721,2,  35.7728,2,    213.8,2,    213.4,2,     0.44,2,     0.01,2,     0.01,2,     0.13,2,    1.930,2,    1.063,2, -999.000,1,-999.0000,1,  -999.00,9,   -999.0,1,-999.000,9,   2000.6,2,   2351.6,2,     8.07,2, 1003.5,-999.0000,-999.000,-999.000, 22.6904,-999.000
   318MWESTW_5,  P21W,   276,  1,     21, SI9421,2,19940618,1340,-23.5000, 157.6500, 2150,    145.9,  22.1316,  35.7586,2,  35.7594,2,    194.3,2,    198.7,2,     0.59,2,     1.36,2,     0.10,2,     0.23,2, -999.000,9, -999.000,9, -999.000,1,-999.0000,1,  -999.00,9,   -999.0,1,-999.000,9,   2021.2,2,   2348.7,2,     8.05,2, 1511.1,-999.0000,-999.000,-999.000, 22.1025,-999.000
   318MWESTW_5,  P21W,   276,  1,     20, SI9420,2,19940618,1340,-23.5000, 157.6500, 2150,    196.5,  20.2470,  35.7116,2,  35.7118,2,    186.4,2,    191.0,2,     0.88,2,     3.29,2,     0.02,2,     0.35,2,    2.064,2,    1.101,2, -999.000,1,-999.0000,1,  -999.00,9,   -999.0,1,-999.000,9,   2048.0,2,   2347.2,2,     8.00,2, 2015.2,-999.0000,-999.000,-999.000, 20.2102,-999.000
   318MWESTW_5,  P21W,   276,  1,     19, SI9419,2,19940618,1340,-23.5000, 157.6500, 2150,    248.5,  19.1018,  35.6210,2,  35.6251,2,    178.9,2,    180.4,2,     1.47,2,     5.22,2,     0.02,2,     0.49,2, -999.000,9, -999.000,9, -999.000,1,-999.0000,1,  -999.00,9,   -999.0,1,-999.000,9,   2056.9,2,   2338.2,2,     7.97,2, 2533.5,-999.0000,-999.000,-999.000, 19.0571,-999.000
   318MWESTW_5,  P21W,   276,  1,     18, SI9439,2,19940618,1340,-23.5000, 157.6500, 2150,    298.2,  17.7466,  35.5490,2,  35.5486,2,    182.3,2,    183.6,2,     1.76,2,     6.21,2,     0.01,2,     0.55,2,    1.925,2,    1.035,2, -999.000,1,-999.0000,1,  -999.00,9,   -999.0,1,-999.000,9,   2065.6,2,   2328.7,2,     7.94,2, 3028.1,-999.0000,-999.000,-999.000, 17.6956,-999.000
   318MWESTW_5,  P21W,   276,  1,     17, SI9417,2,19940618,1340,-23.5000, 157.6500, 2150,    349.1,  16.4111,  35.4550,2,  35.4537,2,    183.0,2,    184.7,2,     2.33,2,     7.73,2,     0.02,2,     0.64,2, -999.000,9, -999.000,9, -999.000,1,-999.0000,1,  -999.00,9,   -999.0,1,-999.000,9,   2078.5,2,   2324.5,2,     7.92,2, 3534.3,-999.0000,-999.000,-999.000, 16.3545,-999.000
   318MWESTW_5,  P21W,   276,  1,     16, SI9416,2,19940618,1340,-23.5000, 157.6500, 2150,    399.3,  14.2654,  35.2517,2,  35.2524,2,    184.6,2,    183.4,2,     3.78,2,    11.10,2,     0.01,2,     0.87,2,    1.759,2,    0.909,2, -999.000,1,-999.0000,1,  -999.00,9,   -999.0,1,-999.000,9,   2104.1,2,   2332.9,2,     7.86,2, 4034.4,-999.0000,-999.000,-999.000, 14.2064,-999.000
   318MWESTW_5,  P21W,   276,  1,     15, SI9415,2,19940618,1340,-23.5000, 157.6500, 2150,    493.5,  11.4222,  34.9455,2,  34.9443,2,    184.9,2,    186.6,2,     6.52,2,    16.19,2,     0.01,2,     1.19,2, -999.000,9, -999.000,9, -999.000,1,-999.0000,1,  -999.00,9,   -999.0,1,-999.000,9,   2123.4,2,   2302.4,2,     7.78,2, 4971.3,-999.0000,-999.000,-999.000, 11.3591,-999.000
   318MWESTW_5,  P21W,   276,  1,     14, SI9436,2,19940618,1340,-23.5000, 157.6500, 2150,    594.9,   9.0740,  34.6817,2,  34.6794,2,    190.9,2,    190.9,2,    10.41,2,    20.97,2,     0.01,2,     1.50,2,    0.922,2,    0.468,2, -999.000,1,-999.0000,1,  -999.00,9,   -999.0,1,-999.000,9,   2142.1,2,   2304.5,2,     7.73,2, 5980.2,-999.0000,-999.000,-999.000,  9.0078,-999.000
   318MWESTW_5,  P21W,   276,  1,     13, SI9413,2,19940618,1340,-23.5000, 157.6500, 2150,    695.9,   7.3809,  34.5228,2,  34.5207,2,    195.0,2,    195.4,2,    16.45,2,    24.47,2,     0.00,2,     1.72,2, -999.000,9, -999.000,9, -999.000,1,-999.0000,1,  -999.00,9,   -999.0,1,-999.000,9,   2160.3,2,   2294.8,2,     7.69,2, 6984.3,-999.0000,-999.000,-999.000,  7.3119,-999.000
   318MWESTW_5,  P21W,   276,  1,     12, SI9438,2,19940618,1340,-23.5000, 157.6500, 2150,    790.9,   6.4207,  34.4700,2,  34.4697,2,    192.7,2,    191.2,2,    23.78,2,    26.81,2,     0.00,2,     1.86,2,    0.267,6,    0.147,6, -999.000,1,-999.0000,1,  -999.00,9,   -999.0,1,-999.000,9,   2175.9,2,   2294.4,2,     7.66,2, 7928.8,-999.0000,-999.000,-999.000,  6.3475,-999.000
   318MWESTW_5,  P21W,   276,  1,     11, SI9411,2,19940618,1340,-23.5000, 157.6500, 2150,    900.8,   5.4902,  34.4528,2,  34.4530,2,    184.7,2,    184.9,2,    35.14,2,    29.18,2,     0.01,2,     2.03,2, -999.000,9, -999.000,9, -999.000,1,-999.0000,1,  -999.00,9,   -999.0,1,-999.000,9,   2193.0,2,   2305.0,2,     7.63,2, 9021.4,-999.0000,-999.000,-999.000,  5.4125,-999.000
   318MWESTW_5,  P21W,   276,  1,     10, SI9412,2,19940618,1340,-23.5000, 157.6500, 2150,   1002.7,   4.8673,  34.4680,2,  34.4693,2,    175.7,2,    176.9,2,    46.64,2,    30.83,2,     0.01,2,     2.14,2,    0.067,2,    0.041,2, -999.000,1,-999.0000,1,  -999.00,9,   -999.0,1,-999.000,9,   2211.3,2,   2319.7,2,     7.60,2,10034.7,-999.0000,-999.000,-999.000,  4.7848,-999.000
   318MWESTW_5,  P21W,   276,  1,      9, SI9410,2,19940618,1340,-23.5000, 157.6500, 2150,   1097.0,   4.3477,  34.4898,2,  34.4897,2,    168.2,2,    167.9,2,    57.85,2,    32.06,2,     0.01,2,     2.23,2, -999.000,9, -999.000,9, -999.000,1,-999.0000,1,  -999.00,9,   -999.0,1,-999.000,9,   2228.4,2,   2329.6,2,     7.58,2,10972.2,-999.0000,-999.000,-999.000,  4.2610,-999.000
   318MWESTW_5,  P21W,   276,  1,      8, SI9422,2,19940618,1340,-23.5000, 157.6500, 2150,   1202.2,   3.9394,  34.5122,2,  34.5123,2,    163.0,2,    161.5,2,    68.19,2,    33.22,2,     0.01,2,     2.32,2,    0.014,2,    0.006,2, -999.000,1,-999.0000,1,  -999.00,9,   -999.0,1,-999.000,9,   2250.3,2,   2342.4,2,     7.57,2,12018.7,-999.0000,-999.000,-999.000,  3.8472,-999.000
   318MWESTW_5,  P21W,   276,  1,      7, SI9407,2,19940618,1340,-23.5000, 157.6500, 2150,   1351.6,   3.4618,  34.5470,2,  34.5472,2,    154.6,2,    152.9,2,    81.69,2,    34.29,2,     0.01,2,     2.40,2, -999.000,9, -999.000,9, -999.000,1,-999.0000,1,  -999.00,9,   -999.0,1,-999.000,9,   2263.7,2,   2365.4,2,     7.55,2,13503.8,-999.0000,-999.000,-999.000,  3.3614,-999.000
   318MWESTW_5,  P21W,   276,  1,      6, SI9427,2,19940618,1340,-23.5000, 157.6500, 2150,   1501.1,   3.0806,  34.5792,2,  34.5793,2,    147.8,2,    147.2,2,    93.18,2,    34.99,2,     0.00,2,     2.46,2,    0.002,2,    0.000,2, -999.000,1,-999.0000,1,  -999.00,9,   -999.0,1,-999.000,9,   2279.6,2,   2374.9,2,     7.55,2,14989.9,-999.0000,-999.000,-999.000,  2.9717,-999.000
   318MWESTW_5,  P21W,   276,  1,      5, SI9405,2,19940618,1340,-23.5000, 157.6500, 2150,   1655.0,   2.7545,  34.6088,2,  34.6081,2,    147.2,2,    146.1,2,   100.50,2,    35.20,2,     0.01,2,     2.47,2, -999.000,9, -999.000,9, -999.000,1,-999.0000,1,  -999.00,9,   -999.0,1,-999.000,9,   2286.6,2,   2380.4,2,     7.55,2,16519.3,-999.0000,-999.000,-999.000,  2.6366,-999.000
   318MWESTW_5,  P21W,   276,  1,      4, SI9404,2,19940618,1340,-23.5000, 157.6500, 2150,   1807.6,   2.5390,  34.6293,2,  34.6295,2,    149.5,2,    148.9,2,   103.80,2,    35.12,2,     0.01,2,     2.44,2,    0.001,2,    0.000,2, -999.000,1,-999.0000,1,  -999.00,9,   -999.0,1,-999.000,9,   2290.8,2,   2381.4,2,     7.55,2,18036.0,-999.0000,-999.000,-999.000,  2.4110,-999.000
   318MWESTW_5,  P21W,   276,  1,      3, SI9403,2,19940618,1340,-23.5000, 157.6500, 2150,   1954.5,   2.3911,  34.6480,2,  34.6484,2,    155.0,2,    154.8,2,   102.93,2,    34.63,2,     0.01,2,     2.41,2, -999.000,9, -999.000,9, -999.000,1,-999.0000,1,  -999.00,9,   -999.0,1,-999.000,9,   2287.8,2,   -999.0,9,     7.56,2,19496.7,-999.0000,-999.000,-999.000,  2.2526,-999.000
   318MWESTW_5,  P21W,   276,  1,      2, SI9437,2,19940618,1340,-23.5000, 157.6500, 2150,   2107.2,   2.2664,  34.6674,2,  34.6673,2,    160.2,2,    160.9,2,   100.48,2,    34.01,2,     0.01,2,     2.36,2, -999.000,9, -999.000,9, -999.000,1,-999.0000,1,  -999.00,9,   -999.0,1,-999.000,9,   2280.3,2,   2392.4,2,     7.56,2,21014.2,-999.0000,-999.000,-999.000,  2.1165,-999.000
   318MWESTW_5,  P21W,   276,  1,      1, SI9401,2,19940618,1340,-23.5000, 157.6500, 2150,   2150.6,   2.2195,  34.6753,2,  34.6765,2,    164.2,2,    165.2,2,    99.16,2,    33.79,2,     0.00,2,     2.35,2,    0.000,2,   -0.001,2, -999.000,1,-999.0000,1,  -999.00,9,   -999.0,1,-999.000,9,   2277.8,2,   2382.2,2,     7.57,2,21444.9,-999.0000,-999.000,-999.000,  2.0666,-999.000
   318MWESTW_5,  P21W,   277,  1,     25, SI9425,2,19940618,1822,-23.6833, 157.1833, 2195,      4.5,  22.5814,  35.8076,2,  35.8088,2,    210.6,2,    214.9,2,     0.42,2,     0.03,2,     0.01,2,     0.12,2,    1.932,2,    1.062,2,    0.882,2,-999.0000,1,  -999.00,9,   -999.0,1,-999.000,9,   -999.0,9,   -999.0,9,  -999.00,9,  104.7,-999.0000,-999.000,-999.000, 22.5805,   0.008
   318MWESTW_5,  P21W,   277,  1,     24, SI9434,2,19940618,1822,-23.6833, 157.1833, 2195,     24.3,  22.5811,  35.8075,2,  35.8080,2,    209.5,2,    213.2,2,     0.43,2,    -0.01,2,     0.01,2,     0.12,2, -999.000,9, -999.000,9, -999.000,1,-999.0000,1,  -999.00,9,   -999.0,1,-999.000,9,   -999.0,9,   -999.0,9,  -999.00,9,  301.9,-999.0000,-999.000,-999.000, 22.5762,-999.000
   318MWESTW_5,  P21W,   277,  1,     23, SI9423,2,19940618,1822,-23.6833, 157.1833, 2195,     49.6,  22.5864,  35.8072,2,  35.8088,2,    212.1,2,    224.2,2,     0.28,2,    -0.01,2,     0.02,2,     0.11,2,    1.990,2,    1.088,2,    0.877,2,   1.6980,2,    -1.37,2,   -999.0,1,   6.806,2,   -999.0,9,   -999.0,9,  -999.00,9,  554.0,  0.0085,   0.080,   0.034, 22.5764,   0.009
   318MWESTW_5,  P21W,   277,  1,     22, SI9418,2,19940618,1822,-23.6833, 157.1833, 2195,     94.8,  22.5876,  35.8064,2,  35.8078,2,    208.4,2,    220.3,2,     0.44,2,     0.04,2,     0.01,2,     0.11,2,    1.978,2,    1.090,2,    0.882,2,   1.7138,2,    -1.52,2,   -999.0,1,   6.862,2,   -999.0,9,   -999.0,9,  -999.00,9, 1003.6,  0.0086,   0.080,   0.034, 22.5684,   0.008
   318MWESTW_5,  P21W,   277,  1,     21, SI9421,2,19940618,1822,-23.6833, 157.1833, 2195,    145.7,  20.8788,  35.7239,2,  35.7254,2,    184.5,2,    189.9,2,     0.73,2,     2.92,2,     0.03,2,     0.34,2,    2.011,2,    1.069,2,    0.831,2,   1.7124,2,    -0.61,2,   -999.0,1,   6.919,2,   -999.0,9,   -999.0,9,  -999.00,9, 1510.5,  0.0086,   0.080,   0.035, 20.8509,   0.008
   318MWESTW_5,  P21W,   277,  1,     20, SI9420,2,19940618,1822,-23.6833, 157.1833, 2195,    196.9,  19.6879,  35.6772,2,  35.6769,2,    185.6,2,    197.9,3,     1.03,2,     4.15,2,     0.02,2,     0.41,2,    2.049,2,    1.102,2,    0.767,2,   1.7464,2,    -0.56,2,   -999.0,1,   7.096,2,   -999.0,9,   -999.0,9,  -999.00,9, 2020.5,  0.0087,   0.080,   0.035, 19.6517,   0.008
   318MWESTW_5,  P21W,   277,  1,     19, SI9419,2,19940618,1822,-23.6833, 157.1833, 2195,    247.5,  18.3621,  35.5945,2,  35.5896,2,    183.4,2,    197.1,3,     1.47,2,     5.55,2,     0.01,2,     0.51,2,    2.041,2,    1.083,2,    0.782,2,   1.7472,2,    -0.42,2,   -999.0,1,   7.138,2,   -999.0,9,   -999.0,9,  -999.00,9, 2524.2,  0.0087,   0.080,   0.036, 18.3188,   0.008
   318MWESTW_5,  P21W,   277,  1,     18, SI9439,2,19940618,1822,-23.6833, 157.1833, 2195,    297.3,  17.1530,  35.5142,2,  35.5119,2,    181.0,2,    197.4,3,     1.90,2,     6.81,2,     0.02,2,     0.61,2,    1.968,2,    1.031,2,    0.701,2,-999.0000,1,  -999.00,9,   -999.0,1,-999.000,9,   -999.0,9,   -999.0,9,  -999.00,9, 3019.1,-999.0000,-999.000,-999.000, 17.1033,   0.007
   318MWESTW_5,  P21W,   277,  1,     17, SI9417,2,19940618,1822,-23.6833, 157.1833, 2195,    349.6,  15.4837,  35.3698,2,  35.3636,2,    185.4,2,    190.1,3,     2.91,2,     9.35,2,     0.01,2,     0.77,2,    1.880,2,    0.977,2, -999.000,1,-999.0000,1,  -999.00,9,   -999.0,1,-999.000,9,   -999.0,9,   -999.0,9,  -999.00,9, 3539.6,-999.0000,-999.000,-999.000, 15.4292,-999.000
   318MWESTW_5,  P21W,   277,  1,     16, SI9416,2,19940618,1822,-23.6833, 157.1833, 2195,    404.9,  13.9023,  35.2272,2,  35.2257,2,    186.7,2,    185.4,2,     4.07,2,    11.52,2,     0.01,2,     0.92,2,    1.763,6,    0.914,6, -999.000,1,   1.7654,2,     0.42,2,   -999.0,1,   7.366,2,   -999.0,9,   -999.0,9,  -999.00,9, 4090.1,  0.0088,   0.080,   0.037, 13.8435,-999.000
   318MWESTW_5,  P21W,   277,  1,     15, SI9415,2,19940618,1822,-23.6833, 157.1833, 2195,    441.8,  12.7500,  35.1068,2,  35.1100,2,    189.8,2,    189.4,2,     4.80,2,    13.28,2,     0.00,2,     1.01,2,    1.605,2,    0.860,2,    0.411,2,   1.7503,2,     0.39,2,   -999.0,1,   7.332,2,   -999.0,9,   -999.0,9,  -999.00,9, 4457.5,  0.0088,   0.080,   0.037, 12.6894,   0.007
   318MWESTW_5,  P21W,   277,  1,     14, SI9436,3,19940618,1822,-23.6833, 157.1833, 2195,    496.4,  11.1238,  34.9174,2,  34.9083,2,    187.7,2,    187.3,2,     6.96,2,    16.87,2,     0.01,2,     1.23,2, -999.000,9, -999.000,9, -999.000,1,-999.0000,1,  -999.00,9,   -999.0,1,-999.000,9,   -999.0,9,   -999.0,9,  -999.00,9, 5000.0,-999.0000,-999.000,-999.000, 11.0614,-999.000
   318MWESTW_5,  P21W,   277,  1,     13, SI9413,2,19940618,1822,-23.6833, 157.1833, 2195,    599.1,   8.7811,  34.6497,2,  34.6474,2,    192.0,2,    192.2,2,    11.13,2,    21.55,2,     0.01,2,     1.53,2,    0.811,2,    0.419,2,    0.198,2,   1.7755,2,     1.57,2,   -999.0,1,   7.562,2,   -999.0,9,   -999.0,9,  -999.00,9, 6021.4,  0.0089,   0.080,   0.038,  8.7158,   0.005
   318MWESTW_5,  P21W,   277,  1,     12, SI9438,2,19940618,1822,-23.6833, 157.1833, 2195,    696.3,   7.4487,  34.5255,2,  34.5217,2,    193.8,2,    204.5,3,    16.03,2,    24.38,2,     0.01,2,     1.73,2,    0.455,2,    0.249,2,    0.126,2,   1.7837,2,     2.39,2,   -999.0,1,   7.648,2,   -999.0,9,   -999.0,9,  -999.00,9, 6987.9,  0.0089,   0.080,   0.038,  7.3793,   0.005
   318MWESTW_5,  P21W,   277,  1,     11, SI9411,2,19940618,1822,-23.6833, 157.1833, 2195,    791.7,   6.2363,  34.4589,2,  34.4579,2,    192.1,2,    191.7,2,    25.24,2,    27.27,2,     0.01,2,     1.93,2,    0.241,2,    0.134,2, -999.000,1,   1.8052,2,     3.98,2,   -999.0,1,   7.740,2,   -999.0,9,   -999.0,9,  -999.00,9, 7936.9,  0.0090,   0.090,   0.039,  6.1642,-999.000
   318MWESTW_5,  P21W,   277,  1,     10, SI9412,2,19940618,1822,-23.6833, 157.1833, 2195,    896.1,   5.2875,  34.4562,2,  34.4546,2,    183.2,2,    182.4,2,    38.77,2,    29.77,2,     0.01,2,     2.10,2,    0.107,2,    0.064,2,    0.022,2,   1.8305,2,     6.89,2,   -999.0,1,   7.855,2,   -999.0,9,   -999.0,9,  -999.00,9, 8974.5,  0.0092,   0.090,   0.039,  5.2116,   0.004
   318MWESTW_5,  P21W,   277,  1,      9, SI9410,2,19940618,1822,-23.6833, 157.1833, 2195,    998.2,   4.7369,  34.4723,2,  34.4726,2,    176.9,2,    175.8,2,    49.27,2,    31.08,2,     0.01,2,     2.20,2,    0.062,2,    0.035,2, -999.000,1,-999.0000,1,  -999.00,9,   -999.0,1,-999.000,9,   -999.0,9,   -999.0,9,  -999.00,9, 9989.6,-999.0000,-999.000,-999.000,  4.6558,-999.000
   318MWESTW_5,  P21W,   277,  1,      8, SI9422,2,19940618,1822,-23.6833, 157.1833, 2195,   1091.9,   4.2344,  34.4966,2,  34.4981,2,    171.3,2,    168.4,2,    60.77,2,    32.15,2,     0.00,2,     2.28,2,    0.033,2,    0.019,2,   -0.005,2,   1.8495,2,    11.72,2,   -999.0,1,   7.942,2,   -999.0,9,   -999.0,9,  -999.00,9,10922.1,  0.0092,   0.090,   0.040,  4.1491,   0.004
   318MWESTW_5,  P21W,   277,  1,      7, SI9407,2,19940618,1822,-23.6833, 157.1833, 2195,   1196.3,   3.8381,  34.5209,2,  34.5207,2,    162.5,2,    168.4,4,    70.84,2,    33.18,2,     0.00,2,     2.36,2,    0.013,2,    0.007,2, -999.000,1,-999.0000,1,  -999.00,9,   -999.0,1,-999.000,9,   -999.0,9,   -999.0,9,  -999.00,9,11959.6,-999.0000,-999.000,-999.000,  3.7473,-999.000
   318MWESTW_5,  P21W,   277,  1,      6, SI9427,2,19940618,1822,-23.6833, 157.1833, 2195,   1395.2,   3.3085,  34.5598,2,  34.5584,2,    152.0,2,    151.2,2,    86.37,2,    34.60,2,     0.01,2,     2.44,2,    0.001,2,    0.001,2,    0.003,2,   1.8691,2,    18.42,2,   -999.0,1,   7.983,2,   -999.0,9,   -999.0,9,  -999.00,9,13936.8,  0.0093,   0.100,   0.040,  3.2061,   0.004
   318MWESTW_5,  P21W,   277,  1,      5, SI9405,3,19940618,1822,-23.6833, 157.1833, 2195,   1598.4,   2.8639,  34.5988,2,  34.5993,2,    146.6,2,    164.1,4,    98.74,2,    35.31,2,     0.01,2,     2.51,2, -999.000,9, -999.000,9, -999.000,1,-999.0000,1,  -999.00,9,   -999.0,1,-999.000,9,   -999.0,9,   -999.0,9,  -999.00,9,15956.7,-999.0000,-999.000,-999.000,  2.7494,-999.000
   318MWESTW_5,  P21W,   277,  1,      4, SI9404,2,19940618,1822,-23.6833, 157.1833, 2195,   1792.5,   2.5503,  34.6295,2,  34.6303,2,    149.9,2,    157.4,4,   103.05,2,    35.15,2,     0.01,2,     2.48,2,   -0.001,2,   -0.001,2,    0.000,2,   1.8867,2,    19.66,2,   -999.0,1,   8.039,2,   -999.0,9,   -999.0,9,  -999.00,9,17886.1,  0.0094,   0.100,   0.040,  2.4234,   0.004
   318MWESTW_5,  P21W,   277,  1,      3, SI9403,2,19940618,1822,-23.6833, 157.1833, 2195,   1994.4,   2.3593,  34.6530,2,  34.6537,2,    156.8,2,    163.0,4,   102.47,2,    34.62,2,     0.02,2,     2.45,2,   -0.001,2,   -0.001,2, -999.000,1,-999.0000,1,  -999.00,9,   -999.0,1,-999.000,9,   -999.0,9,   -999.0,9,  -999.00,9,19893.2,-999.0000,-999.000,-999.000,  2.2178,-999.000
   318MWESTW_5,  P21W,   277,  1,      2, SI9437,2,19940618,1822,-23.6833, 157.1833, 2195,   2151.5,   2.2050,  34.6772,2,  34.6771,2,    164.3,2,    166.0,2,    99.17,2,    33.70,2,     0.01,2,     2.38,2, -999.000,9, -999.000,9, -999.000,1,-999.0000,1,  -999.00,9,   -999.0,1,-999.000,9,   -999.0,9,   -999.0,9,  -999.00,9,21455.1,-999.0000,-999.000,-999.000,  2.0522,-999.000
   318MWESTW_5,  P21W,   277,  1,      1, SI9401,2,19940618,1822,-23.6833, 157.1833, 2195,   2202.7,   2.1516,  34.6854,2,  34.6834,2,    168.2,2,    169.4,2,    98.39,2,    33.38,2,     0.00,2,     2.35,2,    0.000,2,   -0.001,2, -999.000,1,-999.0000,1,  -999.00,9,   -999.0,1,-999.000,9,   -999.0,9,   -999.0,9,  -999.00,9,21963.5,-999.0000,-999.000,-999.000,  1.9952,-999.000