BOTTLE,20010911WHPSIOdm
EXPOCODE,SECT_ID,STNNBR,CASTNO,SAMPNO,BTLNBR,BTLNBR_FLAG_W,DATE,TIME,LATITUDE,LONGITUDE,DEPTH,CTDPRS,CTDTMP,CTDSAL,CTDSAL_FLAG_W,SALNTY,SALNTY_FLAG_W,CTDOXY,CTDOXY_FLAG_W,OXYGEN,OXYGEN_FLAG_W,SILCAT,SILCAT_FLAG_W,NITRAT,NITRAT_FLAG_W,NITRIT,NITRIT_FLAG_W,PHSPHT,PHSPHT_FLAG_W,CFC-11,CFC-11_FLAG_W,CFC-12,CFC-12_FLAG_W,TRITUM,TRITUM_FLAG_W,HELIUM,HELIUM_FLAG_W,DELHE3,DELHE3_FLAG_W,DELC14,DELC14_FLAG_W,NEON,NEON_FLAG_W,TCARBN,TCARBN_FLAG_W,ALKALI,ALKALI_FLAG_W,PH,PH_FLAG_W,CTDRAW,HELIER,DELHER,NEONER,THETA,TRITER
,,,,,,,,,,,,DBAR,ITS-90,PSS-78,,PSS-78,,UMOL/KG,,UMOL/KG,,UMOL/KG,,UMOL/KG,,UMOL/KG,,UMOL/KG,,PMOL/KG,,PMOL/KG,,TU,,UMOL/KG,,PERCNT,,/MILLE,,NMOL/KG,,UMOL/KG,,UMOL/KG,,,,,NMOL/KG,PERCNT,NMOL/KG,ITS-90,TU
   318MWESTW_4,  P21E,    58,  1,     36, SI9336,2,19940414,1956,-16.7472, -90.6667, 4413,      8.7,  23.2405,  35.9555,2,  35.9619,2,    227.0,2,    217.3,2,     0.02,2,     0.08,2,     0.01,2,     0.36,2,    2.034,2,    1.091,2, -999.000,1,-999.0000,1,  -999.00,9,   -999.0,1,-999.000,9,   -999.0,9,   -999.0,9,  -999.00,9,  127.7,-999.0000,-999.000,-999.000, 23.2387,-999.000
   318MWESTW_4,  P21E,    58,  1,     35, SI9335,2,19940414,1956,-16.7472, -90.6667, 4413,     25.7,  23.1831,  35.9524,2,  35.9631,2,    223.7,2,    218.0,2,     0.00,2,     0.08,2,     0.01,2,     0.37,2,    2.049,2,    1.097,2, -999.000,1,-999.0000,1,  -999.00,9,   -999.0,1,-999.000,9,   -999.0,9,   -999.0,9,  -999.00,9,  297.9,-999.0000,-999.000,-999.000, 23.1778,-999.000
   318MWESTW_4,  P21E,    58,  1,     34, SI9334,2,19940414,1956,-16.7472, -90.6667, 4413,     51.2,  23.1451,  35.9337,2,  35.9560,2,    221.4,2,    219.6,2,     0.02,2,     0.09,2,     0.00,2,     0.37,2,    2.052,2,    1.117,2, -999.000,1,-999.0000,1,  -999.00,9,   -999.0,1,-999.000,9,   -999.0,9,   -999.0,9,  -999.00,9,  553.2,-999.0000,-999.000,-999.000, 23.1346,-999.000
   318MWESTW_4,  P21E,    58,  1,     33, SI9333,2,19940414,1956,-16.7472, -90.6667, 4413,    100.6,  19.5276,  35.6173,2,  35.6253,2,    222.2,2,    239.7,2,     0.20,2,     0.18,2,     0.30,2,     0.45,2,    2.332,2,    1.232,2, -999.000,1,-999.0000,1,  -999.00,9,   -999.0,1,-999.000,9,   -999.0,9,   -999.0,9,  -999.00,9, 1047.2,-999.0000,-999.000,-999.000, 19.5093,-999.000
   318MWESTW_4,  P21E,    58,  1,     32, SI9332,2,19940414,1956,-16.7472, -90.6667, 4413,    153.1,  18.5004,  35.4190,2,  35.4691,2,    209.7,2,    208.6,2,     0.89,2,     4.28,2,     0.02,2,     0.71,2,    2.386,2,    1.261,2, -999.000,1,-999.0000,1,  -999.00,9,   -999.0,1,-999.000,9,   -999.0,9,   -999.0,9,  -999.00,9, 1572.0,-999.0000,-999.000,-999.000, 18.4736,-999.000
   318MWESTW_4,  P21E,    58,  1,     31, SI9331,2,19940414,1956,-16.7472, -90.6667, 4413,    200.4,  14.5699,  34.7268,2,  34.7903,2,    182.0,2,    180.1,2,     2.29,2,     9.38,2,     0.01,2,     0.98,2,    2.328,2,    1.157,2, -999.000,1,-999.0000,1,  -999.00,9,   -999.0,1,-999.000,9,   -999.0,9,   -999.0,9,  -999.00,9, 2044.5,-999.0000,-999.000,-999.000, 14.5402,-999.000
   318MWESTW_4,  P21E,    58,  1,     30, SI9330,2,19940414,1956,-16.7472, -90.6667, 4413,    248.3,  11.7792,  34.5317,2,  34.5276,2,    102.4,2,     99.0,2,    11.14,2,    19.79,2,     0.01,2,     1.94,2,    1.363,2,    0.635,2, -999.000,1,-999.0000,1,  -999.00,9,   -999.0,1,-999.000,9,   -999.0,9,   -999.0,9,  -999.00,9, 2523.0,-999.0000,-999.000,-999.000, 11.7473,-999.000
   318MWESTW_4,  P21E,    58,  1,     29, SI9329,2,19940414,1956,-16.7472, -90.6667, 4413,    299.4,  10.1722,  34.5881,2,  34.5881,2,     47.1,2,     40.9,2,    20.34,2,    28.82,2,     0.00,2,     2.53,2,    0.353,2,    0.163,2, -999.000,1,-999.0000,1,  -999.00,9,   -999.0,1,-999.000,9,   -999.0,9,   -999.0,9,  -999.00,9, 3033.2,-999.0000,-999.000,-999.000, 10.1371,-999.000
   318MWESTW_4,  P21E,    58,  1,     28, SI9328,2,19940414,1956,-16.7472, -90.6667, 4413,    399.5,   8.4730,  34.5636,2,  34.5816,2,     24.6,2,     22.5,2,    28.68,2,    37.79,2,     0.00,2,     2.82,2,    0.042,2,    0.011,2, -999.000,1,-999.0000,1,  -999.00,9,   -999.0,1,-999.000,9,   -999.0,9,   -999.0,9,  -999.00,9, 4033.5,-999.0000,-999.000,-999.000,  8.4309,-999.000
   318MWESTW_4,  P21E,    58,  1,     27, SI9327,2,19940414,1956,-16.7472, -90.6667, 4413,    500.3,   7.1310,  34.5190,2,  34.5247,2,     42.5,2,     40.4,2,    34.41,2,    40.50,2,     0.01,2,     2.87,2,    0.013,2,    0.005,2, -999.000,1,-999.0000,1,  -999.00,9,   -999.0,1,-999.000,9,   -999.0,9,   -999.0,9,  -999.00,9, 5039.9,-999.0000,-999.000,-999.000,  7.0830,-999.000
   318MWESTW_4,  P21E,    58,  1,     26, SI9326,2,19940414,1956,-16.7472, -90.6667, 4413,    599.1,   6.1870,  34.4935,2,  34.4948,2,     52.8,2,     51.1,2,    41.35,2,    41.79,2,     0.00,2,     2.96,2,    0.003,2,   -0.003,2, -999.000,1,-999.0000,1,  -999.00,9,   -999.0,1,-999.000,9,   -999.0,9,   -999.0,9,  -999.00,9, 6027.1,-999.0000,-999.000,-999.000,  6.1334,-999.000
   318MWESTW_4,  P21E,    58,  1,     25, SI9325,2,19940414,1956,-16.7472, -90.6667, 4413,    700.6,   5.5696,  34.4910,2,  34.4930,2,     50.8,2,     51.6,2,    50.55,2,    42.95,2,     0.00,2,     3.04,2,   -0.002,2,   -0.002,2, -999.000,1,-999.0000,1,  -999.00,9,   -999.0,1,-999.000,9,   -999.0,9,   -999.0,9,  -999.00,9, 7040.7,-999.0000,-999.000,-999.000,  5.5097,-999.000
   318MWESTW_4,  P21E,    58,  1,     24, SI9324,2,19940414,1956,-16.7472, -90.6667, 4413,    796.3,   5.0269,  34.4975,2,  34.4995,2,     54.6,2,     56.2,2,    60.62,2,    43.30,2,     0.00,2,     3.08,2,   -0.003,2,   -0.003,2, -999.000,1,-999.0000,1,  -999.00,9,   -999.0,1,-999.000,9,   -999.0,9,   -999.0,9,  -999.00,9, 7996.4,-999.0000,-999.000,-999.000,  4.9616,-999.000
   318MWESTW_4,  P21E,    58,  1,     23, SI9323,2,19940414,1956,-16.7472, -90.6667, 4413,    899.8,   4.5478,  34.5079,2,  34.5080,2,     65.8,2,     67.0,2,    69.29,2,    42.58,2,     0.00,2,     3.04,2,   -0.003,2,   -0.004,2, -999.000,1,-999.0000,1,  -999.00,9,   -999.0,1,-999.000,9,   -999.0,9,   -999.0,9,  -999.00,9, 9030.3,-999.0000,-999.000,-999.000,  4.4766,-999.000
   318MWESTW_4,  P21E,    58,  1,     22, SI9322,2,19940414,1956,-16.7472, -90.6667, 4413,   1002.0,   4.1243,  34.5261,2,  34.5276,2,     73.2,2,     74.2,2,    78.83,2,    41.98,2,     0.00,2,     3.02,2,   -0.002,2,   -0.002,2, -999.000,1,-999.0000,1,  -999.00,9,   -999.0,1,-999.000,9,   -999.0,9,   -999.0,9,  -999.00,9,10051.4,-999.0000,-999.000,-999.000,  4.0475,-999.000
   318MWESTW_4,  P21E,    58,  1,     21, SI9321,3,19940414,1956,-16.7472, -90.6667, 4413,   1097.8,   3.8069,  34.5418,2,  34.7398,4,     76.3,2,   -999.0,9,    65.11,4,    34.54,4,     0.03,4,     2.57,4, -999.000,9, -999.000,9, -999.000,1,-999.0000,1,  -999.00,9,   -999.0,1,-999.000,9,   -999.0,9,   -999.0,9,  -999.00,9,11007.8,-999.0000,-999.000,-999.000,  3.7246,-999.000
   318MWESTW_4,  P21E,    58,  1,     20, SI9320,2,19940414,1956,-16.7472, -90.6667, 4413,   1199.5,   3.5132,  34.5532,2,  34.5567,2,     84.7,2,     85.7,2,    93.74,2,    41.07,2,    -0.01,2,     2.98,2, -999.000,9, -999.000,9, -999.000,1,-999.0000,1,  -999.00,9,   -999.0,1,-999.000,9,   -999.0,9,   -999.0,9,  -999.00,9,12024.2,-999.0000,-999.000,-999.000,  3.4250,-999.000
   318MWESTW_4,  P21E,    58,  1,     19, SI9319,2,19940414,1956,-16.7472, -90.6667, 4413,   1298.9,   3.2563,  34.5672,2,  34.5706,2,     88.7,2,     90.8,2,    99.98,2,    40.56,2,     0.01,2,     2.96,2, -999.000,9, -999.000,9, -999.000,1,-999.0000,1,  -999.00,9,   -999.0,1,-999.000,9,   -999.0,9,   -999.0,9,  -999.00,9,13016.5,-999.0000,-999.000,-999.000,  3.1624,-999.000
   318MWESTW_4,  P21E,    58,  1,     18, SI9318,2,19940414,1956,-16.7472, -90.6667, 4413,   1401.8,   3.0270,  34.5817,2,  34.5861,2,     94.8,2,     95.7,2,   105.87,2,    40.23,2,     0.00,2,     2.93,2, -999.000,9, -999.000,9, -999.000,1,-999.0000,1,  -999.00,9,   -999.0,1,-999.000,9,   -999.0,9,   -999.0,9,  -999.00,9,14044.9,-999.0000,-999.000,-999.000,  2.9270,-999.000
   318MWESTW_4,  P21E,    58,  1,     17, SI9317,2,19940414,1956,-16.7472, -90.6667, 4413,   1500.4,   2.8493,  34.5956,2,  34.5989,2,     96.6,2,     95.5,2,   112.12,2,    40.17,2,     0.01,2,     2.92,2, -999.000,9, -999.000,9, -999.000,1,-999.0000,1,  -999.00,9,   -999.0,1,-999.000,9,   -999.0,9,   -999.0,9,  -999.00,9,15029.8,-999.0000,-999.000,-999.000,  2.7431,-999.000
   318MWESTW_4,  P21E,    58,  1,     16, SI9316,2,19940414,1956,-16.7472, -90.6667, 4413,   1600.5,   2.6905,  34.6073,2,  34.6095,2,     98.6,2,     99.6,2,   116.79,2,    39.79,2,     0.01,2,     2.90,2, -999.000,9, -999.000,9, -999.000,1,-999.0000,1,  -999.00,9,   -999.0,1,-999.000,9,   -999.0,9,   -999.0,9,  -999.00,9,16030.2,-999.0000,-999.000,-999.000,  2.5779,-999.000
   318MWESTW_4,  P21E,    58,  1,     15, SI9315,2,19940414,1956,-16.7472, -90.6667, 4413,   1754.6,   2.4635,  34.6229,2,  34.6295,3,    107.2,2,    108.8,2,   121.99,2,    39.14,2,     0.01,2,     2.84,2, -999.000,9, -999.000,9, -999.000,1,-999.0000,1,  -999.00,9,   -999.0,1,-999.000,9,   -999.0,9,   -999.0,9,  -999.00,9,17569.1,-999.0000,-999.000,-999.000,  2.3410,-999.000
   318MWESTW_4,  P21E,    58,  1,     14, SI9314,2,19940414,1956,-16.7472, -90.6667, 4413,   1902.9,   2.2766,  34.6364,2,  34.6337,2,    120.7,2,    120.9,2,   122.85,2,    38.20,2,     0.01,2,     2.76,2, -999.000,9, -999.000,9, -999.000,1,-999.0000,1,  -999.00,9,   -999.0,1,-999.000,9,   -999.0,9,   -999.0,9,  -999.00,9,19050.8,-999.0000,-999.000,-999.000,  2.1442,-999.000
   318MWESTW_4,  P21E,    58,  1,     13, SI9313,2,19940414,1956,-16.7472, -90.6667, 4413,   2098.6,   2.0703,  34.6520,2,  34.6511,2,    131.0,2,    129.6,2,   125.95,2,    37.38,2,     0.01,2,     2.71,2, -999.000,9, -999.000,9, -999.000,1,-999.0000,1,  -999.00,9,   -999.0,1,-999.000,9,   -999.0,9,   -999.0,9,  -999.00,9,21005.5,-999.0000,-999.000,-999.000,  1.9243,-999.000
   318MWESTW_4,  P21E,    58,  1,     12, SI9312,2,19940414,1956,-16.7472, -90.6667, 4413,   2300.4,   1.9337,  34.6635,2,  34.6624,2,    137.2,2,    137.9,2,   127.34,2,    36.83,2,     0.01,2,     2.63,2, -999.000,9, -999.000,9, -999.000,1,-999.0000,1,  -999.00,9,   -999.0,1,-999.000,9,   -999.0,9,   -999.0,9,  -999.00,9,23022.2,-999.0000,-999.000,-999.000,  1.7724,-999.000
   318MWESTW_4,  P21E,    58,  1,     11, SI9311,2,19940414,1956,-16.7472, -90.6667, 4413,   2499.2,   1.8559,  34.6711,2,  34.6704,2,    141.8,2,    140.2,2,   131.49,2,    36.68,2,     0.00,2,     2.58,2, -999.000,9, -999.000,9, -999.000,1,-999.0000,1,  -999.00,9,   -999.0,1,-999.000,9,   -999.0,9,   -999.0,9,  -999.00,9,25008.5,-999.0000,-999.000,-999.000,  1.6783,-999.000
   318MWESTW_4,  P21E,    58,  1,     10, SI9310,2,19940414,1956,-16.7472, -90.6667, 4413,   2695.6,   1.8140,  34.6758,2,  34.6767,2,    145.6,2,    143.4,2,   131.66,2,    36.41,2,     0.00,2,     2.55,2, -999.000,9, -999.000,9, -999.000,1,-999.0000,1,  -999.00,9,   -999.0,1,-999.000,9,   -999.0,9,   -999.0,9,  -999.00,9,26971.3,-999.0000,-999.000,-999.000,  1.6192,-999.000
   318MWESTW_4,  P21E,    58,  1,      9, SI9309,2,19940414,1956,-16.7472, -90.6667, 4413,   2896.8,   1.7919,  34.6791,2,  34.6789,2,    146.8,2,    145.4,2,   132.34,2,    36.36,2,     0.00,2,     2.54,2, -999.000,9, -999.000,9, -999.000,1,-999.0000,1,  -999.00,9,   -999.0,1,-999.000,9,   -999.0,9,   -999.0,9,  -999.00,9,28981.5,-999.0000,-999.000,-999.000,  1.5786,-999.000
   318MWESTW_4,  P21E,    58,  1,      8, SI9308,2,19940414,1956,-16.7472, -90.6667, 4413,   3098.1,   1.7826,  34.6818,2,  34.6814,2,    146.4,2,    145.0,2,   133.54,2,    36.25,2,     0.00,2,     2.54,2, -999.000,9, -999.000,9, -999.000,1,-999.0000,1,  -999.00,9,   -999.0,1,-999.000,9,   -999.0,9,   -999.0,9,  -999.00,9,30993.5,-999.0000,-999.000,-999.000,  1.5500,-999.000
   318MWESTW_4,  P21E,    58,  1,      7, SI9307,2,19940414,1956,-16.7472, -90.6667, 4413,   3300.6,   1.7778,  34.6837,2,  34.6824,2,    144.8,2,    144.8,2,   134.58,2,    36.32,2,     0.00,2,     2.54,2, -999.000,9, -999.000,9, -999.000,1,-999.0000,1,  -999.00,9,   -999.0,1,-999.000,9,   -999.0,9,   -999.0,9,  -999.00,9,33017.3,-999.0000,-999.000,-999.000,  1.5251,-999.000
   318MWESTW_4,  P21E,    58,  1,      6, SI9306,2,19940414,1956,-16.7472, -90.6667, 4413,   3503.4,   1.7727,  34.6855,2,  34.6840,2,    147.0,2,    146.4,2,   134.05,2,    36.15,2,     0.00,2,     2.54,2, -999.000,9, -999.000,9, -999.000,1,-999.0000,1,  -999.00,9,   -999.0,1,-999.000,9,   -999.0,9,   -999.0,9,  -999.00,9,35043.2,-999.0000,-999.000,-999.000,  1.4993,-999.000
   318MWESTW_4,  P21E,    58,  1,      5, SI9305,2,19940414,1956,-16.7472, -90.6667, 4413,   3695.2,   1.7655,  34.6873,2,  34.6863,2,    149.5,2,    149.1,2,   132.31,2,    35.83,2,     0.00,2,     2.53,2, -999.000,9, -999.000,9, -999.000,1,-999.0000,1,  -999.00,9,   -999.0,1,-999.000,9,   -999.0,9,   -999.0,9,  -999.00,9,36960.8,-999.0000,-999.000,-999.000,  1.4722,-999.000
   318MWESTW_4,  P21E,    58,  1,      4, SI9304,2,19940414,1956,-16.7472, -90.6667, 4413,   3904.4,   1.7672,  34.6887,2,  34.6903,2,    151.6,2,    151.4,2,   130.74,2,    35.72,2,     0.00,2,     2.51,2, -999.000,9, -999.000,9, -999.000,1,-999.0000,1,  -999.00,9,   -999.0,1,-999.000,9,   -999.0,9,   -999.0,9,  -999.00,9,39051.6,-999.0000,-999.000,-999.000,  1.4513,-999.000
   318MWESTW_4,  P21E,    58,  1,      3, SI9303,2,19940414,1956,-16.7472, -90.6667, 4413,   4156.8,   1.7784,  34.6901,2,  34.6944,4,    153.0,2,    152.6,2,   130.21,2,    35.63,2,     0.00,2,     2.51,2, -999.000,9, -999.000,9, -999.000,1,-999.0000,1,  -999.00,9,   -999.0,1,-999.000,9,   -999.0,9,   -999.0,9,  -999.00,9,41574.2,-999.0000,-999.000,-999.000,  1.4341,-999.000
   318MWESTW_4,  P21E,    58,  1,      2, SI9302,2,19940414,1956,-16.7472, -90.6667, 4413,   4419.0,   1.8052,  34.6904,2,  34.6899,2,    152.4,2,    153.3,2,   129.86,2,    35.58,2,     0.00,2,     2.51,2, -999.000,9, -999.000,9, -999.000,1,-999.0000,1,  -999.00,9,   -999.0,1,-999.000,9,   -999.0,9,   -999.0,9,  -999.00,9,44195.5,-999.0000,-999.000,-999.000,  1.4302,-999.000
   318MWESTW_4,  P21E,    58,  1,      1, SI9301,2,19940414,1956,-16.7472, -90.6667, 4413,   4474.3,   1.8119,  34.6902,2,  34.6901,2,    149.3,2,    153.0,2,   129.51,2,    35.63,2,     0.00,2,     2.49,2, -999.000,9, -999.000,9, -999.000,1,-999.0000,1,  -999.00,9,   -999.0,1,-999.000,9,   -999.0,9,   -999.0,9,  -999.00,9,44748.4,-999.0000,-999.000,-999.000,  1.4302,-999.000