BOTTLE,20010911WHPSIOdm
EXPOCODE,SECT_ID,STNNBR,CASTNO,SAMPNO,BTLNBR,BTLNBR_FLAG_W,DATE,TIME,LATITUDE,LONGITUDE,DEPTH,CTDPRS,CTDTMP,CTDSAL,CTDSAL_FLAG_W,SALNTY,SALNTY_FLAG_W,CTDOXY,CTDOXY_FLAG_W,OXYGEN,OXYGEN_FLAG_W,SILCAT,SILCAT_FLAG_W,NITRAT,NITRAT_FLAG_W,NITRIT,NITRIT_FLAG_W,PHSPHT,PHSPHT_FLAG_W,CFC-11,CFC-11_FLAG_W,CFC-12,CFC-12_FLAG_W,TRITUM,TRITUM_FLAG_W,HELIUM,HELIUM_FLAG_W,DELHE3,DELHE3_FLAG_W,DELC14,DELC14_FLAG_W,NEON,NEON_FLAG_W,TCARBN,TCARBN_FLAG_W,ALKALI,ALKALI_FLAG_W,PH,PH_FLAG_W,CTDRAW,HELIER,DELHER,NEONER,THETA,TRITER
,,,,,,,,,,,,DBAR,ITS-90,PSS-78,,PSS-78,,UMOL/KG,,UMOL/KG,,UMOL/KG,,UMOL/KG,,UMOL/KG,,UMOL/KG,,PMOL/KG,,PMOL/KG,,TU,,UMOL/KG,,PERCNT,,/MILLE,,NMOL/KG,,UMOL/KG,,UMOL/KG,,,,,NMOL/KG,PERCNT,NMOL/KG,ITS-90,TU
   318MWESTW_4,  P21E,   104,  1,     36, SI9336,2,19940428,0951,-16.7500,-116.0000, 3410,      7.9,  26.2562,  36.5759,2,  36.5755,2,    204.6,2,    211.4,2,     0.24,2,     0.00,2,     0.00,2,     0.26,2,    1.760,2,    0.992,2, -999.000,1,-999.0000,1,  -999.00,9,   -999.0,1,-999.000,9,   2048.8,2,   2406.0,2,     8.09,2,  121.7,-999.0000,-999.000,-999.000, 26.2544,-999.000
   318MWESTW_4,  P21E,   104,  1,     35, SI9335,2,19940428,0951,-16.7500,-116.0000, 3410,     23.5,  26.2567,  36.5855,2,  36.5791,2,    207.8,2,    206.9,2,     0.26,2,     0.00,2,     0.00,2,     0.26,2,    1.741,2,    0.977,2, -999.000,1,-999.0000,1,  -999.00,9,   -999.0,1,-999.000,9,   2045.8,2,   2405.0,2,     8.09,2,  277.7,-999.0000,-999.000,-999.000, 26.2514,-999.000
   318MWESTW_4,  P21E,   104,  1,     34, SI9334,2,19940428,0951,-16.7500,-116.0000, 3410,     48.6,  26.2122,  36.6151,2,  36.6047,2,    205.8,2,    209.5,2,     0.28,2,     0.00,2,     0.00,2,     0.26,2,    1.779,2,    1.005,2, -999.000,1,-999.0000,1,  -999.00,9,   -999.0,1,-999.000,9,   2047.8,2,   2407.0,2,     8.09,2,  528.5,-999.0000,-999.000,-999.000, 26.2012,-999.000
   318MWESTW_4,  P21E,   104,  1,     33, SI9333,2,19940428,0951,-16.7500,-116.0000, 3410,     99.7,  23.4687,  36.4253,2,  36.4259,2,    213.6,2,    216.2,2,     0.31,2,     0.00,2,     0.00,2,     0.27,2,    1.995,2,    1.099,2, -999.000,1,-999.0000,1,  -999.00,9,   -999.0,1,-999.000,9,   2062.8,2,   2397.0,2,     8.05,2, 1039.7,-999.0000,-999.000,-999.000, 23.4479,-999.000
   318MWESTW_4,  P21E,   104,  1,     32, SI9332,2,19940428,0951,-16.7500,-116.0000, 3410,    149.9,  22.5557,  36.2898,2,  36.3138,2,    205.4,2,    204.6,2,     0.33,2,     0.00,2,     0.24,2,     0.29,2,    2.056,2,    1.119,2, -999.000,1,-999.0000,1,  -999.00,9,   -999.0,1,-999.000,9,   2070.8,2,   2384.0,2,     8.03,2, 1540.9,-999.0000,-999.000,-999.000, 22.5253,-999.000
   318MWESTW_4,  P21E,   104,  1,     31, SI9331,2,19940428,0951,-16.7500,-116.0000, 3410,    201.1,  21.2046,  35.9459,2,  36.0323,2,    196.0,2,    200.6,2,     0.35,2,     1.01,2,     0.20,2,     0.40,2,    2.142,2,    1.163,2, -999.000,1,-999.0000,1,  -999.00,9,   -999.0,1,-999.000,9,   2078.8,2,   2370.0,2,     7.98,2, 2053.5,-999.0000,-999.000,-999.000, 21.1656,-999.000
   318MWESTW_4,  P21E,   104,  1,     30, SI9330,2,19940428,0951,-16.7500,-116.0000, 3410,    251.5,  18.7649,  35.4724,3,  35.5508,2,    191.8,2,    192.2,2,     0.69,2,     3.16,2,     0.02,2,     0.53,2,    2.206,2,    1.165,2, -999.000,1,-999.0000,1,  -999.00,9,   -999.0,1,-999.000,9,   2081.8,2,   2337.0,2,     7.95,2, 2556.4,-999.0000,-999.000,-999.000, 18.7202,-999.000
   318MWESTW_4,  P21E,   104,  1,     29, SI9329,2,19940428,0951,-16.7500,-116.0000, 3410,    301.5,  14.9361,  34.8838,3,  34.9608,2,    178.2,2,    180.7,2,     2.15,2,     7.62,2,     0.01,2,     0.79,2,    1.973,6,    1.018,6, -999.000,1,-999.0000,1,  -999.00,9,   -999.0,1,-999.000,9,   2091.8,2,   2298.0,2,     7.86,2, 3056.0,-999.0000,-999.000,-999.000, 14.8905,-999.000
   318MWESTW_4,  P21E,   104,  1,     28, SI9328,2,19940428,0951,-16.7500,-116.0000, 3410,    397.9,   9.2776,  34.4915,2,  34.4917,2,     95.8,2,     88.6,2,    16.62,2,    28.17,2,     0.01,2,     2.25,2,    0.432,2,    0.221,2, -999.000,1,-999.0000,1,  -999.00,9,   -999.0,1,-999.000,9,   2211.9,2,   2276.0,2,     7.53,2, 4019.1,-999.0000,-999.000,-999.000,  9.2333,-999.000
   318MWESTW_4,  P21E,   104,  1,     27, SI9327,2,19940428,0951,-16.7500,-116.0000, 3410,    500.3,   7.0648,  34.4304,2,  34.4328,2,    105.9,2,    108.3,2,    22.04,2,    33.76,2,     0.01,2,     2.40,2,    0.112,2,    0.069,2, -999.000,1,-999.0000,1,  -999.00,9,   -999.0,1,-999.000,9,   2220.9,2,   2283.0,2,     7.50,2, 5041.5,-999.0000,-999.000,-999.000,  7.0171,-999.000
   318MWESTW_4,  P21E,   104,  1,     26, SI9326,2,19940428,0951,-16.7500,-116.0000, 3410,    601.0,   5.9900,  34.4173,2,  34.4263,2,    116.8,2,    110.4,2,    31.27,2,    36.41,2,     0.01,2,     2.53,2,    0.018,2,    0.015,2, -999.000,1,-999.0000,1,  -999.00,9,   -999.0,1,-999.000,9,   2232.9,2,   2291.0,2,     7.51,2, 6047.3,-999.0000,-999.000,-999.000,  5.9372,-999.000
   318MWESTW_4,  P21E,   104,  1,     25, SI9325,2,19940428,0951,-16.7500,-116.0000, 3410,    701.0,   5.5099,  34.4577,2,  34.4601,2,     95.2,2,     94.1,2,    43.51,2,    38.68,2,     0.01,2,     2.70,2,   -0.003,2,    0.002,2, -999.000,1,-999.0000,1,  -999.00,9,   -999.0,1,-999.000,9,   2254.9,2,   2306.0,2,     7.48,2, 7046.4,-999.0000,-999.000,-999.000,  5.4503,-999.000
   318MWESTW_4,  P21E,   104,  1,     24, SI9324,2,19940428,0951,-16.7500,-116.0000, 3410,    804.1,   5.0219,  34.4921,2,  34.4952,2,     79.6,2,     76.5,2,    58.14,2,    41.16,2,     0.00,2,     2.89,2,   -0.003,2,    0.000,2, -999.000,1,-999.0000,1,  -999.00,9,   -999.0,1,-999.000,9,   2282.0,2,   2317.0,2,     7.45,2, 8076.7,-999.0000,-999.000,-999.000,  4.9559,-999.000
   318MWESTW_4,  P21E,   104,  1,     23, SI9323,2,19940428,0951,-16.7500,-116.0000, 3410,    900.1,   4.5972,  34.5068,2,  34.5107,2,     77.6,2,     77.3,2,    67.84,2,    41.40,2,     0.00,2,     2.91,2,   -0.004,2,   -0.001,2, -999.000,1,-999.0000,1,  -999.00,9,   -999.0,1,-999.000,9,   2293.0,2,   2334.0,2,     7.44,2, 9035.1,-999.0000,-999.000,-999.000,  4.5256,-999.000
   318MWESTW_4,  P21E,   104,  1,     22, SI9322,2,19940428,0951,-16.7500,-116.0000, 3410,   1001.0,   4.2291,  34.5239,2,  34.5284,2,     77.6,2,     77.2,2,    77.69,2,    41.64,2,     0.00,2,     2.95,2,   -0.003,2,    0.003,2, -999.000,1,-999.0000,1,  -999.00,9,   -999.0,1,-999.000,9,   2304.0,2,   2339.0,2,     7.43,2,10043.3,-999.0000,-999.000,-999.000,  4.1516,-999.000
   318MWESTW_4,  P21E,   104,  1,     21, SI9321,2,19940428,0951,-16.7500,-116.0000, 3410,   1104.2,   3.9198,  34.5390,2,  34.5408,2,     80.3,2,     80.2,2,    85.17,2,    41.53,2,     0.00,2,     2.95,2, -999.000,9, -999.000,9, -999.000,1,-999.0000,1,  -999.00,9,   -999.0,1,-999.000,9,   2311.0,2,   2352.0,2,     7.43,2,11074.0,-999.0000,-999.000,-999.000,  3.8360,-999.000
   318MWESTW_4,  P21E,   104,  1,     20, SI9320,2,19940428,0951,-16.7500,-116.0000, 3410,   1204.7,   3.6594,  34.5527,2,  34.5531,2,     84.3,2,     84.0,2,    91.38,2,    41.28,2,     0.00,2,     2.94,2, -999.000,9, -999.000,9, -999.000,1,-999.0000,1,  -999.00,9,   -999.0,1,-999.000,9,   2314.0,2,   2355.0,2,     7.46,2,12078.0,-999.0000,-999.000,-999.000,  3.5695,-999.000
   318MWESTW_4,  P21E,   104,  1,     19, SI9319,2,19940428,0951,-16.7500,-116.0000, 3410,   1305.1,   3.3624,  34.5673,2,  34.5677,2,     89.4,2,     89.6,2,    98.53,2,    40.84,2,     0.02,2,     2.92,2, -999.000,9, -999.000,9, -999.000,1,-999.0000,1,  -999.00,9,   -999.0,1,-999.000,9,   2319.0,2,   2366.0,2,     7.47,2,13080.9,-999.0000,-999.000,-999.000,  3.2669,-999.000
   318MWESTW_4,  P21E,   104,  1,     18, SI9318,2,19940428,0951,-16.7500,-116.0000, 3410,   1396.2,   3.1483,  34.5804,2,  34.5796,2,     93.9,2,     93.8,2,   103.78,2,    40.36,2,     0.02,2,     2.89,2, -999.000,9, -999.000,9, -999.000,1,-999.0000,1,  -999.00,9,   -999.0,1,-999.000,9,   -999.0,9,   2368.0,2,     7.48,2,13991.3,-999.0000,-999.000,-999.000,  3.0474,-999.000
   318MWESTW_4,  P21E,   104,  1,     17, SI9317,2,19940428,0951,-16.7500,-116.0000, 3410,   1499.5,   2.9235,  34.5934,2,  34.5930,2,    100.0,2,     99.8,2,   109.19,2,    39.72,2,     0.01,2,     2.85,2, -999.000,9, -999.000,9, -999.000,1,-999.0000,1,  -999.00,9,   -999.0,1,-999.000,9,   2313.0,3,   2380.0,2,     7.48,2,15023.1,-999.0000,-999.000,-999.000,  2.8165,-999.000
   318MWESTW_4,  P21E,   104,  1,     16, SI9316,2,19940428,0951,-16.7500,-116.0000, 3410,   1601.9,   2.7388,  34.6050,2,  34.6044,2,    105.2,2,    105.3,2,   113.33,2,    39.24,2,     0.01,2,     2.80,2, -999.000,9, -999.000,9, -999.000,1,-999.0000,1,  -999.00,9,   -999.0,1,-999.000,9,   2323.0,2,   2380.0,2,     7.50,2,16045.5,-999.0000,-999.000,-999.000,  2.6255,-999.000
   318MWESTW_4,  P21E,   104,  1,     15, SI9315,2,19940428,0951,-16.7500,-116.0000, 3410,   1700.2,   2.5889,  34.6152,2,  34.6138,2,    112.7,2,    111.2,2,   116.20,2,    38.76,2,     0.01,2,     2.77,2, -999.000,9, -999.000,9, -999.000,1,-999.0000,1,  -999.00,9,   -999.0,1,-999.000,9,   2324.0,2,   -999.0,9,     7.50,2,17027.5,-999.0000,-999.000,-999.000,  2.4693,-999.000
   318MWESTW_4,  P21E,   104,  1,     14, SI9314,2,19940428,0951,-16.7500,-116.0000, 3410,   1803.8,   2.4146,  34.6248,2,  34.6223,2,    123.4,2,    122.0,2,   116.85,2,    37.86,2,     0.01,2,     2.69,2, -999.000,9, -999.000,9, -999.000,1,-999.0000,1,  -999.00,9,   -999.0,1,-999.000,9,   2320.0,2,   2384.0,2,     7.52,2,18062.3,-999.0000,-999.000,-999.000,  2.2886,-999.000
   318MWESTW_4,  P21E,   104,  1,     13, SI9313,2,19940428,0951,-16.7500,-116.0000, 3410,   1900.2,   2.2846,  34.6317,2,  34.6290,2,    131.9,2,    131.3,2,   116.39,2,    37.13,2,     0.01,2,     2.63,2, -999.000,9, -999.000,9, -999.000,1,-999.0000,1,  -999.00,9,   -999.0,1,-999.000,9,   2314.0,2,   2388.0,2,     7.52,2,19025.8,-999.0000,-999.000,-999.000,  2.1523,-999.000
   318MWESTW_4,  P21E,   104,  1,     12, SI9312,2,19940428,0951,-16.7500,-116.0000, 3410,   1998.0,   2.1469,  34.6419,2,  34.6384,2,    142.3,2,    140.6,2,   117.04,2,    36.35,2,     0.01,2,     2.56,2, -999.000,9, -999.000,9, -999.000,1,-999.0000,1,  -999.00,9,   -999.0,1,-999.000,9,   2310.0,2,   2386.0,2,     7.55,2,20003.2,-999.0000,-999.000,-999.000,  2.0084,-999.000
   318MWESTW_4,  P21E,   104,  1,     11, SI9311,2,19940428,0951,-16.7500,-116.0000, 3410,   2103.3,   2.0074,  34.6496,2,  34.6492,2,    149.8,2,    150.4,2,   117.21,2,    35.58,2,     0.01,2,     2.50,2, -999.000,9, -999.000,9, -999.000,1,-999.0000,1,  -999.00,9,   -999.0,1,-999.000,9,   2306.0,2,   2390.0,2,     7.57,2,21055.4,-999.0000,-999.000,-999.000,  1.8620,-999.000
   318MWESTW_4,  P21E,   104,  1,     10, SI9310,2,19940428,0951,-16.7500,-116.0000, 3410,   2206.1,   1.9418,  34.6572,2,  34.6565,2,    152.5,2,    153.1,2,   118.65,2,    35.33,2,     0.01,2,     2.47,2, -999.000,9, -999.000,9, -999.000,1,-999.0000,1,  -999.00,9,   -999.0,1,-999.000,9,   2305.0,2,   2390.0,2,     7.58,2,22082.1,-999.0000,-999.000,-999.000,  1.7886,-999.000
   318MWESTW_4,  P21E,   104,  1,      9, SI9309,2,19940428,0951,-16.7500,-116.0000, 3410,   2302.8,   1.8987,  34.6628,2,  34.6627,2,    154.0,2,    154.1,2,   120.72,2,    35.27,2,     0.02,2,     2.46,2, -999.000,9, -999.000,9, -999.000,1,-999.0000,1,  -999.00,9,   -999.0,1,-999.000,9,   2307.0,2,   2393.0,2,     7.56,2,23047.7,-999.0000,-999.000,-999.000,  1.7378,-999.000
   318MWESTW_4,  P21E,   104,  1,      8, SI9308,2,19940428,0951,-16.7500,-116.0000, 3410,   2448.3,   1.8634,  34.6696,2,  34.6696,2,    153.8,2,    154.0,2,   123.60,2,    35.21,2,     0.02,2,     2.46,2, -999.000,9, -999.000,9, -999.000,1,-999.0000,1,  -999.00,9,   -999.0,1,-999.000,9,   2310.0,2,   2395.0,2,     7.58,2,24501.7,-999.0000,-999.000,-999.000,  1.6902,-999.000
   318MWESTW_4,  P21E,   104,  1,      7, SI9307,2,19940428,0951,-16.7500,-116.0000, 3410,   2602.9,   1.8373,  34.6731,2,  34.6730,2,    154.3,2,    154.5,2,   125.19,2,    35.22,2,     0.01,2,     2.46,2, -999.000,9, -999.000,9, -999.000,1,-999.0000,1,  -999.00,9,   -999.0,1,-999.000,9,   2312.0,2,   2402.0,2,     7.58,2,26047.1,-999.0000,-999.000,-999.000,  1.6506,-999.000
   318MWESTW_4,  P21E,   104,  1,      6, SI9306,2,19940428,0951,-16.7500,-116.0000, 3410,   2756.8,   1.8116,  34.6737,2,  34.6743,2,    156.2,2,    156.3,2,   125.68,2,    35.15,2,     0.02,2,     2.47,2, -999.000,9, -999.000,9, -999.000,1,-999.0000,1,  -999.00,9,   -999.0,1,-999.000,9,   2309.0,2,   2399.0,2,     7.59,2,27584.6,-999.0000,-999.000,-999.000,  1.6112,-999.000
   318MWESTW_4,  P21E,   104,  1,      5, SI9305,2,19940428,0951,-16.7500,-116.0000, 3410,   2900.9,   1.7849,  34.6749,2,  34.6743,2,    158.7,2,    158.1,2,   125.54,2,    35.09,2,     0.02,2,     2.46,2, -999.000,9, -999.000,9, -999.000,1,-999.0000,1,  -999.00,9,   -999.0,1,-999.000,9,   2308.0,2,   2400.0,2,     7.58,2,29024.5,-999.0000,-999.000,-999.000,  1.5714,-999.000
   318MWESTW_4,  P21E,   104,  1,      4, SI9304,2,19940428,0951,-16.7500,-116.0000, 3410,   3051.1,   1.7638,  34.6754,2,  34.6759,2,    160.1,2,    159.5,2,   126.19,2,    35.04,2,     0.01,2,     2.45,2, -999.000,9, -999.000,9, -999.000,1,-999.0000,1,  -999.00,9,   -999.0,1,-999.000,9,   2307.0,2,   2398.0,2,     7.59,2,30525.8,-999.0000,-999.000,-999.000,  1.5362,-999.000
   318MWESTW_4,  P21E,   104,  1,      3, SI9303,2,19940428,0951,-16.7500,-116.0000, 3410,   3206.3,   1.7609,  34.6764,2,  34.6767,2,    161.4,2,    160.1,2,   126.83,2,    35.04,2,     0.01,2,     2.45,2, -999.000,9, -999.000,9, -999.000,1,-999.0000,1,  -999.00,9,   -999.0,1,-999.000,9,   2309.0,2,   2399.0,2,     7.59,2,32076.5,-999.0000,-999.000,-999.000,  1.5181,-999.000
   318MWESTW_4,  P21E,   104,  1,      2, SI9302,2,19940428,0951,-16.7500,-116.0000, 3410,   3392.0,   1.7599,  34.6777,2,  34.6773,2,    161.0,2,    160.1,2,   127.32,2,    35.05,2,     0.00,2,     2.45,2, -999.000,9, -999.000,9, -999.000,1,-999.0000,1,  -999.00,9,   -999.0,1,-999.000,9,   2310.0,2,   2404.0,2,     7.58,2,33932.6,-999.0000,-999.000,-999.000,  1.4984,-999.000
   318MWESTW_4,  P21E,   104,  1,      1, SI9301,2,19940428,0951,-16.7500,-116.0000, 3410,   3434.5,   1.7639,  34.6777,2,  34.6783,2,    160.9,2,    160.0,2,   127.32,2,    35.05,2,     0.00,2,     2.45,2, -999.000,9, -999.000,9, -999.000,1,-999.0000,1,  -999.00,9,   -999.0,1,-999.000,9,   2310.0,2,   2401.0,2,     7.59,2,34356.7,-999.0000,-999.000,-999.000,  1.4979,-999.000