BOTTLE,20010911WHPSIOdm
EXPOCODE,SECT_ID,STNNBR,CASTNO,SAMPNO,BTLNBR,BTLNBR_FLAG_W,DATE,TIME,LATITUDE,LONGITUDE,DEPTH,CTDPRS,CTDTMP,CTDSAL,CTDSAL_FLAG_W,SALNTY,SALNTY_FLAG_W,CTDOXY,CTDOXY_FLAG_W,OXYGEN,OXYGEN_FLAG_W,SILCAT,SILCAT_FLAG_W,NITRAT,NITRAT_FLAG_W,NITRIT,NITRIT_FLAG_W,PHSPHT,PHSPHT_FLAG_W,CFC-11,CFC-11_FLAG_W,CFC-12,CFC-12_FLAG_W,TRITUM,TRITUM_FLAG_W,HELIUM,HELIUM_FLAG_W,DELHE3,DELHE3_FLAG_W,DELC14,DELC14_FLAG_W,NEON,NEON_FLAG_W,TCARBN,TCARBN_FLAG_W,ALKALI,ALKALI_FLAG_W,PH,PH_FLAG_W,CTDRAW,HELIER,DELHER,NEONER,THETA,TRITER
,,,,,,,,,,,,DBAR,ITS-90,PSS-78,,PSS-78,,UMOL/KG,,UMOL/KG,,UMOL/KG,,UMOL/KG,,UMOL/KG,,UMOL/KG,,PMOL/KG,,PMOL/KG,,TU,,UMOL/KG,,PERCNT,,/MILLE,,NMOL/KG,,UMOL/KG,,UMOL/KG,,,,,NMOL/KG,PERCNT,NMOL/KG,ITS-90,TU
   318MWESTW_5,  P21W,   918,  1,     24, SI1124,2,19940606,0509,-18.4167, 178.2278, 1492,     10.5,  25.5315,  34.9490,2,-999.0000,9,    220.3,2,    220.0,2,     0.87,2,    -0.01,2,     0.01,2,     0.10,2, -999.000,1, -999.000,1, -999.000,1,-999.0000,1,  -999.00,9,   -999.0,1,-999.000,9,   -999.0,9,   -999.0,9,  -999.00,9,  164.3,-999.0000,-999.000,-999.000, 25.5292,-999.000
   318MWESTW_5,  P21W,   918,  1,     23, SI1123,2,19940606,0509,-18.4167, 178.2278, 1492,     25.4,  25.5441,  34.9483,2,-999.0000,9,    228.2,2,    214.4,2,     0.87,2,    -0.02,2,     0.02,2,     0.11,2, -999.000,1, -999.000,1, -999.000,1,-999.0000,1,  -999.00,9,   -999.0,1,-999.000,9,   -999.0,9,   -999.0,9,  -999.00,9,  313.2,-999.0000,-999.000,-999.000, 25.5385,-999.000
   318MWESTW_5,  P21W,   918,  1,     22, SI1122,2,19940606,0509,-18.4167, 178.2278, 1492,     50.4,  25.5316,  34.9484,2,-999.0000,9,    206.3,2,    214.7,2,     0.88,2,     0.00,2,     0.02,2,     0.11,2, -999.000,1, -999.000,1, -999.000,1,-999.0000,1,  -999.00,9,   -999.0,1,-999.000,9,   -999.0,9,   -999.0,9,  -999.00,9,  562.4,-999.0000,-999.000,-999.000, 25.5205,-999.000
   318MWESTW_5,  P21W,   918,  1,     21, SI1121,2,19940606,0509,-18.4167, 178.2278, 1492,    100.9,  25.1342,  35.1913,2,-999.0000,9,    206.0,2,    206.4,2,     0.88,2,     0.41,2,     0.11,2,     0.17,2, -999.000,1, -999.000,1, -999.000,1,-999.0000,1,  -999.00,9,   -999.0,1,-999.000,9,   -999.0,9,   -999.0,9,  -999.00,9, 1065.1,-999.0000,-999.000,-999.000, 25.1122,-999.000
   318MWESTW_5,  P21W,   918,  1,     20, SI1120,2,19940606,0509,-18.4167, 178.2278, 1492,    151.6,  22.3453,  35.7978,2,-999.0000,9,    185.4,2,    176.6,2,     1.19,2,     3.12,2,     0.03,2,     0.41,2, -999.000,1, -999.000,1, -999.000,1,-999.0000,1,  -999.00,9,   -999.0,1,-999.000,9,   -999.0,9,   -999.0,9,  -999.00,9, 1569.4,-999.0000,-999.000,-999.000, 22.3149,-999.000
   318MWESTW_5,  P21W,   918,  1,     19, SI1119,2,19940606,0509,-18.4167, 178.2278, 1492,    202.5,  20.2542,  35.7260,2,-999.0000,9,    184.8,2,    185.6,2,     1.19,2,     3.58,2,     0.01,2,     0.40,2, -999.000,1, -999.000,1, -999.000,1,-999.0000,1,  -999.00,9,   -999.0,1,-999.000,9,   -999.0,9,   -999.0,9,  -999.00,9, 2076.4,-999.0000,-999.000,-999.000, 20.2163,-999.000
   318MWESTW_5,  P21W,   918,  1,     18, SI1118,2,19940606,0509,-18.4167, 178.2278, 1492,    252.3,  17.8046,  35.5219,2,-999.0000,9,    179.7,2,    180.5,2,     2.10,2,     6.20,2,     0.02,2,     0.60,2, -999.000,1, -999.000,1, -999.000,1,-999.0000,1,  -999.00,9,   -999.0,1,-999.000,9,   -999.0,9,   -999.0,9,  -999.00,9, 2572.5,-999.0000,-999.000,-999.000, 17.7614,-999.000
   318MWESTW_5,  P21W,   918,  1,     17, SI1117,2,19940606,0509,-18.4167, 178.2278, 1492,    303.6,  16.3373,  35.3992,2,-999.0000,9,    188.4,2,    188.3,2,     2.56,2,     7.25,2,     0.02,2,     0.64,2, -999.000,1, -999.000,1, -999.000,1,-999.0000,1,  -999.00,9,   -999.0,1,-999.000,9,   -999.0,9,   -999.0,9,  -999.00,9, 3082.9,-999.0000,-999.000,-999.000, 16.2883,-999.000
   318MWESTW_5,  P21W,   918,  1,     16, SI1116,2,19940606,0509,-18.4167, 178.2278, 1492,    354.6,  13.9786,  35.1699,2,-999.0000,9,    192.2,2,    190.0,2,     3.77,2,    10.83,2,     0.02,2,     0.86,2, -999.000,1, -999.000,1, -999.000,1,-999.0000,1,  -999.00,9,   -999.0,1,-999.000,9,   -999.0,9,   -999.0,9,  -999.00,9, 3590.1,-999.0000,-999.000,-999.000, 13.9271,-999.000
   318MWESTW_5,  P21W,   918,  1,     15, SI1115,2,19940606,0509,-18.4167, 178.2278, 1492,    404.5,  12.0089,  34.9240,2,-999.0000,9,    192.4,2,    187.3,2,     5.89,2,    14.86,2,     0.01,2,     1.13,2, -999.000,1, -999.000,1, -999.000,1,-999.0000,1,  -999.00,9,   -999.0,1,-999.000,9,   -999.0,9,   -999.0,9,  -999.00,9, 4086.5,-999.0000,-999.000,-999.000, 11.9557,-999.000
   318MWESTW_5,  P21W,   918,  1,     14, SI1114,2,19940606,0509,-18.4167, 178.2278, 1492,    445.1,  10.4231,  34.7427,2,-999.0000,9,    192.1,2,    189.6,2,     8.01,2,    18.20,2,     0.03,2,     1.35,2, -999.000,1, -999.000,1, -999.000,1,-999.0000,1,  -999.00,9,   -999.0,1,-999.000,9,   -999.0,9,   -999.0,9,  -999.00,9, 4490.3,-999.0000,-999.000,-999.000, 10.3696,-999.000
   318MWESTW_5,  P21W,   918,  1,     13, SI1113,2,19940606,0509,-18.4167, 178.2278, 1492,    497.4,   8.6779,  34.5818,2,-999.0000,9,    197.8,2,    196.4,2,    10.74,2,    21.52,2,     0.02,2,     1.56,2, -999.000,1, -999.000,1, -999.000,1,-999.0000,1,  -999.00,9,   -999.0,1,-999.000,9,   -999.0,9,   -999.0,9,  -999.00,9, 5010.2,-999.0000,-999.000,-999.000,  8.6244,-999.000
   318MWESTW_5,  P21W,   918,  1,     12, SI1112,2,19940606,0509,-18.4167, 178.2278, 1492,    548.6,   7.4169,  34.4696,2,-999.0000,9,    202.0,2,    204.9,2,    13.01,2,    23.85,2,     0.01,2,     1.69,2, -999.000,1, -999.000,1, -999.000,1,-999.0000,1,  -999.00,9,   -999.0,1,-999.000,9,   -999.0,9,   -999.0,9,  -999.00,9, 5519.7,-999.0000,-999.000,-999.000,  7.3629,-999.000
   318MWESTW_5,  P21W,   918,  1,     11, SI1111,2,19940606,0509,-18.4167, 178.2278, 1492,    598.7,   6.9920,  34.4370,2,-999.0000,9,    204.6,2,    204.7,2,    14.83,2,    24.95,2,     0.00,2,     1.75,2, -999.000,1, -999.000,1, -999.000,1,-999.0000,1,  -999.00,9,   -999.0,1,-999.000,9,   -999.0,9,   -999.0,9,  -999.00,9, 6017.6,-999.0000,-999.000,-999.000,  6.9348,-999.000
   318MWESTW_5,  P21W,   918,  1,     10, SI1110,2,19940606,0509,-18.4167, 178.2278, 1492,    701.1,   5.8854,  34.3940,2,-999.0000,9,    198.6,2,    197.7,2,    23.90,2,    28.17,2,     0.01,2,     1.96,2, -999.000,1, -999.000,1, -999.000,1,-999.0000,1,  -999.00,9,   -999.0,1,-999.000,9,   -999.0,9,   -999.0,9,  -999.00,9, 7035.7,-999.0000,-999.000,-999.000,  5.8239,-999.000
   318MWESTW_5,  P21W,   918,  1,      9, SI1119,2,19940606,0509,-18.4167, 178.2278, 1492,    803.4,   5.2830,  34.4122,2,-999.0000,9,    183.2,2,    184.8,2,    35.38,2,    30.26,2,     0.01,2,     2.09,2, -999.000,1, -999.000,1, -999.000,1,-999.0000,1,  -999.00,9,   -999.0,1,-999.000,9,   -999.0,9,   -999.0,9,  -999.00,9, 8052.5,-999.0000,-999.000,-999.000,  5.2156,-999.000
   318MWESTW_5,  P21W,   918,  1,      8, SI1118,2,19940606,0509,-18.4167, 178.2278, 1492,    906.2,   4.6635,  34.4281,2,-999.0000,9,    177.0,2,    177.2,2,    45.96,2,    31.94,2,     0.01,2,     2.20,2, -999.000,1, -999.000,1, -999.000,1,-999.0000,1,  -999.00,9,   -999.0,1,-999.000,9,   -999.0,9,   -999.0,9,  -999.00,9, 9074.2,-999.0000,-999.000,-999.000,  4.5911,-999.000
   318MWESTW_5,  P21W,   918,  1,      7, SI1117,2,19940606,0509,-18.4167, 178.2278, 1492,   1008.3,   4.1583,  34.4604,2,-999.0000,9,    170.5,2,    170.0,2,    58.05,2,    33.11,2,     0.02,2,     2.30,2, -999.000,1, -999.000,1, -999.000,1,-999.0000,1,  -999.00,9,   -999.0,1,-999.000,9,   -999.0,9,   -999.0,9,  -999.00,9,10089.6,-999.0000,-999.000,-999.000,  4.0808,-999.000
   318MWESTW_5,  P21W,   918,  1,      6, SI1116,2,19940606,0509,-18.4167, 178.2278, 1492,   1111.5,   3.7843,  34.4923,2,-999.0000,9,    163.8,2,    162.4,2,    68.78,2,    34.03,2,     0.01,2,     2.38,2, -999.000,1, -999.000,1, -999.000,1,-999.0000,1,  -999.00,9,   -999.0,1,-999.000,9,   -999.0,9,   -999.0,9,  -999.00,9,11114.9,-999.0000,-999.000,-999.000,  3.7011,-999.000
   318MWESTW_5,  P21W,   918,  1,      5, SI1115,2,19940606,0509,-18.4167, 178.2278, 1492,   1202.6,   3.4982,  34.5178,2,-999.0000,9,    160.1,2,    158.4,2,    77.69,2,    34.45,2,     0.01,2,     2.40,2, -999.000,1, -999.000,1, -999.000,1,-999.0000,1,  -999.00,9,   -999.0,1,-999.000,9,   -999.0,9,   -999.0,9,  -999.00,9,12020.7,-999.0000,-999.000,-999.000,  3.4100,-999.000
   318MWESTW_5,  P21W,   918,  1,      4, SI1114,2,19940606,0509,-18.4167, 178.2278, 1492,   1293.3,   3.2959,  34.5368,2,-999.0000,9,    156.2,2,    155.9,2,    84.04,2,    34.83,2,     0.00,2,     2.42,2, -999.000,1, -999.000,1, -999.000,1,-999.0000,1,  -999.00,9,   -999.0,1,-999.000,9,   -999.0,9,   -999.0,9,  -999.00,9,12921.8,-999.0000,-999.000,-999.000,  3.2021,-999.000
   318MWESTW_5,  P21W,   918,  1,      3, SI1113,2,19940606,0509,-18.4167, 178.2278, 1492,   1399.0,   3.0963,  34.5562,2,-999.0000,9,    153.6,2,    154.7,2,    90.23,2,    35.09,2,     0.01,2,     2.43,2, -999.000,1, -999.000,1, -999.000,1,-999.0000,1,  -999.00,9,   -999.0,1,-999.000,9,   -999.0,9,   -999.0,9,  -999.00,9,13972.5,-999.0000,-999.000,-999.000,  2.9958,-999.000
   318MWESTW_5,  P21W,   918,  1,      2, SI1112,2,19940606,0509,-18.4167, 178.2278, 1492,   1450.8,   3.0501,  34.5601,2,-999.0000,9,    151.8,2,    153.8,2,    92.06,2,    35.01,2,     0.01,2,     2.44,2, -999.000,1, -999.000,1, -999.000,1,-999.0000,1,  -999.00,9,   -999.0,1,-999.000,9,   -999.0,9,   -999.0,9,  -999.00,9,14486.7,-999.0000,-999.000,-999.000,  2.9458,-999.000
   318MWESTW_5,  P21W,   918,  1,      1, SI1111,2,19940606,0509,-18.4167, 178.2278, 1492,   1494.5,   2.9588,  34.5687,2,-999.0000,9,    152.9,2,    151.7,2,    94.33,2,    35.05,2,     0.01,2,     2.45,2, -999.000,1, -999.000,1, -999.000,1,-999.0000,1,  -999.00,9,   -999.0,1,-999.000,9,   -999.0,9,   -999.0,9,  -999.00,9,14921.1,-999.0000,-999.000,-999.000,  2.8519,-999.000
   318MWESTW_5,  P21W,   219,  1,     23, SI9423,2,19940606,0812,-18.5000, 178.2333, 2165,      6.8,  25.3669,  34.9650,2,  34.9638,2,    203.4,2,    207.7,2,     0.92,2,    -0.01,2,     0.01,2,     0.10,2, -999.000,9, -999.000,9, -999.000,1,-999.0000,1,  -999.00,9,   -999.0,1,-999.000,9,   -999.0,9,   -999.0,9,  -999.00,9,  126.3,-999.0000,-999.000,-999.000, 25.3654,-999.000
   318MWESTW_5,  P21W,   219,  1,     22, SI9418,2,19940606,0812,-18.5000, 178.2333, 2165,     25.8,  25.3741,  34.9666,2,  34.9677,2,    198.7,2,    210.1,2,     0.92,2,    -0.01,2,     0.01,2,     0.11,2, -999.000,9, -999.000,9, -999.000,1,-999.0000,1,  -999.00,9,   -999.0,1,-999.000,9,   -999.0,9,   -999.0,9,  -999.00,9,  315.9,-999.0000,-999.000,-999.000, 25.3684,-999.000
   318MWESTW_5,  P21W,   219,  1,     21, SI9421,2,19940606,0812,-18.5000, 178.2333, 2165,     51.1,  25.3764,  35.0144,2,  35.0132,2,    196.0,2,    207.5,2,     0.77,2,     0.07,2,     0.02,2,     0.11,2, -999.000,9, -999.000,9, -999.000,1,-999.0000,1,  -999.00,9,   -999.0,1,-999.000,9,   -999.0,9,   -999.0,9,  -999.00,9,  568.8,-999.0000,-999.000,-999.000, 25.3652,-999.000
   318MWESTW_5,  P21W,   219,  1,     20, SI9420,2,19940606,0812,-18.5000, 178.2333, 2165,    101.5,  24.0422,  35.6231,2,  35.6271,2,    184.8,2,    191.0,2,     0.93,2,     1.29,2,     0.12,2,     0.27,2, -999.000,9, -999.000,9, -999.000,1,-999.0000,1,  -999.00,9,   -999.0,1,-999.000,9,   -999.0,9,   -999.0,9,  -999.00,9, 1070.4,-999.0000,-999.000,-999.000, 24.0208,-999.000
   318MWESTW_5,  P21W,   219,  1,     19, SI9419,2,19940606,0812,-18.5000, 178.2333, 2165,    152.7,  21.5707,  35.7837,2,  35.7809,2,    160.6,2,    173.9,2,     1.08,2,     3.43,2,     0.03,2,     0.42,2, -999.000,9, -999.000,9, -999.000,1,-999.0000,1,  -999.00,9,   -999.0,1,-999.000,9,   -999.0,9,   -999.0,9,  -999.00,9, 1580.8,-999.0000,-999.000,-999.000, 21.5408,-999.000
   318MWESTW_5,  P21W,   219,  1,     18, SI9439,2,19940606,0812,-18.5000, 178.2333, 2165,    207.1,  19.9182,  35.7149,2,  35.7138,2,    178.4,2,    186.2,2,     1.08,2,     3.38,2,     0.03,2,     0.38,2, -999.000,9, -999.000,9, -999.000,1,-999.0000,1,  -999.00,9,   -999.0,1,-999.000,9,   -999.0,9,   -999.0,9,  -999.00,9, 2122.1,-999.0000,-999.000,-999.000, 19.8798,-999.000
   318MWESTW_5,  P21W,   219,  1,     17, SI9417,2,19940606,0812,-18.5000, 178.2333, 2165,    248.0,  18.3945,  35.5925,2,  35.5859,2,    178.7,2,    179.4,2,     1.69,2,     5.13,2,     0.01,2,     0.53,2, -999.000,9, -999.000,9, -999.000,1,-999.0000,1,  -999.00,9,   -999.0,1,-999.000,9,   -999.0,9,   -999.0,9,  -999.00,9, 2529.1,-999.0000,-999.000,-999.000, 18.3510,-999.000
   318MWESTW_5,  P21W,   219,  1,     16, SI9416,2,19940606,0812,-18.5000, 178.2333, 2165,    294.2,  16.9180,  35.4923,2,  35.4866,2,    182.0,2,    189.3,2,     1.99,2,     5.96,2,     0.01,2,     0.56,2, -999.000,9, -999.000,9, -999.000,1,-999.0000,1,  -999.00,9,   -999.0,1,-999.000,9,   -999.0,9,   -999.0,9,  -999.00,9, 2989.6,-999.0000,-999.000,-999.000, 16.8693,-999.000
   318MWESTW_5,  P21W,   219,  1,     15, SI9415,2,19940606,0812,-18.5000, 178.2333, 2165,    349.3,  14.7876,  35.2244,2,  35.2235,2,    185.5,2,    183.4,2,     3.19,2,     9.28,2,     0.00,2,     0.79,2, -999.000,9, -999.000,9, -999.000,1,-999.0000,1,  -999.00,9,   -999.0,1,-999.000,9,   -999.0,9,   -999.0,9,  -999.00,9, 3537.5,-999.0000,-999.000,-999.000, 14.7349,-999.000
   318MWESTW_5,  P21W,   219,  1,     14, SI9436,2,19940606,0812,-18.5000, 178.2333, 2165,    393.6,  13.1410,  35.0855,2,  35.0848,2,    185.4,2,    186.3,2,     4.25,2,    12.00,2,     0.01,2,     0.96,2, -999.000,9, -999.000,9, -999.000,1,-999.0000,1,  -999.00,9,   -999.0,1,-999.000,9,   -999.0,9,   -999.0,9,  -999.00,9, 3978.3,-999.0000,-999.000,-999.000, 13.0860,-999.000
   318MWESTW_5,  P21W,   219,  1,     13, SI9413,2,19940606,0812,-18.5000, 178.2333, 2165,    497.6,   9.0334,  34.6115,2,  34.6068,2,    190.1,2,    190.3,2,     9.80,2,    20.68,2,     0.01,2,     1.52,2, -999.000,9, -999.000,9, -999.000,1,-999.0000,1,  -999.00,9,   -999.0,1,-999.000,9,   -999.0,9,   -999.0,9,  -999.00,9, 5012.5,-999.0000,-999.000,-999.000,  8.9786,-999.000
   318MWESTW_5,  P21W,   219,  1,     12, SI9438,2,19940606,0812,-18.5000, 178.2333, 2165,    599.8,   7.0087,  34.4403,2,  34.4387,2,    202.3,2,    199.8,2,    14.76,2,    24.92,2,     0.01,2,     1.78,2, -999.000,9, -999.000,9, -999.000,1,-999.0000,1,  -999.00,9,   -999.0,1,-999.000,9,   -999.0,9,   -999.0,9,  -999.00,9, 6029.3,-999.0000,-999.000,-999.000,  6.9514,-999.000
   318MWESTW_5,  P21W,   219,  1,     11, SI9411,2,19940606,0812,-18.5000, 178.2333, 2165,    699.8,   5.8396,  34.3908,2,  34.3896,2,    196.0,2,    195.2,2,    23.32,2,    27.97,2,     0.01,2,     1.98,2, -999.000,9, -999.000,9, -999.000,1,-999.0000,1,  -999.00,9,   -999.0,1,-999.000,9,   -999.0,9,   -999.0,9,  -999.00,9, 7023.5,-999.0000,-999.000,-999.000,  5.7785,-999.000
   318MWESTW_5,  P21W,   219,  1,     10, SI9412,2,19940606,0812,-18.5000, 178.2333, 2165,    802.5,   5.0935,  34.4061,2,  34.4055,2,    181.2,2,    180.6,2,    36.37,2,    30.53,2,     0.00,2,     2.16,2, -999.000,9, -999.000,9, -999.000,1,-999.0000,1,  -999.00,9,   -999.0,1,-999.000,9,   -999.0,9,   -999.0,9,  -999.00,9, 8044.9,-999.0000,-999.000,-999.000,  5.0273,-999.000
   318MWESTW_5,  P21W,   219,  1,      9, SI9410,2,19940606,0812,-18.5000, 178.2333, 2165,    900.1,   4.5027,  34.4424,2,  34.4418,2,    171.1,2,    170.5,2,    50.33,2,    32.08,2,     0.00,2,     2.26,2, -999.000,9, -999.000,9, -999.000,1,-999.0000,1,  -999.00,9,   -999.0,1,-999.000,9,   -999.0,9,   -999.0,9,  -999.00,9, 9014.5,-999.0000,-999.000,-999.000,  4.4319,-999.000
   318MWESTW_5,  P21W,   219,  1,      8, SI9422,2,19940606,0812,-18.5000, 178.2333, 2165,    969.4,   4.2823,  34.4551,2,  34.4546,2,    167.9,2,    168.0,2,    55.42,2,    32.59,2,     0.00,2,     2.30,2, -999.000,9, -999.000,9, -999.000,1,-999.0000,1,  -999.00,9,   -999.0,1,-999.000,9,   -999.0,9,   -999.0,9,  -999.00,9, 9704.0,-999.0000,-999.000,-999.000,  4.2071,-999.000
   318MWESTW_5,  P21W,   219,  1,      7, SI9407,2,19940606,0812,-18.5000, 178.2333, 2165,   1089.7,   3.7823,  34.4944,2,  34.4932,2,    161.1,2,    158.8,2,    68.92,2,    33.81,2,     0.01,2,     2.39,2, -999.000,9, -999.000,9, -999.000,1,-999.0000,1,  -999.00,9,   -999.0,1,-999.000,9,   -999.0,9,   -999.0,9,  -999.00,9,10900.0,-999.0000,-999.000,-999.000,  3.7010,-999.000
   318MWESTW_5,  P21W,   219,  1,      6, SI9427,2,19940606,0812,-18.5000, 178.2333, 2165,   1295.5,   3.2353,  34.5423,2,  34.5423,2,    152.6,2,    152.6,2,    85.56,2,    34.68,2,     0.01,2,     2.44,2, -999.000,9, -999.000,9, -999.000,1,-999.0000,1,  -999.00,9,   -999.0,1,-999.000,9,   -999.0,9,   -999.0,9,  -999.00,9,12946.4,-999.0000,-999.000,-999.000,  3.1419,-999.000
   318MWESTW_5,  P21W,   219,  1,      5, SI9405,2,19940606,0812,-18.5000, 178.2333, 2165,   1511.7,   2.8160,  34.5828,2,  34.5820,2,    149.5,2,    149.5,2,    98.45,2,    35.15,2,     0.01,2,     2.48,2, -999.000,9, -999.000,9, -999.000,1,-999.0000,1,  -999.00,9,   -999.0,1,-999.000,9,   -999.0,9,   -999.0,9,  -999.00,9,15094.7,-999.0000,-999.000,-999.000,  2.7093,-999.000
   318MWESTW_5,  P21W,   219,  1,      4, SI9404,2,19940606,0812,-18.5000, 178.2333, 2165,   1632.6,   2.6572,  34.5973,2,  34.5967,2,    150.3,2,    149.3,2,   103.09,2,    35.15,2,     0.02,2,     2.49,2, -999.000,9, -999.000,9, -999.000,1,-999.0000,1,  -999.00,9,   -999.0,1,-999.000,9,   -999.0,9,   -999.0,9,  -999.00,9,16297.4,-999.0000,-999.000,-999.000,  2.5424,-999.000
   318MWESTW_5,  P21W,   219,  1,      3, SI9403,2,19940606,0812,-18.5000, 178.2333, 2165,   1912.7,   2.3908,  34.6236,2,  34.6238,2,    149.4,2,    150.1,2,   110.43,2,    35.08,2,     0.00,2,     2.49,2, -999.000,9, -999.000,9, -999.000,1,-999.0000,1,  -999.00,9,   -999.0,1,-999.000,9,   -999.0,9,   -999.0,9,  -999.00,9,19080.9,-999.0000,-999.000,-999.000,  2.2560,-999.000
   318MWESTW_5,  P21W,   219,  1,      2, SI9437,2,19940606,0812,-18.5000, 178.2333, 2165,   2107.2,   2.1975,  34.6420,2,  34.6419,2,    148.2,2,    149.5,2,   116.13,2,    35.14,2,     0.00,2,     2.49,2, -999.000,9, -999.000,9, -999.000,1,-999.0000,1,  -999.00,9,   -999.0,1,-999.000,9,   -999.0,9,   -999.0,9,  -999.00,9,21014.4,-999.0000,-999.000,-999.000,  2.0488,-999.000
   318MWESTW_5,  P21W,   219,  1,      1, SI9401,2,19940606,0812,-18.5000, 178.2333, 2165,   2158.1,   2.1849,  34.6446,2,  34.6439,2,    144.8,2,    148.4,2,   116.64,2,    35.16,2,     0.00,2,     2.48,2, -999.000,9, -999.000,9, -999.000,1,-999.0000,1,  -999.00,9,   -999.0,1,-999.000,9,   -999.0,9,   -999.0,9,  -999.00,9,21519.9,-999.0000,-999.000,-999.000,  2.0320,-999.000