BOTTLE,20010911WHPSIOdm
EXPOCODE,SECT_ID,STNNBR,CASTNO,SAMPNO,BTLNBR,BTLNBR_FLAG_W,DATE,TIME,LATITUDE,LONGITUDE,DEPTH,CTDPRS,CTDTMP,CTDSAL,CTDSAL_FLAG_W,SALNTY,SALNTY_FLAG_W,CTDOXY,CTDOXY_FLAG_W,OXYGEN,OXYGEN_FLAG_W,SILCAT,SILCAT_FLAG_W,NITRAT,NITRAT_FLAG_W,NITRIT,NITRIT_FLAG_W,PHSPHT,PHSPHT_FLAG_W,CFC-11,CFC-11_FLAG_W,CFC-12,CFC-12_FLAG_W,TRITUM,TRITUM_FLAG_W,HELIUM,HELIUM_FLAG_W,DELHE3,DELHE3_FLAG_W,DELC14,DELC14_FLAG_W,NEON,NEON_FLAG_W,TCARBN,TCARBN_FLAG_W,ALKALI,ALKALI_FLAG_W,PH,PH_FLAG_W,CTDRAW,HELIER,DELHER,NEONER,THETA,TRITER
,,,,,,,,,,,,DBAR,ITS-90,PSS-78,,PSS-78,,UMOL/KG,,UMOL/KG,,UMOL/KG,,UMOL/KG,,UMOL/KG,,UMOL/KG,,PMOL/KG,,PMOL/KG,,TU,,UMOL/KG,,PERCNT,,/MILLE,,NMOL/KG,,UMOL/KG,,UMOL/KG,,,,,NMOL/KG,PERCNT,NMOL/KG,ITS-90,TU
   318MWESTW_5,  P21W,   245,  1,     32, SI9432,2,19940611,1321,-18.5805, 167.5805, 5550,      6.1,  25.9772,  34.8711,2,  34.8690,2,    204.6,2,    206.4,2,     0.81,2,     0.00,2,     0.00,2,     0.11,2,    1.743,2,    0.981,2, -999.000,1,-999.0000,1,  -999.00,9,   -999.0,1,-999.000,9,   -999.0,9,   -999.0,9,  -999.00,9,  120.1,-999.0000,-999.000,-999.000, 25.9758,-999.000
   318MWESTW_5,  P21W,   245,  1,     31, SI9431,2,19940611,1321,-18.5805, 167.5805, 5550,     23.8,  25.9855,  34.8713,2,  34.8696,2,    205.3,2,    206.5,2,     0.82,2,     0.03,2,     0.00,2,     0.12,2, -999.000,9, -999.000,9, -999.000,1,-999.0000,1,  -999.00,9,   -999.0,1,-999.000,9,   -999.0,9,   -999.0,9,  -999.00,9,  296.2,-999.0000,-999.000,-999.000, 25.9802,-999.000
   318MWESTW_5,  P21W,   245,  1,     30, SI9440,2,19940611,1321,-18.5805, 167.5805, 5550,     48.4,  25.8906,  34.9275,2,  34.9500,2,    204.4,2,    208.4,2,     0.83,2,     0.02,2,     0.01,2,     0.16,2,    1.742,2,    0.995,2, -999.000,1,-999.0000,1,  -999.00,9,   -999.0,1,-999.000,9,   -999.0,9,   -999.0,9,  -999.00,9,  541.6,-999.0000,-999.000,-999.000, 25.8798,-999.000
   318MWESTW_5,  P21W,   245,  1,     29, SI9429,2,19940611,1321,-18.5805, 167.5805, 5550,     98.7,  25.2817,  35.5292,2,  35.5338,2,    196.9,2,    182.5,2,     0.98,2,     1.33,2,     0.11,2,     0.32,2,    1.784,2,    0.985,2, -999.000,1,-999.0000,1,  -999.00,9,   -999.0,1,-999.000,9,   -999.0,9,   -999.0,9,  -999.00,9, 1043.5,-999.0000,-999.000,-999.000, 25.2601,-999.000
   318MWESTW_5,  P21W,   245,  1,     28, SI9428,2,19940611,1321,-18.5805, 167.5805, 5550,    150.0,  23.5955,  35.8248,2,  35.8358,2,    166.2,2,    166.9,2,     1.12,2,     3.76,2,     0.03,2,     0.47,2,    1.823,2,    1.004,2, -999.000,1,-999.0000,1,  -999.00,9,   -999.0,1,-999.000,9,   -999.0,9,   -999.0,9,  -999.00,9, 1553.6,-999.0000,-999.000,-999.000, 23.5642,-999.000
   318MWESTW_5,  P21W,   245,  1,     27, SI9424,2,19940611,1321,-18.5805, 167.5805, 5550,    199.0,  21.9571,  35.8771,2,  35.8775,2,    161.3,2,    160.4,2,     1.27,2,     5.05,2,     0.01,2,     0.55,2,    1.824,2,    0.984,2, -999.000,1,-999.0000,1,  -999.00,9,   -999.0,1,-999.000,9,   -999.0,9,   -999.0,9,  -999.00,9, 2041.9,-999.0000,-999.000,-999.000, 21.9176,-999.000
   318MWESTW_5,  P21W,   245,  1,     26, SI9414,2,19940611,1321,-18.5805, 167.5805, 5550,    256.5,  19.3676,  35.6628,2,  35.6632,2,    163.7,2,    163.5,2,     1.83,2,     6.37,2,     0.01,2,     0.62,2,    1.745,2,    0.953,2, -999.000,1,-999.0000,1,  -999.00,9,   -999.0,1,-999.000,9,   -999.0,9,   -999.0,9,  -999.00,9, 2614.1,-999.0000,-999.000,-999.000, 19.3210,-999.000
   318MWESTW_5,  P21W,   245,  1,     25, SI9425,2,19940611,1321,-18.5805, 167.5805, 5550,    286.2,  17.8522,  35.5141,2,  35.5135,2,    165.4,2,    160.7,2,     2.79,2,     8.14,2,     0.01,2,     0.74,2,    1.635,2,    0.853,2, -999.000,1,-999.0000,1,  -999.00,9,   -999.0,1,-999.000,9,   -999.0,9,   -999.0,9,  -999.00,9, 2909.6,-999.0000,-999.000,-999.000, 17.8031,-999.000
   318MWESTW_5,  P21W,   245,  1,     24, SI9434,2,19940611,1321,-18.5805, 167.5805, 5550,    353.1,  14.3470,  35.1469,2,  35.1384,2,    162.2,2,    165.3,2,     6.76,2,    13.53,2,     0.01,2,     1.08,2,    1.217,6,    0.646,6, -999.000,1,-999.0000,1,  -999.00,9,   -999.0,1,-999.000,9,   -999.0,9,   -999.0,9,  -999.00,9, 3576.0,-999.0000,-999.000,-999.000, 14.2948,-999.000
   318MWESTW_5,  P21W,   245,  1,     23, SI9423,2,19940611,1321,-18.5805, 167.5805, 5550,    403.4,  12.0317,  34.9008,2,  34.8943,2,    159.6,2,    159.1,2,     8.55,2,    17.20,2,     0.01,2,     1.32,2,    0.936,2,    0.486,2, -999.000,1,-999.0000,1,  -999.00,9,   -999.0,1,-999.000,9,   -999.0,9,   -999.0,9,  -999.00,9, 4075.8,-999.0000,-999.000,-999.000, 11.9786,-999.000
   318MWESTW_5,  P21W,   245,  1,     22, SI9418,2,19940611,1321,-18.5805, 167.5805, 5550,    493.0,   9.5855,  34.6784,2,  34.6620,2,    180.1,2,    181.4,2,    10.34,2,    20.61,2,     0.00,2,     1.49,2,    0.752,2,    0.396,2, -999.000,1,-999.0000,1,  -999.00,9,   -999.0,1,-999.000,9,   -999.0,9,   -999.0,9,  -999.00,9, 4967.3,-999.0000,-999.000,-999.000,  9.5291,-999.000
   318MWESTW_5,  P21W,   245,  1,     21, SI9421,2,19940611,1321,-18.5805, 167.5805, 5550,    595.5,   7.4614,  34.4933,2,  34.4879,2,    189.4,2,    193.8,2,    14.86,2,    24.29,2,     0.00,2,     1.71,2,    0.469,2,    0.244,2, -999.000,1,-999.0000,1,  -999.00,9,   -999.0,1,-999.000,9,   -999.0,9,   -999.0,9,  -999.00,9, 5986.6,-999.0000,-999.000,-999.000,  7.4024,-999.000
   318MWESTW_5,  P21W,   245,  1,     20, SI9420,2,19940611,1321,-18.5805, 167.5805, 5550,    699.0,   6.0425,  34.4200,2,  34.4184,2,    187.5,2,    187.1,2,    24.99,2,    27.96,2,     0.00,2,     1.96,2,    0.204,2,    0.111,2, -999.000,1,-999.0000,1,  -999.00,9,   -999.0,1,-999.000,9,   -999.0,9,   -999.0,9,  -999.00,9, 7016.1,-999.0000,-999.000,-999.000,  5.9803,-999.000
   318MWESTW_5,  P21W,   245,  1,     19, SI9419,2,19940611,1321,-18.5805, 167.5805, 5550,    801.2,   5.3320,  34.4409,2,  34.4392,2,    175.2,2,    174.3,2,    38.13,2,    30.32,2,     0.00,2,     2.11,2, -999.000,9, -999.000,9, -999.000,1,-999.0000,1,  -999.00,9,   -999.0,1,-999.000,9,   -999.0,9,   -999.0,9,  -999.00,9, 8031.7,-999.0000,-999.000,-999.000,  5.2645,-999.000
   318MWESTW_5,  P21W,   245,  1,     18, SI9439,2,19940611,1321,-18.5805, 167.5805, 5550,    903.8,   4.9067,  34.4523,2,  34.4589,2,    168.2,2,    167.7,2,    47.29,2,    31.41,2,     0.00,2,     2.18,2,    0.057,2,    0.032,2, -999.000,1,-999.0000,1,  -999.00,9,   -999.0,1,-999.000,9,   -999.0,9,   -999.0,9,  -999.00,9, 9052.3,-999.0000,-999.000,-999.000,  4.8328,-999.000
   318MWESTW_5,  P21W,   245,  1,     17, SI9417,2,19940611,1321,-18.5805, 167.5805, 5550,   1000.0,   4.3380,  34.4743,2,  34.4738,2,    164.1,2,    163.8,2,    57.55,2,    32.63,2,     0.00,2,     2.27,2,    0.025,2,    0.016,2, -999.000,1,-999.0000,1,  -999.00,9,   -999.0,1,-999.000,9,   -999.0,9,   -999.0,9,  -999.00,9,10008.5,-999.0000,-999.000,-999.000,  4.2598,-999.000
   318MWESTW_5,  P21W,   245,  1,     16, SI9416,2,19940611,1321,-18.5805, 167.5805, 5550,   1206.2,   3.6114,  34.5273,2,  34.5272,2,    157.2,2,    157.5,2,    76.42,2,    33.86,2,     0.00,2,     2.36,2, -999.000,9, -999.000,9, -999.000,1,-999.0000,1,  -999.00,9,   -999.0,1,-999.000,9,   -999.0,9,   -999.0,9,  -999.00,9,12058.8,-999.0000,-999.000,-999.000,  3.5218,-999.000
   318MWESTW_5,  P21W,   245,  1,     15, SI9415,2,19940611,1321,-18.5805, 167.5805, 5550,   1403.0,   3.1861,  34.5618,2,  34.5610,2,    154.1,2,    153.4,2,    87.91,2,    34.40,2,     0.00,2,     2.40,2,    0.003,2,    0.002,2, -999.000,1,-999.0000,1,  -999.00,9,   -999.0,1,-999.000,9,   -999.0,9,   -999.0,9,  -999.00,9,14015.1,-999.0000,-999.000,-999.000,  3.0843,-999.000
   318MWESTW_5,  P21W,   245,  1,     14, SI9436,2,19940611,1321,-18.5805, 167.5805, 5550,   1700.4,   2.6717,  34.6090,2,  34.6085,2,    150.3,2,    149.1,2,   102.81,2,    34.98,2,     0.01,2,     2.45,2,   -0.002,2,    0.000,2, -999.000,1,-999.0000,1,  -999.00,9,   -999.0,1,-999.000,9,   -999.0,9,   -999.0,9,  -999.00,9,16971.8,-999.0000,-999.000,-999.000,  2.5510,-999.000
   318MWESTW_5,  P21W,   245,  1,     13, SI9413,2,19940611,1321,-18.5805, 167.5805, 5550,   2011.9,   2.3665,  34.6366,2,  34.6366,2,    150.8,2,    154.4,4,   110.33,2,    35.08,2,     0.00,2,     2.46,2, -999.000,9, -999.000,9, -999.000,1,-999.0000,1,  -999.00,9,   -999.0,1,-999.000,9,   -999.0,9,   -999.0,9,  -999.00,9,20069.2,-999.0000,-999.000,-999.000,  2.2235,-999.000
   318MWESTW_5,  P21W,   245,  1,     12, SI9438,2,19940611,1321,-18.5805, 167.5805, 5550,   2302.2,   2.1510,  34.6567,2,  34.6559,2,    151.0,2,    151.3,2,   114.99,2,    34.94,2,     0.00,2,     2.45,2, -999.000,9, -999.000,9, -999.000,1,-999.0000,1,  -999.00,9,   -999.0,1,-999.000,9,   -999.0,9,   -999.0,9,  -999.00,9,22955.0,-999.0000,-999.000,-999.000,  1.9859,-999.000
   318MWESTW_5,  P21W,   245,  1,     11, SI9411,2,19940611,1321,-18.5805, 167.5805, 5550,   2603.2,   2.0206,  34.6675,2,  34.6684,2,    152.7,2,    153.1,2,   118.13,2,    34.85,2,     0.01,2,     2.44,2,    0.001,2,    0.002,2,   -0.003,2,   1.9648,2,    18.98,2,   -999.0,1,   8.340,2,   -999.0,9,   -999.0,9,  -999.00,9,25947.1,  0.0098,   0.100,   0.042,  1.8304,   0.004
   318MWESTW_5,  P21W,   245,  1,     10, SI9412,2,19940611,1321,-18.5805, 167.5805, 5550,   2906.9,   1.9221,  34.6737,2,  34.6737,2,    153.5,2,    161.8,4,   121.96,2,    34.99,2,     0.00,2,     2.44,2, -999.000,9, -999.000,9, -999.000,1,-999.0000,1,  -999.00,9,   -999.0,1,-999.000,9,   -999.0,9,   -999.0,9,  -999.00,9,28966.9,-999.0000,-999.000,-999.000,  1.7051,-999.000
   318MWESTW_5,  P21W,   245,  1,      9, SI9410,2,19940611,1321,-18.5805, 167.5805, 5550,   3204.1,   1.8682,  34.6770,2,  34.6775,2,    153.7,2,    153.7,2,   124.29,2,    35.09,2,     0.00,2,     2.44,2, -999.000,9, -999.000,9,   -0.002,2,   1.9098,2,    19.17,2,   -999.0,1,   8.146,2,   -999.0,9,   -999.0,9,  -999.00,9,31921.0,  0.0095,   0.100,   0.041,  1.6231,   0.004
   318MWESTW_5,  P21W,   245,  1,      8, SI9422,2,19940611,1321,-18.5805, 167.5805, 5550,   3507.7,   1.8378,  34.6795,2,  34.6800,2,    154.0,2,    154.4,2,   126.62,2,    35.14,2,     0.00,2,     2.44,2, -999.000,9, -999.000,9,   -0.003,2,   1.8971,2,    18.82,2,   -999.0,1,   8.124,2,   -999.0,9,   -999.0,9,  -999.00,9,34939.8,  0.0095,   0.100,   0.041,  1.5624,   0.004
   318MWESTW_5,  P21W,   245,  1,      7, SI9407,2,19940611,1321,-18.5805, 167.5805, 5550,   3813.1,   1.8406,  34.6811,2,  34.6816,2,    154.7,2,    154.7,2,   126.76,2,    35.03,2,     0.01,2,     2.44,2,   -0.001,2,    0.003,2, -999.000,1,-999.0000,1,  -999.00,9,   -999.0,1,-999.000,9,   -999.0,9,   -999.0,9,  -999.00,9,37976.3,-999.0000,-999.000,-999.000,  1.5326,-999.000
   318MWESTW_5,  P21W,   245,  1,      6, SI9427,2,19940611,1321,-18.5805, 167.5805, 5550,   4114.5,   1.8532,  34.6845,2,  34.6844,2,    156.5,2,    156.9,2,   126.47,2,    34.86,2,     0.00,2,     2.44,2, -999.000,9, -999.000,9,    0.003,2,   1.9031,2,    18.20,2,   -999.0,1,   8.156,2,   -999.0,9,   -999.0,9,  -999.00,9,40972.6,  0.0095,   0.100,   0.041,  1.5116,   0.004
   318MWESTW_5,  P21W,   245,  1,      5, SI9405,2,19940611,1321,-18.5805, 167.5805, 5550,   4414.6,   1.8796,  34.6851,2,  34.6838,2,    155.9,2,    157.5,2,   125.86,2,    34.76,2,     0.00,2,     2.43,2, -999.000,9, -999.000,9, -999.000,1,-999.0000,1,  -999.00,9,   -999.0,1,-999.000,9,   -999.0,9,   -999.0,9,  -999.00,9,43955.9,-999.0000,-999.000,-999.000,  1.5029,-999.000
   318MWESTW_5,  P21W,   245,  1,      4, SI9404,2,19940611,1321,-18.5805, 167.5805, 5550,   4719.0,   1.9125,  34.6854,2,  34.6855,2,    158.0,2,    166.4,4,   125.79,2,    34.71,2,     0.00,2,     2.42,2,   -0.003,2,    0.000,2,   -0.005,2,   1.9172,2,    17.87,2,   -999.0,1,   8.193,2,   -999.0,9,   -999.0,9,  -999.00,9,46982.0,  0.0096,   0.100,   0.041,  1.4987,   0.004
   318MWESTW_5,  P21W,   245,  1,      3, SI9403,2,19940611,1321,-18.5805, 167.5805, 5550,   5025.5,   1.9486,  34.6863,2,  34.6859,2,    158.2,2,    158.2,2,   125.70,2,    34.74,2,     0.00,2,     2.42,2, -999.000,9, -999.000,9,    0.007,2,-999.0000,1,  -999.00,9,   -999.0,1,-999.000,9,   -999.0,9,   -999.0,9,  -999.00,9,50029.2,-999.0000,-999.000,-999.000,  1.4961,   0.004
   318MWESTW_5,  P21W,   245,  1,      2, SI9437,2,19940611,1321,-18.5805, 167.5805, 5550,   5332.9,   1.9868,  34.6863,2,  34.6851,2,    158.9,2,    158.0,2,   125.56,2,    34.83,2,     0.00,2,     2.42,2, -999.000,9, -999.000,9,    0.002,2,   1.9041,2,    17.71,2,   -999.0,1,   8.148,2,   -999.0,9,   -999.0,9,  -999.00,9,53085.0,  0.0095,   0.100,   0.041,  1.4942,   0.004
   318MWESTW_5,  P21W,   245,  1,      1, SI9401,2,19940611,1321,-18.5805, 167.5805, 5550,   5634.3,   2.0264,  34.6860,2,  34.6867,2,    158.9,2,    158.1,2,   125.81,2,    34.84,2,     0.00,2,     2.41,2,   -0.001,2,    0.000,2,    0.005,2,   1.9022,2,    17.75,2,   -999.0,1,   8.135,2,   -999.0,9,   -999.0,9,  -999.00,9,56081.8,  0.0095,   0.100,   0.041,  1.4931,   0.004