BOTTLE,20010911WHPSIOdm
EXPOCODE,SECT_ID,STNNBR,CASTNO,SAMPNO,BTLNBR,BTLNBR_FLAG_W,DATE,TIME,LATITUDE,LONGITUDE,DEPTH,CTDPRS,CTDTMP,CTDSAL,CTDSAL_FLAG_W,SALNTY,SALNTY_FLAG_W,CTDOXY,CTDOXY_FLAG_W,OXYGEN,OXYGEN_FLAG_W,SILCAT,SILCAT_FLAG_W,NITRAT,NITRAT_FLAG_W,NITRIT,NITRIT_FLAG_W,PHSPHT,PHSPHT_FLAG_W,CFC-11,CFC-11_FLAG_W,CFC-12,CFC-12_FLAG_W,TRITUM,TRITUM_FLAG_W,HELIUM,HELIUM_FLAG_W,DELHE3,DELHE3_FLAG_W,DELC14,DELC14_FLAG_W,NEON,NEON_FLAG_W,TCARBN,TCARBN_FLAG_W,ALKALI,ALKALI_FLAG_W,PH,PH_FLAG_W,CTDRAW,HELIER,DELHER,NEONER,THETA,TRITER
,,,,,,,,,,,,DBAR,ITS-90,PSS-78,,PSS-78,,UMOL/KG,,UMOL/KG,,UMOL/KG,,UMOL/KG,,UMOL/KG,,UMOL/KG,,PMOL/KG,,PMOL/KG,,TU,,UMOL/KG,,PERCNT,,/MILLE,,NMOL/KG,,UMOL/KG,,UMOL/KG,,,,,NMOL/KG,PERCNT,NMOL/KG,ITS-90,TU
   318MWESTW_5,  P21W,   210,  1,     27, SI9424,2,19940603,1601,-17.5000,-177.0000, 2400,      6.5,  26.6591,  35.4254,2,  35.4306,2,    203.0,2,    204.2,2,     0.65,2,     0.04,2,     0.00,2,     0.18,2,    1.660,2,    0.969,2, -999.000,1,-999.0000,1,  -999.00,9,   -999.0,1,-999.000,9,   -999.0,9,   -999.0,9,  -999.00,9,  123.7,-999.0000,-999.000,-999.000, 26.6576,-999.000
   318MWESTW_5,  P21W,   210,  1,     26, SI9414,2,19940603,1601,-17.5000,-177.0000, 2400,     21.7,  26.7269,  35.5074,2,  35.5064,2,    207.1,2,    203.3,2,     0.66,2,    -0.01,2,     0.01,2,     0.19,2, -999.000,9, -999.000,9, -999.000,1,-999.0000,1,  -999.00,9,   -999.0,1,-999.000,9,   -999.0,9,   -999.0,9,  -999.00,9,  275.4,-999.0000,-999.000,-999.000, 26.7220,-999.000
   318MWESTW_5,  P21W,   210,  1,     25, SI9425,2,19940603,1601,-17.5000,-177.0000, 2400,     46.5,  26.7149,  35.5102,2,  35.5087,2,    204.6,2,    206.0,2,     0.68,2,     0.00,2,     0.00,2,     0.19,2,    1.645,2,    0.966,2, -999.000,1,-999.0000,1,  -999.00,9,   -999.0,1,-999.000,9,   -999.0,9,   -999.0,9,  -999.00,9,  522.9,-999.0000,-999.000,-999.000, 26.7043,-999.000
   318MWESTW_5,  P21W,   210,  1,     24, SI9434,2,19940603,1601,-17.5000,-177.0000, 2400,     97.0,  26.2612,  35.8057,2,  35.7991,2,    199.4,2,    201.3,2,     0.69,2,     0.00,2,     0.00,2,     0.21,2, -999.000,9, -999.000,9, -999.000,1,-999.0000,1,  -999.00,9,   -999.0,1,-999.000,9,   -999.0,9,   -999.0,9,  -999.00,9, 1026.1,-999.0000,-999.000,-999.000, 26.2393,-999.000
   318MWESTW_5,  P21W,   210,  1,     23, SI9423,2,19940603,1601,-17.5000,-177.0000, 2400,    146.1,  23.5070,  35.8618,2,  35.8983,2,    184.6,2,    181.7,2,     0.71,2,     1.32,2,     0.02,2,     0.33,2,    1.862,2,    1.042,2, -999.000,1,-999.0000,1,  -999.00,9,   -999.0,1,-999.000,9,   -999.0,9,   -999.0,9,  -999.00,9, 1515.3,-999.0000,-999.000,-999.000, 23.4766,-999.000
   318MWESTW_5,  P21W,   210,  1,     22, SI9418,2,19940603,1601,-17.5000,-177.0000, 2400,    195.9,  21.5219,  35.8023,2,  35.8040,2,    173.8,2,    181.1,2,     0.72,2,     2.59,2,     0.00,2,     0.37,2, -999.000,9, -999.000,9, -999.000,1,-999.0000,1,  -999.00,9,   -999.0,1,-999.000,9,   -999.0,9,   -999.0,9,  -999.00,9, 2010.8,-999.0000,-999.000,-999.000, 21.4836,-999.000
   318MWESTW_5,  P21W,   210,  1,     21, SI9421,2,19940603,1601,-17.5000,-177.0000, 2400,    248.4,  19.2444,  35.6451,2,  35.6447,2,    185.1,2,    182.8,2,     1.05,2,     3.79,2,     0.00,2,     0.42,2,    1.905,2,    1.057,2, -999.000,1,-999.0000,1,  -999.00,9,   -999.0,1,-999.000,9,   -999.0,9,   -999.0,9,  -999.00,9, 2533.0,-999.0000,-999.000,-999.000, 19.1995,-999.000
   318MWESTW_5,  P21W,   210,  1,     20, SI9420,2,19940603,1601,-17.5000,-177.0000, 2400,    297.7,  17.2582,  35.4794,2,  35.4762,2,    186.8,2,    185.6,2,     1.68,2,     5.54,2,     0.01,2,     0.55,2, -999.000,9, -999.000,9, -999.000,1,-999.0000,1,  -999.00,9,   -999.0,1,-999.000,9,   -999.0,9,   -999.0,9,  -999.00,9, 3024.2,-999.0000,-999.000,-999.000, 17.2083,-999.000
   318MWESTW_5,  P21W,   210,  1,     19, SI9419,2,19940603,1601,-17.5000,-177.0000, 2400,    349.7,  14.4991,  35.1672,2,  35.1644,2,    186.6,2,    184.0,2,     2.92,2,     9.60,2,     0.01,2,     0.83,2,    1.538,2,    0.826,2, -999.000,1,-999.0000,1,  -999.00,9,   -999.0,1,-999.000,9,   -999.0,9,   -999.0,9,  -999.00,9, 3542.0,-999.0000,-999.000,-999.000, 14.4470,-999.000
   318MWESTW_5,  P21W,   210,  1,     18, SI9439,2,19940603,1601,-17.5000,-177.0000, 2400,    398.3,  12.4378,  34.9347,2,  34.9313,2,    173.9,2,    177.8,2,     5.09,2,    14.00,2,     0.00,2,     1.12,2, -999.000,9, -999.000,9, -999.000,1,-999.0000,1,  -999.00,9,   -999.0,1,-999.000,9,   -999.0,9,   -999.0,9,  -999.00,9, 4024.7,-999.0000,-999.000,-999.000, 12.3842,-999.000
   318MWESTW_5,  P21W,   210,  1,     17, SI9417,2,19940603,1601,-17.5000,-177.0000, 2400,    462.5,  10.1056,  34.7024,2,  34.7011,2,    193.9,2,    193.0,2,     6.19,2,    17.70,2,     0.00,2,     1.32,2,    1.059,2,    0.561,2, -999.000,1,-999.0000,1,  -999.00,9,   -999.0,1,-999.000,9,   -999.0,9,   -999.0,9,  -999.00,9, 4664.1,-999.0000,-999.000,-999.000, 10.0511,-999.000
   318MWESTW_5,  P21W,   210,  1,     16, SI9416,2,19940603,1601,-17.5000,-177.0000, 2400,    512.6,   8.7113,  34.5579,2,  34.5765,2,    201.0,2,    201.6,2,     6.97,2,    19.83,2,     0.00,2,     1.44,2, -999.000,9, -999.000,9, -999.000,1,-999.0000,1,  -999.00,9,   -999.0,1,-999.000,9,   -999.0,9,   -999.0,9,  -999.00,9, 5161.9,-999.0000,-999.000,-999.000,  8.6560,-999.000
   318MWESTW_5,  P21W,   210,  1,     15, SI9415,2,19940603,1601,-17.5000,-177.0000, 2400,    585.0,   7.2002,  34.4256,2,  34.4198,2,    210.9,2,    210.2,2,    10.38,2,    23.62,2,     0.00,2,     1.68,2,    0.617,6,    0.335,6, -999.000,1,-999.0000,1,  -999.00,9,   -999.0,1,-999.000,9,   -999.0,9,   -999.0,9,  -999.00,9, 5882.1,-999.0000,-999.000,-999.000,  7.1435,-999.000
   318MWESTW_5,  P21W,   210,  1,     14, SI9436,2,19940603,1601,-17.5000,-177.0000, 2400,    695.8,   6.0496,  34.3579,2,  34.3566,2,    214.3,2,    209.1,2,    16.05,2,    26.79,2,     0.00,2,     1.87,2, -999.000,9, -999.000,9, -999.000,1,-999.0000,1,  -999.00,9,   -999.0,1,-999.000,9,   -999.0,9,   -999.0,9,  -999.00,9, 6983.3,-999.0000,-999.000,-999.000,  5.9878,-999.000
   318MWESTW_5,  P21W,   210,  1,     13, SI9413,2,19940603,1601,-17.5000,-177.0000, 2400,    796.1,   5.2549,  34.3765,2,  34.3747,2,    190.3,2,    203.7,4,    30.13,2,    30.56,2,     0.00,2,     2.14,2,    0.081,2,    0.050,2, -999.000,1,-999.0000,1,  -999.00,9,   -999.0,1,-999.000,9,   -999.0,9,   -999.0,9,  -999.00,9, 7980.9,-999.0000,-999.000,-999.000,  5.1884,-999.000
   318MWESTW_5,  P21W,   210,  1,     12, SI9438,2,19940603,1601,-17.5000,-177.0000, 2400,    900.7,   4.6415,  34.4263,2,  34.4235,2,    170.9,2,    164.7,2,    46.16,2,    33.00,2,     0.01,2,     2.32,2, -999.000,9, -999.000,9, -999.000,1,-999.0000,1,  -999.00,9,   -999.0,1,-999.000,9,   -999.0,9,   -999.0,9,  -999.00,9, 9020.7,-999.0000,-999.000,-999.000,  4.5697,-999.000
   318MWESTW_5,  P21W,   210,  1,     11, SI9411,2,19940603,1601,-17.5000,-177.0000, 2400,   1001.7,   4.2290,  34.4548,2,  34.4548,2,    162.3,2,    159.9,2,    56.49,2,    33.99,2,     0.00,2,     2.40,2,    0.008,2,    0.004,2, -999.000,1,-999.0000,1,  -999.00,9,   -999.0,1,-999.000,9,   -999.0,9,   -999.0,9,  -999.00,9,10025.4,-999.0000,-999.000,-999.000,  4.1515,-999.000
   318MWESTW_5,  P21W,   210,  1,     10, SI9412,2,19940603,1601,-17.5000,-177.0000, 2400,   1103.6,   3.8974,  34.4801,2,  34.4799,2,    154.5,2,    158.3,2,    65.44,2,    34.51,2,     0.00,2,     2.43,2, -999.000,9, -999.000,9, -999.000,1,-999.0000,1,  -999.00,9,   -999.0,1,-999.000,9,   -999.0,9,   -999.0,9,  -999.00,9,11038.0,-999.0000,-999.000,-999.000,  3.8140,-999.000
   318MWESTW_5,  P21W,   210,  1,      9, SI9410,2,19940603,1601,-17.5000,-177.0000, 2400,   1198.7,   3.6048,  34.5097,2,  34.5091,2,    151.8,2,    151.0,2,    74.89,2,    34.90,2,     0.00,2,     2.43,2,    0.003,2,    0.001,2, -999.000,1,-999.0000,1,  -999.00,9,   -999.0,1,-999.000,9,   -999.0,9,   -999.0,9,  -999.00,9,11983.8,-999.0000,-999.000,-999.000,  3.5159,-999.000
   318MWESTW_5,  P21W,   210,  1,      8, SI9422,2,19940603,1601,-17.5000,-177.0000, 2400,   1299.9,   3.2851,  34.5310,2,  34.5303,2,    151.3,2,    151.5,2,    83.02,2,    35.07,2,     0.00,2,     2.46,2, -999.000,9, -999.000,9, -999.000,1,-999.0000,1,  -999.00,9,   -999.0,1,-999.000,9,   -999.0,9,   -999.0,9,  -999.00,9,12990.0,-999.0000,-999.000,-999.000,  3.1909,-999.000
   318MWESTW_5,  P21W,   210,  1,      7, SI9407,2,19940603,1601,-17.5000,-177.0000, 2400,   1500.1,   2.8713,  34.5669,2,  34.5657,2,    150.1,2,    150.8,2,    95.66,2,    35.22,2,     0.00,2,     2.47,2, -999.000,9, -999.000,9, -999.000,1,-999.0000,1,  -999.00,9,   -999.0,1,-999.000,9,   -999.0,9,   -999.0,9,  -999.00,9,14980.2,-999.0000,-999.000,-999.000,  2.7650,-999.000
   318MWESTW_5,  P21W,   210,  1,      6, SI9427,2,19940603,1601,-17.5000,-177.0000, 2400,   1700.5,   2.5832,  34.5943,2,  34.5934,2,    149.4,2,    150.2,2,   105.21,2,    35.41,2,     0.00,2,     2.49,2, -999.000,9, -999.000,9, -999.000,1,-999.0000,1,  -999.00,9,   -999.0,1,-999.000,9,   -999.0,9,   -999.0,9,  -999.00,9,16972.4,-999.0000,-999.000,-999.000,  2.4637,-999.000
   318MWESTW_5,  P21W,   210,  1,      5, SI9405,2,19940603,1601,-17.5000,-177.0000, 2400,   1899.3,   2.4641,  34.6102,2,  34.6103,2,    147.5,2,    147.7,2,   110.30,2,    35.65,2,     0.00,2,     2.50,2, -999.000,9, -999.000,9, -999.000,1,-999.0000,1,  -999.00,9,   -999.0,1,-999.000,9,   -999.0,9,   -999.0,9,  -999.00,9,18948.6,-999.0000,-999.000,-999.000,  2.3294,-999.000
   318MWESTW_5,  P21W,   210,  1,      4, SI9404,2,19940603,1601,-17.5000,-177.0000, 2400,   2092.0,   2.3705,  34.6208,2,  34.6209,2,    147.2,2,    157.5,4,   114.00,2,    35.79,2,     0.00,2,     2.51,2, -999.000,9, -999.000,9, -999.000,1,-999.0000,1,  -999.00,9,   -999.0,1,-999.000,9,   -999.0,9,   -999.0,9,  -999.00,9,20864.6,-999.0000,-999.000,-999.000,  2.2205,-999.000
   318MWESTW_5,  P21W,   210,  1,      3, SI9403,2,19940603,1601,-17.5000,-177.0000, 2400,   2257.1,   2.2247,  34.6347,2,  34.6344,2,    147.5,2,    147.8,2,   118.62,2,    35.83,2,     0.01,2,     2.52,2, -999.000,9, -999.000,9, -999.000,1,-999.0000,1,  -999.00,9,   -999.0,1,-999.000,9,   -999.0,9,   -999.0,9,  -999.00,9,22505.5,-999.0000,-999.000,-999.000,  2.0624,-999.000
   318MWESTW_5,  P21W,   210,  1,      2, SI9437,2,19940603,1601,-17.5000,-177.0000, 2400,   2359.6,   2.1679,  34.6403,2,  34.6394,2,    147.7,2,    154.5,3,   121.10,2,    35.80,2,     0.00,2,     2.53,2, -999.000,9, -999.000,9, -999.000,1,-999.0000,1,  -999.00,9,   -999.0,1,-999.000,9,   -999.0,9,   -999.0,9,  -999.00,9,23524.0,-999.0000,-999.000,-999.000,  1.9974,-999.000
   318MWESTW_5,  P21W,   210,  1,      1, SI9401,2,19940603,1601,-17.5000,-177.0000, 2400,   2405.8,   2.1484,  34.6419,2,  34.6415,2,    147.0,2,    148.1,2,   121.57,2,    35.78,2,     0.00,2,     2.50,2,   -0.001,2,    0.000,2, -999.000,1,-999.0000,1,  -999.00,9,   -999.0,1,-999.000,9,   -999.0,9,   -999.0,9,  -999.00,9,23983.2,-999.0000,-999.000,-999.000,  1.9740,-999.000