BOTTLE,20010911WHPSIOdm
EXPOCODE,SECT_ID,STNNBR,CASTNO,SAMPNO,BTLNBR,BTLNBR_FLAG_W,DATE,TIME,LATITUDE,LONGITUDE,DEPTH,CTDPRS,CTDTMP,CTDSAL,CTDSAL_FLAG_W,SALNTY,SALNTY_FLAG_W,CTDOXY,CTDOXY_FLAG_W,OXYGEN,OXYGEN_FLAG_W,SILCAT,SILCAT_FLAG_W,NITRAT,NITRAT_FLAG_W,NITRIT,NITRIT_FLAG_W,PHSPHT,PHSPHT_FLAG_W,CFC-11,CFC-11_FLAG_W,CFC-12,CFC-12_FLAG_W,TRITUM,TRITUM_FLAG_W,HELIUM,HELIUM_FLAG_W,DELHE3,DELHE3_FLAG_W,DELC14,DELC14_FLAG_W,NEON,NEON_FLAG_W,TCARBN,TCARBN_FLAG_W,ALKALI,ALKALI_FLAG_W,PH,PH_FLAG_W,CTDRAW,HELIER,DELHER,NEONER,THETA,TRITER
,,,,,,,,,,,,DBAR,ITS-90,PSS-78,,PSS-78,,UMOL/KG,,UMOL/KG,,UMOL/KG,,UMOL/KG,,UMOL/KG,,UMOL/KG,,PMOL/KG,,PMOL/KG,,TU,,UMOL/KG,,PERCNT,,/MILLE,,NMOL/KG,,UMOL/KG,,UMOL/KG,,,,,NMOL/KG,PERCNT,NMOL/KG,ITS-90,TU
   318MWESTW_4,  P21E,   100,  1,     36, SI9336,2,19940427,0613,-16.7500,-113.3333, 2955,      6.1,  26.0566,  36.4310,2,  36.4303,2,    213.1,2,    213.9,2,     0.20,2,     0.07,2,     0.00,2,     0.27,2,    1.776,2,    1.010,2, -999.000,1,-999.0000,1,  -999.00,9,   -999.0,1,-999.000,9,   2041.8,2,   2396.0,2,     8.09,2,  105.5,-999.0000,-999.000,-999.000, 26.0552,-999.000
   318MWESTW_4,  P21E,   100,  1,     35, SI9335,2,19940427,0613,-16.7500,-113.3333, 2955,     24.1,  26.0674,  36.4302,2,  36.4281,2,    207.4,2,    211.7,2,     0.24,2,     0.07,2,     0.00,2,     0.26,2,    1.787,2,    0.998,2, -999.000,1,-999.0000,1,  -999.00,9,   -999.0,1,-999.000,9,   2040.8,2,   2394.0,2,     8.08,2,  285.8,-999.0000,-999.000,-999.000, 26.0620,-999.000
   318MWESTW_4,  P21E,   100,  1,     34, SI9334,2,19940427,0613,-16.7500,-113.3333, 2955,     48.3,  26.0651,  36.4278,2,  36.4275,2,    210.6,2,    214.3,2,     0.27,2,     0.08,2,     0.00,2,     0.27,2,    1.791,2,    1.000,2, -999.000,1,-999.0000,1,  -999.00,9,   -999.0,1,-999.000,9,   2040.8,2,   2395.0,2,     8.09,2,  527.9,-999.0000,-999.000,-999.000, 26.0543,-999.000
   318MWESTW_4,  P21E,   100,  1,     33, SI9333,2,19940427,0613,-16.7500,-113.3333, 2955,     99.6,  24.1183,  36.4612,2,  36.4596,2,    217.7,2,    221.3,2,     0.31,2,     0.07,2,     0.01,2,     0.27,2,    1.964,2,    1.093,2, -999.000,1,-999.0000,1,  -999.00,9,   -999.0,1,-999.000,9,   2060.8,2,   2395.0,2,     8.06,2, 1041.0,-999.0000,-999.000,-999.000, 24.0971,-999.000
   318MWESTW_4,  P21E,   100,  1,     32, SI9332,2,19940427,0613,-16.7500,-113.3333, 2955,    151.3,  22.3702,  36.2956,2,  36.2774,2,    210.1,2,    210.5,2,     0.19,2,     0.07,2,     0.13,2,     0.26,2,    2.058,2,    1.121,2, -999.000,1,-999.0000,1,  -999.00,9,   -999.0,1,-999.000,9,   2066.8,2,   2384.0,2,     8.03,2, 1557.3,-999.0000,-999.000,-999.000, 22.3397,-999.000
   318MWESTW_4,  P21E,   100,  1,     31, SI9331,2,19940427,0613,-16.7500,-113.3333, 2955,    201.1,  20.6184,  35.9617,2,  35.9078,2,    202.0,2,    196.1,2,     0.38,2,     1.91,2,     0.07,2,     0.46,2,    2.143,2,    1.175,2, -999.000,1,-999.0000,1,  -999.00,9,   -999.0,1,-999.000,9,   2081.8,2,   2360.0,2,     7.98,2, 2055.3,-999.0000,-999.000,-999.000, 20.5802,-999.000
   318MWESTW_4,  P21E,   100,  1,     30, SI9330,2,19940427,0613,-16.7500,-113.3333, 2955,    249.8,  18.4295,  35.4820,2,  35.4928,2,    197.4,2,    189.9,2,     0.89,2,     3.76,2,     0.02,2,     0.57,2,    2.200,2,    1.161,2, -999.000,1,-999.0000,1,  -999.00,9,   -999.0,1,-999.000,9,   2082.8,2,   2334.0,2,     7.94,2, 2542.0,-999.0000,-999.000,-999.000, 18.3857,-999.000
   318MWESTW_4,  P21E,   100,  1,     29, SI9329,2,19940427,0613,-16.7500,-113.3333, 2955,    302.2,  14.0755,  34.9411,3,  34.8717,2,    174.0,2,    160.0,2,     3.96,2,    11.17,2,     0.01,2,     1.07,2,    1.703,6,    0.875,6, -999.000,1,-999.0000,1,  -999.00,9,   -999.0,1,-999.000,9,   2112.8,2,   2293.0,2,     7.81,2, 3065.2,-999.0000,-999.000,-999.000, 14.0315,-999.000
   318MWESTW_4,  P21E,   100,  1,     28, SI9328,2,19940427,0613,-16.7500,-113.3333, 2955,    397.8,   9.2808,  34.5152,2,  34.5121,2,     74.4,2,     72.3,2,    18.35,2,    29.90,2,     0.01,2,     2.38,2,    0.320,2,    0.167,2, -999.000,1,-999.0000,1,  -999.00,9,   -999.0,1,-999.000,9,   2224.9,2,   2278.0,2,     7.50,2, 4020.0,-999.0000,-999.000,-999.000,  9.2365,-999.000
   318MWESTW_4,  P21E,   100,  1,     27, SI9327,2,19940427,0613,-16.7500,-113.3333, 2955,    499.4,   7.3478,  34.4748,2,  34.4738,2,     83.6,2,     84.2,2,    24.60,2,    35.47,2,     0.01,2,     2.52,2,    0.065,2,    0.044,2, -999.000,1,-999.0000,1,  -999.00,9,   -999.0,1,-999.000,9,   2233.9,2,   2287.0,2,     7.48,2, 5035.2,-999.0000,-999.000,-999.000,  7.2991,-999.000
   318MWESTW_4,  P21E,   100,  1,     26, SI9326,2,19940427,0613,-16.7500,-113.3333, 2955,    596.5,   6.4131,  34.4636,2,  34.4679,2,     92.6,2,     89.7,2,    31.97,2,    37.61,2,     0.01,2,     2.60,2,    0.016,2,    0.011,2, -999.000,1,-999.0000,1,  -999.00,9,   -999.0,1,-999.000,9,   2239.9,2,   2291.0,2,     7.48,2, 6004.9,-999.0000,-999.000,-999.000,  6.3587,-999.000
   318MWESTW_4,  P21E,   100,  1,     25, SI9325,2,19940427,0613,-16.7500,-113.3333, 2955,    700.8,   5.8327,  34.4867,2,  34.4754,2,     80.5,2,     81.7,2,    41.72,2,    39.65,2,     0.01,2,     2.75,2,    0.001,2,    0.004,2, -999.000,1,-999.0000,1,  -999.00,9,   -999.0,1,-999.000,9,   2255.9,2,   2303.0,2,     7.46,2, 7046.7,-999.0000,-999.000,-999.000,  5.7714,-999.000
   318MWESTW_4,  P21E,   100,  1,     24, SI9324,2,19940427,0613,-16.7500,-113.3333, 2955,    802.2,   5.3575,  34.4941,2,  34.4932,2,     72.6,2,     72.1,2,    52.60,2,    41.46,2,     0.01,2,     2.88,2,   -0.001,2,    0.005,2, -999.000,1,-999.0000,1,  -999.00,9,   -999.0,1,-999.000,9,   2276.0,2,   2315.0,2,     7.45,2, 8058.9,-999.0000,-999.000,-999.000,  5.2896,-999.000
   318MWESTW_4,  P21E,   100,  1,     23, SI9323,2,19940427,0613,-16.7500,-113.3333, 2955,    899.3,   4.9114,  34.5061,2,  34.5046,2,     72.3,2,     71.4,2,    61.88,2,    42.03,2,     0.01,2,     2.94,2,   -0.002,2,    0.002,2, -999.000,1,-999.0000,1,  -999.00,9,   -999.0,1,-999.000,9,   2286.0,2,   2327.0,2,     7.45,2, 9029.5,-999.0000,-999.000,-999.000,  4.8377,-999.000
   318MWESTW_4,  P21E,   100,  1,     22, SI9322,2,19940427,0613,-16.7500,-113.3333, 2955,   1001.7,   4.4736,  34.5203,2,  34.5176,2,     77.5,2,     76.9,2,    70.99,2,    41.77,2,     0.01,2,     2.93,2,   -0.002,2,    0.003,2, -999.000,1,-999.0000,1,  -999.00,9,   -999.0,1,-999.000,9,   2294.0,2,   2332.0,2,     7.45,2,10052.5,-999.0000,-999.000,-999.000,  4.3941,-999.000
   318MWESTW_4,  P21E,   100,  1,     21, SI9321,2,19940427,0613,-16.7500,-113.3333, 2955,   1098.9,   4.1336,  34.5361,2,  34.5341,2,     79.8,2,     79.5,2,    79.63,2,    41.79,2,     0.01,2,     2.94,2, -999.000,9, -999.000,9, -999.000,1,-999.0000,1,  -999.00,9,   -999.0,1,-999.000,9,   2301.0,2,   2344.0,2,     7.45,2,11023.2,-999.0000,-999.000,-999.000,  4.0485,-999.000
   318MWESTW_4,  P21E,   100,  1,     20, SI9320,2,19940427,0613,-16.7500,-113.3333, 2955,   1202.6,   3.7315,  34.5494,2,  34.5504,2,     84.2,2,     84.2,2,    88.90,2,    41.37,2,     0.00,2,     2.93,2, -999.000,9, -999.000,9, -999.000,1,-999.0000,1,  -999.00,9,   -999.0,1,-999.000,9,   2310.0,2,   2352.0,2,     7.45,2,12059.1,-999.0000,-999.000,-999.000,  3.6411,-999.000
   318MWESTW_4,  P21E,   100,  1,     19, SI9319,2,19940427,0613,-16.7500,-113.3333, 2955,   1299.5,   3.4750,  34.5616,2,  34.5614,2,     87.0,2,     87.1,2,    95.14,2,    41.22,2,     0.00,2,     2.93,2, -999.000,9, -999.000,9, -999.000,1,-999.0000,1,  -999.00,9,   -999.0,1,-999.000,9,   2317.0,2,   2367.0,3,     7.45,2,13027.3,-999.0000,-999.000,-999.000,  3.3789,-999.000
   318MWESTW_4,  P21E,   100,  1,     18, SI9318,2,19940427,0613,-16.7500,-113.3333, 2955,   1401.0,   3.2641,  34.5739,2,  34.5759,2,     91.1,2,     90.7,2,   100.43,2,    40.96,2,     0.00,2,     2.90,2, -999.000,9, -999.000,9, -999.000,1,-999.0000,1,  -999.00,9,   -999.0,1,-999.000,9,   2320.0,2,   2364.0,2,     7.46,2,14040.9,-999.0000,-999.000,-999.000,  3.1616,-999.000
   318MWESTW_4,  P21E,   100,  1,     17, SI9317,2,19940427,0613,-16.7500,-113.3333, 2955,   1500.4,   3.0250,  34.5867,2,  34.5869,2,     96.3,2,     96.8,2,   106.04,2,    40.47,2,     0.00,2,     2.86,2, -999.000,9, -999.000,9, -999.000,1,-999.0000,1,  -999.00,9,   -999.0,1,-999.000,9,   2323.0,2,   2371.0,2,     7.48,2,15033.8,-999.0000,-999.000,-999.000,  2.9168,-999.000
   318MWESTW_4,  P21E,   100,  1,     16, SI9316,2,19940427,0613,-16.7500,-113.3333, 2955,   1596.7,   2.7817,  34.5982,2,  34.5997,2,    103.7,2,    107.1,2,   110.36,2,    39.58,2,     0.00,2,     2.81,2, -999.000,9, -999.000,9, -999.000,1,-999.0000,1,  -999.00,9,   -999.0,1,-999.000,9,   2321.0,2,   2375.0,2,     7.49,2,15995.9,-999.0000,-999.000,-999.000,  2.6683,-999.000
   318MWESTW_4,  P21E,   100,  1,     15, SI9315,2,19940427,0613,-16.7500,-113.3333, 2955,   1701.6,   2.5759,  34.6098,2,  34.6109,2,    116.4,2,    117.1,2,   112.30,2,    38.63,2,     0.01,2,     2.72,2, -999.000,9, -999.000,9, -999.000,1,-999.0000,1,  -999.00,9,   -999.0,1,-999.000,9,   2318.0,2,   2382.0,2,     7.50,2,17043.6,-999.0000,-999.000,-999.000,  2.4564,-999.000
   318MWESTW_4,  P21E,   100,  1,     14, SI9314,2,19940427,0613,-16.7500,-113.3333, 2955,   1800.2,   2.3972,  34.6192,2,  34.6217,2,    125.1,2,    126.9,2,   114.08,2,    37.87,2,     0.00,2,     2.67,2, -999.000,9, -999.000,9, -999.000,1,-999.0000,1,  -999.00,9,   -999.0,1,-999.000,9,   2315.0,2,   2381.0,2,     7.53,2,18028.6,-999.0000,-999.000,-999.000,  2.2718,-999.000
   318MWESTW_4,  P21E,   100,  1,     13, SI9313,2,19940427,0613,-16.7500,-113.3333, 2955,   1897.0,   2.2173,  34.6296,2,  34.6305,2,    137.8,2,    139.9,2,   113.94,2,    36.87,2,     0.00,2,     2.57,2, -999.000,9, -999.000,9, -999.000,1,-999.0000,1,  -999.00,9,   -999.0,1,-999.000,9,   2307.0,2,   2384.0,2,     7.54,2,18995.5,-999.0000,-999.000,-999.000,  2.0863,-999.000
   318MWESTW_4,  P21E,   100,  1,     12, SI9312,2,19940427,0613,-16.7500,-113.3333, 2955,   1996.3,   2.0941,  34.6393,2,  34.6402,2,    146.6,2,    147.3,2,   114.76,2,    36.20,2,     0.00,2,     2.52,2, -999.000,9, -999.000,9, -999.000,1,-999.0000,1,  -999.00,9,   -999.0,1,-999.000,9,   2304.0,2,   2383.0,2,     7.56,2,19987.9,-999.0000,-999.000,-999.000,  1.9565,-999.000
   318MWESTW_4,  P21E,   100,  1,     11, SI9311,2,19940427,0613,-16.7500,-113.3333, 2955,   2099.2,   1.9920,  34.6490,2,  34.6496,2,    152.5,2,    152.6,2,   116.54,2,    35.77,2,     0.00,2,     2.49,2, -999.000,9, -999.000,9, -999.000,1,-999.0000,1,  -999.00,9,   -999.0,1,-999.000,9,   2303.0,2,   2388.0,2,     7.57,2,21015.8,-999.0000,-999.000,-999.000,  1.8472,-999.000
   318MWESTW_4,  P21E,   100,  1,     10, SI9310,2,19940427,0613,-16.7500,-113.3333, 2955,   2199.0,   1.9267,  34.6560,2,  34.6582,2,    154.3,2,    154.4,2,   118.16,2,    35.56,2,     0.00,2,     2.47,2, -999.000,9, -999.000,9, -999.000,1,-999.0000,1,  -999.00,9,   -999.0,1,-999.000,9,   2305.0,2,   2391.0,2,     7.58,2,22012.8,-999.0000,-999.000,-999.000,  1.7744,-999.000
   318MWESTW_4,  P21E,   100,  1,      9, SI9309,2,19940427,0613,-16.7500,-113.3333, 2955,   2297.5,   1.8996,  34.6625,2,  34.6631,2,    154.4,2,    154.0,2,   120.58,2,    35.53,2,    -0.01,2,     2.46,2, -999.000,9, -999.000,9, -999.000,1,-999.0000,1,  -999.00,9,   -999.0,1,-999.000,9,   2307.0,2,   2391.0,2,     7.56,2,22997.4,-999.0000,-999.000,-999.000,  1.7392,-999.000
   318MWESTW_4,  P21E,   100,  1,      8, SI9308,2,19940427,0613,-16.7500,-113.3333, 2955,   2400.1,   1.8817,  34.6674,2,  34.6686,2,    154.6,2,    153.5,2,   122.34,2,    35.42,2,     0.00,2,     2.45,2, -999.000,9, -999.000,9, -999.000,1,-999.0000,1,  -999.00,9,   -999.0,1,-999.000,9,   2308.0,2,   2397.0,2,     7.58,2,24022.5,-999.0000,-999.000,-999.000,  1.7125,-999.000
   318MWESTW_4,  P21E,   100,  1,      7, SI9307,2,19940427,0613,-16.7500,-113.3333, 2955,   2499.7,   1.8711,  34.6705,2,  34.6710,2,    153.4,2,    153.1,2,   124.45,2,    35.50,2,     0.00,2,     2.44,2, -999.000,9, -999.000,9, -999.000,1,-999.0000,1,  -999.00,9,   -999.0,1,-999.000,9,   2311.0,2,   2405.0,3,     7.57,2,25017.2,-999.0000,-999.000,-999.000,  1.6932,-999.000
   318MWESTW_4,  P21E,   100,  1,      6, SI9306,2,19940427,0613,-16.7500,-113.3333, 2955,   2597.7,   1.8676,  34.6736,2,  34.6734,2,    153.1,2,    152.8,2,   125.27,2,    35.51,2,     0.00,2,     2.46,2, -999.000,9, -999.000,9, -999.000,1,-999.0000,1,  -999.00,9,   -999.0,1,-999.000,9,   2312.0,2,   2398.0,2,     7.58,2,25996.3,-999.0000,-999.000,-999.000,  1.6808,-999.000
   318MWESTW_4,  P21E,   100,  1,      5, SI9305,2,19940427,0613,-16.7500,-113.3333, 2955,   2702.2,   1.8567,  34.6749,2,  34.6757,2,    153.8,2,    153.3,2,   125.93,2,    35.52,2,     0.01,2,     2.47,2, -999.000,9, -999.000,9, -999.000,1,-999.0000,1,  -999.00,9,   -999.0,1,-999.000,9,   2313.0,2,   2404.0,2,     7.58,2,27041.4,-999.0000,-999.000,-999.000,  1.6604,-999.000
   318MWESTW_4,  P21E,   100,  1,      4, SI9304,2,19940427,0613,-16.7500,-113.3333, 2955,   2797.0,   1.8573,  34.6757,2,  34.6757,2,    153.9,2,    153.4,2,   125.79,2,    35.55,2,    -0.01,2,     2.47,2, -999.000,9, -999.000,9, -999.000,1,-999.0000,1,  -999.00,9,   -999.0,1,-999.000,9,   2313.0,2,   2401.0,2,     7.58,2,27988.1,-999.0000,-999.000,-999.000,  1.6521,-999.000
   318MWESTW_4,  P21E,   100,  1,      3, SI9303,2,19940427,0613,-16.7500,-113.3333, 2955,   2889.1,   1.8644,  34.6754,2,  34.6751,2,    152.9,2,    153.6,2,   126.29,2,    35.44,2,     0.00,2,     2.48,2, -999.000,9, -999.000,9, -999.000,1,-999.0000,1,  -999.00,9,   -999.0,1,-999.000,9,   2313.0,2,   2403.0,2,     7.58,2,28909.0,-999.0000,-999.000,-999.000,  1.6503,-999.000
   318MWESTW_4,  P21E,   100,  1,      2, SI9302,2,19940427,0613,-16.7500,-113.3333, 2955,   2890.0,   1.8646,  34.6755,2,  34.6747,2,    152.9,2,    153.8,2,   126.00,2,    35.52,2,     0.00,2,     2.47,2, -999.000,9, -999.000,9, -999.000,1,-999.0000,1,  -999.00,9,   -999.0,1,-999.000,9,   2313.0,2,   2401.0,2,     7.58,2,28917.1,-999.0000,-999.000,-999.000,  1.6504,-999.000
   318MWESTW_4,  P21E,   100,  1,      1, SI9301,2,19940427,0613,-16.7500,-113.3333, 2955,   2933.7,   1.8686,  34.6755,2,  34.6747,2,    153.3,2,    153.9,2,   125.70,2,    35.52,2,     0.00,2,     2.47,2, -999.000,9, -999.000,9, -999.000,1,-999.0000,1,  -999.00,9,   -999.0,1,-999.000,9,   2314.0,2,   2405.0,2,     7.58,2,29354.5,-999.0000,-999.000,-999.000,  1.6501,-999.000