BOTTLE,20010911WHPSIOdm
EXPOCODE,SECT_ID,STNNBR,CASTNO,SAMPNO,BTLNBR,BTLNBR_FLAG_W,DATE,TIME,LATITUDE,LONGITUDE,DEPTH,CTDPRS,CTDTMP,CTDSAL,CTDSAL_FLAG_W,SALNTY,SALNTY_FLAG_W,CTDOXY,CTDOXY_FLAG_W,OXYGEN,OXYGEN_FLAG_W,SILCAT,SILCAT_FLAG_W,NITRAT,NITRAT_FLAG_W,NITRIT,NITRIT_FLAG_W,PHSPHT,PHSPHT_FLAG_W,CFC-11,CFC-11_FLAG_W,CFC-12,CFC-12_FLAG_W,TRITUM,TRITUM_FLAG_W,HELIUM,HELIUM_FLAG_W,DELHE3,DELHE3_FLAG_W,DELC14,DELC14_FLAG_W,NEON,NEON_FLAG_W,TCARBN,TCARBN_FLAG_W,ALKALI,ALKALI_FLAG_W,PH,PH_FLAG_W,CTDRAW,HELIER,DELHER,NEONER,THETA,TRITER
,,,,,,,,,,,,DBAR,ITS-90,PSS-78,,PSS-78,,UMOL/KG,,UMOL/KG,,UMOL/KG,,UMOL/KG,,UMOL/KG,,UMOL/KG,,PMOL/KG,,PMOL/KG,,TU,,UMOL/KG,,PERCNT,,/MILLE,,NMOL/KG,,UMOL/KG,,UMOL/KG,,,,,NMOL/KG,PERCNT,NMOL/KG,ITS-90,TU
   318MWESTW_4,  P21E,    47,  1,     36, SI9336,3,19940411,0451,-16.7500, -85.6667, 4522,      8.4,  22.7155,  35.7237,2,  35.7235,2,    219.2,2,    219.4,2,     0.25,2,    -0.09,2,     0.00,2,     0.49,2,    2.040,2,    1.090,2, -999.000,1,-999.0000,1,  -999.00,9,   -999.0,1,-999.000,9,   2057.8,2,   2369.0,2,     8.03,2,  136.2,-999.0000,-999.000,-999.000, 22.7138,-999.000
   318MWESTW_4,  P21E,    47,  1,     35, SI9335,2,19940411,0451,-16.7500, -85.6667, 4522,     24.9,  22.7217,  35.7234,2,  35.7270,2,    218.8,2,    218.3,2,     0.28,2,    -0.15,2,     0.00,2,     0.51,2,    2.042,2,    1.080,2, -999.000,1,-999.0000,1,  -999.00,9,   -999.0,1,-999.000,9,   2057.8,2,   2367.0,2,     8.04,2,  301.2,-999.0000,-999.000,-999.000, 22.7167,-999.000
   318MWESTW_4,  P21E,    47,  1,     34, SI9334,2,19940411,0451,-16.7500, -85.6667, 4522,     50.7,  21.6540,  35.6992,2,  35.7134,2,    229.1,2,    228.9,2,     0.31,2,     0.03,2,     0.00,2,     0.46,2,    2.170,2,    1.170,2, -999.000,1,-999.0000,1,  -999.00,9,   -999.0,1,-999.000,9,   2061.8,2,   2365.0,2,     8.02,2,  558.3,-999.0000,-999.000,-999.000, 21.6441,-999.000
   318MWESTW_4,  P21E,    47,  1,     33, SI9333,2,19940411,0451,-16.7500, -85.6667, 4522,    100.4,  18.8715,  35.5143,2,  35.5146,2,    213.2,2,    213.6,2,     0.90,2,     1.59,2,     0.93,2,     0.61,2,    2.441,2,    1.258,2, -999.000,1,-999.0000,1,  -999.00,9,   -999.0,1,-999.000,9,   2085.8,2,   2348.0,2,     7.96,2, 1053.5,-999.0000,-999.000,-999.000, 18.8537,-999.000
   318MWESTW_4,  P21E,    47,  1,     32, SI9332,2,19940411,0451,-16.7500, -85.6667, 4522,    146.7,  16.2773,  35.0367,2,  35.0445,3,    188.1,2,    192.0,2,     1.67,2,     6.76,2,     0.03,2,     0.84,2,    2.465,6,    1.255,6, -999.000,1,-999.0000,1,  -999.00,9,   -999.0,1,-999.000,9,   2098.8,2,   2317.0,2,     7.88,2, 1514.5,-999.0000,-999.000,-999.000, 16.2538,-999.000
   318MWESTW_4,  P21E,    47,  1,     31, SI9331,2,19940411,0451,-16.7500, -85.6667, 4522,    201.4,  12.2863,  34.5790,2,  34.5800,2,     92.1,2,    103.0,2,    10.10,2,    17.88,2,     0.00,2,     1.81,2,    1.542,2,    0.727,2, -999.000,1,-999.0000,1,  -999.00,9,   -999.0,1,-999.000,9,   2175.9,2,   2283.0,2,     7.64,2, 2057.9,-999.0000,-999.000,-999.000, 12.2597,-999.000
   318MWESTW_4,  P21E,    47,  1,     30, SI9330,2,19940411,0451,-16.7500, -85.6667, 4522,    253.3,  10.8698,  34.6405,2,  34.6335,2,     29.9,2,     30.8,2,    21.13,2,    25.86,2,     0.00,2,     2.51,2,    0.440,2,    0.205,2, -999.000,1,-999.0000,1,  -999.00,9,   -999.0,1,-999.000,9,   2247.9,2,   2292.0,2,     7.46,2, 2575.1,-999.0000,-999.000,-999.000, 10.8389,-999.000
   318MWESTW_4,  P21E,    47,  1,     29, SI9329,2,19940411,0451,-16.7500, -85.6667, 4522,    297.7,  10.1784,  34.6675,2,  34.6592,2,     13.7,2,     11.2,2,    25.64,2,    30.96,2,     0.01,2,     2.68,2,    0.145,2,    0.069,2, -999.000,1,-999.0000,1,  -999.00,9,   -999.0,1,-999.000,9,   2270.0,2,   2294.0,2,     7.40,2, 3016.0,-999.0000,-999.000,-999.000, 10.1434,-999.000
   318MWESTW_4,  P21E,    47,  1,     28, SI9328,2,19940411,0451,-16.7500, -85.6667, 4522,    401.0,   8.7387,  34.6221,2,  34.6185,2,     12.3,2,     10.8,2,    30.89,2,    37.69,2,     0.00,2,     2.82,2,    0.028,2,    0.007,2, -999.000,1,-999.0000,1,  -999.00,9,   -999.0,1,-999.000,9,   2281.0,2,   2298.0,2,     7.38,2, 4044.2,-999.0000,-999.000,-999.000,  8.6956,-999.000
   318MWESTW_4,  P21E,    47,  1,     26, SI9326,2,19940411,0451,-16.7500, -85.6667, 4522,    502.3,   7.2459,  34.5331,2,  34.5280,2,     37.3,2,     39.1,2,    33.53,2,    39.64,2,     0.01,2,     2.83,2,    0.019,2,    0.007,2, -999.000,1,-999.0000,1,  -999.00,9,   -999.0,1,-999.000,9,   2272.0,2,   2298.0,2,     7.41,2, 5051.3,-999.0000,-999.000,-999.000,  7.1972,-999.000
   318MWESTW_4,  P21E,    47,  1,     25, SI9325,2,19940411,0451,-16.7500, -85.6667, 4522,    604.7,   6.4551,  34.5181,2,  34.5154,2,     34.8,2,     34.6,2,    43.08,2,    42.10,2,     0.00,2,     2.99,2,    0.002,2,   -0.003,2, -999.000,1,-999.0000,1,  -999.00,9,   -999.0,1,-999.000,9,   2287.0,2,   2309.0,2,     7.39,2, 6069.9,-999.0000,-999.000,-999.000,  6.3997,-999.000
   318MWESTW_4,  P21E,    47,  1,     24, SI9324,2,19940411,0451,-16.7500, -85.6667, 4522,    699.8,   5.8549,  34.5159,2,  34.5139,2,     31.5,2,     31.2,2,    52.44,2,    43.67,2,     0.00,2,     3.11,2,   -0.002,2,   -0.004,2, -999.000,1,-999.0000,1,  -999.00,9,   -999.0,1,-999.000,9,   2300.0,2,   2315.0,2,     7.38,2, 7015.6,-999.0000,-999.000,-999.000,  5.7935,-999.000
   318MWESTW_4,  P21E,    47,  1,     23, SI9323,2,19940411,0451,-16.7500, -85.6667, 4522,    799.1,   5.2684,  34.5114,2,  34.5103,2,     38.5,2,     39.0,2,    60.68,2,    43.63,2,     0.00,2,     3.13,2,   -0.002,2,   -0.004,2, -999.000,1,-999.0000,1,  -999.00,9,   -999.0,1,-999.000,9,   2306.0,2,   2327.0,2,     7.38,2, 8003.1,-999.0000,-999.000,-999.000,  5.2013,-999.000
   318MWESTW_4,  P21E,    47,  1,     22, SI9322,2,19940411,0451,-16.7500, -85.6667, 4522,    900.9,   4.8012,  34.5155,2,  34.5148,2,     48.6,2,     48.7,2,    68.72,2,    43.07,2,     0.01,2,     3.10,2,   -0.002,2,   -0.004,2, -999.000,1,-999.0000,1,  -999.00,9,   -999.0,1,-999.000,9,   2310.0,2,   2332.0,2,     7.41,2, 9015.6,-999.0000,-999.000,-999.000,  4.7281,-999.000
   318MWESTW_4,  P21E,    47,  1,     21, SI9321,2,19940411,0451,-16.7500, -85.6667, 4522,    998.6,   4.4204,  34.5257,2,  34.5243,2,     58.3,2,     57.7,2,    76.40,2,    42.42,2,     0.01,2,     3.06,2,    0.000,2,   -0.004,2, -999.000,1,-999.0000,1,  -999.00,9,   -999.0,1,-999.000,9,   2312.0,2,   2345.0,2,     7.42,2, 9986.9,-999.0000,-999.000,-999.000,  4.3416,-999.000
   318MWESTW_4,  P21E,    47,  1,     20, SI9320,2,19940411,0451,-16.7500, -85.6667, 4522,   1101.4,   4.0593,  34.5379,2,  34.5370,2,     68.9,2,     67.2,2,    83.89,2,    41.88,2,     0.01,2,     3.01,2,   -0.003,2,   -0.004,2, -999.000,1,-999.0000,1,  -999.00,9,   -999.0,1,-999.000,9,   2317.0,2,   2350.0,2,     7.42,2,11008.8,-999.0000,-999.000,-999.000,  3.9746,-999.000
   318MWESTW_4,  P21E,    47,  1,     19, SI9319,2,19940411,0451,-16.7500, -85.6667, 4522,   1194.0,   3.7282,  34.5482,2,  34.5506,3,     73.9,2,     73.7,2,    91.75,2,    41.45,2,     0.01,2,     2.98,2, -999.000,9, -999.000,9, -999.000,1,-999.0000,1,  -999.00,9,   -999.0,1,-999.000,9,   2319.0,2,   2362.0,2,     7.44,2,11929.3,-999.0000,-999.000,-999.000,  3.6385,-999.000
   318MWESTW_4,  P21E,    47,  1,     18, SI9318,2,19940411,0451,-16.7500, -85.6667, 4522,   1342.7,   3.2909,  34.5734,2,  34.5728,2,     82.3,2,     83.2,2,   102.04,2,    40.69,2,     0.00,2,     2.93,2, -999.000,9, -999.000,9, -999.000,1,-999.0000,1,  -999.00,9,   -999.0,1,-999.000,9,   2327.0,2,   2372.0,2,     7.46,2,13407.5,-999.0000,-999.000,-999.000,  3.1930,-999.000
   318MWESTW_4,  P21E,    47,  1,     27, SI9327,2,19940411,0451,-16.7500, -85.6667, 4522,   1496.1,   2.9452,  34.5935,2,  34.5930,2,     91.7,2,     92.3,2,   110.65,2,    40.04,2,     0.00,2,     2.88,2,   -0.003,2,    0.000,2, -999.000,1,-999.0000,1,  -999.00,9,   -999.0,1,-999.000,9,   2330.0,2,   2384.0,2,     7.47,2,14933.1,-999.0000,-999.000,-999.000,  2.8383,-999.000
   318MWESTW_4,  P21E,    47,  1,     17, SI9317,2,19940411,0451,-16.7500, -85.6667, 4522,   1647.5,   2.6588,  34.6129,2,  34.6117,2,     99.1,2,     99.3,2,   118.51,2,    39.32,2,     0.00,2,     2.82,2, -999.000,9, -999.000,9, -999.000,1,-999.0000,1,  -999.00,9,   -999.0,1,-999.000,9,   2334.0,2,   2393.0,2,     7.49,2,16438.5,-999.0000,-999.000,-999.000,  2.5427,-999.000
   318MWESTW_4,  P21E,    47,  1,     16, SI9316,2,19940411,0451,-16.7500, -85.6667, 4522,   1801.3,   2.4362,  34.6275,2,  34.6270,2,    104.7,2,    105.7,2,   124.69,2,    38.59,2,     0.02,2,     2.78,2, -999.000,9, -999.000,9, -999.000,1,-999.0000,1,  -999.00,9,   -999.0,1,-999.000,9,   2336.0,2,   2397.0,2,     7.50,2,17967.7,-999.0000,-999.000,-999.000,  2.3101,-999.000
   318MWESTW_4,  P21E,    47,  1,     15, SI9315,2,19940411,0451,-16.7500, -85.6667, 4522,   2003.1,   2.2110,  34.6432,2,  34.6435,2,    116.2,2,    117.4,2,   127.89,2,    37.50,2,     0.01,2,     2.70,2, -999.000,9, -999.000,9, -999.000,1,-999.0000,1,  -999.00,9,   -999.0,1,-999.000,9,   2329.0,2,   2405.0,2,     7.54,2,19973.6,-999.0000,-999.000,-999.000,  2.0711,-999.000
   318MWESTW_4,  P21E,    47,  1,     14, SI9314,2,19940411,0451,-16.7500, -85.6667, 4522,   2202.7,   2.0394,  34.6562,2,  34.6561,2,    125.2,2,    125.3,2,   131.28,2,    37.02,2,     0.01,2,     2.63,2, -999.000,9, -999.000,9, -999.000,1,-999.0000,1,  -999.00,9,   -999.0,1,-999.000,9,   2328.0,2,   2408.0,2,     7.55,2,21958.2,-999.0000,-999.000,-999.000,  1.8849,-999.000
   318MWESTW_4,  P21E,    47,  1,     13, SI9313,2,19940411,0451,-16.7500, -85.6667, 4522,   2401.2,   1.9167,  34.6662,2,  34.6659,2,    135.3,2,    135.2,2,   130.50,2,    36.16,2,     0.00,2,     2.57,2, -999.000,9, -999.000,9, -999.000,1,-999.0000,1,  -999.00,9,   -999.0,1,-999.000,9,   2319.0,2,   2410.0,2,     7.54,2,23931.6,-999.0000,-999.000,-999.000,  1.7468,-999.000
   318MWESTW_4,  P21E,    47,  1,     12, SI9312,2,19940411,0451,-16.7500, -85.6667, 4522,   2601.4,   1.8568,  34.6715,2,  34.6716,2,    137.1,2,    137.3,2,   132.75,2,    36.15,2,     0.00,2,     2.54,2, -999.000,9, -999.000,9, -999.000,1,-999.0000,1,  -999.00,9,   -999.0,1,-999.000,9,   2324.0,2,   2414.0,2,     7.58,2,25921.4,-999.0000,-999.000,-999.000,  1.6699,-999.000
   318MWESTW_4,  P21E,    47,  1,     11, SI9311,2,19940411,0451,-16.7500, -85.6667, 4522,   2798.3,   1.8123,  34.6765,2,  34.6757,2,    137.8,2,    138.3,2,   135.68,2,    36.13,2,     0.00,2,     2.53,2, -999.000,9, -999.000,9, -999.000,1,-999.0000,1,  -999.00,9,   -999.0,1,-999.000,9,   2329.0,2,   2420.0,2,     7.56,2,27879.4,-999.0000,-999.000,-999.000,  1.6079,-999.000
   318MWESTW_4,  P21E,    47,  1,     10, SI9310,2,19940411,0451,-16.7500, -85.6667, 4522,   2998.0,   1.7964,  34.6790,2,  34.6785,2,    137.3,2,    137.4,2,   138.47,2,    36.40,2,     0.00,2,     2.55,2, -999.000,9, -999.000,9, -999.000,1,-999.0000,1,  -999.00,9,   -999.0,1,-999.000,9,   2334.0,2,   2423.0,2,     7.57,2,29864.4,-999.0000,-999.000,-999.000,  1.5733,-999.000
   318MWESTW_4,  P21E,    47,  1,      9, SI9309,2,19940411,0451,-16.7500, -85.6667, 4522,   3199.9,   1.7921,  34.6815,2,  34.6810,2,    138.1,2,    143.2,2,   138.30,2,    36.23,2,     0.01,2,     2.55,2, -999.000,9, -999.000,9, -999.000,1,-999.0000,1,  -999.00,9,   -999.0,1,-999.000,9,   2333.0,2,   2426.0,2,     7.57,2,31871.7,-999.0000,-999.000,-999.000,  1.5492,-999.000
   318MWESTW_4,  P21E,    47,  1,      8, SI9308,2,19940411,0451,-16.7500, -85.6667, 4522,   3500.8,   1.7833,  34.6843,2,  34.6840,2,    143.5,2,    147.0,2,   134.79,2,    35.57,2,     0.02,2,     2.51,2, -999.000,9, -999.000,9, -999.000,1,-999.0000,1,  -999.00,9,   -999.0,1,-999.000,9,   2326.0,2,   2420.0,2,     7.58,2,34862.7,-999.0000,-999.000,-999.000,  1.5099,-999.000
   318MWESTW_4,  P21E,    47,  1,      7, SI9307,2,19940411,0451,-16.7500, -85.6667, 4522,   3600.3,   1.7758,  34.6853,2,  34.6851,2,    145.6,2,    147.0,2,   133.32,2,    35.25,2,     0.02,2,     2.50,2, -999.000,9, -999.000,9, -999.000,1,-999.0000,1,  -999.00,9,   -999.0,1,-999.000,9,   2323.0,2,   2416.0,2,     7.57,2,35852.3,-999.0000,-999.000,-999.000,  1.4922,-999.000
   318MWESTW_4,  P21E,    47,  1,      6, SI9306,2,19940411,0451,-16.7500, -85.6667, 4522,   3789.9,   1.7638,  34.6879,2,  34.6885,2,    150.2,2,    150.5,2,   131.30,2,    34.86,2,     0.02,2,     2.47,2, -999.000,9, -999.000,9, -999.000,1,-999.0000,1,  -999.00,9,   -999.0,1,-999.000,9,   2320.0,2,   2416.0,2,     7.58,2,37737.3,-999.0000,-999.000,-999.000,  1.4604,-999.000
   318MWESTW_4,  P21E,    47,  1,      5, SI9305,2,19940411,0451,-16.7500, -85.6667, 4522,   3994.8,   1.7628,  34.6891,2,  34.6891,2,    152.7,2,    153.2,2,   129.46,2,    34.94,2,     0.01,2,     2.45,2, -999.000,9, -999.000,9, -999.000,1,-999.0000,1,  -999.00,9,   -999.0,1,-999.000,9,   2316.0,2,   2410.0,2,     7.58,2,39774.1,-999.0000,-999.000,-999.000,  1.4371,-999.000
   318MWESTW_4,  P21E,    47,  1,      4, SI9304,2,19940411,0451,-16.7500, -85.6667, 4522,   4198.2,   1.7709,  34.6909,2,  34.6899,2,    153.6,2,    153.7,2,   129.11,2,    35.07,2,     0.01,2,     2.45,2, -999.000,9, -999.000,9, -999.000,1,-999.0000,1,  -999.00,9,   -999.0,1,-999.000,9,   2316.0,2,   2413.0,2,     7.58,2,41796.3,-999.0000,-999.000,-999.000,  1.4222,-999.000
   318MWESTW_4,  P21E,    47,  1,      3, SI9303,2,19940411,0451,-16.7500, -85.6667, 4522,   4398.8,   1.7891,  34.6907,2,  34.6922,2,    153.7,2,    153.9,2,   129.14,2,    35.02,2,     0.01,2,     2.45,2, -999.000,9, -999.000,9, -999.000,1,-999.0000,1,  -999.00,9,   -999.0,1,-999.000,9,   2316.0,2,   2411.0,2,     7.58,2,43790.9,-999.0000,-999.000,-999.000,  1.4169,-999.000
   318MWESTW_4,  P21E,    47,  1,      2, SI9302,2,19940411,0451,-16.7500, -85.6667, 4522,   4551.4,   1.8052,  34.6908,2,  34.6905,2,    153.8,2,    154.1,2,   128.79,2,    34.97,2,     0.02,2,     2.45,2, -999.000,9, -999.000,9, -999.000,1,-999.0000,1,  -999.00,9,   -999.0,1,-999.000,9,   2318.0,2,   2412.0,2,     7.58,2,45307.7,-999.0000,-999.000,-999.000,  1.4147,-999.000
   318MWESTW_4,  P21E,    47,  1,      1, SI9301,2,19940411,0451,-16.7500, -85.6667, 4522,   4592.7,   1.8102,  34.6913,2,  34.6903,2,    152.6,2,    154.4,2,   129.42,2,    34.70,2,     0.00,2,     2.45,2, -999.000,9, -999.000,9, -999.000,1,-999.0000,1,  -999.00,9,   -999.0,1,-999.000,9,   2318.0,2,   2410.0,2,     7.58,2,45718.0,-999.0000,-999.000,-999.000,  1.4147,-999.000