BOTTLE,20010911WHPSIOdm
EXPOCODE,SECT_ID,STNNBR,CASTNO,SAMPNO,BTLNBR,BTLNBR_FLAG_W,DATE,TIME,LATITUDE,LONGITUDE,DEPTH,CTDPRS,CTDTMP,CTDSAL,CTDSAL_FLAG_W,SALNTY,SALNTY_FLAG_W,CTDOXY,CTDOXY_FLAG_W,OXYGEN,OXYGEN_FLAG_W,SILCAT,SILCAT_FLAG_W,NITRAT,NITRAT_FLAG_W,NITRIT,NITRIT_FLAG_W,PHSPHT,PHSPHT_FLAG_W,CFC-11,CFC-11_FLAG_W,CFC-12,CFC-12_FLAG_W,TRITUM,TRITUM_FLAG_W,HELIUM,HELIUM_FLAG_W,DELHE3,DELHE3_FLAG_W,DELC14,DELC14_FLAG_W,NEON,NEON_FLAG_W,TCARBN,TCARBN_FLAG_W,ALKALI,ALKALI_FLAG_W,PH,PH_FLAG_W,CTDRAW,HELIER,DELHER,NEONER,THETA,TRITER
,,,,,,,,,,,,DBAR,ITS-90,PSS-78,,PSS-78,,UMOL/KG,,UMOL/KG,,UMOL/KG,,UMOL/KG,,UMOL/KG,,UMOL/KG,,PMOL/KG,,PMOL/KG,,TU,,UMOL/KG,,PERCNT,,/MILLE,,NMOL/KG,,UMOL/KG,,UMOL/KG,,,,,NMOL/KG,PERCNT,NMOL/KG,ITS-90,TU
   318MWESTW_4,  P21E,    80,  1,     35, SI9335,2,19940421,0710,-16.7472,-105.3333, 2964,      6.1,  25.3951,  36.1584,2,  36.1551,2,    210.7,2,    213.8,2,     0.15,2,     0.28,2,     0.03,2,     0.33,2,    1.893,2,    1.034,2, -999.000,1,-999.0000,1,  -999.00,9,   -999.0,1,-999.000,9,   -999.0,9,   -999.0,9,  -999.00,9,  104.7,-999.0000,-999.000,-999.000, 25.3938,-999.000
   318MWESTW_4,  P21E,    80,  1,     34, SI9334,2,19940421,0710,-16.7472,-105.3333, 2964,     23.7,  25.1499,  36.1621,2,  36.1642,2,    214.0,2,    215.1,2,     0.33,2,     0.21,2,     0.04,2,     0.32,2,    1.873,2,    1.052,2, -999.000,1,-999.0000,1,  -999.00,9,   -999.0,1,-999.000,9,   -999.0,9,   -999.0,9,  -999.00,9,  280.2,-999.0000,-999.000,-999.000, 25.1447,-999.000
   318MWESTW_4,  P21E,    80,  1,     33, SI9333,2,19940421,0710,-16.7472,-105.3333, 2964,     49.5,  24.5635,  36.3414,2,  36.3289,2,    214.4,2,    217.4,2,     0.34,2,    -0.05,2,     0.02,2,     0.33,2,    1.968,2,    1.076,2, -999.000,1,-999.0000,1,  -999.00,9,   -999.0,1,-999.000,9,   -999.0,9,   -999.0,9,  -999.00,9,  538.6,-999.0000,-999.000,-999.000, 24.5529,-999.000
   318MWESTW_4,  P21E,    80,  1,     32, SI9332,2,19940421,0710,-16.7472,-105.3333, 2964,     99.7,  22.5381,  36.2644,2,  36.2562,2,    222.2,2,    220.5,2,     0.35,2,    -0.04,2,     0.01,2,     0.34,2,    2.094,2,    1.141,2, -999.000,1,-999.0000,1,  -999.00,9,   -999.0,1,-999.000,9,   -999.0,9,   -999.0,9,  -999.00,9, 1040.6,-999.0000,-999.000,-999.000, 22.5179,-999.000
   318MWESTW_4,  P21E,    80,  1,     31, SI9331,2,19940421,0710,-16.7472,-105.3333, 2964,    150.3,  21.1239,  36.0112,2,  36.0056,2,    205.0,2,    205.2,2,     0.54,2,     0.76,2,     0.71,2,     0.50,2,    2.223,2,    1.172,2, -999.000,1,-999.0000,1,  -999.00,9,   -999.0,1,-999.000,9,   -999.0,9,   -999.0,9,  -999.00,9, 1545.9,-999.0000,-999.000,-999.000, 21.0949,-999.000
   318MWESTW_4,  P21E,    80,  1,     30, SI9330,2,19940421,0710,-16.7472,-105.3333, 2964,    206.4,  18.6523,  35.5243,2,  35.5048,2,    191.5,2,    187.3,2,     1.23,2,     4.99,2,     0.03,2,     0.72,2,    2.279,2,    1.202,2, -999.000,1,-999.0000,1,  -999.00,9,   -999.0,1,-999.000,9,   -999.0,9,   -999.0,9,  -999.00,9, 2106.9,-999.0000,-999.000,-999.000, 18.6158,-999.000
   318MWESTW_4,  P21E,    80,  1,     29, SI9329,2,19940421,0710,-16.7472,-105.3333, 2964,    251.0,  14.4632,  34.9614,3,  34.8776,2,    157.8,2,    133.4,2,     5.71,2,    13.17,2,     0.02,2,     1.37,2,    1.880,2,    0.934,2, -999.000,1,-999.0000,1,  -999.00,9,   -999.0,1,-999.000,9,   -999.0,9,   -999.0,9,  -999.00,9, 2552.7,-999.0000,-999.000,-999.000, 14.4261,-999.000
   318MWESTW_4,  P21E,    80,  1,     28, SI9328,2,19940421,0710,-16.7472,-105.3333, 2964,    297.8,  11.8945,  34.6426,2,  34.6219,2,    117.5,2,    115.3,2,     9.50,2,    17.96,2,     0.01,2,     1.70,2,    1.212,2,    0.584,2, -999.000,1,-999.0000,1,  -999.00,9,   -999.0,1,-999.000,9,   -999.0,9,   -999.0,9,  -999.00,9, 3020.3,-999.0000,-999.000,-999.000, 11.8559,-999.000
   318MWESTW_4,  P21E,    80,  1,     27, SI9327,2,19940421,0710,-16.7472,-105.3333, 2964,    409.6,   8.6889,  34.5453,2,  34.5466,2,     44.7,2,     46.3,2,    24.28,2,    34.24,2,     0.01,2,     2.62,2,    0.099,2,    0.044,2, -999.000,1,-999.0000,1,  -999.00,9,   -999.0,1,-999.000,9,   -999.0,9,   -999.0,9,  -999.00,9, 4137.4,-999.0000,-999.000,-999.000,  8.6451,-999.000
   318MWESTW_4,  P21E,    80,  1,     26, SI9326,2,19940421,0710,-16.7472,-105.3333, 2964,    495.9,   7.3821,  34.5167,2,  34.5135,3,     71.5,2,     71.7,2,    28.58,2,    36.15,2,     0.01,2,     2.58,2,    0.028,2,    0.017,2, -999.000,1,-999.0000,1,  -999.00,9,   -999.0,1,-999.000,9,   -999.0,9,   -999.0,9,  -999.00,9, 4998.5,-999.0000,-999.000,-999.000,  7.3336,-999.000
   318MWESTW_4,  P21E,    80,  1,     25, SI9325,2,19940421,0710,-16.7472,-105.3333, 2964,    547.1,   7.0225,  34.5093,2,  34.5139,2,     74.5,2,     72.8,2,    32.37,2,    37.10,2,     0.01,2,     2.61,2,    0.011,2,    0.008,2, -999.000,1,-999.0000,1,  -999.00,9,   -999.0,1,-999.000,9,   -999.0,9,   -999.0,9,  -999.00,9, 5510.2,-999.0000,-999.000,-999.000,  6.9703,-999.000
   318MWESTW_4,  P21E,    80,  1,     24, SI9324,2,19940421,0710,-16.7472,-105.3333, 2964,    623.7,   6.5010,  34.5101,2,  34.5174,3,     52.0,2,     51.6,2,    40.96,2,    40.64,2,     0.01,2,     2.86,2,   -0.002,2,    0.000,2, -999.000,1,-999.0000,1,  -999.00,9,   -999.0,1,-999.000,9,   -999.0,9,   -999.0,9,  -999.00,9, 6275.0,-999.0000,-999.000,-999.000,  6.4436,-999.000
   318MWESTW_4,  P21E,    80,  1,     23, SI9323,2,19940421,0710,-16.7472,-105.3333, 2964,    699.9,   5.8593,  34.4917,2,  34.4936,2,     70.1,2,     68.9,2,    44.92,2,    40.23,2,     0.01,2,     2.83,2,   -0.002,2,    0.000,2, -999.000,1,-999.0000,1,  -999.00,9,   -999.0,1,-999.000,9,   -999.0,9,   -999.0,9,  -999.00,9, 7037.0,-999.0000,-999.000,-999.000,  5.7979,-999.000
   318MWESTW_4,  P21E,    80,  1,     22, SI9322,2,19940421,0710,-16.7472,-105.3333, 2964,    802.7,   5.2836,  34.4945,2,  34.4954,2,     70.9,2,     69.7,2,    54.02,2,    41.18,2,     0.00,2,     2.90,2,   -0.003,2,    0.000,2, -999.000,1,-999.0000,1,  -999.00,9,   -999.0,1,-999.000,9,   -999.0,9,   -999.0,9,  -999.00,9, 8063.2,-999.0000,-999.000,-999.000,  5.2161,-999.000
   318MWESTW_4,  P21E,    80,  1,     21, SI9321,2,19940421,0710,-16.7472,-105.3333, 2964,    904.2,   4.7057,  34.5096,2,  34.5084,2,     70.8,2,     70.4,2,    66.04,2,    41.73,2,     0.00,2,     2.96,2,   -0.003,2,   -0.001,2, -999.000,1,-999.0000,1,  -999.00,9,   -999.0,1,-999.000,9,   -999.0,9,   -999.0,9,  -999.00,9, 9077.6,-999.0000,-999.000,-999.000,  4.6330,-999.000
   318MWESTW_4,  P21E,    80,  1,     20, SI9320,2,19940421,0710,-16.7472,-105.3333, 2964,   1001.6,   4.3582,  34.5249,2,  34.5235,2,     69.9,2,     69.8,2,    75.14,2,    41.99,2,     0.00,2,     2.99,2, -999.000,9, -999.000,9, -999.000,1,-999.0000,1,  -999.00,9,   -999.0,1,-999.000,9,   -999.0,9,   -999.0,9,  -999.00,9,10050.2,-999.0000,-999.000,-999.000,  4.2796,-999.000
   318MWESTW_4,  P21E,    80,  1,     19, SI9319,2,19940421,0710,-16.7472,-105.3333, 2964,   1100.7,   4.0262,  34.5373,2,  34.5358,2,     78.2,2,     77.1,2,    82.36,2,    41.44,2,     0.01,2,     2.95,2, -999.000,9, -999.000,9, -999.000,1,-999.0000,1,  -999.00,9,   -999.0,1,-999.000,9,   -999.0,9,   -999.0,9,  -999.00,9,11040.1,-999.0000,-999.000,-999.000,  3.9418,-999.000
   318MWESTW_4,  P21E,    80,  1,     18, SI9318,2,19940421,0710,-16.7472,-105.3333, 2964,   1196.8,   3.7238,  34.5532,2,  34.5492,2,     81.7,2,     81.2,2,    89.39,2,    41.09,2,     0.01,2,     2.95,2, -999.000,9, -999.000,9, -999.000,1,-999.0000,1,  -999.00,9,   -999.0,1,-999.000,9,   -999.0,9,   -999.0,9,  -999.00,9,12000.0,-999.0000,-999.000,-999.000,  3.6339,-999.000
   318MWESTW_4,  P21E,    80,  1,     17, SI9317,2,19940421,0710,-16.7472,-105.3333, 2964,   1299.5,   3.4018,  34.5669,2,  34.5655,2,     87.4,2,     88.3,2,    97.12,2,    40.48,2,     0.01,2,     2.91,2, -999.000,9, -999.000,9, -999.000,1,-999.0000,1,  -999.00,9,   -999.0,1,-999.000,9,   -999.0,9,   -999.0,9,  -999.00,9,13025.8,-999.0000,-999.000,-999.000,  3.3064,-999.000
   318MWESTW_4,  P21E,    80,  1,     16, SI9316,2,19940421,0710,-16.7472,-105.3333, 2964,   1402.7,   3.1777,  34.5807,2,  34.5787,2,     91.9,2,     92.2,2,   102.62,2,    40.14,2,     0.01,2,     2.88,2, -999.000,9, -999.000,9, -999.000,1,-999.0000,1,  -999.00,9,   -999.0,1,-999.000,9,   -999.0,9,   -999.0,9,  -999.00,9,14057.1,-999.0000,-999.000,-999.000,  3.0760,-999.000
   318MWESTW_4,  P21E,    80,  1,     15, SI9315,3,19940421,0710,-16.7472,-105.3333, 2964,   1500.6,   2.9650,  34.5924,2,  34.5912,2,     96.9,2,     97.6,2,   107.59,2,    39.73,2,     0.00,2,     2.86,2, -999.000,9, -999.000,9, -999.000,1,-999.0000,1,  -999.00,9,   -999.0,1,-999.000,9,   -999.0,9,   -999.0,9,  -999.00,9,15035.1,-999.0000,-999.000,-999.000,  2.8575,-999.000
   318MWESTW_4,  P21E,    80,  1,     14, SI9314,2,19940421,0710,-16.7472,-105.3333, 2964,   1597.7,   2.7314,  34.6045,2,  34.6054,2,    101.2,2,    102.9,2,   113.60,2,    39.32,2,     0.00,2,     2.82,2, -999.000,9, -999.000,9, -999.000,1,-999.0000,1,  -999.00,9,   -999.0,1,-999.000,9,   -999.0,9,   -999.0,9,  -999.00,9,16004.3,-999.0000,-999.000,-999.000,  2.6185,-999.000
   318MWESTW_4,  P21E,    80,  1,     13, SI9313,2,19940421,0710,-16.7472,-105.3333, 2964,   1701.4,   2.5593,  34.6148,2,  34.6166,2,    106.8,2,    109.2,2,   117.20,2,    38.90,2,     0.01,2,     2.78,2, -999.000,9, -999.000,9, -999.000,1,-999.0000,1,  -999.00,9,   -999.0,1,-999.000,9,   -999.0,9,   -999.0,9,  -999.00,9,17040.6,-999.0000,-999.000,-999.000,  2.4400,-999.000
   318MWESTW_4,  P21E,    80,  1,     12, SI9312,2,19940421,0710,-16.7472,-105.3333, 2964,   1804.4,   2.4130,  34.6233,2,  34.6260,2,    112.8,2,    116.2,2,   119.09,2,    38.15,2,     0.01,2,     2.73,2, -999.000,9, -999.000,9, -999.000,1,-999.0000,1,  -999.00,9,   -999.0,1,-999.000,9,   -999.0,9,   -999.0,9,  -999.00,9,18069.7,-999.0000,-999.000,-999.000,  2.2870,-999.000
   318MWESTW_4,  P21E,    80,  1,     11, SI9311,2,19940421,0710,-16.7472,-105.3333, 2964,   1907.7,   2.2950,  34.6309,2,  34.6343,2,    119.8,2,    122.5,2,   120.12,2,    37.80,2,     0.02,2,     2.68,2, -999.000,9, -999.000,9, -999.000,1,-999.0000,1,  -999.00,9,   -999.0,1,-999.000,9,   -999.0,9,   -999.0,9,  -999.00,9,19101.9,-999.0000,-999.000,-999.000,  2.1620,-999.000
   318MWESTW_4,  P21E,    80,  1,     10, SI9310,2,19940421,0710,-16.7472,-105.3333, 2964,   2005.0,   2.1801,  34.6389,2,  34.6419,2,    128.3,2,    129.9,2,   121.15,2,    37.19,2,     0.01,2,     2.63,2, -999.000,9, -999.000,9, -999.000,1,-999.0000,1,  -999.00,9,   -999.0,1,-999.000,9,   -999.0,9,   -999.0,9,  -999.00,9,20073.8,-999.0000,-999.000,-999.000,  2.0405,-999.000
   318MWESTW_4,  P21E,    80,  1,      9, SI9309,2,19940421,0710,-16.7472,-105.3333, 2964,   2102.4,   2.0454,  34.6499,2,  34.6517,2,    138.5,2,    139.3,2,   121.67,2,    36.58,2,     0.01,2,     2.56,2, -999.000,9, -999.000,9, -999.000,1,-999.0000,1,  -999.00,9,   -999.0,1,-999.000,9,   -999.0,9,   -999.0,9,  -999.00,9,21047.3,-999.0000,-999.000,-999.000,  1.8995,-999.000
   318MWESTW_4,  P21E,    80,  1,      8, SI9308,2,19940421,0710,-16.7472,-105.3333, 2964,   2204.9,   1.9825,  34.6552,2,  34.6570,2,    143.1,2,    142.1,2,   122.36,2,    36.38,2,     0.00,2,     2.54,2, -999.000,9, -999.000,9, -999.000,1,-999.0000,1,  -999.00,9,   -999.0,1,-999.000,9,   -999.0,9,   -999.0,9,  -999.00,9,22070.8,-999.0000,-999.000,-999.000,  1.8288,-999.000
   318MWESTW_4,  P21E,    80,  1,      7, SI9307,2,19940421,0710,-16.7472,-105.3333, 2964,   2302.8,   1.9027,  34.6639,2,  34.6661,2,    147.8,2,    145.6,2,   124.25,2,    36.04,2,     0.00,2,     2.53,2, -999.000,9, -999.000,9, -999.000,1,-999.0000,1,  -999.00,9,   -999.0,1,-999.000,9,   -999.0,9,   -999.0,9,  -999.00,9,23048.9,-999.0000,-999.000,-999.000,  1.7418,-999.000
   318MWESTW_4,  P21E,    80,  1,      6, SI9306,2,19940421,0710,-16.7472,-105.3333, 2964,   2400.4,   1.8573,  34.6681,2,  34.6700,2,    148.8,2,    147.2,2,   125.80,2,    35.97,2,     0.00,2,     2.50,2, -999.000,9, -999.000,9, -999.000,1,-999.0000,1,  -999.00,9,   -999.0,1,-999.000,9,   -999.0,9,   -999.0,9,  -999.00,9,24024.3,-999.0000,-999.000,-999.000,  1.6885,-999.000
   318MWESTW_4,  P21E,    80,  1,      5, SI9305,2,19940421,0710,-16.7472,-105.3333, 2964,   2491.6,   1.8317,  34.6709,2,  34.6720,2,    148.4,2,    147.3,2,   127.68,2,    36.03,2,     0.01,2,     2.51,2, -999.000,9, -999.000,9, -999.000,1,-999.0000,1,  -999.00,9,   -999.0,1,-999.000,9,   -999.0,9,   -999.0,9,  -999.00,9,24935.2,-999.0000,-999.000,-999.000,  1.6552,-999.000
   318MWESTW_4,  P21E,    80,  1,      4, SI9304,2,19940421,0710,-16.7472,-105.3333, 2964,   2597.0,   1.8184,  34.6736,2,  34.6759,2,    147.6,2,    146.1,2,   130.59,2,    36.09,2,     0.01,2,     2.51,2, -999.000,9, -999.000,9, -999.000,1,-999.0000,1,  -999.00,9,   -999.0,1,-999.000,9,   -999.0,9,   -999.0,9,  -999.00,9,25989.2,-999.0000,-999.000,-999.000,  1.6326,-999.000
   318MWESTW_4,  P21E,    80,  1,      3, SI9303,2,19940421,0710,-16.7472,-105.3333, 2964,   2701.8,   1.8113,  34.6756,2,  34.6777,2,    146.8,2,    145.5,2,   132.15,2,    36.23,2,     0.00,2,     2.52,2, -999.000,9, -999.000,9, -999.000,1,-999.0000,1,  -999.00,9,   -999.0,1,-999.000,9,   -999.0,9,   -999.0,9,  -999.00,9,27036.2,-999.0000,-999.000,-999.000,  1.6160,-999.000
   318MWESTW_4,  P21E,    80,  1,      2, SI9302,2,19940421,0710,-16.7472,-105.3333, 2964,   2856.2,   1.8110,  34.6769,2,  34.6777,2,    144.1,2,    144.6,2,   133.52,2,    36.38,2,    -0.01,2,     2.52,2, -999.000,9, -999.000,9, -999.000,1,-999.0000,1,  -999.00,9,   -999.0,1,-999.000,9,   -999.0,9,   -999.0,9,  -999.00,9,28578.6,-999.0000,-999.000,-999.000,  1.6012,-999.000
   318MWESTW_4,  P21E,    80,  1,      1, SI9301,2,19940421,0710,-16.7472,-105.3333, 2964,   2974.1,   1.8085,  34.6779,2,  34.6785,2,    143.2,2,    144.5,2,   133.73,2,    36.12,2,     0.00,2,     2.53,2, -999.000,9, -999.000,9, -999.000,1,-999.0000,1,  -999.00,9,   -999.0,1,-999.000,9,   -999.0,9,   -999.0,9,  -999.00,9,29757.0,-999.0000,-999.000,-999.000,  1.5874,-999.000