BOTTLE,20010911WHPSIOdm
EXPOCODE,SECT_ID,STNNBR,CASTNO,SAMPNO,BTLNBR,BTLNBR_FLAG_W,DATE,TIME,LATITUDE,LONGITUDE,DEPTH,CTDPRS,CTDTMP,CTDSAL,CTDSAL_FLAG_W,SALNTY,SALNTY_FLAG_W,CTDOXY,CTDOXY_FLAG_W,OXYGEN,OXYGEN_FLAG_W,SILCAT,SILCAT_FLAG_W,NITRAT,NITRAT_FLAG_W,NITRIT,NITRIT_FLAG_W,PHSPHT,PHSPHT_FLAG_W,CFC-11,CFC-11_FLAG_W,CFC-12,CFC-12_FLAG_W,TRITUM,TRITUM_FLAG_W,HELIUM,HELIUM_FLAG_W,DELHE3,DELHE3_FLAG_W,DELC14,DELC14_FLAG_W,NEON,NEON_FLAG_W,TCARBN,TCARBN_FLAG_W,ALKALI,ALKALI_FLAG_W,PH,PH_FLAG_W,CTDRAW,HELIER,DELHER,NEONER,THETA,TRITER
,,,,,,,,,,,,DBAR,ITS-90,PSS-78,,PSS-78,,UMOL/KG,,UMOL/KG,,UMOL/KG,,UMOL/KG,,UMOL/KG,,UMOL/KG,,PMOL/KG,,PMOL/KG,,TU,,UMOL/KG,,PERCNT,,/MILLE,,NMOL/KG,,UMOL/KG,,UMOL/KG,,,,,NMOL/KG,PERCNT,NMOL/KG,ITS-90,TU
   318MWESTW_5,  P21W,   249,  1,     24, SI9434,2,19940612,1434,-19.3833, 165.7000, 2470,      6.0,  25.4665,  34.8686,2,  34.8676,2,    216.5,2,    213.3,2,     0.49,2,     0.05,2,     0.00,2,     0.09,2,    1.768,2,    0.994,2, -999.000,1,-999.0000,1,  -999.00,9,   -999.0,1,-999.000,9,   -999.0,9,   -999.0,9,  -999.00,9,  118.4,-999.0000,-999.000,-999.000, 25.4652,-999.000
   318MWESTW_5,  P21W,   249,  1,     23, SI9423,2,19940612,1434,-19.3833, 165.7000, 2470,     20.1,  25.4758,  34.8684,2,  34.8696,2,    213.6,2,    211.7,2,     0.64,2,     0.05,2,     0.00,2,     0.10,2, -999.000,9, -999.000,9, -999.000,1,-999.0000,1,  -999.00,9,   -999.0,1,-999.000,9,   -999.0,9,   -999.0,9,  -999.00,9,  259.5,-999.0000,-999.000,-999.000, 25.4714,-999.000
   318MWESTW_5,  P21W,   249,  1,     22, SI9418,2,19940612,1434,-19.3833, 165.7000, 2470,     45.4,  25.0891,  35.0299,2,  35.0307,2,    218.3,2,    207.1,2,     0.51,2,     0.05,2,     0.00,2,     0.09,2,    1.811,2,    1.011,2, -999.000,1,-999.0000,1,  -999.00,9,   -999.0,1,-999.000,9,   -999.0,9,   -999.0,9,  -999.00,9,  511.9,-999.0000,-999.000,-999.000, 25.0792,-999.000
   318MWESTW_5,  P21W,   249,  1,     21, SI9421,2,19940612,1434,-19.3833, 165.7000, 2470,     95.0,  24.6161,  35.3780,2,  35.3766,2,    196.1,2,    204.8,2,     0.51,2,     0.07,2,     0.17,2,     0.11,2,    1.852,2,    1.036,2, -999.000,1,-999.0000,1,  -999.00,9,   -999.0,1,-999.000,9,   -999.0,9,   -999.0,9,  -999.00,9, 1005.6,-999.0000,-999.000,-999.000, 24.5957,-999.000
   318MWESTW_5,  P21W,   249,  1,     20, SI9420,2,19940612,1434,-19.3833, 165.7000, 2470,    144.8,  21.6297,  35.7569,2,  35.7535,2,    180.0,2,    184.8,2,     0.79,2,     2.94,2,     0.02,2,     0.34,2,    1.991,2,    1.075,2, -999.000,1,-999.0000,1,  -999.00,9,   -999.0,1,-999.000,9,   -999.0,9,   -999.0,9,  -999.00,9, 1501.3,-999.0000,-999.000,-999.000, 21.6013,-999.000
   318MWESTW_5,  P21W,   249,  1,     19, SI9419,2,19940612,1434,-19.3833, 165.7000, 2470,    195.5,  20.3643,  35.7300,2,  35.7258,2,    179.2,2,    175.2,2,     1.07,2,     4.69,2,     0.00,2,     0.46,2,    1.932,2,    1.040,2, -999.000,1,-999.0000,1,  -999.00,9,   -999.0,1,-999.000,9,   -999.0,9,   -999.0,9,  -999.00,9, 2006.7,-999.0000,-999.000,-999.000, 20.3275,-999.000
   318MWESTW_5,  P21W,   249,  1,     18, SI9439,2,19940612,1434,-19.3833, 165.7000, 2470,    247.5,  18.5817,  35.6046,2,  35.5991,2,    171.7,2,    174.2,2,     1.63,2,     6.05,2,     0.00,2,     0.55,2,    1.890,2,    0.999,2, -999.000,1,-999.0000,1,  -999.00,9,   -999.0,1,-999.000,9,   -999.0,9,   -999.0,9,  -999.00,9, 2523.8,-999.0000,-999.000,-999.000, 18.5380,-999.000
   318MWESTW_5,  P21W,   249,  1,     17, SI9417,2,19940612,1434,-19.3833, 165.7000, 2470,    297.7,  17.1271,  35.4678,2,  35.4630,2,    165.3,2,    179.5,2,     2.47,2,     7.96,2,     0.00,2,     0.69,2,    1.738,2,    0.914,2, -999.000,1,-999.0000,1,  -999.00,9,   -999.0,1,-999.000,9,   -999.0,9,   -999.0,9,  -999.00,9, 3024.1,-999.0000,-999.000,-999.000, 17.0774,-999.000
   318MWESTW_5,  P21W,   249,  1,     16, SI9416,2,19940612,1434,-19.3833, 165.7000, 2470,    393.2,  13.9366,  35.1387,2,  35.1347,2,    170.8,2,    176.4,2,     4.82,2,    12.69,2,     0.00,2,     1.00,2,    1.384,2,    0.717,2, -999.000,1,-999.0000,1,  -999.00,9,   -999.0,1,-999.000,9,   -999.0,9,   -999.0,9,  -999.00,9, 3973.8,-999.0000,-999.000,-999.000, 13.8795,-999.000
   318MWESTW_5,  P21W,   249,  1,     15, SI9415,2,19940612,1434,-19.3833, 165.7000, 2470,    497.5,  11.1179,  34.8311,2,  34.8288,2,    170.3,2,    175.0,2,     9.37,2,    18.24,2,     0.00,2,     1.36,2,    0.923,2,    0.464,2, -999.000,1,-999.0000,1,  -999.00,9,   -999.0,1,-999.000,9,   -999.0,9,   -999.0,9,  -999.00,9, 5011.4,-999.0000,-999.000,-999.000, 11.0554,-999.000
   318MWESTW_5,  P21W,   249,  1,     14, SI9436,2,19940612,1434,-19.3833, 165.7000, 2470,    594.3,   8.2592,  34.5554,2,  34.5521,2,    178.7,2,    179.7,2,    14.35,2,    23.66,2,     0.00,2,     1.70,2,    0.504,2,    0.258,2, -999.000,1,-999.0000,1,  -999.00,9,   -999.0,1,-999.000,9,   -999.0,9,   -999.0,9,  -999.00,9, 5974.8,-999.0000,-999.000,-999.000,  8.1968,-999.000
   318MWESTW_5,  P21W,   249,  1,     13, SI9413,2,19940612,1434,-19.3833, 165.7000, 2470,    696.8,   6.7073,  34.4627,2,  34.4608,2,    176.8,2,    182.3,2,    23.18,2,    27.25,2,     0.00,2,     1.92,2, -999.000,9, -999.000,9, -999.000,1,-999.0000,1,  -999.00,9,   -999.0,1,-999.000,9,   -999.0,9,   -999.0,9,  -999.00,9, 6993.6,-999.0000,-999.000,-999.000,  6.6418,-999.000
   318MWESTW_5,  P21W,   249,  1,     12, SI9438,2,19940612,1434,-19.3833, 165.7000, 2470,    798.6,   5.3405,  34.4340,2,  34.4328,2,    174.4,2,    179.7,2,    37.52,2,    30.58,2,     0.00,2,     2.13,2,    0.099,2,    0.056,2, -999.000,1,-999.0000,1,  -999.00,9,   -999.0,1,-999.000,9,   -999.0,9,   -999.0,9,  -999.00,9, 8006.2,-999.0000,-999.000,-999.000,  5.2731,-999.000
   318MWESTW_5,  P21W,   249,  1,     11, SI9411,2,19940612,1434,-19.3833, 165.7000, 2470,    900.8,   4.5481,  34.4425,2,  34.4412,2,    173.7,2,    175.8,2,    48.68,2,    31.86,2,     0.00,2,     2.22,2,    0.045,2,    0.025,2, -999.000,1,-999.0000,1,  -999.00,9,   -999.0,1,-999.000,9,   -999.0,9,   -999.0,9,  -999.00,9, 9022.1,-999.0000,-999.000,-999.000,  4.4769,-999.000
   318MWESTW_5,  P21W,   249,  1,     10, SI9412,2,19940612,1434,-19.3833, 165.7000, 2470,    997.9,   4.1105,  34.4713,2,  34.4691,2,    167.2,2,    170.5,2,    59.03,2,    32.77,2,     0.00,2,     2.28,2,    0.022,2,    0.014,2, -999.000,1,-999.0000,1,  -999.00,9,   -999.0,1,-999.000,9,   -999.0,9,   -999.0,9,  -999.00,9, 9987.0,-999.0000,-999.000,-999.000,  4.0342,-999.000
   318MWESTW_5,  P21W,   249,  1,      9, SI9410,2,19940612,1434,-19.3833, 165.7000, 2470,   1100.5,   3.6798,  34.5100,2,  34.5091,2,    163.2,2,    162.5,2,    71.57,2,    33.50,2,     0.00,2,     2.34,2,    0.016,2,    0.008,2, -999.000,1,-999.0000,1,  -999.00,9,   -999.0,1,-999.000,9,   -999.0,9,   -999.0,9,  -999.00,9,11008.0,-999.0000,-999.000,-999.000,  3.5984,-999.000
   318MWESTW_5,  P21W,   249,  1,      8, SI9422,2,19940612,1434,-19.3833, 165.7000, 2470,   1253.9,   3.2672,  34.5507,2,  34.5494,2,    156.0,2,    155.2,2,    84.80,2,    34.32,2,     0.00,2,     2.41,2,    0.005,2,    0.003,2, -999.000,1,-999.0000,1,  -999.00,9,   -999.0,1,-999.000,9,   -999.0,9,   -999.0,9,  -999.00,9,12532.6,-999.0000,-999.000,-999.000,  3.1769,-999.000
   318MWESTW_5,  P21W,   249,  1,      7, SI9407,2,19940612,1434,-19.3833, 165.7000, 2470,   1460.2,   2.9088,  34.5835,2,  34.5824,2,    152.2,2,    151.6,2,    95.14,2,    34.69,2,     0.00,2,     2.44,2,    0.000,2,    0.001,2, -999.000,1,-999.0000,1,  -999.00,9,   -999.0,1,-999.000,9,   -999.0,9,   -999.0,9,  -999.00,9,14583.5,-999.0000,-999.000,-999.000,  2.8053,-999.000
   318MWESTW_5,  P21W,   249,  1,      6, SI9427,2,19940612,1434,-19.3833, 165.7000, 2470,   1651.3,   2.6654,  34.6084,2,  34.6071,2,    150.2,2,    149.6,2,   102.03,2,    35.01,2,     0.00,2,     2.45,2,   -0.001,2,    0.000,2, -999.000,1,-999.0000,1,  -999.00,9,   -999.0,1,-999.000,9,   -999.0,9,   -999.0,9,  -999.00,9,16482.9,-999.0000,-999.000,-999.000,  2.5489,-999.000
   318MWESTW_5,  P21W,   249,  1,      5, SI9405,2,19940612,1434,-19.3833, 165.7000, 2470,   1855.9,   2.4300,  34.6293,2,  34.6290,2,    149.9,2,    149.5,2,   108.04,2,    35.08,2,     0.00,2,     2.45,2, -999.000,9, -999.000,9, -999.000,1,-999.0000,1,  -999.00,9,   -999.0,1,-999.000,9,   -999.0,9,   -999.0,9,  -999.00,9,18517.5,-999.0000,-999.000,-999.000,  2.2994,-999.000
   318MWESTW_5,  P21W,   249,  1,      4, SI9404,2,19940612,1434,-19.3833, 165.7000, 2470,   2055.1,   2.3090,  34.6416,2,  34.6405,2,    150.5,2,    150.1,2,   111.00,2,    35.21,2,     0.00,2,     2.46,2,    0.000,2,   -0.001,2, -999.000,1,-999.0000,1,  -999.00,9,   -999.0,1,-999.000,9,   -999.0,9,   -999.0,9,  -999.00,9,20497.6,-999.0000,-999.000,-999.000,  2.1631,-999.000
   318MWESTW_5,  P21W,   249,  1,      3, SI9403,2,19940612,1434,-19.3833, 165.7000, 2470,   2257.1,   2.1601,  34.6553,2,  34.6553,2,    151.1,2,    151.0,2,   114.30,2,    35.21,2,     0.00,2,     2.46,2,    0.001,2,    0.004,2, -999.000,1,-999.0000,1,  -999.00,9,   -999.0,1,-999.000,9,   -999.0,9,   -999.0,9,  -999.00,9,22505.5,-999.0000,-999.000,-999.000,  1.9988,-999.000
   318MWESTW_5,  P21W,   249,  1,      2, SI9437,2,19940612,1434,-19.3833, 165.7000, 2470,   2433.3,   2.0508,  34.6648,2,  34.6635,2,    151.3,2,    153.7,2,   116.79,2,    35.13,2,     0.00,2,     2.46,2,    0.000,2,   -0.001,2, -999.000,1,-999.0000,1,  -999.00,9,   -999.0,1,-999.000,9,   -999.0,9,   -999.0,9,  -999.00,9,24256.8,-999.0000,-999.000,-999.000,  1.8756,-999.000
   318MWESTW_5,  P21W,   249,  1,      1, SI9401,2,19940612,1434,-19.3833, 165.7000, 2470,   2473.4,   2.0153,  34.6676,2,  34.6673,2,    151.2,2,    154.3,2,   117.69,2,    34.99,2,     0.00,2,     2.44,2,   -0.001,6,   -0.001,6, -999.000,1,-999.0000,1,  -999.00,9,   -999.0,1,-999.000,9,   -999.0,9,   -999.0,9,  -999.00,9,24654.7,-999.0000,-999.000,-999.000,  1.8371,-999.000
   318MWESTW_5,  P21W,   250,  1,     22, SI9418,2,19940612,1822,-19.4833, 165.4805, 1720,      4.6,  24.8390,  35.0173,2,  35.0159,2,    225.9,2,    207.9,2,     0.56,2,     0.00,2,     0.00,2,     0.09,2, -999.000,9, -999.000,9,    0.869,2,   1.7033,2,    -1.27,2,   -999.0,1,   6.756,2,   -999.0,9,   -999.0,9,  -999.00,9,  106.2,  0.0085,   0.080,   0.034, 24.8380,   0.008
   318MWESTW_5,  P21W,   250,  1,     21, SI9421,2,19940612,1822,-19.4833, 165.4805, 1720,     19.6,  24.8438,  35.0200,2,  35.0211,2,    207.0,2,    209.2,2,     0.57,2,     0.03,2,     0.01,2,     0.09,2, -999.000,9, -999.000,9, -999.000,1,-999.0000,1,  -999.00,9,   -999.0,1,-999.000,9,   -999.0,9,   -999.0,9,  -999.00,9,  255.5,-999.0000,-999.000,-999.000, 24.8396,-999.000
   318MWESTW_5,  P21W,   250,  1,     20, SI9420,2,19940612,1822,-19.4833, 165.4805, 1720,     44.4,  24.7055,  35.0835,2,  35.0882,2,    201.2,2,    210.6,2,     0.44,2,     0.00,2,     0.00,2,     0.08,2, -999.000,9, -999.000,9,    0.833,2,   1.7144,2,    -1.17,2,   -999.0,1,   6.822,2,   -999.0,9,   -999.0,9,  -999.00,9,  502.8,  0.0086,   0.080,   0.034, 24.6960,   0.008
   318MWESTW_5,  P21W,   250,  1,     19, SI9419,2,19940612,1822,-19.4833, 165.4805, 1720,     95.9,  22.7285,  35.7074,2,  35.7144,2,    191.6,2,    182.7,2,     0.72,2,     2.11,2,     0.06,2,     0.31,2, -999.000,9, -999.000,9,    0.761,2,   1.7399,2,    -0.55,2,   -999.0,1,   6.998,2,   -999.0,9,   -999.0,9,  -999.00,9, 1015.4,  0.0087,   0.080,   0.035, 22.7090,   0.008
   318MWESTW_5,  P21W,   250,  1,     18, SI9439,2,19940612,1822,-19.4833, 165.4805, 1720,    145.9,  21.4851,  35.7840,2,  35.7819,2,    171.7,2,    174.4,2,     0.87,2,     3.72,2,     0.02,2,     0.40,2, -999.000,9, -999.000,9,    0.733,2,   1.7443,2,    -0.59,2,   -999.0,1,   7.030,2,   -999.0,9,   -999.0,9,  -999.00,9, 1513.3,  0.0087,   0.080,   0.035, 21.4566,   0.008
   318MWESTW_5,  P21W,   250,  1,     17, SI9417,2,19940612,1822,-19.4833, 165.4805, 1720,    197.2,  19.9688,  35.7125,2,  35.7075,2,    169.6,2,    174.7,2,     1.15,2,     5.00,2,     0.01,2,     0.49,2, -999.000,9, -999.000,9,    0.688,2,   1.7519,2,    -0.52,2,   -999.0,1,   7.109,2,   -999.0,9,   -999.0,9,  -999.00,9, 2023.6,  0.0088,   0.080,   0.036, 19.9322,   0.008
   318MWESTW_5,  P21W,   250,  1,     16, SI9416,2,19940612,1822,-19.4833, 165.4805, 1720,    246.3,  18.3036,  35.5758,2,  35.5725,2,    178.6,2,    176.7,2,     1.72,2,     6.27,2,     0.01,2,     0.57,2, -999.000,9, -999.000,9,    0.637,2,   1.7508,2,     0.01,2,   -999.0,1,   7.166,2,   -999.0,9,   -999.0,9,  -999.00,9, 2512.7,  0.0088,   0.080,   0.036, 18.2606,   0.007
   318MWESTW_5,  P21W,   250,  1,     15, SI9415,2,19940612,1822,-19.4833, 165.4805, 1720,    296.4,  17.3457,  35.5028,2,  35.4912,2,    175.1,2,    179.4,2,     2.00,2,     6.96,2,     0.01,2,     0.61,2, -999.000,9, -999.000,9,    0.618,2,   1.7516,2,    -0.11,2,   -999.0,1,   7.197,2,   -999.0,9,   -999.0,9,  -999.00,9, 3011.3,  0.0088,   0.080,   0.036, 17.2958,   0.007
   318MWESTW_5,  P21W,   250,  1,     14, SI9436,2,19940612,1822,-19.4833, 165.4805, 1720,    349.0,  15.3140,  35.2894,2,  35.2861,2,    181.4,2,    172.8,2,     3.54,2,    10.11,2,     0.01,2,     0.83,2, -999.000,9, -999.000,9, -999.000,1,-999.0000,1,  -999.00,9,   -999.0,1,-999.000,9,   -999.0,9,   -999.0,9,  -999.00,9, 3534.4,-999.0000,-999.000,-999.000, 15.2600,-999.000
   318MWESTW_5,  P21W,   250,  1,     13, SI9413,2,19940612,1822,-19.4833, 165.4805, 1720,    398.0,  13.3233,  35.0687,2,  35.0590,2,    177.7,2,    170.4,2,     5.35,2,    13.79,2,     0.00,2,     1.07,2, -999.000,9, -999.000,9,    0.375,2,   1.7734,2,     1.32,2,   -999.0,1,   7.435,2,   -999.0,9,   -999.0,9,  -999.00,9, 4021.9,  0.0089,   0.080,   0.037, 13.2672,   0.006
   318MWESTW_5,  P21W,   250,  1,     12, SI9438,2,19940612,1822,-19.4833, 165.4805, 1720,    450.4,  12.0219,  34.9329,2,  34.9248,2,    175.0,2,    174.2,2,     6.33,2,    15.77,2,     0.00,2,     1.19,2, -999.000,9, -999.000,9, -999.000,1,-999.0000,1,  -999.00,9,   -999.0,1,-999.000,9,   -999.0,9,   -999.0,9,  -999.00,9, 4542.7,-999.0000,-999.000,-999.000, 11.9625,-999.000
   318MWESTW_5,  P21W,   250,  1,     11, SI9411,2,19940612,1822,-19.4833, 165.4805, 1720,    499.7,  10.4713,  34.7695,2,  34.7620,2,    176.9,2,    180.6,2,     8.42,2,    18.68,2,     0.00,2,     1.38,2, -999.000,9, -999.000,9,    0.253,2,   1.7314,2,     1.17,2,   -999.0,1,   7.487,2,   -999.0,9,   -999.0,9,  -999.00,9, 5033.7,  0.0087,   0.080,   0.037, 10.4109,   0.005
   318MWESTW_5,  P21W,   250,  1,     10, SI9412,2,19940612,1822,-19.4833, 165.4805, 1720,    608.9,   7.6505,  34.5128,2,  34.5095,2,    180.9,2,    181.8,2,    16.76,2,    24.91,2,     0.00,2,     1.76,2, -999.000,9, -999.000,9,    0.114,2,   1.7612,2,     2.65,2,   -999.0,1,   7.696,2,   -999.0,9,   -999.0,9,  -999.00,9, 6119.1,  0.0088,   0.080,   0.038,  7.5893,   0.005
   318MWESTW_5,  P21W,   250,  1,      9, SI9410,2,19940612,1822,-19.4833, 165.4805, 1720,    700.2,   6.3905,  34.4612,2,  34.4624,2,    177.4,2,    177.5,2,    27.32,2,    28.08,2,     0.00,2,     1.97,2, -999.000,9, -999.000,9,    0.067,2,   1.7804,2,     5.44,2,   -999.0,1,   7.759,2,   -999.0,9,   -999.0,9,  -999.00,9, 7026.4,  0.0089,   0.090,   0.039,  6.3263,   0.004
   318MWESTW_5,  P21W,   250,  1,      8, SI9422,2,19940612,1822,-19.4833, 165.4805, 1720,    797.0,   5.3423,  34.4320,2,  34.4312,2,    175.3,2,    177.3,2,    37.19,2,    30.56,2,     0.01,2,     2.12,2, -999.000,9, -999.000,9,    0.030,2,   1.8022,2,     7.29,2,   -999.0,1,   7.823,2,   -999.0,9,   -999.0,9,  -999.00,9, 7989.5,  0.0090,   0.090,   0.039,  5.2751,   0.004
   318MWESTW_5,  P21W,   250,  1,      7, SI9407,2,19940612,1822,-19.4833, 165.4805, 1720,    898.1,   4.5322,  34.4407,2,  34.4381,2,    171.5,2,    173.7,2,    48.43,2,    31.84,2,     0.00,2,     2.20,2, -999.000,9, -999.000,9,    0.007,2,   1.8500,2,    10.01,2,   -999.0,1,   7.957,2,   -999.0,9,   -999.0,9,  -999.00,9, 8994.1,  0.0093,   0.090,   0.040,  4.4613,   0.004
   318MWESTW_5,  P21W,   250,  1,      6, SI9427,2,19940612,1822,-19.4833, 165.4805, 1720,   1002.2,   4.0692,  34.4815,2,  34.4809,2,    163.6,2,    177.3,4,    62.18,2,    33.02,2,     0.00,2,     2.29,2, -999.000,9, -999.000,9,    0.007,2,   1.8691,2,    13.97,2,   -999.0,1,   7.987,2,   -999.0,9,   -999.0,9,  -999.00,9,10029.2,  0.0093,   0.090,   0.040,  3.9929,   0.004
   318MWESTW_5,  P21W,   250,  1,      5, SI9405,2,19940612,1822,-19.4833, 165.4805, 1720,   1097.2,   3.7141,  34.5097,2,  34.5072,2,    160.7,2,    161.6,2,    71.48,2,    33.52,2,     0.00,2,     2.34,2, -999.000,9, -999.000,9, -999.000,1,-999.0000,1,  -999.00,9,   -999.0,1,-999.000,9,   -999.0,9,   -999.0,9,  -999.00,9,10973.1,-999.0000,-999.000,-999.000,  3.6327,-999.000
   318MWESTW_5,  P21W,   250,  1,      4, SI9404,2,19940612,1822,-19.4833, 165.4805, 1720,   1300.2,   3.1898,  34.5572,2,  34.5553,2,    154.5,2,    154.1,2,    87.03,2,    34.42,2,     0.01,2,     2.39,2, -999.000,9, -999.000,9,    0.005,2,   1.8823,2,    19.72,2,   -999.0,1,   8.009,2,   -999.0,9,   -999.0,9,  -999.00,9,12991.5,  0.0094,   0.100,   0.040,  3.0965,   0.004
   318MWESTW_5,  P21W,   250,  1,      3, SI9403,2,19940612,1822,-19.4833, 165.4805, 1720,   1499.0,   2.8543,  34.5898,2,  34.5883,2,    150.9,2,    151.2,2,    97.03,2,    34.89,2,     0.00,2,     2.43,2, -999.000,9, -999.000,9,    0.002,2,   1.8919,2,    20.61,2,   -999.0,1,   8.041,2,   -999.0,9,   -999.0,9,  -999.00,9,14967.1,  0.0095,   0.100,   0.040,  2.7482,   0.004
   318MWESTW_5,  P21W,   250,  1,      2, SI9437,2,19940612,1822,-19.4833, 165.4805, 1720,   1669.9,   2.6445,  34.6087,2,  34.6079,2,    148.4,2,    150.9,2,   102.29,2,    34.94,2,     0.00,2,     2.45,2, -999.000,9, -999.000,9, -999.000,1,-999.0000,1,  -999.00,9,   -999.0,1,-999.000,9,   -999.0,9,   -999.0,9,  -999.00,9,16665.2,-999.0000,-999.000,-999.000,  2.5267,-999.000
   318MWESTW_5,  P21W,   250,  1,      1, SI9401,2,19940612,1822,-19.4833, 165.4805, 1720,   1709.7,   2.6376,  34.6103,2,  34.6077,2,    149.5,2,    152.0,2,   102.47,2,    34.90,2,     0.01,2,     2.44,2, -999.000,9, -999.000,9, -999.000,1,-999.0000,1,  -999.00,9,   -999.0,1,-999.000,9,   -999.0,9,   -999.0,9,  -999.00,9,17061.5,-999.0000,-999.000,-999.000,  2.5166,-999.000