BOTTLE,20010911WHPSIOdm
EXPOCODE,SECT_ID,STNNBR,CASTNO,SAMPNO,BTLNBR,BTLNBR_FLAG_W,DATE,TIME,LATITUDE,LONGITUDE,DEPTH,CTDPRS,CTDTMP,CTDSAL,CTDSAL_FLAG_W,SALNTY,SALNTY_FLAG_W,CTDOXY,CTDOXY_FLAG_W,OXYGEN,OXYGEN_FLAG_W,SILCAT,SILCAT_FLAG_W,NITRAT,NITRAT_FLAG_W,NITRIT,NITRIT_FLAG_W,PHSPHT,PHSPHT_FLAG_W,CFC-11,CFC-11_FLAG_W,CFC-12,CFC-12_FLAG_W,TRITUM,TRITUM_FLAG_W,HELIUM,HELIUM_FLAG_W,DELHE3,DELHE3_FLAG_W,DELC14,DELC14_FLAG_W,NEON,NEON_FLAG_W,TCARBN,TCARBN_FLAG_W,ALKALI,ALKALI_FLAG_W,PH,PH_FLAG_W,CTDRAW,HELIER,DELHER,NEONER,THETA,TRITER
,,,,,,,,,,,,DBAR,ITS-90,PSS-78,,PSS-78,,UMOL/KG,,UMOL/KG,,UMOL/KG,,UMOL/KG,,UMOL/KG,,UMOL/KG,,PMOL/KG,,PMOL/KG,,TU,,UMOL/KG,,PERCNT,,/MILLE,,NMOL/KG,,UMOL/KG,,UMOL/KG,,,,,NMOL/KG,PERCNT,NMOL/KG,ITS-90,TU
   318MWESTW_4,  P21E,    79,  1,     36, SI9336,2,19940421,0142,-16.7445,-104.6667, 1220,      8.6,  25.2039,  36.3397,2,  36.3451,2,    211.9,2,    212.6,2,     0.53,2,    -0.01,2,     0.01,2,     0.33,2,    1.935,2,    1.056,2, -999.000,1,-999.0000,1,  -999.00,9,   -999.0,1,-999.000,9,   -999.0,9,   -999.0,9,  -999.00,9,  128.4,-999.0000,-999.000,-999.000, 25.2020,-999.000
   318MWESTW_4,  P21E,    79,  1,     35, SI9335,2,19940421,0142,-16.7445,-104.6667, 1220,     23.8,  24.7248,  36.3465,2,  36.3481,2,    198.7,2,    214.4,2,     0.55,2,     0.02,2,     0.01,2,     0.33,2,    1.963,2,    1.075,2, -999.000,1,-999.0000,1,  -999.00,9,   -999.0,1,-999.000,9,   -999.0,9,   -999.0,9,  -999.00,9,  280.5,-999.0000,-999.000,-999.000, 24.7197,-999.000
   318MWESTW_4,  P21E,    79,  1,     34, SI9334,2,19940421,0142,-16.7445,-104.6667, 1220,     48.1,  24.5335,  36.3426,2,  36.3429,2,    196.8,2,    216.3,2,     0.57,2,     0.02,2,     0.01,2,     0.34,2, -999.000,9, -999.000,9, -999.000,1,-999.0000,1,  -999.00,9,   -999.0,1,-999.000,9,   -999.0,9,   -999.0,9,  -999.00,9,  523.2,-999.0000,-999.000,-999.000, 24.5232,-999.000
   318MWESTW_4,  P21E,    79,  1,     33, SI9333,2,19940421,0142,-16.7445,-104.6667, 1220,     97.4,  22.4318,  36.2246,2,  36.2275,2,    226.1,2,    223.2,2,     0.41,2,     0.01,2,     0.02,2,     0.35,2,    2.185,2,    1.148,2, -999.000,1,-999.0000,1,  -999.00,9,   -999.0,1,-999.000,9,   -999.0,9,   -999.0,9,  -999.00,9, 1016.7,-999.0000,-999.000,-999.000, 22.4122,-999.000
   318MWESTW_4,  P21E,    79,  1,     32, SI9332,2,19940421,0142,-16.7445,-104.6667, 1220,    148.9,  21.2532,  36.0108,2,  36.0321,2,    208.2,2,    208.1,2,     0.60,2,     0.41,2,     0.33,2,     0.45,2,    2.215,2,    1.155,2, -999.000,1,-999.0000,1,  -999.00,9,   -999.0,1,-999.000,9,   -999.0,9,   -999.0,9,  -999.00,9, 1531.1,-999.0000,-999.000,-999.000, 21.2243,-999.000
   318MWESTW_4,  P21E,    79,  1,     31, SI9331,2,19940421,0142,-16.7445,-104.6667, 1220,    199.7,  19.0335,  35.5529,2,  35.5802,2,    188.7,2,    191.0,2,     1.12,2,     4.54,2,     0.03,2,     0.69,2,    2.328,2,    1.196,2, -999.000,1,-999.0000,1,  -999.00,9,   -999.0,1,-999.000,9,   -999.0,9,   -999.0,9,  -999.00,9, 2039.0,-999.0000,-999.000,-999.000, 18.9977,-999.000
   318MWESTW_4,  P21E,    79,  1,     30, SI9330,2,19940421,0142,-16.7445,-104.6667, 1220,    249.5,  16.0016,  35.0426,2,  35.0805,2,    154.1,2,    155.3,2,     3.55,2,    10.54,2,     0.01,2,     1.12,2,    2.159,2,    1.039,2, -999.000,1,-999.0000,1,  -999.00,9,   -999.0,1,-999.000,9,   -999.0,9,   -999.0,9,  -999.00,9, 2535.7,-999.0000,-999.000,-999.000, 15.9620,-999.000
   318MWESTW_4,  P21E,    79,  1,     29, SI9329,2,19940421,0142,-16.7445,-104.6667, 1220,    300.3,  12.6786,  34.7166,2,  34.7178,2,     60.6,2,     58.5,2,    14.22,2,    19.97,2,     0.01,2,     2.16,2,    1.118,3,    0.491,3, -999.000,1,-999.0000,1,  -999.00,9,   -999.0,1,-999.000,9,   -999.0,9,   -999.0,9,  -999.00,9, 3043.2,-999.0000,-999.000,-999.000, 12.6379,-999.000
   318MWESTW_4,  P21E,    79,  1,     28, SI9328,2,19940421,0142,-16.7445,-104.6667, 1220,    402.0,   8.7796,  34.5499,2,  34.5504,2,     45.9,2,     46.5,2,    23.69,2,    34.08,2,     0.01,2,     2.61,2,    0.113,2,    0.047,2, -999.000,1,-999.0000,1,  -999.00,9,   -999.0,1,-999.000,9,   -999.0,9,   -999.0,9,  -999.00,9, 4059.4,-999.0000,-999.000,-999.000,  8.7363,-999.000
   318MWESTW_4,  P21E,    79,  1,     27, SI9327,2,19940421,0142,-16.7445,-104.6667, 1220,    501.3,   7.2783,  34.5048,2,  34.5062,2,     76.1,2,     73.6,2,    28.52,2,    36.54,2,     0.00,2,     2.59,2,    0.033,2,    0.015,2, -999.000,1,-999.0000,1,  -999.00,9,   -999.0,1,-999.000,9,   -999.0,9,   -999.0,9,  -999.00,9, 5051.1,-999.0000,-999.000,-999.000,  7.2296,-999.000
   318MWESTW_4,  P21E,    79,  1,     26, SI9326,2,19940421,0142,-16.7445,-104.6667, 1220,    599.5,   6.4771,  34.5026,2,  34.4995,2,     73.3,2,     74.2,2,    36.78,2,    38.54,2,    -0.01,2,     2.69,2,    0.010,2,    0.005,2, -999.000,1,-999.0000,1,  -999.00,9,   -999.0,1,-999.000,9,   -999.0,9,   -999.0,9,  -999.00,9, 6031.5,-999.0000,-999.000,-999.000,  6.4221,-999.000
   318MWESTW_4,  P21E,    79,  1,     25, SI9325,2,19940421,0142,-16.7445,-104.6667, 1220,    699.2,   5.9001,  34.4961,2,  34.4970,2,     73.2,2,     71.5,2,    44.69,2,    40.01,2,     0.01,2,     2.80,2,    0.002,2,    0.000,2, -999.000,1,-999.0000,1,  -999.00,9,   -999.0,1,-999.000,9,   -999.0,9,   -999.0,9,  -999.00,9, 7027.8,-999.0000,-999.000,-999.000,  5.8386,-999.000
   318MWESTW_4,  P21E,    79,  1,     24, SI9324,2,19940421,0142,-16.7445,-104.6667, 1220,    799.2,   5.4365,  34.5018,2,  34.5058,2,     63.1,2,     64.4,2,    53.65,2,    41.69,2,     0.00,2,     2.92,2,   -0.002,2,    0.001,2, -999.000,1,-999.0000,1,  -999.00,9,   -999.0,1,-999.000,9,   -999.0,9,   -999.0,9,  -999.00,9, 8026.5,-999.0000,-999.000,-999.000,  5.3684,-999.000
   318MWESTW_4,  P21E,    79,  1,     23, SI9323,2,19940421,0142,-16.7445,-104.6667, 1220,    899.0,   4.8966,  34.5064,2,  34.5076,2,     62.0,2,     64.1,2,    63.28,2,    42.45,2,     0.00,2,     2.99,2,   -0.002,2,   -0.002,2, -999.000,1,-999.0000,1,  -999.00,9,   -999.0,1,-999.000,9,   -999.0,9,   -999.0,9,  -999.00,9, 9023.1,-999.0000,-999.000,-999.000,  4.8231,-999.000
   318MWESTW_4,  P21E,    79,  1,     22, SI9322,2,19940421,0142,-16.7445,-104.6667, 1220,   1005.5,   4.2718,  34.5262,2,  34.5276,2,     72.5,2,     72.2,2,    76.70,2,    42.12,2,    -0.01,2,     2.99,2,    0.001,2,    0.002,2, -999.000,1,-999.0000,1,  -999.00,9,   -999.0,1,-999.000,9,   -999.0,9,   -999.0,9,  -999.00,9,10086.6,-999.0000,-999.000,-999.000,  4.1935,-999.000
   318MWESTW_4,  P21E,    79,  1,     21, SI9321,2,19940421,0142,-16.7445,-104.6667, 1220,   1067.6,   4.0933,  34.5335,2,  34.5345,2,     75.6,2,     74.8,2,    80.83,2,    41.85,2,    -0.01,2,     2.98,2,   -0.002,2,   -0.004,2, -999.000,1,-999.0000,1,  -999.00,9,   -999.0,1,-999.000,9,   -999.0,9,   -999.0,9,  -999.00,9,10706.5,-999.0000,-999.000,-999.000,  4.0112,-999.000
   318MWESTW_4,  P21E,    79,  1,     20, SI9320,2,19940421,0142,-16.7445,-104.6667, 1220,   1106.7,   4.0093,  34.5368,2,  34.5380,2,     77.9,2,     77.2,2,    82.66,2,    41.62,2,     0.01,2,     2.97,2,    0.000,2,   -0.001,2, -999.000,1,-999.0000,1,  -999.00,9,   -999.0,1,-999.000,9,   -999.0,9,   -999.0,9,  -999.00,9,11096.9,-999.0000,-999.000,-999.000,  3.9245,-999.000