BOTTLE,20010911WHPSIOdm
EXPOCODE,SECT_ID,STNNBR,CASTNO,SAMPNO,BTLNBR,BTLNBR_FLAG_W,DATE,TIME,LATITUDE,LONGITUDE,DEPTH,CTDPRS,CTDTMP,CTDSAL,CTDSAL_FLAG_W,SALNTY,SALNTY_FLAG_W,CTDOXY,CTDOXY_FLAG_W,OXYGEN,OXYGEN_FLAG_W,SILCAT,SILCAT_FLAG_W,NITRAT,NITRAT_FLAG_W,NITRIT,NITRIT_FLAG_W,PHSPHT,PHSPHT_FLAG_W,CFC-11,CFC-11_FLAG_W,CFC-12,CFC-12_FLAG_W,TRITUM,TRITUM_FLAG_W,HELIUM,HELIUM_FLAG_W,DELHE3,DELHE3_FLAG_W,DELC14,DELC14_FLAG_W,NEON,NEON_FLAG_W,TCARBN,TCARBN_FLAG_W,ALKALI,ALKALI_FLAG_W,PH,PH_FLAG_W,CTDRAW,HELIER,DELHER,NEONER,THETA,TRITER
,,,,,,,,,,,,DBAR,ITS-90,PSS-78,,PSS-78,,UMOL/KG,,UMOL/KG,,UMOL/KG,,UMOL/KG,,UMOL/KG,,UMOL/KG,,PMOL/KG,,PMOL/KG,,TU,,UMOL/KG,,PERCNT,,/MILLE,,NMOL/KG,,UMOL/KG,,UMOL/KG,,,,,NMOL/KG,PERCNT,NMOL/KG,ITS-90,TU
   318MWESTW_4,  P21E,    40,  1,     36, SI9336,2,19940408,1942,-16.7472, -81.0028, 4569,      7.5,  23.1168,  35.5912,2,  35.5924,2,    208.5,2,    217.1,2,     0.22,2,    -0.01,2,     0.01,2,     0.53,2,    1.965,2,    1.057,2, -999.000,1,-999.0000,1,  -999.00,9,   -999.0,1,-999.000,9,   -999.0,9,   -999.0,9,  -999.00,9,  125.7,-999.0000,-999.000,-999.000, 23.1153,-999.000
   318MWESTW_4,  P21E,    40,  1,     35, SI9335,2,19940408,1942,-16.7472, -81.0028, 4569,     22.7,  23.1223,  35.5907,2,  35.5918,2,    217.7,2,    215.9,2,     0.42,2,    -0.01,2,     0.01,2,     0.53,2,    1.927,2,    1.048,2, -999.000,1,-999.0000,1,  -999.00,9,   -999.0,1,-999.000,9,   -999.0,9,   -999.0,9,  -999.00,9,  277.4,-999.0000,-999.000,-999.000, 23.1176,-999.000
   318MWESTW_4,  P21E,    40,  1,     34, SI9334,2,19940408,1942,-16.7472, -81.0028, 4569,     47.8,  23.1286,  35.5923,2,  35.5932,2,    207.1,2,    217.6,2,     0.44,2,    -0.02,2,     0.02,2,     0.54,2,    1.928,2,    1.050,2, -999.000,1,-999.0000,1,  -999.00,9,   -999.0,1,-999.000,9,   -999.0,9,   -999.0,9,  -999.00,9,  528.4,-999.0000,-999.000,-999.000, 23.1188,-999.000
   318MWESTW_4,  P21E,    40,  1,     33, SI9333,3,19940408,1942,-16.7472, -81.0028, 4569,     97.6,  16.7247,  35.1578,2,  35.1449,3,    172.5,2,    188.5,2,     4.26,2,    12.01,2,     0.06,2,     1.30,2,    2.347,2,    1.205,2, -999.000,1,-999.0000,1,  -999.00,9,   -999.0,1,-999.000,9,   -999.0,9,   -999.0,9,  -999.00,9, 1023.0,-999.0000,-999.000,-999.000, 16.7088,-999.000
   318MWESTW_4,  P21E,    40,  1,     32, SI9332,2,19940408,1942,-16.7472, -81.0028, 4569,    148.8,  13.5013,  34.8462,2,  34.8615,4,      5.0,2,      0.9,2,    26.73,2,    14.64,2,     2.22,2,     2.74,2,    0.447,2,    0.241,2, -999.000,1,-999.0000,1,  -999.00,9,   -999.0,1,-999.000,9,   -999.0,9,   -999.0,9,  -999.00,9, 1533.2,-999.0000,-999.000,-999.000, 13.4804,-999.000
   318MWESTW_4,  P21E,    40,  1,     30, SI9330,2,19940408,1942,-16.7472, -81.0028, 4569,    192.6,  12.8301,  34.8626,2,  34.8627,2,      0.9,2,      0.6,2,    26.75,2,    14.16,2,     2.70,2,     2.75,2,    0.431,2,    0.239,2, -999.000,1,-999.0000,1,  -999.00,9,   -999.0,1,-999.000,9,   -999.0,9,   -999.0,9,  -999.00,9, 1968.7,-999.0000,-999.000,-999.000, 12.8039,-999.000
   318MWESTW_4,  P21E,    40,  1,     29, SI9329,2,19940408,1942,-16.7472, -81.0028, 4569,    250.8,  12.0768,  34.8317,2,  34.8316,2,      0.3,2,      0.6,2,    27.31,2,    18.97,2,     2.74,2,     2.75,2,    0.240,2,    0.131,2, -999.000,1,-999.0000,1,  -999.00,9,   -999.0,1,-999.000,9,   -999.0,9,   -999.0,9,  -999.00,9, 2548.8,-999.0000,-999.000,-999.000, 12.0439,-999.000
   318MWESTW_4,  P21E,    40,  1,     28, SI9328,2,19940408,1942,-16.7472, -81.0028, 4569,    297.7,  11.3921,  34.7912,2,  34.7901,2,      0.0,2,      0.8,2,    27.87,2,    22.92,2,     2.88,2,     2.75,2,    0.144,2,    0.081,2, -999.000,1,-999.0000,1,  -999.00,9,   -999.0,1,-999.000,9,   -999.0,9,   -999.0,9,  -999.00,9, 3015.8,-999.0000,-999.000,-999.000, 11.3545,-999.000
   318MWESTW_4,  P21E,    40,  1,     27, SI9327,2,19940408,1942,-16.7472, -81.0028, 4569,    396.4,   9.8260,  34.6892,2,  34.6899,2,      0.7,2,      1.9,2,    30.43,2,    33.14,2,     0.02,2,     2.83,2,    0.050,2,    0.022,2, -999.000,1,-999.0000,1,  -999.00,9,   -999.0,1,-999.000,9,   -999.0,9,   -999.0,9,  -999.00,9, 3998.1,-999.0000,-999.000,-999.000,  9.7802,-999.000
   318MWESTW_4,  P21E,    40,  1,     26, SI9326,2,19940408,1942,-16.7472, -81.0028, 4569,    500.5,   8.2100,  34.5964,2,  34.5961,2,     13.5,2,     11.8,2,    34.79,2,    38.83,2,     0.01,2,     2.96,2,    0.023,2,    0.005,2, -999.000,1,-999.0000,1,  -999.00,9,   -999.0,1,-999.000,9,   -999.0,9,   -999.0,9,  -999.00,9, 5033.4,-999.0000,-999.000,-999.000,  8.1579,-999.000
   318MWESTW_4,  P21E,    40,  1,     25, SI9325,2,19940408,1942,-16.7472, -81.0028, 4569,    599.8,   7.0902,  34.5370,2,  34.5370,2,     24.9,2,     26.6,2,    39.34,2,    41.00,2,     0.01,2,     3.01,2,    0.017,2,    0.003,2, -999.000,1,-999.0000,1,  -999.00,9,   -999.0,1,-999.000,9,   -999.0,9,   -999.0,9,  -999.00,9, 6021.0,-999.0000,-999.000,-999.000,  7.0324,-999.000
   318MWESTW_4,  P21E,    40,  1,     24, SI9324,2,19940408,1942,-16.7472, -81.0028, 4569,    701.3,   6.0698,  34.4931,2,  34.4911,2,     39.8,2,     44.4,2,    45.51,2,    41.95,2,     0.00,2,     3.03,2,    0.007,2,    0.000,2, -999.000,1,-999.0000,1,  -999.00,9,   -999.0,1,-999.000,9,   -999.0,9,   -999.0,9,  -999.00,9, 7030.4,-999.0000,-999.000,-999.000,  6.0072,-999.000
   318MWESTW_4,  P21E,    40,  1,     23, SI9323,2,19940408,1942,-16.7472, -81.0028, 4569,    793.6,   5.6251,  34.5104,2,  34.5085,2,     34.2,2,     33.9,2,    56.21,2,    43.83,2,     0.00,2,     3.16,2,   -0.001,2,   -0.004,2, -999.000,1,-999.0000,1,  -999.00,9,   -999.0,1,-999.000,9,   -999.0,9,   -999.0,9,  -999.00,9, 7947.7,-999.0000,-999.000,-999.000,  5.5564,-999.000
   318MWESTW_4,  P21E,    40,  1,     22, SI9322,2,19940408,1942,-16.7472, -81.0028, 4569,    898.5,   4.9777,  34.5045,2,  34.5034,2,     52.7,2,     49.1,2,    64.01,2,    43.25,2,     0.01,2,     3.12,2,   -0.002,2,   -0.004,2, -999.000,1,-999.0000,1,  -999.00,9,   -999.0,1,-999.000,9,   -999.0,9,   -999.0,9,  -999.00,9, 8990.8,-999.0000,-999.000,-999.000,  4.9037,-999.000
   318MWESTW_4,  P21E,    40,  1,     21, SI9321,2,19940408,1942,-16.7472, -81.0028, 4569,    999.6,   4.4523,  34.5158,2,  34.5142,2,     61.5,2,     61.0,2,    73.80,2,    42.26,2,     0.01,2,     3.09,2,   -0.002,2,   -0.002,2, -999.000,1,-999.0000,1,  -999.00,9,   -999.0,1,-999.000,9,   -999.0,9,   -999.0,9,  -999.00,9, 9996.5,-999.0000,-999.000,-999.000,  4.3732,-999.000
   318MWESTW_4,  P21E,    40,  1,     20, SI9320,2,19940408,1942,-16.7472, -81.0028, 4569,   1099.4,   4.1239,  34.5358,2,  34.5356,2,     63.9,2,     63.6,2,    84.14,2,    41.75,2,     0.00,2,     3.08,2, -999.000,9, -999.000,9, -999.000,1,-999.0000,1,  -999.00,9,   -999.0,1,-999.000,9,   -999.0,9,   -999.0,9,  -999.00,9,10988.1,-999.0000,-999.000,-999.000,  4.0388,-999.000
   318MWESTW_4,  P21E,    40,  1,     19, SI9319,2,19940408,1942,-16.7472, -81.0028, 4569,   1205.4,   3.7407,  34.5508,2,  34.5502,2,     73.7,2,     73.5,2,    92.11,2,    40.83,2,    -0.01,2,     3.02,2, -999.000,9, -999.000,9, -999.000,1,-999.0000,1,  -999.00,9,   -999.0,1,-999.000,9,   -999.0,9,   -999.0,9,  -999.00,9,12042.8,-999.0000,-999.000,-999.000,  3.6499,-999.000
   318MWESTW_4,  P21E,    40,  1,     18, SI9318,2,19940408,1942,-16.7472, -81.0028, 4569,   1301.2,   3.5074,  34.5640,2,  34.5633,2,     75.3,2,     77.3,2,    98.83,2,    40.59,2,     0.01,2,     3.01,2, -999.000,9, -999.000,9, -999.000,1,-999.0000,1,  -999.00,9,   -999.0,1,-999.000,9,   -999.0,9,   -999.0,9,  -999.00,9,12995.4,-999.0000,-999.000,-999.000,  3.4108,-999.000
   318MWESTW_4,  P21E,    40,  1,     17, SI9317,2,19940408,1942,-16.7472, -81.0028, 4569,   1402.7,   3.2492,  34.5775,2,  34.5765,2,     83.0,2,     82.5,2,   105.18,2,    40.31,2,     0.00,2,     2.97,2, -999.000,9, -999.000,9, -999.000,1,-999.0000,1,  -999.00,9,   -999.0,1,-999.000,9,   -999.0,9,   -999.0,9,  -999.00,9,14004.6,-999.0000,-999.000,-999.000,  3.1467,-999.000
   318MWESTW_4,  P21E,    40,  1,     16, SI9316,2,19940408,1942,-16.7472, -81.0028, 4569,   1499.4,   3.0351,  34.5796,3,  34.5904,2,     87.7,2,     87.7,2,   110.44,2,    40.15,2,     0.00,2,     2.92,2, -999.000,9, -999.000,9, -999.000,1,-999.0000,1,  -999.00,9,   -999.0,1,-999.000,9,   -999.0,9,   -999.0,9,  -999.00,9,14966.1,-999.0000,-999.000,-999.000,  2.9269,-999.000
   318MWESTW_4,  P21E,    40,  1,     15, SI9315,2,19940408,1942,-16.7472, -81.0028, 4569,   1597.2,   2.8543,  34.6018,2,  34.6034,2,     91.0,2,     91.0,2,   116.24,2,    39.86,2,     0.00,2,     2.90,2, -999.000,9, -999.000,9, -999.000,1,-999.0000,1,  -999.00,9,   -999.0,1,-999.000,9,   -999.0,9,   -999.0,9,  -999.00,9,15938.0,-999.0000,-999.000,-999.000,  2.7400,-999.000
   318MWESTW_4,  P21E,    40,  1,     14, SI9314,2,19940408,1942,-16.7472, -81.0028, 4569,   1748.2,   2.6207,  34.6162,2,  34.6166,2,     98.3,2,     98.3,2,   121.87,2,    39.28,2,     0.00,2,     2.84,2, -999.000,9, -999.000,9, -999.000,1,-999.0000,1,  -999.00,9,   -999.0,1,-999.000,9,   -999.0,9,   -999.0,9,  -999.00,9,17439.4,-999.0000,-999.000,-999.000,  2.4966,-999.000
   318MWESTW_4,  P21E,    40,  1,     13, SI9313,2,19940408,1942,-16.7472, -81.0028, 4569,   1896.7,   2.4177,  34.6285,2,  34.6286,2,    108.0,2,    108.1,2,   124.78,2,    38.47,2,     0.01,2,     2.79,2, -999.000,9, -999.000,9, -999.000,1,-999.0000,1,  -999.00,9,   -999.0,1,-999.000,9,   -999.0,9,   -999.0,9,  -999.00,9,18915.5,-999.0000,-999.000,-999.000,  2.2838,-999.000
   318MWESTW_4,  P21E,    40,  1,     12, SI9312,2,19940408,1942,-16.7472, -81.0028, 4569,   2048.5,   2.2448,  34.6411,2,  34.6409,2,    114.9,2,    114.8,2,   129.32,2,    37.67,2,     0.00,2,     2.74,2, -999.000,9, -999.000,9, -999.000,1,-999.0000,1,  -999.00,9,   -999.0,1,-999.000,9,   -999.0,9,   -999.0,9,  -999.00,9,20424.6,-999.0000,-999.000,-999.000,  2.1004,-999.000
   318MWESTW_4,  P21E,    40,  1,     10, SI9310,2,19940408,1942,-16.7472, -81.0028, 4569,   2250.2,   2.0806,  34.6536,2,  34.6545,2,    121.8,2,    122.2,2,   132.04,2,    36.99,2,    -0.01,2,     2.69,2, -999.000,9, -999.000,9, -999.000,1,-999.0000,1,  -999.00,9,   -999.0,1,-999.000,9,   -999.0,9,   -999.0,9,  -999.00,9,22430.1,-999.0000,-999.000,-999.000,  1.9213,-999.000
   318MWESTW_4,  P21E,    40,  1,      9, SI9309,2,19940408,1942,-16.7472, -81.0028, 4569,   2444.5,   1.9431,  34.6628,2,  34.6643,2,    135.4,2,    136.2,2,   129.34,2,    35.93,2,     0.00,2,     2.58,2, -999.000,9, -999.000,9, -999.000,1,-999.0000,1,  -999.00,9,   -999.0,1,-999.000,9,   -999.0,9,   -999.0,9,  -999.00,9,24361.8,-999.0000,-999.000,-999.000,  1.7689,-999.000
   318MWESTW_4,  P21E,    40,  1,      8, SI9308,2,19940408,1942,-16.7472, -81.0028, 4569,   2653.3,   1.8469,  34.6715,2,  34.6720,2,    145.4,2,    144.8,2,   128.28,2,    35.60,2,    -0.01,2,     2.51,2, -999.000,9, -999.000,9, -999.000,1,-999.0000,1,  -999.00,9,   -999.0,1,-999.000,9,   -999.0,9,   -999.0,9,  -999.00,9,26437.3,-999.0000,-999.000,-999.000,  1.6554,-999.000
   318MWESTW_4,  P21E,    40,  1,      7, SI9307,2,19940408,1942,-16.7472, -81.0028, 4569,   2897.6,   1.8012,  34.6775,2,  34.6771,2,    141.0,2,    140.9,2,   134.62,2,    35.96,2,    -0.01,2,     2.53,2, -999.000,9, -999.000,9, -999.000,1,-999.0000,1,  -999.00,9,   -999.0,1,-999.000,9,   -999.0,9,   -999.0,9,  -999.00,9,28866.1,-999.0000,-999.000,-999.000,  1.5876,-999.000
   318MWESTW_4,  P21E,    40,  1,      6, SI9306,2,19940408,1942,-16.7472, -81.0028, 4569,   3134.9,   1.7915,  34.6797,2,  34.6800,2,    137.9,2,    137.8,2,   138.98,2,    36.30,2,     0.00,2,     2.56,2, -999.000,9, -999.000,9, -999.000,1,-999.0000,1,  -999.00,9,   -999.0,1,-999.000,9,   -999.0,9,   -999.0,9,  -999.00,9,31225.4,-999.0000,-999.000,-999.000,  1.5551,-999.000
   318MWESTW_4,  P21E,    40,  1,      5, SI9305,2,19940408,1942,-16.7472, -81.0028, 4569,   3392.3,   1.7859,  34.6826,2,  34.6820,2,    139.3,2,    140.2,2,   138.27,2,    36.08,2,     0.00,2,     2.54,2, -999.000,9, -999.000,9, -999.000,1,-999.0000,1,  -999.00,9,   -999.0,1,-999.000,9,   -999.0,9,   -999.0,9,  -999.00,9,33784.6,-999.0000,-999.000,-999.000,  1.5237,-999.000
   318MWESTW_4,  P21E,    40,  1,      4, SI9304,2,19940408,1942,-16.7472, -81.0028, 4569,   3648.6,   1.7736,  34.6858,2,  34.6844,2,    145.1,2,    146.8,2,   134.31,2,    35.49,2,     0.01,2,     2.50,2, -999.000,9, -999.000,9, -999.000,1,-999.0000,1,  -999.00,9,   -999.0,1,-999.000,9,   -999.0,9,   -999.0,9,  -999.00,9,36332.5,-999.0000,-999.000,-999.000,  1.4850,-999.000
   318MWESTW_4,  P21E,    40,  1,     11, SI9311,2,19940408,1942,-16.7472, -81.0028, 4569,   3896.4,   1.7638,  34.6875,2,  34.6881,2,    151.3,2,    151.1,2,   131.42,2,    34.91,2,     0.01,2,     2.49,2, -999.000,9, -999.000,9, -999.000,1,-999.0000,1,  -999.00,9,   -999.0,1,-999.000,9,   -999.0,9,   -999.0,9,  -999.00,9,38796.0,-999.0000,-999.000,-999.000,  1.4488,-999.000
   318MWESTW_4,  P21E,    40,  1,     31, SI9331,2,19940408,1942,-16.7472, -81.0028, 4569,   4150.8,   1.7644,  34.6895,2,  34.6897,2,    155.1,2,    154.1,2,   129.81,2,    34.46,2,     0.00,2,     2.46,2, -999.000,9, -999.000,9, -999.000,1,-999.0000,1,  -999.00,9,   -999.0,1,-999.000,9,   -999.0,9,   -999.0,9,  -999.00,9,41325.3,-999.0000,-999.000,-999.000,  1.4212,-999.000
   318MWESTW_4,  P21E,    40,  1,      3, SI9303,2,19940408,1942,-16.7472, -81.0028, 4569,   4397.5,   1.7778,  34.6904,2,  34.6903,2,    156.0,2,    155.0,2,   129.64,2,    34.36,2,     0.00,2,     2.45,2, -999.000,9, -999.000,9, -999.000,1,-999.0000,1,  -999.00,9,   -999.0,1,-999.000,9,   -999.0,9,   -999.0,9,  -999.00,9,43777.7,-999.0000,-999.000,-999.000,  1.4061,-999.000
   318MWESTW_4,  P21E,    40,  1,      2, SI9302,2,19940408,1942,-16.7472, -81.0028, 4569,   4585.4,   1.7958,  34.6903,2,  34.6895,2,    156.9,2,    155.2,2,   129.48,2,    34.49,2,    -0.01,2,     2.45,2, -999.000,9, -999.000,9, -999.000,1,-999.0000,1,  -999.00,9,   -999.0,1,-999.000,9,   -999.0,9,   -999.0,9,  -999.00,9,45645.4,-999.0000,-999.000,-999.000,  1.4016,-999.000
   318MWESTW_4,  P21E,    40,  1,      1, SI9301,2,19940408,1942,-16.7472, -81.0028, 4569,   4628.4,   1.8007,  34.6904,2,  34.6897,2,    154.2,2,    155.6,2,   129.13,2,    34.67,2,     0.00,2,     2.45,2, -999.000,9, -999.000,9, -999.000,1,-999.0000,1,  -999.00,9,   -999.0,1,-999.000,9,   -999.0,9,   -999.0,9,  -999.00,9,46073.2,-999.0000,-999.000,-999.000,  1.4012,-999.000