BOTTLE,20010911WHPSIOdm
EXPOCODE,SECT_ID,STNNBR,CASTNO,SAMPNO,BTLNBR,BTLNBR_FLAG_W,DATE,TIME,LATITUDE,LONGITUDE,DEPTH,CTDPRS,CTDTMP,CTDSAL,CTDSAL_FLAG_W,SALNTY,SALNTY_FLAG_W,CTDOXY,CTDOXY_FLAG_W,OXYGEN,OXYGEN_FLAG_W,SILCAT,SILCAT_FLAG_W,NITRAT,NITRAT_FLAG_W,NITRIT,NITRIT_FLAG_W,PHSPHT,PHSPHT_FLAG_W,CFC-11,CFC-11_FLAG_W,CFC-12,CFC-12_FLAG_W,TRITUM,TRITUM_FLAG_W,HELIUM,HELIUM_FLAG_W,DELHE3,DELHE3_FLAG_W,DELC14,DELC14_FLAG_W,NEON,NEON_FLAG_W,TCARBN,TCARBN_FLAG_W,ALKALI,ALKALI_FLAG_W,PH,PH_FLAG_W,CTDRAW,HELIER,DELHER,NEONER,THETA,TRITER
,,,,,,,,,,,,DBAR,ITS-90,PSS-78,,PSS-78,,UMOL/KG,,UMOL/KG,,UMOL/KG,,UMOL/KG,,UMOL/KG,,UMOL/KG,,PMOL/KG,,PMOL/KG,,TU,,UMOL/KG,,PERCNT,,/MILLE,,NMOL/KG,,UMOL/KG,,UMOL/KG,,,,,NMOL/KG,PERCNT,NMOL/KG,ITS-90,TU
   318MWESTW_4,  P21E,    98,  1,     36, SI9336,2,19940426,1734,-16.7528,-112.0028, 3299,      8.1,  25.8897,  36.3476,2,  36.3491,2,    205.9,2,    211.0,2,     0.53,2,     0.03,2,     0.00,2,     0.27,2,    1.786,2,    1.002,2, -999.000,1,-999.0000,1,  -999.00,9,   -999.0,1,-999.000,9,   -999.0,9,   -999.0,9,  -999.00,9,  123.5,-999.0000,-999.000,-999.000, 25.8879,-999.000
   318MWESTW_4,  P21E,    98,  1,     35, SI9335,2,19940426,1734,-16.7528,-112.0028, 3299,     25.5,  25.8330,  36.3476,2,  36.3465,2,    212.4,2,    210.3,2,     0.55,2,     0.02,2,     0.01,2,     0.27,2,    1.782,2,    1.013,2, -999.000,1,-999.0000,1,  -999.00,9,   -999.0,1,-999.000,9,   -999.0,9,   -999.0,9,  -999.00,9,  297.4,-999.0000,-999.000,-999.000, 25.8273,-999.000
   318MWESTW_4,  P21E,    98,  1,     34, SI9334,2,19940426,1734,-16.7528,-112.0028, 3299,     48.9,  25.8304,  36.3476,2,  36.3473,2,    211.6,2,    212.4,2,     0.57,2,     0.02,2,     0.01,2,     0.28,2,    1.798,2,    1.026,2, -999.000,1,-999.0000,1,  -999.00,9,   -999.0,1,-999.000,9,   -999.0,9,   -999.0,9,  -999.00,9,  531.4,-999.0000,-999.000,-999.000, 25.8195,-999.000
   318MWESTW_4,  P21E,    98,  1,     33, SI9333,2,19940426,1734,-16.7528,-112.0028, 3299,    102.1,  23.6499,  36.3473,2,  36.3261,2,    221.9,2,    218.9,2,     0.59,2,     0.02,2,     0.01,2,     0.34,2,    1.990,2,    1.096,2, -999.000,1,-999.0000,1,  -999.00,9,   -999.0,1,-999.000,9,   -999.0,9,   -999.0,9,  -999.00,9, 1063.5,-999.0000,-999.000,-999.000, 23.6285,-999.000
   318MWESTW_4,  P21E,    98,  1,     32, SI9332,2,19940426,1734,-16.7528,-112.0028, 3299,    151.8,  22.3956,  36.2452,2,  36.2622,2,    205.2,2,    203.8,2,     0.61,2,     0.14,2,     0.59,2,     0.36,2,    2.094,2,    1.149,2, -999.000,1,-999.0000,1,  -999.00,9,   -999.0,1,-999.000,9,   -999.0,9,   -999.0,9,  -999.00,9, 1560.5,-999.0000,-999.000,-999.000, 22.3650,-999.000
   318MWESTW_4,  P21E,    98,  1,     31, SI9331,2,19940426,1734,-16.7528,-112.0028, 3299,    202.0,  20.3486,  35.7704,2,-999.0000,9,    196.7,2,    193.6,2,     0.79,2,     2.87,2,     0.04,2,     0.56,2,    2.198,2,    1.177,2, -999.000,1,-999.0000,1,  -999.00,9,   -999.0,1,-999.000,9,   -999.0,9,   -999.0,9,  -999.00,9, 2061.7,-999.0000,-999.000,-999.000, 20.3106,-999.000
   318MWESTW_4,  P21E,    98,  1,     30, SI9330,2,19940426,1734,-16.7528,-112.0028, 3299,    250.6,  17.8725,  35.2887,3,  35.3946,2,    184.1,2,    180.7,2,     1.61,2,     5.67,2,     0.02,2,     0.73,2,    2.170,2,    1.160,2, -999.000,1,-999.0000,1,  -999.00,9,   -999.0,1,-999.000,9,   -999.0,9,   -999.0,9,  -999.00,9, 2547.1,-999.0000,-999.000,-999.000, 17.8295,-999.000
   318MWESTW_4,  P21E,    98,  1,     29, SI9329,2,19940426,1734,-16.7528,-112.0028, 3299,    299.8,  13.9318,  34.8330,2,  34.8324,2,    160.1,2,    149.2,2,     5.01,2,    12.29,2,     0.01,2,     1.20,2,    1.720,2,    0.885,2, -999.000,1,-999.0000,1,  -999.00,9,   -999.0,1,-999.000,9,   -999.0,9,   -999.0,9,  -999.00,9, 3039.2,-999.0000,-999.000,-999.000, 13.8885,-999.000
   318MWESTW_4,  P21E,    98,  1,     28, SI9328,2,19940426,1734,-16.7528,-112.0028, 3299,    400.1,   8.9378,  34.4995,2,  34.4940,2,     84.3,2,     78.3,2,    18.88,2,    30.27,2,     0.02,2,     2.39,2,    0.304,2,    0.151,2, -999.000,1,-999.0000,1,  -999.00,9,   -999.0,1,-999.000,9,   -999.0,9,   -999.0,9,  -999.00,9, 4041.1,-999.0000,-999.000,-999.000,  8.8943,-999.000
   318MWESTW_4,  P21E,    98,  1,     27, SI9327,3,19940426,1734,-16.7528,-112.0028, 3299,    499.1,   7.0082,  34.4609,2,  34.5967,4,     93.9,2,    104.2,4,    23.40,2,    32.29,2,     0.03,2,     2.32,2,    0.260,2,    0.139,2, -999.000,1,-999.0000,1,  -999.00,9,   -999.0,1,-999.000,9,   -999.0,9,   -999.0,9,  -999.00,9, 5029.4,-999.0000,-999.000,-999.000,  6.9608,-999.000
   318MWESTW_4,  P21E,    98,  1,     26, SI9326,2,19940426,1734,-16.7528,-112.0028, 3299,    601.3,   6.2583,  34.4563,2,  34.4669,2,     95.8,2,     91.2,2,    34.04,2,    37.42,2,     0.02,2,     2.62,2,    0.013,2,    0.009,2, -999.000,1,-999.0000,1,  -999.00,9,   -999.0,1,-999.000,9,   -999.0,9,   -999.0,9,  -999.00,9, 6050.2,-999.0000,-999.000,-999.000,  6.2042,-999.000
   318MWESTW_4,  P21E,    98,  1,     25, SI9325,2,19940426,1734,-16.7528,-112.0028, 3299,    700.4,   5.7135,  34.4891,2,  34.4917,2,     79.7,2,     77.0,2,    46.29,2,    39.88,2,     0.01,2,     2.80,2,   -0.002,2,    0.001,2, -999.000,1,-999.0000,1,  -999.00,9,   -999.0,1,-999.000,9,   -999.0,9,   -999.0,9,  -999.00,9, 7040.9,-999.0000,-999.000,-999.000,  5.6529,-999.000
   318MWESTW_4,  P21E,    98,  1,     24, SI9324,2,19940426,1734,-16.7528,-112.0028, 3299,    800.0,   5.1595,  34.5003,2,  34.5025,2,     80.8,2,     79.0,2,    56.92,2,    40.57,2,     0.01,2,     2.86,2,   -0.004,2,   -0.001,2, -999.000,1,-999.0000,1,  -999.00,9,   -999.0,1,-999.000,9,   -999.0,9,   -999.0,9,  -999.00,9, 8035.5,-999.0000,-999.000,-999.000,  5.0930,-999.000
   318MWESTW_4,  P21E,    98,  1,     23, SI9323,2,19940426,1734,-16.7528,-112.0028, 3299,    899.6,   4.7411,  34.5104,2,  34.5113,2,     78.6,2,     77.3,2,    65.78,2,    41.26,2,     0.01,2,     2.91,2,   -0.002,2,    0.002,2, -999.000,1,-999.0000,1,  -999.00,9,   -999.0,1,-999.000,9,   -999.0,9,   -999.0,9,  -999.00,9, 9030.2,-999.0000,-999.000,-999.000,  4.6686,-999.000
   318MWESTW_4,  P21E,    98,  1,     22, SI9322,2,19940426,1734,-16.7528,-112.0028, 3299,   1000.6,   4.3777,  34.5231,2,  34.5248,2,     73.8,2,     73.6,2,    74.49,2,    41.84,2,     0.01,2,     2.98,2,   -0.003,2,    0.002,2, -999.000,1,-999.0000,1,  -999.00,9,   -999.0,1,-999.000,9,   -999.0,9,   -999.0,9,  -999.00,9,10038.7,-999.0000,-999.000,-999.000,  4.2991,-999.000
   318MWESTW_4,  P21E,    98,  1,     21, SI9321,2,19940426,1734,-16.7528,-112.0028, 3299,   1098.6,   4.0073,  34.5369,2,  34.5384,2,     78.0,2,     77.9,2,    83.34,2,    41.58,2,     0.00,2,     2.98,2, -999.000,9, -999.000,9, -999.000,1,-999.0000,1,  -999.00,9,   -999.0,1,-999.000,9,   -999.0,9,   -999.0,9,  -999.00,9,11018.5,-999.0000,-999.000,-999.000,  3.9232,-999.000
   318MWESTW_4,  P21E,    98,  1,     20, SI9320,2,19940426,1734,-16.7528,-112.0028, 3299,   1199.3,   3.6841,  34.5513,2,  34.5516,2,     85.2,2,     84.8,2,    90.28,2,    41.09,2,     0.00,2,     2.94,2, -999.000,9, -999.000,9, -999.000,1,-999.0000,1,  -999.00,9,   -999.0,1,-999.000,9,   -999.0,9,   -999.0,9,  -999.00,9,12023.7,-999.0000,-999.000,-999.000,  3.5944,-999.000
   318MWESTW_4,  P21E,    98,  1,     19, SI9319,2,19940426,1734,-16.7528,-112.0028, 3299,   1299.0,   3.4027,  34.5661,2,  34.5651,2,     88.2,2,     88.6,2,    97.53,2,    40.73,2,    -0.01,2,     2.92,2, -999.000,9, -999.000,9, -999.000,1,-999.0000,1,  -999.00,9,   -999.0,1,-999.000,9,   -999.0,9,   -999.0,9,  -999.00,9,13019.5,-999.0000,-999.000,-999.000,  3.3073,-999.000
   318MWESTW_4,  P21E,    98,  1,     18, SI9318,2,19940426,1734,-16.7528,-112.0028, 3299,   1399.3,   3.1614,  34.5795,2,  34.5779,2,     92.9,2,     93.4,2,   103.50,2,    40.45,2,     0.00,2,     2.91,2, -999.000,9, -999.000,9, -999.000,1,-999.0000,1,  -999.00,9,   -999.0,1,-999.000,9,   -999.0,9,   -999.0,9,  -999.00,9,14021.6,-999.0000,-999.000,-999.000,  3.0601,-999.000
   318MWESTW_4,  P21E,    98,  1,     17, SI9317,2,19940426,1734,-16.7528,-112.0028, 3299,   1499.3,   2.9397,  34.5922,2,  34.5908,2,     98.0,2,     98.3,2,   108.81,2,    39.95,2,     0.01,2,     2.86,2, -999.000,9, -999.000,9, -999.000,1,-999.0000,1,  -999.00,9,   -999.0,1,-999.000,9,   -999.0,9,   -999.0,9,  -999.00,9,15021.1,-999.0000,-999.000,-999.000,  2.8326,-999.000
   318MWESTW_4,  P21E,    98,  1,     16, SI9316,2,19940426,1734,-16.7528,-112.0028, 3299,   1599.6,   2.7523,  34.6028,2,  34.6038,2,    103.4,2,    104.1,2,   113.01,2,    39.49,2,    -0.01,2,     2.83,2, -999.000,9, -999.000,9, -999.000,1,-999.0000,1,  -999.00,9,   -999.0,1,-999.000,9,   -999.0,9,   -999.0,9,  -999.00,9,16022.6,-999.0000,-999.000,-999.000,  2.6390,-999.000
   318MWESTW_4,  P21E,    98,  1,     15, SI9315,2,19940426,1734,-16.7528,-112.0028, 3299,   1698.3,   2.5879,  34.6135,2,  34.6130,2,    109.2,2,    110.0,2,   116.24,2,    39.11,2,    -0.01,2,     2.79,2, -999.000,9, -999.000,9, -999.000,1,-999.0000,1,  -999.00,9,   -999.0,1,-999.000,9,   -999.0,9,   -999.0,9,  -999.00,9,17009.2,-999.0000,-999.000,-999.000,  2.4685,-999.000
   318MWESTW_4,  P21E,    98,  1,     14, SI9314,2,19940426,1734,-16.7528,-112.0028, 3299,   1799.6,   2.4326,  34.6240,2,  34.6236,2,    115.5,2,    116.2,2,   119.14,2,    38.45,2,     0.00,2,     2.75,2, -999.000,9, -999.000,9, -999.000,1,-999.0000,1,  -999.00,9,   -999.0,1,-999.000,9,   -999.0,9,   -999.0,9,  -999.00,9,18020.6,-999.0000,-999.000,-999.000,  2.3067,-999.000
   318MWESTW_4,  P21E,    98,  1,     13, SI9313,2,19940426,1734,-16.7528,-112.0028, 3299,   1900.1,   2.2771,  34.6324,2,  34.6344,2,    126.9,2,    127.3,2,   119.00,2,    37.54,2,     0.00,2,     2.67,2, -999.000,9, -999.000,9, -999.000,1,-999.0000,1,  -999.00,9,   -999.0,1,-999.000,9,   -999.0,9,   -999.0,9,  -999.00,9,19025.0,-999.0000,-999.000,-999.000,  2.1449,-999.000
   318MWESTW_4,  P21E,    98,  1,     12, SI9312,2,19940426,1734,-16.7528,-112.0028, 3299,   1999.4,   2.1412,  34.6410,2,  34.6405,2,    137.9,2,    138.1,2,   118.53,2,    36.69,2,     0.00,2,     2.59,2, -999.000,9, -999.000,9, -999.000,1,-999.0000,1,  -999.00,9,   -999.0,1,-999.000,9,   -999.0,9,   -999.0,9,  -999.00,9,20017.0,-999.0000,-999.000,-999.000,  2.0026,-999.000
   318MWESTW_4,  P21E,    98,  1,     11, SI9311,2,19940426,1734,-16.7528,-112.0028, 3299,   2100.3,   2.0363,  34.6492,2,  34.6486,2,    144.2,2,    144.4,2,   119.18,2,    36.21,2,    -0.01,2,     2.55,2, -999.000,9, -999.000,9, -999.000,1,-999.0000,1,  -999.00,9,   -999.0,1,-999.000,9,   -999.0,9,   -999.0,9,  -999.00,9,21024.5,-999.0000,-999.000,-999.000,  1.8907,-999.000
   318MWESTW_4,  P21E,    98,  1,     10, SI9310,2,19940426,1734,-16.7528,-112.0028, 3299,   2198.2,   1.9511,  34.6563,2,  34.6574,2,    149.7,2,    150.0,2,   119.51,2,    35.73,2,     0.00,2,     2.51,2, -999.000,9, -999.000,9, -999.000,1,-999.0000,1,  -999.00,9,   -999.0,1,-999.000,9,   -999.0,9,   -999.0,9,  -999.00,9,22002.7,-999.0000,-999.000,-999.000,  1.7985,-999.000
   318MWESTW_4,  P21E,    98,  1,      9, SI9309,2,19940426,1734,-16.7528,-112.0028, 3299,   2297.9,   1.9000,  34.6620,2,  34.6618,2,    153.2,2,    153.1,2,   120.33,2,    35.57,2,    -0.01,2,     2.50,2, -999.000,9, -999.000,9, -999.000,1,-999.0000,1,  -999.00,9,   -999.0,1,-999.000,9,   -999.0,9,   -999.0,9,  -999.00,9,22999.6,-999.0000,-999.000,-999.000,  1.7395,-999.000
   318MWESTW_4,  P21E,    98,  1,      8, SI9308,2,19940426,1734,-16.7528,-112.0028, 3299,   2401.8,   1.8668,  34.6671,2,  34.6683,2,    154.5,2,    153.1,2,   121.95,2,    35.50,2,     0.00,2,     2.50,2, -999.000,9, -999.000,9, -999.000,1,-999.0000,1,  -999.00,9,   -999.0,1,-999.000,9,   -999.0,9,   -999.0,9,  -999.00,9,24037.2,-999.0000,-999.000,-999.000,  1.6977,-999.000
   318MWESTW_4,  P21E,    98,  1,      7, SI9307,2,19940426,1734,-16.7528,-112.0028, 3299,   2547.9,   1.8293,  34.6739,2,  34.6743,2,    153.2,2,    152.0,2,   125.50,2,    35.62,2,    -0.01,2,     2.50,2, -999.000,9, -999.000,9, -999.000,1,-999.0000,1,  -999.00,9,   -999.0,1,-999.000,9,   -999.0,9,   -999.0,9,  -999.00,9,25497.0,-999.0000,-999.000,-999.000,  1.6478,-999.000
   318MWESTW_4,  P21E,    98,  1,      6, SI9306,2,19940426,1734,-16.7528,-112.0028, 3299,   2696.3,   1.8198,  34.6774,2,  34.6785,2,    150.8,2,    149.9,2,   129.05,2,    35.77,2,    -0.01,2,     2.51,2, -999.000,9, -999.000,9, -999.000,1,-999.0000,1,  -999.00,9,   -999.0,1,-999.000,9,   -999.0,9,   -999.0,9,  -999.00,9,26979.5,-999.0000,-999.000,-999.000,  1.6248,-999.000
   318MWESTW_4,  P21E,    98,  1,      5, SI9305,2,19940426,1734,-16.7528,-112.0028, 3299,   2845.6,   1.8201,  34.6786,2,  34.6794,2,    145.5,2,    145.5,2,   133.24,2,    36.15,2,    -0.01,2,     2.54,2, -999.000,9, -999.000,9, -999.000,1,-999.0000,1,  -999.00,9,   -999.0,1,-999.000,9,   -999.0,9,   -999.0,9,  -999.00,9,28471.9,-999.0000,-999.000,-999.000,  1.6111,-999.000
   318MWESTW_4,  P21E,    98,  1,      4, SI9304,2,19940426,1734,-16.7528,-112.0028, 3299,   2997.2,   1.8273,  34.6786,2,  34.6779,2,    142.8,2,    141.8,2,   137.59,2,    36.51,2,    -0.01,2,     2.56,2, -999.000,9, -999.000,9, -999.000,1,-999.0000,1,  -999.00,9,   -999.0,1,-999.000,9,   -999.0,9,   -999.0,9,  -999.00,9,29986.4,-999.0000,-999.000,-999.000,  1.6036,-999.000
   318MWESTW_4,  P21E,    98,  1,      3, SI9303,3,19940426,1734,-16.7528,-112.0028, 3299,   3147.6,   1.8407,  34.6785,2,  34.6794,2,    141.8,2,    141.4,2,   137.76,2,    36.51,2,    -0.01,2,     2.56,2, -999.000,9, -999.000,9, -999.000,1,-999.0000,1,  -999.00,9,   -999.0,1,-999.000,9,   -999.0,9,   -999.0,9,  -999.00,9,31490.1,-999.0000,-999.000,-999.000,  1.6019,-999.000
   318MWESTW_4,  P21E,    98,  1,      2, SI9302,2,19940426,1734,-16.7528,-112.0028, 3299,   3257.9,   1.8498,  34.6790,2,  34.6775,2,    141.9,2,    141.3,2,   138.09,2,    36.55,2,     0.00,2,     2.57,2, -999.000,9, -999.000,9, -999.000,1,-999.0000,1,  -999.00,9,   -999.0,1,-999.000,9,   -999.0,9,   -999.0,9,  -999.00,9,32592.0,-999.0000,-999.000,-999.000,  1.5997,-999.000
   318MWESTW_4,  P21E,    98,  1,      1, SI9301,2,19940426,1734,-16.7528,-112.0028, 3299,   3311.0,   1.8544,  34.6794,2,  34.6773,2,    138.4,2,    141.7,2,   137.85,2,    36.52,2,     0.00,2,     2.57,2, -999.000,9, -999.000,9, -999.000,1,-999.0000,1,  -999.00,9,   -999.0,1,-999.000,9,   -999.0,9,   -999.0,9,  -999.00,9,33122.5,-999.0000,-999.000,-999.000,  1.5988,-999.000