BOTTLE,20010911WHPSIOdm
EXPOCODE,SECT_ID,STNNBR,CASTNO,SAMPNO,BTLNBR,BTLNBR_FLAG_W,DATE,TIME,LATITUDE,LONGITUDE,DEPTH,CTDPRS,CTDTMP,CTDSAL,CTDSAL_FLAG_W,SALNTY,SALNTY_FLAG_W,CTDOXY,CTDOXY_FLAG_W,OXYGEN,OXYGEN_FLAG_W,SILCAT,SILCAT_FLAG_W,NITRAT,NITRAT_FLAG_W,NITRIT,NITRIT_FLAG_W,PHSPHT,PHSPHT_FLAG_W,CFC-11,CFC-11_FLAG_W,CFC-12,CFC-12_FLAG_W,TRITUM,TRITUM_FLAG_W,HELIUM,HELIUM_FLAG_W,DELHE3,DELHE3_FLAG_W,DELC14,DELC14_FLAG_W,NEON,NEON_FLAG_W,TCARBN,TCARBN_FLAG_W,ALKALI,ALKALI_FLAG_W,PH,PH_FLAG_W,CTDRAW,HELIER,DELHER,NEONER,THETA,TRITER
,,,,,,,,,,,,DBAR,ITS-90,PSS-78,,PSS-78,,UMOL/KG,,UMOL/KG,,UMOL/KG,,UMOL/KG,,UMOL/KG,,UMOL/KG,,PMOL/KG,,PMOL/KG,,TU,,UMOL/KG,,PERCNT,,/MILLE,,NMOL/KG,,UMOL/KG,,UMOL/KG,,,,,NMOL/KG,PERCNT,NMOL/KG,ITS-90,TU
   318MWESTW_5,  P21W,   165,  1,     35, SI9435,2,19940521,1244,-17.5000,-150.0862, 3099,     10.9,  28.6922,  35.9237,2,  35.9271,2,    198.4,2,    206.8,3,     0.82,2,     0.11,2,     0.00,2,     0.16,2,    1.595,2,    0.901,2, -999.000,1,-999.0000,1,  -999.00,9,   -999.0,1,-999.000,9,   -999.0,9,   -999.0,9,  -999.00,9,  163.3,-999.0000,-999.000,-999.000, 28.6896,-999.000
   318MWESTW_5,  P21W,   165,  1,     34, SI9441,2,19940521,1244,-17.5000,-150.0862, 3099,     31.2,  28.7151,  35.9621,2,  35.9599,2,    198.0,2,    209.5,3,     0.66,2,     0.11,2,     0.01,2,     0.17,2, -999.000,9, -999.000,9, -999.000,1,-999.0000,1,  -999.00,9,   -999.0,1,-999.000,9,   -999.0,9,   -999.0,9,  -999.00,9,  366.4,-999.0000,-999.000,-999.000, 28.7076,-999.000
   318MWESTW_5,  P21W,   165,  1,     33, SI9433,2,19940521,1244,-17.5000,-150.0862, 3099,     51.6,  28.7213,  36.0062,2,  36.0129,2,    204.8,2,    205.5,3,     0.66,2,     0.19,2,     0.00,2,     0.17,2,    1.627,2,    0.921,2, -999.000,1,-999.0000,1,  -999.00,9,   -999.0,1,-999.000,9,   -999.0,9,   -999.0,9,  -999.00,9,  570.5,-999.0000,-999.000,-999.000, 28.7089,-999.000
   318MWESTW_5,  P21W,   165,  1,     32, SI9432,2,19940521,1244,-17.5000,-150.0862, 3099,    102.6,  26.2787,  36.2827,2,  36.2796,2,    209.9,2,    214.9,3,     0.66,2,     0.04,2,     0.01,2,     0.22,2, -999.000,9, -999.000,9, -999.000,1,-999.0000,1,  -999.00,9,   -999.0,1,-999.000,9,   -999.0,9,   -999.0,9,  -999.00,9, 1078.2,-999.0000,-999.000,-999.000, 26.2555,-999.000
   318MWESTW_5,  P21W,   165,  1,     31, SI9431,2,19940521,1244,-17.5000,-150.0862, 3099,    147.6,  23.7305,  36.1617,2,  36.1608,2,    198.5,2,    194.6,3,     0.66,2,     0.21,2,     0.24,2,     0.32,2,    1.911,2,    1.039,2, -999.000,1,-999.0000,1,  -999.00,9,   -999.0,1,-999.000,9,   -999.0,9,   -999.0,9,  -999.00,9, 1526.7,-999.0000,-999.000,-999.000, 23.6995,-999.000
   318MWESTW_5,  P21W,   165,  1,     30, SI9440,2,19940521,1244,-17.5000,-150.0862, 3099,    199.1,  21.6442,  35.9624,2,  35.9617,2,    185.1,2,    182.2,3,     0.82,2,     2.41,2,     0.02,2,     0.43,2,    1.928,2,    1.011,2, -999.000,1,-999.0000,1,  -999.00,9,   -999.0,1,-999.000,9,   -999.0,9,   -999.0,9,  -999.00,9, 2039.8,-999.0000,-999.000,-999.000, 21.6051,-999.000
   318MWESTW_5,  P21W,   165,  1,     29, SI9429,2,19940521,1244,-17.5000,-150.0862, 3099,    299.9,  17.0391,  35.3713,2,  35.3669,2,    176.2,2,    175.2,3,     2.18,2,     6.81,2,     0.01,2,     0.70,2, -999.000,9, -999.000,9, -999.000,1,-999.0000,1,  -999.00,9,   -999.0,1,-999.000,9,   -999.0,9,   -999.0,9,  -999.00,9, 3042.9,-999.0000,-999.000,-999.000, 16.9893,-999.000
   318MWESTW_5,  P21W,   165,  1,     28, SI9428,2,19940521,1244,-17.5000,-150.0862, 3099,    400.3,  11.8444,  34.7787,2,  34.7718,2,    161.6,2,    155.3,3,     8.24,2,    17.25,2,     0.00,2,     1.42,2,    0.961,2,    0.498,2, -999.000,1,-999.0000,1,  -999.00,9,   -999.0,1,-999.000,9,   -999.0,9,   -999.0,9,  -999.00,9, 4041.5,-999.0000,-999.000,-999.000, 11.7923,-999.000
   318MWESTW_5,  P21W,   165,  1,     27, SI9424,2,19940521,1244,-17.5000,-150.0862, 3099,    492.5,   8.6664,  34.5348,2,  34.5272,2,    153.8,2,    147.4,3,    16.11,2,    25.57,2,     0.01,2,     1.92,2,    0.428,2,    0.228,2, -999.000,1,-999.0000,1,  -999.00,9,   -999.0,1,-999.000,9,   -999.0,9,   -999.0,9,  -999.00,9, 4958.1,-999.0000,-999.000,-999.000,  8.6135,-999.000
   318MWESTW_5,  P21W,   165,  1,     26, SI9414,2,19940521,1244,-17.5000,-150.0862, 3099,    594.7,   6.8210,  34.4507,2,  34.4496,2,    151.9,2,    151.3,3,    25.05,2,    29.88,2,     0.00,2,     2.17,2, -999.000,9, -999.000,9, -999.000,1,-999.0000,1,  -999.00,9,   -999.0,1,-999.000,9,   -999.0,9,   -999.0,9,  -999.00,9, 5974.1,-999.0000,-999.000,-999.000,  6.7650,-999.000
   318MWESTW_5,  P21W,   165,  1,     25, SI9425,2,19940521,1244,-17.5000,-150.0862, 3099,    695.9,   5.7536,  34.4559,2,  34.4553,2,    146.2,2,    143.1,3,    38.07,2,    32.85,2,     0.01,2,     2.35,2,    0.039,2,    0.025,2, -999.000,1,-999.0000,1,  -999.00,9,   -999.0,1,-999.000,9,   -999.0,9,   -999.0,9,  -999.00,9, 6980.6,-999.0000,-999.000,-999.000,  5.6932,-999.000
   318MWESTW_5,  P21W,   165,  1,     24, SI9434,2,19940521,1244,-17.5000,-150.0862, 3099,    799.1,   5.1555,  34.4678,2,  34.4681,2,    144.0,2,    143.3,3,    47.45,2,    33.91,2,     0.00,2,     2.41,2,    0.018,2,    0.013,2, -999.000,1,-999.0000,1,  -999.00,9,   -999.0,1,-999.000,9,   -999.0,9,   -999.0,9,  -999.00,9, 8007.2,-999.0000,-999.000,-999.000,  5.0892,-999.000
   318MWESTW_5,  P21W,   165,  1,     23, SI9423,2,19940521,1244,-17.5000,-150.0862, 3099,    900.8,   4.5102,  34.4855,2,  34.4844,2,    144.4,2,    142.9,3,    58.96,2,    34.76,2,     0.00,2,     2.44,2,    0.014,2,    0.008,2, -999.000,1,-999.0000,1,  -999.00,9,   -999.0,1,-999.000,9,   -999.0,9,   -999.0,9,  -999.00,9, 9018.2,-999.0000,-999.000,-999.000,  4.4392,-999.000
   318MWESTW_5,  P21W,   165,  1,     22, SI9418,2,19940521,1244,-17.5000,-150.0862, 3099,   1004.2,   4.1863,  34.5003,2,  34.5005,2,    144.3,2,    143.9,3,    65.47,2,    34.93,2,     0.00,2,     2.47,2, -999.000,9, -999.000,9, -999.000,1,-999.0000,1,  -999.00,9,   -999.0,1,-999.000,9,   -999.0,9,   -999.0,9,  -999.00,9,10046.3,-999.0000,-999.000,-999.000,  4.1089,-999.000
   318MWESTW_5,  P21W,   165,  1,     21, SI9421,2,19940521,1244,-17.5000,-150.0862, 3099,   1097.6,   3.8631,  34.5188,2,  34.5182,2,    143.4,2,    142.6,3,    73.04,2,    35.49,2,     0.00,2,     2.51,2,    0.002,2,    0.003,2, -999.000,1,-999.0000,1,  -999.00,9,   -999.0,1,-999.000,9,   -999.0,9,   -999.0,9,  -999.00,9,10974.7,-999.0000,-999.000,-999.000,  3.7804,-999.000
   318MWESTW_5,  P21W,   165,  1,     20, SI9420,2,19940521,1244,-17.5000,-150.0862, 3099,   1192.4,   3.4658,  34.5375,2,  34.5362,2,    144.2,2,    145.0,3,    81.06,2,    35.71,2,     0.00,2,     2.52,2, -999.000,9, -999.000,9, -999.000,1,-999.0000,1,  -999.00,9,   -999.0,1,-999.000,9,   -999.0,9,   -999.0,9,  -999.00,9,11917.6,-999.0000,-999.000,-999.000,  3.3787,-999.000
   318MWESTW_5,  P21W,   165,  1,     19, SI9419,2,19940521,1244,-17.5000,-150.0862, 3099,   1296.9,   3.1563,  34.5560,2,  34.5573,2,    145.1,2,    146.9,3,    88.17,2,    35.63,2,     0.00,2,     2.53,2, -999.000,9, -999.000,9, -999.000,1,-999.0000,1,  -999.00,9,   -999.0,1,-999.000,9,   -999.0,9,   -999.0,9,  -999.00,9,12956.6,-999.0000,-999.000,-999.000,  3.0636,-999.000
   318MWESTW_5,  P21W,   165,  1,     18, SI9439,2,19940521,1244,-17.5000,-150.0862, 3099,   1408.1,   2.9862,  34.5666,2,  34.5653,2,    146.3,2,    149.7,3,    92.11,2,    35.65,2,     0.00,2,     2.53,2, -999.000,9, -999.000,9, -999.000,1,-999.0000,1,  -999.00,9,   -999.0,1,-999.000,9,   -999.0,9,   -999.0,9,  -999.00,9,14061.7,-999.0000,-999.000,-999.000,  2.8861,-999.000
   318MWESTW_5,  P21W,   165,  1,     17, SI9417,2,19940521,1244,-17.5000,-150.0862, 3099,   1510.2,   2.7878,  34.5810,2,  34.5775,2,    147.2,2,    148.6,3,    96.80,2,    35.67,2,     0.00,2,     2.52,2, -999.000,9, -999.000,9, -999.000,1,-999.0000,1,  -999.00,9,   -999.0,1,-999.000,9,   -999.0,9,   -999.0,9,  -999.00,9,15077.4,-999.0000,-999.000,-999.000,  2.6816,-999.000
   318MWESTW_5,  P21W,   165,  1,     16, SI9416,2,19940521,1244,-17.5000,-150.0862, 3099,   1590.6,   2.6375,  34.5930,2,  34.5912,2,    148.4,2,    150.9,3,   101.03,2,    35.74,2,     0.00,2,     2.53,2, -999.000,9, -999.000,9, -999.000,1,-999.0000,1,  -999.00,9,   -999.0,1,-999.000,9,   -999.0,9,   -999.0,9,  -999.00,9,15876.9,-999.0000,-999.000,-999.000,  2.5264,-999.000
   318MWESTW_5,  P21W,   165,  1,     15, SI9415,2,19940521,1244,-17.5000,-150.0862, 3099,   1702.0,   2.4924,  34.6044,2,  34.6058,2,    149.2,2,    151.8,3,   104.81,2,    35.76,2,     0.01,2,     2.53,2, -999.000,9, -999.000,9, -999.000,1,-999.0000,1,  -999.00,9,   -999.0,1,-999.000,9,   -999.0,9,   -999.0,9,  -999.00,9,16983.6,-999.0000,-999.000,-999.000,  2.3739,-999.000
   318MWESTW_5,  P21W,   165,  1,     14, SI9436,2,19940521,1244,-17.5000,-150.0862, 3099,   1806.1,   2.3739,  34.6151,2,  34.6144,2,    149.4,2,    151.7,3,   108.29,2,    35.73,2,     0.01,2,     2.53,2,    0.008,2,    0.006,2, -999.000,1,-999.0000,1,  -999.00,9,   -999.0,1,-999.000,9,   -999.0,9,   -999.0,9,  -999.00,9,18019.3,-999.0000,-999.000,-999.000,  2.2483,-999.000
   318MWESTW_5,  P21W,   165,  1,     13, SI9413,2,19940521,1244,-17.5000,-150.0862, 3099,   1999.4,   2.1740,  34.6328,2,  34.6321,2,    151.5,2,    153.3,3,   114.04,2,    35.56,2,     0.00,2,     2.52,2, -999.000,9, -999.000,9, -999.000,1,-999.0000,1,  -999.00,9,   -999.0,1,-999.000,9,   -999.0,9,   -999.0,9,  -999.00,9,19940.3,-999.0000,-999.000,-999.000,  2.0350,-999.000
   318MWESTW_5,  P21W,   165,  1,     12, SI9438,2,19940521,1244,-17.5000,-150.0862, 3099,   2104.8,   2.1034,  34.6384,2,  34.6374,2,    152.8,2,    155.2,3,   115.55,2,    35.46,2,     0.01,2,     2.52,2, -999.000,9, -999.000,9, -999.000,1,-999.0000,1,  -999.00,9,   -999.0,1,-999.000,9,   -999.0,9,   -999.0,9,  -999.00,9,20988.2,-999.0000,-999.000,-999.000,  1.9564,-999.000
   318MWESTW_5,  P21W,   165,  1,     11, SI9411,2,19940521,1244,-17.5000,-150.0862, 3099,   2206.8,   2.0235,  34.6456,2,  34.6462,2,    153.9,2,    155.4,3,   117.82,2,    35.45,2,     0.00,2,     2.50,2, -999.000,9, -999.000,9, -999.000,1,-999.0000,1,  -999.00,9,   -999.0,1,-999.000,9,   -999.0,9,   -999.0,9,  -999.00,9,22002.7,-999.0000,-999.000,-999.000,  1.8690,-999.000
   318MWESTW_5,  P21W,   165,  1,     10, SI9412,2,19940521,1244,-17.5000,-150.0862, 3099,   2303.3,   1.9771,  34.6499,2,  34.6492,2,    155.1,2,    157.0,3,   118.88,2,    35.46,2,     0.01,2,     2.49,2, -999.000,9, -999.000,9, -999.000,1,-999.0000,1,  -999.00,9,   -999.0,1,-999.000,9,   -999.0,9,   -999.0,9,  -999.00,9,22961.4,-999.0000,-999.000,-999.000,  1.8149,-999.000
   318MWESTW_5,  P21W,   165,  1,      9, SI9410,2,19940521,1244,-17.5000,-150.0862, 3099,   2406.8,   1.9240,  34.6539,2,  34.6533,2,    156.1,2,    159.0,3,   119.79,2,    35.44,2,     0.00,2,     2.50,2,    0.000,2,    0.003,2, -999.000,1,-999.0000,1,  -999.00,9,   -999.0,1,-999.000,9,   -999.0,9,   -999.0,9,  -999.00,9,23991.1,-999.0000,-999.000,-999.000,  1.7535,-999.000
   318MWESTW_5,  P21W,   165,  1,      8, SI9422,2,19940521,1244,-17.5000,-150.0862, 3099,   2504.1,   1.8770,  34.6581,2,  34.6586,2,    157.4,2,    158.3,3,   121.30,2,    35.36,2,     0.00,2,     2.49,2, -999.000,9, -999.000,9, -999.000,1,-999.0000,1,  -999.00,9,   -999.0,1,-999.000,9,   -999.0,9,   -999.0,9,  -999.00,9,24957.9,-999.0000,-999.000,-999.000,  1.6986,-999.000
   318MWESTW_5,  P21W,   165,  1,      7, SI9407,2,19940521,1244,-17.5000,-150.0862, 3099,   2604.8,   1.8528,  34.6609,2,  34.6620,2,    158.1,2,    161.0,3,   121.75,2,    35.18,2,     0.01,2,     2.50,2, -999.000,9, -999.000,9, -999.000,1,-999.0000,1,  -999.00,9,   -999.0,1,-999.000,9,   -999.0,9,   -999.0,9,  -999.00,9,25958.7,-999.0000,-999.000,-999.000,  1.6657,-999.000
   318MWESTW_5,  P21W,   165,  1,      6, SI9427,2,19940521,1244,-17.5000,-150.0862, 3099,   2706.3,   1.7971,  34.6652,2,  34.6659,2,    160.1,2,    161.6,3,   122.80,2,    35.05,2,     0.00,2,     2.48,2, -999.000,9, -999.000,9, -999.000,1,-999.0000,1,  -999.00,9,   -999.0,1,-999.000,9,   -999.0,9,   -999.0,9,  -999.00,9,26968.5,-999.0000,-999.000,-999.000,  1.6017,-999.000
   318MWESTW_5,  P21W,   165,  1,      5, SI9405,2,19940521,1244,-17.5000,-150.0862, 3099,   2806.0,   1.7513,  34.6690,2,  34.6698,2,    161.8,2,    163.6,3,   122.66,2,    34.91,2,     0.01,2,     2.46,2, -999.000,9, -999.000,9, -999.000,1,-999.0000,1,  -999.00,9,   -999.0,1,-999.000,9,   -999.0,9,   -999.0,9,  -999.00,9,27959.2,-999.0000,-999.000,-999.000,  1.5475,-999.000
   318MWESTW_5,  P21W,   165,  1,      4, SI9404,2,19940521,1244,-17.5000,-150.0862, 3099,   2906.9,   1.7163,  34.6715,2,  34.6712,2,    163.6,2,    167.4,3,   122.95,2,    34.89,2,     0.00,2,     2.46,2, -999.000,9, -999.000,9, -999.000,1,-999.0000,1,  -999.00,9,   -999.0,1,-999.000,9,   -999.0,9,   -999.0,9,  -999.00,9,28962.0,-999.0000,-999.000,-999.000,  1.5037,-999.000
   318MWESTW_5,  P21W,   165,  1,      3, SI9403,2,19940521,1244,-17.5000,-150.0862, 3099,   3012.4,   1.6895,  34.6747,2,  34.6732,2,    164.8,2,    166.3,3,   123.11,2,    34.86,2,     0.00,2,     2.45,2,    0.001,2,    0.004,2, -999.000,1,-999.0000,1,  -999.00,9,   -999.0,1,-999.000,9,   -999.0,9,   -999.0,9,  -999.00,9,30010.9,-999.0000,-999.000,-999.000,  1.4673,-999.000
   318MWESTW_5,  P21W,   165,  1,      2, SI9437,2,19940521,1244,-17.5000,-150.0862, 3099,   3083.3,   1.6243,  34.6787,2,  34.6794,2,    166.5,2,    170.2,3,   123.25,2,    34.64,2,     0.00,2,     2.44,2, -999.000,9, -999.000,9, -999.000,1,-999.0000,1,  -999.00,9,   -999.0,1,-999.000,9,   -999.0,9,   -999.0,9,  -999.00,9,30716.1,-999.0000,-999.000,-999.000,  1.3967,-999.000
   318MWESTW_5,  P21W,   165,  1,      1, SI9401,2,19940521,1244,-17.5000,-150.0862, 3099,   3125.8,   1.6293,  34.6793,2,  34.6796,2,    167.5,2,    169.3,3,   123.74,2,    34.53,2,     0.00,2,     2.43,2,    0.001,2,    0.003,2, -999.000,1,-999.0000,1,  -999.00,9,   -999.0,1,-999.000,9,   -999.0,9,   -999.0,9,  -999.00,9,31138.4,-999.0000,-999.000,-999.000,  1.3975,-999.000