BOTTLE,20010911WHPSIOdm
EXPOCODE,SECT_ID,STNNBR,CASTNO,SAMPNO,BTLNBR,BTLNBR_FLAG_W,DATE,TIME,LATITUDE,LONGITUDE,DEPTH,CTDPRS,CTDTMP,CTDSAL,CTDSAL_FLAG_W,SALNTY,SALNTY_FLAG_W,CTDOXY,CTDOXY_FLAG_W,OXYGEN,OXYGEN_FLAG_W,SILCAT,SILCAT_FLAG_W,NITRAT,NITRAT_FLAG_W,NITRIT,NITRIT_FLAG_W,PHSPHT,PHSPHT_FLAG_W,CFC-11,CFC-11_FLAG_W,CFC-12,CFC-12_FLAG_W,TRITUM,TRITUM_FLAG_W,HELIUM,HELIUM_FLAG_W,DELHE3,DELHE3_FLAG_W,DELC14,DELC14_FLAG_W,NEON,NEON_FLAG_W,TCARBN,TCARBN_FLAG_W,ALKALI,ALKALI_FLAG_W,PH,PH_FLAG_W,CTDRAW,HELIER,DELHER,NEONER,THETA,TRITER
,,,,,,,,,,,,DBAR,ITS-90,PSS-78,,PSS-78,,UMOL/KG,,UMOL/KG,,UMOL/KG,,UMOL/KG,,UMOL/KG,,UMOL/KG,,PMOL/KG,,PMOL/KG,,TU,,UMOL/KG,,PERCNT,,/MILLE,,NMOL/KG,,UMOL/KG,,UMOL/KG,,,,,NMOL/KG,PERCNT,NMOL/KG,ITS-90,TU
   318MWESTW_4,  P21E,    37,  1,     36, SI9336,2,19940407,0512,-16.7500, -84.0028, 4642,      6.1,  23.7316,  35.7900,2,  35.8107,2,    221.6,2,    216.6,2,     0.59,2,     0.05,2,     0.01,2,     0.48,2,    1.887,2,    1.041,2, -999.000,1,-999.0000,1,  -999.00,9,   -999.0,1,-999.000,9,   2052.8,2,   2371.0,2,     8.05,2,  105.1,-999.0000,-999.000,-999.000, 23.7303,-999.000
   318MWESTW_4,  P21E,    37,  1,     35, SI9335,2,19940407,0512,-16.7500, -84.0028, 4642,     24.7,  23.7402,  35.7905,2,  35.8092,2,    220.6,2,    215.8,2,     0.59,2,     0.07,2,     0.00,2,     0.49,2,    1.924,2,    1.035,2, -999.000,1,-999.0000,1,  -999.00,9,   -999.0,1,-999.000,9,   2051.8,2,   2373.0,2,     8.05,2,  291.5,-999.0000,-999.000,-999.000, 23.7350,-999.000
   318MWESTW_4,  P21E,    37,  1,     34, SI9334,2,19940407,0512,-16.7500, -84.0028, 4642,     50.3,  23.3076,  35.7594,2,  35.7469,2,    220.2,2,    220.3,2,     0.78,2,     0.20,2,     0.04,2,     0.52,2,    2.003,2,    1.135,2, -999.000,1,-999.0000,1,  -999.00,9,   -999.0,1,-999.000,9,   2056.8,2,   2370.0,2,     8.03,2,  546.7,-999.0000,-999.000,-999.000, 23.2972,-999.000
   318MWESTW_4,  P21E,    37,  1,     33, SI9333,2,19940407,0512,-16.7500, -84.0028, 4642,    100.9,  17.2998,  35.2509,2,  35.2432,2,    208.8,2,    200.2,2,     2.97,2,     8.64,2,     0.10,2,     1.08,2,    2.501,2,    1.274,2, -999.000,1,-999.0000,1,  -999.00,9,   -999.0,1,-999.000,9,   2115.8,2,   2328.0,2,     7.87,2, 1052.9,-999.0000,-999.000,-999.000, 17.2830,-999.000
   318MWESTW_4,  P21E,    37,  1,     32, SI9332,2,19940407,0512,-16.7500, -84.0028, 4642,    150.6,  13.1549,  34.6472,2,  34.6225,2,    144.0,2,    138.5,2,     6.45,2,    14.95,2,     0.01,2,     1.46,2,    1.966,2,    0.957,2, -999.000,1,-999.0000,1,  -999.00,9,   -999.0,1,-999.000,9,   2143.8,2,   2287.0,2,     7.73,2, 1549.2,-999.0000,-999.000,-999.000, 13.1341,-999.000
   318MWESTW_4,  P21E,    37,  1,     31, SI9331,2,19940407,0512,-16.7500, -84.0028, 4642,    203.7,  11.4094,  34.6696,2,  34.6207,2,     44.4,2,     47.2,2,    18.49,2,    23.18,2,     0.00,2,     2.39,2,    0.699,2,    0.330,2, -999.000,1,-999.0000,1,  -999.00,9,   -999.0,1,-999.000,9,   2231.9,2,   2289.0,2,     7.50,2, 2079.2,-999.0000,-999.000,-999.000, 11.3838,-999.000
   318MWESTW_4,  P21E,    37,  1,     30, SI9330,2,19940407,0512,-16.7500, -84.0028, 4642,    253.0,  10.9766,  34.7560,2,  34.7150,2,      4.9,2,      7.5,2,    25.98,2,    28.13,2,     0.01,2,     2.71,2, -999.000,9, -999.000,9, -999.000,1,-999.0000,1,  -999.00,9,   -999.0,1,-999.000,9,   2270.0,2,   2297.0,2,     7.41,2, 2571.7,-999.0000,-999.000,-999.000, 10.9455,-999.000
   318MWESTW_4,  P21E,    37,  1,     29, SI9329,2,19940407,0512,-16.7500, -84.0028, 4642,    305.6,  10.4960,  34.7066,2,  34.7231,2,      2.6,2,      1.6,2,    28.53,2,    31.19,2,     0.01,2,     2.77,2,    0.084,2,    0.038,2, -999.000,1,-999.0000,1,  -999.00,9,   -999.0,1,-999.000,9,   2278.0,2,   2301.0,2,     7.40,2, 3096.8,-999.0000,-999.000,-999.000, 10.4594,-999.000
   318MWESTW_4,  P21E,    37,  1,     27, SI9327,2,19940407,0512,-16.7500, -84.0028, 4642,    399.7,   9.0327,  34.6323,2,  34.6346,2,      7.2,2,      6.9,2,  -999.00,9,  -999.00,9,  -999.00,9,  -999.00,9,    0.037,2,    0.010,2, -999.000,1,-999.0000,1,  -999.00,9,   -999.0,1,-999.000,9,   2283.0,2,   2301.0,2,     7.39,2, 4037.1,-999.0000,-999.000,-999.000,  8.9889,-999.000
   318MWESTW_4,  P21E,    37,  1,     26, SI9326,2,19940407,0512,-16.7500, -84.0028, 4642,    503.3,   7.2692,  34.5404,2,  34.5262,2,     31.1,2,     36.4,2,    35.11,2,    40.35,2,     0.01,2,     2.92,2,    0.036,2,    0.011,2, -999.000,1,-999.0000,1,  -999.00,9,   -999.0,1,-999.000,9,   2273.0,2,   2299.0,2,     7.40,2, 5071.7,-999.0000,-999.000,-999.000,  7.2203,-999.000
   318MWESTW_4,  P21E,    37,  1,     25, SI9325,2,19940407,0512,-16.7500, -84.0028, 4642,    606.0,   6.3732,  34.5076,2,  34.5089,2,     39.1,2,     36.3,2,    44.42,2,    42.59,2,     0.01,2,     3.08,2,    0.006,2,   -0.003,2, -999.000,1,-999.0000,1,  -999.00,9,   -999.0,1,-999.000,9,   2287.0,2,   2308.0,2,     7.39,2, 6097.7,-999.0000,-999.000,-999.000,  6.3181,-999.000
   318MWESTW_4,  P21E,    37,  1,     24, SI9324,3,19940407,0512,-16.7500, -84.0028, 4642,    703.3,   5.7538,  34.5022,2,  34.5038,2,     37.9,2,     38.2,2,    52.82,2,    43.58,2,     0.01,2,     3.15,2,    0.004,2,   -0.004,2, -999.000,1,-999.0000,1,  -999.00,9,   -999.0,1,-999.000,9,   2296.0,2,   2314.0,2,     7.38,2, 7069.2,-999.0000,-999.000,-999.000,  5.6927,-999.000
   318MWESTW_4,  P21E,    37,  1,     23, SI9323,2,19940407,0512,-16.7500, -84.0028, 4642,    803.8,   5.1990,  34.5051,2,  34.5080,2,     41.5,2,     41.2,2,    62.30,2,    44.02,2,     0.01,2,     3.19,2,   -0.003,2,   -0.004,2, -999.000,1,-999.0000,1,  -999.00,9,   -999.0,1,-999.000,9,   2306.0,2,   2327.0,2,     7.39,2, 8073.0,-999.0000,-999.000,-999.000,  5.1319,-999.000
   318MWESTW_4,  P21E,    37,  1,     22, SI9322,2,19940407,0512,-16.7500, -84.0028, 4642,    900.2,   4.7424,  34.5139,2,  34.5176,2,     48.1,2,     50.1,2,    70.88,2,    43.48,2,     0.00,2,     3.17,2,   -0.001,2,   -0.004,2, -999.000,1,-999.0000,1,  -999.00,9,   -999.0,1,-999.000,9,   2310.0,2,   2334.0,2,     7.39,2, 9036.7,-999.0000,-999.000,-999.000,  4.6698,-999.000
   318MWESTW_4,  P21E,    37,  1,     21, SI9321,2,19940407,0512,-16.7500, -84.0028, 4642,   1004.3,   4.2912,  34.5264,2,  34.5290,2,     60.8,2,     60.0,2,    80.00,2,    42.66,2,     0.01,2,     3.11,2,   -0.001,2,   -0.004,2, -999.000,1,-999.0000,1,  -999.00,9,   -999.0,1,-999.000,9,   2316.0,2,   2346.0,2,     7.42,2,10076.3,-999.0000,-999.000,-999.000,  4.2129,-999.000
   318MWESTW_4,  P21E,    37,  1,     20, SI9320,2,19940407,0512,-16.7500, -84.0028, 4642,   1103.4,   3.9728,  34.5421,2,  34.5439,2,     64.6,2,     65.1,2,    87.84,2,    42.28,2,     0.02,2,     3.10,2, -999.000,9, -999.000,9, -999.000,1,-999.0000,1,  -999.00,9,   -999.0,1,-999.000,9,   2319.0,2,   2354.0,2,     7.42,2,11065.6,-999.0000,-999.000,-999.000,  3.8886,-999.000
   318MWESTW_4,  P21E,    37,  1,     19, SI9319,2,19940407,0512,-16.7500, -84.0028, 4642,   1204.9,   3.6415,  34.5546,2,  34.5563,2,     73.0,2,     75.2,2,    94.77,2,    41.64,2,     0.01,2,     3.02,2, -999.000,9, -999.000,9, -999.000,1,-999.0000,1,  -999.00,9,   -999.0,1,-999.000,9,   2323.0,2,   2365.0,2,     7.44,2,12080.0,-999.0000,-999.000,-999.000,  3.5517,-999.000
   318MWESTW_4,  P21E,    37,  1,     18, SI9318,2,19940407,0512,-16.7500, -84.0028, 4642,   1353.2,   3.2370,  34.5733,2,  34.5765,2,     84.1,2,     84.7,2,   104.06,2,    40.94,2,     0.01,2,     2.97,2, -999.000,9, -999.000,9, -999.000,1,-999.0000,1,  -999.00,9,   -999.0,1,-999.000,9,   2328.0,2,   2373.0,2,     7.46,2,13561.3,-999.0000,-999.000,-999.000,  3.1388,-999.000
   318MWESTW_4,  P21E,    37,  1,     17, SI9317,2,19940407,0512,-16.7500, -84.0028, 4642,   1502.3,   2.8995,  34.5919,2,  34.5938,2,     94.3,2,     96.0,2,   110.82,2,    40.07,2,     0.01,2,     2.90,2, -999.000,9, -999.000,9, -999.000,1,-999.0000,1,  -999.00,9,   -999.0,1,-999.000,9,   2328.0,2,   2384.0,2,     7.48,2,15051.2,-999.0000,-999.000,-999.000,  2.7926,-999.000
   318MWESTW_4,  P21E,    37,  1,     16, SI9316,2,19940407,0512,-16.7500, -84.0028, 4642,   1653.3,   2.6585,  34.6120,2,  34.6130,2,     97.7,2,     97.6,2,   120.29,2,    39.86,2,     0.01,2,     2.88,2, -999.000,9, -999.000,9, -999.000,1,-999.0000,1,  -999.00,9,   -999.0,1,-999.000,9,   2337.0,2,   2392.0,2,     7.49,2,16559.1,-999.0000,-999.000,-999.000,  2.5419,-999.000
   318MWESTW_4,  P21E,    37,  1,     15, SI9315,2,19940407,0512,-16.7500, -84.0028, 4642,   1800.4,   2.4611,  34.6264,2,  34.6278,2,    102.8,2,    103.1,2,   125.95,2,    39.36,2,     0.02,2,     2.85,2, -999.000,9, -999.000,9, -999.000,1,-999.0000,1,  -999.00,9,   -999.0,1,-999.000,9,   -999.0,9,   2401.0,2,     7.51,2,18028.5,-999.0000,-999.000,-999.000,  2.3348,-999.000
   318MWESTW_4,  P21E,    37,  1,     14, SI9314,2,19940407,0512,-16.7500, -84.0028, 4642,   2007.5,   2.2104,  34.6430,2,  34.6431,2,    116.2,2,    116.3,2,   129.22,2,    38.18,2,     0.01,2,     2.75,2, -999.000,9, -999.000,9, -999.000,1,-999.0000,1,  -999.00,9,   -999.0,1,-999.000,9,   2333.0,2,   2403.0,2,     7.53,2,20097.5,-999.0000,-999.000,-999.000,  2.0701,-999.000
   318MWESTW_4,  P21E,    37,  1,     13, SI9313,2,19940407,0512,-16.7500, -84.0028, 4642,   2208.5,   2.0442,  34.6550,2,  34.6547,2,    134.9,2,    132.2,2,   126.67,2,    36.86,2,     0.03,2,     2.64,2, -999.000,9, -999.000,9, -999.000,1,-999.0000,1,  -999.00,9,   -999.0,1,-999.000,9,   2323.0,2,   2403.0,2,     7.54,2,22106.3,-999.0000,-999.000,-999.000,  1.8891,-999.000
   318MWESTW_4,  P21E,    37,  1,     12, SI9312,2,19940407,0512,-16.7500, -84.0028, 4642,   2407.0,   1.9092,  34.6658,2,  34.6657,2,    143.1,2,    140.6,2,   127.76,2,    36.22,2,     0.02,2,     2.57,2, -999.000,9, -999.000,9, -999.000,1,-999.0000,1,  -999.00,9,   -999.0,1,-999.000,9,   -999.0,9,   2405.0,2,     7.56,2,24089.6,-999.0000,-999.000,-999.000,  1.7389,-999.000
   318MWESTW_4,  P21E,    37,  1,     11, SI9311,2,19940407,0512,-16.7500, -84.0028, 4642,   2606.7,   1.8426,  34.6728,2,  34.6728,2,    138.3,2,    137.5,2,   134.14,2,    36.60,2,     0.02,2,     2.59,2, -999.000,9, -999.000,9, -999.000,1,-999.0000,1,  -999.00,9,   -999.0,1,-999.000,9,   2327.0,2,   2416.0,2,     7.56,2,26084.8,-999.0000,-999.000,-999.000,  1.6555,-999.000
   318MWESTW_4,  P21E,    37,  1,     10, SI9310,2,19940407,0512,-16.7500, -84.0028, 4642,   2801.3,   1.8101,  34.6764,2,  34.6771,2,    136.0,2,    135.6,2,   138.33,2,    36.56,2,     0.02,2,     2.60,2, -999.000,9, -999.000,9, -999.000,1,-999.0000,1,  -999.00,9,   -999.0,1,-999.000,9,   2334.0,2,   2421.0,2,     7.56,2,28029.0,-999.0000,-999.000,-999.000,  1.6055,-999.000
   318MWESTW_4,  P21E,    37,  1,      9, SI9309,2,19940407,0512,-16.7500, -84.0028, 4642,   2998.4,   1.7963,  34.6793,2,  34.6787,2,    135.9,2,    136.0,2,   139.79,2,    36.89,2,     0.02,2,     2.60,2, -999.000,9, -999.000,9, -999.000,1,-999.0000,1,  -999.00,9,   -999.0,1,-999.000,9,   2336.0,2,   2428.0,2,     7.56,2,29999.0,-999.0000,-999.000,-999.000,  1.5731,-999.000
   318MWESTW_4,  P21E,    37,  1,      8, SI9308,2,19940407,0512,-16.7500, -84.0028, 4642,   3257.7,   1.7887,  34.6820,2,  34.6816,2,    138.4,2,    138.9,2,   139.24,2,    36.67,2,     0.02,2,     2.58,2, -999.000,9, -999.000,9, -999.000,1,-999.0000,1,  -999.00,9,   -999.0,1,-999.000,9,   2333.0,2,   2424.0,2,     7.57,2,32590.4,-999.0000,-999.000,-999.000,  1.5401,-999.000
   318MWESTW_4,  P21E,    37,  1,      7, SI9307,2,19940407,0512,-16.7500, -84.0028, 4642,   3506.8,   1.7869,  34.6837,2,  34.6859,2,    140.8,2,    141.5,2,   137.96,2,    36.41,2,     0.02,2,     2.57,2, -999.000,9, -999.000,9, -999.000,1,-999.0000,1,  -999.00,9,   -999.0,1,-999.000,9,   2332.0,2,   2425.0,2,     7.57,2,35080.1,-999.0000,-999.000,-999.000,  1.5128,-999.000
   318MWESTW_4,  P21E,    37,  1,      6, SI9306,2,19940407,0512,-16.7500, -84.0028, 4642,   3755.6,   1.7764,  34.6866,2,  34.6871,2,    146.4,2,    146.8,2,   134.69,2,    35.81,2,     0.02,2,     2.54,2, -999.000,9, -999.000,9, -999.000,1,-999.0000,1,  -999.00,9,   -999.0,1,-999.000,9,   2324.0,2,   2418.0,2,     7.58,2,37566.2,-999.0000,-999.000,-999.000,  1.4763,-999.000
   318MWESTW_4,  P21E,    37,  1,      5, SI9305,2,19940407,0512,-16.7500, -84.0028, 4642,   4003.9,   1.7684,  34.6893,2,  34.6895,2,    152.3,2,    151.8,2,   131.40,2,    35.33,2,     0.02,2,     2.50,2, -999.000,9, -999.000,9, -999.000,1,-999.0000,1,  -999.00,9,   -999.0,1,-999.000,9,   2319.0,2,   2416.0,2,     7.58,2,40047.9,-999.0000,-999.000,-999.000,  1.4415,-999.000
   318MWESTW_4,  P21E,    37,  1,      4, SI9304,2,19940407,0512,-16.7500, -84.0028, 4642,   4254.6,   1.7713,  34.6913,2,  34.6906,2,    153.7,2,    153.4,2,   130.32,2,    35.12,2,     0.02,2,     2.49,2, -999.000,9, -999.000,9, -999.000,1,-999.0000,1,  -999.00,9,   -999.0,1,-999.000,9,   -999.0,9,   2412.0,2,     7.58,2,42553.7,-999.0000,-999.000,-999.000,  1.4162,-999.000
   318MWESTW_4,  P21E,    37,  1,      3, SI9303,2,19940407,0512,-16.7500, -84.0028, 4642,   4494.1,   1.7953,  34.6909,2,  34.6908,2,    154.4,2,    153.9,2,   129.95,2,    35.13,2,     0.02,2,     2.48,2, -999.000,9, -999.000,9, -999.000,1,-999.0000,1,  -999.00,9,   -999.0,1,-999.000,9,   2317.0,2,   2414.0,2,     7.58,2,44948.3,-999.0000,-999.000,-999.000,  1.4118,-999.000
   318MWESTW_4,  P21E,    37,  1,      2, SI9302,2,19940407,0512,-16.7500, -84.0028, 4642,   4660.3,   1.8149,  34.6911,2,  34.6914,2,    153.4,2,    154.0,2,   129.95,2,    35.24,2,     0.02,2,     2.48,2, -999.000,9, -999.000,9, -999.000,1,-999.0000,1,  -999.00,9,   -999.0,1,-999.000,9,   2316.0,2,   2412.0,2,     7.58,2,46609.4,-999.0000,-999.000,-999.000,  1.4112,-999.000
   318MWESTW_4,  P21E,    37,  1,      1, SI9301,2,19940407,0512,-16.7500, -84.0028, 4642,   4699.7,   1.8195,  34.6898,2,  34.6906,2,    152.4,2,    154.7,2,   129.90,2,    35.35,2,     0.01,2,     2.49,2, -999.000,9, -999.000,9, -999.000,1,-999.0000,1,  -999.00,9,   -999.0,1,-999.000,9,   2317.0,2,   2414.0,2,     7.58,2,47004.0,-999.0000,-999.000,-999.000,  1.4110,-999.000