BOTTLE,20010911WHPSIOdm
EXPOCODE,SECT_ID,STNNBR,CASTNO,SAMPNO,BTLNBR,BTLNBR_FLAG_W,DATE,TIME,LATITUDE,LONGITUDE,DEPTH,CTDPRS,CTDTMP,CTDSAL,CTDSAL_FLAG_W,SALNTY,SALNTY_FLAG_W,CTDOXY,CTDOXY_FLAG_W,OXYGEN,OXYGEN_FLAG_W,SILCAT,SILCAT_FLAG_W,NITRAT,NITRAT_FLAG_W,NITRIT,NITRIT_FLAG_W,PHSPHT,PHSPHT_FLAG_W,CFC-11,CFC-11_FLAG_W,CFC-12,CFC-12_FLAG_W,TRITUM,TRITUM_FLAG_W,HELIUM,HELIUM_FLAG_W,DELHE3,DELHE3_FLAG_W,DELC14,DELC14_FLAG_W,NEON,NEON_FLAG_W,TCARBN,TCARBN_FLAG_W,ALKALI,ALKALI_FLAG_W,PH,PH_FLAG_W,CTDRAW,HELIER,DELHER,NEONER,THETA,TRITER
,,,,,,,,,,,,DBAR,ITS-90,PSS-78,,PSS-78,,UMOL/KG,,UMOL/KG,,UMOL/KG,,UMOL/KG,,UMOL/KG,,UMOL/KG,,PMOL/KG,,PMOL/KG,,TU,,UMOL/KG,,PERCNT,,/MILLE,,NMOL/KG,,UMOL/KG,,UMOL/KG,,,,,NMOL/KG,PERCNT,NMOL/KG,ITS-90,TU
   318MWESTW_5,  P21W,   164,  1,     21, SI9421,2,19940521,0853,-17.5028,-149.9583, 1508,      8.3,  28.7621,  35.8437,2,  35.8437,2,    201.2,2,    210.8,3,     0.75,2,    -0.01,2,     0.01,2,     0.16,2,    1.595,2,    0.884,2, -999.000,1,-999.0000,1,  -999.00,9,   -999.0,1,-999.000,9,   -999.0,9,   -999.0,9,  -999.00,9,  145.6,-999.0000,-999.000,-999.000, 28.7601,-999.000
   318MWESTW_5,  P21W,   164,  1,     20, SI9420,2,19940521,0853,-17.5028,-149.9583, 1508,     18.9,  28.7690,  35.8429,2,  35.8424,2,    197.6,2,    206.8,3,     0.76,2,    -0.01,2,     0.01,2,     0.15,2,    1.587,2,    0.878,2, -999.000,1,-999.0000,1,  -999.00,9,   -999.0,1,-999.000,9,   -999.0,9,   -999.0,9,  -999.00,9,  252.0,-999.0000,-999.000,-999.000, 28.7644,-999.000
   318MWESTW_5,  P21W,   164,  1,     19, SI9419,2,19940521,0853,-17.5028,-149.9583, 1508,     44.6,  28.0640,  36.2048,2,  36.2186,2,    200.7,2,    212.2,3,     0.62,2,    -0.01,2,     0.01,2,     0.18,2,    1.716,2,    0.944,2, -999.000,1,-999.0000,1,  -999.00,9,   -999.0,1,-999.000,9,   -999.0,9,   -999.0,9,  -999.00,9,  508.5,-999.0000,-999.000,-999.000, 28.0534,-999.000
   318MWESTW_5,  P21W,   164,  1,     18, SI9439,2,19940521,0853,-17.5028,-149.9583, 1508,     95.5,  25.9651,  36.2685,2,  36.2671,2,    208.8,2,    220.1,3,     0.62,2,     0.01,2,     0.01,2,     0.21,2,    1.787,2,    0.976,2, -999.000,1,-999.0000,1,  -999.00,9,   -999.0,1,-999.000,9,   -999.0,9,   -999.0,9,  -999.00,9, 1014.7,-999.0000,-999.000,-999.000, 25.9437,-999.000
   318MWESTW_5,  P21W,   164,  1,     17, SI9417,2,19940521,0853,-17.5028,-149.9583, 1508,    145.7,  23.3917,  36.1157,2,  36.1082,2,    195.2,2,    195.9,3,     0.62,2,     0.84,2,     0.10,2,     0.32,2, -999.000,9, -999.000,9, -999.000,1,-999.0000,1,  -999.00,9,   -999.0,1,-999.000,9,   -999.0,9,   -999.0,9,  -999.00,9, 1515.2,-999.0000,-999.000,-999.000, 23.3614,-999.000
   318MWESTW_5,  P21W,   164,  1,     16, SI9416,2,19940521,0853,-17.5028,-149.9583, 1508,    196.6,  21.5022,  35.9544,2,  35.9423,2,    185.8,2,    182.7,3,     0.79,2,     2.68,2,     0.01,2,     0.43,2,    1.902,2,    0.983,2, -999.000,1,-999.0000,1,  -999.00,9,   -999.0,1,-999.000,9,   -999.0,9,   -999.0,9,  -999.00,9, 2021.9,-999.0000,-999.000,-999.000, 21.4637,-999.000
   318MWESTW_5,  P21W,   164,  1,     15, SI9415,2,19940521,0853,-17.5028,-149.9583, 1508,    251.3,  19.2668,  35.6652,2,  35.6731,2,    181.3,2,    176.9,3,     1.25,2,     4.23,2,     0.00,2,     0.52,2, -999.000,9, -999.000,9, -999.000,1,-999.0000,1,  -999.00,9,   -999.0,1,-999.000,9,   -999.0,9,   -999.0,9,  -999.00,9, 2566.7,-999.0000,-999.000,-999.000, 19.2213,-999.000
   318MWESTW_5,  P21W,   164,  1,     14, SI9436,2,19940521,0853,-17.5028,-149.9583, 1508,    302.8,  17.1495,  35.3826,2,  35.3766,2,    174.4,2,    173.4,3,     2.32,2,     6.93,2,     0.01,2,     0.70,2,    1.660,2,    0.851,2, -999.000,1,-999.0000,1,  -999.00,9,   -999.0,1,-999.000,9,   -999.0,9,   -999.0,9,  -999.00,9, 3078.6,-999.0000,-999.000,-999.000, 17.0990,-999.000
   318MWESTW_5,  P21W,   164,  1,     13, SI9413,2,19940521,0853,-17.5028,-149.9583, 1508,    394.0,  11.8877,  34.7839,2,  34.7832,2,    160.3,2,    156.0,3,     8.21,2,    17.07,2,     0.00,2,     1.38,2,    0.974,2,    0.486,2, -999.000,1,-999.0000,1,  -999.00,9,   -999.0,1,-999.000,9,   -999.0,9,   -999.0,9,  -999.00,9, 3985.8,-999.0000,-999.000,-999.000, 11.8363,-999.000
   318MWESTW_5,  P21W,   164,  1,     12, SI9438,2,19940521,0853,-17.5028,-149.9583, 1508,    500.1,   9.3311,  34.5734,2,  34.5806,2,    150.5,2,    149.0,3,    13.81,2,    23.52,2,     0.01,2,     1.78,2,    0.555,2,    0.289,2, -999.000,1,-999.0000,1,  -999.00,9,   -999.0,1,-999.000,9,   -999.0,9,   -999.0,9,  -999.00,9, 5041.5,-999.0000,-999.000,-999.000,  9.2749,-999.000
   318MWESTW_5,  P21W,   164,  1,     11, SI9411,2,19940521,0853,-17.5028,-149.9583, 1508,    600.9,   6.2492,  34.4488,2,  34.4469,2,    152.0,2,    146.2,3,    31.19,2,    31.50,2,     0.01,2,     2.23,2,    0.090,2,    0.059,2, -999.000,1,-999.0000,1,  -999.00,9,   -999.0,1,-999.000,9,   -999.0,9,   -999.0,9,  -999.00,9, 6043.5,-999.0000,-999.000,-999.000,  6.1952,-999.000
   318MWESTW_5,  P21W,   164,  1,     10, SI9412,2,19940521,0853,-17.5028,-149.9583, 1508,    705.0,   5.4808,  34.4666,2,  34.4628,2,    145.4,2,    140.4,3,    43.29,2,    33.38,2,     0.00,2,     2.36,2, -999.000,9, -999.000,9, -999.000,1,-999.0000,1,  -999.00,9,   -999.0,1,-999.000,9,   -999.0,9,   -999.0,9,  -999.00,9, 7078.9,-999.0000,-999.000,-999.000,  5.4210,-999.000
   318MWESTW_5,  P21W,   164,  1,      9, SI9410,2,19940521,0853,-17.5028,-149.9583, 1508,    806.4,   4.8161,  34.4739,2,  34.4724,2,    144.9,2,    143.1,3,    52.96,2,    34.12,2,     0.00,2,     2.40,2,    0.012,2,    0.010,2, -999.000,1,-999.0000,1,  -999.00,9,   -999.0,1,-999.000,9,   -999.0,9,   -999.0,9,  -999.00,9, 8087.2,-999.0000,-999.000,-999.000,  4.7512,-999.000
   318MWESTW_5,  P21W,   164,  1,      8, SI9422,2,19940521,0853,-17.5028,-149.9583, 1508,    895.3,   4.4946,  34.4874,2,  34.4856,2,    144.8,2,    144.1,3,    59.16,2,    34.51,2,     0.00,2,     2.40,2,    0.008,2,    0.006,2, -999.000,1,-999.0000,1,  -999.00,9,   -999.0,1,-999.000,9,   -999.0,9,   -999.0,9,  -999.00,9, 8970.6,-999.0000,-999.000,-999.000,  4.4242,-999.000
   318MWESTW_5,  P21W,   164,  1,      7, SI9407,2,19940521,0853,-17.5028,-149.9583, 1508,   1002.4,   3.9777,  34.5079,2,  34.5058,2,    144.8,2,    144.6,3,    68.99,2,    35.07,2,     0.01,2,     2.43,2,    0.024,2,    0.016,2, -999.000,1,-999.0000,1,  -999.00,9,   -999.0,1,-999.000,9,   -999.0,9,   -999.0,9,  -999.00,9,10035.1,-999.0000,-999.000,-999.000,  3.9020,-999.000
   318MWESTW_5,  P21W,   164,  1,      6, SI9427,2,19940521,0853,-17.5028,-149.9583, 1508,   1102.6,   3.6781,  34.5277,2,  34.5252,2,    142.9,2,    143.3,3,    76.55,2,    35.51,2,     0.01,2,     2.47,2, -999.000,9, -999.000,9, -999.000,1,-999.0000,1,  -999.00,9,   -999.0,1,-999.000,9,   -999.0,9,   -999.0,9,  -999.00,9,11031.2,-999.0000,-999.000,-999.000,  3.5965,-999.000
   318MWESTW_5,  P21W,   164,  1,      5, SI9405,2,19940521,0853,-17.5028,-149.9583, 1508,   1203.6,   3.4601,  34.5384,2,  34.5368,2,    142.4,2,    144.2,3,    81.09,2,    35.57,2,     0.01,2,     2.47,2,    0.002,2,    0.006,2, -999.000,1,-999.0000,1,  -999.00,9,   -999.0,1,-999.000,9,   -999.0,9,   -999.0,9,  -999.00,9,12035.4,-999.0000,-999.000,-999.000,  3.3721,-999.000
   318MWESTW_5,  P21W,   164,  1,      4, SI9404,2,19940521,0853,-17.5028,-149.9583, 1508,   1329.0,   3.0035,  34.5662,2,  34.5639,2,    144.5,2,    146.7,3,    91.66,2,    35.59,2,     0.00,2,     2.49,2, -999.000,9, -999.000,9, -999.000,1,-999.0000,1,  -999.00,9,   -999.0,1,-999.000,9,   -999.0,9,   -999.0,9,  -999.00,9,13281.3,-999.0000,-999.000,-999.000,  2.9097,-999.000
   318MWESTW_5,  P21W,   164,  1,      3, SI9403,2,19940521,0853,-17.5028,-149.9583, 1508,   1430.5,   2.8284,  34.5789,2,  34.5771,2,    144.7,2,    147.4,3,    96.20,2,    35.54,2,     0.00,2,     2.49,2,    0.006,2,    0.003,2, -999.000,1,-999.0000,1,  -999.00,9,   -999.0,1,-999.000,9,   -999.0,9,   -999.0,9,  -999.00,9,14290.7,-999.0000,-999.000,-999.000,  2.7282,-999.000
   318MWESTW_5,  P21W,   164,  1,      2, SI9437,2,19940521,0853,-17.5028,-149.9583, 1508,   1478.2,   2.7466,  34.5846,2,  34.5842,2,    146.3,2,    147.9,3,    98.16,2,    35.60,2,     0.00,2,     2.48,2, -999.000,9, -999.000,9, -999.000,1,-999.0000,1,  -999.00,9,   -999.0,1,-999.000,9,   -999.0,9,   -999.0,9,  -999.00,9,14763.9,-999.0000,-999.000,-999.000,  2.6434,-999.000
   318MWESTW_5,  P21W,   164,  1,      1, SI9401,2,19940521,0853,-17.5028,-149.9583, 1508,   1524.4,   2.6535,  34.5927,2,  34.5912,2,    145.7,2,    149.2,3,   100.47,2,    35.61,2,     0.01,2,     2.50,2,    0.008,2,    0.005,2, -999.000,1,-999.0000,1,  -999.00,9,   -999.0,1,-999.000,9,   -999.0,9,   -999.0,9,  -999.00,9,15223.1,-999.0000,-999.000,-999.000,  2.5476,-999.000