BOTTLE,20010911WHPSIOdm
EXPOCODE,SECT_ID,STNNBR,CASTNO,SAMPNO,BTLNBR,BTLNBR_FLAG_W,DATE,TIME,LATITUDE,LONGITUDE,DEPTH,CTDPRS,CTDTMP,CTDSAL,CTDSAL_FLAG_W,SALNTY,SALNTY_FLAG_W,CTDOXY,CTDOXY_FLAG_W,OXYGEN,OXYGEN_FLAG_W,SILCAT,SILCAT_FLAG_W,NITRAT,NITRAT_FLAG_W,NITRIT,NITRIT_FLAG_W,PHSPHT,PHSPHT_FLAG_W,CFC-11,CFC-11_FLAG_W,CFC-12,CFC-12_FLAG_W,TRITUM,TRITUM_FLAG_W,HELIUM,HELIUM_FLAG_W,DELHE3,DELHE3_FLAG_W,DELC14,DELC14_FLAG_W,NEON,NEON_FLAG_W,TCARBN,TCARBN_FLAG_W,ALKALI,ALKALI_FLAG_W,PH,PH_FLAG_W,CTDRAW,HELIER,DELHER,NEONER,THETA,TRITER
,,,,,,,,,,,,DBAR,ITS-90,PSS-78,,PSS-78,,UMOL/KG,,UMOL/KG,,UMOL/KG,,UMOL/KG,,UMOL/KG,,UMOL/KG,,PMOL/KG,,PMOL/KG,,TU,,UMOL/KG,,PERCNT,,/MILLE,,NMOL/KG,,UMOL/KG,,UMOL/KG,,,,,NMOL/KG,PERCNT,NMOL/KG,ITS-90,TU
   318MWESTW_5,  P21W,   278,  1,     25, SI9425,2,19940618,2256,-23.8667, 156.7138, 2216,     10.1,  22.5899,  35.7815,2,  35.7829,2,    213.9,2,    213.1,2,     0.44,2,     0.01,2,     0.01,2,     0.13,2, -999.000,9, -999.000,9, -999.000,1,-999.0000,1,  -999.00,9,   -999.0,1,-999.000,9,   -999.0,9,   -999.0,9,  -999.00,9,  160.0,-999.0000,-999.000,-999.000, 22.5879,-999.000
   318MWESTW_5,  P21W,   278,  1,     24, SI9434,2,19940618,2256,-23.8667, 156.7138, 2216,     24.7,  22.5839,  35.7880,2,  35.7892,2,    209.8,2,    218.1,2,     0.45,2,     0.06,2,     0.01,2,     0.13,2, -999.000,9, -999.000,9, -999.000,1,-999.0000,1,  -999.00,9,   -999.0,1,-999.000,9,   -999.0,9,   -999.0,9,  -999.00,9,  305.7,-999.0000,-999.000,-999.000, 22.5789,-999.000
   318MWESTW_5,  P21W,   278,  1,     23, SI9423,2,19940618,2256,-23.8667, 156.7138, 2216,     50.8,  22.5452,  35.8101,2,  35.8107,2,    208.6,2,    219.5,2,     0.45,2,     0.06,2,     0.01,2,     0.13,2, -999.000,9, -999.000,9, -999.000,1,-999.0000,1,  -999.00,9,   -999.0,1,-999.000,9,   -999.0,9,   -999.0,9,  -999.00,9,  565.9,-999.0000,-999.000,-999.000, 22.5349,-999.000
   318MWESTW_5,  P21W,   278,  1,     22, SI9418,2,19940618,2256,-23.8667, 156.7138, 2216,     96.8,  22.5355,  35.8155,2,  35.8153,2,    210.5,2,    227.5,2,     0.46,2,     0.07,2,     0.01,2,     0.14,2, -999.000,9, -999.000,9, -999.000,1,-999.0000,1,  -999.00,9,   -999.0,1,-999.000,9,   -999.0,9,   -999.0,9,  -999.00,9, 1024.2,-999.0000,-999.000,-999.000, 22.5160,-999.000
   318MWESTW_5,  P21W,   278,  1,     21, SI9421,2,19940618,2256,-23.8667, 156.7138, 2216,    147.6,  20.3936,  35.7276,2,  35.7258,2,    192.9,2,    195.3,2,     0.75,2,     2.48,2,     0.03,2,     0.32,2, -999.000,9, -999.000,9, -999.000,1,-999.0000,1,  -999.00,9,   -999.0,1,-999.000,9,   -999.0,9,   -999.0,9,  -999.00,9, 1529.5,-999.0000,-999.000,-999.000, 20.3658,-999.000
   318MWESTW_5,  P21W,   278,  1,     20, SI9420,2,19940618,2256,-23.8667, 156.7138, 2216,    198.5,  19.3702,  35.6499,2,  35.6480,2,    183.6,2,    192.7,2,     1.34,2,     4.71,2,     0.00,2,     0.46,2, -999.000,9, -999.000,9, -999.000,1,-999.0000,1,  -999.00,9,   -999.0,1,-999.000,9,   -999.0,9,   -999.0,9,  -999.00,9, 2036.4,-999.0000,-999.000,-999.000, 19.3342,-999.000
   318MWESTW_5,  P21W,   278,  1,     19, SI9419,2,19940618,2256,-23.8667, 156.7138, 2216,    248.9,  18.1533,  35.5764,2,  35.5776,2,    184.6,2,    185.8,2,     1.63,2,     5.72,2,     0.00,2,     0.52,2, -999.000,9, -999.000,9, -999.000,1,-999.0000,1,  -999.00,9,   -999.0,1,-999.000,9,   -999.0,9,   -999.0,9,  -999.00,9, 2537.5,-999.0000,-999.000,-999.000, 18.1101,-999.000
   318MWESTW_5,  P21W,   278,  1,     18, SI9439,2,19940618,2256,-23.8667, 156.7138, 2216,    309.8,  16.4977,  35.4496,2,  35.4466,2,    183.6,2,    183.4,2,     2.36,2,     7.87,2,     0.00,2,     0.65,2, -999.000,9, -999.000,9, -999.000,1,-999.0000,1,  -999.00,9,   -999.0,1,-999.000,9,   -999.0,9,   -999.0,9,  -999.00,9, 3143.4,-999.0000,-999.000,-999.000, 16.4473,-999.000
   318MWESTW_5,  P21W,   278,  1,     17, SI9417,2,19940618,2256,-23.8667, 156.7138, 2216,    355.6,  14.8481,  35.2954,2,  35.3094,2,    184.2,2,    182.0,2,     3.37,2,    10.24,2,     0.00,2,     0.81,2, -999.000,9, -999.000,9, -999.000,1,-999.0000,1,  -999.00,9,   -999.0,1,-999.000,9,   -999.0,9,   -999.0,9,  -999.00,9, 3599.7,-999.0000,-999.000,-999.000, 14.7942,-999.000
   318MWESTW_5,  P21W,   278,  1,     16, SI9416,2,19940618,2256,-23.8667, 156.7138, 2216,    391.2,  13.7497,  35.1977,2,  35.1945,2,    186.0,2,    185.4,2,     4.24,2,    11.99,2,     0.00,2,     0.92,2, -999.000,9, -999.000,9, -999.000,1,-999.0000,1,  -999.00,9,   -999.0,1,-999.000,9,   -999.0,9,   -999.0,9,  -999.00,9, 3954.0,-999.0000,-999.000,-999.000, 13.6934,-999.000
   318MWESTW_5,  P21W,   278,  1,     15, SI9415,2,19940618,2256,-23.8667, 156.7138, 2216,    442.5,  12.4763,  35.0568,2,  35.0516,2,    186.8,2,    191.6,2,     5.40,2,    14.34,2,     0.00,2,     1.07,2, -999.000,9, -999.000,9, -999.000,1,-999.0000,1,  -999.00,9,   -999.0,1,-999.000,9,   -999.0,9,   -999.0,9,  -999.00,9, 4464.4,-999.0000,-999.000,-999.000, 12.4165,-999.000
   318MWESTW_5,  P21W,   278,  1,     14, SI9436,2,19940618,2256,-23.8667, 156.7138, 2216,    496.9,  10.9979,  34.8906,2,  34.8906,2,    188.3,2,    185.6,2,     7.28,2,    17.03,2,     0.00,2,     1.25,2, -999.000,9, -999.000,9, -999.000,1,-999.0000,1,  -999.00,9,   -999.0,1,-999.000,9,   -999.0,9,   -999.0,9,  -999.00,9, 5005.1,-999.0000,-999.000,-999.000, 10.9359,-999.000
   318MWESTW_5,  P21W,   278,  1,     13, SI9413,2,19940618,2256,-23.8667, 156.7138, 2216,    597.6,   8.7730,  34.6462,2,  34.6437,2,    192.0,2,    199.9,3,    11.31,2,    21.39,2,     0.00,2,     1.52,2, -999.000,9, -999.000,9, -999.000,1,-999.0000,1,  -999.00,9,   -999.0,1,-999.000,9,   -999.0,9,   -999.0,9,  -999.00,9, 6006.5,-999.0000,-999.000,-999.000,  8.7079,-999.000
   318MWESTW_5,  P21W,   278,  1,     12, SI9438,2,19940618,2256,-23.8667, 156.7138, 2216,    701.1,   7.3102,  34.5184,2,  34.5195,2,    193.8,2,    197.5,2,    16.92,2,    24.53,2,     0.00,2,     1.71,2, -999.000,9, -999.000,9, -999.000,1,-999.0000,1,  -999.00,9,   -999.0,1,-999.000,9,   -999.0,9,   -999.0,9,  -999.00,9, 7036.3,-999.0000,-999.000,-999.000,  7.2410,-999.000
   318MWESTW_5,  P21W,   278,  1,     11, SI9411,2,19940618,2256,-23.8667, 156.7138, 2216,    792.4,   6.2446,  34.4585,2,  34.4583,2,    192.3,2,    194.3,2,    25.41,2,    27.10,2,     0.00,2,     1.88,2, -999.000,9, -999.000,9, -999.000,1,-999.0000,1,  -999.00,9,   -999.0,1,-999.000,9,   -999.0,9,   -999.0,9,  -999.00,9, 7943.7,-999.0000,-999.000,-999.000,  6.1723,-999.000
   318MWESTW_5,  P21W,   278,  1,     10, SI9412,2,19940618,2256,-23.8667, 156.7138, 2216,    901.3,   5.3393,  34.4537,2,  34.4534,2,    184.5,2,    182.8,2,    37.76,2,    29.50,2,     0.00,2,     2.05,2, -999.000,9, -999.000,9, -999.000,1,-999.0000,1,  -999.00,9,   -999.0,1,-999.000,9,   -999.0,9,   -999.0,9,  -999.00,9, 9026.7,-999.0000,-999.000,-999.000,  5.2626,-999.000
   318MWESTW_5,  P21W,   278,  1,      9, SI9410,2,19940618,2256,-23.8667, 156.7138, 2216,   1004.3,   4.7422,  34.4713,2,  34.4703,2,    177.1,2,    179.0,2,    48.98,2,    31.01,2,     0.00,2,     2.14,2, -999.000,9, -999.000,9, -999.000,1,-999.0000,1,  -999.00,9,   -999.0,1,-999.000,9,   -999.0,9,   -999.0,9,  -999.00,9,10050.6,-999.0000,-999.000,-999.000,  4.6605,-999.000
   318MWESTW_5,  P21W,   278,  1,      8, SI9422,2,19940618,2256,-23.8667, 156.7138, 2216,   1097.5,   4.2456,  34.4958,2,  34.4960,2,    169.8,2,    169.2,2,    60.32,2,    32.12,2,     0.00,2,     2.24,2, -999.000,9, -999.000,9, -999.000,1,-999.0000,1,  -999.00,9,   -999.0,1,-999.000,9,   -999.0,9,   -999.0,9,  -999.00,9,10977.2,-999.0000,-999.000,-999.000,  4.1597,-999.000
   318MWESTW_5,  P21W,   278,  1,      7, SI9407,2,19940618,2256,-23.8667, 156.7138, 2216,   1195.8,   3.8877,  34.5177,2,  34.5178,2,    163.7,2,    161.8,2,    69.51,2,    33.05,2,     0.01,2,     2.31,2, -999.000,9, -999.000,9, -999.000,1,-999.0000,1,  -999.00,9,   -999.0,1,-999.000,9,   -999.0,9,   -999.0,9,  -999.00,9,11954.8,-999.0000,-999.000,-999.000,  3.7965,-999.000
   318MWESTW_5,  P21W,   278,  1,      6, SI9427,2,19940618,2256,-23.8667, 156.7138, 2216,   1393.7,   3.3369,  34.5575,2,  34.5565,2,    152.5,2,    152.6,2,    85.58,2,    34.33,2,     0.00,2,     2.41,2, -999.000,9, -999.000,9, -999.000,1,-999.0000,1,  -999.00,9,   -999.0,1,-999.000,9,   -999.0,9,   -999.0,9,  -999.00,9,13922.3,-999.0000,-999.000,-999.000,  3.2343,-999.000
   318MWESTW_5,  P21W,   278,  1,      5, SI9405,2,19940618,2256,-23.8667, 156.7138, 2216,   1597.9,   2.8767,  34.5970,2,  34.5975,2,    147.1,2,    146.6,2,    98.64,2,    35.11,2,     0.00,2,     2.46,2, -999.000,9, -999.000,9, -999.000,1,-999.0000,1,  -999.00,9,   -999.0,1,-999.000,9,   -999.0,9,   -999.0,9,  -999.00,9,15951.9,-999.0000,-999.000,-999.000,  2.7621,-999.000
   318MWESTW_5,  P21W,   278,  1,      4, SI9404,2,19940618,2256,-23.8667, 156.7138, 2216,   1799.6,   2.5211,  34.6331,2,  34.6319,2,    151.2,2,    179.0,4,   102.65,2,    34.80,2,     0.00,2,     2.42,2, -999.000,9, -999.000,9, -999.000,1,-999.0000,1,  -999.00,9,   -999.0,1,-999.000,9,   -999.0,9,   -999.0,9,  -999.00,9,17957.4,-999.0000,-999.000,-999.000,  2.3940,-999.000
   318MWESTW_5,  P21W,   278,  1,      3, SI9403,2,19940618,2256,-23.8667, 156.7138, 2216,   1993.4,   2.2969,  34.6631,2,  34.6624,2,    160.2,2,    166.9,4,   100.21,2,    33.91,2,     0.00,2,     2.36,2, -999.000,9, -999.000,9, -999.000,1,-999.0000,1,  -999.00,9,   -999.0,1,-999.000,9,   -999.0,9,   -999.0,9,  -999.00,9,19883.6,-999.0000,-999.000,-999.000,  2.1564,-999.000
   318MWESTW_5,  P21W,   278,  1,      2, SI9437,2,19940618,2256,-23.8667, 156.7138, 2216,   2171.6,   2.1442,  34.6847,2,  34.6838,2,    168.0,2,    169.5,2,    98.47,2,    33.22,2,     0.00,2,     2.31,2, -999.000,9, -999.000,9, -999.000,1,-999.0000,1,  -999.00,9,   -999.0,1,-999.000,9,   -999.0,9,   -999.0,9,  -999.00,9,21654.4,-999.0000,-999.000,-999.000,  1.9906,-999.000
   318MWESTW_5,  P21W,   278,  1,      1, SI9401,2,19940618,2256,-23.8667, 156.7138, 2216,   2216.1,   2.1153,  34.6897,2,  34.6850,3,    168.9,2,    184.1,4,    97.67,2,    33.01,2,     0.00,2,     2.29,2, -999.000,9, -999.000,9, -999.000,1,-999.0000,1,  -999.00,9,   -999.0,1,-999.000,9,   -999.0,9,   -999.0,9,  -999.00,9,22097.2,-999.0000,-999.000,-999.000,  1.9583,-999.000