BOTTLE,20010911WHPSIOdm
EXPOCODE,SECT_ID,STNNBR,CASTNO,SAMPNO,BTLNBR,BTLNBR_FLAG_W,DATE,TIME,LATITUDE,LONGITUDE,DEPTH,CTDPRS,CTDTMP,CTDSAL,CTDSAL_FLAG_W,SALNTY,SALNTY_FLAG_W,CTDOXY,CTDOXY_FLAG_W,OXYGEN,OXYGEN_FLAG_W,SILCAT,SILCAT_FLAG_W,NITRAT,NITRAT_FLAG_W,NITRIT,NITRIT_FLAG_W,PHSPHT,PHSPHT_FLAG_W,CFC-11,CFC-11_FLAG_W,CFC-12,CFC-12_FLAG_W,TRITUM,TRITUM_FLAG_W,HELIUM,HELIUM_FLAG_W,DELHE3,DELHE3_FLAG_W,DELC14,DELC14_FLAG_W,NEON,NEON_FLAG_W,TCARBN,TCARBN_FLAG_W,ALKALI,ALKALI_FLAG_W,PH,PH_FLAG_W,CTDRAW,HELIER,DELHER,NEONER,THETA,TRITER
,,,,,,,,,,,,DBAR,ITS-90,PSS-78,,PSS-78,,UMOL/KG,,UMOL/KG,,UMOL/KG,,UMOL/KG,,UMOL/KG,,UMOL/KG,,PMOL/KG,,PMOL/KG,,TU,,UMOL/KG,,PERCNT,,/MILLE,,NMOL/KG,,UMOL/KG,,UMOL/KG,,,,,NMOL/KG,PERCNT,NMOL/KG,ITS-90,TU
   318MWESTW_4,  P21E,    56,  1,     36, SI9336,2,19940414,0515,-16.7500, -89.3362, 4576,      7.6,  23.4059,  35.9821,2,  35.9823,2,    220.4,2,    218.6,2,     0.10,2,     0.12,2,     0.00,2,     0.36,2,    2.030,2,    1.080,2, -999.000,1,-999.0000,1,  -999.00,9,   -999.0,1,-999.000,9,   -999.0,9,   -999.0,9,  -999.00,9,  114.5,-999.0000,-999.000,-999.000, 23.4043,-999.000
   318MWESTW_4,  P21E,    56,  1,     35, SI9335,2,19940414,0515,-16.7500, -89.3362, 4576,     25.1,  23.4045,  35.9817,2,  35.9819,2,    207.3,2,    218.0,2,     0.12,2,     0.17,2,     0.01,2,     0.37,2,    1.972,2,    1.069,2, -999.000,1,-999.0000,1,  -999.00,9,   -999.0,1,-999.000,9,   -999.0,9,   -999.0,9,  -999.00,9,  289.9,-999.0000,-999.000,-999.000, 23.3993,-999.000
   318MWESTW_4,  P21E,    56,  1,     34, SI9334,2,19940414,0515,-16.7500, -89.3362, 4576,     50.8,  23.2626,  35.9470,2,  35.9742,2,    219.4,2,    221.0,2,     0.13,2,     0.18,2,     0.00,2,     0.37,2,    2.008,2,    1.077,2, -999.000,1,-999.0000,1,  -999.00,9,   -999.0,1,-999.000,9,   -999.0,9,   -999.0,9,  -999.00,9,  546.9,-999.0000,-999.000,-999.000, 23.2521,-999.000
   318MWESTW_4,  P21E,    56,  1,     33, SI9333,2,19940414,0515,-16.7500, -89.3362, 4576,    101.6,  19.3718,  35.6143,2,  35.6346,2,    213.5,2,    212.6,2,     0.67,2,     1.23,2,     0.83,2,     0.56,2,    2.369,2,    1.245,2, -999.000,1,-999.0000,1,  -999.00,9,   -999.0,1,-999.000,9,   -999.0,9,   -999.0,9,  -999.00,9, 1054.0,-999.0000,-999.000,-999.000, 19.3534,-999.000
   318MWESTW_4,  P21E,    56,  1,     32, SI9332,2,19940414,0515,-16.7500, -89.3362, 4576,    151.8,  17.9123,  35.3703,2,  35.3429,2,    202.2,2,    203.1,2,     1.21,2,     5.03,2,     0.03,2,     0.73,2,    2.492,2,    1.290,2, -999.000,1,-999.0000,1,  -999.00,9,   -999.0,1,-999.000,9,   -999.0,9,   -999.0,9,  -999.00,9, 1556.3,-999.0000,-999.000,-999.000, 17.8863,-999.000
   318MWESTW_4,  P21E,    56,  1,     31, SI9331,2,19940414,0515,-16.7500, -89.3362, 4576,    201.0,  13.6687,  34.7244,2,  34.7140,2,    148.1,2,    148.3,2,     4.75,2,    13.34,2,     0.00,2,     1.30,2,    2.113,2,    1.018,2, -999.000,1,-999.0000,1,  -999.00,9,   -999.0,1,-999.000,9,   -999.0,9,   -999.0,9,  -999.00,9, 2047.1,-999.0000,-999.000,-999.000, 13.6402,-999.000
   318MWESTW_4,  P21E,    56,  1,     30, SI9330,2,19940414,0515,-16.7500, -89.3362, 4576,    252.8,  11.6851,  34.6505,2,  34.6423,2,     48.4,2,     46.3,2,    17.70,2,    22.40,2,     0.00,2,     2.34,2,    0.803,2,    0.377,2, -999.000,1,-999.0000,1,  -999.00,9,   -999.0,1,-999.000,9,   -999.0,9,   -999.0,9,  -999.00,9, 2564.8,-999.0000,-999.000,-999.000, 11.6527,-999.000
   318MWESTW_4,  P21E,    56,  1,     29, SI9329,2,19940414,0515,-16.7500, -89.3362, 4576,    305.0,  10.5187,  34.6537,2,  34.6582,2,     15.2,2,     15.4,2,    23.61,2,    29.68,2,     0.00,2,     2.65,2,    0.214,2,    0.093,2, -999.000,1,-999.0000,1,  -999.00,9,   -999.0,1,-999.000,9,   -999.0,9,   -999.0,9,  -999.00,9, 3086.6,-999.0000,-999.000,-999.000, 10.4821,-999.000
   318MWESTW_4,  P21E,    56,  1,     28, SI9328,2,19940414,0515,-16.7500, -89.3362, 4576,    405.9,   8.6633,  34.5795,2,  34.5895,2,     21.4,2,     20.6,2,    28.37,2,    37.19,2,     0.00,2,     2.78,2,    0.047,2,    0.021,2, -999.000,1,-999.0000,1,  -999.00,9,   -999.0,1,-999.000,9,   -999.0,9,   -999.0,9,  -999.00,9, 4094.1,-999.0000,-999.000,-999.000,  8.6199,-999.000
   318MWESTW_4,  P21E,    56,  1,     27, SI9327,2,19940414,0515,-16.7500, -89.3362, 4576,    498.8,   7.3124,  34.5129,2,  34.5256,2,     46.6,2,     43.4,2,    32.25,2,    39.42,2,     0.00,2,     2.78,2,    0.019,2,    0.002,2, -999.000,1,-999.0000,1,  -999.00,9,   -999.0,1,-999.000,9,   -999.0,9,   -999.0,9,  -999.00,9, 5021.8,-999.0000,-999.000,-999.000,  7.2639,-999.000
   318MWESTW_4,  P21E,    56,  1,     26, SI9326,2,19940414,0515,-16.7500, -89.3362, 4576,    605.6,   6.2515,  34.4865,2,  34.4879,2,     57.0,2,     55.9,2,    39.31,2,    40.98,2,     0.00,2,     2.86,2,    0.003,2,   -0.003,2, -999.000,1,-999.0000,1,  -999.00,9,   -999.0,1,-999.000,9,   -999.0,9,   -999.0,9,  -999.00,9, 6089.0,-999.0000,-999.000,-999.000,  6.1970,-999.000
   318MWESTW_4,  P21E,    56,  1,     25, SI9325,2,19940414,0515,-16.7500, -89.3362, 4576,    703.6,   5.6495,  34.4862,2,  34.4891,2,     52.7,2,     52.4,2,    48.82,2,    42.54,2,     0.00,2,     2.98,2,    0.000,2,   -0.003,2, -999.000,1,-999.0000,1,  -999.00,9,   -999.0,1,-999.000,9,   -999.0,9,   -999.0,9,  -999.00,9, 7067.1,-999.0000,-999.000,-999.000,  5.5889,-999.000
   318MWESTW_4,  P21E,    56,  1,     24, SI9324,2,19940414,0515,-16.7500, -89.3362, 4576,    797.9,   5.1229,  34.4950,2,  34.4983,2,     50.4,2,     51.4,2,    59.38,2,    43.37,2,     0.00,2,     3.05,2,   -0.004,2,   -0.004,2, -999.000,1,-999.0000,1,  -999.00,9,   -999.0,1,-999.000,9,   -999.0,9,   -999.0,9,  -999.00,9, 8009.0,-999.0000,-999.000,-999.000,  5.0569,-999.000
   318MWESTW_4,  P21E,    56,  1,     23, SI9323,2,19940414,0515,-16.7500, -89.3362, 4576,    902.3,   4.6619,  34.5086,2,  34.5103,2,     59.8,2,     59.7,2,    68.54,2,    43.04,2,     0.00,2,     3.04,2,   -0.003,2,   -0.004,2, -999.000,1,-999.0000,1,  -999.00,9,   -999.0,1,-999.000,9,   -999.0,9,   -999.0,9,  -999.00,9, 9052.4,-999.0000,-999.000,-999.000,  4.5897,-999.000
   318MWESTW_4,  P21E,    56,  1,     22, SI9322,2,19940414,0515,-16.7500, -89.3362, 4576,   1004.7,   4.2860,  34.5245,2,  34.5254,3,     67.8,2,     68.3,2,    76.99,2,    42.32,2,     0.00,2,     3.00,2,   -0.003,2,   -0.004,2, -999.000,1,-999.0000,1,  -999.00,9,   -999.0,1,-999.000,9,   -999.0,9,   -999.0,9,  -999.00,9,10074.9,-999.0000,-999.000,-999.000,  4.2077,-999.000
   318MWESTW_4,  P21E,    56,  1,     21, SI9321,2,19940414,0515,-16.7500, -89.3362, 4576,   1106.6,   3.8871,  34.5413,2,  34.5404,2,     74.8,2,     75.0,2,    86.15,2,    41.82,2,     0.00,2,     2.97,2, -999.000,9, -999.000,9, -999.000,1,-999.0000,1,  -999.00,9,   -999.0,1,-999.000,9,   -999.0,9,   -999.0,9,  -999.00,9,11092.8,-999.0000,-999.000,-999.000,  3.8034,-999.000
   318MWESTW_4,  P21E,    56,  1,     20, SI9320,2,19940414,0515,-16.7500, -89.3362, 4576,   1205.0,   3.5428,  34.5566,2,  34.5573,2,     80.9,2,     81.4,2,    94.42,2,    41.37,2,     0.01,2,     2.95,2, -999.000,9, -999.000,9, -999.000,1,-999.0000,1,  -999.00,9,   -999.0,1,-999.000,9,   -999.0,9,   -999.0,9,  -999.00,9,12075.6,-999.0000,-999.000,-999.000,  3.4539,-999.000
   318MWESTW_4,  P21E,    56,  1,     19, SI9319,2,19940414,0515,-16.7500, -89.3362, 4576,   1302.4,   3.2797,  34.5685,2,  34.5692,2,     87.4,2,     88.4,2,   100.06,2,    40.75,2,     0.01,2,     2.90,2, -999.000,9, -999.000,9, -999.000,1,-999.0000,1,  -999.00,9,   -999.0,1,-999.000,9,   -999.0,9,   -999.0,9,  -999.00,9,13049.3,-999.0000,-999.000,-999.000,  3.1853,-999.000
   318MWESTW_4,  P21E,    56,  1,     18, SI9318,2,19940414,0515,-16.7500, -89.3362, 4576,   1405.6,   3.0303,  34.5869,2,  34.5887,2,     90.6,2,     90.7,2,   107.98,2,    40.54,2,     0.01,2,     2.89,2, -999.000,9, -999.000,9, -999.000,1,-999.0000,1,  -999.00,9,   -999.0,1,-999.000,9,   -999.0,9,   -999.0,9,  -999.00,9,14080.2,-999.0000,-999.000,-999.000,  2.9299,-999.000
   318MWESTW_4,  P21E,    56,  1,     17, SI9317,2,19940414,0515,-16.7500, -89.3362, 4576,   1554.4,   2.7738,  34.6045,2,  34.6066,2,     90.9,2,     92.5,2,   117.48,2,    40.38,2,     0.00,2,     2.89,2, -999.000,9, -999.000,9, -999.000,1,-999.0000,1,  -999.00,9,   -999.0,1,-999.000,9,   -999.0,9,   -999.0,9,  -999.00,9,15566.2,-999.0000,-999.000,-999.000,  2.6640,-999.000
   318MWESTW_4,  P21E,    56,  1,     16, SI9316,2,19940414,0515,-16.7500, -89.3362, 4576,   1701.4,   2.5444,  34.6176,2,  34.6209,2,     98.4,2,    101.3,2,   122.59,2,    39.56,2,    -0.01,2,     2.82,2, -999.000,9, -999.000,9, -999.000,1,-999.0000,1,  -999.00,9,   -999.0,1,-999.000,9,   -999.0,9,   -999.0,9,  -999.00,9,17035.2,-999.0000,-999.000,-999.000,  2.4253,-999.000
   318MWESTW_4,  P21E,    56,  1,     15, SI9315,2,19940414,0515,-16.7500, -89.3362, 4576,   1903.8,   2.2948,  34.6360,2,  34.6364,2,    113.0,2,    113.1,2,   127.17,2,    38.49,2,     0.00,2,     2.75,2, -999.000,9, -999.000,9, -999.000,1,-999.0000,1,  -999.00,9,   -999.0,1,-999.000,9,   -999.0,9,   -999.0,9,  -999.00,9,19056.6,-999.0000,-999.000,-999.000,  2.1621,-999.000
   318MWESTW_4,  P21E,    56,  1,     14, SI9314,2,19940414,0515,-16.7500, -89.3362, 4576,   2105.2,   2.1106,  34.6487,2,  34.6496,2,    126.3,2,    125.1,2,   127.53,2,    37.55,2,    -0.01,2,     2.65,2, -999.000,9, -999.000,9, -999.000,1,-999.0000,1,  -999.00,9,   -999.0,1,-999.000,9,   -999.0,9,   -999.0,9,  -999.00,9,21069.4,-999.0000,-999.000,-999.000,  1.9634,-999.000
   318MWESTW_4,  P21E,    56,  1,     13, SI9313,2,19940414,0515,-16.7500, -89.3362, 4576,   2300.5,   1.9768,  34.6610,2,  34.6600,2,    137.1,2,    132.5,2,   129.29,2,    36.94,2,     0.00,2,     2.60,2, -999.000,9, -999.000,9, -999.000,1,-999.0000,1,  -999.00,9,   -999.0,1,-999.000,9,   -999.0,9,   -999.0,9,  -999.00,9,23020.5,-999.0000,-999.000,-999.000,  1.8148,-999.000
   318MWESTW_4,  P21E,    56,  1,     12, SI9312,2,19940414,0515,-16.7500, -89.3362, 4576,   2495.7,   1.8828,  34.6685,2,  34.6684,2,    138.6,2,    137.5,2,   131.42,2,    36.59,2,     0.01,2,     2.57,2, -999.000,9, -999.000,9, -999.000,1,-999.0000,1,  -999.00,9,   -999.0,1,-999.000,9,   -999.0,9,   -999.0,9,  -999.00,9,24970.6,-999.0000,-999.000,-999.000,  1.7050,-999.000
   318MWESTW_4,  P21E,    56,  1,     11, SI9311,2,19940414,0515,-16.7500, -89.3362, 4576,   2696.2,   1.8319,  34.6745,2,  34.6737,2,    142.1,2,    140.5,2,   132.61,2,    36.48,2,     0.00,2,     2.55,2, -999.000,9, -999.000,9, -999.000,1,-999.0000,1,  -999.00,9,   -999.0,1,-999.000,9,   -999.0,9,   -999.0,9,  -999.00,9,26974.3,-999.0000,-999.000,-999.000,  1.6367,-999.000
   318MWESTW_4,  P21E,    56,  1,     10, SI9310,2,19940414,0515,-16.7500, -89.3362, 4576,   2894.7,   1.8093,  34.6773,2,  34.6769,2,    141.3,2,    140.5,2,   134.64,2,    36.50,2,     0.01,2,     2.54,2, -999.000,9, -999.000,9, -999.000,1,-999.0000,1,  -999.00,9,   -999.0,1,-999.000,9,   -999.0,9,   -999.0,9,  -999.00,9,28958.0,-999.0000,-999.000,-999.000,  1.5958,-999.000
   318MWESTW_4,  P21E,    56,  1,      9, SI9309,2,19940414,0515,-16.7500, -89.3362, 4576,   3096.0,   1.7931,  34.6802,2,  34.6800,2,    141.2,2,    140.9,2,   135.97,2,    36.63,2,     0.01,2,     2.56,2, -999.000,9, -999.000,9, -999.000,1,-999.0000,1,  -999.00,9,   -999.0,1,-999.000,9,   -999.0,9,   -999.0,9,  -999.00,9,30969.2,-999.0000,-999.000,-999.000,  1.5605,-999.000
   318MWESTW_4,  P21E,    56,  1,      8, SI9308,2,19940414,0515,-16.7500, -89.3362, 4576,   3297.6,   1.7853,  34.6823,2,  34.6836,2,    141.0,2,    142.2,2,   136.19,2,    36.36,2,     0.02,2,     2.54,2, -999.000,9, -999.000,9, -999.000,1,-999.0000,1,  -999.00,9,   -999.0,1,-999.000,9,   -999.0,9,   -999.0,9,  -999.00,9,32984.1,-999.0000,-999.000,-999.000,  1.5327,-999.000
   318MWESTW_4,  P21E,    56,  1,      7, SI9307,2,19940414,0515,-16.7500, -89.3362, 4576,   3502.9,   1.7789,  34.6843,2,  34.6842,2,    143.8,2,    144.9,2,   134.97,2,    36.04,2,     0.01,2,     2.52,2, -999.000,9, -999.000,9, -999.000,1,-999.0000,1,  -999.00,9,   -999.0,1,-999.000,9,   -999.0,9,   -999.0,9,  -999.00,9,35035.5,-999.0000,-999.000,-999.000,  1.5054,-999.000
   318MWESTW_4,  P21E,    56,  1,      6, SI9306,2,19940414,0515,-16.7500, -89.3362, 4576,   3701.0,   1.7707,  34.6867,2,  34.6863,2,    139.1,4,    148.1,2,   133.05,2,    35.83,2,     0.00,2,     2.51,2, -999.000,9, -999.000,9, -999.000,1,-999.0000,1,  -999.00,9,   -999.0,1,-999.000,9,   -999.0,9,   -999.0,9,  -999.00,9,37015.9,-999.0000,-999.000,-999.000,  1.4766,-999.000
   318MWESTW_4,  P21E,    56,  1,      5, SI9305,2,19940414,0515,-16.7500, -89.3362, 4576,   3898.6,   1.7632,  34.6884,2,  34.6885,2,    143.2,4,    151.2,2,   130.95,2,    35.50,2,     0.00,2,     2.48,2, -999.000,9, -999.000,9, -999.000,1,-999.0000,1,  -999.00,9,   -999.0,1,-999.000,9,   -999.0,9,   -999.0,9,  -999.00,9,38991.1,-999.0000,-999.000,-999.000,  1.4480,-999.000
   318MWESTW_4,  P21E,    56,  1,      4, SI9304,2,19940414,0515,-16.7500, -89.3362, 4576,   4149.1,   1.7763,  34.6894,2,  34.6899,2,    143.6,4,    152.5,2,   130.26,2,    35.49,2,     0.01,2,     2.47,2, -999.000,9, -999.000,9, -999.000,1,-999.0000,1,  -999.00,9,   -999.0,1,-999.000,9,   -999.0,9,   -999.0,9,  -999.00,9,41494.5,-999.0000,-999.000,-999.000,  1.4330,-999.000
   318MWESTW_4,  P21E,    56,  1,      3, SI9303,2,19940414,0515,-16.7500, -89.3362, 4576,   4401.0,   1.8008,  34.6901,2,  34.6905,2,    143.6,4,    152.4,2,   129.92,2,    35.49,2,     0.01,2,     2.46,2, -999.000,9, -999.000,9, -999.000,1,-999.0000,1,  -999.00,9,   -999.0,1,-999.000,9,   -999.0,9,   -999.0,9,  -999.00,9,44012.8,-999.0000,-999.000,-999.000,  1.4280,-999.000
   318MWESTW_4,  P21E,    56,  1,      2, SI9302,2,19940414,0515,-16.7500, -89.3362, 4576,   4582.4,   1.8219,  34.6900,2,  34.6887,2,    143.5,4,    152.4,2,   129.93,2,    35.49,2,     0.01,2,     2.47,2, -999.000,9, -999.000,9, -999.000,1,-999.0000,1,  -999.00,9,   -999.0,1,-999.000,9,   -999.0,9,   -999.0,9,  -999.00,9,45826.2,-999.0000,-999.000,-999.000,  1.4272,-999.000
   318MWESTW_4,  P21E,    56,  1,      1, SI9301,2,19940414,0515,-16.7500, -89.3362, 4576,   4622.2,   1.8269,  34.6899,2,  34.6897,2,    141.9,4,    152.1,2,   130.04,2,    35.48,2,     0.01,2,     2.48,2, -999.000,9, -999.000,9, -999.000,1,-999.0000,1,  -999.00,9,   -999.0,1,-999.000,9,   -999.0,9,   -999.0,9,  -999.00,9,46224.2,-999.0000,-999.000,-999.000,  1.4274,-999.000