BOTTLE,20010911WHPSIOdm
EXPOCODE,SECT_ID,STNNBR,CASTNO,SAMPNO,BTLNBR,BTLNBR_FLAG_W,DATE,TIME,LATITUDE,LONGITUDE,DEPTH,CTDPRS,CTDTMP,CTDSAL,CTDSAL_FLAG_W,SALNTY,SALNTY_FLAG_W,CTDOXY,CTDOXY_FLAG_W,OXYGEN,OXYGEN_FLAG_W,SILCAT,SILCAT_FLAG_W,NITRAT,NITRAT_FLAG_W,NITRIT,NITRIT_FLAG_W,PHSPHT,PHSPHT_FLAG_W,CFC-11,CFC-11_FLAG_W,CFC-12,CFC-12_FLAG_W,TRITUM,TRITUM_FLAG_W,HELIUM,HELIUM_FLAG_W,DELHE3,DELHE3_FLAG_W,DELC14,DELC14_FLAG_W,NEON,NEON_FLAG_W,TCARBN,TCARBN_FLAG_W,ALKALI,ALKALI_FLAG_W,PH,PH_FLAG_W,CTDRAW,HELIER,DELHER,NEONER,THETA,TRITER
,,,,,,,,,,,,DBAR,ITS-90,PSS-78,,PSS-78,,UMOL/KG,,UMOL/KG,,UMOL/KG,,UMOL/KG,,UMOL/KG,,UMOL/KG,,PMOL/KG,,PMOL/KG,,TU,,UMOL/KG,,PERCNT,,/MILLE,,NMOL/KG,,UMOL/KG,,UMOL/KG,,,,,NMOL/KG,PERCNT,NMOL/KG,ITS-90,TU
   318MWESTW_4,  P21E,    28,  1,     34, SI9334,2,19940404,1317,-16.7472, -77.9972, 2811,      8.0,  23.5265,  35.4649,2,  35.4815,2,    210.0,2,    216.9,2,     0.71,2,     0.10,2,     0.00,2,     0.53,2, -999.000,9, -999.000,9, -999.000,1,   1.6933,2,    -1.51,2,   -999.0,1,   6.779,2,   2051.8,2,   2358.0,2,     8.03,2,  126.1,  0.0085,   0.080,   0.034, 23.5248,-999.000
   318MWESTW_4,  P21E,    28,  1,     33, SI9333,2,19940404,1317,-16.7472, -77.9972, 2811,     25.8,  23.5251,  35.4645,2,  35.4787,2,    216.0,2,    215.5,2,     0.92,2,     0.04,2,     0.01,2,     0.53,2, -999.000,9, -999.000,9, -999.000,1,   1.6962,2,    -1.15,2,   -999.0,1,   6.788,2,   2049.8,2,   2359.0,2,     8.03,2,  303.9,  0.0085,   0.080,   0.034, 23.5197,-999.000
   318MWESTW_4,  P21E,    28,  1,     32, SI9332,2,19940404,1317,-16.7472, -77.9972, 2811,     49.7,  19.3073,  35.2028,2,  35.1935,2,    245.3,2,    243.9,2,     1.11,2,     0.00,2,     0.00,2,     0.46,2, -999.000,9, -999.000,9, -999.000,1,   1.7386,2,    -1.51,2,   -999.0,1,   7.101,2,   2050.8,2,   2337.0,2,     8.00,2,  542.9,  0.0087,   0.080,   0.036, 19.2983,-999.000
   318MWESTW_4,  P21E,    28,  1,     31, SI9331,2,19940404,1317,-16.7472, -77.9972, 2811,     99.7,  16.6142,  35.1551,2,  35.1110,2,    190.7,3,    155.6,2,     5.39,2,    11.52,2,     0.16,2,     1.38,2,    2.332,2,    1.123,2, -999.000,1,   1.7377,2,    -0.87,2,   -999.0,1,   7.157,2,   2147.8,2,   2321.0,2,     7.77,2, 1043.1,  0.0087,   0.080,   0.036, 16.5980,-999.000
   318MWESTW_4,  P21E,    28,  1,     30, SI9330,2,19940404,1317,-16.7472, -77.9972, 2811,    148.2,  13.4574,  34.8349,2,  34.8412,2,     21.6,2,      7.8,2,    20.80,2,    19.76,2,     0.03,2,     2.58,2,    0.981,2,    0.448,2, -999.000,1,   1.7548,2,     2.98,2,   -999.0,1,   7.340,2,   2251.9,2,   2306.0,2,     7.47,2, 1527.2,  0.0088,   0.080,   0.037, 13.4366,-999.000
   318MWESTW_4,  P21E,    28,  1,     29, SI9329,2,19940404,1317,-16.7472, -77.9972, 2811,    198.6,  12.5141,  34.8352,2,  34.8326,2,      3.2,2,      1.2,2,    26.55,2,    18.79,2,     0.00,2,     2.72,2, -999.000,9, -999.000,9, -999.000,1,   1.8885,2,     3.62,2,   -999.0,1,   7.845,2,   2265.9,2,   2309.0,2,     7.44,2, 2030.7,  0.0094,   0.080,   0.039, 12.4875,-999.000
   318MWESTW_4,  P21E,    28,  1,     28, SI9328,2,19940404,1317,-16.7472, -77.9972, 2811,    247.8,  11.7424,  34.8043,2,  34.7988,2,      2.6,2,      0.8,2,    27.32,2,    23.73,2,     0.70,2,     2.72,2,    0.213,2,    0.114,2, -999.000,1,   1.7705,2,     3.62,2,   -999.0,1,   7.432,2,   2269.0,2,   2305.0,2,     7.42,2, 2523.0,  0.0089,   0.080,   0.037, 11.7105,-999.000
   318MWESTW_4,  P21E,    28,  1,     27, SI9327,2,19940404,1317,-16.7472, -77.9972, 2811,    297.3,  10.8274,  34.7441,2,  34.7390,2,      2.8,2,      3.3,2,    27.88,2,    29.13,2,     0.01,2,     2.75,2,    0.136,2,    0.063,2, -999.000,1,   1.7764,2,     3.17,2,   -999.0,1,   7.502,2,   2273.0,2,   2302.0,2,     7.40,2, 3017.5,  0.0089,   0.080,   0.038, 10.7911,-999.000
   318MWESTW_4,  P21E,    28,  1,     26, SI9326,2,19940404,1317,-16.7472, -77.9972, 2811,    396.0,   9.1642,  34.6518,2,  34.6437,2,      5.0,2,      6.3,2,    31.61,2,    36.88,2,     0.00,2,     2.87,2,    0.047,2,    0.015,2, -999.000,1,   1.7857,2,     3.60,2,   -999.0,1,   7.549,2,   2280.0,2,   2301.0,2,     7.38,2, 4003.4,  0.0089,   0.080,   0.038,  9.1204,-999.000
   318MWESTW_4,  P21E,    28,  1,     25, SI9325,2,19940404,1317,-16.7472, -77.9972, 2811,    499.5,   7.5108,  34.5688,2,  34.5557,2,     18.3,2,     24.3,2,    37.00,2,    41.00,2,     0.00,2,     2.98,2,    0.021,2,    0.006,2, -999.000,1,   1.7965,2,     4.84,2,   -999.0,1,   7.640,2,   2280.0,2,   2303.0,2,     7.38,2, 5036.5,  0.0090,   0.090,   0.038,  7.4614,-999.000
   318MWESTW_4,  P21E,    28,  1,     24, SI9324,2,19940404,1317,-16.7472, -77.9972, 2811,    602.0,   6.5569,  34.5248,2,  34.5166,2,     30.6,2,     33.3,2,    43.14,2,    42.34,2,     0.01,2,     3.04,2,    0.008,2,   -0.004,2, -999.000,1,   1.8025,2,     6.17,2,   -999.0,1,   7.702,2,   2283.0,2,   2308.0,2,     7.39,2, 6060.5,  0.0090,   0.090,   0.039,  6.5013,-999.000
   318MWESTW_4,  P21E,    28,  1,     23, SI9323,2,19940404,1317,-16.7472, -77.9972, 2811,    704.4,   6.0221,  34.5388,2,  34.5362,2,     18.8,2,     20.1,2,    56.49,2,    44.40,2,     0.00,2,     3.23,2,    0.006,2,   -0.004,2, -999.000,1,   1.8201,2,     9.45,2,   -999.0,1,   7.757,2,   2304.0,2,   2322.0,2,     7.36,2, 7083.3,  0.0091,   0.090,   0.039,  5.9594,-999.000
   318MWESTW_4,  P21E,    28,  1,     22, SI9322,2,19940404,1317,-16.7472, -77.9972, 2811,    794.8,   5.4583,  34.5308,2,  34.5176,2,     25.7,2,     33.0,2,    60.76,2,    44.23,2,    -0.01,2,     3.20,2,    0.001,2,   -0.004,2, -999.000,1,   1.8310,2,    10.48,2,   -999.0,1,   7.805,2,   2303.0,2,   -999.0,9,  -999.00,9, 7986.1,  0.0092,   0.090,   0.039,  5.3904,-999.000
   318MWESTW_4,  P21E,    28,  1,     21, SI9321,2,19940404,1317,-16.7472, -77.9972, 2811,    891.0,   5.0131,  34.5416,2,  34.5435,2,     36.1,2,     37.1,2,    74.68,2,    44.00,2,    -0.01,2,     3.21,2,    0.000,2,   -0.004,2, -999.000,1,-999.0000,1,  -999.00,9,   -999.0,1,-999.000,9,   2316.0,2,   2341.0,2,     7.39,2, 8947.4,-999.0000,-999.000,-999.000,  4.9394,-999.000
   318MWESTW_4,  P21E,    28,  1,     20, SI9320,2,19940404,1317,-16.7472, -77.9972, 2811,    997.3,   4.3517,  34.5370,2,  34.5351,2,     55.4,2,     55.4,2,    80.99,2,    43.12,2,     0.00,2,     3.12,2,   -0.002,2,   -0.004,2, -999.000,1,   1.8551,2,    15.95,2,   -999.0,1,   7.897,2,   2314.0,2,   2349.0,2,     7.42,2,10009.1,  0.0093,   0.090,   0.039,  4.2735,-999.000
   318MWESTW_4,  P21E,    28,  1,     19, SI9319,2,19940404,1317,-16.7472, -77.9972, 2811,   1099.8,   4.0159,  34.5503,2,  34.5472,2,     63.9,2,     63.4,2,    89.16,2,    42.65,2,     0.00,2,     3.09,2, -999.000,9, -999.000,9, -999.000,1,-999.0000,1,  -999.00,9,   -999.0,1,-999.000,9,   2322.0,2,   2358.0,2,     7.43,2,11032.6,-999.0000,-999.000,-999.000,  3.9316,-999.000
   318MWESTW_4,  P21E,    28,  1,     18, SI9318,2,19940404,1317,-16.7472, -77.9972, 2811,   1199.0,   3.7233,  34.5641,2,  34.5631,2,     67.8,2,     67.8,2,    97.69,2,    42.17,2,     0.01,2,     3.07,2, -999.000,9, -999.000,9, -999.000,1,   1.8739,2,    19.74,2,   -999.0,1,   7.905,2,   2328.0,2,   2367.0,2,     7.44,2,12024.1,  0.0094,   0.100,   0.040,  3.6332,-999.000
   318MWESTW_4,  P21E,    28,  1,     17, SI9317,2,19940404,1317,-16.7472, -77.9972, 2811,   1302.7,   3.4434,  34.5733,2,  34.5710,2,     74.8,2,     75.2,2,   102.52,2,    41.64,2,     0.01,2,     3.02,2, -999.000,9, -999.000,9, -999.000,1,-999.0000,1,  -999.00,9,   -999.0,1,-999.000,9,   2327.0,2,   2373.0,2,     7.45,2,13059.6,-999.0000,-999.000,-999.000,  3.3473,-999.000
   318MWESTW_4,  P21E,    28,  1,     16, SI9316,3,19940404,1317,-16.7472, -77.9972, 2811,   1400.5,   3.2231,  34.5852,2,  34.5832,2,     81.1,2,     80.9,2,   108.28,2,    41.18,2,     0.00,2,     2.99,2, -999.000,9, -999.000,9, -999.000,1,-999.0000,1,  -999.00,9,   -999.0,1,-999.000,9,   2333.0,2,   2379.0,2,     7.46,2,14036.5,-999.0000,-999.000,-999.000,  3.1211,-999.000
   318MWESTW_4,  P21E,    28,  1,     15, SI9315,2,19940404,1317,-16.7472, -77.9972, 2811,   1499.2,   3.0065,  34.5976,2,  34.5948,2,     85.1,2,     85.6,2,   113.85,2,    40.50,2,    -0.01,2,     2.95,2, -999.000,9, -999.000,9, -999.000,1,   1.9049,2,    23.26,2,   -999.0,1,   8.047,2,   2336.0,2,   2386.0,2,     7.47,2,15023.0,  0.0095,   0.100,   0.040,  2.8986,-999.000
   318MWESTW_4,  P21E,    28,  1,     14, SI9314,2,19940404,1317,-16.7472, -77.9972, 2811,   1600.0,   2.8148,  34.6049,2,  34.6036,2,     93.2,2,     93.0,2,   117.00,2,    39.73,2,    -0.01,2,     2.90,2, -999.000,9, -999.000,9, -999.000,1,-999.0000,1,  -999.00,9,   -999.0,1,-999.000,9,   2334.0,2,   2390.0,2,     7.49,2,16029.8,-999.0000,-999.000,-999.000,  2.7007,-999.000
   318MWESTW_4,  P21E,    28,  1,     13, SI9313,2,19940404,1317,-16.7472, -77.9972, 2811,   1694.9,   2.6543,  34.6165,2,  34.6189,3,     97.7,2,     97.6,2,   121.65,2,    39.44,2,    -0.01,2,     2.86,2, -999.000,9, -999.000,9, -999.000,1,-999.0000,1,  -999.00,9,   -999.0,1,-999.000,9,   2336.0,2,   2395.0,2,     7.50,2,16977.8,-999.0000,-999.000,-999.000,  2.5343,-999.000
   318MWESTW_4,  P21E,    28,  1,     12, SI9312,2,19940404,1317,-16.7472, -77.9972, 2811,   1797.6,   2.4882,  34.6283,2,  34.6256,2,    103.2,2,    102.7,2,   125.92,2,    39.10,2,    -0.01,2,     2.82,2, -999.000,9, -999.000,9, -999.000,1,-999.0000,1,  -999.00,9,   -999.0,1,-999.000,9,   2333.0,2,   2400.0,2,     7.51,2,18003.5,-999.0000,-999.000,-999.000,  2.3617,-999.000
   318MWESTW_4,  P21E,    28,  1,     11, SI9311,2,19940404,1317,-16.7472, -77.9972, 2811,   1905.2,   2.3644,  34.6363,2,  34.6343,2,    108.5,2,    107.0,2,   128.90,2,    38.86,2,    -0.01,2,     2.79,2, -999.000,9, -999.000,9, -999.000,1,-999.0000,1,  -999.00,9,   -999.0,1,-999.000,9,   2339.0,2,   2397.0,3,     7.50,2,19078.7,-999.0000,-999.000,-999.000,  2.2305,-999.000
   318MWESTW_4,  P21E,    28,  1,     10, SI9310,2,19940404,1317,-16.7472, -77.9972, 2811,   1997.6,   2.2705,  34.6431,2,  34.6405,2,    112.1,2,    112.0,2,   129.65,2,    38.62,2,     0.00,2,     2.75,2, -999.000,9, -999.000,9, -999.000,1,-999.0000,1,  -999.00,9,   -999.0,1,-999.000,9,   2335.0,2,   2405.0,2,     7.53,2,20001.5,-999.0000,-999.000,-999.000,  2.1301,-999.000
   318MWESTW_4,  P21E,    28,  1,      9, SI9309,2,19940404,1317,-16.7472, -77.9972, 2811,   2098.4,   2.1816,  34.6492,2,  34.6470,2,    116.9,2,    116.2,2,   131.14,2,    38.33,2,     0.00,2,     2.72,2, -999.000,9, -999.000,9, -999.000,1,-999.0000,1,  -999.00,9,   -999.0,1,-999.000,9,   -999.0,9,   -999.0,9,  -999.00,9,21008.6,-999.0000,-999.000,-999.000,  2.0339,-999.000
   318MWESTW_4,  P21E,    28,  1,      8, SI9308,2,19940404,1317,-16.7472, -77.9972, 2811,   2196.6,   2.0866,  34.6552,2,  34.6535,2,    122.5,2,    122.2,2,   131.71,2,    37.87,2,     0.00,2,     2.67,2, -999.000,9, -999.000,9, -999.000,1,-999.0000,1,  -999.00,9,   -999.0,1,-999.000,9,   -999.0,9,   -999.0,9,  -999.00,9,21989.9,-999.0000,-999.000,-999.000,  1.9319,-999.000
   318MWESTW_4,  P21E,    28,  1,      7, SI9307,2,19940404,1317,-16.7472, -77.9972, 2811,   2301.7,   1.9994,  34.6600,2,  34.6592,2,    131.4,2,    131.6,2,   129.69,2,    37.11,2,    -0.01,2,     2.61,2, -999.000,9, -999.000,9, -999.000,1,-999.0000,1,  -999.00,9,   -999.0,1,-999.000,9,   2325.0,2,   2410.0,2,     7.55,2,23040.2,-999.0000,-999.000,-999.000,  1.8369,-999.000
   318MWESTW_4,  P21E,    28,  1,      6, SI9306,2,19940404,1317,-16.7472, -77.9972, 2811,   2402.6,   1.9428,  34.6647,2,  34.6641,2,    137.6,2,    137.2,2,   128.58,2,    36.69,2,     0.00,2,     2.58,2, -999.000,9, -999.000,9, -999.000,1,-999.0000,1,  -999.00,9,   -999.0,1,-999.000,9,   2321.0,2,   2408.0,2,     7.57,2,24048.5,-999.0000,-999.000,-999.000,  1.7723,-999.000
   318MWESTW_4,  P21E,    28,  1,      5, SI9305,2,19940404,1317,-16.7472, -77.9972, 2811,   2499.5,   1.8877,  34.6698,2,  34.6684,2,    139.9,2,    140.2,2,   129.52,2,    36.30,2,    -0.01,2,     2.55,2, -999.000,9, -999.000,9, -999.000,1,-999.0000,1,  -999.00,9,   -999.0,1,-999.000,9,   -999.0,9,   -999.0,9,     7.58,2,25016.8,-999.0000,-999.000,-999.000,  1.7095,-999.000
   318MWESTW_4,  P21E,    28,  1,      4, SI9304,2,19940404,1317,-16.7472, -77.9972, 2811,   2597.7,   1.8409,  34.6739,2,  34.6732,2,    144.5,2,    144.5,2,   129.17,2,    36.02,2,    -0.02,2,     2.52,2, -999.000,9, -999.000,9, -999.000,1,-999.0000,1,  -999.00,9,   -999.0,1,-999.000,9,   2318.0,2,   -999.0,9,     7.58,2,25997.3,-999.0000,-999.000,-999.000,  1.6546,-999.000
   318MWESTW_4,  P21E,    28,  1,      3, SI9303,2,19940404,1317,-16.7472, -77.9972, 2811,   2699.2,   1.8114,  34.6772,2,  34.6765,2,    144.0,2,    144.3,2,   131.21,2,    35.96,2,    -0.02,2,     2.51,2, -999.000,9, -999.000,9, -999.000,1,-999.0000,1,  -999.00,9,   -999.0,1,-999.000,9,   2320.0,2,   2413.0,2,     7.57,2,27012.0,-999.0000,-999.000,-999.000,  1.6163,-999.000
   318MWESTW_4,  P21E,    28,  1,      2, SI9302,2,19940404,1317,-16.7472, -77.9972, 2811,   2749.6,   1.7978,  34.6790,2,  34.6771,2,    144.0,2,    144.3,2,   132.15,2,    36.01,2,    -0.01,2,     2.51,2, -999.000,9, -999.000,9, -999.000,1,-999.0000,1,  -999.00,9,   -999.0,1,-999.000,9,   2321.0,2,   2413.0,2,     7.58,2,27515.3,-999.0000,-999.000,-999.000,  1.5983,-999.000
   318MWESTW_4,  P21E,    28,  1,      1, SI9301,2,19940404,1317,-16.7472, -77.9972, 2811,   2800.8,   1.7881,  34.6800,2,  34.6794,2,    142.1,2,    143.6,2,   132.74,2,    36.28,2,     0.00,2,     2.54,2, -999.000,9, -999.000,9, -999.000,1,-999.0000,1,  -999.00,9,   -999.0,1,-999.000,9,   2320.0,2,   2415.0,2,     7.58,2,28027.4,-999.0000,-999.000,-999.000,  1.5840,-999.000