BOTTLE,20010911WHPSIOdm
EXPOCODE,SECT_ID,STNNBR,CASTNO,SAMPNO,BTLNBR,BTLNBR_FLAG_W,DATE,TIME,LATITUDE,LONGITUDE,DEPTH,CTDPRS,CTDTMP,CTDSAL,CTDSAL_FLAG_W,SALNTY,SALNTY_FLAG_W,CTDOXY,CTDOXY_FLAG_W,OXYGEN,OXYGEN_FLAG_W,SILCAT,SILCAT_FLAG_W,NITRAT,NITRAT_FLAG_W,NITRIT,NITRIT_FLAG_W,PHSPHT,PHSPHT_FLAG_W,CFC-11,CFC-11_FLAG_W,CFC-12,CFC-12_FLAG_W,TRITUM,TRITUM_FLAG_W,HELIUM,HELIUM_FLAG_W,DELHE3,DELHE3_FLAG_W,DELC14,DELC14_FLAG_W,NEON,NEON_FLAG_W,TCARBN,TCARBN_FLAG_W,ALKALI,ALKALI_FLAG_W,PH,PH_FLAG_W,CTDRAW,HELIER,DELHER,NEONER,THETA,TRITER
,,,,,,,,,,,,DBAR,ITS-90,PSS-78,,PSS-78,,UMOL/KG,,UMOL/KG,,UMOL/KG,,UMOL/KG,,UMOL/KG,,UMOL/KG,,PMOL/KG,,PMOL/KG,,TU,,UMOL/KG,,PERCNT,,/MILLE,,NMOL/KG,,UMOL/KG,,UMOL/KG,,,,,NMOL/KG,PERCNT,NMOL/KG,ITS-90,TU
   318MWESTW_4,  P21E,    26,  1,     36, SI9336,2,19940403,0114,-16.7445, -76.6722, 3410,      7.9,  23.9499,  35.3191,2,  35.3181,2,    226.3,2,    221.2,2,     0.57,2,     0.05,2,     0.00,2,     0.47,2,    1.982,2,    1.074,2, -999.000,1,   1.7086,2,    -1.07,2,   -999.0,1,   6.790,2,   -999.0,9,   -999.0,9,  -999.00,9,  123.2,  0.0085,   0.080,   0.034, 23.9482,-999.000
   318MWESTW_4,  P21E,    26,  1,     35, SI9335,9,19940403,0114,-16.7445, -76.6722, 3410,     23.3,  23.4153,  35.1875,2,-999.0000,9,    211.8,2,   -999.0,9,  -999.00,9,  -999.00,9,  -999.00,9,  -999.00,9, -999.000,9, -999.000,9, -999.000,1,-999.0000,1,  -999.00,9,   -999.0,1,-999.000,9,   -999.0,9,   -999.0,9,  -999.00,9,  277.7,-999.0000,-999.000,-999.000, 23.4105,-999.000
   318MWESTW_4,  P21E,    26,  1,     34, SI9334,2,19940403,0114,-16.7445, -76.6722, 3410,     48.2,  14.5312,  34.9256,2,  34.9229,2,     28.0,2,     12.1,2,    17.00,2,    20.47,2,     0.84,2,     2.50,2,    1.385,2,    0.675,2, -999.000,1,   1.7751,2,     2.37,2,   -999.0,1,   7.324,2,   -999.0,9,   -999.0,9,  -999.00,9,  526.3,  0.0089,   0.080,   0.037, 14.5241,-999.000
   318MWESTW_4,  P21E,    26,  1,     33, SI9333,2,19940403,0114,-16.7445, -76.6722, 3410,     98.0,  13.6066,  34.9521,2,  34.9530,2,      2.4,2,      5.8,2,    31.37,2,     7.03,2,     7.78,2,     2.77,2,    0.548,2,    0.290,2,    0.409,2,   1.7794,2,     4.94,2,   -999.0,1,   7.333,2,   -999.0,9,   -999.0,9,  -999.00,9, 1023.6,  0.0089,   0.090,   0.037, 13.5928,   0.006
   318MWESTW_4,  P21E,    26,  1,     32, SI9332,2,19940403,0114,-16.7445, -76.6722, 3410,    147.5,  13.2897,  34.9367,2,  34.9384,2,      2.0,2,      0.5,2,    31.73,2,     5.72,2,    10.91,2,     2.71,2,    0.450,2,    0.244,2,    0.353,2,   1.7643,2,     4.96,2,   -999.0,1,   7.324,2,   -999.0,9,   -999.0,9,  -999.00,9, 1518.5,  0.0088,   0.090,   0.037, 13.2692,   0.006
   318MWESTW_4,  P21E,    26,  1,     31, SI9331,2,19940403,0114,-16.7445, -76.6722, 3410,    197.1,  12.9269,  34.9140,2,  34.9158,2,      1.6,2,      1.2,2,    30.72,2,     7.51,2,    11.59,2,     2.69,2,    0.364,2,    0.208,2,    0.314,2,   1.7626,2,     4.74,2,   -999.0,1,   7.345,2,   -999.0,9,   -999.0,9,  -999.00,9, 2014.2,  0.0088,   0.090,   0.037, 12.8999,   0.005
   318MWESTW_4,  P21E,    26,  1,     30, SI9330,2,19940403,0114,-16.7445, -76.6722, 3410,    250.2,  12.4687,  34.8837,2,  34.8875,2,      1.3,2,      0.6,2,    29.70,2,    12.43,2,    10.31,2,     2.67,2,    0.265,2,    0.155,2,    0.256,2,   1.7657,2,     4.46,2,   -999.0,1,   7.363,2,   -999.0,9,   -999.0,9,  -999.00,9, 2544.9,  0.0088,   0.090,   0.037, 12.4352,   0.005
   318MWESTW_4,  P21E,    26,  1,     29, SI9329,2,19940403,0114,-16.7445, -76.6722, 3410,    302.6,  11.7398,  34.8283,2,  34.8375,2,      1.1,2,      0.5,2,    28.33,2,    20.75,2,     6.50,2,     2.68,2,    0.160,2,    0.093,2, -999.000,1,   1.7686,2,     4.28,2,   -999.0,1,   7.420,2,   -999.0,9,   -999.0,9,  -999.00,9, 3068.3,  0.0088,   0.090,   0.037, 11.7008,-999.000
   318MWESTW_4,  P21E,    26,  1,     28, SI9328,2,19940403,0114,-16.7445, -76.6722, 3410,    400.3,   9.8271,  34.6978,2,  34.7015,2,      0.6,2,      0.6,2,    31.81,2,    33.76,2,     0.08,2,     2.86,2,    0.048,2,    0.024,2,    0.040,2,   1.7779,2,     3.57,2,   -999.0,1,   7.515,2,   -999.0,9,   -999.0,9,  -999.00,9, 4044.4,  0.0089,   0.080,   0.038,  9.7808,   0.004
   318MWESTW_4,  P21E,    26,  1,     27, SI9327,2,19940403,0114,-16.7445, -76.6722, 3410,    500.0,   8.5706,  34.6265,2,  34.6258,2,      3.4,2,      5.4,2,    35.64,2,    39.04,2,     0.01,2,     2.99,2,    0.026,2,    0.006,2,    0.014,2,   1.7882,2,     4.21,2,   -999.0,1,   7.582,2,   -999.0,9,   -999.0,9,  -999.00,9, 5039.7,  0.0089,   0.090,   0.038,  8.5172,   0.003
   318MWESTW_4,  P21E,    26,  1,     26, SI9326,2,19940403,0114,-16.7445, -76.6722, 3410,    598.9,   7.3045,  34.5629,2,  34.5606,2,     12.7,2,     15.5,2,    41.36,2,    42.42,2,     0.01,2,     3.08,2,    0.011,2,    0.001,2,    0.007,2,   1.8200,2,     5.60,2,   -999.0,1,   7.746,2,   -999.0,9,   -999.0,9,  -999.00,9, 6027.7,  0.0091,   0.090,   0.039,  7.2458,   0.003
   318MWESTW_4,  P21E,    26,  1,     25, SI9325,2,19940403,0114,-16.7445, -76.6722, 3410,    701.2,   6.2818,  34.5071,2,  34.5080,2,     34.2,2,     35.0,2,    45.70,2,    43.04,2,     0.00,2,     3.09,2,    0.009,2,    0.002,2,    0.019,2,   1.8137,2,     6.81,2,   -999.0,1,   7.742,2,   -999.0,9,   -999.0,9,  -999.00,9, 7049.3,  0.0091,   0.090,   0.039,  6.2180,   0.004
   318MWESTW_4,  P21E,    26,  1,     24, SI9324,2,19940403,0114,-16.7445, -76.6722, 3410,    799.5,   5.5924,  34.5129,2,  34.5144,2,     30.4,2,     31.9,2,    58.16,2,    44.66,2,     0.00,2,     3.22,2,   -0.001,2,   -0.004,2, -999.000,1,   1.8322,2,    10.12,2,   -999.0,1,   7.820,2,   -999.0,9,   -999.0,9,  -999.00,9, 8031.4,  0.0092,   0.090,   0.039,  5.5233,-999.000
   318MWESTW_4,  P21E,    26,  1,     23, SI9323,2,19940403,0114,-16.7445, -76.6722, 3410,    900.0,   5.0589,  34.5160,2,  34.5156,2,     39.9,2,     40.3,2,    66.13,2,    44.67,2,     0.00,2,     3.21,2, -999.000,9, -999.000,9, -999.000,1,-999.0000,1,  -999.00,9,   -999.0,1,-999.000,9,   -999.0,9,   -999.0,9,  -999.00,9, 9035.0,-999.0000,-999.000,-999.000,  4.9841,-999.000
   318MWESTW_4,  P21E,    26,  1,     22, SI9322,2,19940403,0114,-16.7445, -76.6722, 3410,    999.8,   4.6254,  34.5172,2,  34.5213,3,     49.4,2,     51.5,2,    73.24,2,    43.83,2,     0.00,2,     3.16,2, -999.000,9, -999.000,9,    0.000,2,   1.8524,2,    13.89,2,   -999.0,1,   7.890,2,   -999.0,9,   -999.0,9,  -999.00,9,10032.1,  0.0093,   0.090,   0.039,  4.5449,   0.003
   318MWESTW_4,  P21E,    26,  1,     21, SI9321,2,19940403,0114,-16.7445, -76.6722, 3410,   1099.0,   4.1163,  34.5325,2,  34.5327,2,     65.3,2,     65.3,2,    83.29,2,    42.81,2,     0.02,2,     3.11,2, -999.000,9, -999.000,9, -999.000,1,-999.0000,1,  -999.00,9,   -999.0,1,-999.000,9,   -999.0,9,   -999.0,9,  -999.00,9,11023.3,-999.0000,-999.000,-999.000,  4.0313,-999.000
   318MWESTW_4,  P21E,    26,  1,     20, SI9320,2,19940403,0114,-16.7445, -76.6722, 3410,   1202.5,   3.7697,  34.5452,2,  34.5484,2,     72.7,2,     72.6,2,    90.73,2,    42.18,2,     0.02,2,     3.07,2, -999.000,9, -999.000,9,   -0.001,2,   1.8691,2,    18.41,2,   -999.0,1,   7.938,2,   -999.0,9,   -999.0,9,  -999.00,9,12056.9,  0.0093,   0.100,   0.040,  3.6789,   0.004
   318MWESTW_4,  P21E,    26,  1,     19, SI9319,2,19940403,0114,-16.7445, -76.6722, 3410,   1304.6,   3.4627,  34.5601,2,  34.5647,2,     77.4,2,     78.0,2,    98.70,2,    41.61,2,     0.01,2,     3.04,2, -999.000,9, -999.000,9, -999.000,1,-999.0000,1,  -999.00,9,   -999.0,1,-999.000,9,   -999.0,9,   -999.0,9,  -999.00,9,13076.4,-999.0000,-999.000,-999.000,  3.3663,-999.000
   318MWESTW_4,  P21E,    26,  1,     18, SI9318,2,19940403,0114,-16.7445, -76.6722, 3410,   1395.8,   3.2470,  34.5756,2,  34.5836,4,     82.4,2,     82.8,2,   103.90,2,    41.13,2,     0.02,2,     3.01,2, -999.000,9, -999.000,9,    0.005,2,   1.8809,2,    21.65,2,   -999.0,1,   7.969,2,   -999.0,9,   -999.0,9,  -999.00,9,13987.6,  0.0094,   0.100,   0.040,  3.1451,   0.003
   318MWESTW_4,  P21E,    26,  1,     17, SI9317,2,19940403,0114,-16.7445, -76.6722, 3410,   1494.4,   3.0464,  34.5892,2,  34.5877,2,     87.0,2,     87.3,2,   109.96,2,    40.78,2,     0.01,2,     2.97,2, -999.000,9, -999.000,9, -999.000,1,-999.0000,1,  -999.00,9,   -999.0,1,-999.000,9,   -999.0,9,   -999.0,9,  -999.00,9,14972.4,-999.0000,-999.000,-999.000,  2.9385,-999.000
   318MWESTW_4,  P21E,    26,  1,     16, SI9316,2,19940403,0114,-16.7445, -76.6722, 3410,   1598.2,   2.8661,  34.5998,2,  34.6007,2,     92.3,2,     92.1,2,   114.64,2,    40.48,2,     0.01,2,     2.94,2, -999.000,9, -999.000,9, -999.000,1,-999.0000,1,  -999.00,9,   -999.0,1,-999.000,9,   -999.0,9,   -999.0,9,  -999.00,9,16010.0,-999.0000,-999.000,-999.000,  2.7516,-999.000
   318MWESTW_4,  P21E,    26,  1,     15, SI9315,2,19940403,0114,-16.7445, -76.6722, 3410,   1695.6,   2.7051,  34.6108,2,  34.6117,2,     95.1,2,     95.4,2,   119.84,2,    40.27,2,     0.01,2,     2.91,2, -999.000,9, -999.000,9,    0.006,2,   1.9085,2,    25.18,2,   -999.0,1,   8.029,2,   -999.0,9,   -999.0,9,  -999.00,9,16982.8,  0.0095,   0.100,   0.040,  2.5844,   0.003
   318MWESTW_4,  P21E,    26,  1,     14, SI9314,2,19940403,0114,-16.7445, -76.6722, 3410,   1799.0,   2.5467,  34.6215,2,  34.6221,2,     99.4,2,     99.3,2,   124.18,2,    39.70,2,     0.00,2,     2.89,2, -999.000,9, -999.000,9, -999.000,1,-999.0000,1,  -999.00,9,   -999.0,1,-999.000,9,   -999.0,9,   -999.0,9,  -999.00,9,18015.6,-999.0000,-999.000,-999.000,  2.4193,-999.000
   318MWESTW_4,  P21E,    26,  1,     13, SI9313,2,19940403,0114,-16.7445, -76.6722, 3410,   1901.1,   2.4446,  34.6288,2,  34.6290,2,    102.2,2,    102.3,2,   127.29,2,    39.34,2,     0.00,2,     2.87,2, -999.000,9, -999.000,9, -999.000,1,-999.0000,1,  -999.00,9,   -999.0,1,-999.000,9,   -999.0,9,   -999.0,9,  -999.00,9,19036.1,-999.0000,-999.000,-999.000,  2.3100,-999.000
   318MWESTW_4,  P21E,    26,  1,     12, SI9312,2,19940403,0114,-16.7445, -76.6722, 3410,   2007.1,   2.3266,  34.6364,2,  34.6378,2,    104.5,2,    106.0,2,   130.42,2,    39.02,2,     0.01,2,     2.83,2, -999.000,9, -999.000,9, -999.000,1,-999.0000,1,  -999.00,9,   -999.0,1,-999.000,9,   -999.0,9,   -999.0,9,  -999.00,9,20094.7,-999.0000,-999.000,-999.000,  2.1846,-999.000
   318MWESTW_4,  P21E,    26,  1,     11, SI9311,2,19940403,0114,-16.7445, -76.6722, 3410,   2120.7,   2.2402,  34.6436,2,  34.6439,2,    108.1,2,    108.8,2,   132.85,2,    38.43,2,     0.02,2,     2.82,2, -999.000,9, -999.000,9, -999.000,1,-999.0000,1,  -999.00,9,   -999.0,1,-999.000,9,   -999.0,9,   -999.0,9,  -999.00,9,21229.8,-999.0000,-999.000,-999.000,  2.0896,-999.000
   318MWESTW_4,  P21E,    26,  1,     10, SI9310,2,19940403,0114,-16.7445, -76.6722, 3410,   2200.0,   2.1743,  34.6483,2,  34.6490,2,    111.6,2,    112.5,2,   133.73,2,    38.46,2,     0.01,2,     2.80,2, -999.000,9, -999.000,9, -999.000,1,-999.0000,1,  -999.00,9,   -999.0,1,-999.000,9,   -999.0,9,   -999.0,9,  -999.00,9,22021.8,-999.0000,-999.000,-999.000,  2.0178,-999.000
   318MWESTW_4,  P21E,    26,  1,      9, SI9309,2,19940403,0114,-16.7445, -76.6722, 3410,   2294.5,   2.0976,  34.6534,2,  34.6543,2,    116.1,2,    117.5,2,   134.44,2,    38.04,2,     0.01,2,     2.76,2, -999.000,9, -999.000,9, -999.000,1,-999.0000,1,  -999.00,9,   -999.0,1,-999.000,9,   -999.0,9,   -999.0,9,  -999.00,9,22966.7,-999.0000,-999.000,-999.000,  1.9341,-999.000
   318MWESTW_4,  P21E,    26,  1,      8, SI9308,2,19940403,0114,-16.7445, -76.6722, 3410,   2426.3,   1.9949,  34.6606,2,  34.6614,2,    125.0,2,    125.9,2,   133.24,2,    37.36,2,     0.01,2,     2.70,2, -999.000,9, -999.000,9, -999.000,1,-999.0000,1,  -999.00,9,   -999.0,1,-999.000,9,   -999.0,9,   -999.0,9,  -999.00,9,24283.1,-999.0000,-999.000,-999.000,  1.8214,-999.000
   318MWESTW_4,  P21E,    26,  1,      7, SI9307,2,19940403,0114,-16.7445, -76.6722, 3410,   2579.5,   1.9101,  34.6674,2,  34.6669,2,    133.1,2,    133.4,2,   132.73,2,    36.94,2,     0.01,2,     2.64,2, -999.000,9, -999.000,9, -999.000,1,-999.0000,1,  -999.00,9,   -999.0,1,-999.000,9,   -999.0,9,   -999.0,9,  -999.00,9,25814.0,-999.0000,-999.000,-999.000,  1.7242,-999.000
   318MWESTW_4,  P21E,    26,  1,      6, SI9306,2,19940403,0114,-16.7445, -76.6722, 3410,   2749.5,   1.8423,  34.6732,2,  34.6736,2,    145.6,2,    145.7,2,   127.74,2,    35.98,2,     0.01,2,     2.55,2, -999.000,9, -999.000,9, -999.000,1,-999.0000,1,  -999.00,9,   -999.0,1,-999.000,9,   -999.0,9,   -999.0,9,  -999.00,9,27512.6,-999.0000,-999.000,-999.000,  1.6419,-999.000
   318MWESTW_4,  P21E,    26,  1,      5, SI9305,2,19940403,0114,-16.7445, -76.6722, 3410,   2894.4,   1.8033,  34.6773,2,  34.6791,2,    149.6,2,    149.3,2,   127.24,2,    35.89,2,     0.01,2,     2.54,2, -999.000,9, -999.000,9, -999.000,1,-999.0000,1,  -999.00,9,   -999.0,1,-999.000,9,   -999.0,9,   -999.0,9,  -999.00,9,28961.0,-999.0000,-999.000,-999.000,  1.5900,-999.000
   318MWESTW_4,  P21E,    26,  1,      4, SI9304,2,19940403,0114,-16.7445, -76.6722, 3410,   3032.8,   1.7807,  34.6806,2,  34.6814,2,    150.6,2,    150.0,2,   128.30,2,    35.73,2,     0.01,2,     2.53,2, -999.000,9, -999.000,9, -999.000,1,-999.0000,1,  -999.00,9,   -999.0,1,-999.000,9,   -999.0,9,   -999.0,9,  -999.00,9,30343.1,-999.0000,-999.000,-999.000,  1.5545,-999.000
   318MWESTW_4,  P21E,    26,  1,      3, SI9303,2,19940403,0114,-16.7445, -76.6722, 3410,   3194.9,   1.7698,  34.6824,2,  34.6826,2,    149.1,2,    149.9,2,   129.34,2,    35.80,2,     0.01,2,     2.53,2, -999.000,9, -999.000,9, -999.000,1,-999.0000,1,  -999.00,9,   -999.0,1,-999.000,9,   -999.0,9,   -999.0,9,  -999.00,9,31963.5,-999.0000,-999.000,-999.000,  1.5279,-999.000
   318MWESTW_4,  P21E,    26,  1,      2, SI9302,2,19940403,0114,-16.7445, -76.6722, 3410,   3380.8,   1.7336,  34.6867,2,  34.6865,2,    156.1,2,    155.8,2,   125.21,2,    35.33,2,     0.01,2,     2.48,2, -999.000,9, -999.000,9, -999.000,1,-999.0000,1,  -999.00,9,   -999.0,1,-999.000,9,   -999.0,9,   -999.0,9,  -999.00,9,33821.4,-999.0000,-999.000,-999.000,  1.4738,-999.000
   318MWESTW_4,  P21E,    26,  1,      1, SI9301,2,19940403,0114,-16.7445, -76.6722, 3410,   3420.0,   1.7298,  34.6874,2,  34.6877,2,    155.8,2,    157.3,2,   125.57,2,    35.29,2,     0.00,2,     2.48,2, -999.000,9, -999.000,9, -999.000,1,-999.0000,1,  -999.00,9,   -999.0,1,-999.000,9,   -999.0,9,   -999.0,9,  -999.00,9,34213.6,-999.0000,-999.000,-999.000,  1.4661,-999.000