BOTTLE,20010911WHPSIOdm
EXPOCODE,SECT_ID,STNNBR,CASTNO,SAMPNO,BTLNBR,BTLNBR_FLAG_W,DATE,TIME,LATITUDE,LONGITUDE,DEPTH,CTDPRS,CTDTMP,CTDSAL,CTDSAL_FLAG_W,SALNTY,SALNTY_FLAG_W,CTDOXY,CTDOXY_FLAG_W,OXYGEN,OXYGEN_FLAG_W,SILCAT,SILCAT_FLAG_W,NITRAT,NITRAT_FLAG_W,NITRIT,NITRIT_FLAG_W,PHSPHT,PHSPHT_FLAG_W,CFC-11,CFC-11_FLAG_W,CFC-12,CFC-12_FLAG_W,TRITUM,TRITUM_FLAG_W,HELIUM,HELIUM_FLAG_W,DELHE3,DELHE3_FLAG_W,DELC14,DELC14_FLAG_W,NEON,NEON_FLAG_W,TCARBN,TCARBN_FLAG_W,ALKALI,ALKALI_FLAG_W,PH,PH_FLAG_W,CTDRAW,HELIER,DELHER,NEONER,THETA,TRITER
,,,,,,,,,,,,DBAR,ITS-90,PSS-78,,PSS-78,,UMOL/KG,,UMOL/KG,,UMOL/KG,,UMOL/KG,,UMOL/KG,,UMOL/KG,,PMOL/KG,,PMOL/KG,,TU,,UMOL/KG,,PERCNT,,/MILLE,,NMOL/KG,,UMOL/KG,,UMOL/KG,,,,,NMOL/KG,PERCNT,NMOL/KG,ITS-90,TU
   318MWESTW_5,  P21W,   190,  1,     36, SI9442,2,19940529,0501,-17.5028,-166.3362, 4821,      8.0,  28.1868,  34.8900,2,  34.8884,2,    197.0,2,    214.6,2,     0.95,2,    -0.01,2,     0.01,2,     0.14,2,    1.587,2,    0.914,2, -999.000,1,-999.0000,1,  -999.00,9,   -999.0,1,-999.000,9,   -999.0,9,   -999.0,9,  -999.00,9,  142.5,-999.0000,-999.000,-999.000, 28.1849,-999.000
   318MWESTW_5,  P21W,   190,  1,     35, SI9435,2,19940529,0501,-17.5028,-166.3362, 4821,     17.8,  28.1907,  34.8925,2,  34.8940,2,    201.5,2,    212.8,2,     0.81,2,    -0.01,2,     0.01,2,     0.14,2,    1.608,2,    0.926,2, -999.000,1,-999.0000,1,  -999.00,9,   -999.0,1,-999.000,9,   -999.0,9,   -999.0,9,  -999.00,9,  240.1,-999.0000,-999.000,-999.000, 28.1865,-999.000
   318MWESTW_5,  P21W,   190,  1,     34, SI9441,2,19940529,0501,-17.5028,-166.3362, 4821,     43.9,  28.0616,  35.2836,2,  35.3114,2,    205.2,2,    213.9,2,     0.82,2,    -0.01,2,     0.01,2,     0.16,2,    1.638,2,    0.927,2, -999.000,1,-999.0000,1,  -999.00,9,   -999.0,1,-999.000,9,   -999.0,9,   -999.0,9,  -999.00,9,  501.3,-999.0000,-999.000,-999.000, 28.0512,-999.000
   318MWESTW_5,  P21W,   190,  1,     33, SI9433,2,19940529,0501,-17.5028,-166.3362, 4821,     94.2,  25.5805,  35.8833,2,  35.8823,2,    207.9,2,    223.6,2,     0.84,2,    -0.01,2,     0.01,2,     0.21,2,    1.807,2,    1.017,2, -999.000,1,-999.0000,1,  -999.00,9,   -999.0,1,-999.000,9,   -999.0,9,   -999.0,9,  -999.00,9, 1002.1,-999.0000,-999.000,-999.000, 25.5597,-999.000
   318MWESTW_5,  P21W,   190,  1,     32, SI9432,2,19940529,0501,-17.5028,-166.3362, 4821,    144.2,  23.5662,  35.9926,2,  35.9914,2,    182.2,2,    186.6,2,     0.86,2,     0.44,2,     0.22,2,     0.30,2,    1.884,2,    1.032,2, -999.000,1,-999.0000,1,  -999.00,9,   -999.0,1,-999.000,9,   -999.0,9,   -999.0,9,  -999.00,9, 1500.9,-999.0000,-999.000,-999.000, 23.5361,-999.000
   318MWESTW_5,  P21W,   190,  1,     31, SI9431,2,19940529,0501,-17.5028,-166.3362, 4821,    196.0,  21.7163,  35.9348,2,  35.9332,2,    168.4,2,    170.3,2,     1.04,2,     3.57,2,     0.01,2,     0.45,2,    1.883,2,    1.010,2, -999.000,1,-999.0000,1,  -999.00,9,   -999.0,1,-999.000,9,   -999.0,9,   -999.0,9,  -999.00,9, 2015.8,-999.0000,-999.000,-999.000, 21.6777,-999.000
   318MWESTW_5,  P21W,   190,  1,     30, SI9440,2,19940529,0501,-17.5028,-166.3362, 4821,    246.8,  19.5728,  35.6850,2,  35.6834,2,    166.5,2,    170.8,2,     1.52,2,     4.91,2,     0.00,2,     0.55,2,    1.764,2,    0.952,2, -999.000,1,-999.0000,1,  -999.00,9,   -999.0,1,-999.000,9,   -999.0,9,   -999.0,9,  -999.00,9, 2522.4,-999.0000,-999.000,-999.000, 19.5276,-999.000
   318MWESTW_5,  P21W,   190,  1,     29, SI9429,2,19940529,0501,-17.5028,-166.3362, 4821,    296.3,  17.0263,  35.3892,2,  35.3884,2,    168.4,2,    168.5,2,     2.82,2,     7.78,2,     0.02,2,     0.74,2,    1.577,2,    0.844,2, -999.000,1,-999.0000,1,  -999.00,9,   -999.0,1,-999.000,9,   -999.0,9,   -999.0,9,  -999.00,9, 3014.8,-999.0000,-999.000,-999.000, 16.9771,-999.000
   318MWESTW_5,  P21W,   190,  1,     28, SI9428,2,19940529,0501,-17.5028,-166.3362, 4821,    402.2,  12.1529,  34.8530,2,  34.8505,2,    167.1,2,    166.2,2,     6.86,2,    15.76,2,     0.01,2,     1.25,2,    0.985,2,    0.515,2, -999.000,1,-999.0000,1,  -999.00,9,   -999.0,1,-999.000,9,   -999.0,9,   -999.0,9,  -999.00,9, 4068.8,-999.0000,-999.000,-999.000, 12.0996,-999.000
   318MWESTW_5,  P21W,   190,  1,     27, SI9424,2,19940529,0501,-17.5028,-166.3362, 4821,    495.3,   8.4486,  34.5164,2,  34.5121,2,    185.9,2,    184.8,2,    10.24,2,    22.37,2,     0.00,2,     1.61,2,    0.641,2,    0.337,2, -999.000,1,-999.0000,1,  -999.00,9,   -999.0,1,-999.000,9,   -999.0,9,   -999.0,9,  -999.00,9, 4994.5,-999.0000,-999.000,-999.000,  8.3962,-999.000
   318MWESTW_5,  P21W,   190,  1,     26, SI9414,2,19940529,0501,-17.5028,-166.3362, 4821,    597.1,   6.3687,  34.3890,2,  34.3886,2,    188.8,2,    186.1,2,    19.26,2,    27.79,2,     0.00,2,     1.94,2, -999.000,9, -999.000,9, -999.000,1,-999.0000,1,  -999.00,9,   -999.0,1,-999.000,9,   -999.0,9,   -999.0,9,  -999.00,9, 6007.0,-999.0000,-999.000,-999.000,  6.3146,-999.000
   318MWESTW_5,  P21W,   190,  1,     25, SI9425,2,19940529,0501,-17.5028,-166.3362, 4821,    699.3,   5.5330,  34.3789,2,  34.3782,2,    179.3,2,    179.5,2,    27.63,2,    30.36,2,     0.00,2,     2.10,2, -999.000,9, -999.000,9, -999.000,1,-999.0000,1,  -999.00,9,   -999.0,1,-999.000,9,   -999.0,9,   -999.0,9,  -999.00,9, 7023.0,-999.0000,-999.000,-999.000,  5.4735,-999.000
   318MWESTW_5,  P21W,   190,  1,     24, SI9434,2,19940529,0501,-17.5028,-166.3362, 4821,    801.6,   4.7424,  34.4111,2,  34.4108,2,    168.1,2,    164.1,2,    42.74,2,    32.99,2,     0.00,2,     2.28,2,    0.015,6,    0.011,6, -999.000,1,-999.0000,1,  -999.00,9,   -999.0,1,-999.000,9,   -999.0,9,   -999.0,9,  -999.00,9, 8039.7,-999.0000,-999.000,-999.000,  4.6785,-999.000
   318MWESTW_5,  P21W,   190,  1,     23, SI9423,2,19940529,0501,-17.5028,-166.3362, 4821,    892.1,   4.2918,  34.4542,2,  34.4549,2,    157.9,2,    155.9,2,    55.76,2,    34.16,2,     0.00,2,     2.37,2,    0.008,2,    0.002,2, -999.000,1,-999.0000,1,  -999.00,9,   -999.0,1,-999.000,9,   -999.0,9,   -999.0,9,  -999.00,9, 8939.5,-999.0000,-999.000,-999.000,  4.2231,-999.000
   318MWESTW_5,  P21W,   190,  1,     22, SI9418,2,19940529,0501,-17.5028,-166.3362, 4821,    995.2,   3.8234,  34.4842,2,  34.4834,2,    154.2,2,    153.1,2,    66.38,2,    34.79,2,     0.00,2,     2.41,2,    0.001,2,    0.001,2, -999.000,1,-999.0000,1,  -999.00,9,   -999.0,1,-999.000,9,   -999.0,9,   -999.0,9,  -999.00,9, 9965.1,-999.0000,-999.000,-999.000,  3.7495,-999.000
   318MWESTW_5,  P21W,   190,  1,     21, SI9421,2,19940529,0501,-17.5028,-166.3362, 4821,   1148.9,   3.3754,  34.5274,2,  34.5272,2,    147.7,2,    147.4,2,    79.08,2,    35.46,2,     0.00,2,     2.47,2,    0.001,2,   -0.001,2, -999.000,1,-999.0000,1,  -999.00,9,   -999.0,1,-999.000,9,   -999.0,9,   -999.0,9,  -999.00,9,11493.5,-999.0000,-999.000,-999.000,  3.2927,-999.000
   318MWESTW_5,  P21W,   190,  1,     20, SI9420,2,19940529,0501,-17.5028,-166.3362, 4821,   1304.0,   3.0079,  34.5590,2,  34.5586,2,    145.8,2,    146.2,2,    89.53,2,    35.71,2,     0.00,2,     2.49,2,    0.001,2,    0.000,2, -999.000,1,-999.0000,1,  -999.00,9,   -999.0,1,-999.000,9,   -999.0,9,   -999.0,9,  -999.00,9,13034.7,-999.0000,-999.000,-999.000,  2.9161,-999.000
   318MWESTW_5,  P21W,   190,  1,     19, SI9419,2,19940529,0501,-17.5028,-166.3362, 4821,   1448.0,   2.7522,  34.5816,2,  34.5820,2,    145.5,2,    146.2,2,    97.25,2,    35.84,2,     0.00,2,     2.49,2, -999.000,9, -999.000,9, -999.000,1,-999.0000,1,  -999.00,9,   -999.0,1,-999.000,9,   -999.0,9,   -999.0,9,  -999.00,9,14466.6,-999.0000,-999.000,-999.000,  2.6514,-999.000
   318MWESTW_5,  P21W,   190,  1,     18, SI9439,2,19940529,0501,-17.5028,-166.3362, 4821,   1591.9,   2.5661,  34.5984,2,  34.5983,2,    146.6,2,    146.1,2,   103.90,2,    35.86,2,     0.00,2,     2.49,2,    0.000,2,   -0.001,2, -999.000,1,-999.0000,1,  -999.00,9,   -999.0,1,-999.000,9,   -999.0,9,   -999.0,9,  -999.00,9,15897.6,-999.0000,-999.000,-999.000,  2.4558,-999.000
   318MWESTW_5,  P21W,   190,  1,     17, SI9417,2,19940529,0501,-17.5028,-166.3362, 4821,   1746.2,   2.4148,  34.6120,2,  34.6130,2,    146.7,2,    146.6,2,   109.05,2,    35.93,2,     0.00,2,     2.49,2, -999.000,9, -999.000,9, -999.000,1,-999.0000,1,  -999.00,9,   -999.0,1,-999.000,9,   -999.0,9,   -999.0,9,  -999.00,9,17432.0,-999.0000,-999.000,-999.000,  2.2937,-999.000
   318MWESTW_5,  P21W,   190,  1,     16, SI9416,2,19940529,0501,-17.5028,-166.3362, 4821,   1899.9,   2.2463,  34.6269,2,  34.6272,2,    146.8,2,    147.5,2,   114.04,2,    35.92,2,     0.00,2,     2.50,2, -999.000,9, -999.000,9, -999.000,1,-999.0000,1,  -999.00,9,   -999.0,1,-999.000,9,   -999.0,9,   -999.0,9,  -999.00,9,18959.4,-999.0000,-999.000,-999.000,  2.1146,-999.000
   318MWESTW_5,  P21W,   190,  1,     15, SI9415,2,19940529,0501,-17.5028,-166.3362, 4821,   2095.7,   2.1250,  34.6380,2,  34.6386,2,    148.5,2,    148.7,2,   117.55,2,    35.87,2,     0.02,2,     2.49,2, -999.000,9, -999.000,9, -999.000,1,-999.0000,1,  -999.00,9,   -999.0,1,-999.000,9,   -999.0,9,   -999.0,9,  -999.00,9,20906.4,-999.0000,-999.000,-999.000,  1.9785,-999.000
   318MWESTW_5,  P21W,   190,  1,     14, SI9436,2,19940529,0501,-17.5028,-166.3362, 4821,   2301.9,   1.9765,  34.6502,2,  34.6510,2,    150.2,2,    150.7,2,   121.90,2,    35.74,2,     0.00,2,     2.48,2, -999.000,9, -999.000,9, -999.000,1,-999.0000,1,  -999.00,9,   -999.0,1,-999.000,9,   -999.0,9,   -999.0,9,  -999.00,9,22956.3,-999.0000,-999.000,-999.000,  1.8144,-999.000
   318MWESTW_5,  P21W,   190,  1,     13, SI9413,2,19940529,0501,-17.5028,-166.3362, 4821,   2497.9,   1.8802,  34.6584,2,  34.6576,2,    152.7,2,    152.4,2,   124.32,2,    35.63,2,     0.00,2,     2.47,2,   -0.001,2,    0.000,2, -999.000,1,-999.0000,1,  -999.00,9,   -999.0,1,-999.000,9,   -999.0,9,   -999.0,9,  -999.00,9,24904.5,-999.0000,-999.000,-999.000,  1.7023,-999.000
   318MWESTW_5,  P21W,   190,  1,     12, SI9438,2,19940529,0501,-17.5028,-166.3362, 4821,   2704.0,   1.7823,  34.6663,2,  34.6671,2,    155.6,2,    154.9,2,   126.59,2,    35.54,2,     0.01,2,     2.46,2, -999.000,9, -999.000,9, -999.000,1,-999.0000,1,  -999.00,9,   -999.0,1,-999.000,9,   -999.0,9,   -999.0,9,  -999.00,9,26954.2,-999.0000,-999.000,-999.000,  1.5874,-999.000
   318MWESTW_5,  P21W,   190,  1,     11, SI9411,2,19940529,0501,-17.5028,-166.3362, 4821,   2900.1,   1.7171,  34.6720,2,  34.6714,2,    157.2,2,    156.9,2,   128.21,2,    35.47,2,     0.01,2,     2.45,2, -999.000,9, -999.000,9, -999.000,1,-999.0000,1,  -999.00,9,   -999.0,1,-999.000,9,   -999.0,9,   -999.0,9,  -999.00,9,28903.7,-999.0000,-999.000,-999.000,  1.5051,-999.000
   318MWESTW_5,  P21W,   190,  1,     10, SI9412,2,19940529,0501,-17.5028,-166.3362, 4821,   3098.4,   1.6473,  34.6775,2,  34.6769,2,    160.6,2,    160.8,2,   128.71,2,    35.24,2,     0.01,2,     2.43,2, -999.000,9, -999.000,9, -999.000,1,-999.0000,1,  -999.00,9,   -999.0,1,-999.000,9,   -999.0,9,   -999.0,9,  -999.00,9,30874.3,-999.0000,-999.000,-999.000,  1.4177,-999.000
   318MWESTW_5,  P21W,   190,  1,      9, SI9410,2,19940529,0501,-17.5028,-166.3362, 4821,   3294.7,   1.5899,  34.6816,2,  34.6818,2,    164.7,2,    163.7,2,   129.04,2,    35.01,2,     0.00,2,     2.43,2, -999.000,9, -999.000,9, -999.000,1,-999.0000,1,  -999.00,9,   -999.0,1,-999.000,9,   -999.0,9,   -999.0,9,  -999.00,9,32826.4,-999.0000,-999.000,-999.000,  1.3423,-999.000
   318MWESTW_5,  P21W,   190,  1,      8, SI9422,2,19940529,0501,-17.5028,-166.3362, 4821,   3503.2,   1.5229,  34.6873,2,  34.6877,2,    168.7,2,    168.9,2,   128.56,2,    34.63,2,     0.01,2,     2.38,2,    0.000,2,   -0.002,2, -999.000,1,-999.0000,1,  -999.00,9,   -999.0,1,-999.000,9,   -999.0,9,   -999.0,9,  -999.00,9,34899.2,-999.0000,-999.000,-999.000,  1.2558,-999.000
   318MWESTW_5,  P21W,   190,  1,      7, SI9407,2,19940529,0501,-17.5028,-166.3362, 4821,   3698.6,   1.4602,  34.6929,2,  34.6934,2,    174.8,2,    175.1,2,   126.16,2,    34.08,2,     0.01,2,     2.35,2, -999.000,9, -999.000,9, -999.000,1,-999.0000,1,  -999.00,9,   -999.0,1,-999.000,9,   -999.0,9,   -999.0,9,  -999.00,9,36841.5,-999.0000,-999.000,-999.000,  1.1745,-999.000
   318MWESTW_5,  P21W,   190,  1,      6, SI9427,2,19940529,0501,-17.5028,-166.3362, 4821,   3896.6,   1.3701,  34.6995,2,  34.6993,2,    182.4,2,    183.8,2,   122.99,2,    33.51,2,     0.01,2,     2.31,2, -999.000,9, -999.000,9, -999.000,1,-999.0000,1,  -999.00,9,   -999.0,1,-999.000,9,   -999.0,9,   -999.0,9,  -999.00,9,38810.1,-999.0000,-999.000,-999.000,  1.0659,-999.000
   318MWESTW_5,  P21W,   190,  1,      5, SI9405,2,19940529,0501,-17.5028,-166.3362, 4821,   4094.2,   1.2860,  34.7042,2,  34.7058,2,    189.7,2,    191.6,2,   120.59,2,    32.90,2,     0.01,2,     2.26,2, -999.000,9, -999.000,9, -999.000,1,-999.0000,1,  -999.00,9,   -999.0,1,-999.000,9,   -999.0,9,   -999.0,9,  -999.00,9,40774.5,-999.0000,-999.000,-999.000,  0.9628,-999.000
   318MWESTW_5,  P21W,   190,  1,      4, SI9404,2,19940529,0501,-17.5028,-166.3362, 4821,   4291.3,   1.2120,  34.7073,2,  34.7079,2,    196.6,2,    197.1,2,   119.32,2,    32.63,2,     0.01,2,     2.25,2,    0.000,2,    0.002,2, -999.000,1,-999.0000,1,  -999.00,9,   -999.0,1,-999.000,9,   -999.0,9,   -999.0,9,  -999.00,9,42733.8,-999.0000,-999.000,-999.000,  0.8693,-999.000
   318MWESTW_5,  P21W,   190,  1,      3, SI9403,2,19940529,0501,-17.5028,-166.3362, 4821,   4486.6,   1.1492,  34.7093,2,  34.7099,2,    201.0,2,    201.9,2,   118.86,2,    32.30,2,     0.01,2,     2.22,2,    0.001,2,    0.001,2, -999.000,1,-999.0000,1,  -999.00,9,   -999.0,1,-999.000,9,   -999.0,9,   -999.0,9,  -999.00,9,44676.0,-999.0000,-999.000,-999.000,  0.7865,-999.000
   318MWESTW_5,  P21W,   190,  1,      2, SI9437,2,19940529,0501,-17.5028,-166.3362, 4821,   4779.5,   1.1073,  34.7102,2,  34.7111,2,    204.4,2,    206.8,2,   118.71,2,    32.08,2,     0.00,2,     2.20,2,    0.000,2,    0.001,2, -999.000,1,-999.0000,1,  -999.00,9,   -999.0,1,-999.000,9,   -999.0,9,   -999.0,9,  -999.00,9,47587.8,-999.0000,-999.000,-999.000,  0.7123,-999.000
   318MWESTW_5,  P21W,   190,  1,      1, SI9401,2,19940529,0501,-17.5028,-166.3362, 4821,   4836.5,   1.0958,  34.7099,2,  34.7111,2,    205.4,2,    207.5,2,   119.13,2,    32.14,2,     0.00,2,     2.19,2,    0.002,2,    0.000,2, -999.000,1,-999.0000,1,  -999.00,9,   -999.0,1,-999.000,9,   -999.0,9,   -999.0,9,  -999.00,9,48154.1,-999.0000,-999.000,-999.000,  0.6945,-999.000