BOTTLE,20010911WHPSIOdm
EXPOCODE,SECT_ID,STNNBR,CASTNO,SAMPNO,BTLNBR,BTLNBR_FLAG_W,DATE,TIME,LATITUDE,LONGITUDE,DEPTH,CTDPRS,CTDTMP,CTDSAL,CTDSAL_FLAG_W,SALNTY,SALNTY_FLAG_W,CTDOXY,CTDOXY_FLAG_W,OXYGEN,OXYGEN_FLAG_W,SILCAT,SILCAT_FLAG_W,NITRAT,NITRAT_FLAG_W,NITRIT,NITRIT_FLAG_W,PHSPHT,PHSPHT_FLAG_W,CFC-11,CFC-11_FLAG_W,CFC-12,CFC-12_FLAG_W,TRITUM,TRITUM_FLAG_W,HELIUM,HELIUM_FLAG_W,DELHE3,DELHE3_FLAG_W,DELC14,DELC14_FLAG_W,NEON,NEON_FLAG_W,TCARBN,TCARBN_FLAG_W,ALKALI,ALKALI_FLAG_W,PH,PH_FLAG_W,CTDRAW,HELIER,DELHER,NEONER,THETA,TRITER
,,,,,,,,,,,,DBAR,ITS-90,PSS-78,,PSS-78,,UMOL/KG,,UMOL/KG,,UMOL/KG,,UMOL/KG,,UMOL/KG,,UMOL/KG,,PMOL/KG,,PMOL/KG,,TU,,UMOL/KG,,PERCNT,,/MILLE,,NMOL/KG,,UMOL/KG,,UMOL/KG,,,,,NMOL/KG,PERCNT,NMOL/KG,ITS-90,TU
   318MWESTW_4,  P21E,    15,  1,     18, SI9418,2,19940401,1337,-15.6278, -75.2555, 1210,      6.5,  20.0915,  34.9613,2,  34.9599,2,    247.2,2,    246.1,2,     0.11,2,     0.05,2,    -0.01,2,     0.45,2,    2.393,2,    1.244,2, -999.000,1,-999.0000,1,  -999.00,9,   -999.0,1,-999.000,9,   2039.8,2,   2322.0,2,     7.99,2,  107.6,-999.0000,-999.000,-999.000, 20.0903,-999.000
   318MWESTW_4,  P21E,    15,  1,     17, SI9417,2,19940401,1337,-15.6278, -75.2555, 1210,     24.4,  17.2784,  34.9249,2,  34.8904,2,    257.8,2,    246.5,2,     0.44,2,    -0.14,2,    -0.01,2,     0.51,2,    2.622,2,    1.342,2, -999.000,1,-999.0000,1,  -999.00,9,   -999.0,1,-999.000,9,   2050.8,2,   2317.0,2,     7.97,2,  286.8,-999.0000,-999.000,-999.000, 17.2743,-999.000
   318MWESTW_4,  P21E,    15,  1,     16, SI9416,2,19940401,1337,-15.6278, -75.2555, 1210,     41.9,  15.9096,  34.9194,2,-999.0000,9,    235.5,2,   -999.0,9,  -999.00,9,  -999.00,9,  -999.00,9,  -999.00,9, -999.000,9, -999.000,9, -999.000,1,-999.0000,1,  -999.00,9,   -999.0,1,-999.000,9,   -999.0,9,   -999.0,9,  -999.00,9,  461.7,-999.0000,-999.000,-999.000, 15.9030,-999.000
   318MWESTW_4,  P21E,    15,  1,     15, SI9415,2,19940401,1337,-15.6278, -75.2555, 1210,     49.4,  15.7644,  34.8676,2,  34.9429,2,    211.8,2,    158.6,2,     4.42,2,    10.59,2,     0.57,2,     1.40,2,    2.351,2,    1.188,2, -999.000,1,-999.0000,1,  -999.00,9,   -999.0,1,-999.000,9,   2140.8,2,   2313.0,2,     7.78,2,  536.8,-999.0000,-999.000,-999.000, 15.7567,-999.000
   318MWESTW_4,  P21E,    15,  1,     14, SI9414,2,19940401,1337,-15.6278, -75.2555, 1210,     99.0,  13.6860,  34.8314,2,  34.8281,2,     27.4,2,     30.7,2,    17.08,2,    19.32,2,     0.03,2,     2.40,2,    1.235,2,    0.627,2, -999.000,1,-999.0000,1,  -999.00,9,   -999.0,1,-999.000,9,   2232.9,2,   2302.0,2,     7.51,2, 1031.9,-999.0000,-999.000,-999.000, 13.6720,-999.000
   318MWESTW_4,  P21E,    15,  1,     13, SI9413,2,19940401,1337,-15.6278, -75.2555, 1210,    150.4,  12.8592,  34.8749,2,  34.8784,2,      1.0,2,      0.6,2,    26.62,2,    12.88,2,     4.88,2,     2.69,2,    0.404,2,    0.228,2, -999.000,1,-999.0000,1,  -999.00,9,   -999.0,1,-999.000,9,   2265.9,2,   2312.0,2,     7.44,2, 1545.3,-999.0000,-999.000,-999.000, 12.8387,-999.000
   318MWESTW_4,  P21E,    15,  1,     12, SI9412,2,19940401,1337,-15.6278, -75.2555, 1210,    200.9,  12.0574,  34.8435,2,  34.8397,2,      0.4,2,      0.4,2,    26.95,2,    19.00,2,     4.06,2,     2.68,2,    0.206,2,    0.123,2, -999.000,1,-999.0000,1,  -999.00,9,   -999.0,1,-999.000,9,   2268.0,2,   2307.0,2,     7.43,2, 2049.8,-999.0000,-999.000,-999.000, 12.0311,-999.000
   318MWESTW_4,  P21E,    15,  1,     11, SI9411,2,19940401,1337,-15.6278, -75.2555, 1210,    250.5,  11.3273,  34.7949,2,  34.7860,2,      0.4,2,      0.6,2,    27.82,2,    23.79,2,     2.68,2,     2.72,2,    0.155,2,    0.085,2, -999.000,1,-999.0000,1,  -999.00,9,   -999.0,1,-999.000,9,   2272.0,2,   2304.0,2,     7.40,2, 2545.2,-999.0000,-999.000,-999.000, 11.2958,-999.000
   318MWESTW_4,  P21E,    15,  1,     10, SI9410,2,19940401,1337,-15.6278, -75.2555, 1210,    305.2,  10.6590,  34.7702,2,  34.7687,2,      0.3,2,      0.4,2,    30.06,2,    28.01,2,     2.92,2,     2.72,2,    0.059,2,    0.035,2, -999.000,1,-999.0000,1,  -999.00,9,   -999.0,1,-999.000,9,   2275.0,2,   2305.0,2,     7.40,2, 3091.3,-999.0000,-999.000,-999.000, 10.6220,-999.000
   318MWESTW_4,  P21E,    15,  1,      9, SI9409,2,19940401,1337,-15.6278, -75.2555, 1210,    393.3,   8.9988,  34.6549,2,  34.6537,2,      1.4,2,      2.7,2,    33.70,2,    37.10,2,     0.01,2,     2.90,2,    0.036,2,   -0.004,2, -999.000,1,-999.0000,1,  -999.00,9,   -999.0,1,-999.000,9,   2284.0,2,   2305.0,2,     7.37,2, 3971.3,-999.0000,-999.000,-999.000,  8.9558,-999.000
   318MWESTW_4,  P21E,    15,  1,      8, SI9408,2,19940401,1337,-15.6278, -75.2555, 1210,    503.1,   7.7274,  34.6011,2,  34.5977,2,      6.1,2,      5.9,2,    42.26,2,    41.47,2,    -0.01,2,     3.08,2,   -0.002,2,   -0.008,2, -999.000,1,-999.0000,1,  -999.00,9,   -999.0,1,-999.000,9,   2293.0,2,   2309.0,2,     7.36,2, 5068.0,-999.0000,-999.000,-999.000,  7.6768,-999.000
   318MWESTW_4,  P21E,    15,  1,      7, SI9407,2,19940401,1337,-15.6278, -75.2555, 1210,    600.9,   6.7202,  34.5518,2,  34.5527,2,     14.0,2,     13.7,2,    48.52,2,    43.14,2,    -0.01,2,     3.15,2,   -0.004,2,    0.000,2, -999.000,1,-999.0000,1,  -999.00,9,   -999.0,1,-999.000,9,   2299.0,2,   2314.0,2,     7.36,2, 6045.1,-999.0000,-999.000,-999.000,  6.6639,-999.000
   318MWESTW_4,  P21E,    15,  1,      6, SI9406,2,19940401,1337,-15.6278, -75.2555, 1210,    696.8,   5.8733,  34.5221,2,  34.5207,2,     28.6,2,     27.5,2,    55.42,2,    43.47,2,    -0.01,2,     3.18,2,   -0.002,2,   -0.006,2, -999.000,1,-999.0000,1,  -999.00,9,   -999.0,1,-999.000,9,   2301.0,2,   2320.0,2,     7.37,2, 7003.2,-999.0000,-999.000,-999.000,  5.8121,-999.000
   318MWESTW_4,  P21E,    15,  1,      5, SI9405,2,19940401,1337,-15.6278, -75.2555, 1210,    802.1,   5.1847,  34.5216,2,  34.5199,2,     37.2,2,     35.8,2,    65.84,2,    43.59,2,    -0.02,2,     3.20,2,   -0.005,2,   -0.004,2, -999.000,1,-999.0000,1,  -999.00,9,   -999.0,1,-999.000,9,   2309.0,2,   2332.0,2,     7.37,2, 8054.8,-999.0000,-999.000,-999.000,  5.1179,-999.000
   318MWESTW_4,  P21E,    15,  1,      4, SI9404,2,19940401,1337,-15.6278, -75.2555, 1210,    899.4,   4.7761,  34.5273,2,  34.5254,2,     42.6,2,     44.6,2,    73.14,2,    43.35,2,    -0.02,2,     3.17,2,   -0.005,2,   -0.004,2, -999.000,1,-999.0000,1,  -999.00,9,   -999.0,1,-999.000,9,   2313.0,2,   2340.0,2,     7.39,2, 9026.8,-999.0000,-999.000,-999.000,  4.7033,-999.000
   318MWESTW_4,  P21E,    15,  1,      3, SI9403,2,19940401,1337,-15.6278, -75.2555, 1210,    998.6,   4.3237,  34.5406,2,  34.5376,2,     53.4,2,     54.8,2,    82.87,2,    42.70,2,    -0.02,2,     3.13,2,    0.001,2,   -0.005,2, -999.000,1,-999.0000,1,  -999.00,9,   -999.0,1,-999.000,9,   2319.0,2,   2352.0,2,     7.41,2,10017.4,-999.0000,-999.000,-999.000,  4.2456,-999.000
   318MWESTW_4,  P21E,    15,  1,      2, SI9402,2,19940401,1337,-15.6278, -75.2555, 1210,   1130.9,   3.9559,  34.5554,2,  34.5531,2,     59.6,2,     61.1,2,    92.44,2,    42.09,2,    -0.01,2,     3.09,2,   -0.008,2,   -0.005,2, -999.000,1,-999.0000,1,  -999.00,9,   -999.0,1,-999.000,9,   2324.0,2,   2361.0,2,     7.43,2,11338.2,-999.0000,-999.000,-999.000,  3.8695,-999.000
   318MWESTW_4,  P21E,    15,  1,      1, SI9401,2,19940401,1337,-15.6278, -75.2555, 1210,   1178.0,   3.8744,  34.5581,2,  34.5569,2,     61.4,2,     63.0,2,    94.53,2,    41.91,2,    -0.01,2,     3.08,2,   -0.008,2,   -0.001,2, -999.000,1,-999.0000,1,  -999.00,9,   -999.0,1,-999.000,9,   2326.0,2,   2365.0,2,     7.42,2,11809.0,-999.0000,-999.000,-999.000,  3.7847,-999.000
   318MWESTW_4,  P21E,    16,  1,     28, SI9428,2,19940401,1633,-15.7528, -75.3222, 2280,      6.5,  20.6358,  34.9657,2,  34.9630,2,    242.2,2,    243.5,2,     0.26,2,     0.04,2,     0.00,2,     0.43,2, -999.000,9, -999.000,9, -999.000,1,-999.0000,1,  -999.00,9,   -999.0,1,-999.000,9,   -999.0,9,   -999.0,9,  -999.00,9,  104.5,-999.0000,-999.000,-999.000, 20.6346,-999.000
   318MWESTW_4,  P21E,    16,  1,     27, SI9427,2,19940401,1633,-15.7528, -75.3222, 2280,     25.0,  17.6713,  34.9494,2,  34.9614,2,    259.6,2,    252.5,2,     0.27,2,     0.15,2,     0.01,2,     0.43,2, -999.000,9, -999.000,9, -999.000,1,-999.0000,1,  -999.00,9,   -999.0,1,-999.000,9,   -999.0,9,   -999.0,9,  -999.00,9,  289.5,-999.0000,-999.000,-999.000, 17.6671,-999.000
   318MWESTW_4,  P21E,    16,  1,     26, SI9426,2,19940401,1633,-15.7528, -75.3222, 2280,     51.2,  15.5517,  34.9149,2,  34.8365,2,    217.6,3,    194.4,2,     2.38,2,     7.42,2,     0.42,2,     0.96,2, -999.000,9, -999.000,9, -999.000,1,-999.0000,1,  -999.00,9,   -999.0,1,-999.000,9,   -999.0,9,   -999.0,9,  -999.00,9,  551.8,-999.0000,-999.000,-999.000, 15.5438,-999.000
   318MWESTW_4,  P21E,    16,  1,     25, SI9425,2,19940401,1633,-15.7528, -75.3222, 2280,    100.0,  13.3017,  34.7343,2,  34.7372,2,     49.4,2,     49.2,2,    14.91,2,    19.73,2,     0.07,2,     2.23,2, -999.000,9, -999.000,9, -999.000,1,-999.0000,1,  -999.00,9,   -999.0,1,-999.000,9,   -999.0,9,   -999.0,9,  -999.00,9, 1039.5,-999.0000,-999.000,-999.000, 13.2878,-999.000
   318MWESTW_4,  P21E,    16,  1,     24, SI9424,2,19940401,1633,-15.7528, -75.3222, 2280,    151.1,  12.5414,  34.8574,2,  34.8528,2,      2.1,2,      1.6,2,    26.76,2,    17.04,2,     2.11,2,     2.67,2, -999.000,9, -999.000,9, -999.000,1,-999.0000,1,  -999.00,9,   -999.0,1,-999.000,9,   -999.0,9,   -999.0,9,  -999.00,9, 1549.2,-999.0000,-999.000,-999.000, 12.5212,-999.000
   318MWESTW_4,  P21E,    16,  1,     23, SI9423,2,19940401,1633,-15.7528, -75.3222, 2280,    200.0,  11.9060,  34.8090,2,  34.8123,2,      2.0,2,      0.8,2,    26.95,2,    22.53,2,     0.67,2,     2.67,2, -999.000,9, -999.000,9, -999.000,1,-999.0000,1,  -999.00,9,   -999.0,1,-999.000,9,   -999.0,9,   -999.0,9,  -999.00,9, 2038.1,-999.0000,-999.000,-999.000, 11.8801,-999.000
   318MWESTW_4,  P21E,    16,  1,     22, SI9422,2,19940401,1633,-15.7528, -75.3222, 2280,    250.4,  11.0344,  34.7819,2,  34.7646,2,      1.6,2,      0.9,2,    28.01,2,    27.30,2,     1.12,2,     2.69,2, -999.000,9, -999.000,9, -999.000,1,-999.0000,1,  -999.00,9,   -999.0,1,-999.000,9,   -999.0,9,   -999.0,9,  -999.00,9, 2541.7,-999.0000,-999.000,-999.000, 11.0035,-999.000
   318MWESTW_4,  P21E,    16,  1,     21, SI9421,2,19940401,1633,-15.7528, -75.3222, 2280,    301.1,  10.2849,  34.7296,2,  34.7327,2,      1.4,2,      0.9,2,    30.47,2,    31.73,2,     0.57,2,     2.75,2, -999.000,9, -999.000,9, -999.000,1,-999.0000,1,  -999.00,9,   -999.0,1,-999.000,9,   -999.0,9,   -999.0,9,  -999.00,9, 3048.5,-999.0000,-999.000,-999.000, 10.2493,-999.000
   318MWESTW_4,  P21E,    16,  1,     20, SI9420,2,19940401,1633,-15.7528, -75.3222, 2280,    400.9,   8.7663,  34.6404,2,  34.6398,2,      4.0,2,      4.3,2,    35.01,2,    38.52,2,     0.00,2,     2.90,2, -999.000,9, -999.000,9, -999.000,1,-999.0000,1,  -999.00,9,   -999.0,1,-999.000,9,   -999.0,9,   -999.0,9,  -999.00,9, 4045.1,-999.0000,-999.000,-999.000,  8.7231,-999.000
   318MWESTW_4,  P21E,    16,  1,     19, SI9419,2,19940401,1633,-15.7528, -75.3222, 2280,    499.9,   7.5870,  34.5744,2,  34.5714,2,     14.3,2,     15.2,2,    38.86,2,    41.57,2,     0.00,2,     2.99,2, -999.000,9, -999.000,9, -999.000,1,-999.0000,1,  -999.00,9,   -999.0,1,-999.000,9,   -999.0,9,   -999.0,9,  -999.00,9, 5033.8,-999.0000,-999.000,-999.000,  7.5373,-999.000
   318MWESTW_4,  P21E,    16,  1,     18, SI9418,2,19940401,1633,-15.7528, -75.3222, 2280,    599.3,   6.5081,  34.5199,2,  34.5168,2,     31.6,2,     31.6,2,    44.09,2,    42.86,2,     0.00,2,     3.03,2, -999.000,9, -999.000,9, -999.000,1,-999.0000,1,  -999.00,9,   -999.0,1,-999.000,9,   -999.0,9,   -999.0,9,  -999.00,9, 6026.3,-999.0000,-999.000,-999.000,  6.4530,-999.000
   318MWESTW_4,  P21E,    16,  1,     17, SI9417,2,19940401,1633,-15.7528, -75.3222, 2280,    699.2,   5.7406,  34.5037,2,  34.5111,2,     37.6,2,     32.9,2,    54.89,2,    44.05,2,     0.00,2,     3.12,2, -999.000,9, -999.000,9, -999.000,1,-999.0000,1,  -999.00,9,   -999.0,1,-999.000,9,   -999.0,9,   -999.0,9,  -999.00,9, 7024.7,-999.0000,-999.000,-999.000,  5.6799,-999.000
   318MWESTW_4,  P21E,    16,  1,     16, SI9416,2,19940401,1633,-15.7528, -75.3222, 2280,    800.3,   5.1343,  34.5198,2,  34.5217,2,     37.2,2,     37.1,2,    66.04,2,    44.46,2,     0.00,2,     3.16,2, -999.000,9, -999.000,9, -999.000,1,-999.0000,1,  -999.00,9,   -999.0,1,-999.000,9,   -999.0,9,   -999.0,9,  -999.00,9, 8034.8,-999.0000,-999.000,-999.000,  5.0679,-999.000
   318MWESTW_4,  P21E,    16,  1,     15, SI9415,2,19940401,1633,-15.7528, -75.3222, 2280,    900.2,   4.7845,  34.5279,2,  34.5264,2,     44.1,2,     43.8,2,    73.36,2,    44.11,2,     0.00,2,     3.16,2, -999.000,9, -999.000,9, -999.000,1,-999.0000,1,  -999.00,9,   -999.0,1,-999.000,9,   -999.0,9,   -999.0,9,  -999.00,9, 9031.9,-999.0000,-999.000,-999.000,  4.7116,-999.000
   318MWESTW_4,  P21E,    16,  1,     14, SI9414,2,19940401,1633,-15.7528, -75.3222, 2280,    999.6,   4.3894,  34.5399,2,  34.5376,2,     54.0,2,     52.4,2,    82.25,2,    43.11,2,     0.00,2,     3.12,2, -999.000,9, -999.000,9, -999.000,1,-999.0000,1,  -999.00,9,   -999.0,1,-999.000,9,   -999.0,9,   -999.0,9,  -999.00,9,10025.0,-999.0000,-999.000,-999.000,  4.3107,-999.000
   318MWESTW_4,  P21E,    16,  1,     13, SI9413,2,19940401,1633,-15.7528, -75.3222, 2280,   1097.3,   4.0398,  34.5527,2,  34.5478,2,     63.1,2,     60.7,2,    89.23,2,    42.46,2,     0.00,2,     3.08,2, -999.000,9, -999.000,9, -999.000,1,-999.0000,1,  -999.00,9,   -999.0,1,-999.000,9,   -999.0,9,   -999.0,9,  -999.00,9,11000.7,-999.0000,-999.000,-999.000,  3.9556,-999.000
   318MWESTW_4,  P21E,    16,  1,     12, SI9412,2,19940401,1633,-15.7528, -75.3222, 2280,   1199.2,   3.7036,  34.5655,2,  34.5635,2,     69.3,2,     67.4,2,    97.59,2,    41.88,2,     0.00,2,     3.04,2, -999.000,9, -999.000,9, -999.000,1,-999.0000,1,  -999.00,9,   -999.0,1,-999.000,9,   -999.0,9,   -999.0,9,  -999.00,9,12019.1,-999.0000,-999.000,-999.000,  3.6137,-999.000
   318MWESTW_4,  P21E,    16,  1,     11, SI9411,2,19940401,1633,-15.7528, -75.3222, 2280,   1297.6,   3.4471,  34.5751,2,  34.5734,2,     74.0,2,     73.2,2,   103.87,2,    41.35,2,     0.00,2,     3.01,2, -999.000,9, -999.000,9, -999.000,1,-999.0000,1,  -999.00,9,   -999.0,1,-999.000,9,   -999.0,9,   -999.0,9,  -999.00,9,13002.1,-999.0000,-999.000,-999.000,  3.3514,-999.000
   318MWESTW_4,  P21E,    16,  1,     10, SI9410,2,19940401,1633,-15.7528, -75.3222, 2280,   1399.3,   3.2664,  34.5845,2,  34.5842,2,     75.8,2,     76.0,2,   109.63,2,    41.17,2,     0.00,2,     2.99,2, -999.000,9, -999.000,9, -999.000,1,-999.0000,1,  -999.00,9,   -999.0,1,-999.000,9,   -999.0,9,   -999.0,9,  -999.00,9,14017.9,-999.0000,-999.000,-999.000,  3.1640,-999.000
   318MWESTW_4,  P21E,    16,  1,      9, SI9409,2,19940401,1633,-15.7528, -75.3222, 2280,   1498.7,   3.0883,  34.5960,2,  34.5938,2,     80.5,2,     79.8,2,   114.17,2,    40.59,2,     0.00,2,     2.95,2, -999.000,9, -999.000,9, -999.000,1,-999.0000,1,  -999.00,9,   -999.0,1,-999.000,9,   -999.0,9,   -999.0,9,  -999.00,9,15010.7,-999.0000,-999.000,-999.000,  2.9795,-999.000
   318MWESTW_4,  P21E,    16,  1,      8, SI9408,2,19940401,1633,-15.7528, -75.3222, 2280,   1600.4,   2.8189,  34.6066,2,  34.6060,2,     92.7,2,     91.3,2,   117.32,2,    39.70,2,     0.01,2,     2.87,2, -999.000,9, -999.000,9, -999.000,1,-999.0000,1,  -999.00,9,   -999.0,1,-999.000,9,   -999.0,9,   -999.0,9,  -999.00,9,16026.9,-999.0000,-999.000,-999.000,  2.7047,-999.000
   318MWESTW_4,  P21E,    16,  1,      7, SI9407,2,19940401,1633,-15.7528, -75.3222, 2280,   1696.1,   2.6446,  34.6196,2,  34.6185,2,     92.7,2,     92.9,2,   124.64,2,    39.53,2,     0.01,2,     2.86,2, -999.000,9, -999.000,9, -999.000,1,-999.0000,1,  -999.00,9,   -999.0,1,-999.000,9,   -999.0,9,   -999.0,9,  -999.00,9,16983.0,-999.0000,-999.000,-999.000,  2.5246,-999.000
   318MWESTW_4,  P21E,    16,  1,      6, SI9406,2,19940401,1633,-15.7528, -75.3222, 2280,   1801.3,   2.5030,  34.6294,2,  34.6280,2,     97.3,2,     97.3,2,   127.96,2,    39.47,2,     0.01,2,     2.82,2, -999.000,9, -999.000,9, -999.000,1,-999.0000,1,  -999.00,9,   -999.0,1,-999.000,9,   -999.0,9,   -999.0,9,  -999.00,9,18033.1,-999.0000,-999.000,-999.000,  2.3760,-999.000
   318MWESTW_4,  P21E,    16,  1,      5, SI9405,2,19940401,1633,-15.7528, -75.3222, 2280,   1905.4,   2.3350,  34.6391,2,  34.6384,2,    101.2,2,    102.1,2,   133.36,2,    39.06,2,     0.01,2,     2.80,2, -999.000,9, -999.000,9, -999.000,1,-999.0000,1,  -999.00,9,   -999.0,1,-999.000,9,   -999.0,9,   -999.0,9,  -999.00,9,19073.9,-999.0000,-999.000,-999.000,  2.2015,-999.000
   318MWESTW_4,  P21E,    16,  1,      4, SI9404,2,19940401,1633,-15.7528, -75.3222, 2280,   2005.5,   2.2557,  34.6466,2,  34.6455,2,    105.9,2,    105.6,2,   135.64,2,    38.76,2,     0.02,2,     2.78,2, -999.000,9, -999.000,9, -999.000,1,-999.0000,1,  -999.00,9,   -999.0,1,-999.000,9,   -999.0,9,   -999.0,9,  -999.00,9,20073.5,-999.0000,-999.000,-999.000,  2.1149,-999.000
   318MWESTW_4,  P21E,    16,  1,      3, SI9403,2,19940401,1633,-15.7528, -75.3222, 2280,   2095.4,   2.2085,  34.6503,2,  34.6482,2,    107.9,2,    107.3,2,   136.35,2,    38.52,2,     0.02,2,     2.76,2, -999.000,9, -999.000,9, -999.000,1,-999.0000,1,  -999.00,9,   -999.0,1,-999.000,9,   -999.0,9,   -999.0,9,  -999.00,9,20971.4,-999.0000,-999.000,-999.000,  2.0606,-999.000
   318MWESTW_4,  P21E,    16,  1,      2, SI9402,2,19940401,1633,-15.7528, -75.3222, 2280,   2177.3,   2.1608,  34.6534,2,  34.6510,2,    110.1,2,    110.6,2,   136.55,2,    38.11,2,     0.02,2,     2.74,2, -999.000,9, -999.000,9, -999.000,1,-999.0000,1,  -999.00,9,   -999.0,1,-999.000,9,   -999.0,9,   -999.0,9,  -999.00,9,21790.1,-999.0000,-999.000,-999.000,  2.0065,-999.000
   318MWESTW_4,  P21E,    16,  1,      1, SI9401,2,19940401,1633,-15.7528, -75.3222, 2280,   2231.1,   2.1454,  34.6535,2,  34.6510,2,    110.8,2,    111.7,2,   136.83,2,    38.08,2,     0.02,2,     2.75,2, -999.000,9, -999.000,9, -999.000,1,-999.0000,1,  -999.00,9,   -999.0,1,-999.000,9,   -999.0,9,   -999.0,9,  -999.00,9,22327.1,-999.0000,-999.000,-999.000,  1.9867,-999.000