BOTTLE,20020809WHPSIObren
#code : jjward hyd_to_exchange.pl 
#original files copied from HTML directory: 20020809
#original HYD file: /whpo/11/HOTS/BOTTLE/hot44/hot44.sea   Fri Aug  9 09:51:33 2002
#original SUM file: /whpo/11/HOTS/BOTTLE/hot44/hot44.sum   Fri Aug  9 13:30:36 2002
EXPOCODE,SECT_ID,STNNBR,CASTNO,SAMPNO,BTLNBR,BTLNBR_FLAG_W,DATE,TIME,LATITUDE,LONGITUDE,DEPTH,CTDPRS,CTDTMP,CTDSAL,CTDSAL_FLAG_W,SALNTY,SALNTY_FLAG_W,CTDOXY,CTDOXY_FLAG_W,OXYGEN,OXYGEN_FLAG_W,SILCAT,SILCAT_FLAG_W,NO2+NO3,NO2+NO3_FLAG_W,PHSPHT,PHSPHT_FLAG_W,CTDRAW,REVTMP,REVPRS,THETA
,,,,,,,,,,,,DBAR,ITS-90,PSS-78,,PSS-78,,UMOL/KG,,UMOL/KG,,UMOL/KG,,UMOL/KG,,UMOL/KG,,,DEG C,DBAR,ITS-90
     31TC044_1,  PRS2,     1,  1,      1,      1,2,19930119,0357, 21.3450,-158.2717, 1600,      8.2,  24.3082,  34.8497,2,  34.8472,2,    202.0,2,    206.8,2,     4.18,3,     2.40,3,     0.26,3,      9,-999.000,  -999.0, 24.3064
     31TC044_1,  PRS2,     1,  1,     12,     12,2,19930119,0357, 21.3450,-158.2717, 1600,     97.4,  23.0431,  35.0736,2,  35.0834,4,    198.9,3,    202.3,2,     1.37,2,     0.40,2,     0.11,2,     97,-999.000,  -999.0, 23.0232
     31TC044_1,  PRS2,     1,  1,     11,     11,2,19930119,0357, 21.3450,-158.2717, 1600,    123.2,  21.3035,  35.0581,2,  35.0613,2,    192.6,2,    194.2,2,     1.79,2,     1.31,2,     0.21,2,    123,-999.000,  -999.0, 21.2797
     31TC044_1,  PRS2,     1,  1,     10,     10,2,19930119,0357, 21.3450,-158.2717, 1600,    123.2,  21.3035,  35.0581,2,  35.0620,2,    192.6,2,    191.4,2,     1.98,2,     1.79,2,     0.24,2,    123,-999.000,  -999.0, 21.2797
     31TC044_1,  PRS2,     1,  1,      9,      9,2,19930119,0357, 21.3450,-158.2717, 1600,    123.2,  21.3035,  35.0581,2,  35.0207,4,    192.6,3,    191.7,2,     1.92,2,     1.80,2,     0.24,2,    123,-999.000,  -999.0, 21.2797
     31TC044_1,  PRS2,     1,  1,      8,     29,2,19930119,0357, 21.3450,-158.2717, 1600,    149.8,  20.5971,  35.0553,2,  35.0571,2,    187.6,2,    187.5,2,     2.48,2,     2.74,2,     0.30,2,    151,-999.000,  -999.0, 20.5688
     31TC044_1,  PRS2,     1,  1,      7,     28,2,19930119,0357, 21.3450,-158.2717, 1600,    177.5,  19.6099,  35.0160,2,  35.0140,2,    182.7,2,    187.0,2,     2.43,2,     2.79,2,     0.31,2,    177,-999.000,  -999.0, 19.5775
     31TC044_1,  PRS2,     1,  1,      6,      7,2,19930119,0357, 21.3450,-158.2717, 1600,    251.2,  15.0528,  34.5421,2,  34.5539,2,    169.8,2,    169.8,2,     7.71,2,     8.99,2,     0.75,2,    251,-999.000,  -999.0, 15.0147
     31TC044_1,  PRS2,     1,  1,      5,     23,2,19930119,0357, 21.3450,-158.2717, 1600,    251.2,  15.0528,  34.5421,2,  34.5487,2,    169.8,2,    169.8,2,     7.73,2,     9.11,2,     0.76,2,    251,-999.000,  -999.0, 15.0147
     31TC044_1,  PRS2,     1,  1,      4,     25,2,19930119,0357, 21.3450,-158.2717, 1600,    299.4,  11.8557,  34.2743,2,  34.2724,2,    173.4,2,    176.9,2,    14.62,2,    13.81,2,     1.08,2,    300,-999.000,  -999.0, 11.8171
     31TC044_1,  PRS2,     1,  1,      3,      3,3,19930119,0357, 21.3450,-158.2717, 1600,    497.2,   7.2638,  34.1452,2,  34.1464,2,     94.4,2,     96.5,2,    50.86,2,    30.00,2,     2.28,2,    498,-999.000,  -999.0,  7.2159
     31TC044_1,  PRS2,     1,  1,      2,      2,2,19930119,0357, 21.3450,-158.2717, 1600,    497.2,   7.2638,  34.1452,2,  34.1446,2,     94.4,2,     96.6,2,    51.17,2,    30.17,2,     2.30,2,    498,-999.000,  -999.0,  7.2159
     31TC044_1,  PRS2,     2,  1,     12,     12,4,19930119,2143, 22.7483,-157.9983, 4750,    472.3,   8.2817,  34.1068,2,-999.0000,5,    141.6,2,   -999.0,5,  -999.00,5,  -999.00,5,  -999.00,5,    472,-999.000,  -999.0,  8.2327
     31TC044_1,  PRS2,     2,  1,     11,     11,2,19930119,2143, 22.7483,-157.9983, 4750,    491.4,   7.6922,  34.0723,2,  34.0756,2,    138.3,2,    131.2,2,    40.06,2,    26.56,2,     1.92,2,    493,-999.000,  -999.0,  7.6433
     31TC044_1,  PRS2,     2,  1,     10,     10,2,19930119,2143, 22.7483,-157.9983, 4750,    498.4,   7.4952,  34.0706,2,  34.0693,2,    122.5,2,    124.9,2,    42.62,2,    27.70,2,     1.99,2,    499,-999.000,  -999.0,  7.4464
     31TC044_1,  PRS2,     2,  1,      9,      9,2,19930119,2143, 22.7483,-157.9983, 4750,    515.6,   7.3052,  34.0692,2,-999.0000,5,    120.2,2,    118.8,2,    44.77,2,    28.43,2,     2.06,2,    517,-999.000,  -999.0,  7.2554
     31TC044_1,  PRS2,     2,  1,      8,     29,2,19930119,2143, 22.7483,-157.9983, 4750,    557.7,   6.6763,  34.0949,2,  34.0699,3,     96.5,3,     87.6,2,    54.56,2,    32.28,2,     2.37,2,    558,-999.000,  -999.0,  6.6248
     31TC044_1,  PRS2,     2,  1,      7,     28,2,19930119,2143, 22.7483,-157.9983, 4750,    599.1,   6.2222,  34.1159,2,  34.1134,2,     72.9,2,     70.1,2,    62.18,2,    34.77,2,     2.55,2,    600,-999.000,  -999.0,  6.1688
     31TC044_1,  PRS2,     2,  1,      6,      7,2,19930119,2143, 22.7483,-157.9983, 4750,    671.4,   5.2422,  34.1693,2,  34.1699,2,     38.3,2,     36.1,2,    80.98,2,    39.34,2,     2.86,2,    673,-999.000,  -999.0,  5.1870
     31TC044_1,  PRS2,     2,  1,      5,     23,2,19930119,2143, 22.7483,-157.9983, 4750,    772.7,   4.7951,  34.2901,2,  34.2979,3,     24.2,3,     23.6,2,    92.13,2,    41.45,2,     3.04,2,    772,-999.000,  -999.0,  4.7335
     31TC044_1,  PRS2,     2,  1,      4,     25,2,19930119,2143, 22.7483,-157.9983, 4750,    842.6,   4.5335,  34.3741,2,  34.3738,2,     25.7,2,     26.6,2,    95.94,2,    41.83,2,     3.03,2,    843,-999.000,  -999.0,  4.4675
     31TC044_1,  PRS2,     2,  1,      3,      3,2,19930119,2143, 22.7483,-157.9983, 4750,    962.8,   4.1839,  34.4506,2,  34.4697,4,     35.4,3,     36.4,2,   106.18,2,    41.89,2,     3.02,2,    962,-999.000,  -999.0,  4.1100
     31TC044_1,  PRS2,     2,  1,      2,      2,2,19930119,2143, 22.7483,-157.9983, 4750,   1021.8,   4.0493,  34.4774,2,  34.4821,2,     40.0,2,     39.1,2,   108.40,2,    41.90,2,     3.02,2,   1021,-999.000,  -999.0,  3.9715
     31TC044_1,  PRS2,     2,  1,      1,      1,4,19930119,2143, 22.7483,-157.9983, 4750,   1021.8,   4.0493,  34.4774,2,-999.0000,5,     40.0,2,   -999.0,5,  -999.00,5,  -999.00,5,  -999.00,5,   1021,-999.000,  -999.0,  3.9715
     31TC044_1,  PRS2,     2,  2,     12,     12,2,19930120,0024, 22.7522,-157.9932, 4750,      8.9,  22.9016,  35.0415,2,  35.0460,2,   -999.0,5,    211.6,2,     1.03,2,     0.01,2,     0.05,2,     10,-999.000,  -999.0, 22.8998
     31TC044_1,  PRS2,     2,  2,     11,     11,2,19930120,0024, 22.7522,-157.9932, 4750,     34.5,  22.8683,  35.0441,2,  35.0459,2,   -999.0,5,    211.8,2,     1.03,2,     0.00,2,     0.05,2,     35,-999.000,  -999.0, 22.8613
     31TC044_1,  PRS2,     2,  2,     10,     10,2,19930120,0024, 22.7522,-157.9932, 4750,     53.9,  22.7848,  35.0899,2,  35.0880,2,   -999.0,5,   -999.0,5,     1.03,2,     0.01,2,     0.05,2,     53,-999.000,  -999.0, 22.7739
     31TC044_1,  PRS2,     2,  2,      9,      9,2,19930120,0024, 22.7522,-157.9932, 4750,    101.7,  22.7047,  35.1077,2,  35.1082,2,   -999.0,5,    211.6,2,     1.04,2,     0.01,2,     0.04,2,    102,-999.000,  -999.0, 22.6842
     31TC044_1,  PRS2,     2,  2,      8,     29,2,19930120,0024, 22.7522,-157.9932, 4750,    105.5,  22.6992,  35.1093,2,  35.1134,2,   -999.0,5,    211.0,2,     1.51,2,     0.01,2,     0.05,2,    106,-999.000,  -999.0, 22.6778
     31TC044_1,  PRS2,     2,  2,      7,     28,2,19930120,0024, 22.7522,-157.9932, 4750,    146.7,  21.9363,  35.1838,2,  35.1832,2,   -999.0,5,    210.8,2,     1.80,2,     0.60,2,     0.11,2,    147,-999.000,  -999.0, 21.9073
     31TC044_1,  PRS2,     2,  2,      6,      7,2,19930120,0024, 22.7522,-157.9932, 4750,    229.1,  18.3032,  34.9968,2,  34.9968,2,   -999.0,5,    201.4,2,     3.37,2,     2.82,2,     0.25,2,    229,-999.000,  -999.0, 18.2633
     31TC044_1,  PRS2,     2,  2,      5,     23,2,19930120,0024, 22.7522,-157.9932, 4750,    279.6,  15.3559,  34.6484,2,  34.6465,2,   -999.0,5,    205.4,2,     6.04,2,     5.40,2,     0.42,2,    280,-999.000,  -999.0, 15.3129
     31TC044_1,  PRS2,     2,  2,      4,     25,2,19930120,0024, 22.7522,-157.9932, 4750,    297.7,  14.6892,  34.5637,2,  34.5628,2,   -999.0,5,    206.0,2,     7.15,2,     6.84,2,     0.53,2,    298,-999.000,  -999.0, 14.6448
     31TC044_1,  PRS2,     2,  2,      3,      3,2,19930120,0024, 22.7522,-157.9932, 4750,    338.6,  12.8923,  34.3690,2,  34.3698,2,   -999.0,5,    206.9,2,    10.42,2,    10.20,2,     0.79,2,    339,-999.000,  -999.0, 12.8460
     31TC044_1,  PRS2,     2,  2,      2,      2,2,19930120,0024, 22.7522,-157.9932, 4750,    395.8,  11.2144,  34.2253,2,  34.2267,2,   -999.0,5,    192.1,2,    15.05,2,    13.81,2,     1.02,2,    397,-999.000,  -999.0, 11.1650
     31TC044_1,  PRS2,     2,  2,      1,      1,4,19930120,0024, 22.7522,-157.9932, 4750,   1019.1,   4.1074,  34.4690,2,-999.0000,5,   -999.0,5,   -999.0,5,  -999.00,5,  -999.00,5,  -999.00,5,   1019,-999.000,  -999.0,  4.0294
     31TC044_1,  PRS2,     2,  3,     12,     12,2,19930120,0354, 22.7467,-157.9933, 4750,    275.4,  15.5768,  34.6682,2,  34.6668,2,    200.2,2,    198.7,2,     5.95,2,     5.66,2,     0.45,2,    275,-999.000,  -999.0, 15.5340
     31TC044_1,  PRS2,     2,  3,     11,     11,2,19930120,0354, 22.7467,-157.9933, 4750,    299.5,  14.5127,  34.5419,2,  34.5423,2,    197.5,2,    196.9,2,     7.79,2,     7.51,2,     0.59,2,    300,-999.000,  -999.0, 14.4684
     31TC044_1,  PRS2,     2,  3,     10,     10,2,19930120,0354, 22.7467,-157.9933, 4750,    323.6,  13.1537,  34.3937,2,  34.1205,4,    190.0,3,     69.5,4,    62.37,4,    34.61,4,     2.55,4,    324,-999.000,  -999.0, 13.1089
     31TC044_1,  PRS2,     2,  3,      9,      9,2,19930120,0354, 22.7467,-157.9933, 4750,    349.0,  12.4403,  34.3245,2,  34.3281,2,    192.3,2,    193.2,2,    11.81,2,    11.49,2,     0.88,2,    348,-999.000,  -999.0, 12.3938
     31TC044_1,  PRS2,     2,  3,      8,     29,2,19930120,0354, 22.7467,-157.9933, 4750,    393.8,  10.5290,  34.1856,2,  34.1885,2,    183.1,2,    183.1,2,    18.24,2,    15.79,2,     1.20,2,    394,-999.000,  -999.0, 10.4818
     31TC044_1,  PRS2,     2,  3,      7,     28,2,19930120,0354, 22.7467,-157.9933, 4750,    498.9,   7.9836,  34.0784,2,  34.0779,2,    141.2,2,    143.9,2,    36.25,2,    24.88,2,     1.82,2,    498,-999.000,  -999.0,  7.9329
     31TC044_1,  PRS2,     2,  3,      6,      7,2,19930120,0354, 22.7467,-157.9933, 4750,    603.6,   6.0528,  34.1301,2,  34.1286,2,     63.8,2,     63.9,2,    64.25,2,    35.39,2,     2.63,2,    603,-999.000,  -999.0,  5.9997
     31TC044_1,  PRS2,     2,  3,      5,     23,2,19930120,0354, 22.7467,-157.9933, 4750,    707.2,   5.0001,  34.2225,2,  34.2257,2,     27.5,2,     27.7,2,    86.66,2,    40.49,2,     2.97,2,    707,-999.000,  -999.0,  4.9430
     31TC044_1,  PRS2,     2,  3,      4,     25,2,19930120,0354, 22.7467,-157.9933, 4750,    797.1,   4.6472,  34.3372,2,  34.3410,2,     23.3,2,     24.2,2,    96.42,2,    41.67,2,     3.05,2,    796,-999.000,  -999.0,  4.5844
     31TC044_1,  PRS2,     2,  3,      3,      3,3,19930120,0354, 22.7467,-157.9933, 4750,    898.2,   4.3385,  34.4065,2,  34.4065,2,     27.4,2,     45.8,4,   103.22,2,    42.09,2,     3.06,2,    897,-999.000,  -999.0,  4.2690
     31TC044_1,  PRS2,     2,  3,      2,      2,2,19930120,0354, 22.7467,-157.9933, 4750,   1023.1,   4.0081,  34.4833,2,  34.4845,2,     40.5,2,     40.9,2,   107.25,2,    41.81,2,     3.02,2,   1023,-999.000,  -999.0,  3.9305
     31TC044_1,  PRS2,     2,  3,      1,      1,4,19930120,0354, 22.7467,-157.9933, 4750,   1023.1,   4.0081,  34.4833,2,-999.0000,5,     40.5,2,   -999.0,5,  -999.00,5,  -999.00,5,  -999.00,5,   1023,-999.000,  -999.0,  3.9305
     31TC044_1,  PRS2,     2,  4,      1,      1,2,19930120,0548, 22.7517,-158.0017, 4750,      8.9,  22.8458,  35.0484,2,  35.0492,2,    210.5,2,    212.1,2,  -999.00,5,  -999.00,5,  -999.00,5,      9,-999.000,  -999.0, 22.8440
     31TC044_1,  PRS2,     2,  4,     12,     12,2,19930120,0548, 22.7517,-158.0017, 4750,    135.1,  22.4555,  35.1749,2,  35.1717,2,    208.1,2,    206.0,2,     1.22,2,     0.26,2,     0.06,2,    135,-999.000,  -999.0, 22.4284
     31TC044_1,  PRS2,     2,  4,     11,     11,2,19930120,0548, 22.7517,-158.0017, 4750,    149.7,  21.5099,  35.1766,2,  35.1774,2,    195.6,2,    195.7,2,     1.39,2,     0.97,2,     0.14,2,    150,-999.000,  -999.0, 21.4807
     31TC044_1,  PRS2,     2,  4,     10,     10,2,19930120,0548, 22.7517,-158.0017, 4750,    160.5,  21.0098,  35.1677,2,  35.1661,2,    195.2,2,    193.6,2,     1.47,2,     1.21,2,     0.17,2,    160,-999.000,  -999.0, 20.9790
     31TC044_1,  PRS2,     2,  4,      9,      9,2,19930120,0548, 22.7517,-158.0017, 4750,    173.8,  19.8975,  35.1256,2,  35.1249,2,    190.5,2,    192.0,2,  -999.00,5,  -999.00,5,  -999.00,5,    175,-999.000,  -999.0, 19.8654
     31TC044_1,  PRS2,     2,  4,      8,     29,2,19930120,0548, 22.7517,-158.0017, 4750,    198.1,  18.4734,  35.0280,2,  35.0280,2,    195.4,2,    194.1,2,     1.90,2,     1.84,2,     0.20,2,    199,-999.000,  -999.0, 18.4387
     31TC044_1,  PRS2,     2,  4,      7,     28,2,19930120,0548, 22.7517,-158.0017, 4750,    198.1,  18.4734,  35.0280,2,  35.0281,2,    195.4,2,    195.9,2,  -999.00,5,  -999.00,5,  -999.00,5,    199,-999.000,  -999.0, 18.4387
     31TC044_1,  PRS2,     2,  4,      6,      7,2,19930120,0548, 22.7517,-158.0017, 4750,    209.9,  17.5682,  34.9133,2,-999.0000,5,    196.3,2,    197.5,2,     3.97,2,     3.42,2,     0.29,2,    211,-999.000,  -999.0, 17.5328
     31TC044_1,  PRS2,     2,  4,      5,     23,2,19930120,0548, 22.7517,-158.0017, 4750,    226.2,  16.5764,  34.7896,2,  34.7932,2,    197.9,2,    197.8,2,     4.95,2,     4.45,2,     0.37,2,    227,-999.000,  -999.0, 16.5398
     31TC044_1,  PRS2,     2,  4,      4,     25,2,19930120,0548, 22.7517,-158.0017, 4750,    233.5,  16.4061,  34.7699,2,  34.7672,2,    197.9,2,    197.9,2,     5.14,2,     4.71,2,     0.39,2,    233,-999.000,  -999.0, 16.3685
     31TC044_1,  PRS2,     2,  4,      3,      3,2,19930120,0548, 22.7517,-158.0017, 4750,    249.3,  15.9114,  34.7109,2,  34.7121,2,    199.0,2,    200.3,2,     5.77,2,     5.08,2,     0.41,2,    250,-999.000,  -999.0, 15.8721
     31TC044_1,  PRS2,     2,  4,      2,      2,2,19930120,0548, 22.7517,-158.0017, 4750,   1028.8,   3.9875,  34.4853,2,  34.4877,2,     40.3,2,     41.1,2,   109.49,2,    41.29,2,     2.99,2,   1030,-999.000,  -999.0,  3.9095
     31TC044_1,  PRS2,     2,  5,     12,     12,2,19930120,0856, 22.7483,-157.9983, 4750,      9.1,  22.8101,  35.0553,2,  35.0532,2,    212.5,2,    211.6,2,     1.33,2,     0.00,2,     0.06,2,     11,-999.000,  -999.0, 22.8083
     31TC044_1,  PRS2,     2,  5,     11,     11,2,19930120,0856, 22.7483,-157.9983, 4750,     24.7,  22.7933,  35.0874,2,  35.0796,2,    212.3,2,    211.5,2,     1.31,2,     0.01,2,     0.05,2,     25,-999.000,  -999.0, 22.7883
     31TC044_1,  PRS2,     2,  5,     10,     10,2,19930120,0856, 22.7483,-157.9983, 4750,     35.6,  22.7765,  35.0956,2,  35.1067,3,    212.8,3,    210.5,2,     1.25,2,     0.00,2,     0.04,2,     36,-999.000,  -999.0, 22.7693
     31TC044_1,  PRS2,     2,  5,      9,      9,2,19930120,0856, 22.7483,-157.9983, 4750,     45.3,  22.7714,  35.0944,2,  35.0923,2,    212.8,2,    211.4,2,     1.23,2,     0.00,2,     0.04,2,     45,-999.000,  -999.0, 22.7622
     31TC044_1,  PRS2,     2,  5,      8,     29,4,19930120,0856, 22.7483,-157.9983, 4750,     58.5,  22.7585,  35.0991,2,  34.4911,4,    213.1,3,   -999.0,5,  -999.00,5,  -999.00,5,  -999.00,5,     58,-999.000,  -999.0, 22.7467
     31TC044_1,  PRS2,     2,  5,      7,     28,2,19930120,0856, 22.7483,-157.9983, 4750,     75.5,  22.7486,  35.1046,2,  35.1032,2,    213.1,2,    210.9,2,     1.21,2,     0.00,2,     0.04,2,     77,-999.000,  -999.0, 22.7333
     31TC044_1,  PRS2,     2,  5,      6,      7,2,19930120,0856, 22.7483,-157.9983, 4750,     86.1,  22.7500,  35.1052,2,  35.1055,2,    213.0,2,    210.7,2,     1.21,2,     0.00,2,     0.04,2,     86,-999.000,  -999.0, 22.7326
     31TC044_1,  PRS2,     2,  5,      5,     23,2,19930120,0856, 22.7483,-157.9983, 4750,     95.3,  22.7518,  35.1068,2,  35.1069,2,    213.0,2,    210.6,2,     1.18,2,     0.00,2,     0.04,2,     96,-999.000,  -999.0, 22.7325
     31TC044_1,  PRS2,     2,  5,      4,     25,2,19930120,0856, 22.7483,-157.9983, 4750,    104.0,  22.7535,  35.1075,2,  35.1095,2,    213.0,2,    210.4,2,     1.27,2,     0.00,2,     0.04,2,    104,-999.000,  -999.0, 22.7325
     31TC044_1,  PRS2,     2,  5,      3,      3,3,19930120,0856, 22.7483,-157.9983, 4750,    111.2,  22.7555,  35.1091,2,-999.0000,5,    212.9,2,    208.0,2,  -999.00,5,  -999.00,5,  -999.00,5,    112,-999.000,  -999.0, 22.7329
     31TC044_1,  PRS2,     2,  5,      2,      2,2,19930120,0856, 22.7483,-157.9983, 4750,    130.4,  22.7090,  35.1289,2,  35.1300,2,    212.9,2,    209.2,2,     1.21,2,     0.04,2,     0.04,2,    131,-999.000,  -999.0, 22.6826
     31TC044_1,  PRS2,     2,  5,      1,      1,2,19930120,0856, 22.7483,-157.9983, 4750,   1025.3,   3.9725,  34.4878,2,  34.4889,2,     41.2,2,     42.0,2,  -999.00,5,  -999.00,5,  -999.00,5,   1025,-999.000,  -999.0,  3.8950
     31TC044_1,  PRS2,     2,  6,     12,     12,2,19930120,1319, 22.7533,-157.9967, 4750,      6.4,  22.7744,  35.0666,2,  35.0685,2,    214.6,1,   -999.0,9,  -999.00,9,  -999.00,9,  -999.00,9,      7,-999.000,  -999.0, 22.7731
     31TC044_1,  PRS2,     2,  6,     11,     11,2,19930120,1319, 22.7533,-157.9967, 4750,      6.5,  22.7852,  35.0692,2,  35.0684,2,    214.7,1,   -999.0,9,  -999.00,9,  -999.00,9,  -999.00,9,      7,-999.000,  -999.0, 22.7839
     31TC044_1,  PRS2,     2,  6,     10,     10,2,19930120,1319, 22.7533,-157.9967, 4750,      6.6,  22.7822,  35.0690,2,  35.0678,2,    214.7,1,   -999.0,9,  -999.00,9,  -999.00,9,  -999.00,9,      6,-999.000,  -999.0, 22.7809
     31TC044_1,  PRS2,     2,  6,      9,      9,4,19930120,1319, 22.7533,-157.9967, 4750,    177.4,  20.7111,  35.1587,2,-999.0000,5,    193.7,1,   -999.0,9,  -999.00,9,  -999.00,9,  -999.00,9,    178,-999.000,  -999.0, 20.6775
     31TC044_1,  PRS2,     2,  6,      8,     29,4,19930120,1319, 22.7533,-157.9967, 4750,    497.7,   7.9376,  34.0694,2,-999.0000,5,    147.6,1,   -999.0,9,  -999.00,9,  -999.00,9,  -999.00,9,    499,-999.000,  -999.0,  7.8872
     31TC044_1,  PRS2,     2,  6,      5,     23,2,19930120,1319, 22.7533,-157.9967, 4750,    497.7,   7.9273,  34.0683,2,-999.0000,5,    148.3,1,   -999.0,9,  -999.00,9,  -999.00,9,  -999.00,9,    497,-999.000,  -999.0,  7.8769
     31TC044_1,  PRS2,     2,  6,      6,      7,2,19930120,1319, 22.7533,-157.9967, 4750,    497.8,   7.9306,  34.0690,2,  34.0690,2,    148.2,1,   -999.0,9,  -999.00,9,  -999.00,9,  -999.00,9,    499,-999.000,  -999.0,  7.8802
     31TC044_1,  PRS2,     2,  6,      4,     25,2,19930120,1319, 22.7533,-157.9967, 4750,    497.8,   7.9238,  34.0686,2,  34.0701,2,    148.4,1,   -999.0,9,  -999.00,9,  -999.00,9,  -999.00,9,    498,-999.000,  -999.0,  7.8734
     31TC044_1,  PRS2,     2,  6,      7,     28,4,19930120,1319, 22.7533,-157.9967, 4750,    497.9,   7.9359,  34.0696,2,-999.0000,5,    147.9,1,   -999.0,9,  -999.00,9,  -999.00,9,  -999.00,9,    498,-999.000,  -999.0,  7.8855
     31TC044_1,  PRS2,     2,  6,      3,      3,2,19930120,1319, 22.7533,-157.9967, 4750,    497.9,   7.8917,  34.0680,2,  34.0682,2,    148.9,1,   -999.0,9,  -999.00,9,  -999.00,9,  -999.00,9,    498,-999.000,  -999.0,  7.8414
     31TC044_1,  PRS2,     2,  6,      2,      2,2,19930120,1319, 22.7533,-157.9967, 4750,    539.5,   6.8404,  34.0622,2,  34.0514,4,    111.7,1,   -999.0,9,  -999.00,9,  -999.00,9,  -999.00,9,    540,-999.000,  -999.0,  6.7900
     31TC044_1,  PRS2,     2,  6,      1,      1,2,19930120,1319, 22.7533,-157.9967, 4750,   1024.5,   4.0089,  34.4844,2,  34.4868,2,     41.7,1,   -999.0,9,  -999.00,9,  -999.00,9,  -999.00,9,   1025,-999.000,  -999.0,  3.9311