BOTTLE,20020809WHPSIObren
EXPOCODE,SECT_ID,STNNBR,CASTNO,SAMPNO,BTLNBR,BTLNBR_FLAG_W,DATE,TIME,LATITUDE,LONGITUDE,DEPTH,CTDPRS,CTDTMP,CTDSAL,CTDSAL_FLAG_W,SALNTY,SALNTY_FLAG_W,CTDOXY,CTDOXY_FLAG_W,OXYGEN,OXYGEN_FLAG_W,SILCAT,SILCAT_FLAG_W,NO2+NO3,NO2+NO3_FLAG_W,PHSPHT,PHSPHT_FLAG_W,CTDRAW,REVTMP,REVPRS,THETA
,,,,,,,,,,,,DBAR,ITS-90,PSS-78,,PSS-78,,UMOL/KG,,UMOL/KG,,UMOL/KG,,UMOL/KG,,UMOL/KG,,,DEG C,DBAR,ITS-90
     31TC044_1,  PRS2,     2,  7,     12,     12,2,19930120,1642, 22.7422,-157.9958, 4750,      3.9,  22.8935,  35.0560,2,  35.0541,2,    209.0,1,   -999.0,9,  -999.00,9,  -999.00,9,  -999.00,9,      4,-999.000,  -999.0, 22.8927
     31TC044_1,  PRS2,     2,  7,     10,     10,2,19930120,1642, 22.7422,-157.9958, 4750,    164.7,  21.8535,  35.1725,2,  35.1733,2,    204.6,1,   -999.0,9,  -999.00,9,  -999.00,9,  -999.00,9,    164,-999.000,  -999.0, 21.8210
     31TC044_1,  PRS2,     2,  7,      8,     29,2,19930120,1642, 22.7422,-157.9958, 4750,    164.7,  21.8623,  35.1741,2,  35.1736,2,    203.0,1,   -999.0,9,  -999.00,9,  -999.00,9,  -999.00,9,    166,-999.000,  -999.0, 21.8298
     31TC044_1,  PRS2,     2,  7,      9,      9,4,19930120,1642, 22.7422,-157.9958, 4750,    164.8,  21.8570,  35.1720,2,-999.0000,5,    203.8,1,   -999.0,9,  -999.00,9,  -999.00,9,  -999.00,9,    165,-999.000,  -999.0, 21.8245
     31TC044_1,  PRS2,     2,  7,     11,     11,2,19930120,1642, 22.7422,-157.9958, 4750,    165.0,  21.8330,  35.1719,2,  35.1713,2,    205.5,1,   -999.0,9,  -999.00,9,  -999.00,9,  -999.00,9,    166,-999.000,  -999.0, 21.8005
     31TC044_1,  PRS2,     2,  7,      7,     28,2,19930120,1642, 22.7422,-157.9958, 4750,    173.8,  21.2157,  35.1642,2,  35.1637,2,    194.0,1,   -999.0,9,  -999.00,9,  -999.00,9,  -999.00,9,    174,-999.000,  -999.0, 21.1821
     31TC044_1,  PRS2,     2,  7,      4,     25,2,19930120,1642, 22.7422,-157.9958, 4750,    330.2,  12.7925,  34.3596,2,  34.3592,2,    194.9,1,   -999.0,9,  -999.00,9,  -999.00,9,  -999.00,9,    330,-999.000,  -999.0, 12.7476
     31TC044_1,  PRS2,     2,  7,      6,      7,2,19930120,1642, 22.7422,-157.9958, 4750,    330.3,  12.7872,  34.3586,2,  34.3570,2,    194.8,1,   -999.0,9,  -999.00,9,  -999.00,9,  -999.00,9,    330,-999.000,  -999.0, 12.7423
     31TC044_1,  PRS2,     2,  7,      5,     23,2,19930120,1642, 22.7422,-157.9958, 4750,    330.3,  12.7932,  34.3593,2,  34.3570,2,    194.8,1,   -999.0,9,  -999.00,9,  -999.00,9,  -999.00,9,    330,-999.000,  -999.0, 12.7483
     31TC044_1,  PRS2,     2,  7,      3,      3,2,19930120,1642, 22.7422,-157.9958, 4750,    330.5,  12.7798,  34.3568,2,-999.0000,5,    194.9,1,   -999.0,9,  -999.00,9,  -999.00,9,  -999.00,9,    331,-999.000,  -999.0, 12.7349
     31TC044_1,  PRS2,     2,  7,      2,      2,2,19930120,1642, 22.7422,-157.9958, 4750,    540.2,   6.8248,  34.0671,2,  34.0660,2,    107.9,1,   -999.0,9,  -999.00,9,  -999.00,9,  -999.00,9,    539,-999.000,  -999.0,  6.7744
     31TC044_1,  PRS2,     2,  7,      1,      1,2,19930120,1642, 22.7422,-157.9958, 4750,   1033.9,   4.0700,  34.4764,2,  34.4776,2,     40.1,1,   -999.0,9,  -999.00,9,  -999.00,9,  -999.00,9,   1033,-999.000,  -999.0,  3.9910
     31TC044_1,  PRS2,     2,  8,     12,     12,2,19930120,1859, 22.7283,-157.9930, 4750,      4.3,  23.0378,  35.0189,2,  35.0252,2,    205.8,1,   -999.0,9,  -999.00,9,  -999.00,9,  -999.00,9,      3,-999.000,  -999.0, 23.0369
     31TC044_1,  PRS2,     2,  8,     11,     11,2,19930120,1859, 22.7283,-157.9930, 4750,     25.0,  22.9749,  35.0357,2,-999.0000,5,    206.1,1,   -999.0,9,  -999.00,9,  -999.00,9,  -999.00,9,     25,-999.000,  -999.0, 22.9698
     31TC044_1,  PRS2,     2,  8,     10,     10,2,19930120,1859, 22.7283,-157.9930, 4750,     44.2,  22.8862,  35.0617,2,  35.0655,2,    211.7,1,   -999.0,9,  -999.00,9,  -999.00,9,  -999.00,9,     44,-999.000,  -999.0, 22.8772
     31TC044_1,  PRS2,     2,  8,      9,      9,2,19930120,1859, 22.7283,-157.9930, 4750,     75.5,  22.7231,  35.1133,2,  35.1201,2,    212.8,1,   -999.0,9,  -999.00,9,  -999.00,9,  -999.00,9,     75,-999.000,  -999.0, 22.7078
     31TC044_1,  PRS2,     2,  8,      8,     29,2,19930120,1859, 22.7283,-157.9930, 4750,     98.6,  22.7002,  35.1154,2,-999.0000,5,    213.3,1,   -999.0,9,  -999.00,9,  -999.00,9,  -999.00,9,     99,-999.000,  -999.0, 22.6803
     31TC044_1,  PRS2,     2,  8,      7,     28,2,19930120,1859, 22.7283,-157.9930, 4750,    123.6,  22.5854,  35.1274,2,  35.1337,2,    213.1,1,   -999.0,9,  -999.00,9,  -999.00,9,  -999.00,9,    125,-999.000,  -999.0, 22.5605
     31TC044_1,  PRS2,     2,  8,      6,      7,2,19930120,1859, 22.7283,-157.9930, 4750,    149.6,  21.5991,  35.1672,2,-999.0000,5,    199.8,1,   -999.0,9,  -999.00,9,  -999.00,9,  -999.00,9,    150,-999.000,  -999.0, 21.5699
     31TC044_1,  PRS2,     2,  8,      5,     23,2,19930120,1859, 22.7283,-157.9930, 4750,    174.1,  19.9389,  35.1229,2,  35.1323,2,    191.4,1,   -999.0,9,  -999.00,9,  -999.00,9,  -999.00,9,    174,-999.000,  -999.0, 19.9067
     31TC044_1,  PRS2,     2,  8,      4,     25,2,19930120,1859, 22.7283,-157.9930, 4750,    246.8,  15.9494,  34.7153,2,  34.7277,2,    200.9,1,   -999.0,9,  -999.00,9,  -999.00,9,  -999.00,9,    247,-999.000,  -999.0, 15.9105
     31TC044_1,  PRS2,     2,  8,      3,      3,2,19930120,1859, 22.7283,-157.9930, 4750,    514.7,   7.1727,  34.0486,2,  34.0463,2,    125.5,1,   -999.0,9,  -999.00,9,  -999.00,9,  -999.00,9,    514,-999.000,  -999.0,  7.1235
     31TC044_1,  PRS2,     2,  8,      2,      2,2,19930120,1859, 22.7283,-157.9930, 4750,    746.7,   4.8507,  34.2683,2,  34.2663,2,     23.5,1,   -999.0,9,  -999.00,9,  -999.00,9,  -999.00,9,    748,-999.000,  -999.0,  4.7910
     31TC044_1,  PRS2,     2,  8,      1,      1,2,19930120,1859, 22.7283,-157.9930, 4750,   1021.6,   4.0433,  34.4758,2,  34.4778,2,     40.0,1,   -999.0,9,  -999.00,9,  -999.00,9,  -999.00,9,   1021,-999.000,  -999.0,  3.9655
     31TC044_1,  PRS2,     2,  9,     12,     12,2,19930120,2217, 22.7123,-157.9838, 4750,      4.3,  23.1799,  35.0197,2,  35.0152,2,    189.7,1,   -999.0,9,  -999.00,9,  -999.00,9,  -999.00,9,      4,-999.000,  -999.0, 23.1791
     31TC044_1,  PRS2,     2,  9,     11,     11,2,19930120,2217, 22.7123,-157.9838, 4750,     25.0,  23.0605,  35.0280,2,  35.0248,2,    206.5,1,   -999.0,9,  -999.00,9,  -999.00,9,  -999.00,9,     24,-999.000,  -999.0, 23.0554
     31TC044_1,  PRS2,     2,  9,     10,     10,2,19930120,2217, 22.7123,-157.9838, 4750,     45.1,  22.9070,  35.0661,2,  35.0629,2,    207.7,1,   -999.0,9,  -999.00,9,  -999.00,9,  -999.00,9,     45,-999.000,  -999.0, 22.8979
     31TC044_1,  PRS2,     2,  9,      9,      9,2,19930120,2217, 22.7123,-157.9838, 4750,     72.6,  22.7303,  35.1197,2,  35.1222,2,    209.1,1,   -999.0,9,  -999.00,9,  -999.00,9,  -999.00,9,     72,-999.000,  -999.0, 22.7156
     31TC044_1,  PRS2,     2,  9,      8,     29,2,19930120,2217, 22.7123,-157.9838, 4750,     99.8,  22.6881,  35.1190,2,  35.1245,2,    209.9,1,   -999.0,9,  -999.00,9,  -999.00,9,  -999.00,9,    100,-999.000,  -999.0, 22.6679
     31TC044_1,  PRS2,     2,  9,      7,     28,2,19930120,2217, 22.7123,-157.9838, 4750,    120.6,  22.5654,  35.1332,2,  35.1372,2,    209.6,1,   -999.0,9,  -999.00,9,  -999.00,9,  -999.00,9,    122,-999.000,  -999.0, 22.5411
     31TC044_1,  PRS2,     2,  9,      6,      7,2,19930120,2217, 22.7123,-157.9838, 4750,    145.5,  21.9094,  35.1749,2,  35.1815,2,    198.3,1,   -999.0,9,  -999.00,9,  -999.00,9,  -999.00,9,    146,-999.000,  -999.0, 21.8806
     31TC044_1,  PRS2,     2,  9,      5,     23,2,19930120,2217, 22.7123,-157.9838, 4750,    177.2,  19.8844,  35.1251,2,  35.1235,2,    188.4,1,   -999.0,9,  -999.00,9,  -999.00,9,  -999.00,9,    177,-999.000,  -999.0, 19.8518
     31TC044_1,  PRS2,     2,  9,      4,     25,2,19930120,2217, 22.7123,-157.9838, 4750,    239.7,  16.1912,  34.7478,2,  34.7486,2,    197.6,1,   -999.0,9,  -999.00,9,  -999.00,9,  -999.00,9,    240,-999.000,  -999.0, 16.1529
     31TC044_1,  PRS2,     2,  9,      3,      3,2,19930120,2217, 22.7123,-157.9838, 4750,    517.8,   7.0890,  34.0717,2,  34.0692,2,    109.4,1,   -999.0,9,  -999.00,9,  -999.00,9,  -999.00,9,    518,-999.000,  -999.0,  7.0398
     31TC044_1,  PRS2,     2,  9,      2,      2,4,19930120,2217, 22.7123,-157.9838, 4750,    746.2,   4.8739,  34.2657,2,-999.0000,5,     23.6,1,   -999.0,9,  -999.00,9,  -999.00,9,  -999.00,9,    746,-999.000,  -999.0,  4.8141
     31TC044_1,  PRS2,     2,  9,      1,      1,2,19930120,2217, 22.7123,-157.9838, 4750,   1022.2,   4.0700,  34.4774,2,  34.4871,4,     39.4,1,   -999.0,9,  -999.00,9,  -999.00,9,  -999.00,9,   1022,-999.000,  -999.0,  3.9920
     31TC044_1,  PRS2,     2, 10,      4,     25,2,19930121,0136, 22.6867,-157.9800, 4750,      5.2,  23.1771,  35.0190,2,  35.0236,2,    187.1,1,   -999.0,9,  -999.00,9,  -999.00,9,  -999.00,9,      5,-999.000,  -999.0, 23.1760
     31TC044_1,  PRS2,     2, 10,      3,      3,2,19930121,0136, 22.6867,-157.9800, 4750,    131.8,  22.4862,  35.1450,2,  35.1436,2,    209.7,1,   -999.0,9,  -999.00,9,  -999.00,9,  -999.00,9,    132,-999.000,  -999.0, 22.4597
     31TC044_1,  PRS2,     2, 10,      2,      2,2,19930121,0136, 22.6867,-157.9800, 4750,    495.7,   7.5505,  34.0697,2,  34.0688,2,    130.5,1,   -999.0,9,  -999.00,9,  -999.00,9,  -999.00,9,    496,-999.000,  -999.0,  7.5017
     31TC044_1,  PRS2,     2, 10,      1,      1,2,19930121,0136, 22.6867,-157.9800, 4750,   1025.7,   4.0331,  34.4804,2,  34.4809,2,     38.7,1,   -999.0,9,  -999.00,9,  -999.00,9,  -999.00,9,   1027,-999.000,  -999.0,  3.9551
     31TC044_1,  PRS2,     2, 11,      4,     25,2,19930121,0440, 22.6750,-157.9467, 4750,     10.7,  23.0978,  35.0282,2,  35.0284,2,    163.8,1,   -999.0,9,  -999.00,9,  -999.00,9,  -999.00,9,     11,-999.000,  -999.0, 23.0956
     31TC044_1,  PRS2,     2, 11,      3,      3,2,19930121,0440, 22.6750,-157.9467, 4750,    142.8,  21.3999,  35.1754,2,  35.1799,2,    190.4,1,   -999.0,9,  -999.00,9,  -999.00,9,  -999.00,9,    145,-999.000,  -999.0, 21.3722
     31TC044_1,  PRS2,     2, 11,      2,      2,4,19930121,0440, 22.6750,-157.9467, 4750,    501.1,   7.5327,  34.0741,2,-999.0000,5,    127.4,1,   -999.0,9,  -999.00,9,  -999.00,9,  -999.00,9,    501,-999.000,  -999.0,  7.4834
     31TC044_1,  PRS2,     2, 11,      1,      1,2,19930121,0440, 22.6750,-157.9467, 4750,   1024.1,   3.9888,  34.4879,2,  34.4879,2,     40.2,1,   -999.0,9,  -999.00,9,  -999.00,9,  -999.00,9,   1024,-999.000,  -999.0,  3.9113
     31TC044_1,  PRS2,     2, 12,     10,     10,2,19930121,0732, 22.7500,-157.9983, 4750,     11.3,  23.2719,  34.9923,2,-999.0000,5,    178.0,1,   -999.0,9,  -999.00,9,  -999.00,9,  -999.00,9,     11,-999.000,  -999.0, 23.2696
     31TC044_1,  PRS2,     2, 12,      9,      9,2,19930121,0732, 22.7500,-157.9983, 4750,     11.3,  23.2679,  34.9924,2,-999.0000,5,    178.5,1,   -999.0,9,  -999.00,9,  -999.00,9,  -999.00,9,     12,-999.000,  -999.0, 23.2656
     31TC044_1,  PRS2,     2, 12,      8,     29,2,19930121,0732, 22.7500,-157.9983, 4750,     11.3,  23.2621,  34.9921,2,-999.0000,5,    179.1,1,   -999.0,9,  -999.00,9,  -999.00,9,  -999.00,9,     11,-999.000,  -999.0, 23.2598
     31TC044_1,  PRS2,     2, 12,      7,     28,2,19930121,0732, 22.7500,-157.9983, 4750,     11.3,  23.2588,  34.9925,2,  34.9917,2,    205.1,1,   -999.0,9,  -999.00,9,  -999.00,9,  -999.00,9,     12,-999.000,  -999.0, 23.2564
     31TC044_1,  PRS2,     2, 12,      5,     23,2,19930121,0732, 22.7500,-157.9983, 4750,     27.6,  23.2675,  34.9906,2,-999.0000,5,    205.1,1,   -999.0,9,  -999.00,9,  -999.00,9,  -999.00,9,     28,-999.000,  -999.0, 23.2619
     31TC044_1,  PRS2,     2, 12,      4,     25,2,19930121,0732, 22.7500,-157.9983, 4750,     27.6,  23.2677,  34.9904,2,  34.9916,2,    205.1,1,   -999.0,9,  -999.00,9,  -999.00,9,  -999.00,9,     28,-999.000,  -999.0, 23.2621
     31TC044_1,  PRS2,     2, 12,      6,      7,2,19930121,0732, 22.7500,-157.9983, 4750,     27.7,  23.2708,  34.9911,2,-999.0000,5,    205.1,1,   -999.0,9,  -999.00,9,  -999.00,9,  -999.00,9,     27,-999.000,  -999.0, 23.2652
     31TC044_1,  PRS2,     2, 12,      3,      3,2,19930121,0732, 22.7500,-157.9983, 4750,    143.8,  20.8977,  35.1656,2,  35.1657,2,    187.5,1,   -999.0,9,  -999.00,9,  -999.00,9,  -999.00,9,    144,-999.000,  -999.0, 20.8703
     31TC044_1,  PRS2,     2, 12,      2,      2,4,19930121,0732, 22.7500,-157.9983, 4750,    495.8,   7.4926,  34.0617,2,-999.0000,5,    135.6,1,   -999.0,9,  -999.00,9,  -999.00,9,  -999.00,9,    495,-999.000,  -999.0,  7.4440
     31TC044_1,  PRS2,     2, 12,      1,      1,2,19930121,0732, 22.7500,-157.9983, 4750,   1024.2,   4.0149,  34.4826,2,  34.5430,4,     38.7,1,   -999.0,9,  -999.00,9,  -999.00,9,  -999.00,9,   1025,-999.000,  -999.0,  3.9371
     31TC044_1,  PRS2,     2, 13,     12,     12,2,19930121,1044, 22.7517,-157.9983, 4750,      5.2,  23.2869,  34.9993,2,  34.9999,2,    154.4,1,   -999.0,9,  -999.00,9,  -999.00,9,  -999.00,9,      5,-999.000,  -999.0, 23.2858
     31TC044_1,  PRS2,     2, 13,     11,     11,2,19930121,1044, 22.7517,-157.9983, 4750,     24.7,  23.2909,  34.9983,2,  35.0008,2,    154.3,1,   -999.0,9,  -999.00,9,  -999.00,9,  -999.00,9,     24,-999.000,  -999.0, 23.2858
     31TC044_1,  PRS2,     2, 13,     10,     10,2,19930121,1044, 22.7517,-157.9983, 4750,     43.4,  23.2961,  34.9982,2,  34.9970,2,    154.6,1,   -999.0,9,  -999.00,9,  -999.00,9,  -999.00,9,     44,-999.000,  -999.0, 23.2872
     31TC044_1,  PRS2,     2, 13,      9,      9,2,19930121,1044, 22.7517,-157.9983, 4750,     74.6,  23.3002,  34.9977,2,  34.9983,2,    155.0,1,   -999.0,9,  -999.00,9,  -999.00,9,  -999.00,9,     75,-999.000,  -999.0, 23.2848
     31TC044_1,  PRS2,     2, 13,      8,     29,2,19930121,1044, 22.7517,-157.9983, 4750,     90.0,  23.2822,  35.0021,2,  35.0051,2,    205.1,1,   -999.0,9,  -999.00,9,  -999.00,9,  -999.00,9,     90,-999.000,  -999.0, 23.2637
     31TC044_1,  PRS2,     2, 13,      7,     28,2,19930121,1044, 22.7517,-157.9983, 4750,    101.3,  23.2123,  35.0256,2,-999.0000,5,    204.4,1,   -999.0,9,  -999.00,9,  -999.00,9,  -999.00,9,    102,-999.000,  -999.0, 23.1915
     31TC044_1,  PRS2,     2, 13,      6,      7,2,19930121,1044, 22.7517,-157.9983, 4750,    113.4,  22.4159,  35.1741,2,-999.0000,5,    192.6,1,   -999.0,9,  -999.00,9,  -999.00,9,  -999.00,9,    113,-999.000,  -999.0, 22.3931
     31TC044_1,  PRS2,     2, 13,      5,     23,2,19930121,1044, 22.7517,-157.9983, 4750,    124.5,  21.8882,  35.1661,2,  35.1664,2,    192.2,1,   -999.0,9,  -999.00,9,  -999.00,9,  -999.00,9,    124,-999.000,  -999.0, 21.8636
     31TC044_1,  PRS2,     2, 13,      4,     25,2,19930121,1044, 22.7517,-157.9983, 4750,    150.9,  20.7845,  35.1621,2,  35.1626,2,    188.0,1,   -999.0,9,  -999.00,9,  -999.00,9,  -999.00,9,    152,-999.000,  -999.0, 20.7558
     31TC044_1,  PRS2,     2, 13,      3,      3,2,19930121,1044, 22.7517,-157.9983, 4750,    176.5,  19.4024,  35.0890,2,-999.0000,5,    189.0,1,   -999.0,9,  -999.00,9,  -999.00,9,  -999.00,9,    176,-999.000,  -999.0, 19.3705
     31TC044_1,  PRS2,     2, 13,      2,      2,2,19930121,1044, 22.7517,-157.9983, 4750,    494.7,   7.5701,  34.0604,2,  34.0605,2,    138.6,1,   -999.0,9,  -999.00,9,  -999.00,9,  -999.00,9,    495,-999.000,  -999.0,  7.5214
     31TC044_1,  PRS2,     2, 13,      1,      1,2,19930121,1044, 22.7517,-157.9983, 4750,   1032.4,   3.9901,  34.4815,2,  34.4813,2,     38.8,1,   -999.0,9,  -999.00,9,  -999.00,9,  -999.00,9,   1032,-999.000,  -999.0,  3.9119
     31TC044_1,  PRS2,     2, 14,     12,     12,2,19930121,1337, 22.7492,-157.9957, 4750,      8.8,  23.2799,  35.0001,2,  35.0011,2,    197.7,1,   -999.0,9,  -999.00,9,  -999.00,9,  -999.00,9,      9,-999.000,  -999.0, 23.2781
     31TC044_1,  PRS2,     2, 14,     11,     11,2,19930121,1337, 22.7492,-157.9957, 4750,     24.1,  23.2860,  34.9995,2,  34.9976,2,    197.9,1,   -999.0,9,  -999.00,9,  -999.00,9,  -999.00,9,     24,-999.000,  -999.0, 23.2810
     31TC044_1,  PRS2,     2, 14,     10,     10,2,19930121,1337, 22.7492,-157.9957, 4750,     44.5,  23.2892,  34.9989,2,  35.0013,2,    198.1,1,   -999.0,9,  -999.00,9,  -999.00,9,  -999.00,9,     44,-999.000,  -999.0, 23.2800
     31TC044_1,  PRS2,     2, 14,      9,      9,2,19930121,1337, 22.7492,-157.9957, 4750,     75.5,  23.2921,  34.9982,2,  34.9980,2,    198.2,1,   -999.0,9,  -999.00,9,  -999.00,9,  -999.00,9,     75,-999.000,  -999.0, 23.2765
     31TC044_1,  PRS2,     2, 14,      8,     29,2,19930121,1337, 22.7492,-157.9957, 4750,    100.3,  23.1717,  35.0309,2,  35.0220,2,    204.7,1,   -999.0,9,  -999.00,9,  -999.00,9,  -999.00,9,    101,-999.000,  -999.0, 23.1511
     31TC044_1,  PRS2,     2, 14,      7,     28,2,19930121,1337, 22.7492,-157.9957, 4750,    126.3,  22.1664,  35.1827,2,  35.1826,2,    193.7,1,   -999.0,9,  -999.00,9,  -999.00,9,  -999.00,9,    126,-999.000,  -999.0, 22.1412
     31TC044_1,  PRS2,     2, 14,      6,      7,2,19930121,1337, 22.7492,-157.9957, 4750,    151.9,  21.0465,  35.1690,2,  35.1679,2,    188.8,1,   -999.0,9,  -999.00,9,  -999.00,9,  -999.00,9,    153,-999.000,  -999.0, 21.0173
     31TC044_1,  PRS2,     2, 14,      5,     23,2,19930121,1337, 22.7492,-157.9957, 4750,    177.7,  20.1778,  35.1330,2,  35.1370,2,    186.2,1,   -999.0,9,  -999.00,9,  -999.00,9,  -999.00,9,    177,-999.000,  -999.0, 20.1448
     31TC044_1,  PRS2,     2, 14,      4,     25,2,19930121,1337, 22.7492,-157.9957, 4750,    243.5,  17.3713,  34.8889,2,  34.8877,2,    193.9,1,   -999.0,9,  -999.00,9,  -999.00,9,  -999.00,9,    245,-999.000,  -999.0, 17.3305
     31TC044_1,  PRS2,     2, 14,      3,      3,2,19930121,1337, 22.7492,-157.9957, 4750,    546.7,   6.9467,  34.0524,2,  34.0605,3,    112.5,1,   -999.0,9,  -999.00,9,  -999.00,9,  -999.00,9,    548,-999.000,  -999.0,  6.8953
     31TC044_1,  PRS2,     2, 14,      2,      2,4,19930121,1337, 22.7492,-157.9957, 4750,    742.7,   4.8624,  34.2676,2,-999.0000,5,     23.6,1,   -999.0,9,  -999.00,9,  -999.00,9,  -999.00,9,    745,-999.000,  -999.0,  4.8030
     31TC044_1,  PRS2,     2, 14,      1,      1,2,19930121,1337, 22.7492,-157.9957, 4750,   1039.0,   3.9711,  34.4874,2,  34.4937,2,     40.3,1,   -999.0,9,  -999.00,9,  -999.00,9,  -999.00,9,   1041,-999.000,  -999.0,  3.8924