BOTTLE,20020809WHPSIObren
EXPOCODE,SECT_ID,STNNBR,CASTNO,SAMPNO,BTLNBR,BTLNBR_FLAG_W,DATE,TIME,LATITUDE,LONGITUDE,DEPTH,CTDPRS,CTDTMP,CTDSAL,CTDSAL_FLAG_W,SALNTY,SALNTY_FLAG_W,CTDOXY,CTDOXY_FLAG_W,OXYGEN,OXYGEN_FLAG_W,SILCAT,SILCAT_FLAG_W,NO2+NO3,NO2+NO3_FLAG_W,PHSPHT,PHSPHT_FLAG_W,CTDRAW,REVTMP,REVPRS,THETA
,,,,,,,,,,,,DBAR,ITS-90,PSS-78,,PSS-78,,UMOL/KG,,UMOL/KG,,UMOL/KG,,UMOL/KG,,UMOL/KG,,,DEG C,DBAR,ITS-90
     31TC044_1,  PRS2,     2, 15,      8,     29,2,19930121,1629, 22.7495,-158.0008, 4750,    161.7,  20.6737,  35.1584,2,  35.1572,2,    188.4,1,   -999.0,9,  -999.00,9,  -999.00,9,  -999.00,9,    163,-999.000,  -999.0, 20.6431
     31TC044_1,  PRS2,     2, 15,      9,      9,2,19930121,1629, 22.7495,-158.0008, 4750,    162.5,  20.6685,  35.1579,2,  35.1576,2,    188.4,1,   -999.0,9,  -999.00,9,  -999.00,9,  -999.00,9,    162,-999.000,  -999.0, 20.6377
     31TC044_1,  PRS2,     2, 15,     12,     12,2,19930121,1629, 22.7495,-158.0008, 4750,    163.0,  20.6618,  35.1578,2,  35.1620,2,    188.2,1,   -999.0,9,  -999.00,9,  -999.00,9,  -999.00,9,    164,-999.000,  -999.0, 20.6310
     31TC044_1,  PRS2,     2, 15,     11,     11,2,19930121,1629, 22.7495,-158.0008, 4750,    163.0,  20.6618,  35.1578,2,  35.1577,2,    188.2,1,   -999.0,9,  -999.00,9,  -999.00,9,  -999.00,9,    164,-999.000,  -999.0, 20.6310
     31TC044_1,  PRS2,     2, 15,     10,     10,2,19930121,1629, 22.7495,-158.0008, 4750,    163.0,  20.6626,  35.1575,2,  35.1574,2,    188.3,1,   -999.0,9,  -999.00,9,  -999.00,9,  -999.00,9,    163,-999.000,  -999.0, 20.6318
     31TC044_1,  PRS2,     2, 15,      7,     28,2,19930121,1629, 22.7495,-158.0008, 4750,    178.5,  19.6909,  35.1064,2,-999.0000,5,    187.0,1,   -999.0,9,  -999.00,9,  -999.00,9,  -999.00,9,    180,-999.000,  -999.0, 19.6582
     31TC044_1,  PRS2,     2, 15,      3,      3,2,19930121,1629, 22.7495,-158.0008, 4750,    329.9,  12.7908,  34.3573,2,-999.0000,5,    189.6,1,   -999.0,9,  -999.00,9,  -999.00,9,  -999.00,9,    329,-999.000,  -999.0, 12.7460
     31TC044_1,  PRS2,     2, 15,      4,     25,2,19930121,1629, 22.7495,-158.0008, 4750,    330.5,  12.7638,  34.3547,2,  34.3549,2,    189.6,1,   -999.0,9,  -999.00,9,  -999.00,9,  -999.00,9,    330,-999.000,  -999.0, 12.7189
     31TC044_1,  PRS2,     2, 15,      6,      7,2,19930121,1629, 22.7495,-158.0008, 4750,    330.9,  12.7551,  34.3535,2,-999.0000,5,    189.0,1,   -999.0,9,  -999.00,9,  -999.00,9,  -999.00,9,    331,-999.000,  -999.0, 12.7102
     31TC044_1,  PRS2,     2, 15,      5,     23,2,19930121,1629, 22.7495,-158.0008, 4750,    331.0,  12.7572,  34.3534,2,  34.3550,2,    189.3,1,   -999.0,9,  -999.00,9,  -999.00,9,  -999.00,9,    332,-999.000,  -999.0, 12.7123
     31TC044_1,  PRS2,     2, 15,      2,      2,2,19930121,1629, 22.7495,-158.0008, 4750,    537.7,   6.8875,  34.0524,2,  34.0537,2,    108.8,1,   -999.0,9,  -999.00,9,  -999.00,9,  -999.00,9,    538,-999.000,  -999.0,  6.8371
     31TC044_1,  PRS2,     2, 15,      1,      1,2,19930121,1629, 22.7495,-158.0008, 4750,   1036.4,   3.9309,  34.4895,2,  34.4883,2,     40.4,1,   -999.0,9,  -999.00,9,  -999.00,9,  -999.00,9,   1038,-999.000,  -999.0,  3.8528
     31TC044_1,  PRS2,     2, 16,      9,      9,2,19930121,1924, 22.7510,-158.0063, 4750,      8.7,  23.2690,  35.0011,2,  35.0058,2,    160.3,1,   -999.0,9,  -999.00,9,  -999.00,9,  -999.00,9,     10,-999.000,  -999.0, 23.2672
     31TC044_1,  PRS2,     2, 16,      8,     29,2,19930121,1924, 22.7510,-158.0063, 4750,      8.8,  23.2683,  35.0009,2,  35.0044,2,    160.6,1,   -999.0,9,  -999.00,9,  -999.00,9,  -999.00,9,     10,-999.000,  -999.0, 23.2665
     31TC044_1,  PRS2,     2, 16,      6,      7,2,19930121,1924, 22.7510,-158.0063, 4750,    100.7,  22.4445,  35.1700,2,  35.1657,2,    191.1,1,   -999.0,9,  -999.00,9,  -999.00,9,  -999.00,9,    100,-999.000,  -999.0, 22.4243
     31TC044_1,  PRS2,     2, 16,      7,     28,2,19930121,1924, 22.7510,-158.0063, 4750,    100.8,  22.4431,  35.1700,2,  35.1662,2,    191.2,1,   -999.0,9,  -999.00,9,  -999.00,9,  -999.00,9,    101,-999.000,  -999.0, 22.4229
     31TC044_1,  PRS2,     2, 16,      5,     23,2,19930121,1924, 22.7510,-158.0063, 4750,    502.6,   7.0633,  34.0452,2,  34.0481,2,    117.7,1,   -999.0,9,  -999.00,9,  -999.00,9,  -999.00,9,    503,-999.000,  -999.0,  7.0156
     31TC044_1,  PRS2,     2, 16,      2,      2,2,19930121,1924, 22.7510,-158.0063, 4750,    735.6,   4.8579,  34.2683,2,  34.2681,2,     22.8,1,   -999.0,9,  -999.00,9,  -999.00,9,  -999.00,9,    736,-999.000,  -999.0,  4.7992
     31TC044_1,  PRS2,     2, 16,      3,      3,2,19930121,1924, 22.7510,-158.0063, 4750,    737.0,   4.8583,  34.2679,2,  34.2668,2,     22.9,1,   -999.0,9,  -999.00,9,  -999.00,9,  -999.00,9,    738,-999.000,  -999.0,  4.7993
     31TC044_1,  PRS2,     2, 16,      4,     25,2,19930121,1924, 22.7510,-158.0063, 4750,    737.5,   4.8584,  34.2677,2,  34.2664,2,     22.9,1,   -999.0,9,  -999.00,9,  -999.00,9,  -999.00,9,    738,-999.000,  -999.0,  4.7994
     31TC044_1,  PRS2,     2, 16,      1,      1,2,19930121,1924, 22.7510,-158.0063, 4750,   1030.3,   3.9539,  34.4833,2,-999.0000,5,     38.2,1,   -999.0,9,  -999.00,9,  -999.00,9,  -999.00,9,   1030,-999.000,  -999.0,  3.8761
     31TC044_1,  PRS2,     2, 17,     12,     12,2,19930121,2258, 22.7512,-157.9985, 4750,      7.2,  23.3207,  35.0027,2,  35.0006,2,    184.5,1,   -999.0,9,  -999.00,9,  -999.00,9,  -999.00,9,      8,-999.000,  -999.0, 23.3192
     31TC044_1,  PRS2,     2, 17,     11,     11,2,19930121,2258, 22.7512,-157.9985, 4750,     49.1,  23.2606,  35.0031,2,  35.0006,2,    202.6,1,   -999.0,9,  -999.00,9,  -999.00,9,  -999.00,9,     49,-999.000,  -999.0, 23.2505
     31TC044_1,  PRS2,     2, 17,     10,     10,2,19930121,2258, 22.7512,-157.9985, 4750,     79.1,  23.2296,  35.0042,2,  35.0029,2,    203.5,1,   -999.0,9,  -999.00,9,  -999.00,9,  -999.00,9,     79,-999.000,  -999.0, 23.2133
     31TC044_1,  PRS2,     2, 17,      9,      9,2,19930121,2258, 22.7512,-157.9985, 4750,     90.8,  22.7183,  35.1316,2,  35.1309,2,    195.8,1,   -999.0,9,  -999.00,9,  -999.00,9,  -999.00,9,     91,-999.000,  -999.0, 22.6999
     31TC044_1,  PRS2,     2, 17,      8,     29,2,19930121,2258, 22.7512,-157.9985, 4750,    101.8,  22.4466,  35.1650,2,  35.1616,2,    192.1,1,   -999.0,9,  -999.00,9,  -999.00,9,  -999.00,9,    101,-999.000,  -999.0, 22.4261
     31TC044_1,  PRS2,     2, 17,      7,     28,2,19930121,2258, 22.7512,-157.9985, 4750,    123.4,  21.6179,  35.1624,2,  35.1597,2,    189.6,1,   -999.0,9,  -999.00,9,  -999.00,9,  -999.00,9,    123,-999.000,  -999.0, 21.5938
     31TC044_1,  PRS2,     2, 17,      6,      7,2,19930121,2258, 22.7512,-157.9985, 4750,    147.7,  20.3379,  35.1505,2,  35.1476,2,    185.6,1,   -999.0,9,  -999.00,9,  -999.00,9,  -999.00,9,    147,-999.000,  -999.0, 20.3102
     31TC044_1,  PRS2,     2, 17,      5,     23,2,19930121,2258, 22.7512,-157.9985, 4750,    180.4,  18.7392,  35.0305,2,  35.0293,2,    188.3,1,   -999.0,9,  -999.00,9,  -999.00,9,  -999.00,9,    182,-999.000,  -999.0, 18.7074
     31TC044_1,  PRS2,     2, 17,      4,     25,2,19930121,2258, 22.7512,-157.9985, 4750,    293.8,  14.3493,  34.5380,2,  34.5364,2,    201.2,1,   -999.0,9,  -999.00,9,  -999.00,9,  -999.00,9,    293,-999.000,  -999.0, 14.3062
     31TC044_1,  PRS2,     2, 17,      3,      3,2,19930121,2258, 22.7512,-157.9985, 4750,    492.7,   6.9986,  34.0489,2,  34.0458,2,    115.6,1,   -999.0,9,  -999.00,9,  -999.00,9,  -999.00,9,    493,-999.000,  -999.0,  6.9522
     31TC044_1,  PRS2,     2, 17,      2,      2,2,19930121,2258, 22.7512,-157.9985, 4750,    757.5,   4.7918,  34.2911,2,  34.2911,2,     22.2,1,   -999.0,9,  -999.00,9,  -999.00,9,  -999.00,9,    758,-999.000,  -999.0,  4.7315
     31TC044_1,  PRS2,     2, 17,      1,      1,2,19930121,2258, 22.7512,-157.9985, 4750,   1016.0,   4.0142,  34.4711,2,  34.4729,2,     35.6,1,   -999.0,9,  -999.00,9,  -999.00,9,  -999.00,9,   1018,-999.000,  -999.0,  3.9371
     31TC044_1,  PRS2,     2, 18,      4,     25,2,19930122,0154, 22.7478,-157.9947, 4750,      7.3,  23.2940,  34.9986,2,  34.9998,2,    164.3,1,   -999.0,9,  -999.00,9,  -999.00,9,  -999.00,9,      7,-999.000,  -999.0, 23.2925
     31TC044_1,  PRS2,     2, 18,      3,      3,2,19930122,0154, 22.7478,-157.9947, 4750,    104.7,  22.3492,  35.1788,2,  35.1745,2,    189.3,1,   -999.0,9,  -999.00,9,  -999.00,9,  -999.00,9,    105,-999.000,  -999.0, 22.3283
     31TC044_1,  PRS2,     2, 18,      2,      2,2,19930122,0154, 22.7478,-157.9947, 4750,    506.7,   7.6755,  34.0751,2,  34.0739,2,    129.9,1,   -999.0,9,  -999.00,9,  -999.00,9,  -999.00,9,    508,-999.000,  -999.0,  7.6251
     31TC044_1,  PRS2,     2, 18,      1,      1,2,19930122,0154, 22.7478,-157.9947, 4750,   1026.4,   4.0265,  34.4701,2,  34.6339,4,     36.1,1,   -999.0,9,  -999.00,9,  -999.00,9,  -999.00,9,   1027,-999.000,  -999.0,  3.9484
     31TC044_1,  PRS2,     2, 19,      5,     23,2,19930122,0450, 22.7527,-158.0018, 4750,      7.7,  23.2782,  34.9998,2,  35.0004,2,    181.7,1,   -999.0,9,  -999.00,9,  -999.00,9,  -999.00,9,      8,-999.000,  -999.0, 23.2767
     31TC044_1,  PRS2,     2, 19,      4,     25,2,19930122,0450, 22.7527,-158.0018, 4750,    145.2,  21.1471,  35.1797,2,  35.1768,2,    186.5,1,   -999.0,9,  -999.00,9,  -999.00,9,  -999.00,9,    145,-999.000,  -999.0, 21.1192
     31TC044_1,  PRS2,     2, 19,      3,      3,2,19930122,0450, 22.7527,-158.0018, 4750,    296.3,  14.6252,  34.5702,2,  34.5739,2,    201.6,1,   -999.0,9,  -999.00,9,  -999.00,9,  -999.00,9,    297,-999.000,  -999.0, 14.5811
     31TC044_1,  PRS2,     2, 19,      2,      2,2,19930122,0450, 22.7527,-158.0018, 4750,    600.8,   5.6588,  34.1338,2,  34.1340,2,     50.4,1,   -999.0,9,  -999.00,9,  -999.00,9,  -999.00,9,    601,-999.000,  -999.0,  5.6078
     31TC044_1,  PRS2,     2, 19,      1,      1,2,19930122,0450, 22.7527,-158.0018, 4750,   1027.3,   4.0658,  34.4654,2,  34.4853,4,     35.6,1,   -999.0,9,  -999.00,9,  -999.00,9,  -999.00,9,   1028,-999.000,  -999.0,  3.9874
     31TC044_1,  PRS2,     2, 20,      4,     25,2,19930122,0753, 22.7500,-158.0013, 4750,      7.7,  23.2493,  35.0010,2,  35.0015,2,    148.8,1,   -999.0,9,  -999.00,9,  -999.00,9,  -999.00,9,      8,-999.000,  -999.0, 23.2477
     31TC044_1,  PRS2,     2, 20,      3,      3,2,19930122,0753, 22.7500,-158.0013, 4750,    152.7,  20.5597,  35.1787,2,  35.1749,2,    182.6,1,   -999.0,9,  -999.00,9,  -999.00,9,  -999.00,9,    153,-999.000,  -999.0, 20.5309
     31TC044_1,  PRS2,     2, 20,      2,      2,2,19930122,0753, 22.7500,-158.0013, 4750,    499.5,   7.5728,  34.0532,2,  34.0510,2,    133.6,1,   -999.0,9,  -999.00,9,  -999.00,9,  -999.00,9,    500,-999.000,  -999.0,  7.5236
     31TC044_1,  PRS2,     2, 20,      1,      1,2,19930122,0753, 22.7500,-158.0013, 4750,   1020.1,   3.9668,  34.4766,2,  34.4756,2,     37.3,1,   -999.0,9,  -999.00,9,  -999.00,9,  -999.00,9,   1019,-999.000,  -999.0,  3.8898