BOTTLE,20020809WHPSIObren
EXPOCODE,SECT_ID,STNNBR,CASTNO,SAMPNO,BTLNBR,BTLNBR_FLAG_W,DATE,TIME,LATITUDE,LONGITUDE,DEPTH,CTDPRS,CTDTMP,CTDSAL,CTDSAL_FLAG_W,SALNTY,SALNTY_FLAG_W,CTDOXY,CTDOXY_FLAG_W,OXYGEN,OXYGEN_FLAG_W,SILCAT,SILCAT_FLAG_W,NO2+NO3,NO2+NO3_FLAG_W,PHSPHT,PHSPHT_FLAG_W,CTDRAW,REVTMP,REVPRS,THETA
,,,,,,,,,,,,DBAR,ITS-90,PSS-78,,PSS-78,,UMOL/KG,,UMOL/KG,,UMOL/KG,,UMOL/KG,,UMOL/KG,,,DEG C,DBAR,ITS-90
     32MW080_1,  PRS2,     2,  9,     24,     31,2,19970218,1502, 22.7572,-157.9940, 4715,      3.0,  23.8615,  34.9323,2,  34.9298,2,    208.0,1,   -999.0,9,  -999.00,9,  -999.00,9,  -999.00,9,      3,-999.000,  -999.0, 23.8609
     32MW080_1,  PRS2,     2,  9,     23,     30,2,19970218,1502, 22.7572,-157.9940, 4715,      4.2,  23.8644,  34.9321,2,  34.9297,2,    208.0,1,   -999.0,9,  -999.00,9,  -999.00,9,  -999.00,9,      4,-999.000,  -999.0, 23.8635
     32MW080_1,  PRS2,     2,  9,     22,     22,2,19970218,1502, 22.7572,-157.9940, 4715,     10.0,  23.8703,  34.9317,2,  34.9299,2,    208.0,1,   -999.0,9,  -999.00,9,  -999.00,9,  -999.00,9,     11,-999.000,  -999.0, 23.8682
     32MW080_1,  PRS2,     2,  9,     21,     21,2,19970218,1502, 22.7572,-157.9940, 4715,     14.3,  23.8700,  34.9315,2,  34.9308,2,    208.0,1,   -999.0,9,  -999.00,9,  -999.00,9,  -999.00,9,     14,-999.000,  -999.0, 23.8670
     32MW080_1,  PRS2,     2,  9,     20,     20,2,19970218,1502, 22.7572,-157.9940, 4715,     19.3,  23.8708,  34.9316,2,  34.9296,2,    207.9,1,   -999.0,9,  -999.00,9,  -999.00,9,  -999.00,9,     20,-999.000,  -999.0, 23.8667
     32MW080_1,  PRS2,     2,  9,     19,     19,2,19970218,1502, 22.7572,-157.9940, 4715,     24.0,  23.8673,  34.9315,2,  34.9312,2,    207.9,1,   -999.0,9,  -999.00,9,  -999.00,9,  -999.00,9,     24,-999.000,  -999.0, 23.8623
     32MW080_1,  PRS2,     2,  9,     18,     18,2,19970218,1502, 22.7572,-157.9940, 4715,     29.6,  23.8721,  34.9314,2,  34.9289,2,    207.9,1,   -999.0,9,  -999.00,9,  -999.00,9,  -999.00,9,     30,-999.000,  -999.0, 23.8659
     32MW080_1,  PRS2,     2,  9,     17,     17,2,19970218,1502, 22.7572,-157.9940, 4715,     34.5,  23.8740,  34.9311,2,  34.9297,2,    207.9,1,   -999.0,9,  -999.00,9,  -999.00,9,  -999.00,9,     35,-999.000,  -999.0, 23.8668
     32MW080_1,  PRS2,     2,  9,     16,     16,3,19970218,1502, 22.7572,-157.9940, 4715,     39.2,  23.8744,  34.9308,2,  34.9301,2,    207.9,1,   -999.0,9,  -999.00,9,  -999.00,9,  -999.00,9,     39,-999.000,  -999.0, 23.8661
     32MW080_1,  PRS2,     2,  9,     15,     15,2,19970218,1502, 22.7572,-157.9940, 4715,     44.0,  23.8749,  34.9303,2,  34.9311,2,    207.9,1,   -999.0,9,  -999.00,9,  -999.00,9,  -999.00,9,     45,-999.000,  -999.0, 23.8657
     32MW080_1,  PRS2,     2,  9,     14,     14,3,19970218,1502, 22.7572,-157.9940, 4715,     49.1,  23.8781,  34.9301,2,  34.9292,2,    207.9,1,   -999.0,9,  -999.00,9,  -999.00,9,  -999.00,9,     50,-999.000,  -999.0, 23.8678
     32MW080_1,  PRS2,     2,  9,     13,     13,2,19970218,1502, 22.7572,-157.9940, 4715,     54.3,  23.8772,  34.9299,2,  34.9324,2,    207.9,1,   -999.0,9,  -999.00,9,  -999.00,9,  -999.00,9,     55,-999.000,  -999.0, 23.8659
     32MW080_1,  PRS2,     2,  9,     12,     12,2,19970218,1502, 22.7572,-157.9940, 4715,     64.2,  23.8716,  34.9294,2,  34.9311,2,    207.9,1,   -999.0,9,  -999.00,9,  -999.00,9,  -999.00,9,     65,-999.000,  -999.0, 23.8582
     32MW080_1,  PRS2,     2,  9,     11,     11,2,19970218,1502, 22.7572,-157.9940, 4715,     73.2,  23.8545,  34.9282,2,  34.9303,2,    207.8,1,   -999.0,9,  -999.00,9,  -999.00,9,  -999.00,9,     75,-999.000,  -999.0, 23.8392
     32MW080_1,  PRS2,     2,  9,     10,     32,2,19970218,1502, 22.7572,-157.9940, 4715,     85.0,  23.8494,  34.9275,2,  34.9329,2,    207.7,1,   -999.0,9,  -999.00,9,  -999.00,9,  -999.00,9,     85,-999.000,  -999.0, 23.8316
     32MW080_1,  PRS2,     2,  9,      9,      3,2,19970218,1502, 22.7572,-157.9940, 4715,     94.8,  23.8391,  34.9268,2,  34.9278,2,    207.7,1,   -999.0,9,  -999.00,9,  -999.00,9,  -999.00,9,     94,-999.000,  -999.0, 23.8192
     32MW080_1,  PRS2,     2,  9,      8,     29,2,19970218,1502, 22.7572,-157.9940, 4715,    103.9,  23.7401,  34.9235,2,  34.9285,2,    207.2,1,   -999.0,9,  -999.00,9,  -999.00,9,  -999.00,9,    105,-999.000,  -999.0, 23.7184
     32MW080_1,  PRS2,     2,  9,      7,     28,2,19970218,1502, 22.7572,-157.9940, 4715,    115.0,  23.2345,  34.9497,2,  34.9487,2,    202.0,1,   -999.0,9,  -999.00,9,  -999.00,9,  -999.00,9,    115,-999.000,  -999.0, 23.2109
     32MW080_1,  PRS2,     2,  9,      6,      7,2,19970218,1502, 22.7572,-157.9940, 4715,    126.3,  22.6275,  34.9919,2,  34.9804,2,    207.0,1,   -999.0,9,  -999.00,9,  -999.00,9,  -999.00,9,    127,-999.000,  -999.0, 22.6020
     32MW080_1,  PRS2,     2,  9,      5,     38,3,19970218,1502, 22.7572,-157.9940, 4715,    150.5,  21.7505,  35.0548,2,  35.0551,2,    205.6,1,   -999.0,9,  -999.00,9,  -999.00,9,  -999.00,9,    151,-999.000,  -999.0, 21.7209
     32MW080_1,  PRS2,     2,  9,      4,     36,2,19970218,1502, 22.7572,-157.9940, 4715,    180.9,  21.0171,  35.0799,2,  35.0806,2,    205.9,1,   -999.0,9,  -999.00,9,  -999.00,9,  -999.00,9,    180,-999.000,  -999.0, 20.9825
     32MW080_1,  PRS2,     2,  9,      3,     35,2,19970218,1502, 22.7572,-157.9940, 4715,    254.4,  18.1271,  34.9027,2,  34.9049,2,    195.4,1,   -999.0,9,  -999.00,9,  -999.00,9,  -999.00,9,    254,-999.000,  -999.0, 18.0831
     32MW080_1,  PRS2,     2,  9,      2,     34,2,19970218,1502, 22.7572,-157.9940, 4715,    527.2,   7.3262,  34.0705,2,  34.0697,2,    118.7,1,   -999.0,9,  -999.00,9,  -999.00,9,  -999.00,9,    528,-999.000,  -999.0,  7.2751
     32MW080_1,  PRS2,     2,  9,      1,     33,2,19970218,1502, 22.7572,-157.9940, 4715,   1029.1,   3.9784,  34.4775,2,  34.4774,2,     39.0,1,   -999.0,9,  -999.00,9,  -999.00,9,  -999.00,9,   1029,-999.000,  -999.0,  3.9005
     32MW080_1,  PRS2,     2, 10,     14,     14,2,19970218,1806, 22.7563,-157.9788, 4710,      4.8,  23.8559,  34.9297,2,  34.9297,2,    206.3,1,   -999.0,9,  -999.00,9,  -999.00,9,  -999.00,9,      6,-999.000,  -999.0, 23.8549
     32MW080_1,  PRS2,     2, 10,     13,     13,2,19970218,1806, 22.7563,-157.9788, 4710,     24.9,  23.8611,  34.9291,2,  34.9280,2,    206.3,1,   -999.0,9,  -999.00,9,  -999.00,9,  -999.00,9,     25,-999.000,  -999.0, 23.8559
     32MW080_1,  PRS2,     2, 10,     12,     12,2,19970218,1806, 22.7563,-157.9788, 4710,     44.6,  23.8603,  34.9283,2,  34.9276,2,    206.3,1,   -999.0,9,  -999.00,9,  -999.00,9,  -999.00,9,     46,-999.000,  -999.0, 23.8510
     32MW080_1,  PRS2,     2, 10,     11,     11,2,19970218,1806, 22.7563,-157.9788, 4710,     75.8,  23.8500,  34.9272,2,  34.9260,2,    207.4,1,   -999.0,9,  -999.00,9,  -999.00,9,  -999.00,9,     76,-999.000,  -999.0, 23.8342
     32MW080_1,  PRS2,     2, 10,     10,     32,2,19970218,1806, 22.7563,-157.9788, 4710,     99.9,  23.6404,  34.9236,2,  34.9238,2,    206.5,1,   -999.0,9,  -999.00,9,  -999.00,9,  -999.00,9,    100,-999.000,  -999.0, 23.6196
     32MW080_1,  PRS2,     2, 10,      9,      3,2,19970218,1806, 22.7563,-157.9788, 4710,    125.4,  22.3858,  35.0153,2,  35.0076,2,    205.5,1,   -999.0,9,  -999.00,9,  -999.00,9,  -999.00,9,    127,-999.000,  -999.0, 22.3607
     32MW080_1,  PRS2,     2, 10,      8,     29,2,19970218,1806, 22.7563,-157.9788, 4710,    150.6,  21.6800,  35.0659,2,  35.0676,2,    212.1,1,   -999.0,9,  -999.00,9,  -999.00,9,  -999.00,9,    151,-999.000,  -999.0, 21.6505
     32MW080_1,  PRS2,     2, 10,      7,     28,2,19970218,1806, 22.7563,-157.9788, 4710,    175.2,  21.1840,  35.0813,2,  35.0826,2,    206.1,1,   -999.0,9,  -999.00,9,  -999.00,9,  -999.00,9,    175,-999.000,  -999.0, 21.1503
     32MW080_1,  PRS2,     2, 10,      6,      7,2,19970218,1806, 22.7563,-157.9788, 4710,    184.8,  20.8527,  35.0819,2,  35.0832,2,    203.2,1,   -999.0,9,  -999.00,9,  -999.00,9,  -999.00,9,    185,-999.000,  -999.0, 20.8175
     32MW080_1,  PRS2,     2, 10,      5,     38,2,19970218,1806, 22.7563,-157.9788, 4710,    251.2,  17.3352,  34.8048,2,  34.8400,3,    194.3,1,   -999.0,9,  -999.00,9,  -999.00,9,  -999.00,9,    251,-999.000,  -999.0, 17.2932
     32MW080_1,  PRS2,     2, 10,      4,     36,2,19970218,1806, 22.7563,-157.9788, 4710,    498.8,   7.9941,  34.0683,2,  34.0691,2,    143.2,1,   -999.0,9,  -999.00,9,  -999.00,9,  -999.00,9,    499,-999.000,  -999.0,  7.9433
     32MW080_1,  PRS2,     2, 10,      3,     35,2,19970218,1806, 22.7563,-157.9788, 4710,    518.7,   7.7509,  34.0716,2,  34.0712,2,    137.3,1,   -999.0,9,  -999.00,9,  -999.00,9,  -999.00,9,    519,-999.000,  -999.0,  7.6990
     32MW080_1,  PRS2,     2, 10,      2,     34,2,19970218,1806, 22.7563,-157.9788, 4710,    751.2,   4.8366,  34.2404,2,  34.2401,2,     27.8,1,   -999.0,9,  -999.00,9,  -999.00,9,  -999.00,9,    751,-999.000,  -999.0,  4.7766
     32MW080_1,  PRS2,     2, 10,      1,     33,2,19970218,1806, 22.7563,-157.9788, 4710,   1020.3,   3.9864,  34.4678,2,  34.4686,2,     38.2,1,   -999.0,9,  -999.00,9,  -999.00,9,  -999.00,9,   1021,-999.000,  -999.0,  3.9092
     32MW080_1,  PRS2,     2, 11,     14,     14,2,19970218,2059, 22.7532,-157.9782, 4710,      4.7,  23.8878,  34.9313,2,  34.9328,2,    205.5,1,   -999.0,9,  -999.00,9,  -999.00,9,  -999.00,9,      4,-999.000,  -999.0, 23.8868
     32MW080_1,  PRS2,     2, 11,     13,     13,2,19970218,2059, 22.7532,-157.9782, 4710,     24.6,  23.8784,  34.9303,2,  34.9309,2,    205.5,1,   -999.0,9,  -999.00,9,  -999.00,9,  -999.00,9,     26,-999.000,  -999.0, 23.8733
     32MW080_1,  PRS2,     2, 11,     12,     12,2,19970218,2059, 22.7532,-157.9782, 4710,     45.3,  23.8671,  34.9293,2,  34.9318,2,    206.0,1,   -999.0,9,  -999.00,9,  -999.00,9,  -999.00,9,     45,-999.000,  -999.0, 23.8577
     32MW080_1,  PRS2,     2, 11,     11,     11,2,19970218,2059, 22.7532,-157.9782, 4710,     75.7,  23.8677,  34.9288,2,  34.9297,2,    205.6,1,   -999.0,9,  -999.00,9,  -999.00,9,  -999.00,9,     76,-999.000,  -999.0, 23.8518
     32MW080_1,  PRS2,     2, 11,     10,     32,2,19970218,2059, 22.7532,-157.9782, 4710,    100.2,  23.8038,  34.9267,2,  34.9316,2,    205.0,1,   -999.0,9,  -999.00,9,  -999.00,9,  -999.00,9,    100,-999.000,  -999.0, 23.7828
     32MW080_1,  PRS2,     2, 11,      9,      3,2,19970218,2059, 22.7532,-157.9782, 4710,    127.6,  22.4888,  35.0093,2,  35.0025,2,    202.4,1,   -999.0,9,  -999.00,9,  -999.00,9,  -999.00,9,    128,-999.000,  -999.0, 22.4632
     32MW080_1,  PRS2,     2, 11,      8,     29,2,19970218,2059, 22.7532,-157.9782, 4710,    149.9,  21.6740,  35.0623,2,  35.0623,2,    210.6,1,   -999.0,9,  -999.00,9,  -999.00,9,  -999.00,9,    150,-999.000,  -999.0, 21.6447
     32MW080_1,  PRS2,     2, 11,      7,     28,2,19970218,2059, 22.7532,-157.9782, 4710,    162.5,  21.3172,  35.0775,2,  35.0767,2,    207.0,1,   -999.0,9,  -999.00,9,  -999.00,9,  -999.00,9,    162,-999.000,  -999.0, 21.2858
     32MW080_1,  PRS2,     2, 11,      6,      7,2,19970218,2059, 22.7532,-157.9782, 4710,    176.2,  20.8823,  35.0814,2,  35.0878,2,    203.1,1,   -999.0,9,  -999.00,9,  -999.00,9,  -999.00,9,    177,-999.000,  -999.0, 20.8487
     32MW080_1,  PRS2,     2, 11,      5,     38,2,19970218,2059, 22.7532,-157.9782, 4710,    250.1,  17.3703,  34.8127,2,  34.8227,2,    193.8,1,   -999.0,9,  -999.00,9,  -999.00,9,  -999.00,9,    251,-999.000,  -999.0, 17.3284
     32MW080_1,  PRS2,     2, 11,      4,     36,2,19970218,2059, 22.7532,-157.9782, 4710,    499.8,   8.0376,  34.0599,2,  34.0600,2,    146.5,1,   -999.0,9,  -999.00,9,  -999.00,9,  -999.00,9,    501,-999.000,  -999.0,  7.9866
     32MW080_1,  PRS2,     2, 11,      3,     35,2,19970218,2059, 22.7532,-157.9782, 4710,    519.2,   7.7541,  34.0721,2,  34.0720,2,    136.3,1,   -999.0,9,  -999.00,9,  -999.00,9,  -999.00,9,    520,-999.000,  -999.0,  7.7022
     32MW080_1,  PRS2,     2, 11,      2,     34,2,19970218,2059, 22.7532,-157.9782, 4710,    753.3,   4.7142,  34.2591,2,  34.2605,2,     28.5,1,   -999.0,9,  -999.00,9,  -999.00,9,  -999.00,9,    753,-999.000,  -999.0,  4.6548
     32MW080_1,  PRS2,     2, 11,      1,     33,2,19970218,2059, 22.7532,-157.9782, 4710,   1020.5,   3.9780,  34.4688,2,  34.4686,2,     39.1,1,   -999.0,9,  -999.00,9,  -999.00,9,  -999.00,9,   1021,-999.000,  -999.0,  3.9008
     32MW080_1,  PRS2,     2, 12,     14,     14,2,19970218,2357, 22.7142,-157.9833, 4715,      4.6,  23.9538,  34.9314,2,  34.9307,2,    205.3,1,   -999.0,9,  -999.00,9,  -999.00,9,  -999.00,9,      4,-999.000,  -999.0, 23.9528
     32MW080_1,  PRS2,     2, 12,     13,     13,2,19970218,2357, 22.7142,-157.9833, 4715,     25.3,  23.8915,  34.9287,2,  34.9295,2,    204.8,1,   -999.0,9,  -999.00,9,  -999.00,9,  -999.00,9,     25,-999.000,  -999.0, 23.8862
     32MW080_1,  PRS2,     2, 12,     12,     12,2,19970218,2357, 22.7142,-157.9833, 4715,     49.8,  23.8652,  34.9270,2,  34.9297,2,    205.1,1,   -999.0,9,  -999.00,9,  -999.00,9,  -999.00,9,     50,-999.000,  -999.0, 23.8547
     32MW080_1,  PRS2,     2, 12,     11,     11,2,19970218,2357, 22.7142,-157.9833, 4715,     75.2,  23.8614,  34.9265,2,  34.9284,2,    205.1,1,   -999.0,9,  -999.00,9,  -999.00,9,  -999.00,9,     76,-999.000,  -999.0, 23.8457
     32MW080_1,  PRS2,     2, 12,     10,     32,2,19970218,2357, 22.7142,-157.9833, 4715,    100.2,  23.8518,  34.9245,2,  34.9269,2,    205.0,1,   -999.0,9,  -999.00,9,  -999.00,9,  -999.00,9,    100,-999.000,  -999.0, 23.8308
     32MW080_1,  PRS2,     2, 12,      9,      3,2,19970218,2357, 22.7142,-157.9833, 4715,    124.4,  23.2391,  34.9494,2,  34.9524,2,    200.5,1,   -999.0,9,  -999.00,9,  -999.00,9,  -999.00,9,    125,-999.000,  -999.0, 23.2136
     32MW080_1,  PRS2,     2, 12,      8,     29,2,19970218,2357, 22.7142,-157.9833, 4715,    149.8,  22.2512,  35.0215,2,  35.0241,2,    202.8,1,   -999.0,9,  -999.00,9,  -999.00,9,  -999.00,9,    150,-999.000,  -999.0, 22.2213
     32MW080_1,  PRS2,     2, 12,      7,     28,2,19970218,2357, 22.7142,-157.9833, 4715,    174.4,  21.5178,  35.0674,2,  35.0683,2,    211.3,1,   -999.0,9,  -999.00,9,  -999.00,9,  -999.00,9,    174,-999.000,  -999.0, 21.4839
     32MW080_1,  PRS2,     2, 12,      6,      7,2,19970218,2357, 22.7142,-157.9833, 4715,    190.2,  20.9613,  35.0702,2,  35.0724,2,    196.2,1,   -999.0,9,  -999.00,9,  -999.00,9,  -999.00,9,    190,-999.000,  -999.0, 20.9249
     32MW080_1,  PRS2,     2, 12,      5,     38,2,19970218,2357, 22.7142,-157.9833, 4715,    250.3,  18.3648,  34.9313,2,  34.9323,2,    194.2,1,   -999.0,9,  -999.00,9,  -999.00,9,  -999.00,9,    251,-999.000,  -999.0, 18.3212
     32MW080_1,  PRS2,     2, 12,      4,     36,2,19970218,2357, 22.7142,-157.9833, 4715,    500.2,   8.0585,  34.0708,2,  34.0708,2,    151.1,1,   -999.0,9,  -999.00,9,  -999.00,9,  -999.00,9,    501,-999.000,  -999.0,  8.0074
     32MW080_1,  PRS2,     2, 12,      3,     35,2,19970218,2357, 22.7142,-157.9833, 4715,    540.8,   7.1886,  34.0679,2,  34.0680,2,    119.9,1,   -999.0,9,  -999.00,9,  -999.00,9,  -999.00,9,    540,-999.000,  -999.0,  7.1367
     32MW080_1,  PRS2,     2, 12,      2,     34,2,19970218,2357, 22.7142,-157.9833, 4715,    751.2,   4.7063,  34.2611,2,  34.2617,2,     28.7,1,   -999.0,9,  -999.00,9,  -999.00,9,  -999.00,9,    751,-999.000,  -999.0,  4.6471
     32MW080_1,  PRS2,     2, 12,      1,     33,2,19970218,2357, 22.7142,-157.9833, 4715,   1019.9,   3.8776,  34.4829,2,  34.4816,2,     40.9,1,   -999.0,9,  -999.00,9,  -999.00,9,  -999.00,9,   1020,-999.000,  -999.0,  3.8013