BOTTLE,20020809WHPSIObren
EXPOCODE,SECT_ID,STNNBR,CASTNO,SAMPNO,BTLNBR,BTLNBR_FLAG_W,DATE,TIME,LATITUDE,LONGITUDE,DEPTH,CTDPRS,CTDTMP,CTDSAL,CTDSAL_FLAG_W,SALNTY,SALNTY_FLAG_W,CTDOXY,CTDOXY_FLAG_W,OXYGEN,OXYGEN_FLAG_W,SILCAT,SILCAT_FLAG_W,NO2+NO3,NO2+NO3_FLAG_W,PHSPHT,PHSPHT_FLAG_W,CTDRAW,REVTMP,REVPRS,THETA
,,,,,,,,,,,,DBAR,ITS-90,PSS-78,,PSS-78,,UMOL/KG,,UMOL/KG,,UMOL/KG,,UMOL/KG,,UMOL/KG,,,DEG C,DBAR,ITS-90
     32MW080_1,  PRS2,     2,  3,     16,     16,2,19970217,2059, 22.7193,-157.9733, 4720,      5.2,  23.8902,  34.9233,2,  34.9232,2,    212.3,1,   -999.0,9,  -999.00,9,  -999.00,9,  -999.00,9,      6,-999.000,  -999.0, 23.8891
     32MW080_1,  PRS2,     2,  3,     15,     15,2,19970217,2059, 22.7193,-157.9733, 4720,     25.3,  23.8392,  34.9219,2,  34.9218,2,    212.7,1,   -999.0,9,  -999.00,9,  -999.00,9,  -999.00,9,     26,-999.000,  -999.0, 23.8339
     32MW080_1,  PRS2,     2,  3,     14,     14,2,19970217,2059, 22.7193,-157.9733, 4720,     44.1,  23.8372,  34.9216,2,  34.9198,2,    212.6,1,   -999.0,9,  -999.00,9,  -999.00,9,  -999.00,9,     45,-999.000,  -999.0, 23.8279
     32MW080_1,  PRS2,     2,  3,     13,     13,2,19970217,2059, 22.7193,-157.9733, 4720,     74.5,  23.8377,  34.9209,2,  34.9259,2,    212.5,1,   -999.0,9,  -999.00,9,  -999.00,9,  -999.00,9,     74,-999.000,  -999.0, 23.8222
     32MW080_1,  PRS2,     2,  3,     12,     12,2,19970217,2059, 22.7193,-157.9733, 4720,     99.8,  23.2430,  34.9486,2,  34.9489,2,    208.6,1,   -999.0,9,  -999.00,9,  -999.00,9,  -999.00,9,    100,-999.000,  -999.0, 23.2225
     32MW080_1,  PRS2,     2,  3,     11,     11,2,19970217,2059, 22.7193,-157.9733, 4720,    115.3,  22.5715,  35.0109,2,  35.0140,2,    207.9,1,   -999.0,9,  -999.00,9,  -999.00,9,  -999.00,9,    115,-999.000,  -999.0, 22.5483
     32MW080_1,  PRS2,     2,  3,     10,     32,2,19970217,2059, 22.7193,-157.9733, 4720,    119.6,  22.5391,  35.0126,2,  35.0140,2,    210.1,1,   -999.0,9,  -999.00,9,  -999.00,9,  -999.00,9,    121,-999.000,  -999.0, 22.5150
     32MW080_1,  PRS2,     2,  3,      9,      3,2,19970217,2059, 22.7193,-157.9733, 4720,    124.1,  22.3974,  35.0251,2,  35.0283,2,    209.8,1,   -999.0,9,  -999.00,9,  -999.00,9,  -999.00,9,    125,-999.000,  -999.0, 22.3725
     32MW080_1,  PRS2,     2,  3,      8,     29,2,19970217,2059, 22.7193,-157.9733, 4720,    150.1,  21.5684,  35.0641,2,  35.0658,2,    215.8,1,   -999.0,9,  -999.00,9,  -999.00,9,  -999.00,9,    150,-999.000,  -999.0, 21.5391
     32MW080_1,  PRS2,     2,  3,      7,     28,2,19970217,2059, 22.7193,-157.9733, 4720,    174.6,  21.2382,  35.0756,2,  35.0770,2,    214.8,1,   -999.0,9,  -999.00,9,  -999.00,9,  -999.00,9,    175,-999.000,  -999.0, 21.2045
     32MW080_1,  PRS2,     2,  3,      6,      7,2,19970217,2059, 22.7193,-157.9733, 4720,    190.9,  19.9842,  35.0569,2,  35.0626,2,    196.4,1,   -999.0,9,  -999.00,9,  -999.00,9,  -999.00,9,    191,-999.000,  -999.0, 19.9489
     32MW080_1,  PRS2,     2,  3,      5,     38,2,19970217,2059, 22.7193,-157.9733, 4720,    250.6,  17.0754,  34.7773,2,  34.7875,2,    198.4,1,   -999.0,9,  -999.00,9,  -999.00,9,  -999.00,9,    251,-999.000,  -999.0, 17.0339
     32MW080_1,  PRS2,     2,  3,      4,     36,2,19970217,2059, 22.7193,-157.9733, 4720,    499.0,   8.0899,  34.0700,2,  34.0727,2,    152.8,1,   -999.0,9,  -999.00,9,  -999.00,9,  -999.00,9,    498,-999.000,  -999.0,  8.0387
     32MW080_1,  PRS2,     2,  3,      3,     35,2,19970217,2059, 22.7193,-157.9733, 4720,    519.4,   7.4706,  34.0652,2,  34.0656,2,    126.8,1,   -999.0,9,  -999.00,9,  -999.00,9,  -999.00,9,    520,-999.000,  -999.0,  7.4197
     32MW080_1,  PRS2,     2,  3,      2,     34,2,19970217,2059, 22.7193,-157.9733, 4720,    751.2,   4.8426,  34.2290,2,  34.2285,2,     30.7,1,   -999.0,9,  -999.00,9,  -999.00,9,  -999.00,9,    752,-999.000,  -999.0,  4.7826
     32MW080_1,  PRS2,     2,  3,      1,     33,2,19970217,2059, 22.7193,-157.9733, 4720,   1021.7,   3.9646,  34.4702,2,  34.4692,2,     40.8,1,   -999.0,9,  -999.00,9,  -999.00,9,  -999.00,9,   1023,-999.000,  -999.0,  3.8875
     32MW080_1,  PRS2,     2,  4,     16,     16,2,19970218,0000, 22.7558,-157.9845, 4710,      5.3,  24.0189,  34.9286,2,  34.9277,2,    212.9,1,   -999.0,9,  -999.00,9,  -999.00,9,  -999.00,9,      5,-999.000,  -999.0, 24.0178
     32MW080_1,  PRS2,     2,  4,     15,     15,2,19970218,0000, 22.7558,-157.9845, 4710,     24.8,  23.8622,  34.9254,2,  34.9257,2,    212.5,1,   -999.0,9,  -999.00,9,  -999.00,9,  -999.00,9,     25,-999.000,  -999.0, 23.8570
     32MW080_1,  PRS2,     2,  4,     14,     14,2,19970218,0000, 22.7558,-157.9845, 4710,     44.7,  23.8551,  34.9252,2,  34.9252,2,    212.5,1,   -999.0,9,  -999.00,9,  -999.00,9,  -999.00,9,     45,-999.000,  -999.0, 23.8457
     32MW080_1,  PRS2,     2,  4,     13,     13,2,19970218,0000, 22.7558,-157.9845, 4710,     74.6,  23.8530,  34.9246,2,  34.9253,2,    212.8,1,   -999.0,9,  -999.00,9,  -999.00,9,  -999.00,9,     74,-999.000,  -999.0, 23.8374
     32MW080_1,  PRS2,     2,  4,     12,     12,2,19970218,0000, 22.7558,-157.9845, 4710,     99.3,  23.3084,  34.9436,2,  34.9432,2,    207.4,1,   -999.0,9,  -999.00,9,  -999.00,9,  -999.00,9,    100,-999.000,  -999.0, 23.2879
     32MW080_1,  PRS2,     2,  4,     11,     11,2,19970218,0000, 22.7558,-157.9845, 4710,    115.0,  22.9498,  34.9736,2,  34.9724,2,    209.4,1,   -999.0,9,  -999.00,9,  -999.00,9,  -999.00,9,    116,-999.000,  -999.0, 22.9264
     32MW080_1,  PRS2,     2,  4,     10,     32,2,19970218,0000, 22.7558,-157.9845, 4710,    119.7,  22.8141,  34.9879,2,  34.9850,2,    211.7,1,   -999.0,9,  -999.00,9,  -999.00,9,  -999.00,9,    120,-999.000,  -999.0, 22.7898
     32MW080_1,  PRS2,     2,  4,      9,      3,2,19970218,0000, 22.7558,-157.9845, 4710,    124.6,  22.7308,  34.9934,2,  34.9945,2,    211.6,1,   -999.0,9,  -999.00,9,  -999.00,9,  -999.00,9,    125,-999.000,  -999.0, 22.7056
     32MW080_1,  PRS2,     2,  4,      8,     29,2,19970218,0000, 22.7558,-157.9845, 4710,    150.3,  21.8629,  35.0485,2,  35.0524,2,    212.3,1,   -999.0,9,  -999.00,9,  -999.00,9,  -999.00,9,    151,-999.000,  -999.0, 21.8333
     32MW080_1,  PRS2,     2,  4,      7,     28,2,19970218,0000, 22.7558,-157.9845, 4710,    175.4,  21.2461,  35.0703,2,  35.0699,2,    205.6,1,   -999.0,9,  -999.00,9,  -999.00,9,  -999.00,9,    175,-999.000,  -999.0, 21.2122
     32MW080_1,  PRS2,     2,  4,      6,      7,2,19970218,0000, 22.7558,-157.9845, 4710,    196.7,  20.3641,  35.0731,2,  35.0764,2,    203.6,1,   -999.0,9,  -999.00,9,  -999.00,9,  -999.00,9,    198,-999.000,  -999.0, 20.3272
     32MW080_1,  PRS2,     2,  4,      5,     38,2,19970218,0000, 22.7558,-157.9845, 4710,    250.0,  17.9490,  34.8851,2,  34.8862,2,    198.6,1,   -999.0,9,  -999.00,9,  -999.00,9,  -999.00,9,    252,-999.000,  -999.0, 17.9061
     32MW080_1,  PRS2,     2,  4,      4,     36,2,19970218,0000, 22.7558,-157.9845, 4710,    500.1,   8.2489,  34.0747,2,  34.0742,2,    151.4,1,   -999.0,9,  -999.00,9,  -999.00,9,  -999.00,9,    501,-999.000,  -999.0,  8.1971
     32MW080_1,  PRS2,     2,  4,      3,     35,2,19970218,0000, 22.7558,-157.9845, 4710,    521.1,   7.7852,  34.0709,2,  34.0712,2,    140.3,1,   -999.0,9,  -999.00,9,  -999.00,9,  -999.00,9,    522,-999.000,  -999.0,  7.7329
     32MW080_1,  PRS2,     2,  4,      2,     34,2,19970218,0000, 22.7558,-157.9845, 4710,    750.5,   4.8458,  34.2474,2,  34.2477,2,     30.1,1,   -999.0,9,  -999.00,9,  -999.00,9,  -999.00,9,    750,-999.000,  -999.0,  4.7858
     32MW080_1,  PRS2,     2,  4,      1,     33,2,19970218,0000, 22.7558,-157.9845, 4710,   1020.3,   3.8893,  34.4795,2,  34.4797,2,     42.0,1,   -999.0,9,  -999.00,9,  -999.00,9,  -999.00,9,   1020,-999.000,  -999.0,  3.8129
     32MW080_1,  PRS2,     2,  5,     17,     17,2,19970218,0259, 22.7513,-157.9930, 4720,      4.4,  23.9863,  34.9280,2,  34.9290,2,    211.5,2,    211.3,2,     6.96,4,     0.01,2,     0.08,2,      5,-999.000,  -999.0, 23.9854
     32MW080_1,  PRS2,     2,  5,     16,     16,2,19970218,0259, 22.7513,-157.9930, 4720,    200.2,  20.8162,  35.0733,2,  35.0748,2,    201.6,2,    200.9,2,     2.34,2,     0.99,2,     0.15,2,    199,-999.000,  -999.0, 20.7781
     32MW080_1,  PRS2,     2,  5,     15,     15,2,19970218,0259, 22.7513,-157.9930, 4720,    210.5,  20.3149,  35.0715,2,  35.0738,2,    199.5,2,    199.4,2,  -999.00,5,  -999.00,5,  -999.00,5,    210,-999.000,  -999.0, 20.2755
     32MW080_1,  PRS2,     2,  5,     14,     14,2,19970218,0259, 22.7513,-157.9930, 4720,    225.8,  19.4812,  35.0290,2,  35.0402,2,    193.6,2,    196.1,2,     2.66,2,     1.88,2,     0.21,2,    226,-999.000,  -999.0, 19.4401
     32MW080_1,  PRS2,     2,  5,     13,     13,2,19970218,0259, 22.7513,-157.9930, 4720,    234.6,  19.2884,  35.0174,2,  35.0192,2,    193.2,2,    195.8,2,     9.75,4,     2.10,2,     0.22,2,    235,-999.000,  -999.0, 19.2461
     32MW080_1,  PRS2,     2,  5,     12,     12,2,19970218,0259, 22.7513,-157.9930, 4720,    251.0,  18.3901,  34.9346,2,  34.9411,2,    197.4,2,    196.1,2,     3.52,2,     2.72,2,     0.25,2,    251,-999.000,  -999.0, 18.3463
     32MW080_1,  PRS2,     2,  5,     11,     11,2,19970218,0259, 22.7513,-157.9930, 4720,    274.5,  16.8093,  34.7316,2,  34.7464,2,    194.8,2,    192.5,2,     7.51,4,     4.59,2,     0.39,2,    276,-999.000,  -999.0, 16.7644
     32MW080_1,  PRS2,     2,  5,     10,     32,2,19970218,0259, 22.7513,-157.9930, 4720,    299.6,  15.6865,  34.5901,2,  34.5887,2,    184.9,2,    186.9,2,     9.68,4,     6.47,2,     0.53,2,    299,-999.000,  -999.0, 15.6398
     32MW080_1,  PRS2,     2,  5,      9,      3,2,19970218,0259, 22.7513,-157.9930, 4720,    324.2,  14.0453,  34.4141,2,  34.4178,2,    186.4,2,    188.0,2,     8.20,2,     8.61,2,     0.66,2,    325,-999.000,  -999.0, 13.9984
     32MW080_1,  PRS2,     2,  5,      8,     29,2,19970218,0259, 22.7513,-157.9930, 4720,    350.5,  12.9122,  34.3081,2,  34.3084,2,    192.6,2,    192.1,2,     9.66,2,    10.09,2,     0.76,2,    351,-999.000,  -999.0, 12.8642
     32MW080_1,  PRS2,     2,  5,      7,     28,2,19970218,0259, 22.7513,-157.9930, 4720,    401.7,   9.8617,  34.0959,2,  34.0956,2,    185.0,2,    185.9,2,    19.65,2,    17.14,2,     1.22,2,    402,-999.000,  -999.0,  9.8155
     32MW080_1,  PRS2,     2,  5,      6,      7,2,19970218,0259, 22.7513,-157.9930, 4720,    500.3,   7.8164,  34.0703,2,  34.0720,2,    140.9,2,   -999.0,5,    38.17,2,    25.58,2,     1.80,2,    501,-999.000,  -999.0,  7.7662
     32MW080_1,  PRS2,     2,  5,      5,     38,2,19970218,0259, 22.7513,-157.9930, 4720,    600.5,   6.4635,  34.1067,2,  34.1095,2,     78.0,2,     79.2,2,    66.82,3,    33.11,2,     2.39,2,    601,-999.000,  -999.0,  6.4089
     32MW080_1,  PRS2,     2,  5,      4,     36,2,19970218,0259, 22.7513,-157.9930, 4720,    700.2,   5.2419,  34.1699,2,  34.1674,2,     39.3,2,     37.9,2,    81.60,2,    39.07,2,     2.82,2,    699,-999.000,  -999.0,  5.1841
     32MW080_1,  PRS2,     2,  5,      3,     35,2,19970218,0259, 22.7513,-157.9930, 4720,    799.2,   4.5780,  34.3126,2,  34.3108,2,     28.3,2,     25.8,2,   101.23,2,    41.25,2,     3.02,2,    799,-999.000,  -999.0,  4.5154
     32MW080_1,  PRS2,     2,  5,      2,     34,2,19970218,0259, 22.7513,-157.9930, 4720,    899.1,   4.2297,  34.4194,2,  34.4185,2,     32.7,2,     33.4,2,   105.32,2,    41.47,2,     3.00,2,    900,-999.000,  -999.0,  4.1609
     32MW080_1,  PRS2,     2,  5,      1,     33,2,19970218,0259, 22.7513,-157.9930, 4720,   1021.3,   3.9002,  34.4783,2,  34.4776,2,     41.1,2,     42.1,2,   114.56,2,    41.46,2,     2.98,2,   1023,-999.000,  -999.0,  3.8236
     32MW080_1,  PRS2,     2,  6,     23,     30,2,19970218,0558, 22.7515,-157.9968, 4722,      4.5,  23.9131,  34.9311,2,  34.9283,2,    210.3,2,   -999.0,5,  -999.00,5,  -999.00,5,  -999.00,5,      5,-999.000,  -999.0, 23.9121
     32MW080_1,  PRS2,     2,  6,     22,     22,2,19970218,0558, 22.7515,-157.9968, 4722,      4.5,  23.9134,  34.9310,2,  34.9286,2,    210.3,2,    211.5,2,     1.85,2,     0.00,2,     0.08,2,      5,-999.000,  -999.0, 23.9124
     32MW080_1,  PRS2,     2,  6,     21,     21,2,19970218,0558, 22.7515,-157.9968, 4722,     15.2,  23.9186,  34.9307,2,  34.9283,2,    210.3,2,    211.4,2,     1.75,2,     0.01,2,     0.07,2,     16,-999.000,  -999.0, 23.9154
     32MW080_1,  PRS2,     2,  6,     20,     20,2,19970218,0558, 22.7515,-157.9968, 4722,     24.5,  23.9222,  34.9305,2,  34.9290,2,    210.4,2,   -999.0,5,  -999.00,5,  -999.00,5,  -999.00,5,     25,-999.000,  -999.0, 23.9171
     32MW080_1,  PRS2,     2,  6,     19,     19,2,19970218,0558, 22.7515,-157.9968, 4722,     24.5,  23.9223,  34.9305,2,  34.9277,2,    210.4,2,    211.5,2,     1.70,2,     0.01,2,     0.07,2,     25,-999.000,  -999.0, 23.9172
     32MW080_1,  PRS2,     2,  6,     18,     18,2,19970218,0558, 22.7515,-157.9968, 4722,     33.9,  23.8588,  34.9291,2,  34.9271,2,    210.4,2,    211.3,2,     1.68,2,     0.00,2,     0.07,2,     35,-999.000,  -999.0, 23.8517
     32MW080_1,  PRS2,     2,  6,     17,     17,2,19970218,0558, 22.7515,-157.9968, 4722,     44.4,  23.8572,  34.9292,2,  34.9272,2,    210.3,2,    211.6,2,     1.55,2,     0.01,2,     0.07,2,     44,-999.000,  -999.0, 23.8479
     32MW080_1,  PRS2,     2,  6,     16,     16,2,19970218,0558, 22.7515,-157.9968, 4722,     60.1,  23.8557,  34.9287,2,  34.9273,2,    210.2,2,    211.5,2,     1.71,2,     0.03,2,     0.07,2,     60,-999.000,  -999.0, 23.8431
     32MW080_1,  PRS2,     2,  6,     15,     15,2,19970218,0558, 22.7515,-157.9968, 4722,     74.5,  23.8538,  34.9282,2,  34.9276,2,    210.4,2,    211.5,2,     1.74,2,     0.03,2,     0.08,2,     74,-999.000,  -999.0, 23.8382
     32MW080_1,  PRS2,     2,  6,     14,     14,2,19970218,0558, 22.7515,-157.9968, 4722,     84.4,  23.8529,  34.9281,2,  34.9268,2,    210.1,2,    211.2,2,     1.72,2,     0.03,2,     0.07,2,     84,-999.000,  -999.0, 23.8352
     32MW080_1,  PRS2,     2,  6,     13,     13,2,19970218,0558, 22.7515,-157.9968, 4722,     94.2,  23.8171,  34.9256,2,  34.9245,2,    210.0,2,    210.7,2,     1.95,2,     0.03,2,     0.07,2,     94,-999.000,  -999.0, 23.7974
     32MW080_1,  PRS2,     2,  6,     12,     12,2,19970218,0558, 22.7515,-157.9968, 4722,    104.7,  23.2803,  34.9464,2,  34.9480,2,    204.8,2,    207.8,2,     1.88,2,     0.05,2,     0.08,2,    105,-999.000,  -999.0, 23.2587
     32MW080_1,  PRS2,     2,  6,     11,     11,2,19970218,0558, 22.7515,-157.9968, 4722,    114.4,  23.0819,  34.9627,2,  34.9647,2,    209.3,2,    209.3,2,     1.96,2,     0.06,2,     0.07,2,    116,-999.000,  -999.0, 23.0585
     32MW080_1,  PRS2,     2,  6,     10,     32,2,19970218,0558, 22.7515,-157.9968, 4722,    124.5,  22.8331,  34.9870,2,  34.9826,2,    208.9,2,    209.5,2,     3.20,2,     0.09,2,     0.12,2,    125,-999.000,  -999.0, 22.8078
     32MW080_1,  PRS2,     2,  6,      9,      3,2,19970218,0558, 22.7515,-157.9968, 4722,    135.8,  22.6503,  35.0067,2,  35.0078,2,    207.9,2,    209.6,2,     2.53,2,     0.12,2,     0.07,2,    136,-999.000,  -999.0, 22.6228
     32MW080_1,  PRS2,     2,  6,      8,     29,2,19970218,0558, 22.7515,-157.9968, 4722,    150.0,  21.9845,  35.0424,2,  35.0449,2,    211.5,2,    211.7,2,     2.03,2,     0.18,2,     0.07,2,    151,-999.000,  -999.0, 21.9548
     32MW080_1,  PRS2,     2,  6,      7,     28,2,19970218,0558, 22.7515,-157.9968, 4722,    160.0,  21.6240,  35.0581,2,  35.0580,2,    211.9,2,    209.3,2,  -999.00,5,  -999.00,5,  -999.00,5,    159,-999.000,  -999.0, 21.5928
     32MW080_1,  PRS2,     2,  6,      6,      7,2,19970218,0558, 22.7515,-157.9968, 4722,    174.1,  21.4009,  35.0703,2,  35.0716,2,    208.0,2,    208.5,2,     2.39,2,     0.45,2,     0.10,2,    175,-999.000,  -999.0, 21.3671
     32MW080_1,  PRS2,     2,  6,      5,     38,2,19970218,0558, 22.7515,-157.9968, 4722,    184.2,  20.9710,  35.0716,2,  35.0727,2,    200.0,2,    200.5,2,  -999.00,5,  -999.00,5,  -999.00,5,    184,-999.000,  -999.0, 20.9358
     32MW080_1,  PRS2,     2,  6,      4,     36,2,19970218,0558, 22.7515,-157.9968, 4722,    200.6,  20.3203,  35.0696,2,  35.0693,2,    195.1,2,    197.6,2,     2.24,2,     1.36,2,     0.21,2,    202,-999.000,  -999.0, 20.2827
     32MW080_1,  PRS2,     2,  6,      3,     35,2,19970218,0558, 22.7515,-157.9968, 4722,    521.8,   7.1946,  34.0700,2,  34.0684,2,    117.0,2,    118.6,2,    45.86,2,    28.60,2,     2.04,2,    522,-999.000,  -999.0,  7.1445
     32MW080_1,  PRS2,     2,  6,      2,     34,2,19970218,0558, 22.7515,-157.9968, 4722,    831.5,   4.4342,  34.3729,2,  34.3726,2,     28.9,2,     28.7,2,   101.16,2,    41.44,2,     2.99,2,    832,-999.000,  -999.0,  4.3698
     32MW080_1,  PRS2,     2,  6,      1,     33,2,19970218,0558, 22.7515,-157.9968, 4722,   1019.5,   3.8650,  34.4846,2,  34.4846,2,     41.4,2,     42.9,2,   112.23,2,    41.37,2,     2.97,2,   1020,-999.000,  -999.0,  3.7889
     32MW080_1,  PRS2,     2,  7,      5,     38,2,19970218,0944, 22.7575,-157.9920, 4722,      3.8,  23.8855,  34.9281,2,  34.9288,2,    208.8,1,   -999.0,9,  -999.00,9,  -999.00,9,  -999.00,9,      4,-999.000,  -999.0, 23.8847
     32MW080_1,  PRS2,     2,  7,      4,     36,4,19970218,0944, 22.7575,-157.9920, 4722,      3.9,  23.8854,  34.9280,2,-999.0000,5,    208.9,1,   -999.0,9,  -999.00,9,  -999.00,9,  -999.00,9,      4,-999.000,  -999.0, 23.8846
     32MW080_1,  PRS2,     2,  7,      3,     35,2,19970218,0944, 22.7575,-157.9920, 4722,    206.0,  20.2011,  35.0660,2,  35.0664,2,    189.1,1,   -999.0,9,  -999.00,9,  -999.00,9,  -999.00,9,    207,-999.000,  -999.0, 20.1627
     32MW080_1,  PRS2,     2,  7,      2,     34,2,19970218,0944, 22.7575,-157.9920, 4722,    501.9,   7.5005,  34.0689,2,  34.0694,2,    127.1,1,   -999.0,9,  -999.00,9,  -999.00,9,  -999.00,9,    502,-999.000,  -999.0,  7.4513
     32MW080_1,  PRS2,     2,  7,      1,     33,2,19970218,0944, 22.7575,-157.9920, 4722,   1021.2,   4.0140,  34.4605,2,  34.4595,2,     37.6,1,   -999.0,9,  -999.00,9,  -999.00,9,  -999.00,9,   1022,-999.000,  -999.0,  3.9366
     32MW080_1,  PRS2,     2,  8,      5,     38,2,19970218,1217, 22.7788,-157.9627, 4690,      4.2,  23.8589,  34.9277,2,  34.9329,2,    209.2,1,   -999.0,9,  -999.00,9,  -999.00,9,  -999.00,9,      5,-999.000,  -999.0, 23.8580
     32MW080_1,  PRS2,     2,  8,      4,     36,2,19970218,1217, 22.7788,-157.9627, 4690,    174.8,  21.4519,  35.0641,2,  35.0646,2,    201.6,1,   -999.0,9,  -999.00,9,  -999.00,9,  -999.00,9,    175,-999.000,  -999.0, 21.4180
     32MW080_1,  PRS2,     2,  8,      3,     35,2,19970218,1217, 22.7788,-157.9627, 4690,    207.1,  20.3556,  35.0723,2,  35.0744,2,    195.7,1,   -999.0,9,  -999.00,9,  -999.00,9,  -999.00,9,    207,-999.000,  -999.0, 20.3168
     32MW080_1,  PRS2,     2,  8,      2,     34,2,19970218,1217, 22.7788,-157.9627, 4690,    504.0,   7.5426,  34.0715,2,  34.0721,2,    124.4,1,   -999.0,9,  -999.00,9,  -999.00,9,  -999.00,9,    504,-999.000,  -999.0,  7.4930
     32MW080_1,  PRS2,     2,  8,      1,     33,2,19970218,1217, 22.7788,-157.9627, 4690,   1021.3,   3.9614,  34.4721,2,  34.4720,2,     39.0,1,   -999.0,9,  -999.00,9,  -999.00,9,  -999.00,9,   1022,-999.000,  -999.0,  3.8843