BOTTLE,20020809WHPSIObren
EXPOCODE,SECT_ID,STNNBR,CASTNO,SAMPNO,BTLNBR,BTLNBR_FLAG_W,DATE,TIME,LATITUDE,LONGITUDE,DEPTH,CTDPRS,CTDTMP,CTDSAL,CTDSAL_FLAG_W,SALNTY,SALNTY_FLAG_W,CTDOXY,CTDOXY_FLAG_W,OXYGEN,OXYGEN_FLAG_W,SILCAT,SILCAT_FLAG_W,NO2+NO3,NO2+NO3_FLAG_W,PHSPHT,PHSPHT_FLAG_W,CTDRAW,REVTMP,REVPRS,THETA
,,,,,,,,,,,,DBAR,ITS-90,PSS-78,,PSS-78,,UMOL/KG,,UMOL/KG,,UMOL/KG,,UMOL/KG,,UMOL/KG,,,DEG C,DBAR,ITS-90
     32MW080_1,  PRS2,     2, 13,     24,     31,2,19970219,0259, 22.6983,-157.9977, 4725,      2.4,  23.9303,  34.9322,2,  34.9303,2,    205.1,1,   -999.0,9,  -999.00,9,  -999.00,9,  -999.00,9,      3,-999.000,  -999.0, 23.9298
     32MW080_1,  PRS2,     2, 13,     23,     30,2,19970219,0259, 22.6983,-157.9977, 4725,      4.4,  23.9282,  34.9317,2,  34.9313,2,    205.1,1,   -999.0,9,  -999.00,9,  -999.00,9,  -999.00,9,      4,-999.000,  -999.0, 23.9273
     32MW080_1,  PRS2,     2, 13,     22,     22,2,19970219,0259, 22.6983,-157.9977, 4725,      9.6,  23.9308,  34.9315,2,  34.9303,2,    205.1,1,   -999.0,9,  -999.00,9,  -999.00,9,  -999.00,9,     10,-999.000,  -999.0, 23.9287
     32MW080_1,  PRS2,     2, 13,     21,     21,2,19970219,0259, 22.6983,-157.9977, 4725,     14.9,  23.9288,  34.9311,2,  34.9295,2,    205.0,1,   -999.0,9,  -999.00,9,  -999.00,9,  -999.00,9,     15,-999.000,  -999.0, 23.9257
     32MW080_1,  PRS2,     2, 13,     20,     20,2,19970219,0259, 22.6983,-157.9977, 4725,     19.3,  23.9301,  34.9306,2,  34.9297,2,    205.0,1,   -999.0,9,  -999.00,9,  -999.00,9,  -999.00,9,     20,-999.000,  -999.0, 23.9261
     32MW080_1,  PRS2,     2, 13,     19,     19,2,19970219,0259, 22.6983,-157.9977, 4725,     24.0,  23.9246,  34.9303,2,  34.9296,2,    204.9,1,   -999.0,9,  -999.00,9,  -999.00,9,  -999.00,9,     24,-999.000,  -999.0, 23.9196
     32MW080_1,  PRS2,     2, 13,     18,     18,2,19970219,0259, 22.6983,-157.9977, 4725,     30.1,  23.8921,  34.9279,2,  34.9265,2,    204.7,1,   -999.0,9,  -999.00,9,  -999.00,9,  -999.00,9,     32,-999.000,  -999.0, 23.8858
     32MW080_1,  PRS2,     2, 13,     17,     17,2,19970219,0259, 22.6983,-157.9977, 4725,     34.6,  23.8721,  34.9258,2,  34.9252,2,    205.1,1,   -999.0,9,  -999.00,9,  -999.00,9,  -999.00,9,     34,-999.000,  -999.0, 23.8649
     32MW080_1,  PRS2,     2, 13,     16,     16,2,19970219,0259, 22.6983,-157.9977, 4725,     39.3,  23.8693,  34.9259,2,  34.9259,2,    204.9,1,   -999.0,9,  -999.00,9,  -999.00,9,  -999.00,9,     40,-999.000,  -999.0, 23.8611
     32MW080_1,  PRS2,     2, 13,     15,     15,2,19970219,0259, 22.6983,-157.9977, 4725,     44.4,  23.8649,  34.9252,2,  34.9251,2,    204.9,1,   -999.0,9,  -999.00,9,  -999.00,9,  -999.00,9,     45,-999.000,  -999.0, 23.8556
     32MW080_1,  PRS2,     2, 13,     14,     14,2,19970219,0259, 22.6983,-157.9977, 4725,     49.3,  23.8586,  34.9248,2,  34.9262,2,    204.6,1,   -999.0,9,  -999.00,9,  -999.00,9,  -999.00,9,     49,-999.000,  -999.0, 23.8483
     32MW080_1,  PRS2,     2, 13,     13,     13,2,19970219,0259, 22.6983,-157.9977, 4725,     54.7,  23.8571,  34.9247,2,  34.9252,2,    204.7,1,   -999.0,9,  -999.00,9,  -999.00,9,  -999.00,9,     55,-999.000,  -999.0, 23.8457
     32MW080_1,  PRS2,     2, 13,     12,     12,2,19970219,0259, 22.6983,-157.9977, 4725,     64.3,  23.8556,  34.9242,2,  34.9254,2,    204.9,1,   -999.0,9,  -999.00,9,  -999.00,9,  -999.00,9,     64,-999.000,  -999.0, 23.8421
     32MW080_1,  PRS2,     2, 13,     11,     11,2,19970219,0259, 22.6983,-157.9977, 4725,     74.6,  23.8560,  34.9240,2,  34.9256,2,    204.8,1,   -999.0,9,  -999.00,9,  -999.00,9,  -999.00,9,     75,-999.000,  -999.0, 23.8404
     32MW080_1,  PRS2,     2, 13,     10,     32,2,19970219,0259, 22.6983,-157.9977, 4725,     84.9,  23.8521,  34.9236,2,  34.9260,2,    204.9,1,   -999.0,9,  -999.00,9,  -999.00,9,  -999.00,9,     85,-999.000,  -999.0, 23.8343
     32MW080_1,  PRS2,     2, 13,      9,      3,2,19970219,0259, 22.6983,-157.9977, 4725,     93.9,  23.8332,  34.9228,2,  34.9254,2,    204.6,1,   -999.0,9,  -999.00,9,  -999.00,9,  -999.00,9,     94,-999.000,  -999.0, 23.8135
     32MW080_1,  PRS2,     2, 13,      8,     29,2,19970219,0259, 22.6983,-157.9977, 4725,    104.6,  23.3488,  34.9445,2,  34.9375,2,    199.1,1,   -999.0,9,  -999.00,9,  -999.00,9,  -999.00,9,    105,-999.000,  -999.0, 23.3273
     32MW080_1,  PRS2,     2, 13,      7,     28,2,19970219,0259, 22.6983,-157.9977, 4725,    115.6,  22.9592,  34.9782,2,  34.9785,2,    201.4,1,   -999.0,9,  -999.00,9,  -999.00,9,  -999.00,9,    116,-999.000,  -999.0, 22.9356
     32MW080_1,  PRS2,     2, 13,      6,      7,2,19970219,0259, 22.6983,-157.9977, 4725,    124.0,  22.7684,  34.9865,2,  34.9885,2,    203.8,1,   -999.0,9,  -999.00,9,  -999.00,9,  -999.00,9,    124,-999.000,  -999.0, 22.7433
     32MW080_1,  PRS2,     2, 13,      5,     38,2,19970219,0259, 22.6983,-157.9977, 4725,    149.7,  21.7004,  35.0643,2,  35.0665,2,    210.9,1,   -999.0,9,  -999.00,9,  -999.00,9,  -999.00,9,    150,-999.000,  -999.0, 21.6711
     32MW080_1,  PRS2,     2, 13,      4,     36,2,19970219,0259, 22.6983,-157.9977, 4725,    175.4,  21.1236,  35.0768,2,  35.0791,2,    204.2,1,   -999.0,9,  -999.00,9,  -999.00,9,  -999.00,9,    176,-999.000,  -999.0, 21.0899
     32MW080_1,  PRS2,     2, 13,      3,     35,2,19970219,0259, 22.6983,-157.9977, 4725,    250.6,  17.9739,  34.8872,2,  34.8877,2,    192.5,1,   -999.0,9,  -999.00,9,  -999.00,9,  -999.00,9,    252,-999.000,  -999.0, 17.9309
     32MW080_1,  PRS2,     2, 13,      2,     34,2,19970219,0259, 22.6983,-157.9977, 4725,    538.9,   7.2393,  34.0668,2,  34.0661,2,    119.6,1,   -999.0,9,  -999.00,9,  -999.00,9,  -999.00,9,    539,-999.000,  -999.0,  7.1874
     32MW080_1,  PRS2,     2, 13,      1,     33,2,19970219,0259, 22.6983,-157.9977, 4725,   1021.8,   3.9133,  34.4781,2,  34.4776,2,     41.5,1,   -999.0,9,  -999.00,9,  -999.00,9,  -999.00,9,   1021,-999.000,  -999.0,  3.8365
     32MW080_1,  PRS2,     2, 14,      4,     36,2,19970219,0558, 22.7058,-157.9905, 4718,      4.2,  23.8851,  34.9278,2,  34.9297,2,    206.0,1,   -999.0,9,  -999.00,9,  -999.00,9,  -999.00,9,      4,-999.000,  -999.0, 23.8843
     32MW080_1,  PRS2,     2, 14,      3,     35,2,19970219,0558, 22.7058,-157.9905, 4718,    190.2,  20.9444,  35.0689,2,  35.0699,2,    190.8,1,   -999.0,9,  -999.00,9,  -999.00,9,  -999.00,9,    192,-999.000,  -999.0, 20.9080
     32MW080_1,  PRS2,     2, 14,      2,     34,2,19970219,0558, 22.7058,-157.9905, 4718,    530.2,   7.0906,  34.0729,2,  34.0716,2,    109.9,1,   -999.0,9,  -999.00,9,  -999.00,9,  -999.00,9,    531,-999.000,  -999.0,  7.0402
     32MW080_1,  PRS2,     2, 14,      1,     33,2,19970219,0558, 22.7058,-157.9905, 4718,   1022.3,   3.9569,  34.4728,2,  34.4716,2,     40.2,1,   -999.0,9,  -999.00,9,  -999.00,9,  -999.00,9,   1022,-999.000,  -999.0,  3.8798
     32MW080_1,  PRS2,     2, 15,     11,     11,2,19970219,0946, 22.7318,-157.9892, 4720,      4.5,  23.8515,  34.9258,2,  34.9245,2,    202.8,1,   -999.0,9,  -999.00,9,  -999.00,9,  -999.00,9,      5,-999.000,  -999.0, 23.8505
     32MW080_1,  PRS2,     2, 15,     10,     32,2,19970219,0946, 22.7318,-157.9892, 4720,     24.5,  23.8563,  34.9252,2,  34.9251,2,    202.9,1,   -999.0,9,  -999.00,9,  -999.00,9,  -999.00,9,     26,-999.000,  -999.0, 23.8512
     32MW080_1,  PRS2,     2, 15,      9,      3,2,19970219,0946, 22.7318,-157.9892, 4720,     45.1,  23.8624,  34.9252,2,  34.9254,2,    202.9,1,   -999.0,9,  -999.00,9,  -999.00,9,  -999.00,9,     46,-999.000,  -999.0, 23.8529
     32MW080_1,  PRS2,     2, 15,      8,     29,2,19970219,0946, 22.7318,-157.9892, 4720,     74.2,  23.8350,  34.9251,2,  34.9245,2,    204.3,1,   -999.0,9,  -999.00,9,  -999.00,9,  -999.00,9,     75,-999.000,  -999.0, 23.8194
     32MW080_1,  PRS2,     2, 15,      7,     28,2,19970219,0946, 22.7318,-157.9892, 4720,    100.0,  23.4913,  34.9339,2,  34.9333,2,    202.1,1,   -999.0,9,  -999.00,9,  -999.00,9,  -999.00,9,    100,-999.000,  -999.0, 23.4706
     32MW080_1,  PRS2,     2, 15,      6,      7,2,19970219,0946, 22.7318,-157.9892, 4720,    115.0,  23.0755,  34.9622,2,  34.9599,2,    201.7,1,   -999.0,9,  -999.00,9,  -999.00,9,  -999.00,9,    115,-999.000,  -999.0, 23.0519
     32MW080_1,  PRS2,     2, 15,      5,     38,2,19970219,0946, 22.7318,-157.9892, 4720,    124.4,  22.5881,  34.9896,2,  34.9889,2,    197.3,1,   -999.0,9,  -999.00,9,  -999.00,9,  -999.00,9,    124,-999.000,  -999.0, 22.5631
     32MW080_1,  PRS2,     2, 15,      4,     36,2,19970219,0946, 22.7318,-157.9892, 4720,    134.8,  21.7255,  35.0574,2,  35.0569,2,    204.1,1,   -999.0,9,  -999.00,9,  -999.00,9,  -999.00,9,    136,-999.000,  -999.0, 21.6991
     32MW080_1,  PRS2,     2, 15,      3,     35,2,19970219,0946, 22.7318,-157.9892, 4720,    148.9,  21.5058,  35.0731,2,  35.0714,2,    209.9,1,   -999.0,9,  -999.00,9,  -999.00,9,  -999.00,9,    149,-999.000,  -999.0, 21.4769
     32MW080_1,  PRS2,     2, 15,      2,     34,2,19970219,0946, 22.7318,-157.9892, 4720,    175.5,  21.1023,  35.0751,2,  35.0726,2,    208.5,1,   -999.0,9,  -999.00,9,  -999.00,9,  -999.00,9,    176,-999.000,  -999.0, 21.0686
     32MW080_1,  PRS2,     2, 15,      1,     33,2,19970219,0946, 22.7318,-157.9892, 4720,    301.1,  14.6056,  34.4717,2,  34.4777,2,    185.7,1,   -999.0,9,  -999.00,9,  -999.00,9,  -999.00,9,    301,-999.000,  -999.0, 14.5609
     32MW080_1,  PRS2,     8,  1,     24,     31,2,19970219,1248, 22.4513,-158.1413, 4815,      4.7,  23.8318,  34.9290,2,  34.9277,2,    211.1,2,    210.9,2,  -999.00,9,  -999.00,9,  -999.00,9,      5,-999.000,  -999.0, 23.8308
     32MW080_1,  PRS2,     8,  1,     23,     30,2,19970219,1248, 22.4513,-158.1413, 4815,     12.9,  23.8357,  34.9286,2,  34.9269,2,    211.1,2,   -999.0,5,  -999.00,9,  -999.00,9,  -999.00,9,     13,-999.000,  -999.0, 23.8330
     32MW080_1,  PRS2,     8,  1,     22,     22,2,19970219,1248, 22.4513,-158.1413, 4815,     24.0,  23.8386,  34.9287,2,  34.9265,2,    211.1,2,    211.3,2,  -999.00,9,  -999.00,9,  -999.00,9,     25,-999.000,  -999.0, 23.8336
     32MW080_1,  PRS2,     8,  1,     21,     21,2,19970219,1248, 22.4513,-158.1413, 4815,     33.9,  23.8411,  34.9285,2,  34.9267,2,    211.1,2,   -999.0,5,  -999.00,9,  -999.00,9,  -999.00,9,     33,-999.000,  -999.0, 23.8340
     32MW080_1,  PRS2,     8,  1,     20,     20,2,19970219,1248, 22.4513,-158.1413, 4815,     44.5,  23.8437,  34.9286,2,  34.9268,2,    211.1,2,   -999.0,5,  -999.00,9,  -999.00,9,  -999.00,9,     45,-999.000,  -999.0, 23.8344
     32MW080_1,  PRS2,     8,  1,     19,     19,2,19970219,1248, 22.4513,-158.1413, 4815,     48.4,  23.8450,  34.9286,2,  34.9271,2,    211.1,2,    210.7,2,  -999.00,9,  -999.00,9,  -999.00,9,     48,-999.000,  -999.0, 23.8349
     32MW080_1,  PRS2,     8,  1,     18,     18,2,19970219,1248, 22.4513,-158.1413, 4815,     59.3,  23.8472,  34.9286,2,  34.9270,2,    211.1,2,   -999.0,5,  -999.00,9,  -999.00,9,  -999.00,9,     59,-999.000,  -999.0, 23.8348
     32MW080_1,  PRS2,     8,  1,     17,     17,2,19970219,1248, 22.4513,-158.1413, 4815,     74.0,  23.8421,  34.9279,2,  34.9269,2,    211.1,2,    210.8,2,  -999.00,9,  -999.00,9,  -999.00,9,     75,-999.000,  -999.0, 23.8266
     32MW080_1,  PRS2,     8,  1,     16,     16,2,19970219,1248, 22.4513,-158.1413, 4815,     84.2,  23.8296,  34.9271,2,  34.9262,2,    210.8,2,   -999.0,5,  -999.00,9,  -999.00,9,  -999.00,9,     84,-999.000,  -999.0, 23.8120
     32MW080_1,  PRS2,     8,  1,     15,     15,2,19970219,1248, 22.4513,-158.1413, 4815,     94.2,  23.7892,  34.9267,2,  34.9252,2,    210.3,2,    210.6,2,  -999.00,9,  -999.00,9,  -999.00,9,     94,-999.000,  -999.0, 23.7695
     32MW080_1,  PRS2,     8,  1,     14,     14,2,19970219,1248, 22.4513,-158.1413, 4815,    103.0,  23.7218,  34.9274,2,  34.9262,2,    210.0,2,   -999.0,5,  -999.00,9,  -999.00,9,  -999.00,9,    104,-999.000,  -999.0, 23.7003
     32MW080_1,  PRS2,     8,  1,     13,     13,2,19970219,1248, 22.4513,-158.1413, 4815,    114.2,  23.3890,  34.9385,2,  34.9368,2,    209.1,2,   -999.0,5,  -999.00,9,  -999.00,9,  -999.00,9,    114,-999.000,  -999.0, 23.3654
     32MW080_1,  PRS2,     8,  1,     12,     12,2,19970219,1248, 22.4513,-158.1413, 4815,    124.2,  23.2535,  34.9509,2,  34.9496,2,    208.0,2,    208.0,2,  -999.00,9,  -999.00,9,  -999.00,9,    125,-999.000,  -999.0, 23.2280
     32MW080_1,  PRS2,     8,  1,     11,     11,2,19970219,1248, 22.4513,-158.1413, 4815,    135.3,  22.7636,  34.9940,2,  34.9924,2,    208.0,2,   -999.0,5,  -999.00,9,  -999.00,9,  -999.00,9,    136,-999.000,  -999.0, 22.7362
     32MW080_1,  PRS2,     8,  1,     10,     32,2,19970219,1248, 22.4513,-158.1413, 4815,    148.8,  22.1818,  35.0392,2,  35.0383,2,    208.8,2,    210.9,2,  -999.00,9,  -999.00,9,  -999.00,9,    150,-999.000,  -999.0, 22.1522
     32MW080_1,  PRS2,     8,  1,      9,      3,2,19970219,1248, 22.4513,-158.1413, 4815,    158.6,  21.6955,  35.0635,2,  35.0633,2,    211.3,2,   -999.0,5,  -999.00,9,  -999.00,9,  -999.00,9,    158,-999.000,  -999.0, 21.6644
     32MW080_1,  PRS2,     8,  1,      8,     29,2,19970219,1248, 22.4513,-158.1413, 4815,    173.8,  21.5107,  35.0700,2,  35.0694,2,    213.4,2,    214.2,2,  -999.00,9,  -999.00,9,  -999.00,9,    174,-999.000,  -999.0, 21.4769
     32MW080_1,  PRS2,     8,  1,      7,     28,2,19970219,1248, 22.4513,-158.1413, 4815,    185.1,  21.4240,  35.0772,2,  35.0764,2,    213.8,2,   -999.0,5,  -999.00,9,  -999.00,9,  -999.00,9,    186,-999.000,  -999.0, 21.3880
     32MW080_1,  PRS2,     8,  1,      6,      7,2,19970219,1248, 22.4513,-158.1413, 4815,    199.9,  21.2177,  35.0794,2,  35.0796,2,    213.0,2,    210.6,2,  -999.00,9,  -999.00,9,  -999.00,9,    201,-999.000,  -999.0, 21.1792
     32MW080_1,  PRS2,     8,  1,      5,     38,2,19970219,1248, 22.4513,-158.1413, 4815,    223.7,  19.3759,  35.0213,2,  35.0153,2,    192.6,2,    193.3,2,  -999.00,9,  -999.00,9,  -999.00,9,    223,-999.000,  -999.0, 19.3354
     32MW080_1,  PRS2,     8,  1,      4,     36,2,19970219,1248, 22.4513,-158.1413, 4815,    234.3,  18.9455,  34.9935,2,  34.9930,2,    194.8,2,   -999.0,5,  -999.00,9,  -999.00,9,  -999.00,9,    235,-999.000,  -999.0, 18.9038
     32MW080_1,  PRS2,     8,  1,      3,     35,2,19970219,1248, 22.4513,-158.1413, 4815,    249.7,  17.9824,  34.8919,2,  34.8894,2,    197.3,2,    196.6,2,  -999.00,9,  -999.00,9,  -999.00,9,    250,-999.000,  -999.0, 17.9395
     32MW080_1,  PRS2,     8,  1,      2,     34,2,19970219,1248, 22.4513,-158.1413, 4815,    274.9,  16.7333,  34.7428,2,  34.7480,2,    199.5,2,   -999.0,5,  -999.00,9,  -999.00,9,  -999.00,9,    275,-999.000,  -999.0, 16.6884
     32MW080_1,  PRS2,     8,  1,      1,     33,2,19970219,1248, 22.4513,-158.1413, 4815,    301.2,  15.3383,  34.5706,2,  34.5727,2,    196.9,2,    197.7,2,  -999.00,9,  -999.00,9,  -999.00,9,    302,-999.000,  -999.0, 15.2920
     32MW080_1,  PRS2,     8,  2,      8,     29,2,19970219,1454, 22.4587,-158.1322, 4810,      5.1,  23.8407,  34.9265,2,  34.9281,2,    216.1,2,   -999.0,5,  -999.00,9,  -999.00,9,  -999.00,9,      5,-999.000,  -999.0, 23.8397
     32MW080_1,  PRS2,     8,  2,      7,     28,2,19970219,1454, 22.4587,-158.1322, 4810,     20.3,  23.8407,  34.9264,2,  34.9295,2,    216.1,2,    211.0,3,  -999.00,9,  -999.00,9,  -999.00,9,     21,-999.000,  -999.0, 23.8364
     32MW080_1,  PRS2,     8,  2,      6,      7,2,19970219,1454, 22.4587,-158.1322, 4810,    190.0,  21.1464,  35.0811,2,  35.0809,2,    217.1,2,    209.5,2,  -999.00,9,  -999.00,9,  -999.00,9,    190,-999.000,  -999.0, 21.1098
     32MW080_1,  PRS2,     8,  2,      5,     38,2,19970219,1454, 22.4587,-158.1322, 4810,    198.8,  20.2965,  35.0665,2,  35.0646,2,    205.7,2,   -999.0,5,  -999.00,9,  -999.00,9,  -999.00,9,    199,-999.000,  -999.0, 20.2593
     32MW080_1,  PRS2,     8,  2,      4,     36,2,19970219,1454, 22.4587,-158.1322, 4810,    219.7,  19.0679,  34.9994,2,  34.9979,2,    195.2,2,    193.1,2,  -999.00,9,  -999.00,9,  -999.00,9,    219,-999.000,  -999.0, 19.0286
     32MW080_1,  PRS2,     8,  2,      3,     35,2,19970219,1454, 22.4587,-158.1322, 4810,    530.0,   7.3506,  34.0755,2,  34.0770,2,    126.4,2,   -999.0,5,  -999.00,9,  -999.00,9,  -999.00,9,    530,-999.000,  -999.0,  7.2991
     32MW080_1,  PRS2,     8,  2,      2,     34,2,19970219,1454, 22.4587,-158.1322, 4810,    800.5,   4.5805,  34.3399,2,  34.3455,2,     29.1,2,     28.5,2,  -999.00,9,  -999.00,9,  -999.00,9,    801,-999.000,  -999.0,  4.5178
     32MW080_1,  PRS2,     8,  2,      1,     33,2,19970219,1454, 22.4587,-158.1322, 4810,   1021.4,   3.9585,  34.4693,2,  34.4698,2,     40.9,2,     41.4,2,  -999.00,9,  -999.00,9,  -999.00,9,   1022,-999.000,  -999.0,  3.8814