BOTTLE,20020809WHPSIObren
#code : jjward hyd_to_exchange.pl 
#original files copied from HTML directory: 20020809
#original HYD file: /whpo/11/HOTS/BOTTLE/hot80/hot80.sea   Fri Aug  9 09:51:37 2002
#original SUM file: /whpo/11/HOTS/BOTTLE/hot80/hot80.sum   Fri Aug  9 13:30:41 2002
EXPOCODE,SECT_ID,STNNBR,CASTNO,SAMPNO,BTLNBR,BTLNBR_FLAG_W,DATE,TIME,LATITUDE,LONGITUDE,DEPTH,CTDPRS,CTDTMP,CTDSAL,CTDSAL_FLAG_W,SALNTY,SALNTY_FLAG_W,CTDOXY,CTDOXY_FLAG_W,OXYGEN,OXYGEN_FLAG_W,SILCAT,SILCAT_FLAG_W,NO2+NO3,NO2+NO3_FLAG_W,PHSPHT,PHSPHT_FLAG_W,CTDRAW,REVTMP,REVPRS,THETA
,,,,,,,,,,,,DBAR,ITS-90,PSS-78,,PSS-78,,UMOL/KG,,UMOL/KG,,UMOL/KG,,UMOL/KG,,UMOL/KG,,,DEG C,DBAR,ITS-90
     32MW080_1,  PRS2,     1,  1,     24,     31,2,19970216,2304, 21.3422,-158.2753, 1510,      5.5,  24.8194,  34.8428,2,  34.8444,2,    206.6,2,    208.8,2,     1.58,2,     0.00,2,     0.09,2,      6,-999.000,  -999.0, 24.8183
     32MW080_1,  PRS2,     1,  1,     23,     30,2,19970216,2304, 21.3422,-158.2753, 1510,     25.3,  24.7725,  34.8405,2,  34.8534,2,    206.6,2,    210.7,3,     1.71,2,     0.00,2,     0.10,2,     26,-999.000,  -999.0, 24.7671
     32MW080_1,  PRS2,     1,  1,     22,     22,2,19970216,2304, 21.3422,-158.2753, 1510,     45.0,  24.3267,  34.8909,2,  34.8925,2,    209.1,2,    207.4,2,     1.73,2,     0.00,2,     0.08,2,     45,-999.000,  -999.0, 24.3172
     32MW080_1,  PRS2,     1,  1,     21,     21,2,19970216,2304, 21.3422,-158.2753, 1510,     60.7,  23.9750,  34.9042,2,  34.9005,2,    209.6,2,    215.8,3,     1.71,2,     0.01,2,     0.08,2,     60,-999.000,  -999.0, 23.9622
     32MW080_1,  PRS2,     1,  1,     20,     20,2,19970216,2304, 21.3422,-158.2753, 1510,     75.4,  23.7090,  34.9163,2,  34.9166,2,    208.7,2,    207.2,2,     1.96,2,     0.01,2,     0.09,2,     75,-999.000,  -999.0, 23.6932
     32MW080_1,  PRS2,     1,  1,     19,     19,2,19970216,2304, 21.3422,-158.2753, 1510,     95.0,  23.2780,  34.9472,2,  34.9429,2,    209.8,2,    210.8,2,     2.12,2,     0.01,2,     0.08,2,     95,-999.000,  -999.0, 23.2584
     32MW080_1,  PRS2,     1,  1,     18,     18,2,19970216,2304, 21.3422,-158.2753, 1510,    104.5,  23.1421,  34.9562,2,  34.9563,2,    210.0,2,    211.8,2,     2.13,2,     0.01,2,     0.08,2,    104,-999.000,  -999.0, 23.1207
     32MW080_1,  PRS2,     1,  1,     17,     17,2,19970216,2304, 21.3422,-158.2753, 1510,    114.4,  22.9976,  34.9642,2,  34.9656,2,    210.1,2,    206.6,2,     2.29,2,     0.03,2,     0.09,2,    116,-999.000,  -999.0, 22.9743
     32MW080_1,  PRS2,     1,  1,     16,     16,2,19970216,2304, 21.3422,-158.2753, 1510,    125.3,  22.7801,  34.9738,2,  34.9749,2,    209.9,2,    208.9,2,     2.39,2,     0.09,2,     0.09,2,    125,-999.000,  -999.0, 22.7547
     32MW080_1,  PRS2,     1,  1,     15,     15,2,19970216,2304, 21.3422,-158.2753, 1510,    148.9,  21.6915,  35.0188,2,  35.0215,2,    202.4,2,    203.5,2,     2.47,2,     0.68,2,     0.14,2,    149,-999.000,  -999.0, 21.6624
     32MW080_1,  PRS2,     1,  1,     14,     14,2,19970216,2304, 21.3422,-158.2753, 1510,    172.6,  20.9103,  35.0206,2,  35.0213,2,    198.0,2,    200.6,2,     2.69,2,     1.13,2,     0.18,2,    173,-999.000,  -999.0, 20.8773
     32MW080_1,  PRS2,     1,  1,     13,     13,2,19970216,2304, 21.3422,-158.2753, 1510,    200.1,  19.5070,  34.9861,2,  34.9860,2,    190.6,2,    190.2,2,     2.85,2,     2.46,2,     0.27,2,    201,-999.000,  -999.0, 19.4706
     32MW080_1,  PRS2,     1,  1,     12,     12,2,19970216,2304, 21.3422,-158.2753, 1510,    225.3,  17.4239,  34.8062,2,  34.8117,2,    191.1,2,    191.0,2,     4.24,2,     4.27,2,     0.38,2,    225,-999.000,  -999.0, 17.3861
     32MW080_1,  PRS2,     1,  1,     11,     11,2,19970216,2304, 21.3422,-158.2753, 1510,    251.1,  15.7618,  34.6228,2,  34.6264,2,    190.2,2,    190.8,2,     5.91,2,     6.21,2,     0.51,2,    251,-999.000,  -999.0, 15.7225
     32MW080_1,  PRS2,     1,  1,     10,     32,2,19970216,2304, 21.3422,-158.2753, 1510,    299.8,  13.3611,  34.3808,2,  34.3805,2,    185.9,2,    184.1,2,    10.29,2,    10.55,2,     0.82,2,    302,-999.000,  -999.0, 13.3192
     32MW080_1,  PRS2,     1,  1,      9,      3,2,19970216,2304, 21.3422,-158.2753, 1510,    400.0,   9.8663,  34.1477,2,  34.1498,2,    171.3,2,    173.3,2,    22.57,2,    18.17,2,     1.32,2,    401,-999.000,  -999.0,  9.8203
     32MW080_1,  PRS2,     1,  1,      8,     29,2,19970216,2304, 21.3422,-158.2753, 1510,    499.0,   7.6243,  34.1375,2,  34.1393,2,    118.9,2,    116.8,2,    45.54,2,    27.50,2,     2.00,2,    498,-999.000,  -999.0,  7.5748
     32MW080_1,  PRS2,     1,  1,      7,     28,2,19970216,2304, 21.3422,-158.2753, 1510,    576.1,   6.5076,  34.1998,2,  34.2007,2,     64.9,2,     66.0,2,    62.28,2,    34.02,2,     2.52,2,    577,-999.000,  -999.0,  6.4550
     32MW080_1,  PRS2,     1,  1,      6,      7,2,19970216,2304, 21.3422,-158.2753, 1510,    650.3,   5.5286,  34.2704,2,  34.2712,2,     35.7,2,     33.6,2,    78.51,2,    38.64,2,     2.84,2,    651,-999.000,  -999.0,  5.4737
     32MW080_1,  PRS2,     1,  1,      5,     38,2,19970216,2304, 21.3422,-158.2753, 1510,    726.6,   5.1130,  34.3692,2,  34.3683,2,     29.8,2,     30.2,2,    86.98,2,    39.98,2,     2.95,2,    727,-999.000,  -999.0,  5.0535
     32MW080_1,  PRS2,     1,  1,      4,     36,2,19970216,2304, 21.3422,-158.2753, 1510,    803.2,   4.7431,  34.4162,2,  34.4173,2,     32.0,2,     32.8,2,    94.08,2,    40.65,2,     2.98,2,    803,-999.000,  -999.0,  4.6790
     32MW080_1,  PRS2,     1,  1,      3,     35,2,19970216,2304, 21.3422,-158.2753, 1510,    876.5,   4.4968,  34.4576,2,  34.4588,2,     36.9,2,     36.7,2,    98.88,2,    40.73,2,     2.98,2,    877,-999.000,  -999.0,  4.4280
     32MW080_1,  PRS2,     1,  1,      2,     34,2,19970216,2304, 21.3422,-158.2753, 1510,    952.3,   4.1680,  34.4737,2,  34.4740,2,     38.2,2,     38.4,2,   105.37,2,    40.81,2,     2.99,2,    953,-999.000,  -999.0,  4.0951
     32MW080_1,  PRS2,     1,  1,      1,     33,2,19970216,2304, 21.3422,-158.2753, 1510,    984.3,   4.1014,  34.4827,2,  34.4824,2,     41.0,2,     41.4,2,   107.74,2,    41.33,2,     3.00,2,    984,-999.000,  -999.0,  4.0263
     32MW080_1,  PRS2,     2,  1,     24,     31,2,19970217,1206, 22.7535,-157.9983, 4720,      4.7,  23.8413,  34.9237,2,  34.9265,2,    212.0,2,    211.0,2,     1.26,2,     0.00,2,     0.07,2,      5,-999.000,  -999.0, 23.8403
     32MW080_1,  PRS2,     2,  1,     23,     30,2,19970217,1206, 22.7535,-157.9983, 4720,    214.4,  20.1473,  35.0629,2,  35.0738,2,    202.5,2,    200.6,2,     2.36,2,     1.08,2,     0.16,2,    215,-999.000,  -999.0, 20.1074
     32MW080_1,  PRS2,     2,  1,     22,     22,2,19970217,1206, 22.7535,-157.9983, 4720,    522.2,   7.2674,  34.0756,2,  34.0770,2,    119.5,2,    117.1,2,    42.55,2,    28.18,2,     1.97,2,    521,-999.000,  -999.0,  7.2170
     32MW080_1,  PRS2,     2,  1,     21,     21,2,19970217,1206, 22.7535,-157.9983, 4720,    799.2,   4.5866,  34.3136,2,  34.3136,2,     27.3,2,     25.9,2,    93.47,2,    40.92,2,     2.92,2,    800,-999.000,  -999.0,  4.5240
     32MW080_1,  PRS2,     2,  1,     20,     20,2,19970217,1206, 22.7535,-157.9983, 4720,   1000.5,   4.0241,  34.4590,2,  34.4604,2,     38.2,2,     38.9,2,   105.34,2,    41.40,2,     2.94,2,   1002,-999.000,  -999.0,  3.9483
     32MW080_1,  PRS2,     2,  1,     19,     19,2,19970217,1206, 22.7535,-157.9983, 4720,   1401.1,   3.0216,  34.5570,2,  34.5573,2,     60.1,2,     60.3,2,   126.64,2,    40.89,2,     2.89,2,   1401,-999.000,  -999.0,  2.9218
     32MW080_1,  PRS2,     2,  1,     18,     18,2,19970217,1206, 22.7535,-157.9983, 4720,   1599.4,   2.6628,  34.5824,2,  34.5827,2,     68.9,2,     69.5,2,   134.15,2,    40.60,2,     2.85,2,   1598,-999.000,  -999.0,  2.5507
     32MW080_1,  PRS2,     2,  1,     17,     17,2,19970217,1206, 22.7535,-157.9983, 4720,   1798.9,   2.3668,  34.5977,2,  34.5970,2,     77.2,2,     78.3,2,   141.09,2,    40.00,2,     2.80,2,   1798,-999.000,  -999.0,  2.2419
     32MW080_1,  PRS2,     2,  1,     16,     16,2,19970217,1206, 22.7535,-157.9983, 4720,   1997.5,   2.1348,  34.6146,2,  34.6143,2,     84.2,2,     86.2,2,   146.90,2,    39.44,2,     2.76,2,   1996,-999.000,  -999.0,  1.9966
     32MW080_1,  PRS2,     2,  1,     15,     15,2,19970217,1206, 22.7535,-157.9983, 4720,   2197.4,   1.9415,  34.6296,2,  34.6292,2,     93.1,2,     94.0,2,   152.48,2,    39.24,2,     2.73,2,   2196,-999.000,  -999.0,  1.7892
     32MW080_1,  PRS2,     2,  1,     14,     14,2,19970217,1206, 22.7535,-157.9983, 4720,   2396.8,   1.7820,  34.6434,2,  34.6447,2,    102.9,2,    103.3,2,   154.87,2,    38.56,2,     2.69,2,   2398,-999.000,  -999.0,  1.6150
     32MW080_1,  PRS2,     2,  1,     13,     13,2,19970217,1206, 22.7535,-157.9983, 4720,   2599.3,   1.6586,  34.6535,2,  34.6554,2,    109.8,2,    110.7,2,   156.96,2,    38.25,2,     2.66,2,   2599,-999.000,  -999.0,  1.4758
     32MW080_1,  PRS2,     2,  1,     12,     12,2,19970217,1206, 22.7535,-157.9983, 4720,   2799.8,   1.5721,  34.6627,2,  34.6624,2,    120.2,2,    119.8,2,   156.45,2,    37.66,2,     2.62,2,   2799,-999.000,  -999.0,  1.3726
     32MW080_1,  PRS2,     2,  1,     11,     11,2,19970217,1206, 22.7535,-157.9983, 4720,   3000.2,   1.5226,  34.6691,2,  34.6691,2,    127.1,2,    127.0,2,   155.74,2,    37.28,2,     2.61,2,   3001,-999.000,  -999.0,  1.3053
     32MW080_1,  PRS2,     2,  1,     10,     32,2,19970217,1206, 22.7535,-157.9983, 4720,   3199.8,   1.4953,  34.6734,2,  34.6716,2,    132.1,2,    131.9,2,   155.51,2,    36.79,2,     2.55,2,   3200,-999.000,  -999.0,  1.2593
     32MW080_1,  PRS2,     2,  1,      9,      3,2,19970217,1206, 22.7535,-157.9983, 4720,   3398.6,   1.4752,  34.6768,2,  34.6758,2,    137.1,2,    136.7,2,   153.44,2,    36.51,2,     2.54,2,   3399,-999.000,  -999.0,  1.2199
     32MW080_1,  PRS2,     2,  1,      8,     29,2,19970217,1206, 22.7535,-157.9983, 4720,   3598.1,   1.4579,  34.6798,2,  34.6803,2,    141.2,2,    141.8,2,   152.37,2,    36.21,2,     2.51,2,   3599,-999.000,  -999.0,  1.1828
     32MW080_1,  PRS2,     2,  1,      7,     28,2,19970217,1206, 22.7535,-157.9983, 4720,   3795.9,   1.4518,  34.6820,2,  34.6817,2,    144.9,2,    144.8,2,   150.95,2,    36.12,2,     2.49,2,   3796,-999.000,  -999.0,  1.1562
     32MW080_1,  PRS2,     2,  1,      6,      7,2,19970217,1206, 22.7535,-157.9983, 4720,   3998.1,   1.4503,  34.6842,2,  34.6845,2,    147.8,2,    148.5,2,   150.09,2,    35.87,2,     2.47,2,   3997,-999.000,  -999.0,  1.1330
     32MW080_1,  PRS2,     2,  1,      5,     38,2,19970217,1206, 22.7535,-157.9983, 4720,   4200.0,   1.4596,  34.6854,2,  34.6844,2,    149.8,2,    150.2,2,   150.32,2,    35.83,2,     2.47,2,   4199,-999.000,  -999.0,  1.1198
     32MW080_1,  PRS2,     2,  1,      4,     36,2,19970217,1206, 22.7535,-157.9983, 4720,   4399.4,   1.4745,  34.6863,2,  34.6861,2,    152.6,2,    151.6,2,   148.64,2,    35.72,2,     2.47,2,   4401,-999.000,  -999.0,  1.1118
     32MW080_1,  PRS2,     2,  1,      3,     35,2,19970217,1206, 22.7535,-157.9983, 4720,   4499.7,   1.4848,  34.6862,2,  34.6863,2,    152.3,2,    151.6,2,   149.34,2,    35.65,2,     2.46,2,   4500,-999.000,  -999.0,  1.1103
     32MW080_1,  PRS2,     2,  1,      2,     34,2,19970217,1206, 22.7535,-157.9983, 4720,   4599.8,   1.4939,  34.6865,2,  34.6865,2,    153.1,2,    152.0,2,   148.85,2,    35.45,2,     2.49,2,   4598,-999.000,  -999.0,  1.1075
     32MW080_1,  PRS2,     2,  1,      1,     33,2,19970217,1206, 22.7535,-157.9983, 4720,   4806.1,   1.4990,  34.6890,2,  34.6886,2,    155.4,2,    156.1,2,   147.99,2,    35.28,2,     2.44,2,   4807,-999.000,  -999.0,  1.0882
     32MW080_1,  PRS2,     2,  2,     24,     31,2,19970217,1801, 22.7453,-158.0045, 4720,      4.0,  23.8356,  34.9246,2,  34.9244,2,    214.1,2,    211.0,2,     1.64,2,     0.01,2,     0.08,2,      4,-999.000,  -999.0, 23.8348
     32MW080_1,  PRS2,     2,  2,     23,     30,2,19970217,1801, 22.7453,-158.0045, 4720,     50.1,  23.8433,  34.9241,2,  34.9246,2,    214.1,2,    210.3,2,     1.84,2,     0.00,2,     0.08,2,     50,-999.000,  -999.0, 23.8328
     32MW080_1,  PRS2,     2,  2,     22,     22,2,19970217,1801, 22.7453,-158.0045, 4720,    110.8,  22.7389,  34.9894,2,  34.9883,2,    210.6,2,    209.1,2,     1.43,2,     0.04,2,     0.07,2,    111,-999.000,  -999.0, 22.7164
     32MW080_1,  PRS2,     2,  2,     21,     21,2,19970217,1801, 22.7453,-158.0045, 4720,    175.4,  21.1436,  35.0773,2,  35.0755,2,    210.9,2,    207.6,2,     1.17,2,     0.45,2,     0.11,2,    177,-999.000,  -999.0, 21.1098
     32MW080_1,  PRS2,     2,  2,     20,     20,2,19970217,1801, 22.7453,-158.0045, 4720,    203.7,  19.5696,  35.0400,2,  35.0433,2,    198.4,2,    196.4,2,     1.32,2,     1.77,2,     0.20,2,    204,-999.000,  -999.0, 19.5324
     32MW080_1,  PRS2,     2,  2,     19,     19,2,19970217,1801, 22.7453,-158.0045, 4720,    224.1,  18.7507,  34.9742,2,  34.9767,2,    195.5,2,    195.9,2,     1.70,2,     2.40,2,     0.23,2,    224,-999.000,  -999.0, 18.7111
     32MW080_1,  PRS2,     2,  2,     18,     18,2,19970217,1801, 22.7453,-158.0045, 4720,    275.1,  15.4842,  34.5645,2,  34.5706,2,    184.9,2,    185.1,2,     4.58,2,     6.74,2,     0.55,2,    276,-999.000,  -999.0, 15.4417
     32MW080_1,  PRS2,     2,  2,     17,     17,2,19970217,1801, 22.7453,-158.0045, 4720,    284.6,  15.3421,  34.5520,2,  34.5528,2,    183.0,2,    186.1,2,     4.85,2,     6.92,2,     0.56,2,    284,-999.000,  -999.0, 15.2984
     32MW080_1,  PRS2,     2,  2,     16,     16,2,19970217,1801, 22.7453,-158.0045, 4720,    340.2,  12.2904,  34.2571,2,  34.2568,2,    197.6,2,    196.4,2,     9.54,2,    10.87,2,     0.79,2,    341,-999.000,  -999.0, 12.2454
     32MW080_1,  PRS2,     2,  2,     15,     15,2,19970217,1801, 22.7453,-158.0045, 4720,    363.7,  11.4289,  34.1883,2,  34.1895,2,    198.6,2,    196.6,2,    11.87,2,    12.71,2,     0.91,2,    364,-999.000,  -999.0, 11.3830
     32MW080_1,  PRS2,     2,  2,     14,     14,2,19970217,1801, 22.7453,-158.0045, 4720,    384.1,  10.3847,  34.1230,2,  34.1258,2,    190.5,2,    192.4,2,    15.84,2,    15.24,2,     1.09,2,    384,-999.000,  -999.0, 10.3391
     32MW080_1,  PRS2,     2,  2,     13,     13,2,19970217,1801, 22.7453,-158.0045, 4720,    436.2,   9.1807,  34.1028,2,  34.1040,2,    180.3,2,    177.0,2,    23.62,2,    19.50,2,     1.45,2,    437,-999.000,  -999.0,  9.1327
     32MW080_1,  PRS2,     2,  2,     12,     12,2,19970217,1801, 22.7453,-158.0045, 4720,    449.9,   8.8817,  34.0925,2,  34.0922,2,    169.8,2,    171.6,2,    26.02,2,    20.74,2,     1.48,2,    450,-999.000,  -999.0,  8.8331
     32MW080_1,  PRS2,     2,  2,     11,     11,2,19970217,1801, 22.7453,-158.0045, 4720,    499.7,   7.7634,  34.0733,2,  34.0750,2,    139.8,2,    138.3,2,    38.02,2,    26.04,2,     1.85,2,    501,-999.000,  -999.0,  7.7134
     32MW080_1,  PRS2,     2,  2,     10,     32,2,19970217,1801, 22.7453,-158.0045, 4720,    540.2,   6.9054,  34.0851,2,  34.0839,2,    108.7,2,    102.9,2,    49.93,2,    30.65,2,     2.20,2,    541,-999.000,  -999.0,  6.8547
     32MW080_1,  PRS2,     2,  2,      9,      3,2,19970217,1801, 22.7453,-158.0045, 4720,    579.2,   6.2433,  34.1130,2,  34.1177,2,     75.1,2,     72.7,2,    60.94,2,    34.25,2,     2.48,2,    579,-999.000,  -999.0,  6.1917
     32MW080_1,  PRS2,     2,  2,      8,     29,2,19970217,1801, 22.7453,-158.0045, 4720,    626.2,   5.5604,  34.1435,2,  34.1433,2,     51.5,2,     50.5,2,    73.11,2,    37.59,2,     2.72,2,    628,-999.000,  -999.0,  5.5076
     32MW080_1,  PRS2,     2,  2,      7,     28,2,19970217,1801, 22.7453,-158.0045, 4720,    700.2,   5.0542,  34.2023,2,  34.2054,2,     34.2,2,     34.6,2,    83.85,2,    39.77,2,     2.88,2,    701,-999.000,  -999.0,  4.9975
     32MW080_1,  PRS2,     2,  2,      6,      7,2,19970217,1801, 22.7453,-158.0045, 4720,    749.8,   4.8135,  34.2534,2,  34.2530,2,     30.6,2,     28.0,2,    90.72,2,    40.68,2,     2.94,2,    750,-999.000,  -999.0,  4.7538
     32MW080_1,  PRS2,     2,  2,      5,     38,2,19970217,1801, 22.7453,-158.0045, 4720,    791.6,   4.6335,  34.2891,2,  34.2878,2,     28.4,2,     28.0,2,    94.89,2,    41.21,2,     2.97,2,    792,-999.000,  -999.0,  4.5712
     32MW080_1,  PRS2,     2,  2,      4,     36,2,19970217,1801, 22.7453,-158.0045, 4720,    876.8,   4.4722,  34.3913,2,  34.3908,2,     31.9,2,     29.7,2,    99.14,2,    41.44,2,     2.99,2,    877,-999.000,  -999.0,  4.4037
     32MW080_1,  PRS2,     2,  2,      3,     35,2,19970217,1801, 22.7453,-158.0045, 4720,    903.1,   4.4067,  34.4034,2,  34.4025,2,     31.9,2,     31.0,2,   101.03,2,    41.55,2,     2.99,2,    903,-999.000,  -999.0,  4.3363
     32MW080_1,  PRS2,     2,  2,      2,     34,2,19970217,1801, 22.7453,-158.0045, 4720,    949.1,   4.2166,  34.4322,2,  34.4323,2,     34.5,2,     33.9,2,   104.15,2,    41.57,2,     3.02,2,    949,-999.000,  -999.0,  4.1436
     32MW080_1,  PRS2,     2,  2,      1,     33,2,19970217,1801, 22.7453,-158.0045, 4720,   1019.6,   3.9997,  34.4666,2,  34.4655,2,     39.3,2,     41.0,2,   109.02,2,    41.44,2,     2.98,2,   1020,-999.000,  -999.0,  3.9225