BOTTLE,20224407JOAExport
EXPOCODE,SECT_ID,STNNBR,CASTNO,SAMPNO,BTLNBR,BTLNBR_FLAG_W,DATE,TIME,LATITUDE,LONGITUDE,DEPTH,CTDPRS,CTDTMP,CTDSAL,CTDSAL_FLAG_W,SALNTY,SALNTY_FLAG_W,OXYGEN,OXYGEN_FLAG_W,SILCAT,SILCAT_FLAG_W,NITRAT,NITRAT_FLAG_W,NITRIT,NITRIT_FLAG_W,PHSPHT,PHSPHT_FLAG_W,CFC-11,CFC-11_FLAG_W,CFC-12,CFC-12_FLAG_W,TCARBN,TCARBN_FLAG_W,ALKALI,ALKALI_FLAG_W
,,,,,,,,,,,,DB,ITS-90,PSS-78,,PSS-78,,UMOL/KG,,UMOL/KG,,UMOL/KG,,UMOL/KG,,UMOL/KG,,PMOL/KG,,PMOL/KG,,UMOL/KG,,UMOL/KG
           NA,     GNS,    347,  99,-999.0,      23,  2,19970503,0000,  74.5015,   -2.1518,  3524,      3.1,  -1.7520, -999.000,9,   34.758,2,   -999.0,9,     6.13,2,    12.29,2,     0.02,2,     0.84,2, -999.000,9, -999.000,9, -999.000,9, -999.000,9
           NA,     GNS,    347,  99,-999.0,      22,  2,19970503,0000,  74.5015,   -2.1518,  3524,      7.0,  -1.7500, -999.000,9,   34.758,2,   -999.0,9,     6.05,2,    12.26,2,     0.02,2,     0.83,2, -999.000,9, -999.000,9, -999.000,9, -999.000,9
           NA,     GNS,    347,  99,-999.0,      12,  2,19970503,0000,  74.5015,   -2.1518,  3524,      9.9,  -1.6968,   34.801,2,   34.813,2,    348.7,2,     6.21,2,    12.58,2,     0.02,2,     0.86,2,    6.372,2,    3.074,2, 2158.500,2, 2293.800,2
           NA,     GNS,    347,  99,-999.0,      21,  2,19970503,0000,  74.5015,   -2.1518,  3524,     10.3,  -1.7500, -999.000,9,   34.758,2,   -999.0,9,     6.06,2,    12.27,2,     0.03,2,     0.84,2, -999.000,9, -999.000,9, -999.000,9, -999.000,9
           NA,     GNS,    347,  99,-999.0,      20,  2,19970503,0000,  74.5015,   -2.1518,  3524,     14.9,  -1.7510, -999.000,9,   34.758,2,   -999.0,9,     6.06,2,    12.27,2,     0.02,2,     0.84,2, -999.000,9, -999.000,9, -999.000,9, -999.000,9
           NA,     GNS,    347,  99,-999.0,      19,  2,19970503,0000,  74.5015,   -2.1518,  3524,     19.8,  -1.7510, -999.000,9,   34.758,2,   -999.0,9,     6.07,2,    12.30,2,     0.02,2,     0.83,2, -999.000,9, -999.000,9, -999.000,9, -999.000,9
           NA,     GNS,    347,  99,-999.0,      18,  2,19970503,0000,  74.5015,   -2.1518,  3524,     25.5,  -1.7520, -999.000,9,   34.758,2,   -999.0,9,     6.07,2,    12.28,2,     0.02,2,     0.83,2, -999.000,9, -999.000,9, -999.000,9, -999.000,9
           NA,     GNS,    347,  99,-999.0,      11,  2,19970503,0000,  74.5015,   -2.1518,  3524,     28.6,  -1.6959,   34.802,2,   34.813,2,    348.7,2,     6.21,2,    12.58,2,     0.02,2,     0.86,2,    6.359,2,    3.077,2, 2156.300,2, 2291.800,2
           NA,     GNS,    347,  99,-999.0,      17,  2,19970503,0000,  74.5015,   -2.1518,  3524,     30.3,  -1.7510, -999.000,9,   34.757,2,   -999.0,9,     6.06,2,    12.26,2,     0.03,2,     0.84,2, -999.000,9, -999.000,9, -999.000,9, -999.000,9
           NA,     GNS,    347,  99,-999.0,      16,  2,19970503,0000,  74.5015,   -2.1518,  3524,     36.3,  -1.7460, -999.000,9,   34.752,2,   -999.0,9,     6.05,2,    12.24,2,     0.03,2,     0.84,2, -999.000,9, -999.000,9, -999.000,9, -999.000,9
           NA,     GNS,    347,  99,-999.0,      15,  2,19970503,0000,  74.5015,   -2.1518,  3524,     39.6,  -1.7390, -999.000,9,   34.758,2,   -999.0,9,     6.06,2,    12.27,2,     0.03,2,     0.85,2, -999.000,9, -999.000,9, -999.000,9, -999.000,9
           NA,     GNS,    347,  99,-999.0,      14,  2,19970503,0000,  74.5015,   -2.1518,  3524,     45.1,  -1.7320, -999.000,9,   34.761,2,   -999.0,9,     6.10,2,    12.37,2,     0.02,2,     0.85,2, -999.000,9, -999.000,9, -999.000,9, -999.000,9
           NA,     GNS,    347,  99,-999.0,      10,  2,19970503,0000,  74.5015,   -2.1518,  3524,     50.1,  -1.6928,   34.804,2,   34.813,2,    348.3,2,     6.22,2,    12.61,2,     0.02,2,     0.86,2,    6.392,2,    3.092,2, 2152.600,2, 2293.900,2
           NA,     GNS,    347,  99,-999.0,      13,  2,19970503,0000,  74.5015,   -2.1518,  3524,     50.5,  -1.7310, -999.000,9,   34.761,2,   -999.0,9,     6.11,2,    12.33,2,     0.03,2,     0.85,2, -999.000,9, -999.000,9, -999.000,9, -999.000,9
           NA,     GNS,    347,  99,-999.0,      12,  2,19970503,0000,  74.5015,   -2.1518,  3524,     60.5,  -1.7410, -999.000,9,   34.755,2,   -999.0,9,     6.10,2,    12.34,2,     0.03,2,     0.84,2, -999.000,9, -999.000,9, -999.000,9, -999.000,9
           NA,     GNS,    347,  99,-999.0,      11,  2,19970503,0000,  74.5015,   -2.1518,  3524,     70.8,  -1.6990, -999.000,9,   34.764,2,   -999.0,9,     6.14,2,    12.42,2,     0.03,2,     0.86,2, -999.000,9, -999.000,9, -999.000,9, -999.000,9
           NA,     GNS,    347,  99,-999.0,      10,  2,19970503,0000,  74.5015,   -2.1518,  3524,     80.4,  -1.7040, -999.000,9,   34.764,2,   -999.0,9,     6.14,2,    12.39,2,     0.03,2,     0.85,2, -999.000,9, -999.000,9, -999.000,9, -999.000,9
           NA,     GNS,    347,  99,-999.0,       9,  2,19970503,0000,  74.5015,   -2.1518,  3524,     90.5,  -1.7090, -999.000,9,   34.762,2,   -999.0,9,     6.13,2,    12.40,2,     0.03,2,     0.85,2, -999.000,9, -999.000,9, -999.000,9, -999.000,9
           NA,     GNS,    347,  99,-999.0,       8,  2,19970503,0000,  74.5015,   -2.1518,  3524,     99.7,  -1.6980, -999.000,9,   34.762,2,   -999.0,9,     6.17,2,    12.48,2,     0.03,2,     0.86,2, -999.000,9, -999.000,9, -999.000,9, -999.000,9
           NA,     GNS,    347,  99,-999.0,       9,  2,19970503,0000,  74.5015,   -2.1518,  3524,    100.7,  -1.6855,   34.807,2,   34.812,2,    349.6,2,     6.23,2,    12.63,2,     0.02,2,     0.87,2,    6.360,2,    3.093,2, 2149.000,2, 2293.600,2
           NA,     GNS,    347,  99,-999.0,       7,  2,19970503,0000,  74.5015,   -2.1518,  3524,    121.0,  -1.6700, -999.000,9,   34.762,2,   -999.0,9,     6.19,2,    12.54,2,     0.03,2,     0.87,2, -999.000,9, -999.000,9, -999.000,9, -999.000,9
           NA,     GNS,    347,  99,-999.0,       6,  2,19970503,0000,  74.5015,   -2.1518,  3524,    133.8,  -1.4720, -999.000,9,   34.782,2,   -999.0,9,     6.31,2,    12.72,2,     0.02,2,     0.87,2, -999.000,9, -999.000,9, -999.000,9, -999.000,9
           NA,     GNS,    347,  99,-999.0,       5,  2,19970503,0000,  74.5015,   -2.1518,  3524,    150.1,  -1.1820, -999.000,9,   34.795,2,   -999.0,9,     6.49,2,    13.02,2,     0.02,2,     0.90,2, -999.000,9, -999.000,9, -999.000,9, -999.000,9
           NA,     GNS,    347,  99,-999.0,       8,  2,19970503,0000,  74.5015,   -2.1518,  3524,    151.5,  -1.6848,   34.812,2,   34.812,2,    348.3,2,     6.22,2,    12.60,2,     0.02,2,     0.87,2,    6.362,2,    3.068,2, 2151.900,2, 2292.400,2
           NA,     GNS,    347,  99,-999.0,       4,  2,19970503,0000,  74.5015,   -2.1518,  3524,    164.9,  -1.0020, -999.000,9,   34.800,2,   -999.0,9,     6.63,2,    13.17,2,     0.01,2,     0.91,2, -999.000,9, -999.000,9, -999.000,9, -999.000,9
           NA,     GNS,    347,  99,-999.0,       7,  2,19970503,0000,  74.5015,   -2.1518,  3524,    199.5,  -1.6536,   34.817,2,   34.817,2,    346.1,2,     6.35,2,    12.80,2,     0.02,2,     0.87,2, -999.000,9, -999.000,9, 2151.500,2, 2293.700,2
           NA,     GNS,    347,  99,-999.0,       3,  2,19970503,0000,  74.5015,   -2.1518,  3524,    200.0,  -0.8570, -999.000,9,   34.819,2,   -999.0,9,     6.79,2,    13.38,2,     0.01,2,     0.92,2, -999.000,9, -999.000,9, -999.000,9, -999.000,9
           NA,     GNS,    347,  99,-999.0,       2,  2,19970503,0000,  74.5015,   -2.1518,  3524,    251.7,  -0.6390, -999.000,9,   34.837,2,   -999.0,9,     7.08,2,    13.70,2,     0.01,2,  -999.00,9, -999.000,9, -999.000,9, -999.000,9, -999.000,9
           NA,     GNS,    347,  99,-999.0,       6,  2,19970503,0000,  74.5015,   -2.1518,  3524,    300.9,  -0.9699,   34.840,2,   34.860,2,    327.4,2,     6.73,2,    13.30,2,     0.02,2,  -999.00,9,    5.124,2,    2.463,2, 2162.200,2, 2295.000,2
           NA,     GNS,    347,  99,-999.0,       1,  2,19970503,0000,  74.5015,   -2.1518,  3524,    302.8,  -0.7240, -999.000,9,   34.835,2,   -999.0,9,     7.06,2,    13.69,2,     0.01,2,     0.95,2, -999.000,9, -999.000,9, -999.000,9, -999.000,9
           NA,     GNS,    347,  99,-999.0,       5,  2,19970503,0000,  74.5015,   -2.1518,  3524,    400.5,  -1.1400,   34.866,2,   34.852,2,    333.5,2,     6.85,2,    13.45,2,     0.01,2,     0.92,2, -999.000,9, -999.000,9, 2155.200,2, 2294.800,2
           NA,     GNS,    347,  99,-999.0,       4,  2,19970503,0000,  74.5015,   -2.1518,  3524,    499.6,  -1.0014,   34.873,2,   34.861,2,    330.0,2,     6.97,2,    13.51,2,     0.01,2,     0.92,2,    5.166,2,    2.481,2, 2153.900,2, 2296.400,2
           NA,     GNS,    347,  99,-999.0,       3,  2,19970503,0000,  74.5015,   -2.1518,  3524,    601.1,  -1.1400,   34.880,2,   34.854,2,    332.6,2,     6.85,2,    13.41,2,     0.02,2,     0.94,2,    5.377,2,    2.574,2, 2147.300,2, 2295.200,2
           NA,     GNS,    347,  99,-999.0,       2,  2,19970503,0000,  74.5015,   -2.1518,  3524,    701.3,  -1.1128,   34.881,2,   34.857,2,    331.7,2,     6.95,2,    13.45,2,     0.01,2,     0.94,2,    5.296,2,    2.533,2, 2152.600,2, 2294.700,2
           NA,     GNS,    347,  99,-999.0,       1,  2,19970503,0000,  74.5015,   -2.1518,  3524,    801.9,  -0.9100,   34.880,2,   34.874,2,    326.1,2,     7.35,2,    13.87,2,     0.01,2,  -999.00,9,    4.841,2,    2.304,2, 2154.900,2, 2297.400,2
           NA,     GNS,    347,  99,-999.0,      12,  2,19970503,0000,  74.5015,   -2.1518,  3524,   1001.4,  -0.8890,   34.880,2,   34.880,2,    323.9,2,     7.63,2,    14.00,2,     0.01,2,     0.96,2,    4.508,2,    2.136,2, 2157.300,2, 2296.900,2
           NA,     GNS,    347,  99,-999.0,      11,  2,19970503,0000,  74.5015,   -2.1518,  3524,   1201.8,  -0.8842,   34.884,2,   34.884,2,    321.7,2,     7.92,2,    14.08,2,     0.01,2,     0.99,2,    4.130,2,    1.967,2, 2155.800,2, 2297.300,2
           NA,     GNS,    347,  99,-999.0,      10,  2,19970503,0000,  74.5015,   -2.1518,  3524,   1400.6,  -0.7856,   34.900,2,   34.900,2,    302.1,2,     9.68,2,    14.82,2,     0.01,2,     1.03,2,    1.928,2,    0.871,2, 2163.200,2, 2299.400,2
           NA,     GNS,    347,  99,-999.0,       9,  2,19970503,0000,  74.5015,   -2.1518,  3524,   1602.2,  -0.8210,   34.904,2,   34.904,2,    300.3,2,    10.39,2,    15.12,2,     0.01,2,  -999.00,9,    1.293,2,    0.572,2, 2151.600,2, 2300.100,2
           NA,     GNS,    347,  99,-999.0,       8,  2,19970503,0000,  74.5015,   -2.1518,  3524,   1801.8,  -0.8793,   34.904,2,   34.904,2,    301.2,2,    10.69,2,    15.15,2,     0.02,2,  -999.00,9,    1.129,2,    0.501,2, 2154.400,2, 2298.600,2
           NA,     GNS,    347,  99,-999.0,       7,  2,19970503,0000,  74.5015,   -2.1518,  3524,   2000.8,  -0.9130,   34.904,2,   34.904,2,    303.0,2,    10.87,2,    15.16,2,     0.01,2,     1.05,2, -999.000,9, -999.000,9, 2163.200,2, 2300.100,2
           NA,     GNS,    347,  99,-999.0,       6,  2,19970503,0000,  74.5015,   -2.1518,  3524,   2248.1,  -0.9371,   34.904,2,   34.904,2,    300.3,2,    11.10,2,    15.20,2,     0.01,2,     1.05,2,    0.923,2,    0.419,2, 2161.600,2, 2299.700,2
           NA,     GNS,    347,  99,-999.0,       5,  2,19970503,0000,  74.5015,   -2.1518,  3524,   2500.6,  -0.9531,   34.904,2,   34.904,2,    303.0,2,    11.25,2,    15.22,2,     0.01,2,     1.05,2, -999.000,9, -999.000,9, 2157.800,2, 2300.200,2
           NA,     GNS,    347,  99,-999.0,       4,  2,19970503,0000,  74.5015,   -2.1518,  3524,   2750.1,  -0.9674,   34.903,2,   34.902,2,    303.8,2,    11.42,2,    15.24,2,     0.01,2,     1.03,2,    0.833,2,    0.378,2, 2157.300,2, 2298.300,2
           NA,     GNS,    347,  99,-999.0,       3,  2,19970503,0000,  74.5015,   -2.1518,  3524,   3000.7,  -0.9729,   34.901,2,   34.901,2,    303.8,2,    11.54,2,    15.26,2,     0.01,2,     1.04,2,    0.810,2,    0.369,2, 2154.000,2, 2297.200,2
           NA,     GNS,    347,  99,-999.0,       2,  2,19970503,0000,  74.5015,   -2.1518,  3524,   3248.6,  -0.9738,   34.900,2,   34.900,2,    304.3,2,    11.68,2,    15.26,2,     0.01,2,     1.04,2,    0.794,2,    0.364,2, 2161.500,2, -999.000,9
           NA,     GNS,    347,  99,-999.0,       1,  2,19970503,0000,  74.5015,   -2.1518,  3524,   3501.7,  -0.9658,   34.899,2,   34.899,2,    305.1,2,    11.93,2,    15.31,2,     0.01,2,  -999.00,9,    0.781,2,    0.362,2, 2159.000,2, -999.000,9
           NA,     GNS,    348,   1,-999.0,      12,  2,19970503,0000,  74.5692,   -0.4298,  3549,      5.4,  -1.7416,   34.807,2,   34.811,2,    350.5,2,     6.06,2,    12.39,2,     0.02,2,     0.85,2,    6.528,2,    3.161,2, -999.000,9, 2294.800,2
           NA,     GNS,    348,   1,-999.0,      11,  2,19970503,0000,  74.5692,   -0.4298,  3549,     98.4,  -1.7169,   34.808,2,   34.812,2,    349.2,2,     6.11,2,    12.52,2,     0.02,2,     0.86,2,    6.423,2,    3.111,2, 2153.900,2, 2296.800,2
           NA,     GNS,    348,   1,-999.0,      10,  2,19970503,0000,  74.5692,   -0.4298,  3549,    298.8,  -1.1280,   34.842,2,   34.855,2,    331.7,2,     6.84,2,    13.49,2,     0.01,2,     0.91,2,    5.328,2,    2.565,2, -999.000,9, 2296.300,2
           NA,     GNS,    348,   1,-999.0,       9,  2,19970503,0000,  74.5692,   -0.4298,  3549,    498.9,  -0.8285,   34.868,2,   34.877,2,   -999.0,9,     7.02,2,    13.56,2,     0.01,2,     0.92,2, -999.000,9, -999.000,9, 2151.100,2, 2296.300,2
           NA,     GNS,    348,   1,-999.0,       8,  2,19970503,0000,  74.5692,   -0.4298,  3549,    799.3,  -0.8863,   34.879,2,   34.879,2,    323.9,2,     7.49,2,    13.96,2,     0.01,2,     0.95,2, -999.000,9, -999.000,9, -999.000,9, 2295.000,2
           NA,     GNS,    348,   1,-999.0,       7,  2,19970503,0000,  74.5692,   -0.4298,  3549,    999.8,  -0.8977,   34.881,2,   34.881,2,    323.9,2,     7.64,2,    14.13,2,     0.01,2,     0.95,2,    4.419,2,    2.105,2, 2154.800,2, 2296.200,2
           NA,     GNS,    348,   1,-999.0,       6,  2,19970503,0000,  74.5692,   -0.4298,  3549,   1198.6,  -0.8756,   34.885,2,   34.886,2,    319.5,2,     8.05,2,    14.29,2,     0.01,2,     0.96,2, -999.000,9, -999.000,9, -999.000,9, 2297.300,2
           NA,     GNS,    348,   1,-999.0,       5,  2,19970503,0000,  74.5692,   -0.4298,  3549,   1500.2,  -0.8046,   34.903,2,   34.903,2,    299.9,2,    10.15,2,    15.12,2,     0.01,2,     1.03,2,    1.396,2,    0.617,2, 2158.700,2, 2299.700,2
           NA,     GNS,    348,   1,-999.0,       4,  2,19970503,0000,  74.5692,   -0.4298,  3549,   1999.0,  -0.9306,   34.904,2,   34.904,2,    301.2,2,    10.91,2,    15.32,2,     0.01,2,     1.04,2, -999.000,9, -999.000,9, -999.000,9, 2298.800,2
           NA,     GNS,    348,   1,-999.0,       3,  2,19970503,0000,  74.5692,   -0.4298,  3549,   2500.0,  -0.9703,   34.903,2,   34.903,2,    303.0,2,    11.30,2,    15.35,2,     0.01,2,     1.04,2,    0.848,2,    0.388,2, 2155.700,2, 2299.000,2
           NA,     GNS,    348,   1,-999.0,       2,  2,19970503,0000,  74.5692,   -0.4298,  3549,   2998.7,  -0.9937,   34.900,2,   34.900,2,    304.7,2,    11.68,2,    15.34,2,     0.01,2,     1.04,2, -999.000,9, -999.000,9, -999.000,9, 2298.000,2
           NA,     GNS,    348,   1,-999.0,       1,  2,19970503,0000,  74.5692,   -0.4298,  3549,   3101.4,  -0.9928,   34.900,2,   34.900,2,    307.7,2,    11.78,2,    15.34,2,     0.01,2,     1.04,2,    0.784,2,    0.367,2, 2154.200,2, 2298.100,2