BOTTLE,20224407JOAExport
EXPOCODE,SECT_ID,STNNBR,CASTNO,SAMPNO,BTLNBR,BTLNBR_FLAG_W,DATE,TIME,LATITUDE,LONGITUDE,DEPTH,CTDPRS,CTDTMP,CTDSAL,CTDSAL_FLAG_W,SALNTY,SALNTY_FLAG_W,OXYGEN,OXYGEN_FLAG_W,SILCAT,SILCAT_FLAG_W,NITRAT,NITRAT_FLAG_W,NITRIT,NITRIT_FLAG_W,PHSPHT,PHSPHT_FLAG_W,CFC-11,CFC-11_FLAG_W,CFC-12,CFC-12_FLAG_W,TCARBN,TCARBN_FLAG_W,ALKALI,ALKALI_FLAG_W
,,,,,,,,,,,,DB,ITS-90,PSS-78,,PSS-78,,UMOL/KG,,UMOL/KG,,UMOL/KG,,UMOL/KG,,UMOL/KG,,PMOL/KG,,PMOL/KG,,UMOL/KG,,UMOL/KG
           NA,     GNS,    415,  99,-999.0,      12,  2,19970517,0000,  74.5493,   -2.0399,  3524,      9.8,  -1.5153,   34.817,2,   34.821,2,    350.9,2,     6.07,2,    11.99,2,     0.03,2,     0.80,2,    6.340,2,    3.098,2, 2151.700,2, 2294.700,2
           NA,     GNS,    415,  99,-999.0,      11,  2,19970517,0000,  74.5493,   -2.0399,  3524,     30.1,  -1.4942,   34.818,2,   34.821,2,    351.8,2,     6.04,2,    11.96,2,     0.03,2,     0.81,2, -999.000,9, -999.000,9, 2153.100,2, 2293.200,2
           NA,     GNS,    415,  99,-999.0,      10,  2,19970517,0000,  74.5493,   -2.0399,  3524,     50.0,  -1.5642,   34.819,2,   34.817,2,    351.4,2,     6.04,2,    11.99,2,     0.03,2,     0.82,2,    6.411,2,    3.099,2, 2145.700,2, 2292.300,2
           NA,     GNS,    415,  99,-999.0,       8,  2,19970517,0000,  74.5493,   -2.0399,  3524,    150.2,  -1.4546,   34.826,2,   34.831,2,    349.6,2,     6.22,2,    12.23,2,     0.03,2,     0.83,2,    6.262,2,    3.039,2, 2154.000,2, 2295.400,2
           NA,     GNS,    415,  99,-999.0,       7,  2,19970517,0000,  74.5493,   -2.0399,  3524,    200.2,  -1.4126,   34.830,2,   34.835,2,    344.8,2,     6.37,2,    12.41,2,     0.03,2,     0.84,2,    6.064,2,    2.912,2, 2156.100,2, 2295.900,2
           NA,     GNS,    415,  99,-999.0,       6,  2,19970517,0000,  74.5493,   -2.0399,  3524,    299.9,  -1.0226, -999.000,9,   34.860,2,    329.6,2,     6.97,2,    13.07,2,     0.02,2,     0.90,2,    5.110,2,    2.478,2, -999.000,9, -999.000,9
           NA,     GNS,    415,  99,-999.0,       5,  2,19970517,0000,  74.5493,   -2.0399,  3524,    400.2,  -0.9895,   34.864,2,   34.864,2,    328.7,2,     7.09,2,    13.16,2,     0.01,2,     0.89,2,    5.001,2,    2.428,2, 2157.200,2, 2294.200,2
           NA,     GNS,    415,  99,-999.0,       4,  2,19970517,0000,  74.5493,   -2.0399,  3524,    500.1,  -0.9992,   34.864,2,   34.865,2,    328.7,2,     7.15,2,    13.21,2,     0.02,2,     0.90,2,    4.970,2,    2.414,2, 2152.400,2, 2295.300,2
           NA,     GNS,    415,  99,-999.0,       3,  2,19970517,0000,  74.5493,   -2.0399,  3524,    600.2,  -0.9764,   34.861,2,   34.868,2,    327.4,2,     7.24,2,    13.31,2,     0.02,2,     0.90,2,    4.890,2,    2.366,2, 2157.200,2, 2293.300,2
           NA,     GNS,    415,  99,-999.0,       2,  2,19970517,0000,  74.5493,   -2.0399,  3524,    700.0,  -0.9027,   34.875,2,   34.875,2,    325.2,2,     7.42,2,    13.44,2,     0.01,2,  -999.00,9,    4.700,2,    2.259,2, 2157.200,2, 2295.900,2
           NA,     GNS,    415,  99,-999.0,       1,  2,19970517,0000,  74.5493,   -2.0399,  3524,    800.0,  -0.8809,   34.878,2,   34.879,2,    327.4,2,     7.51,2,    13.48,2,     0.01,2,     0.91,2,    4.594,2,    2.212,2, 2152.600,2, 2293.600,2
           NA,     GNS,    415,  99,-999.0,      12,  2,19970517,0000,  74.5493,   -2.0399,  3524,    999.5,  -0.8952,   34.880,2,   34.880,2,    324.3,2,     7.69,2,    13.46,2,     0.01,2,     0.95,2,    4.369,2,    2.108,2, 2147.400,2, 2295.000,2
           NA,     GNS,    415,  99,-999.0,      11,  2,19970517,0000,  74.5493,   -2.0399,  3524,   1200.9,  -0.8763,   34.884,2,   34.885,2,    320.4,2,     8.08,2,    13.61,2,     0.01,2,  -999.00,3,    3.860,2,    1.867,2, 2156.800,2, 2293.100,2
           NA,     GNS,    415,  99,-999.0,      10,  2,19970517,0000,  74.5493,   -2.0399,  3524,   1399.9,  -0.7866,   34.899,2,   34.899,2,    304.3,2,     9.68,2,    14.23,2,     0.01,2,     0.97,2,    1.950,2,    0.881,2, 2148.000,2, 2296.800,2
           NA,     GNS,    415,  99,-999.0,       9,  2,19970517,0000,  74.5493,   -2.0399,  3524,   1600.7,  -0.8129, -999.000,9,   34.903,2,    300.8,2,    10.34,2,    14.50,2,     0.01,2,     0.98,2,    1.318,2,    0.573,2, -999.000,9, -999.000,9
           NA,     GNS,    415,  99,-999.0,       8,  2,19970517,0000,  74.5493,   -2.0399,  3524,   1800.3,  -0.8782,   34.904,2,   34.903,2,    301.2,2,    10.66,2,    14.60,2,     0.01,2,     0.99,2,    1.144,2,    0.515,2, 2152.200,2, 2298.800,2
           NA,     GNS,    415,  99,-999.0,       7,  2,19970517,0000,  74.5493,   -2.0399,  3524,   2000.2,  -0.9123,   34.904,2,   34.903,2,    302.1,2,    10.90,2,    14.67,2,     0.02,2,     0.99,2,    1.042,2,    0.469,2, -999.000,3, 2294.700,2
           NA,     GNS,    415,  99,-999.0,       5,  2,19970517,0000,  74.5493,   -2.0399,  3524,   2500.6,  -0.9557,   34.904,2,   34.903,2,    303.4,2,    11.34,2,    14.70,2,     0.02,2,     0.99,2,    0.857,2,    0.391,2, 2150.100,2, 2297.400,2
           NA,     GNS,    415,  99,-999.0,       4,  2,19970517,0000,  74.5493,   -2.0399,  3524,   2750.1,  -0.9681,   34.902,2,   34.902,2,    303.8,2,    11.48,2,    14.73,2,     0.01,2,     0.99,2,    0.828,2,    0.373,2, 2158.000,2, 2298.300,2
           NA,     GNS,    415,  99,-999.0,       3,  2,19970517,0000,  74.5493,   -2.0399,  3524,   3000.2,  -0.9746,   34.901,2,   34.901,2,    305.1,2,    11.63,2,    14.73,2,     0.01,2,     1.00,2,    0.810,2,    0.372,2, 2154.600,2, 2298.300,2
           NA,     GNS,    415,  99,-999.0,       2,  2,19970517,0000,  74.5493,   -2.0399,  3524,   3250.5,  -0.9746,   34.900,2,   34.900,2,    305.6,2,    11.79,2,    14.73,2,     0.01,2,     1.00,2,    0.791,2,    0.366,2, -999.000,3, 2296.200,2
           NA,     GNS,    415,  99,-999.0,       1,  2,19970517,0000,  74.5493,   -2.0399,  3524,   3503.7,  -0.9643,   34.899,2,   34.899,2,    306.0,2,    11.97,2,    14.75,2,     0.01,2,     0.99,2,    0.779,2,    0.361,2, 2154.900,2, 2296.000,2
           NA,     GNS,    418,  99,-999.0,      12,  2,19970518,0000,  75.0003,    3.9960,  2992,      9.5,  -1.4392,   34.578,2,   34.581,2,    367.6,2,     3.96,2,     9.29,2,     0.04,2,     0.65,2,    7.312,2,    3.605,2, 2143.800,2, 2284.300,2
           NA,     GNS,    418,  99,-999.0,      11,  2,19970518,0000,  75.0003,    3.9960,  2992,     99.4,  -0.6336,   34.729,2,   34.741,2,    341.4,2,     5.32,2,    11.35,2,     0.04,2,     0.78,2,    6.263,2,    3.121,2, 2143.200,2, 2292.600,2
           NA,     GNS,    418,  99,-999.0,      10,  2,19970518,0000,  75.0003,    3.9960,  2992,    200.6,   0.1390,   34.869,2,   34.867,2,    311.7,2,     6.63,2,    13.01,2,     0.02,2,     0.88,2,    4.222,2,    2.087,2, 2149.100,2, -999.000,3
           NA,     GNS,    418,  99,-999.0,       8,  2,19970518,0000,  75.0003,    3.9960,  2992,    401.7,  -0.2301,   34.892,2,   34.892,2,    311.7,2,     7.30,2,    13.49,2,     0.01,2,     0.92,2,    3.702,2,    1.853,2, 2158.500,2, -999.000,3
           NA,     GNS,    418,  99,-999.0,       7,  2,19970518,0000,  75.0003,    3.9960,  2992,    501.3,  -0.4000,   34.892,2,   34.892,2,    314.3,2,     7.44,2,    13.55,2,     0.01,2,     0.92,2,    3.819,2,    1.856,2, 2158.300,2, 2301.800,2
           NA,     GNS,    418,  99,-999.0,       6,  2,19970518,0000,  75.0003,    3.9960,  2992,    551.4,  -0.4749, -999.000,9,   34.891,2,    314.3,2,     7.56,2,    13.63,2,     0.02,2,     0.93,2, -999.000,9, -999.000,9, -999.000,9, -999.000,9
           NA,     GNS,    418,  99,-999.0,       5,  2,19970518,0000,  75.0003,    3.9960,  2992,    599.9,  -0.5613,   34.887,2,   34.888,2,    313.0,2,     7.61,2,    13.70,2,     0.02,2,     0.93,2,    3.871,2,    1.873,2, 2158.000,2, 2300.100,2
           NA,     GNS,    418,  99,-999.0,       4,  2,19970518,0000,  75.0003,    3.9960,  2992,    623.9,  -0.5942, -999.000,9,   34.887,2,    314.3,2,     7.67,2,    13.72,2,     0.01,2,     0.93,2, -999.000,9, -999.000,9, -999.000,9, -999.000,9
           NA,     GNS,    418,  99,-999.0,       3,  2,19970518,0000,  75.0003,    3.9960,  2992,    649.3,  -0.6210, -999.000,9,   34.887,2,    314.7,2,     7.72,2,    13.78,2,     0.01,2,     0.93,2,    3.784,2,    1.817,2, -999.000,9, -999.000,9
           NA,     GNS,    418,  99,-999.0,       2,  2,19970518,0000,  75.0003,    3.9960,  2992,    701.3,  -0.6632,   34.885,2,   34.886,2,    314.7,2,     7.81,2,    13.78,2,     0.01,2,     0.93,2, -999.000,9, -999.000,9, 2152.900,2, 2301.200,2
           NA,     GNS,    418,  99,-999.0,      12,  2,19970518,0000,  75.0003,    3.9960,  2992,    751.1,  -0.7610, -999.000,9,   34.882,2,    317.3,2,     7.79,2,    13.79,2,     0.01,2,     0.93,2, -999.000,9, -999.000,9, -999.000,9, -999.000,9
           NA,     GNS,    418,  99,-999.0,       1,  2,19970518,0000,  75.0003,    3.9960,  2992,    752.7,  -0.7184, -999.000,9,   34.885,2,    316.5,2,     7.85,2,    13.79,2,     0.01,2,     0.93,2,    3.786,2,    1.855,2, -999.000,9, -999.000,9
           NA,     GNS,    418,  99,-999.0,      11,  2,19970518,0000,  75.0003,    3.9960,  2992,    799.7,  -0.8025,   34.882,2,   34.881,2,    319.1,2,     7.65,2,    13.75,2,     0.02,2,     0.93,2,    4.286,2,    2.059,2, 2151.200,2, 2298.100,2
           NA,     GNS,    418,  99,-999.0,      10,  2,19970518,0000,  75.0003,    3.9960,  2992,    899.7,  -0.8503,   34.881,2,   34.880,2,    321.3,2,     7.63,2,    13.73,2,     0.01,2,     0.93,2,    4.370,2,    2.113,2, 2153.900,2, 2298.700,2
           NA,     GNS,    418,  99,-999.0,       9,  2,19970518,0000,  75.0003,    3.9960,  2992,    999.4,  -0.8641,   34.883,2,   34.881,2,    320.8,2,     7.77,2,    13.72,2,     0.02,2,     0.94,2,    4.176,2,    2.013,2, 2154.100,2, 2294.700,2
           NA,     GNS,    418,  99,-999.0,       8,  2,19970518,0000,  75.0003,    3.9960,  2992,   1200.1,  -0.7975,   34.894,2,   34.893,2,    309.9,2,     8.89,2,    14.11,2,     0.01,2,     0.96,2,    2.753,2,    1.294,2, 2156.900,2, 2299.100,2
           NA,     GNS,    418,  99,-999.0,       7,  2,19970518,0000,  75.0003,    3.9960,  2992,   1399.8,  -0.7777,   34.903,2,   34.903,2,    300.3,2,    10.08,2,    14.60,2,     0.01,2,     1.00,2,    1.486,2,    0.665,2, 2151.900,2, 2300.600,2
           NA,     GNS,    418,  99,-999.0,       6,  2,19970518,0000,  75.0003,    3.9960,  2992,   1600.9,  -0.8437,   34.905,2,   34.905,2,    299.5,2,    10.70,2,    14.80,2,     0.01,2,     1.01,2,    1.103,2,    0.496,2, 2157.900,2, 2304.000,2
           NA,     GNS,    418,  99,-999.0,       5,  2,19970518,0000,  75.0003,    3.9960,  2992,   1801.5,  -0.8932,   34.905,2,   34.905,2,    300.3,2,    10.92,2,    14.88,2,     0.02,2,     1.02,2,    0.992,2,    0.443,2, 2155.000,2, 2303.700,2
           NA,     GNS,    418,  99,-999.0,       4,  2,19970518,0000,  75.0003,    3.9960,  2992,   2002.5,  -0.9178,   34.905,2,   34.905,2,    300.8,2,    11.20,2,    14.92,2,     0.02,2,     1.01,2,    0.883,2,    0.393,2, 2154.500,2, 2303.000,2
           NA,     GNS,    418,  99,-999.0,       3,  2,19970518,0000,  75.0003,    3.9960,  2992,   2500.6,  -0.9722,   34.903,2,   34.903,2,    303.0,2,  -999.00,9,  -999.00,9,  -999.00,9,  -999.00,9,    0.802,2,    0.359,2, 2151.800,2, 2303.100,2
           NA,     GNS,    418,  99,-999.0,       2,  2,19970518,0000,  75.0003,    3.9960,  2992,   2700.6,  -0.9725,   34.902,2,   34.902,2,    303.4,2,    11.73,2,    14.93,2,     0.02,2,     1.03,2,    0.786,2,    0.360,2, 2152.900,2, 2302.100,2
           NA,     GNS,    418,  99,-999.0,       1,  2,19970518,0000,  75.0003,    3.9960,  2992,   2901.9,  -0.9710,   34.901,2,   34.901,2,    302.5,2,  -999.00,9,  -999.00,9,  -999.00,9,  -999.00,9,    0.787,2,    0.360,2, 2153.300,2, 2301.700,2
           NA,     GNS,    420,  99,-999.0,      12,  2,19970518,0000,  75.0013,    1.9963,  2662,     11.6,  -1.4219,   34.641,2,   34.645,2,    364.9,2,     4.11,2,     9.64,2,     0.04,2,     0.67,2, -999.000,9, -999.000,9, 2141.000,2, 2288.800,2
           NA,     GNS,    420,  99,-999.0,      11,  2,19970518,0000,  75.0013,    1.9963,  2662,    100.8,  -1.4182,   34.710,2,   34.732,2,    348.3,2,     5.32,2,    11.34,2,     0.05,2,     0.79,2, -999.000,9, -999.000,9, 2155.700,2, 2290.500,2
           NA,     GNS,    420,  99,-999.0,      10,  2,19970518,0000,  75.0013,    1.9963,  2662,    201.0,  -0.1091,   34.875,2,   34.881,2,    310.8,2,     7.09,2,    13.56,2,     0.02,2,     0.93,2, -999.000,9, -999.000,9, 2148.900,2, 2295.900,2
           NA,     GNS,    420,  99,-999.0,       9,  2,19970518,0000,  75.0013,    1.9963,  2662,    301.6,  -0.8732,   34.877,2,   34.850,2,    323.9,2,     6.63,2,    13.13,2,     0.02,2,     0.92,2, -999.000,9, -999.000,9, 2161.600,2, 2292.500,2
           NA,     GNS,    420,  99,-999.0,       8,  2,19970518,0000,  75.0013,    1.9963,  2662,    351.3,  -0.5374, -999.000,9,   34.877,2,    319.5,2,     7.16,2,    13.63,2,     0.02,2,     0.94,2, -999.000,9, -999.000,9, -999.000,9, -999.000,9
           NA,     GNS,    420,  99,-999.0,       7,  2,19970518,0000,  75.0013,    1.9963,  2662,    400.8,  -0.4729,   34.885,2,   34.887,2,    316.0,2,     7.54,2,    13.89,2,     0.02,2,     0.97,2, -999.000,9, -999.000,9, 2154.000,2, 2294.900,2
           NA,     GNS,    420,  99,-999.0,       6,  2,19970518,0000,  75.0013,    1.9963,  2662,    450.8,  -0.5425, -999.000,9,   34.887,2,    316.5,2,     7.60,2,    13.89,2,     0.01,2,     0.96,2, -999.000,9, -999.000,9, -999.000,9, -999.000,9
           NA,     GNS,    420,  99,-999.0,       5,  2,19970518,0000,  75.0013,    1.9963,  2662,    475.5,  -0.5786, -999.000,9,   34.885,2,    316.5,2,     7.57,2,    13.90,2,     0.01,2,     0.96,2, -999.000,9, -999.000,9, -999.000,9, -999.000,9
           NA,     GNS,    420,  99,-999.0,       4,  2,19970518,0000,  75.0013,    1.9963,  2662,    498.5,  -0.6157,   34.883,2,   34.884,2,    316.5,2,     7.64,2,    13.92,2,     0.01,2,     0.96,2, -999.000,9, -999.000,9, 2161.300,2, 2294.900,2
           NA,     GNS,    420,  99,-999.0,       3,  2,19970518,0000,  75.0013,    1.9963,  2662,    551.2,  -0.6756, -999.000,9,   34.884,2,    316.0,2,     7.77,2,    14.00,2,     0.02,2,     0.96,2, -999.000,9, -999.000,9, -999.000,9, -999.000,9
           NA,     GNS,    420,  99,-999.0,       2,  2,19970518,0000,  75.0013,    1.9963,  2662,    601.1,  -0.7404,   34.883,2,   34.882,2,    320.0,2,     7.60,2,    13.90,2,     0.01,2,     0.95,2, -999.000,9, -999.000,9, 2160.000,2, 2293.500,2
           NA,     GNS,    420,  99,-999.0,       1,  2,19970518,0000,  75.0013,    1.9963,  2662,    655.7,  -0.7584, -999.000,9,   34.883,2,    320.0,2,     7.86,2,    14.02,2,     0.01,2,     0.97,2, -999.000,9, -999.000,9, -999.000,9, -999.000,9
           NA,     GNS,    420,  99,-999.0,      12,  2,19970518,0000,  75.0013,    1.9963,  2662,    699.9,  -0.8019,   34.880,2,   34.882,2,    318.2,2,     7.89,2,    13.99,2,     0.01,2,     0.97,2, -999.000,9, -999.000,9, 2160.900,2, 2293.600,2
           NA,     GNS,    420,  99,-999.0,      11,  2,19970518,0000,  75.0013,    1.9963,  2662,    750.9,  -0.8179, -999.000,9,   34.882,2,    318.2,2,     7.90,2,    14.02,2,     0.02,2,     0.97,2, -999.000,9, -999.000,9, -999.000,9, -999.000,9
           NA,     GNS,    420,  99,-999.0,      10,  2,19970518,0000,  75.0013,    1.9963,  2662,    799.7,  -0.8315,   34.880,2,   34.882,2,    318.2,2,     7.93,2,    14.07,2,     0.01,2,     0.97,2, -999.000,9, -999.000,9, 2162.100,2, 2296.100,2
           NA,     GNS,    420,  99,-999.0,       9,  2,19970518,0000,  75.0013,    1.9963,  2662,    900.9,  -0.8325,   34.882,2,   34.885,2,    316.0,2,     7.88,2,    14.05,2,     0.01,2,     0.97,2,    3.799,2,    1.832,2, 2157.600,2, 2297.000,2
           NA,     GNS,    420,  99,-999.0,       8,  2,19970518,0000,  75.0013,    1.9963,  2662,    999.0,  -0.8237,   34.887,2,   34.889,2,    313.9,2,     8.50,2,    14.21,2,     0.01,2,     0.98,2, -999.000,9, -999.000,9, 2166.300,2, 2300.500,2
           NA,     GNS,    420,  99,-999.0,       7,  2,19970518,0000,  75.0013,    1.9963,  2662,   1200.3,  -0.7803,   34.901,2,   34.901,2,    302.5,2,     9.94,2,    14.79,2,     0.02,2,     1.02,2,    1.667,2,    0.752,2, 2164.700,2, 2299.700,2
           NA,     GNS,    420,  99,-999.0,       6,  2,19970518,0000,  75.0013,    1.9963,  2662,   1403.2,  -0.8255,   34.905,2,   34.905,2,    299.0,2,    10.56,2,    15.00,2,     0.02,2,     1.04,2, -999.000,9, -999.000,9, 2154.800,2, 2299.000,2
           NA,     GNS,    420,  99,-999.0,       5,  2,19970518,0000,  75.0013,    1.9963,  2662,   1599.9,  -0.8797,   34.905,2,   34.905,2,    299.5,2,    10.93,2,    15.07,2,     0.01,2,     1.04,2,    0.966,2,    0.446,2, 2155.700,2, 2298.200,2
           NA,     GNS,    420,  99,-999.0,       4,  2,19970518,0000,  75.0013,    1.9963,  2662,   1800.7,  -0.9188,   34.905,2,   34.904,2,    299.9,2,    11.05,2,    15.08,2,     0.01,2,     1.04,2, -999.000,9, -999.000,9, 2156.200,2, 2300.700,2
           NA,     GNS,    420,  99,-999.0,       3,  2,19970518,0000,  75.0013,    1.9963,  2662,   2000.3,  -0.9378,   34.905,2,   34.905,2,    300.8,2,    11.26,2,    15.10,2,     0.02,2,     1.04,2,    0.835,2,    0.381,2, 2154.400,2, 2298.700,2
           NA,     GNS,    420,  99,-999.0,       2,  2,19970518,0000,  75.0013,    1.9963,  2662,   2401.0,  -0.9632,   34.904,2,   34.904,2,    301.6,2,    11.63,2,    15.15,2,     0.01,2,     1.04,2, -999.000,9, -999.000,9, 2155.600,2, 2295.700,2
           NA,     GNS,    420,  99,-999.0,       1,  2,19970518,0000,  75.0013,    1.9963,  2662,   2651.9,  -0.9772,   34.902,2,   34.902,2,    303.0,2,    11.65,2,    15.12,2,     0.01,2,     1.03,2,    0.771,2,    0.365,2, 2150.400,2, 2298.000,2