BOTTLE,20224407JOAExport
EXPOCODE,SECT_ID,STNNBR,CASTNO,SAMPNO,BTLNBR,BTLNBR_FLAG_W,DATE,TIME,LATITUDE,LONGITUDE,DEPTH,CTDPRS,CTDTMP,CTDSAL,CTDSAL_FLAG_W,SALNTY,SALNTY_FLAG_W,OXYGEN,OXYGEN_FLAG_W,SILCAT,SILCAT_FLAG_W,NITRAT,NITRAT_FLAG_W,NITRIT,NITRIT_FLAG_W,PHSPHT,PHSPHT_FLAG_W,CFC-11,CFC-11_FLAG_W,CFC-12,CFC-12_FLAG_W,TCARBN,TCARBN_FLAG_W,ALKALI,ALKALI_FLAG_W
,,,,,,,,,,,,DB,ITS-90,PSS-78,,PSS-78,,UMOL/KG,,UMOL/KG,,UMOL/KG,,UMOL/KG,,UMOL/KG,,PMOL/KG,,PMOL/KG,,UMOL/KG,,UMOL/KG
           NA,     GNS,    317,  99,-999.0,      23,  2,19970426,0000,  63.2673,    2.7475,  1491,      4.6,   6.6760, -999.000,9,   35.130,2,   -999.0,9,     5.45,2,    11.52,2,     0.14,2,     0.75,2, -999.000,9, -999.000,9, -999.000,9, -999.000,9
           NA,     GNS,    317,  99,-999.0,      22,  2,19970426,0000,  63.2673,    2.7475,  1491,     10.3,   6.6570, -999.000,9,   35.127,2,   -999.0,9,     5.48,2,    11.55,2,     0.15,2,     0.76,2, -999.000,9, -999.000,9, -999.000,9, -999.000,9
           NA,     GNS,    317,  99,-999.0,      12,  2,19970426,0000,  63.2673,    2.7475,  1491,     11.0,   6.7975, -999.000,9,   35.171,2,    291.1,2,     5.40,2,    11.51,2,     0.14,2,     0.77,2,    4.352,2,    2.292,2, -999.000,9, -999.000,9
           NA,     GNS,    317,  99,-999.0,      21,  2,19970426,0000,  63.2673,    2.7475,  1491,     14.6,   6.7160, -999.000,9,   35.126,2,   -999.0,9,     5.47,2,    11.59,2,     0.14,2,     0.76,2, -999.000,9, -999.000,9, -999.000,9, -999.000,9
           NA,     GNS,    317,  99,-999.0,      20,  2,19970426,0000,  63.2673,    2.7475,  1491,     20.1,   6.6890, -999.000,9,   35.148,2,   -999.0,9,     5.50,2,    11.59,2,     0.17,2,     0.77,2, -999.000,9, -999.000,9, -999.000,9, -999.000,9
           NA,     GNS,    317,  99,-999.0,      19,  2,19970426,0000,  63.2673,    2.7475,  1491,     25.9,   6.7080, -999.000,9,   35.119,2,   -999.0,9,     5.48,2,    11.58,2,     0.16,2,     0.76,2, -999.000,9, -999.000,9, -999.000,9, -999.000,9
           NA,     GNS,    317,  99,-999.0,      18,  2,19970426,0000,  63.2673,    2.7475,  1491,     29.8,   6.6080, -999.000,9,   35.117,2,   -999.0,9,     5.51,2,    11.54,2,     0.15,2,     0.76,2, -999.000,9, -999.000,9, -999.000,9, -999.000,9
           NA,     GNS,    317,  99,-999.0,      11,  2,19970426,0000,  63.2673,    2.7475,  1491,     30.1,   6.7704, -999.000,9,   35.168,2,    290.7,2,     5.40,2,    11.53,2,     0.13,2,     0.76,2, -999.000,9, -999.000,9, -999.000,9, -999.000,9
           NA,     GNS,    317,  99,-999.0,      17,  2,19970426,0000,  63.2673,    2.7475,  1491,     33.9,   6.6250, -999.000,9,   35.122,2,   -999.0,9,     5.52,2,    11.53,2,     0.16,2,     0.76,2, -999.000,9, -999.000,9, -999.000,9, -999.000,9
           NA,     GNS,    317,  99,-999.0,      16,  2,19970426,0000,  63.2673,    2.7475,  1491,     40.6,   6.5590, -999.000,9,   35.113,2,   -999.0,9,     5.54,2,    11.55,2,     0.16,2,     0.76,2, -999.000,9, -999.000,9, -999.000,9, -999.000,9
           NA,     GNS,    317,  99,-999.0,      15,  2,19970426,0000,  63.2673,    2.7475,  1491,     45.4,   6.5500, -999.000,9,   35.118,2,   -999.0,9,     5.55,2,    11.53,2,     0.16,2,     0.76,2, -999.000,9, -999.000,9, -999.000,9, -999.000,9
           NA,     GNS,    317,  99,-999.0,      10,  2,19970426,0000,  63.2673,    2.7475,  1491,     49.0,   6.7671, -999.000,9,   35.166,2,    291.1,2,     5.49,2,    11.59,2,     0.14,2,     0.77,2,    4.390,2,    2.294,2, -999.000,9, -999.000,9
           NA,     GNS,    317,  99,-999.0,      14,  2,19970426,0000,  63.2673,    2.7475,  1491,     50.8,   6.5210, -999.000,9,   35.113,2,   -999.0,9,     5.55,2,    11.50,2,     0.16,2,     0.76,2, -999.000,9, -999.000,9, -999.000,9, -999.000,9
           NA,     GNS,    317,  99,-999.0,      13,  2,19970426,0000,  63.2673,    2.7475,  1491,     55.0,   6.5120, -999.000,9,   35.113,2,   -999.0,9,     5.55,2,    11.49,2,     0.16,2,     0.76,2, -999.000,9, -999.000,9, -999.000,9, -999.000,9
           NA,     GNS,    317,  99,-999.0,      12,  2,19970426,0000,  63.2673,    2.7475,  1491,     59.2,   6.5070, -999.000,9,   35.113,2,   -999.0,9,     5.60,2,    11.62,2,     0.17,2,  -999.00,9, -999.000,9, -999.000,9, -999.000,9, -999.000,9
           NA,     GNS,    317,  99,-999.0,      11,  2,19970426,0000,  63.2673,    2.7475,  1491,     69.9,   6.5190, -999.000,9,   35.115,2,   -999.0,9,     5.57,2,    11.53,2,     0.16,2,     0.77,2, -999.000,9, -999.000,9, -999.000,9, -999.000,9
           NA,     GNS,    317,  99,-999.0,      10,  2,19970426,0000,  63.2673,    2.7475,  1491,     78.6,   6.4970, -999.000,9,   35.111,2,   -999.0,9,     5.56,2,    11.56,2,     0.16,2,     0.77,2, -999.000,9, -999.000,9, -999.000,9, -999.000,9
           NA,     GNS,    317,  99,-999.0,       9,  2,19970426,0000,  63.2673,    2.7475,  1491,     90.5,   6.4870, -999.000,9,   35.109,2,   -999.0,9,     5.58,2,    11.55,2,     0.17,2,     0.77,2, -999.000,9, -999.000,9, -999.000,9, -999.000,9
           NA,     GNS,    317,  99,-999.0,       9,  2,19970426,0000,  63.2673,    2.7475,  1491,     98.6,   6.5196, -999.000,9,   35.145,2,    294.2,2,     5.56,2,    11.54,2,     0.16,2,     0.77,2,    4.428,2,    2.318,2, -999.000,9, -999.000,9
           NA,     GNS,    317,  99,-999.0,       8,  2,19970426,0000,  63.2673,    2.7475,  1491,     99.7,   6.4600, -999.000,9,   35.108,2,   -999.0,9,     5.58,2,    11.53,2,     0.17,2,     0.77,2, -999.000,9, -999.000,9, -999.000,9, -999.000,9
           NA,     GNS,    317,  99,-999.0,       7,  2,19970426,0000,  63.2673,    2.7475,  1491,    120.1,   6.3520, -999.000,9,   35.093,2,   -999.0,9,     5.57,2,    11.53,2,     0.17,2,     0.77,2, -999.000,9, -999.000,9, -999.000,9, -999.000,9
           NA,     GNS,    317,  99,-999.0,       6,  2,19970426,0000,  63.2673,    2.7475,  1491,    137.8,   6.2020, -999.000,9,   35.080,2,   -999.0,9,     5.71,2,    11.78,2,     0.21,2,     0.79,2, -999.000,9, -999.000,9, -999.000,9, -999.000,9
           NA,     GNS,    317,  99,-999.0,       8,  2,19970426,0000,  63.2673,    2.7475,  1491,    148.4,   6.2064, -999.000,9,   35.104,2,    293.8,2,     5.76,2,    11.87,2,     0.16,2,     0.79,2,    4.498,2,    2.365,2, -999.000,9, -999.000,9
           NA,     GNS,    317,  99,-999.0,       5,  2,19970426,0000,  63.2673,    2.7475,  1491,    160.1,   6.0880, -999.000,9,   35.065,2,   -999.0,9,     5.79,2,    11.84,2,     0.20,2,     0.79,2, -999.000,9, -999.000,9, -999.000,9, -999.000,9
           NA,     GNS,    317,  99,-999.0,       4,  2,19970426,0000,  63.2673,    2.7475,  1491,    181.0,   5.4190, -999.000,9,   34.978,2,   -999.0,9,     6.23,2,    12.83,2,     0.04,2,     0.86,2, -999.000,9, -999.000,9, -999.000,9, -999.000,9
           NA,     GNS,    317,  99,-999.0,       7,  2,19970426,0000,  63.2673,    2.7475,  1491,    199.9,   5.1498, -999.000,9,   34.982,2,    290.7,2,     6.29,2,    12.77,2,     0.03,2,     0.86,2, -999.000,9, -999.000,9, -999.000,9, -999.000,9
           NA,     GNS,    317,  99,-999.0,       3,  2,19970426,0000,  63.2673,    2.7475,  1491,    202.6,   4.9350, -999.000,9,   34.932,2,   -999.0,9,     6.32,2,    12.85,2,     0.03,2,     0.86,2, -999.000,9, -999.000,9, -999.000,9, -999.000,9
           NA,     GNS,    317,  99,-999.0,       2,  2,19970426,0000,  63.2673,    2.7475,  1491,    249.7,   3.8290, -999.000,9,   34.845,2,   -999.0,9,     6.47,2,    12.87,2,     0.02,2,     0.87,2, -999.000,9, -999.000,9, -999.000,9, -999.000,9
           NA,     GNS,    317,  99,-999.0,       6,  2,19970426,0000,  63.2673,    2.7475,  1491,    297.9,   3.2945, -999.000,9,   34.894,2,    292.1,2,     6.95,2,    13.40,2,     0.02,2,     0.91,2,    4.565,2,    2.320,2, -999.000,9, -999.000,9
           NA,     GNS,    317,  99,-999.0,       1,  2,19970426,0000,  63.2673,    2.7475,  1491,    300.4,   3.2220, -999.000,9,   34.869,2,   -999.0,9,     7.04,2,    13.48,2,     0.03,2,     0.91,2, -999.000,9, -999.000,9, -999.000,9, -999.000,9
           NA,     GNS,    317,  99,-999.0,       5,  2,19970426,0000,  63.2673,    2.7475,  1491,    379.1,   1.7593, -999.000,9,   34.904,2,    295.5,2,     7.41,2,    13.85,2,     0.02,2,     0.94,2,    4.351,2,    2.155,2, -999.000,9, -999.000,9
           NA,     GNS,    317,  99,-999.0,       4,  2,19970426,0000,  63.2673,    2.7475,  1491,    499.7,  -0.0590, -999.000,9,   34.890,2,    297.3,2,     8.30,2,    14.18,2,     0.01,2,     0.96,2,    3.132,2,    1.514,2, -999.000,9, -999.000,9
           NA,     GNS,    317,  99,-999.0,       3,  2,19970426,0000,  63.2673,    2.7475,  1491,    798.5,  -0.6973, -999.000,9,   34.903,2,    295.1,2,    10.62,2,    14.44,2,     0.01,2,     0.99,2,    1.312,2,    0.616,2, -999.000,9, -999.000,9
           NA,     GNS,    317,  99,-999.0,       2,  2,19970426,0000,  63.2673,    2.7475,  1491,    999.2,  -0.8747, -999.000,9,   34.905,2,    294.2,2,    12.39,2,    14.79,2,     0.02,2,     1.01,2,    0.764,2,    0.367,2, -999.000,9, -999.000,9
           NA,     GNS,    317,  99,-999.0,       1,  2,19970426,0000,  63.2673,    2.7475,  1491,   1076.8,  -0.8871, -999.000,9,   34.905,2,    294.7,2,    12.62,2,    14.89,2,     0.03,2,     1.02,2,    0.722,2,    0.343,2, -999.000,9, -999.000,9
           NA,     GNS,    318,   1,-999.0,      12,  2,19970426,0000,  63.5320,    2.0398,  2112,     28.8,   7.2986,   35.216,2,   35.218,2,    288.9,2,     4.79,2,    10.96,2,     0.13,2,     0.71,2,    4.224,2,    2.240,2, 2135.200,2, 2317.700,2
           NA,     GNS,    318,   1,-999.0,      11,  2,19970426,0000,  63.5320,    2.0398,  2112,     50.4,   7.2891,   35.209,2,   35.216,2,    288.5,2,     4.85,2,    11.01,2,     0.13,2,     0.74,2,    4.203,2,    2.254,2, 2133.100,2, 2314.000,2
           NA,     GNS,    318,   1,-999.0,      10,  2,19970426,0000,  63.5320,    2.0398,  2112,     99.6,   6.8594,   35.166,2,   35.168,2,    288.5,2,     5.16,2,    11.51,2,     0.13,2,     0.78,2,    4.276,2,    2.276,2, 2136.300,2, 2315.200,2
           NA,     GNS,    318,   1,-999.0,       9,  2,19970426,0000,  63.5320,    2.0398,  2112,    149.9,   6.6764,   35.139,2,   35.145,2,    288.5,2,     5.35,2,    11.72,2,     0.11,2,     0.79,2, -999.000,9, -999.000,9, 2136.400,2, 2312.400,2
           NA,     GNS,    318,   1,-999.0,       8,  2,19970426,0000,  63.5320,    2.0398,  2112,    200.1,   6.5847,   35.145,2,   35.142,2,    290.7,2,     5.37,2,    11.72,2,     0.15,2,     0.79,2,    4.404,2,    2.323,2, 2136.700,2, 2313.500,2
           NA,     GNS,    318,   1,-999.0,       7,  2,19970426,0000,  63.5320,    2.0398,  2112,    298.6,   6.5017,   35.134,2,   35.131,2,    290.7,2,     5.48,2,    11.85,2,     0.15,2,     0.80,2,    4.421,2,    2.338,2, 2130.900,2, 2313.400,2
           NA,     GNS,    318,   1,-999.0,       6,  2,19970426,0000,  63.5320,    2.0398,  2112,    400.3,   3.6746,   34.933,2,   34.881,2,    296.4,2,     6.52,2,    12.97,2,     0.03,2,     0.89,2,    4.824,2,    2.411,2, 2142.400,2, 2297.700,2
           NA,     GNS,    318,   1,-999.0,       4,  2,19970426,0000,  63.5320,    2.0398,  2112,    801.0,  -0.4970,   34.894,2,   34.896,2,    298.2,2,     9.26,2,    14.25,2,     0.01,2,     0.96,2,    2.258,2,    1.046,2, 2159.300,2, 2296.700,2
           NA,     GNS,    318,   1,-999.0,       3,  2,19970426,0000,  63.5320,    2.0398,  2112,    998.7,  -0.6837,   34.902,2,   34.903,2,    296.4,2,    10.56,2,    14.48,2,     0.01,2,     0.98,2,    1.369,2,    0.631,2, 2162.300,2, 2297.900,2
           NA,     GNS,    318,   1,-999.0,       2,  2,19970426,0000,  63.5320,    2.0398,  2112,   1199.2,  -0.7855,   34.905,2,   34.905,2,    296.4,2,    11.39,2,    14.61,2,     0.01,2,     0.98,2,    1.032,2,    0.480,2, 2159.500,2, 2300.800,2
           NA,     GNS,    318,   1,-999.0,       1,  2,19970426,0000,  63.5320,    2.0398,  2112,   1351.4,  -0.8622,   34.906,2,   34.906,2,    296.4,2,    12.20,2,    14.76,2,     0.02,2,     1.00,2,    0.782,2,    0.360,2, 2154.800,2, 2305.700,2
           NA,     GNS,    319,   1,-999.0,      12,  2,19970426,0000,  63.7975,    1.2625,  2383,     10.7,   4.9267, -999.000,9,   34.975,2,    309.9,2,     5.61,2,    11.19,2,     0.12,2,     0.75,2, -999.000,9, -999.000,9, -999.000,9, -999.000,9
           NA,     GNS,    319,   1,-999.0,      11,  2,19970426,0000,  63.7975,    1.2625,  2383,     48.5,   3.5222, -999.000,9,   34.833,2,    317.8,2,     5.25,2,    10.96,2,     0.13,2,     0.74,2, -999.000,9, -999.000,9, -999.000,9, -999.000,9
           NA,     GNS,    319,   1,-999.0,      10,  2,19970426,0000,  63.7975,    1.2625,  2383,     99.1,   3.3790, -999.000,9,   34.820,2,    317.4,2,     5.41,2,    11.12,2,     0.14,2,     0.76,2, -999.000,9, -999.000,9, -999.000,9, -999.000,9
           NA,     GNS,    319,   1,-999.0,       9,  2,19970426,0000,  63.7975,    1.2625,  2383,    150.0,   2.9373, -999.000,9,   34.798,2,    312.1,2,     5.81,2,    11.82,2,     0.11,2,     0.80,2, -999.000,9, -999.000,9, -999.000,9, -999.000,9
           NA,     GNS,    319,   1,-999.0,       8,  2,19970426,0000,  63.7975,    1.2625,  2383,    298.6,   0.9644, -999.000,9,   34.872,2,    304.3,2,     6.87,2,    13.66,2,     0.02,2,     0.92,2, -999.000,9, -999.000,9, -999.000,9, -999.000,9
           NA,     GNS,    319,   1,-999.0,       7,  2,19970426,0000,  63.7975,    1.2625,  2383,    498.2,  -0.2346, -999.000,9,   34.881,2,    306.4,2,     7.55,2,    13.72,2,     0.01,2,     0.92,2, -999.000,9, -999.000,9, -999.000,9, -999.000,9
           NA,     GNS,    319,   1,-999.0,       6,  2,19970426,0000,  63.7975,    1.2625,  2383,    798.8,  -0.5434, -999.000,9,   34.895,2,    299.9,2,     9.07,2,    14.06,2,     0.01,2,     0.96,2, -999.000,9, -999.000,9, -999.000,9, -999.000,9
           NA,     GNS,    319,   1,-999.0,       4,  2,19970426,0000,  63.7975,    1.2625,  2383,   1199.3,  -0.7124, -999.000,9,   34.903,2,    296.4,2,    10.54,2,    14.33,2,     0.01,2,     0.97,2, -999.000,9, -999.000,9, -999.000,9, -999.000,9
           NA,     GNS,    319,   1,-999.0,       3,  2,19970426,0000,  63.7975,    1.2625,  2383,   1499.2,  -0.7949, -999.000,9,   34.906,2,    296.4,2,    11.17,2,    14.48,2,     0.01,2,     0.98,2, -999.000,9, -999.000,9, -999.000,9, -999.000,9
           NA,     GNS,    319,   1,-999.0,       2,  2,19970426,0000,  63.7975,    1.2625,  2383,   1799.0,  -0.8491, -999.000,9,   34.907,2,    296.8,2,    11.73,2,    14.65,2,     0.01,2,     0.99,2, -999.000,9, -999.000,9, -999.000,9, -999.000,9
           NA,     GNS,    319,   1,-999.0,       1,  2,19970426,0000,  63.7975,    1.2625,  2383,   2001.3,  -0.8675, -999.000,9,   34.907,2,    297.7,2,    11.99,2,    14.67,2,     0.01,2,     1.00,2, -999.000,9, -999.000,9, -999.000,9, -999.000,9
           NA,     GNS,    320,   1,-999.0,      12,  2,19970426,0000,  64.0492,    0.5307,  2778,      9.6,   4.9341,   34.992,2,   34.995,2,    314.7,2,     5.67,2,    11.34,2,     0.14,2,     0.76,2, -999.000,9, -999.000,9, 2133.600,2, 2306.500,2
           NA,     GNS,    320,   1,-999.0,      11,  2,19970426,0000,  64.0492,    0.5307,  2778,     48.7,   4.7592,   34.979,2,   34.980,2,    306.9,2,     5.71,2,    11.47,2,     0.15,2,     0.76,2,    5.055,2,    2.560,2, 2131.200,2, 2306.100,2
           NA,     GNS,    320,   1,-999.0,      10,  2,19970426,0000,  64.0492,    0.5307,  2778,     99.2,   4.5723,   34.961,2,   34.956,2,    305.6,2,     5.79,2,    11.72,2,     0.15,2,     0.79,2,    5.007,2,    2.598,2, 2135.300,2, 2304.900,2
           NA,     GNS,    320,   1,-999.0,       9,  2,19970426,0000,  64.0492,    0.5307,  2778,    197.3,   2.6239,   34.855,2,   34.857,2,    297.3,2,  -999.00,3,    13.44,2,     0.02,2,     0.90,2,    4.906,2,    2.467,2, 2156.700,2, 2299.000,2
           NA,     GNS,    320,   1,-999.0,       8,  2,19970426,0000,  64.0492,    0.5307,  2778,    298.3,   0.9423,   34.885,2,   34.883,2,    299.5,2,     6.50,2,    13.57,2,     0.02,2,     0.91,2, -999.000,9, -999.000,9, 2157.900,2, 2294.000,2
           NA,     GNS,    320,   1,-999.0,       7,  2,19970426,0000,  64.0492,    0.5307,  2778,    488.2,  -0.1023,   34.875,2,   34.881,2,    305.6,2,     7.39,2,    13.81,2,     0.01,2,     0.93,2,    4.013,2,    1.970,2, 2165.600,2, 2299.100,2
           NA,     GNS,    320,   1,-999.0,       6,  2,19970426,0000,  64.0492,    0.5307,  2778,    799.4,  -0.5080,   34.893,2,   34.894,2,    301.2,2,     8.58,2,    13.99,2,     0.01,2,     0.94,2,    2.592,2,    1.247,2, 2159.600,2, 2299.000,2
           NA,     GNS,    320,   1,-999.0,       5,  2,19970426,0000,  64.0492,    0.5307,  2778,    999.9,  -0.6601,   34.900,2,   34.900,2,    298.6,2,     9.58,2,    14.18,2,     0.01,2,     0.96,2,    1.816,2,    0.850,2, 2157.200,2, 2297.600,2
           NA,     GNS,    320,   1,-999.0,       4,  2,19970426,0000,  64.0492,    0.5307,  2778,   1198.8,  -0.7410,   34.904,2,   34.904,2,    297.3,2,    10.43,2,    14.40,2,     0.01,2,     0.97,2,    1.231,2,    0.576,2, 2156.500,2, 2299.300,2
           NA,     GNS,    320,   1,-999.0,       3,  2,19970426,0000,  64.0492,    0.5307,  2778,   1499.6,  -0.8042,   34.906,2,   34.906,2,    296.4,2,    11.36,2,    14.51,2,     0.01,2,     0.98,2,    0.936,2,    0.445,2, 2158.500,2, 2298.800,2
           NA,     GNS,    320,   1,-999.0,       2,  2,19970426,0000,  64.0492,    0.5307,  2778,   1986.0,  -0.8566,   34.907,2,   34.907,2,    297.3,2,    11.81,2,    14.63,2,     0.01,2,     0.99,2,    0.706,2,    0.339,2, 2162.700,2, 2299.900,2
           NA,     GNS,    320,   1,-999.0,       1,  2,19970426,0000,  64.0492,    0.5307,  2778,   2349.7,  -0.8739,   34.907,2,   34.907,2,    297.7,2,    12.28,2,    14.77,2,     0.01,2,     0.99,2,    0.573,2,    0.281,2, 2158.900,2, 2305.100,2