BOTTLE,20224407JOAExport
EXPOCODE,SECT_ID,STNNBR,CASTNO,SAMPNO,BTLNBR,BTLNBR_FLAG_W,DATE,TIME,LATITUDE,LONGITUDE,DEPTH,CTDPRS,CTDTMP,CTDSAL,CTDSAL_FLAG_W,SALNTY,SALNTY_FLAG_W,OXYGEN,OXYGEN_FLAG_W,SILCAT,SILCAT_FLAG_W,NITRAT,NITRAT_FLAG_W,NITRIT,NITRIT_FLAG_W,PHSPHT,PHSPHT_FLAG_W,CFC-11,CFC-11_FLAG_W,CFC-12,CFC-12_FLAG_W,TCARBN,TCARBN_FLAG_W,ALKALI,ALKALI_FLAG_W
,,,,,,,,,,,,DB,ITS-90,PSS-78,,PSS-78,,UMOL/KG,,UMOL/KG,,UMOL/KG,,UMOL/KG,,UMOL/KG,,PMOL/KG,,PMOL/KG,,UMOL/KG,,UMOL/KG
           NA,     GNS,    440,  99,-999.0,      20,  2,19970521,0000,  76.0007,   -2.0029,  3663,      4.1,  -1.5710, -999.000,9,   34.742,2,   -999.0,9,     4.98,2,    10.58,2,     0.04,2,     0.74,2, -999.000,9, -999.000,9, -999.000,9, -999.000,9
           NA,     GNS,    440,  99,-999.0,      12,  2,19970521,0000,  76.0007,   -2.0029,  3663,      8.4,  -1.5825,   34.766,2,   34.777,2,    364.0,2,     4.97,2,    10.57,2,     0.04,2,     0.74,2,    6.983,2,    3.379,2, 2146.400,2, -999.000,3
           NA,     GNS,    440,  99,-999.0,      19,  2,19970521,0000,  76.0007,   -2.0029,  3663,     10.3,  -1.5630, -999.000,9,   34.739,2,   -999.0,9,     5.01,2,    10.57,2,     0.04,2,     0.74,2, -999.000,9, -999.000,9, -999.000,9, -999.000,9
           NA,     GNS,    440,  99,-999.0,      18,  2,19970521,0000,  76.0007,   -2.0029,  3663,     10.4,  -1.5620, -999.000,9,   34.739,2,   -999.0,9,     4.98,2,    10.56,2,     0.04,2,     0.74,2, -999.000,9, -999.000,9, -999.000,9, -999.000,9
           NA,     GNS,    440,  99,-999.0,      17,  2,19970521,0000,  76.0007,   -2.0029,  3663,     15.2,  -1.5960, -999.000,9,   34.740,2,   -999.0,9,     4.98,2,    10.59,2,     0.04,2,     0.74,2, -999.000,9, -999.000,9, -999.000,9, -999.000,9
           NA,     GNS,    440,  99,-999.0,      16,  2,19970521,0000,  76.0007,   -2.0029,  3663,     20.0,  -1.5920, -999.000,9,   34.740,2,   -999.0,9,     4.99,2,    10.58,2,     0.04,2,     0.74,2, -999.000,9, -999.000,9, -999.000,9, -999.000,9
           NA,     GNS,    440,  99,-999.0,      15,  2,19970521,0000,  76.0007,   -2.0029,  3663,     25.1,  -1.6120, -999.000,9,   34.741,2,   -999.0,9,     4.99,2,    10.60,2,     0.04,2,     0.73,2, -999.000,9, -999.000,9, -999.000,9, -999.000,9
           NA,     GNS,    440,  99,-999.0,      14,  2,19970521,0000,  76.0007,   -2.0029,  3663,     30.0,  -1.6080, -999.000,9,   34.743,2,   -999.0,9,     4.98,2,    10.60,2,     0.04,2,     0.75,2, -999.000,9, -999.000,9, -999.000,9, -999.000,9
           NA,     GNS,    440,  99,-999.0,      13,  2,19970521,0000,  76.0007,   -2.0029,  3663,     35.1,  -1.6040, -999.000,9,   34.745,2,   -999.0,9,     4.94,2,    10.59,2,     0.04,2,     0.73,2, -999.000,9, -999.000,9, -999.000,9, -999.000,9
           NA,     GNS,    440,  99,-999.0,      12,  2,19970521,0000,  76.0007,   -2.0029,  3663,     40.3,  -1.6400, -999.000,9,   34.743,2,   -999.0,9,     5.01,2,    10.61,2,     0.04,2,     0.73,2, -999.000,9, -999.000,9, -999.000,9, -999.000,9
           NA,     GNS,    440,  99,-999.0,      11,  2,19970521,0000,  76.0007,   -2.0029,  3663,     44.8,  -1.6520, -999.000,9,   34.744,2,   -999.0,9,     5.01,2,    10.64,2,     0.04,2,     0.74,2, -999.000,9, -999.000,9, -999.000,9, -999.000,9
           NA,     GNS,    440,  99,-999.0,      10,  2,19970521,0000,  76.0007,   -2.0029,  3663,     50.0,  -1.6660, -999.000,9,   34.746,2,   -999.0,9,     4.95,2,    10.60,2,     0.04,2,     0.73,2, -999.000,9, -999.000,9, -999.000,9, -999.000,9
           NA,     GNS,    440,  99,-999.0,       9,  2,19970521,0000,  76.0007,   -2.0029,  3663,     50.1,  -1.6610, -999.000,9,   34.743,2,   -999.0,9,     4.96,2,    10.61,2,     0.04,2,     0.73,2, -999.000,9, -999.000,9, -999.000,9, -999.000,9
           NA,     GNS,    440,  99,-999.0,       8,  2,19970521,0000,  76.0007,   -2.0029,  3663,     60.1,  -1.6560, -999.000,9,   34.746,2,   -999.0,9,     4.91,2,    10.61,2,     0.04,2,     0.73,2, -999.000,9, -999.000,9, -999.000,9, -999.000,9
           NA,     GNS,    440,  99,-999.0,       7,  2,19970521,0000,  76.0007,   -2.0029,  3663,     69.9,  -1.6570, -999.000,9,   34.748,2,   -999.0,9,     4.84,2,    10.61,2,     0.04,2,     0.72,2, -999.000,9, -999.000,9, -999.000,9, -999.000,9
           NA,     GNS,    440,  99,-999.0,       6,  2,19970521,0000,  76.0007,   -2.0029,  3663,     80.1,  -1.6890, -999.000,9,   34.749,2,   -999.0,9,     5.26,2,    11.25,2,     0.04,2,     0.78,2, -999.000,9, -999.000,9, -999.000,9, -999.000,9
           NA,     GNS,    440,  99,-999.0,       5,  2,19970521,0000,  76.0007,   -2.0029,  3663,     90.2,  -1.7360, -999.000,9,   34.756,2,   -999.0,9,     5.65,2,    11.59,2,     0.04,2,     0.80,2, -999.000,9, -999.000,9, -999.000,9, -999.000,9
           NA,     GNS,    440,  99,-999.0,       4,  2,19970521,0000,  76.0007,   -2.0029,  3663,     99.9,  -1.7050, -999.000,9,   34.759,2,   -999.0,9,     5.62,2,    11.58,2,     0.04,2,     0.81,2, -999.000,9, -999.000,9, -999.000,9, -999.000,9
           NA,     GNS,    440,  99,-999.0,      11,  2,19970521,0000,  76.0007,   -2.0029,  3663,    100.6,  -1.6916,   34.786,2,   34.797,2,    352.7,2,     5.73,2,    11.67,2,     0.04,2,     0.81,2,    6.462,2,    3.143,2, 2155.500,2, 2288.800,2
           NA,     GNS,    440,  99,-999.0,       3,  2,19970521,0000,  76.0007,   -2.0029,  3663,    150.8,  -1.1650, -999.000,9,   34.803,2,   -999.0,9,     6.44,2,    12.50,2,     0.04,2,     0.86,2, -999.000,9, -999.000,9, -999.000,9, -999.000,9
           NA,     GNS,    440,  99,-999.0,      10,  2,19970521,0000,  76.0007,   -2.0029,  3663,    200.3,  -1.2208,   34.836,2,   34.837,2,    334.4,2,     6.48,2,    12.53,2,     0.03,2,     0.87,2,    5.475,2,    2.676,2, 2160.800,2, 2294.300,2
           NA,     GNS,    440,  99,-999.0,       2,  2,19970521,0000,  76.0007,   -2.0029,  3663,    201.2,  -1.1280, -999.000,9,   34.808,2,   -999.0,9,     6.61,2,    12.66,2,     0.03,2,     0.87,2, -999.000,9, -999.000,9, -999.000,9, -999.000,9
           NA,     GNS,    440,  99,-999.0,       9,  2,19970521,0000,  76.0007,   -2.0029,  3663,    300.6,  -0.9627,   34.858,2,   34.859,2,    327.8,2,     6.88,2,    12.96,2,     0.02,2,     0.90,2,    5.001,2,    2.447,2, 2155.300,2, 2295.800,2
           NA,     GNS,    440,  99,-999.0,       1,  2,19970521,0000,  76.0007,   -2.0029,  3663,    301.4,  -0.9600, -999.000,9,   34.827,2,   -999.0,9,     6.85,2,    13.35,2,     0.06,2,     0.87,2, -999.000,9, -999.000,9, -999.000,9, -999.000,9
           NA,     GNS,    440,  99,-999.0,       8,  2,19970521,0000,  76.0007,   -2.0029,  3663,    400.9,  -0.9089,   34.856,2,   34.865,2,    325.6,2,     7.07,2,    13.13,2,     0.01,2,     0.91,2,    4.833,2,    2.369,2, 2165.500,2, 2295.800,2
           NA,     GNS,    440,  99,-999.0,       7,  2,19970521,0000,  76.0007,   -2.0029,  3663,    500.0,  -0.8827,   34.870,2,   34.870,0,    324.3,2,     7.21,2,    13.24,2,     0.01,2,     0.91,2,    4.716,2,    2.306,2, 2160.300,2, 2294.500,2
           NA,     GNS,    440,  99,-999.0,       6,  2,19970521,0000,  76.0007,   -2.0029,  3663,    550.6,  -0.7937, -999.000,9,   34.878,2,    322.6,2,     7.38,2,    13.38,2,     0.01,2,     0.93,2, -999.000,9, -999.000,9, -999.000,9, -999.000,9
           NA,     GNS,    440,  99,-999.0,       5,  2,19970521,0000,  76.0007,   -2.0029,  3663,    599.2,  -0.7924,   34.872,2,   34.879,2,    321.7,2,     7.44,2,    13.40,2,     0.01,2,     0.93,2,    4.480,2,    2.182,2, 2163.100,2, 2295.600,2
           NA,     GNS,    440,  99,-999.0,       4,  2,19970521,0000,  76.0007,   -2.0029,  3663,    650.5,  -0.8146, -999.000,9,   34.879,2,    321.7,2,     7.47,2,    13.48,2,     0.01,2,     0.93,2, -999.000,9, -999.000,9, -999.000,9, -999.000,9
           NA,     GNS,    440,  99,-999.0,       3,  2,19970521,0000,  76.0007,   -2.0029,  3663,    700.5,  -0.8329,   34.876,2,   34.879,2,    323.0,2,     7.47,2,    13.45,2,     0.02,2,     0.93,2,    4.525,2,    2.209,2, 2169.300,2, 2298.600,2
           NA,     GNS,    440,  99,-999.0,       2,  2,19970521,0000,  76.0007,   -2.0029,  3663,    749.7,  -0.8524, -999.000,9,   34.879,2,    323.0,2,     7.47,2,    13.41,2,     0.01,2,     0.93,2, -999.000,9, -999.000,9, -999.000,9, -999.000,9
           NA,     GNS,    440,  99,-999.0,      12,  2,19970521,0000,  76.0007,   -2.0029,  3663,    800.4,  -0.8656,   34.879,2,   34.879,2,    322.1,2,     7.69,2,    13.42,2,     0.01,2,     0.93,2,    4.454,2,    2.174,2, 2151.500,2, 2295.800,2
           NA,     GNS,    440,  99,-999.0,       1,  2,19970521,0000,  76.0007,   -2.0029,  3663,    805.8,  -0.8683, -999.000,9,   34.879,2,    323.9,2,     7.47,2,    13.39,2,     0.01,2,     0.92,2, -999.000,9, -999.000,9, -999.000,9, -999.000,9
           NA,     GNS,    440,  99,-999.0,      11,  2,19970521,0000,  76.0007,   -2.0029,  3663,    900.2,  -0.8772,   34.879,2,   34.880,2,    322.1,2,     7.73,2,    13.45,2,     0.01,2,     0.93,2,    4.307,2,    2.096,2, 2153.700,2, 2297.400,2
           NA,     GNS,    440,  99,-999.0,      10,  2,19970521,0000,  76.0007,   -2.0029,  3663,   1000.4,  -0.8870,   34.880,2,   34.880,2,    323.0,2,     7.74,2,    13.44,2,     0.01,2,     0.93,2,    4.294,2,    2.091,2, 2159.100,2, 2296.000,2
           NA,     GNS,    440,  99,-999.0,       9,  2,19970521,0000,  76.0007,   -2.0029,  3663,   1100.3,  -0.8882,   34.881,2,   34.882,2,    323.4,2,     7.82,2,    13.45,2,     0.01,2,     0.93,2,    4.183,2,    2.044,2, 2155.200,2, 2295.400,2
           NA,     GNS,    440,  99,-999.0,       8,  2,19970521,0000,  76.0007,   -2.0029,  3663,   1200.3,  -0.8808,   34.883,2,   34.883,2,    320.4,2,     8.00,2,    13.53,2,     0.01,2,     0.94,2,    3.939,2,    1.924,2, 2154.200,2, 2295.300,2
           NA,     GNS,    440,  99,-999.0,       7,  2,19970521,0000,  76.0007,   -2.0029,  3663,   1400.3,  -0.7847,   34.899,2,   34.899,2,    303.4,2,     9.75,2,    14.25,2,     0.01,2,     0.98,2,    1.900,2,    0.885,2, 2160.300,2, 2296.800,2
           NA,     GNS,    440,  99,-999.0,       6,  2,19970521,0000,  76.0007,   -2.0029,  3663,   1600.4,  -0.8090,   34.901,2,   34.903,2,    299.5,2,    10.30,2,    14.44,2,     0.02,2,     1.00,2,    1.293,2,    0.595,2, 2158.500,2, 2296.100,2
           NA,     GNS,    440,  99,-999.0,       5,  2,19970521,0000,  76.0007,   -2.0029,  3663,   1800.6,  -0.8716,   34.904,2,   34.903,2,    300.8,2,    10.57,2,    14.49,2,     0.02,2,     1.00,2,    1.180,2,    0.545,2, 2158.200,2, 2297.500,2
           NA,     GNS,    440,  99,-999.0,       4,  2,19970521,0000,  76.0007,   -2.0029,  3663,   2000.7,  -0.9086,   34.903,2,   34.903,2,    300.8,2,    10.89,2,    14.57,2,     0.02,2,     1.01,2,    0.994,2,    0.464,2, 2153.500,2, 2296.700,2
           NA,     GNS,    440,  99,-999.0,       3,  2,19970521,0000,  76.0007,   -2.0029,  3663,   2500.4,  -0.9494,   34.903,2,   34.903,2,    302.5,2,    11.31,2,    14.62,2,     0.01,2,     1.01,2,    0.828,2,    0.389,2, 2158.800,2, 2297.300,2
           NA,     GNS,    440,  99,-999.0,       2,  2,19970521,0000,  76.0007,   -2.0029,  3663,   3000.3,  -0.9667,   34.901,2,   34.901,2,    303.8,2,    11.62,2,    14.62,2,     0.01,2,     1.00,2,    0.788,2,    0.374,2, 2156.300,2, 2297.800,2
           NA,     GNS,    440,  99,-999.0,       1,  2,19970521,0000,  76.0007,   -2.0029,  3663,   3652.6,  -0.9513,   34.899,2,   34.899,2,    305.6,2,    11.89,2,    14.64,2,     0.02,2,     1.00,2,    0.761,2,    0.365,2, 2153.900,2, 2297.300,2
           NA,     GNS,    441,  99,-999.0,      12,  2,19970521,0000,  76.5025,   -0.5558,  3061,     10.0,  -1.0470,   34.594,2,   34.576,2,    361.5,2,     5.26,2,    10.20,2,     0.05,2,     0.71,2, -999.000,9, -999.000,9, 2134.400,2, 2281.100,2
           NA,     GNS,    441,  99,-999.0,      11,  2,19970521,0000,  76.5025,   -0.5558,  3061,     49.9,  -1.3106,   34.775,2,   34.778,2,    356.6,2,     5.21,2,    11.02,2,     0.04,2,     0.78,2,    6.667,2,    3.244,2, 2148.600,2, 2292.500,2
           NA,     GNS,    441,  99,-999.0,      10,  2,19970521,0000,  76.5025,   -0.5558,  3061,    100.1,  -1.2417,   34.788,2,   34.791,2,    354.0,2,     5.36,2,    11.32,2,     0.03,2,     0.79,2,    6.556,2,    3.194,2, 2149.100,2, 2293.400,2
           NA,     GNS,    441,  99,-999.0,       9,  2,19970521,0000,  76.5025,   -0.5558,  3061,    200.1,  -0.7038,   34.829,2,   34.845,2,    345.3,2,     5.97,2,    11.97,2,     0.05,2,     0.82,2,    6.191,2,    3.042,2, 2141.800,2, 2294.200,2
           NA,     GNS,    441,  99,-999.0,       8,  2,19970521,0000,  76.5025,   -0.5558,  3061,    299.9,  -0.6197,   34.857,2,   34.860,2,    326.1,2,     6.61,2,    12.85,2,     0.02,2,     0.88,2,    4.909,2,    2.422,2, 2161.200,2, 2294.400,2
           NA,     GNS,    441,  99,-999.0,       7,  2,19970521,0000,  76.5025,   -0.5558,  3061,    400.0,  -0.6652,   34.869,2,   34.864,2,    330.0,2,     6.53,2,    12.85,2,     0.02,2,     0.88,2,    5.236,2,    2.577,2, 2163.700,2, 2293.900,2
           NA,     GNS,    441,  99,-999.0,       6,  2,19970521,0000,  76.5025,   -0.5558,  3061,    499.9,  -0.6121,   34.874,2,   34.873,2,    325.2,2,     6.78,2,    13.06,2,     0.01,2,     0.89,2,    4.898,2,    2.417,2, 2157.900,2, 2296.600,2
           NA,     GNS,    441,  99,-999.0,       5,  2,19970521,0000,  76.5025,   -0.5558,  3061,    599.9,  -0.5702,   34.881,2,   34.881,2,    322.6,2,     7.02,2,    13.18,2,     0.01,2,     0.90,2,    4.497,2,    2.197,2, 2157.800,2, 2296.000,2
           NA,     GNS,    441,  99,-999.0,       4,  2,19970521,0000,  76.5025,   -0.5558,  3061,    650.2,  -0.5812, -999.000,9,   34.882,2,    320.4,2,     7.17,2,    13.33,2,     0.01,2,     0.91,2, -999.000,9, -999.000,9, -999.000,9, -999.000,9
           NA,     GNS,    441,  99,-999.0,       3,  2,19970521,0000,  76.5025,   -0.5558,  3061,    700.0,  -0.6037,   34.883,2,   34.883,2,    320.8,2,     7.21,2,    13.29,2,     0.01,2,     0.92,2,    4.425,2,    2.173,2, 2151.900,2, 2295.400,2
           NA,     GNS,    441,  99,-999.0,       2,  2,19970521,0000,  76.5025,   -0.5558,  3061,    749.7,  -0.6405, -999.000,9,   34.883,2,    319.1,2,     7.40,2,    13.42,2,     0.01,2,     0.92,2, -999.000,9, -999.000,9, -999.000,9, -999.000,9
           NA,     GNS,    441,  99,-999.0,       1,  2,19970521,0000,  76.5025,   -0.5558,  3061,    801.9,  -0.6639,   34.883,2,   34.885,2,    318.2,2,     7.60,2,    13.48,2,     0.01,2,     0.92,2,    4.112,2,    1.985,2, 2161.600,2, 2294.800,2
           NA,     GNS,    441,  99,-999.0,      12,  2,19970521,0000,  76.5025,   -0.5558,  3061,    850.3,  -0.7079, -999.000,9,   34.883,2,    316.5,2,     7.67,2,    13.53,2,     0.01,2,     0.92,2, -999.000,9, -999.000,9, -999.000,9, -999.000,9
           NA,     GNS,    441,  99,-999.0,      11,  2,19970521,0000,  76.5025,   -0.5558,  3061,    899.9,  -0.7388,   34.884,2,   34.883,2,    316.9,2,     7.75,2,    13.57,2,     0.01,2,     0.93,2,    3.930,2,    1.898,2, 2150.400,2, 2294.700,2
           NA,     GNS,    441,  99,-999.0,      10,  2,19970521,0000,  76.5025,   -0.5558,  3061,   1000.2,  -0.7827,   34.884,2,   34.883,2,    316.5,2,     7.88,2,    13.59,2,     0.01,2,     0.93,2,    3.837,2,    1.870,2, 2155.000,2, 2295.300,2
           NA,     GNS,    441,  99,-999.0,       9,  2,19970521,0000,  76.5025,   -0.5558,  3061,   1200.1,  -0.8134,   34.886,2,   34.886,2,    316.5,2,     8.00,2,    13.62,2,     0.01,2,     0.93,2,    3.758,2,    1.824,2, 2152.900,2, 2296.200,2
           NA,     GNS,    441,  99,-999.0,       8,  2,19970521,0000,  76.5025,   -0.5558,  3061,   1399.4,  -0.7710,   34.896,2,   34.897,2,    305.1,2,     9.42,2,    14.12,2,     0.01,2,     0.97,2,    2.181,2,    1.016,2, 2148.800,2, 2297.900,2
           NA,     GNS,    441,  99,-999.0,       7,  2,19970521,0000,  76.5025,   -0.5558,  3061,   1600.2,  -0.7773,   34.904,2,   34.904,2,    299.5,2,    10.33,2,    14.49,2,     0.01,2,     0.99,2,    1.309,2,    0.594,2, 2154.500,2, 2302.500,2
           NA,     GNS,    441,  99,-999.0,       6,  2,19970521,0000,  76.5025,   -0.5558,  3061,   1800.9,  -0.8288,   34.905,2,   34.905,2,    299.5,2,    10.74,2,    14.59,2,     0.01,2,     1.01,2,    1.040,2,    0.468,2, 2151.800,2, -999.000,3
           NA,     GNS,    441,  99,-999.0,       5,  2,19970521,0000,  76.5025,   -0.5558,  3061,   2000.3,  -0.8744,   34.906,2,   34.905,2,    300.3,2,    11.10,2,    14.57,2,     0.01,2,     0.99,2,    0.892,2,    0.409,2, 2158.100,2, 2298.100,2
           NA,     GNS,    441,  99,-999.0,       4,  2,19970521,0000,  76.5025,   -0.5558,  3061,   2199.7,  -0.9030,   34.906,2,   34.906,2,    300.3,2,    11.34,2,    14.69,2,     0.01,2,     1.01,2,    0.800,2,    0.371,2, 2152.500,2, 2298.700,2
           NA,     GNS,    441,  99,-999.0,       3,  2,19970521,0000,  76.5025,   -0.5558,  3061,   2500.3,  -0.9229,   34.905,2,   34.905,2,    301.6,2,    11.46,2,    14.67,2,     0.02,2,     1.01,2,    0.763,2,    0.354,2, 2155.000,2, 2297.200,2
           NA,     GNS,    441,  99,-999.0,       2,  2,19970521,0000,  76.5025,   -0.5558,  3061,   2800.3,  -0.9437,   34.903,2,   34.903,2,    303.0,2,    11.62,2,    14.66,2,     0.01,2,     1.01,2,    0.767,2,    0.360,2, 2158.900,2, 2298.200,2
           NA,     GNS,    441,  99,-999.0,       1,  2,19970521,0000,  76.5025,   -0.5558,  3061,   3051.3,  -0.9483,   34.902,2,   34.902,2,    303.0,2,    11.84,2,    14.67,2,     0.01,2,     1.01,2,    0.772,2,    0.361,2, 2151.500,2, 2299.500,2