BOTTLE,20224407JOAExport
EXPOCODE,SECT_ID,STNNBR,CASTNO,SAMPNO,BTLNBR,BTLNBR_FLAG_W,DATE,TIME,LATITUDE,LONGITUDE,DEPTH,CTDPRS,CTDTMP,CTDSAL,CTDSAL_FLAG_W,SALNTY,SALNTY_FLAG_W,OXYGEN,OXYGEN_FLAG_W,SILCAT,SILCAT_FLAG_W,NITRAT,NITRAT_FLAG_W,NITRIT,NITRIT_FLAG_W,PHSPHT,PHSPHT_FLAG_W,CFC-11,CFC-11_FLAG_W,CFC-12,CFC-12_FLAG_W,TCARBN,TCARBN_FLAG_W,ALKALI,ALKALI_FLAG_W
,,,,,,,,,,,,DB,ITS-90,PSS-78,,PSS-78,,UMOL/KG,,UMOL/KG,,UMOL/KG,,UMOL/KG,,UMOL/KG,,PMOL/KG,,PMOL/KG,,UMOL/KG,,UMOL/KG
           NA,     GNS,    424,  99,-999.0,      12,  2,19970518,0000,  74.9998,   -2.0029,  3524,      9.5,  -1.5481,   34.807,2,   34.809,2,    359.6,2,     5.36,2,    11.33,2,     0.03,2,     0.76,2,    6.670,2,    3.251,2, 2150.100,2, -999.000,3
           NA,     GNS,    424,  99,-999.0,      11,  2,19970518,0000,  74.9998,   -2.0029,  3524,    100.8,  -1.6858,   34.818,2,   34.818,2,    346.6,2,     6.27,2,    12.29,2,     0.04,2,     0.83,2,    6.201,2,    3.009,2, 2152.200,2, -999.000,3
           NA,     GNS,    424,  99,-999.0,      10,  2,19970518,0000,  74.9998,   -2.0029,  3524,    201.3,  -1.3486,   34.843,2,   34.840,2,    336.1,2,     6.68,2,    12.86,2,     0.03,2,     0.86,2,    5.588,2,    2.697,2, 2158.300,2, -999.000,3
           NA,     GNS,    424,  99,-999.0,       9,  2,19970518,0000,  74.9998,   -2.0029,  3524,    300.7,  -1.2038,   34.851,2,   34.850,2,    332.2,2,     6.89,2,    13.05,2,     0.02,2,     0.87,2,    5.282,2,    2.576,2, 2157.500,2, -999.000,3
           NA,     GNS,    424,  99,-999.0,       8,  2,19970518,0000,  74.9998,   -2.0029,  3524,    400.5,  -1.0986,   34.857,2,   34.857,2,    329.1,2,     7.06,2,    13.21,2,     0.02,2,     0.88,2,    5.066,2,    2.464,2, 2147.100,2, -999.000,3
           NA,     GNS,    424,  99,-999.0,       7,  2,19970518,0000,  74.9998,   -2.0029,  3524,    451.3,  -1.0944, -999.000,9,   34.859,2,    328.7,2,     7.09,2,    13.23,2,     0.01,2,     0.89,2, -999.000,9, -999.000,9, -999.000,9, -999.000,9
           NA,     GNS,    424,  99,-999.0,       6,  2,19970518,0000,  74.9998,   -2.0029,  3524,    498.9,  -1.0820,   34.863,2,   34.860,2,    328.2,2,     7.14,2,    13.26,2,     0.02,2,     0.89,2,    4.989,2,    2.444,2, 2152.000,2, -999.000,3
           NA,     GNS,    424,  99,-999.0,       5,  2,19970518,0000,  74.9998,   -2.0029,  3524,    550.3,  -1.0100, -999.000,9,   34.866,2,    326.5,2,     7.26,2,    13.32,2,     0.01,2,     0.89,2, -999.000,9, -999.000,9, -999.000,9, -999.000,9
           NA,     GNS,    424,  99,-999.0,       4,  2,19970518,0000,  74.9998,   -2.0029,  3524,    600.7,  -1.0062,   34.869,2,   34.867,2,    326.5,2,     7.27,2,    13.33,2,     0.01,2,     0.89,2,    4.785,2,    2.336,2, 2155.600,2, -999.000,3
           NA,     GNS,    424,  99,-999.0,       3,  2,19970518,0000,  74.9998,   -2.0029,  3524,    650.8,  -0.9454, -999.000,9,   34.872,2,    324.8,2,     7.41,2,    13.47,2,     0.01,2,     0.90,2, -999.000,9, -999.000,9, -999.000,9, -999.000,9
           NA,     GNS,    424,  99,-999.0,       2,  2,19970518,0000,  74.9998,   -2.0029,  3524,    701.1,  -0.9319,   34.872,2,   34.874,2,    324.3,2,     7.44,2,    13.47,2,     0.01,2,     0.90,2,    4.613,2,    2.253,2, 2156.500,2, -999.000,3
           NA,     GNS,    424,  99,-999.0,       1,  2,19970518,0000,  74.9998,   -2.0029,  3524,    800.7,  -0.9397,   34.875,2,   34.874,2,    324.3,2,     7.48,2,    13.44,2,     0.01,2,     0.90,2,    4.561,2,    2.229,2, 2163.400,2, -999.000,3
           NA,     GNS,    424,  99,-999.0,      12,  2,19970518,0000,  74.9998,   -2.0029,  3524,    900.6,  -0.9324,   34.879,2,   34.875,2,    323.9,2,     7.58,2,    13.47,2,     0.01,2,     0.90,2,    4.463,2,    2.188,2, 2153.100,2, -999.000,3
           NA,     GNS,    424,  99,-999.0,      11,  2,19970518,0000,  74.9998,   -2.0029,  3524,   1001.2,  -0.9206,   34.881,2,   34.878,2,    323.0,2,     7.70,2,    13.50,2,     0.01,2,     0.90,2,    4.302,2,    2.098,2, 2159.300,2, -999.000,3
           NA,     GNS,    424,  99,-999.0,      10,  2,19970518,0000,  74.9998,   -2.0029,  3524,   1150.5,  -0.9133,   34.884,2,   34.881,2,    321.3,2,     7.94,2,    13.63,2,     0.01,2,     0.92,2,    4.014,2,    1.953,2, 2152.000,2, -999.000,3
           NA,     GNS,    424,  99,-999.0,       9,  2,19970518,0000,  74.9998,   -2.0029,  3524,   1301.5,  -0.8116,   34.895,2,   34.894,2,    306.4,2,     9.23,2,    14.20,2,     0.01,2,     0.95,2,    2.408,2,    1.116,2, 2162.800,2, -999.000,3
           NA,     GNS,    424,  99,-999.0,       8,  2,19970518,0000,  74.9998,   -2.0029,  3524,   1450.2,  -0.7943,   34.902,2,   34.902,2,    300.3,2,    10.12,2,    14.52,2,     0.01,2,     0.98,2,    1.503,2,    0.666,2, 2163.400,2, -999.000,3
           NA,     GNS,    424,  99,-999.0,       7,  2,19970518,0000,  74.9998,   -2.0029,  3524,   1600.7,  -0.8300,   34.904,2,   34.903,2,    299.5,2,    10.45,2,    14.63,2,     0.01,2,     0.99,2,    1.247,2,    0.551,2, 2151.300,2, -999.000,3
           NA,     GNS,    424,  99,-999.0,       6,  2,19970518,0000,  74.9998,   -2.0029,  3524,   1800.6,  -0.8816,   34.904,2,   34.903,2,    299.5,2,    10.76,2,    14.69,2,     0.01,2,     0.99,2,    1.095,2,    0.487,2, 2148.500,2, -999.000,3
           NA,     GNS,    424,  99,-999.0,       5,  2,19970518,0000,  74.9998,   -2.0029,  3524,   2000.1,  -0.9140,   34.904,2,   34.903,2,    300.8,2,    10.99,2,    14.75,2,     0.01,2,     0.99,2,    0.992,2,    0.442,2, 2155.500,2, -999.000,3
           NA,     GNS,    424,  99,-999.0,       4,  2,19970518,0000,  74.9998,   -2.0029,  3524,   2251.0,  -0.9411,   34.904,2,   34.904,2,    301.2,2,    11.21,2,    14.76,2,     0.01,2,     0.99,2,    0.892,2,    0.405,2, 2160.700,2, -999.000,3
           NA,     GNS,    424,  99,-999.0,       3,  2,19970518,0000,  74.9998,   -2.0029,  3524,   2500.7,  -0.9575,   34.903,2,   34.903,2,    302.5,2,    11.36,2,    14.77,2,     0.01,2,     1.00,2,    0.847,2,    0.384,2, 2155.900,2, -999.000,3
           NA,     GNS,    424,  99,-999.0,       2,  2,19970518,0000,  74.9998,   -2.0029,  3524,   2999.8,  -0.9798,   34.900,2,   34.900,2,    303.8,2,    11.70,2,    14.79,2,     0.01,2,     0.99,2,    0.795,2,    0.368,2, 2155.600,2, -999.000,9
           NA,     GNS,    424,  99,-999.0,       1,  2,19970518,0000,  74.9998,   -2.0029,  3524,   3502.5,  -0.9663,   34.899,2,   34.899,2,    305.1,2,    12.03,2,    14.79,2,     0.01,2,     0.99,2,    0.771,2,    0.354,2, 2153.400,2, -999.000,3
           NA,     GNS,    427,  99,-999.0,      20,  2,19970519,0000,  74.9998,   -4.6874,  3514,      3.1,  -1.5410, -999.000,9,   34.665,2,   -999.0,9,     4.39,2,     9.17,2,     0.04,2,     0.63,2, -999.000,9, -999.000,9, -999.000,9, -999.000,9
           NA,     GNS,    427,  99,-999.0,      19,  2,19970519,0000,  74.9998,   -4.6874,  3514,     10.0,  -1.5410, -999.000,9,   34.665,2,   -999.0,9,     4.37,2,     9.17,2,     0.04,2,     0.63,2, -999.000,9, -999.000,9, -999.000,9, -999.000,9
           NA,     GNS,    427,  99,-999.0,      18,  2,19970519,0000,  74.9998,   -4.6874,  3514,     10.1,  -1.5410, -999.000,9,   34.664,2,   -999.0,9,     4.36,2,     9.17,2,     0.04,2,     0.62,2, -999.000,9, -999.000,9, -999.000,9, -999.000,9
           NA,     GNS,    427,  99,-999.0,      12,  2,19970519,0000,  74.9998,   -4.6874,  3514,     10.7,  -1.5387,   34.699,2,   34.700,2,    376.2,2,     4.47,2,     9.23,2,     0.04,2,     0.65,2,    6.684,2,    3.336,2, 2136.500,2, -999.000,3
           NA,     GNS,    427,  99,-999.0,      17,  2,19970519,0000,  74.9998,   -4.6874,  3514,     15.4,  -1.5600, -999.000,9,   34.666,2,   -999.0,9,     4.43,2,     9.17,2,     0.04,2,     0.63,2, -999.000,9, -999.000,9, -999.000,9, -999.000,9
           NA,     GNS,    427,  99,-999.0,      16,  2,19970519,0000,  74.9998,   -4.6874,  3514,     20.0,  -1.5610, -999.000,9,   34.665,2,   -999.0,9,     4.36,2,     9.17,2,     0.04,2,     0.63,2, -999.000,9, -999.000,9, -999.000,9, -999.000,9
           NA,     GNS,    427,  99,-999.0,      15,  2,19970519,0000,  74.9998,   -4.6874,  3514,     24.9,  -1.5730, -999.000,9,   34.667,2,   -999.0,9,     4.29,2,     9.17,2,     0.04,2,     0.62,2, -999.000,9, -999.000,9, -999.000,9, -999.000,9
           NA,     GNS,    427,  99,-999.0,      14,  2,19970519,0000,  74.9998,   -4.6874,  3514,     25.0,  -1.5730, -999.000,9,   34.667,2,   -999.0,9,     4.27,2,     9.11,2,     0.04,2,     0.62,2, -999.000,9, -999.000,9, -999.000,9, -999.000,9
           NA,     GNS,    427,  99,-999.0,      13,  2,19970519,0000,  74.9998,   -4.6874,  3514,     30.1,  -1.5940, -999.000,9,   34.673,2,   -999.0,9,     4.17,2,     9.09,2,     0.04,2,     0.61,2, -999.000,9, -999.000,9, -999.000,9, -999.000,9
           NA,     GNS,    427,  99,-999.0,      12,  2,19970519,0000,  74.9998,   -4.6874,  3514,     34.9,  -1.5330, -999.000,9,   34.700,2,   -999.0,9,     4.90,2,    10.08,2,     0.03,2,     0.68,2, -999.000,9, -999.000,9, -999.000,9, -999.000,9
           NA,     GNS,    427,  99,-999.0,      11,  2,19970519,0000,  74.9998,   -4.6874,  3514,     39.6,  -1.5700, -999.000,9,   34.724,2,   -999.0,9,     5.27,2,    10.94,2,     0.03,2,     0.74,2, -999.000,9, -999.000,9, -999.000,9, -999.000,9
           NA,     GNS,    427,  99,-999.0,      10,  2,19970519,0000,  74.9998,   -4.6874,  3514,     49.6,  -1.6370, -999.000,9,   34.734,2,   -999.0,9,     5.33,2,    11.35,2,     0.03,2,     0.76,2, -999.000,9, -999.000,9, -999.000,9, -999.000,9
           NA,     GNS,    427,  99,-999.0,       9,  2,19970519,0000,  74.9998,   -4.6874,  3514,     59.8,  -1.6610, -999.000,9,   34.741,2,   -999.0,9,     5.51,2,    11.79,2,     0.03,2,     0.80,2, -999.000,9, -999.000,9, -999.000,9, -999.000,9
           NA,     GNS,    427,  99,-999.0,       8,  2,19970519,0000,  74.9998,   -4.6874,  3514,     69.3,  -1.6920, -999.000,9,   34.750,2,   -999.0,9,     5.78,2,    12.01,2,     0.02,2,     0.81,2, -999.000,9, -999.000,9, -999.000,9, -999.000,9
           NA,     GNS,    427,  99,-999.0,       7,  2,19970519,0000,  74.9998,   -4.6874,  3514,     79.2,  -1.7150, -999.000,9,   34.758,2,   -999.0,9,     6.00,2,    12.16,2,     0.03,2,     0.82,2, -999.000,9, -999.000,9, -999.000,9, -999.000,9
           NA,     GNS,    427,  99,-999.0,       6,  2,19970519,0000,  74.9998,   -4.6874,  3514,     90.0,  -1.7180, -999.000,9,   34.758,2,   -999.0,9,     6.20,2,    12.25,2,     0.03,2,     0.84,2, -999.000,9, -999.000,9, -999.000,9, -999.000,9
           NA,     GNS,    427,  99,-999.0,       5,  2,19970519,0000,  74.9998,   -4.6874,  3514,     99.8,  -1.6890, -999.000,9,   34.764,2,   -999.0,9,     6.32,2,    12.34,2,     0.03,2,     0.84,2, -999.000,9, -999.000,9, -999.000,9, -999.000,9
           NA,     GNS,    427,  99,-999.0,       4,  2,19970519,0000,  74.9998,   -4.6874,  3514,    120.2,  -1.5150, -999.000,9,   34.782,2,   -999.0,9,     6.44,2,    12.60,2,     0.03,2,     0.87,2, -999.000,9, -999.000,9, -999.000,9, -999.000,9
           NA,     GNS,    427,  99,-999.0,      11,  2,19970519,0000,  74.9998,   -4.6874,  3514,    149.2,  -1.3790,   34.833,2,   34.827,2,    340.9,2,     6.61,2,    12.71,2,     0.03,2,     0.87,2,    5.733,2,    2.839,2, 2148.700,2, -999.000,3
           NA,     GNS,    427,  99,-999.0,       3,  2,19970519,0000,  74.9998,   -4.6874,  3514,    201.6,  -1.0640, -999.000,9,   34.810,2,   -999.0,9,     6.81,2,    13.12,2,     0.02,2,     0.90,2, -999.000,9, -999.000,9, -999.000,9, -999.000,9
           NA,     GNS,    427,  99,-999.0,       2,  2,19970519,0000,  74.9998,   -4.6874,  3514,    248.1,  -1.1030, -999.000,9,   34.819,2,   -999.0,9,     6.84,2,    13.08,2,     0.02,2,     0.88,2, -999.000,9, -999.000,9, -999.000,9, -999.000,9
           NA,     GNS,    427,  99,-999.0,       1,  2,19970519,0000,  74.9998,   -4.6874,  3514,    300.5,  -1.2450, -999.000,9,   34.813,2,   -999.0,9,     6.84,2,    13.08,2,     0.02,2,     0.88,2, -999.000,9, -999.000,9, -999.000,9, -999.000,9
           NA,     GNS,    427,  99,-999.0,      10,  2,19970519,0000,  74.9998,   -4.6874,  3514,    301.1,  -1.1618,   34.848,2,   34.848,2,    332.2,2,     6.84,2,    13.07,2,     0.02,2,     0.89,2,    5.180,2,    2.549,2, 2141.400,2, -999.000,3
           NA,     GNS,    427,  99,-999.0,       9,  2,19970519,0000,  74.9998,   -4.6874,  3514,    401.0,  -1.1374,   34.853,2,   34.852,2,    332.2,2,     6.89,2,    13.15,2,     0.01,2,     0.89,2,    5.174,2,    2.525,2, 2153.700,2, -999.000,3
           NA,     GNS,    427,  99,-999.0,       8,  2,19970519,0000,  74.9998,   -4.6874,  3514,    500.4,  -1.0470,   34.859,2,   34.860,2,    328.2,2,     7.09,2,    13.25,2,     0.01,2,     0.91,2,    4.951,2,    2.409,2, 2148.700,2, -999.000,3
           NA,     GNS,    427,  99,-999.0,       7,  2,19970519,0000,  74.9998,   -4.6874,  3514,    550.6,  -1.0656, -999.000,9,   34.860,2,    328.7,2,     7.00,2,    13.15,2,     0.02,2,  -999.00,3, -999.000,9, -999.000,9, -999.000,9, -999.000,9
           NA,     GNS,    427,  99,-999.0,       6,  2,19970519,0000,  74.9998,   -4.6874,  3514,    600.4,  -1.0343,   34.868,2,   34.863,2,    327.4,2,     7.17,2,    13.35,2,     0.01,2,     0.91,2,    4.900,2,    2.366,2, 2156.700,2, -999.000,3
           NA,     GNS,    427,  99,-999.0,       5,  2,19970519,0000,  74.9998,   -4.6874,  3514,    624.9,  -0.9816, -999.000,9,   34.867,2,    325.6,2,     7.26,2,    13.41,2,     0.01,2,     0.90,2, -999.000,9, -999.000,9, -999.000,9, -999.000,9
           NA,     GNS,    427,  99,-999.0,       4,  2,19970519,0000,  74.9998,   -4.6874,  3514,    650.4,  -0.9586, -999.000,9,   34.869,2,    327.8,2,     7.33,2,    13.47,2,     0.01,2,     0.91,2, -999.000,9, -999.000,9, -999.000,9, -999.000,9
           NA,     GNS,    427,  99,-999.0,       3,  2,19970519,0000,  74.9998,   -4.6874,  3514,    700.6,  -0.9833,   34.867,2,   34.868,2,    326.1,2,     7.30,2,    13.45,2,     0.01,2,     0.91,2,    4.749,2,    2.283,2, 2149.700,2, -999.000,3
           NA,     GNS,    427,  99,-999.0,       2,  2,19970519,0000,  74.9998,   -4.6874,  3514,    749.4,  -1.0001, -999.000,9,   34.867,2,    326.9,2,     7.29,2,    13.43,2,     0.01,2,     0.91,2, -999.000,9, -999.000,9, -999.000,9, -999.000,9
           NA,     GNS,    427,  99,-999.0,       1,  2,19970519,0000,  74.9998,   -4.6874,  3514,    776.7,  -0.9988, -999.000,9,   34.868,2,    327.4,2,     7.29,2,    13.45,2,     0.01,2,     0.90,2, -999.000,9, -999.000,9, -999.000,9, -999.000,9
           NA,     GNS,    427,  99,-999.0,      12,  2,19970519,0000,  74.9998,   -4.6874,  3514,    801.1,  -0.9868,   34.872,2,   34.869,2,    326.1,2,     7.32,2,    13.44,2,     0.01,2,     0.90,2,    4.730,2,    2.285,2, 2152.000,2, -999.000,3
           NA,     GNS,    427,  99,-999.0,      11,  2,19970519,0000,  74.9998,   -4.6874,  3514,    850.0,  -0.9553, -999.000,9,   34.872,2,    324.8,2,     7.41,2,    13.58,2,     0.01,2,     0.91,2, -999.000,9, -999.000,9, -999.000,9, -999.000,9
           NA,     GNS,    427,  99,-999.0,      10,  2,19970519,0000,  74.9998,   -4.6874,  3514,    900.1,  -0.9203,   34.876,2,   34.875,2,    324.3,2,     7.51,2,    13.57,2,     0.01,2,     0.91,2,    4.497,2,    2.172,2, 2157.300,2, -999.000,3
           NA,     GNS,    427,  99,-999.0,       9,  2,19970519,0000,  74.9998,   -4.6874,  3514,   1000.9,  -0.9272,   34.878,2,   34.876,2,    325.2,2,     7.55,2,    13.56,2,     0.01,2,     0.91,2,    4.443,2,    2.159,2, 2156.500,2, -999.000,3
           NA,     GNS,    427,  99,-999.0,       8,  2,19970519,0000,  74.9998,   -4.6874,  3514,   1100.9,  -0.8837,   34.881,2,   34.881,2,    321.7,2,     7.80,2,    13.68,2,     0.01,2,     0.91,2,    4.122,2,    2.037,2, 2155.500,2, -999.000,3
           NA,     GNS,    427,  99,-999.0,       7,  2,19970519,0000,  74.9998,   -4.6874,  3514,   1200.9,  -0.8716,   34.884,2,   34.884,2,    319.5,2,     8.06,2,    13.77,2,     0.01,2,     0.92,2,    3.797,2,    1.863,2, 2149.000,2, -999.000,3
           NA,     GNS,    427,  99,-999.0,       6,  2,19970519,0000,  74.9998,   -4.6874,  3514,   1401.1,  -0.7797,   34.898,2,   34.900,2,    303.4,2,     9.76,2,    14.48,2,     0.01,2,     0.97,2,    1.859,2,    0.846,2, 2149.100,2, -999.000,3
           NA,     GNS,    427,  99,-999.0,       5,  2,19970519,0000,  74.9998,   -4.6874,  3514,   1596.6,  -0.8191,   34.903,2,   34.903,2,    299.9,2,    10.34,2,    14.63,2,     0.01,2,     0.98,2,    1.261,2,    0.567,2, 2150.400,2, -999.000,3
           NA,     GNS,    427,  99,-999.0,       4,  2,19970519,0000,  74.9998,   -4.6874,  3514,   2000.3,  -0.9145,   34.904,2,   34.904,2,    301.2,2,    10.97,2,    14.85,2,     0.01,2,     1.00,2,    0.972,2,    0.439,2, 2155.600,2, -999.000,3
           NA,     GNS,    427,  99,-999.0,       3,  2,19970519,0000,  74.9998,   -4.6874,  3514,   2501.0,  -0.9588,   34.903,2,   34.903,2,    303.4,2,    11.36,2,    14.88,2,     0.01,2,     1.00,2,    0.836,2,    0.384,2, 2156.500,2, -999.000,3
           NA,     GNS,    427,  99,-999.0,       2,  2,19970519,0000,  74.9998,   -4.6874,  3514,   3001.1,  -0.9744,   34.901,2,   34.901,2,    304.7,2,    11.67,2,    14.91,2,     0.01,2,     1.00,2,    0.789,2,    0.365,2, 2150.800,2, -999.000,3
           NA,     GNS,    427,  99,-999.0,       1,  2,19970519,0000,  74.9998,   -4.6874,  3514,   3503.2,  -0.9672,   34.899,2,   34.899,2,    306.4,2,    12.06,2,    14.94,2,     0.01,2,     1.00,2,    0.759,2,    0.352,2, 2150.900,2, -999.000,3