BOTTLE,20224407JOAExport
EXPOCODE,SECT_ID,STNNBR,CASTNO,SAMPNO,BTLNBR,BTLNBR_FLAG_W,DATE,TIME,LATITUDE,LONGITUDE,DEPTH,CTDPRS,CTDTMP,CTDSAL,CTDSAL_FLAG_W,SALNTY,SALNTY_FLAG_W,OXYGEN,OXYGEN_FLAG_W,SILCAT,SILCAT_FLAG_W,NITRAT,NITRAT_FLAG_W,NITRIT,NITRIT_FLAG_W,PHSPHT,PHSPHT_FLAG_W,CFC-11,CFC-11_FLAG_W,CFC-12,CFC-12_FLAG_W,TCARBN,TCARBN_FLAG_W,ALKALI,ALKALI_FLAG_W
,,,,,,,,,,,,DB,ITS-90,PSS-78,,PSS-78,,UMOL/KG,,UMOL/KG,,UMOL/KG,,UMOL/KG,,UMOL/KG,,PMOL/KG,,PMOL/KG,,UMOL/KG,,UMOL/KG
           NA,     GNS,    330,   1,-999.0,      12,  2,19970428,0000,  66.6373,   -7.3769,  2128,      9.5,   1.3580,   34.846,2,   34.835,2,    338.3,2,     3.51,2,    10.01,2,     0.08,2,     0.68,2,    6.344,2,    3.169,2, 2145.700,2, 2298.200,2
           NA,     GNS,    330,   1,-999.0,      11,  2,19970428,0000,  66.6373,   -7.3769,  2128,     49.1,   1.3660,   34.846,2,   34.840,2,    340.5,2,     3.52,2,    10.05,2,     0.08,2,     0.69,2,    6.275,2,    3.097,2, 2144.200,2, 2297.300,2
           NA,     GNS,    330,   1,-999.0,      10,  2,19970428,0000,  66.6373,   -7.3769,  2128,     92.4,   1.5232,   34.870,2,   34.876,2,    329.1,2,     4.62,2,    11.14,2,     0.09,2,     0.78,2,    6.043,2,    2.947,2, 2143.700,2, 2299.000,2
           NA,     GNS,    330,   1,-999.0,       9,  2,19970428,0000,  66.6373,   -7.3769,  2128,    149.9,   1.7574,   34.917,2,   34.916,2,    323.0,2,     5.30,2,    11.90,2,     0.09,2,     0.82,2,    5.870,2,    2.911,2, 2146.500,2, 2298.000,2
           NA,     GNS,    330,   1,-999.0,       8,  2,19970428,0000,  66.6373,   -7.3769,  2128,    299.5,   0.5972,   34.885,2,   34.877,2,    308.2,2,     6.53,2,    13.45,2,     0.02,2,     0.91,2,    4.997,2,    2.419,2, 2164.900,2, 2294.500,2
           NA,     GNS,    330,   1,-999.0,       7,  2,19970428,0000,  66.6373,   -7.3769,  2128,    500.0,  -0.1968,   34.887,2,   34.887,2,    303.8,2,     7.60,2,    13.84,2,     0.03,2,     0.93,2,    3.602,2,    1.722,2, 2161.400,2, 2294.200,2
           NA,     GNS,    330,   1,-999.0,       6,  2,19970428,0000,  66.6373,   -7.3769,  2128,    797.7,  -0.5671,   34.894,2,   34.896,2,    299.0,2,     9.15,2,    14.20,2,     0.02,2,     0.96,2,    2.359,2,    1.106,2, 2164.200,2, 2296.400,2
           NA,     GNS,    330,   1,-999.0,       5,  2,19970428,0000,  66.6373,   -7.3769,  2128,    989.5,  -0.6870,   34.899,2,   34.899,2,    299.5,2,     9.44,2,    14.13,2,     0.01,2,     0.96,2,    2.035,2,    0.943,2, 2162.800,2, 2299.300,2
           NA,     GNS,    330,   1,-999.0,       4,  2,19970428,0000,  66.6373,   -7.3769,  2128,   1198.9,  -0.7437,   34.905,2,   34.905,2,    297.7,2,    10.13,2,    14.30,2,     0.01,2,     0.97,2, -999.000,9, -999.000,9, 2165.700,2, 2300.000,2
           NA,     GNS,    330,   1,-999.0,       3,  2,19970428,0000,  66.6373,   -7.3769,  2128,   1499.4,  -0.8295,   34.907,2,   34.907,2,    297.7,2,    11.21,2,    14.59,2,     0.01,2,     0.99,2,    0.890,2,    0.413,2, 2164.500,2, 2299.100,2
           NA,     GNS,    330,   1,-999.0,       2,  2,19970428,0000,  66.6373,   -7.3769,  2128,   1788.2,  -0.8836,   34.907,2,   34.907,2,    298.2,2,    11.72,2,    14.69,2,     0.01,2,     0.99,2,    0.723,2,    0.340,2, 2162.100,2, 2299.800,2
           NA,     GNS,    330,   1,-999.0,       1,  2,19970428,0000,  66.6373,   -7.3769,  2128,   1952.3,  -0.8973,   34.907,2,   34.907,2,    298.2,2,    11.96,2,    14.74,2,     0.01,2,     1.00,2,    0.669,2,    0.314,2, 2162.500,2, 2301.200,2
           NA,     GNS,    331,   1,-999.0,      12,  2,19970428,0000,  66.9158,   -8.2423,  1661,     10.3,   0.6137, -999.000,9,   34.728,2,    349.6,2,     2.71,2,     9.19,2,     0.08,2,     0.64,2, -999.000,9, -999.000,9, -999.000,9, -999.000,9
           NA,     GNS,    331,   1,-999.0,      11,  2,19970428,0000,  66.9158,   -8.2423,  1661,     49.9,   0.6885, -999.000,9,   34.753,2,    344.4,2,     3.10,2,     9.75,2,     0.07,2,     0.67,2, -999.000,9, -999.000,9, -999.000,9, -999.000,9
           NA,     GNS,    331,   1,-999.0,      10,  2,19970428,0000,  66.9158,   -8.2423,  1661,     98.6,   1.3756, -999.000,9,   34.863,2,    335.7,2,     4.76,2,    11.34,2,     0.08,2,     0.78,2, -999.000,9, -999.000,9, -999.000,9, -999.000,9
           NA,     GNS,    331,   1,-999.0,       9,  2,19970428,0000,  66.9158,   -8.2423,  1661,    150.0,   0.9177, -999.000,9,   34.878,2,    318.7,2,     6.18,2,    13.11,2,     0.03,2,     0.89,2, -999.000,9, -999.000,9, -999.000,9, -999.000,9
           NA,     GNS,    331,   1,-999.0,       8,  2,19970428,0000,  66.9158,   -8.2423,  1661,    199.3,   0.1962, -999.000,9,   34.869,2,    308.6,2,     6.82,2,    13.60,2,     0.03,2,     0.93,2, -999.000,9, -999.000,9, -999.000,9, -999.000,9
           NA,     GNS,    331,   1,-999.0,       7,  2,19970428,0000,  66.9158,   -8.2423,  1661,    300.1,  -0.1762, -999.000,9,   34.878,2,    307.8,2,     7.28,2,    13.86,2,     0.03,2,     0.94,2, -999.000,9, -999.000,9, -999.000,9, -999.000,9
           NA,     GNS,    331,   1,-999.0,       6,  2,19970428,0000,  66.9158,   -8.2423,  1661,    499.6,  -0.4285, -999.000,9,   34.886,2,    307.8,2,     7.87,2,    13.81,2,     0.04,2,     0.95,2, -999.000,9, -999.000,9, -999.000,9, -999.000,9
           NA,     GNS,    331,   1,-999.0,       5,  2,19970428,0000,  66.9158,   -8.2423,  1661,    798.4,  -0.6372, -999.000,9,   34.896,2,    305.1,2,     8.47,2,    13.88,2,     0.01,2,     0.95,2, -999.000,9, -999.000,9, -999.000,9, -999.000,9
           NA,     GNS,    331,   1,-999.0,       4,  2,19970428,0000,  66.9158,   -8.2423,  1661,   1000.8,  -0.7149, -999.000,9,   34.902,2,    300.3,2,     9.87,2,    14.26,2,     0.01,2,     0.97,2, -999.000,9, -999.000,9, -999.000,9, -999.000,9
           NA,     GNS,    331,   1,-999.0,       3,  2,19970428,0000,  66.9158,   -8.2423,  1661,   1199.1,  -0.7548, -999.000,9,   34.905,2,    296.8,2,    10.87,2,    14.51,2,     0.01,2,     1.00,2, -999.000,9, -999.000,9, -999.000,9, -999.000,9
           NA,     GNS,    331,   1,-999.0,       2,  2,19970428,0000,  66.9158,   -8.2423,  1661,   1499.0,  -0.8263, -999.000,9,   34.907,2,   -999.0,9,    12.10,2,    14.88,2,     0.05,2,  -999.00,9, -999.000,9, -999.000,9, -999.000,9, -999.000,9
           NA,     GNS,    331,   1,-999.0,       1,  2,19970428,0000,  66.9158,   -8.2423,  1661,   1650.8,  -0.8544, -999.000,9,   34.907,2,    295.5,2,    12.65,2,    14.95,2,     0.03,2,  -999.00,9, -999.000,9, -999.000,9, -999.000,9, -999.000,9
           NA,     GNS,    332,   1,-999.0,      12,  2,19970429,0000,  67.1847,   -9.1221,  1486,      8.2,  -0.5846,   34.654,2,   34.659,2,    357.1,2,     3.51,2,     9.70,2,     0.07,2,     0.67,2,    7.168,2,    3.427,2, 2136.300,2, 2278.600,2
           NA,     GNS,    332,   1,-999.0,      11,  2,19970429,0000,  67.1847,   -9.1221,  1486,     50.6,  -0.6097,   34.655,2,   34.660,2,    357.1,2,     3.46,2,     9.71,2,     0.07,2,     0.67,2,    7.215,2,    3.432,2, 2142.000,2, 2279.700,2
           NA,     GNS,    332,   1,-999.0,      10,  2,19970429,0000,  67.1847,   -9.1221,  1486,    101.9,  -0.6864,   34.659,2,   34.669,2,    353.1,2,     3.82,2,    10.16,2,     0.07,2,     0.72,2,    7.147,2,    3.398,2, 2144.200,2, 2279.500,2
           NA,     GNS,    332,   1,-999.0,       9,  2,19970429,0000,  67.1847,   -9.1221,  1486,    151.2,  -0.4142,   34.745,2,   34.785,2,    328.7,2,     5.45,2,    12.21,2,     0.02,2,     0.82,2,    6.002,2,    2.901,2, 2142.100,2, 2285.200,2
           NA,     GNS,    332,   1,-999.0,       8,  2,19970429,0000,  67.1847,   -9.1221,  1486,    201.4,  -0.0255,   34.843,2,   34.857,2,    313.9,2,     6.42,2,    13.12,2,     0.01,2,     0.89,2,    5.060,2,    2.458,2, 2155.400,2, 2293.700,2
           NA,     GNS,    332,   1,-999.0,       7,  2,19970429,0000,  67.1847,   -9.1221,  1486,    300.6,  -0.1370,   34.879,2,   34.878,2,    307.3,2,     7.16,2,    13.69,2,     0.01,2,     0.92,2,    4.335,2,    2.083,2, 2153.700,2, 2292.200,2
           NA,     GNS,    332,   1,-999.0,       6,  2,19970429,0000,  67.1847,   -9.1221,  1486,    400.5,  -0.3008,   34.881,2,   34.883,2,    307.3,2,     7.51,2,    13.74,2,     0.01,2,     0.93,2,    3.975,2,    1.913,2, 2157.100,2, 2294.200,2
           NA,     GNS,    332,   1,-999.0,       4,  2,19970429,0000,  67.1847,   -9.1221,  1486,    799.3,  -0.6070,   34.898,2,   34.898,2,    298.6,2,     9.48,2,    14.16,2,     0.01,2,     0.95,2,    2.107,2,    0.981,2, 2146.400,2, 2297.200,2
           NA,     GNS,    332,   1,-999.0,       3,  2,19970429,0000,  67.1847,   -9.1221,  1486,    999.1,  -0.6756,   34.903,2,   34.903,2,    298.2,2,    10.24,2,    14.26,2,     0.00,2,     0.97,2,    1.624,2,    0.753,2, 2146.800,2, 2297.500,2
           NA,     GNS,    332,   1,-999.0,       2,  2,19970429,0000,  67.1847,   -9.1221,  1486,   1200.6,  -0.7211,   34.905,2,   34.905,2,    296.4,2,    10.88,2,    14.46,2,     0.01,2,     0.98,2,    1.285,2,    0.588,2, -999.000,3, 2299.100,2
           NA,     GNS,    332,   1,-999.0,       1,  2,19970429,0000,  67.1847,   -9.1221,  1486,   1475.5,  -0.8392,   34.907,2,   34.907,2,    293.8,2,    12.93,2,    14.96,2,     0.01,2,     1.01,2,    0.768,2,    0.368,2, 2165.500,2, 2303.800,2
           NA,     GNS,    333,   1,-999.0,      12,  2,19970429,0000,  67.4475,   -9.9656,  1616,     10.1,  -0.7855,   34.656,2,   34.661,2,    358.8,2,     3.19,2,     9.63,2,     0.06,2,     0.66,2, -999.000,9, -999.000,9, -999.000,9, 2272.600,2
           NA,     GNS,    333,   1,-999.0,      11,  2,19970429,0000,  67.4475,   -9.9656,  1616,     49.2,  -0.7849,   34.657,2,   34.661,2,    358.8,2,     3.22,2,     9.72,2,     0.06,2,     0.67,2, -999.000,9, -999.000,9, -999.000,9, 2274.800,2
           NA,     GNS,    333,   1,-999.0,      10,  2,19970429,0000,  67.4475,   -9.9656,  1616,     99.8,  -0.8093,   34.658,2,   34.661,2,    357.1,2,     3.40,2,     9.85,2,     0.06,2,     0.68,2, -999.000,9, -999.000,9, -999.000,9, -999.000,3
           NA,     GNS,    333,   1,-999.0,       9,  2,19970429,0000,  67.4475,   -9.9656,  1616,    149.8,  -0.4346,   34.746,2,   34.786,2,    330.0,2,     5.41,2,    12.15,2,     0.03,2,     0.83,2, -999.000,9, -999.000,9, -999.000,9, 2286.800,2
           NA,     GNS,    333,   1,-999.0,       8,  2,19970429,0000,  67.4475,   -9.9656,  1616,    198.4,  -0.0616,   34.847,2,   34.852,2,    314.7,2,     6.34,2,    13.14,2,     0.02,2,     0.89,2, -999.000,9, -999.000,9, -999.000,9, 2288.500,2
           NA,     GNS,    333,   1,-999.0,       7,  2,19970429,0000,  67.4475,   -9.9656,  1616,    299.0,  -0.1381,   34.875,2,   34.877,2,    306.4,2,     7.14,2,    13.80,2,     0.01,2,     0.93,2, -999.000,9, -999.000,9, -999.000,9, 2291.100,2
           NA,     GNS,    333,   1,-999.0,       6,  2,19970429,0000,  67.4475,   -9.9656,  1616,    500.2,  -0.4172,   34.884,2,   34.886,2,    303.4,2,     7.87,2,    13.82,2,     0.02,2,     0.94,2, -999.000,9, -999.000,9, -999.000,9, 2292.200,2
           NA,     GNS,    333,   1,-999.0,       5,  2,19970429,0000,  67.4475,   -9.9656,  1616,    799.9,  -0.6220,   34.899,2,   34.899,2,    297.3,2,     9.64,2,    14.19,2,     0.01,2,     0.96,2, -999.000,9, -999.000,9, -999.000,9, 2295.200,2
           NA,     GNS,    333,   1,-999.0,       4,  2,19970429,0000,  67.4475,   -9.9656,  1616,    998.1,  -0.6768,   34.902,2,   34.903,2,    296.4,2,    10.27,2,    14.30,2,     0.01,2,     0.98,2, -999.000,9, -999.000,9, -999.000,9, 2296.600,2
           NA,     GNS,    333,   1,-999.0,       3,  2,19970429,0000,  67.4475,   -9.9656,  1616,   1199.0,  -0.7117,   34.905,2,   34.904,2,    296.0,2,    10.77,2,    14.45,2,     0.01,2,     0.98,2, -999.000,9, -999.000,9, -999.000,9, 2296.700,2
           NA,     GNS,    333,   1,-999.0,       2,  2,19970429,0000,  67.4475,   -9.9656,  1616,   1494.6,  -0.8314,   34.907,2,   34.907,2,    293.4,2,    12.29,2,    14.88,2,     0.01,2,     1.03,2, -999.000,9, -999.000,9, -999.000,9, 2299.700,2
           NA,     GNS,    333,   1,-999.0,       1,  2,19970429,0000,  67.4475,   -9.9656,  1616,   1600.1,  -0.8514,   34.907,2,   34.907,2,    291.2,2,    12.99,2,    15.01,2,     0.01,2,     1.03,2, -999.000,9, -999.000,9, -999.000,9, 2299.100,2
           NA,     GNS,    334,   1,-999.0,      12,  2,19970429,0000,  67.7148,  -10.8696,  2050,      9.3,  -0.6142,   34.674,2,   34.688,2,    353.6,2,     3.46,2,     9.86,2,     0.07,2,     0.68,2,    7.203,2,    3.460,2, 2153.100,2, 2284.500,2
           NA,     GNS,    334,   1,-999.0,      11,  2,19970429,0000,  67.7148,  -10.8696,  2050,     48.6,  -0.4548,   34.706,2,   34.712,2,    352.7,2,     3.68,2,    10.12,2,     0.06,2,     0.70,2,    7.048,2,    3.372,2, 2149.400,2, 2290.300,2
           NA,     GNS,    334,   1,-999.0,      10,  2,19970429,0000,  67.7148,  -10.8696,  2050,     88.9,  -0.4401,   34.712,2,   34.715,2,    349.6,2,     3.76,2,    10.21,2,     0.07,2,     0.70,2,    7.021,2,    3.370,2, 2144.900,2, 2288.800,2
           NA,     GNS,    334,   1,-999.0,       9,  2,19970429,0000,  67.7148,  -10.8696,  2050,    148.2,  -0.2865,   34.757,2,   34.738,2,    348.8,2,     4.09,2,    10.57,2,     0.07,2,     0.72,2,    6.865,2,    3.336,2, 2148.500,2, 2288.800,2
           NA,     GNS,    334,   1,-999.0,       8,  2,19970429,0000,  67.7148,  -10.8696,  2050,    199.4,  -0.0615,   34.810,2,   34.790,2,    329.6,2,     5.33,2,    12.07,2,     0.04,2,     0.82,2,    6.140,2,    2.953,2, 2159.700,2, 2294.300,2
           NA,     GNS,    334,   1,-999.0,       7,  2,19970429,0000,  67.7148,  -10.8696,  2050,    298.9,  -0.1001,   34.870,2,   34.868,2,    310.4,2,     6.91,2,    13.69,2,     0.02,2,     0.94,2,    4.783,2,    2.322,2, -999.000,3, 2297.300,2
           NA,     GNS,    334,   1,-999.0,       6,  2,19970429,0000,  67.7148,  -10.8696,  2050,    497.6,  -0.4012,   34.887,2,   34.887,2,    307.3,2,     7.87,2,    13.84,2,     0.01,2,     0.93,2,    3.523,2,    1.718,2, 2163.600,2, 2300.200,2
           NA,     GNS,    334,   1,-999.0,       5,  2,19970429,0000,  67.7148,  -10.8696,  2050,    799.6,  -0.6086,   34.898,2,   34.898,2,    297.7,2,     9.44,2,    14.28,2,     0.01,2,     0.96,2,    2.033,2,    0.951,2, -999.000,9, 2301.200,2
           NA,     GNS,    334,   1,-999.0,       4,  2,19970429,0000,  67.7148,  -10.8696,  2050,    999.7,  -0.7072,   34.903,2,   34.903,2,    298.6,2,    10.19,2,    14.32,2,     0.01,2,     0.97,2,    1.514,2,    0.707,2, 2157.100,2, 2300.400,2
           NA,     GNS,    334,   1,-999.0,       3,  2,19970429,0000,  67.7148,  -10.8696,  2050,   1198.8,  -0.7627,   34.905,2,   34.905,2,    297.7,2,    10.80,2,    14.50,2,     0.01,2,     0.99,2,    1.144,2,    0.537,2, 2156.200,2, 2296.100,2
           NA,     GNS,    334,   1,-999.0,       2,  2,19970429,0000,  67.7148,  -10.8696,  2050,   1500.7,  -0.8375,   34.907,2,   34.907,2,    296.0,2,    11.69,2,    14.70,2,     0.00,2,     1.00,2,    0.821,2,    0.388,2, 2154.600,2, 2298.000,2
           NA,     GNS,    334,   1,-999.0,       1,  2,19970429,0000,  67.7148,  -10.8696,  2050,   1760.5,  -0.8666,   34.907,2,   34.907,2,    298.2,2,    12.51,2,    14.90,2,     0.00,2,     1.00,2,    0.704,2,    0.341,2, 2151.300,2, 2298.700,2