BOTTLE,20224407JOAExport
EXPOCODE,SECT_ID,STNNBR,CASTNO,SAMPNO,BTLNBR,BTLNBR_FLAG_W,DATE,TIME,LATITUDE,LONGITUDE,DEPTH,CTDPRS,CTDTMP,CTDSAL,CTDSAL_FLAG_W,SALNTY,SALNTY_FLAG_W,OXYGEN,OXYGEN_FLAG_W,SILCAT,SILCAT_FLAG_W,NITRAT,NITRAT_FLAG_W,NITRIT,NITRIT_FLAG_W,PHSPHT,PHSPHT_FLAG_W,CFC-11,CFC-11_FLAG_W,CFC-12,CFC-12_FLAG_W,TCARBN,TCARBN_FLAG_W,ALKALI,ALKALI_FLAG_W
,,,,,,,,,,,,DB,ITS-90,PSS-78,,PSS-78,,UMOL/KG,,UMOL/KG,,UMOL/KG,,UMOL/KG,,UMOL/KG,,PMOL/KG,,PMOL/KG,,UMOL/KG,,UMOL/KG
           NA,     GNS,    429,  99,-999.0,      12,  2,19970519,0000,  75.5000,   -2.0014,  3622,      9.3,  -1.5998,   34.751,2,   34.747,2,    364.5,2,     5.03,2,    10.59,2,     0.04,2,     0.73,2,    7.076,2,    3.486,2, 2153.500,2, -999.000,9
           NA,     GNS,    429,  99,-999.0,      11,  2,19970519,0000,  75.5000,   -2.0014,  3622,    200.5,  -1.0283,   34.859,2,   34.852,2,    330.0,2,     6.84,2,    13.13,2,     0.02,2,     0.88,2,    5.086,2,    2.521,2, 2146.700,2, 2292.100,2
           NA,     GNS,    429,  99,-999.0,      10,  2,19970519,0000,  75.5000,   -2.0014,  3622,    300.8,  -1.0610,   34.855,2,   34.855,2,    328.2,2,     6.90,2,    13.20,2,     0.02,2,     0.89,2,    5.034,2,    2.485,2, 2147.600,2, 2294.800,2
           NA,     GNS,    429,  99,-999.0,       8,  2,19970519,0000,  75.5000,   -2.0014,  3622,    400.4,  -0.8544,   34.870,2,   34.870,2,    323.9,2,     7.25,2,    13.53,2,     0.01,2,     0.91,2, -999.000,9, -999.000,9, -999.000,9, 2294.100,2
           NA,     GNS,    429,  99,-999.0,       7,  2,19970519,0000,  75.5000,   -2.0014,  3622,    450.4,  -0.8307, -999.000,9,   34.874,2,    323.0,2,     7.32,2,    13.58,2,     0.01,2,     0.92,2,    4.609,2,    2.271,2, -999.000,9, -999.000,9
           NA,     GNS,    429,  99,-999.0,       6,  2,19970519,0000,  75.5000,   -2.0014,  3622,    500.7,  -0.8135,   34.876,2,   34.876,2,    323.0,2,     7.40,2,    13.70,2,     0.01,2,     0.93,2, -999.000,9, -999.000,9, 2152.700,2, 2295.300,2
           NA,     GNS,    429,  99,-999.0,       5,  2,19970519,0000,  75.5000,   -2.0014,  3622,    550.8,  -0.8049, -999.000,9,   34.878,2,    322.6,2,     7.46,2,    13.67,2,     0.01,2,     0.92,2,    4.528,2,    2.228,2, -999.000,9, -999.000,9
           NA,     GNS,    429,  99,-999.0,       4,  2,19970519,0000,  75.5000,   -2.0014,  3622,    650.0,  -0.8565,   34.878,2,   34.877,2,    322.6,2,     7.53,2,    13.71,2,     0.01,2,     0.93,2,    4.477,2,    2.205,2, 2154.600,2, 2294.400,2
           NA,     GNS,    429,  99,-999.0,       3,  2,19970519,0000,  75.5000,   -2.0014,  3622,    751.5,  -0.8678,   34.878,2,   34.878,2,    321.7,2,     7.55,2,    13.70,2,     0.01,2,     0.93,2,    4.503,2,    2.229,2, 2149.500,2, 2296.500,2
           NA,     GNS,    429,  99,-999.0,       2,  2,19970519,0000,  75.5000,   -2.0014,  3622,    850.9,  -0.8893,   34.878,2,   34.878,2,    323.9,2,     7.56,2,    13.70,2,     0.01,2,     0.93,2,    4.512,2,    2.213,2, 2150.900,2, 2295.300,2
           NA,     GNS,    429,  99,-999.0,       1,  2,19970519,0000,  75.5000,   -2.0014,  3622,    950.2,  -0.8976,   34.879,2,   34.879,2,   -999.0,3,     7.63,2,    13.67,2,     0.01,2,     0.93,2,    4.403,2,    2.169,2, 2157.200,2, 2293.700,2
           NA,     GNS,    429,  99,-999.0,      12,  2,19970519,0000,  75.5000,   -2.0014,  3622,   1100.5,  -0.8940,   34.882,2,   34.882,2,    323.0,2,     7.79,2,    13.72,2,     0.01,2,     0.93,2, -999.000,9, -999.000,9, 2151.100,2, 2294.600,2
           NA,     GNS,    429,  99,-999.0,      11,  2,19970519,0000,  75.5000,   -2.0014,  3622,   1250.7,  -0.8575,   34.888,2,   34.887,2,    316.9,2,     8.34,2,    13.92,2,     0.01,2,     0.95,2,    3.487,2,    1.711,2, 2153.000,2, 2292.600,2
           NA,     GNS,    429,  99,-999.0,      10,  2,19970519,0000,  75.5000,   -2.0014,  3622,   1400.5,  -0.7846,   34.899,2,   34.899,2,    303.0,2,     9.67,2,    14.50,2,     0.01,2,     0.99,2,    1.944,2,    0.901,2, 2153.500,2, 2293.700,2
           NA,     GNS,    429,  99,-999.0,       9,  2,19970519,0000,  75.5000,   -2.0014,  3622,   1598.3,  -0.8212,   34.903,2,   34.903,2,    299.5,2,    10.45,2,    14.75,2,     0.01,2,     1.00,2,    1.279,2,    0.579,2, 2151.400,2, 2299.000,2
           NA,     GNS,    429,  99,-999.0,       8,  2,19970519,0000,  75.5000,   -2.0014,  3622,   1799.1,  -0.8816,   34.903,2,   34.903,2,    300.3,2,    10.69,2,    14.82,2,     0.01,2,     1.01,2,    1.117,2,    0.512,2, 2152.100,2, 2299.200,2
           NA,     GNS,    429,  99,-999.0,       7,  2,19970519,0000,  75.5000,   -2.0014,  3622,   1999.6,  -0.9151,   34.903,2,   34.903,2,    301.2,2,    10.91,2,    14.83,2,     0.01,2,     1.01,2,    1.021,2,    0.465,2, 2148.900,2, 2298.900,2
           NA,     GNS,    429,  99,-999.0,       6,  2,19970519,0000,  75.5000,   -2.0014,  3622,   2399.8,  -0.9514,   34.904,2,   34.903,2,    302.1,2,    11.25,2,    14.89,2,     0.01,2,     1.01,2,    0.865,2,    0.398,2, 2154.200,2, 2298.800,2
           NA,     GNS,    429,  99,-999.0,       5,  2,19970519,0000,  75.5000,   -2.0014,  3622,   2700.0,  -0.9693,   34.902,2,   34.902,2,    303.4,2,    11.48,2,    14.90,2,     0.02,2,     1.02,2,    0.814,2,    0.374,2, 2154.800,2, 2296.800,2
           NA,     GNS,    429,  99,-999.0,       4,  2,19970519,0000,  75.5000,   -2.0014,  3622,   3000.2,  -0.9769,   34.901,2,   34.900,2,    304.3,2,    11.63,2,    14.97,2,     0.01,2,     1.01,2,    0.791,2,    0.369,2, 2155.400,2, 2296.500,2
           NA,     GNS,    429,  99,-999.0,       3,  2,19970519,0000,  75.5000,   -2.0014,  3622,   3350.1,  -0.9733,   34.899,2,   34.899,2,    305.6,2,    11.83,2,    14.92,2,     0.01,2,     1.01,2,    0.772,2,    0.363,2, 2152.500,2, 2297.000,2
           NA,     GNS,    429,  99,-999.0,       2,  2,19970519,0000,  75.5000,   -2.0014,  3622,   3500.4,  -0.9653,   34.899,2,   34.899,2,    305.1,2,    11.93,2,    14.93,2,     0.01,2,     1.01,2,    0.767,2,    0.356,2, 2161.700,2, 2296.900,2
           NA,     GNS,    429,  99,-999.0,       1,  2,19970519,0000,  75.5000,   -2.0014,  3622,   3611.6,  -0.9571,   34.899,2,   34.899,2,    305.6,2,    12.01,2,    14.96,2,     0.01,2,     1.00,2,    0.763,2,    0.353,2, 2161.400,2, 2297.200,2
           NA,     GNS,    432,  99,-999.0,      20,  2,19970520,0000,  75.5005,    1.9960,  3010,      4.9,  -1.4310, -999.000,9,   34.691,2,   -999.0,9,     5.03,2,    10.85,2,     0.03,2,     0.76,2, -999.000,9, -999.000,9, -999.000,9, -999.000,9
           NA,     GNS,    432,  99,-999.0,      11,  2,19970520,0000,  75.5005,    1.9960,  3010,      9.6,  -1.4019,   34.724,2,   34.728,2,    360.1,2,     4.99,2,    10.89,2,     0.04,2,     0.77,2,    7.146,2,    3.467,2, 2152.600,2, 2285.000,2
           NA,     GNS,    432,  99,-999.0,      19,  2,19970520,0000,  75.5005,    1.9960,  3010,     10.1,  -1.4420, -999.000,9,   34.692,2,   -999.0,9,     5.04,2,    10.86,2,     0.04,2,     0.76,2, -999.000,9, -999.000,9, -999.000,9, -999.000,9
           NA,     GNS,    432,  99,-999.0,      18,  2,19970520,0000,  75.5005,    1.9960,  3010,     10.2,  -1.4410, -999.000,9,   34.692,2,   -999.0,9,     5.05,2,    10.85,2,     0.04,2,     0.77,2, -999.000,9, -999.000,9, -999.000,9, -999.000,9
           NA,     GNS,    432,  99,-999.0,      17,  2,19970520,0000,  75.5005,    1.9960,  3010,     14.8,  -1.4440, -999.000,9,   34.692,2,   -999.0,9,     5.05,2,    10.89,2,     0.04,2,     0.76,2, -999.000,9, -999.000,9, -999.000,9, -999.000,9
           NA,     GNS,    432,  99,-999.0,      16,  2,19970520,0000,  75.5005,    1.9960,  3010,     20.1,  -1.4440, -999.000,9,   34.692,2,   -999.0,9,     5.06,2,    10.91,2,     0.04,2,     0.76,2, -999.000,9, -999.000,9, -999.000,9, -999.000,9
           NA,     GNS,    432,  99,-999.0,      15,  2,19970520,0000,  75.5005,    1.9960,  3010,     24.8,  -1.4450, -999.000,9,   34.693,2,   -999.0,9,     5.01,2,    10.84,2,     0.04,2,     0.76,2, -999.000,9, -999.000,9, -999.000,9, -999.000,9
           NA,     GNS,    432,  99,-999.0,      14,  2,19970520,0000,  75.5005,    1.9960,  3010,     29.9,  -1.4420, -999.000,9,   34.694,2,   -999.0,9,     5.06,2,    10.90,2,     0.04,2,     0.77,2, -999.000,9, -999.000,9, -999.000,9, -999.000,9
           NA,     GNS,    432,  99,-999.0,      13,  2,19970520,0000,  75.5005,    1.9960,  3010,     30.0,  -1.4430, -999.000,9,   34.694,2,   -999.0,9,     5.04,2,    10.89,2,     0.04,2,     0.77,2, -999.000,9, -999.000,9, -999.000,9, -999.000,9
           NA,     GNS,    432,  99,-999.0,      12,  2,19970520,0000,  75.5005,    1.9960,  3010,     35.0,  -1.4570, -999.000,9,   34.699,2,   -999.0,9,     5.06,2,    10.88,2,     0.04,2,     0.76,2, -999.000,9, -999.000,9, -999.000,9, -999.000,9
           NA,     GNS,    432,  99,-999.0,      11,  2,19970520,0000,  75.5005,    1.9960,  3010,     40.0,  -1.4600, -999.000,9,   34.700,2,   -999.0,9,     5.09,2,    10.91,2,     0.04,2,     0.76,2, -999.000,9, -999.000,9, -999.000,9, -999.000,9
           NA,     GNS,    432,  99,-999.0,      10,  2,19970520,0000,  75.5005,    1.9960,  3010,     49.9,  -1.4670, -999.000,9,   34.702,2,   -999.0,9,     5.05,2,    10.91,2,     0.04,2,     0.76,2, -999.000,9, -999.000,9, -999.000,9, -999.000,9
           NA,     GNS,    432,  99,-999.0,      10,  2,19970520,0000,  75.5005,    1.9960,  3010,     50.5,  -1.4650,   34.724,2,   34.740,2,    359.7,2,     5.04,2,    10.96,2,     0.04,2,     0.78,2,    7.107,2,    3.435,2, 2140.600,2, 2283.500,2
           NA,     GNS,    432,  99,-999.0,       9,  2,19970520,0000,  75.5005,    1.9960,  3010,     59.8,  -1.4670, -999.000,9,   34.705,2,   -999.0,9,     5.04,2,    10.86,2,     0.04,2,     0.77,2, -999.000,9, -999.000,9, -999.000,9, -999.000,9
           NA,     GNS,    432,  99,-999.0,       8,  2,19970520,0000,  75.5005,    1.9960,  3010,     59.9,  -1.4660, -999.000,9,   34.704,2,   -999.0,9,     5.04,2,    10.86,2,     0.04,2,     0.77,2, -999.000,9, -999.000,9, -999.000,9, -999.000,9
           NA,     GNS,    432,  99,-999.0,       7,  2,19970520,0000,  75.5005,    1.9960,  3010,     80.2,  -1.5660, -999.000,9,   34.712,2,   -999.0,9,     5.21,2,    11.29,2,     0.03,2,     0.79,2, -999.000,9, -999.000,9, -999.000,9, -999.000,9
           NA,     GNS,    432,  99,-999.0,       6,  2,19970520,0000,  75.5005,    1.9960,  3010,     90.0,  -1.5490, -999.000,9,   34.722,2,   -999.0,9,     5.21,2,    11.42,2,     0.03,2,     0.80,2, -999.000,9, -999.000,9, -999.000,9, -999.000,9
           NA,     GNS,    432,  99,-999.0,       5,  2,19970520,0000,  75.5005,    1.9960,  3010,     99.9,  -1.4820, -999.000,9,   34.731,2,   -999.0,9,     5.32,2,    11.59,2,     0.03,2,     0.80,2, -999.000,9, -999.000,9, -999.000,9, -999.000,9
           NA,     GNS,    432,  99,-999.0,       9,  2,19970520,0000,  75.5005,    1.9960,  3010,    100.3,  -1.6215,   34.744,2,   34.764,2,    352.7,2,     5.27,2,    11.58,2,     0.03,2,     0.81,2,    6.820,2,    3.288,2, 2143.000,2, 2285.800,2
           NA,     GNS,    432,  99,-999.0,       3,  2,19970520,0000,  75.5005,    1.9960,  3010,    200.4,  -0.7090, -999.000,9,   34.780,2,   -999.0,9,     6.49,2,    12.93,2,     0.03,2,     0.89,2, -999.000,9, -999.000,9, -999.000,9, -999.000,9
           NA,     GNS,    432,  99,-999.0,       2,  2,19970520,0000,  75.5005,    1.9960,  3010,    250.8,  -0.3290, -999.000,9,   34.846,2,   -999.0,9,     6.99,2,    13.51,2,     0.01,2,     0.92,2, -999.000,9, -999.000,9, -999.000,9, -999.000,9
           NA,     GNS,    432,  99,-999.0,       8,  2,19970520,0000,  75.5005,    1.9960,  3010,    299.8,  -0.3188,   34.864,2,   34.882,2,    313.9,2,     7.21,2,    13.69,2,     0.02,2,     0.94,2,    4.043,2,    1.950,2, 2150.300,2, 2292.500,2
           NA,     GNS,    432,  99,-999.0,       1,  2,19970520,0000,  75.5005,    1.9960,  3010,    301.4,  -0.4890, -999.000,9,   34.844,2,   -999.0,9,     6.95,2,    13.50,2,     0.02,2,     0.93,2, -999.000,9, -999.000,9, -999.000,9, -999.000,9
           NA,     GNS,    432,  99,-999.0,       7,  2,19970520,0000,  75.5005,    1.9960,  3010,    399.9,  -0.5254,   34.882,2,   34.880,2,    319.5,2,     7.17,2,    13.68,2,     0.01,2,     0.94,2,    4.510,2,    2.179,2, 2150.100,2, 2293.700,2
           NA,     GNS,    432,  99,-999.0,       6,  2,19970520,0000,  75.5005,    1.9960,  3010,    450.2,  -0.5263, -999.000,9,   34.885,2,    316.9,2,     7.41,2,    13.82,2,     0.01,2,     0.95,2, -999.000,9, -999.000,9, -999.000,9, -999.000,9
           NA,     GNS,    432,  99,-999.0,       5,  2,19970520,0000,  75.5005,    1.9960,  3010,    499.9,  -0.5839,   34.885,2,   34.885,2,    317.3,2,     7.53,2,    13.86,2,     0.01,2,     0.95,2,    4.253,2,    2.042,2, 2153.500,2, 2293.600,2
           NA,     GNS,    432,  99,-999.0,       4,  2,19970520,0000,  75.5005,    1.9960,  3010,    550.4,  -0.6259, -999.000,9,   34.885,2,    317.3,2,     7.59,2,    13.90,2,     0.01,2,     0.96,2, -999.000,9, -999.000,9, -999.000,9, -999.000,9
           NA,     GNS,    432,  99,-999.0,       3,  2,19970520,0000,  75.5005,    1.9960,  3010,    600.6,  -0.6629,   34.883,2,   34.885,2,    317.8,2,     7.64,2,    13.88,2,     0.01,2,     0.96,2,    4.208,2,    2.017,2, 2154.200,2, 2293.400,2
           NA,     GNS,    432,  99,-999.0,       2,  2,19970520,0000,  75.5005,    1.9960,  3010,    649.9,  -0.7193, -999.000,9,   34.883,2,    317.3,2,     7.73,2,    13.97,2,     0.01,2,     0.96,2, -999.000,9, -999.000,9, -999.000,9, -999.000,9
           NA,     GNS,    432,  99,-999.0,       1,  2,19970520,0000,  75.5005,    1.9960,  3010,    702.6,  -0.7776,   34.882,2,   34.882,2,    317.8,2,     7.75,2,    13.96,2,     0.01,2,     0.96,2,    4.224,2,    2.017,2, 2149.800,2, 2291.900,2
           NA,     GNS,    432,  99,-999.0,      12,  2,19970520,0000,  75.5005,    1.9960,  3010,    750.0,  -0.7999, -999.000,9,   34.881,2,    317.8,2,     7.77,2,    13.99,2,     0.01,2,     0.96,2, -999.000,9, -999.000,9, -999.000,9, -999.000,9
           NA,     GNS,    432,  99,-999.0,      11,  2,19970520,0000,  75.5005,    1.9960,  3010,    800.6,  -0.8126,   34.882,2,   34.882,2,    317.8,2,     7.85,2,    14.03,2,     0.01,2,     0.96,2,    4.133,2,    1.967,2, 2153.700,2, 2293.000,2
           NA,     GNS,    432,  99,-999.0,      10,  2,19970520,0000,  75.5005,    1.9960,  3010,    900.2,  -0.8374,   34.883,2,   34.883,2,    316.5,2,     8.06,2,    14.06,2,     0.01,2,     0.96,2,    3.817,2,    1.825,2, 2153.800,2, 2293.000,2
           NA,     GNS,    432,  99,-999.0,       9,  2,19970520,0000,  75.5005,    1.9960,  3010,   1000.3,  -0.8469,   34.886,2,   34.884,2,    319.1,2,     8.17,2,    14.09,2,     0.02,2,     0.97,2,    3.775,2,    1.805,2, 2158.100,2, 2294.100,2
           NA,     GNS,    432,  99,-999.0,       8,  2,19970520,0000,  75.5005,    1.9960,  3010,   1199.7,  -0.7872,   34.897,2,   34.897,2,    304.3,2,     9.47,2,    14.67,2,     0.01,2,     1.00,2,    2.237,2,    1.032,2, 2151.000,2, 2294.400,2
           NA,     GNS,    432,  99,-999.0,       7,  2,19970520,0000,  75.5005,    1.9960,  3010,   1400.3,  -0.7980,   34.904,2,   34.903,2,    299.0,2,    10.44,2,    14.96,2,     0.01,2,     1.03,2,    1.343,2,    0.603,2, 2160.600,2, 2294.300,2
           NA,     GNS,    432,  99,-999.0,       6,  2,19970520,0000,  75.5005,    1.9960,  3010,   1699.9,  -0.8770,   34.905,2,   34.905,2,    299.0,2,    10.99,2,    15.11,2,     0.01,2,     1.03,2,    0.952,2,    0.431,2, 2159.300,2, 2294.000,2
           NA,     GNS,    432,  99,-999.0,       5,  2,19970520,0000,  75.5005,    1.9960,  3010,   2000.1,  -0.9186,   34.905,2,   34.905,2,    299.0,2,    11.35,2,    15.12,2,     0.01,2,  -999.00,9,    0.828,2,    0.386,2, -999.000,3, 2295.500,2
           NA,     GNS,    432,  99,-999.0,       4,  2,19970520,0000,  75.5005,    1.9960,  3010,   2300.1,  -0.9378,   34.905,2,   34.905,2,    300.8,2,    11.58,2,    15.13,2,     0.01,2,     1.04,2,    0.763,2,    0.353,2, 2154.900,2, 2295.600,2
           NA,     GNS,    432,  99,-999.0,       3,  2,19970520,0000,  75.5005,    1.9960,  3010,   2700.0,  -0.9623,   34.903,2,   34.903,2,    302.1,2,    11.78,2,    15.16,2,     0.01,2,     1.03,2,    0.782,2,    0.359,2, 2148.800,2, 2294.900,2
           NA,     GNS,    432,  99,-999.0,       2,  2,19970520,0000,  75.5005,    1.9960,  3010,   2800.1,  -0.9662,   34.902,2,   34.902,2,    303.0,2,    11.76,2,    15.17,2,     0.01,2,     1.03,2,    0.783,2,    0.366,2, 2154.100,2, 2295.500,2
           NA,     GNS,    432,  99,-999.0,       1,  2,19970520,0000,  75.5005,    1.9960,  3010,   2901.1,  -0.9663,   34.902,2,   34.901,2,    303.8,2,    11.82,2,    15.12,2,     0.01,2,     1.02,2,    0.783,2,    0.363,2, 2150.100,2, 2295.000,2
           NA,     GNS,    435,   1,-999.0,      12,  2,19970520,0000,  76.0007,    3.9993,  2995,      8.6,  -0.8023,   34.744,2,   34.748,2,    354.9,2,     4.77,2,    10.32,2,     0.04,2,     0.72,2, -999.000,9, -999.000,9, -999.000,9, 2292.600,2
           NA,     GNS,    435,   1,-999.0,      11,  2,19970520,0000,  76.0007,    3.9993,  2995,    200.1,   0.2752,   34.870,2,   34.871,2,    311.2,2,     6.62,2,    12.95,2,     0.03,2,     0.89,2,    4.437,2,    2.147,2, -999.000,9, 2295.800,2
           NA,     GNS,    435,   1,-999.0,      10,  2,19970520,0000,  76.0007,    3.9993,  2995,    450.1,  -0.3634,   34.887,2,   34.889,2,    310.4,2,     7.48,2,    13.53,2,     0.04,2,     0.94,2,    3.712,2,    1.830,2, -999.000,9, 2295.200,2
           NA,     GNS,    435,   1,-999.0,       8,  2,19970520,0000,  76.0007,    3.9993,  2995,    600.2,  -0.6268,   34.883,2,   34.884,2,    317.8,2,     7.48,2,    13.46,2,     0.03,2,     0.93,2, -999.000,9, -999.000,9, -999.000,9, 2293.900,2
           NA,     GNS,    435,   1,-999.0,       6,  2,19970520,0000,  76.0007,    3.9993,  2995,    700.3,  -0.6977,   34.884,2,   34.884,2,    317.3,2,     7.81,2,    13.65,2,     0.01,2,     0.94,2, -999.000,9, -999.000,9, -999.000,9, 2297.000,2
           NA,     GNS,    435,   1,-999.0,       4,  2,19970520,0000,  76.0007,    3.9993,  2995,    850.2,  -0.8047,   34.882,2,   34.882,2,    317.3,2,     7.83,2,    13.58,2,     0.01,2,     0.94,2,    3.947,2,    1.934,2, -999.000,9, 2293.200,2
           NA,     GNS,    435,   1,-999.0,       3,  2,19970520,0000,  76.0007,    3.9993,  2995,   1000.0,  -0.8378,   34.883,2,   34.883,2,    317.8,2,     7.96,2,    13.60,2,     0.01,2,     0.95,2,    3.849,2,    1.887,2, -999.000,9, 2294.300,2
           NA,     GNS,    435,   1,-999.0,       2,  2,19970520,0000,  76.0007,    3.9993,  2995,   1499.5,  -0.8014,   34.905,2,   34.904,2,    298.6,2,    10.46,2,    14.54,2,     0.02,2,     1.01,2,    1.194,2,    0.544,2, -999.000,9, 2297.100,2
           NA,     GNS,    435,   1,-999.0,       1,  2,19970520,0000,  76.0007,    3.9993,  2995,   2000.6,  -0.9048,   34.906,2,   34.905,2,    298.2,2,    11.25,2,    14.69,2,     0.02,2,     1.02,2,    0.820,2,    0.388,2, -999.000,9, 2296.000,2