BOTTLE,20224407JOAExport
EXPOCODE,SECT_ID,STNNBR,CASTNO,SAMPNO,BTLNBR,BTLNBR_FLAG_W,DATE,TIME,LATITUDE,LONGITUDE,DEPTH,CTDPRS,CTDTMP,CTDSAL,CTDSAL_FLAG_W,SALNTY,SALNTY_FLAG_W,OXYGEN,OXYGEN_FLAG_W,SILCAT,SILCAT_FLAG_W,NITRAT,NITRAT_FLAG_W,NITRIT,NITRIT_FLAG_W,PHSPHT,PHSPHT_FLAG_W,CFC-11,CFC-11_FLAG_W,CFC-12,CFC-12_FLAG_W,TCARBN,TCARBN_FLAG_W,ALKALI,ALKALI_FLAG_W
,,,,,,,,,,,,DB,ITS-90,PSS-78,,PSS-78,,UMOL/KG,,UMOL/KG,,UMOL/KG,,UMOL/KG,,UMOL/KG,,PMOL/KG,,PMOL/KG,,UMOL/KG,,UMOL/KG
           NA,     GNS,    400,  99,-999.0,      16,  2,19970514,0000,  73.5000,    1.9997,  3313,    100.0,  -1.6860, -999.000,9,   34.695,2,    332.6,2,     5.13,2,    10.72,2,     0.04,2,     0.72,2, -999.000,9, -999.000,9, -999.000,9, -999.000,9
           NA,     GNS,    400,  99,-999.0,      14,  2,19970514,0000,  73.5000,    1.9997,  3313,    200.6,  -0.9330, -999.000,9,   34.813,2,    309.9,2,     6.15,2,    12.21,2,     0.04,2,     0.81,2, -999.000,9, -999.000,9, -999.000,9, -999.000,9
           NA,     GNS,    400,  99,-999.0,      12,  2,19970514,0000,  73.5000,    1.9997,  3313,    300.7,  -0.1580, -999.000,9,   34.882,2,    307.8,2,     6.96,2,    13.05,2,     0.02,2,     0.87,2, -999.000,9, -999.000,9, -999.000,9, -999.000,9
           NA,     GNS,    400,  99,-999.0,      10,  2,19970514,0000,  73.5000,    1.9997,  3313,    400.4,  -0.2050, -999.000,9,   34.894,2,    311.7,2,     7.30,2,    13.29,2,     0.01,2,     0.89,2, -999.000,9, -999.000,9, -999.000,9, -999.000,9
           NA,     GNS,    400,  99,-999.0,       8,  2,19970514,0000,  73.5000,    1.9997,  3313,    499.6,  -0.3670, -999.000,9,   34.895,2,    312.5,2,     7.44,2,    13.35,2,     0.01,2,     0.88,2, -999.000,9, -999.000,9, -999.000,9, -999.000,9
           NA,     GNS,    400,  99,-999.0,       6,  2,19970514,0000,  73.5000,    1.9997,  3313,    550.2,  -0.4410, -999.000,9,   34.894,2,   -999.0,9,     7.57,2,    13.43,2,     0.01,2,     0.89,2, -999.000,9, -999.000,9, -999.000,9, -999.000,9
           NA,     GNS,    400,  99,-999.0,       5,  2,19970514,0000,  73.5000,    1.9997,  3313,    575.2,  -0.4759, -999.000,9,   34.893,2,   -999.0,9,     7.66,2,    13.45,2,     0.01,2,     0.89,2, -999.000,9, -999.000,9, -999.000,9, -999.000,9
           NA,     GNS,    400,  99,-999.0,       4,  2,19970514,0000,  73.5000,    1.9997,  3313,    600.0,  -0.5018, -999.000,9,   34.893,2,   -999.0,9,     7.72,2,    13.50,2,     0.01,2,     0.90,2,    3.646,2,    1.758,2, -999.000,9, -999.000,9
           NA,     GNS,    400,  99,-999.0,      12,  2,19970514,0000,  73.5000,    1.9997,  3313,    601.6,  -0.5244,   34.893,2,   34.892,2,    317.8,2,     7.75,2,    13.47,2,     0.01,2,     0.90,2, -999.000,9, -999.000,9, 2155.700,2, 2299.900,2
           NA,     GNS,    400,  99,-999.0,       3,  2,19970514,0000,  73.5000,    1.9997,  3313,    649.7,  -0.5871, -999.000,9,   34.890,2,   -999.0,9,     7.80,2,    13.54,2,     0.01,2,     0.91,2, -999.000,9, -999.000,9, -999.000,9, -999.000,9
           NA,     GNS,    400,  99,-999.0,       2,  2,19970514,0000,  73.5000,    1.9997,  3313,    700.3,  -0.6170, -999.000,9,   34.891,2,   -999.0,9,     7.95,2,    13.60,2,     0.02,2,     0.91,2,    3.546,2,    1.711,2, -999.000,9, -999.000,9
           NA,     GNS,    400,  99,-999.0,       1,  2,19970514,0000,  73.5000,    1.9997,  3313,    753.9,  -0.6547, -999.000,9,   34.890,2,   -999.0,9,     8.02,2,    13.66,2,     0.01,2,     0.91,2, -999.000,9, -999.000,9, -999.000,9, -999.000,9
           NA,     GNS,    400,  99,-999.0,      11,  2,19970514,0000,  73.5000,    1.9997,  3313,    801.0,  -0.7372,   34.889,2,   34.886,2,    318.2,2,     7.95,2,    13.56,2,     0.01,2,     0.90,2,    3.744,2,    1.809,2, 2150.600,2, 2300.700,2
           NA,     GNS,    400,  99,-999.0,      10,  2,19970514,0000,  73.5000,    1.9997,  3313,    900.3,  -0.7980,   34.885,2,   34.885,2,    315.2,2,     8.01,2,    13.60,2,     0.01,2,     0.91,2,    3.779,2,    1.822,2, 2158.200,2, 2298.500,2
           NA,     GNS,    400,  99,-999.0,       9,  2,19970514,0000,  73.5000,    1.9997,  3313,   1000.3,  -0.8127,   34.886,2,   34.886,2,    315.2,2,     8.17,2,    13.64,2,     0.01,2,     0.90,2, -999.000,9, -999.000,9, 2157.500,2, 2297.600,2
           NA,     GNS,    400,  99,-999.0,       8,  2,19970514,0000,  73.5000,    1.9997,  3313,   1100.6,  -0.8099, -999.000,9,   34.890,2,    309.5,2,     8.53,2,    13.76,2,     0.01,2,     0.92,2,    3.196,2,    1.537,2, -999.000,9, -999.000,9
           NA,     GNS,    400,  99,-999.0,       7,  2,19970514,0000,  73.5000,    1.9997,  3313,   1200.4,  -0.7763,   34.895,2,   34.896,2,    298.2,2,     9.05,2,    13.95,2,     0.01,2,     0.94,2,    2.563,2,    1.213,2, 2160.900,2, 2299.100,2
           NA,     GNS,    400,  99,-999.0,       6,  2,19970514,0000,  73.5000,    1.9997,  3313,   1400.5,  -0.7719,   34.905,2,   34.905,2,    301.6,2,    10.24,2,    14.39,2,     0.01,2,     0.96,2,    1.343,2,    0.606,2, 2160.300,2, 2301.000,2
           NA,     GNS,    400,  99,-999.0,       5,  2,19970514,0000,  73.5000,    1.9997,  3313,   1600.3,  -0.8234,   34.906,2,   34.906,2,    297.3,2,    10.63,2,    14.52,2,     0.01,2,     0.97,2,    1.082,2,    0.501,2, 2156.700,2, 2304.500,2
           NA,     GNS,    400,  99,-999.0,       4,  2,19970514,0000,  73.5000,    1.9997,  3313,   1801.4,  -0.8739,   34.906,2,   34.905,2,    304.7,2,    10.95,2,    14.62,2,     0.02,2,     0.98,2,    0.951,2,    0.433,2, 2157.900,2, 2304.200,2
           NA,     GNS,    400,  99,-999.0,       3,  2,19970514,0000,  73.5000,    1.9997,  3313,   2000.9,  -0.9002,   34.906,2,   34.906,2,    303.4,2,    11.16,2,    14.67,2,     0.01,2,     0.99,2,    0.881,2,    0.407,2, 2154.800,2, 2301.300,2
           NA,     GNS,    400,  99,-999.0,       2,  2,19970514,0000,  73.5000,    1.9997,  3313,   2500.4,  -0.9465,   34.905,2,   34.904,2,    304.3,2,    11.44,2,    14.62,2,     0.01,2,     0.97,2,    0.802,2,    0.373,2, 2154.700,2, 2299.900,2
           NA,     GNS,    400,  99,-999.0,       1,  2,19970514,0000,  73.5000,    1.9997,  3313,   3302.6,  -0.9487,   34.901,2,   34.901,2,    303.8,2,    11.86,2,    14.70,2,     0.02,2,     0.97,2,    0.785,2,    0.369,2, 2157.200,2, 2303.600,2
           NA,     GNS,    402,  99,-999.0,      12,  2,19970514,0000,  73.9997,    1.9993,  3384,     10.7,  -1.6004,   34.638,2,   34.640,2,    364.9,2,     4.39,2,     9.79,2,     0.04,2,     0.65,2,    6.928,2,    3.515,2, 2139.100,2, 2281.800,2
           NA,     GNS,    402,  99,-999.0,      11,  2,19970514,0000,  73.9997,    1.9993,  3384,    100.9,  -1.7609,   34.704,2,   34.715,2,    353.1,2,     5.36,2,    10.91,2,     0.04,2,     0.74,2,    6.420,2,    3.274,2, 2155.700,2, 2287.100,2
           NA,     GNS,    402,  99,-999.0,      10,  2,19970514,0000,  73.9997,    1.9993,  3384,    200.0,  -0.1417,   34.876,2,   34.859,2,    316.0,2,     6.60,2,    12.74,2,     0.02,2,     0.85,2,    4.219,2,    2.155,2, 2151.900,2, -999.000,3
           NA,     GNS,    402,  99,-999.0,       9,  2,19970514,0000,  73.9997,    1.9993,  3384,    300.4,  -0.0105,   34.890,2,   34.896,2,    308.2,2,     7.23,2,    13.17,2,     0.02,2,     0.88,2,    3.350,2,    1.683,2, 2154.500,2, 2290.900,2
           NA,     GNS,    402,  99,-999.0,       8,  2,19970514,0000,  73.9997,    1.9993,  3384,    400.5,  -0.2456,   34.895,2,   34.896,2,    312.1,2,     7.35,2,    13.26,2,     0.02,2,     0.89,2,    3.537,2,    1.786,2, 2158.500,2, 2295.300,2
           NA,     GNS,    402,  99,-999.0,       7,  2,19970514,0000,  73.9997,    1.9993,  3384,    451.0,  -0.3444, -999.000,9,   34.895,2,    313.9,2,     7.38,2,    13.27,2,     0.01,2,     0.89,2, -999.000,9, -999.000,9, -999.000,9, -999.000,9
           NA,     GNS,    402,  99,-999.0,       6,  2,19970514,0000,  73.9997,    1.9993,  3384,    500.5,  -0.5175,   34.888,2,   34.888,2,    315.6,2,     7.47,2,    13.42,2,     0.01,2,     0.89,2,    3.837,2,    1.935,2, 2163.500,2, -999.000,3
           NA,     GNS,    402,  99,-999.0,       5,  2,19970514,0000,  73.9997,    1.9993,  3384,    550.6,  -0.5646, -999.000,9,   34.887,2,    315.2,2,     7.65,2,    13.52,2,     0.01,2,     0.90,2, -999.000,9, -999.000,9, -999.000,9, -999.000,9
           NA,     GNS,    402,  99,-999.0,       4,  2,19970514,0000,  73.9997,    1.9993,  3384,    600.6,  -0.6732,   34.884,2,   34.884,2,    316.5,2,     7.66,2,    13.53,2,     0.01,2,     0.90,2,    3.850,2,    1.939,2, 2163.200,2, 2292.500,2
           NA,     GNS,    402,  99,-999.0,       3,  2,19970514,0000,  73.9997,    1.9993,  3384,    625.3,  -0.7071, -999.000,9,   34.882,2,    317.8,2,     7.64,2,    13.52,2,     0.01,2,     0.91,2, -999.000,9, -999.000,9, -999.000,9, -999.000,9
           NA,     GNS,    402,  99,-999.0,       2,  2,19970514,0000,  73.9997,    1.9993,  3384,    650.4,  -0.7349, -999.000,9,   34.882,2,    318.2,2,     7.65,2,    13.56,2,     0.02,2,     0.90,2, -999.000,9, -999.000,9, -999.000,9, -999.000,9
           NA,     GNS,    402,  99,-999.0,       1,  2,19970514,0000,  73.9997,    1.9993,  3384,    701.3,  -0.7666,   34.881,2,   34.881,2,    319.1,2,     7.67,2,    13.62,2,     0.02,2,     0.91,2,    3.997,2,    2.024,2, 2161.400,2, 2291.800,2
           NA,     GNS,    402,  99,-999.0,      12,  2,19970514,0000,  73.9997,    1.9993,  3384,    800.7,  -0.8342,   34.880,2,   34.880,2,    320.8,2,     7.65,2,    13.53,2,     0.01,2,     0.90,2,    4.074,2,    2.064,2, 2150.600,2, 2292.000,2
           NA,     GNS,    402,  99,-999.0,      11,  2,19970514,0000,  73.9997,    1.9993,  3384,    900.4,  -0.8488, -999.000,9,   34.881,2,    320.4,2,     7.80,2,    13.54,2,     0.01,2,     0.91,2,    3.981,2,    2.018,2, -999.000,9, -999.000,9
           NA,     GNS,    402,  99,-999.0,      10,  2,19970514,0000,  73.9997,    1.9993,  3384,   1001.1,  -0.8443,   34.884,2,   34.884,2,    317.8,2,     8.09,2,    13.66,2,     0.02,2,     0.92,2, -999.000,9, -999.000,9, 2152.100,2, -999.000,3
           NA,     GNS,    402,  99,-999.0,       9,  2,19970514,0000,  73.9997,    1.9993,  3384,   1100.3,  -0.8319, -999.000,9,   34.888,2,    315.2,2,     8.41,2,    13.79,2,     0.01,2,     0.93,2, -999.000,9,    1.627,2, -999.000,9, -999.000,9
           NA,     GNS,    402,  99,-999.0,       8,  2,19970514,0000,  73.9997,    1.9993,  3384,   1201.1,  -0.7894,   34.896,2,   34.896,2,    306.9,2,     9.22,2,    14.13,2,     0.01,2,     0.95,2,    2.437,2,    1.137,2, 2149.800,2, 2292.100,2
           NA,     GNS,    402,  99,-999.0,       7,  2,19970514,0000,  73.9997,    1.9993,  3384,   1401.0,  -0.7874,   34.904,2,   34.904,2,    299.9,2,    10.26,2,    14.51,2,     0.01,2,     0.98,2,    1.355,2,    0.612,2, 2157.900,2, 2293.100,2
           NA,     GNS,    402,  99,-999.0,       6,  2,19970514,0000,  73.9997,    1.9993,  3384,   1598.9,  -0.8496,   34.905,2,   34.904,2,    299.9,2,    10.67,2,    14.63,2,     0.02,2,     0.98,2,    1.120,2,    0.510,2, 2161.900,2, 2294.600,2
           NA,     GNS,    402,  99,-999.0,       5,  2,19970514,0000,  73.9997,    1.9993,  3384,   1800.4,  -0.8999,   34.905,2,   34.904,2,    300.3,2,    10.94,2,    14.67,2,     0.02,2,     0.97,2,    0.995,2,    0.459,2, 2150.800,2, 2300.500,2
           NA,     GNS,    402,  99,-999.0,       4,  2,19970514,0000,  73.9997,    1.9993,  3384,   2000.8,  -0.9242,   34.905,2,   34.904,2,    301.2,2,    11.10,2,    14.68,2,     0.02,2,     0.98,2,    0.925,2,    0.408,2, 2153.000,2, 2296.500,2
           NA,     GNS,    402,  99,-999.0,       3,  2,19970514,0000,  73.9997,    1.9993,  3384,   2501.3,  -0.9657,   34.903,2,   34.903,2,    302.5,2,    11.48,2,    14.70,2,     0.02,2,     0.98,2,    0.809,2,    0.371,2, 2155.000,2, 2300.400,2
           NA,     GNS,    402,  99,-999.0,       2,  2,19970514,0000,  73.9997,    1.9993,  3384,   3000.1,  -0.9710,   34.901,2,   34.901,2,    304.3,2,    11.74,2,    14.70,2,     0.02,2,     0.98,2,    0.790,2,    0.365,2, 2160.600,2, 2298.600,2
           NA,     GNS,    402,  99,-999.0,       1,  2,19970514,0000,  73.9997,    1.9993,  3384,   3202.9,  -0.9631,   34.901,2,   34.901,2,    303.4,2,    11.80,2,    14.70,2,     0.02,2,     0.97,2,    0.788,2,    0.364,2, 2155.100,2, 2305.000,2
           NA,     GNS,    405,  99,-999.0,      12,  2,19970515,0000,  73.9983,   -2.0021,  3431,      9.1,  -1.6557,   34.743,2,   34.753,2,    364.0,2,     5.11,2,    10.90,2,     0.04,2,     0.74,2, -999.000,9, -999.000,9, 2138.800,2, 2288.400,2
           NA,     GNS,    405,  99,-999.0,      11,  2,19970515,0000,  73.9983,   -2.0021,  3431,    100.9,  -1.1354,   34.808,2,   34.837,2,    332.2,2,     6.53,2,    12.64,2,     0.03,2,     0.86,2, -999.000,9, -999.000,9, -999.000,9, 2294.500,2
           NA,     GNS,    405,  99,-999.0,      10,  2,19970515,0000,  73.9983,   -2.0021,  3431,    200.1,  -0.8217,   34.879,2,   34.866,2,    325.2,2,     6.90,2,    13.04,2,     0.02,2,     0.89,2, -999.000,9, -999.000,9, 2153.400,2, 2292.200,2
           NA,     GNS,    405,  99,-999.0,       9,  2,19970515,0000,  73.9983,   -2.0021,  3431,    300.7,  -0.7861,   34.873,2,   34.872,2,    324.3,2,     7.06,2,    13.22,2,     0.01,2,     0.89,2, -999.000,9, -999.000,9, 2153.900,2, -999.000,3
           NA,     GNS,    405,  99,-999.0,       8,  2,19970515,0000,  73.9983,   -2.0021,  3431,    351.5,  -0.7368, -999.000,9,   34.879,2,   -999.0,9,     7.25,2,    13.42,2,     0.01,2,     0.90,2, -999.000,9, -999.000,9, -999.000,9, -999.000,9
           NA,     GNS,    405,  99,-999.0,       7,  2,19970515,0000,  73.9983,   -2.0021,  3431,    400.8,  -0.6871,   34.871,2,   34.883,2,    320.0,2,     7.42,2,    13.47,2,     0.01,2,     0.90,2, -999.000,9, -999.000,9, 2151.000,2, 2296.200,2
           NA,     GNS,    405,  99,-999.0,       6,  2,19970515,0000,  73.9983,   -2.0021,  3431,    425.1,  -0.7727, -999.000,9,   34.879,2,   -999.0,9,     7.34,2,    13.40,2,     0.01,2,     0.91,2, -999.000,9, -999.000,9, -999.000,9, -999.000,9
           NA,     GNS,    405,  99,-999.0,       5,  2,19970515,0000,  73.9983,   -2.0021,  3431,    450.5,  -0.7561, -999.000,9,   34.881,2,   -999.0,9,     7.32,2,    13.39,2,     0.01,2,     0.90,2, -999.000,9, -999.000,9, -999.000,9, -999.000,9
           NA,     GNS,    405,  99,-999.0,       4,  2,19970515,0000,  73.9983,   -2.0021,  3431,    475.0,  -0.7744, -999.000,9,   34.880,2,   -999.0,9,     7.44,2,    13.42,2,     0.01,2,     0.91,2, -999.000,9, -999.000,9, -999.000,9, -999.000,9
           NA,     GNS,    405,  99,-999.0,       3,  2,19970515,0000,  73.9983,   -2.0021,  3431,    500.0,  -0.7913,   34.880,2,   34.879,2,    320.8,2,     7.48,2,    13.42,2,     0.01,2,     0.91,2, -999.000,9, -999.000,9, 2152.500,2, 2295.400,2
           NA,     GNS,    405,  99,-999.0,       2,  2,19970515,0000,  73.9983,   -2.0021,  3431,    550.2,  -0.7937, -999.000,9,   34.881,2,   -999.0,9,     7.58,2,    13.53,2,     0.01,2,     0.92,2, -999.000,9, -999.000,9, -999.000,9, -999.000,9
           NA,     GNS,    405,  99,-999.0,       1,  2,19970515,0000,  73.9983,   -2.0021,  3431,    602.6,  -0.8163,   34.880,2,   34.881,2,    320.4,2,     7.63,2,    13.58,2,     0.01,2,     0.92,2, -999.000,9, -999.000,9, 2149.300,2, 2295.300,2
           NA,     GNS,    405,  99,-999.0,      12,  2,19970515,0000,  73.9983,   -2.0021,  3431,    650.0,  -0.8404, -999.000,9,   34.880,2,   -999.0,9,     7.56,2,    13.55,2,     0.01,2,     0.92,2, -999.000,9, -999.000,9, -999.000,9, -999.000,9
           NA,     GNS,    405,  99,-999.0,      11,  2,19970515,0000,  73.9983,   -2.0021,  3431,    700.0,  -0.8574,   34.880,2,   34.880,2,    323.0,2,     7.59,2,    13.62,2,     0.02,2,  -999.00,3,    4.328,2,    2.123,2, -999.000,3, -999.000,3
           NA,     GNS,    405,  99,-999.0,      10,  2,19970515,0000,  73.9983,   -2.0021,  3431,    800.4,  -0.8617,   34.880,2,   34.881,2,    321.3,2,     7.73,2,    13.67,2,     0.01,2,     0.92,2,    4.073,2,    1.999,2, 2162.600,2, -999.000,3
           NA,     GNS,    405,  99,-999.0,       9,  2,19970515,0000,  73.9983,   -2.0021,  3431,    900.0,  -0.8657,   34.882,2,   34.883,2,    320.0,2,     7.93,2,    13.65,2,     0.01,2,     0.92,2,    3.878,2,    1.905,2, -999.000,3, -999.000,3
           NA,     GNS,    405,  99,-999.0,       8,  2,19970515,0000,  73.9983,   -2.0021,  3431,   1050.3,  -0.8765,   34.884,2,   34.885,2,    320.0,2,     8.06,2,    13.68,2,     0.01,2,     0.95,2,    3.776,2,    1.850,2, 2146.600,2, -999.000,3
           NA,     GNS,    405,  99,-999.0,       7,  2,19970515,0000,  73.9983,   -2.0021,  3431,   1199.5,  -0.7894,   34.895,2,   34.897,2,    306.0,2,     9.38,2,    14.21,2,     0.01,2,     0.97,2,    2.182,2,    1.019,2, 2154.600,2, 2298.700,2
           NA,     GNS,    405,  99,-999.0,       6,  2,19970515,0000,  73.9983,   -2.0021,  3431,   1401.1,  -0.8065,   34.904,2,   34.903,2,    300.3,2,    10.18,2,    14.53,2,     0.01,2,  -999.00,9,    1.403,2,    0.642,2, 2150.600,2, 2294.800,2
           NA,     GNS,    405,  99,-999.0,       5,  2,19970515,0000,  73.9983,   -2.0021,  3431,   1600.5,  -0.8576,   34.904,2,   34.904,2,    301.2,2,    10.56,2,    14.64,2,     0.01,2,     1.00,2,    1.139,2,    0.521,2, 2158.000,2, 2296.200,2
           NA,     GNS,    405,  99,-999.0,       4,  2,19970515,0000,  73.9983,   -2.0021,  3431,   1800.2,  -0.9044,   34.904,2,   34.903,2,    300.8,2,    10.81,2,    14.71,2,     0.01,2,     1.01,2,    1.033,2,    0.469,2, 2153.100,2, -999.000,3
           NA,     GNS,    405,  99,-999.0,       3,  2,19970515,0000,  73.9983,   -2.0021,  3431,   2000.2,  -0.9341,   34.904,2,   34.903,2,    302.1,2,    11.07,2,    14.71,2,     0.01,2,     1.00,2,    0.942,2,    0.434,2, 2149.500,2, 2297.500,2
           NA,     GNS,    405,  99,-999.0,       2,  2,19970515,0000,  73.9983,   -2.0021,  3431,   2500.7,  -0.9661,   34.903,2,   34.903,2,    303.4,2,    11.37,2,    14.75,2,     0.01,2,     1.00,2,    0.824,2,    0.386,2, 2157.200,2, -999.000,3
           NA,     GNS,    405,  99,-999.0,       1,  2,19970515,0000,  73.9983,   -2.0021,  3431,   3002.9,  -0.9857,   34.900,2,   34.900,2,    304.7,2,    11.73,2,    14.87,2,     0.01,2,     1.00,2,    0.783,2,    0.366,2, 2153.700,2, 2295.100,2