BOTTLE,20224407JOAExport
# Exported from JOA (5.5.0 Final September 29th, 2020) on 2022/03/07 15:44:18
#BOTTLE,20220307UCSDSIOJHS,,,,,,,,,,,,,,,,,,,,,,,,,,,,,,,,
#original bottle file downloaded 07MAR2022 from CCHDO by J Swift,,,,,,,,,,,,,,,,,,,,,,,,,,,,,,,,,
#some header rows deleted by Swift; see original file for additional header information,,,,,,,,,,,,,,,,,,,,,,,,,,,,,,,,,
#BOTTLE,20090508PRINUNIVRMK,,,,,,,,,,,,,,,,,,,,,,,,,,,,,,,,
# Data from Kozyr 5/11/04 ,,,,,,,,,,,,,,,,,,,,,,,,,,,,,,,,,
# O2/Nuts/CTDSAL from L. Anderson 8/5/05 ,,,,,,,,,,,,,,,,,,,,,,,,,,,,,,,,,
# Tracer data from Karstensen ,,,,,,,,,,,,,,,,,,,,,,,,,,,,,,,,,
# Ship: Johan Hjort ,,,,,,,,,,,,,,,,,,,,,,,,,,,,,,,,,
# Cruise 58JH9704 ,,,,,,,,,,,,,,,,,,,,,,,,,,,,,,,,,
# DATES: 4/14/1997 - 5/26/1997 ,,,,,,,,,,,,,,,,,,,,,,,,,,,,,,,,,
# EXPOCODE: 58JH19970414 ,,,,,,,,,,,,,,,,,,,,,,,,,,,,,,,,,
# Region:Greenland-Norwegian Sea with 75N section ,,,,,,,,,,,,,,,,,,,,,,,,,,,,,,,,,
# 135 stations with 12 place Rosette ,,,,,,,,,,,,,,,,,,,,,,,,,,,,,,,,,
# Chief Scientist - J. Blindheim & F. Rey, IMR, Bergen, Norway ,,,,,,,,,,,,,,,,,,,,,,,,,,,,,,
# Hydro: Who - Blindheim; Status - final ,,,,,,,,,,,,,,,,,,,,,,,,,,,,,,,,,
#"# 	Notes: Depth calculated from pressure and latitude ",,,,,,,,,,,,,,,,,,,,,,,,,,,,,,,,,
#"# 	See Blindheim and Rey",2004,,,,,,,,,,,,,,,,,,,,,,,,,,,,,,,,
# Nuts/O2: Who - R. Rey; Status - final  ,,,,,,,,,,,,,,,,,,,,,,,,,,,,,,,,,
#"# 	Notes: data from L. Anderson 8/5/05 ",,,,,,,,,,,,,,,,,,,,,,,,,,,,,,,,,
#"# 	Final oxygen data from A.Olsen 01/31/2008 ",,,,,,,,,,,,,,,,,,,,,,,,,,,,,,,,,
#"# 	Another copy from Blindheim 3/27/08 (replaced old) units converted ",,,,,,,,,,,,,,,,,,,,,,,,,,,,,,,,,
# TCO2: Who - L. Anderson; Status - final ,,,,,,,,,,,,,,,,,,,,,,,,,,,,,,,,,
#"# 	Notes: CRM Batch 35 ",,,,,,,,,,,,,,,,,,,,,,,,,,,,,,,,,
EXPOCODE,SECT_ID,STNNBR,CASTNO,SAMPNO,BTLNBR,BTLNBR_FLAG_W,DATE,TIME,LATITUDE,LONGITUDE,DEPTH,CTDPRS,CTDTMP,CTDSAL,CTDSAL_FLAG_W,SALNTY,SALNTY_FLAG_W,OXYGEN,OXYGEN_FLAG_W,SILCAT,SILCAT_FLAG_W,NITRAT,NITRAT_FLAG_W,NITRIT,NITRIT_FLAG_W,PHSPHT,PHSPHT_FLAG_W,CFC-11,CFC-11_FLAG_W,CFC-12,CFC-12_FLAG_W,TCARBN,TCARBN_FLAG_W,ALKALI,ALKALI_FLAG_W
,,,,,,,,,,,,DB,ITS-90,PSS-78,,PSS-78,,UMOL/KG,,UMOL/KG,,UMOL/KG,,UMOL/KG,,UMOL/KG,,PMOL/KG,,PMOL/KG,,UMOL/KG,,UMOL/KG
           NA,     GNS,    311,   1,-999.0,      10,  2,19970425,0000,  62.3568,    4.6605,   280,     10.7,   5.4137, -999.000,9,   33.685,2,    310.6,2,     0.78,2,     3.78,2,     0.16,2,     0.33,2,    4.552,2,    2.342,2, -999.000,9, -999.000,9
           NA,     GNS,    311,   1,-999.0,       7,  2,19970425,0000,  62.3568,    4.6605,   280,     20.0,   5.3039, -999.000,9,   33.729,2,    312.8,2,     0.71,2,     3.73,2,     0.16,2,     0.33,2,    4.969,2,    2.530,2, -999.000,9, -999.000,9
           NA,     GNS,    311,   1,-999.0,       6,  2,19970425,0000,  62.3568,    4.6605,   280,     30.3,   5.4234, -999.000,9,   33.927,2,    311.9,2,     0.70,2,     3.97,2,     0.15,2,     0.33,2,    4.899,2,    2.508,2, -999.000,9, -999.000,9
           NA,     GNS,    311,   1,-999.0,       5,  2,19970425,0000,  62.3568,    4.6605,   280,     51.4,   5.9360, -999.000,9,   34.276,2,    290.4,2,     2.84,2,     7.50,2,     0.12,2,     0.56,2, -999.000,9, -999.000,9, -999.000,9, -999.000,9
           NA,     GNS,    311,   1,-999.0,       4,  2,19970425,0000,  62.3568,    4.6605,   280,     74.3,   6.7774, -999.000,9,   34.770,2,    276.0,2,     4.28,2,     9.40,2,     0.05,2,     0.69,2, -999.000,9, -999.000,9, -999.000,9, -999.000,9
           NA,     GNS,    311,   1,-999.0,       3,  2,19970425,0000,  62.3568,    4.6605,   280,     99.2,   7.1038, -999.000,9,   34.939,2,    275.0,2,     4.57,2,     9.82,2,     0.04,2,     0.69,2,    4.303,2,    2.256,2, -999.000,9, -999.000,9
           NA,     GNS,    311,   1,-999.0,       2,  2,19970425,0000,  62.3568,    4.6605,   280,    125.8,   7.3688, -999.000,9,   35.102,2,    274.6,2,     5.14,2,    10.39,2,     0.05,2,     0.73,2,    4.201,2,    2.211,2, -999.000,9, -999.000,9
           NA,     GNS,    311,   1,-999.0,       1,  2,19970425,0000,  62.3568,    4.6605,   280,    143.0,   7.4998, -999.000,9,   35.143,2,    275.9,2,     5.05,2,    10.48,2,     0.06,2,     0.73,2,    3.963,2,    1.854,2, -999.000,9, -999.000,9
           NA,     GNS,    312,   1,-999.0,      10,  2,19970425,0000,  62.4847,    4.4145,   424,      9.9,   5.9312, -999.000,9,   34.385,2,    322.7,2,     0.32,2,     2.86,2,     0.12,2,     0.23,2, -999.000,9, -999.000,9, -999.000,9, -999.000,9
           NA,     GNS,    312,   1,-999.0,       8,  2,19970425,0000,  62.4847,    4.4145,   424,     19.7,   5.8993, -999.000,9,   34.390,2,    317.0,2,     0.48,2,     3.31,2,     0.12,2,     0.26,2, -999.000,9, -999.000,9, -999.000,9, -999.000,9
           NA,     GNS,    312,   1,-999.0,       7,  2,19970425,0000,  62.4847,    4.4145,   424,     30.2,   5.9090, -999.000,9,   34.397,2,    314.8,2,     0.56,2,     3.47,2,     0.12,2,     0.27,2, -999.000,9, -999.000,9, -999.000,9, -999.000,9
           NA,     GNS,    312,   1,-999.0,       6,  2,19970425,0000,  62.4847,    4.4145,   424,     49.0,   6.3531, -999.000,9,   34.624,2,    297.8,2,     2.10,2,     6.31,2,     0.14,2,     0.46,2, -999.000,9, -999.000,9, -999.000,9, -999.000,9
           NA,     GNS,    312,   1,-999.0,       5,  2,19970425,0000,  62.4847,    4.4145,   424,     74.8,   7.0427, -999.000,9,   34.943,2,    277.7,2,     4.34,2,     9.68,2,     0.05,2,     0.67,2, -999.000,9, -999.000,9, -999.000,9, -999.000,9
           NA,     GNS,    312,   1,-999.0,       4,  2,19970425,0000,  62.4847,    4.4145,   424,    100.6,   7.7223, -999.000,9,   35.186,2,    279.8,2,     4.71,2,    10.79,2,     0.07,2,     0.71,2, -999.000,9, -999.000,9, -999.000,9, -999.000,9
           NA,     GNS,    312,   1,-999.0,       3,  2,19970425,0000,  62.4847,    4.4145,   424,    124.4,   7.6931, -999.000,9,   35.213,2,    278.9,2,     4.71,2,    10.86,2,     0.04,2,     0.71,2, -999.000,9, -999.000,9, -999.000,9, -999.000,9
           NA,     GNS,    312,   1,-999.0,       2,  2,19970425,0000,  62.4847,    4.4145,   424,    149.8,   7.7025, -999.000,9,   35.227,2,    279.8,2,     4.84,2,    11.09,2,     0.04,2,     0.73,2, -999.000,9, -999.000,9, -999.000,9, -999.000,9
           NA,     GNS,    312,   1,-999.0,       1,  2,19970425,0000,  62.4847,    4.4145,   424,    176.6,   7.6841, -999.000,9,   35.228,2,    279.8,2,     4.98,2,    11.14,2,     0.05,2,     0.73,2, -999.000,9, -999.000,9, -999.000,9, -999.000,9
           NA,     GNS,    313,   1,-999.0,      12,  2,19970425,0000,  62.6050,    4.1793,  1150,      9.9,   5.7337, -999.000,9,   34.277,2,    310.1,2,     1.11,2,     5.33,2,     0.18,2,     0.40,2, -999.000,9, -999.000,9, -999.000,9, -999.000,9
           NA,     GNS,    313,   1,-999.0,       8,  2,19970425,0000,  62.6050,    4.1793,  1150,     19.8,   6.1602, -999.000,9,   34.485,2,    296.1,2,     2.44,2,     6.95,2,     0.12,2,     0.50,2, -999.000,9, -999.000,9, -999.000,9, -999.000,9
           NA,     GNS,    313,   1,-999.0,       7,  2,19970425,0000,  62.6050,    4.1793,  1150,     30.0,   6.1559, -999.000,9,   34.503,2,    300.0,2,     1.97,2,     6.16,2,     0.12,2,     0.46,2, -999.000,9, -999.000,9, -999.000,9, -999.000,9
           NA,     GNS,    313,   1,-999.0,       6,  2,19970425,0000,  62.6050,    4.1793,  1150,     49.3,   6.2207, -999.000,9,   34.552,2,    299.1,2,     1.97,2,     6.12,2,     0.12,2,     0.45,2, -999.000,9, -999.000,9, -999.000,9, -999.000,9
           NA,     GNS,    313,   1,-999.0,       5,  2,19970425,0000,  62.6050,    4.1793,  1150,     76.4,   6.6402, -999.000,9,   34.765,2,    288.2,2,     3.24,2,     8.15,2,     0.11,2,     0.60,2, -999.000,9, -999.000,9, -999.000,9, -999.000,9
           NA,     GNS,    313,   1,-999.0,       4,  2,19970425,0000,  62.6050,    4.1793,  1150,    100.5,   6.9362, -999.000,9,   34.896,2,    280.7,2,     4.12,2,     9.39,2,     0.09,2,     0.65,2, -999.000,9, -999.000,9, -999.000,9, -999.000,9
           NA,     GNS,    313,   1,-999.0,       3,  2,19970425,0000,  62.6050,    4.1793,  1150,    125.2,   7.4850, -999.000,9,   35.139,2,    276.3,2,     4.84,2,    10.51,2,     0.05,2,     0.72,2, -999.000,9, -999.000,9, -999.000,9, -999.000,9
           NA,     GNS,    313,   1,-999.0,       2,  2,19970425,0000,  62.6050,    4.1793,  1150,    150.8,   7.6104, -999.000,9,   35.191,2,    278.5,2,     4.82,2,    10.84,2,     0.04,2,     0.72,2, -999.000,9, -999.000,9, -999.000,9, -999.000,9
           NA,     GNS,    313,   1,-999.0,       1,  2,19970425,0000,  62.6050,    4.1793,  1150,    170.6,   7.7052, -999.000,9,   35.223,2,    279.3,2,     4.79,2,    10.87,2,     0.04,2,     0.72,2, -999.000,9, -999.000,9, -999.000,9, -999.000,9
           NA,     GNS,    314,   1,-999.0,      12,  2,19970425,0000,  62.7270,    3.9750,  1102,     12.1,   5.4869, -999.000,9,   34.052,2,    328.0,2,     0.33,2,     1.55,2,     0.11,2,     0.18,2,    4.942,2,    2.536,2, -999.000,9, -999.000,9
           NA,     GNS,    314,   1,-999.0,      11,  2,19970425,0000,  62.7270,    3.9750,  1102,     19.8,   5.6420, -999.000,9,   34.130,2,    318.8,2,     0.84,2,     3.19,2,     0.13,2,     0.26,2, -999.000,9, -999.000,9, -999.000,9, -999.000,9
           NA,     GNS,    314,   1,-999.0,      10,  2,19970425,0000,  62.7270,    3.9750,  1102,     29.9,   6.6396, -999.000,9,   34.620,2,    303.5,2,     2.45,2,     6.67,2,     0.14,2,     0.46,2,    4.460,2,    2.169,2, -999.000,9, -999.000,9
           NA,     GNS,    314,   1,-999.0,       9,  2,19970425,0000,  62.7270,    3.9750,  1102,     50.2,   7.5631, -999.000,9,   35.076,2,    289.8,2,     3.76,2,     9.34,2,     0.16,2,     0.62,2,    4.198,2,    2.114,2, -999.000,9, -999.000,9
           NA,     GNS,    314,   1,-999.0,       8,  2,19970425,0000,  62.7270,    3.9750,  1102,     74.8,   7.9610, -999.000,9,   35.231,2,    284.1,2,     4.43,2,    10.64,2,     0.16,2,     0.69,2, -999.000,9, -999.000,9, -999.000,9, -999.000,9
           NA,     GNS,    314,   1,-999.0,       7,  2,19970425,0000,  62.7270,    3.9750,  1102,     98.6,   8.0698, -999.000,9,   35.267,2,    281.5,2,     4.68,2,    11.07,2,     0.16,2,     0.71,2,    4.094,2,    2.030,2, -999.000,9, -999.000,9
           NA,     GNS,    314,   1,-999.0,       6,  2,19970425,0000,  62.7270,    3.9750,  1102,    124.4,   7.9057, -999.000,9,   35.245,2,    284.6,2,     4.60,2,    10.87,2,     0.16,2,     0.71,2, -999.000,9, -999.000,9, -999.000,9, -999.000,9
           NA,     GNS,    314,   1,-999.0,       5,  2,19970425,0000,  62.7270,    3.9750,  1102,    149.1,   7.8394, -999.000,9,   35.240,2,    284.1,2,     4.66,2,    10.93,2,     0.15,2,     0.71,2,    4.044,2,    2.189,2, -999.000,9, -999.000,9
           NA,     GNS,    314,   1,-999.0,       4,  2,19970425,0000,  62.7270,    3.9750,  1102,    200.3,   7.6379, -999.000,9,   35.229,2,    284.6,2,     5.09,2,    11.54,2,     0.07,2,     0.75,2, -999.000,9, -999.000,9, -999.000,9, -999.000,9
           NA,     GNS,    314,   1,-999.0,       3,  2,19970425,0000,  62.7270,    3.9750,  1102,    249.6,   7.4889, -999.000,9,   35.223,2,    283.3,2,     5.17,2,    11.42,2,     0.12,2,     0.75,2,    4.163,2,    2.162,2, -999.000,9, -999.000,9
           NA,     GNS,    314,   1,-999.0,       2,  2,19970425,0000,  62.7270,    3.9750,  1102,    294.1,   7.3512, -999.000,9,   35.210,2,    279.4,2,     4.92,2,    10.72,2,     0.03,2,     0.72,2,    4.208,2,    2.178,2, -999.000,9, -999.000,9
           NA,     GNS,    315,   1,-999.0,      12,  2,19970426,0000,  62.8640,    3.7265,  1102,     10.1,   7.3379, -999.000,9,   34.977,2,    298.6,2,     2.66,2,     7.53,2,     0.16,2,     0.50,2,    4.353,2,    2.254,2, -999.000,9, -999.000,9
           NA,     GNS,    315,   1,-999.0,      11,  2,19970426,0000,  62.8640,    3.7265,  1102,     30.2,   7.9813, -999.000,9,   35.211,2,   -999.0,9,     4.22,2,    10.35,2,     0.19,2,     0.67,2, -999.000,9, -999.000,9, -999.000,9, -999.000,9
           NA,     GNS,    315,   1,-999.0,      10,  2,19970426,0000,  62.8640,    3.7265,  1102,     49.9,   8.0773, -999.000,9,   35.244,2,    296.8,2,     4.48,2,    10.73,2,     0.19,2,     0.69,2,    4.018,2,    2.108,2, -999.000,9, -999.000,9
           NA,     GNS,    315,   1,-999.0,       9,  2,19970426,0000,  62.8640,    3.7265,  1102,     72.5,   8.0746, -999.000,9,   35.252,2,    289.4,2,     4.55,2,    10.85,2,     0.20,2,     0.70,2, -999.000,9, -999.000,9, -999.000,9, -999.000,9
           NA,     GNS,    315,   1,-999.0,       8,  2,19970426,0000,  62.8640,    3.7265,  1102,     99.5,   8.0521, -999.000,9,   35.261,2,    285.0,2,     4.79,2,    11.25,2,     0.18,2,     0.72,2, -999.000,9, -999.000,9, -999.000,9, -999.000,9
           NA,     GNS,    315,   1,-999.0,       7,  2,19970426,0000,  62.8640,    3.7265,  1102,    149.4,   8.0350, -999.000,9,   35.268,2,    285.0,2,     4.97,2,    11.47,2,     0.15,2,     0.73,2, -999.000,9, -999.000,9, -999.000,9, -999.000,9
           NA,     GNS,    315,   1,-999.0,       6,  2,19970426,0000,  62.8640,    3.7265,  1102,    199.4,   7.8433, -999.000,9,   35.261,2,    280.6,2,     5.01,2,    11.36,2,     0.17,2,     0.74,2,    4.010,2,    2.158,2, -999.000,9, -999.000,9
           NA,     GNS,    315,   1,-999.0,       5,  2,19970426,0000,  62.8640,    3.7265,  1102,    299.0,   7.2835, -999.000,9,   35.201,2,    281.1,2,     5.29,2,    11.68,2,     0.19,2,     0.76,2,    4.115,2,    2.195,2, -999.000,9, -999.000,9
           NA,     GNS,    315,   1,-999.0,       4,  2,19970426,0000,  62.8640,    3.7265,  1102,    400.1,   6.6691, -999.000,9,   35.129,2,    282.0,2,     6.02,2,    12.66,2,     0.05,2,     0.83,2,    4.228,2,    2.221,2, -999.000,9, -999.000,9
           NA,     GNS,    315,   1,-999.0,       3,  2,19970426,0000,  62.8640,    3.7265,  1102,    500.0,   5.3547, -999.000,9,   34.999,2,    282.9,2,     6.36,2,    12.85,2,     0.03,2,     0.85,2,    4.489,2,    2.318,2, -999.000,9, -999.000,9
           NA,     GNS,    315,   1,-999.0,       2,  2,19970426,0000,  62.8640,    3.7265,  1102,    598.4,   1.6133, -999.000,9,   34.888,2,    282.9,2,     7.62,2,    13.88,2,     0.01,2,     0.93,2,    4.219,2,    2.087,2, -999.000,9, -999.000,9
           NA,     GNS,    315,   1,-999.0,       1,  2,19970426,0000,  62.8640,    3.7265,  1102,    731.1,  -0.8787, -999.000,9,   34.902,2,    299.5,2,    12.42,2,    14.76,2,     0.01,2,     0.99,2, -999.000,9, -999.000,9, -999.000,9, -999.000,9
           NA,     GNS,    316,   1,-999.0,      12,  2,19970426,0000,  62.9947,    3.4380,  1071,     11.0,   8.0414,   35.243,2,   35.266,2,    284.6,2,     4.45,2,    10.71,2,     0.17,2,     0.69,2, -999.000,9, -999.000,9, 2123.800,2, 2321.600,2
           NA,     GNS,    316,   1,-999.0,      11,  2,19970426,0000,  62.9947,    3.4380,  1071,     29.9,   8.0425,   35.243,2,   35.266,2,    285.0,2,     4.52,2,    10.78,2,     0.17,2,  -999.00,9, -999.000,9, -999.000,9, 2128.000,2, 2320.800,2
           NA,     GNS,    316,   1,-999.0,      10,  2,19970426,0000,  62.9947,    3.4380,  1071,     50.3,   8.0402,   35.238,2,   35.266,2,    285.0,2,     4.51,2,    10.74,2,     0.17,2,     0.70,2, -999.000,9, -999.000,9, 2126.500,2, 2320.700,2
           NA,     GNS,    316,   1,-999.0,       9,  2,19970426,0000,  62.9947,    3.4380,  1071,     74.0,   8.0434,   35.237,2,   35.267,2,    284.1,2,     4.63,2,    10.89,2,     0.17,2,     0.70,2, -999.000,9, -999.000,9, 2120.500,2, 2323.500,2
           NA,     GNS,    316,   1,-999.0,       8,  2,19970426,0000,  62.9947,    3.4380,  1071,     99.6,   8.0384,   35.236,2,   35.265,2,    283.7,2,     4.60,2,    10.89,2,     0.16,2,     0.70,2, -999.000,9, -999.000,9, 2123.700,2, 2320.100,2
           NA,     GNS,    316,   1,-999.0,       7,  2,19970426,0000,  62.9947,    3.4380,  1071,    150.5,   7.7862,   35.248,2,   35.250,2,    282.4,2,     5.05,2,    11.48,2,     0.14,2,     0.75,2, -999.000,9, -999.000,9, 2124.200,2, 2319.900,2
           NA,     GNS,    316,   1,-999.0,       6,  2,19970426,0000,  62.9947,    3.4380,  1071,    201.7,   7.2257,   35.186,2,   35.189,2,    285.0,2,     5.71,2,    12.27,2,     0.13,2,     0.81,2, -999.000,9, -999.000,9, 2132.800,2, 2313.000,2
           NA,     GNS,    316,   1,-999.0,       5,  2,19970426,0000,  62.9947,    3.4380,  1071,    299.3,   6.8660,   35.161,2,   35.164,2,    288.9,2,     5.32,2,    11.73,2,     0.12,2,     0.77,2, -999.000,9, -999.000,9, 2130.700,2, 2312.800,2
           NA,     GNS,    316,   1,-999.0,       4,  2,19970426,0000,  62.9947,    3.4380,  1071,    398.9,   6.7449,   35.150,2,   35.151,2,    288.5,2,     5.31,2,    11.72,2,     0.10,2,     0.77,2, -999.000,9, -999.000,9, 2132.900,2, 2314.300,2
           NA,     GNS,    316,   1,-999.0,       3,  2,19970426,0000,  62.9947,    3.4380,  1071,    500.6,   3.5114,   34.901,2,   34.894,2,    293.8,2,     6.89,2,    13.32,2,     0.02,2,     0.89,2, -999.000,9, -999.000,9, 2142.300,2, 2303.300,2
           NA,     GNS,    316,   1,-999.0,       2,  2,19970426,0000,  62.9947,    3.4380,  1071,    799.3,  -0.8789,   34.902,2,   34.903,0,    295.1,2,    12.35,2,    14.84,2,     0.01,2,     1.00,2, -999.000,9, -999.000,9, 2161.500,2, 2301.300,2
           NA,     GNS,    316,   1,-999.0,       1,  2,19970426,0000,  62.9947,    3.4380,  1071,    831.0,  -0.9108,   34.903,2,   34.903,2,   -999.0,3,    12.78,2,    14.95,2,     0.02,2,     1.01,2, -999.000,9, -999.000,9, 2157.700,2, 2302.000,2