BOTTLE,20224407JOAExport
EXPOCODE,SECT_ID,STNNBR,CASTNO,SAMPNO,BTLNBR,BTLNBR_FLAG_W,DATE,TIME,LATITUDE,LONGITUDE,DEPTH,CTDPRS,CTDTMP,CTDSAL,CTDSAL_FLAG_W,SALNTY,SALNTY_FLAG_W,OXYGEN,OXYGEN_FLAG_W,SILCAT,SILCAT_FLAG_W,NITRAT,NITRAT_FLAG_W,NITRIT,NITRIT_FLAG_W,PHSPHT,PHSPHT_FLAG_W,CFC-11,CFC-11_FLAG_W,CFC-12,CFC-12_FLAG_W,TCARBN,TCARBN_FLAG_W,ALKALI,ALKALI_FLAG_W
,,,,,,,,,,,,DB,ITS-90,PSS-78,,PSS-78,,UMOL/KG,,UMOL/KG,,UMOL/KG,,UMOL/KG,,UMOL/KG,,PMOL/KG,,PMOL/KG,,UMOL/KG,,UMOL/KG
           NA,     GNS,    326,  99,-999.0,      12,  2,19970427,0000,  65.5862,   -4.0514,  3387,      9.9,   3.3013,   34.862,2,   34.837,2,    320.8,2,     5.20,2,    10.82,2,     0.16,2,     0.73,2,    5.556,2,    2.768,2, 2131.800,2, 2293.900,2
           NA,     GNS,    326,  99,-999.0,      11,  2,19970427,0000,  65.5862,   -4.0514,  3387,     30.4,   3.1784,   34.866,2,   34.837,2,    320.4,2,     5.23,2,    10.97,2,     0.17,2,     0.74,2, -999.000,9, -999.000,9, 2136.500,2, 2293.500,2
           NA,     GNS,    326,  99,-999.0,      10,  2,19970427,0000,  65.5862,   -4.0514,  3387,     51.9,   3.1524,   34.857,2,   34.837,2,   -999.0,9,     5.24,2,    11.12,2,     0.18,2,     0.75,2, -999.000,9, -999.000,9, 2132.500,2, 2294.300,2
           NA,     GNS,    326,  99,-999.0,       9,  2,19970427,0000,  65.5862,   -4.0514,  3387,    101.3,   3.3033,   34.863,2,   34.867,2,   -999.0,9,     5.28,2,    11.26,2,     0.16,2,     0.75,2,    5.491,2,    2.777,2, 2136.600,2, 2293.900,2
           NA,     GNS,    326,  99,-999.0,       8,  2,19970427,0000,  65.5862,   -4.0514,  3387,    150.5,   3.0003,   34.873,2,   34.871,2,    309.5,2,     5.42,2,    12.02,2,     0.06,2,     0.80,2, -999.000,9, -999.000,9, 2142.000,2, 2292.800,2
           NA,     GNS,    326,  99,-999.0,       7,  2,19970427,0000,  65.5862,   -4.0514,  3387,    201.2,   2.2410,   34.880,2,   34.888,2,    306.0,2,     5.96,2,    13.04,2,     0.03,2,     0.86,2,    5.501,2,    2.698,2, 2141.800,2, 2289.700,2
           NA,     GNS,    326,  99,-999.0,       6,  2,19970427,0000,  65.5862,   -4.0514,  3387,    300.4,   1.6635,   34.899,2,   34.913,2,    305.1,2,     6.25,2,    13.49,2,     0.02,2,     0.90,2,    5.359,2,    2.602,2, 2152.400,2, 2293.400,2
           NA,     GNS,    326,  99,-999.0,       5,  2,19970427,0000,  65.5862,   -4.0514,  3387,    400.8,   0.7741,   34.884,2,   34.888,2,    303.8,2,     6.74,2,    13.83,2,     0.02,2,     0.93,2,    4.864,2,    2.307,2, 2155.900,2, 2290.900,2
           NA,     GNS,    326,  99,-999.0,       4,  2,19970427,0000,  65.5862,   -4.0514,  3387,    500.9,   0.1568,   34.882,2,   34.882,2,    305.1,2,     7.18,2,    13.92,2,     0.01,2,     0.94,2,    4.201,2,    2.045,2, 2155.900,2, 2293.200,2
           NA,     GNS,    326,  99,-999.0,       3,  2,19970427,0000,  65.5862,   -4.0514,  3387,    601.2,  -0.0984,   34.886,2,   34.886,2,    303.4,2,     7.55,2,    13.98,2,     0.01,2,     0.94,2,    3.668,2,    1.762,2, 2153.600,2, 2293.400,2
           NA,     GNS,    326,  99,-999.0,       2,  2,19970427,0000,  65.5862,   -4.0514,  3387,    699.2,  -0.3079,   34.889,2,   34.891,2,   -999.0,9,     8.07,2,    14.13,2,     0.01,2,     0.94,2,    2.997,2,    1.444,2, 2159.000,2, 2293.000,2
           NA,     GNS,    326,  99,-999.0,       1,  2,19970427,0000,  65.5862,   -4.0514,  3387,    801.2,  -0.4109,   34.894,2,   34.894,2,    299.5,2,     8.48,2,    14.20,2,     0.01,2,     0.96,2,    2.561,2,    1.209,2, 2163.900,2, 2293.200,2
           NA,     GNS,    326,  99,-999.0,      12,  2,19970427,0000,  65.5862,   -4.0514,  3387,    900.3,  -0.5355,   34.897,2,   34.897,2,    296.0,2,     9.05,2,    14.29,2,     0.01,2,     0.97,2, -999.000,9, -999.000,9, 2158.100,2, 2293.300,2
           NA,     GNS,    326,  99,-999.0,      11,  2,19970427,0000,  65.5862,   -4.0514,  3387,    999.9,  -0.6052,   34.900,2,   34.901,2,    296.0,2,     9.55,2,    14.47,2,     0.01,2,     0.98,2,    1.601,2,    0.736,2, 2157.100,2, 2295.400,2
           NA,     GNS,    326,  99,-999.0,      10,  2,19970427,0000,  65.5862,   -4.0514,  3387,   1200.2,  -0.7242,   34.905,2,   34.905,2,    296.0,2,    10.45,2,    14.68,2,     0.04,2,     1.00,2,    0.996,2,    0.467,2, 2147.600,2, 2293.400,2
           NA,     GNS,    326,  99,-999.0,       9,  2,19970427,0000,  65.5862,   -4.0514,  3387,   1401.1,  -0.8185,   34.906,2,   34.906,2,    296.8,2,    11.16,2,    14.73,2,     0.01,2,     1.01,2,    0.719,2,    0.342,2, 2154.500,2, 2295.700,2
           NA,     GNS,    326,  99,-999.0,       8,  2,19970427,0000,  65.5862,   -4.0514,  3387,   1601.4,  -0.8632,   34.907,2,   34.907,2,    297.3,2,    11.57,2,    14.77,2,     0.00,2,     1.02,2,    0.590,2,    0.287,2, 2150.200,2, 2297.000,2
           NA,     GNS,    326,  99,-999.0,       7,  2,19970427,0000,  65.5862,   -4.0514,  3387,   1800.5,  -0.8902,   34.907,2,   34.907,2,    297.7,2,    11.91,2,    14.82,2,     0.00,2,     1.01,2,    0.529,2,    0.260,2, 2155.000,2, 2295.900,2
           NA,     GNS,    326,  99,-999.0,       6,  2,19970427,0000,  65.5862,   -4.0514,  3387,   1999.4,  -0.9031,   34.907,2,   34.907,2,    297.7,2,    12.23,2,    14.87,2,     0.02,2,     1.01,2,    0.496,2,    0.244,2, 2149.400,2, 2295.500,2
           NA,     GNS,    326,  99,-999.0,       5,  2,19970427,0000,  65.5862,   -4.0514,  3387,   2197.7,  -0.9014,   34.907,2,   34.907,2,    297.7,2,    12.49,2,    14.93,2,     0.00,2,     1.03,2,    0.453,2,    0.226,2, 2158.400,2, 2297.600,2
           NA,     GNS,    326,  99,-999.0,       4,  2,19970427,0000,  65.5862,   -4.0514,  3387,   2399.9,  -0.8982,   34.908,2,   34.907,2,    297.7,2,    12.86,2,    14.99,2,     0.00,2,     1.01,2,    0.388,2,    0.195,2, 2154.700,2, 2295.900,2
           NA,     GNS,    326,  99,-999.0,       3,  2,19970427,0000,  65.5862,   -4.0514,  3387,   2595.6,  -0.8877,   34.908,2,   34.908,2,    297.7,2,    13.01,2,    15.02,2,     0.00,2,     1.02,2,    0.360,2,    0.182,2, 2152.100,2, 2296.500,2
           NA,     GNS,    326,  99,-999.0,       2,  2,19970427,0000,  65.5862,   -4.0514,  3387,   2798.8,  -0.8763,   34.908,2,   34.908,2,    297.7,2,    13.16,2,    15.03,2,     0.00,2,     1.02,2,    0.330,2,    0.166,2, -999.000,3, 2297.400,2
           NA,     GNS,    326,  99,-999.0,       1,  2,19970427,0000,  65.5862,   -4.0514,  3387,   2900.9,  -0.8687,   34.908,2,   34.908,2,    297.7,2,    13.21,2,    15.03,2,     0.00,2,     1.02,2, -999.000,9, -999.000,9, 2158.700,2, 2300.500,2
           NA,     GNS,    327,   1,-999.0,      12,  2,19970428,0000,  65.8322,   -4.8289,  3274,     10.1,   2.7163, -999.000,9,   34.843,2,    330.0,2,     4.92,2,    10.21,2,     0.11,2,     0.70,2, -999.000,9, -999.000,9, -999.000,9, -999.000,9
           NA,     GNS,    327,   1,-999.0,      11,  2,19970428,0000,  65.8322,   -4.8289,  3274,     99.1,   1.7632, -999.000,9,   34.868,2,    327.4,2,     4.63,2,    11.19,2,     0.09,2,     0.76,2, -999.000,9, -999.000,9, -999.000,9, -999.000,9
           NA,     GNS,    327,   1,-999.0,      10,  2,19970428,0000,  65.8322,   -4.8289,  3274,    299.7,   0.8836, -999.000,9,   34.895,2,    303.8,2,     6.67,2,    13.69,2,     0.04,2,     0.92,2, -999.000,9, -999.000,9, -999.000,9, -999.000,9
           NA,     GNS,    327,   1,-999.0,       9,  2,19970428,0000,  65.8322,   -4.8289,  3274,    496.6,   0.0426, -999.000,9,   34.887,2,    300.8,2,     7.42,2,    14.00,2,     0.01,2,     0.93,2, -999.000,9, -999.000,9, -999.000,9, -999.000,9
           NA,     GNS,    327,   1,-999.0,       8,  2,19970428,0000,  65.8322,   -4.8289,  3274,    799.9,  -0.4750, -999.000,9,   34.897,2,    296.9,2,     8.81,2,    14.31,2,     0.01,2,     0.97,2, -999.000,9, -999.000,9, -999.000,9, -999.000,9
           NA,     GNS,    327,   1,-999.0,       7,  2,19970428,0000,  65.8322,   -4.8289,  3274,    999.2,  -0.6311, -999.000,9,   34.903,2,    295.1,2,     9.77,2,    14.55,2,     0.01,2,     0.98,2, -999.000,9, -999.000,9, -999.000,9, -999.000,9
           NA,     GNS,    327,   1,-999.0,       6,  2,19970428,0000,  65.8322,   -4.8289,  3274,   1200.6,  -0.7455, -999.000,9,   34.906,2,    295.1,2,    10.59,2,    14.67,2,     0.01,2,     0.99,2, -999.000,9, -999.000,9, -999.000,9, -999.000,9
           NA,     GNS,    327,   1,-999.0,       5,  2,19970428,0000,  65.8322,   -4.8289,  3274,   1498.8,  -0.8436, -999.000,9,   34.907,2,    296.4,2,    11.38,2,    14.76,2,     0.01,2,     1.00,2, -999.000,9, -999.000,9, -999.000,9, -999.000,9
           NA,     GNS,    327,   1,-999.0,       4,  2,19970428,0000,  65.8322,   -4.8289,  3274,   1998.9,  -0.9063, -999.000,9,   34.907,2,    297.3,2,    12.23,2,    14.91,2,     0.01,2,     1.00,2, -999.000,9, -999.000,9, -999.000,9, -999.000,9
           NA,     GNS,    327,   1,-999.0,       3,  2,19970428,0000,  65.8322,   -4.8289,  3274,   2498.6,  -0.8973, -999.000,9,   34.907,2,    296.8,2,    12.90,2,    15.03,2,     0.01,2,     1.02,2, -999.000,9, -999.000,9, -999.000,9, -999.000,9
           NA,     GNS,    327,   1,-999.0,       2,  2,19970428,0000,  65.8322,   -4.8289,  3274,   3001.5,  -0.8659, -999.000,9,   34.908,2,    296.4,2,    13.45,2,    15.16,2,     0.01,2,     1.02,2, -999.000,9, -999.000,9, -999.000,9, -999.000,9
           NA,     GNS,    327,   1,-999.0,       1,  2,19970428,0000,  65.8322,   -4.8289,  3274,   3101.6,  -0.8578, -999.000,9,   34.909,2,    296.0,2,    13.39,2,    15.13,2,     0.01,2,     1.03,2, -999.000,9, -999.000,9, -999.000,9, -999.000,9
           NA,     GNS,    328,  99,-999.0,      12,  2,19970428,0000,  66.0687,   -5.5854,  3314,      9.3,   2.3899,   34.840,2,   34.845,2,    323.9,2,     4.55,2,     9.96,2,     0.09,2,     0.69,2,    5.909,2,    2.903,2, 2152.600,2, 2297.000,2
           NA,     GNS,    328,  99,-999.0,      11,  2,19970428,0000,  66.0687,   -5.5854,  3314,     50.2,   2.2694,   34.838,2,   34.851,2,    326.1,2,     4.77,2,    10.77,2,     0.11,2,     0.76,2,    5.851,2,    2.849,2, 2148.000,2, 2294.300,2
           NA,     GNS,    328,  99,-999.0,      10,  2,19970428,0000,  66.0687,   -5.5854,  3314,    100.7,   1.8643,   34.890,2,   34.871,2,    327.4,2,     4.77,2,    11.11,2,     0.09,2,     0.76,2,    5.866,2,    2.889,2, 2152.000,2, 2295.400,2
           NA,     GNS,    328,  99,-999.0,       9,  2,19970428,0000,  66.0687,   -5.5854,  3314,    149.3,   1.8282,   34.913,2,   34.909,2,    321.7,2,     5.20,2,    11.84,2,     0.11,2,     0.81,2, -999.000,9,    2.873,2, 2150.700,2, 2298.400,2
           NA,     GNS,    328,  99,-999.0,       8,  2,19970428,0000,  66.0687,   -5.5854,  3314,    199.3,   1.7829,   34.909,2,   34.917,2,    322.1,2,     5.30,2,    11.93,2,     0.09,2,     0.81,2,    5.870,2,    2.902,2, 2144.700,2, 2302.300,2
           NA,     GNS,    328,  99,-999.0,       7,  2,19970428,0000,  66.0687,   -5.5854,  3314,    300.6,   1.2950,   34.901,2,   34.902,2,    310.4,2,     6.07,2,    13.07,2,     0.05,2,     0.89,2,    5.337,2,    2.591,2, 2162.900,2, 2297.000,2
           NA,     GNS,    328,  99,-999.0,       6,  2,19970428,0000,  66.0687,   -5.5854,  3314,    401.2,   0.6099,   34.888,2,   34.890,2,    303.0,2,     6.88,2,    13.75,2,     0.04,2,     0.93,2,    5.423,2,    2.657,2, 2163.200,2, 2297.800,2
           NA,     GNS,    328,  99,-999.0,       5,  2,19970428,0000,  66.0687,   -5.5854,  3314,    500.5,   0.1406,   34.887,2,   34.887,2,   -999.0,3,  -999.00,3,  -999.00,3,     0.03,2,  -999.00,3,    4.444,2,    2.134,2, 2153.400,2, 2296.800,2
           NA,     GNS,    328,  99,-999.0,       4,  2,19970428,0000,  66.0687,   -5.5854,  3314,    599.5,  -0.1242,   34.888,2,   34.889,2,    303.0,2,     7.59,2,    13.85,2,     0.01,2,     0.93,2,    3.491,2,    1.697,2, 2162.700,2, 2295.900,2
           NA,     GNS,    328,  99,-999.0,       3,  2,19970428,0000,  66.0687,   -5.5854,  3314,    703.7,  -0.3036,   34.890,2,   34.891,2,    303.4,2,     7.94,2,    14.04,2,     0.01,2,     0.94,2,    3.157,2,    1.522,2, 2161.300,2, 2295.100,2
           NA,     GNS,    328,  99,-999.0,       2,  2,19970428,0000,  66.0687,   -5.5854,  3314,    800.8,  -0.4529,   34.893,2,   34.892,2,    304.3,2,     8.26,2,    13.95,2,     0.01,2,     0.94,2,    2.905,2,    1.388,2, 2165.100,2, 2295.100,2
           NA,     GNS,    328,  99,-999.0,       1,  2,19970428,0000,  66.0687,   -5.5854,  3314,    898.1,  -0.5461,   34.894,2,   34.894,2,    303.8,2,     8.58,2,    14.01,2,     0.01,2,     0.94,2,    2.614,2,    1.242,2, 2156.400,2, 2295.500,2
           NA,     GNS,    328,  99,-999.0,      12,  2,19970428,0000,  66.0687,   -5.5854,  3314,   1000.3,  -0.6083,   34.899,2,   34.900,2,    296.9,2,     9.42,2,    14.38,2,     0.01,2,     0.97,2,    1.784,2,    0.825,2, 2160.100,2, 2297.300,2
           NA,     GNS,    328,  99,-999.0,      11,  2,19970428,0000,  66.0687,   -5.5854,  3314,   1200.1,  -0.7150,   34.904,2,   34.904,2,    296.4,2,    10.22,2,    14.49,2,     0.01,2,     0.98,2, -999.000,9, -999.000,9, 2162.900,2, 2298.100,2
           NA,     GNS,    328,  99,-999.0,      10,  2,19970428,0000,  66.0687,   -5.5854,  3314,   1399.0,  -0.7990,   34.906,2,   34.906,2,    296.0,2,    10.99,2,    14.68,2,     0.00,2,     0.99,2,    0.772,2,    0.372,2, 2158.700,2, 2299.700,2
           NA,     GNS,    328,  99,-999.0,       9,  2,19970428,0000,  66.0687,   -5.5854,  3314,   1597.6,  -0.8488,   34.907,2,   34.907,2,    296.4,2,    11.42,2,    14.71,2,     0.00,2,     0.99,2,    0.644,2,    0.310,2, 2160.200,2, 2299.900,2
           NA,     GNS,    328,  99,-999.0,       8,  2,19970428,0000,  66.0687,   -5.5854,  3314,   1798.6,  -0.8770,   34.908,2,   34.907,2,    297.3,2,    11.75,2,    14.77,2,     0.00,2,     0.99,2,    0.570,2,    0.277,2, 2158.400,2, 2298.000,2
           NA,     GNS,    328,  99,-999.0,       7,  2,19970428,0000,  66.0687,   -5.5854,  3314,   1998.7,  -0.8956,   34.907,2,   34.907,2,    297.7,2,    12.08,2,    14.85,2,     0.01,2,     1.00,2,    0.504,2,    0.247,2, 2166.800,2, 2297.600,2
           NA,     GNS,    328,  99,-999.0,       6,  2,19970428,0000,  66.0687,   -5.5854,  3314,   2249.8,  -0.8952,   34.907,2,   34.907,2,   -999.0,3,    12.36,2,    14.90,2,     0.01,2,     1.00,2,    0.463,2,    0.224,2, -999.000,3, 2299.100,2
           NA,     GNS,    328,  99,-999.0,       5,  2,19970428,0000,  66.0687,   -5.5854,  3314,   2501.1,  -0.8892,   34.908,2,   34.907,2,    296.8,2,    12.80,2,    15.04,2,     0.00,2,  -999.00,9,    0.405,2,    0.198,2, 2160.700,2, 2298.800,2
           NA,     GNS,    328,  99,-999.0,       4,  2,19970428,0000,  66.0687,   -5.5854,  3314,   2748.2,  -0.8780,   34.908,2,   34.908,2,    297.3,2,    12.93,2,    15.01,2,     0.01,2,     1.01,2,    0.354,2,    0.175,2, 2161.700,2, 2295.700,2
           NA,     GNS,    328,  99,-999.0,       3,  2,19970428,0000,  66.0687,   -5.5854,  3314,   3001.4,  -0.8644,   34.909,2,   34.908,2,    296.8,2,    13.30,2,    15.06,2,     0.00,2,     1.02,2,    0.293,2,    0.152,2, 2165.800,2, 2297.400,2
           NA,     GNS,    328,  99,-999.0,       2,  2,19970428,0000,  66.0687,   -5.5854,  3314,   3249.8,  -0.8454,   34.909,2,   34.909,2,    296.8,2,    13.43,2,    15.07,2,     0.00,2,     1.02,2,    0.270,2,    0.138,2, 2163.900,2, 2297.800,2
           NA,     GNS,    328,  99,-999.0,       1,  2,19970428,0000,  66.0687,   -5.5854,  3314,   3303.5,  -0.8409,   34.909,2,   34.909,2,    296.4,2,    13.42,2,    15.08,2,     0.00,2,     1.01,2,    0.270,2,    0.142,2, 2166.400,2, 2300.500,2
           NA,     GNS,    329,   1,-999.0,      12,  2,19970428,0000,  66.3507,   -6.4979,  2993,      9.4,   2.2389, -999.000,9,   34.915,2,    328.7,2,     5.05,2,    10.96,2,     0.07,2,     0.73,2, -999.000,9, -999.000,9, -999.000,9, -999.000,9
           NA,     GNS,    329,   1,-999.0,      11,  2,19970428,0000,  66.3507,   -6.4979,  2993,     50.0,   2.2401, -999.000,9,   34.917,2,    329.1,2,     5.01,2,    10.84,2,     0.07,2,     0.73,2, -999.000,9, -999.000,9, -999.000,9, -999.000,9
           NA,     GNS,    329,   1,-999.0,      10,  2,19970428,0000,  66.3507,   -6.4979,  2993,     97.9,   2.1910, -999.000,9,   34.938,2,    323.4,2,     5.20,2,    11.54,2,     0.09,2,     0.78,2, -999.000,9, -999.000,9, -999.000,9, -999.000,9
           NA,     GNS,    329,   1,-999.0,       9,  2,19970428,0000,  66.3507,   -6.4979,  2993,    301.3,   1.8353, -999.000,9,   34.922,2,    318.6,2,     5.42,2,    12.16,2,     0.02,2,     0.82,2, -999.000,9, -999.000,9, -999.000,9, -999.000,9
           NA,     GNS,    329,   1,-999.0,       8,  2,19970428,0000,  66.3507,   -6.4979,  2993,    500.4,   0.4264, -999.000,9,   34.888,2,    305.1,2,     7.01,2,    13.79,2,     0.05,2,     0.93,2, -999.000,9, -999.000,9, -999.000,9, -999.000,9
           NA,     GNS,    329,   1,-999.0,       7,  2,19970428,0000,  66.3507,   -6.4979,  2993,    800.8,  -0.4120, -999.000,9,   34.892,2,    303.0,2,     8.13,2,    13.88,2,     0.02,2,     0.95,2, -999.000,9, -999.000,9, -999.000,9, -999.000,9
           NA,     GNS,    329,   1,-999.0,       6,  2,19970428,0000,  66.3507,   -6.4979,  2993,   1001.5,  -0.6142, -999.000,9,   34.841,0,    303.1,2,     8.82,2,    13.95,2,     0.02,2,     0.96,2, -999.000,9, -999.000,9, -999.000,9, -999.000,9
           NA,     GNS,    329,   1,-999.0,       5,  2,19970428,0000,  66.3507,   -6.4979,  2993,   1201.9,  -0.7035, -999.000,9,   34.901,2,    299.5,2,     9.80,2,    14.27,2,     0.01,2,     0.97,2, -999.000,9, -999.000,9, -999.000,9, -999.000,9
           NA,     GNS,    329,   1,-999.0,       4,  2,19970428,0000,  66.3507,   -6.4979,  2993,   1503.3,  -0.8003, -999.000,9,   34.906,2,    297.7,2,    10.30,2,    14.42,2,     0.01,2,     0.98,2, -999.000,9, -999.000,9, -999.000,9, -999.000,9
           NA,     GNS,    329,   1,-999.0,       3,  2,19970428,0000,  66.3507,   -6.4979,  2993,   1998.6,  -0.8696, -999.000,9,   34.907,2,    297.3,2,    11.89,2,    14.84,2,     0.01,2,     1.01,2, -999.000,9, -999.000,9, -999.000,9, -999.000,9
           NA,     GNS,    329,   1,-999.0,       2,  2,19970428,0000,  66.3507,   -6.4979,  2993,   2500.0,  -0.8736, -999.000,9,   34.907,2,    298.2,2,    12.25,2,    14.82,2,     0.03,2,     1.00,2, -999.000,9, -999.000,9, -999.000,9, -999.000,9
           NA,     GNS,    329,   1,-999.0,       1,  2,19970428,0000,  66.3507,   -6.4979,  2993,   2853.7,  -0.8579, -999.000,9,   34.908,2,    298.2,2,    12.80,2,    14.98,2,     0.01,2,     1.03,2, -999.000,9, -999.000,9, -999.000,9, -999.000,9