BOTTLE,20224407JOAExport
EXPOCODE,SECT_ID,STNNBR,CASTNO,SAMPNO,BTLNBR,BTLNBR_FLAG_W,DATE,TIME,LATITUDE,LONGITUDE,DEPTH,CTDPRS,CTDTMP,CTDSAL,CTDSAL_FLAG_W,SALNTY,SALNTY_FLAG_W,OXYGEN,OXYGEN_FLAG_W,SILCAT,SILCAT_FLAG_W,NITRAT,NITRAT_FLAG_W,NITRIT,NITRIT_FLAG_W,PHSPHT,PHSPHT_FLAG_W,CFC-11,CFC-11_FLAG_W,CFC-12,CFC-12_FLAG_W,TCARBN,TCARBN_FLAG_W,ALKALI,ALKALI_FLAG_W
,,,,,,,,,,,,DB,ITS-90,PSS-78,,PSS-78,,UMOL/KG,,UMOL/KG,,UMOL/KG,,UMOL/KG,,UMOL/KG,,PMOL/KG,,PMOL/KG,,UMOL/KG,,UMOL/KG
           NA,     GNS,    358,   1,-999.0,      12,  2,19970506,0000,  74.5532,   15.0622,  1588,     10.7,   4.3779, -999.000,9,   35.038,2,    306.0,2,     4.87,2,    10.97,2,     0.09,2,     0.74,2,    4.960,2,    2.545,2, -999.000,9, -999.000,9
           NA,     GNS,    358,   1,-999.0,      11,  2,19970506,0000,  74.5532,   15.0622,  1588,     49.2,   4.3799, -999.000,9,   35.038,2,    305.5,2,     4.88,2,    11.01,2,     0.11,2,     0.76,2,    4.969,2,    2.555,2, -999.000,9, -999.000,9
           NA,     GNS,    358,   1,-999.0,      10,  2,19970506,0000,  74.5532,   15.0622,  1588,     99.9,   4.1322, -999.000,9,   35.052,2,    306.4,2,     4.98,2,    11.21,2,     0.09,2,     0.76,2,    5.033,2,    2.568,2, -999.000,9, -999.000,9
           NA,     GNS,    358,   1,-999.0,       9,  2,19970506,0000,  74.5532,   15.0622,  1588,    150.2,   4.0991, -999.000,9,   35.055,2,    306.0,2,     5.01,2,    11.33,2,     0.09,2,     0.77,2,    5.014,2,    2.579,2, -999.000,9, -999.000,9
           NA,     GNS,    358,   1,-999.0,       8,  2,19970506,0000,  74.5532,   15.0622,  1588,    200.6,   3.7590, -999.000,9,   35.052,2,    303.8,2,     5.28,2,    11.95,2,     0.07,2,     0.81,2,    5.074,2,    2.601,2, -999.000,9, -999.000,9
           NA,     GNS,    358,   1,-999.0,       7,  2,19970506,0000,  74.5532,   15.0622,  1588,    300.2,   3.0345, -999.000,9,   35.021,2,    308.2,2,     5.48,2,    12.26,2,     0.05,2,     0.84,2,    5.165,2,    2.609,2, -999.000,9, -999.000,9
           NA,     GNS,    358,   1,-999.0,       6,  2,19970506,0000,  74.5532,   15.0622,  1588,    501.7,   2.2419, -999.000,9,   34.997,2,    311.6,2,     5.50,2,    12.41,2,     0.03,2,     0.85,2,    5.403,2,    2.715,2, -999.000,9, -999.000,9
           NA,     GNS,    358,   1,-999.0,       5,  2,19970506,0000,  74.5532,   15.0622,  1588,    800.1,  -0.0768, -999.000,9,   34.894,2,    303.4,2,     7.77,2,    14.18,2,     0.01,2,     0.97,2,    3.565,2,    1.689,2, -999.000,9, -999.000,9
           NA,     GNS,    358,   1,-999.0,       4,  2,19970506,0000,  74.5532,   15.0622,  1588,   1001.3,  -0.5467, -999.000,9,   34.900,2,    297.3,2,     9.64,2,    14.69,2,     0.01,2,     1.01,2,    1.952,2,    0.869,2, -999.000,9, -999.000,9
           NA,     GNS,    358,   1,-999.0,       3,  2,19970506,0000,  74.5532,   15.0622,  1588,   1200.1,  -0.7437, -999.000,9,   34.905,2,    296.0,2,    10.93,2,    14.94,2,     0.01,2,     1.03,2,    1.100,2,    0.490,2, -999.000,9, -999.000,9
           NA,     GNS,    358,   1,-999.0,       2,  2,19970506,0000,  74.5532,   15.0622,  1588,   1502.3,  -0.9196, -999.000,9,   34.906,2,    296.8,2,    12.49,2,    15.23,2,     0.01,2,     1.05,2,    0.570,2,    0.260,2, -999.000,9, -999.000,9
           NA,     GNS,    358,   1,-999.0,       1,  2,19970506,0000,  74.5532,   15.0622,  1588,   1577.7,  -0.9354, -999.000,9,   34.906,2,    296.8,2,    12.64,2,    15.32,2,     0.01,2,     1.04,2,    0.545,2,    0.243,2, -999.000,9, -999.000,9
           NA,     GNS,    390,  99,-999.0,      12,  2,19970512,0000,  73.0007,   -5.0029,  3390,      9.3,  -1.3109,   34.647,2,   34.652,2,    357.1,2,     5.43,2,    10.97,2,     0.03,2,     0.73,2,    6.897,2, -999.000,9, 2140.200,2, 2283.100,2
           NA,     GNS,    390,  99,-999.0,      11,  2,19970512,0000,  73.0007,   -5.0029,  3390,     99.2,  -1.1597,   34.707,2,   34.720,2,    346.2,2,     5.81,2,    11.62,2,     0.03,2,     0.77,2,    6.310,2,    3.137,2, 2149.200,2, 2287.600,2
           NA,     GNS,    390,  99,-999.0,      10,  2,19970512,0000,  73.0007,   -5.0029,  3390,    199.2,  -0.1296,   34.783,2,   34.834,2,    318.7,2,     6.40,2,    12.51,2,     0.02,2,     0.82,2,    4.430,2,    2.217,2, 2150.100,2, 2294.700,2
           NA,     GNS,    390,  99,-999.0,       9,  2,19970512,0000,  73.0007,   -5.0029,  3390,    299.3,  -0.0745,   34.862,2,   34.863,2,    314.7,2,     6.61,2,    12.69,2,     0.02,2,     0.84,2,    4.016,2,    1.985,2, 2158.900,2, 2296.700,2
           NA,     GNS,    390,  99,-999.0,       8,  2,19970512,0000,  73.0007,   -5.0029,  3390,    399.7,  -0.1754,   34.875,2,   34.878,2,    313.0,2,     6.91,2,    12.95,2,     0.01,2,     0.86,2,    3.765,2,    1.857,2, 2155.800,2, 2296.100,2
           NA,     GNS,    390,  99,-999.0,       7,  2,19970512,0000,  73.0007,   -5.0029,  3390,    499.0,  -0.2330,   34.894,2,   34.895,2,    313.4,2,     7.34,2,    13.29,2,     0.01,2,     0.88,2,    3.734,2,    1.815,2, 2165.200,2, 2297.200,2
           NA,     GNS,    390,  99,-999.0,       6,  2,19970512,0000,  73.0007,   -5.0029,  3390,    549.7,  -0.3326, -999.000,9,   34.896,2,   -999.0,9,     7.40,2,    13.34,2,     0.01,2,     0.89,2, -999.000,9, -999.000,9, -999.000,9, -999.000,9
           NA,     GNS,    390,  99,-999.0,       5,  2,19970512,0000,  73.0007,   -5.0029,  3390,    599.1,  -0.3963,   34.894,2,   34.895,2,   -999.0,9,     7.46,2,    13.38,2,     0.01,2,     0.88,2,    3.956,2,    1.911,2, 2156.500,2, 2297.000,2
           NA,     GNS,    390,  99,-999.0,       4,  2,19970512,0000,  73.0007,   -5.0029,  3390,    649.3,  -0.4714, -999.000,9,   34.893,2,    315.6,2,     7.69,2,    13.46,2,     0.01,2,     0.89,2, -999.000,9, -999.000,9, -999.000,9, -999.000,9
           NA,     GNS,    390,  99,-999.0,       3,  2,19970512,0000,  73.0007,   -5.0029,  3390,    699.6,  -0.5458,   34.892,2,   34.891,2,   -999.0,9,     7.74,2,    13.51,2,     0.01,2,     0.88,2,    3.789,2,    1.828,2, 2163.500,2, 2295.600,2
           NA,     GNS,    390,  99,-999.0,       2,  2,19970512,0000,  73.0007,   -5.0029,  3390,    749.8,  -0.6258, -999.000,9,   34.889,2,   -999.0,9,     7.77,2,    13.56,2,     0.01,2,     0.89,2, -999.000,9, -999.000,9, -999.000,9, -999.000,9
           NA,     GNS,    390,  99,-999.0,      12,  2,19970512,0000,  73.0007,   -5.0029,  3390,    800.3,  -0.6684,   34.888,2,   34.888,2,    316.5,2,     7.81,2,    13.57,2,     0.02,2,     0.90,2,    3.899,2,    1.879,2, 2160.900,2, 2295.400,2
           NA,     GNS,    390,  99,-999.0,       1,  2,19970512,0000,  73.0007,   -5.0029,  3390,    800.4,  -0.6748, -999.000,9,   34.888,2,   -999.0,9,     7.81,2,    13.56,2,     0.01,2,     0.89,2, -999.000,9, -999.000,9, -999.000,9, -999.000,9
           NA,     GNS,    390,  99,-999.0,      11,  2,19970512,0000,  73.0007,   -5.0029,  3390,    850.9,  -0.6947, -999.000,9,   34.888,2,   -999.0,9,     7.89,2,    13.57,2,     0.01,2,     0.90,2, -999.000,9, -999.000,9, -999.000,9, -999.000,9
           NA,     GNS,    390,  99,-999.0,      10,  2,19970512,0000,  73.0007,   -5.0029,  3390,    899.3,  -0.7420,   34.889,2,   34.887,2,   -999.0,9,     8.02,2,    13.65,2,     0.03,2,     0.93,2,    3.772,2,    1.851,2, 2164.900,2, 2294.800,2
           NA,     GNS,    390,  99,-999.0,       9,  2,19970512,0000,  73.0007,   -5.0029,  3390,   1000.6,  -0.7423,   34.891,2,   34.891,2,    313.0,2,     8.44,2,    13.75,2,     0.01,2,     0.91,2,    3.201,2,    1.538,2, 2155.100,2, 2296.300,2
           NA,     GNS,    390,  99,-999.0,       8,  2,19970512,0000,  73.0007,   -5.0029,  3390,   1100.8,  -0.7670,   34.895,2,   34.893,2,    312.5,2,     8.74,2,    13.88,2,     0.01,2,     0.92,2,    2.946,2,    1.429,2, 2161.000,2, 2295.200,2
           NA,     GNS,    390,  99,-999.0,       7,  2,19970512,0000,  73.0007,   -5.0029,  3390,   1200.5,  -0.7525,   34.901,2,   34.898,2,    306.4,2,     9.31,2,    14.09,2,     0.01,2,     0.93,2,    2.328,2,    1.091,2, 2159.300,2, 2297.000,2
           NA,     GNS,    390,  99,-999.0,       6,  2,19970512,0000,  73.0007,   -5.0029,  3390,   1400.5,  -0.7553,   34.907,2,   34.907,2,    299.5,2,    10.45,2,    14.50,2,     0.02,2,     0.97,2,    1.209,2,    0.549,2, 2162.100,2, 2298.400,2
           NA,     GNS,    390,  99,-999.0,       5,  2,19970512,0000,  73.0007,   -5.0029,  3390,   1600.7,  -0.8192,   34.907,2,   34.907,2,    299.0,2,    10.89,2,    14.64,2,     0.03,2,     0.96,2,    0.959,2,    0.434,2, -999.000,3, 2296.700,2
           NA,     GNS,    390,  99,-999.0,       4,  2,19970512,0000,  73.0007,   -5.0029,  3390,   1800.1,  -0.8771,   34.907,2,   34.907,2,   -999.0,9,    11.25,2,    14.77,2,     0.04,2,     0.97,2,    0.830,2,    0.372,2, 2160.500,2, 2298.200,2
           NA,     GNS,    390,  99,-999.0,       3,  2,19970512,0000,  73.0007,   -5.0029,  3390,   2000.8,  -0.9080,   34.907,2,   34.907,2,    300.8,2,    11.43,2,    14.69,2,     0.02,2,     0.98,2,    0.766,2,    0.359,2, 2158.500,2, 2299.000,2
           NA,     GNS,    390,  99,-999.0,       2,  2,19970512,0000,  73.0007,   -5.0029,  3390,   2500.7,  -0.9548,   34.904,2,   34.904,2,    303.0,2,    11.73,2,    14.80,2,     0.05,2,     0.98,2,    0.760,2,    0.347,2, 2161.400,2, 2296.700,2
           NA,     GNS,    390,  99,-999.0,       1,  2,19970512,0000,  73.0007,   -5.0029,  3390,   2701.5,  -0.9699,   34.903,2,   34.902,2,    303.4,2,    11.80,2,    14.71,2,     0.02,2,     0.97,2,    0.779,2,    0.358,2, 2161.300,2, 2298.800,2
           NA,     GNS,    392,  99,-999.0,      21,  2,19970512,0000,  73.0010,   -6.9973,  3360,      9.9,  -1.4670, -999.000,9,   34.479,2,    361.9,2,     5.14,2,    10.22,2,     0.04,2,     0.68,2, -999.000,9, -999.000,9, -999.000,9, -999.000,9
           NA,     GNS,    392,  99,-999.0,      20,  2,19970512,0000,  73.0010,   -6.9973,  3360,     99.0,   0.6240, -999.000,9,   34.825,2,    317.8,2,     6.18,2,    12.26,2,     0.03,2,     0.81,2, -999.000,9, -999.000,9, -999.000,9, -999.000,9
           NA,     GNS,    392,  99,-999.0,      18,  2,19970512,0000,  73.0010,   -6.9973,  3360,    200.4,   0.5310, -999.000,9,   34.865,2,    310.4,2,     6.51,2,    12.65,2,     0.02,2,     0.84,2, -999.000,9, -999.000,9, -999.000,9, -999.000,9
           NA,     GNS,    392,  99,-999.0,      16,  2,19970512,0000,  73.0010,   -6.9973,  3360,    299.3,  -0.4050, -999.000,9,   34.824,2,    323.9,2,     6.42,2,    12.49,2,     0.03,2,     0.83,2, -999.000,9, -999.000,9, -999.000,9, -999.000,9
           NA,     GNS,    392,  99,-999.0,      14,  2,19970512,0000,  73.0010,   -6.9973,  3360,    399.1,  -0.3950, -999.000,9,   34.841,2,    313.0,2,     6.51,2,    12.62,2,     0.02,2,     0.84,2, -999.000,9, -999.000,9, -999.000,9, -999.000,9
           NA,     GNS,    392,  99,-999.0,      12,  2,19970512,0000,  73.0010,   -6.9973,  3360,    500.1,  -0.2190, -999.000,9,   34.875,2,    313.4,2,     6.94,2,    12.97,2,     0.01,2,     0.86,2, -999.000,9, -999.000,9, -999.000,9, -999.000,9
           NA,     GNS,    392,  99,-999.0,      10,  2,19970512,0000,  73.0010,   -6.9973,  3360,    550.9,  -0.2970, -999.000,9,   34.879,2,   -999.0,9,     7.08,2,    13.08,2,     0.01,2,     0.88,2, -999.000,9, -999.000,9, -999.000,9, -999.000,9
           NA,     GNS,    392,  99,-999.0,       8,  2,19970512,0000,  73.0010,   -6.9973,  3360,    600.6,  -0.3440, -999.000,9,   34.882,2,    313.9,2,     7.21,2,    13.19,2,     0.02,2,     0.88,2, -999.000,9, -999.000,9, -999.000,9, -999.000,9
           NA,     GNS,    392,  99,-999.0,       6,  2,19970512,0000,  73.0010,   -6.9973,  3360,    650.8,  -0.4520, -999.000,9,   34.881,2,   -999.0,9,     7.23,2,    13.16,2,     0.02,2,     0.88,2, -999.000,9, -999.000,9, -999.000,9, -999.000,9
           NA,     GNS,    392,  99,-999.0,       5,  2,19970512,0000,  73.0010,   -6.9973,  3360,    700.0,  -0.5040, -999.000,9,   34.882,2,    316.9,2,     7.26,2,    13.21,2,     0.01,2,     0.88,2, -999.000,9, -999.000,9, -999.000,9, -999.000,9
           NA,     GNS,    392,  99,-999.0,       3,  2,19970512,0000,  73.0010,   -6.9973,  3360,    750.9,  -0.5020, -999.000,9,   34.887,2,   -999.0,9,     7.48,2,    13.37,2,     0.01,2,     0.89,2, -999.000,9, -999.000,9, -999.000,9, -999.000,9
           NA,     GNS,    392,  99,-999.0,      21,  2,19970512,0000,  73.0010,   -6.9973,  3360,    800.5,  -0.5370, -999.000,9,   34.891,2,    314.7,2,     7.67,2,    13.46,2,     0.02,2,     0.90,2, -999.000,9, -999.000,9, -999.000,9, -999.000,9
           NA,     GNS,    392,  99,-999.0,       2,  2,19970512,0000,  73.0010,   -6.9973,  3360,    803.6,  -0.5120, -999.000,9,   34.892,2,   -999.0,9,     7.60,2,    13.46,2,     0.01,2,     0.90,2, -999.000,9, -999.000,9, -999.000,9, -999.000,9
           NA,     GNS,    392,  99,-999.0,      20,  2,19970512,0000,  73.0010,   -6.9973,  3360,    823.8,  -0.5530, -999.000,9,   34.891,2,   -999.0,9,     7.76,2,    13.51,2,     0.03,2,     0.90,2, -999.000,9, -999.000,9, -999.000,9, -999.000,9
           NA,     GNS,    392,  99,-999.0,      19,  2,19970512,0000,  73.0010,   -6.9973,  3360,    849.3,  -0.5910, -999.000,9,   34.890,2,   -999.0,9,     7.74,2,    13.51,2,     0.01,2,     0.91,2, -999.000,9, -999.000,9, -999.000,9, -999.000,9
           NA,     GNS,    392,  99,-999.0,      18,  2,19970512,0000,  73.0010,   -6.9973,  3360,    900.6,  -0.6250, -999.000,9,   34.890,2,   -999.0,9,     7.84,2,    13.55,2,     0.01,2,     0.91,2, -999.000,9, -999.000,9, -999.000,9, -999.000,9
           NA,     GNS,    392,  99,-999.0,      16,  2,19970512,0000,  73.0010,   -6.9973,  3360,   1001.1,  -0.7080, -999.000,9,   34.890,2,    313.9,2,     8.16,2,    13.66,2,     0.01,2,     0.92,2, -999.000,9, -999.000,9, -999.000,9, -999.000,9
           NA,     GNS,    392,  99,-999.0,      14,  2,19970512,0000,  73.0010,   -6.9973,  3360,   1100.3,  -0.7880, -999.000,9,   34.886,2,   -999.0,9,     8.10,2,    13.69,2,     0.02,2,     0.91,2, -999.000,9, -999.000,9, -999.000,9, -999.000,9
           NA,     GNS,    392,  99,-999.0,      12,  2,19970512,0000,  73.0010,   -6.9973,  3360,   1200.3,  -0.8110, -999.000,9,   34.889,2,    314.7,2,     8.39,2,    13.82,2,     0.01,2,     0.92,2, -999.000,9, -999.000,9, -999.000,9, -999.000,9
           NA,     GNS,    392,  99,-999.0,      10,  2,19970512,0000,  73.0010,   -6.9973,  3360,   1401.9,  -0.7390, -999.000,9,   34.905,2,    299.5,2,    10.14,2,    14.39,2,     0.01,2,     0.97,2, -999.000,9, -999.000,9, -999.000,9, -999.000,9
           NA,     GNS,    392,  99,-999.0,       8,  2,19970512,0000,  73.0010,   -6.9973,  3360,   1600.6,  -0.7970, -999.000,9,   34.907,2,    299.0,2,    10.75,2,    14.56,2,     0.01,2,     0.98,2, -999.000,9, -999.000,9, -999.000,9, -999.000,9
           NA,     GNS,    392,  99,-999.0,       6,  2,19970512,0000,  73.0010,   -6.9973,  3360,   1799.9,  -0.8450, -999.000,9,   34.908,2,    299.0,2,    11.08,2,    14.63,2,     0.02,2,     0.98,2, -999.000,9, -999.000,9, -999.000,9, -999.000,9
           NA,     GNS,    392,  99,-999.0,       4,  2,19970512,0000,  73.0010,   -6.9973,  3360,   2000.4,  -0.8860, -999.000,9,   34.908,2,    299.5,2,    11.44,2,    14.73,2,     0.02,2,     0.98,2, -999.000,9, -999.000,9, -999.000,9, -999.000,9
           NA,     GNS,    392,  99,-999.0,       2,  2,19970512,0000,  73.0010,   -6.9973,  3360,   2502.5,  -0.9530, -999.000,9,   34.905,2,    303.0,2,    11.68,2,    14.71,2,     0.02,2,     0.98,2, -999.000,9, -999.000,9, -999.000,9, -999.000,9