BOTTLE,20224407JOAExport
EXPOCODE,SECT_ID,STNNBR,CASTNO,SAMPNO,BTLNBR,BTLNBR_FLAG_W,DATE,TIME,LATITUDE,LONGITUDE,DEPTH,CTDPRS,CTDTMP,CTDSAL,CTDSAL_FLAG_W,SALNTY,SALNTY_FLAG_W,OXYGEN,OXYGEN_FLAG_W,SILCAT,SILCAT_FLAG_W,NITRAT,NITRAT_FLAG_W,NITRIT,NITRIT_FLAG_W,PHSPHT,PHSPHT_FLAG_W,CFC-11,CFC-11_FLAG_W,CFC-12,CFC-12_FLAG_W,TCARBN,TCARBN_FLAG_W,ALKALI,ALKALI_FLAG_W
,,,,,,,,,,,,DB,ITS-90,PSS-78,,PSS-78,,UMOL/KG,,UMOL/KG,,UMOL/KG,,UMOL/KG,,UMOL/KG,,PMOL/KG,,PMOL/KG,,UMOL/KG,,UMOL/KG
           NA,     GNS,    410,  99,-999.0,      21,  2,19970516,0000,  74.0002,   -6.8334,  3410,      2.9,  -1.6250, -999.000,9,   34.528,2,   -999.0,9,     5.24,2,    10.42,2,     0.04,2,     0.74,2, -999.000,9, -999.000,9, -999.000,9, -999.000,9
           NA,     GNS,    410,  99,-999.0,      12,  2,19970516,0000,  74.0002,   -6.8334,  3410,      9.3,  -1.6005,   34.718,2,   34.574,2,    361.9,2,     5.21,2,    10.56,2,     0.04,2,     0.74,2,    6.453,2,    3.238,2, 2121.300,2, 2281.700,2
           NA,     GNS,    410,  99,-999.0,      20,  2,19970516,0000,  74.0002,   -6.8334,  3410,      9.9,  -1.6330, -999.000,9,   34.528,2,   -999.0,9,     5.24,2,    10.46,2,     0.04,2,     0.74,2, -999.000,9, -999.000,9, -999.000,9, -999.000,9
           NA,     GNS,    410,  99,-999.0,      19,  2,19970516,0000,  74.0002,   -6.8334,  3410,     14.9,  -1.6330, -999.000,9,   34.528,2,   -999.0,9,     5.24,2,    10.35,2,     0.04,2,     0.74,2, -999.000,9, -999.000,9, -999.000,9, -999.000,9
           NA,     GNS,    410,  99,-999.0,      18,  2,19970516,0000,  74.0002,   -6.8334,  3410,     20.0,  -1.6280, -999.000,9,   34.549,2,   -999.0,9,     5.29,2,    10.50,2,     0.04,2,     0.75,2, -999.000,9, -999.000,9, -999.000,9, -999.000,9
           NA,     GNS,    410,  99,-999.0,      17,  2,19970516,0000,  74.0002,   -6.8334,  3410,     29.9,  -1.4860, -999.000,9,   34.682,2,   -999.0,9,     5.56,2,    11.16,2,     0.03,2,     0.77,2, -999.000,9, -999.000,9, -999.000,9, -999.000,9
           NA,     GNS,    410,  99,-999.0,      16,  2,19970516,0000,  74.0002,   -6.8334,  3410,     32.8,  -1.6220, -999.000,9,   34.698,2,   -999.0,9,     5.42,2,    11.15,2,     0.04,2,     0.76,2, -999.000,9, -999.000,9, -999.000,9, -999.000,9
           NA,     GNS,    410,  99,-999.0,      15,  2,19970516,0000,  74.0002,   -6.8334,  3410,     36.0,  -1.7280, -999.000,9,   34.684,2,   -999.0,9,     5.16,2,    11.00,2,     0.04,2,     0.76,2, -999.000,9, -999.000,9, -999.000,9, -999.000,9
           NA,     GNS,    410,  99,-999.0,      14,  2,19970516,0000,  74.0002,   -6.8334,  3410,     40.0,  -1.7360, -999.000,9,   34.688,2,   -999.0,9,     5.11,2,    11.00,2,     0.04,2,     0.74,2, -999.000,9, -999.000,9, -999.000,9, -999.000,9
           NA,     GNS,    410,  99,-999.0,      13,  2,19970516,0000,  74.0002,   -6.8334,  3410,     40.2,  -1.7350, -999.000,9,   34.686,2,   -999.0,9,     5.11,2,    11.00,2,     0.04,2,     0.74,2, -999.000,9, -999.000,9, -999.000,9, -999.000,9
           NA,     GNS,    410,  99,-999.0,      12,  2,19970516,0000,  74.0002,   -6.8334,  3410,     45.0,  -1.7340, -999.000,9,   34.688,2,   -999.0,9,     5.15,2,    11.04,2,     0.04,2,     0.74,2, -999.000,9, -999.000,9, -999.000,9, -999.000,9
           NA,     GNS,    410,  99,-999.0,      11,  2,19970516,0000,  74.0002,   -6.8334,  3410,     50.0,  -1.7210, -999.000,9,   34.693,2,   -999.0,9,     5.29,2,    11.28,2,     0.04,2,     0.77,2, -999.000,9, -999.000,9, -999.000,9, -999.000,9
           NA,     GNS,    410,  99,-999.0,      10,  2,19970516,0000,  74.0002,   -6.8334,  3410,     55.1,  -1.6660, -999.000,9,   34.705,2,   -999.0,9,     5.46,2,    11.48,2,     0.04,2,     0.78,2, -999.000,9, -999.000,9, -999.000,9, -999.000,9
           NA,     GNS,    410,  99,-999.0,       9,  2,19970516,0000,  74.0002,   -6.8334,  3410,     59.8,  -1.5770, -999.000,9,   34.707,2,   -999.0,9,     5.56,2,    11.58,2,     0.03,2,     0.78,2, -999.000,9, -999.000,9, -999.000,9, -999.000,9
           NA,     GNS,    410,  99,-999.0,       8,  2,19970516,0000,  74.0002,   -6.8334,  3410,     65.5,  -1.6640, -999.000,9,   34.715,2,   -999.0,9,     5.61,2,    11.65,2,     0.03,2,     0.79,2, -999.000,9, -999.000,9, -999.000,9, -999.000,9
           NA,     GNS,    410,  99,-999.0,       7,  2,19970516,0000,  74.0002,   -6.8334,  3410,     68.2,  -1.7440, -999.000,9,   34.721,2,   -999.0,9,     5.44,2,    11.47,2,     0.04,2,     0.77,2, -999.000,9, -999.000,9, -999.000,9, -999.000,9
           NA,     GNS,    410,  99,-999.0,       6,  2,19970516,0000,  74.0002,   -6.8334,  3410,     73.0,  -1.7180, -999.000,9,   34.731,2,   -999.0,9,     5.61,2,    11.72,2,     0.03,2,     0.79,2, -999.000,9, -999.000,9, -999.000,9, -999.000,9
           NA,     GNS,    410,  99,-999.0,       5,  2,19970516,0000,  74.0002,   -6.8334,  3410,     79.6,  -1.7150, -999.000,9,   34.740,2,   -999.0,9,     5.76,2,    11.89,2,     0.03,2,     0.80,2, -999.000,9, -999.000,9, -999.000,9, -999.000,9
           NA,     GNS,    410,  99,-999.0,       4,  2,19970516,0000,  74.0002,   -6.8334,  3410,     99.9,  -1.7020, -999.000,9,   34.746,2,   -999.0,9,     5.97,2,    12.17,2,     0.04,2,     0.82,2, -999.000,9, -999.000,9, -999.000,9, -999.000,9
           NA,     GNS,    410,  99,-999.0,      11,  2,19970516,0000,  74.0002,   -6.8334,  3410,    100.3,  -1.7569, -999.000,9,   34.778,2,    352.7,2,     5.85,2,    12.03,2,     0.03,2,     0.81,2,    6.367,2,    3.164,2, -999.000,9, -999.000,9
           NA,     GNS,    410,  99,-999.0,       3,  2,19970516,0000,  74.0002,   -6.8334,  3410,    150.0,  -1.6410, -999.000,9,   34.758,2,   -999.0,9,     6.10,2,    12.27,2,     0.03,2,     0.83,2, -999.000,9, -999.000,9, -999.000,9, -999.000,9
           NA,     GNS,    410,  99,-999.0,       2,  2,19970516,0000,  74.0002,   -6.8334,  3410,    199.7,  -1.1080, -999.000,9,   34.800,2,   -999.0,9,     6.50,2,    12.82,2,     0.03,2,     0.87,2, -999.000,9, -999.000,9, -999.000,9, -999.000,9
           NA,     GNS,    410,  99,-999.0,      10,  2,19970516,0000,  74.0002,   -6.8334,  3410,    200.3,  -1.4816,   34.799,2,   34.806,2,    356.2,2,     6.20,2,    12.52,2,     0.03,2,     0.85,2,    5.849,2,    2.911,2, 2140.400,2, 2291.400,2
           NA,     GNS,    410,  99,-999.0,       9,  2,19970516,0000,  74.0002,   -6.8334,  3410,    300.1,  -0.8058, -999.000,9,   34.857,2,    356.1,2,  -999.00,4,  -999.00,4,     0.03,2,  -999.00,4, -999.000,3, -999.000,3, -999.000,9, -999.000,9
           NA,     GNS,    410,  99,-999.0,       1,  2,19970516,0000,  74.0002,   -6.8334,  3410,    304.4,  -0.6240, -999.000,9,   34.842,2,   -999.0,9,     6.90,2,    13.30,2,     0.01,2,     0.90,2, -999.000,9, -999.000,9, -999.000,9, -999.000,9
           NA,     GNS,    410,  99,-999.0,       8,  2,19970516,0000,  74.0002,   -6.8334,  3410,    350.0,  -0.7017,   34.868,2,   34.867,2,    324.3,2,     6.92,2,    13.26,2,     0.03,2,     0.90,2, -999.000,9, -999.000,9, 2142.700,2, 2297.800,2
           NA,     GNS,    410,  99,-999.0,       7,  2,19970516,0000,  74.0002,   -6.8334,  3410,    399.5,  -0.5084, -999.000,9,   34.886,2,    319.5,2,     7.25,2,    13.52,2,     0.01,2,     0.91,2,    4.179,2,    2.051,2, -999.000,9, -999.000,9
           NA,     GNS,    410,  99,-999.0,       6,  2,19970516,0000,  74.0002,   -6.8334,  3410,    450.7,  -0.4988,   34.889,2,   34.890,2,    317.8,2,     7.39,2,    13.64,2,     0.01,2,     0.92,2,    4.088,2,    2.007,2, 2150.400,2, 2298.800,2
           NA,     GNS,    410,  99,-999.0,       5,  2,19970516,0000,  74.0002,   -6.8334,  3410,    499.7,  -0.5397, -999.000,9,   34.890,2,    318.2,2,     7.46,2,    13.73,2,     0.01,2,     0.92,2,    4.058,2,    1.988,2, -999.000,9, -999.000,9
           NA,     GNS,    410,  99,-999.0,       4,  2,19970516,0000,  74.0002,   -6.8334,  3410,    550.6,  -0.6065,   34.888,2,   34.888,2,    318.2,2,     7.54,2,    13.74,2,     0.01,2,     0.93,2, -999.000,9, -999.000,9, 2153.300,2, 2300.000,2
           NA,     GNS,    410,  99,-999.0,       3,  2,19970516,0000,  74.0002,   -6.8334,  3410,    600.1,  -0.6783,   34.887,2,   34.885,2,    319.5,2,     7.57,2,    13.71,2,     0.01,2,     0.93,2,    4.155,2,    2.025,2, 2149.600,2, 2297.700,2
           NA,     GNS,    410,  99,-999.0,       2,  2,19970516,0000,  74.0002,   -6.8334,  3410,    650.0,  -0.6821,   34.886,2,   34.886,2,    319.1,2,     7.63,2,    13.77,2,     0.01,2,     0.93,2, -999.000,9, -999.000,9, 2151.700,2, 2296.500,2
           NA,     GNS,    410,  99,-999.0,      12,  2,19970516,0000,  74.0002,   -6.8334,  3410,    700.2,  -0.6912,   34.885,2,   34.887,2,    317.8,2,     7.75,2,    13.87,2,     0.01,2,     0.93,2, -999.000,9, -999.000,9, 2147.500,2, 2295.000,2
           NA,     GNS,    410,  99,-999.0,       1,  2,19970516,0000,  74.0002,   -6.8334,  3410,    701.2,  -0.7192, -999.000,9,   34.886,2,    321.7,2,     7.68,2,    13.84,2,     0.01,2,     0.93,2,    4.023,2,    1.961,2, -999.000,9, -999.000,9
           NA,     GNS,    410,  99,-999.0,      11,  2,19970516,0000,  74.0002,   -6.8334,  3410,    799.6,  -0.7683,   34.884,2,   34.884,2,    319.1,2,     7.74,2,    13.85,2,     0.01,2,     0.93,2,    4.002,2,    1.940,2, 2147.600,2, 2298.900,2
           NA,     GNS,    410,  99,-999.0,      10,  2,19970516,0000,  74.0002,   -6.8334,  3410,    999.9,  -0.8560,   34.883,2,   34.882,2,    321.3,2,     7.82,2,    13.82,2,     0.01,2,     0.94,2,    4.015,2,    1.969,2, 2146.300,2, 2300.000,2
           NA,     GNS,    410,  99,-999.0,       8,  2,19970516,0000,  74.0002,   -6.8334,  3410,   1401.1,  -0.7658,   34.902,2,   34.901,2,    301.6,2,     9.85,2,    14.71,2,     0.01,2,     0.99,2,    1.674,2,    0.759,2, 2156.700,2, 2301.000,2
           NA,     GNS,    410,  99,-999.0,       7,  2,19970516,0000,  74.0002,   -6.8334,  3410,   1500.4,  -0.7773,   34.904,2,   34.904,2,    299.9,2,    10.19,2,    14.76,2,     0.01,2,     1.01,2,    1.347,2,    0.607,2, -999.000,3, 2299.800,2
           NA,     GNS,    410,  99,-999.0,       6,  2,19970516,0000,  74.0002,   -6.8334,  3410,   1600.3,  -0.8128,   34.905,2,   34.904,2,    299.5,2,    10.41,2,    14.92,2,     0.01,2,     1.01,2,    1.200,2,    0.545,2, -999.000,3, 2302.300,2
           NA,     GNS,    410,  99,-999.0,       5,  2,19970516,0000,  74.0002,   -6.8334,  3410,   1750.4,  -0.8559,   34.904,2,   34.904,2,    300.3,2,    10.64,2,    14.93,2,     0.01,2,     1.01,2,    1.089,2,    0.495,2, -999.000,3, 2302.400,2
           NA,     GNS,    410,  99,-999.0,       4,  2,19970516,0000,  74.0002,   -6.8334,  3410,   1999.9,  -0.9029,   34.904,2,   34.904,2,    301.2,2,    10.95,2,    14.98,2,     0.01,2,     1.02,2,    0.974,2,    0.435,2, -999.000,3, 2300.600,2
           NA,     GNS,    410,  99,-999.0,       3,  2,19970516,0000,  74.0002,   -6.8334,  3410,   2499.5,  -0.9429,   34.904,2,   34.904,2,    302.5,2,    11.36,2,    15.05,2,     0.02,2,     1.02,2,    0.817,2,    0.374,2, -999.000,3, 2301.800,2
           NA,     GNS,    410,  99,-999.0,       2,  2,19970516,0000,  74.0002,   -6.8334,  3410,   3000.7,  -0.9617,   34.902,2,   34.902,2,    304.3,2,    11.59,2,    15.06,2,     0.01,2,     1.02,2,    0.803,2,    0.369,2, -999.000,3, 2301.800,2
           NA,     GNS,    410,  99,-999.0,       1,  2,19970516,0000,  74.0002,   -6.8334,  3410,   3252.1,  -0.9764,   34.900,2,   34.900,2,   -999.0,9,    11.82,2,    15.06,2,     0.01,2,     1.01,2,    0.782,2,    0.361,2, 2152.200,2, 2301.600,2
           NA,     GNS,    411,  99,-999.0,      20,  2,19970516,0000,  74.4992,   -7.1953,  3458,     10.8,  -1.6890, -999.000,9,   34.713,2,    361.0,2,     5.23,2,    11.12,2,     0.04,2,     0.78,2, -999.000,9, -999.000,9, -999.000,9, -999.000,9
           NA,     GNS,    411,  99,-999.0,      18,  2,19970516,0000,  74.4992,   -7.1953,  3458,    100.0,  -1.6700, -999.000,9,   34.793,2,    348.8,2,     6.27,2,    12.50,2,     0.03,2,     0.87,2, -999.000,9, -999.000,9, -999.000,9, -999.000,9
           NA,     GNS,    411,  99,-999.0,      16,  2,19970516,0000,  74.4992,   -7.1953,  3458,    200.4,  -1.3670, -999.000,9,   34.828,2,    339.2,2,     6.56,2,    12.93,2,     0.02,2,     0.93,2, -999.000,9, -999.000,9, -999.000,9, -999.000,9
           NA,     GNS,    411,  99,-999.0,      14,  2,19970516,0000,  74.4992,   -7.1953,  3458,    299.9,  -0.8500, -999.000,9,   34.870,2,    325.2,2,     7.15,2,    13.66,2,     0.02,2,     0.93,2, -999.000,9, -999.000,9, -999.000,9, -999.000,9
           NA,     GNS,    411,  99,-999.0,      12,  2,19970516,0000,  74.4992,   -7.1953,  3458,    350.0,  -0.7520, -999.000,9,   34.878,2,    322.6,2,     7.36,2,    13.82,2,     0.01,2,     0.94,2, -999.000,9, -999.000,9, -999.000,9, -999.000,9
           NA,     GNS,    411,  99,-999.0,      10,  2,19970516,0000,  74.4992,   -7.1953,  3458,    400.5,  -0.7150, -999.000,9,   34.882,2,    320.8,2,     7.49,2,    13.85,2,     0.01,2,     0.94,2, -999.000,9, -999.000,9, -999.000,9, -999.000,9
           NA,     GNS,    411,  99,-999.0,       8,  2,19970516,0000,  74.4992,   -7.1953,  3458,    424.9,  -0.7210, -999.000,9,   34.882,2,    320.4,2,     7.46,2,    13.90,2,     0.01,2,     0.95,2, -999.000,9, -999.000,9, -999.000,9, -999.000,9
           NA,     GNS,    411,  99,-999.0,       6,  2,19970516,0000,  74.4992,   -7.1953,  3458,    450.3,  -0.7190, -999.000,9,   34.883,2,    320.8,2,     7.50,2,    13.90,2,     0.01,2,     0.95,2, -999.000,9, -999.000,9, -999.000,9, -999.000,9
           NA,     GNS,    411,  99,-999.0,       5,  2,19970516,0000,  74.4992,   -7.1953,  3458,    475.5,  -0.7190, -999.000,9,   34.883,2,    320.0,2,     7.53,2,    13.93,2,     0.01,2,     0.95,2, -999.000,9, -999.000,9, -999.000,9, -999.000,9
           NA,     GNS,    411,  99,-999.0,       4,  2,19970516,0000,  74.4992,   -7.1953,  3458,    500.4,  -0.7520, -999.000,9,   34.882,2,    321.3,2,     7.53,2,    13.88,2,     0.01,2,     0.95,2, -999.000,9, -999.000,9, -999.000,9, -999.000,9
           NA,     GNS,    411,  99,-999.0,       2,  2,19970516,0000,  74.4992,   -7.1953,  3458,    549.9,  -0.7760, -999.000,9,   34.882,2,    320.4,2,     7.58,2,    13.93,2,     0.01,2,     0.96,2, -999.000,9, -999.000,9, -999.000,9, -999.000,9
           NA,     GNS,    411,  99,-999.0,      12,  2,19970516,0000,  74.4992,   -7.1953,  3458,    599.9,  -0.8035,   34.882,2,   34.881,2,   -999.0,9,     7.54,2,    13.79,2,     0.01,2,     0.96,2,    4.378,2,    2.161,2, 2153.500,2, 2295.900,2
           NA,     GNS,    411,  99,-999.0,       1,  2,19970516,0000,  74.4992,   -7.1953,  3458,    602.6,  -0.8040, -999.000,9,   34.881,2,    321.3,2,     7.56,2,    13.83,2,     0.01,2,     0.96,2, -999.000,9, -999.000,9, -999.000,9, -999.000,9
           NA,     GNS,    411,  99,-999.0,      11,  2,19970516,0000,  74.4992,   -7.1953,  3458,    699.6,  -0.8492,   34.880,2,   34.880,2,    322.6,2,     7.56,2,    13.90,2,     0.01,2,     0.96,2,    4.440,2,    2.164,2, 2153.600,2, 2296.700,2
           NA,     GNS,    411,  99,-999.0,      10,  2,19970516,0000,  74.4992,   -7.1953,  3458,    800.2,  -0.8737,   34.879,2,   34.880,2,    323.0,2,     7.59,2,    14.04,2,     0.01,2,     0.97,2,    4.427,2,    2.157,2, 2152.800,2, 2295.900,2
           NA,     GNS,    411,  99,-999.0,       8,  2,19970516,0000,  74.4992,   -7.1953,  3458,    999.8,  -0.8837,   34.881,2,   34.882,2,    323.0,2,     7.82,2,    14.01,2,     0.01,2,     0.96,2,    4.135,2,    2.025,2, 2149.000,2, 2295.300,2
           NA,     GNS,    411,  99,-999.0,       7,  2,19970516,0000,  74.4992,   -7.1953,  3458,   1200.9,  -0.8383,   34.888,2,   34.889,2,    314.3,2,     8.57,2,    14.34,2,     0.01,2,     0.99,2,    3.168,2,    1.523,2, 2151.800,2, 2297.300,2
           NA,     GNS,    411,  99,-999.0,       6,  2,19970516,0000,  74.4992,   -7.1953,  3458,   1399.8,  -0.7821,   34.902,2,   34.902,2,    300.3,2,    10.00,2,    14.88,2,     0.01,2,     1.03,2,    1.575,2,    0.705,2, 2150.900,2, 2299.900,2
           NA,     GNS,    411,  99,-999.0,       5,  2,19970516,0000,  74.4992,   -7.1953,  3458,   1599.8,  -0.8470,   34.904,2,   34.904,2,    300.8,2,    10.50,2,    15.09,2,     0.01,2,     1.03,2,    1.187,2,    0.533,2, -999.000,9, 2293.600,2
           NA,     GNS,    411,  99,-999.0,       4,  2,19970516,0000,  74.4992,   -7.1953,  3458,   1800.0,  -0.8933,   34.903,2,   34.903,2,    301.2,2,    10.72,2,    15.04,2,     0.01,2,     1.04,2,    1.078,2,    0.491,2, 2154.400,2, 2301.200,2
           NA,     GNS,    411,  99,-999.0,       3,  2,19970516,0000,  74.4992,   -7.1953,  3458,   2000.0,  -0.9289,   34.904,2,   34.903,2,    303.0,2,    10.94,2,    15.00,2,     0.01,2,     1.04,2,    0.984,2,    0.450,2, 2152.900,2, 2301.200,2
           NA,     GNS,    411,  99,-999.0,       2,  2,19970516,0000,  74.4992,   -7.1953,  3458,   2499.7,  -0.9619,   34.903,2,   34.903,2,    300.8,2,    11.30,2,    15.06,2,     0.01,2,     1.04,2,    0.835,2,    0.385,2, 2155.100,2, 2296.700,2
           NA,     GNS,    411,  99,-999.0,       1,  2,19970516,0000,  74.4992,   -7.1953,  3458,   3302.4,  -0.9794,   34.899,2,   34.899,2,    306.9,2,    11.89,2,    15.15,2,     0.01,2,     1.03,2,    0.774,2,    0.366,2, 2153.300,2, 2303.400,2