BOTTLE,20224407JOAExport
EXPOCODE,SECT_ID,STNNBR,CASTNO,SAMPNO,BTLNBR,BTLNBR_FLAG_W,DATE,TIME,LATITUDE,LONGITUDE,DEPTH,CTDPRS,CTDTMP,CTDSAL,CTDSAL_FLAG_W,SALNTY,SALNTY_FLAG_W,OXYGEN,OXYGEN_FLAG_W,SILCAT,SILCAT_FLAG_W,NITRAT,NITRAT_FLAG_W,NITRIT,NITRIT_FLAG_W,PHSPHT,PHSPHT_FLAG_W,CFC-11,CFC-11_FLAG_W,CFC-12,CFC-12_FLAG_W,TCARBN,TCARBN_FLAG_W,ALKALI,ALKALI_FLAG_W
,,,,,,,,,,,,DB,ITS-90,PSS-78,,PSS-78,,UMOL/KG,,UMOL/KG,,UMOL/KG,,UMOL/KG,,UMOL/KG,,PMOL/KG,,PMOL/KG,,UMOL/KG,,UMOL/KG
           NA,     GNS,    349,  99,-999.0,      12,  2,19970503,0000,  74.5690,    1.1332,  3695,     11.6,  -1.8823,   34.786,2,   34.780,2,    355.3,2,     5.77,2,    11.44,2,     0.03,2,     0.76,2,    6.851,2, -999.000,9, -999.000,9, 2293.700,2
           NA,     GNS,    349,  99,-999.0,      11,  2,19970503,0000,  74.5690,    1.1332,  3695,     50.5,  -1.8666,   34.787,2,   34.784,2,    354.0,2,     5.92,2,    11.65,2,     0.03,2,     0.78,2,    6.750,2,    3.234,2, 2147.700,2, 2293.200,2
           NA,     GNS,    349,  99,-999.0,      10,  2,19970503,0000,  74.5690,    1.1332,  3695,    100.8,  -1.8320,   34.792,2,   34.798,2,    350.5,2,     6.03,2,    11.86,2,     0.02,2,     0.79,2,    6.549,2,    3.135,2, -999.000,9, 2296.500,2
           NA,     GNS,    349,  99,-999.0,       9,  2,19970503,0000,  74.5690,    1.1332,  3695,    151.4,  -1.7571,   34.803,2,   34.806,2,    348.3,2,     6.17,2,    12.16,2,     0.07,2,     0.81,2,    6.411,2,    3.078,2, 2155.000,2, 2295.500,2
           NA,     GNS,    349,  99,-999.0,       8,  2,19970503,0000,  74.5690,    1.1332,  3695,    201.0,  -1.4014,   34.820,2,   34.831,2,    337.0,2,     6.51,2,    12.52,2,     0.02,2,     0.82,2,    5.741,2,    2.742,2, -999.000,9, 2296.900,2
           NA,     GNS,    349,  99,-999.0,       7,  2,19970503,0000,  74.5690,    1.1332,  3695,    301.6,  -0.8142,   34.870,2,   34.869,2,    325.2,2,     7.05,2,    13.10,2,     0.03,2,     0.87,2,    4.935,2,    2.353,2, 2161.400,2, 2296.200,2
           NA,     GNS,    349,  99,-999.0,       6,  2,19970503,0000,  74.5690,    1.1332,  3695,    401.3,  -0.6906,   34.881,2,   34.882,2,    322.1,2,     7.42,2,    13.37,2,     0.01,2,     0.89,2,    4.639,2,    2.205,2, -999.000,9, 2296.800,2
           NA,     GNS,    349,  99,-999.0,       5,  2,19970503,0000,  74.5690,    1.1332,  3695,    499.5,  -0.7658,   34.879,2,   34.881,2,    322.1,2,     7.48,2,    13.42,2,     0.01,2,     0.89,2,    4.624,2,    2.193,2, 2156.000,2, 2297.000,2
           NA,     GNS,    349,  99,-999.0,       4,  2,19970503,0000,  74.5690,    1.1332,  3695,    599.6,  -0.8309,   34.879,2,   34.880,2,    323.4,2,     7.54,2,    13.60,2,  -999.00,3,     0.93,2,    4.673,2,    2.232,2, -999.000,9, 2298.300,2
           NA,     GNS,    349,  99,-999.0,       3,  2,19970503,0000,  74.5690,    1.1332,  3695,    700.3,  -0.8701,   34.916,2,   34.879,2,    324.3,2,     7.51,2,    13.39,2,     0.01,2,     0.88,2,    4.701,2,    2.237,2, 2162.300,2, 2295.200,2
           NA,     GNS,    349,  99,-999.0,       2,  2,19970503,0000,  74.5690,    1.1332,  3695,    800.5,  -0.8937,   34.924,2,   34.879,2,    323.9,2,     7.54,2,    13.43,2,     0.01,2,     0.89,2,    4.640,2,    2.189,2, -999.000,9, 2299.300,2
           NA,     GNS,    349,  99,-999.0,       1,  2,19970503,0000,  74.5690,    1.1332,  3695,    904.2,  -0.8987,   34.880,2,   34.880,2,    325.2,2,     7.63,2,    13.41,2,     0.01,2,     0.88,2,    4.531,2,    2.141,2, 2164.300,2, 2299.700,2
           NA,     GNS,    349,  99,-999.0,      12,  2,19970503,0000,  74.5690,    1.1332,  3695,   1000.1,  -0.8978,   34.881,2,   34.881,2,    323.9,2,     7.69,2,    13.44,2,     0.03,2,     0.89,2,    4.427,2,    2.082,2, -999.000,9, 2296.300,2
           NA,     GNS,    349,  99,-999.0,      11,  2,19970503,0000,  74.5690,    1.1332,  3695,   1201.9,  -0.8638,   34.888,2,   34.887,2,    317.8,2,     8.27,2,    13.63,2,     0.02,2,     0.90,2,    3.632,2,    1.704,2, 2157.800,2, 2301.400,2
           NA,     GNS,    349,  99,-999.0,      10,  2,19970503,0000,  74.5690,    1.1332,  3695,   1401.1,  -0.7841,   34.902,2,   34.901,2,    301.6,2,     9.88,2,    14.28,2,     0.01,2,     0.94,2,    1.708,2,    0.734,2, -999.000,9, -999.000,9
           NA,     GNS,    349,  99,-999.0,       9,  2,19970503,0000,  74.5690,    1.1332,  3695,   1599.5,  -0.8381,   34.904,2,   34.904,2,    300.8,2,    10.45,2,    14.46,2,     0.02,2,     0.95,2,    1.253,2,    0.540,2, 2154.800,2, -999.000,9
           NA,     GNS,    349,  99,-999.0,       8,  2,19970503,0000,  74.5690,    1.1332,  3695,   1800.4,  -0.8882,   34.904,2,   34.903,2,    301.6,2,    10.71,2,    14.55,2,     0.02,2,     0.96,2,    1.125,2,    0.503,2, -999.000,9, 2300.500,2
           NA,     GNS,    349,  99,-999.0,       7,  2,19970503,0000,  74.5690,    1.1332,  3695,   2000.3,  -0.9218,   34.904,2,   34.903,2,    301.6,2,    10.96,2,    14.65,2,     0.03,2,     0.96,2,    1.022,2,    0.459,2, 2158.100,2, 2300.400,2
           NA,     GNS,    349,  99,-999.0,       6,  2,19970503,0000,  74.5690,    1.1332,  3695,   2250.3,  -0.9426,   34.904,2,   34.904,2,    303.0,2,    11.17,2,    14.69,2,     0.02,2,     0.97,2,    0.925,2,    0.416,2, -999.000,9, 2302.600,2
           NA,     GNS,    349,  99,-999.0,       5,  2,19970503,0000,  74.5690,    1.1332,  3695,   2499.8,  -0.9564,   34.904,2,   34.904,2,    303.4,2,    11.33,2,    14.61,2,     0.03,2,     0.97,2,    0.864,2,    0.393,2, 2164.300,2, 2301.400,2
           NA,     GNS,    349,  99,-999.0,       4,  2,19970503,0000,  74.5690,    1.1332,  3695,   2750.5,  -0.9690,   34.903,2,   34.902,2,    303.8,2,    11.49,2,    14.61,2,     0.03,2,     0.97,2,    0.830,2,    0.381,2, -999.000,9, 2302.100,2
           NA,     GNS,    349,  99,-999.0,       3,  2,19970503,0000,  74.5690,    1.1332,  3695,   3001.8,  -0.9744,   34.901,2,   34.901,2,    305.1,2,    11.65,2,    14.62,2,     0.05,2,     0.98,2,    0.808,2,    0.376,2, 2164.300,2, 2300.900,2
           NA,     GNS,    349,  99,-999.0,       2,  2,19970503,0000,  74.5690,    1.1332,  3695,   3497.3,  -0.9668,   34.899,2,   34.899,2,    305.1,2,    12.03,2,    14.65,2,     0.04,2,     0.97,2,    0.778,2,    0.366,2, -999.000,9, 2299.400,2
           NA,     GNS,    349,  99,-999.0,       1,  2,19970503,0000,  74.5690,    1.1332,  3695,   3684.7,  -0.9502,   34.900,2,   34.900,2,    305.1,2,    12.06,2,    14.68,2,     0.04,2,     0.98,2,    0.775,2,    0.361,2, 2160.400,2, 2299.900,2
           NA,     GNS,    350,   1,-999.0,      12,  2,19970504,0000,  74.5708,    2.6332,  3482,     10.6,  -1.8332,   34.663,2,   34.668,2,    358.4,2,     5.04,2,    10.46,2,     0.05,2,     0.70,2, -999.000,9, -999.000,9, -999.000,9, 2289.000,2
           NA,     GNS,    350,   1,-999.0,      11,  2,19970504,0000,  74.5708,    2.6332,  3482,     99.4,  -1.7331,   34.798,2,   34.800,2,    345.7,2,     6.05,2,    12.03,2,     0.03,2,     0.81,2, -999.000,9, -999.000,9, -999.000,9, 2295.700,2
           NA,     GNS,    350,   1,-999.0,      10,  2,19970504,0000,  74.5708,    2.6332,  3482,    298.4,  -0.6640,   34.876,2,   34.877,2,    321.3,2,     7.20,2,    13.32,2,     0.05,2,     0.88,2, -999.000,9, -999.000,9, -999.000,9, 2296.900,2
           NA,     GNS,    350,   1,-999.0,       9,  2,19970504,0000,  74.5708,    2.6332,  3482,    499.2,  -0.7486, -999.000,9,   34.882,2,    322.6,2,     7.25,2,    13.20,2,     0.04,2,     0.87,2, -999.000,9, -999.000,9, -999.000,9, -999.000,9
           NA,     GNS,    350,   1,-999.0,       8,  2,19970504,0000,  74.5708,    2.6332,  3482,    799.3,  -0.8825,   34.879,2,   34.879,2,    323.4,2,     7.67,2,    13.48,2,     0.01,2,     0.89,2, -999.000,9, -999.000,9, -999.000,9, 2298.100,2
           NA,     GNS,    350,   1,-999.0,       7,  2,19970504,0000,  74.5708,    2.6332,  3482,    999.1,  -0.9026,   34.881,2,   34.881,2,    323.4,2,     7.74,2,    13.45,2,     0.02,2,     0.89,2, -999.000,9, -999.000,9, -999.000,9, 2297.800,2
           NA,     GNS,    350,   1,-999.0,       6,  2,19970504,0000,  74.5708,    2.6332,  3482,   1198.1,  -0.8394,   34.890,2,   34.891,2,    312.1,2,     8.73,2,    13.97,2,     0.05,2,     0.91,2, -999.000,9, -999.000,9, -999.000,9, 2299.700,2
           NA,     GNS,    350,   1,-999.0,       5,  2,19970504,0000,  74.5708,    2.6332,  3482,   1499.5,  -0.8241,   34.904,2,   34.903,2,    299.5,2,    10.37,2,    14.47,2,     0.02,2,     0.96,2, -999.000,9, -999.000,9, -999.000,9, 2300.900,2
           NA,     GNS,    350,   1,-999.0,       4,  2,19970504,0000,  74.5708,    2.6332,  3482,   1999.3,  -0.9319,   34.904,2,   34.904,2,    299.5,2,    10.99,2,    14.60,2,     0.02,2,     0.97,2, -999.000,9, -999.000,9, -999.000,9, 2301.100,2
           NA,     GNS,    350,   1,-999.0,       3,  2,19970504,0000,  74.5708,    2.6332,  3482,   2499.8,  -0.9679,   34.903,2,   34.903,2,    303.0,2,    11.36,2,    14.60,2,     0.02,2,     0.97,2, -999.000,9, -999.000,9, -999.000,9, 2298.700,2
           NA,     GNS,    350,   1,-999.0,       2,  2,19970504,0000,  74.5708,    2.6332,  3482,   2999.9,  -0.9820,   34.901,2,   34.900,2,    303.8,2,    11.66,2,    14.61,2,     0.02,2,     0.96,2, -999.000,9, -999.000,9, -999.000,9, 2299.800,2
           NA,     GNS,    350,   1,-999.0,       1,  2,19970504,0000,  74.5708,    2.6332,  3482,   3472.0,  -0.9696,   34.900,2,   34.899,2,    304.7,2,    12.04,2,    14.68,2,     0.04,2,     0.97,2, -999.000,9, -999.000,9, -999.000,9, 2300.900,2
           NA,     GNS,    351,  99,-999.0,      12,  2,19970504,0000,  74.5680,    4.1543,  3114,     10.6,  -1.7994,   34.566,2,   34.568,2,    361.9,2,     4.45,2,     9.81,2,     0.07,2,     0.65,2,    7.378,2,    3.552,2, 2143.700,2, 2284.100,2
           NA,     GNS,    351,  99,-999.0,      11,  2,19970504,0000,  74.5680,    4.1543,  3114,     48.7,  -1.7778,   34.575,2,   34.595,2,    360.1,2,     4.63,2,    10.02,2,     0.04,2,     0.68,2,    7.258,2,    3.499,2, 2136.400,2, 2284.300,2
           NA,     GNS,    351,  99,-999.0,      10,  2,19970504,0000,  74.5680,    4.1543,  3114,     99.3,  -1.4579,   34.791,2,   34.715,2,    345.7,2,     5.47,2,    11.05,2,     0.04,2,     0.74,2,    6.552,2,    3.206,2, 2138.800,2, 2294.600,2
           NA,     GNS,    351,  99,-999.0,       9,  2,19970504,0000,  74.5680,    4.1543,  3114,    149.1,  -0.0571,   34.859,2,   34.851,2,    315.6,2,     6.48,2,    12.72,2,     0.03,2,     0.84,2,    4.680,2,    2.344,2, 2151.800,2, 2297.300,2
           NA,     GNS,    351,  99,-999.0,       8,  2,19970504,0000,  74.5680,    4.1543,  3114,    199.7,   0.1610,   34.878,2,   34.884,2,    309.1,2,     6.91,2,    13.06,2,     0.04,2,     0.87,2,    3.846,2,    1.877,2, 2147.800,2, 2298.000,2
           NA,     GNS,    351,  99,-999.0,       7,  2,19970504,0000,  74.5680,    4.1543,  3114,    299.0,  -0.1374,   34.891,2,   34.890,2,    310.4,2,     7.21,2,    13.31,2,     0.01,2,     0.88,2,    3.760,2,    1.823,2, 2153.700,2, 2297.900,2
           NA,     GNS,    351,  99,-999.0,       5,  2,19970504,0000,  74.5680,    4.1543,  3114,    397.9,  -0.3350,   34.889,2,   34.891,2,    313.4,2,     7.35,2,    13.33,2,     0.01,2,     0.89,2,    3.910,2,    1.862,2, 2165.800,2, 2298.800,2
           NA,     GNS,    351,  99,-999.0,       4,  2,19970504,0000,  74.5680,    4.1543,  3114,    449.2,  -0.4379,   34.889,2,   34.889,2,    315.2,2,     7.39,2,    13.36,2,     0.01,2,  -999.00,9,    4.054,2,    1.920,2, 2154.500,2, 2298.200,2
           NA,     GNS,    351,  99,-999.0,       3,  2,19970504,0000,  74.5680,    4.1543,  3114,    500.7,  -0.5303,   34.888,2,   34.887,2,    315.6,2,     7.49,2,    13.43,2,     0.01,2,     0.89,2,    4.099,2,    1.932,2, 2159.900,2, 2298.900,2
           NA,     GNS,    351,  99,-999.0,       2,  2,19970504,0000,  74.5680,    4.1543,  3114,    598.4,  -0.6320,   34.886,2,   34.886,2,    315.2,2,     7.70,2,    13.51,2,     0.01,2,     0.89,2,    3.907,2,    1.849,2, 2159.000,2, 2298.300,2
           NA,     GNS,    351,  99,-999.0,       1,  2,19970504,0000,  74.5680,    4.1543,  3114,    698.0,  -0.7007, -999.000,9,   34.886,2,    315.2,2,     7.83,2,    13.57,2,     0.01,2,     0.90,2,    3.857,2,    1.803,2, -999.000,9, -999.000,9
           NA,     GNS,    351,  99,-999.0,      12,  2,19970504,0000,  74.5680,    4.1543,  3114,    800.8,  -0.7809,   34.884,2,   34.884,2,    317.3,2,     7.89,2,    13.60,2,     0.02,2,     0.90,2,    3.935,2,    1.842,2, 2158.500,2, 2296.000,2
           NA,     GNS,    351,  99,-999.0,      11,  2,19970504,0000,  74.5680,    4.1543,  3114,    901.7,  -0.8216,   34.884,2,   34.884,2,    318.2,2,     7.91,2,    13.57,2,     0.01,2,     0.89,2,    3.945,2,    1.862,2, 2155.000,2, 2297.300,2
           NA,     GNS,    351,  99,-999.0,      10,  2,19970504,0000,  74.5680,    4.1543,  3114,   1003.0,  -0.8104,   34.887,2,   34.888,2,    314.3,2,     8.39,2,    13.74,2,     0.01,2,     0.91,2,    3.372,2,    1.587,2, 2155.300,2, 2298.500,2
           NA,     GNS,    351,  99,-999.0,       9,  2,19970504,0000,  74.5680,    4.1543,  3114,   1101.4,  -0.7763,   34.893,2,   34.894,2,    308.2,2,     8.97,2,    13.97,2,     0.01,2,     0.93,2,    2.662,2,    1.224,2, 2162.900,2, 2298.800,2
           NA,     GNS,    351,  99,-999.0,       8,  2,19970504,0000,  74.5680,    4.1543,  3114,   1199.5,  -0.7553,   34.900,2,   34.900,2,    303.4,2,     9.58,2,    14.23,2,     0.01,2,     0.94,2,    2.037,2,    0.918,2, 2152.200,2, 2298.700,2
           NA,     GNS,    351,  99,-999.0,       7,  2,19970504,0000,  74.5680,    4.1543,  3114,   1402.0,  -0.7905,   34.906,2,   34.905,2,    299.5,2,    10.35,2,    14.47,2,     0.01,2,     0.96,2,    1.240,2,    0.551,2, 2160.300,2, 2299.900,2
           NA,     GNS,    351,  99,-999.0,       6,  2,19970504,0000,  74.5680,    4.1543,  3114,   1599.2,  -0.8501,   34.906,2,   34.906,2,    299.0,2,    10.71,2,    14.62,2,     0.01,2,     0.97,2,    1.052,2,    0.473,2, 2151.900,2, 2299.800,2
           NA,     GNS,    351,  99,-999.0,       4,  2,19970504,0000,  74.5680,    4.1543,  3114,   1999.2,  -0.9238,   34.906,2,   34.906,2,    299.5,2,    11.21,2,    14.70,2,     0.01,2,     0.98,2,    0.853,2,    0.391,2, 2150.800,2, 2301.600,2
           NA,     GNS,    351,  99,-999.0,       3,  2,19970504,0000,  74.5680,    4.1543,  3114,   2599.7,  -0.9698,   34.903,2,   34.903,2,    303.8,2,    11.59,2,    14.72,2,     0.01,2,     0.98,2,    0.808,2,    0.376,2, 2151.500,2, 2300.800,2
           NA,     GNS,    351,  99,-999.0,       2,  2,19970504,0000,  74.5680,    4.1543,  3114,   2999.3,  -0.9583,   34.902,2,   34.902,2,    304.3,2,    11.69,2,    14.68,2,     0.01,2,     0.98,2,    0.802,2,    0.373,2, 2152.800,2, 2301.300,2
           NA,     GNS,    351,  99,-999.0,       1,  2,19970504,0000,  74.5680,    4.1543,  3114,   3103.8,  -0.9523,   34.902,2,   34.902,2,    304.3,2,    11.73,2,    14.70,2,     0.01,2,     0.97,2,    0.797,2,    0.370,2, 2163.100,2, 2303.500,2
           NA,     GNS,    352,   1,-999.0,      12,  2,19970504,0000,  74.5698,    5.6885,  3190,      8.9,  -0.9215,   34.683,2,   34.682,2,    349.7,2,     4.87,2,    10.60,2,     0.03,2,     0.70,2,    6.892,2, -999.000,9, -999.000,9, 2286.800,2
           NA,     GNS,    352,   1,-999.0,      11,  2,19970504,0000,  74.5698,    5.6885,  3190,     99.9,   0.4064,   34.785,2,   34.825,2,    333.0,2,     5.44,2,    11.76,2,     0.04,2,     0.78,2,    6.163,2,    3.016,2, -999.000,9, 2294.000,2
           NA,     GNS,    352,   1,-999.0,      10,  2,19970504,0000,  74.5698,    5.6885,  3190,    297.3,   0.5291,   34.896,2,   34.899,2,    305.1,2,     6.91,2,    13.09,2,     0.02,2,     0.86,2,    3.700,2,    1.774,2, -999.000,9, 2299.400,2
           NA,     GNS,    352,   1,-999.0,       9,  2,19970504,0000,  74.5698,    5.6885,  3190,    497.7,  -0.2329,   34.893,2,   34.895,2,    311.7,2,     7.34,2,    13.31,2,     0.01,2,     0.88,2,    3.686,2,    1.771,2, -999.000,9, 2299.200,2
           NA,     GNS,    352,   1,-999.0,       8,  2,19970504,0000,  74.5698,    5.6885,  3190,    797.4,  -0.6948,   34.885,2,   34.886,2,    314.3,2,     7.87,2,    13.65,2,     0.01,2,     0.90,2,    3.740,2,    1.782,2, -999.000,9, 2297.500,2
           NA,     GNS,    352,   1,-999.0,       7,  2,19970504,0000,  74.5698,    5.6885,  3190,    999.5,  -0.8065,   34.885,2,   34.884,2,    316.5,2,     7.98,2,    13.67,2,     0.01,2,     0.90,2,    3.836,2,    1.838,2, -999.000,9, 2297.100,2
           NA,     GNS,    352,   1,-999.0,       6,  2,19970504,0000,  74.5698,    5.6885,  3190,   1199.7,  -0.7731,   34.893,2,   34.894,2,    311.2,2,     8.95,2,    13.99,2,     0.01,2,     0.93,2,    2.681,2,    1.273,2, -999.000,9, 2297.500,2
           NA,     GNS,    352,   1,-999.0,       5,  2,19970504,0000,  74.5698,    5.6885,  3190,   1499.6,  -0.7839,   34.905,2,   34.906,2,    298.6,2,    10.38,2,    14.53,2,     0.01,2,     0.96,2,    1.240,2,    0.567,2, -999.000,9, 2298.500,2
           NA,     GNS,    352,   1,-999.0,       4,  2,19970504,0000,  74.5698,    5.6885,  3190,   1997.1,  -0.8996,   34.907,2,   34.906,2,    300.8,2,    11.22,2,    14.73,2,     0.01,2,     0.98,2,    0.847,2,    0.398,2, -999.000,9, 2297.600,2
           NA,     GNS,    352,   1,-999.0,       3,  2,19970504,0000,  74.5698,    5.6885,  3190,   2498.3,  -0.9339,   34.905,2,   34.905,2,    301.2,2,    11.56,2,    14.79,2,     0.02,2,     0.98,2,    0.776,2,    0.368,2, -999.000,9, 2300.300,2
           NA,     GNS,    352,   1,-999.0,       2,  2,19970504,0000,  74.5698,    5.6885,  3190,   2999.2,  -0.9180,   34.905,2,   34.905,2,    302.1,2,    11.69,2,    14.97,2,     0.01,2,     0.98,2,    0.768,2,    0.363,2, -999.000,9, 2299.600,2
           NA,     GNS,    352,   1,-999.0,       1,  2,19970504,0000,  74.5698,    5.6885,  3190,   3180.3,  -0.9095,   34.904,2,   34.904,2,    302.5,2,    11.72,2,    14.78,2,     0.01,2,     0.98,2,    0.772,2,    0.363,2, -999.000,9, 2299.100,2