BOTTLE,20224407JOAExport
EXPOCODE,SECT_ID,STNNBR,CASTNO,SAMPNO,BTLNBR,BTLNBR_FLAG_W,DATE,TIME,LATITUDE,LONGITUDE,DEPTH,CTDPRS,CTDTMP,CTDSAL,CTDSAL_FLAG_W,SALNTY,SALNTY_FLAG_W,OXYGEN,OXYGEN_FLAG_W,SILCAT,SILCAT_FLAG_W,NITRAT,NITRAT_FLAG_W,NITRIT,NITRIT_FLAG_W,PHSPHT,PHSPHT_FLAG_W,CFC-11,CFC-11_FLAG_W,CFC-12,CFC-12_FLAG_W,TCARBN,TCARBN_FLAG_W,ALKALI,ALKALI_FLAG_W
,,,,,,,,,,,,DB,ITS-90,PSS-78,,PSS-78,,UMOL/KG,,UMOL/KG,,UMOL/KG,,UMOL/KG,,UMOL/KG,,PMOL/KG,,PMOL/KG,,UMOL/KG,,UMOL/KG
           NA,     GNS,    442,   1,-999.0,      12,  2,19970522,0000,  74.9997,    0.3377,  3662,      9.4,  -1.5847,   34.728,2,   34.728,2,    366.2,2,  -999.00,9,  -999.00,9,  -999.00,9,  -999.00,9, -999.000,9, -999.000,9, -999.000,9, 2291.700,2
           NA,     GNS,    442,   1,-999.0,      11,  2,19970522,0000,  74.9997,    0.3377,  3662,    300.1,  -1.2122,   34.846,2,   34.846,2,    333.5,2,  -999.00,9,  -999.00,9,  -999.00,9,  -999.00,9, -999.000,9, -999.000,9, -999.000,9, 2295.900,2
           NA,     GNS,    442,   1,-999.0,      10,  2,19970522,0000,  74.9997,    0.3377,  3662,    549.6,  -1.0918,   34.858,2,   34.858,2,    329.1,2,  -999.00,9,  -999.00,9,  -999.00,9,  -999.00,9, -999.000,9, -999.000,9, -999.000,9, 2290.500,2
           NA,     GNS,    442,   1,-999.0,       9,  2,19970522,0000,  74.9997,    0.3377,  3662,    649.6,  -1.0599,   34.861,2,   34.861,2,    329.1,2,  -999.00,9,  -999.00,9,  -999.00,9,  -999.00,9, -999.000,9, -999.000,9, -999.000,9, 2295.300,2
           NA,     GNS,    442,   1,-999.0,       8,  2,19970522,0000,  74.9997,    0.3377,  3662,    800.3,  -0.9517,   34.871,2,   34.871,2,    326.1,2,  -999.00,9,  -999.00,9,  -999.00,9,  -999.00,9, -999.000,9, -999.000,9, -999.000,9, 2296.000,2
           NA,     GNS,    442,   1,-999.0,       7,  2,19970522,0000,  74.9997,    0.3377,  3662,   1000.1,  -0.8881,   34.879,2,   34.879,2,    325.2,2,  -999.00,9,  -999.00,9,  -999.00,9,  -999.00,9, -999.000,9, -999.000,9, -999.000,9, 2294.800,2
           NA,     GNS,    442,   1,-999.0,       6,  2,19970522,0000,  74.9997,    0.3377,  3662,   2999.9,  -0.9624,   34.901,2,   34.901,2,    304.7,2,  -999.00,9,  -999.00,9,  -999.00,9,  -999.00,9, -999.000,9, -999.000,9, -999.000,9, 2298.000,2
           NA,     GNS,    442,   1,-999.0,       5,  2,19970522,0000,  74.9997,    0.3377,  3662,   3199.8,  -0.9650, -999.000,9,   34.900,2,    305.6,2,  -999.00,9,  -999.00,9,  -999.00,9,  -999.00,9, -999.000,9, -999.000,9, -999.000,9, -999.000,9
           NA,     GNS,    442,   1,-999.0,       4,  2,19970522,0000,  74.9997,    0.3377,  3662,   3400.0,  -0.9627,   34.900,2,   34.900,2,    305.1,2,  -999.00,9,  -999.00,9,  -999.00,9,  -999.00,9, -999.000,9, -999.000,9, -999.000,9, 2298.600,2
           NA,     GNS,    442,   1,-999.0,       3,  2,19970522,0000,  74.9997,    0.3377,  3662,   3499.8,  -0.9595, -999.000,9,   34.899,2,    305.1,2,  -999.00,9,  -999.00,9,  -999.00,9,  -999.00,9, -999.000,9, -999.000,9, -999.000,9, -999.000,9
           NA,     GNS,    442,   1,-999.0,       2,  2,19970522,0000,  74.9997,    0.3377,  3662,   3600.1,  -0.9540, -999.000,9,   34.899,2,    305.1,2,  -999.00,9,  -999.00,9,  -999.00,9,  -999.00,9, -999.000,9, -999.000,9, -999.000,9, -999.000,9
           NA,     GNS,    442,   1,-999.0,       1,  2,19970522,0000,  74.9997,    0.3377,  3662,   3651.5,  -0.9509,   34.899,2,   34.899,2,    308.2,2,  -999.00,9,  -999.00,9,  -999.00,9,  -999.00,9, -999.000,9, -999.000,9, -999.000,9, 2300.400,2
           NA,     GNS,    443,  99,-999.0,      12,  2,19970522,0000,  75.0825,    0.0015,  3612,      9.3,  -1.5330,   34.795,2,   34.800,2,    363.6,2,     5.24,2,    10.83,2,     0.04,2,     0.75,2,    6.900,2,    3.334,2, 2149.500,2, 2295.400,2
           NA,     GNS,    443,  99,-999.0,      11,  2,19970522,0000,  75.0825,    0.0015,  3612,    100.3,  -1.6442,   34.817,2,   34.821,2,    347.9,2,     6.24,2,    12.20,2,     0.04,2,     0.85,2,    6.326,2,    3.042,2, 2154.600,2, 2293.600,2
           NA,     GNS,    443,  99,-999.0,      10,  2,19970522,0000,  75.0825,    0.0015,  3612,    200.5,  -1.2599,   34.838,2,   34.850,2,    334.8,2,     6.81,2,    12.93,2,     0.03,2,     0.90,2,    5.625,2,    2.727,2, 2157.200,2, 2295.200,2
           NA,     GNS,    443,  99,-999.0,       9,  2,19970522,0000,  75.0825,    0.0015,  3612,    250.1,  -1.0360, -999.000,9,   34.866,2,    329.1,2,     7.02,2,    13.25,2,     0.03,2,     0.91,2, -999.000,9, -999.000,9, -999.000,9, -999.000,9
           NA,     GNS,    443,  99,-999.0,       8,  2,19970522,0000,  75.0825,    0.0015,  3612,    300.7,  -0.9542,   34.872,2,   34.873,2,    327.4,2,     7.05,2,    13.36,2,     0.02,2,     0.92,2,    5.305,2,    2.558,2, 2160.700,2, 2295.900,2
           NA,     GNS,    443,  99,-999.0,       7,  2,19970522,0000,  75.0825,    0.0015,  3612,    350.3,  -0.9632, -999.000,9,   34.873,2,    328.7,2,     7.05,2,    13.40,2,     0.02,2,     0.92,2, -999.000,9, -999.000,9, -999.000,9, -999.000,9
           NA,     GNS,    443,  99,-999.0,       6,  2,19970522,0000,  75.0825,    0.0015,  3612,    400.6,  -0.9704,   34.872,2,   34.872,2,    323.9,2,  -999.00,3,    13.71,2,     0.02,2,     0.94,2,    4.514,2,    2.118,2, 2166.000,2, 2298.000,2
           NA,     GNS,    443,  99,-999.0,       5,  2,19970522,0000,  75.0825,    0.0015,  3612,    500.3,  -0.9760,   34.872,2,   34.872,2,    329.1,2,     6.98,2,    13.37,2,     0.02,2,     0.91,2,    5.410,2, -999.000,9, 2160.100,2, 2295.800,2
           NA,     GNS,    443,  99,-999.0,       4,  2,19970522,0000,  75.0825,    0.0015,  3612,    600.2,  -0.9767,   34.872,2,   34.872,2,    330.0,2,     6.94,2,    13.33,2,     0.02,2,     0.91,2,    5.409,2, -999.000,9, 2155.500,2, 2294.800,2
           NA,     GNS,    443,  99,-999.0,       3,  2,19970522,0000,  75.0825,    0.0015,  3612,    700.6,  -0.9740,   34.872,2,   34.872,2,    330.4,2,     6.92,2,    13.28,2,     0.02,2,     0.91,2,    5.423,2, -999.000,9, 2152.700,2, 2299.800,2
           NA,     GNS,    443,  99,-999.0,       2,  2,19970522,0000,  75.0825,    0.0015,  3612,    899.8,  -0.9670,   34.872,2,   34.872,2,    330.9,2,     6.91,2,    13.24,2,     0.02,2,     0.91,2,    5.414,2, -999.000,9, 2155.600,2, 2297.000,2
           NA,     GNS,    443,  99,-999.0,       1,  2,19970522,0000,  75.0825,    0.0015,  3612,   1002.2,  -0.9610,   34.872,2,   34.872,2,    331.3,2,     6.93,2,    13.24,2,     0.01,2,     0.91,2,    5.388,2, -999.000,9, 2147.600,2, 2294.000,2
           NA,     GNS,    443,  99,-999.0,      12,  2,19970522,0000,  75.0825,    0.0015,  3612,   1099.9,  -0.9511,   34.873,2,   34.873,2,    330.4,2,     7.05,2,    13.24,2,     0.01,2,     0.91,2,    5.181,2, -999.000,9, 2158.200,2, 2296.300,2
           NA,     GNS,    443,  99,-999.0,      11,  2,19970522,0000,  75.0825,    0.0015,  3612,   1300.2,  -0.9291,   34.877,2,   34.877,2,    327.8,2,     7.34,2,    13.34,2,     0.01,2,     0.92,2,    4.803,2, -999.000,9, 2154.000,2, 2300.100,2
           NA,     GNS,    443,  99,-999.0,      10,  2,19970522,0000,  75.0825,    0.0015,  3612,   1500.0,  -0.9233,   34.878,2,   34.879,2,    327.4,2,     7.42,2,    13.39,2,     0.01,2,     0.92,2,    4.700,2, -999.000,9, 2157.100,2, 2298.000,2
           NA,     GNS,    443,  99,-999.0,       9,  2,19970522,0000,  75.0825,    0.0015,  3612,   1750.2,  -0.9060,   34.879,2,   34.881,2,    325.6,2,     7.60,2,    13.48,2,     0.02,2,     0.93,2,    4.485,2,    2.175,2, 2157.800,2, 2299.100,2
           NA,     GNS,    443,  99,-999.0,       8,  2,19970522,0000,  75.0825,    0.0015,  3612,   1900.0,  -0.8623,   34.884,2,   34.888,2,    317.3,2,     8.56,2,    13.81,2,     0.02,2,     0.95,2,    3.346,2,    1.605,2, 2156.200,2, 2292.200,2
           NA,     GNS,    443,  99,-999.0,       7,  2,19970522,0000,  75.0825,    0.0015,  3612,   2100.1,  -0.8409,   34.899,2,   34.900,2,    303.8,2,    10.05,2,    14.42,2,     0.01,2,     0.99,2,    1.689,2,    0.768,2, 2151.900,2, 2302.100,2
           NA,     GNS,    443,  99,-999.0,       6,  2,19970522,0000,  75.0825,    0.0015,  3612,   2299.9,  -0.8759,   34.903,2,   34.903,2,    300.8,2,    10.76,2,    14.63,2,     0.02,2,     1.01,2,    1.089,2,    0.502,2, 2153.100,2, 2299.600,2
           NA,     GNS,    443,  99,-999.0,       5,  2,19970522,0000,  75.0825,    0.0015,  3612,   2499.9,  -0.9090,   34.904,2,   34.903,2,    301.6,2,    11.00,2,    14.65,2,     0.01,2,     1.01,2,    0.952,2,    0.445,2, -999.000,9, 2301.700,2
           NA,     GNS,    443,  99,-999.0,       4,  2,19970522,0000,  75.0825,    0.0015,  3612,   3000.3,  -0.9485,   34.902,2,   34.902,2,    303.4,2,    11.44,2,    14.66,2,     0.02,2,     1.01,2,    0.813,2,    0.385,2, 2155.600,2, 2299.000,2
           NA,     GNS,    443,  99,-999.0,       3,  2,19970522,0000,  75.0825,    0.0015,  3612,   3300.1,  -0.9574,   34.901,2,   34.900,2,    304.3,2,    11.63,2,    14.69,2,     0.02,2,     1.01,2,    0.789,2,    0.376,2, 2153.300,2, 2299.100,2
           NA,     GNS,    443,  99,-999.0,       2,  2,19970522,0000,  75.0825,    0.0015,  3612,   3499.5,  -0.9587,   34.899,2,   34.899,2,    305.1,2,    11.80,2,    14.73,2,     0.02,2,     1.01,2,    0.768,2,    0.364,2, 2151.900,2, 2299.300,2
           NA,     GNS,    443,  99,-999.0,       1,  2,19970522,0000,  75.0825,    0.0015,  3612,   3602.0,  -0.9540,   34.899,2,   34.899,2,    305.6,2,    11.89,2,    14.72,2,     0.02,2,     1.01,2,    0.763,2,    0.363,2, 2156.700,2, 2297.900,2