BOTTLE,20224407JOAExport
EXPOCODE,SECT_ID,STNNBR,CASTNO,SAMPNO,BTLNBR,BTLNBR_FLAG_W,DATE,TIME,LATITUDE,LONGITUDE,DEPTH,CTDPRS,CTDTMP,CTDSAL,CTDSAL_FLAG_W,SALNTY,SALNTY_FLAG_W,OXYGEN,OXYGEN_FLAG_W,SILCAT,SILCAT_FLAG_W,NITRAT,NITRAT_FLAG_W,NITRIT,NITRIT_FLAG_W,PHSPHT,PHSPHT_FLAG_W,CFC-11,CFC-11_FLAG_W,CFC-12,CFC-12_FLAG_W,TCARBN,TCARBN_FLAG_W,ALKALI,ALKALI_FLAG_W
,,,,,,,,,,,,DB,ITS-90,PSS-78,,PSS-78,,UMOL/KG,,UMOL/KG,,UMOL/KG,,UMOL/KG,,UMOL/KG,,PMOL/KG,,PMOL/KG,,UMOL/KG,,UMOL/KG
           NA,     GNS,    353,   1,-999.0,      12,  2,19970505,0000,  74.5540,    7.0862,  2408,      9.1,   1.1409,   34.889,2,   34.891,2,    328.2,2,     5.45,2,    11.89,2,     0.04,2,     0.77,2,    5.941,2,    2.939,2, 2137.700,2, 2299.300,2
           NA,     GNS,    353,   1,-999.0,      11,  2,19970505,0000,  74.5540,    7.0862,  2408,     53.4,   1.1283,   34.889,2,   34.890,2,    328.7,2,     5.45,2,    11.86,2,     0.03,2,     0.78,2, -999.000,9, -999.000,9, 2147.500,2, 2299.400,2
           NA,     GNS,    353,   1,-999.0,      10,  2,19970505,0000,  74.5540,    7.0862,  2408,    100.3,   1.1793,   34.890,2,   34.894,2,    327.4,2,     5.46,2,    11.90,2,     0.04,2,     0.78,2,    5.939,2,    2.941,2, 2136.000,2, 2300.900,2
           NA,     GNS,    353,   1,-999.0,       9,  2,19970505,0000,  74.5540,    7.0862,  2408,    151.4,   1.1753,   34.894,2,   34.894,2,    328.2,2,     5.44,2,    11.90,2,     0.03,2,     0.78,2, -999.000,9, -999.000,9, 2132.700,2, 2300.200,2
           NA,     GNS,    353,   1,-999.0,       8,  2,19970505,0000,  74.5540,    7.0862,  2408,    299.0,   0.4429,   34.894,2,   34.898,2,    306.0,2,     6.95,2,    13.17,2,     0.01,2,     0.88,2,    3.640,2,    1.758,2, 2154.700,2, 2300.300,2
           NA,     GNS,    353,   1,-999.0,       7,  2,19970505,0000,  74.5540,    7.0862,  2408,    500.5,  -0.1758,   34.894,2,   34.895,2,    311.2,2,     7.30,2,    13.33,2,     0.01,2,     0.91,2, -999.000,9, -999.000,9, 2154.000,2, 2299.900,2
           NA,     GNS,    353,   1,-999.0,       6,  2,19970505,0000,  74.5540,    7.0862,  2408,    800.9,  -0.6980,   34.885,2,   34.887,2,    308.6,2,     8.21,2,    13.97,2,     0.02,2,     0.93,2,    3.461,2,    1.633,2, 2158.600,2, 2299.300,2
           NA,     GNS,    353,   1,-999.0,       5,  2,19970505,0000,  74.5540,    7.0862,  2408,   1000.0,  -0.7726,   34.890,2,   34.891,2,    309.9,2,     8.73,2,    14.12,2,     0.01,2,     0.97,2,    3.014,2,    1.413,2, 2155.800,2, 2299.000,2
           NA,     GNS,    353,   1,-999.0,       4,  2,19970505,0000,  74.5540,    7.0862,  2408,   1200.0,  -0.7675,   34.901,2,   34.900,2,    302.5,2,     9.86,2,    14.52,2,     0.01,2,     0.97,2,    1.858,2,    0.841,2, 2159.200,2, 2299.900,2
           NA,     GNS,    353,   1,-999.0,       3,  2,19970505,0000,  74.5540,    7.0862,  2408,   1499.2,  -0.8584,   34.905,2,   34.905,2,    299.5,2,    11.05,2,    14.79,2,     0.01,2,     0.98,2,    0.959,2,    0.440,2, 2148.300,2, 2300.000,2
           NA,     GNS,    353,   1,-999.0,       2,  2,19970505,0000,  74.5540,    7.0862,  2408,   1800.6,  -0.9133,   34.906,2,   34.906,2,    300.3,2,    11.43,2,    14.89,2,     0.01,2,     1.01,2,    0.791,2,    0.364,2, 2162.300,2, 2301.600,2
           NA,     GNS,    353,   1,-999.0,       1,  2,19970505,0000,  74.5540,    7.0862,  2408,   2003.0,  -0.9199,   34.906,2,   34.906,2,    301.2,2,    11.68,2,    15.00,2,     0.04,2,  -999.00,9,    0.764,2,    0.354,2, 2154.900,2, 2300.900,2
           NA,     GNS,    354,  99,-999.0,      12,  2,19970505,0000,  74.5512,    8.6395,  3113,      7.2,   1.7470,   34.940,2,   34.943,2,    323.9,2,     5.42,2,    12.03,2,     0.04,2,     0.80,2,    5.742,2,    2.837,2, 2155.300,2, 2302.700,2
           NA,     GNS,    354,  99,-999.0,      10,  2,19970505,0000,  74.5512,    8.6395,  3113,     30.0,   1.7421,   34.935,2,   34.942,2,    323.9,2,     5.43,2,    12.06,2,     0.04,2,     0.80,2, -999.000,9, -999.000,9, -999.000,9, 2302.600,2
           NA,     GNS,    354,  99,-999.0,       9,  2,19970505,0000,  74.5512,    8.6395,  3113,     49.5,   1.7469,   34.935,2,   34.943,2,    323.9,2,     5.42,2,    12.03,2,     0.04,2,     0.80,2,    5.738,2,    2.873,2, 2150.300,2, 2302.300,2
           NA,     GNS,    354,  99,-999.0,       8,  2,19970505,0000,  74.5512,    8.6395,  3113,     74.2,   1.7472,   34.936,2,   34.942,2,    322.6,2,     5.43,2,    12.08,2,     0.04,2,     0.81,2,    5.756,2,    2.893,2, 2146.600,2, 2301.800,2
           NA,     GNS,    354,  99,-999.0,       7,  2,19970505,0000,  74.5512,    8.6395,  3113,    101.2,   1.7521,   34.936,2,   34.943,2,    323.9,2,     5.43,2,    12.09,2,     0.04,2,     0.81,2,    5.742,2,    2.887,2, 2146.800,2, 2302.000,2
           NA,     GNS,    354,  99,-999.0,       6,  2,19970505,0000,  74.5512,    8.6395,  3113,    149.1,   1.7605,   34.938,2,   34.943,2,    323.0,2,     5.43,2,    12.08,2,     0.04,2,     0.81,2,    5.748,2,    2.920,2, 2137.100,2, 2302.700,2
           NA,     GNS,    354,  99,-999.0,       5,  2,19970505,0000,  74.5512,    8.6395,  3113,    198.4,   1.7391,   34.936,2,   34.940,2,    323.4,2,     5.43,2,    12.09,2,     0.03,2,     0.80,2,    5.735,2,    2.888,2, 2142.500,2, 2307.400,2
           NA,     GNS,    354,  99,-999.0,       4,  2,19970505,0000,  74.5512,    8.6395,  3113,    248.8,   1.2853,   34.889,2,   34.907,2,    323.4,2,     5.61,2,    12.30,2,     0.03,2,     0.82,2,    5.733,2,    2.857,2, 2148.300,2, 2300.600,2
           NA,     GNS,    354,  99,-999.0,       3,  2,19970505,0000,  74.5512,    8.6395,  3113,    300.8,   1.2640,   34.911,2,   34.915,2,    311.7,2,     6.17,2,    13.12,2,     0.02,2,     0.87,2,    5.177,2,    2.550,2, 2157.100,2, 2299.400,2
           NA,     GNS,    354,  99,-999.0,       2,  2,19970505,0000,  74.5512,    8.6395,  3113,    399.9,   0.5725,   34.892,2,   34.893,2,    304.7,2,     6.97,2,    13.88,2,     0.01,2,     0.92,2, -999.000,9, -999.000,9, 2157.200,2, 2296.900,2
           NA,     GNS,    354,  99,-999.0,       1,  2,19970505,0000,  74.5512,    8.6395,  3113,    504.5,   0.0611,   34.889,2,   34.890,2,    304.7,2,     7.50,2,    14.23,2,     0.01,2,     0.95,2,    3.698,2,    1.748,2, 2159.100,2, 2298.000,2
           NA,     GNS,    354,  99,-999.0,      12,  2,19970505,0000,  74.5512,    8.6395,  3113,    601.5,  -0.1994,   34.890,2,   34.891,2,    303.0,2,     7.92,2,    14.32,2,     0.02,2,     0.96,2, -999.000,9, -999.000,9, 2159.900,2, 2298.300,2
           NA,     GNS,    354,  99,-999.0,      11,  2,19970505,0000,  74.5512,    8.6395,  3113,    803.2,  -0.5366,   34.887,2,   34.890,2,    307.3,2,     8.18,2,    14.15,2,     0.01,2,     0.95,2, -999.000,9, -999.000,9, 2154.700,2, 2298.200,2
           NA,     GNS,    354,  99,-999.0,      10,  2,19970505,0000,  74.5512,    8.6395,  3113,   1000.9,  -0.7167,   34.888,2,   34.887,2,    310.8,2,     8.39,2,    14.12,2,     0.01,2,     0.96,2, -999.000,9, -999.000,9, 2156.000,2, 2298.700,2
           NA,     GNS,    354,  99,-999.0,       9,  2,19970505,0000,  74.5512,    8.6395,  3113,   1147.6,  -0.7656,   34.893,2,   34.890,2,    310.4,2,     8.68,2,    14.18,2,     0.01,2,     0.95,2, -999.000,9, -999.000,9, 2161.600,2, 2302.700,2
           NA,     GNS,    354,  99,-999.0,       8,  2,19970505,0000,  74.5512,    8.6395,  3113,   1298.7,  -0.7349,   34.898,2,   34.900,2,    300.8,2,     9.84,2,    14.66,2,     0.01,2,     0.99,2, -999.000,9, -999.000,9, 2155.700,2, 2299.300,2
           NA,     GNS,    354,  99,-999.0,       7,  2,19970505,0000,  74.5512,    8.6395,  3113,   1499.6,  -0.7885,   34.904,2,   34.904,2,    298.2,2,    10.80,2,    14.94,2,     0.01,2,     1.01,2, -999.000,9, -999.000,9, 2163.700,2, 2300.500,2
           NA,     GNS,    354,  99,-999.0,       6,  2,19970505,0000,  74.5512,    8.6395,  3113,   1800.9,  -0.8495,   34.906,2,   34.906,2,    297.7,2,    11.38,2,    15.06,2,     0.01,2,     1.01,2, -999.000,9, -999.000,9, 2158.000,2, 2303.600,2
           NA,     GNS,    354,  99,-999.0,       5,  2,19970505,0000,  74.5512,    8.6395,  3113,   2099.7,  -0.8768,   34.907,2,   34.906,2,    298.6,2,    11.74,2,    15.12,2,     0.01,2,     1.02,2, -999.000,9, -999.000,9, 2158.100,2, 2302.300,2
           NA,     GNS,    354,  99,-999.0,       4,  2,19970505,0000,  74.5512,    8.6395,  3113,   2399.0,  -0.8809,   34.906,2,   34.906,2,    299.9,2,    11.95,2,    15.18,2,     0.01,2,     1.02,2, -999.000,9, -999.000,9, 2162.300,2, 2299.700,2
           NA,     GNS,    354,  99,-999.0,       3,  2,19970505,0000,  74.5512,    8.6395,  3113,   2698.4,  -0.8755,   34.907,2,   34.907,2,    300.3,2,    11.92,2,    15.09,2,     0.01,2,     1.02,2, -999.000,9, -999.000,9, 2155.600,2, 2300.500,2
           NA,     GNS,    354,  99,-999.0,       2,  2,19970505,0000,  74.5512,    8.6395,  3113,   3000.6,  -0.8587,   34.907,2,   34.907,2,    299.5,2,    11.96,2,    15.11,2,     0.01,2,     1.02,2, -999.000,9, -999.000,9, 2158.100,2, 2302.700,2
           NA,     GNS,    354,  99,-999.0,       1,  2,19970505,0000,  74.5512,    8.6395,  3113,   3103.0,  -0.8511,   34.907,2,   34.907,2,    300.3,2,    11.97,2,    15.11,2,     0.02,2,     1.02,2, -999.000,9, -999.000,9, 2154.100,2, 2302.700,2
           NA,     GNS,    355,   1,-999.0,      12,  2,19970505,0000,  74.5507,   10.2272,  2411,     10.3,   3.2422,   35.040,2,   35.044,2,    313.4,2,     5.22,2,    11.53,2,     0.08,2,     0.77,2, -999.000,9, -999.000,9, 2141.600,2, 2312.500,2
           NA,     GNS,    355,   1,-999.0,      11,  2,19970505,0000,  74.5507,   10.2272,  2411,     48.8,   3.2189,   35.041,2,   35.044,2,    312.9,2,     5.23,2,    11.51,2,     0.06,2,     0.77,2,    5.313,2,    2.691,2, 2148.900,2, 2311.900,2
           NA,     GNS,    355,   1,-999.0,      10,  2,19970505,0000,  74.5507,   10.2272,  2411,    100.4,   3.0971,   35.041,2,   35.038,2,    314.3,2,     5.24,2,    11.58,2,     0.06,2,     0.79,2,    5.350,2,    2.701,2, 2139.800,2, 2303.500,2
           NA,     GNS,    355,   1,-999.0,       9,  2,19970505,0000,  74.5507,   10.2272,  2411,    199.4,   2.9014,   35.027,2,   35.029,2,    314.7,2,     5.33,2,    11.71,2,     0.06,2,     0.78,2,    5.430,2,    2.738,2, 2144.400,2, 2309.400,2
           NA,     GNS,    355,   1,-999.0,       8,  2,19970505,0000,  74.5507,   10.2272,  2411,    297.8,   1.9240,   34.951,2,   34.938,2,    319.9,2,     5.43,2,    11.99,2,     0.07,2,     0.84,2,    5.724,2,    2.835,2, 2141.300,2, 2304.200,2
           NA,     GNS,    355,   1,-999.0,       7,  2,19970505,0000,  74.5507,   10.2272,  2411,    501.1,   1.7110,   34.922,2,   34.951,2,    309.0,2,     6.06,2,    12.90,2,     0.01,2,     0.86,2,    5.138,2,    2.527,2, 2146.700,2, 2305.100,2
           NA,     GNS,    355,   1,-999.0,       6,  2,19970505,0000,  74.5507,   10.2272,  2411,    801.7,  -0.1787,   34.891,2,   34.892,2,    302.5,2,     7.97,2,    14.06,2,     0.01,2,     0.94,2,    3.357,2,    1.559,2, 2164.200,2, 2300.600,2
           NA,     GNS,    355,   1,-999.0,       5,  2,19970505,0000,  74.5507,   10.2272,  2411,    997.6,  -0.5481,   34.892,2,   34.893,2,    303.4,2,     8.71,2,    14.17,2,     0.02,2,     0.95,2,    2.777,2,    1.273,2, 2160.300,2, 2301.300,2
           NA,     GNS,    355,   1,-999.0,       4,  2,19970505,0000,  74.5507,   10.2272,  2411,   1199.5,  -0.6740,   34.900,2,   34.900,2,    299.0,2,     9.83,2,    14.49,2,     0.04,2,     0.99,2,    1.853,2,    0.827,2, 2158.900,2, 2302.100,2
           NA,     GNS,    355,   1,-999.0,       3,  2,19970505,0000,  74.5507,   10.2272,  2411,   1498.4,  -0.7789,   34.905,2,   34.905,2,    296.4,2,    11.08,2,    14.74,2,     0.02,2,     1.00,2,    0.957,2,    0.430,2, -999.000,9, 2304.700,2
           NA,     GNS,    355,   1,-999.0,       2,  2,19970505,0000,  74.5507,   10.2272,  2411,   1999.6,  -0.8828,   34.907,2,   34.907,2,    297.7,2,    11.86,2,    14.82,2,     0.01,2,     1.01,2,    0.667,2,    0.307,2, 2164.400,2, 2303.000,2
           NA,     GNS,    355,   1,-999.0,       1,  2,19970505,0000,  74.5507,   10.2272,  2411,   2401.4,  -0.8940,   34.907,2,   34.907,2,    296.8,2,    12.36,2,    14.97,2,     0.00,2,     1.00,2,    0.597,2,    0.281,2, 2164.800,2, 2303.900,2
           NA,     GNS,    356,   1,-999.0,      12,  2,19970506,0000,  74.5492,   11.8488,  2311,      7.5,   2.7102,   34.907,2,   35.023,2,    316.9,2,     5.23,2,    11.71,2,     0.07,2,     0.78,2,    5.445,2,    2.759,2, 2135.900,2, 2307.000,2
           NA,     GNS,    356,   1,-999.0,      11,  2,19970506,0000,  74.5492,   11.8488,  2311,     49.6,   2.7179,   35.019,2,   35.023,2,    316.9,2,     5.25,2,    11.66,2,     0.05,2,     0.78,2,    5.465,2,    2.778,2, 2127.600,2, 2305.700,2
           NA,     GNS,    356,   1,-999.0,      10,  2,19970506,0000,  74.5492,   11.8488,  2311,     99.4,   2.7155,   35.019,2,   35.022,2,    316.9,2,     5.25,2,    11.66,2,     0.06,2,     0.79,2,    5.459,2,    2.760,2, 2136.400,2, 2305.600,2
           NA,     GNS,    356,   1,-999.0,       9,  2,19970506,0000,  74.5492,   11.8488,  2311,    199.8,   2.5713,   35.016,2,   35.010,2,    316.0,2,     5.30,2,    11.85,2,     0.06,2,     0.79,2,    5.481,2,    2.765,2, 2137.000,2, 2304.700,2
           NA,     GNS,    356,   1,-999.0,       8,  2,19970506,0000,  74.5492,   11.8488,  2311,    301.1,   2.3344,   34.986,2,   34.997,2,    316.0,2,     5.36,2,    12.00,2,     0.04,2,     0.80,2,    5.527,2,    2.794,2, 2133.500,2, 2304.100,2
           NA,     GNS,    356,   1,-999.0,       7,  2,19970506,0000,  74.5492,   11.8488,  2311,    499.3,   2.2070,   35.000,2,   35.002,2,    316.9,2,     5.38,2,    12.11,2,     0.02,2,     0.81,2,    5.493,2,    2.775,2, 2135.200,2, 2303.700,2
           NA,     GNS,    356,   1,-999.0,       6,  2,19970506,0000,  74.5492,   11.8488,  2311,    797.9,   0.1126,   34.891,2,   34.893,2,    305.6,2,     7.35,2,    13.75,2,     0.01,2,     0.94,2,    3.909,2,    1.867,2, 2143.900,2, 2296.400,2
           NA,     GNS,    356,   1,-999.0,       5,  2,19970506,0000,  74.5492,   11.8488,  2311,   1002.6,  -0.4474,   34.890,2,   34.892,2,    304.7,2,     8.28,2,    14.04,2,     0.02,2,     0.96,2,    3.093,2,    1.459,2, 2158.400,2, 2296.600,2
           NA,     GNS,    356,   1,-999.0,       4,  2,19970506,0000,  74.5492,   11.8488,  2311,   1200.0,  -0.6624,   34.894,2,   34.895,2,    303.4,2,     9.11,2,    14.20,2,     0.03,2,     0.99,2,    2.455,2,    1.123,2, 2147.000,2, 2297.200,2
           NA,     GNS,    356,   1,-999.0,       3,  2,19970506,0000,  74.5492,   11.8488,  2311,   1501.9,  -0.7682,   34.905,2,   34.905,2,    298.2,2,    11.03,2,    14.74,2,     0.01,2,     1.00,2,    0.959,2,    0.434,2, 2148.100,2, 2299.100,2
           NA,     GNS,    356,   1,-999.0,       2,  2,19970506,0000,  74.5492,   11.8488,  2311,   2003.0,  -0.8923,   34.906,2,   34.906,2,    297.7,2,    11.87,2,    14.82,2,     0.01,2,     1.01,2,    0.668,2,    0.307,2, 2143.100,2, 2297.600,2
           NA,     GNS,    356,   1,-999.0,       1,  2,19970506,0000,  74.5492,   11.8488,  2311,   2300.8,  -0.9022,   34.907,2,   34.907,2,    298.2,2,    12.35,2,    14.92,2,     0.01,2,     1.01,2,    0.602,2,    0.276,2, -999.000,3, 2296.600,2
           NA,     GNS,    357,   1,-999.0,      12,  2,19970506,0000,  74.5515,   13.4092,  2162,     10.5,   3.7584,   35.045,2,   35.048,2,    311.2,2,     5.05,2,    11.19,2,     0.08,2,     0.75,2,    5.151,2,    2.637,2, 2142.800,2, 2305.900,2
           NA,     GNS,    357,   1,-999.0,      11,  2,19970506,0000,  74.5515,   13.4092,  2162,     47.9,   2.2856,   34.989,2,   35.001,2,    318.6,2,     5.38,2,    11.93,2,     0.05,2,     0.80,2,    5.540,2,    2.781,2, 2146.900,2, 2301.700,2
           NA,     GNS,    357,   1,-999.0,      10,  2,19970506,0000,  74.5515,   13.4092,  2162,     97.9,   2.2101,   34.994,2,   34.997,2,    318.2,2,     5.40,2,    12.02,2,     0.06,2,     0.80,2,    5.565,2,    2.774,2, 2139.800,2, 2303.600,2
           NA,     GNS,    357,   1,-999.0,       9,  2,19970506,0000,  74.5515,   13.4092,  2162,    150.3,   2.1887,   34.993,2,   34.997,2,    318.2,2,     5.40,2,    12.01,2,     0.04,2,     0.80,2,    5.564,2,    2.787,2, 2144.100,2, 2303.700,2
           NA,     GNS,    357,   1,-999.0,       8,  2,19970506,0000,  74.5515,   13.4092,  2162,    298.4,   1.8165,   34.971,2,   34.969,2,    315.1,2,     5.70,2,    12.56,2,     0.03,2,     0.84,2,    5.426,2,    2.686,2, 2148.000,2, 2300.400,2
           NA,     GNS,    357,   1,-999.0,       7,  2,19970506,0000,  74.5515,   13.4092,  2162,    500.2,   0.3286,   34.894,2,   34.896,2,    303.8,2,     7.25,2,    13.85,2,     0.01,2,     0.93,2,    4.038,2,    1.891,2, 2155.300,2, 2296.700,2
           NA,     GNS,    357,   1,-999.0,       6,  2,19970506,0000,  74.5515,   13.4092,  2162,    799.6,  -0.4735,   34.890,2,   34.891,2,    305.6,2,     8.29,2,    14.12,2,     0.04,2,     0.95,2,    3.147,2,    1.456,2, 2161.300,2, 2295.500,2
           NA,     GNS,    357,   1,-999.0,       5,  2,19970506,0000,  74.5515,   13.4092,  2162,    998.5,  -0.6661,   34.895,2,   34.895,2,    302.5,2,     9.17,2,    14.32,2,     0.01,2,     0.97,2,    2.417,2,    1.093,2, 2160.700,2, 2295.700,2
           NA,     GNS,    357,   1,-999.0,       4,  2,19970506,0000,  74.5515,   13.4092,  2162,   1200.8,  -0.7432,   34.901,2,   34.903,2,    297.3,2,    10.46,2,    14.67,2,     0.01,2,     1.00,2,    1.326,2,    0.585,2, 2159.800,2, 2297.000,2
           NA,     GNS,    357,   1,-999.0,       3,  2,19970506,0000,  74.5515,   13.4092,  2162,   1499.6,  -0.8445,   34.906,2,   34.906,2,    296.4,2,    11.41,2,    14.89,2,     0.01,2,     1.02,2,    0.793,2,    0.363,2, 2155.900,2, 2297.200,2
           NA,     GNS,    357,   1,-999.0,       2,  2,19970506,0000,  74.5515,   13.4092,  2162,   1800.4,  -0.8990,   34.907,2,   34.906,2,    298.2,2,    11.77,2,    14.88,2,     0.01,2,     1.01,2,    0.704,2,    0.314,2, 2154.800,2, 2300.100,2
           NA,     GNS,    357,   1,-999.0,       1,  2,19970506,0000,  74.5515,   13.4092,  2162,   2151.7,  -0.9126,   34.907,2,   34.907,2,    298.6,2,    12.19,2,    14.94,2,     0.01,2,  -999.00,9,    0.636,2,    0.295,2, 2160.000,2, 2300.400,2