BOTTLE,20224407JOAExport
EXPOCODE,SECT_ID,STNNBR,CASTNO,SAMPNO,BTLNBR,BTLNBR_FLAG_W,DATE,TIME,LATITUDE,LONGITUDE,DEPTH,CTDPRS,CTDTMP,CTDSAL,CTDSAL_FLAG_W,SALNTY,SALNTY_FLAG_W,OXYGEN,OXYGEN_FLAG_W,SILCAT,SILCAT_FLAG_W,NITRAT,NITRAT_FLAG_W,NITRIT,NITRIT_FLAG_W,PHSPHT,PHSPHT_FLAG_W,CFC-11,CFC-11_FLAG_W,CFC-12,CFC-12_FLAG_W,TCARBN,TCARBN_FLAG_W,ALKALI,ALKALI_FLAG_W
,,,,,,,,,,,,DB,ITS-90,PSS-78,,PSS-78,,UMOL/KG,,UMOL/KG,,UMOL/KG,,UMOL/KG,,UMOL/KG,,PMOL/KG,,PMOL/KG,,UMOL/KG,,UMOL/KG
           NA,     GNS,    321,   1,-999.0,      12,  2,19970426,0000,  64.2992,   -0.1769,  2808,      9.1,   4.9965, -999.000,9,   35.004,2,    306.0,2,     5.67,2,    11.46,2,     0.16,2,     0.75,2,    4.899,2,    2.585,2, -999.000,9, -999.000,9
           NA,     GNS,    321,   1,-999.0,      11,  2,19970426,0000,  64.2992,   -0.1769,  2808,     52.0,   4.9641, -999.000,9,   35.004,2,    305.1,2,     5.68,2,    11.53,2,     0.17,2,     0.76,2,    4.997,2,    2.496,2, -999.000,9, -999.000,9
           NA,     GNS,    321,   1,-999.0,      10,  2,19970426,0000,  64.2992,   -0.1769,  2808,    100.4,   4.9625, -999.000,9,   35.003,2,    304.7,2,     5.65,2,    11.49,2,     0.17,2,     0.77,2,    4.902,2,    2.567,2, -999.000,9, -999.000,9
           NA,     GNS,    321,   1,-999.0,       9,  2,19970426,0000,  64.2992,   -0.1769,  2808,    199.2,   2.2690, -999.000,9,   34.789,2,    308.2,2,     6.19,2,    12.46,2,     0.03,2,     0.84,2, -999.000,9, -999.000,9, -999.000,9, -999.000,9
           NA,     GNS,    321,   1,-999.0,       8,  2,19970426,0000,  64.2992,   -0.1769,  2808,    301.1,   0.6860, -999.000,9,   34.864,2,    304.7,2,     6.59,2,    13.42,2,     0.02,2,     0.91,2,    5.103,2,    2.507,2, -999.000,9, -999.000,9
           NA,     GNS,    321,   1,-999.0,       7,  2,19970426,0000,  64.2992,   -0.1769,  2808,    500.7,  -0.1249, -999.000,9,   34.879,2,    306.4,2,     7.30,2,    13.66,2,     0.01,2,     0.92,2,    4.091,2,    2.007,2, -999.000,9, -999.000,9
           NA,     GNS,    321,   1,-999.0,       6,  2,19970426,0000,  64.2992,   -0.1769,  2808,    799.8,  -0.5022, -999.000,9,   34.893,2,    302.5,2,     8.50,2,    13.92,2,     0.01,2,     0.93,2,    2.729,2,    1.318,2, -999.000,9, -999.000,9
           NA,     GNS,    321,   1,-999.0,       5,  2,19970426,0000,  64.2992,   -0.1769,  2808,    999.8,  -0.6304, -999.000,9,   34.898,2,    300.3,2,     9.27,2,    14.12,2,     0.01,2,     0.95,2,    2.052,2,    0.965,2, -999.000,9, -999.000,9
           NA,     GNS,    321,   1,-999.0,       4,  2,19970426,0000,  64.2992,   -0.1769,  2808,   1199.3,  -0.7241, -999.000,9,   34.904,2,    298.2,2,    10.23,2,    14.34,2,     0.01,2,     0.97,2,    1.288,2,    0.609,2, -999.000,9, -999.000,9
           NA,     GNS,    321,   1,-999.0,       3,  2,19970426,0000,  64.2992,   -0.1769,  2808,   1499.8,  -0.8161, -999.000,9,   34.906,2,    297.7,2,    11.13,2,    14.55,2,     0.01,2,     0.98,2,    0.858,2,    0.411,2, -999.000,9, -999.000,9
           NA,     GNS,    321,   1,-999.0,       2,  2,19970426,0000,  64.2992,   -0.1769,  2808,   2000.4,  -0.8780, -999.000,9,   34.907,2,    298.6,2,    11.88,2,    14.70,2,     0.01,2,     0.99,2, -999.000,9, -999.000,9, -999.000,9, -999.000,9
           NA,     GNS,    321,   1,-999.0,       1,  2,19970426,0000,  64.2992,   -0.1769,  2808,   2502.1,  -0.8776, -999.000,9,   34.907,2,    298.2,2,    12.58,2,    14.87,2,     0.01,2,     1.00,2,    0.492,2,    0.246,2, -999.000,9, -999.000,9
           NA,     GNS,    322,   1,-999.0,      12,  2,19970427,0000,  64.5483,   -0.9628,  3076,     11.8,   4.5575, -999.000,9,   34.970,2,    308.2,2,     5.56,2,    11.35,2,     0.16,2,     0.75,2,    5.006,2,    2.576,2, -999.000,9, -999.000,9
           NA,     GNS,    322,   1,-999.0,      11,  2,19970427,0000,  64.5483,   -0.9628,  3076,     50.4,   4.4902, -999.000,9,   34.965,2,    309.9,2,     5.59,2,    11.65,2,     0.20,2,     0.78,2,    5.084,2,    2.614,2, -999.000,9, -999.000,9
           NA,     GNS,    322,   1,-999.0,      10,  2,19970427,0000,  64.5483,   -0.9628,  3076,     98.3,   4.3530, -999.000,9,   34.949,2,    308.2,2,     5.58,2,    11.44,2,     0.17,2,     0.77,2,    5.104,2,    2.631,2, -999.000,9, -999.000,9
           NA,     GNS,    322,   1,-999.0,       9,  2,19970427,0000,  64.5483,   -0.9628,  3076,    300.3,   1.5092, -999.000,9,   34.893,2,    301.6,2,     6.67,2,    13.68,2,     0.02,2,     0.93,2,    5.074,2,    2.490,2, -999.000,9, -999.000,9
           NA,     GNS,    322,   1,-999.0,       8,  2,19970427,0000,  64.5483,   -0.9628,  3076,    499.4,  -0.0645, -999.000,9,   34.880,2,    305.1,2,     7.41,2,    13.83,2,     0.01,2,     0.94,2,    4.033,2,    1.967,2, -999.000,9, -999.000,9
           NA,     GNS,    322,   1,-999.0,       7,  2,19970427,0000,  64.5483,   -0.9628,  3076,    797.0,  -0.5004, -999.000,9,   34.895,2,    299.0,2,     8.78,2,    14.18,2,     0.01,2,     0.96,2,    2.363,2,    1.146,2, -999.000,9, -999.000,9
           NA,     GNS,    322,   1,-999.0,       6,  2,19970427,0000,  64.5483,   -0.9628,  3076,    999.2,  -0.6455, -999.000,9,   34.901,2,    296.0,2,     9.77,2,    14.41,2,     0.01,2,     0.99,2,    1.544,2,    0.730,2, -999.000,9, -999.000,9
           NA,     GNS,    322,   1,-999.0,       5,  2,19970427,0000,  64.5483,   -0.9628,  3076,   1200.3,  -0.7433, -999.000,9,   34.905,2,    296.4,2,    10.62,2,    14.51,2,     0.01,2,     1.00,2,    1.131,2,    0.548,2, -999.000,9, -999.000,9
           NA,     GNS,    322,   1,-999.0,       4,  2,19970427,0000,  64.5483,   -0.9628,  3076,   1499.1,  -0.8333, -999.000,9,   34.906,2,    297.3,2,    11.28,2,    14.65,2,     0.01,2,     1.01,2,    0.742,2,    0.367,2, -999.000,9, -999.000,9
           NA,     GNS,    322,   1,-999.0,       3,  2,19970427,0000,  64.5483,   -0.9628,  3076,   2000.0,  -0.8922, -999.000,9,   34.907,2,    298.6,2,    11.99,2,    14.79,2,     0.02,2,     1.02,2,    0.563,2,    0.281,2, -999.000,9, -999.000,9
           NA,     GNS,    322,   1,-999.0,       2,  2,19970427,0000,  64.5483,   -0.9628,  3076,   2498.6,  -0.8863, -999.000,9,   34.907,2,    298.2,2,    12.59,2,    14.84,2,     0.01,2,     1.03,2,    0.443,2,    0.220,2, -999.000,9, -999.000,9
           NA,     GNS,    322,   1,-999.0,       1,  2,19970427,0000,  64.5483,   -0.9628,  3076,   2701.6,  -0.8789, -999.000,9,   34.908,2,    296.8,2,    13.19,2,    15.09,2,     0.02,2,     1.03,2,    0.367,2,    0.190,2, -999.000,9, -999.000,9
           NA,     GNS,    323,   1,-999.0,      12,  2,19970427,0000,  64.8192,   -1.7446,  3206,     10.5,   4.0868, -999.000,9,   34.897,2,    311.7,2,     5.38,2,    11.36,2,     0.16,2,     0.77,2, -999.000,9, -999.000,9, -999.000,9, -999.000,9
           NA,     GNS,    323,   1,-999.0,      11,  2,19970427,0000,  64.8192,   -1.7446,  3206,     49.8,   3.9511, -999.000,9,   34.899,2,    311.2,2,     5.37,2,    11.36,2,     0.16,2,     0.77,2, -999.000,9, -999.000,9, -999.000,9, -999.000,9
           NA,     GNS,    323,   1,-999.0,      10,  2,19970427,0000,  64.8192,   -1.7446,  3206,    100.2,   3.9468, -999.000,9,   34.898,2,    310.8,2,     5.38,2,    11.47,2,     0.17,2,     0.77,2, -999.000,9, -999.000,9, -999.000,9, -999.000,9
           NA,     GNS,    323,   1,-999.0,       9,  2,19970427,0000,  64.8192,   -1.7446,  3206,    299.7,   2.3209, -999.000,9,   34.877,2,    303.4,2,     6.27,2,    13.21,2,     0.02,2,     0.90,2, -999.000,9, -999.000,9, -999.000,9, -999.000,9
           NA,     GNS,    323,   1,-999.0,       8,  2,19970427,0000,  64.8192,   -1.7446,  3206,    499.9,   0.3532, -999.000,9,   34.880,2,    303.4,2,     6.94,2,    13.77,2,     0.01,2,     0.93,2, -999.000,9, -999.000,9, -999.000,9, -999.000,9
           NA,     GNS,    323,   1,-999.0,       7,  2,19970427,0000,  64.8192,   -1.7446,  3206,    797.6,  -0.4130, -999.000,9,   34.891,2,    302.1,2,     8.18,2,    13.92,2,     0.01,2,     0.94,2, -999.000,9, -999.000,9, -999.000,9, -999.000,9
           NA,     GNS,    323,   1,-999.0,       6,  2,19970427,0000,  64.8192,   -1.7446,  3206,    997.6,  -0.5881, -999.000,9,   34.899,2,    299.0,2,     9.25,2,    14.25,2,     0.01,2,     0.96,2, -999.000,9, -999.000,9, -999.000,9, -999.000,9
           NA,     GNS,    323,   1,-999.0,       5,  2,19970427,0000,  64.8192,   -1.7446,  3206,   1190.4,  -0.6926, -999.000,9,   34.904,2,    296.0,2,    10.10,2,    14.46,2,     0.01,2,     0.97,2, -999.000,9, -999.000,9, -999.000,9, -999.000,9
           NA,     GNS,    323,   1,-999.0,       4,  2,19970427,0000,  64.8192,   -1.7446,  3206,   1498.7,  -0.8065, -999.000,9,   34.906,2,    296.0,2,    11.05,2,    14.67,2,     0.01,2,     1.00,2, -999.000,9, -999.000,9, -999.000,9, -999.000,9
           NA,     GNS,    323,   1,-999.0,       3,  2,19970427,0000,  64.8192,   -1.7446,  3206,   1999.9,  -0.8874, -999.000,9,   34.907,2,    297.3,2,    11.91,2,    14.70,2,     0.01,2,     1.00,2, -999.000,9, -999.000,9, -999.000,9, -999.000,9
           NA,     GNS,    323,   1,-999.0,       2,  2,19970427,0000,  64.8192,   -1.7446,  3206,   2497.5,  -0.8863, -999.000,9,   34.907,2,    296.8,2,    12.53,2,    14.78,2,     0.01,2,     1.00,2, -999.000,9, -999.000,9, -999.000,9, -999.000,9
           NA,     GNS,    323,   1,-999.0,       1,  2,19970427,0000,  64.8192,   -1.7446,  3206,   2900.6,  -0.8684, -999.000,9,   34.908,2,    299.0,2,    13.37,2,    14.94,2,     0.01,2,     1.02,2, -999.000,9, -999.000,9, -999.000,9, -999.000,9
           NA,     GNS,    324,  99,-999.0,      12,  2,19970427,0000,  65.0482,   -2.4768,  3413,      9.6,   3.8149, -999.000,9,   34.874,2,   -999.0,9,     5.40,2,    11.07,2,     0.16,2,     0.79,2,    5.459,2,    2.535,2, -999.000,9, -999.000,9
           NA,     GNS,    324,  99,-999.0,      11,  2,19970427,0000,  65.0482,   -2.4768,  3413,     30.5,   3.3033,   34.859,2,   34.840,2,    321.7,2,     5.18,2,    10.69,2,     0.14,2,     0.74,2,    5.599,2,    2.746,2, 2135.000,2, 2293.100,2
           NA,     GNS,    324,  99,-999.0,      10,  2,19970427,0000,  65.0482,   -2.4768,  3413,     49.4,   3.1738,   34.860,2,   34.829,2,    321.7,2,     5.02,2,    10.61,2,     0.14,2,     0.73,2,    5.640,2,    2.822,2, 2135.400,2, 2291.800,2
           NA,     GNS,    324,  99,-999.0,       9,  2,19970427,0000,  65.0482,   -2.4768,  3413,     99.5,   2.8520,   34.812,2,   34.805,2,    321.3,2,     4.92,2,    10.60,2,     0.14,2,     0.74,2,    5.722,2,    2.845,2, 2130.600,2, 2290.300,2
           NA,     GNS,    324,  99,-999.0,       8,  2,19970427,0000,  65.0482,   -2.4768,  3413,    151.2,   2.4351,   34.788,2,   34.794,2,    318.2,2,     5.05,2,    11.14,2,     0.13,2,     0.77,2,    5.757,2,    2.881,2, 2150.200,2, 2287.400,2
           NA,     GNS,    324,  99,-999.0,       7,  2,19970427,0000,  65.0482,   -2.4768,  3413,    200.7,   2.1683,   34.826,2,   34.842,2,    309.5,2,     5.60,2,    12.35,2,     0.04,2,     0.83,2,    5.604,2,    2.766,2, 2148.200,2, 2294.800,2
           NA,     GNS,    324,  99,-999.0,       6,  2,19970427,0000,  65.0482,   -2.4768,  3413,    299.7,   1.2838,   34.896,2,   34.896,2,    303.4,2,     6.47,2,    13.61,2,     0.03,2,     0.92,2,    5.187,2,    2.557,2, 2158.800,2, 2294.900,2
           NA,     GNS,    324,  99,-999.0,       5,  2,19970427,0000,  65.0482,   -2.4768,  3413,    401.6,   0.3355,   34.881,2,   34.881,2,    303.8,2,     6.97,2,    13.81,2,     0.01,2,     0.94,2,    4.531,2,    2.209,2, 2162.100,2, 2294.400,2
           NA,     GNS,    324,  99,-999.0,       4,  2,19970427,0000,  65.0482,   -2.4768,  3413,    500.7,  -0.0633,   34.879,2,   34.883,2,    304.3,2,     7.35,2,    13.80,2,     0.01,2,     0.94,2,    3.938,2,    1.914,2, 2167.900,2, 2298.300,2
           NA,     GNS,    324,  99,-999.0,       3,  2,19970427,0000,  65.0482,   -2.4768,  3413,    600.5,  -0.2551,   34.884,2,   34.887,2,    303.8,2,     7.71,2,    13.85,2,     0.01,2,     0.94,2,    3.466,2,    1.704,2, -999.000,3, 2296.000,2
           NA,     GNS,    324,  99,-999.0,       2,  2,19970427,0000,  65.0482,   -2.4768,  3413,    701.5,  -0.3954,   34.889,2,   34.891,2,    303.0,2,     8.18,2,    13.96,2,     0.01,2,     0.95,2,    2.958,2,    1.433,2, 2161.200,2, 2297.600,2
           NA,     GNS,    324,  99,-999.0,       1,  2,19970427,0000,  65.0482,   -2.4768,  3413,    803.1,  -0.4875,   34.893,2,   34.895,2,    298.6,2,     8.64,2,    14.21,2,     0.01,2,     0.97,2,    2.445,2,    1.169,2, 2161.500,2, 2299.400,2
           NA,     GNS,    324,  99,-999.0,      12,  2,19970427,0000,  65.0482,   -2.4768,  3413,    899.8,  -0.5484,   34.898,2,   34.898,2,    297.7,2,     9.19,2,    14.28,2,     0.01,2,     0.96,2,    2.006,2,    0.956,2, 2166.300,2, 2297.500,2
           NA,     GNS,    324,  99,-999.0,      11,  2,19970427,0000,  65.0482,   -2.4768,  3413,    998.5,  -0.6196,   34.900,2,   34.901,2,    296.9,2,     9.65,2,    14.40,2,     0.01,2,     0.97,2,    1.591,2,    0.753,2, -999.000,9, 2295.400,2
           NA,     GNS,    324,  99,-999.0,      10,  2,19970427,0000,  65.0482,   -2.4768,  3413,   1099.4,  -0.6769,   34.903,2,   34.903,2,    296.4,2,    10.11,2,    14.53,2,     0.01,2,     0.98,2,    1.239,2,    0.586,2, 2167.700,2, 2296.700,2
           NA,     GNS,    324,  99,-999.0,       9,  2,19970427,0000,  65.0482,   -2.4768,  3413,   1251.4,  -0.7544,   34.905,2,   34.905,2,    296.0,2,    10.67,2,    14.61,2,     0.01,2,     0.99,2,    0.899,2,    0.435,2, 2163.400,2, 2300.000,2
           NA,     GNS,    324,  99,-999.0,       8,  2,19970427,0000,  65.0482,   -2.4768,  3413,   1501.4,  -0.8407,   34.907,2,   34.907,2,    296.8,2,    11.39,2,    14.77,2,     0.01,2,     1.00,2,    0.645,2,    0.318,2, 2164.900,2, 2300.300,2
           NA,     GNS,    324,  99,-999.0,       7,  2,19970427,0000,  65.0482,   -2.4768,  3413,   1749.5,  -0.8828,   34.907,2,   34.907,2,    297.3,2,    11.84,2,    14.83,2,     0.01,2,     1.00,2,    0.539,2,    0.266,2, 2167.000,2, 2301.600,2
           NA,     GNS,    324,  99,-999.0,       6,  2,19970427,0000,  65.0482,   -2.4768,  3413,   2000.4,  -0.9038,   34.907,2,   34.907,2,    296.8,2,    12.43,2,    14.95,2,     0.01,2,     1.00,2,    0.482,2,    0.243,2, 2163.900,2, 2300.400,2
           NA,     GNS,    324,  99,-999.0,       4,  2,19970427,0000,  65.0482,   -2.4768,  3413,   2546.9,  -0.8897,   34.908,2,   34.907,2,    298.2,2,    12.95,2,    15.00,2,     0.01,2,     1.01,2,    0.379,2,    0.196,2, 2164.100,2, 2300.800,2
           NA,     GNS,    324,  99,-999.0,       3,  2,19970427,0000,  65.0482,   -2.4768,  3413,   2751.2,  -0.8786,   34.908,2,   34.908,2,    297.3,2,    13.13,2,    15.10,2,     0.01,2,     1.01,2,    0.342,2,    0.180,2, -999.000,3, 2302.100,2
           NA,     GNS,    324,  99,-999.0,       2,  2,19970427,0000,  65.0482,   -2.4768,  3413,   2999.2,  -0.8608,   34.908,2,   34.908,2,    297.3,2,    13.25,2,    15.05,2,     0.00,2,     1.02,2,    0.321,2,    0.169,2, 2165.000,2, 2301.500,2
           NA,     GNS,    324,  99,-999.0,       1,  2,19970427,0000,  65.0482,   -2.4768,  3413,   3079.3,  -0.8547,   34.909,2,   34.908,2,    297.7,2,    13.25,2,    15.04,2,     0.01,2,     1.02,2,    0.319,2,    0.174,2, 2161.700,2, 2303.200,2
           NA,     GNS,    325,   1,-999.0,      12,  2,19970427,0000,  65.3180,   -3.2326,  3213,     10.8,   3.3922, -999.000,9,   34.840,2,    321.7,2,     5.18,2,    10.77,2,     0.15,2,     0.73,2, -999.000,9, -999.000,9, -999.000,9, -999.000,9
           NA,     GNS,    325,   1,-999.0,      11,  2,19970427,0000,  65.3180,   -3.2326,  3213,     47.4,   3.2508, -999.000,9,   34.838,2,    321.3,2,     5.17,2,    10.79,2,     0.14,2,     0.73,2, -999.000,9, -999.000,9, -999.000,9, -999.000,9
           NA,     GNS,    325,   1,-999.0,      10,  2,19970427,0000,  65.3180,   -3.2326,  3213,     97.7,   3.0473, -999.000,9,   34.823,2,    320.8,2,     5.13,2,    10.87,2,     0.14,2,     0.73,2, -999.000,9, -999.000,9, -999.000,9, -999.000,9
           NA,     GNS,    325,   1,-999.0,       9,  2,19970427,0000,  65.3180,   -3.2326,  3213,    294.8,   1.6615, -999.000,9,   34.902,2,    303.4,2,     6.30,2,    13.50,2,     0.04,2,     0.90,2, -999.000,9, -999.000,9, -999.000,9, -999.000,9
           NA,     GNS,    325,   1,-999.0,       8,  2,19970427,0000,  65.3180,   -3.2326,  3213,    497.0,   0.0379, -999.000,9,   34.881,2,    304.3,2,     7.25,2,    13.87,2,     0.01,2,     0.93,2, -999.000,9, -999.000,9, -999.000,9, -999.000,9
           NA,     GNS,    325,   1,-999.0,       7,  2,19970427,0000,  65.3180,   -3.2326,  3213,    799.3,  -0.4615, -999.000,9,   34.895,2,    298.6,2,     8.63,2,    14.22,2,     0.01,2,     0.95,2, -999.000,9, -999.000,9, -999.000,9, -999.000,9
           NA,     GNS,    325,   1,-999.0,       6,  2,19970427,0000,  65.3180,   -3.2326,  3213,    999.7,  -0.6283, -999.000,9,   34.902,2,    295.5,2,     9.71,2,    14.55,2,     0.01,2,     0.98,2, -999.000,9, -999.000,9, -999.000,9, -999.000,9
           NA,     GNS,    325,   1,-999.0,       4,  2,19970427,0000,  65.3180,   -3.2326,  3213,   1499.0,  -0.8417, -999.000,9,   34.907,2,    296.4,2,    11.35,2,    14.71,2,     0.01,2,     1.00,2, -999.000,9, -999.000,9, -999.000,9, -999.000,9
           NA,     GNS,    325,   1,-999.0,       3,  2,19970427,0000,  65.3180,   -3.2326,  3213,   1998.5,  -0.9105, -999.000,9,   34.907,2,    297.3,2,    12.31,2,    14.90,2,     0.01,2,     1.00,2, -999.000,9, -999.000,9, -999.000,9, -999.000,9
           NA,     GNS,    325,   1,-999.0,       2,  2,19970427,0000,  65.3180,   -3.2326,  3213,   2500.9,  -0.8982, -999.000,9,   34.908,2,    297.3,2,    13.04,2,    15.02,2,     0.01,2,     1.01,2, -999.000,9, -999.000,9, -999.000,9, -999.000,9
           NA,     GNS,    325,   1,-999.0,       1,  2,19970427,0000,  65.3180,   -3.2326,  3213,   2948.5,  -0.8687, -999.000,9,   34.908,2,    296.8,2,    13.33,2,    15.09,2,     0.01,2,     1.02,2, -999.000,9, -999.000,9, -999.000,9, -999.000,9