BOTTLE,20224407JOAExport
EXPOCODE,SECT_ID,STNNBR,CASTNO,SAMPNO,BTLNBR,BTLNBR_FLAG_W,DATE,TIME,LATITUDE,LONGITUDE,DEPTH,CTDPRS,CTDTMP,CTDSAL,CTDSAL_FLAG_W,SALNTY,SALNTY_FLAG_W,OXYGEN,OXYGEN_FLAG_W,SILCAT,SILCAT_FLAG_W,NITRAT,NITRAT_FLAG_W,NITRIT,NITRIT_FLAG_W,PHSPHT,PHSPHT_FLAG_W,CFC-11,CFC-11_FLAG_W,CFC-12,CFC-12_FLAG_W,TCARBN,TCARBN_FLAG_W,ALKALI,ALKALI_FLAG_W
,,,,,,,,,,,,DB,ITS-90,PSS-78,,PSS-78,,UMOL/KG,,UMOL/KG,,UMOL/KG,,UMOL/KG,,UMOL/KG,,PMOL/KG,,PMOL/KG,,UMOL/KG,,UMOL/KG
           NA,     GNS,    393,  99,-999.0,      23,  2,19970513,0000,  73.5007,   -6.6659,  3389,      6.0,  -1.6350, -999.000,9,   34.596,2,   -999.0,9,     5.19,2,    10.90,2,     0.04,2,     0.73,2, -999.000,9, -999.000,9, -999.000,9, -999.000,9
           NA,     GNS,    393,  99,-999.0,      12,  2,19970513,0000,  73.5007,   -6.6659,  3389,     10.1,  -1.6260,   34.624,2,   34.617,2,    363.6,2,     5.19,2,    10.85,2,     0.04,2,     0.72,2,    6.915,2,    3.447,2, 2141.200,2, 2281.100,2
           NA,     GNS,    393,  99,-999.0,      22,  2,19970513,0000,  73.5007,   -6.6659,  3389,     15.0,  -1.6370, -999.000,9,   34.596,2,   -999.0,9,     5.22,2,    10.93,2,     0.07,2,     0.73,2, -999.000,9, -999.000,9, -999.000,9, -999.000,9
           NA,     GNS,    393,  99,-999.0,      21,  2,19970513,0000,  73.5007,   -6.6659,  3389,     20.2,  -1.6350, -999.000,9,   34.605,2,   -999.0,9,     5.28,2,    11.07,2,     0.04,2,     0.74,2, -999.000,9, -999.000,9, -999.000,9, -999.000,9
           NA,     GNS,    393,  99,-999.0,      20,  2,19970513,0000,  73.5007,   -6.6659,  3389,     20.4,  -1.6360, -999.000,9,   34.602,2,   -999.0,9,     5.23,2,    10.98,2,     0.04,2,     0.75,2, -999.000,9, -999.000,9, -999.000,9, -999.000,9
           NA,     GNS,    393,  99,-999.0,      19,  2,19970513,0000,  73.5007,   -6.6659,  3389,     24.3,  -1.6470, -999.000,9,   34.660,2,   -999.0,9,     5.40,2,    11.23,2,     0.07,2,     0.76,2, -999.000,9, -999.000,9, -999.000,9, -999.000,9
           NA,     GNS,    393,  99,-999.0,      18,  2,19970513,0000,  73.5007,   -6.6659,  3389,     30.4,  -1.6780, -999.000,9,   34.703,2,   -999.0,9,     5.63,2,    11.53,2,     0.06,2,     0.77,2, -999.000,9, -999.000,9, -999.000,9, -999.000,9
           NA,     GNS,    393,  99,-999.0,      17,  2,19970513,0000,  73.5007,   -6.6659,  3389,     34.8,  -1.6840, -999.000,9,   34.707,2,   -999.0,9,     5.63,2,    11.49,2,     0.04,2,     0.78,2, -999.000,9, -999.000,9, -999.000,9, -999.000,9
           NA,     GNS,    393,  99,-999.0,      16,  2,19970513,0000,  73.5007,   -6.6659,  3389,     39.6,  -1.6870, -999.000,9,   34.710,2,   -999.0,9,     5.71,2,    11.61,2,     0.04,2,     0.79,2, -999.000,9, -999.000,9, -999.000,9, -999.000,9
           NA,     GNS,    393,  99,-999.0,      15,  2,19970513,0000,  73.5007,   -6.6659,  3389,     39.7,  -1.6870, -999.000,9,   34.710,2,   -999.0,9,     5.70,2,    11.60,2,     0.04,2,     0.80,2, -999.000,9, -999.000,9, -999.000,9, -999.000,9
           NA,     GNS,    393,  99,-999.0,      14,  2,19970513,0000,  73.5007,   -6.6659,  3389,     50.7,  -1.6780, -999.000,9,   34.712,2,   -999.0,9,     5.66,2,    11.51,2,     0.03,2,     0.79,2, -999.000,9, -999.000,9, -999.000,9, -999.000,9
           NA,     GNS,    393,  99,-999.0,      13,  2,19970513,0000,  73.5007,   -6.6659,  3389,     60.6,  -1.6580, -999.000,9,   34.718,2,   -999.0,9,     5.79,2,    11.79,2,     0.04,2,     0.79,2, -999.000,9, -999.000,9, -999.000,9, -999.000,9
           NA,     GNS,    393,  99,-999.0,      12,  2,19970513,0000,  73.5007,   -6.6659,  3389,     70.0,  -1.6550, -999.000,9,   34.718,2,   -999.0,9,     5.84,2,    11.82,2,     0.03,2,     0.80,2, -999.000,9, -999.000,9, -999.000,9, -999.000,9
           NA,     GNS,    393,  99,-999.0,      11,  2,19970513,0000,  73.5007,   -6.6659,  3389,     80.0,  -1.6570, -999.000,9,   34.722,2,   -999.0,9,     5.90,2,    11.87,2,     0.04,2,     0.80,2, -999.000,9, -999.000,9, -999.000,9, -999.000,9
           NA,     GNS,    393,  99,-999.0,      11,  2,19970513,0000,  73.5007,   -6.6659,  3389,     93.1,  -1.6170, -999.000,9,   34.774,2,    349.2,2,     5.98,2,    12.00,2,     0.03,2,     0.81,2, -999.000,9, -999.000,9, -999.000,9, -999.000,9
           NA,     GNS,    393,  99,-999.0,       9,  2,19970513,0000,  73.5007,   -6.6659,  3389,     99.8,  -1.6800, -999.000,9,   34.727,2,   -999.0,9,     5.95,2,    11.89,2,     0.03,2,     0.80,2, -999.000,9, -999.000,9, -999.000,9, -999.000,9
           NA,     GNS,    393,  99,-999.0,       8,  2,19970513,0000,  73.5007,   -6.6659,  3389,    109.5,  -1.6820, -999.000,9,   34.729,2,   -999.0,9,     5.95,2,    11.92,2,     0.04,2,     0.80,2, -999.000,9, -999.000,9, -999.000,9, -999.000,9
           NA,     GNS,    393,  99,-999.0,       7,  2,19970513,0000,  73.5007,   -6.6659,  3389,    150.0,  -1.3350, -999.000,9,   34.758,2,   -999.0,9,     6.10,2,    12.21,2,     0.03,2,     0.82,2, -999.000,9, -999.000,9, -999.000,9, -999.000,9
           NA,     GNS,    393,  99,-999.0,      10,  2,19970513,0000,  73.5007,   -6.6659,  3389,    197.7,  -1.6540, -999.000,9,   34.788,2,    348.3,2,     6.08,2,    12.19,2,     0.03,2,     0.82,2, -999.000,9, -999.000,9, -999.000,9, -999.000,9
           NA,     GNS,    393,  99,-999.0,       6,  2,19970513,0000,  73.5007,   -6.6659,  3389,    199.6,  -1.6540,   34.776,2,   34.788,2,   -999.0,9,     6.21,2,    12.33,2,     0.03,2,     0.83,2,    6.254,2,    3.142,2, 2151.800,2, 2292.200,2
           NA,     GNS,    393,  99,-999.0,       5,  2,19970513,0000,  73.5007,   -6.6659,  3389,    304.9,  -1.0440, -999.000,9,   34.791,2,   -999.0,9,     6.47,2,    12.63,2,     0.03,2,     0.82,2, -999.000,9, -999.000,9, -999.000,9, -999.000,9
           NA,     GNS,    393,  99,-999.0,       9,  2,19970513,0000,  73.5007,   -6.6659,  3389,    400.5,  -0.8230, -999.000,9,   34.852,2,    325.6,2,     6.69,2,    12.91,2,     0.01,2,     0.86,2, -999.000,9, -999.000,9, -999.000,9, -999.000,9
           NA,     GNS,    393,  99,-999.0,       8,  2,19970513,0000,  73.5007,   -6.6659,  3389,    500.2,  -0.3700, -999.000,9,   34.891,2,    316.9,2,     7.25,2,    13.38,2,     0.01,2,     0.90,2, -999.000,9, -999.000,9, -999.000,9, -999.000,9
           NA,     GNS,    393,  99,-999.0,       7,  2,19970513,0000,  73.5007,   -6.6659,  3389,    550.0,  -0.3950, -999.000,9,   34.895,2,   -999.0,9,     7.43,2,    13.48,2,     0.01,2,     0.90,2, -999.000,9, -999.000,9, -999.000,9, -999.000,9
           NA,     GNS,    393,  99,-999.0,       6,  2,19970513,0000,  73.5007,   -6.6659,  3389,    600.7,  -0.4850, -999.000,9,   34.891,2,    317.8,2,     7.44,2,    13.47,2,     0.01,2,     0.91,2, -999.000,9, -999.000,9, -999.000,9, -999.000,9
           NA,     GNS,    393,  99,-999.0,       5,  2,19970513,0000,  73.5007,   -6.6659,  3389,    625.0,  -0.5340, -999.000,9,   34.889,2,   -999.0,9,     7.46,2,    13.48,2,     0.01,2,     0.90,2, -999.000,9, -999.000,9, -999.000,9, -999.000,9
           NA,     GNS,    393,  99,-999.0,       4,  2,19970513,0000,  73.5007,   -6.6659,  3389,    650.2,  -0.5560, -999.000,9,   34.889,2,   -999.0,9,     7.48,2,    13.48,2,     0.01,2,     0.90,2, -999.000,9, -999.000,9, -999.000,9, -999.000,9
           NA,     GNS,    393,  99,-999.0,       3,  2,19970513,0000,  73.5007,   -6.6659,  3389,    700.4,  -0.6270, -999.000,9,   34.888,2,    317.3,2,     7.63,2,    13.58,2,     0.03,2,     0.92,2, -999.000,9, -999.000,9, -999.000,9, -999.000,9
           NA,     GNS,    393,  99,-999.0,       2,  2,19970513,0000,  73.5007,   -6.6659,  3389,    725.3,  -0.6300, -999.000,9,   34.889,2,   -999.0,9,     7.70,2,    13.62,2,     0.01,2,     0.91,2, -999.000,9, -999.000,9, -999.000,9, -999.000,9
           NA,     GNS,    393,  99,-999.0,       1,  2,19970513,0000,  73.5007,   -6.6659,  3389,    751.7,  -0.6470, -999.000,9,   34.889,2,    316.0,2,     7.76,2,    13.62,2,     0.01,2,     0.92,2, -999.000,9, -999.000,9, -999.000,9, -999.000,9
           NA,     GNS,    393,  99,-999.0,      12,  2,19970513,0000,  73.5007,   -6.6659,  3389,    775.4,  -0.6722,   34.887,2,   34.887,2,   -999.0,9,     7.76,2,    13.63,2,     0.01,2,     0.91,2,    3.894,2,    1.920,2, 2164.600,2, 2299.500,2
           NA,     GNS,    393,  99,-999.0,      11,  2,19970513,0000,  73.5007,   -6.6659,  3389,    800.4,  -0.6870,   34.887,2,   34.887,2,    317.3,2,     7.78,2,    13.68,2,     0.02,2,     0.91,2,    3.936,2,    1.941,2, 2157.300,2, 2299.400,2
           NA,     GNS,    393,  99,-999.0,      10,  2,19970513,0000,  73.5007,   -6.6659,  3389,    849.7,  -0.7222, -999.000,9,   34.887,2,   -999.0,9,     7.88,2,    13.70,2,     0.01,2,     0.91,2, -999.000,9, -999.000,9, -999.000,9, -999.000,9
           NA,     GNS,    393,  99,-999.0,       9,  2,19970513,0000,  73.5007,   -6.6659,  3389,    900.2,  -0.7486,   34.886,2,   34.886,2,    316.9,2,     7.97,2,    13.73,2,     0.03,2,     0.93,2,    3.768,2,    1.858,2, 2154.400,2, 2297.100,2
           NA,     GNS,    393,  99,-999.0,       8,  2,19970513,0000,  73.5007,   -6.6659,  3389,   1000.7,  -0.8071,   34.885,2,   34.885,2,    318.2,2,     8.01,2,    13.73,2,     0.03,2,     0.92,2,    3.798,2,    1.858,2, 2149.200,2, 2297.800,2
           NA,     GNS,    393,  99,-999.0,       7,  2,19970513,0000,  73.5007,   -6.6659,  3389,   1200.1,  -0.7940,   34.892,2,   34.893,2,    310.8,2,     8.89,2,    14.04,2,     0.03,2,     0.94,2,    2.780,2,    1.327,2, 2154.600,2, 2296.100,2
           NA,     GNS,    393,  99,-999.0,       6,  2,19970513,0000,  73.5007,   -6.6659,  3389,   1400.1,  -0.7554,   34.904,2,   34.904,2,    299.9,2,    10.15,2,    14.52,2,     0.02,2,     0.99,2,    1.442,2,    0.658,2, 2160.400,2, 2300.700,2
           NA,     GNS,    393,  99,-999.0,       5,  2,19970513,0000,  73.5007,   -6.6659,  3389,   1600.0,  -0.8154,   34.906,2,   34.906,2,    299.9,2,    10.65,2,    14.68,2,     0.01,2,     0.98,2,    1.078,2,    0.491,2, 2157.600,2, 2300.000,2
           NA,     GNS,    393,  99,-999.0,       4,  2,19970513,0000,  73.5007,   -6.6659,  3389,   1800.0,  -0.8748,   34.906,2,   34.905,2,    299.9,2,    11.01,2,    14.85,2,     0.04,2,     1.00,2,    0.939,2,    0.431,2, 2155.800,2, 2301.100,2
           NA,     GNS,    393,  99,-999.0,       3,  2,19970513,0000,  73.5007,   -6.6659,  3389,   2000.4,  -0.9112,   34.906,2,   34.906,2,    301.2,2,    11.26,2,    14.82,2,     0.03,2,     1.01,2,    0.849,2,    0.391,2, 2160.200,2, 2302.000,2
           NA,     GNS,    393,  99,-999.0,       2,  2,19970513,0000,  73.5007,   -6.6659,  3389,   2501.2,  -0.9502,   34.905,2,   34.904,2,    303.0,2,    11.54,2,    14.80,2,     0.03,2,     0.99,2,    0.776,2,    0.361,2, 2156.600,2, 2302.000,2
           NA,     GNS,    393,  99,-999.0,       1,  2,19970513,0000,  73.5007,   -6.6659,  3389,   2871.9,  -0.9831,   34.901,2,   34.901,2,    303.0,2,    11.57,2,    14.73,2,     0.01,2,     0.98,2,    0.802,2,    0.382,2, 2159.200,2, 2301.900,2
           NA,     GNS,    397,  99,-999.0,      12,  2,19970513,0000,  73.4998,   -2.0003,  3081,     11.2,  -1.6954,   34.737,2,   34.741,2,    358.8,2,     5.34,2,    11.21,2,     0.03,2,     0.75,2,    6.887,2,    3.388,2, 2140.100,2, 2289.100,2
           NA,     GNS,    397,  99,-999.0,      11,  2,19970513,0000,  73.4998,   -2.0003,  3081,    100.3,  -1.7145,   34.747,2,   34.748,2,    352.7,2,     5.66,2,    11.60,2,     0.03,2,     0.78,2,    6.616,2,    3.294,2, 2147.500,2, 2292.300,2
           NA,     GNS,    397,  99,-999.0,      10,  2,19970513,0000,  73.4998,   -2.0003,  3081,    200.4,  -0.6720,   34.871,2,   34.837,2,    324.3,2,     6.37,2,    12.69,2,     0.01,2,     0.84,2,    4.924,2,    2.412,2, 2157.100,2, 2292.400,2
           NA,     GNS,    397,  99,-999.0,       9,  2,19970513,0000,  73.4998,   -2.0003,  3081,    300.5,  -0.4170,   34.854,2,   34.871,2,    317.8,2,     6.91,2,    13.10,2,     0.02,2,     0.88,2,    4.248,2,    2.070,2, 2152.100,2, 2299.900,2
           NA,     GNS,    397,  99,-999.0,       8,  2,19970513,0000,  73.4998,   -2.0003,  3081,    449.8,  -0.5382,   34.882,2,   34.880,2,   -999.0,9,     7.13,2,    13.26,2,     0.01,2,     0.90,2, -999.000,9, -999.000,9, 2154.100,2, 2296.600,2
           NA,     GNS,    397,  99,-999.0,       7,  2,19970513,0000,  73.4998,   -2.0003,  3081,    501.0,  -0.5037,   34.884,2,   34.887,2,    318.2,2,     7.30,2,    13.41,2,     0.01,2,     0.90,2,    4.220,2,    2.059,2, 2156.400,2, 2296.800,2
           NA,     GNS,    397,  99,-999.0,       6,  2,19970513,0000,  73.4998,   -2.0003,  3081,    525.1,  -0.5064, -999.000,9,   34.888,2,   -999.0,9,     7.38,2,    13.47,2,     0.01,2,     0.91,2, -999.000,9, -999.000,9, -999.000,9, -999.000,9
           NA,     GNS,    397,  99,-999.0,       5,  2,19970513,0000,  73.4998,   -2.0003,  3081,    550.4,  -0.5511,   34.891,2,   34.888,2,   -999.0,9,     7.46,2,    13.56,2,     0.01,2,     0.91,2, -999.000,9, -999.000,9, 2158.100,2, 2295.800,2
           NA,     GNS,    397,  99,-999.0,       4,  2,19970513,0000,  73.4998,   -2.0003,  3081,    574.0,  -0.5979, -999.000,9,   34.885,2,   -999.0,9,     7.45,2,    13.47,2,     0.01,2,     0.91,2, -999.000,9, -999.000,9, -999.000,9, -999.000,9
           NA,     GNS,    397,  99,-999.0,       3,  2,19970513,0000,  73.4998,   -2.0003,  3081,    600.2,  -0.8379,   34.888,2,   34.870,0,    323.4,2,     7.14,2,    13.27,2,     0.01,2,     0.89,2,    4.649,2,    2.277,2, 2154.600,2, 2299.400,2
           NA,     GNS,    397,  99,-999.0,       2,  2,19970513,0000,  73.4998,   -2.0003,  3081,    649.2,  -0.6392, -999.000,9,   34.887,2,   -999.0,9,     7.66,2,    13.61,2,     0.01,2,     0.91,2, -999.000,9, -999.000,9, -999.000,9, -999.000,9
           NA,     GNS,    397,  99,-999.0,       1,  2,19970513,0000,  73.4998,   -2.0003,  3081,    701.0,  -0.6760,   34.886,2,   34.887,2,    316.9,2,     7.72,2,    13.65,2,     0.01,2,     0.91,2,    3.947,2,    1.912,2, 2167.800,2, 2294.500,2
           NA,     GNS,    397,  99,-999.0,      12,  2,19970513,0000,  73.4998,   -2.0003,  3081,    749.8,  -0.7218, -999.000,9,   34.887,2,   -999.0,9,     7.86,2,    13.69,2,     0.01,2,     0.93,2, -999.000,9, -999.000,9, -999.000,9, -999.000,9
           NA,     GNS,    397,  99,-999.0,      11,  2,19970513,0000,  73.4998,   -2.0003,  3081,    799.9,  -0.7726,   34.885,2,   34.885,2,    318.2,2,     7.79,2,    13.65,2,     0.01,2,     0.92,2, -999.000,9, -999.000,9, 2156.100,2, 2294.300,2
           NA,     GNS,    397,  99,-999.0,      10,  2,19970513,0000,  73.4998,   -2.0003,  3081,    900.1,  -0.8219, -999.000,9,   34.883,2,    319.5,2,     7.78,2,    13.65,2,     0.01,2,     0.91,2,    4.062,2,    1.965,2, -999.000,9, -999.000,9
           NA,     GNS,    397,  99,-999.0,       9,  2,19970513,0000,  73.4998,   -2.0003,  3081,    999.8,  -0.8365,   34.885,2,   34.884,2,    319.1,2,     7.95,2,    13.73,2,     0.01,2,     0.92,2,    3.865,2,    1.876,2, 2154.000,2, 2294.400,2
           NA,     GNS,    397,  99,-999.0,       8,  2,19970513,0000,  73.4998,   -2.0003,  3081,   1100.5,  -0.8173,   34.890,2,   34.889,2,   -999.0,9,     8.40,2,    13.90,2,     0.01,2,     0.95,2,    3.364,2,    1.613,2, 2155.100,2, 2298.100,2
           NA,     GNS,    397,  99,-999.0,       7,  2,19970513,0000,  73.4998,   -2.0003,  3081,   1200.4,  -0.7740,   34.898,2,   34.897,2,    307.3,2,     9.25,2,    14.29,2,     0.01,2,     0.99,2,    2.360,2,    1.088,2, 2166.300,2, 2297.800,2
           NA,     GNS,    397,  99,-999.0,       6,  2,19970513,0000,  73.4998,   -2.0003,  3081,   1398.9,  -0.7771,   34.906,2,   34.905,2,    299.9,2,    10.29,2,    14.66,2,     0.01,2,     0.99,2,    1.300,2,    0.582,2, 2155.200,2, 2299.400,2
           NA,     GNS,    397,  99,-999.0,       5,  2,19970513,0000,  73.4998,   -2.0003,  3081,   1600.0,  -0.8588,   34.905,2,   34.905,2,    300.8,2,    10.70,2,    14.77,2,     0.02,2,     0.99,2,    1.076,2,    0.483,2, 2160.900,2, 2299.600,2
           NA,     GNS,    397,  99,-999.0,       4,  2,19970513,0000,  73.4998,   -2.0003,  3081,   1800.7,  -0.8983,   34.905,2,   34.905,2,    300.3,2,    10.98,2,    14.84,2,     0.01,2,     1.00,2,    0.949,2,    0.422,2, 2152.600,2, 2298.700,2
           NA,     GNS,    397,  99,-999.0,       3,  2,19970513,0000,  73.4998,   -2.0003,  3081,   2000.6,  -0.9280,   34.906,2,   34.905,2,    301.6,2,    11.27,2,    14.89,2,     0.02,2,     1.00,2,    0.835,2,    0.375,2, 2148.900,2, 2300.500,2
           NA,     GNS,    397,  99,-999.0,       2,  2,19970513,0000,  73.4998,   -2.0003,  3081,   2499.9,  -0.9868,   34.902,2,   34.902,2,    304.7,2,    11.63,2,    14.89,2,     0.02,2,     1.00,2,    0.797,2,    0.372,2, 2151.500,2, 2303.900,2
           NA,     GNS,    397,  99,-999.0,       1,  2,19970513,0000,  73.4998,   -2.0003,  3081,   2652.9,  -0.9989,   34.901,2,   34.901,2,    304.7,2,    11.78,2,    14.87,2,     0.02,2,     1.00,2,    0.789,2,    0.363,2, 2160.600,2, 2299.600,2