BOTTLE,20223408JOAExport
EXPOCODE,SECT_ID,STNNBR,CASTNO,SAMPNO,BTLNBR,BTLNBR_FLAG_W,DATE,TIME,LATITUDE,LONGITUDE,DEPTH,CTDPRS,CTDTMP,CTDSAL,CTDSAL_FLAG_W,SALNTY,SALNTY_FLAG_W,CTDOXY,CTDOXY_FLAG_W,OXYGEN,OXYGEN_FLAG_W,SILCAT,SILCAT_FLAG_W,NITRAT,NITRAT_FLAG_W,NITRIT,NITRIT_FLAG_W,PHSPHT,PHSPHT_FLAG_W,TCARBN,TCARBN_FLAG_W,ALKALI,ALKALI_FLAG_W
,,,,,,,,,,,,DB,ITS-90,PSS-78,,PSS-78,,UMOL/KG,,UMOL/KG,,UMOL/KG,,UMOL/KG,,UMOL/KG,,UMOL/KG,,UMOL/KG,,UMOL/KG
           NA,    EHS9,     14,  99,      12,      12,  2,20020525,0426,  73.0985, -158.1525,  2140,    2.100,  -1.5953,  30.4144,2,-999.0000,9,    387.4,2,    396.6,2,     5.58,2,     0.94,2,     0.05,2,      0.8,2,   -999.0,9, -999.000,9
           NA,    EHS9,     14,  99,      11,      11,  2,20020525,0426,  73.0985, -158.1525,  2140,   14.600,  -1.6074,  30.4417,2,-999.0000,9,    386.8,2,    395.7,2,     5.78,2,     0.98,2,     0.05,2,      0.8,2,   2043.8,2, 2212.000,2
           NA,    EHS9,     14,  99,      10,      10,  2,20020525,0426,  73.0985, -158.1525,  2140,   26.500,  -1.6085,  30.6026,2,-999.0000,9,    379.9,2,    388.5,2,     6.91,2,     1.59,2,     0.05,2,      0.9,2,   2059.1,2, -999.000,5
           NA,    EHS9,     14,  99,       9,       9,  2,20020525,0426,  73.0985, -158.1525,  2140,   42.200,  -1.6462,  31.5871,2,-999.0000,9,    343.3,2,    351.7,2,    14.69,2,     4.85,2,     0.00,2,      1.1,2,   2082.5,2, 2242.900,2
           NA,    EHS9,     14,  99,       8,       8,  2,20020525,0426,  73.0985, -158.1525,  2140,   56.100,  -1.4611,  31.9145,2,-999.0000,9,    335.2,2,    342.0,2,    16.33,2,     6.02,2,     0.01,2,      1.2,2,   2124.0,2, 2249.800,2
           NA,    EHS9,     14,  99,       7,       7,  2,20020525,0426,  73.0985, -158.1525,  2140,   71.500,  -1.2990,  32.2607,2,-999.0000,9,    317.9,2,    324.6,2,    18.48,2,     8.39,2,     0.00,2,      1.4,2,   2143.3,2, 2267.500,2
           NA,    EHS9,     14,  99,       6,       6,  2,20020525,0426,  73.0985, -158.1525,  2140,  101.700,  -1.4754,  32.7240,2,-999.0000,9,    290.7,2,    296.0,2,    29.24,2,    12.70,2,     0.00,2,      1.6,2,   -999.0,9, -999.000,9
           NA,    EHS9,     14,  99,       5,       5,  2,20020525,0426,  73.0985, -158.1525,  2140,  110.400,  -1.5350,  32.8343,2,-999.0000,9,    288.4,2,    293.8,2,    30.46,2,    13.46,2,     0.00,2,      1.7,2,   2185.4,2, 2304.400,2
           NA,    EHS9,     14,  99,       4,       4,  2,20020525,0426,  73.0985, -158.1525,  2140,  146.100,  -1.5526,  33.4202,2,-999.0000,9,    290.6,2,    295.4,2,    30.65,2,    13.33,2,     0.03,2,      1.6,2,   -999.0,9, -999.000,9
           NA,    EHS9,     14,  99,       3,       3,  2,20020525,0426,  73.0985, -158.1525,  2140,  177.300,  -1.4943,  33.8201,2,-999.0000,9,    292.3,2,    292.6,2,    28.39,2,    13.26,2,     0.01,2,      1.5,2,   2214.1,2, 2348.100,2
           NA,    EHS9,     14,  99,       2,       2,  2,20020525,0426,  73.0985, -158.1525,  2140,  201.300,  -1.3765,  34.0574,2,-999.0000,9,    297.6,2,    304.4,2,    25.31,2,    12.37,2,     0.01,2,      1.4,2,   -999.0,9, -999.000,9
           NA,    EHS9,     14,  99,      12,      12,  2,20020525,0426,  73.0985, -158.1525,  2140,  201.800,  -1.3514,  34.0788,2,  34.0674,2,    288.6,2,    294.8,2,    26.74,2,    12.81,2,     0.00,2,      1.5,2,   2220.2,2, 2336.200,2
           NA,    EHS9,     14,  99,       1,       1,  2,20020525,0426,  73.0985, -158.1525,  2140,  226.600,  -0.5807,  34.3782,2,-999.0000,9,    272.8,2,    276.1,2,    17.23,2,    12.71,2,     0.01,2,      1.1,2,   -999.0,9, -999.000,9
           NA,    EHS9,     14,  99,      11,      11,  2,20020525,0426,  73.0985, -158.1525,  2140,  251.700,  -0.0417,  34.5628,2,  34.5609,2,    271.1,2,    275.5,2,    12.10,2,    12.43,2,     0.00,2,      1.0,2,   2163.8,2, 2309.900,2
           NA,    EHS9,     14,  99,      10,      10,  2,20020525,0426,  73.0985, -158.1525,  2140,  301.200,   0.6363,  34.7558,2,  34.7541,2,    283.1,2,    286.9,2,     8.21,2,    12.32,2,     0.00,2,      0.9,2,   -999.0,9, -999.000,9
           NA,    EHS9,     14,  99,       9,       9,  2,20020525,0426,  73.0985, -158.1525,  2140,  350.800,   0.7836,  34.8128,2,  34.8111,2,    290.2,2,    293.5,2,     6.77,2,    12.22,2,     0.00,2,      0.8,2,   2146.1,2, 2323.100,2
           NA,    EHS9,     14,  99,       8,       8,  2,20020525,0426,  73.0985, -158.1525,  2140,  402.600,   0.6622,  34.8223,2,  34.8228,2,    290.1,2,    294.7,2,     6.57,2,    12.27,2,     0.00,2,      0.8,2,   -999.0,9, -999.000,9
           NA,    EHS9,     14,  99,       7,       7,  2,20020525,0426,  73.0985, -158.1525,  2140,  452.000,   0.6479,  34.8402,2,  34.8405,2,    291.5,2,    296.0,2,     6.67,2,    12.35,2,     0.00,2,      0.8,2,   -999.0,9, -999.000,9
           NA,    EHS9,     14,  99,       6,       6,  2,20020525,0426,  73.0985, -158.1525,  2140,  503.200,   0.5600,  34.8454,2,  34.8457,2,    291.0,2,    296.6,2,     6.77,2,    12.39,2,     0.00,2,      0.8,2,   2146.4,2, 2323.500,2
           NA,    EHS9,     14,  99,       5,       5,  2,20020525,0426,  73.0985, -158.1525,  2140,  602.800,   0.4295,  34.8546,2,  34.8550,2,    291.0,2,    297.0,2,     6.98,2,    12.38,2,     0.00,2,      0.9,2,   -999.0,9, -999.000,9
           NA,    EHS9,     14,  99,       4,       4,  2,20020525,0426,  73.0985, -158.1525,  2140,  799.900,   0.2026,  34.8672,2,  34.8680,2,    291.5,2,    299.3,2,     6.76,2,    12.42,2,     0.00,2,      0.9,2,   -999.0,9, -999.000,9
           NA,    EHS9,     14,  99,       3,       3,  2,20020525,0426,  73.0985, -158.1525,  2140, 1001.000,   0.0094,  34.8787,2,  34.8795,2,    290.7,2,    300.0,2,     7.08,2,    12.46,2,     0.00,2,      0.9,2,   -999.0,9, -999.000,9
           NA,    EHS9,     14,  99,       2,       2,  2,20020525,0426,  73.0985, -158.1525,  2140, 1503.500,  -0.3256,  34.9160,2,  34.9153,2,    285.8,2,    297.7,2,     8.81,2,    13.30,2,     0.00,2,      0.9,2,   2135.4,2, 2322.900,2
           NA,    EHS9,     14,  99,       1,       1,  2,20020525,0426,  73.0985, -158.1525,  2140, 2166.000,  -0.3989,  34.9527,2,  34.9517,2,    272.9,2,    285.4,2,    13.10,2,    14.45,2,     0.00,2,      1.0,2,   -999.0,9, -999.000,9
           NA,    EHS7,     16,  99,      12,      12,  2,20020527,0031,  72.8750, -158.2778,  1080,    2.300,  -1.6025,  30.6309,2,  30.6344,2,    382.1,2,    390.7,2,     7.04,2,     1.51,2,     0.06,2,      0.9,2,   -999.0,9, -999.000,9
           NA,    EHS7,     16,  99,      11,      11,  2,20020527,0031,  72.8750, -158.2778,  1080,   17.100,  -1.6066,  30.6948,2,  30.6989,2,    380.9,2,    389.7,2,     7.34,2,     1.61,2,     0.06,2,      0.9,2,   2068.7,2, -999.000,9
           NA,    EHS7,     16,  99,      10,      10,  2,20020527,0031,  72.8750, -158.2778,  1080,   25.500,  -1.6167,  30.8832,2,  30.8584,2,    373.2,2,    382.8,2,     8.26,2,     2.17,2,     0.06,2,      0.9,2,   2079.7,2, -999.000,5
           NA,    EHS7,     16,  99,       9,       9,  2,20020527,0031,  72.8750, -158.2778,  1080,   35.500,  -1.6156,  31.0612,2,  31.2110,2,    363.1,2,    369.8,2,    10.94,2,     3.40,2,     0.04,2,      1.0,2,   2098.0,2, 2241.600,2
           NA,    EHS7,     16,  99,       8,       8,  2,20020527,0031,  72.8750, -158.2778,  1080,   50.900,  -1.6406,  31.6543,2,-999.0000,9,    343.7,2,    351.3,2,    15.46,2,     5.20,2,     0.01,2,      1.2,2,   2121.6,2, 2246.400,2
           NA,    EHS7,     16,  99,       7,       7,  2,20020527,0031,  72.8750, -158.2778,  1080,   66.600,  -1.4524,  32.0527,2,-999.0000,9,    328.7,2,    335.8,2,    18.03,2,     6.92,2,     0.01,2,      1.3,2,   2135.2,2, 2260.000,2
           NA,    EHS7,     16,  99,       6,       6,  2,20020527,0031,  72.8750, -158.2778,  1080,   81.100,  -1.2257,  32.3220,2,-999.0000,9,    310.1,2,    315.3,2,    20.50,2,     9.54,2,     0.01,2,      1.5,2,   -999.0,9, -999.000,9
           NA,    EHS7,     16,  99,       5,       5,  2,20020527,0031,  72.8750, -158.2778,  1080,  110.900,  -1.5551,  32.7649,2,-999.0000,9,    292.1,2,    297.1,2,    29.69,2,    12.90,2,     0.00,2,      1.7,2,   2185.6,2, 2273.400,2
           NA,    EHS7,     16,  99,       4,       4,  2,20020527,0031,  72.8750, -158.2778,  1080,  126.500,  -1.5669,  32.9817,2,-999.0000,9,    286.6,2,    291.5,2,    32.26,2,    13.89,2,     0.00,2,      1.8,2,   -999.0,9, -999.000,9
           NA,    EHS7,     16,  99,       3,       3,  2,20020527,0031,  72.8750, -158.2778,  1080,  150.700,  -1.6055,  33.4399,2,-999.0000,9,    294.2,2,    300.5,2,    32.14,2,    12.85,2,     0.02,2,      1.7,2,   -999.0,9, -999.000,9
           NA,    EHS7,     16,  99,       2,       2,  2,20020527,0031,  72.8750, -158.2778,  1080,  177.100,  -1.1548,  34.0999,2,-999.0000,9,    287.6,2,    292.5,2,    27.68,2,    13.08,2,     0.01,2,      1.5,2,   2217.1,2, 2334.400,2
           NA,    EHS7,     16,  99,       1,       1,  2,20020527,0031,  72.8750, -158.2778,  1080,  201.800,  -0.3746,  34.4598,2,-999.0000,9,    269.0,2,    271.7,2,    15.70,2,    12.67,2,     0.00,2,      1.1,2,   -999.0,9, -999.000,9
           NA,    EHS7,     16,  99,      12,      12,  2,20020527,0031,  72.8750, -158.2778,  1080,  202.000,  -0.4251,  34.4380,2,  34.4367,2,    267.4,2,    271.3,2,    16.00,2,    12.63,2,     0.00,2,      1.1,2,   2177.3,2, 2309.800,2
           NA,    EHS7,     16,  99,      11,      11,  2,20020527,0031,  72.8750, -158.2778,  1080,  250.500,   0.5996,  34.7542,2,  34.7550,2,    281.4,2,    284.1,2,     9.71,2,    12.31,2,     0.00,2,      0.9,2,   2155.7,2, 2311.600,2
           NA,    EHS7,     16,  99,      10,      10,  2,20020527,0031,  72.8750, -158.2778,  1080,  275.700,   0.6786,  34.7828,2,  34.7841,2,    285.9,2,    289.0,2,     8.26,2,    12.08,2,     0.00,2,      0.9,2,   -999.0,9, -999.000,9
           NA,    EHS7,     16,  99,       9,       9,  2,20020527,0031,  72.8750, -158.2778,  1080,  301.500,   0.7193,  34.8074,2,  34.8071,2,    287.6,2,    290.5,2,     8.15,2,    12.09,2,     0.00,2,      0.9,2,   2149.7,2, 2311.100,2
           NA,    EHS7,     16,  99,       8,       8,  2,20020527,0031,  72.8750, -158.2778,  1080,  342.600,   0.6740,  34.8227,2,  34.8240,2,    291.5,2,    295.1,2,     6.70,2,    11.95,2,     0.00,2,      0.9,2,   -999.0,9, -999.000,9
           NA,    EHS7,     16,  99,       7,       7,  2,20020527,0031,  72.8750, -158.2778,  1080,  402.500,   0.6015,  34.8396,2,  34.8404,2,    292.2,2,    296.3,2,     6.79,2,    12.05,2,     0.00,2,      0.9,2,   2147.5,2, 2322.400,2
           NA,    EHS7,     16,  99,       6,       6,  2,20020527,0031,  72.8750, -158.2778,  1080,  453.100,   0.5017,  34.8467,2,  34.8467,2,    291.9,2,    296.7,2,     7.20,2,    12.10,2,     0.00,2,      0.9,2,   -999.0,9, -999.000,9
           NA,    EHS7,     16,  99,       5,       5,  2,20020527,0031,  72.8750, -158.2778,  1080,  500.500,   0.4580,  34.8502,2,  34.8508,2,    292.0,2,    296.6,2,     7.19,2,    12.16,2,     0.00,2,      0.9,2,   -999.0,9, -999.000,9
           NA,    EHS7,     16,  99,       4,       4,  2,20020527,0031,  72.8750, -158.2778,  1080,  552.400,   0.4345,  34.8525,2,  34.8538,2,    292.2,2,    297.2,2,     7.09,2,    12.21,2,     0.00,2,      0.9,2,   -999.0,9, -999.000,9
           NA,    EHS7,     16,  99,       3,       3,  2,20020527,0031,  72.8750, -158.2778,  1080,  652.900,   0.3238,  34.8600,2,  34.8613,2,    292.6,2,    298.2,2,     6.98,2,    12.26,2,     0.00,2,      0.9,2,   -999.0,9, -999.000,9
           NA,    EHS7,     16,  99,       2,       2,  2,20020527,0031,  72.8750, -158.2778,  1080,  803.000,   0.2064,  34.8663,2,  34.8668,2,    292.8,2,    299.2,2,     6.97,2,    12.31,2,     0.00,2,      0.9,2,   2150.3,2, 2324.600,2
           NA,    EHS7,     16,  99,       1,       1,  2,20020527,0031,  72.8750, -158.2778,  1080, 1048.700,  -0.0122,  34.8799,2,  34.8806,2,    292.8,2,    300.0,2,     7.16,2,    12.41,2,     0.00,2,      0.9,2,   -999.0,9, -999.000,9
           NA,    EHS6,     17,   3,      12,      12,  2,20020527,2134,  72.8663, -158.5598,   437,    2.200,  -1.6104,  30.5728,2,  30.5774,2,    384.8,2,    394.9,2,     6.32,2,     1.11,2,     0.06,2,      0.8,2,   2059.3,2, 2199.800,2
           NA,    EHS6,     17,   3,      11,      11,  2,20020527,2134,  72.8663, -158.5598,   437,   26.600,  -1.6222,  30.5824,2,  30.5930,2,    384.3,2,    395.2,2,     6.42,2,     1.20,2,     0.06,2,      0.8,2,   2060.4,2, 2202.400,2
           NA,    EHS6,     17,   3,      10,      10,  2,20020527,2134,  72.8663, -158.5598,   437,   51.900,  -1.5465,  31.6940,2,  31.6996,2,    341.3,2,    349.1,2,    15.37,2,     5.22,2,     0.00,2,      1.2,2,   2120.1,2, 2244.200,2
           NA,    EHS6,     17,   3,       9,       9,  2,20020527,2134,  72.8663, -158.5598,   437,   71.900,  -1.4055,  32.0549,2,  32.0521,2,    327.8,2,    334.9,2,    17.52,2,     6.92,2,     0.00,2,      1.3,2,   2135.1,2, 2253.600,2
           NA,    EHS6,     17,   3,       8,       8,  2,20020527,2134,  72.8663, -158.5598,   437,   90.900,  -1.4640,  32.3953,2,  32.4155,2,    308.2,2,    314.3,2,    23.18,2,     9.80,2,     0.00,2,      1.5,2,   2163.8,2, 2271.300,2
           NA,    EHS6,     17,   3,       7,       7,  2,20020527,2134,  72.8663, -158.5598,   437,  126.500,  -1.6537,  33.0064,2,  33.0079,2,    294.8,2,    300.5,2,    34.21,2,    13.17,2,     0.08,2,      1.7,2,   2167.3,2, 2289.000,2
           NA,    EHS6,     17,   3,       6,       6,  2,20020527,2134,  72.8663, -158.5598,   437,  175.900,  -0.8512,  34.2643,2,  34.2587,2,    271.7,2,    279.1,2,    21.90,2,    13.44,2,     0.02,2,      1.3,2,   2168.6,2, 2316.100,2
           NA,    EHS6,     17,   3,       5,       5,  2,20020527,2134,  72.8663, -158.5598,   437,  201.800,  -0.1296,  34.5272,2,  34.5131,2,    269.4,2,    273.5,2,    17.17,2,    13.09,2,     0.00,2,      1.1,2,   2179.4,2, -999.000,5
           NA,    EHS6,     17,   3,       4,       4,  2,20020527,2134,  72.8663, -158.5598,   437,  250.700,   0.6517,  34.7674,2,  34.7668,2,    283.0,2,    285.5,2,     9.24,2,    12.57,2,     0.00,2,      0.9,2,   2155.1,2, 2313.600,2
           NA,    EHS6,     17,   3,       3,       3,  2,20020527,2134,  72.8663, -158.5598,   437,  301.700,   0.7015,  34.8095,2,  34.8085,2,    288.0,2,    291.6,2,     7.90,2,    12.47,2,     0.00,2,      0.9,2,   2150.3,2, 2325.500,2
           NA,    EHS6,     17,   3,       2,       2,  2,20020527,2134,  72.8663, -158.5598,   437,  350.800,   0.6161,  34.8347,2,  34.8339,2,    292.3,2,    295.3,2,     6.97,2,    12.38,2,     0.00,2,      0.9,2,   2148.8,2, 2315.400,2
           NA,    EHS6,     17,   3,       1,       1,  2,20020527,2134,  72.8663, -158.5598,   437,  433.800,   0.4413,  34.8473,2,  34.8481,2,    290.8,2,    294.2,2,     8.71,2,    12.56,2,     0.01,2,      0.9,2,   2150.9,2, 2314.700,2
           NA,    EHS5,     18,   2,      12,      12,  2,20020528,1648,  72.7435, -158.6187,   229,    2.200,  -1.6226,  30.5209,2,  30.5255,2,    389.5,2,    398.9,2,     5.58,2,     0.73,2,     0.03,2,      0.8,2,   2053.1,2, 2225.300,2
           NA,    EHS5,     18,   2,      11,      11,  2,20020528,1648,  72.7435, -158.6187,   229,   11.000,  -1.6316,  30.5278,2,  30.5302,2,    389.1,2,    398.4,2,     5.57,2,     0.73,2,     0.03,2,      0.8,2,   2048.1,2, 2249.900,2
           NA,    EHS5,     18,   2,      10,      10,  2,20020528,1648,  72.7435, -158.6187,   229,   20.900,  -1.6285,  30.5387,2,  30.5460,2,    388.9,2,    398.2,2,     5.56,2,     0.77,2,     0.03,2,      0.8,2,   2044.4,2, 2234.700,2
           NA,    EHS5,     18,   2,       9,       9,  2,20020528,1648,  72.7435, -158.6187,   229,   31.100,  -1.6184,  30.6461,2,  30.6558,2,    386.8,2,    395.6,2,     6.06,2,     0.97,2,     0.03,2,      0.8,2,   2053.6,2, 2213.100,2
           NA,    EHS5,     18,   2,       8,       8,  2,20020528,1648,  72.7435, -158.6187,   229,   46.500,  -1.6297,  30.8137,2,  30.8312,2,    382.3,2,    390.9,2,     7.27,2,     1.30,2,     0.03,2,      0.9,2,   2067.7,2, 2216.900,2
           NA,    EHS5,     18,   2,       7,       7,  2,20020528,1648,  72.7435, -158.6187,   229,   61.700,  -1.4629,  31.7224,2,  31.7265,2,    341.8,2,    350.9,2,    15.01,2,     5.02,2,     0.01,2,      1.2,2,   2116.7,2, 2253.200,2
           NA,    EHS5,     18,   2,       6,       6,  2,20020528,1648,  72.7435, -158.6187,   229,   81.800,  -1.5362,  32.1136,2,  32.1079,2,    325.9,2,    335.5,2,    19.07,2,     7.01,2,     0.01,2,      1.3,2,   2140.8,2, 2262.900,2
           NA,    EHS5,     18,   2,       5,       5,  2,20020528,1648,  72.7435, -158.6187,   229,  101.800,  -1.6062,  32.5072,2,  32.5150,2,    295.1,2,    300.9,2,    29.37,2,     9.45,2,     0.07,2,      1.6,2,   2153.3,2, 2283.300,2
           NA,    EHS5,     18,   2,       4,       4,  2,20020528,1648,  72.7435, -158.6187,   229,  121.000,  -1.6146,  33.0383,2,  32.9928,2,    296.0,2,    302.4,2,    32.31,2,    11.97,2,     0.08,2,      1.7,2,   2186.5,2, 2291.300,2
           NA,    EHS5,     18,   2,       3,       3,  2,20020528,1648,  72.7435, -158.6187,   229,  141.200,  -1.5054,  33.7580,2,  33.7786,2,    293.5,2,    297.5,2,    30.24,2,    13.03,2,     0.01,2,      1.6,2,   2194.6,2, 2327.700,2
           NA,    EHS5,     18,   2,       2,       2,  2,20020528,1648,  72.7435, -158.6187,   229,  181.700,   0.4063,  34.6833,2,  34.6790,2,    271.3,2,    271.7,2,    15.64,2,    12.85,2,     0.04,2,      1.1,2,   2152.4,2, 2314.900,2
           NA,    EHS5,     18,   2,       1,       1,  2,20020528,1648,  72.7435, -158.6187,   229,  228.300,   0.6132,  34.7991,2,  34.8005,2,    281.7,2,    283.3,2,    12.69,2,    12.44,2,     0.07,2,      1.0,2,   2127.1,2, 2315.800,2