BOTTLE,20223408JOAExport
EXPOCODE,SECT_ID,STNNBR,CASTNO,SAMPNO,BTLNBR,BTLNBR_FLAG_W,DATE,TIME,LATITUDE,LONGITUDE,DEPTH,CTDPRS,CTDTMP,CTDSAL,CTDSAL_FLAG_W,SALNTY,SALNTY_FLAG_W,CTDOXY,CTDOXY_FLAG_W,OXYGEN,OXYGEN_FLAG_W,SILCAT,SILCAT_FLAG_W,NITRAT,NITRAT_FLAG_W,NITRIT,NITRIT_FLAG_W,PHSPHT,PHSPHT_FLAG_W,TCARBN,TCARBN_FLAG_W,ALKALI,ALKALI_FLAG_W
,,,,,,,,,,,,DB,ITS-90,PSS-78,,PSS-78,,UMOL/KG,,UMOL/KG,,UMOL/KG,,UMOL/KG,,UMOL/KG,,UMOL/KG,,UMOL/KG,,UMOL/KG
           NA,    EHS4,     19,  99,      12,      12,  2,20020529,1629,  72.6060, -158.7560,    90,    1.800,  -1.6387,  30.7844,2,-999.0000,9,    383.3,2,    391.8,2,     7.38,2,     1.33,2,     0.03,2,      0.9,2,   -999.0,9, -999.000,9
           NA,    EHS4,     19,  99,      12,      12,  2,20020529,1629,  72.6060, -158.7560,    90,    1.900,  -1.6247,  30.8437,2,  30.8493,2,    380.0,2,    388.4,2,     8.03,2,     1.58,2,     0.03,2,      0.9,2,   -999.0,9, -999.000,9
           NA,    EHS4,     19,  99,      11,      11,  2,20020529,1629,  72.6060, -158.7560,    90,    1.900,  -1.6339,  30.8464,2,  30.8500,2,    380.0,2,    388.4,2,     8.03,2,     1.53,2,     0.03,2,      0.9,2,   2075.9,2, 2208.600,2
           NA,    EHS4,     19,  99,      10,      10,  2,20020529,1629,  72.6060, -158.7560,    90,    8.000,  -1.6413,  30.7912,2,-999.0000,9,    382.8,2,    391.5,2,     7.48,2,     1.33,2,     0.03,2,      0.9,2,   -999.0,9, -999.000,9
           NA,    EHS4,     19,  99,      10,      10,  2,20020529,1629,  72.6060, -158.7560,    90,   11.400,  -1.6439,  30.8546,2,  30.8635,2,    379.3,2,    387.6,2,     8.22,2,     1.58,2,     0.03,2,      0.9,2,   2067.9,2, 2216.300,2
           NA,    EHS4,     19,  99,       9,       9,  2,20020529,1629,  72.6060, -158.7560,    90,   13.100,  -1.6429,  30.7964,2,-999.0000,9,    382.3,2,    391.6,2,     7.58,2,     1.32,2,     0.03,2,      0.9,2,   -999.0,9, -999.000,9
           NA,    EHS4,     19,  99,       9,       9,  2,20020529,1629,  72.6060, -158.7560,    90,   16.600,  -1.6528,  30.8734,2,  30.8732,2,    378.4,2,    387.4,2,     8.33,2,     1.62,2,     0.03,2,      0.9,2,   2066.4,2, 2219.400,2
           NA,    EHS4,     19,  99,       8,       8,  2,20020529,1629,  72.6060, -158.7560,    90,   20.100,  -1.6466,  30.8126,2,-999.0000,9,    381.6,2,    390.3,2,     7.68,2,     1.37,2,     0.03,2,      0.9,2,   -999.0,9, -999.000,9
           NA,    EHS4,     19,  99,       8,       8,  2,20020529,1629,  72.6060, -158.7560,    90,   21.300,  -1.6528,  30.8781,2,  30.8838,2,    378.0,2,    387.8,2,     8.43,2,     1.72,2,     0.03,2,      0.9,2,   2078.4,2, 2214.400,2
           NA,    EHS4,     19,  99,       4,       4,  2,20020529,1629,  72.6060, -158.7560,    90,   31.100,  -1.6433,  30.8398,2,-999.0000,9,    380.2,2,    385.1,2,     8.60,2,     1.84,2,     0.03,2,      0.9,2,   -999.0,9, -999.000,9
           NA,    EHS4,     19,  99,       7,       7,  2,20020529,1629,  72.6060, -158.7560,    90,   31.500,  -1.6552,  30.9587,2,  30.9498,2,    372.8,2,    382.9,2,     9.34,2,     1.85,2,     0.03,2,      0.9,2,   2072.9,2, 2214.300,2
           NA,    EHS4,     19,  99,       6,       6,  2,20020529,1629,  72.6060, -158.7560,    90,   41.700,  -1.5829,  31.2018,2,  31.1720,2,    354.5,2,    365.3,2,    12.51,2,     3.14,2,     0.04,2,      1.0,2,   2079.5,2, 2223.000,2
           NA,    EHS4,     19,  99,       3,       3,  2,20020529,1629,  72.6060, -158.7560,    90,   47.200,  -1.6336,  31.6711,2,-999.0000,9,    326.1,2,    323.0,2,    22.85,2,     6.47,2,     0.07,2,      1.4,2,   -999.0,9, -999.000,9
           NA,    EHS4,     19,  99,       5,       5,  2,20020529,1629,  72.6060, -158.7560,    90,   51.800,  -1.5931,  31.7976,2,  31.8064,2,    318.4,2,    325.7,2,    21.10,2,     6.17,2,     0.06,2,      1.3,2,   2108.4,2, 2237.100,2
           NA,    EHS4,     19,  99,       4,       4,  2,20020529,1629,  72.6060, -158.7560,    90,   61.700,  -1.7002,  32.3135,2,  32.2218,2,    299.3,2,    308.6,2,    27.64,2,     7.74,2,     0.07,2,      1.5,2,   2130.1,2, 2250.200,2
           NA,    EHS4,     19,  99,       3,       3,  2,20020529,1629,  72.6060, -158.7560,    90,   71.700,  -1.7443,  32.5470,2,  32.5445,2,    292.4,2,    298.6,2,    38.30,2,    10.34,2,     0.09,2,      1.8,2,   2167.8,2, 2263.600,2
           NA,    EHS4,     19,  99,       2,       2,  2,20020529,1629,  72.6060, -158.7560,    90,   81.400,  -1.7485,  32.5924,2,  32.5926,2,    290.0,2,    295.5,2,    40.35,2,    10.86,2,     0.10,2,      1.9,2,   -999.0,9, -999.000,9
           NA,    EHS4,     19,  99,       1,       1,  2,20020529,1629,  72.6060, -158.7560,    90,   81.400,  -1.7485,  32.5936,2,  32.5926,2,    290.0,2,    295.6,2,    40.36,2,    10.86,2,     0.10,2,      1.8,2,   2168.5,2, 2265.700,2
           NA,    EHS1,     22,  99,      12,      12,  2,20020530,1621,  72.2428, -159.7890,    46,    2.100,  -1.6748,  31.4887,2,  31.4886,2,    342.8,2,    351.7,2,    18.57,2,     4.65,2,     0.07,2,      1.2,2,   2097.3,2, 2236.900,2
           NA,    EHS1,     22,  99,      12,      12,  2,20020530,1621,  72.2428, -159.7890,    46,    2.400,  -1.6776,  31.5276,2,-999.0000,9,    343.6,2,    351.0,2,    18.58,2,     4.78,2,     0.08,2,      1.2,2,   -999.0,9, -999.000,9
           NA,    EHS1,     22,  99,      11,      11,  2,20020530,1621,  72.2428, -159.7890,    46,    6.500,  -1.6636,  31.4903,2,  31.4884,2,    342.8,2,    352.1,2,    18.57,2,     4.65,2,     0.07,2,      1.2,2,   2094.7,2, 2255.800,2
           NA,    EHS1,     22,  99,      10,      10,  2,20020530,1621,  72.2428, -159.7890,    46,    7.100,  -1.6764,  31.5282,2,-999.0000,9,    343.6,2,    350.8,2,    18.57,2,     4.73,2,     0.07,2,      1.2,2,   -999.0,9, -999.000,9
           NA,    EHS1,     22,  99,      10,      10,  2,20020530,1621,  72.2428, -159.7890,    46,   11.300,  -1.6688,  31.4912,2,  31.4892,2,    342.3,2,    351.6,2,    18.66,2,     4.65,2,     0.07,2,      1.2,2,   2082.7,2, 2267.100,2
           NA,    EHS1,     22,  99,       9,       9,  2,20020530,1621,  72.2428, -159.7890,    46,   11.600,  -1.6813,  31.5282,2,-999.0000,9,    343.8,2,    351.1,2,    18.57,2,     4.77,2,     0.07,2,      1.2,2,   -999.0,9, -999.000,9
           NA,    EHS1,     22,  99,       9,       9,  2,20020530,1621,  72.2428, -159.7890,    46,   16.100,  -1.6754,  31.4933,2,  31.4931,2,    342.2,2,    351.2,2,    18.65,2,     4.70,2,     0.07,2,      1.2,2,   2102.3,2, 2228.400,2
           NA,    EHS1,     22,  99,       8,       8,  2,20020530,1621,  72.2428, -159.7890,    46,   17.700,  -1.6815,  31.5301,2,-999.0000,9,    343.4,2,    350.8,2,    18.57,2,     4.77,2,     0.08,2,      1.2,2,   -999.0,9, -999.000,9
           NA,    EHS1,     22,  99,       8,       8,  2,20020530,1621,  72.2428, -159.7890,    46,   21.200,  -1.6755,  31.4965,2,  31.4975,2,    342.2,2,    351.8,2,    18.75,2,     4.70,2,     0.07,2,      1.2,2,   2097.7,2, 2225.300,2
           NA,    EHS1,     22,  99,       7,       7,  2,20020530,1621,  72.2428, -159.7890,    46,   26.300,  -1.6753,  31.5021,2,  31.4985,2,    340.5,2,    350.5,2,    18.95,2,     4.75,2,     0.06,2,      1.2,2,   2095.3,2, 2228.600,2
           NA,    EHS1,     22,  99,       7,       7,  2,20020530,1621,  72.2428, -159.7890,    46,   27.300,  -1.6822,  31.5303,2,-999.0000,9,    342.9,2,    348.7,2,    19.08,2,     4.91,2,     0.07,2,      1.2,2,   -999.0,9, -999.000,9
           NA,    EHS1,     22,  99,       6,       6,  2,20020530,1621,  72.2428, -159.7890,    46,   30.600,  -1.6539,  32.0637,2,  32.1007,2,    300.0,2,    308.2,2,    27.60,2,     7.44,2,     0.07,2,      1.5,2,   2128.8,2, 2237.700,2
           NA,    EHS1,     22,  99,       5,       5,  2,20020530,1621,  72.2428, -159.7890,    46,   33.200,  -1.6725,  32.3463,2,  32.2312,2,    292.0,2,    301.5,2,    30.40,2,     8.07,2,     0.08,2,      1.6,2,   2146.4,2, 2244.800,2
           NA,    EHS1,     22,  99,       4,       4,  2,20020530,1621,  72.2428, -159.7890,    46,   36.300,  -1.7221,  32.6477,2,  32.6367,2,    286.9,2,    293.2,2,    38.23,2,     9.99,2,     0.08,2,      1.8,2,   2167.9,2, 2259.000,2
           NA,    EHS1,     22,  99,       3,       3,  2,20020530,1621,  72.2428, -159.7890,    46,   39.000,  -1.7260,  32.6646,2,  32.6600,2,    286.6,2,    293.1,2,    38.74,2,    10.08,2,     0.09,2,      1.8,2,   2167.6,2, 2308.800,2
           NA,    EHS1,     22,  99,       3,       3,  2,20020530,1621,  72.2428, -159.7890,    46,   41.600,  -1.7278,  32.6677,2,-999.0000,9,    288.5,2,    294.1,2,    37.95,2,    10.12,2,     0.09,2,      1.8,2,   -999.0,9, -999.000,9
           NA,    EHS1,     22,  99,       1,       1,  2,20020530,1621,  72.2428, -159.7890,    46,   43.100,  -1.7265,  32.6670,2,  32.6614,2,    286.9,2,    293.0,2,    38.83,2,    10.13,2,     0.09,2,      1.8,2,   2170.1,2, 2264.400,2
           NA,    EHS1,     22,  99,       2,       2,  2,20020530,1621,  72.2428, -159.7890,    46,   43.100,  -1.7265,  32.6671,2,  32.6637,2,    286.8,2,    293.3,2,    38.84,2,    10.13,2,     0.09,2,      1.8,2,   2155.6,2, 2268.200,2
           NA,     BC1,     23,   1,      12,      12,  2,20020601,1652,  71.4058, -158.1265,    92,    1.800,  -1.5778,  31.5995,2,-999.0000,9,    356.1,2,    363.3,2,    19.68,2,     5.19,2,     0.08,2,      1.2,2,   -999.0,9, -999.000,9
           NA,     BC1,     23,   1,      10,      10,  2,20020601,1652,  71.4058, -158.1265,    92,    7.100,  -1.5876,  31.6600,2,-999.0000,9,    354.5,2,    362.2,2,    20.08,2,     5.39,2,     0.09,2,      1.2,2,   -999.0,9, -999.000,9
           NA,     BC1,     23,   1,       9,       9,  2,20020601,1652,  71.4058, -158.1265,    92,   11.600,  -1.5981,  31.6732,2,-999.0000,9,    353.8,2,    361.3,2,    20.38,2,     5.54,2,     0.09,2,      1.2,2,   -999.0,9, -999.000,9
           NA,     BC1,     23,   1,       8,       8,  2,20020601,1652,  71.4058, -158.1265,    92,   17.700,  -1.6253,  31.7430,2,-999.0000,9,    352.1,2,    359.1,2,    21.39,2,     5.84,2,     0.09,2,      1.2,2,   -999.0,9, -999.000,9
           NA,     BC1,     23,   1,       7,       7,  2,20020601,1652,  71.4058, -158.1265,    92,   27.400,  -1.6833,  31.9381,2,-999.0000,9,    346.7,2,    353.3,2,    24.25,2,     6.57,2,     0.09,2,      1.3,2,   -999.0,9, -999.000,9
           NA,     BC1,     23,   1,       6,       6,  2,20020601,1652,  71.4058, -158.1265,    92,   41.500,  -1.6971,  32.4045,2,-999.0000,9,    321.5,2,    326.4,2,    28.24,2,     9.16,2,     0.10,2,      1.5,2,   -999.0,9, -999.000,9
           NA,     BC1,     23,   1,       5,       5,  2,20020601,1652,  71.4058, -158.1265,    92,   56.100,  -1.7539,  32.6069,2,-999.0000,9,    324.4,2,    330.7,2,    35.43,2,     9.12,2,     0.11,2,      1.6,2,   -999.0,9, -999.000,9
           NA,     BC1,     23,   1,       4,       4,  2,20020601,1652,  71.4058, -158.1265,    92,   71.100,  -1.7384,  32.6875,2,-999.0000,9,    322.7,2,    325.5,2,    38.40,2,    10.32,2,     0.10,2,      1.7,2,   -999.0,9, -999.000,9
           NA,     BC1,     23,   1,       3,       3,  2,20020601,1652,  71.4058, -158.1265,    92,   86.100,  -1.8108,  33.6420,2,-999.0000,9,    314.0,2,    321.2,2,    44.23,2,    12.68,2,     0.10,2,      1.9,2,   -999.0,9, -999.000,9
           NA,    BC2A,     24,  99,      12,      12,  2,20020602,1535,  71.8130, -155.6848,   103,    2.100,  -1.6134,  30.7866,2,  30.7905,2,    379.3,2,    386.6,2,     8.43,2,     1.95,2,     0.06,2,      0.9,2,   2061.5,2, -999.000,9
           NA,    BC2A,     24,  99,      12,      12,  2,20020602,1535,  71.8130, -155.6848,   103,    2.200,  -1.6079,  30.7797,2,-999.0000,9,    378.3,2,    385.7,2,     8.54,2,     2.04,2,     0.06,2,      0.9,2,   -999.0,9, -999.000,9
           NA,    BC2A,     24,  99,      11,      11,  2,20020602,1535,  71.8130, -155.6848,   103,    5.500,  -1.6210,  30.7801,2,  30.7938,2,    379.7,2,    386.1,2,     8.43,2,     2.00,2,     0.06,2,      0.9,2,   2076.4,2, 2294.700,2
           NA,    BC2A,     24,  99,      10,      10,  2,20020602,1535,  71.8130, -155.6848,   103,    7.600,  -1.6220,  30.8018,2,-999.0000,9,    377.8,2,    385.3,2,     8.85,2,     2.15,2,     0.06,2,      0.9,2,   -999.0,9, -999.000,9
           NA,    BC2A,     24,  99,      10,      10,  2,20020602,1535,  71.8130, -155.6848,   103,   11.100,  -1.6530,  31.0347,2,  31.0527,2,    369.2,2,    375.5,2,    11.28,2,     3.00,2,     0.08,2,      1.0,2,   2088.3,2, 2246.600,2
           NA,    BC2A,     24,  99,       9,       9,  2,20020602,1535,  71.8130, -155.6848,   103,   12.400,  -1.6380,  30.8460,2,-999.0000,9,    375.9,2,    381.0,2,     9.66,2,     2.46,2,     0.06,2,      0.9,2,   -999.0,9, -999.000,9
           NA,    BC2A,     24,  99,       8,       8,  2,20020602,1535,  71.8130, -155.6848,   103,   19.100,  -1.6506,  30.9950,2,-999.0000,9,    370.0,2,    375.9,2,    10.89,2,     2.98,2,     0.07,2,      1.0,2,   -999.0,9, -999.000,9
           NA,    BC2A,     24,  99,       9,       9,  2,20020602,1535,  71.8130, -155.6848,   103,   20.500,  -1.6633,  31.1306,2,  31.1284,2,    365.9,2,    372.3,2,    12.20,2,     3.37,2,     0.08,2,      1.0,2,   2090.2,2, 2291.500,2
           NA,    BC2A,     24,  99,       7,       7,  2,20020602,1535,  71.8130, -155.6848,   103,   29.200,  -1.6560,  31.2530,2,-999.0000,9,    362.4,2,    370.1,2,    12.21,2,     3.66,2,     0.08,2,      1.0,2,   -999.0,9, -999.000,9
           NA,    BC2A,     24,  99,       8,       8,  2,20020602,1535,  71.8130, -155.6848,   103,   30.800,  -1.6679,  31.2866,2,  31.1978,2,    365.3,2,    371.9,2,    11.89,2,     3.47,2,     0.09,2,      1.0,2,   2105.4,2, 2276.700,2
           NA,    BC2A,     24,  99,       7,       7,  2,20020602,1535,  71.8130, -155.6848,   103,   41.000,  -1.6404,  31.4483,2,  31.4573,2,    359.0,2,    365.2,2,    12.81,2,     4.16,2,     0.09,2,      1.1,2,   2118.5,2, 2287.700,2
           NA,    BC2A,     24,  99,       3,       3,  2,20020602,1535,  71.8130, -155.6848,   103,   44.400,  -1.6298,  31.7297,2,-999.0000,9,    346.2,2,    353.0,2,    16.07,2,     5.49,2,     0.08,2,      1.2,2,   -999.0,9, -999.000,9
           NA,    BC2A,     24,  99,       6,       6,  2,20020602,1535,  71.8130, -155.6848,   103,   51.200,  -1.6230,  31.8268,2,  31.8328,2,    341.9,2,    347.7,2,    17.18,2,     5.94,2,     0.07,2,      1.2,2,   2132.8,2, 2307.800,2
           NA,    BC2A,     24,  99,       5,       5,  2,20020602,1535,  71.8130, -155.6848,   103,   61.400,  -1.6346,  32.2578,2,  32.2651,2,    327.8,2,    332.0,2,    21.36,2,     8.06,2,     0.08,2,      1.4,2,   2136.5,2, 2326.700,2
           NA,    BC2A,     24,  99,       2,       2,  2,20020602,1535,  71.8130, -155.6848,   103,   66.100,  -1.5505,  32.3811,2,-999.0000,9,    314.9,2,    312.2,2,    26.37,2,    10.12,2,     0.07,2,      1.5,2,   -999.0,9, -999.000,9
           NA,    BC2A,     24,  99,       4,       4,  2,20020602,1535,  71.8130, -155.6848,   103,   71.100,  -1.5428,  32.4907,2,  32.4931,2,    308.9,2,    313.4,2,    24.82,2,    10.17,2,     0.05,2,      1.5,2,   2172.2,2, 2320.900,2
           NA,    BC2A,     24,  99,       3,       3,  2,20020602,1535,  71.8130, -155.6848,   103,   81.400,  -1.6118,  32.6629,2,  32.6949,2,    305.0,2,    309.2,2,    30.83,2,    11.24,2,     0.09,2,      1.6,2,   2178.9,2, 2331.700,2
           NA,    BC2A,     24,  99,       2,       2,  2,20020602,1535,  71.8130, -155.6848,   103,   91.200,  -1.6306,  32.7680,2,  32.7670,2,    302.2,2,    306.6,2,    32.56,2,    11.56,2,     0.09,2,      1.7,2,   2179.9,2, 2342.600,2
           NA,    BC2A,     24,  99,       1,       1,  2,20020602,1535,  71.8130, -155.6848,   103,   95.900,  -1.6250,  32.7672,2,-999.0000,9,    297.7,2,    303.1,2,    31.77,2,    11.70,2,     0.09,2,      1.7,2,   -999.0,9, -999.000,9
           NA,    BC2A,     24,  99,       1,       1,  2,20020602,1535,  71.8130, -155.6848,   103,  100.300,  -1.6329,  32.7803,2,  32.7787,2,    302.0,2,    306.9,2,    32.77,2,    11.66,2,     0.09,2,      1.7,2,   2186.2,2, 2353.400,2
           NA,     SB1,     26,   1,       1,       1,  2,20020603,1615,  71.5548, -154.5610,    37,    2.100,  -1.6556,  31.9991,2,-999.0000,9,    348.0,2,    355.0,2,    19.54,2,     6.15,2,     0.07,2,      1.2,2,   -999.0,9, -999.000,9
           NA,     SB1,     26,   1,       6,       6,  2,20020603,1615,  71.5548, -154.5610,    37,    5.100,  -1.6228,  32.0047,2,-999.0000,9,    347.9,2,    355.0,2,    19.43,2,     6.18,2,     0.07,2,      1.2,2,   -999.0,9, -999.000,9
           NA,     SB1,     26,   1,       5,       5,  2,20020603,1615,  71.5548, -154.5610,    37,    8.100,  -1.6274,  32.0054,2,-999.0000,9,    347.9,2,    354.7,2,    19.53,2,     6.17,2,     0.07,2,      1.2,2,   -999.0,9, -999.000,9
           NA,     SB1,     26,   1,       4,       4,  2,20020603,1615,  71.5548, -154.5610,    37,   12.300,  -1.6800,  32.0361,2,-999.0000,9,    346.3,2,    353.6,2,    19.83,2,     6.33,2,     0.07,2,      1.2,2,   -999.0,9, -999.000,9
           NA,     SB1,     26,   1,       3,       3,  2,20020603,1615,  71.5548, -154.5610,    37,   18.600,  -1.6694,  32.0515,2,-999.0000,9,    344.7,2,    350.4,2,    20.65,2,     6.63,2,     0.08,2,      1.3,2,   -999.0,9, -999.000,9
           NA,     SB1,     26,   1,       2,       2,  2,20020603,1615,  71.5548, -154.5610,    37,   28.100,  -1.6458,  32.1581,2,-999.0000,9,    341.5,2,    346.8,2,    22.07,2,     6.99,2,     0.09,2,      1.3,2,   -999.0,9, -999.000,9