BOTTLE,20223408JOAExport
EXPOCODE,SECT_ID,STNNBR,CASTNO,SAMPNO,BTLNBR,BTLNBR_FLAG_W,DATE,TIME,LATITUDE,LONGITUDE,DEPTH,CTDPRS,CTDTMP,CTDSAL,CTDSAL_FLAG_W,SALNTY,SALNTY_FLAG_W,CTDOXY,CTDOXY_FLAG_W,OXYGEN,OXYGEN_FLAG_W,SILCAT,SILCAT_FLAG_W,NITRAT,NITRAT_FLAG_W,NITRIT,NITRIT_FLAG_W,PHSPHT,PHSPHT_FLAG_W,TCARBN,TCARBN_FLAG_W,ALKALI,ALKALI_FLAG_W
,,,,,,,,,,,,DB,ITS-90,PSS-78,,PSS-78,,UMOL/KG,,UMOL/KG,,UMOL/KG,,UMOL/KG,,UMOL/KG,,UMOL/KG,,UMOL/KG,,UMOL/KG
           NA,     BC7,     34,  99,      10,      10,  2,20020608,1837,  72.5343, -154.4993,  2936,    1.700,  -1.5729,  29.8191,2,-999.0000,9,    395.5,2,    403.9,2,     3.38,2,     0.12,2,     0.01,2,      0.7,2,   -999.0,9, -999.000,9
           NA,     BC7,     34,  99,      12,      12,  2,20020608,1837,  72.5343, -154.4993,  2936,    2.000,  -1.4274,  29.7984,2,  29.8030,2,    393.5,2,    403.9,2,     3.41,2,     0.03,2,     0.01,2,      0.7,2,   -999.0,9, -999.000,9
           NA,     BC7,     34,  99,       9,       9,  2,20020608,1837,  72.5343, -154.4993,  2936,   15.000,  -1.5824,  29.8370,2,-999.0000,9,    395.6,2,    403.0,2,     3.58,2,     0.17,2,     0.01,2,      0.7,2,   -999.0,9, -999.000,9
           NA,     BC7,     34,  99,      11,      11,  2,20020608,1837,  72.5343, -154.4993,  2936,   21.200,  -1.5490,  29.9144,2,  30.1476,2,    391.0,2,    398.3,2,     4.42,2,     0.46,2,     0.02,2,      0.8,2,   2026.9,2, 2187.400,2
           NA,     BC7,     34,  99,       8,       8,  2,20020608,1837,  72.5343, -154.4993,  2936,   25.200,  -1.4785,  30.6194,2,-999.0000,9,    382.1,2,    391.6,2,     5.90,2,     1.22,2,     0.02,2,      0.8,2,   -999.0,9, -999.000,9
           NA,     BC7,     34,  99,      10,      10,  2,20020608,1837,  72.5343, -154.4993,  2936,   29.300,  -1.3865,  30.9607,2,  31.0392,2,    373.2,2,    382.5,2,     7.63,2,     2.00,2,     0.02,2,      0.9,2,   2075.5,2, 2287.300,2
           NA,     BC7,     34,  99,       5,       5,  2,20020608,1837,  72.5343, -154.4993,  2936,   38.900,  -1.1446,  31.6417,2,-999.0000,9,    359.8,2,    358.0,2,    11.14,2,     4.33,2,     0.01,2,      1.1,2,   -999.0,9, -999.000,9
           NA,     BC7,     34,  99,       9,       9,  2,20020608,1837,  72.5343, -154.4993,  2936,   41.400,  -1.0373,  31.8225,2,  31.8308,2,    348.6,2,    355.9,2,    11.45,2,     4.73,2,     0.00,2,      1.2,2,   2090.5,2, 2276.800,2
           NA,     BC7,     34,  99,       4,       4,  2,20020608,1837,  72.5343, -154.4993,  2936,   61.000,  -1.3814,  32.3270,2,-999.0000,9,    314.1,2,    317.6,2,    20.32,2,     9.31,2,     0.00,2,      1.5,2,   -999.0,9, -999.000,9
           NA,     BC7,     34,  99,       8,       8,  2,20020608,1837,  72.5343, -154.4993,  2936,   61.300,  -1.3386,  32.2789,2,  32.2930,2,    316.7,2,    322.2,2,    19.20,2,     8.84,2,     0.00,2,      1.4,2,   2145.4,2, 2300.700,2
           NA,     BC7,     34,  99,       7,       7,  2,20020608,1837,  72.5343, -154.4993,  2936,   82.000,  -1.5465,  32.5627,2,  32.5664,2,    299.6,2,    305.6,2,    26.34,2,    11.36,2,     0.00,2,      1.6,2,   2171.1,2, 2292.800,2
           NA,     BC7,     34,  99,       3,       3,  2,20020608,1837,  72.5343, -154.4993,  2936,   93.100,  -1.4642,  32.6604,2,-999.0000,9,    289.4,2,    291.5,2,    30.12,2,    13.67,2,     0.00,2,      1.8,2,   -999.0,9, -999.000,9
           NA,     BC7,     34,  99,       6,       6,  2,20020608,1837,  72.5343, -154.4993,  2936,  102.000,  -1.5600,  32.8048,2,  32.7973,2,    290.1,2,    296.7,2,    29.97,2,    12.91,2,     0.00,2,      1.7,2,   -999.0,9, -999.000,9
           NA,     BC7,     34,  99,       5,       5,  2,20020608,1837,  72.5343, -154.4993,  2936,  126.100,  -1.5645,  33.0346,2,  33.0595,2,    284.5,2,    291.7,2,    32.99,2,    14.16,2,     0.01,2,      1.8,2,   2198.0,2, 2311.400,2
           NA,     BC7,     34,  99,       4,       4,  2,20020608,1837,  72.5343, -154.4993,  2936,  151.400,  -1.5969,  33.3814,2,  33.3857,2,    292.7,2,    297.3,2,    32.18,2,    13.42,2,     0.02,2,      1.7,2,   -999.0,9, -999.000,9
           NA,     BC7,     34,  99,       3,       3,  2,20020608,1837,  72.5343, -154.4993,  2936,  176.400,  -1.6056,  33.7835,2,  33.7996,2,    307.2,2,    313.3,2,    34.09,2,    12.70,2,     0.08,2,      1.7,2,   2225.2,2, 2376.800,2
           NA,     BC7,     34,  99,       2,       2,  2,20020608,1837,  72.5343, -154.4993,  2936,  200.500,  -1.5136,  34.0527,2,  34.0796,2,    295.9,2,    299.5,2,    28.93,2,    13.19,2,     0.07,2,      1.5,2,   -999.0,9, -999.000,9
           NA,     BC7,     34,  99,       1,       1,  2,20020608,1837,  72.5343, -154.4993,  2936,  225.600,  -0.4385,  34.4340,2,  34.4393,2,    267.9,2,    271.1,2,    15.85,2,    13.01,2,     0.00,2,      1.1,2,   -999.0,9, -999.000,9
           NA,     BC7,     34,  99,      12,      12,  2,20020608,1837,  72.5343, -154.4993,  2936,  251.200,   0.0217,  34.5901,2,  34.5868,2,    269.1,2,    273.8,2,    12.64,2,    12.78,2,     0.00,2,      1.0,2,   2161.9,2, 2335.600,2
           NA,     BC7,     34,  99,      11,      11,  2,20020608,1837,  72.5343, -154.4993,  2936,  302.100,   0.5857,  34.7534,2,  34.7523,2,    280.8,2,    286.5,2,     8.72,2,    12.58,2,     0.00,2,      0.9,2,   2149.3,2, 2345.600,2
           NA,     BC7,     34,  99,      10,      10,  2,20020608,1837,  72.5343, -154.4993,  2936,  375.800,   0.7261,  34.8215,2,  34.8209,2,    288.1,2,    293.4,2,     7.21,2,    12.39,2,     0.00,2,      0.9,2,   -999.0,9, -999.000,9
           NA,     BC7,     34,  99,       9,       9,  2,20020608,1837,  72.5343, -154.4993,  2936,  401.300,   0.6327,  34.8203,2,  34.8207,2,    288.0,2,    293.4,2,     7.21,2,    12.44,2,     0.00,2,      0.9,2,   2144.1,2, 2349.200,2
           NA,     BC7,     34,  99,       8,       8,  2,20020608,1837,  72.5343, -154.4993,  2936,  501.200,   0.5534,  34.8435,2,  34.8433,2,    289.4,2,    295.9,2,     7.31,2,    12.50,2,     0.00,2,      0.9,2,   2135.1,2, 2339.500,2
           NA,     BC7,     34,  99,       7,       7,  2,20020608,1837,  72.5343, -154.4993,  2936,  701.400,   0.2773,  34.8610,2,  34.8614,2,    290.1,2,    298.6,2,     7.11,2,    12.50,2,     0.00,2,      0.9,2,   2134.4,2, 2347.900,2
           NA,     BC7,     34,  99,       6,       6,  2,20020608,1837,  72.5343, -154.4993,  2936,  902.000,   0.0463,  34.8753,2,  34.8755,2,    289.4,2,    299.7,2,     7.31,2,    12.56,2,     0.00,2,      0.9,2,   2143.9,2, 2319.900,2
           NA,     BC7,     34,  99,       5,       5,  2,20020608,1837,  72.5343, -154.4993,  2936, 1201.400,  -0.1544,  34.8867,2,  34.8863,2,    289.0,2,    301.4,2,     7.52,2,    12.66,2,     0.00,2,      0.9,2,   2147.9,2, 2323.000,2
           NA,     BC7,     34,  99,       4,       4,  2,20020608,1837,  72.5343, -154.4993,  2936, 1501.800,  -0.2695,  34.9071,2,  34.9056,2,    285.5,2,    299.7,2,     8.41,2,    13.05,2,     0.00,2,      0.9,2,   2145.2,2, 2330.900,2
           NA,     BC7,     34,  99,       3,       3,  2,20020608,1837,  72.5343, -154.4993,  2936, 2002.100,  -0.3985,  34.9380,2,  34.9374,2,    276.0,2,    292.1,2,    11.23,2,    13.92,2,     0.00,2,      1.0,2,   2144.7,2, 2324.400,2
           NA,     BC7,     34,  99,       2,       2,  2,20020608,1837,  72.5343, -154.4993,  2936, 2501.700,  -0.3775,  34.9495,2,  34.9488,2,    270.6,2,    287.3,2,    12.73,2,    14.31,2,     0.00,2,      1.0,2,   2139.2,2, 2327.200,2
           NA,     BC7,     34,  99,       1,       1,  2,20020608,1837,  72.5343, -154.4993,  2936, 2962.200,  -0.3340,  34.9557,2,  34.9549,2,    266.6,2,    282.9,2,    14.54,2,    14.50,2,     0.00,2,      1.0,2,   2149.1,2, 2320.600,2
           NA,       x,     36,   1,      10,      10,  2,20020610,1651,  71.8928, -155.6697,   125,    2.100,  -1.6190,  30.7416,2,-999.0000,9,    380.7,2,    389.8,2,     8.07,2,     1.80,2,     0.05,2,      0.9,2,   -999.0,9, -999.000,9
           NA,       x,     36,   1,       9,       9,  2,20020610,1651,  71.8928, -155.6697,   125,    9.200,  -1.6247,  30.7599,2,-999.0000,9,    380.5,2,    389.5,2,     8.07,2,     1.80,2,     0.05,2,      0.9,2,   -999.0,9, -999.000,9
           NA,       x,     36,   1,       8,       8,  2,20020610,1651,  71.8928, -155.6697,   125,   15.100,  -1.6279,  30.7705,2,-999.0000,9,    380.7,2,    389.1,2,     8.07,2,     1.89,2,     0.06,2,      0.9,2,   -999.0,9, -999.000,9
           NA,       x,     36,   1,       7,       7,  2,20020610,1651,  71.8928, -155.6697,   125,   23.300,  -1.6356,  30.7785,2,-999.0000,9,    379.9,2,    387.5,2,     8.17,2,     1.98,2,     0.06,2,      0.9,2,   -999.0,9, -999.000,9
           NA,       x,     36,   1,       4,       4,  2,20020610,1651,  71.8928, -155.6697,   125,   36.400,  -1.6289,  31.0376,2,-999.0000,9,    369.4,2,    377.6,2,    10.26,2,     2.87,2,     0.09,2,      1.0,2,   -999.0,9, -999.000,9
           NA,       x,     36,   1,       3,       3,  2,20020610,1651,  71.8928, -155.6697,   125,   55.200,  -1.6114,  32.0373,2,-999.0000,9,    332.4,2,    339.0,2,    19.46,2,     7.14,2,     0.01,2,      1.3,2,   -999.0,9, -999.000,9
           NA,       x,     36,   1,       2,       2,  2,20020610,1651,  71.8928, -155.6697,   125,   76.100,  -1.5807,  32.3949,2,-999.0000,9,    309.4,2,    315.7,2,    24.47,2,     9.59,2,     0.04,2,      1.5,2,   -999.0,9, -999.000,9
           NA,       x,     36,   1,       1,       1,  2,20020610,1651,  71.8928, -155.6697,   125,  101.900,  -1.5672,  32.6633,2,-999.0000,9,    298.9,2,    304.5,2,    28.88,2,    11.82,2,     0.05,2,      1.7,2,   -999.0,9, -999.000,9
           NA,     BC3,     37,   1,      12,      12,  2,20020611,0351,  71.6505, -155.7585,   183,    1.900,  -1.5977,  31.3233,2,  31.3653,2,    362.2,2,    370.3,2,    16.30,2,     4.55,2,     0.09,2,      1.1,2,   2105.0,2, 2253.600,2
           NA,     BC3,     37,   1,      11,      11,  2,20020611,0351,  71.6505, -155.7585,   183,   11.300,  -1.5951,  31.6037,2,  31.6313,2,    355.6,2,    363.6,2,    19.18,2,     5.14,2,     0.09,2,      1.2,2,   -999.0,9, 2278.000,2
           NA,     BC3,     37,   1,      10,      10,  2,20020611,0351,  71.6505, -155.7585,   183,   21.100,  -1.5923,  31.7903,2,  31.8108,2,    353.5,2,    361.3,2,    21.94,2,     5.67,2,     0.11,2,      1.2,2,   -999.0,9, 2281.600,2
           NA,     BC3,     37,   1,       9,       9,  2,20020611,0351,  71.6505, -155.7585,   183,   31.800,  -1.5970,  31.9765,2,  31.9830,2,    344.5,2,    352.4,2,    25.65,2,     6.93,2,     0.10,2,      1.3,2,   -999.0,9, 2292.400,2
           NA,     BC3,     37,   1,       8,       8,  2,20020611,0351,  71.6505, -155.7585,   183,   52.000,  -1.5896,  32.1230,2,  32.1214,2,    345.1,2,    352.5,2,    27.33,2,     7.08,2,     0.10,2,      1.4,2,   2133.8,2, 2297.700,2
           NA,     BC3,     37,   1,       7,       7,  2,20020611,0351,  71.6505, -155.7585,   183,   71.500,  -1.5548,  32.2020,2,  32.1935,2,    343.8,2,    351.8,2,    28.52,2,     7.23,2,     0.11,2,      1.4,2,   2149.6,2, 2311.500,2
           NA,     BC3,     37,   1,       6,       6,  2,20020611,0351,  71.6505, -155.7585,   183,   91.500,  -1.6841,  32.3706,2,  32.3627,2,    329.3,2,    342.5,2,    31.51,2,     7.98,2,     0.11,2,      1.5,2,   2149.3,2, 2294.600,2
           NA,     BC3,     37,   1,       5,       5,  2,20020611,0351,  71.6505, -155.7585,   183,  110.600,  -1.7668,  33.2419,2,  33.1683,2,    310.8,2,    316.5,2,    42.07,2,    11.74,2,     0.09,2,      1.8,2,   2207.2,2, 2353.300,2
           NA,     BC3,     37,   1,       4,       4,  2,20020611,0351,  71.6505, -155.7585,   183,  131.000,  -1.7707,  33.4144,2,  33.4147,2,    314.1,2,    321.3,2,    43.65,2,    12.34,2,     0.10,2,      1.9,2,   2211.1,2, 2377.100,2
           NA,     BC3,     37,   1,       3,       3,  2,20020611,0351,  71.6505, -155.7585,   183,  151.200,  -1.7746,  33.4210,2,  33.4221,2,    313.4,2,    325.6,2,    43.95,2,    12.48,2,     0.10,2,      1.9,2,   2189.9,2, 2343.600,2
           NA,     BC3,     37,   1,       2,       2,  2,20020611,0351,  71.6505, -155.7585,   183,  161.300,  -1.7716,  33.4233,2,  33.4252,2,    313.5,2,    320.6,2,    43.84,2,    12.43,2,     0.10,2,      1.9,2,   2205.3,2, 2334.800,2
           NA,     BC3,     37,   1,       1,       1,  2,20020611,0351,  71.6505, -155.7585,   183,  180.900,  -1.5981,  33.5294,2,  33.5126,2,    311.7,2,    318.6,2,    41.83,2,    12.48,2,     0.10,2,      1.9,2,   2194.7,2, 2386.800,2
           NA,     ZOO,     38,   1,       3,       3,  2,20020612,0104,  71.5500, -156.2003,   168,   19.600,  -1.0968,  32.5034,2,-999.0000,9,    443.3,2,    454.7,2,  -999.00,9,  -999.00,9,  -999.00,9,   -999.0,9,   -999.0,9, -999.000,9
           NA,     ZOO,     38,   1,       4,       4,  2,20020612,0104,  71.5500, -156.2003,   168,   19.600,  -1.1020,  32.4960,2,-999.0000,9,    444.1,2,    455.3,2,  -999.00,9,  -999.00,9,  -999.00,9,   -999.0,9,   -999.0,9, -999.000,9
           NA,     BC2,     39,  99,      12,      12,  2,20020612,1351,  71.4037, -157.1870,   119,    2.100,  -1.6233,  32.4945,2,  32.5003,2,    389.1,2,    398.3,2,    22.15,2,     3.43,2,     0.06,2,      1.1,2,   2105.6,2, 2257.100,2
           NA,     BC2,     39,  99,      12,      12,  2,20020612,1351,  71.4037, -157.1870,   119,    2.100,  -1.6325,  32.4973,2,-999.0000,9,    389.1,2,    399.0,2,    22.13,2,     3.31,2,     0.07,2,      1.1,2,   -999.0,9, -999.000,9
           NA,     BC2,     39,  99,      11,      11,  2,20020612,1351,  71.4037, -157.1870,   119,    3.200,  -1.6328,  32.4972,2,-999.0000,9,    389.1,2,    399.7,2,    22.22,2,     3.30,2,     0.07,2,      1.1,2,   -999.0,9, -999.000,9
           NA,     BC2,     39,  99,      10,      10,  2,20020612,1351,  71.4037, -157.1870,   119,    5.000,  -1.6328,  32.4977,2,-999.0000,9,    388.9,2,    399.1,2,    22.20,2,     3.29,2,     0.07,2,      1.2,2,   -999.0,9, -999.000,9
           NA,     BC2,     39,  99,      11,      11,  2,20020612,1351,  71.4037, -157.1870,   119,    6.100,  -1.6284,  32.4984,2,  32.5005,2,    388.7,2,    398.1,2,    22.14,2,     3.41,2,     0.06,2,      1.1,2,   -999.0,9, 2290.800,2
           NA,     BC2,     39,  99,       9,       9,  2,20020612,1351,  71.4037, -157.1870,   119,    7.100,  -1.6343,  32.4968,2,-999.0000,9,    389.0,2,    398.5,2,    22.10,2,     3.17,2,     0.06,2,      1.1,2,   -999.0,9, -999.000,9
           NA,     BC2,     39,  99,       8,       8,  2,20020612,1351,  71.4037, -157.1870,   119,   10.800,  -1.6403,  32.5017,2,-999.0000,9,    388.2,2,    398.3,2,    22.18,2,     3.15,2,     0.07,2,      1.1,2,   -999.0,9, -999.000,9
           NA,     BC2,     39,  99,      10,      10,  2,20020612,1351,  71.4037, -157.1870,   119,   11.100,  -1.6504,  32.5152,2,  32.5166,2,    385.9,2,    395.9,2,    22.64,2,     3.40,2,     0.06,2,      1.1,2,   -999.0,9, 2307.700,2
           NA,     BC2,     39,  99,       7,       7,  2,20020612,1351,  71.4037, -157.1870,   119,   15.900,  -1.6445,  32.5188,2,-999.0000,9,    384.4,2,    387.7,2,    24.21,2,     4.11,2,     0.08,2,      1.2,2,   -999.0,9, -999.000,9
           NA,     BC2,     39,  99,       9,       9,  2,20020612,1351,  71.4037, -157.1870,   119,   16.100,  -1.6509,  32.5374,2,  32.5894,2,    378.3,2,    385.9,2,    24.97,2,     4.45,2,     0.07,2,      1.2,2,   -999.0,9, 2300.100,2
           NA,     BC2,     39,  99,       8,       8,  2,20020612,1351,  71.4037, -157.1870,   119,   21.100,  -1.6854,  32.7253,2,  32.7167,2,    358.9,2,    368.5,2,    29.15,2,     6.08,2,     0.08,2,      1.4,2,   -999.0,9, 2327.600,2
           NA,     BC2,     39,  99,       4,       4,  2,20020612,1351,  71.4037, -157.1870,   119,   26.100,  -1.6972,  32.8252,2,-999.0000,9,    348.5,2,    357.4,2,    31.92,2,     7.58,2,     0.10,2,      1.5,2,   -999.0,9, -999.000,9
           NA,     BC2,     39,  99,       7,       7,  2,20020612,1351,  71.4037, -157.1870,   119,   31.200,  -1.7008,  32.8629,2,  32.8645,2,    345.7,2,    354.1,2,    33.11,2,     7.91,2,     0.09,2,      1.5,2,   -999.0,9, 2319.700,2
           NA,     BC2,     39,  99,       6,       6,  2,20020612,1351,  71.4037, -157.1870,   119,   41.600,  -1.7050,  32.8942,2,  32.8963,2,    343.5,2,    351.7,2,    33.91,2,     8.46,2,     0.09,2,      1.5,2,   -999.0,9, 2322.000,2
           NA,     BC2,     39,  99,       3,       3,  2,20020612,1351,  71.4037, -157.1870,   119,   51.000,  -1.7176,  32.9294,2,-999.0000,9,    340.5,2,    347.3,2,    35.77,2,     9.05,2,     0.11,2,      1.6,2,   -999.0,9, -999.000,9
           NA,     BC2,     39,  99,       5,       5,  2,20020612,1351,  71.4037, -157.1870,   119,   51.500,  -1.7292,  32.9671,2,  32.9621,2,    338.0,2,    346.5,2,    36.04,2,     9.11,2,     0.10,2,      1.6,2,   -999.0,9, 2330.300,2
           NA,     BC2,     39,  99,       4,       4,  2,20020612,1351,  71.4037, -157.1870,   119,   61.500,  -1.7722,  33.1834,2,  33.1880,2,    330.6,2,    338.5,2,    40.82,2,    11.19,2,     0.11,2,      1.8,2,   -999.0,9, 2325.100,2
           NA,     BC2,     39,  99,       3,       3,  2,20020612,1351,  71.4037, -157.1870,   119,   71.500,  -1.8110,  33.5533,2,  33.5548,2,    313.8,2,    321.1,2,    45.50,2,    13.70,2,     0.12,2,      2.0,2,   -999.0,9, 2354.500,2
           NA,     BC2,     39,  99,       2,       2,  2,20020612,1351,  71.4037, -157.1870,   119,   86.300,  -1.8123,  33.5808,2,  33.5802,2,    313.7,2,    320.8,2,    45.48,2,    13.88,2,     0.12,2,      2.0,2,   -999.0,9, 2358.500,2
           NA,     BC2,     39,  99,       1,       1,  2,20020612,1351,  71.4037, -157.1870,   119,  115.600,  -1.8135,  33.5941,2,  33.5949,2,    313.3,2,    320.1,2,    45.66,2,    13.92,2,     0.12,2,      2.0,2,   -999.0,9, 2364.600,2