BOTTLE,20223408JOAExport
EXPOCODE,SECT_ID,STNNBR,CASTNO,SAMPNO,BTLNBR,BTLNBR_FLAG_W,DATE,TIME,LATITUDE,LONGITUDE,DEPTH,CTDPRS,CTDTMP,CTDSAL,CTDSAL_FLAG_W,SALNTY,SALNTY_FLAG_W,CTDOXY,CTDOXY_FLAG_W,OXYGEN,OXYGEN_FLAG_W,SILCAT,SILCAT_FLAG_W,NITRAT,NITRAT_FLAG_W,NITRIT,NITRIT_FLAG_W,PHSPHT,PHSPHT_FLAG_W,TCARBN,TCARBN_FLAG_W,ALKALI,ALKALI_FLAG_W
,,,,,,,,,,,,DB,ITS-90,PSS-78,,PSS-78,,UMOL/KG,,UMOL/KG,,UMOL/KG,,UMOL/KG,,UMOL/KG,,UMOL/KG,,UMOL/KG,,UMOL/KG
           NA,    WHS6,     10,  99,      12,      12,  2,20020520,2221,  73.4310, -159.7385,  1950,    2.200,  -1.5355,  29.5071,2,-999.0000,9,    392.3,2,    400.5,2,     3.58,2,     0.20,2,     0.03,2,      0.7,2,   1990.2,2, -999.000,9
           NA,    WHS6,     10,  99,      11,      11,  2,20020520,2221,  73.4310, -159.7385,  1950,   11.400,  -1.5652,  29.5072,2,-999.0000,9,    391.8,2,    400.2,2,     3.65,2,     0.15,2,     0.03,2,      0.7,2,   1980.8,2, 2142.300,2
           NA,    WHS6,     10,  99,      10,      10,  2,20020520,2221,  73.4310, -159.7385,  1950,   21.300,  -1.5581,  29.5148,2,-999.0000,9,    391.7,2,    399.8,2,     3.61,2,     0.20,2,     0.03,2,      0.7,2,   1988.5,2, 2135.400,2
           NA,    WHS6,     10,  99,       9,       9,  2,20020520,2221,  73.4310, -159.7385,  1950,   36.300,   0.2580,  31.1108,2,-999.0000,9,    366.5,2,    371.1,2,     5.36,2,     1.33,2,     0.00,2,      0.9,2,   2037.3,2, 2206.200,2
           NA,    WHS6,     10,  99,       8,       8,  2,20020520,2221,  73.4310, -159.7385,  1950,   51.700,  -0.8349,  31.8416,2,-999.0000,9,    343.8,2,    350.4,2,    11.63,2,     4.87,2,     0.00,2,      1.2,2,   2097.4,2, 2251.200,2
           NA,    WHS6,     10,  99,       7,       7,  2,20020520,2221,  73.4310, -159.7385,  1950,   66.800,  -1.1735,  32.1551,2,-999.0000,9,    324.7,2,    331.7,2,    16.53,2,     7.51,2,     0.00,2,      1.3,2,   2125.7,2, 2259.500,2
           NA,    WHS6,     10,  99,       6,       6,  2,20020520,2221,  73.4310, -159.7385,  1950,   81.800,  -1.3756,  32.4131,2,-999.0000,9,    305.6,2,    310.9,2,    22.70,2,    10.21,2,     0.00,2,      1.5,2,   -999.0,9, -999.000,9
           NA,    WHS6,     10,  99,       5,       5,  2,20020520,2221,  73.4310, -159.7385,  1950,  102.100,  -1.2015,  32.7006,2,-999.0000,9,    280.0,2,    284.4,2,    30.35,2,    13.05,2,     0.00,2,      1.8,2,   2170.1,2, 2258.600,2
           NA,    WHS6,     10,  99,       4,       4,  2,20020520,2221,  73.4310, -159.7385,  1950,  127.100,  -1.5424,  33.0060,2,-999.0000,9,    286.4,2,    292.4,2,    31.05,2,    13.84,2,     0.00,2,      1.7,2,   -999.0,9, -999.000,9
           NA,    WHS6,     10,  99,       3,       3,  2,20020520,2221,  73.4310, -159.7385,  1950,  152.300,  -1.4744,  33.3917,2,-999.0000,9,    279.8,2,    285.1,2,    31.86,2,    14.63,2,     0.00,2,      1.7,2,   -999.0,9, -999.000,9
           NA,    WHS6,     10,  99,       2,       2,  2,20020520,2221,  73.4310, -159.7385,  1950,  177.600,  -1.1718,  33.9182,2,-999.0000,9,    269.2,2,    272.8,2,    26.22,2,    14.15,2,     0.00,2,      1.5,2,   2118.5,2, 2310.300,2
           NA,    WHS6,     10,  99,      12,      12,  2,20020520,2221,  73.4310, -159.7385,  1950,  200.300,  -0.9404,  34.2211,2,  34.2188,2,    269.5,2,    273.6,2,    16.26,2,    12.62,2,     0.00,2,      1.1,2,   2176.0,2, 2310.600,2
           NA,    WHS6,     10,  99,       1,       1,  2,20020520,2221,  73.4310, -159.7385,  1950,  203.900,  -0.7385,  34.3253,2,-999.0000,9,    281.6,2,    283.9,2,    11.04,2,    11.41,2,     0.00,2,      0.9,2,   -999.0,9, -999.000,9
           NA,    WHS6,     10,  99,      11,      11,  2,20020520,2221,  73.4310, -159.7385,  1950,  299.500,   0.6094,  34.7480,2,  34.7502,2,    285.9,2,    289.9,2,     7.18,2,    12.34,2,     0.00,2,      0.9,2,   -999.0,9, -999.000,9
           NA,    WHS6,     10,  99,      10,      10,  2,20020520,2221,  73.4310, -159.7385,  1950,  400.000,   0.6803,  34.8229,2,  34.8214,2,    290.5,2,    295.1,2,     6.30,2,    12.38,2,     0.00,2,      0.9,2,   2148.3,2, 2316.400,2
           NA,    WHS6,     10,  99,       9,       9,  2,20020520,2221,  73.4310, -159.7385,  1950,  500.400,   0.5989,  34.8485,2,  34.8491,2,    293.2,2,    298.4,2,     6.06,2,    12.39,2,     0.00,2,      0.9,2,   -999.0,9, -999.000,9
           NA,    WHS6,     10,  99,       8,       8,  2,20020520,2221,  73.4310, -159.7385,  1950,  600.400,   0.4333,  34.8582,2,  34.8590,2,    292.8,2,    298.7,2,     6.24,2,    12.44,2,     0.00,2,      0.9,2,   -999.0,9, -999.000,9
           NA,    WHS6,     10,  99,       7,       7,  2,20020520,2221,  73.4310, -159.7385,  1950,  800.500,   0.1283,  34.8699,2,  34.8706,2,    292.4,2,    300.3,2,     6.51,2,    12.44,2,     0.00,2,      0.9,2,   -999.0,9, -999.000,9
           NA,    WHS6,     10,  99,       6,       6,  2,20020520,2221,  73.4310, -159.7385,  1950, 1001.100,  -0.0616,  34.8832,2,  34.8831,2,    291.4,2,    300.4,2,     7.00,2,    12.58,2,     0.00,2,      0.9,2,   2148.3,2, 2323.800,2
           NA,    WHS6,     10,  99,       5,       5,  2,20020520,2221,  73.4310, -159.7385,  1950, 1200.800,  -0.2010,  34.8974,2,  34.8979,2,    290.2,2,    300.2,2,     7.59,2,    12.77,2,     0.00,2,      0.9,2,   -999.0,9, -999.000,9
           NA,    WHS6,     10,  99,       4,       4,  2,20020520,2221,  73.4310, -159.7385,  1950, 1402.500,  -0.3118,  34.9119,2,  34.9107,2,    288.1,2,    298.7,2,     8.30,2,    13.10,2,     0.00,2,      0.9,2,   -999.0,9, -999.000,9
           NA,    WHS6,     10,  99,       3,       3,  2,20020520,2221,  73.4310, -159.7385,  1950, 1600.700,  -0.3720,  34.9246,2,  34.9252,2,    284.8,2,    296.1,2,     9.41,2,    13.52,2,     0.00,2,      1.0,2,   -999.0,9, -999.000,9
           NA,    WHS6,     10,  99,       2,       2,  2,20020520,2221,  73.4310, -159.7385,  1950, 1799.400,  -0.4014,  34.9350,2,  34.9351,2,    281.4,2,    293.1,2,    10.43,2,    13.85,2,     0.00,2,      1.0,2,   -999.0,9, -999.000,9
           NA,    WHS6,     10,  99,       1,       1,  2,20020520,2221,  73.4310, -159.7385,  1950, 1937.200,  -0.4043,  34.9419,2,  34.9414,2,    278.0,2,    289.6,2,    11.76,2,    14.03,2,     0.00,2,      1.0,2,   2156.4,2, 2268.600,2
           NA,    WHS7,     11,  99,      12,      12,  2,20020522,0349,  73.7447, -158.9522,  3057,    2.100,  -1.5098,  29.3068,2,  29.3113,2,    391.0,2,    400.2,2,     3.81,2,    -0.03,2,     0.03,2,      0.7,2,   -999.0,9, -999.000,9
           NA,    WHS7,     11,  99,      11,      11,  2,20020522,0349,  73.7447, -158.9522,  3057,   16.600,  -1.5392,  29.3074,2,  29.3120,2,    391.0,2,    400.4,2,     3.71,2,    -0.03,2,     0.03,2,      0.7,2,   1974.1,2, 2123.800,2
           NA,    WHS7,     11,  99,      10,      10,  2,20020522,0349,  73.7447, -158.9522,  3057,   31.800,  -1.5406,  29.3078,2,  29.3745,2,    390.9,2,    399.7,2,     3.82,2,    -0.03,2,     0.03,2,      0.7,2,   1975.6,2, 2126.200,2
           NA,    WHS7,     11,  99,       9,       9,  2,20020522,0349,  73.7447, -158.9522,  3057,   41.000,  -0.7889,  30.8066,2,  30.7669,2,    378.5,2,    386.1,2,     5.90,2,     0.79,2,     0.02,2,      0.9,2,   2048.3,2, 2198.000,2
           NA,    WHS7,     11,  99,       8,       8,  2,20020522,0349,  73.7447, -158.9522,  3057,   52.100,  -0.6053,  31.6679,2,  31.6706,2,    352.0,2,    359.0,2,    10.08,2,     3.09,2,     0.01,2,      1.1,2,   2081.2,2, 2229.600,2
           NA,    WHS7,     11,  99,       7,       7,  2,20020522,0349,  73.7447, -158.9522,  3057,   72.400,  -1.0781,  32.2019,2,  32.2178,2,    317.9,2,    324.1,2,    18.33,2,     7.68,2,     0.01,2,      1.4,2,   2129.6,2, 2256.900,2
           NA,    WHS7,     11,  99,       6,       6,  2,20020522,0349,  73.7447, -158.9522,  3057,   91.100,  -1.2963,  32.5363,2,  32.5384,2,    291.9,2,    297.6,2,    26.79,2,    11.35,2,     0.00,2,      1.6,2,   2167.4,2, 2256.600,2
           NA,    WHS7,     11,  99,       5,       5,  2,20020522,0349,  73.7447, -158.9522,  3057,  111.500,  -1.3911,  32.7671,2,  32.7710,2,    280.6,2,    286.8,2,    32.23,2,    13.09,2,     0.00,2,      1.8,2,   -999.0,9, -999.000,9
           NA,    WHS7,     11,  99,       4,       4,  2,20020522,0349,  73.7447, -158.9522,  3057,  131.900,  -1.5446,  33.0032,2,  32.9834,2,    285.4,2,    292.5,2,    31.92,2,    13.52,2,     0.00,2,      1.7,2,   -999.0,9, -999.000,9
           NA,    WHS7,     11,  99,       3,       3,  2,20020522,0349,  73.7447, -158.9522,  3057,  152.100,  -1.5088,  33.2886,2,  33.2993,2,    282.0,2,    287.3,2,    31.81,2,    13.85,2,     0.00,2,      1.7,2,   2209.6,2, -999.000,9
           NA,    WHS7,     11,  99,       2,       2,  2,20020522,0349,  73.7447, -158.9522,  3057,  177.500,  -1.2827,  33.7813,2,  33.7320,2,    274.0,2,    279.8,2,    29.93,2,    14.04,2,     0.00,2,      1.6,2,   -999.0,9, -999.000,9
           NA,    WHS7,     11,  99,      12,      12,  2,20020522,0349,  73.7447, -158.9522,  3057,  199.900,  -0.9025,  34.1933,2,  34.3012,2,    264.2,2,    272.2,2,    17.26,2,    12.54,2,     0.00,2,      1.1,2,   2181.2,2, 2308.100,2
           NA,    WHS7,     11,  99,       1,       1,  2,20020522,0349,  73.7447, -158.9522,  3057,  201.800,  -0.8335,  34.2335,2,  34.2253,2,    266.0,2,    270.4,2,    20.84,2,    13.06,2,     0.00,2,      1.3,2,   -999.0,9, -999.000,9
           NA,    WHS7,     11,  99,      11,      11,  2,20020522,0349,  73.7447, -158.9522,  3057,  250.500,   0.0321,  34.5828,2,  34.5890,2,    274.2,2,    279.5,2,    10.27,2,    11.77,2,     0.00,2,      0.9,2,   2162.7,2, 2311.400,2
           NA,    WHS7,     11,  99,      10,      10,  2,20020522,0349,  73.7447, -158.9522,  3057,  299.500,   0.5628,  34.7452,2,  34.7426,2,    284.3,2,    288.2,2,     7.89,2,    11.90,2,     0.00,2,      0.9,2,   2149.1,2, 2313.200,2
           NA,    WHS7,     11,  99,       9,       9,  2,20020522,0349,  73.7447, -158.9522,  3057,  299.800,   0.5625,  34.7456,2,  34.7467,2,    283.7,2,    288.9,2,     7.68,2,    11.95,2,     0.00,2,      0.9,2,   2123.9,2, 2318.200,2
           NA,    WHS7,     11,  99,       8,       8,  2,20020522,0349,  73.7447, -158.9522,  3057,  500.300,   0.5460,  34.8422,2,  34.8433,2,    289.7,2,    296.1,2,     6.75,2,    12.05,2,     0.00,2,      0.9,2,   -999.0,9, -999.000,9
           NA,    WHS7,     11,  99,       7,       7,  2,20020522,0349,  73.7447, -158.9522,  3057,  600.500,   0.4157,  34.8550,2,  34.8541,2,    288.8,2,    296.3,2,     6.97,2,    12.19,2,     0.00,2,      0.9,2,   -999.0,9, -999.000,9
           NA,    WHS7,     11,  99,       6,       6,  2,20020522,0349,  73.7447, -158.9522,  3057,  801.800,   0.1581,  34.8707,2,  34.8716,2,    290.0,2,    299.0,2,     6.97,2,    12.14,2,     0.00,2,      0.9,2,   -999.0,9, -999.000,9
           NA,    WHS7,     11,  99,       5,       5,  2,20020522,0349,  73.7447, -158.9522,  3057, 1201.000,  -0.1782,  34.8982,2,  34.8970,2,    288.1,2,    299.6,2,     7.81,2,    12.52,2,     0.00,2,      0.9,2,   -999.0,9, -999.000,9
           NA,    WHS7,     11,  99,       4,       4,  2,20020522,0349,  73.7447, -158.9522,  3057, 1600.300,  -0.3671,  34.9237,2,  34.9239,2,    282.9,2,    297.1,2,     9.17,2,    13.19,2,     0.00,2,      0.9,2,   -999.0,9, -999.000,9
           NA,    WHS7,     11,  99,       3,       3,  2,20020522,0349,  73.7447, -158.9522,  3057, 1999.900,  -0.4077,  34.9425,2,  34.9426,2,    275.6,2,    290.7,2,    11.26,2,    13.93,2,     0.00,2,      1.0,2,   -999.0,9, -999.000,9
           NA,    WHS7,     11,  99,       2,       2,  2,20020522,0349,  73.7447, -158.9522,  3057, 2499.700,  -0.3776,  34.9519,2,  34.9518,2,    270.6,2,    286.5,2,    12.51,2,    14.26,2,     0.00,2,      1.0,2,   2125.9,2, 2328.600,2
           NA,    WHS7,     11,  99,       1,       1,  2,20020522,0349,  73.7447, -158.9522,  3057, 3092.000,  -0.3255,  34.9569,2,  34.9560,2,    268.5,2,    283.8,2,    13.35,2,    14.31,2,     0.00,2,      1.0,2,   -999.0,9, -999.000,9
           NA,   EHS11,     12,  99,      12,      12,  2,20020523,1106,  73.4390, -157.5390,  2850,    2.100,  -1.4777,  29.7877,2,  29.7922,2,    393.4,2,    402.1,2,     3.66,2,     0.20,2,     0.02,2,      0.7,2,   -999.0,9, -999.000,9
           NA,   EHS11,     12,  99,      11,      11,  2,20020523,1106,  73.4390, -157.5390,  2850,   20.500,  -1.5564,  29.8000,2,  29.8197,2,    392.9,2,    401.6,2,     3.76,2,     0.24,2,     0.02,2,      0.7,2,   2003.3,2, 2145.800,2
           NA,   EHS11,     12,  99,      10,      10,  2,20020523,1106,  73.4390, -157.5390,  2850,   30.400,  -1.5856,  30.0677,2,  30.1035,2,    388.1,2,    396.9,2,     4.69,2,     0.73,2,     0.04,2,      0.8,2,   -999.0,9, -999.000,9
           NA,   EHS11,     12,  99,       9,       9,  2,20020523,1106,  73.4390, -157.5390,  2850,   40.700,  -0.6371,  31.2980,2,  31.3589,2,    369.5,2,    374.8,2,     7.37,2,     2.17,2,     0.01,2,      1.0,2,   2070.8,2, 2268.300,2
           NA,   EHS11,     12,  99,       8,       8,  2,20020523,1106,  73.4390, -157.5390,  2850,   61.000,  -1.0719,  32.0536,2,  32.0980,2,    330.6,2,    333.4,2,    15.64,2,     7.28,2,     0.00,2,      1.3,2,   2138.5,2, 2258.300,2
           NA,   EHS11,     12,  99,       7,       7,  2,20020523,1106,  73.4390, -157.5390,  2850,   71.000,  -1.1249,  32.2474,2,  32.2631,2,    315.1,2,    321.0,2,    18.95,2,     8.73,2,     0.00,2,      1.4,2,   -999.0,9, -999.000,9
           NA,   EHS11,     12,  99,       6,       6,  2,20020523,1106,  73.4390, -157.5390,  2850,   91.100,  -1.3970,  32.4895,2,  32.5135,2,    298.8,2,    303.7,2,    24.95,2,    11.51,2,     0.00,2,      1.6,2,   2114.7,2, 2270.600,2
           NA,   EHS11,     12,  99,       5,       5,  2,20020523,1106,  73.4390, -157.5390,  2850,  111.000,  -1.4542,  32.6883,2,  32.7177,2,    289.3,2,    293.1,2,    29.61,2,    13.33,2,     0.00,2,      1.7,2,   -999.0,9, -999.000,9
           NA,   EHS11,     12,  99,       4,       4,  2,20020523,1106,  73.4390, -157.5390,  2850,  140.700,  -1.5483,  33.0291,2,  33.0391,2,    284.0,2,    289.8,2,    32.30,2,    14.39,2,     0.00,2,      1.8,2,   2168.2,2, 2293.500,2
           NA,   EHS11,     12,  99,       3,       3,  2,20020523,1106,  73.4390, -157.5390,  2850,  170.700,  -1.4912,  33.4303,2,  33.4932,2,    286.5,2,    290.3,2,    29.18,2,    13.69,2,     0.00,2,      1.6,2,   2213.4,2, 2353.700,2
           NA,   EHS11,     12,  99,      12,      12,  2,20020523,1106,  73.4390, -157.5390,  2850,  199.800,  -1.0657,  34.0250,2,  34.0507,2,    267.1,2,    272.1,2,    25.17,2,    14.23,2,     0.00,2,      1.4,2,   2207.1,2, 2307.300,2
           NA,   EHS11,     12,  99,       2,       2,  2,20020523,1106,  73.4390, -157.5390,  2850,  200.500,  -1.0197,  34.0650,2,  34.0591,2,    267.8,2,    272.7,2,    25.02,2,    14.23,2,     0.00,2,      1.4,2,   -999.0,9, -999.000,9
           NA,   EHS11,     12,  99,       1,       1,  2,20020523,1106,  73.4390, -157.5390,  2850,  230.700,  -0.4907,  34.4089,2,  34.4215,2,    268.5,2,    271.3,2,    15.70,2,    12.90,2,     0.00,2,      1.1,2,   -999.0,9, -999.000,9
           NA,   EHS11,     12,  99,      11,      11,  2,20020523,1106,  73.4390, -157.5390,  2850,  250.600,  -0.0679,  34.5495,2,  34.5515,2,    275.8,2,    279.7,2,    10.79,2,    12.22,2,     0.00,2,      0.9,2,   2167.2,2, 2353.300,2
           NA,   EHS11,     12,  99,      10,      10,  2,20020523,1106,  73.4390, -157.5390,  2850,  300.400,   0.6055,  34.7460,2,  34.7448,2,    285.6,2,    289.6,2,     7.59,2,    12.31,2,     0.00,2,      0.9,2,   2164.9,2, 2312.700,2
           NA,   EHS11,     12,  99,       9,       9,  2,20020523,1106,  73.4390, -157.5390,  2850,  400.300,   0.7289,  34.8251,2,  34.8251,2,    290.2,2,    295.5,2,     6.56,2,    12.39,2,     0.00,2,      0.9,2,   2147.5,2, 2316.400,2
           NA,   EHS11,     12,  99,       8,       8,  2,20020523,1106,  73.4390, -157.5390,  2850,  500.500,   0.5573,  34.8395,2,  34.8398,2,    290.0,2,    296.1,2,     6.76,2,    12.48,2,     0.00,2,      0.9,2,   2150.7,2, 2321.000,2
           NA,   EHS11,     12,  99,       7,       7,  2,20020523,1106,  73.4390, -157.5390,  2850,  600.000,   0.4323,  34.8538,2,  34.8536,2,    289.6,2,    296.9,2,     6.86,2,    12.62,2,     0.00,2,      0.9,2,   -999.0,9, -999.000,9
           NA,   EHS11,     12,  99,       6,       6,  2,20020523,1106,  73.4390, -157.5390,  2850,  801.800,   0.1590,  34.8680,2,  34.8689,2,    291.3,2,    300.3,2,     6.66,2,    12.52,2,     0.00,2,      0.9,2,   -999.0,9, -999.000,9
           NA,   EHS11,     12,  99,       5,       5,  2,20020523,1106,  73.4390, -157.5390,  2850, 1200.500,  -0.1869,  34.8958,2,  34.8962,2,    288.3,2,    300.1,2,     7.58,2,    12.89,2,     0.00,2,      0.9,2,   -999.0,9, -999.000,9
           NA,   EHS11,     12,  99,       4,       4,  2,20020523,1106,  73.4390, -157.5390,  2850, 1600.700,  -0.3788,  34.9259,2,  34.9259,2,    282.0,2,    296.3,2,     9.54,2,    13.75,2,     0.00,2,      1.0,2,   -999.0,9, -999.000,9
           NA,   EHS11,     12,  99,       3,       3,  2,20020523,1106,  73.4390, -157.5390,  2850, 2001.100,  -0.4044,  34.9408,2,  34.9401,2,    276.0,2,    291.3,2,    11.08,2,    14.21,2,     0.00,2,      1.0,2,   2145.2,2, 2323.900,2
           NA,   EHS11,     12,  99,       2,       2,  2,20020523,1106,  73.4390, -157.5390,  2850, 2501.100,  -0.3775,  34.9516,2,  34.9511,2,    270.9,2,    287.0,2,    12.53,2,    14.47,2,     0.00,2,      1.0,2,   -999.0,9, -999.000,9
           NA,   EHS11,     12,  99,       1,       1,  2,20020523,1106,  73.4390, -157.5390,  2850, 2880.600,  -0.3452,  34.9560,2,  34.9556,2,    269.3,2,    284.5,2,    13.25,2,    14.61,2,     0.00,2,      1.0,2,   -999.0,9, -999.000,9