BOTTLE,20223408JOAExport
EXPOCODE,SECT_ID,STNNBR,CASTNO,SAMPNO,BTLNBR,BTLNBR_FLAG_W,DATE,TIME,LATITUDE,LONGITUDE,DEPTH,CTDPRS,CTDTMP,CTDSAL,CTDSAL_FLAG_W,SALNTY,SALNTY_FLAG_W,CTDOXY,CTDOXY_FLAG_W,OXYGEN,OXYGEN_FLAG_W,SILCAT,SILCAT_FLAG_W,NITRAT,NITRAT_FLAG_W,NITRIT,NITRIT_FLAG_W,PHSPHT,PHSPHT_FLAG_W,TCARBN,TCARBN_FLAG_W,ALKALI,ALKALI_FLAG_W
,,,,,,,,,,,,DB,ITS-90,PSS-78,,PSS-78,,UMOL/KG,,UMOL/KG,,UMOL/KG,,UMOL/KG,,UMOL/KG,,UMOL/KG,,UMOL/KG,,UMOL/KG
           NA,     BC5,     32,  99,      11,      11,  2,20020606,0150,  72.0725, -154.4663,  1311,    1.500,  -1.6377,  31.1027,2,-999.0000,9,    368.0,2,    376.9,2,    10.63,2,     3.00,2,     0.09,2,      1.0,2,   -999.0,9, -999.000,9
           NA,     BC5,     32,  99,      12,      12,  2,20020606,0150,  72.0725, -154.4663,  1311,    2.000,  -1.6333,  31.1218,2,  31.1215,2,    365.9,2,    375.7,2,    10.89,2,     3.21,2,     0.09,2,      1.0,2,   2098.2,2, 2231.000,2
           NA,     BC5,     32,  99,      10,      10,  2,20020606,0150,  72.0725, -154.4663,  1311,    9.200,  -1.6697,  31.1101,2,-999.0000,9,    366.7,2,    375.4,2,    10.82,2,     3.04,2,     0.09,2,      1.0,2,   -999.0,9, -999.000,9
           NA,     BC5,     32,  99,       9,       9,  2,20020606,0150,  72.0725, -154.4663,  1311,   15.200,  -1.6657,  31.1143,2,-999.0000,9,    366.6,2,    374.9,2,    11.02,2,     3.13,2,     0.09,2,      1.0,2,   -999.0,9, -999.000,9
           NA,     BC5,     32,  99,      11,      11,  2,20020606,0150,  72.0725, -154.4663,  1311,   16.100,  -1.6664,  31.1299,2,  31.1333,2,    365.2,2,    374.7,2,    10.82,2,     3.21,2,     0.09,2,      1.0,2,   2094.0,2, 2241.000,2
           NA,     BC5,     32,  99,       8,       8,  2,20020606,0150,  72.0725, -154.4663,  1311,   23.100,  -1.6693,  31.1943,2,-999.0000,9,    364.0,2,    371.2,2,    11.90,2,     3.53,2,     0.09,2,      1.0,2,   -999.0,9, -999.000,9
           NA,     BC5,     32,  99,      10,      10,  2,20020606,0150,  72.0725, -154.4663,  1311,   25.400,  -1.6787,  31.4105,2,  31.4674,2,    356.0,2,    364.5,2,    13.81,2,     4.54,2,     0.09,2,      1.1,2,   2116.7,2, 2253.800,2
           NA,     BC5,     32,  99,       4,       4,  2,20020606,0150,  72.0725, -154.4663,  1311,   36.300,  -1.6867,  31.7711,2,-999.0000,9,    348.7,2,    356.8,2,    16.64,2,     5.55,2,     0.10,2,      1.2,2,   -999.0,9, -999.000,9
           NA,     BC5,     32,  99,       9,       9,  2,20020606,0150,  72.0725, -154.4663,  1311,   51.100,  -1.6831,  31.7930,2,  31.7962,2,    347.3,2,    356.0,2,    16.51,2,     5.76,2,     0.10,2,      1.2,2,   2135.7,2, 2272.900,2
           NA,     BC5,     32,  99,       3,       3,  2,20020606,0150,  72.0725, -154.4663,  1311,   55.300,  -1.6728,  31.8391,2,-999.0000,9,    346.6,2,    354.5,2,    18.83,2,     6.03,2,     0.11,2,      1.2,2,   -999.0,9, -999.000,9
           NA,     BC5,     32,  99,       8,       8,  2,20020606,0150,  72.0725, -154.4663,  1311,   76.400,  -1.6491,  32.1679,2,  32.1654,2,    333.3,2,    341.9,2,    22.89,2,     7.58,2,     0.12,2,      1.4,2,   2139.6,2, 2277.000,2
           NA,     BC5,     32,  99,       7,       7,  2,20020606,0150,  72.0725, -154.4663,  1311,   91.100,  -1.6696,  32.6003,2,  32.6315,2,    316.8,2,    324.5,2,    34.24,2,    10.08,2,     0.12,2,      1.6,2,   2184.1,2, 2282.300,2
           NA,     BC5,     32,  99,       6,       6,  2,20020606,0150,  72.0725, -154.4663,  1311,  106.500,  -1.7207,  32.9809,2,  32.9871,2,    312.7,2,    319.9,2,    38.06,2,    11.47,2,     0.11,2,      1.8,2,   2192.3,2, 2297.000,2
           NA,     BC5,     32,  99,       2,       2,  2,20020606,0150,  72.0725, -154.4663,  1311,  110.900,  -1.5487,  33.0640,2,-999.0000,9,    282.6,2,    293.5,2,    32.39,2,    13.69,2,     0.01,2,      1.8,2,   -999.0,9, -999.000,9
           NA,     BC5,     32,  99,       5,       5,  2,20020606,0150,  72.0725, -154.4663,  1311,  121.100,  -1.6774,  33.3364,2,  33.3353,2,    310.3,2,    318.2,2,    35.70,2,    12.05,2,     0.09,2,      1.7,2,   2208.9,2, 2301.200,2
           NA,     BC5,     32,  99,       4,       4,  2,20020606,0150,  72.0725, -154.4663,  1311,  136.600,  -1.6082,  33.5739,2,  33.5897,2,    298.1,2,    301.9,2,    31.96,2,    13.36,2,     0.05,2,      1.7,2,   2215.8,2, 2322.400,2
           NA,     BC5,     32,  99,       3,       3,  2,20020606,0150,  72.0725, -154.4663,  1311,  146.400,  -1.7796,  33.7562,2,  33.7556,2,    319.2,2,    328.9,2,    38.77,2,    12.22,2,     0.07,2,      1.8,2,   2230.9,2, 2345.800,2
           NA,     BC5,     32,  99,       2,       2,  2,20020606,0150,  72.0725, -154.4663,  1311,  156.600,  -1.7570,  33.8686,2,  33.8672,2,    318.9,2,    329.3,2,    38.21,2,    12.42,2,     0.07,2,      1.8,2,   2235.4,2, 2359.600,2
           NA,     BC5,     32,  99,       1,       1,  2,20020606,0150,  72.0725, -154.4663,  1311,  170.800,  -0.8656,  34.1953,2,  34.2015,2,    306.7,2,    313.6,2,    26.50,2,    12.30,2,     0.08,2,      1.5,2,   2198.0,2, 2332.200,2
           NA,     BC5,     32,  99,      12,      12,  2,20020606,0150,  72.0725, -154.4663,  1311,  185.600,  -0.5511,  34.3561,2,  34.3536,2,    302.1,2,    307.8,2,    23.31,2,    12.37,2,     0.09,2,      1.3,2,   -999.0,9, -999.000,9
           NA,     BC5,     32,  99,      11,      11,  2,20020606,0150,  72.0725, -154.4663,  1311,  201.000,  -0.4445,  34.4100,2,  34.4119,2,    300.4,2,    305.8,2,    21.68,2,    12.33,2,     0.08,2,      1.3,2,   2161.1,2, 2325.800,2
           NA,     BC5,     32,  99,      10,      10,  2,20020606,0150,  72.0725, -154.4663,  1311,  250.300,   0.0495,  34.6587,2,  34.6594,2,    289.4,2,    293.6,2,    14.61,2,    12.55,2,     0.06,2,      1.1,2,   2171.6,2, -999.000,5
           NA,     BC5,     32,  99,       9,       9,  2,20020606,0150,  72.0725, -154.4663,  1311,  299.800,   0.3625,  34.7497,2,  34.7502,2,    285.2,2,    289.2,2,    10.58,2,    12.73,2,     0.02,2,      1.0,2,   2153.4,2, 2324.100,2
           NA,     BC5,     32,  99,       8,       8,  2,20020606,0150,  72.0725, -154.4663,  1311,  368.100,   0.5561,  34.7928,2,  34.7916,2,    286.7,2,    290.6,2,     8.73,2,    12.57,2,     0.01,2,      0.9,2,   -999.0,9, -999.000,9
           NA,     BC5,     32,  99,       7,       7,  2,20020606,0150,  72.0725, -154.4663,  1311,  398.000,   0.4862,  34.7951,2,  34.7961,2,    286.7,2,    290.7,2,     9.10,2,    12.62,2,     0.01,2,      0.9,2,   2148.7,2, 2321.300,2
           NA,     BC5,     32,  99,       6,       6,  2,20020606,0150,  72.0725, -154.4663,  1311,  501.500,   0.5179,  34.8298,2,  34.8302,2,    288.5,2,    293.5,2,     8.06,2,    12.61,2,     0.01,2,      0.9,2,   2147.2,2, 2319.600,2
           NA,     BC5,     32,  99,       5,       5,  2,20020606,0150,  72.0725, -154.4663,  1311,  601.800,   0.4818,  34.8452,2,  34.8454,2,    289.9,2,    295.2,2,     7.53,2,    12.49,2,     0.01,2,      0.9,2,   2145.8,2, 2322.400,2
           NA,     BC5,     32,  99,       4,       4,  2,20020606,0150,  72.0725, -154.4663,  1311,  701.100,   0.3558,  34.8539,2,  34.8545,2,    290.4,2,    296.7,2,     7.42,2,    12.56,2,     0.02,2,      0.9,2,   2147.5,2, 2320.100,2
           NA,     BC5,     32,  99,       3,       3,  2,20020606,0150,  72.0725, -154.4663,  1311,  801.100,   0.1490,  34.8687,2,  34.8698,2,    291.9,2,    299.0,2,     7.16,2,    12.63,2,     0.01,2,      0.9,2,   2145.8,2, -999.000,5
           NA,     BC5,     32,  99,       2,       2,  2,20020606,0150,  72.0725, -154.4663,  1311, 1001.400,   0.0019,  34.8791,2,  34.8805,2,    291.2,2,    299.3,2,     7.44,2,    12.71,2,     0.00,2,      0.9,2,   2147.1,2, 2322.400,2
           NA,     BC5,     32,  99,       1,       1,  2,20020606,0150,  72.0725, -154.4663,  1311, 1317.600,  -0.2969,  34.9099,2,  34.9104,2,    287.8,2,    297.1,2,     9.42,2,    13.22,2,     0.01,2,      1.0,2,   2147.6,2, 2329.000,2
           NA,     BC6,     33,  99,      12,      12,  2,20020607,0759,  72.1873, -154.3962,  1805,    1.800,  -1.6689,  31.0323,2,  31.0336,2,    371.9,2,    381.1,2,     9.53,2,     2.67,2,     0.08,2,      1.0,2,   -999.0,9, -999.000,9
           NA,     BC6,     33,  99,      11,      11,  2,20020607,0759,  72.1873, -154.3962,  1805,    2.200,  -1.6474,  31.0265,2,-999.0000,9,    371.8,2,    381.3,2,     9.62,2,     2.65,2,     0.07,2,      1.0,2,   -999.0,9, -999.000,9
           NA,     BC6,     33,  99,      10,      10,  2,20020607,0759,  72.1873, -154.3962,  1805,    7.500,  -1.6513,  31.0276,2,-999.0000,9,    372.0,2,    380.1,2,     9.72,2,     2.65,2,     0.08,2,      1.0,2,   -999.0,9, -999.000,9
           NA,     BC6,     33,  99,      11,      11,  2,20020607,0759,  72.1873, -154.3962,  1805,   11.300,  -1.6697,  31.0369,2,  31.0927,2,    371.1,2,    378.9,2,    10.02,2,     2.87,2,     0.08,2,      1.0,2,   2094.6,2, 2237.700,2
           NA,     BC6,     33,  99,       9,       9,  2,20020607,0759,  72.1873, -154.3962,  1805,   12.300,  -1.6682,  31.0274,2,-999.0000,9,    371.7,2,    380.6,2,     9.81,2,     2.70,2,     0.07,2,      1.0,2,   -999.0,9, -999.000,9
           NA,     BC6,     33,  99,       8,       8,  2,20020607,0759,  72.1873, -154.3962,  1805,   18.600,  -1.6579,  31.3072,2,-999.0000,9,    363.3,2,    375.3,2,    10.91,2,     3.25,2,     0.08,2,      1.0,2,   -999.0,9, -999.000,9
           NA,     BC6,     33,  99,       5,       5,  2,20020607,0759,  72.1873, -154.3962,  1805,   29.100,  -1.6481,  31.6925,2,-999.0000,9,    346.6,2,    352.2,2,    16.39,2,     5.54,2,     0.10,2,      1.2,2,   -999.0,9, -999.000,9
           NA,     BC6,     33,  99,      10,      10,  2,20020607,0759,  72.1873, -154.3962,  1805,   31.800,  -1.6700,  31.6822,2,  31.7034,2,    348.4,2,    357.4,2,    16.16,2,     5.32,2,     0.11,2,      1.2,2,   2113.0,2, 2251.500,2
           NA,     BC6,     33,  99,       9,       9,  2,20020607,0759,  72.1873, -154.3962,  1805,   41.900,  -1.6827,  31.7746,2,  31.7798,2,    349.3,2,    358.4,2,    15.87,2,     5.37,2,     0.11,2,      1.2,2,   2138.0,2, 2273.200,2
           NA,     BC6,     33,  99,       4,       4,  2,20020607,0759,  72.1873, -154.3962,  1805,   44.300,  -1.4623,  32.0126,2,-999.0000,9,    333.7,2,    339.8,2,    17.18,2,     6.93,2,     0.05,2,      1.3,2,   -999.0,9, -999.000,9
           NA,     BC6,     33,  99,       8,       8,  2,20020607,0759,  72.1873, -154.3962,  1805,   61.000,  -1.1808,  32.1215,2,  32.1292,2,    327.7,2,    334.2,2,    15.47,2,     7.34,2,     0.01,2,      1.3,2,   2122.1,2, 2255.000,2
           NA,     BC6,     33,  99,       3,       3,  2,20020607,0759,  72.1873, -154.3962,  1805,   66.100,  -1.5902,  32.5094,2,-999.0000,9,    308.0,2,    313.5,2,  -999.00,9,  -999.00,9,  -999.00,9,   -999.0,9,   -999.0,9, -999.000,9
           NA,     BC6,     33,  99,       7,       7,  2,20020607,0759,  72.1873, -154.3962,  1805,   81.100,  -1.5528,  32.6175,2,  32.6190,2,    300.1,2,    306.6,2,    25.38,2,    11.25,2,     0.00,2,      1.6,2,   2174.7,2, -999.000,5
           NA,     BC6,     33,  99,       6,       6,  2,20020607,0759,  72.1873, -154.3962,  1805,  101.200,  -1.5673,  32.8908,2,  32.8797,2,    289.7,2,    295.6,2,    29.45,2,    13.27,2,     0.00,2,      1.7,2,   -999.0,9, -999.000,9
           NA,     BC6,     33,  99,       5,       5,  2,20020607,0759,  72.1873, -154.3962,  1805,  121.600,  -1.5588,  33.1693,2,  33.1689,2,    286.2,2,    289.4,2,    31.54,2,    14.19,2,     0.00,2,      1.8,2,   2207.7,2, 2294.400,2
           NA,     BC6,     33,  99,       4,       4,  2,20020607,0759,  72.1873, -154.3962,  1805,  141.500,  -1.6082,  33.5022,2,  33.4990,2,    299.0,2,    308.1,2,    33.32,2,    12.78,2,     0.05,2,      1.7,2,   -999.0,9, -999.000,9
           NA,     BC6,     33,  99,       3,       3,  2,20020607,0759,  72.1873, -154.3962,  1805,  161.200,  -1.8291,  33.7716,2,  33.7714,2,    323.4,2,    332.0,2,    40.17,2,    12.24,2,     0.08,2,      1.8,2,   2230.7,2, -999.000,5
           NA,     BC6,     33,  99,       2,       2,  2,20020607,0759,  72.1873, -154.3962,  1805,  180.900,  -1.7706,  33.8532,2,  33.8567,2,    321.9,2,    330.4,2,    39.47,2,    12.39,2,     0.08,2,      1.8,2,   -999.0,9, -999.000,9
           NA,     BC6,     33,  99,       1,       1,  2,20020607,0759,  72.1873, -154.3962,  1805,  201.100,  -1.5971,  34.0696,2,  34.0742,2,    332.5,2,    340.1,2,    35.40,2,    11.25,2,     0.10,2,      1.7,2,   -999.0,9, -999.000,9
           NA,     BC6,     33,  99,      12,      12,  2,20020607,0759,  72.1873, -154.3962,  1805,  202.200,  -1.5639,  34.0809,2,  34.0867,2,    328.8,2,    330.4,2,    33.80,2,    11.72,2,     0.09,2,      1.6,2,   2232.7,2, 2356.400,2
           NA,     BC6,     33,  99,      11,      11,  2,20020607,0759,  72.1873, -154.3962,  1805,  226.200,  -0.5376,  34.3545,2,  34.3585,2,    300.9,2,    306.7,2,    22.19,2,    12.23,2,     0.08,2,      1.3,2,   -999.0,9, -999.000,9
           NA,     BC6,     33,  99,      10,      10,  2,20020607,0759,  72.1873, -154.3962,  1805,  251.300,  -0.4100,  34.4729,2,  34.4739,2,    295.4,2,    300.9,2,    19.82,2,    12.34,2,     0.08,2,      1.3,2,   2169.2,2, 2326.200,2
           NA,     BC6,     33,  99,       9,       9,  2,20020607,0759,  72.1873, -154.3962,  1805,  301.200,   0.0325,  34.6649,2,  34.6642,2,    289.1,2,    293.9,2,    14.57,2,    12.50,2,     0.07,2,      1.1,2,   2175.1,2, 2322.900,2
           NA,     BC6,     33,  99,       8,       8,  2,20020607,0759,  72.1873, -154.3962,  1805,  401.300,   0.6130,  34.8043,2,  34.8043,2,    285.7,2,    290.2,2,     8.64,2,    12.51,2,     0.01,2,      0.9,2,   2135.6,2, 2319.900,2
           NA,     BC6,     33,  99,       7,       7,  2,20020607,0759,  72.1873, -154.3962,  1805,  426.400,   0.5614,  34.8118,2,  34.8120,2,    286.4,2,    290.8,2,     8.74,2,    12.55,2,     0.03,2,      0.9,2,   -999.0,9, -999.000,9
           NA,     BC6,     33,  99,       6,       6,  2,20020607,0759,  72.1873, -154.3962,  1805,  501.900,   0.5508,  34.8326,2,  34.8332,2,    288.7,2,    294.0,2,     7.65,2,    12.52,2,     0.01,2,      0.9,2,   2131.1,2, 2326.700,2
           NA,     BC6,     33,  99,       5,       5,  2,20020607,0759,  72.1873, -154.3962,  1805,  751.800,   0.1593,  34.8680,2,  34.8682,2,    291.8,2,    299.0,2,     6.87,2,    12.52,2,     0.00,2,      0.9,2,   2141.7,2, 2321.800,2
           NA,     BC6,     33,  99,       4,       4,  2,20020607,0759,  72.1873, -154.3962,  1805,  901.300,   0.0369,  34.8758,2,  34.8761,2,    291.3,2,    299.6,2,     7.07,2,    12.58,2,     0.00,2,      0.9,2,   2144.7,2, -999.000,5
           NA,     BC6,     33,  99,       3,       3,  2,20020607,0759,  72.1873, -154.3962,  1805, 1201.000,  -0.1731,  34.8945,2,  34.8944,2,    289.9,2,    299.7,2,     7.56,2,    12.83,2,     0.00,2,      0.9,2,   2144.4,2, 2326.800,2
           NA,     BC6,     33,  99,       2,       2,  2,20020607,0759,  72.1873, -154.3962,  1805, 1501.400,  -0.3240,  34.9147,2,  34.9140,2,    286.9,2,    297.9,2,     8.65,2,    13.34,2,     0.00,2,      0.9,2,   2143.2,2, 2324.900,2
           NA,     BC6,     33,  99,       1,       1,  2,20020607,0759,  72.1873, -154.3962,  1805, 1821.100,  -0.3993,  34.9357,2,  34.9345,2,    280.5,2,    291.6,2,    11.02,2,    14.00,2,     0.00,2,      1.0,2,   2139.9,2, 2330.100,2