BOTTLE,20223408JOAExport
# Exported from JOA (5.5.0 Final September 29th, 2020) on 2022/03/08 11:34:05
#BOTTLE,20220308UCSDSIOJHS,,,,,,,,,,,,,,,,,,,,,,,,,,,,,,,,
#many header rows and parameters removed by JHS so please see original file at CCHDO for complete data and headers,,,,,,,,,,,,,,,,,,,,,,,,,,,,,,,,,
#BOTTLE,20131123SIOCCHRJL,,,,,,,,,,,,,,,,,,,,,,,,,,,,,,,,
# Added instructions for citation use,,,,,,,,,,,,,,,,,,,,,,,,,,,,,,,,,
# BOTTLE,20100218CCHDOSIODM,,,,,,,,,,,,,,,,,,,,,,,,,,,,,,,,
#1.Original file 32H120020505_hy1.csv taken from the CARINA project group on the CCHDO website,,,,,,,,,,,,,,,,,,,,,,,,,,,,,,,,,
#  Received as 32H120020505.esc.csv from Bob Key Jan 30,2009,,,,,,,,,,,,,,,,,,,,,,,,,,,,,,,,
#2.Original file has same position for all casts on each station and no times.,,,,,,,,,,,,,,,,,,,,,,,,,,,,,,,,,
#  Used ODF stacst file to enter individual cast postitions and times.,,,,,,,,,,,,,,,,,,,,,,,,,,,,,,,,,
#3.ODF data has Expocode 32H1HLY0201.,,,,,,,,,,,,,,,,,,,,,,,,,,,,,,,,,
#  CARINA data has Expocode 32H120020505.,,,,,,,,,,,,,,,,,,,,,,,,,,,,,,,,,
#  CCHDO website has Expocode 32H120020507 for the Place-Holder for this cruise as of this date.,,,,,,,,,,,,,,,,,,,,,,,,,,,,,,,,,
#  Principal Investigators' Cruise Report gives cruise dates as 5 May to 15 June,2002,,,,,,,,,,,,,,,,,,,,,,,,,,,,,,,,
#  USED the CARINA Expocode (32H120020505) for these data since it is in the proper format and is in the most widely distributed data set.,,,,,,,,,,,,,,,,,,,,,,,,,,,,,,,,,
#4.CARINA data has no Section ID. Used Section IDs given in the ODF data.,,,,,,,,,,,,,,,,,,,,,,,,,,,,,,,,,
#5.Aliases for this cruise include HLY-02-01, SBI I, HL0201, HEALY0201.,,,,,,,,,,,,,,,,,,,,,,,,,,,,,,
#  Details are in Data History Notes,,,,,,,,,,,,,,,,,,,,,,,,,,,,,,,,,
#8.Original file with samples ordered by pressure on each station could not be properly read by JOA because of the many casts on each station.,,,,,,,,,,,,,,,,,,,,,,,,,,,,,,,,,
#  The data file was resorted by Station, Cast, and Pressure and are now readable by JOA but still have minor problems when the multiple casts are merged for each station.,,,,,,,,,,,,,,,,,,,,,,,,,,,,,,,
#9.Some missing values have quality flag 2 and some apparently good values have quality flag 9 or 5.,,,,,,,,,,,,,,,,,,,,,,,,,,,,,,,,,
#"#  Missing value flag ""2""s changed to ""9""s and apparently good value flag ""9""s changed to ""2""s.",,,,,,,,,,,,,,,,,,,,,,,,,,,,,,,,,
#  Details are in Data History Notes.,,,,,,,,,,,,,,,,,,,,,,,,,,,,,,,,,
#START CARINA HEADER,,,,,,,,,,,,,,,,,,,,,,,,,,,,,,,,,
#BOTTLE,20090202PRINUNIVRMK,,,,,,,,,,,,,,,,,,,,,,,,,,,,,,,,
# DATE this file initialized 10/15/08 ,,,,,,,,,,,,,,,,,,,,,,,,,,,,,,,,,
#,,,,,,,,,,,,,,,,,,,,,,,,,,,,,,,,,
#| Cruise dates:5/5-6/15/2002 ,,,,,,,,,,,,,,,,,,,,,,,,,,,,,,,,,
#| Chief Scientist:J.M. Grebmeier & L.W. Cooper ,,,,,,,,,,,,,,,,,,,,,,,,,,,,,,,,,
#| USCGC Healy: HLY-02-03 (hly0203) ,,,,,,,,,,,,,,,,,,,,,,,,,,,,,,,,,
#| EXPOCODE: 32H120020505 ,,,,,,,,,,,,,,,,,,,,,,,,,,,,,,,,,
#| Region: Chukchi and Beaufort Sea ,,,,,,,,,,,,,,,,,,,,,,,,,,,,,,,,,
#| 36 stations;  with 12 place 30L Rosette + 24 place ,,,,,,,,,,,,,,,,,,,,,,,,,,,,,,,,,
#| Hydro: Who - J.Swift,L. Codispoti; Status - final ,,,,,,,,,,,,,,,,,,,,,,,,,,,,,,,,
#"#| 	Notes: conductivity calibrations were performed at  ",,,,,,,,,,,,,,,,,,,,,,,,,,,,,,,,,
#"#| 		Sea-Bird Electronics", Inc ,,,,,,,,,,,,,,,,,,,,,,,,,,,,,,,,
#"#| 	Pressure and temperature sensors were performed by SIO and ",,,,,,,,,,,,,,,,,,,,,,,,,,,,,,,,,
#"#| 		temperature calibration referenced to ITS-90 ",,,,,,,,,,,,,,,,,,,,,,,,,,,,,,,,,
#"#| 	See Grebmeier et al.", 2005; Codispoti et al.,2005,,,,,,,,,,,,,,,,,,,,,,,,,,,,,,,
#| Nuts/O2: Who - L. Codispoti; Status - final  ,,,,,,,,,,,,,,,,,,,,,,,,,,,,,,,,,
#"#| 	Notes: nitrite", ammonium, urea, chloroA, phaeophytin included ,,,,,,,,,,,,,,,,,,,,,,,,,,,,,
#|      CTDOXY data  have not been calibrated ,,,,,,,,,,,,,,,,,,,,,,,,,,,,,,,,,
#| TCO2: Who - N. Bates; Status - final ,,,,,,,,,,,,,,,,,,,,,,,,,,,,,,,,,
#"#| 	Notes: Samples poisoned with HgCl2 for measurement at BBSR ",,,,,,,,,,,,,,,,,,,,,,,,,,,,,,,,,
#"#| 	Somma system used with CRM ",,,,,,,,,,,,,,,,,,,,,,,,,,,,,,,,,
#"#| 	Estimated precision and accuracy of ~0.025%; ~0.5umol/kg ",,,,,,,,,,,,,,,,,,,,,,,,,,,,,,,,,
#| Alk: Who - N. Bates; Status - final ,,,,,,,,,,,,,,,,,,,,,,,,,,,,,,,,,
#END CARINA HEADER,,,,,,,,,,,,,,,,,,,,,,,,,,,,,,,,,
#BOTTLE,20100211CCHDOSIODM,,,,,,,,,,,,,,,,,,,,,,,,,,,,,,,,
#code : merge_exchange.rb ,,,,,,,,,,,,,,,,,,,,,,,,,,,,,,,,,
#original files copied from HTML directory: 2010-02-11,,,,,,,,,,,,,,,,,,,,,,,,,,,,,,,,,
#original HYD file: /Users/dave/CCHD10/HEALY02/FINAL/HEALY_SBI_1/QFMODIFICATION/32H120020505_merged_merged_merged_hy1.csv  2010-02-11,,,,,,,,,,,,,,,,,,,,,,,,,,,,,,,,,
EXPOCODE,SECT_ID,STNNBR,CASTNO,SAMPNO,BTLNBR,BTLNBR_FLAG_W,DATE,TIME,LATITUDE,LONGITUDE,DEPTH,CTDPRS,CTDTMP,CTDSAL,CTDSAL_FLAG_W,SALNTY,SALNTY_FLAG_W,CTDOXY,CTDOXY_FLAG_W,OXYGEN,OXYGEN_FLAG_W,SILCAT,SILCAT_FLAG_W,NITRAT,NITRAT_FLAG_W,NITRIT,NITRIT_FLAG_W,PHSPHT,PHSPHT_FLAG_W,TCARBN,TCARBN_FLAG_W,ALKALI,ALKALI_FLAG_W
,,,,,,,,,,,,DB,ITS-90,PSS-78,,PSS-78,,UMOL/KG,,UMOL/KG,,UMOL/KG,,UMOL/KG,,UMOL/KG,,UMOL/KG,,UMOL/KG,,UMOL/KG
           NA,     BRS,      0,   1,       1,       1,  2,20020508,1917,  64.9835, -169.1277,    47,    4.000,  -1.5149,  32.8546,2,  32.8582,2,    345.3,2,    349.8,2,    42.43,2,    17.72,2,     0.13,2,      1.8,2,   2128.2,2, -999.000,5
           NA,     BRS,      0,   1,      11,      11,  2,20020508,1917,  64.9835, -169.1277,    47,    7.900,  -1.5204,  32.8551,2,  32.8624,2,    345.4,2,    349.6,2,    42.64,2,    17.75,2,     0.13,2,      1.8,2,   2129.0,2, 2266.300,2
           NA,     BRS,      0,   1,      12,      12,  2,20020508,1917,  64.9835, -169.1277,    47,    7.900,  -1.5236,  32.8548,2,  32.8580,2,    345.2,2,    350.0,2,    42.64,2,    17.73,2,     0.13,2,      1.8,2,   2129.3,2, 2253.400,2
           NA,     BRS,      0,   1,      10,      10,  2,20020508,1917,  64.9835, -169.1277,    47,   12.900,  -1.5351,  32.8550,2,  32.8573,2,    345.0,2,    350.0,2,    42.65,2,    17.81,2,     0.13,2,      1.8,2,   2126.3,2, 2294.500,2
           NA,     BRS,      0,   1,       9,       9,  2,20020508,1917,  64.9835, -169.1277,    47,   12.900,  -1.5365,  32.8552,2,  32.8577,2,    345.0,2,    353.9,0,    42.75,2,    17.72,2,     0.13,2,      1.8,2,   2119.9,2, 2249.600,2
           NA,     BRS,      0,   1,       8,       8,  2,20020508,1917,  64.9835, -169.1277,    47,   18.000,  -1.5433,  32.8557,2,  32.8571,2,    344.7,2,    349.3,2,    42.45,2,    17.73,2,     0.13,2,      1.8,2,   2108.1,2, 2246.400,2
           NA,     BRS,      0,   1,       7,       7,  2,20020508,1917,  64.9835, -169.1277,    47,   22.900,  -1.5490,  32.8720,2,  32.8642,2,    343.7,2,    348.5,2,    42.46,2,    17.85,2,     0.13,2,      1.8,2,   2182.8,2, 2253.800,2
           NA,     BRS,      0,   1,       6,       6,  2,20020508,1917,  64.9835, -169.1277,    47,   28.100,  -1.6617,  32.9209,2,  32.9244,2,    335.4,2,    340.1,2,    43.17,2,    18.43,2,     0.14,2,      1.9,2,   2128.0,2, 2255.500,2
           NA,     BRS,      0,   1,       5,       5,  2,20020508,1917,  64.9835, -169.1277,    47,   32.800,  -1.6816,  32.9341,2,  32.9414,2,    335.0,2,    342.8,0,    43.68,2,    18.54,2,     0.14,2,      1.9,2,   2129.2,2, 2254.700,2
           NA,     BRS,      0,   1,       3,       3,  2,20020508,1917,  64.9835, -169.1277,    47,   42.600,  -1.6872,  33.0679,2,  33.0671,2,    336.7,2,    341.9,2,    44.85,2,    18.31,2,     0.14,2,      1.9,2,   -999.0,9, -999.000,9
           NA,     BRS,      0,   1,       2,       2,  2,20020508,1917,  64.9835, -169.1277,    47,   42.700,  -1.6874,  33.0687,2,  33.0684,2,    336.7,2,    340.9,2,    44.86,2,    18.33,2,     0.14,2,      1.9,2,   2148.0,2, 2273.500,2
           NA,     BRS,      0,   1,       4,       4,  2,20020508,1917,  64.9835, -169.1277,    47,   42.700,  -1.6872,  33.0677,2,  33.0704,2,    336.8,2,    341.1,2,    44.85,2,    18.30,2,     0.14,2,      1.9,2,   2142.5,2, 2267.000,2
           NA,     HV1,      1,   1,      12,      12,  2,20020510,0601,  67.4578, -168.8850,    49,    2.400,  -1.5388,  33.0784,2,  33.0851,2,    338.0,2,    342.8,2,    43.17,2,    16.79,2,     0.11,2,      1.9,2,   2153.6,2, 2273.000,2
           NA,     HV1,      1,   1,      11,      11,  2,20020510,0601,  67.4578, -168.8850,    49,    6.600,  -1.4852,  33.0797,2,  33.0869,2,    338.4,2,    342.6,2,    43.27,2,    16.77,2,     0.12,2,      1.9,2,   2154.3,2, 2272.300,2
           NA,     HV1,      1,   1,      10,      10,  2,20020510,0601,  67.4578, -168.8850,    49,    6.600,  -1.4750,  33.0797,2,  33.0871,2,    338.5,2,    342.7,2,    43.17,2,    16.82,2,     0.12,2,      1.9,2,   2151.7,2, 2266.500,2
           NA,     HV1,      1,   1,       9,       9,  2,20020510,0601,  67.4578, -168.8850,    49,   11.600,  -1.5024,  33.0893,2,  33.0896,2,    338.1,2,    342.5,2,    43.27,2,    16.86,2,     0.13,2,      1.9,2,   -999.0,9, -999.000,9
           NA,     HV1,      1,   1,       7,       7,  2,20020510,0601,  67.4578, -168.8850,    49,   16.500,  -1.7442,  33.0921,2,  33.0953,2,    336.1,2,    341.3,2,    43.48,2,    17.00,2,     0.12,2,      1.9,2,   2149.0,2, 2267.600,2
           NA,     HV1,      1,   1,       6,       6,  2,20020510,0601,  67.4578, -168.8850,    49,   16.500,  -1.7395,  33.0924,2,  33.0953,2,    336.1,2,    341.6,2,    43.48,2,    17.05,2,     0.13,2,      1.9,2,   2155.6,2, 2302.300,2
           NA,     HV1,      1,   1,       5,       5,  2,20020510,0601,  67.4578, -168.8850,    49,   26.500,  -1.7583,  33.0940,2,  33.0972,2,    335.9,2,    341.0,2,    43.38,2,    17.09,2,     0.12,2,      1.9,2,   2146.8,2, 2310.500,2
           NA,     HV1,      1,   1,       4,       4,  2,20020510,0601,  67.4578, -168.8850,    49,   31.700,  -1.7585,  33.0944,2,  33.0976,2,    336.1,2,    341.4,2,    43.49,2,    17.13,2,     0.12,2,      2.0,2,   2156.4,2, 2313.900,2
           NA,     HV1,      1,   1,       3,       3,  2,20020510,0601,  67.4578, -168.8850,    49,   41.800,  -1.7579,  33.0957,2,  33.0974,2,    336.0,2,    341.2,2,    43.59,2,    17.02,2,     0.12,2,      2.0,2,   2149.8,2, 2306.600,2
           NA,     HV1,      1,   1,       1,       1,  2,20020510,0601,  67.4578, -168.8850,    49,   45.900,  -1.7584,  33.0947,2,  33.0976,2,    335.8,2,    340.8,2,    43.49,2,    17.10,2,     0.13,2,      2.0,2,   2148.6,2, 2298.700,2
           NA,     HV1,      1,   1,       2,       2,  2,20020510,0601,  67.4578, -168.8850,    49,   45.900,  -1.7583,  33.0946,2,  33.0980,2,    335.8,2,    341.0,2,    43.59,2,    17.01,2,     0.12,2,      2.0,2,   2152.5,2, 2298.600,2
           NA,     HV2,      2,   1,      12,      12,  2,20020512,1846,  70.6327, -167.4583,    50,    3.500,  -1.7788,  33.0267,2,-999.0000,9,    317.3,2,    321.8,2,    39.41,2,     9.80,2,     0.08,2,      1.7,2,   2193.9,2, 2304.100,2
           NA,     HV2,      2,   1,      11,      11,  2,20020512,1846,  70.6327, -167.4583,    50,    6.400,  -1.7788,  33.0264,2,  33.0291,2,    317.4,2,    322.1,2,    39.40,2,     9.76,2,     0.08,2,      1.7,2,   2183.9,2, 2332.200,2
           NA,     HV2,      2,   1,      10,      10,  2,20020512,1846,  70.6327, -167.4583,    50,   11.600,  -1.7881,  33.0268,2,-999.0000,9,    317.3,2,    322.2,2,    39.30,2,     9.76,2,     0.08,2,      1.7,2,   2188.8,2, 2288.900,2
           NA,     HV2,      2,   1,       8,       8,  2,20020512,1846,  70.6327, -167.4583,    50,   16.600,  -1.7930,  33.0292,2,-999.0000,9,    317.1,2,    321.9,2,    39.29,2,     9.81,2,     0.08,2,      1.8,2,   2189.0,2, 2292.500,2
           NA,     HV2,      2,   1,       9,       9,  2,20020512,1846,  70.6327, -167.4583,    50,   16.600,  -1.7923,  33.0282,2,-999.0000,9,    317.1,2,    322.5,2,    39.29,2,     9.76,2,     0.08,2,      1.8,2,   2187.7,2, 2292.800,2
           NA,     HV2,      2,   1,       7,       7,  2,20020512,1846,  70.6327, -167.4583,    50,   21.600,  -1.7930,  33.0295,2,-999.0000,9,    317.0,2,    321.9,2,    39.29,2,     9.86,2,     0.08,2,      1.8,2,   2160.3,2, 2292.400,2
           NA,     HV2,      2,   1,       6,       6,  2,20020512,1846,  70.6327, -167.4583,    50,   21.600,  -1.7933,  33.0309,2,-999.0000,9,    317.1,2,    322.3,2,    39.09,2,     9.86,2,     0.08,2,      1.8,2,   2190.8,2, 2349.800,2
           NA,     HV2,      2,   1,       5,       5,  2,20020512,1846,  70.6327, -167.4583,    50,   31.700,  -1.7920,  33.0766,2,-999.0000,9,    317.6,2,    322.6,2,    39.28,2,    10.29,2,     0.09,2,      1.8,2,   2197.3,2, 2349.800,2
           NA,     HV2,      2,   1,       4,       4,  2,20020512,1846,  70.6327, -167.4583,    50,   43.100,  -1.7917,  33.0807,2,-999.0000,9,    317.8,2,    322.9,2,    39.27,2,    10.29,2,     0.09,2,      1.8,2,   2192.1,2, 2338.000,2
           NA,     HV2,      2,   1,       1,       1,  2,20020512,1846,  70.6327, -167.4583,    50,   46.900,  -1.7917,  33.0812,2,  33.0830,2,    317.8,2,    322.4,2,    39.36,2,    10.26,2,     0.09,2,      1.8,2,   2193.3,2, 2288.600,2
           NA,     HV2,      2,   1,       3,       3,  2,20020512,1846,  70.6327, -167.4583,    50,   46.900,  -1.7918,  33.0812,2,-999.0000,9,    317.7,2,    322.7,2,    39.27,2,    10.29,2,     0.10,2,      1.8,2,   2193.5,2, 2294.100,2
           NA,     HV2,      2,   1,       2,       2,  2,20020512,1846,  70.6327, -167.4583,    50,   47.000,  -1.7917,  33.0810,2,  33.0845,2,    317.8,2,    322.7,2,    39.26,2,    10.35,2,     0.09,2,      1.8,2,   2189.6,2, 2294.000,2
           NA,     HV3,      3,   3,      12,      12,  2,20020514,2125,  71.8898, -166.1327,    45,    2.300,  -1.8187,  33.5436,2,-999.0000,9,    309.1,2,    316.5,2,    45.30,2,    12.57,2,     0.04,2,      2.0,2,   -999.0,9, -999.000,9
           NA,     HV3,      3,   3,      11,      11,  2,20020514,2125,  71.8898, -166.1327,    45,    6.600,  -1.8260,  33.5432,2,-999.0000,9,    309.1,2,    315.8,2,    45.31,2,    12.47,2,     0.04,2,      2.0,2,   -999.0,9, -999.000,9
           NA,     HV3,      3,   3,      10,      10,  2,20020514,2125,  71.8898, -166.1327,    45,   11.500,  -1.8375,  33.5446,2,-999.0000,9,    308.9,2,    315.7,2,    45.32,2,    12.47,2,     0.04,2,      2.0,2,   -999.0,9, -999.000,9
           NA,     HV3,      3,   3,       8,       8,  2,20020514,2125,  71.8898, -166.1327,    45,   17.000,  -1.8353,  33.5433,2,-999.0000,9,    308.9,2,    315.9,2,  -999.00,9,  -999.00,9,  -999.00,9,   -999.0,9,   -999.0,9, -999.000,9
           NA,     HV3,      3,   3,       9,       9,  2,20020514,2125,  71.8898, -166.1327,    45,   17.000,  -1.8366,  33.5446,2,-999.0000,9,    309.0,2,    316.2,2,    45.33,2,    12.53,2,     0.04,2,      2.0,2,   -999.0,9, -999.000,9
           NA,     HV3,      3,   3,       5,       5,  2,20020514,2125,  71.8898, -166.1327,    45,   21.400,  -1.8388,  33.5554,2,-999.0000,9,    309.1,2,    316.7,2,    45.24,2,    12.57,2,     0.05,2,      2.0,2,   -999.0,9, -999.000,9
           NA,     HV3,      3,   3,       4,       4,  2,20020514,2125,  71.8898, -166.1327,    45,   31.700,  -1.8346,  33.6210,2,-999.0000,9,    309.5,2,    316.8,2,    45.15,2,    13.00,2,     0.06,2,      2.0,2,   -999.0,9, -999.000,9
           NA,     HV3,      3,   3,       1,       1,  2,20020514,2125,  71.8898, -166.1327,    45,   36.800,  -1.8332,  33.6353,2,-999.0000,9,    309.4,2,    316.0,2,  -999.00,9,  -999.00,9,  -999.00,9,   -999.0,9,   -999.0,9, -999.000,9
           NA,       x,      4,   1,      12,      12,  2,20020515,1919,  71.6170, -165.9998,    43,    2.000,  -1.8158,  33.5564,2,-999.0000,9,    313.1,2,    318.6,2,    46.06,2,    14.40,2,     0.10,2,      1.9,2,   -999.0,9, -999.000,9
           NA,       x,      4,   1,      10,      10,  2,20020515,1919,  71.6170, -165.9998,    43,    3.900,  -1.8191,  33.5572,2,-999.0000,9,    313.0,2,    318.5,2,    45.98,2,    14.29,2,     0.10,2,      1.9,2,   -999.0,9, -999.000,9
           NA,       x,      4,   1,       7,       7,  2,20020515,1919,  71.6170, -165.9998,    43,   12.900,  -1.8184,  33.5572,2,-999.0000,9,    312.8,2,    318.9,2,    46.01,2,    14.43,2,     0.11,2,      1.9,2,   -999.0,9, -999.000,9
           NA,       x,      4,   1,       5,       5,  2,20020515,1919,  71.6170, -165.9998,    43,   31.000,  -1.8208,  33.5576,2,-999.0000,9,    313.0,2,    318.8,2,    46.12,2,    14.43,2,     0.11,2,      1.9,2,   -999.0,9, -999.000,9
           NA,       x,      4,   1,       1,       1,  2,20020515,1919,  71.6170, -165.9998,    43,   36.500,  -1.8222,  33.5574,2,-999.0000,9,    313.3,2,    318.9,2,    46.37,2,    14.41,2,     0.12,2,      1.9,2,   -999.0,9, -999.000,9
           NA,    WHS1,      5,   1,      12,      12,  2,20020517,0454,  72.7073, -161.2380,    50,    2.800,  -1.7570,  32.2876,2,  32.2563,2,    310.1,2,    314.1,2,    29.84,2,     7.53,2,     0.09,2,      1.5,2,   2137.0,2, 2237.200,2
           NA,    WHS1,      5,   1,      11,      11,  2,20020517,0454,  72.7073, -161.2380,    50,   11.900,  -1.7620,  32.3356,2,  32.3599,2,    305.4,2,    309.8,2,    32.47,2,     8.43,2,     0.09,2,      1.6,2,   2146.4,2, 2260.000,2
           NA,    WHS1,      5,   1,      10,      10,  2,20020517,0454,  72.7073, -161.2380,    50,   11.900,  -1.7628,  32.3492,2,  32.3556,2,    305.3,2,    309.9,2,    32.47,2,     8.38,2,     0.09,2,      1.6,2,   2138.8,2, 2256.900,2
           NA,    WHS1,      5,   1,       8,       8,  2,20020517,0454,  72.7073, -161.2380,    50,   16.800,  -1.7715,  32.5679,2,  32.5639,2,    296.4,2,    300.8,2,    40.26,2,    10.66,2,     0.11,2,      1.8,2,   2164.9,2, 2266.300,2
           NA,    WHS1,      5,   1,       9,       9,  2,20020517,0454,  72.7073, -161.2380,    50,   16.800,  -1.7710,  32.5545,2,  32.5314,2,    296.7,2,    302.0,2,    38.99,2,    10.31,2,     0.10,2,      1.8,2,   2166.4,2, 2272.600,2
           NA,    WHS1,      5,   1,       7,       7,  2,20020517,0454,  72.7073, -161.2380,    50,   22.000,  -1.7785,  32.7083,2,  32.7074,2,    289.6,2,    293.9,2,    45.23,2,    12.22,2,     0.11,2,      1.9,2,   2186.9,2, 2270.700,2
           NA,    WHS1,      5,   1,       6,       6,  2,20020517,0454,  72.7073, -161.2380,    50,   27.100,  -1.7790,  32.7136,2,  32.7166,2,    289.8,2,    294.3,2,    45.33,2,    12.27,2,     0.11,2,      1.9,2,   2175.5,2, 2271.000,2
           NA,    WHS1,      5,   1,       5,       5,  2,20020517,0454,  72.7073, -161.2380,    50,   32.200,  -1.7791,  32.7329,2,  32.7329,2,    291.0,2,    295.3,2,    44.46,2,    12.03,2,     0.11,2,      1.9,2,   2187.8,2, 2270.700,2
           NA,    WHS1,      5,   1,       4,       4,  2,20020517,0454,  72.7073, -161.2380,    50,   37.000,  -1.7785,  32.7580,2,  32.7641,2,    292.9,2,    297.6,2,    42.41,2,    11.33,2,     0.12,2,      1.9,2,   2185.7,2, 2278.400,2
           NA,    WHS1,      5,   1,       3,       3,  2,20020517,0454,  72.7073, -161.2380,    50,   42.400,  -1.7762,  32.7960,2,  32.7960,2,    295.4,2,    300.1,2,    40.26,2,    10.65,2,     0.11,2,      1.9,2,   2179.5,2, 2276.300,2
           NA,    WHS1,      5,   1,       2,       2,  2,20020517,0454,  72.7073, -161.2380,    50,   46.300,  -1.7755,  32.7981,2,  32.7970,2,    295.2,2,    299.3,2,    40.27,2,    10.61,2,     0.12,2,      1.9,2,   2186.7,2, 2279.700,2
           NA,    WHS1,      5,   1,       1,       1,  2,20020517,0454,  72.7073, -161.2380,    50,   46.300,  -1.7755,  32.7966,2,  32.7972,2,    295.4,2,    299.5,2,    40.27,2,    10.61,2,     0.12,2,      1.9,2,   2178.3,2, 2277.700,2