BOTTLE,20223408JOAExport
EXPOCODE,SECT_ID,STNNBR,CASTNO,SAMPNO,BTLNBR,BTLNBR_FLAG_W,DATE,TIME,LATITUDE,LONGITUDE,DEPTH,CTDPRS,CTDTMP,CTDSAL,CTDSAL_FLAG_W,SALNTY,SALNTY_FLAG_W,CTDOXY,CTDOXY_FLAG_W,OXYGEN,OXYGEN_FLAG_W,SILCAT,SILCAT_FLAG_W,NITRAT,NITRAT_FLAG_W,NITRIT,NITRIT_FLAG_W,PHSPHT,PHSPHT_FLAG_W,TCARBN,TCARBN_FLAG_W,ALKALI,ALKALI_FLAG_W
,,,,,,,,,,,,DB,ITS-90,PSS-78,,PSS-78,,UMOL/KG,,UMOL/KG,,UMOL/KG,,UMOL/KG,,UMOL/KG,,UMOL/KG,,UMOL/KG,,UMOL/KG
           NA,     SB2,     27,   1,       1,       1,  2,20020604,0746,  71.4948, -153.8985,    50,    2.100,  -1.6264,  31.8559,2,  31.8644,2,    355.2,2,    362.3,2,    16.69,2,     5.22,2,     0.04,2,      1.1,2,   2149.5,2, 2288.800,2
           NA,     SB2,     27,   1,      11,      11,  2,20020604,0746,  71.4948, -153.8985,    50,    5.800,  -1.6150,  31.8593,2,  31.8659,2,    354.4,2,    361.6,2,    16.82,2,     5.17,2,     0.05,2,      1.1,2,   2146.0,2, 2330.500,2
           NA,     SB2,     27,   1,      12,      12,  2,20020604,0746,  71.4948, -153.8985,    50,    5.800,  -1.6157,  31.8596,2,  31.8646,2,    354.4,2,    361.7,2,    16.82,2,     5.18,2,     0.05,2,      1.1,2,   2136.7,2, 2298.200,2
           NA,     SB2,     27,   1,       9,       9,  2,20020604,0746,  71.4948, -153.8985,    50,   10.900,  -1.6574,  31.8930,2,  31.9014,2,    351.0,2,    358.1,2,    17.31,2,     5.43,2,     0.05,2,      1.2,2,   2151.7,2, 2348.200,2
           NA,     SB2,     27,   1,      10,      10,  2,20020604,0746,  71.4948, -153.8985,    50,   10.900,  -1.6381,  31.8814,2,  31.9008,2,    352.3,2,    358.3,2,    17.41,2,     5.44,2,     0.05,2,      1.2,2,   2157.0,2, 2329.400,2
           NA,     SB2,     27,   1,       8,       8,  2,20020604,0746,  71.4948, -153.8985,    50,   15.600,  -1.6678,  31.9378,2,  31.9488,2,    348.8,2,    355.5,2,    18.11,2,     5.75,2,     0.05,2,      1.2,2,   2154.2,2, 2320.000,2
           NA,     SB2,     27,   1,       7,       7,  2,20020604,0746,  71.4948, -153.8985,    50,   21.200,  -1.6696,  31.9945,2,  32.0332,2,    347.2,2,    352.8,2,    19.20,2,     6.12,2,     0.06,2,      1.2,2,   2160.0,2, 2319.900,2
           NA,     SB2,     27,   1,       6,       6,  2,20020604,0746,  71.4948, -153.8985,    50,   26.300,  -1.6647,  32.1231,2,  32.3379,2,    341.7,2,    342.0,2,    24.29,2,     7.64,2,     0.08,2,      1.4,2,   2171.2,2, 2343.600,2
           NA,     SB2,     27,   1,       5,       5,  2,20020604,0746,  71.4948, -153.8985,    50,   35.900,  -1.6218,  33.0318,2,  32.9964,2,    317.2,2,    321.6,2,    36.08,2,    10.84,2,     0.11,2,      1.7,2,   2192.2,2, 2328.500,2
           NA,     SB2,     27,   1,       4,       4,  2,20020604,0746,  71.4948, -153.8985,    50,   41.200,  -1.6207,  33.2042,2,  33.1831,2,    318.7,2,    324.6,2,    38.18,2,    10.93,2,     0.12,2,      1.7,2,   2203.4,2, 2356.500,2
           NA,     SB2,     27,   1,       2,       2,  2,20020604,0746,  71.4948, -153.8985,    50,   45.200,  -1.6265,  33.1926,2,  33.1581,2,    316.6,2,    324.3,2,    37.88,2,    10.91,2,     0.11,2,      1.7,2,   2203.0,2, 2368.100,2
           NA,     SB2,     27,   1,       3,       3,  2,20020604,0746,  71.4948, -153.8985,    50,   45.200,  -1.6253,  33.1902,2,  33.1634,2,    318.6,2,    324.7,2,    37.99,2,    10.98,2,     0.12,2,      1.7,2,   2210.2,2, 2342.300,2
           NA,       x,     28,   1,       7,       7,  2,20020604,1626,  71.7055, -154.2188,    51,    1.700,  -1.6613,  31.8417,2,-999.0000,9,    351.9,2,    359.7,2,    16.98,2,     5.49,2,     0.06,2,      1.2,2,   -999.0,9, -999.000,9
           NA,       x,     28,   1,       6,       6,  2,20020604,1626,  71.7055, -154.2188,    51,    5.500,  -1.6561,  31.8461,2,-999.0000,9,    352.0,2,    359.1,2,    16.98,2,     5.49,2,     0.07,2,      1.2,2,   -999.0,9, -999.000,9
           NA,       x,     28,   1,       5,       5,  2,20020604,1626,  71.7055, -154.2188,    51,    8.800,  -1.6808,  31.8509,2,-999.0000,9,    352.0,2,    359.5,2,    17.08,2,     5.48,2,     0.06,2,      1.2,2,   -999.0,9, -999.000,9
           NA,       x,     28,   1,       4,       4,  2,20020604,1626,  71.7055, -154.2188,    51,   13.200,  -1.6873,  31.8554,2,-999.0000,9,    351.8,2,    358.2,2,    17.18,2,     5.57,2,     0.07,2,      1.2,2,   -999.0,9, -999.000,9
           NA,       x,     28,   1,       3,       3,  2,20020604,1626,  71.7055, -154.2188,    51,   20.400,  -1.6856,  31.9008,2,-999.0000,9,    349.8,2,    356.2,2,    17.79,2,     5.67,2,     0.07,2,      1.2,2,   -999.0,9, -999.000,9
           NA,       x,     28,   1,       2,       2,  2,20020604,1626,  71.7055, -154.2188,    51,   30.700,  -1.6664,  32.0786,2,-999.0000,9,    345.0,2,    351.5,2,    19.90,2,     6.36,2,     0.09,2,      1.2,2,   -999.0,9, -999.000,9
           NA,       x,     28,   1,       1,       1,  2,20020604,1626,  71.7055, -154.2188,    51,   46.300,  -1.5636,  32.8463,2,-999.0000,9,    320.8,2,    326.2,2,    35.00,2,     9.93,2,     0.13,2,      1.7,2,   -999.0,9, -999.000,9
           NA,     SB2,     29,   1,      12,      12,  2,20020604,2001,  71.7792, -154.4017,   121,    1.900,  -1.6871,  31.9027,2,  31.9068,2,    349.5,2,    357.7,2,    17.84,2,     5.54,2,     0.08,2,      1.2,2,   2151.7,2, -999.000,9
           NA,     SB2,     29,   1,      11,      11,  2,20020604,2001,  71.7792, -154.4017,   121,    5.700,  -1.6960,  31.9044,2,  31.9068,2,    349.7,2,    357.5,2,    17.84,2,     5.54,2,     0.08,2,      1.2,2,   2147.6,2, 2330.900,2
           NA,     SB2,     29,   1,      10,      10,  2,20020604,2001,  71.7792, -154.4017,   121,   11.600,  -1.6976,  31.9071,2,  31.9113,2,    349.8,2,    357.4,2,    17.75,2,     5.59,2,     0.08,2,      1.2,2,   2148.2,2, 2336.300,2
           NA,     SB2,     29,   1,       9,       9,  2,20020604,2001,  71.7792, -154.4017,   121,   20.400,  -1.6875,  31.9609,2,  31.9602,2,    347.4,2,    355.2,2,    18.65,2,     5.87,2,     0.08,2,      1.2,2,   2154.1,2, 2347.800,2
           NA,     SB2,     29,   1,       8,       8,  2,20020604,2001,  71.7792, -154.4017,   121,   31.000,  -1.6874,  31.9720,2,  31.9932,2,    346.7,2,    353.4,2,    19.55,2,     6.07,2,     0.08,2,      1.2,2,   2155.4,2, 2340.800,2
           NA,     SB2,     29,   1,       7,       7,  2,20020604,2001,  71.7792, -154.4017,   121,   40.800,  -1.6641,  32.3465,2,  32.3362,2,    323.3,2,    330.8,2,    28.97,2,     8.73,2,     0.11,2,      1.5,2,   2159.9,2, 2336.000,2
           NA,     SB2,     29,   1,       6,       6,  2,20020604,2001,  71.7792, -154.4017,   121,   51.400,  -1.6514,  32.7235,2,  32.7489,2,    306.5,2,    315.6,2,    35.64,2,    11.10,2,     0.10,2,      1.7,2,   2173.7,2, 2320.900,2
           NA,     SB2,     29,   1,       5,       5,  2,20020604,2001,  71.7792, -154.4017,   121,   60.900,  -1.7867,  32.9081,2,  32.9086,2,    332.6,2,    339.3,2,    34.95,2,     8.11,2,     0.10,2,      1.5,2,   2191.9,2, 2352.500,2
           NA,     SB2,     29,   1,       4,       4,  2,20020604,2001,  71.7792, -154.4017,   121,   71.200,  -1.7696,  32.9759,2,  32.9745,2,    329.5,2,    337.4,2,    36.15,2,     8.70,2,     0.11,2,      1.6,2,   2197.7,2, 2332.200,2
           NA,     SB2,     29,   1,       3,       3,  2,20020604,2001,  71.7792, -154.4017,   121,   86.200,  -1.6482,  33.1617,2,  33.1526,2,    324.4,2,    331.4,2,    36.06,2,     9.74,2,     0.10,2,      1.6,2,   2199.1,2, 2359.000,2
           NA,     SB2,     29,   1,       2,       2,  2,20020604,2001,  71.7792, -154.4017,   121,  101.500,  -1.5254,  33.4986,2,  33.4613,2,    318.8,2,    322.5,2,    34.16,2,    11.04,2,     0.09,2,      1.6,2,   2203.4,2, 2360.400,2
           NA,     SB2,     29,   1,       1,       1,  2,20020604,2001,  71.7792, -154.4017,   121,  119.000,  -1.4590,  33.5841,2,  33.5804,2,    312.1,2,    317.8,2,    33.78,2,    11.57,2,     0.09,2,      1.6,2,   2203.3,2, 2354.600,2
           NA,     SB3,     30,   1,      12,      12,  2,20020605,0026,  71.8328, -154.6252,   181,    2.000,  -1.6627,  31.7613,2,  31.7703,2,    352.1,2,    360.0,2,    16.79,2,     5.36,2,     0.08,2,      1.2,2,   2142.5,2, 2264.100,2
           NA,     SB3,     30,   1,      11,      11,  2,20020605,0026,  71.8328, -154.6252,   181,   11.800,  -1.6805,  31.7927,2,  31.8196,2,    351.0,2,    359.1,2,    17.29,2,     5.49,2,     0.08,2,      1.2,2,   2143.3,2, 2277.700,2
           NA,     SB3,     30,   1,      10,      10,  2,20020605,0026,  71.8328, -154.6252,   181,   21.900,  -1.6671,  31.9162,2,  31.9173,2,    347.3,2,    355.2,2,    18.19,2,     5.83,2,     0.09,2,      1.2,2,   2153.4,2, 2345.300,2
           NA,     SB3,     30,   1,       9,       9,  2,20020605,0026,  71.8328, -154.6252,   181,   40.500,  -1.5832,  32.1332,2,  32.1089,2,    331.3,2,    340.5,2,    22.29,2,     7.33,2,     0.09,2,      1.4,2,   2147.0,2, 2318.500,2
           NA,     SB3,     30,   1,       8,       8,  2,20020605,0026,  71.8328, -154.6252,   181,   60.900,  -1.6926,  32.7253,2,  32.6759,2,    315.4,2,    315.8,2,    32.19,2,    10.88,2,     0.09,2,      1.6,2,   2177.2,2, 2311.300,2
           NA,     SB3,     30,   1,       7,       7,  2,20020605,0026,  71.8328, -154.6252,   181,   86.600,  -1.7800,  32.9972,2,  32.9779,2,    331.0,2,    338.6,2,    36.00,2,     8.70,2,     0.12,2,      1.6,2,   2206.0,2, 2364.300,2
           NA,     SB3,     30,   1,       6,       6,  2,20020605,0026,  71.8328, -154.6252,   181,  111.100,  -1.7244,  33.4806,2,  33.4754,2,    320.5,2,    328.0,2,    38.80,2,    11.35,2,     0.09,2,      1.7,2,   2217.1,2, 2327.100,2
           NA,     SB3,     30,   1,       5,       5,  2,20020605,0026,  71.8328, -154.6252,   181,  131.600,  -1.6181,  33.6444,2,  33.6434,2,    321.6,2,    328.8,2,    37.59,2,    11.54,2,     0.10,2,      1.7,2,   2215.7,2, 2336.100,2
           NA,     SB3,     30,   1,       4,       4,  2,20020605,0026,  71.8328, -154.6252,   181,  151.100,  -1.5886,  33.6786,2,  33.6797,2,    320.8,2,    327.9,2,    37.30,2,    11.64,2,     0.10,2,      1.7,2,   2217.6,2, 2332.500,2
           NA,     SB3,     30,   1,       3,       3,  2,20020605,0026,  71.8328, -154.6252,   181,  171.100,  -1.4891,  33.7382,2,  33.7406,2,    319.0,2,    325.8,2,    35.79,2,    11.68,2,     0.10,2,      1.6,2,   2213.2,2, 2333.500,2
           NA,     SB3,     30,   1,       1,       1,  2,20020605,0026,  71.8328, -154.6252,   181,  178.400,  -1.3953,  33.7595,2,  33.7576,2,    318.4,2,    324.9,2,    34.59,2,    11.58,2,     0.10,2,      1.6,2,   2212.7,2, -999.000,5
           NA,     SB3,     30,   1,       2,       2,  2,20020605,0026,  71.8328, -154.6252,   181,  178.400,  -1.3945,  33.7585,2,  33.7572,2,    318.5,2,    325.0,2,    34.59,2,    11.53,2,     0.10,2,      1.6,2,   2212.1,2, 2331.300,2
           NA,     BC4,     31,  99,      11,      11,  2,20020605,0430,  71.9280, -154.8218,   399,    1.900,  -1.6112,  31.1110,2,-999.0000,9,    369.0,2,    377.8,2,    10.56,2,     2.96,2,     0.08,2,      1.0,2,   -999.0,9, -999.000,9
           NA,     BC4,     31,  99,      12,      12,  2,20020605,0430,  71.9280, -154.8218,   399,    2.200,  -1.5137,  31.1475,2,  31.1586,2,    367.1,2,    375.4,2,    10.45,2,     3.15,2,     0.08,2,      1.0,2,   2102.2,2, 2237.900,2
           NA,     BC4,     31,  99,      10,      10,  2,20020605,0430,  71.9280, -154.8218,   399,    7.500,  -1.6141,  31.1105,2,-999.0000,9,    368.6,2,    377.5,2,    10.65,2,     2.91,2,     0.08,2,      1.0,2,   -999.0,9, -999.000,9
           NA,     BC4,     31,  99,       9,       9,  2,20020605,0430,  71.9280, -154.8218,   399,   12.200,  -1.6459,  31.1108,2,-999.0000,9,    368.3,2,    377.6,2,    10.54,2,     2.91,2,     0.08,2,      1.0,2,   -999.0,9, -999.000,9
           NA,     BC4,     31,  99,       8,       8,  2,20020605,0430,  71.9280, -154.8218,   399,   18.800,  -1.6661,  31.1198,2,-999.0000,9,    368.0,2,    377.3,2,    10.53,2,     2.96,2,     0.08,2,      1.0,2,   -999.0,9, -999.000,9
           NA,     BC4,     31,  99,      11,      11,  2,20020605,0430,  71.9280, -154.8218,   399,   26.200,  -1.6623,  31.3283,2,  31.3591,2,    357.8,2,    366.1,2,    12.85,2,     4.08,2,     0.10,2,      1.1,2,   2107.5,2, 2244.600,2
           NA,     BC4,     31,  99,       7,       7,  2,20020605,0430,  71.9280, -154.8218,   399,   29.300,  -1.6731,  31.1765,2,-999.0000,9,    364.3,2,    373.2,2,    11.33,2,     3.26,2,     0.09,2,      1.0,2,   -999.0,9, -999.000,9
           NA,     BC4,     31,  99,       6,       6,  2,20020605,0430,  71.9280, -154.8218,   399,   44.300,  -1.6618,  31.7585,2,-999.0000,9,    349.3,2,    357.3,2,    16.76,2,     5.50,2,     0.11,2,      1.2,2,   -999.0,9, -999.000,9
           NA,     BC4,     31,  99,      10,      10,  2,20020605,0430,  71.9280, -154.8218,   399,   51.200,  -1.6855,  31.7662,2,  31.7808,2,    349.2,2,    357.7,2,    16.53,2,     5.61,2,     0.10,2,      1.2,2,   2091.1,2, 2269.500,2
           NA,     BC4,     31,  99,       9,       9,  2,20020605,0430,  71.9280, -154.8218,   399,  101.100,  -1.6372,  33.0260,2,  33.0496,2,    299.8,2,    306.4,2,    33.03,2,    12.51,2,     0.06,2,      1.7,2,   2197.2,2, 2298.700,2
           NA,     BC4,     31,  99,       8,       8,  2,20020605,0430,  71.9280, -154.8218,   399,  151.800,  -1.7188,  33.8164,2,  33.8498,2,    318.1,2,    327.6,2,    37.41,2,    12.19,2,     0.08,2,      1.7,2,   2233.1,2, 2347.000,2
           NA,     BC4,     31,  99,       7,       7,  2,20020605,0430,  71.9280, -154.8218,   399,  200.900,  -0.2602,  34.5078,2,  34.5117,2,    295.8,2,    300.8,2,    17.99,2,    12.38,2,     0.07,2,      1.2,2,   2177.0,2, 2379.900,2
           NA,     BC4,     31,  99,       6,       6,  2,20020605,0430,  71.9280, -154.8218,   399,  250.500,   0.2937,  34.7307,2,  34.7309,2,    285.3,2,    288.8,2,    12.10,2,    12.73,2,     0.06,2,      1.0,2,   2162.1,2, 2321.800,2
           NA,     BC4,     31,  99,       5,       5,  2,20020605,0430,  71.9280, -154.8218,   399,  301.300,   0.5481,  34.8093,2,  34.8098,2,    287.0,2,    290.8,2,     8.41,2,    12.61,2,     0.03,2,      0.9,2,   2149.5,2, 2317.100,2
           NA,     BC4,     31,  99,       4,       4,  2,20020605,0430,  71.9280, -154.8218,   399,  351.700,   0.5323,  34.8347,2,  34.8346,2,    288.9,2,    292.3,2,     7.91,2,    12.56,2,     0.02,2,      0.9,2,   2149.8,2, 2323.500,2
           NA,     BC4,     31,  99,       2,       2,  2,20020605,0430,  71.9280, -154.8218,   399,  397.000,   0.4700,  34.8432,2,  34.8422,2,    290.2,2,    293.4,2,     7.70,2,    12.55,2,     0.02,2,      0.9,2,   -999.0,9, -999.000,9
           NA,     BC4,     31,  99,       3,       3,  2,20020605,0430,  71.9280, -154.8218,   399,  397.000,   0.4675,  34.8436,2,  34.8422,2,    290.2,2,    293.4,2,     7.70,2,    12.56,2,     0.02,2,      0.9,2,   2148.5,2, 2322.300,2
           NA,     BC4,     31,  99,       1,       1,  2,20020605,0430,  71.9280, -154.8218,   399,  397.000,   0.4704,  34.8431,2,  34.8420,2,    290.2,2,    293.4,2,     7.80,2,    12.60,2,     0.02,2,      0.9,2,   -999.0,9, -999.000,9