BOTTLE,20223408JOAExport
EXPOCODE,SECT_ID,STNNBR,CASTNO,SAMPNO,BTLNBR,BTLNBR_FLAG_W,DATE,TIME,LATITUDE,LONGITUDE,DEPTH,CTDPRS,CTDTMP,CTDSAL,CTDSAL_FLAG_W,SALNTY,SALNTY_FLAG_W,CTDOXY,CTDOXY_FLAG_W,OXYGEN,OXYGEN_FLAG_W,SILCAT,SILCAT_FLAG_W,NITRAT,NITRAT_FLAG_W,NITRIT,NITRIT_FLAG_W,PHSPHT,PHSPHT_FLAG_W,TCARBN,TCARBN_FLAG_W,ALKALI,ALKALI_FLAG_W
,,,,,,,,,,,,DB,ITS-90,PSS-78,,PSS-78,,UMOL/KG,,UMOL/KG,,UMOL/KG,,UMOL/KG,,UMOL/KG,,UMOL/KG,,UMOL/KG,,UMOL/KG
           NA,    WHS2,      6,   2,      12,      12,  2,20020517,1851,  72.9212, -160.5105,    73,    2.000,  -1.6852,  31.1442,2,  31.1464,2,    354.2,2,    361.7,2,    13.90,2,     3.41,2,     0.05,2,      1.1,2,   2081.4,2, 2202.500,2
           NA,    WHS2,      6,   2,      11,      11,  2,20020517,1851,  72.9212, -160.5105,    73,    6.400,  -1.6913,  31.1573,2,  31.1692,2,    353.8,2,    360.1,2,    14.19,2,     3.46,2,     0.05,2,      1.1,2,   2077.3,2, 2213.700,2
           NA,    WHS2,      6,   2,      10,      10,  2,20020517,1851,  72.9212, -160.5105,    73,   11.600,  -1.6935,  31.1735,2,  31.1864,2,    351.8,2,    358.6,2,    14.59,2,     3.57,2,     0.05,2,      1.1,2,   2078.2,2, 2215.500,2
           NA,    WHS2,      6,   2,       9,       9,  2,20020517,1851,  72.9212, -160.5105,    73,   16.500,  -1.6965,  31.2188,2,  31.2160,2,    347.4,2,    355.7,2,    15.28,2,     3.76,2,     0.05,2,      1.1,2,   2075.7,2, 2213.200,2
           NA,    WHS2,      6,   2,       8,       8,  2,20020517,1851,  72.9212, -160.5105,    73,   21.500,  -1.7012,  31.3225,2,  31.3001,2,    339.8,2,    346.9,2,    16.84,2,     4.25,2,     0.05,2,      1.2,2,   2088.8,2, 2208.200,2
           NA,    WHS2,      6,   2,       7,       7,  2,20020517,1851,  72.9212, -160.5105,    73,   26.500,  -1.7029,  31.3428,2,  31.3457,2,    338.9,2,    346.0,2,    17.44,2,     4.35,2,     0.05,2,      1.2,2,   2091.3,2, 2218.900,2
           NA,    WHS2,      6,   2,       6,       6,  2,20020517,1851,  72.9212, -160.5105,    73,   31.600,  -1.7026,  31.3943,2,  31.4191,2,    336.3,2,    343.0,2,    18.22,2,     4.60,2,     0.06,2,      1.2,2,   2115.9,2, 2224.300,2
           NA,    WHS2,      6,   2,       5,       5,  2,20020517,1851,  72.9212, -160.5105,    73,   36.600,  -1.7122,  31.5514,2,  31.6414,2,    335.6,2,    339.5,2,    20.09,2,     5.05,2,     0.07,2,      1.2,2,   2106.9,2, 2235.400,2
           NA,    WHS2,      6,   2,       4,       4,  2,20020517,1851,  72.9212, -160.5105,    73,   41.800,  -1.7382,  32.1473,2,  32.1700,2,    314.6,2,    321.5,2,    25.96,2,     6.60,2,     0.09,2,      1.4,2,   2122.8,2, 2234.600,2
           NA,    WHS2,      6,   2,       3,       3,  2,20020517,1851,  72.9212, -160.5105,    73,   51.900,  -1.6470,  32.4769,2,  32.4642,2,    296.3,2,    299.8,2,    32.32,2,     8.80,2,     0.09,2,      1.6,2,   2145.3,2, 2304.900,2
           NA,    WHS2,      6,   2,       2,       2,  2,20020517,1851,  72.9212, -160.5105,    73,   61.900,  -1.7765,  32.6377,2,  32.6362,2,    305.1,2,    308.8,2,    36.03,2,     9.40,2,     0.10,2,      1.7,2,   2158.7,2, 2269.700,2
           NA,    WHS2,      6,   2,       1,       1,  2,20020517,1851,  72.9212, -160.5105,    73,   69.900,  -1.7729,  32.7467,2,  32.6987,2,    299.5,2,    305.8,2,    38.29,2,     9.90,2,     0.11,2,      1.8,2,   2174.3,2, -999.000,5
           NA,    WHS3,      7,   1,      12,      12,  2,20020518,0849,  73.0360, -160.3842,   164,    1.900,  -1.6621,  30.7537,2,  30.7578,2,    376.7,2,    385.1,2,     7.67,2,     1.77,2,     0.03,2,      0.9,2,   2036.9,2, -999.000,9
           NA,    WHS3,      7,   1,      11,      11,  2,20020518,0849,  73.0360, -160.3842,   164,    5.800,  -1.6637,  30.7501,2,  30.7615,2,    376.6,2,    384.5,2,     7.68,2,     1.77,2,     0.03,2,      0.9,2,   2070.0,2, 2217.400,2
           NA,    WHS3,      7,   1,      10,      10,  2,20020518,0849,  73.0360, -160.3842,   164,   10.900,  -1.6692,  30.8541,2,  30.8572,2,    373.0,2,    381.5,2,     8.47,2,     2.02,2,     0.03,2,      0.9,2,   2071.2,2, 2214.600,2
           NA,    WHS3,      7,   1,       9,       9,  2,20020518,0849,  73.0360, -160.3842,   164,   15.900,  -1.6690,  30.8575,2,  30.8651,2,    372.9,2,    381.4,2,     8.58,2,     2.02,2,     0.04,2,      0.9,2,   2067.6,2, 2219.100,2
           NA,    WHS3,      7,   1,       8,       8,  2,20020518,0849,  73.0360, -160.3842,   164,   25.900,  -1.6678,  30.8829,2,  30.8943,2,    372.3,2,    379.9,2,     8.88,2,     2.17,2,     0.04,2,      0.9,2,   2074.4,2, 2226.400,2
           NA,    WHS3,      7,   1,       7,       7,  2,20020518,0849,  73.0360, -160.3842,   164,   34.700,  -1.6697,  30.9206,2,  30.9818,2,    370.0,2,    374.0,2,    10.36,2,     2.55,2,     0.05,2,      1.0,2,   2072.7,2, 2220.200,2
           NA,    WHS3,      7,   1,       6,       6,  2,20020518,0849,  73.0360, -160.3842,   164,   51.000,  -1.7059,  32.0687,2,  32.1240,2,    309.4,2,    314.1,2,    23.85,2,     6.58,2,     0.08,2,      1.4,2,   2121.1,2, 2242.900,2
           NA,    WHS3,      7,   1,       5,       5,  2,20020518,0849,  73.0360, -160.3842,   164,   75.500,  -1.7635,  32.5580,2,  32.5610,2,    303.8,2,    309.9,2,    33.13,2,     8.78,2,     0.11,2,      1.7,2,   2159.3,2, 2268.200,2
           NA,    WHS3,      7,   1,       4,       4,  2,20020518,0849,  73.0360, -160.3842,   164,  100.800,  -1.7642,  32.5886,2,  32.5952,2,    301.4,2,    307.9,2,    34.87,2,     9.33,2,     0.11,2,      1.7,2,   2158.6,2, 2266.300,2
           NA,    WHS3,      7,   1,       3,       3,  2,20020518,0849,  73.0360, -160.3842,   164,  125.000,  -0.5719,  33.8812,2,  33.9332,2,    274.1,2,    277.1,2,    23.36,2,    12.50,2,     0.11,2,      1.4,2,   2175.7,2, 2297.600,2
           NA,    WHS3,      7,   1,       2,       2,  2,20020518,0849,  73.0360, -160.3842,   164,  151.400,   0.1823,  34.5645,2,  34.6059,2,    273.7,2,    277.4,2,    14.85,2,    12.58,2,     0.08,2,      1.2,2,   2169.9,2, 2314.300,2
           NA,    WHS3,      7,   1,       1,       1,  2,20020518,0849,  73.0360, -160.3842,   164,  162.600,   0.5205,  34.7661,2,  34.7610,2,    284.6,2,    285.5,2,    11.17,2,    12.40,2,     0.05,2,      1.1,2,   -999.0,5, 2314.500,2
           NA,    WHS4,      8,   1,      12,      12,  2,20020519,0210,  73.2468, -160.0080,   548,    2.200,  -1.5925,  29.9748,2,  29.9772,2,    391.5,2,    400.7,2,     3.98,2,     0.36,2,     0.02,2,      0.8,2,   2018.1,2, 2165.000,2
           NA,    WHS4,      8,   1,      11,      11,  2,20020519,0210,  73.2468, -160.0080,   548,   15.500,  -1.5895,  29.9762,2,  29.9830,2,    391.4,2,    400.4,2,     4.08,2,     0.36,2,     0.03,2,      0.8,2,   2018.6,2, 2173.300,2
           NA,    WHS4,      8,   1,      10,      10,  2,20020519,0210,  73.2468, -160.0080,   548,   30.500,  -1.5664,  30.6547,2,  30.6190,2,    375.3,2,    386.4,2,     6.62,2,     1.60,2,     0.03,2,      0.9,2,   2057.4,2, 2205.100,2
           NA,    WHS4,      8,   1,       9,       9,  2,20020519,0210,  73.2468, -160.0080,   548,   52.000,  -1.2806,  31.8141,2,  31.8423,2,    342.0,2,    348.9,2,    13.91,2,     5.42,2,     0.00,2,      1.2,2,   2114.9,2, 2252.800,2
           NA,    WHS4,      8,   1,       8,       8,  2,20020519,0210,  73.2468, -160.0080,   548,   75.300,  -1.3785,  32.3850,2,  32.4025,2,    306.3,2,    312.3,2,    22.49,2,    10.15,2,     0.00,2,      1.5,2,   2166.6,2, 2272.100,2
           NA,    WHS4,      8,   1,       7,       7,  2,20020519,0210,  73.2468, -160.0080,   548,  100.400,  -1.5518,  32.7884,2,  32.7713,2,    290.5,2,    296.9,2,    29.71,2,    13.01,2,     0.01,2,      1.7,2,   2186.8,2, 2290.700,2
           NA,    WHS4,      8,   1,       6,       6,  2,20020519,0210,  73.2468, -160.0080,   548,  150.800,  -1.4499,  33.5065,2,  33.5128,2,    286.2,2,    289.9,2,    30.08,2,    13.74,2,     0.01,2,      1.6,2,   2219.8,2, 2312.200,2
           NA,    WHS4,      8,   1,       5,       5,  2,20020519,0210,  73.2468, -160.0080,   548,  199.900,  -0.3133,  34.4695,2,  34.4625,2,    271.6,2,    274.4,2,    13.79,2,    12.51,2,     0.00,2,      1.0,2,   2176.9,2, 2305.400,2
           NA,    WHS4,      8,   1,       4,       4,  2,20020519,0210,  73.2468, -160.0080,   548,  251.500,   0.4510,  34.7039,2,  34.6984,2,    279.7,2,    281.5,2,    10.19,2,    12.36,2,     0.00,2,      0.9,2,   2158.2,2, 2314.900,2
           NA,    WHS4,      8,   1,       3,       3,  2,20020519,0210,  73.2468, -160.0080,   548,  302.500,   0.7350,  34.7967,2,  34.7941,2,    287.6,2,    290.1,2,     8.05,2,    12.46,2,     0.00,2,      0.9,2,   2153.3,2, 2323.500,2
           NA,    WHS4,      8,   1,       2,       2,  2,20020519,0210,  73.2468, -160.0080,   548,  422.600,   0.5409,  34.8436,2,  34.8431,2,    293.1,2,    296.6,2,     6.99,2,    12.47,2,     0.00,2,      0.9,2,   2151.7,2, 2326.300,2
           NA,    WHS4,      8,   1,       1,       1,  2,20020519,0210,  73.2468, -160.0080,   548,  548.700,   0.4178,  34.8529,2,  34.8533,2,    293.8,2,    297.4,2,     7.18,2,    12.57,2,     0.00,2,      0.9,2,   2151.5,2, 2326.400,2
           NA,    WHS5,      9,  99,      12,      12,  2,20020519,2247,  73.3103, -160.2007,  1150,    2.200,  -1.6074,  30.0918,2,  30.0947,2,    390.8,2,    399.7,2,     4.34,2,     0.50,2,     0.03,2,      0.8,2,   2026.3,2, -999.000,9
           NA,    WHS5,      9,  99,      11,      11,  2,20020519,2247,  73.3103, -160.2007,  1150,    5.900,  -1.6032,  30.0929,2,  30.0952,2,    390.5,2,    400.0,2,     4.34,2,     0.50,2,     0.03,2,      0.8,2,   2015.6,2, 2175.900,2
           NA,    WHS5,      9,  99,      10,      10,  2,20020519,2247,  73.3103, -160.2007,  1150,   12.000,  -1.6173,  30.0971,2,  30.0983,2,    390.4,2,    399.9,2,     4.34,2,     0.50,2,     0.03,2,      0.8,2,   2025.3,2, 2173.700,2
           NA,    WHS5,      9,  99,       9,       9,  2,20020519,2247,  73.3103, -160.2007,  1150,   22.300,  -1.6188,  30.0962,2,  30.1006,2,    390.6,2,    399.7,2,     4.33,2,     0.50,2,     0.03,2,      0.8,2,   1999.4,2, 2176.400,2
           NA,    WHS5,      9,  99,       8,       8,  2,20020519,2247,  73.3103, -160.2007,  1150,   32.400,  -1.3977,  30.5329,2,  30.5205,2,    381.4,2,    390.3,2,     5.71,2,     1.19,2,     0.03,2,      0.9,2,   2051.0,2, 2199.800,2
           NA,    WHS5,      9,  99,       7,       7,  2,20020519,2247,  73.3103, -160.2007,  1150,   53.000,  -1.4532,  32.0222,2,  32.0083,2,    332.3,2,    338.8,2,    16.56,2,     6.70,2,     0.01,2,      1.3,2,   2137.6,2, 2260.300,2
           NA,    WHS5,      9,  99,       6,       6,  2,20020519,2247,  73.3103, -160.2007,  1150,   77.400,  -1.4014,  32.4811,2,  32.4814,2,    299.8,2,    305.6,2,    24.30,2,    11.23,2,     0.01,2,      1.6,2,   -999.0,9, -999.000,9
           NA,    WHS5,      9,  99,       5,       5,  2,20020519,2247,  73.3103, -160.2007,  1150,  102.900,  -1.5098,  32.7642,2,  32.7545,2,    289.0,2,    294.8,2,    29.40,2,    13.43,2,     0.01,2,      1.7,2,   -999.0,9, -999.000,9
           NA,    WHS5,      9,  99,       4,       4,  2,20020519,2247,  73.3103, -160.2007,  1150,  128.500,  -1.5649,  33.1141,2,  33.1010,2,    288.5,2,    294.4,2,    31.17,2,    13.61,2,     0.03,2,      1.7,2,   2192.5,2, 2299.000,2
           NA,    WHS5,      9,  99,       3,       3,  2,20020519,2247,  73.3103, -160.2007,  1150,  153.300,  -1.4290,  33.4792,2,  33.4581,2,    282.9,2,    287.8,2,    29.98,2,    14.01,2,     0.09,2,      1.7,2,   -999.0,9, -999.000,9
           NA,    WHS5,      9,  99,       2,       2,  2,20020519,2247,  73.3103, -160.2007,  1150,  178.600,  -1.0754,  34.0607,2,  34.0444,2,    275.1,2,    280.0,2,    25.16,2,    14.04,2,     0.01,2,      1.5,2,   -999.0,9, -999.000,9
           NA,    WHS5,      9,  99,       1,       1,  2,20020519,2247,  73.3103, -160.2007,  1150,  203.900,  -0.6205,  34.3660,2,  34.3449,2,    273.2,2,    276.1,2,    13.70,2,    12.35,2,     0.00,2,      1.0,2,   2176.3,2, 2308.200,2
           NA,    WHS5,      9,  99,      12,      12,  2,20020519,2247,  73.3103, -160.2007,  1150,  205.300,  -0.4717,  34.4185,2,  34.4091,2,    273.1,2,    277.4,2,    12.51,2,    12.26,2,     0.00,2,      1.0,2,   -999.0,9, -999.000,9
           NA,    WHS5,      9,  99,      11,      11,  2,20020519,2247,  73.3103, -160.2007,  1150,  255.100,   0.2996,  34.6598,2,  34.6609,2,    279.9,2,    283.6,2,     9.09,2,    12.32,2,     0.00,2,      0.9,2,   2156.7,2, 2315.300,2
           NA,    WHS5,      9,  99,      10,      10,  2,20020519,2247,  73.3103, -160.2007,  1150,  305.500,   0.6910,  34.7780,2,  34.7778,2,    288.1,2,    291.9,2,     7.03,2,    12.42,2,     0.00,2,      0.9,2,   -999.0,9, -999.000,9
           NA,    WHS5,      9,  99,       9,       9,  2,20020519,2247,  73.3103, -160.2007,  1150,  355.100,   0.7504,  34.8152,2,  34.8136,2,    290.3,2,    294.4,2,     6.73,2,    12.42,2,     0.01,2,      0.9,2,   2151.2,2, 2318.500,2
           NA,    WHS5,      9,  99,       8,       8,  2,20020519,2247,  73.3103, -160.2007,  1150,  405.600,   0.6551,  34.8274,2,  34.8271,2,    290.1,2,    294.2,2,     7.22,2,    12.53,2,     0.01,2,      0.9,2,   -999.0,9, -999.000,9
           NA,    WHS5,      9,  99,       7,       7,  2,20020519,2247,  73.3103, -160.2007,  1150,  455.800,   0.6120,  34.8392,2,  34.8389,2,    290.7,2,    295.7,2,     7.22,2,    12.54,2,     0.01,2,      0.9,2,   -999.0,9, -999.000,9
           NA,    WHS5,      9,  99,       6,       6,  2,20020519,2247,  73.3103, -160.2007,  1150,  505.500,   0.5448,  34.8457,2,  34.8464,2,    292.0,2,    296.9,2,     6.82,2,    12.50,2,     0.01,2,      0.9,2,   -999.0,9, -999.000,9
           NA,    WHS5,      9,  99,       5,       5,  2,20020519,2247,  73.3103, -160.2007,  1150,  604.700,   0.4150,  34.8544,2,  34.8550,2,    291.8,2,    297.5,2,     7.31,2,    12.56,2,     0.01,2,      0.9,2,   2151.7,2, 2322.300,2
           NA,    WHS5,      9,  99,       4,       4,  2,20020519,2247,  73.3103, -160.2007,  1150,  704.400,   0.3062,  34.8606,2,  34.8607,2,    292.6,2,    299.0,2,     6.92,2,    12.51,2,     0.00,2,      0.9,2,   -999.0,9, -999.000,9
           NA,    WHS5,      9,  99,       3,       3,  2,20020519,2247,  73.3103, -160.2007,  1150,  803.800,   0.1886,  34.8670,2,  34.8668,2,    292.4,2,    299.3,2,     7.11,2,    12.52,2,     0.00,2,      0.9,2,   -999.0,9, -999.000,9
           NA,    WHS5,      9,  99,       2,       2,  2,20020519,2247,  73.3103, -160.2007,  1150,  955.000,   0.0493,  34.8751,2,  34.8751,2,    292.5,2,    300.0,2,     7.20,2,    12.58,2,     0.01,2,      0.9,2,   -999.0,9, -999.000,9
           NA,    WHS5,      9,  99,       1,       1,  2,20020519,2247,  73.3103, -160.2007,  1150, 1157.300,  -0.1255,  34.8897,2,  34.8900,2,    292.0,2,    299.9,2,     7.59,2,    12.79,2,     0.00,2,      0.9,2,   2115.2,2, 2321.100,2