BOTTLE,20220919JOAExport
EXPOCODE,SECT_ID,STNNBR,CASTNO,SAMPNO,BTLNBR,BTLNBR_FLAG_W,DATE,TIME,LATITUDE,LONGITUDE,DEPTH,CTDPRS,CTDTMP,CTDSAL,CTDSAL_FLAG_W,SALNTY,SALNTY_FLAG_W,CTDOXY,CTDOXY_FLAG_W,OXYGEN,OXYGEN_FLAG_W,SILCAT,SILCAT_FLAG_W,NITRAT,NITRAT_FLAG_W,NITRIT,NITRIT_FLAG_W,PHSPHT,PHSPHT_FLAG_W,CFC-11,CFC-11_FLAG_W,CFC-12,CFC-12_FLAG_W,SF6,SF6_FLAG_W,TCARBN,TCARBN_FLAG_W,ALKALI,ALKALI_FLAG_W
,,,,,,,,,,,,DB,ITS-90,PSS-78,,PSS-78,,UMOL/KG,,UMOL/KG,,UMOL/KG,,UMOL/KG,,UMOL/KG,,UMOL/KG,,NA,,NA,,NA,,UMOL/KG,,UMOL/KG
           NA,   ICE11,     92,   1,-999.0,       6,  2,20110711,1018,  73.0781, -160.5714,   193,   10.600,   -1.223,   28.138,2, -999.000,3,  396.000,2,  396.100,2,    3.040,2,    0.000,2,    0.000,2,    0.640,2, -999.000,9, -999.000,9, -999.000,9, 1911.300,2, 2012.700,2
           NA,   ICE11,     92,   1,-999.0,       5,  2,20110711,1018,  73.0781, -160.5714,   193,   25.700,   -1.236,   29.432,2, -999.000,3,  401.000,2,  400.400,2,    3.230,2,    0.000,2,    0.000,2,    0.680,2, -999.000,9, -999.000,9, -999.000,9, 1998.000,2, 2085.200,2
           NA,   ICE11,     92,   1,-999.0,       4,  2,20110711,1018,  73.0781, -160.5714,   193,   56.500,   -1.185,   31.153,2, -999.000,3,  407.700,2,  384.400,2,    7.440,2,    0.920,2,    0.020,2,    0.930,2, -999.000,9, -999.000,9, -999.000,9, 2080.100,2, 2187.300,2
           NA,   ICE11,     92,   1,-999.0,       3,  2,20110711,1018,  73.0781, -160.5714,   193,  101.500,   -1.674,   32.508,2,   32.523,2,  312.800,2,  313.000,2,   44.970,2,   14.170,2,    0.120,2,    1.920,2, -999.000,9, -999.000,9, -999.000,9, 2186.700,2, 2233.800,2
           NA,   ICE11,     92,   1,-999.0,       2,  2,20110711,1018,  73.0781, -160.5714,   193,  151.900,   -0.454,   34.279,2,   34.270,2,  266.400,2,  265.700,2,   20.990,2,   12.930,2,    0.070,2,    1.270,2, -999.000,9, -999.000,9, -999.000,9, 2197.400,2, 2283.000,2
           NA,   ICE11,     92,   1,-999.0,       1,  2,20110711,1018,  73.0781, -160.5714,   193,  183.500,    0.288,   34.669,2, -999.000,3,  264.700,2,  264.700,2,   18.250,2,   13.100,2,    0.060,2,    1.220,2, -999.000,9, -999.000,9, -999.000,9, 2187.600,2, 2286.300,2
           NA,   ICE11,     93,   1,-999.0,      11,  2,20110711,1151,  73.1305, -160.5051,   244,    2.300,   -1.203,   27.730,2, -999.000,3,  394.500,2,  393.900,2,    2.940,2,    0.000,2,    0.000,2,    0.620,2, -999.000,9, -999.000,9, -999.000,9, 1875.500,2, 1977.200,2
           NA,   ICE11,     93,   1,-999.0,      10,  2,20110711,1151,  73.1305, -160.5051,   244,   10.400,   -1.165,   27.817,2, -999.000,3,  394.400,2,  394.600,2,    2.850,2,    0.000,2,    0.000,2,    0.620,2, -999.000,9, -999.000,9, -999.000,9, 1899.900,2, 1995.800,2
           NA,   ICE11,     93,   1,-999.0,       8,  2,20110711,1151,  73.1305, -160.5051,   244,   26.200,   -1.193,   28.957,2, -999.000,3,  397.700,2,  402.200,2,    3.140,2,    0.000,2,    0.000,2,    0.670,2, -999.000,9, -999.000,9, -999.000,9, 1967.300,2, 2086.200,2
           NA,   ICE11,     93,   1,-999.0,       7,  2,20110711,1151,  73.1305, -160.5051,   244,   51.400,   -1.344,   30.938,2, -999.000,3,  411.100,2,  409.000,2,    5.680,2,    0.440,2,    0.000,2,    0.810,2, -999.000,9, -999.000,9, -999.000,9, 2035.500,2, 2179.800,2
           NA,   ICE11,     93,   1,-999.0,       5,  2,20110711,1151,  73.1305, -160.5051,   244,   63.600,   -1.185,   31.733,2, -999.000,3,  376.500,2,  377.200,2,    9.490,2,    2.630,2,    0.060,2,    1.060,2, -999.000,9, -999.000,9, -999.000,9, 2079.100,2, 2206.700,2
           NA,   ICE11,     93,   1,-999.0,       4,  2,20110711,1151,  73.1305, -160.5051,   244,  101.200,   -1.702,   32.499,2,   32.493,2,  311.100,2,  315.700,2,   43.310,2,   12.820,2,    0.110,2,    1.860,2, -999.000,9, -999.000,9, -999.000,9, 2182.400,2, 2236.400,2
           NA,   ICE11,     93,   1,-999.0,       3,  2,20110711,1151,  73.1305, -160.5051,   244,  151.200,   -0.357,   34.338,2,   34.314,2,  272.000,2,  271.900,2,   18.160,2,   12.910,2,    0.010,2,    1.190,2, -999.000,9, -999.000,9, -999.000,9, 2184.200,2, 2281.100,2
           NA,   ICE11,     93,   1,-999.0,       2,  2,20110711,1151,  73.1305, -160.5051,   244,  200.600,    0.418,   34.722,2,   34.722,2,  276.500,2,  276.300,2,   12.690,2,   13.180,2,    0.000,2,    1.020,2, -999.000,9, -999.000,9, -999.000,9, 2171.000,2, 2292.600,2
           NA,   ICE11,     93,   1,-999.0,       1,  2,20110711,1151,  73.1305, -160.5051,   244,  244.800,    0.535,   34.810,2,   34.808,2,  283.500,2,  281.800,2,   12.000,2,   13.330,2,    0.040,2,    0.990,2, -999.000,9, -999.000,9, -999.000,9, 2161.500,2, 2295.400,2
           NA,   ICE11,     94,   1,-999.0,       9,  2,20110711,1323,  73.2000, -160.3846,   345,    2.200,   -1.181,   27.751,2, -999.000,3,  392.600,2,  391.700,2,    3.140,2,    0.000,2,    0.000,2,    0.630,2, -999.000,9, -999.000,9, -999.000,9, 1877.900,2, -999.000,1
           NA,   ICE11,     94,   1,-999.0,       8,  2,20110711,1323,  73.2000, -160.3846,   345,   10.700,   -1.158,   27.793,2, -999.000,3,  391.900,2,  393.000,2,    2.940,2,    0.000,2,    0.000,2,    0.640,2, -999.000,9, -999.000,9, -999.000,9, 1881.600,2, -999.000,1
           NA,   ICE11,     94,   1,-999.0,       7,  2,20110711,1323,  73.2000, -160.3846,   345,   25.500,   -1.158,   28.835,2, -999.000,3,  397.500,2,  404.200,2,    3.040,2,    0.000,2,    0.000,2,    0.640,2, -999.000,9, -999.000,9, -999.000,9, 1947.700,2, -999.000,1
           NA,   ICE11,     94,   1,-999.0,       6,  2,20110711,1323,  73.2000, -160.3846,   345,   33.800,   -1.147,   29.808,2,   29.785,2,  416.300,2,  424.600,2,    3.040,2,    0.050,2,    0.000,2,    0.650,2, -999.000,9, -999.000,9, -999.000,9, 1961.300,2, -999.000,1
           NA,   ICE11,     94,   1,-999.0,       5,  2,20110711,1323,  73.2000, -160.3846,   345,   57.000,   -1.431,   31.130,2,   31.144,2,  416.800,2,  405.600,2,    5.190,2,    0.150,2,    0.000,2,    0.840,2, -999.000,9, -999.000,9, -999.000,9, 2047.700,2, 2179.500,2
           NA,   ICE11,     94,   1,-999.0,       4,  2,20110711,1323,  73.2000, -160.3846,   345,  101.200,   -1.630,   32.440,2,   32.450,2,  331.000,2,  324.300,2,   39.300,2,   12.360,2,    0.070,2,    1.770,2, -999.000,9, -999.000,9, -999.000,9, 2158.000,2, 2238.000,2
           NA,   ICE11,     94,   1,-999.0,       3,  2,20110711,1323,  73.2000, -160.3846,   345,  152.200,   -0.413,   34.283,2,   34.276,2,  266.900,2,  271.400,2,   19.230,2,   13.040,2,    0.060,2,    1.230,2, -999.000,9, -999.000,9, -999.000,9, 2188.300,2, 2279.600,2
           NA,   ICE11,     94,   1,-999.0,       2,  2,20110711,1323,  73.2000, -160.3846,   345,  202.300,    0.273,   34.661,2,   34.661,2,  273.500,2,  270.800,2,   15.520,2,   13.260,2,    0.010,2,    1.100,2, -999.000,9, -999.000,9, -999.000,9, 2172.800,2, 2287.800,2
           NA,   ICE11,     94,   1,-999.0,       1,  2,20110711,1323,  73.2000, -160.3846,   345,  344.900,    0.417,   34.859,2,   34.857,2,  292.600,2,  292.400,2,    8.780,2,   12.510,2,    0.000,2,    0.890,2, -999.000,9, -999.000,9, -999.000,9, 2149.900,2, 2293.000,2
           NA,   ICE11,     95,   1,-999.0,      11,  2,20110711,1534,  73.2723, -160.2565,   787,    2.300,   -0.954,   27.590,2, -999.000,3,  387.300,2,  388.000,2,    2.940,2,    0.000,2,    0.000,2,    0.620,2, -999.000,9, -999.000,9, -999.000,9, 1881.400,2, 1976.900,2
           NA,   ICE11,     95,   1,-999.0,       9,  2,20110711,1534,  73.2723, -160.2565,   787,    9.800,   -0.990,   27.581,2, -999.000,3,  388.600,2,  389.200,2,    2.940,2,    0.000,2,    0.000,2,    0.620,2, -999.000,9, -999.000,9, -999.000,9, 1891.300,2, -999.000,1
           NA,   ICE11,     95,   1,-999.0,       7,  2,20110711,1534,  73.2723, -160.2565,   787,   27.100,   -1.084,   29.533,2, -999.000,3,  420.500,2,  416.700,2,    3.040,2,    0.000,2,    0.000,2,    0.650,2, -999.000,9, -999.000,9, -999.000,9, 1968.900,2, -999.000,1
           NA,   ICE11,     95,   1,-999.0,       5,  2,20110711,1534,  73.2723, -160.2565,   787,   50.600,   -1.124,   31.547,2,   31.540,2,  368.000,2,  366.800,2,    9.000,2,    2.850,2,    0.050,2,    1.030,2, -999.000,9, -999.000,9, -999.000,9, 2081.400,2, -999.000,1
           NA,   ICE11,     95,   1,-999.0,       4,  2,20110711,1534,  73.2723, -160.2565,   787,  101.300,   -0.121,   32.660,2, -999.000,3,  377.700,2,  379.500,2,   17.890,2,    5.030,2,    0.060,2,    1.210,2, -999.000,9, -999.000,9, -999.000,9, 2112.700,2, -999.000,1
           NA,   ICE11,     95,   1,-999.0,       3,  2,20110711,1534,  73.2723, -160.2565,   787,  152.400,   -0.327,   33.042,2, -999.000,3,  367.600,2,  367.700,2,   11.630,2,    3.730,2,    0.060,2,    1.100,2, -999.000,9, -999.000,9, -999.000,9, 2128.600,2, 2281.000,2
           NA,   ICE11,     95,   1,-999.0,       2,  2,20110711,1534,  73.2723, -160.2565,   787,  202.400,    0.023,   34.546,2,   34.547,2,  273.300,2,  271.600,2,   15.910,2,   13.210,2,    0.000,2,    1.100,2, -999.000,9, -999.000,9, -999.000,9, 2183.000,2, 2288.400,2
           NA,   ICE11,     95,   1,-999.0,       1,  2,20110711,1534,  73.2723, -160.2565,   787,  776.500,    0.135,   34.885,2, -999.000,3,  286.400,2,  299.200,2,    7.900,2,   12.380,2,    0.000,2,    0.870,2, -999.000,9, -999.000,9, -999.000,9, 2154.000,2, 2298.200,2
           NA,   ICE11,     96,   1,-999.0,       9,  2,20110711,1740,  73.3194, -160.1705,  1199,    2.300,   -0.717,   27.572,2, -999.000,3,  389.600,2,  386.800,2,    2.850,2,    0.000,2,    0.000,2,    0.620,2, -999.000,9, -999.000,9, -999.000,9, 1877.500,2, 1972.800,2
           NA,   ICE11,     96,   1,-999.0,       8,  2,20110711,1740,  73.3194, -160.1705,  1199,   10.600,   -0.754,   27.666,2, -999.000,3,  396.300,2,  390.400,2,    2.850,2,    0.000,2,    0.000,2,    0.620,2, -999.000,9, -999.000,9, -999.000,9, 1899.500,2, -999.000,1
           NA,   ICE11,     96,   1,-999.0,       7,  2,20110711,1740,  73.3194, -160.1705,  1199,   25.800,   -0.990,   29.119,2, -999.000,3,  424.300,2,  403.200,2,    3.330,2,    0.000,2,    0.000,2,    0.670,2, -999.000,9, -999.000,9, -999.000,9, 1978.200,2, -999.000,1
           NA,   ICE11,     96,   1,-999.0,       6,  2,20110711,1740,  73.3194, -160.1705,  1199,   40.700,   -1.066,   31.333,2, -999.000,3,  372.600,2,  368.700,2,    8.710,2,    2.590,2,    0.050,2,    1.000,2, -999.000,9, -999.000,9, -999.000,9, 2079.000,2, -999.000,1
           NA,   ICE11,     96,   1,-999.0,       5,  2,20110711,1740,  73.3194, -160.1705,  1199,   51.200,   -1.176,   31.752,2, -999.000,3,  342.900,2,  347.000,2,   13.300,2,    5.420,2,    0.070,2,    1.200,2, -999.000,9, -999.000,9, -999.000,9, 2112.500,2, -999.000,1
           NA,   ICE11,     96,   1,-999.0,       4,  2,20110711,1740,  73.3194, -160.1705,  1199,  101.700,   -1.303,   32.629,2, -999.000,3,  349.100,2,  350.200,2,   33.140,2,    9.980,2,    0.110,2,    1.550,2, -999.000,9, -999.000,9, -999.000,9, 2161.700,2, -999.000,1
           NA,   ICE11,     96,   1,-999.0,       3,  2,20110711,1740,  73.3194, -160.1705,  1199,  152.000,   -1.409,   32.934,2, -999.000,3,  331.700,2,  331.600,2,   39.680,2,   13.720,2,    0.130,2,    1.740,2, -999.000,9, -999.000,9, -999.000,9, 2188.200,2, 2260.400,2
           NA,   ICE11,     96,   1,-999.0,       2,  2,20110711,1740,  73.3194, -160.1705,  1199,  202.300,   -0.381,   34.346,2,   34.332,2,  276.900,2,  276.000,2,   16.600,2,   12.890,2,    0.030,2,    1.120,2, -999.000,9, -999.000,9, -999.000,9, 2178.600,2, 2283.000,2
           NA,   ICE11,     96,   1,-999.0,       1,  2,20110711,1740,  73.3194, -160.1705,  1199,  382.000,    0.669,   34.828,2,   34.827,2,  283.900,2,  285.300,2,    8.590,2,   12.590,2,   -0.010,2,    0.890,2, -999.000,9, -999.000,9, -999.000,9, 2158.200,2, 2292.900,2
           NA,   ICE11,     97,   1,-999.0,      11,  2,20110711,2003,  73.3840, -160.0760,  1386,    2.900,   -0.839,   27.242,2, -999.000,3,  384.800,2,  387.700,2,    2.750,2,    0.000,2,    0.000,2,    0.610,2, -999.000,9, -999.000,9, -999.000,9, 1869.700,2, 1957.700,2
           NA,   ICE11,     97,   1,-999.0,      10,  2,20110711,2003,  73.3840, -160.0760,  1386,   11.100,   -0.890,   27.357,2, -999.000,3,  385.500,2,  389.800,2,    2.750,2,    0.000,2,    0.000,2,    0.600,2, -999.000,9, -999.000,9, -999.000,9, -999.000,1, -999.000,1
           NA,   ICE11,     97,   1,-999.0,       9,  2,20110711,2003,  73.3840, -160.0760,  1386,   25.400,   -0.951,   29.103,2, -999.000,3,  402.300,2,  402.300,2,    3.140,2,    0.000,2,    0.000,2,    0.680,2, -999.000,9, -999.000,9, -999.000,9, -999.000,1, -999.000,1
           NA,   ICE11,     97,   1,-999.0,       8,  2,20110711,2003,  73.3840, -160.0760,  1386,   40.800,   -1.035,   31.359,2, -999.000,3,  385.900,2,  376.200,2,    7.240,2,    1.630,2,    0.030,2,    0.940,2, -999.000,9, -999.000,9, -999.000,9, 2061.200,2, 2188.200,2
           NA,   ICE11,     97,   1,-999.0,       7,  2,20110711,2003,  73.3840, -160.0760,  1386,   50.600,   -1.199,   31.812,2,   31.792,2,  352.300,2,  350.900,2,   12.620,2,    5.100,2,    0.070,2,    1.180,2, -999.000,9, -999.000,9, -999.000,9, -999.000,1, -999.000,5
           NA,   ICE11,     97,   1,-999.0,       6,  2,20110711,2003,  73.3840, -160.0760,  1386,  101.600,   -1.354,   32.650,2,   32.646,2,  338.900,2,  338.100,2,   36.360,2,   11.610,2,    0.110,2,    1.670,2, -999.000,9, -999.000,9, -999.000,9, 2167.900,2, 2251.300,2
           NA,   ICE11,     97,   1,-999.0,       5,  2,20110711,2003,  73.3840, -160.0760,  1386,  134.300,   -1.079,   32.815,2,   32.812,2,  359.000,2,  374.700,2,   25.710,2,    7.200,2,    0.100,2,    1.380,2, -999.000,9, -999.000,9, -999.000,9, -999.000,1, -999.000,1
           NA,   ICE11,     97,   1,-999.0,       4,  2,20110711,2003,  73.3840, -160.0760,  1386,  151.900,   -0.650,   32.913,2,   32.924,2,  345.800,2,  374.400,2,   23.360,2,    6.990,2,    0.090,2,    1.340,2, -999.000,9, -999.000,9, -999.000,9, -999.000,1, -999.000,1
           NA,   ICE11,     97,   1,-999.0,       3,  2,20110711,2003,  73.3840, -160.0760,  1386,  202.200,   -0.612,   34.146,2,   34.130,2,  273.400,2,  274.000,2,   20.800,2,   13.110,2,    0.020,2,    1.280,2, -999.000,9, -999.000,9, -999.000,9, -999.000,1, -999.000,1
           NA,   ICE11,     97,   1,-999.0,       2,  2,20110711,2003,  73.3840, -160.0760,  1386,  384.200,    0.715,   34.828,2,   34.827,2,  288.900,2,  288.800,2,    8.200,2,   12.480,2,    0.000,2,    0.900,2, -999.000,9, -999.000,9, -999.000,9, 2157.700,2, 2294.200,2
           NA,   ICE11,     97,   1,-999.0,       1,  2,20110711,2003,  73.3840, -160.0760,  1386, 1404.300,   -0.320,   34.917,2,   34.917,2,  298.100,2,  298.000,2,    9.470,2,   13.030,2,    0.000,2,    0.940,2, -999.000,9, -999.000,9, -999.000,9, 2151.300,2, 2300.300,2
           NA,   ICE11,     98,   1,-999.0,       8,  2,20110711,2203,  73.4390, -159.9854,  1693,    2.700,   -0.928,   26.926,2, -999.000,3,  392.700,2,  388.000,2,    2.650,2,    0.000,2,    0.000,2,    0.590,2, -999.000,9, -999.000,9, -999.000,9, 1849.700,2, 1942.500,2
           NA,   ICE11,     98,   1,-999.0,       7,  2,20110711,2203,  73.4390, -159.9854,  1693,   10.400,   -0.887,   27.184,2, -999.000,3,  392.900,2,  390.800,2,    2.650,2,    0.000,2,    0.000,2,    0.590,2, -999.000,9, -999.000,9, -999.000,9, 1867.100,2, 1955.600,2
           NA,   ICE11,     98,   1,-999.0,       6,  2,20110711,2203,  73.4390, -159.9854,  1693,   25.600,   -1.022,   29.609,2, -999.000,3,  402.200,2,  402.100,2,    3.330,2,    0.000,2,    0.000,2,    0.700,2, -999.000,9, -999.000,9, -999.000,9, 1997.000,2, 2108.900,2
           NA,   ICE11,     98,   1,-999.0,       5,  2,20110711,2203,  73.4390, -159.9854,  1693,   48.000,   -1.070,   31.443,2,   31.429,2,  382.300,2,  386.900,2,    6.950,2,    0.900,2,    0.030,2,    0.890,2, -999.000,9, -999.000,9, -999.000,9, 2068.100,2, 2199.900,2
           NA,   ICE11,     98,   1,-999.0,       4,  2,20110711,2203,  73.4390, -159.9854,  1693,  100.400,   -1.444,   32.600,2,   32.601,2,  338.800,2,  336.800,2,   33.530,2,   11.040,2,    0.110,2,    1.630,2, -999.000,9, -999.000,9, -999.000,9, 2178.100,2, 2250.900,2
           NA,   ICE11,     98,   1,-999.0,       3,  2,20110711,2203,  73.4390, -159.9854,  1693,  151.400,   -1.474,   32.886,2,   32.888,2,  323.300,2,  323.900,2,   37.240,2,   13.460,2,    0.110,2,    1.750,2, -999.000,9, -999.000,9, -999.000,9, 2195.700,2, 2262.900,2
           NA,   ICE11,     98,   1,-999.0,       2,  2,20110711,2203,  73.4390, -159.9854,  1693,  203.400,   -0.896,   34.104,2, -999.000,3,  276.900,2,  276.100,2,   19.430,2,   12.740,2,    0.010,2,    1.240,2, -999.000,9, -999.000,9, -999.000,9, 2201.200,2, 2281.600,2
           NA,   ICE11,     98,   1,-999.0,       1,  2,20110711,2203,  73.4390, -159.9854,  1693,  402.700,    0.716,   34.836,2,   34.835,2,  292.500,2,  291.200,2,    8.000,2,   12.460,2,    0.000,2,    0.890,2, -999.000,9, -999.000,9, -999.000,9, 2161.600,2, 2297.200,2
           NA,   ICE11,     99,   1,-999.0,      10,  2,20110712,0138,  73.5390, -159.9180,  2009,    2.500,   -0.890,   26.862,2, -999.000,3,  388.300,2,  387.700,2,    2.650,2,    0.000,2,    0.000,2,    0.580,2, -999.000,9, -999.000,9, -999.000,9, 1854.200,2, 1934.800,2
           NA,   ICE11,     99,   1,-999.0,       9,  2,20110712,0138,  73.5390, -159.9180,  2009,   10.100,   -0.898,   26.914,2, -999.000,3,  387.300,2,  393.400,2,    2.650,2,    0.000,2,    0.000,2,    0.590,2, -999.000,9, -999.000,9, -999.000,9, 1886.500,2, 1971.000,2
           NA,   ICE11,     99,   1,-999.0,       8,  2,20110712,0138,  73.5390, -159.9180,  2009,   25.600,   -1.001,   28.796,2, -999.000,3,  402.600,2,  402.000,2,    2.940,2,    0.000,2,    0.000,2,    0.650,2, -999.000,9, -999.000,9, -999.000,9, 1973.400,2, 2080.300,2
           NA,   ICE11,     99,   1,-999.0,       6,  2,20110712,0138,  73.5390, -159.9180,  2009,   47.800,   -1.004,   31.102,2, -999.000,3,  375.500,2,  376.900,2,    7.050,2,    1.610,2,    0.040,2,    0.930,2, -999.000,9, -999.000,9, -999.000,9, 2071.900,2, 2197.100,2
           NA,   ICE11,     99,   1,-999.0,       5,  2,20110712,0138,  73.5390, -159.9180,  2009,  101.400,   -1.617,   32.428,2,   32.450,2,  321.300,2,  321.900,2,   36.080,2,   13.420,2,    0.000,2,    1.730,2, -999.000,9, -999.000,9, -999.000,9, 2172.300,2, 2249.400,2
           NA,   ICE11,     99,   1,-999.0,       4,  2,20110712,0138,  73.5390, -159.9180,  2009,  151.700,   -1.551,   32.884,2,   32.895,2,  303.800,2,  311.700,2,   36.260,2,   14.330,2,    0.070,2,    1.730,2, -999.000,9, -999.000,9, -999.000,9, 2202.700,2, 2265.200,2
           NA,   ICE11,     99,   1,-999.0,       3,  2,20110712,0138,  73.5390, -159.9180,  2009,  202.400,   -0.871,   34.088,2,   34.101,2,  275.100,2,  275.100,2,   19.430,2,   12.820,2,    0.000,2,    1.210,2, -999.000,9, -999.000,9, -999.000,9, 2197.200,2, 2282.300,2
           NA,   ICE11,     99,   1,-999.0,       1,  2,20110712,0138,  73.5390, -159.9180,  2009,  304.400,    0.603,   34.764,2,   34.759,2,  282.500,2,  282.800,2,    9.660,2,   12.770,2,    0.000,2,    0.920,2, -999.000,9, -999.000,9, -999.000,9, 2154.600,2, 2304.400,2