BOTTLE,20220919JOAExport
EXPOCODE,SECT_ID,STNNBR,CASTNO,SAMPNO,BTLNBR,BTLNBR_FLAG_W,DATE,TIME,LATITUDE,LONGITUDE,DEPTH,CTDPRS,CTDTMP,CTDSAL,CTDSAL_FLAG_W,SALNTY,SALNTY_FLAG_W,CTDOXY,CTDOXY_FLAG_W,OXYGEN,OXYGEN_FLAG_W,SILCAT,SILCAT_FLAG_W,NITRAT,NITRAT_FLAG_W,NITRIT,NITRIT_FLAG_W,PHSPHT,PHSPHT_FLAG_W,CFC-11,CFC-11_FLAG_W,CFC-12,CFC-12_FLAG_W,SF6,SF6_FLAG_W,TCARBN,TCARBN_FLAG_W,ALKALI,ALKALI_FLAG_W
,,,,,,,,,,,,DB,ITS-90,PSS-78,,PSS-78,,UMOL/KG,,UMOL/KG,,UMOL/KG,,UMOL/KG,,UMOL/KG,,UMOL/KG,,NA,,NA,,NA,,UMOL/KG,,UMOL/KG
           NA,   ICE11,     52,   1,-999.0,       7,  2,20110704,1035,  72.4290, -168.1658,    55,    2.400,   -1.435,   31.996,2, -999.000,3,  432.500,2,  432.200,2,   21.030,2,    0.300,2,    0.030,2,    0.810,2, -999.000,9, -999.000,9, -999.000,9, 2026.000,2, 2210.600,2
           NA,   ICE11,     52,   1,-999.0,       5,  2,20110704,1035,  72.4290, -168.1658,    55,   10.800,   -1.701,   32.508,2, -999.000,3,  440.000,2,  409.200,2,   29.920,2,    4.470,2,    0.080,2,    1.240,2, -999.000,9, -999.000,9, -999.000,9, 2086.300,2, 2234.100,2
           NA,   ICE11,     52,   1,-999.0,       3,  2,20110704,1035,  72.4290, -168.1658,    55,   25.300,   -1.773,   32.976,2,   32.992,2,  345.200,2,  345.100,2,   51.700,2,   17.470,2,    0.110,2,    2.030,2, -999.000,9, -999.000,9, -999.000,9, 2162.200,2, 2234.700,2
           NA,   ICE11,     52,   1,-999.0,       1,  2,20110704,1035,  72.4290, -168.1658,    55,   51.600,   -1.770,   33.131,2,   33.123,2,  314.700,2,  315.400,2,   57.360,2,   18.040,2,    0.100,2,    2.280,2, -999.000,9, -999.000,9, -999.000,9, 2200.900,2, 2248.900,2
           NA,   ICE11,     53,   1,-999.0,       4,  2,20110704,1308,  72.5142, -168.6021,    56,    2.400,   -1.593,   31.455,2, -999.000,3,  477.700,2,  482.000,2,   14.480,2,    0.020,2,    0.000,2,    0.580,2, -999.000,9, -999.000,9, -999.000,9, 1959.600,2, 2175.100,2
           NA,   ICE11,     53,   1,-999.0,       3,  2,20110704,1308,  72.5142, -168.6021,    56,   10.500,   -1.664,   32.258,2, -999.000,3,  426.200,2,  426.200,2,   29.430,2,    2.000,2,    0.070,2,    1.100,2, -999.000,9, -999.000,9, -999.000,9, 2064.000,2, 2220.100,2
           NA,   ICE11,     53,   1,-999.0,       2,  2,20110704,1308,  72.5142, -168.6021,    56,   25.600,   -1.759,   32.853,2, -999.000,3,  354.200,2,  354.400,2,   49.160,2,   15.880,2,    0.120,2,    1.950,2, -999.000,9, -999.000,9, -999.000,9, 2145.300,2, 2235.600,2
           NA,   ICE11,     53,   1,-999.0,       1,  2,20110704,1308,  72.5142, -168.6021,    56,   52.900,   -1.768,   33.127,2,   33.119,2,  312.900,2,  312.900,2,   57.950,2,   17.690,2,    0.110,2,    2.350,2, -999.000,9, -999.000,9, -999.000,9, 2203.100,2, 2245.000,2
           NA,   ICE11,     54,   1,-999.0,       9,  2,20110704,1436,  72.5624, -168.8151,    60,    2.500,   -1.627,   31.592,2, -999.000,3,  447.300,2,  448.200,2,   25.730,2,    0.520,2,    0.030,2,    0.930,2, -999.000,9, -999.000,9, -999.000,9, 2038.900,2, 2205.700,2
           NA,   ICE11,     54,   1,-999.0,       7,  2,20110704,1436,  72.5624, -168.8151,    60,   10.500,   -1.656,   32.027,2, -999.000,3,  432.700,2,  432.600,2,   29.630,2,    1.950,2,    0.050,2,    1.090,2, -999.000,9, -999.000,9, -999.000,9, 2068.400,2, 2214.200,2
           NA,   ICE11,     54,   1,-999.0,       5,  2,20110704,1436,  72.5624, -168.8151,    60,   25.900,   -1.760,   32.868,2,   32.885,2,  352.300,2,  352.800,2,   49.750,2,   16.460,2,    0.110,2,    1.970,2, -999.000,9, -999.000,9, -999.000,9, 2153.800,2, 2233.400,2
           NA,   ICE11,     54,   1,-999.0,       3,  2,20110704,1436,  72.5624, -168.8151,    60,   50.900,   -1.777,   33.140,2,   33.139,2,  317.800,2,  318.600,2,   56.480,2,   17.300,2,    0.110,2,    2.290,2, -999.000,9, -999.000,9, -999.000,9, 2211.400,2, 2250.100,2
           NA,   ICE11,     54,   1,-999.0,       1,  2,20110704,1436,  72.5624, -168.8151,    60,   57.700,   -1.774,   33.141,2,   33.141,2,  315.500,2,  315.900,2,   57.260,2,   17.410,2,    0.110,2,    2.320,2, -999.000,9, -999.000,9, -999.000,9, 2203.200,2, 2248.500,2
           NA,   ICE11,     55,   1,-999.0,      10,  2,20110705,0311,  72.6324, -168.7261,    57,    2.800,   -1.606,   31.588,2, -999.000,3,  484.700,2,  487.800,2,   15.460,2,    0.070,2,    0.010,2,    0.660,2, -999.000,9, -999.000,9, -999.000,9, 1974.400,2, 2190.800,2
           NA,   ICE11,     55,   1,-999.0,       8,  2,20110705,0311,  72.6324, -168.7261,    57,   10.600,   -1.668,   32.185,2, -999.000,3,  451.300,2,  409.600,2,   33.050,2,    4.650,2,    0.090,2,    1.280,2, -999.000,9, -999.000,9, -999.000,9, 2095.700,2, 2225.700,2
           NA,   ICE11,     55,   1,-999.0,       5,  2,20110705,0311,  72.6324, -168.7261,    57,   25.400,   -1.754,   32.844,2,   32.860,2,  354.300,2,  354.300,2,   48.280,2,   15.340,2,    0.130,2,    1.920,2, -999.000,9, -999.000,9, -999.000,9, 2160.200,2, 2235.000,2
           NA,   ICE11,     55,   1,-999.0,       4,  2,20110705,0311,  72.6324, -168.7261,    57,   39.400,   -1.777,   33.029,2,   33.033,2,  330.800,2,  332.000,2,   52.280,2,   17.010,2,    0.110,2,    2.130,2, -999.000,9, -999.000,9, -999.000,9, 2189.100,2, 2248.800,2
           NA,   ICE11,     55,   1,-999.0,       1,  2,20110705,0311,  72.6324, -168.7261,    57,   57.100,   -1.768,   33.062,2,   33.059,2,  314.500,2,  314.500,2,   56.190,2,   17.070,2,    0.140,2,    2.440,2, -999.000,9, -999.000,9, -999.000,9, 2210.500,2, 2250.300,2
           NA,   ICE11,     56,   1,-999.0,      10,  2,20110706,0247,  73.1653, -168.4932,    69,    1.800,   -1.558,   32.151,2,   32.133,2,  514.100,2,  517.100,2,   20.930,2,    0.030,2,    0.010,2,    0.920,2, -999.000,9, -999.000,9, -999.000,9, 1993.900,2, -999.000,3
           NA,   ICE11,     56,   1,-999.0,       9,  2,20110706,0247,  73.1653, -168.4932,    69,    9.900,   -1.583,   32.305,2, -999.000,3,  486.500,2,  429.100,2,   38.130,2,    1.750,2,    0.110,2,    1.490,2, -999.000,9, -999.000,9, -999.000,9, 2094.200,2, -999.000,3
           NA,   ICE11,     56,   1,-999.0,       6,  2,20110706,0247,  73.1653, -168.4932,    69,   25.600,   -1.722,   32.608,2,   32.628,2,  355.500,2,  340.400,2,   51.620,2,   11.860,2,    0.140,2,    2.050,2, -999.000,9, -999.000,9, -999.000,9, 2171.800,2, 2232.800,2
           NA,   ICE11,     56,   1,-999.0,       4,  2,20110706,0247,  73.1653, -168.4932,    69,   50.400,   -1.708,   32.779,2,   32.759,2,  366.300,2,  362.400,2,   50.730,2,   10.760,2,    0.150,2,    1.950,2, -999.000,9, -999.000,9, -999.000,9, 2167.600,2, 2241.800,2
           NA,   ICE11,     56,   1,-999.0,       1,  2,20110706,0247,  73.1653, -168.4932,    69,   64.700,   -1.730,   32.833,2,   32.806,2,  346.200,2,  348.600,2,   53.170,2,   12.380,2,    0.150,2,    2.080,2, -999.000,9, -999.000,9, -999.000,9, 2179.200,2, 2244.400,2
           NA,   ICE11,     57,   2,-999.0,      11,  2,20110707,0202,  73.7166, -168.2876,   147,    2.400,   -1.424,   29.833,2, -999.000,3,  480.400,2,  480.600,2,    3.430,2,    0.060,2,    0.000,2,    0.640,2, -999.000,9, -999.000,9, -999.000,9, 1919.700,2, 2104.400,2
           NA,   ICE11,     57,   2,-999.0,       9,  2,20110707,0202,  73.7166, -168.2876,   147,   10.200,   -1.448,   29.872,2, -999.000,3,  450.100,2, -999.000,5,    2.640,2,    0.010,2,    0.000,2,    0.600,2, -999.000,9, -999.000,9, -999.000,9, 1918.800,2, 2103.400,2
           NA,   ICE11,     57,   2,-999.0,       7,  2,20110707,0202,  73.7166, -168.2876,   147,   26.600,   -1.608,   31.349,2,   31.390,2,  382.500,2,  365.800,2,   17.420,2,    3.700,2,    0.100,2,    1.150,2, -999.000,9, -999.000,9, -999.000,9, 2092.300,2, 2183.800,2
           NA,   ICE11,     57,   2,-999.0,       5,  2,20110707,0202,  73.7166, -168.2876,   147,   50.400,   -1.731,   32.184,2,   32.194,2,  319.700,2,  320.100,2,   45.470,2,   13.520,2,    0.110,2,    1.880,2, -999.000,9, -999.000,9, -999.000,9, 2173.600,2, 2215.600,2
           NA,   ICE11,     57,   2,-999.0,       3,  2,20110707,0202,  73.7166, -168.2876,   147,  101.200,   -1.729,   32.551,2,   32.557,2,  308.700,2,  308.600,2,   52.400,2,   17.310,2,    0.070,2,    2.190,2, -999.000,9, -999.000,9, -999.000,9, 2165.900,2, 2226.100,2
           NA,   ICE11,     57,   2,-999.0,       1,  2,20110707,0202,  73.7166, -168.2876,   147,  149.300,    0.064,   34.556,2,   34.549,2,  261.500,2,  261.500,2,   19.130,2,   12.570,2,    0.030,2,    1.170,2, -999.000,9, -999.000,9, -999.000,9, 2181.000,2, 2286.700,2
           NA,   ICE11,     58,   1,-999.0,      11,  2,20110707,1142,  73.6239, -168.0866,   134,    2.100,   -1.494,   30.533,2,   30.538,2,  498.300,2,  499.100,2,    2.840,2,    0.000,2,    0.000,2,    0.640,2, -999.000,9, -999.000,9, -999.000,9, 1938.100,2, 2135.900,2
           NA,   ICE11,     58,   1,-999.0,       9,  2,20110707,1142,  73.6239, -168.0866,   134,   10.400,   -1.486,   30.552,2, -999.000,3,  498.200,2,  497.700,2,    3.130,2,    0.000,2,    0.000,2,    0.660,2, -999.000,9, -999.000,9, -999.000,9, 1938.800,2, 2145.500,2
           NA,   ICE11,     58,   1,-999.0,       7,  2,20110707,1142,  73.6239, -168.0866,   134,   24.700,   -1.526,   30.891,2, -999.000,3,  540.700,2,  443.000,2,    9.490,2,    1.070,2,    0.020,2,    0.910,2, -999.000,9, -999.000,9, -999.000,9, 2012.000,2, 2167.500,2
           NA,   ICE11,     58,   1,-999.0,       5,  2,20110707,1142,  73.6239, -168.0866,   134,   50.000,   -1.695,   32.272,2, -999.000,3,  327.500,2,  324.200,2,   34.320,2,   12.800,2,    0.000,2,    1.730,2, -999.000,9, -999.000,9, -999.000,9, 2155.100,2, 2218.900,2
           NA,   ICE11,     58,   1,-999.0,       3,  2,20110707,1142,  73.6239, -168.0866,   134,  100.800,   -1.597,   32.668,2, -999.000,3,  306.300,2,  289.800,2,   45.550,2,   16.450,2,    0.010,2,    2.070,2, -999.000,9, -999.000,9, -999.000,9, 2205.400,2, 2233.300,2
           NA,   ICE11,     58,   1,-999.0,       1,  2,20110707,1142,  73.6239, -168.0866,   134,  133.700,   -0.130,   34.455,2, -999.000,3,  247.900,2,  250.300,2,   26.550,2,   13.890,2,    0.030,2,    1.410,2, -999.000,9, -999.000,9, -999.000,9, 2209.500,2, 2284.500,2
           NA,   ICE11,     59,   1,-999.0,       6,  2,20110707,1411,  73.4830, -167.9015,   110,    2.300,   -1.596,   32.005,2, -999.000,3,  523.000,2,  523.000,2,   20.640,2,    0.010,2,    0.010,2,    0.960,2, -999.000,9, -999.000,9, -999.000,9, 1981.000,2, -999.000,4
           NA,   ICE11,     59,   1,-999.0,       5,  2,20110707,1411,  73.4830, -167.9015,   110,   10.500,   -1.596,   32.086,2,   32.092,2,  522.900,2,  521.000,2,   20.540,2,    0.020,2,    0.010,2,    0.950,2, -999.000,9, -999.000,9, -999.000,9, 1997.200,2, 2211.800,2
           NA,   ICE11,     59,   1,-999.0,       4,  2,20110707,1411,  73.4830, -167.9015,   110,   24.900,   -1.604,   32.113,2,   32.138,2,  521.900,2,  488.100,2,   23.570,2,    1.100,2,    0.030,2,    1.090,2, -999.000,9, -999.000,9, -999.000,9, 2029.400,2, -999.000,4
           NA,   ICE11,     59,   1,-999.0,       3,  2,20110707,1411,  73.4830, -167.9015,   110,   51.200,   -1.746,   32.454,2,   32.459,2,  317.600,2,  312.800,2,   49.180,2,   17.110,2,    0.090,2,    2.100,2, -999.000,9, -999.000,9, -999.000,9, 2179.500,2, 2226.600,2
           NA,   ICE11,     59,   1,-999.0,       2,  2,20110707,1411,  73.4830, -167.9015,   110,   89.300,   -1.701,   32.767,2,   32.769,2,  348.500,2,  348.400,2,   52.100,2,   15.790,2,    0.180,2,    2.010,2, -999.000,9, -999.000,9, -999.000,9, 2183.400,2, 2242.800,2
           NA,   ICE11,     59,   1,-999.0,       1,  2,20110707,1411,  73.4830, -167.9015,   110,  107.400,   -1.719,   32.896,2,   32.894,2,  320.000,2,  320.100,2,   57.080,2,   18.020,2,    0.160,2,    2.300,2, -999.000,9, -999.000,9, -999.000,9, 2199.700,2, 2251.200,2
           NA,   ICE11,     60,   1,-999.0,      11,  2,20110707,1630,  73.3598, -167.6809,    93,    2.500,   -1.596,   32.023,2, -999.000,3,  518.700,2,  520.700,2,   20.050,2,    0.150,2,    0.010,2,    0.950,2, -999.000,9, -999.000,9, -999.000,9, 1994.400,2, 2213.000,2
           NA,   ICE11,     60,   1,-999.0,       9,  2,20110707,1630,  73.3598, -167.6809,    93,   10.100,   -1.603,   32.101,2, -999.000,3,  526.900,2,  449.200,2,   30.120,2,    4.190,2,    0.060,2,    1.290,2, -999.000,9, -999.000,9, -999.000,9, 2054.500,2, 2218.000,2
           NA,   ICE11,     60,   1,-999.0,       7,  2,20110707,1630,  73.3598, -167.6809,    93,   24.400,   -1.687,   32.289,2, -999.000,3,  394.000,2,  329.200,2,   49.770,2,   14.510,2,    0.130,2,    1.970,2, -999.000,9, -999.000,9, -999.000,9, 2165.800,2, 2226.200,2
           NA,   ICE11,     60,   1,-999.0,       5,  2,20110707,1630,  73.3598, -167.6809,    93,   49.700,   -1.750,   32.505,2,   32.527,2,  325.400,2,  337.200,2,   52.400,2,   15.600,2,    0.140,2,    2.040,2, -999.000,9, -999.000,9, -999.000,9, 2169.000,2, 2235.100,2
           NA,   ICE11,     60,   1,-999.0,       3,  2,20110707,1630,  73.3598, -167.6809,    93,   59.700,   -1.649,   32.586,2,   32.596,2,  372.600,2,  365.500,2,   47.120,2,   12.510,2,    0.140,2,    1.850,2, -999.000,9, -999.000,9, -999.000,9, 2150.400,2, 2237.400,2
           NA,   ICE11,     60,   1,-999.0,       1,  2,20110707,1630,  73.3598, -167.6809,    93,   89.200,   -1.718,   32.889,2, -999.000,3,  322.300,2,  322.000,2,   55.710,2,   17.540,2,    0.160,2,    2.230,2, -999.000,9, -999.000,9, -999.000,9, 2194.800,2, 2248.500,2
           NA,   ICE11,     61,   1,-999.0,       5,  2,20110707,2003,  73.2519, -167.4912,    72,    2.600,   -1.630,   31.851,2,   31.860,2,  553.100,2,  568.500,2,    8.710,2,    0.020,2,    0.010,2,    0.660,2, -999.000,9, -999.000,9, -999.000,9, 1929.700,2, 2188.600,2
           NA,   ICE11,     61,   1,-999.0,       4,  2,20110707,2003,  73.2519, -167.4912,    72,   11.000,   -1.635,   31.943,2,   31.949,2,  553.000,2,  552.800,2,    9.490,2,    0.010,2,    0.010,2,    0.670,2, -999.000,9, -999.000,9, -999.000,9, 1945.100,2, 2196.300,2
           NA,   ICE11,     61,   1,-999.0,       3,  2,20110707,2003,  73.2519, -167.4912,    72,   24.100,   -1.658,   32.540,2,   32.575,2,  458.600,2,  399.900,2,   39.300,2,    9.720,2,    0.140,2,    1.550,2, -999.000,9, -999.000,9, -999.000,9, 2116.900,2, 2233.600,2
           NA,   ICE11,     61,   1,-999.0,       2,  2,20110707,2003,  73.2519, -167.4912,    72,   51.000,   -1.752,   32.794,2,   32.797,2,  328.100,2,  328.100,2,   55.810,2,   17.870,2,    0.230,2,    2.190,2, -999.000,9, -999.000,9, -999.000,9, 2191.400,2, 2241.300,2
           NA,   ICE11,     61,   1,-999.0,       1,  2,20110707,2003,  73.2519, -167.4912,    72,   69.900,   -1.755,   32.867,2, -999.000,3,  324.600,2,  324.500,2,   57.760,2,   18.280,2,    0.200,2,    2.260,2, -999.000,9, -999.000,9, -999.000,9, 2197.400,2, 2248.000,2
           NA,   ICE11,     62,   1,-999.0,       9,  2,20110707,2338,  73.1325, -167.2553,    64,    2.600,   -1.558,   31.035,2, -999.000,3,  462.300,2,  521.700,2,    5.190,2,    0.050,2,    0.000,2,    0.480,2, -999.000,9, -999.000,9, -999.000,9, 1872.800,2, 2137.400,2
           NA,   ICE11,     62,   1,-999.0,       8,  2,20110707,2338,  73.1325, -167.2553,    64,   10.500,   -1.580,   31.109,2, -999.000,3,  458.500,2,  521.300,2,    5.090,2,    0.030,2,    0.000,2,    0.490,2, -999.000,9, -999.000,9, -999.000,9, 1871.400,2, 2142.300,2
           NA,   ICE11,     62,   1,-999.0,       6,  2,20110707,2338,  73.1325, -167.2553,    64,   19.900,   -1.625,   32.399,2, -999.000,3,  433.600,2,  436.300,2,   29.920,2,    4.620,2,    0.070,2,    1.230,2, -999.000,9, -999.000,9, -999.000,9, 2078.200,2, 2224.800,2
           NA,   ICE11,     62,   1,-999.0,       3,  2,20110707,2338,  73.1325, -167.2553,    64,   41.100,   -1.763,   32.926,2,   32.948,2,  327.300,2,  328.100,2,   52.780,2,   18.240,2,    0.150,2,    2.150,2, -999.000,9, -999.000,9, -999.000,9, 2186.100,2, 2242.400,2
           NA,   ICE11,     62,   1,-999.0,       1,  2,20110707,2338,  73.1325, -167.2553,    64,   60.900,   -1.769,   32.952,2,   32.950,2,  327.900,2,  328.500,2,   52.580,2,   18.210,2,    0.150,2,    2.110,2, -999.000,9, -999.000,9, -999.000,9, 2185.800,2, 2245.700,2
           NA,   ICE11,     63,   1,-999.0,       6,  2,20110708,0331,  73.0045, -167.0856,    60,    2.300,   -1.526,   30.826,2, -999.000,3,  461.900,2,  462.900,2,    4.800,2,    0.090,2,    0.000,2,    0.450,2, -999.000,9, -999.000,9, -999.000,9, 1873.100,2, 2118.600,2
           NA,   ICE11,     63,   1,-999.0,       5,  2,20110708,0331,  73.0045, -167.0856,    60,   10.400,   -1.540,   30.886,2,   30.900,2, -999.000,9, -999.000,5,    5.870,2,    0.220,2,    0.000,2,    0.530,2, -999.000,9, -999.000,9, -999.000,9, 1876.200,2, 2128.400,2
           NA,   ICE11,     63,   1,-999.0,       4,  2,20110708,0331,  73.0045, -167.0856,    60,   15.400,   -1.602,   31.754,2, -999.000,3,  462.700,2,  455.400,2,   17.610,2,    1.850,2,    0.030,2,    0.870,2, -999.000,9, -999.000,9, -999.000,9, 1995.300,2, 2192.600,2
           NA,   ICE11,     63,   1,-999.0,       3,  2,20110708,0331,  73.0045, -167.0856,    60,   25.400,   -1.700,   32.720,2, -999.000,3,  379.100,2,  360.300,2,   44.770,2,   15.140,2,    0.150,2,    1.760,2, -999.000,9, -999.000,9, -999.000,9, 2147.800,2, 2236.600,2
           NA,   ICE11,     63,   1,-999.0,       2,  2,20110708,0331,  73.0045, -167.0856,    60,   40.400,   -1.774,   32.946,2,   32.945,2,  333.100,2,  326.400,2,   51.310,2,   17.890,2,    0.190,2,    2.090,2, -999.000,9, -999.000,9, -999.000,9, 2183.900,2, -999.000,1
           NA,   ICE11,     63,   1,-999.0,       1,  2,20110708,0331,  73.0045, -167.0856,    60,   56.400,   -1.772,   32.946,2,   32.942,2,  326.800,2,  327.300,2,   51.410,2,   17.820,2,    0.180,2,    2.090,2, -999.000,9, -999.000,9, -999.000,9, 2178.700,2, 2242.600,2
           NA,   ICE11,     64,   1,-999.0,       9,  2,20110708,0510,  72.8953, -166.8796,    57,    2.600,   -1.506,   30.553,2, -999.000,3,  442.200,2,  444.800,2,    9.890,2,    1.260,2,    0.020,2,    0.600,2, -999.000,9, -999.000,9, -999.000,9, 1899.500,2, 2126.200,2
           NA,   ICE11,     64,   1,-999.0,       7,  2,20110708,0510,  72.8953, -166.8796,    57,   10.400,   -1.534,   30.692,2, -999.000,3,  446.200,2,  418.100,2,   24.470,2,    6.320,2,    0.080,2,    1.070,2, -999.000,9, -999.000,9, -999.000,9, 2014.900,2, 2186.700,2
           NA,   ICE11,     64,   1,-999.0,       5,  2,20110708,0510,  72.8953, -166.8796,    57,   18.400,   -1.702,   32.680,2,   32.687,2,  405.900,2,  367.000,2,   43.210,2,   14.390,2,    0.150,2,    1.680,2, -999.000,9, -999.000,9, -999.000,9, 2139.600,2, 2235.000,2
           NA,   ICE11,     64,   1,-999.0,       3,  2,20110708,0510,  72.8953, -166.8796,    57,   40.400,   -1.770,   32.918,2,   32.925,2,  334.600,2,  329.000,2,   49.840,2,   17.090,2,    0.190,2,    2.040,2, -999.000,9, -999.000,9, -999.000,9, 2177.400,2, 2243.700,2
           NA,   ICE11,     64,   1,-999.0,       1,  2,20110708,0510,  72.8953, -166.8796,    57,   55.100,   -1.767,   32.930,2,   32.927,2,  328.700,2,  329.600,2,   49.940,2,   17.040,2,    0.190,2,    2.050,2, -999.000,9, -999.000,9, -999.000,9, 2167.700,2, 2248.800,2