BOTTLE,20220919JOAExport
EXPOCODE,SECT_ID,STNNBR,CASTNO,SAMPNO,BTLNBR,BTLNBR_FLAG_W,DATE,TIME,LATITUDE,LONGITUDE,DEPTH,CTDPRS,CTDTMP,CTDSAL,CTDSAL_FLAG_W,SALNTY,SALNTY_FLAG_W,CTDOXY,CTDOXY_FLAG_W,OXYGEN,OXYGEN_FLAG_W,SILCAT,SILCAT_FLAG_W,NITRAT,NITRAT_FLAG_W,NITRIT,NITRIT_FLAG_W,PHSPHT,PHSPHT_FLAG_W,CFC-11,CFC-11_FLAG_W,CFC-12,CFC-12_FLAG_W,SF6,SF6_FLAG_W,TCARBN,TCARBN_FLAG_W,ALKALI,ALKALI_FLAG_W
,,,,,,,,,,,,DB,ITS-90,PSS-78,,PSS-78,,UMOL/KG,,UMOL/KG,,UMOL/KG,,UMOL/KG,,UMOL/KG,,UMOL/KG,,NA,,NA,,NA,,UMOL/KG,,UMOL/KG
           NA,   ICE11,    149,   1,-999.0,       6,  2,20110722,1816,  71.5357, -157.7587,    71,    2.700,    5.557,   31.467,2, -999.000,3,  323.800,2,  323.700,2,    2.350,2,    0.000,2,    0.000,2,    0.480,2, -999.000,9, -999.000,9, -999.000,9, 1997.800,2, 2174.300,2
           NA,   ICE11,    149,   1,-999.0,       5,  2,20110722,1816,  71.5357, -157.7587,    71,   11.100,    4.846,   31.486,2,   31.485,2,  327.500,2,  330.800,2,    2.450,2,    0.000,2,    0.000,2,    0.500,2, -999.000,9, -999.000,9, -999.000,9, 1999.900,2, 2176.500,2
           NA,   ICE11,    149,   1,-999.0,       4,  2,20110722,1816,  71.5357, -157.7587,    71,   25.500,    2.616,   31.526,2,   31.532,2,  344.500,2,  353.000,2,    3.230,2,    0.000,2,    0.000,2,    0.620,2, -999.000,9, -999.000,9, -999.000,9, 2018.100,2, 2184.200,2
           NA,   ICE11,    149,   1,-999.0,       3,  2,20110722,1816,  71.5357, -157.7587,    71,   34.900,   -1.179,   31.634,2,   31.604,2,  392.300,2,  392.200,2,    7.240,2,    1.170,2,    0.010,2,    0.960,2, -999.000,9, -999.000,9, -999.000,9, 2070.900,2, 2202.200,2
           NA,   ICE11,    149,   1,-999.0,       2,  2,20110722,1816,  71.5357, -157.7587,    71,   51.000,   -1.599,   32.145,2, -999.000,3,  320.200,2,  320.100,2,   30.800,2,   11.090,2,    0.060,2,    1.650,2, -999.000,9, -999.000,9, -999.000,9, 2165.800,2, 2229.500,2
           NA,   ICE11,    149,   1,-999.0,       1,  2,20110722,1816,  71.5357, -157.7587,    71,   69.100,   -1.065,   32.855,2, -999.000,3,  293.400,2,  293.400,2,   26.980,2,    9.090,2,    0.160,2,    1.700,2, -999.000,9, -999.000,9, -999.000,9, 2208.100,2, 2260.000,2
           NA,   ICE11,    150,   1,-999.0,       9,  2,20110722,1904,  71.4996, -157.6786,    81,    3.000,    2.997,   31.249,2,   31.271,2,  355.500,2,  355.600,2,    3.030,2,    0.000,2,    0.000,2,    0.630,2, -999.000,9, -999.000,9, -999.000,9, 2003.700,2, 2164.800,2
           NA,   ICE11,    150,   1,-999.0,       7,  2,20110722,1904,  71.4996, -157.6786,    81,   10.200,    3.235,   31.558,2,   31.567,2,  354.300,2,  347.800,2,    3.230,2,    0.000,2,    0.000,2,    0.630,2, -999.000,9, -999.000,9, -999.000,9, 2024.800,2, 2188.400,2
           NA,   ICE11,    150,   1,-999.0,       5,  2,20110722,1904,  71.4996, -157.6786,    81,   29.800,   -0.838,   31.666,2,   31.658,2,  407.800,2,  409.100,2,    4.010,2,    0.000,2,    0.000,2,    0.800,2, -999.000,9, -999.000,9, -999.000,9, 2048.100,2, 2201.200,2
           NA,   ICE11,    150,   1,-999.0,       3,  2,20110722,1904,  71.4996, -157.6786,    81,   51.900,   -1.454,   32.422,2, -999.000,3,  305.200,2,  296.400,2,   33.240,2,   11.900,2,    0.100,2,    1.870,2, -999.000,9, -999.000,9, -999.000,9, 2201.100,2, 2235.600,2
           NA,   ICE11,    150,   1,-999.0,       1,  2,20110722,1904,  71.4996, -157.6786,    81,   79.400,   -1.302,   32.910,2,   32.891,2,  280.900,2,  281.700,2,   27.270,2,   10.170,2,    0.180,2,    1.840,2, -999.000,9, -999.000,9, -999.000,9, 2230.700,2, 2255.500,2
           NA,   ICE11,    151,   1,-999.0,       6,  2,20110722,2022,  71.4532, -157.5769,   111,    3.800,    5.004,   31.333,2,   31.339,2,  332.500,2,  332.200,2,    2.740,2,    0.000,2,    0.000,2,    0.560,2, -999.000,9, -999.000,9, -999.000,9, 1999.700,2, 2174.300,2
           NA,   ICE11,    151,   1,-999.0,       5,  2,20110722,2022,  71.4532, -157.5769,   111,   10.200,    4.853,   31.844,2, -999.000,3,  334.100,2,  333.700,2,    2.640,2,    0.000,2,    0.000,2,    0.560,2, -999.000,9, -999.000,9, -999.000,9, 2002.500,2, 2193.300,2
           NA,   ICE11,    151,   1,-999.0,       4,  2,20110722,2022,  71.4532, -157.5769,   111,   25.600,    1.053,   32.133,2, -999.000,3,  410.800,2,  410.400,2,    4.300,2,    0.000,2,    0.000,2,    0.690,2, -999.000,9, -999.000,9, -999.000,9, 2020.900,2, 2223.200,2
           NA,   ICE11,    151,   1,-999.0,       3,  2,20110722,2022,  71.4532, -157.5769,   111,   42.800,   -1.432,   32.349,2,   32.352,2,  306.700,2,  306.600,2,   19.160,2,   10.800,2,    0.100,2,    1.800,2, -999.000,9, -999.000,9, -999.000,9, 2180.300,2, 2233.900,2
           NA,   ICE11,    151,   1,-999.0,       2,  2,20110722,2022,  71.4532, -157.5769,   111,   50.700,   -1.549,   32.374,2,   32.387,2,  288.600,2,  288.800,2,   31.780,2,   11.900,2,    0.090,2,    1.930,2, -999.000,9, -999.000,9, -999.000,9, 2198.200,2, 2237.300,2
           NA,   ICE11,    151,   1,-999.0,       1,  2,20110722,2022,  71.4532, -157.5769,   111,  107.300,   -1.259,   32.843,2,   32.848,2,  343.100,2,  343.400,2,   19.840,2,    8.710,2,    0.160,2,    1.590,2, -999.000,9, -999.000,9, -999.000,9, 2168.400,2, 2251.100,2
           NA,   ICE11,    152,   1,-999.0,       9,  2,20110722,2339,  71.2445, -157.1629,    46,    3.100,    6.655,   31.238,2,   31.245,2,  316.300,2,  316.300,2,    2.450,2,    0.000,2,    0.000,2,    0.460,2, -999.000,9, -999.000,9, -999.000,9, 1985.800,2, 2161.300,2
           NA,   ICE11,    152,   1,-999.0,       7,  2,20110722,2339,  71.2445, -157.1629,    46,   10.400,    6.168,   31.321,2, -999.000,3,  324.400,2,  324.300,2,    2.350,2,    0.000,2,    0.000,2,    0.540,2, -999.000,9, -999.000,9, -999.000,9, 2002.900,2, 2173.100,2
           NA,   ICE11,    152,   1,-999.0,       5,  2,20110722,2339,  71.2445, -157.1629,    46,   25.600,    5.170,   31.473,2,   31.477,2,  330.500,2,  330.500,2,    2.450,2,    0.000,2,    0.000,2,    0.620,2, -999.000,9, -999.000,9, -999.000,9, 2010.600,2, 2184.700,2
           NA,   ICE11,    152,   1,-999.0,       3,  2,20110722,2339,  71.2445, -157.1629,    46,   30.600,    5.178,   31.472,2,   31.476,2,  330.400,2,  330.200,2,    2.450,2,    0.000,2,    0.000,2,    0.610,2, -999.000,9, -999.000,9, -999.000,9, 2012.200,2, 2185.100,2
           NA,   ICE11,    152,   1,-999.0,       1,  2,20110722,2339,  71.2445, -157.1629,    46,   43.700,    5.155,   31.473,2,   31.477,2,  331.300,2,  331.200,2,    2.450,2,    0.010,2,    0.000,2,    0.610,2, -999.000,9, -999.000,9, -999.000,9, 2011.100,2, 2182.300,2
           NA,   ICE11,    153,   1,-999.0,       4,  2,20110723,0534,  71.2851, -157.2336,    55,    2.100,    6.709,   31.289,2, -999.000,3,  320.600,2,  320.500,2,    2.940,2,    0.090,2,    0.010,2,    0.580,2, -999.000,9, -999.000,9, -999.000,9, 2018.300,2, 2186.800,2
           NA,   ICE11,    153,   1,-999.0,       3,  2,20110723,0534,  71.2851, -157.2336,    55,   10.100,    5.226,   31.622,2, -999.000,3,  322.500,2,  322.500,2,    2.930,2,    0.100,2,    0.010,2,    0.610,2, -999.000,9, -999.000,9, -999.000,9, 2025.800,2, 2194.200,2
           NA,   ICE11,    153,   1,-999.0,       2,  2,20110723,0534,  71.2851, -157.2336,    55,   25.100,    5.204,   31.626,2, -999.000,3,  323.100,2,  323.100,2,    2.930,2,    0.100,2,    0.010,2,    0.610,2, -999.000,9, -999.000,9, -999.000,9, 2027.000,2, 2197.900,2
           NA,   ICE11,    153,   1,-999.0,       1,  2,20110723,0534,  71.2851, -157.2336,    55,   54.400,    5.150,   31.680,2, -999.000,3,  321.300,2,  321.300,2,    3.330,2,    0.160,2,    0.010,2,    0.610,2, -999.000,9, -999.000,9, -999.000,9, 2028.400,2, 2201.000,2
           NA,   ICE11,    154,   1,-999.0,      10,  2,20110723,0618,  71.3302, -157.3202,    88,    2.000,    6.412,   31.365,2, -999.000,3,  318.300,2,  317.800,2,    2.640,2,    0.080,2,    0.000,2,    0.470,2, -999.000,9, -999.000,9, -999.000,9, 1988.700,2, 2160.900,2
           NA,   ICE11,    154,   1,-999.0,       8,  2,20110723,0618,  71.3302, -157.3202,    88,   10.200,    6.099,   31.416,2, -999.000,3,  320.500,2,  322.100,2,    3.520,2,    0.100,2,    0.000,2,    0.560,2, -999.000,9, -999.000,9, -999.000,9, 2015.800,2, 2191.200,2
           NA,   ICE11,    154,   1,-999.0,       6,  2,20110723,0618,  71.3302, -157.3202,    88,   25.500,    4.280,   31.964,2, -999.000,3,  319.400,2,  318.200,2,    4.790,2,    0.240,2,    0.010,2,    0.680,2, -999.000,9, -999.000,9, -999.000,9, 2055.800,2, 2219.200,2
           NA,   ICE11,    154,   1,-999.0,       4,  2,20110723,0618,  71.3302, -157.3202,    88,   50.200,    2.851,   32.232,2, -999.000,3,  319.300,2,  320.300,2,    6.750,2,    0.680,2,    0.040,2,    0.790,2, -999.000,9, -999.000,9, -999.000,9, 2087.300,2, 2236.000,2
           NA,   ICE11,    154,   1,-999.0,       1,  2,20110723,0618,  71.3302, -157.3202,    88,   89.100,    2.471,   32.259,2, -999.000,3,  323.500,2,  323.100,2,    7.040,2,    0.790,2,    0.040,2,    0.800,2, -999.000,9, -999.000,9, -999.000,9, 2087.700,2, 2234.400,2
           NA,   ICE11,    155,   1,-999.0,       5,  2,20110723,0732,  71.3707, -157.4072,   109,    2.200,    5.081,   31.425,2, -999.000,3,  336.400,2,  336.900,2,    2.250,2,    0.000,2,    0.000,2,    0.400,2, -999.000,9, -999.000,9, -999.000,9, -999.000,1, -999.000,1
           NA,   ICE11,    155,   1,-999.0,       4,  2,20110723,0732,  71.3707, -157.4072,   109,   10.200,    4.083,   31.562,2, -999.000,3,  344.200,2,  345.600,2,    2.740,2,    0.030,2,    0.000,2,    0.410,2, -999.000,9, -999.000,9, -999.000,9, -999.000,1, -999.000,1
           NA,   ICE11,    155,   1,-999.0,       3,  2,20110723,0732,  71.3707, -157.4072,   109,   25.200,   -0.090,   32.362,2, -999.000,3,  371.000,2,  370.900,2,    7.820,2,    2.460,2,    0.070,2,    0.850,2, -999.000,9, -999.000,9, -999.000,9, -999.000,1, -999.000,1
           NA,   ICE11,    155,   1,-999.0,       2,  2,20110723,0732,  71.3707, -157.4072,   109,   50.700,   -0.238,   32.380,2, -999.000,3,  368.400,2,  368.000,2,    8.310,2,    2.530,2,    0.080,2,    0.900,2, -999.000,9, -999.000,9, -999.000,9, -999.000,1, -999.000,1
           NA,   ICE11,    155,   1,-999.0,       1,  2,20110723,0732,  71.3707, -157.4072,   109,  109.200,   -0.234,   32.380,2, -999.000,3,  367.900,2,  367.800,2,    8.210,2,    2.510,2,    0.080,2,    0.890,2, -999.000,9, -999.000,9, -999.000,9, -999.000,1, -999.000,1
           NA,   ICE11,    156,   1,-999.0,      10,  2,20110723,0820,  71.4138, -157.5028,   123,    2.200,    4.268,   32.258,2,   32.283,2,  346.400,2,  346.400,2,    3.320,2,    0.000,2,    0.000,2,    0.430,2, -999.000,9, -999.000,9, -999.000,9, 2020.800,2, 2223.000,2
           NA,   ICE11,    156,   1,-999.0,       7,  2,20110723,0820,  71.4138, -157.5028,   123,   25.500,    2.430,   32.491,2,   32.500,2,  372.900,2,  372.900,2,    4.300,2,    0.350,2,    0.000,2,    0.470,2, -999.000,9, -999.000,9, -999.000,9, 2038.100,2, 2234.800,2
           NA,   ICE11,    156,   1,-999.0,       5,  2,20110723,0820,  71.4138, -157.5028,   123,   51.000,   -0.110,   32.577,2,   32.592,2,  366.200,2,  366.000,2,    9.680,2,    3.180,2,    0.070,2,    0.840,2, -999.000,9, -999.000,9, -999.000,9, 2089.900,2, 2240.300,2
           NA,   ICE11,    156,   1,-999.0,       4,  2,20110723,0820,  71.4138, -157.5028,   123,  101.400,   -0.332,   32.656,2,   32.662,2,  368.700,2,  369.200,2,   11.530,2,    3.250,2,    0.090,2,    0.890,2, -999.000,9, -999.000,9, -999.000,9, 2103.400,2, 2248.900,2
           NA,   ICE11,    156,   1,-999.0,       1,  2,20110723,0820,  71.4138, -157.5028,   123,  121.600,   -0.324,   32.654,2,   32.660,2,  368.600,2,  368.500,2,   11.440,2,    3.210,2,    0.100,2,    0.880,2, -999.000,9, -999.000,9, -999.000,9, 2096.200,2, 2247.700,2
           NA,   ICE11,    157,   1,-999.0,       6,  2,20110723,1227,  70.9357, -159.3068,    34,    2.300,    7.121,   31.478,2,   31.489,2,  314.300,2,  314.300,2,    3.910,2,    0.000,2,    0.000,2,    0.510,2, -999.000,9, -999.000,9, -999.000,9, -999.000,1, -999.000,9
           NA,   ICE11,    157,   1,-999.0,       4,  2,20110723,1227,  70.9357, -159.3068,    34,   10.400,    7.117,   31.503,2, -999.000,3,  314.300,2,  314.100,2,    3.910,2,    0.000,2,    0.000,2,    0.530,2, -999.000,9, -999.000,9, -999.000,9, -999.000,1, -999.000,9
           NA,   ICE11,    157,   1,-999.0,       1,  2,20110723,1227,  70.9357, -159.3068,    34,   33.400,    6.917,   31.656,2,   31.659,2,  312.300,2,  312.300,2,    3.910,2,    0.000,2,    0.000,2,    0.550,2, -999.000,9, -999.000,9, -999.000,9, -999.000,1, -999.000,9
           NA,   ICE11,    158,   1,-999.0,       4,  2,20110723,1332,  70.9691, -159.3768,    52,    2.300,    7.220,   31.281,2, -999.000,3,  314.000,2,  314.000,2,    4.010,2,    0.000,2,    0.000,2,    0.490,2, -999.000,9, -999.000,9, -999.000,9, 1985.500,2, 2162.100,2
           NA,   ICE11,    158,   1,-999.0,       3,  2,20110723,1332,  70.9691, -159.3768,    52,   11.500,    6.006,   31.702,2,   31.681,2,  321.500,2,  321.500,2,    4.010,2,    0.000,2,    0.000,2,    0.560,2, -999.000,9, -999.000,9, -999.000,9, 2013.000,2, 2191.100,2
           NA,   ICE11,    158,   1,-999.0,       2,  2,20110723,1332,  70.9691, -159.3768,    52,   25.600,    6.166,   31.884,2,   31.895,2,  311.100,2,  311.000,2,    4.400,2,    0.010,2,    0.020,2,    0.620,2, -999.000,9, -999.000,9, -999.000,9, 2054.800,2, 2216.000,2
           NA,   ICE11,    158,   1,-999.0,       1,  2,20110723,1332,  70.9691, -159.3768,    52,   50.000,    6.125,   31.913,2,   31.911,2,  310.100,2,  310.000,2,    4.500,2,    0.170,2,    0.020,2,    0.630,2, -999.000,9, -999.000,9, -999.000,9, 2059.000,2, 2216.200,2
           NA,   ICE11,    159,   1,-999.0,       8,  2,20110723,1411,  71.0018, -159.4511,    64,    2.200,    7.253,   31.260,2,   31.269,2,  311.100,2,  310.200,2,    3.130,2,    0.000,2,    0.000,2,    0.470,2, -999.000,9, -999.000,9, -999.000,9, -999.000,1, -999.000,9
           NA,   ICE11,    159,   1,-999.0,       6,  2,20110723,1411,  71.0018, -159.4511,    64,   10.600,    7.016,   31.256,2, -999.000,3,  311.600,2,  319.900,2,    4.210,2,    0.230,2,    0.010,2,    0.580,2, -999.000,9, -999.000,9, -999.000,9, -999.000,1, -999.000,9
           NA,   ICE11,    159,   1,-999.0,       4,  2,20110723,1411,  71.0018, -159.4511,    64,   25.500,    0.946,   32.187,2,   32.191,2,  343.000,2,  339.900,2,    9.780,2,    1.560,2,    0.090,2,    0.930,2, -999.000,9, -999.000,9, -999.000,9, -999.000,1, -999.000,9
           NA,   ICE11,    159,   1,-999.0,       1,  2,20110723,1411,  71.0018, -159.4511,    64,   62.100,    0.938,   32.189,2,   32.194,2,  337.800,2,  338.000,2,    9.780,2,    1.660,2,    0.090,2,    0.940,2, -999.000,9, -999.000,9, -999.000,9, -999.000,1, -999.000,9
           NA,   ICE11,    160,   1,-999.0,       5,  2,20110723,1522,  71.0399, -159.5331,    84,    2.500,    6.997,   31.280,2,   31.288,2,  315.000,2,  312.000,2,    2.840,2,    0.020,2,    0.000,2,    0.430,2, -999.000,9, -999.000,9, -999.000,9, 1986.100,2, 2155.600,2
           NA,   ICE11,    160,   1,-999.0,       4,  2,20110723,1522,  71.0399, -159.5331,    84,   10.800,    6.500,   31.315,2, -999.000,3,  310.300,2,  319.000,2,    2.740,2,    0.000,2,    0.000,2,    0.450,2, -999.000,9, -999.000,9, -999.000,9, 1984.200,2, 2155.800,2
           NA,   ICE11,    160,   1,-999.0,       3,  2,20110723,1522,  71.0399, -159.5331,    84,   25.900,   -0.617,   32.362,2,   32.371,2,  396.300,2,  387.500,2,    8.700,2,    1.770,2,    0.080,2,    0.920,2, -999.000,9, -999.000,9, -999.000,9, 2103.000,2, 2223.500,2
           NA,   ICE11,    160,   1,-999.0,       2,  2,20110723,1522,  71.0399, -159.5331,    84,   50.800,   -0.692,   32.367,2,   32.372,2,  387.800,2,  387.800,2,    8.900,2,    1.740,2,    0.090,2,    0.940,2, -999.000,9, -999.000,9, -999.000,9, 2103.000,2, 2227.700,2
           NA,   ICE11,    160,   1,-999.0,       1,  2,20110723,1522,  71.0399, -159.5331,    84,   81.900,   -0.690,   32.367,2,   32.371,2,  385.000,2,  386.500,2,    9.290,2,    1.990,2,    0.090,2,    0.970,2, -999.000,9, -999.000,9, -999.000,9, 2101.700,2, 2233.800,2
           NA,   ICE11,    161,   1,-999.0,      10,  2,20110723,1609,  71.0733, -159.6034,    69,    3.100,    5.381,   31.102,2,   31.097,2,  326.700,2,  326.500,2,    1.960,2,    0.000,2,    0.000,2,    0.420,2, -999.000,9, -999.000,9, -999.000,9, -999.000,1, -999.000,9
           NA,   ICE11,    161,   1,-999.0,       8,  2,20110723,1609,  71.0733, -159.6034,    69,   10.300,    5.479,   31.175,2, -999.000,3,  324.500,2,  340.900,2,    2.350,2,    0.060,2,    0.000,2,    0.440,2, -999.000,9, -999.000,9, -999.000,9, -999.000,1, -999.000,9
           NA,   ICE11,    161,   1,-999.0,       6,  2,20110723,1609,  71.0733, -159.6034,    69,   25.200,   -0.153,   32.449,2,   32.447,2,  380.900,2,  378.300,2,    6.840,2,    2.760,2,    0.050,2,    0.860,2, -999.000,9, -999.000,9, -999.000,9, -999.000,1, -999.000,9
           NA,   ICE11,    161,   1,-999.0,       3,  2,20110723,1609,  71.0733, -159.6034,    69,   50.700,   -0.400,   32.450,2,   32.456,2,  372.100,2,  371.100,2,    8.700,2,    3.720,2,    0.070,2,    0.970,2, -999.000,9, -999.000,9, -999.000,9, -999.000,1, -999.000,9
           NA,   ICE11,    161,   1,-999.0,       1,  2,20110723,1609,  71.0733, -159.6034,    69,   69.500,   -0.419,   32.450,2,   32.455,2,  371.700,2,  370.700,2,    8.700,2,    3.800,2,    0.070,2,    0.980,2, -999.000,9, -999.000,9, -999.000,9, -999.000,1, -999.000,9
           NA,   ICE11,    162,   1,-999.0,       4,  2,20110723,1728,  71.1248, -159.6982,    59,    2.900,    4.973,   31.160,2,   31.190,2,  332.600,2,  332.600,2,    3.030,2,    0.030,2,    0.000,2,    0.430,2, -999.000,9, -999.000,9, -999.000,9, 1944.300,2, 2139.100,2
           NA,   ICE11,    162,   1,-999.0,       3,  2,20110723,1728,  71.1248, -159.6982,    59,   10.600,    1.842,   31.945,2,   31.949,2,  364.700,2,  400.000,2,   10.270,2,    0.110,2,    0.000,2,    0.440,2, -999.000,9, -999.000,9, -999.000,9, 1959.400,2, 2195.400,2
           NA,   ICE11,    162,   1,-999.0,       2,  2,20110723,1728,  71.1248, -159.6982,    59,   25.500,   -0.737,   32.674,2,   32.682,2,  345.500,2,  338.300,2,   14.660,2,    5.930,2,    0.130,2,    1.200,2, -999.000,9, -999.000,9, -999.000,9, 2149.500,2, 2250.300,2
           NA,   ICE11,    162,   1,-999.0,       1,  2,20110723,1728,  71.1248, -159.6982,    59,   57.700,   -0.855,   32.707,2,   32.710,2,  331.800,2,  331.900,2,   15.150,2,    6.230,2,    0.140,2,    1.230,2, -999.000,9, -999.000,9, -999.000,9, 2162.900,2, 2253.400,2