BOTTLE,20220919JOAExport
EXPOCODE,SECT_ID,STNNBR,CASTNO,SAMPNO,BTLNBR,BTLNBR_FLAG_W,DATE,TIME,LATITUDE,LONGITUDE,DEPTH,CTDPRS,CTDTMP,CTDSAL,CTDSAL_FLAG_W,SALNTY,SALNTY_FLAG_W,CTDOXY,CTDOXY_FLAG_W,OXYGEN,OXYGEN_FLAG_W,SILCAT,SILCAT_FLAG_W,NITRAT,NITRAT_FLAG_W,NITRIT,NITRIT_FLAG_W,PHSPHT,PHSPHT_FLAG_W,CFC-11,CFC-11_FLAG_W,CFC-12,CFC-12_FLAG_W,SF6,SF6_FLAG_W,TCARBN,TCARBN_FLAG_W,ALKALI,ALKALI_FLAG_W
,,,,,,,,,,,,DB,ITS-90,PSS-78,,PSS-78,,UMOL/KG,,UMOL/KG,,UMOL/KG,,UMOL/KG,,UMOL/KG,,UMOL/KG,,NA,,NA,,NA,,UMOL/KG,,UMOL/KG
           NA,   ICE11,    106,   1,-999.0,       5,  2,20110715,0949,  72.5970, -159.1730,    72,    2.200,   -0.967,   26.635,2,   27.865,2,  403.100,2,  402.700,2,    2.940,2,    0.020,2,    0.000,2,    0.610,2, -999.000,9, -999.000,9, -999.000,9, 1833.600,2, 1975.000,2
           NA,   ICE11,    106,   1,-999.0,       4,  2,20110715,0949,  72.5970, -159.1730,    72,   10.400,   -1.157,   28.212,2,   28.509,2,  412.800,2,  412.600,2,    2.940,2,    0.010,2,    0.000,2,    0.620,2, -999.000,9, -999.000,9, -999.000,9, 1875.400,2, 2015.500,2
           NA,   ICE11,    106,   1,-999.0,       3,  2,20110715,0949,  72.5970, -159.1730,    72,   25.700,   -1.133,   31.199,2, -999.000,1,  423.800,2,  393.200,2,    5.870,2,    0.280,2,    0.000,2,    0.860,2, -999.000,9, -999.000,9, -999.000,9, 2034.600,2, 2178.600,2
           NA,   ICE11,    106,   1,-999.0,       2,  2,20110715,0949,  72.5970, -159.1730,    72,   51.100,   -1.719,   32.346,2,   32.351,2,  292.800,2,  292.800,2,   40.380,2,   13.100,2,    0.100,2,    2.020,2, -999.000,9, -999.000,9, -999.000,9, 2185.600,2, 2232.500,2
           NA,   ICE11,    106,   1,-999.0,       1,  2,20110715,0949,  72.5970, -159.1730,    72,   71.500,   -1.717,   32.361,2,   32.362,2,  288.200,2,  288.100,2,   30.020,2,   12.190,2,    0.100,2,    2.050,2, -999.000,9, -999.000,9, -999.000,9, 2190.500,2, 2231.900,2
           NA,   ICE11,    107,   1,-999.0,       9,  2,20110715,1116,  72.5416, -159.2578,    51,    2.300,   -0.955,   25.388,2, -999.000,3,  410.700,2,  410.300,2,    3.050,2,    0.010,2,    0.000,2,    0.620,2, -999.000,9, -999.000,9, -999.000,9, 1845.500,2, 1984.900,2
           NA,   ICE11,    107,   1,-999.0,       7,  2,20110715,1116,  72.5416, -159.2578,    51,   10.400,   -1.114,   28.625,2, -999.000,3,  413.700,2,  413.600,2,    3.330,2,    0.000,2,    0.000,2,    0.650,2, -999.000,9, -999.000,9, -999.000,9, 1900.900,2, 2055.900,2
           NA,   ICE11,    107,   1,-999.0,       5,  2,20110715,1116,  72.5416, -159.2578,    51,   25.900,   -1.091,   30.947,2, -999.000,3,  397.600,2,  397.600,2,    4.890,2,    0.010,2,    0.000,2,    0.820,2, -999.000,9, -999.000,9, -999.000,9, 2020.900,2, 2165.200,2
           NA,   ICE11,    107,   1,-999.0,       3,  2,20110715,1116,  72.5416, -159.2578,    51,   36.400,   -1.412,   31.713,2, -999.000,3,  388.700,2,  405.500,2,    5.670,2,    0.330,2,    0.000,2,    0.900,2, -999.000,9, -999.000,9, -999.000,9, 2042.300,2, 2206.200,2
           NA,   ICE11,    107,   1,-999.0,       1,  2,20110715,1116,  72.5416, -159.2578,    51,   49.800,   -1.718,   32.351,2, -999.000,3,  307.100,2,  307.100,2,   30.800,2,   11.650,2,    0.080,2,    1.890,2, -999.000,9, -999.000,9, -999.000,9, 2163.400,2, 2235.800,2
           NA,   ICE11,    108,   1,-999.0,       5,  2,20110715,1300,  72.4177, -159.5066,    49,    2.500,   -0.779,   27.418,2, -999.000,3,  389.700,2,  397.700,2,    2.940,2,    0.020,2,    0.000,2,    0.610,2, -999.000,9, -999.000,9, -999.000,9, 1825.000,2, 1964.000,2
           NA,   ICE11,    108,   1,-999.0,       4,  2,20110715,1300,  72.4177, -159.5066,    49,   10.200,   -0.962,   29.581,2, -999.000,3,  391.300,2,  425.500,2,    3.230,2,    0.000,2,    0.000,2,    0.680,2, -999.000,9, -999.000,9, -999.000,9, 1932.700,2, 2096.700,2
           NA,   ICE11,    108,   1,-999.0,       3,  2,20110715,1300,  72.4177, -159.5066,    49,   25.600,   -1.210,   31.274,2,   31.294,2,  390.000,2,  418.000,2,    3.420,2,    0.000,2,    0.000,2,    0.770,2, -999.000,9, -999.000,9, -999.000,9, 2013.200,2, 2193.700,2
           NA,   ICE11,    108,   1,-999.0,       2,  2,20110715,1300,  72.4177, -159.5066,    49,   37.600,   -1.718,   32.409,2, -999.000,3,  360.800,2,  314.100,2,   30.900,2,   10.060,2,    0.090,2,    1.770,2, -999.000,9, -999.000,9, -999.000,9, 2159.000,2, 2235.000,2
           NA,   ICE11,    108,   1,-999.0,       1,  2,20110715,1300,  72.4177, -159.5066,    49,   46.500,   -1.719,   32.471,2,   32.459,2,  292.100,2,  294.700,2,   40.770,2,   10.720,2,    0.090,2,    1.900,2, -999.000,9, -999.000,9, -999.000,9, 2181.800,2, 2247.100,2
           NA,   ICE11,    109,   1,-999.0,       9,  2,20110715,1438,  72.2979, -159.7054,    47,    2.400,   -0.781,   28.490,2, -999.000,3,  377.300,2,  383.800,2,    2.940,2,    0.000,2,    0.000,2,    0.620,2, -999.000,9, -999.000,9, -999.000,9, 1832.300,2, 2000.400,2
           NA,   ICE11,    109,   1,-999.0,       7,  2,20110715,1438,  72.2979, -159.7054,    47,   10.800,   -0.715,   28.558,2, -999.000,3,  376.800,2,  400.700,2,    3.330,2,    0.000,2,    0.000,2,    0.650,2, -999.000,9, -999.000,9, -999.000,9, 1880.000,2, 2054.100,2
           NA,   ICE11,    109,   1,-999.0,       5,  2,20110715,1438,  72.2979, -159.7054,    47,   25.400,   -1.498,   31.752,2, -999.000,3,  403.100,2,  400.900,2,   10.660,2,    0.110,2,    0.000,2,    0.920,2, -999.000,9, -999.000,9, -999.000,9, 2076.300,2, 2212.400,2
           NA,   ICE11,    109,   1,-999.0,       3,  2,20110715,1438,  72.2979, -159.7054,    47,   31.200,   -1.696,   32.329,2,   32.325,2,  415.600,2,  358.700,2,   32.850,2,    8.290,2,    0.090,2,    1.600,2, -999.000,9, -999.000,9, -999.000,9, 2135.200,2, 2236.100,2
           NA,   ICE11,    109,   1,-999.0,       1,  2,20110715,1438,  72.2979, -159.7054,    47,   46.000,   -1.704,   32.583,2, -999.000,3,  264.600,2,  263.100,2,   48.000,2,   15.830,2,    0.160,2,    2.290,2, -999.000,9, -999.000,9, -999.000,9, 2218.000,2, 2243.900,2
           NA,   ICE11,    110,   1,-999.0,       4,  2,20110715,1616,  72.2657, -160.1639,    43,    2.300,   -0.454,   28.809,2,   28.817,2,  382.900,2,  382.500,2,    2.940,2,    0.010,2,    0.000,2,    0.620,2, -999.000,9, -999.000,9, -999.000,9, 1855.800,2,    0.000,5
           NA,   ICE11,    110,   1,-999.0,       3,  2,20110715,1616,  72.2657, -160.1639,    43,    9.900,   -0.449,   28.880,2, -999.000,3,  382.800,2,  385.700,2,    3.530,2,    0.010,2,    0.000,2,    0.620,2, -999.000,9, -999.000,9, -999.000,9, 1878.800,2, 2037.200,2
           NA,   ICE11,    110,   1,-999.0,       2,  2,20110715,1616,  72.2657, -160.1639,    43,   27.500,   -1.607,   32.487,2, -999.000,3,  514.400,2,  420.000,2,   35.490,2,    7.250,2,    0.140,2,    1.490,2, -999.000,9, -999.000,9, -999.000,9, 2109.400,2, 2233.600,2
           NA,   ICE11,    110,   1,-999.0,       1,  2,20110715,1616,  72.2657, -160.1639,    43,   41.300,   -1.724,   32.731,2,   32.730,2,  292.800,2,  292.800,2,   52.980,2,   17.990,2,    0.190,2,    2.330,2, -999.000,9, -999.000,9, -999.000,9, 2215.800,2, 2240.200,2
           NA,   ICE11,    111,   1,-999.0,      10,  2,20110715,1812,  72.2282, -160.5843,    40,    2.400,   -0.488,   28.941,2, -999.000,3,  411.100,2,  409.700,2,    4.020,2,    0.000,2,    0.000,2,    0.630,2, -999.000,9, -999.000,9, -999.000,9, 1940.700,2, 2144.100,2
           NA,   ICE11,    111,   1,-999.0,       8,  2,20110715,1812,  72.2282, -160.5843,    40,   10.600,   -0.436,   31.078,2, -999.000,3,  456.000,2,  437.900,2,    4.890,2,    0.000,2,    0.000,2,    0.680,2, -999.000,9, -999.000,9, -999.000,9, 1987.200,2, 2178.900,2
           NA,   ICE11,    111,   1,-999.0,       6,  2,20110715,1812,  72.2282, -160.5843,    40,   25.300,   -0.004,   31.567,2, -999.000,3,  464.600,2,  432.700,2,   14.970,2,    1.690,2,    0.030,2,    0.990,2, -999.000,9, -999.000,9, -999.000,9, 2051.100,2, 2216.200,2
           NA,   ICE11,    111,   1,-999.0,       3,  2,20110715,1812,  72.2282, -160.5843,    40,   33.000,   -1.655,   32.493,2, -999.000,3,  526.800,2,  320.600,2,   17.300,2,   11.680,2,    0.180,2,    1.720,2, -999.000,9, -999.000,9, -999.000,9, 2192.600,2, 2241.100,2
           NA,   ICE11,    111,   1,-999.0,       1,  2,20110715,1812,  72.2282, -160.5843,    40,   39.200,   -1.705,   32.694,2, -999.000,3,  304.000,2,  301.600,2,   45.940,2,   15.520,2,    0.200,2,    2.190,2, -999.000,9, -999.000,9, -999.000,9, 2213.000,2, 2242.100,2
           NA,   ICE11,    112,   1,-999.0,       4,  2,20110715,2004,  72.1977, -160.9803,    35,    2.800,   -0.367,   29.074,2, -999.000,3,  370.800,2,  383.600,2,    2.740,2,    0.000,2,    0.000,2,    0.590,2, -999.000,9, -999.000,9, -999.000,9, 1873.200,2, 2044.600,2
           NA,   ICE11,    112,   1,-999.0,       3,  2,20110715,2004,  72.1977, -160.9803,    35,   10.500,   -0.962,   30.726,2, -999.000,3,  483.700,2,  441.800,2,    3.920,2,    0.010,2,    0.000,2,    0.670,2, -999.000,9, -999.000,9, -999.000,9, 1968.000,2, 2158.900,2
           NA,   ICE11,    112,   1,-999.0,       2,  2,20110715,2004,  72.1977, -160.9803,    35,   25.300,   -1.392,   31.866,2, -999.000,3,  448.600,2,  387.400,2,   19.270,2,    0.300,2,    0.000,2,    1.050,2, -999.000,9, -999.000,9, -999.000,9, 2099.900,2, 2220.700,2
           NA,   ICE11,    112,   1,-999.0,       1,  2,20110715,2004,  72.1977, -160.9803,    35,   34.300,   -1.527,   32.340,2,   32.314,2,  368.900,2,  378.100,2,    6.940,2,    4.620,2,    0.110,2,    1.420,2, -999.000,9, -999.000,9, -999.000,9, 2151.500,2, 2244.300,2
           NA,   ICE11,    113,   1,-999.0,       9,  2,20110715,2237,  72.1552, -161.4405,    31,    2.900,    0.417,   29.673,2,   29.697,2,  365.500,2,  364.400,2,    2.450,2,    0.000,2,    0.000,2,    0.540,2, -999.000,9, -999.000,9, -999.000,9, 1887.300,2, 2072.900,2
           NA,   ICE11,    113,   1,-999.0,       7,  2,20110715,2237,  72.1552, -161.4405,    31,   10.600,    0.391,   29.674,2, -999.000,3,  365.700,2,  369.400,2,    2.650,2,    0.000,2,    0.000,2,    0.530,2, -999.000,9, -999.000,9, -999.000,9, 1899.800,2, 2087.100,2
           NA,   ICE11,    113,   1,-999.0,       4,  2,20110715,2237,  72.1552, -161.4405,    31,   25.500,    0.627,   31.829,2, -999.000,3,  393.900,2,  397.900,2,    4.990,2,    0.170,2,    0.000,2,    0.580,2, -999.000,9, -999.000,9, -999.000,9, 1983.700,2, 2205.300,2
           NA,   ICE11,    113,   1,-999.0,       1,  2,20110715,2237,  72.1552, -161.4405,    31,   30.700,   -1.569,   32.313,2,   32.281,2,  307.100,2,  307.300,2,    5.380,2,    7.010,2,    0.130,2,    1.560,2, -999.000,9, -999.000,9, -999.000,9, 2197.200,2, 2247.100,2
           NA,   ICE11,    114,   1,-999.0,       3,  2,20110716,0348,  72.1297, -161.8733,    27,    2.600,    1.227,   30.267,2,   30.274,2,  364.900,2,  364.600,2,    2.740,2,    0.000,2,    0.000,2,    0.540,2, -999.000,9, -999.000,9, -999.000,9, 1909.400,2, 2103.400,2
           NA,   ICE11,    114,   1,-999.0,       2,  2,20110716,0348,  72.1297, -161.8733,    27,   10.000,    1.233,   30.275,2, -999.000,3,  364.900,2,  367.300,2,    2.840,2,    0.000,2,    0.000,2,    0.580,2, -999.000,9, -999.000,9, -999.000,9, 1913.100,2, 2116.800,2
           NA,   ICE11,    114,   1,-999.0,       1,  2,20110716,0348,  72.1297, -161.8733,    27,   28.000,   -1.360,   32.381,2, -999.000,3,  390.300,2,  390.300,2,    4.690,2,    0.030,2,    0.010,2,    0.900,2, -999.000,9, -999.000,9, -999.000,9, 2059.900,2, 2202.200,2
           NA,   ICE11,    115,   1,-999.0,       5,  2,20110716,0445,  72.1092, -162.1509,    26,    2.200,    1.443,   30.745,2,   30.751,2,  361.800,2,  361.400,2,    3.030,2,    0.000,2,    0.000,2,    0.510,2, -999.000,9, -999.000,9, -999.000,9, 1923.800,2, 2132.200,2
           NA,   ICE11,    115,   1,-999.0,       3,  2,20110716,0445,  72.1092, -162.1509,    26,   10.500,    1.439,   30.742,2, -999.000,3,  361.600,2,  364.600,2,    3.130,2,    0.010,2,    0.000,2,    0.520,2, -999.000,9, -999.000,9, -999.000,9, 1924.400,2, 2138.000,2
           NA,   ICE11,    115,   1,-999.0,       1,  2,20110716,0445,  72.1092, -162.1509,    26,   27.000,   -1.157,   32.338,2, -999.000,3,  371.800,2,  371.800,2,    9.390,2,    1.870,2,    0.050,2,    0.860,2, -999.000,9, -999.000,9, -999.000,9, 2023.500,2, 2201.300,2
           NA,   ICE11,    116,   1,-999.0,       3,  2,20110716,0602,  72.0566, -161.7347,    28,    3.100,    1.521,   30.516,2,   30.519,2,  361.000,2,  360.300,2,    2.740,2,    0.000,2,    0.000,2,    0.550,2, -999.000,9, -999.000,9, -999.000,9, 1908.400,2, 2117.700,2
           NA,   ICE11,    116,   1,-999.0,       2,  2,20110716,0602,  72.0566, -161.7347,    28,   10.000,    1.467,   30.530,2, -999.000,3,  360.400,2,  365.500,2,    3.130,2,    0.030,2,    0.000,2,    0.570,2, -999.000,9, -999.000,9, -999.000,9, 1927.900,2, 2131.300,2
           NA,   ICE11,    116,   1,-999.0,       1,  2,20110716,0602,  72.0566, -161.7347,    28,   28.500,   -1.536,   32.231,2, -999.000,3,  343.300,2,  343.300,2,    8.900,2,    2.790,2,    0.090,2,    1.290,2, -999.000,9, -999.000,9, -999.000,9, 2118.700,2, 2225.300,2
           NA,   ICE11,    117,   1,-999.0,       7,  2,20110716,0746,  71.9958, -161.2881,    33,    2.300,    1.099,   30.149,2,   30.156,2,  369.900,2,  369.300,2,    2.640,2,    0.000,2,    0.000,2,    0.590,2, -999.000,9, -999.000,9, -999.000,9, 1905.000,2, 2101.400,2
           NA,   ICE11,    117,   1,-999.0,       5,  2,20110716,0746,  71.9958, -161.2881,    33,   10.600,    1.093,   30.149,2, -999.000,3,  367.800,2,  371.500,2,    2.840,2,    0.020,2,    0.000,2,    0.600,2, -999.000,9, -999.000,9, -999.000,9, 1917.400,2, 2106.500,2
           NA,   ICE11,    117,   1,-999.0,       3,  2,20110716,0746,  71.9958, -161.2881,    33,   20.600,   -1.255,   31.385,2, -999.000,3,  406.700,2,  357.200,2,    9.300,2,    3.800,2,    0.070,2,    1.320,2, -999.000,9, -999.000,9, -999.000,9, 2123.200,2, 2235.800,2
           NA,   ICE11,    117,   1,-999.0,       1,  2,20110716,0746,  71.9958, -161.2881,    33,   32.700,   -1.581,   32.410,2, -999.000,3,  323.700,2,  323.600,2,    8.800,2,    6.520,2,    0.120,2,    1.600,2, -999.000,9, -999.000,9, -999.000,9, 2170.200,2, 2246.100,2
           NA,   ICE11,    118,   1,-999.0,       4,  2,20110716,0902,  71.9554, -160.9226,    36,    3.500,    1.134,   30.362,2,   30.370,2,  372.600,2,  373.500,2,    2.840,2,    0.000,2,    0.000,2,    0.590,2, -999.000,9, -999.000,9, -999.000,9, 1918.600,2, 2116.200,2
           NA,   ICE11,    118,   1,-999.0,       3,  2,20110716,0902,  71.9554, -160.9226,    36,   10.700,    1.131,   30.362,2,   30.396,2,  372.100,2,  374.100,2,    2.940,2,    0.000,2,    0.000,2,    0.590,2, -999.000,9, -999.000,9, -999.000,9, 1930.900,2, 2120.000,2
           NA,   ICE11,    118,   1,-999.0,       2,  2,20110716,0902,  71.9554, -160.9226,    36,   25.900,   -1.287,   32.181,2, -999.000,3,  413.600,2,  408.100,2,   21.810,2,    2.190,2,    0.020,2,    1.040,2, -999.000,9, -999.000,9, -999.000,9, 2092.800,2, 2239.500,2
           NA,   ICE11,    118,   1,-999.0,       1,  2,20110716,0902,  71.9554, -160.9226,    36,   35.500,   -1.619,   32.444,2, -999.000,3,  331.300,2,  331.100,2,   25.030,2,    8.410,2,    0.080,2,    1.630,2, -999.000,9, -999.000,9, -999.000,9, 2160.200,2, 2244.000,2
           NA,   ICE11,    119,   1,-999.0,       7,  2,20110716,1018,  71.9067, -160.4978,    40,    3.100,    1.239,   30.851,2,   30.860,2,  380.000,2,  379.900,2,    2.940,2,    0.000,2,    0.000,2,    0.640,2, -999.000,9, -999.000,9, -999.000,9,    0.000,5, 2152.800,2
           NA,   ICE11,    119,   1,-999.0,       5,  2,20110716,1018,  71.9067, -160.4978,    40,   10.500,    1.251,   30.865,2,   30.880,2,  383.000,2,  382.900,2,    3.030,2,    0.000,2,    0.000,2,    0.630,2, -999.000,9, -999.000,9, -999.000,9, 1964.200,2, 2156.800,2
           NA,   ICE11,    119,   1,-999.0,       3,  2,20110716,1018,  71.9067, -160.4978,    40,   25.600,   -1.056,   31.554,2, -999.000,3,  436.100,2,  436.100,2,    6.160,2,    0.030,2,    0.000,2,    0.810,2, -999.000,9, -999.000,9, -999.000,9, 2023.800,2, 2211.100,2
           NA,   ICE11,    119,   1,-999.0,       1,  2,20110716,1018,  71.9067, -160.4978,    40,   39.200,   -1.328,   32.197,2, -999.000,3,  376.800,2,  376.800,2,    4.890,2,    2.270,2,    0.040,2,    1.140,2, -999.000,9, -999.000,9, -999.000,9, 2102.100,2, 2230.300,2
           NA,   ICE11,    120,   1,-999.0,       5,  2,20110716,1139,  71.8589, -160.0948,    44,    2.600,    0.478,   30.146,2,   30.152,2,  393.100,2,  392.400,2,    2.840,2,    0.000,2,    0.000,2,    0.640,2, -999.000,9, -999.000,9, -999.000,9, 1956.500,2, 2119.300,2
           NA,   ICE11,    120,   1,-999.0,       4,  2,20110716,1139,  71.8589, -160.0948,    44,   10.600,    0.988,   30.770,2, -999.000,3,  389.900,2,  391.700,2,    3.820,2,    0.000,2,    0.000,2,    0.680,2, -999.000,9, -999.000,9, -999.000,9, 1989.600,2, 2158.800,2
           NA,   ICE11,    120,   1,-999.0,       3,  2,20110716,1139,  71.8589, -160.0948,    44,   16.100,   -1.509,   31.594,2, -999.000,3,  392.300,2,  395.200,2,    9.000,2,    0.040,2,    0.010,2,    0.920,2, -999.000,9, -999.000,9, -999.000,9, 2083.200,2, 2211.900,2
           NA,   ICE11,    120,   1,-999.0,       2,  2,20110716,1139,  71.8589, -160.0948,    44,   25.100,   -1.666,   32.111,2,   32.187,2,  354.900,2,  320.400,2,   23.760,2,    9.130,2,    0.080,2,    1.600,2, -999.000,9, -999.000,9, -999.000,9, 2170.000,2, 2228.700,2
           NA,   ICE11,    120,   1,-999.0,       1,  2,20110716,1139,  71.8589, -160.0948,    44,   41.900,   -1.600,   32.434,2,   32.428,2,  299.500,2,  299.400,2,   25.030,2,    9.780,2,    0.100,2,    1.880,2, -999.000,9, -999.000,9, -999.000,9, 2201.000,2, 2247.100,2
           NA,   ICE11,    121,   1,-999.0,       9,  2,20110716,1307,  71.8049, -159.7224,    49,    2.900,    0.680,   29.543,2,   29.544,2,  388.000,2,  385.700,2,    2.550,2,    0.010,2,    0.000,2,    0.600,2, -999.000,9, -999.000,9, -999.000,9, 1923.200,2, 2081.000,2
           NA,   ICE11,    121,   1,-999.0,       7,  2,20110716,1307,  71.8049, -159.7224,    49,   10.800,    0.623,   29.535,2, -999.000,3,  387.800,2,  388.100,2,    2.550,2,    0.000,2,    0.000,2,    0.600,2, -999.000,9, -999.000,9, -999.000,9, 1929.000,2, 2084.000,2
           NA,   ICE11,    121,   1,-999.0,       5,  2,20110716,1307,  71.8049, -159.7224,    49,   26.000,   -1.215,   30.864,2,   30.840,2,  418.500,2,  408.300,2,    4.800,2,    0.000,2,    0.000,2,    0.770,2, -999.000,9, -999.000,9, -999.000,9, 2030.300,2, 2170.900,2
           NA,   ICE11,    121,   1,-999.0,       3,  2,20110716,1307,  71.8049, -159.7224,    49,   32.800,   -1.189,   31.557,2, -999.000,3,  416.000,2,  434.400,2,    6.950,2,    0.000,2,    0.000,2,    0.790,2, -999.000,9, -999.000,9, -999.000,9, 2038.800,2, 2203.200,2
           NA,   ICE11,    121,   1,-999.0,       1,  2,20110716,1307,  71.8049, -159.7224,    49,   47.500,   -1.628,   32.423,2,   32.411,2,  292.900,2,  293.000,2,   29.230,2,   11.260,2,    0.120,2,    2.060,2, -999.000,9, -999.000,9, -999.000,9, 2213.900,2, 2245.600,2