BOTTLE,20220919JOAExport
EXPOCODE,SECT_ID,STNNBR,CASTNO,SAMPNO,BTLNBR,BTLNBR_FLAG_W,DATE,TIME,LATITUDE,LONGITUDE,DEPTH,CTDPRS,CTDTMP,CTDSAL,CTDSAL_FLAG_W,SALNTY,SALNTY_FLAG_W,CTDOXY,CTDOXY_FLAG_W,OXYGEN,OXYGEN_FLAG_W,SILCAT,SILCAT_FLAG_W,NITRAT,NITRAT_FLAG_W,NITRIT,NITRIT_FLAG_W,PHSPHT,PHSPHT_FLAG_W,CFC-11,CFC-11_FLAG_W,CFC-12,CFC-12_FLAG_W,SF6,SF6_FLAG_W,TCARBN,TCARBN_FLAG_W,ALKALI,ALKALI_FLAG_W
,,,,,,,,,,,,DB,ITS-90,PSS-78,,PSS-78,,UMOL/KG,,UMOL/KG,,UMOL/KG,,UMOL/KG,,UMOL/KG,,UMOL/KG,,NA,,NA,,NA,,UMOL/KG,,UMOL/KG
           NA,   ICE11,     20,   1,-999.0,       9,  2,20110630,2329,  67.6751, -168.9502,    49,    3.000,    4.341,   32.091,2,   32.094,2,  351.700,2,  351.800,2,   11.440,2,    1.820,2,    0.040,2,    0.620,2, -999.000,9, -999.000,9, -999.000,9, 1995.100,2, 2195.500,2
           NA,   ICE11,     20,   1,-999.0,       7,  2,20110630,2329,  67.6751, -168.9502,    49,    9.500,    4.164,   32.101,2,   32.100,2,  351.100,2,  350.600,2,   11.440,2,    1.910,2,    0.050,2,    0.640,2, -999.000,9, -999.000,9, -999.000,9, 1992.000,2, 2192.900,2
           NA,   ICE11,     20,   1,-999.0,       5,  2,20110630,2329,  67.6751, -168.9502,    49,   30.200,    2.585,   32.345,2,   32.336,2,  317.500,2,  317.400,2,   24.840,2,    8.900,2,    0.140,2,    1.320,2, -999.000,9, -999.000,9, -999.000,9, 2066.600,2, 2203.700,2
           NA,   ICE11,     20,   1,-999.0,       3,  2,20110630,2329,  67.6751, -168.9502,    49,   43.000,    2.897,   32.571,2,   32.574,2,  374.500,2,  374.700,2,   13.590,2,    8.290,2,    0.090,2,    1.010,2, -999.000,9, -999.000,9, -999.000,9, 2045.100,2, 2222.500,2
           NA,   ICE11,     20,   1,-999.0,       1,  2,20110630,2329,  67.6751, -168.9502,    49,   48.000,    2.771,   32.582,2,   32.578,2,  311.400,2,  314.500,2,   29.620,2,   12.990,2,    0.180,2,    1.590,2, -999.000,9, -999.000,9, -999.000,9, 2090.800,2, 2216.600,2
           NA,   ICE11,     21,   1,-999.0,       9,  2,20110701,0832,  68.1204, -167.5075,    49,    2.800,    7.017,   28.200,2,   28.203,2,  326.500,2,  325.800,2,    6.180,2,    0.020,2,    0.000,2,    0.430,2, -999.000,9, -999.000,9, -999.000,9, 1883.600,2, 2044.200,2
           NA,   ICE11,     21,   1,-999.0,       7,  2,20110701,0832,  68.1204, -167.5075,    49,   10.700,    6.824,   28.622,2, -999.000,3,  328.100,2, -999.000,3,    6.180,2,    0.010,2,    0.000,2,    0.440,2, -999.000,9, -999.000,9, -999.000,9, 1887.600,2, 2058.900,2
           NA,   ICE11,     21,   1,-999.0,       5,  2,20110701,0832,  68.1204, -167.5075,    49,   19.400,    1.290,   32.103,2,   32.113,2,  371.100,2,  366.300,2,    6.260,2,    1.580,2,    0.040,2,    0.750,2, -999.000,9, -999.000,9, -999.000,9, 2015.600,2, 2200.000,2
           NA,   ICE11,     21,   1,-999.0,       3,  2,20110701,0832,  68.1204, -167.5075,    49,   25.600,    1.042,   32.098,2,   32.097,2,  373.600,2,  373.300,2,    5.180,2,    0.850,2,    0.030,2,    0.790,2, -999.000,9, -999.000,9, -999.000,9, 2030.800,2, 2201.900,2
           NA,   ICE11,     21,   1,-999.0,       1,  2,20110701,0832,  68.1204, -167.5075,    49,   47.800,    1.002,   32.097,2,   32.096,2,  373.100,2,  372.200,2,    5.380,2,    1.030,2,    0.030,2,    0.810,2, -999.000,9, -999.000,9, -999.000,9, 2035.300,2, 2205.400,2
           NA,   ICE11,     22,   1,-999.0,       7,  2,20110701,0943,  68.1879, -167.3249,    46,    2.300,    7.463,   27.791,2,   27.793,2,  319.800,2,  319.800,2,    6.180,2,    0.000,2,    0.000,2,    0.410,2, -999.000,9, -999.000,9, -999.000,9, 1864.400,2, 2023.900,2
           NA,   ICE11,     22,   1,-999.0,       5,  2,20110701,0943,  68.1879, -167.3249,    46,   10.000,    6.341,   30.076,2, -999.000,3,  323.700,2,  345.800,2,    6.270,2,    0.020,2,    0.000,2,    0.560,2, -999.000,9, -999.000,9, -999.000,9, 1947.200,2, 2124.200,2
           NA,   ICE11,     22,   1,-999.0,       3,  2,20110701,0943,  68.1879, -167.3249,    46,   25.200,    2.020,   31.949,2,   31.973,2,  377.400,2,  377.400,2,    6.850,2,    0.290,2,    0.020,2,    0.770,2, -999.000,9, -999.000,9, -999.000,9, 2027.300,2, 2203.700,2
           NA,   ICE11,     22,   1,-999.0,       1,  2,20110701,0943,  68.1879, -167.3249,    46,   45.600,    1.073,   32.079,2,   32.075,2,  379.500,2,  379.500,2,    5.670,2,    0.540,2,    0.030,2,    0.780,2, -999.000,9, -999.000,9, -999.000,9, 2044.400,2, 2205.100,2
           NA,   ICE11,     23,   1,-999.0,       7,  2,20110701,1050,  68.2484, -167.1217,    41,    2.100,    6.045,   28.600,2,   28.692,2,  335.100,2,  335.100,2,    5.780,2,    0.000,2,    0.000,2,    0.450,2, -999.000,9, -999.000,9, -999.000,9, 1886.000,2, 2063.900,2
           NA,   ICE11,     23,   1,-999.0,       5,  2,20110701,1050,  68.2484, -167.1217,    41,   10.200,    3.260,   30.820,2, -999.000,3,  338.900,2, -999.000,3,    6.750,2,    0.040,2,    0.000,2,    0.610,2, -999.000,9, -999.000,9, -999.000,9, 1984.300,2, 2164.500,2
           NA,   ICE11,     23,   1,-999.0,       3,  2,20110701,1050,  68.2484, -167.1217,    41,   25.000,    3.421,   31.796,2,   31.816,2,  371.600,2,  372.100,2,    6.750,2,    0.100,2,    0.010,2,    0.670,2, -999.000,9, -999.000,9, -999.000,9, 2006.800,2, 2196.900,2
           NA,   ICE11,     23,   1,-999.0,       1,  2,20110701,1050,  68.2484, -167.1217,    41,   40.700,    2.730,   31.964,2,   31.943,2,  375.100,2,  375.000,2,    7.040,2,    0.180,2,    0.010,2,    0.710,2, -999.000,9, -999.000,9, -999.000,9, 2015.900,2, 2198.100,2
           NA,   ICE11,     24,   1,-999.0,       8,  2,20110701,1156,  68.3074, -166.9287,    33,    2.300,    4.711,   29.528,2,   29.523,2,  349.300,2,  349.300,2,    5.590,2,    0.060,2,    0.010,2,    0.540,2, -999.000,9, -999.000,9, -999.000,9, 1896.400,2, 2076.200,2
           NA,   ICE11,     24,   1,-999.0,       6,  2,20110701,1156,  68.3074, -166.9287,    33,   11.600,    4.659,   29.500,2, -999.000,3,  349.300,2,  349.500,2,    5.590,2,    0.060,2,    0.020,2,    0.540,2, -999.000,9, -999.000,9, -999.000,9, 1900.300,2, 2077.400,2
           NA,   ICE11,     24,   1,-999.0,       3,  2,20110701,1156,  68.3074, -166.9287,    33,   27.600,    2.680,   31.005,2,   31.002,2,  384.500,2,  384.900,2,    6.070,2,    0.050,2,    0.000,2,    0.590,2, -999.000,9, -999.000,9, -999.000,9, 1959.800,2, 2162.700,2
           NA,   ICE11,     24,   1,-999.0,       1,  2,20110701,1156,  68.3074, -166.9287,    33,   31.200,    2.765,   31.206,2, -999.000,3,  382.300,2,  382.700,2,    6.460,2,    0.080,2,    0.000,2,    0.600,2, -999.000,9, -999.000,9, -999.000,9, 1977.800,2, 2167.400,2
           NA,   ICE11,     25,   1,-999.0,       8,  2,20110701,2317,  69.8988, -166.1925,    43,    4.300,    5.438,   29.628,2,   29.634,2,  330.900,2,  331.100,2,    4.020,2,    0.000,2,    0.000,2,    0.370,2, -999.000,9, -999.000,9, -999.000,9, 1861.300,2, 2052.500,2
           NA,   ICE11,     25,   1,-999.0,       6,  2,20110701,2317,  69.8988, -166.1925,    43,   10.400,    4.651,   30.041,2, -999.000,3,  333.100,2,  401.000,2,    4.600,2,    0.500,2,    0.010,2,    0.560,2, -999.000,9, -999.000,9, -999.000,9, 1958.800,2, 2147.700,2
           NA,   ICE11,     25,   1,-999.0,       3,  2,20110701,2317,  69.8988, -166.1925,    43,   25.600,   -0.911,   32.338,2,   32.339,2,  419.700,2,  420.000,2,    3.910,2,    1.870,2,    0.060,2,    0.830,2, -999.000,9, -999.000,9, -999.000,9, 2064.500,2, 2227.900,2
           NA,   ICE11,     25,   1,-999.0,       1,  2,20110701,2317,  69.8988, -166.1925,    43,   42.400,   -1.096,   32.396,2,   32.388,2,  398.800,2,  398.300,2,    6.940,2,    3.180,2,    0.090,2,    1.000,2, -999.000,9, -999.000,9, -999.000,9, 2076.700,2, 2235.000,2
           NA,   ICE11,     26,   1,-999.0,       5,  2,20110702,1130,  70.4537, -161.6522,    22,    2.200,    2.499,   29.288,2, -999.000,3,  354.300,2,  354.200,2,    3.140,2,    0.090,2,    0.010,2,    0.460,2, -999.000,9, -999.000,9, -999.000,9, 1854.200,2, 2053.500,2
           NA,   ICE11,     26,   1,-999.0,       3,  2,20110702,1130,  70.4537, -161.6522,    22,   10.300,    0.880,   31.842,2, -999.000,3,  355.600,2,  355.700,2,    5.970,2,    0.830,2,    0.040,2,    0.670,2, -999.000,9, -999.000,9, -999.000,9, 2064.200,2, 2239.200,2
           NA,   ICE11,     26,   1,-999.0,       1,  2,20110702,1130,  70.4537, -161.6522,    22,   20.300,    1.134,   32.848,2, -999.000,3,  344.800,2,  344.400,2,    4.200,2,    0.200,2,    0.020,2,    0.660,2, -999.000,9, -999.000,9, -999.000,9, 2088.400,2, 2281.600,2
           NA,   ICE11,     27,   1,-999.0,       3,  2,20110702,1244,  70.5429, -161.6568,    27,    2.000,    2.931,   29.583,2, -999.000,3,  359.700,2,  359.700,2,    2.740,2,    0.000,2,    0.000,2,    0.500,2, -999.000,9, -999.000,9, -999.000,9, 1951.800,2, 2141.900,2
           NA,   ICE11,     27,   1,-999.0,       2,  2,20110702,1244,  70.5429, -161.6568,    27,   11.100,    2.257,   31.891,2, -999.000,3, -999.000,9, -999.000,5,    3.130,2,    0.070,2,    0.000,2,    0.600,2, -999.000,9, -999.000,9, -999.000,9, 2023.800,2, 2230.700,2
           NA,   ICE11,     27,   1,-999.0,       1,  2,20110702,1244,  70.5429, -161.6568,    27,   25.100,    0.966,   32.766,2, -999.000,3,  349.000,2,  349.000,2,    4.690,2,    0.150,2,    0.030,2,    0.700,2, -999.000,9, -999.000,9, -999.000,9, 2087.700,2, 2271.100,2
           NA,   ICE11,     28,   1,-999.0,       7,  2,20110702,1349,  70.6388, -161.6881,    40,    2.000,    2.460,   29.944,2,   29.972,2,  366.900,2,  359.400,2,    2.450,2,    0.010,2,    0.000,2,    0.470,2, -999.000,9, -999.000,9, -999.000,9, 1909.100,2, 2100.000,2
           NA,   ICE11,     28,   1,-999.0,       5,  2,20110702,1349,  70.6388, -161.6881,    40,   12.000,    2.015,   31.965,2,   32.046,2,  374.900,2,  388.600,2,    2.440,2,    0.070,2,    0.000,2,    0.550,2, -999.000,9, -999.000,9, -999.000,9, 2010.300,2, 2234.000,2
           NA,   ICE11,     28,   1,-999.0,       3,  2,20110702,1349,  70.6388, -161.6881,    40,   26.100,    0.201,   32.582,2,   32.624,2,  350.700,2,  349.700,2,    7.330,2,    2.230,2,    0.060,2,    0.910,2, -999.000,9, -999.000,9, -999.000,9, 2119.200,2, 2265.700,2
           NA,   ICE11,     28,   1,-999.0,       1,  2,20110702,1349,  70.6388, -161.6881,    40,   36.700,    0.288,   32.684,2,   32.656,2, -999.000,9, -999.000,5,    7.330,2,    2.030,2,    0.070,2,    0.930,2, -999.000,9, -999.000,9, -999.000,9, 2115.900,2, 2269.900,2
           NA,   ICE11,     29,   1,-999.0,       4,  2,20110702,1453,  70.7257, -161.7022,    40,    2.300,    4.067,   31.859,2,   31.867,2,  338.600,2,  338.400,2,    2.350,2,    0.000,2,    0.000,2,    0.480,2, -999.000,9, -999.000,9, -999.000,9, 2010.700,2, 2191.300,2
           NA,   ICE11,     29,   1,-999.0,       3,  2,20110702,1453,  70.7257, -161.7022,    40,   10.300,    3.904,   31.934,2, -999.000,3,  337.600,2, -999.000,3,    2.350,2,    0.240,2,    0.000,2,    0.530,2, -999.000,9, -999.000,9, -999.000,9, 2024.600,2, 2215.800,2
           NA,   ICE11,     29,   1,-999.0,       2,  2,20110702,1453,  70.7257, -161.7022,    40,   26.800,   -0.935,   32.729,2,   32.731,2,  329.300,2,  329.700,2,   15.150,2,    9.080,2,    0.110,2,    1.230,2, -999.000,9, -999.000,9, -999.000,9, 2190.900,2, 2257.100,2
           NA,   ICE11,     29,   1,-999.0,       1,  2,20110702,1453,  70.7257, -161.7022,    40,   38.300,   -0.976,   32.733,2,   32.731,2,  329.700,2,  329.800,2,   15.050,2,    8.920,2,    0.120,2,    1.220,2, -999.000,9, -999.000,9, -999.000,9, 2181.300,2, 2258.700,2
           NA,   ICE11,     30,   1,-999.0,       7,  2,20110702,2037,  70.8147, -161.7104,    43,    3.300,    3.821,   32.078,2,   32.080,2,  343.900,2,  342.800,2,    2.050,2,    0.000,2,    0.000,2,    0.470,2, -999.000,9, -999.000,9, -999.000,9, 2000.600,2, 2203.700,2
           NA,   ICE11,     30,   1,-999.0,       5,  2,20110702,2037,  70.8147, -161.7104,    43,   10.700,    3.806,   32.077,2, -999.000,3,  346.100,2,  347.200,2,    2.050,2,    0.040,2,    0.000,2,    0.470,2, -999.000,9, -999.000,9, -999.000,9, 1999.900,2, 2206.900,2
           NA,   ICE11,     30,   1,-999.0,       3,  2,20110702,2037,  70.8147, -161.7104,    43,   25.900,   -0.089,   32.827,2,   32.835,2,  366.200,2,  366.400,2,    9.090,2,    4.320,2,    0.060,2,    0.890,2, -999.000,9, -999.000,9, -999.000,9, 2102.100,2, 2265.900,2
           NA,   ICE11,     30,   1,-999.0,       1,  2,20110702,2037,  70.8147, -161.7104,    43,   40.600,    0.375,   32.930,2,   32.919,2,  355.400,2,  355.300,2,    7.430,2,    3.050,2,    0.050,2,    0.820,2, -999.000,9, -999.000,9, -999.000,9, 2093.400,2, 2274.300,2
           NA,   ICE11,     31,   1,-999.0,       9,  2,20110702,2232,  70.9052, -161.7331,    43,    3.300,    4.063,   32.032,2,   32.037,2,  340.000,2,  339.500,2,    2.350,2,    0.000,2,    0.000,2,    0.500,2, -999.000,9, -999.000,9, -999.000,9, 2005.600,2, 2206.300,2
           NA,   ICE11,     31,   1,-999.0,       7,  2,20110702,2232,  70.9052, -161.7331,    43,   11.500,    3.974,   32.043,2,   32.052,2,  341.500,2,  341.000,2,    2.350,2,    0.000,2,    0.000,2,    0.490,2, -999.000,9, -999.000,9, -999.000,9, 2015.000,2, 2204.400,2
           NA,   ICE11,     31,   1,-999.0,       4,  2,20110702,2232,  70.9052, -161.7331,    43,   25.900,    0.982,   32.714,2,   32.737,2,  412.300,2,  412.100,2,    1.080,2,    0.220,2,    0.000,2,    0.550,2, -999.000,9, -999.000,9, -999.000,9, 2029.400,2, 2255.300,2
           NA,   ICE11,     31,   1,-999.0,       1,  2,20110702,2232,  70.9052, -161.7331,    43,   42.500,    0.800,   33.112,2,   33.102,2,  330.000,2,  329.700,2,    4.500,2,    1.210,2,    0.040,2,    0.750,2, -999.000,9, -999.000,9, -999.000,9, 2090.300,2, 2295.100,2
           NA,   ICE11,     32,   1,-999.0,       7,  2,20110703,0159,  70.9882, -161.7522,    44,    3.600,    4.062,   32.076,2,   32.078,2,  342.400,2,  340.500,2,    2.150,2,    0.000,2,    0.000,2,    0.460,2, -999.000,9, -999.000,9, -999.000,9, 1993.700,2, 2206.200,2
           NA,   ICE11,     32,   1,-999.0,       5,  2,20110703,0159,  70.9882, -161.7522,    44,   10.800,    4.035,   32.075,2, -999.000,3,  346.000,2,  343.300,2,    2.150,2,    0.000,2,    0.000,2,    0.460,2, -999.000,9, -999.000,9, -999.000,9, 2002.600,2, 2208.500,2
           NA,   ICE11,     32,   1,-999.0,       3,  2,20110703,0159,  70.9882, -161.7522,    44,   25.800,    0.718,   32.873,2,   32.875,2,  418.100,2,  417.800,2,    0.590,2,    0.020,2,    0.000,2,    0.500,2, -999.000,9, -999.000,9, -999.000,9, 2011.700,2, 2271.800,2
           NA,   ICE11,     32,   1,-999.0,       1,  2,20110703,0159,  70.9882, -161.7522,    44,   44.400,    0.995,   33.164,2,   33.155,2,  319.700,2,  319.500,2,    3.710,2,    0.390,2,    0.040,2,    0.700,2, -999.000,9, -999.000,9, -999.000,9, 2100.700,2, 2306.700,2
           NA,   ICE11,     33,   1,-999.0,       7,  2,20110703,0301,  71.0783, -161.7706,    43,    3.400,    3.936,   32.466,2,   32.464,2,  342.800,2,  342.500,2,    1.370,2,    0.000,2,    0.000,2,    0.480,2, -999.000,9, -999.000,9, -999.000,9, 2001.000,2, 2238.700,2
           NA,   ICE11,     33,   1,-999.0,       5,  2,20110703,0301,  71.0783, -161.7706,    43,   10.800,    4.019,   32.454,2,   32.459,2,  342.800,2,  342.200,2,    1.270,2,    0.000,2,    0.000,2,    0.480,2, -999.000,9, -999.000,9, -999.000,9, 1993.100,2, 2235.900,2
           NA,   ICE11,     33,   1,-999.0,       3,  2,20110703,0301,  71.0783, -161.7706,    43,   28.700,    0.851,   32.816,2,   32.829,2,  415.100,2,  414.800,2,    0.680,2,    0.000,2,    0.000,2,    0.520,2, -999.000,9, -999.000,9, -999.000,9, 2008.100,2, 2263.700,2
           NA,   ICE11,     33,   1,-999.0,       1,  2,20110703,0301,  71.0783, -161.7706,    43,   43.500,    0.629,   33.043,2,   33.019,2,  335.000,2,  335.500,2,    2.740,2,    0.220,2,    0.020,2,    0.700,2, -999.000,9, -999.000,9, -999.000,9, 2087.600,2, 2288.800,2
           NA,   ICE11,     34,   1,-999.0,       7,  2,20110703,0357,  71.1768, -161.7999,    45,    3.000,    3.222,   32.828,2,   32.829,2,  361.200,2,  360.000,2,    0.590,2,    0.000,2,    0.000,2,    0.480,2, -999.000,9, -999.000,9, -999.000,9, 2024.300,2, 2265.900,2
           NA,   ICE11,     34,   1,-999.0,       5,  2,20110703,0357,  71.1768, -161.7999,    45,   10.900,    3.196,   32.826,2,   32.828,2,  366.700,2,  360.400,2,    0.490,2,    0.000,2,    0.000,2,    0.480,2, -999.000,9, -999.000,9, -999.000,9, 2008.100,2, 2264.200,2
           NA,   ICE11,     34,   1,-999.0,       3,  2,20110703,0357,  71.1768, -161.7999,    45,   26.200,    2.872,   32.854,2,   32.870,2,  382.100,2,  381.700,2,    0.680,2,    0.010,2,    0.000,2,    0.510,2, -999.000,9, -999.000,9, -999.000,9, 2024.100,2, 2268.000,2
           NA,   ICE11,     34,   1,-999.0,       1,  2,20110703,0357,  71.1768, -161.7999,    45,   45.000,    0.202,   33.026,2,   32.997,2,  365.400,2,  365.100,2,    1.860,2,    0.200,2,    0.020,2,    0.700,2, -999.000,9, -999.000,9, -999.000,9, 2034.200,2, 2281.500,2
           NA,   ICE11,     35,   1,-999.0,       8,  2,20110703,0451,  71.2596, -161.8455,    47,    3.900,    2.238,   32.774,2,   32.776,2,  374.700,2,  373.900,2,    0.980,2,    0.000,2,    0.000,2,    0.440,2, -999.000,9, -999.000,9, -999.000,9, 2005.800,2, 2257.500,2
           NA,   ICE11,     35,   1,-999.0,       5,  2,20110703,0451,  71.2596, -161.8455,    47,   11.000,    2.222,   32.774,2,   32.778,2,  377.500,2,  374.100,2,    0.880,2,    0.000,2,    0.000,2,    0.440,2, -999.000,9, -999.000,9, -999.000,9, 2016.600,2, 2259.000,2
           NA,   ICE11,     35,   1,-999.0,       3,  2,20110703,0451,  71.2596, -161.8455,    47,   25.900,    2.002,   32.855,2,   32.865,2,  385.400,2,  385.100,2,    0.680,2,    0.020,2,    0.000,2,    0.450,2, -999.000,9, -999.000,9, -999.000,9, 2029.800,2, 2266.600,2
           NA,   ICE11,     35,   1,-999.0,       1,  2,20110703,0451,  71.2596, -161.8455,    47,   45.800,    0.062,   33.054,2,   33.029,2,  347.900,2,  347.700,2,    2.440,2,    0.570,2,    0.030,2,    0.800,2, -999.000,9, -999.000,9, -999.000,9, 2108.800,2, 2286.400,2
           NA,   ICE11,     36,   1,-999.0,       7,  2,20110703,0559,  71.3248, -162.1837,    44,    3.300,    2.337,   32.778,2,   32.780,2,  374.200,2,  374.400,2,    0.680,2,    0.000,2,    0.000,2,    0.450,2, -999.000,9, -999.000,9, -999.000,9, 2018.000,2, 2260.100,2
           NA,   ICE11,     36,   1,-999.0,       5,  2,20110703,0559,  71.3248, -162.1837,    44,   10.500,    2.321,   32.781,2,   32.782,2,  375.000,2,  373.900,2,    0.590,2,    0.000,2,    0.000,2,    0.460,2, -999.000,9, -999.000,9, -999.000,9, 1988.000,2, 2262.000,2
           NA,   ICE11,     36,   1,-999.0,       3,  2,20110703,0559,  71.3248, -162.1837,    44,   26.300,    2.135,   32.777,2,   32.774,2,  381.400,2,  381.400,2,    0.780,2,    0.000,2,    0.000,2,    0.470,2, -999.000,9, -999.000,9, -999.000,9, 2017.800,2, 2260.200,2
           NA,   ICE11,     36,   1,-999.0,       1,  2,20110703,0559,  71.3248, -162.1837,    44,   43.500,   -0.147,   33.020,2, -999.000,3,  342.600,2,  343.700,2,    3.620,2,    0.820,2,    0.030,2,    0.900,2, -999.000,9, -999.000,9, -999.000,9, 2113.800,2, 2291.300,2