BOTTLE,20220919JOAExport
EXPOCODE,SECT_ID,STNNBR,CASTNO,SAMPNO,BTLNBR,BTLNBR_FLAG_W,DATE,TIME,LATITUDE,LONGITUDE,DEPTH,CTDPRS,CTDTMP,CTDSAL,CTDSAL_FLAG_W,SALNTY,SALNTY_FLAG_W,CTDOXY,CTDOXY_FLAG_W,OXYGEN,OXYGEN_FLAG_W,SILCAT,SILCAT_FLAG_W,NITRAT,NITRAT_FLAG_W,NITRIT,NITRIT_FLAG_W,PHSPHT,PHSPHT_FLAG_W,CFC-11,CFC-11_FLAG_W,CFC-12,CFC-12_FLAG_W,SF6,SF6_FLAG_W,TCARBN,TCARBN_FLAG_W,ALKALI,ALKALI_FLAG_W
,,,,,,,,,,,,DB,ITS-90,PSS-78,,PSS-78,,UMOL/KG,,UMOL/KG,,UMOL/KG,,UMOL/KG,,UMOL/KG,,UMOL/KG,,NA,,NA,,NA,,UMOL/KG,,UMOL/KG
           NA,   ICE11,     99,   2,-999.0,      12,  2,20110712,0439,  73.5687, -159.9795,  2077,    9.900,   -1.044,   27.311,2,   27.295,2,  391.700,2,  392.400,2,    2.550,2,    0.000,2,    0.000,2,    0.590,2, -999.000,9, -999.000,9, -999.000,9, 1866.000,2, 1958.600,2
           NA,   ICE11,     99,   2,-999.0,      11,  2,20110712,0439,  73.5687, -159.9795,  2077,   25.100,   -0.998,   28.671,2, -999.000,3,  402.300,2,  401.400,2,    2.840,2,    0.000,2,    0.000,2,    0.650,2, -999.000,9, -999.000,9, -999.000,9, 1949.400,2, 2070.300,2
           NA,   ICE11,     99,   2,-999.0,      10,  2,20110712,0439,  73.5687, -159.9795,  2077,   46.300,   -0.865,   31.117,2, -999.000,3,  392.600,2,  374.000,2,    6.950,2,    1.670,2,    0.040,2,    0.930,2, -999.000,9, -999.000,9, -999.000,9, 2061.800,2, 2181.000,2
           NA,   ICE11,     99,   2,-999.0,       9,  2,20110712,0439,  73.5687, -159.9795,  2077,  101.100,   -1.423,   32.420,2,   32.428,2,  311.300,2,  311.000,2,   27.280,2,   11.890,2,    0.000,2,    1.640,2, -999.000,9, -999.000,9, -999.000,9, 2159.600,2, 2239.100,2
           NA,   ICE11,     99,   2,-999.0,       7,  2,20110712,0439,  73.5687, -159.9795,  2077,  151.900,   -1.485,   32.903,2,   32.910,2,  303.100,2,  314.600,2,   36.060,2,   13.920,2,    0.110,2,    1.730,2, -999.000,9, -999.000,9, -999.000,9, 2202.200,2, 2258.000,2
           NA,   ICE11,     99,   2,-999.0,       6,  2,20110712,0439,  73.5687, -159.9795,  2077,  202.400,   -0.952,   34.058,2, -999.000,3,  275.300,2,  275.300,2,   17.380,2,   12.510,2,    0.000,2,    1.140,2, -999.000,9, -999.000,9, -999.000,9, 2186.100,2, 2278.100,2
           NA,   ICE11,     99,   2,-999.0,       5,  2,20110712,0439,  73.5687, -159.9795,  2077,  220.700,   -0.529,   34.317,2, -999.000,3,  275.500,2,  275.800,2,   14.350,2,   12.450,2,    0.000,2,    1.040,2, -999.000,9, -999.000,9, -999.000,9, 2180.700,2, 2281.300,2
           NA,   ICE11,     99,   2,-999.0,       4,  2,20110712,0439,  73.5687, -159.9795,  2077,  505.900,    0.614,   34.851,2,   34.852,2,  294.400,2,  293.900,2,    7.510,2,   12.420,2,    0.000,2,    0.860,2, -999.000,9, -999.000,9, -999.000,9, 2155.100,2, 2296.400,2
           NA,   ICE11,     99,   2,-999.0,       3,  2,20110712,0439,  73.5687, -159.9795,  2077, 1012.900,   -0.058,   34.885,2,   34.885,2,  298.400,2,  299.100,2,    7.610,2,   12.500,2,    0.000,2,    0.880,2, -999.000,9, -999.000,9, -999.000,9, 2154.600,2, 2297.400,2
           NA,   ICE11,     99,   2,-999.0,       2,  2,20110712,0439,  73.5687, -159.9795,  2077, 1521.500,   -0.359,   34.922,2,   34.921,2,  297.600,2,  296.700,2,    9.470,2,   13.290,2,    0.000,2,    0.930,2, -999.000,9, -999.000,9, -999.000,9, 2248.700,2, 2301.100,2
           NA,   ICE11,     99,   2,-999.0,       1,  2,20110712,0439,  73.5687, -159.9795,  2077, 2120.000,   -0.396,   34.946,2,   34.946,2,  288.500,2,  289.200,2,   12.000,2,   14.040,2,    0.000,2,    0.990,2, -999.000,9, -999.000,9, -999.000,9, 2144.700,2, 2301.900,2
           NA,   ICE11,    100,   1,-999.0,      10,  2,20110713,0338,  73.7022, -160.2899,  1679,    2.200,   -0.866,   26.872,2,   26.881,2,  387.200,2,  387.600,2,    2.450,2,    0.000,2,    0.000,2,    0.580,2, -999.000,9, -999.000,9, -999.000,9, 1847.100,2, 1931.900,2
           NA,   ICE11,    100,   1,-999.0,       9,  2,20110713,0338,  73.7022, -160.2899,  1679,   10.100,   -0.978,   27.066,2, -999.000,3,  387.100,2,  391.600,2,    2.550,2,    0.000,2,    0.000,2,    0.580,2, -999.000,9, -999.000,9, -999.000,9, 1869.100,2, 1961.400,2
           NA,   ICE11,    100,   1,-999.0,       8,  2,20110713,0338,  73.7022, -160.2899,  1679,   25.100,   -0.997,   28.918,2, -999.000,3,  402.600,2,  400.600,2,    2.840,2,    0.000,2,    0.000,2,    0.660,2, -999.000,9, -999.000,9, -999.000,9, 1975.400,2, 2082.500,2
           NA,   ICE11,    100,   1,-999.0,       6,  2,20110713,0338,  73.7022, -160.2899,  1679,   44.000,   -0.832,   30.985,2, -999.000,3,  378.700,2,  378.000,2,    6.170,2,    0.920,2,    0.020,2,    0.870,2, -999.000,9, -999.000,9, -999.000,9, -999.000,4, 2177.700,2
           NA,   ICE11,    100,   1,-999.0,       5,  2,20110713,0338,  73.7022, -160.2899,  1679,  101.600,   -1.521,   32.519,2,   32.533,2,  334.300,2,  316.600,2,   34.900,2,   13.480,2,    0.000,2,    1.740,2, -999.000,9, -999.000,9, -999.000,9, 2182.600,2, 2245.300,2
           NA,   ICE11,    100,   1,-999.0,       4,  2,20110713,0338,  73.7022, -160.2899,  1679,  152.000,   -1.429,   32.999,2,   33.000,2,  350.600,2,  351.100,2,   44.270,2,   14.270,2,    0.170,2,    1.730,2, -999.000,9, -999.000,9, -999.000,9, 2183.900,2, 2262.300,2
           NA,   ICE11,    100,   1,-999.0,       3,  2,20110713,0338,  73.7022, -160.2899,  1679,  202.700,   -0.940,   33.975,2,   33.992,2,  277.200,2,  276.100,2,   21.480,2,   13.010,2,    0.000,2,    1.290,2, -999.000,9, -999.000,9, -999.000,9, 2203.400,2, 2281.200,2
           NA,   ICE11,    100,   1,-999.0,       1,  2,20110713,0338,  73.7022, -160.2899,  1679,  303.700,    0.539,   34.748,2,   34.735,2,  279.100,2,  279.300,2,   10.440,2,   12.760,2,    0.000,2,    0.950,2, -999.000,9, -999.000,9, -999.000,9, 2163.200,2, 2299.600,2
           NA,   ICE11,    100,   2,-999.0,      12,  2,20110713,0709,  73.7473, -160.3456,  2199,   10.000,   -0.968,   27.373,2, -999.000,3,  395.400,2,  396.400,2,    2.650,2,    0.000,2,    0.000,2,    0.620,2, -999.000,9, -999.000,9, -999.000,9, 1920.300,2, 2001.500,2
           NA,   ICE11,    100,   2,-999.0,      11,  2,20110713,0709,  73.7473, -160.3456,  2199,   25.000,   -1.066,   28.826,2, -999.000,3,  401.600,2,  400.100,2,    3.330,2,    0.000,2,    0.000,2,    0.690,2, -999.000,9, -999.000,9, -999.000,9, 1984.400,2, 2098.700,2
           NA,   ICE11,    100,   2,-999.0,      10,  2,20110713,0709,  73.7473, -160.3456,  2199,   49.900,   -0.838,   31.437,2, -999.000,3,  363.000,2,  358.400,2,    9.590,2,    3.620,2,    0.030,2,    1.070,2, -999.000,9, -999.000,9, -999.000,9, 2083.400,2, 2200.100,2
           NA,   ICE11,    100,   2,-999.0,       9,  2,20110713,0709,  73.7473, -160.3456,  2199,  100.600,   -1.721,   32.528,2, -999.000,3,  319.400,2,  318.600,2,   41.550,2,   14.960,2,    0.020,2,    1.860,2, -999.000,9, -999.000,9, -999.000,9, 2174.600,2, 2239.500,2
           NA,   ICE11,    100,   2,-999.0,       8,  2,20110713,0709,  73.7473, -160.3456,  2199,  151.800,   -1.473,   32.980,2,   32.982,2,  346.100,2,  350.700,2,   43.100,2,   13.460,2,    0.180,2,    1.690,2, -999.000,9, -999.000,9, -999.000,9, 2180.800,2,    0.000,5
           NA,   ICE11,    100,   2,-999.0,       7,  2,20110713,0709,  73.7473, -160.3456,  2199,  161.900,   -1.459,   33.004,2,   33.005,2,  350.400,2,  348.300,2,   44.760,2,   14.740,2,    0.160,2,    1.760,2, -999.000,9, -999.000,9, -999.000,9, -999.000,9, -999.000,9
           NA,   ICE11,    100,   2,-999.0,       6,  2,20110713,0709,  73.7473, -160.3456,  2199,  201.700,   -1.063,   33.811,2, -999.000,3,  275.400,2,  277.400,2,   23.730,2,   13.480,2,    0.000,2,    1.380,2, -999.000,9, -999.000,9, -999.000,9, 2198.300,2,    0.000,5
           NA,   ICE11,    100,   2,-999.0,       5,  2,20110713,0709,  73.7473, -160.3456,  2199,  505.900,    0.565,   34.852,2,   34.851,2,  293.300,2,  292.800,2,    7.810,2,   12.470,2,    0.000,2,    0.870,2, -999.000,9, -999.000,9, -999.000,9, 2153.900,2, 2294.800,2
           NA,   ICE11,    100,   2,-999.0,       4,  2,20110713,0709,  73.7473, -160.3456,  2199, 1012.700,    0.009,   34.882,2,   34.880,2,  296.900,2,  298.200,2,    7.810,2,   12.470,2,    0.000,2,    0.880,2, -999.000,9, -999.000,9, -999.000,9, 2148.500,2, 2298.800,2
           NA,   ICE11,    100,   2,-999.0,       3,  2,20110713,0709,  73.7473, -160.3456,  2199, 1520.900,   -0.362,   34.925,2,   34.923,2,  297.500,2,  295.600,2,    9.560,2,   13.640,2,    0.000,2,    0.940,2, -999.000,9, -999.000,9, -999.000,9, 2147.000,2, 2304.500,2
           NA,   ICE11,    100,   2,-999.0,       2,  2,20110713,0709,  73.7473, -160.3456,  2199, 2029.600,   -0.403,   34.946,2,   34.943,2,  287.000,2,  289.000,2,   11.810,2,   14.340,2,    0.000,2,    1.000,2, -999.000,9, -999.000,9, -999.000,9, 2151.100,2, 2306.300,2
           NA,   ICE11,    100,   2,-999.0,       1,  2,20110713,0709,  73.7473, -160.3456,  2199, 2255.500,   -0.390,   34.953,2,   34.950,2,  284.300,2,  286.000,2,   12.980,2,   14.130,2,    0.000,2,    1.010,2, -999.000,9, -999.000,9, -999.000,9, 2152.700,2, 2040.700,2
           NA,   ICE11,    101,   2,-999.0,      11,  2,20110714,0727,  73.9216, -159.0496,  3283,    1.600,   -1.059,   26.852,2, -999.000,3,  391.500,2,  392.100,2,    2.550,2,    0.000,2,    0.000,2,    0.580,2, -999.000,9, -999.000,9, -999.000,9, 1858.100,2, 1943.400,2
           NA,   ICE11,    101,   2,-999.0,       9,  2,20110714,0727,  73.9216, -159.0496,  3283,   10.200,   -1.019,   27.233,2, -999.000,3,  392.500,2,  393.100,2,    2.550,2,    0.000,2,    0.000,2,    0.580,2, -999.000,9, -999.000,9, -999.000,9, 1868.100,2, 1950.300,2
           NA,   ICE11,    101,   2,-999.0,       7,  2,20110714,0727,  73.9216, -159.0496,  3283,   25.300,   -0.802,   28.936,2,   28.925,2,  396.100,2,  398.100,2,    2.840,2,    0.000,2,    0.000,2,    0.650,2, -999.000,9, -999.000,9, -999.000,9, 1966.500,2, 2072.000,2
           NA,   ICE11,    101,   2,-999.0,       6,  2,20110714,0727,  73.9216, -159.0496,  3283,   50.700,   -0.916,   30.993,2, -999.000,3,  377.000,2,  377.500,2,    6.660,2,    1.290,2,    0.030,2,    0.910,2, -999.000,9, -999.000,9, -999.000,9, -999.000,4, 2177.600,2
           NA,   ICE11,    101,   2,-999.0,       5,  2,20110714,0727,  73.9216, -159.0496,  3283,   70.500,   -1.084,   31.768,2,   31.800,2,  344.800,2,  342.300,2,   13.990,2,    6.080,2,    0.040,2,    1.240,2, -999.000,9, -999.000,9, -999.000,9, 2116.600,2, 2211.300,2
           NA,   ICE11,    101,   2,-999.0,       4,  2,20110714,0727,  73.9216, -159.0496,  3283,  100.600,   -1.371,   32.319,2, -999.000,3,  314.900,2,  314.400,2,   26.790,2,   11.670,2,    0.000,2,    1.620,2, -999.000,9, -999.000,9, -999.000,9, 2171.300,2, 2237.500,2
           NA,   ICE11,    101,   2,-999.0,       3,  2,20110714,0727,  73.9216, -159.0496,  3283,  151.600,   -1.520,   32.794,2, -999.000,3,  290.800,2,  290.500,2,   32.160,2,   14.410,2,    0.000,2,    1.770,2, -999.000,9, -999.000,9, -999.000,9, 2211.000,2, 2261.700,2
           NA,   ICE11,    101,   2,-999.0,       2,  2,20110714,0727,  73.9216, -159.0496,  3283,  202.300,   -1.254,   33.621,2, -999.000,3,  272.500,2,  274.200,2,   23.640,2,   13.550,2,    0.000,2,    1.390,2, -999.000,9, -999.000,9, -999.000,9, 2213.700,2, 2283.400,2
           NA,   ICE11,    101,   2,-999.0,       1,  2,20110714,0727,  73.9216, -159.0496,  3283,  303.800,    0.280,   34.648,2,   34.626,2,  279.500,2,  279.300,2,   10.350,2,   12.330,2,    0.000,2,    0.920,2, -999.000,9, -999.000,9, -999.000,9, 2165.800,2, 2293.100,2
           NA,   ICE11,    102,   1,-999.0,      11,  2,20110714,2106,  72.8395, -158.7247,   307,    2.200,   -0.893,   23.054,2, -999.000,3,  378.000,2,  383.300,2,    3.050,2,    0.000,2,    0.000,2,    0.400,2, -999.000,9, -999.000,9, -999.000,9, 1363.000,2, 1466.800,2
           NA,   ICE11,    102,   1,-999.0,      10,  2,20110714,2106,  72.8395, -158.7247,   307,   10.400,   -1.322,   29.260,2, -999.000,3,  412.300,2,  404.300,2,    3.140,2,    0.000,2,    0.000,2,    0.680,2, -999.000,9, -999.000,9, -999.000,9, 1971.900,2, 2091.100,2
           NA,   ICE11,    102,   1,-999.0,       9,  2,20110714,2106,  72.8395, -158.7247,   307,   25.400,   -1.450,   29.719,2, -999.000,3,  397.200,2,  401.200,2,    3.530,2,    0.080,2,    0.000,2,    0.710,2, -999.000,9, -999.000,9, -999.000,9, 1996.300,2, 2117.700,2
           NA,   ICE11,    102,   1,-999.0,       8,  2,20110714,2106,  72.8395, -158.7247,   307,   51.000,   -1.203,   31.567,2, -999.000,3,  357.300,2,  344.000,2,   13.010,2,    5.850,2,    0.040,2,    1.220,2, -999.000,9, -999.000,9, -999.000,9, 2110.700,2, 2215.100,2
           NA,   ICE11,    102,   1,-999.0,       7,  2,20110714,2106,  72.8395, -158.7247,   307,  101.300,   -1.397,   32.693,2, -999.000,3,  325.600,2,  332.200,2,   31.380,2,   10.950,2,    0.080,2,    1.600,2, -999.000,9, -999.000,9, -999.000,9, 2174.500,2, 2256.700,2
           NA,   ICE11,    102,   1,-999.0,       4,  2,20110714,2106,  72.8395, -158.7247,   307,  130.000,   -0.178,   33.022,2,   33.040,2,  355.400,2,  357.000,2,   16.910,2,    5.600,2,    0.070,2,    1.210,2, -999.000,9, -999.000,9, -999.000,9, 2141.500,2, 2279.000,2
           NA,   ICE11,    102,   1,-999.0,       3,  2,20110714,2106,  72.8395, -158.7247,   307,  151.800,   -1.167,   33.428,2, -999.000,3,  289.900,2,  283.800,2,   25.990,2,   13.730,2,    0.090,2,    1.460,2, -999.000,9, -999.000,9, -999.000,9, 2198.700,2, 2278.100,2
           NA,   ICE11,    102,   1,-999.0,       2,  2,20110714,2106,  72.8395, -158.7247,   307,  202.300,    0.266,   34.656,2,   34.673,2,  280.500,2,  279.500,2,   12.880,2,   13.150,2,    0.020,2,    1.020,2, -999.000,9, -999.000,9, -999.000,9, 2174.200,2, 2290.900,2
           NA,   ICE11,    102,   1,-999.0,       1,  2,20110714,2106,  72.8395, -158.7247,   307,  307.800,    0.452,   34.851,2,   34.854,2,  287.100,2,  289.800,2,   10.540,2,   12.590,2,    0.010,2,    0.940,2, -999.000,9, -999.000,9, -999.000,9, 2338.800,2, 2306.400,2
           NA,   ICE11,    103,   1,-999.0,      11,  2,20110715,0248,  72.7784, -158.8420,   219,    2.000,   -0.502,   18.429,2, -999.000,3,  400.300,2,  380.200,2,    2.960,2,    0.000,2,    0.000,2,    0.410,2, -999.000,9, -999.000,9, -999.000,9, 1435.300,2, 1498.300,2
           NA,   ICE11,    103,   1,-999.0,       9,  2,20110715,0248,  72.7784, -158.8420,   219,   10.000,   -1.232,   27.934,2,   27.985,2,  403.000,2,  403.000,2,    2.750,2,    0.000,2,    0.000,2,    0.600,2, -999.000,9, -999.000,9, -999.000,9, 1864.700,2, 1982.200,2
           NA,   ICE11,    103,   1,-999.0,       7,  2,20110715,0248,  72.7784, -158.8420,   219,   25.200,   -0.687,   29.422,2, -999.000,3,  417.400,2,  417.400,2,    2.840,2,    0.000,2,    0.000,2,    0.630,2, -999.000,9, -999.000,9, -999.000,9, 1912.600,2, 2084.600,2
           NA,   ICE11,    103,   1,-999.0,       5,  2,20110715,0248,  72.7784, -158.8420,   219,   48.400,   -1.510,   32.162,2,   32.151,2,  357.000,2,  333.300,2,   18.090,2,    7.190,2,    0.060,2,    1.460,2, -999.000,9, -999.000,9, -999.000,9, 2151.800,2, 2227.900,2
           NA,   ICE11,    103,   1,-999.0,       3,  2,20110715,0248,  72.7784, -158.8420,   219,  101.400,   -1.310,   32.824,2, -999.000,3,  326.900,2,  326.800,2,   30.100,2,   11.140,2,    0.100,2,    1.580,2, -999.000,9, -999.000,9, -999.000,9, 2184.600,2, 2262.700,2
           NA,   ICE11,    103,   1,-999.0,       2,  2,20110715,0248,  72.7784, -158.8420,   219,  152.000,   -0.305,   34.374,2,   34.408,2,  278.200,2,  278.200,2,   16.010,2,   13.030,2,    0.050,2,    1.110,2, -999.000,9, -999.000,9, -999.000,9, 2182.000,2, 2278.200,2
           NA,   ICE11,    103,   1,-999.0,       1,  2,20110715,0248,  72.7784, -158.8420,   219,  221.900,    0.536,   34.813,2,   34.812,2,  276.300,2,  276.200,2,   14.830,2,   12.840,2,    0.100,2,    1.100,2, -999.000,9, -999.000,9, -999.000,9, 2170.600,2, 2295.400,2
           NA,   ICE11,    104,   1,-999.0,       6,  2,20110715,0636,  72.7159, -158.9809,   164,    2.100,   -1.131,   27.406,2,   27.412,2,  402.200,2,  402.100,2,    2.650,2,    0.000,2,    0.000,2,    0.590,2, -999.000,9, -999.000,9, -999.000,9, -999.000,3, 1944.700,2
           NA,   ICE11,    104,   1,-999.0,       5,  2,20110715,0636,  72.7159, -158.9809,   164,   10.200,   -1.159,   28.012,2, -999.000,3,  405.200,2,  405.200,2,    2.750,2,    0.000,2,    0.000,2,    0.600,2, -999.000,9, -999.000,9, -999.000,9, -999.000,3, 1989.700,2
           NA,   ICE11,    104,   1,-999.0,       4,  2,20110715,0636,  72.7159, -158.9809,   164,   25.800,   -0.974,   30.430,2, -999.000,3,  432.100,2,  419.800,2,    3.920,2,    0.050,2,    0.000,2,    0.720,2, -999.000,9, -999.000,9, -999.000,9, -999.000,3, 2151.400,2
           NA,   ICE11,    104,   1,-999.0,       3,  2,20110715,0636,  72.7159, -158.9809,   164,   40.700,   -1.596,   31.908,2, -999.000,3,  393.500,2,  359.100,2,   13.300,2,    4.450,2,    0.050,2,    1.220,2, -999.000,9, -999.000,9, -999.000,9, -999.000,3, 2224.600,2
           NA,   ICE11,    104,   1,-999.0,       2,  2,20110715,0636,  72.7159, -158.9809,   164,  101.100,   -0.129,   32.982,2,   32.991,2,  381.800,2,  381.700,2,    6.060,2,    1.800,2,    0.040,2,    0.950,2, -999.000,9, -999.000,9, -999.000,9, -999.000,3, 2285.400,2
           NA,   ICE11,    104,   1,-999.0,       1,  2,20110715,0636,  72.7159, -158.9809,   164,  165.400,   -0.249,   34.394,2, -999.000,3,  262.200,2,  262.200,2,   23.530,2,   13.630,2,    0.120,2,    1.510,2, -999.000,9, -999.000,9, -999.000,9, -999.000,3, 2286.200,2
           NA,   ICE11,    105,   1,-999.0,       9,  2,20110715,0817,  72.6646, -159.0580,   115,    2.200,   -1.172,   28.303,2, -999.000,3,  413.700,2,  413.000,2,    2.840,2,    0.000,2,    0.000,2,    0.620,2, -999.000,9, -999.000,9, -999.000,9, 1875.000,2, 2023.200,2
           NA,   ICE11,    105,   1,-999.0,       7,  2,20110715,0817,  72.6646, -159.0580,   115,   10.400,   -1.119,   28.718,2, -999.000,3,  412.500,2,  414.200,2,    2.940,2,    0.000,2,    0.000,2,    0.630,2, -999.000,9, -999.000,9, -999.000,9, 1891.500,2, 2045.300,2
           NA,   ICE11,    105,   1,-999.0,       5,  2,20110715,0817,  72.6646, -159.0580,   115,   25.800,   -1.088,   30.867,2, -999.000,3,  401.200,2,  391.000,2,    5.480,2,    0.300,2,    0.000,2,    0.840,2, -999.000,9, -999.000,9, -999.000,9, 2030.900,2, 2174.000,2
           NA,   ICE11,    105,   1,-999.0,       3,  2,20110715,0817,  72.6646, -159.0580,   115,   50.700,   -1.597,   32.355,2,   32.345,2,  340.900,2,  322.600,2,   32.360,2,   11.080,2,    0.080,2,    1.720,2, -999.000,9, -999.000,9, -999.000,9, 2146.000,2, 2236.600,2
           NA,   ICE11,    105,   1,-999.0,       1,  2,20110715,0817,  72.6646, -159.0580,   115,  107.500,   -0.778,   32.985,2,   32.985,2,  359.500,2,  361.200,2,   20.430,2,    6.360,2,    0.090,2,    1.330,2, -999.000,9, -999.000,9, -999.000,9, 2120.000,2, 2277.300,2