BOTTLE,20220919JOAExport
EXPOCODE,SECT_ID,STNNBR,CASTNO,SAMPNO,BTLNBR,BTLNBR_FLAG_W,DATE,TIME,LATITUDE,LONGITUDE,DEPTH,CTDPRS,CTDTMP,CTDSAL,CTDSAL_FLAG_W,SALNTY,SALNTY_FLAG_W,CTDOXY,CTDOXY_FLAG_W,OXYGEN,OXYGEN_FLAG_W,SILCAT,SILCAT_FLAG_W,NITRAT,NITRAT_FLAG_W,NITRIT,NITRIT_FLAG_W,PHSPHT,PHSPHT_FLAG_W,CFC-11,CFC-11_FLAG_W,CFC-12,CFC-12_FLAG_W,SF6,SF6_FLAG_W,TCARBN,TCARBN_FLAG_W,ALKALI,ALKALI_FLAG_W
,,,,,,,,,,,,DB,ITS-90,PSS-78,,PSS-78,,UMOL/KG,,UMOL/KG,,UMOL/KG,,UMOL/KG,,UMOL/KG,,UMOL/KG,,NA,,NA,,NA,,UMOL/KG,,UMOL/KG
           NA,   ICE11,    131,   1,-999.0,      11,  2,20110720,1210,  72.8721, -150.7790,  3777,    2.100,   -1.030,   25.872,2, -999.000,1,  386.600,2,  388.800,2,    2.460,2,    0.010,2,    0.000,2,    0.550,2, -999.000,9, -999.000,9, -999.000,9, 1786.900,2, 1854.700,2
           NA,   ICE11,    131,   1,-999.0,       9,  2,20110720,1210,  72.8721, -150.7790,  3777,   10.600,   -1.027,   26.172,2, -999.000,1,  387.200,2,  395.200,2,    2.550,2,    0.000,2,    0.000,2,    0.570,2, -999.000,9, -999.000,9, -999.000,9, 1840.100,2, 1927.000,2
           NA,   ICE11,    131,   1,-999.0,       8,  2,20110720,1210,  72.8721, -150.7790,  3777,   25.800,   -1.046,   27.382,2, -999.000,1,  399.000,2,  400.700,2,    2.650,2,    0.000,2,    0.000,2,    0.580,2, -999.000,9, -999.000,9, -999.000,9, 1869.900,2, 1957.900,2
           NA,   ICE11,    131,   1,-999.0,       7,  2,20110720,1210,  72.8721, -150.7790,  3777,   51.000,   -0.762,   29.559,2, -999.000,1,  391.100,2,  389.100,2,    3.720,2,    0.040,2,    0.000,2,    0.730,2, -999.000,9, -999.000,9, -999.000,9, 1982.200,2, 2103.500,2
           NA,   ICE11,    131,   1,-999.0,       6,  2,20110720,1210,  72.8721, -150.7790,  3777,   71.200,   -0.577,   30.846,2, -999.000,1,  382.900,2,  372.100,2,    6.260,2,    1.360,2,    0.040,2,    1.100,2, -999.000,9, -999.000,9, -999.000,9, 2036.000,2, 2159.000,2
           NA,   ICE11,    131,   1,-999.0,       5,  2,20110720,1210,  72.8721, -150.7790,  3777,  101.400,   -1.064,   31.993,2, -999.000,1,  330.700,2,  316.100,2,   20.050,2,    9.770,2,    0.000,2,    1.520,2, -999.000,9, -999.000,9, -999.000,9, 2123.200,2, 2213.000,2
           NA,   ICE11,    131,   1,-999.0,       4,  2,20110720,1210,  72.8721, -150.7790,  3777,  152.200,   -1.398,   32.646,2, -999.000,1,  291.100,2,  282.200,2,   30.990,2,   14.400,2,    0.000,2,    1.840,2, -999.000,9, -999.000,9, -999.000,9, 2176.300,2, 2238.500,2
           NA,   ICE11,    131,   1,-999.0,       3,  2,20110720,1210,  72.8721, -150.7790,  3777,  202.600,   -1.324,   33.443,2, -999.000,1,  268.500,2,  269.200,2,   30.580,2,   14.860,2,    0.000,2,    1.660,2, -999.000,9, -999.000,9, -999.000,9, 2202.800,2, 2254.000,2
           NA,   ICE11,    131,   1,-999.0,       2,  2,20110720,1210,  72.8721, -150.7790,  3777,  305.900,    0.206,   34.630,2, -999.000,1,  277.300,2,  278.700,2,   11.230,2,   13.020,2,    0.000,2,    0.980,2, -999.000,9, -999.000,9, -999.000,9, 2148.800,2, 2271.000,2
           NA,   ICE11,    131,   1,-999.0,       1,  2,20110720,1210,  72.8721, -150.7790,  3777,  814.400,    0.235,   34.864,2, -999.000,1,  299.100,2,  298.300,2,    7.220,2,   12.740,2,    0.000,2,    0.900,2, -999.000,9, -999.000,9, -999.000,9, 2142.800,2, 2286.100,2
           NA,   ICE11,    132,   1,-999.0,      11,  2,20110720,1557,  72.6787, -150.9296,  3763,    2.600,   -1.017,   25.714,2, -999.000,3,  386.300,2,  386.100,2,    2.460,2,    0.000,2,    0.000,2,    0.550,2, -999.000,9, -999.000,9, -999.000,9, 1791.600,2, 1850.100,2
           NA,   ICE11,    132,   1,-999.0,      10,  2,20110720,1557,  72.6787, -150.9296,  3763,   10.900,   -1.007,   25.988,2, -999.000,3,  386.300,2,  390.700,2,    2.550,2,    0.000,2,    0.000,2,    0.550,2, -999.000,9, -999.000,9, -999.000,9, 1816.800,2, 1895.600,2
           NA,   ICE11,    132,   1,-999.0,       9,  2,20110720,1557,  72.6787, -150.9296,  3763,   25.300,   -1.050,   27.330,2, -999.000,3,  403.800,2,  399.900,2,    2.650,2,    0.000,2,    0.000,2,    0.580,2, -999.000,9, -999.000,9, -999.000,9, 1892.700,2, 1975.200,2
           NA,   ICE11,    132,   1,-999.0,       8,  2,20110720,1557,  72.6787, -150.9296,  3763,   51.200,   -0.803,   29.702,2, -999.000,3,  389.300,2,  389.500,2,    3.720,2,    0.040,2,    0.000,2,    0.720,2, -999.000,9, -999.000,9, -999.000,9, 2002.400,2, 2113.600,2
           NA,   ICE11,    132,   1,-999.0,       7,  2,20110720,1557,  72.6787, -150.9296,  3763,   63.400,   -0.534,   30.764,2, -999.000,3,  376.800,2,  370.500,2,    6.950,2,    1.650,2,    0.050,2,    0.940,2, -999.000,9, -999.000,9, -999.000,9, 2055.400,2, 2174.100,2
           NA,   ICE11,    132,   1,-999.0,       6,  2,20110720,1557,  72.6787, -150.9296,  3763,  101.600,   -1.211,   32.071,2,   32.098,2,  321.700,2,  321.400,2,   18.780,2,    9.100,2,    0.000,2,    1.480,2, -999.000,9, -999.000,9, -999.000,9, 2134.600,2, 2212.200,2
           NA,   ICE11,    132,   1,-999.0,       5,  2,20110720,1557,  72.6787, -150.9296,  3763,  152.300,   -1.476,   32.757,2,   32.771,2,  292.500,2,  288.300,2,   30.500,2,   14.070,2,    0.000,2,    1.810,2, -999.000,9, -999.000,9, -999.000,9, 2199.800,2, 2250.000,2
           NA,   ICE11,    132,   1,-999.0,       4,  2,20110720,1557,  72.6787, -150.9296,  3763,  201.800,   -1.332,   33.355,2,   33.374,2,  278.200,2, -999.000,4,   31.360,2,   14.840,2,    0.000,2,    1.710,2, -999.000,9, -999.000,9, -999.000,9, 2220.300,2, 2273.900,2
           NA,   ICE11,    132,   1,-999.0,       3,  2,20110720,1557,  72.6787, -150.9296,  3763,  306.200,    0.200,   34.625,2,   34.631,2,  280.000,2,  281.600,2,   11.910,2,   13.060,2,    0.000,2,    1.000,2, -999.000,9, -999.000,9, -999.000,9, 2174.300,2, 2281.900,2
           NA,   ICE11,    132,   1,-999.0,       2,  2,20110720,1557,  72.6787, -150.9296,  3763,  509.200,    0.709,   34.836,2,   34.841,2,  288.700,2,  287.800,2,    7.910,2,   12.830,2,    0.000,2,    0.900,2, -999.000,9, -999.000,9, -999.000,9, 2157.100,2, 2293.900,2
           NA,   ICE11,    132,   1,-999.0,       1,  2,20110720,1557,  72.6787, -150.9296,  3763,  824.200,    0.222,   34.863,2,   34.866,2,  301.500,2,  299.800,2,    7.320,2,   14.010,2,    0.000,2,    0.900,2, -999.000,9, -999.000,9, -999.000,9, 2151.700,2, 2296.300,2
           NA,   ICE11,    133,   1,-999.0,      11,  2,20110720,2211,  72.5019, -151.0070,  3617,    2.900,   -0.796,   25.748,2,   25.834,2,  384.500,2,  384.100,2,    2.650,2,    0.000,2,    0.000,2,    0.550,2, -999.000,9, -999.000,9, -999.000,9, 1790.200,2, 1855.000,2
           NA,   ICE11,    133,   1,-999.0,      10,  2,20110720,2211,  72.5019, -151.0070,  3617,   11.300,   -0.984,   25.981,2,   26.139,2,  384.400,2,  387.200,2,    2.550,2,    0.010,2,    0.000,2,    0.550,2, -999.000,9, -999.000,9, -999.000,9, 1808.900,2, 1885.400,2
           NA,   ICE11,    133,   1,-999.0,       9,  2,20110720,2211,  72.5019, -151.0070,  3617,   25.500,   -1.027,   27.789,2,   27.994,2,  398.600,2,  399.600,2,    2.650,2,    0.000,2,    0.000,2,    0.610,2, -999.000,9, -999.000,9, -999.000,9, 1922.000,2, 2012.900,2
           NA,   ICE11,    133,   1,-999.0,       8,  2,20110720,2211,  72.5019, -151.0070,  3617,   51.200,   -0.734,   30.033,2,   30.064,2,  390.800,2,  388.200,2,    3.920,2,    0.000,2,    0.000,2,    0.730,2, -999.000,9, -999.000,9, -999.000,9, 2005.700,2, 2114.900,2
           NA,   ICE11,    133,   1,-999.0,       7,  2,20110720,2211,  72.5019, -151.0070,  3617,   64.800,   -0.620,   31.011,2,   30.971,2,  377.800,2,  376.800,2,    5.970,2,    0.840,2,    0.070,2,    0.890,2, -999.000,9, -999.000,9, -999.000,9, 2046.000,2, 2164.700,2
           NA,   ICE11,    133,   1,-999.0,       6,  2,20110720,2211,  72.5019, -151.0070,  3617,  101.500,   -1.164,   32.113,2,   32.123,2,  317.200,2,  318.200,2,   19.460,2,    9.390,2,    0.000,2,    1.500,2, -999.000,9, -999.000,9, -999.000,9, 2130.100,2, 2212.600,2
           NA,   ICE11,    133,   1,-999.0,       4,  2,20110720,2211,  72.5019, -151.0070,  3617,  147.900,   -1.501,   32.688,2,   32.700,2,  293.200,2,  294.300,2,   30.110,2,   13.640,2,    0.000,2,    1.790,2, -999.000,9, -999.000,9, -999.000,9, 2196.500,2, 2239.400,2
           NA,   ICE11,    133,   1,-999.0,       3,  2,20110720,2211,  72.5019, -151.0070,  3617,  203.200,   -1.240,   33.733,2,   33.738,2,  262.600,2,  261.400,2,   25.690,2,   13.820,2,    0.000,2,    1.460,2, -999.000,9, -999.000,9, -999.000,9, 2211.100,2, 2272.200,2
           NA,   ICE11,    133,   1,-999.0,       1,  2,20110720,2211,  72.5019, -151.0070,  3617,  303.900,    0.344,   34.667,2,   34.674,2,  280.600,2,  282.100,2,   10.540,2,   12.790,2,    0.000,2,    0.960,2, -999.000,9, -999.000,9, -999.000,9, 2166.100,2, 2280.900,2
           NA,   ICE11,    133,   2,-999.0,      11,  2,20110721,0024,  72.5104, -150.9818,  3629,    2.600,   -0.512,   25.738,2,   25.800,2,  383.700,2,  383.700,2,    2.460,2,    0.000,2,    0.000,2,    0.560,2, -999.000,9, -999.000,9, -999.000,9, -999.000,9, -999.000,9
           NA,   ICE11,    133,   2,-999.0,       2,  2,20110721,0024,  72.5104, -150.9818,  3629,  506.600,    0.700,   34.843,2,   34.848,2,  293.900,2,  293.900,2,    7.320,2,   12.580,2,    0.000,2,    0.890,2, -999.000,9, -999.000,9, -999.000,9, 2158.100,2, 2289.500,2
           NA,   ICE11,    133,   2,-999.0,       1,  2,20110721,0024,  72.5104, -150.9818,  3629,  810.100,    0.202,   34.864,2,   34.868,2,  298.200,2,  298.200,2,    7.120,2,   12.590,2,    0.000,2,    0.890,2, -999.000,9, -999.000,9, -999.000,9, 2157.300,2, 2288.500,2
           NA,   ICE11,    134,   1,-999.0,      11,  2,20110721,0354,  72.3436, -151.2430,  3409,    2.400,    0.863,   26.558,2,   26.573,2,  379.900,2,  379.400,2,    2.650,2,    0.020,2,    0.000,2,    0.590,2, -999.000,9, -999.000,9, -999.000,9, 1831.400,2, 1902.400,2
           NA,   ICE11,    134,   1,-999.0,      10,  2,20110721,0354,  72.3436, -151.2430,  3409,   10.000,    0.872,   26.566,2,   27.019,2,  382.200,2,  382.900,2,    2.750,2,    0.000,2,    0.000,2,    0.590,2, -999.000,9, -999.000,9, -999.000,9, 1867.800,2, 1939.000,2
           NA,   ICE11,    134,   1,-999.0,       9,  2,20110721,0354,  72.3436, -151.2430,  3409,   24.600,    1.011,   27.971,2,   28.199,2,  379.100,2,  380.900,2,    3.140,2,    0.010,2,    0.000,2,    0.650,2, -999.000,9, -999.000,9, -999.000,9, 1931.700,2, 2010.900,2
           NA,   ICE11,    134,   1,-999.0,       8,  2,20110721,0354,  72.3436, -151.2430,  3409,   50.200,   -0.499,   30.650,2,   30.725,2,  379.000,2,  379.300,2,    5.090,2,    0.220,2,    0.060,2,    0.820,2, -999.000,9, -999.000,9, -999.000,9, 2027.600,2, 2145.400,2
           NA,   ICE11,    134,   1,-999.0,       7,  2,20110721,0354,  72.3436, -151.2430,  3409,   63.900,   -0.707,   31.302,2,   31.343,2,  363.000,2,  360.300,2,    8.320,2,    2.720,2,    0.050,2,    1.030,2, -999.000,9, -999.000,9, -999.000,9, 2076.600,2, 2179.300,2
           NA,   ICE11,    134,   1,-999.0,       6,  2,20110721,0354,  72.3436, -151.2430,  3409,  101.500,   -1.261,   32.268,2,   32.300,2,  310.500,2,  310.100,2,   22.290,2,   10.730,2,    0.000,2,    1.600,2, -999.000,9, -999.000,9, -999.000,9, 2160.500,2, 2219.000,2
           NA,   ICE11,    134,   1,-999.0,       5,  2,20110721,0354,  72.3436, -151.2430,  3409,  152.000,   -1.464,   32.882,2,   32.896,2,  277.800,2,  275.900,2,   33.620,2,   15.150,2,    0.000,2,    1.900,2, -999.000,9, -999.000,9, -999.000,9, 2215.900,2, 2254.700,2
           NA,   ICE11,    134,   1,-999.0,       4,  2,20110721,0354,  72.3436, -151.2430,  3409,  202.600,   -1.062,   33.975,2,   33.998,2,  268.900,2,  270.300,2,   20.900,2,   13.070,2,    0.000,2,    1.270,2, -999.000,9, -999.000,9, -999.000,9, 2202.600,2, 2276.100,2
           NA,   ICE11,    134,   1,-999.0,       3,  2,20110721,0354,  72.3436, -151.2430,  3409,  303.900,    0.454,   34.707,2,   34.714,2,  280.400,2,  278.700,2,   10.440,2,   13.010,2,    0.000,2,    0.960,2, -999.000,9, -999.000,9, -999.000,9, 2172.900,2, 2286.100,2
           NA,   ICE11,    134,   1,-999.0,       2,  2,20110721,0354,  72.3436, -151.2430,  3409,  506.600,    0.679,   34.845,2,   34.849,2,  293.500,2,  293.500,2,    7.320,2,   12.650,2,    0.000,2,    0.880,2, -999.000,9, -999.000,9, -999.000,9, 2154.800,2, 2288.900,2
           NA,   ICE11,    134,   1,-999.0,       1,  2,20110721,0354,  72.3436, -151.2430,  3409,  810.100,    0.199,   34.866,2,   34.869,2,  298.500,2,  297.800,2,    7.120,2,   12.670,2,    0.000,2,    0.900,2, -999.000,9, -999.000,9, -999.000,9, 2158.200,2, 2289.300,2
           NA,   ICE11,    135,   1,-999.0,       7,  2,20110721,0552,  72.1649, -151.3819,  2994,    2.300,    3.654,   28.045,2,   28.062,2,  354.600,2,  353.000,2,    3.730,2,    0.010,2,    0.000,2,    0.640,2, -999.000,9, -999.000,9, -999.000,9, 1937.500,2, 2042.200,2
           NA,   ICE11,    135,   1,-999.0,       6,  2,20110721,0552,  72.1649, -151.3819,  2994,   10.200,    2.531,   28.170,2,   28.216,2,  357.100,2,  359.600,2,    3.530,2,    0.000,2,    0.000,2,    0.640,2, -999.000,9, -999.000,9, -999.000,9, 1937.400,2, 2037.100,2
           NA,   ICE11,    135,   1,-999.0,       5,  2,20110721,0552,  72.1649, -151.3819,  2994,   25.300,   -0.126,   28.779,2,   28.846,2,  352.200,2,  383.800,2,    3.240,2,    0.000,2,    0.000,2,    0.680,2, -999.000,9, -999.000,9, -999.000,9, 1940.300,2, 2076.900,2
           NA,   ICE11,    135,   1,-999.0,       4,  2,20110721,0552,  72.1649, -151.3819,  2994,   58.500,   -1.306,   31.629,2,   31.678,2,  356.000,2,  354.800,2,   10.860,2,    4.330,2,    0.090,2,    1.130,2, -999.000,9, -999.000,9, -999.000,9, 2107.000,2, 2259.700,2
           NA,   ICE11,    135,   1,-999.0,       3,  2,20110721,0552,  72.1649, -151.3819,  2994,  101.500,   -1.525,   32.642,2,   32.768,2,  295.200,2,  298.000,2,   28.740,2,   12.770,2,    0.000,2,    1.700,2, -999.000,9, -999.000,9, -999.000,9, 2196.100,2, 2279.800,2
           NA,   ICE11,    135,   1,-999.0,       2,  2,20110721,0552,  72.1649, -151.3819,  2994,  202.700,   -0.412,   34.375,2,   34.396,2,  280.500,2,  279.500,2,   12.790,2,   12.220,2,    0.000,2,    1.010,2, -999.000,9, -999.000,9, -999.000,9, 2177.000,2, 2282.800,2
           NA,   ICE11,    135,   1,-999.0,       1,  2,20110721,0552,  72.1649, -151.3819,  2994,  810.000,    0.166,   34.865,2,   34.870,2,  297.000,2,  297.500,2,    7.510,2,   12.650,2,    0.000,2,    0.900,2, -999.000,9, -999.000,9, -999.000,9, 2155.600,2, 2305.700,2
           NA,   ICE11,    136,   1,-999.0,       7,  2,20110721,0751,  71.9915, -151.5141,  2369,    2.200,    1.698,   26.187,2,   26.394,2,  369.000,2,  370.000,2,    3.240,2,    0.000,2,    0.000,2,    0.600,2, -999.000,9, -999.000,9, -999.000,9, 1819.500,2, 1910.700,2
           NA,   ICE11,    136,   1,-999.0,       6,  2,20110721,0751,  71.9915, -151.5141,  2369,   10.200,    1.252,   28.015,2,   28.167,2,  370.200,2,  364.600,2,    3.430,2,    0.000,2,    0.000,2,    0.640,2, -999.000,9, -999.000,9, -999.000,9, 1931.100,2, 2034.900,2
           NA,   ICE11,    136,   1,-999.0,       5,  2,20110721,0751,  71.9915, -151.5141,  2369,   25.700,   -0.828,   28.809,2,   28.911,2,  379.100,2,  388.800,2,    3.140,2,    0.000,2,    0.000,2,    0.690,2, -999.000,9, -999.000,9, -999.000,9, 1951.200,2, 2064.100,2
           NA,   ICE11,    136,   1,-999.0,       4,  2,20110721,0751,  71.9915, -151.5141,  2369,   66.400,   -1.227,   31.882,2,   31.990,2,  331.900,2,  334.600,2,   15.260,2,    7.130,2,    0.030,2,    1.340,2, -999.000,9, -999.000,9, -999.000,9, 2127.500,2, 2227.000,2
           NA,   ICE11,    136,   1,-999.0,       3,  2,20110721,0751,  71.9915, -151.5141,  2369,  101.200,   -1.509,   32.640,2,   32.592,2,  309.900,2,  305.500,2,   27.180,2,   12.070,2,    0.000,2,    1.670,2, -999.000,9, -999.000,9, -999.000,9, 2183.300,2, 2248.600,2
           NA,   ICE11,    136,   1,-999.0,       2,  2,20110721,0751,  71.9915, -151.5141,  2369,  202.600,   -0.309,   34.428,2,   34.517,2,  277.400,2,  277.900,2,   12.590,2,   12.750,2,    0.000,2,    1.020,2, -999.000,9, -999.000,9, -999.000,9, 2175.700,2, 2285.300,2
           NA,   ICE11,    136,   1,-999.0,       1,  2,20110721,0751,  71.9915, -151.5141,  2369,  810.700,    0.267,   34.861,2,   34.865,2,  295.800,2,  295.300,2,    7.910,2,   12.800,2,    0.000,2,    0.920,2, -999.000,9, -999.000,9, -999.000,9, 2158.300,2, 2297.300,2
           NA,   ICE11,    137,   1,-999.0,       9,  2,20110721,1031,  71.8209, -151.6946,  2134,    2.400,    1.720,   27.427,2,   27.601,2,  371.600,2,  372.200,2,    3.040,2,    0.060,2,    0.000,2,    0.640,2, -999.000,9, -999.000,9, -999.000,9, 1881.300,2, 1985.600,2
           NA,   ICE11,    137,   1,-999.0,       8,  2,20110721,1031,  71.8209, -151.6946,  2134,   10.400,    0.407,   28.038,2,   28.288,2,  378.800,2,  379.800,2,    3.140,2,    0.050,2,    0.000,2,    0.660,2, -999.000,9, -999.000,9, -999.000,9, 1920.800,2, 2026.900,2
           NA,   ICE11,    137,   1,-999.0,       7,  2,20110721,1031,  71.8209, -151.6946,  2134,   25.900,   -1.084,   29.016,2,   29.135,2,  392.600,2,  392.800,2,    3.230,2,    0.040,2,    0.000,2,    0.710,2, -999.000,9, -999.000,9, -999.000,9, 1959.800,2, 2071.500,2
           NA,   ICE11,    137,   1,-999.0,       6,  2,20110721,1031,  71.8209, -151.6946,  2134,   60.800,   -1.235,   31.741,2,   31.661,2,  346.200,2,  358.300,2,   10.270,2,    4.070,2,    0.090,2,    1.130,2, -999.000,9, -999.000,9, -999.000,9, 2098.300,2, 2204.300,2
           NA,   ICE11,    137,   1,-999.0,       5,  2,20110721,1031,  71.8209, -151.6946,  2134,  101.200,   -1.472,   32.501,2,   32.506,2,  300.500,2,  300.400,2,   26.010,2,   12.180,2,    0.000,2,    1.710,2, -999.000,9, -999.000,9, -999.000,9, 2175.400,2, 2238.000,2
           NA,   ICE11,    137,   1,-999.0,       4,  2,20110721,1031,  71.8209, -151.6946,  2134,  202.200,   -0.471,   34.350,2,   34.374,2,  278.700,2,  278.800,2,   13.280,2,   12.370,2,    0.000,2,    1.030,2, -999.000,9, -999.000,9, -999.000,9, 2179.300,2, 2285.700,2
           NA,   ICE11,    137,   1,-999.0,       3,  2,20110721,1031,  71.8209, -151.6946,  2134,  506.100,    0.568,   34.847,2,   34.850,2,  293.300,2,  293.200,2,    7.710,2,   12.820,2,    0.000,2,    0.900,2, -999.000,9, -999.000,9, -999.000,9, 2161.100,2, 2293.800,2
           NA,   ICE11,    137,   1,-999.0,       2,  2,20110721,1031,  71.8209, -151.6946,  2134, 1013.500,   -0.055,   34.881,2,   34.885,2,  298.100,2,  298.000,2,    8.000,2,   12.980,2,    0.000,2,    0.920,2, -999.000,9, -999.000,9, -999.000,9, 2157.900,2, 2300.400,2
           NA,   ICE11,    137,   1,-999.0,       1,  2,20110721,1031,  71.8209, -151.6946,  2134, 2169.300,   -0.396,   34.953,2,   34.954,2,  282.400,2,  282.500,2,   14.740,2,   14.850,2,    0.000,2,    1.070,2, -999.000,9, -999.000,9, -999.000,9, 2160.300,2, 2307.200,2