BOTTLE,20220919JOAExport
EXPOCODE,SECT_ID,STNNBR,CASTNO,SAMPNO,BTLNBR,BTLNBR_FLAG_W,DATE,TIME,LATITUDE,LONGITUDE,DEPTH,CTDPRS,CTDTMP,CTDSAL,CTDSAL_FLAG_W,SALNTY,SALNTY_FLAG_W,CTDOXY,CTDOXY_FLAG_W,OXYGEN,OXYGEN_FLAG_W,SILCAT,SILCAT_FLAG_W,NITRAT,NITRAT_FLAG_W,NITRIT,NITRIT_FLAG_W,PHSPHT,PHSPHT_FLAG_W,CFC-11,CFC-11_FLAG_W,CFC-12,CFC-12_FLAG_W,SF6,SF6_FLAG_W,TCARBN,TCARBN_FLAG_W,ALKALI,ALKALI_FLAG_W
,,,,,,,,,,,,DB,ITS-90,PSS-78,,PSS-78,,UMOL/KG,,UMOL/KG,,UMOL/KG,,UMOL/KG,,UMOL/KG,,UMOL/KG,,NA,,NA,,NA,,UMOL/KG,,UMOL/KG
           NA,   ICE11,     65,   1,-999.0,       5,  2,20110708,0704,  72.7663, -166.6600,    54,    2.700,   -1.321,   31.076,2,   31.072,2,  408.300,2,  408.100,2,    7.240,2,    0.070,2,    0.000,2,    0.500,2, -999.000,9, -999.000,9, -999.000,9, 1912.200,2, 2140.600,2
           NA,   ICE11,     65,   1,-999.0,       4,  2,20110708,0704,  72.7663, -166.6600,    54,   10.100,   -1.350,   31.180,2, -999.000,3,  417.100,2,  414.000,2,    9.100,2,    0.410,2,    0.010,2,    0.540,2, -999.000,9, -999.000,9, -999.000,9, 1937.100,2, 2156.500,2
           NA,   ICE11,     65,   1,-999.0,       3,  2,20110708,0704,  72.7663, -166.6600,    54,   25.400,   -1.747,   32.817,2,   32.835,2,  345.400,2,  345.500,2,   48.090,2,   16.970,2,    0.160,2,    1.940,2, -999.000,9, -999.000,9, -999.000,9, 2165.700,2, 2239.400,2
           NA,   ICE11,     65,   1,-999.0,       2,  2,20110708,0704,  72.7663, -166.6600,    54,   35.300,   -1.770,   32.959,2,   32.960,2,  327.900,2,  326.200,2,   52.780,2,   18.880,2,    0.150,2,    2.130,2, -999.000,9, -999.000,9, -999.000,9, 2182.100,2, 2246.100,2
           NA,   ICE11,     65,   1,-999.0,       1,  2,20110708,0704,  72.7663, -166.6600,    54,   52.600,   -1.770,   32.960,2,   32.959,2,  326.100,2,  325.800,2,   52.870,2,   18.890,2,    0.160,2,    2.170,2, -999.000,9, -999.000,9, -999.000,9, 2177.600,2, 2242.000,2
           NA,   ICE11,     66,   1,-999.0,       9,  2,20110708,0855,  72.6426, -166.4500,    56,    2.800,    1.079,   32.256,2,   32.261,2,  401.600,2,  401.000,2,    7.530,2,    0.020,2,    0.000,2,    0.520,2, -999.000,9, -999.000,9, -999.000,9, 1978.900,2, 2227.200,2
           NA,   ICE11,     66,   1,-999.0,       7,  2,20110708,0855,  72.6426, -166.4500,    56,   10.800,    1.121,   32.267,2, -999.000,3,  409.500,2,  409.500,2,   11.240,2,    0.390,2,    0.020,2,    0.640,2, -999.000,9, -999.000,9, -999.000,9, 2000.400,2, 2230.000,2
           NA,   ICE11,     66,   1,-999.0,       5,  2,20110708,0855,  72.6426, -166.4500,    56,   22.600,   -1.593,   32.567,2, -999.000,3,  402.700,2,  402.800,2,   31.190,2,    8.220,2,    0.090,2,    1.330,2, -999.000,9, -999.000,9, -999.000,9, 2100.700,2, 2241.700,2
           NA,   ICE11,     66,   1,-999.0,       3,  2,20110708,0855,  72.6426, -166.4500,    56,   35.900,   -1.763,   33.030,2,   33.034,2,  321.300,2,  321.100,2,   54.140,2,   19.710,2,    0.180,2,    2.190,2, -999.000,9, -999.000,9, -999.000,9, 2188.400,2, 2244.300,2
           NA,   ICE11,     66,   1,-999.0,       1,  2,20110708,0855,  72.6426, -166.4500,    56,   50.700,   -1.739,   33.131,2,   33.100,2,  304.600,2,  304.300,2,   42.120,2,   15.230,2,    0.180,2,    2.060,2, -999.000,9, -999.000,9, -999.000,9, 2228.100,2, 2257.400,2
           NA,   ICE11,     67,   1,-999.0,       7,  2,20110708,1034,  72.5659, -166.0847,    52,    2.900,    3.490,   31.885,2,   31.887,2,  341.400,2,  339.500,2,    2.250,2,    0.000,2,    0.000,2,    0.400,2, -999.000,9, -999.000,9, -999.000,9, 1963.000,2, 2184.300,2
           NA,   ICE11,     67,   1,-999.0,       5,  2,20110708,1034,  72.5659, -166.0847,    52,   10.600,    3.467,   31.884,2, -999.000,3,  355.700,2,  355.700,2,    3.620,2,    0.060,2,    0.000,2,    0.440,2, -999.000,9, -999.000,9, -999.000,9, 1975.200,2, 2196.200,2
           NA,   ICE11,     67,   1,-999.0,       3,  2,20110708,1034,  72.5659, -166.0847,    52,   28.700,   -1.696,   32.693,2, -999.000,3,  399.900,2,  412.300,2,   16.810,2,    5.530,2,    0.090,2,    1.070,2, -999.000,9, -999.000,9, -999.000,9, 2118.200,2, 2260.400,2
           NA,   ICE11,     67,   1,-999.0,       1,  2,20110708,1034,  72.5659, -166.0847,    52,   50.300,   -1.740,   33.139,2,   33.128,2,  313.100,2,  313.100,2,   34.790,2,   13.200,2,    0.160,2,    1.850,2, -999.000,9, -999.000,9, -999.000,9, 2241.500,2, 2288.200,2
           NA,   ICE11,     68,   1,-999.0,       7,  2,20110708,1203,  72.4932, -165.6819,    53,    2.500,    2.268,   31.750,2,   31.754,2,  358.200,2,  349.900,2,    2.350,2,    0.000,2,    0.000,2,    0.430,2, -999.000,9, -999.000,9, -999.000,9, 1954.200,2, 2178.900,2
           NA,   ICE11,     68,   1,-999.0,       5,  2,20110708,1203,  72.4932, -165.6819,    53,   10.500,    2.285,   31.811,2, -999.000,3,  357.600,2,  363.600,2,    3.230,2,    0.000,2,    0.000,2,    0.460,2, -999.000,9, -999.000,9, -999.000,9, 1964.500,2, 2196.000,2
           NA,   ICE11,     68,   1,-999.0,       3,  2,20110708,1203,  72.4932, -165.6819,    53,   24.900,   -1.546,   32.592,2,   32.608,2,  484.100,2,  492.700,2,    9.780,2,    0.280,2,    0.010,2,    0.620,2, -999.000,9, -999.000,9, -999.000,9, 2033.000,2, 2246.700,2
           NA,   ICE11,     68,   1,-999.0,       1,  2,20110708,1203,  72.4932, -165.6819,    53,   47.900,   -1.730,   33.285,2, -999.000,3,  306.300,2,  306.800,2,   29.510,2,   13.470,2,    0.160,2,    1.850,2, -999.000,9, -999.000,9, -999.000,9, 2251.600,2, 2287.000,2
           NA,   ICE11,     69,   1,-999.0,       4,  2,20110708,1334,  72.4218, -165.3089,    49,    2.400,    0.459,   30.213,2,   30.228,2,  344.400,2,  344.500,2,    1.270,2,    0.000,2,    0.000,2,    0.380,2, -999.000,9, -999.000,9, -999.000,9, 1875.800,2, 2073.500,2
           NA,   ICE11,     69,   1,-999.0,       3,  2,20110708,1334,  72.4218, -165.3089,    49,   10.400,    1.877,   31.095,2, -999.000,3,  340.800,2,  355.400,2,    1.860,2,    0.000,2,    0.000,2,    0.410,2, -999.000,9, -999.000,9, -999.000,9, 1930.300,2, 2138.700,2
           NA,   ICE11,     69,   1,-999.0,       2,  2,20110708,1334,  72.4218, -165.3089,    49,   25.600,   -1.654,   32.659,2, -999.000,3,  482.100,2,  482.200,2,    7.530,2,    0.010,2,    0.010,2,    0.650,2, -999.000,9, -999.000,9, -999.000,9, 2065.900,2, 2246.600,2
           NA,   ICE11,     69,   1,-999.0,       1,  2,20110708,1334,  72.4218, -165.3089,    49,   46.800,   -1.707,   33.388,2, -999.000,3,  291.300,2,  291.300,2,   13.480,2,   11.120,2,    0.190,2,    1.670,2, -999.000,9, -999.000,9, -999.000,9, 2292.100,2, 2309.200,2
           NA,   ICE11,     70,   1,-999.0,       9,  2,20110708,1509,  72.3517, -164.9279,    47,    1.900,    0.836,   30.419,2,   30.423,2,  358.100,2,  352.300,2,    1.370,2,    0.000,2,    0.000,2,    0.390,2, -999.000,9, -999.000,9, -999.000,9, 1887.300,2, 2081.800,2
           NA,   ICE11,     70,   1,-999.0,       7,  2,20110708,1509,  72.3517, -164.9279,    47,   10.600,    1.119,   30.729,2, -999.000,3,  356.400,2,  351.200,2,    1.570,2,    0.000,2,    0.000,2,    0.410,2, -999.000,9, -999.000,9, -999.000,9, 1913.200,2, 2111.800,2
           NA,   ICE11,     70,   1,-999.0,       5,  2,20110708,1509,  72.3517, -164.9279,    47,   25.600,    0.983,   32.486,2, -999.000,3,  408.800,2,  439.100,2,    2.050,2,    0.010,2,    0.000,2,    0.500,2, -999.000,9, -999.000,9, -999.000,9, 1984.300,2, 2236.600,2
           NA,   ICE11,     70,   1,-999.0,       3,  2,20110708,1509,  72.3517, -164.9279,    47,   32.900,   -1.004,   32.627,2,   32.627,2,  436.000,2,  431.700,2,    6.650,2,    0.310,2,    0.010,2,    0.730,2, -999.000,9, -999.000,9, -999.000,9, 2052.000,2, 2244.000,2
           NA,   ICE11,     70,   1,-999.0,       1,  2,20110708,1509,  72.3517, -164.9279,    47,   44.200,   -1.677,   33.254,2, -999.000,3,  314.900,2,  317.500,2,   12.310,2,    9.030,2,    0.180,2,    1.470,2, -999.000,9, -999.000,9, -999.000,9, 2230.900,2, 2281.800,2
           NA,   ICE11,     71,   1,-999.0,       5,  2,20110708,1648,  72.2719, -164.5426,    44,    2.900,   -0.268,   30.252,2,   30.234,2,  387.900,2,  392.900,2,    4.210,2,    0.000,2,    0.000,2,    0.430,2, -999.000,9, -999.000,9, -999.000,9, 1847.900,2, 2070.700,2
           NA,   ICE11,     71,   1,-999.0,       4,  2,20110708,1648,  72.2719, -164.5426,    44,   10.000,   -0.369,   30.218,2, -999.000,3,  386.300,2,  387.400,2,    3.920,2,    0.000,2,    0.000,2,    0.420,2, -999.000,9, -999.000,9, -999.000,9, 1859.800,2, 2077.500,2
           NA,   ICE11,     71,   1,-999.0,       3,  2,20110708,1648,  72.2719, -164.5426,    44,   25.800,   -1.208,   32.661,2,   32.631,2,  438.000,2,  456.400,2,   12.020,2,    0.500,2,    0.010,2,    0.760,2, -999.000,9, -999.000,9, -999.000,9, 2058.300,2, 2246.300,2
           NA,   ICE11,     71,   1,-999.0,       2,  2,20110708,1648,  72.2719, -164.5426,    44,   36.000,   -1.708,   33.039,2,   33.046,2,  358.800,2,  336.400,2,   32.540,2,   14.170,2,    0.190,2,    1.720,2, -999.000,9, -999.000,9, -999.000,9, 2205.500,2, 2265.500,2
           NA,   ICE11,     71,   1,-999.0,       1,  2,20110708,1648,  72.2719, -164.5426,    44,   41.500,   -1.678,   33.248,2, -999.000,3,  299.700,2,  302.500,2,   19.050,2,   11.310,2,    0.200,2,    1.690,2, -999.000,9, -999.000,9, -999.000,9, 2267.700,2, 2290.900,2
           NA,   ICE11,     72,   1,-999.0,       8,  2,20110708,1858,  72.2117, -164.2019,    40,    2.900,    0.559,   30.794,2, -999.000,3,  378.600,2,  378.500,2,    2.840,2,    0.000,2,    0.000,2,    0.390,2, -999.000,9, -999.000,9, -999.000,9, 1881.400,2, 2099.800,2
           NA,   ICE11,     72,   1,-999.0,       6,  2,20110708,1858,  72.2117, -164.2019,    40,   10.200,    0.328,   30.689,2, -999.000,3,  385.200,2,  384.100,2,    2.350,2,    0.010,2,    0.000,2,    0.400,2, -999.000,9, -999.000,9, -999.000,9, 1916.500,2, 2131.200,2
           NA,   ICE11,     72,   1,-999.0,       4,  2,20110708,1858,  72.2117, -164.2019,    40,   25.500,   -0.914,   32.596,2,   32.586,2,  419.700,2,  419.900,2,    4.890,2,    0.980,2,    0.020,2,    0.720,2, -999.000,9, -999.000,9, -999.000,9, 2046.900,2, 2240.000,2
           NA,   ICE11,     72,   1,-999.0,       1,  2,20110708,1858,  72.2117, -164.2019,    40,   38.200,   -1.590,   32.888,2, -999.000,3,  304.700,2,  304.900,2,   21.110,2,   12.900,2,    0.240,2,    1.590,2, -999.000,9, -999.000,9, -999.000,9, 2210.200,2, 2244.700,2
           NA,   ICE11,     73,   1,-999.0,       7,  2,20110708,2210,  72.1324, -163.7903,    38,    2.500,    0.019,   31.003,2, -999.000,3,  443.200,2,  440.700,2,   16.640,2,    0.350,2,    0.020,2,    0.700,2, -999.000,9, -999.000,9, -999.000,9, 1924.600,2, 2147.600,2
           NA,   ICE11,     73,   1,-999.0,       5,  2,20110708,2210,  72.1324, -163.7903,    38,   10.100,   -0.662,   31.602,2, -999.000,3,  413.500,2,  413.500,2,   36.390,2,    6.990,2,    0.120,2,    1.280,2, -999.000,9, -999.000,9, -999.000,9, 2086.700,2, 2218.300,2
           NA,   ICE11,     73,   1,-999.0,       3,  2,20110708,2210,  72.1324, -163.7903,    38,   25.400,   -1.721,   32.750,2,   32.758,2,  333.300,2,  333.700,2,   49.560,2,   17.150,2,    0.170,2,    1.980,2, -999.000,9, -999.000,9, -999.000,9, 2177.700,2, 2234.200,2
           NA,   ICE11,     73,   1,-999.0,       1,  2,20110708,2210,  72.1324, -163.7903,    38,   34.700,   -1.732,   33.068,2, -999.000,3,  329.000,2,  328.900,2,   45.730,2,   16.590,2,    0.180,2,    1.940,2, -999.000,9, -999.000,9, -999.000,9, 2192.800,2, 2236.100,2
           NA,   ICE11,     74,   1,-999.0,       5,  2,20110709,0322,  72.1203, -163.2154,    38,    2.600,    0.711,   30.963,2,   30.966,2,  410.700,2,  413.500,2,   10.770,2,    0.010,2,    0.000,2,    0.600,2, -999.000,9, -999.000,9, -999.000,9, 1888.600,2, 2142.300,2
           NA,   ICE11,     74,   1,-999.0,       4,  2,20110709,0322,  72.1203, -163.2154,    38,   10.100,    0.390,   31.136,2, -999.000,3,  430.300,2,  430.300,2,   18.500,2,    1.520,2,    0.020,2,    0.800,2, -999.000,9, -999.000,9, -999.000,9, 1965.300,2, 2174.300,2
           NA,   ICE11,     74,   1,-999.0,       3,  2,20110709,0322,  72.1203, -163.2154,    38,   16.400,   -1.564,   32.342,2, -999.000,3,  460.900,2,  368.100,2,   43.320,2,   11.790,2,    0.180,2,    1.600,2, -999.000,9, -999.000,9, -999.000,9, 2141.600,2, 2237.900,2
           NA,   ICE11,     74,   1,-999.0,       2,  2,20110709,0322,  72.1203, -163.2154,    38,   25.500,   -1.699,   32.610,2, -999.000,3,  315.700,2,  315.700,2,   52.790,2,   17.520,2,    0.200,2,    2.100,2, -999.000,9, -999.000,9, -999.000,9, 2190.500,2, 2240.600,2
           NA,   ICE11,     74,   1,-999.0,       1,  2,20110709,0322,  72.1203, -163.2154,    38,   38.400,   -1.721,   33.155,2, -999.000,3,  279.300,2,  279.300,2,   43.000,2,   15.900,2,    0.200,2,    2.180,2, -999.000,9, -999.000,9, -999.000,9, 2249.500,2, 2266.200,2
           NA,   ICE11,     75,   1,-999.0,       7,  2,20110709,0512,  72.1101, -162.7116,    36,    2.500,    1.136,   31.410,2,   31.698,2,  441.200,2,  442.000,2,   12.810,2,    0.000,2,    0.000,2,    0.630,2, -999.000,9, -999.000,9, -999.000,9, 1945.200,2, 2188.800,2
           NA,   ICE11,     75,   1,-999.0,       5,  2,20110709,0512,  72.1101, -162.7116,    36,   10.200,   -0.072,   32.156,2,   32.220,2,  483.900,2,  470.600,2,   14.470,2,    0.000,2,    0.000,2,    0.620,2, -999.000,9, -999.000,9, -999.000,9, 1953.000,2, 2220.700,2
           NA,   ICE11,     75,   1,-999.0,       3,  2,20110709,0512,  72.1101, -162.7116,    36,   22.400,   -1.379,   32.530,2,   32.575,2,  381.400,2,  381.400,2,   33.040,2,    7.030,2,    0.090,2,    1.400,2, -999.000,9, -999.000,9, -999.000,9, 2129.300,2, 2237.200,2
           NA,   ICE11,     75,   1,-999.0,       1,  2,20110709,0512,  72.1101, -162.7116,    36,   35.400,   -1.627,   32.723,2,   32.702,2,  315.400,2,  315.500,2,   47.510,2,   15.640,2,    0.180,2,    2.090,2, -999.000,9, -999.000,9, -999.000,9, 2189.300,2, 2243.200,2
           NA,   ICE11,     76,   1,-999.0,      10,  2,20110709,1120,  72.8463, -163.1200,    71,    2.200,   -1.051,   29.459,2, -999.000,3,  457.600,2,  457.600,2,    2.250,2,    0.000,2,    0.000,2,    0.550,2, -999.000,9, -999.000,9, -999.000,9, 1818.500,2, 2063.200,2
           NA,   ICE11,     76,   1,-999.0,       8,  2,20110709,1120,  72.8463, -163.1200,    71,   10.200,   -1.401,   29.964,2, -999.000,3, -999.000,9, -999.000,5,    4.210,2,    0.070,2,    0.000,2,    0.610,2, -999.000,9, -999.000,9, -999.000,9, 1866.200,2, 2101.700,2
           NA,   ICE11,     76,   1,-999.0,       5,  2,20110709,1120,  72.8463, -163.1200,    71,   25.400,   -1.665,   32.271,2,   32.286,2,  414.900,2,  353.200,2,   41.170,2,   10.180,2,    0.160,2,    1.580,2, -999.000,9, -999.000,9, -999.000,9, 2160.400,2, 2222.300,2
           NA,   ICE11,     76,   1,-999.0,       3,  2,20110709,1120,  72.8463, -163.1200,    71,   50.800,   -1.747,   32.761,2,   32.762,2,  335.700,2,  333.200,2,   47.110,2,   17.610,2,    0.170,2,    1.920,2, -999.000,9, -999.000,9, -999.000,9, 2175.800,2, 2235.300,2
           NA,   ICE11,     76,   1,-999.0,       1,  2,20110709,1120,  72.8463, -163.1200,    71,   69.800,   -1.739,   33.170,2, -999.000,3,  291.800,2,  291.800,2,   38.700,2,   15.270,2,    0.170,2,    1.990,2, -999.000,9, -999.000,9, -999.000,9, 2244.600,2, 2270.500,2
           NA,   ICE11,     77,   1,-999.0,       5,  2,20110709,1322,  72.7402, -162.9894,    56,    2.400,   -1.264,   30.089,2,   30.102,2,  437.300,2,  476.200,2,    6.860,2,    0.010,2,    0.000,2,    0.600,2, -999.000,9, -999.000,9, -999.000,9, 1847.400,2, 2088.600,2
           NA,   ICE11,     77,   1,-999.0,       4,  2,20110709,1322,  72.7402, -162.9894,    56,    9.800,   -1.419,   30.639,2, -999.000,3,  440.900,2,  482.900,2,   14.490,2,    0.230,2,    0.010,2,    0.720,2, -999.000,9, -999.000,9, -999.000,9, 1936.700,2, 2158.300,2
           NA,   ICE11,     77,   1,-999.0,       3,  2,20110709,1322,  72.7402, -162.9894,    56,   15.500,   -1.641,   32.482,2,   32.466,2,  454.900,2,  440.600,2,   30.110,2,    1.650,2,    0.060,2,    1.020,2, -999.000,9, -999.000,9, -999.000,9, 2070.500,2, 2227.800,2
           NA,   ICE11,     77,   1,-999.0,       2,  2,20110709,1322,  72.7402, -162.9894,    56,   25.700,   -1.748,   32.905,2,   32.902,2,  321.700,2,  336.500,2,   45.450,2,   16.380,2,    0.200,2,    1.860,2, -999.000,9, -999.000,9, -999.000,9, 2171.500,2, 2235.000,2
           NA,   ICE11,     77,   1,-999.0,       1,  2,20110709,1322,  72.7402, -162.9894,    56,   54.700,   -1.725,   33.251,2,   33.240,2,  296.100,2,  294.700,2,   23.940,2,   12.130,2,    0.190,2,    1.760,2, -999.000,9, -999.000,9, -999.000,9, 2254.200,2, 2292.600,2
           NA,   ICE11,     78,   1,-999.0,       9,  2,20110709,1504,  72.6006, -162.8089,    41,    2.300,   -1.176,   32.447,2, -999.000,3,  412.100,2,  477.700,2,   12.320,2,    0.040,2,    0.000,2,    0.670,2, -999.000,9, -999.000,9, -999.000,9, 2013.200,2, 2235.700,2
           NA,   ICE11,     78,   1,-999.0,       7,  2,20110709,1504,  72.6006, -162.8089,    41,    9.200,   -1.535,   32.906,2,   32.915,2,  491.200,2,  449.600,2,   21.010,2,    0.730,2,    0.030,2,    0.920,2, -999.000,9, -999.000,9, -999.000,9, 2107.600,2, 2267.500,2
           NA,   ICE11,     78,   1,-999.0,       5,  2,20110709,1504,  72.6006, -162.8089,    41,   17.900,   -1.749,   32.972,2,   32.968,2,  449.600,2,  361.200,2,   30.980,2,   12.880,2,    0.210,2,    1.480,2, -999.000,9, -999.000,9, -999.000,9, 2173.000,2, 2257.800,2
           NA,   ICE11,     78,   1,-999.0,       3,  2,20110709,1504,  72.6006, -162.8089,    41,   25.300,   -1.754,   32.999,2,   32.996,2,  354.600,2,  332.700,2,   39.380,2,   15.910,2,    0.220,2,    1.800,2, -999.000,9, -999.000,9, -999.000,9, 2184.300,2, 2255.200,2
           NA,   ICE11,     78,   1,-999.0,       1,  2,20110709,1504,  72.6006, -162.8089,    41,   39.800,   -1.707,   33.249,2,   33.225,2,  301.000,2,  298.300,2,   20.420,2,   12.380,2,    0.240,2,    1.750,2, -999.000,9, -999.000,9, -999.000,9, 2256.800,2, 2290.300,2
           NA,   ICE11,     79,   1,-999.0,       4,  2,20110709,1622,  72.4778, -162.6400,    41,    2.600,   -0.368,   29.912,2,   29.940,2,  412.700,2,  412.600,2,    4.700,2,    0.000,2,    0.020,2,    0.540,2, -999.000,9, -999.000,9, -999.000,9, 1850.400,2, 2073.300,2
           NA,   ICE11,     79,   1,-999.0,       3,  2,20110709,1622,  72.4778, -162.6400,    41,    9.600,   -0.309,   30.357,2, -999.000,3,  405.600,2,  423.600,2,    4.700,2,    0.000,2,    0.000,2,    0.500,2, -999.000,9, -999.000,9, -999.000,9, 1877.600,2, 2110.700,2
           NA,   ICE11,     79,   1,-999.0,       2,  2,20110709,1622,  72.4778, -162.6400,    41,   23.500,   -1.701,   32.963,2,   32.956,2,  410.000,2,  410.000,2,   26.680,2,    6.250,2,    0.180,2,    1.100,2, -999.000,9, -999.000,9, -999.000,9, 2154.000,2, 2266.000,2
           NA,   ICE11,     79,   1,-999.0,       1,  2,20110709,1622,  72.4778, -162.6400,    41,   38.500,   -1.707,   33.232,2, -999.000,3,  322.200,2,  322.200,2,   27.360,2,   11.970,2,    0.190,2,    1.660,2, -999.000,9, -999.000,9, -999.000,9, 2231.700,2, 2276.800,2