BOTTLE,20220919JOAExport
EXPOCODE,SECT_ID,STNNBR,CASTNO,SAMPNO,BTLNBR,BTLNBR_FLAG_W,DATE,TIME,LATITUDE,LONGITUDE,DEPTH,CTDPRS,CTDTMP,CTDSAL,CTDSAL_FLAG_W,SALNTY,SALNTY_FLAG_W,CTDOXY,CTDOXY_FLAG_W,OXYGEN,OXYGEN_FLAG_W,SILCAT,SILCAT_FLAG_W,NITRAT,NITRAT_FLAG_W,NITRIT,NITRIT_FLAG_W,PHSPHT,PHSPHT_FLAG_W,CFC-11,CFC-11_FLAG_W,CFC-12,CFC-12_FLAG_W,SF6,SF6_FLAG_W,TCARBN,TCARBN_FLAG_W,ALKALI,ALKALI_FLAG_W
,,,,,,,,,,,,DB,ITS-90,PSS-78,,PSS-78,,UMOL/KG,,UMOL/KG,,UMOL/KG,,UMOL/KG,,UMOL/KG,,UMOL/KG,,NA,,NA,,NA,,UMOL/KG,,UMOL/KG
           NA,   ICE11,     37,   1,-999.0,       9,  2,20110703,0705,  71.4020, -162.5260,    44,    4.500,    1.978,   32.543,2,   32.543,2,  374.400,2,  374.500,2,    1.660,2,    0.000,2,    0.000,2,    0.500,2, -999.000,9, -999.000,9, -999.000,9, 1982.600,2, 2239.500,2
           NA,   ICE11,     37,   1,-999.0,       8,  2,20110703,0705,  71.4020, -162.5260,    44,   10.400,    1.997,   32.540,2,   32.542,2,  373.600,2,  373.200,2,    1.560,2,    0.000,2,    0.000,2,    0.500,2, -999.000,9, -999.000,9, -999.000,9, 2012.800,2, 2240.500,2
           NA,   ICE11,     37,   1,-999.0,       5,  2,20110703,0705,  71.4020, -162.5260,    44,   26.000,    0.148,   32.657,2, -999.000,3,  415.500,2,  416.400,2,    5.180,2,    0.110,2,    0.000,2,    0.650,2, -999.000,9, -999.000,9, -999.000,9, 2045.200,2, 2252.200,2
           NA,   ICE11,     37,   1,-999.0,       3,  2,20110703,0705,  71.4020, -162.5260,    44,   33.700,   -1.199,   32.901,2,   32.898,2,  433.400,2,  347.200,2,    7.330,2,    5.570,2,    0.130,2,    1.080,2, -999.000,9, -999.000,9, -999.000,9, 2134.300,2, 2262.600,2
           NA,   ICE11,     37,   1,-999.0,       1,  2,20110703,0705,  71.4020, -162.5260,    44,   45.000,   -1.347,   32.933,2,   32.920,2,  324.600,2,  324.200,2,    9.870,2,    8.480,2,    0.160,2,    1.320,2, -999.000,9, -999.000,9, -999.000,9, 2182.000,2, 2261.100,2
           NA,   ICE11,     38,   1,-999.0,       8,  2,20110703,0858,  71.4662, -162.9008,    42,    2.600,    1.817,   32.302,2,   32.303,2,  385.200,2,  384.800,2,    2.250,2,    0.000,2,    0.000,2,    0.360,2, -999.000,9, -999.000,9, -999.000,9, 1983.800,2, 2225.800,2
           NA,   ICE11,     38,   1,-999.0,       5,  2,20110703,0858,  71.4662, -162.9008,    42,   11.000,    1.816,   32.302,2,   32.303,2,  385.300,2,  384.900,2,    2.250,2,    0.000,2,    0.000,2,    0.360,2, -999.000,9, -999.000,9, -999.000,9, 1987.300,2, 2225.900,2
           NA,   ICE11,     38,   1,-999.0,       3,  2,20110703,0858,  71.4662, -162.9008,    42,   29.500,   -1.637,   32.803,2,   32.799,2,  416.500,2,  416.300,2,   28.150,2,    7.090,2,    0.130,2,    1.040,2, -999.000,9, -999.000,9, -999.000,9, 2111.600,2,    0.000,5
           NA,   ICE11,     38,   1,-999.0,       1,  2,20110703,0858,  71.4662, -162.9008,    42,   42.000,   -1.581,   32.983,2, -999.000,3,  328.700,2,  328.400,2,   30.100,2,   13.000,2,    0.210,2,    1.620,2, -999.000,9, -999.000,9, -999.000,9, 2180.500,2,    0.000,5
           NA,   ICE11,     39,   1,-999.0,       7,  2,20110703,1012,  71.5364, -163.2630,    42,    3.300,    1.207,   32.106,2,   32.109,2,  416.300,2,  416.000,2,    3.810,2,    0.000,2,    0.000,2,    0.420,2, -999.000,9, -999.000,9, -999.000,9, 1938.300,2, 2211.200,2
           NA,   ICE11,     39,   1,-999.0,       5,  2,20110703,1012,  71.5364, -163.2630,    42,   11.500,    1.202,   32.106,2,   32.111,2,  417.700,2,  417.000,2,    3.720,2,    0.000,2,    0.000,2,    0.400,2, -999.000,9, -999.000,9, -999.000,9, 1952.800,2, 2210.700,2
           NA,   ICE11,     39,   1,-999.0,       3,  2,20110703,1012,  71.5364, -163.2630,    42,   28.600,   -1.594,   32.787,2,   32.778,2,  468.800,2,  480.500,2,   23.560,2,    0.190,2,    0.010,2,    0.650,2, -999.000,9, -999.000,9, -999.000,9, 2071.200,2, 2246.400,2
           NA,   ICE11,     39,   1,-999.0,       1,  2,20110703,1012,  71.5364, -163.2630,    42,   41.200,   -1.608,   32.974,2, -999.000,3,  317.900,2,  325.100,2,   40.360,2,   14.590,2,    0.200,2,    1.790,2, -999.000,9, -999.000,9, -999.000,9, 2198.200,2, 2248.600,2
           NA,   ICE11,     40,   1,-999.0,       4,  2,20110703,1147,  71.6026, -163.6359,    42,    3.500,    0.789,   31.563,2,   31.567,2,  440.300,2,  439.700,2,   12.910,2,    0.000,2,    0.000,2,    0.600,2, -999.000,9, -999.000,9, -999.000,9, 1863.800,2, 2166.800,2
           NA,   ICE11,     40,   1,-999.0,       3,  2,20110703,1147,  71.6026, -163.6359,    42,   11.400,    0.819,   31.575,2,   31.575,2,  441.000,2,  440.100,2,   12.820,2,    0.000,2,    0.000,2,    0.580,2, -999.000,9, -999.000,9, -999.000,9, 1865.600,2, 2169.900,2
           NA,   ICE11,     40,   1,-999.0,       2,  2,20110703,1147,  71.6026, -163.6359,    42,   25.400,   -1.622,   32.542,2, -999.000,3,  437.500,2,  437.300,2,   20.530,2,    0.000,2,    0.010,2,    0.900,2, -999.000,9, -999.000,9, -999.000,9, 2087.000,2, 2229.700,2
           NA,   ICE11,     40,   1,-999.0,       1,  2,20110703,1147,  71.6026, -163.6359,    42,   40.100,   -1.727,   32.860,2,   32.859,2,  324.000,2,  323.700,2,   49.160,2,   17.080,2,    0.170,2,    1.980,2, -999.000,9, -999.000,9, -999.000,9, 2189.700,2, 2240.800,2
           NA,   ICE11,     41,   1,-999.0,       7,  2,20110703,1327,  71.6763, -164.0136,    37,    2.800,    0.397,   31.382,2,   31.382,2,  422.600,2,  422.300,2,    6.650,2,    0.000,2,    0.000,2,    0.470,2, -999.000,9, -999.000,9, -999.000,9, 1876.400,2, 2156.300,2
           NA,   ICE11,     41,   1,-999.0,       5,  2,20110703,1327,  71.6763, -164.0136,    37,   11.600,    0.389,   31.379,2, -999.000,3,  422.800,2,  423.200,2,    6.560,2,    0.000,2,    0.000,2,    0.470,2, -999.000,9, -999.000,9, -999.000,9, 1888.000,2, 2157.800,2
           NA,   ICE11,     41,   1,-999.0,       3,  2,20110703,1327,  71.6763, -164.0136,    37,   25.700,   -1.700,   32.792,2,   32.790,2,  371.200,2,  370.800,2,   35.680,2,   12.100,2,    0.130,2,    1.500,2, -999.000,9, -999.000,9, -999.000,9, 2156.500,2, 2233.900,2
           NA,   ICE11,     41,   1,-999.0,       1,  2,20110703,1327,  71.6763, -164.0136,    37,   36.300,   -1.709,   33.276,2, -999.000,3,  313.900,2,  313.700,2,   36.350,2,   14.930,2,    0.200,2,    1.820,2, -999.000,9, -999.000,9, -999.000,9, 2219.700,2, 2256.400,2
           NA,   ICE11,     42,   1,-999.0,       5,  2,20110703,1500,  71.7331, -164.4045,    36,    2.800,   -0.589,   31.618,2,   31.622,2,  487.400,2,  486.600,2,    6.650,2,    0.000,2,    0.000,2,    0.510,2, -999.000,9, -999.000,9, -999.000,9, 1893.100,2, 2174.700,2
           NA,   ICE11,     42,   1,-999.0,       4,  2,20110703,1500,  71.7331, -164.4045,    36,   10.900,   -0.596,   31.618,2, -999.000,3,  488.200,2,  486.900,2,    7.340,2,    0.000,2,    0.000,2,    0.540,2, -999.000,9, -999.000,9, -999.000,9, 1900.200,2, 2178.700,2
           NA,   ICE11,     42,   1,-999.0,       3,  2,20110703,1500,  71.7331, -164.4045,    36,   17.400,   -1.637,   32.383,2,   32.380,2,  449.100,2,  446.700,2,   18.870,2,    1.160,2,    0.030,2,    0.920,2, -999.000,9, -999.000,9, -999.000,9, 2068.100,2, 2224.900,2
           NA,   ICE11,     42,   1,-999.0,       2,  2,20110703,1500,  71.7331, -164.4045,    36,   26.300,   -1.747,   32.926,2, -999.000,3,  324.300,2,  325.000,2,   38.700,2,   14.830,2,    0.190,2,    1.810,2, -999.000,9, -999.000,9, -999.000,9, 2212.400,2, 2254.200,2
           NA,   ICE11,     42,   1,-999.0,       1,  2,20110703,1500,  71.7331, -164.4045,    36,   35.900,   -1.706,   33.176,2, -999.000,3,  302.600,2,  303.900,2,   27.260,2,   12.620,2,    0.190,2,    1.720,2, -999.000,9, -999.000,9, -999.000,9, 2245.100,2, 2282.500,2
           NA,   ICE11,     43,   1,-999.0,       9,  2,20110703,1626,  71.8076, -164.7677,    39,    2.600,   -1.260,   31.015,2, -999.000,3,  550.600,2,  550.000,2,   12.530,2,    0.000,2,    0.000,2,    0.560,2, -999.000,9, -999.000,9, -999.000,9, 1845.300,2, 2133.600,2
           NA,   ICE11,     43,   1,-999.0,       7,  2,20110703,1626,  71.8076, -164.7677,    39,   10.900,    1.161,   32.151,2, -999.000,3,  448.500,2,  400.700,2,    8.610,2,    1.490,2,    0.030,2,    0.660,2, -999.000,9, -999.000,9, -999.000,9, 2019.200,2, 2228.300,2
           NA,   ICE11,     43,   1,-999.0,       5,  2,20110703,1626,  71.8076, -164.7677,    39,   17.300,   -1.356,   32.766,2,   32.743,2,  427.600,2,  380.600,2,   25.900,2,    8.360,2,    0.140,2,    1.270,2, -999.000,9, -999.000,9, -999.000,9, 2124.600,2, 2242.000,2
           NA,   ICE11,     43,   1,-999.0,       3,  2,20110703,1626,  71.8076, -164.7677,    39,   26.300,   -1.680,   33.001,2,   33.016,2,  408.900,2,  341.400,2,   25.700,2,   11.750,2,    0.180,2,    1.510,2, -999.000,9, -999.000,9, -999.000,9, 2206.800,2, 2270.800,2
           NA,   ICE11,     43,   1,-999.0,       1,  2,20110703,1626,  71.8076, -164.7677,    39,   37.100,   -1.631,   33.042,2,   33.041,2,  366.400,2,  316.600,2,   20.230,2,   11.820,2,    0.190,2,    1.560,2, -999.000,9, -999.000,9, -999.000,9, 2211.000,2, 2275.400,2
           NA,   ICE11,     44,   1,-999.0,       4,  2,20110703,1910,  71.8961, -165.2054,    39,    2.500,   -0.131,   30.538,2, -999.000,3,  370.100,2,  372.700,2,    1.370,2,    0.000,2,    0.000,2,    0.400,2, -999.000,9, -999.000,9, -999.000,9, 1892.400,2, 2118.800,2
           NA,   ICE11,     44,   1,-999.0,       3,  2,20110703,1910,  71.8961, -165.2054,    39,   10.300,    2.324,   32.070,2, -999.000,3,  378.300,2,  379.200,2,    1.080,2,    0.000,2,    0.000,2,    0.400,2, -999.000,9, -999.000,9, -999.000,9, 1967.400,2, 2205.900,2
           NA,   ICE11,     44,   1,-999.0,       2,  2,20110703,1910,  71.8961, -165.2054,    39,   22.200,   -0.165,   32.372,2,   32.388,2,  436.300,2,  442.100,2,    1.080,2,    0.390,2,    0.000,2,    0.490,2, -999.000,9, -999.000,9, -999.000,9, 1978.000,2, 2225.700,2
           NA,   ICE11,     44,   1,-999.0,       1,  2,20110703,1910,  71.8961, -165.2054,    39,   38.600,   -1.415,   32.858,2, -999.000,3,  331.300,2,  322.000,2,   19.350,2,   12.370,2,    0.220,2,    1.460,2, -999.000,9, -999.000,9, -999.000,9, 2181.800,2, 2250.300,2
           NA,   ICE11,     45,   1,-999.0,      10,  2,20110703,2040,  71.9464, -165.4745,    42,    3.400,    0.181,   30.483,2, -999.000,3,  365.300,2,  365.200,2,    0.880,2,    0.000,2,    0.000,2,    0.400,2, -999.000,9, -999.000,9, -999.000,9, 1876.100,2, 2094.700,2
           NA,   ICE11,     45,   1,-999.0,       8,  2,20110703,2040,  71.9464, -165.4745,    42,   10.300,    0.077,   30.439,2, -999.000,3,  365.300,2,  364.500,2,    0.980,2,    0.000,2,    0.000,2,    0.370,2, -999.000,9, -999.000,9, -999.000,9, 1884.600,2, 2113.600,2
           NA,   ICE11,     45,   1,-999.0,       6,  2,20110703,2040,  71.9464, -165.4745,    42,   25.400,    1.828,   32.179,2,   32.172,2,  391.800,2,  391.700,2,    1.170,2,    0.000,2,    0.000,2,    0.420,2, -999.000,9, -999.000,9, -999.000,9, 1971.800,2, 2210.600,2
           NA,   ICE11,     45,   1,-999.0,       4,  2,20110703,2040,  71.9464, -165.4745,    42,   29.500,    0.527,   32.276,2, -999.000,3,  407.900,2,  409.800,2,    1.660,2,    0.360,2,    0.000,2,    0.520,2, -999.000,9, -999.000,9, -999.000,9, 1991.400,2, 2224.100,2
           NA,   ICE11,     45,   1,-999.0,       1,  2,20110703,2040,  71.9464, -165.4745,    42,   40.300,   -1.426,   32.835,2, -999.000,3,  275.500,2,  277.100,2,    8.800,2,   12.970,2,    0.190,2,    1.540,2, -999.000,9, -999.000,9, -999.000,9, 2224.300,2, 2248.600,2
           NA,   ICE11,     46,   1,-999.0,       9,  2,20110703,2357,  72.0246, -165.8567,    45,    2.200,    2.829,   31.712,2,   31.722,2,  348.100,2, -999.000,1,    1.170,2,    0.000,2,    0.000,2,    0.410,2, -999.000,9, -999.000,9, -999.000,9, 1956.200,2, 2174.300,2
           NA,   ICE11,     46,   1,-999.0,       8,  2,20110703,2357,  72.0246, -165.8567,    45,   10.600,    2.825,   31.713,2, -999.000,3,  348.700,2, -999.000,1,    1.270,2,    0.020,2,    0.000,2,    0.420,2, -999.000,9, -999.000,9, -999.000,9, 1969.000,2, 2181.300,2
           NA,   ICE11,     46,   1,-999.0,       4,  2,20110703,2357,  72.0246, -165.8567,    45,   26.900,   -0.280,   32.552,2,   32.528,2,  420.800,2, -999.000,1,    6.160,2,    1.650,2,    0.020,2,    0.780,2, -999.000,9, -999.000,9, -999.000,9, 2029.500,2, 2232.700,2
           NA,   ICE11,     46,   1,-999.0,       1,  2,20110703,2357,  72.0246, -165.8567,    45,   44.200,   -1.641,   33.174,2, -999.000,3,  289.200,2, -999.000,1,   14.460,2,   10.460,2,    0.180,2,    1.550,2, -999.000,9, -999.000,9, -999.000,9, 2239.700,2, 2270.300,2
           NA,   ICE11,     47,   1,-999.0,       7,  2,20110704,0417,  72.0863, -166.2105,    46,    2.700,    3.422,   31.910,2,   31.916,2,  348.100,2,  347.300,2,    1.080,2,    0.000,2,    0.000,2,    0.390,2, -999.000,9, -999.000,9, -999.000,9, 1964.600,2, 2190.500,2
           NA,   ICE11,     47,   1,-999.0,       5,  2,20110704,0417,  72.0863, -166.2105,    46,   10.300,    3.364,   31.912,2, -999.000,3,  356.000,2,  357.500,2,    1.080,2,    0.000,2,    0.000,2,    0.390,2, -999.000,9, -999.000,9, -999.000,9, 1966.600,2, 2192.200,2
           NA,   ICE11,     47,   1,-999.0,       3,  2,20110704,0417,  72.0863, -166.2105,    46,   24.900,   -0.655,   32.664,2,   32.687,2,  452.100,2,  454.200,2,    3.910,2,    0.200,2,    0.000,2,    0.750,2, -999.000,9, -999.000,9, -999.000,9, 2030.100,2, 2244.600,2
           NA,   ICE11,     47,   1,-999.0,       1,  2,20110704,0417,  72.0863, -166.2105,    46,   45.200,   -1.637,   33.219,2, -999.000,3,  303.000,2,  302.900,2,   14.270,2,   10.750,2,    0.190,2,    1.590,2, -999.000,9, -999.000,9, -999.000,9, 2254.000,2, 2278.900,2
           NA,   ICE11,     48,   1,-999.0,       9,  2,20110704,0526,  72.1613, -166.5975,    47,    2.700,    3.716,   31.738,2, -999.000,3,  349.700,2,  349.800,2,    2.150,2,    0.130,2,    0.000,2,    0.400,2, -999.000,9, -999.000,9, -999.000,9, 1962.800,2, 2185.700,2
           NA,   ICE11,     48,   1,-999.0,       7,  2,20110704,0526,  72.1613, -166.5975,    47,   10.000,    1.326,   32.431,2,   32.397,2,  366.300,2, -999.000,3,    3.810,2,    0.010,2,    0.000,2,    0.480,2, -999.000,9, -999.000,9, -999.000,9, 1971.900,2, 2227.700,2
           NA,   ICE11,     48,   1,-999.0,       5,  2,20110704,0526,  72.1613, -166.5975,    47,   24.500,   -1.568,   32.850,2,   32.866,2,  381.100,2,  381.000,2,   26.490,2,   10.410,2,    0.140,2,    1.330,2, -999.000,9, -999.000,9, -999.000,9, 2150.600,2, 2224.300,2
           NA,   ICE11,     48,   1,-999.0,       3,  2,20110704,0526,  72.1613, -166.5975,    47,   34.200,   -1.745,   32.972,2,   32.988,2,  329.600,2,  329.600,2,   44.080,2,   17.880,2,    0.220,2,    1.930,2, -999.000,9, -999.000,9, -999.000,9, 2188.000,2, 2239.000,2
           NA,   ICE11,     48,   1,-999.0,       1,  2,20110704,0526,  72.1613, -166.5975,    47,   46.200,   -1.703,   33.151,2, -999.000,3,  306.000,2,  306.100,2,   34.200,2,   15.910,2,    0.210,2,    1.860,2, -999.000,9, -999.000,9, -999.000,9, 2230.000,2, 2263.400,2
           NA,   ICE11,     49,   1,-999.0,       9,  2,20110704,0629,  72.2134, -166.9594,    47,    2.700,    3.738,   31.744,2, -999.000,3,  349.000,2,  342.800,2,    1.760,2,    0.010,2,    0.000,2,    0.380,2, -999.000,9, -999.000,9, -999.000,9, 1948.100,2, 2164.500,2
           NA,   ICE11,     49,   1,-999.0,       7,  2,20110704,0629,  72.2134, -166.9594,    47,   10.000,    3.747,   31.744,2, -999.000,3,  349.000,2,  357.800,2,    2.930,2,    0.100,2,    0.000,2,    0.430,2, -999.000,9, -999.000,9, -999.000,9, 1970.400,2, 2178.900,2
           NA,   ICE11,     49,   1,-999.0,       5,  2,20110704,0629,  72.2134, -166.9594,    47,   25.900,   -1.164,   32.577,2, -999.000,3,  430.400,2,  430.600,2,   16.030,2,    2.970,2,    0.040,2,    0.910,2, -999.000,9, -999.000,9, -999.000,9, 2059.400,2, 2244.300,2
           NA,   ICE11,     49,   1,-999.0,       3,  2,20110704,0629,  72.2134, -166.9594,    47,   35.800,   -1.707,   32.925,2,   32.932,2,  410.100,2,  363.900,2,   40.560,2,   16.690,2,    0.180,2,    1.740,2, -999.000,9, -999.000,9, -999.000,9, 2148.900,2, 2234.800,2
           NA,   ICE11,     49,   1,-999.0,       1,  2,20110704,0629,  72.2134, -166.9594,    47,   46.800,   -1.733,   33.077,2, -999.000,3,  325.800,2,  325.300,2,   41.830,2,   16.790,2,    0.220,2,    1.930,2, -999.000,9, -999.000,9, -999.000,9, 2198.700,2, 2245.600,2
           NA,   ICE11,     50,   1,-999.0,       9,  2,20110704,0815,  72.3007, -167.3841,    52,    2.600,    1.290,   32.211,2, -999.000,3,  396.100,2,  394.100,2,    6.260,2,    0.280,2,    0.000,2,    0.570,2, -999.000,9, -999.000,9, -999.000,9, 1985.500,2, 2219.900,2
           NA,   ICE11,     50,   1,-999.0,       7,  2,20110704,0815,  72.3007, -167.3841,    52,   10.400,    1.235,   32.211,2, -999.000,3,  406.400,2,  408.500,2,    7.240,2,    0.670,2,    0.000,2,    0.620,2, -999.000,9, -999.000,9, -999.000,9, 2009.800,2, 2225.300,2
           NA,   ICE11,     50,   1,-999.0,       5,  2,20110704,0815,  72.3007, -167.3841,    52,   20.100,   -1.645,   32.616,2, -999.000,3,  394.600,2,  392.700,2,   32.060,2,   11.980,2,    0.110,2,    1.490,2, -999.000,9, -999.000,9, -999.000,9, 2122.400,2, 2242.000,2
           NA,   ICE11,     50,   1,-999.0,       3,  2,20110704,0815,  72.3007, -167.3841,    52,   25.700,   -1.753,   32.944,2,   32.950,2,  325.200,2,  333.700,2,   49.160,2,   19.200,2,    0.190,2,    2.040,2, -999.000,9, -999.000,9, -999.000,9, 2172.800,2, 2232.700,2
           NA,   ICE11,     50,   1,-999.0,       1,  2,20110704,0815,  72.3007, -167.3841,    52,   47.500,   -1.724,   33.246,2,   33.213,2,  300.200,2,  297.400,2,   27.070,2,   14.320,2,    0.190,2,    1.860,2, -999.000,9, -999.000,9, -999.000,9, 2253.200,2, 2288.100,2
           NA,   ICE11,     51,   1,-999.0,       9,  2,20110704,0927,  72.3608, -167.7538,    53,    2.300,    1.529,   32.394,2,   32.397,2,  390.700,2,  390.900,2,    4.990,2,    0.010,2,    0.000,2,    0.510,2, -999.000,9, -999.000,9, -999.000,9, 1972.300,2, 2226.800,2
           NA,   ICE11,     51,   1,-999.0,       7,  2,20110704,0927,  72.3608, -167.7538,    53,   10.300,    1.512,   32.394,2,   32.399,2,  391.800,2,  391.500,2,    5.080,2,    0.000,2,    0.000,2,    0.490,2, -999.000,9, -999.000,9, -999.000,9, 1977.700,2, 2232.000,2
           NA,   ICE11,     51,   1,-999.0,       5,  2,20110704,0927,  72.3608, -167.7538,    53,   20.500,   -1.440,   32.590,2, -999.000,3,  412.900,2,  413.000,2,   25.610,2,    3.610,2,    0.080,2,    1.130,2, -999.000,9, -999.000,9, -999.000,9, 2104.400,2, 2241.500,2
           NA,   ICE11,     51,   1,-999.0,       3,  2,20110704,0927,  72.3608, -167.7538,    53,   25.700,   -1.737,   32.700,2, -999.000,3,  385.300,2,  385.000,2,   32.060,2,    7.680,2,    0.110,2,    1.430,2, -999.000,9, -999.000,9, -999.000,9, 2139.600,2, 2238.900,2
           NA,   ICE11,     51,   1,-999.0,       1,  2,20110704,0927,  72.3608, -167.7538,    53,   49.400,   -1.735,   33.192,2, -999.000,3,  296.900,2,  297.100,2,   38.210,2,   12.900,2,    0.180,2,    1.980,2, -999.000,9, -999.000,9, -999.000,9, 2249.100,2, 2273.300,2