BOTTLE,20220919JOAExport
EXPOCODE,SECT_ID,STNNBR,CASTNO,SAMPNO,BTLNBR,BTLNBR_FLAG_W,DATE,TIME,LATITUDE,LONGITUDE,DEPTH,CTDPRS,CTDTMP,CTDSAL,CTDSAL_FLAG_W,SALNTY,SALNTY_FLAG_W,CTDOXY,CTDOXY_FLAG_W,OXYGEN,OXYGEN_FLAG_W,SILCAT,SILCAT_FLAG_W,NITRAT,NITRAT_FLAG_W,NITRIT,NITRIT_FLAG_W,PHSPHT,PHSPHT_FLAG_W,CFC-11,CFC-11_FLAG_W,CFC-12,CFC-12_FLAG_W,SF6,SF6_FLAG_W,TCARBN,TCARBN_FLAG_W,ALKALI,ALKALI_FLAG_W
,,,,,,,,,,,,DB,ITS-90,PSS-78,,PSS-78,,UMOL/KG,,UMOL/KG,,UMOL/KG,,UMOL/KG,,UMOL/KG,,UMOL/KG,,NA,,NA,,NA,,UMOL/KG,,UMOL/KG
           NA,   ICE11,     80,   1,-999.0,      10,  2,20110709,1826,  72.3516, -162.4989,    39,    2.600,   -0.468,   30.042,2, -999.000,3,  458.700,2,  458.700,2,   14.400,2,    0.000,2,    0.000,2,    0.710,2, -999.000,9, -999.000,9, -999.000,9, 1932.700,2, 2141.700,2
           NA,   ICE11,     80,   1,-999.0,       8,  2,20110709,1826,  72.3516, -162.4989,    39,   10.600,   -1.419,   32.323,2, -999.000,3,  489.500,2,  489.500,2,   25.130,2,    0.020,2,    0.000,2,    0.850,2, -999.000,9, -999.000,9, -999.000,9, 2009.500,2, 2206.700,2
           NA,   ICE11,     80,   1,-999.0,       5,  2,20110709,1826,  72.3516, -162.4989,    39,   15.600,   -1.445,   32.398,2, -999.000,3,  531.400,2,  484.500,2,   20.530,2,    0.090,2,    0.010,2,    0.800,2, -999.000,9, -999.000,9, -999.000,9, 1987.800,2, 2184.800,2
           NA,   ICE11,     80,   1,-999.0,       3,  2,20110709,1826,  72.3516, -162.4989,    39,   25.700,   -1.735,   32.762,2,   32.751,2,  323.500,2,  330.600,2,   49.750,2,   17.510,2,    0.160,2,    1.980,2, -999.000,9, -999.000,9, -999.000,9, 2184.000,2, 2237.700,2
           NA,   ICE11,     80,   1,-999.0,       1,  2,20110709,1826,  72.3516, -162.4989,    39,   36.700,   -1.741,   32.955,2, -999.000,3,  354.700,2,  346.700,2,   42.120,2,   15.170,2,    0.210,2,    1.760,2, -999.000,9, -999.000,9, -999.000,9, 2178.800,2, 2241.700,2
           NA,   ICE11,     81,   1,-999.0,       5,  2,20110709,2025,  72.2304, -162.3032,    35,    3.300,    0.876,   31.115,2,   31.117,2,  399.900,2,  396.800,2,    5.870,2,    0.000,2,    0.000,2,    0.550,2, -999.000,9, -999.000,9, -999.000,9, -999.000,3, -999.000,3
           NA,   ICE11,     81,   1,-999.0,       4,  2,20110709,2025,  72.2304, -162.3032,    35,   10.700,    0.863,   31.131,2, -999.000,3,  409.500,2,  409.400,2,    8.510,2,    0.010,2,    0.000,2,    0.610,2, -999.000,9, -999.000,9, -999.000,9, -999.000,3, -999.000,3
           NA,   ICE11,     81,   1,-999.0,       3,  2,20110709,2025,  72.2304, -162.3032,    35,   20.800,   -1.651,   32.443,2,   32.423,2,  405.900,2,  398.100,2,   29.230,2,    1.080,2,    0.030,2,    1.100,2, -999.000,9, -999.000,9, -999.000,9, -999.000,3, -999.000,3
           NA,   ICE11,     81,   1,-999.0,       2,  2,20110709,2025,  72.2304, -162.3032,    35,   25.900,   -1.684,   32.569,2,   32.564,2,  325.500,2,  325.500,2,   51.520,2,   16.680,2,    0.220,2,    1.970,2, -999.000,9, -999.000,9, -999.000,9, -999.000,3, -999.000,3
           NA,   ICE11,     81,   1,-999.0,       1,  2,20110709,2025,  72.2304, -162.3032,    35,   33.400,   -1.695,   32.717,2,   32.694,2,  302.500,2,  302.500,2,   55.620,2,   17.480,2,    0.220,2,    2.270,2, -999.000,9, -999.000,9, -999.000,9, -999.000,4, -999.000,3
           NA,   ICE11,     81,   2,-999.0,       9,  2,20110709,2211,  72.2365, -162.2911,    35,    3.200,    0.966,   31.191,2, -999.000,3,  376.700,2,  380.800,2,   18.590,2,    3.920,2,    0.050,2,    0.980,2, -999.000,9, -999.000,9, -999.000,9, -999.000,3, -999.000,3
           NA,   ICE11,     81,   2,-999.0,       7,  2,20110709,2211,  72.2365, -162.2911,    35,   10.600,   -1.700,   32.599,2,   32.608,2,  363.100,2,  307.500,2,   54.840,2,   17.370,2,    0.210,2,    2.150,2, -999.000,9, -999.000,9, -999.000,9, -999.000,3, -999.000,3
           NA,   ICE11,     81,   2,-999.0,       5,  2,20110709,2211,  72.2365, -162.2911,    35,   20.600,   -1.708,   32.644,2,   32.618,2,  334.700,2,  309.900,2,   53.960,2,   17.460,2,    0.210,2,    2.120,2, -999.000,9, -999.000,9, -999.000,9, -999.000,3, -999.000,1
           NA,   ICE11,     81,   2,-999.0,       3,  2,20110709,2211,  72.2365, -162.2911,    35,   25.300,   -1.700,   32.584,2,   32.568,2,  348.600,2,  324.000,2,   51.230,2,   16.560,2,    0.210,2,    2.010,2, -999.000,9, -999.000,9, -999.000,9, -999.000,3, -999.000,3
           NA,   ICE11,     81,   2,-999.0,       1,  2,20110709,2211,  72.2365, -162.2911,    35,   33.800,   -1.703,   32.733,2,   32.701,2,  296.000,2,  298.200,2,   56.400,2,   17.700,2,    0.220,2,    2.260,2, -999.000,9, -999.000,9, -999.000,9, -999.000,3, -999.000,3
           NA,   ICE11,     82,   1,-999.0,       7,  2,20110710,0310,  72.1053, -162.1433,    26,    2.500,    1.918,   31.809,2,   31.809,2,  390.900,2,  390.700,2,    5.090,2,    0.000,2,    0.000,2,    0.530,2, -999.000,9, -999.000,9, -999.000,9, 1944.300,2, -999.000,3
           NA,   ICE11,     82,   1,-999.0,       5,  2,20110710,0310,  72.1053, -162.1433,    26,   10.400,    1.896,   31.808,2,   31.823,2,  392.500,2,  392.200,2,    5.090,2,    0.000,2,    0.000,2,    0.520,2, -999.000,9, -999.000,9, -999.000,9, 1938.800,2, -999.000,3
           NA,   ICE11,     82,   1,-999.0,       3,  2,20110710,0310,  72.1053, -162.1433,    26,   17.400,    1.541,   31.886,2, -999.000,3,  406.700,2,  406.500,2,    7.240,2,    0.140,2,    0.000,2,    0.570,2, -999.000,9, -999.000,9, -999.000,9, 1952.400,2, -999.000,3
           NA,   ICE11,     82,   1,-999.0,       1,  2,20110710,0310,  72.1053, -162.1433,    26,   26.500,   -1.617,   32.423,2, -999.000,3,  332.900,2,  332.700,2,   23.760,2,    7.710,2,    0.110,2,    1.490,2, -999.000,9, -999.000,9, -999.000,9, 2115.600,2, -999.000,3
           NA,   ICE11,     83,   1,-999.0,       4,  2,20110710,0431,  72.2265, -161.9375,    34,    2.500,    0.649,   30.616,2,   30.613,2,  396.900,2,  395.100,2,    3.130,2,    0.000,2,    0.000,2,    0.570,2, -999.000,9, -999.000,9, -999.000,9, -999.000,4, -999.000,1
           NA,   ICE11,     83,   1,-999.0,       3,  2,20110710,0431,  72.2265, -161.9375,    34,   10.300,    0.695,   30.648,2, -999.000,3,  396.300,2,  406.500,2,    4.700,2,    0.030,2,    0.000,2,    0.610,2, -999.000,9, -999.000,9, -999.000,9, -999.000,4, -999.000,1
           NA,   ICE11,     83,   1,-999.0,       2,  2,20110710,0431,  72.2265, -161.9375,    34,   22.200,   -1.586,   32.429,2, -999.000,3,  501.100,2,  372.500,2,   33.540,2,    9.050,2,    0.220,2,    1.480,2, -999.000,9, -999.000,9, -999.000,9, -999.000,4, -999.000,1
           NA,   ICE11,     83,   1,-999.0,       1,  2,20110710,0431,  72.2265, -161.9375,    34,   34.100,   -1.676,   32.680,2,   32.659,2,  301.900,2,  301.700,2,   54.940,2,   17.080,2,    0.230,2,    2.200,2, -999.000,9, -999.000,9, -999.000,9, -999.000,4, -999.000,1
           NA,   ICE11,     84,   1,-999.0,       7,  2,20110710,0555,  72.3502, -161.7625,    40,    2.600,    0.331,   30.152,2, -999.000,3,  395.400,2,  395.200,2,    4.110,2,    0.000,2,    0.010,2,    0.590,2, -999.000,9, -999.000,9, -999.000,9, 1913.700,2, -999.000,1
           NA,   ICE11,     84,   1,-999.0,       5,  2,20110710,0555,  72.3502, -161.7625,    40,   10.300,    0.272,   31.091,2, -999.000,3,  409.800,2,  409.500,2,   14.190,2,    0.330,2,    0.020,2,    0.790,2, -999.000,9, -999.000,9, -999.000,9, 2027.200,2, -999.000,1
           NA,   ICE11,     84,   1,-999.0,       3,  2,20110710,0555,  72.3502, -161.7625,    40,   23.400,   -1.666,   32.351,2, -999.000,3,  490.000,2,  320.100,2,   44.590,2,   16.120,2,    0.210,2,    1.950,2, -999.000,9, -999.000,9, -999.000,9, 2207.800,2, -999.000,1
           NA,   ICE11,     84,   1,-999.0,       1,  2,20110710,0555,  72.3502, -161.7625,    40,   39.300,   -1.723,   32.775,2, -999.000,3,  290.700,2,  290.500,2,   54.150,2,   16.740,2,    0.200,2,    2.260,2, -999.000,9, -999.000,9, -999.000,9, 2218.500,2, -999.000,1
           NA,   ICE11,     85,   1,-999.0,       4,  2,20110710,0747,  72.4798, -161.5546,    44,    2.500,   -0.497,   29.547,2, -999.000,3,  402.500,2,  402.800,2,    2.650,2,    0.000,2,    0.000,2,    0.550,2, -999.000,9, -999.000,9, -999.000,9, 1861.500,2, -999.000,1
           NA,   ICE11,     85,   1,-999.0,       3,  2,20110710,0747,  72.4798, -161.5546,    44,   10.200,   -1.143,   30.654,2, -999.000,3,  429.400,2,  462.100,2,    4.990,2,    0.000,2,    0.000,2,    0.650,2, -999.000,9, -999.000,9, -999.000,9, 1932.000,2, -999.000,1
           NA,   ICE11,     85,   1,-999.0,       2,  2,20110710,0747,  72.4798, -161.5546,    44,   24.500,   -1.578,   32.212,2, -999.000,3,  381.900,2,  371.500,2,   20.240,2,    3.500,2,    0.090,2,    1.300,2, -999.000,9, -999.000,9, -999.000,9, 2163.700,2, -999.000,1
           NA,   ICE11,     85,   1,-999.0,       1,  2,20110710,0747,  72.4798, -161.5546,    44,   42.500,   -1.720,   32.733,2,   32.718,2,  265.000,2,  264.900,2,   56.990,2,   18.030,2,    0.210,2,    2.290,2, -999.000,9, -999.000,9, -999.000,9, 2225.000,2, -999.000,1
           NA,   ICE11,     86,   1,-999.0,       7,  2,20110710,0926,  72.5994, -161.3784,    48,    2.500,   -0.553,   29.331,2, -999.000,3,  411.500,2,  410.400,2,    2.840,2,    0.000,2,    0.000,2,    0.570,2, -999.000,9, -999.000,9, -999.000,9, 1860.800,2, -999.000,1
           NA,   ICE11,     86,   1,-999.0,       5,  2,20110710,0926,  72.5994, -161.3784,    48,   10.700,   -0.830,   29.808,2, -999.000,3,  420.600,2,  432.700,2,    2.350,2,    0.000,2,    0.000,2,    0.550,2, -999.000,9, -999.000,9, -999.000,9, 1871.800,2, -999.000,1
           NA,   ICE11,     86,   1,-999.0,       3,  2,20110710,0926,  72.5994, -161.3784,    48,   25.800,   -1.473,   31.233,2, -999.000,3,  461.800,2,  422.000,2,    9.880,2,    0.350,2,    0.010,2,    0.830,2, -999.000,9, -999.000,9, -999.000,9, 2034.600,2, -999.000,1
           NA,   ICE11,     86,   1,-999.0,       1,  2,20110710,0926,  72.5994, -161.3784,    48,   44.100,   -1.703,   32.322,2, -999.000,3,  300.300,2,  300.400,2,   32.460,2,   11.060,2,    0.090,2,    1.910,2, -999.000,9, -999.000,9, -999.000,9, 2197.600,2, -999.000,1
           NA,   ICE11,     87,   1,-999.0,       5,  2,20110710,1109,  72.7041, -161.1669,    50,    2.400,   -1.026,   28.680,2, -999.000,3,  393.000,2,  377.800,2,    3.240,2,    0.000,2,    0.000,2,    0.610,2, -999.000,9, -999.000,9, -999.000,9, 1872.000,2, 2019.500,2
           NA,   ICE11,     87,   1,-999.0,       4,  2,20110710,1109,  72.7041, -161.1669,    50,   10.700,   -1.225,   29.324,2, -999.000,3,  400.500,2,  427.300,2,    3.330,2,    0.000,2,    0.000,2,    0.630,2, -999.000,9, -999.000,9, -999.000,9, 1919.000,2, 2081.600,2
           NA,   ICE11,     87,   1,-999.0,       3,  2,20110710,1109,  72.7041, -161.1669,    50,   26.000,   -1.379,   30.775,2,   30.780,2,  452.200,2,  476.900,2,    3.620,2,    0.000,2,    0.000,2,    0.660,2, -999.000,9, -999.000,9, -999.000,9, 1956.200,2, 2155.900,2
           NA,   ICE11,     87,   1,-999.0,       2,  2,20110710,1109,  72.7041, -161.1669,    50,   41.100,   -1.713,   32.364,2,   32.350,2,  349.900,2,  332.800,2,   12.910,2,    6.250,2,    0.090,2,    1.610,2, -999.000,9, -999.000,9, -999.000,9, 2200.100,2, 2242.000,2
           NA,   ICE11,     87,   1,-999.0,       1,  2,20110710,1109,  72.7041, -161.1669,    50,   47.800,   -1.725,   32.382,2,   32.359,2,  293.500,2,  295.000,2,   42.630,2,   13.090,2,    0.090,2,    1.980,2, -999.000,9, -999.000,9, -999.000,9, 2193.500,2, 2238.500,2
           NA,   ICE11,     88,   1,-999.0,       9,  2,20110710,1252,  72.8415, -160.9703,    56,    2.300,   -0.846,   28.163,2, -999.000,3,  392.500,2,  392.400,2,    3.240,2,    0.000,2,    0.000,2,    0.630,2, -999.000,9, -999.000,9, -999.000,9, 1891.100,2, 2005.900,2
           NA,   ICE11,     88,   1,-999.0,       7,  2,20110710,1252,  72.8415, -160.9703,    56,   10.200,   -0.877,   28.169,2, -999.000,3,  392.500,2,  390.200,2,    3.140,2,    0.000,2,    0.000,2,    0.620,2, -999.000,9, -999.000,9, -999.000,9, 1900.200,2, 2005.100,2
           NA,   ICE11,     88,   1,-999.0,       5,  2,20110710,1252,  72.8415, -160.9703,    56,   25.900,   -1.394,   30.426,2, -999.000,3,  434.100,2,  434.100,2,    3.720,2,    0.000,2,    0.000,2,    0.670,2, -999.000,9, -999.000,9, -999.000,9, 1987.300,2, 2140.300,2
           NA,   ICE11,     88,   1,-999.0,       3,  2,20110710,1252,  72.8415, -160.9703,    56,   42.900,   -1.708,   32.281,2,   32.278,2,  356.400,2,  315.500,2,   47.520,2,   14.150,2,    0.120,2,    1.990,2, -999.000,9, -999.000,9, -999.000,9, 2182.800,2, 2231.400,2
           NA,   ICE11,     88,   1,-999.0,       1,  2,20110710,1252,  72.8415, -160.9703,    56,   50.900,   -1.713,   32.341,2,   32.316,2,  265.700,2,  265.900,2,   49.870,2,   13.580,2,    0.110,2,    2.070,2, -999.000,9, -999.000,9, -999.000,9, 2205.200,2, 2236.800,2
           NA,   ICE11,     89,   1,-999.0,       5,  2,20110710,1400,  72.9011, -160.8621,    55,    2.200,   -1.154,   28.153,2,   28.156,2,  389.600,2,  389.600,2,    3.140,2,    0.000,2,    0.000,2,    0.630,2, -999.000,9, -999.000,9, -999.000,9, 1899.000,2, -999.000,1
           NA,   ICE11,     89,   1,-999.0,       4,  2,20110710,1400,  72.9011, -160.8621,    55,   10.500,   -1.172,   28.171,2, -999.000,3,  392.000,2,  392.000,2,    3.140,2,    0.000,2,    0.000,2,    0.630,2, -999.000,9, -999.000,9, -999.000,9, 1912.700,2, -999.000,1
           NA,   ICE11,     89,   1,-999.0,       3,  2,20110710,1400,  72.9011, -160.8621,    55,   25.900,   -1.264,   29.858,2, -999.000,3,  406.500,2,  406.500,2,    3.620,2,    0.000,2,    0.000,2,    0.690,2, -999.000,9, -999.000,9, -999.000,9, 1993.600,2, -999.000,1
           NA,   ICE11,     89,   1,-999.0,       2,  2,20110710,1400,  72.9011, -160.8621,    55,   46.000,   -1.707,   32.305,2, -999.000,3,  365.700,2,  320.300,2,   36.180,2,   13.560,2,    0.140,2,    1.890,2, -999.000,9, -999.000,9, -999.000,9, 2184.900,2, -999.000,1
           NA,   ICE11,     89,   1,-999.0,       1,  2,20110710,1400,  72.9011, -160.8621,    55,   54.100,   -1.716,   32.360,2, -999.000,3,  302.600,2,  302.600,2,   49.180,2,   14.510,2,    0.140,2,    2.070,2, -999.000,9, -999.000,9, -999.000,9, 2189.600,2, -999.000,1
           NA,   ICE11,     90,   1,-999.0,       9,  2,20110710,1550,  72.9580, -160.7711,    71,    2.200,   -1.052,   27.875,2,   27.882,2,  389.500,2,  389.500,2,    3.040,2,    0.000,2,    0.000,2,    0.620,2, -999.000,9, -999.000,9, -999.000,9, 1886.100,2, -999.000,1
           NA,   ICE11,     90,   1,-999.0,       7,  2,20110710,1550,  72.9580, -160.7711,    71,   10.700,   -1.052,   27.908,2, -999.000,3,  384.700,2,  386.300,2,    3.040,2,    0.000,2,    0.000,2,    0.610,2, -999.000,9, -999.000,9, -999.000,9, 1882.400,2, -999.000,1
           NA,   ICE11,     90,   1,-999.0,       5,  2,20110710,1550,  72.9580, -160.7711,    71,   25.800,   -1.219,   29.979,2, -999.000,3,  410.300,2,  410.300,2,    3.620,2,    0.000,2,    0.000,2,    0.690,2, -999.000,9, -999.000,9, -999.000,9, 2004.400,2, -999.000,1
           NA,   ICE11,     90,   1,-999.0,       3,  2,20110710,1550,  72.9580, -160.7711,    71,   50.200,   -1.705,   32.268,2, -999.000,3,  330.400,2,  330.400,2,   32.560,2,   11.780,2,    0.130,2,    1.780,2, -999.000,9, -999.000,9, -999.000,9, 2163.200,2, -999.000,1
           NA,   ICE11,     90,   1,-999.0,       1,  2,20110710,1550,  72.9580, -160.7711,    71,   68.700,   -1.688,   32.504,2,   32.475,2,  308.400,2,  308.400,2,   46.440,2,   14.500,2,    0.120,2,    1.990,2, -999.000,9, -999.000,9, -999.000,9, 2186.900,2, -999.000,1
           NA,   ICE11,     90,   2,-999.0,      10,  2,20110711,0315,  72.9588, -160.7223,    77,    2.400,   -1.159,   27.795,2, -999.000,3,  387.700,2,  390.300,2,    2.940,2,    0.000,2,    0.000,2,    0.620,2, -999.000,9, -999.000,9, -999.000,9, 1878.300,2, 1980.600,2
           NA,   ICE11,     90,   2,-999.0,       8,  2,20110711,0315,  72.9588, -160.7223,    77,   10.400,   -1.208,   28.104,2, -999.000,3,  398.800,2,  399.100,2,    3.040,2,    0.000,2,    0.000,2,    0.630,2, -999.000,9, -999.000,9, -999.000,9, 1927.200,2, 2027.900,2
           NA,   ICE11,     90,   2,-999.0,       6,  2,20110711,0315,  72.9588, -160.7223,    77,   25.200,   -1.213,   28.866,2, -999.000,3,  424.700,2,  424.700,2,    3.040,2,    0.000,2,    0.000,2,    0.650,2, -999.000,9, -999.000,9, -999.000,9, 1953.500,2, 2066.400,2
           NA,   ICE11,     90,   2,-999.0,       4,  2,20110711,0315,  72.9588, -160.7223,    77,   45.700,   -1.657,   32.132,2,   32.150,2,  345.300,2,  344.800,2,   26.400,2,    7.610,2,    0.100,2,    1.560,2, -999.000,9, -999.000,9, -999.000,9, 2152.800,2, 2229.200,2
           NA,   ICE11,     90,   2,-999.0,       1,  2,20110711,0315,  72.9588, -160.7223,    77,   71.200,   -1.692,   32.508,2,   32.491,2,  308.600,2,  308.100,2,   46.540,2,   14.490,2,    0.130,2,    1.990,2, -999.000,9, -999.000,9, -999.000,9, 2189.700,2, 2242.400,2
           NA,   ICE11,     91,   1,-999.0,       7,  2,20110711,0830,  73.0121, -160.6385,   144,    2.100,   -1.203,   27.896,2,   27.893,2,  393.200,2,  392.800,2,    2.940,2,    0.000,2,    0.000,2,    0.620,2, -999.000,9, -999.000,9, -999.000,9, 1893.500,2, 1986.600,2
           NA,   ICE11,     91,   1,-999.0,       6,  2,20110711,0830,  73.0121, -160.6385,   144,   10.500,   -1.137,   28.365,2, -999.000,3,  396.700,2,  398.000,2,    3.040,2,    0.000,2,    0.000,2,    0.650,2, -999.000,9, -999.000,9, -999.000,9, 1954.000,2, 2057.300,2
           NA,   ICE11,     91,   1,-999.0,       5,  2,20110711,0830,  73.0121, -160.6385,   144,   25.700,   -1.310,   29.565,2, -999.000,3,  398.900,2,  399.300,2,    3.530,2,    0.000,2,    0.000,2,    0.690,2, -999.000,9, -999.000,9, -999.000,9, 1995.700,2, 2104.700,2
           NA,   ICE11,     91,   1,-999.0,       4,  2,20110711,0830,  73.0121, -160.6385,   144,   50.900,   -1.430,   32.014,2, -999.000,3,  302.900,2,  332.500,2,   22.010,2,    8.570,2,    0.050,2,    1.430,2, -999.000,9, -999.000,9, -999.000,9, 2139.800,2, 2219.500,2
           NA,   ICE11,     91,   1,-999.0,       3,  2,20110711,0830,  73.0121, -160.6385,   144,   76.100,   -1.666,   32.410,2,   32.416,2,  324.000,2,  320.200,2,   41.650,2,   13.150,2,    0.090,2,    1.810,2, -999.000,9, -999.000,9, -999.000,9, 2181.600,2, 2234.200,2
           NA,   ICE11,     91,   1,-999.0,       2,  2,20110711,0830,  73.0121, -160.6385,   144,  109.700,   -1.700,   32.762,2,   32.780,2,  290.900,2,  293.600,2,   54.740,2,   18.020,2,    0.180,2,    2.200,2, -999.000,9, -999.000,9, -999.000,9, 2213.900,2, 2245.200,2
           NA,   ICE11,     91,   1,-999.0,       1,  2,20110711,0830,  73.0121, -160.6385,   144,  138.800,   -1.108,   33.523,2, -999.000,3,  283.700,2,  282.800,2,   41.910,2,   15.580,2,    0.120,2,    1.900,2, -999.000,9, -999.000,9, -999.000,9, 2212.900,2, 2274.400,2