BOTTLE,20220919JOAExport
EXPOCODE,SECT_ID,STNNBR,CASTNO,SAMPNO,BTLNBR,BTLNBR_FLAG_W,DATE,TIME,LATITUDE,LONGITUDE,DEPTH,CTDPRS,CTDTMP,CTDSAL,CTDSAL_FLAG_W,SALNTY,SALNTY_FLAG_W,CTDOXY,CTDOXY_FLAG_W,OXYGEN,OXYGEN_FLAG_W,SILCAT,SILCAT_FLAG_W,NITRAT,NITRAT_FLAG_W,NITRIT,NITRIT_FLAG_W,PHSPHT,PHSPHT_FLAG_W,CFC-11,CFC-11_FLAG_W,CFC-12,CFC-12_FLAG_W,SF6,SF6_FLAG_W,TCARBN,TCARBN_FLAG_W,ALKALI,ALKALI_FLAG_W
,,,,,,,,,,,,DB,ITS-90,PSS-78,,PSS-78,,UMOL/KG,,UMOL/KG,,UMOL/KG,,UMOL/KG,,UMOL/KG,,UMOL/KG,,NA,,NA,,NA,,UMOL/KG,,UMOL/KG
           NA,   ICE11,    122,   1,-999.0,       5,  2,20110716,1435,  71.7601, -159.3053,    50,    2.500,    0.749,   29.391,2,   29.392,2,  382.100,2,  384.300,2,    2.450,2,    0.000,2,    0.000,2,    0.600,2, -999.000,9, -999.000,9, -999.000,9, 1904.400,2, 2068.100,2
           NA,   ICE11,    122,   1,-999.0,       4,  2,20110716,1435,  71.7601, -159.3053,    50,   10.900,    0.729,   29.382,2, -999.000,3,  382.100,2,  386.200,2,    2.450,2,    0.000,2,    0.000,2,    0.600,2, -999.000,9, -999.000,9, -999.000,9, 1915.900,2, -999.000,1
           NA,   ICE11,    122,   1,-999.0,       3,  2,20110716,1435,  71.7601, -159.3053,    50,   26.000,   -1.288,   31.003,2,   31.025,2,  402.400,2,  413.000,2,    3.720,2,    0.000,2,    0.000,2,    0.810,2, -999.000,9, -999.000,9, -999.000,9, 2045.800,2, -999.000,1
           NA,   ICE11,    122,   1,-999.0,       2,  2,20110716,1435,  71.7601, -159.3053,    50,   32.800,   -1.594,   31.610,2, -999.000,3,  403.500,2,  385.000,2,    8.900,2,    0.680,2,    0.010,2,    0.950,2, -999.000,9, -999.000,9, -999.000,9, 2084.600,2, 2203.800,2
           NA,   ICE11,    122,   1,-999.0,       1,  2,20110716,1435,  71.7601, -159.3053,    50,   48.500,   -1.645,   32.315,2, -999.000,3,  284.900,2,  284.900,2,   24.440,2,    9.780,2,    0.080,2,    1.840,2, -999.000,9, -999.000,9, -999.000,9, 2198.900,2, 2238.500,2
           NA,   ICE11,    123,   1,-999.0,       9,  2,20110716,1556,  71.7127, -158.8877,    52,    3.000,    2.412,   30.725,2,   30.730,2,  361.400,2,  361.400,2,    2.740,2,    0.000,2,    0.000,2,    0.590,2, -999.000,9, -999.000,9, -999.000,9, 1978.400,2, 2145.400,2
           NA,   ICE11,    123,   1,-999.0,       7,  2,20110716,1556,  71.7127, -158.8877,    52,   10.800,    2.408,   30.730,2,   30.737,2,  362.500,2,  362.500,2,    2.640,2,    0.000,2,    0.000,2,    0.580,2, -999.000,9, -999.000,9, -999.000,9, 1986.100,2, 2145.800,2
           NA,   ICE11,    123,   1,-999.0,       5,  2,20110716,1556,  71.7127, -158.8877,    52,   26.400,   -1.081,   30.873,2,   30.876,2,  385.100,2,  407.800,2,    4.600,2,    0.000,2,    0.000,2,    0.770,2, -999.000,9, -999.000,9, -999.000,9, 2012.200,2, 2167.100,2
           NA,   ICE11,    123,   1,-999.0,       3,  2,20110716,1556,  71.7127, -158.8877,    52,   33.300,   -1.365,   31.466,2, -999.000,3,  399.500,2,  399.500,2,    6.260,2,    0.100,2,    0.000,2,    0.870,2, -999.000,9, -999.000,9, -999.000,9, 2078.000,2, 2201.200,2
           NA,   ICE11,    123,   1,-999.0,       1,  2,20110716,1556,  71.7127, -158.8877,    52,   51.000,   -1.387,   32.631,2,   32.587,2,  284.900,2,  284.900,2,   36.070,2,   10.400,2,    0.000,2,    2.010,2, -999.000,9, -999.000,9, -999.000,9, 2219.300,2, 2252.100,2
           NA,   ICE11,    124,   1,-999.0,       5,  2,20110716,1718,  71.6629, -158.4947,    59,    2.300,    1.679,   30.265,2,   30.274,2,  373.300,2,  373.400,2,    2.740,2,    0.000,2,    0.000,2,    0.600,2, -999.000,9, -999.000,9, -999.000,9, -999.000,1, -999.000,1
           NA,   ICE11,    124,   1,-999.0,       4,  2,20110716,1718,  71.6629, -158.4947,    59,   10.900,    1.663,   30.267,2,   30.291,2,  374.400,2,  374.400,2,    2.640,2,    0.000,2,    0.000,2,    0.590,2, -999.000,9, -999.000,9, -999.000,9, -999.000,1, -999.000,1
           NA,   ICE11,    124,   1,-999.0,       3,  2,20110716,1718,  71.6629, -158.4947,    59,   25.500,   -0.088,   31.356,2,   31.358,2,  379.400,2,  441.100,2,    3.620,2,    0.000,2,    0.000,2,    0.670,2, -999.000,9, -999.000,9, -999.000,9, -999.000,1, -999.000,1
           NA,   ICE11,    124,   1,-999.0,       2,  2,20110716,1718,  71.6629, -158.4947,    59,   39.700,   -1.353,   32.294,2,   32.262,2,  351.900,2,  351.900,2,   11.730,2,    1.180,2,    0.040,2,    1.270,2, -999.000,9, -999.000,9, -999.000,9, -999.000,1, -999.000,1
           NA,   ICE11,    124,   1,-999.0,       1,  2,20110716,1718,  71.6629, -158.4947,    59,   52.900,   -1.493,   32.396,2,   32.384,2,  289.000,2,  289.000,2,   20.140,2,    8.520,2,    0.070,2,    1.860,2, -999.000,9, -999.000,9, -999.000,9, -999.000,1, -999.000,1
           NA,   ICE11,    125,   1,-999.0,       9,  2,20110716,1903,  71.6159, -158.1048,    64,    2.300,    4.089,   30.957,2,   30.960,2,  337.600,2,  337.000,2,    2.840,2,    0.000,2,    0.000,2,    0.520,2, -999.000,9, -999.000,9, -999.000,9, 1988.700,2, 2149.300,2
           NA,   ICE11,    125,   1,-999.0,       7,  2,20110716,1903,  71.6159, -158.1048,    64,   10.500,    4.065,   30.956,2,   30.962,2,  337.700,2,  336.900,2,    2.840,2,    0.000,2,    0.000,2,    0.520,2, -999.000,9, -999.000,9, -999.000,9, 1990.400,2, 2151.600,2
           NA,   ICE11,    125,   1,-999.0,       5,  2,20110716,1903,  71.6159, -158.1048,    64,   25.200,    4.106,   31.080,2,   31.085,2,  335.400,2,  346.700,2,    2.940,2,    0.020,2,    0.000,2,    0.570,2, -999.000,9, -999.000,9, -999.000,9, 1997.300,2, 2162.300,2
           NA,   ICE11,    125,   1,-999.0,       3,  2,20110716,1903,  71.6159, -158.1048,    64,   50.400,   -1.660,   32.381,2,   32.353,2,  321.300,2,  310.600,2,   40.670,2,   13.430,2,    0.090,2,    1.830,2, -999.000,9, -999.000,9, -999.000,9, 2182.900,2, 2232.100,2
           NA,   ICE11,    125,   1,-999.0,       1,  2,20110716,1903,  71.6159, -158.1048,    64,   58.000,   -1.660,   32.382,2,   32.353,2,  307.600,2,  308.800,2,   41.070,2,   13.410,2,    0.100,2,    1.860,2, -999.000,9, -999.000,9, -999.000,9, 2172.700,2, 2234.400,2
           NA,   ICE11,    126,   1,-999.0,      10,  2,20110716,2336,  71.8114, -157.1174,    66,    2.700,    0.854,   26.535,2, -999.000,3,  402.500,2,  403.600,2,    3.040,2,    0.010,2,    0.000,2,    0.590,2, -999.000,9, -999.000,9, -999.000,9, 1859.300,2, 2001.900,2
           NA,   ICE11,    126,   1,-999.0,       8,  2,20110716,2336,  71.8114, -157.1174,    66,   10.700,   -0.911,   29.290,2, -999.000,3,  421.900,2,  422.100,2,    2.840,2,    0.000,2,    0.000,2,    0.670,2, -999.000,9, -999.000,9, -999.000,9, 1944.100,2, 2095.900,2
           NA,   ICE11,    126,   1,-999.0,       6,  2,20110716,2336,  71.8114, -157.1174,    66,   25.800,    0.837,   31.228,2, -999.000,3,  396.200,2,  396.300,2,    3.520,2,    0.000,2,    0.000,2,    0.680,2, -999.000,9, -999.000,9, -999.000,9, 1990.700,2, 2180.700,2
           NA,   ICE11,    126,   1,-999.0,       4,  2,20110716,2336,  71.8114, -157.1174,    66,   43.500,   -1.296,   31.919,2, -999.000,3,  345.400,2,  345.200,2,   13.600,2,    7.230,2,    0.060,2,    1.360,2, -999.000,9, -999.000,9, -999.000,9, 2128.400,2, 2219.000,2
           NA,   ICE11,    126,   1,-999.0,       1,  2,20110716,2336,  71.8114, -157.1174,    66,   63.000,   -1.531,   32.424,2,   32.414,2,  308.800,2,  309.500,2,   37.150,2,   12.160,2,    0.100,2,    1.840,2, -999.000,9, -999.000,9, -999.000,9, 2186.200,2, 2239.600,2
           NA,   ICE11,    127,   1,-999.0,      11,  2,20110718,0247,  72.5434, -153.8349,  3061,    2.000,   -0.912,   26.314,2, -999.000,3,  390.200,2,  389.000,2,    2.360,2,    0.000,2,    0.000,2,    0.540,2, -999.000,9, -999.000,9, -999.000,9, 1821.800,2, 1903.600,2
           NA,   ICE11,    127,   1,-999.0,      10,  2,20110718,0247,  72.5434, -153.8349,  3061,   10.100,   -0.913,   26.313,2, -999.000,3,  388.400,2,  391.100,2,    2.360,2,    0.000,2,    0.000,2,    0.540,2, -999.000,9, -999.000,9, -999.000,9, 1840.600,2, 1922.100,2
           NA,   ICE11,    127,   1,-999.0,       9,  2,20110718,0247,  72.5434, -153.8349,  3061,   25.400,   -1.115,   26.926,2, -999.000,3,  399.300,2,  399.000,2,    2.360,2,    0.000,2,    0.000,2,    0.560,2, -999.000,9, -999.000,9, -999.000,9, 1892.000,2, 1976.800,2
           NA,   ICE11,    127,   1,-999.0,       7,  2,20110718,0247,  72.5434, -153.8349,  3061,   62.800,   -0.659,   31.006,2, -999.000,3,  373.700,2,  374.000,2,    5.970,2,    1.100,2,    0.050,2,    0.880,2, -999.000,9, -999.000,9, -999.000,9, 2049.300,2, 2174.800,2
           NA,   ICE11,    127,   1,-999.0,       6,  2,20110718,0247,  72.5434, -153.8349,  3061,   80.700,   -1.000,   31.724,2,   31.753,2,  342.100,2,  342.500,2,   11.640,2,    5.350,2,    0.000,2,    1.180,2, -999.000,9, -999.000,9, -999.000,9, 2103.500,2, 2205.400,2
           NA,   ICE11,    127,   1,-999.0,       5,  2,20110718,0247,  72.5434, -153.8349,  3061,  101.000,   -1.188,   32.106,2,   32.121,2,  318.200,2,  319.000,2,   19.460,2,    9.120,2,    0.000,2,    1.470,2, -999.000,9, -999.000,9, -999.000,9, 2145.800,2, 2220.600,2
           NA,   ICE11,    127,   1,-999.0,       4,  2,20110718,0247,  72.5434, -153.8349,  3061,  151.600,   -1.446,   32.708,2,   32.720,2,  288.000,2,  286.200,2,   29.810,2,   13.650,2,    0.000,2,    1.800,2, -999.000,9, -999.000,9, -999.000,9, 2202.300,2, 2256.200,2
           NA,   ICE11,    127,   1,-999.0,       3,  2,20110718,0247,  72.5434, -153.8349,  3061,  202.400,   -1.401,   33.394,2, -999.000,3,  273.400,2,  274.500,2,   31.650,2,   14.430,2,    0.000,2,    1.700,2, -999.000,9, -999.000,9, -999.000,9, 2224.800,2, 2276.200,2
           NA,   ICE11,    127,   1,-999.0,       1,  2,20110718,0247,  72.5434, -153.8349,  3061,  303.400,    0.268,   34.658,2,   34.662,2,  275.600,2,  275.100,2,   12.010,2,   12.860,2,    0.000,2,    1.010,2, -999.000,9, -999.000,9, -999.000,9, 2173.600,2, 2288.900,2
           NA,   ICE11,    128,   1,-999.0,      10,  2,20110719,0222,  72.8343, -151.8905,  3816,    2.100,   -0.942,   25.769,2,   25.789,2,  386.600,2,  386.700,2,    2.260,2,    0.000,2,    0.000,2,    0.530,2, -999.000,9, -999.000,9, -999.000,9, 1794.800,2, 1863.600,2
           NA,   ICE11,    128,   1,-999.0,       9,  2,20110719,0222,  72.8343, -151.8905,  3816,   10.200,   -0.942,   25.813,2, -999.000,3,  393.500,2,  395.100,2,    2.360,2,    0.000,2,    0.000,2,    0.560,2, -999.000,9, -999.000,9, -999.000,9, 1846.900,2, 1923.700,2
           NA,   ICE11,    128,   1,-999.0,       8,  2,20110719,0222,  72.8343, -151.8905,  3816,   25.300,   -1.042,   27.078,2, -999.000,3,  418.700,2,  399.500,2,    2.450,2,    0.000,2,    0.000,2,    0.580,2, -999.000,9, -999.000,9, -999.000,9, 1893.600,2, 1973.400,2
           NA,   ICE11,    128,   1,-999.0,       7,  2,20110719,0222,  72.8343, -151.8905,  3816,   64.800,   -0.745,   31.349,2, -999.000,3,  370.100,2,  371.200,2,    6.460,2,    1.480,2,    0.040,2,    0.940,2, -999.000,9, -999.000,9, -999.000,9, 2053.300,2, 2177.900,2
           NA,   ICE11,    128,   1,-999.0,       6,  2,20110719,0222,  72.8343, -151.8905,  3816,   81.100,   -0.892,   31.686,2, -999.000,3,  338.800,2,  336.300,2,   13.010,2,    6.260,2,    0.000,2,    1.270,2, -999.000,9, -999.000,9, -999.000,9, 2107.600,2, 2211.300,2
           NA,   ICE11,    128,   1,-999.0,       5,  2,20110719,0222,  72.8343, -151.8905,  3816,  101.100,   -1.203,   32.157,2,   32.132,2,  314.200,2,  317.600,2,   19.560,2,    9.510,2,    0.000,2,    1.510,2, -999.000,9, -999.000,9, -999.000,9, 2139.600,2, 2221.900,2
           NA,   ICE11,    128,   1,-999.0,       4,  2,20110719,0222,  72.8343, -151.8905,  3816,  151.700,   -1.433,   32.570,2,   32.569,2,  301.400,2,  298.400,2,   28.550,2,   13.110,2,    0.000,2,    1.750,2, -999.000,9, -999.000,9, -999.000,9, 2182.400,2, 2246.800,2
           NA,   ICE11,    128,   1,-999.0,       3,  2,20110719,0222,  72.8343, -151.8905,  3816,  202.100,   -1.397,   33.266,2,   33.251,2,  275.800,2,  274.400,2,   32.930,2,   15.230,2,    0.000,2,    1.790,2, -999.000,9, -999.000,9, -999.000,9, 2224.500,2, 2273.800,2
           NA,   ICE11,    129,   1,-999.0,      11,  2,20110720,0324,  73.1832, -150.4474,  3829,    2.000,   -1.010,   25.832,2,   25.828,2,  388.700,2,  388.500,2,    2.460,2,    0.020,2,    0.000,2,    0.540,2, -999.000,9, -999.000,9, -999.000,9, 1794.300,2, 1868.400,2
           NA,   ICE11,    129,   1,-999.0,      10,  2,20110720,0324,  73.1832, -150.4474,  3829,   10.000,   -1.022,   26.053,2,   26.064,2,  390.600,2,  389.600,2,    2.550,2,    0.010,2,    0.000,2,    0.530,2, -999.000,9, -999.000,9, -999.000,9, 1806.000,2, 1892.500,2
           NA,   ICE11,    129,   1,-999.0,       9,  2,20110720,0324,  73.1832, -150.4474,  3829,   25.300,   -1.075,   26.972,2, -999.000,3,  395.200,2,  397.400,2,    2.650,2,    0.000,2,    0.000,2,    0.580,2, -999.000,9, -999.000,9, -999.000,9, 1904.800,2, 2006.500,2
           NA,   ICE11,    129,   1,-999.0,       8,  2,20110720,0324,  73.1832, -150.4474,  3829,   50.900,   -1.042,   28.600,2, -999.000,3,  395.600,2,  391.700,2,    3.330,2,    0.130,2,    0.000,2,    0.670,2, -999.000,9, -999.000,9, -999.000,9, 1986.200,2, 2096.600,2
           NA,   ICE11,    129,   1,-999.0,       7,  2,20110720,0324,  73.1832, -150.4474,  3829,   81.000,   -1.228,   31.091,2, -999.000,3,  374.500,2,  369.900,2,    7.050,2,    2.380,2,    0.040,2,    0.960,2, -999.000,9, -999.000,9, -999.000,9, -999.000,3, 2190.900,2
           NA,   ICE11,    129,   1,-999.0,       6,  2,20110720,0324,  73.1832, -150.4474,  3829,  100.900,   -1.318,   31.883,2,   31.909,2,  340.700,2,  340.600,2,   13.110,2,    6.160,2,    0.000,2,    1.240,2, -999.000,9, -999.000,9, -999.000,9, -999.000,3, 2219.100,2
           NA,   ICE11,    129,   1,-999.0,       5,  2,20110720,0324,  73.1832, -150.4474,  3829,  202.200,   -0.983,   34.053,2,   34.061,2,  275.900,2,  274.700,2,   17.770,2,   12.090,2,    0.000,2,    1.120,2, -999.000,9, -999.000,9, -999.000,9, -999.000,3, 2276.700,2
           NA,   ICE11,    129,   1,-999.0,       3,  2,20110720,0324,  73.1832, -150.4474,  3829,  303.400,    0.365,   34.682,2,   34.700,2,  279.700,2,  280.700,2,    9.860,2,   12.410,2,    0.000,2,    0.900,2, -999.000,9, -999.000,9, -999.000,9, -999.000,3, 2289.200,2
           NA,   ICE11,    129,   1,-999.0,       2,  2,20110720,0324,  73.1832, -150.4474,  3829,  505.700,    0.695,   34.843,2,   34.846,2,  293.800,2,  293.300,2,    7.120,2,   12.270,2,    0.000,2,    0.840,2, -999.000,9, -999.000,9, -999.000,9, -999.000,3, 2298.100,2
           NA,   ICE11,    129,   1,-999.0,       1,  2,20110720,0324,  73.1832, -150.4474,  3829,  810.100,    0.230,   34.863,2,   34.866,2,  297.600,2,  297.700,2,    7.030,2,   12.260,2,    0.000,2,    0.850,2, -999.000,9, -999.000,9, -999.000,9, -999.000,3, 2299.600,2
           NA,   ICE11,    130,   1,-999.0,      11,  2,20110720,0856,  73.0500, -150.5993,  3763,    2.100,   -0.968,   25.586,2, -999.000,3,  388.100,2,  386.300,2,    2.460,2,    0.000,2,    0.000,2,    0.550,2, -999.000,9, -999.000,9, -999.000,9, 1783.700,2, 1853.700,2
           NA,   ICE11,    130,   1,-999.0,      10,  2,20110720,0856,  73.0500, -150.5993,  3763,   10.200,   -1.056,   25.712,2, -999.000,3,  389.700,2,  390.400,2,    2.550,2,    0.020,2,    0.000,2,    0.550,2, -999.000,9, -999.000,9, -999.000,9, 1798.900,2, 1874.200,2
           NA,   ICE11,    130,   1,-999.0,       9,  2,20110720,0856,  73.0500, -150.5993,  3763,   25.500,   -1.062,   27.053,2, -999.000,3,  396.500,2,  396.400,2,    2.850,2,    0.000,2,    0.000,2,    0.580,2, -999.000,9, -999.000,9, -999.000,9, 1879.000,2, 1951.600,2
           NA,   ICE11,    130,   1,-999.0,       8,  2,20110720,0856,  73.0500, -150.5993,  3763,   50.900,   -0.927,   28.819,2, -999.000,3,  395.100,2,  393.900,2,    2.940,2,    0.000,2,    0.000,2,    0.660,2, -999.000,9, -999.000,9, -999.000,9, 1974.400,2, 2081.900,2
           NA,   ICE11,    130,   1,-999.0,       7,  2,20110720,0856,  73.0500, -150.5993,  3763,   74.200,   -0.915,   30.966,2, -999.000,3,  377.800,2,  377.800,2,    6.260,2,    1.280,2,    0.050,2,    0.920,2, -999.000,9, -999.000,9, -999.000,9, 2056.700,2, 2171.600,2
           NA,   ICE11,    130,   1,-999.0,       6,  2,20110720,0856,  73.0500, -150.5993,  3763,  101.200,   -1.234,   32.014,2, -999.000,3,  327.000,2,  325.500,2,   17.210,2,    8.400,2,    0.000,2,    1.430,2, -999.000,9, -999.000,9, -999.000,9, 2134.800,2, 2218.700,2
           NA,   ICE11,    130,   1,-999.0,       5,  2,20110720,0856,  73.0500, -150.5993,  3763,  151.500,   -1.494,   32.783,2, -999.000,3,  294.100,2,  287.900,2,   30.200,2,   13.820,2,    0.000,2,    1.780,2, -999.000,9, -999.000,9, -999.000,9, 2205.800,2, 2256.900,2
           NA,   ICE11,    130,   1,-999.0,       4,  2,20110720,0856,  73.0500, -150.5993,  3763,  202.400,   -1.225,   33.772,2, -999.000,3,  268.300,2,  268.300,2,   24.130,2,   13.630,2,    0.000,2,    1.380,2, -999.000,9, -999.000,9, -999.000,9, 2205.500,2, 2280.500,2
           NA,   ICE11,    130,   1,-999.0,       3,  2,20110720,0856,  73.0500, -150.5993,  3763,  303.400,    0.336,   34.673,2,   34.674,2,  277.800,2,  277.300,2,   11.130,2,   13.060,2,    0.000,2,    0.980,2, -999.000,9, -999.000,9, -999.000,9, 2173.100,2, 2290.200,2
           NA,   ICE11,    130,   1,-999.0,       2,  2,20110720,0856,  73.0500, -150.5993,  3763,  506.100,    0.677,   34.841,2,   34.844,2,  293.600,2,  293.700,2,    7.710,2,   12.810,2,    0.000,2,    0.900,2, -999.000,9, -999.000,9, -999.000,9, 2154.700,2, 2298.300,2
           NA,   ICE11,    130,   1,-999.0,       1,  2,20110720,0856,  73.0500, -150.5993,  3763,  810.400,    0.231,   34.863,2,   34.865,2,  296.800,2,  297.300,2,    7.420,2,   12.810,2,    0.000,2,    0.900,2, -999.000,9, -999.000,9, -999.000,9, 2152.800,2, 2295.000,2