BOTTLE,20220919JOAExport
EXPOCODE,SECT_ID,STNNBR,CASTNO,SAMPNO,BTLNBR,BTLNBR_FLAG_W,DATE,TIME,LATITUDE,LONGITUDE,DEPTH,CTDPRS,CTDTMP,CTDSAL,CTDSAL_FLAG_W,SALNTY,SALNTY_FLAG_W,CTDOXY,CTDOXY_FLAG_W,OXYGEN,OXYGEN_FLAG_W,SILCAT,SILCAT_FLAG_W,NITRAT,NITRAT_FLAG_W,NITRIT,NITRIT_FLAG_W,PHSPHT,PHSPHT_FLAG_W,CFC-11,CFC-11_FLAG_W,CFC-12,CFC-12_FLAG_W,SF6,SF6_FLAG_W,TCARBN,TCARBN_FLAG_W,ALKALI,ALKALI_FLAG_W
,,,,,,,,,,,,DB,ITS-90,PSS-78,,PSS-78,,UMOL/KG,,UMOL/KG,,UMOL/KG,,UMOL/KG,,UMOL/KG,,UMOL/KG,,NA,,NA,,NA,,UMOL/KG,,UMOL/KG
           NA,   ICE11,    138,   1,-999.0,       7,  2,20110721,1209,  71.7567, -151.7514,  1885,    2.200,    2.247,   28.517,2,   28.576,2,  363.900,2,  364.000,2,    3.240,2,    0.050,2,    0.000,2,    0.670,2, -999.000,9, -999.000,9, -999.000,9, -999.000,9, -999.000,9
           NA,   ICE11,    138,   1,-999.0,       6,  2,20110721,1209,  71.7567, -151.7514,  1885,   10.700,   -0.431,   28.729,2,   28.946,2,  374.200,2,  385.700,2,    3.330,2,    0.030,2,    0.000,2,    0.690,2, -999.000,9, -999.000,9, -999.000,9, -999.000,9, -999.000,9
           NA,   ICE11,    138,   1,-999.0,       5,  2,20110721,1209,  71.7567, -151.7514,  1885,   25.200,   -1.226,   29.298,2,   29.333,2,  393.700,2,  394.200,2,    3.530,2,    0.000,2,    0.000,2,    0.720,2, -999.000,9, -999.000,9, -999.000,9, -999.000,9, -999.000,9
           NA,   ICE11,    138,   1,-999.0,       4,  2,20110721,1209,  71.7567, -151.7514,  1885,   51.100,   -0.939,   31.224,2,   31.331,2,  384.700,2,  373.900,2,    7.530,2,    1.940,2,    0.080,2,    0.990,2, -999.000,9, -999.000,9, -999.000,9, -999.000,9, -999.000,9
           NA,   ICE11,    138,   1,-999.0,       3,  2,20110721,1209,  71.7567, -151.7514,  1885,  101.200,   -1.511,   32.481,2,   32.485,2,  309.800,2,  311.200,2,   24.730,2,   11.380,2,    0.000,2,    1.620,2, -999.000,9, -999.000,9, -999.000,9, -999.000,9, -999.000,9
           NA,   ICE11,    138,   1,-999.0,       2,  2,20110721,1209,  71.7567, -151.7514,  1885,  202.300,   -0.554,   34.307,2,   34.317,2,  278.700,2,  280.500,2,   14.060,2,   12.410,2,    0.000,2,    1.040,2, -999.000,9, -999.000,9, -999.000,9, -999.000,9, -999.000,9
           NA,   ICE11,    138,   1,-999.0,       1,  2,20110721,1209,  71.7567, -151.7514,  1885,  811.700,    0.140,   34.867,2,   34.871,2,  296.500,2,  297.700,2,    7.710,2,   12.810,2,    0.000,2,    0.920,2, -999.000,9, -999.000,9, -999.000,9, -999.000,9, -999.000,9
           NA,   ICE11,    139,   1,-999.0,      11,  2,20110721,1342,  71.6868, -151.8255,  1560,    2.100,    4.136,   28.705,2,   28.788,2,  343.100,2,  344.000,2,    3.140,2,    0.010,2,    0.000,2,    0.670,2, -999.000,9, -999.000,9, -999.000,9, 1947.600,2, 2063.600,2
           NA,   ICE11,    139,   1,-999.0,       9,  2,20110721,1342,  71.6868, -151.8255,  1560,   10.400,    3.804,   28.921,2,   28.926,2,  344.900,2,  346.100,2,    3.140,2,    0.010,2,    0.000,2,    0.670,2, -999.000,9, -999.000,9, -999.000,9, 1954.100,2, 2071.900,2
           NA,   ICE11,    139,   1,-999.0,       7,  2,20110721,1342,  71.6868, -151.8255,  1560,   25.700,   -0.887,   29.350,2,   29.555,2,  393.500,2,  393.400,2,    3.330,2,    0.030,2,    0.000,2,    0.720,2, -999.000,9, -999.000,9, -999.000,9, 1978.300,2, 2097.500,2
           NA,   ICE11,    139,   1,-999.0,       5,  2,20110721,1342,  71.6868, -151.8255,  1560,   51.600,   -1.036,   31.335,2,   31.413,2,  391.600,2,  368.600,2,    8.020,2,    2.450,2,    0.080,2,    1.010,2, -999.000,9, -999.000,9, -999.000,9, 2076.200,2, 2196.200,2
           NA,   ICE11,    139,   1,-999.0,       4,  2,20110721,1342,  71.6868, -151.8255,  1560,  101.500,   -1.521,   32.581,2,   32.596,2,  306.600,2,  306.700,2,   26.880,2,   12.070,2,    0.000,2,    1.660,2, -999.000,9, -999.000,9, -999.000,9, 2184.100,2, 2248.700,2
           NA,   ICE11,    139,   1,-999.0,       3,  2,20110721,1342,  71.6868, -151.8255,  1560,  202.300,   -0.717,   34.204,2,   34.246,2,  279.100,2,  279.000,2,   15.820,2,   12.610,2,    0.000,2,    1.120,2, -999.000,9, -999.000,9, -999.000,9, 2184.900,2, 2283.000,2
           NA,   ICE11,    139,   1,-999.0,       2,  2,20110721,1342,  71.6868, -151.8255,  1560,  357.300,    0.647,   34.808,2,   34.814,2,  286.700,2,  287.200,2,    9.080,2,   13.060,2,    0.000,2,    0.940,2, -999.000,9, -999.000,9, -999.000,9, 2161.200,2, 2294.100,2
           NA,   ICE11,    139,   1,-999.0,       1,  2,20110721,1342,  71.6868, -151.8255,  1560,  814.800,    0.133,   34.868,2,   34.872,2,  297.400,2,  297.400,2,    8.000,2,   12.820,2,    0.000,2,    0.930,2, -999.000,9, -999.000,9, -999.000,9, 2133.600,2, 2274.400,2
           NA,   ICE11,    140,   1,-999.0,       7,  2,20110721,1515,  71.6200, -151.8654,   912,    2.300,    2.666,   28.559,2,   28.541,2,  356.500,2,  356.900,2,    3.240,2,    0.090,2,    0.000,2,    0.660,2, -999.000,9, -999.000,9, -999.000,9, 1934.600,2, 2042.800,2
           NA,   ICE11,    140,   1,-999.0,       6,  2,20110721,1515,  71.6200, -151.8654,   912,   10.500,    2.537,   28.618,2,   28.780,2,  353.600,2,  365.300,2,    3.240,2,    0.090,2,    0.000,2,    0.670,2, -999.000,9, -999.000,9, -999.000,9, 1948.500,2, 2055.400,2
           NA,   ICE11,    140,   1,-999.0,       5,  2,20110721,1515,  71.6200, -151.8654,   912,   25.600,   -0.997,   29.571,2,   29.649,2,  399.400,2,  398.600,2,    3.330,2,    0.100,2,    0.000,2,    0.720,2, -999.000,9, -999.000,9, -999.000,9, 1981.700,2, 2099.500,2
           NA,   ICE11,    140,   1,-999.0,       4,  2,20110721,1515,  71.6200, -151.8654,   912,   50.600,   -0.928,   31.348,2,   31.481,2,  362.500,2,  360.300,2,    9.590,2,    3.380,2,    0.070,2,    1.080,2, -999.000,9, -999.000,9, -999.000,9, 2083.500,2, 2190.500,2
           NA,   ICE11,    140,   1,-999.0,       3,  2,20110721,1515,  71.6200, -151.8654,   912,  101.400,   -1.511,   32.529,2,   32.611,2,  310.500,2,  308.700,2,   27.180,2,   12.020,2,    0.000,2,    1.650,2, -999.000,9, -999.000,9, -999.000,9, 2175.400,2, 2249.500,2
           NA,   ICE11,    140,   1,-999.0,       2,  2,20110721,1515,  71.6200, -151.8654,   912,  202.500,   -0.779,   34.168,2,   34.235,2,  281.700,2,  279.600,2,   15.820,2,   12.510,2,    0.000,2,    1.100,2, -999.000,9, -999.000,9, -999.000,9, 2157.800,2, 2294.200,2
           NA,   ICE11,    140,   1,-999.0,       1,  2,20110721,1515,  71.6200, -151.8654,   912,  815.200,    0.034,   34.874,2,   34.877,2,  300.100,2,  299.200,2,    8.100,2,   12.730,2,    0.000,2,    0.930,2, -999.000,9, -999.000,9, -999.000,9, 2159.200,2, 2297.200,2
           NA,   ICE11,    141,   1,-999.0,      11,  2,20110721,1654,  71.5570, -151.9124,   751,    2.400,    3.131,   28.805,2,   28.875,2,  356.500,2,  356.400,2,    2.840,2,    0.090,2,    0.000,2,    0.660,2, -999.000,9, -999.000,9, -999.000,9, 1946.700,2, 2058.300,2
           NA,   ICE11,    141,   1,-999.0,       9,  2,20110721,1654,  71.5570, -151.9124,   751,   10.400,    2.783,   29.010,2,   29.164,2,  357.200,2,  356.600,2,    2.550,2,    0.050,2,    0.000,2,    0.640,2, -999.000,9, -999.000,9, -999.000,9, 1954.900,2, 2081.300,2
           NA,   ICE11,    141,   1,-999.0,       7,  2,20110721,1654,  71.5570, -151.9124,   751,   25.500,   -1.014,   29.402,2,   29.424,2,  401.600,2,  401.900,2,    2.940,2,    0.030,2,    0.000,2,    0.690,2, -999.000,9, -999.000,9, -999.000,9, 1961.600,2, 2089.000,2
           NA,   ICE11,    141,   1,-999.0,       5,  2,20110721,1654,  71.5570, -151.9124,   751,   50.800,   -1.111,   31.380,2,   31.265,2,  376.100,2,  376.100,2,    7.140,2,    1.490,2,    0.080,2,    0.950,2, -999.000,9, -999.000,9, -999.000,9, 2068.500,2, 2188.500,2
           NA,   ICE11,    141,   1,-999.0,       3,  2,20110721,1654,  71.5570, -151.9124,   751,  101.100,   -1.476,   32.479,2,   32.492,2,  309.100,2,  306.000,2,   26.100,2,   11.870,2,    0.000,2,    1.670,2, -999.000,9, -999.000,9, -999.000,9, 2178.800,2, 2244.700,2
           NA,   ICE11,    141,   1,-999.0,       2,  2,20110721,1654,  71.5570, -151.9124,   751,  202.100,   -0.817,   34.133,2,   34.179,2,  276.300,2,  278.200,2,   17.280,2,   12.790,2,    0.000,2,    1.150,2, -999.000,9, -999.000,9, -999.000,9, 2190.100,2, 2278.900,2
           NA,   ICE11,    141,   1,-999.0,       1,  2,20110721,1654,  71.5570, -151.9124,   751,  751.900,    0.051,   34.873,2,   34.877,2,  297.600,2,  296.800,2,    8.780,2,   13.720,2,    0.000,2,    0.970,2, -999.000,9, -999.000,9, -999.000,9, 2160.800,2, 2297.700,2
           NA,   ICE11,    142,   1,-999.0,       7,  2,20110721,1803,  71.4939, -151.9786,   305,    2.100,    3.913,   29.079,2,   29.089,2,  347.600,2,  346.900,2,    2.740,2,    0.060,2,    0.000,2,    0.640,2, -999.000,9, -999.000,9, -999.000,9, 1956.300,2, 2084.800,2
           NA,   ICE11,    142,   1,-999.0,       6,  2,20110721,1803,  71.4939, -151.9786,   305,   10.800,    2.659,   29.167,2, -999.000,3,  355.400,2,  355.400,2,    2.650,2,    0.050,2,    0.000,2,    0.660,2, -999.000,9, -999.000,9, -999.000,9, 1959.200,2, 2088.300,2
           NA,   ICE11,    142,   1,-999.0,       5,  2,20110721,1803,  71.4939, -151.9786,   305,   26.100,   -1.197,   29.879,2,   29.905,2,  399.500,2,  399.300,2,    3.040,2,    0.040,2,    0.000,2,    0.720,2, -999.000,9, -999.000,9, -999.000,9, 1994.200,2, 2116.100,2
           NA,   ICE11,    142,   1,-999.0,       4,  2,20110721,1803,  71.4939, -151.9786,   305,   45.700,   -1.181,   31.260,2, -999.000,3,  399.500,2,  369.000,2,    8.320,2,    2.400,2,    0.050,2,    1.020,2, -999.000,9, -999.000,9, -999.000,9, 2081.700,2, 2196.500,2
           NA,   ICE11,    142,   1,-999.0,       3,  2,20110721,1803,  71.4939, -151.9786,   305,  101.200,    1.129,   32.778,2, -999.000,3,  341.700,2,  341.500,2,   10.170,2,    3.680,2,    0.060,2,    0.990,2, -999.000,9, -999.000,9, -999.000,9, 2107.600,2, 2264.900,2
           NA,   ICE11,    142,   1,-999.0,       2,  2,20110721,1803,  71.4939, -151.9786,   305,  202.900,   -1.038,   33.934,2, -999.000,3,  278.200,2,  277.800,2,   18.950,2,   12.860,2,    0.000,2,    1.240,2, -999.000,9, -999.000,9, -999.000,9, 2191.900,2, 2276.700,2
           NA,   ICE11,    142,   1,-999.0,       1,  2,20110721,1803,  71.4939, -151.9786,   305,  302.600,    0.501,   34.824,2,   34.827,2,  286.400,2,  286.100,2,   10.640,2,   12.860,2,    0.040,2,    1.060,2, -999.000,9, -999.000,9, -999.000,9, 2165.400,2, -999.000,4
           NA,   ICE11,    143,   1,-999.0,      11,  2,20110721,1920,  71.4293, -152.0347,   189,    2.300,    4.200,   28.962,2,   29.177,2,  350.100,2,  349.200,2,    2.450,2,    0.020,2,    0.000,2,    0.630,2, -999.000,9, -999.000,9, -999.000,9, -999.000,1, -999.000,1
           NA,   ICE11,    143,   1,-999.0,       9,  2,20110721,1920,  71.4293, -152.0347,   189,   10.300,    3.743,   29.414,2,   29.499,2,  352.000,2,  365.800,2,    2.450,2,    0.000,2,    0.000,2,    0.660,2, -999.000,9, -999.000,9, -999.000,9, -999.000,1, -999.000,1
           NA,   ICE11,    143,   1,-999.0,       7,  2,20110721,1920,  71.4293, -152.0347,   189,   25.400,   -1.314,   30.142,2,   30.221,2,  395.700,2,  403.100,2,    3.430,2,    0.000,2,    0.000,2,    0.720,2, -999.000,9, -999.000,9, -999.000,9, -999.000,1, -999.000,1
           NA,   ICE11,    143,   1,-999.0,       5,  2,20110721,1920,  71.4293, -152.0347,   189,   41.900,   -1.223,   31.499,2,   31.605,2,  376.900,2,  357.900,2,   10.570,2,    3.830,2,    0.090,2,    1.120,2, -999.000,9, -999.000,9, -999.000,9, -999.000,1, -999.000,1
           NA,   ICE11,    143,   1,-999.0,       3,  2,20110721,1920,  71.4293, -152.0347,   189,   50.400,   -1.328,   32.070,2,   32.304,2,  351.200,2,  337.100,2,   15.060,2,    5.820,2,    0.060,2,    1.210,2, -999.000,9, -999.000,9, -999.000,9, -999.000,1, -999.000,1
           NA,   ICE11,    143,   1,-999.0,       2,  2,20110721,1920,  71.4293, -152.0347,   189,  101.200,    1.438,   32.753,2,   32.758,2,  341.600,2,  341.500,2,    6.740,2,    1.900,2,    0.060,2,    0.890,2, -999.000,9, -999.000,9, -999.000,9, -999.000,1, -999.000,1
           NA,   ICE11,    143,   1,-999.0,       1,  2,20110721,1920,  71.4293, -152.0347,   189,  185.600,    0.895,   32.802,2,   32.794,2,  340.100,2,  342.400,2,    9.680,2,    3.080,2,    0.060,2,    0.980,2, -999.000,9, -999.000,9, -999.000,9, -999.000,1, -999.000,1
           NA,   ICE11,    144,   1,-999.0,       6,  2,20110721,2029,  71.3632, -152.0881,    76,    2.700,    4.406,   28.975,2, -999.000,3,  353.200,2,  352.200,2,    2.060,2,    0.040,2,    0.000,2,    0.610,2, -999.000,9, -999.000,9, -999.000,9, 1943.500,2, 2079.500,2
           NA,   ICE11,    144,   1,-999.0,       5,  2,20110721,2029,  71.3632, -152.0881,    76,   10.600,    3.459,   29.437,2, -999.000,3,  352.400,2,  363.600,2,    2.450,2,    0.010,2,    0.000,2,    0.640,2, -999.000,9, -999.000,9, -999.000,9, 1973.600,2, 2103.700,2
           NA,   ICE11,    144,   1,-999.0,       4,  2,20110721,2029,  71.3632, -152.0881,    76,   25.500,   -1.508,   31.065,2,   31.050,2,  409.800,2,  415.700,2,    4.400,2,    0.080,2,    0.000,2,    0.720,2, -999.000,9, -999.000,9, -999.000,9, 2060.300,2, 2193.800,2
           NA,   ICE11,    144,   1,-999.0,       3,  2,20110721,2029,  71.3632, -152.0881,    76,   32.900,   -1.594,   31.255,2,   31.261,2,  378.300,2,  376.600,2,    8.810,2,    2.370,2,    0.070,2,    0.920,2, -999.000,9, -999.000,9, -999.000,9, 2106.100,2, 2204.000,2
           NA,   ICE11,    144,   1,-999.0,       2,  2,20110721,2029,  71.3632, -152.0881,    76,   48.000,   -1.323,   31.690,2,   31.686,2,  369.600,2,  364.900,2,    9.200,2,    1.610,2,    0.040,2,    1.030,2, -999.000,9, -999.000,9, -999.000,9, 2109.300,2, 2216.400,2
           NA,   ICE11,    144,   1,-999.0,       1,  2,20110721,2029,  71.3632, -152.0881,    76,   76.700,   -1.028,   32.483,2,   32.460,2,  319.900,2,  318.600,2,   24.830,2,    9.980,2,    0.080,2,    1.530,2, -999.000,9, -999.000,9, -999.000,9, 2164.800,2, 2249.800,2
           NA,   ICE11,    145,   1,-999.0,       8,  2,20110721,2248,  71.1287, -152.2849,    21,    2.400,    0.640,   23.983,2, -999.000,4,  390.500,2,  388.500,2,    3.740,2,    0.000,2,    0.020,2,    0.390,2, -999.000,9, -999.000,9, -999.000,9, 1551.200,2, 1613.100,2
           NA,   ICE11,    145,   1,-999.0,       6,  2,20110721,2248,  71.1287, -152.2849,    21,   10.100,   -1.305,   30.406,2, -999.000,4,  405.500,2,  417.500,2,    5.580,2,    0.080,2,    0.020,2,    0.710,2, -999.000,9, -999.000,9, -999.000,9, 2022.900,2, 2141.900,2
           NA,   ICE11,    145,   1,-999.0,       3,  2,20110721,2248,  71.1287, -152.2849,    21,   13.900,   -1.416,   32.147,2, -999.000,4,  377.800,2,  357.800,2,   13.400,2,    2.600,2,    0.060,2,    1.150,2, -999.000,9, -999.000,9, -999.000,9, 2121.400,2, 2212.400,2
           NA,   ICE11,    145,   1,-999.0,       1,  2,20110721,2248,  71.1287, -152.2849,    21,   18.900,   -1.433,   32.218,2, -999.000,4,  326.900,2,  327.100,2,   21.510,2,    9.090,2,    0.110,2,    1.500,2, -999.000,9, -999.000,9, -999.000,9, 2151.800,2, 2229.800,2
           NA,   ICE11,    146,   1,-999.0,       4,  2,20110722,0141,  71.2311, -152.2055,    43,    2.400,    1.956,   29.007,2, -999.000,4,  377.300,2,  376.700,2,    2.250,2,    0.000,2,    0.000,2,    0.630,2, -999.000,9, -999.000,9, -999.000,9, 1916.500,2, 2038.900,2
           NA,   ICE11,    146,   1,-999.0,       3,  2,20110722,0141,  71.2311, -152.2055,    43,   10.100,   -0.767,   29.916,2, -999.000,4,  399.200,2,  399.000,2,    3.230,2,    0.010,2,    0.000,2,    0.720,2, -999.000,9, -999.000,9, -999.000,9, 2002.500,2, 2118.800,2
           NA,   ICE11,    146,   1,-999.0,       2,  2,20110722,0141,  71.2311, -152.2055,    43,   27.100,   -1.390,   32.186,2, -999.000,4,  328.400,2,  328.300,2,   19.560,2,    8.260,2,    0.080,2,    1.440,2, -999.000,9, -999.000,9, -999.000,9, 2147.200,2, 2226.100,2
           NA,   ICE11,    146,   1,-999.0,       1,  2,20110722,0141,  71.2311, -152.2055,    43,   42.600,   -1.415,   32.342,2, -999.000,4,  319.800,2,  320.100,2,   24.050,2,   10.010,2,    0.080,2,    1.580,2, -999.000,9, -999.000,9, -999.000,9, 2162.100,2, 2229.000,2
           NA,   ICE11,    147,   1,-999.0,       4,  2,20110722,0231,  71.2911, -152.1466,    52,    2.400,    1.616,   28.222,2, -999.000,4,  388.600,2,  384.800,2,    2.450,2,    0.010,2,    0.000,2,    0.610,2, -999.000,9, -999.000,9, -999.000,9, 1878.200,2, 1993.800,2
           NA,   ICE11,    147,   1,-999.0,       3,  2,20110722,0231,  71.2911, -152.1466,    52,   10.000,   -0.591,   29.673,2, -999.000,4,  399.100,2,  398.900,2,    4.210,2,    0.390,2,    0.000,2,    0.770,2, -999.000,9, -999.000,9, -999.000,9, 2042.400,2, 2160.300,2
           NA,   ICE11,    147,   1,-999.0,       2,  2,20110722,0231,  71.2911, -152.1466,    52,   27.100,   -1.009,   31.596,2, -999.000,4,  352.600,2,  352.400,2,   12.520,2,    4.380,2,    0.060,2,    1.130,2, -999.000,9, -999.000,9, -999.000,9, 2106.200,2, 2207.000,2
           NA,   ICE11,    147,   1,-999.0,       1,  2,20110722,0231,  71.2911, -152.1466,    52,   52.600,   -1.004,   32.504,2,   32.503,2,  316.000,2,  315.900,2,   25.320,2,    9.950,2,    0.090,2,    1.560,2, -999.000,9, -999.000,9, -999.000,9, 2163.100,2, 2244.400,2
           NA,   ICE11,    148,   1,-999.0,      11,  2,20110722,1705,  71.5783, -157.8371,    64,    3.400,    2.574,   30.134,2,   30.139,2,  373.000,2,  374.100,2,    2.740,2,    0.000,2,    0.000,2,    0.620,2, -999.000,9, -999.000,9, -999.000,9, 1963.100,2, 2099.000,2
           NA,   ICE11,    148,   1,-999.0,       9,  2,20110722,1705,  71.5783, -157.8371,    64,   10.200,    2.535,   30.103,2, -999.000,3,  385.100,2,  375.400,2,    2.840,2,    0.000,2,    0.000,2,    0.620,2, -999.000,9, -999.000,9, -999.000,9, 2029.300,2, 2103.100,2
           NA,   ICE11,    148,   1,-999.0,       7,  2,20110722,1705,  71.5783, -157.8371,    64,   25.700,    3.496,   31.472,2,   31.448,2,  340.300,2,  357.900,2,    3.030,2,    0.000,2,    0.000,2,    0.600,2, -999.000,9, -999.000,9, -999.000,9, 2008.200,2, 2178.100,2
           NA,   ICE11,    148,   1,-999.0,       5,  2,20110722,1705,  71.5783, -157.8371,    64,   36.500,   -0.937,   31.679,2, -999.000,3,  391.900,2,  392.200,2,    5.180,2,    0.320,2,    0.000,2,    0.880,2, -999.000,9, -999.000,9, -999.000,9, 2058.300,2, 2195.100,2
           NA,   ICE11,    148,   1,-999.0,       3,  2,20110722,1705,  71.5783, -157.8371,    64,   50.700,   -0.966,   32.354,2, -999.000,3,  343.300,2,  343.000,2,   14.760,2,    7.840,2,    0.060,2,    1.490,2, -999.000,9, -999.000,9, -999.000,9, 2139.500,2, 2224.400,2
           NA,   ICE11,    148,   1,-999.0,       1,  2,20110722,1705,  71.5783, -157.8371,    64,   61.200,   -1.297,   32.364,2,   32.368,2,  313.900,2,  314.000,2,   32.950,2,   10.500,2,    0.100,2,    1.730,2, -999.000,9, -999.000,9, -999.000,9, 2176.100,2, 2230.500,2