BOTTLE,20220919JOAExport
# Exported from JOA (5.5.0 Final September 29th, 2020) on 2022/03/18 19:09:27
#BOTTLE,20110728ODF
EXPOCODE,SECT_ID,STNNBR,CASTNO,SAMPNO,BTLNBR,BTLNBR_FLAG_W,DATE,TIME,LATITUDE,LONGITUDE,DEPTH,CTDPRS,CTDTMP,CTDSAL,CTDSAL_FLAG_W,SALNTY,SALNTY_FLAG_W,CTDOXY,CTDOXY_FLAG_W,OXYGEN,OXYGEN_FLAG_W,SILCAT,SILCAT_FLAG_W,NITRAT,NITRAT_FLAG_W,NITRIT,NITRIT_FLAG_W,PHSPHT,PHSPHT_FLAG_W,CFC-11,CFC-11_FLAG_W,CFC-12,CFC-12_FLAG_W,SF6,SF6_FLAG_W,TCARBN,TCARBN_FLAG_W,ALKALI,ALKALI_FLAG_W
,,,,,,,,,,,,DB,ITS-90,PSS-78,,PSS-78,,UMOL/KG,,UMOL/KG,,UMOL/KG,,UMOL/KG,,UMOL/KG,,UMOL/KG,,NA,,NA,,NA,,UMOL/KG,,UMOL/KG
           NA,   ICE11,      2,   1,-999.0,       4,  2,20110628,1041,  65.6163, -168.2799,    44,    2.000,    7.281,   30.398,2,   30.378,2,  324.700,2,  324.100,2,    6.850,2,    0.040,2,    0.000,2,    0.620,2, -999.000,9, -999.000,9, -999.000,9, 2004.800,2, 2166.800,2
           NA,   ICE11,      2,   1,-999.0,       3,  2,20110628,1041,  65.6163, -168.2799,    44,    9.700,    3.985,   30.690,2,   30.702,2,  365.900,2,  366.700,2,    6.460,2,    0.040,2,    0.000,2,    0.690,2, -999.000,9, -999.000,9, -999.000,9, 2037.700,2, 2188.400,2
           NA,   ICE11,      2,   1,-999.0,       2,  2,20110628,1041,  65.6163, -168.2799,    44,   25.800,    2.868,   31.202,2,   31.177,2,  377.300,2,  377.000,2,    5.480,2,    0.210,2,    0.000,2,    0.690,2, -999.000,9, -999.000,9, -999.000,9, 2008.800,2, 2193.300,2
           NA,   ICE11,      2,   1,-999.0,       1,  2,20110628,1041,  65.6163, -168.2799,    44,   42.200,    2.742,   31.379,2,   31.357,2,  377.400,2,  377.300,2,    5.380,2,    0.020,2,    0.000,2,    0.680,2, -999.000,9, -999.000,9, -999.000,9, 2037.200,2, 2198.900,2
           NA,   ICE11,      3,   1,-999.0,       4,  2,20110628,1225,  65.6357, -168.3634,    48,    2.100,    6.059,   31.563,2,   31.565,2,  331.100,2,  331.200,2,    5.480,2,    0.000,2,    0.000,2,    0.580,2, -999.000,9, -999.000,9, -999.000,9, 1972.200,2, 2166.700,2
           NA,   ICE11,      3,   1,-999.0,       3,  2,20110628,1225,  65.6357, -168.3634,    48,   10.400,    4.155,   31.564,2,   31.568,2,  351.800,2,  352.100,2,    5.380,2,    0.010,2,    0.000,2,    0.670,2, -999.000,9, -999.000,9, -999.000,9, 2014.100,2, 2179.500,2
           NA,   ICE11,      3,   1,-999.0,       2,  2,20110628,1225,  65.6357, -168.3634,    48,   26.600,    2.320,   31.557,2,   31.557,2,  378.300,2,  378.100,2,    5.480,2,    0.040,2,    0.000,2,    0.770,2, -999.000,9, -999.000,9, -999.000,9, -999.000,3, 2204.800,2
           NA,   ICE11,      3,   1,-999.0,       1,  2,20110628,1225,  65.6357, -168.3634,    48,   47.500,    2.166,   31.600,2,   31.600,2,  379.700,2,  379.100,2,    5.480,2,    0.260,2,    0.000,2,    0.760,2, -999.000,9, -999.000,9, -999.000,9, 1992.900,2, 2215.600,2
           NA,   ICE11,      4,   1,-999.0,       4,  2,20110628,1345,  65.6490, -168.4368,    51,    1.300,    4.713,   31.748,2, -999.000,3,  350.900,2,  351.100,2,    7.430,2,    0.000,2,    0.000,2,    0.640,2, -999.000,9, -999.000,9, -999.000,9, 1977.200,2, 2180.200,2
           NA,   ICE11,      4,   1,-999.0,       3,  2,20110628,1345,  65.6490, -168.4368,    51,    9.700,    2.880,   31.800,2,   31.798,2,  368.900,2,  368.400,2,    6.650,2,    0.030,2,    0.000,2,    0.710,2, -999.000,9, -999.000,9, -999.000,9, 2006.000,2, 2189.300,2
           NA,   ICE11,      4,   1,-999.0,       2,  2,20110628,1345,  65.6490, -168.4368,    51,   25.200,    1.784,   31.814,2,   31.814,2,  383.700,2,  383.900,2,    5.970,2,    0.060,2,    0.000,2,    0.800,2, -999.000,9, -999.000,9, -999.000,9, 2016.900,2, 2189.600,2
           NA,   ICE11,      4,   1,-999.0,       1,  2,20110628,1345,  65.6490, -168.4368,    51,   50.200,    1.691,   31.815,2,   31.817,2,  384.100,2,  384.700,2,    5.970,2,    0.080,2,    0.000,2,    0.780,2, -999.000,9, -999.000,9, -999.000,9, 2012.000,2, 2200.100,2
           NA,   ICE11,      5,   1,-999.0,       7,  2,20110628,1523,  65.6622, -168.5616,    51,    1.900,    5.691,   31.907,2,   31.908,2,  352.000,2,  352.300,2,    9.980,2,    0.000,2,    0.000,2,    0.490,2, -999.000,9, -999.000,9, -999.000,9, -999.000,9, -999.000,9
           NA,   ICE11,      5,   1,-999.0,       5,  2,20110628,1523,  65.6622, -168.5616,    51,    9.800,    5.501,   31.909,2,   31.909,2,  353.100,2,  352.600,2,    9.680,2,    0.010,2,    0.000,2,    0.500,2, -999.000,9, -999.000,9, -999.000,9, 1961.800,2, 2186.800,2
           NA,   ICE11,      5,   1,-999.0,       3,  2,20110628,1523,  65.6622, -168.5616,    51,   25.300,    1.470,   31.925,2,   31.926,2,  359.000,2,  358.900,2,    6.550,2,    0.370,2,    0.040,2,    0.830,2, -999.000,9, -999.000,9, -999.000,9, 2043.500,2, 2193.200,2
           NA,   ICE11,      5,   1,-999.0,       1,  2,20110628,1523,  65.6622, -168.5616,    51,   49.100,    1.459,   31.925,2,   31.927,2,  358.400,2,  358.700,2,    6.550,2,    0.380,2,    0.040,2,    0.840,2, -999.000,9, -999.000,9, -999.000,9, 2051.600,2, 2199.400,2
           NA,   ICE11,      6,   1,-999.0,       4,  2,20110628,1700,  65.6753, -168.6619,    49,    2.200,    4.437,   31.955,2,   31.957,2,  349.300,2,  349.400,2,   10.950,2,    0.410,2,    0.020,2,    0.630,2, -999.000,9, -999.000,9, -999.000,9, 1949.100,2, 2180.600,2
           NA,   ICE11,      6,   1,-999.0,       3,  2,20110628,1700,  65.6753, -168.6619,    49,    8.500,    4.420,   31.957,2,   31.958,2,  349.400,2,  350.000,2,   10.860,2,    0.370,2,    0.010,2,    0.620,2, -999.000,9, -999.000,9, -999.000,9, 1950.100,2, 2184.300,2
           NA,   ICE11,      6,   1,-999.0,       2,  2,20110628,1700,  65.6753, -168.6619,    49,   20.900,    1.943,   31.934,2,   31.932,2,  349.300,2,  349.200,2,    7.240,2,    0.620,2,    0.050,2,    0.810,2, -999.000,9, -999.000,9, -999.000,9, 2015.700,2, 2186.400,2
           NA,   ICE11,      6,   1,-999.0,       1,  2,20110628,1700,  65.6753, -168.6619,    49,   38.400,    1.933,   31.936,2,   31.932,2,  349.300,2,  349.200,2,    7.340,2,    0.620,2,    0.050,2,    0.800,2, -999.000,9, -999.000,9, -999.000,9, 2018.200,2, 2200.200,2
           NA,   ICE11,      7,   1,-999.0,       7,  2,20110628,1844,  65.7036, -168.7638,    52,    1.800,    3.578,   31.966,2,   31.968,2,  343.500,2,  343.600,2,   12.520,2,    1.980,2,    0.040,2,    0.770,2, -999.000,9, -999.000,9, -999.000,9, 1989.300,2, 2193.300,2
           NA,   ICE11,      7,   1,-999.0,       3,  2,20110628,1844,  65.7036, -168.7638,    52,    8.800,    3.558,   31.963,2,   31.964,2,  344.100,2,  344.100,2,   12.230,2,    1.920,2,    0.040,2,    0.760,2, -999.000,9, -999.000,9, -999.000,9, 1994.700,2, 2180.600,2
           NA,   ICE11,      7,   1,-999.0,       2,  2,20110628,1844,  65.7036, -168.7638,    52,   21.200,    2.234,   31.942,2,   31.941,2,  341.500,2,  341.800,2,   10.470,2,    1.660,2,    0.050,2,    0.850,2, -999.000,9, -999.000,9, -999.000,9, 1995.800,2, 2196.100,2
           NA,   ICE11,      7,   1,-999.0,       1,  2,20110628,1844,  65.7036, -168.7638,    52,   40.000,    2.239,   31.945,2,   31.942,2,  342.200,2,  341.900,2,   10.470,2,    1.700,2,    0.050,2,    0.850,2, -999.000,9, -999.000,9, -999.000,9, 1997.600,2, 2184.200,2
           NA,   ICE11,      8,   1,-999.0,       8,  2,20110628,2237,  65.7274, -168.8266,    50,    2.500,    2.382,   31.952,2,   31.953,2,  339.300,2,  339.600,2,   11.740,2,    2.070,2,    0.050,2,    0.870,2, -999.000,9, -999.000,9, -999.000,9, 1995.800,2, 2186.800,2
           NA,   ICE11,      8,   1,-999.0,       6,  2,20110628,2237,  65.7274, -168.8266,    50,    8.800,    2.385,   31.954,2,   31.955,2,  336.800,2,  340.500,2,   11.540,2,    2.130,2,    0.050,2,    0.870,2, -999.000,9, -999.000,9, -999.000,9, 2005.200,2, 2179.500,2
           NA,   ICE11,      8,   1,-999.0,       4,  2,20110628,2237,  65.7274, -168.8266,    50,   21.000,    2.434,   31.987,2,   31.987,2,  338.000,2,  337.000,2,   12.710,2,    2.810,2,    0.050,2,    0.910,2, -999.000,9, -999.000,9, -999.000,9, 2009.500,2, 2185.200,2
           NA,   ICE11,      8,   1,-999.0,       1,  2,20110628,2237,  65.7274, -168.8266,    50,   39.400,    2.413,   31.963,2,   31.962,2,  337.400,2,  339.700,2,   11.930,2,    2.300,2,    0.050,2,    0.870,2, -999.000,9, -999.000,9, -999.000,9, 1982.000,2, 2184.500,2
           NA,   ICE11,      9,   1,-999.0,      10,  2,20110629,1234,  67.2089, -166.0794,    35,    3.500,    6.215,   31.389,2,   31.392,2,  333.600,2,  333.900,2,    4.890,2,    0.000,2,    0.000,2,    0.560,2, -999.000,9, -999.000,9, -999.000,9, 1975.300,2, 2164.900,2
           NA,   ICE11,      9,   1,-999.0,       7,  2,20110629,1234,  67.2089, -166.0794,    35,    8.900,    6.243,   31.387,2,   31.389,2,  333.700,2,  335.000,2,    4.790,2,    0.000,2,    0.000,2,    0.550,2, -999.000,9, -999.000,9, -999.000,9, 1981.000,2, 2165.400,2
           NA,   ICE11,      9,   1,-999.0,       4,  2,20110629,1234,  67.2089, -166.0794,    35,   21.300,    2.586,   31.771,2,   31.770,2,  373.700,2,  374.700,2,    5.670,2,    0.120,2,    0.000,2,    0.700,2, -999.000,9, -999.000,9, -999.000,9, 2000.700,2, 2186.500,2
           NA,   ICE11,      9,   1,-999.0,       1,  2,20110629,1234,  67.2089, -166.0794,    35,   27.100,    2.580,   31.783,2,   31.779,2,  373.300,2,  373.900,2,    5.670,2,    0.140,2,    0.000,2,    0.710,2, -999.000,9, -999.000,9, -999.000,9, 2015.000,2, 2185.600,2
           NA,   ICE11,     10,   1,-999.0,       5,  2,20110629,1507,  67.0830, -165.4394,    26,    3.700,    6.218,   31.244,2,   31.236,2,  336.800,2,  337.200,2,    4.310,2,    0.100,2,    0.000,2,    0.550,2, -999.000,9, -999.000,9, -999.000,9, 1956.800,2, 2165.500,2
           NA,   ICE11,     10,   1,-999.0,       3,  2,20110629,1507,  67.0830, -165.4394,    26,    9.200,    6.215,   31.247,2,   31.246,2,  336.600,2,  336.500,2,    4.310,2,    0.180,2,    0.000,2,    0.540,2, -999.000,9, -999.000,9, -999.000,9, 1980.200,2, 2164.400,2
           NA,   ICE11,     10,   1,-999.0,       1,  2,20110629,1507,  67.0830, -165.4394,    26,   22.900,    4.101,   31.317,2,   31.311,2,  362.300,2,  362.300,2,    5.770,2,    0.310,2,    0.000,2,    0.560,2, -999.000,9, -999.000,9, -999.000,9, 1970.500,2, 2173.000,2
           NA,   ICE11,     11,   1,-999.0,       6,  2,20110629,1801,  66.9705, -164.6758,    26,    2.400,    7.071,   30.413,2,   30.429,2,  330.600,2,  330.500,2,    7.050,2,    0.020,2,    0.000,2,    0.540,2, -999.000,9, -999.000,9, -999.000,9, 1965.100,2, 2138.900,2
           NA,   ICE11,     11,   1,-999.0,       4,  2,20110629,1801,  66.9705, -164.6758,    26,    9.700,    7.354,   30.329,2,   30.320,2,  329.900,2,  326.600,2,    7.050,2,    0.020,2,    0.000,2,    0.540,2, -999.000,9, -999.000,9, -999.000,9, 1957.200,2, 2136.900,2
           NA,   ICE11,     11,   1,-999.0,       1,  2,20110629,1801,  66.9705, -164.6758,    26,   23.800,    3.612,   31.556,2,   31.547,2,  359.900,2,  359.800,2,    6.550,2,    0.050,2,    0.000,2,    0.630,2, -999.000,9, -999.000,9, -999.000,9, 1988.800,2, 2175.200,2
           NA,   ICE11,     12,   1,-999.0,       5,  2,20110629,2051,  66.8155, -163.9659,    24,    3.700,    9.333,   29.378,2,   29.375,2,  314.800,2,  314.800,2,    6.860,2,    0.000,2,    0.000,2,    0.470,2, -999.000,9, -999.000,9, -999.000,9, 1905.200,2, 2082.800,2
           NA,   ICE11,     12,   1,-999.0,       3,  2,20110629,2051,  66.8155, -163.9659,    24,   10.600,    9.426,   29.344,2,   29.359,2,  314.800,2,  314.800,2,    6.860,2,    0.000,2,    0.000,2,    0.470,2, -999.000,9, -999.000,9, -999.000,9, 1904.200,2, 2080.200,2
           NA,   ICE11,     12,   1,-999.0,       1,  2,20110629,2051,  66.8155, -163.9659,    24,   21.400,    3.771,   29.879,2,   29.869,2,  369.300,2,  369.300,2,    6.660,2,    0.020,2,    0.000,2,    0.520,2, -999.000,9, -999.000,9, -999.000,9, 1928.800,2, 2112.200,2
           NA,   ICE11,     13,   1,-999.0,       6,  2,20110629,2256,  66.6934, -163.3810,    22,    3.300,    8.290,   27.347,2,   27.326,2,  329.200,2,  330.800,2,    6.080,2,    0.000,2,    0.000,2,    0.380,2, -999.000,9, -999.000,9, -999.000,9, 1809.300,2, 1965.800,2
           NA,   ICE11,     13,   1,-999.0,       4,  2,20110629,2256,  66.6934, -163.3810,    22,    9.800,    8.576,   27.199,2,   27.206,2,  329.200,2,  328.300,2,    5.990,2,    0.010,2,    0.000,2,    0.370,2, -999.000,9, -999.000,9, -999.000,9, 1803.000,2, 1961.500,2
           NA,   ICE11,     13,   1,-999.0,       1,  2,20110629,2256,  66.6934, -163.3810,    22,   18.600,    4.960,   29.983,2, -999.000,3,  365.000,2,  363.100,2,    5.090,2,    0.070,2,    0.000,2,    0.450,2, -999.000,9, -999.000,9, -999.000,9, 1883.600,2, 2072.500,2
           NA,   ICE11,     14,   1,-999.0,      11,  2,20110630,0916,  67.3285, -166.7652,    43,    2.900,    4.594,   31.817,2,   31.819,2,  345.600,2,  345.600,2,    6.260,2,    0.000,2,    0.000,2,    0.630,2, -999.000,9, -999.000,9, -999.000,9, 2003.400,2, 2180.400,2
           NA,   ICE11,     14,   1,-999.0,       9,  2,20110630,0916,  67.3285, -166.7652,    43,   10.500,    4.588,   31.818,2,   31.819,2,  345.700,2,  345.600,2,    6.260,2,    0.000,2,    0.000,2,    0.620,2, -999.000,9, -999.000,9, -999.000,9, 2004.700,2, 2183.600,2
           NA,   ICE11,     14,   1,-999.0,       5,  2,20110630,0916,  67.3285, -166.7652,    43,   26.400,    3.991,   31.837,2,   31.824,2,  352.600,2,  348.200,2,    6.260,2,    0.000,2,    0.000,2,    0.620,2, -999.000,9, -999.000,9, -999.000,9, 1992.700,2, 2183.300,2
           NA,   ICE11,     14,   1,-999.0,       3,  2,20110630,0916,  67.3285, -166.7652,    43,   30.800,    1.354,   31.953,2,   31.948,2,  371.700,2,  371.700,2,    6.460,2,    0.270,2,    0.020,2,    0.810,2, -999.000,9, -999.000,9, -999.000,9, 2031.400,2, 2192.500,2
           NA,   ICE11,     14,   1,-999.0,       1,  2,20110630,0916,  67.3285, -166.7652,    43,   40.800,    1.253,   31.962,2,   31.963,2,  364.200,2,  362.800,2,    9.290,2,    0.910,2,    0.070,2,    0.980,2, -999.000,9, -999.000,9, -999.000,9, 2045.700,2, 2197.600,2
           NA,   ICE11,     15,   1,-999.0,       8,  2,20110630,1130,  67.4498, -167.4799,    44,    4.200,    2.634,   31.928,2,   31.929,2,  343.700,2,  343.700,2,    9.190,2,    1.570,2,    0.070,2,    0.870,2, -999.000,9, -999.000,9, -999.000,9, 2035.000,2, 2190.700,2
           NA,   ICE11,     15,   1,-999.0,       6,  2,20110630,1130,  67.4498, -167.4799,    44,   11.300,    2.632,   31.928,2,   31.929,2,  343.100,2,  343.200,2,    9.000,2,    1.580,2,    0.060,2,    0.870,2, -999.000,9, -999.000,9, -999.000,9, 2027.500,2, 2190.900,2
           NA,   ICE11,     15,   1,-999.0,       4,  2,20110630,1130,  67.4498, -167.4799,    44,   24.400,    2.535,   31.928,2,   31.929,2,  343.800,2,  343.700,2,    9.100,2,    1.570,2,    0.070,2,    0.880,2, -999.000,9, -999.000,9, -999.000,9, 2035.100,2, 2191.300,2
           NA,   ICE11,     15,   1,-999.0,       1,  2,20110630,1130,  67.4498, -167.4799,    44,   42.400,    1.444,   31.935,2,   31.937,2,  334.100,2,  334.100,2,   11.640,2,    1.920,2,    0.100,2,    1.050,2, -999.000,9, -999.000,9, -999.000,9, 2045.600,2, 2191.200,2
           NA,   ICE11,     16,   1,-999.0,       7,  2,20110630,1428,  67.5641, -168.1884,    46,    3.700,    2.481,   31.989,2,   31.990,2,  336.400,2,  336.400,2,   12.910,2,    3.020,2,    0.090,2,    0.950,2, -999.000,9, -999.000,9, -999.000,9, 2035.300,2, 2188.500,2
           NA,   ICE11,     16,   1,-999.0,       5,  2,20110630,1428,  67.5641, -168.1884,    46,   11.200,    2.480,   31.989,2,   31.990,2,  336.400,2,  336.400,2,   12.810,2,    2.990,2,    0.080,2,    0.940,2, -999.000,9, -999.000,9, -999.000,9, 2037.500,2, 2194.100,2
           NA,   ICE11,     16,   1,-999.0,       3,  2,20110630,1428,  67.5641, -168.1884,    46,   25.600,    2.477,   31.989,2,   31.990,2,  336.700,2,  336.700,2,   12.710,2,    3.010,2,    0.080,2,    0.940,2, -999.000,9, -999.000,9, -999.000,9, 2045.100,2, 2188.800,2
           NA,   ICE11,     16,   1,-999.0,       1,  2,20110630,1428,  67.5641, -168.1884,    46,   44.200,    2.144,   32.085,2,   32.084,2, -999.000,9, -999.000,5,   18.090,2,    4.850,2,    0.120,2,    1.150,2, -999.000,9, -999.000,9, -999.000,9, 2048.000,2, 2194.000,2
           NA,   ICE11,     17,   1,-999.0,      11,  2,20110630,1752,  68.0053, -167.8757,    49,    5.100,    4.107,   32.011,2,   32.013,2,  360.500,2,  360.200,2,    2.640,2,    0.000,2,    0.000,2,    0.480,2, -999.000,9, -999.000,9, -999.000,9, 1977.000,2, 2190.800,2
           NA,   ICE11,     17,   1,-999.0,       8,  2,20110630,1752,  68.0053, -167.8757,    49,   10.900,    4.102,   32.011,2,   32.012,2,  360.200,2,  360.600,2,    2.540,2,    0.000,2,    0.000,2,    0.470,2, -999.000,9, -999.000,9, -999.000,9, 1971.900,2, 2194.300,2
           NA,   ICE11,     17,   1,-999.0,       6,  2,20110630,1752,  68.0053, -167.8757,    49,   25.600,    4.095,   32.012,2,   32.012,2,  363.000,2,  362.100,2,    2.640,2,    0.000,2,    0.000,2,    0.480,2, -999.000,9, -999.000,9, -999.000,9, 1970.100,2, 2188.200,2
           NA,   ICE11,     17,   1,-999.0,       4,  2,20110630,1752,  68.0053, -167.8757,    49,   36.500,    1.114,   32.008,2,   32.009,2,  356.000,2,  356.600,2,    5.380,2,    0.980,2,    0.050,2,    0.860,2, -999.000,9, -999.000,9, -999.000,9, 2023.400,2, 2187.700,2
           NA,   ICE11,     17,   1,-999.0,       1,  2,20110630,1752,  68.0053, -167.8757,    49,   48.600,    1.587,   32.113,2,   32.114,2,  318.200,2,  318.600,2,   12.030,2,    4.260,2,    0.100,2,    1.130,2, -999.000,9, -999.000,9, -999.000,9, 2050.000,2, 2190.400,2
           NA,   ICE11,     18,   1,-999.0,       7,  2,20110630,1957,  67.9029, -168.2331,    57,    4.000,    2.807,   31.936,2,   31.939,2,  343.100,2,  343.500,2,   11.740,2,    2.450,2,    0.100,2,    0.910,2, -999.000,9, -999.000,9, -999.000,9, 2037.400,2, 2188.500,2
           NA,   ICE11,     18,   1,-999.0,       5,  2,20110630,1957,  67.9029, -168.2331,    57,   11.000,    2.821,   31.936,2,   31.937,2,  342.400,2,  342.100,2,   11.540,2,    2.450,2,    0.090,2,    0.890,2, -999.000,9, -999.000,9, -999.000,9, 2034.600,2, 2189.800,2
           NA,   ICE11,     18,   1,-999.0,       3,  2,20110630,1957,  67.9029, -168.2331,    57,   25.500,    2.814,   31.936,2,   31.938,2,  342.800,2,  343.000,2,   11.540,2,    2.450,2,    0.100,2,    0.890,2, -999.000,9, -999.000,9, -999.000,9, 2046.800,2, 2189.600,2
           NA,   ICE11,     18,   1,-999.0,       1,  2,20110630,1957,  67.9029, -168.2331,    57,   54.300,    2.006,   32.159,2,   32.146,2,  306.600,2,  306.600,2,   23.670,2,    6.630,2,    0.200,2,    1.370,2, -999.000,9, -999.000,9, -999.000,9, 2071.300,2, 2199.400,2
           NA,   ICE11,     19,   1,-999.0,       4,  2,20110630,2135,  67.7724, -168.5805,    49,    4.300,    4.114,   32.113,2,   32.118,2,  360.200,2,  359.800,2,    7.330,2,    0.730,2,    0.000,2,    0.580,2, -999.000,9, -999.000,9, -999.000,9, -999.000,1, -999.000,1
           NA,   ICE11,     19,   1,-999.0,       3,  2,20110630,2135,  67.7724, -168.5805,    49,   11.200,    4.100,   32.113,2,   32.122,2,  360.800,2,  360.900,2,    7.630,2,    0.580,2,    0.010,2,    0.520,2, -999.000,9, -999.000,9, -999.000,9, -999.000,3, 2204.200,2
           NA,   ICE11,     19,   1,-999.0,       2,  2,20110630,2135,  67.7724, -168.5805,    49,   26.900,    2.868,   32.410,2, -999.000,3,  338.400,2,  338.400,2,   19.160,2,    8.580,2,    0.110,2,    1.150,2, -999.000,9, -999.000,9, -999.000,9, 2051.100,2, 2210.800,2
           NA,   ICE11,     19,   1,-999.0,       1,  2,20110630,2135,  67.7724, -168.5805,    49,   47.300,    2.794,   32.518,2,   32.519,2,  326.200,2,  326.400,2,   22.190,2,    9.600,2,    0.160,2,    1.360,2, -999.000,9, -999.000,9, -999.000,9, 2069.900,2, 2220.300,2