BOTTLE,20220919JOAExport
EXPOCODE,SECT_ID,STNNBR,CASTNO,SAMPNO,BTLNBR,BTLNBR_FLAG_W,DATE,TIME,LATITUDE,LONGITUDE,DEPTH,CTDPRS,CTDTMP,CTDSAL,CTDSAL_FLAG_W,SALNTY,SALNTY_FLAG_W,CTDOXY,CTDOXY_FLAG_W,OXYGEN,OXYGEN_FLAG_W,SILCAT,SILCAT_FLAG_W,NITRAT,NITRAT_FLAG_W,NITRIT,NITRIT_FLAG_W,PHSPHT,PHSPHT_FLAG_W,CFC-11,CFC-11_FLAG_W,CFC-12,CFC-12_FLAG_W,SF6,SF6_FLAG_W,TCARBN,TCARBN_FLAG_W,ALKALI,ALKALI_FLAG_W
,,,,,,,,,,,,DB,ITS-90,PSS-78,,PSS-78,,UMOL/KG,,UMOL/KG,,UMOL/KG,,UMOL/KG,,UMOL/KG,,UMOL/KG,,NA,,NA,,NA,,UMOL/KG,,UMOL/KG
           NA,   ICE11,    163,   1,-999.0,      11,  2,20110723,1855,  71.1620, -159.7802,    77,    2.800,    5.212,   31.266,2, -999.000,3,  335.600,2,  338.000,2,    2.840,2,    0.000,2,    0.000,2,    0.460,2, -999.000,9, -999.000,9, -999.000,9, -999.000,1, -999.000,9
           NA,   ICE11,    163,   1,-999.0,       9,  2,20110723,1855,  71.1620, -159.7802,    77,   10.600,    3.769,   31.534,2, -999.000,3,  350.200,2,  420.300,2,    8.510,2,    0.030,2,    0.000,2,    0.480,2, -999.000,9, -999.000,9, -999.000,9, -999.000,1, -999.000,9
           NA,   ICE11,    163,   1,-999.0,       7,  2,20110723,1855,  71.1620, -159.7802,    77,   25.900,   -1.017,   32.587,2, -999.000,3,  489.900,2,  473.500,2,   22.880,2,    3.120,2,    0.040,2,    0.900,2, -999.000,9, -999.000,9, -999.000,9, -999.000,1, -999.000,9
           NA,   ICE11,    163,   1,-999.0,       5,  2,20110723,1855,  71.1620, -159.7802,    77,   41.000,   -1.694,   32.789,2, -999.000,3,  346.300,2,  323.600,2,   30.110,2,   14.470,2,    0.200,2,    1.980,2, -999.000,9, -999.000,9, -999.000,9, -999.000,1, -999.000,9
           NA,   ICE11,    163,   1,-999.0,       3,  2,20110723,1855,  71.1620, -159.7802,    77,   50.600,   -1.617,   32.911,2, -999.000,3,  317.600,2,  320.800,2,   25.700,2,   12.480,2,    0.220,2,    1.880,2, -999.000,9, -999.000,9, -999.000,9, -999.000,1, -999.000,9
           NA,   ICE11,    163,   1,-999.0,       1,  2,20110723,1855,  71.1620, -159.7802,    77,   76.000,   -1.639,   33.104,2,   33.107,2,  276.700,2,  275.900,2,   23.360,2,   13.320,2,    0.220,2,    1.970,2, -999.000,9, -999.000,9, -999.000,9, -999.000,1, -999.000,9
           NA,   ICE11,    164,   1,-999.0,       6,  2,20110723,2006,  71.1980, -159.8357,    60,    2.700,    5.067,   31.353,2, -999.000,3,  315.200,2,  334.300,2,    3.130,2,    0.020,2,    0.000,2,    0.420,2, -999.000,9, -999.000,9, -999.000,9, -999.000,1, -999.000,9
           NA,   ICE11,    164,   1,-999.0,       5,  2,20110723,2006,  71.1980, -159.8357,    60,   10.600,    4.263,   31.502,2, -999.000,3,  315.100,2,  407.300,2,    7.140,2,    0.020,2,    0.000,2,    0.360,2, -999.000,9, -999.000,9, -999.000,9, 1961.700,2, 2222.800,2
           NA,   ICE11,    164,   1,-999.0,       4,  2,20110723,2006,  71.1980, -159.8357,    60,   25.600,    0.294,   32.557,2, -999.000,3,  392.400,2,  408.300,2,   18.770,2,    3.380,2,    0.060,2,    0.920,2, -999.000,9, -999.000,9, -999.000,9, -999.000,1, -999.000,9
           NA,   ICE11,    164,   1,-999.0,       3,  2,20110723,2006,  71.1980, -159.8357,    60,   31.400,   -1.625,   32.699,2, -999.000,3,  407.700,2,  321.600,2,   27.660,2,   10.720,2,    0.170,2,    1.700,2, -999.000,9, -999.000,9, -999.000,9, -999.000,1, -999.000,9
           NA,   ICE11,    164,   1,-999.0,       2,  2,20110723,2006,  71.1980, -159.8357,    60,   41.100,   -1.645,   33.101,2, -999.000,3,  267.800,2,  245.000,2,   26.290,2,   13.120,2,    0.220,2,    1.970,2, -999.000,9, -999.000,9, -999.000,9, -999.000,1, -999.000,9
           NA,   ICE11,    164,   1,-999.0,       1,  2,20110723,2006,  71.1980, -159.8357,    60,   56.800,   -1.618,   33.167,2,   33.169,2,  258.200,2,  257.600,2,   22.080,2,   12.690,2,    0.230,2,    1.960,2, -999.000,9, -999.000,9, -999.000,9, -999.000,1, -999.000,9
           NA,   ICE11,    165,   1,-999.0,       9,  2,20110723,2102,  71.2740, -160.0019,    55,    2.800,    4.922,   31.899,2, -999.000,3,  336.400,2,  334.800,2,    3.620,2,    0.000,2,    0.000,2,    0.330,2, -999.000,9, -999.000,9, -999.000,9, 1978.400,2, 2188.300,2
           NA,   ICE11,    165,   1,-999.0,       7,  2,20110723,2102,  71.2740, -160.0019,    55,   10.600,    4.255,   32.020,2, -999.000,3,  350.200,2,  364.000,2,    3.330,2,    0.000,2,    0.000,2,    0.320,2, -999.000,9, -999.000,9, -999.000,9, 1997.900,2, 2230.700,2
           NA,   ICE11,    165,   1,-999.0,       5,  2,20110723,2102,  71.2740, -160.0019,    55,   25.900,    2.760,   32.663,2, -999.000,3,  384.300,2,  391.000,2,    3.420,2,    0.310,2,    0.000,2,    0.470,2, -999.000,9, -999.000,9, -999.000,9, 2020.700,2, 2251.700,2
           NA,   ICE11,    165,   1,-999.0,       3,  2,20110723,2102,  71.2740, -160.0019,    55,   33.000,   -0.775,   32.581,2, -999.000,3,  410.100,2,  318.600,2,   14.860,2,    7.950,2,    0.110,2,    1.510,2, -999.000,9, -999.000,9, -999.000,9, 2182.900,2, 2250.100,2
           NA,   ICE11,    165,   1,-999.0,       1,  2,20110723,2102,  71.2740, -160.0019,    55,   53.800,   -1.657,   33.083,2,   33.083,2,  245.700,2,  245.800,2,   33.130,2,   13.840,2,    0.210,2,    2.050,2, -999.000,9, -999.000,9, -999.000,9, 2294.000,2, 2279.900,2
           NA,   ICE11,    166,   1,-999.0,      11,  2,20110723,2310,  71.3524, -160.1325,    45,    2.400,    4.823,   31.885,2, -999.000,3,  344.000,2,  344.400,2,    3.420,2,    0.020,2,    0.000,2,    0.370,2, -999.000,9, -999.000,9, -999.000,9, 1995.800,2, 2216.900,2
           NA,   ICE11,    166,   1,-999.0,       7,  2,20110723,2310,  71.3524, -160.1325,    45,   15.200,    3.514,   32.363,2, -999.000,3,  365.500,2,  364.700,2,    2.930,2,    0.000,2,    0.000,2,    0.300,2, -999.000,9, -999.000,9, -999.000,9, 1994.900,2, 2232.300,2
           NA,   ICE11,    166,   1,-999.0,       4,  2,20110723,2310,  71.3524, -160.1325,    45,   35.200,   -0.567,   32.762,2, -999.000,3,  287.100,2,  286.400,2,   12.320,2,    7.940,2,    0.140,2,    1.740,2, -999.000,9, -999.000,9, -999.000,9, 2216.700,2, 2256.400,2
           NA,   ICE11,    166,   1,-999.0,       1,  2,20110723,2310,  71.3524, -160.1325,    45,   45.100,   -1.584,   33.160,2, -999.000,3,  260.500,2,  260.100,2,   22.380,2,   10.160,2,    0.180,2,    1.820,2, -999.000,9, -999.000,9, -999.000,9, 2268.600,2, 2276.100,2
           NA,   ICE11,    167,   1,-999.0,       5,  2,20110724,0704,  72.1060, -162.1431,    27,    2.300,    3.133,   30.937,2, -999.000,3,  358.800,2,  358.700,2,    2.060,2,    0.040,2,    0.000,2,    0.490,2, -999.000,9, -999.000,9, -999.000,9, 1969.200,2, 2176.400,2
           NA,   ICE11,    167,   1,-999.0,       3,  2,20110724,0704,  72.1060, -162.1431,    27,   10.100,    2.406,   31.830,2, -999.000,3,  391.300,2,  381.400,2,    1.960,2,    0.300,2,    0.020,2,    0.830,2, -999.000,9, -999.000,9, -999.000,9, 2073.700,2, 2225.000,2
           NA,   ICE11,    167,   1,-999.0,       1,  2,20110724,0704,  72.1060, -162.1431,    27,   26.400,   -1.119,   32.325,2, -999.000,3,  389.000,2,  389.000,2,    1.660,2,    0.400,2,    0.020,2,    0.930,2, -999.000,9, -999.000,9, -999.000,9, 2079.500,2, 2232.800,2
           NA,   ICE11,    168,   1,-999.0,       3,  2,20110724,0817,  71.9707, -162.1157,    31,    2.200,    2.874,   30.239,2, -999.000,3,  375.700,2,  375.200,2,    2.550,2,    0.060,2,    0.000,2,    0.510,2, -999.000,9, -999.000,9, -999.000,9, 1953.100,2, 2145.000,2
           NA,   ICE11,    168,   1,-999.0,       2,  2,20110724,0817,  71.9707, -162.1157,    31,   10.700,   -0.423,   31.437,2, -999.000,3,  409.600,2,  409.600,2,    5.280,2,    0.100,2,    0.000,2,    0.650,2, -999.000,9, -999.000,9, -999.000,9, 2006.700,2, 2178.400,2
           NA,   ICE11,    168,   1,-999.0,       1,  2,20110724,0817,  71.9707, -162.1157,    31,   29.400,   -1.310,   32.200,2, -999.000,3,  397.500,2,  397.400,2,    3.910,2,    0.080,2,    0.020,2,    0.850,2, -999.000,9, -999.000,9, -999.000,9, 2220.900,2, 2237.300,2
           NA,   ICE11,    169,   1,-999.0,       9,  2,20110724,0937,  71.8374, -162.0403,    42,    2.300,    4.432,   32.058,2, -999.000,3,  370.100,2,  369.600,2,    2.150,2,    0.090,2,    0.000,2,    0.360,2, -999.000,9, -999.000,9, -999.000,9, 1978.500,2, 2231.600,2
           NA,   ICE11,    169,   1,-999.0,       7,  2,20110724,0937,  71.8374, -162.0403,    42,   10.600,    4.106,   32.437,2, -999.000,3,  385.400,2,  380.400,2,    2.250,2,    0.250,2,    0.000,2,    0.370,2, -999.000,9, -999.000,9, -999.000,9, 1977.600,2, 2241.500,2
           NA,   ICE11,    169,   1,-999.0,       5,  2,20110724,0937,  71.8374, -162.0403,    42,   20.500,    2.867,   32.573,2,   32.581,2,  377.500,2,  379.300,2,    1.760,2,    0.150,2,    0.000,2,    0.380,2, -999.000,9, -999.000,9, -999.000,9, 1992.400,2, 2243.600,2
           NA,   ICE11,    169,   1,-999.0,       3,  2,20110724,0937,  71.8374, -162.0403,    42,   32.500,   -0.787,   32.533,2, -999.000,3,  302.800,2,  299.400,2,   11.540,2,    6.400,2,    0.110,2,    1.420,2, -999.000,9, -999.000,9, -999.000,9, 2170.800,2, 2248.400,2
           NA,   ICE11,    169,   1,-999.0,       1,  2,20110724,0937,  71.8374, -162.0403,    42,   40.400,   -1.078,   32.687,2, -999.000,3,  282.600,2,  283.900,2,   20.530,2,    8.480,2,    0.140,2,    1.630,2, -999.000,9, -999.000,9, -999.000,9, 2198.400,2, 2249.500,2
           NA,   ICE11,    170,   1,-999.0,       5,  2,20110724,1053,  71.7020, -161.9946,    42,    2.000,    4.358,   31.881,2,   31.887,2,  346.100,2,  345.200,2,    1.960,2,    0.210,2,    0.000,2,    0.410,2, -999.000,9, -999.000,9, -999.000,9, -999.000,1, -999.000,9
           NA,   ICE11,    170,   1,-999.0,       4,  2,20110724,1053,  71.7020, -161.9946,    42,   10.200,    4.371,   31.870,2, -999.000,3,  345.400,2,  351.300,2,    1.960,2,    0.220,2,    0.000,2,    0.380,2, -999.000,9, -999.000,9, -999.000,9, -999.000,1, -999.000,9
           NA,   ICE11,    170,   1,-999.0,       3,  2,20110724,1053,  71.7020, -161.9946,    42,   20.400,    3.089,   32.581,2,   32.575,2,  385.900,2,  386.100,2,    2.050,2,    0.220,2,    0.000,2,    0.330,2, -999.000,9, -999.000,9, -999.000,9, -999.000,1, -999.000,9
           NA,   ICE11,    170,   1,-999.0,       2,  2,20110724,1053,  71.7020, -161.9946,    42,   33.600,   -0.480,   32.627,2,   32.644,2,  331.600,2,  296.200,2,    5.380,2,    7.600,2,    0.110,2,    1.540,2, -999.000,9, -999.000,9, -999.000,9, -999.000,1, -999.000,9
           NA,   ICE11,    170,   1,-999.0,       1,  2,20110724,1053,  71.7020, -161.9946,    42,   41.500,   -1.527,   32.743,2, -999.000,3,  249.200,2,  281.900,2,   23.360,2,   10.500,2,    0.150,2,    1.780,2, -999.000,9, -999.000,9, -999.000,9, -999.000,1, -999.000,9
           NA,   ICE11,    171,   1,-999.0,       7,  2,20110724,1204,  71.5687, -161.9506,    44,    2.600,    3.971,   31.766,2,   31.770,2,  354.000,2,  353.900,2,   10.170,2,    0.000,2,    0.000,2,    0.370,2, -999.000,9, -999.000,9, -999.000,9, -999.000,1, -999.000,1
           NA,   ICE11,    171,   1,-999.0,       5,  2,20110724,1204,  71.5687, -161.9506,    44,   10.500,    3.919,   31.767,2, -999.000,3,  371.600,2,  371.300,2,    8.610,2,    0.000,2,    0.000,2,    0.360,2, -999.000,9, -999.000,9, -999.000,9, -999.000,1, -999.000,1
           NA,   ICE11,    171,   1,-999.0,       3,  2,20110724,1204,  71.5687, -161.9506,    44,   28.500,   -1.384,   32.640,2,   32.657,2,  406.200,2,  406.000,2,   11.340,2,    0.150,2,    0.030,2,    0.950,2, -999.000,9, -999.000,9, -999.000,9, -999.000,1, -999.000,1
           NA,   ICE11,    171,   1,-999.0,       1,  2,20110724,1204,  71.5687, -161.9506,    44,   42.600,   -1.703,   33.093,2, -999.000,3,  272.800,2,  272.600,2,   29.810,2,   14.420,2,    0.190,2,    2.020,2, -999.000,9, -999.000,9, -999.000,9, -999.000,1, -999.000,1
           NA,   ICE11,    172,   1,-999.0,       4,  2,20110724,1318,  71.4314, -161.8892,    41,    2.600,    4.262,   31.326,2,   31.334,2,  323.700,2,  341.600,2,    6.260,2,    0.100,2,    0.000,2,    0.390,2, -999.000,9, -999.000,9, -999.000,9, 1936.900,2, 2153.600,2
           NA,   ICE11,    172,   1,-999.0,       3,  2,20110724,1318,  71.4314, -161.8892,    41,    9.300,    4.148,   31.346,2,   31.431,2,  323.700,2,  348.800,2,    6.560,2,    0.230,2,    0.000,2,    0.370,2, -999.000,9, -999.000,9, -999.000,9, 1942.900,2, 2160.800,2
           NA,   ICE11,    172,   1,-999.0,       2,  2,20110724,1318,  71.4314, -161.8892,    41,   21.900,   -1.654,   32.723,2, -999.000,3,  447.200,2,  335.400,2,   27.570,2,   16.090,2,    0.200,2,    2.020,2, -999.000,9, -999.000,9, -999.000,9, 2188.100,2, 2243.200,2
           NA,   ICE11,    172,   1,-999.0,       1,  2,20110724,1318,  71.4314, -161.8892,    41,   39.700,   -1.630,   33.011,2,   32.999,2,  314.800,2,  308.800,2,   26.780,2,   12.790,2,    0.250,2,    1.720,2, -999.000,9, -999.000,9, -999.000,9, 2230.000,2, 2267.000,2
           NA,   ICE11,    173,   1,-999.0,       7,  2,20110724,1426,  71.3028, -161.8540,    46,    2.500,    4.491,   31.271,2,   31.277,2,  337.900,2,  337.700,2,    5.090,2,    0.000,2,    0.000,2,    0.440,2, -999.000,9, -999.000,9, -999.000,9, 1940.800,2, 2147.600,2
           NA,   ICE11,    173,   1,-999.0,       5,  2,20110724,1426,  71.3028, -161.8540,    46,    9.500,    3.937,   31.289,2, -999.000,3,  343.800,2,  343.600,2,    5.190,2,    0.040,2,    0.000,2,    0.450,2, -999.000,9, -999.000,9, -999.000,9, 1948.600,2, 2154.600,2
           NA,   ICE11,    173,   1,-999.0,       3,  2,20110724,1426,  71.3028, -161.8540,    46,   25.500,   -1.202,   32.792,2,   32.797,2,  278.700,2,  278.600,2,   19.350,2,   10.910,2,    0.240,2,    1.490,2, -999.000,9, -999.000,9, -999.000,9, 2233.500,2, 2268.500,2
           NA,   ICE11,    173,   1,-999.0,       1,  2,20110724,1426,  71.3028, -161.8540,    46,   43.800,   -1.224,   32.810,2,   32.808,2,  287.500,2,  287.400,2,   19.160,2,   10.150,2,    0.240,2,    1.440,2, -999.000,9, -999.000,9, -999.000,9, 2222.400,2, 2253.300,2