BOTTLE,20220919JOAExport
EXPOCODE,SECT_ID,STNNBR,CASTNO,SAMPNO,BTLNBR,BTLNBR_FLAG_W,DATE,TIME,LATITUDE,LONGITUDE,DEPTH,CTDPRS,CTDTMP,CTDSAL,CTDSAL_FLAG_W,SALNTY,SALNTY_FLAG_W,CTDOXY,CTDOXY_FLAG_W,OXYGEN,OXYGEN_FLAG_W,SILCAT,SILCAT_FLAG_W,NITRAT,NITRAT_FLAG_W,NITRIT,NITRIT_FLAG_W,PHSPHT,PHSPHT_FLAG_W,CFC-11,CFC-11_FLAG_W,CFC-12,CFC-12_FLAG_W,SF6,SF6_FLAC_W,TCARBN,TCARBN_FLAG_W,ALKALI,ALKALI_FLAG_W
,,,,,,,,,,,,DB,ITS-90,PSS-78,,PSS-78,,UMOL/KG,,UMOL/KG,,UMOL/KG,,UMOL/KG,,UMOL/KG,,UMOL/KG,,NA,,NA,,NA,NA,UMOL/KG,,UMOL/KG
           NA,  ICESCA,     99,   1,-999.0,       4,  2,20100709,0000,  70.9328, -159.3035,    34,    4.200,    4.805,   31.992,2, -999.000,9,  344.500,2,  347.600,2,    1.850,2,    0.000,2,    0.010,2,    0.500,2, -999.000,9, -999.000,9, -999.000,    9.000, -999.000,1, 2033.300,2
           NA,  ICESCA,     99,   1,-999.0,       3,  2,20100709,0000,  70.9328, -159.3035,    34,   10.000,    4.753,   31.997,2, -999.000,9,  348.500,2,  348.900,2,    1.850,2,    0.000,2,    0.010,2,    0.500,2, -999.000,9, -999.000,9, -999.000,    9.000, -999.000,1, 2032.200,2
           NA,  ICESCA,     99,   1,-999.0,       2,  2,20100709,0000,  70.9328, -159.3035,    34,   20.500,    4.896,   32.080,2, -999.000,9,  347.100,2,  347.600,2,    2.050,2,    0.010,2,    0.010,2,    0.510,2, -999.000,9, -999.000,9, -999.000,    9.000, -999.000,1, 2040.500,2
           NA,  ICESCA,     99,   1,-999.0,       1,  2,20100709,0000,  70.9328, -159.3035,    34,   31.300,    4.951,   32.102,2, -999.000,9,  346.300,2,  345.800,2,    2.050,2,    0.000,2,    0.010,2,    0.510,2, -999.000,9, -999.000,9, -999.000,    9.000, -999.000,1, 2041.500,2
           NA,  ICESCA,    100,   1,-999.0,       9,  2,20100710,0000,  71.7335, -156.1019,   101,    4.000,   -1.350,   29.629,2, -999.000,9,  410.900,2,  408.300,2,    3.810,2,    0.000,2,    0.000,2,    0.710,2, -999.000,9, -999.000,9, -999.000,    9.000, -999.000,1, 1779.300,2
           NA,  ICESCA,    100,   1,-999.0,       8,  2,20100710,0000,  71.7335, -156.1019,   101,   10.200,   -1.445,   29.800,2, -999.000,9,  406.500,2,  404.800,2,    3.030,2,    0.010,2,    0.000,2,    0.680,2, -999.000,9, -999.000,9, -999.000,    9.000, -999.000,1, 1815.700,2
           NA,  ICESCA,    100,   1,-999.0,       5,  2,20100710,0000,  71.7335, -156.1019,   101,   20.200,   -0.797,   30.700,2,   30.749,2,  390.500,2,  389.200,2,    2.150,2,    0.050,2,    0.010,2,    0.650,2, -999.000,9, -999.000,9, -999.000,    9.000, -999.000,1, 1886.900,2
           NA,  ICESCA,    100,   1,-999.0,       3,  2,20100710,0000,  71.7335, -156.1019,   101,   50.500,   -0.575,   31.814,2, -999.000,9,  368.000,2,  353.600,2,   12.290,2,    5.050,2,    0.040,2,    1.160,2, -999.000,9, -999.000,9, -999.000,    9.000, -999.000,1, 2011.000,2
           NA,  ICESCA,    100,   1,-999.0,       2,  2,20100710,0000,  71.7335, -156.1019,   101,   75.900,   -1.083,   32.455,2, -999.000,9,  322.100,2,  319.900,2,   16.760,2,    8.550,2,    0.070,2,    1.440,2, -999.000,9, -999.000,9, -999.000,    9.000, -999.000,1, 2081.000,2
           NA,  ICESCA,    100,   1,-999.0,       1,  2,20100710,0000,  71.7335, -156.1019,   101,   95.400,   -1.393,   32.686,2,   32.672,2,  290.700,2,  290.700,2,   29.230,2,   12.910,2,    0.030,2,    1.770,2, -999.000,9, -999.000,9, -999.000,    9.000, -999.000,1, 2093.400,2
           NA,  ICESCA,    100,   2,-999.0,       9,  2,20100710,0000,  71.7367, -156.1547,    99,    3.800,   -1.379,   29.765,2, -999.000,9,  406.100,2,  409.100,2,    3.910,2,    0.020,2,    0.000,2,    0.720,2, -999.000,9, -999.000,9, -999.000,    9.000, -999.000,9, -999.000,9
           NA,  ICESCA,    100,   2,-999.0,       8,  2,20100710,0000,  71.7367, -156.1547,    99,   10.100,   -1.426,   29.781,2, -999.000,9,  405.600,2,  406.900,2,    2.930,2,    0.040,2,    0.000,2,    0.680,2, -999.000,9, -999.000,9, -999.000,    9.000, -999.000,9, -999.000,9
           NA,  ICESCA,    100,   2,-999.0,       6,  2,20100710,0000,  71.7367, -156.1547,    99,   30.200,   -0.815,   30.839,2, -999.000,9,  383.900,2,  381.800,2,    4.290,2,    0.470,2,    0.020,2,    0.750,2, -999.000,9, -999.000,9, -999.000,    9.000, -999.000,9, -999.000,9
           NA,  ICESCA,    100,   2,-999.0,       4,  2,20100710,0000,  71.7367, -156.1547,    99,   50.500,   -0.707,   31.726,2, -999.000,9,  355.400,2,  350.600,2,   12.770,2,    5.410,2,    0.040,2,    1.200,2, -999.000,9, -999.000,9, -999.000,    9.000, -999.000,9, -999.000,9
           NA,  ICESCA,    100,   2,-999.0,       3,  2,20100710,0000,  71.7367, -156.1547,    99,   75.800,   -1.254,   32.456,2, -999.000,9,  327.700,2,  306.400,2,   24.660,2,   11.320,2,    0.030,2,    1.660,2, -999.000,9, -999.000,9, -999.000,    9.000, -999.000,9, -999.000,9
           NA,  ICESCA,    100,   2,-999.0,       1,  2,20100710,0000,  71.7367, -156.1547,    99,   93.900,   -1.399,   32.667,2, -999.000,9,  304.600,2,  295.000,2,   27.770,2,   12.590,2,    0.030,2,    1.740,2, -999.000,9, -999.000,9, -999.000,    9.000, -999.000,9, -999.000,9
           NA,  ICESCA,    102,   1,-999.0,      12,  2,20100711,0000,  72.2785, -156.5857,   323,    4.100,   -1.449,   29.773,2,   29.792,2,  406.500,2,  408.700,2,    4.100,2,    0.020,2,    0.000,2,    0.730,2, -999.000,9, -999.000,9, -999.000,    9.000, -999.000,9, 1790.900,2
           NA,  ICESCA,    102,   1,-999.0,      11,  2,20100711,0000,  72.2785, -156.5857,   323,   10.100,   -1.455,   29.906,2,   30.045,2,  402.900,2,  408.600,2,    4.200,2,    0.040,2,    0.010,2,    0.730,2, -999.000,9, -999.000,9, -999.000,    9.000, -999.000,9, 1813.700,2
           NA,  ICESCA,    102,   1,-999.0,      10,  2,20100711,0000,  72.2785, -156.5857,   323,   30.300,   -1.547,   30.726,2,   30.812,2,  402.200,2,  403.600,2,    4.000,2,    0.190,2,    0.020,2,    0.820,2, -999.000,9, -999.000,9, -999.000,    9.000, -999.000,9, 1904.500,2
           NA,  ICESCA,    102,   1,-999.0,       9,  2,20100711,0000,  72.2785, -156.5857,   323,   50.700,   -1.508,   31.245,2,   31.485,2,  362.800,2,  364.100,2,    9.270,2,    3.550,2,    0.050,2,    1.050,2, -999.000,9, -999.000,9, -999.000,    9.000, -999.000,9, 1964.400,2
           NA,  ICESCA,    102,   1,-999.0,       8,  2,20100711,0000,  72.2785, -156.5857,   323,   74.900,   -1.539,   32.201,2,   32.326,2,  313.000,2,  313.400,2,   23.680,2,   10.480,2,    0.010,2,    1.560,2, -999.000,9, -999.000,9, -999.000,    9.000, -999.000,9, 2063.300,2
           NA,  ICESCA,    102,   1,-999.0,       6,  2,20100711,0000,  72.2785, -156.5857,   323,  100.700,   -1.444,   32.627,2,   32.736,2,  283.300,2,  283.300,2,   30.980,2,   13.930,2,    0.010,2,    1.830,2, -999.000,9, -999.000,9, -999.000,    9.000, -999.000,9, 2097.600,2
           NA,  ICESCA,    102,   1,-999.0,       5,  2,20100711,0000,  72.2785, -156.5857,   323,  152.000,   -1.254,   33.578,2,   33.689,2,  267.000,2,  269.600,2,   27.550,2,   13.990,2,    0.000,2,    1.540,2, -999.000,9, -999.000,9, -999.000,    9.000, -999.000,9, 2190.900,2
           NA,  ICESCA,    102,   1,-999.0,       4,  2,20100711,0000,  72.2785, -156.5857,   323,  202.300,   -0.195,   34.456,2,   34.533,2,  273.800,2,  275.500,2,   13.820,2,   12.790,2,    0.010,2,    1.060,2, -999.000,9, -999.000,9, -999.000,    9.000, -999.000,9, 2258.000,2
           NA,  ICESCA,    102,   1,-999.0,       3,  2,20100711,0000,  72.2785, -156.5857,   323,  278.600,    0.568,   34.833,2,   34.840,2,  283.700,2,  282.400,2,   13.620,2,   12.800,2,    0.060,2,    1.060,2, -999.000,9, -999.000,9, -999.000,    9.000, -999.000,9, 2292.600,2
           NA,  ICESCA,    102,   1,-999.0,       1,  2,20100711,0000,  72.2785, -156.5857,   323,  311.100,    0.520,   34.847,2,   34.848,2,  286.300,2,  287.600,2,   10.990,2,   12.730,2,    0.050,2,    1.000,2, -999.000,9, -999.000,9, -999.000,    9.000, -999.000,9, 2292.200,2
           NA,  ICESCA,    103,   1,-999.0,      10,  2,20100711,0000,  72.2409, -156.5425,   299,    4.100,   -1.415,   29.711,2,   29.696,2,  410.000,2,  409.600,2,    4.100,2,    0.030,2,    0.010,2,    0.730,2, -999.000,9, -999.000,9, -999.000,    9.000, -999.000,9, 1774.200,2
           NA,  ICESCA,    103,   1,-999.0,       9,  2,20100711,0000,  72.2409, -156.5425,   299,   10.200,   -1.461,   29.864,2,   30.167,2,  409.900,2,  410.700,2,    4.000,2,    0.030,2,    0.000,2,    0.730,2, -999.000,9, -999.000,9, -999.000,    9.000, -999.000,9, 1816.200,2
           NA,  ICESCA,    103,   1,-999.0,       8,  2,20100711,0000,  72.2409, -156.5425,   299,   25.100,   -1.511,   30.623,2,   30.731,2,  409.200,2,  409.700,2,    3.610,2,    0.130,2,    0.010,2,    0.780,2, -999.000,9, -999.000,9, -999.000,    9.000, -999.000,9, 1893.000,2
           NA,  ICESCA,    103,   1,-999.0,       7,  2,20100711,0000,  72.2409, -156.5425,   299,   40.500,   -1.581,   30.990,2,   31.108,2,  387.800,2,  385.200,2,    6.540,2,    1.530,2,    0.060,2,    0.920,2, -999.000,9, -999.000,9, -999.000,    9.000, -999.000,9, 1928.200,2
           NA,  ICESCA,    103,   1,-999.0,       6,  2,20100711,0000,  72.2409, -156.5425,   299,   75.300,   -1.434,   32.172,2,   32.306,2,  316.500,2,  311.200,2,   23.490,2,   10.720,2,    0.010,2,    1.580,2, -999.000,9, -999.000,9, -999.000,    9.000, -999.000,9, 2052.300,2
           NA,  ICESCA,    103,   1,-999.0,       5,  2,20100711,0000,  72.2409, -156.5425,   299,  101.100,   -1.463,   32.569,2,   32.670,2,  287.200,2,  291.600,2,   28.550,2,   12.960,2,    0.000,2,    1.730,2, -999.000,9, -999.000,9, -999.000,    9.000, -999.000,9, 2090.800,2
           NA,  ICESCA,    103,   1,-999.0,       4,  2,20100711,0000,  72.2409, -156.5425,   299,  151.300,   -1.473,   33.558,2,   33.635,2,  290.900,2,  296.600,2,   18.890,2,    9.400,2,    0.050,2,    1.470,2, -999.000,9, -999.000,9, -999.000,    9.000, -999.000,9, 2218.900,2
           NA,  ICESCA,    103,   1,-999.0,       3,  2,20100711,0000,  72.2409, -156.5425,   299,  201.900,    0.175,   34.624,2,   34.639,2,  277.700,2,  275.900,2,   13.040,2,   12.880,2,    0.010,2,    1.050,2, -999.000,9, -999.000,9, -999.000,    9.000, -999.000,9, 2269.700,2
           NA,  ICESCA,    103,   1,-999.0,       2,  2,20100711,0000,  72.2409, -156.5425,   299,  253.800,    0.563,   34.833,2,   34.838,2,  279.800,2,  282.400,2,   13.130,2,   12.700,2,    0.050,2,    1.050,2, -999.000,9, -999.000,9, -999.000,    9.000, -999.000,9, 2289.200,2
           NA,  ICESCA,    103,   1,-999.0,       1,  2,20100711,0000,  72.2409, -156.5425,   299,  287.300,    0.557,   34.841,2,   34.844,2,  284.600,2,  284.100,2,   12.740,2,   12.560,2,    0.060,2,    1.040,2, -999.000,9, -999.000,9, -999.000,    9.000, -999.000,9, 2290.700,2
           NA,  ICESCA,    104,   1,-999.0,       9,  2,20100711,0000,  72.1837, -156.5552,   241,    4.200,   -1.421,   29.648,2, -999.000,9,  406.500,2,  407.000,2,    4.400,2,    0.040,2,    0.000,2,    0.730,2, -999.000,9, -999.000,9, -999.000,    9.000, -999.000,9, 1777.600,2
           NA,  ICESCA,    104,   1,-999.0,       8,  2,20100711,0000,  72.1837, -156.5552,   241,    9.900,   -1.433,   29.704,2, -999.000,9,  406.500,2,  407.400,2,    4.490,2,    0.060,2,    0.000,2,    0.740,2, -999.000,9, -999.000,9, -999.000,    9.000, -999.000,9, 1787.800,2
           NA,  ICESCA,    104,   1,-999.0,       7,  2,20100711,0000,  72.1837, -156.5552,   241,   35.300,   -1.590,   30.764,2, -999.000,9,  404.900,2,  388.800,2,    7.610,2,    1.670,2,    0.060,2,    0.930,2, -999.000,9, -999.000,9, -999.000,    9.000, -999.000,9, 1919.000,2
           NA,  ICESCA,    104,   1,-999.0,       6,  2,20100711,0000,  72.1837, -156.5552,   241,   51.200,   -1.544,   31.431,2, -999.000,9,  375.900,2,  341.100,2,   15.700,2,    6.660,2,    0.030,2,    1.300,2, -999.000,9, -999.000,9, -999.000,    9.000, -999.000,9, 1999.900,2
           NA,  ICESCA,    104,   1,-999.0,       5,  2,20100711,0000,  72.1837, -156.5552,   241,   75.200,   -1.460,   32.291,2, -999.000,9,  316.500,2,  308.600,2,   24.560,2,   11.300,2,    0.010,2,    1.630,2, -999.000,9, -999.000,9, -999.000,    9.000, -999.000,9, 2068.900,2
           NA,  ICESCA,    104,   1,-999.0,       4,  2,20100711,0000,  72.1837, -156.5552,   241,  100.600,   -1.257,   32.680,2,   32.763,2,  292.000,2,  301.100,2,   24.460,2,   11.560,2,    0.040,2,    1.650,2, -999.000,9, -999.000,9, -999.000,    9.000, -999.000,9, 2106.300,2
           NA,  ICESCA,    104,   1,-999.0,       3,  2,20100711,0000,  72.1837, -156.5552,   241,  151.800,   -1.146,   33.758,2, -999.000,9,  297.400,2,  277.000,2,   23.170,2,   13.070,2,    0.020,2,    1.380,2, -999.000,9, -999.000,9, -999.000,    9.000, -999.000,9, 2212.500,2
           NA,  ICESCA,    104,   1,-999.0,       2,  2,20100711,0000,  72.1837, -156.5552,   241,  203.400,    0.328,   34.685,2,   34.716,2,  277.200,2,  277.200,2,   13.230,2,   13.160,2,    0.010,2,    1.070,2, -999.000,9, -999.000,9, -999.000,    9.000, -999.000,9, 2276.100,2
           NA,  ICESCA,    104,   1,-999.0,       1,  2,20100711,0000,  72.1837, -156.5552,   241,  230.200,    0.529,   34.795,2,   34.791,2,  275.000,2,  274.600,2,   16.340,2,   13.150,2,    0.040,2,    1.160,2, -999.000,9, -999.000,9, -999.000,    9.000, -999.000,9, 2286.300,2
           NA,  ICESCA,    105,   1,-999.0,       7,  2,20100711,0000,  72.1442, -156.5327,   203,   16.200,   -1.432,   29.920,2, -999.000,9,  406.500,2,  408.200,2,    4.490,2,    0.050,2,    0.000,2,    0.740,2, -999.000,9, -999.000,9, -999.000,    9.000, -999.000,9, 1802.600,2
           NA,  ICESCA,    105,   1,-999.0,       6,  2,20100711,0000,  72.1442, -156.5327,   203,   26.500,   -1.437,   30.269,2, -999.000,9,  407.200,2,  404.600,2,    4.880,2,    0.210,2,    0.010,2,    0.800,2, -999.000,9, -999.000,9, -999.000,    9.000, -999.000,9, 1856.700,2
           NA,  ICESCA,    105,   1,-999.0,       5,  2,20100711,0000,  72.1442, -156.5327,   203,   44.800,   -1.583,   31.111,2, -999.000,9,  386.500,2,  371.700,2,    9.660,2,    3.040,2,    0.060,2,    1.030,2, -999.000,9, -999.000,9, -999.000,    9.000, -999.000,9, 1950.700,2
           NA,  ICESCA,    105,   1,-999.0,       4,  2,20100711,0000,  72.1442, -156.5327,   203,   74.800,   -1.311,   32.240,2, -999.000,9,  319.100,2,  315.600,2,   23.100,2,   10.230,2,    0.040,2,    1.560,2, -999.000,9, -999.000,9, -999.000,    9.000, -999.000,9, 2052.000,2
           NA,  ICESCA,    105,   1,-999.0,       3,  2,20100711,0000,  72.1442, -156.5327,   203,  101.200,   -1.440,   32.661,2, -999.000,9,  292.400,2,  285.900,2,   30.790,2,   13.820,2,    0.010,2,    1.790,2, -999.000,9, -999.000,9, -999.000,    9.000, -999.000,9, 2094.900,2
           NA,  ICESCA,    105,   1,-999.0,       2,  2,20100711,0000,  72.1442, -156.5327,   203,  151.400,   -1.021,   33.790,2, -999.000,4,  269.600,2,  271.300,2,   25.120,2,   13.890,2,    0.010,2,    1.440,2, -999.000,9, -999.000,9, -999.000,    9.000, -999.000,9, 2198.400,2
           NA,  ICESCA,    105,   1,-999.0,       1,  2,20100711,0000,  72.1442, -156.5327,   203,  192.900,    0.411,   34.740,2,   34.726,2,  275.900,2,  273.700,2,   16.830,2,   13.310,2,    0.060,2,    1.190,2, -999.000,9, -999.000,9, -999.000,    9.000, -999.000,9, 2278.700,2
           NA,  ICESCA,    106,   1,-999.0,       9,  2,20100711,0000,  72.0965, -156.5704,   164,    4.100,   -1.392,   29.493,2, -999.000,9,  408.300,2,  409.200,2,    4.200,2,    0.080,2,    0.000,2,    0.730,2, -999.000,9, -999.000,9, -999.000,    9.000, -999.000,9, 1743.500,2
           NA,  ICESCA,    106,   1,-999.0,       8,  2,20100711,0000,  72.0965, -156.5704,   164,   10.000,   -1.420,   29.665,2, -999.000,9,  409.600,2,  409.600,2,    4.200,2,    0.020,2,    0.000,2,    0.730,2, -999.000,9, -999.000,9, -999.000,    9.000, -999.000,9, 1770.500,2
           NA,  ICESCA,    106,   1,-999.0,       7,  2,20100711,0000,  72.0965, -156.5704,   164,   25.200,   -1.490,   30.576,2, -999.000,9,  432.800,2,  424.100,2,    2.930,2,    0.130,2,    0.010,2,    0.730,2, -999.000,9, -999.000,9, -999.000,    9.000, -999.000,9, 1872.600,2
           NA,  ICESCA,    106,   1,-999.0,       6,  2,20100711,0000,  72.0965, -156.5704,   164,   37.500,   -1.589,   31.015,2, -999.000,9,  391.700,2,  381.700,2,    7.420,2,    1.630,2,    0.060,2,    0.940,2, -999.000,9, -999.000,9, -999.000,    9.000, -999.000,9, 1920.300,2
           NA,  ICESCA,    106,   1,-999.0,       5,  2,20100711,0000,  72.0965, -156.5704,   164,   65.100,   -1.539,   32.043,2, -999.000,9,  299.500,2,  310.900,2,   25.050,2,    8.910,2,    0.040,2,    1.550,2, -999.000,9, -999.000,9, -999.000,    9.000, -999.000,9, 2020.200,2
           NA,  ICESCA,    106,   1,-999.0,       4,  2,20100711,0000,  72.0965, -156.5704,   164,  101.200,   -1.389,   32.587,2, -999.000,3,  299.800,2,  286.800,2,   29.720,2,   13.750,2,    0.020,2,    1.790,2, -999.000,9, -999.000,9, -999.000,    9.000, -999.000,9, 2078.000,2
           NA,  ICESCA,    106,   1,-999.0,       3,  2,20100711,0000,  72.0965, -156.5704,   164,  126.500,   -1.407,   33.063,2, -999.000,9,  279.300,2,  275.400,2,   32.150,2,   14.660,2,    0.030,2,    1.800,2, -999.000,9, -999.000,9, -999.000,    9.000, -999.000,9, 2123.800,2
           NA,  ICESCA,    106,   1,-999.0,       1,  2,20100711,0000,  72.0965, -156.5704,   164,  157.800,   -0.621,   33.990,2, -999.000,9,  268.200,2,  266.900,2,   27.640,2,   13.710,2,    0.160,2,    1.570,2, -999.000,9, -999.000,9, -999.000,    9.000, -999.000,9, 2202.700,2
           NA,  ICESCA,    107,   1,-999.0,       8,  2,20100711,0000,  72.0567, -156.5433,   130,    3.200,   -1.406,   29.560,2,   29.570,2,  413.100,2,  412.200,2,    3.710,2,    0.000,2,    0.010,2,    0.700,2, -999.000,9, -999.000,9, -999.000,    9.000, -999.000,9, 1744.700,2
           NA,  ICESCA,    107,   1,-999.0,       7,  2,20100711,0000,  72.0567, -156.5433,   130,    9.700,   -1.411,   29.563,2, -999.000,9,  413.100,2,  412.700,2,    3.810,2,    0.000,2,    0.010,2,    0.700,2, -999.000,9, -999.000,9, -999.000,    9.000, -999.000,9, 1758.600,2
           NA,  ICESCA,    107,   1,-999.0,       6,  2,20100711,0000,  72.0567, -156.5433,   130,   24.800,   -1.564,   30.904,2, -999.000,9,  414.900,2,  399.200,2,    4.290,2,    0.200,2,    0.020,2,    0.810,2, -999.000,9, -999.000,9, -999.000,    9.000, -999.000,9, 1901.100,2
           NA,  ICESCA,    107,   1,-999.0,       5,  2,20100711,0000,  72.0567, -156.5433,   130,   33.300,   -1.596,   31.110,2, -999.000,9,  394.700,2,  383.000,2,    7.410,2,    1.640,2,    0.070,2,    0.930,2, -999.000,9, -999.000,9, -999.000,    9.000, -999.000,9, 1920.100,2
           NA,  ICESCA,    107,   1,-999.0,       4,  2,20100711,0000,  72.0567, -156.5433,   130,   49.500,   -1.449,   31.511,2, -999.000,9,  375.500,2,  362.400,2,   11.700,2,    3.910,2,    0.060,2,    1.060,2, -999.000,9, -999.000,9, -999.000,    9.000, -999.000,9, 1963.900,2
           NA,  ICESCA,    107,   1,-999.0,       3,  2,20100711,0000,  72.0567, -156.5433,   130,   74.700,   -1.248,   32.139,2, -999.000,9,  333.000,2,  330.000,2,   19.690,2,    7.930,2,    0.070,2,    1.410,2, -999.000,9, -999.000,9, -999.000,    9.000, -999.000,9, 2024.300,2
           NA,  ICESCA,    107,   1,-999.0,       2,  2,20100711,0000,  72.0567, -156.5433,   130,  100.200,   -1.363,   32.571,2, -999.000,9,  302.500,2,  299.400,2,   27.480,2,   11.730,2,    0.070,2,    1.710,2, -999.000,9, -999.000,9, -999.000,    9.000, -999.000,9, 2066.500,2
           NA,  ICESCA,    107,   1,-999.0,       1,  2,20100711,0000,  72.0567, -156.5433,   130,  121.300,   -1.353,   32.958,2,   32.901,2,  285.000,2,  282.400,2,   31.180,2,   13.970,2,    0.040,2,    1.810,2, -999.000,9, -999.000,9, -999.000,    9.000, -999.000,9, 2096.700,2