BOTTLE,20220919JOAExport
# Exported from JOA (5.5.0 Final September 29th, 2020) on 2022/03/18 19:08:56
#BOTTLE,20153326JOAExport
EXPOCODE,SECT_ID,STNNBR,CASTNO,SAMPNO,BTLNBR,BTLNBR_FLAG_W,DATE,TIME,LATITUDE,LONGITUDE,DEPTH,CTDPRS,CTDTMP,CTDSAL,CTDSAL_FLAG_W,SALNTY,SALNTY_FLAG_W,CTDOXY,CTDOXY_FLAG_W,OXYGEN,OXYGEN_FLAG_W,SILCAT,SILCAT_FLAG_W,NITRAT,NITRAT_FLAG_W,NITRIT,NITRIT_FLAG_W,PHSPHT,PHSPHT_FLAG_W,CFC-11,CFC-11_FLAG_W,CFC-12,CFC-12_FLAG_W,SF6,SF6_FLAC_W,TCARBN,TCARBN_FLAG_W,ALKALI,ALKALI_FLAG_W
,,,,,,,,,,,,DB,ITS-90,PSS-78,,PSS-78,,UMOL/KG,,UMOL/KG,,UMOL/KG,,UMOL/KG,,UMOL/KG,,UMOL/KG,,NA,,NA,,NA,NA,UMOL/KG,,UMOL/KG
           NA,  ICESCA,      1,   1,-999.0,       5,  2,20100618,0000,  65.6855, -168.6688,    51,    1.700,    0.622,   31.981,1,   31.992,2,  421.500,2,  421.900,2,    0.680,2,    0.050,2,    0.000,2,    0.530,2, -999.000,9, -999.000,9, -999.000,    9.000, -999.000,1, -999.000,5
           NA,  ICESCA,      1,   1,-999.0,       4,  2,20100618,0000,  65.6855, -168.6688,    51,   10.300,    0.596,   31.985,1,   31.993,2,  422.400,2,  422.400,2,    0.680,2,    0.040,2,    0.000,2,    0.550,2, -999.000,9, -999.000,9, -999.000,    9.000, -999.000,1, -999.000,5
           NA,  ICESCA,      1,   1,-999.0,       3,  2,20100618,0000,  65.6855, -168.6688,    51,   25.700,    0.619,   31.987,1,   31.993,2,  422.800,2,  422.400,2,    0.680,2,    0.060,2,    0.000,2,    0.540,2, -999.000,9, -999.000,9, -999.000,    9.000, -999.000,1, -999.000,5
           NA,  ICESCA,      1,   1,-999.0,       1,  2,20100618,0000,  65.6855, -168.6688,    51,   47.700,    0.536,   31.982,1,   31.990,2,  419.300,2,  418.900,2,    0.780,2,    0.110,2,    0.000,2,    0.570,2, -999.000,9, -999.000,9, -999.000,    9.000, -999.000,1, -999.000,5
           NA,  ICESCA,      2,   1,-999.0,       6,  2,20100618,0000,  65.6216, -168.2707,    44,    3.600,    2.670,   31.707,1,   31.713,2,  369.800,2,  370.700,2,    0.680,2,    0.000,2,    0.000,2,    0.440,2, -999.000,9, -999.000,9, -999.000,    9.000, -999.000,1, 2167.500,2
           NA,  ICESCA,      2,   1,-999.0,       5,  2,20100618,0000,  65.6216, -168.2707,    44,    9.900,    2.597,   31.742,1,   31.707,2,  370.200,2,  371.100,2,    0.680,2,    0.010,2,    0.000,2,    0.430,2, -999.000,9, -999.000,9, -999.000,    9.000, -999.000,1, 2170.800,2
           NA,  ICESCA,      2,   1,-999.0,       3,  2,20100618,0000,  65.6216, -168.2707,    44,   25.900,    2.260,   32.045,1,   32.050,2,  371.900,2,  371.400,2,    1.460,2,    0.020,2,    0.000,2,    0.590,2, -999.000,9, -999.000,9, -999.000,    9.000, -999.000,1, 2208.100,2
           NA,  ICESCA,      2,   1,-999.0,       1,  2,20100618,0000,  65.6216, -168.2707,    44,   39.900,    2.242,   32.068,1,   32.071,2,  371.900,2,  371.400,2,    1.950,2,    0.350,2,    0.000,2,    0.600,2, -999.000,9, -999.000,9, -999.000,    9.000, -999.000,1, 2219.300,2
           NA,  ICESCA,      3,   1,-999.0,       4,  2,20100618,0000,  65.6373, -168.3668,    51,    2.200,    2.296,   31.829,1,   31.836,2,  381.500,2,  382.800,2,    0.290,2,    0.010,2,    0.000,2,    0.400,2, -999.000,9, -999.000,9, -999.000,    9.000, -999.000,1, 2174.500,2
           NA,  ICESCA,      3,   1,-999.0,       3,  2,20100618,0000,  65.6373, -168.3668,    51,    9.700,    2.152,   32.102,1,   32.040,2,  377.500,2,  377.500,2,    1.070,2,    0.040,2,    0.000,2,    0.540,2, -999.000,9, -999.000,9, -999.000,    9.000, -999.000,1, 2197.500,2
           NA,  ICESCA,      3,   1,-999.0,       2,  2,20100618,0000,  65.6373, -168.3668,    51,   24.900,    2.127,   32.136,1,   32.136,2,  375.800,2,  375.300,2,    1.270,2,    0.040,2,    0.000,2,    0.580,2, -999.000,9, -999.000,9, -999.000,    9.000, -999.000,1, 2213.600,2
           NA,  ICESCA,      3,   1,-999.0,       1,  2,20100618,0000,  65.6373, -168.3668,    51,   47.400,    2.117,   32.141,1,   32.143,2,  375.300,2,  375.300,2,    1.360,2,    0.050,2,    0.000,2,    0.590,2, -999.000,9, -999.000,9, -999.000,    9.000, -999.000,1, 2212.800,2
           NA,  ICESCA,      4,   1,-999.0,       6,  2,20100618,0000,  65.6521, -168.4388,    54,    2.100,    2.167,   31.887,1,   31.896,2,  382.800,2,  386.300,2,    0.590,2,    0.030,2,    0.000,2,    0.410,2, -999.000,9, -999.000,9, -999.000,    9.000, -999.000,1, 2185.700,2
           NA,  ICESCA,      4,   1,-999.0,       5,  2,20100618,0000,  65.6521, -168.4388,    54,    9.800,    2.119,   31.936,1,   31.941,2,  382.800,2,  384.100,2,    0.880,2,    0.060,2,    0.000,2,    0.460,2, -999.000,9, -999.000,9, -999.000,    9.000, -999.000,1, 2185.400,2
           NA,  ICESCA,      4,   1,-999.0,       3,  2,20100618,0000,  65.6521, -168.4388,    54,   24.900,    2.123,   32.060,1,   32.058,2,  380.600,2,  376.700,2,    1.270,2,    0.100,2,    0.000,2,    0.570,2, -999.000,9, -999.000,9, -999.000,    9.000, -999.000,1, 2197.900,2
           NA,  ICESCA,      4,   1,-999.0,       1,  2,20100618,0000,  65.6521, -168.4388,    54,   49.300,    2.157,   32.116,1,   32.119,2,  372.300,2,  372.300,2,    1.460,2,    0.130,2,    0.000,2,    0.590,2, -999.000,9, -999.000,9, -999.000,    9.000, -999.000,1, 2203.600,2
           NA,  ICESCA,      5,   1,-999.0,       4,  2,20100618,0000,  65.6692, -168.5634,    54,    2.300,    1.707,   31.938,1,   31.944,2,  425.000,2,  425.500,2,    0.000,2,    0.010,2,    0.000,2,    0.240,2, -999.000,9, -999.000,9, -999.000,    9.000, -999.000,1, -999.000,5
           NA,  ICESCA,      5,   1,-999.0,       3,  2,20100618,0000,  65.6692, -168.5634,    54,   11.000,    1.678,   31.938,1,   31.947,2,  426.800,2,  426.300,2,    0.000,2,    0.000,2,    0.000,2,    0.260,2, -999.000,9, -999.000,9, -999.000,    9.000, -999.000,1, -999.000,5
           NA,  ICESCA,      5,   1,-999.0,       2,  2,20100618,0000,  65.6692, -168.5634,    54,   26.100,    0.717,   32.060,1,   32.064,2,  392.700,2,  392.300,2,    1.560,2,    0.060,2,    0.000,2,    0.610,2, -999.000,9, -999.000,9, -999.000,    9.000, -999.000,1, 2193.500,2
           NA,  ICESCA,      5,   1,-999.0,       1,  2,20100618,0000,  65.6692, -168.5634,    54,   47.300,    0.706,   32.075,1,   32.079,2,  390.100,2,  390.100,2,    1.660,2,    0.150,2,    0.000,2,    0.640,2, -999.000,9, -999.000,9, -999.000,    9.000, -999.000,1, 2195.600,2
           NA,  ICESCA,      6,   1,-999.0,       7,  2,20100618,0000,  65.7138, -168.7648,    53,    2.000,    0.850,   32.034,1,   32.039,2,  420.600,2,  421.900,2,    0.390,2,    0.650,2,    0.000,2,    0.490,2, -999.000,9, -999.000,9, -999.000,    9.000, -999.000,1, 2187.500,2
           NA,  ICESCA,      6,   1,-999.0,       5,  2,20100618,0000,  65.7138, -168.7648,    53,   10.600,    0.825,   32.036,1,   32.039,2,  421.100,2,  421.500,2,    0.290,2,    0.240,2,    0.000,2,    0.530,2, -999.000,9, -999.000,9, -999.000,    9.000, -999.000,1, 2187.600,2
           NA,  ICESCA,      6,   1,-999.0,       3,  2,20100618,0000,  65.7138, -168.7648,    53,   25.800,    0.836,   32.034,1,   32.039,2,  421.100,2,  420.600,2,    0.390,2,    0.490,2,    0.000,2,    0.550,2, -999.000,9, -999.000,9, -999.000,    9.000, -999.000,1, 2187.200,2
           NA,  ICESCA,      6,   1,-999.0,       1,  2,20100618,0000,  65.7138, -168.7648,    53,   47.600,    0.836,   32.033,1,   32.038,2,  421.500,2,  421.500,2,    0.490,2,    0.340,2,    0.000,2,    0.550,2, -999.000,9, -999.000,9, -999.000,    9.000, -999.000,1, -999.000,5
           NA,  ICESCA,      7,   1,-999.0,       7,  2,20100618,0000,  65.7346, -168.8448,    51,    1.900,    0.510,   32.167,1,   32.176,2,  408.400,2,  407.900,2,    5.950,2,    2.290,2,    0.030,2,    0.830,2, -999.000,9, -999.000,9, -999.000,    9.000, -999.000,1, 2198.500,2
           NA,  ICESCA,      7,   1,-999.0,       5,  2,20100618,0000,  65.7346, -168.8448,    51,   10.300,    0.502,   32.167,1,   32.171,2,  407.900,2,  408.800,2,    6.140,2,    3.500,2,    0.030,2,    0.840,2, -999.000,9, -999.000,9, -999.000,    9.000, -999.000,1, 2198.900,2
           NA,  ICESCA,      7,   1,-999.0,       3,  2,20100618,0000,  65.7346, -168.8448,    51,   25.500,    0.493,   32.167,1,   32.171,2,  407.100,2,  406.200,2,    6.240,2,    3.350,2,    0.030,2,    0.880,2, -999.000,9, -999.000,9, -999.000,    9.000, -999.000,1, 2197.200,2
           NA,  ICESCA,      7,   1,-999.0,       1,  2,20100618,0000,  65.7346, -168.8448,    51,   46.100,    0.463,   32.170,1,   32.174,2,  406.600,2,  406.600,2,    7.600,2,    2.730,2,    0.030,2,    0.870,2, -999.000,9, -999.000,9, -999.000,    9.000, -999.000,1, 2198.500,2
           NA,  ICESCA,      8,   1,-999.0,       7,  2,20100619,0000,  65.9880, -168.9235,    52,    2.400,    0.616,   32.368,1,   32.374,2,  390.900,2,  390.500,2,   24.760,2,    8.930,2,    0.080,2,    1.200,2, -999.000,9, -999.000,9, -999.000,    9.000, -999.000,1, 2208.200,2
           NA,  ICESCA,      8,   1,-999.0,       6,  2,20100619,0000,  65.9880, -168.9235,    52,    9.800,    0.285,   32.385,1,   32.387,2,  387.400,2,  385.700,2,   25.340,2,    9.430,2,    0.080,2,    1.270,2, -999.000,9, -999.000,9, -999.000,    9.000, -999.000,1, 2205.000,2
           NA,  ICESCA,      8,   1,-999.0,       4,  2,20100619,0000,  65.9880, -168.9235,    52,   25.100,    0.279,   32.382,1,   32.388,2,  385.700,2,  385.700,2,   25.240,2,    9.400,2,    0.080,2,    1.260,2, -999.000,9, -999.000,9, -999.000,    9.000, -999.000,1, 2206.300,2
           NA,  ICESCA,      8,   1,-999.0,       3,  2,20100619,0000,  65.9880, -168.9235,    52,   35.300,    0.278,   32.380,1,   32.386,2,  385.200,2,  385.700,2,   25.050,2,    9.700,2,    0.090,2,    1.260,2, -999.000,9, -999.000,9, -999.000,    9.000, -999.000,1, 2206.100,2
           NA,  ICESCA,      8,   1,-999.0,       1,  2,20100619,0000,  65.9880, -168.9235,    52,   46.900,    0.285,   32.382,1,   32.386,2,  384.400,2,  385.200,2,   24.660,2,   10.040,2,    0.090,2,    1.260,2, -999.000,9, -999.000,9, -999.000,    9.000, -999.000,1, 2205.600,2
           NA,  ICESCA,      9,   1,-999.0,       6,  2,20100620,0000,  66.6947, -163.4025,    21,    3.400,   -0.992,   30.793,1,   30.190,2,  503.600,2,  512.300,2,   11.810,2,    0.060,2,    0.000,2,    0.550,2, -999.000,9, -999.000,9, -999.000,    9.000, -999.000,1, 2145.000,2
           NA,  ICESCA,      9,   1,-999.0,       4,  2,20100620,0000,  66.6947, -163.4025,    21,    7.700,   -1.463,   31.931,1,   32.305,2,  485.800,2,  400.500,2,   25.050,2,    6.450,2,    0.110,2,    1.160,2, -999.000,9, -999.000,9, -999.000,    9.000, -999.000,1, 2257.300,2
           NA,  ICESCA,      9,   1,-999.0,       3,  2,20100620,0000,  66.6947, -163.4025,    21,   11.700,   -1.712,   33.122,1,   33.149,2,  349.300,2,  349.700,2,   30.290,2,    9.930,2,    0.070,2,    1.480,2, -999.000,9, -999.000,9, -999.000,    9.000, -999.000,1, 2167.100,2
           NA,  ICESCA,      9,   1,-999.0,       1,  2,20100620,0000,  66.6947, -163.4025,    21,   20.600,   -1.720,   33.177,1,   33.128,2,  348.900,2,  349.700,2,   29.710,2,    9.700,2,    0.070,2,    1.460,2, -999.000,9, -999.000,9, -999.000,    9.000, -999.000,1, 2309.200,2
           NA,  ICESCA,     10,   1,-999.0,       3,  2,20100620,0000,  66.8140, -163.9740,    24,    6.600,   -1.002,   32.191,1,   32.257,2,  561.600,2,  589.800,2,    3.800,2,    0.230,2,    0.000,2,    0.550,2, -999.000,9, -999.000,9, -999.000,    9.000, -999.000,1, 2229.100,2
           NA,  ICESCA,     10,   1,-999.0,       2,  2,20100620,0000,  66.8140, -163.9740,    24,   12.100,   -1.365,   32.615,1,   32.569,2,  537.900,2,  491.300,2,    9.650,2,    1.420,2,    0.010,2,    0.750,2, -999.000,9, -999.000,9, -999.000,    9.000, -999.000,1, 2248.400,2
           NA,  ICESCA,     10,   1,-999.0,       1,  2,20100620,0000,  66.8140, -163.9740,    24,   22.400,   -1.454,   32.830,1,   32.758,2,  403.400,2,  404.200,2,   18.320,2,    4.560,2,    0.070,2,    1.040,2, -999.000,9, -999.000,9, -999.000,    9.000, -999.000,1, 2259.400,2
           NA,  ICESCA,     11,   1,-999.0,       7,  2,20100620,0000,  66.9667, -164.6673,    26,    5.800,   -1.135,   31.525,1,   31.399,2,  406.900,2,  413.400,2,    2.240,2,    0.260,2,    0.000,2,    0.650,2, -999.000,9, -999.000,9, -999.000,    9.000, -999.000,1, 2158.900,2
           NA,  ICESCA,     11,   1,-999.0,       4,  2,20100620,0000,  66.9667, -164.6673,    26,   12.200,   -0.122,   32.017,1,   32.133,2,  409.700,2,  407.900,2,    4.680,2,    1.500,2,    0.000,2,    0.820,2, -999.000,9, -999.000,9, -999.000,    9.000, -999.000,1, 2207.800,2
           NA,  ICESCA,     11,   1,-999.0,       1,  2,20100620,0000,  66.9667, -164.6673,    26,   23.400,   -1.110,   32.307,1,   32.215,2,  404.400,2,  391.800,2,    8.970,2,    3.130,2,    0.000,2,    0.950,2, -999.000,9, -999.000,9, -999.000,    9.000, -999.000,1, 2215.800,2
           NA,  ICESCA,     12,   1,-999.0,       6,  2,20100620,0000,  67.0863, -165.4377,    26,    5.400,    3.389,   30.744,1,   31.503,2,  362.500,2,  376.000,2,    1.370,2,    0.040,2,    0.000,2,    0.600,2, -999.000,9, -999.000,9, -999.000,    9.000, -999.000,1, 2172.000,2
           NA,  ICESCA,     12,   1,-999.0,       4,  2,20100620,0000,  67.0863, -165.4377,    26,   12.200,    1.507,   31.995,1,   31.987,2,  391.000,2,  388.900,2,    1.460,2,    0.090,2,    0.000,2,    0.650,2, -999.000,9, -999.000,9, -999.000,    9.000, -999.000,1, 2201.100,2
           NA,  ICESCA,     12,   1,-999.0,       1,  2,20100620,0000,  67.0863, -165.4377,    26,   23.600,    0.360,   31.981,1,   31.956,2,  391.900,2,  396.200,2,    1.950,2,    0.200,2,    0.000,2,    0.670,2, -999.000,9, -999.000,9, -999.000,    9.000, -999.000,1, 2202.600,2
           NA,  ICESCA,     13,   1,-999.0,       6,  2,20100620,0000,  67.2143, -166.0840,    35,    5.500,    3.956,   31.924,1,   31.997,2,  399.800,2,  395.500,2,    0.680,2,    0.000,2,    0.000,2,    0.590,2, -999.000,9, -999.000,9, -999.000,    9.000, -999.000,1, 2189.900,2
           NA,  ICESCA,     13,   1,-999.0,       5,  2,20100620,0000,  67.2143, -166.0840,    35,   11.800,    2.353,   31.982,1,   32.008,2,  396.300,2,  399.300,2,    0.880,2,    0.000,2,    0.000,2,    0.600,2, -999.000,9, -999.000,9, -999.000,    9.000, -999.000,1, 2195.400,2
           NA,  ICESCA,     13,   1,-999.0,       3,  2,20100620,0000,  67.2143, -166.0840,    35,   27.100,    1.629,   32.010,1,   32.016,2,  401.000,2,  400.200,2,    1.070,2,    0.000,2,    0.000,2,    0.610,2, -999.000,9, -999.000,9, -999.000,    9.000, -999.000,1, 2191.400,2
           NA,  ICESCA,     13,   1,-999.0,       1,  2,20100620,0000,  67.2143, -166.0840,    35,   32.700,    1.632,   32.011,1,   32.014,2,  400.600,2,  400.600,2,    1.070,2,    0.000,2,    0.000,2,    0.600,2, -999.000,9, -999.000,9, -999.000,    9.000, -999.000,1, 2194.800,2
           NA,  ICESCA,     14,   1,-999.0,       8,  2,20100621,0000,  67.3413, -166.8075,    46,   11.500,    3.009,   31.909,1,   31.911,2,  395.000,2,  401.100,2,    0.290,2,    0.000,2,    0.000,2,    0.540,2, -999.000,9, -999.000,9, -999.000,    9.000, -999.000,1, 2180.200,2
           NA,  ICESCA,     14,   1,-999.0,       5,  2,20100621,0000,  67.3413, -166.8075,    46,   26.600,    0.999,   31.990,1,   31.994,2,  412.400,2,  407.600,2,    0.980,2,    0.000,2,    0.000,2,    0.620,2, -999.000,9, -999.000,9, -999.000,    9.000, -999.000,1, 2188.400,2
           NA,  ICESCA,     14,   1,-999.0,       3,  2,20100621,0000,  67.3413, -166.8075,    46,   37.000,    1.004,   31.992,1,   31.997,2,  401.500,2,  401.500,2,    1.660,2,    0.020,2,    0.000,2,    0.680,2, -999.000,9, -999.000,9, -999.000,    9.000, -999.000,1, 2187.700,2
           NA,  ICESCA,     14,   1,-999.0,       1,  2,20100621,0000,  67.3413, -166.8075,    46,   43.500,    1.003,   31.992,1,   31.997,2,  401.000,2,  401.000,2,    1.560,2,    0.030,2,    0.000,2,    0.700,2, -999.000,9, -999.000,9, -999.000,    9.000, -999.000,1, 2186.600,2
           NA,  ICESCA,     15,   1,-999.0,       4,  2,20100621,0000,  67.4490, -167.4854,    54,    4.300,    2.108,   31.913,1,   31.924,2,  413.700,2,  414.200,2,    0.780,2,    0.000,2,    0.010,2,    0.640,2, -999.000,9, -999.000,9, -999.000,    9.000, -999.000,1, 1985.800,2
           NA,  ICESCA,     15,   1,-999.0,       3,  2,20100621,0000,  67.4490, -167.4854,    54,   10.000,    1.254,   31.926,1,   31.933,2,  418.900,2,  421.100,2,    0.780,2,    0.000,2,    0.010,2,    0.640,2, -999.000,9, -999.000,9, -999.000,    9.000, -999.000,1, 1984.600,2
           NA,  ICESCA,     15,   1,-999.0,       2,  2,20100621,0000,  67.4490, -167.4854,    54,   24.900,    0.792,   31.947,1,   31.955,2,  410.200,2,  409.300,2,    0.980,2,    0.010,2,    0.020,2,    0.700,2, -999.000,9, -999.000,9, -999.000,    9.000, -999.000,1, 1988.100,2
           NA,  ICESCA,     15,   1,-999.0,       1,  2,20100621,0000,  67.4490, -167.4854,    54,   43.100,    0.712,   32.016,1,   32.018,2,  400.200,2,  401.900,2,    2.830,2,    0.400,2,    0.060,2,    0.860,2, -999.000,9, -999.000,9, -999.000,    9.000, -999.000,1, 1997.600,2
           NA,  ICESCA,     16,   1,-999.0,      10,  2,20100621,0000,  67.5670, -168.1997,    47,    4.100,    1.437,   32.098,1,   32.137,2,  470.700,2,  470.700,2,    0.100,2,    0.190,2,    0.050,2,    0.580,2, -999.000,9, -999.000,9, -999.000,    9.000, -999.000,1, 2012.000,2
           NA,  ICESCA,     16,   1,-999.0,       9,  2,20100621,0000,  67.5670, -168.1997,    47,    9.900,    0.975,   32.141,1,   32.152,2,  463.700,2,  465.900,2,    0.190,2,    0.420,2,    0.060,2,    0.610,2, -999.000,9, -999.000,9, -999.000,    9.000, -999.000,1, 2011.900,2
           NA,  ICESCA,     16,   1,-999.0,       7,  2,20100621,0000,  67.5670, -168.1997,    47,   25.200,    0.212,   32.160,1,   32.168,2,  425.800,2,  426.200,2,    0.680,2,    1.620,2,    0.110,2,    0.760,2, -999.000,9, -999.000,9, -999.000,    9.000, -999.000,1, 2017.100,2
           NA,  ICESCA,     16,   1,-999.0,       4,  2,20100621,0000,  67.5670, -168.1997,    47,   30.300,    0.235,   32.163,1,   32.182,2,  423.600,2,  424.900,2,    1.270,2,    1.800,2,    0.120,2,    0.850,2, -999.000,9, -999.000,9, -999.000,    9.000, -999.000,1, 2057.400,2
           NA,  ICESCA,     16,   1,-999.0,       1,  2,20100621,0000,  67.5670, -168.1997,    47,   45.500,    0.340,   32.209,1,   32.202,2,  421.400,2,  420.100,2,    2.240,2,    1.720,2,    0.150,2,    0.930,2, -999.000,9, -999.000,9, -999.000,    9.000, -999.000,1, 2054.300,2
           NA,  ICESCA,     17,   1,-999.0,       5,  2,20100621,0000,  68.0114, -167.8813,    53,    2.500,    2.905,   31.919,1,   31.937,2,  402.900,2,  402.900,2,    0.000,2,    0.000,2,    0.010,2,    0.540,2, -999.000,9, -999.000,9, -999.000,    9.000, -999.000,1, 1998.100,2
           NA,  ICESCA,     17,   1,-999.0,       4,  2,20100621,0000,  68.0114, -167.8813,    53,   10.500,    2.016,   31.946,1,   32.000,2,  410.200,2,  407.600,2,    0.780,2,    0.060,2,    0.020,2,    0.640,2, -999.000,9, -999.000,9, -999.000,    9.000, -999.000,1, 2004.700,2
           NA,  ICESCA,     17,   1,-999.0,       2,  2,20100621,0000,  68.0114, -167.8813,    53,   24.900,    0.979,   32.046,1,   32.068,2,  399.700,2,  400.600,2,    1.950,2,    0.340,2,    0.050,2,    0.800,2, -999.000,9, -999.000,9, -999.000,    9.000, -999.000,1, 2001.600,2
           NA,  ICESCA,     17,   1,-999.0,       1,  2,20100621,0000,  68.0114, -167.8813,    53,   47.800,    0.606,   32.264,1,   32.255,2,  395.300,2,  394.000,2,    3.310,2,    1.270,2,    0.080,2,    0.870,2, -999.000,9, -999.000,9, -999.000,    9.000, -999.000,1, 2034.000,2