BOTTLE,20220919JOAExport
EXPOCODE,SECT_ID,STNNBR,CASTNO,SAMPNO,BTLNBR,BTLNBR_FLAG_W,DATE,TIME,LATITUDE,LONGITUDE,DEPTH,CTDPRS,CTDTMP,CTDSAL,CTDSAL_FLAG_W,SALNTY,SALNTY_FLAG_W,CTDOXY,CTDOXY_FLAG_W,OXYGEN,OXYGEN_FLAG_W,SILCAT,SILCAT_FLAG_W,NITRAT,NITRAT_FLAG_W,NITRIT,NITRIT_FLAG_W,PHSPHT,PHSPHT_FLAG_W,CFC-11,CFC-11_FLAG_W,CFC-12,CFC-12_FLAG_W,SF6,SF6_FLAC_W,TCARBN,TCARBN_FLAG_W,ALKALI,ALKALI_FLAG_W
,,,,,,,,,,,,DB,ITS-90,PSS-78,,PSS-78,,UMOL/KG,,UMOL/KG,,UMOL/KG,,UMOL/KG,,UMOL/KG,,UMOL/KG,,NA,,NA,,NA,NA,UMOL/KG,,UMOL/KG
           NA,  ICESCA,    108,   1,-999.0,       6,  2,20100711,0000,  72.0067, -156.5811,   100,    3.800,   -1.419,   29.643,2, -999.000,9,  417.900,2,  418.800,2,    3.520,2,    0.000,2,    0.010,2,    0.690,2, -999.000,9, -999.000,9, -999.000,    9.000, -999.000,9, 1779.700,2
           NA,  ICESCA,    108,   1,-999.0,       5,  2,20100711,0000,  72.0067, -156.5811,   100,   10.300,   -1.437,   29.914,2, -999.000,9,  416.900,2,  418.200,2,    3.120,2,    0.000,2,    0.000,2,    0.700,2, -999.000,9, -999.000,9, -999.000,    9.000, -999.000,9, 1796.500,2
           NA,  ICESCA,    108,   1,-999.0,       4,  2,20100711,0000,  72.0067, -156.5811,   100,   25.600,   -1.573,   30.998,2,   31.029,2,  403.500,2,  392.600,2,    5.850,2,    0.810,2,    0.030,2,    0.870,2, -999.000,9, -999.000,9, -999.000,    9.000, -999.000,9, 1913.300,2
           NA,  ICESCA,    108,   1,-999.0,       3,  2,20100711,0000,  72.0067, -156.5811,   100,   50.600,   -1.014,   31.770,2, -999.000,9,  357.500,2,  364.500,2,   10.040,2,    3.190,2,    0.040,2,    1.030,2, -999.000,9, -999.000,9, -999.000,    9.000, -999.000,9, 1986.600,2
           NA,  ICESCA,    108,   1,-999.0,       2,  2,20100711,0000,  72.0067, -156.5811,   100,   75.500,   -1.322,   32.313,2,   32.343,2,  319.500,2,  310.400,2,   24.070,2,    9.920,2,    0.090,2,    1.570,2, -999.000,9, -999.000,9, -999.000,    9.000, -999.000,9, 2037.800,2
           NA,  ICESCA,    108,   1,-999.0,       1,  2,20100711,0000,  72.0067, -156.5811,   100,   93.200,   -1.295,   33.048,2, -999.000,9,  295.000,2,  295.400,2,   28.150,2,   11.840,2,    0.080,2,    1.700,2, -999.000,9, -999.000,9, -999.000,    9.000, -999.000,9, 2100.200,2
           NA,  ICESCA,    109,   1,-999.0,       6,  2,20100711,0000,  71.9686, -156.5902,   154,    4.100,   -1.391,   29.739,2, -999.000,9,  421.300,2,  421.800,2,    2.930,2,    0.000,2,    0.010,2,    0.690,2, -999.000,9, -999.000,9, -999.000,    9.000, -999.000,1, 1792.600,2
           NA,  ICESCA,    109,   1,-999.0,       5,  2,20100711,0000,  71.9686, -156.5902,   154,   10.000,   -1.407,   29.883,2, -999.000,9,  420.400,2,  421.300,2,    3.030,2,    0.000,2,    0.000,2,    0.690,2, -999.000,9, -999.000,9, -999.000,    9.000, -999.000,1, 1812.800,2
           NA,  ICESCA,    109,   1,-999.0,       4,  2,20100711,0000,  71.9686, -156.5902,   154,   23.800,   -1.585,   31.044,2, -999.000,9,  392.600,2,  388.200,2,    6.630,2,    1.140,2,    0.040,2,    0.910,2, -999.000,9, -999.000,9, -999.000,    9.000, -999.000,1, 1942.200,2
           NA,  ICESCA,    109,   1,-999.0,       3,  2,20100711,0000,  71.9686, -156.5902,   154,   49.900,   -1.105,   31.726,2,   31.722,2,  374.100,2,  365.400,2,   10.430,2,    3.130,2,    0.040,2,    1.020,2, -999.000,9, -999.000,9, -999.000,    9.000, -999.000,1, 2007.700,2
           NA,  ICESCA,    109,   1,-999.0,       1,  2,20100711,0000,  71.9686, -156.5902,   154,   73.100,   -1.209,   32.249,2, -999.000,9,  333.900,2,  327.800,2,   19.010,2,    7.450,2,    0.070,2,    1.410,2, -999.000,9, -999.000,9, -999.000,    9.000, -999.000,1, 2060.600,2
           NA,  ICESCA,    110,   1,-999.0,       6,  2,20100712,0000,  71.7408, -156.0942,   101,    4.400,   -1.377,   29.594,2, -999.000,9,  409.200,2,  409.200,2,    4.000,2,    0.010,2,    0.000,2,    0.720,2, -999.000,9, -999.000,9, -999.000,    9.000, -999.000,9, 1773.200,2
           NA,  ICESCA,    110,   1,-999.0,       5,  2,20100712,0000,  71.7408, -156.0942,   101,   10.000,   -1.417,   29.674,2, -999.000,9,  408.700,2,  409.600,2,    4.000,2,    0.010,2,    0.010,2,    0.730,2, -999.000,9, -999.000,9, -999.000,    9.000, -999.000,9, 1784.500,2
           NA,  ICESCA,    110,   1,-999.0,       4,  2,20100712,0000,  71.7408, -156.0942,   101,   24.900,   -1.545,   30.960,2, -999.000,9,  409.200,2,  407.900,2,    4.100,2,    0.090,2,    0.000,2,    0.770,2, -999.000,9, -999.000,9, -999.000,    9.000, -999.000,9, 1923.200,2
           NA,  ICESCA,    110,   1,-999.0,       3,  2,20100712,0000,  71.7408, -156.0942,   101,   50.500,   -1.400,   32.083,2, -999.000,9,  327.800,2,  326.500,2,   18.520,2,    8.600,2,    0.020,2,    1.440,2, -999.000,9, -999.000,9, -999.000,    9.000, -999.000,9, 2045.000,2
           NA,  ICESCA,    110,   1,-999.0,       2,  2,20100712,0000,  71.7408, -156.0942,   101,   76.300,   -1.413,   32.456,2, -999.000,9,  305.100,2,  302.500,2,   26.310,2,   11.850,2,    0.030,2,    1.710,2, -999.000,9, -999.000,9, -999.000,    9.000, -999.000,9, 2078.800,2
           NA,  ICESCA,    110,   1,-999.0,       1,  2,20100712,0000,  71.7408, -156.0942,   101,   95.000,   -1.418,   32.514,2, -999.000,9,  301.200,2,  299.900,2,   27.090,2,   12.100,2,    0.030,2,    1.730,2, -999.000,9, -999.000,9, -999.000,    9.000, -999.000,9, 2078.900,2
           NA,  ICESCA,    111,   1,-999.0,       6,  2,20100712,0000,  71.7010, -156.0047,   109,    4.000,   -1.389,   29.465,2, -999.000,9,  409.700,2,  409.200,2,    4.010,2,    0.020,2,    0.000,2,    0.730,2, -999.000,9, -999.000,9, -999.000,    9.000, -999.000,9, -999.000,9
           NA,  ICESCA,    111,   1,-999.0,       5,  2,20100712,0000,  71.7010, -156.0047,   109,   10.200,   -1.433,   29.630,2, -999.000,9,  408.700,2,  410.000,2,    4.100,2,    0.010,2,    0.000,2,    0.720,2, -999.000,9, -999.000,9, -999.000,    9.000, -999.000,9, -999.000,9
           NA,  ICESCA,    111,   1,-999.0,       4,  2,20100712,0000,  71.7010, -156.0047,   109,   23.400,   -1.531,   30.494,2, -999.000,9,  407.600,2,  405.000,2,    5.080,2,    0.090,2,    0.010,2,    0.780,2, -999.000,9, -999.000,9, -999.000,    9.000, -999.000,9, -999.000,9
           NA,  ICESCA,    111,   1,-999.0,       3,  2,20100712,0000,  71.7010, -156.0047,   109,   50.500,   -1.082,   31.719,2, -999.000,9,  368.000,2,  344.000,2,   15.500,2,    6.510,2,    0.040,2,    1.270,2, -999.000,9, -999.000,9, -999.000,    9.000, -999.000,9, -999.000,9
           NA,  ICESCA,    111,   1,-999.0,       2,  2,20100712,0000,  71.7010, -156.0047,   109,   76.000,   -1.408,   32.458,2, -999.000,9,  305.100,2,  301.200,2,   26.510,2,   11.900,2,    0.030,2,    1.710,2, -999.000,9, -999.000,9, -999.000,    9.000, -999.000,9, -999.000,9
           NA,  ICESCA,    111,   1,-999.0,       1,  2,20100712,0000,  71.7010, -156.0047,   109,  102.200,   -1.366,   32.742,2, -999.000,9,  290.700,2,  290.200,2,   29.330,2,   13.050,2,    0.030,2,    1.790,2, -999.000,9, -999.000,9, -999.000,    9.000, -999.000,9, -999.000,9
           NA,  ICESCA,    112,   1,-999.0,       7,  2,20100712,0000,  71.6636, -155.8976,   129,    4.000,   -1.439,   29.560,2, -999.000,9,  414.900,2,  414.900,2,    4.000,2,    0.050,2,    0.000,2,    0.720,2, -999.000,9, -999.000,9, -999.000,    9.000, -999.000,9, 1779.900,2
           NA,  ICESCA,    112,   1,-999.0,       6,  2,20100712,0000,  71.6636, -155.8976,   129,   10.100,   -1.458,   29.660,2, -999.000,9,  416.100,2,  416.100,2,    4.000,2,    0.010,2,    0.000,2,    0.720,2, -999.000,9, -999.000,9, -999.000,    9.000, -999.000,9, 1791.100,2
           NA,  ICESCA,    112,   1,-999.0,       5,  2,20100712,0000,  71.6636, -155.8976,   129,   25.100,   -1.548,   30.652,2, -999.000,9,  414.100,2,  397.100,2,    5.950,2,    0.250,2,    0.010,2,    0.820,2, -999.000,9, -999.000,9, -999.000,    9.000, -999.000,9, 1901.000,2
           NA,  ICESCA,    112,   1,-999.0,       4,  2,20100712,0000,  71.6636, -155.8976,   129,   50.400,   -0.634,   32.006,2, -999.000,9,  366.600,2,  359.600,2,    9.750,2,    3.980,2,    0.040,2,    1.080,2, -999.000,9, -999.000,9, -999.000,    9.000, -999.000,9, 2041.500,2
           NA,  ICESCA,    112,   1,-999.0,       3,  2,20100712,0000,  71.6636, -155.8976,   129,   75.800,   -1.522,   32.413,2, -999.000,9,  311.200,2,  307.700,2,   25.630,2,   11.560,2,    0.010,2,    1.660,2, -999.000,9, -999.000,9, -999.000,    9.000, -999.000,9, 2079.500,2
           NA,  ICESCA,    112,   1,-999.0,       2,  2,20100712,0000,  71.6636, -155.8976,   129,  101.600,   -1.407,   32.722,2, -999.000,9,  292.000,2,  290.700,2,   28.840,2,   13.070,2,    0.020,2,    1.740,2, -999.000,9, -999.000,9, -999.000,    9.000, -999.000,9, 2104.500,2
           NA,  ICESCA,    112,   1,-999.0,       1,  2,20100712,0000,  71.6636, -155.8976,   129,  123.000,   -1.321,   33.225,2, -999.000,9,  284.000,2,  284.000,2,   26.490,2,   11.900,2,    0.050,2,    1.750,2, -999.000,9, -999.000,9, -999.000,    9.000, -999.000,9, 2162.200,2
           NA,  ICESCA,    113,   1,-999.0,       9,  2,20100712,0000,  71.6286, -155.7769,   236,    4.000,   -1.448,   29.704,2, -999.000,9,  416.600,2,  416.100,2,    3.710,2,    0.000,2,    0.000,2,    0.680,2, -999.000,9, -999.000,9, -999.000,    9.000, -999.000,9, 1786.700,2
           NA,  ICESCA,    113,   1,-999.0,       8,  2,20100712,0000,  71.6286, -155.7769,   236,   10.100,   -1.442,   29.704,2, -999.000,9,  416.100,2,  416.100,2,    3.810,2,    0.000,2,    0.000,2,    0.690,2, -999.000,9, -999.000,9, -999.000,    9.000, -999.000,9, 1787.500,2
           NA,  ICESCA,    113,   1,-999.0,       6,  2,20100712,0000,  71.6286, -155.7769,   236,   51.400,   -1.021,   31.844,2, -999.000,9,  364.000,2,  353.200,2,   11.510,2,    4.840,2,    0.040,2,    1.130,2, -999.000,9, -999.000,9, -999.000,    9.000, -999.000,9, 2033.300,2
           NA,  ICESCA,    113,   1,-999.0,       5,  2,20100712,0000,  71.6286, -155.7769,   236,   74.300,   -1.289,   32.342,2, -999.000,9,  322.500,2,  313.800,2,   24.070,2,   10.740,2,    0.030,2,    1.590,2, -999.000,9, -999.000,9, -999.000,    9.000, -999.000,9, 2071.100,2
           NA,  ICESCA,    113,   1,-999.0,       4,  2,20100712,0000,  71.6286, -155.7769,   236,  100.300,   -1.337,   32.678,2, -999.000,9,  296.300,2,  293.700,2,   27.380,2,   12.520,2,    0.040,2,    1.710,2, -999.000,9, -999.000,9, -999.000,    9.000, -999.000,9, 2105.400,2
           NA,  ICESCA,    113,   1,-999.0,       3,  2,20100712,0000,  71.6286, -155.7769,   236,  151.700,   -1.368,   33.591,2, -999.000,9,  280.000,2,  280.900,2,    2.430,2,    4.940,2,    0.070,2,    1.410,2, -999.000,9, -999.000,9, -999.000,    9.000, -999.000,9, 2245.400,2
           NA,  ICESCA,    113,   1,-999.0,       2,  2,20100712,0000,  71.6286, -155.7769,   236,  203.100,   -0.479,   34.141,2, -999.000,9,  276.000,2,  276.000,2,   11.780,2,    9.430,2,    0.110,2,    1.250,2, -999.000,9, -999.000,9, -999.000,    9.000, -999.000,9, 2258.900,2
           NA,  ICESCA,    113,   1,-999.0,       1,  2,20100712,0000,  71.6286, -155.7769,   236,  230.000,    0.367,   34.739,2, -999.000,9, -999.000,9, -999.000,5,   16.250,2,   12.530,2,    0.260,2,    1.660,2, -999.000,9, -999.000,9, -999.000,    9.000, -999.000,9, 2289.800,2
           NA,  ICESCA,    114,   1,-999.0,      10,  2,20100712,0000,  71.6009, -155.7007,   202,    4.000,   -1.277,   29.446,2, -999.000,9,  409.200,2,  410.500,2,    3.610,2,    0.020,2,    0.000,2,    0.680,2, -999.000,9, -999.000,9, -999.000,    9.000, -999.000,9, 1757.100,2
           NA,  ICESCA,    114,   1,-999.0,       9,  2,20100712,0000,  71.6009, -155.7007,   202,   10.000,   -1.382,   29.574,2, -999.000,9,  410.900,2,  412.700,2,    3.910,2,    0.030,2,    0.010,2,    0.740,2, -999.000,9, -999.000,9, -999.000,    9.000, -999.000,9, 1800.400,2
           NA,  ICESCA,    114,   1,-999.0,       8,  2,20100712,0000,  71.6009, -155.7007,   202,   25.100,   -1.541,   30.720,2, -999.000,9,  406.200,2,  380.500,2,    7.220,2,    1.680,2,    0.050,2,    0.870,2, -999.000,9, -999.000,9, -999.000,    9.000, -999.000,9, 1921.300,2
           NA,  ICESCA,    114,   1,-999.0,       7,  2,20100712,0000,  71.6009, -155.7007,   202,   50.500,    0.504,   31.962,2, -999.000,9,  396.300,2,  372.300,2,    4.390,2,    1.840,2,    0.030,2,    0.830,2, -999.000,9, -999.000,9, -999.000,    9.000, -999.000,9, 1960.900,2
           NA,  ICESCA,    114,   1,-999.0,       6,  2,20100712,0000,  71.6009, -155.7007,   202,   75.100,    0.877,   32.522,2, -999.000,9,  331.200,2,  329.100,2,   13.840,2,    6.780,2,    0.060,2,    1.300,2, -999.000,9, -999.000,9, -999.000,    9.000, -999.000,9, 2060.100,2
           NA,  ICESCA,    114,   1,-999.0,       4,  2,20100712,0000,  71.6009, -155.7007,   202,  101.200,    0.040,   32.938,2, -999.000,9,  323.700,2,  324.100,2,    8.870,2,    4.630,2,    0.050,2,    1.140,2, -999.000,9, -999.000,9, -999.000,    9.000, -999.000,9, 2125.800,2
           NA,  ICESCA,    114,   1,-999.0,       3,  2,20100712,0000,  71.6009, -155.7007,   202,  152.300,   -1.609,   33.713,2,   33.714,2,  268.300,2,  262.600,2,    1.360,2,    6.950,2,    0.070,2,    1.560,2, -999.000,9, -999.000,9, -999.000,    9.000, -999.000,9, 2261.700,2
           NA,  ICESCA,    114,   1,-999.0,       1,  2,20100712,0000,  71.6009, -155.7007,   202,  189.200,   -1.651,   33.746,2,   33.750,2,  258.300,2,  257.400,2,    1.360,2,    7.380,2,    0.090,2,    1.690,2, -999.000,9, -999.000,9, -999.000,    9.000, -999.000,9, 2265.800,2
           NA,  ICESCA,    115,   1,-999.0,       7,  2,20100712,0000,  71.5788, -155.6389,   158,    4.200,   -1.434,   29.350,2, -999.000,9,  409.700,2,  409.700,2,    3.710,2,    0.030,2,    0.000,2,    0.680,2, -999.000,9, -999.000,9, -999.000,    9.000, -999.000,9, -999.000,5
           NA,  ICESCA,    115,   1,-999.0,       6,  2,20100712,0000,  71.5788, -155.6389,   158,   10.100,   -1.421,   29.674,2, -999.000,9,  409.200,2,  417.000,2,    3.710,2,    0.000,2,    0.000,2,    0.680,2, -999.000,9, -999.000,9, -999.000,    9.000, -999.000,9, -999.000,5
           NA,  ICESCA,    115,   1,-999.0,       5,  2,20100712,0000,  71.5788, -155.6389,   158,   25.300,   -1.185,   30.812,2, -999.000,9,  394.800,2,  379.200,2,    6.050,2,    1.060,2,    0.020,2,    0.790,2, -999.000,9, -999.000,9, -999.000,    9.000, -999.000,9, -999.000,5
           NA,  ICESCA,    115,   1,-999.0,       4,  2,20100712,0000,  71.5788, -155.6389,   158,   50.400,   -0.292,   32.147,2, -999.000,9,  364.400,2,  344.800,2,    9.550,2,    4.310,2,    0.040,2,    1.100,2, -999.000,9, -999.000,9, -999.000,    9.000, -999.000,9, -999.000,5
           NA,  ICESCA,    115,   1,-999.0,       3,  2,20100712,0000,  71.5788, -155.6389,   158,   75.200,   -1.172,   32.506,2, -999.000,9,  321.200,2,  311.600,2,   24.270,2,   10.700,2,    0.050,2,    1.580,2, -999.000,9, -999.000,9, -999.000,    9.000, -999.000,9, -999.000,5
           NA,  ICESCA,    115,   1,-999.0,       2,  2,20100712,0000,  71.5788, -155.6389,   158,  101.500,   -0.367,   33.091,2, -999.000,9,  301.900,2,  305.800,2,    8.090,2,    4.540,2,    0.080,2,    1.230,2, -999.000,9, -999.000,9, -999.000,    9.000, -999.000,9, -999.000,5
           NA,  ICESCA,    115,   1,-999.0,       1,  2,20100712,0000,  71.5788, -155.6389,   158,  150.500,   -0.994,   33.419,2, -999.000,9,  281.400,2,  279.200,2,    3.800,2,    4.840,2,    0.090,2,    1.380,2, -999.000,9, -999.000,9, -999.000,    9.000, -999.000,9, -999.000,5
           NA,  ICESCA,    116,   1,-999.0,       7,  2,20100712,0000,  71.5560, -155.6482,   124,    4.000,   -1.445,   29.444,2, -999.000,9,  418.400,2,  412.700,2,    3.910,2,    0.040,2,    0.000,2,    0.700,2, -999.000,9, -999.000,9, -999.000,    9.000, -999.000,9, 1762.500,2
           NA,  ICESCA,    116,   1,-999.0,       6,  2,20100712,0000,  71.5560, -155.6482,   124,   10.600,   -1.481,   30.312,2, -999.000,9,  425.500,2,  405.500,2,    4.880,2,    0.300,2,    0.020,2,    0.760,2, -999.000,9, -999.000,9, -999.000,    9.000, -999.000,9, 1870.000,2
           NA,  ICESCA,    116,   1,-999.0,       5,  2,20100712,0000,  71.5560, -155.6482,   124,   20.300,   -1.590,   30.855,2, -999.000,9,  397.900,2,  384.400,2,    6.830,2,    1.450,2,    0.060,2,    0.880,2, -999.000,9, -999.000,9, -999.000,    9.000, -999.000,9, 1929.100,2
           NA,  ICESCA,    116,   1,-999.0,       4,  2,20100712,0000,  71.5560, -155.6482,   124,   30.500,    0.022,   31.609,2, -999.000,9,  369.800,2,  360.600,2,    8.870,2,    3.130,2,    0.040,2,    0.980,2, -999.000,9, -999.000,9, -999.000,    9.000, -999.000,9, 1998.000,2
           NA,  ICESCA,    116,   1,-999.0,       3,  2,20100712,0000,  71.5560, -155.6482,   124,   50.500,   -0.875,   32.265,2, -999.000,9,  354.800,2,  340.400,2,   15.790,2,    6.520,2,    0.060,2,    1.310,2, -999.000,9, -999.000,9, -999.000,    9.000, -999.000,9, 2066.300,2
           NA,  ICESCA,    116,   1,-999.0,       2,  2,20100712,0000,  71.5560, -155.6482,   124,   75.800,   -0.007,   32.626,2, -999.000,9,  323.800,2,  336.000,2,   14.030,2,    5.480,2,    0.070,2,    1.230,2, -999.000,9, -999.000,9, -999.000,    9.000, -999.000,9, 2105.400,2
           NA,  ICESCA,    116,   1,-999.0,       1,  2,20100712,0000,  71.5560, -155.6482,   124,  112.700,    1.224,   32.823,2, -999.000,9,  356.400,2,  352.500,2,    8.380,2,    2.520,2,    0.070,2,    0.970,2, -999.000,9, -999.000,9, -999.000,    9.000, -999.000,9, 2133.300,2
           NA,  ICESCA,    117,   1,-999.0,       9,  2,20100712,0000,  71.5382, -155.6067,    67,    4.000,   -1.429,   29.393,2, -999.000,9,  404.900,2,  406.200,2,    4.300,2,    0.220,2,    0.010,2,    0.740,2, -999.000,9, -999.000,9, -999.000,    9.000, -999.000,9, -999.000,5
           NA,  ICESCA,    117,   1,-999.0,       7,  2,20100712,0000,  71.5382, -155.6067,    67,   10.200,   -1.549,   30.564,2, -999.000,9,  403.200,2,  397.100,2,    5.560,2,    0.560,2,    0.030,2,    0.800,2, -999.000,9, -999.000,9, -999.000,    9.000, -999.000,9, -999.000,5
           NA,  ICESCA,    117,   1,-999.0,       6,  2,20100712,0000,  71.5382, -155.6067,    67,   15.300,   -1.509,   30.976,2, -999.000,9,  386.500,2,  380.000,2,    6.240,2,    1.180,2,    0.050,2,    0.840,2, -999.000,9, -999.000,9, -999.000,    9.000, -999.000,9, -999.000,5
           NA,  ICESCA,    117,   1,-999.0,       4,  2,20100712,0000,  71.5382, -155.6067,    67,   25.000,   -1.071,   31.303,2, -999.000,9,  378.100,2,  362.900,2,    7.320,2,    2.190,2,    0.050,2,    0.880,2, -999.000,9, -999.000,9, -999.000,    9.000, -999.000,9, -999.000,5
           NA,  ICESCA,    117,   1,-999.0,       3,  2,20100712,0000,  71.5382, -155.6067,    67,   40.400,    3.347,   32.501,2, -999.000,9,  341.300,2,  341.700,2,    4.090,2,    0.580,2,    0.030,2,    0.710,2, -999.000,9, -999.000,9, -999.000,    9.000, -999.000,9, -999.000,5
           NA,  ICESCA,    117,   1,-999.0,       1,  2,20100712,0000,  71.5382, -155.6067,    67,   60.100,    2.985,   32.524,2, -999.000,9,  342.600,2,  342.600,2,    4.480,2,    0.950,2,    0.050,2,    0.760,2, -999.000,9, -999.000,9, -999.000,    9.000, -999.000,9, -999.000,5