BOTTLE,20220919JOAExport
EXPOCODE,SECT_ID,STNNBR,CASTNO,SAMPNO,BTLNBR,BTLNBR_FLAG_W,DATE,TIME,LATITUDE,LONGITUDE,DEPTH,CTDPRS,CTDTMP,CTDSAL,CTDSAL_FLAG_W,SALNTY,SALNTY_FLAG_W,CTDOXY,CTDOXY_FLAG_W,OXYGEN,OXYGEN_FLAG_W,SILCAT,SILCAT_FLAG_W,NITRAT,NITRAT_FLAG_W,NITRIT,NITRIT_FLAG_W,PHSPHT,PHSPHT_FLAG_W,CFC-11,CFC-11_FLAG_W,CFC-12,CFC-12_FLAG_W,SF6,SF6_FLAC_W,TCARBN,TCARBN_FLAG_W,ALKALI,ALKALI_FLAG_W
,,,,,,,,,,,,DB,ITS-90,PSS-78,,PSS-78,,UMOL/KG,,UMOL/KG,,UMOL/KG,,UMOL/KG,,UMOL/KG,,UMOL/KG,,NA,,NA,,NA,NA,UMOL/KG,,UMOL/KG
           NA,  ICESCA,     85,   1,-999.0,       4,  2,20100708,0000,  71.6032, -163.6243,    42,    4.000,    1.888,   30.534,2,   30.733,2,  360.900,2,  363.100,2,    2.340,2,    0.020,2,    0.000,2,    0.470,2, -999.000,9, -999.000,9, -999.000,    9.000, -999.000,9, 1872.000,2
           NA,  ICESCA,     85,   1,-999.0,       3,  2,20100708,0000,  71.6032, -163.6243,    42,   10.200,    2.306,   31.542,2, -999.000,9,  377.700,2,  381.600,2,    6.150,2,    0.070,2,    0.010,2,    0.620,2, -999.000,9, -999.000,9, -999.000,    9.000, -999.000,9, 2008.900,2
           NA,  ICESCA,     85,   1,-999.0,       2,  2,20100708,0000,  71.6032, -163.6243,    42,   25.200,   -1.604,   33.280,2, -999.000,9,  361.900,2,  361.400,2,    9.060,2,    0.960,2,    0.040,2,    1.090,2, -999.000,9, -999.000,9, -999.000,    9.000, -999.000,9, 2189.900,2
           NA,  ICESCA,     85,   1,-999.0,       1,  2,20100708,0000,  71.6032, -163.6243,    42,   38.900,   -1.446,   33.594,2,   33.598,2,  290.000,2,  291.800,2,   10.030,2,    7.550,2,    0.120,2,    1.550,2, -999.000,9, -999.000,9, -999.000,    9.000, -999.000,9, 2239.800,2
           NA,  ICESCA,     86,   1,-999.0,       4,  2,20100708,0000,  71.5362, -163.2682,    43,    4.000,    2.573,   31.427,2,   31.439,2,  356.800,2,  356.800,2,    2.240,2,    0.020,2,    0.000,2,    0.440,2, -999.000,9, -999.000,9, -999.000,    9.000, -999.000,9, 1964.600,2
           NA,  ICESCA,     86,   1,-999.0,       3,  2,20100708,0000,  71.5362, -163.2682,    43,   10.300,    2.554,   31.416,2, -999.000,9,  355.500,2,  360.300,2,    2.440,2,    0.030,2,    0.000,2,    0.450,2, -999.000,9, -999.000,9, -999.000,    9.000, -999.000,9, 1966.200,2
           NA,  ICESCA,     86,   1,-999.0,       2,  2,20100708,0000,  71.5362, -163.2682,    43,   28.700,   -1.694,   33.241,2, -999.000,9,  371.500,2,  341.000,2,   23.760,2,    8.420,2,    0.100,2,    1.450,2, -999.000,9, -999.000,9, -999.000,    9.000, -999.000,9, 2174.300,2
           NA,  ICESCA,     86,   1,-999.0,       1,  2,20100708,0000,  71.5362, -163.2682,    43,   40.000,   -1.609,   33.555,2,   33.467,2,  314.000,2,  314.400,2,   26.390,2,    8.280,2,    0.090,2,    1.580,2, -999.000,9, -999.000,9, -999.000,    9.000, -999.000,9, 2227.400,2
           NA,  ICESCA,     87,   1,-999.0,       4,  2,20100708,0000,  71.4665, -162.9013,    43,    4.100,    3.351,   31.988,2,   31.995,2,  347.500,2,  348.000,2,    2.340,2,    0.010,2,    0.000,2,    0.470,2, -999.000,9, -999.000,9, -999.000,    9.000, -999.000,9, 2036.100,2
           NA,  ICESCA,     87,   1,-999.0,       3,  2,20100708,0000,  71.4665, -162.9013,    43,   10.400,    3.360,   31.984,2, -999.000,9,  347.500,2,  347.500,2,    2.440,2,    0.040,2,    0.000,2,    0.470,2, -999.000,9, -999.000,9, -999.000,    9.000, -999.000,9, 2037.800,2
           NA,  ICESCA,     87,   1,-999.0,       2,  2,20100708,0000,  71.4665, -162.9013,    43,   28.600,   -1.706,   33.260,2, -999.000,9,  328.800,2,  323.600,2,   12.660,2,    7.740,2,    0.110,2,    1.440,2, -999.000,9, -999.000,9, -999.000,    9.000, -999.000,9, 2178.800,2
           NA,  ICESCA,     87,   1,-999.0,       1,  2,20100708,0000,  71.4665, -162.9013,    43,   40.700,   -1.526,   33.548,2,   33.529,2,  280.500,2,  280.900,2,    1.850,2,    7.870,2,    0.110,2,    1.630,2, -999.000,9, -999.000,9, -999.000,    9.000, -999.000,9, 2235.700,2
           NA,  ICESCA,     88,   1,-999.0,       7,  2,20100708,0000,  71.4018, -162.5373,    52,    4.200,    3.813,   32.522,2,   32.528,2,  345.200,2,  345.700,2,    2.340,2,    0.010,2,    0.000,2,    0.450,2, -999.000,9, -999.000,9, -999.000,    9.000, -999.000,9, 2104.000,2
           NA,  ICESCA,     88,   1,-999.0,       6,  2,20100708,0000,  71.4018, -162.5373,    52,   10.300,    3.790,   32.524,2, -999.000,9,  345.700,2,  345.700,2,    2.340,2,    0.050,2,    0.000,2,    0.450,2, -999.000,9, -999.000,9, -999.000,    9.000, -999.000,9, 2103.700,2
           NA,  ICESCA,     88,   1,-999.0,       4,  2,20100708,0000,  71.4018, -162.5373,    52,   25.300,    1.363,   33.045,2, -999.000,9,  412.000,2,  409.900,2,    3.990,2,    0.140,2,    0.010,2,    0.580,2, -999.000,9, -999.000,9, -999.000,    9.000, -999.000,9, 2173.800,2
           NA,  ICESCA,     88,   1,-999.0,       3,  2,20100708,0000,  71.4018, -162.5373,    52,   38.300,   -1.529,   33.505,2, -999.000,9,  308.800,2,  290.100,2,    0.490,2,    5.340,2,    0.110,2,    1.330,2, -999.000,9, -999.000,9, -999.000,    9.000, -999.000,9, 2223.700,2
           NA,  ICESCA,     88,   1,-999.0,       1,  2,20100708,0000,  71.4018, -162.5373,    52,   43.800,   -1.595,   33.575,2,   33.529,2,  267.000,2,  260.900,2,    0.680,2,    4.200,2,    0.090,2,    1.380,2, -999.000,9, -999.000,9, -999.000,    9.000, -999.000,9, 2244.100,2
           NA,  ICESCA,     89,   1,-999.0,       5,  2,20100708,0000,  71.3282, -162.1807,    45,    3.800,    4.029,   32.840,2,   32.839,2,  337.300,2,  338.200,2,    2.730,2,    0.000,2,    0.000,2,    0.510,2, -999.000,9, -999.000,9, -999.000,    9.000, -999.000,9, 2143.000,2
           NA,  ICESCA,     89,   1,-999.0,       4,  2,20100708,0000,  71.3282, -162.1807,    45,    9.800,    4.008,   32.836,2, -999.000,9,  338.200,2,  338.600,2,    2.730,2,    0.000,2,    0.000,2,    0.510,2, -999.000,9, -999.000,9, -999.000,    9.000, -999.000,9, 2142.000,2
           NA,  ICESCA,     89,   1,-999.0,       3,  2,20100708,0000,  71.3282, -162.1807,    45,   25.300,    1.140,   33.176,2, -999.000,9,  372.800,2,  379.400,2,    3.210,2,    0.010,2,    0.000,2,    0.590,2, -999.000,9, -999.000,9, -999.000,    9.000, -999.000,9, 2184.200,2
           NA,  ICESCA,     89,   1,-999.0,       2,  2,20100708,0000,  71.3282, -162.1807,    45,   37.800,   -1.507,   33.514,2, -999.000,9,  291.800,2,  299.200,2,    1.560,2,    7.650,2,    0.100,2,    1.530,2, -999.000,9, -999.000,9, -999.000,    9.000, -999.000,9, 2230.400,2
           NA,  ICESCA,     89,   1,-999.0,       1,  2,20100708,0000,  71.3282, -162.1807,    45,   41.800,   -1.594,   33.532,2,   33.537,2,  291.400,2,  288.300,2,   14.020,2,    8.480,2,    0.120,2,    1.790,2, -999.000,9, -999.000,9, -999.000,    9.000, -999.000,9, 2233.900,2
           NA,  ICESCA,     90,   1,-999.0,       5,  2,20100708,0000,  71.3548, -160.1290,    47,    4.400,    2.371,   31.212,2,   31.221,2,  361.200,2,  361.200,2,    1.070,2,    0.000,2,    0.000,2,    0.530,2, -999.000,9, -999.000,9, -999.000,    9.000, -999.000,9, 1947.100,2
           NA,  ICESCA,     90,   1,-999.0,       4,  2,20100708,0000,  71.3548, -160.1290,    47,   10.700,    2.360,   31.213,2, -999.000,9,  361.200,2,  362.100,2,    1.270,2,    0.000,2,    0.000,2,    0.540,2, -999.000,9, -999.000,9, -999.000,    9.000, -999.000,9, 1946.700,2
           NA,  ICESCA,     90,   1,-999.0,       3,  2,20100708,0000,  71.3548, -160.1290,    47,   25.600,    1.826,   31.650,2, -999.000,9,  398.600,2,  401.600,2,    1.760,2,    0.010,2,    0.000,2,    0.590,2, -999.000,9, -999.000,9, -999.000,    9.000, -999.000,9, 1997.600,2
           NA,  ICESCA,     90,   1,-999.0,       2,  2,20100708,0000,  71.3548, -160.1290,    47,   38.500,   -1.288,   32.110,2, -999.000,9,  315.600,2,  305.600,2,    5.850,2,    3.680,2,    0.110,2,    1.290,2, -999.000,9, -999.000,9, -999.000,    9.000, -999.000,9, -999.000,5
           NA,  ICESCA,     90,   1,-999.0,       1,  2,20100708,0000,  71.3548, -160.1290,    47,   41.800,   -1.401,   32.373,2, -999.000,9,  306.900,2,  297.300,2,    6.240,2,    3.920,2,    0.100,2,    1.420,2, -999.000,9, -999.000,9, -999.000,    9.000, -999.000,9, 2082.300,2
           NA,  ICESCA,     91,   1,-999.0,       5,  2,20100708,0000,  71.2782, -159.9855,    56,    3.800,    2.678,   30.906,2, -999.000,9,  362.200,2,  363.900,2,    0.490,2,    0.010,2,    0.000,2,    0.520,2, -999.000,9, -999.000,9, -999.000,    9.000, -999.000,9, 1916.800,2
           NA,  ICESCA,     91,   1,-999.0,       4,  2,20100708,0000,  71.2782, -159.9855,    56,    9.800,    2.680,   30.910,2,   30.913,2,  363.500,2,  363.500,2,    0.590,2,    0.020,2,    0.000,2,    0.520,2, -999.000,9, -999.000,9, -999.000,    9.000, -999.000,9, 1916.400,2
           NA,  ICESCA,     91,   1,-999.0,       3,  2,20100708,0000,  71.2782, -159.9855,    56,   25.300,    2.098,   31.525,2, -999.000,9,  379.900,2,  381.200,2,    0.980,2,    0.010,2,    0.010,2,    0.550,2, -999.000,9, -999.000,9, -999.000,    9.000, -999.000,9, 1986.800,2
           NA,  ICESCA,     91,   1,-999.0,       2,  2,20100708,0000,  71.2782, -159.9855,    56,   44.000,   -1.160,   32.111,2, -999.000,9,  315.600,2,  313.900,2,    7.410,2,    0.200,2,    0.050,2,    1.210,2, -999.000,9, -999.000,9, -999.000,    9.000, -999.000,9, 2056.000,2
           NA,  ICESCA,     91,   1,-999.0,       1,  2,20100708,0000,  71.2782, -159.9855,    56,   51.600,   -1.493,   32.497,2, -999.000,9,  266.800,2,  265.900,2,   20.370,2,    7.320,2,    0.150,2,    1.700,2, -999.000,9, -999.000,9, -999.000,    9.000, -999.000,9, 2095.600,2
           NA,  ICESCA,     92,   1,-999.0,       5,  2,20100708,0000,  71.1977, -159.8412,    60,    3.000,    1.705,   30.459,2,   30.460,2,  374.100,2,  370.600,2,    0.490,2,    0.000,2,    0.000,2,    0.510,2, -999.000,9, -999.000,9, -999.000,    9.000, -999.000,9, 1859.200,2
           NA,  ICESCA,     92,   1,-999.0,       4,  2,20100708,0000,  71.1977, -159.8412,    60,   10.000,    1.705,   30.452,2, -999.000,9,  374.100,2,  371.000,2,    0.590,2,    0.000,2,    0.000,2,    0.510,2, -999.000,9, -999.000,9, -999.000,    9.000, -999.000,9, 1859.700,2
           NA,  ICESCA,     92,   1,-999.0,       3,  2,20100708,0000,  71.1977, -159.8412,    60,   24.600,    1.404,   31.063,2, -999.000,9,  404.400,2,  394.400,2,    0.680,2,    0.010,2,    0.000,2,    0.530,2, -999.000,9, -999.000,9, -999.000,    9.000, -999.000,9, 2005.300,2
           NA,  ICESCA,     92,   1,-999.0,       2,  2,20100708,0000,  71.1977, -159.8412,    60,   50.400,   -1.320,   32.227,2, -999.000,9,  297.800,2,  288.200,2,   12.570,2,    5.330,2,    0.130,2,    1.480,2, -999.000,9, -999.000,9, -999.000,    9.000, -999.000,9, 2064.100,2
           NA,  ICESCA,     92,   1,-999.0,       1,  2,20100708,0000,  71.1977, -159.8412,    60,   56.200,   -1.324,   32.250,2,   32.248,2,  285.600,2,  282.100,2,   13.550,2,    5.090,2,    0.170,2,    1.710,2, -999.000,9, -999.000,9, -999.000,    9.000, -999.000,9, 2070.600,2
           NA,  ICESCA,     93,   1,-999.0,       5,  2,20100708,0000,  71.1633, -159.7650,    79,    3.800,    0.871,   30.233,2, -999.000,9,  376.300,2,  376.300,2,    0.590,2,    0.000,2,    0.000,2,    0.520,2, -999.000,9, -999.000,9, -999.000,    9.000, -999.000,9, 1832.700,2
           NA,  ICESCA,     93,   1,-999.0,       4,  2,20100708,0000,  71.1633, -159.7650,    79,    9.400,    0.853,   30.210,2, -999.000,9,  376.300,2,  374.600,2,    0.680,2,    0.010,2,    0.000,2,    0.520,2, -999.000,9, -999.000,9, -999.000,    9.000, -999.000,9, 1828.500,2
           NA,  ICESCA,     93,   1,-999.0,       3,  2,20100708,0000,  71.1633, -159.7650,    79,   25.300,    2.460,   31.761,2, -999.000,9,  364.600,2,  365.000,2,    1.070,2,    0.000,2,    0.000,2,    0.560,2, -999.000,9, -999.000,9, -999.000,    9.000, -999.000,9, 2009.700,2
           NA,  ICESCA,     93,   1,-999.0,       2,  2,20100708,0000,  71.1633, -159.7650,    79,   50.000,    0.519,   32.064,2, -999.000,9,  342.700,2,  341.800,2,    2.730,2,    0.560,2,    0.020,2,    0.870,2, -999.000,9, -999.000,9, -999.000,    9.000, -999.000,9, 2048.100,2
           NA,  ICESCA,     93,   1,-999.0,       1,  2,20100708,0000,  71.1633, -159.7650,    79,   73.000,   -1.478,   33.365,2,   33.348,2, -999.000,9, -999.000,5,    3.800,2,    7.190,2,    0.240,2,    2.340,2, -999.000,9, -999.000,9, -999.000,    9.000, -999.000,9, 2219.000,2
           NA,  ICESCA,     94,   1,-999.0,       5,  2,20100708,0000,  71.1280, -159.6905,    61,    3.100,    1.625,   30.554,2, -999.000,9,  372.300,2,  371.900,2,    0.780,2,    0.030,2,    0.000,2,    0.530,2, -999.000,9, -999.000,9, -999.000,    9.000, -999.000,9, 1871.900,2
           NA,  ICESCA,     94,   1,-999.0,       4,  2,20100708,0000,  71.1280, -159.6905,    61,    9.800,    1.596,   30.535,2, -999.000,9,  371.000,2,  371.400,2,    0.680,2,    0.010,2,    0.000,2,    0.520,2, -999.000,9, -999.000,9, -999.000,    9.000, -999.000,9, 1861.100,2
           NA,  ICESCA,     94,   1,-999.0,       3,  2,20100708,0000,  71.1280, -159.6905,    61,   24.800,    2.962,   31.759,2,   31.761,2,  359.800,2,  361.500,2,    0.980,2,    0.010,2,    0.010,2,    0.540,2, -999.000,9, -999.000,9, -999.000,    9.000, -999.000,9, 2009.800,2
           NA,  ICESCA,     94,   1,-999.0,       2,  2,20100708,0000,  71.1280, -159.6905,    61,   50.100,   -0.840,   32.177,2, -999.000,9,  323.000,2,  320.800,2,   10.140,2,    5.010,2,    0.120,2,    1.210,2, -999.000,9, -999.000,9, -999.000,    9.000, -999.000,9, 2056.100,2
           NA,  ICESCA,     94,   1,-999.0,       1,  2,20100708,0000,  71.1280, -159.6905,    61,   55.700,   -0.381,   32.839,2, -999.000,9,  302.800,2,  301.100,2,   12.180,2,    5.940,2,    0.130,2,    1.330,2, -999.000,9, -999.000,9, -999.000,    9.000, -999.000,9, 2138.900,2
           NA,  ICESCA,     95,   1,-999.0,       6,  2,20100708,0000,  71.0803, -159.5950,    68,    4.000,    1.604,   30.754,2,   30.783,9,  374.800,2,  369.200,2,    0.780,2,    0.010,2,    0.000,2,    0.530,2, -999.000,9, -999.000,9, -999.000,    9.000, -999.000,1, 1891.700,2
           NA,  ICESCA,     95,   1,-999.0,       5,  2,20100708,0000,  71.0803, -159.5950,    68,    9.800,    1.607,   30.835,2, -999.000,9,  372.700,2,  383.100,2,    0.880,2,    0.010,2,    0.000,2,    0.540,2, -999.000,9, -999.000,9, -999.000,    9.000, -999.000,1, 1932.800,2
           NA,  ICESCA,     95,   1,-999.0,       4,  2,20100708,0000,  71.0803, -159.5950,    68,   24.600,    2.033,   31.849,2, -999.000,9,  361.000,2,  369.800,2,    1.560,2,    0.010,2,    0.000,2,    0.630,2, -999.000,9, -999.000,9, -999.000,    9.000, -999.000,1, 2016.500,2
           NA,  ICESCA,     95,   1,-999.0,       3,  2,20100708,0000,  71.0803, -159.5950,    68,   36.400,   -0.307,   31.951,2, -999.000,9,  352.300,2,  354.900,2,    2.920,2,    0.060,2,    0.010,2,    0.820,2, -999.000,9, -999.000,9, -999.000,    9.000, -999.000,1, 2027.100,2
           NA,  ICESCA,     95,   1,-999.0,       2,  2,20100708,0000,  71.0803, -159.5950,    68,   46.300,   -0.945,   32.145,2, -999.000,9,  321.700,2,  317.400,2,   13.550,2,    5.240,2,    0.130,2,    1.290,2, -999.000,9, -999.000,9, -999.000,    9.000, -999.000,1, 2054.500,2
           NA,  ICESCA,     95,   1,-999.0,       1,  2,20100708,0000,  71.0803, -159.5950,    68,   62.500,   -1.013,   33.477,2,   33.479,9,  273.100,2,  285.300,2,    2.530,2,    4.530,2,    0.100,2,    1.350,2, -999.000,9, -999.000,9, -999.000,    9.000, -999.000,1, 2231.800,2
           NA,  ICESCA,     96,   1,-999.0,      10,  2,20100708,0000,  71.0488, -159.4935,    78,    3.800,    0.846,   30.287,2, -999.000,9,  375.400,2,  375.400,2,    0.780,2,    0.000,2,    0.000,2,    0.520,2, -999.000,9, -999.000,9, -999.000,    9.000, -999.000,9, 1827.700,2
           NA,  ICESCA,     96,   1,-999.0,       8,  2,20100708,0000,  71.0488, -159.4935,    78,    9.900,    0.859,   30.256,2, -999.000,9,  375.400,2,  374.100,2,    0.880,2,    0.010,2,    0.000,2,    0.540,2, -999.000,9, -999.000,9, -999.000,    9.000, -999.000,9, 1850.400,2
           NA,  ICESCA,     96,   1,-999.0,       7,  2,20100708,0000,  71.0488, -159.4935,    78,   24.400,   -0.282,   32.040,2, -999.000,9,  360.500,2,  361.400,2,    2.830,2,    0.420,2,    0.030,2,    0.850,2, -999.000,9, -999.000,9, -999.000,    9.000, -999.000,9, 2049.700,2
           NA,  ICESCA,     96,   1,-999.0,       5,  2,20100708,0000,  71.0488, -159.4935,    78,   32.700,   -0.025,   32.239,2, -999.000,9,  313.000,2,  323.000,2,    9.070,2,    2.070,2,    0.100,2,    1.210,2, -999.000,9, -999.000,9, -999.000,    9.000, -999.000,9, 2060.200,2
           NA,  ICESCA,     96,   1,-999.0,       4,  2,20100708,0000,  71.0488, -159.4935,    78,   49.800,   -1.015,   33.438,2,   33.432,2,  302.700,2,  299.700,2,    2.820,2,    2.930,2,    0.080,2,    1.130,2, -999.000,9, -999.000,9, -999.000,    9.000, -999.000,9,  229.300,2
           NA,  ICESCA,     96,   1,-999.0,       1,  2,20100708,0000,  71.0488, -159.4935,    78,   71.300,   -1.037,   33.483,2,   33.484,2,  305.300,2,  304.900,2,    2.430,2,    2.330,2,    0.070,2,    1.110,2, -999.000,9, -999.000,9, -999.000,    9.000, -999.000,9, 2227.800,2
           NA,  ICESCA,     97,   1,-999.0,       5,  2,20100708,0000,  71.0027, -159.4552,    66,    4.000,    1.591,   30.549,2, -999.000,9,  372.700,2,  372.700,2,    0.780,2,    0.010,2,    0.000,2,    0.560,2, -999.000,9, -999.000,9, -999.000,    9.000, -999.000,9, 1864.500,2
           NA,  ICESCA,     97,   1,-999.0,       4,  2,20100708,0000,  71.0027, -159.4552,    66,   10.400,    1.574,   30.535,2, -999.000,9,  372.700,2,  372.700,2,    0.880,2,    0.000,2,    0.000,2,    0.530,2, -999.000,9, -999.000,9, -999.000,    9.000, -999.000,9, 1862.500,2
           NA,  ICESCA,     97,   1,-999.0,       3,  2,20100708,0000,  71.0027, -159.4552,    66,   28.600,   -1.410,   32.149,2, -999.000,9,  327.400,2,  323.000,2,   11.020,2,    4.120,2,    0.130,2,    1.260,2, -999.000,9, -999.000,9, -999.000,    9.000, -999.000,9, 2051.000,2
           NA,  ICESCA,     97,   1,-999.0,       2,  2,20100708,0000,  71.0027, -159.4552,    66,   50.600,    0.021,   33.223,2,   33.228,2,  322.800,2,  322.800,2,    4.190,2,    1.820,2,    0.070,2,    1.010,2, -999.000,9, -999.000,9, -999.000,    9.000, -999.000,9, 2188.700,2
           NA,  ICESCA,     97,   1,-999.0,       1,  2,20100708,0000,  71.0027, -159.4552,    66,   61.100,    0.002,   33.225,2,   33.229,2,  322.800,2,  323.200,2,    4.290,2,    1.700,2,    0.060,2,    1.010,2, -999.000,9, -999.000,9, -999.000,    9.000, -999.000,9, 2188.000,2
           NA,  ICESCA,     98,   1,-999.0,       8,  2,20100708,0000,  70.9782, -159.3245,    54,    3.800,    2.226,   30.793,2,   30.808,2,  368.800,2,  363.100,2,    1.170,2,    0.030,2,    0.010,2,    0.550,2, -999.000,9, -999.000,9, -999.000,    9.000, -999.000,1, 1892.400,2
           NA,  ICESCA,     98,   1,-999.0,       7,  2,20100708,0000,  70.9782, -159.3245,    54,    9.900,    2.219,   30.780,2, -999.000,9,  368.800,2,  362.700,2,    1.370,2,    0.180,2,    0.010,2,    0.550,2, -999.000,9, -999.000,9, -999.000,    9.000, -999.000,1, 1901.000,2
           NA,  ICESCA,     98,   1,-999.0,       4,  2,20100708,0000,  70.9782, -159.3245,    54,   24.800,    2.050,   33.008,2, -999.000,9,  402.500,2,  398.600,2,    3.700,2,    0.090,2,    0.010,2,    0.580,2, -999.000,9, -999.000,9, -999.000,    9.000, -999.000,1, 2148.900,2
           NA,  ICESCA,     98,   1,-999.0,       1,  2,20100708,0000,  70.9782, -159.3245,    54,   51.300,    1.928,   33.009,2,   33.014,2,  406.800,2,  406.800,2,    3.800,2,    0.040,2,    0.020,2,    0.600,2, -999.000,9, -999.000,9, -999.000,    9.000, -999.000,1, 2151.000,2