BOTTLE,20220919JOAExport
EXPOCODE,SECT_ID,STNNBR,CASTNO,SAMPNO,BTLNBR,BTLNBR_FLAG_W,DATE,TIME,LATITUDE,LONGITUDE,DEPTH,CTDPRS,CTDTMP,CTDSAL,CTDSAL_FLAG_W,SALNTY,SALNTY_FLAG_W,CTDOXY,CTDOXY_FLAG_W,OXYGEN,OXYGEN_FLAG_W,SILCAT,SILCAT_FLAG_W,NITRAT,NITRAT_FLAG_W,NITRIT,NITRIT_FLAG_W,PHSPHT,PHSPHT_FLAG_W,CFC-11,CFC-11_FLAG_W,CFC-12,CFC-12_FLAG_W,SF6,SF6_FLAC_W,TCARBN,TCARBN_FLAG_W,ALKALI,ALKALI_FLAG_W
,,,,,,,,,,,,DB,ITS-90,PSS-78,,PSS-78,,UMOL/KG,,UMOL/KG,,UMOL/KG,,UMOL/KG,,UMOL/KG,,UMOL/KG,,NA,,NA,,NA,NA,UMOL/KG,,UMOL/KG
           NA,  ICESCA,     45,   1,-999.0,       4,  2,20100630,0000,  70.7021, -166.5381,    42,    4.400,    1.790,   30.373,2,   30.360,2,  361.000,2,  375.400,2,    2.440,2,    0.240,2,    0.020,2,    0.500,2, -999.000,9, -999.000,9, -999.000,    9.000, -999.000,1, 1800.600,2
           NA,  ICESCA,     45,   1,-999.0,       3,  2,20100630,0000,  70.7021, -166.5381,    42,   10.100,    0.526,   31.953,2,   31.808,2,  413.300,2,  428.100,2,    4.580,2,    0.060,2,    0.010,2,    0.550,2, -999.000,9, -999.000,9, -999.000,    9.000, -999.000,1, 1989.000,2
           NA,  ICESCA,     45,   1,-999.0,       2,  2,20100630,0000,  70.7021, -166.5381,    42,   25.200,   -1.600,   32.580,2,   32.602,2,  446.500,2,  388.600,2,   16.760,2,    6.940,2,    0.120,2,    1.150,2, -999.000,9, -999.000,9, -999.000,    9.000, -999.000,1, 2083.000,2
           NA,  ICESCA,     45,   1,-999.0,       1,  2,20100630,0000,  70.7021, -166.5381,    42,   39.600,   -1.670,   32.886,2,   32.817,2,  335.900,2,  336.300,2,   28.060,2,   10.260,2,    0.170,2,    1.610,2, -999.000,9, -999.000,9, -999.000,    9.000, -999.000,1, 2119.300,2
           NA,  ICESCA,     46,   1,-999.0,       5,  2,20100630,0000,  70.7012, -166.1969,    41,    3.900,    0.153,   31.706,2, -999.000,9,  454.700,2,  402.000,2,   10.240,2,    1.870,2,    0.050,2,    0.760,2, -999.000,9, -999.000,9, -999.000,    9.000, -999.000,1, 1982.900,2
           NA,  ICESCA,     46,   1,-999.0,       4,  2,20100630,0000,  70.7012, -166.1969,    41,    9.900,   -1.321,   32.414,2,   32.436,2,  396.900,2,  397.400,2,   20.170,2,    5.980,2,    0.130,2,    1.160,2, -999.000,9, -999.000,9, -999.000,    9.000, -999.000,1, 2067.500,2
           NA,  ICESCA,     46,   1,-999.0,       3,  2,20100630,0000,  70.7012, -166.1969,    41,   20.900,   -1.635,   32.866,2, -999.000,9,  382.900,2,  349.800,2,   29.910,2,   10.930,2,    0.170,2,    1.490,2, -999.000,9, -999.000,9, -999.000,    9.000, -999.000,1, 2085.000,2
           NA,  ICESCA,     46,   1,-999.0,       2,  2,20100630,0000,  70.7012, -166.1969,    41,   25.100,   -1.675,   32.909,2, -999.000,9,  350.200,2,  337.200,2,   32.830,2,   11.690,2,    0.190,2,    1.570,2, -999.000,9, -999.000,9, -999.000,    9.000, -999.000,1, 2118.800,2
           NA,  ICESCA,     46,   1,-999.0,       1,  2,20100630,0000,  70.7012, -166.1969,    41,   35.800,   -1.690,   33.034,2,   32.952,2,  348.500,2,  331.500,2,   34.490,2,   11.830,2,    0.190,2,    1.620,2, -999.000,9, -999.000,9, -999.000,    9.000, -999.000,1, 2132.200,2
           NA,  ICESCA,     47,   1,-999.0,       4,  2,20100630,0000,  70.7013, -165.8557,    41,    3.600,    1.218,   31.702,2,   31.707,2,  422.900,2,  415.100,2,    7.020,2,    0.550,2,    0.030,2,    0.590,2, -999.000,9, -999.000,9, -999.000,    9.000, -999.000,1, 1965.500,2
           NA,  ICESCA,     47,   1,-999.0,       3,  2,20100630,0000,  70.7013, -165.8557,    41,   10.500,    1.038,   32.032,2, -999.000,9,  418.900,2,  439.800,2,    6.140,2,    0.090,2,    0.020,2,    0.530,2, -999.000,9, -999.000,9, -999.000,    9.000, -999.000,1, 2006.200,2
           NA,  ICESCA,     47,   1,-999.0,       2,  2,20100630,0000,  70.7013, -165.8557,    41,   25.200,   -1.675,   32.906,2, -999.000,9,  385.900,2,  345.000,2,   28.740,2,   12.420,2,    0.190,2,    1.580,2, -999.000,9, -999.000,9, -999.000,    9.000, -999.000,1, 2107.500,2
           NA,  ICESCA,     47,   1,-999.0,       1,  2,20100630,0000,  70.7013, -165.8557,    41,   36.300,   -1.692,   32.956,2,   32.940,2,  328.900,2,  328.500,2,   33.410,2,   12.620,2,    0.190,2,    1.670,2, -999.000,9, -999.000,9, -999.000,    9.000, -999.000,1, 2114.600,2
           NA,  ICESCA,     48,   1,-999.0,       8,  2,20100630,0000,  70.6999, -165.5204,    43,    3.600,    2.788,   32.202,2,   32.183,2,  454.200,2,  444.600,2,    1.270,2,    0.020,2,    0.000,2,    0.270,2, -999.000,9, -999.000,9, -999.000,    9.000, -999.000,1, 2025.800,2
           NA,  ICESCA,     48,   1,-999.0,       7,  2,20100630,0000,  70.6999, -165.5204,    43,    9.800,    2.812,   32.199,2, -999.000,9,  416.300,2,  446.300,2,    1.360,2,    0.020,2,    0.000,2,    0.300,2, -999.000,9, -999.000,9, -999.000,    9.000, -999.000,1, 2024.100,2
           NA,  ICESCA,     48,   1,-999.0,       4,  2,20100630,0000,  70.6999, -165.5204,    43,   25.400,   -1.429,   32.637,2, -999.000,9,  380.800,2,  364.700,2,   16.080,2,    2.320,2,    0.110,2,    1.330,2, -999.000,9, -999.000,9, -999.000,    9.000, -999.000,1, 2072.400,2
           NA,  ICESCA,     48,   1,-999.0,       1,  2,20100630,0000,  70.6999, -165.5204,    43,   38.900,   -1.698,   32.986,2,   32.956,2,  318.500,2,  316.700,2,   36.430,2,   13.230,2,    0.230,2,    1.640,2, -999.000,9, -999.000,9, -999.000,    9.000, -999.000,1, 2119.000,2
           NA,  ICESCA,     49,   1,-999.0,       5,  2,20100630,0000,  70.6111, -165.1991,    43,    3.800,    3.057,   32.299,2,   32.283,2,  402.300,2,  402.300,2,    3.700,2,    0.000,2,    0.000,2,    0.410,2, -999.000,9, -999.000,9, -999.000,    9.000, -999.000,1, 2044.400,2
           NA,  ICESCA,     49,   1,-999.0,       3,  2,20100630,0000,  70.6111, -165.1991,    43,   10.000,    3.028,   32.297,2, -999.000,9,  403.200,2,  403.200,2,    3.610,2,    0.020,2,    0.000,2,    0.420,2, -999.000,9, -999.000,9, -999.000,    9.000, -999.000,1, 2043.300,2
           NA,  ICESCA,     49,   1,-999.0,       2,  2,20100630,0000,  70.6111, -165.1991,    43,   25.000,   -1.709,   32.794,2, -999.000,9,  337.700,2,  335.500,2,   22.020,2,   14.280,2,    0.230,2,    1.470,2, -999.000,9, -999.000,9, -999.000,    9.000, -999.000,1, 2089.600,2
           NA,  ICESCA,     49,   1,-999.0,       1,  2,20100630,0000,  70.6111, -165.1991,    43,   38.500,   -1.638,   33.018,2,   32.996,2,  312.800,2,  313.200,2,   31.170,2,   12.690,2,    0.210,2,    1.510,2, -999.000,9, -999.000,9, -999.000,    9.000, -999.000,1, 2125.000,2
           NA,  ICESCA,     50,   1,-999.0,       6,  2,20100630,0000,  70.5228, -164.8864,    45,    3.300,    2.850,   32.288,2,   32.264,2,  441.500,2,  437.600,2,    1.750,2,    0.080,2,    0.010,2,    0.340,2, -999.000,9, -999.000,9, -999.000,    9.000, -999.000,1, 2043.300,2
           NA,  ICESCA,     50,   1,-999.0,       5,  2,20100630,0000,  70.5228, -164.8864,    45,   10.600,    2.804,   32.285,2, -999.000,9,  429.700,2,  440.200,2,    1.750,2,    0.030,2,    0.000,2,    0.340,2, -999.000,9, -999.000,9, -999.000,    9.000, -999.000,1, 2036.700,2
           NA,  ICESCA,     50,   1,-999.0,       3,  2,20100630,0000,  70.5228, -164.8864,    45,   20.600,    1.133,   32.554,2, -999.000,9,  431.300,2,  422.200,2,    4.000,2,    1.030,2,    0.030,2,    0.610,2, -999.000,9, -999.000,9, -999.000,    9.000, -999.000,1, 2075.100,2
           NA,  ICESCA,     50,   1,-999.0,       2,  2,20100630,0000,  70.5228, -164.8864,    45,   24.700,   -1.292,   32.761,2, -999.000,9,  335.900,2,  338.500,2,   12.760,2,   12.150,2,    0.210,2,    1.340,2, -999.000,9, -999.000,9, -999.000,    9.000, -999.000,1, 2091.000,2
           NA,  ICESCA,     50,   1,-999.0,       1,  2,20100630,0000,  70.5228, -164.8864,    45,   40.900,   -1.597,   33.067,2,   33.032,2,  307.100,2,  305.400,2,   28.830,2,   11.630,2,    0.200,2,    1.520,2, -999.000,9, -999.000,9, -999.000,    9.000, -999.000,1, 2136.300,2
           NA,  ICESCA,     51,   1,-999.0,       4,  2,20100630,0000,  70.4418, -164.5749,    44,    3.800,    2.167,   31.258,2,   31.268,2,  377.300,2,  373.000,2,    6.440,2,    1.610,2,    0.040,2,    0.750,2, -999.000,9, -999.000,9, -999.000,    9.000, -999.000,1, 1900.300,2
           NA,  ICESCA,     51,   1,-999.0,       3,  2,20100630,0000,  70.4418, -164.5749,    44,    9.700,    0.472,   31.736,2, -999.000,9,  383.700,2,  388.500,2,   10.730,2,    2.980,2,    0.060,2,    0.890,2, -999.000,9, -999.000,9, -999.000,    9.000, -999.000,1, 1964.700,2
           NA,  ICESCA,     51,   1,-999.0,       2,  2,20100630,0000,  70.4418, -164.5749,    44,   24.600,   -1.636,   32.852,2, -999.000,9,  344.600,2,  342.000,2,   32.830,2,   11.490,2,    0.190,2,    1.560,2, -999.000,9, -999.000,9, -999.000,    9.000, -999.000,1, 2109.100,2
           NA,  ICESCA,     51,   1,-999.0,       1,  2,20100630,0000,  70.4418, -164.5749,    44,   39.900,   -1.663,   32.894,2,   32.880,2,  328.100,2,  329.400,2,   34.290,2,   11.550,2,    0.190,2,    1.580,2, -999.000,9, -999.000,9, -999.000,    9.000, -999.000,1, 2114.500,2
           NA,  ICESCA,     52,   1,-999.0,       4,  2,20100630,0000,  70.3533, -164.2655,    41,    3.600,    3.399,   32.236,2,   32.233,2,  378.800,2,  378.400,2,    6.240,2,    0.020,2,    0.000,2,    0.510,2, -999.000,9, -999.000,9, -999.000,    9.000, -999.000,1, 2037.600,2
           NA,  ICESCA,     52,   1,-999.0,       3,  2,20100630,0000,  70.3533, -164.2655,    41,   10.300,    3.363,   32.233,2, -999.000,9,  374.900,2,  379.300,2,    6.240,2,    0.010,2,    0.000,2,    0.510,2, -999.000,9, -999.000,9, -999.000,    9.000, -999.000,1, 2036.600,2
           NA,  ICESCA,     52,   1,-999.0,       2,  2,20100630,0000,  70.3533, -164.2655,    41,   25.800,   -1.572,   32.633,2, -999.000,9,  394.300,2,  396.900,2,   17.930,2,    5.860,2,    0.140,2,    1.060,2, -999.000,9, -999.000,9, -999.000,    9.000, -999.000,1, 2077.500,2
           NA,  ICESCA,     52,   1,-999.0,       1,  2,20100630,0000,  70.3533, -164.2655,    41,   36.300,   -1.629,   32.883,2,   32.873,2,  332.800,2,  333.300,2,   31.080,2,   11.220,2,    0.190,2,    1.510,2, -999.000,9, -999.000,9, -999.000,    9.000, -999.000,1, 2108.700,2
           NA,  ICESCA,     53,   1,-999.0,       7,  2,20100630,0000,  70.2628, -163.9600,    36,    2.800,    3.998,   31.942,2,   31.934,2,  366.300,2,  363.300,2,    4.680,2,    0.040,2,    0.010,2,    0.540,2, -999.000,9, -999.000,9, -999.000,    9.000, -999.000,1, 2004.200,2
           NA,  ICESCA,     53,   1,-999.0,       6,  2,20100630,0000,  70.2628, -163.9600,    36,   10.000,    3.902,   31.923,2, -999.000,9,  361.100,2,  365.000,2,    4.970,2,    0.070,2,    0.010,2,    0.550,2, -999.000,9, -999.000,9, -999.000,    9.000, -999.000,1, 1999.300,2
           NA,  ICESCA,     53,   1,-999.0,       4,  2,20100630,0000,  70.2628, -163.9600,    36,   22.300,   -1.482,   32.775,2, -999.000,9,  425.100,2,  381.600,2,   25.430,2,    8.600,2,    0.160,2,    1.250,2, -999.000,9, -999.000,9, -999.000,    9.000, -999.000,1, 2095.600,2
           NA,  ICESCA,     53,   1,-999.0,       3,  2,20100630,0000,  70.2628, -163.9600,    36,   25.400,   -1.474,   32.843,2, -999.000,9,  369.000,2,  365.500,2,   22.900,2,    8.670,2,    0.170,2,    1.240,2, -999.000,9, -999.000,9, -999.000,    9.000, -999.000,1, 2107.900,2
           NA,  ICESCA,     53,   1,-999.0,       1,  2,20100630,0000,  70.2628, -163.9600,    36,   32.300,   -1.484,   32.846,2,   32.837,2,  357.200,2,  357.200,2,   20.850,2,    8.780,2,    0.180,2,    1.270,2, -999.000,9, -999.000,9, -999.000,    9.000, -999.000,1, 2107.800,2
           NA,  ICESCA,     54,   1,-999.0,       3,  2,20100630,0000,  70.1772, -163.6557,    31,    3.700,    5.754,   32.308,2,   32.299,2,  328.400,2,  328.400,2,    0.980,2,    0.010,2,    0.000,2,    0.520,2, -999.000,9, -999.000,9, -999.000,    9.000, -999.000,1, 2065.800,2
           NA,  ICESCA,     54,   1,-999.0,       2,  2,20100630,0000,  70.1772, -163.6557,    31,    9.900,    5.756,   32.306,2, -999.000,9,  329.700,2,  328.400,2,    0.980,2,    0.000,2,    0.000,2,    0.530,2, -999.000,9, -999.000,9, -999.000,    9.000, -999.000,1, 2065.500,2
           NA,  ICESCA,     54,   1,-999.0,       1,  2,20100630,0000,  70.1772, -163.6557,    31,   24.400,   -1.279,   33.001,2,   32.973,2,  388.500,2,  379.800,2,   16.760,2,    4.390,2,    0.160,2,    1.080,2, -999.000,9, -999.000,9, -999.000,    9.000, -999.000,1, 2133.600,2
           NA,  ICESCA,     55,   1,-999.0,       7,  2,20100701,0000,  70.0961, -163.3677,    27,    4.000,    3.481,   32.785,2,   32.759,2,  343.900,2,  343.000,2,    0.580,2,    0.010,2,    0.010,2,    0.680,2, -999.000,9, -999.000,9, -999.000,    9.000, -999.000,1, 2131.800,2
           NA,  ICESCA,     55,   1,-999.0,       5,  2,20100701,0000,  70.0961, -163.3677,    27,   10.100,    3.444,   32.797,2,   33.028,2,  342.900,2,  348.100,2,    1.750,2,    0.030,2,    0.010,2,    0.800,2, -999.000,9, -999.000,9, -999.000,    9.000, -999.000,1, 2141.000,2
           NA,  ICESCA,     55,   1,-999.0,       1,  2,20100701,0000,  70.0961, -163.3677,    27,   24.000,    0.002,   33.283,2,   33.233,2,  328.000,2,  325.400,2,    2.820,2,    0.050,2,    0.030,2,    1.020,2, -999.000,9, -999.000,9, -999.000,    9.000, -999.000,1, 2188.500,2
           NA,  ICESCA,     56,   1,-999.0,       4,  2,20100701,0000,  70.4520, -161.6530,    22,    4.000,    3.077,   32.546,2, -999.000,9,  353.900,2,  354.800,2,    0.580,2,    0.000,2,    0.010,2,    0.680,2, -999.000,9, -999.000,9, -999.000,    9.000, -999.000,1, -999.000,5
           NA,  ICESCA,     56,   1,-999.0,       3,  2,20100701,0000,  70.4520, -161.6530,    22,   10.200,    1.596,   32.880,2, -999.000,9,  359.400,2,  356.000,2,    0.970,2,    0.020,2,    0.010,2,    0.770,2, -999.000,9, -999.000,9, -999.000,    9.000, -999.000,1, 2132.700,2
           NA,  ICESCA,     56,   1,-999.0,       1,  2,20100701,0000,  70.4520, -161.6530,    22,   20.300,    1.444,   32.919,2, -999.000,9,  352.000,2,  353.300,2,    0.970,2,    0.020,2,    0.020,2,    0.790,2, -999.000,9, -999.000,9, -999.000,    9.000, -999.000,1, 2142.000,2
           NA,  ICESCA,     57,   1,-999.0,       3,  2,20100701,0000,  70.5426, -161.6601,    29,    4.300,    3.000,   32.158,2, -999.000,9,  364.000,2,  363.200,2,    0.680,2,    0.000,2,    0.000,2,    0.610,2, -999.000,9, -999.000,9, -999.000,    9.000, -999.000,1, 2049.000,2
           NA,  ICESCA,     57,   1,-999.0,       2,  2,20100701,0000,  70.5426, -161.6601,    29,   10.000,    2.704,   32.380,2, -999.000,9,  368.300,2,  371.400,2,    1.460,2,    0.000,2,    0.010,2,    0.630,2, -999.000,9, -999.000,9, -999.000,    9.000, -999.000,1, 2081.600,2
           NA,  ICESCA,     57,   1,-999.0,       1,  2,20100701,0000,  70.5426, -161.6601,    29,   24.900,    1.388,   33.029,2, -999.000,9,  389.000,2,  387.700,2,    2.730,2,    0.020,2,    0.010,2,    0.680,2, -999.000,9, -999.000,9, -999.000,    9.000, -999.000,1, -999.000,5
           NA,  ICESCA,     58,   1,-999.0,       8,  2,20100701,0000,  70.6363, -161.6890,    40,    3.600,    4.544,   31.612,2,   31.752,2,  344.200,2,  344.200,2,    0.200,2,    0.000,2,    0.010,2,    0.560,2, -999.000,9, -999.000,9, -999.000,    9.000, -999.000,1, 2013.300,2
           NA,  ICESCA,     58,   1,-999.0,       5,  2,20100701,0000,  70.6363, -161.6890,    40,    9.800,    4.028,   32.065,2, -999.000,9,  344.100,2,  348.800,2,    0.390,2,    0.000,2,    0.010,2,    0.570,2, -999.000,9, -999.000,9, -999.000,    9.000, -999.000,1, 2029.500,2
           NA,  ICESCA,     58,   1,-999.0,       4,  2,20100701,0000,  70.6363, -161.6890,    40,   25.100,    1.580,   33.020,2, -999.000,9,  373.300,2,  383.800,2,    2.140,2,    0.010,2,    0.010,2,    0.680,2, -999.000,9, -999.000,9, -999.000,    9.000, -999.000,1, 2152.800,2
           NA,  ICESCA,     58,   1,-999.0,       1,  2,20100701,0000,  70.6363, -161.6890,    40,   34.900,   -0.101,   33.277,2,   33.211,2,  323.600,2,  323.200,2,    3.410,2,    0.050,2,    0.040,2,    1.000,2, -999.000,9, -999.000,9, -999.000,    9.000, -999.000,1, 2191.400,2
           NA,  ICESCA,     59,   1,-999.0,       4,  2,20100701,0000,  70.7229, -161.7063,    41,    3.400,    4.959,   31.589,2,   31.598,2,  332.500,2,  332.500,2,    0.100,2,    0.000,2,    0.000,2,    0.530,2, -999.000,9, -999.000,9, -999.000,    9.000, -999.000,1, 1983.500,2
           NA,  ICESCA,     59,   1,-999.0,       3,  2,20100701,0000,  70.7229, -161.7063,    41,   10.600,    4.956,   31.593,2, -999.000,9,  332.900,2,  332.900,2,    0.200,2,    0.000,2,    0.000,2,    0.530,2, -999.000,9, -999.000,9, -999.000,    9.000, -999.000,1, 1984.100,2
           NA,  ICESCA,     59,   1,-999.0,       2,  2,20100701,0000,  70.7229, -161.7063,    41,   25.700,    2.149,   33.035,2, -999.000,9,  370.300,2,  372.900,2,    1.660,2,    0.140,2,    0.000,2,    0.630,2, -999.000,9, -999.000,9, -999.000,    9.000, -999.000,1, 2148.900,2
           NA,  ICESCA,     59,   1,-999.0,       1,  2,20100701,0000,  70.7229, -161.7063,    41,   36.900,    0.266,   33.200,2,   33.191,2,  335.000,2,  339.700,2,    3.700,2,    0.160,2,    0.030,2,    0.950,2, -999.000,9, -999.000,9, -999.000,    9.000, -999.000,1, 2178.900,2
           NA,  ICESCA,     60,   1,-999.0,       5,  2,20100701,0000,  70.8144, -161.7236,    44,    3.700,    4.741,   31.733,2,   31.738,2,  332.800,2,  332.400,2,    0.200,2,    0.010,2,    0.010,2,    0.560,2, -999.000,9, -999.000,9, -999.000,    9.000, -999.000,1, 1997.600,2
           NA,  ICESCA,     60,   1,-999.0,       4,  2,20100701,0000,  70.8144, -161.7236,    44,   10.100,    4.740,   31.732,2, -999.000,9,  332.400,2,  332.800,2,    0.200,2,    0.000,2,    0.000,2,    0.550,2, -999.000,9, -999.000,9, -999.000,    9.000, -999.000,1, 1998.300,2
           NA,  ICESCA,     60,   1,-999.0,       3,  2,20100701,0000,  70.8144, -161.7236,    44,   25.200,    2.001,   33.056,2, -999.000,9,  364.600,2,  374.600,2,    2.240,2,    0.000,2,    0.000,2,    0.680,2, -999.000,9, -999.000,9, -999.000,    9.000, -999.000,1, 2150.800,2
           NA,  ICESCA,     60,   1,-999.0,       1,  2,20100701,0000,  70.8144, -161.7236,    44,   39.400,   -0.330,   33.288,2,   33.285,2,  305.800,2,  317.100,2,    3.800,2,    1.070,2,    0.070,2,    1.100,2, -999.000,9, -999.000,9, -999.000,    9.000, -999.000,1, 2195.700,2
           NA,  ICESCA,     61,   1,-999.0,       4,  2,20100701,0000,  70.9031, -161.7414,    45,    3.500,    5.455,   32.080,2,   32.086,2,  321.900,2,  321.900,2,    0.590,2,    0.010,2,    0.010,2,    0.500,2, -999.000,9, -999.000,9, -999.000,    9.000, -999.000,1, 2046.500,2
           NA,  ICESCA,     61,   1,-999.0,       3,  2,20100701,0000,  70.9031, -161.7414,    45,    9.600,    5.456,   32.080,2, -999.000,9,  321.500,2,  321.500,2,    0.680,2,    0.020,2,    0.020,2,    0.500,2, -999.000,9, -999.000,9, -999.000,    9.000, -999.000,1, 2046.200,2
           NA,  ICESCA,     61,   1,-999.0,       2,  2,20100701,0000,  70.9031, -161.7414,    45,   24.700,    1.637,   33.033,2, -999.000,9,  400.700,2,  416.400,2,    3.510,2,    0.040,2,    0.010,2,    0.570,2, -999.000,9, -999.000,9, -999.000,    9.000, -999.000,1, 2148.200,2
           NA,  ICESCA,     61,   1,-999.0,       1,  2,20100701,0000,  70.9031, -161.7414,    45,   40.100,   -0.814,   33.409,2,   33.404,2,  299.200,2,  298.800,2,    4.770,2,    3.540,2,    0.110,2,    1.200,2, -999.000,9, -999.000,9, -999.000,    9.000, -999.000,1, 2209.300,2