BOTTLE,20220919JOAExport
EXPOCODE,SECT_ID,STNNBR,CASTNO,SAMPNO,BTLNBR,BTLNBR_FLAG_W,DATE,TIME,LATITUDE,LONGITUDE,DEPTH,CTDPRS,CTDTMP,CTDSAL,CTDSAL_FLAG_W,SALNTY,SALNTY_FLAG_W,CTDOXY,CTDOXY_FLAG_W,OXYGEN,OXYGEN_FLAG_W,SILCAT,SILCAT_FLAG_W,NITRAT,NITRAT_FLAG_W,NITRIT,NITRIT_FLAG_W,PHSPHT,PHSPHT_FLAG_W,CFC-11,CFC-11_FLAG_W,CFC-12,CFC-12_FLAG_W,SF6,SF6_FLAC_W,TCARBN,TCARBN_FLAG_W,ALKALI,ALKALI_FLAG_W
,,,,,,,,,,,,DB,ITS-90,PSS-78,,PSS-78,,UMOL/KG,,UMOL/KG,,UMOL/KG,,UMOL/KG,,UMOL/KG,,UMOL/KG,,NA,,NA,,NA,NA,UMOL/KG,,UMOL/KG
           NA,  ICESCA,     73,   1,-999.0,       8,  2,20100707,0000,  72.3882, -168.1943,    53,    4.200,    1.213,   31.544,2, -999.000,3,  437.300,2,  490.000,2,   17.360,2,    0.400,2,    0.020,2,    0.880,2, -999.000,9, -999.000,9, -999.000,    9.000, -999.000,1, 2001.300,2
           NA,  ICESCA,     73,   1,-999.0,       7,  2,20100707,0000,  72.3882, -168.1943,    53,   10.100,   -1.361,   32.328,2, -999.000,9,  401.800,2,  398.700,2,   30.410,2,    3.010,2,    0.060,2,    1.370,2, -999.000,9, -999.000,9, -999.000,    9.000, -999.000,1, 2071.800,2
           NA,  ICESCA,     73,   1,-999.0,       5,  2,20100707,0000,  72.3882, -168.1943,    53,   22.200,   -1.583,   32.614,2, -999.000,9,  338.100,2,  361.200,2,   38.300,2,    9.470,2,    0.110,2,    1.630,2, -999.000,9, -999.000,9, -999.000,    9.000, -999.000,1, 2100.800,2
           NA,  ICESCA,     73,   1,-999.0,       3,  2,20100707,0000,  72.3882, -168.1943,    53,   35.400,   -1.702,   32.864,2, -999.000,9,  288.500,2,  334.200,2,   43.740,2,   12.660,2,    0.090,2,    1.830,2, -999.000,9, -999.000,9, -999.000,    9.000, -999.000,1, 2133.000,2
           NA,  ICESCA,     73,   1,-999.0,       1,  2,20100707,0000,  72.3882, -168.1943,    53,   49.600,   -1.745,   33.079,2,   33.044,2,  269.700,2,  310.200,2,   48.220,2,   14.030,2,    0.080,2,    2.060,2, -999.000,9, -999.000,9, -999.000,    9.000, -999.000,1, 2164.200,2
           NA,  ICESCA,     73,   2,-999.0,       8,  2,20100707,0000,  72.3802, -168.1678,    53,    4.100,    0.476,   31.972,2, -999.000,9,  533.000,2,  539.500,2,    7.900,2,    0.010,2,    0.010,2,    0.660,2, -999.000,9, -999.000,9, -999.000,    9.000, -999.000,9, -999.000,9
           NA,  ICESCA,     73,   2,-999.0,       7,  2,20100707,0000,  72.3802, -168.1678,    53,   10.200,    0.189,   32.005,2, -999.000,9,  504.600,2,  460.200,2,   18.720,2,    0.480,2,    0.020,2,    1.020,2, -999.000,9, -999.000,9, -999.000,    9.000, -999.000,9, -999.000,9
           NA,  ICESCA,     73,   2,-999.0,       4,  2,20100707,0000,  72.3802, -168.1678,    53,   25.600,   -1.599,   32.610,2, -999.000,9,  363.400,2,  363.800,2,   38.000,2,    9.170,2,    0.110,2,    1.650,2, -999.000,9, -999.000,9, -999.000,    9.000, -999.000,9, -999.000,9
           NA,  ICESCA,     73,   2,-999.0,       3,  2,20100707,0000,  72.3802, -168.1678,    53,   35.700,   -1.682,   32.879,2, -999.000,9,  345.900,2,  333.700,2,   44.040,2,   12.560,2,    0.090,2,    1.820,2, -999.000,9, -999.000,9, -999.000,    9.000, -999.000,9, -999.000,9
           NA,  ICESCA,     73,   2,-999.0,       1,  2,20100707,0000,  72.3802, -168.1678,    53,   49.500,   -1.742,   33.162,2, -999.000,9,  304.900,2,  303.200,2,   50.840,2,   14.360,2,    0.090,2,    2.180,2, -999.000,9, -999.000,9, -999.000,    9.000, -999.000,9, -999.000,9
           NA,  ICESCA,     74,   1,-999.0,       6,  2,20100707,0000,  72.3637, -167.7843,    52,    4.200,    1.017,   31.800,2,   31.819,2,  504.700,2,  553.100,2,    9.950,2,    0.020,2,    0.000,2,    0.570,2, -999.000,9, -999.000,9, -999.000,    9.000, -999.000,1, 1991.100,2
           NA,  ICESCA,     74,   1,-999.0,       5,  2,20100707,0000,  72.3637, -167.7843,    52,   10.300,    0.896,   31.861,2, -999.000,9,  462.900,2,  470.800,2,   15.500,2,    0.480,2,    0.020,2,    0.900,2, -999.000,9, -999.000,9, -999.000,    9.000, -999.000,1, 2003.300,2
           NA,  ICESCA,     74,   1,-999.0,       4,  2,20100707,0000,  72.3637, -167.7843,    52,   16.200,   -1.314,   32.135,2, -999.000,9,  343.900,2,  358.300,2,   31.580,2,    6.720,2,    0.130,2,    1.510,2, -999.000,9, -999.000,9, -999.000,    9.000, -999.000,1, 2033.100,2
           NA,  ICESCA,     74,   1,-999.0,       3,  2,20100707,0000,  72.3637, -167.7843,    52,   25.400,   -1.561,   32.412,2, -999.000,9,  336.000,2,  333.000,2,   36.450,2,   11.470,2,    0.150,2,    1.720,2, -999.000,9, -999.000,9, -999.000,    9.000, -999.000,1, 2086.500,2
           NA,  ICESCA,     74,   1,-999.0,       2,  2,20100707,0000,  72.3637, -167.7843,    52,   35.500,   -1.776,   33.315,2, -999.000,9,  331.000,2,  331.900,2,   35.250,2,   10.190,2,    0.120,2,    1.710,2, -999.000,9, -999.000,9, -999.000,    9.000, -999.000,1, 2205.100,2
           NA,  ICESCA,     74,   1,-999.0,       1,  2,20100707,0000,  72.3637, -167.7843,    52,   48.400,   -1.779,   33.636,2,   33.624,2,  341.300,2,  340.000,2,   31.840,2,    8.060,2,    0.140,2,    1.720,2, -999.000,9, -999.000,9, -999.000,    9.000, -999.000,1, 2250.700,2
           NA,  ICESCA,     75,   1,-999.0,       4,  2,20100707,0000,  72.3012, -167.4052,    49,    4.100,    0.351,   31.800,2,   32.023,2,  467.200,2,  448.000,2,   10.040,2,    0.450,2,    0.020,2,    0.920,2, -999.000,9, -999.000,9, -999.000,    9.000, -999.000,1, 2000.800,2
           NA,  ICESCA,     75,   1,-999.0,       3,  2,20100707,0000,  72.3012, -167.4052,    49,   14.200,   -1.542,   32.586,2, -999.000,9,  337.700,2,  358.200,2,   31.280,2,    8.200,2,    0.130,2,    1.460,2, -999.000,9, -999.000,9, -999.000,    9.000, -999.000,1, 2090.100,2
           NA,  ICESCA,     75,   1,-999.0,       2,  2,20100707,0000,  72.3012, -167.4052,    49,   25.200,   -1.663,   32.759,2, -999.000,9,  332.900,2,  331.600,2,   38.290,2,   11.250,2,    0.110,2,    1.760,2, -999.000,9, -999.000,9, -999.000,    9.000, -999.000,1, 2141.500,2
           NA,  ICESCA,     75,   1,-999.0,       1,  2,20100707,0000,  72.3012, -167.4052,    49,   46.000,   -1.774,   33.631,2,   33.501,2,  331.800,2,  330.500,2,   35.640,2,    9.450,2,    0.130,2,    1.810,2, -999.000,9, -999.000,9, -999.000,    9.000, -999.000,1, 2237.000,2
           NA,  ICESCA,     76,   1,-999.0,       4,  2,20100707,0000,  72.2208, -166.9705,    49,    4.000,    0.932,   31.356,2,   31.699,2,  463.000,2,  463.400,2,   10.920,2,    0.970,2,    0.020,2,    0.610,2, -999.000,9, -999.000,9, -999.000,    9.000, -999.000,1, 1950.400,2
           NA,  ICESCA,     76,   1,-999.0,       3,  2,20100707,0000,  72.2208, -166.9705,    49,   13.300,   -1.515,   32.524,2, -999.000,9,  357.300,2,  333.400,2,   35.670,2,   11.020,2,    0.160,2,    1.690,2, -999.000,9, -999.000,9, -999.000,    9.000, -999.000,1, 2086.700,2
           NA,  ICESCA,     76,   1,-999.0,       2,  2,20100707,0000,  72.2208, -166.9705,    49,   25.300,   -1.740,   33.047,2, -999.000,9,  317.100,2,  321.500,2,   39.260,2,   11.910,2,    0.180,2,    1.800,2, -999.000,9, -999.000,9, -999.000,    9.000, -999.000,1, 2148.400,2
           NA,  ICESCA,     76,   1,-999.0,       1,  2,20100707,0000,  72.2208, -166.9705,    49,   45.100,   -1.747,   33.259,2,   33.256,2,  322.700,2,  322.300,2,   37.980,2,   10.130,2,    0.190,2,    1.860,2, -999.000,9, -999.000,9, -999.000,    9.000, -999.000,1, 2182.400,2
           NA,  ICESCA,     77,   1,-999.0,       8,  2,20100707,0000,  72.1632, -166.6038,    48,    4.000,    1.115,   31.805,2,   31.850,2,  474.300,2,  503.000,2,    6.730,2,    0.010,2,    0.010,2,    0.500,2, -999.000,9, -999.000,9, -999.000,    9.000, -999.000,1, 1987.300,2
           NA,  ICESCA,     77,   1,-999.0,       7,  2,20100707,0000,  72.1632, -166.6038,    48,   10.200,    1.448,   31.933,2, -999.000,9,  446.800,2,  445.900,2,   13.360,2,    2.470,2,    0.060,2,    0.890,2, -999.000,9, -999.000,9, -999.000,    9.000, -999.000,1, 2009.200,2
           NA,  ICESCA,     77,   1,-999.0,       5,  2,20100707,0000,  72.1632, -166.6038,    48,   18.100,   -1.586,   32.309,2, -999.000,9,  438.300,2,  337.300,2,   27.970,2,   10.240,2,    0.170,2,    1.850,2, -999.000,9, -999.000,9, -999.000,    9.000, -999.000,1, 2056.000,2
           NA,  ICESCA,     77,   1,-999.0,       3,  2,20100707,0000,  72.1632, -166.6038,    48,   25.400,   -1.713,   32.751,2, -999.000,9,  328.100,2,  322.900,2,   36.440,2,   12.290,2,    0.160,2,    1.760,2, -999.000,9, -999.000,9, -999.000,    9.000, -999.000,1, 2103.600,2
           NA,  ICESCA,     77,   1,-999.0,       1,  2,20100707,0000,  72.1632, -166.6038,    48,   44.500,   -1.749,   33.148,2,   33.113,2,  327.100,2,  325.400,2,   37.400,2,   11.440,2,    0.180,2,    1.700,2, -999.000,9, -999.000,9, -999.000,    9.000, -999.000,1, 2157.800,2
           NA,  ICESCA,     78,   1,-999.0,       5,  2,20100707,0000,  72.0905, -166.2233,    47,    3.700,    1.790,   31.886,2, -999.000,9,  461.600,2,  462.900,2,    8.290,2,    0.010,2,    0.000,2,    0.430,2, -999.000,9, -999.000,9, -999.000,    9.000, -999.000,1, -999.000,4
           NA,  ICESCA,     78,   1,-999.0,       4,  2,20100707,0000,  72.0905, -166.2233,    47,    9.800,    1.835,   31.928,2, -999.000,9,  461.600,2,  480.300,2,    8.970,2,    0.060,2,    0.000,2,    0.480,2, -999.000,9, -999.000,9, -999.000,    9.000, -999.000,1, -999.000,5
           NA,  ICESCA,     78,   1,-999.0,       3,  2,20100707,0000,  72.0905, -166.2233,    47,   15.600,    1.617,   32.282,2, -999.000,9,  428.000,2,  463.200,2,   12.580,2,    0.560,2,    0.020,2,    0.760,2, -999.000,9, -999.000,9, -999.000,    9.000, -999.000,1, 2047.300,2
           NA,  ICESCA,     78,   1,-999.0,       2,  2,20100707,0000,  72.0905, -166.2233,    47,   25.000,   -1.729,   32.960,2,   32.965,2,  332.000,2,  333.300,2,   37.600,2,   11.920,2,    0.220,2,    1.710,2, -999.000,9, -999.000,9, -999.000,    9.000, -999.000,1, 2128.800,2
           NA,  ICESCA,     78,   1,-999.0,       1,  2,20100707,0000,  72.0905, -166.2233,    47,   42.600,   -1.752,   33.110,2,   33.077,2,  334.500,2,  331.500,2,   36.920,2,   11.110,2,    0.190,2,    1.670,2, -999.000,9, -999.000,9, -999.000,    9.000, -999.000,1, 2150.700,2
           NA,  ICESCA,     79,   1,-999.0,       5,  2,20100707,0000,  72.0225, -165.8718,    46,    3.600,    1.903,   32.123,2,   32.130,2,  470.700,2,  499.900,2,    7.510,2,    0.010,2,    0.000,2,    0.410,2, -999.000,9, -999.000,9, -999.000,    9.000, -999.000,1, 2024.200,2
           NA,  ICESCA,     79,   1,-999.0,       4,  2,20100707,0000,  72.0225, -165.8718,    46,   10.300,    1.932,   32.136,2, -999.000,9,  479.000,2,  499.400,2,    7.600,2,    0.020,2,    0.000,2,    0.420,2, -999.000,9, -999.000,9, -999.000,    9.000, -999.000,1, 2030.400,2
           NA,  ICESCA,     79,   1,-999.0,       2,  2,20100707,0000,  72.0225, -165.8718,    46,   24.100,   -1.187,   32.537,2, -999.000,9,  342.500,2,  353.400,2,   20.070,2,    6.260,2,    0.140,2,    1.390,2, -999.000,9, -999.000,9, -999.000,    9.000, -999.000,1, 2072.800,2
           NA,  ICESCA,     79,   1,-999.0,       1,  2,20100707,0000,  72.0225, -165.8718,    46,   41.100,   -1.763,   33.186,2,   33.149,2,  332.300,2,  329.300,2,   36.040,2,   10.650,2,    0.190,2,    1.650,2, -999.000,9, -999.000,9, -999.000,    9.000, -999.000,1, 2165.000,2
           NA,  ICESCA,     80,   1,-999.0,       6,  2,20100707,0000,  71.9520, -165.4897,    43,    3.100,    2.302,   32.273,2,   32.268,2,  422.300,2,  420.600,2,   10.630,2,    0.000,2,    0.010,2,    0.570,2, -999.000,9, -999.000,9, -999.000,    9.000, -999.000,1, 2050.200,2
           NA,  ICESCA,     80,   1,-999.0,       5,  2,20100707,0000,  71.9520, -165.4897,    43,    9.900,    2.351,   32.307,2, -999.000,9,  419.700,2,  419.700,2,   10.630,2,    0.000,2,    0.010,2,    0.580,2, -999.000,9, -999.000,9, -999.000,    9.000, -999.000,1, 2051.400,2
           NA,  ICESCA,     80,   1,-999.0,       4,  2,20100707,0000,  71.9520, -165.4897,    43,   24.600,   -1.735,   33.284,2, -999.000,9,  377.500,2,  327.500,2,    2.140,2,    4.140,2,    0.160,2,    1.030,2, -999.000,9, -999.000,9, -999.000,    9.000, -999.000,1, 2191.900,2
           NA,  ICESCA,     80,   1,-999.0,       2,  2,20100707,0000,  71.9520, -165.4897,    43,   27.500,   -1.773,   33.539,2, -999.000,9,  335.700,2,  336.600,2,   10.810,2,    8.330,2,    0.170,2,    1.280,2, -999.000,9, -999.000,9, -999.000,    9.000, -999.000,1, 2227.000,2
           NA,  ICESCA,     80,   1,-999.0,       1,  2,20100707,0000,  71.9520, -165.4897,    43,   38.700,   -1.765,   33.597,2,   33.598,2,  335.700,2,  336.100,2,   26.580,2,    7.690,2,    0.160,2,    1.470,2, -999.000,9, -999.000,9, -999.000,    9.000, -999.000,1, 2236.900,2
           NA,  ICESCA,     81,   1,-999.0,       5,  2,20100707,0000,  71.8812, -165.1218,    41,    3.400,    1.353,   31.331,2, -999.000,9,  376.400,2,  376.000,2,    7.220,2,    0.000,2,    0.000,2,    0.540,2, -999.000,9, -999.000,9, -999.000,    9.000, -999.000,1, 1949.700,2
           NA,  ICESCA,     81,   1,-999.0,       4,  2,20100707,0000,  71.8812, -165.1218,    41,   10.200,    2.429,   32.647,2, -999.000,9,  405.200,2,  394.300,2,    9.060,2,    0.000,2,    0.010,2,    0.570,2, -999.000,9, -999.000,9, -999.000,    9.000, -999.000,1, 2100.300,2
           NA,  ICESCA,     81,   1,-999.0,       3,  2,20100707,0000,  71.8812, -165.1218,    41,   24.700,   -1.505,   33.160,2, -999.000,9,  442.000,2,  412.400,2,    2.730,2,    2.650,2,    0.070,2,    0.910,2, -999.000,9, -999.000,9, -999.000,    9.000, -999.000,1, 2171.300,2
           NA,  ICESCA,     81,   1,-999.0,       2,  2,20100707,0000,  71.8812, -165.1218,    41,   27.600,   -1.716,   33.396,2, -999.000,9,  344.000,2,  349.200,2,    3.020,2,    6.810,2,    0.140,2,    1.130,2, -999.000,9, -999.000,9, -999.000,    9.000, -999.000,1, 2197.200,2
           NA,  ICESCA,     81,   1,-999.0,       1,  2,20100707,0000,  71.8812, -165.1218,    41,   36.400,   -1.743,   33.579,2,   33.573,2,  330.500,2,  331.800,2,   19.080,2,    7.680,2,    0.130,2,    1.350,2, -999.000,9, -999.000,9, -999.000,    9.000, -999.000,1, 2234.200,2
           NA,  ICESCA,     82,   1,-999.0,       5,  2,20100707,0000,  71.8007, -164.7442,    40,    3.800,   -0.016,   30.411,2, -999.000,9,  402.000,2,  388.000,2,    2.730,2,    0.030,2,    0.010,2,    0.480,2, -999.000,9, -999.000,9, -999.000,    9.000, -999.000,1, 1828.600,2
           NA,  ICESCA,     82,   1,-999.0,       4,  2,20100707,0000,  71.8007, -164.7442,    40,    9.800,    0.470,   31.507,2, -999.000,9,  398.600,2,  386.800,2,    5.660,2,    1.480,2,    0.040,2,    0.840,2, -999.000,9, -999.000,9, -999.000,    9.000, -999.000,1, 2030.800,2
           NA,  ICESCA,     82,   1,-999.0,       3,  2,20100707,0000,  71.8007, -164.7442,    40,   25.100,   -1.486,   33.144,2, -999.000,9,  329.300,2,  314.100,2,    5.160,2,    6.050,2,    0.120,2,    1.290,2, -999.000,9, -999.000,9, -999.000,    9.000, -999.000,1, 2181.900,2
           NA,  ICESCA,     82,   1,-999.0,       2,  2,20100707,0000,  71.8007, -164.7442,    40,   30.400,   -1.397,   33.680,2, -999.000,9,  308.300,2,  309.200,2,    4.090,2,    5.460,2,    0.110,2,    1.290,2, -999.000,9, -999.000,9, -999.000,    9.000, -999.000,1, 2245.400,2
           NA,  ICESCA,     82,   1,-999.0,       1,  2,20100707,0000,  71.8007, -164.7442,    40,   35.400,   -1.548,   33.703,2,   33.674,2,  301.800,2,  303.100,2,    6.910,2,    5.320,2,    0.100,2,    1.270,2, -999.000,9, -999.000,9, -999.000,    9.000, -999.000,1, 2255.300,2
           NA,  ICESCA,     83,   1,-999.0,       8,  2,20100707,0000,  71.7342, -164.4008,    38,    3.700,    0.942,   30.524,2, -999.000,9,  391.000,2,  385.800,2,    1.950,2,    0.050,2,    0.010,2,    0.490,2, -999.000,9, -999.000,9, -999.000,    9.000, -999.000,9, 1895.800,2
           NA,  ICESCA,     83,   1,-999.0,       7,  2,20100707,0000,  71.7342, -164.4008,    38,    9.800,    1.054,   31.026,2, -999.000,9,  386.100,2,  383.500,2,    2.540,2,    0.060,2,    0.000,2,    0.500,2, -999.000,9, -999.000,9, -999.000,    9.000, -999.000,9, 1930.600,2
           NA,  ICESCA,     83,   1,-999.0,       4,  2,20100707,0000,  71.7342, -164.4008,    38,   20.800,   -1.686,   33.229,2, -999.000,9,  335.400,2,  337.100,2,   29.800,2,   10.380,2,    0.100,2,    1.560,2, -999.000,9, -999.000,9, -999.000,    9.000, -999.000,9, 2175.100,2
           NA,  ICESCA,     83,   1,-999.0,       3,  2,20100707,0000,  71.7342, -164.4008,    38,   24.900,   -1.701,   33.289,2,   33.384,2,  337.500,2,  327.900,2,   30.770,2,   10.540,2,    0.110,2,    1.660,2, -999.000,9, -999.000,9, -999.000,    9.000, -999.000,9, 2190.400,2
           NA,  ICESCA,     83,   1,-999.0,       1,  2,20100707,0000,  71.7342, -164.4008,    38,   33.000,   -1.469,   33.576,2, -999.000,9,  319.200,2,  318.300,2,   24.250,2,    9.100,2,    0.110,2,    1.620,2, -999.000,9, -999.000,9, -999.000,    9.000, -999.000,9, 2228.200,2
           NA,  ICESCA,     84,   1,-999.0,       7,  2,20100707,0000,  71.6768, -164.0157,    39,    4.000,    0.177,   30.298,2,   30.881,2,  389.600,2,  396.100,2,    2.440,2,    0.030,2,    0.000,2,    0.480,2, -999.000,9, -999.000,9, -999.000,    9.000, -999.000,9, 1862.400,2
           NA,  ICESCA,     84,   1,-999.0,       6,  2,20100707,0000,  71.6768, -164.0157,    39,   12.800,    2.577,   32.120,2, -999.000,9,  363.200,2,  377.100,2,    3.610,2,    0.240,2,    0.010,2,    0.540,2, -999.000,9, -999.000,9, -999.000,    9.000, -999.000,9, 2072.000,2
           NA,  ICESCA,     84,   1,-999.0,       3,  2,20100707,0000,  71.6768, -164.0157,    39,   27.500,   -1.746,   33.396,2, -999.000,9,  333.600,2,  321.000,2,   34.670,2,   10.710,2,    0.110,2,    1.730,2, -999.000,9, -999.000,9, -999.000,    9.000, -999.000,9, 2222.200,2
           NA,  ICESCA,     84,   1,-999.0,       1,  2,20100707,0000,  71.6768, -164.0157,    39,   36.400,   -1.739,   33.640,2,   33.579,2,  318.300,2,  317.400,2,   35.830,2,   10.740,2,    0.120,2,    1.760,2, -999.000,9, -999.000,9, -999.000,    9.000, -999.000,9, 2240.900,2
           NA,  ICESCA,     84,   2,-999.0,       7,  2,20100708,0000,  71.6732, -164.0133,    39,    4.000,    0.695,   31.143,2, -999.000,9,  391.300,2,  390.400,2,    2.440,2,    0.040,2,    0.000,2,    0.490,2, -999.000,9, -999.000,9, -999.000,    9.000, -999.000,9, -999.000,9
           NA,  ICESCA,     84,   2,-999.0,       6,  2,20100708,0000,  71.6732, -164.0133,    39,   13.000,    2.334,   32.247,2, -999.000,9,  367.500,2,  370.100,2,   12.190,2,    3.280,2,    0.050,2,    0.880,2, -999.000,9, -999.000,9, -999.000,    9.000, -999.000,9, -999.000,9
           NA,  ICESCA,     84,   2,-999.0,       3,  2,20100708,0000,  71.6732, -164.0133,    39,   27.400,   -1.738,   33.414,2, -999.000,9,  331.800,2,  324.400,2,   34.380,2,   10.580,2,    0.100,2,    1.680,2, -999.000,9, -999.000,9, -999.000,    9.000, -999.000,9, -999.000,9
           NA,  ICESCA,     84,   2,-999.0,       1,  2,20100708,0000,  71.6732, -164.0133,    39,   35.500,   -1.732,   33.625,2, -999.000,9,  320.900,2,  316.600,2,   36.220,2,   10.860,2,    0.120,2,    1.750,2, -999.000,9, -999.000,9, -999.000,    9.000, -999.000,9, -999.000,9