BOTTLE,20220919JOAExport
EXPOCODE,SECT_ID,STNNBR,CASTNO,SAMPNO,BTLNBR,BTLNBR_FLAG_W,DATE,TIME,LATITUDE,LONGITUDE,DEPTH,CTDPRS,CTDTMP,CTDSAL,CTDSAL_FLAG_W,SALNTY,SALNTY_FLAG_W,CTDOXY,CTDOXY_FLAG_W,OXYGEN,OXYGEN_FLAG_W,SILCAT,SILCAT_FLAG_W,NITRAT,NITRAT_FLAG_W,NITRIT,NITRIT_FLAG_W,PHSPHT,PHSPHT_FLAG_W,CFC-11,CFC-11_FLAG_W,CFC-12,CFC-12_FLAG_W,SF6,SF6_FLAC_W,TCARBN,TCARBN_FLAG_W,ALKALI,ALKALI_FLAG_W
,,,,,,,,,,,,DB,ITS-90,PSS-78,,PSS-78,,UMOL/KG,,UMOL/KG,,UMOL/KG,,UMOL/KG,,UMOL/KG,,UMOL/KG,,NA,,NA,,NA,NA,UMOL/KG,,UMOL/KG
           NA,  ICESCA,     18,   1,-999.0,       9,  2,20100621,0000,  67.9065, -168.2369,    58,    3.600,    0.681,   32.310,1,   32.309,2,  468.800,2, -999.000,3,    2.050,2,    0.550,2,    0.000,2,    0.580,2, -999.000,9, -999.000,9, -999.000,    9.000, -999.000,1, 2034.900,2
           NA,  ICESCA,     18,   1,-999.0,       8,  2,20100621,0000,  67.9065, -168.2369,    58,    9.700,    0.533,   32.311,1,   32.347,2,  407.000,2,  411.800,2,    7.510,2,    2.570,2,    0.190,2,    1.560,2, -999.000,9, -999.000,9, -999.000,    9.000, -999.000,1, 2033.300,2
           NA,  ICESCA,     18,   1,-999.0,       5,  2,20100621,0000,  67.9065, -168.2369,    58,   13.700,    0.242,   32.348,1,   32.356,2,  392.600,2,  402.700,2,    9.840,2,    5.070,2,    0.070,2,    1.040,2, -999.000,9, -999.000,9, -999.000,    9.000, -999.000,1, 2036.700,2
           NA,  ICESCA,     18,   1,-999.0,       3,  2,20100621,0000,  67.9065, -168.2369,    58,   25.100,    0.208,   32.361,1,   32.371,2,  382.200,2,  392.600,2,   14.720,2,    6.480,2,    0.100,2,    1.230,2, -999.000,9, -999.000,9, -999.000,    9.000, -999.000,1, 2038.600,2
           NA,  ICESCA,     18,   1,-999.0,       1,  2,20100621,0000,  67.9065, -168.2369,    58,   52.600,    0.130,   32.387,1,   32.391,2,  380.900,2,  383.100,2,   18.320,2,    8.090,2,    0.140,2,    1.370,2, -999.000,9, -999.000,9, -999.000,    9.000, -999.000,1, 2041.200,2
           NA,  ICESCA,     19,   1,-999.0,       4,  2,20100621,0000,  67.7784, -168.5933,    50,    2.500,    3.649,   32.339,1,   32.343,2,  440.600,2,  542.500,2,    2.530,2,    0.100,2,    0.000,2,    0.130,2, -999.000,9, -999.000,9, -999.000,    9.000, -999.000,1, 2038.700,2
           NA,  ICESCA,     19,   1,-999.0,       3,  2,20100621,0000,  67.7784, -168.5933,    50,    9.900,    0.622,   32.344,1,   32.359,2,  404.800,2,  466.600,2,    4.290,2,    0.960,2,    0.000,2,    0.560,2, -999.000,9, -999.000,9, -999.000,    9.000, -999.000,1, 2041.300,2
           NA,  ICESCA,     19,   1,-999.0,       2,  2,20100621,0000,  67.7784, -168.5933,    50,   25.200,    0.466,   32.419,1,   32.422,2,  383.000,2,  386.500,2,   22.420,2,    9.000,2,    0.130,2,    1.350,2, -999.000,9, -999.000,9, -999.000,    9.000, -999.000,1, 2044.100,2
           NA,  ICESCA,     19,   1,-999.0,       1,  2,20100621,0000,  67.7784, -168.5933,    50,   45.600,    0.465,   32.421,1,   32.424,2,  384.400,2,  384.800,2,   22.510,2,    9.040,2,    0.150,2,    1.370,2, -999.000,9, -999.000,9, -999.000,    9.000, -999.000,1, 2045.300,2
           NA,  ICESCA,     20,   1,-999.0,       8,  2,20100621,0000,  67.6767, -168.9623,    50,    2.500,    3.530,   32.320,1,   32.304,2,  510.700,2,  542.500,2,    2.440,2,    0.220,2,    0.020,2,    0.770,2, -999.000,9, -999.000,9, -999.000,    9.000, -999.000,1, 2031.800,2
           NA,  ICESCA,     20,   1,-999.0,       5,  2,20100621,0000,  67.6767, -168.9623,    50,   10.900,    0.535,   32.297,1,   32.301,2,  463.600,2,  468.400,2,    3.120,2,    0.760,2,    0.140,2,    0.660,2, -999.000,9, -999.000,9, -999.000,    9.000, -999.000,1, 2033.200,2
           NA,  ICESCA,     20,   1,-999.0,       3,  2,20100621,0000,  67.6767, -168.9623,    50,   25.100,    0.452,   32.307,1,   32.312,2,  407.500,2,  409.600,2,   12.960,2,    5.610,2,    0.240,2,    1.110,2, -999.000,9, -999.000,9, -999.000,    9.000, -999.000,1, 2031.000,2
           NA,  ICESCA,     20,   1,-999.0,       1,  2,20100621,0000,  67.6767, -168.9623,    50,   45.500,    0.558,   32.369,1,   32.373,2,  397.000,2,  395.300,2,   19.790,2,    7.150,2,    0.320,2,    1.490,2, -999.000,9, -999.000,9, -999.000,    9.000, -999.000,1, 2039.200,2
           NA,  ICESCA,     20,   2,-999.0,       8,  2,20100622,0000,  67.6770, -168.9627,    50,    2.400,    1.265,   32.293,1,   32.300,2,  444.000,2,  518.500,2,    3.800,2,    0.190,2,    0.020,2,    0.660,2, -999.000,9, -999.000,9, -999.000,    9.000, -999.000,9, -999.000,9
           NA,  ICESCA,     20,   2,-999.0,       7,  2,20100622,0000,  67.6770, -168.9627,    50,    5.000,    1.094,   32.298,1,   32.301,2,  430.100,2,  508.900,2,    4.090,2,    0.320,2,    0.030,2,    0.610,2, -999.000,9, -999.000,9, -999.000,    9.000, -999.000,9, -999.000,9
           NA,  ICESCA,     20,   2,-999.0,       5,  2,20100622,0000,  67.6770, -168.9627,    50,    9.800,    0.693,   32.293,1,   32.300,2,  388.700,2,  466.200,2,    6.240,2,    2.440,2,    0.060,2,    0.820,2, -999.000,9, -999.000,9, -999.000,    9.000, -999.000,9, -999.000,9
           NA,  ICESCA,     20,   2,-999.0,       3,  2,20100622,0000,  67.6770, -168.9627,    50,   25.000,    0.756,   32.352,1,   32.352,2,  399.600,2,  407.500,2,   17.160,2,    6.930,2,    0.130,2,    1.270,2, -999.000,9, -999.000,9, -999.000,    9.000, -999.000,9, -999.000,9
           NA,  ICESCA,     20,   2,-999.0,       1,  2,20100622,0000,  67.6770, -168.9627,    50,   46.800,    0.578,   32.378,1,   32.383,2,  393.900,2,  392.200,2,   21.050,2,    7.690,2,    0.190,2,    1.540,2, -999.000,9, -999.000,9, -999.000,    9.000, -999.000,9, -999.000,9
           NA,  ICESCA,     21,   1,-999.0,       8,  2,20100622,0000,  68.1250, -167.5068,    50,    4.100,    5.500,   32.033,1,   32.037,2,  377.200,2,  372.000,2,    0.200,2,    0.000,2,    0.050,2,    0.590,2, -999.000,9, -999.000,9, -999.000,    9.000, -999.000,1, 2000.900,2
           NA,  ICESCA,     21,   1,-999.0,       7,  2,20100622,0000,  68.1250, -167.5068,    50,   10.100,    5.503,   32.032,1,   32.038,2,  374.200,2,  374.600,2,    0.200,2,    0.000,2,    0.060,2,    0.580,2, -999.000,9, -999.000,9, -999.000,    9.000, -999.000,1, 2000.900,2
           NA,  ICESCA,     21,   1,-999.0,       5,  2,20100622,0000,  68.1250, -167.5068,    50,   25.200,    0.959,   32.070,1,   32.075,2,  404.900,2,  408.000,2,    0.880,2,    0.100,2,    0.000,2,    0.680,2, -999.000,9, -999.000,9, -999.000,    9.000, -999.000,1, 2004.400,2
           NA,  ICESCA,     21,   1,-999.0,       4,  2,20100622,0000,  68.1250, -167.5068,    50,   38.700,    0.839,   32.074,1,   32.140,2,  404.900,2,  401.400,2,    3.020,2,    1.830,2,    0.020,2,    0.780,2, -999.000,9, -999.000,9, -999.000,    9.000, -999.000,1, 2013.100,2
           NA,  ICESCA,     21,   1,-999.0,       1,  2,20100622,0000,  68.1250, -167.5068,    50,   46.700,   -1.012,   32.747,1,   32.712,2,  367.300,2,  366.000,2,   19.390,2,    0.020,2,    0.110,2,    1.260,2, -999.000,9, -999.000,9, -999.000,    9.000, -999.000,1, 2108.000,2
           NA,  ICESCA,     22,   1,-999.0,       8,  2,20100622,0000,  68.1844, -167.3253,    48,    4.200,    3.359,   31.890,1,   31.936,2,  394.600,2,  406.800,2,    0.290,2,    0.000,2,    0.030,2,    0.570,2, -999.000,9, -999.000,9, -999.000,    9.000, -999.000,1, 1984.400,2
           NA,  ICESCA,     22,   1,-999.0,       6,  2,20100622,0000,  68.1844, -167.3253,    48,   10.100,    2.909,   31.967,1,   32.041,2,  398.000,2,  422.900,2,    0.390,2,    0.000,2,    0.030,2,    0.580,2, -999.000,9, -999.000,9, -999.000,    9.000, -999.000,1, 2002.500,2
           NA,  ICESCA,     22,   1,-999.0,       5,  2,20100622,0000,  68.1844, -167.3253,    48,   25.300,    0.810,   32.093,1,   32.239,2,  405.700,2,  403.100,2,    3.610,2,    0.640,2,    0.060,2,    0.810,2, -999.000,9, -999.000,9, -999.000,    9.000, -999.000,1, 2028.400,2
           NA,  ICESCA,     22,   1,-999.0,       3,  2,20100622,0000,  68.1844, -167.3253,    48,   35.400,   -0.850,   32.595,1,   32.615,2,  387.300,2,  396.000,2,   11.890,2,    2.670,2,    0.120,2,    1.060,2, -999.000,9, -999.000,9, -999.000,    9.000, -999.000,1, 2093.600,2
           NA,  ICESCA,     22,   1,-999.0,       1,  2,20100622,0000,  68.1844, -167.3253,    48,   45.000,   -0.946,   32.625,1,   32.623,2,  398.600,2,  395.600,2,   11.790,2,    2.780,2,    0.150,2,    1.040,2, -999.000,9, -999.000,9, -999.000,    9.000, -999.000,9, 2096.100,2
           NA,  ICESCA,     23,   1,-999.0,       8,  2,20100622,0000,  68.2459, -167.1211,    43,    4.000,    1.718,   31.053,1,   31.704,2,  422.500,2,  414.700,2,    0.590,2,    0.080,2,    0.020,2,    0.610,2, -999.000,9, -999.000,9, -999.000,    9.000, -999.000,1, 1920.300,2
           NA,  ICESCA,     23,   1,-999.0,       7,  2,20100622,0000,  68.2459, -167.1211,    43,   10.100,    1.777,   32.057,1,   32.133,2,  426.700,2,  428.900,2,    0.780,2,    0.040,2,    0.030,2,    0.620,2, -999.000,9, -999.000,9, -999.000,    9.000, -999.000,1, 2017.600,2
           NA,  ICESCA,     23,   1,-999.0,       6,  2,20100622,0000,  68.2459, -167.1211,    43,   25.500,   -0.413,   32.304,1,   32.307,2,  411.800,2,  412.200,2,    6.240,2,    1.030,2,    0.070,2,    0.860,2, -999.000,9, -999.000,9, -999.000,    9.000, -999.000,1, 2047.900,2
           NA,  ICESCA,     23,   1,-999.0,       3,  2,20100622,0000,  68.2459, -167.1211,    43,   30.500,   -0.410,   32.303,1,   32.307,2,  411.800,2,  412.200,2,    6.140,2,    0.940,2,    0.070,2,    0.900,2, -999.000,9, -999.000,9, -999.000,    9.000, -999.000,1, 2046.200,2
           NA,  ICESCA,     23,   1,-999.0,       1,  2,20100622,0000,  68.2459, -167.1211,    43,   39.700,   -0.423,   32.306,1,   32.307,2,  422.700,2,  412.700,2,    5.950,2,    1.050,2,    0.070,2,    1.410,2, -999.000,9, -999.000,9, -999.000,    9.000, -999.000,1, 2048.800,2
           NA,  ICESCA,     24,   1,-999.0,       4,  2,20100622,0000,  68.3084, -166.9346,    33,    4.300,   -0.152,   31.281,1,   31.188,2,  425.200,2,  430.000,2,    4.000,2,    0.190,2,    0.010,2,    0.640,2, -999.000,9, -999.000,9, -999.000,    9.000, -999.000,1, 1901.500,2
           NA,  ICESCA,     24,   1,-999.0,       3,  2,20100622,0000,  68.3084, -166.9346,    33,   10.500,   -0.249,   31.224,1,   31.696,2,  425.100,2,  422.900,2,    3.710,2,    0.580,2,    0.020,2,    0.660,2, -999.000,9, -999.000,9, -999.000,    9.000, -999.000,1, 1941.100,2
           NA,  ICESCA,     24,   1,-999.0,       2,  2,20100622,0000,  68.3084, -166.9346,    33,   25.800,   -1.065,   32.186,1,   32.190,2,  429.200,2,  431.000,2,    9.460,2,    1.420,2,    0.060,2,    0.830,2, -999.000,9, -999.000,9, -999.000,    9.000, -999.000,1, 2037.600,2
           NA,  ICESCA,     24,   1,-999.0,       1,  2,20100622,0000,  68.3084, -166.9346,    33,   29.000,   -1.106,   32.196,1,   32.172,2,  428.800,2,  428.400,2,    8.680,2,    0.650,2,    0.070,2,    0.870,2, -999.000,9, -999.000,9, -999.000,    9.000, -999.000,1, 2038.800,2
           NA,  ICESCA,     25,   1,-999.0,       4,  2,20100622,0000,  68.3757, -168.5781,    54,    4.100,    4.384,   31.967,1,   31.972,2,  385.500,2,  385.000,2,    0.100,2,    0.000,2,    0.000,2,    0.530,2, -999.000,9, -999.000,9, -999.000,    9.000, -999.000,1, 1989.300,2
           NA,  ICESCA,     25,   1,-999.0,       3,  2,20100622,0000,  68.3757, -168.5781,    54,   10.200,    4.443,   31.964,1,   31.982,2,  384.200,2,  390.300,2,    0.200,2,    0.030,2,    0.000,2,    0.540,2, -999.000,9, -999.000,9, -999.000,    9.000, -999.000,1, 1993.400,2
           NA,  ICESCA,     25,   1,-999.0,       2,  2,20100622,0000,  68.3757, -168.5781,    54,   25.200,    1.047,   32.083,1,   32.097,2,  434.100,2,  429.700,2,    0.580,2,    0.080,2,    0.000,2,    0.570,2, -999.000,9, -999.000,9, -999.000,    9.000, -999.000,1, 2008.900,2
           NA,  ICESCA,     25,   1,-999.0,       1,  2,20100622,0000,  68.3757, -168.5781,    54,   49.500,   -0.601,   32.732,1,   32.726,2,  368.600,2,  368.600,2,   16.370,2,    5.040,2,    0.120,2,    1.230,2, -999.000,9, -999.000,9, -999.000,    9.000, -999.000,1, 2103.400,2
           NA,  ICESCA,     26,   1,-999.0,       7,  2,20100623,0000,  68.7916, -167.6912,    49,    4.100,    5.170,   31.781,1,   31.770,2,  379.900,2,  380.800,2,    0.200,2,    0.000,2,    0.010,2,    0.520,2, -999.000,9, -999.000,9, -999.000,    9.000, -999.000,1, 1962.000,2
           NA,  ICESCA,     26,   1,-999.0,       6,  2,20100623,0000,  68.7916, -167.6912,    49,   10.200,    4.342,   32.155,1,   32.201,2,  385.400,2,  436.800,2,    0.290,2,    0.060,2,    0.010,2,    0.570,2, -999.000,9, -999.000,9, -999.000,    9.000, -999.000,1, 2019.700,2
           NA,  ICESCA,     26,   1,-999.0,       4,  2,20100623,0000,  68.7916, -167.6912,    49,   25.300,    0.809,   32.256,1,   32.275,2,  434.000,2,  421.800,2,    1.460,2,    0.670,2,    0.040,2,    0.730,2, -999.000,9, -999.000,9, -999.000,    9.000, -999.000,1, 2035.400,2
           NA,  ICESCA,     26,   1,-999.0,       3,  2,20100623,0000,  68.7916, -167.6912,    49,   35.400,    0.123,   32.308,1,   32.315,2,  395.300,2,  399.200,2,    4.780,2,    1.790,2,    0.060,2,    0.840,2, -999.000,9, -999.000,9, -999.000,    9.000, -999.000,1, 2049.400,2
           NA,  ICESCA,     26,   1,-999.0,       1,  2,20100623,0000,  68.7916, -167.6912,    49,   45.600,    0.103,   32.316,1,   32.320,2,  397.400,2,  398.300,2,    4.780,2,    1.870,2,    0.060,2,    0.860,2, -999.000,9, -999.000,9, -999.000,    9.000, -999.000,1, 2047.400,2
           NA,  ICESCA,     26,   2,-999.0,      12,  2,20100623,0000,  68.7906, -167.7288,    49,    4.100,    5.097,   31.741,1,   31.831,2,  380.800,2,  380.300,2,    0.200,2,    0.020,2,    0.000,2,    0.530,2, -999.000,9, -999.000,9, -999.000,    9.000, -999.000,1, -999.000,9
           NA,  ICESCA,     26,   2,-999.0,       8,  2,20100623,0000,  68.7906, -167.7288,    49,    9.900,    4.834,   32.098,1,   32.152,2,  385.000,2,  409.800,2,    0.290,2,    0.070,2,    0.010,2,    0.570,2, -999.000,9, -999.000,9, -999.000,    9.000, -999.000,1, -999.000,9
           NA,  ICESCA,     26,   2,-999.0,       5,  2,20100623,0000,  68.7906, -167.7288,    49,   25.500,    0.474,   32.280,1,   32.287,2,  419.700,2,  407.900,2,    3.120,2,    1.270,2,    0.050,2,    0.790,2, -999.000,9, -999.000,9, -999.000,    9.000, -999.000,1, -999.000,9
           NA,  ICESCA,     26,   2,-999.0,       3,  2,20100623,0000,  68.7906, -167.7288,    49,   35.500,    0.099,   32.314,1,   32.317,2,  397.400,2,  398.700,2,    4.870,2,    1.880,2,    0.060,2,    0.860,2, -999.000,9, -999.000,9, -999.000,    9.000, -999.000,1, -999.000,9
           NA,  ICESCA,     26,   2,-999.0,       1,  2,20100623,0000,  68.7906, -167.7288,    49,   45.000,    0.104,   32.313,1,   32.315,2,  398.700,2,  398.300,2,    4.680,2,    1.830,2,    0.060,2,    0.850,2, -999.000,9, -999.000,9, -999.000,    9.000, -999.000,1, -999.000,9
           NA,  ICESCA,     27,   1,-999.0,       4,  2,20100623,0000,  69.2796, -166.5650,    38,    4.400,   -1.496,   31.774,1,   31.846,2,  429.400,2,  430.200,2,    2.630,2,    0.620,2,    0.020,2,    0.760,2, -999.000,9, -999.000,9, -999.000,    9.000, -999.000,1, 2011.200,2
           NA,  ICESCA,     27,   1,-999.0,       3,  2,20100623,0000,  69.2796, -166.5650,    38,   10.300,   -1.505,   31.930,1,   31.984,2,  425.800,2,  421.500,2,    3.510,2,    0.990,2,    0.030,2,    0.820,2, -999.000,9, -999.000,9, -999.000,    9.000, -999.000,1, 1996.000,2
           NA,  ICESCA,     27,   1,-999.0,       2,  2,20100623,0000,  69.2796, -166.5650,    38,   25.600,   -1.423,   32.361,1,   32.351,2,  390.000,2,  387.000,2,   10.140,2,    3.860,2,    0.080,2,    1.100,2, -999.000,9, -999.000,9, -999.000,    9.000, -999.000,1, 2056.500,2
           NA,  ICESCA,     27,   1,-999.0,       1,  2,20100623,0000,  69.2796, -166.5650,    38,   33.400,   -1.358,   32.477,1,   32.470,2,  376.000,2,  375.600,2,    9.650,2,    4.250,2,    0.110,2,    1.160,2, -999.000,9, -999.000,9, -999.000,    9.000, -999.000,1, 2072.700,2
           NA,  ICESCA,     28,   1,-999.0,       4,  2,20100623,0000,  69.5688, -165.8528,    38,    3.400,   -1.018,   31.306,1,   31.310,2,  409.900,2,  414.300,2,    6.240,2,    1.200,2,    0.040,2,    0.770,2, -999.000,9, -999.000,9, -999.000,    9.000, -999.000,1, 1909.700,2
           NA,  ICESCA,     28,   1,-999.0,       3,  2,20100623,0000,  69.5688, -165.8528,    38,   10.600,   -1.064,   31.302,1,   31.310,2,  408.200,2,  414.300,2,    6.150,2,    1.200,2,    0.050,2,    0.780,2, -999.000,9, -999.000,9, -999.000,    9.000, -999.000,1, 1910.300,2
           NA,  ICESCA,     28,   1,-999.0,       2,  2,20100623,0000,  69.5688, -165.8528,    38,   24.800,   -1.242,   32.180,1,   32.175,2,  408.300,2,  408.800,2,    2.730,2,    0.960,2,    0.030,2,    0.890,2, -999.000,9, -999.000,9, -999.000,    9.000, -999.000,1, 2018.700,2
           NA,  ICESCA,     28,   1,-999.0,       1,  2,20100623,0000,  69.5688, -165.8528,    38,   33.700,   -1.326,   32.683,1,   32.688,2,  357.700,2,  361.200,2,   19.590,2,    6.930,2,    0.130,2,    1.330,2, -999.000,9, -999.000,9, -999.000,    9.000, -999.000,1, 2097.800,2
           NA,  ICESCA,     29,   1,-999.0,       6,  2,20100624,0000,  70.3595, -163.9858,    37,    5.800,    3.812,   32.733,1,   32.736,2,  375.600,2,  376.100,2,    3.120,2,    0.110,2,    0.010,2,    0.540,2, -999.000,9, -999.000,9, -999.000,    9.000, -999.000,1, 2111.600,2
           NA,  ICESCA,     29,   1,-999.0,       5,  2,20100624,0000,  70.3595, -163.9858,    37,    9.800,    3.753,   32.731,1,   32.736,2,  376.100,2,  376.500,2,    3.510,2,    0.170,2,    0.020,2,    0.600,2, -999.000,9, -999.000,9, -999.000,    9.000, -999.000,1, 2111.000,2
           NA,  ICESCA,     29,   1,-999.0,       2,  2,20100624,0000,  70.3595, -163.9858,    37,   25.600,   -0.200,   32.770,1,   32.819,2,  388.600,2,  382.000,2,   20.270,2,    5.890,2,    0.120,2,    1.140,2, -999.000,9, -999.000,9, -999.000,    9.000, -999.000,1, 2101.800,2
           NA,  ICESCA,     29,   1,-999.0,       1,  2,20100624,0000,  70.3595, -163.9858,    37,   33.500,   -1.450,   33.055,1,   33.038,2,  332.400,2,  333.200,2,   32.440,2,   10.310,2,    0.200,2,    1.570,2, -999.000,9, -999.000,9, -999.000,    9.000, -999.000,1, 2139.100,2
           NA,  ICESCA,     29,   2,-999.0,       7,  2,20100624,0000,  70.3666, -163.9987,    38,    5.300,    3.666,   32.728,1,   32.731,2,  382.600,2,  380.900,2,    3.610,2,    0.200,2,    0.010,2,    0.570,2, -999.000,9, -999.000,9, -999.000,    9.000, -999.000,1, -999.000,9
           NA,  ICESCA,     29,   2,-999.0,       6,  2,20100624,0000,  70.3666, -163.9987,    38,   10.200,    3.752,   32.734,1,   32.736,2,  378.700,2,  377.000,2,    3.900,2,    0.240,2,    0.020,2,    0.580,2, -999.000,9, -999.000,9, -999.000,    9.000, -999.000,1, -999.000,9
           NA,  ICESCA,     29,   2,-999.0,       3,  2,20100624,0000,  70.3666, -163.9987,    38,   28.600,   -0.901,   32.782,1,   32.787,2,  356.400,2,  361.600,2,   32.740,2,   11.810,2,    0.190,2,    1.520,2, -999.000,9, -999.000,9, -999.000,    9.000, -999.000,1, -999.000,9
           NA,  ICESCA,     29,   2,-999.0,       1,  2,20100624,0000,  70.3666, -163.9987,    38,   34.600,   -1.466,   33.068,1,   33.061,2,  328.400,2,  329.300,2,   34.190,2,   10.500,2,    0.200,2,    1.580,2, -999.000,9, -999.000,9, -999.000,    9.000, -999.000,1, -999.000,9