BOTTLE,20220919JOAExport
EXPOCODE,SECT_ID,STNNBR,CASTNO,SAMPNO,BTLNBR,BTLNBR_FLAG_W,DATE,TIME,LATITUDE,LONGITUDE,DEPTH,CTDPRS,CTDTMP,CTDSAL,CTDSAL_FLAG_W,SALNTY,SALNTY_FLAG_W,CTDOXY,CTDOXY_FLAG_W,OXYGEN,OXYGEN_FLAG_W,SILCAT,SILCAT_FLAG_W,NITRAT,NITRAT_FLAG_W,NITRIT,NITRIT_FLAG_W,PHSPHT,PHSPHT_FLAG_W,CFC-11,CFC-11_FLAG_W,CFC-12,CFC-12_FLAG_W,SF6,SF6_FLAC_W,TCARBN,TCARBN_FLAG_W,ALKALI,ALKALI_FLAG_W
,,,,,,,,,,,,DB,ITS-90,PSS-78,,PSS-78,,UMOL/KG,,UMOL/KG,,UMOL/KG,,UMOL/KG,,UMOL/KG,,UMOL/KG,,NA,,NA,,NA,NA,UMOL/KG,,UMOL/KG
           NA,  ICESCA,    140,   2,-999.0,       9,  2,20100716,0000,  67.6908, -168.9355,    51,    3.600,    5.047,   31.856,2, -999.000,9,  334.100,2,  335.000,2,    1.070,2,    0.020,2,    0.000,2,    0.470,2, -999.000,9, -999.000,9, -999.000,    9.000, -999.000,9, -999.000,9
           NA,  ICESCA,    140,   2,-999.0,       7,  2,20100716,0000,  67.6908, -168.9355,    51,   10.400,    5.008,   31.866,2, -999.000,9,  334.600,2,  336.300,2,    1.070,2,    0.060,2,    0.000,2,    0.480,2, -999.000,9, -999.000,9, -999.000,    9.000, -999.000,9, -999.000,9
           NA,  ICESCA,    140,   2,-999.0,       4,  2,20100716,0000,  67.6908, -168.9355,    51,   25.000,    2.732,   31.956,2, -999.000,9,  371.900,2,  366.700,2,    1.270,2,    0.200,2,    0.020,2,    0.580,2, -999.000,9, -999.000,9, -999.000,    9.000, -999.000,9, -999.000,9
           NA,  ICESCA,    140,   2,-999.0,       1,  2,20100716,0000,  67.6908, -168.9355,    51,   45.500,    0.556,   32.118,2, -999.000,9,  306.500,2,  300.900,2,    7.800,2,    2.490,2,    0.190,2,    1.440,2, -999.000,9, -999.000,9, -999.000,    9.000, -999.000,9, -999.000,9