BOTTLE,20220919JOAExport
EXPOCODE,SECT_ID,STNNBR,CASTNO,SAMPNO,BTLNBR,BTLNBR_FLAG_W,DATE,TIME,LATITUDE,LONGITUDE,DEPTH,CTDPRS,CTDTMP,CTDSAL,CTDSAL_FLAG_W,SALNTY,SALNTY_FLAG_W,CTDOXY,CTDOXY_FLAG_W,OXYGEN,OXYGEN_FLAG_W,SILCAT,SILCAT_FLAG_W,NITRAT,NITRAT_FLAG_W,NITRIT,NITRIT_FLAG_W,PHSPHT,PHSPHT_FLAG_W,CFC-11,CFC-11_FLAG_W,CFC-12,CFC-12_FLAG_W,SF6,SF6_FLAC_W,TCARBN,TCARBN_FLAG_W,ALKALI,ALKALI_FLAG_W
,,,,,,,,,,,,DB,ITS-90,PSS-78,,PSS-78,,UMOL/KG,,UMOL/KG,,UMOL/KG,,UMOL/KG,,UMOL/KG,,UMOL/KG,,NA,,NA,,NA,NA,UMOL/KG,,UMOL/KG
           NA,  ICESCA,     30,   1,-999.0,       6,  2,20100624,0000,  70.8009, -162.5572,    43,    5.000,    4.417,   31.971,1,   31.973,2,  332.300,2,  334.500,2,    0.390,2,    0.000,2,    0.010,2,    0.500,2, -999.000,9, -999.000,9, -999.000,    9.000, -999.000,1, 2028.200,2
           NA,  ICESCA,     30,   1,-999.0,       5,  2,20100624,0000,  70.8009, -162.5572,    43,   10.200,    4.422,   31.968,1,   31.993,2,  332.300,2,  335.400,2,    0.490,2,    0.010,2,    0.010,2,    0.510,2, -999.000,9, -999.000,9, -999.000,    9.000, -999.000,1, 2029.100,2
           NA,  ICESCA,     30,   1,-999.0,       4,  2,20100624,0000,  70.8009, -162.5572,    43,   24.800,    1.722,   33.051,1,   33.056,2,  372.400,2,  383.800,2,    2.530,2,    0.030,2,    0.010,2,    0.720,2, -999.000,9, -999.000,9, -999.000,    9.000, -999.000,1, 2149.100,2
           NA,  ICESCA,     30,   1,-999.0,       1,  2,20100624,0000,  70.8009, -162.5572,    43,   40.000,   -0.407,   33.308,1,   33.311,2,  324.900,2,  335.400,2,    1.560,2,    1.260,2,    0.070,2,    1.040,2, -999.000,9, -999.000,9, -999.000,    9.000, -999.000,1, 2193.000,2
           NA,  ICESCA,     31,   1,-999.0,       7,  2,20100624,0000,  71.0753, -161.8140,    45,    5.100,    2.886,   32.990,1,   32.994,2,  349.400,2,  349.900,2,    0.780,2,    0.000,2,    0.010,2,    0.580,2, -999.000,9, -999.000,9, -999.000,    9.000, -999.000,1, 2151.200,2
           NA,  ICESCA,     31,   1,-999.0,       6,  2,20100624,0000,  71.0753, -161.8140,    45,   10.200,    2.880,   32.991,1,   32.999,2,  350.300,2,  350.300,2,    0.880,2,    0.010,2,    0.000,2,    0.570,2, -999.000,9, -999.000,9, -999.000,    9.000, -999.000,1, 2151.400,2
           NA,  ICESCA,     31,   1,-999.0,       4,  2,20100624,0000,  71.0753, -161.8140,    45,   25.400,    1.594,   33.255,1,   33.254,2,  368.900,2,  373.700,2,    1.170,2,    0.120,2,    0.010,2,    0.660,2, -999.000,9, -999.000,9, -999.000,    9.000, -999.000,1, 2181.500,2
           NA,  ICESCA,     31,   1,-999.0,       1,  2,20100624,0000,  71.0753, -161.8140,    45,   41.200,   -1.489,   33.646,1,   33.618,2,  327.900,2,  324.800,2,    4.090,2,    5.950,2,    0.080,2,    1.310,2, -999.000,9, -999.000,9, -999.000,    9.000, -999.000,1, 2240.600,2
           NA,  ICESCA,     32,   1,-999.0,       4,  2,20100624,0000,  71.4188, -160.6774,    48,    3.700,    1.440,   31.547,1,   31.554,2,  402.100,2,  402.100,2,    1.070,2,    0.000,2,    0.000,2,    0.660,2, -999.000,9, -999.000,9, -999.000,    9.000, -999.000,1, 1988.200,2
           NA,  ICESCA,     32,   1,-999.0,       3,  2,20100624,0000,  71.4188, -160.6774,    48,   10.200,    1.443,   31.554,1,   31.560,2,  401.200,2,  401.200,2,    1.270,2,    0.010,2,    0.000,2,    0.640,2, -999.000,9, -999.000,9, -999.000,    9.000, -999.000,1, 1990.800,2
           NA,  ICESCA,     32,   1,-999.0,       2,  2,20100624,0000,  71.4188, -160.6774,    48,   25.600,    0.396,   32.024,1,   32.028,2,  375.300,2,  383.600,2,    2.630,2,    0.060,2,    0.010,2,    0.800,2, -999.000,9, -999.000,9, -999.000,    9.000, -999.000,1, 2042.300,2
           NA,  ICESCA,     32,   1,-999.0,       1,  2,20100624,0000,  71.4188, -160.6774,    48,   42.800,   -1.725,   32.815,1,   32.652,2,  292.900,2,  293.300,2,   40.240,2,   12.090,2,    0.170,2,    1.970,2, -999.000,9, -999.000,9, -999.000,    9.000, -999.000,1, 2118.200,2
           NA,  ICESCA,     33,   1,-999.0,       5,  2,20100625,0000,  72.0043, -160.0009,    29,    4.200,    0.183,   30.303,2,   30.333,2,  407.700,2,  407.700,2,    1.070,2,    0.010,2,    0.000,2,    0.640,2, -999.000,9, -999.000,9, -999.000,    9.000, -999.000,1, -999.000,1
           NA,  ICESCA,     33,   1,-999.0,       4,  2,20100625,0000,  72.0043, -160.0009,    29,    9.900,    0.200,   30.315,2,   30.417,2,  406.800,2,  405.000,2,    1.950,2,    0.070,2,    0.000,2,    0.610,2, -999.000,9, -999.000,9, -999.000,    9.000, -999.000,1, -999.000,1
           NA,  ICESCA,     33,   1,-999.0,       2,  2,20100625,0000,  72.0043, -160.0009,    29,   22.800,   -1.530,   31.705,2,   31.713,2,  346.700,2,  330.500,2,   21.450,2,    5.570,2,    0.110,2,    1.270,2, -999.000,9, -999.000,9, -999.000,    9.000, -999.000,1, -999.000,1
           NA,  ICESCA,     33,   1,-999.0,       1,  2,20100625,0000,  72.0043, -160.0009,    29,   26.900,   -1.688,   32.270,2,   31.771,2,  307.400,2,  315.300,2,   25.550,2,    6.600,2,    0.120,2,    1.410,2, -999.000,9, -999.000,9, -999.000,    9.000, -999.000,1, -999.000,1
           NA,  ICESCA,     33,   2,-999.0,       6,  2,20100625,0000,  72.0127, -160.0505,    29,    4.000,    0.379,   30.391,2,   30.405,2,  404.600,2,  403.700,2,    0.980,2,    0.010,2,    0.000,2,    0.630,2, -999.000,9, -999.000,9, -999.000,    9.000, -999.000,9, -999.000,9
           NA,  ICESCA,     33,   2,-999.0,       5,  2,20100625,0000,  72.0127, -160.0505,    29,   10.000,    0.589,   30.561,2,   30.598,2,  404.100,2,  403.700,2,    1.270,2,    0.020,2,    0.000,2,    0.600,2, -999.000,9, -999.000,9, -999.000,    9.000, -999.000,9, -999.000,9
           NA,  ICESCA,     33,   2,-999.0,       3,  2,20100625,0000,  72.0127, -160.0505,    29,   20.200,   -1.174,   31.435,2,   31.200,2,  385.600,2,  381.200,2,    7.410,2,    0.640,2,    0.020,2,    0.900,2, -999.000,9, -999.000,9, -999.000,    9.000, -999.000,9, -999.000,9
           NA,  ICESCA,     33,   2,-999.0,       1,  2,20100625,0000,  72.0127, -160.0505,    29,   24.100,   -1.660,   31.996,2,   31.727,2,  328.800,2,  330.100,2,   22.040,2,    5.850,2,    0.110,2,    1.310,2, -999.000,9, -999.000,9, -999.000,    9.000, -999.000,9, -999.000,9
           NA,  ICESCA,     37,   1,-999.0,       7,  2,20100628,0000,  71.3772, -156.9221,    82,    4.200,    2.994,   31.216,2,   31.231,2,  373.000,2,  380.000,2,    0.390,2,    0.010,2,    0.010,2,    0.580,2, -999.000,9, -999.000,9, -999.000,    9.000, -999.000,1, 1956.300,2
           NA,  ICESCA,     37,   1,-999.0,       6,  2,20100628,0000,  71.3772, -156.9221,    82,    9.700,    2.580,   31.603,2,   31.634,2,  373.300,2,  358.500,2,    0.100,2,    0.010,2,    0.010,2,    0.590,2, -999.000,9, -999.000,9, -999.000,    9.000, -999.000,1, 2003.300,2
           NA,  ICESCA,     37,   1,-999.0,       5,  2,20100628,0000,  71.3772, -156.9221,    82,   24.900,    2.177,   32.394,2,   32.369,2,  379.200,2,  386.600,2,    0.680,2,    0.020,2,    0.000,2,    0.480,2, -999.000,9, -999.000,9, -999.000,    9.000, -999.000,1, 2088.600,2
           NA,  ICESCA,     37,   1,-999.0,       4,  2,20100628,0000,  71.3772, -156.9221,    82,   35.400,    1.164,   32.519,2,   32.558,2,  397.800,2,  378.700,2,    3.020,2,    0.640,2,    0.020,2,    0.630,2, -999.000,9, -999.000,9, -999.000,    9.000, -999.000,1, 2109.600,2
           NA,  ICESCA,     37,   1,-999.0,       2,  2,20100628,0000,  71.3772, -156.9221,    82,   50.200,   -0.345,   32.964,2,   32.971,2,  333.700,2,  333.700,2,    2.530,2,    0.830,2,    0.040,2,    0.950,2, -999.000,9, -999.000,9, -999.000,    9.000, -999.000,1, 2167.800,2
           NA,  ICESCA,     37,   1,-999.0,       1,  2,20100628,0000,  71.3772, -156.9221,    82,   76.500,   -0.416,   32.967,2,   32.975,2,  333.300,2,  331.500,2,    2.830,2,    1.030,2,    0.050,2,    1.000,2, -999.000,9, -999.000,9, -999.000,    9.000, -999.000,1, 2165.300,2
           NA,  ICESCA,     37,   2,-999.0,      10,  2,20100629,0000,  71.3795, -156.9545,    90,    3.900,    3.154,   31.318,2,   31.307,2,  367.800,2,  369.500,2,    0.290,2,    0.000,2,    0.000,2,    0.560,2, -999.000,9, -999.000,9, -999.000,    9.000, -999.000,9, -999.000,9
           NA,  ICESCA,     37,   2,-999.0,       9,  2,20100629,0000,  71.3795, -156.9545,    90,   10.000,    3.184,   31.330,2,   31.379,2,  367.700,2,  368.600,2,    0.290,2,    0.010,2,    0.000,2,    0.580,2, -999.000,9, -999.000,9, -999.000,    9.000, -999.000,9, -999.000,9
           NA,  ICESCA,     37,   2,-999.0,       8,  2,20100629,0000,  71.3795, -156.9545,    90,   25.200,    0.227,   32.139,2,   32.182,2,  408.800,2,  396.200,2,    2.730,2,    0.000,2,    0.010,2,    0.710,2, -999.000,9, -999.000,9, -999.000,    9.000, -999.000,9, -999.000,9
           NA,  ICESCA,     37,   2,-999.0,       6,  2,20100629,0000,  71.3795, -156.9545,    90,   30.100,    0.498,   32.255,2,   32.324,2,  410.100,2,  368.700,2,    3.410,2,    0.010,2,    0.010,2,    0.770,2, -999.000,9, -999.000,9, -999.000,    9.000, -999.000,9, -999.000,9
           NA,  ICESCA,     37,   2,-999.0,       4,  2,20100629,0000,  71.3795, -156.9545,    90,   50.400,   -0.513,   32.981,2,   32.983,2,  324.100,2,  323.700,2,    9.350,2,    3.820,2,    0.070,2,    1.150,2, -999.000,9, -999.000,9, -999.000,    9.000, -999.000,9, -999.000,9
           NA,  ICESCA,     37,   2,-999.0,       3,  2,20100629,0000,  71.3795, -156.9545,    90,   75.700,   -0.337,   33.000,2,   33.007,2,  329.800,2,  329.800,2,    5.850,2,    2.000,2,    0.060,2,    1.050,2, -999.000,9, -999.000,9, -999.000,    9.000, -999.000,9, -999.000,9
           NA,  ICESCA,     37,   2,-999.0,       1,  2,20100629,0000,  71.3795, -156.9545,    90,   85.900,   -0.280,   33.000,2,   33.000,2,  329.300,2,  329.300,2,    5.940,2,    2.210,2,    0.060,2,    1.070,2, -999.000,9, -999.000,9, -999.000,    9.000, -999.000,9, -999.000,9
           NA,  ICESCA,     38,   1,-999.0,       8,  2,20100629,0000,  70.7044, -168.9226,    28,    5.800,    0.845,   32.016,2,   32.085,2,  414.500,2,  473.700,2,   23.980,2,    0.000,2,    0.000,2,    0.770,2, -999.000,9, -999.000,9, -999.000,    9.000, -999.000,9, 2028.500,2
           NA,  ICESCA,     38,   1,-999.0,       6,  2,20100629,0000,  70.7044, -168.9226,    28,   11.800,   -0.709,   32.188,2,   32.266,2,  424.400,2,  478.400,2,   23.200,2,    0.050,2,    0.000,2,    0.930,2, -999.000,9, -999.000,9, -999.000,    9.000, -999.000,9, 2054.000,2
           NA,  ICESCA,     38,   1,-999.0,       4,  2,20100629,0000,  70.7044, -168.9226,    28,   13.900,   -1.253,   32.371,2,   32.473,2,  427.800,2,  427.400,2,   27.190,2,    1.330,2,    0.040,2,    1.250,2, -999.000,9, -999.000,9, -999.000,    9.000, -999.000,9, 2064.700,2
           NA,  ICESCA,     38,   1,-999.0,       1,  2,20100629,0000,  70.7044, -168.9226,    28,   28.600,   -1.696,   32.782,2,   32.780,2,  285.000,2,  328.100,2,   40.920,2,   12.510,2,    0.130,2,    1.730,2, -999.000,9, -999.000,9, -999.000,    9.000, -999.000,9, 2103.800,2
           NA,  ICESCA,     38,   2,-999.0,       7,  2,20100629,0000,  70.6983, -168.9231,    33,    4.000,   -0.082,   32.189,2,   32.330,2,  363.000,2,  473.600,2,   23.690,2,    0.200,2,    0.000,2,    0.850,2, -999.000,9, -999.000,9, -999.000,    9.000, -999.000,9, -999.000,9
           NA,  ICESCA,     38,   2,-999.0,       6,  2,20100629,0000,  70.6983, -168.9231,    33,    9.800,   -1.480,   32.522,2,   32.576,2,  368.200,2,  390.800,2,   31.770,2,    5.130,2,    0.100,2,    1.300,2, -999.000,9, -999.000,9, -999.000,    9.000, -999.000,9, -999.000,9
           NA,  ICESCA,     38,   2,-999.0,       4,  2,20100629,0000,  70.6983, -168.9231,    33,   14.900,   -1.558,   32.580,2,   32.681,2,  335.500,2,  356.400,2,   36.830,2,    9.580,2,    0.120,2,    1.520,2, -999.000,9, -999.000,9, -999.000,    9.000, -999.000,9, -999.000,9
           NA,  ICESCA,     38,   2,-999.0,       1,  2,20100629,0000,  70.6983, -168.9231,    33,   29.600,   -1.700,   32.794,2,   32.788,2,  285.900,2,  329.400,2,   40.730,2,   12.280,2,    0.120,2,    1.710,2, -999.000,9, -999.000,9, -999.000,    9.000, -999.000,9, -999.000,9
           NA,  ICESCA,     39,   1,-999.0,       4,  2,20100630,0000,  70.7041, -168.6005,    37,    4.000,    1.366,   31.722,2,   31.910,2,  475.500,2,  485.100,2,   21.060,2,    0.170,2,    0.000,2,    0.730,2, -999.000,9, -999.000,9, -999.000,    9.000, -999.000,1, 1989.300,2
           NA,  ICESCA,     39,   1,-999.0,       3,  2,20100630,0000,  70.7041, -168.6005,    37,    9.900,   -0.048,   32.081,2,   32.230,2,  476.300,2,  472.800,2,   23.780,2,    1.070,2,    0.010,2,    0.980,2, -999.000,9, -999.000,9, -999.000,    9.000, -999.000,1, 2032.600,2
           NA,  ICESCA,     39,   1,-999.0,       2,  2,20100630,0000,  70.7041, -168.6005,    37,   25.100,   -1.722,   32.866,2,   32.875,2,  328.500,2,  329.400,2,   40.530,2,   13.150,2,    0.110,2,    1.740,2, -999.000,9, -999.000,9, -999.000,    9.000, -999.000,1, 2115.100,2
           NA,  ICESCA,     39,   1,-999.0,       1,  2,20100630,0000,  70.7041, -168.6005,    37,   34.600,   -1.723,   32.889,2,   32.893,2,  329.800,2,  327.200,2,   40.820,2,   13.160,2,    0.110,2,    1.760,2, -999.000,9, -999.000,9, -999.000,    9.000, -999.000,1, 2124.300,2
           NA,  ICESCA,     40,   1,-999.0,       4,  2,20100630,0000,  70.6982, -168.2494,    45,    5.000,   -0.998,   31.924,2,   32.086,2,  431.900,2,  407.100,2,   25.350,2,    1.290,2,    0.040,2,    1.180,2, -999.000,9, -999.000,9, -999.000,    9.000, -999.000,1, 2011.400,2
           NA,  ICESCA,     40,   1,-999.0,       3,  2,20100630,0000,  70.6982, -168.2494,    45,    9.800,   -1.616,   32.601,2,   32.674,2,  355.500,2,  346.800,2,   36.050,2,    9.700,2,    0.130,2,    1.570,2, -999.000,9, -999.000,9, -999.000,    9.000, -999.000,1, 2087.800,2
           NA,  ICESCA,     40,   1,-999.0,       2,  2,20100630,0000,  70.6982, -168.2494,    45,   25.100,   -1.703,   32.950,2,   32.958,2,  311.500,2,  311.500,2,   43.840,2,   14.240,2,    0.150,2,    1.890,2, -999.000,9, -999.000,9, -999.000,    9.000, -999.000,1, 2127.500,2
           NA,  ICESCA,     40,   1,-999.0,       1,  2,20100630,0000,  70.6982, -168.2494,    45,   42.000,   -1.743,   33.188,2,   33.183,2,  322.300,2,  324.500,2,   37.500,2,   10.540,2,    0.160,2,    1.760,2, -999.000,9, -999.000,9, -999.000,    9.000, -999.000,1, 2165.700,2
           NA,  ICESCA,     41,   1,-999.0,       4,  2,20100630,0000,  70.7019, -167.8989,    48,    4.100,    2.444,   30.491,2,   30.516,2,  371.500,2,  383.200,2,    4.980,2,    0.180,2,    0.000,2,    0.460,2, -999.000,9, -999.000,9, -999.000,    9.000, -999.000,1, 1811.500,2
           NA,  ICESCA,     41,   1,-999.0,       3,  2,20100630,0000,  70.7019, -167.8989,    48,   10.000,    0.841,   31.220,2,   32.239,2,  401.000,2,  443.600,2,   20.960,2,    3.340,2,    0.060,2,    1.000,2, -999.000,9, -999.000,9, -999.000,    9.000, -999.000,1, 1963.000,2
           NA,  ICESCA,     41,   1,-999.0,       2,  2,20100630,0000,  70.7019, -167.8989,    48,   24.800,   -1.701,   32.935,2,   32.966,2,  317.200,2,  311.500,2,   42.080,2,   13.910,2,    0.160,2,    1.860,2, -999.000,9, -999.000,9, -999.000,    9.000, -999.000,1, 2124.200,2
           NA,  ICESCA,     41,   1,-999.0,       1,  2,20100630,0000,  70.7019, -167.8989,    48,   45.500,   -1.758,   33.251,2,   33.248,2,  348.800,2,  349.300,2,   32.040,2,    8.930,2,    0.170,2,    1.560,2, -999.000,9, -999.000,9, -999.000,    9.000, -999.000,1, 2178.300,2
           NA,  ICESCA,     42,   1,-999.0,       5,  2,20100630,0000,  70.7010, -167.5655,    53,    4.100,    3.025,   30.396,2,   30.560,2,  352.300,2,  372.800,2,    1.760,2,    0.010,2,    0.000,2,    0.420,2, -999.000,9, -999.000,9, -999.000,    9.000, -999.000,1, 1810.000,2
           NA,  ICESCA,     42,   1,-999.0,       4,  2,20100630,0000,  70.7010, -167.5655,    53,    9.700,    0.290,   31.703,2,   32.198,2,  491.500,2,  557.300,2,    8.680,2,    0.500,2,    0.020,2,    0.780,2, -999.000,9, -999.000,9, -999.000,    9.000, -999.000,1, 1980.100,2
           NA,  ICESCA,     42,   1,-999.0,       3,  2,20100630,0000,  70.7010, -167.5655,    53,   18.300,   -1.497,   32.511,2,   32.512,2,  455.700,2,  457.400,2,   18.420,2,    0.450,2,    0.050,2,    0.910,2, -999.000,9, -999.000,9, -999.000,    9.000, -999.000,1, 2074.100,2
           NA,  ICESCA,     42,   1,-999.0,       2,  2,20100630,0000,  70.7010, -167.5655,    53,   25.100,   -1.661,   32.768,2,   32.750,2,  331.600,2,  348.500,2,   33.130,2,   10.430,2,    0.180,2,    1.550,2, -999.000,9, -999.000,9, -999.000,    9.000, -999.000,1, 2098.700,2
           NA,  ICESCA,     42,   1,-999.0,       1,  2,20100630,0000,  70.7010, -167.5655,    53,   50.000,   -1.747,   33.105,2,   33.106,2,  337.100,2,  337.100,2,   34.190,2,   10.100,2,    0.190,2,    1.680,2, -999.000,9, -999.000,9, -999.000,    9.000, -999.000,1, 2151.200,2
           NA,  ICESCA,     43,   1,-999.0,       4,  2,20100630,0000,  70.7108, -167.2412,    54,    4.000,    2.160,   29.977,2,   30.182,2,  355.000,2,  372.900,2,    1.660,2,    0.050,2,    0.010,2,    0.440,2, -999.000,9, -999.000,9, -999.000,    9.000, -999.000,1, 1765.900,2
           NA,  ICESCA,     43,   1,-999.0,       3,  2,20100630,0000,  70.7108, -167.2412,    54,   10.200,    1.354,   30.998,2,   31.228,2,  363.800,2,  430.900,2,    7.020,2,    0.310,2,    0.010,2,    0.510,2, -999.000,9, -999.000,9, -999.000,    9.000, -999.000,1, 1890.500,2
           NA,  ICESCA,     43,   1,-999.0,       2,  2,20100630,0000,  70.7108, -167.2412,    54,   24.200,   -1.651,   32.687,2,   32.688,2,  326.800,2,  337.700,2,   31.960,2,   10.210,2,    0.160,2,    1.600,2, -999.000,9, -999.000,9, -999.000,    9.000, -999.000,1, 2093.400,2
           NA,  ICESCA,     43,   1,-999.0,       1,  2,20100630,0000,  70.7108, -167.2412,    54,   50.400,   -1.684,   32.889,2,   32.882,2,  328.500,2,  327.200,2,   37.220,2,   11.170,2,    0.190,2,    1.740,2, -999.000,9, -999.000,9, -999.000,    9.000, -999.000,1, 2127.900,2
           NA,  ICESCA,     44,   1,-999.0,       8,  2,20100630,0000,  70.7015, -166.8942,    49,    4.200,    2.456,   30.112,2,   30.291,2,  347.100,2,  368.000,2,    1.070,2,    0.010,2,    0.020,2,    0.410,2, -999.000,9, -999.000,9, -999.000,    9.000, -999.000,1, 1780.300,2
           NA,  ICESCA,     44,   1,-999.0,       7,  2,20100630,0000,  70.7015, -166.8942,    49,   10.400,    0.610,   31.296,2,   31.372,2,  372.500,2,  438.700,2,    5.370,2,    0.030,2,    0.020,2,    0.500,2, -999.000,9, -999.000,9, -999.000,    9.000, -999.000,1, 1920.100,2
           NA,  ICESCA,     44,   1,-999.0,       4,  2,20100630,0000,  70.7015, -166.8942,    49,   14.200,   -1.065,   32.153,2,   32.175,2,  501.100,2,  506.300,2,   10.330,2,    0.400,2,    0.020,2,    0.580,2, -999.000,9, -999.000,9, -999.000,    9.000, -999.000,1, 2027.500,2
           NA,  ICESCA,     44,   1,-999.0,       3,  2,20100630,0000,  70.7015, -166.8942,    49,   25.200,   -1.620,   32.484,2,   32.472,2,  366.500,2,  395.200,2,   18.710,2,    7.410,2,    0.130,2,    1.220,2, -999.000,9, -999.000,9, -999.000,    9.000, -999.000,1, 2063.200,2
           NA,  ICESCA,     44,   1,-999.0,       1,  2,20100630,0000,  70.7015, -166.8942,    49,   45.200,   -1.599,   32.692,2,   32.672,2,  328.500,2,  330.300,2,   24.360,2,    9.210,2,    0.170,2,    1.840,2, -999.000,9, -999.000,9, -999.000,    9.000, -999.000,1, 2090.900,2