BOTTLE,20220919JOAExport
EXPOCODE,SECT_ID,STNNBR,CASTNO,SAMPNO,BTLNBR,BTLNBR_FLAG_W,DATE,TIME,LATITUDE,LONGITUDE,DEPTH,CTDPRS,CTDTMP,CTDSAL,CTDSAL_FLAG_W,SALNTY,SALNTY_FLAG_W,CTDOXY,CTDOXY_FLAG_W,OXYGEN,OXYGEN_FLAG_W,SILCAT,SILCAT_FLAG_W,NITRAT,NITRAT_FLAG_W,NITRIT,NITRIT_FLAG_W,PHSPHT,PHSPHT_FLAG_W,CFC-11,CFC-11_FLAG_W,CFC-12,CFC-12_FLAG_W,SF6,SF6_FLAC_W,TCARBN,TCARBN_FLAG_W,ALKALI,ALKALI_FLAG_W
,,,,,,,,,,,,DB,ITS-90,PSS-78,,PSS-78,,UMOL/KG,,UMOL/KG,,UMOL/KG,,UMOL/KG,,UMOL/KG,,UMOL/KG,,NA,,NA,,NA,NA,UMOL/KG,,UMOL/KG
           NA,  ICESCA,    129,   2,-999.0,       8,  2,20100713,0000,  72.1893, -158.6643,    55,    3.600,   -1.503,   29.824,2, -999.000,9,  431.300,2,  433.100,2,    2.150,2,    0.020,2,    0.010,2,    0.680,2, -999.000,9, -999.000,9, -999.000,    9.000, -999.000,9, -999.000,9
           NA,  ICESCA,    129,   2,-999.0,       7,  2,20100713,0000,  72.1893, -158.6643,    55,    9.600,   -1.507,   29.939,2, -999.000,9,  432.600,2,  431.700,2,    1.950,2,    0.000,2,    0.010,2,    0.670,2, -999.000,9, -999.000,9, -999.000,    9.000, -999.000,9, -999.000,9
           NA,  ICESCA,    129,   2,-999.0,       6,  2,20100713,0000,  72.1893, -158.6643,    55,   25.100,   -1.460,   30.742,2, -999.000,9,  430.200,2,  397.000,2,    2.240,2,    0.120,2,    0.010,2,    0.800,2, -999.000,9, -999.000,9, -999.000,    9.000, -999.000,9, -999.000,9
           NA,  ICESCA,    129,   2,-999.0,       3,  2,20100713,0000,  72.1893, -158.6643,    55,   36.300,   -1.462,   31.161,2, -999.000,9,  380.800,2,  361.600,2,    5.660,2,    0.350,2,    0.020,2,    1.030,2, -999.000,9, -999.000,9, -999.000,    9.000, -999.000,9, -999.000,9
           NA,  ICESCA,    129,   2,-999.0,       1,  2,20100713,0000,  72.1893, -158.6643,    55,   49.500,   -1.531,   31.830,2, -999.000,9,  308.300,2,  307.400,2,   24.080,2,    6.920,2,    0.060,2,    1.410,2, -999.000,9, -999.000,9, -999.000,    9.000, -999.000,9, -999.000,9
           NA,  ICESCA,    130,   1,-999.0,       5,  2,20100714,0000,  72.1709, -159.1490,    51,    4.300,   -1.472,   29.835,2, -999.000,9,  432.200,2,  433.500,2,    1.560,2,    0.050,2,    0.000,2,    0.620,2, -999.000,9, -999.000,9, -999.000,    9.000, -999.000,1, 1787.800,2
           NA,  ICESCA,    130,   1,-999.0,       4,  2,20100714,0000,  72.1709, -159.1490,    51,    9.900,   -1.483,   29.871,2, -999.000,9,  431.800,2,  431.300,2,    1.660,2,    0.030,2,    0.000,2,    0.620,2, -999.000,9, -999.000,9, -999.000,    9.000, -999.000,1, 1799.400,2
           NA,  ICESCA,    130,   1,-999.0,       3,  2,20100714,0000,  72.1709, -159.1490,    51,   25.000,   -1.458,   30.834,2,   30.913,2,  398.300,2,  386.500,2,    4.290,2,    0.040,2,    0.000,2,    0.840,2, -999.000,9, -999.000,9, -999.000,    9.000, -999.000,1, 1920.000,2
           NA,  ICESCA,    130,   1,-999.0,       2,  2,20100714,0000,  72.1709, -159.1490,    51,   32.600,   -1.387,   31.083,2, -999.000,9,  383.400,2,  318.100,2,   21.270,2,    5.690,2,    0.060,2,    1.310,2, -999.000,9, -999.000,9, -999.000,    9.000, -999.000,1, 1960.300,2
           NA,  ICESCA,    130,   1,-999.0,       1,  2,20100714,0000,  72.1709, -159.1490,    51,   46.900,   -1.684,   32.626,2, -999.000,9,  289.800,2,  290.300,2,   30.890,2,    7.900,2,    0.080,2,    1.560,2, -999.000,9, -999.000,9, -999.000,    9.000, -999.000,1, 2076.100,2
           NA,  ICESCA,    131,   1,-999.0,       6,  2,20100714,0000,  72.1338, -159.6410,    47,    4.100,   -1.429,   29.735,2, -999.000,9,  440.500,2,  442.700,2,    0.980,2,    0.040,2,    0.000,2,    0.590,2, -999.000,9, -999.000,9, -999.000,    9.000, -999.000,1, 1775.300,2
           NA,  ICESCA,    131,   1,-999.0,       5,  2,20100714,0000,  72.1338, -159.6410,    47,    9.700,   -1.452,   29.753,2, -999.000,9,  440.500,2,  441.400,2,    0.980,2,    0.040,2,    0.000,2,    0.600,2, -999.000,9, -999.000,9, -999.000,    9.000, -999.000,1, 1780.900,2
           NA,  ICESCA,    131,   1,-999.0,       4,  2,20100714,0000,  72.1338, -159.6410,    47,   20.100,   -1.013,   30.830,2, -999.000,9,  421.000,2,  349.100,2,   10.340,2,    0.980,2,    0.020,2,    1.010,2, -999.000,9, -999.000,9, -999.000,    9.000, -999.000,1, 1933.200,2
           NA,  ICESCA,    131,   1,-999.0,       3,  2,20100714,0000,  72.1338, -159.6410,    47,   28.300,   -1.609,   31.807,2, -999.000,9,  325.700,2,  292.200,2,   26.720,2,    6.060,2,    0.060,2,    1.440,2, -999.000,9, -999.000,9, -999.000,    9.000, -999.000,1, 2010.600,2
           NA,  ICESCA,    131,   1,-999.0,       2,  2,20100714,0000,  72.1338, -159.6410,    47,   34.300,   -1.655,   31.995,2, -999.000,9,  290.400,2,  282.600,2,   34.710,2,    9.130,2,    0.060,2,    1.640,2, -999.000,9, -999.000,9, -999.000,    9.000, -999.000,1, 2041.400,2
           NA,  ICESCA,    131,   1,-999.0,       1,  2,20100714,0000,  72.1338, -159.6410,    47,   43.600,   -1.726,   32.839,2, -999.000,3,  305.000,2,  295.000,2,   32.830,2,   10.440,2,    0.120,2,    1.740,2, -999.000,9, -999.000,9, -999.000,    9.000, -999.000,1, 2131.700,2
           NA,  ICESCA,    132,   1,-999.0,       4,  2,20100714,0000,  72.1009, -162.1386,    29,    4.000,   -1.295,   29.294,2,   29.358,2,  432.800,2,  432.800,2,    1.560,2,    0.210,2,    0.010,2,    0.520,2, -999.000,9, -999.000,9, -999.000,    9.000, -999.000,1, 1726.100,2
           NA,  ICESCA,    132,   1,-999.0,       3,  2,20100714,0000,  72.1009, -162.1386,    29,   10.200,   -1.314,   29.280,2, -999.000,9,  432.800,2,  417.600,2,    3.320,2,    0.000,2,    0.000,2,    0.600,2, -999.000,9, -999.000,9, -999.000,    9.000, -999.000,1, 1765.200,2
           NA,  ICESCA,    132,   1,-999.0,       1,  2,20100714,0000,  72.1009, -162.1386,    29,   23.900,   -0.486,   31.931,2, -999.000,9,  386.200,2,  388.800,2,    8.090,2,    0.010,2,    0.010,2,    0.730,2, -999.000,9, -999.000,9, -999.000,    9.000, -999.000,1, 2026.100,2
           NA,  ICESCA,    133,   1,-999.0,       4,  2,20100714,0000,  72.2259, -162.3531,    36,    3.300,   -1.404,   30.053,2, -999.000,9,  424.700,2,  424.700,2,    4.780,2,    0.230,2,    0.010,2,    0.570,2, -999.000,9, -999.000,9, -999.000,    9.000, -999.000,1, 1783.800,2
           NA,  ICESCA,    133,   1,-999.0,       3,  2,20100714,0000,  72.2259, -162.3531,    36,    9.800,   -1.412,   30.127,2, -999.000,9,  424.700,2,  420.800,2,    5.860,2,    0.210,2,    0.010,2,    0.610,2, -999.000,9, -999.000,9, -999.000,    9.000, -999.000,1, 1811.500,2
           NA,  ICESCA,    133,   1,-999.0,       2,  2,20100714,0000,  72.2259, -162.3531,    36,   22.900,   -1.571,   33.047,2, -999.000,9,  396.800,2,  380.700,2,   20.360,2,    5.060,2,    0.080,2,    1.240,2, -999.000,9, -999.000,9, -999.000,    9.000, -999.000,1, 2151.700,2
           NA,  ICESCA,    133,   1,-999.0,       1,  2,20100714,0000,  72.2259, -162.3531,    36,   32.100,   -1.610,   33.424,2,   33.326,2,  311.400,2,  311.800,2,   20.350,2,    9.140,2,    0.130,2,    1.630,2, -999.000,9, -999.000,9, -999.000,    9.000, -999.000,1, 2199.300,2
           NA,  ICESCA,    134,   1,-999.0,       4,  2,20100714,0000,  72.3513, -162.4551,    40,    4.000,   -1.005,   30.288,2, -999.000,9,  445.100,2,  432.500,2,    6.640,2,    0.000,2,    0.010,2,    0.590,2, -999.000,9, -999.000,9, -999.000,    9.000, -999.000,1, 1812.900,2
           NA,  ICESCA,    134,   1,-999.0,       3,  2,20100714,0000,  72.3513, -162.4551,    40,   10.200,    1.832,   32.595,2,   32.538,2,  447.900,2,  439.200,2,    7.700,2,    0.000,2,    0.000,2,    0.620,2, -999.000,9, -999.000,9, -999.000,    9.000, -999.000,1, 2088.900,2
           NA,  ICESCA,    134,   1,-999.0,       2,  2,20100714,0000,  72.3513, -162.4551,    40,   25.900,   -0.746,   32.750,2, -999.000,9,  417.700,2,  407.300,2,    6.530,2,    0.340,2,    0.020,2,    0.830,2, -999.000,9, -999.000,9, -999.000,    9.000, -999.000,1, 2111.400,2
           NA,  ICESCA,    134,   1,-999.0,       1,  2,20100714,0000,  72.3513, -162.4551,    40,   35.500,   -1.672,   33.422,2, -999.000,9,  303.600,2,  302.700,2,    6.820,2,    9.890,2,    0.120,2,    1.540,2, -999.000,9, -999.000,9, -999.000,    9.000, -999.000,1, 2182.900,2
           NA,  ICESCA,    135,   1,-999.0,       4,  2,20100714,0000,  72.4786, -162.5984,    42,    3.200,   -1.174,   30.323,2, -999.000,9,  454.300,2,  455.200,2,    7.030,2,    0.000,2,    0.010,2,    0.600,2, -999.000,9, -999.000,9, -999.000,    9.000, -999.000,1, 1218.500,2
           NA,  ICESCA,    135,   1,-999.0,       3,  2,20100714,0000,  72.4786, -162.5984,    42,    9.400,   -0.858,   30.829,2, -999.000,9,  451.500,2,  464.100,2,    7.320,2,    0.120,2,    0.010,2,    0.590,2, -999.000,9, -999.000,9, -999.000,    9.000, -999.000,1, 1867.700,2
           NA,  ICESCA,    135,   1,-999.0,       2,  2,20100714,0000,  72.4786, -162.5984,    42,   24.500,   -1.587,   32.717,2, -999.000,9,  339.400,2,  333.300,2,    0.780,2,    2.000,2,    0.070,2,    0.950,2, -999.000,9, -999.000,9, -999.000,    9.000, -999.000,1, 2099.500,2
           NA,  ICESCA,    135,   1,-999.0,       1,  2,20100714,0000,  72.4786, -162.5984,    42,   36.800,   -1.730,   33.570,2,   33.414,2,  303.100,2,  298.800,2,   10.230,2,    8.340,2,    0.150,2,    1.510,2, -999.000,9, -999.000,9, -999.000,    9.000, -999.000,1, 2219.000,2
           NA,  ICESCA,    136,   1,-999.0,       8,  2,20100714,0000,  72.6248, -162.6559,    41,    1.600,   -1.335,   29.015,2, -999.000,9,  430.800,2,  441.700,2,    3.420,2,    0.060,2,    0.010,2,    0.510,2, -999.000,9, -999.000,9, -999.000,    9.000, -999.000,9, 1699.500,2
           NA,  ICESCA,    136,   1,-999.0,       7,  2,20100714,0000,  72.6248, -162.6559,    41,    9.600,   -1.363,   30.484,2, -999.000,9,  441.600,2,  434.200,2,    5.470,2,    0.540,2,    0.030,2,    0.660,2, -999.000,9, -999.000,9, -999.000,    9.000, -999.000,9, 1893.500,2
           NA,  ICESCA,    136,   1,-999.0,       5,  2,20100714,0000,  72.6248, -162.6559,    41,   18.600,   -1.207,   32.648,2, -999.000,9,  388.600,2,  379.900,2,    4.090,2,    0.980,2,    0.060,2,    0.860,2, -999.000,9, -999.000,9, -999.000,    9.000, -999.000,9, 2084.300,2
           NA,  ICESCA,    136,   1,-999.0,       3,  2,20100714,0000,  72.6248, -162.6559,    41,   24.600,   -1.582,   32.952,2,   32.971,2,  358.100,2,  339.800,2,   29.520,2,   11.890,2,    0.130,2,    1.600,2, -999.000,9, -999.000,9, -999.000,    9.000, -999.000,9, 2138.500,2
           NA,  ICESCA,    136,   1,-999.0,       1,  2,20100714,0000,  72.6248, -162.6559,    41,   35.200,   -1.738,   33.344,2, -999.000,9,  327.100,2,  319.200,2,   30.680,2,   11.690,2,    0.130,2,    1.710,2, -999.000,9, -999.000,9, -999.000,    9.000, -999.000,9, 2179.800,2
           NA,  ICESCA,    136,   2,-999.0,       8,  2,20100715,0000,  72.6111, -162.5846,    41,    4.000,   -1.427,   30.108,2, -999.000,9,  437.800,2,  437.800,2,    4.300,2,    0.310,2,    0.010,2,    0.560,2, -999.000,9, -999.000,9, -999.000,    9.000, -999.000,9, -999.000,9
           NA,  ICESCA,    136,   2,-999.0,       7,  2,20100715,0000,  72.6111, -162.5846,    41,   10.100,   -1.376,   30.412,2, -999.000,9,  438.600,2,  425.000,2,    6.930,2,    1.250,2,    0.030,2,    0.690,2, -999.000,9, -999.000,9, -999.000,    9.000, -999.000,9, -999.000,9
           NA,  ICESCA,    136,   2,-999.0,       4,  2,20100715,0000,  72.6111, -162.5846,    41,   17.000,   -0.971,   32.547,2, -999.000,9,  439.600,2,  379.900,2,   10.130,2,    3.630,2,    0.080,2,    1.010,2, -999.000,9, -999.000,9, -999.000,    9.000, -999.000,9, -999.000,9
           NA,  ICESCA,    136,   2,-999.0,       3,  2,20100715,0000,  72.6111, -162.5846,    41,   24.800,   -1.631,   32.980,2, -999.000,9,  341.500,2,  333.700,2,   29.030,2,   12.420,2,    0.120,2,    1.640,2, -999.000,9, -999.000,9, -999.000,    9.000, -999.000,9, -999.000,9
           NA,  ICESCA,    136,   2,-999.0,       1,  2,20100715,0000,  72.6111, -162.5846,    41,   39.100,   -1.741,   33.453,2, -999.000,9,  311.800,2,  309.600,2,   27.750,2,   10.500,2,    0.130,2,    1.700,2, -999.000,9, -999.000,9, -999.000,    9.000, -999.000,9, -999.000,9
           NA,  ICESCA,    137,   1,-999.0,       6,  2,20100715,0000,  72.7354, -162.9503,    57,    4.100,   -1.403,   29.773,2, -999.000,9,  453.200,2,  452.300,2,    2.540,2,    0.010,2,    0.010,2,    0.480,2, -999.000,9, -999.000,9, -999.000,    9.000, -999.000,9, 1774.900,2
           NA,  ICESCA,    137,   1,-999.0,       5,  2,20100715,0000,  72.7354, -162.9503,    57,   10.200,   -1.354,   30.762,2, -999.000,9,  451.100,2,  442.400,2,    3.710,2,    0.000,2,    0.010,2,    0.520,2, -999.000,9, -999.000,9, -999.000,    9.000, -999.000,9, 1882.600,2
           NA,  ICESCA,    137,   1,-999.0,       4,  2,20100715,0000,  72.7354, -162.9503,    57,   20.400,   -1.225,   32.162,2, -999.000,9,  434.500,2,  387.900,2,   12.380,2,    2.780,2,    0.040,2,    0.980,2, -999.000,9, -999.000,9, -999.000,    9.000, -999.000,9, 2069.300,2
           NA,  ICESCA,    137,   1,-999.0,       3,  2,20100715,0000,  72.7354, -162.9503,    57,   29.700,   -1.738,   32.704,2, -999.000,9,  335.500,2,  335.900,2,   22.310,2,    8.250,2,    0.080,2,    1.470,2, -999.000,9, -999.000,9, -999.000,    9.000, -999.000,9, 2118.300,2
           NA,  ICESCA,    137,   1,-999.0,       2,  2,20100715,0000,  72.7354, -162.9503,    57,   40.500,   -1.718,   33.023,2, -999.000,9,  327.200,2,  314.100,2,   28.050,2,   11.200,2,    0.120,2,    1.740,2, -999.000,9, -999.000,9, -999.000,    9.000, -999.000,9, 2155.300,2
           NA,  ICESCA,    137,   1,-999.0,       1,  2,20100715,0000,  72.7354, -162.9503,    57,   52.500,   -1.734,   33.237,2,   33.237,2,  290.100,2,  302.300,2,   30.970,2,   11.730,2,    0.160,2,    1.950,2, -999.000,9, -999.000,9, -999.000,    9.000, -999.000,9, 2181.600,2
           NA,  ICESCA,    138,   1,-999.0,       8,  2,20100715,0000,  72.8563, -163.1412,    73,    4.200,   -1.424,   29.353,2, -999.000,9,  456.400,2,  455.900,2,    1.950,2,    0.010,2,    0.000,2,    0.490,2, -999.000,9, -999.000,9, -999.000,    9.000, -999.000,9, 1722.700,2
           NA,  ICESCA,    138,   1,-999.0,       7,  2,20100715,0000,  72.8563, -163.1412,    73,    9.700,   -1.414,   29.902,2, -999.000,9,  454.900,2,  457.500,2,    2.150,2,    0.000,2,    0.000,2,    0.480,2, -999.000,9, -999.000,9, -999.000,    9.000, -999.000,9, 1765.100,2
           NA,  ICESCA,    138,   1,-999.0,       6,  2,20100715,0000,  72.8563, -163.1412,    73,   25.500,   -1.513,   31.279,2, -999.000,9,  450.500,2,  445.700,2,    4.390,2,    0.000,2,    0.000,2,    0.590,2, -999.000,9, -999.000,9, -999.000,    9.000, -999.000,9, 1948.700,2
           NA,  ICESCA,    138,   1,-999.0,       4,  2,20100715,0000,  72.8563, -163.1412,    73,   37.900,   -1.498,   32.394,2, -999.000,9,  403.500,2,  409.600,2,    8.870,2,    0.130,2,    0.010,2,    0.760,2, -999.000,9, -999.000,9, -999.000,    9.000, -999.000,9, 2072.100,2
           NA,  ICESCA,    138,   1,-999.0,       3,  2,20100715,0000,  72.8563, -163.1412,    73,   50.900,   -1.696,   33.025,2, -999.000,9, -999.000,9, -999.000,5,   23.960,2,    8.800,2,    0.110,2,    1.660,2, -999.000,9, -999.000,9, -999.000,    9.000, -999.000,9, 2157.200,2
           NA,  ICESCA,    138,   1,-999.0,       1,  2,20100715,0000,  72.8563, -163.1412,    73,   69.900,   -1.737,   33.292,2,   33.297,2, -999.000,9, -999.000,5,   34.090,2,   11.950,2,    0.200,2,    2.160,2, -999.000,9, -999.000,9, -999.000,    9.000, -999.000,9, 2189.800,2
           NA,  ICESCA,    139,   1,-999.0,       8,  2,20100715,0000,  71.3967, -165.3390,    41,    4.200,    2.162,   31.409,2,   31.419,2,  364.200,2,  366.000,2,    8.390,2,    0.000,2,    0.000,2,    0.540,2, -999.000,9, -999.000,9, -999.000,    9.000, -999.000,1, -999.000,5
           NA,  ICESCA,    139,   1,-999.0,       6,  2,20100715,0000,  71.3967, -165.3390,    41,    9.600,    2.184,   31.506,2, -999.000,9,  370.300,2,  374.200,2,    8.290,2,    0.020,2,    0.000,2,    0.520,2, -999.000,9, -999.000,9, -999.000,    9.000, -999.000,1, -999.000,5
           NA,  ICESCA,    139,   1,-999.0,       3,  2,20100715,0000,  71.3967, -165.3390,    41,   26.300,   -1.493,   32.883,2, -999.000,9,  394.600,2,  379.000,2,    1.850,2,    0.550,2,    0.030,2,    0.830,2, -999.000,9, -999.000,9, -999.000,    9.000, -999.000,1, -999.000,5
           NA,  ICESCA,    139,   1,-999.0,       1,  2,20100715,0000,  71.3967, -165.3390,    41,   36.500,   -1.716,   33.463,2,   33.452,2,  307.500,2,  307.900,2,    7.600,2,    7.330,2,    0.170,2,    1.240,2, -999.000,9, -999.000,9, -999.000,    9.000, -999.000,1, -999.000,5
           NA,  ICESCA,    139,   2,-999.0,      10,  2,20100715,0000,  71.3879, -165.2827,    41,    3.900,    1.878,   31.100,2, -999.000,9,  358.600,2,  358.600,2,    8.200,2,    0.050,2,    0.000,2,    0.560,2, -999.000,9, -999.000,9, -999.000,    9.000, -999.000,9, -999.000,9
           NA,  ICESCA,    139,   2,-999.0,       9,  2,20100715,0000,  71.3879, -165.2827,    41,    9.600,    1.877,   31.108,2, -999.000,9,  358.600,2,  359.500,2,    8.200,2,    0.000,2,    0.000,2,    0.560,2, -999.000,9, -999.000,9, -999.000,    9.000, -999.000,9, -999.000,9
           NA,  ICESCA,    139,   2,-999.0,       5,  2,20100715,0000,  71.3879, -165.2827,    41,   22.500,   -1.248,   32.777,2, -999.000,9,  401.600,2,  405.100,2,    1.270,2,    0.330,2,    0.030,2,    0.750,2, -999.000,9, -999.000,9, -999.000,    9.000, -999.000,9, -999.000,9
           NA,  ICESCA,    139,   2,-999.0,       3,  2,20100715,0000,  71.3879, -165.2827,    41,   25.200,   -1.706,   33.023,2, -999.000,9,  345.900,2,  318.900,2,    4.290,2,    7.760,2,    0.190,2,    1.200,2, -999.000,9, -999.000,9, -999.000,    9.000, -999.000,9, -999.000,9
           NA,  ICESCA,    139,   2,-999.0,       1,  2,20100715,0000,  71.3879, -165.2827,    41,   35.800,   -1.722,   33.483,2,   33.478,2,  311.800,2,  309.600,2,    7.790,2,    7.310,2,    0.170,2,    1.240,2, -999.000,9, -999.000,9, -999.000,    9.000, -999.000,9, -999.000,9
           NA,  ICESCA,    140,   1,-999.0,       7,  2,20100716,0000,  67.6734, -168.9653,    51,    4.200,    5.016,   31.852,2,   31.855,2,  335.000,2,  335.900,2,    0.980,2,    0.000,2,    0.000,2,    0.470,2, -999.000,9, -999.000,9, -999.000,    9.000, -999.000,9, -999.000,9
           NA,  ICESCA,    140,   1,-999.0,       5,  2,20100716,0000,  67.6734, -168.9653,    51,   10.300,    5.016,   31.853,2, -999.000,9,  334.600,2,  335.000,2,    1.070,2,    0.010,2,    0.000,2,    0.470,2, -999.000,9, -999.000,9, -999.000,    9.000, -999.000,9, -999.000,9
           NA,  ICESCA,    140,   1,-999.0,       3,  2,20100716,0000,  67.6734, -168.9653,    51,   27.100,    3.070,   31.974,2, -999.000,9,  359.300,2,  360.200,2,    1.850,2,    0.070,2,    0.000,2,    0.560,2, -999.000,9, -999.000,9, -999.000,    9.000, -999.000,9, -999.000,9
           NA,  ICESCA,    140,   1,-999.0,       1,  2,20100716,0000,  67.6734, -168.9653,    51,   45.600,    0.664,   32.132,2,   32.136,2,  304.800,2,  299.100,2,    7.600,2,    1.780,2,    0.170,2,    1.430,2, -999.000,9, -999.000,9, -999.000,    9.000, -999.000,9, -999.000,9