BOTTLE,20220919JOAExport
EXPOCODE,SECT_ID,STNNBR,CASTNO,SAMPNO,BTLNBR,BTLNBR_FLAG_W,DATE,TIME,LATITUDE,LONGITUDE,DEPTH,CTDPRS,CTDTMP,CTDSAL,CTDSAL_FLAG_W,SALNTY,SALNTY_FLAG_W,CTDOXY,CTDOXY_FLAG_W,OXYGEN,OXYGEN_FLAG_W,SILCAT,SILCAT_FLAG_W,NITRAT,NITRAT_FLAG_W,NITRIT,NITRIT_FLAG_W,PHSPHT,PHSPHT_FLAG_W,CFC-11,CFC-11_FLAG_W,CFC-12,CFC-12_FLAG_W,SF6,SF6_FLAC_W,TCARBN,TCARBN_FLAG_W,ALKALI,ALKALI_FLAG_W
,,,,,,,,,,,,DB,ITS-90,PSS-78,,PSS-78,,UMOL/KG,,UMOL/KG,,UMOL/KG,,UMOL/KG,,UMOL/KG,,UMOL/KG,,NA,,NA,,NA,NA,UMOL/KG,,UMOL/KG
           NA,  ICESCA,     62,   1,-999.0,       4,  2,20100701,0000,  70.9892, -161.7663,    45,    4.300,    5.669,   32.347,2,   32.351,2,  321.000,2,  317.900,2,    0.880,2,    0.010,2,    0.010,2,    0.510,2, -999.000,9, -999.000,9, -999.000,    9.000, -999.000,1, 2077.800,2
           NA,  ICESCA,     62,   1,-999.0,       3,  2,20100701,0000,  70.9892, -161.7663,    45,   10.300,    5.661,   32.350,2, -999.000,9,  319.700,2,  318.300,2,    0.980,2,    0.030,2,    0.010,2,    0.520,2, -999.000,9, -999.000,9, -999.000,    9.000, -999.000,1, 2077.000,2
           NA,  ICESCA,     62,   1,-999.0,       2,  2,20100701,0000,  70.9892, -161.7663,    45,   25.400,    1.505,   33.041,2, -999.000,9,  425.100,2,  429.400,2,    3.020,2,    0.010,2,    0.010,2,    0.510,2, -999.000,9, -999.000,9, -999.000,    9.000, -999.000,1, 2155.500,2
           NA,  ICESCA,     62,   1,-999.0,       1,  2,20100701,0000,  70.9892, -161.7663,    45,   41.500,   -0.978,   33.435,2,   33.428,2,  285.300,2,  288.300,2,    2.340,2,    3.700,2,    0.110,2,    1.210,2, -999.000,9, -999.000,9, -999.000,    9.000, -999.000,1, 2224.000,2
           NA,  ICESCA,     63,   1,-999.0,       4,  2,20100701,0000,  71.0807, -161.7869,    45,    3.800,    5.289,   32.435,2,   33.647,2,  334.100,2,  332.800,2,    1.270,2,    0.010,2,    0.010,2,    0.480,2, -999.000,9, -999.000,9, -999.000,    9.000, -999.000,1, 2086.600,2
           NA,  ICESCA,     63,   1,-999.0,       3,  2,20100701,0000,  71.0807, -161.7869,    45,    9.800,    5.298,   32.434,2, -999.000,9,  333.100,2,  332.700,2,    1.270,2,    0.010,2,    0.010,2,    0.490,2, -999.000,9, -999.000,9, -999.000,    9.000, -999.000,1, 2085.900,2
           NA,  ICESCA,     63,   1,-999.0,       2,  2,20100701,0000,  71.0807, -161.7869,    45,   25.000,    2.533,   32.987,2, -999.000,9,  404.300,2,  406.900,2,    2.730,2,    0.010,2,    0.010,2,    0.510,2, -999.000,9, -999.000,9, -999.000,    9.000, -999.000,1, 2147.600,2
           NA,  ICESCA,     63,   1,-999.0,       1,  2,20100701,0000,  71.0807, -161.7869,    45,   40.600,   -1.215,   33.417,2,   33.415,2,  269.600,2,  272.300,2,    1.270,2,    5.420,2,    0.130,2,    1.230,2, -999.000,9, -999.000,9, -999.000,    9.000, -999.000,1, 2218.200,2
           NA,  ICESCA,     64,   1,-999.0,       7,  2,20100701,0000,  71.1733, -161.8015,    49,    4.100,    4.364,   32.617,2,   33.742,2,  342.300,2,  343.600,2,    1.560,2,    0.010,2,    0.000,2,    0.480,2, -999.000,9, -999.000,9, -999.000,    9.000, -999.000,1, 2109.200,2
           NA,  ICESCA,     64,   1,-999.0,       6,  2,20100701,0000,  71.1733, -161.8015,    49,   10.100,    4.360,   32.617,2, -999.000,9,  343.100,2,  345.200,2,    1.660,2,    0.000,2,    0.000,2,    0.480,2, -999.000,9, -999.000,9, -999.000,    9.000, -999.000,1, 2110.300,2
           NA,  ICESCA,     64,   1,-999.0,       5,  2,20100701,0000,  71.1733, -161.8015,    49,   25.200,    2.071,   33.195,2, -999.000,9,  377.200,2,  377.200,2,    1.850,2,    0.080,2,    0.010,2,    0.570,2, -999.000,9, -999.000,9, -999.000,    9.000, -999.000,1, 2187.200,2
           NA,  ICESCA,     64,   1,-999.0,       3,  2,20100701,0000,  71.1733, -161.8015,    49,   36.700,   -1.647,   33.483,2, -999.000,9,  327.500,2,  319.600,2,    0.680,2,    4.320,2,    0.130,2,    1.290,2, -999.000,9, -999.000,9, -999.000,    9.000, -999.000,1, 2222.600,2
           NA,  ICESCA,     64,   1,-999.0,       1,  2,20100701,0000,  71.1733, -161.8015,    49,   41.700,   -1.279,   33.649,2,   32.618,2,  312.900,2,  310.300,2,    1.950,2,    3.220,2,    0.090,2,    1.180,2, -999.000,9, -999.000,9, -999.000,    9.000, -999.000,1, 2251.900,2
           NA,  ICESCA,     65,   1,-999.0,       7,  2,20100701,0000,  71.2566, -161.8398,    48,    3.700,    2.990,   32.874,2, -999.000,9,  371.200,2,  371.200,2,    2.050,2,    0.010,2,    0.010,2,    0.490,2, -999.000,9, -999.000,9, -999.000,    9.000, -999.000,1, 2144.600,2
           NA,  ICESCA,     65,   1,-999.0,       8,  2,20100701,0000,  71.2566, -161.8398,    48,    3.800,    2.989,   32.875,2, -999.000,9,  371.200,2,  370.800,2,    2.050,2,    0.010,2,    0.010,2,    0.490,2, -999.000,9, -999.000,9, -999.000,    9.000, -999.000,1, -999.000,9
           NA,  ICESCA,     65,   1,-999.0,       6,  2,20100701,0000,  71.2566, -161.8398,    48,    9.500,    2.967,   32.875,2, -999.000,9,  370.800,2,  372.500,2,    2.050,2,    0.020,2,    0.010,2,    0.500,2, -999.000,9, -999.000,9, -999.000,    9.000, -999.000,1, 2144.400,2
           NA,  ICESCA,     65,   1,-999.0,       5,  2,20100701,0000,  71.2566, -161.8398,    48,   25.000,    2.984,   32.875,2, -999.000,9,  369.900,2,  373.000,2,    2.140,2,    0.030,2,    0.010,2,    0.500,2, -999.000,9, -999.000,9, -999.000,    9.000, -999.000,1, 2145.100,2
           NA,  ICESCA,     65,   1,-999.0,       3,  2,20100701,0000,  71.2566, -161.8398,    48,   36.400,   -0.759,   33.136,2, -999.000,9, -999.000,9, -999.000,5,    4.970,2,    0.100,2,    0.010,2,    0.850,2, -999.000,9, -999.000,9, -999.000,    9.000, -999.000,1, 2175.500,2
           NA,  ICESCA,     65,   1,-999.0,       1,  2,20100701,0000,  71.2566, -161.8398,    48,   42.700,   -1.750,   33.747,2, -999.000,3,  313.000,2,  305.200,2,   23.370,2,    9.100,2,    0.130,2,    1.700,2, -999.000,9, -999.000,9, -999.000,    9.000, -999.000,1, 2162.600,2
           NA,  ICESCA,     66,   1,-999.0,       6,  2,20100702,0000,  71.8335, -160.5317,    39,    4.000,    2.717,   31.383,2,   31.397,2,  370.800,2,  372.100,2,    0.290,2,    0.010,2,    0.000,2,    0.530,2, -999.000,9, -999.000,9, -999.000,    9.000, -999.000,1, 1970.300,2
           NA,  ICESCA,     66,   1,-999.0,       5,  2,20100702,0000,  71.8335, -160.5317,    39,   10.100,    2.724,   31.422,2, -999.000,9,  371.200,2,  371.600,2,    0.390,2,    0.010,2,    0.000,2,    0.510,2, -999.000,9, -999.000,9, -999.000,    9.000, -999.000,1, 1972.200,2
           NA,  ICESCA,     66,   1,-999.0,       4,  2,20100702,0000,  71.8335, -160.5317,    39,   25.200,    0.893,   31.750,2, -999.000,9,  406.300,2,  399.400,2,    2.730,2,    0.040,2,    0.010,2,    0.600,2, -999.000,9, -999.000,9, -999.000,    9.000, -999.000,1, 2012.400,2
           NA,  ICESCA,     66,   1,-999.0,       1,  2,20100702,0000,  71.8335, -160.5317,    39,   37.000,   -1.284,   32.468,2,   32.371,2,  315.600,2,  322.500,2,   12.570,2,    3.000,2,    0.080,2,    1.230,2, -999.000,9, -999.000,9, -999.000,    9.000, -999.000,1, 2090.200,2
           NA,  ICESCA,     66,   2,-999.0,       7,  2,20100702,0000,  71.8333, -160.5848,    42,    4.200,    2.854,   31.464,2, -999.000,9,  371.600,2,  369.500,2,    0.390,2,    0.000,2,    0.000,2,    0.510,2, -999.000,9, -999.000,9, -999.000,    9.000, -999.000,9, -999.000,9
           NA,  ICESCA,     66,   2,-999.0,       6,  2,20100702,0000,  71.8333, -160.5848,    42,   10.200,    2.848,   31.462,2, -999.000,9,  371.600,2,  372.500,2,    0.590,2,    0.010,2,    0.000,2,    0.510,2, -999.000,9, -999.000,9, -999.000,    9.000, -999.000,9, -999.000,9
           NA,  ICESCA,     66,   2,-999.0,       4,  2,20100702,0000,  71.8333, -160.5848,    42,   24.900,    1.433,   31.766,2, -999.000,9,  406.300,2,  392.800,2,    2.830,2,    0.310,2,    0.010,2,    0.630,2, -999.000,9, -999.000,9, -999.000,    9.000, -999.000,9, -999.000,9
           NA,  ICESCA,     66,   2,-999.0,       1,  2,20100702,0000,  71.8333, -160.5848,    42,   39.100,   -1.421,   32.458,2, -999.000,9,  306.000,2,  308.100,2,   18.130,2,    6.140,2,    0.130,2,    1.430,2, -999.000,9, -999.000,9, -999.000,    9.000, -999.000,9, -999.000,9
           NA,  ICESCA,     67,   1,-999.0,       6,  2,20100703,0000,  71.6913, -159.1710,    53,    4.000,    0.202,   29.978,2,   30.295,2,  420.700,2,  413.300,2,    0.390,2,    0.000,2,    0.000,2,    0.520,2, -999.000,9, -999.000,9, -999.000,    9.000, -999.000,1, 1820.600,2
           NA,  ICESCA,     67,   1,-999.0,       5,  2,20100703,0000,  71.6913, -159.1710,    53,    9.900,    0.343,   30.652,2,   30.885,2,  417.100,2,  418.800,2,    0.680,2,    0.000,2,    0.000,2,    0.520,2, -999.000,9, -999.000,9, -999.000,    9.000, -999.000,1, 1900.300,2
           NA,  ICESCA,     67,   1,-999.0,       4,  2,20100703,0000,  71.6913, -159.1710,    53,   25.300,   -0.158,   31.552,2,   31.545,2,  387.700,2,  373.700,2,    3.120,2,    0.000,2,    0.000,2,    0.700,2, -999.000,9, -999.000,9, -999.000,    9.000, -999.000,1, 1989.400,2
           NA,  ICESCA,     67,   1,-999.0,       2,  2,20100703,0000,  71.6913, -159.1710,    53,   40.500,   -1.708,   32.388,2,   32.395,2,  304.700,2,  298.600,2, -999.000,5, -999.000,5, -999.000,5, -999.000,5, -999.000,9, -999.000,9, -999.000,    9.000, -999.000,1, 2073.700,2
           NA,  ICESCA,     67,   1,-999.0,       1,  2,20100703,0000,  71.6913, -159.1710,    53,   50.300,   -1.729,   33.083,2,   32.788,2,  274.100,2,  274.100,2,   35.950,2,   10.930,2,    0.130,2,    1.910,2, -999.000,9, -999.000,9, -999.000,    9.000, -999.000,1, 2144.000,2
           NA,  ICESCA,     67,   2,-999.0,       8,  2,20100703,0000,  71.6913, -159.2096,    53,   10.000,    0.830,   30.837,2, -999.000,9,  426.200,2,  413.200,2,    0.980,2,    0.010,2,    0.000,2,    0.540,2, -999.000,9, -999.000,9, -999.000,    9.000, -999.000,9, -999.000,9
           NA,  ICESCA,     67,   2,-999.0,       6,  2,20100703,0000,  71.6913, -159.2096,    53,   25.400,    0.210,   31.831,2, -999.000,9,  359.700,2,  349.700,2,    4.390,2,    0.270,2,    0.020,2,    0.870,2, -999.000,9, -999.000,9, -999.000,    9.000, -999.000,9, -999.000,9
           NA,  ICESCA,     67,   2,-999.0,       3,  2,20100703,0000,  71.6913, -159.2096,    53,   37.500,   -1.693,   32.309,2, -999.000,9,  298.200,2,  288.600,2,   32.850,2,   10.840,2,    0.140,2,    1.730,2, -999.000,9, -999.000,9, -999.000,    9.000, -999.000,9, -999.000,9
           NA,  ICESCA,     67,   2,-999.0,       1,  2,20100703,0000,  71.6913, -159.2096,    53,   49.500,   -1.733,   33.094,2, -999.000,9,  274.900,2,  270.600,2,   37.600,2,   11.500,2,    0.170,2,    1.940,2, -999.000,9, -999.000,9, -999.000,    9.000, -999.000,9, -999.000,9
           NA,  ICESCA,     69,   1,-999.0,       8,  2,20100704,0000,  71.6505, -157.7673,    63,    3.900,   -0.286,   30.329,2,   30.684,2,  400.600,2,  409.300,2,    2.640,2,    0.050,2,    0.010,2,    0.720,2, -999.000,9, -999.000,9, -999.000,    9.000, -999.000,1, 1926.500,2
           NA,  ICESCA,     69,   1,-999.0,       5,  2,20100704,0000,  71.6505, -157.7673,    63,   11.800,   -1.362,   31.114,2,   31.214,2,  392.500,2,  388.200,2,    7.610,2,    0.180,2,    0.020,2,    0.910,2, -999.000,9, -999.000,9, -999.000,    9.000, -999.000,1, 1946.600,2
           NA,  ICESCA,     69,   1,-999.0,       4,  2,20100704,0000,  71.6505, -157.7673,    63,   25.000,   -0.558,   31.871,2,   31.906,2,  380.600,2,  376.200,2,    6.140,2,    0.540,2,    0.030,2,    0.950,2, -999.000,9, -999.000,9, -999.000,    9.000, -999.000,1, 2025.300,2
           NA,  ICESCA,     69,   1,-999.0,       3,  2,20100704,0000,  71.6505, -157.7673,    63,   40.400,   -0.616,   32.119,2,   32.259,2,  369.600,2,  336.100,2,   14.040,2,    4.190,2,    0.060,2,    1.310,2, -999.000,9, -999.000,9, -999.000,    9.000, -999.000,1, 2036.400,2
           NA,  ICESCA,     69,   1,-999.0,       1,  2,20100704,0000,  71.6505, -157.7673,    63,   58.500,   -0.965,   32.334,2,   32.341,2,  323.400,2,  322.500,2,   15.300,2,    5.050,2,    0.070,2,    1.390,2, -999.000,9, -999.000,9, -999.000,    9.000, -999.000,1, 2065.100,2
           NA,  ICESCA,     69,   2,-999.0,       7,  2,20100705,0000,  71.6503, -157.7659,    63,    4.000,   -0.429,   30.593,2, -999.000,9,  402.300,2,  413.700,2,    2.240,2,    0.000,2,    0.010,2,    0.670,2, -999.000,9, -999.000,9, -999.000,    9.000, -999.000,1, -999.000,9
           NA,  ICESCA,     69,   2,-999.0,       5,  2,20100705,0000,  71.6503, -157.7659,    63,   12.100,   -1.466,   31.082,2, -999.000,9,  401.700,2,  393.400,2,    6.630,2,    0.070,2,    0.010,2,    0.900,2, -999.000,9, -999.000,9, -999.000,    9.000, -999.000,1, -999.000,9
           NA,  ICESCA,     69,   2,-999.0,       4,  2,20100705,0000,  71.6503, -157.7659,    63,   25.100,   -1.359,   31.501,2, -999.000,9,  386.800,2,  374.200,2,   10.240,2,    0.730,2,    0.040,2,    1.010,2, -999.000,9, -999.000,9, -999.000,    9.000, -999.000,1, -999.000,9
           NA,  ICESCA,     69,   2,-999.0,       3,  2,20100705,0000,  71.6503, -157.7659,    63,   40.200,   -0.432,   32.106,2, -999.000,9,  373.500,2,  367.900,2,    6.240,2,    1.170,2,    0.040,2,    1.020,2, -999.000,9, -999.000,9, -999.000,    9.000, -999.000,1, -999.000,9
           NA,  ICESCA,     69,   2,-999.0,       1,  2,20100705,0000,  71.6503, -157.7659,    63,   58.600,   -0.954,   32.413,2, -999.000,9,  320.400,2,  330.400,2,   15.300,2,    4.810,2,    0.070,2,    1.350,2, -999.000,9, -999.000,9, -999.000,    9.000, -999.000,1, -999.000,9
           NA,  ICESCA,     70,   1,-999.0,       6,  2,20100705,0000,  71.5437, -163.0968,    41,    3.700,    2.349,   32.231,2,   32.250,2,  377.000,2,  383.600,2,    2.440,2,    0.010,2,    0.000,2,    0.460,2, -999.000,9, -999.000,9, -999.000,    9.000, -999.000,1, 2069.100,2
           NA,  ICESCA,     70,   1,-999.0,       5,  2,20100705,0000,  71.5437, -163.0968,    41,   10.300,    2.238,   32.248,2, -999.000,9,  377.500,2,  388.400,2,    2.730,2,    0.000,2,    0.000,2,    0.480,2, -999.000,9, -999.000,9, -999.000,    9.000, -999.000,1, 2075.900,2
           NA,  ICESCA,     70,   1,-999.0,       4,  2,20100705,0000,  71.5437, -163.0968,    41,   24.700,   -1.707,   33.213,2, -999.000,9,  441.900,2,  325.400,2,    6.530,2,    4.160,2,    0.080,2,    1.310,2, -999.000,9, -999.000,9, -999.000,    9.000, -999.000,1, 2175.400,2
           NA,  ICESCA,     70,   1,-999.0,       3,  2,20100705,0000,  71.5437, -163.0968,    41,   27.600,   -1.713,   33.278,2, -999.000,9,  318.800,2,  323.600,2,   17.040,2,    9.670,2,    0.120,2,    1.570,2, -999.000,9, -999.000,9, -999.000,    9.000, -999.000,1, 2188.600,2
           NA,  ICESCA,     70,   1,-999.0,       1,  2,20100705,0000,  71.5437, -163.0968,    41,   38.300,   -1.574,   33.564,2,   33.538,2,  315.700,2,  314.400,2,   18.990,2,    7.600,2,    0.090,2,    1.570,2, -999.000,9, -999.000,9, -999.000,    9.000, -999.000,1, 2234.600,2
           NA,  ICESCA,     70,   2,-999.0,       8,  2,20100705,0000,  71.5437, -163.0907,    41,    3.600,    2.250,   32.275,2,   32.458,2,  388.700,2,  395.300,2,    3.900,2,    0.170,2,    0.000,2,    0.530,2, -999.000,9, -999.000,9, -999.000,    9.000, -999.000,9, -999.000,9
           NA,  ICESCA,     70,   2,-999.0,       7,  2,20100705,0000,  71.5437, -163.0907,    41,   10.000,    1.361,   32.687,2, -999.000,9,  399.100,2,  410.800,2,    6.140,2,    0.450,2,    0.010,2,    0.620,2, -999.000,9, -999.000,9, -999.000,    9.000, -999.000,9, -999.000,9
           NA,  ICESCA,     70,   2,-999.0,       6,  2,20100705,0000,  71.5437, -163.0907,    41,   17.800,   -1.671,   33.250,2, -999.000,9,  384.500,2,  323.200,2,    1.850,2,    3.210,2,    0.050,2,    1.200,2, -999.000,9, -999.000,9, -999.000,    9.000, -999.000,9, -999.000,9
           NA,  ICESCA,     70,   2,-999.0,       3,  2,20100705,0000,  71.5437, -163.0907,    41,   25.100,   -1.672,   33.456,2, -999.000,9,  316.200,2,  314.900,2,    0.580,2,    9.210,2,    0.130,2,    1.530,2, -999.000,9, -999.000,9, -999.000,    9.000, -999.000,9, -999.000,9
           NA,  ICESCA,     70,   2,-999.0,       1,  2,20100705,0000,  71.5437, -163.0907,    41,   38.000,   -1.579,   33.566,2,   33.558,2,  316.600,2,  313.100,2,   18.210,2,    7.840,2,    0.100,2,    1.610,2, -999.000,9, -999.000,9, -999.000,    9.000, -999.000,9, -999.000,9
           NA,  ICESCA,     71,   1,-999.0,       5,  2,20100706,0000,  72.5735, -168.8480,    60,    3.500,   -1.134,   31.324,2, -999.000,9,  552.800,2,  559.800,2,   10.530,2,    0.050,2,    0.010,2,    0.760,2, -999.000,9, -999.000,9, -999.000,    9.000, -999.000,1, 1941.400,2
           NA,  ICESCA,     71,   1,-999.0,       4,  2,20100706,0000,  72.5735, -168.8480,    60,   10.200,   -1.129,   31.319,2, -999.000,9,  532.800,2,  501.400,2,   16.880,2,    0.540,2,    0.020,2,    0.990,2, -999.000,9, -999.000,9, -999.000,    9.000, -999.000,1, 1966.200,2
           NA,  ICESCA,     71,   1,-999.0,       3,  2,20100706,0000,  72.5735, -168.8480,    60,   24.800,   -1.713,   32.816,2, -999.000,9,  342.400,2,  331.600,2,   45.010,2,   13.060,2,    0.090,2,    1.910,2, -999.000,9, -999.000,9, -999.000,    9.000, -999.000,1, 2127.000,2
           NA,  ICESCA,     71,   1,-999.0,       2,  2,20100706,0000,  72.5735, -168.8480,    60,   49.800,   -1.769,   33.063,2,   33.087,2,  319.300,2,  325.800,2,   43.640,2,   13.020,2,    0.090,2,    1.900,2, -999.000,9, -999.000,9, -999.000,    9.000, -999.000,1, 2108.800,2
           NA,  ICESCA,     71,   1,-999.0,       1,  2,20100706,0000,  72.5735, -168.8480,    60,   56.300,   -1.774,   33.240,2,   33.180,2,  328.000,2,  324.500,2,   42.270,2,   12.650,2,    0.090,2,    1.870,2, -999.000,9, -999.000,9, -999.000,    9.000, -999.000,1, 2175.900,2
           NA,  ICESCA,     72,   1,-999.0,       7,  2,20100706,0000,  72.5032, -168.5292,    55,    3.600,   -0.200,   31.627,2, -999.000,9,  536.200,2,  556.200,2,    8.190,2,    0.030,2,    0.010,2,    0.720,2, -999.000,9, -999.000,9, -999.000,    9.000, -999.000,1, 1963.400,2
           NA,  ICESCA,     72,   1,-999.0,       5,  2,20100706,0000,  72.5032, -168.5292,    55,   10.000,   -0.707,   32.197,2, -999.000,9,  505.400,2,  505.000,2,   13.350,2,    0.070,2,    0.010,2,    1.030,2, -999.000,9, -999.000,9, -999.000,    9.000, -999.000,1, 2052.900,2
           NA,  ICESCA,     72,   1,-999.0,       3,  2,20100706,0000,  72.5032, -168.5292,    55,   24.900,   -1.484,   32.783,2, -999.000,9,  365.100,2,  347.700,2,   41.990,2,   11.340,2,    0.110,2,    1.780,2, -999.000,9, -999.000,9, -999.000,    9.000, -999.000,1, 2122.300,2
           NA,  ICESCA,     72,   1,-999.0,       1,  2,20100706,0000,  72.5032, -168.5292,    55,   49.700,   -1.751,   33.048,2,   33.012,2,  319.800,2,  317.100,2,   47.050,2,   13.590,2,    0.090,2,    2.010,2, -999.000,9, -999.000,9, -999.000,    9.000, -999.000,1, 2154.300,2