BOTTLE,20220919JOAExport
EXPOCODE,SECT_ID,STNNBR,CASTNO,SAMPNO,BTLNBR,BTLNBR_FLAG_W,DATE,TIME,LATITUDE,LONGITUDE,DEPTH,CTDPRS,CTDTMP,CTDSAL,CTDSAL_FLAG_W,SALNTY,SALNTY_FLAG_W,CTDOXY,CTDOXY_FLAG_W,OXYGEN,OXYGEN_FLAG_W,SILCAT,SILCAT_FLAG_W,NITRAT,NITRAT_FLAG_W,NITRIT,NITRIT_FLAG_W,PHSPHT,PHSPHT_FLAG_W,CFC-11,CFC-11_FLAG_W,CFC-12,CFC-12_FLAG_W,SF6,SF6_FLAC_W,TCARBN,TCARBN_FLAG_W,ALKALI,ALKALI_FLAG_W
,,,,,,,,,,,,DB,ITS-90,PSS-78,,PSS-78,,UMOL/KG,,UMOL/KG,,UMOL/KG,,UMOL/KG,,UMOL/KG,,UMOL/KG,,NA,,NA,,NA,NA,UMOL/KG,,UMOL/KG
           NA,  ICESCA,    118,   1,-999.0,       4,  2,20100712,0000,  71.2425, -157.1402,    45,    3.400,    2.510,   30.647,2, -999.000,9,  350.500,2,  350.100,2,    0.880,2,    0.010,2,    0.010,2,    0.530,2, -999.000,9, -999.000,9, -999.000,    9.000, -999.000,1, 1874.100,2
           NA,  ICESCA,    118,   1,-999.0,       3,  2,20100712,0000,  71.2425, -157.1402,    45,   10.100,    2.550,   30.668,2, -999.000,9,  350.500,2,  350.500,2,    0.980,2,    0.030,2,    0.000,2,    0.530,2, -999.000,9, -999.000,9, -999.000,    9.000, -999.000,1, 1879.100,2
           NA,  ICESCA,    118,   1,-999.0,       2,  2,20100712,0000,  71.2425, -157.1402,    45,   25.300,    4.555,   31.870,2, -999.000,9,  335.000,2,  335.400,2,    2.150,2,    0.000,2,    0.050,2,    0.650,2, -999.000,9, -999.000,9, -999.000,    9.000, -999.000,1, 2019.400,2
           NA,  ICESCA,    118,   1,-999.0,       1,  2,20100712,0000,  71.2425, -157.1402,    45,   38.700,    4.581,   31.891,2,   31.895,2,  335.000,2,  335.000,2,    2.340,2,    0.000,2,    0.060,2,    0.690,2, -999.000,9, -999.000,9, -999.000,    9.000, -999.000,1, 2020.200,2
           NA,  ICESCA,    119,   1,-999.0,       4,  2,20100712,0000,  71.2924, -157.2410,    60,    3.200,    5.461,   31.651,2,   31.656,2,  322.000,2,  322.000,2,    1.270,2,    0.020,2,    0.010,2,    0.530,2, -999.000,9, -999.000,9, -999.000,    9.000, -999.000,1, 2018.700,2
           NA,  ICESCA,    119,   1,-999.0,       3,  2,20100712,0000,  71.2924, -157.2410,    60,   10.400,    5.455,   31.651,2, -999.000,9,  322.000,2,  322.900,2,    1.270,2,    0.030,2,    0.010,2,    0.530,2, -999.000,9, -999.000,9, -999.000,    9.000, -999.000,1, 1988.800,2
           NA,  ICESCA,    119,   1,-999.0,       2,  2,20100712,0000,  71.2924, -157.2410,    60,   25.300,    3.024,   31.709,2, -999.000,9,  346.700,2,  350.700,2,    1.270,2,    0.020,2,    0.010,2,    0.580,2, -999.000,9, -999.000,9, -999.000,    9.000, -999.000,1, 1998.500,2
           NA,  ICESCA,    119,   1,-999.0,       1,  2,20100712,0000,  71.2924, -157.2410,    60,   53.900,    0.778,   32.111,2,   32.120,2,  348.300,2,  350.500,2,    1.850,2,    0.390,2,    0.050,2,    0.820,2, -999.000,9, -999.000,9, -999.000,    9.000, -999.000,1, 2052.500,2
           NA,  ICESCA,    120,   1,-999.0,       7,  2,20100712,0000,  71.3276, -157.3143,    92,    3.500,    4.324,   31.854,2, -999.000,9,  323.700,2,  325.400,2,    1.560,2,    0.020,2,    0.000,2,    0.470,2, -999.000,9, -999.000,9, -999.000,    9.000, -999.000,1, 2009.700,2
           NA,  ICESCA,    120,   1,-999.0,       6,  2,20100712,0000,  71.3276, -157.3143,    92,   10.400,    4.255,   31.814,2, -999.000,9,  324.500,2,  325.400,2,    1.660,2,    0.020,2,    0.000,2,    0.480,2, -999.000,9, -999.000,9, -999.000,    9.000, -999.000,1, 2005.200,2
           NA,  ICESCA,    120,   1,-999.0,       5,  2,20100712,0000,  71.3276, -157.3143,    92,   26.100,    1.859,   32.241,2, -999.000,9,  350.900,2,  354.000,2,    2.920,2,    0.190,2,    0.040,2,    0.760,2, -999.000,9, -999.000,9, -999.000,    9.000, -999.000,1, 2068.600,2
           NA,  ICESCA,    120,   1,-999.0,       4,  2,20100712,0000,  71.3276, -157.3143,    92,   41.300,    1.638,   32.587,2, -999.000,9,  371.700,2,  369.500,2,    3.900,2,    0.510,2,    0.050,2,    0.760,2, -999.000,9, -999.000,9, -999.000,    9.000, -999.000,1, 2103.100,2
           NA,  ICESCA,    120,   1,-999.0,       3,  2,20100712,0000,  71.3276, -157.3143,    92,   49.700,    1.766,   32.772,2, -999.000,9,  378.200,2,  379.500,2,    3.800,2,    0.420,2,    0.040,2,    0.720,2, -999.000,9, -999.000,9, -999.000,    9.000, -999.000,1, 2122.700,2
           NA,  ICESCA,    120,   1,-999.0,       2,  2,20100712,0000,  71.3276, -157.3143,    92,   73.800,    1.626,   32.972,2, -999.000,9,  388.600,2,  391.200,2,    3.800,2,    0.200,2,    0.040,2,    0.710,2, -999.000,9, -999.000,9, -999.000,    9.000, -999.000,1, 2146.200,2
           NA,  ICESCA,    120,   1,-999.0,       1,  2,20100712,0000,  71.3276, -157.3143,    92,   85.000,    1.583,   32.978,2,   32.984,2,  389.000,2,  389.000,2,    3.700,2,    0.250,2,    0.040,2,    0.720,2, -999.000,9, -999.000,9, -999.000,    9.000, -999.000,1, 2146.400,2
           NA,  ICESCA,    121,   1,-999.0,       6,  2,20100712,0000,  71.3645, -157.4032,   113,    1.400,    2.558,   30.794,2, -999.000,9,  354.400,2,  342.600,2,    1.560,2,    0.000,2,    0.000,2,    0.450,2, -999.000,9, -999.000,9, -999.000,    9.000, -999.000,1, -999.000,5
           NA,  ICESCA,    121,   1,-999.0,       5,  2,20100712,0000,  71.3645, -157.4032,   113,    9.500,    5.514,   32.322,2, -999.000,9,  330.500,2,  331.000,2,    1.850,2,    0.000,2,    0.000,2,    0.460,2, -999.000,9, -999.000,9, -999.000,    9.000, -999.000,1, -999.000,5
           NA,  ICESCA,    121,   1,-999.0,       4,  2,20100712,0000,  71.3645, -157.4032,   113,   24.900,    5.014,   32.576,2, -999.000,9,  327.800,2,  331.800,2,    2.140,2,    0.050,2,    0.000,2,    0.470,2, -999.000,9, -999.000,9, -999.000,    9.000, -999.000,1, -999.000,5
           NA,  ICESCA,    121,   1,-999.0,       3,  2,20100712,0000,  71.3645, -157.4032,   113,   49.700,    0.081,   33.140,2, -999.000,9,  328.000,2,  329.300,2,    3.800,2,    2.690,2,    0.100,2,    0.990,2, -999.000,9, -999.000,9, -999.000,    9.000, -999.000,1, -999.000,5
           NA,  ICESCA,    121,   1,-999.0,       2,  2,20100712,0000,  71.3645, -157.4032,   113,   75.300,   -0.437,   33.186,2,   33.192,2,  309.700,2,  308.400,2,    4.870,2,    5.400,2,    0.140,2,    1.060,2, -999.000,9, -999.000,9, -999.000,    9.000, -999.000,1, -999.000,5
           NA,  ICESCA,    121,   1,-999.0,       1,  2,20100712,0000,  71.3645, -157.4032,   113,  106.000,   -0.502,   33.183,2,   33.190,2,  305.400,2,  305.800,2,    4.970,2,    5.570,2,    0.160,2,    1.130,2, -999.000,9, -999.000,9, -999.000,    9.000, -999.000,1, -999.000,5
           NA,  ICESCA,    122,   1,-999.0,      10,  2,20100712,0000,  71.4006, -157.4826,   126,    3.200,    2.926,   30.990,2, -999.000,9,  344.700,2,  357.000,2,    0.780,2,    0.000,2,    0.000,2,    0.540,2, -999.000,9, -999.000,9, -999.000,    9.000, -999.000,1, 1926.300,2
           NA,  ICESCA,    122,   1,-999.0,       9,  2,20100712,0000,  71.4006, -157.4826,   126,    9.900,    2.964,   31.027,2, -999.000,9,  343.400,2,  357.800,2,    0.780,2,    0.000,2,    0.000,2,    0.540,2, -999.000,9, -999.000,9, -999.000,    9.000, -999.000,1, 1933.700,2
           NA,  ICESCA,    122,   1,-999.0,       8,  2,20100712,0000,  71.4006, -157.4826,   126,   24.900,    3.191,   31.924,2, -999.000,9,  353.700,2,  352.800,2,    1.560,2,    0.080,2,    0.000,2,    0.580,2, -999.000,9, -999.000,9, -999.000,    9.000, -999.000,1, 2031.500,2
           NA,  ICESCA,    122,   1,-999.0,       5,  2,20100712,0000,  71.4006, -157.4826,   126,   50.500,   -1.320,   32.383,2, -999.000,9,  293.800,2,  286.000,2,   18.420,2,    7.930,2,    0.120,2,    1.540,2, -999.000,9, -999.000,9, -999.000,    9.000, -999.000,1, 2090.500,2
           NA,  ICESCA,    122,   1,-999.0,       4,  2,20100712,0000,  71.4006, -157.4826,   126,   75.600,   -0.578,   33.265,2, -999.000,9,  310.600,2,  309.700,2,    3.600,2,    3.580,2,    0.100,2,    1.090,2, -999.000,9, -999.000,9, -999.000,    9.000, -999.000,1, 2191.600,2
           NA,  ICESCA,    122,   1,-999.0,       3,  2,20100712,0000,  71.4006, -157.4826,   126,  101.300,   -0.637,   33.275,2,   33.283,2,  309.700,2,  308.400,2,    3.600,2,    3.430,2,    0.100,2,    1.100,2, -999.000,9, -999.000,9, -999.000,    9.000, -999.000,1, 2193.400,2
           NA,  ICESCA,    122,   1,-999.0,       1,  2,20100712,0000,  71.4006, -157.4826,   126,  122.700,   -0.635,   33.278,2,   33.284,2,  309.700,2,  309.300,2,    3.600,2,    3.550,2,    0.100,2,    1.090,2, -999.000,9, -999.000,9, -999.000,    9.000, -999.000,1, 2193.800,2
           NA,  ICESCA,    122,   2,-999.0,       9,  2,20100713,0000,  71.4129, -157.5050,   126,    4.100,   -0.254,   29.124,2, -999.000,9,  395.800,2,  388.800,2,    1.170,2,    0.010,2,    0.000,2,    0.560,2, -999.000,9, -999.000,9, -999.000,    9.000, -999.000,9, -999.000,9
           NA,  ICESCA,    122,   2,-999.0,       8,  2,20100713,0000,  71.4129, -157.5050,   126,   10.000,    1.008,   31.170,2, -999.000,9,  401.700,2,  395.200,2,    1.070,2,    0.020,2,    0.000,2,    0.580,2, -999.000,9, -999.000,9, -999.000,    9.000, -999.000,1, -999.000,9
           NA,  ICESCA,    122,   2,-999.0,       7,  2,20100713,0000,  71.4129, -157.5050,   126,   25.200,    0.972,   31.662,2, -999.000,9,  380.700,2,  374.100,2,    1.560,2,    0.180,2,    0.010,2,    0.730,2, -999.000,9, -999.000,9, -999.000,    9.000, -999.000,1, -999.000,9
           NA,  ICESCA,    122,   2,-999.0,       6,  2,20100713,0000,  71.4129, -157.5050,   126,   52.500,   -1.075,   32.230,2, -999.000,9,  301.700,2,  300.400,2,   14.130,2,    6.490,2,    0.100,2,    1.390,2, -999.000,9, -999.000,9, -999.000,    9.000, -999.000,1, -999.000,9
           NA,  ICESCA,    122,   2,-999.0,       4,  2,20100713,0000,  71.4129, -157.5050,   126,   65.900,   -1.028,   32.970,2, -999.000,9,  285.000,2,  285.800,2,    7.500,2,    5.310,2,    0.090,2,    1.370,2, -999.000,9, -999.000,9, -999.000,    9.000, -999.000,1, -999.000,9
           NA,  ICESCA,    122,   2,-999.0,       3,  2,20100713,0000,  71.4129, -157.5050,   126,  101.000,   -0.879,   33.429,2,   33.436,2,  300.500,2,  300.500,2,    2.340,2,    1.660,2,    0.070,2,    1.170,2, -999.000,9, -999.000,9, -999.000,    9.000, -999.000,1, -999.000,9
           NA,  ICESCA,    122,   2,-999.0,       1,  2,20100713,0000,  71.4129, -157.5050,   126,  121.600,   -0.881,   33.430,2,   33.436,2,  298.800,2,  301.000,2,    2.430,2,    1.650,2,    0.070,2,    1.200,2, -999.000,9, -999.000,9, -999.000,    9.000, -999.000,1, -999.000,9
           NA,  ICESCA,    123,   1,-999.0,       6,  2,20100713,0000,  71.4561, -157.6336,   109,    4.500,   -0.980,   29.116,2, -999.000,9,  415.400,2,  401.500,2,    1.660,2,    0.020,2,    0.000,2,    0.600,2, -999.000,9, -999.000,9, -999.000,    9.000, -999.000,1, -999.000,5
           NA,  ICESCA,    123,   1,-999.0,       5,  2,20100713,0000,  71.4561, -157.6336,   109,   15.100,   -0.447,   30.198,2, -999.000,9,  398.100,2,  410.700,2,    1.950,2,    0.000,2,    0.000,2,    0.630,2, -999.000,9, -999.000,9, -999.000,    9.000, -999.000,1, -999.000,5
           NA,  ICESCA,    123,   1,-999.0,       4,  2,20100713,0000,  71.4561, -157.6336,   109,   30.500,   -0.007,   31.760,2, -999.000,9,  398.500,2,  388.900,2,    4.000,2,    0.860,2,    0.010,2,    0.770,2, -999.000,9, -999.000,9, -999.000,    9.000, -999.000,1, -999.000,5
           NA,  ICESCA,    123,   1,-999.0,       3,  2,20100713,0000,  71.4561, -157.6336,   109,   50.800,   -0.459,   32.130,2, -999.000,9,  362.200,2,  358.300,2,    9.070,2,    3.540,2,    0.030,2,    1.070,2, -999.000,9, -999.000,9, -999.000,    9.000, -999.000,1, -999.000,5
           NA,  ICESCA,    123,   1,-999.0,       2,  2,20100713,0000,  71.4561, -157.6336,   109,   75.900,   -0.969,   32.329,2, -999.000,9,  319.500,2,  319.900,2,   21.150,2,    7.560,2,    0.070,2,    1.500,2, -999.000,9, -999.000,9, -999.000,    9.000, -999.000,1, -999.000,5
           NA,  ICESCA,    123,   1,-999.0,       1,  2,20100713,0000,  71.4561, -157.6336,   109,  101.700,   -1.167,   33.456,2,   33.453,2,  279.200,2,  278.300,2,    3.700,2,    4.030,2,    0.110,2,    1.460,2, -999.000,9, -999.000,9, -999.000,    9.000, -999.000,1, -999.000,5
           NA,  ICESCA,    124,   1,-999.0,       5,  2,20100713,0000,  71.5054, -157.6600,    83,    4.200,   -1.202,   29.440,2, -999.000,9,  403.100,2,  416.200,2,    2.050,2,    0.160,2,    0.000,2,    0.630,2, -999.000,9, -999.000,9, -999.000,    9.000, -999.000,1, 1753.000,2
           NA,  ICESCA,    124,   1,-999.0,       4,  2,20100713,0000,  71.5054, -157.6600,    83,   10.000,   -1.227,   29.756,2, -999.000,9,  413.100,2,  413.100,2,    2.150,2,    0.030,2,    0.000,2,    0.630,2, -999.000,9, -999.000,9, -999.000,    9.000, -999.000,1, 1788.900,2
           NA,  ICESCA,    124,   1,-999.0,       3,  2,20100713,0000,  71.5054, -157.6600,    83,   25.200,    1.470,   31.585,2, -999.000,9,  373.300,2,  369.800,2,    3.220,2,    0.650,2,    0.000,2,    0.700,2, -999.000,9, -999.000,9, -999.000,    9.000, -999.000,1, 1997.400,2
           NA,  ICESCA,    124,   1,-999.0,       2,  2,20100713,0000,  71.5054, -157.6600,    83,   50.500,   -0.808,   32.079,2, -999.000,9,  351.800,2,  352.200,2,   11.020,2,    4.790,2,    0.040,2,    1.170,2, -999.000,9, -999.000,9, -999.000,    9.000, -999.000,1, 2049.800,2
           NA,  ICESCA,    124,   1,-999.0,       1,  2,20100713,0000,  71.5054, -157.6600,    83,   77.600,   -1.012,   32.493,2,   32.328,2,  325.600,2,  324.700,2,   21.350,2,    7.480,2,    0.060,2,    1.520,2, -999.000,9, -999.000,9, -999.000,    9.000, -999.000,1, 2082.500,2
           NA,  ICESCA,    125,   1,-999.0,       5,  2,20100713,0000,  71.5306, -157.7762,    73,    4.100,   -1.472,   30.391,2, -999.000,9,  440.700,2,  441.600,2,    1.170,2,    0.010,2,    0.000,2,    0.620,2, -999.000,9, -999.000,9, -999.000,    9.000, -999.000,1, -999.000,5
           NA,  ICESCA,    125,   1,-999.0,       4,  2,20100713,0000,  71.5306, -157.7762,    73,   10.100,   -1.465,   30.416,2, -999.000,9,  440.300,2,  439.900,2,    1.370,2,    0.000,2,    0.000,2,    0.610,2, -999.000,9, -999.000,9, -999.000,    9.000, -999.000,1, -999.000,5
           NA,  ICESCA,    125,   1,-999.0,       3,  2,20100713,0000,  71.5306, -157.7762,    73,   24.900,   -0.600,   31.158,2, -999.000,9,  385.600,2,  383.400,2,    3.510,2,    0.200,2,    0.000,2,    0.700,2, -999.000,9, -999.000,9, -999.000,    9.000, -999.000,1, -999.000,5
           NA,  ICESCA,    125,   1,-999.0,       2,  2,20100713,0000,  71.5306, -157.7762,    73,   50.700,    0.228,   32.162,2, -999.000,9,  379.600,2,  359.200,2,    4.000,2,    2.210,2,    0.040,2,    0.970,2, -999.000,9, -999.000,9, -999.000,    9.000, -999.000,1, -999.000,5
           NA,  ICESCA,    125,   1,-999.0,       1,  2,20100713,0000,  71.5306, -157.7762,    73,   67.500,   -0.869,   32.333,2,   32.336,2,  320.800,2,  320.400,2,   13.060,2,    6.410,2,    0.070,2,    1.360,2, -999.000,9, -999.000,9, -999.000,    9.000, -999.000,1, -999.000,5
           NA,  ICESCA,    126,   2,-999.0,       5,  2,20100713,0000,  71.5747, -157.8201,    66,    4.100,   -1.482,   30.525,2, -999.000,9,  447.700,2,  449.000,2,    1.370,2,    0.070,2,    0.010,2,    0.620,2, -999.000,9, -999.000,9, -999.000,    9.000, -999.000,1, 1872.900,2
           NA,  ICESCA,    126,   2,-999.0,       4,  2,20100713,0000,  71.5747, -157.8201,    66,   10.600,   -1.484,   30.539,2, -999.000,9,  448.100,2,  448.500,2,    1.460,2,    0.000,2,    0.010,2,    0.610,2, -999.000,9, -999.000,9, -999.000,    9.000, -999.000,1, 1877.000,2
           NA,  ICESCA,    126,   2,-999.0,       3,  2,20100713,0000,  71.5747, -157.8201,    66,   28.000,   -1.096,   31.289,2, -999.000,9,  399.000,2,  374.200,2,    6.240,2,    1.350,2,    0.040,2,    0.890,2, -999.000,9, -999.000,9, -999.000,    9.000, -999.000,1, 1981.400,2
           NA,  ICESCA,    126,   2,-999.0,       2,  2,20100713,0000,  71.5747, -157.8201,    66,   41.000,   -0.091,   32.020,2, -999.000,9,  374.500,2,  352.200,2,    5.360,2,    2.350,2,    0.060,2,    0.960,2, -999.000,9, -999.000,9, -999.000,    9.000, -999.000,1, 2039.500,2
           NA,  ICESCA,    126,   2,-999.0,       1,  2,20100713,0000,  71.5747, -157.8201,    66,   60.200,   -0.853,   32.366,2, -999.000,3,  322.500,2,  331.700,2,    7.700,2,    4.010,2,    0.090,2,    1.140,2, -999.000,9, -999.000,9, -999.000,    9.000, -999.000,1, 2078.900,2
           NA,  ICESCA,    128,   1,-999.0,       6,  2,20100713,0000,  72.2039, -158.2765,    63,    3.800,   -1.495,   29.652,2, -999.000,9,  424.400,2,  425.300,2,    2.640,2,    0.450,2,    0.000,2,    0.680,2, -999.000,9, -999.000,9, -999.000,    9.000, -999.000,1, 1766.600,2
           NA,  ICESCA,    128,   1,-999.0,       5,  2,20100713,0000,  72.2039, -158.2765,    63,    9.700,   -1.500,   29.733,2, -999.000,9,  424.400,2,  425.300,2,    2.540,2,    0.400,2,    0.010,2,    0.680,2, -999.000,9, -999.000,9, -999.000,    9.000, -999.000,1, 1785.400,2
           NA,  ICESCA,    128,   1,-999.0,       4,  2,20100713,0000,  72.2039, -158.2765,    63,   25.000,   -1.539,   31.019,2, -999.000,9,  412.200,2,  395.200,2,    1.950,2,    0.360,2,    0.010,2,    0.760,2, -999.000,9, -999.000,9, -999.000,    9.000, -999.000,1, 1933.900,2
           NA,  ICESCA,    128,   1,-999.0,       3,  2,20100713,0000,  72.2039, -158.2765,    63,   34.200,   -1.596,   31.132,2,   31.144,2,  372.100,2,  363.800,2,    4.190,2,    0.680,2,    0.040,2,    1.050,2, -999.000,9, -999.000,9, -999.000,    9.000, -999.000,1, 1952.300,2
           NA,  ICESCA,    128,   1,-999.0,       1,  2,20100713,0000,  72.2039, -158.2765,    63,   57.700,   -1.443,   31.755,2, -999.000,9,  334.400,2,  336.200,2,   16.480,2,    5.730,2,    0.030,2,    1.250,2, -999.000,9, -999.000,9, -999.000,    9.000, -999.000,1, 2001.300,2
           NA,  ICESCA,    129,   1,-999.0,       8,  2,20100713,0000,  72.1967, -158.6809,    56,    3.500,   -1.452,   29.842,2,   29.868,2,  433.500,2,  434.400,2,    1.950,2,    0.000,2,    0.010,2,    0.680,2, -999.000,9, -999.000,9, -999.000,    9.000, -999.000,1, 1792.300,2
           NA,  ICESCA,    129,   1,-999.0,       7,  2,20100713,0000,  72.1967, -158.6809,    56,    9.600,   -1.514,   29.856,2, -999.000,9,  434.000,2,  433.100,2,    2.150,2,    0.000,2,    0.000,2,    0.680,2, -999.000,9, -999.000,9, -999.000,    9.000, -999.000,1, 1794.500,2
           NA,  ICESCA,    129,   1,-999.0,       6,  2,20100713,0000,  72.1967, -158.6809,    56,   24.400,   -1.451,   30.613,2, -999.000,9,  429.800,2,  407.100,2,    1.950,2,    0.040,2,    0.010,2,    0.690,2, -999.000,9, -999.000,9, -999.000,    9.000, -999.000,1, 1891.900,2
           NA,  ICESCA,    129,   1,-999.0,       3,  2,20100713,0000,  72.1967, -158.6809,    56,   39.700,   -1.433,   31.322,2, -999.000,9,  367.700,2,  357.200,2,    5.070,2,    0.310,2,    0.040,2,    1.060,2, -999.000,9, -999.000,9, -999.000,    9.000, -999.000,1, 1965.200,2
           NA,  ICESCA,    129,   1,-999.0,       1,  2,20100713,0000,  72.1967, -158.6809,    56,   50.500,   -1.543,   31.863,2, -999.000,9,  310.500,2,  309.600,2,   23.400,2,    6.020,2,    0.070,2,    1.390,2, -999.000,9, -999.000,9, -999.000,    9.000, -999.000,1, 2007.700,2