BOTTLE,20220330CCHSIOCBG
EXPOCODE,SECT_ID,STNNBR,CASTNO,SAMPNO,BTLNBR,BTLNBR_FLAG_W,DATE,TIME,LATITUDE,LONGITUDE,DEPTH,CTDPRS,CTDTMP,CTDSAL,CTDSAL_FLAG_W,SALNTY,SALNTY_FLAG_W,CTDOXY,CTDOXY_FLAG_W,OXYGEN,OXYGEN_FLAG_W,SILCAT,SILCAT_FLAG_W,NITRAT,NITRAT_FLAG_W,NITRIT,NITRIT_FLAG_W,PHSPHT,PHSPHT_FLAG_W,CFC-11,CFC-11_FLAG_W,CFC-12,CFC-12_FLAG_W,SF6,SF6_FLAG_W,TCARBN,TCARBN_FLAG_W,ALKALI,ALKALI_FLAG_W,PH_TOT,PH_TOT_FLAG_W,PH_TMP,TRITUM,TRITUM_FLAG_W,HELIUM,HELIUM_FLAG_W,DELC13,DELC13_FLAG_W,DELC14,DELC14_FLAG_W,C14ERR,NEON,NEON_FLAG_W,NEONER,DOC,DOC_FLAG_W,N2O,N2O_FLAG_W,ARGON,ARGON_FLAG_W,BTL_DATE,BTL_TIME,TRITER,SBE35,SBE35_FLAG_W,SALTREF,SALTREF_FLAG_W,DELHE3,DELHE3_FLAG_W,DELHER,HELIER,ARGONER,KRYPTON,KRYPTON_FLAG_W,KRYPTONER,XENON,XENON_FLAG_W,XENONER,14C-DOC,14C-DOC_FLAG_W,14C-DOCERR,13C-DOC,13C-DOC_FLAG_W,13C-DOCERR
,,,,,,,,,,,METERS,DBAR,ITS-90,PSS-78,,PSS-78,,UMOL/KG,,UMOL/KG,,UMOL/KG,,UMOL/KG,,UMOL/KG,,UMOL/KG,,PMOL/KG,,PMOL/KG,,FMOL/KG,,UMOL/KG,,UMOL/KG,,,,DEG C,TU,,NMOL/KG,,/MILLE,,/MILLE,,/MILLE,NMOL/KG,,NMOL/KG,UMOL/KG,,NMOL/KG,,UMOL/KG,,,,TU,ITS-90,,G/KG,,PERCNT,,PERCNT,NMOL/KG,UMOL/KG,NMOL/KG,,NMOL/KG,NMOL/KG,,NMOL/KG,/MILLE,,/MILLE,/MILLE,,/MILLE
33RO20150525,     P16N.2,     184,          1,         24,         24,2,20150617,       2053,    55.9498,  -152.9761,       2684,     2.8,  11.0065,  32.1928,2,  32.1954,2,    291.8,2,   294.7,2,    8.13,2,    3.82,2,    0.07,2,    0.74,2,   3.715,2,    2.12,2,   2.473,2,  1983.5,6,  2176.6,2,    7.879,2,    24.97,-999.000,9,-999.0000,9,    1.45,2,    -4.6,2,     3.9,-999.0000,9,-999.0000,  -999.0,9,     11.259,3,-999.000,9, 20150617,     2215,-999.000,  11.0001,2,    32.3472,2,     -999.0,9,     -999.0,-999.0000,     -999.0,     -999.0,9,     -999.0,     -999.0,9,     -999.0,  -999.0,9,     -999.0,     -999.0,9,     -999.0
33RO20150525,     P16N.2,     184,          1,         23,         23,2,20150617,       2053,    55.9498,  -152.9761,       2684,    21.2,   9.2509,  32.1998,2,  32.1993,2,      305,2,   300.1,2,    7.44,2,    3.92,2,    0.08,2,    0.76,2,-999.000,9,-999.000,9,-999.000,9,  -999.0,9,  2175.9,2,   7.8793,2,    24.98,-999.000,9,-999.0000,9,    1.33,2,   -11.9,2,     5.4,-999.0000,9,-999.0000,  -999.0,9,     -999.0,9,-999.000,9, 20150617,     2212,-999.000,   9.2513,2,    32.3511,2,     -999.0,9,     -999.0,-999.0000,     -999.0,     -999.0,9,     -999.0,     -999.0,9,     -999.0,  -999.0,9,     -999.0,     -999.0,9,     -999.0
33RO20150525,     P16N.2,     184,          1,         22,         22,2,20150617,       2053,    55.9498,  -152.9761,       2684,    41.8,    7.202,  32.4185,2,  32.4121,2,    308.4,2,   306.6,2,   17.13,2,   10.67,2,    0.13,2,    1.14,2,   4.183,2,   2.392,2,   2.781,2,  2033.3,2,  2184.3,2,   7.7791,6,    24.99,-999.000,9,-999.0000,9,    1.01,2,   -14.5,2,     2.5,-999.0000,9,-999.0000,  -999.0,9,     12.602,3,-999.000,9, 20150617,     2210,-999.000,   7.2033,2,    32.5649,2,     -999.0,9,     -999.0,-999.0000,     -999.0,     -999.0,9,     -999.0,     -999.0,9,     -999.0,  -999.0,9,     -999.0,     -999.0,9,     -999.0
33RO20150525,     P16N.2,     184,          1,         21,         21,2,20150617,       2053,    55.9498,  -152.9761,       2684,    67.1,   6.4058,  32.5454,2,  32.5543,2,    294.7,2,     292,2,   21.93,2,    14.1,2,    0.23,2,    1.34,2,    4.26,2,   2.399,2,   2.697,2,  2059.2,2,  2194.8,2,   7.7337,6,    24.98,-999.000,9,-999.0000,9,    0.78,2,   -14.7,2,     3.4,-999.0000,9,-999.0000,  -999.0,9,     13.839,3,-999.000,9, 20150617,     2208,-999.000,   6.4063,2,    32.7078,2,     -999.0,9,     -999.0,-999.0000,     -999.0,     -999.0,9,     -999.0,     -999.0,9,     -999.0,  -999.0,9,     -999.0,     -999.0,9,     -999.0
33RO20150525,     P16N.2,     184,          1,         20,         20,2,20150617,       2053,    55.9498,  -152.9761,       2684,    92.1,    5.383,  32.9958,2,  33.0403,2,    222.5,2,   224.6,2,    36.7,2,   23.78,2,    0.07,2,    1.85,2,-999.000,9,-999.000,9,-999.000,9,  2137.6,2,  2223.7,2,   7.5819,2,    24.97,-999.000,9,-999.0000,9,    0.14,2,   -44.7,2,     2.4,-999.0000,9,-999.0000,  -999.0,9,     -999.0,9,-999.000,9, 20150617,     2206,-999.000,   5.3806,2,    33.1961,2,     -999.0,9,     -999.0,-999.0000,     -999.0,     -999.0,9,     -999.0,     -999.0,9,     -999.0,  -999.0,9,     -999.0,     -999.0,9,     -999.0
33RO20150525,     P16N.2,     184,          1,         19,         19,2,20150617,       2053,    55.9498,  -152.9761,       2684,   117.1,   4.9235,  33.5356,2,  33.5328,2,    152.8,2,   152.5,2,   51.94,2,   31.69,2,    0.02,2,     2.3,2,   3.659,2,   2.013,2,   1.688,2,  2215.8,2,  2257.2,2,   7.4379,2,    24.99,-999.000,9,-999.0000,9,   -0.40,2,   -53.7,2,     2.3,-999.0000,9,-999.0000,  -999.0,9,     27.625,3,-999.000,9, 20150617,     2204,-999.000,   4.9241,2,    33.6909,2,     -999.0,9,     -999.0,-999.0000,     -999.0,     -999.0,9,     -999.0,     -999.0,9,     -999.0,  -999.0,9,     -999.0,     -999.0,9,     -999.0
33RO20150525,     P16N.2,     184,          1,         18,         18,2,20150617,       2053,    55.9498,  -152.9761,       2684,     140,   4.4483,  33.6533,2,  33.6542,2,      131,2,   125.8,2,   61.43,2,   35.12,2,    0.02,2,    2.51,2,-999.000,9,-999.000,9,-999.000,9,  2245.4,2,  2271.1,2,   7.3759,2,    24.99,-999.000,9,-999.0000,9,   -0.62,2,   -57.8,2,     2.3,-999.0000,9,-999.0000,  -999.0,9,     -999.0,9,-999.000,9, 20150617,     2203,-999.000,   4.4477,2,    33.8129,2,     -999.0,9,     -999.0,-999.0000,     -999.0,     -999.0,9,     -999.0,     -999.0,9,     -999.0,  -999.0,9,     -999.0,     -999.0,9,     -999.0
33RO20150525,     P16N.2,     184,          1,         17,         17,2,20150617,       2053,    55.9498,  -152.9761,       2684,   159.8,   4.0014,  33.7038,2,   33.706,2,      108,2,   109.7,2,   68.76,2,   37.56,2,    0.02,2,    2.66,2,   3.285,2,   1.747,2,   1.288,2,  2268.2,2,  2277.4,2,   7.3326,6,    24.98,-999.000,9,-999.0000,9,   -0.59,2,   -67.3,2,     2.1,-999.0000,9,-999.0000,  -999.0,9,     33.230,3,-999.000,9, 20150617,     2201,-999.000,   4.0012,2,     33.865,6,     -999.0,9,     -999.0,-999.0000,     -999.0,     -999.0,9,     -999.0,     -999.0,9,     -999.0,  -999.0,9,     -999.0,     -999.0,9,     -999.0
33RO20150525,     P16N.2,     184,          1,         16,         16,2,20150617,       2053,    55.9498,  -152.9761,       2684,   215.6,   3.8475,  33.8102,2,-999.0000,9,     67.1,2,  -999.0,9, -999.00,9, -999.00,9, -999.00,9, -999.00,9,-999.000,9,-999.000,9,-999.000,9,  -999.0,9,  -999.0,9,-999.0000,9,  -999.00,-999.000,9,-999.0000,9, -999.00,9,  -999.0,9,  -999.0,-999.0000,9,-999.0000,  -999.0,9,     -999.0,9,-999.000,9, 20150617,     2158,-999.000,   3.8469,2,     -999.0,9,     -999.0,9,     -999.0,-999.0000,     -999.0,     -999.0,9,     -999.0,     -999.0,9,     -999.0,  -999.0,9,     -999.0,     -999.0,9,     -999.0
33RO20150525,     P16N.2,     184,          1,         15,         15,2,20150617,       2053,    55.9498,  -152.9761,       2684,   215.5,   3.8484,  33.8097,2,  33.8014,2,     67.4,2,    67.5,2,    80.3,2,   41.17,2,    0.02,2,    2.89,2,   2.765,2,   1.464,2,   0.981,2,  2300.6,2,  2289.8,2,   7.2618,2,    24.98,-999.000,9,-999.0000,9,   -0.80,2,   -92.0,2,     2.2,-999.0000,9,-999.0000,  -999.0,9,     37.580,3,-999.000,9, 20150617,     2158,-999.000,   3.8525,2,    33.9608,2,     -999.0,9,     -999.0,-999.0000,     -999.0,     -999.0,9,     -999.0,     -999.0,9,     -999.0,  -999.0,9,     -999.0,     -999.0,9,     -999.0
33RO20150525,     P16N.2,     184,          1,         14,         14,2,20150617,       2053,    55.9498,  -152.9761,       2684,   275.4,   3.8965,  33.9127,2,  33.9122,2,     43.1,2,    40.4,2,   87.92,2,   42.83,2,    0.01,2,    2.97,2,   2.217,2,   1.129,2,   0.658,2,  2320.1,2,  2302.2,2,   7.2377,6,    24.96,-999.000,9,-999.0000,9,   -0.79,2,   -99.9,2,     1.9,-999.0000,9,-999.0000,  -999.0,9,     41.418,3,-999.000,9, 20150617,     2155,-999.000,   3.8951,2,    34.0721,2,     -999.0,9,     -999.0,-999.0000,     -999.0,     -999.0,9,     -999.0,     -999.0,9,     -999.0,  -999.0,9,     -999.0,     -999.0,9,     -999.0
33RO20150525,     P16N.2,     184,          1,         13,         13,2,20150617,       2053,    55.9498,  -152.9761,       2684,   325.9,   3.7658,   33.949,2,   33.947,2,     31.4,2,    28.8,2,   94.37,2,   43.91,2,    0.01,2,    3.05,2,    1.98,2,   1.007,2,    0.58,2,  2332.8,2,  2306.8,2,   7.2203,2,    24.98,-999.000,9,-999.0000,9,   -1.00,2,  -120.6,2,     2.0,-999.0000,9,-999.0000,  -999.0,9,     43.385,3,-999.000,9, 20150617,     2153,-999.000,   3.7661,2,    34.1071,2,     -999.0,9,     -999.0,-999.0000,     -999.0,     -999.0,9,     -999.0,     -999.0,9,     -999.0,  -999.0,9,     -999.0,     -999.0,9,     -999.0
33RO20150525,     P16N.2,     184,          1,         12,         12,2,20150617,       2053,    55.9498,  -152.9761,       2684,   415.2,   3.6911,  34.0393,2,  34.0389,2,     24.3,2,    22.8,2,  103.07,2,   43.91,2,    0.01,2,    3.06,2,-999.000,9,-999.000,9,-999.000,9,  -999.0,9,  2319.6,2,   7.2343,2,    24.96,-999.000,9,-999.0000,9,   -0.94,2,  -129.0,2,     2.0,-999.0000,9,-999.0000,  -999.0,9,     -999.0,9,-999.000,9, 20150617,     2150,-999.000,    3.691,2,    34.1994,2,     -999.0,9,     -999.0,-999.0000,     -999.0,     -999.0,9,     -999.0,     -999.0,9,     -999.0,  -999.0,9,     -999.0,     -999.0,9,     -999.0
33RO20150525,     P16N.2,     184,          1,         11,         11,2,20150617,       2053,    55.9498,  -152.9761,       2684,   475.3,   3.8569,  34.1195,2,   34.115,2,     21.9,2,    19.6,2,  105.31,2,   43.41,2,       0,2,    3.04,2,   1.048,2,   0.511,2,   0.211,2,  2343.8,2,  2327.8,2,    7.252,2,    24.95,-999.000,9,-999.0000,9,   -0.86,2,  -142.1,2,     1.9,-999.0000,9,-999.0000,  -999.0,9,     46.161,3,-999.000,9, 20150617,     2147,-999.000,   3.8563,2,    34.2758,2,     -999.0,9,     -999.0,-999.0000,     -999.0,     -999.0,9,     -999.0,     -999.0,9,     -999.0,  -999.0,9,     -999.0,     -999.0,9,     -999.0
33RO20150525,     P16N.2,     184,          1,         10,         10,2,20150617,       2053,    55.9498,  -152.9761,       2684,   575.4,   3.7143,  34.2031,2,  34.1991,2,     15.6,2,    15.1,2,  113.81,2,   43.61,2,       0,2,    3.06,2,   0.608,6,   0.294,6,   0.111,6,  2353.4,2,  2340.6,2,   7.2628,2,    24.99,-999.000,9,-999.0000,9,   -0.81,2,  -158.4,2,     1.9,-999.0000,9,-999.0000,  -999.0,9,     47.952,3,-999.000,9, 20150617,     2144,-999.000,   3.7141,2,    34.3603,2,     -999.0,9,     -999.0,-999.0000,     -999.0,     -999.0,9,     -999.0,     -999.0,9,     -999.0,  -999.0,9,     -999.0,     -999.0,9,     -999.0
33RO20150525,     P16N.2,     184,          1,          9,          9,2,20150617,       2053,    55.9498,  -152.9761,       2684,   674.8,   3.5183,  34.2572,2,  34.2553,2,     13.6,2,      13,2,  121.43,2,    43.7,2,       0,2,    3.08,2,   0.382,2,   0.184,2,   0.081,2,  2362.3,2,  2349.1,2,   7.2686,6,    24.97,-999.000,9,-999.0000,9,   -0.78,2,  -177.6,2,     2.4,-999.0000,9,-999.0000,  -999.0,9,     48.847,3,-999.000,9, 20150617,     2141,-999.000,   3.5192,2,    34.4168,2,     -999.0,9,     -999.0,-999.0000,     -999.0,     -999.0,9,     -999.0,     -999.0,9,     -999.0,  -999.0,9,     -999.0,     -999.0,9,     -999.0
33RO20150525,     P16N.2,     184,          1,          8,          8,2,20150617,       2053,    55.9498,  -152.9761,       2684,   775.5,   3.2462,  34.2949,2,  34.2915,2,     15.9,2,    16.7,2,  128.96,2,    43.7,2,       0,2,    3.08,2,   0.317,2,   0.154,2,       0,2,  2367.3,2,  2359.9,2,    7.277,2,    24.96,-999.000,9,-999.0000,9,   -0.77,2,  -189.3,2,     2.0,-999.0000,9,-999.0000,  -999.0,9,     48.118,3,-999.000,9, 20150617,     2137,-999.000,   3.2463,2,    34.4532,2,     -999.0,9,     -999.0,-999.0000,     -999.0,     -999.0,9,     -999.0,     -999.0,9,     -999.0,  -999.0,9,     -999.0,     -999.0,9,     -999.0
33RO20150525,     P16N.2,     184,          1,          7,          7,2,20150617,       2053,    55.9498,  -152.9761,       2684,   934.1,   3.0546,  34.3534,2,   34.344,2,     13.3,2,    12.9,2,  136.18,2,   43.99,2,       0,2,    3.08,2,   0.141,2,    0.07,2,    0.04,2,  2378.2,2,  2370.2,2,   7.2799,2,    24.98,-999.000,9,-999.0000,9,   -1.05,2,  -205.8,2,     1.8,-999.0000,9,-999.0000,  -999.0,9,     48.944,3,-999.000,9, 20150617,     2133,-999.000,   3.0547,2,    34.5059,2,     -999.0,9,     -999.0,-999.0000,     -999.0,     -999.0,9,     -999.0,     -999.0,9,     -999.0,  -999.0,9,     -999.0,     -999.0,9,     -999.0
33RO20150525,     P16N.2,     184,          1,          6,          6,2,20150617,       2053,    55.9498,  -152.9761,       2684,    1125,   2.7942,  34.4073,2,  34.4006,2,     15.2,2,      15,2,  144.39,2,   43.99,2,       0,2,    3.09,2,-999.000,9,-999.000,9,-999.000,9,  2384.5,2,  2380.4,2,   7.2895,2,    24.99,-999.000,9,-999.0000,9,   -0.89,2,  -216.4,2,     1.7,-999.0000,9,-999.0000,  -999.0,9,     -999.0,9,-999.000,9, 20150617,     2128,-999.000,   2.7945,2,    34.5628,2,     -999.0,9,     -999.0,-999.0000,     -999.0,     -999.0,9,     -999.0,     -999.0,9,     -999.0,  -999.0,9,     -999.0,     -999.0,9,     -999.0
33RO20150525,     P16N.2,     184,          1,          5,          5,2,20150617,       2053,    55.9498,  -152.9761,       2684,    1350,   2.4997,  34.4662,2,  34.4653,2,     21.2,2,    21.1,2,  153.38,2,   43.79,2,       0,2,    3.06,2,-999.000,9,-999.000,9,-999.000,9,  2388.8,2,  2392.7,2,   7.3078,2,    24.97,-999.000,9,-999.0000,9,   -0.74,2,  -216.3,2,     1.9,-999.0000,9,-999.0000,  -999.0,9,     -999.0,9,-999.000,9, 20150617,     2123,-999.000,   2.4984,2,    34.6278,2,     -999.0,9,     -999.0,-999.0000,     -999.0,     -999.0,9,     -999.0,     -999.0,9,     -999.0,  -999.0,9,     -999.0,     -999.0,9,     -999.0
33RO20150525,     P16N.2,     184,          1,          4,          4,2,20150617,       2053,    55.9498,  -152.9761,       2684,    1650,   2.1675,   34.535,2,  34.5349,2,     36.6,2,    36.3,2,  161.29,6,   43.01,6,       0,6,    2.98,6,-999.000,9,-999.000,9,-999.000,9,  2389.9,2,    2405,2,   7.3428,2,    24.99,-999.000,9,-999.0000,9,   -0.63,2,  -230.0,2,     1.7,-999.0000,9,-999.0000,  -999.0,9,     -999.0,9,-999.000,9, 20150617,     2117,-999.000,   2.1676,2,    34.6977,2,     -999.0,9,     -999.0,-999.0000,     -999.0,     -999.0,9,     -999.0,     -999.0,9,     -999.0,  -999.0,9,     -999.0,     -999.0,9,     -999.0
33RO20150525,     P16N.2,     184,          1,          3,          3,2,20150617,       2053,    55.9498,  -152.9761,       2684,  2050.3,   1.9021,  34.5906,2,  34.5901,2,     58.2,2,    58.9,2,  165.87,6,   41.64,6,       0,6,    2.88,6,-999.000,9,-999.000,9,-999.000,9,  2383.4,2,  2415.4,6,   7.3924,2,    24.99,-999.000,9,-999.0000,9,   -0.51,2,  -234.4,2,     1.7,-999.0000,9,-999.0000,  -999.0,9,     -999.0,9,-999.000,9, 20150617,     2108,-999.000,   1.9022,2,    34.7532,2,     -999.0,9,     -999.0,-999.0000,     -999.0,     -999.0,9,     -999.0,     -999.0,9,     -999.0,  -999.0,9,     -999.0,     -999.0,9,     -999.0
33RO20150525,     P16N.2,     184,          1,          2,          2,2,20150617,       2053,    55.9498,  -152.9761,       2684,  2400.4,   1.7229,  34.6252,2,  34.6283,2,     80.3,2,    80.9,2,  167.24,6,   40.27,6,       0,6,    2.79,6,-999.000,9,-999.000,9,-999.000,9,  2372.6,2,  2419.6,2,   7.4399,6,    24.98,-999.000,9,-999.0000,9,   -0.40,2,  -236.0,2,     1.9,-999.0000,9,-999.0000,  -999.0,9,     -999.0,9,-999.000,9, 20150617,     2100,-999.000,   1.7234,2,    34.7916,2,     -999.0,9,     -999.0,-999.0000,     -999.0,     -999.0,9,     -999.0,     -999.0,9,     -999.0,  -999.0,9,     -999.0,     -999.0,9,     -999.0
33RO20150525,     P16N.2,     184,          1,          1,          1,2,20150617,       2053,    55.9498,  -152.9761,       2684,  2706.9,   1.6181,  34.6455,2,  34.6434,2,     98.1,2,    98.2,2,  166.06,6,    39.1,6,       0,6,    2.71,6,-999.000,9,-999.000,9,-999.000,9,  2363.6,6,  2422.2,2,   7.4745,2,    24.99,-999.000,9,-999.0000,9,   -0.30,2,  -235.8,2,     1.7,-999.0000,9,-999.0000,  -999.0,9,     -999.0,9,-999.000,9, 20150617,     2054,-999.000,   1.6179,2,    34.8067,6,     -999.0,9,     -999.0,-999.0000,     -999.0,     -999.0,9,     -999.0,     -999.0,9,     -999.0,  -999.0,9,     -999.0,     -999.0,9,     -999.0