BOTTLE,20220330CCHSIOCBG
EXPOCODE,SECT_ID,STNNBR,CASTNO,SAMPNO,BTLNBR,BTLNBR_FLAG_W,DATE,TIME,LATITUDE,LONGITUDE,DEPTH,CTDPRS,CTDTMP,CTDSAL,CTDSAL_FLAG_W,SALNTY,SALNTY_FLAG_W,CTDOXY,CTDOXY_FLAG_W,OXYGEN,OXYGEN_FLAG_W,SILCAT,SILCAT_FLAG_W,NITRAT,NITRAT_FLAG_W,NITRIT,NITRIT_FLAG_W,PHSPHT,PHSPHT_FLAG_W,CFC-11,CFC-11_FLAG_W,CFC-12,CFC-12_FLAG_W,SF6,SF6_FLAG_W,TCARBN,TCARBN_FLAG_W,ALKALI,ALKALI_FLAG_W,PH_TOT,PH_TOT_FLAG_W,PH_TMP,TRITUM,TRITUM_FLAG_W,HELIUM,HELIUM_FLAG_W,DELC13,DELC13_FLAG_W,DELC14,DELC14_FLAG_W,C14ERR,NEON,NEON_FLAG_W,NEONER,DOC,DOC_FLAG_W,N2O,N2O_FLAG_W,ARGON,ARGON_FLAG_W,BTL_DATE,BTL_TIME,TRITER,SBE35,SBE35_FLAG_W,SALTREF,SALTREF_FLAG_W,DELHE3,DELHE3_FLAG_W,DELHER,HELIER,ARGONER,KRYPTON,KRYPTON_FLAG_W,KRYPTONER,XENON,XENON_FLAG_W,XENONER,14C-DOC,14C-DOC_FLAG_W,14C-DOCERR,13C-DOC,13C-DOC_FLAG_W,13C-DOCERR
,,,,,,,,,,,METERS,DBAR,ITS-90,PSS-78,,PSS-78,,UMOL/KG,,UMOL/KG,,UMOL/KG,,UMOL/KG,,UMOL/KG,,UMOL/KG,,PMOL/KG,,PMOL/KG,,FMOL/KG,,UMOL/KG,,UMOL/KG,,,,DEG C,TU,,NMOL/KG,,/MILLE,,/MILLE,,/MILLE,NMOL/KG,,NMOL/KG,UMOL/KG,,NMOL/KG,,UMOL/KG,,,,TU,ITS-90,,G/KG,,PERCNT,,PERCNT,NMOL/KG,UMOL/KG,NMOL/KG,,NMOL/KG,NMOL/KG,,NMOL/KG,/MILLE,,/MILLE,/MILLE,,/MILLE
33RO20150525,     P16N.2,     130,          1,         24,         24,2,20150601,       1529,    31.0004,  -152.0001,       5358,     2.8,  20.1607,  35.0223,2,  35.0209,2,    227.7,2,   228.4,2,    1.95,2,       0,2,    0.01,2,    0.02,2,   2.141,2,   1.301,2,   1.615,2,  2029.7,6,    2300,2,    7.993,6,    25.02,-999.000,9,-999.0000,9,    0.54,2,    38.8,2,     2.1,-999.0000,9,-999.0000,    65.4,2,      7.618,3,-999.000,9, 20150601,     1734,-999.000,  20.1608,2,    35.1861,2,     -999.0,9,     -999.0,-999.0000,     -999.0,     -999.0,9,     -999.0,     -999.0,9,     -999.0,  -999.0,9,     -999.0,     -999.0,9,     -999.0
33RO20150525,     P16N.2,     130,          1,         23,         23,2,20150601,       1529,    31.0004,  -152.0001,       5358,    23.6,  20.1565,  35.0266,2,  35.0262,2,    228.7,2,   228.6,2,    1.95,2,       0,2,       0,2,    0.02,2,   2.142,6,   1.304,6,   1.663,6,  2031.2,2,  2300.1,2,   7.9931,2,    25.06,-999.000,9,-999.0000,9, -999.00,9,  -999.0,9,  -999.0,-999.0000,9,-999.0000,    61.8,2,      7.610,3,-999.000,9, 20150601,     1732,-999.000,  20.1573,2,    35.1914,2,     -999.0,9,     -999.0,-999.0000,     -999.0,     -999.0,9,     -999.0,     -999.0,9,     -999.0,    -239,2,          4,      -21.2,2,        0.2
33RO20150525,     P16N.2,     130,          1,         22,         22,2,20150601,       1529,    31.0004,  -152.0001,       5358,    50.3,  20.1351,  35.0314,2,  35.0119,2,    229.8,2,   230.2,2,    2.05,2,       0,2,       0,2,    0.02,2,   2.162,2,   1.313,2,   1.675,2,  2027.9,2,  2299.2,2,   7.9929,2,    25.06,-999.000,9,-999.0000,9,    0.57,2,    40.2,2,     2.1,-999.0000,9,-999.0000,    63.7,2,      7.677,3,-999.000,9, 20150601,     1730,-999.000,  20.1304,2,     35.177,2,     -999.0,9,     -999.0,-999.0000,     -999.0,     -999.0,9,     -999.0,     -999.0,9,     -999.0,    -236,2,          4,     -999.0,9,     -999.0
33RO20150525,     P16N.2,     130,          1,         21,         21,2,20150601,       1529,    31.0004,  -152.0001,       5358,      81,  18.3259,   34.837,2,  34.8332,2,    235.2,2,   235.2,2,    2.34,2,       0,2,    0.01,2,    0.04,2,   2.277,2,   1.387,2,   1.737,2,  2025.6,2,  2288.2,6,   7.9824,2,    25.03,-999.000,9,-999.0000,9,    0.53,2,    36.3,2,     2.1,-999.0000,9,-999.0000,    60.7,2,      7.976,3,-999.000,9, 20150601,     1727,-999.000,  18.3192,2,    34.9975,6,     -999.0,9,     -999.0,-999.0000,     -999.0,     -999.0,9,     -999.0,     -999.0,9,     -999.0,    -229,2,          4,      -21.6,2,        0.2
33RO20150525,     P16N.2,     130,          1,         20,         20,2,20150601,       1529,    31.0004,  -152.0001,       5358,   130.6,  16.8585,  34.6896,2,  34.6837,2,    218.3,2,   218.3,2,    3.32,2,    1.85,2,    0.08,2,    0.21,2,    2.44,2,   1.473,2,    1.72,2,  2043.5,2,  2278.4,2,   7.9326,6,    25.07,-999.000,9,-999.0000,9,    0.31,2,    45.0,2,     2.0,-999.0000,9,-999.0000,    54.6,2,      9.173,3,-999.000,9, 20150601,     1724,-999.000,  16.8681,2,    34.8472,2,     -999.0,9,     -999.0,-999.0000,     -999.0,     -999.0,9,     -999.0,     -999.0,9,     -999.0,  -999.0,9,     -999.0,     -999.0,9,     -999.0
33RO20150525,     P16N.2,     130,          1,         19,         19,2,20150601,       1529,    31.0004,  -152.0001,       5358,   200.5,  13.2852,  34.2525,2,  34.2512,2,    213.1,2,   212.7,2,    7.52,2,    8.01,2,    0.01,2,     0.6,2,     2.9,2,   1.707,2,   1.709,2,    2069,2,    2253,2,   7.8351,2,    25.08,-999.000,9,-999.0000,9,    0.07,2,    38.2,2,     2.0,-999.0000,9,-999.0000,    47.8,2,     12.501,3,-999.000,9, 20150601,     1722,-999.000,  13.3098,2,    34.4127,2,     -999.0,9,     -999.0,-999.0000,     -999.0,     -999.0,9,     -999.0,     -999.0,9,     -999.0,    -333,2,          4,      -22.0,2,        0.2
33RO20150525,     P16N.2,     130,          1,         18,         18,2,20150601,       1529,    31.0004,  -152.0001,       5358,   274.6,  11.4026,  34.1981,2,  34.1938,2,    211.9,2,   211.1,2,   13.48,2,   12.99,2,    0.01,2,    0.91,2,   3.156,2,   1.813,2,   1.666,2,  2096.8,2,  2257.7,2,    7.779,6,    25.07,-999.000,9,-999.0000,9,   -0.04,2,    38.6,2,     2.1,-999.0000,9,-999.0000,    47.4,2,     16.534,3,-999.000,9, 20150601,     1719,-999.000,  11.3899,2,    34.3551,2,     -999.0,9,     -999.0,-999.0000,     -999.0,     -999.0,9,     -999.0,     -999.0,9,     -999.0,  -999.0,9,     -999.0,     -999.0,9,     -999.0
33RO20150525,     P16N.2,     130,          1,         17,         17,2,20150601,       1529,    31.0004,  -152.0001,       5358,   367.2,   9.6403,  34.0999,2,  34.0966,2,    207.9,2,   203.6,2,   20.31,2,   17.09,2,    0.01,2,     1.2,2,   3.294,2,   1.871,2,   1.524,2,    2124,2,  2259.2,2,   7.7187,2,    25.06,-999.000,9,-999.0000,9,   -0.11,2,    25.5,2,     2.2,-999.0000,9,-999.0000,    44.7,2,     20.052,3,-999.000,9, 20150601,     1716,-999.000,   9.6414,2,    34.2574,2,     -999.0,9,     -999.0,-999.0000,     -999.0,     -999.0,9,     -999.0,     -999.0,9,     -999.0,    -369,2,          4,      -22.1,2,        0.2
33RO20150525,     P16N.2,     130,          1,         16,         16,2,20150601,       1529,    31.0004,  -152.0001,       5358,   467.1,   7.5269,  34.0057,2,  34.0036,2,    153.7,2,   152.8,2,   38.29,2,   25.98,2,       0,2,    1.81,2,   3.057,2,   1.629,2,   0.954,2,  2185.1,2,  2269.9,2,   7.5756,2,    25.06,-999.000,9,-999.0000,9,   -0.36,2,    -7.7,2,     2.0,-999.0000,9,-999.0000,    46.9,2,     26.103,3,-999.000,9, 20150601,     1713,-999.000,   7.5365,2,     34.164,2,     -999.0,9,     -999.0,-999.0000,     -999.0,     -999.0,9,     -999.0,     -999.0,9,     -999.0,    -395,2,          4,      -21.8,2,        0.2
33RO20150525,     P16N.2,     130,          1,         15,         15,2,20150601,       1529,    31.0004,  -152.0001,       5358,   599.4,   5.6524,  34.0059,2,  34.0057,2,     82.4,2,      84,2,   64.66,2,   35.75,2,       0,2,    2.52,2,   1.957,2,   0.984,2,    0.43,2,  2261.8,2,  2289.3,2,   7.4009,2,    25.06,-999.000,9,-999.0000,9,   -0.54,2,   -65.6,2,     1.8,-999.0000,9,-999.0000,    45.8,2,     33.557,3,-999.000,9, 20150601,     1709,-999.000,   5.6519,2,     34.166,2,     -999.0,9,     -999.0,-999.0000,     -999.0,     -999.0,9,     -999.0,     -999.0,9,     -999.0,  -999.0,9,     -999.0,     -999.0,9,     -999.0
33RO20150525,     P16N.2,     130,          1,         14,         14,2,20150601,       1529,    31.0004,  -152.0001,       5358,   749.4,   4.5926,   34.137,2,  34.1509,2,       31,2,    30.7,2,   90.82,2,    41.7,2,       0,2,    2.97,2,   0.599,6,   0.288,6,   0.095,6,  2321.7,2,  2318.6,2,    7.299,2,    25.03,-999.000,9,-999.0000,9,   -0.72,2,  -130.5,2,     1.9,-999.0000,9,-999.0000,    43.6,2,     44.346,3,-999.000,9, 20150601,     1705,-999.000,   4.5935,2,     34.312,2,     -999.0,9,     -999.0,-999.0000,     -999.0,     -999.0,9,     -999.0,     -999.0,9,     -999.0,    -457,2,          4,      -21.6,2,        0.2
33RO20150525,     P16N.2,     130,          1,         13,         13,2,20150601,       1529,    31.0004,  -152.0001,       5358,   900.7,   4.0366,  34.2901,2,  34.2911,2,       11,2,    11.2,2,  109.66,2,   43.65,2,       0,2,    3.12,2,   0.065,2,   0.035,2,   0.034,2,  2354.8,2,  2347.2,2,   7.2803,2,    25.06,-999.000,9,-999.0000,9,   -0.78,2,  -185.2,2,     1.7,-999.0000,9,-999.0000,    40.1,2,     50.615,3,-999.000,9, 20150601,     1701,-999.000,   4.0371,2,    34.4528,2,     -999.0,9,     -999.0,-999.0000,     -999.0,     -999.0,9,     -999.0,     -999.0,9,     -999.0,    -487,2,          4,      -21.7,2,        0.2
33RO20150525,     P16N.2,     130,          1,         12,         12,2,20150601,       1529,    31.0004,  -152.0001,       5358,  1233.8,   3.2524,  34.4737,2,  34.4721,2,     22.8,2,    23.3,2,  130.54,2,   43.84,2,       0,2,    3.12,2,   0.006,2,   0.005,2,   0.037,3,  2376.6,2,  2381.4,2,   7.3232,2,    25.06,-999.000,9,-999.0000,9, -999.00,9,  -999.0,9,  -999.0,-999.0000,9,-999.0000,    35.5,2,     46.037,3,-999.000,9, 20150601,     1654,-999.000,   3.2526,2,    34.6347,2,     -999.0,9,     -999.0,-999.0000,     -999.0,     -999.0,9,     -999.0,     -999.0,9,     -999.0,    -522,2,          4,      -21.7,2,        0.2
33RO20150525,     P16N.2,     130,          1,         11,         11,2,20150601,       1529,    31.0004,  -152.0001,       5358,  1500.1,   2.7173,  34.5472,2,  34.5462,2,     46.8,2,    47.1,2,  141.27,2,   42.66,2,    0.01,2,       3,2,   0.002,2,   0.002,2,       0,2,  2375.2,2,  2399.6,2,   7.3751,2,    25.06,-999.000,9,-999.0000,9, -999.00,9,  -999.0,9,  -999.0,-999.0000,9,-999.0000,    38.5,2,     38.130,3,-999.000,9, 20150601,     1648,-999.000,   2.7209,2,    34.7091,2,     -999.0,9,     -999.0,-999.0000,     -999.0,     -999.0,9,     -999.0,     -999.0,9,     -999.0,    -548,2,          4,      -22.1,2,        0.2
33RO20150525,     P16N.2,     130,          1,         10,         10,2,20150601,       1529,    31.0004,  -152.0001,       5358,  1867.3,   2.1733,  34.5993,2,  34.5978,2,     67.3,2,    68.1,2,  155.13,2,   41.39,2,    0.01,2,     2.9,2,       0,2,  -0.001,2,       0,2,  2373.7,6,  2413.8,2,   7.4177,2,    25.04,-999.000,9,-999.0000,9, -999.00,9,  -999.0,9,  -999.0,-999.0000,9,-999.0000,    36.5,2,     32.238,3,-999.000,9, 20150601,     1640,-999.000,   2.1737,2,     34.761,2,     -999.0,9,     -999.0,-999.0000,     -999.0,     -999.0,9,     -999.0,     -999.0,9,     -999.0,  -999.0,9,     -999.0,     -999.0,9,     -999.0
33RO20150525,     P16N.2,     130,          1,          9,          9,2,20150601,       1529,    31.0004,  -152.0001,       5358,  2333.7,   1.7899,  34.6373,2,  34.6383,2,     89.8,2,    89.4,2,   164.4,2,   40.03,2,    0.01,2,    2.78,2,   0.001,2,   0.001,2,       0,2,  2370.8,2,  2424.2,2,    7.461,2,    25.08,-999.000,9,-999.0000,9, -999.00,9,  -999.0,9,  -999.0,-999.0000,9,-999.0000,    36.2,2,     27.419,3,-999.000,9, 20150601,     1631,-999.000,   1.7895,2,    34.8016,2,     -999.0,9,     -999.0,-999.0000,     -999.0,     -999.0,9,     -999.0,     -999.0,9,     -999.0,    -551,2,          4,      -21.7,2,        0.2
33RO20150525,     P16N.2,     130,          1,          8,          8,2,20150601,       1529,    31.0004,  -152.0001,       5358,  2834.1,   1.5824,  34.6603,2,  34.6599,2,    109.7,2,   110.4,2,   164.3,2,   38.66,2,    0.01,2,    2.67,2,   0.004,2,   0.003,2,   0.048,4,  2358.8,2,    2427,2,   7.5031,2,    25.02,-999.000,9,-999.0000,9, -999.00,9,  -999.0,9,  -999.0,-999.0000,9,-999.0000,    36.5,2,     24.400,3,-999.000,9, 20150601,     1621,-999.000,   1.5824,2,    34.8234,2,     -999.0,9,     -999.0,-999.0000,     -999.0,     -999.0,9,     -999.0,     -999.0,9,     -999.0,  -999.0,9,     -999.0,     -999.0,9,     -999.0
33RO20150525,     P16N.2,     130,          1,          7,          7,2,20150601,       1529,    31.0004,  -152.0001,       5358,  3333.2,   1.4856,  34.6744,2,  34.6747,2,    129.1,2,   129.4,2,  158.73,2,   37.49,2,    0.01,2,    2.58,2,   0.001,2,       0,2,       0,2,  2342.9,2,  2424.8,2,   7.5377,2,    25.06,-999.000,9,-999.0000,9, -999.00,9,  -999.0,9,  -999.0,-999.0000,9,-999.0000,    37.7,2,     22.105,3,-999.000,9, 20150601,     1612,-999.000,   1.4856,2,    34.8382,2,     -999.0,9,     -999.0,-999.0000,     -999.0,     -999.0,9,     -999.0,     -999.0,9,     -999.0,  -999.0,9,     -999.0,     -999.0,9,     -999.0
33RO20150525,     P16N.2,     130,          1,          6,          6,2,20150601,       1529,    31.0004,  -152.0001,       5358,  3833.8,   1.4607,   34.683,2,  34.6852,2,    141.5,2,     143,2,  153.85,2,    36.7,2,    0.01,2,    2.51,2,       0,2,       0,2,       0,2,  2335.5,2,  2425.4,2,   7.5602,2,    25.08,-999.000,9,-999.0000,9, -999.00,9,  -999.0,9,  -999.0,-999.0000,9,-999.0000,    37.1,2,     21.319,3,-999.000,9, 20150601,     1602,-999.000,   1.4607,2,    34.8487,2,     -999.0,9,     -999.0,-999.0000,     -999.0,     -999.0,9,     -999.0,     -999.0,9,     -999.0,    -543,2,          4,      -21.7,2,        0.2
33RO20150525,     P16N.2,     130,          1,          5,          5,2,20150601,       1529,    31.0004,  -152.0001,       5358,  4332.7,   1.4793,  34.6874,2,  34.6878,2,    148.6,2,   148.8,2,  150.04,2,   36.12,2,    0.01,2,    2.48,2,   0.001,2,   0.002,2,       0,2,  2330.9,2,  2423.2,2,   7.5721,6,    25.08,-999.000,9,-999.0000,9, -999.00,9,  -999.0,9,  -999.0,-999.0000,9,-999.0000,    35.6,2,     20.811,3,-999.000,9, 20150601,     1552,-999.000,   1.4795,2,    34.8513,2,     -999.0,9,     -999.0,-999.0000,     -999.0,     -999.0,9,     -999.0,     -999.0,9,     -999.0,    -539,2,          4,      -21.7,2,        0.2
33RO20150525,     P16N.2,     130,          1,          4,          4,2,20150601,       1529,    31.0004,  -152.0001,       5358,  4762.2,   1.5091,  34.6899,2,  34.6885,2,    153.6,2,   153.8,2,  145.16,6,   35.83,6,       0,6,    2.43,6,   0.002,2,   0.003,2,       0,2,  2327.1,2,  2422.8,2,   7.5777,2,    25.08,-999.000,9,-999.0000,9, -999.00,9,  -999.0,9,  -999.0,-999.0000,9,-999.0000,    37.8,2,     20.664,3,-999.000,9, 20150601,     1544,-999.000,   1.5089,2,    34.8521,2,     -999.0,9,     -999.0,-999.0000,     -999.0,     -999.0,9,     -999.0,     -999.0,9,     -999.0,  -999.0,9,     -999.0,     -999.0,9,     -999.0
33RO20150525,     P16N.2,     130,          1,          3,          3,2,20150601,       1529,    31.0004,  -152.0001,       5358,    4828,   1.5157,  34.6902,2,  34.6895,2,    154.2,2,   153.9,2,  144.77,6,   35.73,6,       0,6,    2.43,6,   0.002,2,   0.005,2,       0,2,  2324.3,2,    2422,2,   7.5795,6,    25.07,-999.000,9,-999.0000,9, -999.00,9,  -999.0,9,  -999.0,-999.0000,9,-999.0000,    38.2,2,     20.444,3,-999.000,9, 20150601,     1542,-999.000,   1.5159,2,    34.8531,2,     -999.0,9,     -999.0,-999.0000,     -999.0,     -999.0,9,     -999.0,     -999.0,9,     -999.0,  -999.0,5,     -999.0,     -999.0,5,     -999.0
33RO20150525,     P16N.2,     130,          1,          2,          2,2,20150601,       1529,    31.0004,  -152.0001,       5358,  5138.3,   1.5537,  34.6906,2,  34.6886,2,    155.1,2,   154.3,2,  144.38,6,   35.73,6,       0,6,    2.43,6,   0.002,6,   0.004,6,       0,6,  2323.7,2,  2417.6,2,   7.5794,2,    25.12,-999.000,9,-999.0000,9, -999.00,9,  -999.0,9,  -999.0,-999.0000,9,-999.0000,    38.2,2,     20.512,3,-999.000,9, 20150601,     1535,-999.000,   1.5541,2,    34.8522,2,     -999.0,9,     -999.0,-999.0000,     -999.0,     -999.0,9,     -999.0,     -999.0,9,     -999.0,    -539,2,          4,      -21.8,2,        0.2
33RO20150525,     P16N.2,     130,          1,          1,          1,2,20150601,       1529,    31.0004,  -152.0001,       5358,  5443.9,   1.5764,  34.6916,2,  34.6889,2,    157.6,2,     157,2,  141.84,6,   35.53,6,       0,6,    2.41,6,   0.003,2,   0.005,2,       0,2,  2321.4,6,    2416,2,   7.5811,2,    25.11,-999.000,9,-999.0000,9, -999.00,9,  -999.0,9,  -999.0,-999.0000,9,-999.0000,    38.1,2,     20.540,3,-999.000,9, 20150601,     1528,-999.000,   1.5765,2,    34.8524,2,     -999.0,9,     -999.0,-999.0000,     -999.0,     -999.0,9,     -999.0,     -999.0,9,     -999.0,  -999.0,9,     -999.0,     -999.0,9,     -999.0