BOTTLE,20220330CCHSIOCBG
EXPOCODE,SECT_ID,STNNBR,CASTNO,SAMPNO,BTLNBR,BTLNBR_FLAG_W,DATE,TIME,LATITUDE,LONGITUDE,DEPTH,CTDPRS,CTDTMP,CTDSAL,CTDSAL_FLAG_W,SALNTY,SALNTY_FLAG_W,CTDOXY,CTDOXY_FLAG_W,OXYGEN,OXYGEN_FLAG_W,SILCAT,SILCAT_FLAG_W,NITRAT,NITRAT_FLAG_W,NITRIT,NITRIT_FLAG_W,PHSPHT,PHSPHT_FLAG_W,CFC-11,CFC-11_FLAG_W,CFC-12,CFC-12_FLAG_W,SF6,SF6_FLAG_W,TCARBN,TCARBN_FLAG_W,ALKALI,ALKALI_FLAG_W,PH_TOT,PH_TOT_FLAG_W,PH_TMP,TRITUM,TRITUM_FLAG_W,HELIUM,HELIUM_FLAG_W,DELC13,DELC13_FLAG_W,DELC14,DELC14_FLAG_W,C14ERR,NEON,NEON_FLAG_W,NEONER,DOC,DOC_FLAG_W,N2O,N2O_FLAG_W,ARGON,ARGON_FLAG_W,BTL_DATE,BTL_TIME,TRITER,SBE35,SBE35_FLAG_W,SALTREF,SALTREF_FLAG_W,DELHE3,DELHE3_FLAG_W,DELHER,HELIER,ARGONER,KRYPTON,KRYPTON_FLAG_W,KRYPTONER,XENON,XENON_FLAG_W,XENONER,14C-DOC,14C-DOC_FLAG_W,14C-DOCERR,13C-DOC,13C-DOC_FLAG_W,13C-DOCERR
,,,,,,,,,,,METERS,DBAR,ITS-90,PSS-78,,PSS-78,,UMOL/KG,,UMOL/KG,,UMOL/KG,,UMOL/KG,,UMOL/KG,,UMOL/KG,,PMOL/KG,,PMOL/KG,,FMOL/KG,,UMOL/KG,,UMOL/KG,,,,DEG C,TU,,NMOL/KG,,/MILLE,,/MILLE,,/MILLE,NMOL/KG,,NMOL/KG,UMOL/KG,,NMOL/KG,,UMOL/KG,,,,TU,ITS-90,,G/KG,,PERCNT,,PERCNT,NMOL/KG,UMOL/KG,NMOL/KG,,NMOL/KG,NMOL/KG,,NMOL/KG,/MILLE,,/MILLE,/MILLE,,/MILLE
33RO20150525,     P16N.2,     125,          1,         24,         24,2,20150531,       0233,    28.4999,  -152.0001,       5465,     3.8,  22.9051,  35.4466,2,   35.447,2,    215.7,2,   216.7,2,    1.95,2,       0,2,    0.01,2,    0.06,2,   1.869,6,   1.156,6,   1.526,6,  2030.9,6,  2333.1,2,   8.0378,2,    24.99,-999.000,9,-999.0000,9, -999.00,9,  -999.0,9,  -999.0,-999.0000,9,-999.0000,    68.9,2,      6.928,3,-999.000,9, 20150531,     0443,-999.000,   22.903,2,    35.6142,2,     -999.0,9,     -999.0,-999.0000,     -999.0,     -999.0,9,     -999.0,     -999.0,9,     -999.0,  -999.0,9,     -999.0,     -999.0,9,     -999.0
33RO20150525,     P16N.2,     125,          1,         23,         23,2,20150531,       0233,    28.4999,  -152.0001,       5465,    24.8,  22.8736,  35.4444,2,  35.4445,2,    216.4,2,   216.9,2,    1.17,2,       0,2,    0.02,2,    0.07,2,   1.877,2,   1.162,2,   1.476,2,  2029.4,2,  2331.3,2,    8.038,2,       25,-999.000,9,-999.0000,9, -999.00,9,  -999.0,9,  -999.0,-999.0000,9,-999.0000,    70.6,2,      6.953,3,-999.000,9, 20150531,     0441,-999.000,  22.8768,2,    35.6116,2,     -999.0,9,     -999.0,-999.0000,     -999.0,     -999.0,9,     -999.0,     -999.0,9,     -999.0,  -999.0,9,     -999.0,     -999.0,9,     -999.0
33RO20150525,     P16N.2,     125,          1,         22,         22,2,20150531,       0233,    28.4999,  -152.0001,       5465,    50.1,   22.564,  35.4265,2,  35.4003,2,    219.8,2,   221.2,2,    1.27,2,       0,2,    0.01,2,    0.06,2,   1.935,2,   1.199,2,   1.538,2,  2028.7,2,  2327.3,2,   8.0336,6,    24.99,-999.000,9,-999.0000,9, -999.00,9,  -999.0,9,  -999.0,-999.0000,9,-999.0000,    68.6,2,      7.198,3,-999.000,9, 20150531,     0439,-999.000,  22.6072,2,    35.5672,2,     -999.0,9,     -999.0,-999.0000,     -999.0,     -999.0,9,     -999.0,     -999.0,9,     -999.0,  -999.0,9,     -999.0,     -999.0,9,     -999.0
33RO20150525,     P16N.2,     125,          1,         21,         21,2,20150531,       0233,    28.4999,  -152.0001,       5465,    75.2,  21.2306,  35.3355,2,  35.3201,2,      223,2,   225.8,2,    1.56,2,       0,2,    0.01,2,    0.05,2,   2.041,2,   1.276,2,    1.54,2,  2031.3,2,  2321.5,2,   8.0185,2,    24.99,-999.000,9,-999.0000,9, -999.00,9,  -999.0,9,  -999.0,-999.0000,9,-999.0000,    65.1,2,      7.480,3,-999.000,9, 20150531,     0437,-999.000,  21.2402,2,    35.4866,2,     -999.0,9,     -999.0,-999.0000,     -999.0,     -999.0,9,     -999.0,     -999.0,9,     -999.0,  -999.0,9,     -999.0,     -999.0,9,     -999.0
33RO20150525,     P16N.2,     125,          1,         20,         20,2,20150531,       0233,    28.4999,  -152.0001,       5465,   100.2,  19.9528,  35.1777,2,  35.1833,2,    218.7,2,   218.8,2,    1.76,2,       0,2,    0.01,2,    0.09,2,   2.125,2,    1.29,2,    1.56,2,  2038.8,2,  2313.5,6,   7.9948,6,    24.99,-999.000,9,-999.0000,9, -999.00,9,  -999.0,9,  -999.0,-999.0000,9,-999.0000,    59.4,2,      7.828,3,-999.000,9, 20150531,     0435,-999.000,  19.9526,2,    35.3492,2,     -999.0,9,     -999.0,-999.0000,     -999.0,     -999.0,9,     -999.0,     -999.0,9,     -999.0,  -999.0,9,     -999.0,     -999.0,9,     -999.0
33RO20150525,     P16N.2,     125,          1,         19,         19,2,20150531,       0233,    28.4999,  -152.0001,       5465,   149.4,  17.9018,  34.9429,2,  34.9448,2,    235.9,2,   219.7,2,    2.54,2,    1.07,2,    0.08,2,    0.15,2,   2.309,2,   1.392,2,   1.708,2,  2045.2,2,  2295.9,2,   7.9617,2,    24.99,-999.000,9,-999.0000,9, -999.00,9,  -999.0,9,  -999.0,-999.0000,9,-999.0000,    54.0,2,      8.391,3,-999.000,9, 20150531,     0432,-999.000,  17.9028,2,    35.1096,2,     -999.0,9,     -999.0,-999.0000,     -999.0,     -999.0,9,     -999.0,     -999.0,9,     -999.0,  -999.0,9,     -999.0,     -999.0,9,     -999.0
33RO20150525,     P16N.2,     125,          1,         18,         18,2,20150531,       0233,    28.4999,  -152.0001,       5465,   225.5,  14.8381,  34.4502,2,  34.4411,2,    208.3,2,   209.6,2,    5.57,2,    5.76,2,    0.02,2,    0.45,2,   2.694,2,   1.606,2,    1.69,2,  2061.2,2,  2263.3,2,   7.8736,2,    24.97,-999.000,9,-999.0000,9, -999.00,9,  -999.0,9,  -999.0,-999.0000,9,-999.0000,    48.0,2,     11.152,3,-999.000,9, 20150531,     0429,-999.000,  14.8428,2,    34.6035,2,     -999.0,9,     -999.0,-999.0000,     -999.0,     -999.0,9,     -999.0,     -999.0,9,     -999.0,  -999.0,9,     -999.0,     -999.0,9,     -999.0
33RO20150525,     P16N.2,     125,          1,         17,         17,2,20150531,       0233,    28.4999,  -152.0001,       5465,   299.8,  12.6006,  34.2861,2,  34.2831,2,    209.8,2,   209.2,2,   10.45,2,   10.64,2,    0.01,2,    0.77,2,   2.997,2,    1.73,2,   1.644,2,  2083.2,2,  2256.6,2,   7.8145,6,       25,-999.000,9,-999.0000,9, -999.00,9,  -999.0,9,  -999.0,-999.0000,9,-999.0000,    45.9,2,     14.150,3,-999.000,9, 20150531,     0426,-999.000,  12.5975,2,    34.4448,2,     -999.0,9,     -999.0,-999.0000,     -999.0,     -999.0,9,     -999.0,     -999.0,9,     -999.0,  -999.0,9,     -999.0,     -999.0,9,     -999.0
33RO20150525,     P16N.2,     125,          1,         16,         16,2,20150531,       0233,    28.4999,  -152.0001,       5465,   399.8,   9.8509,  34.1048,2,  34.1068,2,    201.2,2,   200.2,2,   19.34,2,    16.8,2,    0.01,2,    1.19,2,    3.35,2,   1.829,2,   1.371,2,  2123.1,2,  2258.4,2,   7.7227,6,    24.97,-999.000,9,-999.0000,9, -999.00,9,  -999.0,9,  -999.0,-999.0000,9,-999.0000,    46.8,2,     19.577,3,-999.000,9, 20150531,     0423,-999.000,   9.8509,2,    34.2677,6,     -999.0,9,     -999.0,-999.0000,     -999.0,     -999.0,9,     -999.0,     -999.0,9,     -999.0,  -999.0,9,     -999.0,     -999.0,9,     -999.0
33RO20150525,     P16N.2,     125,          1,         15,         15,2,20150531,       0233,    28.4999,  -152.0001,       5465,   499.9,   7.6916,  34.0194,2,  34.0183,2,    153.9,2,   152.7,2,   37.02,2,   25.49,2,    0.01,2,    1.79,2,   3.034,2,   1.592,2,   0.947,2,  2185.1,2,  2270.5,2,   7.5835,2,    24.98,-999.000,9,-999.0000,9, -999.00,9,  -999.0,9,  -999.0,-999.0000,9,-999.0000,    43.0,2,     25.253,3,-999.000,9, 20150531,     0420,-999.000,   7.6903,2,    34.1787,2,     -999.0,9,     -999.0,-999.0000,     -999.0,     -999.0,9,     -999.0,     -999.0,9,     -999.0,  -999.0,9,     -999.0,     -999.0,9,     -999.0
33RO20150525,     P16N.2,     125,          1,         14,         14,2,20150531,       0233,    28.4999,  -152.0001,       5465,   651.2,   5.3598,  34.0364,2,  34.0368,2,     74.1,2,      74,2,      71,2,   36.92,2,    0.01,2,    2.61,2,   1.558,6,   0.755,6,   0.284,6,  2273.1,2,    2300,2,   7.3871,2,    24.98,-999.000,9,-999.0000,9, -999.00,9,  -999.0,9,  -999.0,-999.0000,9,-999.0000,    44.8,2,     35.787,3,-999.000,9, 20150531,     0415,-999.000,    5.359,2,    34.1973,2,     -999.0,9,     -999.0,-999.0000,     -999.0,     -999.0,9,     -999.0,     -999.0,9,     -999.0,  -999.0,9,     -999.0,     -999.0,9,     -999.0
33RO20150525,     P16N.2,     125,          1,         13,         13,2,20150531,       0233,    28.4999,  -152.0001,       5465,   799.8,   4.3253,  34.1805,2,  34.1791,2,     27.1,2,    25.6,2,   97.95,2,   42.48,2,    0.01,2,    3.02,2,   0.326,2,   0.162,2,   0.056,2,  2331.6,2,  2329.1,2,   7.2968,2,       25,-999.000,9,-999.0000,9, -999.00,9,  -999.0,9,  -999.0,-999.0000,9,-999.0000,    41.2,2,     45.605,3,-999.000,9, 20150531,     0411,-999.000,   4.3237,2,    34.3402,2,     -999.0,9,     -999.0,-999.0000,     -999.0,     -999.0,9,     -999.0,     -999.0,9,     -999.0,  -999.0,9,     -999.0,     -999.0,9,     -999.0
33RO20150525,     P16N.2,     125,          1,         12,         12,2,20150531,       0233,    28.4999,  -152.0001,       5465,   949.4,   3.7646,   34.331,2,   34.329,2,     13.3,2,    12.7,2,  116.39,2,   43.94,2,    0.01,2,    3.13,2,   0.028,2,   0.016,2,   0.038,3,  2363.7,6,  2354.8,2,   7.2896,2,       25,-999.000,9,-999.0000,9, -999.00,9,  -999.0,9,  -999.0,-999.0000,9,-999.0000,    39.0,2,     49.842,3,-999.000,9, 20150531,     0407,-999.000,   3.7648,2,    34.4908,2,     -999.0,9,     -999.0,-999.0000,     -999.0,     -999.0,9,     -999.0,     -999.0,9,     -999.0,  -999.0,9,     -999.0,     -999.0,9,     -999.0
33RO20150525,     P16N.2,     125,          1,         11,         11,2,20150531,       0233,    28.4999,  -152.0001,       5465,  1099.9,   3.4503,  34.4265,2,  34.4255,2,     22.6,2,    22.4,2,  124.39,2,   43.64,2,    0.02,2,    3.11,2,   0.007,2,   0.006,2,       0,2,  2368.8,2,  2374.3,2,   7.3195,2,    24.97,-999.000,9,-999.0000,9, -999.00,9,  -999.0,9,  -999.0,-999.0000,9,-999.0000,    38.4,2,     46.923,3,-999.000,9, 20150531,     0403,-999.000,   3.4509,2,    34.5879,2,     -999.0,9,     -999.0,-999.0000,     -999.0,     -999.0,9,     -999.0,     -999.0,9,     -999.0,  -999.0,9,     -999.0,     -999.0,9,     -999.0
33RO20150525,     P16N.2,     125,          1,         10,         10,2,20150531,       0233,    28.4999,  -152.0001,       5465,  1299.9,   3.0441,  34.5131,2,  34.5194,2,     42.7,2,    42.3,2,     132,2,   42.66,2,    0.02,2,    3.02,2,   0.004,2,   0.005,2,       0,2,    2369,2,  2388.7,2,    7.369,2,    25.01,-999.000,9,-999.0000,9, -999.00,9,  -999.0,9,  -999.0,-999.0000,9,-999.0000,    37.2,2,     40.194,3,-999.000,9, 20150531,     0358,-999.000,   3.0475,2,    34.6822,2,     -999.0,9,     -999.0,-999.0000,     -999.0,     -999.0,9,     -999.0,     -999.0,9,     -999.0,  -999.0,9,     -999.0,     -999.0,9,     -999.0
33RO20150525,     P16N.2,     125,          1,          9,          9,2,20150531,       0233,    28.4999,  -152.0001,       5465,  1600.3,   2.5262,  34.5706,2,  34.5826,4,       62,2,      61,2,  143.12,2,   41.69,2,    0.01,2,    2.92,2,  -0.001,2,   0.002,2,       0,2,  2368.7,2,  2403.4,2,   7.4088,6,    24.99,-999.000,9,-999.0000,9, -999.00,9,  -999.0,9,  -999.0,-999.0000,9,-999.0000,    37.0,2,     34.565,3,-999.000,9, 20150531,     0352,-999.000,   2.5268,2,    34.7457,2,     -999.0,9,     -999.0,-999.0000,     -999.0,     -999.0,9,     -999.0,     -999.0,9,     -999.0,  -999.0,9,     -999.0,     -999.0,9,     -999.0
33RO20150525,     P16N.2,     125,          1,          8,          8,2,20150531,       0233,    28.4999,  -152.0001,       5465,  2000.1,   2.0732,  34.6128,2,  34.6121,2,     77.9,2,    77.6,2,  154.83,2,   40.71,2,    0.01,2,    2.84,2,-999.000,9,-999.000,9,-999.000,9,  2369.8,2,  2416.8,2,   7.4418,2,    24.99,-999.000,9,-999.0000,9, -999.00,9,  -999.0,9,  -999.0,-999.0000,9,-999.0000,    36.3,2,     -999.0,9,-999.000,9, 20150531,     0343,-999.000,   2.0735,2,    34.7753,2,     -999.0,9,     -999.0,-999.0000,     -999.0,     -999.0,9,     -999.0,     -999.0,9,     -999.0,  -999.0,9,     -999.0,     -999.0,9,     -999.0
33RO20150525,     P16N.2,     125,          1,          7,          7,2,20150531,       0233,    28.4999,  -152.0001,       5465,  2500.4,   1.7325,  34.6455,2,  34.6445,2,     98.8,2,    98.8,2,  161.96,2,   39.44,2,    0.01,2,    2.73,2,-999.000,9,-999.000,9,-999.000,9,  2364.7,2,  2423.2,2,   7.4812,2,    24.98,-999.000,9,-999.0000,9, -999.00,9,  -999.0,9,  -999.0,-999.0000,9,-999.0000,    37.3,2,     -999.0,9,-999.000,9, 20150531,     0334,-999.000,   1.7326,2,    34.8079,2,     -999.0,9,     -999.0,-999.0000,     -999.0,     -999.0,9,     -999.0,     -999.0,9,     -999.0,  -999.0,9,     -999.0,     -999.0,9,     -999.0
33RO20150525,     P16N.2,     125,          1,          6,          6,2,20150531,       0233,    28.4999,  -152.0001,       5465,  3000.7,   1.5589,  34.6662,2,  34.6647,2,    120.2,2,   119.9,2,  159.22,2,   38.07,2,    0.01,2,    2.63,2,-999.000,9,-999.000,9,-999.000,9,  2351.8,2,  2424.4,2,   7.5226,2,       25,-999.000,9,-999.0000,9, -999.00,9,  -999.0,9,  -999.0,-999.0000,9,-999.0000,    37.4,2,     -999.0,9,-999.000,9, 20150531,     0324,-999.000,    1.559,2,    34.8282,2,     -999.0,9,     -999.0,-999.0000,     -999.0,     -999.0,9,     -999.0,     -999.0,9,     -999.0,  -999.0,9,     -999.0,     -999.0,9,     -999.0
33RO20150525,     P16N.2,     125,          1,          5,          5,2,20150531,       0233,    28.4999,  -152.0001,       5465,  3499.9,   1.4991,  34.6774,2,  34.6776,2,    134.7,2,     134,2,  155.31,2,    37.1,2,    0.01,2,    2.54,2,-999.000,9,-999.000,9,-999.000,9,  2340.7,2,  2424.6,2,   7.5476,6,    24.98,-999.000,9,-999.0000,9, -999.00,9,  -999.0,9,  -999.0,-999.0000,9,-999.0000,    36.6,2,     -999.0,9,-999.000,9, 20150531,     0314,-999.000,   1.4992,2,    34.8411,2,     -999.0,9,     -999.0,-999.0000,     -999.0,     -999.0,9,     -999.0,     -999.0,9,     -999.0,  -999.0,9,     -999.0,     -999.0,9,     -999.0
33RO20150525,     P16N.2,     125,          1,          4,          4,2,20150531,       0233,    28.4999,  -152.0001,       5465,  4000.3,   1.4867,  34.6832,2,  34.6825,2,    143.9,2,     143,2,  151.21,6,   36.51,6,       0,6,     2.5,6,-999.000,9,-999.000,9,-999.000,9,  2333.3,2,  2423.8,2,   7.5627,2,    24.99,-999.000,9,-999.0000,9, -999.00,9,  -999.0,9,  -999.0,-999.0000,9,-999.0000,    36.5,2,     -999.0,9,-999.000,9, 20150531,     0305,-999.000,   1.4866,2,    34.8461,2,     -999.0,9,     -999.0,-999.0000,     -999.0,     -999.0,9,     -999.0,     -999.0,9,     -999.0,  -999.0,9,     -999.0,     -999.0,9,     -999.0
33RO20150525,     P16N.2,     125,          1,          3,          3,2,20150531,       0233,    28.4999,  -152.0001,       5465,  4500.5,   1.4925,  34.6878,2,  34.6874,2,    151.8,2,   151.3,2,  146.14,6,   36.02,6,       0,6,    2.46,6,-999.000,9,-999.000,9,-999.000,9,    2324,2,  2420.2,6,   7.5743,2,       25,-999.000,9,-999.0000,9, -999.00,9,  -999.0,9,  -999.0,-999.0000,9,-999.0000,    37.2,2,     -999.0,9,-999.000,9, 20150531,     0255,-999.000,   1.4926,2,     34.851,2,     -999.0,9,     -999.0,-999.0000,     -999.0,     -999.0,9,     -999.0,     -999.0,9,     -999.0,  -999.0,9,     -999.0,     -999.0,9,     -999.0
33RO20150525,     P16N.2,     125,          1,          2,          2,2,20150531,       0233,    28.4999,  -152.0001,       5465,  5028.2,   1.5119,  34.6916,2,  34.6902,2,      159,2,   158.8,2,  140.67,6,   35.44,6,    0.01,6,    2.42,6,-999.000,9,-999.000,9,-999.000,9,  2318.4,2,  2414.4,2,   7.5838,2,    24.94,-999.000,9,-999.0000,9, -999.00,9,  -999.0,9,  -999.0,-999.0000,9,-999.0000,    38.4,2,     -999.0,9,-999.000,9, 20150531,     0245,-999.000,   1.5118,2,    34.8538,6,     -999.0,9,     -999.0,-999.0000,     -999.0,     -999.0,9,     -999.0,     -999.0,9,     -999.0,  -999.0,9,     -999.0,     -999.0,9,     -999.0
33RO20150525,     P16N.2,     125,          1,          1,          1,2,20150531,       0233,    28.4999,  -152.0001,       5465,  5556.1,   1.5626,  34.6936,2,  34.6936,2,    162.9,2,   161.8,2,  138.42,6,   35.14,6,    0.01,6,    2.42,6,-999.000,9,-999.000,9,-999.000,9,  2315.4,6,    2412,2,   7.5865,2,       25,-999.000,9,-999.0000,9, -999.00,9,  -999.0,9,  -999.0,-999.0000,9,-999.0000,    37.7,2,     -999.0,9,-999.000,9, 20150531,     0234,-999.000,   1.5628,2,    34.8571,2,     -999.0,9,     -999.0,-999.0000,     -999.0,     -999.0,9,     -999.0,     -999.0,9,     -999.0,  -999.0,9,     -999.0,     -999.0,9,     -999.0