BOTTLE,20220330CCHSIOCBG
EXPOCODE,SECT_ID,STNNBR,CASTNO,SAMPNO,BTLNBR,BTLNBR_FLAG_W,DATE,TIME,LATITUDE,LONGITUDE,DEPTH,CTDPRS,CTDTMP,CTDSAL,CTDSAL_FLAG_W,SALNTY,SALNTY_FLAG_W,CTDOXY,CTDOXY_FLAG_W,OXYGEN,OXYGEN_FLAG_W,SILCAT,SILCAT_FLAG_W,NITRAT,NITRAT_FLAG_W,NITRIT,NITRIT_FLAG_W,PHSPHT,PHSPHT_FLAG_W,CFC-11,CFC-11_FLAG_W,CFC-12,CFC-12_FLAG_W,SF6,SF6_FLAG_W,TCARBN,TCARBN_FLAG_W,ALKALI,ALKALI_FLAG_W,PH_TOT,PH_TOT_FLAG_W,PH_TMP,TRITUM,TRITUM_FLAG_W,HELIUM,HELIUM_FLAG_W,DELC13,DELC13_FLAG_W,DELC14,DELC14_FLAG_W,C14ERR,NEON,NEON_FLAG_W,NEONER,DOC,DOC_FLAG_W,N2O,N2O_FLAG_W,ARGON,ARGON_FLAG_W,BTL_DATE,BTL_TIME,TRITER,SBE35,SBE35_FLAG_W,SALTREF,SALTREF_FLAG_W,DELHE3,DELHE3_FLAG_W,DELHER,HELIER,ARGONER,KRYPTON,KRYPTON_FLAG_W,KRYPTONER,XENON,XENON_FLAG_W,XENONER,14C-DOC,14C-DOC_FLAG_W,14C-DOCERR,13C-DOC,13C-DOC_FLAG_W,13C-DOCERR
,,,,,,,,,,,METERS,DBAR,ITS-90,PSS-78,,PSS-78,,UMOL/KG,,UMOL/KG,,UMOL/KG,,UMOL/KG,,UMOL/KG,,UMOL/KG,,PMOL/KG,,PMOL/KG,,FMOL/KG,,UMOL/KG,,UMOL/KG,,,,DEG C,TU,,NMOL/KG,,/MILLE,,/MILLE,,/MILLE,NMOL/KG,,NMOL/KG,UMOL/KG,,NMOL/KG,,UMOL/KG,,,,TU,ITS-90,,G/KG,,PERCNT,,PERCNT,NMOL/KG,UMOL/KG,NMOL/KG,,NMOL/KG,NMOL/KG,,NMOL/KG,/MILLE,,/MILLE,/MILLE,,/MILLE
33RO20150525,     P16N.2,     145,          1,         24,         24,2,20150606,       1137,    38.4962,  -151.9997,       5323,     5.4,   15.428,  33.8615,2,  33.8667,2,    251.6,2,   251.5,2,    3.71,2,       0,2,    0.01,2,    0.14,2,    2.75,2,   1.611,2,   1.929,4,  2015.2,6,  2233.2,2,     7.91,2,    25.01,-999.000,9,-999.0000,9, -999.00,9,  -999.0,9,  -999.0,-999.0000,9,-999.0000,    56.6,2,      9.314,3,-999.000,9, 20150606,     1338,-999.000,  15.4275,2,    34.0264,2,     -999.0,9,     -999.0,-999.0000,     -999.0,     -999.0,9,     -999.0,     -999.0,9,     -999.0,  -999.0,9,     -999.0,     -999.0,9,     -999.0
33RO20150525,     P16N.2,     145,          1,         23,         23,2,20150606,       1137,    38.4962,  -151.9997,       5323,    20.4,  15.4284,  33.9122,2,  33.9223,2,      252,2,   251.7,2,    3.81,2,       0,2,    0.01,2,    0.13,2,-999.000,9,-999.000,9,-999.000,9,  2021.1,2,  2237.2,2,    7.909,2,    25.02,-999.000,9,-999.0000,9, -999.00,9,  -999.0,9,  -999.0,-999.0000,9,-999.0000,    56.3,2,     -999.0,9,-999.000,9, 20150606,     1336,-999.000,  15.4305,2,    34.0823,2,     -999.0,9,     -999.0,-999.0000,     -999.0,     -999.0,9,     -999.0,     -999.0,9,     -999.0,  -999.0,9,     -999.0,     -999.0,9,     -999.0
33RO20150525,     P16N.2,     145,          1,         22,         22,2,20150606,       1137,    38.4962,  -151.9997,       5323,    42.6,   14.064,  33.9661,2,  33.9673,2,    269.5,2,   267.8,2,     4.2,2,     0.1,2,    0.02,2,    0.18,2,   2.882,2,    1.71,2,   2.064,4,    2025,2,  2240.8,2,   7.9128,6,       25,-999.000,9,-999.0000,9, -999.00,9,  -999.0,9,  -999.0,-999.0000,9,-999.0000,    59.2,2,      9.356,3,-999.000,9, 20150606,     1334,-999.000,  14.0953,2,    34.1275,2,     -999.0,9,     -999.0,-999.0000,     -999.0,     -999.0,9,     -999.0,     -999.0,9,     -999.0,  -999.0,9,     -999.0,     -999.0,9,     -999.0
33RO20150525,     P16N.2,     145,          1,         21,         21,2,20150606,       1137,    38.4962,  -151.9997,       5323,    66.9,   12.091,  33.9633,2,  33.9706,2,    262.3,2,     264,2,    5.86,2,    2.44,2,    0.22,2,    0.31,2,-999.000,9,-999.000,9,-999.000,9,  2038.6,2,    2242,6,   7.8818,2,    25.01,-999.000,9,-999.0000,9, -999.00,9,  -999.0,9,  -999.0,-999.0000,9,-999.0000,    54.9,2,     -999.0,9,-999.000,9, 20150606,     1332,-999.000,  12.1009,2,    34.1308,2,     -999.0,9,     -999.0,-999.0000,     -999.0,     -999.0,9,     -999.0,     -999.0,9,     -999.0,  -999.0,9,     -999.0,     -999.0,9,     -999.0
33RO20150525,     P16N.2,     145,          1,         20,         20,2,20150606,       1137,    38.4962,  -151.9997,       5323,    93.9,  11.9985,  34.0505,2,  34.0535,2,    258.7,2,   251.8,2,    6.74,2,     4.5,2,    0.23,2,    0.43,2,   3.223,2,   1.796,2,   2.061,4,  2049.8,2,  2246.8,2,   7.8623,2,       25,-999.000,9,-999.0000,9, -999.00,9,  -999.0,9,  -999.0,-999.0000,9,-999.0000,    50.4,2,     11.207,3,-999.000,9, 20150606,     1330,-999.000,  12.0041,2,    34.2141,2,     -999.0,9,     -999.0,-999.0000,     -999.0,     -999.0,9,     -999.0,     -999.0,9,     -999.0,  -999.0,9,     -999.0,     -999.0,9,     -999.0
33RO20150525,     P16N.2,     145,          1,         19,         19,2,20150606,       1137,    38.4962,  -151.9997,       5323,     133,   11.724,  34.1312,2,  34.1337,2,    233.4,2,   233.2,2,    8.99,2,     8.4,2,    0.06,2,    0.64,2,-999.000,9,-999.000,9,-999.000,9,  2072.4,2,  2251.1,2,   7.8249,2,    25.03,-999.000,9,-999.0000,9, -999.00,9,  -999.0,9,  -999.0,-999.0000,9,-999.0000,    50.2,2,     -999.0,9,-999.000,9, 20150606,     1328,-999.000,  11.7236,2,    34.2947,2,     -999.0,9,     -999.0,-999.0000,     -999.0,     -999.0,9,     -999.0,     -999.0,9,     -999.0,  -999.0,9,     -999.0,     -999.0,9,     -999.0
33RO20150525,     P16N.2,     145,          1,         18,         18,2,20150606,       1137,    38.4962,  -151.9997,       5323,   201.3,  10.9226,  34.1563,2,  34.1566,2,    226.1,2,   225.2,2,      13,2,   11.92,2,    0.02,2,    0.86,2,   3.131,2,   1.837,2,   1.919,4,  2092.5,2,    2257,2,   7.7889,2,       25,-999.000,9,-999.0000,9, -999.00,9,  -999.0,9,  -999.0,-999.0000,9,-999.0000,    47.9,2,     16.532,3,-999.000,9, 20150606,     1326,-999.000,  10.9267,2,    34.3177,2,     -999.0,9,     -999.0,-999.0000,     -999.0,     -999.0,9,     -999.0,     -999.0,9,     -999.0,  -999.0,9,     -999.0,     -999.0,9,     -999.0
33RO20150525,     P16N.2,     145,          1,         17,         17,2,20150606,       1137,    38.4962,  -151.9997,       5323,   275.3,   9.9057,  34.1159,2,  34.1159,2,    211.8,2,   211.8,2,   19.25,2,   15.73,2,    0.01,2,    1.11,2,   3.132,2,   1.838,2,   1.706,4,  2114.3,2,    2263,2,    7.743,2,       25,-999.000,9,-999.0000,9, -999.00,9,  -999.0,9,  -999.0,-999.0000,9,-999.0000,    49.1,2,     20.701,3,-999.000,9, 20150606,     1323,-999.000,   9.9029,2,    34.2768,2,     -999.0,9,     -999.0,-999.0000,     -999.0,     -999.0,9,     -999.0,     -999.0,9,     -999.0,  -999.0,9,     -999.0,     -999.0,9,     -999.0
33RO20150525,     P16N.2,     145,          1,         16,         16,2,20150606,       1137,    38.4962,  -151.9997,       5323,   368.1,   8.4702,  34.0501,2,  34.0499,2,    182.9,2,   182.9,2,   30.79,2,    21.5,2,    0.01,2,     1.5,2,   3.298,2,   1.743,2,   1.348,4,  2154.8,2,  2269.1,2,   7.6576,2,    24.96,-999.000,9,-999.0000,9, -999.00,9,  -999.0,9,  -999.0,-999.0000,9,-999.0000,    47.5,2,     24.592,3,-999.000,9, 20150606,     1320,-999.000,   8.4626,2,    34.2104,2,     -999.0,9,     -999.0,-999.0000,     -999.0,     -999.0,9,     -999.0,     -999.0,9,     -999.0,  -999.0,9,     -999.0,     -999.0,9,     -999.0
33RO20150525,     P16N.2,     145,          1,         15,         15,2,20150606,       1137,    38.4962,  -151.9997,       5323,   466.8,   6.5322,  33.9784,2,  33.9776,2,    141.4,2,   141.9,2,   50.24,2,   29.22,2,    0.01,2,    2.06,2,   2.772,2,   1.488,2,   0.947,4,  2210.3,2,    2281,2,    7.531,6,       25,-999.000,9,-999.0000,9, -999.00,9,  -999.0,9,  -999.0,-999.0000,9,-999.0000,    43.5,2,     28.930,3,-999.000,9, 20150606,     1317,-999.000,   6.5172,2,    34.1378,2,     -999.0,9,     -999.0,-999.0000,     -999.0,     -999.0,9,     -999.0,     -999.0,9,     -999.0,  -999.0,9,     -999.0,     -999.0,9,     -999.0
33RO20150525,     P16N.2,     145,          1,         14,         14,2,20150606,       1137,    38.4962,  -151.9997,       5323,   601.2,   4.9334,  34.0157,2,  34.0201,2,     86.4,2,    86.6,2,   76.53,2,   36.85,2,    0.01,2,     2.6,2,   1.901,2,    0.96,2,   0.478,4,    2275,2,  2303.3,2,   7.3965,6,    24.99,-999.000,9,-999.0000,9, -999.00,9,  -999.0,9,  -999.0,-999.0000,9,-999.0000,    41.3,2,     36.285,3,-999.000,9, 20150606,     1314,-999.000,   4.9378,2,    34.1805,2,     -999.0,9,     -999.0,-999.0000,     -999.0,     -999.0,9,     -999.0,     -999.0,9,     -999.0,  -999.0,9,     -999.0,     -999.0,9,     -999.0
33RO20150525,     P16N.2,     145,          1,         13,         13,2,20150606,       1137,    38.4962,  -151.9997,       5323,   750.6,   4.2615,  34.1343,2,  34.1324,2,     45.1,2,    44.7,2,   97.33,2,   41.34,2,       0,2,     2.9,2,-999.000,9,-999.000,9,-999.000,9,  2319.9,6,  2326.3,2,   7.3249,2,    24.97,-999.000,9,-999.0000,9, -999.00,9,  -999.0,9,  -999.0,-999.0000,9,-999.0000,    40.9,2,     -999.0,9,-999.000,9, 20150606,     1310,-999.000,   4.2614,2,    34.2933,2,     -999.0,9,     -999.0,-999.0000,     -999.0,     -999.0,9,     -999.0,     -999.0,9,     -999.0,  -999.0,9,     -999.0,     -999.0,9,     -999.0
33RO20150525,     P16N.2,     145,          1,         12,         12,2,20150606,       1137,    38.4962,  -151.9997,       5323,   901.1,   3.7278,  34.2301,2,  34.2307,2,     22.7,2,    22.9,2,  114.72,2,   43.48,2,       0,2,    3.05,2,   0.335,2,   0.159,2,   0.037,4,  2351.8,2,    2346,2,   7.2917,2,    25.02,-999.000,9,-999.0000,9, -999.00,9,  -999.0,9,  -999.0,-999.0000,9,-999.0000,    41.8,2,     48.140,3,-999.000,9, 20150606,     1306,-999.000,   3.7277,2,    34.3921,2,     -999.0,9,     -999.0,-999.0000,     -999.0,     -999.0,9,     -999.0,     -999.0,9,     -999.0,  -999.0,9,     -999.0,     -999.0,9,     -999.0
33RO20150525,     P16N.2,     145,          1,         11,         11,2,20150606,       1137,    38.4962,  -151.9997,       5323,  1050.2,   3.2753,  34.3199,2,   34.319,2,     11.1,2,    11.1,2,  130.35,2,   44.85,2,       0,2,    3.14,2,-999.000,9,-999.000,9,-999.000,9,  2371.3,2,  2367.7,2,   7.2779,2,    25.02,-999.000,9,-999.0000,9, -999.00,9,  -999.0,9,  -999.0,-999.0000,9,-999.0000,    41.8,2,     -999.0,9,-999.000,9, 20150606,     1302,-999.000,   3.2745,2,    34.4808,2,     -999.0,9,     -999.0,-999.0000,     -999.0,     -999.0,9,     -999.0,     -999.0,9,     -999.0,  -999.0,9,     -999.0,     -999.0,9,     -999.0
33RO20150525,     P16N.2,     145,          1,         10,         10,2,20150606,       1137,    38.4962,  -151.9997,       5323,  1233.5,   2.9198,   34.397,2,  34.3966,2,      8.1,2,     8.2,2,  142.94,2,   45.34,2,    0.01,2,    3.17,2,-999.000,9,-999.000,9,-999.000,9,  2389.8,2,  2381.8,2,   7.2808,6,       25,-999.000,9,-999.0000,9, -999.00,9,  -999.0,9,  -999.0,-999.0000,9,-999.0000,    39.4,2,     -999.0,9,-999.000,9, 20150606,     1258,-999.000,   2.9225,2,    34.5588,2,     -999.0,9,     -999.0,-999.0000,     -999.0,     -999.0,9,     -999.0,     -999.0,9,     -999.0,  -999.0,9,     -999.0,     -999.0,9,     -999.0
33RO20150525,     P16N.2,     145,          1,          9,          9,2,20150606,       1137,    38.4962,  -151.9997,       5323,  1499.3,   2.4958,  34.4986,2,  34.4976,2,     15.4,2,      16,2,  156.22,2,   45.23,2,       0,2,    3.14,2,-999.000,9,-999.000,9,-999.000,9,    2400,2,  2400.8,2,   7.3042,6,    25.01,-999.000,9,-999.0000,9, -999.00,9,  -999.0,9,  -999.0,-999.0000,9,-999.0000,    37.2,2,     -999.0,9,-999.000,9, 20150606,     1252,-999.000,   2.4966,2,    34.6603,2,     -999.0,9,     -999.0,-999.0000,     -999.0,     -999.0,9,     -999.0,     -999.0,9,     -999.0,  -999.0,9,     -999.0,     -999.0,9,     -999.0
33RO20150525,     P16N.2,     145,          1,          8,          8,2,20150606,       1137,    38.4962,  -151.9997,       5323,    1867,   2.1181,  34.5748,2,   34.574,2,     42.9,2,    42.5,2,  165.49,2,   43.47,2,       0,2,    3.02,2,-999.000,9,-999.000,9,-999.000,9,  2393.3,2,  2415.6,2,   7.3648,6,       25,-999.000,9,-999.0000,9, -999.00,9,  -999.0,9,  -999.0,-999.0000,9,-999.0000,    38.4,2,     -999.0,9,-999.000,9, 20150606,     1245,-999.000,   2.1176,2,    34.7371,2,     -999.0,9,     -999.0,-999.0000,     -999.0,     -999.0,9,     -999.0,     -999.0,9,     -999.0,  -999.0,9,     -999.0,     -999.0,9,     -999.0
33RO20150525,     P16N.2,     145,          1,          7,          7,2,20150606,       1137,    38.4962,  -151.9997,       5323,  2333.3,   1.7826,  34.6255,2,  34.6247,2,     76.7,2,    76.2,2,  170.27,2,   41.32,2,       0,2,    2.86,2,-999.000,9,-999.000,9,-999.000,9,  2376.4,2,    2423,2,   7.4334,2,       25,-999.000,9,-999.0000,9, -999.00,9,  -999.0,9,  -999.0,-999.0000,9,-999.0000,    39.1,2,     -999.0,9,-999.000,9, 20150606,     1236,-999.000,   1.7824,2,     34.788,2,     -999.0,9,     -999.0,-999.0000,     -999.0,     -999.0,9,     -999.0,     -999.0,9,     -999.0,  -999.0,9,     -999.0,     -999.0,9,     -999.0
33RO20150525,     P16N.2,     145,          1,          6,          6,2,20150606,       1137,    38.4962,  -151.9997,       5323,  2832.8,   1.5879,  34.6554,2,  34.6571,2,    108.3,2,   109.5,2,  161.67,2,   39.07,2,       0,2,     2.7,2,-999.000,9,-999.000,9,-999.000,9,  2357.8,2,  2423.4,2,   7.4962,2,    24.98,-999.000,9,-999.0000,9, -999.00,9,  -999.0,9,  -999.0,-999.0000,9,-999.0000,    36.2,2,     -999.0,9,-999.000,9, 20150606,     1226,-999.000,   1.5877,2,    34.8205,2,     -999.0,9,     -999.0,-999.0000,     -999.0,     -999.0,9,     -999.0,     -999.0,9,     -999.0,  -999.0,9,     -999.0,     -999.0,9,     -999.0
33RO20150525,     P16N.2,     145,          1,          5,          5,2,20150606,       1137,    38.4962,  -151.9997,       5323,  3233.2,   1.5167,  34.6685,2,   34.668,2,    124.2,2,   124.5,2,  158.06,2,      38,2,    0.01,2,    2.63,2,-999.000,9,-999.000,9,-999.000,9,  2344.7,2,    2424,2,    7.527,2,    24.99,-999.000,9,-999.0000,9, -999.00,9,  -999.0,9,  -999.0,-999.0000,9,-999.0000,    38.4,2,     -999.0,9,-999.000,9, 20150606,     1217,-999.000,   1.5167,2,    34.8315,2,     -999.0,9,     -999.0,-999.0000,     -999.0,     -999.0,9,     -999.0,     -999.0,9,     -999.0,  -999.0,9,     -999.0,     -999.0,9,     -999.0
33RO20150525,     P16N.2,     145,          1,          4,          4,2,20150606,       1137,    38.4962,  -151.9997,       5323,    3832,   1.4771,  34.6805,2,  34.6801,2,    137.5,2,   139.2,2,  158.45,6,   37.12,6,       0,6,    2.55,6,-999.000,9,-999.000,9,-999.000,9,  2339.9,2,  2426.2,2,   7.5542,2,       25,-999.000,9,-999.0000,9, -999.00,9,  -999.0,9,  -999.0,-999.0000,9,-999.0000,    37.4,2,     -999.0,9,-999.000,9, 20150606,     1207,-999.000,    1.477,2,    34.8436,2,     -999.0,9,     -999.0,-999.0000,     -999.0,     -999.0,9,     -999.0,     -999.0,9,     -999.0,  -999.0,9,     -999.0,     -999.0,9,     -999.0
33RO20150525,     P16N.2,     145,          1,          3,          3,2,20150606,       1137,    38.4962,  -151.9997,       5323,  4332.6,   1.4922,  34.6855,2,  34.6843,2,    143.9,2,   144.8,2,  155.22,6,   36.63,6,       0,6,     2.5,6,-999.000,9,-999.000,9,-999.000,9,  2333.7,2,  2426.8,2,   7.5683,2,    25.01,-999.000,9,-999.0000,9, -999.00,9,  -999.0,9,  -999.0,-999.0000,9,-999.0000,    36.7,2,     -999.0,9,-999.000,9, 20150606,     1157,-999.000,   1.4924,2,    34.8479,2,     -999.0,9,     -999.0,-999.0000,     -999.0,     -999.0,9,     -999.0,     -999.0,9,     -999.0,  -999.0,9,     -999.0,     -999.0,9,     -999.0
33RO20150525,     P16N.2,     145,          1,          2,          2,2,20150606,       1137,    38.4962,  -151.9997,       5323,  4833.9,   1.5328,  34.6879,2,  34.6887,2,      149,2,   148.2,2,  152.88,6,   36.44,6,       0,6,    2.49,6,-999.000,9,-999.000,9,-999.000,9,  2330.8,2,  2425.6,6,   7.5749,2,    25.01,-999.000,9,-999.0000,9, -999.00,9,  -999.0,9,  -999.0,-999.0000,9,-999.0000,    39.8,2,     -999.0,9,-999.000,9, 20150606,     1147,-999.000,   1.5325,2,    34.8522,2,     -999.0,9,     -999.0,-999.0000,     -999.0,     -999.0,9,     -999.0,     -999.0,9,     -999.0,  -999.0,9,     -999.0,     -999.0,9,     -999.0
33RO20150525,     P16N.2,     145,          1,          1,          1,2,20150606,       1137,    38.4962,  -151.9997,       5323,    5410,   1.5942,  34.6895,2,  34.6879,2,    151.9,2,   153.2,2,  148.97,6,   36.14,6,       0,6,    2.48,6,-999.000,9,-999.000,9,-999.000,9,  2328.5,6,  2424.8,2,   7.5791,2,    25.01,-999.000,9,-999.0000,9, -999.00,9,  -999.0,9,  -999.0,-999.0000,9,-999.0000,    41.0,2,     -999.0,9,-999.000,9, 20150606,     1135,-999.000,   1.5942,2,    34.8515,2,     -999.0,9,     -999.0,-999.0000,     -999.0,     -999.0,9,     -999.0,     -999.0,9,     -999.0,  -999.0,9,     -999.0,     -999.0,9,     -999.0