BOTTLE,20220330CCHSIOCBG
EXPOCODE,SECT_ID,STNNBR,CASTNO,SAMPNO,BTLNBR,BTLNBR_FLAG_W,DATE,TIME,LATITUDE,LONGITUDE,DEPTH,CTDPRS,CTDTMP,CTDSAL,CTDSAL_FLAG_W,SALNTY,SALNTY_FLAG_W,CTDOXY,CTDOXY_FLAG_W,OXYGEN,OXYGEN_FLAG_W,SILCAT,SILCAT_FLAG_W,NITRAT,NITRAT_FLAG_W,NITRIT,NITRIT_FLAG_W,PHSPHT,PHSPHT_FLAG_W,CFC-11,CFC-11_FLAG_W,CFC-12,CFC-12_FLAG_W,SF6,SF6_FLAG_W,TCARBN,TCARBN_FLAG_W,ALKALI,ALKALI_FLAG_W,PH_TOT,PH_TOT_FLAG_W,PH_TMP,TRITUM,TRITUM_FLAG_W,HELIUM,HELIUM_FLAG_W,DELC13,DELC13_FLAG_W,DELC14,DELC14_FLAG_W,C14ERR,NEON,NEON_FLAG_W,NEONER,DOC,DOC_FLAG_W,N2O,N2O_FLAG_W,ARGON,ARGON_FLAG_W,BTL_DATE,BTL_TIME,TRITER,SBE35,SBE35_FLAG_W,SALTREF,SALTREF_FLAG_W,DELHE3,DELHE3_FLAG_W,DELHER,HELIER,ARGONER,KRYPTON,KRYPTON_FLAG_W,KRYPTONER,XENON,XENON_FLAG_W,XENONER,14C-DOC,14C-DOC_FLAG_W,14C-DOCERR,13C-DOC,13C-DOC_FLAG_W,13C-DOCERR
,,,,,,,,,,,METERS,DBAR,ITS-90,PSS-78,,PSS-78,,UMOL/KG,,UMOL/KG,,UMOL/KG,,UMOL/KG,,UMOL/KG,,UMOL/KG,,PMOL/KG,,PMOL/KG,,FMOL/KG,,UMOL/KG,,UMOL/KG,,,,DEG C,TU,,NMOL/KG,,/MILLE,,/MILLE,,/MILLE,NMOL/KG,,NMOL/KG,UMOL/KG,,NMOL/KG,,UMOL/KG,,,,TU,ITS-90,,G/KG,,PERCNT,,PERCNT,NMOL/KG,UMOL/KG,NMOL/KG,,NMOL/KG,NMOL/KG,,NMOL/KG,/MILLE,,/MILLE,/MILLE,,/MILLE
33RO20150525,     P16N.2,     162,          3,         24,         24,2,20150611,       2024,    46.9995,  -152.0007,       5128,     2.6,   9.9224,  32.7665,2,  32.7662,2,    287.6,2,   290.2,2,   17.32,2,   11.55,2,    0.12,2,    1.14,2,   3.784,2,   2.148,2,   2.588,2,  2045.4,6,  2205.5,2,   7.7951,2,    24.99,-999.000,9,-999.0000,9, -999.00,9,  -999.0,9,  -999.0,-999.0000,9,-999.0000,  -999.0,9,     11.098,3,-999.000,9, 20150611,     2226,-999.000,   9.9233,2,    32.9207,2,     -999.0,9,     -999.0,-999.0000,     -999.0,     -999.0,9,     -999.0,     -999.0,9,     -999.0,  -999.0,9,     -999.0,     -999.0,9,     -999.0
33RO20150525,     P16N.2,     162,          3,         23,         23,2,20150611,       2024,    46.9995,  -152.0007,       5128,    33.1,   8.5816,  32.7972,2,  32.7919,2,    299.8,2,   303.1,2,   17.62,2,   11.55,2,     0.1,2,    1.13,2,   4.055,2,   2.264,2,   2.691,2,    2048,2,  2205.2,2,   7.7911,6,    25.04,-999.000,9,-999.0000,9, -999.00,9,  -999.0,9,  -999.0,-999.0000,9,-999.0000,  -999.0,9,     11.732,3,-999.000,9, 20150611,     2223,-999.000,   8.5378,2,    32.9465,2,     -999.0,9,     -999.0,-999.0000,     -999.0,     -999.0,9,     -999.0,     -999.0,9,     -999.0,  -999.0,9,     -999.0,     -999.0,9,     -999.0
33RO20150525,     P16N.2,     162,          3,         22,         22,2,20150611,       2024,    46.9995,  -152.0007,       5128,    57.4,   7.0355,  32.8473,2,  32.8481,2,    305.4,2,   303.6,2,   18.01,2,   12.33,2,    0.09,2,    1.17,2,    4.22,6,   2.365,6,   2.821,6,  2058.3,2,    2206,6,   7.7698,2,    25.02,-999.000,9,-999.0000,9, -999.00,9,  -999.0,9,  -999.0,-999.0000,9,-999.0000,  -999.0,9,     12.141,3,-999.000,9, 20150611,     2221,-999.000,   7.0351,2,     33.003,2,     -999.0,9,     -999.0,-999.0000,     -999.0,     -999.0,9,     -999.0,     -999.0,9,     -999.0,  -999.0,9,     -999.0,     -999.0,9,     -999.0
33RO20150525,     P16N.2,     162,          3,         21,         21,2,20150611,       2024,    46.9995,  -152.0007,       5128,    84.1,   6.7315,  32.8481,2,  32.8486,2,    298.5,2,     299,2,    18.3,2,   12.72,2,    0.11,2,    1.22,2,   4.221,2,   2.382,2,   2.199,3,  2064.4,2,  2208.5,2,   7.7574,2,       25,-999.000,9,-999.0000,9, -999.00,9,  -999.0,9,  -999.0,-999.0000,9,-999.0000,  -999.0,9,     12.148,3,-999.000,9, 20150611,     2219,-999.000,    6.739,2,    33.0035,2,     -999.0,9,     -999.0,-999.0000,     -999.0,     -999.0,9,     -999.0,     -999.0,9,     -999.0,  -999.0,9,     -999.0,     -999.0,9,     -999.0
33RO20150525,     P16N.2,     162,          3,         20,         20,2,20150611,       2024,    46.9995,  -152.0007,       5128,   116.6,   6.6558,  33.6098,2,  33.6161,2,    246.2,2,   242.4,2,   26.61,2,   19.17,2,    0.02,2,    1.44,2,   3.928,2,   2.212,2,    2.35,2,  2128.2,2,  2247.2,2,   7.6726,6,    25.03,-999.000,9,-999.0000,9, -999.00,9,  -999.0,9,  -999.0,-999.0000,9,-999.0000,  -999.0,9,     15.976,3,-999.000,9, 20150611,     2217,-999.000,   6.6566,2,    33.7746,2,     -999.0,9,     -999.0,-999.0000,     -999.0,     -999.0,9,     -999.0,     -999.0,9,     -999.0,  -999.0,9,     -999.0,     -999.0,9,     -999.0
33RO20150525,     P16N.2,     162,          3,         19,         19,2,20150611,       2024,    46.9995,  -152.0007,       5128,   175.6,   6.0436,  33.8153,2,  33.8179,2,    185.8,2,   186.4,2,   43.62,2,   25.72,2,    0.01,2,    1.85,2,   3.486,2,   1.925,2,   1.757,2,  2186.4,2,  2267.8,2,   7.5702,6,    25.03,-999.000,9,-999.0000,9, -999.00,9,  -999.0,9,  -999.0,-999.0000,9,-999.0000,  -999.0,9,     22.591,3,-999.000,9, 20150611,     2214,-999.000,   6.0403,2,    33.9774,2,     -999.0,9,     -999.0,-999.0000,     -999.0,     -999.0,9,     -999.0,     -999.0,9,     -999.0,  -999.0,9,     -999.0,     -999.0,9,     -999.0
33RO20150525,     P16N.2,     162,          3,         18,         18,2,20150611,       2024,    46.9995,  -152.0007,       5128,   249.3,   4.9805,  33.8471,2,  33.8543,2,    131.4,2,   132.6,2,   62.69,2,   32.66,2,    0.02,2,    2.34,2,   3.041,2,   1.613,2,   1.193,2,    2232,2,    2283,2,    7.446,2,    25.05,-999.000,9,-999.0000,9, -999.00,9,  -999.0,9,  -999.0,-999.0000,9,-999.0000,  -999.0,9,     28.964,3,-999.000,9, 20150611,     2211,-999.000,   4.9747,2,    34.0139,2,     -999.0,9,     -999.0,-999.0000,     -999.0,     -999.0,9,     -999.0,     -999.0,9,     -999.0,  -999.0,9,     -999.0,     -999.0,9,     -999.0
33RO20150525,     P16N.2,     162,          3,         17,         17,2,20150611,       2024,    46.9995,  -152.0007,       5128,   332.2,   4.4055,   33.901,2,  33.9014,2,     96.3,2,      95,2,   76.87,2,   37.06,2,    0.02,2,    2.62,2,    2.55,2,   1.334,2,   0.927,2,  2275.7,2,  2292.7,2,   7.3652,6,    25.03,-999.000,9,-999.0000,9, -999.00,9,  -999.0,9,  -999.0,-999.0000,9,-999.0000,  -999.0,9,     33.463,3,-999.000,9, 20150611,     2208,-999.000,   4.4051,2,    34.0613,2,     -999.0,9,     -999.0,-999.0000,     -999.0,     -999.0,9,     -999.0,     -999.0,9,     -999.0,  -999.0,9,     -999.0,     -999.0,9,     -999.0
33RO20150525,     P16N.2,     162,          3,         16,         16,2,20150611,       2024,    46.9995,  -152.0007,       5128,   432.7,   4.1609,  34.0133,2,  34.0092,2,     65.8,2,    66.8,2,   90.45,2,    39.6,2,    0.01,2,    2.79,2,   1.855,2,   0.951,2,   0.569,2,  2303.4,2,    2311,2,   7.3287,2,    25.04,-999.000,9,-999.0000,9, -999.00,9,  -999.0,9,  -999.0,-999.0000,9,-999.0000,  -999.0,9,     37.731,3,-999.000,9, 20150611,     2205,-999.000,   4.1639,2,    34.1696,2,     -999.0,9,     -999.0,-999.0000,     -999.0,     -999.0,9,     -999.0,     -999.0,9,     -999.0,  -999.0,9,     -999.0,     -999.0,9,     -999.0
33RO20150525,     P16N.2,     162,          3,         15,         15,2,20150611,       2024,    46.9995,  -152.0007,       5128,   550.7,   3.8795,  34.1125,2,  34.1132,2,     42.9,2,    43.3,2,  104.53,2,   41.56,2,       0,2,    2.94,2,   1.235,6,   0.616,6,   0.327,6,  2329.1,2,  2326.8,2,   7.2998,2,    25.04,-999.000,9,-999.0000,9, -999.00,9,  -999.0,9,  -999.0,-999.0000,9,-999.0000,  -999.0,9,     41.569,3,-999.000,9, 20150611,     2201,-999.000,   3.8791,2,    34.2741,2,     -999.0,9,     -999.0,-999.0000,     -999.0,     -999.0,9,     -999.0,     -999.0,9,     -999.0,  -999.0,9,     -999.0,     -999.0,9,     -999.0
33RO20150525,     P16N.2,     162,          3,         14,         14,2,20150611,       2024,    46.9995,  -152.0007,       5128,   698.8,   3.5814,  34.2174,2,  34.2163,2,     28.9,2,    27.9,2,   118.6,2,   42.82,2,       0,2,    3.02,2,    0.67,2,   0.331,2,   0.152,2,  2349.9,2,  2344.3,2,   7.2893,2,    25.04,-999.000,9,-999.0000,9, -999.00,9,  -999.0,9,  -999.0,-999.0000,9,-999.0000,  -999.0,9,     44.476,3,-999.000,9, 20150611,     2158,-999.000,   3.5836,2,    34.3776,2,     -999.0,9,     -999.0,-999.0000,     -999.0,     -999.0,9,     -999.0,     -999.0,9,     -999.0,  -999.0,9,     -999.0,     -999.0,9,     -999.0
33RO20150525,     P16N.2,     162,          3,         13,         13,2,20150611,       2024,    46.9995,  -152.0007,       5128,   850.8,   3.2767,  34.3076,2,  34.3085,2,     23.9,2,    23.3,2,  130.52,2,   43.31,2,       0,2,    3.06,2,   0.304,2,    0.15,2,   0.099,2,  2365.4,2,  2359.7,2,   7.2949,2,    25.02,-999.000,9,-999.0000,9, -999.00,9,  -999.0,9,  -999.0,-999.0000,9,-999.0000,  -999.0,9,     45.533,3,-999.000,9, 20150611,     2154,-999.000,   3.2772,2,    34.4703,6,     -999.0,9,     -999.0,-999.0000,     -999.0,     -999.0,9,     -999.0,     -999.0,9,     -999.0,  -999.0,9,     -999.0,     -999.0,9,     -999.0
33RO20150525,     P16N.2,     162,          3,         12,         12,2,20150611,       2024,    46.9995,  -152.0007,       5128,   999.7,   2.9862,  34.3668,2,  34.3671,2,     22.9,2,    22.4,2,   139.9,2,    43.7,2,       0,2,    3.07,2,   0.173,2,   0.083,2,   0.042,2,  2375.3,2,  2373.6,2,   7.2992,2,    25.03,-999.000,9,-999.0000,9, -999.00,9,  -999.0,9,  -999.0,-999.0000,9,-999.0000,  -999.0,9,     45.556,3,-999.000,9, 20150611,     2150,-999.000,   2.9855,2,    34.5291,2,     -999.0,9,     -999.0,-999.0000,     -999.0,     -999.0,9,     -999.0,     -999.0,9,     -999.0,  -999.0,9,     -999.0,     -999.0,9,     -999.0
33RO20150525,     P16N.2,     162,          3,         11,         11,2,20150611,       2024,    46.9995,  -152.0007,       5128,  1167.5,   2.7188,   34.423,2,  34.4247,2,       19,2,    18.7,2,  148.79,2,   44.19,2,       0,2,     3.1,2,   0.066,2,   0.031,2,   0.035,2,  2386.4,6,  2385.5,2,   7.2988,2,    25.04,-999.000,9,-999.0000,9, -999.00,9,  -999.0,9,  -999.0,-999.0000,9,-999.0000,  -999.0,9,     46.955,3,-999.000,9, 20150611,     2145,-999.000,   2.7172,2,     34.587,2,     -999.0,9,     -999.0,-999.0000,     -999.0,     -999.0,9,     -999.0,     -999.0,9,     -999.0,  -999.0,9,     -999.0,     -999.0,9,     -999.0
33RO20150525,     P16N.2,     162,          3,         10,         10,2,20150611,       2024,    46.9995,  -152.0007,       5128,  1399.3,   2.4231,  34.4835,2,  34.4834,2,     21.9,2,    21.8,2,  158.36,2,   44.28,2,       0,2,    3.08,2,   0.022,2,    0.01,2,       0,2,  2395.2,2,  2397.2,2,   7.3104,2,    25.04,-999.000,9,-999.0000,9, -999.00,9,  -999.0,9,  -999.0,-999.0000,9,-999.0000,  -999.0,9,     44.792,3,-999.000,9, 20150611,     2140,-999.000,   2.4231,2,     34.646,2,     -999.0,9,     -999.0,-999.0000,     -999.0,     -999.0,9,     -999.0,     -999.0,9,     -999.0,  -999.0,9,     -999.0,     -999.0,9,     -999.0
33RO20150525,     P16N.2,     162,          3,          9,          9,2,20150611,       2024,    46.9995,  -152.0007,       5128,  1733.4,   2.1441,  34.5462,2,  34.5461,2,     30.4,2,    30.1,2,  167.05,2,   43.99,2,       0,2,    3.04,2,   0.002,2,   0.002,2,       0,2,  2396.9,2,    2410,2,   7.3339,2,    25.04,-999.000,9,-999.0000,9, -999.00,9,  -999.0,9,  -999.0,-999.0000,9,-999.0000,  -999.0,9,     41.343,3,-999.000,9, 20150611,     2133,-999.000,   2.1438,2,     34.709,2,     -999.0,9,     -999.0,-999.0000,     -999.0,     -999.0,9,     -999.0,     -999.0,9,     -999.0,  -999.0,9,     -999.0,     -999.0,9,     -999.0
33RO20150525,     P16N.2,     162,          3,          8,          8,2,20150611,       2024,    46.9995,  -152.0007,       5128,  2133.3,   1.9039,  34.5966,2,  34.6243,4,     53.7,2,    54.2,2,  171.54,2,   42.42,2,       0,2,    2.94,2,       0,2,       0,2,       0,2,  2388.7,2,  2415.6,2,   7.3851,6,    25.03,-999.000,9,-999.0000,9, -999.00,9,  -999.0,9,  -999.0,-999.0000,9,-999.0000,  -999.0,9,     34.799,3,-999.000,9, 20150611,     2125,-999.000,    1.904,2,    34.7875,2,     -999.0,9,     -999.0,-999.0000,     -999.0,     -999.0,9,     -999.0,     -999.0,9,     -999.0,  -999.0,9,     -999.0,     -999.0,9,     -999.0
33RO20150525,     P16N.2,     162,          3,          7,          7,2,20150611,       2024,    46.9995,  -152.0007,       5128,  2534.4,   1.7204,  34.6309,2,  34.6328,2,     79.7,2,    79.9,2,  170.66,2,   40.76,2,       0,2,    2.82,2,       0,2,       0,2,       0,2,  2375.4,2,    2422,2,   7.4372,2,    25.03,-999.000,9,-999.0000,9, -999.00,9,  -999.0,9,  -999.0,-999.0000,9,-999.0000,  -999.0,9,     29.298,3,-999.000,9, 20150611,     2117,-999.000,   1.7202,2,    34.7961,6,     -999.0,9,     -999.0,-999.0000,     -999.0,     -999.0,9,     -999.0,     -999.0,9,     -999.0,  -999.0,9,     -999.0,     -999.0,9,     -999.0
33RO20150525,     P16N.2,     162,          3,          6,          6,2,20150611,       2024,    46.9995,  -152.0007,       5128,  2933.1,   1.5981,  34.6529,2,  34.6516,2,      102,2,   102.5,2,  167.72,2,   39.29,2,       0,2,    2.72,2,       0,2,       0,2,       0,2,  2359.7,2,    2420,2,    7.482,2,    25.02,-999.000,9,-999.0000,9, -999.00,9,  -999.0,9,  -999.0,-999.0000,9,-999.0000,  -999.0,9,     25.624,3,-999.000,9, 20150611,     2109,-999.000,    1.598,2,     34.815,2,     -999.0,9,     -999.0,-999.0000,     -999.0,     -999.0,9,     -999.0,     -999.0,9,     -999.0,  -999.0,9,     -999.0,     -999.0,9,     -999.0
33RO20150525,     P16N.2,     162,          3,          5,          5,2,20150611,       2024,    46.9995,  -152.0007,       5128,  3367.2,   1.5166,  34.6688,2,  34.6653,2,    121.5,2,   123.3,2,  163.03,2,   37.92,2,       0,2,    2.62,2,       0,2,       0,2,       0,2,  2347.3,2,  2419.8,2,   7.5208,6,    25.05,-999.000,9,-999.0000,9, -999.00,9,  -999.0,9,  -999.0,-999.0000,9,-999.0000,  -999.0,9,     23.387,3,-999.000,9, 20150611,     2100,-999.000,   1.5165,2,    34.8287,2,     -999.0,9,     -999.0,-999.0000,     -999.0,     -999.0,9,     -999.0,     -999.0,9,     -999.0,  -999.0,9,     -999.0,     -999.0,9,     -999.0
33RO20150525,     P16N.2,     162,          3,          4,          4,2,20150611,       2024,    46.9995,  -152.0007,       5128,  3866.9,   1.4887,   34.679,2,  34.6782,2,    135.5,2,   135.7,2,  160.59,6,   37.04,6,       0,6,    2.54,6,   0.001,2,       0,2,       0,2,  2337.9,2,  2421.6,2,   7.5473,2,    25.02,-999.000,9,-999.0000,9, -999.00,9,  -999.0,9,  -999.0,-999.0000,9,-999.0000,  -999.0,9,     21.981,3,-999.000,9, 20150611,     2050,-999.000,   1.4887,2,    34.8417,2,     -999.0,9,     -999.0,-999.0000,     -999.0,     -999.0,9,     -999.0,     -999.0,9,     -999.0,  -999.0,9,     -999.0,     -999.0,9,     -999.0
33RO20150525,     P16N.2,     162,          3,          3,          3,2,20150611,       2024,    46.9995,  -152.0007,       5128,  4317.4,   1.5012,  34.6848,2,  34.6824,2,    140.7,2,   141.5,2,  163.22,6,   36.75,6,       0,6,    2.52,6,   0.001,6,   0.001,6,       0,6,  2337.7,2,  2426.8,6,   7.5621,2,       25,-999.000,9,-999.0000,9, -999.00,9,  -999.0,9,  -999.0,-999.0000,9,-999.0000,  -999.0,9,     21.350,3,-999.000,9, 20150611,     2041,-999.000,    1.501,2,    34.8459,2,     -999.0,9,     -999.0,-999.0000,     -999.0,     -999.0,9,     -999.0,     -999.0,9,     -999.0,  -999.0,9,     -999.0,     -999.0,9,     -999.0
33RO20150525,     P16N.2,     162,          3,          2,          2,2,20150611,       2024,    46.9995,  -152.0007,       5128,  4817.3,   1.5462,  34.6875,2,  34.6837,2,    141.9,2,   143.3,2,  166.45,6,   36.65,6,    0.01,6,     2.5,6,   0.004,2,   0.003,2,       0,2,  2337.2,2,  2428.2,2,   7.5675,2,    25.04,-999.000,9,-999.0000,9, -999.00,9,  -999.0,9,  -999.0,-999.0000,9,-999.0000,  -999.0,9,     21.210,3,-999.000,9, 20150611,     2031,-999.000,   1.5459,2,    34.8472,2,     -999.0,9,     -999.0,-999.0000,     -999.0,     -999.0,9,     -999.0,     -999.0,9,     -999.0,  -999.0,9,     -999.0,     -999.0,9,     -999.0
33RO20150525,     P16N.2,     162,          3,          1,          1,2,20150611,       2024,    46.9995,  -152.0007,       5128,    5224,   1.5955,  34.6882,2,  34.6847,2,    143.2,2,   145.2,2,  167.13,6,   36.65,6,       0,6,    2.51,6,   0.002,2,   0.002,2,       0,2,  2338.8,6,  2428.4,2,   7.5689,2,    25.03,-999.000,9,-999.0000,9, -999.00,9,  -999.0,9,  -999.0,-999.0000,9,-999.0000,  -999.0,9,     21.087,3,-999.000,9, 20150611,     2023,-999.000,   1.5953,2,    34.8483,2,     -999.0,9,     -999.0,-999.0000,     -999.0,     -999.0,9,     -999.0,     -999.0,9,     -999.0,  -999.0,9,     -999.0,     -999.0,9,     -999.0