BOTTLE,20220330CCHSIOCBG
EXPOCODE,SECT_ID,STNNBR,CASTNO,SAMPNO,BTLNBR,BTLNBR_FLAG_W,DATE,TIME,LATITUDE,LONGITUDE,DEPTH,CTDPRS,CTDTMP,CTDSAL,CTDSAL_FLAG_W,SALNTY,SALNTY_FLAG_W,CTDOXY,CTDOXY_FLAG_W,OXYGEN,OXYGEN_FLAG_W,SILCAT,SILCAT_FLAG_W,NITRAT,NITRAT_FLAG_W,NITRIT,NITRIT_FLAG_W,PHSPHT,PHSPHT_FLAG_W,CFC-11,CFC-11_FLAG_W,CFC-12,CFC-12_FLAG_W,SF6,SF6_FLAG_W,TCARBN,TCARBN_FLAG_W,ALKALI,ALKALI_FLAG_W,PH_TOT,PH_TOT_FLAG_W,PH_TMP,TRITUM,TRITUM_FLAG_W,HELIUM,HELIUM_FLAG_W,DELC13,DELC13_FLAG_W,DELC14,DELC14_FLAG_W,C14ERR,NEON,NEON_FLAG_W,NEONER,DOC,DOC_FLAG_W,N2O,N2O_FLAG_W,ARGON,ARGON_FLAG_W,BTL_DATE,BTL_TIME,TRITER,SBE35,SBE35_FLAG_W,SALTREF,SALTREF_FLAG_W,DELHE3,DELHE3_FLAG_W,DELHER,HELIER,ARGONER,KRYPTON,KRYPTON_FLAG_W,KRYPTONER,XENON,XENON_FLAG_W,XENONER,14C-DOC,14C-DOC_FLAG_W,14C-DOCERR,13C-DOC,13C-DOC_FLAG_W,13C-DOCERR
,,,,,,,,,,,METERS,DBAR,ITS-90,PSS-78,,PSS-78,,UMOL/KG,,UMOL/KG,,UMOL/KG,,UMOL/KG,,UMOL/KG,,UMOL/KG,,PMOL/KG,,PMOL/KG,,FMOL/KG,,UMOL/KG,,UMOL/KG,,,,DEG C,TU,,NMOL/KG,,/MILLE,,/MILLE,,/MILLE,NMOL/KG,,NMOL/KG,UMOL/KG,,NMOL/KG,,UMOL/KG,,,,TU,ITS-90,,G/KG,,PERCNT,,PERCNT,NMOL/KG,UMOL/KG,NMOL/KG,,NMOL/KG,NMOL/KG,,NMOL/KG,/MILLE,,/MILLE,/MILLE,,/MILLE
33RO20150525,     P16N.2,     134,          2,         24,         24,2,20150602,       2100,    32.9991,  -151.9988,       5430,     3.4,   20.126,  34.4876,2,  34.5001,2,    231.9,2,   233.3,2,    2.93,2,       0,2,       0,2,       0,2,   2.283,3,   1.373,2,   1.708,2,  2021.9,6,  2271.4,2,   7.9614,6,    25.02,   0.495,2,   1.7384,2, -999.00,9,  -999.0,9,  -999.0,   7.0529,2,   0.0176,  -999.0,9,      7.879,3,-999.000,9, 20150602,     2308,   0.003,  20.1892,2,    34.6627,2,      -1.23,2,       0.20,   0.0045,     -999.0,     -999.0,9,     -999.0,     -999.0,9,     -999.0,  -999.0,9,     -999.0,     -999.0,9,     -999.0
33RO20150525,     P16N.2,     134,          2,         23,         23,2,20150602,       2100,    32.9991,  -151.9988,       5430,    25.7,  19.1938,  34.4948,2,  34.5301,2,    232.9,2,   237.9,2,    2.83,2,       0,2,       0,2,    0.04,2,   2.345,2,   1.409,2,   1.738,2,  2021.7,2,  2271.5,2,   7.9655,6,    25.04,-999.000,9,-999.0000,9, -999.00,9,  -999.0,9,  -999.0,-999.0000,9,-999.0000,  -999.0,9,      7.988,3,-999.000,9, 20150602,     2305,-999.000,  19.2041,2,    34.6929,2,     -999.0,9,     -999.0,-999.0000,     -999.0,     -999.0,9,     -999.0,     -999.0,9,     -999.0,  -999.0,9,     -999.0,     -999.0,9,     -999.0
33RO20150525,     P16N.2,     134,          2,         22,         22,2,20150602,       2100,    32.9991,  -151.9988,       5430,    50.3,  16.7618,  34.4164,2,  34.4176,2,    244.8,2,   245.3,2,    3.13,2,       0,2,    0.01,2,    0.05,2,   2.534,2,   1.493,2,   1.825,2,  2020.1,2,  2263.1,2,   7.9569,6,    25.03,   0.466,2,-999.0000,9, -999.00,9,  -999.0,9,  -999.0,-999.0000,9,-999.0000,  -999.0,9,      8.520,3,-999.000,9, 20150602,     2304,   0.005,  16.7632,2,    34.5799,2,     -999.0,9,     -999.0,-999.0000,     -999.0,     -999.0,9,     -999.0,     -999.0,9,     -999.0,  -999.0,9,     -999.0,     -999.0,9,     -999.0
33RO20150525,     P16N.2,     134,          2,         21,         21,2,20150602,       2100,    32.9991,  -151.9988,       5430,    75.8,  15.9446,  34.3631,2,  34.3693,2,    247.8,2,   246.3,2,    3.32,2,       0,2,    0.01,2,    0.08,2,   2.613,2,   1.566,2,   1.847,2,  2020.9,2,  2259.4,2,   7.9484,2,    25.03,   0.467,2,-999.0000,9, -999.00,9,  -999.0,9,  -999.0,-999.0000,9,-999.0000,  -999.0,9,      8.731,3,-999.000,9, 20150602,     2302,   0.005,  15.9408,2,    34.5313,2,     -999.0,9,     -999.0,-999.0000,     -999.0,     -999.0,9,     -999.0,     -999.0,9,     -999.0,  -999.0,9,     -999.0,     -999.0,9,     -999.0
33RO20150525,     P16N.2,     134,          2,         20,         20,2,20150602,       2100,    32.9991,  -151.9988,       5430,    99.6,  15.0228,  34.2801,2,  34.2804,2,    245.6,2,   245.4,2,    3.81,2,     0.2,2,    0.03,2,    0.14,2,   2.685,6,   1.603,6,   1.927,6,  2026.4,2,  2253.5,6,   7.9302,2,       25,   0.468,2,-999.0000,9, -999.00,9,  -999.0,9,  -999.0,-999.0000,9,-999.0000,  -999.0,9,      9.254,3,-999.000,9, 20150602,     2300,   0.003,  15.0324,2,     34.442,2,     -999.0,9,     -999.0,-999.0000,     -999.0,     -999.0,9,     -999.0,     -999.0,9,     -999.0,  -999.0,9,     -999.0,     -999.0,9,     -999.0
33RO20150525,     P16N.2,     134,          2,         19,         19,2,20150602,       2100,    32.9991,  -151.9988,       5430,   149.8,  13.4355,  34.1796,2,  34.1805,2,    223.5,2,   222.1,2,    6.35,2,    6.16,2,    0.04,2,     0.5,2,   2.895,2,   1.695,2,    1.85,2,  2059.8,2,  2247.6,2,   7.8513,2,    25.04,   0.505,2,   1.7620,2, -999.00,9,  -999.0,9,  -999.0,   7.3507,2,   0.0184,  -999.0,9,     11.631,3,-999.000,9, 20150602,     2257,   0.004,  13.4385,2,    34.3417,6,      -1.01,2,       0.20,   0.0046,     -999.0,     -999.0,9,     -999.0,     -999.0,9,     -999.0,  -999.0,9,     -999.0,     -999.0,9,     -999.0
33RO20150525,     P16N.2,     134,          2,         18,         18,2,20150602,       2100,    32.9991,  -151.9988,       5430,   225.6,  11.6128,   34.176,2,  34.1698,2,    217.3,2,     217,2,   11.34,2,   11.43,2,       0,2,    0.82,2,   3.137,2,   1.859,2,   1.825,2,  2087.9,2,  2254.3,2,   7.7944,2,    25.04,   0.469,2,   1.7773,2, -999.00,9,  -999.0,9,  -999.0,   7.4514,2,   0.0186,  -999.0,9,     15.909,3,-999.000,9, 20150602,     2254,   0.002,  11.6144,2,    34.3309,2,      -0.29,2,       0.20,   0.0046,     -999.0,     -999.0,9,     -999.0,     -999.0,9,     -999.0,  -999.0,9,     -999.0,     -999.0,9,     -999.0
33RO20150525,     P16N.2,     134,          2,         17,         17,2,20150602,       2100,    32.9991,  -151.9988,       5430,     300,  10.5755,  34.1633,2,  34.1605,2,    209.6,2,   214.9,2,   16.03,2,   14.07,2,       0,2,    1.01,2,   3.217,2,   1.861,2,   1.767,2,  2107.3,2,  2260.4,2,   7.7654,2,       25,   0.445,2,   1.7953,2, -999.00,9,  -999.0,9,  -999.0,   7.5569,2,   0.0189,  -999.0,9,     17.926,3,-999.000,9, 20150602,     2251,   0.002,  10.5744,2,    34.3216,2,       0.68,2,       0.20,   0.0047,     -999.0,     -999.0,9,     -999.0,     -999.0,9,     -999.0,  -999.0,9,     -999.0,     -999.0,9,     -999.0
33RO20150525,     P16N.2,     134,          2,         16,         16,2,20150602,       2100,    32.9991,  -151.9988,       5430,   399.7,   8.6729,  34.0575,2,  34.0569,2,    189.1,2,   189.5,2,   27.27,2,   20.43,2,    0.01,2,    1.43,2,   3.261,2,   1.798,2,   1.387,2,  2148.6,2,  2264.9,2,   7.6717,2,    25.04,   0.439,2,   1.8105,2, -999.00,9,  -999.0,9,  -999.0,   7.7023,2,   0.0193,  -999.0,9,     22.694,3,-999.000,9, 20150602,     2248,   0.005,   8.6755,2,    34.2175,2,       3.61,2,       0.20,   0.0047,     -999.0,     -999.0,9,     -999.0,     -999.0,9,     -999.0,  -999.0,9,     -999.0,     -999.0,9,     -999.0
33RO20150525,     P16N.2,     134,          2,         15,         15,2,20150602,       2100,    32.9991,  -151.9988,       5430,     500,   6.6752,  33.9823,2,  33.9896,2,    140.5,2,     140,2,    47.4,2,   28.73,2,       0,2,    2.01,2,   2.824,2,   1.482,2,   0.903,2,  2208.8,2,  2277.7,2,   7.5327,2,    25.03,   0.356,2,   1.8563,2, -999.00,9,  -999.0,9,  -999.0,   7.9209,2,   0.0198,  -999.0,9,     28.145,3,-999.000,9, 20150602,     2245,   0.003,   6.6812,2,    34.1498,2,       8.88,2,       0.20,   0.0048,     -999.0,     -999.0,9,     -999.0,     -999.0,9,     -999.0,  -999.0,9,     -999.0,     -999.0,9,     -999.0
33RO20150525,     P16N.2,     134,          2,         14,         14,2,20150602,       2100,    32.9991,  -151.9988,       5430,   649.8,   4.9679,  34.0397,2,  34.0482,2,     63.4,2,    62.5,2,   78.19,2,    38.6,2,    0.03,2,    2.72,2,    1.46,2,   0.697,2,   0.301,2,  2290.5,2,  2301.1,2,   7.3527,2,    25.04,   0.261,2,   1.8669,2, -999.00,9,  -999.0,9,  -999.0,   7.9934,2,   0.0200,  -999.0,9,     37.952,3,-999.000,9, 20150602,     2241,   0.002,   4.9733,2,    34.2087,2,      15.96,2,       0.20,   0.0049,     -999.0,     -999.0,9,     -999.0,     -999.0,9,     -999.0,  -999.0,9,     -999.0,     -999.0,9,     -999.0
33RO20150525,     P16N.2,     134,          2,         13,         13,2,20150602,       2100,    32.9991,  -151.9988,       5430,   800.1,   4.1495,  34.1918,2,  34.1918,2,     21.6,2,    21.8,2,  102.61,2,    42.8,2,       0,2,    3.04,2,   0.309,6,   0.149,6,   0.054,6,  2340.8,6,  2332.7,2,   7.2871,2,    25.02,   0.095,2,   1.8840,2, -999.00,9,  -999.0,9,  -999.0,   8.0671,2,   0.0202,  -999.0,9,     46.630,3,-999.000,9, 20150602,     2237,   0.002,   4.1511,2,    34.3531,2,      16.99,2,       0.20,   0.0049,     -999.0,     -999.0,9,     -999.0,     -999.0,9,     -999.0,  -999.0,9,     -999.0,     -999.0,9,     -999.0
33RO20150525,     P16N.2,     134,          2,         12,         12,2,20150602,       2100,    32.9991,  -151.9988,       5430,   950.2,     3.81,  34.3317,2,  34.3319,2,      9.5,2,     8.5,2,  115.89,2,   43.87,2,       0,2,    3.16,2,   0.033,2,   0.019,2,   0.049,3,  2366.5,2,  2356.6,2,    7.283,6,    25.02,   0.013,2,   1.9335,3, -999.00,9,  -999.0,9,  -999.0,   8.2188,3,   0.0205,  -999.0,9,     51.018,3,-999.000,9, 20150602,     2233,   0.002,   3.8099,2,    34.4938,2,      15.62,3,       0.20,   0.0050,     -999.0,     -999.0,9,     -999.0,     -999.0,9,     -999.0,  -999.0,9,     -999.0,     -999.0,9,     -999.0
33RO20150525,     P16N.2,     134,          2,         11,         11,2,20150602,       2100,    32.9991,  -151.9988,       5430,  1099.9,   3.3126,  34.4069,2,  34.4082,2,     12.4,2,    10.2,2,  130.05,2,   44.36,2,       0,2,    3.17,2,   0.007,2,   0.006,2,       0,2,  2381.2,2,  2374.9,2,   7.2918,2,    25.02,  -0.002,2,   1.8982,2, -999.00,9,  -999.0,9,  -999.0,   8.0668,2,   0.0202,  -999.0,9,     51.375,3,-999.000,9, 20150602,     2228,   0.001,   3.3116,2,    34.5705,2,      17.06,2,       0.20,   0.0049,     -999.0,     -999.0,9,     -999.0,     -999.0,9,     -999.0,  -999.0,9,     -999.0,     -999.0,9,     -999.0
33RO20150525,     P16N.2,     134,          2,         10,         10,2,20150602,       2100,    32.9991,  -151.9988,       5430,  1300.6,    3.006,  34.4884,2,   34.487,2,     22.8,2,    22.3,2,  137.46,2,   43.96,2,       0,2,    3.11,2,   0.003,2,   0.004,2,       0,2,  2384.6,2,  2387.6,2,   7.3238,2,    25.02,  -0.005,2,   1.9111,2, -999.00,9,  -999.0,9,  -999.0,   8.1079,2,   0.0203,  -999.0,9,     45.663,3,-999.000,9, 20150602,     2224,   0.002,   3.0061,2,    34.6496,2,      20.27,2,       0.20,   0.0050,     -999.0,     -999.0,9,     -999.0,     -999.0,9,     -999.0,  -999.0,9,     -999.0,     -999.0,9,     -999.0
33RO20150525,     P16N.2,     134,          2,          9,          9,2,20150602,       2100,    32.9991,  -151.9988,       5430,  1600.2,   2.5107,  34.5555,2,  34.5563,2,     43.7,2,      43,2,  149.38,2,   42.79,2,       0,2,    3.01,2,   0.001,2,   0.002,2,       0,2,  2383.9,2,  2403.6,2,   7.3688,2,    25.03,   0.001,2,-999.0000,9, -999.00,9,  -999.0,9,  -999.0,-999.0000,9,-999.0000,  -999.0,9,     38.195,3,-999.000,9, 20150602,     2217,   0.002,   2.5108,2,    34.7192,2,     -999.0,9,     -999.0,-999.0000,     -999.0,     -999.0,9,     -999.0,     -999.0,9,     -999.0,  -999.0,9,     -999.0,     -999.0,9,     -999.0
33RO20150525,     P16N.2,     134,          2,          8,          8,2,20150602,       2100,    32.9991,  -151.9988,       5430,  2000.7,   2.0014,  34.6104,2,  34.6135,2,     69.4,2,    69.8,2,  161.58,2,   41.23,2,       0,2,    2.88,2,   0.002,2,   0.001,2,       0,2,  2381.4,2,  2418.6,2,   7.4224,2,    25.02,  -0.001,2,   1.9279,2, -999.00,9,  -999.0,9,  -999.0,   8.1244,2,   0.0203,  -999.0,9,     31.420,3,-999.000,9, 20150602,     2209,   0.001,   2.0011,2,    34.7767,2,      24.26,2,       0.20,   0.0050,     -999.0,     -999.0,9,     -999.0,     -999.0,9,     -999.0,  -999.0,9,     -999.0,     -999.0,9,     -999.0
33RO20150525,     P16N.2,     134,          2,          7,          7,2,20150602,       2100,    32.9991,  -151.9988,       5430,  2501.5,    1.705,  34.6448,2,  34.6502,4,     94.6,2,    94.4,2,  165.39,2,   39.56,2,       0,2,    2.76,2,       0,2,  -0.001,2,       0,2,  2371.4,2,  2423.2,2,   7.4723,2,    25.03,-999.000,9,-999.0000,9, -999.00,9,  -999.0,9,  -999.0,-999.0000,9,-999.0000,  -999.0,9,     26.719,3,-999.000,9, 20150602,     2159,-999.000,   1.7049,2,    34.8136,2,     -999.0,9,     -999.0,-999.0000,     -999.0,     -999.0,9,     -999.0,     -999.0,9,     -999.0,  -999.0,9,     -999.0,     -999.0,9,     -999.0
33RO20150525,     P16N.2,     134,          2,          6,          6,2,20150602,       2100,    32.9991,  -151.9988,       5430,  3000.8,   1.5545,  34.6637,2,  34.6689,4,    115.1,2,   114.7,2,  162.45,2,   38.29,2,       0,2,    2.63,2,  -0.002,2,   0.002,2,       0,2,  2356.9,2,  2426.4,2,   7.5121,2,    25.02,-999.000,9,-999.0000,9, -999.00,9,  -999.0,9,  -999.0,-999.0000,9,-999.0000,  -999.0,9,     23.855,3,-999.000,9, 20150602,     2149,-999.000,   1.5542,2,    34.8324,2,     -999.0,9,     -999.0,-999.0000,     -999.0,     -999.0,9,     -999.0,     -999.0,9,     -999.0,  -999.0,9,     -999.0,     -999.0,9,     -999.0
33RO20150525,     P16N.2,     134,          2,          5,          5,2,20150602,       2100,    32.9991,  -151.9988,       5430,    3530,   1.4786,  34.6774,2,  34.6797,2,    134.1,2,   134.1,2,  157.27,2,   37.12,2,    0.01,2,    2.54,2,       0,2,       0,2,       0,2,  2342.1,2,  2424.2,2,   7.5468,6,    25.02,-999.000,9,-999.0000,9, -999.00,9,  -999.0,9,  -999.0,-999.0000,9,-999.0000,  -999.0,9,     22.102,3,-999.000,9, 20150602,     2139,-999.000,   1.4786,2,    34.8432,2,     -999.0,9,     -999.0,-999.0000,     -999.0,     -999.0,9,     -999.0,     -999.0,9,     -999.0,  -999.0,9,     -999.0,     -999.0,9,     -999.0
33RO20150525,     P16N.2,     134,          2,          4,          4,2,20150602,       2100,    32.9991,  -151.9988,       5430,  4000.8,   1.4708,  34.6838,2,  34.6835,2,    143.8,2,   143.6,2,  152.49,6,   36.53,6,       0,6,    2.49,6,  -0.001,2,   0.001,2,       0,2,  2335.4,2,  2424.8,2,   7.5636,2,    25.02,-999.000,9,-999.0000,9, -999.00,9,  -999.0,9,  -999.0,-999.0000,9,-999.0000,  -999.0,9,     21.243,3,-999.000,9, 20150602,     2130,-999.000,   1.4708,2,     34.847,2,     -999.0,9,     -999.0,-999.0000,     -999.0,     -999.0,9,     -999.0,     -999.0,9,     -999.0,  -999.0,9,     -999.0,     -999.0,9,     -999.0
33RO20150525,     P16N.2,     134,          2,          3,          3,2,20150602,       2100,    32.9991,  -151.9988,       5430,  4500.5,   1.4939,  34.6877,2,   34.688,2,    150.2,2,   148.9,2,  148.77,6,   36.05,6,       0,6,    2.46,6,   0.003,6,   0.004,6,       0,6,  2329.1,2,    2422,6,   7.5746,6,    25.02,-999.000,9,-999.0000,9, -999.00,9,  -999.0,9,  -999.0,-999.0000,9,-999.0000,  -999.0,9,     20.726,3,-999.000,9, 20150602,     2120,-999.000,    1.494,2,    34.8516,2,     -999.0,9,     -999.0,-999.0000,     -999.0,     -999.0,9,     -999.0,     -999.0,9,     -999.0,  -999.0,9,     -999.0,     -999.0,9,     -999.0
33RO20150525,     P16N.2,     134,          2,          2,          2,2,20150602,       2100,    32.9991,  -151.9988,       5430,  5009.4,   1.5368,  34.6902,2,  34.6892,2,    154.5,2,   153.9,2,  144.18,6,   35.75,6,       0,6,    2.44,6,   0.002,2,   0.003,2,       0,2,  2325.6,2,  2418.4,2,   7.5812,2,    25.02,-999.000,9,-999.0000,9, -999.00,9,  -999.0,9,  -999.0,-999.0000,9,-999.0000,  -999.0,9,     20.551,3,-999.000,9, 20150602,     2110,-999.000,   1.5367,2,    34.8528,2,     -999.0,9,     -999.0,-999.0000,     -999.0,     -999.0,9,     -999.0,     -999.0,9,     -999.0,  -999.0,9,     -999.0,     -999.0,9,     -999.0
33RO20150525,     P16N.2,     134,          2,          1,          1,2,20150602,       2100,    32.9991,  -151.9988,       5430,  5519.6,   1.5964,  34.6912,2,  34.6957,4,    156.4,2,   155.7,2,  142.72,6,   35.66,6,       0,6,    2.42,6,   0.002,2,   0.004,2,       0,2,  2324.7,6,  2415.4,2,   7.5817,2,    25.04,-999.000,9,-999.0000,9, -999.00,9,  -999.0,9,  -999.0,-999.0000,9,-999.0000,  -999.0,9,     20.487,3,-999.000,9, 20150602,     2100,-999.000,   1.5965,2,    34.8593,2,     -999.0,9,     -999.0,-999.0000,     -999.0,     -999.0,9,     -999.0,     -999.0,9,     -999.0,  -999.0,9,     -999.0,     -999.0,9,     -999.0