BOTTLE,20220330CCHSIOCBG
EXPOCODE,SECT_ID,STNNBR,CASTNO,SAMPNO,BTLNBR,BTLNBR_FLAG_W,DATE,TIME,LATITUDE,LONGITUDE,DEPTH,CTDPRS,CTDTMP,CTDSAL,CTDSAL_FLAG_W,SALNTY,SALNTY_FLAG_W,CTDOXY,CTDOXY_FLAG_W,OXYGEN,OXYGEN_FLAG_W,SILCAT,SILCAT_FLAG_W,NITRAT,NITRAT_FLAG_W,NITRIT,NITRIT_FLAG_W,PHSPHT,PHSPHT_FLAG_W,CFC-11,CFC-11_FLAG_W,CFC-12,CFC-12_FLAG_W,SF6,SF6_FLAG_W,TCARBN,TCARBN_FLAG_W,ALKALI,ALKALI_FLAG_W,PH_TOT,PH_TOT_FLAG_W,PH_TMP,TRITUM,TRITUM_FLAG_W,HELIUM,HELIUM_FLAG_W,DELC13,DELC13_FLAG_W,DELC14,DELC14_FLAG_W,C14ERR,NEON,NEON_FLAG_W,NEONER,DOC,DOC_FLAG_W,N2O,N2O_FLAG_W,ARGON,ARGON_FLAG_W,BTL_DATE,BTL_TIME,TRITER,SBE35,SBE35_FLAG_W,SALTREF,SALTREF_FLAG_W,DELHE3,DELHE3_FLAG_W,DELHER,HELIER,ARGONER,KRYPTON,KRYPTON_FLAG_W,KRYPTONER,XENON,XENON_FLAG_W,XENONER,14C-DOC,14C-DOC_FLAG_W,14C-DOCERR,13C-DOC,13C-DOC_FLAG_W,13C-DOCERR
,,,,,,,,,,,METERS,DBAR,ITS-90,PSS-78,,PSS-78,,UMOL/KG,,UMOL/KG,,UMOL/KG,,UMOL/KG,,UMOL/KG,,UMOL/KG,,PMOL/KG,,PMOL/KG,,FMOL/KG,,UMOL/KG,,UMOL/KG,,,,DEG C,TU,,NMOL/KG,,/MILLE,,/MILLE,,/MILLE,NMOL/KG,,NMOL/KG,UMOL/KG,,NMOL/KG,,UMOL/KG,,,,TU,ITS-90,,G/KG,,PERCNT,,PERCNT,NMOL/KG,UMOL/KG,NMOL/KG,,NMOL/KG,NMOL/KG,,NMOL/KG,/MILLE,,/MILLE,/MILLE,,/MILLE
33RO20150525,     P16N.2,     179,          1,         24,         24,2,20150616,       1733,    55.0694,  -152.2994,       4135,       3,   9.7507,  32.3755,2,  32.3758,2,    295.3,2,   297.3,2,    18.5,2,    7.83,2,    0.13,2,    0.98,2,   3.911,6,   2.189,6,   2.595,6,  2007.8,6,  2181.7,2,   7.8341,2,       25,-999.000,9,-999.0000,9,    1.19,2,   -21.0,2,     3.2,-999.0000,9,-999.0000,  -999.0,9,     11.427,3,-999.000,9, 20150616,     1918,-999.000,   9.7504,2,    32.5284,2,     -999.0,9,     -999.0,-999.0000,     -999.0,     -999.0,9,     -999.0,     -999.0,9,     -999.0,  -999.0,9,     -999.0,     -999.0,9,     -999.0
33RO20150525,     P16N.2,     179,          1,         23,         23,2,20150616,       1733,    55.0694,  -152.2994,       4135,      25,   8.9437,  32.3895,2,   32.389,2,    300.3,2,   300.5,2,   19.39,2,    8.52,2,    0.13,2,    1.02,2,-999.000,9,-999.000,9,-999.000,9,  2011.9,2,  2181.2,2,   7.8237,3,    24.99,-999.000,9,-999.0000,9,    1.33,2,   -17.2,2,     3.2,-999.0000,9,-999.0000,    61.2,2,     -999.0,9,-999.000,9, 20150616,     1916,-999.000,   8.9287,2,    32.5417,2,     -999.0,9,     -999.0,-999.0000,     -999.0,     -999.0,9,     -999.0,     -999.0,9,     -999.0,  -999.0,9,     -999.0,     -999.0,9,     -999.0
33RO20150525,     P16N.2,     179,          1,         22,         22,2,20150616,       1733,    55.0694,  -152.2994,       4135,    50.4,   7.2103,  32.4396,2,  32.4574,2,    303.4,2,   303.8,2,   24.67,2,   12.73,2,    0.15,2,    1.28,2,   4.287,2,   2.393,2,   2.726,2,  2040.9,2,    2185,6,   7.7612,6,    24.99,-999.000,9,-999.0000,9,    1.04,2,   -20.0,2,     3.9,-999.0000,9,-999.0000,    59.0,2,     12.503,3,-999.000,9, 20150616,     1913,-999.000,   7.1404,2,    32.6105,2,     -999.0,9,     -999.0,-999.0000,     -999.0,     -999.0,9,     -999.0,     -999.0,9,     -999.0,  -999.0,9,     -999.0,     -999.0,9,     -999.0
33RO20150525,     P16N.2,     179,          1,         21,         21,2,20150616,       1733,    55.0694,  -152.2994,       4135,    75.1,   5.7313,  32.5825,2,  32.6208,2,      283,2,   277.4,2,   30.44,2,   17.33,2,    0.32,2,    1.54,2,   4.389,2,   2.407,2,   2.739,2,  2079.1,2,  2194.4,2,   7.6823,2,       25,-999.000,9,-999.0000,9,    0.68,2,   -26.9,2,     2.4,-999.0000,9,-999.0000,    55.8,2,     14.913,3,-999.000,9, 20150616,     1911,-999.000,   5.7318,2,    32.7747,6,     -999.0,9,     -999.0,-999.0000,     -999.0,     -999.0,9,     -999.0,     -999.0,9,     -999.0,  -999.0,9,     -999.0,     -999.0,9,     -999.0
33RO20150525,     P16N.2,     179,          1,         20,         20,2,20150616,       1733,    55.0694,  -152.2994,       4135,     100,   4.4295,  33.4096,2,  33.4636,3,      140,2,   137.8,2,   61.63,2,   34.53,2,    0.02,2,     2.5,2,    3.64,2,   1.924,2,   1.642,2,  2231.6,2,  2254.3,2,   7.3831,2,    25.01,-999.000,9,-999.0000,9,   -0.41,2,   -61.3,2,     2.8,-999.0000,9,-999.0000,    53.3,2,     29.452,3,-999.000,9, 20150616,     1909,-999.000,   4.4341,2,    33.6214,2,     -999.0,9,     -999.0,-999.0000,     -999.0,     -999.0,9,     -999.0,     -999.0,9,     -999.0,  -999.0,9,     -999.0,     -999.0,9,     -999.0
33RO20150525,     P16N.2,     179,          1,         19,         19,2,20150616,       1733,    55.0694,  -152.2994,       4135,   125.1,   3.9481,  33.7156,2,  33.7186,2,       85,2,    76.8,2,   76.78,2,   40.49,2,    0.02,2,    2.85,2,   2.998,2,   1.571,2,   1.123,2,  2288.4,2,  2276.7,2,   7.2745,3,       25,-999.000,9,-999.0000,9,   -0.71,2,   -80.8,2,     2.5,-999.0000,9,-999.0000,    47.9,2,     36.682,3,-999.000,9, 20150616,     1908,-999.000,   3.9476,2,    33.8776,2,     -999.0,9,     -999.0,-999.0000,     -999.0,     -999.0,9,     -999.0,     -999.0,9,     -999.0,  -999.0,9,     -999.0,     -999.0,9,     -999.0
33RO20150525,     P16N.2,     179,          1,         18,         18,2,20150616,       1733,    55.0694,  -152.2994,       4135,   174.3,   3.6681,  33.8217,2,  33.8227,2,     53.4,2,    52.1,2,   87.24,2,   42.74,2,    0.02,2,    2.99,2,   2.668,2,   1.354,2,   0.891,2,  2313.8,2,  2289.8,2,   7.2349,2,    25.02,-999.000,9,-999.0000,9,   -0.84,2,   -96.3,2,     3.6,-999.0000,9,-999.0000,    46.3,2,     39.643,3,-999.000,9, 20150616,     1905,-999.000,   3.6679,2,    33.9821,2,     -999.0,9,     -999.0,-999.0000,     -999.0,     -999.0,9,     -999.0,     -999.0,9,     -999.0,  -999.0,9,     -999.0,     -999.0,9,     -999.0
33RO20150525,     P16N.2,     179,          1,         17,         17,2,20150616,       1733,    55.0694,  -152.2994,       4135,   250.1,   3.7716,  33.9392,2,  33.9429,2,     28.2,2,    24.8,2,   96.42,2,    44.4,2,    0.01,2,    3.08,2,   1.999,2,   1.005,2,   0.628,2,  2336.8,2,  2301.2,2,   7.2089,6,    25.02,-999.000,9,-999.0000,9,   -0.90,2,  -111.0,2,     2.3,-999.0000,9,-999.0000,    47.1,2,     43.994,3,-999.000,9, 20150616,     1902,-999.000,   3.7704,2,    34.1029,2,     -999.0,9,     -999.0,-999.0000,     -999.0,     -999.0,9,     -999.0,     -999.0,9,     -999.0,  -999.0,9,     -999.0,     -999.0,9,     -999.0
33RO20150525,     P16N.2,     179,          1,         16,         16,2,20150616,       1733,    55.0694,  -152.2994,       4135,   324.2,    3.885,  34.0468,2,  34.0545,2,     24.8,2,      24,2,  100.23,2,   43.32,2,       0,2,    3.03,2,   1.396,2,    0.68,2,   0.364,2,  2337.7,2,  2318.4,2,   7.2444,2,    25.02,-999.000,9,-999.0000,9,   -0.76,2,  -126.6,2,     1.8,-999.0000,9,-999.0000,    47.4,2,     44.508,3,-999.000,9, 20150616,     1859,-999.000,   3.8905,2,    34.2151,2,     -999.0,9,     -999.0,-999.0000,     -999.0,     -999.0,9,     -999.0,     -999.0,9,     -999.0,  -999.0,9,     -999.0,     -999.0,9,     -999.0
33RO20150525,     P16N.2,     179,          1,         15,         15,2,20150616,       1733,    55.0694,  -152.2994,       4135,   399.7,   3.8309,  34.1274,2,  34.1263,2,       19,2,      18,2,  107.07,2,   43.51,2,    0.01,2,    3.05,2,   0.995,2,   0.484,2,   0.243,2,  2346.3,2,  2328.2,2,   7.2507,2,    25.01,-999.000,9,-999.0000,9,   -0.73,2,  -141.9,2,     1.9,-999.0000,9,-999.0000,    45.0,2,     46.078,3,-999.000,9, 20150616,     1857,-999.000,   3.8306,2,    34.2872,2,     -999.0,9,     -999.0,-999.0000,     -999.0,     -999.0,9,     -999.0,     -999.0,9,     -999.0,  -999.0,9,     -999.0,     -999.0,9,     -999.0
33RO20150525,     P16N.2,     179,          1,         14,         14,2,20150616,       1733,    55.0694,  -152.2994,       4135,   499.6,   3.7219,  34.1922,2,  34.1913,2,     15.6,2,    14.1,2,  113.81,2,   43.61,2,       0,2,    3.05,2,   0.641,2,   0.305,2,   0.132,2,  2353.5,2,  2338.3,2,   7.2591,2,    25.01,-999.000,9,-999.0000,9,   -0.69,2,  -158.3,2,     1.8,-999.0000,9,-999.0000,    43.8,2,     47.468,3,-999.000,9, 20150616,     1854,-999.000,   3.7218,2,    34.3526,2,     -999.0,9,     -999.0,-999.0000,     -999.0,     -999.0,9,     -999.0,     -999.0,9,     -999.0,  -999.0,9,     -999.0,     -999.0,9,     -999.0
33RO20150525,     P16N.2,     179,          1,         13,         13,2,20150616,       1733,    55.0694,  -152.2994,       4135,   649.7,   3.4004,  34.2713,2,  34.2691,2,     13.5,2,    12.6,2,  125.24,2,    43.8,2,    0.01,2,    3.08,2,   0.346,2,   0.165,2,   0.041,2,  2367.8,2,  2354.6,2,    7.269,2,    24.97,-999.000,9,-999.0000,9,   -0.69,2,  -180.5,2,     1.9,-999.0000,9,-999.0000,    42.5,2,     48.548,3,-999.000,9, 20150616,     1850,-999.000,      3.4,2,    34.4307,2,     -999.0,9,     -999.0,-999.0000,     -999.0,     -999.0,9,     -999.0,     -999.0,9,     -999.0,  -999.0,9,     -999.0,     -999.0,9,     -999.0
33RO20150525,     P16N.2,     179,          1,         12,         12,2,20150616,       1733,    55.0694,  -152.2994,       4135,     800,   3.2064,  34.3204,2,  34.3192,2,       14,2,    13.4,2,  132.47,2,    43.9,2,    0.01,2,    3.09,2,-999.000,9,-999.000,9,-999.000,9,  2374.4,6,    2364,2,    7.276,2,    25.03,-999.000,9,-999.0000,9,   -0.69,2,  -192.9,2,     1.8,-999.0000,9,-999.0000,    40.6,2,     -999.0,9,-999.000,9, 20150616,     1846,-999.000,   3.2069,2,     34.481,2,     -999.0,9,     -999.0,-999.0000,     -999.0,     -999.0,9,     -999.0,     -999.0,9,     -999.0,  -999.0,9,     -999.0,     -999.0,9,     -999.0
33RO20150525,     P16N.2,     179,          1,         11,         11,2,20150616,       1733,    55.0694,  -152.2994,       4135,     955,   2.8685,  34.3917,2,  34.3883,2,     14.5,2,    14.2,2,  142.93,2,   43.89,2,    0.01,2,    3.09,2,   0.089,2,   0.044,2,   0.033,2,  2384.6,2,  2378.2,2,   7.2851,2,    25.02,-999.000,9,-999.0000,9,   -0.70,2,  -204.0,2,     2.4,-999.0000,9,-999.0000,    40.4,2,     47.706,3,-999.000,9, 20150616,     1842,-999.000,   2.8689,2,    34.5504,2,     -999.0,9,     -999.0,-999.0000,     -999.0,     -999.0,9,     -999.0,     -999.0,9,     -999.0,  -999.0,9,     -999.0,     -999.0,9,     -999.0
33RO20150525,     P16N.2,     179,          1,         10,         10,2,20150616,       1733,    55.0694,  -152.2994,       4135,  1099.8,   2.6126,  34.4415,2,  34.4397,2,     18.3,2,    17.8,2,  150.64,2,   43.89,2,    0.01,2,    3.07,2,-999.000,9,-999.000,9,-999.000,9,  2388.9,2,  2387.3,2,   7.2981,2,    25.01,-999.000,9,-999.0000,9,   -0.67,2,  -217.4,2,     1.7,-999.0000,9,-999.0000,    39.8,2,     -999.0,9,-999.000,9, 20150616,     1838,-999.000,   2.6125,2,    34.6021,2,     -999.0,9,     -999.0,-999.0000,     -999.0,     -999.0,9,     -999.0,     -999.0,9,     -999.0,  -999.0,9,     -999.0,     -999.0,9,     -999.0
33RO20150525,     P16N.2,     179,          1,          9,          9,2,20150616,       1733,    55.0694,  -152.2994,       4135,  1299.9,   2.3073,  34.5026,2,  34.5001,2,     27.4,2,    27.2,2,  158.85,2,    43.4,2,       0,2,    3.01,2,-999.000,9,-999.000,9,-999.000,9,  2393.6,2,  2397.8,2,   7.3216,2,    24.99,-999.000,9,-999.0000,9,   -0.62,2,  -225.2,2,     1.8,-999.0000,9,-999.0000,    39.6,2,     -999.0,9,-999.000,9, 20150616,     1833,-999.000,   2.3073,2,    34.6628,2,     -999.0,9,     -999.0,-999.0000,     -999.0,     -999.0,9,     -999.0,     -999.0,9,     -999.0,  -999.0,9,     -999.0,     -999.0,9,     -999.0
33RO20150525,     P16N.2,     179,          1,          8,          8,2,20150616,       1733,    55.0694,  -152.2994,       4135,  1599.4,   2.0895,  34.5492,2,  34.5482,2,     41.2,2,    41.6,2,  163.92,2,   42.62,2,       0,2,    2.96,2,-999.000,9,-999.000,9,-999.000,9,  2394.1,2,    2407,2,   7.3531,2,    25.03,-999.000,9,-999.0000,9,   -0.54,2,  -236.0,2,     1.7,-999.0000,9,-999.0000,    40.3,2,     -999.0,9,-999.000,9, 20150616,     1827,-999.000,   2.0889,2,    34.7112,2,     -999.0,9,     -999.0,-999.0000,     -999.0,     -999.0,9,     -999.0,     -999.0,9,     -999.0,  -999.0,9,     -999.0,     -999.0,9,     -999.0
33RO20150525,     P16N.2,     179,          1,          7,          7,2,20150616,       1733,    55.0694,  -152.2994,       4135,  2000.2,   1.8275,   34.603,2,   34.626,4,     65.2,2,    65.7,2,  167.83,2,   41.15,2,    0.01,2,    2.86,2,-999.000,9,-999.000,9,-999.000,9,  2379.1,2,  2415.8,2,    7.406,2,    25.01,-999.000,9,-999.0000,9,   -0.43,2,  -243.2,2,     1.6,-999.0000,9,-999.0000,    38.6,2,     -999.0,9,-999.000,9, 20150616,     1819,-999.000,   1.8275,2,    34.7893,2,     -999.0,9,     -999.0,-999.0000,     -999.0,     -999.0,9,     -999.0,     -999.0,9,     -999.0,  -999.0,9,     -999.0,     -999.0,9,     -999.0
33RO20150525,     P16N.2,     179,          1,          6,          6,2,20150616,       1733,    55.0694,  -152.2994,       4135,  2400.5,   1.6703,  34.6338,2,  34.6359,2,     87.8,2,    87.8,2,  167.43,2,   39.68,2,    0.01,2,    2.76,2,-999.000,9,-999.000,9,-999.000,9,  2367.9,2,    2419,2,   7.4525,2,    25.02,-999.000,9,-999.0000,9,   -0.26,2,  -241.6,2,     1.6,-999.0000,9,-999.0000,    39.5,2,     -999.0,9,-999.000,9, 20150616,     1811,-999.000,   1.6705,2,    34.7993,2,     -999.0,9,     -999.0,-999.0000,     -999.0,     -999.0,9,     -999.0,     -999.0,9,     -999.0,  -999.0,9,     -999.0,     -999.0,9,     -999.0
33RO20150525,     P16N.2,     179,          1,          5,          5,2,20150616,       1733,    55.0694,  -152.2994,       4135,  2799.3,    1.563,  34.6544,2,  34.6535,2,    107.5,2,   107.4,2,  166.16,2,   38.41,2,       0,2,    2.67,2,-999.000,9,-999.000,9,-999.000,9,  2358.3,2,  2420.6,6,   7.4921,6,    25.02,-999.000,9,-999.0000,9,   -0.14,2,  -230.8,2,     1.8,-999.0000,9,-999.0000,    38.7,2,     -999.0,9,-999.000,9, 20150616,     1803,-999.000,    1.563,2,    34.8169,2,     -999.0,9,     -999.0,-999.0000,     -999.0,     -999.0,9,     -999.0,     -999.0,9,     -999.0,  -999.0,9,     -999.0,     -999.0,9,     -999.0
33RO20150525,     P16N.2,     179,          1,          4,          4,2,20150616,       1733,    55.0694,  -152.2994,       4135,    3200,   1.4982,  34.6684,2,  34.6681,2,    123.2,2,   123.3,2,  164.11,6,   37.43,6,       0,6,    2.59,6,-999.000,9,-999.000,9,-999.000,9,  2346.1,2,    2422,2,   7.5229,2,    25.02,-999.000,9,-999.0000,9,   -0.03,2,  -230.0,2,     2.2,-999.0000,9,-999.0000,    38.4,2,     -999.0,9,-999.000,9, 20150616,     1754,-999.000,   1.4981,2,    34.8315,2,     -999.0,9,     -999.0,-999.0000,     -999.0,     -999.0,9,     -999.0,     -999.0,9,     -999.0,  -999.0,9,     -999.0,     -999.0,9,     -999.0
33RO20150525,     P16N.2,     179,          1,          3,          3,2,20150616,       1733,    55.0694,  -152.2994,       4135,  3599.7,    1.477,  34.6767,2,  34.6759,2,    133.3,2,   132.6,2,  162.74,6,   36.75,6,       0,6,    2.54,6,-999.000,9,-999.000,9,-999.000,9,  2340.7,2,  2421.6,2,   7.5412,2,    25.04,-999.000,9,-999.0000,9,    0.06,2,  -225.2,2,     2.1,-999.0000,9,-999.0000,    39.3,2,     -999.0,9,-999.000,9, 20150616,     1746,-999.000,   1.4769,2,    34.8394,2,     -999.0,9,     -999.0,-999.0000,     -999.0,     -999.0,9,     -999.0,     -999.0,9,     -999.0,  -999.0,9,     -999.0,     -999.0,9,     -999.0
33RO20150525,     P16N.2,     179,          1,          2,          2,2,20150616,       1733,    55.0694,  -152.2994,       4135,  3849.4,   1.4801,  34.6799,2,    34.68,2,    136.3,2,   137.1,2,  162.25,6,   36.46,6,    0.01,6,    2.53,6,-999.000,9,-999.000,9,-999.000,9,  2336.6,2,  2422.4,2,   7.5485,6,    25.04,-999.000,9,-999.0000,9,    0.03,2,  -225.5,2,     1.7,-999.0000,9,-999.0000,    39.4,2,     -999.0,9,-999.000,9, 20150616,     1741,-999.000,   1.4799,2,    34.8436,2,     -999.0,9,     -999.0,-999.0000,     -999.0,     -999.0,9,     -999.0,     -999.0,9,     -999.0,  -999.0,9,     -999.0,     -999.0,9,     -999.0
33RO20150525,     P16N.2,     179,          1,          1,          1,2,20150616,       1733,    55.0694,  -152.2994,       4135,  4200.3,   1.4788,  34.6852,2,  34.6842,2,    143.8,2,   144.3,2,  159.22,6,   35.97,6,    0.01,6,     2.5,6,-999.000,9,-999.000,9,-999.000,9,  2334.9,6,  2422.4,2,   7.5603,2,    25.06,-999.000,9,-999.0000,9,    0.04,2,  -224.5,2,     1.6,-999.0000,9,-999.0000,    39.4,2,     -999.0,9,-999.000,9, 20150616,     1734,-999.000,   1.4781,2,    34.8477,2,     -999.0,9,     -999.0,-999.0000,     -999.0,     -999.0,9,     -999.0,     -999.0,9,     -999.0,  -999.0,9,     -999.0,     -999.0,9,     -999.0