BOTTLE,20220330CCHSIOCBG
EXPOCODE,SECT_ID,STNNBR,CASTNO,SAMPNO,BTLNBR,BTLNBR_FLAG_W,DATE,TIME,LATITUDE,LONGITUDE,DEPTH,CTDPRS,CTDTMP,CTDSAL,CTDSAL_FLAG_W,SALNTY,SALNTY_FLAG_W,CTDOXY,CTDOXY_FLAG_W,OXYGEN,OXYGEN_FLAG_W,SILCAT,SILCAT_FLAG_W,NITRAT,NITRAT_FLAG_W,NITRIT,NITRIT_FLAG_W,PHSPHT,PHSPHT_FLAG_W,CFC-11,CFC-11_FLAG_W,CFC-12,CFC-12_FLAG_W,SF6,SF6_FLAG_W,TCARBN,TCARBN_FLAG_W,ALKALI,ALKALI_FLAG_W,PH_TOT,PH_TOT_FLAG_W,PH_TMP,TRITUM,TRITUM_FLAG_W,HELIUM,HELIUM_FLAG_W,DELC13,DELC13_FLAG_W,DELC14,DELC14_FLAG_W,C14ERR,NEON,NEON_FLAG_W,NEONER,DOC,DOC_FLAG_W,N2O,N2O_FLAG_W,ARGON,ARGON_FLAG_W,BTL_DATE,BTL_TIME,TRITER,SBE35,SBE35_FLAG_W,SALTREF,SALTREF_FLAG_W,DELHE3,DELHE3_FLAG_W,DELHER,HELIER,ARGONER,KRYPTON,KRYPTON_FLAG_W,KRYPTONER,XENON,XENON_FLAG_W,XENONER,14C-DOC,14C-DOC_FLAG_W,14C-DOCERR,13C-DOC,13C-DOC_FLAG_W,13C-DOCERR
,,,,,,,,,,,METERS,DBAR,ITS-90,PSS-78,,PSS-78,,UMOL/KG,,UMOL/KG,,UMOL/KG,,UMOL/KG,,UMOL/KG,,UMOL/KG,,PMOL/KG,,PMOL/KG,,FMOL/KG,,UMOL/KG,,UMOL/KG,,,,DEG C,TU,,NMOL/KG,,/MILLE,,/MILLE,,/MILLE,NMOL/KG,,NMOL/KG,UMOL/KG,,NMOL/KG,,UMOL/KG,,,,TU,ITS-90,,G/KG,,PERCNT,,PERCNT,NMOL/KG,UMOL/KG,NMOL/KG,,NMOL/KG,NMOL/KG,,NMOL/KG,/MILLE,,/MILLE,/MILLE,,/MILLE
33RO20150525,     P16N.2,     126,          1,         24,         24,2,20150531,       0930,    28.9997,  -151.9996,       5649,     3.2,   22.706,  35.4598,2,  35.4585,2,    215.7,2,   216.6,2,    1.17,2,       0,2,       0,2,    0.04,2,   1.897,6,   1.165,6,   1.503,6,  2031.4,6,  2332.7,2,   8.0366,2,    24.97,-999.000,9,-999.0000,9, -999.00,9,  -999.0,9,  -999.0,-999.0000,9,-999.0000,  -999.0,9,      7.004,3,-999.000,9, 20150531,     1143,-999.000,  22.7063,2,    35.6257,2,     -999.0,9,     -999.0,-999.0000,     -999.0,     -999.0,9,     -999.0,     -999.0,9,     -999.0,  -999.0,9,     -999.0,     -999.0,9,     -999.0
33RO20150525,     P16N.2,     126,          1,         23,         23,2,20150531,       0930,    28.9997,  -151.9996,       5649,    40.6,  22.5456,  35.4438,2,  35.4382,2,    218.2,2,   219.1,2,    1.27,2,       0,2,       0,2,    0.03,2,   1.929,2,   1.174,2,   1.513,2,  2032.4,2,  2331.5,2,   8.0332,6,       25,-999.000,9,-999.0000,9, -999.00,9,  -999.0,9,  -999.0,-999.0000,9,-999.0000,  -999.0,9,      7.040,3,-999.000,9, 20150531,     1140,-999.000,  22.5484,2,    35.6053,2,     -999.0,9,     -999.0,-999.0000,     -999.0,     -999.0,9,     -999.0,     -999.0,9,     -999.0,  -999.0,9,     -999.0,     -999.0,9,     -999.0
33RO20150525,     P16N.2,     126,          1,         22,         22,2,20150531,       0930,    28.9997,  -151.9996,       5649,    70.7,  21.2617,  35.3338,2,  35.3221,2,    222.1,2,   221.2,2,    1.56,2,       0,2,       0,2,    0.06,2,    2.04,2,    1.24,2,   1.552,2,  2034.4,2,  2322.4,2,   8.0184,2,    24.99,-999.000,9,-999.0000,9, -999.00,9,  -999.0,9,  -999.0,-999.0000,9,-999.0000,  -999.0,9,      7.521,3,-999.000,9, 20150531,     1138,-999.000,  21.2664,2,    35.4886,2,     -999.0,9,     -999.0,-999.0000,     -999.0,     -999.0,9,     -999.0,     -999.0,9,     -999.0,  -999.0,9,     -999.0,     -999.0,9,     -999.0
33RO20150525,     P16N.2,     126,          1,         21,         21,2,20150531,       0930,    28.9997,  -151.9996,       5649,   110.2,  19.9238,  35.2273,2,  35.2227,2,    220.6,2,   221.8,2,    1.85,2,       0,2,    0.01,2,    0.06,2,   2.137,2,     1.3,2,    1.58,2,  2037.6,2,  2314.7,6,   8.0005,6,    24.98,-999.000,9,-999.0000,9, -999.00,9,  -999.0,9,  -999.0,-999.0000,9,-999.0000,  -999.0,9,      7.830,3,-999.000,9, 20150531,     1136,-999.000,  19.9223,2,    35.3888,6,     -999.0,9,     -999.0,-999.0000,     -999.0,     -999.0,9,     -999.0,     -999.0,9,     -999.0,  -999.0,9,     -999.0,     -999.0,9,     -999.0
33RO20150525,     P16N.2,     126,          1,         20,         20,2,20150531,       0930,    28.9997,  -151.9996,       5649,   175.3,  17.9107,  34.9369,2,  34.9233,2,    219.6,2,   220.5,2,    2.64,2,    1.07,2,    0.08,2,    0.15,2,   2.324,2,   1.398,2,   1.712,2,  2041.1,2,  2293.5,2,   7.9601,6,    24.99,-999.000,9,-999.0000,9, -999.00,9,  -999.0,9,  -999.0,-999.0000,9,-999.0000,  -999.0,9,      8.397,3,-999.000,9, 20150531,     1133,-999.000,  17.9097,2,     35.088,2,     -999.0,9,     -999.0,-999.0000,     -999.0,     -999.0,9,     -999.0,     -999.0,9,     -999.0,  -999.0,9,     -999.0,     -999.0,9,     -999.0
33RO20150525,     P16N.2,     126,          1,         19,         19,2,20150531,       0930,    28.9997,  -151.9996,       5649,   251.2,   13.998,  34.3493,2,  34.3343,2,    205.5,2,   209.2,2,    6.93,2,    7.32,2,    0.01,2,    0.55,2,   2.849,2,   1.662,2,   1.689,2,  2066.1,2,    2259,2,   7.8496,6,    24.98,-999.000,9,-999.0000,9, -999.00,9,  -999.0,9,  -999.0,-999.0000,9,-999.0000,  -999.0,9,     12.069,3,-999.000,9, 20150531,     1131,-999.000,  13.9998,2,    34.4962,2,     -999.0,9,     -999.0,-999.0000,     -999.0,     -999.0,9,     -999.0,     -999.0,9,     -999.0,  -999.0,9,     -999.0,     -999.0,9,     -999.0
33RO20150525,     P16N.2,     126,          1,         18,         18,2,20150531,       0930,    28.9997,  -151.9996,       5649,   333.4,   11.528,  34.2004,2,  34.1971,2,      210,2,   207.8,2,   13.09,2,   12.89,2,    0.01,2,    0.95,2,   3.186,2,   1.816,2,   1.611,2,  2093.9,2,  2256.5,2,   7.7809,2,    24.99,-999.000,9,-999.0000,9, -999.00,9,  -999.0,9,  -999.0,-999.0000,9,-999.0000,  -999.0,9,     15.817,3,-999.000,9, 20150531,     1128,-999.000,    11.53,2,    34.3583,2,     -999.0,9,     -999.0,-999.0000,     -999.0,     -999.0,9,     -999.0,     -999.0,9,     -999.0,  -999.0,9,     -999.0,     -999.0,9,     -999.0
33RO20150525,     P16N.2,     126,          1,         17,         17,2,20150531,       0930,    28.9997,  -151.9996,       5649,   433.5,    9.292,  34.0855,2,   34.083,2,    192.2,2,     194,2,   23.15,2,   18.75,2,    0.01,2,    1.31,2,   3.332,2,   1.828,2,   1.357,2,  2132.8,2,  2261.1,2,   7.6953,6,    24.99,-999.000,9,-999.0000,9, -999.00,9,  -999.0,9,  -999.0,-999.0000,9,-999.0000,  -999.0,9,     20.683,3,-999.000,9, 20150531,     1125,-999.000,   9.2938,2,    34.2437,2,     -999.0,9,     -999.0,-999.0000,     -999.0,     -999.0,9,     -999.0,     -999.0,9,     -999.0,  -999.0,9,     -999.0,     -999.0,9,     -999.0
33RO20150525,     P16N.2,     126,          1,         16,         16,2,20150531,       0930,    28.9997,  -151.9996,       5649,   550.3,   6.9507,   34.003,2,  34.0019,2,    134.6,2,   131.5,2,   46.49,2,   29.01,2,       0,2,    2.04,2,   2.725,6,   1.395,6,    0.71,6,  2205.6,2,  2276.3,2,    7.526,2,    24.97,-999.000,9,-999.0000,9, -999.00,9,  -999.0,9,  -999.0,-999.0000,9,-999.0000,  -999.0,9,     27.797,3,-999.000,9, 20150531,     1121,-999.000,   6.9529,2,    34.1622,2,     -999.0,9,     -999.0,-999.0000,     -999.0,     -999.0,9,     -999.0,     -999.0,9,     -999.0,  -999.0,9,     -999.0,     -999.0,9,     -999.0
33RO20150525,     P16N.2,     126,          1,         15,         15,2,20150531,       0930,    28.9997,  -151.9996,       5649,   700.1,    4.891,  34.0803,2,  34.0801,2,     53.7,2,    55.1,2,   82.13,2,   39.46,2,       0,2,    2.78,2,   1.012,2,   0.487,2,   0.157,2,  2296.2,2,  2309.2,2,   7.3427,2,    25.01,-999.000,9,-999.0000,9, -999.00,9,  -999.0,9,  -999.0,-999.0000,9,-999.0000,  -999.0,9,     39.581,3,-999.000,9, 20150531,     1117,-999.000,    4.894,2,    34.2408,2,     -999.0,9,     -999.0,-999.0000,     -999.0,     -999.0,9,     -999.0,     -999.0,9,     -999.0,  -999.0,9,     -999.0,     -999.0,9,     -999.0
33RO20150525,     P16N.2,     126,          1,         14,         14,2,20150531,       0930,    28.9997,  -151.9996,       5649,   850.2,   4.1196,  34.2235,2,  34.2277,2,     19.5,2,    20.2,2,  105.37,2,   43.06,2,       0,2,    3.06,2,   0.164,2,   0.082,2,       0,2,  2342.2,2,  2338.2,2,   7.2896,2,       25,-999.000,9,-999.0000,9, -999.00,9,  -999.0,9,  -999.0,-999.0000,9,-999.0000,  -999.0,9,     47.388,3,-999.000,9, 20150531,     1113,-999.000,   4.1204,2,    34.3891,2,     -999.0,9,     -999.0,-999.0000,     -999.0,     -999.0,9,     -999.0,     -999.0,9,     -999.0,  -999.0,9,     -999.0,     -999.0,9,     -999.0
33RO20150525,     P16N.2,     126,          1,         13,         13,2,20150531,       0930,    28.9997,  -151.9996,       5649,  1000.4,   3.6666,  34.3607,2,  34.3613,2,     15.7,2,    16.1,2,  119.91,2,   43.94,2,       0,2,    3.11,2,   0.022,2,   0.013,2,       0,2,  2363.4,6,  2361.6,2,   7.2999,2,    25.02,-999.000,9,-999.0000,9, -999.00,9,  -999.0,9,  -999.0,-999.0000,9,-999.0000,  -999.0,9,     48.899,3,-999.000,9, 20150531,     1109,-999.000,   3.6667,2,    34.5233,2,     -999.0,9,     -999.0,-999.0000,     -999.0,     -999.0,9,     -999.0,     -999.0,9,     -999.0,  -999.0,9,     -999.0,     -999.0,9,     -999.0
33RO20150525,     P16N.2,     126,          1,         12,         12,2,20150531,       0930,    28.9997,  -151.9996,       5649,  1168.2,   3.2601,  34.4639,2,  34.4624,2,     28.7,2,    28.9,2,  129.17,2,   43.45,2,       0,2,    3.07,2,   0.007,2,   0.006,2,       0,2,  2366.9,2,  2381.7,2,   7.3352,6,    25.02,-999.000,9,-999.0000,9, -999.00,9,  -999.0,9,  -999.0,-999.0000,9,-999.0000,  -999.0,9,     44.835,3,-999.000,9, 20150531,     1105,-999.000,   3.2604,2,    34.6249,2,     -999.0,9,     -999.0,-999.0000,     -999.0,     -999.0,9,     -999.0,     -999.0,9,     -999.0,  -999.0,9,     -999.0,     -999.0,9,     -999.0
33RO20150525,     P16N.2,     126,          1,         11,         11,2,20150531,       0930,    28.9997,  -151.9996,       5649,  1400.3,   2.8595,   34.531,2,  34.5293,2,     48.5,2,    47.8,2,  136.59,2,   42.47,2,       0,2,    2.99,2,   0.003,2,   0.004,2,       0,2,  2365.9,2,  2394.6,2,   7.3794,2,    25.03,-999.000,9,-999.0000,9, -999.00,9,  -999.0,9,  -999.0,-999.0000,9,-999.0000,  -999.0,9,     38.366,3,-999.000,9, 20150531,     1100,-999.000,   2.8605,2,    34.6921,2,     -999.0,9,     -999.0,-999.0000,     -999.0,     -999.0,9,     -999.0,     -999.0,9,     -999.0,  -999.0,9,     -999.0,     -999.0,9,     -999.0
33RO20150525,     P16N.2,     126,          1,         10,         10,2,20150531,       0930,    28.9997,  -151.9996,       5649,  1735.4,   2.3521,  34.5867,2,  34.5859,2,     67.8,2,    68.3,2,   148.2,2,    41.3,2,       0,2,     2.9,2,       0,2,   0.001,2,       0,2,  2367.8,2,    2408,2,   7.4209,2,       25,-999.000,9,-999.0000,9, -999.00,9,  -999.0,9,  -999.0,-999.0000,9,-999.0000,  -999.0,9,     32.908,3,-999.000,9, 20150531,     1052,-999.000,   2.3518,2,     34.749,2,     -999.0,9,     -999.0,-999.0000,     -999.0,     -999.0,9,     -999.0,     -999.0,9,     -999.0,  -999.0,9,     -999.0,     -999.0,9,     -999.0
33RO20150525,     P16N.2,     126,          1,          9,          9,2,20150531,       0930,    28.9997,  -151.9996,       5649,  2166.7,   1.9061,  34.6258,2,  34.6248,2,     85.3,2,    84.9,2,   160.2,2,   40.32,2,       0,2,     2.8,2,       0,2,   0.001,2,       0,2,  2367.1,2,  2420.8,2,   7.4536,2,    25.02,-999.000,9,-999.0000,9, -999.00,9,  -999.0,9,  -999.0,-999.0000,9,-999.0000,  -999.0,9,     28.608,3,-999.000,9, 20150531,     1043,-999.000,   1.9057,2,    34.7881,2,     -999.0,9,     -999.0,-999.0000,     -999.0,     -999.0,9,     -999.0,     -999.0,9,     -999.0,  -999.0,9,     -999.0,     -999.0,9,     -999.0
33RO20150525,     P16N.2,     126,          1,          8,          8,2,20150531,       0930,    28.9997,  -151.9996,       5649,  2667.6,   1.6487,  34.6539,2,  34.6527,2,    106.3,2,   106.6,2,  162.64,2,   38.95,2,       0,2,    2.69,2,   0.004,2,   0.002,2,       0,2,  2357.9,2,  2425.4,2,    7.496,2,    25.02,-999.000,9,-999.0000,9, -999.00,9,  -999.0,9,  -999.0,-999.0000,9,-999.0000,  -999.0,9,     24.790,3,-999.000,9, 20150531,     1033,-999.000,   1.6484,2,    34.8162,2,     -999.0,9,     -999.0,-999.0000,     -999.0,     -999.0,9,     -999.0,     -999.0,9,     -999.0,  -999.0,9,     -999.0,     -999.0,9,     -999.0
33RO20150525,     P16N.2,     126,          1,          7,          7,2,20150531,       0930,    28.9997,  -151.9996,       5649,  3168.7,    1.531,  34.6703,2,  34.6695,2,    125.3,2,   125.2,2,  158.63,2,   37.78,2,       0,2,    2.58,2,   0.005,2,   0.002,2,       0,2,  2348.2,2,  2425.8,2,   7.5322,2,    24.99,-999.000,9,-999.0000,9, -999.00,9,  -999.0,9,  -999.0,-999.0000,9,-999.0000,  -999.0,9,     22.633,3,-999.000,9, 20150531,     1023,-999.000,   1.5309,2,    34.8329,2,     -999.0,9,     -999.0,-999.0000,     -999.0,     -999.0,9,     -999.0,     -999.0,9,     -999.0,  -999.0,9,     -999.0,     -999.0,9,     -999.0
33RO20150525,     P16N.2,     126,          1,          6,          6,2,20150531,       0930,    28.9997,  -151.9996,       5649,  3666.6,   1.4888,  34.6799,2,  34.6785,2,    137.3,2,   138.8,2,  154.63,2,    36.9,2,       0,2,    2.54,2,   0.002,2,   0.002,2,       0,2,    2338,2,  2425.4,2,   7.5539,2,    25.02,-999.000,9,-999.0000,9, -999.00,9,  -999.0,9,  -999.0,-999.0000,9,-999.0000,  -999.0,9,     21.278,3,-999.000,9, 20150531,     1014,-999.000,   1.4888,2,     34.842,2,     -999.0,9,     -999.0,-999.0000,     -999.0,     -999.0,9,     -999.0,     -999.0,9,     -999.0,  -999.0,9,     -999.0,     -999.0,9,     -999.0
33RO20150525,     P16N.2,     126,          1,          5,          5,2,20150531,       0930,    28.9997,  -151.9996,       5649,  4167.3,   1.4821,  34.6855,2,  34.6838,2,      147,2,   147.6,2,  149.75,6,   36.31,6,       0,6,    2.47,6,   0.004,2,   0.005,2,       0,2,  2331.1,2,  2422.2,2,    7.568,6,    25.02,-999.000,9,-999.0000,9, -999.00,9,  -999.0,9,  -999.0,-999.0000,9,-999.0000,  -999.0,9,     20.697,3,-999.000,9, 20150531,     1003,-999.000,   1.4822,2,    34.8474,2,     -999.0,9,     -999.0,-999.0000,     -999.0,     -999.0,9,     -999.0,     -999.0,9,     -999.0,  -999.0,9,     -999.0,     -999.0,9,     -999.0
33RO20150525,     P16N.2,     126,          1,          4,          4,2,20150531,       0930,    28.9997,  -151.9996,       5649,  4666.4,   1.4968,  34.6892,2,   34.687,2,    154.4,2,   153.5,2,  145.06,6,   35.83,6,       0,6,    2.44,6,   0.006,6,   0.006,6,       0,6,    2325,2,  2418.6,6,   7.5775,2,    24.99,-999.000,9,-999.0000,9, -999.00,9,  -999.0,9,  -999.0,-999.0000,9,-999.0000,  -999.0,9,     20.368,3,-999.000,9, 20150531,     0953,-999.000,   1.4969,2,    34.8506,2,     -999.0,9,     -999.0,-999.0000,     -999.0,     -999.0,9,     -999.0,     -999.0,9,     -999.0,  -999.0,9,     -999.0,     -999.0,9,     -999.0
33RO20150525,     P16N.2,     126,          1,          3,          3,2,20150531,       0930,    28.9997,  -151.9996,       5649,  5166.3,   1.5209,  34.6925,2,  34.6905,2,    160.9,2,   160.2,2,  140.08,6,   35.44,6,       0,6,     2.4,6,   0.003,2,   0.006,2,       0,2,  2316.8,2,  2414.4,2,   7.5836,2,    25.04,-999.000,9,-999.0000,9, -999.00,9,  -999.0,9,  -999.0,-999.0000,9,-999.0000,  -999.0,9,     20.064,3,-999.000,9, 20150531,     0943,-999.000,   1.5211,2,    34.8541,2,     -999.0,9,     -999.0,-999.0000,     -999.0,     -999.0,9,     -999.0,     -999.0,9,     -999.0,  -999.0,9,     -999.0,     -999.0,9,     -999.0
33RO20150525,     P16N.2,     126,          1,          2,          2,2,20150531,       0930,    28.9997,  -151.9996,       5649,  5449.3,   1.5497,  34.6934,2,  34.6913,2,    161.3,2,   162.6,2,  139.11,6,   35.34,6,       0,6,    2.39,6,   0.005,2,   0.006,2,       0,2,    2316,2,    2413,2,   7.5858,2,    25.03,-999.000,9,-999.0000,9, -999.00,9,  -999.0,9,  -999.0,-999.0000,9,-999.0000,  -999.0,9,     19.965,3,-999.000,9, 20150531,     0937,-999.000,   1.5499,2,    34.8549,2,     -999.0,9,     -999.0,-999.0000,     -999.0,     -999.0,9,     -999.0,     -999.0,9,     -999.0,  -999.0,9,     -999.0,     -999.0,9,     -999.0
33RO20150525,     P16N.2,     126,          1,          1,          1,4,20150531,       0930,    28.9997,  -151.9996,       5649,  5731.1,   1.5868,  34.6936,2,   34.322,4,    163.1,2,      18,4,  115.68,4,   43.83,4,    0.01,4,    3.12,4,   0.038,4,   0.022,4,       0,2,  2358.4,4,    2356,4,   7.2909,4,    24.97,-999.000,9,-999.0000,9, -999.00,9,  -999.0,9,  -999.0,-999.0000,9,-999.0000,  -999.0,9,     49.016,4,-999.000,9, 20150531,     0930,-999.000,   1.5868,2,    34.4838,2,     -999.0,9,     -999.0,-999.0000,     -999.0,     -999.0,9,     -999.0,     -999.0,9,     -999.0,  -999.0,9,     -999.0,     -999.0,9,     -999.0