BOTTLE,20220330CCHSIOCBG
EXPOCODE,SECT_ID,STNNBR,CASTNO,SAMPNO,BTLNBR,BTLNBR_FLAG_W,DATE,TIME,LATITUDE,LONGITUDE,DEPTH,CTDPRS,CTDTMP,CTDSAL,CTDSAL_FLAG_W,SALNTY,SALNTY_FLAG_W,CTDOXY,CTDOXY_FLAG_W,OXYGEN,OXYGEN_FLAG_W,SILCAT,SILCAT_FLAG_W,NITRAT,NITRAT_FLAG_W,NITRIT,NITRIT_FLAG_W,PHSPHT,PHSPHT_FLAG_W,CFC-11,CFC-11_FLAG_W,CFC-12,CFC-12_FLAG_W,SF6,SF6_FLAG_W,TCARBN,TCARBN_FLAG_W,ALKALI,ALKALI_FLAG_W,PH_TOT,PH_TOT_FLAG_W,PH_TMP,TRITUM,TRITUM_FLAG_W,HELIUM,HELIUM_FLAG_W,DELC13,DELC13_FLAG_W,DELC14,DELC14_FLAG_W,C14ERR,NEON,NEON_FLAG_W,NEONER,DOC,DOC_FLAG_W,N2O,N2O_FLAG_W,ARGON,ARGON_FLAG_W,BTL_DATE,BTL_TIME,TRITER,SBE35,SBE35_FLAG_W,SALTREF,SALTREF_FLAG_W,DELHE3,DELHE3_FLAG_W,DELHER,HELIER,ARGONER,KRYPTON,KRYPTON_FLAG_W,KRYPTONER,XENON,XENON_FLAG_W,XENONER,14C-DOC,14C-DOC_FLAG_W,14C-DOCERR,13C-DOC,13C-DOC_FLAG_W,13C-DOCERR
,,,,,,,,,,,METERS,DBAR,ITS-90,PSS-78,,PSS-78,,UMOL/KG,,UMOL/KG,,UMOL/KG,,UMOL/KG,,UMOL/KG,,UMOL/KG,,PMOL/KG,,PMOL/KG,,FMOL/KG,,UMOL/KG,,UMOL/KG,,,,DEG C,TU,,NMOL/KG,,/MILLE,,/MILLE,,/MILLE,NMOL/KG,,NMOL/KG,UMOL/KG,,NMOL/KG,,UMOL/KG,,,,TU,ITS-90,,G/KG,,PERCNT,,PERCNT,NMOL/KG,UMOL/KG,NMOL/KG,,NMOL/KG,NMOL/KG,,NMOL/KG,/MILLE,,/MILLE,/MILLE,,/MILLE
33RO20150525,     P16N.2,     129,          1,         24,         24,2,20150601,       0828,       30.5,       -152,       5388,     2.9,  20.3186,  34.9544,2,   34.954,2,    228.3,2,   228.6,2,    2.15,2,       0,2,    0.01,2,    0.01,2,   2.151,2,   1.307,2,   1.724,2,  2026.6,6,  2296.5,2,   7.9894,6,    25.04,-999.000,9,-999.0000,9, -999.00,9,  -999.0,9,  -999.0,-999.0000,9,-999.0000,    64.4,2,      7.690,3,-999.000,9, 20150601,     1036,-999.000,  20.3181,2,    35.1188,2,     -999.0,9,     -999.0,-999.0000,     -999.0,     -999.0,9,     -999.0,     -999.0,9,     -999.0,  -999.0,9,     -999.0,     -999.0,9,     -999.0
33RO20150525,     P16N.2,     129,          1,         23,         23,2,20150601,       0828,       30.5,       -152,       5388,    34.3,  19.6912,  34.8537,2,  34.8597,2,    232.4,2,   232.7,2,    2.34,2,       0,2,       0,2,    0.02,2,-999.000,9,-999.000,9,-999.000,9,  2022.4,2,  2288.8,2,   7.9849,2,    25.05,-999.000,9,-999.0000,9, -999.00,9,  -999.0,9,  -999.0,-999.0000,9,-999.0000,    63.8,2,     -999.0,9,-999.000,9, 20150601,     1033,-999.000,  19.7209,2,    35.0241,2,     -999.0,9,     -999.0,-999.0000,     -999.0,     -999.0,9,     -999.0,     -999.0,9,     -999.0,  -999.0,9,     -999.0,     -999.0,9,     -999.0
33RO20150525,     P16N.2,     129,          1,         22,         22,2,20150601,       0828,       30.5,       -152,       5388,    59.1,  18.3524,  34.7354,2,  34.7375,2,    237.9,2,   237.9,2,    2.44,2,       0,2,    0.01,2,    0.03,2,   2.299,2,   1.401,2,   1.791,2,  2019.3,2,  2282.1,2,   7.9779,6,    25.06,-999.000,9,-999.0000,9, -999.00,9,  -999.0,9,  -999.0,-999.0000,9,-999.0000,    61.9,2,      8.064,3,-999.000,9, 20150601,     1032,-999.000,  18.3174,2,    34.9013,2,     -999.0,9,     -999.0,-999.0000,     -999.0,     -999.0,9,     -999.0,     -999.0,9,     -999.0,  -999.0,9,     -999.0,     -999.0,9,     -999.0
33RO20150525,     P16N.2,     129,          1,         21,         21,2,20150601,       0828,       30.5,       -152,       5388,    84.4,  18.0285,  34.7366,2,  34.7322,2,    236.1,2,     236,2,    2.54,2,       0,2,    0.01,2,    0.04,2,-999.000,9,-999.000,9,-999.000,9,  2020.3,2,  2279.7,2,   7.9747,2,    25.05,-999.000,9,-999.0000,9, -999.00,9,  -999.0,9,  -999.0,-999.0000,9,-999.0000,    61.9,2,     -999.0,9,-999.000,9, 20150601,     1030,-999.000,  18.0307,2,    34.8959,2,     -999.0,9,     -999.0,-999.0000,     -999.0,     -999.0,9,     -999.0,     -999.0,9,     -999.0,  -999.0,9,     -999.0,     -999.0,9,     -999.0
33RO20150525,     P16N.2,     129,          1,         20,         20,2,20150601,       0828,       30.5,       -152,       5388,   118.2,  17.2397,  34.6296,2,   34.618,2,    233.7,2,   233.1,2,    2.83,2,     0.1,2,    0.06,2,    0.09,2,   2.402,2,   1.452,2,   1.751,2,    2023,2,  2274.9,6,   7.9587,2,       25,-999.000,9,-999.0000,9, -999.00,9,  -999.0,9,  -999.0,-999.0000,9,-999.0000,    61.0,2,      8.403,3,-999.000,9, 20150601,     1028,-999.000,  17.2385,2,    34.7812,2,     -999.0,9,     -999.0,-999.0000,     -999.0,     -999.0,9,     -999.0,     -999.0,9,     -999.0,  -999.0,9,     -999.0,     -999.0,9,     -999.0
33RO20150525,     P16N.2,     129,          1,         19,         19,2,20150601,       0828,       30.5,       -152,       5388,     176,  14.4344,  34.2603,2,  34.2625,2,    220.1,2,   221.4,2,    5.18,2,     4.1,2,    0.04,2,    0.37,2,    2.76,2,    1.64,2,   1.824,2,  2047.2,2,  2270.2,3,   7.8776,2,    25.07,-999.000,9,-999.0000,9, -999.00,9,  -999.0,9,  -999.0,-999.0000,9,-999.0000,    51.2,2,     10.632,3,-999.000,9, 20150601,     1025,-999.000,  14.4222,2,     34.424,2,     -999.0,9,     -999.0,-999.0000,     -999.0,     -999.0,9,     -999.0,     -999.0,9,     -999.0,  -999.0,9,     -999.0,     -999.0,9,     -999.0
33RO20150525,     P16N.2,     129,          1,         18,         18,2,20150601,       0828,       30.5,       -152,       5388,   250.4,   11.944,  34.1613,2,   34.164,2,      212,2,   210.4,2,   10.94,2,   11.33,2,    0.01,2,    0.82,2,   3.091,2,    1.82,2,   1.708,2,    2085,2,  2252.6,2,   7.7924,2,    24.98,-999.000,9,-999.0000,9, -999.00,9,  -999.0,9,  -999.0,-999.0000,9,-999.0000,    47.7,2,     14.884,3,-999.000,9, 20150601,     1022,-999.000,  11.9537,2,    34.3251,2,     -999.0,9,     -999.0,-999.0000,     -999.0,     -999.0,9,     -999.0,     -999.0,9,     -999.0,  -999.0,9,     -999.0,     -999.0,9,     -999.0
33RO20150525,     P16N.2,     129,          1,         17,         17,2,20150601,       0828,       30.5,       -152,       5388,   333.9,  10.1235,  34.1189,2,  34.1207,2,    211.2,2,   210.3,2,   17.38,2,   15.33,2,    0.01,2,    1.09,2,    3.32,2,   1.889,2,   1.703,2,    2110,2,  2256.3,2,   7.7412,2,    25.07,-999.000,9,-999.0000,9, -999.00,9,  -999.0,9,  -999.0,-999.0000,9,-999.0000,    46.9,2,     19.206,3,-999.000,9, 20150601,     1019,-999.000,  10.1401,2,    34.2816,2,     -999.0,9,     -999.0,-999.0000,     -999.0,     -999.0,9,     -999.0,     -999.0,9,     -999.0,  -999.0,9,     -999.0,     -999.0,9,     -999.0
33RO20150525,     P16N.2,     129,          1,         16,         16,2,20150601,       0828,       30.5,       -152,       5388,   433.8,   8.3527,  34.0322,2,  34.0314,2,    181.3,2,   180.1,2,    29.5,2,   21.58,2,    0.01,2,    1.53,2,   3.284,2,   1.807,2,   1.283,2,  2151.9,2,  2262.6,2,   7.6445,6,       25,-999.000,9,-999.0000,9, -999.00,9,  -999.0,9,  -999.0,-999.0000,9,-999.0000,    47.3,2,     23.852,3,-999.000,9, 20150601,     1016,-999.000,   8.3584,2,    34.1918,2,     -999.0,9,     -999.0,-999.0000,     -999.0,     -999.0,9,     -999.0,     -999.0,9,     -999.0,  -999.0,9,     -999.0,     -999.0,9,     -999.0
33RO20150525,     P16N.2,     129,          1,         15,         15,2,20150601,       0828,       30.5,       -152,       5388,   550.9,    6.218,  33.9893,2,  33.9897,2,    112.4,2,   110.8,2,   55.28,2,   31.94,2,    0.01,2,    2.27,2,   2.407,3,   1.218,3,   0.574,3,  2228.6,2,  2282.1,2,   7.4644,2,    25.06,-999.000,9,-999.0000,9, -999.00,9,  -999.0,9,  -999.0,-999.0000,9,-999.0000,    43.3,2,     30.718,3,-999.000,9, 20150601,     1013,-999.000,   6.2155,2,      34.15,2,     -999.0,9,     -999.0,-999.0000,     -999.0,     -999.0,9,     -999.0,     -999.0,9,     -999.0,  -999.0,9,     -999.0,     -999.0,9,     -999.0
33RO20150525,     P16N.2,     129,          1,         14,         14,2,20150601,       0828,       30.5,       -152,       5388,   701.4,   4.7566,  34.0915,2,  34.0947,2,     45.7,2,    43.9,2,   85.45,2,   39.94,2,    0.01,2,    2.87,2,   0.893,6,   0.423,6,   0.157,6,  2305.9,2,    2311,2,   7.3214,2,    25.05,-999.000,9,-999.0000,9, -999.00,9,  -999.0,9,  -999.0,-999.0000,9,-999.0000,    43.5,2,     41.545,3,-999.000,9, 20150601,     1009,-999.000,   4.7583,2,    34.2555,2,     -999.0,9,     -999.0,-999.0000,     -999.0,     -999.0,9,     -999.0,     -999.0,9,     -999.0,  -999.0,9,     -999.0,     -999.0,9,     -999.0
33RO20150525,     P16N.2,     129,          1,         13,         13,2,20150601,       0828,       30.5,       -152,       5388,   850.5,   4.1463,  34.2574,2,  34.2557,2,     13.2,2,    13.5,2,  106.54,2,   42.67,2,    0.01,2,    3.12,2,   0.023,2,   0.014,2,   0.039,3,    2346,6,  2340.6,2,   7.2806,2,       25,-999.000,9,-999.0000,9, -999.00,9,  -999.0,9,  -999.0,-999.0000,9,-999.0000,    39.7,2,     50.850,3,-999.000,9, 20150601,     1005,-999.000,   4.1483,2,    34.4172,6,     -999.0,9,     -999.0,-999.0000,     -999.0,     -999.0,9,     -999.0,     -999.0,9,     -999.0,  -999.0,9,     -999.0,     -999.0,9,     -999.0
33RO20150525,     P16N.2,     129,          1,         12,         12,2,20150601,       0828,       30.5,       -152,       5388,  1000.2,   3.7114,  34.3772,2,  34.3788,2,     11.1,2,    10.8,2,  119.42,2,   43.26,2,       0,2,    3.16,2,   0.118,3,   0.061,3,       0,3,  2365.5,2,  2362.8,2,   7.2914,6,    25.05,-999.000,9,-999.0000,9, -999.00,9,  -999.0,9,  -999.0,-999.0000,9,-999.0000,    37.7,2,     49.380,3,-999.000,9, 20150601,     1001,-999.000,   3.7106,2,    34.5409,2,     -999.0,9,     -999.0,-999.0000,     -999.0,     -999.0,9,     -999.0,     -999.0,9,     -999.0,  -999.0,9,     -999.0,     -999.0,9,     -999.0
33RO20150525,     P16N.2,     129,          1,         11,         11,2,20150601,       0828,       30.5,       -152,       5388,  1167.2,   3.3016,    34.46,2,  34.4586,2,     25.3,2,    24.5,2,  128.29,2,   42.96,2,    0.01,2,     3.1,2,-999.000,9,-999.000,9,-999.000,9,  2369.2,2,  2378.1,2,    7.326,2,    25.05,-999.000,9,-999.0000,9, -999.00,9,  -999.0,9,  -999.0,-999.0000,9,-999.0000,    38.1,2,     -999.0,9,-999.000,9, 20150601,     0956,-999.000,   3.3037,2,    34.6211,2,     -999.0,9,     -999.0,-999.0000,     -999.0,     -999.0,9,     -999.0,     -999.0,9,     -999.0,  -999.0,9,     -999.0,     -999.0,9,     -999.0
33RO20150525,     P16N.2,     129,          1,         10,         10,2,20150601,       0828,       30.5,       -152,       5388,  1400.2,   2.8395,  34.5334,2,  34.5344,2,     44.8,2,    43.7,2,  138.34,2,   42.08,2,    0.01,2,    3.02,2,   0.003,2,   0.004,2,   0.025,3,  2369.6,2,  2394.6,2,   7.3691,2,    25.03,-999.000,9,-999.0000,9, -999.00,9,  -999.0,9,  -999.0,-999.0000,9,-999.0000,    36.7,2,     39.479,3,-999.000,9, 20150601,     0951,-999.000,    2.839,2,    34.6972,2,     -999.0,9,     -999.0,-999.0000,     -999.0,     -999.0,9,     -999.0,     -999.0,9,     -999.0,  -999.0,9,     -999.0,     -999.0,9,     -999.0
33RO20150525,     P16N.2,     129,          1,          9,          9,2,20150601,       0828,       30.5,       -152,       5388,  1732.9,   2.2969,  34.5875,2,  34.5868,2,     64.2,2,    63.6,2,  150.83,2,   40.91,2,       0,2,    2.92,2,-999.000,9,-999.000,9,-999.000,9,  2370.7,2,  2409.2,2,   7.4119,2,    25.03,-999.000,9,-999.0000,9, -999.00,9,  -999.0,9,  -999.0,-999.0000,9,-999.0000,    35.6,2,     -999.0,9,-999.000,9, 20150601,     0944,-999.000,   2.2974,2,    34.7499,2,     -999.0,9,     -999.0,-999.0000,     -999.0,     -999.0,9,     -999.0,     -999.0,9,     -999.0,  -999.0,9,     -999.0,     -999.0,9,     -999.0
33RO20150525,     P16N.2,     129,          1,          8,          8,2,20150601,       0828,       30.5,       -152,       5388,  2133.1,   1.8859,  34.6265,2,  34.6259,2,     80.7,2,    81.2,2,  162.84,2,   39.83,2,       0,2,    2.83,2,-999.000,9,-999.000,9,-999.000,9,  2368.9,2,  2421.8,2,   7.4474,2,    24.98,-999.000,9,-999.0000,9, -999.00,9,  -999.0,9,  -999.0,-999.0000,9,-999.0000,    35.9,2,     -999.0,9,-999.000,9, 20150601,     0935,-999.000,   1.8859,2,    34.7892,2,     -999.0,9,     -999.0,-999.0000,     -999.0,     -999.0,9,     -999.0,     -999.0,9,     -999.0,  -999.0,9,     -999.0,     -999.0,9,     -999.0
33RO20150525,     P16N.2,     129,          1,          7,          7,2,20150601,       0828,       30.5,       -152,       5388,  2532.9,   1.6832,  34.6486,2,  34.6481,2,     97.9,2,    98.1,2,  165.57,2,   38.95,2,       0,2,    2.74,2,-999.000,9,-999.000,9,-999.000,9,  2362.3,2,  2426.6,2,   7.4797,2,    25.05,-999.000,9,-999.0000,9, -999.00,9,  -999.0,9,  -999.0,-999.0000,9,-999.0000,    37.8,2,     -999.0,9,-999.000,9, 20150601,     0927,-999.000,   1.6831,2,    34.8115,2,     -999.0,9,     -999.0,-999.0000,     -999.0,     -999.0,9,     -999.0,     -999.0,9,     -999.0,  -999.0,9,     -999.0,     -999.0,9,     -999.0
33RO20150525,     P16N.2,     129,          1,          6,          6,2,20150601,       0828,       30.5,       -152,       5388,  2967.3,    1.546,  34.6647,2,  34.6652,2,    115.5,2,   115.7,2,  163.81,2,   37.78,2,    0.01,2,    2.66,2,-999.000,9,-999.000,9,-999.000,9,  2352.2,2,    2427,2,   7.5121,2,    25.07,-999.000,9,-999.0000,9, -999.00,9,  -999.0,9,  -999.0,-999.0000,9,-999.0000,    37.8,2,     -999.0,9,-999.000,9, 20150601,     0918,-999.000,   1.5459,2,    34.8287,2,     -999.0,9,     -999.0,-999.0000,     -999.0,     -999.0,9,     -999.0,     -999.0,9,     -999.0,  -999.0,9,     -999.0,     -999.0,9,     -999.0
33RO20150525,     P16N.2,     129,          1,          5,          5,2,20150601,       0828,       30.5,       -152,       5388,  3466.7,   1.4693,  34.6783,2,  34.6782,2,      135,2,   135.7,2,   155.9,2,   36.61,2,       0,2,    2.55,2,-999.000,9,-999.000,9,-999.000,9,  2338.6,2,  2424.4,2,   7.5486,6,    25.04,-999.000,9,-999.0000,9, -999.00,9,  -999.0,9,  -999.0,-999.0000,9,-999.0000,    35.0,2,     -999.0,9,-999.000,9, 20150601,     0908,-999.000,   1.4693,2,    34.8417,2,     -999.0,9,     -999.0,-999.0000,     -999.0,     -999.0,9,     -999.0,     -999.0,9,     -999.0,  -999.0,9,     -999.0,     -999.0,9,     -999.0
33RO20150525,     P16N.2,     129,          1,          4,          4,2,20150601,       0828,       30.5,       -152,       5388,  3967.1,   1.4626,  34.6846,2,  34.6841,2,    145.3,2,   144.5,2,  152.29,6,   36.12,6,       0,6,    2.49,6,-999.000,9,-999.000,9,-999.000,9,  2330.4,2,  2423.8,2,   7.5645,2,    25.06,-999.000,9,-999.0000,9, -999.00,9,  -999.0,9,  -999.0,-999.0000,9,-999.0000,    36.6,2,     -999.0,9,-999.000,9, 20150601,     0858,-999.000,   1.4627,2,    34.8477,6,     -999.0,9,     -999.0,-999.0000,     -999.0,     -999.0,9,     -999.0,     -999.0,9,     -999.0,  -999.0,9,     -999.0,     -999.0,9,     -999.0
33RO20150525,     P16N.2,     129,          1,          3,          3,2,20150601,       0828,       30.5,       -152,       5388,  4467.7,   1.4857,  34.6884,2,  34.6873,2,    150.9,2,   150.2,2,  148.09,6,   35.63,6,       0,6,    2.45,6,-999.000,9,-999.000,9,-999.000,9,  2327.4,2,  2421.6,6,   7.5743,6,    25.05,-999.000,9,-999.0000,9, -999.00,9,  -999.0,9,  -999.0,-999.0000,9,-999.0000,    36.3,2,     -999.0,9,-999.000,9, 20150601,     0848,-999.000,   1.4857,2,    34.8508,2,     -999.0,9,     -999.0,-999.0000,     -999.0,     -999.0,9,     -999.0,     -999.0,9,     -999.0,  -999.0,9,     -999.0,     -999.0,9,     -999.0
33RO20150525,     P16N.2,     129,          1,          2,          2,2,20150601,       0828,       30.5,       -152,       5388,    4971,   1.5321,  34.6904,2,  34.6896,2,    154.3,2,   153.8,2,  144.57,6,   35.44,6,       0,6,    2.44,6,-999.000,9,-999.000,9,-999.000,9,  2322.5,2,    2420,2,   7.5795,2,    25.07,-999.000,9,-999.0000,9, -999.00,9,  -999.0,9,  -999.0,-999.0000,9,-999.0000,    36.4,2,     -999.0,9,-999.000,9, 20150601,     0839,-999.000,   1.5321,2,    34.8532,2,     -999.0,9,     -999.0,-999.0000,     -999.0,     -999.0,9,     -999.0,     -999.0,9,     -999.0,  -999.0,9,     -999.0,     -999.0,9,     -999.0
33RO20150525,     P16N.2,     129,          1,          1,          1,2,20150601,       0828,       30.5,       -152,       5388,  5473.4,   1.5815,  34.6917,2,  34.6912,2,    158.6,2,   157.2,2,  141.94,6,   35.24,6,    0.01,6,    2.42,6,-999.000,9,-999.000,9,-999.000,9,  2317.6,6,  2417.6,2,   7.5815,2,    25.06,-999.000,9,-999.0000,9, -999.00,9,  -999.0,9,  -999.0,-999.0000,9,-999.0000,    38.0,2,     -999.0,9,-999.000,9, 20150601,     0829,-999.000,   1.5819,2,    34.8548,2,     -999.0,9,     -999.0,-999.0000,     -999.0,     -999.0,9,     -999.0,     -999.0,9,     -999.0,  -999.0,9,     -999.0,     -999.0,9,     -999.0