BOTTLE,20220330CCHSIOCBG
EXPOCODE,SECT_ID,STNNBR,CASTNO,SAMPNO,BTLNBR,BTLNBR_FLAG_W,DATE,TIME,LATITUDE,LONGITUDE,DEPTH,CTDPRS,CTDTMP,CTDSAL,CTDSAL_FLAG_W,SALNTY,SALNTY_FLAG_W,CTDOXY,CTDOXY_FLAG_W,OXYGEN,OXYGEN_FLAG_W,SILCAT,SILCAT_FLAG_W,NITRAT,NITRAT_FLAG_W,NITRIT,NITRIT_FLAG_W,PHSPHT,PHSPHT_FLAG_W,CFC-11,CFC-11_FLAG_W,CFC-12,CFC-12_FLAG_W,SF6,SF6_FLAG_W,TCARBN,TCARBN_FLAG_W,ALKALI,ALKALI_FLAG_W,PH_TOT,PH_TOT_FLAG_W,PH_TMP,TRITUM,TRITUM_FLAG_W,HELIUM,HELIUM_FLAG_W,DELC13,DELC13_FLAG_W,DELC14,DELC14_FLAG_W,C14ERR,NEON,NEON_FLAG_W,NEONER,DOC,DOC_FLAG_W,N2O,N2O_FLAG_W,ARGON,ARGON_FLAG_W,BTL_DATE,BTL_TIME,TRITER,SBE35,SBE35_FLAG_W,SALTREF,SALTREF_FLAG_W,DELHE3,DELHE3_FLAG_W,DELHER,HELIER,ARGONER,KRYPTON,KRYPTON_FLAG_W,KRYPTONER,XENON,XENON_FLAG_W,XENONER,14C-DOC,14C-DOC_FLAG_W,14C-DOCERR,13C-DOC,13C-DOC_FLAG_W,13C-DOCERR
,,,,,,,,,,,METERS,DBAR,ITS-90,PSS-78,,PSS-78,,UMOL/KG,,UMOL/KG,,UMOL/KG,,UMOL/KG,,UMOL/KG,,UMOL/KG,,PMOL/KG,,PMOL/KG,,FMOL/KG,,UMOL/KG,,UMOL/KG,,,,DEG C,TU,,NMOL/KG,,/MILLE,,/MILLE,,/MILLE,NMOL/KG,,NMOL/KG,UMOL/KG,,NMOL/KG,,UMOL/KG,,,,TU,ITS-90,,G/KG,,PERCNT,,PERCNT,NMOL/KG,UMOL/KG,NMOL/KG,,NMOL/KG,NMOL/KG,,NMOL/KG,/MILLE,,/MILLE,/MILLE,,/MILLE
33RO20150525,     P16N.2,     114,          1,         24,         24,2,20150527,       1757,    22.9988,  -151.9982,       5445,       3,  24.6213,       35,2,  35.0015,2,    207.1,2,   208.4,2,    1.17,2,     0.1,2,    0.01,2,    0.11,2,   1.741,6,   1.087,6,   1.446,6,  1996.4,6,  2306.4,2,   8.0585,6,    25.04,-999.000,9,-999.0000,9, -999.00,9,  -999.0,9,  -999.0,-999.0000,9,-999.0000,  -999.0,9,      6.658,3,-999.000,9, 20150527,     2004,-999.000,   24.625,2,    35.1666,2,     -999.0,9,     -999.0,-999.0000,     -999.0,     -999.0,9,     -999.0,     -999.0,9,     -999.0,  -999.0,9,     -999.0,     -999.0,9,     -999.0
33RO20150525,     P16N.2,     114,          1,         23,         23,2,20150527,       1757,    22.9988,  -151.9982,       5445,    33.8,  23.9165,  35.2834,2,  35.2826,2,    210.7,2,   210.5,2,    1.17,2,     0.1,2,       0,2,     0.1,2,     1.8,2,   1.114,2,   1.477,2,  2014.8,2,  2324.4,2,   8.0509,2,    25.04,-999.000,9,-999.0000,9, -999.00,9,  -999.0,9,  -999.0,-999.0000,9,-999.0000,  -999.0,9,      6.802,3,-999.000,9, 20150527,     1959,-999.000,  23.9148,2,    35.4489,2,     -999.0,9,     -999.0,-999.0000,     -999.0,     -999.0,9,     -999.0,     -999.0,9,     -999.0,  -999.0,9,     -999.0,     -999.0,9,     -999.0
33RO20150525,     P16N.2,     114,          1,         22,         22,2,20150527,       1757,    22.9988,  -151.9982,       5445,    58.4,  23.5686,  35.3194,2,  35.3182,2,    212.2,2,     213,2,    1.17,2,     0.1,2,       0,2,    0.09,2,   1.833,2,   1.126,2,   1.486,2,  2018.4,2,  2326.1,2,   8.0491,6,    25.05,-999.000,9,-999.0000,9, -999.00,9,  -999.0,9,  -999.0,-999.0000,9,-999.0000,  -999.0,9,      6.837,3,-999.000,9, 20150527,     1957,-999.000,  23.5718,2,    35.4848,2,     -999.0,9,     -999.0,-999.0000,     -999.0,     -999.0,9,     -999.0,     -999.0,9,     -999.0,  -999.0,9,     -999.0,     -999.0,9,     -999.0
33RO20150525,     P16N.2,     114,          1,         21,         21,3,20150527,       1757,    22.9988,  -151.9982,       5445,      84,  22.6218,  35.2718,2,  35.2702,2,    207.5,2,   208.3,2,    1.37,2,     0.1,2,    0.01,2,    0.12,2,   1.913,2,   1.178,2,   1.477,2,  2031.7,2,  2324.9,6,   8.0221,2,    25.06,-999.000,9,-999.0000,9, -999.00,9,  -999.0,9,  -999.0,-999.0000,9,-999.0000,  -999.0,9,      7.572,3,-999.000,9, 20150527,     1955,-999.000,  22.6258,2,    35.4365,2,     -999.0,9,     -999.0,-999.0000,     -999.0,     -999.0,9,     -999.0,     -999.0,9,     -999.0,  -999.0,9,     -999.0,     -999.0,9,     -999.0
33RO20150525,     P16N.2,     114,          1,         20,         20,2,20150527,       1757,    22.9988,  -151.9982,       5445,   117.6,  21.1032,  35.1198,2,  35.1201,2,    205.1,2,   203.7,2,    1.76,2,     0.2,2,    0.14,2,    0.17,2,   2.055,2,    1.25,2,   1.485,2,  2048.8,2,  2317.4,2,   7.9807,6,    25.04,-999.000,9,-999.0000,9, -999.00,9,  -999.0,9,  -999.0,-999.0000,9,-999.0000,  -999.0,9,      8.509,3,-999.000,9, 20150527,     1952,-999.000,  21.1042,2,    35.2857,2,     -999.0,9,     -999.0,-999.0000,     -999.0,     -999.0,9,     -999.0,     -999.0,9,     -999.0,  -999.0,9,     -999.0,     -999.0,9,     -999.0
33RO20150525,     P16N.2,     114,          1,         19,         19,2,20150527,       1757,    22.9988,  -151.9982,       5445,   174.6,  19.3249,  35.0216,2,  35.0177,2,    194.2,2,     195,2,    2.54,2,    2.15,2,    0.07,2,    0.25,2,   2.234,2,    1.34,2,   1.566,2,  2060.3,2,  2304.2,2,   7.9402,2,    25.05,-999.000,9,-999.0000,9, -999.00,9,  -999.0,9,  -999.0,-999.0000,9,-999.0000,  -999.0,9,      9.356,3,-999.000,9, 20150527,     1950,-999.000,  19.3132,2,    35.1828,6,     -999.0,9,     -999.0,-999.0000,     -999.0,     -999.0,9,     -999.0,     -999.0,9,     -999.0,  -999.0,9,     -999.0,     -999.0,9,     -999.0
33RO20150525,     P16N.2,     114,          1,         18,         18,2,20150527,       1757,    22.9988,  -151.9982,       5445,   251.2,   13.982,  34.2991,2,  34.3037,2,    201.6,2,   200.6,2,    6.84,2,    7.32,2,    0.01,2,    0.59,2,   2.849,2,   1.654,2,    1.62,2,  2069.8,2,  2258.8,2,   7.8384,2,    25.03,-999.000,9,-999.0000,9, -999.00,9,  -999.0,9,  -999.0,-999.0000,9,-999.0000,  -999.0,9,     12.700,3,-999.000,9, 20150527,     1948,-999.000,  13.9833,2,    34.4654,2,     -999.0,9,     -999.0,-999.0000,     -999.0,     -999.0,9,     -999.0,     -999.0,9,     -999.0,  -999.0,9,     -999.0,     -999.0,9,     -999.0
33RO20150525,     P16N.2,     114,          1,         17,         17,2,20150527,       1757,    22.9988,  -151.9982,       5445,   333.5,  10.8242,  34.1416,2,  34.1422,2,    203.2,2,   202.2,2,   14.94,2,   14.16,2,    0.01,2,    1.03,2,   3.279,2,    1.83,2,   1.516,2,  2105.5,2,  2258.2,2,   7.7529,2,    25.06,-999.000,9,-999.0000,9, -999.00,9,  -999.0,9,  -999.0,-999.0000,9,-999.0000,  -999.0,9,     17.389,3,-999.000,9, 20150527,     1945,-999.000,  10.7871,2,    34.3032,6,     -999.0,9,     -999.0,-999.0000,     -999.0,     -999.0,9,     -999.0,     -999.0,9,     -999.0,  -999.0,9,     -999.0,     -999.0,9,     -999.0
33RO20150525,     P16N.2,     114,          1,         16,         16,2,20150527,       1757,    22.9988,  -151.9982,       5445,   433.7,   8.0072,   34.022,2,  34.0223,2,    149.2,2,   145.4,2,   35.16,2,   25.39,2,    0.01,2,    1.81,2,    3.05,2,   1.599,2,   0.975,2,  2180.5,2,  2267.8,2,   7.5724,2,    25.04,-999.000,9,-999.0000,9, -999.00,9,  -999.0,9,  -999.0,-999.0000,9,-999.0000,  -999.0,9,     25.904,3,-999.000,9, 20150527,     1942,-999.000,   8.0179,2,    34.1828,2,     -999.0,9,     -999.0,-999.0000,     -999.0,     -999.0,9,     -999.0,     -999.0,9,     -999.0,  -999.0,9,     -999.0,     -999.0,9,     -999.0
33RO20150525,     P16N.2,     114,          1,         15,         15,2,20150527,       1757,    22.9988,  -151.9982,       5445,   549.7,    6.019,  34.0742,2,  34.0749,2,     65.2,2,    63.1,2,   64.46,2,   36.53,2,    0.01,2,    2.63,2,   1.469,6,   0.712,6,   0.254,6,    2271,2,  2293.5,2,   7.3723,2,    25.06,-999.000,9,-999.0000,9, -999.00,9,  -999.0,9,  -999.0,-999.0000,9,-999.0000,  -999.0,9,     37.199,3,-999.000,9, 20150527,     1938,-999.000,   6.0158,2,    34.2355,2,     -999.0,9,     -999.0,-999.0000,     -999.0,     -999.0,9,     -999.0,     -999.0,9,     -999.0,  -999.0,9,     -999.0,     -999.0,9,     -999.0
33RO20150525,     P16N.2,     114,          1,         14,         14,2,20150527,       1757,    22.9988,  -151.9982,       5445,   701.3,   4.6885,  34.2685,2,  34.2696,2,     25.8,2,    24.9,2,   94.04,2,   41.99,2,       0,2,    3.03,2,    0.17,2,   0.091,2,   0.051,2,  2328.3,6,  2333.1,2,   7.3162,2,    25.07,-999.000,9,-999.0000,9, -999.00,9,  -999.0,9,  -999.0,-999.0000,9,-999.0000,  -999.0,9,     46.266,3,-999.000,9, 20150527,     1935,-999.000,     4.69,2,    34.4312,2,     -999.0,9,     -999.0,-999.0000,     -999.0,     -999.0,9,     -999.0,     -999.0,9,     -999.0,  -999.0,9,     -999.0,     -999.0,9,     -999.0
33RO20150525,     P16N.2,     114,          1,         13,         13,2,20150527,       1757,    22.9988,  -151.9982,       5445,   851.4,    4.238,   34.407,2,  34.4047,2,     36.5,2,      36,2,   103.5,2,   41.98,2,       0,2,    3.01,2,   0.073,2,   0.038,2,   0.044,3,  2336.2,2,  2353.8,2,   7.3559,2,    25.04,-999.000,9,-999.0000,9, -999.00,9,  -999.0,9,  -999.0,-999.0000,9,-999.0000,  -999.0,9,     43.658,3,-999.000,9, 20150527,     1931,-999.000,   4.2483,2,     34.567,2,     -999.0,9,     -999.0,-999.0000,     -999.0,     -999.0,9,     -999.0,     -999.0,9,     -999.0,  -999.0,9,     -999.0,     -999.0,9,     -999.0
33RO20150525,     P16N.2,     114,          1,         12,         12,2,20150527,       1757,    22.9988,  -151.9982,       5445,  1001.6,   3.8596,  34.4915,2,  34.4898,2,     47.9,2,    46.4,2,  110.81,2,   41.88,2,       0,2,    2.99,2,   0.022,2,   0.012,2,   0.085,3,  2340.3,2,  2371.4,2,    7.386,6,    25.05,-999.000,9,-999.0000,9, -999.00,9,  -999.0,9,  -999.0,-999.0000,9,-999.0000,  -999.0,9,     40.139,3,-999.000,9, 20150527,     1927,-999.000,   3.8609,2,    34.6524,2,     -999.0,9,     -999.0,-999.0000,     -999.0,     -999.0,9,     -999.0,     -999.0,9,     -999.0,  -999.0,9,     -999.0,     -999.0,9,     -999.0
33RO20150525,     P16N.2,     114,          1,         11,         11,2,20150527,       1757,    22.9988,  -151.9982,       5445,  1168.6,   3.4491,  34.5254,2,  34.5257,2,     55.6,2,    55.6,2,  119.21,2,   41.69,2,       0,2,    2.96,2,    0.01,2,   0.004,2,   0.069,3,  2345.5,2,  2383.3,2,   7.4029,2,    25.05,-999.000,9,-999.0000,9, -999.00,9,  -999.0,9,  -999.0,-999.0000,9,-999.0000,  -999.0,9,     37.692,3,-999.000,9, 20150527,     1923,-999.000,   3.4497,2,    34.6885,2,     -999.0,9,     -999.0,-999.0000,     -999.0,     -999.0,9,     -999.0,     -999.0,9,     -999.0,  -999.0,9,     -999.0,     -999.0,9,     -999.0
33RO20150525,     P16N.2,     114,          1,         10,         10,2,20150527,       1757,    22.9988,  -151.9982,       5445,  1401.3,   2.9645,  34.5584,2,  34.5572,2,     64.8,2,    64.9,2,  129.55,2,   41.39,2,       0,2,    2.93,2,   0.003,2,   0.002,2,   0.036,3,  2353.3,2,  2392.5,2,   7.4188,2,    25.07,-999.000,9,-999.0000,9, -999.00,9,  -999.0,9,  -999.0,-999.0000,9,-999.0000,  -999.0,9,     35.055,3,-999.000,9, 20150527,     1917,-999.000,   2.9648,2,    34.7202,2,     -999.0,9,     -999.0,-999.0000,     -999.0,     -999.0,9,     -999.0,     -999.0,9,     -999.0,  -999.0,9,     -999.0,     -999.0,9,     -999.0
33RO20150525,     P16N.2,     114,          1,          9,          9,2,20150527,       1757,    22.9988,  -151.9982,       5445,  1732.8,   2.3936,  34.6008,2,  34.6009,2,     77.8,2,    77.7,2,  142.63,2,   40.71,2,       0,2,    2.86,2,   0.003,2,   0.001,2,       0,2,  2358.7,2,    2409,2,   7.4447,6,    25.06,-999.000,9,-999.0000,9, -999.00,9,  -999.0,9,  -999.0,-999.0000,9,-999.0000,  -999.0,9,     31.181,3,-999.000,9, 20150527,     1911,-999.000,   2.3958,2,    34.7641,2,     -999.0,9,     -999.0,-999.0000,     -999.0,     -999.0,9,     -999.0,     -999.0,9,     -999.0,  -999.0,9,     -999.0,     -999.0,9,     -999.0
33RO20150525,     P16N.2,     114,          1,          8,          8,2,20150527,       1757,    22.9988,  -151.9982,       5445,  2134.8,   1.9186,  34.6314,2,   34.631,2,     91.5,2,    93.4,2,  154.44,2,   39.83,2,       0,2,    2.77,2,  -0.001,2,  -0.002,2,       0,2,    2362,2,    2419,2,   7.4719,2,    25.06,-999.000,9,-999.0000,9, -999.00,9,  -999.0,9,  -999.0,-999.0000,9,-999.0000,  -999.0,9,     27.756,3,-999.000,9, 20150527,     1903,-999.000,   1.9193,2,    34.7943,2,     -999.0,9,     -999.0,-999.0000,     -999.0,     -999.0,9,     -999.0,     -999.0,9,     -999.0,  -999.0,9,     -999.0,     -999.0,9,     -999.0
33RO20150525,     P16N.2,     114,          1,          7,          7,2,20150527,       1757,    22.9988,  -151.9982,       5445,  2533.3,   1.6867,  34.6532,2,   34.654,2,    109.5,2,   109.9,2,  156.58,2,   38.76,2,       0,2,    2.69,2,   0.003,2,   0.001,2,       0,2,  2355.5,2,    2423,2,   7.5033,2,    25.04,-999.000,9,-999.0000,9, -999.00,9,  -999.0,9,  -999.0,-999.0000,9,-999.0000,  -999.0,9,     24.870,3,-999.000,9, 20150527,     1855,-999.000,   1.6868,2,    34.8174,2,     -999.0,9,     -999.0,-999.0000,     -999.0,     -999.0,9,     -999.0,     -999.0,9,     -999.0,  -999.0,9,     -999.0,     -999.0,9,     -999.0
33RO20150525,     P16N.2,     114,          1,          6,          6,2,20150527,       1757,    22.9988,  -151.9982,       5445,  2967.8,   1.5534,  34.6685,2,  34.6691,2,    121.8,2,   122.7,2,  157.75,2,   37.88,2,       0,2,    2.61,2,       0,2,  -0.001,2,       0,2,    2350,2,  2427.4,2,   7.5277,2,    25.05,-999.000,9,-999.0000,9, -999.00,9,  -999.0,9,  -999.0,-999.0000,9,-999.0000,  -999.0,9,     23.193,3,-999.000,9, 20150527,     1846,-999.000,   1.5535,2,    34.8326,2,     -999.0,9,     -999.0,-999.0000,     -999.0,     -999.0,9,     -999.0,     -999.0,9,     -999.0,  -999.0,9,     -999.0,     -999.0,9,     -999.0
33RO20150525,     P16N.2,     114,          1,          5,          5,2,20150527,       1757,    22.9988,  -151.9982,       5445,    3466,   1.4876,  34.6788,2,  34.6792,2,    134.6,2,   134.7,2,  155.22,2,   37.19,2,       0,2,    2.55,2,   0.001,2,   0.001,2,       0,2,  2340.2,2,  2426.6,2,   7.5503,2,    25.06,-999.000,9,-999.0000,9, -999.00,9,  -999.0,9,  -999.0,-999.0000,9,-999.0000,  -999.0,9,     21.680,3,-999.000,9, 20150527,     1837,-999.000,   1.4877,2,    34.8427,2,     -999.0,9,     -999.0,-999.0000,     -999.0,     -999.0,9,     -999.0,     -999.0,9,     -999.0,  -999.0,9,     -999.0,     -999.0,9,     -999.0
33RO20150525,     P16N.2,     114,          1,          4,          4,2,20150527,       1757,    22.9988,  -151.9982,       5445,  3965.7,   1.4634,   34.685,2,  34.6839,2,    145.6,2,   145.4,2,  150.04,6,   36.41,6,       0,6,    2.48,6,   0.002,2,   0.003,2,       0,2,    2331,2,  2422.8,2,   7.5677,2,    25.01,-999.000,9,-999.0000,9, -999.00,9,  -999.0,9,  -999.0,-999.0000,9,-999.0000,  -999.0,9,     20.833,3,-999.000,9, 20150527,     1827,-999.000,   1.4634,2,    34.8474,2,     -999.0,9,     -999.0,-999.0000,     -999.0,     -999.0,9,     -999.0,     -999.0,9,     -999.0,  -999.0,9,     -999.0,     -999.0,9,     -999.0
33RO20150525,     P16N.2,     114,          1,          3,          3,2,20150527,       1757,    22.9988,  -151.9982,       5445,  4462.3,   1.4612,  34.6898,2,  34.6914,2,    154.4,2,   153.9,2,  144.18,6,   35.73,6,       0,6,    2.43,6,   0.001,2,   0.002,2,       0,2,  2321.4,2,  2418.2,6,    7.579,2,    25.05,-999.000,9,-999.0000,9, -999.00,9,  -999.0,9,  -999.0,-999.0000,9,-999.0000,  -999.0,9,     20.596,3,-999.000,9, 20150527,     1817,-999.000,   1.4614,2,    34.8549,2,     -999.0,9,     -999.0,-999.0000,     -999.0,     -999.0,9,     -999.0,     -999.0,9,     -999.0,  -999.0,9,     -999.0,     -999.0,9,     -999.0
33RO20150525,     P16N.2,     114,          1,          2,          2,2,20150527,       1757,    22.9988,  -151.9982,       5445,    4995,   1.4742,  34.6938,2,   34.691,2,    163.3,2,   162.2,2,  138.03,6,   35.14,6,       0,6,     2.4,6,   0.002,2,   0.002,2,   0.038,4,  2314.2,2,  2413.2,2,   7.5888,3,    24.98,-999.000,9,-999.0000,9, -999.00,9,  -999.0,9,  -999.0,-999.0000,9,-999.0000,  -999.0,9,     20.075,3,-999.000,9, 20150527,     1807,-999.000,   1.4744,2,    34.8546,2,     -999.0,9,     -999.0,-999.0000,     -999.0,     -999.0,9,     -999.0,     -999.0,9,     -999.0,  -999.0,9,     -999.0,     -999.0,9,     -999.0
33RO20150525,     P16N.2,     114,          1,          1,          1,2,20150527,       1757,    22.9988,  -151.9982,       5445,  5539.4,   1.5363,  34.6948,2,  34.6944,2,    164.9,2,   164.5,2,  137.06,6,   35.05,6,       0,6,    2.39,6,   0.002,6,   0.003,6,       0,6,  2311.7,6,    2409,2,   7.5886,2,    25.08,-999.000,9,-999.0000,9, -999.00,9,  -999.0,9,  -999.0,-999.0000,9,-999.0000,  -999.0,9,     20.003,3,-999.000,9, 20150527,     1756,-999.000,   1.5366,2,     34.858,2,     -999.0,9,     -999.0,-999.0000,     -999.0,     -999.0,9,     -999.0,     -999.0,9,     -999.0,  -999.0,9,     -999.0,     -999.0,9,     -999.0