BOTTLE,20220330CCHSIOCBG
EXPOCODE,SECT_ID,STNNBR,CASTNO,SAMPNO,BTLNBR,BTLNBR_FLAG_W,DATE,TIME,LATITUDE,LONGITUDE,DEPTH,CTDPRS,CTDTMP,CTDSAL,CTDSAL_FLAG_W,SALNTY,SALNTY_FLAG_W,CTDOXY,CTDOXY_FLAG_W,OXYGEN,OXYGEN_FLAG_W,SILCAT,SILCAT_FLAG_W,NITRAT,NITRAT_FLAG_W,NITRIT,NITRIT_FLAG_W,PHSPHT,PHSPHT_FLAG_W,CFC-11,CFC-11_FLAG_W,CFC-12,CFC-12_FLAG_W,SF6,SF6_FLAG_W,TCARBN,TCARBN_FLAG_W,ALKALI,ALKALI_FLAG_W,PH_TOT,PH_TOT_FLAG_W,PH_TMP,TRITUM,TRITUM_FLAG_W,HELIUM,HELIUM_FLAG_W,DELC13,DELC13_FLAG_W,DELC14,DELC14_FLAG_W,C14ERR,NEON,NEON_FLAG_W,NEONER,DOC,DOC_FLAG_W,N2O,N2O_FLAG_W,ARGON,ARGON_FLAG_W,BTL_DATE,BTL_TIME,TRITER,SBE35,SBE35_FLAG_W,SALTREF,SALTREF_FLAG_W,DELHE3,DELHE3_FLAG_W,DELHER,HELIER,ARGONER,KRYPTON,KRYPTON_FLAG_W,KRYPTONER,XENON,XENON_FLAG_W,XENONER,14C-DOC,14C-DOC_FLAG_W,14C-DOCERR,13C-DOC,13C-DOC_FLAG_W,13C-DOCERR
,,,,,,,,,,,METERS,DBAR,ITS-90,PSS-78,,PSS-78,,UMOL/KG,,UMOL/KG,,UMOL/KG,,UMOL/KG,,UMOL/KG,,UMOL/KG,,PMOL/KG,,PMOL/KG,,FMOL/KG,,UMOL/KG,,UMOL/KG,,,,DEG C,TU,,NMOL/KG,,/MILLE,,/MILLE,,/MILLE,NMOL/KG,,NMOL/KG,UMOL/KG,,NMOL/KG,,UMOL/KG,,,,TU,ITS-90,,G/KG,,PERCNT,,PERCNT,NMOL/KG,UMOL/KG,NMOL/KG,,NMOL/KG,NMOL/KG,,NMOL/KG,/MILLE,,/MILLE,/MILLE,,/MILLE
33RO20150525,     P16N.2,     164,          2,         24,         24,2,20150612,       1136,    47.9997,  -152.0003,       4894,       3,   9.5791,  32.7673,2,  32.7675,2,    288.1,2,   291.1,2,   18.21,2,   12.04,2,    0.12,2,    1.17,2,   3.829,6,   2.233,6,   2.584,6,  2048.6,6,  2203.6,2,   7.7844,2,    25.02,   0.481,2,   1.8012,6, -999.00,9,  -999.0,9,  -999.0,   7.6740,6,   0.0140,  -999.0,9,     11.649,3,-999.000,9, 20150612,     1328,   0.003,   9.5774,2,     32.922,2,      -1.27,6,       0.14,   0.0035,     -999.0,     -999.0,9,     -999.0,     -999.0,9,     -999.0,  -999.0,9,     -999.0,     -999.0,9,     -999.0
33RO20150525,     P16N.2,     164,          2,         23,         23,2,20150612,       1136,    47.9997,  -152.0003,       4894,    25.6,   8.7485,  32.7683,2,  32.7843,2,    291.2,2,     301,2,    18.4,2,   12.14,2,     0.1,2,    1.17,2,   4.114,2,   2.283,2,   2.672,2,  2051.1,2,  2205.3,2,   7.7802,3,    25.01,-999.000,9,-999.0000,9, -999.00,9,  -999.0,9,  -999.0,-999.0000,9,-999.0000,  -999.0,9,     11.872,3,-999.000,9, 20150612,     1326,-999.000,   9.1442,4,    32.9389,2,     -999.0,9,     -999.0,-999.0000,     -999.0,     -999.0,9,     -999.0,     -999.0,9,     -999.0,  -999.0,9,     -999.0,     -999.0,9,     -999.0
33RO20150525,     P16N.2,     164,          2,         22,         22,2,20150612,       1136,    47.9997,  -152.0003,       4894,    49.8,   6.9046,  32.8283,2,  32.8328,2,    305.3,2,   307.9,2,   18.11,2,   12.53,2,     0.1,2,    1.19,2,   4.308,2,   2.385,2,   2.704,2,  2056.5,2,  2207.7,2,   7.7714,6,    25.03,   0.489,2,-999.0000,9, -999.00,9,  -999.0,9,  -999.0,-999.0000,9,-999.0000,  -999.0,9,     12.278,3,-999.000,9, 20150612,     1325,   0.004,   6.9032,2,    32.9876,2,     -999.0,9,     -999.0,-999.0000,     -999.0,     -999.0,9,     -999.0,     -999.0,9,     -999.0,  -999.0,9,     -999.0,     -999.0,9,     -999.0
33RO20150525,     P16N.2,     164,          2,         21,         21,2,20150612,       1136,    47.9997,  -152.0003,       4894,    73.2,   6.6447,  32.8441,2,   32.849,2,    296.3,2,   301.2,2,   18.01,2,   12.92,2,    0.12,2,    1.24,2,   4.314,2,   2.387,2,   2.698,2,  2063.3,2,  2208.1,6,   7.7575,2,    25.04,   0.476,2,   1.8105,2, -999.00,9,  -999.0,9,  -999.0,   7.8211,2,   0.0196,  -999.0,9,     12.333,3,-999.000,9, 20150612,     1323,   0.003,   6.6409,2,    33.0039,2,      -1.75,2,       0.20,   0.0047,     -999.0,     -999.0,9,     -999.0,     -999.0,9,     -999.0,  -999.0,9,     -999.0,     -999.0,9,     -999.0
33RO20150525,     P16N.2,     164,          2,         20,         20,2,20150612,       1136,    47.9997,  -152.0003,       4894,    98.9,   6.4176,  32.8956,2,  32.9026,2,    291.9,2,   293.5,2,   18.69,2,    13.7,2,    0.16,2,    1.29,2,   4.308,2,   2.392,2,   2.709,2,  2072.6,2,  2210.3,2,   7.7434,2,    24.93,   0.469,2,   1.8137,2, -999.00,9,  -999.0,9,  -999.0,   7.8233,2,   0.0196,  -999.0,9,     12.642,3,-999.000,9, 20150612,     1321,   0.003,   6.4151,2,    33.0577,2,      -1.31,2,       0.20,   0.0047,     -999.0,     -999.0,9,     -999.0,     -999.0,9,     -999.0,  -999.0,9,     -999.0,     -999.0,9,     -999.0
33RO20150525,     P16N.2,     164,          2,         19,         19,2,20150612,       1136,    47.9997,  -152.0003,       4894,     151,    5.891,  33.7989,2,  33.7988,2,    183.3,2,   183.1,2,    44.3,2,   26.31,2,    0.01,2,    1.89,2,   3.552,2,   1.936,2,   1.675,2,  2187.4,2,  2266.7,2,   7.5579,2,    24.99,   0.386,2,   1.8322,2, -999.00,9,  -999.0,9,  -999.0,   7.8816,2,   0.0197,  -999.0,9,     22.964,3,-999.000,9, 20150612,     1319,   0.004,   5.9046,2,    33.9582,6,       4.41,2,       0.20,   0.0048,     -999.0,     -999.0,9,     -999.0,     -999.0,9,     -999.0,  -999.0,9,     -999.0,     -999.0,9,     -999.0
33RO20150525,     P16N.2,     164,          2,         18,         18,2,20150612,       1136,    47.9997,  -152.0003,       4894,   226.3,   4.8962,   33.847,2,  33.8465,2,      128,2,   129.1,2,   63.77,2,   33.06,2,    0.01,2,    2.34,2,   3.046,2,   1.613,2,   1.157,2,  2242.3,2,  2282.6,2,   7.4375,2,    24.99,   0.342,2,   1.8554,2, -999.00,9,  -999.0,9,  -999.0,   7.9884,2,   0.0200,  -999.0,9,     29.704,3,-999.000,9, 20150612,     1316,   0.003,   4.8977,2,    34.0061,2,       8.35,2,       0.20,   0.0048,     -999.0,     -999.0,9,     -999.0,     -999.0,9,     -999.0,  -999.0,9,     -999.0,     -999.0,9,     -999.0
33RO20150525,     P16N.2,     164,          2,         17,         17,2,20150612,       1136,    47.9997,  -152.0003,       4894,   300.5,   4.4115,  33.9035,2,  33.9029,2,     93.5,2,    95.5,2,   76.38,2,   37.06,2,    0.01,2,    2.59,2,   2.566,2,   1.334,2,   0.875,2,  2274.6,2,    2293,2,   7.3659,2,    25.04,   0.319,2,   1.8480,2, -999.00,9,  -999.0,9,  -999.0,   7.9622,2,   0.0199,  -999.0,9,     33.675,3,-999.000,9, 20150612,     1314,   0.003,   4.4127,2,    34.0627,2,      10.67,2,       0.20,   0.0048,     -999.0,     -999.0,9,     -999.0,     -999.0,9,     -999.0,  -999.0,9,     -999.0,     -999.0,9,     -999.0
33RO20150525,     P16N.2,     164,          2,         16,         16,2,20150612,       1136,    47.9997,  -152.0003,       4894,   400.1,   4.1345,  34.0022,2,  34.0026,2,     65.4,2,    66.3,2,   89.67,2,    39.6,2,    0.01,2,    2.78,2,   1.908,2,   0.969,2,   0.535,2,  2303.4,2,  2307.7,2,   7.3253,2,    25.01,   0.262,2,   1.8550,2, -999.00,9,  -999.0,9,  -999.0,   7.9808,2,   0.0200,  -999.0,9,     37.899,3,-999.000,9, 20150612,     1311,   0.003,   4.1344,2,    34.1629,2,      13.21,2,       0.20,   0.0048,     -999.0,     -999.0,9,     -999.0,     -999.0,9,     -999.0,  -999.0,9,     -999.0,     -999.0,9,     -999.0
33RO20150525,     P16N.2,     164,          2,         15,         15,2,20150612,       1136,    47.9997,  -152.0003,       4894,   500.4,   3.8741,  34.0811,2,   34.077,2,     45.6,2,    44.8,2,  101.69,2,   41.56,2,    0.01,2,    2.92,2,   1.406,2,   0.705,2,   0.438,2,  2325.9,2,  2321.4,2,   7.2933,6,    25.04,-999.000,9,-999.0000,9, -999.00,9,  -999.0,9,  -999.0,-999.0000,9,-999.0000,  -999.0,9,     41.361,3,-999.000,9, 20150612,     1308,-999.000,   3.8748,2,    34.2377,2,     -999.0,9,     -999.0,-999.0000,     -999.0,     -999.0,9,     -999.0,     -999.0,9,     -999.0,  -999.0,9,     -999.0,     -999.0,9,     -999.0
33RO20150525,     P16N.2,     164,          2,         14,         14,2,20150612,       1136,    47.9997,  -152.0003,       4894,   649.8,   3.6393,  34.2115,2,  34.2125,2,     32.2,2,    30.6,2,  115.67,2,   42.53,2,       0,2,    2.98,2,   0.704,6,   0.345,6,   0.143,6,  2346.2,2,  2342.1,2,   7.2935,2,    25.03,   0.121,2,-999.0000,9, -999.00,9,  -999.0,9,  -999.0,-999.0000,9,-999.0000,  -999.0,9,     44.150,3,-999.000,9, 20150612,     1304,   0.002,   3.6408,2,    34.3738,2,     -999.0,9,     -999.0,-999.0000,     -999.0,     -999.0,9,     -999.0,     -999.0,9,     -999.0,  -999.0,9,     -999.0,     -999.0,9,     -999.0
33RO20150525,     P16N.2,     164,          2,         13,         13,2,20150612,       1136,    47.9997,  -152.0003,       4894,   800.7,   3.3117,  34.2983,2,  34.2978,2,     25.2,2,    23.8,2,  127.78,2,   43.21,2,       0,2,    3.03,2,   0.332,2,    0.16,2,   0.078,2,  2363.5,2,  2357.7,2,    7.295,2,    25.01,   0.071,6,-999.0000,9, -999.00,9,  -999.0,9,  -999.0,-999.0000,9,-999.0000,  -999.0,9,     45.513,3,-999.000,9, 20150612,     1300,   0.001,   3.3141,2,    34.4596,2,     -999.0,9,     -999.0,-999.0000,     -999.0,     -999.0,9,     -999.0,     -999.0,9,     -999.0,  -999.0,9,     -999.0,     -999.0,9,     -999.0
33RO20150525,     P16N.2,     164,          2,         12,         12,2,20150612,       1136,    47.9997,  -152.0003,       4894,   949.2,   3.0173,  34.3522,2,  34.3508,2,     24.3,2,    23.3,2,  137.26,2,   43.31,2,       0,2,    3.04,2,   0.234,2,   0.117,2,   0.075,2,    2372,2,  2369.6,2,   7.2975,2,       25,   0.047,2,-999.0000,9, -999.00,9,  -999.0,9,  -999.0,-999.0000,9,-999.0000,  -999.0,9,     45.488,3,-999.000,9, 20150612,     1256,   0.002,   3.0176,2,    34.5128,2,     -999.0,9,     -999.0,-999.0000,     -999.0,     -999.0,9,     -999.0,     -999.0,9,     -999.0,  -999.0,9,     -999.0,     -999.0,9,     -999.0
33RO20150525,     P16N.2,     164,          2,         11,         11,2,20150612,       1136,    47.9997,  -152.0003,       4894,  1098.1,   2.7836,  34.4063,2,  34.4095,2,       25,2,    24.1,2,  144.78,2,    43.6,2,    0.01,2,    3.03,2,    0.13,2,   0.064,2,       0,2,    2379,6,  2380.5,2,   7.3055,6,    25.04,   0.035,2,   1.8930,2, -999.00,9,  -999.0,9,  -999.0,   8.0746,2,   0.0202,  -999.0,9,     44.861,3,-999.000,9, 20150612,     1253,   0.002,   2.7846,2,    34.5718,2,      17.64,2,       0.20,   0.0049,     -999.0,     -999.0,9,     -999.0,     -999.0,9,     -999.0,  -999.0,9,     -999.0,     -999.0,9,     -999.0
33RO20150525,     P16N.2,     164,          2,         10,         10,2,20150612,       1136,    47.9997,  -152.0003,       4894,  1298.2,   2.5321,  34.4602,2,  34.4616,2,     20.8,2,    20.9,2,  153.77,2,   44.19,2,       0,2,    3.07,2,   0.037,2,    0.02,2,       0,2,    2392,2,  2392.4,2,   7.3047,6,    25.04,   0.011,2,   1.9039,2, -999.00,9,  -999.0,9,  -999.0,   8.0800,2,   0.0202,  -999.0,9,     45.709,3,-999.000,9, 20150612,     1248,   0.001,   2.5322,2,    34.6241,6,      17.91,2,       0.20,   0.0050,     -999.0,     -999.0,9,     -999.0,     -999.0,9,     -999.0,  -999.0,9,     -999.0,     -999.0,9,     -999.0
33RO20150525,     P16N.2,     164,          2,          9,          9,2,20150612,       1136,    47.9997,  -152.0003,       4894,  1599.7,    2.242,  34.5221,2,  34.5215,2,     30.5,2,    29.7,2,  162.07,2,   43.79,2,       0,2,    3.02,2,   0.011,2,   0.003,2,       0,2,  2392.9,2,  2403.4,2,   7.3283,2,    25.06,   0.003,2,   1.9038,2, -999.00,9,  -999.0,9,  -999.0,   8.1005,2,   0.0203,  -999.0,9,     41.976,3,-999.000,9, 20150612,     1242,   0.001,   2.2422,2,    34.6843,2,      18.46,2,       0.20,   0.0049,     -999.0,     -999.0,9,     -999.0,     -999.0,9,     -999.0,  -999.0,9,     -999.0,     -999.0,9,     -999.0
33RO20150525,     P16N.2,     164,          2,          8,          8,2,20150612,       1136,    47.9997,  -152.0003,       4894,  2000.9,   1.9546,  34.5849,2,  34.5843,2,     47.8,2,      48,2,  169.49,2,   42.81,2,       0,2,    2.95,2,       0,2,   0.002,2,       0,2,  2391.4,2,  2414.6,2,    7.371,2,    25.01,  -0.002,2,-999.0000,9, -999.00,9,  -999.0,9,  -999.0,-999.0000,9,-999.0000,  -999.0,9,     36.688,3,-999.000,9, 20150612,     1234,   0.001,   1.9546,2,    34.7474,2,     -999.0,9,     -999.0,-999.0000,     -999.0,     -999.0,9,     -999.0,     -999.0,9,     -999.0,  -999.0,9,     -999.0,     -999.0,9,     -999.0
33RO20150525,     P16N.2,     164,          2,          7,          7,2,20150612,       1136,    47.9997,  -152.0003,       4894,  2399.8,   1.7577,  34.6219,2,  34.6222,2,     73.4,2,    73.3,2,  169.88,2,   41.15,2,    0.01,2,    2.83,2,   0.001,2,   0.002,2,       0,2,  2378.2,2,  2423.8,2,    7.424,2,       25,-999.000,9,-999.0000,9, -999.00,9,  -999.0,9,  -999.0,-999.0000,9,-999.0000,  -999.0,9,     30.487,3,-999.000,9, 20150612,     1226,-999.000,   1.7578,2,    34.7855,2,     -999.0,9,     -999.0,-999.0000,     -999.0,     -999.0,9,     -999.0,     -999.0,9,     -999.0,  -999.0,9,     -999.0,     -999.0,9,     -999.0
33RO20150525,     P16N.2,     164,          2,          6,          6,2,20150612,       1136,    47.9997,  -152.0003,       4894,    2800,   1.6239,  34.6467,2,  34.6468,2,     96.8,2,    97.1,2,  167.82,2,   39.59,2,       0,2,    2.72,2,   0.001,2,   0.001,2,       0,2,  2364.5,2,  2421.2,2,   7.4702,2,    25.04,-999.000,9,-999.0000,9, -999.00,9,  -999.0,9,  -999.0,-999.0000,9,-999.0000,  -999.0,9,     26.421,3,-999.000,9, 20150612,     1218,-999.000,   1.6239,2,    34.8101,2,     -999.0,9,     -999.0,-999.0000,     -999.0,     -999.0,9,     -999.0,     -999.0,9,     -999.0,  -999.0,9,     -999.0,     -999.0,9,     -999.0
33RO20150525,     P16N.2,     164,          2,          5,          5,2,20150612,       1136,    47.9997,  -152.0003,       4894,  3193.7,   1.5415,  34.6632,2,  34.6621,2,    115.7,2,   115.4,2,   164.6,2,   38.41,2,       0,2,    2.63,2,       0,2,   0.001,2,       0,2,  2351.3,2,  2422.4,2,   7.5071,2,    25.01,-999.000,9,-999.0000,9, -999.00,9,  -999.0,9,  -999.0,-999.0000,9,-999.0000,  -999.0,9,     24.036,3,-999.000,9, 20150612,     1210,-999.000,   1.5412,2,    34.8256,2,     -999.0,9,     -999.0,-999.0000,     -999.0,     -999.0,9,     -999.0,     -999.0,9,     -999.0,  -999.0,9,     -999.0,     -999.0,9,     -999.0
33RO20150525,     P16N.2,     164,          2,          4,          4,2,20150612,       1136,    47.9997,  -152.0003,       4894,  3600.9,   1.4971,  34.6743,2,  34.6743,2,    129.3,2,     132,2,  161.47,6,   37.34,6,    0.01,6,    2.55,6,   0.001,6,   0.001,6,       0,6,  2342.6,2,  2422.6,6,    7.535,2,    25.06,-999.000,9,-999.0000,9, -999.00,9,  -999.0,9,  -999.0,-999.0000,9,-999.0000,  -999.0,9,     22.507,3,-999.000,9, 20150612,     1202,-999.000,   1.4973,2,    34.8378,2,     -999.0,9,     -999.0,-999.0000,     -999.0,     -999.0,9,     -999.0,     -999.0,9,     -999.0,  -999.0,9,     -999.0,     -999.0,9,     -999.0
33RO20150525,     P16N.2,     164,          2,          3,          3,2,20150612,       1136,    47.9997,  -152.0003,       4894,  4100.3,   1.4896,  34.6828,2,  34.6843,2,      139,2,   139.1,2,  163.52,6,   36.75,6,       0,6,    2.52,6,   0.003,2,       0,2,       0,2,  2337.7,2,  2427.2,2,   7.5574,2,    25.06,-999.000,9,-999.0000,9, -999.00,9,  -999.0,9,  -999.0,-999.0000,9,-999.0000,  -999.0,9,     21.447,3,-999.000,9, 20150612,     1152,-999.000,   1.4895,2,    34.8479,2,     -999.0,9,     -999.0,-999.0000,     -999.0,     -999.0,9,     -999.0,     -999.0,9,     -999.0,  -999.0,9,     -999.0,     -999.0,9,     -999.0
33RO20150525,     P16N.2,     164,          2,          2,          2,2,20150612,       1136,    47.9997,  -152.0003,       4894,  4600.1,   1.5279,  34.6865,2,  34.6846,2,    142.7,2,   142.7,2,  165.77,6,   36.65,6,       0,6,     2.5,6,   0.001,2,   0.001,2,   0.074,4,  2337.1,2,  2429.4,2,    7.565,6,    25.06,-999.000,9,-999.0000,9, -999.00,9,  -999.0,9,  -999.0,-999.0000,9,-999.0000,  -999.0,9,     21.159,3,-999.000,9, 20150612,     1143,-999.000,   1.5277,2,    34.8482,2,     -999.0,9,     -999.0,-999.0000,     -999.0,     -999.0,9,     -999.0,     -999.0,9,     -999.0,  -999.0,9,     -999.0,     -999.0,9,     -999.0
33RO20150525,     P16N.2,     164,          2,          1,          1,2,20150612,       1136,    47.9997,  -152.0003,       4894,  4973.3,   1.5669,  34.6875,2,  34.6858,2,    143.4,2,   142.7,2,  166.25,6,   36.55,6,       0,6,    2.49,6,   0.003,2,   0.002,2,   0.079,4,  2337.7,6,  2430.6,2,   7.5671,2,    25.07,-999.000,9,-999.0000,9, -999.00,9,  -999.0,9,  -999.0,-999.0000,9,-999.0000,  -999.0,9,     21.022,3,-999.000,9, 20150612,     1135,-999.000,   1.5666,2,    34.8493,2,     -999.0,9,     -999.0,-999.0000,     -999.0,     -999.0,9,     -999.0,     -999.0,9,     -999.0,  -999.0,9,     -999.0,     -999.0,9,     -999.0