BOTTLE,20220330CCHSIOCBG
EXPOCODE,SECT_ID,STNNBR,CASTNO,SAMPNO,BTLNBR,BTLNBR_FLAG_W,DATE,TIME,LATITUDE,LONGITUDE,DEPTH,CTDPRS,CTDTMP,CTDSAL,CTDSAL_FLAG_W,SALNTY,SALNTY_FLAG_W,CTDOXY,CTDOXY_FLAG_W,OXYGEN,OXYGEN_FLAG_W,SILCAT,SILCAT_FLAG_W,NITRAT,NITRAT_FLAG_W,NITRIT,NITRIT_FLAG_W,PHSPHT,PHSPHT_FLAG_W,CFC-11,CFC-11_FLAG_W,CFC-12,CFC-12_FLAG_W,SF6,SF6_FLAG_W,TCARBN,TCARBN_FLAG_W,ALKALI,ALKALI_FLAG_W,PH_TOT,PH_TOT_FLAG_W,PH_TMP,TRITUM,TRITUM_FLAG_W,HELIUM,HELIUM_FLAG_W,DELC13,DELC13_FLAG_W,DELC14,DELC14_FLAG_W,C14ERR,NEON,NEON_FLAG_W,NEONER,DOC,DOC_FLAG_W,N2O,N2O_FLAG_W,ARGON,ARGON_FLAG_W,BTL_DATE,BTL_TIME,TRITER,SBE35,SBE35_FLAG_W,SALTREF,SALTREF_FLAG_W,DELHE3,DELHE3_FLAG_W,DELHER,HELIER,ARGONER,KRYPTON,KRYPTON_FLAG_W,KRYPTONER,XENON,XENON_FLAG_W,XENONER,14C-DOC,14C-DOC_FLAG_W,14C-DOCERR,13C-DOC,13C-DOC_FLAG_W,13C-DOCERR
,,,,,,,,,,,METERS,DBAR,ITS-90,PSS-78,,PSS-78,,UMOL/KG,,UMOL/KG,,UMOL/KG,,UMOL/KG,,UMOL/KG,,UMOL/KG,,PMOL/KG,,PMOL/KG,,FMOL/KG,,UMOL/KG,,UMOL/KG,,,,DEG C,TU,,NMOL/KG,,/MILLE,,/MILLE,,/MILLE,NMOL/KG,,NMOL/KG,UMOL/KG,,NMOL/KG,,UMOL/KG,,,,TU,ITS-90,,G/KG,,PERCNT,,PERCNT,NMOL/KG,UMOL/KG,NMOL/KG,,NMOL/KG,NMOL/KG,,NMOL/KG,/MILLE,,/MILLE,/MILLE,,/MILLE
33RO20150525,     P16N.2,     139,          3,         24,         24,2,20150604,       1153,    35.5001,       -152,       5663,    15.5,  16.4321,  34.1321,2,  34.1325,2,    252.2,2,   251.7,2,    4.89,2,       0,2,    0.01,2,    0.11,2,-999.000,9,-999.000,9,-999.000,9,  2019.5,6,  2247.7,2,   7.9262,2,    25.05,-999.000,9,-999.0000,9,    0.66,2,    43.2,2,     2.8,-999.0000,9,-999.0000,    59.0,2,     -999.0,9,-999.000,9, 20150604,     1359,-999.000,  16.4463,2,    34.2934,2,     -999.0,9,     -999.0,-999.0000,     -999.0,     -999.0,9,     -999.0,     -999.0,9,     -999.0,  -999.0,9,     -999.0,     -999.0,9,     -999.0
33RO20150525,     P16N.2,     139,          3,         23,         23,2,20150604,       1153,    35.5001,       -152,       5663,    50.2,  13.1798,  34.0959,2,  34.0937,2,    268.5,2,   271.7,2,    5.47,2,    1.37,2,    0.06,2,    0.25,2,-999.000,9,-999.000,9,-999.000,9,  2029.7,2,  2246.3,2,   7.9054,6,    25.05,-999.000,9,-999.0000,9,    0.58,2,    42.1,2,     2.4,-999.0000,9,-999.0000,    57.4,2,     -999.0,9,-999.000,9, 20150604,     1356,-999.000,  13.1854,2,    34.2545,2,     -999.0,9,     -999.0,-999.0000,     -999.0,     -999.0,9,     -999.0,     -999.0,9,     -999.0,  -999.0,9,     -999.0,     -999.0,9,     -999.0
33RO20150525,     P16N.2,     139,          3,         22,         22,2,20150604,       1153,    35.5001,       -152,       5663,    80.4,  12.4763,  34.0922,2,    34.09,2,    257.3,2,   261.1,2,    5.86,2,    2.54,2,    0.21,2,    0.32,2,-999.000,9,-999.000,9,-999.000,9,  2038.7,2,  2246.3,2,   7.8876,6,    25.03,-999.000,9,-999.0000,9,    0.52,2,    41.0,2,     2.4,-999.0000,9,-999.0000,    56.7,2,     -999.0,9,-999.000,9, 20150604,     1355,-999.000,  12.4849,2,    34.2507,2,     -999.0,9,     -999.0,-999.0000,     -999.0,     -999.0,9,     -999.0,     -999.0,9,     -999.0,  -999.0,9,     -999.0,     -999.0,9,     -999.0
33RO20150525,     P16N.2,     139,          3,         21,         21,2,20150604,       1153,    35.5001,       -152,       5663,   130.5,  11.7995,  34.0313,2,  34.0318,2,    252.1,2,   251.7,2,    6.84,2,    5.18,2,    0.29,2,    0.47,2,-999.000,9,-999.000,9,-999.000,9,  2052.7,2,  2246.3,2,    7.855,2,    25.04,-999.000,9,-999.0000,9,    0.39,2,    35.6,2,     2.3,-999.0000,9,-999.0000,    54.3,2,     -999.0,9,-999.000,9, 20150604,     1353,-999.000,  11.7991,2,    34.1923,2,     -999.0,9,     -999.0,-999.0000,     -999.0,     -999.0,9,     -999.0,     -999.0,9,     -999.0,  -999.0,9,     -999.0,     -999.0,9,     -999.0
33RO20150525,     P16N.2,     139,          3,         20,         20,2,20150604,       1153,    35.5001,       -152,       5663,   201.3,  11.3656,  34.2034,2,  34.2071,2,    217.3,2,     217,2,      13,2,   12.21,2,    0.02,2,    0.88,2,-999.000,9,-999.000,9,-999.000,9,  2093.3,2,  2259.3,2,   7.7909,2,    25.05,-999.000,9,-999.0000,9,    0.08,2,    38.7,2,     2.4,-999.0000,9,-999.0000,    51.8,2,     -999.0,9,-999.000,9, 20150604,     1350,-999.000,  11.3637,2,    34.3684,2,     -999.0,9,     -999.0,-999.0000,     -999.0,     -999.0,9,     -999.0,     -999.0,9,     -999.0,  -999.0,9,     -999.0,     -999.0,9,     -999.0
33RO20150525,     P16N.2,     139,          3,         19,         19,2,20150604,       1153,    35.5001,       -152,       5663,   274.9,  10.3221,   34.148,2,  34.1479,2,    211.6,2,   212.2,2,   17.69,2,   14.95,2,    0.01,2,    1.06,2,-999.000,9,-999.000,9,-999.000,9,  2111.3,2,  2259.8,2,    7.755,2,    25.04,-999.000,9,-999.0000,9,    0.05,2,    25.2,2,     2.4,-999.0000,9,-999.0000,    48.6,2,     -999.0,9,-999.000,9, 20150604,     1347,-999.000,  10.3234,2,    34.3089,2,     -999.0,9,     -999.0,-999.0000,     -999.0,     -999.0,9,     -999.0,     -999.0,9,     -999.0,  -999.0,9,     -999.0,     -999.0,9,     -999.0
33RO20150525,     P16N.2,     139,          3,         18,         18,2,20150604,       1153,    35.5001,       -152,       5663,     367,   8.7989,  34.0694,2,   34.069,2,    189.9,2,   190.2,2,   27.85,2,   20.23,2,    0.01,2,    1.42,2,-999.000,9,-999.000,9,-999.000,9,    2145,2,  2264.2,2,   7.6776,2,    25.07,-999.000,9,-999.0000,9,   -0.02,2,     2.3,2,     2.4,-999.0000,9,-999.0000,    48.0,2,     -999.0,9,-999.000,9, 20150604,     1345,-999.000,   8.8047,2,    34.2296,2,     -999.0,9,     -999.0,-999.0000,     -999.0,     -999.0,9,     -999.0,     -999.0,9,     -999.0,  -999.0,9,     -999.0,     -999.0,9,     -999.0
33RO20150525,     P16N.2,     139,          3,         17,         17,2,20150604,       1153,    35.5001,       -152,       5663,   467.9,   6.8181,  33.9915,2,  33.9904,2,      146,2,     146,2,   47.01,2,   28.05,2,    0.01,2,       2,2,-999.000,9,-999.000,9,-999.000,9,  2200.4,2,  2276.9,2,   7.5489,2,    24.98,-999.000,9,-999.0000,9,   -0.21,2,   -29.4,2,     2.3,-999.0000,9,-999.0000,    47.2,2,     -999.0,9,-999.000,9, 20150604,     1342,-999.000,    6.827,2,    34.1507,6,     -999.0,9,     -999.0,-999.0000,     -999.0,     -999.0,9,     -999.0,     -999.0,9,     -999.0,  -999.0,9,     -999.0,     -999.0,9,     -999.0
33RO20150525,     P16N.2,     139,          3,         16,         16,2,20150604,       1153,    35.5001,       -152,       5663,     600,   5.0598,  34.0196,2,  34.0171,2,     83.2,2,    89.9,2,   74.86,2,   36.26,2,    0.01,2,    2.61,2,-999.000,9,-999.000,9,-999.000,9,  2270.3,2,  -999.0,9,   7.4012,2,    25.07,-999.000,9,-999.0000,9,   -0.45,2,   -86.5,2,     2.4,-999.0000,9,-999.0000,    45.0,2,     -999.0,9,-999.000,9, 20150604,     1339,-999.000,   5.0661,2,    34.1775,2,     -999.0,9,     -999.0,-999.0000,     -999.0,     -999.0,9,     -999.0,     -999.0,9,     -999.0,  -999.0,9,     -999.0,     -999.0,9,     -999.0
33RO20150525,     P16N.2,     139,          3,         15,         15,2,20150604,       1153,    35.5001,       -152,       5663,   750.6,   4.2455,  34.1548,2,  34.1546,2,     29.6,2,      29,2,   99.39,2,   42.22,2,    0.01,2,    3.02,2,-999.000,9,-999.000,9,-999.000,9,  2329.6,2,  2326.2,2,   7.2954,2,    25.06,-999.000,9,-999.0000,9,   -0.62,2,  -141.6,2,     2.7,-999.0000,9,-999.0000,    44.4,2,     -999.0,9,-999.000,9, 20150604,     1335,-999.000,   4.2433,2,    34.3157,2,     -999.0,9,     -999.0,-999.0000,     -999.0,     -999.0,9,     -999.0,     -999.0,9,     -999.0,  -999.0,9,     -999.0,     -999.0,9,     -999.0
33RO20150525,     P16N.2,     139,          3,         14,         14,2,20150604,       1153,    35.5001,       -152,       5663,   899.6,    3.723,  34.2866,2,  34.2908,2,     10.8,2,    10.7,2,  118.23,2,   43.97,2,       0,2,    3.16,2,-999.000,9,-999.000,9,-999.000,9,  2364.4,2,  2352.2,2,   7.2772,2,    25.04,-999.000,9,-999.0000,9,   -0.71,2,  -184.7,2,     2.1,-999.0000,9,-999.0000,    42.0,2,     -999.0,9,-999.000,9, 20150604,     1331,-999.000,   3.7252,2,    34.4525,2,     -999.0,9,     -999.0,-999.0000,     -999.0,     -999.0,9,     -999.0,     -999.0,9,     -999.0,  -999.0,9,     -999.0,     -999.0,9,     -999.0
33RO20150525,     P16N.2,     139,          3,         13,         13,2,20150604,       1153,    35.5001,       -152,       5663,  1051.6,   3.3483,  34.3781,2,  34.3783,2,      8.5,2,     8.6,2,  130.54,2,   44.46,2,    0.01,2,    3.21,2,-999.000,9,-999.000,9,-999.000,9,  2377.8,6,  2370.2,2,   7.2835,6,    25.05,-999.000,9,-999.0000,9, -999.00,9,  -999.0,9,  -999.0,-999.0000,9,-999.0000,    41.4,2,     -999.0,9,-999.000,9, 20150604,     1327,-999.000,   3.3491,2,    34.5404,6,     -999.0,9,     -999.0,-999.0000,     -999.0,     -999.0,9,     -999.0,     -999.0,9,     -999.0,  -999.0,9,     -999.0,     -999.0,9,     -999.0
33RO20150525,     P16N.2,     139,          3,         12,         12,2,20150604,       1153,    35.5001,       -152,       5663,  1233.1,   2.9486,  34.4579,2,  34.4555,2,       14,2,    13.5,2,  142.45,2,   44.55,2,       0,2,    3.18,2,-999.000,9,-999.000,9,-999.000,9,  2391.2,2,  2385.9,2,   7.2998,2,    25.05,-999.000,9,-999.0000,9, -999.00,9,  -999.0,9,  -999.0,-999.0000,9,-999.0000,    41.1,2,     -999.0,9,-999.000,9, 20150604,     1323,-999.000,   2.9515,2,     34.618,2,     -999.0,9,     -999.0,-999.0000,     -999.0,     -999.0,9,     -999.0,     -999.0,9,     -999.0,  -999.0,9,     -999.0,     -999.0,9,     -999.0
33RO20150525,     P16N.2,     139,          3,         11,         11,2,20150604,       1153,    35.5001,       -152,       5663,    1501,   2.5328,  34.5279,2,  34.5276,2,     29.2,2,    29.9,2,  153.38,2,   43.87,2,    0.01,2,    3.12,2,-999.000,9,-999.000,9,-999.000,9,  2394.6,2,  2401.4,2,   7.3325,2,    25.07,-999.000,9,-999.0000,9, -999.00,9,  -999.0,9,  -999.0,-999.0000,9,-999.0000,    40.6,2,     -999.0,9,-999.000,9, 20150604,     1317,-999.000,    2.534,2,    34.6904,2,     -999.0,9,     -999.0,-999.0000,     -999.0,     -999.0,9,     -999.0,     -999.0,9,     -999.0,  -999.0,9,     -999.0,     -999.0,9,     -999.0
33RO20150525,     P16N.2,     139,          3,         10,         10,2,20150604,       1153,    35.5001,       -152,       5663,  1868.4,    2.088,  34.5959,2,   34.595,2,     58.6,2,    58.5,2,  163.34,2,   41.91,2,    0.01,2,    2.96,2,-999.000,9,-999.000,9,-999.000,9,  2383.2,2,  2414.4,2,   7.3991,2,    25.05,-999.000,9,-999.0000,9, -999.00,9,  -999.0,9,  -999.0,-999.0000,9,-999.0000,    41.0,2,     -999.0,9,-999.000,9, 20150604,     1310,-999.000,    2.088,2,    34.7582,2,     -999.0,9,     -999.0,-999.0000,     -999.0,     -999.0,9,     -999.0,     -999.0,9,     -999.0,  -999.0,9,     -999.0,     -999.0,9,     -999.0
33RO20150525,     P16N.2,     139,          3,          9,          9,2,20150604,       1153,    35.5001,       -152,       5663,  2232.5,   1.8471,  34.6273,2,  34.6267,2,     79.3,2,    79.2,2,  167.44,2,   40.64,2,    0.01,2,    2.87,2,-999.000,9,-999.000,9,-999.000,9,  2376.6,2,  2423.2,2,   7.4428,2,    25.04,-999.000,9,-999.0000,9, -999.00,9,  -999.0,9,  -999.0,-999.0000,9,-999.0000,    37.7,2,     -999.0,9,-999.000,9, 20150604,     1303,-999.000,   1.8472,2,      34.79,2,     -999.0,9,     -999.0,-999.0000,     -999.0,     -999.0,9,     -999.0,     -999.0,9,     -999.0,  -999.0,9,     -999.0,     -999.0,9,     -999.0
33RO20150525,     P16N.2,     139,          3,          8,          8,2,20150604,       1153,    35.5001,       -152,       5663,  2633.2,   1.6711,  34.6472,2,  34.6458,2,     97.2,2,    97.3,2,  166.36,2,   39.56,2,    0.01,2,    2.76,2,-999.000,9,-999.000,9,-999.000,9,    2368,2,    2424,2,   7.4765,2,    25.03,-999.000,9,-999.0000,9, -999.00,9,  -999.0,9,  -999.0,-999.0000,9,-999.0000,    39.8,2,     -999.0,9,-999.000,9, 20150604,     1254,-999.000,   1.6707,2,    34.8091,2,     -999.0,9,     -999.0,-999.0000,     -999.0,     -999.0,9,     -999.0,     -999.0,9,     -999.0,  -999.0,9,     -999.0,     -999.0,9,     -999.0
33RO20150525,     P16N.2,     139,          3,          7,          7,2,20150604,       1153,    35.5001,       -152,       5663,  3133.9,    1.541,  34.6655,2,  34.6666,2,    118.6,2,   118.8,2,  162.36,2,    38.2,2,       0,2,    2.67,2,-999.000,9,-999.000,9,-999.000,9,    2353,2,    2425,2,   7.5167,2,    25.04,-999.000,9,-999.0000,9, -999.00,9,  -999.0,9,  -999.0,-999.0000,9,-999.0000,    38.6,2,     -999.0,9,-999.000,9, 20150604,     1245,-999.000,    1.541,2,    34.8301,2,     -999.0,9,     -999.0,-999.0000,     -999.0,     -999.0,9,     -999.0,     -999.0,9,     -999.0,  -999.0,9,     -999.0,     -999.0,9,     -999.0
33RO20150525,     P16N.2,     139,          3,          6,          6,2,20150604,       1153,    35.5001,       -152,       5663,  3634.5,   1.4851,  34.6774,2,  34.6777,2,    135.5,2,   134.8,2,  156.79,2,   37.12,2,       0,2,    2.57,2,-999.000,9,-999.000,9,-999.000,9,  2342.8,2,  2421.2,3,   7.5478,2,       25,-999.000,9,-999.0000,9, -999.00,9,  -999.0,9,  -999.0,-999.0000,9,-999.0000,    39.4,2,     -999.0,9,-999.000,9, 20150604,     1235,-999.000,   1.4851,2,    34.8412,2,     -999.0,9,     -999.0,-999.0000,     -999.0,     -999.0,9,     -999.0,     -999.0,9,     -999.0,  -999.0,9,     -999.0,     -999.0,9,     -999.0
33RO20150525,     P16N.2,     139,          3,          5,          5,2,20150604,       1153,    35.5001,       -152,       5663,  4133.8,   1.4798,  34.6842,2,  34.6846,2,    142.9,2,   143.9,2,  154.64,2,   36.53,2,    0.01,2,    2.53,2,-999.000,9,-999.000,9,-999.000,9,  2336.9,2,    2425,2,   7.5651,2,    25.02,-999.000,9,-999.0000,9, -999.00,9,  -999.0,9,  -999.0,-999.0000,9,-999.0000,    40.6,2,     -999.0,9,-999.000,9, 20150604,     1225,-999.000,   1.4798,2,    34.8481,2,     -999.0,9,     -999.0,-999.0000,     -999.0,     -999.0,9,     -999.0,     -999.0,9,     -999.0,  -999.0,9,     -999.0,     -999.0,9,     -999.0
33RO20150525,     P16N.2,     139,          3,          4,          4,2,20150604,       1153,    35.5001,       -152,       5663,  4632.5,   1.5071,  34.6878,2,   34.687,2,    149.8,2,   150.1,2,  150.53,6,   36.24,6,    0.01,6,    2.49,6,-999.000,9,-999.000,9,-999.000,9,  2330.8,2,  2423.2,2,    7.574,6,    25.02,-999.000,9,-999.0000,9, -999.00,9,  -999.0,9,  -999.0,-999.0000,9,-999.0000,    40.2,2,     -999.0,9,-999.000,9, 20150604,     1215,-999.000,   1.5073,2,    34.8505,2,     -999.0,9,     -999.0,-999.0000,     -999.0,     -999.0,9,     -999.0,     -999.0,9,     -999.0,  -999.0,9,     -999.0,     -999.0,9,     -999.0
33RO20150525,     P16N.2,     139,          3,          3,          3,2,20150604,       1153,    35.5001,       -152,       5663,  4950.3,   1.5327,  34.6895,2,  34.6913,2,      153,2,     153,2,  147.41,6,   36.05,6,    0.01,6,    2.47,6,-999.000,9,-999.000,9,-999.000,9,  2329.2,2,  2420.8,6,   7.5793,6,    25.03,-999.000,9,-999.0000,9, -999.00,9,  -999.0,9,  -999.0,-999.0000,9,-999.0000,    40.4,2,     -999.0,9,-999.000,9, 20150604,     1209,-999.000,   1.5326,2,    34.8549,2,     -999.0,9,     -999.0,-999.0000,     -999.0,     -999.0,9,     -999.0,     -999.0,9,     -999.0,  -999.0,9,     -999.0,     -999.0,9,     -999.0
33RO20150525,     P16N.2,     139,          3,          2,          2,2,20150604,       1153,    35.5001,       -152,       5663,    5400,   1.5822,  34.6909,2,  34.6895,2,    155.4,2,   154.3,2,  145.26,6,   35.85,6,       0,6,    2.46,6,-999.000,9,-999.000,9,-999.000,9,  2324.2,2,  2421.2,2,   7.5821,6,    25.05,-999.000,9,-999.0000,9, -999.00,9,  -999.0,9,  -999.0,-999.0000,9,-999.0000,    42.2,2,     -999.0,9,-999.000,9, 20150604,     1200,-999.000,   1.5823,2,    34.8531,2,     -999.0,9,     -999.0,-999.0000,     -999.0,     -999.0,9,     -999.0,     -999.0,9,     -999.0,  -999.0,9,     -999.0,     -999.0,9,     -999.0
33RO20150525,     P16N.2,     139,          3,          1,          1,2,20150604,       1153,    35.5001,       -152,       5663,  5743.6,   1.6281,  34.6912,2,  34.6898,2,    154.9,2,   155.2,2,  145.06,6,   35.85,6,    0.01,6,    2.45,6,-999.000,9,-999.000,9,-999.000,9,  2324.7,6,    2421,2,   7.5824,2,    25.03,-999.000,9,-999.0000,9, -999.00,9,  -999.0,9,  -999.0,-999.0000,9,-999.0000,    40.8,2,     -999.0,9,-999.000,9, 20150604,     1153,-999.000,   1.6279,2,    34.8534,2,     -999.0,9,     -999.0,-999.0000,     -999.0,     -999.0,9,     -999.0,     -999.0,9,     -999.0,  -999.0,9,     -999.0,     -999.0,9,     -999.0