BOTTLE,20220330CCHSIOCBG
EXPOCODE,SECT_ID,STNNBR,CASTNO,SAMPNO,BTLNBR,BTLNBR_FLAG_W,DATE,TIME,LATITUDE,LONGITUDE,DEPTH,CTDPRS,CTDTMP,CTDSAL,CTDSAL_FLAG_W,SALNTY,SALNTY_FLAG_W,CTDOXY,CTDOXY_FLAG_W,OXYGEN,OXYGEN_FLAG_W,SILCAT,SILCAT_FLAG_W,NITRAT,NITRAT_FLAG_W,NITRIT,NITRIT_FLAG_W,PHSPHT,PHSPHT_FLAG_W,CFC-11,CFC-11_FLAG_W,CFC-12,CFC-12_FLAG_W,SF6,SF6_FLAG_W,TCARBN,TCARBN_FLAG_W,ALKALI,ALKALI_FLAG_W,PH_TOT,PH_TOT_FLAG_W,PH_TMP,TRITUM,TRITUM_FLAG_W,HELIUM,HELIUM_FLAG_W,DELC13,DELC13_FLAG_W,DELC14,DELC14_FLAG_W,C14ERR,NEON,NEON_FLAG_W,NEONER,DOC,DOC_FLAG_W,N2O,N2O_FLAG_W,ARGON,ARGON_FLAG_W,BTL_DATE,BTL_TIME,TRITER,SBE35,SBE35_FLAG_W,SALTREF,SALTREF_FLAG_W,DELHE3,DELHE3_FLAG_W,DELHER,HELIER,ARGONER,KRYPTON,KRYPTON_FLAG_W,KRYPTONER,XENON,XENON_FLAG_W,XENONER,14C-DOC,14C-DOC_FLAG_W,14C-DOCERR,13C-DOC,13C-DOC_FLAG_W,13C-DOCERR
,,,,,,,,,,,METERS,DBAR,ITS-90,PSS-78,,PSS-78,,UMOL/KG,,UMOL/KG,,UMOL/KG,,UMOL/KG,,UMOL/KG,,UMOL/KG,,PMOL/KG,,PMOL/KG,,FMOL/KG,,UMOL/KG,,UMOL/KG,,,,DEG C,TU,,NMOL/KG,,/MILLE,,/MILLE,,/MILLE,NMOL/KG,,NMOL/KG,UMOL/KG,,NMOL/KG,,UMOL/KG,,,,TU,ITS-90,,G/KG,,PERCNT,,PERCNT,NMOL/KG,UMOL/KG,NMOL/KG,,NMOL/KG,NMOL/KG,,NMOL/KG,/MILLE,,/MILLE,/MILLE,,/MILLE
33RO20150525,     P16N.2,     205,          1,         24,         24,2,20150623,       1226,    56.7505,  -136.2103,       1465,       3,  13.6917,  31.7012,2,  31.7045,2,    279.1,2,   284.4,2,    4.02,2,     0.1,2,    0.01,2,    0.41,2,   3.279,6,   1.894,6,   2.317,6,  1930.4,6,  2148.6,2,   7.9504,6,    24.99,-999.000,9,-999.0000,9,    1.59,2,   -15.3,2,     2.7,-999.0000,9,-999.0000,    63.4,2,     10.142,3,-999.000,9, 20150623,     1315,-999.000,   13.698,2,     31.854,2,     -999.0,9,     -999.0,-999.0000,     -999.0,     -999.0,9,     -999.0,     -999.0,9,     -999.0,  -999.0,9,     -999.0,     -999.0,9,     -999.0
33RO20150525,     P16N.2,     205,          1,         23,         23,2,20150623,       1226,    56.7505,  -136.2103,       1465,    25.4,   9.3389,  31.8576,2,  31.8635,2,    266.6,2,   270.2,2,   12.63,2,    5.39,2,    0.15,2,    1.08,2,   3.666,2,   2.085,2,   2.433,2,  2003.4,2,  2161.8,2,   7.8007,6,       25,-999.000,9,-999.0000,9, -999.00,9,  -999.0,9,  -999.0,-999.0000,9,-999.0000,    61.1,2,     13.017,3,-999.000,9, 20150623,     1313,-999.000,   9.3421,2,    32.0137,2,     -999.0,9,     -999.0,-999.0000,     -999.0,     -999.0,9,     -999.0,     -999.0,9,     -999.0,  -999.0,9,     -999.0,     -999.0,9,     -999.0
33RO20150525,     P16N.2,     205,          1,         22,         22,2,20150623,       1226,    56.7505,  -136.2103,       1465,    55.2,   7.9167,  32.1008,2,  32.1136,2,    261.9,2,   258.3,2,   19.87,2,   13.22,2,    0.06,2,    1.28,2,   3.818,2,   2.163,2,   2.498,2,  2038.4,2,  2159.8,2,   7.7038,6,    25.02,-999.000,9,-999.0000,9, -999.00,9,  -999.0,9,  -999.0,-999.0000,9,-999.0000,    52.6,2,     13.379,3,-999.000,9, 20150623,     1311,-999.000,   7.9168,2,     32.265,2,     -999.0,9,     -999.0,-999.0000,     -999.0,     -999.0,9,     -999.0,     -999.0,9,     -999.0,  -999.0,9,     -999.0,     -999.0,9,     -999.0
33RO20150525,     P16N.2,     205,          1,         21,         21,2,20150623,       1226,    56.7505,  -136.2103,       1465,    74.4,   7.6079,  32.1897,2,  32.1979,2,    257.9,2,   253.6,2,   22.22,2,   14.68,2,    0.03,2,    1.36,2,   3.814,2,   2.162,2,   2.426,2,  2050.3,2,  2166.1,6,   7.6856,2,       25,-999.000,9,-999.0000,9, -999.00,9,  -999.0,9,  -999.0,-999.0000,9,-999.0000,    50.4,2,     14.123,3,-999.000,9, 20150623,     1309,-999.000,    7.609,2,    32.3497,2,     -999.0,9,     -999.0,-999.0000,     -999.0,     -999.0,9,     -999.0,     -999.0,9,     -999.0,  -999.0,9,     -999.0,     -999.0,9,     -999.0
33RO20150525,     P16N.2,     205,          1,         19,         19,2,20150623,       1226,    56.7505,  -136.2103,       1465,    99.3,   7.1856,  32.4714,2,-999.0000,9,    224.3,2,  -999.0,9, -999.00,9, -999.00,9, -999.00,9, -999.00,9,-999.000,9,-999.000,9,-999.000,9,  -999.0,9,  -999.0,9,-999.0000,9,  -999.00,-999.000,9,-999.0000,9, -999.00,9,  -999.0,9,  -999.0,-999.0000,9,-999.0000,  -999.0,9,     -999.0,9,-999.000,9, 20150623,     1307,-999.000,   7.1841,2,     -999.0,9,     -999.0,9,     -999.0,-999.0000,     -999.0,     -999.0,9,     -999.0,     -999.0,9,     -999.0,  -999.0,9,     -999.0,     -999.0,9,     -999.0
33RO20150525,     P16N.2,     205,          1,         20,         20,2,20150623,       1226,    56.7505,  -136.2103,       1465,    99.4,   7.1928,  32.4706,2,  32.5062,2,    224.9,2,   214.9,2,    32.4,2,   20.75,2,    0.05,2,    1.69,2,   3.649,2,   2.041,2,   2.136,2,  2098.9,2,  2186.8,2,    7.598,6,    25.01,-999.000,9,-999.0000,9, -999.00,9,  -999.0,9,  -999.0,-999.0000,9,-999.0000,    49.4,2,     17.828,3,-999.000,9, 20150623,     1308,-999.000,   7.1924,2,    32.6595,2,     -999.0,9,     -999.0,-999.0000,     -999.0,     -999.0,9,     -999.0,     -999.0,9,     -999.0,  -999.0,9,     -999.0,     -999.0,9,     -999.0
33RO20150525,     P16N.2,     205,          1,         18,         18,2,20150623,       1226,    56.7505,  -136.2103,       1465,   125.1,   6.4362,  32.8902,2,   32.945,2,      167,2,   154.9,2,   50.49,2,   28.67,2,    0.24,2,    2.18,2,   3.322,2,   1.831,2,   1.668,2,  2172.4,2,  2221.1,2,    7.467,2,    24.95,-999.000,9,-999.0000,9, -999.00,9,  -999.0,9,  -999.0,-999.0000,9,-999.0000,    47.8,2,     24.891,3,-999.000,9, 20150623,     1306,-999.000,   6.4507,2,    33.1003,2,     -999.0,9,     -999.0,-999.0000,     -999.0,     -999.0,9,     -999.0,     -999.0,9,     -999.0,  -999.0,9,     -999.0,     -999.0,9,     -999.0
33RO20150525,     P16N.2,     205,          1,         17,         17,2,20150623,       1226,    56.7505,  -136.2103,       1465,   150.2,   6.1279,   33.132,2,  33.1566,2,      150,2,   146.8,2,   51.36,2,   30.03,2,    0.09,2,    2.22,2,   3.257,2,   1.796,2,   1.555,2,  2187.2,2,  2234.9,2,   7.4521,2,       25,-999.000,9,-999.0000,9, -999.00,9,  -999.0,9,  -999.0,-999.0000,9,-999.0000,    49.0,2,     26.277,3,-999.000,9, 20150623,     1304,-999.000,   6.1239,2,     33.313,2,     -999.0,9,     -999.0,-999.0000,     -999.0,     -999.0,9,     -999.0,     -999.0,9,     -999.0,  -999.0,9,     -999.0,     -999.0,9,     -999.0
33RO20150525,     P16N.2,     205,          1,         16,         16,2,20150623,       1226,    56.7505,  -136.2103,       1465,   175.3,   6.0637,  33.3677,2,  33.3895,2,      147,2,   144.9,2,    49.2,2,   30.03,2,    0.02,2,    2.19,2,   3.334,2,   1.828,2,   1.531,2,  2194.3,2,  2243.6,2,   7.4576,2,    25.01,-999.000,9,-999.0000,9, -999.00,9,  -999.0,9,  -999.0,-999.0000,9,-999.0000,    46.9,2,     26.484,3,-999.000,9, 20150623,     1302,-999.000,   6.0652,2,     33.547,2,     -999.0,9,     -999.0,-999.0000,     -999.0,     -999.0,9,     -999.0,     -999.0,9,     -999.0,  -999.0,9,     -999.0,     -999.0,9,     -999.0
33RO20150525,     P16N.2,     205,          1,         15,         15,2,20150623,       1226,    56.7505,  -136.2103,       1465,   225.2,   5.7501,  33.7615,2,  33.7702,2,    114.3,2,   111.3,2,   55.83,2,   33.64,2,    0.02,2,    2.38,2,   3.083,2,   1.667,2,   1.188,2,  2235.3,2,  2266.6,2,   7.4012,2,    25.04,-999.000,9,-999.0000,9, -999.00,9,  -999.0,9,  -999.0,-999.0000,9,-999.0000,    44.9,2,     30.228,3,-999.000,9, 20150623,     1300,-999.000,     5.76,2,    33.9295,2,     -999.0,9,     -999.0,-999.0000,     -999.0,     -999.0,9,     -999.0,     -999.0,9,     -999.0,  -999.0,9,     -999.0,     -999.0,9,     -999.0
33RO20150525,     P16N.2,     205,          1,         13,         13,2,20150623,       1226,    56.7505,  -136.2103,       1465,   299.7,   4.8996,   33.905,2,-999.0000,9,     72.4,2,  -999.0,9, -999.00,9, -999.00,9, -999.00,9, -999.00,9,-999.000,9,-999.000,9,-999.000,9,  -999.0,9,  -999.0,9,-999.0000,9,  -999.00,-999.000,9,-999.0000,9, -999.00,9,  -999.0,9,  -999.0,-999.0000,9,-999.0000,  -999.0,9,     -999.0,9,-999.000,9, 20150623,     1258,-999.000,   4.9031,2,     -999.0,9,     -999.0,9,     -999.0,-999.0000,     -999.0,     -999.0,9,     -999.0,     -999.0,9,     -999.0,  -999.0,9,     -999.0,     -999.0,9,     -999.0
33RO20150525,     P16N.2,     205,          1,         14,         14,2,20150623,       1226,    56.7505,  -136.2103,       1465,   299.9,   4.9046,  33.9037,2,  33.9011,2,     72.8,2,    73.8,2,   70.69,2,   38.42,2,    0.01,2,    2.67,2,   2.539,2,   1.329,2,   0.787,2,  2277.5,2,  2286.3,2,   7.3249,2,    24.99,-999.000,9,-999.0000,9, -999.00,9,  -999.0,9,  -999.0,-999.0000,9,-999.0000,    43.8,2,     35.221,3,-999.000,9, 20150623,     1258,-999.000,    4.907,2,    34.0609,6,     -999.0,9,     -999.0,-999.0000,     -999.0,     -999.0,9,     -999.0,     -999.0,9,     -999.0,  -999.0,9,     -999.0,     -999.0,9,     -999.0
33RO20150525,     P16N.2,     205,          1,         12,         12,2,20150623,       1226,    56.7505,  -136.2103,       1465,   375.3,   4.5362,  33.9858,2,  33.9848,2,     49.5,2,    48.8,2,   82.02,2,   40.96,2,    0.01,2,    2.84,2,   1.918,2,   0.974,2,   0.579,2,  2302.4,2,  2299.9,2,   7.2896,2,    24.99,-999.000,9,-999.0000,9, -999.00,9,  -999.0,9,  -999.0,-999.0000,9,-999.0000,    41.9,2,     38.940,3,-999.000,9, 20150623,     1255,-999.000,   4.5454,2,    34.1451,2,     -999.0,9,     -999.0,-999.0000,     -999.0,     -999.0,9,     -999.0,     -999.0,9,     -999.0,  -999.0,9,     -999.0,     -999.0,9,     -999.0
33RO20150525,     P16N.2,     205,          1,         11,         11,2,20150623,       1226,    56.7505,  -136.2103,       1465,   475.7,    4.375,  34.0549,2,  34.0528,2,     36.5,2,    35.3,2,   90.13,2,   42.04,2,    0.01,2,    2.92,2,   1.452,2,   0.727,2,   0.324,2,  2317.3,2,  2310.7,2,   7.2779,2,    24.98,-999.000,9,-999.0000,9, -999.00,9,  -999.0,9,  -999.0,-999.0000,9,-999.0000,    41.6,2,     41.542,3,-999.000,9, 20150623,     1252,-999.000,   4.3754,2,    34.2134,2,     -999.0,9,     -999.0,-999.0000,     -999.0,     -999.0,9,     -999.0,     -999.0,9,     -999.0,  -999.0,9,     -999.0,     -999.0,9,     -999.0
33RO20150525,     P16N.2,     205,          1,         10,         10,2,20150623,       1226,    56.7505,  -136.2103,       1465,   563.2,   4.1327,  34.0943,2,  34.1016,2,     28.2,2,    27.6,2,   97.56,2,   42.82,2,       0,2,    2.98,2,   1.183,2,   0.595,2,   0.218,2,  2330.7,2,  2319.7,2,   7.2676,6,    24.99,-999.000,9,-999.0000,9, -999.00,9,  -999.0,9,  -999.0,-999.0000,9,-999.0000,    40.8,2,     43.120,3,-999.000,9, 20150623,     1250,-999.000,   4.1323,2,    34.2624,2,     -999.0,9,     -999.0,-999.0000,     -999.0,     -999.0,9,     -999.0,     -999.0,9,     -999.0,  -999.0,9,     -999.0,     -999.0,9,     -999.0
33RO20150525,     P16N.2,     205,          1,          9,          9,2,20150623,       1226,    56.7505,  -136.2103,       1465,   563.3,   4.1324,  34.0944,2,-999.0000,9,     28.2,2,  -999.0,9, -999.00,9, -999.00,9, -999.00,9, -999.00,9,-999.000,9,-999.000,9,-999.000,9,  -999.0,9,  -999.0,9,-999.0000,9,  -999.00,-999.000,9,-999.0000,9, -999.00,9,  -999.0,9,  -999.0,-999.0000,9,-999.0000,  -999.0,9,     -999.0,9,-999.000,9, 20150623,     1249,-999.000,   4.1327,2,     -999.0,9,     -999.0,9,     -999.0,-999.0000,     -999.0,     -999.0,9,     -999.0,     -999.0,9,     -999.0,  -999.0,9,     -999.0,     -999.0,9,     -999.0
33RO20150525,     P16N.2,     205,          1,          8,          8,2,20150623,       1226,    56.7505,  -136.2103,       1465,   665.6,   4.0016,  34.1621,2,    34.16,2,     20.6,2,    20.8,2,  104.98,2,   43.21,2,       0,2,    3.02,2,   0.808,2,   0.398,2,   0.173,2,  2337.7,2,  2329.9,2,   7.2675,2,       25,-999.000,9,-999.0000,9, -999.00,9,  -999.0,9,  -999.0,-999.0000,9,-999.0000,    40.3,2,     45.086,3,-999.000,9, 20150623,     1246,-999.000,   4.0004,2,    34.3211,2,     -999.0,9,     -999.0,-999.0000,     -999.0,     -999.0,9,     -999.0,     -999.0,9,     -999.0,  -999.0,9,     -999.0,     -999.0,9,     -999.0
33RO20150525,     P16N.2,     205,          1,          7,          7,2,20150623,       1226,    56.7505,  -136.2103,       1465,     775,    3.805,  34.2372,2,  34.2351,2,     14.5,2,    15.4,2,  113.48,2,   43.79,2,       0,2,    3.08,2,    0.43,2,   0.221,2,   0.116,2,  2354.3,2,  2343.9,2,   7.2701,6,       25,-999.000,9,-999.0000,9, -999.00,9,  -999.0,9,  -999.0,-999.0000,9,-999.0000,    39.6,2,     47.271,3,-999.000,9, 20150623,     1244,-999.000,   3.8063,2,    34.3966,2,     -999.0,9,     -999.0,-999.0000,     -999.0,     -999.0,9,     -999.0,     -999.0,9,     -999.0,  -999.0,9,     -999.0,     -999.0,9,     -999.0
33RO20150525,     P16N.2,     205,          1,          6,          6,2,20150623,       1226,    56.7505,  -136.2103,       1465,   925.8,   3.4757,  34.2931,2,  34.2905,2,     12.8,2,    13.1,2,  123.94,2,   44.08,2,       0,2,    3.09,2,   0.258,2,   0.126,2,   0.075,2,  2364.5,2,  2356.4,2,   7.2742,6,    24.99,-999.000,9,-999.0000,9, -999.00,9,  -999.0,9,  -999.0,-999.0000,9,-999.0000,    40.2,2,     47.709,3,-999.000,9, 20150623,     1240,-999.000,   3.4756,2,    34.4521,2,     -999.0,9,     -999.0,-999.0000,     -999.0,     -999.0,9,     -999.0,     -999.0,9,     -999.0,  -999.0,9,     -999.0,     -999.0,9,     -999.0
33RO20150525,     P16N.2,     205,          1,          5,          5,2,20150623,       1226,    56.7505,  -136.2103,       1465,  1085.4,   3.1403,  34.3592,2,  34.3578,2,     12.5,2,    13.6,2,  134.78,2,   44.27,2,       0,2,     3.1,2,   0.125,2,   0.062,2,       0,2,  2376.6,2,  2370.8,2,   7.2819,2,       25,-999.000,9,-999.0000,9, -999.00,9,  -999.0,9,  -999.0,-999.0000,9,-999.0000,    41.0,2,     47.518,3,-999.000,9, 20150623,     1236,-999.000,   3.1419,2,    34.5199,2,     -999.0,9,     -999.0,-999.0000,     -999.0,     -999.0,9,     -999.0,     -999.0,9,     -999.0,  -999.0,9,     -999.0,     -999.0,9,     -999.0
33RO20150525,     P16N.2,     205,          1,          4,          4,2,20150623,       1226,    56.7505,  -136.2103,       1465,  1233.5,   2.8396,  34.4157,2,  34.4143,2,     15.3,2,    15.7,2,  144.16,6,   44.37,6,       0,6,     3.1,6,    0.06,2,    0.03,2,       0,2,  2383.4,2,    2382,6,   7.2928,2,       25,-999.000,9,-999.0000,9, -999.00,9,  -999.0,9,  -999.0,-999.0000,9,-999.0000,    38.5,2,     46.298,3,-999.000,9, 20150623,     1232,-999.000,   2.8396,2,    34.5766,2,     -999.0,9,     -999.0,-999.0000,     -999.0,     -999.0,9,     -999.0,     -999.0,9,     -999.0,  -999.0,9,     -999.0,     -999.0,9,     -999.0
33RO20150525,     P16N.2,     205,          1,          3,          3,2,20150623,       1226,    56.7505,  -136.2103,       1465,  1366.9,   2.5994,  34.4583,2,  34.4563,2,     19.1,2,      20,2,  150.99,6,   44.17,6,       0,6,    3.07,6,   0.033,2,   0.018,2,       0,2,  2389.4,2,  2392.6,2,   7.3035,6,    24.99,-999.000,9,-999.0000,9, -999.00,9,  -999.0,9,  -999.0,-999.0000,9,-999.0000,    37.1,2,     43.939,3,-999.000,9, 20150623,     1229,-999.000,   2.5993,2,    34.6188,6,     -999.0,9,     -999.0,-999.0000,     -999.0,     -999.0,9,     -999.0,     -999.0,9,     -999.0,  -999.0,9,     -999.0,     -999.0,9,     -999.0
33RO20150525,     P16N.2,     205,          1,          1,          1,2,20150623,       1226,    56.7505,  -136.2103,       1465,  1469.7,   2.4248,    34.49,2,-999.0000,9,     24.6,2,  -999.0,9, -999.00,9, -999.00,9, -999.00,9, -999.00,9,-999.000,9,-999.000,9,-999.000,9,  -999.0,9,  -999.0,9,-999.0000,9,  -999.00,-999.000,9,-999.0000,9, -999.00,9,  -999.0,9,  -999.0,-999.0000,9,-999.0000,  -999.0,9,     -999.0,9,-999.000,9, 20150623,     1226,-999.000,   2.4244,2,     -999.0,9,     -999.0,9,     -999.0,-999.0000,     -999.0,     -999.0,9,     -999.0,     -999.0,9,     -999.0,  -999.0,9,     -999.0,     -999.0,9,     -999.0
33RO20150525,     P16N.2,     205,          1,          2,          2,2,20150623,       1226,    56.7505,  -136.2103,       1465,  1469.7,   2.4243,  34.4899,2,  34.4849,2,     24.6,2,    24.7,2,  155.39,6,   43.88,6,    0.01,6,    3.04,6,   0.022,2,   0.013,2,       0,2,  2390.7,6,  2396.6,2,   7.3169,2,       25,-999.000,9,-999.0000,9, -999.00,9,  -999.0,9,  -999.0,-999.0000,9,-999.0000,    41.4,2,     42.598,3,-999.000,9, 20150623,     1226,-999.000,   2.4244,2,    34.6476,2,     -999.0,9,     -999.0,-999.0000,     -999.0,     -999.0,9,     -999.0,     -999.0,9,     -999.0,  -999.0,9,     -999.0,     -999.0,9,     -999.0