BOTTLE,20220330CCHSIOCBG
EXPOCODE,SECT_ID,STNNBR,CASTNO,SAMPNO,BTLNBR,BTLNBR_FLAG_W,DATE,TIME,LATITUDE,LONGITUDE,DEPTH,CTDPRS,CTDTMP,CTDSAL,CTDSAL_FLAG_W,SALNTY,SALNTY_FLAG_W,CTDOXY,CTDOXY_FLAG_W,OXYGEN,OXYGEN_FLAG_W,SILCAT,SILCAT_FLAG_W,NITRAT,NITRAT_FLAG_W,NITRIT,NITRIT_FLAG_W,PHSPHT,PHSPHT_FLAG_W,CFC-11,CFC-11_FLAG_W,CFC-12,CFC-12_FLAG_W,SF6,SF6_FLAG_W,TCARBN,TCARBN_FLAG_W,ALKALI,ALKALI_FLAG_W,PH_TOT,PH_TOT_FLAG_W,PH_TMP,TRITUM,TRITUM_FLAG_W,HELIUM,HELIUM_FLAG_W,DELC13,DELC13_FLAG_W,DELC14,DELC14_FLAG_W,C14ERR,NEON,NEON_FLAG_W,NEONER,DOC,DOC_FLAG_W,N2O,N2O_FLAG_W,ARGON,ARGON_FLAG_W,BTL_DATE,BTL_TIME,TRITER,SBE35,SBE35_FLAG_W,SALTREF,SALTREF_FLAG_W,DELHE3,DELHE3_FLAG_W,DELHER,HELIER,ARGONER,KRYPTON,KRYPTON_FLAG_W,KRYPTONER,XENON,XENON_FLAG_W,XENONER,14C-DOC,14C-DOC_FLAG_W,14C-DOCERR,13C-DOC,13C-DOC_FLAG_W,13C-DOCERR
,,,,,,,,,,,METERS,DBAR,ITS-90,PSS-78,,PSS-78,,UMOL/KG,,UMOL/KG,,UMOL/KG,,UMOL/KG,,UMOL/KG,,UMOL/KG,,PMOL/KG,,PMOL/KG,,FMOL/KG,,UMOL/KG,,UMOL/KG,,,,DEG C,TU,,NMOL/KG,,/MILLE,,/MILLE,,/MILLE,NMOL/KG,,NMOL/KG,UMOL/KG,,NMOL/KG,,UMOL/KG,,,,TU,ITS-90,,G/KG,,PERCNT,,PERCNT,NMOL/KG,UMOL/KG,NMOL/KG,,NMOL/KG,NMOL/KG,,NMOL/KG,/MILLE,,/MILLE,/MILLE,,/MILLE
33RO20150525,     P16N.2,     196,          2,         24,         24,2,20150620,       2234,    54.9505,  -145.8936,       4101,     2.9,  11.0115,  32.5816,2,  32.5779,2,    281.4,2,   285.9,2,   26.62,2,   13.11,2,    0.17,2,    1.28,2,   3.628,6,   2.083,6,   2.438,6,  2032.5,6,  2197.7,2,   7.8023,2,    24.99,-999.000,9,-999.0000,9,    1.17,2,   -36.9,2,     2.1,-999.0000,9,-999.0000,    58.6,2,     10.954,3,-999.000,9, 20150621,     0022,-999.000,   11.018,2,    32.7315,2,     -999.0,9,     -999.0,-999.0000,     -999.0,     -999.0,9,     -999.0,     -999.0,9,     -999.0,  -999.0,9,     -999.0,     -999.0,9,     -999.0
33RO20150525,     P16N.2,     196,          2,         23,         23,2,20150620,       2234,    54.9505,  -145.8936,       4101,    25.3,   9.1166,   32.596,2,   32.593,2,    302.3,2,   304.4,2,   29.07,2,    13.9,2,    0.16,2,    1.31,2,   3.976,2,   2.259,2,   2.607,2,  2037.4,2,  2199.4,6,   7.7946,6,    25.02,-999.000,9,-999.0000,9,    1.10,2,   -37.2,2,     2.9,-999.0000,9,-999.0000,    60.2,2,     11.688,3,-999.000,9, 20150621,     0019,-999.000,    9.129,2,    32.7467,2,     -999.0,9,     -999.0,-999.0000,     -999.0,     -999.0,9,     -999.0,     -999.0,9,     -999.0,  -999.0,9,     -999.0,     -999.0,9,     -999.0
33RO20150525,     P16N.2,     196,          2,         22,         22,2,20150620,       2234,    54.9505,  -145.8936,       4101,    50.2,   6.2657,  32.6057,2,  32.6125,2,    301.8,2,   301.5,2,   29.36,2,   16.44,2,    0.16,2,    1.48,2,   4.339,2,   2.443,2,   2.752,2,  2063.2,2,  2198.8,2,   7.7254,2,    25.02,-999.000,9,-999.0000,9,    0.81,2,   -41.0,2,     2.0,-999.0000,9,-999.0000,    55.0,2,     13.068,3,-999.000,9, 20150621,     0017,-999.000,   6.2796,2,    32.7663,2,     -999.0,9,     -999.0,-999.0000,     -999.0,     -999.0,9,     -999.0,     -999.0,9,     -999.0,  -999.0,9,     -999.0,     -999.0,9,     -999.0
33RO20150525,     P16N.2,     196,          2,         21,         21,2,20150620,       2234,    54.9505,  -145.8936,       4101,      75,   5.2502,  32.9082,2,   32.939,2,    243.9,2,   244.9,2,   38.75,2,   23.09,2,     0.2,2,    1.84,2,   4.162,2,   2.306,2,   2.396,2,  2125.4,2,  2218.3,2,    7.604,3,    25.01,-999.000,9,-999.0000,9,    0.35,2,   -44.6,2,     2.1,-999.0000,9,-999.0000,    51.7,2,     18.343,3,-999.000,9, 20150621,     0015,-999.000,   5.2478,2,    33.0943,2,     -999.0,9,     -999.0,-999.0000,     -999.0,     -999.0,9,     -999.0,     -999.0,9,     -999.0,  -999.0,9,     -999.0,     -999.0,9,     -999.0
33RO20150525,     P16N.2,     196,          2,         20,         20,2,20150620,       2234,    54.9505,  -145.8936,       4101,   100.1,   4.0849,  33.4904,2,  33.5132,2,    153.5,2,     151,2,   58.97,2,   33.74,2,    0.02,2,    2.43,2,   3.702,2,   2.004,2,   1.703,2,  2227.6,2,  2259.9,2,   7.4093,2,    25.02,-999.000,9,-999.0000,9,   -0.35,2,   -71.2,2,     2.0,-999.0000,9,-999.0000,    49.9,2,     28.147,3,-999.000,9, 20150621,     0013,-999.000,   4.0835,2,    33.6712,2,     -999.0,9,     -999.0,-999.0000,     -999.0,     -999.0,9,     -999.0,     -999.0,9,     -999.0,  -999.0,9,     -999.0,     -999.0,9,     -999.0
33RO20150525,     P16N.2,     196,          2,         19,         19,2,20150620,       2234,    54.9505,  -145.8936,       4101,     125,   3.8053,  33.6212,2,  33.6267,2,    127.4,2,   126.4,2,   66.11,2,   36.38,2,    0.02,2,    2.58,2,     3.5,2,   1.878,2,    1.47,2,    2252,2,  2269.6,2,    7.355,2,    25.02,-999.000,9,-999.0000,9,   -0.53,2,   -74.8,2,     2.4,-999.0000,9,-999.0000,    48.3,2,     30.687,3,-999.000,9, 20150621,     0011,-999.000,   3.8049,2,    33.7853,2,     -999.0,9,     -999.0,-999.0000,     -999.0,     -999.0,9,     -999.0,     -999.0,9,     -999.0,  -999.0,9,     -999.0,     -999.0,9,     -999.0
33RO20150525,     P16N.2,     196,          2,         18,         18,2,20150620,       2234,    54.9505,  -145.8936,       4101,   175.1,   3.7073,  33.7489,2,  33.7456,2,     92.6,2,    95.8,2,      75,2,   38.82,2,    0.02,2,    2.73,2,   3.068,2,   1.636,2,   1.166,2,  2279.5,2,  2281.8,2,   7.3083,2,    25.02,-999.000,9,-999.0000,9,   -0.71,2,   -87.4,2,     2.1,-999.0000,9,-999.0000,    49.9,2,     33.857,3,-999.000,9, 20150621,     0008,-999.000,   3.7078,2,    33.9047,2,     -999.0,9,     -999.0,-999.0000,     -999.0,     -999.0,9,     -999.0,     -999.0,9,     -999.0,  -999.0,9,     -999.0,     -999.0,9,     -999.0
33RO20150525,     P16N.2,     196,          2,         17,         17,2,20150620,       2234,    54.9505,  -145.8936,       4101,   250.3,   3.6356,  33.8593,2,  33.8557,2,     49.8,2,    49.8,2,   87.41,2,   42.73,2,    0.01,2,    2.97,2,   2.471,2,   1.286,2,   0.831,2,  2315.6,2,  2294.9,2,   7.2373,2,    25.03,-999.000,9,-999.0000,9,   -0.85,2,  -103.2,2,     1.9,-999.0000,9,-999.0000,    43.9,2,     39.525,3,-999.000,9, 20150621,     0006,-999.000,   3.6357,2,    34.0153,2,     -999.0,9,     -999.0,-999.0000,     -999.0,     -999.0,9,     -999.0,     -999.0,9,     -999.0,  -999.0,9,     -999.0,     -999.0,9,     -999.0
33RO20150525,     P16N.2,     196,          2,         16,         16,2,20150620,       2234,    54.9505,  -145.8936,       4101,   325.9,   3.6943,  33.9613,2,  33.9581,2,     28.5,2,    28.9,2,   96.01,2,    43.7,2,    0.01,2,    3.04,2,   1.903,6,   0.968,6,   0.565,6,  2333.1,2,  2306.7,2,   7.2208,2,    25.02,-999.000,9,-999.0000,9,   -0.88,2,  -116.8,2,     2.4,-999.0000,9,-999.0000,    45.8,2,     42.591,3,-999.000,9, 20150621,     0003,-999.000,   3.6943,2,    34.1182,2,     -999.0,9,     -999.0,-999.0000,     -999.0,     -999.0,9,     -999.0,     -999.0,9,     -999.0,  -999.0,9,     -999.0,     -999.0,9,     -999.0
33RO20150525,     P16N.2,     196,          2,         15,         15,2,20150620,       2234,    54.9505,  -145.8936,       4101,   400.4,   3.7042,  34.0336,2,  34.0344,2,     23.4,2,    22.3,2,  102.16,2,    43.8,2,    0.01,2,    3.06,2,   1.488,2,   0.744,2,   0.374,2,  2340.4,2,  2316.4,2,   7.2301,2,    25.01,-999.000,9,-999.0000,9,   -0.85,2,  -130.3,2,     2.3,-999.0000,9,-999.0000,    43.0,2,     44.419,3,-999.000,9, 20150621,     0000,-999.000,   3.7039,2,    34.1949,6,     -999.0,9,     -999.0,-999.0000,     -999.0,     -999.0,9,     -999.0,     -999.0,9,     -999.0,  -999.0,9,     -999.0,     -999.0,9,     -999.0
33RO20150525,     P16N.2,     196,          2,         14,         14,2,20150620,       2234,    54.9505,  -145.8936,       4101,   500.3,   3.6127,  34.1194,2,   34.119,2,     21.3,2,    20.6,2,  110.37,2,    43.5,2,    0.01,2,    3.03,2,   1.065,2,   0.528,2,   0.242,2,  2348.1,2,  2329.6,2,   7.2478,6,    24.99,-999.000,9,-999.0000,9,   -0.79,2,  -147.9,2,     2.3,-999.0000,9,-999.0000,    44.8,2,     44.526,3,-999.000,9, 20150620,     2357,-999.000,   3.6125,2,    34.2799,2,     -999.0,9,     -999.0,-999.0000,     -999.0,     -999.0,9,     -999.0,     -999.0,9,     -999.0,  -999.0,9,     -999.0,     -999.0,9,     -999.0
33RO20150525,     P16N.2,     196,          2,         13,         13,2,20150620,       2234,    54.9505,  -145.8936,       4101,   650.3,   3.4925,  34.2448,2,  34.2439,2,     17.8,2,    16.6,2,  120.52,2,    43.4,2,    0.01,2,    3.05,2,   0.457,2,   0.225,2,    0.11,2,  2358.3,2,    2349,2,   7.2702,6,    25.01,-999.000,9,-999.0000,9,   -0.75,2,  -175.3,2,     2.0,-999.0000,9,-999.0000,    39.2,2,     46.758,3,-999.000,9, 20150620,     2353,-999.000,   3.4908,2,    34.4054,2,     -999.0,9,     -999.0,-999.0000,     -999.0,     -999.0,9,     -999.0,     -999.0,9,     -999.0,  -999.0,9,     -999.0,     -999.0,9,     -999.0
33RO20150525,     P16N.2,     196,          2,         12,         12,2,20150620,       2234,    54.9505,  -145.8936,       4101,   750.2,   3.2512,  34.2913,2,  34.2903,2,     18.2,2,    17.9,2,  127.95,2,    43.3,2,    0.04,2,    3.04,2,    0.34,2,   0.168,2,   0.085,2,  2365.4,2,  2358.3,2,   7.2792,6,    25.01,-999.000,9,-999.0000,9,   -0.73,2,  -178.3,2,     2.0,-999.0000,9,-999.0000,    42.6,2,     46.352,3,-999.000,9, 20150620,     2349,-999.000,   3.2517,2,     34.452,2,     -999.0,9,     -999.0,-999.0000,     -999.0,     -999.0,9,     -999.0,     -999.0,9,     -999.0,  -999.0,9,     -999.0,     -999.0,9,     -999.0
33RO20150525,     P16N.2,     196,          2,         11,         11,2,20150620,       2234,    54.9505,  -145.8936,       4101,   899.6,   3.0302,  34.3457,2,   34.346,2,     17.9,2,    17.7,2,  135.47,2,   43.49,2,    0.01,2,    3.06,2,   0.198,2,   0.097,2,   0.063,2,  2374.1,2,  2368.8,2,   7.2871,6,    25.01,-999.000,9,-999.0000,9,   -0.65,2,  -196.8,2,     1.9,-999.0000,9,-999.0000,    39.7,2,     45.930,3,-999.000,9, 20150620,     2345,-999.000,   3.0291,2,     34.508,2,     -999.0,9,     -999.0,-999.0000,     -999.0,     -999.0,9,     -999.0,     -999.0,9,     -999.0,  -999.0,9,     -999.0,     -999.0,9,     -999.0
33RO20150525,     P16N.2,     196,          2,         10,         10,2,20150620,       2234,    54.9505,  -145.8936,       4101,  1099.5,   2.7542,  34.4093,2,  34.4285,2,     18.3,2,    17.8,2,  144.45,2,   43.59,2,    0.01,2,    3.05,2,   0.085,2,   0.041,2,       0,2,  2383.6,2,  2381.8,2,   7.2935,2,    25.01,-999.000,9,-999.0000,9,   -0.85,2,  -206.5,2,     2.1,-999.0000,9,-999.0000,    40.5,2,     45.941,3,-999.000,9, 20150620,     2341,-999.000,   2.7538,2,    34.5908,2,     -999.0,9,     -999.0,-999.0000,     -999.0,     -999.0,9,     -999.0,     -999.0,9,     -999.0,  -999.0,9,     -999.0,     -999.0,9,     -999.0
33RO20150525,     P16N.2,     196,          2,          9,          9,2,20150620,       2234,    54.9505,  -145.8936,       4101,  1299.5,   2.5177,  34.4626,2,   34.463,2,     19.8,2,      20,2,  151.97,2,   43.69,2,    0.01,2,    3.05,2,   0.036,2,   0.018,2,       0,2,  2388.6,6,  2391.7,2,   7.3027,2,    25.03,-999.000,9,-999.0000,9,   -0.84,2,  -220.9,2,     2.0,-999.0000,9,-999.0000,    41.0,2,     44.404,3,-999.000,9, 20150620,     2336,-999.000,   2.5181,2,    34.6255,2,     -999.0,9,     -999.0,-999.0000,     -999.0,     -999.0,9,     -999.0,     -999.0,9,     -999.0,  -999.0,9,     -999.0,     -999.0,9,     -999.0
33RO20150525,     P16N.2,     196,          2,          8,          8,2,20150620,       2234,    54.9505,  -145.8936,       4101,  1599.9,   2.2245,  34.5239,2,  34.5216,2,     32.1,2,    34.6,2,  159.49,2,      43,2,    0.01,2,    2.99,2,-999.000,9,-999.000,9,-999.000,9,  2390.2,2,  2402.9,2,   7.3336,2,       25,-999.000,9,-999.0000,9,   -0.78,2,  -231.1,2,     1.9,-999.0000,9,-999.0000,    38.1,2,     -999.0,9,-999.000,9, 20150620,     2329,-999.000,    2.225,2,    34.6844,2,     -999.0,9,     -999.0,-999.0000,     -999.0,     -999.0,9,     -999.0,     -999.0,9,     -999.0,  -999.0,9,     -999.0,     -999.0,9,     -999.0
33RO20150525,     P16N.2,     196,          2,          7,          7,2,20150620,       2234,    54.9505,  -145.8936,       4101,  1900.1,   1.9769,  34.5748,2,  34.5723,2,     50.7,2,    51.5,2,  164.57,2,   41.92,2,    0.01,2,    2.91,2,   0.004,2,   0.002,2,       0,2,  2384.7,2,  2412.6,2,   7.3744,2,    25.01,-999.000,9,-999.0000,9,   -0.67,2,  -233.4,2,     2.0,-999.0000,9,-999.0000,    38.4,2,     35.457,3,-999.000,9, 20150620,     2323,-999.000,   1.9774,2,    34.7353,2,     -999.0,9,     -999.0,-999.0000,     -999.0,     -999.0,9,     -999.0,     -999.0,9,     -999.0,  -999.0,9,     -999.0,     -999.0,9,     -999.0
33RO20150525,     P16N.2,     196,          2,          6,          6,2,20150620,       2234,    54.9505,  -145.8936,       4101,  2399.8,   1.7352,  34.6238,2,  34.6224,2,     78.9,2,    78.5,2,  167.59,2,   40.16,2,    0.01,2,    2.78,2,-999.000,9,-999.000,9,-999.000,9,  2372.4,2,  2419.7,2,   7.4348,2,    25.01,-999.000,9,-999.0000,9,   -0.52,2,  -236.2,2,     2.1,-999.0000,9,-999.0000,    39.3,2,     -999.0,9,-999.000,9, 20150620,     2313,-999.000,   1.7359,2,    34.7856,2,     -999.0,9,     -999.0,-999.0000,     -999.0,     -999.0,9,     -999.0,     -999.0,9,     -999.0,  -999.0,9,     -999.0,     -999.0,9,     -999.0
33RO20150525,     P16N.2,     196,          2,          5,          5,2,20150620,       2234,    54.9505,  -145.8936,       4101,  2800.2,   1.6212,  34.6469,2,  34.6448,2,     98.5,2,    98.7,2,   166.9,2,   38.89,2,    0.01,2,    2.69,2,   0.004,2,   0.002,2,       0,2,  2360.3,2,  2422.2,2,   7.4751,2,    25.02,-999.000,9,-999.0000,9,   -0.38,2,  -229.8,2,     2.2,-999.0000,9,-999.0000,    37.0,2,     26.496,3,-999.000,9, 20150620,     2305,-999.000,   1.6213,2,    34.8082,2,     -999.0,9,     -999.0,-999.0000,     -999.0,     -999.0,9,     -999.0,     -999.0,9,     -999.0,  -999.0,9,     -999.0,     -999.0,9,     -999.0
33RO20150525,     P16N.2,     196,          2,          4,          4,2,20150620,       2234,    54.9505,  -145.8936,       4101,  3233.2,   1.5276,  34.6656,2,  34.6639,2,    119.3,2,     119,2,  163.09,6,   37.72,6,       0,6,     2.6,6,-999.000,9,-999.000,9,-999.000,9,    2349,2,  2422.6,2,   7.5146,6,       25,-999.000,9,-999.0000,9,   -0.34,2,  -231.7,2,     2.3,-999.0000,9,-999.0000,    38.5,2,     -999.0,9,-999.000,9, 20150620,     2256,-999.000,   1.5276,2,    34.8273,2,     -999.0,9,     -999.0,-999.0000,     -999.0,     -999.0,9,     -999.0,     -999.0,9,     -999.0,  -999.0,9,     -999.0,     -999.0,9,     -999.0
33RO20150525,     P16N.2,     196,          2,          3,          3,2,20150620,       2234,    54.9505,  -145.8936,       4101,  3499.8,   1.4966,  34.6733,2,  34.6734,2,    128.5,2,   127.8,2,  161.43,6,   37.03,6,    0.01,6,    2.55,6,   0.004,2,   0.002,2,       0,2,  2341.3,2,  2423.1,2,   7.5326,6,    25.02,-999.000,9,-999.0000,9,   -0.23,2,  -230.4,2,     2.1,-999.0000,9,-999.0000,    38.3,2,     22.831,3,-999.000,9, 20150620,     2250,-999.000,   1.4966,2,    34.8369,2,     -999.0,9,     -999.0,-999.0000,     -999.0,     -999.0,9,     -999.0,     -999.0,9,     -999.0,  -999.0,9,     -999.0,     -999.0,9,     -999.0
33RO20150525,     P16N.2,     196,          2,          2,          2,2,20150620,       2234,    54.9505,  -145.8936,       4101,  3848.4,   1.4793,  34.6802,2,  34.6997,4,    137.2,2,     137,2,  159.18,6,   36.45,6,    0.01,6,    2.51,6,-999.000,9,-999.000,9,-999.000,9,  2336.7,2,  2422.2,6,   7.5485,2,    25.01,-999.000,9,-999.0000,9,   -0.17,2,  -211.3,2,     2.3,-999.0000,9,-999.0000,    39.0,2,     -999.0,9,-999.000,9, 20150620,     2242,-999.000,   1.4794,2,    34.8633,2,     -999.0,9,     -999.0,-999.0000,     -999.0,     -999.0,9,     -999.0,     -999.0,9,     -999.0,  -999.0,9,     -999.0,     -999.0,9,     -999.0
33RO20150525,     P16N.2,     196,          2,          1,          1,2,20150620,       2234,    54.9505,  -145.8936,       4101,  4161.6,    1.474,  34.6855,2,  34.6842,2,    145.6,2,     144,2,  157.32,6,   35.96,6,    0.01,6,    2.48,6,   0.004,2,   0.001,2,       0,2,  2330.4,6,  2423.3,2,   7.5598,2,    25.02,-999.000,9,-999.0000,9,   -0.14,2,  -215.8,2,     2.9,-999.0000,9,-999.0000,    38.0,2,     21.292,3,-999.000,9, 20150620,     2235,-999.000,   1.4739,2,    34.8478,2,     -999.0,9,     -999.0,-999.0000,     -999.0,     -999.0,9,     -999.0,     -999.0,9,     -999.0,  -999.0,9,     -999.0,     -999.0,9,     -999.0