BOTTLE,20220330CCHSIOCBG
EXPOCODE,SECT_ID,STNNBR,CASTNO,SAMPNO,BTLNBR,BTLNBR_FLAG_W,DATE,TIME,LATITUDE,LONGITUDE,DEPTH,CTDPRS,CTDTMP,CTDSAL,CTDSAL_FLAG_W,SALNTY,SALNTY_FLAG_W,CTDOXY,CTDOXY_FLAG_W,OXYGEN,OXYGEN_FLAG_W,SILCAT,SILCAT_FLAG_W,NITRAT,NITRAT_FLAG_W,NITRIT,NITRIT_FLAG_W,PHSPHT,PHSPHT_FLAG_W,CFC-11,CFC-11_FLAG_W,CFC-12,CFC-12_FLAG_W,SF6,SF6_FLAG_W,TCARBN,TCARBN_FLAG_W,ALKALI,ALKALI_FLAG_W,PH_TOT,PH_TOT_FLAG_W,PH_TMP,TRITUM,TRITUM_FLAG_W,HELIUM,HELIUM_FLAG_W,DELC13,DELC13_FLAG_W,DELC14,DELC14_FLAG_W,C14ERR,NEON,NEON_FLAG_W,NEONER,DOC,DOC_FLAG_W,N2O,N2O_FLAG_W,ARGON,ARGON_FLAG_W,BTL_DATE,BTL_TIME,TRITER,SBE35,SBE35_FLAG_W,SALTREF,SALTREF_FLAG_W,DELHE3,DELHE3_FLAG_W,DELHER,HELIER,ARGONER,KRYPTON,KRYPTON_FLAG_W,KRYPTONER,XENON,XENON_FLAG_W,XENONER,14C-DOC,14C-DOC_FLAG_W,14C-DOCERR,13C-DOC,13C-DOC_FLAG_W,13C-DOCERR
,,,,,,,,,,,METERS,DBAR,ITS-90,PSS-78,,PSS-78,,UMOL/KG,,UMOL/KG,,UMOL/KG,,UMOL/KG,,UMOL/KG,,UMOL/KG,,PMOL/KG,,PMOL/KG,,FMOL/KG,,UMOL/KG,,UMOL/KG,,,,DEG C,TU,,NMOL/KG,,/MILLE,,/MILLE,,/MILLE,NMOL/KG,,NMOL/KG,UMOL/KG,,NMOL/KG,,UMOL/KG,,,,TU,ITS-90,,G/KG,,PERCNT,,PERCNT,NMOL/KG,UMOL/KG,NMOL/KG,,NMOL/KG,NMOL/KG,,NMOL/KG,/MILLE,,/MILLE,/MILLE,,/MILLE
33RO20150525,     P16N.2,     176,          2,         24,         24,2,20150615,       2334,    53.9994,  -152.0002,       4622,     2.8,   9.4535,  32.3962,2,  32.4043,2,    295.7,2,   299.8,2,   20.07,2,    8.52,2,    0.14,2,    1.04,2,   3.913,6,   2.203,6,   2.597,6,  2012.6,6,  2185.3,2,    7.835,2,    25.01,   0.549,2,   1.8167,2, -999.00,9,  -999.0,9,  -999.0,   7.7366,2,   0.0193,  -999.0,9,     11.493,3,-999.000,9, 20150616,     0127,   0.004,   9.4583,2,    32.5571,2,      -1.69,2,       0.20,   0.0047,     -999.0,     -999.0,9,     -999.0,     -999.0,9,     -999.0,  -999.0,9,     -999.0,     -999.0,9,     -999.0
33RO20150525,     P16N.2,     176,          2,         23,         23,2,20150615,       2334,    53.9994,  -152.0002,       4622,    25.2,   8.8835,  32.4224,2,  32.4286,2,    298.5,2,   300.9,2,   22.62,2,    9.79,2,    0.15,2,    1.13,2,   3.979,2,   2.232,2,   2.604,2,  2019.7,2,  2184.1,6,    7.823,2,    24.99,-999.000,9,-999.0000,9, -999.00,9,  -999.0,9,  -999.0,-999.0000,9,-999.0000,  -999.0,9,     11.727,3,-999.000,9, 20150616,     0125,-999.000,   8.8822,2,    32.5815,2,     -999.0,9,     -999.0,-999.0000,     -999.0,     -999.0,9,     -999.0,     -999.0,9,     -999.0,  -999.0,9,     -999.0,     -999.0,9,     -999.0
33RO20150525,     P16N.2,     176,          2,         22,         22,2,20150615,       2334,    53.9994,  -152.0002,       4622,    49.9,   5.9671,   32.529,2,  32.5405,2,    303.2,2,   299.6,2,   29.56,2,   15.96,2,    0.18,2,     1.5,2,   4.426,2,   2.461,2,   2.796,2,  2066.6,2,  2191.2,2,   7.7129,6,    25.01,   0.554,2,-999.0000,9, -999.00,9,  -999.0,9,  -999.0,-999.0000,9,-999.0000,  -999.0,9,     13.050,3,-999.000,9, 20150616,     0123,   0.003,   5.9607,2,    32.6939,2,     -999.0,9,     -999.0,-999.0000,     -999.0,     -999.0,9,     -999.0,     -999.0,9,     -999.0,  -999.0,9,     -999.0,     -999.0,9,     -999.0
33RO20150525,     P16N.2,     176,          2,         21,         21,2,20150615,       2334,    53.9994,  -152.0002,       4622,    74.7,   4.5621,  33.2079,2,  33.2349,2,    158.8,2,   169.4,2,   53.32,2,   31.31,2,    0.04,2,    2.32,2,   3.728,2,   2.018,2,   1.874,2,    2199,2,  2241.1,2,   7.4463,6,    24.96,-999.000,9,-999.0000,9, -999.00,9,  -999.0,9,  -999.0,-999.0000,9,-999.0000,  -999.0,9,     26.201,3,-999.000,9, 20150616,     0121,-999.000,   4.5565,2,    33.3916,2,     -999.0,9,     -999.0,-999.0000,     -999.0,     -999.0,9,     -999.0,     -999.0,9,     -999.0,  -999.0,9,     -999.0,     -999.0,9,     -999.0
33RO20150525,     P16N.2,     176,          2,         20,         20,2,20150615,       2334,    53.9994,  -152.0002,       4622,    99.8,   4.0888,  33.5795,2,  33.5914,2,    102.4,2,   100.6,2,    67.4,2,   38.34,2,    0.02,2,    2.73,2,   3.296,2,   1.741,2,   1.338,2,  2266.9,2,  2267.5,2,   7.3123,6,    24.96,   0.335,2,-999.0000,9, -999.00,9,  -999.0,9,  -999.0,-999.0000,9,-999.0000,  -999.0,9,     33.873,3,-999.000,9, 20150616,     0119,   0.004,   4.0859,2,    33.7498,2,     -999.0,9,     -999.0,-999.0000,     -999.0,     -999.0,9,     -999.0,     -999.0,9,     -999.0,  -999.0,9,     -999.0,     -999.0,9,     -999.0
33RO20150525,     P16N.2,     176,          2,         19,         19,2,20150615,       2334,    53.9994,  -152.0002,       4622,   150.5,   3.9317,  33.8496,2,  33.8579,2,     42.3,2,    39.2,2,   83.52,2,   43.52,2,    0.02,2,    3.04,2,   2.451,2,   1.244,2,   0.754,2,  2318.3,2,  2290.7,2,   7.2217,2,    24.97,   0.274,2,-999.0000,9, -999.00,9,  -999.0,9,  -999.0,-999.0000,9,-999.0000,  -999.0,9,     41.721,3,-999.000,9, 20150616,     0117,   0.003,   3.9314,2,    34.0176,2,     -999.0,9,     -999.0,-999.0000,     -999.0,     -999.0,9,     -999.0,     -999.0,9,     -999.0,  -999.0,9,     -999.0,     -999.0,9,     -999.0
33RO20150525,     P16N.2,     176,          2,         18,         18,2,20150615,       2334,    53.9994,  -152.0002,       4622,   224.6,   3.9077,  33.9669,2,  33.9744,2,     21.9,2,    20.1,2,   93.19,2,   44.59,2,    0.01,2,     3.1,2,   1.878,2,   0.934,2,   0.468,2,  2336.8,2,  2304.7,2,   7.2107,2,    24.92,   0.231,6,   1.8613,2, -999.00,9,  -999.0,9,  -999.0,   8.0283,2,   0.0201,  -999.0,9,     44.581,3,-999.000,9, 20150616,     0113,   0.002,   3.9077,2,    34.1346,2,      14.46,2,       0.20,   0.0048,     -999.0,     -999.0,9,     -999.0,     -999.0,9,     -999.0,  -999.0,9,     -999.0,     -999.0,9,     -999.0
33RO20150525,     P16N.2,     176,          2,         17,         17,2,20150615,       2334,    53.9994,  -152.0002,       4622,     300,   3.8883,  34.0453,2,  34.0522,2,     18.6,2,    16.9,2,   99.45,2,   44.39,2,    0.01,2,     3.1,2,   1.412,2,   0.692,2,   0.375,2,  2341.5,2,  2316.6,2,   7.2263,2,    24.99,   0.217,2,   1.8696,2, -999.00,9,  -999.0,9,  -999.0,   8.0553,2,   0.0201,  -999.0,9,     45.229,3,-999.000,9, 20150616,     0111,   0.003,   3.8881,2,    34.2128,2,      15.63,2,       0.20,   0.0049,     -999.0,     -999.0,9,     -999.0,     -999.0,9,     -999.0,  -999.0,9,     -999.0,     -999.0,9,     -999.0
33RO20150525,     P16N.2,     176,          2,         16,         16,2,20150615,       2334,    53.9994,  -152.0002,       4622,   399.7,   3.7493,   34.143,2,  34.1506,2,     15.9,2,    15.2,2,  109.32,2,    44.1,2,    0.01,2,    3.07,2,   0.876,6,   0.423,6,   0.203,6,  2348.9,2,  2331.6,2,   7.2479,2,    24.96,   0.147,2,-999.0000,9, -999.00,9,  -999.0,9,  -999.0,-999.0000,9,-999.0000,  -999.0,9,     46.540,3,-999.000,9, 20150616,     0107,   0.002,   3.7493,2,    34.3116,2,     -999.0,9,     -999.0,-999.0000,     -999.0,     -999.0,9,     -999.0,     -999.0,9,     -999.0,  -999.0,9,     -999.0,     -999.0,9,     -999.0
33RO20150525,     P16N.2,     176,          2,         15,         15,2,20150615,       2334,    53.9994,  -152.0002,       4622,     500,   3.5736,  34.2164,2,  34.2237,2,     13.8,2,    12.9,2,  117.62,2,      44,2,    0.01,2,    3.09,2,   0.518,2,   0.251,2,   0.067,2,  2358.6,2,  2346.1,2,     7.26,2,    24.96,   0.104,2,   1.8895,2, -999.00,9,  -999.0,9,  -999.0,   8.0757,2,   0.0202,  -999.0,9,     47.788,3,-999.000,9, 20150616,     0104,   0.003,   3.5732,2,    34.3851,2,      16.95,2,       0.20,   0.0049,     -999.0,     -999.0,9,     -999.0,     -999.0,9,     -999.0,  -999.0,9,     -999.0,     -999.0,9,     -999.0
33RO20150525,     P16N.2,     176,          2,         14,         14,2,20150615,       2334,    53.9994,  -152.0002,       4622,   650.1,   3.3215,  34.2837,2,  34.2876,2,       13,2,    12.7,2,  126.51,2,   44.19,2,       0,2,     3.1,2,   0.291,2,   0.141,2,   0.078,2,  2369.3,2,  2358.7,2,   7.2695,2,    24.98,   0.069,2,   1.9789,3, -999.00,9,  -999.0,9,  -999.0,   8.3912,3,   0.0210,  -999.0,9,     48.325,3,-999.000,9, 20150616,     0100,   0.002,    3.321,2,    34.4492,6,      16.92,3,       0.20,   0.0051,     -999.0,     -999.0,9,     -999.0,     -999.0,9,     -999.0,  -999.0,9,     -999.0,     -999.0,9,     -999.0
33RO20150525,     P16N.2,     176,          2,         13,         13,2,20150615,       2334,    53.9994,  -152.0002,       4622,     800,   3.0226,   34.353,2,  34.3564,2,     13.4,2,    12.8,2,  136.38,2,   44.29,2,       0,2,     3.1,2,   0.139,2,   0.066,2,       0,2,    2380,2,  2372.5,2,     7.28,2,    24.98,   0.040,2,   1.9181,2, -999.00,9,  -999.0,9,  -999.0,   8.1727,2,   0.0204,  -999.0,9,     47.921,3,-999.000,9, 20150616,     0056,   0.002,   3.0228,2,    34.5184,2,      17.50,2,       0.20,   0.0050,     -999.0,     -999.0,9,     -999.0,     -999.0,9,     -999.0,  -999.0,9,     -999.0,     -999.0,9,     -999.0
33RO20150525,     P16N.2,     176,          2,         12,         12,2,20150615,       2334,    53.9994,  -152.0002,       4622,   949.9,   2.7963,  34.3991,2,   34.406,2,     14.8,2,    15.3,2,   143.9,2,   44.28,2,       0,2,     3.1,2,   0.077,2,   0.037,2,       0,2,  2386.9,2,  2381.8,2,   7.2894,2,    24.95,   0.021,2,   1.8901,2, -999.00,9,  -999.0,9,  -999.0,   8.0607,2,   0.0202,  -999.0,9,     46.951,3,-999.000,9, 20150616,     0052,   0.002,   2.7932,2,    34.5683,2,      17.73,2,       0.20,   0.0049,     -999.0,     -999.0,9,     -999.0,     -999.0,9,     -999.0,  -999.0,9,     -999.0,     -999.0,9,     -999.0
33RO20150525,     P16N.2,     176,          2,         11,         11,2,20150615,       2334,    53.9994,  -152.0002,       4622,  1100.2,   2.5996,  34.4382,2,  34.4453,2,       18,2,    25.8,4,  149.86,2,   44.97,3,       0,2,     3.1,2,   0.063,2,   0.031,2,       0,2,  2389.6,6,  2388.1,2,   7.2999,2,    24.98,   0.013,2,   1.8999,2, -999.00,9,  -999.0,9,  -999.0,   8.0981,2,   0.0202,  -999.0,9,     45.411,3,-999.000,9, 20150616,     0048,   0.002,   2.5995,2,    34.6077,2,      17.87,2,       0.20,   0.0049,     -999.0,     -999.0,9,     -999.0,     -999.0,9,     -999.0,  -999.0,9,     -999.0,     -999.0,9,     -999.0
33RO20150525,     P16N.2,     176,          2,         10,         10,2,20150615,       2334,    53.9994,  -152.0002,       4622,  1300.4,   2.3623,  34.4867,2,  34.4896,2,     25.7,2,    25.8,2,   156.4,2,   43.79,2,       0,2,    3.05,2,    0.03,2,   0.014,2,       0,2,  2393.3,2,  2398.4,2,   7.3183,6,    25.01,   0.005,2,   1.8995,2, -999.00,9,  -999.0,9,  -999.0,   8.0865,2,   0.0202,  -999.0,9,     42.748,3,-999.000,9, 20150616,     0043,   0.001,   2.3632,2,    34.6523,2,      18.16,2,       0.20,   0.0049,     -999.0,     -999.0,9,     -999.0,     -999.0,9,     -999.0,  -999.0,9,     -999.0,     -999.0,9,     -999.0
33RO20150525,     P16N.2,     176,          2,          9,          9,2,20150615,       2334,    53.9994,  -152.0002,       4622,  1599.5,   2.1176,  34.5403,2,  34.5503,2,     38.4,2,    39.3,2,  162.36,2,   43.11,2,       0,2,       3,2,   0.009,2,   0.005,2,       0,2,  2391.6,2,  2407.2,2,   7.3496,2,    24.98,   0.005,2,   1.8977,2, -999.00,9,  -999.0,9,  -999.0,   8.1024,2,   0.0203,  -999.0,9,     38.842,3,-999.000,9, 20150616,     0036,   0.002,    2.118,2,    34.7133,2,      19.15,2,       0.20,   0.0049,     -999.0,     -999.0,9,     -999.0,     -999.0,9,     -999.0,  -999.0,9,     -999.0,     -999.0,9,     -999.0
33RO20150525,     P16N.2,     176,          2,          8,          8,2,20150615,       2334,    53.9994,  -152.0002,       4622,  1999.1,   1.8668,  34.5925,2,  34.5979,2,     60.2,2,    61.8,2,  166.17,2,   41.74,2,       0,2,    2.89,2,   0.002,2,   0.001,2,       0,2,  2384.3,2,  2414.6,2,   7.3988,2,    25.01,   0.001,2,-999.0000,9, -999.00,9,  -999.0,9,  -999.0,-999.0000,9,-999.0000,  -999.0,9,     33.455,3,-999.000,9, 20150616,     0028,   0.001,   1.8666,2,     34.761,2,     -999.0,9,     -999.0,-999.0000,     -999.0,     -999.0,9,     -999.0,     -999.0,9,     -999.0,  -999.0,9,     -999.0,     -999.0,9,     -999.0
33RO20150525,     P16N.2,     176,          2,          7,          7,2,20150615,       2334,    53.9994,  -152.0002,       4622,  2400.2,   1.7053,  34.6242,2,  34.6273,2,     81.7,2,    83.1,2,  166.85,2,   40.27,2,       0,2,     2.8,2,   0.002,2,   0.001,2,       0,2,  2373.4,2,  2416.2,2,   7.4439,2,    24.99,-999.000,9,-999.0000,9, -999.00,9,  -999.0,9,  -999.0,-999.0000,9,-999.0000,  -999.0,9,     28.996,3,-999.000,9, 20150616,     0020,-999.000,   1.7052,2,    34.7906,2,     -999.0,9,     -999.0,-999.0000,     -999.0,     -999.0,9,     -999.0,     -999.0,9,     -999.0,  -999.0,9,     -999.0,     -999.0,9,     -999.0
33RO20150525,     P16N.2,     176,          2,          6,          6,2,20150615,       2334,    53.9994,  -152.0002,       4622,  2800.8,   1.6073,  34.6443,2,  34.6497,2,    100.3,2,   101.2,2,  164.79,2,   39.19,2,       0,2,    2.72,2,       0,2,       0,2,       0,2,  2362.6,2,  2418.2,2,   7.4789,6,       25,-999.000,9,-999.0000,9, -999.00,9,  -999.0,9,  -999.0,-999.0000,9,-999.0000,  -999.0,9,     26.203,3,-999.000,9, 20150616,     0012,-999.000,   1.6075,2,    34.8131,2,     -999.0,9,     -999.0,-999.0000,     -999.0,     -999.0,9,     -999.0,     -999.0,9,     -999.0,  -999.0,9,     -999.0,     -999.0,9,     -999.0
33RO20150525,     P16N.2,     176,          2,          5,          5,2,20150615,       2334,    53.9994,  -152.0002,       4622,  3599.8,   1.4944,  34.6699,2,  34.6747,2,    130.3,2,   130.2,2,  161.27,2,   37.24,2,       0,2,    2.57,2,   0.001,2,   0.001,2,       0,2,    2343,2,  2420.6,2,   7.5366,2,    25.01,-999.000,9,-999.0000,9, -999.00,9,  -999.0,9,  -999.0,-999.0000,9,-999.0000,  -999.0,9,     22.538,3,-999.000,9, 20150615,     2358,-999.000,   1.4945,2,    34.8382,6,     -999.0,9,     -999.0,-999.0000,     -999.0,     -999.0,9,     -999.0,     -999.0,9,     -999.0,  -999.0,9,     -999.0,     -999.0,9,     -999.0
33RO20150525,     P16N.2,     176,          2,          4,          4,2,20150615,       2334,    53.9994,  -152.0002,       4622,  3599.8,   1.4941,  34.6698,2,  34.6767,2,    130.3,2,   130.7,2,  161.27,2,   37.14,6,       0,6,    2.57,6,   0.001,2,   0.002,2,       0,2,  2343.1,2,  2419.2,2,   7.5372,2,    24.99,-999.000,9,-999.0000,9, -999.00,9,  -999.0,9,  -999.0,-999.0000,9,-999.0000,  -999.0,9,     22.544,3,-999.000,9, 20150615,     2356,-999.000,   1.4942,2,    34.8402,2,     -999.0,9,     -999.0,-999.0000,     -999.0,     -999.0,9,     -999.0,     -999.0,9,     -999.0,  -999.0,9,     -999.0,     -999.0,9,     -999.0
33RO20150525,     P16N.2,     176,          2,          3,          3,2,20150615,       2334,    53.9994,  -152.0002,       4622,  3999.4,   1.4943,   34.675,2,  34.6804,2,    137.5,2,   137.2,2,  160.78,2,   36.65,6,       0,6,    2.54,6,   0.001,2,   0.002,2,       0,2,  2339.2,2,  2422.8,6,   7.5506,2,    25.02,-999.000,9,-999.0000,9, -999.00,9,  -999.0,9,  -999.0,-999.0000,9,-999.0000,  -999.0,9,     21.838,3,-999.000,9, 20150615,     2348,-999.000,   1.4942,2,    34.8439,2,     -999.0,9,     -999.0,-999.0000,     -999.0,     -999.0,9,     -999.0,     -999.0,9,     -999.0,  -999.0,9,     -999.0,     -999.0,9,     -999.0
33RO20150525,     P16N.2,     176,          2,          2,          2,2,20150615,       2334,    53.9994,  -152.0002,       4622,  4400.2,   1.5131,   34.678,2,  34.6847,2,      142,2,   141.7,2,   159.9,2,   36.36,6,       0,6,    2.51,6,   0.002,2,   0.001,2,       0,2,  2336.8,2,  2422.4,2,   7.5584,6,    24.99,-999.000,9,-999.0000,9, -999.00,9,  -999.0,9,  -999.0,-999.0000,9,-999.0000,  -999.0,9,     21.400,3,-999.000,9, 20150615,     2340,-999.000,   1.5135,2,    34.8483,2,     -999.0,9,     -999.0,-999.0000,     -999.0,     -999.0,9,     -999.0,     -999.0,9,     -999.0,  -999.0,9,     -999.0,     -999.0,9,     -999.0
33RO20150525,     P16N.2,     176,          2,          1,          1,2,20150615,       2334,    53.9994,  -152.0002,       4622,  4698.7,   1.5346,   34.686,2,  34.6839,2,    144.7,2,   146.4,2,  159.51,2,   36.16,6,    0.01,6,    2.51,6,   0.002,6,   0.002,6,       0,6,    2335,6,  2421.2,2,    7.563,2,    24.99,-999.000,9,-999.0000,9, -999.00,9,  -999.0,9,  -999.0,-999.0000,9,-999.0000,  -999.0,9,     21.212,3,-999.000,9, 20150615,     2333,-999.000,   1.5345,2,    34.8475,2,     -999.0,9,     -999.0,-999.0000,     -999.0,     -999.0,9,     -999.0,     -999.0,9,     -999.0,  -999.0,9,     -999.0,     -999.0,9,     -999.0