BOTTLE,20220330CCHSIOCBG
EXPOCODE,SECT_ID,STNNBR,CASTNO,SAMPNO,BTLNBR,BTLNBR_FLAG_W,DATE,TIME,LATITUDE,LONGITUDE,DEPTH,CTDPRS,CTDTMP,CTDSAL,CTDSAL_FLAG_W,SALNTY,SALNTY_FLAG_W,CTDOXY,CTDOXY_FLAG_W,OXYGEN,OXYGEN_FLAG_W,SILCAT,SILCAT_FLAG_W,NITRAT,NITRAT_FLAG_W,NITRIT,NITRIT_FLAG_W,PHSPHT,PHSPHT_FLAG_W,CFC-11,CFC-11_FLAG_W,CFC-12,CFC-12_FLAG_W,SF6,SF6_FLAG_W,TCARBN,TCARBN_FLAG_W,ALKALI,ALKALI_FLAG_W,PH_TOT,PH_TOT_FLAG_W,PH_TMP,TRITUM,TRITUM_FLAG_W,HELIUM,HELIUM_FLAG_W,DELC13,DELC13_FLAG_W,DELC14,DELC14_FLAG_W,C14ERR,NEON,NEON_FLAG_W,NEONER,DOC,DOC_FLAG_W,N2O,N2O_FLAG_W,ARGON,ARGON_FLAG_W,BTL_DATE,BTL_TIME,TRITER,SBE35,SBE35_FLAG_W,SALTREF,SALTREF_FLAG_W,DELHE3,DELHE3_FLAG_W,DELHER,HELIER,ARGONER,KRYPTON,KRYPTON_FLAG_W,KRYPTONER,XENON,XENON_FLAG_W,XENONER,14C-DOC,14C-DOC_FLAG_W,14C-DOCERR,13C-DOC,13C-DOC_FLAG_W,13C-DOCERR
,,,,,,,,,,,METERS,DBAR,ITS-90,PSS-78,,PSS-78,,UMOL/KG,,UMOL/KG,,UMOL/KG,,UMOL/KG,,UMOL/KG,,UMOL/KG,,PMOL/KG,,PMOL/KG,,FMOL/KG,,UMOL/KG,,UMOL/KG,,,,DEG C,TU,,NMOL/KG,,/MILLE,,/MILLE,,/MILLE,NMOL/KG,,NMOL/KG,UMOL/KG,,NMOL/KG,,UMOL/KG,,,,TU,ITS-90,,G/KG,,PERCNT,,PERCNT,NMOL/KG,UMOL/KG,NMOL/KG,,NMOL/KG,NMOL/KG,,NMOL/KG,/MILLE,,/MILLE,/MILLE,,/MILLE
33RO20150525,     P16N.2,     180,          2,         24,         24,2,20150616,       2349,    55.4502,    -152.59,       5171,     3.2,    10.56,  32.4623,2,  32.4683,2,    293.3,2,   292.2,2,   22.13,2,   10.48,2,    0.15,2,    1.13,2,   3.763,2,   2.139,2,   2.539,2,  2020.8,6,  2187.9,6,   7.8197,2,    25.02,-999.000,9,-999.0000,9, -999.00,9,  -999.0,9,  -999.0,-999.0000,9,-999.0000,    42.6,2,     11.236,3,-999.000,9, 20150617,     0154,-999.000,  10.6599,2,    32.6214,2,     -999.0,9,     -999.0,-999.0000,     -999.0,     -999.0,9,     -999.0,     -999.0,9,     -999.0,  -999.0,9,     -999.0,     -999.0,9,     -999.0
33RO20150525,     P16N.2,     180,          2,         23,         23,2,20150616,       2349,    55.4502,    -152.59,       5171,    33.3,   7.0572,  32.5029,2,  32.5128,2,    312.7,2,   310.1,2,   27.61,2,    14.1,2,    0.14,2,    1.35,2,-999.000,9,-999.000,9,-999.000,9,  2045.9,2,  2190.7,2,   7.7581,6,    25.03,-999.000,9,-999.0000,9, -999.00,9,  -999.0,9,  -999.0,-999.0000,9,-999.0000,    60.7,2,     -999.0,9,-999.000,9, 20150617,     0151,-999.000,   6.9758,3,    32.6662,2,     -999.0,9,     -999.0,-999.0000,     -999.0,     -999.0,9,     -999.0,     -999.0,9,     -999.0,  -999.0,9,     -999.0,     -999.0,9,     -999.0
33RO20150525,     P16N.2,     180,          2,         22,         22,2,20150616,       2349,    55.4502,    -152.59,       5171,    57.9,   5.9405,  32.5823,2,  32.6045,2,    297.4,2,   291.3,2,   30.74,2,   16.84,2,    0.22,2,    1.53,2,   4.384,2,   2.441,2,   2.787,2,    2071,2,  2197.8,2,   7.7026,3,    25.02,-999.000,9,-999.0000,9, -999.00,9,  -999.0,9,  -999.0,-999.0000,9,-999.0000,    58.6,2,     13.930,3,-999.000,9, 20150617,     0149,-999.000,   5.9459,2,    32.7582,2,     -999.0,9,     -999.0,-999.0000,     -999.0,     -999.0,9,     -999.0,     -999.0,9,     -999.0,  -999.0,9,     -999.0,     -999.0,9,     -999.0
33RO20150525,     P16N.2,     180,          2,         21,         21,2,20150616,       2349,    55.4502,    -152.59,       5171,    83.1,   4.7316,  33.0952,2,  33.0973,2,    175.8,2,   192.1,2,   48.14,2,   28.28,2,    0.04,2,    2.15,2,   3.927,2,   2.125,2,   2.098,2,  2169.8,2,  2228.3,2,   7.4933,2,    25.01,-999.000,9,-999.0000,9, -999.00,9,  -999.0,9,  -999.0,-999.0000,9,-999.0000,    57.0,2,     23.956,3,-999.000,9, 20150617,     0147,-999.000,   4.7344,2,    33.2533,2,     -999.0,9,     -999.0,-999.0000,     -999.0,     -999.0,9,     -999.0,     -999.0,9,     -999.0,  -999.0,9,     -999.0,     -999.0,9,     -999.0
33RO20150525,     P16N.2,     180,          2,         20,         20,2,20150616,       2349,    55.4502,    -152.59,       5171,   116.7,   4.0244,  33.5837,2,  33.5998,2,    102.6,2,    98.8,2,   68.18,2,   38.15,2,    0.02,2,    2.71,2,   3.256,2,   1.718,2,    1.34,2,  2266.1,2,  2267.5,2,   7.3064,2,       25,-999.000,9,-999.0000,9, -999.00,9,  -999.0,9,  -999.0,-999.0000,9,-999.0000,    51.9,2,     33.551,3,-999.000,9, 20150617,     0145,-999.000,   4.0227,2,    33.7582,2,     -999.0,9,     -999.0,-999.0000,     -999.0,     -999.0,9,     -999.0,     -999.0,9,     -999.0,  -999.0,9,     -999.0,     -999.0,9,     -999.0
33RO20150525,     P16N.2,     180,          2,         19,         19,2,20150616,       2349,    55.4502,    -152.59,       5171,   174.9,   3.8903,  33.8632,2,  33.8657,2,     41.4,2,    37.8,2,    84.6,2,   43.13,2,    0.02,2,    3.02,2,   2.448,2,    1.24,2,   0.793,2,  2317.1,2,  2290.4,2,   7.2173,2,    25.03,-999.000,9,-999.0000,9, -999.00,9,  -999.0,9,  -999.0,-999.0000,9,-999.0000,    51.2,2,     41.943,3,-999.000,9, 20150617,     0142,-999.000,   3.8899,2,    34.0254,2,     -999.0,9,     -999.0,-999.0000,     -999.0,     -999.0,9,     -999.0,     -999.0,9,     -999.0,  -999.0,9,     -999.0,     -999.0,9,     -999.0
33RO20150525,     P16N.2,     180,          2,         18,         18,2,20150616,       2349,    55.4502,    -152.59,       5171,     215,   3.8808,    33.93,2,  33.9282,2,     27.7,2,    24.9,2,   90.07,2,   43.81,2,    0.01,2,    3.04,2,   2.117,2,    1.06,2,   0.579,2,  2330.7,2,  2299.2,2,    7.208,6,       25,-999.000,9,-999.0000,9, -999.00,9,  -999.0,9,  -999.0,-999.0000,9,-999.0000,    47.5,2,     43.935,3,-999.000,9, 20150617,     0140,-999.000,   3.8799,2,    34.0882,6,     -999.0,9,     -999.0,-999.0000,     -999.0,     -999.0,9,     -999.0,     -999.0,9,     -999.0,  -999.0,9,     -999.0,     -999.0,9,     -999.0
33RO20150525,     P16N.2,     180,          2,         17,         17,2,20150616,       2349,    55.4502,    -152.59,       5171,   333.2,   3.8479,  34.0578,2,  34.0578,2,     18.1,2,    16.6,2,  101.21,2,   43.71,2,    0.01,2,    3.06,2,    1.36,2,   0.669,2,   0.337,2,  2341.6,2,  2317.6,2,   7.2277,2,    25.01,-999.000,9,-999.0000,9, -999.00,9,  -999.0,9,  -999.0,-999.0000,9,-999.0000,    47.1,2,     45.954,3,-999.000,9, 20150617,     0137,-999.000,   3.8477,2,    34.2184,2,     -999.0,9,     -999.0,-999.0000,     -999.0,     -999.0,9,     -999.0,     -999.0,9,     -999.0,  -999.0,9,     -999.0,     -999.0,9,     -999.0
33RO20150525,     P16N.2,     180,          2,         16,         16,2,20150616,       2349,    55.4502,    -152.59,       5171,   432.9,    3.719,  34.1309,2,  34.1294,2,     17.5,2,    16.3,2,  108.73,2,   43.32,2,       0,2,    3.03,2,   0.976,2,    0.47,2,   0.217,2,  2347.9,2,  2330.1,2,   7.2466,2,    24.96,-999.000,9,-999.0000,9, -999.00,9,  -999.0,9,  -999.0,-999.0000,9,-999.0000,    46.4,2,     46.107,3,-999.000,9, 20150617,     0133,-999.000,   3.7187,2,    34.2903,2,     -999.0,9,     -999.0,-999.0000,     -999.0,     -999.0,9,     -999.0,     -999.0,9,     -999.0,  -999.0,9,     -999.0,     -999.0,9,     -999.0
33RO20150525,     P16N.2,     180,          2,         15,         15,2,20150616,       2349,    55.4502,    -152.59,       5171,   550.3,   3.5997,  34.2222,2,  34.2229,2,     14.2,2,    13.5,2,  117.03,2,   43.22,2,       0,2,    3.05,2,    0.51,6,   0.245,6,   0.114,6,    2358,2,  2345.1,2,   7.2619,2,    25.03,-999.000,9,-999.0000,9, -999.00,9,  -999.0,9,  -999.0,-999.0000,9,-999.0000,    44.6,2,     48.071,3,-999.000,9, 20150617,     0130,-999.000,   3.6002,2,    34.3843,2,     -999.0,9,     -999.0,-999.0000,     -999.0,     -999.0,9,     -999.0,     -999.0,9,     -999.0,  -999.0,9,     -999.0,     -999.0,9,     -999.0
33RO20150525,     P16N.2,     180,          2,         14,         14,2,20150616,       2349,    55.4502,    -152.59,       5171,   699.9,   3.2839,  34.3074,2,  34.3064,2,     13.1,2,    12.2,2,  128.27,2,   43.31,2,       0,2,    3.06,2,   0.229,2,   0.112,2,       0,2,  2368.9,6,  2361.5,2,   7.2739,2,       25,-999.000,9,-999.0000,9, -999.00,9,  -999.0,9,  -999.0,-999.0000,9,-999.0000,    45.7,2,     48.884,3,-999.000,9, 20150617,     0126,-999.000,   3.2823,2,    34.4682,2,     -999.0,9,     -999.0,-999.0000,     -999.0,     -999.0,9,     -999.0,     -999.0,9,     -999.0,  -999.0,9,     -999.0,     -999.0,9,     -999.0
33RO20150525,     P16N.2,     180,          2,         13,         13,2,20150616,       2349,    55.4502,    -152.59,       5171,   849.6,   3.0025,  34.3657,2,  34.3671,2,     13.5,2,    13.3,2,  137.65,2,    43.5,2,       0,2,    3.06,2,   0.116,2,   0.056,2,   0.068,2,  2378.5,2,  2372.9,2,   7.2825,6,    25.01,-999.000,9,-999.0000,9, -999.00,9,  -999.0,9,  -999.0,-999.0000,9,-999.0000,    43.6,2,     48.077,3,-999.000,9, 20150617,     0122,-999.000,   3.0026,2,    34.5291,2,     -999.0,9,     -999.0,-999.0000,     -999.0,     -999.0,9,     -999.0,     -999.0,9,     -999.0,  -999.0,9,     -999.0,     -999.0,9,     -999.0
33RO20150525,     P16N.2,     180,          2,         12,         12,2,20150616,       2349,    55.4502,    -152.59,       5171,   999.7,    2.772,  34.4111,2,  34.4103,2,     15.1,2,    14.8,2,  144.88,2,    43.5,2,       0,2,    3.05,2,-999.000,9,-999.000,9,-999.000,9,  2385.5,2,  2382.2,2,   7.2898,2,    24.99,-999.000,9,-999.0000,9, -999.00,9,  -999.0,9,  -999.0,-999.0000,9,-999.0000,    41.8,2,     -999.0,9,-999.000,9, 20150617,     0118,-999.000,   2.7705,2,    34.5726,2,     -999.0,9,     -999.0,-999.0000,     -999.0,     -999.0,9,     -999.0,     -999.0,9,     -999.0,  -999.0,9,     -999.0,     -999.0,9,     -999.0
33RO20150525,     P16N.2,     180,          2,         11,         11,2,20150616,       2349,    55.4502,    -152.59,       5171,  1167.3,   2.4978,   34.464,2,   34.462,2,     20.8,2,    20.5,2,   152.2,2,    43.4,2,       0,2,    3.03,2,   0.037,2,   0.018,2,       0,2,  2389.6,2,  2391.5,2,   7.3051,2,    25.03,-999.000,9,-999.0000,9, -999.00,9,  -999.0,9,  -999.0,-999.0000,9,-999.0000,    41.7,2,     44.699,3,-999.000,9, 20150617,     0114,-999.000,   2.4977,2,    34.6245,2,     -999.0,9,     -999.0,-999.0000,     -999.0,     -999.0,9,     -999.0,     -999.0,9,     -999.0,  -999.0,9,     -999.0,     -999.0,9,     -999.0
33RO20150525,     P16N.2,     180,          2,         10,         10,2,20150616,       2349,    55.4502,    -152.59,       5171,    1400,   2.2749,  34.5105,2,  34.5166,2,     29.3,2,    28.7,2,  157.87,2,   42.91,2,       0,2,    2.99,2,-999.000,9,-999.000,9,-999.000,9,    2390,2,  2399.4,2,    7.326,2,    25.02,-999.000,9,-999.0000,9, -999.00,9,  -999.0,9,  -999.0,-999.0000,9,-999.0000,    40.3,2,     -999.0,9,-999.000,9, 20150617,     0108,-999.000,   2.2749,2,    34.6794,2,     -999.0,9,     -999.0,-999.0000,     -999.0,     -999.0,9,     -999.0,     -999.0,9,     -999.0,  -999.0,9,     -999.0,     -999.0,9,     -999.0
33RO20150525,     P16N.2,     180,          2,          9,          9,2,20150616,       2349,    55.4502,    -152.59,       5171,  1733.2,   1.9759,  34.5726,2,  34.5818,4,     50.3,2,    49.7,2,  163.33,2,   41.64,2,       0,2,     2.9,2,   0.005,2,   0.003,2,       0,2,  2385.4,2,  2409.6,2,   7.3732,2,    25.02,-999.000,9,-999.0000,9, -999.00,9,  -999.0,9,  -999.0,-999.0000,9,-999.0000,    39.1,2,     36.120,3,-999.000,9, 20150617,     0101,-999.000,   1.9758,2,    34.7449,2,     -999.0,9,     -999.0,-999.0000,     -999.0,     -999.0,9,     -999.0,     -999.0,9,     -999.0,  -999.0,9,     -999.0,     -999.0,9,     -999.0
33RO20150525,     P16N.2,     180,          2,          8,          8,2,20150616,       2349,    55.4502,    -152.59,       5171,  2132.6,   1.7696,  34.6142,2,  34.6125,2,     72.9,2,    73.4,2,  165.97,2,   40.27,2,    0.01,2,     2.8,2,-999.000,9,-999.000,9,-999.000,9,  2375.3,2,  2416.4,2,   7.4226,2,       25,-999.000,9,-999.0000,9, -999.00,9,  -999.0,9,  -999.0,-999.0000,9,-999.0000,    37.3,2,     -999.0,9,-999.000,9, 20150617,     0053,-999.000,   1.7697,2,    34.7757,2,     -999.0,9,     -999.0,-999.0000,     -999.0,     -999.0,9,     -999.0,     -999.0,9,     -999.0,  -999.0,9,     -999.0,     -999.0,9,     -999.0
33RO20150525,     P16N.2,     180,          2,          7,          7,2,20150616,       2349,    55.4502,    -152.59,       5171,  2532.9,   1.6427,  34.6393,2,  34.6382,2,     92.4,2,      92,2,  167.24,2,    39.1,2,       0,2,    2.72,2,   0.004,2,   0.001,2,       0,2,  2367.4,2,    2421,2,   7.4627,2,    25.02,-999.000,9,-999.0000,9, -999.00,9,  -999.0,9,  -999.0,-999.0000,9,-999.0000,    37.9,2,     27.567,3,-999.000,9, 20150617,     0045,-999.000,   1.6425,2,    34.8015,2,     -999.0,9,     -999.0,-999.0000,     -999.0,     -999.0,9,     -999.0,     -999.0,9,     -999.0,  -999.0,9,     -999.0,     -999.0,9,     -999.0
33RO20150525,     P16N.2,     180,          2,          6,          6,2,20150616,       2349,    55.4502,    -152.59,       5171,  2967.1,   1.5953,  34.6521,2,  34.6526,2,    106.2,2,   104.3,2,  164.69,2,   38.22,2,       0,2,    2.65,2,-999.000,9,-999.000,9,-999.000,9,  2357.5,2,    2423,2,   7.4874,2,    25.03,-999.000,9,-999.0000,9, -999.00,9,  -999.0,9,  -999.0,-999.0000,9,-999.0000,    38.1,2,     -999.0,9,-999.000,9, 20150617,     0036,-999.000,   1.5955,2,     34.816,6,     -999.0,9,     -999.0,-999.0000,     -999.0,     -999.0,9,     -999.0,     -999.0,9,     -999.0,  -999.0,9,     -999.0,     -999.0,9,     -999.0
33RO20150525,     P16N.2,     180,          2,          5,          5,2,20150616,       2349,    55.4502,    -152.59,       5171,  3467.1,   1.4859,  34.6734,2,  34.6724,2,    131.2,2,   131.2,2,  157.36,2,   36.85,2,    0.01,2,    2.54,2,   0.001,2,   0.001,2,       0,2,  2339.5,2,  2420.6,2,   7.5356,6,    25.03,-999.000,9,-999.0000,9, -999.00,9,  -999.0,9,  -999.0,-999.0000,9,-999.0000,    40.7,2,     22.795,3,-999.000,9, 20150617,     0026,-999.000,   1.4857,2,    34.8359,2,     -999.0,9,     -999.0,-999.0000,     -999.0,     -999.0,9,     -999.0,     -999.0,9,     -999.0,  -999.0,9,     -999.0,     -999.0,9,     -999.0
33RO20150525,     P16N.2,     180,          2,          4,          4,2,20150616,       2349,    55.4502,    -152.59,       5171,  3967.1,   1.4696,  34.6824,2,  34.6814,2,    141.5,2,   142.3,2,  156.58,6,   35.87,6,       0,6,    2.49,6,-999.000,9,-999.000,9,-999.000,9,  2332.9,2,  2420.8,2,   7.5557,2,    25.02,-999.000,9,-999.0000,9, -999.00,9,  -999.0,9,  -999.0,-999.0000,9,-999.0000,    39.8,2,     -999.0,9,-999.000,9, 20150617,     0016,-999.000,   1.4694,2,    34.8449,2,     -999.0,9,     -999.0,-999.0000,     -999.0,     -999.0,9,     -999.0,     -999.0,9,     -999.0,  -999.0,9,     -999.0,     -999.0,9,     -999.0
33RO20150525,     P16N.2,     180,          2,          3,          3,2,20150616,       2349,    55.4502,    -152.59,       5171,  4467.1,   1.4895,  34.6867,2,  34.6869,2,    147.7,2,   147.5,2,  153.16,6,   35.48,6,       0,6,    2.45,6,   0.002,2,   0.001,2,       0,2,  2327.3,2,  2420.2,2,   7.5656,6,    25.02,-999.000,9,-999.0000,9, -999.00,9,  -999.0,9,  -999.0,-999.0000,9,-999.0000,    40.7,2,     21.197,3,-999.000,9, 20150617,     0006,-999.000,   1.4892,2,    34.8504,2,     -999.0,9,     -999.0,-999.0000,     -999.0,     -999.0,9,     -999.0,     -999.0,9,     -999.0,  -999.0,9,     -999.0,     -999.0,9,     -999.0
33RO20150525,     P16N.2,     180,          2,          2,          2,2,20150616,       2349,    55.4502,    -152.59,       5171,  4864.1,   1.5124,  34.6893,2,  34.6878,2,    153.6,2,   152.3,2,  149.25,6,   35.09,6,       0,6,    2.43,6,   0.007,2,   0.004,2,       0,2,  2322.1,2,  2415.6,2,   7.5718,2,    25.02,-999.000,9,-999.0000,9, -999.00,9,  -999.0,9,  -999.0,-999.0000,9,-999.0000,    40.8,2,     20.904,3,-999.000,9, 20150616,     2358,-999.000,   1.5124,2,    34.8514,2,     -999.0,9,     -999.0,-999.0000,     -999.0,     -999.0,9,     -999.0,     -999.0,9,     -999.0,  -999.0,9,     -999.0,     -999.0,9,     -999.0
33RO20150525,     P16N.2,     180,          2,          1,          1,2,20150616,       2349,    55.4502,    -152.59,       5171,  5264.3,   1.5392,  34.6918,2,  34.6959,3,    158.9,2,   157.7,2,  144.56,6,    34.6,6,    0.01,6,    2.41,6,   0.004,6,   0.003,6,       0,6,  2317.5,6,    2414,6,   7.5778,2,    25.02,-999.000,9,-999.0000,9, -999.00,9,  -999.0,9,  -999.0,-999.0000,9,-999.0000,    41.7,2,     20.671,3,-999.000,9, 20150616,     2350,-999.000,   1.5389,2,    34.8595,2,     -999.0,9,     -999.0,-999.0000,     -999.0,     -999.0,9,     -999.0,     -999.0,9,     -999.0,  -999.0,9,     -999.0,     -999.0,9,     -999.0