BOTTLE,20220330CCHSIOCBG
EXPOCODE,SECT_ID,STNNBR,CASTNO,SAMPNO,BTLNBR,BTLNBR_FLAG_W,DATE,TIME,LATITUDE,LONGITUDE,DEPTH,CTDPRS,CTDTMP,CTDSAL,CTDSAL_FLAG_W,SALNTY,SALNTY_FLAG_W,CTDOXY,CTDOXY_FLAG_W,OXYGEN,OXYGEN_FLAG_W,SILCAT,SILCAT_FLAG_W,NITRAT,NITRAT_FLAG_W,NITRIT,NITRIT_FLAG_W,PHSPHT,PHSPHT_FLAG_W,CFC-11,CFC-11_FLAG_W,CFC-12,CFC-12_FLAG_W,SF6,SF6_FLAG_W,TCARBN,TCARBN_FLAG_W,ALKALI,ALKALI_FLAG_W,PH_TOT,PH_TOT_FLAG_W,PH_TMP,TRITUM,TRITUM_FLAG_W,HELIUM,HELIUM_FLAG_W,DELC13,DELC13_FLAG_W,DELC14,DELC14_FLAG_W,C14ERR,NEON,NEON_FLAG_W,NEONER,DOC,DOC_FLAG_W,N2O,N2O_FLAG_W,ARGON,ARGON_FLAG_W,BTL_DATE,BTL_TIME,TRITER,SBE35,SBE35_FLAG_W,SALTREF,SALTREF_FLAG_W,DELHE3,DELHE3_FLAG_W,DELHER,HELIER,ARGONER,KRYPTON,KRYPTON_FLAG_W,KRYPTONER,XENON,XENON_FLAG_W,XENONER,14C-DOC,14C-DOC_FLAG_W,14C-DOCERR,13C-DOC,13C-DOC_FLAG_W,13C-DOCERR
,,,,,,,,,,,METERS,DBAR,ITS-90,PSS-78,,PSS-78,,UMOL/KG,,UMOL/KG,,UMOL/KG,,UMOL/KG,,UMOL/KG,,UMOL/KG,,PMOL/KG,,PMOL/KG,,FMOL/KG,,UMOL/KG,,UMOL/KG,,,,DEG C,TU,,NMOL/KG,,/MILLE,,/MILLE,,/MILLE,NMOL/KG,,NMOL/KG,UMOL/KG,,NMOL/KG,,UMOL/KG,,,,TU,ITS-90,,G/KG,,PERCNT,,PERCNT,NMOL/KG,UMOL/KG,NMOL/KG,,NMOL/KG,NMOL/KG,,NMOL/KG,/MILLE,,/MILLE,/MILLE,,/MILLE
33RO20150525,     P16N.2,     140,          1,         24,         24,2,20150604,       1848,         36,       -152,       5572,     2.8,  17.3875,  34.1407,2,  34.1418,2,    246.5,2,   245.9,2,    4.98,2,       0,2,       0,2,     0.1,2,   2.639,3,   1.529,6,   1.901,6,  2018.9,6,  2246.6,2,   7.9241,2,    25.04,   0.480,2,   1.7473,2, -999.00,9,  -999.0,9,  -999.0,   7.1630,2,   0.0179,  -999.0,9,      8.555,3,-999.000,9, 20150604,     2054,   0.006,  17.3879,2,    34.3028,2,      -1.56,2,       0.20,   0.0045,     -999.0,     -999.0,9,     -999.0,     -999.0,9,     -999.0,  -999.0,9,     -999.0,     -999.0,9,     -999.0
33RO20150525,     P16N.2,     140,          1,         23,         23,2,20150604,       1848,         36,       -152,       5572,    29.6,  16.0946,    34.15,2,  34.1519,2,    254.4,2,     254,2,    4.89,2,       0,2,    0.01,2,     0.1,2,   2.709,3,   1.571,2,   1.975,2,  2017.5,2,  2248.7,2,   7.9298,2,    25.05,-999.000,9,-999.0000,9, -999.00,9,  -999.0,9,  -999.0,-999.0000,9,-999.0000,  -999.0,9,      8.752,3,-999.000,9, 20150604,     2051,-999.000,  16.0737,2,     34.313,2,     -999.0,9,     -999.0,-999.0000,     -999.0,     -999.0,9,     -999.0,     -999.0,9,     -999.0,  -999.0,9,     -999.0,     -999.0,9,     -999.0
33RO20150525,     P16N.2,     140,          1,         22,         22,2,20150604,       1848,         36,       -152,       5572,    60.3,  12.8771,  34.1132,2,  34.1137,2,      268,2,     267,2,    5.67,2,    1.76,2,    0.11,2,    0.26,2,   3.088,2,   1.768,2,   2.059,2,  2030.1,2,  2246.4,2,   7.9037,2,    25.06,   0.462,2,   1.7852,2, -999.00,9,  -999.0,9,  -999.0,   7.4419,2,   0.0186,  -999.0,9,     10.174,3,-999.000,9, 20150604,     2049,   0.003,  12.8713,2,    34.2746,6,      -1.32,2,       0.20,   0.0046,     -999.0,     -999.0,9,     -999.0,     -999.0,9,     -999.0,  -999.0,9,     -999.0,     -999.0,9,     -999.0
33RO20150525,     P16N.2,     140,          1,         21,         21,2,20150604,       1848,         36,       -152,       5572,    88.8,  12.4364,  34.1015,2,  34.1029,2,    259.1,2,   259.2,2,    6.06,2,    3.03,2,    0.35,2,    0.35,2,   3.087,2,   1.771,2,   2.091,2,  2040.5,2,  2249.1,6,   7.8822,2,    25.06,   0.463,6,   1.7729,2, -999.00,9,  -999.0,9,  -999.0,   7.3908,2,   0.0185,  -999.0,9,     10.411,3,-999.000,9, 20150604,     2047,   0.006,  12.4399,2,    34.2637,2,      -1.43,2,       0.20,   0.0046,     -999.0,     -999.0,9,     -999.0,     -999.0,9,     -999.0,  -999.0,9,     -999.0,     -999.0,9,     -999.0
33RO20150525,     P16N.2,     140,          1,         20,         20,2,20150604,       1848,         36,       -152,       5572,     150,  11.7371,  34.0741,2,  34.0657,2,    247.1,2,   244.7,2,    7.53,2,    6.55,2,    0.02,2,    0.53,2,   3.165,2,   1.815,2,   2.113,2,    2055,2,  2248.7,2,   7.8451,2,    25.04,   0.474,2,   1.7773,2, -999.00,9,  -999.0,9,  -999.0,   7.4681,2,   0.0187,  -999.0,9,     11.608,3,-999.000,9, 20150604,     2045,   0.006,  11.7364,2,    34.2263,2,      -1.00,2,       0.20,   0.0046,     -999.0,     -999.0,9,     -999.0,     -999.0,9,     -999.0,  -999.0,9,     -999.0,     -999.0,9,     -999.0
33RO20150525,     P16N.2,     140,          1,         19,         19,2,20150604,       1848,         36,       -152,       5572,   225.5,   11.117,  34.1902,2,  34.1888,2,    225.2,2,   210.5,4,    12.9,2,   11.92,2,    0.01,2,    0.85,2,   3.188,2,   1.826,2,   1.864,2,  2089.5,2,    2259,2,   7.7939,6,    25.04,   0.452,2,   1.7786,2, -999.00,9,  -999.0,9,  -999.0,   7.4890,2,   0.0187,  -999.0,9,     16.882,3,-999.000,9, 20150604,     2041,   0.004,  11.1128,2,      34.35,2,      -0.04,2,       0.20,   0.0046,     -999.0,     -999.0,9,     -999.0,     -999.0,9,     -999.0,  -999.0,9,     -999.0,     -999.0,9,     -999.0
33RO20150525,     P16N.2,     140,          1,         18,         18,2,20150604,       1848,         36,       -152,       5572,   298.1,   9.9606,  34.1305,2,  34.1291,2,    208.3,2,   207.2,2,   19.74,2,   16.32,2,    0.01,2,    1.13,2,   3.265,2,   1.829,2,   1.615,2,  2118.7,2,    2264,2,    7.738,2,    25.04,   0.418,2,   1.7918,2, -999.00,9,  -999.0,9,  -999.0,   7.5618,2,   0.0189,  -999.0,9,     20.332,3,-999.000,9, 20150604,     2039,   0.003,   9.9779,2,      34.29,2,       1.38,2,       0.20,   0.0047,     -999.0,     -999.0,9,     -999.0,     -999.0,9,     -999.0,  -999.0,9,     -999.0,     -999.0,9,     -999.0
33RO20150525,     P16N.2,     140,          1,         17,         17,2,20150604,       1848,         36,       -152,       5572,   400.2,   8.1598,  34.0412,2,  34.0446,2,    176.1,2,   175.1,2,   33.72,2,   22.97,2,       0,2,    1.61,2,    3.19,2,   1.717,2,   1.291,2,  2161.9,2,  2270.9,2,   7.6373,6,    25.03,   0.399,2,   1.8067,2, -999.00,9,  -999.0,9,  -999.0,   7.7093,2,   0.0193,  -999.0,9,     24.503,3,-999.000,9, 20150604,     2036,   0.003,   8.1668,2,    34.2052,2,       5.22,2,       0.20,   0.0047,     -999.0,     -999.0,9,     -999.0,     -999.0,9,     -999.0,  -999.0,9,     -999.0,     -999.0,9,     -999.0
33RO20150525,     P16N.2,     140,          1,         16,         16,2,20150604,       1848,         36,       -152,       5572,   501.1,    6.427,  33.9838,2,  33.9814,2,    138.6,2,   135.2,2,   52.29,2,   30.01,2,    0.01,2,    2.11,2,   2.776,2,   1.425,2,   0.837,2,    2216,2,  2282.5,2,     7.52,2,    25.04,   0.332,2,   1.8295,2, -999.00,9,  -999.0,9,  -999.0,   7.8314,2,   0.0196,  -999.0,9,     30.022,3,-999.000,9, 20150604,     2033,   0.003,   6.4316,2,    34.1417,2,      10.01,2,       0.20,   0.0048,     -999.0,     -999.0,9,     -999.0,     -999.0,9,     -999.0,  -999.0,9,     -999.0,     -999.0,9,     -999.0
33RO20150525,     P16N.2,     140,          1,         15,         15,2,20150604,       1848,         36,       -152,       5572,   650.2,   4.8346,  34.0437,2,  34.0424,2,     76.2,2,    75.4,2,   80.34,2,   38.02,2,       0,2,    2.68,2,   1.681,2,   0.808,2,   0.335,2,  2283.5,2,  2306.7,2,   7.3797,2,    25.03,   0.250,2,-999.0000,9, -999.00,9,  -999.0,9,  -999.0,-999.0000,9,-999.0000,  -999.0,9,     38.334,3,-999.000,9, 20150604,     2029,   0.003,    4.834,2,    34.2029,2,     -999.0,9,     -999.0,-999.0000,     -999.0,     -999.0,9,     -999.0,     -999.0,9,     -999.0,  -999.0,9,     -999.0,     -999.0,9,     -999.0
33RO20150525,     P16N.2,     140,          1,         14,         14,2,20150604,       1848,         36,       -152,       5572,     802,   3.9986,  34.1806,2,  34.1791,2,     30.1,2,      32,2,  105.64,2,   42.61,2,       0,2,       3,2,    0.56,2,   0.261,2,   0.044,2,  2335.6,2,  2335.4,2,   7.3048,2,    25.06,   0.130,2,   1.8688,2, -999.00,9,  -999.0,9,  -999.0,   8.0089,2,   0.0200,  -999.0,9,     45.956,3,-999.000,9, 20150604,     2025,   0.003,   3.9984,2,    34.3402,2,      17.26,2,       0.20,   0.0049,     -999.0,     -999.0,9,     -999.0,     -999.0,9,     -999.0,  -999.0,9,     -999.0,     -999.0,9,     -999.0
33RO20150525,     P16N.2,     140,          1,         13,         13,2,20150604,       1848,         36,       -152,       5572,   949.7,   3.5666,  34.2848,2,  34.2919,2,     11.1,2,    11.4,2,  121.36,2,   44.66,2,       0,2,    3.15,2,    0.08,6,   0.041,6,       0,6,  2363.5,2,  2355.6,2,   7.2758,6,    25.03,   0.040,2,   1.8876,2, -999.00,9,  -999.0,9,  -999.0,   8.0412,2,   0.0201,  -999.0,9,     51.833,3,-999.000,9, 20150604,     2022,   0.002,   3.5676,2,    34.4536,2,      15.82,2,       0.20,   0.0049,     -999.0,     -999.0,9,     -999.0,     -999.0,9,     -999.0,  -999.0,9,     -999.0,     -999.0,9,     -999.0
33RO20150525,     P16N.2,     140,          1,         12,         12,2,20150604,       1848,         36,       -152,       5572,  1100.6,   3.1938,  34.3816,2,    34.38,2,        8,2,     8.2,2,  134.25,2,   45.14,2,       0,2,    3.18,2,   0.009,2,   0.005,2,       0,2,  2380.3,2,  2374.3,2,   7.2808,2,    25.04,   0.011,2,   1.8892,2, -999.00,9,  -999.0,9,  -999.0,   8.0598,2,   0.0201,  -999.0,9,     54.758,3,-999.000,9, 20150604,     2018,   0.004,    3.193,2,    34.5421,2,      16.67,2,       0.20,   0.0049,     -999.0,     -999.0,9,     -999.0,     -999.0,9,     -999.0,  -999.0,9,     -999.0,     -999.0,9,     -999.0
33RO20150525,     P16N.2,     140,          1,         11,         11,2,20150604,       1848,         36,       -152,       5572,  1299.1,   2.8855,  34.4743,2,  34.4727,2,     16.8,2,    16.4,2,  143.91,2,   45.04,2,       0,2,    3.16,2,   0.003,2,   0.005,2,       0,2,  2388.4,2,  2390.2,2,   7.3071,6,    25.03,  -0.004,2,   1.9138,6, -999.00,9,  -999.0,9,  -999.0,   8.1009,6,   0.0140,  -999.0,9,     49.548,3,-999.000,9, 20150604,     2013,   0.001,   2.8859,2,    34.6353,2,      19.29,6,       0.14,   0.0035,     -999.0,     -999.0,9,     -999.0,     -999.0,9,     -999.0,  -999.0,9,     -999.0,     -999.0,9,     -999.0
33RO20150525,     P16N.2,     140,          1,         10,         10,2,20150604,       1848,         36,       -152,       5572,  1502.4,   2.5717,  34.5281,2,  34.5265,2,     28.5,2,    28.9,2,  151.33,2,   44.26,2,       0,2,    3.09,2,   0.001,2,   0.002,2,       0,2,  2392.4,2,  2400.8,2,   7.3368,6,    25.04,  -0.007,2,   1.9197,2, -999.00,9,  -999.0,9,  -999.0,   8.1353,2,   0.0203,  -999.0,9,     43.800,3,-999.000,9, 20150604,     2008,   0.002,   2.5714,2,    34.6893,2,      21.61,2,       0.20,   0.0050,     -999.0,     -999.0,9,     -999.0,     -999.0,9,     -999.0,  -999.0,9,     -999.0,     -999.0,9,     -999.0
33RO20150525,     P16N.2,     140,          1,          9,          9,2,20150604,       1848,         36,       -152,       5572,  1800.8,   2.1922,  34.5838,2,  34.5827,2,     52.9,2,    52.5,2,  159.83,2,   42.69,2,       0,2,    2.99,2,   0.001,2,   0.012,4,       0,2,  2384.4,2,  2413.8,2,   7.3885,2,    24.99,  -0.003,2,-999.0000,9, -999.00,9,  -999.0,9,  -999.0,-999.0000,9,-999.0000,  -999.0,9,     36.420,3,-999.000,9, 20150604,     2002,   0.001,   2.1923,2,    34.7458,2,     -999.0,9,     -999.0,-999.0000,     -999.0,     -999.0,9,     -999.0,     -999.0,9,     -999.0,  -999.0,9,     -999.0,     -999.0,9,     -999.0
33RO20150525,     P16N.2,     140,          1,          8,          8,2,20150604,       1848,         36,       -152,       5572,  2200.1,   1.8643,  34.6227,2,  34.6224,2,     74.9,2,      75,2,  166.56,2,   41.32,2,       0,2,    2.87,2,  -0.001,2,   0.001,2,       0,2,  2375.6,6,  2421.8,2,   7.4344,2,    25.04,-999.000,9,-999.0000,9, -999.00,9,  -999.0,9,  -999.0,-999.0000,9,-999.0000,  -999.0,9,     30.995,3,-999.000,9, 20150604,     1954,-999.000,   1.8648,2,    34.7857,6,     -999.0,9,     -999.0,-999.0000,     -999.0,     -999.0,9,     -999.0,     -999.0,9,     -999.0,  -999.0,9,     -999.0,     -999.0,9,     -999.0
33RO20150525,     P16N.2,     140,          1,          7,          7,2,20150604,       1848,         36,       -152,       5572,  2701.5,   1.6286,  34.6508,2,  34.6502,2,    102.2,2,   102.4,2,  164.31,2,   39.66,2,    0.01,2,    2.73,2,  -0.001,2,       0,2,       0,2,    2362,2,  2423.8,2,   7.4845,2,    25.05,-999.000,9,-999.0000,9, -999.00,9,  -999.0,9,  -999.0,-999.0000,9,-999.0000,  -999.0,9,     26.941,3,-999.000,9, 20150604,     1944,-999.000,   1.6284,2,    34.8136,2,     -999.0,9,     -999.0,-999.0000,     -999.0,     -999.0,9,     -999.0,     -999.0,9,     -999.0,  -999.0,9,     -999.0,     -999.0,9,     -999.0
33RO20150525,     P16N.2,     140,          1,          6,          6,2,20150604,       1848,         36,       -152,       5572,  3189.2,   1.5262,  34.6676,2,  34.6675,2,    121.7,2,   122.6,2,  159.72,2,    38.2,2,       0,2,    2.65,2,  -0.001,2,   0.001,2,       0,2,  2348.6,2,  2424.4,2,   7.5227,2,    25.05,-999.000,9,-999.0000,9, -999.00,9,  -999.0,9,  -999.0,-999.0000,9,-999.0000,  -999.0,9,     24.258,3,-999.000,9, 20150604,     1935,-999.000,   1.5262,2,     34.831,2,     -999.0,9,     -999.0,-999.0000,     -999.0,     -999.0,9,     -999.0,     -999.0,9,     -999.0,  -999.0,9,     -999.0,     -999.0,9,     -999.0
33RO20150525,     P16N.2,     140,          1,          5,          5,2,20150604,       1848,         36,       -152,       5572,  3701.5,   1.4775,  34.6792,2,  34.6785,2,    136.5,2,   137.4,2,     156,2,   37.32,2,       0,2,    2.55,2,  -0.001,2,       0,2,       0,2,  2338.2,2,  2423.2,2,   7.5525,2,    25.02,-999.000,9,-999.0000,9, -999.00,9,  -999.0,9,  -999.0,-999.0000,9,-999.0000,  -999.0,9,     22.747,3,-999.000,9, 20150604,     1925,-999.000,   1.4775,2,    34.8421,2,     -999.0,9,     -999.0,-999.0000,     -999.0,     -999.0,9,     -999.0,     -999.0,9,     -999.0,  -999.0,9,     -999.0,     -999.0,9,     -999.0
33RO20150525,     P16N.2,     140,          1,          4,          4,2,20150604,       1848,         36,       -152,       5572,  4201.5,   1.4845,  34.6847,2,  34.6841,2,    144.2,2,   144.6,2,  153.76,6,   36.73,6,       0,6,    2.51,6,  -0.001,6,   0.002,6,       0,6,  2332.3,2,  2423.8,2,   7.5664,2,    25.04,-999.000,9,-999.0000,9, -999.00,9,  -999.0,9,  -999.0,-999.0000,9,-999.0000,  -999.0,9,     22.043,3,-999.000,9, 20150604,     1916,-999.000,   1.4847,2,    34.8476,2,     -999.0,9,     -999.0,-999.0000,     -999.0,     -999.0,9,     -999.0,     -999.0,9,     -999.0,  -999.0,9,     -999.0,     -999.0,9,     -999.0
33RO20150525,     P16N.2,     140,          1,          3,          3,2,20150604,       1848,         36,       -152,       5572,  4700.6,   1.5168,  34.6878,2,  34.6874,2,    148.8,2,   148.5,2,  151.41,6,   36.53,6,       0,6,    2.48,6,       0,2,   0.002,2,       0,2,    2329,2,  2424.8,6,   7.5743,2,    25.04,-999.000,9,-999.0000,9, -999.00,9,  -999.0,9,  -999.0,-999.0000,9,-999.0000,  -999.0,9,     21.680,3,-999.000,9, 20150604,     1906,-999.000,   1.5171,2,     34.851,2,     -999.0,9,     -999.0,-999.0000,     -999.0,     -999.0,9,     -999.0,     -999.0,9,     -999.0,  -999.0,9,     -999.0,     -999.0,9,     -999.0
33RO20150525,     P16N.2,     140,          1,          2,          2,2,20150604,       1848,         36,       -152,       5572,  5181.2,   1.5613,  34.6898,2,    34.69,2,    153.6,2,   152.6,2,  147.11,6,   36.24,6,       0,6,    2.47,6,   0.001,2,   0.003,2,       0,2,  2323.9,2,  2422.2,2,     7.58,6,    25.03,-999.000,9,-999.0000,9, -999.00,9,  -999.0,9,  -999.0,-999.0000,9,-999.0000,  -999.0,9,     21.500,3,-999.000,9, 20150604,     1857,-999.000,   1.5614,2,    34.8536,2,     -999.0,9,     -999.0,-999.0000,     -999.0,     -999.0,9,     -999.0,     -999.0,9,     -999.0,  -999.0,9,     -999.0,     -999.0,9,     -999.0
33RO20150525,     P16N.2,     140,          1,          1,          1,2,20150604,       1848,         36,       -152,       5572,  5665.7,   1.6192,  34.6909,2,  34.6885,2,      155,2,   154.8,2,  145.36,6,   36.05,6,       0,6,    2.46,6,   0.002,2,   0.004,2,       0,2,  2323.9,6,  2420.8,2,   7.5821,6,    25.03,-999.000,9,-999.0000,9, -999.00,9,  -999.0,9,  -999.0,-999.0000,9,-999.0000,  -999.0,9,     21.465,3,-999.000,9, 20150604,     1848,-999.000,   1.6193,2,    34.8521,2,     -999.0,9,     -999.0,-999.0000,     -999.0,     -999.0,9,     -999.0,     -999.0,9,     -999.0,  -999.0,9,     -999.0,     -999.0,9,     -999.0