BOTTLE,20220330CCHSIOCBG
EXPOCODE,SECT_ID,STNNBR,CASTNO,SAMPNO,BTLNBR,BTLNBR_FLAG_W,DATE,TIME,LATITUDE,LONGITUDE,DEPTH,CTDPRS,CTDTMP,CTDSAL,CTDSAL_FLAG_W,SALNTY,SALNTY_FLAG_W,CTDOXY,CTDOXY_FLAG_W,OXYGEN,OXYGEN_FLAG_W,SILCAT,SILCAT_FLAG_W,NITRAT,NITRAT_FLAG_W,NITRIT,NITRIT_FLAG_W,PHSPHT,PHSPHT_FLAG_W,CFC-11,CFC-11_FLAG_W,CFC-12,CFC-12_FLAG_W,SF6,SF6_FLAG_W,TCARBN,TCARBN_FLAG_W,ALKALI,ALKALI_FLAG_W,PH_TOT,PH_TOT_FLAG_W,PH_TMP,TRITUM,TRITUM_FLAG_W,HELIUM,HELIUM_FLAG_W,DELC13,DELC13_FLAG_W,DELC14,DELC14_FLAG_W,C14ERR,NEON,NEON_FLAG_W,NEONER,DOC,DOC_FLAG_W,N2O,N2O_FLAG_W,ARGON,ARGON_FLAG_W,BTL_DATE,BTL_TIME,TRITER,SBE35,SBE35_FLAG_W,SALTREF,SALTREF_FLAG_W,DELHE3,DELHE3_FLAG_W,DELHER,HELIER,ARGONER,KRYPTON,KRYPTON_FLAG_W,KRYPTONER,XENON,XENON_FLAG_W,XENONER,14C-DOC,14C-DOC_FLAG_W,14C-DOCERR,13C-DOC,13C-DOC_FLAG_W,13C-DOCERR
,,,,,,,,,,,METERS,DBAR,ITS-90,PSS-78,,PSS-78,,UMOL/KG,,UMOL/KG,,UMOL/KG,,UMOL/KG,,UMOL/KG,,UMOL/KG,,PMOL/KG,,PMOL/KG,,FMOL/KG,,UMOL/KG,,UMOL/KG,,,,DEG C,TU,,NMOL/KG,,/MILLE,,/MILLE,,/MILLE,NMOL/KG,,NMOL/KG,UMOL/KG,,NMOL/KG,,UMOL/KG,,,,TU,ITS-90,,G/KG,,PERCNT,,PERCNT,NMOL/KG,UMOL/KG,NMOL/KG,,NMOL/KG,NMOL/KG,,NMOL/KG,/MILLE,,/MILLE,/MILLE,,/MILLE
33RO20150525,     P16N.2,     195,          2,         24,         24,2,20150620,       1538,     54.751,  -146.9775,       4173,     2.9,  10.4623,  32.6002,2,  32.6026,2,    286.5,2,   290.2,2,   29.65,2,    13.9,2,    0.18,2,    1.31,2,   3.772,6,   2.146,6,   2.539,6,  2040.7,6,  2200.2,2,   7.7951,6,    25.06,-999.000,9,-999.0000,9,    1.15,2,   -34.2,2,     2.0,-999.0000,9,-999.0000,    55.9,2,     11.167,3,-999.000,9, 20150620,     1717,-999.000,  10.4609,2,    32.7563,2,     -999.0,9,     -999.0,-999.0000,     -999.0,     -999.0,9,     -999.0,     -999.0,9,     -999.0,  -999.0,9,     -999.0,     -999.0,9,     -999.0
33RO20150525,     P16N.2,     195,          2,         23,         23,2,20150620,       1538,     54.751,  -146.9775,       4173,    20.2,  10.2228,  32.5953,2,  32.6015,2,    290.9,2,   304.2,2,   29.95,2,   14.29,2,    0.16,2,    1.36,2,   4.003,2,   2.258,2,   2.664,2,  2042.7,2,  2200.5,2,   7.7889,6,    25.06,-999.000,9,-999.0000,9, -999.00,9,  -999.0,9,  -999.0,-999.0000,9,-999.0000,    55.4,2,     11.590,3,-999.000,9, 20150620,     1715,-999.000,  10.2276,2,    32.7552,2,     -999.0,9,     -999.0,-999.0000,     -999.0,     -999.0,9,     -999.0,     -999.0,9,     -999.0,  -999.0,9,     -999.0,     -999.0,9,     -999.0
33RO20150525,     P16N.2,     195,          2,         22,         22,2,20150620,       1538,     54.751,  -146.9775,       4173,    42.1,   6.5102,  32.6244,2,  32.6344,2,      318,2,   313.8,2,   30.63,2,   16.54,2,    0.14,2,    1.48,2,   4.417,2,   2.464,2,   2.848,2,  2062.8,2,  2199.8,2,   7.7365,6,    25.03,-999.000,9,-999.0000,9, -999.00,9,  -999.0,9,  -999.0,-999.0000,9,-999.0000,    53.7,2,     12.719,3,-999.000,9, 20150620,     1713,-999.000,   6.5101,2,    32.7883,2,     -999.0,9,     -999.0,-999.0000,     -999.0,     -999.0,9,     -999.0,     -999.0,9,     -999.0,  -999.0,9,     -999.0,     -999.0,9,     -999.0
33RO20150525,     P16N.2,     195,          2,         21,         21,2,20150620,       1538,     54.751,  -146.9775,       4173,      67,    5.714,  32.6938,2,  32.7518,2,    288.6,2,   281.5,2,   35.42,2,   19.96,2,    0.23,2,    1.69,2,   4.336,2,    2.44,2,   2.739,2,  2097.9,2,  2206.1,2,   7.6659,2,    25.01,-999.000,9,-999.0000,9, -999.00,9,  -999.0,9,  -999.0,-999.0000,9,-999.0000,    53.1,2,     15.073,3,-999.000,9, 20150620,     1711,-999.000,   5.7145,2,    32.9063,2,     -999.0,9,     -999.0,-999.0000,     -999.0,     -999.0,9,     -999.0,     -999.0,9,     -999.0,  -999.0,9,     -999.0,     -999.0,9,     -999.0
33RO20150525,     P16N.2,     195,          2,         20,         20,2,20150620,       1538,     54.751,  -146.9775,       4173,    91.8,   3.8791,     33.5,2,  33.5277,2,    124.4,2,     137,2,   64.16,2,    35.6,2,    0.02,2,    2.58,2,   3.615,2,    1.94,2,   1.653,2,  2245.6,2,  2262.4,6,   7.3674,2,    25.07,-999.000,9,-999.0000,9, -999.00,9,  -999.0,9,  -999.0,-999.0000,9,-999.0000,    47.0,2,     29.759,3,-999.000,9, 20150620,     1710,-999.000,   3.8874,2,    33.6858,2,     -999.0,9,     -999.0,-999.0000,     -999.0,     -999.0,9,     -999.0,     -999.0,9,     -999.0,  -999.0,9,     -999.0,     -999.0,9,     -999.0
33RO20150525,     P16N.2,     195,          2,         19,         19,2,20150620,       1538,     54.751,  -146.9775,       4173,   117.5,   3.5849,  33.6589,2,  33.6601,2,    112.1,2,   109.9,2,   71.68,2,   38.14,2,    0.01,2,    2.71,2,   3.345,2,   1.804,2,   1.419,2,  2271.1,2,  2274.4,2,   7.3192,2,    25.07,-999.000,9,-999.0000,9, -999.00,9,  -999.0,9,  -999.0,-999.0000,9,-999.0000,    46.1,2,     32.866,3,-999.000,9, 20150620,     1708,-999.000,   3.5845,2,    33.8188,2,     -999.0,9,     -999.0,-999.0000,     -999.0,     -999.0,9,     -999.0,     -999.0,9,     -999.0,  -999.0,9,     -999.0,     -999.0,9,     -999.0
33RO20150525,     P16N.2,     195,          2,         18,         18,2,20150620,       1538,     54.751,  -146.9775,       4173,   157.9,   3.5571,   33.761,2,  33.7608,2,     81.4,2,    78.6,2,   80.18,2,   40.68,2,    0.01,2,    2.87,2,   2.944,2,   1.548,2,   1.102,2,  2295.9,2,  2284.1,2,    7.275,6,    25.06,-999.000,9,-999.0000,9, -999.00,9,  -999.0,9,  -999.0,-999.0000,9,-999.0000,    45.0,2,     35.726,3,-999.000,9, 20150620,     1706,-999.000,    3.557,2,      33.92,2,     -999.0,9,     -999.0,-999.0000,     -999.0,     -999.0,9,     -999.0,     -999.0,9,     -999.0,  -999.0,9,     -999.0,     -999.0,9,     -999.0
33RO20150525,     P16N.2,     195,          2,         17,         17,2,20150620,       1538,     54.751,  -146.9775,       4173,   225.9,   3.6546,  33.8636,2,  33.8655,2,     48.6,2,    47.3,2,   88.39,2,   42.92,2,    0.01,2,       3,2,   2.435,2,   1.251,2,   0.831,2,  2318.4,2,    2296,2,   7.2325,2,    25.04,-999.000,9,-999.0000,9, -999.00,9,  -999.0,9,  -999.0,-999.0000,9,-999.0000,    47.3,2,     39.586,3,-999.000,9, 20150620,     1704,-999.000,   3.6547,2,    34.0251,6,     -999.0,9,     -999.0,-999.0000,     -999.0,     -999.0,9,     -999.0,     -999.0,9,     -999.0,  -999.0,9,     -999.0,     -999.0,9,     -999.0
33RO20150525,     P16N.2,     195,          2,         16,         16,2,20150620,       1538,     54.751,  -146.9775,       4173,   300.1,   3.7214,  33.9679,2,  33.9694,2,     27.7,2,    26.1,2,   97.28,2,   44.19,2,    0.01,2,    3.07,2,    1.84,2,   0.932,2,   0.535,2,  2336.3,2,  2307.3,2,   7.2183,2,    25.02,-999.000,9,-999.0000,9, -999.00,9,  -999.0,9,  -999.0,-999.0000,9,-999.0000,    46.9,2,     43.025,3,-999.000,9, 20150620,     1701,-999.000,   3.7212,2,    34.1296,2,     -999.0,9,     -999.0,-999.0000,     -999.0,     -999.0,9,     -999.0,     -999.0,9,     -999.0,  -999.0,9,     -999.0,     -999.0,9,     -999.0
33RO20150525,     P16N.2,     195,          2,         15,         15,2,20150620,       1538,     54.751,  -146.9775,       4173,   375.2,   3.6825,  34.0398,2,   34.045,2,     24.2,2,    23.7,2,  103.53,2,    43.9,2,       0,2,    3.07,2,   1.467,2,   0.736,2,   0.368,2,  2340.8,2,  2318.5,2,   7.2334,6,    25.06,-999.000,9,-999.0000,9, -999.00,9,  -999.0,9,  -999.0,-999.0000,9,-999.0000,    44.0,2,     43.476,3,-999.000,9, 20150620,     1659,-999.000,    3.682,2,    34.2056,2,     -999.0,9,     -999.0,-999.0000,     -999.0,     -999.0,9,     -999.0,     -999.0,9,     -999.0,  -999.0,9,     -999.0,     -999.0,9,     -999.0
33RO20150525,     P16N.2,     195,          2,         14,         14,2,20150620,       1538,     54.751,  -146.9775,       4173,     467,   3.5787,  34.1305,2,  34.1351,2,     21.9,2,    21.2,2,  112.32,2,    43.6,2,       0,2,    3.06,2,   1.026,6,   0.507,6,   0.256,6,  2350.1,2,  2331.3,2,   7.2509,2,    25.04,-999.000,9,-999.0000,9, -999.00,9,  -999.0,9,  -999.0,-999.0000,9,-999.0000,    42.9,2,     44.723,3,-999.000,9, 20150620,     1656,-999.000,   3.5792,2,    34.2961,2,     -999.0,9,     -999.0,-999.0000,     -999.0,     -999.0,9,     -999.0,     -999.0,9,     -999.0,  -999.0,9,     -999.0,     -999.0,9,     -999.0
33RO20150525,     P16N.2,     195,          2,         13,         13,2,20150620,       1538,     54.751,  -146.9775,       4173,   600.4,   3.4469,   34.222,2,  34.2223,2,     18.8,2,    18.4,2,  121.31,2,    43.6,2,       0,2,    3.07,2,    0.59,2,   0.289,2,   0.129,2,  2358.1,2,  2347.5,2,   7.2664,2,    25.06,-999.000,9,-999.0000,9, -999.00,9,  -999.0,9,  -999.0,-999.0000,9,-999.0000,    41.4,2,     45.904,3,-999.000,9, 20150620,     1653,-999.000,   3.4479,2,    34.3837,2,     -999.0,9,     -999.0,-999.0000,     -999.0,     -999.0,9,     -999.0,     -999.0,9,     -999.0,  -999.0,9,     -999.0,     -999.0,9,     -999.0
33RO20150525,     P16N.2,     195,          2,         12,         12,2,20150620,       1538,     54.751,  -146.9775,       4173,   900.1,   2.9782,  34.3577,2,  34.3575,2,     17.9,2,      18,2,   138.3,2,   43.69,2,       0,2,    3.07,2,   0.173,2,   0.085,2,   0.025,2,  2376.9,2,    2372,2,   7.2867,2,    25.03,-999.000,9,-999.0000,9, -999.00,9,  -999.0,9,  -999.0,-999.0000,9,-999.0000,    39.3,2,     45.989,3,-999.000,9, 20150620,     1647,-999.000,    2.979,2,    34.5195,2,     -999.0,9,     -999.0,-999.0000,     -999.0,     -999.0,9,     -999.0,     -999.0,9,     -999.0,  -999.0,9,     -999.0,     -999.0,9,     -999.0
33RO20150525,     P16N.2,     195,          2,         11,         11,2,20150620,       1538,     54.751,  -146.9775,       4173,  1049.3,   2.7518,  34.4083,2,  34.4083,2,     18.1,2,      18,2,  145.33,2,   43.88,2,       0,2,    3.08,2,   0.088,2,   0.043,2,   0.019,2,  2384.8,2,  2381.2,2,   7.2922,2,    25.08,-999.000,9,-999.0000,9, -999.00,9,  -999.0,9,  -999.0,-999.0000,9,-999.0000,    40.0,2,     46.075,3,-999.000,9, 20150620,     1644,-999.000,   2.7526,2,    34.5706,2,     -999.0,9,     -999.0,-999.0000,     -999.0,     -999.0,9,     -999.0,     -999.0,9,     -999.0,  -999.0,9,     -999.0,     -999.0,9,     -999.0
33RO20150525,     P16N.2,     195,          2,         10,         10,2,20150620,       1538,     54.751,  -146.9775,       4173,  1233.1,   2.5446,  34.4539,2,  34.4527,2,       18,2,    19.6,2,  151.88,2,   43.98,2,       0,2,    3.08,2,   0.041,2,    0.02,2,       0,2,  2391.7,2,    2391,2,   7.3009,6,    25.05,-999.000,9,-999.0000,9, -999.00,9,  -999.0,9,  -999.0,-999.0000,9,-999.0000,    39.6,2,     45.438,3,-999.000,9, 20150620,     1639,-999.000,   2.5451,2,    34.6152,2,     -999.0,9,     -999.0,-999.0000,     -999.0,     -999.0,9,     -999.0,     -999.0,9,     -999.0,  -999.0,9,     -999.0,     -999.0,9,     -999.0
33RO20150525,     P16N.2,     195,          2,          9,          9,2,20150620,       1538,     54.751,  -146.9775,       4173,  1500.2,   2.2756,  34.5124,2,  34.5113,2,     26.9,2,    27.2,2,  159.59,2,   43.68,2,       0,2,    3.04,2,   0.012,2,   0.006,2,       0,2,  2393.6,6,  2402.2,2,   7.3232,6,    25.06,-999.000,9,-999.0000,9, -999.00,9,  -999.0,9,  -999.0,-999.0000,9,-999.0000,    38.0,2,     41.941,3,-999.000,9, 20150620,     1634,-999.000,   2.2753,2,     34.674,6,     -999.0,9,     -999.0,-999.0000,     -999.0,     -999.0,9,     -999.0,     -999.0,9,     -999.0,  -999.0,9,     -999.0,     -999.0,9,     -999.0
33RO20150525,     P16N.2,     195,          2,          8,          8,2,20150620,       1538,     54.751,  -146.9775,       4173,    1768,   2.0817,  34.5544,2,  34.5584,2,     41.1,2,    41.5,2,   163.4,2,    42.8,2,       0,2,    2.97,2,   0.005,2,   0.002,2,   0.122,3,  2389.7,2,  2408.4,2,   7.3538,2,    25.03,-999.000,9,-999.0000,9, -999.00,9,  -999.0,9,  -999.0,-999.0000,9,-999.0000,    38.8,2,     38.173,3,-999.000,9, 20150620,     1628,-999.000,    2.082,2,    34.7214,2,     -999.0,9,     -999.0,-999.0000,     -999.0,     -999.0,9,     -999.0,     -999.0,9,     -999.0,  -999.0,9,     -999.0,     -999.0,9,     -999.0
33RO20150525,     P16N.2,     195,          2,          7,          7,2,20150620,       1538,     54.751,  -146.9775,       4173,  2165.8,   1.8498,  34.6019,2,  34.6022,2,       65,2,    64.8,2,  166.52,2,   41.34,2,       0,2,    2.89,2,   0.006,2,   0.002,2,       0,2,  2379.7,2,  2414.7,2,   7.4036,2,    25.03,-999.000,9,-999.0000,9, -999.00,9,  -999.0,9,  -999.0,-999.0000,9,-999.0000,    39.2,2,     32.485,3,-999.000,9, 20150620,     1620,-999.000,   1.8499,2,    34.7654,2,     -999.0,9,     -999.0,-999.0000,     -999.0,     -999.0,9,     -999.0,     -999.0,9,     -999.0,  -999.0,9,     -999.0,     -999.0,9,     -999.0
33RO20150525,     P16N.2,     195,          2,          6,          6,2,20150620,       1538,     54.751,  -146.9775,       4173,  2567.3,   1.6894,  34.6332,2,  34.6345,2,     86.6,2,    86.9,2,  166.81,2,   39.97,2,       0,2,    2.77,2,   0.002,2,   0.001,2,       0,2,  2368.5,2,    2420,2,   7.4499,2,    25.07,-999.000,9,-999.0000,9, -999.00,9,  -999.0,9,  -999.0,-999.0000,9,-999.0000,    38.3,2,     28.358,3,-999.000,9, 20150620,     1612,-999.000,   1.6897,2,    34.7978,2,     -999.0,9,     -999.0,-999.0000,     -999.0,     -999.0,9,     -999.0,     -999.0,9,     -999.0,  -999.0,9,     -999.0,     -999.0,9,     -999.0
33RO20150525,     P16N.2,     195,          2,          5,          5,2,20150620,       1538,     54.751,  -146.9775,       4173,    2967,     1.58,  34.6547,2,  34.6549,2,    107.7,2,   106.8,2,  165.73,2,    38.7,2,       0,2,    2.68,2,   0.002,2,   0.002,2,       0,2,  2356.7,2,  2421.9,6,   7.4913,2,    25.04,-999.000,9,-999.0000,9, -999.00,9,  -999.0,9,  -999.0,-999.0000,9,-999.0000,    39.2,2,     25.209,3,-999.000,9, 20150620,     1605,-999.000,   1.5798,2,    34.8184,2,     -999.0,9,     -999.0,-999.0000,     -999.0,     -999.0,9,     -999.0,     -999.0,9,     -999.0,  -999.0,9,     -999.0,     -999.0,9,     -999.0
33RO20150525,     P16N.2,     195,          2,          4,          4,2,20150620,       1538,     54.751,  -146.9775,       4173,  3367.6,   1.5024,   34.671,2,  34.6715,2,    123.7,2,   124.3,2,  164.46,6,   37.52,6,       0,6,     2.6,6,   0.003,2,   0.002,2,       0,2,  2346.3,2,  2423.3,2,   7.5256,2,    25.04,-999.000,9,-999.0000,9, -999.00,9,  -999.0,9,  -999.0,-999.0000,9,-999.0000,    38.5,2,     23.120,3,-999.000,9, 20150620,     1557,-999.000,   1.5025,2,     34.835,2,     -999.0,9,     -999.0,-999.0000,     -999.0,     -999.0,9,     -999.0,     -999.0,9,     -999.0,  -999.0,9,     -999.0,     -999.0,9,     -999.0
33RO20150525,     P16N.2,     195,          2,          3,          3,2,20150620,       1538,     54.751,  -146.9775,       4173,  3649.9,     1.48,  34.6774,2,  34.6786,2,    133.5,2,   133.3,2,  160.74,6,   36.94,6,       0,6,    2.55,6,   0.002,2,   0.002,2,       0,2,  2339.4,2,  2421.6,2,   7.5409,2,    25.08,-999.000,9,-999.0000,9, -999.00,9,  -999.0,9,  -999.0,-999.0000,9,-999.0000,    38.8,2,     22.206,3,-999.000,9, 20150620,     1551,-999.000,     1.48,2,    34.8421,2,     -999.0,9,     -999.0,-999.0000,     -999.0,     -999.0,9,     -999.0,     -999.0,9,     -999.0,  -999.0,9,     -999.0,     -999.0,9,     -999.0
33RO20150525,     P16N.2,     195,          2,          2,          2,2,20150620,       1538,     54.751,  -146.9775,       4173,  3999.9,   1.4763,  34.6829,2,  34.6827,2,    140.4,2,   140.2,2,  159.38,6,   36.45,6,       0,6,    2.52,6,   0.003,2,   0.002,2,       0,2,  2335.4,2,  2422.1,2,    7.553,6,    25.09,-999.000,9,-999.0000,9, -999.00,9,  -999.0,9,  -999.0,-999.0000,9,-999.0000,    39.3,2,     21.530,3,-999.000,9, 20150620,     1544,-999.000,   1.4762,2,    34.8463,2,     -999.0,9,     -999.0,-999.0000,     -999.0,     -999.0,9,     -999.0,     -999.0,9,     -999.0,  -999.0,9,     -999.0,     -999.0,9,     -999.0
33RO20150525,     P16N.2,     195,          2,          1,          1,2,20150620,       1538,     54.751,  -146.9775,       4173,  4236.4,   1.4573,  34.6882,2,  34.6924,3,    150.2,2,   148.9,2,   154.1,6,   35.86,6,    0.01,6,    2.48,6,   0.004,2,   0.003,2,       0,2,  2328.4,6,  2420.3,2,   7.5656,2,    25.08,-999.000,9,-999.0000,9, -999.00,9,  -999.0,9,  -999.0,-999.0000,9,-999.0000,    38.6,2,     21.025,3,-999.000,9, 20150620,     1539,-999.000,   1.4569,2,     34.856,2,     -999.0,9,     -999.0,-999.0000,     -999.0,     -999.0,9,     -999.0,     -999.0,9,     -999.0,  -999.0,9,     -999.0,     -999.0,9,     -999.0