BOTTLE,20220330CCHSIOCBG
EXPOCODE,SECT_ID,STNNBR,CASTNO,SAMPNO,BTLNBR,BTLNBR_FLAG_W,DATE,TIME,LATITUDE,LONGITUDE,DEPTH,CTDPRS,CTDTMP,CTDSAL,CTDSAL_FLAG_W,SALNTY,SALNTY_FLAG_W,CTDOXY,CTDOXY_FLAG_W,OXYGEN,OXYGEN_FLAG_W,SILCAT,SILCAT_FLAG_W,NITRAT,NITRAT_FLAG_W,NITRIT,NITRIT_FLAG_W,PHSPHT,PHSPHT_FLAG_W,CFC-11,CFC-11_FLAG_W,CFC-12,CFC-12_FLAG_W,SF6,SF6_FLAG_W,TCARBN,TCARBN_FLAG_W,ALKALI,ALKALI_FLAG_W,PH_TOT,PH_TOT_FLAG_W,PH_TMP,TRITUM,TRITUM_FLAG_W,HELIUM,HELIUM_FLAG_W,DELC13,DELC13_FLAG_W,DELC14,DELC14_FLAG_W,C14ERR,NEON,NEON_FLAG_W,NEONER,DOC,DOC_FLAG_W,N2O,N2O_FLAG_W,ARGON,ARGON_FLAG_W,BTL_DATE,BTL_TIME,TRITER,SBE35,SBE35_FLAG_W,SALTREF,SALTREF_FLAG_W,DELHE3,DELHE3_FLAG_W,DELHER,HELIER,ARGONER,KRYPTON,KRYPTON_FLAG_W,KRYPTONER,XENON,XENON_FLAG_W,XENONER,14C-DOC,14C-DOC_FLAG_W,14C-DOCERR,13C-DOC,13C-DOC_FLAG_W,13C-DOCERR
,,,,,,,,,,,METERS,DBAR,ITS-90,PSS-78,,PSS-78,,UMOL/KG,,UMOL/KG,,UMOL/KG,,UMOL/KG,,UMOL/KG,,UMOL/KG,,PMOL/KG,,PMOL/KG,,FMOL/KG,,UMOL/KG,,UMOL/KG,,,,DEG C,TU,,NMOL/KG,,/MILLE,,/MILLE,,/MILLE,NMOL/KG,,NMOL/KG,UMOL/KG,,NMOL/KG,,UMOL/KG,,,,TU,ITS-90,,G/KG,,PERCNT,,PERCNT,NMOL/KG,UMOL/KG,NMOL/KG,,NMOL/KG,NMOL/KG,,NMOL/KG,/MILLE,,/MILLE,/MILLE,,/MILLE
33RO20150525,     P16N.2,     198,          2,         24,         24,2,20150621,       1237,    55.3603,  -143.7279,       3916,     2.5,   11.359,  32.3462,2,  32.3439,2,    281.9,2,   284.9,2,   12.92,2,    7.93,2,    0.11,2,    0.96,2,   3.544,6,   2.034,6,   2.431,6,  2009.2,6,  2183.9,2,   7.8217,2,    24.92,-999.000,9,-999.0000,9,    1.32,2,   -18.9,2,     2.0,-999.0000,9,-999.0000,    55.4,2,     10.746,3,-999.000,9, 20150621,     1411,-999.000,  11.3706,2,    32.4964,2,     -999.0,9,     -999.0,-999.0000,     -999.0,     -999.0,9,     -999.0,     -999.0,9,     -999.0,  -999.0,9,     -999.0,     -999.0,9,     -999.0
33RO20150525,     P16N.2,     198,          2,         23,         23,2,20150621,       1237,    55.3603,  -143.7279,       3916,    20.3,  10.3303,  32.3254,2,  32.3348,2,    292.4,2,   306.4,2,   12.73,2,    8.32,2,    0.12,2,    0.98,2,    3.91,3,   2.257,2,   2.656,2,  2015.9,2,  2174.2,2,   7.8055,6,    24.99,-999.000,9,-999.0000,9, -999.00,9,  -999.0,9,  -999.0,-999.0000,9,-999.0000,    54.6,2,     11.927,3,-999.000,9, 20150621,     1409,-999.000,  10.3151,2,    32.4872,2,     -999.0,9,     -999.0,-999.0000,     -999.0,     -999.0,9,     -999.0,     -999.0,9,     -999.0,  -999.0,9,     -999.0,     -999.0,9,     -999.0
33RO20150525,     P16N.2,     198,          2,         22,         22,2,20150621,       1237,    55.3603,  -143.7279,       3916,    42.4,   7.2819,  32.3762,2,  32.3761,2,    305.8,2,   303.5,2,      14,2,    9.69,2,    0.13,2,    1.06,2,   4.115,2,   2.337,2,   2.725,2,  2026.9,2,  2178.2,6,   7.7825,6,       25,-999.000,9,-999.0000,9, -999.00,9,  -999.0,9,  -999.0,-999.0000,9,-999.0000,    54.8,2,     12.267,3,-999.000,9, 20150621,     1408,-999.000,   7.2826,2,    32.5288,2,     -999.0,9,     -999.0,-999.0000,     -999.0,     -999.0,9,     -999.0,     -999.0,9,     -999.0,  -999.0,9,     -999.0,     -999.0,9,     -999.0
33RO20150525,     P16N.2,     198,          2,         21,         21,2,20150621,       1237,    55.3603,  -143.7279,       3916,    67.2,   6.9845,  32.5409,2,  32.5463,2,    294.7,2,   297.9,2,   18.89,2,   12.63,2,    0.16,2,    1.25,2,   4.186,2,    2.36,2,   2.784,2,  2049.3,2,  2191.3,2,   7.7546,6,    24.99,-999.000,9,-999.0000,9, -999.00,9,  -999.0,9,  -999.0,-999.0000,9,-999.0000,    54.0,2,     12.554,3,-999.000,9, 20150621,     1406,-999.000,   6.9832,2,    32.6998,2,     -999.0,9,     -999.0,-999.0000,     -999.0,     -999.0,9,     -999.0,     -999.0,9,     -999.0,  -999.0,9,     -999.0,     -999.0,9,     -999.0
33RO20150525,     P16N.2,     198,          2,         20,         20,2,20150621,       1237,    55.3603,  -143.7279,       3916,    92.3,   6.0092,  32.8078,2,  32.8537,2,    249.4,2,   232.1,2,   30.63,2,   21.63,2,    0.03,2,    1.72,2,    4.13,2,   2.284,2,   2.321,2,    2118,2,  2208.6,2,     7.61,2,    25.02,-999.000,9,-999.0000,9, -999.00,9,  -999.0,9,  -999.0,-999.0000,9,-999.0000,    47.6,2,     18.762,3,-999.000,9, 20150621,     1405,-999.000,   6.0093,2,    33.0086,2,     -999.0,9,     -999.0,-999.0000,     -999.0,     -999.0,9,     -999.0,     -999.0,9,     -999.0,  -999.0,9,     -999.0,     -999.0,9,     -999.0
33RO20150525,     P16N.2,     198,          2,         19,         19,2,20150621,       1237,    55.3603,  -143.7279,       3916,   117.6,   5.3395,  33.4163,2,  33.4328,2,    171.3,2,   170.5,2,    44.8,2,   29.24,2,    0.01,2,    2.14,2,   0.695,4,   2.099,2,   1.838,2,  2191.9,2,  2243.1,2,   7.4798,6,    24.99,-999.000,9,-999.0000,9, -999.00,9,  -999.0,9,  -999.0,-999.0000,9,-999.0000,    44.8,2,     24.121,3,-999.000,9, 20150621,     1403,-999.000,   5.3405,2,    33.5904,6,     -999.0,9,     -999.0,-999.0000,     -999.0,     -999.0,9,     -999.0,     -999.0,9,     -999.0,  -999.0,9,     -999.0,     -999.0,9,     -999.0
33RO20150525,     P16N.2,     198,          2,         18,         18,2,20150621,       1237,    55.3603,  -143.7279,       3916,     158,   5.4854,  33.7767,2,  33.7748,2,    113.4,2,   114.7,2,   55.34,2,   33.93,2,    0.01,2,    2.39,2,   3.277,2,   1.752,2,   1.248,2,  2238.3,2,  2266.3,2,    7.396,2,    25.01,-999.000,9,-999.0000,9, -999.00,9,  -999.0,9,  -999.0,-999.0000,9,-999.0000,    46.5,2,     30.393,3,-999.000,9, 20150621,     1401,-999.000,   5.4793,2,    33.9341,2,     -999.0,9,     -999.0,-999.0000,     -999.0,     -999.0,9,     -999.0,     -999.0,9,     -999.0,  -999.0,9,     -999.0,     -999.0,9,     -999.0
33RO20150525,     P16N.2,     198,          2,         17,         17,2,20150621,       1237,    55.3603,  -143.7279,       3916,   225.3,   4.5711,  33.8329,2,  33.8271,2,     87.3,2,    86.9,2,   69.03,2,   37.94,2,    0.01,2,    2.67,2,   1.087,4,   1.528,2,   0.988,2,  2273.4,2,  2280.3,2,    7.326,2,    25.02,-999.000,9,-999.0000,9, -999.00,9,  -999.0,9,  -999.0,-999.0000,9,-999.0000,    43.0,2,     33.128,3,-999.000,9, 20150621,     1359,-999.000,   4.5887,2,    33.9866,2,     -999.0,9,     -999.0,-999.0000,     -999.0,     -999.0,9,     -999.0,     -999.0,9,     -999.0,  -999.0,9,     -999.0,     -999.0,9,     -999.0
33RO20150525,     P16N.2,     198,          2,         16,         16,2,20150621,       1237,    55.3603,  -143.7279,       3916,     310,   4.2542,  33.9138,2,  33.9093,2,     57.3,2,    56.3,2,   81.44,2,   40.97,2,    0.01,2,    2.85,2,   2.088,3,   1.196,2,   0.697,2,  2302.6,2,  2293.6,2,    7.277,2,    25.03,-999.000,9,-999.0000,9, -999.00,9,  -999.0,9,  -999.0,-999.0000,9,-999.0000,    43.6,2,     37.523,3,-999.000,9, 20150621,     1356,-999.000,    4.253,2,    34.0692,2,     -999.0,9,     -999.0,-999.0000,     -999.0,     -999.0,9,     -999.0,     -999.0,9,     -999.0,  -999.0,9,     -999.0,     -999.0,9,     -999.0
33RO20150525,     P16N.2,     198,          2,         15,         15,2,20150621,       1237,    55.3603,  -143.7279,       3916,     390,   4.1214,  34.0162,2,  34.0138,2,     37.1,2,    36.1,2,   92.09,2,   42.33,2,    0.01,2,    2.96,2,   1.672,2,   0.839,2,   0.416,2,  2321.8,2,  2307.5,2,   7.2639,2,    24.98,-999.000,9,-999.0000,9, -999.00,9,  -999.0,9,  -999.0,-999.0000,9,-999.0000,    40.9,2,     41.636,3,-999.000,9, 20150621,     1354,-999.000,   4.1228,2,    34.1741,2,     -999.0,9,     -999.0,-999.0000,     -999.0,     -999.0,9,     -999.0,     -999.0,9,     -999.0,  -999.0,9,     -999.0,     -999.0,9,     -999.0
33RO20150525,     P16N.2,     198,          2,         14,         14,2,20150621,       1237,    55.3603,  -143.7279,       3916,   466.7,   4.0154,  34.0831,2,  34.0837,2,     26.3,2,    26.4,2,   99.52,2,   42.92,2,    0.01,2,       3,2,   1.253,6,   0.619,6,   0.296,6,  2334.8,2,  2319.9,2,   7.2589,2,    25.02,-999.000,9,-999.0000,9, -999.00,9,  -999.0,9,  -999.0,-999.0000,9,-999.0000,    41.3,2,     42.841,3,-999.000,9, 20150621,     1351,-999.000,    4.016,2,    34.2444,2,     -999.0,9,     -999.0,-999.0000,     -999.0,     -999.0,9,     -999.0,     -999.0,9,     -999.0,  -999.0,9,     -999.0,     -999.0,9,     -999.0
33RO20150525,     P16N.2,     198,          2,         13,         13,2,20150621,       1237,    55.3603,  -143.7279,       3916,   600.3,   3.7643,  34.1882,2,  34.1841,2,     18.7,2,    18.9,2,  111.83,2,    43.3,2,    0.01,2,    3.04,2,   0.685,2,   0.336,2,   0.091,2,  2348.8,2,  2336.8,2,   7.2656,2,    25.02,-999.000,9,-999.0000,9, -999.00,9,  -999.0,9,  -999.0,-999.0000,9,-999.0000,    40.4,2,     46.368,3,-999.000,9, 20150621,     1348,-999.000,   3.7638,2,    34.3453,2,     -999.0,9,     -999.0,-999.0000,     -999.0,     -999.0,9,     -999.0,     -999.0,9,     -999.0,  -999.0,9,     -999.0,     -999.0,9,     -999.0
33RO20150525,     P16N.2,     198,          2,         12,         12,2,20150621,       1237,    55.3603,  -143.7279,       3916,     760,   3.4211,  34.2659,2,  34.2635,2,       13,2,    14.5,2,  124.04,2,   43.79,2,    0.01,2,    3.08,2,   0.368,2,   0.181,2,   0.065,2,  2365.9,2,  2352.4,2,   7.2697,6,    24.99,-999.000,9,-999.0000,9, -999.00,9,  -999.0,9,  -999.0,-999.0000,9,-999.0000,    39.4,2,     47.045,3,-999.000,9, 20150621,     1344,-999.000,    3.421,2,    34.4251,2,     -999.0,9,     -999.0,-999.0000,     -999.0,     -999.0,9,     -999.0,     -999.0,9,     -999.0,  -999.0,9,     -999.0,     -999.0,9,     -999.0
33RO20150525,     P16N.2,     198,          2,         11,         11,2,20150621,       1237,    55.3603,  -143.7279,       3916,   900.3,   3.1966,  34.3299,2,  34.3296,2,     13.5,2,    12.9,2,  132.34,2,   43.98,2,    0.01,2,     3.1,2,  -0.003,4,  -0.001,4,   0.004,4,  2373.8,2,  2364.6,2,   7.2767,2,    25.02,-999.000,9,-999.0000,9, -999.00,9,  -999.0,9,  -999.0,-999.0000,9,-999.0000,    38.7,2,     31.554,4,-999.000,9, 20150621,     1341,-999.000,   3.1965,2,    34.4915,2,     -999.0,9,     -999.0,-999.0000,     -999.0,     -999.0,9,     -999.0,     -999.0,9,     -999.0,  -999.0,9,     -999.0,     -999.0,9,     -999.0
33RO20150525,     P16N.2,     198,          2,         10,         10,2,20150621,       1237,    55.3603,  -143.7279,       3916,  1054.7,   2.9234,   34.379,2,   34.378,2,     14.7,2,    15.5,2,  140.45,2,   43.98,2,    0.01,2,    3.09,2,   0.107,2,   0.054,2,       0,2,    2380,2,  2375.6,2,   7.2865,2,       25,-999.000,9,-999.0000,9, -999.00,9,  -999.0,9,  -999.0,-999.0000,9,-999.0000,    40.7,2,     46.309,3,-999.000,9, 20150621,     1337,-999.000,   2.9245,2,    34.5401,2,     -999.0,9,     -999.0,-999.0000,     -999.0,     -999.0,9,     -999.0,     -999.0,9,     -999.0,  -999.0,9,     -999.0,     -999.0,9,     -999.0
33RO20150525,     P16N.2,     198,          2,          9,          9,2,20150621,       1237,    55.3603,  -143.7279,       3916,  1232.7,   2.6729,  34.4328,2,  34.4313,2,     16.3,2,    16.7,2,  148.95,2,   44.18,2,    0.01,2,    3.08,2,   0.051,2,   0.024,2,   0.023,2,  2387.3,6,    2386,2,   7.2941,2,    25.02,-999.000,9,-999.0000,9, -999.00,9,  -999.0,9,  -999.0,-999.0000,9,-999.0000,    38.2,2,     43.803,3,-999.000,9, 20150621,     1333,-999.000,   2.6744,2,    34.5937,2,     -999.0,9,     -999.0,-999.0000,     -999.0,     -999.0,9,     -999.0,     -999.0,9,     -999.0,  -999.0,9,     -999.0,     -999.0,9,     -999.0
33RO20150525,     P16N.2,     198,          2,          8,          8,2,20150621,       1237,    55.3603,  -143.7279,       3916,  1500.2,   2.3474,  34.4986,2,  34.4959,2,     26.1,2,    26.2,2,  157.15,2,   43.69,2,    0.01,2,    3.04,2,  -0.004,3,    0.01,2,       0,2,  2392.9,2,  2397.7,2,   7.3182,2,    25.03,-999.000,9,-999.0000,9, -999.00,9,  -999.0,9,  -999.0,-999.0000,9,-999.0000,    37.7,2,     40.702,3,-999.000,9, 20150621,     1327,-999.000,   2.3486,2,    34.6586,2,     -999.0,9,     -999.0,-999.0000,     -999.0,     -999.0,9,     -999.0,     -999.0,9,     -999.0,  -999.0,9,     -999.0,     -999.0,9,     -999.0
33RO20150525,     P16N.2,     198,          2,          7,          7,2,20150621,       1237,    55.3603,  -143.7279,       3916,  1800.5,    2.053,  34.5599,2,  34.5611,2,     44.9,2,    44.1,2,  163.59,2,   42.71,2,    0.01,2,    2.96,2,  -0.004,3,   0.003,2,       0,2,  2388.7,2,  2409.3,2,   7.3588,2,       25,-999.000,9,-999.0000,9, -999.00,9,  -999.0,9,  -999.0,-999.0000,9,-999.0000,    38.8,2,     34.946,3,-999.000,9, 20150621,     1321,-999.000,   2.0554,2,    34.7241,2,     -999.0,9,     -999.0,-999.0000,     -999.0,     -999.0,9,     -999.0,     -999.0,9,     -999.0,  -999.0,9,     -999.0,     -999.0,9,     -999.0
33RO20150525,     P16N.2,     198,          2,          6,          6,2,20150621,       1237,    55.3603,  -143.7279,       3916,  2099.8,   1.8881,   34.594,2,   34.592,2,     60.3,2,      60,2,  166.32,2,   41.73,2,    0.01,2,     2.9,2,-999.000,9,-999.000,9,-999.000,9,  2381.7,2,  2414.1,2,   7.3937,2,    25.04,-999.000,9,-999.0000,9, -999.00,9,  -999.0,9,  -999.0,-999.0000,9,-999.0000,    37.1,2,     -999.0,9,-999.000,9, 20150621,     1315,-999.000,   1.8887,2,    34.7551,2,     -999.0,9,     -999.0,-999.0000,     -999.0,     -999.0,9,     -999.0,     -999.0,9,     -999.0,  -999.0,9,     -999.0,     -999.0,9,     -999.0
33RO20150525,     P16N.2,     198,          2,          5,          5,2,20150621,       1237,    55.3603,  -143.7279,       3916,    2500,   1.7177,  34.6281,2,  34.6293,2,     82.1,2,    82.3,2,  168.47,2,   40.36,2,    0.01,2,    2.79,2,   0.005,2,   0.002,2,       0,2,  2370.9,2,  2419.7,2,   7.4421,6,    25.03,-999.000,9,-999.0000,9, -999.00,9,  -999.0,9,  -999.0,-999.0000,9,-999.0000,    37.4,2,     27.928,3,-999.000,9, 20150621,     1307,-999.000,   1.7174,2,    34.7926,2,     -999.0,9,     -999.0,-999.0000,     -999.0,     -999.0,9,     -999.0,     -999.0,9,     -999.0,  -999.0,9,     -999.0,     -999.0,9,     -999.0
33RO20150525,     P16N.2,     198,          2,          4,          4,2,20150621,       1237,    55.3603,  -143.7279,       3916,  2900.4,   1.6174,   34.649,2,  34.6466,2,     99.1,2,    99.7,2,  169.15,6,   39.28,6,       0,6,    2.71,6,-999.000,9,-999.000,9,-999.000,9,  2361.9,2,    2424,2,   7.4796,6,    24.99,-999.000,9,-999.0000,9, -999.00,9,  -999.0,9,  -999.0,-999.0000,9,-999.0000,    39.4,2,     -999.0,9,-999.000,9, 20150621,     1259,-999.000,   1.6172,2,      34.81,6,     -999.0,9,     -999.0,-999.0000,     -999.0,     -999.0,9,     -999.0,     -999.0,9,     -999.0,  -999.0,9,     -999.0,     -999.0,9,     -999.0
33RO20150525,     P16N.2,     198,          2,          3,          3,2,20150621,       1237,    55.3603,  -143.7279,       3916,  3300.3,   1.5208,  34.6678,2,  34.6683,2,    120.3,2,   121.4,2,  166.02,6,   37.91,6,       0,6,    2.61,6,   0.004,2,   0.002,2,       0,2,    2351,2,  2424.1,2,   7.5185,2,    25.02,-999.000,9,-999.0000,9, -999.00,9,  -999.0,9,  -999.0,-999.0000,9,-999.0000,    37.2,2,     23.004,3,-999.000,9, 20150621,     1251,-999.000,   1.5208,2,    34.8317,2,     -999.0,9,     -999.0,-999.0000,     -999.0,     -999.0,9,     -999.0,     -999.0,9,     -999.0,  -999.0,9,     -999.0,     -999.0,9,     -999.0
33RO20150525,     P16N.2,     198,          2,          2,          2,2,20150621,       1237,    55.3603,  -143.7279,       3916,  3599.4,   1.4682,  34.6786,2,  34.6805,2,    134.2,2,   133.9,2,   162.6,6,   36.94,6,       0,6,    2.55,6,-999.000,9,-999.000,9,-999.000,9,  2341.2,2,  2423.1,2,   7.5428,6,    25.03,-999.000,9,-999.0000,9, -999.00,9,  -999.0,9,  -999.0,-999.0000,9,-999.0000,    38.8,2,     -999.0,9,-999.000,9, 20150621,     1245,-999.000,   1.4684,2,     34.844,2,     -999.0,9,     -999.0,-999.0000,     -999.0,     -999.0,9,     -999.0,     -999.0,9,     -999.0,  -999.0,9,     -999.0,     -999.0,9,     -999.0
33RO20150525,     P16N.2,     198,          2,          1,          1,2,20150621,       1237,    55.3603,  -143.7279,       3916,  3970.3,   1.4515,   34.686,2,  34.6839,2,    144.3,2,   144.4,2,   158.3,6,   36.25,6,    0.01,6,    2.51,6,   0.024,2,   0.013,2,       0,2,  2333.2,6,  2422.4,2,   7.5593,2,    25.03,-999.000,9,-999.0000,9, -999.00,9,  -999.0,9,  -999.0,-999.0000,9,-999.0000,    36.0,2,     20.623,3,-999.000,9, 20150621,     1237,-999.000,   1.4512,2,    34.8475,2,     -999.0,9,     -999.0,-999.0000,     -999.0,     -999.0,9,     -999.0,     -999.0,9,     -999.0,  -999.0,9,     -999.0,     -999.0,9,     -999.0