BOTTLE,20220330CCHSIOCBG
EXPOCODE,SECT_ID,STNNBR,CASTNO,SAMPNO,BTLNBR,BTLNBR_FLAG_W,DATE,TIME,LATITUDE,LONGITUDE,DEPTH,CTDPRS,CTDTMP,CTDSAL,CTDSAL_FLAG_W,SALNTY,SALNTY_FLAG_W,CTDOXY,CTDOXY_FLAG_W,OXYGEN,OXYGEN_FLAG_W,SILCAT,SILCAT_FLAG_W,NITRAT,NITRAT_FLAG_W,NITRIT,NITRIT_FLAG_W,PHSPHT,PHSPHT_FLAG_W,CFC-11,CFC-11_FLAG_W,CFC-12,CFC-12_FLAG_W,SF6,SF6_FLAG_W,TCARBN,TCARBN_FLAG_W,ALKALI,ALKALI_FLAG_W,PH_TOT,PH_TOT_FLAG_W,PH_TMP,TRITUM,TRITUM_FLAG_W,HELIUM,HELIUM_FLAG_W,DELC13,DELC13_FLAG_W,DELC14,DELC14_FLAG_W,C14ERR,NEON,NEON_FLAG_W,NEONER,DOC,DOC_FLAG_W,N2O,N2O_FLAG_W,ARGON,ARGON_FLAG_W,BTL_DATE,BTL_TIME,TRITER,SBE35,SBE35_FLAG_W,SALTREF,SALTREF_FLAG_W,DELHE3,DELHE3_FLAG_W,DELHER,HELIER,ARGONER,KRYPTON,KRYPTON_FLAG_W,KRYPTONER,XENON,XENON_FLAG_W,XENONER,14C-DOC,14C-DOC_FLAG_W,14C-DOCERR,13C-DOC,13C-DOC_FLAG_W,13C-DOCERR
,,,,,,,,,,,METERS,DBAR,ITS-90,PSS-78,,PSS-78,,UMOL/KG,,UMOL/KG,,UMOL/KG,,UMOL/KG,,UMOL/KG,,UMOL/KG,,PMOL/KG,,PMOL/KG,,FMOL/KG,,UMOL/KG,,UMOL/KG,,,,DEG C,TU,,NMOL/KG,,/MILLE,,/MILLE,,/MILLE,NMOL/KG,,NMOL/KG,UMOL/KG,,NMOL/KG,,UMOL/KG,,,,TU,ITS-90,,G/KG,,PERCNT,,PERCNT,NMOL/KG,UMOL/KG,NMOL/KG,,NMOL/KG,NMOL/KG,,NMOL/KG,/MILLE,,/MILLE,/MILLE,,/MILLE
33RO20150525,     P16N.2,     116,          1,         24,         24,2,20150528,       0810,    24.0007,  -152.0009,       5625,     2.3,  24.4334,  35.2699,2,  35.2678,2,    209.9,2,   209.1,2,    1.17,2,     0.1,2,    0.01,2,     0.1,2,   1.764,2,   1.106,2,    1.43,2,  2012.4,6,    2321,2,   8.0512,2,    25.05,   0.417,2,-999.0000,9, -999.00,9,  -999.0,9,  -999.0,-999.0000,9,-999.0000,  -999.0,9,      6.793,3,-999.000,9, 20150528,     1024,   0.004,  24.4421,2,    35.4341,2,     -999.0,9,     -999.0,-999.0000,     -999.0,     -999.0,9,     -999.0,     -999.0,9,     -999.0,  -999.0,9,     -999.0,     -999.0,9,     -999.0
33RO20150525,     P16N.2,     116,          1,         23,         23,2,20150528,       0810,    24.0007,  -152.0009,       5625,    30.7,  23.5389,  35.2885,2,  35.2875,2,      212,2,     222,4,    1.17,2,     0.1,2,    0.01,2,     0.1,2,   1.795,2,   1.126,2,   1.434,2,  2015.7,2,  2323.4,6,   8.0491,6,    25.04,-999.000,9,-999.0000,9, -999.00,9,  -999.0,9,  -999.0,-999.0000,9,-999.0000,  -999.0,9,      6.878,3,-999.000,9, 20150528,     1021,-999.000,  23.5406,2,    35.4539,2,     -999.0,9,     -999.0,-999.0000,     -999.0,     -999.0,9,     -999.0,     -999.0,9,     -999.0,  -999.0,9,     -999.0,     -999.0,9,     -999.0
33RO20150525,     P16N.2,     116,          1,         22,         22,2,20150528,       0810,    24.0007,  -152.0009,       5625,    61.4,  22.8696,  35.3474,2,  35.3471,2,    213.3,2,   231.4,4,    1.27,2,     0.1,2,    0.01,2,    0.08,2,   1.873,2,   1.171,2,   1.485,2,  2028.1,2,  2326.5,2,   8.0339,2,    25.05,   0.440,2,   1.7228,2, -999.00,9,  -999.0,9,  -999.0,   6.8846,2,   0.0172,  -999.0,9,      7.355,3,-999.000,9, 20150528,     1019,   0.004,  22.8514,2,    35.5137,2,      -1.31,2,       0.20,   0.0045,     -999.0,     -999.0,9,     -999.0,     -999.0,9,     -999.0,  -999.0,9,     -999.0,     -999.0,9,     -999.0
33RO20150525,     P16N.2,     116,          1,         21,         21,3,20150528,       0810,    24.0007,  -152.0009,       5625,    90.6,  21.3828,  35.2884,2,   35.286,2,    212.7,2,   212.4,2,    1.56,2,     0.1,2,    0.01,2,    0.09,2,   1.976,2,   1.232,2,    1.51,2,  2038.9,2,  2321.5,2,   8.0089,2,    25.04,   0.448,2,   1.7239,2, -999.00,9,  -999.0,9,  -999.0,   6.9334,2,   0.0173,  -999.0,9,      7.764,3,-999.000,9, 20150528,     1017,   0.004,  21.4156,2,    35.4524,2,      -1.25,2,       0.20,   0.0045,     -999.0,     -999.0,9,     -999.0,     -999.0,9,     -999.0,  -999.0,9,     -999.0,     -999.0,9,     -999.0
33RO20150525,     P16N.2,     116,          1,         20,         20,2,20150528,       0810,    24.0007,  -152.0009,       5625,     152,  18.9127,    35.02,2,  34.9973,2,    206.7,2,   206.5,2,    2.54,2,    1.56,2,    0.12,2,    0.22,2,   2.204,2,   1.358,2,   1.607,2,  2051.9,2,  2299.4,2,   7.9538,6,    25.06,   0.458,2,   1.7345,2, -999.00,9,  -999.0,9,  -999.0,   7.0469,2,   0.0176,  -999.0,9,      8.802,3,-999.000,9, 20150528,     1015,   0.003,  18.9051,2,    35.1623,2,      -1.23,2,       0.20,   0.0045,     -999.0,     -999.0,9,     -999.0,     -999.0,9,     -999.0,  -999.0,9,     -999.0,     -999.0,9,     -999.0
33RO20150525,     P16N.2,     116,          1,         19,         19,2,20150528,       0810,    24.0007,  -152.0009,       5625,     226,  13.6225,  34.2544,2,  34.2266,2,    200.1,2,   200.3,2,    7.71,2,    8.59,2,    0.01,2,    0.68,2,   2.856,2,   1.692,2,   1.633,2,  2078.3,2,  2254.7,2,   7.8187,2,    25.05,   0.466,2,   1.7670,2, -999.00,9,  -999.0,9,  -999.0,   7.3550,2,   0.0184,  -999.0,9,     13.589,3,-999.000,9, 20150528,     1012,   0.004,  13.6322,2,     34.388,2,      -0.54,2,       0.20,   0.0046,     -999.0,     -999.0,9,     -999.0,     -999.0,9,     -999.0,  -999.0,9,     -999.0,     -999.0,9,     -999.0
33RO20150525,     P16N.2,     116,          1,         18,         18,2,20150528,       0810,    24.0007,  -152.0009,       5625,   301.3,  10.4941,  34.0826,2,  34.0815,2,      196,2,   196.9,2,   16.41,2,   15.72,2,    0.01,2,    1.14,2,   3.237,2,   1.843,2,    1.46,2,  2115.7,2,  2253.7,2,   7.7251,2,    25.04,   0.450,2,   1.7911,2, -999.00,9,  -999.0,9,  -999.0,   7.5530,2,   0.0189,  -999.0,9,     18.622,3,-999.000,9, 20150528,     1009,   0.004,  10.4898,2,    34.2423,2,       1.70,2,       0.20,   0.0047,     -999.0,     -999.0,9,     -999.0,     -999.0,9,     -999.0,  -999.0,9,     -999.0,     -999.0,9,     -999.0
33RO20150525,     P16N.2,     116,          1,         17,         17,2,20150528,       0810,    24.0007,  -152.0009,       5625,   401.3,   8.1087,  34.0291,2,  34.0296,2,    159.8,2,   158.9,2,   32.82,2,   24.22,2,    0.01,2,     1.7,2,   3.082,2,   1.663,2,   1.097,2,  2172.2,2,  2265.7,2,   7.6043,2,    25.06,   0.411,2,   1.8112,2, -999.00,9,  -999.0,9,  -999.0,   7.7107,2,   0.0193,  -999.0,9,     24.493,3,-999.000,9, 20150528,     1006,   0.004,   8.1221,2,    34.1901,2,       6.30,2,       0.20,   0.0047,     -999.0,     -999.0,9,     -999.0,     -999.0,9,     -999.0,  -999.0,9,     -999.0,     -999.0,9,     -999.0
33RO20150525,     P16N.2,     116,          1,         16,         16,2,20150528,       0810,    24.0007,  -152.0009,       5625,   502.8,   6.3677,  34.0463,2,  34.0457,2,     81.1,2,    82.4,2,   57.23,2,   34.87,2,       0,2,    2.44,2,   1.859,6,   0.924,6,   0.375,6,  2254.2,2,  2285.6,2,   7.4153,2,    25.04,   0.344,2,   1.8287,2, -999.00,9,  -999.0,9,  -999.0,   7.8111,2,   0.0195,  -999.0,9,     34.099,3,-999.000,9, 20150528,     1003,   0.002,   6.3783,2,    34.2062,2,      13.83,2,       0.20,   0.0048,     -999.0,     -999.0,9,     -999.0,     -999.0,9,     -999.0,  -999.0,9,     -999.0,     -999.0,9,     -999.0
33RO20150525,     P16N.2,     116,          1,         15,         15,2,20150528,       0810,    24.0007,  -152.0009,       5625,   649.7,   4.8102,  34.1816,2,  34.1803,2,     28.6,2,    29.1,2,   88.87,2,   42.19,2,    0.01,2,    2.98,2,   0.382,2,   0.193,2,   0.079,2,  2321.7,6,  2321.8,2,   7.3067,6,    25.03,   0.129,2,   1.8667,2, -999.00,9,  -999.0,9,  -999.0,   7.9590,2,   0.0199,  -999.0,9,     45.095,3,-999.000,9, 20150528,     0959,   0.003,   4.8153,2,    34.3415,2,      16.31,2,       0.20,   0.0049,     -999.0,     -999.0,9,     -999.0,     -999.0,9,     -999.0,  -999.0,9,     -999.0,     -999.0,9,     -999.0
33RO20150525,     P16N.2,     116,          1,         14,         14,2,20150528,       0810,    24.0007,  -152.0009,       5625,   801.4,   4.3867,  34.3893,2,  34.3873,2,     27.4,2,    28.1,2,  101.35,2,   43.16,2,    0.01,2,    3.05,2,   0.047,2,   0.026,2,   0.054,2,  2342.4,2,  2351.4,2,   7.3368,2,    25.06,   0.010,2,   1.8808,2, -999.00,9,  -999.0,9,  -999.0,   7.9754,2,   0.0199,  -999.0,9,     46.144,3,-999.000,9, 20150528,     0955,   0.002,   4.3885,2,    34.5495,2,      17.16,2,       0.20,   0.0049,     -999.0,     -999.0,9,     -999.0,     -999.0,9,     -999.0,  -999.0,9,     -999.0,     -999.0,9,     -999.0
33RO20150525,     P16N.2,     116,          1,         13,         13,2,20150528,       0810,    24.0007,  -152.0009,       5625,   949.9,   4.0188,  34.4769,2,  34.4765,2,     40.2,2,    41.1,2,  107.59,2,   43.06,2,       0,2,    3.02,2,   0.018,2,   0.011,2,   0.059,3,  2344.9,2,  2366.7,2,   7.3711,6,    25.06,   0.012,2,   1.8863,2, -999.00,9,  -999.0,9,  -999.0,   7.9669,2,   0.0199,  -999.0,9,     42.430,3,-999.000,9, 20150528,     0950,   0.002,   4.0198,2,    34.6391,2,      22.01,2,       0.20,   0.0049,     -999.0,     -999.0,9,     -999.0,     -999.0,9,     -999.0,  -999.0,9,     -999.0,     -999.0,9,     -999.0
33RO20150525,     P16N.2,     116,          1,         12,         12,2,20150528,       0810,    24.0007,  -152.0009,       5625,  1100.4,   3.6473,  34.5197,2,  34.5239,2,     50.9,2,    51.3,2,  114.33,2,   42.57,2,       0,2,    2.98,2,   0.011,2,   0.007,2,   0.084,3,  2348.8,2,  2377.4,2,   7.3939,2,    25.06,   0.008,2,   1.8998,6, -999.00,9,  -999.0,9,  -999.0,   8.0104,6,   0.0140,  -999.0,9,     38.990,3,-999.000,9, 20150528,     0945,   0.001,   3.6472,2,    34.6867,2,      24.78,6,       0.14,   0.0036,     -999.0,     -999.0,9,     -999.0,     -999.0,9,     -999.0,  -999.0,9,     -999.0,     -999.0,9,     -999.0
33RO20150525,     P16N.2,     116,          1,         11,         11,2,20150528,       0810,    24.0007,  -152.0009,       5625,  1300.8,   3.2195,  34.5481,2,  34.5479,2,       59,2,    60.1,2,   123.7,2,   42.27,2,       0,2,    2.94,2,   0.006,2,   0.004,2,   0.038,3,    2354,2,  2388.4,2,   7.4092,2,    25.06,  -0.003,2,   1.9008,2, -999.00,9,  -999.0,9,  -999.0,   8.0089,2,   0.0200,  -999.0,9,     36.696,3,-999.000,9, 20150528,     0940,   0.001,   3.2188,2,    34.7108,2,      23.55,2,       0.20,   0.0049,     -999.0,     -999.0,9,     -999.0,     -999.0,9,     -999.0,  -999.0,9,     -999.0,     -999.0,9,     -999.0
33RO20150525,     P16N.2,     116,          1,         10,         10,2,20150528,       0810,    24.0007,  -152.0009,       5625,  1599.9,   2.6658,  34.5842,2,  34.5841,2,     71.1,2,    71.2,2,  136.09,2,   41.69,2,       0,2,     2.9,2,   0.005,2,   0.002,2,   0.044,3,    2359,2,  2401.2,2,   7.4307,2,    25.05,   0.014,2,   1.9050,2, -999.00,9,  -999.0,9,  -999.0,   8.0459,2,   0.0201,  -999.0,9,     33.169,3,-999.000,9, 20150528,     0934,   0.003,   2.6656,2,    34.7471,2,      22.72,2,       0.20,   0.0050,     -999.0,     -999.0,9,     -999.0,     -999.0,9,     -999.0,  -999.0,9,     -999.0,     -999.0,9,     -999.0
33RO20150525,     P16N.2,     116,          1,          9,          9,2,20150528,       0810,    24.0007,  -152.0009,       5625,  2000.3,   2.1156,  34.6174,2,  34.6194,2,     87.1,2,    87.5,2,  149.07,2,   40.81,2,    0.01,2,    2.79,2,   0.003,2,   0.001,2,       0,2,  2361.9,2,  2414.4,2,   7.4588,2,    25.06,   0.002,6,   1.9193,2, -999.00,9,  -999.0,9,  -999.0,   8.1182,2,   0.0203,  -999.0,9,     29.306,3,-999.000,9, 20150528,     0925,   0.005,   2.1158,2,    34.7826,6,      22.05,2,       0.20,   0.0050,     -999.0,     -999.0,9,     -999.0,     -999.0,9,     -999.0,  -999.0,9,     -999.0,     -999.0,9,     -999.0
33RO20150525,     P16N.2,     116,          1,          8,          8,2,20150528,       0810,    24.0007,  -152.0009,       5625,  2501.2,   1.7583,   34.648,2,  34.6475,2,    105.3,2,   106.2,2,  155.41,2,   39.54,2,    0.01,2,    2.68,2,   0.005,2,   0.003,2,       0,2,    2357,2,  2421.6,2,    7.496,2,    25.07,-999.000,9,-999.0000,9, -999.00,9,  -999.0,9,  -999.0,-999.0000,9,-999.0000,  -999.0,9,     25.656,3,-999.000,9, 20150528,     0915,-999.000,   1.7581,2,    34.8109,2,     -999.0,9,     -999.0,-999.0000,     -999.0,     -999.0,9,     -999.0,     -999.0,9,     -999.0,  -999.0,9,     -999.0,     -999.0,9,     -999.0
33RO20150525,     P16N.2,     116,          1,          7,          7,2,20150528,       0810,    24.0007,  -152.0009,       5625,  3001.4,    1.579,   34.667,2,  34.6664,2,    120.4,2,   121.6,2,  156.97,2,   38.46,2,       0,2,    2.62,2,   0.007,2,   0.004,2,       0,2,  2350.4,2,  2427.6,2,   7.5263,2,    25.03,-999.000,9,-999.0000,9, -999.00,9,  -999.0,9,  -999.0,-999.0000,9,-999.0000,  -999.0,9,     23.235,3,-999.000,9, 20150528,     0905,-999.000,   1.5787,2,    34.8299,2,     -999.0,9,     -999.0,-999.0000,     -999.0,     -999.0,9,     -999.0,     -999.0,9,     -999.0,  -999.0,9,     -999.0,     -999.0,9,     -999.0
33RO20150525,     P16N.2,     116,          1,          6,          6,2,20150528,       0810,    24.0007,  -152.0009,       5625,  3500.5,   1.4994,  34.6783,2,  34.6784,2,    133.8,2,   134.9,2,  155.31,2,   37.49,2,    0.01,2,    2.54,2,   0.002,2,   0.002,2,       0,2,    2342,2,  2426.8,2,   7.5491,2,    25.06,-999.000,9,-999.0000,9, -999.00,9,  -999.0,9,  -999.0,-999.0000,9,-999.0000,  -999.0,9,     21.777,3,-999.000,9, 20150528,     0855,-999.000,   1.4994,2,    34.8419,2,     -999.0,9,     -999.0,-999.0000,     -999.0,     -999.0,9,     -999.0,     -999.0,9,     -999.0,  -999.0,9,     -999.0,     -999.0,9,     -999.0
33RO20150525,     P16N.2,     116,          1,          5,          5,2,20150528,       0810,    24.0007,  -152.0009,       5625,  3999.2,   1.4737,  34.6848,2,  34.6849,2,    144.8,2,   145.4,2,  150.43,2,    36.7,2,       0,2,    2.49,2,   0.002,2,   0.004,2,       0,2,  2332.5,2,  2423.6,2,   7.5658,2,    25.05,-999.000,9,-999.0000,9, -999.00,9,  -999.0,9,  -999.0,-999.0000,9,-999.0000,  -999.0,9,     21.028,3,-999.000,9, 20150528,     0846,-999.000,   1.4738,2,    34.8484,2,     -999.0,9,     -999.0,-999.0000,     -999.0,     -999.0,9,     -999.0,     -999.0,9,     -999.0,  -999.0,9,     -999.0,     -999.0,9,     -999.0
33RO20150525,     P16N.2,     116,          1,          4,          4,2,20150528,       0810,    24.0007,  -152.0009,       5625,  4498.3,   1.4685,  34.6898,2,  34.6896,2,    154.6,2,   155.3,2,   143.6,6,   35.92,6,       0,6,    2.44,6,   0.004,6,   0.006,6,       0,2,  2322.5,2,  2417.2,2,   7.5784,2,    25.04,-999.000,9,-999.0000,9, -999.00,9,  -999.0,9,  -999.0,-999.0000,9,-999.0000,  -999.0,9,     20.515,3,-999.000,9, 20150528,     0836,-999.000,   1.4686,2,    34.8532,2,     -999.0,9,     -999.0,-999.0000,     -999.0,     -999.0,9,     -999.0,     -999.0,9,     -999.0,  -999.0,9,     -999.0,     -999.0,9,     -999.0
33RO20150525,     P16N.2,     116,          1,          3,          3,2,20150528,       0810,    24.0007,  -152.0009,       5625,  5000.8,    1.476,  34.6937,2,  34.6936,2,    162.3,2,   162.4,2,  137.84,6,   35.24,6,       0,6,     2.4,6,   0.003,2,   0.004,2,       0,2,  2313.5,2,  2411.8,2,   7.5868,6,    25.06,-999.000,9,-999.0000,9, -999.00,9,  -999.0,9,  -999.0,-999.0000,9,-999.0000,  -999.0,9,     19.987,3,-999.000,9, 20150528,     0826,-999.000,    1.476,2,    34.8572,6,     -999.0,9,     -999.0,-999.0000,     -999.0,     -999.0,9,     -999.0,     -999.0,9,     -999.0,  -999.0,9,     -999.0,     -999.0,9,     -999.0
33RO20150525,     P16N.2,     116,          1,          2,          2,2,20150528,       0810,    24.0007,  -152.0009,       5625,  5350.1,   1.5095,  34.6948,2,  34.6951,2,      164,2,   164.7,2,  136.57,6,   35.05,6,       0,6,    2.37,6,   0.004,2,   0.003,2,       0,2,    2313,2,  2410.8,6,   7.5887,6,    25.06,-999.000,9,-999.0000,9, -999.00,9,  -999.0,9,  -999.0,-999.0000,9,-999.0000,  -999.0,9,     20.007,3,-999.000,9, 20150528,     0819,-999.000,   1.5097,2,    34.8587,2,     -999.0,9,     -999.0,-999.0000,     -999.0,     -999.0,9,     -999.0,     -999.0,9,     -999.0,  -999.0,9,     -999.0,     -999.0,9,     -999.0
33RO20150525,     P16N.2,     116,          1,          1,          1,2,20150528,       0810,    24.0007,  -152.0009,       5625,  5708.3,   1.5567,   34.695,2,  34.6941,2,    165.1,2,   164.1,2,  136.47,6,   35.14,6,    0.01,6,    2.38,6,   0.003,2,   0.004,2,       0,2,  2311.1,6,  2411.4,2,   7.5895,2,    25.03,-999.000,9,-999.0000,9, -999.00,9,  -999.0,9,  -999.0,-999.0000,9,-999.0000,  -999.0,9,     20.096,3,-999.000,9, 20150528,     0811,-999.000,   1.5569,2,    34.8577,2,     -999.0,9,     -999.0,-999.0000,     -999.0,     -999.0,9,     -999.0,     -999.0,9,     -999.0,  -999.0,9,     -999.0,     -999.0,9,     -999.0