BOTTLE,20220330CCHSIOCBG
EXPOCODE,SECT_ID,STNNBR,CASTNO,SAMPNO,BTLNBR,BTLNBR_FLAG_W,DATE,TIME,LATITUDE,LONGITUDE,DEPTH,CTDPRS,CTDTMP,CTDSAL,CTDSAL_FLAG_W,SALNTY,SALNTY_FLAG_W,CTDOXY,CTDOXY_FLAG_W,OXYGEN,OXYGEN_FLAG_W,SILCAT,SILCAT_FLAG_W,NITRAT,NITRAT_FLAG_W,NITRIT,NITRIT_FLAG_W,PHSPHT,PHSPHT_FLAG_W,CFC-11,CFC-11_FLAG_W,CFC-12,CFC-12_FLAG_W,SF6,SF6_FLAG_W,TCARBN,TCARBN_FLAG_W,ALKALI,ALKALI_FLAG_W,PH_TOT,PH_TOT_FLAG_W,PH_TMP,TRITUM,TRITUM_FLAG_W,HELIUM,HELIUM_FLAG_W,DELC13,DELC13_FLAG_W,DELC14,DELC14_FLAG_W,C14ERR,NEON,NEON_FLAG_W,NEONER,DOC,DOC_FLAG_W,N2O,N2O_FLAG_W,ARGON,ARGON_FLAG_W,BTL_DATE,BTL_TIME,TRITER,SBE35,SBE35_FLAG_W,SALTREF,SALTREF_FLAG_W,DELHE3,DELHE3_FLAG_W,DELHER,HELIER,ARGONER,KRYPTON,KRYPTON_FLAG_W,KRYPTONER,XENON,XENON_FLAG_W,XENONER,14C-DOC,14C-DOC_FLAG_W,14C-DOCERR,13C-DOC,13C-DOC_FLAG_W,13C-DOCERR
,,,,,,,,,,,METERS,DBAR,ITS-90,PSS-78,,PSS-78,,UMOL/KG,,UMOL/KG,,UMOL/KG,,UMOL/KG,,UMOL/KG,,UMOL/KG,,PMOL/KG,,PMOL/KG,,FMOL/KG,,UMOL/KG,,UMOL/KG,,,,DEG C,TU,,NMOL/KG,,/MILLE,,/MILLE,,/MILLE,NMOL/KG,,NMOL/KG,UMOL/KG,,NMOL/KG,,UMOL/KG,,,,TU,ITS-90,,G/KG,,PERCNT,,PERCNT,NMOL/KG,UMOL/KG,NMOL/KG,,NMOL/KG,NMOL/KG,,NMOL/KG,/MILLE,,/MILLE,/MILLE,,/MILLE
33RO20150525,     P16N.2,     152,          1,         24,         24,2,20150608,       1723,         42,       -152,       5099,       3,  12.6181,  33.2528,2,  33.2589,2,    273.8,2,   274.7,2,    0.59,2,    2.05,2,    0.07,2,    0.41,2,   3.421,3,   1.901,6,   2.311,6,    2019,6,  2222.1,2,   7.8891,2,    24.98,   0.502,2,-999.0000,9,    1.13,2,    -0.2,2,     2.9,-999.0000,9,-999.0000,  -999.0,9,     10.192,3,-999.000,9, 20150608,     1920,   0.004,  12.6225,2,    33.4157,2,     -999.0,9,     -999.0,-999.0000,     -999.0,     -999.0,9,     -999.0,     -999.0,9,     -999.0,  -999.0,9,     -999.0,     -999.0,9,     -999.0
33RO20150525,     P16N.2,     152,          1,         23,         23,2,20150608,       1723,         42,       -152,       5099,    25.1,  11.9223,  33.3088,2,  33.3093,2,    281.1,2,   281.4,2,    0.88,2,    2.15,2,    0.08,2,    0.42,2,   3.549,2,   1.961,2,   2.356,2,  2024.4,2,  2224.3,2,   7.8879,6,       25,-999.000,9,-999.0000,9,    1.12,2,     7.5,2,     2.5,-999.0000,9,-999.0000,  -999.0,9,     10.416,3,-999.000,9, 20150608,     1918,-999.000,  11.9219,2,    33.4664,2,     -999.0,9,     -999.0,-999.0000,     -999.0,     -999.0,9,     -999.0,     -999.0,9,     -999.0,  -999.0,9,     -999.0,     -999.0,9,     -999.0
33RO20150525,     P16N.2,     152,          1,         22,         22,2,20150608,       1723,         42,       -152,       5099,    49.7,  10.1353,  33.3315,2,  33.3303,2,      291,2,   290.2,2,    5.28,2,     4.5,2,    0.08,2,    0.58,2,    3.73,2,   2.072,2,   2.528,2,  2037.2,2,  2223.3,6,   7.8509,2,    25.01,   0.489,2,-999.0000,9,    0.93,2,     2.3,2,     2.4,-999.0000,9,-999.0000,  -999.0,9,     11.249,3,-999.000,9, 20150608,     1916,   0.003,  10.1357,2,    33.4875,2,     -999.0,9,     -999.0,-999.0000,     -999.0,     -999.0,9,     -999.0,     -999.0,9,     -999.0,  -999.0,9,     -999.0,     -999.0,9,     -999.0
33RO20150525,     P16N.2,     152,          1,         21,         21,2,20150608,       1723,         42,       -152,       5099,    75.2,   9.7473,    33.36,2,  33.3751,2,    279.6,2,   279.3,2,    6.85,2,    5.58,2,    0.14,2,    0.69,2,   3.761,2,   2.067,2,   2.445,2,  2048.6,2,  2223.9,2,   7.8275,2,    24.99,   0.483,2,   1.7899,2,    0.74,2,    -3.2,2,     3.4,   7.5437,2,   0.0189,  -999.0,9,     11.190,3,  14.017,2, 20150608,     1914,   0.005,   9.7496,2,    33.5325,2,      -1.72,2,       0.20,   0.0047,      0.027,     3.2744,2,     0.0095,    0.47274,2,    0.00137,  -999.0,9,     -999.0,     -999.0,9,     -999.0
33RO20150525,     P16N.2,     152,          1,         20,         20,2,20150608,       1723,         42,       -152,       5099,    99.8,   9.1293,  33.4463,2,  33.4768,2,    269.6,2,   268.2,2,       9,2,    7.92,2,    0.52,2,    0.81,2,   3.735,2,    2.06,2,   2.397,2,  2060.9,2,  2227.2,2,   7.8023,2,       25,   0.496,2,   1.7857,2,    0.58,2,    11.6,2,     2.4,   7.5425,2,   0.0189,  -999.0,9,     11.934,3,  14.030,2, 20150608,     1913,   0.004,   9.1331,2,    33.6347,2,      -2.59,2,       0.20,   0.0046,      0.027,     3.3028,2,     0.0096,    0.47655,2,    0.00138,  -999.0,9,     -999.0,     -999.0,9,     -999.0
33RO20150525,     P16N.2,     152,          1,         19,         19,2,20150608,       1723,         42,       -152,       5099,   149.7,   9.3601,  33.9893,2,  33.9921,2,    238.4,2,     238,2,   15.74,2,   13.49,2,    0.04,2,       1,2,    3.55,2,   2.004,2,    2.16,2,  2102.7,2,  2253.8,2,   7.7579,2,    25.02,   0.498,2,   1.7840,2,    0.11,2,     6.2,2,     2.4,   7.5240,2,   0.0188,  -999.0,9,     14.892,3,  13.941,2, 20150608,     1910,   0.005,   9.3599,2,    34.1524,2,      -1.46,2,       0.20,   0.0046,      0.026,     3.2432,2,     0.0094,    0.46818,2,    0.00136,  -999.0,9,     -999.0,     -999.0,9,     -999.0
33RO20150525,     P16N.2,     152,          1,         18,         18,2,20150608,       1723,         42,       -152,       5099,     226,   8.5646,  34.0004,2,  33.9989,2,    218.3,2,   217.9,2,   24.35,2,    17.9,2,    0.02,2,     1.3,2,   3.554,2,   1.965,2,   1.907,2,  2123.3,2,  2262.4,2,   7.7047,2,    25.01,-999.000,9,-999.0000,9,    0.07,2,     7.0,2,     2.7,-999.0000,9,-999.0000,  -999.0,9,     20.905,3,-999.000,9, 20150608,     1908,-999.000,    8.572,2,    34.1592,2,     -999.0,9,     -999.0,-999.0000,     -999.0,     -999.0,9,     -999.0,     -999.0,9,     -999.0,  -999.0,9,     -999.0,     -999.0,9,     -999.0
33RO20150525,     P16N.2,     152,          1,         17,         17,2,20150608,       1723,         42,       -152,       5099,   299.9,   7.4625,  33.9768,2,  33.9762,2,    171.8,2,   173.4,2,   38.14,2,   24.25,2,    0.01,2,    1.73,2,   3.269,2,   1.737,2,   1.435,2,  2174.4,2,  2272.7,2,   7.6064,2,    24.99,   0.402,2,   1.8089,2,   -0.10,2,   -14.8,2,     3.1,   7.6873,2,   0.0192,  -999.0,9,     26.848,3,  14.627,2, 20150608,     1905,   0.003,   7.4715,2,    34.1364,2,       5.17,2,       0.20,   0.0047,      0.028,     3.4305,2,     0.0099,    0.50223,2,    0.00146,  -999.0,9,     -999.0,     -999.0,9,     -999.0
33RO20150525,     P16N.2,     152,          1,         16,         16,2,20150608,       1723,         42,       -152,       5099,   401.8,   5.6575,  33.9397,2,   33.943,2,    123.8,2,   124.2,2,   60.63,2,   32.47,2,    0.01,2,    2.32,2,    2.81,2,   1.435,2,   0.962,2,    2236,2,    2286,2,   7.4649,2,       25,   0.326,2,   1.8344,2,   -0.32,2,   -61.2,2,     2.0,   7.8168,2,   0.0195,  -999.0,9,     32.937,3,  15.284,2, 20150608,     1902,   0.003,   5.6529,2,    34.1031,2,       8.24,2,       0.20,   0.0048,      0.029,     3.6379,2,     0.0105,    0.54030,2,    0.00157,  -999.0,9,     -999.0,     -999.0,9,     -999.0
33RO20150525,     P16N.2,     152,          1,         15,         15,2,20150608,       1723,         42,       -152,       5099,   499.9,   4.7789,  33.9857,2,  33.9845,2,     89.5,2,    90.3,2,   76.96,2,   36.67,2,    0.01,2,    2.63,2,   2.204,2,   1.082,2,   0.604,2,  2274.7,2,  2300.1,2,   7.3901,2,    24.97,   0.268,6,   1.8453,2,   -0.44,2,   -97.3,2,     2.1,   7.8945,2,   0.0197,  -999.0,9,     36.090,3,  15.604,2, 20150608,     1859,   0.002,   4.7796,2,    34.1447,2,      12.05,2,       0.20,   0.0048,      0.030,     3.7267,2,     0.0108,    0.55764,2,    0.00162,  -999.0,9,     -999.0,     -999.0,9,     -999.0
33RO20150525,     P16N.2,     152,          1,         14,         14,2,20150608,       1723,         42,       -152,       5099,   650.5,   4.1679,  34.1382,2,   34.137,2,     42.4,2,      43,2,   99.34,2,   41.26,2,       0,2,    2.92,2,   1.026,6,    0.49,6,   0.226,6,  2323.3,2,  2326.4,2,   7.3152,2,    25.02,   0.164,2,   1.8582,2,   -0.62,2,  -139.8,2,     2.2,   7.9201,2,   0.0198,  -999.0,9,     42.652,3,  15.761,2, 20150608,     1855,   0.003,   4.1699,2,     34.298,2,      15.84,2,       0.20,   0.0048,      0.030,     3.7744,2,     0.0109,    0.56378,2,    0.00163,  -999.0,9,     -999.0,     -999.0,9,     -999.0
33RO20150525,     P16N.2,     152,          1,         13,         13,2,20150608,       1723,         42,       -152,       5099,   799.9,   3.6787,  34.2348,2,  34.2348,2,       25,2,    24.8,2,  115.96,2,   43.12,2,    0.01,2,    3.06,2,   0.424,2,   0.197,2,   0.024,2,    2351,2,  2348.3,2,   7.2917,6,    25.02,   0.099,2,   1.8709,2,   -0.75,2,  -172.6,2,     2.2,   7.9459,2,   0.0199,  -999.0,9,     46.023,3,  15.871,2, 20150608,     1852,   0.002,   3.6789,2,    34.3962,2,      16.53,2,       0.20,   0.0049,      0.030,     3.8214,2,     0.0111,    0.57321,2,    0.00166,  -999.0,9,     -999.0,     -999.0,9,     -999.0
33RO20150525,     P16N.2,     152,          1,         12,         12,2,20150608,       1723,         42,       -152,       5099,   949.5,   3.2868,  34.3094,2,  34.3065,2,     17.2,2,    19.1,2,  127.98,2,   43.99,2,    0.01,2,     3.1,2,   0.181,2,   0.087,2,   0.014,2,  2367.4,2,  2363.2,2,   7.2854,2,    25.02,   0.060,2,   1.8868,6,   -0.70,2,  -189.3,2,     1.9,   8.0215,6,   0.0135,  -999.0,9,     47.540,3,  16.081,6, 20150608,     1848,   0.002,   3.2859,2,    34.4682,6,      16.13,6,       0.14,   0.0035,      0.018,     3.8856,6,     0.0090,    0.58318,6,    0.00110,  -999.0,9,     -999.0,     -999.0,9,     -999.0
33RO20150525,     P16N.2,     152,          1,         11,         11,2,20150608,       1723,         42,       -152,       5099,  1100.6,    2.975,  34.3733,2,  34.3723,2,     12.7,2,    12.6,2,  138.82,2,   44.58,2,       0,2,    3.14,2,   0.061,2,   0.029,2,       0,2,  2380.8,2,  2377.7,2,   7.2842,6,    25.01,   0.019,2,   1.8879,2,   -0.71,2,  -205.0,2,     1.7,   7.9771,2,   0.0199,  -999.0,9,     49.697,3,  16.069,2, 20150608,     1844,   0.002,   2.9754,2,    34.5343,2,      16.08,2,       0.20,   0.0049,      0.031,     3.8810,2,     0.0113,    0.58405,2,    0.00169,  -999.0,9,     -999.0,     -999.0,9,     -999.0
33RO20150525,     P16N.2,     152,          1,         10,         10,2,20150608,       1723,         42,       -152,       5099,  1299.8,   2.6644,  34.4393,2,  34.4377,2,     13.5,2,    15.2,2,  149.57,2,   44.77,2,       0,2,    3.15,2,   0.021,2,   0.012,2,       0,2,    2393,6,  2389.9,2,   7.2911,2,    25.01,   0.007,2,   1.9112,6,   -0.70,2,  -220.9,2,     1.9,   8.0755,6,   0.0152,  -999.0,9,     49.440,3,  16.212,6, 20150608,     1839,   0.001,    2.665,2,    34.6001,2,      17.01,6,       0.14,   0.0035,      0.020,     3.9189,6,     0.0090,    0.59098,6,    0.00110,  -999.0,9,     -999.0,     -999.0,9,     -999.0
33RO20150525,     P16N.2,     152,          1,          9,          9,2,20150608,       1723,         42,       -152,       5099,  1599.6,   2.3261,  34.5134,2,  34.5122,2,     19.8,2,    20.9,2,  160.02,2,   44.67,2,    0.01,2,    3.11,2,   0.005,2,   0.002,2,       0,2,  2399.8,2,  2403.8,2,   7.3108,6,    24.97,  -0.004,2,   1.9042,2,   -0.66,2,  -232.5,2,     2.0,   8.0388,2,   0.0201,  -999.0,9,     45.059,3,  16.320,2, 20150608,     1833,   0.001,    2.326,2,    34.6749,2,      19.60,2,       0.20,   0.0050,      0.031,     3.9399,2,     0.0114,    0.59846,2,    0.00174,  -999.0,9,     -999.0,     -999.0,9,     -999.0
33RO20150525,     P16N.2,     152,          1,          8,          8,2,20150608,       1723,         42,       -152,       5099,  2000.1,   1.9525,  34.5938,2,  34.5919,2,     52.5,2,    52.5,2,  168.02,2,   42.62,2,       0,2,    2.96,2,  -0.001,2,       0,2,       0,2,  2391.4,2,  2417.8,2,    7.381,2,    25.04,  -0.003,2,   1.9193,2,   -0.48,2,  -244.8,2,     1.7,   8.0763,2,   0.0202,  -999.0,9,     35.738,3,  16.487,2, 20150608,     1825,   0.001,   1.9529,2,     34.755,6,      21.53,2,       0.20,   0.0050,      0.031,     3.9878,2,     0.0116,    0.60463,2,    0.00175,  -999.0,9,     -999.0,     -999.0,9,     -999.0
33RO20150525,     P16N.2,     152,          1,          7,          7,2,20150608,       1723,         42,       -152,       5099,  2400.2,   1.7567,  34.6295,2,  34.6381,4,     76.6,2,    76.7,2,   168.8,2,   41.05,2,       0,2,    2.86,2,  -0.001,2,   0.001,2,       0,2,    2379,2,  2425.2,2,   7.4336,2,    24.97,-999.000,9,-999.0000,9,   -0.34,2,  -247.8,2,     1.9,-999.0000,9,-999.0000,  -999.0,9,     30.222,3,-999.000,9, 20150608,     1817,-999.000,   1.7566,2,    34.8014,2,     -999.0,9,     -999.0,-999.0000,     -999.0,     -999.0,9,     -999.0,     -999.0,9,     -999.0,  -999.0,9,     -999.0,     -999.0,9,     -999.0
33RO20150525,     P16N.2,     152,          1,          6,          6,2,20150608,       1723,         42,       -152,       5099,  2900.2,   1.5832,   34.656,2,  34.6574,2,    104.4,2,   105.3,2,  164.89,2,   39.29,2,       0,2,    2.72,2,  -0.001,2,  -0.001,2,       0,2,    2362,2,  2424.6,2,   7.4882,6,       25,-999.000,9,-999.0000,9,   -0.14,2,  -247.0,2,     1.8,-999.0000,9,-999.0000,  -999.0,9,     26.046,3,-999.000,9, 20150608,     1807,-999.000,   1.5831,2,    34.8209,2,     -999.0,9,     -999.0,-999.0000,     -999.0,     -999.0,9,     -999.0,     -999.0,9,     -999.0,  -999.0,9,     -999.0,     -999.0,9,     -999.0
33RO20150525,     P16N.2,     152,          1,          5,          5,2,20150608,       1723,         42,       -152,       5099,  3399.9,   1.4985,  34.6726,2,  34.6719,2,    124.9,2,   125.6,2,  163.32,2,   37.92,2,       0,2,    2.62,2,  -0.001,2,  -0.001,2,       0,2,  2348.1,2,  2426.4,2,   7.5288,6,       25,-999.000,9,-999.0000,9,   -0.04,2,  -236.7,2,     2.4,-999.0000,9,-999.0000,  -999.0,9,     23.359,3,-999.000,9, 20150608,     1758,-999.000,   1.4985,2,    34.8354,2,     -999.0,9,     -999.0,-999.0000,     -999.0,     -999.0,9,     -999.0,     -999.0,9,     -999.0,  -999.0,9,     -999.0,     -999.0,9,     -999.0
33RO20150525,     P16N.2,     152,          1,          4,          4,2,20150608,       1723,         42,       -152,       5099,  3899.3,   1.4856,  34.6816,2,  34.6806,2,    134.9,2,   135.1,2,  163.91,6,   37.24,6,       0,6,    2.57,6,  -0.001,6,       0,6,       0,6,  2343.5,2,  2430.2,6,    7.552,2,    25.01,-999.000,9,-999.0000,9, -999.00,5,  -999.0,5,-999000.0,-999.0000,9,-999.0000,  -999.0,9,     22.324,3,-999.000,9, 20150608,     1748,-999.000,   1.4854,2,    34.8441,2,     -999.0,9,     -999.0,-999.0000,     -999.0,     -999.0,9,     -999.0,     -999.0,9,     -999.0,  -999.0,9,     -999.0,     -999.0,9,     -999.0
33RO20150525,     P16N.2,     152,          1,          3,          3,2,20150608,       1723,         42,       -152,       5099,  4399.7,   1.5133,  34.6859,2,  34.6852,2,    140.2,2,     140,2,  164.49,6,   37.04,6,       0,6,    2.54,6,   0.001,2,       0,2,       0,2,  2341.7,2,    2434,2,   7.5636,2,       25,-999.000,9,-999.0000,9,    0.07,2,  -225.3,2,     1.8,-999.0000,9,-999.0000,  -999.0,9,     21.955,3,-999.000,9, 20150608,     1738,-999.000,   1.5132,2,    34.8487,2,     -999.0,9,     -999.0,-999.0000,     -999.0,     -999.0,9,     -999.0,     -999.0,9,     -999.0,  -999.0,9,     -999.0,     -999.0,9,     -999.0
33RO20150525,     P16N.2,     152,          1,          2,          2,2,20150608,       1723,         42,       -152,       5099,  4900.4,   1.5673,  34.6874,2,  34.6855,2,    140.8,2,   140.3,2,  165.57,6,   37.04,6,       0,6,    2.53,6,   0.002,2,   0.001,2,       0,2,  2341.6,2,  2435.2,2,   7.5672,2,       25,-999.000,9,-999.0000,9,    0.03,2,  -225.4,2,     1.7,-999.0000,9,-999.0000,  -999.0,9,     21.659,3,-999.000,9, 20150608,     1729,-999.000,   1.5673,2,     34.849,2,     -999.0,9,     -999.0,-999.0000,     -999.0,     -999.0,9,     -999.0,     -999.0,9,     -999.0,  -999.0,9,     -999.0,     -999.0,9,     -999.0
33RO20150525,     P16N.2,     152,          1,          1,          1,2,20150608,       1723,         42,       -152,       5099,  5191.2,   1.6022,  34.6876,2,  34.6872,2,    141.1,2,   272.6,4,  165.18,6,   36.95,6,       0,6,    2.54,6,   0.002,2,   0.001,2,       0,2,  2341.9,6,  2434.2,2,   7.5679,2,       25,-999.000,9,-999.0000,9,    0.09,2,  -224.4,2,     1.8,-999.0000,9,-999.0000,  -999.0,9,     21.760,3,-999.000,9, 20150608,     1723,-999.000,   1.6019,2,    34.8507,2,     -999.0,9,     -999.0,-999.0000,     -999.0,     -999.0,9,     -999.0,     -999.0,9,     -999.0,  -999.0,9,     -999.0,     -999.0,9,     -999.0