BOTTLE,20220330CCHSIOCBG
EXPOCODE,SECT_ID,STNNBR,CASTNO,SAMPNO,BTLNBR,BTLNBR_FLAG_W,DATE,TIME,LATITUDE,LONGITUDE,DEPTH,CTDPRS,CTDTMP,CTDSAL,CTDSAL_FLAG_W,SALNTY,SALNTY_FLAG_W,CTDOXY,CTDOXY_FLAG_W,OXYGEN,OXYGEN_FLAG_W,SILCAT,SILCAT_FLAG_W,NITRAT,NITRAT_FLAG_W,NITRIT,NITRIT_FLAG_W,PHSPHT,PHSPHT_FLAG_W,CFC-11,CFC-11_FLAG_W,CFC-12,CFC-12_FLAG_W,SF6,SF6_FLAG_W,TCARBN,TCARBN_FLAG_W,ALKALI,ALKALI_FLAG_W,PH_TOT,PH_TOT_FLAG_W,PH_TMP,TRITUM,TRITUM_FLAG_W,HELIUM,HELIUM_FLAG_W,DELC13,DELC13_FLAG_W,DELC14,DELC14_FLAG_W,C14ERR,NEON,NEON_FLAG_W,NEONER,DOC,DOC_FLAG_W,N2O,N2O_FLAG_W,ARGON,ARGON_FLAG_W,BTL_DATE,BTL_TIME,TRITER,SBE35,SBE35_FLAG_W,SALTREF,SALTREF_FLAG_W,DELHE3,DELHE3_FLAG_W,DELHER,HELIER,ARGONER,KRYPTON,KRYPTON_FLAG_W,KRYPTONER,XENON,XENON_FLAG_W,XENONER,14C-DOC,14C-DOC_FLAG_W,14C-DOCERR,13C-DOC,13C-DOC_FLAG_W,13C-DOCERR
,,,,,,,,,,,METERS,DBAR,ITS-90,PSS-78,,PSS-78,,UMOL/KG,,UMOL/KG,,UMOL/KG,,UMOL/KG,,UMOL/KG,,UMOL/KG,,PMOL/KG,,PMOL/KG,,FMOL/KG,,UMOL/KG,,UMOL/KG,,,,DEG C,TU,,NMOL/KG,,/MILLE,,/MILLE,,/MILLE,NMOL/KG,,NMOL/KG,UMOL/KG,,NMOL/KG,,UMOL/KG,,,,TU,ITS-90,,G/KG,,PERCNT,,PERCNT,NMOL/KG,UMOL/KG,NMOL/KG,,NMOL/KG,NMOL/KG,,NMOL/KG,/MILLE,,/MILLE,/MILLE,,/MILLE
33RO20150525,     P16N.2,     142,          3,         24,         24,2,20150605,       1455,    37.0002,       -152,       5593,     3.6,  17.5541,  34.2272,2,  34.2263,2,    240.4,2,   241.9,2,     4.4,2,       0,2,    0.01,2,    0.09,2,   2.551,6,   1.488,6,    1.88,6,  2020.1,6,  2251.7,2,   7.9332,2,    25.07,-999.000,9,-999.0000,9, -999.00,9,  -999.0,9,  -999.0,-999.0000,9,-999.0000,  -999.0,9,      8.361,3,-999.000,9, 20150605,     1707,-999.000,  17.5542,2,    34.3877,2,     -999.0,9,     -999.0,-999.0000,     -999.0,     -999.0,9,     -999.0,     -999.0,9,     -999.0,  -999.0,9,     -999.0,     -999.0,9,     -999.0
33RO20150525,     P16N.2,     142,          3,         23,         23,2,20150605,       1455,    37.0002,       -152,       5593,    22.8,  17.5047,  34.2321,2,  34.2326,2,    241.6,2,   242.1,2,     4.4,2,       0,2,    0.01,2,    0.08,2,   2.537,2,    1.49,2,   1.862,2,  2019.7,2,  2251.8,2,   7.9339,6,    25.05,-999.000,9,-999.0000,9, -999.00,9,  -999.0,9,  -999.0,-999.0000,9,-999.0000,  -999.0,9,      8.378,3,-999.000,9, 20150605,     1705,-999.000,  17.5032,2,     34.394,2,     -999.0,9,     -999.0,-999.0000,     -999.0,     -999.0,9,     -999.0,     -999.0,9,     -999.0,  -999.0,9,     -999.0,     -999.0,9,     -999.0
33RO20150525,     P16N.2,     142,          3,         22,         22,2,20150605,       1455,    37.0002,       -152,       5593,    50.3,  14.5071,  34.2307,2,  34.2285,2,    264.9,2,   262.7,2,     4.5,2,     0.2,2,    0.02,2,    0.13,2,   2.845,2,   1.678,2,   2.228,2,  2019.5,2,  2251.6,6,   7.9343,2,    25.07,-999.000,9,-999.0000,9, -999.00,9,  -999.0,9,  -999.0,-999.0000,9,-999.0000,  -999.0,9,      9.657,3,-999.000,9, 20150605,     1703,-999.000,  14.5058,2,    34.3899,2,     -999.0,9,     -999.0,-999.0000,     -999.0,     -999.0,9,     -999.0,     -999.0,9,     -999.0,  -999.0,9,     -999.0,     -999.0,9,     -999.0
33RO20150525,     P16N.2,     142,          3,         21,         21,2,20150605,       1455,    37.0002,       -152,       5593,    79.8,  13.1515,  34.1567,2,  34.1554,2,    247.3,2,   240.4,2,    6.06,2,     4.1,2,    0.16,2,    0.38,2,   2.965,2,   1.713,2,   2.007,2,  2046.7,2,  2250.8,2,   7.8761,2,    25.08,-999.000,9,-999.0000,9, -999.00,9,  -999.0,9,  -999.0,-999.0000,9,-999.0000,  -999.0,9,     11.418,3,-999.000,9, 20150605,     1701,-999.000,  13.1531,2,    34.3164,2,     -999.0,9,     -999.0,-999.0000,     -999.0,     -999.0,9,     -999.0,     -999.0,9,     -999.0,  -999.0,9,     -999.0,     -999.0,9,     -999.0
33RO20150525,     P16N.2,     142,          3,         20,         20,2,20150605,       1455,    37.0002,       -152,       5593,   129.7,  12.2617,  34.2054,2,  34.2048,2,    219.8,2,   219.4,2,    9.48,2,    9.58,2,    0.02,2,     0.7,2,   3.093,2,   1.781,2,   1.941,2,  2078.6,2,  2252.6,2,   7.8163,2,    25.06,-999.000,9,-999.0000,9, -999.00,9,  -999.0,9,  -999.0,-999.0000,9,-999.0000,  -999.0,9,     15.928,3,-999.000,9, 20150605,     1659,-999.000,  12.2719,2,    34.3661,2,     -999.0,9,     -999.0,-999.0000,     -999.0,     -999.0,9,     -999.0,     -999.0,9,     -999.0,  -999.0,9,     -999.0,     -999.0,9,     -999.0
33RO20150525,     P16N.2,     142,          3,         19,         19,2,20150605,       1455,    37.0002,       -152,       5593,   200.2,  11.1516,  34.1781,2,  34.1765,2,      216,2,   215.4,2,   13.68,2,    12.7,2,    0.01,2,     0.9,2,   3.253,2,   1.811,2,   1.687,4,    2097,2,  2259.3,2,    7.781,2,    25.08,-999.000,9,-999.0000,9, -999.00,9,  -999.0,9,  -999.0,-999.0000,9,-999.0000,  -999.0,9,     18.533,3,-999.000,9, 20150605,     1656,-999.000,  11.1554,2,    34.3377,2,     -999.0,9,     -999.0,-999.0000,     -999.0,     -999.0,9,     -999.0,     -999.0,9,     -999.0,  -999.0,9,     -999.0,     -999.0,9,     -999.0
33RO20150525,     P16N.2,     142,          3,         18,         18,2,20150605,       1455,    37.0002,       -152,       5593,   275.2,   9.9526,  34.1279,2,  34.1264,2,    211.3,2,   211.7,2,   19.45,2,   15.64,2,    0.01,2,    1.11,2,   3.237,2,   1.826,2,     1.7,2,  2117.2,2,  2262.6,2,   7.7441,6,    25.09,-999.000,9,-999.0000,9, -999.00,9,  -999.0,9,  -999.0,-999.0000,9,-999.0000,  -999.0,9,     19.526,3,-999.000,9, 20150605,     1654,-999.000,    9.958,2,    34.2873,2,     -999.0,9,     -999.0,-999.0000,     -999.0,     -999.0,9,     -999.0,     -999.0,9,     -999.0,  -999.0,9,     -999.0,     -999.0,9,     -999.0
33RO20150525,     P16N.2,     142,          3,         17,         17,2,20150605,       1455,    37.0002,       -152,       5593,   366.7,    8.624,  34.0583,2,  34.0578,2,    187.1,2,   186.9,2,   29.61,2,   20.62,2,    0.01,2,    1.46,2,   3.248,2,   1.766,2,   1.408,2,  2150.2,2,    2268,2,   7.6683,2,    25.08,-999.000,9,-999.0000,9, -999.00,9,  -999.0,9,  -999.0,-999.0000,9,-999.0000,  -999.0,9,     23.146,3,-999.000,9, 20150605,     1651,-999.000,   8.6142,2,    34.2184,2,     -999.0,9,     -999.0,-999.0000,     -999.0,     -999.0,9,     -999.0,     -999.0,9,     -999.0,  -999.0,9,     -999.0,     -999.0,9,     -999.0
33RO20150525,     P16N.2,     142,          3,         16,         16,2,20150605,       1455,    37.0002,       -152,       5593,   466.9,   6.5622,  33.9816,2,  33.9792,2,    139.7,2,   138.2,2,   49.26,2,   29.03,2,    0.01,2,    2.04,2,   2.845,2,   1.471,2,   0.874,2,  2210.6,2,  2277.2,2,   7.5274,6,    25.08,-999.000,9,-999.0000,9, -999.00,9,  -999.0,9,  -999.0,-999.0000,9,-999.0000,  -999.0,9,     29.716,3,-999.000,9, 20150605,     1648,-999.000,   6.5614,2,    34.1394,2,     -999.0,9,     -999.0,-999.0000,     -999.0,     -999.0,9,     -999.0,     -999.0,9,     -999.0,  -999.0,9,     -999.0,     -999.0,9,     -999.0
33RO20150525,     P16N.2,     142,          3,         15,         15,2,20150605,       1455,    37.0002,       -152,       5593,   599.8,   5.0339,  34.0227,2,  34.0239,2,     86.7,2,    85.1,2,   75.45,2,   36.26,2,    0.02,2,    2.58,2,   1.864,2,   0.909,2,   0.448,2,  2272.9,2,  2301.2,2,   7.3999,6,    25.07,-999.000,9,-999.0000,9, -999.00,9,  -999.0,9,  -999.0,-999.0000,9,-999.0000,  -999.0,9,     36.732,3,-999.000,9, 20150605,     1644,-999.000,   5.0329,2,    34.1843,2,     -999.0,9,     -999.0,-999.0000,     -999.0,     -999.0,9,     -999.0,     -999.0,9,     -999.0,  -999.0,9,     -999.0,     -999.0,9,     -999.0
33RO20150525,     P16N.2,     142,          3,         14,         14,2,20150605,       1455,    37.0002,       -152,       5593,   749.3,   4.1915,  34.1436,2,  34.1427,2,     39.8,2,      40,2,      99,2,   41.14,2,    0.01,2,    2.92,2,   0.796,6,   0.373,6,   0.122,6,  2325.3,2,  2327.2,2,   7.3173,2,    25.05,-999.000,9,-999.0000,9, -999.00,9,  -999.0,9,  -999.0,-999.0000,9,-999.0000,  -999.0,9,     44.230,3,-999.000,9, 20150605,     1640,-999.000,   4.1909,2,    34.3037,2,     -999.0,9,     -999.0,-999.0000,     -999.0,     -999.0,9,     -999.0,     -999.0,9,     -999.0,  -999.0,9,     -999.0,     -999.0,9,     -999.0
33RO20150525,     P16N.2,     142,          3,         13,         13,2,20150605,       1455,    37.0002,       -152,       5593,   900.1,    3.604,  34.2534,2,  34.2523,2,     17.6,2,    17.7,2,  118.43,2,   43.39,2,    0.01,2,    3.06,2,   0.205,2,   0.099,2,       0,2,  2359.2,2,  2348.8,2,    7.283,6,    25.07,-999.000,9,-999.0000,9, -999.00,9,  -999.0,9,  -999.0,-999.0000,9,-999.0000,  -999.0,9,     49.047,3,-999.000,9, 20150605,     1637,-999.000,   3.6043,2,    34.4138,2,     -999.0,9,     -999.0,-999.0000,     -999.0,     -999.0,9,     -999.0,     -999.0,9,     -999.0,  -999.0,9,     -999.0,     -999.0,9,     -999.0
33RO20150525,     P16N.2,     142,          3,         12,         12,2,20150605,       1455,    37.0002,       -152,       5593,  1049.9,   3.1634,  34.3481,2,  34.3457,2,      8.4,2,     7.8,2,  133.57,2,   44.36,2,    0.01,2,    3.13,2,   0.029,2,   0.016,2,   0.048,3,  2380.3,2,  2368.8,2,   7.2753,2,    25.06,-999.000,9,-999.0000,9, -999.00,9,  -999.0,9,  -999.0,-999.0000,9,-999.0000,  -999.0,9,     53.734,3,-999.000,9, 20150605,     1633,-999.000,   3.1642,2,    34.5076,2,     -999.0,9,     -999.0,-999.0000,     -999.0,     -999.0,9,     -999.0,     -999.0,9,     -999.0,  -999.0,9,     -999.0,     -999.0,9,     -999.0
33RO20150525,     P16N.2,     142,          3,         11,         11,2,20150605,       1455,    37.0002,       -152,       5593,  1233.5,    2.846,  34.4226,2,  34.4216,2,      8.4,2,     8.9,2,   144.8,2,   44.55,2,    0.01,2,    3.15,2,   0.005,2,   0.003,2,       0,2,  2391.3,6,  2384.1,2,   7.2824,2,    25.09,-999.000,9,-999.0000,9, -999.00,9,  -999.0,9,  -999.0,-999.0000,9,-999.0000,  -999.0,9,     54.547,3,-999.000,9, 20150605,     1628,-999.000,   2.8467,2,    34.5839,6,     -999.0,9,     -999.0,-999.0000,     -999.0,     -999.0,9,     -999.0,     -999.0,9,     -999.0,  -999.0,9,     -999.0,     -999.0,9,     -999.0
33RO20150525,     P16N.2,     142,          3,         10,         10,2,20150605,       1455,    37.0002,       -152,       5593,  1433.2,    2.567,  34.4968,2,  34.4981,2,     16.7,2,    17.1,2,  153.48,2,   44.26,2,    0.01,2,    3.11,2,   0.003,2,   0.002,2,       0,2,  2398.1,2,  2397.8,2,   7.3057,2,    25.08,-999.000,9,-999.0000,9, -999.00,9,  -999.0,9,  -999.0,-999.0000,9,-999.0000,  -999.0,9,     48.156,3,-999.000,9, 20150605,     1624,-999.000,   2.5668,2,    34.6607,2,     -999.0,9,     -999.0,-999.0000,     -999.0,     -999.0,9,     -999.0,     -999.0,9,     -999.0,  -999.0,9,     -999.0,     -999.0,9,     -999.0
33RO20150525,     P16N.2,     142,          3,          9,          9,2,20150605,       1455,    37.0002,       -152,       5593,  1701.2,   2.2665,  34.5628,2,  34.5611,2,     39.6,2,    40.8,2,  159.53,2,   42.89,2,    0.01,2,    3.02,2,   0.001,2,   0.001,2,       0,2,  2391.3,2,  2408.8,2,   7.3593,2,    25.08,-999.000,9,-999.0000,9, -999.00,9,  -999.0,9,  -999.0,-999.0000,9,-999.0000,  -999.0,9,     39.336,3,-999.000,9, 20150605,     1618,-999.000,   2.2663,2,    34.7241,2,     -999.0,9,     -999.0,-999.0000,     -999.0,     -999.0,9,     -999.0,     -999.0,9,     -999.0,  -999.0,9,     -999.0,     -999.0,9,     -999.0
33RO20150525,     P16N.2,     142,          3,          8,          8,2,20150605,       1455,    37.0002,       -152,       5593,  2066.6,   1.9467,  34.6068,2,  34.6133,4,     62.4,2,    62.2,2,  165.59,2,   41.52,2,    0.01,2,    2.91,2,   0.001,2,       0,2,       0,2,  2385.5,2,  2417.2,2,   7.4051,2,    25.11,-999.000,9,-999.0000,9, -999.00,9,  -999.0,9,  -999.0,-999.0000,9,-999.0000,  -999.0,9,     33.643,3,-999.000,9, 20150605,     1611,-999.000,   1.9466,2,    34.7765,2,     -999.0,9,     -999.0,-999.0000,     -999.0,     -999.0,9,     -999.0,     -999.0,9,     -999.0,  -999.0,9,     -999.0,     -999.0,9,     -999.0
33RO20150525,     P16N.2,     142,          3,          7,          7,2,20150605,       1455,    37.0002,       -152,       5593,  2532.4,   1.6915,  34.6399,2,  34.6388,2,     90.4,2,    90.2,2,  165.48,2,   39.86,2,    0.01,2,    2.77,2,  -0.001,2,       0,2,       0,2,  2368.5,2,  2421.2,2,   7.4601,2,     25.1,-999.000,9,-999.0000,9, -999.00,9,  -999.0,9,  -999.0,-999.0000,9,-999.0000,  -999.0,9,     28.692,3,-999.000,9, 20150605,     1602,-999.000,   1.6913,2,    34.8021,2,     -999.0,9,     -999.0,-999.0000,     -999.0,     -999.0,9,     -999.0,     -999.0,9,     -999.0,  -999.0,9,     -999.0,     -999.0,9,     -999.0
33RO20150525,     P16N.2,     142,          3,          6,          6,2,20150605,       1455,    37.0002,       -152,       5593,  3033.6,   1.5525,  34.6618,2,  34.6619,2,    115.5,2,   115.5,2,  160.11,2,    38.2,2,    0.01,2,    2.64,2,       0,2,   0.001,2,       0,2,  2352.3,2,  2421.8,2,   7.5088,2,    25.08,-999.000,9,-999.0000,9, -999.00,9,  -999.0,9,  -999.0,-999.0000,9,-999.0000,  -999.0,9,     25.408,3,-999.000,9, 20150605,     1552,-999.000,   1.5524,2,    34.8254,2,     -999.0,9,     -999.0,-999.0000,     -999.0,     -999.0,9,     -999.0,     -999.0,9,     -999.0,  -999.0,9,     -999.0,     -999.0,9,     -999.0
33RO20150525,     P16N.2,     142,          3,          5,          5,2,20150605,       1455,    37.0002,       -152,       5593,  3525.6,   1.4917,  34.6748,2,  34.6753,2,    132.3,2,   131.8,2,  156.69,2,   37.12,2,    0.01,2,    2.56,2,  -0.001,2,       0,2,       0,2,  2341.3,2,  2422.2,2,   7.5405,2,    25.12,-999.000,9,-999.0000,9, -999.00,9,  -999.0,9,  -999.0,-999.0000,9,-999.0000,  -999.0,9,     23.507,3,-999.000,9, 20150605,     1543,-999.000,   1.4916,2,    34.8388,2,     -999.0,9,     -999.0,-999.0000,     -999.0,     -999.0,9,     -999.0,     -999.0,9,     -999.0,  -999.0,9,     -999.0,     -999.0,9,     -999.0
33RO20150525,     P16N.2,     142,          3,          4,          4,2,20150605,       1455,    37.0002,       -152,       5593,  4033.1,   1.4802,  34.6828,2,  34.6821,2,      142,2,   141.5,2,  154.93,6,   36.53,6,       0,6,    2.51,6,       0,6,       0,6,       0,6,  2334.8,2,  2424.6,6,     7.56,2,    25.11,-999.000,9,-999.0000,9, -999.00,9,  -999.0,9,  -999.0,-999.0000,9,-999.0000,  -999.0,9,     22.492,3,-999.000,9, 20150605,     1533,-999.000,   1.4803,2,    34.8456,2,     -999.0,9,     -999.0,-999.0000,     -999.0,     -999.0,9,     -999.0,     -999.0,9,     -999.0,  -999.0,9,     -999.0,     -999.0,9,     -999.0
33RO20150525,     P16N.2,     142,          3,          3,          3,2,20150605,       1455,    37.0002,       -152,       5593,  4533.1,   1.5051,  34.6866,2,  34.6917,4,    146.9,2,   146.7,2,  154.15,6,   36.24,6,    0.01,6,    2.48,6,   0.001,2,   0.001,2,       0,2,  2332.5,2,  2424.6,2,   7.5703,6,    25.11,-999.000,9,-999.0000,9, -999.00,9,  -999.0,9,  -999.0,-999.0000,9,-999.0000,  -999.0,9,     21.811,3,-999.000,9, 20150605,     1524,-999.000,   1.5053,2,    34.8553,2,     -999.0,9,     -999.0,-999.0000,     -999.0,     -999.0,9,     -999.0,     -999.0,9,     -999.0,  -999.0,9,     -999.0,     -999.0,9,     -999.0
33RO20150525,     P16N.2,     142,          3,          2,          2,2,20150605,       1455,    37.0002,       -152,       5593,  5095.3,   1.5523,  34.6892,2,  34.6879,2,    151.9,2,   151.8,2,  148.58,6,   35.75,6,    0.01,6,    2.45,6,   0.002,2,   0.003,2,       0,2,  2327.9,2,    2422,2,    7.578,6,    25.11,-999.000,9,-999.0000,9, -999.00,9,  -999.0,9,  -999.0,-999.0000,9,-999.0000,  -999.0,9,     21.848,3,-999.000,9, 20150605,     1513,-999.000,   1.5524,2,    34.8514,6,     -999.0,9,     -999.0,-999.0000,     -999.0,     -999.0,9,     -999.0,     -999.0,9,     -999.0,  -999.0,9,     -999.0,     -999.0,9,     -999.0
33RO20150525,     P16N.2,     142,          3,          1,          1,2,20150605,       1455,    37.0002,       -152,       5593,  5690.1,   1.6234,  34.6906,2,  34.6886,2,    154.5,2,   156.1,2,  145.36,6,   35.66,6,    0.01,6,    2.44,6,   0.006,2,   0.005,2,   0.047,3,  2325.7,6,  2421.6,2,   7.5805,2,    25.11,-999.000,9,-999.0000,9, -999.00,9,  -999.0,9,  -999.0,-999.0000,9,-999.0000,  -999.0,9,     21.616,3,-999.000,9, 20150605,     1456,-999.000,   1.6235,2,    34.8522,2,     -999.0,9,     -999.0,-999.0000,     -999.0,     -999.0,9,     -999.0,     -999.0,9,     -999.0,  -999.0,9,     -999.0,     -999.0,9,     -999.0