BOTTLE,20220330CCHSIOCBG
EXPOCODE,SECT_ID,STNNBR,CASTNO,SAMPNO,BTLNBR,BTLNBR_FLAG_W,DATE,TIME,LATITUDE,LONGITUDE,DEPTH,CTDPRS,CTDTMP,CTDSAL,CTDSAL_FLAG_W,SALNTY,SALNTY_FLAG_W,CTDOXY,CTDOXY_FLAG_W,OXYGEN,OXYGEN_FLAG_W,SILCAT,SILCAT_FLAG_W,NITRAT,NITRAT_FLAG_W,NITRIT,NITRIT_FLAG_W,PHSPHT,PHSPHT_FLAG_W,CFC-11,CFC-11_FLAG_W,CFC-12,CFC-12_FLAG_W,SF6,SF6_FLAG_W,TCARBN,TCARBN_FLAG_W,ALKALI,ALKALI_FLAG_W,PH_TOT,PH_TOT_FLAG_W,PH_TMP,TRITUM,TRITUM_FLAG_W,HELIUM,HELIUM_FLAG_W,DELC13,DELC13_FLAG_W,DELC14,DELC14_FLAG_W,C14ERR,NEON,NEON_FLAG_W,NEONER,DOC,DOC_FLAG_W,N2O,N2O_FLAG_W,ARGON,ARGON_FLAG_W,BTL_DATE,BTL_TIME,TRITER,SBE35,SBE35_FLAG_W,SALTREF,SALTREF_FLAG_W,DELHE3,DELHE3_FLAG_W,DELHER,HELIER,ARGONER,KRYPTON,KRYPTON_FLAG_W,KRYPTONER,XENON,XENON_FLAG_W,XENONER,14C-DOC,14C-DOC_FLAG_W,14C-DOCERR,13C-DOC,13C-DOC_FLAG_W,13C-DOCERR
,,,,,,,,,,,METERS,DBAR,ITS-90,PSS-78,,PSS-78,,UMOL/KG,,UMOL/KG,,UMOL/KG,,UMOL/KG,,UMOL/KG,,UMOL/KG,,PMOL/KG,,PMOL/KG,,FMOL/KG,,UMOL/KG,,UMOL/KG,,,,DEG C,TU,,NMOL/KG,,/MILLE,,/MILLE,,/MILLE,NMOL/KG,,NMOL/KG,UMOL/KG,,NMOL/KG,,UMOL/KG,,,,TU,ITS-90,,G/KG,,PERCNT,,PERCNT,NMOL/KG,UMOL/KG,NMOL/KG,,NMOL/KG,NMOL/KG,,NMOL/KG,/MILLE,,/MILLE,/MILLE,,/MILLE
33RO20150525,     P16N.2,     150,          3,         24,         24,2,20150608,       0346,    41.0001,  -152.0001,       5045,     2.8,  13.4346,  33.3083,2,  33.3081,2,    265.8,2,   269.5,2,    2.84,2,    0.59,2,    0.04,2,    0.26,2,   3.239,3,   1.806,6,   2.182,6,  2011.3,6,  2211.6,2,   7.8844,2,    24.97,-999.000,9,-999.0000,9, -999.00,9,  -999.0,9,  -999.0,-999.0000,9,-999.0000,  -999.0,9,      9.722,3,-999.000,9, 20150608,     0549,-999.000,  13.4338,2,    33.4652,2,     -999.0,9,     -999.0,-999.0000,     -999.0,     -999.0,9,     -999.0,     -999.0,9,     -999.0,  -999.0,9,     -999.0,     -999.0,9,     -999.0
33RO20150525,     P16N.2,     150,          3,         23,         23,2,20150608,       0346,    41.0001,  -152.0001,       5045,    32.5,  12.6755,  33.3881,2,    33.39,2,    272.2,2,     273,2,    2.74,2,    0.68,2,    0.05,2,    0.29,2,   3.323,2,   1.854,2,    2.24,2,  2016.2,2,  2215.3,2,   7.8867,2,    24.98,-999.000,9,-999.0000,9, -999.00,9,  -999.0,9,  -999.0,-999.0000,9,-999.0000,  -999.0,9,      9.955,3,-999.000,9, 20150608,     0546,-999.000,  12.6752,2,    33.5474,2,     -999.0,9,     -999.0,-999.0000,     -999.0,     -999.0,9,     -999.0,     -999.0,9,     -999.0,  -999.0,9,     -999.0,     -999.0,9,     -999.0
33RO20150525,     P16N.2,     150,          3,         22,         22,2,20150608,       0346,    41.0001,  -152.0001,       5045,    58.2,  11.0495,   33.423,2,  33.4287,2,    285.4,2,   285.4,2,    3.03,2,    1.86,2,    0.08,2,    0.36,2,    3.51,2,   1.936,2,   2.301,2,  2023.5,2,  2218.4,6,   7.8751,2,       25,-999.000,9,-999.0000,9, -999.00,9,  -999.0,9,  -999.0,-999.0000,9,-999.0000,  -999.0,9,     10.397,3,-999.000,9, 20150608,     0544,-999.000,  11.0506,2,    33.5863,2,     -999.0,9,     -999.0,-999.0000,     -999.0,     -999.0,9,     -999.0,     -999.0,9,     -999.0,  -999.0,9,     -999.0,     -999.0,9,     -999.0
33RO20150525,     P16N.2,     150,          3,         21,         21,2,20150608,       0346,    41.0001,  -152.0001,       5045,    83.6,  10.1768,  33.4936,2,  33.4957,2,    274.6,2,   275.2,2,    4.69,2,    3.81,2,    0.24,2,    0.51,2,   3.605,2,   1.998,2,   2.385,2,    2040,2,  2225.7,2,   7.8454,2,    24.98,-999.000,9,-999.0000,9, -999.00,9,  -999.0,9,  -999.0,-999.0000,9,-999.0000,  -999.0,9,     10.953,3,-999.000,9, 20150608,     0542,-999.000,  10.1774,2,    33.6537,2,     -999.0,9,     -999.0,-999.0000,     -999.0,     -999.0,9,     -999.0,     -999.0,9,     -999.0,  -999.0,9,     -999.0,     -999.0,9,     -999.0
33RO20150525,     P16N.2,     150,          3,         20,         20,2,20150608,       0346,    41.0001,  -152.0001,       5045,   115.9,   9.8824,  33.6154,2,  33.6351,3,    264.1,2,   264.5,2,    7.04,2,    6.06,2,    0.42,2,    0.63,2,   3.606,2,   2.001,2,   2.239,2,  2054.6,2,  2232.2,2,   7.8215,6,       25,-999.000,9,-999.0000,9, -999.00,9,  -999.0,9,  -999.0,-999.0000,9,-999.0000,  -999.0,9,     11.347,3,-999.000,9, 20150608,     0540,-999.000,   9.8768,2,    33.7937,2,     -999.0,9,     -999.0,-999.0000,     -999.0,     -999.0,9,     -999.0,     -999.0,9,     -999.0,  -999.0,9,     -999.0,     -999.0,9,     -999.0
33RO20150525,     P16N.2,     150,          3,         19,         19,2,20150608,       0346,    41.0001,  -152.0001,       5045,   174.8,    9.491,  33.9921,2,    33.99,2,    236.2,2,   233.9,2,   15.34,2,   13.59,2,    0.04,2,    1.01,2,   3.573,2,   1.985,2,   2.074,2,  2101.8,2,  2252.6,2,   7.7552,6,       25,-999.000,9,-999.0000,9, -999.00,9,  -999.0,9,  -999.0,-999.0000,9,-999.0000,  -999.0,9,     15.031,3,-999.000,9, 20150608,     0537,-999.000,   9.4886,2,    34.1503,2,     -999.0,9,     -999.0,-999.0000,     -999.0,     -999.0,9,     -999.0,     -999.0,9,     -999.0,  -999.0,9,     -999.0,     -999.0,9,     -999.0
33RO20150525,     P16N.2,     150,          3,         18,         18,2,20150608,       0346,    41.0001,  -152.0001,       5045,   250.5,   8.7248,  34.0082,2,  34.0105,2,    204.6,2,   205.3,2,   24.63,2,   18.67,2,    0.01,2,    1.34,2,   3.503,2,   1.902,2,    1.78,2,  2135.4,2,  2261.5,2,   7.6939,2,    24.97,-999.000,9,-999.0000,9, -999.00,9,  -999.0,9,  -999.0,-999.0000,9,-999.0000,  -999.0,9,     22.696,3,-999.000,9, 20150608,     0534,-999.000,   8.7584,2,    34.1708,2,     -999.0,9,     -999.0,-999.0000,     -999.0,     -999.0,9,     -999.0,     -999.0,9,     -999.0,  -999.0,9,     -999.0,     -999.0,9,     -999.0
33RO20150525,     P16N.2,     150,          3,         17,         17,2,20150608,       0346,    41.0001,  -152.0001,       5045,   333.3,    7.406,  33.9808,2,  33.9823,2,    165.1,2,   166.2,2,   39.39,2,   25.31,2,    0.01,2,    1.78,2,   3.246,2,   1.713,2,   1.346,2,  2182.9,2,  2271.9,2,   7.5916,2,    25.01,-999.000,9,-999.0000,9, -999.00,9,  -999.0,9,  -999.0,-999.0000,9,-999.0000,  -999.0,9,     27.591,3,-999.000,9, 20150608,     0531,-999.000,    7.411,2,    34.1425,6,     -999.0,9,     -999.0,-999.0000,     -999.0,     -999.0,9,     -999.0,     -999.0,9,     -999.0,  -999.0,9,     -999.0,     -999.0,9,     -999.0
33RO20150525,     P16N.2,     150,          3,         16,         16,2,20150608,       0346,    41.0001,  -152.0001,       5045,   432.6,   5.8356,  33.9426,2,  33.9413,2,    128.5,2,   128.4,2,   57.67,2,   31.77,2,    0.01,2,    2.27,2,   2.862,2,   1.458,2,   1.005,2,  2229.3,2,  2284.1,2,   7.4797,2,    24.99,-999.000,9,-999.0000,9, -999.00,9,  -999.0,9,  -999.0,-999.0000,9,-999.0000,  -999.0,9,     31.330,3,-999.000,9, 20150608,     0528,-999.000,   5.8548,2,    34.1013,2,     -999.0,9,     -999.0,-999.0000,     -999.0,     -999.0,9,     -999.0,     -999.0,9,     -999.0,  -999.0,9,     -999.0,     -999.0,9,     -999.0
33RO20150525,     P16N.2,     150,          3,         15,         15,2,20150608,       0346,    41.0001,  -152.0001,       5045,   550.2,   4.6265,  34.0123,2,  34.0135,2,     78.7,2,    77.9,2,   81.51,2,   38.21,2,    0.01,2,    2.71,2,   1.983,6,   0.959,6,   0.511,6,  2286.2,2,  2304.7,2,   7.3687,2,    25.01,-999.000,9,-999.0000,9, -999.00,9,  -999.0,9,  -999.0,-999.0000,9,-999.0000,  -999.0,9,     36.746,3,-999.000,9, 20150608,     0525,-999.000,   4.6283,2,    34.1739,2,     -999.0,9,     -999.0,-999.0000,     -999.0,     -999.0,9,     -999.0,     -999.0,9,     -999.0,  -999.0,9,     -999.0,     -999.0,9,     -999.0
33RO20150525,     P16N.2,     150,          3,         14,         14,2,20150608,       0346,    41.0001,  -152.0001,       5045,     700,   4.1117,  34.1522,2,   34.154,2,     40.1,2,    39.2,2,  101.63,2,   41.73,2,       0,2,    2.95,2,   0.941,2,    0.43,2,   0.154,2,  2328.2,2,  2329.3,2,   7.3125,6,       25,-999.000,9,-999.0000,9, -999.00,9,  -999.0,9,  -999.0,-999.0000,9,-999.0000,  -999.0,9,     42.962,3,-999.000,9, 20150608,     0521,-999.000,   4.1105,2,    34.3151,2,     -999.0,9,     -999.0,-999.0000,     -999.0,     -999.0,9,     -999.0,     -999.0,9,     -999.0,  -999.0,9,     -999.0,     -999.0,9,     -999.0
33RO20150525,     P16N.2,     150,          3,         13,         13,2,20150608,       0346,    41.0001,  -152.0001,       5045,     850,   3.5763,  34.2543,2,  34.2533,2,     22.8,2,    22.2,2,  119.21,2,   43.48,2,       0,2,    3.08,2,    0.37,2,   0.171,2,   0.069,2,  2356.1,2,    2351,2,     7.29,2,    25.01,-999.000,9,-999.0000,9, -999.00,9,  -999.0,9,  -999.0,-999.0000,9,-999.0000,  -999.0,9,     46.632,3,-999.000,9, 20150608,     0517,-999.000,   3.5778,2,    34.4148,2,     -999.0,9,     -999.0,-999.0000,     -999.0,     -999.0,9,     -999.0,     -999.0,9,     -999.0,  -999.0,9,     -999.0,     -999.0,9,     -999.0
33RO20150525,     P16N.2,     150,          3,         12,         12,2,20150608,       0346,    41.0001,  -152.0001,       5045,   999.9,   3.2197,  34.3268,2,  34.3261,2,     16.5,2,    15.8,2,  130.74,2,   44.26,2,       0,2,    3.12,2,    0.14,2,   0.065,2,       0,2,  2370.8,2,  2366.2,2,   7.2874,2,       25,-999.000,9,-999.0000,9, -999.00,9,  -999.0,9,  -999.0,-999.0000,9,-999.0000,  -999.0,9,     48.331,3,-999.000,9, 20150608,     0513,-999.000,   3.2202,2,     34.488,2,     -999.0,9,     -999.0,-999.0000,     -999.0,     -999.0,9,     -999.0,     -999.0,9,     -999.0,  -999.0,9,     -999.0,     -999.0,9,     -999.0
33RO20150525,     P16N.2,     150,          3,         11,         11,2,20150608,       0346,    41.0001,  -152.0001,       5045,  1166.9,   2.9131,  34.3873,2,  34.3868,2,       11,2,    10.9,2,  141.77,2,   44.95,2,       0,2,    3.17,2,   0.037,2,   0.019,2,       0,2,  2384.5,6,  2379.5,2,    7.284,2,    24.97,-999.000,9,-999.0000,9, -999.00,9,  -999.0,9,  -999.0,-999.0000,9,-999.0000,  -999.0,9,     51.154,3,-999.000,9, 20150608,     0508,-999.000,   2.9147,2,    34.5489,2,     -999.0,9,     -999.0,-999.0000,     -999.0,     -999.0,9,     -999.0,     -999.0,9,     -999.0,  -999.0,9,     -999.0,     -999.0,9,     -999.0
33RO20150525,     P16N.2,     150,          3,         10,         10,2,20150608,       0346,    41.0001,  -152.0001,       5045,  1400.1,   2.5633,  34.4659,2,  34.4663,2,     11.8,2,    11.5,2,  153.98,2,   45.14,2,       0,2,    3.16,2,-999.000,9,-999.000,9,-999.000,9,  2396.8,2,  2395.4,2,   7.2915,2,    25.01,-999.000,9,-999.0000,9, -999.00,9,  -999.0,9,  -999.0,-999.0000,9,-999.0000,  -999.0,9,     -999.0,9,-999.000,9, 20150608,     0503,-999.000,   2.5639,2,    34.6288,2,     -999.0,9,     -999.0,-999.0000,     -999.0,     -999.0,9,     -999.0,     -999.0,9,     -999.0,  -999.0,9,     -999.0,     -999.0,9,     -999.0
33RO20150525,     P16N.2,     150,          3,          9,          9,2,20150608,       0346,    41.0001,  -152.0001,       5045,  1733.4,   2.1735,  34.5503,2,  34.5504,2,     31.6,2,    31.2,2,  164.42,2,   44.06,2,       0,2,    3.07,2,  -0.001,2,   0.001,2,       0,2,    2397,3,  2409.4,2,   7.3374,6,       25,-999.000,9,-999.0000,9, -999.00,9,  -999.0,9,  -999.0,-999.0000,9,-999.0000,  -999.0,9,     41.270,3,-999.000,9, 20150608,     0456,-999.000,    2.173,2,    34.7133,2,     -999.0,9,     -999.0,-999.0000,     -999.0,     -999.0,9,     -999.0,     -999.0,9,     -999.0,  -999.0,9,     -999.0,     -999.0,9,     -999.0
33RO20150525,     P16N.2,     150,          3,          8,          8,2,20150608,       0346,    41.0001,  -152.0001,       5045,  2133.1,   1.8774,  34.6089,2,  34.6099,2,     61.4,2,    61.7,2,   169.3,2,    42.1,2,       0,2,    2.94,2,-999.000,9,-999.000,9,-999.000,9,  2384.7,2,  2420.2,2,   7.4023,2,       25,-999.000,9,-999.0000,9, -999.00,9,  -999.0,9,  -999.0,-999.0000,9,-999.0000,  -999.0,9,     -999.0,9,-999.000,9, 20150608,     0447,-999.000,    1.877,2,    34.7731,2,     -999.0,9,     -999.0,-999.0000,     -999.0,     -999.0,9,     -999.0,     -999.0,9,     -999.0,  -999.0,9,     -999.0,     -999.0,9,     -999.0
33RO20150525,     P16N.2,     150,          3,          7,          7,2,20150608,       0346,    41.0001,  -152.0001,       5045,  2532.2,   1.6936,  34.6383,2,    34.64,2,     86.2,2,    86.1,2,  167.24,2,   40.54,2,       0,2,    2.82,2,  -0.001,2,   0.001,2,       0,2,  2372.2,2,    2423,2,   7.4529,2,    24.97,-999.000,9,-999.0000,9, -999.00,9,  -999.0,9,  -999.0,-999.0000,9,-999.0000,  -999.0,9,     28.632,3,-999.000,9, 20150608,     0439,-999.000,   1.6932,2,    34.8034,6,     -999.0,9,     -999.0,-999.0000,     -999.0,     -999.0,9,     -999.0,     -999.0,9,     -999.0,  -999.0,9,     -999.0,     -999.0,9,     -999.0
33RO20150525,     P16N.2,     150,          3,          6,          6,2,20150608,       0346,    41.0001,  -152.0001,       5045,  2933.1,   1.5707,  34.6577,2,  34.6585,2,      109,2,   109.5,2,  163.24,2,   38.98,2,       0,2,     2.7,2,-999.000,9,-999.000,9,-999.000,9,  2357.5,2,  2424.4,2,   7.4977,2,    24.98,-999.000,9,-999.0000,9, -999.00,9,  -999.0,9,  -999.0,-999.0000,9,-999.0000,  -999.0,9,     -999.0,9,-999.000,9, 20150608,     0430,-999.000,   1.5704,2,    34.8219,2,     -999.0,9,     -999.0,-999.0000,     -999.0,     -999.0,9,     -999.0,     -999.0,9,     -999.0,  -999.0,9,     -999.0,     -999.0,9,     -999.0
33RO20150525,     P16N.2,     150,          3,          5,          5,2,20150608,       0346,    41.0001,  -152.0001,       5045,  3150.1,   1.5301,  34.6651,2,  34.6662,2,    116.6,2,   117.6,2,  162.26,2,   38.39,2,       0,2,    2.67,2,  -0.001,2,   0.001,2,       0,2,  2349.7,2,    2425,2,   7.5131,6,    24.99,-999.000,9,-999.0000,9, -999.00,9,  -999.0,9,  -999.0,-999.0000,9,-999.0000,  -999.0,9,     24.549,3,-999.000,9, 20150608,     0425,-999.000,   1.5302,2,    34.8297,2,     -999.0,9,     -999.0,-999.0000,     -999.0,     -999.0,9,     -999.0,     -999.0,9,     -999.0,  -999.0,9,     -999.0,     -999.0,9,     -999.0
33RO20150525,     P16N.2,     150,          3,          4,          4,2,20150608,       0346,    41.0001,  -152.0001,       5045,  3599.5,   1.4861,  34.6767,2,  34.6774,2,    129.9,2,   129.8,2,  163.14,6,   37.71,6,       0,6,    2.59,6,-999.000,9,-999.000,9,-999.000,9,  2342.3,2,    2428,2,   7.5419,3,       25,-999.000,9,-999.0000,9, -999.00,9,  -999.0,9,  -999.0,-999.0000,9,-999.0000,  -999.0,9,     -999.0,9,-999.000,9, 20150608,     0417,-999.000,   1.4859,2,    34.8409,2,     -999.0,9,     -999.0,-999.0000,     -999.0,     -999.0,9,     -999.0,     -999.0,9,     -999.0,  -999.0,9,     -999.0,     -999.0,9,     -999.0
33RO20150525,     P16N.2,     150,          3,          3,          3,2,20150608,       0346,    41.0001,  -152.0001,       5045,  4099.8,   1.4915,  34.6835,2,  34.6857,2,    137.7,2,   137.9,2,   164.4,6,   37.22,6,       0,6,    2.56,6,   0.002,2,   0.003,2,       0,2,  2339.7,2,  2431.6,6,   7.5587,2,       25,-999.000,9,-999.0000,9, -999.00,9,  -999.0,9,  -999.0,-999.0000,9,-999.0000,  -999.0,9,     22.056,3,-999.000,9, 20150608,     0407,-999.000,   1.4915,2,    34.8492,2,     -999.0,9,     -999.0,-999.0000,     -999.0,     -999.0,9,     -999.0,     -999.0,9,     -999.0,  -999.0,9,     -999.0,     -999.0,9,     -999.0
33RO20150525,     P16N.2,     150,          3,          2,          2,2,20150608,       0346,    41.0001,  -152.0001,       5045,  4799.9,   1.5561,  34.6867,2,  34.6868,2,    140.4,2,   140.2,2,  165.77,6,   37.02,6,       0,6,    2.54,6,-999.000,9,-999.000,9,-999.000,9,  2339.7,2,  2434.4,2,   7.5673,2,    24.96,-999.000,9,-999.0000,9, -999.00,9,  -999.0,9,  -999.0,-999.0000,9,-999.0000,  -999.0,9,     -999.0,9,-999.000,9, 20150608,     0353,-999.000,    1.556,2,    34.8504,2,     -999.0,9,     -999.0,-999.0000,     -999.0,     -999.0,9,     -999.0,     -999.0,9,     -999.0,  -999.0,9,     -999.0,     -999.0,9,     -999.0
33RO20150525,     P16N.2,     150,          3,          1,          1,2,20150608,       0346,    41.0001,  -152.0001,       5045,  5130.2,   1.5964,   34.687,2,  34.6863,2,      141,2,   140.4,2,  164.99,6,   37.02,6,    0.01,6,    2.55,6,   0.006,2,   0.002,2,       0,2,    2340,6,  2434.6,2,   7.5678,2,    24.99,-999.000,9,-999.0000,9, -999.00,9,  -999.0,9,  -999.0,-999.0000,9,-999.0000,  -999.0,9,     21.768,3,-999.000,9, 20150608,     0346,-999.000,   1.5965,2,    34.8499,2,     -999.0,9,     -999.0,-999.0000,     -999.0,     -999.0,9,     -999.0,     -999.0,9,     -999.0,  -999.0,9,     -999.0,     -999.0,9,     -999.0