BOTTLE,20220330CCHSIOCBG
EXPOCODE,SECT_ID,STNNBR,CASTNO,SAMPNO,BTLNBR,BTLNBR_FLAG_W,DATE,TIME,LATITUDE,LONGITUDE,DEPTH,CTDPRS,CTDTMP,CTDSAL,CTDSAL_FLAG_W,SALNTY,SALNTY_FLAG_W,CTDOXY,CTDOXY_FLAG_W,OXYGEN,OXYGEN_FLAG_W,SILCAT,SILCAT_FLAG_W,NITRAT,NITRAT_FLAG_W,NITRIT,NITRIT_FLAG_W,PHSPHT,PHSPHT_FLAG_W,CFC-11,CFC-11_FLAG_W,CFC-12,CFC-12_FLAG_W,SF6,SF6_FLAG_W,TCARBN,TCARBN_FLAG_W,ALKALI,ALKALI_FLAG_W,PH_TOT,PH_TOT_FLAG_W,PH_TMP,TRITUM,TRITUM_FLAG_W,HELIUM,HELIUM_FLAG_W,DELC13,DELC13_FLAG_W,DELC14,DELC14_FLAG_W,C14ERR,NEON,NEON_FLAG_W,NEONER,DOC,DOC_FLAG_W,N2O,N2O_FLAG_W,ARGON,ARGON_FLAG_W,BTL_DATE,BTL_TIME,TRITER,SBE35,SBE35_FLAG_W,SALTREF,SALTREF_FLAG_W,DELHE3,DELHE3_FLAG_W,DELHER,HELIER,ARGONER,KRYPTON,KRYPTON_FLAG_W,KRYPTONER,XENON,XENON_FLAG_W,XENONER,14C-DOC,14C-DOC_FLAG_W,14C-DOCERR,13C-DOC,13C-DOC_FLAG_W,13C-DOCERR
,,,,,,,,,,,METERS,DBAR,ITS-90,PSS-78,,PSS-78,,UMOL/KG,,UMOL/KG,,UMOL/KG,,UMOL/KG,,UMOL/KG,,UMOL/KG,,PMOL/KG,,PMOL/KG,,FMOL/KG,,UMOL/KG,,UMOL/KG,,,,DEG C,TU,,NMOL/KG,,/MILLE,,/MILLE,,/MILLE,NMOL/KG,,NMOL/KG,UMOL/KG,,NMOL/KG,,UMOL/KG,,,,TU,ITS-90,,G/KG,,PERCNT,,PERCNT,NMOL/KG,UMOL/KG,NMOL/KG,,NMOL/KG,NMOL/KG,,NMOL/KG,/MILLE,,/MILLE,/MILLE,,/MILLE
33RO20150525,     P16N.2,     135,          1,         24,         24,2,20150603,       0431,    33.5001,  -152.0002,       5549,     2.7,  19.0122,  34.2304,2,  34.2332,2,    235.6,2,   236.4,2,    3.52,2,       0,2,    0.01,2,    0.07,2,   2.387,3,    1.43,2,   1.783,2,  2013.6,6,  2251.7,6,   7.9415,2,    25.02,-999.000,9,-999.0000,9, -999.00,9,  -999.0,9,  -999.0,-999.0000,9,-999.0000,    61.2,2,      8.088,3,-999.000,9, 20150603,     0644,-999.000,  19.0342,2,    34.3946,2,     -999.0,9,     -999.0,-999.0000,     -999.0,     -999.0,9,     -999.0,     -999.0,9,     -999.0,  -999.0,9,     -999.0,     -999.0,9,     -999.0
33RO20150525,     P16N.2,     135,          1,         23,         23,2,20150603,       0431,    33.5001,  -152.0002,       5549,    40.6,  15.8861,  34.3477,2,  34.3672,2,    250.2,2,   251.1,2,    3.32,2,       0,2,    0.01,2,    0.08,2,   2.624,2,   1.553,2,   1.907,2,  2016.8,2,    2259,2,    7.951,2,    25.01,-999.000,9,-999.0000,9, -999.00,9,  -999.0,9,  -999.0,-999.0000,9,-999.0000,    60.4,2,      8.582,3,-999.000,9, 20150603,     0641,-999.000,  15.9126,2,    34.5293,2,     -999.0,9,     -999.0,-999.0000,     -999.0,     -999.0,9,     -999.0,     -999.0,9,     -999.0,  -999.0,9,     -999.0,     -999.0,9,     -999.0
33RO20150525,     P16N.2,     135,          1,         22,         22,2,20150603,       0431,    33.5001,  -152.0002,       5549,    69.5,  14.5113,  34.2643,2,  34.2674,2,      248,2,   269.4,4,    4.01,2,    0.59,2,     0.1,2,    0.17,2,   2.772,2,   1.638,2,   1.975,2,  2024.8,2,  2253.8,2,   7.9231,6,    25.03,-999.000,9,-999.0000,9, -999.00,9,  -999.0,9,  -999.0,-999.0000,9,-999.0000,    55.2,2,      9.413,3,-999.000,9, 20150603,     0638,-999.000,  14.5172,2,     34.429,2,     -999.0,9,     -999.0,-999.0000,     -999.0,     -999.0,9,     -999.0,     -999.0,9,     -999.0,  -999.0,9,     -999.0,     -999.0,9,     -999.0
33RO20150525,     P16N.2,     135,          1,         21,         21,2,20150603,       0431,    33.5001,  -152.0002,       5549,   110.5,  13.5878,  34.2714,2,  34.2618,2,    242.2,2,   239.8,2,    5.47,2,    3.81,2,    0.12,2,    0.36,2,   2.878,2,   1.694,2,   1.939,2,  2043.4,2,  2253.7,2,   7.8869,6,    24.99,-999.000,9,-999.0000,9, -999.00,9,  -999.0,9,  -999.0,-999.0000,9,-999.0000,    55.4,2,     10.270,3,-999.000,9, 20150603,     0636,-999.000,  13.5843,2,    34.4234,2,     -999.0,9,     -999.0,-999.0000,     -999.0,     -999.0,9,     -999.0,     -999.0,9,     -999.0,  -999.0,9,     -999.0,     -999.0,9,     -999.0
33RO20150525,     P16N.2,     135,          1,         20,         20,2,20150603,       0431,    33.5001,  -152.0002,       5549,   174.1,  12.5907,  34.2771,2,  34.2714,2,    223.4,2,   223.9,2,    8.79,2,    8.89,2,    0.02,2,    0.65,2,   2.985,2,   1.758,2,   1.912,2,  2070.6,2,  2257.3,6,   7.8333,2,    25.02,-999.000,9,-999.0000,9, -999.00,9,  -999.0,9,  -999.0,-999.0000,9,-999.0000,    50.5,2,     13.501,3,-999.000,9, 20150603,     0633,-999.000,  12.5947,2,     34.433,2,     -999.0,9,     -999.0,-999.0000,     -999.0,     -999.0,9,     -999.0,     -999.0,9,     -999.0,  -999.0,9,     -999.0,     -999.0,9,     -999.0
33RO20150525,     P16N.2,     135,          1,         19,         19,2,20150603,       0431,    33.5001,  -152.0002,       5549,   249.6,  11.1589,  34.1898,2,  34.1885,2,    219.1,2,   228.1,4,   13.29,2,   12.41,2,    0.01,2,    0.89,2,   3.156,2,   1.835,2,   1.834,2,  2092.8,2,  2257.4,2,   7.7876,2,    25.03,-999.000,9,-999.0000,9, -999.00,9,  -999.0,9,  -999.0,-999.0000,9,-999.0000,    45.3,2,     16.632,3,-999.000,9, 20150603,     0630,-999.000,  11.1614,2,    34.3497,2,     -999.0,9,     -999.0,-999.0000,     -999.0,     -999.0,9,     -999.0,     -999.0,9,     -999.0,  -999.0,9,     -999.0,     -999.0,9,     -999.0
33RO20150525,     P16N.2,     135,          1,         18,         18,2,20150603,       0431,    33.5001,  -152.0002,       5549,   332.5,   9.7358,  34.1175,2,  34.1158,2,      205,2,   204.9,2,   20.82,2,   16.81,2,    0.01,2,    1.18,2,   3.255,2,   1.857,2,   1.604,2,  2120.9,2,  2262.9,2,   7.7275,6,    25.02,-999.000,9,-999.0000,9, -999.00,9,  -999.0,9,  -999.0,-999.0000,9,-999.0000,    44.8,2,     20.230,3,-999.000,9, 20150603,     0627,-999.000,   9.7363,2,    34.2767,2,     -999.0,9,     -999.0,-999.0000,     -999.0,     -999.0,9,     -999.0,     -999.0,9,     -999.0,  -999.0,9,     -999.0,     -999.0,9,     -999.0
33RO20150525,     P16N.2,     135,          1,         17,         17,2,20150603,       0431,    33.5001,  -152.0002,       5549,     433,   8.0584,  34.0359,2,  34.0457,2,    174.3,2,   172.6,2,   33.82,2,   23.16,2,    0.01,2,    1.62,2,   3.174,2,   1.725,2,   1.234,2,  2166.5,2,  2270.4,2,   7.6278,2,    25.01,-999.000,9,-999.0000,9, -999.00,9,  -999.0,9,  -999.0,-999.0000,9,-999.0000,    44.6,2,     24.061,3,-999.000,9, 20150603,     0624,-999.000,   8.0583,2,    34.2062,2,     -999.0,9,     -999.0,-999.0000,     -999.0,     -999.0,9,     -999.0,     -999.0,9,     -999.0,  -999.0,9,     -999.0,     -999.0,9,     -999.0
33RO20150525,     P16N.2,     135,          1,         16,         16,2,20150603,       0431,    33.5001,  -152.0002,       5549,   549.8,   5.9161,  33.9798,2,  33.9783,2,    116.6,2,   115.7,2,   58.54,2,   32.25,2,    0.01,2,    2.29,2,   2.466,2,   1.261,2,   0.666,2,  2234.8,2,  2286.9,2,   7.4705,2,    25.03,-999.000,9,-999.0000,9, -999.00,9,  -999.0,9,  -999.0,-999.0000,9,-999.0000,    43.3,2,     31.505,3,-999.000,9, 20150603,     0621,-999.000,    5.914,2,    34.1386,2,     -999.0,9,     -999.0,-999.0000,     -999.0,     -999.0,9,     -999.0,     -999.0,9,     -999.0,  -999.0,9,     -999.0,     -999.0,9,     -999.0
33RO20150525,     P16N.2,     135,          1,         15,         15,2,20150603,       0431,    33.5001,  -152.0002,       5549,     700,   4.5693,  34.0886,2,  34.0869,2,     46.7,2,    46.6,2,   87.76,2,   40.46,2,    0.01,2,    2.86,2,   1.013,2,   0.472,2,   0.242,2,  2309.8,2,  2311.4,2,    7.324,2,    25.04,-999.000,9,-999.0000,9, -999.00,9,  -999.0,9,  -999.0,-999.0000,9,-999.0000,    41.9,2,     40.897,3,-999.000,9, 20150603,     0617,-999.000,   4.5638,2,    34.2477,2,     -999.0,9,     -999.0,-999.0000,     -999.0,     -999.0,9,     -999.0,     -999.0,9,     -999.0,  -999.0,9,     -999.0,     -999.0,9,     -999.0
33RO20150525,     P16N.2,     135,          1,         14,         14,2,20150603,       0431,    33.5001,  -152.0002,       5549,   849.7,   4.0095,  34.2429,2,  34.2413,2,     14.6,2,    14.2,2,  108.27,2,   43.39,2,    0.01,2,    3.09,2,   0.156,2,   0.074,2,       0,2,  2349.9,2,  2342.3,2,   7.2792,2,    25.04,-999.000,9,-999.0000,9, -999.00,9,  -999.0,9,  -999.0,-999.0000,9,-999.0000,    39.5,2,     48.790,3,-999.000,9, 20150603,     0613,-999.000,   4.0074,2,    34.4027,2,     -999.0,9,     -999.0,-999.0000,     -999.0,     -999.0,9,     -999.0,     -999.0,9,     -999.0,  -999.0,9,     -999.0,     -999.0,9,     -999.0
33RO20150525,     P16N.2,     135,          1,         13,         13,2,20150603,       0431,    33.5001,  -152.0002,       5549,   999.8,   3.5411,  34.3423,2,  34.3406,2,      8.4,2,     8.2,2,  123.21,2,   44.26,2,       0,2,    3.16,2,   0.025,6,   0.013,6,       0,6,  2368.5,6,  2361.3,2,   7.2782,2,    25.01,-999.000,9,-999.0000,9, -999.00,9,  -999.0,9,  -999.0,-999.0000,9,-999.0000,    38.6,2,     51.883,3,-999.000,9, 20150603,     0608,-999.000,   3.5423,2,    34.5025,2,     -999.0,9,     -999.0,-999.0000,     -999.0,     -999.0,9,     -999.0,     -999.0,9,     -999.0,  -999.0,9,     -999.0,     -999.0,9,     -999.0
33RO20150525,     P16N.2,     135,          1,         12,         12,2,20150603,       0431,    33.5001,  -152.0002,       5549,  1166.9,   3.2362,  34.4261,2,  34.4249,2,     12.2,2,    11.6,2,  133.17,2,   44.36,2,    0.01,2,    3.16,2,   0.007,2,   0.007,2,       0,2,  2379.9,2,  2378.6,2,   7.2946,2,    25.03,-999.000,9,-999.0000,9, -999.00,9,  -999.0,9,  -999.0,-999.0000,9,-999.0000,    39.6,2,     50.486,3,-999.000,9, 20150603,     0604,-999.000,   3.2373,2,    34.5873,2,     -999.0,9,     -999.0,-999.0000,     -999.0,     -999.0,9,     -999.0,     -999.0,9,     -999.0,  -999.0,9,     -999.0,     -999.0,9,     -999.0
33RO20150525,     P16N.2,     135,          1,         11,         11,2,20150603,       0431,    33.5001,  -152.0002,       5549,  1366.3,   2.8868,   34.507,2,  34.5049,2,       27,2,    26.5,2,  141.17,2,   43.67,2,       0,2,     3.1,2,-999.000,9,-999.000,9,-999.000,9,  2382.3,2,    2392,2,   7.3327,2,    25.01,-999.000,9,-999.0000,9, -999.00,9,  -999.0,9,  -999.0,-999.0000,9,-999.0000,    38.4,2,     -999.0,9,-999.000,9, 20150603,     0559,-999.000,   2.8866,2,    34.6676,2,     -999.0,9,     -999.0,-999.0000,     -999.0,     -999.0,9,     -999.0,     -999.0,9,     -999.0,  -999.0,9,     -999.0,     -999.0,9,     -999.0
33RO20150525,     P16N.2,     135,          1,         10,         10,2,20150603,       0431,    33.5001,  -152.0002,       5549,  1599.6,   2.4951,  34.5565,2,  34.5562,2,       44,2,    43.7,2,  150.45,2,   42.69,2,       0,2,    3.02,2,   0.002,2,   0.004,2,       0,2,  2384.2,2,  2405.2,2,   7.3691,6,    25.04,-999.000,9,-999.0000,9, -999.00,9,  -999.0,9,  -999.0,-999.0000,9,-999.0000,    39.8,2,     37.569,3,-999.000,9, 20150603,     0554,-999.000,   2.4956,2,    34.7191,2,     -999.0,9,     -999.0,-999.0000,     -999.0,     -999.0,9,     -999.0,     -999.0,9,     -999.0,  -999.0,9,     -999.0,     -999.0,9,     -999.0
33RO20150525,     P16N.2,     135,          1,          9,          9,2,20150603,       0431,    33.5001,  -152.0002,       5549,  1933.1,   2.0531,  34.6051,2,   34.604,2,     66.4,2,    66.1,2,  161.39,2,   41.32,2,    0.01,2,     2.9,2,-999.000,9,-999.000,9,-999.000,9,  2380.2,2,  2417.8,2,   7.4176,3,       25,-999.000,9,-999.0000,9, -999.00,9,  -999.0,9,  -999.0,-999.0000,9,-999.0000,    36.8,2,     -999.0,9,-999.000,9, 20150603,     0546,-999.000,   2.0526,2,    34.7671,2,     -999.0,9,     -999.0,-999.0000,     -999.0,     -999.0,9,     -999.0,     -999.0,9,     -999.0,  -999.0,9,     -999.0,     -999.0,9,     -999.0
33RO20150525,     P16N.2,     135,          1,          8,          8,2,20150603,       0431,    33.5001,  -152.0002,       5549,  2367.3,   1.7615,  34.6378,2,   34.637,2,     88.3,2,    87.4,2,  165.68,2,   39.95,2,    0.01,2,    2.78,2,   0.003,2,       0,2,       0,2,  2372.1,2,    2422,2,   7.4612,2,    25.03,-999.000,9,-999.0000,9, -999.00,9,  -999.0,9,  -999.0,-999.0000,9,-999.0000,    37.5,2,     27.387,3,-999.000,9, 20150603,     0537,-999.000,   1.7614,2,    34.8003,2,     -999.0,9,     -999.0,-999.0000,     -999.0,     -999.0,9,     -999.0,     -999.0,9,     -999.0,  -999.0,9,     -999.0,     -999.0,9,     -999.0
33RO20150525,     P16N.2,     135,          1,          7,          7,2,20150603,       0431,    33.5001,  -152.0002,       5549,  2866.3,   1.5782,  34.6598,2,  34.6638,2,    110.6,2,   110.6,2,  163.82,2,   38.59,2,       0,2,    2.68,2,-999.000,9,-999.000,9,-999.000,9,  2357.6,2,  2426.8,2,   7.5038,6,    25.01,-999.000,9,-999.0000,9, -999.00,9,  -999.0,9,  -999.0,-999.0000,9,-999.0000,    37.5,2,     -999.0,9,-999.000,9, 20150603,     0528,-999.000,   1.5786,2,    34.8272,2,     -999.0,9,     -999.0,-999.0000,     -999.0,     -999.0,9,     -999.0,     -999.0,9,     -999.0,  -999.0,9,     -999.0,     -999.0,9,     -999.0
33RO20150525,     P16N.2,     135,          1,          6,          6,2,20150603,       0431,    33.5001,  -152.0002,       5549,  3366.8,   1.4856,  34.6747,2,  34.6785,2,    130.1,2,   130.2,2,  157.76,2,   37.32,2,       0,2,    2.57,2,-999.000,9,-999.000,9,-999.000,9,  2343.6,2,  2425.2,2,   7.5403,2,    24.98,-999.000,9,-999.0000,9, -999.00,9,  -999.0,9,  -999.0,-999.0000,9,-999.0000,    37.0,2,     -999.0,9,-999.000,9, 20150603,     0518,-999.000,   1.4857,2,     34.842,2,     -999.0,9,     -999.0,-999.0000,     -999.0,     -999.0,9,     -999.0,     -999.0,9,     -999.0,  -999.0,9,     -999.0,     -999.0,9,     -999.0
33RO20150525,     P16N.2,     135,          1,          5,          5,2,20150603,       0431,    33.5001,  -152.0002,       5549,  3865.9,   1.4673,  34.6824,2,  34.6826,2,    141.1,2,   141.4,2,  153.76,2,   36.63,2,       0,2,    2.51,2,-999.000,9,-999.000,9,-999.000,9,    2334,2,  2424.8,2,   7.5599,6,    25.03,-999.000,9,-999.0000,9, -999.00,9,  -999.0,9,  -999.0,-999.0000,9,-999.0000,    38.1,2,     -999.0,9,-999.000,9, 20150603,     0508,-999.000,   1.4673,2,    34.8462,2,     -999.0,9,     -999.0,-999.0000,     -999.0,     -999.0,9,     -999.0,     -999.0,9,     -999.0,  -999.0,9,     -999.0,     -999.0,9,     -999.0
33RO20150525,     P16N.2,     135,          1,          4,          4,2,20150603,       0431,    33.5001,  -152.0002,       5549,  4362.8,   1.4875,  34.6865,2,  34.6865,2,    147.7,2,   147.4,2,  151.31,6,   36.14,6,       0,6,    2.48,6,-999.000,9,-999.000,9,-999.000,9,  2332.4,2,  2424.8,2,   7.5705,2,    25.05,-999.000,9,-999.0000,9, -999.00,9,  -999.0,9,  -999.0,-999.0000,9,-999.0000,    37.1,2,     -999.0,9,-999.000,9, 20150603,     0458,-999.000,   1.4876,2,      34.85,6,     -999.0,9,     -999.0,-999.0000,     -999.0,     -999.0,9,     -999.0,     -999.0,9,     -999.0,  -999.0,9,     -999.0,     -999.0,9,     -999.0
33RO20150525,     P16N.2,     135,          1,          3,          3,2,20150603,       0431,    33.5001,  -152.0002,       5549,  4867.6,   1.5239,  34.6894,2,  34.6885,2,    153.1,2,   152.3,2,  146.53,6,   35.85,6,       0,6,    2.45,6,-999.000,9,-999.000,9,-999.000,9,  2324.2,2,  2421.6,6,   7.5783,2,    25.01,-999.000,9,-999.0000,9, -999.00,9,  -999.0,9,  -999.0,-999.0000,9,-999.0000,    37.4,2,     -999.0,9,-999.000,9, 20150603,     0448,-999.000,   1.5243,2,    34.8521,2,     -999.0,9,     -999.0,-999.0000,     -999.0,     -999.0,9,     -999.0,     -999.0,9,     -999.0,  -999.0,9,     -999.0,     -999.0,9,     -999.0
33RO20150525,     P16N.2,     135,          1,          2,          2,2,20150603,       0431,    33.5001,  -152.0002,       5549,  5255.2,    1.566,  34.6905,2,  34.6907,2,    155.1,2,   153.8,2,  144.57,6,   35.75,6,    0.01,6,    2.44,6,-999.000,9,-999.000,9,-999.000,9,  2324.7,2,  2422.2,2,   7.5808,2,    25.03,-999.000,9,-999.0000,9, -999.00,9,  -999.0,9,  -999.0,-999.0000,9,-999.0000,    37.3,2,     -999.0,9,-999.000,9, 20150603,     0440,-999.000,   1.5664,2,    34.8543,2,     -999.0,9,     -999.0,-999.0000,     -999.0,     -999.0,9,     -999.0,     -999.0,9,     -999.0,  -999.0,9,     -999.0,     -999.0,9,     -999.0
33RO20150525,     P16N.2,     135,          1,          1,          1,2,20150603,       0431,    33.5001,  -152.0002,       5549,  5645.1,   1.6145,  34.6912,2,    34.69,2,    156.3,2,   156.3,2,   143.5,6,   35.66,6,    0.01,6,    2.43,6,-999.000,9,-999.000,9,-999.000,9,  2323.2,6,  2420.8,2,    7.582,2,    25.03,-999.000,9,-999.0000,9, -999.00,9,  -999.0,9,  -999.0,-999.0000,9,-999.0000,    38.6,2,     -999.0,9,-999.000,9, 20150603,     0432,-999.000,   1.6147,2,    34.8536,2,     -999.0,9,     -999.0,-999.0000,     -999.0,     -999.0,9,     -999.0,     -999.0,9,     -999.0,  -999.0,9,     -999.0,     -999.0,9,     -999.0