BOTTLE,20220330CCHSIOCBG
EXPOCODE,SECT_ID,STNNBR,CASTNO,SAMPNO,BTLNBR,BTLNBR_FLAG_W,DATE,TIME,LATITUDE,LONGITUDE,DEPTH,CTDPRS,CTDTMP,CTDSAL,CTDSAL_FLAG_W,SALNTY,SALNTY_FLAG_W,CTDOXY,CTDOXY_FLAG_W,OXYGEN,OXYGEN_FLAG_W,SILCAT,SILCAT_FLAG_W,NITRAT,NITRAT_FLAG_W,NITRIT,NITRIT_FLAG_W,PHSPHT,PHSPHT_FLAG_W,CFC-11,CFC-11_FLAG_W,CFC-12,CFC-12_FLAG_W,SF6,SF6_FLAG_W,TCARBN,TCARBN_FLAG_W,ALKALI,ALKALI_FLAG_W,PH_TOT,PH_TOT_FLAG_W,PH_TMP,TRITUM,TRITUM_FLAG_W,HELIUM,HELIUM_FLAG_W,DELC13,DELC13_FLAG_W,DELC14,DELC14_FLAG_W,C14ERR,NEON,NEON_FLAG_W,NEONER,DOC,DOC_FLAG_W,N2O,N2O_FLAG_W,ARGON,ARGON_FLAG_W,BTL_DATE,BTL_TIME,TRITER,SBE35,SBE35_FLAG_W,SALTREF,SALTREF_FLAG_W,DELHE3,DELHE3_FLAG_W,DELHER,HELIER,ARGONER,KRYPTON,KRYPTON_FLAG_W,KRYPTONER,XENON,XENON_FLAG_W,XENONER,14C-DOC,14C-DOC_FLAG_W,14C-DOCERR,13C-DOC,13C-DOC_FLAG_W,13C-DOCERR
,,,,,,,,,,,METERS,DBAR,ITS-90,PSS-78,,PSS-78,,UMOL/KG,,UMOL/KG,,UMOL/KG,,UMOL/KG,,UMOL/KG,,UMOL/KG,,PMOL/KG,,PMOL/KG,,FMOL/KG,,UMOL/KG,,UMOL/KG,,,,DEG C,TU,,NMOL/KG,,/MILLE,,/MILLE,,/MILLE,NMOL/KG,,NMOL/KG,UMOL/KG,,NMOL/KG,,UMOL/KG,,,,TU,ITS-90,,G/KG,,PERCNT,,PERCNT,NMOL/KG,UMOL/KG,NMOL/KG,,NMOL/KG,NMOL/KG,,NMOL/KG,/MILLE,,/MILLE,/MILLE,,/MILLE
33RO20150525,     P16N.2,     171,          1,         24,         24,2,20150614,       1327,    51.4999,  -151.9998,       4759,     3.1,   8.3657,  32.6415,2,  32.6411,2,    306.1,2,   306.2,2,   26.04,2,   12.14,2,    0.17,2,    1.21,2,   4.079,2,    2.29,2,   2.658,2,  2036.5,6,  2203.8,2,   7.8076,2,    25.01,-999.000,9,-999.0000,9,    1.21,2,   -31.4,2,     3.0,-999.0000,9,-999.0000,    57.2,2,     11.780,3,-999.000,9, 20150614,     1516,-999.000,   8.3624,2,     32.795,2,     -999.0,9,     -999.0,-999.0000,     -999.0,     -999.0,9,     -999.0,     -999.0,9,     -999.0,  -999.0,9,     -999.0,     -999.0,9,     -999.0
33RO20150525,     P16N.2,     171,          1,         23,         23,2,20150614,       1327,    51.4999,  -151.9998,       4759,    33.7,   6.1871,   32.666,2,   32.666,2,    310.2,2,   310.3,2,   26.62,2,   15.07,2,    0.12,2,     1.4,2,-999.000,9,-999.000,9,-999.000,9,    2064,2,  2201.7,2,   7.7401,6,    25.05,-999.000,9,-999.0000,9,    0.68,2,   -38.0,2,     2.2,-999.0000,9,-999.0000,    51.3,2,     -999.0,9,-999.000,9, 20150614,     1514,-999.000,   6.2016,2,    32.8201,2,     -999.0,9,     -999.0,-999.0000,     -999.0,     -999.0,9,     -999.0,     -999.0,9,     -999.0,  -999.0,9,     -999.0,     -999.0,9,     -999.0
33RO20150525,     P16N.2,     171,          1,         22,         22,2,20150614,       1327,    51.4999,  -151.9998,       4759,    56.7,   5.8974,  32.6842,2,  32.6859,2,    305.3,2,   303.9,2,   26.72,2,   15.56,2,    0.13,2,    1.41,2,   4.542,2,   2.477,2,   2.809,2,    2068,2,  2200.3,2,   7.7246,2,    25.03,-999.000,9,-999.0000,9,    0.81,2,   -38.1,2,     2.8,-999.0000,9,-999.0000,    50.2,2,     12.886,3,-999.000,9, 20150614,     1512,-999.000,   5.8964,2,      32.84,2,     -999.0,9,     -999.0,-999.0000,     -999.0,     -999.0,9,     -999.0,     -999.0,9,     -999.0,  -999.0,9,     -999.0,     -999.0,9,     -999.0
33RO20150525,     P16N.2,     171,          1,         21,         21,2,20150614,       1327,    51.4999,  -151.9998,       4759,    83.3,   5.1339,  32.8605,2,  32.9487,3,      264,2,   246.3,2,    36.9,2,   21.92,2,    0.15,2,    1.77,2,   4.238,2,   2.311,2,   2.468,2,  2129.9,2,  2220.9,6,   7.6051,2,       25,-999.000,9,-999.0000,9,    0.30,2,   -48.7,2,     2.1,-999.0000,9,-999.0000,    49.8,2,     18.562,3,-999.000,9, 20150614,     1511,-999.000,   5.1353,2,    33.1041,2,     -999.0,9,     -999.0,-999.0000,     -999.0,     -999.0,9,     -999.0,     -999.0,9,     -999.0,  -999.0,9,     -999.0,     -999.0,9,     -999.0
33RO20150525,     P16N.2,     171,          1,         20,         20,2,20150614,       1327,    51.4999,  -151.9998,       4759,   116.5,   3.5887,  33.6637,2,  33.6548,2,    110.2,2,     111,2,   72.38,2,   38.25,2,    0.02,2,     2.7,2,   3.373,2,   1.774,2,   1.399,2,  2270.2,2,  2275.3,2,   7.3202,2,    25.01,-999.000,9,-999.0000,9,   -0.57,2,   -81.1,2,     2.1,-999.0000,9,-999.0000,    44.5,2,     32.923,3,-999.000,9, 20150614,     1509,-999.000,   3.5925,2,    33.8135,2,     -999.0,9,     -999.0,-999.0000,     -999.0,     -999.0,9,     -999.0,     -999.0,9,     -999.0,  -999.0,9,     -999.0,     -999.0,9,     -999.0
33RO20150525,     P16N.2,     171,          1,         19,         19,2,20150614,       1327,    51.4999,  -151.9998,       4759,   175.9,   3.5931,  33.8028,2,  33.7996,2,     67.4,2,    67.6,2,   84.31,2,   41.76,2,    0.01,2,    2.91,2,   2.763,2,   1.416,2,   0.958,2,  2305.2,2,  2286.3,2,    7.254,2,    24.99,-999.000,9,-999.0000,9,   -0.77,2,   -99.0,2,     2.0,-999.0000,9,-999.0000,    42.8,2,     37.784,3,-999.000,9, 20150614,     1507,-999.000,    3.594,2,     33.959,2,     -999.0,9,     -999.0,-999.0000,     -999.0,     -999.0,9,     -999.0,     -999.0,9,     -999.0,  -999.0,9,     -999.0,     -999.0,9,     -999.0
33RO20150525,     P16N.2,     171,          1,         18,         18,2,20150614,       1327,    51.4999,  -151.9998,       4759,     250,   3.7034,  33.9228,2,  33.9258,2,     36.1,2,      36,2,   94.57,2,   43.62,2,    0.01,2,    3.02,2,   2.103,6,   1.071,6,   0.671,6,  2327.8,2,  2300.6,2,    7.227,2,    24.96,-999.000,9,-999.0000,9,   -0.83,2,  -111.2,2,     2.2,-999.0000,9,-999.0000,    41.9,2,     41.656,3,-999.000,9, 20150614,     1505,-999.000,   3.7026,2,    34.0858,6,     -999.0,9,     -999.0,-999.0000,     -999.0,     -999.0,9,     -999.0,     -999.0,9,     -999.0,  -999.0,9,     -999.0,     -999.0,9,     -999.0
33RO20150525,     P16N.2,     171,          1,         17,         17,2,20150614,       1327,    51.4999,  -151.9998,       4759,   333.1,   3.7008,  34.0184,2,  34.0166,2,     30.1,2,    28.4,2,  102.48,2,   43.71,2,    0.01,2,    3.04,2,   1.627,2,   0.811,2,   0.429,2,  2336.9,2,  2316.8,2,   7.2366,2,    24.97,-999.000,9,-999.0000,9,   -0.79,2,  -129.1,2,     2.6,-999.0000,9,-999.0000,    42.0,2,     43.443,3,-999.000,9, 20150614,     1502,-999.000,   3.7006,2,     34.177,2,     -999.0,9,     -999.0,-999.0000,     -999.0,     -999.0,9,     -999.0,     -999.0,9,     -999.0,  -999.0,9,     -999.0,     -999.0,9,     -999.0
33RO20150525,     P16N.2,     171,          1,         16,         16,2,20150614,       1327,    51.4999,  -151.9998,       4759,   433.9,   3.6036,   34.116,2,  34.1149,2,     23.3,2,    23.1,2,  111.86,2,   43.71,2,       0,2,    3.03,2,   1.121,2,   0.546,2,   0.288,2,  2345.6,2,  2328.6,2,   7.2496,6,    25.04,-999.000,9,-999.0000,9,   -0.75,2,  -141.1,2,     2.8,-999.0000,9,-999.0000,    42.6,2,     44.937,3,-999.000,9, 20150614,     1459,-999.000,   3.6036,2,    34.2758,2,     -999.0,9,     -999.0,-999.0000,     -999.0,     -999.0,9,     -999.0,     -999.0,9,     -999.0,  -999.0,9,     -999.0,     -999.0,9,     -999.0
33RO20150525,     P16N.2,     171,          1,         15,         15,2,20150614,       1327,    51.4999,  -151.9998,       4759,   550.6,   3.4277,  34.2077,2,  34.2063,2,     21.8,2,      22,2,  121.73,2,   43.51,2,       0,2,    3.03,2,   0.695,2,   0.342,2,    0.16,2,  2357.5,2,  2344.5,2,   7.2672,2,       25,-999.000,9,-999.0000,9,   -0.73,2,  -165.1,2,     1.9,-999.0000,9,-999.0000,    40.3,2,     46.158,3,-999.000,9, 20150614,     1456,-999.000,   3.4274,2,    34.3676,2,     -999.0,9,     -999.0,-999.0000,     -999.0,     -999.0,9,     -999.0,     -999.0,9,     -999.0,  -999.0,9,     -999.0,     -999.0,9,     -999.0
33RO20150525,     P16N.2,     171,          1,         14,         14,2,20150614,       1327,    51.4999,  -151.9998,       4759,   700.7,   3.1977,  34.2915,2,   34.293,2,     20.2,2,    20.1,2,   131.3,6,    43.6,6,       0,6,    3.05,6,   0.382,2,   0.191,2,   0.097,2,  2366.7,2,  2357.7,2,   7.2798,2,    25.04,-999.000,9,-999.0000,9,   -0.71,2,  -185.5,2,     1.8,-999.0000,9,-999.0000,    41.4,2,     46.324,3,-999.000,9, 20150614,     1452,-999.000,   3.1984,2,    34.4547,2,     -999.0,9,     -999.0,-999.0000,     -999.0,     -999.0,9,     -999.0,     -999.0,9,     -999.0,  -999.0,9,     -999.0,     -999.0,9,     -999.0
33RO20150525,     P16N.2,     171,          1,         13,         13,2,20150614,       1327,    51.4999,  -151.9998,       4759,   849.5,   2.9884,  34.3571,2,  34.3573,2,       22,2,      23,2,  138.53,2,    43.5,2,       0,2,    3.05,2,   0.218,2,   0.107,2,   0.068,3,  2373.5,2,  2371.5,2,   7.2966,2,    24.98,-999.000,9,-999.0000,9,   -0.66,2,  -194.1,2,     2.2,-999.0000,9,-999.0000,    37.8,2,     45.553,3,-999.000,9, 20150614,     1449,-999.000,   2.9882,2,    34.5193,2,     -999.0,9,     -999.0,-999.0000,     -999.0,     -999.0,9,     -999.0,     -999.0,9,     -999.0,  -999.0,9,     -999.0,     -999.0,9,     -999.0
33RO20150525,     P16N.2,     171,          1,         12,         12,2,20150614,       1327,    51.4999,  -151.9998,       4759,  1000.3,   2.7559,   34.408,2,  34.4074,2,     22.8,2,    23.6,2,  146.25,2,    43.6,2,       0,2,    3.04,2,   0.127,2,   0.061,2,       0,2,  2380.7,2,  2381.4,2,   7.3015,6,    25.03,-999.000,9,-999.0000,9,   -0.65,2,  -209.3,2,     1.7,-999.0000,9,-999.0000,    38.8,2,     45.068,3,-999.000,9, 20150614,     1445,-999.000,   2.7593,2,    34.5696,2,     -999.0,9,     -999.0,-999.0000,     -999.0,     -999.0,9,     -999.0,     -999.0,9,     -999.0,  -999.0,9,     -999.0,     -999.0,9,     -999.0
33RO20150525,     P16N.2,     171,          1,         11,         11,2,20150614,       1327,    51.4999,  -151.9998,       4759,  1167.2,   2.5511,  34.4511,2,  34.4571,4,       24,2,    24.3,2,  152.69,2,   43.79,2,       0,2,    3.04,2,-999.000,9,-999.000,9,-999.000,9,  2387.4,2,  2388.3,2,   7.3093,6,    25.03,-999.000,9,-999.0000,9,   -0.68,2,  -216.9,2,     1.9,-999.0000,9,-999.0000,    39.2,2,     -999.0,9,-999.000,9, 20150614,     1441,-999.000,   2.5538,2,    34.6195,2,     -999.0,9,     -999.0,-999.0000,     -999.0,     -999.0,9,     -999.0,     -999.0,9,     -999.0,  -999.0,9,     -999.0,     -999.0,9,     -999.0
33RO20150525,     P16N.2,     171,          1,         10,         10,2,20150614,       1327,    51.4999,  -151.9998,       4759,  1400.6,   2.3303,  34.4987,2,  34.5001,2,     29.2,2,    29.4,2,  159.34,2,    43.6,2,       0,2,    3.02,2,   0.032,2,   0.016,2,   0.047,3,  2390.6,6,    2398,2,    7.324,6,    25.02,-999.000,9,-999.0000,9,   -0.62,2,  -221.5,2,     2.5,-999.0000,9,-999.0000,    39.6,2,     42.709,3,-999.000,9, 20150614,     1436,-999.000,     2.33,2,    34.6627,2,     -999.0,9,     -999.0,-999.0000,     -999.0,     -999.0,9,     -999.0,     -999.0,9,     -999.0,  -999.0,9,     -999.0,     -999.0,9,     -999.0
33RO20150525,     P16N.2,     171,          1,          9,          9,2,20150614,       1327,    51.4999,  -151.9998,       4759,  1732.4,   2.0799,  34.5557,2,  34.5568,2,     39.6,2,    40.3,2,  165.59,2,   43.01,2,       0,2,    2.97,2,-999.000,9,-999.000,9,-999.000,9,  2391.2,2,  2408.4,2,    7.352,2,    24.97,-999.000,9,-999.0000,9,   -0.59,2,  -230.3,2,     2.4,-999.0000,9,-999.0000,    37.5,2,     -999.0,9,-999.000,9, 20150614,     1429,-999.000,   2.0798,2,    34.7198,2,     -999.0,9,     -999.0,-999.0000,     -999.0,     -999.0,9,     -999.0,     -999.0,9,     -999.0,  -999.0,9,     -999.0,     -999.0,9,     -999.0
33RO20150525,     P16N.2,     171,          1,          8,          8,2,20150614,       1327,    51.4999,  -151.9998,       4759,  2132.4,   1.8811,  34.5976,2,  34.5969,2,     58.4,2,      59,2,   168.9,2,   42.03,2,       0,2,    2.89,2,-999.000,9,-999.000,9,-999.000,9,  2386.1,2,  2415.8,2,   7.3912,2,    25.06,-999.000,9,-999.0000,9,   -0.56,2,  -238.0,2,     2.4,-999.0000,9,-999.0000,    37.5,2,     -999.0,9,-999.000,9, 20150614,     1421,-999.000,   1.8811,2,      34.76,2,     -999.0,9,     -999.0,-999.0000,     -999.0,     -999.0,9,     -999.0,     -999.0,9,     -999.0,  -999.0,9,     -999.0,     -999.0,9,     -999.0
33RO20150525,     P16N.2,     171,          1,          7,          7,2,20150614,       1327,    51.4999,  -151.9998,       4759,  2533.5,   1.7031,  34.6316,2,  34.6315,2,     81.9,2,    83.1,2,   168.8,2,   40.47,2,       0,2,    2.77,2,-999.000,9,-999.000,9,-999.000,9,    2371,2,  2420.4,2,   7.4415,2,    25.04,-999.000,9,-999.0000,9,   -0.36,2,  -238.4,2,     1.7,-999.0000,9,-999.0000,    36.6,2,     -999.0,9,-999.000,9, 20150614,     1413,-999.000,   1.7039,2,    34.7948,2,     -999.0,9,     -999.0,-999.0000,     -999.0,     -999.0,9,     -999.0,     -999.0,9,     -999.0,  -999.0,9,     -999.0,     -999.0,9,     -999.0
33RO20150525,     P16N.2,     171,          1,          6,          6,2,20150614,       1327,    51.4999,  -151.9998,       4759,  2933.5,    1.596,  34.6523,2,  34.6521,2,    102.6,2,   103.2,2,  166.65,2,   39.19,2,       0,2,    2.67,2,-999.000,9,-999.000,9,-999.000,9,  2360.5,2,  2421.4,2,   7.4824,2,    25.02,-999.000,9,-999.0000,9,   -0.21,2,  -236.5,2,     2.5,-999.0000,9,-999.0000,    36.9,2,     -999.0,9,-999.000,9, 20150614,     1406,-999.000,   1.5962,2,    34.8155,2,     -999.0,9,     -999.0,-999.0000,     -999.0,     -999.0,9,     -999.0,     -999.0,9,     -999.0,  -999.0,9,     -999.0,     -999.0,9,     -999.0
33RO20150525,     P16N.2,     171,          1,          5,          5,2,20150614,       1327,    51.4999,  -151.9998,       4759,  3366.8,   1.5165,  34.6686,2,  34.6678,2,    122.6,2,   122.8,2,  163.52,2,   37.83,2,       0,2,     2.6,2,-999.000,9,-999.000,9,-999.000,9,  2345.7,2,  2423.6,2,   7.5212,2,    25.04,-999.000,9,-999.0000,9,   -0.10,2,  -231.4,2,     2.2,-999.0000,9,-999.0000,    36.9,2,     -999.0,9,-999.000,9, 20150614,     1357,-999.000,   1.5165,2,    34.8313,2,     -999.0,9,     -999.0,-999.0000,     -999.0,     -999.0,9,     -999.0,     -999.0,9,     -999.0,  -999.0,9,     -999.0,     -999.0,9,     -999.0
33RO20150525,     P16N.2,     171,          1,          4,          4,2,20150614,       1327,    51.4999,  -151.9998,       4759,  3866.8,   1.4889,  34.6791,2,  34.6792,2,    135.6,2,   136.3,2,  162.64,6,   37.04,6,       0,6,    2.53,6,-999.000,9,-999.000,9,-999.000,9,    2340,2,    2425,2,   7.5479,2,    25.04,-999.000,9,-999.0000,9,   -0.02,2,  -229.2,2,     1.9,-999.0000,9,-999.0000,    37.1,2,     -999.0,9,-999.000,9, 20150614,     1348,-999.000,    1.489,2,    34.8428,2,     -999.0,9,     -999.0,-999.0000,     -999.0,     -999.0,9,     -999.0,     -999.0,9,     -999.0,  -999.0,9,     -999.0,     -999.0,9,     -999.0
33RO20150525,     P16N.2,     171,          1,          3,          3,2,20150614,       1327,    51.4999,  -151.9998,       4759,  4199.5,   1.5004,  34.6828,2,   34.684,2,    139.4,2,   139.8,2,  163.22,6,   36.75,6,       0,6,    2.51,6,-999.000,9,-999.000,9,-999.000,9,  2335.8,2,    2426,6,   7.5569,2,    25.04,-999.000,9,-999.0000,9,   -0.01,2,  -221.1,2,     1.8,-999.0000,9,-999.0000,    39.2,2,     -999.0,9,-999.000,9, 20150614,     1341,-999.000,   1.5004,2,    34.8475,2,     -999.0,9,     -999.0,-999.0000,     -999.0,     -999.0,9,     -999.0,     -999.0,9,     -999.0,  -999.0,9,     -999.0,     -999.0,9,     -999.0
33RO20150525,     P16N.2,     171,          1,          2,          2,2,20150614,       1327,    51.4999,  -151.9998,       4759,  4400.5,   1.5154,  34.6843,2,  34.6895,4,    141.2,2,   140.9,2,   164.4,6,   36.65,6,       0,6,    2.51,6,-999.000,9,-999.000,9,-999.000,9,  2336.6,2,  2428.8,2,   7.5606,6,    25.03,-999.000,9,-999.0000,9,   -0.02,2,  -219.9,2,     2.1,-999.0000,9,-999.0000,    40.7,2,     -999.0,9,-999.000,9, 20150614,     1336,-999.000,   1.5156,2,     34.853,2,     -999.0,9,     -999.0,-999.0000,     -999.0,     -999.0,9,     -999.0,     -999.0,9,     -999.0,  -999.0,9,     -999.0,     -999.0,9,     -999.0
33RO20150525,     P16N.2,     171,          1,          1,          1,2,20150614,       1327,    51.4999,  -151.9998,       4759,  4838.1,   1.5637,  34.6865,2,  34.6851,2,    141.4,2,   141.1,2,  168.31,6,   36.65,6,       0,6,     2.5,6,-999.000,9,-999.000,9,-999.000,9,    2340,6,  2432.8,2,   7.5652,2,    25.05,-999.000,9,-999.0000,9,   -0.01,2,  -219.0,2,     1.9,-999.0000,9,-999.0000,    38.8,2,     -999.0,9,-999.000,9, 20150614,     1327,-999.000,   1.5632,2,    34.8487,2,     -999.0,9,     -999.0,-999.0000,     -999.0,     -999.0,9,     -999.0,     -999.0,9,     -999.0,  -999.0,9,     -999.0,     -999.0,9,     -999.0