BOTTLE,20220330CCHSIOCBG
EXPOCODE,SECT_ID,STNNBR,CASTNO,SAMPNO,BTLNBR,BTLNBR_FLAG_W,DATE,TIME,LATITUDE,LONGITUDE,DEPTH,CTDPRS,CTDTMP,CTDSAL,CTDSAL_FLAG_W,SALNTY,SALNTY_FLAG_W,CTDOXY,CTDOXY_FLAG_W,OXYGEN,OXYGEN_FLAG_W,SILCAT,SILCAT_FLAG_W,NITRAT,NITRAT_FLAG_W,NITRIT,NITRIT_FLAG_W,PHSPHT,PHSPHT_FLAG_W,CFC-11,CFC-11_FLAG_W,CFC-12,CFC-12_FLAG_W,SF6,SF6_FLAG_W,TCARBN,TCARBN_FLAG_W,ALKALI,ALKALI_FLAG_W,PH_TOT,PH_TOT_FLAG_W,PH_TMP,TRITUM,TRITUM_FLAG_W,HELIUM,HELIUM_FLAG_W,DELC13,DELC13_FLAG_W,DELC14,DELC14_FLAG_W,C14ERR,NEON,NEON_FLAG_W,NEONER,DOC,DOC_FLAG_W,N2O,N2O_FLAG_W,ARGON,ARGON_FLAG_W,BTL_DATE,BTL_TIME,TRITER,SBE35,SBE35_FLAG_W,SALTREF,SALTREF_FLAG_W,DELHE3,DELHE3_FLAG_W,DELHER,HELIER,ARGONER,KRYPTON,KRYPTON_FLAG_W,KRYPTONER,XENON,XENON_FLAG_W,XENONER,14C-DOC,14C-DOC_FLAG_W,14C-DOCERR,13C-DOC,13C-DOC_FLAG_W,13C-DOCERR
,,,,,,,,,,,METERS,DBAR,ITS-90,PSS-78,,PSS-78,,UMOL/KG,,UMOL/KG,,UMOL/KG,,UMOL/KG,,UMOL/KG,,UMOL/KG,,PMOL/KG,,PMOL/KG,,FMOL/KG,,UMOL/KG,,UMOL/KG,,,,DEG C,TU,,NMOL/KG,,/MILLE,,/MILLE,,/MILLE,NMOL/KG,,NMOL/KG,UMOL/KG,,NMOL/KG,,UMOL/KG,,,,TU,ITS-90,,G/KG,,PERCNT,,PERCNT,NMOL/KG,UMOL/KG,NMOL/KG,,NMOL/KG,NMOL/KG,,NMOL/KG,/MILLE,,/MILLE,/MILLE,,/MILLE
33RO20150525,     P16N.2,     121,          2,         24,         24,2,20150529,       2214,    26.4986,  -151.9994,       5418,     3.2,  23.5141,  35.3209,2,  35.3197,2,    214.6,2,   214.2,2,    1.17,2,       0,2,    0.01,2,    0.08,2,   1.862,6,   1.135,6,    1.47,6,  2020.7,2,  2324.1,2,   8.0463,2,    25.04,-999.000,9,-999.0000,9, -999.00,9,  -999.0,9,  -999.0,-999.0000,9,-999.0000,    72.8,2,      6.849,3,-999.000,9, 20150530,     0022,-999.000,  23.5206,2,    35.4862,2,     -999.0,9,     -999.0,-999.0000,     -999.0,     -999.0,9,     -999.0,     -999.0,9,     -999.0,  -999.0,9,     -999.0,     -999.0,9,     -999.0
33RO20150525,     P16N.2,     121,          2,         23,         23,2,20150529,       2214,    26.4986,  -151.9994,       5418,    22.2,  23.3023,  35.3162,2,  35.3155,2,    214.6,2,   214.3,2,    1.17,2,       0,2,    0.01,2,    0.08,2,-999.000,9,-999.000,9,-999.000,9,  -999.0,9,  -999.0,9,-999.0000,9,  -999.00,-999.000,9,-999.0000,9, -999.00,9,  -999.0,9,  -999.0,-999.0000,9,-999.0000,    72.2,2,     -999.0,9,-999.000,9, 20150530,     0020,-999.000,  23.3025,2,    35.4821,2,     -999.0,9,     -999.0,-999.0000,     -999.0,     -999.0,9,     -999.0,     -999.0,9,     -999.0,  -999.0,9,     -999.0,     -999.0,9,     -999.0
33RO20150525,     P16N.2,     121,          2,         22,         22,2,20150529,       2214,    26.4986,  -151.9994,       5418,    50.5,   22.736,  35.3614,2,  35.3613,2,      218,2,   218.9,2,    1.27,2,       0,2,    0.01,2,    0.07,2,   1.963,2,   1.179,2,   1.514,2,  2027.2,2,  2327.8,2,   8.0367,6,    25.05,-999.000,9,-999.0000,9, -999.00,9,  -999.0,9,  -999.0,-999.0000,9,-999.0000,    69.1,2,      7.217,3,-999.000,9, 20150530,     0018,-999.000,    22.73,2,     35.528,2,     -999.0,9,     -999.0,-999.0000,     -999.0,     -999.0,9,     -999.0,     -999.0,9,     -999.0,  -999.0,9,     -999.0,     -999.0,9,     -999.0
33RO20150525,     P16N.2,     121,          2,         21,         21,2,20150529,       2214,    26.4986,  -151.9994,       5418,    79.9,  21.4628,  35.3131,2,  35.3163,2,    219.5,2,   217.6,2,    1.56,2,       0,2,    0.01,2,    0.07,2,    2.05,2,   1.235,2,   1.574,2,    2037,2,  2324.8,2,   8.0143,2,    25.05,-999.000,9,-999.0000,9, -999.00,9,  -999.0,9,  -999.0,-999.0000,9,-999.0000,    66.3,2,      7.585,3,-999.000,9, 20150530,     0015,-999.000,  21.4746,2,    35.4828,2,     -999.0,9,     -999.0,-999.0000,     -999.0,     -999.0,9,     -999.0,     -999.0,9,     -999.0,  -999.0,9,     -999.0,     -999.0,9,     -999.0
33RO20150525,     P16N.2,     121,          2,         20,         20,2,20150529,       2214,    26.4986,  -151.9994,       5418,   129.8,  19.7252,  35.1122,2,  35.0999,2,    204.2,2,   203.9,2,    2.24,2,    1.37,2,    0.16,2,    0.18,2,   2.184,2,   1.315,2,   1.589,2,  2054.5,2,  2308.6,6,   7.9613,2,    25.05,-999.000,9,-999.0000,9, -999.00,9,  -999.0,9,  -999.0,-999.0000,9,-999.0000,    58.5,2,      8.732,3,-999.000,9, 20150530,     0013,-999.000,   19.748,2,    35.2654,2,     -999.0,9,     -999.0,-999.0000,     -999.0,     -999.0,9,     -999.0,     -999.0,9,     -999.0,  -999.0,9,     -999.0,     -999.0,9,     -999.0
33RO20150525,     P16N.2,     121,          2,         19,         19,2,20150529,       2214,    26.4986,  -151.9994,       5418,   200.7,  16.2541,  34.5728,2,   34.542,3,    204.7,2,   202.4,2,    4.49,2,    4.39,2,    0.02,2,    0.38,2,   2.596,2,   1.538,2,    1.59,2,  2062.4,2,  2270.6,2,   7.8849,2,    24.99,-999.000,9,-999.0000,9, -999.00,9,  -999.0,9,  -999.0,-999.0000,9,-999.0000,    50.9,2,     10.730,3,-999.000,9, 20150530,     0010,-999.000,  16.2175,2,    34.7049,2,     -999.0,9,     -999.0,-999.0000,     -999.0,     -999.0,9,     -999.0,     -999.0,9,     -999.0,  -999.0,9,     -999.0,     -999.0,9,     -999.0
33RO20150525,     P16N.2,     121,          2,         18,         18,2,20150529,       2214,    26.4986,  -151.9994,       5418,   274.2,  12.2991,  34.1486,2,    34.15,2,    201.3,2,   199.1,2,   10.16,2,   10.84,2,    0.01,2,    0.82,2,   3.099,2,   1.761,2,    1.55,2,  2093.6,2,  2248.6,2,   7.7864,6,    25.04,-999.000,9,-999.0000,9, -999.00,9,  -999.0,9,  -999.0,-999.0000,9,-999.0000,    47.4,2,     15.237,3,-999.000,9, 20150530,     0007,-999.000,  12.2897,2,     34.311,2,     -999.0,9,     -999.0,-999.0000,     -999.0,     -999.0,9,     -999.0,     -999.0,9,     -999.0,  -999.0,9,     -999.0,     -999.0,9,     -999.0
33RO20150525,     P16N.2,     121,          2,         17,         17,2,20150529,       2214,    26.4986,  -151.9994,       5418,   366.8,   9.6263,  34.0837,2,  34.0883,2,    197.9,2,   195.1,2,   20.61,2,   17.48,2,    0.01,2,    1.26,2,   3.367,2,   1.857,2,   1.381,2,  2131.7,2,    2257,2,   7.7063,2,    25.05,-999.000,9,-999.0000,9, -999.00,9,  -999.0,9,  -999.0,-999.0000,9,-999.0000,    46.0,2,     20.018,3,-999.000,9, 20150530,     0004,-999.000,   9.6284,2,     34.249,2,     -999.0,9,     -999.0,-999.0000,     -999.0,     -999.0,9,     -999.0,     -999.0,9,     -999.0,  -999.0,9,     -999.0,     -999.0,9,     -999.0
33RO20150525,     P16N.2,     121,          2,         16,         16,2,20150529,       2214,    26.4986,  -151.9994,       5418,   466.9,     7.49,  34.0132,2,  34.0129,2,    146.6,2,   143.5,2,   40.14,2,   26.47,2,    0.01,2,    1.89,2,   2.944,6,   1.522,6,   0.882,6,    2193,2,  2270.4,2,   7.5588,2,    25.05,-999.000,9,-999.0000,9, -999.00,9,  -999.0,9,  -999.0,-999.0000,9,-999.0000,    44.0,2,     26.287,3,-999.000,9, 20150530,     0000,-999.000,   7.4935,2,    34.1732,2,     -999.0,9,     -999.0,-999.0000,     -999.0,     -999.0,9,     -999.0,     -999.0,9,     -999.0,  -999.0,9,     -999.0,     -999.0,9,     -999.0
33RO20150525,     P16N.2,     121,          2,         15,         15,2,20150529,       2214,    26.4986,  -151.9994,       5418,   600.3,   5.2388,  34.0518,2,  34.0515,2,     66.7,2,    65.5,2,   74.42,2,   37.21,2,    0.01,2,    2.67,2,   1.351,2,   0.655,2,   0.222,2,    2283,2,  2298.9,2,   7.3668,2,    25.06,-999.000,9,-999.0000,9, -999.00,9,  -999.0,9,  -999.0,-999.0000,9,-999.0000,    41.4,2,     37.321,3,-999.000,9, 20150529,     2356,-999.000,   5.2421,2,     34.212,2,     -999.0,9,     -999.0,-999.0000,     -999.0,     -999.0,9,     -999.0,     -999.0,9,     -999.0,  -999.0,9,     -999.0,     -999.0,9,     -999.0
33RO20150525,     P16N.2,     121,          2,         14,         14,2,20150529,       2214,    26.4986,  -151.9994,       5418,   750.9,   4.3378,  34.2229,2,  34.2234,2,     20.7,2,    21.6,2,     100,2,   41.89,2,    0.01,2,    3.04,2,   0.199,2,   0.101,2,   0.082,2,  2334.9,2,  2332.4,2,    7.294,2,    25.03,-999.000,9,-999.0000,9, -999.00,9,  -999.0,9,  -999.0,-999.0000,9,-999.0000,    39.0,2,     46.954,3,-999.000,9, 20150529,     2352,-999.000,   4.3368,2,    34.3848,2,     -999.0,9,     -999.0,-999.0000,     -999.0,     -999.0,9,     -999.0,     -999.0,9,     -999.0,  -999.0,9,     -999.0,     -999.0,9,     -999.0
33RO20150525,     P16N.2,     121,          2,         13,         13,2,20150529,       2214,    26.4986,  -151.9994,       5418,     900,   3.8431,  34.3566,2,  34.3566,2,     17.4,2,    17.6,2,  114.63,2,   42.77,2,    0.01,2,    3.11,2,   0.027,2,   0.016,2,   0.013,2,  2355.8,2,  2353.5,2,   7.3031,2,    25.06,-999.000,9,-999.0000,9, -999.00,9,  -999.0,9,  -999.0,-999.0000,9,-999.0000,    37.6,2,     48.331,3,-999.000,9, 20150529,     2348,-999.000,   3.8433,2,    34.5186,2,     -999.0,9,     -999.0,-999.0000,     -999.0,     -999.0,9,     -999.0,     -999.0,9,     -999.0,  -999.0,9,     -999.0,     -999.0,9,     -999.0
33RO20150525,     P16N.2,     121,          2,         12,         12,2,20150529,       2214,    26.4986,  -151.9994,       5418,  1050.4,   3.6187,  34.4588,2,  34.4591,2,       34,2,    34.9,2,  118.33,2,   41.98,2,    0.01,2,    3.04,2,   0.012,2,   0.007,2,       0,2,  2353.3,2,  2371.6,2,   7.3525,2,    25.06,-999.000,9,-999.0000,9, -999.00,9,  -999.0,9,  -999.0,-999.0000,9,-999.0000,    37.7,2,     43.071,3,-999.000,9, 20150529,     2344,-999.000,   3.6185,2,    34.6216,2,     -999.0,9,     -999.0,-999.0000,     -999.0,     -999.0,9,     -999.0,     -999.0,9,     -999.0,  -999.0,9,     -999.0,     -999.0,9,     -999.0
33RO20150525,     P16N.2,     121,          2,         11,         11,2,20150529,       2214,    26.4986,  -151.9994,       5418,  1233.3,    3.268,  34.5235,2,  34.5229,2,     53.8,2,    54.6,2,   123.7,2,    41.1,2,    0.01,2,    2.95,2,   0.006,2,   0.005,2,       0,2,  2354.1,2,  2382.2,2,   7.3963,2,    25.03,-999.000,9,-999.0000,9, -999.00,9,  -999.0,9,  -999.0,-999.0000,9,-999.0000,    36.0,2,     37.793,3,-999.000,9, 20150529,     2340,-999.000,   3.2691,2,    34.6857,2,     -999.0,9,     -999.0,-999.0000,     -999.0,     -999.0,9,     -999.0,     -999.0,9,     -999.0,  -999.0,9,     -999.0,     -999.0,9,     -999.0
33RO20150525,     P16N.2,     121,          2,         10,         10,2,20150529,       2214,    26.4986,  -151.9994,       5418,  1500.2,   2.7671,  34.5637,2,  34.5647,2,     64.4,2,    63.6,2,  135.31,2,   40.71,2,    0.01,2,     2.9,2,   0.001,2,   0.001,2,   0.029,3,  2357.1,2,  2396.2,2,   7.4146,2,    25.06,-999.000,9,-999.0000,9, -999.00,9,  -999.0,9,  -999.0,-999.0000,9,-999.0000,    36.4,2,     34.742,3,-999.000,9, 20150529,     2334,-999.000,    2.769,2,    34.7277,6,     -999.0,9,     -999.0,-999.0000,     -999.0,     -999.0,9,     -999.0,     -999.0,9,     -999.0,  -999.0,9,     -999.0,     -999.0,9,     -999.0
33RO20150525,     P16N.2,     121,          2,          9,          9,2,20150529,       2214,    26.4986,  -151.9994,       5418,  1866.5,   2.2269,  34.6052,2,  34.6058,2,     79.4,2,    78.7,2,  148.29,2,   39.93,2,       0,2,    2.84,2,-999.000,9,-999.000,9,-999.000,9,  2362.5,6,  2408.8,2,   7.4434,2,    25.06,-999.000,9,-999.0000,9, -999.00,9,  -999.0,9,  -999.0,-999.0000,9,-999.0000,    35.7,2,     -999.0,9,-999.000,9, 20150529,     2326,-999.000,   2.2275,2,     34.769,2,     -999.0,9,     -999.0,-999.0000,     -999.0,     -999.0,9,     -999.0,     -999.0,9,     -999.0,  -999.0,9,     -999.0,     -999.0,9,     -999.0
33RO20150525,     P16N.2,     121,          2,          8,          8,2,20150529,       2214,    26.4986,  -151.9994,       5418,  2333.2,   1.8367,  34.6385,2,  34.6392,2,     99.5,2,    98.6,2,  155.32,2,   38.76,2,    0.01,2,    2.73,2,-999.000,9,-999.000,9,-999.000,9,  2356.9,2,    2419,2,   7.4809,6,    25.06,-999.000,9,-999.0000,9, -999.00,9,  -999.0,9,  -999.0,-999.0000,9,-999.0000,    37.6,2,     -999.0,9,-999.000,9, 20150529,     2317,-999.000,   1.8372,2,    34.8026,2,     -999.0,9,     -999.0,-999.0000,     -999.0,     -999.0,9,     -999.0,     -999.0,9,     -999.0,  -999.0,9,     -999.0,     -999.0,9,     -999.0
33RO20150525,     P16N.2,     121,          2,          7,          7,2,20150529,       2214,    26.4986,  -151.9994,       5418,  2833.6,   1.6273,  34.6604,2,  34.6614,2,    116.9,2,   116.6,2,  156.78,2,   37.68,2,    0.01,2,    2.65,2,-999.000,9,-999.000,9,-999.000,9,  -999.0,9,  -999.0,9,-999.0000,9,  -999.00,-999.000,9,-999.0000,9, -999.00,9,  -999.0,9,  -999.0,-999.0000,9,-999.0000,    35.3,2,     -999.0,9,-999.000,9, 20150529,     2308,-999.000,   1.6275,2,    34.8249,2,     -999.0,9,     -999.0,-999.0000,     -999.0,     -999.0,9,     -999.0,     -999.0,9,     -999.0,  -999.0,9,     -999.0,     -999.0,9,     -999.0
33RO20150525,     P16N.2,     121,          2,          6,          6,2,20150529,       2214,    26.4986,  -151.9994,       5418,  3332.9,   1.5356,  34.6737,2,  34.6742,2,    129.4,2,   128.3,2,  157.07,2,      37,2,    0.01,2,    2.56,2,-999.000,9,-999.000,9,-999.000,9,  -999.0,9,  -999.0,9,-999.0000,9,  -999.00,-999.000,9,-999.0000,9, -999.00,9,  -999.0,9,  -999.0,-999.0000,9,-999.0000,    37.0,2,     -999.0,9,-999.000,9, 20150529,     2258,-999.000,   1.5358,2,    34.8377,2,     -999.0,9,     -999.0,-999.0000,     -999.0,     -999.0,9,     -999.0,     -999.0,9,     -999.0,  -999.0,9,     -999.0,     -999.0,9,     -999.0
33RO20150525,     P16N.2,     121,          2,          5,          5,2,20150529,       2214,    26.4986,  -151.9994,       5418,  3832.9,    1.496,  34.6814,2,  34.6821,2,    140.7,2,   139.3,2,  153.46,2,   36.31,2,    0.01,2,    2.52,2,-999.000,9,-999.000,9,-999.000,9,  2335.4,2,  2423.8,2,   7.5566,6,    25.06,-999.000,9,-999.0000,9, -999.00,9,  -999.0,9,  -999.0,-999.0000,9,-999.0000,    35.6,2,     -999.0,9,-999.000,9, 20150529,     2248,-999.000,    1.496,2,    34.8456,2,     -999.0,9,     -999.0,-999.0000,     -999.0,     -999.0,9,     -999.0,     -999.0,9,     -999.0,  -999.0,9,     -999.0,     -999.0,9,     -999.0
33RO20150525,     P16N.2,     121,          2,          4,          4,2,20150529,       2214,    26.4986,  -151.9994,       5418,  4334.2,   1.4945,  34.6865,2,   34.686,2,    148.7,2,   148.1,2,  149.16,6,   35.92,6,    0.01,6,    2.46,6,-999.000,9,-999.000,9,-999.000,9,  -999.0,9,  -999.0,9,-999.0000,9,  -999.00,-999.000,9,-999.0000,9, -999.00,9,  -999.0,9,  -999.0,-999.0000,9,-999.0000,    38.0,2,     -999.0,9,-999.000,9, 20150529,     2238,-999.000,   1.4947,2,    34.8496,2,     -999.0,9,     -999.0,-999.0000,     -999.0,     -999.0,9,     -999.0,     -999.0,9,     -999.0,  -999.0,9,     -999.0,     -999.0,9,     -999.0
33RO20150525,     P16N.2,     121,          2,          3,          3,2,20150529,       2214,    26.4986,  -151.9994,       5418,  4833.1,   1.5067,    34.69,2,    34.69,2,    156.1,2,   155.1,2,  143.79,6,   35.44,6,       0,6,    2.42,6,-999.000,9,-999.000,9,-999.000,9,  2323.2,2,  2414.4,6,   7.5783,6,    25.07,-999.000,9,-999.0000,9, -999.00,9,  -999.0,9,  -999.0,-999.0000,9,-999.0000,    37.0,2,     -999.0,9,-999.000,9, 20150529,     2229,-999.000,   1.5068,2,    34.8536,6,     -999.0,9,     -999.0,-999.0000,     -999.0,     -999.0,9,     -999.0,     -999.0,9,     -999.0,  -999.0,9,     -999.0,     -999.0,9,     -999.0
33RO20150525,     P16N.2,     121,          2,          2,          2,2,20150529,       2214,    26.4986,  -151.9994,       5418,  5160.4,   1.5151,  34.6927,2,  34.6929,2,    161.2,2,   161.1,2,   139.5,6,   35.05,6,    0.01,6,    2.39,6,-999.000,9,-999.000,9,-999.000,9,  -999.0,9,  -999.0,9,-999.0000,9,  -999.00,-999.000,9,-999.0000,9, -999.00,9,  -999.0,9,  -999.0,-999.0000,9,-999.0000,    37.7,2,     -999.0,9,-999.000,9, 20150529,     2222,-999.000,   1.5151,2,    34.8565,2,     -999.0,9,     -999.0,-999.0000,     -999.0,     -999.0,9,     -999.0,     -999.0,9,     -999.0,  -999.0,9,     -999.0,     -999.0,9,     -999.0
33RO20150525,     P16N.2,     121,          2,          1,          1,2,20150529,       2214,    26.4986,  -151.9994,       5418,  5487.5,   1.5383,  34.6944,2,  34.6937,2,    165.6,2,   164.2,2,  137.84,6,   34.85,6,    0.01,6,    2.38,6,-999.000,9,-999.000,9,-999.000,9,    2312,6,  2411.2,2,-999.0000,9,  -999.00,-999.000,9,-999.0000,9, -999.00,9,  -999.0,9,  -999.0,-999.0000,9,-999.0000,    39.2,2,     -999.0,9,-999.000,9, 20150529,     2214,-999.000,   1.5386,2,    34.8573,2,     -999.0,9,     -999.0,-999.0000,     -999.0,     -999.0,9,     -999.0,     -999.0,9,     -999.0,  -999.0,9,     -999.0,     -999.0,9,     -999.0