BOTTLE,20220330CCHSIOCBG
EXPOCODE,SECT_ID,STNNBR,CASTNO,SAMPNO,BTLNBR,BTLNBR_FLAG_W,DATE,TIME,LATITUDE,LONGITUDE,DEPTH,CTDPRS,CTDTMP,CTDSAL,CTDSAL_FLAG_W,SALNTY,SALNTY_FLAG_W,CTDOXY,CTDOXY_FLAG_W,OXYGEN,OXYGEN_FLAG_W,SILCAT,SILCAT_FLAG_W,NITRAT,NITRAT_FLAG_W,NITRIT,NITRIT_FLAG_W,PHSPHT,PHSPHT_FLAG_W,CFC-11,CFC-11_FLAG_W,CFC-12,CFC-12_FLAG_W,SF6,SF6_FLAG_W,TCARBN,TCARBN_FLAG_W,ALKALI,ALKALI_FLAG_W,PH_TOT,PH_TOT_FLAG_W,PH_TMP,TRITUM,TRITUM_FLAG_W,HELIUM,HELIUM_FLAG_W,DELC13,DELC13_FLAG_W,DELC14,DELC14_FLAG_W,C14ERR,NEON,NEON_FLAG_W,NEONER,DOC,DOC_FLAG_W,N2O,N2O_FLAG_W,ARGON,ARGON_FLAG_W,BTL_DATE,BTL_TIME,TRITER,SBE35,SBE35_FLAG_W,SALTREF,SALTREF_FLAG_W,DELHE3,DELHE3_FLAG_W,DELHER,HELIER,ARGONER,KRYPTON,KRYPTON_FLAG_W,KRYPTONER,XENON,XENON_FLAG_W,XENONER,14C-DOC,14C-DOC_FLAG_W,14C-DOCERR,13C-DOC,13C-DOC_FLAG_W,13C-DOCERR
,,,,,,,,,,,METERS,DBAR,ITS-90,PSS-78,,PSS-78,,UMOL/KG,,UMOL/KG,,UMOL/KG,,UMOL/KG,,UMOL/KG,,UMOL/KG,,PMOL/KG,,PMOL/KG,,FMOL/KG,,UMOL/KG,,UMOL/KG,,,,DEG C,TU,,NMOL/KG,,/MILLE,,/MILLE,,/MILLE,NMOL/KG,,NMOL/KG,UMOL/KG,,NMOL/KG,,UMOL/KG,,,,TU,ITS-90,,G/KG,,PERCNT,,PERCNT,NMOL/KG,UMOL/KG,NMOL/KG,,NMOL/KG,NMOL/KG,,NMOL/KG,/MILLE,,/MILLE,/MILLE,,/MILLE
33RO20150525,     P16N.2,     194,          1,         24,         24,2,20150620,       0705,      54.55,  -148.0583,       4185,     2.6,  10.2697,  32.5399,2,  32.5404,2,    290.1,2,   291.1,2,   24.66,2,   12.53,2,    0.15,2,    1.25,2,   3.723,6,   2.114,6,   2.498,6,  2027.7,6,  2192.7,2,   7.8034,2,       25,-999.000,9,-999.0000,9,    1.22,2,   -33.3,2,     2.1,-999.0000,9,-999.0000,  -999.0,9,     11.139,3,-999.000,9, 20150620,     0846,-999.000,  10.2706,2,    32.6938,2,     -999.0,9,     -999.0,-999.0000,     -999.0,     -999.0,9,     -999.0,     -999.0,9,     -999.0,  -999.0,9,     -999.0,     -999.0,9,     -999.0
33RO20150525,     P16N.2,     194,          1,         23,         23,2,20150620,       0705,      54.55,  -148.0583,       4185,    33.2,   8.2535,  32.5508,2,  32.5608,2,    309.9,2,     310,2,   30.24,2,   14.78,2,    0.15,2,    1.39,2,    4.18,2,   2.351,2,   2.708,2,  2042.6,6,  2195.4,2,   7.7704,6,    24.99,-999.000,9,-999.0000,9, -999.00,9,  -999.0,9,  -999.0,-999.0000,9,-999.0000,  -999.0,9,     12.272,3,-999.000,9, 20150620,     0844,-999.000,   8.2532,2,    32.7144,2,     -999.0,9,     -999.0,-999.0000,     -999.0,     -999.0,9,     -999.0,     -999.0,9,     -999.0,  -999.0,9,     -999.0,     -999.0,9,     -999.0
33RO20150525,     P16N.2,     194,          1,         22,         22,2,20150620,       0705,      54.55,  -148.0583,       4185,    58.8,   5.9359,  32.6438,2,  32.6764,2,    293.9,2,   287.1,2,   34.55,2,   18.79,2,    0.18,2,    1.63,2,   4.311,2,   2.409,2,   2.725,2,  2079.4,2,  2201.8,6,    7.686,2,    25.02,-999.000,9,-999.0000,9, -999.00,9,  -999.0,9,  -999.0,-999.0000,9,-999.0000,  -999.0,9,     14.433,3,-999.000,9, 20150620,     0842,-999.000,   5.9385,2,    32.8305,2,     -999.0,9,     -999.0,-999.0000,     -999.0,     -999.0,9,     -999.0,     -999.0,9,     -999.0,  -999.0,9,     -999.0,     -999.0,9,     -999.0
33RO20150525,     P16N.2,     194,          1,         21,         21,2,20150620,       0705,      54.55,  -148.0583,       4185,    83.4,   4.9862,   33.048,2,  33.1099,2,    199.7,2,   163.5,2,   52.14,2,   29.64,2,    0.18,2,    2.25,2,   3.614,2,    1.97,2,   1.819,2,  2196.1,2,    2236,2,   7.4665,2,    25.02,-999.000,9,-999.0000,9, -999.00,9,  -999.0,9,  -999.0,-999.0000,9,-999.0000,  -999.0,9,     26.936,3,-999.000,9, 20150620,     0840,-999.000,   4.9839,2,     33.266,2,     -999.0,9,     -999.0,-999.0000,     -999.0,     -999.0,9,     -999.0,     -999.0,9,     -999.0,  -999.0,9,     -999.0,     -999.0,9,     -999.0
33RO20150525,     P16N.2,     194,          1,         20,         20,2,20150620,       0705,      54.55,  -148.0583,       4185,   108.1,   4.1124,  33.6352,2,    33.65,2,     79.1,2,    82.7,2,   72.07,6,    39.8,6,    0.05,6,    2.84,6,   3.044,2,   1.601,2,   1.189,2,    2277,2,  2270.8,2,   7.2834,2,    24.96,-999.000,9,-999.0000,9, -999.00,9,  -999.0,9,  -999.0,-999.0000,9,-999.0000,  -999.0,9,     35.530,3,-999.000,9, 20150620,     0839,-999.000,   4.1141,2,    33.8086,2,     -999.0,9,     -999.0,-999.0000,     -999.0,     -999.0,9,     -999.0,     -999.0,9,     -999.0,  -999.0,9,     -999.0,     -999.0,9,     -999.0
33RO20150525,     P16N.2,     194,          1,         19,         19,2,20150620,       0705,      54.55,  -148.0583,       4185,   142.2,   3.9209,  33.8458,2,  33.8454,2,     41.2,2,    39.8,2,    83.4,2,   43.41,2,    0.03,2,    3.06,2,   2.501,2,   1.283,2,   0.849,2,  2315.3,2,  2288.3,2,   7.2196,6,    25.02,-999.000,9,-999.0000,9, -999.00,9,  -999.0,9,  -999.0,-999.0000,9,-999.0000,  -999.0,9,     40.914,3,-999.000,9, 20150620,     0837,-999.000,   3.9214,2,     34.005,2,     -999.0,9,     -999.0,-999.0000,     -999.0,     -999.0,9,     -999.0,     -999.0,9,     -999.0,  -999.0,9,     -999.0,     -999.0,9,     -999.0
33RO20150525,     P16N.2,     194,          1,         18,         18,2,20150620,       0705,      54.55,  -148.0583,       4185,   200.4,   3.8869,  33.9636,2,  33.9678,2,     22.9,2,    20.1,2,   93.76,2,   44.48,2,    0.02,2,    3.11,2,    1.86,2,   0.938,2,   0.526,2,  2332.9,2,  2305.5,2,   7.2074,6,    24.99,-999.000,9,-999.0000,9, -999.00,9,  -999.0,9,  -999.0,-999.0000,9,-999.0000,  -999.0,9,     44.238,3,-999.000,9, 20150620,     0834,-999.000,   3.8867,2,     34.128,2,     -999.0,9,     -999.0,-999.0000,     -999.0,     -999.0,9,     -999.0,     -999.0,9,     -999.0,  -999.0,9,     -999.0,     -999.0,9,     -999.0
33RO20150525,     P16N.2,     194,          1,         17,         17,2,20150620,       0705,      54.55,  -148.0583,       4185,   275.8,   3.8603,  34.0298,2,  34.0319,2,     17.3,2,      16,2,   99.62,2,   44.38,2,    0.02,2,    3.12,2,   1.496,2,   0.748,2,   0.337,2,  2337.7,2,  2313.3,2,   7.2186,2,    25.01,-999.000,9,-999.0000,9, -999.00,9,  -999.0,9,  -999.0,-999.0000,9,-999.0000,  -999.0,9,     44.851,3,-999.000,9, 20150620,     0832,-999.000,   3.8602,2,    34.1924,2,     -999.0,9,     -999.0,-999.0000,     -999.0,     -999.0,9,     -999.0,     -999.0,9,     -999.0,  -999.0,9,     -999.0,     -999.0,9,     -999.0
33RO20150525,     P16N.2,     194,          1,         16,         16,2,20150620,       0705,      54.55,  -148.0583,       4185,   351.1,   3.7873,  34.1001,2,  34.1024,2,       16,2,    14.9,2,  106.26,2,   43.99,2,    0.01,2,     3.1,2,   1.095,2,   0.543,2,   0.226,2,  2342.9,2,  2325.1,2,   7.2358,2,    25.01,-999.000,9,-999.0000,9, -999.00,9,  -999.0,9,  -999.0,-999.0000,9,-999.0000,  -999.0,9,     45.401,3,-999.000,9, 20150620,     0829,-999.000,   3.7871,2,    34.2632,2,     -999.0,9,     -999.0,-999.0000,     -999.0,     -999.0,9,     -999.0,     -999.0,9,     -999.0,  -999.0,9,     -999.0,     -999.0,9,     -999.0
33RO20150525,     P16N.2,     194,          1,         15,         15,2,20150620,       0705,      54.55,  -148.0583,       4185,     433,   3.6827,  34.1648,2,  34.1632,2,     13.9,2,    13.5,2,  112.71,2,   43.89,2,    0.01,2,     3.1,2,   0.767,2,   0.378,2,   0.159,2,  2351.3,2,    2335,2,   7.2487,2,    24.99,-999.000,9,-999.0000,9, -999.00,9,  -999.0,9,  -999.0,-999.0000,9,-999.0000,  -999.0,9,     46.598,3,-999.000,9, 20150620,     0827,-999.000,   3.6828,2,    34.3243,2,     -999.0,9,     -999.0,-999.0000,     -999.0,     -999.0,9,     -999.0,     -999.0,9,     -999.0,  -999.0,9,     -999.0,     -999.0,9,     -999.0
33RO20150525,     P16N.2,     194,          1,         14,         14,2,20150620,       0705,      54.55,  -148.0583,       4185,   550.5,   3.4414,  34.2498,2,  34.2495,2,     14.4,2,    13.6,2,  122.97,2,   43.79,2,       0,2,     3.1,2,   0.421,6,   0.206,6,   0.086,6,  2359.6,2,  2350.9,2,   7.2644,2,    25.02,-999.000,9,-999.0000,9, -999.00,9,  -999.0,9,  -999.0,-999.0000,9,-999.0000,  -999.0,9,     47.580,3,-999.000,9, 20150620,     0823,-999.000,   3.4396,2,     34.411,2,     -999.0,9,     -999.0,-999.0000,     -999.0,     -999.0,9,     -999.0,     -999.0,9,     -999.0,  -999.0,9,     -999.0,     -999.0,9,     -999.0
33RO20150525,     P16N.2,     194,          1,         13,         13,2,20150620,       0705,      54.55,  -148.0583,       4185,   700.8,   3.2293,   34.312,2,  34.3146,2,     13.4,2,    12.9,2,  130.49,2,   43.89,2,    0.01,2,    3.11,2,   0.227,2,   0.112,2,    0.04,2,  2367.2,2,  2361.4,2,   7.2749,2,    24.99,-999.000,9,-999.0000,9, -999.00,9,  -999.0,9,  -999.0,-999.0000,9,-999.0000,  -999.0,9,     48.039,3,-999.000,9, 20150620,     0820,-999.000,   3.2292,2,    34.4764,2,     -999.0,9,     -999.0,-999.0000,     -999.0,     -999.0,9,     -999.0,     -999.0,9,     -999.0,  -999.0,9,     -999.0,     -999.0,9,     -999.0
33RO20150525,     P16N.2,     194,          1,         12,         12,2,20150620,       0705,      54.55,  -148.0583,       4185,   796.6,   3.0619,  34.3465,2,  34.3455,2,     14.9,2,    14.1,2,  135.86,2,   43.98,2,       0,2,    3.11,2,   0.163,2,    0.08,2,   0.028,2,  2374.6,2,  2368.8,2,   7.2807,2,    25.03,-999.000,9,-999.0000,9, -999.00,9,  -999.0,9,  -999.0,-999.0000,9,-999.0000,  -999.0,9,     47.559,3,-999.000,9, 20150620,     0817,-999.000,   3.0626,2,    34.5075,6,     -999.0,9,     -999.0,-999.0000,     -999.0,     -999.0,9,     -999.0,     -999.0,9,     -999.0,  -999.0,9,     -999.0,     -999.0,9,     -999.0
33RO20150525,     P16N.2,     194,          1,         11,         11,2,20150620,       0705,      54.55,  -148.0583,       4185,    1000,   2.7655,  34.4054,2,  34.4056,2,     17.5,2,    17.4,2,  144.75,2,   44.08,2,       0,2,     3.1,2,   0.092,2,   0.046,2,   0.015,2,  2381.6,2,  2380.4,2,   7.2924,2,    25.02,-999.000,9,-999.0000,9, -999.00,9,  -999.0,9,  -999.0,-999.0000,9,-999.0000,  -999.0,9,     46.082,3,-999.000,9, 20150620,     0812,-999.000,   2.7654,2,    34.5679,2,     -999.0,9,     -999.0,-999.0000,     -999.0,     -999.0,9,     -999.0,     -999.0,9,     -999.0,  -999.0,9,     -999.0,     -999.0,9,     -999.0
33RO20150525,     P16N.2,     194,          1,         10,         10,2,20150620,       0705,      54.55,  -148.0583,       4185,  1168.2,   2.5555,  34.4502,2,    34.45,2,     20.7,2,    20.8,2,  151.29,2,   43.69,2,       0,2,    3.08,2,   0.057,2,   0.028,2,   0.032,2,  2387.4,2,    2391,2,   7.3025,2,    25.02,-999.000,9,-999.0000,9, -999.00,9,  -999.0,9,  -999.0,-999.0000,9,-999.0000,  -999.0,9,     44.540,3,-999.000,9, 20150620,     0808,-999.000,   2.5561,2,    34.6124,2,     -999.0,9,     -999.0,-999.0000,     -999.0,     -999.0,9,     -999.0,     -999.0,9,     -999.0,  -999.0,9,     -999.0,     -999.0,9,     -999.0
33RO20150525,     P16N.2,     194,          1,          9,          9,2,20150620,       0705,      54.55,  -148.0583,       4185,  1399.8,   2.2951,  34.5059,2,  34.5146,3,     29.1,2,    28.7,2,  158.12,2,   43.59,2,       0,2,    3.05,2,   0.023,2,   0.012,2,       0,2,  2388.8,2,  2398.9,2,   7.3244,2,    25.03,-999.000,9,-999.0000,9, -999.00,9,  -999.0,9,  -999.0,-999.0000,9,-999.0000,  -999.0,9,     41.644,3,-999.000,9, 20150620,     0803,-999.000,   2.2957,2,    34.6773,2,     -999.0,9,     -999.0,-999.0000,     -999.0,     -999.0,9,     -999.0,     -999.0,9,     -999.0,  -999.0,9,     -999.0,     -999.0,9,     -999.0
33RO20150525,     P16N.2,     194,          1,          8,          8,2,20150620,       0705,      54.55,  -148.0583,       4185,  1700.2,   2.0685,  34.5553,2,  34.5553,2,     43.2,2,    43.1,2,   163.4,2,   42.51,2,       0,2,    2.97,2,    0.01,2,   0.006,2,   0.025,3,  2385.5,2,  2408.4,2,   7.3573,2,    25.03,-999.000,9,-999.0000,9, -999.00,9,  -999.0,9,  -999.0,-999.0000,9,-999.0000,  -999.0,9,     37.710,3,-999.000,9, 20150620,     0757,-999.000,   2.0687,2,    34.7182,6,     -999.0,9,     -999.0,-999.0000,     -999.0,     -999.0,9,     -999.0,     -999.0,9,     -999.0,  -999.0,9,     -999.0,     -999.0,9,     -999.0
33RO20150525,     P16N.2,     194,          1,          7,          7,2,20150620,       0705,      54.55,  -148.0583,       4185,  2000.2,   1.8913,   34.592,2,  34.5921,2,     59.8,2,    59.3,2,  166.03,2,   41.63,2,       0,2,    2.91,2,    0.01,2,   0.006,2,   0.035,3,  2380.3,2,  2413.3,2,   7.3925,2,    25.03,-999.000,9,-999.0000,9, -999.00,9,  -999.0,9,  -999.0,-999.0000,9,-999.0000,  -999.0,9,     33.695,3,-999.000,9, 20150620,     0751,-999.000,   1.8918,2,    34.7553,2,     -999.0,9,     -999.0,-999.0000,     -999.0,     -999.0,9,     -999.0,     -999.0,9,     -999.0,  -999.0,9,     -999.0,     -999.0,9,     -999.0
33RO20150525,     P16N.2,     194,          1,          6,          6,2,20150620,       0705,      54.55,  -148.0583,       4185,  2333.7,   1.7355,  34.6231,2,  34.6218,2,     79.5,2,    78.5,2,   167.1,2,   40.36,2,       0,2,    2.81,2,   0.003,2,   0.002,2,       0,2,  2372.3,2,  2418.6,2,   7.4341,6,    25.02,-999.000,9,-999.0000,9, -999.00,9,  -999.0,9,  -999.0,-999.0000,9,-999.0000,  -999.0,9,     29.738,3,-999.000,9, 20150620,     0744,-999.000,   1.7353,2,    34.7851,2,     -999.0,9,     -999.0,-999.0000,     -999.0,     -999.0,9,     -999.0,     -999.0,9,     -999.0,  -999.0,9,     -999.0,     -999.0,9,     -999.0
33RO20150525,     P16N.2,     194,          1,          5,          5,2,20150620,       0705,      54.55,  -148.0583,       4185,    2734,   1.6199,  34.6459,2,  34.6452,2,     98.4,2,      98,2,  166.71,2,   39.19,2,    0.01,2,    2.73,2,   0.002,2,   0.001,2,       0,2,  2360.2,2,  2421.2,2,    7.474,6,    25.02,-999.000,9,-999.0000,9, -999.00,9,  -999.0,9,  -999.0,-999.0000,9,-999.0000,  -999.0,9,     26.543,3,-999.000,9, 20150620,     0736,-999.000,   1.6197,2,    34.8086,2,     -999.0,9,     -999.0,-999.0000,     -999.0,     -999.0,9,     -999.0,     -999.0,9,     -999.0,  -999.0,9,     -999.0,     -999.0,9,     -999.0
33RO20150525,     P16N.2,     194,          1,          4,          4,2,20150620,       0705,      54.55,  -148.0583,       4185,  3133.1,   1.5329,  34.6634,2,  34.6623,2,    118.6,2,   115.4,2,  164.17,6,   38.01,6,       0,6,    2.64,6,   0.002,2,   0.003,6,   0.012,3,  2348.7,2,  2422.9,2,   7.5106,6,    25.02,-999.000,9,-999.0000,9, -999.00,9,  -999.0,9,  -999.0,-999.0000,9,-999.0000,  -999.0,9,     24.103,3,-999.000,9, 20150620,     0728,-999.000,   1.5328,2,    34.8257,2,     -999.0,9,     -999.0,-999.0000,     -999.0,     -999.0,9,     -999.0,     -999.0,9,     -999.0,  -999.0,9,     -999.0,     -999.0,9,     -999.0
33RO20150525,     P16N.2,     194,          1,          3,          3,2,20150620,       0705,      54.55,  -148.0583,       4185,  3532.5,   1.4969,  34.6736,2,  34.6737,2,    128.8,2,   128.5,2,  161.62,6,   37.23,6,       0,6,    2.59,6,   0.002,2,   0.002,2,       0,2,  2341.2,2,  2422.7,6,   7.5332,6,    25.01,-999.000,9,-999.0000,9, -999.00,9,  -999.0,9,  -999.0,-999.0000,9,-999.0000,  -999.0,9,     22.776,3,-999.000,9, 20150620,     0719,-999.000,   1.4967,2,    34.8372,2,     -999.0,9,     -999.0,-999.0000,     -999.0,     -999.0,9,     -999.0,     -999.0,9,     -999.0,  -999.0,9,     -999.0,     -999.0,9,     -999.0
33RO20150525,     P16N.2,     194,          1,          2,          2,2,20150620,       0705,      54.55,  -148.0583,       4185,    3848,   1.4769,  34.6807,2,  34.6804,2,    137.3,2,   137.1,2,  160.25,6,   36.64,6,       0,6,    2.54,6,   0.003,2,   0.002,2,       0,2,  2335.4,2,    2422,2,    7.549,6,    25.02,-999.000,9,-999.0000,9, -999.00,9,  -999.0,9,  -999.0,-999.0000,9,-999.0000,  -999.0,9,     21.837,3,-999.000,9, 20150620,     0712,-999.000,   1.4771,2,    34.8439,2,     -999.0,9,     -999.0,-999.0000,     -999.0,     -999.0,9,     -999.0,     -999.0,9,     -999.0,  -999.0,9,     -999.0,     -999.0,9,     -999.0
33RO20150525,     P16N.2,     194,          1,          1,          1,2,20150620,       0705,      54.55,  -148.0583,       4185,  4162.7,   1.4851,  34.6845,2,  34.7189,4,    142.6,2,   141.8,2,  159.28,6,   36.45,6,    0.01,6,    2.52,6,   0.002,2,   0.002,2,       0,2,  2330.2,6,  2423.5,2,   7.5568,2,    25.02,-999.000,9,-999.0000,9, -999.00,9,  -999.0,9,  -999.0,-999.0000,9,-999.0000,  -999.0,9,     21.455,3,-999.000,9, 20150620,     0705,-999.000,   1.4853,2,    34.8826,2,     -999.0,9,     -999.0,-999.0000,     -999.0,     -999.0,9,     -999.0,     -999.0,9,     -999.0,  -999.0,9,     -999.0,     -999.0,9,     -999.0