BOTTLE,20220330CCHSIOCBG
EXPOCODE,SECT_ID,STNNBR,CASTNO,SAMPNO,BTLNBR,BTLNBR_FLAG_W,DATE,TIME,LATITUDE,LONGITUDE,DEPTH,CTDPRS,CTDTMP,CTDSAL,CTDSAL_FLAG_W,SALNTY,SALNTY_FLAG_W,CTDOXY,CTDOXY_FLAG_W,OXYGEN,OXYGEN_FLAG_W,SILCAT,SILCAT_FLAG_W,NITRAT,NITRAT_FLAG_W,NITRIT,NITRIT_FLAG_W,PHSPHT,PHSPHT_FLAG_W,CFC-11,CFC-11_FLAG_W,CFC-12,CFC-12_FLAG_W,SF6,SF6_FLAG_W,TCARBN,TCARBN_FLAG_W,ALKALI,ALKALI_FLAG_W,PH_TOT,PH_TOT_FLAG_W,PH_TMP,TRITUM,TRITUM_FLAG_W,HELIUM,HELIUM_FLAG_W,DELC13,DELC13_FLAG_W,DELC14,DELC14_FLAG_W,C14ERR,NEON,NEON_FLAG_W,NEONER,DOC,DOC_FLAG_W,N2O,N2O_FLAG_W,ARGON,ARGON_FLAG_W,BTL_DATE,BTL_TIME,TRITER,SBE35,SBE35_FLAG_W,SALTREF,SALTREF_FLAG_W,DELHE3,DELHE3_FLAG_W,DELHER,HELIER,ARGONER,KRYPTON,KRYPTON_FLAG_W,KRYPTONER,XENON,XENON_FLAG_W,XENONER,14C-DOC,14C-DOC_FLAG_W,14C-DOCERR,13C-DOC,13C-DOC_FLAG_W,13C-DOCERR
,,,,,,,,,,,METERS,DBAR,ITS-90,PSS-78,,PSS-78,,UMOL/KG,,UMOL/KG,,UMOL/KG,,UMOL/KG,,UMOL/KG,,UMOL/KG,,PMOL/KG,,PMOL/KG,,FMOL/KG,,UMOL/KG,,UMOL/KG,,,,DEG C,TU,,NMOL/KG,,/MILLE,,/MILLE,,/MILLE,NMOL/KG,,NMOL/KG,UMOL/KG,,NMOL/KG,,UMOL/KG,,,,TU,ITS-90,,G/KG,,PERCNT,,PERCNT,NMOL/KG,UMOL/KG,NMOL/KG,,NMOL/KG,NMOL/KG,,NMOL/KG,/MILLE,,/MILLE,/MILLE,,/MILLE
33RO20150525,     P16N.2,     204,          1,         24,         24,2,20150623,       0638,     56.552,  -137.3039,       2379,     2.6,  13.7094,  31.6661,2,  31.6969,2,    281.9,2,   289.1,2,    4.21,2,     0.1,2,    0.02,2,    0.47,2,   3.305,6,   1.918,6,   2.295,6,  1934.5,6,  2149.4,2,   7.9425,2,    24.96,-999.000,9,-999.0000,9,    1.57,2,   -13.9,2,     3.0,-999.0000,9,-999.0000,    66.1,2,     10.158,3,-999.000,9, 20150623,     0750,-999.000,  13.7419,2,    31.8464,2,     -999.0,9,     -999.0,-999.0000,     -999.0,     -999.0,9,     -999.0,     -999.0,9,     -999.0,  -999.0,9,     -999.0,     -999.0,9,     -999.0
33RO20150525,     P16N.2,     204,          1,         22,         22,2,20150623,       0638,     56.552,  -137.3039,       2379,    20.3,  10.0121,  31.8772,2,   31.908,2,    291.3,2,   290.3,2,   10.67,2,    4.99,2,    0.15,2,    0.94,2,   3.735,2,   2.137,2,   2.522,2,  1986.1,2,    2157,6,   7.8432,2,    24.97,-999.000,9,-999.0000,9,    1.15,2,    -8.0,2,     3.7,-999.0000,9,-999.0000,    61.9,2,     11.285,3,-999.000,9, 20150623,     0748,-999.000,  10.0145,2,    32.0585,6,     -999.0,9,     -999.0,-999.0000,     -999.0,     -999.0,9,     -999.0,     -999.0,9,     -999.0,  -999.0,9,     -999.0,     -999.0,9,     -999.0
33RO20150525,     P16N.2,     204,          1,         23,         23,2,20150623,       0638,     56.552,  -137.3039,       2379,    20.3,  10.0073,  31.8782,2,-999.0000,9,    291.4,2,  -999.0,9, -999.00,9, -999.00,9, -999.00,9, -999.00,9,-999.000,9,-999.000,9,-999.000,9,  -999.0,9,  -999.0,9,-999.0000,9,  -999.00,-999.000,9,-999.0000,9, -999.00,9,  -999.0,9,  -999.0,-999.0000,9,-999.0000,  -999.0,9,     -999.0,9,-999.000,9, 20150623,     0748,-999.000,  10.0042,2,     -999.0,9,     -999.0,9,     -999.0,-999.0000,     -999.0,     -999.0,9,     -999.0,     -999.0,9,     -999.0,    -276,2,          4,      -22.3,2,        0.2
33RO20150525,     P16N.2,     204,          1,         21,         21,2,20150623,       0638,     56.552,  -137.3039,       2379,    42.4,   8.1122,  31.9974,2,  32.0011,2,    285.9,2,   282.5,2,   16.25,2,    9.99,2,    0.52,2,    1.14,2,   3.894,2,   2.223,2,    2.58,2,  2018.2,2,    2154,2,   7.7557,2,    24.98,-999.000,9,-999.0000,9, -999.00,9,  -999.0,9,  -999.0,-999.0000,9,-999.0000,    57.5,2,     12.044,3,-999.000,9, 20150623,     0746,-999.000,   8.1079,2,     32.152,2,     -999.0,9,     -999.0,-999.0000,     -999.0,     -999.0,9,     -999.0,     -999.0,9,     -999.0,  -999.0,9,     -999.0,     -999.0,9,     -999.0
33RO20150525,     P16N.2,     204,          1,         20,         20,2,20150623,       0638,     56.552,  -137.3039,       2379,    67.5,   7.9347,  32.1327,2,   32.143,2,      275,2,   274.7,2,   15.76,2,   10.96,2,    0.03,2,    1.15,2,   3.863,2,   2.204,2,   2.566,2,    2028,2,  2161.4,2,    7.742,6,    24.98,-999.000,9,-999.0000,9,   -0.53,2,   -20.2,2,     2.2,-999.0000,9,-999.0000,    55.5,2,     12.316,3,-999.000,9, 20150623,     0744,-999.000,   7.9346,2,    32.2946,2,     -999.0,9,     -999.0,-999.0000,     -999.0,     -999.0,9,     -999.0,     -999.0,9,     -999.0,    -309,2,          4,      -22.4,2,        0.2
33RO20150525,     P16N.2,     204,          1,         19,         19,2,20150623,       0638,     56.552,  -137.3039,       2379,    92.1,   7.4886,  32.2859,2,  32.3087,2,    263.4,2,     260,2,   20.07,2,      14,2,    0.02,2,    1.31,2,   3.865,2,   2.181,2,   2.473,2,  2052.7,2,  2172.2,2,   7.6994,6,    24.98,-999.000,9,-999.0000,9, -999.00,9,  -999.0,9,  -999.0,-999.0000,9,-999.0000,    56.6,2,     13.876,3,-999.000,9, 20150623,     0743,-999.000,   7.4898,2,    32.4611,2,     -999.0,9,     -999.0,-999.0000,     -999.0,     -999.0,9,     -999.0,     -999.0,9,     -999.0,  -999.0,9,     -999.0,     -999.0,9,     -999.0
33RO20150525,     P16N.2,     204,          1,         18,         18,2,20150623,       0638,     56.552,  -137.3039,       2379,   115.6,   7.1812,  32.5805,2,  32.6299,2,      216,2,   217.5,2,   30.14,2,   19.87,2,    0.02,2,    1.62,2,   3.679,2,   2.074,2,    2.17,2,  2105.1,2,  2192.6,2,   7.6106,6,    24.99,-999.000,9,-999.0000,9,    0.18,2,   -26.5,2,     1.8,-999.0000,9,-999.0000,    51.4,2,     17.850,3,-999.000,9, 20150623,     0741,-999.000,   7.1812,2,    32.7838,2,     -999.0,9,     -999.0,-999.0000,     -999.0,     -999.0,9,     -999.0,     -999.0,9,     -999.0,  -999.0,9,     -999.0,     -999.0,9,     -999.0
33RO20150525,     P16N.2,     204,          1,         17,         17,2,20150623,       0638,     56.552,  -137.3039,       2379,   142.1,   7.0191,  33.1724,2,  33.2309,2,    168.5,2,   161.8,2,   38.74,2,   26.02,2,    0.01,2,    1.98,2,   3.497,2,   1.924,2,   1.752,2,  2165.6,2,  2225.3,2,   7.5092,2,    24.97,-999.000,9,-999.0000,9,    0.14,2,   -29.5,2,     1.9,-999.0000,9,-999.0000,    48.2,2,     23.095,3,-999.000,9, 20150623,     0740,-999.000,   7.0134,2,    33.3876,2,     -999.0,9,     -999.0,-999.0000,     -999.0,     -999.0,9,     -999.0,     -999.0,9,     -999.0,    -347,2,          4,      -22.3,2,        0.2
33RO20150525,     P16N.2,     204,          1,         16,         16,2,20150623,       0638,     56.552,  -137.3039,       2379,   184.3,   6.5953,  33.5756,2,  33.5935,2,    127.4,2,   125.1,2,   47.53,2,   30.41,2,    0.01,2,    2.22,2,   3.273,2,   1.772,2,   1.433,2,  2210.9,2,  2249.5,2,   7.4386,6,    24.97,-999.000,9,-999.0000,9,   -0.37,2,   -31.3,2,     2.1,-999.0000,9,-999.0000,    46.1,2,     27.579,3,-999.000,9, 20150623,     0738,-999.000,   6.5953,2,    33.7519,2,     -999.0,9,     -999.0,-999.0000,     -999.0,     -999.0,9,     -999.0,     -999.0,9,     -999.0,  -999.0,9,     -999.0,     -999.0,9,     -999.0
33RO20150525,     P16N.2,     204,          1,         15,         15,2,20150623,       0638,     56.552,  -137.3039,       2379,   250.9,   6.1684,   33.786,2,  33.7928,2,      111,2,   109.3,2,      53,2,   32.85,2,    0.01,2,    2.34,2,   3.082,2,   1.658,2,   1.205,2,    2234,2,  2264.3,2,   7.4085,6,    24.98,-999.000,9,-999.0000,9,   -0.49,2,   -40.4,2,     2.9,-999.0000,9,-999.0000,    47.1,2,     29.988,3,-999.000,9, 20150623,     0735,-999.000,   6.1671,2,    33.9522,2,     -999.0,9,     -999.0,-999.0000,     -999.0,     -999.0,9,     -999.0,     -999.0,9,     -999.0,  -999.0,9,     -999.0,     -999.0,9,     -999.0
33RO20150525,     P16N.2,     204,          1,         14,         14,2,20150623,       0638,     56.552,  -137.3039,       2379,   326.1,   5.5393,  33.8792,2,  33.8784,2,     92.5,2,    91.5,2,    61.4,2,   35.59,2,       0,2,    2.51,2,   2.811,2,   1.496,2,   0.965,2,  2258.6,2,  2276.3,2,   7.3687,2,    24.98,-999.000,9,-999.0000,9,   -0.56,2,   -57.6,2,     2.1,-999.0000,9,-999.0000,    44.9,2,     32.543,3,-999.000,9, 20150623,     0733,-999.000,   5.5398,2,    34.0381,2,     -999.0,9,     -999.0,-999.0000,     -999.0,     -999.0,9,     -999.0,     -999.0,9,     -999.0,    -349,2,          4,      -22.2,2,        0.2
33RO20150525,     P16N.2,     204,          1,         13,         13,2,20150623,       0638,     56.552,  -137.3039,       2379,   411.1,   4.8653,  33.9595,2,  33.9562,2,     58.3,2,    58.5,2,   75.57,2,   39.69,2,    0.01,2,    2.76,2,   2.183,2,   1.113,2,   0.647,2,  2293.4,2,  2291.7,2,   7.3075,2,    24.97,-999.000,9,-999.0000,9,   -0.99,2,   -94.1,2,     3.2,-999.0000,9,-999.0000,    42.6,2,     37.184,3,-999.000,9, 20150623,     0730,-999.000,   4.8658,2,    34.1163,2,     -999.0,9,     -999.0,-999.0000,     -999.0,     -999.0,9,     -999.0,     -999.0,9,     -999.0,  -999.0,9,     -999.0,     -999.0,9,     -999.0
33RO20150525,     P16N.2,     204,          1,         12,         12,2,20150623,       0638,     56.552,  -137.3039,       2379,   510.6,    4.454,  34.0267,2,  34.0255,2,     39.8,2,    39.8,2,    87.5,2,   41.74,2,       0,2,     2.9,2,    1.65,2,   0.824,2,   0.425,2,  2316.1,2,  2305.5,2,    7.279,2,    24.98,-999.000,9,-999.0000,9,   -0.71,2,  -106.5,2,     2.0,-999.0000,9,-999.0000,    43.9,2,     40.538,3,-999.000,9, 20150623,     0727,-999.000,   4.4539,2,    34.1859,2,     -999.0,9,     -999.0,-999.0000,     -999.0,     -999.0,9,     -999.0,     -999.0,9,     -999.0,    -433,2,          4,      -22.1,2,        0.2
33RO20150525,     P16N.2,     204,          1,         11,         11,2,20150623,       0638,     56.552,  -137.3039,       2379,   625.1,   4.1557,  34.1103,2,  34.1077,2,       26,2,    25.3,2,   98.83,2,   42.82,2,       0,2,    2.99,2,   1.102,2,   0.538,2,   0.256,2,  2333.2,2,  2320.4,2,   7.2672,2,    25.02,-999.000,9,-999.0000,9,   -0.74,2,  -134.0,2,     2.0,-999.0000,9,-999.0000,    41.6,2,     43.310,3,-999.000,9, 20150623,     0723,-999.000,   4.1569,2,    34.2685,2,     -999.0,9,     -999.0,-999.0000,     -999.0,     -999.0,9,     -999.0,     -999.0,9,     -999.0,  -999.0,9,     -999.0,     -999.0,9,     -999.0
33RO20150525,     P16N.2,     204,          1,         10,         10,2,20150623,       0638,     56.552,  -137.3039,       2379,   724.6,   3.9481,  34.1799,2,  34.1777,2,     18.3,2,    18.2,2,  107.62,2,    43.4,2,       0,2,    3.04,2,   0.704,2,   0.347,2,   0.159,2,    2347,2,  2332.7,2,   7.2666,2,    24.98,-999.000,9,-999.0000,9,   -0.68,2,  -154.0,2,     1.9,-999.0000,9,-999.0000,    40.2,2,     45.636,3,-999.000,9, 20150623,     0720,-999.000,   3.9483,2,    34.3388,2,     -999.0,9,     -999.0,-999.0000,     -999.0,     -999.0,9,     -999.0,     -999.0,9,     -999.0,    -470,2,          4,      -22.1,2,        0.2
33RO20150525,     P16N.2,     204,          1,          9,          9,2,20150623,       0638,     56.552,  -137.3039,       2379,   849.7,   3.6663,  34.2549,2,  34.2537,2,       14,2,    14.3,2,  118.08,2,   43.79,2,       0,2,    3.07,2,   0.373,2,   0.181,2,   0.086,2,  2361.2,6,  2347.4,2,   7.2702,2,    25.03,-999.000,9,-999.0000,9,   -0.68,2,  -179.0,2,     1.9,-999.0000,9,-999.0000,    39.2,2,     47.290,3,-999.000,9, 20150623,     0716,-999.000,   3.6665,2,    34.4153,6,     -999.0,9,     -999.0,-999.0000,     -999.0,     -999.0,9,     -999.0,     -999.0,9,     -999.0,    -478,2,          4,      -21.9,2,        0.2
33RO20150525,     P16N.2,     204,          1,          8,          8,2,20150623,       0638,     56.552,  -137.3039,       2379,   999.5,   3.3678,  34.3168,2,   34.314,2,     12.7,2,      13,2,  127.65,2,   44.08,2,       0,2,    3.09,2,   0.201,2,   0.099,2,   0.107,3,  2371.7,2,  2362.7,2,   7.2766,6,    25.01,-999.000,9,-999.0000,9,   -0.66,2,  -192.1,2,     1.9,-999.0000,9,-999.0000,    40.2,2,     47.764,3,-999.000,9, 20150623,     0712,-999.000,   3.3685,2,    34.4758,2,     -999.0,9,     -999.0,-999.0000,     -999.0,     -999.0,9,     -999.0,     -999.0,9,     -999.0,    -494,2,          4,      -22.1,2,        0.2
33RO20150525,     P16N.2,     204,          1,          7,          7,2,20150623,       0638,     56.552,  -137.3039,       2379,  1167.4,   3.0126,  34.3836,2,  34.3846,2,     12.9,2,      13,2,  138.98,2,   44.27,2,       0,2,     3.1,2,   0.084,2,   0.042,2,   0.078,3,  2381.5,2,    2375,2,   7.2842,2,    25.01,-999.000,9,-999.0000,9, -999.00,9,  -999.0,9,  -999.0,-999.0000,9,-999.0000,    39.0,2,     47.347,3,-999.000,9, 20150623,     0707,-999.000,   3.0125,2,    34.5468,2,     -999.0,9,     -999.0,-999.0000,     -999.0,     -999.0,9,     -999.0,     -999.0,9,     -999.0,  -999.0,9,     -999.0,     -999.0,9,     -999.0
33RO20150525,     P16N.2,     204,          1,          6,          6,2,20150623,       0638,     56.552,  -137.3039,       2379,  1325.2,   2.7045,  34.4378,2,  34.4361,2,     15.9,2,    16.1,2,  148.06,2,   44.27,2,       0,2,    3.08,2,   0.041,2,   0.021,2,       0,2,  2389.5,2,  2386.2,2,   7.2945,2,    25.02,-999.000,9,-999.0000,9,   -0.65,2,  -221.9,2,     1.7,-999.0000,9,-999.0000,    39.5,2,     45.450,3,-999.000,9, 20150623,     0703,-999.000,   2.7042,2,    34.5984,2,     -999.0,9,     -999.0,-999.0000,     -999.0,     -999.0,9,     -999.0,     -999.0,9,     -999.0,    -515,2,          4,      -22.1,2,        0.2
33RO20150525,     P16N.2,     204,          1,          5,          5,2,20150623,       0638,     56.552,  -137.3039,       2379,  1516.7,   2.4391,  34.4862,2,  34.4877,2,     22.9,2,      23,2,  155.19,2,   43.98,2,       0,2,    3.05,2,   0.019,2,    0.01,2,       0,2,  2394.5,2,  2395.7,2,   7.3125,2,    25.03,-999.000,9,-999.0000,9,   -0.63,2,  -228.1,2,     2.0,-999.0000,9,-999.0000,    40.1,2,     42.870,3,-999.000,9, 20150623,     0658,-999.000,   2.4394,2,    34.6503,2,     -999.0,9,     -999.0,-999.0000,     -999.0,     -999.0,9,     -999.0,     -999.0,9,     -999.0,    -524,2,          4,      -22.1,2,        0.2
33RO20150525,     P16N.2,     204,          1,          4,          4,2,20150623,       0638,     56.552,  -137.3039,       2379,  1867.1,   2.0693,  34.5584,2,  34.5562,2,     43.3,2,    43.4,2,  163.88,6,    42.9,6,       0,6,    2.95,6,   0.004,2,   0.002,2,       0,2,  2390.2,2,  2408.7,2,   7.3594,3,    25.02,-999.000,9,-999.0000,9,   -0.56,2,  -240.7,2,     2.0,-999.0000,9,-999.0000,    38.4,2,     37.128,3,-999.000,9, 20150623,     0651,-999.000,   2.0691,2,    34.7192,2,     -999.0,9,     -999.0,-999.0000,     -999.0,     -999.0,9,     -999.0,     -999.0,9,     -999.0,    -538,2,          4,      -21.9,2,        0.2
33RO20150525,     P16N.2,     204,          1,          3,          3,2,20150623,       0638,     56.552,  -137.3039,       2379,    2200,   1.8412,  34.6038,2,-999.0000,9,     65.7,2,  -999.0,9, -999.00,9, -999.00,9, -999.00,9, -999.00,9,-999.000,9,-999.000,9,-999.000,9,  -999.0,9,  -999.0,9,-999.0000,9,  -999.00,-999.000,9,-999.0000,9, -999.00,9,  -999.0,9,  -999.0,-999.0000,9,-999.0000,    38.2,2,     -999.0,9,-999.000,9, 20150623,     0644,-999.000,   1.8409,2,     -999.0,9,     -999.0,9,     -999.0,-999.0000,     -999.0,     -999.0,9,     -999.0,     -999.0,9,     -999.0,    -541,2,          4,      -22.0,2,        0.2
33RO20150525,     P16N.2,     204,          1,          2,          2,2,20150623,       0638,     56.552,  -137.3039,       2379,  2200.2,   1.8412,  34.6038,2,  34.6026,2,     65.7,2,    65.7,2,  167.98,6,   41.53,6,       0,6,    2.86,6,   0.003,2,   0.002,2,       0,2,  2383.7,2,    2417,2,   7.4073,6,    25.02,-999.000,9,-999.0000,9,   -0.42,2,  -239.9,2,     1.8,-999.0000,9,-999.0000,    38.2,2,     31.862,3,-999.000,9, 20150623,     0643,-999.000,   1.8408,2,    34.7658,2,     -999.0,9,     -999.0,-999.0000,     -999.0,     -999.0,9,     -999.0,     -999.0,9,     -999.0,  -999.0,9,     -999.0,     -999.0,9,     -999.0
33RO20150525,     P16N.2,     204,          1,          1,          1,2,20150623,       0638,     56.552,  -137.3039,       2379,    2398,    1.632,  34.6423,2,  34.6415,2,     88.8,2,    89.3,2,  175.21,6,   39.77,6,    0.01,6,    2.77,6,   0.019,6,   0.005,6,       0,6,  2374.2,6,  2428.5,3,   7.4624,2,    24.95,-999.000,9,-999.0000,9, -999.00,9,  -999.0,9,  -999.0,-999.0000,9,-999.0000,    39.8,2,     26.783,3,-999.000,9, 20150623,     0639,-999.000,    1.633,2,    34.8049,2,     -999.0,9,     -999.0,-999.0000,     -999.0,     -999.0,9,     -999.0,     -999.0,9,     -999.0,  -999.0,9,     -999.0,     -999.0,9,     -999.0