BOTTLE,20220330CCHSIOCBG
EXPOCODE,SECT_ID,STNNBR,CASTNO,SAMPNO,BTLNBR,BTLNBR_FLAG_W,DATE,TIME,LATITUDE,LONGITUDE,DEPTH,CTDPRS,CTDTMP,CTDSAL,CTDSAL_FLAG_W,SALNTY,SALNTY_FLAG_W,CTDOXY,CTDOXY_FLAG_W,OXYGEN,OXYGEN_FLAG_W,SILCAT,SILCAT_FLAG_W,NITRAT,NITRAT_FLAG_W,NITRIT,NITRIT_FLAG_W,PHSPHT,PHSPHT_FLAG_W,CFC-11,CFC-11_FLAG_W,CFC-12,CFC-12_FLAG_W,SF6,SF6_FLAG_W,TCARBN,TCARBN_FLAG_W,ALKALI,ALKALI_FLAG_W,PH_TOT,PH_TOT_FLAG_W,PH_TMP,TRITUM,TRITUM_FLAG_W,HELIUM,HELIUM_FLAG_W,DELC13,DELC13_FLAG_W,DELC14,DELC14_FLAG_W,C14ERR,NEON,NEON_FLAG_W,NEONER,DOC,DOC_FLAG_W,N2O,N2O_FLAG_W,ARGON,ARGON_FLAG_W,BTL_DATE,BTL_TIME,TRITER,SBE35,SBE35_FLAG_W,SALTREF,SALTREF_FLAG_W,DELHE3,DELHE3_FLAG_W,DELHER,HELIER,ARGONER,KRYPTON,KRYPTON_FLAG_W,KRYPTONER,XENON,XENON_FLAG_W,XENONER,14C-DOC,14C-DOC_FLAG_W,14C-DOCERR,13C-DOC,13C-DOC_FLAG_W,13C-DOCERR
,,,,,,,,,,,METERS,DBAR,ITS-90,PSS-78,,PSS-78,,UMOL/KG,,UMOL/KG,,UMOL/KG,,UMOL/KG,,UMOL/KG,,UMOL/KG,,PMOL/KG,,PMOL/KG,,FMOL/KG,,UMOL/KG,,UMOL/KG,,,,DEG C,TU,,NMOL/KG,,/MILLE,,/MILLE,,/MILLE,NMOL/KG,,NMOL/KG,UMOL/KG,,NMOL/KG,,UMOL/KG,,,,TU,ITS-90,,G/KG,,PERCNT,,PERCNT,NMOL/KG,UMOL/KG,NMOL/KG,,NMOL/KG,NMOL/KG,,NMOL/KG,/MILLE,,/MILLE,/MILLE,,/MILLE
33RO20150525,     P16N.2,     117,          1,         24,         24,2,20150528,       1531,     24.499,  -151.9994,       5362,       3,  23.6696,  35.3217,2,  35.3246,2,    209.6,2,   210.4,2,    1.27,2,       0,2,       0,2,    0.08,2,   1.804,6,   1.129,6,   1.481,6,  2015.6,2,    2325,2,   8.0455,6,    25.06,-999.000,9,-999.0000,9,    0.82,2,    29.4,2,     2.1,-999.0000,9,-999.0000,    72.4,2,      6.872,3,-999.000,9, 20150528,     1736,-999.000,   23.693,2,    35.4912,2,     -999.0,9,     -999.0,-999.0000,     -999.0,     -999.0,9,     -999.0,     -999.0,9,     -999.0,  -999.0,9,     -999.0,     -999.0,9,     -999.0
33RO20150525,     P16N.2,     117,          1,         23,         23,2,20150528,       1531,     24.499,  -151.9994,       5362,    34.7,  23.2322,  35.3861,2,  35.3897,2,    213.5,2,   212.5,2,    1.17,2,       0,2,       0,2,    0.06,2,-999.000,9,-999.000,9,-999.000,9,  -999.0,9,  -999.0,9,-999.0000,9,  -999.00,-999.000,9,-999.0000,9, -999.00,9,  -999.0,9,  -999.0,-999.0000,9,-999.0000,    70.0,2,     -999.0,9,-999.000,9, 20150528,     1733,-999.000,  23.2391,2,    35.5565,2,     -999.0,9,     -999.0,-999.0000,     -999.0,     -999.0,9,     -999.0,     -999.0,9,     -999.0,  -999.0,9,     -999.0,     -999.0,9,     -999.0
33RO20150525,     P16N.2,     117,          1,         22,         22,2,20150528,       1531,     24.499,  -151.9994,       5362,    59.3,  22.3531,  35.3529,2,  35.3558,2,    216.9,2,   216.7,2,    1.37,2,       0,2,       0,2,    0.06,2,   1.914,2,   1.186,2,    1.49,2,  2028.5,2,  2326.4,6,   8.0308,2,    25.08,-999.000,9,-999.0000,9,    0.84,2,    39.7,2,     2.4,-999.0000,9,-999.0000,    69.9,2,      7.299,3,-999.000,9, 20150528,     1731,-999.000,  22.3784,2,    35.5225,2,     -999.0,9,     -999.0,-999.0000,     -999.0,     -999.0,9,     -999.0,     -999.0,9,     -999.0,  -999.0,9,     -999.0,     -999.0,9,     -999.0
33RO20150525,     P16N.2,     117,          1,         21,         21,2,20150528,       1531,     24.499,  -151.9994,       5362,    81.6,  21.4969,  35.3029,2,  35.2984,2,    215.8,2,   215.2,2,    1.56,2,       0,2,       0,2,    0.07,2,   1.997,2,   1.229,2,   1.536,2,  2057.8,4,    2322,2,    8.013,6,    25.05,-999.000,9,-999.0000,9,    0.66,2,    38.6,2,     2.0,-999.0000,9,-999.0000,    66.8,2,      7.680,3,-999.000,9, 20150528,     1730,-999.000,  21.4917,2,    35.4649,2,     -999.0,9,     -999.0,-999.0000,     -999.0,     -999.0,9,     -999.0,     -999.0,9,     -999.0,  -999.0,9,     -999.0,     -999.0,9,     -999.0
33RO20150525,     P16N.2,     117,          1,         20,         20,2,20150528,       1531,     24.499,  -151.9994,       5362,   118.2,  20.2009,  35.1791,2,  35.1672,2,    208.1,2,   209.3,2,    1.95,2,     0.2,2,    0.07,2,    0.12,2,   2.094,2,   1.289,2,   1.511,2,  2042.3,2,  2312.3,2,   7.9837,2,    25.07,-999.000,9,-999.0000,9,    0.48,2,    44.1,2,     2.2,-999.0000,9,-999.0000,    60.7,2,      8.094,3,-999.000,9, 20150528,     1728,-999.000,   20.206,2,     35.333,2,     -999.0,9,     -999.0,-999.0000,     -999.0,     -999.0,9,     -999.0,     -999.0,9,     -999.0,  -999.0,9,     -999.0,     -999.0,9,     -999.0
33RO20150525,     P16N.2,     117,          1,         19,         19,2,20150528,       1531,     24.499,  -151.9994,       5362,   177.3,  17.7449,  34.8685,2,  34.8423,2,    207.2,2,   207.5,2,    3.22,2,    2.44,2,    0.02,2,    0.24,2,   2.342,2,   1.415,2,   1.639,2,  2051.2,2,  2288.9,2,   7.9353,2,    25.07,-999.000,9,-999.0000,9,    0.32,2,    42.6,2,     2.2,-999.0000,9,-999.0000,    52.7,2,      9.237,3,-999.000,9, 20150528,     1725,-999.000,  17.7061,2,    35.0066,2,     -999.0,9,     -999.0,-999.0000,     -999.0,     -999.0,9,     -999.0,     -999.0,9,     -999.0,  -999.0,9,     -999.0,     -999.0,9,     -999.0
33RO20150525,     P16N.2,     117,          1,         18,         18,2,20150528,       1531,     24.499,  -151.9994,       5362,   248.4,  13.1573,  34.2417,2,  34.2358,2,    201.8,2,   200.8,2,     8.5,2,    9.18,2,    0.01,2,    0.71,2,   2.933,2,   1.706,2,   1.656,2,    2081,2,  2255.1,2,   7.8157,2,    25.06,-999.000,9,-999.0000,9,    0.04,2,    40.8,2,     2.3,-999.0000,9,-999.0000,    47.4,2,     13.817,3,-999.000,9, 20150528,     1723,-999.000,  13.1546,2,    34.3973,2,     -999.0,9,     -999.0,-999.0000,     -999.0,     -999.0,9,     -999.0,     -999.0,9,     -999.0,  -999.0,9,     -999.0,     -999.0,9,     -999.0
33RO20150525,     P16N.2,     117,          1,         17,         17,2,20150528,       1531,     24.499,  -151.9994,       5362,   333.3,  10.0107,  34.0744,2,  34.0778,2,    191.6,2,     193,2,   18.36,2,    16.6,2,    0.01,2,    1.19,2,   3.269,2,    1.86,2,    1.42,2,  2126.2,2,  2256.2,2,   7.7124,2,    25.05,-999.000,9,-999.0000,9,   -0.06,2,    24.7,2,     2.0,-999.0000,9,-999.0000,    48.4,2,     19.258,3,-999.000,9, 20150528,     1720,-999.000,  10.0129,2,    34.2385,2,     -999.0,9,     -999.0,-999.0000,     -999.0,     -999.0,9,     -999.0,     -999.0,9,     -999.0,  -999.0,9,     -999.0,     -999.0,9,     -999.0
33RO20150525,     P16N.2,     117,          1,         16,         16,2,20150528,       1531,     24.499,  -151.9994,       5362,     432,   7.6389,  34.0176,2,  34.0174,2,    146.2,2,   145.9,2,   38.09,2,   26.08,2,       0,2,    1.84,2,    2.91,2,   1.557,2,   0.805,2,  2176.3,2,    2269,2,   7.5669,2,    25.06,-999.000,9,-999.0000,9,   -0.21,2,   -14.8,2,     1.9,-999.0000,9,-999.0000,    46.3,2,     26.108,3,-999.000,9, 20150528,     1717,-999.000,   7.6388,2,    34.1778,2,     -999.0,9,     -999.0,-999.0000,     -999.0,     -999.0,9,     -999.0,     -999.0,9,     -999.0,  -999.0,9,     -999.0,     -999.0,9,     -999.0
33RO20150525,     P16N.2,     117,          1,         15,         15,2,20150528,       1531,     24.499,  -151.9994,       5362,   549.8,   5.7197,  34.0747,2,  34.0778,2,     59.4,2,    61.7,2,   68.66,2,   37.31,2,       0,2,    2.69,2,   1.311,6,   0.643,6,   0.214,6,  2284.9,2,  2295.9,2,   7.3583,2,    25.07,-999.000,9,-999.0000,9,   -0.52,2,   -93.5,2,     2.0,-999.0000,9,-999.0000,    43.9,2,     38.482,3,-999.000,9, 20150528,     1714,-999.000,   5.7247,2,    34.2385,2,     -999.0,9,     -999.0,-999.0000,     -999.0,     -999.0,9,     -999.0,     -999.0,9,     -999.0,  -999.0,9,     -999.0,     -999.0,9,     -999.0
33RO20150525,     P16N.2,     117,          1,         14,         14,2,20150528,       1531,     24.499,  -151.9994,       5362,   699.4,   4.6935,  34.2332,2,  34.2339,2,     26.1,2,    25.9,2,   92.48,2,    41.6,2,       0,2,    3.01,2,   0.218,2,   0.113,2,   0.087,2,  2328.3,2,  2329.5,2,   7.3097,2,    25.08,-999.000,9,-999.0000,9,   -0.58,2,  -161.3,2,     1.8,-999.0000,9,-999.0000,    39.0,2,     46.004,3,-999.000,9, 20150528,     1709,-999.000,   4.6921,2,    34.3953,6,     -999.0,9,     -999.0,-999.0000,     -999.0,     -999.0,9,     -999.0,     -999.0,9,     -999.0,  -999.0,9,     -999.0,     -999.0,9,     -999.0
33RO20150525,     P16N.2,     117,          1,         13,         13,2,20150528,       1531,     24.499,  -151.9994,       5362,   850.5,   4.1822,  34.3891,2,  34.3881,2,     31.5,2,    31.5,2,  104.67,2,   42.08,2,       0,2,    3.04,2,   0.056,2,   0.032,2,       0,2,     0.8,4,  2354.1,2,   7.3407,6,    25.07,-999.000,9,-999.0000,9,   -0.79,2,  -200.6,2,     1.7,-999.0000,9,-999.0000,    40.7,2,     44.856,3,-999.000,9, 20150528,     1705,-999.000,   4.1814,2,    34.5503,2,     -999.0,9,     -999.0,-999.0000,     -999.0,     -999.0,9,     -999.0,     -999.0,9,     -999.0,  -999.0,9,     -999.0,     -999.0,9,     -999.0
33RO20150525,     P16N.2,     117,          1,         12,         12,2,20150528,       1531,     24.499,  -151.9994,       5362,  1002.4,    3.844,  34.4856,2,  34.4898,2,     46.2,2,    46.8,2,  110.52,2,   41.59,2,       0,2,    2.99,2,   0.025,2,   0.013,2,   0.051,3,  2344.9,2,  2370.1,2,   7.3829,2,    25.07,-999.000,9,-999.0000,9, -999.00,9,  -999.0,9,  -999.0,-999.0000,9,-999.0000,    37.2,2,     40.403,3,-999.000,9, 20150528,     1701,-999.000,   3.8447,2,    34.6524,2,     -999.0,9,     -999.0,-999.0000,     -999.0,     -999.0,9,     -999.0,     -999.0,9,     -999.0,  -999.0,9,     -999.0,     -999.0,9,     -999.0
33RO20150525,     P16N.2,     117,          1,         11,         11,2,20150528,       1531,     24.499,  -151.9994,       5362,  1168.2,   3.4545,  34.5314,2,  34.5308,2,     53.4,2,      55,2,  118.52,2,   41.49,2,       0,2,    2.97,2,   0.009,2,   0.005,2,   0.034,3,  2349.2,2,  2382.3,2,   7.3989,6,    25.07,-999.000,9,-999.0000,9, -999.00,9,  -999.0,9,  -999.0,-999.0000,9,-999.0000,    40.1,2,     38.046,3,-999.000,9, 20150528,     1657,-999.000,   3.4558,2,    34.6937,2,     -999.0,9,     -999.0,-999.0000,     -999.0,     -999.0,9,     -999.0,     -999.0,9,     -999.0,  -999.0,9,     -999.0,     -999.0,9,     -999.0
33RO20150525,     P16N.2,     117,          1,         10,         10,2,20150528,       1531,     24.499,  -151.9994,       5362,  1400.8,    2.978,  34.5609,2,  34.5609,2,     62.4,2,      61,2,  129.06,2,    41.2,2,       0,2,    2.94,2,-999.000,9,-999.000,9,-999.000,9,  -999.0,9,  -999.0,9,-999.0000,9,  -999.00,-999.000,9,-999.0000,9, -999.00,9,  -999.0,9,  -999.0,-999.0000,9,-999.0000,    37.2,2,     -999.0,9,-999.000,9, 20150528,     1652,-999.000,   2.9807,2,    34.7239,2,     -999.0,9,     -999.0,-999.0000,     -999.0,     -999.0,9,     -999.0,     -999.0,9,     -999.0,  -999.0,9,     -999.0,     -999.0,9,     -999.0
33RO20150525,     P16N.2,     117,          1,          9,          9,2,20150528,       1531,     24.499,  -151.9994,       5362,  1733.6,   2.4507,  34.5949,2,  34.5951,2,     76.4,2,    76.1,2,  140.68,2,   40.42,2,       0,2,    2.86,2,   0.003,2,   0.001,2,       0,2,  2353.7,3,  2405.2,6,     7.44,6,    25.08,-999.000,9,-999.0000,9, -999.00,9,  -999.0,9,  -999.0,-999.0000,9,-999.0000,    35.5,2,     31.773,3,-999.000,9, 20150528,     1645,-999.000,   2.4516,2,    34.7582,2,     -999.0,9,     -999.0,-999.0000,     -999.0,     -999.0,9,     -999.0,     -999.0,9,     -999.0,  -999.0,9,     -999.0,     -999.0,9,     -999.0
33RO20150525,     P16N.2,     117,          1,          8,          8,2,20150528,       1531,     24.499,  -151.9994,       5362,  2134.6,   1.9962,  34.6263,2,  34.6263,2,     89.4,2,    90.5,2,   151.8,2,   39.54,2,       0,2,    2.77,2,-999.000,9,-999.000,9,-999.000,9,  -999.0,9,  -999.0,9,-999.0000,9,  -999.00,-999.000,9,-999.0000,9, -999.00,9,  -999.0,9,  -999.0,-999.0000,9,-999.0000,    36.3,2,     -999.0,9,-999.000,9, 20150528,     1637,-999.000,   1.9962,2,    34.7896,2,     -999.0,9,     -999.0,-999.0000,     -999.0,     -999.0,9,     -999.0,     -999.0,9,     -999.0,  -999.0,9,     -999.0,     -999.0,9,     -999.0
33RO20150525,     P16N.2,     117,          1,          7,          7,2,20150528,       1531,     24.499,  -151.9994,       5362,  2532.4,   1.7282,  34.6494,2,  34.6489,2,    104.8,2,   106.1,2,  158.24,2,   38.76,2,       0,2,    2.71,2,-999.000,9,-999.000,9,-999.000,9,  -999.0,9,  -999.0,9,-999.0000,9,  -999.00,-999.000,9,-999.0000,9, -999.00,9,  -999.0,9,  -999.0,-999.0000,9,-999.0000,    37.9,2,     -999.0,9,-999.000,9, 20150528,     1629,-999.000,   1.7286,2,    34.8123,2,     -999.0,9,     -999.0,-999.0000,     -999.0,     -999.0,9,     -999.0,     -999.0,9,     -999.0,  -999.0,9,     -999.0,     -999.0,9,     -999.0
33RO20150525,     P16N.2,     117,          1,          6,          6,2,20150528,       1531,     24.499,  -151.9994,       5362,  2968.3,    1.569,  34.6664,2,  34.6692,2,      120,2,   120.1,2,  158.73,2,   37.78,2,       0,2,    2.62,2,-999.000,9,-999.000,9,-999.000,9,  -999.0,9,  -999.0,9,-999.0000,9,  -999.00,-999.000,9,-999.0000,9, -999.00,9,  -999.0,9,  -999.0,-999.0000,9,-999.0000,    39.2,2,     -999.0,9,-999.000,9, 20150528,     1621,-999.000,   1.5686,2,    34.8327,2,     -999.0,9,     -999.0,-999.0000,     -999.0,     -999.0,9,     -999.0,     -999.0,9,     -999.0,  -999.0,9,     -999.0,     -999.0,9,     -999.0
33RO20150525,     P16N.2,     117,          1,          5,          5,2,20150528,       1531,     24.499,  -151.9994,       5362,  3466.5,   1.4925,  34.6783,2,    34.68,2,    134.6,2,   135.2,2,  155.61,2,    36.9,2,       0,2,    2.54,2,-999.000,9,-999.000,9,-999.000,9,  -999.0,9,  -999.0,9,-999.0000,9,  -999.00,-999.000,9,-999.0000,9, -999.00,9,  -999.0,9,  -999.0,-999.0000,9,-999.0000,    37.0,2,     -999.0,9,-999.000,9, 20150528,     1611,-999.000,   1.4926,2,    34.8435,2,     -999.0,9,     -999.0,-999.0000,     -999.0,     -999.0,9,     -999.0,     -999.0,9,     -999.0,  -999.0,9,     -999.0,     -999.0,9,     -999.0
33RO20150525,     P16N.2,     117,          1,          4,          4,2,20150528,       1531,     24.499,  -151.9994,       5362,  3967.9,   1.4717,  34.6846,2,  34.6848,2,    144.1,2,   144.7,2,   151.5,6,   36.31,6,       0,6,    2.49,6,-999.000,9,-999.000,9,-999.000,9,  -999.0,9,  -999.0,9,-999.0000,9,  -999.00,-999.000,9,-999.0000,9, -999.00,9,  -999.0,9,  -999.0,-999.0000,9,-999.0000,    38.8,2,     -999.0,9,-999.000,9, 20150528,     1601,-999.000,   1.4719,2,    34.8484,6,     -999.0,9,     -999.0,-999.0000,     -999.0,     -999.0,9,     -999.0,     -999.0,9,     -999.0,  -999.0,9,     -999.0,     -999.0,9,     -999.0
33RO20150525,     P16N.2,     117,          1,          3,          3,2,20150528,       1531,     24.499,  -151.9994,       5362,  4467.4,   1.4877,  34.6883,2,  34.6897,2,    151.1,2,   170.2,4,  146.33,6,   35.83,6,       0,6,    2.46,6,-999.000,9,-999.000,9,-999.000,9,  -999.0,9,  -999.0,9,-999.0000,9,  -999.00,-999.000,9,-999.0000,9, -999.00,9,  -999.0,9,  -999.0,-999.0000,9,-999.0000,    40.4,2,     -999.0,9,-999.000,9, 20150528,     1552,-999.000,   1.4878,2,    34.8532,2,     -999.0,9,     -999.0,-999.0000,     -999.0,     -999.0,9,     -999.0,     -999.0,9,     -999.0,  -999.0,9,     -999.0,     -999.0,9,     -999.0
33RO20150525,     P16N.2,     117,          1,          2,          2,2,20150528,       1531,     24.499,  -151.9994,       5362,  4986.4,   1.4897,  34.6929,2,  34.6926,2,    160.6,2,   161.4,2,  139.11,6,   35.05,6,       0,6,    2.41,6,-999.000,9,-999.000,9,-999.000,9,  -999.0,9,  -999.0,9,-999.0000,9,  -999.00,-999.000,9,-999.0000,9, -999.00,9,  -999.0,9,  -999.0,-999.0000,9,-999.0000,    43.8,2,     -999.0,9,-999.000,9, 20150528,     1541,-999.000,   1.4898,2,    34.8562,2,     -999.0,9,     -999.0,-999.0000,     -999.0,     -999.0,9,     -999.0,     -999.0,9,     -999.0,  -999.0,9,     -999.0,     -999.0,9,     -999.0
33RO20150525,     P16N.2,     117,          1,          1,          1,2,20150528,       1531,     24.499,  -151.9994,       5362,  5437.8,   1.5302,  34.6943,2,  34.6954,2,    163.9,2,   163.7,2,  136.86,6,   34.85,6,       0,6,    2.39,6,-999.000,9,-999.000,9,-999.000,9,    2312,2,  2410.6,2,   7.5868,2,    25.09,-999.000,9,-999.0000,9, -999.00,9,  -999.0,9,  -999.0,-999.0000,9,-999.0000,    38.0,2,     -999.0,9,-999.000,9, 20150528,     1531,-999.000,     1.53,2,     34.859,2,     -999.0,9,     -999.0,-999.0000,     -999.0,     -999.0,9,     -999.0,     -999.0,9,     -999.0,  -999.0,9,     -999.0,     -999.0,9,     -999.0