BOTTLE,20220330CCHSIOCBG
EXPOCODE,SECT_ID,STNNBR,CASTNO,SAMPNO,BTLNBR,BTLNBR_FLAG_W,DATE,TIME,LATITUDE,LONGITUDE,DEPTH,CTDPRS,CTDTMP,CTDSAL,CTDSAL_FLAG_W,SALNTY,SALNTY_FLAG_W,CTDOXY,CTDOXY_FLAG_W,OXYGEN,OXYGEN_FLAG_W,SILCAT,SILCAT_FLAG_W,NITRAT,NITRAT_FLAG_W,NITRIT,NITRIT_FLAG_W,PHSPHT,PHSPHT_FLAG_W,CFC-11,CFC-11_FLAG_W,CFC-12,CFC-12_FLAG_W,SF6,SF6_FLAG_W,TCARBN,TCARBN_FLAG_W,ALKALI,ALKALI_FLAG_W,PH_TOT,PH_TOT_FLAG_W,PH_TMP,TRITUM,TRITUM_FLAG_W,HELIUM,HELIUM_FLAG_W,DELC13,DELC13_FLAG_W,DELC14,DELC14_FLAG_W,C14ERR,NEON,NEON_FLAG_W,NEONER,DOC,DOC_FLAG_W,N2O,N2O_FLAG_W,ARGON,ARGON_FLAG_W,BTL_DATE,BTL_TIME,TRITER,SBE35,SBE35_FLAG_W,SALTREF,SALTREF_FLAG_W,DELHE3,DELHE3_FLAG_W,DELHER,HELIER,ARGONER,KRYPTON,KRYPTON_FLAG_W,KRYPTONER,XENON,XENON_FLAG_W,XENONER,14C-DOC,14C-DOC_FLAG_W,14C-DOCERR,13C-DOC,13C-DOC_FLAG_W,13C-DOCERR
,,,,,,,,,,,METERS,DBAR,ITS-90,PSS-78,,PSS-78,,UMOL/KG,,UMOL/KG,,UMOL/KG,,UMOL/KG,,UMOL/KG,,UMOL/KG,,PMOL/KG,,PMOL/KG,,FMOL/KG,,UMOL/KG,,UMOL/KG,,,,DEG C,TU,,NMOL/KG,,/MILLE,,/MILLE,,/MILLE,NMOL/KG,,NMOL/KG,UMOL/KG,,NMOL/KG,,UMOL/KG,,,,TU,ITS-90,,G/KG,,PERCNT,,PERCNT,NMOL/KG,UMOL/KG,NMOL/KG,,NMOL/KG,NMOL/KG,,NMOL/KG,/MILLE,,/MILLE,/MILLE,,/MILLE
33RO20150525,     P16N.2,     203,          2,         24,         24,2,20150622,       0057,    56.3703,  -138.3164,       3087,     2.6,  13.5095,  31.8148,2,  31.8136,2,    282.6,2,   285.4,2,    0.49,2,       0,2,    0.01,2,    0.38,2,    3.29,6,   1.893,6,   2.282,6,    1933,6,    2156,6,   7.9681,3,    24.94,-999.000,9,-999.0000,9,    1.65,2,   -19.3,2,     2.9,-999.0000,9,-999.0000,    67.6,2,     10.102,3,-999.000,9, 20150623,     0227,-999.000,  13.5121,2,    31.9636,2,     -999.0,9,     -999.0,-999.0000,     -999.0,     -999.0,9,     -999.0,     -999.0,9,     -999.0,  -999.0,9,     -999.0,     -999.0,9,     -999.0
33RO20150525,     P16N.2,     203,          2,         23,         23,2,20150622,       0057,    56.3703,  -138.3164,       3087,    15.4,  10.7947,  31.8741,2,  31.9087,2,    302.9,2,   297.2,2,    3.13,2,    0.78,2,    0.06,2,    0.65,2,    3.59,2,   2.046,2,   2.461,2,  1961.2,2,  2158.2,2,   7.9038,2,    24.95,-999.000,9,-999.0000,9, -999.00,9,  -999.0,9,  -999.0,-999.0000,9,-999.0000,    62.3,2,     10.838,3,-999.000,9, 20150623,     0225,-999.000,  10.7964,2,    32.0591,2,     -999.0,9,     -999.0,-999.0000,     -999.0,     -999.0,9,     -999.0,     -999.0,9,     -999.0,  -999.0,9,     -999.0,     -999.0,9,     -999.0
33RO20150525,     P16N.2,     203,          2,         22,         22,2,20150622,       0057,    56.3703,  -138.3164,       3087,    33.4,   9.3657,  32.1416,2,  32.1455,2,      275,2,   276.1,2,   10.08,2,    5.29,2,    0.24,2,    0.95,2,   3.727,2,   2.133,2,   2.494,2,  2009.7,2,  2165.2,2,   7.8005,6,    25.01,-999.000,9,-999.0000,9, -999.00,9,  -999.0,9,  -999.0,-999.0000,9,-999.0000,    56.7,2,     11.660,3,-999.000,9, 20150623,     0222,-999.000,   9.3643,2,    32.2971,2,     -999.0,9,     -999.0,-999.0000,     -999.0,     -999.0,9,     -999.0,     -999.0,9,     -999.0,  -999.0,9,     -999.0,     -999.0,9,     -999.0
33RO20150525,     P16N.2,     203,          2,         21,         21,2,20150622,       0057,    56.3703,  -138.3164,       3087,    57.9,   7.9497,  32.2623,2,  32.2716,2,    287.2,2,   284.8,2,   13.02,2,    7.93,2,    0.27,2,    1.03,2,   3.951,2,   2.212,2,   2.621,2,  2024.3,2,  2169.5,2,   7.7697,6,    24.99,-999.000,9,-999.0000,9, -999.00,9,  -999.0,9,  -999.0,-999.0000,9,-999.0000,    55.4,2,     12.118,3,-999.000,9, 20150623,     0220,-999.000,   7.9504,2,    32.4237,2,     -999.0,9,     -999.0,-999.0000,     -999.0,     -999.0,9,     -999.0,     -999.0,9,     -999.0,  -999.0,9,     -999.0,     -999.0,9,     -999.0
33RO20150525,     P16N.2,     203,          2,         20,         20,2,20150622,       0057,    56.3703,  -138.3164,       3087,    83.2,   7.4757,  32.4467,2,  32.4782,2,    245.2,2,   252.5,2,   18.99,2,      14,2,    0.05,2,    1.32,2,   3.918,2,   2.198,2,   2.426,2,  2062.8,2,  2180.9,2,   7.6954,6,    24.99,-999.000,9,-999.0000,9, -999.00,9,  -999.0,9,  -999.0,-999.0000,9,-999.0000,    55.0,2,     14.583,3,-999.000,9, 20150623,     0218,-999.000,   7.4762,2,    32.6314,2,     -999.0,9,     -999.0,-999.0000,     -999.0,     -999.0,9,     -999.0,     -999.0,9,     -999.0,  -999.0,9,     -999.0,     -999.0,9,     -999.0
33RO20150525,     P16N.2,     203,          2,         19,         19,2,20150622,       0057,    56.3703,  -138.3164,       3087,   108.3,   7.0003,  32.8542,2,  32.8664,2,    191.7,2,   198.9,2,   32.48,2,   22.02,2,    0.03,2,    1.75,2,   3.671,2,   2.044,2,   2.067,2,  2125.4,2,  2205.7,2,-999.0000,5,  -999.00,-999.000,9,-999.0000,9, -999.00,9,  -999.0,9,  -999.0,-999.0000,9,-999.0000,    50.5,2,     19.604,3,-999.000,9, 20150623,     0216,-999.000,   7.0036,2,    33.0214,2,     -999.0,9,     -999.0,-999.0000,     -999.0,     -999.0,9,     -999.0,     -999.0,9,     -999.0,  -999.0,9,     -999.0,     -999.0,9,     -999.0
33RO20150525,     P16N.2,     203,          2,         18,         18,2,20150622,       0057,    56.3703,  -138.3164,       3087,   133.1,   6.4882,  33.1798,2,  33.2233,2,    173.2,2,   172.7,2,   39.13,2,   26.31,2,    0.03,2,    1.97,2,    3.62,2,   1.998,2,   1.851,2,  2166.1,2,  2228.4,2,   7.5169,6,    24.99,-999.000,9,-999.0000,9, -999.00,9,  -999.0,9,  -999.0,-999.0000,9,-999.0000,    47.4,2,     23.296,3,-999.000,9, 20150623,     0215,-999.000,   6.4888,2,      33.38,2,     -999.0,9,     -999.0,-999.0000,     -999.0,     -999.0,9,     -999.0,     -999.0,9,     -999.0,  -999.0,9,     -999.0,     -999.0,9,     -999.0
33RO20150525,     P16N.2,     203,          2,         17,         17,2,20150622,       0057,    56.3703,  -138.3164,       3087,     167,    6.292,   33.533,2,  33.5402,2,    142.3,2,   141.4,2,   45.28,2,   29.73,2,    0.02,2,    2.16,2,    3.43,2,   1.865,2,   1.529,2,  2201.8,2,  2249.4,2,   7.4605,2,       25,-999.000,9,-999.0000,9, -999.00,9,  -999.0,9,  -999.0,-999.0000,9,-999.0000,    48.3,2,     26.813,3,-999.000,9, 20150623,     0213,-999.000,   6.2918,2,    33.6984,2,     -999.0,9,     -999.0,-999.0000,     -999.0,     -999.0,9,     -999.0,     -999.0,9,     -999.0,  -999.0,9,     -999.0,     -999.0,9,     -999.0
33RO20150525,     P16N.2,     203,          2,         16,         16,2,20150622,       0057,    56.3703,  -138.3164,       3087,   220.4,   5.7272,  33.8105,2,  33.8118,2,      113,2,   111.6,2,   54.75,2,   33.64,2,    0.03,2,    2.38,2,   3.148,2,   1.678,2,   1.201,2,  2240.3,2,    2269,2,   7.4029,2,       25,-999.000,9,-999.0000,9, -999.00,9,  -999.0,9,  -999.0,-999.0000,9,-999.0000,    45.4,2,     30.786,3,-999.000,9, 20150623,     0210,-999.000,   5.7273,2,    33.9712,2,     -999.0,9,     -999.0,-999.0000,     -999.0,     -999.0,9,     -999.0,     -999.0,9,     -999.0,  -999.0,9,     -999.0,     -999.0,9,     -999.0
33RO20150525,     P16N.2,     203,          2,         15,         15,2,20150622,       0057,    56.3703,  -138.3164,       3087,   290.2,   4.9848,  33.8891,2,   33.885,2,     80.9,2,    79.7,2,   67.85,2,   37.74,2,    0.03,2,    2.64,2,   2.684,2,   1.399,2,   0.905,2,    2276,2,  2283.2,2,   7.3353,2,    25.02,-999.000,9,-999.0000,9, -999.00,9,  -999.0,9,  -999.0,-999.0000,9,-999.0000,    44.6,2,     34.478,3,-999.000,9, 20150623,     0207,-999.000,   4.9846,2,    34.0448,2,     -999.0,9,     -999.0,-999.0000,     -999.0,     -999.0,9,     -999.0,     -999.0,9,     -999.0,  -999.0,9,     -999.0,     -999.0,9,     -999.0
33RO20150525,     P16N.2,     203,          2,         14,         14,2,20150622,       0057,    56.3703,  -138.3164,       3087,   375.3,   4.6699,  33.9541,2,  33.9584,2,     56.3,2,    55.4,2,   78.51,2,   40.18,2,    0.02,2,     2.8,2,   2.155,2,    1.11,2,   0.572,2,  2299.8,2,  2294.8,2,   7.2977,2,    24.98,-999.000,9,-999.0000,9, -999.00,9,  -999.0,9,  -999.0,-999.0000,9,-999.0000,    43.0,2,     38.550,3,-999.000,9, 20150623,     0204,-999.000,   4.6696,2,    34.1186,2,     -999.0,9,     -999.0,-999.0000,     -999.0,     -999.0,9,     -999.0,     -999.0,9,     -999.0,  -999.0,9,     -999.0,     -999.0,9,     -999.0
33RO20150525,     P16N.2,     203,          2,         13,         13,2,20150622,       0057,    56.3703,  -138.3164,       3087,   450.1,   4.4429,  34.0194,2,  34.0215,2,     40.8,2,    39.5,2,   86.71,2,   41.55,2,    0.02,2,    2.91,2,   1.686,2,   0.843,2,   0.406,2,  2314.9,2,  2306.5,2,   7.2794,6,    24.99,-999.000,9,-999.0000,9, -999.00,9,  -999.0,9,  -999.0,-999.0000,9,-999.0000,    42.8,2,     40.833,3,-999.000,9, 20150623,     0201,-999.000,   4.4434,2,     34.182,6,     -999.0,9,     -999.0,-999.0000,     -999.0,     -999.0,9,     -999.0,     -999.0,9,     -999.0,  -999.0,9,     -999.0,     -999.0,9,     -999.0
33RO20150525,     P16N.2,     203,          2,         12,         12,2,20150622,       0057,    56.3703,  -138.3164,       3087,   550.8,     4.18,  34.1066,2,  34.1052,2,     25.3,2,      25,2,   97.66,2,   42.72,2,    0.02,2,       3,2,   1.122,2,    0.56,2,   0.271,2,    2334,2,  2321.3,2,   7.2673,2,       25,-999.000,9,-999.0000,9, -999.00,9,  -999.0,9,  -999.0,-999.0000,9,-999.0000,    40.3,2,     44.304,3,-999.000,9, 20150623,     0158,-999.000,   4.1804,2,     34.266,2,     -999.0,9,     -999.0,-999.0000,     -999.0,     -999.0,9,     -999.0,     -999.0,9,     -999.0,  -999.0,9,     -999.0,     -999.0,9,     -999.0
33RO20150525,     P16N.2,     203,          2,         11,         11,2,20150622,       0057,    56.3703,  -138.3164,       3087,   650.3,   3.9163,  34.1816,2,  34.1903,2,     17.9,2,    17.3,2,  108.11,2,    43.4,2,    0.02,2,    3.04,2,   0.695,6,   0.336,6,    0.15,6,  2347.8,2,  2334.7,2,   7.2648,2,    25.01,-999.000,9,-999.0000,9, -999.00,9,  -999.0,9,  -999.0,-999.0000,9,-999.0000,    42.6,2,     46.234,3,-999.000,9, 20150623,     0155,-999.000,   3.9163,2,    34.3515,2,     -999.0,9,     -999.0,-999.0000,     -999.0,     -999.0,9,     -999.0,     -999.0,9,     -999.0,  -999.0,9,     -999.0,     -999.0,9,     -999.0
33RO20150525,     P16N.2,     203,          2,         10,         10,2,20150622,       0057,    56.3703,  -138.3164,       3087,   799.8,   3.5569,  34.2634,2,  34.2625,2,     13.6,2,    13.1,2,  120.32,2,   43.79,2,    0.02,2,    3.09,2,   0.344,2,    0.17,2,   0.078,2,  2362.9,2,    2352,2,   7.2707,2,       25,-999.000,9,-999.0000,9, -999.00,9,  -999.0,9,  -999.0,-999.0000,9,-999.0000,    41.2,2,     48.010,3,-999.000,9, 20150623,     0151,-999.000,   3.5568,2,    34.4241,2,     -999.0,9,     -999.0,-999.0000,     -999.0,     -999.0,9,     -999.0,     -999.0,9,     -999.0,  -999.0,9,     -999.0,     -999.0,9,     -999.0
33RO20150525,     P16N.2,     203,          2,          9,          9,2,20150622,       0057,    56.3703,  -138.3164,       3087,   950.3,   3.2419,   34.319,2,   34.318,2,     13.8,2,    13.3,2,  129.99,2,   43.98,2,       0,2,    3.09,2,   0.205,2,   0.098,2,       0,2,  2372.1,6,  2363.4,2,   7.2775,2,       25,-999.000,9,-999.0000,9, -999.00,9,  -999.0,9,  -999.0,-999.0000,9,-999.0000,    39.6,2,     47.995,3,-999.000,9, 20150623,     0147,-999.000,   3.2449,2,    34.4798,2,     -999.0,9,     -999.0,-999.0000,     -999.0,     -999.0,9,     -999.0,     -999.0,9,     -999.0,  -999.0,9,     -999.0,     -999.0,9,     -999.0
33RO20150525,     P16N.2,     203,          2,          8,          8,2,20150622,       0057,    56.3703,  -138.3164,       3087,  1125.3,   2.9172,  34.3977,2,  34.3959,2,     12.8,2,    13.1,2,  140.83,2,   44.27,2,    0.01,2,     3.1,2,   0.065,2,   0.032,2,       0,2,  2384.5,2,  2379.2,2,   7.2871,2,    24.98,-999.000,9,-999.0000,9, -999.00,9,  -999.0,9,  -999.0,-999.0000,9,-999.0000,    39.3,2,     47.631,3,-999.000,9, 20150623,     0143,-999.000,   2.9173,2,    34.5581,2,     -999.0,9,     -999.0,-999.0000,     -999.0,     -999.0,9,     -999.0,     -999.0,9,     -999.0,  -999.0,9,     -999.0,     -999.0,9,     -999.0
33RO20150525,     P16N.2,     203,          2,          7,          7,2,20150622,       0057,    56.3703,  -138.3164,       3087,  1249.9,   2.7324,   34.431,2,  34.4399,2,     14.8,2,    14.6,2,   146.7,2,   44.27,2,    0.02,2,     3.1,2,   0.039,2,   0.021,2,       0,2,  2388.8,2,  2386.6,2,   7.2927,2,    24.99,-999.000,9,-999.0000,9, -999.00,9,  -999.0,9,  -999.0,-999.0000,9,-999.0000,    39.8,2,     46.551,3,-999.000,9, 20150623,     0139,-999.000,   2.7321,2,    34.6023,2,     -999.0,9,     -999.0,-999.0000,     -999.0,     -999.0,9,     -999.0,     -999.0,9,     -999.0,  -999.0,9,     -999.0,     -999.0,9,     -999.0
33RO20150525,     P16N.2,     203,          2,          6,          6,2,20150622,       0057,    56.3703,  -138.3164,       3087,  1400.3,   2.5127,  34.4705,2,  34.4798,3,     19.7,2,    19.7,2,  152.36,2,   44.08,2,       0,2,    3.07,2,   0.024,2,   0.011,2,       0,2,    2391,2,  2394.2,2,   7.3042,2,    24.99,-999.000,9,-999.0000,9, -999.00,9,  -999.0,9,  -999.0,-999.0000,9,-999.0000,    39.6,2,     44.363,3,-999.000,9, 20150623,     0135,-999.000,   2.5126,2,    34.6423,2,     -999.0,9,     -999.0,-999.0000,     -999.0,     -999.0,9,     -999.0,     -999.0,9,     -999.0,  -999.0,9,     -999.0,     -999.0,9,     -999.0
33RO20150525,     P16N.2,     203,          2,          5,          5,2,20150622,       0057,    56.3703,  -138.3164,       3087,  1650.5,   2.2182,  34.5274,2,  34.5265,2,     32.8,2,    32.8,2,  159.58,2,   43.39,2,       0,2,    3.02,2,   0.008,2,   0.005,2,       0,2,  2392.1,2,  2403.6,2,   7.3347,2,    24.97,-999.000,9,-999.0000,9, -999.00,9,  -999.0,9,  -999.0,-999.0000,9,-999.0000,    41.9,2,     40.488,3,-999.000,9, 20150623,     0129,-999.000,   2.2195,2,    34.6893,2,     -999.0,9,     -999.0,-999.0000,     -999.0,     -999.0,9,     -999.0,     -999.0,9,     -999.0,  -999.0,9,     -999.0,     -999.0,9,     -999.0
33RO20150525,     P16N.2,     203,          2,          4,          4,2,20150622,       0057,    56.3703,  -138.3164,       3087,  1999.6,   1.9285,  34.5854,2,  34.5836,2,     55.3,2,      55,2,  164.76,6,   42.02,6,       0,6,    2.91,6,   0.003,2,   0.002,2,   0.028,3,  2385.2,2,  2413.6,2,   7.3848,2,    24.96,-999.000,9,-999.0000,9, -999.00,9,  -999.0,9,  -999.0,-999.0000,9,-999.0000,    39.0,2,     34.651,3,-999.000,9, 20150623,     0121,-999.000,   1.9286,2,    34.7467,6,     -999.0,9,     -999.0,-999.0000,     -999.0,     -999.0,9,     -999.0,     -999.0,9,     -999.0,  -999.0,9,     -999.0,     -999.0,9,     -999.0
33RO20150525,     P16N.2,     203,          2,          3,          3,2,20150622,       0057,    56.3703,  -138.3164,       3087,  2400.4,   1.7318,  34.6245,2,  34.6279,2,     78.3,2,    78.4,2,  167.68,6,   40.55,6,       0,6,    2.81,6,   0.004,2,   0.001,2,       0,2,  2375.4,2,  2420.6,2,   7.4357,6,    24.99,-999.000,9,-999.0000,9, -999.00,9,  -999.0,9,  -999.0,-999.0000,9,-999.0000,    38.4,2,     29.724,3,-999.000,9, 20150623,     0113,-999.000,   1.7316,2,    34.7912,2,     -999.0,9,     -999.0,-999.0000,     -999.0,     -999.0,9,     -999.0,     -999.0,9,     -999.0,  -999.0,9,     -999.0,     -999.0,9,     -999.0
33RO20150525,     P16N.2,     203,          2,          2,          2,2,20150622,       0057,    56.3703,  -138.3164,       3087,    2800,   1.6135,  34.6489,2,  34.6481,2,     98.2,2,    98.4,2,  169.93,6,   39.28,6,       0,6,    2.71,6,   0.007,2,   0.003,2,       0,2,  2364.1,2,  2425.5,2,    7.479,6,    24.98,-999.000,9,-999.0000,9, -999.00,9,  -999.0,9,  -999.0,-999.0000,9,-999.0000,    37.7,2,     26.442,3,-999.000,9, 20150623,     0105,-999.000,   1.6134,2,    34.8115,2,     -999.0,9,     -999.0,-999.0000,     -999.0,     -999.0,9,     -999.0,     -999.0,9,     -999.0,  -999.0,9,     -999.0,     -999.0,9,     -999.0
33RO20150525,     P16N.2,     203,          2,          1,          1,2,20150622,       0057,    56.3703,  -138.3164,       3087,  3124.5,   1.5073,  34.6693,2,   34.668,2,    118.2,2,   120.4,2,   171.2,6,   37.91,6,    0.01,6,    2.63,6,   0.011,2,   0.009,2,       0,2,  2354.4,6,  2430.4,3,   7.5194,6,    24.99,-999.000,9,-999.0000,9, -999.00,9,  -999.0,9,  -999.0,-999.0000,9,-999.0000,    37.2,2,     23.826,3,-999.000,9, 20150623,     0058,-999.000,    1.507,2,    34.8314,2,     -999.0,9,     -999.0,-999.0000,     -999.0,     -999.0,9,     -999.0,     -999.0,9,     -999.0,  -999.0,9,     -999.0,     -999.0,9,     -999.0