BOTTLE,20220330CCHSIOCBG
EXPOCODE,SECT_ID,STNNBR,CASTNO,SAMPNO,BTLNBR,BTLNBR_FLAG_W,DATE,TIME,LATITUDE,LONGITUDE,DEPTH,CTDPRS,CTDTMP,CTDSAL,CTDSAL_FLAG_W,SALNTY,SALNTY_FLAG_W,CTDOXY,CTDOXY_FLAG_W,OXYGEN,OXYGEN_FLAG_W,SILCAT,SILCAT_FLAG_W,NITRAT,NITRAT_FLAG_W,NITRIT,NITRIT_FLAG_W,PHSPHT,PHSPHT_FLAG_W,CFC-11,CFC-11_FLAG_W,CFC-12,CFC-12_FLAG_W,SF6,SF6_FLAG_W,TCARBN,TCARBN_FLAG_W,ALKALI,ALKALI_FLAG_W,PH_TOT,PH_TOT_FLAG_W,PH_TMP,TRITUM,TRITUM_FLAG_W,HELIUM,HELIUM_FLAG_W,DELC13,DELC13_FLAG_W,DELC14,DELC14_FLAG_W,C14ERR,NEON,NEON_FLAG_W,NEONER,DOC,DOC_FLAG_W,N2O,N2O_FLAG_W,ARGON,ARGON_FLAG_W,BTL_DATE,BTL_TIME,TRITER,SBE35,SBE35_FLAG_W,SALTREF,SALTREF_FLAG_W,DELHE3,DELHE3_FLAG_W,DELHER,HELIER,ARGONER,KRYPTON,KRYPTON_FLAG_W,KRYPTONER,XENON,XENON_FLAG_W,XENONER,14C-DOC,14C-DOC_FLAG_W,14C-DOCERR,13C-DOC,13C-DOC_FLAG_W,13C-DOCERR
,,,,,,,,,,,METERS,DBAR,ITS-90,PSS-78,,PSS-78,,UMOL/KG,,UMOL/KG,,UMOL/KG,,UMOL/KG,,UMOL/KG,,UMOL/KG,,PMOL/KG,,PMOL/KG,,FMOL/KG,,UMOL/KG,,UMOL/KG,,,,DEG C,TU,,NMOL/KG,,/MILLE,,/MILLE,,/MILLE,NMOL/KG,,NMOL/KG,UMOL/KG,,NMOL/KG,,UMOL/KG,,,,TU,ITS-90,,G/KG,,PERCNT,,PERCNT,NMOL/KG,UMOL/KG,NMOL/KG,,NMOL/KG,NMOL/KG,,NMOL/KG,/MILLE,,/MILLE,/MILLE,,/MILLE
33RO20150525,     P16N.2,     174,          3,         24,         24,2,20150615,       1031,     53.001,  -151.9993,       4473,     2.7,   8.5024,  32.6217,2,  32.6218,2,    303.9,2,   304.5,2,   31.42,2,   12.33,2,    0.17,2,    1.28,2,   4.063,6,   2.274,6,   2.667,6,  2035.1,6,  2201.1,2,   7.8145,3,       25,-999.000,9,-999.0000,9, -999.00,9,  -999.0,9,  -999.0,-999.0000,9,-999.0000,  -999.0,9,     11.768,3,-999.000,9, 20150615,     1214,-999.000,   8.5028,2,    32.7756,2,     -999.0,9,     -999.0,-999.0000,     -999.0,     -999.0,9,     -999.0,     -999.0,9,     -999.0,  -999.0,9,     -999.0,     -999.0,9,     -999.0
33RO20150525,     P16N.2,     174,          3,         23,         23,2,20150615,       1031,     53.001,  -151.9993,       4473,    32.9,   6.2822,  32.6209,2,  32.6245,2,    303.1,2,   304.4,2,   32.11,2,   15.96,2,    0.15,2,    1.51,2,   4.433,2,    2.46,2,   2.885,2,  2067.5,2,  2199.7,2,   7.7229,2,    25.05,-999.000,9,-999.0000,9, -999.00,9,  -999.0,9,  -999.0,-999.0000,9,-999.0000,  -999.0,9,     12.837,3,-999.000,9, 20150615,     1212,-999.000,   6.3444,2,    32.7783,2,     -999.0,9,     -999.0,-999.0000,     -999.0,     -999.0,9,     -999.0,     -999.0,9,     -999.0,  -999.0,9,     -999.0,     -999.0,9,     -999.0
33RO20150525,     P16N.2,     174,          3,         22,         22,2,20150615,       1031,     53.001,  -151.9993,       4473,    58.1,   5.6639,  32.8171,2,  32.8325,2,    289.3,2,   294.8,2,   37.97,2,   20.16,2,    0.16,2,    1.75,2,   4.447,2,   2.463,2,   2.798,2,  2101.6,2,  2213.9,6,   7.6642,2,    25.05,-999.000,9,-999.0000,9, -999.00,9,  -999.0,9,  -999.0,-999.0000,9,-999.0000,  -999.0,9,     14.247,3,-999.000,9, 20150615,     1211,-999.000,   5.6942,2,    32.9873,2,     -999.0,9,     -999.0,-999.0000,     -999.0,     -999.0,9,     -999.0,     -999.0,9,     -999.0,  -999.0,9,     -999.0,     -999.0,9,     -999.0
33RO20150525,     P16N.2,     174,          3,         21,         21,2,20150615,       1031,     53.001,  -151.9993,       4473,    82.4,   4.4167,  33.3163,2,  33.3379,2,    142.6,2,   163.9,2,   57.04,2,   32.19,2,    0.05,2,    2.38,2,   3.703,2,   2.002,2,   1.882,2,  2210.2,2,  2246.5,2,   7.4293,6,       25,-999.000,9,-999.0000,9, -999.00,9,  -999.0,9,  -999.0,-999.0000,9,-999.0000,  -999.0,9,     27.147,3,-999.000,9, 20150615,     1209,-999.000,   4.4205,2,    33.4951,2,     -999.0,9,     -999.0,-999.0000,     -999.0,     -999.0,9,     -999.0,     -999.0,9,     -999.0,  -999.0,9,     -999.0,     -999.0,9,     -999.0
33RO20150525,     P16N.2,     174,          3,         20,         20,2,20150615,       1031,     53.001,  -151.9993,       4473,     117,   3.8659,  33.7463,2,  33.7584,2,       72,2,    73.6,2,   76.97,2,   40.59,2,    0.01,2,    2.88,2,   2.958,2,   1.545,2,   1.097,2,  2291.8,2,  2278.3,2,   7.2639,2,    25.05,-999.000,9,-999.0000,9, -999.00,9,  -999.0,9,  -999.0,-999.0000,9,-999.0000,  -999.0,9,     36.736,3,-999.000,9, 20150615,     1207,-999.000,   3.8646,2,    33.9176,2,     -999.0,9,     -999.0,-999.0000,     -999.0,     -999.0,9,     -999.0,     -999.0,9,     -999.0,  -999.0,9,     -999.0,     -999.0,9,     -999.0
33RO20150525,     P16N.2,     174,          3,         19,         19,2,20150615,       1031,     53.001,  -151.9993,       4473,   117.1,   3.8644,  33.7469,2,-999.0000,9,     71.8,2,  -999.0,9, -999.00,9, -999.00,9, -999.00,9, -999.00,9,-999.000,9,-999.000,9,-999.000,9,  -999.0,9,  -999.0,9,-999.0000,9,  -999.00,-999.000,9,-999.0000,9, -999.00,9,  -999.0,9,  -999.0,-999.0000,9,-999.0000,  -999.0,9,     -999.0,9,-999.000,9, 20150615,     1207,-999.000,   3.8652,2,     -999.0,9,     -999.0,9,     -999.0,-999.0000,     -999.0,     -999.0,9,     -999.0,     -999.0,9,     -999.0,  -999.0,9,     -999.0,     -999.0,9,     -999.0
33RO20150525,     P16N.2,     174,          3,         18,         18,2,20150615,       1031,     53.001,  -151.9993,       4473,   175.1,   3.7917,  33.8899,2,  33.8894,2,     34.9,2,    33.1,2,   89.58,2,   43.81,2,    0.02,2,    3.06,2,   2.296,2,   1.172,2,   0.724,2,  2327.5,2,  2295.1,2,   7.2108,2,    25.03,-999.000,9,-999.0000,9, -999.00,9,  -999.0,9,  -999.0,-999.0000,9,-999.0000,  -999.0,9,     42.180,3,-999.000,9, 20150615,     1205,-999.000,   3.7914,2,    34.0492,2,     -999.0,9,     -999.0,-999.0000,     -999.0,     -999.0,9,     -999.0,     -999.0,9,     -999.0,  -999.0,9,     -999.0,     -999.0,9,     -999.0
33RO20150525,     P16N.2,     174,          3,         17,         17,2,20150615,       1031,     53.001,  -151.9993,       4473,   250.7,   3.8249,  33.9802,2,  33.9859,2,       21,2,    19.1,2,    97.1,2,    44.4,2,    0.01,2,    3.09,2,   1.783,2,   0.886,2,   0.475,2,    2339,2,  2305.1,2,   7.2091,2,    25.03,-999.000,9,-999.0000,9, -999.00,9,  -999.0,9,  -999.0,-999.0000,9,-999.0000,  -999.0,9,     44.713,3,-999.000,9, 20150615,     1202,-999.000,   3.8248,2,    34.1462,2,     -999.0,9,     -999.0,-999.0000,     -999.0,     -999.0,9,     -999.0,     -999.0,9,     -999.0,  -999.0,9,     -999.0,     -999.0,9,     -999.0
33RO20150525,     P16N.2,     174,          3,         16,         16,2,20150615,       1031,     53.001,  -151.9993,       4473,   332.9,   3.7538,  34.0774,2,  34.0796,2,     18.9,2,    18.1,2,  106.09,2,    43.9,2,    0.01,2,    3.09,2,   1.239,2,   0.609,2,   0.295,2,  2344.1,2,  2322.3,2,   7.2335,2,    25.03,-999.000,9,-999.0000,9, -999.00,9,  -999.0,9,  -999.0,-999.0000,9,-999.0000,  -999.0,9,     45.173,3,-999.000,9, 20150615,     1159,-999.000,   3.7535,2,    34.2403,2,     -999.0,9,     -999.0,-999.0000,     -999.0,     -999.0,9,     -999.0,     -999.0,9,     -999.0,  -999.0,9,     -999.0,     -999.0,9,     -999.0
33RO20150525,     P16N.2,     174,          3,         15,         15,2,20150615,       1031,     53.001,  -151.9993,       4473,   432.8,   3.5947,  34.1592,2,    34.16,2,       16,2,    15.6,2,  115.47,2,    43.8,2,    0.01,2,    3.07,2,   0.821,2,     0.4,2,   0.191,2,  2351.8,2,  2335.4,2,   7.2478,6,    25.06,-999.000,9,-999.0000,9, -999.00,9,  -999.0,9,  -999.0,-999.0000,9,-999.0000,  -999.0,9,     46.615,3,-999.000,9, 20150615,     1156,-999.000,   3.5945,2,    34.3211,2,     -999.0,9,     -999.0,-999.0000,     -999.0,     -999.0,9,     -999.0,     -999.0,9,     -999.0,  -999.0,9,     -999.0,     -999.0,9,     -999.0
33RO20150525,     P16N.2,     174,          3,         14,         14,2,20150615,       1031,     53.001,  -151.9993,       4473,   550.3,   3.4089,  34.2355,2,  34.2407,2,     15.8,2,    17.2,2,  123.88,2,   43.61,2,    0.01,2,    3.05,2,   0.518,6,   0.253,6,   0.093,6,  2359.9,6,  2348.5,2,   7.2638,2,    25.01,-999.000,9,-999.0000,9, -999.00,9,  -999.0,9,  -999.0,-999.0000,9,-999.0000,  -999.0,9,     47.280,3,-999.000,9, 20150615,     1153,-999.000,   3.4087,2,    34.4022,2,     -999.0,9,     -999.0,-999.0000,     -999.0,     -999.0,9,     -999.0,     -999.0,9,     -999.0,  -999.0,9,     -999.0,     -999.0,9,     -999.0
33RO20150525,     P16N.2,     174,          3,         13,         13,2,20150615,       1031,     53.001,  -151.9993,       4473,   700.4,   3.2068,  34.2987,2,  34.2985,2,     17.3,2,    16.8,2,  131.59,2,   43.51,2,    0.01,2,    3.07,2,    0.31,2,   0.151,2,    0.04,2,  2368.1,2,  2360.3,2,   7.2774,2,    25.04,-999.000,9,-999.0000,9, -999.00,9,  -999.0,9,  -999.0,-999.0000,9,-999.0000,  -999.0,9,     46.704,3,-999.000,9, 20150615,     1149,-999.000,   3.2094,2,    34.4602,6,     -999.0,9,     -999.0,-999.0000,     -999.0,     -999.0,9,     -999.0,     -999.0,9,     -999.0,  -999.0,9,     -999.0,     -999.0,9,     -999.0
33RO20150525,     P16N.2,     174,          3,         12,         12,2,20150615,       1031,     53.001,  -151.9993,       4473,   850.5,   2.9785,  34.3555,2,  34.3543,2,     17.5,2,    17.7,2,  139.21,2,    43.6,2,    0.01,2,    3.08,2,   0.177,2,   0.087,2,       0,2,  2374.9,2,  2370.3,2,    7.285,2,    25.06,-999.000,9,-999.0000,9, -999.00,9,  -999.0,9,  -999.0,-999.0000,9,-999.0000,  -999.0,9,     46.836,3,-999.000,9, 20150615,     1146,-999.000,   2.9791,2,    34.5163,2,     -999.0,9,     -999.0,-999.0000,     -999.0,     -999.0,9,     -999.0,     -999.0,9,     -999.0,  -999.0,9,     -999.0,     -999.0,9,     -999.0
33RO20150525,     P16N.2,     174,          3,         11,         11,2,20150615,       1031,     53.001,  -151.9993,       4473,  1000.2,   2.7594,  34.4045,2,  34.4036,2,     18.6,2,    19.3,2,  146.35,2,    43.7,2,    0.01,2,    3.07,2,   0.099,2,   0.048,2,       0,2,  2384.1,2,  2379.7,2,   7.2933,2,    25.05,-999.000,9,-999.0000,9, -999.00,9,  -999.0,9,  -999.0,-999.0000,9,-999.0000,  -999.0,9,     45.606,3,-999.000,9, 20150615,     1142,-999.000,   2.7605,2,    34.5658,2,     -999.0,9,     -999.0,-999.0000,     -999.0,     -999.0,9,     -999.0,     -999.0,9,     -999.0,  -999.0,9,     -999.0,     -999.0,9,     -999.0
33RO20150525,     P16N.2,     174,          3,         10,         10,2,20150615,       1031,     53.001,  -151.9993,       4473,  1167.7,   2.5411,  34.4517,2,  34.4509,2,     21.7,2,    21.5,2,  152.99,2,    43.6,2,       0,2,    3.06,2,   0.053,2,   0.025,2,   0.013,2,  2388.3,2,  2389.2,2,   7.3045,2,    25.06,-999.000,9,-999.0000,9, -999.00,9,  -999.0,9,  -999.0,-999.0000,9,-999.0000,  -999.0,9,     45.005,3,-999.000,9, 20150615,     1138,-999.000,   2.5424,2,    34.6133,2,     -999.0,9,     -999.0,-999.0000,     -999.0,     -999.0,9,     -999.0,     -999.0,9,     -999.0,  -999.0,9,     -999.0,     -999.0,9,     -999.0
33RO20150525,     P16N.2,     174,          3,          9,          9,2,20150615,       1031,     53.001,  -151.9993,       4473,    1400,   2.3055,  34.5037,2,  34.5025,2,     27.1,2,      28,2,  159.82,2,    43.4,2,       0,2,    3.04,2,   0.022,2,   0.011,2,       0,2,  2392.6,2,  2399.4,2,   7.3223,2,    25.05,-999.000,9,-999.0000,9, -999.00,9,  -999.0,9,  -999.0,-999.0000,9,-999.0000,  -999.0,9,     42.002,3,-999.000,9, 20150615,     1132,-999.000,    2.306,2,    34.6652,2,     -999.0,9,     -999.0,-999.0000,     -999.0,     -999.0,9,     -999.0,     -999.0,9,     -999.0,  -999.0,9,     -999.0,     -999.0,9,     -999.0
33RO20150525,     P16N.2,     174,          3,          8,          8,2,20150615,       1031,     53.001,  -151.9993,       4473,  1733.4,   2.0618,  34.5576,2,  34.5563,2,     45.4,2,    45.4,2,  164.71,2,   42.42,2,    0.01,2,    2.96,2,   0.009,2,   0.004,2,       0,2,  2386.9,2,  2407.6,2,   7.3598,2,    25.05,-999.000,9,-999.0000,9, -999.00,9,  -999.0,9,  -999.0,-999.0000,9,-999.0000,  -999.0,9,     37.683,3,-999.000,9, 20150615,     1126,-999.000,   2.0629,2,    34.7193,2,     -999.0,9,     -999.0,-999.0000,     -999.0,     -999.0,9,     -999.0,     -999.0,9,     -999.0,  -999.0,9,     -999.0,     -999.0,9,     -999.0
33RO20150525,     P16N.2,     174,          3,          7,          7,2,20150615,       1031,     53.001,  -151.9993,       4473,  2133.4,   1.8361,  34.6046,2,  34.6206,4,     66.2,2,    66.4,2,  167.73,2,   41.15,2,       0,2,    2.87,2,-999.000,9,-999.000,9,-999.000,9,  2379.1,2,  2415.6,2,    7.406,2,    25.08,-999.000,9,-999.0000,9, -999.00,9,  -999.0,9,  -999.0,-999.0000,9,-999.0000,  -999.0,9,     -999.0,9,-999.000,9, 20150615,     1118,-999.000,   1.8361,2,    34.7838,2,     -999.0,9,     -999.0,-999.0000,     -999.0,     -999.0,9,     -999.0,     -999.0,9,     -999.0,  -999.0,9,     -999.0,     -999.0,9,     -999.0
33RO20150525,     P16N.2,     174,          3,          6,          6,2,20150615,       1031,     53.001,  -151.9993,       4473,    2533,     1.68,  34.6346,2,  34.6565,4,     87.4,2,    87.9,2,  167.53,2,   39.88,2,       0,2,    2.77,2,   0.001,2,       0,2,       0,2,  2366.7,2,  2419.2,2,   7.4521,6,    25.02,-999.000,9,-999.0000,9, -999.00,9,  -999.0,9,  -999.0,-999.0000,9,-999.0000,  -999.0,9,     28.030,3,-999.000,9, 20150615,     1110,-999.000,   1.6798,2,    34.8199,2,     -999.0,9,     -999.0,-999.0000,     -999.0,     -999.0,9,     -999.0,     -999.0,9,     -999.0,  -999.0,9,     -999.0,     -999.0,9,     -999.0
33RO20150525,     P16N.2,     174,          3,          5,          5,2,20150615,       1031,     53.001,  -151.9993,       4473,  2933.5,   1.5758,  34.6546,2,  34.6548,2,    107.1,2,   107.8,2,  164.99,2,   38.41,2,    0.01,2,    2.67,2,-999.000,9,-999.000,9,-999.000,9,  2353.7,2,    2420,2,   7.4918,2,    25.01,-999.000,9,-999.0000,9, -999.00,9,  -999.0,9,  -999.0,-999.0000,9,-999.0000,  -999.0,9,     -999.0,9,-999.000,9, 20150615,     1102,-999.000,   1.5757,2,    34.8182,2,     -999.0,9,     -999.0,-999.0000,     -999.0,     -999.0,9,     -999.0,     -999.0,9,     -999.0,  -999.0,9,     -999.0,     -999.0,9,     -999.0
33RO20150525,     P16N.2,     174,          3,          4,          4,2,20150615,       1031,     53.001,  -151.9993,       4473,  3333.5,   1.5137,  34.6681,2,  34.6685,2,    122.4,2,   123.2,2,  162.54,6,   37.34,6,       0,6,    2.59,6,   0.001,6,   0.001,6,       0,6,  2344.2,2,  2421.4,6,   7.5221,6,    25.05,-999.000,9,-999.0000,9, -999.00,9,  -999.0,9,  -999.0,-999.0000,9,-999.0000,  -999.0,9,     23.291,3,-999.000,9, 20150615,     1054,-999.000,   1.5137,2,     34.832,2,     -999.0,9,     -999.0,-999.0000,     -999.0,     -999.0,9,     -999.0,     -999.0,9,     -999.0,  -999.0,9,     -999.0,     -999.0,9,     -999.0
33RO20150525,     P16N.2,     174,          3,          3,          3,2,20150615,       1031,     53.001,  -151.9993,       4473,  3734.1,   1.4886,   34.677,2,  34.6787,2,    133.5,2,     134,2,  161.56,6,   36.65,6,       0,6,    2.55,6,-999.000,9,-999.000,9,-999.000,9,  2337.7,2,    2422,2,   7.5425,2,    25.05,-999.000,9,-999.0000,9, -999.00,9,  -999.0,9,  -999.0,-999.0000,9,-999.0000,  -999.0,9,     -999.0,9,-999.000,9, 20150615,     1046,-999.000,   1.4887,2,    34.8423,2,     -999.0,9,     -999.0,-999.0000,     -999.0,     -999.0,9,     -999.0,     -999.0,9,     -999.0,  -999.0,9,     -999.0,     -999.0,9,     -999.0
33RO20150525,     P16N.2,     174,          3,          2,          2,2,20150615,       1031,     53.001,  -151.9993,       4473,  4133.5,   1.4907,  34.6825,2,  34.6854,2,    140.5,2,   140.6,2,  160.78,6,   36.16,6,    0.01,6,    2.51,6,   0.002,2,   0.002,2,       0,2,  2333.5,2,    2422,2,   7.5553,6,    25.08,-999.000,9,-999.0000,9, -999.00,9,  -999.0,9,  -999.0,-999.0000,9,-999.0000,  -999.0,9,     21.416,3,-999.000,9, 20150615,     1038,-999.000,   1.4907,2,     34.849,2,     -999.0,9,     -999.0,-999.0000,     -999.0,     -999.0,9,     -999.0,     -999.0,9,     -999.0,  -999.0,9,     -999.0,     -999.0,9,     -999.0
33RO20150525,     P16N.2,     174,          3,          1,          1,2,20150615,       1031,     53.001,  -151.9993,       4473,  4538.7,   1.5133,  34.6863,2,  34.6855,2,    145.2,2,   144.8,2,   159.9,6,   35.87,6,    0.01,6,    2.49,6,   0.003,2,   0.002,2,       0,2,  2331.6,6,  2422.8,2,   7.5629,2,    25.05,-999.000,9,-999.0000,9, -999.00,9,  -999.0,9,  -999.0,-999.0000,9,-999.0000,  -999.0,9,     21.029,3,-999.000,9, 20150615,     1030,-999.000,   1.5132,2,    34.8491,2,     -999.0,9,     -999.0,-999.0000,     -999.0,     -999.0,9,     -999.0,     -999.0,9,     -999.0,  -999.0,9,     -999.0,     -999.0,9,     -999.0