BOTTLE,20220330CCHSIOCBG
EXPOCODE,SECT_ID,STNNBR,CASTNO,SAMPNO,BTLNBR,BTLNBR_FLAG_W,DATE,TIME,LATITUDE,LONGITUDE,DEPTH,CTDPRS,CTDTMP,CTDSAL,CTDSAL_FLAG_W,SALNTY,SALNTY_FLAG_W,CTDOXY,CTDOXY_FLAG_W,OXYGEN,OXYGEN_FLAG_W,SILCAT,SILCAT_FLAG_W,NITRAT,NITRAT_FLAG_W,NITRIT,NITRIT_FLAG_W,PHSPHT,PHSPHT_FLAG_W,CFC-11,CFC-11_FLAG_W,CFC-12,CFC-12_FLAG_W,SF6,SF6_FLAG_W,TCARBN,TCARBN_FLAG_W,ALKALI,ALKALI_FLAG_W,PH_TOT,PH_TOT_FLAG_W,PH_TMP,TRITUM,TRITUM_FLAG_W,HELIUM,HELIUM_FLAG_W,DELC13,DELC13_FLAG_W,DELC14,DELC14_FLAG_W,C14ERR,NEON,NEON_FLAG_W,NEONER,DOC,DOC_FLAG_W,N2O,N2O_FLAG_W,ARGON,ARGON_FLAG_W,BTL_DATE,BTL_TIME,TRITER,SBE35,SBE35_FLAG_W,SALTREF,SALTREF_FLAG_W,DELHE3,DELHE3_FLAG_W,DELHER,HELIER,ARGONER,KRYPTON,KRYPTON_FLAG_W,KRYPTONER,XENON,XENON_FLAG_W,XENONER,14C-DOC,14C-DOC_FLAG_W,14C-DOCERR,13C-DOC,13C-DOC_FLAG_W,13C-DOCERR
,,,,,,,,,,,METERS,DBAR,ITS-90,PSS-78,,PSS-78,,UMOL/KG,,UMOL/KG,,UMOL/KG,,UMOL/KG,,UMOL/KG,,UMOL/KG,,PMOL/KG,,PMOL/KG,,FMOL/KG,,UMOL/KG,,UMOL/KG,,,,DEG C,TU,,NMOL/KG,,/MILLE,,/MILLE,,/MILLE,NMOL/KG,,NMOL/KG,UMOL/KG,,NMOL/KG,,UMOL/KG,,,,TU,ITS-90,,G/KG,,PERCNT,,PERCNT,NMOL/KG,UMOL/KG,NMOL/KG,,NMOL/KG,NMOL/KG,,NMOL/KG,/MILLE,,/MILLE,/MILLE,,/MILLE
33RO20150525,     P16N.2,     137,          1,         24,         24,2,20150603,       1844,    34.5004,  -151.9999,       5608,     3.4,  17.8623,  34.2712,2,  34.2703,2,      241,2,     242,2,     4.2,2,       0,2,       0,2,    0.08,2,   2.501,3,   1.497,2,   1.874,2,  2019.3,6,  2252.2,2,   7.9356,2,    25.01,-999.000,9,-999.0000,9, -999.00,9,  -999.0,9,  -999.0,-999.0000,9,-999.0000,    62.3,2,      8.426,3,-999.000,9, 20150603,     2053,-999.000,  17.8663,2,    34.4319,2,     -999.0,9,     -999.0,-999.0000,     -999.0,     -999.0,9,     -999.0,     -999.0,9,     -999.0,  -999.0,9,     -999.0,     -999.0,9,     -999.0
33RO20150525,     P16N.2,     137,          1,         23,         23,2,20150603,       1844,    34.5004,  -151.9999,       5608,    30.7,  16.5233,  34.2553,2,  34.2562,2,    250.7,2,   250.6,2,     4.1,2,       0,2,       0,2,    0.09,2,-999.000,9,-999.000,9,-999.000,9,  2016.4,2,  2251.6,2,   7.9371,6,    25.04,-999.000,9,-999.0000,9, -999.00,9,  -999.0,9,  -999.0,-999.0000,9,-999.0000,    66.7,2,     -999.0,9,-999.000,9, 20150603,     2051,-999.000,  16.5241,2,    34.4178,2,     -999.0,9,     -999.0,-999.0000,     -999.0,     -999.0,9,     -999.0,     -999.0,9,     -999.0,  -999.0,9,     -999.0,     -999.0,9,     -999.0
33RO20150525,     P16N.2,     137,          1,         22,         22,2,20150603,       1844,    34.5004,  -151.9999,       5608,    60.6,  13.7208,  34.1779,2,  34.1831,2,    263.1,2,   264.4,2,    4.98,2,    0.78,2,    0.06,2,    0.19,2,   2.913,2,   1.724,2,   2.084,2,  2026.1,2,  2250.4,2,   7.9153,6,    25.03,-999.000,9,-999.0000,9, -999.00,9,  -999.0,9,  -999.0,-999.0000,9,-999.0000,    60.7,2,      9.832,3,-999.000,9, 20150603,     2048,-999.000,  13.7161,2,    34.3443,2,     -999.0,9,     -999.0,-999.0000,     -999.0,     -999.0,9,     -999.0,     -999.0,9,     -999.0,  -999.0,9,     -999.0,     -999.0,9,     -999.0
33RO20150525,     P16N.2,     137,          1,         21,         21,2,20150603,       1844,    34.5004,  -151.9999,       5608,    90.8,  13.2115,  34.2177,2,  34.2314,3,    252.2,2,   242.3,2,    5.96,2,    3.81,2,    0.43,2,    0.38,2,-999.000,9,-999.000,9,-999.000,9,  2044.9,2,  2252.6,2,   7.8782,2,    25.04,-999.000,9,-999.0000,9, -999.00,9,  -999.0,9,  -999.0,-999.0000,9,-999.0000,    57.1,2,     -999.0,9,-999.000,9, 20150603,     2046,-999.000,  13.2125,2,    34.3928,2,     -999.0,9,     -999.0,-999.0000,     -999.0,     -999.0,9,     -999.0,     -999.0,9,     -999.0,  -999.0,9,     -999.0,     -999.0,9,     -999.0
33RO20150525,     P16N.2,     137,          1,         20,         20,2,20150603,       1844,    34.5004,  -151.9999,       5608,   149.9,  12.4817,  34.2226,2,  34.2271,2,    219.8,2,   218.7,2,    8.99,2,    9.28,2,    0.02,2,    0.68,2,   2.988,2,   1.769,2,   1.849,2,  2072.1,2,    2255,6,   7.8227,6,    25.02,-999.000,9,-999.0000,9, -999.00,9,  -999.0,9,  -999.0,-999.0000,9,-999.0000,    52.2,2,     14.119,3,-999.000,9, 20150603,     2044,-999.000,  12.4604,2,    34.3885,2,     -999.0,9,     -999.0,-999.0000,     -999.0,     -999.0,9,     -999.0,     -999.0,9,     -999.0,  -999.0,9,     -999.0,     -999.0,9,     -999.0
33RO20150525,     P16N.2,     137,          1,         19,         19,2,20150603,       1844,    34.5004,  -151.9999,       5608,   225.7,  11.3912,  34.2189,2,  34.2235,2,    218.7,2,   218.5,2,    12.7,2,   11.82,2,    0.01,2,    0.85,2,   3.065,2,   1.802,2,   1.819,2,  2088.6,2,    2259,2,   7.7968,6,    25.03,-999.000,9,-999.0000,9, -999.00,9,  -999.0,9,  -999.0,-999.0000,9,-999.0000,    51.0,2,     16.400,3,-999.000,9, 20150603,     2041,-999.000,  11.4133,2,    34.3848,2,     -999.0,9,     -999.0,-999.0000,     -999.0,     -999.0,9,     -999.0,     -999.0,9,     -999.0,  -999.0,9,     -999.0,     -999.0,9,     -999.0
33RO20150525,     P16N.2,     137,          1,         18,         18,2,20150603,       1844,    34.5004,  -151.9999,       5608,   300.1,  10.0894,  34.1383,2,  34.1396,2,    208.4,2,   209.2,2,   18.67,2,   15.54,2,    0.01,2,    1.09,2,   3.207,2,   1.844,2,   1.647,2,  2112.9,2,    2262,2,   7.7455,2,    25.02,-999.000,9,-999.0000,9, -999.00,9,  -999.0,9,  -999.0,-999.0000,9,-999.0000,    49.9,2,     19.555,3,-999.000,9, 20150603,     2039,-999.000,  10.0852,2,    34.3006,2,     -999.0,9,     -999.0,-999.0000,     -999.0,     -999.0,9,     -999.0,     -999.0,9,     -999.0,  -999.0,9,     -999.0,     -999.0,9,     -999.0
33RO20150525,     P16N.2,     137,          1,         17,         17,2,20150603,       1844,    34.5004,  -151.9999,       5608,   399.7,   8.4097,  34.0513,2,  34.0557,2,    181.8,2,   179.7,2,   30.88,2,   21.89,2,       0,2,    1.53,2,   3.161,2,   1.749,2,   1.261,2,  2154.1,2,  2268.2,2,     7.65,2,    25.04,-999.000,9,-999.0000,9, -999.00,9,  -999.0,9,  -999.0,-999.0000,9,-999.0000,    48.9,2,     23.747,3,-999.000,9, 20150603,     2036,-999.000,   8.4165,2,    34.2163,2,     -999.0,9,     -999.0,-999.0000,     -999.0,     -999.0,9,     -999.0,     -999.0,9,     -999.0,  -999.0,9,     -999.0,     -999.0,9,     -999.0
33RO20150525,     P16N.2,     137,          1,         16,         16,2,20150603,       1844,    34.5004,  -151.9999,       5608,   500.6,   6.4433,  33.9822,2,  33.9815,2,    131.4,2,     131,2,   51.12,2,   30.01,2,       0,2,    2.11,2,   2.699,2,   1.401,2,   0.796,2,  2215.7,2,  2281.1,2,   7.5121,2,    25.04,-999.000,9,-999.0000,9, -999.00,9,  -999.0,9,  -999.0,-999.0000,9,-999.0000,    48.1,2,     29.838,3,-999.000,9, 20150603,     2033,-999.000,   6.4453,2,    34.1418,6,     -999.0,9,     -999.0,-999.0000,     -999.0,     -999.0,9,     -999.0,     -999.0,9,     -999.0,  -999.0,9,     -999.0,     -999.0,9,     -999.0
33RO20150525,     P16N.2,     137,          1,         15,         15,2,20150603,       1844,    34.5004,  -151.9999,       5608,   650.5,   4.9113,  34.0399,2,   34.044,2,     71.8,2,    71.4,2,   78.67,2,   37.82,2,    0.01,2,    2.68,2,   1.569,2,   0.757,2,    0.26,2,  2282.5,2,  2303.8,2,   7.3726,2,    25.01,-999.000,9,-999.0000,9, -999.00,9,  -999.0,9,  -999.0,-999.0000,9,-999.0000,    48.4,2,     37.954,3,-999.000,9, 20150603,     2029,-999.000,   4.9125,2,    34.2046,2,     -999.0,9,     -999.0,-999.0000,     -999.0,     -999.0,9,     -999.0,     -999.0,9,     -999.0,  -999.0,9,     -999.0,     -999.0,9,     -999.0
33RO20150525,     P16N.2,     137,          1,         14,         14,2,20150603,       1844,    34.5004,  -151.9999,       5608,   794.8,   4.1373,  34.1531,2,  34.1615,2,     36.6,2,    36.8,2,  100.46,2,   41.73,2,    0.01,2,    2.94,2,   0.664,6,   0.316,6,   0.109,6,  2327.8,2,  2329.1,2,   7.3094,2,       25,-999.000,9,-999.0000,9, -999.00,9,  -999.0,9,  -999.0,-999.0000,9,-999.0000,    45.9,2,     44.679,3,-999.000,9, 20150603,     2025,-999.000,   4.1409,2,    34.3225,2,     -999.0,9,     -999.0,-999.0000,     -999.0,     -999.0,9,     -999.0,     -999.0,9,     -999.0,  -999.0,9,     -999.0,     -999.0,9,     -999.0
33RO20150525,     P16N.2,     137,          1,         13,         13,2,20150603,       1844,    34.5004,  -151.9999,       5608,   949.7,    3.541,  34.2856,2,  34.2888,2,     11.7,2,    11.7,2,  121.07,2,   44.07,2,    0.01,2,    3.12,2,   0.084,2,   0.042,2,       0,2,  2366.6,2,  2356.2,2,   7.2762,2,    25.03,-999.000,9,-999.0000,9, -999.00,9,  -999.0,9,  -999.0,-999.0000,9,-999.0000,    44.4,2,     51.248,3,-999.000,9, 20150603,     2021,-999.000,   3.5396,2,    34.4504,2,     -999.0,9,     -999.0,-999.0000,     -999.0,     -999.0,9,     -999.0,     -999.0,9,     -999.0,  -999.0,9,     -999.0,     -999.0,9,     -999.0
33RO20150525,     P16N.2,     137,          1,         12,         12,2,20150603,       1844,    34.5004,  -151.9999,       5608,  1099.9,   3.1664,  34.3714,2,  34.3727,2,      7.7,2,     7.5,2,  134.35,2,   44.65,2,       0,2,    3.16,2,   0.014,2,   0.007,2,       0,2,  2383.1,6,  2372.8,2,   7.2789,2,    24.96,-999.000,9,-999.0000,9, -999.00,9,  -999.0,9,  -999.0,-999.0000,9,-999.0000,    42.1,2,     54.976,3,-999.000,9, 20150603,     2017,-999.000,   3.1665,2,    34.5347,2,     -999.0,9,     -999.0,-999.0000,     -999.0,     -999.0,9,     -999.0,     -999.0,9,     -999.0,  -999.0,9,     -999.0,     -999.0,9,     -999.0
33RO20150525,     P16N.2,     137,          1,         11,         11,2,20150603,       1844,    34.5004,  -151.9999,       5608,  1301.1,   2.8667,  34.4757,2,  34.4756,2,     16.6,2,    16.3,2,  143.33,2,   44.36,2,       0,2,    3.13,2,-999.000,9,-999.000,9,-999.000,9,  2388.9,2,    2390,2,   7.3081,2,    25.02,-999.000,9,-999.0000,9, -999.00,9,  -999.0,9,  -999.0,-999.0000,9,-999.0000,    41.3,2,     -999.0,9,-999.000,9, 20150603,     2012,-999.000,   2.8673,2,    34.6382,2,     -999.0,9,     -999.0,-999.0000,     -999.0,     -999.0,9,     -999.0,     -999.0,9,     -999.0,  -999.0,9,     -999.0,     -999.0,9,     -999.0
33RO20150525,     P16N.2,     137,          1,         10,         10,2,20150603,       1844,    34.5004,  -151.9999,       5608,  1549.7,   2.4771,  34.5415,2,  34.5419,2,     33.5,2,    33.5,2,  153.19,2,   43.38,2,    0.01,2,    3.06,2,-999.000,9,-999.000,9,-999.000,9,  2389.7,2,    2403,2,    7.346,2,    25.01,-999.000,9,-999.0000,9, -999.00,9,  -999.0,9,  -999.0,-999.0000,9,-999.0000,    42.1,2,     -999.0,9,-999.000,9, 20150603,     2007,-999.000,   2.4769,2,    34.7048,2,     -999.0,9,     -999.0,-999.0000,     -999.0,     -999.0,9,     -999.0,     -999.0,9,     -999.0,  -999.0,9,     -999.0,     -999.0,9,     -999.0
33RO20150525,     P16N.2,     137,          1,          9,          9,2,20150603,       1844,    34.5004,  -151.9999,       5608,  1801.3,   2.1648,   34.584,2,  34.5841,2,     48.6,2,    51.4,2,   160.7,2,    42.3,2,    0.01,2,    2.97,2,-999.000,9,-999.000,9,-999.000,9,    2387,2,  2412.4,2,   7.3847,2,       25,-999.000,9,-999.0000,9, -999.00,9,  -999.0,9,  -999.0,-999.0000,9,-999.0000,    41.3,2,     -999.0,9,-999.000,9, 20150603,     2001,-999.000,   2.1648,2,    34.7472,2,     -999.0,9,     -999.0,-999.0000,     -999.0,     -999.0,9,     -999.0,     -999.0,9,     -999.0,  -999.0,9,     -999.0,     -999.0,9,     -999.0
33RO20150525,     P16N.2,     137,          1,          8,          8,2,20150603,       1844,    34.5004,  -151.9999,       5608,  2200.5,   1.8321,  34.6263,2,  34.6336,4,     78.7,2,    77.9,2,  165.78,2,   40.64,2,    0.02,2,    2.83,2,-999.000,9,-999.000,9,-999.000,9,  2376.6,2,  2422.2,2,   7.4389,2,    25.04,-999.000,9,-999.0000,9, -999.00,9,  -999.0,9,  -999.0,-999.0000,9,-999.0000,    39.6,2,     -999.0,9,-999.000,9, 20150603,     1953,-999.000,    1.832,2,     34.797,2,     -999.0,9,     -999.0,-999.0000,     -999.0,     -999.0,9,     -999.0,     -999.0,9,     -999.0,  -999.0,9,     -999.0,     -999.0,9,     -999.0
33RO20150525,     P16N.2,     137,          1,          7,          7,2,20150603,       1844,    34.5004,  -151.9999,       5608,  2700.8,   1.6293,  34.6534,2,  34.6547,2,    103.2,2,   103.8,2,   164.6,2,   38.98,2,    0.01,2,    2.71,2,-999.000,9,-999.000,9,-999.000,9,  2363.8,2,    2426,2,   7.4887,2,    25.04,-999.000,9,-999.0000,9, -999.00,9,  -999.0,9,  -999.0,-999.0000,9,-999.0000,    36.7,2,     -999.0,9,-999.000,9, 20150603,     1943,-999.000,   1.6294,2,    34.8181,2,     -999.0,9,     -999.0,-999.0000,     -999.0,     -999.0,9,     -999.0,     -999.0,9,     -999.0,  -999.0,9,     -999.0,     -999.0,9,     -999.0
33RO20150525,     P16N.2,     137,          1,          6,          6,2,20150603,       1844,    34.5004,  -151.9999,       5608,  3199.8,   1.5139,  34.6695,2,  34.6701,2,    123.7,2,   123.7,2,  158.94,2,   37.71,2,    0.01,2,    2.61,2,-999.000,9,-999.000,9,-999.000,9,  2347.8,2,  2424.6,2,   7.5266,2,    25.03,-999.000,9,-999.0000,9, -999.00,9,  -999.0,9,  -999.0,-999.0000,9,-999.0000,    41.6,2,     -999.0,9,-999.000,9, 20150603,     1934,-999.000,   1.5138,2,    34.8336,2,     -999.0,9,     -999.0,-999.0000,     -999.0,     -999.0,9,     -999.0,     -999.0,9,     -999.0,  -999.0,9,     -999.0,     -999.0,9,     -999.0
33RO20150525,     P16N.2,     137,          1,          5,          5,2,20150603,       1844,    34.5004,  -151.9999,       5608,  3700.5,   1.4717,  34.6799,2,  34.6821,2,    138.1,2,     138,2,  155.03,2,   36.73,2,    0.01,2,    2.53,2,-999.000,9,-999.000,9,-999.000,9,  2337.3,2,    2425,2,   7.5535,2,    25.02,-999.000,9,-999.0000,9, -999.00,9,  -999.0,9,  -999.0,-999.0000,9,-999.0000,    40.2,2,     -999.0,9,-999.000,9, 20150603,     1924,-999.000,   1.4718,2,    34.8456,2,     -999.0,9,     -999.0,-999.0000,     -999.0,     -999.0,9,     -999.0,     -999.0,9,     -999.0,  -999.0,9,     -999.0,     -999.0,9,     -999.0
33RO20150525,     P16N.2,     137,          1,          4,          4,2,20150603,       1844,    34.5004,  -151.9999,       5608,  4202.1,   1.4807,  34.6853,2,  34.6862,2,      146,2,   145.4,2,     152,6,   36.34,6,    0.01,6,    2.49,6,-999.000,9,-999.000,9,-999.000,9,  2333.4,2,  2423.6,2,   7.5677,2,    25.02,-999.000,9,-999.0000,9, -999.00,9,  -999.0,9,  -999.0,-999.0000,9,-999.0000,    42.2,2,     -999.0,9,-999.000,9, 20150603,     1914,-999.000,   1.4808,2,    34.8498,2,     -999.0,9,     -999.0,-999.0000,     -999.0,     -999.0,9,     -999.0,     -999.0,9,     -999.0,  -999.0,9,     -999.0,     -999.0,9,     -999.0
33RO20150525,     P16N.2,     137,          1,          3,          3,2,20150603,       1844,    34.5004,  -151.9999,       5608,  4700.1,   1.5115,  34.6883,2,  34.6877,2,    150.9,2,   150.1,2,  148.48,6,   36.05,6,    0.01,6,    2.46,6,-999.000,9,-999.000,9,-999.000,9,  2327.5,2,  2422.6,6,   7.5757,2,    25.04,-999.000,9,-999.0000,9, -999.00,9,  -999.0,9,  -999.0,-999.0000,9,-999.0000,    41.3,2,     -999.0,9,-999.000,9, 20150603,     1904,-999.000,   1.5115,2,    34.8513,6,     -999.0,9,     -999.0,-999.0000,     -999.0,     -999.0,9,     -999.0,     -999.0,9,     -999.0,  -999.0,9,     -999.0,     -999.0,9,     -999.0
33RO20150525,     P16N.2,     137,          1,          2,          2,2,20150603,       1844,    34.5004,  -151.9999,       5608,  5199.2,   1.5586,  34.6904,2,  34.6923,2,    154.9,2,   153.7,2,  144.87,6,   35.75,6,    0.01,6,    2.44,6,-999.000,9,-999.000,9,-999.000,9,  2324.8,2,  2420.6,2,   7.5809,6,    25.02,-999.000,9,-999.0000,9, -999.00,9,  -999.0,9,  -999.0,-999.0000,9,-999.0000,    41.6,2,     -999.0,9,-999.000,9, 20150603,     1854,-999.000,   1.5587,2,    34.8559,2,     -999.0,9,     -999.0,-999.0000,     -999.0,     -999.0,9,     -999.0,     -999.0,9,     -999.0,  -999.0,9,     -999.0,     -999.0,9,     -999.0
33RO20150525,     P16N.2,     137,          1,          1,          1,2,20150603,       1844,    34.5004,  -151.9999,       5608,  5699.4,   1.6221,  34.6913,2,  34.6906,2,      156,2,   155.1,2,  144.48,6,   35.66,6,    0.01,6,    2.43,6,-999.000,9,-999.000,9,-999.000,9,  2324.5,6,  2420.8,2,   7.5815,2,    25.03,-999.000,9,-999.0000,9, -999.00,9,  -999.0,9,  -999.0,-999.0000,9,-999.0000,    40.4,2,     -999.0,9,-999.000,9, 20150603,     1844,-999.000,   1.6222,2,    34.8542,2,     -999.0,9,     -999.0,-999.0000,     -999.0,     -999.0,9,     -999.0,     -999.0,9,     -999.0,  -999.0,9,     -999.0,     -999.0,9,     -999.0