BOTTLE,20220330CCHSIOCBG
EXPOCODE,SECT_ID,STNNBR,CASTNO,SAMPNO,BTLNBR,BTLNBR_FLAG_W,DATE,TIME,LATITUDE,LONGITUDE,DEPTH,CTDPRS,CTDTMP,CTDSAL,CTDSAL_FLAG_W,SALNTY,SALNTY_FLAG_W,CTDOXY,CTDOXY_FLAG_W,OXYGEN,OXYGEN_FLAG_W,SILCAT,SILCAT_FLAG_W,NITRAT,NITRAT_FLAG_W,NITRIT,NITRIT_FLAG_W,PHSPHT,PHSPHT_FLAG_W,CFC-11,CFC-11_FLAG_W,CFC-12,CFC-12_FLAG_W,SF6,SF6_FLAG_W,TCARBN,TCARBN_FLAG_W,ALKALI,ALKALI_FLAG_W,PH_TOT,PH_TOT_FLAG_W,PH_TMP,TRITUM,TRITUM_FLAG_W,HELIUM,HELIUM_FLAG_W,DELC13,DELC13_FLAG_W,DELC14,DELC14_FLAG_W,C14ERR,NEON,NEON_FLAG_W,NEONER,DOC,DOC_FLAG_W,N2O,N2O_FLAG_W,ARGON,ARGON_FLAG_W,BTL_DATE,BTL_TIME,TRITER,SBE35,SBE35_FLAG_W,SALTREF,SALTREF_FLAG_W,DELHE3,DELHE3_FLAG_W,DELHER,HELIER,ARGONER,KRYPTON,KRYPTON_FLAG_W,KRYPTONER,XENON,XENON_FLAG_W,XENONER,14C-DOC,14C-DOC_FLAG_W,14C-DOCERR,13C-DOC,13C-DOC_FLAG_W,13C-DOCERR
,,,,,,,,,,,METERS,DBAR,ITS-90,PSS-78,,PSS-78,,UMOL/KG,,UMOL/KG,,UMOL/KG,,UMOL/KG,,UMOL/KG,,UMOL/KG,,PMOL/KG,,PMOL/KG,,FMOL/KG,,UMOL/KG,,UMOL/KG,,,,DEG C,TU,,NMOL/KG,,/MILLE,,/MILLE,,/MILLE,NMOL/KG,,NMOL/KG,UMOL/KG,,NMOL/KG,,UMOL/KG,,,,TU,ITS-90,,G/KG,,PERCNT,,PERCNT,NMOL/KG,UMOL/KG,NMOL/KG,,NMOL/KG,NMOL/KG,,NMOL/KG,/MILLE,,/MILLE,/MILLE,,/MILLE
33RO20150525,     P16N.2,     192,          1,         24,         24,2,20150619,       1746,      54.14,  -150.2226,       3631,     2.8,   9.4049,  32.5015,2,  32.5006,2,    302.6,2,   295.4,2,   27.99,2,   11.94,2,    0.16,2,    1.24,2,   3.879,6,   2.202,6,     2.6,6,  2025.8,6,  2194.7,2,   7.8125,6,       25,-999.000,9,-999.0000,9,    1.22,2,   -29.6,2,     2.0,-999.0000,9,-999.0000,  -999.0,9,     12.171,3,-999.000,9, 20150619,     1916,-999.000,   9.4047,2,    32.6539,2,     -999.0,9,     -999.0,-999.0000,     -999.0,     -999.0,9,     -999.0,     -999.0,9,     -999.0,  -999.0,9,     -999.0,     -999.0,9,     -999.0
33RO20150525,     P16N.2,     192,          1,         23,         23,2,20150619,       1746,      54.14,  -150.2226,       3631,    21.3,   8.8021,  32.4947,2,  32.5035,2,    301.3,2,   304.2,2,   28.77,2,   12.63,2,    0.16,2,    1.29,2,   4.066,2,   2.289,2,   2.645,2,    2032,2,  2193.6,2,   7.7988,6,    25.01,-999.000,9,-999.0000,9, -999.00,9,  -999.0,9,  -999.0,-999.0000,9,-999.0000,  -999.0,9,     12.532,3,-999.000,9, 20150619,     1914,-999.000,    8.802,2,    32.6568,2,     -999.0,9,     -999.0,-999.0000,     -999.0,     -999.0,9,     -999.0,     -999.0,9,     -999.0,  -999.0,9,     -999.0,     -999.0,9,     -999.0
33RO20150525,     P16N.2,     192,          1,         22,         22,2,20150619,       1746,      54.14,  -150.2226,       3631,    42.2,   7.0461,  32.5055,2,  32.5326,2,    307.8,2,   301.7,2,   30.05,2,   15.56,2,    0.17,2,    1.46,2,    4.32,2,   2.425,2,   2.767,2,  2055.1,2,  2193.3,2,   7.7336,2,    24.99,-999.000,9,-999.0000,9, -999.00,9,  -999.0,9,  -999.0,-999.0000,9,-999.0000,  -999.0,9,     13.977,3,-999.000,9, 20150619,     1912,-999.000,   7.0456,2,     32.686,2,     -999.0,9,     -999.0,-999.0000,     -999.0,     -999.0,9,     -999.0,     -999.0,9,     -999.0,  -999.0,9,     -999.0,     -999.0,9,     -999.0
33RO20150525,     P16N.2,     192,          1,         21,         21,2,20150619,       1746,      54.14,  -150.2226,       3631,    67.3,   4.8492,  33.0422,2,  33.0689,2,    195.8,2,     190,2,   47.35,2,   27.39,2,    0.16,2,     2.1,2,   3.855,2,   2.101,2,   2.049,2,  2174.9,2,  2231.8,6,   7.4888,2,    25.03,-999.000,9,-999.0000,9, -999.00,9,  -999.0,9,  -999.0,-999.0000,9,-999.0000,  -999.0,9,     25.414,3,-999.000,9, 20150619,     1910,-999.000,   4.8423,2,    33.2248,2,     -999.0,9,     -999.0,-999.0000,     -999.0,     -999.0,9,     -999.0,     -999.0,9,     -999.0,  -999.0,9,     -999.0,     -999.0,9,     -999.0
33RO20150525,     P16N.2,     192,          1,         20,         20,2,20150619,       1746,      54.14,  -150.2226,       3631,    92.4,   4.0443,  33.6182,2,  33.6357,2,     91.3,2,    92.2,2,    70.9,2,   39.21,2,    0.02,2,    2.78,2,   3.166,2,   1.673,2,   1.277,2,  2271.3,2,  2272.6,2,   7.2965,6,    25.01,-999.000,9,-999.0000,9, -999.00,9,  -999.0,9,  -999.0,-999.0000,9,-999.0000,  -999.0,9,     36.340,3,-999.000,9, 20150619,     1908,-999.000,    4.045,2,    33.7943,2,     -999.0,9,     -999.0,-999.0000,     -999.0,     -999.0,9,     -999.0,     -999.0,9,     -999.0,  -999.0,9,     -999.0,     -999.0,9,     -999.0
33RO20150525,     P16N.2,     192,          1,         19,         19,2,20150619,       1746,      54.14,  -150.2226,       3631,   116.7,   3.8948,   33.775,2,  33.7804,2,       62,2,      60,2,   79.01,2,   41.95,2,    0.02,2,    2.94,2,   2.795,2,   1.453,2,   0.969,2,  2301.7,2,  2284.2,2,   7.2466,2,    25.01,-999.000,9,-999.0000,9, -999.00,9,  -999.0,9,  -999.0,-999.0000,9,-999.0000,  -999.0,9,     40.263,3,-999.000,9, 20150619,     1907,-999.000,   3.8949,2,    33.9397,2,     -999.0,9,     -999.0,-999.0000,     -999.0,     -999.0,9,     -999.0,     -999.0,9,     -999.0,  -999.0,9,     -999.0,     -999.0,9,     -999.0
33RO20150525,     P16N.2,     192,          1,         18,         18,2,20150619,       1746,      54.14,  -150.2226,       3631,   150.6,   3.8471,  33.8428,2,   33.839,2,     45.8,2,    44.9,2,    83.7,2,   43.12,2,    0.02,2,    3.02,2,   2.538,2,   1.311,2,   0.858,2,  2314.3,2,  2289.2,2,   7.2253,2,    25.03,-999.000,9,-999.0000,9, -999.00,9,  -999.0,9,  -999.0,-999.0000,9,-999.0000,  -999.0,9,     41.914,3,-999.000,9, 20150619,     1905,-999.000,   3.8471,2,    33.9985,2,     -999.0,9,     -999.0,-999.0000,     -999.0,     -999.0,9,     -999.0,     -999.0,9,     -999.0,  -999.0,9,     -999.0,     -999.0,9,     -999.0
33RO20150525,     P16N.2,     192,          1,         17,         17,2,20150619,       1746,      54.14,  -150.2226,       3631,   183.1,   3.8025,  33.8844,2,  33.8822,2,     33.3,2,    32.6,2,      88,2,    44.1,2,    0.02,2,    3.08,2,   2.322,2,   1.187,2,    0.72,2,  2323.6,2,  2295.8,2,   7.2098,6,    25.01,-999.000,9,-999.0000,9, -999.00,9,  -999.0,9,  -999.0,-999.0000,9,-999.0000,  -999.0,9,     43.813,3,-999.000,9, 20150619,     1903,-999.000,   3.8023,2,     34.042,2,     -999.0,9,     -999.0,-999.0000,     -999.0,     -999.0,9,     -999.0,     -999.0,9,     -999.0,  -999.0,9,     -999.0,     -999.0,9,     -999.0
33RO20150525,     P16N.2,     192,          1,         16,         16,2,20150619,       1746,      54.14,  -150.2226,       3631,     250,   3.8755,  34.0022,2,  34.0045,2,     16.2,2,    15.3,2,   97.28,2,   44.78,2,    0.01,2,    3.12,2,   1.645,2,    0.82,2,   0.401,2,  2341.2,2,    2310,2,   7.2107,2,    25.02,-999.000,9,-999.0000,9, -999.00,9,  -999.0,9,  -999.0,-999.0000,9,-999.0000,  -999.0,9,     46.937,3,-999.000,9, 20150619,     1901,-999.000,   3.8752,2,    34.1649,2,     -999.0,9,     -999.0,-999.0000,     -999.0,     -999.0,9,     -999.0,     -999.0,9,     -999.0,  -999.0,9,     -999.0,     -999.0,9,     -999.0
33RO20150525,     P16N.2,     192,          1,         15,         15,2,20150619,       1746,      54.14,  -150.2226,       3631,   324.7,   3.7909,    34.07,2,  34.0705,2,     18.3,2,    17.1,2,  103.92,2,   44.29,2,    0.01,2,     3.1,2,   1.297,2,   0.638,2,   0.338,2,  2342.2,2,  2320.8,2,   7.2306,2,    25.02,-999.000,9,-999.0000,9, -999.00,9,  -999.0,9,  -999.0,-999.0000,9,-999.0000,  -999.0,9,     46.919,3,-999.000,9, 20150619,     1858,-999.000,   3.7904,2,    34.2311,2,     -999.0,9,     -999.0,-999.0000,     -999.0,     -999.0,9,     -999.0,     -999.0,9,     -999.0,  -999.0,9,     -999.0,     -999.0,9,     -999.0
33RO20150525,     P16N.2,     192,          1,         14,         14,2,20150619,       1746,      54.14,  -150.2226,       3631,   400.8,   3.7054,  34.1243,2,  34.1229,2,     17.2,2,    16.8,2,  109.29,2,   43.99,2,    0.01,2,    3.08,2,   1.001,6,   0.491,6,   0.221,6,  2350.9,2,  2330.3,2,   7.2427,2,    25.02,-999.000,9,-999.0000,9, -999.00,9,  -999.0,9,  -999.0,-999.0000,9,-999.0000,  -999.0,9,     47.294,3,-999.000,9, 20150619,     1856,-999.000,   3.7047,2,    34.2838,6,     -999.0,9,     -999.0,-999.0000,     -999.0,     -999.0,9,     -999.0,     -999.0,9,     -999.0,  -999.0,9,     -999.0,     -999.0,9,     -999.0
33RO20150525,     P16N.2,     192,          1,         13,         13,2,20150619,       1746,      54.14,  -150.2226,       3631,   475.5,   3.5916,  34.1817,2,  34.1818,2,     15.3,2,    14.3,2,  115.45,2,   43.99,2,       0,2,    3.08,2,   0.729,2,   0.357,2,   0.138,2,  2354.3,2,  2339.1,2,   7.2514,2,    25.04,-999.000,9,-999.0000,9, -999.00,9,  -999.0,9,  -999.0,-999.0000,9,-999.0000,  -999.0,9,     48.221,3,-999.000,9, 20150619,     1854,-999.000,   3.5913,2,     34.343,2,     -999.0,9,     -999.0,-999.0000,     -999.0,     -999.0,9,     -999.0,     -999.0,9,     -999.0,  -999.0,9,     -999.0,     -999.0,9,     -999.0
33RO20150525,     P16N.2,     192,          1,         12,         12,2,20150619,       1746,      54.14,  -150.2226,       3631,   600.1,    3.385,  34.2534,2,  34.2512,2,     15.5,2,    14.4,2,  124.24,2,   43.89,2,    0.01,2,    3.08,2,    0.44,2,   0.216,2,   0.077,2,  2365.7,2,  2351.7,2,   7.2656,2,    25.02,-999.000,9,-999.0000,9, -999.00,9,  -999.0,9,  -999.0,-999.0000,9,-999.0000,  -999.0,9,     48.736,3,-999.000,9, 20150619,     1850,-999.000,   3.3852,2,    34.4127,2,     -999.0,9,     -999.0,-999.0000,     -999.0,     -999.0,9,     -999.0,     -999.0,9,     -999.0,  -999.0,9,     -999.0,     -999.0,9,     -999.0
33RO20150525,     P16N.2,     192,          1,         11,         11,2,20150619,       1746,      54.14,  -150.2226,       3631,   750.2,   3.1561,  34.3203,2,  34.3208,2,     14.6,2,    14.1,2,  132.73,2,   43.98,2,       0,2,     3.1,2,   0.227,2,   0.112,2,   0.032,2,  2372.9,2,  2363.7,2,   7.2753,2,    25.02,-999.000,9,-999.0000,9, -999.00,9,  -999.0,9,  -999.0,-999.0000,9,-999.0000,  -999.0,9,     48.566,3,-999.000,9, 20150619,     1846,-999.000,   3.1558,2,    34.4826,2,     -999.0,9,     -999.0,-999.0000,     -999.0,     -999.0,9,     -999.0,     -999.0,9,     -999.0,  -999.0,9,     -999.0,     -999.0,9,     -999.0
33RO20150525,     P16N.2,     192,          1,         10,         10,2,20150619,       1746,      54.14,  -150.2226,       3631,   900.4,   2.8933,  34.3766,2,  34.3749,2,       17,2,    17.3,2,  141.04,2,   44.08,2,       0,2,    3.09,2,   0.135,2,   0.067,2,   0.024,2,  2378.3,2,    2376,2,   7.2873,2,    25.02,-999.000,9,-999.0000,9, -999.00,9,  -999.0,9,  -999.0,-999.0000,9,-999.0000,  -999.0,9,     47.416,3,-999.000,9, 20150619,     1843,-999.000,   2.8928,2,     34.537,2,     -999.0,9,     -999.0,-999.0000,     -999.0,     -999.0,9,     -999.0,     -999.0,9,     -999.0,  -999.0,9,     -999.0,     -999.0,9,     -999.0
33RO20150525,     P16N.2,     192,          1,          9,          9,2,20150619,       1746,      54.14,  -150.2226,       3631,  1050.5,   2.6885,  34.4212,2,   34.421,2,     18.8,2,    18.7,2,  147.38,2,   43.98,2,    0.01,2,    3.09,2,   0.076,2,   0.037,2,   0.017,2,  2386.7,2,    2385,2,   7.2962,2,    25.01,-999.000,9,-999.0000,9, -999.00,9,  -999.0,9,  -999.0,-999.0000,9,-999.0000,  -999.0,9,     46.684,3,-999.000,9, 20150619,     1839,-999.000,   2.6883,2,    34.5833,2,     -999.0,9,     -999.0,-999.0000,     -999.0,     -999.0,9,     -999.0,     -999.0,9,     -999.0,  -999.0,9,     -999.0,     -999.0,9,     -999.0
33RO20150525,     P16N.2,     192,          1,          8,          8,2,20150619,       1746,      54.14,  -150.2226,       3631,  1225.9,   2.5063,  34.4607,2,  34.4585,2,     21.3,2,    21.5,2,  152.95,2,   43.98,2,       0,2,    3.07,2,   0.043,2,   0.022,2,       0,2,  2388.6,6,  2393.8,2,   7.3055,2,    25.03,-999.000,9,-999.0000,9, -999.00,9,  -999.0,9,  -999.0,-999.0000,9,-999.0000,  -999.0,9,     46.063,3,-999.000,9, 20150619,     1834,-999.000,   2.5066,2,    34.6209,2,     -999.0,9,     -999.0,-999.0000,     -999.0,     -999.0,9,     -999.0,     -999.0,9,     -999.0,  -999.0,9,     -999.0,     -999.0,9,     -999.0
33RO20150525,     P16N.2,     192,          1,          7,          7,2,20150619,       1746,      54.14,  -150.2226,       3631,    1499,   2.2243,  34.5222,2,  34.5213,2,     31.7,2,      32,2,  161.25,2,   43.49,2,       0,2,    3.03,2,-999.000,9,-999.000,9,-999.000,9,  2390.3,2,  2404.1,2,   7.3318,6,    25.03,-999.000,9,-999.0000,9, -999.00,9,  -999.0,9,  -999.0,-999.0000,9,-999.0000,  -999.0,9,     -999.0,9,-999.000,9, 20150619,     1829,-999.000,   2.2257,2,    34.6841,2,     -999.0,9,     -999.0,-999.0000,     -999.0,     -999.0,9,     -999.0,     -999.0,9,     -999.0,  -999.0,9,     -999.0,     -999.0,9,     -999.0
33RO20150525,     P16N.2,     192,          1,          6,          6,2,20150619,       1746,      54.14,  -150.2226,       3631,  1867.6,    1.959,  34.5787,2,  34.5779,2,     51.6,2,    52.2,2,  166.03,2,   42.31,2,    0.01,2,    2.94,2,   0.003,2,   0.002,2,       0,2,  2383.7,2,  2413.3,2,   7.3765,2,    25.03,-999.000,9,-999.0000,9, -999.00,9,  -999.0,9,  -999.0,-999.0000,9,-999.0000,  -999.0,9,     36.776,3,-999.000,9, 20150619,     1822,-999.000,   1.9594,2,    34.7409,2,     -999.0,9,     -999.0,-999.0000,     -999.0,     -999.0,9,     -999.0,     -999.0,9,     -999.0,  -999.0,9,     -999.0,     -999.0,9,     -999.0
33RO20150525,     P16N.2,     192,          1,          5,          5,2,20150619,       1746,      54.14,  -150.2226,       3631,  2267.5,   1.7645,  34.6181,2,  34.6177,2,     74.3,2,    74.9,2,   167.1,2,   40.85,2,       0,2,    2.84,2,-999.000,9,-999.000,9,-999.000,9,  2373.6,2,  2416.7,2,   7.4266,2,    25.03,-999.000,9,-999.0000,9, -999.00,9,  -999.0,9,  -999.0,-999.0000,9,-999.0000,  -999.0,9,     -999.0,9,-999.000,9, 20150619,     1814,-999.000,   1.7645,2,     34.781,2,     -999.0,9,     -999.0,-999.0000,     -999.0,     -999.0,9,     -999.0,     -999.0,9,     -999.0,  -999.0,9,     -999.0,     -999.0,9,     -999.0
33RO20150525,     P16N.2,     192,          1,          4,          4,2,20150619,       1746,      54.14,  -150.2226,       3631,  2667.3,   1.6399,  34.6423,2,  34.6415,2,     94.4,2,    95.3,2,  165.54,6,   39.38,6,       0,6,    2.74,6,   0.001,6,   0.001,6,       0,6,  2361.7,2,  2420.9,6,   7.4655,2,    25.04,-999.000,9,-999.0000,9, -999.00,9,  -999.0,9,  -999.0,-999.0000,9,-999.0000,  -999.0,9,     28.517,3,-999.000,9, 20150619,     1806,-999.000,   1.6397,2,    34.8049,2,     -999.0,9,     -999.0,-999.0000,     -999.0,     -999.0,9,     -999.0,     -999.0,9,     -999.0,  -999.0,9,     -999.0,     -999.0,9,     -999.0
33RO20150525,     P16N.2,     192,          1,          3,          3,2,20150619,       1746,      54.14,  -150.2226,       3631,  3066.4,   1.5511,  34.6599,2,  34.6639,2,    113.2,2,     113,2,  164.36,6,   38.21,6,       0,6,    2.66,6,-999.000,9,-999.000,9,-999.000,9,    2352,2,  2423.6,2,   7.5022,2,    25.05,-999.000,9,-999.0000,9, -999.00,9,  -999.0,9,  -999.0,-999.0000,9,-999.0000,  -999.0,9,     -999.0,9,-999.000,9, 20150619,     1759,-999.000,   1.5513,2,    34.8274,2,     -999.0,9,     -999.0,-999.0000,     -999.0,     -999.0,9,     -999.0,     -999.0,9,     -999.0,  -999.0,9,     -999.0,     -999.0,9,     -999.0
33RO20150525,     P16N.2,     192,          1,          2,          2,2,20150619,       1746,      54.14,  -150.2226,       3631,  3373.5,   1.5101,  34.6697,2,  34.6697,2,      124,2,   124.1,2,  163.09,6,   37.43,6,       0,6,     2.6,6,   0.002,2,   0.001,2,       0,2,  2345.6,2,  2424.3,2,   7.5243,6,    25.03,-999.000,9,-999.0000,9, -999.00,9,  -999.0,9,  -999.0,-999.0000,9,-999.0000,  -999.0,9,     24.636,3,-999.000,9, 20150619,     1752,-999.000,   1.5102,2,    34.8332,6,     -999.0,9,     -999.0,-999.0000,     -999.0,     -999.0,9,     -999.0,     -999.0,9,     -999.0,  -999.0,9,     -999.0,     -999.0,9,     -999.0
33RO20150525,     P16N.2,     192,          1,          1,          1,2,20150619,       1746,      54.14,  -150.2226,       3631,  3678.9,   1.4809,  34.6781,2,  34.6771,2,    134.3,2,   133.7,2,  161.53,6,   36.84,6,       0,6,    2.55,6,   0.002,2,   0.002,2,       0,2,  2339.3,6,  2424.5,2,   7.5432,6,    25.03,-999.000,9,-999.0000,9, -999.00,9,  -999.0,9,  -999.0,-999.0000,9,-999.0000,  -999.0,9,     23.473,3,-999.000,9, 20150619,     1746,-999.000,   1.4804,2,    34.8406,2,     -999.0,9,     -999.0,-999.0000,     -999.0,     -999.0,9,     -999.0,     -999.0,9,     -999.0,  -999.0,9,     -999.0,     -999.0,9,     -999.0