BOTTLE,20220330CCHSIOCBG
EXPOCODE,SECT_ID,STNNBR,CASTNO,SAMPNO,BTLNBR,BTLNBR_FLAG_W,DATE,TIME,LATITUDE,LONGITUDE,DEPTH,CTDPRS,CTDTMP,CTDSAL,CTDSAL_FLAG_W,SALNTY,SALNTY_FLAG_W,CTDOXY,CTDOXY_FLAG_W,OXYGEN,OXYGEN_FLAG_W,SILCAT,SILCAT_FLAG_W,NITRAT,NITRAT_FLAG_W,NITRIT,NITRIT_FLAG_W,PHSPHT,PHSPHT_FLAG_W,CFC-11,CFC-11_FLAG_W,CFC-12,CFC-12_FLAG_W,SF6,SF6_FLAG_W,TCARBN,TCARBN_FLAG_W,ALKALI,ALKALI_FLAG_W,PH_TOT,PH_TOT_FLAG_W,PH_TMP,TRITUM,TRITUM_FLAG_W,HELIUM,HELIUM_FLAG_W,DELC13,DELC13_FLAG_W,DELC14,DELC14_FLAG_W,C14ERR,NEON,NEON_FLAG_W,NEONER,DOC,DOC_FLAG_W,N2O,N2O_FLAG_W,ARGON,ARGON_FLAG_W,BTL_DATE,BTL_TIME,TRITER,SBE35,SBE35_FLAG_W,SALTREF,SALTREF_FLAG_W,DELHE3,DELHE3_FLAG_W,DELHER,HELIER,ARGONER,KRYPTON,KRYPTON_FLAG_W,KRYPTONER,XENON,XENON_FLAG_W,XENONER,14C-DOC,14C-DOC_FLAG_W,14C-DOCERR,13C-DOC,13C-DOC_FLAG_W,13C-DOCERR
,,,,,,,,,,,METERS,DBAR,ITS-90,PSS-78,,PSS-78,,UMOL/KG,,UMOL/KG,,UMOL/KG,,UMOL/KG,,UMOL/KG,,UMOL/KG,,PMOL/KG,,PMOL/KG,,FMOL/KG,,UMOL/KG,,UMOL/KG,,,,DEG C,TU,,NMOL/KG,,/MILLE,,/MILLE,,/MILLE,NMOL/KG,,NMOL/KG,UMOL/KG,,NMOL/KG,,UMOL/KG,,,,TU,ITS-90,,G/KG,,PERCNT,,PERCNT,NMOL/KG,UMOL/KG,NMOL/KG,,NMOL/KG,NMOL/KG,,NMOL/KG,/MILLE,,/MILLE,/MILLE,,/MILLE
33RO20150525,     P16N.2,     163,          2,         24,         24,2,20150612,       0431,       47.5,       -152,       5048,       3,   9.8669,  32.7599,2,  32.7585,2,    274.9,2,   290.3,2,   17.91,2,   11.75,2,    0.14,2,    1.15,2,   3.837,2,   2.161,2,   2.705,2,  2043.7,6,  2203.4,2,   7.7886,2,    25.01,-999.000,9,-999.0000,9,    0.89,2,   -24.1,2,     2.2,-999.0000,9,-999.0000,    54.1,2,     11.255,3,-999.000,9, 20150612,     0633,-999.000,   9.8535,2,     32.913,2,     -999.0,9,     -999.0,-999.0000,     -999.0,     -999.0,9,     -999.0,     -999.0,9,     -999.0,  -999.0,9,     -999.0,     -999.0,9,     -999.0
33RO20150525,     P16N.2,     163,          2,         23,         23,2,20150612,       0431,       47.5,       -152,       5048,    20.7,   9.5864,  32.7581,2,  32.7593,2,    272.7,2,   292.8,2,   17.91,2,   11.75,2,    0.13,2,    1.14,2,   3.883,2,   2.184,2,   2.648,2,  2042.1,2,  2203.7,6,   7.7882,2,    24.98,-999.000,9,-999.0000,9,    0.87,2,   -25.5,2,     3.8,-999.0000,9,-999.0000,    54.4,2,     11.359,3,-999.000,9, 20150612,     0630,-999.000,   9.5933,2,    32.9138,2,     -999.0,9,     -999.0,-999.0000,     -999.0,     -999.0,9,     -999.0,     -999.0,9,     -999.0,  -999.0,9,     -999.0,     -999.0,9,     -999.0
33RO20150525,     P16N.2,     163,          2,         22,         22,2,20150612,       0431,       47.5,       -152,       5048,      42,   7.0601,  32.8307,2,  32.8322,2,    289.1,2,   307.1,2,    18.5,2,   12.23,2,    0.09,2,    1.16,2,   4.229,2,   2.367,2,   2.794,2,  2054.4,2,  2206.8,2,   7.7733,6,    25.03,-999.000,9,-999.0000,9,    0.84,2,   -23.4,2,     2.5,-999.0000,9,-999.0000,    53.2,2,     12.192,3,-999.000,9, 20150612,     0628,-999.000,   7.0603,2,     32.987,2,     -999.0,9,     -999.0,-999.0000,     -999.0,     -999.0,9,     -999.0,     -999.0,9,     -999.0,  -999.0,9,     -999.0,     -999.0,9,     -999.0
33RO20150525,     P16N.2,     163,          2,         21,         21,2,20150612,       0431,       47.5,       -152,       5048,    67.2,   6.7856,  32.8461,2,  32.8548,2,    279.6,2,   298.9,2,   18.01,2,   12.43,2,    0.11,2,    1.19,2,   4.241,2,   2.367,2,   2.918,2,  2059.8,2,  2205.8,2,   7.7599,6,    25.01,-999.000,9,-999.0000,9,    0.77,2,   -15.5,2,     2.4,-999.0000,9,-999.0000,    51.5,2,     12.184,3,-999.000,9, 20150612,     0626,-999.000,   6.7942,2,    33.0097,2,     -999.0,9,     -999.0,-999.0000,     -999.0,     -999.0,9,     -999.0,     -999.0,9,     -999.0,  -999.0,9,     -999.0,     -999.0,9,     -999.0
33RO20150525,     P16N.2,     163,          2,         20,         20,2,20150612,       0431,       47.5,       -152,       5048,    91.9,   6.6606,  33.2487,2,  33.2299,2,    261.7,2,   265.5,2,   21.43,2,   15.66,2,    0.13,2,    1.31,2,   4.082,2,   2.283,2,   2.511,2,    2095,2,  2226.4,2,   7.7079,2,       25,-999.000,9,-999.0000,9,    0.26,2,   -16.6,2,     2.6,-999.0000,9,-999.0000,    50.6,2,     14.391,3,-999.000,9, 20150612,     0624,-999.000,    6.663,2,    33.3865,2,     -999.0,9,     -999.0,-999.0000,     -999.0,     -999.0,9,     -999.0,     -999.0,9,     -999.0,  -999.0,9,     -999.0,     -999.0,9,     -999.0
33RO20150525,     P16N.2,     163,          2,         19,         19,2,20150612,       0431,       47.5,       -152,       5048,   133.6,   6.2056,  33.7934,2,  33.7938,2,    190.9,2,   200.7,2,   38.83,2,   23.96,2,    0.03,2,    1.72,2,    3.63,2,   2.013,2,   1.932,2,  2168.7,2,  2265.2,2,    7.596,2,    25.01,-999.000,9,-999.0000,9,   -0.12,2,   -28.1,2,     2.3,-999.0000,9,-999.0000,    47.2,2,     20.708,3,-999.000,9, 20150612,     0622,-999.000,   6.2036,2,    33.9531,2,     -999.0,9,     -999.0,-999.0000,     -999.0,     -999.0,9,     -999.0,     -999.0,9,     -999.0,  -999.0,9,     -999.0,     -999.0,9,     -999.0
33RO20150525,     P16N.2,     163,          2,         18,         18,2,20150612,       0431,       47.5,       -152,       5048,     200,   5.2258,  33.8295,2,  33.8283,2,    136.7,2,   145.7,2,   57.31,2,   30.81,2,    0.04,2,    2.19,2,   3.192,2,   1.712,2,   1.442,2,  2221.4,2,  2276.2,2,   7.4771,2,    24.95,-999.000,9,-999.0000,9,   -0.37,2,   -61.5,2,     2.2,-999.0000,9,-999.0000,    44.1,2,     27.384,3,-999.000,9, 20150612,     0619,-999.000,   5.2153,2,    33.9878,6,     -999.0,9,     -999.0,-999.0000,     -999.0,     -999.0,9,     -999.0,     -999.0,9,     -999.0,  -999.0,9,     -999.0,     -999.0,9,     -999.0
33RO20150525,     P16N.2,     163,          2,         17,         17,2,20150612,       0431,       47.5,       -152,       5048,   274.8,   4.5956,  33.8785,2,  33.8793,2,    101.6,2,   108.6,2,    71.1,2,   35.21,2,    0.05,2,    2.49,2,    2.75,2,   1.445,2,   1.007,2,  2262.5,2,  2286.3,2,   7.3942,2,    25.01,-999.000,9,-999.0000,9,   -0.62,2,   -76.7,2,     2.0,-999.0000,9,-999.0000,    44.7,2,     31.694,3,-999.000,9, 20150612,     0616,-999.000,   4.5952,2,    34.0391,2,     -999.0,9,     -999.0,-999.0000,     -999.0,     -999.0,9,     -999.0,     -999.0,9,     -999.0,  -999.0,9,     -999.0,     -999.0,9,     -999.0
33RO20150525,     P16N.2,     163,          2,         16,         16,2,20150612,       0431,       47.5,       -152,       5048,   366.7,   4.3278,  33.9585,2,  33.9592,2,     72.9,2,    80.4,2,   82.93,2,   38.14,2,    0.01,2,    2.67,2,   2.188,2,   1.131,2,   0.734,2,  2286.2,2,  2299.9,2,   7.3499,2,    25.01,-999.000,9,-999.0000,9,   -0.55,2,   -94.5,2,     1.9,-999.0000,9,-999.0000,    43.3,2,     35.685,3,-999.000,9, 20150612,     0613,-999.000,   4.3282,2,    34.1194,2,     -999.0,9,     -999.0,-999.0000,     -999.0,     -999.0,9,     -999.0,     -999.0,9,     -999.0,  -999.0,9,     -999.0,     -999.0,9,     -999.0
33RO20150525,     P16N.2,     163,          2,         15,         15,2,20150612,       0431,       47.5,       -152,       5048,   466.6,   3.9967,  34.0406,2,  34.0549,2,     50.1,2,    55.4,2,   95.93,2,   40.38,2,    0.02,2,    2.84,2,   1.647,2,   0.842,2,   0.473,2,  2309.3,2,  2315.7,2,   7.3105,2,    25.02,-999.000,9,-999.0000,9,   -0.61,2,  -123.7,2,     2.4,-999.0000,9,-999.0000,    43.0,2,     39.568,3,-999.000,9, 20150612,     0610,-999.000,   3.9978,2,    34.2154,2,     -999.0,9,     -999.0,-999.0000,     -999.0,     -999.0,9,     -999.0,     -999.0,9,     -999.0,  -999.0,9,     -999.0,     -999.0,9,     -999.0
33RO20150525,     P16N.2,     163,          2,         14,         14,2,20150612,       0431,       47.5,       -152,       5048,   600.9,   3.8197,  34.1504,2,  34.1482,2,     28.4,2,    36.6,2,  108.34,2,   41.75,2,    0.01,2,    2.92,2,   0.991,6,   0.491,6,   0.249,6,  2332.4,2,  2332.6,2,   7.2965,2,    25.01,-999.000,9,-999.0000,9,   -0.60,2,  -145.3,2,     1.8,-999.0000,9,-999.0000,    41.3,2,     41.968,3,-999.000,9, 20150612,     0606,-999.000,   3.8198,2,    34.3092,2,     -999.0,9,     -999.0,-999.0000,     -999.0,     -999.0,9,     -999.0,     -999.0,9,     -999.0,  -999.0,9,     -999.0,     -999.0,9,     -999.0
33RO20150525,     P16N.2,     163,          2,         13,         13,2,20150612,       0431,       47.5,       -152,       5048,   750.3,   3.4695,  34.2564,2,  34.2703,3,     28.1,2,    25.9,2,   122.6,2,   42.63,2,    0.03,2,       3,2,   0.496,2,   0.242,2,   0.095,2,  2356.6,2,  2351.5,2,    7.293,6,    25.02,-999.000,9,-999.0000,9,   -0.63,2,  -173.2,2,     1.9,-999.0000,9,-999.0000,    40.9,2,     45.068,3,-999.000,9, 20150612,     0602,-999.000,   3.4692,2,    34.4319,2,     -999.0,9,     -999.0,-999.0000,     -999.0,     -999.0,9,     -999.0,     -999.0,9,     -999.0,  -999.0,9,     -999.0,     -999.0,9,     -999.0
33RO20150525,     P16N.2,     163,          2,         12,         12,2,20150612,       0431,       47.5,       -152,       5048,   900.2,   3.1887,  34.3247,2,  34.3233,2,     17.3,2,    23.3,2,  132.57,2,   43.02,2,    0.01,2,    3.02,2,   0.274,2,   0.138,2,   0.127,3,  2362.2,2,  2364.2,2,   7.2971,2,    25.02,-999.000,9,-999.0000,9,   -0.63,2,  -184.9,2,     1.9,-999.0000,9,-999.0000,    41.3,2,     45.491,3,-999.000,9, 20150612,     0558,-999.000,   3.1881,2,    34.4852,2,     -999.0,9,     -999.0,-999.0000,     -999.0,     -999.0,9,     -999.0,     -999.0,9,     -999.0,  -999.0,9,     -999.0,     -999.0,9,     -999.0
33RO20150525,     P16N.2,     163,          2,         11,         11,2,20150612,       0431,       47.5,       -152,       5048,    1050,   2.8681,   34.389,2,  34.3892,2,     20.1,2,    23.6,2,  142.73,2,   43.21,2,       0,2,    3.04,2,-999.000,9,-999.000,9,-999.000,9,  2373.9,2,  2377.1,2,   7.3032,2,    25.02,-999.000,9,-999.0000,9,   -0.59,2,  -203.5,2,     1.9,-999.0000,9,-999.0000,    38.9,2,     -999.0,9,-999.000,9, 20150612,     0554,-999.000,   2.8679,2,    34.5514,2,     -999.0,9,     -999.0,-999.0000,     -999.0,     -999.0,9,     -999.0,     -999.0,9,     -999.0,  -999.0,9,     -999.0,     -999.0,9,     -999.0
33RO20150525,     P16N.2,     163,          2,         10,         10,2,20150612,       0431,       47.5,       -152,       5048,  1233.2,     2.59,  34.4482,2,   34.447,2,       19,2,    21.2,2,  152.21,2,    43.7,2,       0,2,    3.05,2,   0.054,2,   0.025,2,       0,2,  2385.9,6,  2390.1,2,   7.3066,2,    24.98,-999.000,9,-999.0000,9,   -0.69,2,  -225.0,2,     1.8,-999.0000,9,-999.0000,    39.0,2,     45.300,3,-999.000,9, 20150612,     0549,-999.000,   2.5892,2,    34.6094,2,     -999.0,9,     -999.0,-999.0000,     -999.0,     -999.0,9,     -999.0,     -999.0,9,     -999.0,  -999.0,9,     -999.0,     -999.0,9,     -999.0
33RO20150525,     P16N.2,     163,          2,          9,          9,2,20150612,       0431,       47.5,       -152,       5048,  1500.1,   2.3137,   34.507,2,  34.5039,2,     21.4,2,    25.2,2,   160.9,2,   43.79,2,       0,2,    3.03,2,-999.000,9,-999.000,9,-999.000,9,    2396,2,  2400.6,2,   7.3185,2,    25.03,-999.000,9,-999.0000,9,   -0.64,2,  -235.6,2,     1.8,-999.0000,9,-999.0000,    37.7,2,     -999.0,9,-999.000,9, 20150612,     0543,-999.000,   2.3148,2,    34.6666,2,     -999.0,9,     -999.0,-999.0000,     -999.0,     -999.0,9,     -999.0,     -999.0,9,     -999.0,  -999.0,9,     -999.0,     -999.0,9,     -999.0
33RO20150525,     P16N.2,     163,          2,          8,          8,2,20150612,       0431,       47.5,       -152,       5048,  1866.7,   2.0238,  34.5704,2,  34.5686,2,     40.3,2,    41.2,2,  168.61,2,   42.91,2,    0.01,2,    2.96,2,-999.000,9,-999.000,9,-999.000,9,  2391.9,2,  2409.8,2,   7.3562,2,    25.02,-999.000,9,-999.0000,9,   -0.56,2,  -243.1,2,     1.9,-999.0000,9,-999.0000,    39.7,2,     -999.0,9,-999.000,9, 20150612,     0535,-999.000,   2.0237,2,    34.7316,6,     -999.0,9,     -999.0,-999.0000,     -999.0,     -999.0,9,     -999.0,     -999.0,9,     -999.0,  -999.0,9,     -999.0,     -999.0,9,     -999.0
33RO20150525,     P16N.2,     163,          2,          7,          7,2,20150612,       0431,       47.5,       -152,       5048,  2266.3,   1.8132,   34.613,2,  34.6198,4,     66.1,2,    66.1,2,  171.05,2,   41.35,2,    0.01,2,    2.85,2,-999.000,9,-999.000,9,-999.000,9,  2380.2,2,  2419.2,2,   7.4087,2,    25.02,-999.000,9,-999.0000,9,   -0.41,2,  -243.6,2,     1.8,-999.0000,9,-999.0000,    38.0,2,     -999.0,9,-999.000,9, 20150612,     0528,-999.000,   1.8132,2,     34.783,2,     -999.0,9,     -999.0,-999.0000,     -999.0,     -999.0,9,     -999.0,     -999.0,9,     -999.0,  -999.0,9,     -999.0,     -999.0,9,     -999.0
33RO20150525,     P16N.2,     163,          2,          6,          6,2,20150612,       0431,       47.5,       -152,       5048,    2667,   1.6634,  34.6401,2,  34.6457,4,     90.4,2,    89.5,2,   168.9,2,   39.78,2,    0.01,2,    2.74,2,-999.000,9,-999.000,9,-999.000,9,  2365.9,2,    2422,2,   7.4565,6,    25.01,-999.000,9,-999.0000,9,   -0.29,2,  -249.5,2,     1.7,-999.0000,9,-999.0000,    37.9,2,     -999.0,9,-999.000,9, 20150612,     0520,-999.000,   1.6631,2,    34.8091,2,     -999.0,9,     -999.0,-999.0000,     -999.0,     -999.0,9,     -999.0,     -999.0,9,     -999.0,  -999.0,9,     -999.0,     -999.0,9,     -999.0
33RO20150525,     P16N.2,     163,          2,          5,          5,2,20150612,       0431,       47.5,       -152,       5048,  3065.7,   1.5718,  34.6577,2,  34.6587,2,      110,2,   109.1,2,  165.57,2,   38.51,2,    0.03,2,    2.64,2,-999.000,9,-999.000,9,-999.000,9,  2353.8,2,  2421.2,2,   7.4943,2,    25.02,-999.000,9,-999.0000,9,   -0.15,2,  -242.2,2,     2.7,-999.0000,9,-999.0000,    37.9,2,     -999.0,9,-999.000,9, 20150612,     0512,-999.000,   1.5718,2,    34.8221,2,     -999.0,9,     -999.0,-999.0000,     -999.0,     -999.0,9,     -999.0,     -999.0,9,     -999.0,  -999.0,9,     -999.0,     -999.0,9,     -999.0
33RO20150525,     P16N.2,     163,          2,          4,          4,2,20150612,       0431,       47.5,       -152,       5048,  3467.1,   1.5128,  34.6705,2,  34.6707,2,      126,2,   124.7,2,  162.25,6,   37.53,6,    0.01,6,    2.56,6,-999.000,9,-999.000,9,-999.000,9,  2344.1,2,  2423.2,2,   7.5254,6,    25.01,-999.000,9,-999.0000,9,   -0.04,2,  -242.1,2,     1.9,-999.0000,9,-999.0000,    42.7,2,     -999.0,9,-999.000,9, 20150612,     0504,-999.000,   1.5128,2,    34.8342,2,     -999.0,9,     -999.0,-999.0000,     -999.0,     -999.0,9,     -999.0,     -999.0,9,     -999.0,  -999.0,9,     -999.0,     -999.0,9,     -999.0
33RO20150525,     P16N.2,     163,          2,          3,          3,2,20150612,       0431,       47.5,       -152,       5048,  3933.6,    1.488,  34.6802,2,  34.6794,2,    137.9,2,   136.7,2,  161.76,6,   36.75,6,    0.01,6,    2.52,6,-999.000,9,-999.000,9,-999.000,9,  2337.3,2,  2424.6,2,   7.5508,2,    25.03,-999.000,9,-999.0000,9,   -0.05,2,  -230.1,2,     2.1,-999.0000,9,-999.0000,    38.1,2,     -999.0,9,-999.000,9, 20150612,     0454,-999.000,   1.4879,2,    34.8429,2,     -999.0,9,     -999.0,-999.0000,     -999.0,     -999.0,9,     -999.0,     -999.0,9,     -999.0,  -999.0,9,     -999.0,     -999.0,9,     -999.0
33RO20150525,     P16N.2,     163,          2,          2,          2,2,20150612,       0431,       47.5,       -152,       5048,  4515.7,   1.5236,  34.6853,2,  34.6927,4,    141.8,2,     141,2,  165.47,6,   36.46,6,    0.01,6,    2.49,6,-999.000,9,-999.000,9,-999.000,9,  2335.6,2,  2429.8,6,   7.5644,6,    25.02,-999.000,9,-999.0000,9,    0.05,2,  -205.4,3,     2.2,-999.0000,9,-999.0000,    38.0,2,     -999.0,9,-999.000,9, 20150612,     0443,-999.000,   1.5236,2,    34.8563,2,     -999.0,9,     -999.0,-999.0000,     -999.0,     -999.0,9,     -999.0,     -999.0,9,     -999.0,  -999.0,9,     -999.0,     -999.0,9,     -999.0
33RO20150525,     P16N.2,     163,          2,          1,          1,2,20150612,       0431,       47.5,       -152,       5048,  5135.6,   1.5868,  34.6878,2,   34.687,2,    143.1,2,     143,2,  166.74,6,   36.36,6,    0.02,6,    2.48,6,-999.000,9,-999.000,9,-999.000,9,  2335.1,6,  2431.8,2,   7.5682,2,    25.03,-999.000,9,-999.0000,9,    0.04,2,  -212.9,2,     1.8,-999.0000,9,-999.0000,    39.9,2,     -999.0,9,-999.000,9, 20150612,     0431,-999.000,   1.5866,2,    34.8506,2,     -999.0,9,     -999.0,-999.0000,     -999.0,     -999.0,9,     -999.0,     -999.0,9,     -999.0,  -999.0,9,     -999.0,     -999.0,9,     -999.0