BOTTLE,20220330CCHSIOCBG
EXPOCODE,SECT_ID,STNNBR,CASTNO,SAMPNO,BTLNBR,BTLNBR_FLAG_W,DATE,TIME,LATITUDE,LONGITUDE,DEPTH,CTDPRS,CTDTMP,CTDSAL,CTDSAL_FLAG_W,SALNTY,SALNTY_FLAG_W,CTDOXY,CTDOXY_FLAG_W,OXYGEN,OXYGEN_FLAG_W,SILCAT,SILCAT_FLAG_W,NITRAT,NITRAT_FLAG_W,NITRIT,NITRIT_FLAG_W,PHSPHT,PHSPHT_FLAG_W,CFC-11,CFC-11_FLAG_W,CFC-12,CFC-12_FLAG_W,SF6,SF6_FLAG_W,TCARBN,TCARBN_FLAG_W,ALKALI,ALKALI_FLAG_W,PH_TOT,PH_TOT_FLAG_W,PH_TMP,TRITUM,TRITUM_FLAG_W,HELIUM,HELIUM_FLAG_W,DELC13,DELC13_FLAG_W,DELC14,DELC14_FLAG_W,C14ERR,NEON,NEON_FLAG_W,NEONER,DOC,DOC_FLAG_W,N2O,N2O_FLAG_W,ARGON,ARGON_FLAG_W,BTL_DATE,BTL_TIME,TRITER,SBE35,SBE35_FLAG_W,SALTREF,SALTREF_FLAG_W,DELHE3,DELHE3_FLAG_W,DELHER,HELIER,ARGONER,KRYPTON,KRYPTON_FLAG_W,KRYPTONER,XENON,XENON_FLAG_W,XENONER,14C-DOC,14C-DOC_FLAG_W,14C-DOCERR,13C-DOC,13C-DOC_FLAG_W,13C-DOCERR
,,,,,,,,,,,METERS,DBAR,ITS-90,PSS-78,,PSS-78,,UMOL/KG,,UMOL/KG,,UMOL/KG,,UMOL/KG,,UMOL/KG,,UMOL/KG,,PMOL/KG,,PMOL/KG,,FMOL/KG,,UMOL/KG,,UMOL/KG,,,,DEG C,TU,,NMOL/KG,,/MILLE,,/MILLE,,/MILLE,NMOL/KG,,NMOL/KG,UMOL/KG,,NMOL/KG,,UMOL/KG,,,,TU,ITS-90,,G/KG,,PERCNT,,PERCNT,NMOL/KG,UMOL/KG,NMOL/KG,,NMOL/KG,NMOL/KG,,NMOL/KG,/MILLE,,/MILLE,/MILLE,,/MILLE
33RO20150525,     P16N.2,     172,          1,         24,         24,2,20150614,       1958,    52.0001,       -152,       5116,       3,   8.1246,  32.7226,2,  32.7229,2,    306.3,2,   305.7,2,   31.22,2,   15.27,2,    0.18,2,    1.38,2,   4.128,6,   2.314,6,   2.681,6,  2051.7,6,  2207.2,2,   7.7811,2,    25.03,-999.000,9,-999.0000,9, -999.00,9,  -999.0,9,  -999.0,-999.0000,9,-999.0000,  -999.0,9,     11.863,3,-999.000,9, 20150614,     2159,-999.000,   8.1243,2,    32.8772,2,     -999.0,9,     -999.0,-999.0000,     -999.0,     -999.0,9,     -999.0,     -999.0,9,     -999.0,  -999.0,9,     -999.0,     -999.0,9,     -999.0
33RO20150525,     P16N.2,     172,          1,         23,         23,2,20150614,       1958,    52.0001,       -152,       5116,    18.4,   8.0737,  32.7211,2,  32.7218,2,    305.7,2,     306,2,   31.13,2,   15.27,2,    0.18,2,    1.39,2,   4.144,2,   2.306,2,   2.749,2,  2051.6,2,  2205.9,2,   7.7819,2,    25.02,-999.000,9,-999.0000,9, -999.00,9,  -999.0,9,  -999.0,-999.0000,9,-999.0000,  -999.0,9,     11.910,3,-999.000,9, 20150614,     2157,-999.000,   8.0723,2,    32.8761,2,     -999.0,9,     -999.0,-999.0000,     -999.0,     -999.0,9,     -999.0,     -999.0,9,     -999.0,  -999.0,9,     -999.0,     -999.0,9,     -999.0
33RO20150525,     P16N.2,     172,          1,         22,         22,2,20150614,       1958,    52.0001,       -152,       5116,    41.3,   6.2352,  32.7054,2,  32.7079,2,    310.2,2,   309.3,2,   28.29,2,   16.15,2,    0.13,2,    1.46,2,   4.463,2,   2.466,2,   2.872,2,  2069.3,2,  2205.4,2,   7.7283,6,    25.04,-999.000,9,-999.0000,9, -999.00,9,  -999.0,9,  -999.0,-999.0000,9,-999.0000,  -999.0,9,     12.817,3,-999.000,9, 20150614,     2155,-999.000,   6.1832,2,    32.8622,2,     -999.0,9,     -999.0,-999.0000,     -999.0,     -999.0,9,     -999.0,     -999.0,9,     -999.0,  -999.0,9,     -999.0,     -999.0,9,     -999.0
33RO20150525,     P16N.2,     172,          1,         21,         21,2,20150614,       1958,    52.0001,       -152,       5116,    67.3,   5.6889,  32.7191,2,  32.7212,2,    302.3,2,   301.4,2,   28.29,2,   16.44,2,    0.14,2,    1.49,2,   4.492,2,   2.482,2,   2.835,2,  2076.4,2,  2204.5,6,   7.7099,2,    25.04,-999.000,9,-999.0000,9, -999.00,9,  -999.0,9,  -999.0,-999.0000,9,-999.0000,  -999.0,9,     13.148,3,-999.000,9, 20150614,     2153,-999.000,   5.7083,2,    32.8755,2,     -999.0,9,     -999.0,-999.0000,     -999.0,     -999.0,9,     -999.0,     -999.0,9,     -999.0,  -999.0,9,     -999.0,     -999.0,9,     -999.0
33RO20150525,     P16N.2,     172,          1,         20,         20,2,20150614,       1958,    52.0001,       -152,       5116,    91.9,   4.8505,  33.0298,2,  33.1348,4,    222.7,2,   214.6,2,   45.89,2,   27.01,2,    0.09,2,    2.06,2,   4.035,2,   2.209,2,   2.293,2,  2162.4,2,  2237.6,2,   7.5346,2,    25.04,-999.000,9,-999.0000,9, -999.00,9,  -999.0,9,  -999.0,-999.0000,9,-999.0000,  -999.0,9,     21.765,3,-999.000,9, 20150614,     2151,-999.000,    4.827,2,    33.2911,2,     -999.0,9,     -999.0,-999.0000,     -999.0,     -999.0,9,     -999.0,     -999.0,9,     -999.0,  -999.0,9,     -999.0,     -999.0,9,     -999.0
33RO20150525,     P16N.2,     172,          1,         19,         19,2,20150614,       1958,    52.0001,       -152,       5116,   129.3,   3.6703,  33.7205,2,  33.7204,2,     93.1,2,    93.6,2,    75.7,2,   39.91,2,    0.01,2,    2.79,2,   3.102,2,   1.638,2,   1.232,2,  2281.1,2,  2279.3,2,   7.2967,2,    25.05,-999.000,9,-999.0000,9, -999.00,9,  -999.0,9,  -999.0,-999.0000,9,-999.0000,  -999.0,9,     34.639,3,-999.000,9, 20150614,     2149,-999.000,   3.6721,2,    33.8794,2,     -999.0,9,     -999.0,-999.0000,     -999.0,     -999.0,9,     -999.0,     -999.0,9,     -999.0,  -999.0,9,     -999.0,     -999.0,9,     -999.0
33RO20150525,     P16N.2,     172,          1,         18,         18,2,20150614,       1958,    52.0001,       -152,       5116,   199.7,   3.7082,  33.8656,2,  33.8623,2,     46.8,2,    46.4,2,   88.21,2,   43.62,2,    0.01,2,    2.99,2,   2.404,2,   1.237,2,   0.815,2,  2318.2,2,  2292.7,2,   7.2323,6,    25.04,-999.000,9,-999.0000,9, -999.00,9,  -999.0,9,  -999.0,-999.0000,9,-999.0000,  -999.0,9,     40.060,3,-999.000,9, 20150614,     2146,-999.000,   3.7091,2,     34.022,2,     -999.0,9,     -999.0,-999.0000,     -999.0,     -999.0,9,     -999.0,     -999.0,9,     -999.0,  -999.0,9,     -999.0,     -999.0,9,     -999.0
33RO20150525,     P16N.2,     172,          1,         17,         17,2,20150614,       1958,    52.0001,       -152,       5116,   274.8,    3.756,   33.969,2,  33.9706,2,     28.8,2,    27.6,2,   96.71,2,   44.59,2,    0.01,2,    3.06,2,   1.854,2,   0.935,2,   0.571,2,  2335.1,2,  2305.8,2,   7.2228,2,    25.03,-999.000,9,-999.0000,9, -999.00,9,  -999.0,9,  -999.0,-999.0000,9,-999.0000,  -999.0,9,     42.983,3,-999.000,9, 20150614,     2143,-999.000,   3.7558,2,    34.1308,2,     -999.0,9,     -999.0,-999.0000,     -999.0,     -999.0,9,     -999.0,     -999.0,9,     -999.0,  -999.0,9,     -999.0,     -999.0,9,     -999.0
33RO20150525,     P16N.2,     172,          1,         16,         16,2,20150614,       1958,    52.0001,       -152,       5116,   367.2,   3.6728,  34.0594,2,  34.0579,2,     27.6,2,    26.8,2,  105.12,2,    44.2,2,       0,2,    3.05,2,   1.396,2,   0.701,2,   0.361,2,  2339.4,2,  2319.3,2,   7.2446,6,    25.04,-999.000,9,-999.0000,9, -999.00,9,  -999.0,9,  -999.0,-999.0000,9,-999.0000,  -999.0,9,     43.971,3,-999.000,9, 20150614,     2140,-999.000,   3.6724,2,    34.2185,6,     -999.0,9,     -999.0,-999.0000,     -999.0,     -999.0,9,     -999.0,     -999.0,9,     -999.0,  -999.0,9,     -999.0,     -999.0,9,     -999.0
33RO20150525,     P16N.2,     172,          1,         15,         15,2,20150614,       1958,    52.0001,       -152,       5116,   467.1,   3.5621,  34.1449,2,  34.1556,2,     23.7,2,    23.3,2,  113.32,2,    44.1,2,       0,2,    3.04,2,   0.976,2,   0.484,2,   0.221,2,  2348.6,2,  2331.9,2,   7.2581,2,    25.03,-999.000,9,-999.0000,9, -999.00,9,  -999.0,9,  -999.0,-999.0000,9,-999.0000,  -999.0,9,     45.226,3,-999.000,9, 20150614,     2137,-999.000,   3.5623,2,    34.3166,2,     -999.0,9,     -999.0,-999.0000,     -999.0,     -999.0,9,     -999.0,     -999.0,9,     -999.0,  -999.0,9,     -999.0,     -999.0,9,     -999.0
33RO20150525,     P16N.2,     172,          1,         14,         14,2,20150614,       1958,    52.0001,       -152,       5116,   599.8,   3.3381,  34.2409,2,  34.2413,2,       20,2,    19.7,2,  124.66,2,   44.29,2,       0,2,    3.05,2,   0.546,6,   0.268,6,   0.117,6,    2360,2,  2349.6,2,    7.271,6,    25.05,-999.000,9,-999.0000,9, -999.00,9,  -999.0,9,  -999.0,-999.0000,9,-999.0000,  -999.0,9,     46.444,3,-999.000,9, 20150614,     2133,-999.000,   3.3381,2,    34.4027,2,     -999.0,9,     -999.0,-999.0000,     -999.0,     -999.0,9,     -999.0,     -999.0,9,     -999.0,  -999.0,9,     -999.0,     -999.0,9,     -999.0
33RO20150525,     P16N.2,     172,          1,         13,         13,2,20150614,       1958,    52.0001,       -152,       5116,   749.9,   3.0899,  34.3241,2,  34.3267,2,       19,2,    18.7,2,  133.94,2,   44.39,2,       0,2,    3.07,2,   0.275,2,   0.134,2,   0.066,2,  2371.1,2,  2364.5,2,   7.2832,2,    25.05,-999.000,9,-999.0000,9, -999.00,9,  -999.0,9,  -999.0,-999.0000,9,-999.0000,  -999.0,9,     46.455,3,-999.000,9, 20150614,     2129,-999.000,   3.0897,2,    34.4886,2,     -999.0,9,     -999.0,-999.0000,     -999.0,     -999.0,9,     -999.0,     -999.0,9,     -999.0,  -999.0,9,     -999.0,     -999.0,9,     -999.0
33RO20150525,     P16N.2,     172,          1,         12,         12,2,20150614,       1958,    52.0001,       -152,       5116,   900.3,   2.8468,  34.3855,2,  34.3865,2,     18.1,2,    17.6,2,  142.24,2,   44.58,2,       0,2,    3.06,2,   0.123,2,    0.06,2,       0,2,  2378.6,2,  2376.1,2,   7.2912,2,    25.06,-999.000,9,-999.0000,9, -999.00,9,  -999.0,9,  -999.0,-999.0000,9,-999.0000,  -999.0,9,     46.330,3,-999.000,9, 20150614,     2125,-999.000,   2.8474,2,    34.5486,2,     -999.0,9,     -999.0,-999.0000,     -999.0,     -999.0,9,     -999.0,     -999.0,9,     -999.0,  -999.0,9,     -999.0,     -999.0,9,     -999.0
33RO20150525,     P16N.2,     172,          1,         11,         11,2,20150614,       1958,    52.0001,       -152,       5116,  1049.8,   2.6325,  34.4307,2,  34.4285,2,     21.2,2,    21.3,2,  148.79,2,   44.58,2,       0,2,    3.06,2,   0.079,2,   0.038,2,   0.007,2,  2384.2,2,  2385.9,2,   7.3011,2,    25.05,-999.000,9,-999.0000,9, -999.00,9,  -999.0,9,  -999.0,-999.0000,9,-999.0000,  -999.0,9,     44.922,3,-999.000,9, 20150614,     2121,-999.000,   2.6325,2,    34.5908,2,     -999.0,9,     -999.0,-999.0000,     -999.0,     -999.0,9,     -999.0,     -999.0,9,     -999.0,  -999.0,9,     -999.0,     -999.0,9,     -999.0
33RO20150525,     P16N.2,     172,          1,         10,         10,2,20150614,       1958,    52.0001,       -152,       5116,  1233.2,   2.4481,  34.4714,2,  34.4762,2,     25.1,2,    24.6,2,  154.45,2,   44.48,2,       0,2,    3.05,2,   0.044,2,   0.023,2,   0.024,2,  2387.2,2,  2392.8,2,   7.3136,2,    25.02,-999.000,9,-999.0000,9, -999.00,9,  -999.0,9,  -999.0,-999.0000,9,-999.0000,  -999.0,9,     43.793,3,-999.000,9, 20150614,     2116,-999.000,   2.4479,2,    34.6387,2,     -999.0,9,     -999.0,-999.0000,     -999.0,     -999.0,9,     -999.0,     -999.0,9,     -999.0,  -999.0,9,     -999.0,     -999.0,9,     -999.0
33RO20150525,     P16N.2,     172,          1,          9,          9,2,20150614,       1958,    52.0001,       -152,       5116,  1499.4,   2.2297,  34.5213,2,  34.5203,2,     32.2,2,    32.5,2,  160.51,2,   44.18,2,       0,2,       3,2,   0.014,2,   0.008,2,    0.02,3,  2390.1,6,  2401.8,2,   7.3333,2,    25.04,-999.000,9,-999.0000,9, -999.00,9,  -999.0,9,  -999.0,-999.0000,9,-999.0000,  -999.0,9,     41.407,3,-999.000,9, 20150614,     2111,-999.000,   2.2295,2,    34.6831,2,     -999.0,9,     -999.0,-999.0000,     -999.0,     -999.0,9,     -999.0,     -999.0,9,     -999.0,  -999.0,9,     -999.0,     -999.0,9,     -999.0
33RO20150525,     P16N.2,     172,          1,          8,          8,2,20150614,       1958,    52.0001,       -152,       5116,  1866.9,   2.0324,  34.5667,2,  34.5641,2,     43.5,2,    43.9,2,  165.49,2,    43.6,2,       0,2,    2.97,2,   0.001,2,   0.001,2,       0,2,  2388.6,2,  2409.6,2,   7.3603,2,    25.04,-999.000,9,-999.0000,9, -999.00,9,  -999.0,9,  -999.0,-999.0000,9,-999.0000,  -999.0,9,     38.079,3,-999.000,9, 20150614,     2103,-999.000,   2.0318,2,    34.7271,2,     -999.0,9,     -999.0,-999.0000,     -999.0,     -999.0,9,     -999.0,     -999.0,9,     -999.0,  -999.0,9,     -999.0,     -999.0,9,     -999.0
33RO20150525,     P16N.2,     172,          1,          7,          7,2,20150614,       1958,    52.0001,       -152,       5116,  2266.4,   1.8202,  34.6095,2,  34.6085,2,     66.1,2,    66.1,2,  167.83,2,   42.13,2,       0,2,    2.86,2,       0,2,       0,2,       0,2,  2379.3,2,  2417.2,2,    7.408,2,    25.03,-999.000,9,-999.0000,9, -999.00,9,  -999.0,9,  -999.0,-999.0000,9,-999.0000,  -999.0,9,     32.160,3,-999.000,9, 20150614,     2055,-999.000,   1.8206,2,    34.7717,2,     -999.0,9,     -999.0,-999.0000,     -999.0,     -999.0,9,     -999.0,     -999.0,9,     -999.0,  -999.0,9,     -999.0,     -999.0,9,     -999.0
33RO20150525,     P16N.2,     172,          1,          6,          6,2,20150614,       1958,    52.0001,       -152,       5116,  2666.4,   1.6689,  34.6379,2,  34.6357,2,     89.8,2,    90.1,2,  166.65,2,   40.56,2,       0,2,    2.75,2,       0,2,       0,2,       0,2,  2365.9,2,  2420.4,2,   7.4568,3,    25.03,-999.000,9,-999.0000,9, -999.00,9,  -999.0,9,  -999.0,-999.0000,9,-999.0000,  -999.0,9,     27.685,3,-999.000,9, 20150614,     2047,-999.000,   1.6687,2,     34.799,2,     -999.0,9,     -999.0,-999.0000,     -999.0,     -999.0,9,     -999.0,     -999.0,9,     -999.0,  -999.0,9,     -999.0,     -999.0,9,     -999.0
33RO20150525,     P16N.2,     172,          1,          5,          5,2,20150614,       1958,    52.0001,       -152,       5116,  3067.8,   1.5681,  34.6575,2,  34.6623,3,    109.7,2,   110.1,2,   164.6,2,   39.19,2,       0,2,    2.66,2,       0,2,       0,2,       0,2,  2353.4,2,  2420.6,2,   7.4959,2,    25.04,-999.000,9,-999.0000,9, -999.00,9,  -999.0,9,  -999.0,-999.0000,9,-999.0000,  -999.0,9,     24.795,3,-999.000,9, 20150614,     2039,-999.000,    1.568,2,    34.8257,2,     -999.0,9,     -999.0,-999.0000,     -999.0,     -999.0,9,     -999.0,     -999.0,9,     -999.0,  -999.0,9,     -999.0,     -999.0,9,     -999.0
33RO20150525,     P16N.2,     172,          1,          4,          4,2,20150614,       1958,    52.0001,       -152,       5116,  3532.8,   1.5057,   34.672,2,  34.6715,2,    129.2,2,   127.1,2,  161.76,6,   37.83,6,       0,6,    2.58,6,       0,2,       0,2,       0,2,  2341.6,2,  2422.2,6,   7.5311,2,       25,-999.000,9,-999.0000,9, -999.00,9,  -999.0,9,  -999.0,-999.0000,9,-999.0000,  -999.0,9,     22.870,3,-999.000,9, 20150614,     2030,-999.000,   1.5055,2,     34.835,6,     -999.0,9,     -999.0,-999.0000,     -999.0,     -999.0,9,     -999.0,     -999.0,9,     -999.0,  -999.0,9,     -999.0,     -999.0,9,     -999.0
33RO20150525,     P16N.2,     172,          1,          3,          3,2,20150614,       1958,    52.0001,       -152,       5116,  4033.5,   1.5051,  34.6794,2,  34.6787,2,    136.6,2,   136.2,2,  161.47,6,   37.24,6,       0,6,    2.53,6,       0,2,   0.001,2,       0,2,    2338,2,    2425,2,   7.5488,6,    25.04,-999.000,9,-999.0000,9, -999.00,9,  -999.0,9,  -999.0,-999.0000,9,-999.0000,  -999.0,9,     21.869,3,-999.000,9, 20150614,     2020,-999.000,   1.5052,2,    34.8422,2,     -999.0,9,     -999.0,-999.0000,     -999.0,     -999.0,9,     -999.0,     -999.0,9,     -999.0,  -999.0,9,     -999.0,     -999.0,9,     -999.0
33RO20150525,     P16N.2,     172,          1,          2,          2,2,20150614,       1958,    52.0001,       -152,       5116,  4609.5,   1.5425,  34.6836,2,  34.6817,2,    141.3,2,   141.2,2,  160.98,6,   36.95,6,       0,6,    2.51,6,   0.002,2,   0.002,2,       0,2,  2334.1,2,  2422.4,2,   7.5582,2,    25.04,-999.000,9,-999.0000,9, -999.00,9,  -999.0,9,  -999.0,-999.0000,9,-999.0000,  -999.0,9,     21.573,3,-999.000,9, 20150614,     2009,-999.000,   1.5425,2,    34.8452,2,     -999.0,9,     -999.0,-999.0000,     -999.0,     -999.0,9,     -999.0,     -999.0,9,     -999.0,  -999.0,9,     -999.0,     -999.0,9,     -999.0
33RO20150525,     P16N.2,     172,          1,          1,          1,2,20150614,       1958,    52.0001,       -152,       5116,  5204.8,   1.6035,  34.6857,2,  34.6961,4,    144.6,2,   144.3,2,   160.1,6,   36.65,6,       0,6,     2.5,6,   0.003,6,   0.002,6,       0,6,  2333.1,6,  2422.4,2,   7.5612,2,    25.05,-999.000,9,-999.0000,9, -999.00,9,  -999.0,9,  -999.0,-999.0000,9,-999.0000,  -999.0,9,     21.202,3,-999.000,9, 20150614,     1958,-999.000,   1.6035,2,    34.8597,2,     -999.0,9,     -999.0,-999.0000,     -999.0,     -999.0,9,     -999.0,     -999.0,9,     -999.0,  -999.0,9,     -999.0,     -999.0,9,     -999.0