BOTTLE,20220330CCHSIOCBG
EXPOCODE,SECT_ID,STNNBR,CASTNO,SAMPNO,BTLNBR,BTLNBR_FLAG_W,DATE,TIME,LATITUDE,LONGITUDE,DEPTH,CTDPRS,CTDTMP,CTDSAL,CTDSAL_FLAG_W,SALNTY,SALNTY_FLAG_W,CTDOXY,CTDOXY_FLAG_W,OXYGEN,OXYGEN_FLAG_W,SILCAT,SILCAT_FLAG_W,NITRAT,NITRAT_FLAG_W,NITRIT,NITRIT_FLAG_W,PHSPHT,PHSPHT_FLAG_W,CFC-11,CFC-11_FLAG_W,CFC-12,CFC-12_FLAG_W,SF6,SF6_FLAG_W,TCARBN,TCARBN_FLAG_W,ALKALI,ALKALI_FLAG_W,PH_TOT,PH_TOT_FLAG_W,PH_TMP,TRITUM,TRITUM_FLAG_W,HELIUM,HELIUM_FLAG_W,DELC13,DELC13_FLAG_W,DELC14,DELC14_FLAG_W,C14ERR,NEON,NEON_FLAG_W,NEONER,DOC,DOC_FLAG_W,N2O,N2O_FLAG_W,ARGON,ARGON_FLAG_W,BTL_DATE,BTL_TIME,TRITER,SBE35,SBE35_FLAG_W,SALTREF,SALTREF_FLAG_W,DELHE3,DELHE3_FLAG_W,DELHER,HELIER,ARGONER,KRYPTON,KRYPTON_FLAG_W,KRYPTONER,XENON,XENON_FLAG_W,XENONER,14C-DOC,14C-DOC_FLAG_W,14C-DOCERR,13C-DOC,13C-DOC_FLAG_W,13C-DOCERR
,,,,,,,,,,,METERS,DBAR,ITS-90,PSS-78,,PSS-78,,UMOL/KG,,UMOL/KG,,UMOL/KG,,UMOL/KG,,UMOL/KG,,UMOL/KG,,PMOL/KG,,PMOL/KG,,FMOL/KG,,UMOL/KG,,UMOL/KG,,,,DEG C,TU,,NMOL/KG,,/MILLE,,/MILLE,,/MILLE,NMOL/KG,,NMOL/KG,UMOL/KG,,NMOL/KG,,UMOL/KG,,,,TU,ITS-90,,G/KG,,PERCNT,,PERCNT,NMOL/KG,UMOL/KG,NMOL/KG,,NMOL/KG,NMOL/KG,,NMOL/KG,/MILLE,,/MILLE,/MILLE,,/MILLE
33RO20150525,     P16N.2,     149,          1,         24,         24,2,20150607,       1815,    40.4999,  -151.9999,       5088,     3.4,  13.6403,  33.3653,2,  33.3672,2,    264.7,2,   266.4,2,    2.64,2,     0.1,2,    0.03,2,    0.23,2,   3.177,3,   1.769,2,   2.202,2,  2010.9,6,  2215.9,2,   7.8959,2,    25.07,-999.000,9,-999.0000,9, -999.00,9,  -999.0,9,  -999.0,-999.0000,9,-999.0000,    58.3,2,      9.570,3,-999.000,9, 20150607,     2014,-999.000,  13.6403,2,    33.5245,2,     -999.0,9,     -999.0,-999.0000,     -999.0,     -999.0,9,     -999.0,     -999.0,9,     -999.0,  -999.0,9,     -999.0,     -999.0,9,     -999.0
33RO20150525,     P16N.2,     149,          1,         23,         23,2,20150607,       1815,    40.4999,  -151.9999,       5088,    25.3,   13.424,  33.4259,2,  33.4377,2,    266.6,2,     271,2,    2.74,2,    0.29,2,    0.04,2,    0.25,2,-999.000,9,-999.000,9,-999.000,9,  2016.6,2,  2221.5,2,   7.8924,2,    25.07,-999.000,9,-999.0000,9, -999.00,9,  -999.0,9,  -999.0,-999.0000,9,-999.0000,    55.0,2,     -999.0,9,-999.000,9, 20150607,     2011,-999.000,  13.4161,2,    33.5954,2,     -999.0,9,     -999.0,-999.0000,     -999.0,     -999.0,9,     -999.0,     -999.0,9,     -999.0,  -999.0,9,     -999.0,     -999.0,9,     -999.0
33RO20150525,     P16N.2,     149,          1,         22,         22,2,20150607,       1815,    40.4999,  -151.9999,       5088,    50.8,  10.8102,  33.5708,2,  33.5808,2,    289.8,2,   289.4,2,    3.52,2,    2.84,2,    0.07,2,    0.45,2,   3.582,2,   1.974,2,   2.351,4,  2031.1,2,  2231.8,2,   7.8786,2,    25.07,-999.000,9,-999.0000,9, -999.00,9,  -999.0,9,  -999.0,-999.0000,9,-999.0000,    57.6,2,     10.723,3,-999.000,9, 20150607,     2009,-999.000,  10.7877,2,    33.7392,2,     -999.0,9,     -999.0,-999.0000,     -999.0,     -999.0,9,     -999.0,     -999.0,9,     -999.0,  -999.0,9,     -999.0,     -999.0,9,     -999.0
33RO20150525,     P16N.2,     149,          1,         21,         21,2,20150607,       1815,    40.4999,  -151.9999,       5088,    72.3,   9.9932,  33.5896,2,  33.5943,2,    272.7,2,   274.2,2,    5.77,2,    4.69,2,    0.18,2,    0.56,2,-999.000,9,-999.000,9,-999.000,9,  2047.5,2,  2230.9,2,   7.8405,2,    25.06,-999.000,9,-999.0000,9, -999.00,9,  -999.0,9,  -999.0,-999.0000,9,-999.0000,    53.8,2,     -999.0,9,-999.000,9, 20150607,     2008,-999.000,   9.9932,2,    33.7527,2,     -999.0,9,     -999.0,-999.0000,     -999.0,     -999.0,9,     -999.0,     -999.0,9,     -999.0,  -999.0,9,     -999.0,     -999.0,9,     -999.0
33RO20150525,     P16N.2,     149,          1,         20,         20,2,20150607,       1815,    40.4999,  -151.9999,       5088,   100.6,   9.9748,  33.6541,2,  33.6591,2,      267,2,   267.7,2,    6.65,2,    5.08,2,    0.47,2,    0.59,2,   3.593,2,   1.981,2,    2.34,4,  2054.3,2,    2234,2,   7.8308,2,    25.06,-999.000,9,-999.0000,9, -999.00,9,  -999.0,9,  -999.0,-999.0000,9,-999.0000,    52.9,2,     11.184,3,-999.000,9, 20150607,     2006,-999.000,   9.9795,2,    33.8178,2,     -999.0,9,     -999.0,-999.0000,     -999.0,     -999.0,9,     -999.0,     -999.0,9,     -999.0,  -999.0,9,     -999.0,     -999.0,9,     -999.0
33RO20150525,     P16N.2,     149,          1,         19,         19,2,20150607,       1815,    40.4999,  -151.9999,       5088,   151.5,  10.2075,  34.0936,2,  34.0947,2,    233.5,2,   233.4,2,   13.58,2,   12.41,2,    0.02,2,    0.92,2,   3.522,2,   1.913,2,   2.061,4,  2096.5,2,  2256.7,2,   7.7762,2,    25.01,-999.000,9,-999.0000,9, -999.00,9,  -999.0,9,  -999.0,-999.0000,9,-999.0000,    46.5,2,     14.252,3,-999.000,9, 20150607,     2004,-999.000,  10.2012,2,    34.2555,6,     -999.0,9,     -999.0,-999.0000,     -999.0,     -999.0,9,     -999.0,     -999.0,9,     -999.0,  -999.0,9,     -999.0,     -999.0,9,     -999.0
33RO20150525,     P16N.2,     149,          1,         18,         18,2,20150607,       1815,    40.4999,  -151.9999,       5088,   225.9,   9.3902,  34.0746,2,  34.0778,2,      215,2,   213.6,2,   20.91,2,   16.42,2,    0.01,2,    1.19,2,   3.428,2,   1.868,2,   1.791,4,    2122,2,  2265.1,2,    7.729,2,    25.01,-999.000,9,-999.0000,9, -999.00,9,  -999.0,9,  -999.0,-999.0000,9,-999.0000,    49.4,2,     19.942,3,-999.000,9, 20150607,     2001,-999.000,   9.3795,2,    34.2384,2,     -999.0,9,     -999.0,-999.0000,     -999.0,     -999.0,9,     -999.0,     -999.0,9,     -999.0,  -999.0,9,     -999.0,     -999.0,9,     -999.0
33RO20150525,     P16N.2,     149,          1,         17,         17,2,20150607,       1815,    40.4999,  -151.9999,       5088,   301.5,   8.1189,  34.0181,2,  34.0176,2,    181.2,2,   180.4,2,   33.03,2,   22.38,2,       0,2,    1.59,2,   3.365,2,   1.747,2,   1.371,4,  2160.9,2,  2271.4,2,   7.6383,6,    25.01,-999.000,9,-999.0000,9, -999.00,9,  -999.0,9,  -999.0,-999.0000,9,-999.0000,    45.9,2,     24.856,3,-999.000,9, 20150607,     1958,-999.000,   8.1415,2,     34.178,2,     -999.0,9,     -999.0,-999.0000,     -999.0,     -999.0,9,     -999.0,     -999.0,9,     -999.0,  -999.0,9,     -999.0,     -999.0,9,     -999.0
33RO20150525,     P16N.2,     149,          1,         16,         16,2,20150607,       1815,    40.4999,  -151.9999,       5088,   399.9,   6.5391,  33.9708,2,  33.9716,2,    141.8,2,   143.3,2,   49.75,2,   28.83,2,    0.02,2,    2.07,2,   3.057,2,   1.549,2,   1.023,4,    2211,2,    2281,2,   7.5422,2,    25.01,-999.000,9,-999.0000,9, -999.00,9,  -999.0,9,  -999.0,-999.0000,9,-999.0000,    46.3,2,     29.087,3,-999.000,9, 20150607,     1955,-999.000,   6.5275,2,    34.1318,2,     -999.0,9,     -999.0,-999.0000,     -999.0,     -999.0,9,     -999.0,     -999.0,9,     -999.0,  -999.0,9,     -999.0,     -999.0,9,     -999.0
33RO20150525,     P16N.2,     149,          1,         15,         15,2,20150607,       1815,    40.4999,  -151.9999,       5088,     500,   5.2149,   33.969,2,  33.9699,2,    108.7,2,   108.5,2,   68.42,2,    34.4,2,    0.01,2,    2.47,2,   2.517,2,   1.225,2,   0.712,4,  2254.9,2,  2296.1,2,   7.4361,6,    25.01,-999.000,9,-999.0000,9, -999.00,9,  -999.0,9,  -999.0,-999.0000,9,-999.0000,    45.9,2,     33.675,3,-999.000,9, 20150607,     1952,-999.000,   5.2152,2,    34.1301,2,     -999.0,9,     -999.0,-999.0000,     -999.0,     -999.0,9,     -999.0,     -999.0,9,     -999.0,  -999.0,9,     -999.0,     -999.0,9,     -999.0
33RO20150525,     P16N.2,     149,          1,         14,         14,2,20150607,       1815,    40.4999,  -151.9999,       5088,   649.8,   4.3909,   34.093,2,  34.0943,2,     55.6,2,    55.3,2,   91.38,2,   40.07,2,       0,2,    2.83,2,   1.387,2,   0.643,2,   0.286,4,  2307.7,2,  2318.8,2,   7.3391,2,       25,-999.000,9,-999.0000,9, -999.00,9,  -999.0,9,  -999.0,-999.0000,9,-999.0000,    41.6,2,     40.391,3,-999.000,9, 20150607,     1948,-999.000,   4.3915,2,    34.2551,2,     -999.0,9,     -999.0,-999.0000,     -999.0,     -999.0,9,     -999.0,     -999.0,9,     -999.0,  -999.0,9,     -999.0,     -999.0,9,     -999.0
33RO20150525,     P16N.2,     149,          1,         13,         13,2,20150607,       1815,    40.4999,  -151.9999,       5088,   801.1,   3.8143,  34.2139,2,  34.2149,2,     28.6,2,      28,2,  110.91,2,    42.9,2,       0,2,    3.03,2,   0.513,2,    0.23,2,   0.101,3,  2344.5,2,  2343.2,2,   7.2996,6,    25.01,-999.000,9,-999.0000,9, -999.00,9,  -999.0,9,  -999.0,-999.0000,9,-999.0000,    41.3,2,     45.727,3,-999.000,9, 20150607,     1944,-999.000,   3.8152,2,    34.3762,2,     -999.0,9,     -999.0,-999.0000,     -999.0,     -999.0,9,     -999.0,     -999.0,9,     -999.0,  -999.0,9,     -999.0,     -999.0,9,     -999.0
33RO20150525,     P16N.2,     149,          1,         12,         12,2,20150607,       1815,    40.4999,  -151.9999,       5088,   949.5,   3.3716,  34.2982,2,  34.3026,2,     18.4,2,    17.9,2,  125.37,2,   43.97,2,    0.01,2,     3.1,2,-999.000,9,-999.000,9,-999.000,9,  2365.8,2,  2361.9,2,    7.289,2,       25,-999.000,9,-999.0000,9, -999.00,9,  -999.0,9,  -999.0,-999.0000,9,-999.0000,    41.2,2,     -999.0,9,-999.000,9, 20150607,     1940,-999.000,   3.3709,2,    34.4643,2,     -999.0,9,     -999.0,-999.0000,     -999.0,     -999.0,9,     -999.0,     -999.0,9,     -999.0,  -999.0,9,     -999.0,     -999.0,9,     -999.0
33RO20150525,     P16N.2,     149,          1,         11,         11,2,20150607,       1815,    40.4999,  -151.9999,       5088,  1101.6,   2.9967,  34.3707,2,  34.3723,2,       11,2,    11.2,2,  138.55,2,   44.95,2,    0.01,2,    3.17,2,   0.047,2,   0.023,2,       0,2,  2383.9,6,  2377.7,2,   7.2828,6,       25,-999.000,9,-999.0000,9, -999.00,9,  -999.0,9,  -999.0,-999.0000,9,-999.0000,    39.0,2,     50.998,3,-999.000,9, 20150607,     1936,-999.000,    2.996,2,    34.5343,2,     -999.0,9,     -999.0,-999.0000,     -999.0,     -999.0,9,     -999.0,     -999.0,9,     -999.0,  -999.0,9,     -999.0,     -999.0,9,     -999.0
33RO20150525,     P16N.2,     149,          1,         10,         10,2,20150607,       1815,    40.4999,  -151.9999,       5088,  1300.8,    2.712,  34.4396,2,  34.4394,2,      9.6,2,     9.5,2,   148.8,2,   45.24,2,    0.01,2,    3.17,2,-999.000,9,-999.000,9,-999.000,9,    2395,2,  2390.8,2,   7.2863,2,    25.01,-999.000,9,-999.0000,9, -999.00,9,  -999.0,9,  -999.0,-999.0000,9,-999.0000,    38.3,2,     -999.0,9,-999.000,9, 20150607,     1932,-999.000,   2.7127,2,    34.6018,2,     -999.0,9,     -999.0,-999.0000,     -999.0,     -999.0,9,     -999.0,     -999.0,9,     -999.0,  -999.0,9,     -999.0,     -999.0,9,     -999.0
33RO20150525,     P16N.2,     149,          1,          9,          9,2,20150607,       1815,    40.4999,  -151.9999,       5088,  1600.9,   2.3462,  34.5279,2,  34.5308,2,     24.2,2,    23.7,2,  158.95,2,   44.55,2,    0.01,2,    3.11,2,-999.000,9,-999.000,9,-999.000,9,  2399.8,2,  2405.6,2,   7.3217,2,       25,-999.000,9,-999.0000,9, -999.00,9,  -999.0,9,  -999.0,-999.0000,9,-999.0000,    35.6,2,     -999.0,9,-999.000,9, 20150607,     1925,-999.000,   2.3467,2,    34.6937,2,     -999.0,9,     -999.0,-999.0000,     -999.0,     -999.0,9,     -999.0,     -999.0,9,     -999.0,  -999.0,9,     -999.0,     -999.0,9,     -999.0
33RO20150525,     P16N.2,     149,          1,          8,          8,2,20150607,       1815,    40.4999,  -151.9999,       5088,  2000.2,   1.9933,  34.5958,2,  34.5965,2,     54.6,2,    53.7,2,  166.47,2,   42.59,2,    0.01,2,    2.98,2,-999.000,9,-999.000,9,-999.000,9,  2388.7,2,  2418.8,2,   7.3894,6,       25,-999.000,9,-999.0000,9, -999.00,9,  -999.0,9,  -999.0,-999.0000,9,-999.0000,    36.8,2,     -999.0,9,-999.000,9, 20150607,     1917,-999.000,   1.9935,2,    34.7597,2,     -999.0,9,     -999.0,-999.0000,     -999.0,     -999.0,9,     -999.0,     -999.0,9,     -999.0,  -999.0,9,     -999.0,     -999.0,9,     -999.0
33RO20150525,     P16N.2,     149,          1,          7,          7,2,20150607,       1815,    40.4999,  -151.9999,       5088,  2400.7,   1.7635,  34.6292,2,  34.6309,2,     77.7,2,    78.6,2,  167.05,2,   41.13,2,       0,2,    2.86,2,-999.000,9,-999.000,9,-999.000,9,  2376.5,2,  2424.4,2,   7.4384,2,    25.01,-999.000,9,-999.0000,9, -999.00,9,  -999.0,9,  -999.0,-999.0000,9,-999.0000,    35.4,2,     -999.0,9,-999.000,9, 20150607,     1909,-999.000,   1.7633,2,    34.7941,2,     -999.0,9,     -999.0,-999.0000,     -999.0,     -999.0,9,     -999.0,     -999.0,9,     -999.0,  -999.0,9,     -999.0,     -999.0,9,     -999.0
33RO20150525,     P16N.2,     149,          1,          6,          6,2,20150607,       1815,    40.4999,  -151.9999,       5088,  2800.3,    1.616,  34.6509,2,  34.6626,4,     99.9,2,   100.9,2,  163.72,6,   39.56,6,    0.01,6,    2.75,6,-999.000,9,-999.000,9,-999.000,9,  2362.3,2,    2425,2,   7.4813,2,    25.01,-999.000,9,-999.0000,9, -999.00,9,  -999.0,9,  -999.0,-999.0000,9,-999.0000,    35.8,2,     -999.0,9,-999.000,9, 20150607,     1901,-999.000,   1.6161,2,    34.8261,2,     -999.0,9,     -999.0,-999.0000,     -999.0,     -999.0,9,     -999.0,     -999.0,9,     -999.0,  -999.0,9,     -999.0,     -999.0,9,     -999.0
33RO20150525,     P16N.2,     149,          1,          5,          5,2,20150607,       1815,    40.4999,  -151.9999,       5088,  3300.4,   1.5119,  34.6691,2,  34.6709,2,    121.7,2,   121.9,2,  161.38,6,    38.2,6,       0,6,    2.64,6,-999.000,9,-999.000,9,-999.000,9,  2348.6,2,  2426.2,2,   7.5228,2,    25.01,-999.000,9,-999.0000,9, -999.00,9,  -999.0,9,  -999.0,-999.0000,9,-999.0000,    36.7,2,     -999.0,9,-999.000,9, 20150607,     1852,-999.000,   1.5118,2,    34.8344,2,     -999.0,9,     -999.0,-999.0000,     -999.0,     -999.0,9,     -999.0,     -999.0,9,     -999.0,  -999.0,9,     -999.0,     -999.0,9,     -999.0
33RO20150525,     P16N.2,     149,          1,          4,          4,2,20150607,       1815,    40.4999,  -151.9999,       5088,  3800.9,   1.4846,  34.6796,2,  34.6839,3,    133.5,2,   134.4,2, -999.00,5, -999.00,5, -999.00,5, -999.00,5,-999.000,9,-999.000,9,-999.000,9,  2343.2,2,  2430.6,2,   7.5498,2,    25.01,-999.000,9,-999.0000,9, -999.00,9,  -999.0,9,  -999.0,-999.0000,9,-999.0000,    37.9,2,     -999.0,9,-999.000,9, 20150607,     1842,-999.000,   1.4843,2,    34.8474,2,     -999.0,9,     -999.0,-999.0000,     -999.0,     -999.0,9,     -999.0,     -999.0,9,     -999.0,  -999.0,9,     -999.0,     -999.0,9,     -999.0
33RO20150525,     P16N.2,     149,          1,          3,          3,2,20150607,       1815,    40.4999,  -151.9999,       5088,  4300.5,   1.5029,  34.6849,2,  34.6861,2,    139.5,2,   139.8,2, -999.00,5, -999.00,5, -999.00,5, -999.00,5,-999.000,9,-999.000,9,-999.000,9,  2340.2,2,  2435.2,6,   7.5627,2,    25.01,-999.000,9,-999.0000,9, -999.00,9,  -999.0,9,  -999.0,-999.0000,9,-999.0000,    37.0,2,     -999.0,9,-999.000,9, 20150607,     1832,-999.000,    1.503,2,    34.8497,6,     -999.0,9,     -999.0,-999.0000,     -999.0,     -999.0,9,     -999.0,     -999.0,9,     -999.0,  -999.0,9,     -999.0,     -999.0,9,     -999.0
33RO20150525,     P16N.2,     149,          1,          2,          2,2,20150607,       1815,    40.4999,  -151.9999,       5088,  4648.5,   1.5363,  34.6865,2,   34.687,2,    140.4,2,   140.5,2,  165.09,6,   37.02,6,    0.01,6,    2.54,6,-999.000,9,-999.000,9,-999.000,9,  2341.4,2,  2434.4,2,   7.5676,2,       25,-999.000,9,-999.0000,9, -999.00,9,  -999.0,9,  -999.0,-999.0000,9,-999.0000,    36.7,2,     -999.0,9,-999.000,9, 20150607,     1825,-999.000,   1.5363,2,    34.8506,2,     -999.0,9,     -999.0,-999.0000,     -999.0,     -999.0,9,     -999.0,     -999.0,9,     -999.0,  -999.0,9,     -999.0,     -999.0,9,     -999.0
33RO20150525,     P16N.2,     149,          1,          1,          1,2,20150607,       1815,    40.4999,  -151.9999,       5088,  5170.3,   1.5992,   34.687,2,  34.6906,3,    141.7,2,   141.9,2,  164.11,6,   36.93,6,    0.01,6,    2.54,6,-999.000,9,-999.000,9,-999.000,9,  2340.8,6,  2434.2,2,   7.5686,6,    25.01,-999.000,9,-999.0000,9, -999.00,9,  -999.0,9,  -999.0,-999.0000,9,-999.0000,    36.9,2,     -999.0,9,-999.000,9, 20150607,     1815,-999.000,    1.599,2,    34.8542,2,     -999.0,9,     -999.0,-999.0000,     -999.0,     -999.0,9,     -999.0,     -999.0,9,     -999.0,  -999.0,9,     -999.0,     -999.0,9,     -999.0