BOTTLE,20220330CCHSIOCBG
EXPOCODE,SECT_ID,STNNBR,CASTNO,SAMPNO,BTLNBR,BTLNBR_FLAG_W,DATE,TIME,LATITUDE,LONGITUDE,DEPTH,CTDPRS,CTDTMP,CTDSAL,CTDSAL_FLAG_W,SALNTY,SALNTY_FLAG_W,CTDOXY,CTDOXY_FLAG_W,OXYGEN,OXYGEN_FLAG_W,SILCAT,SILCAT_FLAG_W,NITRAT,NITRAT_FLAG_W,NITRIT,NITRIT_FLAG_W,PHSPHT,PHSPHT_FLAG_W,CFC-11,CFC-11_FLAG_W,CFC-12,CFC-12_FLAG_W,SF6,SF6_FLAG_W,TCARBN,TCARBN_FLAG_W,ALKALI,ALKALI_FLAG_W,PH_TOT,PH_TOT_FLAG_W,PH_TMP,TRITUM,TRITUM_FLAG_W,HELIUM,HELIUM_FLAG_W,DELC13,DELC13_FLAG_W,DELC14,DELC14_FLAG_W,C14ERR,NEON,NEON_FLAG_W,NEONER,DOC,DOC_FLAG_W,N2O,N2O_FLAG_W,ARGON,ARGON_FLAG_W,BTL_DATE,BTL_TIME,TRITER,SBE35,SBE35_FLAG_W,SALTREF,SALTREF_FLAG_W,DELHE3,DELHE3_FLAG_W,DELHER,HELIER,ARGONER,KRYPTON,KRYPTON_FLAG_W,KRYPTONER,XENON,XENON_FLAG_W,XENONER,14C-DOC,14C-DOC_FLAG_W,14C-DOCERR,13C-DOC,13C-DOC_FLAG_W,13C-DOCERR
,,,,,,,,,,,METERS,DBAR,ITS-90,PSS-78,,PSS-78,,UMOL/KG,,UMOL/KG,,UMOL/KG,,UMOL/KG,,UMOL/KG,,UMOL/KG,,PMOL/KG,,PMOL/KG,,FMOL/KG,,UMOL/KG,,UMOL/KG,,,,DEG C,TU,,NMOL/KG,,/MILLE,,/MILLE,,/MILLE,NMOL/KG,,NMOL/KG,UMOL/KG,,NMOL/KG,,UMOL/KG,,,,TU,ITS-90,,G/KG,,PERCNT,,PERCNT,NMOL/KG,UMOL/KG,NMOL/KG,,NMOL/KG,NMOL/KG,,NMOL/KG,/MILLE,,/MILLE,/MILLE,,/MILLE
33RO20150525,     P16N.2,     199,          2,         24,         24,2,20150621,       2026,    55.5603,  -142.6453,       3683,     3.1,  11.5261,   32.206,2,  32.2193,2,    286.5,2,   292.2,2,   11.85,2,    5.97,2,    0.09,2,    0.84,2,   3.664,6,    2.08,6,   2.471,6,  1993.4,6,  2172.7,2,   7.8495,2,    25.02,-999.000,9,-999.0000,9,    0.48,2,   -51.4,2,     1.9,-999.0000,9,-999.0000,    55.6,2,     11.076,3,-999.000,9, 20150621,     2207,-999.000,  11.5291,2,    32.3713,2,     -999.0,9,     -999.0,-999.0000,     -999.0,     -999.0,9,     -999.0,     -999.0,9,     -999.0,  -999.0,9,     -999.0,     -999.0,9,     -999.0
33RO20150525,     P16N.2,     199,          2,         23,         23,2,20150621,       2026,    55.5603,  -142.6453,       3683,    25.2,    7.439,  32.2937,2,   32.306,2,    313.3,2,   312.6,2,    14.1,2,    8.81,2,    0.12,2,       1,2,   4.184,2,   2.346,2,   2.733,2,    2015,2,    2173,2,   7.8019,2,    25.05,-999.000,9,-999.0000,9, -999.00,9,  -999.0,9,  -999.0,-999.0000,9,-999.0000,    55.2,2,     12.219,3,-999.000,9, 20150621,     2204,-999.000,   7.4391,2,    32.4583,2,     -999.0,9,     -999.0,-999.0000,     -999.0,     -999.0,9,     -999.0,     -999.0,9,     -999.0,  -999.0,9,     -999.0,     -999.0,9,     -999.0
33RO20150525,     P16N.2,     199,          2,         22,         22,2,20150621,       2026,    55.5603,  -142.6453,       3683,    50.1,   6.7081,  32.3294,2,  32.3293,2,    300.5,2,   301.8,2,   15.86,2,   10.47,2,    0.25,2,    1.12,2,   4.253,2,    2.39,2,    2.77,2,    2032,2,  2174.8,2,   7.7686,6,    25.05,-999.000,9,-999.0000,9, -999.00,9,  -999.0,9,  -999.0,-999.0000,9,-999.0000,    52.8,2,     12.543,3,-999.000,9, 20150621,     2202,-999.000,   6.7086,2,    32.4818,2,     -999.0,9,     -999.0,-999.0000,     -999.0,     -999.0,9,     -999.0,     -999.0,9,     -999.0,  -999.0,9,     -999.0,     -999.0,9,     -999.0
33RO20150525,     P16N.2,     199,          2,         21,         21,2,20150621,       2026,    55.5603,  -142.6453,       3683,    73.8,    6.336,   32.422,2,  32.4236,2,    292.4,2,   284.9,2,    18.4,2,   13.51,2,    0.16,2,    1.27,2,   4.203,2,   2.382,2,   2.701,2,  2050.4,2,  2179.8,6,   7.7258,2,    25.05,-999.000,9,-999.0000,9, -999.00,9,  -999.0,9,  -999.0,-999.0000,9,-999.0000,    54.0,2,     13.457,3,-999.000,9, 20150621,     2200,-999.000,   6.3372,2,    32.5765,2,     -999.0,9,     -999.0,-999.0000,     -999.0,     -999.0,9,     -999.0,     -999.0,9,     -999.0,  -999.0,9,     -999.0,     -999.0,9,     -999.0
33RO20150525,     P16N.2,     199,          2,         20,         20,2,20150621,       2026,    55.5603,  -142.6453,       3683,   125.3,   5.1701,   33.401,2,   33.398,2,    167.3,2,   168.7,2,   46.56,2,   29.73,2,    0.02,2,    2.17,2,    3.82,2,   2.064,2,   1.803,2,  2192.9,2,  2242.8,2,     7.47,2,    25.06,-999.000,9,-999.0000,9, -999.00,9,  -999.0,9,  -999.0,-999.0000,9,-999.0000,    47.2,2,     25.571,3,-999.000,9, 20150621,     2157,-999.000,   5.1736,2,    33.5554,2,     -999.0,9,     -999.0,-999.0000,     -999.0,     -999.0,9,     -999.0,     -999.0,9,     -999.0,  -999.0,9,     -999.0,     -999.0,9,     -999.0
33RO20150525,     P16N.2,     199,          2,         19,         19,2,20150621,       2026,    55.5603,  -142.6453,       3683,   149.9,   4.7149,   33.652,2,  33.6612,2,    134.3,2,    98.8,4,   58.09,2,   34.13,2,    0.02,2,    2.43,2,   3.469,2,   1.872,2,   1.477,2,  2237.3,2,  2264.8,2,   7.3945,2,    25.05,-999.000,9,-999.0000,9, -999.00,9,  -999.0,9,  -999.0,-999.0000,9,-999.0000,    44.5,2,     29.428,3,-999.000,9, 20150621,     2155,-999.000,   4.7151,2,      33.82,2,     -999.0,9,     -999.0,-999.0000,     -999.0,     -999.0,9,     -999.0,     -999.0,9,     -999.0,  -999.0,9,     -999.0,     -999.0,9,     -999.0
33RO20150525,     P16N.2,     199,          2,         18,         18,2,20150621,       2026,    55.5603,  -142.6453,       3683,   200.3,   4.3151,  33.7681,2,  33.7698,2,     96.8,2,    97.3,2,   68.35,2,   37.65,2,    0.01,2,    2.65,2,   3.104,2,   1.645,2,   1.196,2,  2268.7,2,  2276.9,2,     7.33,2,    25.02,-999.000,9,-999.0000,9, -999.00,9,  -999.0,9,  -999.0,-999.0000,9,-999.0000,    46.0,2,     33.170,3,-999.000,9, 20150621,     2152,-999.000,   4.3123,2,    33.9291,2,     -999.0,9,     -999.0,-999.0000,     -999.0,     -999.0,9,     -999.0,     -999.0,9,     -999.0,  -999.0,9,     -999.0,     -999.0,9,     -999.0
33RO20150525,     P16N.2,     199,          2,         17,         17,2,20150621,       2026,    55.5603,  -142.6453,       3683,   275.3,    3.947,  33.8465,2,  33.8463,2,     67.7,2,    66.3,2,   80.37,2,   40.77,2,    0.01,2,    2.85,2,   2.618,2,   1.365,2,   0.958,2,  2300.6,2,  2290.6,2,   7.2737,2,    25.05,-999.000,9,-999.0000,9, -999.00,9,  -999.0,9,  -999.0,-999.0000,9,-999.0000,    44.2,2,     36.975,3,-999.000,9, 20150621,     2149,-999.000,   3.9468,2,    34.0059,2,     -999.0,9,     -999.0,-999.0000,     -999.0,     -999.0,9,     -999.0,     -999.0,9,     -999.0,  -999.0,9,     -999.0,     -999.0,9,     -999.0
33RO20150525,     P16N.2,     199,          2,         16,         16,2,20150621,       2026,    55.5603,  -142.6453,       3683,   350.5,   3.9681,  33.9369,2,  33.9444,2,     44.4,2,    40.2,2,   88.68,2,   42.53,2,    0.01,2,    2.95,2,   2.061,2,   1.048,2,   0.614,2,    2320,2,  2300.1,2,   7.2481,2,    25.04,-999.000,9,-999.0000,9, -999.00,9,  -999.0,9,  -999.0,-999.0000,9,-999.0000,    43.2,2,     40.723,3,-999.000,9, 20150621,     2146,-999.000,   3.9669,2,    34.1044,6,     -999.0,9,     -999.0,-999.0000,     -999.0,     -999.0,9,     -999.0,     -999.0,9,     -999.0,  -999.0,9,     -999.0,     -999.0,9,     -999.0
33RO20150525,     P16N.2,     199,          2,         15,         15,2,20150621,       2026,    55.5603,  -142.6453,       3683,   425.5,   3.9658,  34.0344,2,  34.0365,2,     27.9,2,    26.2,2,   96.69,2,   43.21,2,    0.02,2,    3.02,2,   1.518,2,   0.754,2,    0.39,2,  2332.3,2,  2313.1,2,   7.2464,6,    25.05,-999.000,9,-999.0000,9, -999.00,9,  -999.0,9,  -999.0,-999.0000,9,-999.0000,    41.5,2,     43.304,3,-999.000,9, 20150621,     2144,-999.000,   3.9658,2,     34.197,2,     -999.0,9,     -999.0,-999.0000,     -999.0,     -999.0,9,     -999.0,     -999.0,9,     -999.0,  -999.0,9,     -999.0,     -999.0,9,     -999.0
33RO20150525,     P16N.2,     199,          2,         14,         14,2,20150621,       2026,    55.5603,  -142.6453,       3683,   500.2,   3.8567,  34.1024,2,  34.1042,2,     21.3,2,    21.1,2,  103.72,2,    43.4,2,    0.01,2,    3.03,2,   1.134,2,   0.556,2,   0.226,2,  2341.5,2,  2324.5,2,   7.2492,2,    25.05,-999.000,9,-999.0000,9, -999.00,9,  -999.0,9,  -999.0,-999.0000,9,-999.0000,    40.7,2,     44.882,3,-999.000,9, 20150621,     2141,-999.000,   3.8565,2,    34.2651,2,     -999.0,9,     -999.0,-999.0000,     -999.0,     -999.0,9,     -999.0,     -999.0,9,     -999.0,  -999.0,9,     -999.0,     -999.0,9,     -999.0
33RO20150525,     P16N.2,     199,          2,         13,         13,2,20150621,       2026,    55.5603,  -142.6453,       3683,   675.2,   3.5357,  34.2435,2,  34.2437,2,     15.2,2,      15,2,  120.03,2,   43.69,2,    0.01,2,    3.07,2,   0.439,2,   0.214,2,   0.076,2,  2359.9,2,  2348.4,2,    7.269,6,    25.04,-999.000,9,-999.0000,9, -999.00,9,  -999.0,9,  -999.0,-999.0000,9,-999.0000,    39.9,2,     47.232,3,-999.000,9, 20150621,     2136,-999.000,   3.5357,2,    34.4052,2,     -999.0,9,     -999.0,-999.0000,     -999.0,     -999.0,9,     -999.0,     -999.0,9,     -999.0,  -999.0,9,     -999.0,     -999.0,9,     -999.0
33RO20150525,     P16N.2,     199,          2,         12,         12,2,20150621,       2026,    55.5603,  -142.6453,       3683,   799.8,   3.2944,  34.3007,2,  34.3007,2,     14.4,2,    14.1,2,  128.14,2,   43.89,2,    0.01,2,    3.08,2,   0.259,2,   0.129,2,   0.047,2,  2367.6,2,  2360.3,2,   7.2739,6,    25.05,-999.000,9,-999.0000,9, -999.00,9,  -999.0,9,  -999.0,-999.0000,9,-999.0000,    39.7,2,     47.895,3,-999.000,9, 20150621,     2133,-999.000,   3.2944,2,    34.4624,2,     -999.0,9,     -999.0,-999.0000,     -999.0,     -999.0,9,     -999.0,     -999.0,9,     -999.0,  -999.0,9,     -999.0,     -999.0,9,     -999.0
33RO20150525,     P16N.2,     199,          2,         11,         11,2,20150621,       2026,    55.5603,  -142.6453,       3683,   950.3,    3.063,  34.3548,2,  34.3549,2,       14,2,    13.8,2,  135.76,2,   44.08,2,    0.01,2,     3.1,2,   0.136,2,   0.067,2,       0,2,  2375.5,2,  2372.2,2,   7.2808,2,    25.05,-999.000,9,-999.0000,9, -999.00,9,  -999.0,9,  -999.0,-999.0000,9,-999.0000,    39.4,2,     47.895,3,-999.000,9, 20150621,     2129,-999.000,   3.0639,2,    34.5169,2,     -999.0,9,     -999.0,-999.0000,     -999.0,     -999.0,9,     -999.0,     -999.0,9,     -999.0,  -999.0,9,     -999.0,     -999.0,9,     -999.0
33RO20150525,     P16N.2,     199,          2,         10,         10,2,20150621,       2026,    55.5603,  -142.6453,       3683,  1100.4,   2.8235,  34.4033,2,  34.4033,2,     15.7,2,      15,2,  143.28,2,   44.08,2,    0.01,2,    3.09,2,   0.073,2,   0.038,2,       0,2,  2382.4,6,  2381.2,2,   7.2893,2,    25.04,-999.000,9,-999.0000,9, -999.00,9,  -999.0,9,  -999.0,-999.0000,9,-999.0000,    37.9,2,     47.004,3,-999.000,9, 20150621,     2124,-999.000,   2.8231,2,    34.5655,2,     -999.0,9,     -999.0,-999.0000,     -999.0,     -999.0,9,     -999.0,     -999.0,9,     -999.0,  -999.0,9,     -999.0,     -999.0,9,     -999.0
33RO20150525,     P16N.2,     199,          2,          9,          9,2,20150621,       2026,    55.5603,  -142.6453,       3683,  1300.2,   2.5593,   34.453,2,   34.452,2,     19.8,2,    19.7,2,  151.29,2,   43.98,2,    0.01,2,    3.06,2,   0.044,2,   0.025,2,       0,2,  2388.2,2,  2390.1,2,   7.3016,6,    25.05,-999.000,9,-999.0000,9, -999.00,9,  -999.0,9,  -999.0,-999.0000,9,-999.0000,    37.6,2,     44.927,3,-999.000,9, 20150621,     2119,-999.000,   2.5593,2,    34.6144,2,     -999.0,9,     -999.0,-999.0000,     -999.0,     -999.0,9,     -999.0,     -999.0,9,     -999.0,  -999.0,9,     -999.0,     -999.0,9,     -999.0
33RO20150525,     P16N.2,     199,          2,          8,          8,2,20150621,       2026,    55.5603,  -142.6453,       3683,  1599.6,   2.2468,  34.5197,2,  34.5189,2,     30.8,2,    30.6,2,  159.69,2,   43.39,2,    0.01,2,    3.01,2,   0.011,2,   0.007,2,   0.016,3,  2391.5,2,  2403.1,2,   7.3299,6,    25.06,-999.000,9,-999.0000,9, -999.00,9,  -999.0,9,  -999.0,-999.0000,9,-999.0000,    38.6,2,     41.033,3,-999.000,9, 20150621,     2113,-999.000,   2.2471,2,    34.6817,2,     -999.0,9,     -999.0,-999.0000,     -999.0,     -999.0,9,     -999.0,     -999.0,9,     -999.0,  -999.0,9,     -999.0,     -999.0,9,     -999.0
33RO20150525,     P16N.2,     199,          2,          7,          7,2,20150621,       2026,    55.5603,  -142.6453,       3683,  1900.3,   2.0287,  34.5656,2,  34.5638,2,     46.5,2,    46.4,2,  164.18,2,   42.51,2,    0.01,2,    2.94,2,   0.003,2,   0.003,2,       0,2,  2386.2,2,  2411.8,2,   7.3647,2,    25.05,-999.000,9,-999.0000,9, -999.00,9,  -999.0,9,  -999.0,-999.0000,9,-999.0000,    37.3,2,     36.822,3,-999.000,9, 20150621,     2106,-999.000,   2.0284,2,    34.7267,2,     -999.0,9,     -999.0,-999.0000,     -999.0,     -999.0,9,     -999.0,     -999.0,9,     -999.0,  -999.0,9,     -999.0,     -999.0,9,     -999.0
33RO20150525,     P16N.2,     199,          2,          6,          6,2,20150621,       2026,    55.5603,  -142.6453,       3683,    2200,   1.8575,  34.6007,2,  34.5988,2,     63.6,2,      64,2,  166.52,2,   41.53,2,    0.01,2,    2.87,2,   0.002,2,   0.001,2,       0,2,  2379.9,2,  2418.4,2,   7.4043,2,    25.07,-999.000,9,-999.0000,9, -999.00,9,  -999.0,9,  -999.0,-999.0000,9,-999.0000,    38.0,2,     32.834,3,-999.000,9, 20150621,     2100,-999.000,   1.8574,2,     34.762,2,     -999.0,9,     -999.0,-999.0000,     -999.0,     -999.0,9,     -999.0,     -999.0,9,     -999.0,  -999.0,9,     -999.0,     -999.0,9,     -999.0
33RO20150525,     P16N.2,     199,          2,          5,          5,2,20150621,       2026,    55.5603,  -142.6453,       3683,  2400.2,   1.7687,  34.6183,2,  34.6171,2,     75.1,2,    74.9,2,  168.18,2,   40.85,2,    0.01,2,    2.81,2,   0.002,2,   0.001,2,       0,2,  2374.9,2,  2419.2,2,   7.4263,2,    25.04,-999.000,9,-999.0000,9, -999.00,9,  -999.0,9,  -999.0,-999.0000,9,-999.0000,    37.3,2,     30.451,3,-999.000,9, 20150621,     2055,-999.000,   1.7686,2,    34.7803,6,     -999.0,9,     -999.0,-999.0000,     -999.0,     -999.0,9,     -999.0,     -999.0,9,     -999.0,  -999.0,9,     -999.0,     -999.0,9,     -999.0
33RO20150525,     P16N.2,     199,          2,          4,          4,2,20150621,       2026,    55.5603,  -142.6453,       3683,  2800.1,   1.6397,  34.6443,2,  34.6431,2,     95.2,2,    95.3,2,  169.05,6,   39.58,6,    0.01,6,    2.73,6,   0.004,2,   0.002,2,       0,2,  2364.6,2,  2423.7,2,   7.4693,2,    25.05,-999.000,9,-999.0000,9, -999.00,9,  -999.0,9,  -999.0,-999.0000,9,-999.0000,    37.0,2,     27.009,3,-999.000,9, 20150621,     2047,-999.000,     1.64,2,    34.8065,2,     -999.0,9,     -999.0,-999.0000,     -999.0,     -999.0,9,     -999.0,     -999.0,9,     -999.0,  -999.0,9,     -999.0,     -999.0,9,     -999.0
33RO20150525,     P16N.2,     199,          2,          3,          3,2,20150621,       2026,    55.5603,  -142.6453,       3683,  3099.5,   1.5647,  34.6593,2,  34.6597,2,    110.1,2,   109.8,2,  167.98,6,    38.6,6,    0.01,6,    2.65,6,   0.004,2,   0.004,2,       0,2,  2355.7,2,  2425.7,6,   7.4995,2,    25.05,-999.000,9,-999.0000,9, -999.00,9,  -999.0,9,  -999.0,-999.0000,9,-999.0000,    38.1,2,     24.895,3,-999.000,9, 20150621,     2040,-999.000,   1.5646,2,    34.8231,2,     -999.0,9,     -999.0,-999.0000,     -999.0,     -999.0,9,     -999.0,     -999.0,9,     -999.0,  -999.0,9,     -999.0,     -999.0,9,     -999.0
33RO20150525,     P16N.2,     199,          2,          2,          2,2,20150621,       2026,    55.5603,  -142.6453,       3683,    3400,   1.4954,  34.6728,2,  34.6719,2,    126.7,2,   125.7,2,  165.14,6,   37.52,6,    0.01,6,    2.57,6,   0.002,2,   0.004,2,       0,2,  2345.7,2,  2425.8,2,   7.5284,6,    25.08,-999.000,9,-999.0000,9, -999.00,9,  -999.0,9,  -999.0,-999.0000,9,-999.0000,    37.7,2,     23.129,3,-999.000,9, 20150621,     2034,-999.000,   1.4955,2,    34.8354,2,     -999.0,9,     -999.0,-999.0000,     -999.0,     -999.0,9,     -999.0,     -999.0,9,     -999.0,  -999.0,9,     -999.0,     -999.0,9,     -999.0
33RO20150525,     P16N.2,     199,          2,          1,          1,2,20150621,       2026,    55.5603,  -142.6453,       3683,  3734.6,   1.4564,  34.6827,2,  34.6835,2,    139.5,2,   138.7,2,   162.4,6,   36.64,6,    0.02,6,    2.52,6,   0.003,6,   0.004,6,       0,6,  2338.4,6,  2425.9,2,   7.5515,6,    25.07,-999.000,9,-999.0000,9, -999.00,9,  -999.0,9,  -999.0,-999.0000,9,-999.0000,    36.8,2,     21.838,3,-999.000,9, 20150621,     2027,-999.000,   1.4564,2,     34.847,2,     -999.0,9,     -999.0,-999.0000,     -999.0,     -999.0,9,     -999.0,     -999.0,9,     -999.0,  -999.0,9,     -999.0,     -999.0,9,     -999.0