BOTTLE,20220330CCHSIOCBG
EXPOCODE,SECT_ID,STNNBR,CASTNO,SAMPNO,BTLNBR,BTLNBR_FLAG_W,DATE,TIME,LATITUDE,LONGITUDE,DEPTH,CTDPRS,CTDTMP,CTDSAL,CTDSAL_FLAG_W,SALNTY,SALNTY_FLAG_W,CTDOXY,CTDOXY_FLAG_W,OXYGEN,OXYGEN_FLAG_W,SILCAT,SILCAT_FLAG_W,NITRAT,NITRAT_FLAG_W,NITRIT,NITRIT_FLAG_W,PHSPHT,PHSPHT_FLAG_W,CFC-11,CFC-11_FLAG_W,CFC-12,CFC-12_FLAG_W,SF6,SF6_FLAG_W,TCARBN,TCARBN_FLAG_W,ALKALI,ALKALI_FLAG_W,PH_TOT,PH_TOT_FLAG_W,PH_TMP,TRITUM,TRITUM_FLAG_W,HELIUM,HELIUM_FLAG_W,DELC13,DELC13_FLAG_W,DELC14,DELC14_FLAG_W,C14ERR,NEON,NEON_FLAG_W,NEONER,DOC,DOC_FLAG_W,N2O,N2O_FLAG_W,ARGON,ARGON_FLAG_W,BTL_DATE,BTL_TIME,TRITER,SBE35,SBE35_FLAG_W,SALTREF,SALTREF_FLAG_W,DELHE3,DELHE3_FLAG_W,DELHER,HELIER,ARGONER,KRYPTON,KRYPTON_FLAG_W,KRYPTONER,XENON,XENON_FLAG_W,XENONER,14C-DOC,14C-DOC_FLAG_W,14C-DOCERR,13C-DOC,13C-DOC_FLAG_W,13C-DOCERR
,,,,,,,,,,,METERS,DBAR,ITS-90,PSS-78,,PSS-78,,UMOL/KG,,UMOL/KG,,UMOL/KG,,UMOL/KG,,UMOL/KG,,UMOL/KG,,PMOL/KG,,PMOL/KG,,FMOL/KG,,UMOL/KG,,UMOL/KG,,,,DEG C,TU,,NMOL/KG,,/MILLE,,/MILLE,,/MILLE,NMOL/KG,,NMOL/KG,UMOL/KG,,NMOL/KG,,UMOL/KG,,,,TU,ITS-90,,G/KG,,PERCNT,,PERCNT,NMOL/KG,UMOL/KG,NMOL/KG,,NMOL/KG,NMOL/KG,,NMOL/KG,/MILLE,,/MILLE,/MILLE,,/MILLE
33RO20150525,     P16N.2,     156,          2,         24,         24,2,20150609,       2227,    44.0007,  -152.0003,       5637,     3.4,   11.805,  33.0974,2,   33.095,2,    281.6,2,   282.4,2,    4.21,2,    4.01,2,    0.08,2,    0.61,2,   3.366,2,   1.971,2,    2.38,2,  2021.9,6,  2216.6,2,   7.8744,2,       25,-999.000,9,-999.0000,9, -999.00,9,  -999.0,9,  -999.0,-999.0000,9,-999.0000,  -999.0,9,     10.523,3,-999.000,9, 20150610,     0042,-999.000,  11.8013,2,    33.2511,2,     -999.0,9,     -999.0,-999.0000,     -999.0,     -999.0,9,     -999.0,     -999.0,9,     -999.0,  -999.0,9,     -999.0,     -999.0,9,     -999.0
33RO20150525,     P16N.2,     156,          2,         23,         23,2,20150609,       2227,    44.0007,  -152.0003,       5637,    40.6,  10.0835,  33.0936,2,  33.0915,2,    296.2,2,   296.4,2,    7.44,2,    5.87,2,    0.07,2,    0.74,2,   3.561,2,   2.086,2,   2.453,2,  2028.9,2,  2215.2,2,   7.8508,6,    24.98,-999.000,9,-999.0000,9, -999.00,9,  -999.0,9,  -999.0,-999.0000,9,-999.0000,  -999.0,9,     11.052,3,-999.000,9, 20150610,     0039,-999.000,  10.0508,2,    33.2476,2,     -999.0,9,     -999.0,-999.0000,     -999.0,     -999.0,9,     -999.0,     -999.0,9,     -999.0,  -999.0,9,     -999.0,     -999.0,9,     -999.0
33RO20150525,     P16N.2,     156,          2,         22,         22,2,20150609,       2227,    44.0007,  -152.0003,       5637,    69.5,   9.0949,  33.1318,2,  33.1315,2,    285.7,2,   285.9,2,    8.51,2,    7.44,2,    0.12,2,    0.84,2,   3.662,2,   2.141,2,   2.607,2,    2047,2,  2216.7,6,   7.8126,2,       25,-999.000,9,-999.0000,9, -999.00,9,  -999.0,9,  -999.0,-999.0000,9,-999.0000,  -999.0,9,     11.308,3,-999.000,9, 20150610,     0037,-999.000,   9.0914,2,    33.2878,2,     -999.0,9,     -999.0,-999.0000,     -999.0,     -999.0,9,     -999.0,     -999.0,9,     -999.0,  -999.0,9,     -999.0,     -999.0,9,     -999.0
33RO20150525,     P16N.2,     156,          2,         21,         21,2,20150609,       2227,    44.0007,  -152.0003,       5637,   109.1,   8.7028,  33.7796,2,  33.7722,2,    243.6,2,   245.1,2,   15.06,2,    13.4,2,    0.03,2,    1.05,2,    3.53,6,   2.081,6,   2.315,6,  2096.7,2,  2250.9,2,    7.744,2,    24.99,-999.000,9,-999.0000,9, -999.00,9,  -999.0,9,  -999.0,-999.0000,9,-999.0000,  -999.0,9,     13.380,3,-999.000,9, 20150610,     0035,-999.000,   8.6966,2,    33.9314,2,     -999.0,9,     -999.0,-999.0000,     -999.0,     -999.0,9,     -999.0,     -999.0,9,     -999.0,  -999.0,9,     -999.0,     -999.0,9,     -999.0
33RO20150525,     P16N.2,     156,          2,         20,         20,2,20150609,       2227,    44.0007,  -152.0003,       5637,   174.6,   8.1385,  33.9372,2,  33.9339,2,    213.5,2,   214.5,2,   25.43,2,   18.78,2,    0.01,2,    1.38,2,    3.42,2,   1.974,2,   1.898,2,  2135.5,2,  2261.1,2,   7.6856,6,       25,-999.000,9,-999.0000,9, -999.00,9,  -999.0,9,  -999.0,-999.0000,9,-999.0000,  -999.0,9,     20.300,3,-999.000,9, 20150610,     0032,-999.000,   8.1361,2,    34.0939,2,     -999.0,9,     -999.0,-999.0000,     -999.0,     -999.0,9,     -999.0,     -999.0,9,     -999.0,  -999.0,9,     -999.0,     -999.0,9,     -999.0
33RO20150525,     P16N.2,     156,          2,         19,         19,2,20150609,       2227,    44.0007,  -152.0003,       5637,     250,   7.2186,   33.945,2,   33.942,2,    170.8,2,   171.7,2,   38.92,2,   24.84,2,    0.01,2,    1.76,2,   3.146,2,   1.774,2,   1.407,2,  2179.2,2,  2278.2,2,   7.5933,2,    25.01,-999.000,9,-999.0000,9, -999.00,9,  -999.0,9,  -999.0,-999.0000,9,-999.0000,  -999.0,9,     27.348,3,-999.000,9, 20150610,     0029,-999.000,   7.2123,2,     34.102,2,     -999.0,9,     -999.0,-999.0000,     -999.0,     -999.0,9,     -999.0,     -999.0,9,     -999.0,  -999.0,9,     -999.0,     -999.0,9,     -999.0
33RO20150525,     P16N.2,     156,          2,         18,         18,2,20150609,       2227,    44.0007,  -152.0003,       5637,   332.7,   6.0406,   33.932,2,  33.9295,2,    136.8,2,   136.7,2,   53.79,2,   30.51,2,    0.02,2,    2.16,2,   2.866,2,   1.553,2,   1.066,2,  2223.2,2,  2280.7,2,   7.4959,6,       25,-999.000,9,-999.0000,9, -999.00,9,  -999.0,9,  -999.0,-999.0000,9,-999.0000,  -999.0,9,     30.484,3,-999.000,9, 20150610,     0026,-999.000,    6.037,2,    34.0895,6,     -999.0,9,     -999.0,-999.0000,     -999.0,     -999.0,9,     -999.0,     -999.0,9,     -999.0,  -999.0,9,     -999.0,     -999.0,9,     -999.0
33RO20150525,     P16N.2,     156,          2,         17,         17,2,20150609,       2227,    44.0007,  -152.0003,       5637,   432.4,   4.8193,  33.9499,2,  33.9477,2,     97.4,2,      98,2,   72.66,2,   36.38,2,       0,2,    2.57,2,   2.353,2,   1.232,2,   0.757,2,    2269,2,  2301.5,2,   7.3948,2,       25,-999.000,9,-999.0000,9, -999.00,9,  -999.0,9,  -999.0,-999.0000,9,-999.0000,  -999.0,9,     33.913,3,-999.000,9, 20150610,     0023,-999.000,   4.8214,2,    34.1078,2,     -999.0,9,     -999.0,-999.0000,     -999.0,     -999.0,9,     -999.0,     -999.0,9,     -999.0,  -999.0,9,     -999.0,     -999.0,9,     -999.0
33RO20150525,     P16N.2,     156,          2,         16,         16,2,20150609,       2227,    44.0007,  -152.0003,       5637,   550.1,   4.2995,  34.0559,2,   34.053,2,     60.7,2,    61.2,2,   89.96,2,   39.99,2,       0,2,    2.82,2,   1.576,2,   0.796,2,   0.457,2,  2306.4,2,  2320.7,2,   7.3341,2,    24.98,-999.000,9,-999.0000,9, -999.00,9,  -999.0,9,  -999.0,-999.0000,9,-999.0000,  -999.0,9,     39.213,3,-999.000,9, 20150610,     0019,-999.000,   4.2994,2,    34.2135,2,     -999.0,9,     -999.0,-999.0000,     -999.0,     -999.0,9,     -999.0,     -999.0,9,     -999.0,  -999.0,9,     -999.0,     -999.0,9,     -999.0
33RO20150525,     P16N.2,     156,          2,         15,         15,2,20150609,       2227,    44.0007,  -152.0003,       5637,     701,   3.9305,  34.1872,2,  34.1861,2,     34.6,2,    34.2,2,  106.57,2,   42.34,2,    0.01,2,    2.97,2,   0.739,6,   0.356,6,   0.147,2,  2338.4,2,  2336.8,2,   7.3047,2,       25,-999.000,9,-999.0000,9, -999.00,9,  -999.0,9,  -999.0,-999.0000,9,-999.0000,  -999.0,9,     44.055,3,-999.000,9, 20150610,     0015,-999.000,   3.9295,2,    34.3473,2,     -999.0,9,     -999.0,-999.0000,     -999.0,     -999.0,9,     -999.0,     -999.0,9,     -999.0,  -999.0,9,     -999.0,     -999.0,9,     -999.0
33RO20150525,     P16N.2,     156,          2,         14,         14,2,20150609,       2227,    44.0007,  -152.0003,       5637,   850.9,    3.485,  34.2733,2,  34.2706,2,     21.8,2,    22.1,2,  121.23,2,    43.8,2,    0.01,2,    3.06,2,   0.328,2,   0.162,2,   0.161,3,    2360,2,  2355.3,2,    7.291,2,       25,-999.000,9,-999.0000,9, -999.00,9,  -999.0,9,  -999.0,-999.0000,9,-999.0000,  -999.0,9,     46.811,3,-999.000,9, 20150610,     0012,-999.000,   3.4845,2,    34.4322,2,     -999.0,9,     -999.0,-999.0000,     -999.0,     -999.0,9,     -999.0,     -999.0,9,     -999.0,  -999.0,9,     -999.0,     -999.0,9,     -999.0
33RO20150525,     P16N.2,     156,          2,         13,         13,2,20150609,       2227,    44.0007,  -152.0003,       5637,  1000.2,   3.1329,  34.3412,2,  34.3405,2,     18.5,2,    16.6,2,  132.96,2,   44.38,2,       0,2,    3.12,2,   0.136,2,   0.067,2,       0,2,    2375,2,  2369.7,2,   7.2882,2,       25,-999.000,9,-999.0000,9, -999.00,9,  -999.0,9,  -999.0,-999.0000,9,-999.0000,  -999.0,9,     48.117,3,-999.000,9, 20150610,     0008,-999.000,   3.1323,2,    34.5024,2,     -999.0,9,     -999.0,-999.0000,     -999.0,     -999.0,9,     -999.0,     -999.0,9,     -999.0,  -999.0,9,     -999.0,     -999.0,9,     -999.0
33RO20150525,     P16N.2,     156,          2,         12,         12,2,20150609,       2227,    44.0007,  -152.0003,       5637,  1167.2,   2.8238,  34.4034,2,  34.4022,2,     18.8,2,    18.1,2,  142.73,2,   44.58,2,    0.01,2,    3.11,2,   0.079,2,    0.04,2,       0,2,  2384.2,2,    2381,2,   7.2968,2,    24.97,-999.000,9,-999.0000,9, -999.00,9,  -999.0,9,  -999.0,-999.0000,9,-999.0000,  -999.0,9,     47.693,3,-999.000,9, 20150610,     0003,-999.000,   2.8236,2,    34.5644,2,     -999.0,9,     -999.0,-999.0000,     -999.0,     -999.0,9,     -999.0,     -999.0,9,     -999.0,  -999.0,9,     -999.0,     -999.0,9,     -999.0
33RO20150525,     P16N.2,     156,          2,         11,         11,2,20150609,       2227,    44.0007,  -152.0003,       5637,  1366.8,   2.5597,  34.4595,2,  34.4614,2,     16.7,2,    16.1,2,  151.81,2,   44.87,2,       0,2,    3.11,2,   0.022,2,   0.012,2,       0,2,  2393.9,6,  2393.9,2,   7.2983,2,    25.01,-999.000,9,-999.0000,9, -999.00,9,  -999.0,9,  -999.0,-999.0000,9,-999.0000,  -999.0,9,     47.886,3,-999.000,9, 20150609,     2358,-999.000,   2.5598,2,    34.6239,2,     -999.0,9,     -999.0,-999.0000,     -999.0,     -999.0,9,     -999.0,     -999.0,9,     -999.0,  -999.0,9,     -999.0,     -999.0,9,     -999.0
33RO20150525,     P16N.2,     156,          2,         10,         10,2,20150609,       2227,    44.0007,  -152.0003,       5637,  1599.9,   2.3071,  34.5149,2,  34.5131,2,     20.7,2,    21.4,2,  159.73,2,   44.87,2,       0,2,    3.08,2,-999.000,5,-999.000,5,-999.000,5,  2401.2,2,  2405.2,2,   7.3124,2,       25,-999.000,9,-999.0000,9, -999.00,9,  -999.0,9,  -999.0,-999.0000,9,-999.0000,  -999.0,9,     -999.0,5,-999.000,9, 20150609,     2353,-999.000,   2.3067,2,    34.6759,2,     -999.0,9,     -999.0,-999.0000,     -999.0,     -999.0,9,     -999.0,     -999.0,9,     -999.0,  -999.0,9,     -999.0,     -999.0,9,     -999.0
33RO20150525,     P16N.2,     156,          2,          9,          9,2,20150609,       2227,    44.0007,  -152.0003,       5637,  1933.4,   2.0166,  34.5752,2,  34.5741,2,     41.9,2,    42.7,2,  165.97,2,    43.5,2,       0,2,       3,2,   0.001,2,   0.001,2,       0,2,  2387.7,2,    2413,2,     7.36,2,    24.99,-999.000,9,-999.0000,9, -999.00,9,  -999.0,9,  -999.0,-999.0000,9,-999.0000,  -999.0,9,     38.464,3,-999.000,9, 20150609,     2346,-999.000,   2.0164,2,    34.7371,2,     -999.0,9,     -999.0,-999.0000,     -999.0,     -999.0,9,     -999.0,     -999.0,9,     -999.0,  -999.0,9,     -999.0,     -999.0,9,     -999.0
33RO20150525,     P16N.2,     156,          2,          8,          8,2,20150609,       2227,    44.0007,  -152.0003,       5637,  2366.6,   1.7961,  34.6188,2,  34.6161,2,     69.1,2,      69,2,  167.73,2,   41.74,2,       0,2,    2.87,2,  -0.001,2,   0.001,2,       0,2,    2382,2,  2420.8,2,   7.4165,2,    24.99,-999.000,9,-999.0000,9, -999.00,9,  -999.0,9,  -999.0,-999.0000,9,-999.0000,  -999.0,9,     30.867,3,-999.000,9, 20150609,     2337,-999.000,   1.7955,2,    34.7794,2,     -999.0,9,     -999.0,-999.0000,     -999.0,     -999.0,9,     -999.0,     -999.0,9,     -999.0,  -999.0,9,     -999.0,     -999.0,9,     -999.0
33RO20150525,     P16N.2,     156,          2,          7,          7,2,20150609,       2227,    44.0007,  -152.0003,       5637,    2866,   1.6101,   34.651,2,  34.6497,2,    100.1,2,    99.8,2,  164.21,2,   39.78,2,       0,2,    2.73,2,  -0.002,2,       0,2,       0,2,    2362,2,  2422.2,2,   7.4772,6,    24.99,-999.000,9,-999.0000,9, -999.00,9,  -999.0,9,  -999.0,-999.0000,9,-999.0000,  -999.0,9,     25.557,3,-999.000,9, 20150609,     2327,-999.000,   1.6098,2,    34.8131,6,     -999.0,9,     -999.0,-999.0000,     -999.0,     -999.0,9,     -999.0,     -999.0,9,     -999.0,  -999.0,9,     -999.0,     -999.0,9,     -999.0
33RO20150525,     P16N.2,     156,          2,          6,          6,2,20150609,       2227,    44.0007,  -152.0003,       5637,  3366.6,   1.5137,  34.6697,2,  34.6675,2,    123.5,2,     123,2,   159.8,2,   38.22,2,       0,2,    2.62,2,  -0.004,2,       0,2,       0,2,  2348.2,2,  2423.4,2,   7.5225,2,    24.99,-999.000,9,-999.0000,9, -999.00,9,  -999.0,9,  -999.0,-999.0000,9,-999.0000,  -999.0,9,     21.896,3,-999.000,9, 20150609,     2318,-999.000,   1.5135,2,    34.8309,2,     -999.0,9,     -999.0,-999.0000,     -999.0,     -999.0,9,     -999.0,     -999.0,9,     -999.0,  -999.0,9,     -999.0,     -999.0,9,     -999.0
33RO20150525,     P16N.2,     156,          2,          5,          5,2,20150609,       2227,    44.0007,  -152.0003,       5637,  3865.3,   1.4757,  34.6811,2,  34.6809,2,    137.7,2,   137.9,2,  157.56,2,   37.14,2,       0,2,    2.55,2,       0,2,       0,2,       0,2,  2338.6,2,  2425.4,2,   7.5522,6,       25,-999.000,9,-999.0000,9, -999.00,9,  -999.0,9,  -999.0,-999.0000,9,-999.0000,  -999.0,9,     22.007,3,-999.000,9, 20150609,     2305,-999.000,   1.4756,2,    34.8444,2,     -999.0,9,     -999.0,-999.0000,     -999.0,     -999.0,9,     -999.0,     -999.0,9,     -999.0,  -999.0,9,     -999.0,     -999.0,9,     -999.0
33RO20150525,     P16N.2,     156,          2,          4,          4,2,20150609,       2227,    44.0007,  -152.0003,       5637,  4367.8,   1.4998,  34.6862,2,   34.685,2,    141.9,2,   141.7,2,  160.39,6,   36.85,6,       0,6,    2.52,6,   0.003,2,   0.002,2,   0.037,4,  2337.5,2,  2429.8,2,   7.5653,6,    24.98,-999.000,9,-999.0000,9, -999.00,9,  -999.0,9,  -999.0,-999.0000,9,-999.0000,  -999.0,9,     20.771,3,-999.000,9, 20150609,     2255,-999.000,   1.4996,2,    34.8486,2,     -999.0,9,     -999.0,-999.0000,     -999.0,     -999.0,9,     -999.0,     -999.0,9,     -999.0,  -999.0,9,     -999.0,     -999.0,9,     -999.0
33RO20150525,     P16N.2,     156,          2,          3,          3,2,20150609,       2227,    44.0007,  -152.0003,       5637,  4866.4,   1.5522,  34.6878,2,  34.6858,2,    142.5,2,   147.4,4,  162.83,6,   36.85,6,       0,6,    2.52,6,   0.002,6,   0.003,6,       0,6,  2337.1,2,  2431.6,6,   7.5687,2,    24.98,-999.000,9,-999.0000,9, -999.00,9,  -999.0,9,  -999.0,-999.0000,9,-999.0000,  -999.0,9,     21.006,3,-999.000,9, 20150609,     2245,-999.000,   1.5521,2,    34.8494,2,     -999.0,9,     -999.0,-999.0000,     -999.0,     -999.0,9,     -999.0,     -999.0,9,     -999.0,  -999.0,9,     -999.0,     -999.0,9,     -999.0
33RO20150525,     P16N.2,     156,          2,          2,          2,2,20150609,       2227,    44.0007,  -152.0003,       5637,  5282.4,   1.6036,  34.6885,2,  34.6859,2,    143.3,2,   143.1,2,  163.42,6,   36.85,6,       0,6,    2.52,6,   0.002,2,   0.002,2,       0,2,  2337.2,2,    2431,2,   7.5691,2,    24.99,-999.000,9,-999.0000,9, -999.00,9,  -999.0,9,  -999.0,-999.0000,9,-999.0000,  -999.0,9,     21.307,3,-999.000,9, 20150609,     2237,-999.000,   1.6036,2,    34.8494,2,     -999.0,9,     -999.0,-999.0000,     -999.0,     -999.0,9,     -999.0,     -999.0,9,     -999.0,  -999.0,9,     -999.0,     -999.0,9,     -999.0
33RO20150525,     P16N.2,     156,          2,          1,          1,2,20150609,       2227,    44.0007,  -152.0003,       5637,  5727.4,   1.6633,  34.6888,2,  34.6873,2,    143.8,2,   143.1,2,  163.52,6,   36.75,6,       0,6,    2.51,6,   0.001,2,   0.002,2,       0,2,  2338.8,6,  2432.4,2,   7.5689,2,    25.01,-999.000,9,-999.0000,9, -999.00,9,  -999.0,9,  -999.0,-999.0000,9,-999.0000,  -999.0,9,      0.000,3,-999.000,9, 20150609,     2226,-999.000,   1.6628,2,    34.8508,2,     -999.0,9,     -999.0,-999.0000,     -999.0,     -999.0,9,     -999.0,     -999.0,9,     -999.0,  -999.0,9,     -999.0,     -999.0,9,     -999.0