BOTTLE,20220330CCHSIOCBG
EXPOCODE,SECT_ID,STNNBR,CASTNO,SAMPNO,BTLNBR,BTLNBR_FLAG_W,DATE,TIME,LATITUDE,LONGITUDE,DEPTH,CTDPRS,CTDTMP,CTDSAL,CTDSAL_FLAG_W,SALNTY,SALNTY_FLAG_W,CTDOXY,CTDOXY_FLAG_W,OXYGEN,OXYGEN_FLAG_W,SILCAT,SILCAT_FLAG_W,NITRAT,NITRAT_FLAG_W,NITRIT,NITRIT_FLAG_W,PHSPHT,PHSPHT_FLAG_W,CFC-11,CFC-11_FLAG_W,CFC-12,CFC-12_FLAG_W,SF6,SF6_FLAG_W,TCARBN,TCARBN_FLAG_W,ALKALI,ALKALI_FLAG_W,PH_TOT,PH_TOT_FLAG_W,PH_TMP,TRITUM,TRITUM_FLAG_W,HELIUM,HELIUM_FLAG_W,DELC13,DELC13_FLAG_W,DELC14,DELC14_FLAG_W,C14ERR,NEON,NEON_FLAG_W,NEONER,DOC,DOC_FLAG_W,N2O,N2O_FLAG_W,ARGON,ARGON_FLAG_W,BTL_DATE,BTL_TIME,TRITER,SBE35,SBE35_FLAG_W,SALTREF,SALTREF_FLAG_W,DELHE3,DELHE3_FLAG_W,DELHER,HELIER,ARGONER,KRYPTON,KRYPTON_FLAG_W,KRYPTONER,XENON,XENON_FLAG_W,XENONER,14C-DOC,14C-DOC_FLAG_W,14C-DOCERR,13C-DOC,13C-DOC_FLAG_W,13C-DOCERR
,,,,,,,,,,,METERS,DBAR,ITS-90,PSS-78,,PSS-78,,UMOL/KG,,UMOL/KG,,UMOL/KG,,UMOL/KG,,UMOL/KG,,UMOL/KG,,PMOL/KG,,PMOL/KG,,FMOL/KG,,UMOL/KG,,UMOL/KG,,,,DEG C,TU,,NMOL/KG,,/MILLE,,/MILLE,,/MILLE,NMOL/KG,,NMOL/KG,UMOL/KG,,NMOL/KG,,UMOL/KG,,,,TU,ITS-90,,G/KG,,PERCNT,,PERCNT,NMOL/KG,UMOL/KG,NMOL/KG,,NMOL/KG,NMOL/KG,,NMOL/KG,/MILLE,,/MILLE,/MILLE,,/MILLE
33RO20150525,     P16N.2,     183,          1,         24,         24,2,20150617,       1643,    55.8696,  -152.9036,       3923,     2.7,  11.1331,  32.2776,2,  32.2821,2,    284.1,2,     292,2,   12.04,2,    6.46,2,    0.09,2,    0.91,2,   3.674,6,   2.102,6,   2.491,6,  1998.7,6,  2178.8,2,   7.8435,2,    24.99,-999.000,9,-999.0000,9, -999.00,9,  -999.0,9,  -999.0,-999.0000,9,-999.0000,    56.7,2,     11.286,3,-999.000,9, 20150617,     1818,-999.000,  11.1288,2,    32.4343,2,     -999.0,9,     -999.0,-999.0000,     -999.0,     -999.0,9,     -999.0,     -999.0,9,     -999.0,  -999.0,9,     -999.0,     -999.0,9,     -999.0
33RO20150525,     P16N.2,     183,          1,         23,         23,2,20150617,       1643,    55.8696,  -152.9036,       3923,    32.7,   9.5144,  32.5037,2,  32.5067,2,    296.1,2,   296.6,2,   25.94,2,   12.24,2,    0.15,2,    1.24,2,-999.000,9,-999.000,9,-999.000,9,  2028.4,2,  2190.4,2,   7.8014,6,    24.99,-999.000,9,-999.0000,9, -999.00,9,  -999.0,9,  -999.0,-999.0000,9,-999.0000,    55.4,2,     -999.0,9,-999.000,9, 20150617,     1816,-999.000,   9.5191,2,    32.6599,2,     -999.0,9,     -999.0,-999.0000,     -999.0,     -999.0,9,     -999.0,     -999.0,9,     -999.0,  -999.0,9,     -999.0,     -999.0,9,     -999.0
33RO20150525,     P16N.2,     183,          1,         22,         22,2,20150617,       1643,    55.8696,  -152.9036,       3923,    58.1,   6.7637,  32.4682,2,  32.4851,2,    320.5,2,   305.8,2,   20.75,2,   12.53,2,    0.14,2,    1.25,2,   4.274,2,   2.392,2,   2.749,2,  2040.5,2,  2190.3,2,   7.7641,6,    25.01,-999.000,9,-999.0000,9, -999.00,9,  -999.0,9,  -999.0,-999.0000,9,-999.0000,    62.0,2,     13.238,3,-999.000,9, 20150617,     1814,-999.000,   6.7619,2,    32.6383,2,     -999.0,9,     -999.0,-999.0000,     -999.0,     -999.0,9,     -999.0,     -999.0,9,     -999.0,  -999.0,9,     -999.0,     -999.0,9,     -999.0
33RO20150525,     P16N.2,     183,          1,         21,         21,2,20150617,       1643,    55.8696,  -152.9036,       3923,      83,   6.0036,  32.6234,2,  32.6427,2,    284.2,2,   266.7,2,   26.33,2,   16.54,2,    0.33,2,    1.49,2,   4.271,2,   2.405,2,   2.705,2,  2072.2,2,  2196.5,6,   7.6983,2,    24.96,-999.000,9,-999.0000,9, -999.00,9,  -999.0,9,  -999.0,-999.0000,9,-999.0000,    59.2,2,     15.112,3,-999.000,9, 20150617,     1812,-999.000,   6.0019,2,    32.7966,2,     -999.0,9,     -999.0,-999.0000,     -999.0,     -999.0,9,     -999.0,     -999.0,9,     -999.0,  -999.0,9,     -999.0,     -999.0,9,     -999.0
33RO20150525,     P16N.2,     183,          1,         20,         20,2,20150617,       1643,    55.8696,  -152.9036,       3923,   108.4,   4.3034,  33.3465,2,   33.387,2,    166.1,2,   152.9,2,   57.92,2,   33.36,2,    0.04,2,    2.44,2,   3.672,2,   1.988,2,   1.775,2,  2218.1,2,  2250.7,2,   7.4089,2,    25.02,-999.000,9,-999.0000,9, -999.00,9,  -999.0,9,  -999.0,-999.0000,9,-999.0000,    53.3,2,     28.543,3,-999.000,9, 20150617,     1810,-999.000,   4.3047,2,    33.5445,2,     -999.0,9,     -999.0,-999.0000,     -999.0,     -999.0,9,     -999.0,     -999.0,9,     -999.0,  -999.0,9,     -999.0,     -999.0,9,     -999.0
33RO20150525,     P16N.2,     183,          1,         19,         19,2,20150617,       1643,    55.8696,  -152.9036,       3923,   134.3,   3.8836,  33.6103,2,  33.6411,2,      114,2,    95.3,2,   71.21,2,   39.13,2,    0.04,2,    2.79,2,   3.175,2,   1.699,2,   1.304,2,  2272.2,2,    2267,2,   7.2989,2,    24.98,-999.000,9,-999.0000,9, -999.00,9,  -999.0,9,  -999.0,-999.0000,9,-999.0000,    53.4,2,     34.836,3,-999.000,9, 20150617,     1809,-999.000,   3.8828,2,    33.7998,2,     -999.0,9,     -999.0,-999.0000,     -999.0,     -999.0,9,     -999.0,     -999.0,9,     -999.0,  -999.0,9,     -999.0,     -999.0,9,     -999.0
33RO20150525,     P16N.2,     183,          1,         18,         18,2,20150617,       1643,    55.8696,  -152.9036,       3923,   168.1,   3.8435,  33.8018,2,  33.8061,2,     55.7,2,    52.6,2,   81.57,2,   42.64,2,    0.03,2,    2.98,2,   2.688,2,   1.381,2,   0.882,2,  2307.5,2,  2283.9,2,   7.2357,2,    25.03,-999.000,9,-999.0000,9, -999.00,9,  -999.0,9,  -999.0,-999.0000,9,-999.0000,    57.7,2,     40.017,3,-999.000,9, 20150617,     1807,-999.000,   3.8433,2,    33.9655,2,     -999.0,9,     -999.0,-999.0000,     -999.0,     -999.0,9,     -999.0,     -999.0,9,     -999.0,  -999.0,9,     -999.0,     -999.0,9,     -999.0
33RO20150525,     P16N.2,     183,          1,         17,         17,2,20150617,       1643,    55.8696,  -152.9036,       3923,   226.1,   3.6649,  33.8633,2,  33.8738,2,     40.4,2,    37.9,2,   89.09,2,   43.72,2,    0.02,2,    3.05,2,   2.342,2,   1.211,2,    0.72,2,  2323.1,2,  2294.2,2,   7.2186,2,    25.01,-999.000,9,-999.0000,9, -999.00,9,  -999.0,9,  -999.0,-999.0000,9,-999.0000,    53.0,2,     41.813,3,-999.000,9, 20150617,     1805,-999.000,   3.6637,2,    34.0336,2,     -999.0,9,     -999.0,-999.0000,     -999.0,     -999.0,9,     -999.0,     -999.0,9,     -999.0,  -999.0,9,     -999.0,     -999.0,9,     -999.0
33RO20150525,     P16N.2,     183,          1,         16,         16,2,20150617,       1643,    55.8696,  -152.9036,       3923,   300.9,   3.7766,  33.9615,2,   33.961,2,     28.9,2,    24.9,2,   95.84,2,    44.4,2,    0.01,2,    3.08,2,     1.9,2,   0.954,2,   0.515,2,  2332.6,2,  2305.2,2,   7.2162,2,    24.99,-999.000,9,-999.0000,9, -999.00,9,  -999.0,9,  -999.0,-999.0000,9,-999.0000,    42.8,2,     44.113,3,-999.000,9, 20150617,     1802,-999.000,   3.7768,2,    34.1211,2,     -999.0,9,     -999.0,-999.0000,     -999.0,     -999.0,9,     -999.0,     -999.0,9,     -999.0,  -999.0,9,     -999.0,     -999.0,9,     -999.0
33RO20150525,     P16N.2,     183,          1,         15,         15,2,20150617,       1643,    55.8696,  -152.9036,       3923,   374.9,   3.7083,  34.0316,2,  34.0314,2,     22.8,2,    21.6,2,  102.77,2,    44.2,2,    0.01,2,    3.09,2,   1.506,2,   0.756,2,   0.427,2,  2340.2,2,  2314.9,2,   7.2265,2,    25.04,-999.000,9,-999.0000,9, -999.00,9,  -999.0,9,  -999.0,-999.0000,9,-999.0000,    42.5,2,     44.911,3,-999.000,9, 20150617,     1800,-999.000,   3.7081,2,    34.1918,6,     -999.0,9,     -999.0,-999.0000,     -999.0,     -999.0,9,     -999.0,     -999.0,9,     -999.0,  -999.0,9,     -999.0,     -999.0,9,     -999.0
33RO20150525,     P16N.2,     183,          1,         14,         14,2,20150617,       1643,    55.8696,  -152.9036,       3923,   449.4,   3.6716,  34.0947,2,  34.0952,2,     20.4,2,    19.4,2,  108.44,2,      44,2,    0.01,2,    3.08,2,   1.167,2,   0.572,2,   0.272,2,  2345.6,2,  2332.2,3,   7.2406,2,    24.99,-999.000,9,-999.0000,9, -999.00,9,  -999.0,9,  -999.0,-999.0000,9,-999.0000,    41.3,2,     45.482,3,-999.000,9, 20150617,     1758,-999.000,   3.6723,2,     34.256,2,     -999.0,9,     -999.0,-999.0000,     -999.0,     -999.0,9,     -999.0,     -999.0,9,     -999.0,  -999.0,9,     -999.0,     -999.0,9,     -999.0
33RO20150525,     P16N.2,     183,          1,         13,         13,2,20150617,       1643,    55.8696,  -152.9036,       3923,   549.8,   3.6192,  34.1781,2,  34.1764,2,     16.5,2,    15.6,2,  115.08,2,    43.9,2,       0,2,    3.08,2,   0.748,2,   0.361,2,    0.12,2,  2352.5,2,    2338,2,    7.253,2,    25.06,-999.000,9,-999.0000,9, -999.00,9,  -999.0,9,  -999.0,-999.0000,9,-999.0000,    40.1,2,     46.884,3,-999.000,9, 20150617,     1755,-999.000,    3.619,2,    34.3376,2,     -999.0,9,     -999.0,-999.0000,     -999.0,     -999.0,9,     -999.0,     -999.0,9,     -999.0,  -999.0,9,     -999.0,     -999.0,9,     -999.0
33RO20150525,     P16N.2,     183,          1,         12,         12,2,20150617,       1643,    55.8696,  -152.9036,       3923,   700.4,   3.3768,  34.2705,2,  34.2699,2,     13.7,2,    13.7,2,  125.63,2,    43.9,2,       0,2,    3.08,2,-999.000,9,-999.000,9,-999.000,9,  2364.9,2,  2352.1,2,   7.2682,2,    25.02,-999.000,9,-999.0000,9, -999.00,9,  -999.0,9,  -999.0,-999.0000,9,-999.0000,    39.0,2,     -999.0,9,-999.000,9, 20150617,     1751,-999.000,   3.3763,2,    34.4315,2,     -999.0,9,     -999.0,-999.0000,     -999.0,     -999.0,9,     -999.0,     -999.0,9,     -999.0,  -999.0,9,     -999.0,     -999.0,9,     -999.0
33RO20150525,     P16N.2,     183,          1,         11,         11,2,20150617,       1643,    55.8696,  -152.9036,       3923,   849.9,   3.1403,  34.3349,2,  34.3336,2,     13.1,2,    12.9,2,  134.03,2,   44.09,2,       0,2,     3.1,2,   0.171,2,   0.082,2,   0.032,2,  2374.6,2,  2367.1,2,   7.2774,2,       25,-999.000,9,-999.0000,9, -999.00,9,  -999.0,9,  -999.0,-999.0000,9,-999.0000,    39.0,2,     48.894,3,-999.000,9, 20150617,     1747,-999.000,    3.141,2,    34.4955,2,     -999.0,9,     -999.0,-999.0000,     -999.0,     -999.0,9,     -999.0,     -999.0,9,     -999.0,  -999.0,9,     -999.0,     -999.0,9,     -999.0
33RO20150525,     P16N.2,     183,          1,         10,         10,2,20150617,       1643,    55.8696,  -152.9036,       3923,  1000.1,   2.8854,  34.3867,2,  34.3872,2,     14.3,2,    14.4,2,  141.95,2,   44.19,2,       0,2,     3.1,2,-999.000,9,-999.000,9,-999.000,9,  2380.6,2,  2382.4,3,   7.2848,6,    25.03,-999.000,9,-999.0000,9, -999.00,9,  -999.0,9,  -999.0,-999.0000,9,-999.0000,    38.6,2,     -999.0,9,-999.000,9, 20150617,     1743,-999.000,   2.8852,2,    34.5494,2,     -999.0,9,     -999.0,-999.0000,     -999.0,     -999.0,9,     -999.0,     -999.0,9,     -999.0,  -999.0,9,     -999.0,     -999.0,9,     -999.0
33RO20150525,     P16N.2,     183,          1,          9,          9,2,20150617,       1643,    55.8696,  -152.9036,       3923,    1167,    2.648,  34.4359,2,  34.4343,2,     17.3,2,    17.3,2,  149.37,2,   44.09,2,       0,2,    3.09,2,-999.000,9,-999.000,9,-999.000,9,  2386.7,6,  2387.5,2,   7.2967,2,    24.99,-999.000,9,-999.0000,9, -999.00,9,  -999.0,9,  -999.0,-999.0000,9,-999.0000,    38.9,2,     -999.0,9,-999.000,9, 20150617,     1739,-999.000,   2.6485,2,    34.5967,2,     -999.0,9,     -999.0,-999.0000,     -999.0,     -999.0,9,     -999.0,     -999.0,9,     -999.0,  -999.0,9,     -999.0,     -999.0,9,     -999.0
33RO20150525,     P16N.2,     183,          1,          8,          8,2,20150617,       1643,    55.8696,  -152.9036,       3923,  1401.3,   2.3181,  34.5021,2,  34.4997,2,     27.1,2,    27.6,2,  157.87,2,    43.6,2,       0,2,    3.04,2,-999.000,9,-999.000,9,-999.000,9,  2391.1,2,    2398,2,   7.3221,2,    25.02,-999.000,9,-999.0000,9, -999.00,9,  -999.0,9,  -999.0,-999.0000,9,-999.0000,    37.3,2,     -999.0,9,-999.000,9, 20150617,     1734,-999.000,   2.3185,2,    34.6624,2,     -999.0,9,     -999.0,-999.0000,     -999.0,     -999.0,9,     -999.0,     -999.0,9,     -999.0,  -999.0,9,     -999.0,     -999.0,9,     -999.0
33RO20150525,     P16N.2,     183,          1,          7,          7,2,20150617,       1643,    55.8696,  -152.9036,       3923,  1733.4,   2.0834,  34.5526,2,  34.5535,2,     41.6,2,    42.1,2,  163.63,2,   42.72,2,    0.01,2,    2.97,2,-999.000,9,-999.000,9,-999.000,9,  2387.3,2,  2412.4,2,   7.3563,2,    24.95,-999.000,9,-999.0000,9, -999.00,9,  -999.0,9,  -999.0,-999.0000,9,-999.0000,    38.0,2,     -999.0,9,-999.000,9, 20150617,     1728,-999.000,   2.0834,2,    34.7165,2,     -999.0,9,     -999.0,-999.0000,     -999.0,     -999.0,9,     -999.0,     -999.0,9,     -999.0,  -999.0,9,     -999.0,     -999.0,9,     -999.0
33RO20150525,     P16N.2,     183,          1,          6,          6,2,20150617,       1643,    55.8696,  -152.9036,       3923,  2142.9,   1.8424,  34.6024,2,  34.6046,2,     65.5,2,    65.1,2,  166.85,2,   41.35,2,       0,2,    2.87,2,-999.000,9,-999.000,9,-999.000,9,  2378.3,2,  2415.4,2,   7.4051,2,    25.03,-999.000,9,-999.0000,9, -999.00,9,  -999.0,9,  -999.0,-999.0000,9,-999.0000,    37.8,2,     -999.0,9,-999.000,9, 20150617,     1720,-999.000,   1.8432,2,    34.7678,2,     -999.0,9,     -999.0,-999.0000,     -999.0,     -999.0,9,     -999.0,     -999.0,9,     -999.0,  -999.0,9,     -999.0,     -999.0,9,     -999.0
33RO20150525,     P16N.2,     183,          1,          5,          5,2,20150617,       1643,    55.8696,  -152.9036,       3923,  2533.5,   1.6849,  34.6334,2,  34.6326,2,     87.4,2,    87.3,2,  167.14,2,   39.98,2,       0,2,    2.77,2,-999.000,9,-999.000,9,-999.000,9,  2366.7,2,  2417.4,2,   7.4515,2,       25,-999.000,9,-999.0000,9, -999.00,9,  -999.0,9,  -999.0,-999.0000,9,-999.0000,    36.8,2,     -999.0,9,-999.000,9, 20150617,     1712,-999.000,   1.6847,2,    34.7959,2,     -999.0,9,     -999.0,-999.0000,     -999.0,     -999.0,9,     -999.0,     -999.0,9,     -999.0,  -999.0,9,     -999.0,     -999.0,9,     -999.0
33RO20150525,     P16N.2,     183,          1,          4,          4,2,20150617,       1643,    55.8696,  -152.9036,       3923,  2932.8,   1.5984,  34.6513,2,  34.6549,2,    104.3,2,   103.8,2,  165.57,6,    38.9,6,       0,6,    2.69,6,-999.000,9,-999.000,9,-999.000,9,  2357.3,2,  2420.6,2,   7.4856,6,    25.02,-999.000,9,-999.0000,9, -999.00,9,  -999.0,9,  -999.0,-999.0000,9,-999.0000,    37.3,2,     -999.0,9,-999.000,9, 20150617,     1705,-999.000,   1.5988,2,    34.8183,2,     -999.0,9,     -999.0,-999.0000,     -999.0,     -999.0,9,     -999.0,     -999.0,9,     -999.0,  -999.0,9,     -999.0,     -999.0,9,     -999.0
33RO20150525,     P16N.2,     183,          1,          3,          3,2,20150617,       1643,    55.8696,  -152.9036,       3923,  3333.4,   1.4915,  34.6712,2,  34.6757,3,    123.3,2,   125.9,2,  161.66,6,   37.43,6,       0,6,    2.59,6,-999.000,9,-999.000,9,-999.000,9,  2341.8,2,  2421.6,2,   7.5281,6,    25.02,-999.000,9,-999.0000,9, -999.00,9,  -999.0,9,  -999.0,-999.0000,9,-999.0000,    36.9,2,     -999.0,9,-999.000,9, 20150617,     1657,-999.000,   1.4917,2,    34.8392,2,     -999.0,9,     -999.0,-999.0000,     -999.0,     -999.0,9,     -999.0,     -999.0,9,     -999.0,  -999.0,9,     -999.0,     -999.0,9,     -999.0
33RO20150525,     P16N.2,     183,          1,          2,          2,2,20150617,       1643,    55.8696,  -152.9036,       3923,  3723.9,   1.4508,  34.6815,2,  34.6797,2,    139.1,2,   139.9,2,  158.04,6,   36.46,6,       0,6,    2.53,6,-999.000,9,-999.000,9,-999.000,9,  2334.5,2,  2420.2,2,   7.5532,6,    25.02,-999.000,9,-999.0000,9, -999.00,9,  -999.0,9,  -999.0,-999.0000,9,-999.0000,    37.5,2,     -999.0,9,-999.000,9, 20150617,     1649,-999.000,   1.4503,2,    34.8432,2,     -999.0,9,     -999.0,-999.0000,     -999.0,     -999.0,9,     -999.0,     -999.0,9,     -999.0,  -999.0,9,     -999.0,     -999.0,9,     -999.0
33RO20150525,     P16N.2,     183,          1,          1,          1,2,20150617,       1643,    55.8696,  -152.9036,       3923,  3995.4,   1.4489,  34.6853,2,  34.6858,2,    146.3,2,     145,2,   155.8,6,   36.07,6,    0.01,6,     2.5,6,-999.000,9,-999.000,9,-999.000,9,    2331,6,    2418,2,    7.562,2,    25.03,-999.000,9,-999.0000,9, -999.00,9,  -999.0,9,  -999.0,-999.0000,9,-999.0000,    37.3,2,     -999.0,9,-999.000,9, 20150617,     1644,-999.000,   1.4485,2,    34.8494,2,     -999.0,9,     -999.0,-999.0000,     -999.0,     -999.0,9,     -999.0,     -999.0,9,     -999.0,  -999.0,9,     -999.0,     -999.0,9,     -999.0