BOTTLE,20220330CCHSIOCBG
EXPOCODE,SECT_ID,STNNBR,CASTNO,SAMPNO,BTLNBR,BTLNBR_FLAG_W,DATE,TIME,LATITUDE,LONGITUDE,DEPTH,CTDPRS,CTDTMP,CTDSAL,CTDSAL_FLAG_W,SALNTY,SALNTY_FLAG_W,CTDOXY,CTDOXY_FLAG_W,OXYGEN,OXYGEN_FLAG_W,SILCAT,SILCAT_FLAG_W,NITRAT,NITRAT_FLAG_W,NITRIT,NITRIT_FLAG_W,PHSPHT,PHSPHT_FLAG_W,CFC-11,CFC-11_FLAG_W,CFC-12,CFC-12_FLAG_W,SF6,SF6_FLAG_W,TCARBN,TCARBN_FLAG_W,ALKALI,ALKALI_FLAG_W,PH_TOT,PH_TOT_FLAG_W,PH_TMP,TRITUM,TRITUM_FLAG_W,HELIUM,HELIUM_FLAG_W,DELC13,DELC13_FLAG_W,DELC14,DELC14_FLAG_W,C14ERR,NEON,NEON_FLAG_W,NEONER,DOC,DOC_FLAG_W,N2O,N2O_FLAG_W,ARGON,ARGON_FLAG_W,BTL_DATE,BTL_TIME,TRITER,SBE35,SBE35_FLAG_W,SALTREF,SALTREF_FLAG_W,DELHE3,DELHE3_FLAG_W,DELHER,HELIER,ARGONER,KRYPTON,KRYPTON_FLAG_W,KRYPTONER,XENON,XENON_FLAG_W,XENONER,14C-DOC,14C-DOC_FLAG_W,14C-DOCERR,13C-DOC,13C-DOC_FLAG_W,13C-DOCERR
,,,,,,,,,,,METERS,DBAR,ITS-90,PSS-78,,PSS-78,,UMOL/KG,,UMOL/KG,,UMOL/KG,,UMOL/KG,,UMOL/KG,,UMOL/KG,,PMOL/KG,,PMOL/KG,,FMOL/KG,,UMOL/KG,,UMOL/KG,,,,DEG C,TU,,NMOL/KG,,/MILLE,,/MILLE,,/MILLE,NMOL/KG,,NMOL/KG,UMOL/KG,,NMOL/KG,,UMOL/KG,,,,TU,ITS-90,,G/KG,,PERCNT,,PERCNT,NMOL/KG,UMOL/KG,NMOL/KG,,NMOL/KG,NMOL/KG,,NMOL/KG,/MILLE,,/MILLE,/MILLE,,/MILLE
33RO20150525,     P16N.2,     123,          2,         24,         24,2,20150530,       1226,       27.5,  -151.9991,       5610,     2.6,  22.6132,  35.4687,2,  35.4679,2,      218,2,   217.9,2,    1.27,2,       0,2,    0.01,2,    0.03,2,   1.893,6,   1.176,6,    1.54,6,  2032.6,6,  2332.7,2,   8.0312,2,    25.04,-999.000,9,-999.0000,9,    0.80,2,    37.2,2,     2.3,-999.0000,9,-999.0000,    72.4,2,      7.018,3,-999.000,9, 20150530,     1436,-999.000,  22.6157,2,    35.6352,2,     -999.0,9,     -999.0,-999.0000,     -999.0,     -999.0,9,     -999.0,     -999.0,9,     -999.0,  -999.0,9,     -999.0,     -999.0,9,     -999.0
33RO20150525,     P16N.2,     123,          2,         23,         23,2,20150530,       1226,       27.5,  -151.9991,       5610,      41,  22.1955,  35.4283,2,  35.4212,2,    221.1,2,   221.5,2,    1.27,2,       0,2,    0.01,2,    0.04,2,   1.931,2,     1.2,2,   1.536,2,  2031.9,2,  2330.9,2,   8.0309,6,    25.05,-999.000,9,-999.0000,9, -999.00,9,  -999.0,9,  -999.0,-999.0000,9,-999.0000,    69.9,2,      7.129,3,-999.000,9, 20150530,     1433,-999.000,  22.1958,2,    35.5882,2,     -999.0,9,     -999.0,-999.0000,     -999.0,     -999.0,9,     -999.0,     -999.0,9,     -999.0,  -999.0,9,     -999.0,     -999.0,9,     -999.0
33RO20150525,     P16N.2,     123,          2,         22,         22,2,20150530,       1226,       27.5,  -151.9991,       5610,    70.7,  21.6121,  35.3817,2,  35.3721,2,      223,2,   221.5,2,    1.37,2,       0,2,    0.01,2,    0.05,2,   1.957,2,   1.211,2,   1.567,2,  2032.5,2,  2328.3,6,    8.026,6,    25.04,-999.000,9,-999.0000,9,    0.83,2,    44.7,2,     2.1,-999.0000,9,-999.0000,    70.2,2,      7.261,3,-999.000,9, 20150530,     1431,-999.000,  21.6095,2,    35.5389,2,     -999.0,9,     -999.0,-999.0000,     -999.0,     -999.0,9,     -999.0,     -999.0,9,     -999.0,  -999.0,9,     -999.0,     -999.0,9,     -999.0
33RO20150525,     P16N.2,     123,          2,         21,         21,2,20150530,       1226,       27.5,  -151.9991,       5610,   110.6,  19.8242,  35.1987,2,   35.194,2,    217.4,2,   221.3,2,    1.95,2,       0,2,    0.01,2,    0.08,2,   2.115,2,   1.298,2,   1.625,2,  2036.3,2,    2312,2,   7.9958,2,    25.06,-999.000,9,-999.0000,9,    0.69,2,    44.1,2,     2.1,-999.0000,9,-999.0000,    61.0,2,      7.843,3,-999.000,9, 20150530,     1429,-999.000,   19.825,2,    35.3599,2,     -999.0,9,     -999.0,-999.0000,     -999.0,     -999.0,9,     -999.0,     -999.0,9,     -999.0,  -999.0,9,     -999.0,     -999.0,9,     -999.0
33RO20150525,     P16N.2,     123,          2,         20,         20,2,20150530,       1226,       27.5,  -151.9991,       5610,   175.5,  17.3694,  34.8523,2,  34.8482,2,    219.2,2,   219.3,2,    3.12,2,    1.56,2,    0.06,2,     0.2,2,   2.339,2,   1.426,2,   1.696,2,  2043.4,2,  2289.4,2,   7.9484,2,    25.06,-999.000,9,-999.0000,9,    0.51,2,    44.8,2,     2.3,-999.0000,9,-999.0000,    54.6,2,      8.711,3,-999.000,9, 20150530,     1426,-999.000,  17.3697,2,    35.0125,2,     -999.0,9,     -999.0,-999.0000,     -999.0,     -999.0,9,     -999.0,     -999.0,9,     -999.0,  -999.0,9,     -999.0,     -999.0,9,     -999.0
33RO20150525,     P16N.2,     123,          2,         19,         19,2,20150530,       1226,       27.5,  -151.9991,       5610,   251.3,  13.5651,  34.2747,2,  34.2688,2,    214.2,2,   209.7,2,    7.32,2,    7.91,2,    0.01,2,    0.59,2,   2.866,2,   1.692,2,   1.727,2,  2068.6,2,  2254.9,2,   7.8364,2,    25.08,-999.000,9,-999.0000,9,    0.22,2,    35.4,2,     2.7,-999.0000,9,-999.0000,    48.5,2,     12.358,3,-999.000,9, 20150530,     1424,-999.000,  13.5659,2,    34.4304,2,     -999.0,9,     -999.0,-999.0000,     -999.0,     -999.0,9,     -999.0,     -999.0,9,     -999.0,  -999.0,9,     -999.0,     -999.0,9,     -999.0
33RO20150525,     P16N.2,     123,          2,         18,         18,2,20150530,       1226,       27.5,  -151.9991,       5610,     333,   11.318,  34.1817,2,  34.1778,2,    211.2,2,   208.1,2,   13.48,2,   13.09,2,    0.01,2,    0.93,2,   3.164,2,   1.818,2,   1.591,2,  2096.5,2,    2255,2,   7.7732,2,    25.05,-999.000,9,-999.0000,9,    0.17,2,    32.9,2,     2.2,-999.0000,9,-999.0000,    49.6,2,     16.101,3,-999.000,9, 20150530,     1421,-999.000,  11.3222,2,     34.339,2,     -999.0,9,     -999.0,-999.0000,     -999.0,     -999.0,9,     -999.0,     -999.0,9,     -999.0,  -999.0,9,     -999.0,     -999.0,9,     -999.0
33RO20150525,     P16N.2,     123,          2,         17,         17,2,20150530,       1226,       27.5,  -151.9991,       5610,   433.7,   8.9017,  34.0616,2,  34.0609,2,    185.2,2,   182.3,2,   25.98,2,   20.41,2,    0.01,2,    1.42,2,   3.239,6,   1.784,6,   1.242,6,  2143.9,2,  2263.3,2,    7.666,2,    25.07,-999.000,9,-999.0000,9,   -0.05,2,    13.4,2,     3.1,-999.0000,9,-999.0000,    44.2,2,     21.833,3,-999.000,9, 20150530,     1418,-999.000,   8.8992,2,    34.2216,6,     -999.0,9,     -999.0,-999.0000,     -999.0,     -999.0,9,     -999.0,     -999.0,9,     -999.0,  -999.0,9,     -999.0,     -999.0,9,     -999.0
33RO20150525,     P16N.2,     123,          2,         16,         16,2,20150530,       1226,       27.5,  -151.9991,       5610,   551.2,    6.511,  34.0246,2,  34.0249,2,       99,2,    97.2,2,    54.4,2,   32.82,2,    0.01,2,    2.31,2,   2.147,2,   1.087,2,   0.482,2,    2238,2,  2282.1,2,   7.4462,2,    25.07,-999.000,9,-999.0000,9,   -0.34,2,   -47.5,2,     1.9,-999.0000,9,-999.0000,    44.6,2,     31.976,3,-999.000,9, 20150530,     1415,-999.000,   6.5042,2,    34.1854,2,     -999.0,9,     -999.0,-999.0000,     -999.0,     -999.0,9,     -999.0,     -999.0,9,     -999.0,  -999.0,9,     -999.0,     -999.0,9,     -999.0
33RO20150525,     P16N.2,     123,          2,         15,         15,2,20150530,       1226,       27.5,  -151.9991,       5610,   699.9,   5.1185,   34.131,2,  34.1308,2,       39,2,    39.6,2,   81.06,2,   40.04,2,    0.01,2,    2.87,2,   0.709,2,   0.347,2,   0.095,2,  2304.7,2,  2309.4,2,   7.3224,2,    25.06,-999.000,9,-999.0000,9,   -0.59,2,  -121.0,2,     1.8,-999.0000,9,-999.0000,    42.8,2,     42.468,3,-999.000,9, 20150530,     1411,-999.000,   5.1223,2,    34.2917,2,     -999.0,9,     -999.0,-999.0000,     -999.0,     -999.0,9,     -999.0,     -999.0,9,     -999.0,  -999.0,9,     -999.0,     -999.0,9,     -999.0
33RO20150525,     P16N.2,     123,          2,         14,         14,2,20150530,       1226,       27.5,  -151.9991,       5610,   850.6,   4.2299,  34.2788,2,  34.2889,2,     16.9,2,    16.6,2,  104.39,2,   43.06,2,    0.01,2,    3.07,2,    0.09,2,   0.046,2,   0.038,2,  2346.8,2,  2342.6,2,   7.2938,2,    25.07,-999.000,9,-999.0000,9,   -0.65,2,  -179.3,2,     1.7,-999.0000,9,-999.0000,    42.0,2,     48.143,3,-999.000,9, 20150530,     1407,-999.000,   4.2345,2,    34.4506,2,     -999.0,9,     -999.0,-999.0000,     -999.0,     -999.0,9,     -999.0,     -999.0,9,     -999.0,  -999.0,9,     -999.0,     -999.0,9,     -999.0
33RO20150525,     P16N.2,     123,          2,         13,         13,2,20150530,       1226,       27.5,  -151.9991,       5610,  1000.8,   3.7387,   34.393,2,  34.3925,2,     20.8,2,    21.1,2,  117.07,2,   43.35,2,    0.01,2,    3.08,2,   0.017,2,   0.012,2,       0,2,  2359.3,2,  2363.7,2,   7.3153,2,    25.08,-999.000,9,-999.0000,9,   -0.57,2,  -199.7,2,     1.7,-999.0000,9,-999.0000,    38.6,2,     47.389,3,-999.000,9, 20150530,     1403,-999.000,   3.7388,2,    34.5547,2,     -999.0,9,     -999.0,-999.0000,     -999.0,     -999.0,9,     -999.0,     -999.0,9,     -999.0,  -999.0,9,     -999.0,     -999.0,9,     -999.0
33RO20150525,     P16N.2,     123,          2,         12,         12,2,20150530,       1226,       27.5,  -151.9991,       5610,  1166.6,   3.3725,  34.4721,2,  34.4714,2,     35.8,2,    35.6,2,  124.19,2,   42.76,2,       0,2,    3.02,2,    0.01,2,   0.007,2,       0,2,  2363.6,2,  2379.3,2,   7.3518,2,    25.08,-999.000,9,-999.0000,9, -999.00,9,  -999.0,9,  -999.0,-999.0000,9,-999.0000,    37.6,2,     42.643,3,-999.000,9, 20150530,     1359,-999.000,   3.3718,2,     34.634,2,     -999.0,9,     -999.0,-999.0000,     -999.0,     -999.0,9,     -999.0,     -999.0,9,     -999.0,  -999.0,9,     -999.0,     -999.0,9,     -999.0
33RO20150525,     P16N.2,     123,          2,         11,         11,2,20150530,       1226,       27.5,  -151.9991,       5610,  1400.6,   2.8961,  34.5373,2,  34.5363,2,     54.2,2,    55.1,2,  133.66,2,   41.88,2,       0,2,    2.94,2,   0.002,2,   0.002,2,       0,2,  2365.1,2,  2393.3,2,   7.3924,2,    25.03,-999.000,9,-999.0000,9, -999.00,9,  -999.0,9,  -999.0,-999.0000,9,-999.0000,    36.4,2,     37.244,3,-999.000,9, 20150530,     1353,-999.000,   2.8965,2,    34.6991,6,     -999.0,9,     -999.0,-999.0000,     -999.0,     -999.0,9,     -999.0,     -999.0,9,     -999.0,  -999.0,9,     -999.0,     -999.0,9,     -999.0
33RO20150525,     P16N.2,     123,          2,         10,         10,2,20150530,       1226,       27.5,  -151.9991,       5610,  1733.5,   2.3664,  34.5864,2,  34.5863,2,     71.2,2,    70.7,2,  146.15,2,      41,2,       0,2,    2.86,2,   0.001,2,   0.004,2,       0,2,    2366,6,  2406.6,2,   7.4246,3,    25.09,-999.000,9,-999.0000,9, -999.00,9,  -999.0,9,  -999.0,-999.0000,9,-999.0000,    37.3,2,     32.728,3,-999.000,9, 20150530,     1346,-999.000,   2.3661,2,    34.7494,2,     -999.0,9,     -999.0,-999.0000,     -999.0,     -999.0,9,     -999.0,     -999.0,9,     -999.0,  -999.0,9,     -999.0,     -999.0,9,     -999.0
33RO20150525,     P16N.2,     123,          2,          9,          9,2,20150530,       1226,       27.5,  -151.9991,       5610,  2167.3,   1.9172,  34.6282,2,  34.6278,2,     88.6,2,    88.7,2,  157.47,2,   39.93,2,       0,2,    2.77,2,-999.000,9,-999.000,9,-999.000,9,  2366.2,2,    2420,2,   7.4604,6,    25.06,-999.000,9,-999.0000,9, -999.00,9,  -999.0,9,  -999.0,-999.0000,9,-999.0000,    37.8,2,     -999.0,9,-999.000,9, 20150530,     1337,-999.000,   1.9173,2,    34.7911,2,     -999.0,9,     -999.0,-999.0000,     -999.0,     -999.0,9,     -999.0,     -999.0,9,     -999.0,  -999.0,9,     -999.0,     -999.0,9,     -999.0
33RO20150525,     P16N.2,     123,          2,          8,          8,2,20150530,       1226,       27.5,  -151.9991,       5610,  2667.1,   1.6475,   34.655,2,  34.6548,2,    108.3,2,   108.7,2,  161.27,2,   38.76,2,    0.01,2,    2.67,2,-999.000,9,-999.000,9,-999.000,9,  2359.9,2,    2424,2,   7.4992,2,    25.03,-999.000,9,-999.0000,9, -999.00,9,  -999.0,9,  -999.0,-999.0000,9,-999.0000,    38.1,2,     -999.0,9,-999.000,9, 20150530,     1327,-999.000,   1.6474,2,    34.8182,2,     -999.0,9,     -999.0,-999.0000,     -999.0,     -999.0,9,     -999.0,     -999.0,9,     -999.0,  -999.0,9,     -999.0,     -999.0,9,     -999.0
33RO20150525,     P16N.2,     123,          2,          7,          7,2,20150530,       1226,       27.5,  -151.9991,       5610,  3167.4,   1.5262,  34.6716,2,  34.6774,4,    127.2,2,     127,2,  157.17,2,   37.49,2,    0.01,2,    2.56,2,-999.000,9,-999.000,9,-999.000,9,  2344.6,2,  2425.2,2,   7.5342,2,    25.08,-999.000,9,-999.0000,9, -999.00,9,  -999.0,9,  -999.0,-999.0000,9,-999.0000,    37.2,2,     -999.0,9,-999.000,9, 20150530,     1318,-999.000,   1.5263,2,    34.8409,2,     -999.0,9,     -999.0,-999.0000,     -999.0,     -999.0,9,     -999.0,     -999.0,9,     -999.0,  -999.0,9,     -999.0,     -999.0,9,     -999.0
33RO20150525,     P16N.2,     123,          2,          6,          6,2,20150530,       1226,       27.5,  -151.9991,       5610,  3667.6,   1.4882,  34.6803,2,  34.6876,4,    138.7,2,   138.2,2,  153.65,2,    36.8,2,       0,2,     2.5,2,-999.000,9,-999.000,9,-999.000,9,  2338.5,2,  2424.8,2,    7.555,2,    25.03,-999.000,9,-999.0000,9, -999.00,9,  -999.0,9,  -999.0,-999.0000,9,-999.0000,    38.5,2,     -999.0,9,-999.000,9, 20150530,     1308,-999.000,   1.4882,2,    34.8512,2,     -999.0,9,     -999.0,-999.0000,     -999.0,     -999.0,9,     -999.0,     -999.0,9,     -999.0,  -999.0,9,     -999.0,     -999.0,9,     -999.0
33RO20150525,     P16N.2,     123,          2,          5,          5,2,20150530,       1226,       27.5,  -151.9991,       5610,  4167.2,    1.483,  34.6855,2,  34.6848,2,    147.2,2,   147.8,2,  149.65,2,   36.22,2,       0,2,    2.46,2,-999.000,9,-999.000,9,-999.000,9,  2329.4,2,  2422.2,2,   7.5664,2,    25.08,-999.000,9,-999.0000,9, -999.00,9,  -999.0,9,  -999.0,-999.0000,9,-999.0000,    36.5,2,     -999.0,9,-999.000,9, 20150530,     1258,-999.000,   1.4829,2,    34.8484,2,     -999.0,9,     -999.0,-999.0000,     -999.0,     -999.0,9,     -999.0,     -999.0,9,     -999.0,  -999.0,9,     -999.0,     -999.0,9,     -999.0
33RO20150525,     P16N.2,     123,          2,          4,          4,2,20150530,       1226,       27.5,  -151.9991,       5610,  4667.8,    1.496,  34.6893,2,  34.6876,2,    154.4,2,   154.1,2,  144.77,6,   35.63,6,       0,6,    2.42,6,-999.000,9,-999.000,9,-999.000,9,  2323.2,2,    2417,2,   7.5776,2,    25.03,-999.000,9,-999.0000,9, -999.00,9,  -999.0,9,  -999.0,-999.0000,9,-999.0000,    38.7,2,     -999.0,9,-999.000,9, 20150530,     1249,-999.000,   1.4963,2,    34.8512,2,     -999.0,9,     -999.0,-999.0000,     -999.0,     -999.0,9,     -999.0,     -999.0,9,     -999.0,  -999.0,9,     -999.0,     -999.0,9,     -999.0
33RO20150525,     P16N.2,     123,          2,          3,          3,2,20150530,       1226,       27.5,  -151.9991,       5610,  5167.2,   1.5174,  34.6928,2,  34.6919,2,    161.6,2,   160.5,2,  139.69,6,   35.14,6,       0,6,    2.39,6,-999.000,9,-999.000,9,-999.000,9,  2317.1,2,  2413.8,2,   7.5844,6,    25.06,-999.000,9,-999.0000,9, -999.00,9,  -999.0,9,  -999.0,-999.0000,9,-999.0000,    37.7,2,     -999.0,9,-999.000,9, 20150530,     1239,-999.000,   1.5174,2,    34.8555,2,     -999.0,9,     -999.0,-999.0000,     -999.0,     -999.0,9,     -999.0,     -999.0,9,     -999.0,  -999.0,9,     -999.0,     -999.0,9,     -999.0
33RO20150525,     P16N.2,     123,          2,          2,          2,2,20150530,       1226,       27.5,  -151.9991,       5610,  5437.7,   1.5401,  34.6939,2,  34.6923,2,    164.1,2,   162.4,2,  138.03,6,   35.05,6,       0,6,    2.38,6,-999.000,9,-999.000,9,-999.000,9,  2314.4,2,    2412,6,   7.5867,6,    25.08,-999.000,9,-999.0000,9, -999.00,9,  -999.0,9,  -999.0,-999.0000,9,-999.0000,    37.5,2,     -999.0,9,-999.000,9, 20150530,     1232,-999.000,   1.5401,2,    34.8559,2,     -999.0,9,     -999.0,-999.0000,     -999.0,     -999.0,9,     -999.0,     -999.0,9,     -999.0,  -999.0,9,     -999.0,     -999.0,9,     -999.0
33RO20150525,     P16N.2,     123,          2,          1,          1,2,20150530,       1226,       27.5,  -151.9991,       5610,  5699.4,   1.5741,  34.6941,2,  34.6934,2,    164.1,2,   165.9,2,  137.94,6,   34.95,6,       0,6,    2.38,6,-999.000,9,-999.000,9,-999.000,9,  2316.8,6,  2412.2,2,    7.587,6,    25.07,-999.000,9,-999.0000,9, -999.00,9,  -999.0,9,  -999.0,-999.0000,9,-999.0000,    40.7,2,     -999.0,9,-999.000,9, 20150530,     1225,-999.000,   1.5741,2,     34.857,2,     -999.0,9,     -999.0,-999.0000,     -999.0,     -999.0,9,     -999.0,     -999.0,9,     -999.0,  -999.0,9,     -999.0,     -999.0,9,     -999.0