BOTTLE,20220330CCHSIOCBG
EXPOCODE,SECT_ID,STNNBR,CASTNO,SAMPNO,BTLNBR,BTLNBR_FLAG_W,DATE,TIME,LATITUDE,LONGITUDE,DEPTH,CTDPRS,CTDTMP,CTDSAL,CTDSAL_FLAG_W,SALNTY,SALNTY_FLAG_W,CTDOXY,CTDOXY_FLAG_W,OXYGEN,OXYGEN_FLAG_W,SILCAT,SILCAT_FLAG_W,NITRAT,NITRAT_FLAG_W,NITRIT,NITRIT_FLAG_W,PHSPHT,PHSPHT_FLAG_W,CFC-11,CFC-11_FLAG_W,CFC-12,CFC-12_FLAG_W,SF6,SF6_FLAG_W,TCARBN,TCARBN_FLAG_W,ALKALI,ALKALI_FLAG_W,PH_TOT,PH_TOT_FLAG_W,PH_TMP,TRITUM,TRITUM_FLAG_W,HELIUM,HELIUM_FLAG_W,DELC13,DELC13_FLAG_W,DELC14,DELC14_FLAG_W,C14ERR,NEON,NEON_FLAG_W,NEONER,DOC,DOC_FLAG_W,N2O,N2O_FLAG_W,ARGON,ARGON_FLAG_W,BTL_DATE,BTL_TIME,TRITER,SBE35,SBE35_FLAG_W,SALTREF,SALTREF_FLAG_W,DELHE3,DELHE3_FLAG_W,DELHER,HELIER,ARGONER,KRYPTON,KRYPTON_FLAG_W,KRYPTONER,XENON,XENON_FLAG_W,XENONER,14C-DOC,14C-DOC_FLAG_W,14C-DOCERR,13C-DOC,13C-DOC_FLAG_W,13C-DOCERR
,,,,,,,,,,,METERS,DBAR,ITS-90,PSS-78,,PSS-78,,UMOL/KG,,UMOL/KG,,UMOL/KG,,UMOL/KG,,UMOL/KG,,UMOL/KG,,PMOL/KG,,PMOL/KG,,FMOL/KG,,UMOL/KG,,UMOL/KG,,,,DEG C,TU,,NMOL/KG,,/MILLE,,/MILLE,,/MILLE,NMOL/KG,,NMOL/KG,UMOL/KG,,NMOL/KG,,UMOL/KG,,,,TU,ITS-90,,G/KG,,PERCNT,,PERCNT,NMOL/KG,UMOL/KG,NMOL/KG,,NMOL/KG,NMOL/KG,,NMOL/KG,/MILLE,,/MILLE,/MILLE,,/MILLE
33RO20150525,     P16N.2,     115,          2,         24,         24,2,20150528,       0118,    23.4999,  -152.0001,       5318,     3.2,  24.0686,   35.202,2,  35.2008,2,    210.3,2,   210.1,2,    1.17,2,     0.1,2,       0,2,    0.09,2,   1.787,6,   1.113,6,   1.456,6,  2011.3,2,  2319.4,2,   8.0525,6,    25.05,-999.000,9,-999.0000,9, -999.00,9,  -999.0,9,  -999.0,-999.0000,9,-999.0000,    73.4,2,      6.739,3,-999.000,9, 20150528,     0324,-999.000,  24.0696,2,    35.3668,2,     -999.0,9,     -999.0,-999.0000,     -999.0,     -999.0,9,     -999.0,     -999.0,9,     -999.0,  -999.0,9,     -999.0,     -999.0,9,     -999.0
33RO20150525,     P16N.2,     115,          2,         23,         23,2,20150528,       0118,    23.4999,  -152.0001,       5318,    20.1,  23.8636,  35.2303,2,   35.228,2,    211.3,2,     211,2,    1.17,2,     0.1,2,       0,2,    0.09,2,-999.000,9,-999.000,9,-999.000,9,  -999.0,9,  -999.0,9,-999.0000,9,  -999.00,-999.000,9,-999.0000,9, -999.00,9,  -999.0,9,  -999.0,-999.0000,9,-999.0000,    75.2,2,     -999.0,9,-999.000,9, 20150528,     0322,-999.000,  23.8623,2,    35.3941,2,     -999.0,9,     -999.0,-999.0000,     -999.0,     -999.0,9,     -999.0,     -999.0,9,     -999.0,  -999.0,9,     -999.0,     -999.0,9,     -999.0
33RO20150525,     P16N.2,     115,          2,         22,         22,2,20150528,       0118,    23.4999,  -152.0001,       5318,    41.8,  23.7561,  35.2397,2,  35.2487,2,    210.7,2,   211.7,2,    1.17,2,     0.1,2,       0,2,     0.1,2,   1.801,2,   1.122,2,   1.488,2,  2012.2,6,  2321.1,2,   8.0517,6,    25.04,-999.000,9,-999.0000,9, -999.00,9,  -999.0,9,  -999.0,-999.0000,9,-999.0000,    73.3,2,      6.834,3,-999.000,9, 20150528,     0320,-999.000,  23.7552,2,    35.4149,2,     -999.0,9,     -999.0,-999.0000,     -999.0,     -999.0,9,     -999.0,     -999.0,9,     -999.0,  -999.0,9,     -999.0,     -999.0,9,     -999.0
33RO20150525,     P16N.2,     115,          2,         21,         21,2,20150528,       0118,    23.4999,  -152.0001,       5318,    66.7,  22.7586,  35.3755,2,  35.3796,2,    216.9,2,   216.5,2,    1.17,2,     0.1,2,       0,2,    0.06,2,   1.883,2,   1.166,2,   1.513,2,  2024.1,2,  2329.4,2,   8.0415,2,    25.04,-999.000,9,-999.0000,9, -999.00,9,  -999.0,9,  -999.0,-999.0000,9,-999.0000,    72.3,2,      7.005,3,-999.000,9, 20150528,     0317,-999.000,  22.7507,2,    35.5464,2,     -999.0,9,     -999.0,-999.0000,     -999.0,     -999.0,9,     -999.0,     -999.0,9,     -999.0,  -999.0,9,     -999.0,     -999.0,9,     -999.0
33RO20150525,     P16N.2,     115,          2,         20,         20,2,20150528,       0118,    23.4999,  -152.0001,       5318,    92.2,  21.6338,  35.3617,2,  35.3612,2,    218.6,2,   219.6,2,    1.37,2,     0.2,2,       0,2,    0.06,2,   1.973,2,   1.214,2,   1.555,2,  2029.4,2,  2327.5,6,   8.0284,6,    25.04,-999.000,9,-999.0000,9, -999.00,9,  -999.0,9,  -999.0,-999.0000,9,-999.0000,    71.7,2,      7.222,3,-999.000,9, 20150528,     0315,-999.000,  21.6372,2,     35.528,2,     -999.0,9,     -999.0,-999.0000,     -999.0,     -999.0,9,     -999.0,     -999.0,9,     -999.0,  -999.0,9,     -999.0,     -999.0,9,     -999.0
33RO20150525,     P16N.2,     115,          2,         19,         19,2,20150528,       0118,    23.4999,  -152.0001,       5318,   133.4,  20.1387,  35.1588,2,   35.152,2,    211.1,2,   210.2,2,    1.85,2,    0.29,2,    0.11,2,    0.09,2,   2.104,2,   1.285,2,   1.571,2,    2043,2,  2309.9,2,   7.9861,2,    25.05,-999.000,9,-999.0000,9, -999.00,9,  -999.0,9,  -999.0,-999.0000,9,-999.0000,    63.6,2,      7.811,3,-999.000,9, 20150528,     0313,-999.000,  20.1141,2,    35.3177,2,     -999.0,9,     -999.0,-999.0000,     -999.0,     -999.0,9,     -999.0,     -999.0,9,     -999.0,  -999.0,9,     -999.0,     -999.0,9,     -999.0
33RO20150525,     P16N.2,     115,          2,         18,         18,2,20150528,       0118,    23.4999,  -152.0001,       5318,   199.6,  16.1199,  34.5519,2,  34.5459,2,    195.9,2,     196,2,    4.59,2,    4.88,2,    0.02,2,    0.42,2,   2.592,2,   1.523,2,   1.586,2,  2071.8,2,  2274.5,2,   7.8772,2,    25.03,-999.000,9,-999.0000,9, -999.00,9,  -999.0,9,  -999.0,-999.0000,9,-999.0000,    53.4,2,     11.398,3,-999.000,9, 20150528,     0310,-999.000,  16.1646,2,    34.7088,2,     -999.0,9,     -999.0,-999.0000,     -999.0,     -999.0,9,     -999.0,     -999.0,9,     -999.0,  -999.0,9,     -999.0,     -999.0,9,     -999.0
33RO20150525,     P16N.2,     115,          2,         17,         17,4,20150528,       0118,    23.4999,  -152.0001,       5318,   274.7,  11.5879,  34.0945,2,   34.098,2,    176.1,2,   175.2,4,   13.77,4,   14.55,4,    0.01,4,    1.11,4,    3.08,4,   1.727,4,   1.382,3,  2117.3,4,  2251.8,2,   7.7216,4,    25.06,-999.000,9,-999.0000,9, -999.00,9,  -999.0,9,  -999.0,-999.0000,9,-999.0000,    46.0,2,     21.400,4,-999.000,9, 20150528,     0307,-999.000,  11.5837,2,    34.2587,2,     -999.0,9,     -999.0,-999.0000,     -999.0,     -999.0,9,     -999.0,     -999.0,9,     -999.0,  -999.0,9,     -999.0,     -999.0,9,     -999.0
33RO20150525,     P16N.2,     115,          2,         16,         16,2,20150528,       0118,    23.4999,  -152.0001,       5318,   367.7,   9.4158,  34.0804,2,  34.0795,2,    188.8,2,   188.9,2,   22.17,2,   18.65,2,       0,2,    1.31,2,   3.341,2,   1.826,2,   1.358,2,    2139,2,  2260.3,2,   7.6928,2,    25.06,-999.000,9,-999.0000,9, -999.00,9,  -999.0,9,  -999.0,-999.0000,9,-999.0000,    44.7,2,     20.714,3,-999.000,9, 20150528,     0304,-999.000,   9.4159,2,    34.2402,2,     -999.0,9,     -999.0,-999.0000,     -999.0,     -999.0,9,     -999.0,     -999.0,9,     -999.0,  -999.0,9,     -999.0,     -999.0,9,     -999.0
33RO20150525,     P16N.2,     115,          2,         15,         15,2,20150528,       0118,    23.4999,  -152.0001,       5318,   467.6,   7.1837,  34.0189,2,  34.0188,2,    120.4,2,   120.1,2,   44.63,2,   29.59,2,    0.01,2,    2.08,2,   2.649,6,   1.344,6,   0.696,6,  2222.3,2,  2275.3,2,   7.5069,2,    25.05,-999.000,9,-999.0000,9, -999.00,9,  -999.0,9,  -999.0,-999.0000,9,-999.0000,    45.7,2,     28.670,3,-999.000,9, 20150528,     0301,-999.000,   7.1753,2,    34.1792,2,     -999.0,9,     -999.0,-999.0000,     -999.0,     -999.0,9,     -999.0,     -999.0,9,     -999.0,  -999.0,9,     -999.0,     -999.0,9,     -999.0
33RO20150525,     P16N.2,     115,          2,         14,         14,2,20150528,       0118,    23.4999,  -152.0001,       5318,   599.6,   5.3713,   34.127,2,  34.1263,2,     44.1,2,    42.5,2,   76.37,2,   39.55,2,       0,2,    2.84,2,   0.774,2,   0.382,2,   0.109,2,  2302.7,2,  2306.9,2,   7.3343,2,    25.04,-999.000,9,-999.0000,9, -999.00,9,  -999.0,9,  -999.0,-999.0000,9,-999.0000,    43.3,2,     41.232,3,-999.000,9, 20150528,     0257,-999.000,   5.3746,2,    34.2872,2,     -999.0,9,     -999.0,-999.0000,     -999.0,     -999.0,9,     -999.0,     -999.0,9,     -999.0,  -999.0,9,     -999.0,     -999.0,9,     -999.0
33RO20150525,     P16N.2,     115,          2,         13,         13,2,20150528,       0118,    23.4999,  -152.0001,       5318,     750,   4.4034,  34.2943,2,  34.2935,2,       24,2,    23.1,2,   99.99,2,   42.77,2,       0,2,    3.05,2,    0.12,2,   0.063,2,   0.046,2,  2338.8,2,  2341.4,2,   7.3134,6,    25.05,-999.000,9,-999.0000,9, -999.00,9,  -999.0,9,  -999.0,-999.0000,9,-999.0000,    42.0,2,     46.502,3,-999.000,9, 20150528,     0253,-999.000,   4.4051,2,    34.4552,2,     -999.0,9,     -999.0,-999.0000,     -999.0,     -999.0,9,     -999.0,     -999.0,9,     -999.0,  -999.0,9,     -999.0,     -999.0,9,     -999.0
33RO20150525,     P16N.2,     115,          2,         12,         12,2,20150528,       0118,    23.4999,  -152.0001,       5318,     900,   3.9789,  34.4356,2,  34.4342,2,     40.5,2,    40.3,2,  108.67,2,   42.28,2,       0,2,    2.99,2,   0.047,2,   0.026,2,       0,2,  2343.5,2,  2364.4,2,   7.3663,2,    25.06,-999.000,9,-999.0000,9, -999.00,9,  -999.0,9,  -999.0,-999.0000,9,-999.0000,    40.5,2,     42.037,3,-999.000,9, 20150528,     0249,-999.000,   3.9798,2,    34.5965,2,     -999.0,9,     -999.0,-999.0000,     -999.0,     -999.0,9,     -999.0,     -999.0,9,     -999.0,  -999.0,9,     -999.0,     -999.0,9,     -999.0
33RO20150525,     P16N.2,     115,          2,         11,         11,2,20150528,       0118,    23.4999,  -152.0001,       5318,  1050.7,   3.6455,     34.5,2,   34.499,2,     51.7,2,    51.7,2,  114.43,2,   41.88,2,       0,2,    2.96,2,   0.017,2,   0.011,2,   0.059,3,  2346.8,2,  2374.3,6,   7.3949,6,    25.06,-999.000,9,-999.0000,9, -999.00,9,  -999.0,9,  -999.0,-999.0000,9,-999.0000,    39.8,2,     38.871,3,-999.000,9, 20150528,     0245,-999.000,   3.6459,2,    34.6616,2,     -999.0,9,     -999.0,-999.0000,     -999.0,     -999.0,9,     -999.0,     -999.0,9,     -999.0,  -999.0,9,     -999.0,     -999.0,9,     -999.0
33RO20150525,     P16N.2,     115,          2,         10,         10,2,20150528,       0118,    23.4999,  -152.0001,       5318,  1232.6,    3.281,  34.5395,2,  34.5393,2,     56.7,2,    56.9,2,  121.94,2,   41.98,2,       0,2,    2.94,2,-999.000,9,-999.000,9,-999.000,9,  -999.0,9,  -999.0,9,-999.0000,9,  -999.00,-999.000,9,-999.0000,9, -999.00,9,  -999.0,9,  -999.0,-999.0000,9,-999.0000,    37.9,2,     -999.0,9,-999.000,9, 20150528,     0240,-999.000,   3.2814,2,    34.7021,6,     -999.0,9,     -999.0,-999.0000,     -999.0,     -999.0,9,     -999.0,     -999.0,9,     -999.0,  -999.0,9,     -999.0,     -999.0,9,     -999.0
33RO20150525,     P16N.2,     115,          2,          9,          9,2,20150528,       0118,    23.4999,  -152.0001,       5318,  1500.2,   2.7905,  34.5708,2,  34.5709,2,     68.1,2,    67.8,2,  132.97,2,   41.39,2,       0,2,     2.9,2,   0.001,2,   0.001,2,       0,2,  2315.4,4,    2399,2,    7.425,6,    25.06,-999.000,9,-999.0000,9, -999.00,9,  -999.0,9,  -999.0,-999.0000,9,-999.0000,    40.0,2,     34.005,3,-999.000,9, 20150528,     0234,-999.000,   2.7914,2,    34.7339,2,     -999.0,9,     -999.0,-999.0000,     -999.0,     -999.0,9,     -999.0,     -999.0,9,     -999.0,  -999.0,9,     -999.0,     -999.0,9,     -999.0
33RO20150525,     P16N.2,     115,          2,          8,          8,2,20150528,       0118,    23.4999,  -152.0001,       5318,  1867.7,   2.2715,  34.6107,2,  34.6105,2,       83,2,    82.6,2,     144,2,   40.51,2,       0,2,    2.82,2,-999.000,9,-999.000,9,-999.000,9,  -999.0,9,  -999.0,9,-999.0000,9,  -999.00,-999.000,9,-999.0000,9, -999.00,9,  -999.0,9,  -999.0,-999.0000,9,-999.0000,    36.8,2,     -999.0,9,-999.000,9, 20150528,     0227,-999.000,   2.2721,2,    34.7737,2,     -999.0,9,     -999.0,-999.0000,     -999.0,     -999.0,9,     -999.0,     -999.0,9,     -999.0,  -999.0,9,     -999.0,     -999.0,9,     -999.0
33RO20150525,     P16N.2,     115,          2,          7,          7,2,20150528,       0118,    23.4999,  -152.0001,       5318,  2332.1,   1.8325,  34.6395,2,  34.6393,2,     98.9,2,    98.6,2,  154.93,2,   39.54,2,       0,2,    2.73,2,-999.000,9,-999.000,9,-999.000,9,  -999.0,9,  -999.0,9,-999.0000,9,  -999.00,-999.000,9,-999.0000,9, -999.00,9,  -999.0,9,  -999.0,-999.0000,9,-999.0000,    40.0,2,     -999.0,9,-999.000,9, 20150528,     0217,-999.000,   1.8327,2,    34.8027,2,     -999.0,9,     -999.0,-999.0000,     -999.0,     -999.0,9,     -999.0,     -999.0,9,     -999.0,  -999.0,9,     -999.0,     -999.0,9,     -999.0
33RO20150525,     P16N.2,     115,          2,          6,          6,2,20150528,       0118,    23.4999,  -152.0001,       5318,    2833,   1.6138,  34.6624,2,   34.662,2,    117.2,2,   116.7,2,  156.29,2,   38.46,2,    0.01,2,    2.63,2,-999.000,9,-999.000,9,-999.000,9,  -999.0,9,  -999.0,9,-999.0000,9,  -999.00,-999.000,9,-999.0000,9, -999.00,9,  -999.0,9,  -999.0,-999.0000,9,-999.0000,    40.0,2,     -999.0,9,-999.000,9, 20150528,     0208,-999.000,   1.6139,2,    34.8255,2,     -999.0,9,     -999.0,-999.0000,     -999.0,     -999.0,9,     -999.0,     -999.0,9,     -999.0,  -999.0,9,     -999.0,     -999.0,9,     -999.0
33RO20150525,     P16N.2,     115,          2,          5,          5,2,20150528,       0118,    23.4999,  -152.0001,       5318,  3332.5,   1.5098,  34.6761,2,  34.6756,2,    131.3,2,     131,2,  155.22,2,   37.58,2,       0,2,    2.54,2,-999.000,9,-999.000,9,-999.000,9,  -999.0,9,  -999.0,9,-999.0000,9,  -999.00,-999.000,9,-999.0000,9, -999.00,9,  -999.0,9,  -999.0,-999.0000,9,-999.0000,    41.7,2,     -999.0,9,-999.000,9, 20150528,     0158,-999.000,   1.5099,2,    34.8391,2,     -999.0,9,     -999.0,-999.0000,     -999.0,     -999.0,9,     -999.0,     -999.0,9,     -999.0,  -999.0,9,     -999.0,     -999.0,9,     -999.0
33RO20150525,     P16N.2,     115,          2,          4,          4,2,20150528,       0118,    23.4999,  -152.0001,       5318,  3833.9,   1.4785,  34.6828,2,  34.6829,2,    141.2,2,   141.2,2,  152.29,6,    36.8,6,    0.01,6,     2.5,6,-999.000,9,-999.000,9,-999.000,9,  -999.0,9,  -999.0,9,-999.0000,9,  -999.00,-999.000,9,-999.0000,9, -999.00,9,  -999.0,9,  -999.0,-999.0000,9,-999.0000,    38.0,2,     -999.0,9,-999.000,9, 20150528,     0148,-999.000,   1.4785,2,    34.8464,2,     -999.0,9,     -999.0,-999.0000,     -999.0,     -999.0,9,     -999.0,     -999.0,9,     -999.0,  -999.0,9,     -999.0,     -999.0,9,     -999.0
33RO20150525,     P16N.2,     115,          2,          3,          3,2,20150528,       0118,    23.4999,  -152.0001,       5318,  4332.4,   1.4661,  34.6886,2,  34.6886,2,    151.5,2,     151,2,  145.06,6,   36.02,6,    0.01,6,    2.45,6,-999.000,9,-999.000,9,-999.000,9,  -999.0,9,  -999.0,9,-999.0000,9,  -999.00,-999.000,9,-999.0000,9, -999.00,9,  -999.0,9,  -999.0,-999.0000,9,-999.0000,    38.6,2,     -999.0,9,-999.000,9, 20150528,     0138,-999.000,   1.4664,2,    34.8522,2,     -999.0,9,     -999.0,-999.0000,     -999.0,     -999.0,9,     -999.0,     -999.0,9,     -999.0,  -999.0,9,     -999.0,     -999.0,9,     -999.0
33RO20150525,     P16N.2,     115,          2,          2,          2,2,20150528,       0118,    23.4999,  -152.0001,       5318,  4832.3,   1.4552,  34.6937,2,  34.6933,2,    162.5,2,   162.1,2,  137.54,6,   35.24,6,       0,6,    2.38,6,-999.000,9,-999.000,9,-999.000,9,  -999.0,9,  -999.0,9,-999.0000,9,  -999.00,-999.000,9,-999.0000,9, -999.00,9,  -999.0,9,  -999.0,-999.0000,9,-999.0000,    38.9,2,     -999.0,9,-999.000,9, 20150528,     0129,-999.000,   1.4554,2,    34.8569,2,     -999.0,9,     -999.0,-999.0000,     -999.0,     -999.0,9,     -999.0,     -999.0,9,     -999.0,  -999.0,9,     -999.0,     -999.0,9,     -999.0
33RO20150525,     P16N.2,     115,          2,          1,          1,2,20150528,       0118,    23.4999,  -152.0001,       5318,  5397.2,   1.5147,  34.6948,2,  34.6937,2,    165.1,2,   164.4,2,  136.18,6,   35.14,6,       0,6,    2.38,6,-999.000,9,-999.000,9,-999.000,9,  -999.0,9,  -999.0,9,-999.0000,9,  -999.00,-999.000,9,-999.0000,9, -999.00,9,  -999.0,9,  -999.0,-999.0000,9,-999.0000,    39.9,2,     -999.0,9,-999.000,9, 20150528,     0118,-999.000,   1.5149,2,    34.8573,6,     -999.0,9,     -999.0,-999.0000,     -999.0,     -999.0,9,     -999.0,     -999.0,9,     -999.0,  -999.0,9,     -999.0,     -999.0,9,     -999.0