BOTTLE,20220330CCHSIOCBG
EXPOCODE,SECT_ID,STNNBR,CASTNO,SAMPNO,BTLNBR,BTLNBR_FLAG_W,DATE,TIME,LATITUDE,LONGITUDE,DEPTH,CTDPRS,CTDTMP,CTDSAL,CTDSAL_FLAG_W,SALNTY,SALNTY_FLAG_W,CTDOXY,CTDOXY_FLAG_W,OXYGEN,OXYGEN_FLAG_W,SILCAT,SILCAT_FLAG_W,NITRAT,NITRAT_FLAG_W,NITRIT,NITRIT_FLAG_W,PHSPHT,PHSPHT_FLAG_W,CFC-11,CFC-11_FLAG_W,CFC-12,CFC-12_FLAG_W,SF6,SF6_FLAG_W,TCARBN,TCARBN_FLAG_W,ALKALI,ALKALI_FLAG_W,PH_TOT,PH_TOT_FLAG_W,PH_TMP,TRITUM,TRITUM_FLAG_W,HELIUM,HELIUM_FLAG_W,DELC13,DELC13_FLAG_W,DELC14,DELC14_FLAG_W,C14ERR,NEON,NEON_FLAG_W,NEONER,DOC,DOC_FLAG_W,N2O,N2O_FLAG_W,ARGON,ARGON_FLAG_W,BTL_DATE,BTL_TIME,TRITER,SBE35,SBE35_FLAG_W,SALTREF,SALTREF_FLAG_W,DELHE3,DELHE3_FLAG_W,DELHER,HELIER,ARGONER,KRYPTON,KRYPTON_FLAG_W,KRYPTONER,XENON,XENON_FLAG_W,XENONER,14C-DOC,14C-DOC_FLAG_W,14C-DOCERR,13C-DOC,13C-DOC_FLAG_W,13C-DOCERR
,,,,,,,,,,,METERS,DBAR,ITS-90,PSS-78,,PSS-78,,UMOL/KG,,UMOL/KG,,UMOL/KG,,UMOL/KG,,UMOL/KG,,UMOL/KG,,PMOL/KG,,PMOL/KG,,FMOL/KG,,UMOL/KG,,UMOL/KG,,,,DEG C,TU,,NMOL/KG,,/MILLE,,/MILLE,,/MILLE,NMOL/KG,,NMOL/KG,UMOL/KG,,NMOL/KG,,UMOL/KG,,,,TU,ITS-90,,G/KG,,PERCNT,,PERCNT,NMOL/KG,UMOL/KG,NMOL/KG,,NMOL/KG,NMOL/KG,,NMOL/KG,/MILLE,,/MILLE,/MILLE,,/MILLE
33RO20150525,     P16N.2,     173,          1,         24,         24,2,20150615,       0236,       52.5,  -152.0001,       4495,     2.6,   8.5692,   32.666,2,  32.6652,2,    306.4,2,   307.3,2,   31.32,2,   13.41,2,    0.18,2,    1.29,2,    4.05,2,   2.268,2,    2.63,2,  2037.4,6,  2205.6,2,   7.8154,2,    25.03,-999.000,9,-999.0000,9,    1.23,2,   -34.9,2,     2.6,-999.0000,9,-999.0000,    61.7,2,     11.693,3,-999.000,9, 20150615,     0425,-999.000,   8.5696,2,    32.8193,2,     -999.0,9,     -999.0,-999.0000,     -999.0,     -999.0,9,     -999.0,     -999.0,9,     -999.0,  -999.0,9,     -999.0,     -999.0,9,     -999.0
33RO20150525,     P16N.2,     173,          1,         23,         23,2,20150615,       0236,       52.5,  -152.0001,       4495,    24.8,   8.1864,  32.6869,2,  32.6882,2,    308.1,2,   306.7,2,   31.22,2,   14.19,2,    0.18,2,    1.33,2,-999.000,9,-999.000,9,-999.000,9,  2047.1,2,  2207.2,2,   7.7948,2,    25.04,-999.000,9,-999.0000,9,    1.07,2,   -32.9,2,     2.3,-999.0000,9,-999.0000,    57.6,2,     -999.0,9,-999.000,9, 20150615,     0423,-999.000,   8.1845,2,    32.8424,2,     -999.0,9,     -999.0,-999.0000,     -999.0,     -999.0,9,     -999.0,     -999.0,9,     -999.0,  -999.0,9,     -999.0,     -999.0,9,     -999.0
33RO20150525,     P16N.2,     173,          1,         22,         22,2,20150615,       0236,       52.5,  -152.0001,       4495,    49.2,   5.7508,  32.7343,2,  32.7412,2,    304.7,2,   303.2,2,    32.2,2,   18.11,2,    0.14,2,    1.59,2,   4.494,2,   2.473,2,   2.851,2,  2084.5,2,  2205.7,2,    7.698,6,    25.01,-999.000,9,-999.0000,9,    0.73,2,   -32.4,2,     2.5,-999.0000,9,-999.0000,    55.0,2,     13.351,3,-999.000,9, 20150615,     0421,-999.000,   5.7502,2,    32.8956,2,     -999.0,9,     -999.0,-999.0000,     -999.0,     -999.0,9,     -999.0,     -999.0,9,     -999.0,  -999.0,9,     -999.0,     -999.0,9,     -999.0
33RO20150525,     P16N.2,     173,          1,         21,         21,2,20150615,       0236,       52.5,  -152.0001,       4495,    74.6,   5.4072,  32.8095,2,  32.8228,2,    289.7,2,   145.2,4,   35.33,2,   20.06,2,    0.14,2,     1.7,2,    4.44,2,   2.459,2,   2.711,2,  2101.8,2,  2210.6,2,   7.6668,6,    25.04,-999.000,9,-999.0000,9,    0.58,2,   -38.0,2,     2.6,-999.0000,9,-999.0000,    52.1,2,     14.656,3,-999.000,9, 20150615,     0419,-999.000,   5.4136,2,    32.9776,2,     -999.0,9,     -999.0,-999.0000,     -999.0,     -999.0,9,     -999.0,     -999.0,9,     -999.0,  -999.0,9,     -999.0,     -999.0,9,     -999.0
33RO20150525,     P16N.2,     173,          1,         20,         20,2,20150615,       0236,       52.5,  -152.0001,       4495,    99.9,   4.3167,   33.385,2,  33.4319,2,    128.2,2,   144.8,2,   61.63,2,   34.34,2,    0.03,2,    2.49,2,    3.53,2,   1.876,2,   1.666,2,  2227.9,2,  2254.5,6,   7.3964,2,    25.02,-999.000,9,-999.0000,9,   -0.37,2,   -66.6,2,     2.6,-999.0000,9,-999.0000,    45.1,2,     29.477,3,-999.000,9, 20150615,     0418,-999.000,    4.354,2,    33.5896,2,     -999.0,9,     -999.0,-999.0000,     -999.0,     -999.0,9,     -999.0,     -999.0,9,     -999.0,  -999.0,9,     -999.0,     -999.0,9,     -999.0
33RO20150525,     P16N.2,     173,          1,         19,         19,2,20150615,       0236,       52.5,  -152.0001,       4495,   149.9,   3.7833,   33.827,2,  33.8172,2,     52.6,2,    53.4,2,   83.62,2,   42.45,2,    0.01,2,    2.97,2,   2.645,2,   1.353,2,   0.939,2,  2310.9,2,  2286.2,2,   7.2373,2,       25,-999.000,9,-999.0000,9,   -0.84,2,   -95.4,2,     3.3,-999.0000,9,-999.0000,    44.4,2,     39.285,3,-999.000,9, 20150615,     0416,-999.000,   3.7833,2,    33.9767,2,     -999.0,9,     -999.0,-999.0000,     -999.0,     -999.0,9,     -999.0,     -999.0,9,     -999.0,  -999.0,9,     -999.0,     -999.0,9,     -999.0
33RO20150525,     P16N.2,     173,          1,         18,         18,2,20150615,       0236,       52.5,  -152.0001,       4495,   224.8,   3.7813,  33.9454,2,  33.9484,2,     25.5,2,    24.5,2,   94.96,2,    44.3,2,    0.01,2,    3.08,2,   1.986,2,   0.997,2,   0.574,2,  2333.9,2,  2301.9,2,   7.2099,6,    25.01,-999.000,9,-999.0000,9,   -0.95,2,  -113.1,2,     2.4,-999.0000,9,-999.0000,    44.0,2,     43.487,3,-999.000,9, 20150615,     0412,-999.000,   3.7812,2,    34.1085,2,     -999.0,9,     -999.0,-999.0000,     -999.0,     -999.0,9,     -999.0,     -999.0,9,     -999.0,  -999.0,9,     -999.0,     -999.0,9,     -999.0
33RO20150525,     P16N.2,     173,          1,         17,         17,2,20150615,       0236,       52.5,  -152.0001,       4495,   300.1,   3.7326,  34.0215,2,  34.0202,2,     21.3,2,    20.4,2,  102.29,2,    44.1,2,    0.01,2,    3.08,2,   1.562,2,   0.772,2,   0.416,2,  2342.6,2,  2312.8,2,   7.2223,2,       25,-999.000,9,-999.0000,9,   -0.86,2,  -128.0,2,     2.5,-999.0000,9,-999.0000,    43.1,2,     44.839,3,-999.000,9, 20150615,     0410,-999.000,   3.7324,2,    34.1806,2,     -999.0,9,     -999.0,-999.0000,     -999.0,     -999.0,9,     -999.0,     -999.0,9,     -999.0,  -999.0,9,     -999.0,     -999.0,9,     -999.0
33RO20150525,     P16N.2,     173,          1,         16,         16,2,20150615,       0236,       52.5,  -152.0001,       4495,   400.2,   3.6425,  34.1115,2,  34.1102,2,     19.8,2,    18.3,2,  110.59,2,   43.81,2,       0,2,    3.07,2,   1.084,2,   0.535,2,   0.233,2,  2349.1,2,    2329,2,   7.2408,2,    25.03,-999.000,9,-999.0000,9,   -0.89,2,  -141.1,2,     3.3,-999.0000,9,-999.0000,    44.2,2,     45.239,3,-999.000,9, 20150615,     0407,-999.000,   3.6428,2,    34.2711,2,     -999.0,9,     -999.0,-999.0000,     -999.0,     -999.0,9,     -999.0,     -999.0,9,     -999.0,  -999.0,9,     -999.0,     -999.0,9,     -999.0
33RO20150525,     P16N.2,     173,          1,         15,         15,2,20150615,       0236,       52.5,  -152.0001,       4495,   499.8,    3.503,  34.1912,2,  34.1924,2,     16.7,2,    15.5,2,  119.19,2,    43.8,2,    0.01,2,    3.06,2,   0.702,2,   0.345,2,   0.147,2,    2357,2,  2340.8,2,   7.2553,6,    25.04,-999.000,9,-999.0000,9,   -0.85,2,  -165.5,2,     1.9,-999.0000,9,-999.0000,    42.9,2,     46.467,3,-999.000,9, 20150615,     0404,-999.000,   3.5027,2,    34.3536,6,     -999.0,9,     -999.0,-999.0000,     -999.0,     -999.0,9,     -999.0,     -999.0,9,     -999.0,  -999.0,9,     -999.0,     -999.0,9,     -999.0
33RO20150525,     P16N.2,     173,          1,         14,         14,2,20150615,       0236,       52.5,  -152.0001,       4495,   650.2,   3.2782,  34.2778,2,  34.2796,2,       17,2,    16.8,2,  128.76,2,    43.7,2,       0,2,    3.05,2,    0.38,6,   0.185,6,   0.071,6,  2366.8,2,  2356.2,2,   7.2737,2,    24.99,-999.000,9,-999.0000,9,   -0.85,2,  -178.6,2,     1.9,-999.0000,9,-999.0000,    39.4,2,     47.114,3,-999.000,9, 20150615,     0400,-999.000,    3.278,2,    34.4413,2,     -999.0,9,     -999.0,-999.0000,     -999.0,     -999.0,9,     -999.0,     -999.0,9,     -999.0,  -999.0,9,     -999.0,     -999.0,9,     -999.0
33RO20150525,     P16N.2,     173,          1,         13,         13,2,20150615,       0236,       52.5,  -152.0001,       4495,   800.1,   3.0205,  34.3458,2,  34.3446,2,     17.4,2,    17.2,2,  137.55,2,    43.7,2,       0,2,    3.07,2,   0.194,2,   0.095,2,   0.031,2,  2374.6,6,  2368.3,2,   7.2866,3,    25.04,-999.000,9,-999.0000,9,   -0.70,2,  -199.4,2,     1.9,-999.0000,9,-999.0000,    40.2,2,     46.544,3,-999.000,9, 20150615,     0356,-999.000,   3.0202,2,    34.5065,2,     -999.0,9,     -999.0,-999.0000,     -999.0,     -999.0,9,     -999.0,     -999.0,9,     -999.0,  -999.0,9,     -999.0,     -999.0,9,     -999.0
33RO20150525,     P16N.2,     173,          1,         12,         12,2,20150615,       0236,       52.5,  -152.0001,       4495,   949.5,   2.7909,  34.3979,2,  34.3966,2,     18.4,2,    18.4,2,  145.17,2,    43.8,2,       0,2,    3.06,2,-999.000,9,-999.000,9,-999.000,9,  2379.2,2,  2379.2,2,   7.2941,2,    25.03,-999.000,9,-999.0000,9,   -0.75,2,  -212.1,2,     1.8,-999.0000,9,-999.0000,  -999.0,9,     -999.0,9,-999.000,9, 20150615,     0352,-999.000,   2.7907,2,    34.5588,2,     -999.0,9,     -999.0,-999.0000,     -999.0,     -999.0,9,     -999.0,     -999.0,9,     -999.0,  -999.0,9,     -999.0,     -999.0,9,     -999.0
33RO20150525,     P16N.2,     173,          1,         11,         11,2,20150615,       0236,       52.5,  -152.0001,       4495,  1100.3,   2.5998,  34.4392,2,  34.4415,2,     20.2,2,    20.7,2,  150.84,2,   43.79,2,       0,2,    3.06,2,   0.062,2,   0.031,2,       0,2,  2387.1,2,  2386.2,2,   7.3022,2,    25.03,-999.000,9,-999.0000,9,   -0.67,2,  -219.3,2,     2.3,-999.0000,9,-999.0000,    39.5,2,     45.123,3,-999.000,9, 20150615,     0348,-999.000,   2.5997,2,    34.6039,2,     -999.0,9,     -999.0,-999.0000,     -999.0,     -999.0,9,     -999.0,     -999.0,9,     -999.0,  -999.0,9,     -999.0,     -999.0,9,     -999.0
33RO20150525,     P16N.2,     173,          1,         10,         10,2,20150615,       0236,       52.5,  -152.0001,       4495,  1300.2,    2.412,  34.4808,2,  34.4812,2,     24.5,2,    23.3,2,   156.7,2,   43.79,2,       0,2,    3.05,2,-999.000,9,-999.000,9,-999.000,9,  2392.6,2,  2396.4,2,   7.3127,2,    25.03,-999.000,9,-999.0000,9,   -0.64,2,  -230.7,2,     2.3,-999.0000,9,-999.0000,    38.4,2,     -999.0,9,-999.000,9, 20150615,     0343,-999.000,   2.4114,2,    34.6438,2,     -999.0,9,     -999.0,-999.0000,     -999.0,     -999.0,9,     -999.0,     -999.0,9,     -999.0,  -999.0,9,     -999.0,     -999.0,9,     -999.0
33RO20150525,     P16N.2,     173,          1,          9,          9,2,20150615,       0236,       52.5,  -152.0001,       4495,  1600.3,   2.1447,  34.5401,2,  34.5432,2,     35.1,2,    35.3,2,  163.93,2,   43.21,2,       0,2,    2.99,2,   0.008,2,   0.004,2,       0,2,  2392.6,2,  2406.8,2,    7.342,2,    25.03,-999.000,9,-999.0000,9,   -0.60,2,  -237.5,2,     1.7,-999.0000,9,-999.0000,    40.0,2,     40.053,3,-999.000,9, 20150615,     0337,-999.000,   2.1447,2,    34.7061,2,     -999.0,9,     -999.0,-999.0000,     -999.0,     -999.0,9,     -999.0,     -999.0,9,     -999.0,  -999.0,9,     -999.0,     -999.0,9,     -999.0
33RO20150525,     P16N.2,     173,          1,          8,          8,2,20150615,       0236,       52.5,  -152.0001,       4495,  1999.5,   1.9209,  34.5881,2,  34.5884,2,     55.9,2,      55,2,  167.34,2,   42.03,2,       0,2,     2.9,2,-999.000,9,-999.000,9,-999.000,9,  2385.4,2,  2412.6,2,    7.385,2,       25,-999.000,9,-999.0000,9,   -0.50,2,  -236.9,2,     1.9,-999.0000,9,-999.0000,    38.3,2,     -999.0,9,-999.000,9, 20150615,     0329,-999.000,   1.9207,2,    34.7515,6,     -999.0,9,     -999.0,-999.0000,     -999.0,     -999.0,9,     -999.0,     -999.0,9,     -999.0,  -999.0,9,     -999.0,     -999.0,9,     -999.0
33RO20150525,     P16N.2,     173,          1,          7,          7,2,20150615,       0236,       52.5,  -152.0001,       4495,  2398.4,   1.7456,  34.6228,2,  34.6236,2,     78.7,2,    77.7,2,  167.83,2,   40.56,2,    0.01,2,    2.81,2,-999.000,9,-999.000,9,-999.000,9,  2374.4,2,  2419.8,2,   7.4312,2,    25.04,-999.000,9,-999.0000,9,   -0.36,2,  -243.2,2,     1.8,-999.0000,9,-999.0000,    38.2,2,     -999.0,9,-999.000,9, 20150615,     0321,-999.000,   1.7455,2,    34.7868,2,     -999.0,9,     -999.0,-999.0000,     -999.0,     -999.0,9,     -999.0,     -999.0,9,     -999.0,  -999.0,9,     -999.0,     -999.0,9,     -999.0
33RO20150525,     P16N.2,     173,          1,          6,          6,2,20150615,       0236,       52.5,  -152.0001,       4495,  2799.6,   1.6097,  34.6481,2,  34.6515,2,    100.7,2,   100.5,2,  166.16,2,    39.1,2,       0,2,    2.69,2,-999.000,9,-999.000,9,-999.000,9,  2360.9,2,  2421.6,2,   7.4771,2,    25.04,-999.000,9,-999.0000,9,   -0.17,2,  -240.0,2,     1.8,-999.0000,9,-999.0000,    37.8,2,     -999.0,9,-999.000,9, 20150615,     0313,-999.000,     1.61,2,    34.8149,2,     -999.0,9,     -999.0,-999.0000,     -999.0,     -999.0,9,     -999.0,     -999.0,9,     -999.0,  -999.0,9,     -999.0,     -999.0,9,     -999.0
33RO20150525,     P16N.2,     173,          1,          5,          5,2,20150615,       0236,       52.5,  -152.0001,       4495,  3200.4,   1.5321,  34.6641,2,  34.6662,2,    118.1,2,   118.4,2,  163.42,2,   37.92,2,    0.01,2,    2.62,2,-999.000,9,-999.000,9,-999.000,9,    2350,2,  2421.8,6,    7.512,2,    25.03,-999.000,9,-999.0000,9,   -0.14,2,  -236.8,2,     2.7,-999.0000,9,-999.0000,    39.2,2,     -999.0,9,-999.000,9, 20150615,     0305,-999.000,    1.532,2,    34.8297,2,     -999.0,9,     -999.0,-999.0000,     -999.0,     -999.0,9,     -999.0,     -999.0,9,     -999.0,  -999.0,9,     -999.0,     -999.0,9,     -999.0
33RO20150525,     P16N.2,     173,          1,          4,          4,2,20150615,       0236,       52.5,  -152.0001,       4495,    3600,   1.4918,  34.6748,2,  34.6739,2,    130.9,2,   130.8,2,  161.56,6,   37.04,6,       0,6,    2.55,6,-999.000,9,-999.000,9,-999.000,9,  2340.2,2,  2422.6,2,   7.5378,2,    25.01,-999.000,9,-999.0000,9,    0.05,2,  -230.2,2,     2.2,-999.0000,9,-999.0000,    36.9,2,     -999.0,9,-999.000,9, 20150615,     0257,-999.000,   1.4918,2,    34.8374,2,     -999.0,9,     -999.0,-999.0000,     -999.0,     -999.0,9,     -999.0,     -999.0,9,     -999.0,  -999.0,9,     -999.0,     -999.0,9,     -999.0
33RO20150525,     P16N.2,     173,          1,          3,          3,2,20150615,       0236,       52.5,  -152.0001,       4495,  3900.6,   1.4852,  34.6799,2,  34.6808,2,    137.3,2,   136.9,2,  160.88,6,   36.65,6,       0,6,    2.52,6,-999.000,9,-999.000,9,-999.000,9,  2336.8,2,    2424,2,   7.5498,6,    25.02,-999.000,9,-999.0000,9,    0.01,2,  -220.4,2,     2.2,-999.0000,9,-999.0000,    39.1,2,     -999.0,9,-999.000,9, 20150615,     0251,-999.000,   1.4853,2,    34.8443,2,     -999.0,9,     -999.0,-999.0000,     -999.0,     -999.0,9,     -999.0,     -999.0,9,     -999.0,  -999.0,9,     -999.0,     -999.0,9,     -999.0
33RO20150525,     P16N.2,     173,          1,          2,          2,2,20150615,       0236,       52.5,  -152.0001,       4495,  4230.3,   1.4923,  34.6839,2,  34.6827,2,      142,2,   141.8,2,  160.59,6,   36.36,6,       0,6,     2.5,6,-999.000,9,-999.000,9,-999.000,9,  2334.8,2,  2426.2,2,    7.559,2,    25.04,-999.000,9,-999.0000,9,    0.05,2,  -219.7,2,     2.1,-999.0000,9,-999.0000,    39.1,2,     -999.0,9,-999.000,9, 20150615,     0244,-999.000,   1.4924,2,    34.8463,2,     -999.0,9,     -999.0,-999.0000,     -999.0,     -999.0,9,     -999.0,     -999.0,9,     -999.0,  -999.0,9,     -999.0,     -999.0,9,     -999.0
33RO20150525,     P16N.2,     173,          1,          1,          1,2,20150615,       0236,       52.5,  -152.0001,       4495,  4565.1,   1.5148,  34.6865,2,  34.6894,2,    145.1,2,   146.1,2,  159.61,6,   36.07,6,    0.01,6,    2.49,6,-999.000,9,-999.000,9,-999.000,9,  2332.5,6,  2423.6,2,    7.564,2,    24.99,-999.000,9,-999.0000,9,    0.02,2,  -219.1,2,     2.1,-999.0000,9,-999.0000,    42.0,2,     -999.0,9,-999.000,9, 20150615,     0237,-999.000,   1.5149,2,     34.853,2,     -999.0,9,     -999.0,-999.0000,     -999.0,     -999.0,9,     -999.0,     -999.0,9,     -999.0,  -999.0,9,     -999.0,     -999.0,9,     -999.0