BOTTLE,20220330CCHSIOCBG
EXPOCODE,SECT_ID,STNNBR,CASTNO,SAMPNO,BTLNBR,BTLNBR_FLAG_W,DATE,TIME,LATITUDE,LONGITUDE,DEPTH,CTDPRS,CTDTMP,CTDSAL,CTDSAL_FLAG_W,SALNTY,SALNTY_FLAG_W,CTDOXY,CTDOXY_FLAG_W,OXYGEN,OXYGEN_FLAG_W,SILCAT,SILCAT_FLAG_W,NITRAT,NITRAT_FLAG_W,NITRIT,NITRIT_FLAG_W,PHSPHT,PHSPHT_FLAG_W,CFC-11,CFC-11_FLAG_W,CFC-12,CFC-12_FLAG_W,SF6,SF6_FLAG_W,TCARBN,TCARBN_FLAG_W,ALKALI,ALKALI_FLAG_W,PH_TOT,PH_TOT_FLAG_W,PH_TMP,TRITUM,TRITUM_FLAG_W,HELIUM,HELIUM_FLAG_W,DELC13,DELC13_FLAG_W,DELC14,DELC14_FLAG_W,C14ERR,NEON,NEON_FLAG_W,NEONER,DOC,DOC_FLAG_W,N2O,N2O_FLAG_W,ARGON,ARGON_FLAG_W,BTL_DATE,BTL_TIME,TRITER,SBE35,SBE35_FLAG_W,SALTREF,SALTREF_FLAG_W,DELHE3,DELHE3_FLAG_W,DELHER,HELIER,ARGONER,KRYPTON,KRYPTON_FLAG_W,KRYPTONER,XENON,XENON_FLAG_W,XENONER,14C-DOC,14C-DOC_FLAG_W,14C-DOCERR,13C-DOC,13C-DOC_FLAG_W,13C-DOCERR
,,,,,,,,,,,METERS,DBAR,ITS-90,PSS-78,,PSS-78,,UMOL/KG,,UMOL/KG,,UMOL/KG,,UMOL/KG,,UMOL/KG,,UMOL/KG,,PMOL/KG,,PMOL/KG,,FMOL/KG,,UMOL/KG,,UMOL/KG,,,,DEG C,TU,,NMOL/KG,,/MILLE,,/MILLE,,/MILLE,NMOL/KG,,NMOL/KG,UMOL/KG,,NMOL/KG,,UMOL/KG,,,,TU,ITS-90,,G/KG,,PERCNT,,PERCNT,NMOL/KG,UMOL/KG,NMOL/KG,,NMOL/KG,NMOL/KG,,NMOL/KG,/MILLE,,/MILLE,/MILLE,,/MILLE
33RO20150525,     P16N.2,     207,          1,         16,         16,2,20150623,       1724,    56.7897,  -135.9506,        227,     3.1,  13.5192,  31.7222,2,  31.7284,2,    280.9,2,   286.6,2,    3.43,2,     0.1,2,    0.01,2,    0.39,2,   3.334,6,   1.913,6,   2.312,6,  1929.1,6,  2151.2,2,   7.9534,6,    25.04,-999.000,9,-999.0000,9,    1.64,2,   -20.7,2,     2.0,-999.0000,9,-999.0000,    62.1,2,     10.222,3,-999.000,9, 20150623,     1741,-999.000,  13.5387,2,     31.878,2,     -999.0,9,     -999.0,-999.0000,     -999.0,     -999.0,9,     -999.0,     -999.0,9,     -999.0,  -999.0,9,     -999.0,     -999.0,9,     -999.0
33RO20150525,     P16N.2,     207,          1,         15,         15,2,20150623,       1724,    56.7897,  -135.9506,        227,    12.2,  11.5211,  31.7566,2,  31.7633,2,    306.7,2,   308.9,2,    3.33,2,     0.1,2,    0.02,2,    0.43,2,   3.549,2,   2.045,2,   2.411,2,  1930.9,2,  2152.6,2,   7.9513,6,    25.05,-999.000,9,-999.0000,9, -999.00,9,  -999.0,9,  -999.0,-999.0000,9,-999.0000,    65.1,2,     10.858,3,-999.000,9, 20150623,     1739,-999.000,  11.5559,3,    31.9131,2,     -999.0,9,     -999.0,-999.0000,     -999.0,     -999.0,9,     -999.0,     -999.0,9,     -999.0,  -999.0,9,     -999.0,     -999.0,9,     -999.0
33RO20150525,     P16N.2,     207,          1,         14,         14,2,20150623,       1724,    56.7897,  -135.9506,        227,    26.3,  10.0474,  31.8139,2,  31.8287,2,    284.4,2,   289.1,2,    6.95,2,    2.84,2,    0.14,2,    0.73,2,   3.703,2,   2.092,2,   2.476,2,  1968.1,2,  2152.8,2,   7.8705,2,    25.02,-999.000,9,-999.0000,9, -999.00,9,  -999.0,9,  -999.0,-999.0000,9,-999.0000,    59.2,2,     11.464,3,-999.000,9, 20150623,     1738,-999.000,  10.0249,3,    31.9787,2,     -999.0,9,     -999.0,-999.0000,     -999.0,     -999.0,9,     -999.0,     -999.0,9,     -999.0,  -999.0,9,     -999.0,     -999.0,9,     -999.0
33RO20150525,     P16N.2,     207,          1,         11,         11,2,20150623,       1724,    56.7897,  -135.9506,        227,    42.2,   8.7084,  31.9235,2,-999.0000,9,    251.1,2,  -999.0,9, -999.00,9, -999.00,9, -999.00,9, -999.00,9,-999.000,9,-999.000,9,-999.000,9,  -999.0,9,  -999.0,9,-999.0000,9,  -999.00,-999.000,9,-999.0000,9, -999.00,9,  -999.0,9,  -999.0,-999.0000,9,-999.0000,  -999.0,9,     -999.0,9,-999.000,9, 20150623,     1736,-999.000,   8.7104,2,     -999.0,9,     -999.0,9,     -999.0,-999.0000,     -999.0,     -999.0,9,     -999.0,     -999.0,9,     -999.0,  -999.0,9,     -999.0,     -999.0,9,     -999.0
33RO20150525,     P16N.2,     207,          1,         12,         12,2,20150623,       1724,    56.7897,  -135.9506,        227,    42.3,   8.7144,   31.924,2,-999.0000,9,    251.1,2,  -999.0,9, -999.00,9, -999.00,9, -999.00,9, -999.00,9,-999.000,9,-999.000,9,-999.000,9,  -999.0,9,  -999.0,9,-999.0000,9,  -999.00,-999.000,9,-999.0000,9, -999.00,9,  -999.0,9,  -999.0,-999.0000,9,-999.0000,  -999.0,9,     -999.0,9,-999.000,9, 20150623,     1736,-999.000,   8.7171,2,     -999.0,9,     -999.0,9,     -999.0,-999.0000,     -999.0,     -999.0,9,     -999.0,     -999.0,9,     -999.0,  -999.0,9,     -999.0,     -999.0,9,     -999.0
33RO20150525,     P16N.2,     207,          1,         13,         13,2,20150623,       1724,    56.7897,  -135.9506,        227,    42.3,   8.7203,  31.9237,2,  31.9227,2,    251.4,2,   257.1,2,   16.25,2,    9.79,2,    0.23,2,    1.21,2,   3.736,2,   2.104,2,   2.434,2,  2021.5,2,    2158,2,   7.7436,6,    25.05,-999.000,9,-999.0000,9, -999.00,9,  -999.0,9,  -999.0,-999.0000,9,-999.0000,    54.4,2,     13.520,3,-999.000,9, 20150623,     1736,-999.000,   8.7187,2,    32.0733,2,     -999.0,9,     -999.0,-999.0000,     -999.0,     -999.0,9,     -999.0,     -999.0,9,     -999.0,  -999.0,9,     -999.0,     -999.0,9,     -999.0
33RO20150525,     P16N.2,     207,          1,         10,         10,2,20150623,       1724,    56.7897,  -135.9506,        227,    72.6,   7.2413,  32.3126,2,  32.3158,2,    205.9,2,   210.2,2,   33.97,2,   21.05,2,     0.2,2,    1.73,2,   3.656,2,   2.027,2,   2.145,2,  2097.1,2,  2178.4,6,   7.5819,2,    25.03,-999.000,9,-999.0000,9, -999.00,9,  -999.0,9,  -999.0,-999.0000,9,-999.0000,    50.1,2,     18.371,3,-999.000,9, 20150623,     1734,-999.000,   7.2449,2,    32.4682,2,     -999.0,9,     -999.0,-999.0000,     -999.0,     -999.0,9,     -999.0,     -999.0,9,     -999.0,  -999.0,9,     -999.0,     -999.0,9,     -999.0
33RO20150525,     P16N.2,     207,          1,          9,          9,2,20150623,       1724,    56.7897,  -135.9506,        227,    95.5,    7.065,  32.6347,2,  32.6402,2,    208.2,2,   208.8,2,   31.61,2,   20.84,2,    0.07,2,    1.69,2,   3.704,2,   2.054,2,   2.144,2,  2107.1,2,  2193.4,2,   7.5875,2,    25.02,-999.000,9,-999.0000,9, -999.00,9,  -999.0,9,  -999.0,-999.0000,9,-999.0000,    51.4,2,     18.446,3,-999.000,9, 20150623,     1732,-999.000,   7.0699,2,    32.7941,2,     -999.0,9,     -999.0,-999.0000,     -999.0,     -999.0,9,     -999.0,     -999.0,9,     -999.0,  -999.0,9,     -999.0,     -999.0,9,     -999.0
33RO20150525,     P16N.2,     207,          1,          8,          8,2,20150623,       1724,    56.7897,  -135.9506,        227,    95.3,   7.0275,  32.6512,2,-999.0000,9,    206.5,2,  -999.0,9, -999.00,9, -999.00,9, -999.00,9, -999.00,9,-999.000,9,-999.000,9,-999.000,9,  -999.0,9,  -999.0,9,-999.0000,9,  -999.00,-999.000,9,-999.0000,9, -999.00,9,  -999.0,9,  -999.0,-999.0000,9,-999.0000,  -999.0,9,     -999.0,9,-999.000,9, 20150623,     1732,-999.000,   7.0406,2,     -999.0,9,     -999.0,9,     -999.0,-999.0000,     -999.0,     -999.0,9,     -999.0,     -999.0,9,     -999.0,  -999.0,9,     -999.0,     -999.0,9,     -999.0
33RO20150525,     P16N.2,     207,          1,          7,          7,2,20150623,       1724,    56.7897,  -135.9506,        227,    95.5,   6.9755,  32.6741,2,-999.0000,9,    202.4,2,  -999.0,9, -999.00,9, -999.00,9, -999.00,9, -999.00,9,-999.000,9,-999.000,9,-999.000,9,  -999.0,9,  -999.0,9,-999.0000,9,  -999.00,-999.000,9,-999.0000,9, -999.00,9,  -999.0,9,  -999.0,-999.0000,9,-999.0000,  -999.0,9,     -999.0,9,-999.000,9, 20150623,     1732,-999.000,   6.9922,2,     -999.0,9,     -999.0,9,     -999.0,-999.0000,     -999.0,     -999.0,9,     -999.0,     -999.0,9,     -999.0,  -999.0,9,     -999.0,     -999.0,9,     -999.0
33RO20150525,     P16N.2,     207,          1,          6,          6,2,20150623,       1724,    56.7897,  -135.9506,        227,   120.2,   6.3338,  32.9717,2,  32.9751,2,    155.1,2,   156.5,2,   48.53,2,   28.28,2,     0.2,2,    2.12,2,   3.333,2,   1.811,2,   1.677,2,    2171,2,  2219.8,2,   7.4735,2,    25.05,-999.000,9,-999.0000,9, -999.00,9,  -999.0,9,  -999.0,-999.0000,9,-999.0000,    49.0,2,     25.243,3,-999.000,9, 20150623,     1730,-999.000,   6.3702,2,    33.1306,2,     -999.0,9,     -999.0,-999.0000,     -999.0,     -999.0,9,     -999.0,     -999.0,9,     -999.0,  -999.0,9,     -999.0,     -999.0,9,     -999.0
33RO20150525,     P16N.2,     207,          1,          5,          5,2,20150623,       1724,    56.7897,  -135.9506,        227,   145.5,    5.898,  33.2578,2,  33.2596,2,    133.3,2,     132,2,   55.85,6,   31.59,6,    0.18,6,     2.3,6,   3.123,2,    1.69,2,   1.435,2,  2205.8,2,  2241.1,2,   7.4252,2,    24.99,-999.000,9,-999.0000,9, -999.00,9,  -999.0,9,  -999.0,-999.0000,9,-999.0000,    47.8,2,     28.428,3,-999.000,9, 20150623,     1728,-999.000,   5.9033,2,    33.4164,2,     -999.0,9,     -999.0,-999.0000,     -999.0,     -999.0,9,     -999.0,     -999.0,9,     -999.0,  -999.0,9,     -999.0,     -999.0,9,     -999.0
33RO20150525,     P16N.2,     207,          1,          4,          4,2,20150623,       1724,    56.7897,  -135.9506,        227,   185.8,   6.0217,  33.5885,2,-999.0000,9,    139.5,2,  -999.0,9, -999.00,9, -999.00,9, -999.00,9, -999.00,9,-999.000,9,-999.000,9,-999.000,9,  -999.0,9,  -999.0,9,-999.0000,9,  -999.00,-999.000,9,-999.0000,9, -999.00,9,  -999.0,9,  -999.0,-999.0000,9,-999.0000,  -999.0,9,     -999.0,9,-999.000,9, 20150623,     1726,-999.000,   6.0226,2,     -999.0,9,     -999.0,9,     -999.0,-999.0000,     -999.0,     -999.0,9,     -999.0,     -999.0,9,     -999.0,  -999.0,9,     -999.0,     -999.0,9,     -999.0
33RO20150525,     P16N.2,     207,          1,          2,          2,2,20150623,       1724,    56.7897,  -135.9506,        227,   185.9,   6.0204,  33.6094,2,  33.5854,2,    136.8,2,   135.5,2,   49.87,6,   30.61,6,    0.03,6,    2.21,6,   3.328,2,   1.801,2,   1.463,2,  2209.7,2,  2254.8,2,   7.4461,2,    25.06,-999.000,9,-999.0000,9, -999.00,9,  -999.0,9,  -999.0,-999.0000,9,-999.0000,    46.5,2,     27.629,3,-999.000,9, 20150623,     1726,-999.000,   6.0221,2,    33.7438,6,     -999.0,9,     -999.0,-999.0000,     -999.0,     -999.0,9,     -999.0,     -999.0,9,     -999.0,  -999.0,9,     -999.0,     -999.0,9,     -999.0
33RO20150525,     P16N.2,     207,          1,          3,          3,2,20150623,       1724,    56.7897,  -135.9506,        227,   185.8,   6.0184,   33.595,2,-999.0000,9,    138.8,2,  -999.0,9, -999.00,9, -999.00,9, -999.00,9, -999.00,9,-999.000,9,-999.000,9,-999.000,9,  -999.0,9,  -999.0,9,-999.0000,9,  -999.00,-999.000,9,-999.0000,9, -999.00,9,  -999.0,9,  -999.0,-999.0000,9,-999.0000,  -999.0,9,     -999.0,9,-999.000,9, 20150623,     1726,-999.000,   6.0186,2,     -999.0,9,     -999.0,9,     -999.0,-999.0000,     -999.0,     -999.0,9,     -999.0,     -999.0,9,     -999.0,  -999.0,9,     -999.0,     -999.0,9,     -999.0
33RO20150525,     P16N.2,     207,          1,          1,          1,2,20150623,       1724,    56.7897,  -135.9506,        227,   220.5,   5.6942,  33.7642,2,   33.759,2,      115,2,   112.5,2,   56.32,6,   33.34,6,    0.03,6,    2.36,6,   3.114,2,   1.662,2,   1.251,2,  2235.2,2,    2268,2,    7.403,6,    25.05,-999.000,9,-999.0000,9, -999.00,9,  -999.0,9,  -999.0,-999.0000,9,-999.0000,    46.2,2,     30.329,3,-999.000,9, 20150623,     1724,-999.000,   5.6943,2,    33.9182,2,     -999.0,9,     -999.0,-999.0000,     -999.0,     -999.0,9,     -999.0,     -999.0,9,     -999.0,  -999.0,9,     -999.0,     -999.0,9,     -999.0