BOTTLE,20220330CCHSIOCBG
EXPOCODE,SECT_ID,STNNBR,CASTNO,SAMPNO,BTLNBR,BTLNBR_FLAG_W,DATE,TIME,LATITUDE,LONGITUDE,DEPTH,CTDPRS,CTDTMP,CTDSAL,CTDSAL_FLAG_W,SALNTY,SALNTY_FLAG_W,CTDOXY,CTDOXY_FLAG_W,OXYGEN,OXYGEN_FLAG_W,SILCAT,SILCAT_FLAG_W,NITRAT,NITRAT_FLAG_W,NITRIT,NITRIT_FLAG_W,PHSPHT,PHSPHT_FLAG_W,CFC-11,CFC-11_FLAG_W,CFC-12,CFC-12_FLAG_W,SF6,SF6_FLAG_W,TCARBN,TCARBN_FLAG_W,ALKALI,ALKALI_FLAG_W,PH_TOT,PH_TOT_FLAG_W,PH_TMP,TRITUM,TRITUM_FLAG_W,HELIUM,HELIUM_FLAG_W,DELC13,DELC13_FLAG_W,DELC14,DELC14_FLAG_W,C14ERR,NEON,NEON_FLAG_W,NEONER,DOC,DOC_FLAG_W,N2O,N2O_FLAG_W,ARGON,ARGON_FLAG_W,BTL_DATE,BTL_TIME,TRITER,SBE35,SBE35_FLAG_W,SALTREF,SALTREF_FLAG_W,DELHE3,DELHE3_FLAG_W,DELHER,HELIER,ARGONER,KRYPTON,KRYPTON_FLAG_W,KRYPTONER,XENON,XENON_FLAG_W,XENONER,14C-DOC,14C-DOC_FLAG_W,14C-DOCERR,13C-DOC,13C-DOC_FLAG_W,13C-DOCERR
,,,,,,,,,,,METERS,DBAR,ITS-90,PSS-78,,PSS-78,,UMOL/KG,,UMOL/KG,,UMOL/KG,,UMOL/KG,,UMOL/KG,,UMOL/KG,,PMOL/KG,,PMOL/KG,,FMOL/KG,,UMOL/KG,,UMOL/KG,,,,DEG C,TU,,NMOL/KG,,/MILLE,,/MILLE,,/MILLE,NMOL/KG,,NMOL/KG,UMOL/KG,,NMOL/KG,,UMOL/KG,,,,TU,ITS-90,,G/KG,,PERCNT,,PERCNT,NMOL/KG,UMOL/KG,NMOL/KG,,NMOL/KG,NMOL/KG,,NMOL/KG,/MILLE,,/MILLE,/MILLE,,/MILLE
33RO20150525,     P16N.2,     148,          2,         24,         24,2,20150607,       1131,         40,       -152,       5250,     2.5,   14.581,  33.7227,2,  33.7226,2,    258.4,2,   259.2,2,    1.56,2,       0,2,       0,2,    0.13,2,   2.978,3,   1.679,6,   2.078,6,  2010.8,6,  2228.9,2,    7.911,2,    25.06,-999.000,9,-999.0000,9, -999.00,9,  -999.0,9,  -999.0,-999.0000,9,-999.0000,    56.8,2,      9.257,3,-999.000,9, 20150607,     1333,-999.000,   14.582,2,    33.8816,2,     -999.0,9,     -999.0,-999.0000,     -999.0,     -999.0,9,     -999.0,     -999.0,9,     -999.0,  -999.0,9,     -999.0,     -999.0,9,     -999.0
33RO20150525,     P16N.2,     148,          2,         23,         23,2,20150607,       1131,         40,       -152,       5250,    19.9,  14.5648,  33.7505,2,  33.7526,2,    258.4,2,   259.3,2,    1.66,2,       0,2,    0.01,2,    0.12,2,   2.965,2,    1.68,2,   2.065,2,  2013.2,2,  2228.7,6,   7.9107,2,    25.07,-999.000,9,-999.0000,9, -999.00,9,  -999.0,9,  -999.0,-999.0000,9,-999.0000,    56.7,2,      9.305,3,-999.000,9, 20150607,     1331,-999.000,  14.5646,2,    33.9117,2,     -999.0,9,     -999.0,-999.0000,     -999.0,     -999.0,9,     -999.0,     -999.0,9,     -999.0,  -999.0,9,     -999.0,     -999.0,9,     -999.0
33RO20150525,     P16N.2,     148,          2,         22,         22,2,20150607,       1131,         40,       -152,       5250,    42.4,  11.8385,  33.8294,2,  33.8281,2,      286,2,   279.2,2,     4.5,2,    1.76,2,    0.06,2,    0.34,2,   3.381,2,   1.893,2,   2.234,2,  2034.1,2,  2238.2,2,   7.8837,6,    25.07,-999.000,9,-999.0000,9, -999.00,9,  -999.0,9,  -999.0,-999.0000,9,-999.0000,    56.2,2,     10.696,3,-999.000,9, 20150607,     1329,-999.000,   11.849,2,    33.9877,2,     -999.0,9,     -999.0,-999.0000,     -999.0,     -999.0,9,     -999.0,     -999.0,9,     -999.0,  -999.0,9,     -999.0,     -999.0,9,     -999.0
33RO20150525,     P16N.2,     148,          2,         21,         21,2,20150607,       1131,         40,       -152,       5250,    66.6,  11.1337,  33.8725,2,  33.8683,2,    259.8,2,   260.4,2,    6.65,2,    3.71,2,    0.85,2,    0.46,2,   3.354,2,   1.887,2,   2.219,2,  2049.8,2,  2238.9,2,   7.8479,6,    25.08,-999.000,9,-999.0000,9, -999.00,9,  -999.0,9,  -999.0,-999.0000,9,-999.0000,    52.3,2,     10.953,3,-999.000,9, 20150607,     1327,-999.000,  11.1166,2,     34.028,2,     -999.0,9,     -999.0,-999.0000,     -999.0,     -999.0,9,     -999.0,     -999.0,9,     -999.0,  -999.0,9,     -999.0,     -999.0,9,     -999.0
33RO20150525,     P16N.2,     148,          2,         20,         20,2,20150607,       1131,         40,       -152,       5250,    91.3,  10.5063,  33.8091,2,  33.8106,2,      263,2,   262.8,2,    6.84,2,     4.5,2,    0.57,2,    0.53,2,   3.417,2,   1.923,2,    2.28,2,  2054.8,2,  2238.3,2,   7.8386,2,    25.08,-999.000,9,-999.0000,9, -999.00,9,  -999.0,9,  -999.0,-999.0000,9,-999.0000,    51.9,2,     11.048,3,-999.000,9, 20150607,     1326,-999.000,  10.5072,2,      33.97,2,     -999.0,9,     -999.0,-999.0000,     -999.0,     -999.0,9,     -999.0,     -999.0,9,     -999.0,  -999.0,9,     -999.0,     -999.0,9,     -999.0
33RO20150525,     P16N.2,     148,          2,         19,         19,2,20150607,       1131,         40,       -152,       5250,   132.7,  11.2733,   34.179,2,  34.1818,2,    226.5,2,   228.8,2,   11.73,2,   10.55,2,    0.03,2,    0.79,2,   3.196,2,   1.827,2,   1.933,2,  2086.4,2,  2256.3,2,   7.8014,2,    25.05,-999.000,9,-999.0000,9, -999.00,9,  -999.0,9,  -999.0,-999.0000,9,-999.0000,    47.3,2,     14.632,3,-999.000,9, 20150607,     1324,-999.000,  11.2645,2,     34.343,2,     -999.0,9,     -999.0,-999.0000,     -999.0,     -999.0,9,     -999.0,     -999.0,9,     -999.0,  -999.0,9,     -999.0,     -999.0,9,     -999.0
33RO20150525,     P16N.2,     148,          2,         18,         18,2,20150607,       1131,         40,       -152,       5250,   200.8,  10.0644,  34.1125,2,  34.1151,2,    224.8,2,   222.8,2,   16.61,2,   13.88,2,    0.02,2,    1.02,2,   3.326,2,   1.866,2,   1.872,2,  2106.9,2,    2260,2,   7.7599,2,    25.05,-999.000,9,-999.0000,9, -999.00,9,  -999.0,9,  -999.0,-999.0000,9,-999.0000,    46.1,2,     19.127,3,-999.000,9, 20150607,     1321,-999.000,  10.0628,2,     34.276,2,     -999.0,9,     -999.0,-999.0000,     -999.0,     -999.0,9,     -999.0,     -999.0,9,     -999.0,  -999.0,9,     -999.0,     -999.0,9,     -999.0
33RO20150525,     P16N.2,     148,          2,         17,         17,2,20150607,       1131,         40,       -152,       5250,   275.1,   9.1389,  34.0611,2,  34.0604,2,    208.1,2,   207.8,2,   23.06,2,    17.4,2,    0.01,2,    1.26,2,   3.415,2,   1.859,2,    1.71,2,  2129.1,2,  2264.1,2,   7.7106,2,    25.07,-999.000,9,-999.0000,9, -999.00,9,  -999.0,9,  -999.0,-999.0000,9,-999.0000,    48.3,2,     22.166,3,-999.000,9, 20150607,     1318,-999.000,   9.1374,2,     34.221,2,     -999.0,9,     -999.0,-999.0000,     -999.0,     -999.0,9,     -999.0,     -999.0,9,     -999.0,  -999.0,9,     -999.0,     -999.0,9,     -999.0
33RO20150525,     P16N.2,     148,          2,         16,         16,2,20150607,       1131,         40,       -152,       5250,     367,   7.7376,  34.0167,2,  34.0157,2,    167.3,2,   166.8,2,   38.21,2,   24.24,2,    0.01,2,    1.72,2,   3.151,2,   1.674,2,   1.207,2,  2175.8,2,  2279.2,2,   7.6089,2,    25.06,-999.000,9,-999.0000,9, -999.00,9,  -999.0,9,  -999.0,-999.0000,9,-999.0000,    43.0,2,     25.832,3,-999.000,9, 20150607,     1315,-999.000,   7.7346,2,    34.1761,2,     -999.0,9,     -999.0,-999.0000,     -999.0,     -999.0,9,     -999.0,     -999.0,9,     -999.0,  -999.0,9,     -999.0,     -999.0,9,     -999.0
33RO20150525,     P16N.2,     148,          2,         15,         15,2,20150607,       1131,         40,       -152,       5250,     468,   5.9116,  33.9683,2,  33.9693,2,    126.7,2,   126.9,2,   57.66,2,   31.37,2,    0.01,2,    2.25,2,   2.714,2,   1.368,2,    0.84,2,    2229,2,  2286.7,2,   7.4878,2,    25.06,-999.000,9,-999.0000,9, -999.00,9,  -999.0,9,  -999.0,-999.0000,9,-999.0000,    44.3,2,     31.130,3,-999.000,9, 20150607,     1313,-999.000,   5.9059,2,    34.1295,2,     -999.0,9,     -999.0,-999.0000,     -999.0,     -999.0,9,     -999.0,     -999.0,9,     -999.0,  -999.0,9,     -999.0,     -999.0,9,     -999.0
33RO20150525,     P16N.2,     148,          2,         14,         14,2,20150607,       1131,         40,       -152,       5250,   599.8,   4.5839,   34.046,2,  34.0479,2,     71.5,2,    71.2,2,   84.83,2,   38.51,2,    0.01,2,    2.73,2,   1.709,6,   0.826,6,    0.41,6,  2291.7,2,  2313.8,2,   7.3619,2,    25.08,-999.000,9,-999.0000,9, -999.00,9,  -999.0,9,  -999.0,-999.0000,9,-999.0000,    41.9,2,     38.368,3,-999.000,9, 20150607,     1309,-999.000,   4.5852,2,    34.2085,6,     -999.0,9,     -999.0,-999.0000,     -999.0,     -999.0,9,     -999.0,     -999.0,9,     -999.0,  -999.0,9,     -999.0,     -999.0,9,     -999.0
33RO20150525,     P16N.2,     148,          2,         13,         13,2,20150607,       1131,         40,       -152,       5250,   749.5,   4.0269,  34.1741,2,  34.1741,2,     35.7,2,    35.8,2,  104.56,2,   42.12,2,    0.01,2,    2.97,2,   0.715,2,   0.332,2,   0.075,2,    2333,2,  2333.8,2,   7.3082,6,    25.05,-999.000,9,-999.0000,9, -999.00,9,  -999.0,9,  -999.0,-999.0000,9,-999.0000,    41.4,2,     44.626,3,-999.000,9, 20150607,     1305,-999.000,   4.0267,2,    34.3352,2,     -999.0,9,     -999.0,-999.0000,     -999.0,     -999.0,9,     -999.0,     -999.0,9,     -999.0,  -999.0,9,     -999.0,     -999.0,9,     -999.0
33RO20150525,     P16N.2,     148,          2,         12,         12,2,20150607,       1131,         40,       -152,       5250,   898.9,   3.4991,  34.2716,2,  34.2709,2,     18.9,2,    19.9,2,  121.36,2,   43.78,2,       0,2,    3.09,2,   0.243,2,   0.114,2,   0.038,2,  2359.1,2,  2355.7,2,   7.2857,2,    25.09,-999.000,9,-999.0000,9, -999.00,9,  -999.0,9,  -999.0,-999.0000,9,-999.0000,    39.1,2,     47.954,3,-999.000,9, 20150607,     1301,-999.000,   3.4991,2,    34.4325,2,     -999.0,9,     -999.0,-999.0000,     -999.0,     -999.0,9,     -999.0,     -999.0,9,     -999.0,  -999.0,9,     -999.0,     -999.0,9,     -999.0
33RO20150525,     P16N.2,     148,          2,         11,         11,2,20150607,       1131,         40,       -152,       5250,  1049.9,   3.1458,  34.3417,2,  34.3441,2,     11.6,2,    12.7,2,  133.77,2,   44.65,2,       0,2,    3.15,2,   0.068,2,   0.033,2,       0,2,    2377,2,  2370.6,2,   7.2791,6,    25.06,-999.000,9,-999.0000,9, -999.00,9,  -999.0,9,  -999.0,-999.0000,9,-999.0000,    38.0,2,     50.500,3,-999.000,9, 20150607,     1258,-999.000,    3.144,2,     34.506,2,     -999.0,9,     -999.0,-999.0000,     -999.0,     -999.0,9,     -999.0,     -999.0,9,     -999.0,  -999.0,9,     -999.0,     -999.0,9,     -999.0
33RO20150525,     P16N.2,     148,          2,         10,         10,2,20150607,       1131,         40,       -152,       5250,  1233.8,   2.8013,  34.4148,2,  34.4149,2,      9.8,2,    10.3,2,  145.78,2,   45.14,2,       0,2,    3.15,2,   0.013,2,   0.008,2,       0,2,  2390.3,6,  2385.9,2,   7.2822,2,    25.09,-999.000,9,-999.0000,9, -999.00,9,  -999.0,9,  -999.0,-999.0000,9,-999.0000,    38.2,2,     52.508,3,-999.000,9, 20150607,     1253,-999.000,   2.7999,2,    34.5772,2,     -999.0,9,     -999.0,-999.0000,     -999.0,     -999.0,9,     -999.0,     -999.0,9,     -999.0,  -999.0,9,     -999.0,     -999.0,9,     -999.0
33RO20150525,     P16N.2,     148,          2,          9,          9,2,20150607,       1131,         40,       -152,       5250,  1500.4,   2.4492,  34.5005,2,  34.5021,2,     15.7,2,    16.7,2,  157.39,2,   44.94,2,       0,2,    3.13,2,-999.000,9,-999.000,9,-999.000,9,    2400,2,  2401.6,2,   7.3031,2,    25.08,-999.000,9,-999.0000,9, -999.00,9,  -999.0,9,  -999.0,-999.0000,9,-999.0000,    38.4,2,     -999.0,9,-999.000,9, 20150607,     1247,-999.000,    2.449,2,    34.6648,2,     -999.0,9,     -999.0,-999.0000,     -999.0,     -999.0,9,     -999.0,     -999.0,9,     -999.0,  -999.0,9,     -999.0,     -999.0,9,     -999.0
33RO20150525,     P16N.2,     148,          2,          8,          8,2,20150607,       1131,         40,       -152,       5250,  1867.8,   2.1002,  34.5766,2,  34.5823,4,     43.7,2,    44.3,2,  164.81,2,   43.28,2,       0,2,    3.01,2,  -0.002,2,   0.001,2,       0,2,  2390.4,2,  2413.4,2,   7.3654,2,    25.09,-999.000,9,-999.0000,9, -999.00,9,  -999.0,9,  -999.0,-999.0000,9,-999.0000,    36.5,2,     38.079,3,-999.000,9, 20150607,     1240,-999.000,   2.0997,2,    34.7454,2,     -999.0,9,     -999.0,-999.0000,     -999.0,     -999.0,9,     -999.0,     -999.0,9,     -999.0,  -999.0,9,     -999.0,     -999.0,9,     -999.0
33RO20150525,     P16N.2,     148,          2,          7,          7,2,20150607,       1131,         40,       -152,       5250,  2267.3,   1.8246,  34.6196,2,  34.6195,2,     70.9,2,      74,2,  167.73,2,   41.62,2,       0,2,    2.88,2,-999.000,9,-999.000,9,-999.000,9,  2380.1,2,  2421.6,2,   7.4212,2,    25.04,-999.000,9,-999.0000,9, -999.00,9,  -999.0,9,  -999.0,-999.0000,9,-999.0000,    37.6,2,     -999.0,9,-999.000,9, 20150607,     1232,-999.000,   1.8246,2,    34.7827,2,     -999.0,9,     -999.0,-999.0000,     -999.0,     -999.0,9,     -999.0,     -999.0,9,     -999.0,  -999.0,9,     -999.0,     -999.0,9,     -999.0
33RO20150525,     P16N.2,     148,          2,          6,          6,2,20150607,       1131,         40,       -152,       5250,  2732.9,   1.6459,  34.6464,2,  34.6474,2,     96.7,2,    97.2,2,  164.31,2,   39.76,2,       0,2,    2.76,2,  -0.002,2,  -0.001,2,       0,2,  2363.6,2,  2422.8,2,   7.4722,2,    25.08,-999.000,9,-999.0000,9, -999.00,9,  -999.0,9,  -999.0,-999.0000,9,-999.0000,    36.4,2,     27.582,3,-999.000,9, 20150607,     1223,-999.000,   1.6454,2,    34.8108,2,     -999.0,9,     -999.0,-999.0000,     -999.0,     -999.0,9,     -999.0,     -999.0,9,     -999.0,  -999.0,9,     -999.0,     -999.0,9,     -999.0
33RO20150525,     P16N.2,     148,          2,          5,          5,2,20150607,       1131,         40,       -152,       5250,  3232.5,   1.5159,  34.6678,2,  34.6688,2,      121,2,   121.5,2,  161.18,2,    38.2,2,       0,2,    2.64,2,-999.000,9,-999.000,9,-999.000,9,  2347.6,2,  2424.4,2,   7.5204,2,    25.06,-999.000,9,-999.0000,9, -999.00,9,  -999.0,9,  -999.0,-999.0000,9,-999.0000,    36.4,2,     -999.0,9,-999.000,9, 20150607,     1213,-999.000,   1.5156,2,    34.8323,2,     -999.0,9,     -999.0,-999.0000,     -999.0,     -999.0,9,     -999.0,     -999.0,9,     -999.0,  -999.0,9,     -999.0,     -999.0,9,     -999.0
33RO20150525,     P16N.2,     148,          2,          4,          4,2,20150607,       1131,         40,       -152,       5250,    3733,   1.4873,  34.6787,2,  34.6795,2,    132.5,2,   133.1,2,  163.82,6,   37.41,6,       0,6,    2.58,6,  -0.001,6,       0,6,       0,6,  2341.4,2,  2428.6,2,   7.5466,2,    25.08,-999.000,9,-999.0000,9, -999.00,9,  -999.0,9,  -999.0,-999.0000,9,-999.0000,    37.9,2,     22.840,3,-999.000,9, 20150607,     1204,-999.000,   1.4871,2,     34.843,6,     -999.0,9,     -999.0,-999.0000,     -999.0,     -999.0,9,     -999.0,     -999.0,9,     -999.0,  -999.0,9,     -999.0,     -999.0,9,     -999.0
33RO20150525,     P16N.2,     148,          2,          3,          3,2,20150607,       1131,         40,       -152,       5250,  4233.1,    1.503,  34.6843,2,  34.6854,2,    138.1,2,   138.7,2,   164.6,6,   37.12,6,       0,6,    2.55,6,-999.000,9,-999.000,9,-999.000,9,  2338.7,2,  2431.6,2,   7.5606,2,    25.07,-999.000,9,-999.0000,9, -999.00,9,  -999.0,9,  -999.0,-999.0000,9,-999.0000,    38.1,2,     -999.0,9,-999.000,9, 20150607,     1154,-999.000,    1.503,2,    34.8489,2,     -999.0,9,     -999.0,-999.0000,     -999.0,     -999.0,9,     -999.0,     -999.0,9,     -999.0,  -999.0,9,     -999.0,     -999.0,9,     -999.0
33RO20150525,     P16N.2,     148,          2,          2,          2,2,20150607,       1131,         40,       -152,       5250,  4780.2,   1.5483,  34.6867,2,  34.6868,2,    141.8,2,   142.6,2,  162.26,6,   36.83,6,       0,6,    2.53,6,   0.002,2,   0.002,2,       0,2,  2337.6,2,  2432.2,6,   7.5673,2,    25.11,-999.000,9,-999.0000,9, -999.00,9,  -999.0,9,  -999.0,-999.0000,9,-999.0000,    38.4,2,     21.980,3,-999.000,9, 20150607,     1144,-999.000,   1.5484,2,    34.8504,2,     -999.0,9,     -999.0,-999.0000,     -999.0,     -999.0,9,     -999.0,     -999.0,9,     -999.0,  -999.0,9,     -999.0,     -999.0,9,     -999.0
33RO20150525,     P16N.2,     148,          2,          1,          1,2,20150607,       1131,         40,       -152,       5250,  5335.9,   1.6059,   34.688,2,  34.6885,2,    145.4,2,   146.4,2,  157.08,6,   36.44,6,       0,6,     2.5,6,   0.003,2,   0.003,2,       0,2,  2335.3,2,  2430.6,2,    7.573,6,    25.07,-999.000,9,-999.0000,9, -999.00,9,  -999.0,9,  -999.0,-999.0000,9,-999.0000,    36.9,2,     21.882,3,-999.000,9, 20150607,     1132,-999.000,   1.6055,2,    34.8521,2,     -999.0,9,     -999.0,-999.0000,     -999.0,     -999.0,9,     -999.0,     -999.0,9,     -999.0,  -999.0,9,     -999.0,     -999.0,9,     -999.0