BOTTLE,20220330CCHSIOCBG
EXPOCODE,SECT_ID,STNNBR,CASTNO,SAMPNO,BTLNBR,BTLNBR_FLAG_W,DATE,TIME,LATITUDE,LONGITUDE,DEPTH,CTDPRS,CTDTMP,CTDSAL,CTDSAL_FLAG_W,SALNTY,SALNTY_FLAG_W,CTDOXY,CTDOXY_FLAG_W,OXYGEN,OXYGEN_FLAG_W,SILCAT,SILCAT_FLAG_W,NITRAT,NITRAT_FLAG_W,NITRIT,NITRIT_FLAG_W,PHSPHT,PHSPHT_FLAG_W,CFC-11,CFC-11_FLAG_W,CFC-12,CFC-12_FLAG_W,SF6,SF6_FLAG_W,TCARBN,TCARBN_FLAG_W,ALKALI,ALKALI_FLAG_W,PH_TOT,PH_TOT_FLAG_W,PH_TMP,TRITUM,TRITUM_FLAG_W,HELIUM,HELIUM_FLAG_W,DELC13,DELC13_FLAG_W,DELC14,DELC14_FLAG_W,C14ERR,NEON,NEON_FLAG_W,NEONER,DOC,DOC_FLAG_W,N2O,N2O_FLAG_W,ARGON,ARGON_FLAG_W,BTL_DATE,BTL_TIME,TRITER,SBE35,SBE35_FLAG_W,SALTREF,SALTREF_FLAG_W,DELHE3,DELHE3_FLAG_W,DELHER,HELIER,ARGONER,KRYPTON,KRYPTON_FLAG_W,KRYPTONER,XENON,XENON_FLAG_W,XENONER,14C-DOC,14C-DOC_FLAG_W,14C-DOCERR,13C-DOC,13C-DOC_FLAG_W,13C-DOCERR
,,,,,,,,,,,METERS,DBAR,ITS-90,PSS-78,,PSS-78,,UMOL/KG,,UMOL/KG,,UMOL/KG,,UMOL/KG,,UMOL/KG,,UMOL/KG,,PMOL/KG,,PMOL/KG,,FMOL/KG,,UMOL/KG,,UMOL/KG,,,,DEG C,TU,,NMOL/KG,,/MILLE,,/MILLE,,/MILLE,NMOL/KG,,NMOL/KG,UMOL/KG,,NMOL/KG,,UMOL/KG,,,,TU,ITS-90,,G/KG,,PERCNT,,PERCNT,NMOL/KG,UMOL/KG,NMOL/KG,,NMOL/KG,NMOL/KG,,NMOL/KG,/MILLE,,/MILLE,/MILLE,,/MILLE
33RO20150525,     P16N.2,     161,          2,         24,         24,2,20150611,       1053,    46.5001,  -151.9999,       4870,     2.6,  10.0594,  32.7988,2,  32.7988,2,    286.8,2,   289.2,2,   16.15,2,   10.86,2,    0.12,2,    1.09,2,    3.95,3,   2.137,2,   2.514,2,    2043,6,  2203.2,2,   7.7981,2,    25.01,-999.000,9,-999.0000,9, -999.00,9,  -999.0,9,  -999.0,-999.0000,9,-999.0000,    53.6,2,     11.119,3,-999.000,9, 20150611,     1248,-999.000,  10.0589,2,    32.9534,2,     -999.0,9,     -999.0,-999.0000,     -999.0,     -999.0,9,     -999.0,     -999.0,9,     -999.0,  -999.0,9,     -999.0,     -999.0,9,     -999.0
33RO20150525,     P16N.2,     161,          2,         23,         23,2,20150611,       1053,    46.5001,  -151.9999,       4870,    24.4,   8.5386,  32.8339,2,  32.8435,2,      301,2,   302.1,2,   16.25,2,   10.96,2,    0.09,2,    1.08,2,-999.000,9,-999.000,9,-999.000,9,  2048.1,2,  2204.8,2,   7.7938,6,       25,-999.000,9,-999.0000,9, -999.00,9,  -999.0,9,  -999.0,-999.0000,9,-999.0000,    53.8,2,     -999.0,9,-999.000,9, 20150611,     1246,-999.000,   8.4757,2,    32.9984,2,     -999.0,9,     -999.0,-999.0000,     -999.0,     -999.0,9,     -999.0,     -999.0,9,     -999.0,  -999.0,9,     -999.0,     -999.0,9,     -999.0
33RO20150525,     P16N.2,     161,          2,         22,         22,2,20150611,       1053,    46.5001,  -151.9999,       4870,    51.4,   6.8536,  32.8534,2,  32.8577,2,    302.3,2,   303.3,2,   17.23,2,   12.33,2,     0.1,2,    1.18,2,   4.448,2,   2.375,2,   2.769,2,  2057.4,2,  2205.9,2,   7.7692,6,       25,-999.000,9,-999.0000,9, -999.00,9,  -999.0,9,  -999.0,-999.0000,9,-999.0000,    54.7,2,     12.198,3,-999.000,9, 20150611,     1244,-999.000,   6.8736,2,    33.0126,2,     -999.0,9,     -999.0,-999.0000,     -999.0,     -999.0,9,     -999.0,     -999.0,9,     -999.0,  -999.0,9,     -999.0,     -999.0,9,     -999.0
33RO20150525,     P16N.2,     161,          2,         21,         21,2,20150611,       1053,    46.5001,  -151.9999,       4870,    74.7,   6.7148,  32.8757,2,  32.8876,2,    297.8,2,   297.2,2,   17.42,2,   12.82,2,    0.13,2,    1.22,2,    4.47,2,   2.384,2,   2.824,2,  2066.2,2,  2209.8,6,   7.7564,2,    24.97,-999.000,9,-999.0000,9, -999.00,9,  -999.0,9,  -999.0,-999.0000,9,-999.0000,    52.1,2,     12.319,3,-999.000,9, 20150611,     1243,-999.000,   6.7157,2,    33.0426,6,     -999.0,9,     -999.0,-999.0000,     -999.0,     -999.0,9,     -999.0,     -999.0,9,     -999.0,  -999.0,9,     -999.0,     -999.0,9,     -999.0
33RO20150525,     P16N.2,     161,          2,         20,         20,2,20150611,       1053,    46.5001,  -151.9999,       4870,   100.8,    6.934,  33.7162,2,  33.7106,2,    232.6,2,   240.8,2,   25.53,2,   18.58,2,    0.02,2,     1.4,2,   4.053,2,   2.185,2,   2.323,2,  2127.9,2,  2247.8,2,   7.6801,2,    25.04,-999.000,9,-999.0000,9, -999.00,9,  -999.0,9,  -999.0,-999.0000,9,-999.0000,    48.7,2,     15.623,3,-999.000,9, 20150611,     1241,-999.000,   6.9325,2,    33.8696,2,     -999.0,9,     -999.0,-999.0000,     -999.0,     -999.0,9,     -999.0,     -999.0,9,     -999.0,  -999.0,9,     -999.0,     -999.0,9,     -999.0
33RO20150525,     P16N.2,     161,          2,         19,         19,2,20150611,       1053,    46.5001,  -151.9999,       4870,   151.3,   6.4503,  33.8464,2,  33.8452,2,      204,2,   204.6,2,   37.85,2,   23.18,2,    0.01,2,    1.67,2,   3.731,2,   1.972,2,   1.794,2,    2167,2,  2264.1,2,   7.6163,2,    25.01,-999.000,9,-999.0000,9, -999.00,9,  -999.0,9,  -999.0,-999.0000,9,-999.0000,    46.1,2,     21.325,3,-999.000,9, 20150611,     1239,-999.000,   6.4473,2,    34.0048,2,     -999.0,9,     -999.0,-999.0000,     -999.0,     -999.0,9,     -999.0,     -999.0,9,     -999.0,  -999.0,9,     -999.0,     -999.0,9,     -999.0
33RO20150525,     P16N.2,     161,          2,         18,         18,2,20150611,       1053,    46.5001,  -151.9999,       4870,   225.6,   5.4216,  33.8503,2,  33.8487,2,    149.8,2,   150.1,2,   55.94,2,   30.22,2,    0.01,2,    2.15,2,   3.295,2,   1.704,2,   1.318,2,  2218.2,2,  2276.5,2,   7.4943,2,    24.98,-999.000,9,-999.0000,9, -999.00,9,  -999.0,9,  -999.0,-999.0000,9,-999.0000,    47.6,2,     27.111,3,-999.000,9, 20150611,     1236,-999.000,   5.4186,2,    34.0083,2,     -999.0,9,     -999.0,-999.0000,     -999.0,     -999.0,9,     -999.0,     -999.0,9,     -999.0,  -999.0,9,     -999.0,     -999.0,9,     -999.0
33RO20150525,     P16N.2,     161,          2,         17,         17,2,20150611,       1053,    46.5001,  -151.9999,       4870,   300.3,   4.6855,  33.8821,2,    33.88,2,    111.9,2,   111.7,2,   70.22,2,   35.11,2,    0.01,2,    2.48,2,   2.876,2,   1.459,2,   1.048,2,  2257.4,2,  2286.1,2,    7.403,2,    25.03,-999.000,9,-999.0000,9, -999.00,9,  -999.0,9,  -999.0,-999.0000,9,-999.0000,    42.4,2,     31.395,3,-999.000,9, 20150611,     1234,-999.000,    4.685,2,    34.0397,2,     -999.0,9,     -999.0,-999.0000,     -999.0,     -999.0,9,     -999.0,     -999.0,9,     -999.0,  -999.0,9,     -999.0,     -999.0,9,     -999.0
33RO20150525,     P16N.2,     161,          2,         16,         16,2,20150611,       1053,    46.5001,  -151.9999,       4870,   400.9,   4.2741,  33.9852,2,   33.984,2,     76.1,2,    75.6,2,   86.25,2,   38.82,2,    0.01,2,    2.73,2,   2.086,2,   1.049,2,   0.706,2,  2291.7,2,  2303.6,2,   7.3431,2,    25.03,-999.000,9,-999.0000,9, -999.00,9,  -999.0,9,  -999.0,-999.0000,9,-999.0000,    43.5,2,     36.503,3,-999.000,9, 20150611,     1231,-999.000,   4.2739,2,    34.1443,2,     -999.0,9,     -999.0,-999.0000,     -999.0,     -999.0,9,     -999.0,     -999.0,9,     -999.0,  -999.0,9,     -999.0,     -999.0,9,     -999.0
33RO20150525,     P16N.2,     161,          2,         15,         15,2,20150611,       1053,    46.5001,  -151.9999,       4870,   499.8,   4.0051,  34.0865,2,  34.0887,2,     50.9,2,    52.4,2,   99.93,2,   41.07,2,    0.01,2,    2.86,2,   1.447,6,   0.705,6,   0.369,6,  2318.6,2,  2320.4,2,   7.3109,2,    25.02,-999.000,9,-999.0000,9, -999.00,9,  -999.0,9,  -999.0,-999.0000,9,-999.0000,    43.3,2,     40.492,3,-999.000,9, 20150611,     1228,-999.000,   4.0038,2,    34.2494,2,     -999.0,9,     -999.0,-999.0000,     -999.0,     -999.0,9,     -999.0,     -999.0,9,     -999.0,  -999.0,9,     -999.0,     -999.0,9,     -999.0
33RO20150525,     P16N.2,     161,          2,         14,         14,2,20150611,       1053,    46.5001,  -151.9999,       4870,   652.3,   3.6702,  34.2059,2,  34.2053,2,     31.2,2,    30.9,2,  115.28,2,   42.63,2,    0.01,2,    2.97,2,   0.729,2,   0.353,2,    0.17,2,  2343.6,2,  2340.4,2,   7.2942,2,    25.02,-999.000,9,-999.0000,9, -999.00,9,  -999.0,9,  -999.0,-999.0000,9,-999.0000,    40.1,2,     44.061,3,-999.000,9, 20150611,     1224,-999.000,   3.6698,2,    34.3666,2,     -999.0,9,     -999.0,-999.0000,     -999.0,     -999.0,9,     -999.0,     -999.0,9,     -999.0,  -999.0,9,     -999.0,     -999.0,9,     -999.0
33RO20150525,     P16N.2,     161,          2,         13,         13,2,20150611,       1053,    46.5001,  -151.9999,       4870,   801.5,   3.3555,  34.2909,2,  34.2929,2,     24.9,2,      25,2,     127,2,   43.31,2,    0.01,2,    3.03,2,-999.000,9,-999.000,9,-999.000,9,  2358.1,2,  2355.7,2,    7.295,6,    25.03,-999.000,9,-999.0000,9, -999.00,9,  -999.0,9,  -999.0,-999.0000,9,-999.0000,    42.5,2,     -999.0,9,-999.000,9, 20150611,     1220,-999.000,   3.3546,2,    34.4546,2,     -999.0,9,     -999.0,-999.0000,     -999.0,     -999.0,9,     -999.0,     -999.0,9,     -999.0,  -999.0,9,     -999.0,     -999.0,9,     -999.0
33RO20150525,     P16N.2,     161,          2,         12,         12,2,20150611,       1053,    46.5001,  -151.9999,       4870,   950.7,   3.0523,  34.3562,2,  34.3552,2,     22.4,2,    21.6,2,  137.06,2,    43.8,2,    0.01,2,    3.04,2,   0.185,2,    0.09,2,       0,2,  2371.4,2,  2369.6,2,   7.2973,2,    25.02,-999.000,9,-999.0000,9, -999.00,9,  -999.0,9,  -999.0,-999.0000,9,-999.0000,    40.4,2,     45.959,3,-999.000,9, 20150611,     1216,-999.000,   3.0511,2,    34.5172,6,     -999.0,9,     -999.0,-999.0000,     -999.0,     -999.0,9,     -999.0,     -999.0,9,     -999.0,  -999.0,9,     -999.0,     -999.0,9,     -999.0
33RO20150525,     P16N.2,     161,          2,         11,         11,2,20150611,       1053,    46.5001,  -151.9999,       4870,  1100.2,   2.8323,     34.4,2,  34.4058,2,     20.3,2,    20.5,2,  144.29,2,   44.09,2,    0.01,2,    3.06,2,-999.000,9,-999.000,9,-999.000,9,  2378.4,6,  2377.9,2,   7.2993,2,    25.02,-999.000,9,-999.0000,9, -999.00,9,  -999.0,9,  -999.0,-999.0000,9,-999.0000,    39.3,2,     -999.0,9,-999.000,9, 20150611,     1212,-999.000,   2.8324,2,    34.5681,2,     -999.0,9,     -999.0,-999.0000,     -999.0,     -999.0,9,     -999.0,     -999.0,9,     -999.0,  -999.0,9,     -999.0,     -999.0,9,     -999.0
33RO20150525,     P16N.2,     161,          2,         10,         10,2,20150611,       1053,    46.5001,  -151.9999,       4870,  1299.6,   2.5679,  34.4539,2,  34.4535,2,     20.9,2,    20.8,2,  153.28,2,   44.28,2,    0.01,2,    3.06,2,-999.000,9,-999.000,9,-999.000,9,    2390,2,  2389.4,2,   7.3046,2,    24.99,-999.000,9,-999.0000,9, -999.00,9,  -999.0,9,  -999.0,-999.0000,9,-999.0000,    38.4,2,     -999.0,9,-999.000,9, 20150611,     1208,-999.000,   2.5676,2,    34.6159,2,     -999.0,9,     -999.0,-999.0000,     -999.0,     -999.0,9,     -999.0,     -999.0,9,     -999.0,  -999.0,9,     -999.0,     -999.0,9,     -999.0
33RO20150525,     P16N.2,     161,          2,          9,          9,2,20150611,       1053,    46.5001,  -151.9999,       4870,  1598.4,   2.2605,  34.5204,2,  34.5236,2,     26.4,2,    26.1,2,  162.85,2,   44.18,2,    0.03,2,    3.04,2,-999.000,9,-999.000,9,-999.000,9,  2396.9,2,    2402,2,   7.3216,6,    25.02,-999.000,9,-999.0000,9, -999.00,9,  -999.0,9,  -999.0,-999.0000,9,-999.0000,    40.0,2,     -999.0,9,-999.000,9, 20150611,     1201,-999.000,   2.2607,2,    34.6864,2,     -999.0,9,     -999.0,-999.0000,     -999.0,     -999.0,9,     -999.0,     -999.0,9,     -999.0,  -999.0,9,     -999.0,     -999.0,9,     -999.0
33RO20150525,     P16N.2,     161,          2,          8,          8,2,20150611,       1053,    46.5001,  -151.9999,       4870,  1999.6,   1.9582,  34.5856,2,  34.5857,2,     47.4,2,    47.5,2,  169.98,2,   43.01,2,    0.03,2,    2.94,2,-999.000,9,-999.000,9,-999.000,9,  2389.3,2,  2413.6,2,   7.3702,2,       25,-999.000,9,-999.0000,9, -999.00,9,  -999.0,9,  -999.0,-999.0000,9,-999.0000,    38.0,2,     -999.0,9,-999.000,9, 20150611,     1153,-999.000,    1.958,2,    34.7488,2,     -999.0,9,     -999.0,-999.0000,     -999.0,     -999.0,9,     -999.0,     -999.0,9,     -999.0,  -999.0,9,     -999.0,     -999.0,9,     -999.0
33RO20150525,     P16N.2,     161,          2,          7,          7,2,20150611,       1053,    46.5001,  -151.9999,       4870,  2403.5,   1.7658,  34.6229,2,  34.6234,2,     72.2,2,    73.2,2,  170.95,2,   41.35,2,       0,2,    2.84,2,-999.000,9,-999.000,9,-999.000,9,  2376.9,2,  2419.2,2,   7.4229,2,       25,-999.000,9,-999.0000,9, -999.00,9,  -999.0,9,  -999.0,-999.0000,9,-999.0000,    38.6,2,     -999.0,9,-999.000,9, 20150611,     1145,-999.000,   1.7655,2,    34.7866,2,     -999.0,9,     -999.0,-999.0000,     -999.0,     -999.0,9,     -999.0,     -999.0,9,     -999.0,  -999.0,9,     -999.0,     -999.0,9,     -999.0
33RO20150525,     P16N.2,     161,          2,          6,          6,2,20150611,       1053,    46.5001,  -151.9999,       4870,  2798.4,   1.6314,   34.647,2,  34.6471,2,       96,2,      96,2,  168.12,2,   39.88,2,    0.01,2,    2.72,2,-999.000,9,-999.000,9,-999.000,9,  2362.7,2,  2420.8,2,   7.4685,2,    25.03,-999.000,9,-999.0000,9, -999.00,9,  -999.0,9,  -999.0,-999.0000,9,-999.0000,    38.2,2,     -999.0,9,-999.000,9, 20150611,     1137,-999.000,   1.6311,2,    34.8105,2,     -999.0,9,     -999.0,-999.0000,     -999.0,     -999.0,9,     -999.0,     -999.0,9,     -999.0,  -999.0,9,     -999.0,     -999.0,9,     -999.0
33RO20150525,     P16N.2,     161,          2,          5,          5,2,20150611,       1053,    46.5001,  -151.9999,       4870,  3199.6,   1.5459,  34.6633,2,  34.6639,2,      115,2,   115.4,2,   164.4,2,   38.61,2,    0.01,2,    2.64,2,-999.000,9,-999.000,9,-999.000,9,  2349.6,2,  2421.6,2,   7.5064,2,    25.02,-999.000,9,-999.0000,9, -999.00,9,  -999.0,9,  -999.0,-999.0000,9,-999.0000,    38.5,2,     -999.0,9,-999.000,9, 20150611,     1129,-999.000,   1.5457,2,    34.8274,2,     -999.0,9,     -999.0,-999.0000,     -999.0,     -999.0,9,     -999.0,     -999.0,9,     -999.0,  -999.0,9,     -999.0,     -999.0,9,     -999.0
33RO20150525,     P16N.2,     161,          2,          4,          4,2,20150611,       1053,    46.5001,  -151.9999,       4870,  3549.8,   1.4889,  34.6748,2,  34.6751,2,    130.3,2,   131.1,2,  161.07,6,   37.43,6,    0.01,6,    2.56,6,-999.000,9,-999.000,9,-999.000,9,  2340.7,2,  2420.6,2,   7.5368,2,    25.02,-999.000,9,-999.0000,9, -999.00,9,  -999.0,9,  -999.0,-999.0000,9,-999.0000,    39.3,2,     -999.0,9,-999.000,9, 20150611,     1121,-999.000,   1.4886,2,    34.8386,2,     -999.0,9,     -999.0,-999.0000,     -999.0,     -999.0,9,     -999.0,     -999.0,9,     -999.0,  -999.0,9,     -999.0,     -999.0,9,     -999.0
33RO20150525,     P16N.2,     161,          2,          3,          3,2,20150611,       1053,    46.5001,  -151.9999,       4870,  4000.7,   1.4783,  34.6825,2,  34.6848,2,    139.4,2,   139.3,2,  161.17,6,   36.85,6,    0.01,6,    2.51,6,-999.000,9,-999.000,9,-999.000,9,  2335.5,2,  2424.2,6,   7.5567,2,    25.02,-999.000,9,-999.0000,9, -999.00,9,  -999.0,9,  -999.0,-999.0000,9,-999.0000,    38.7,2,     -999.0,9,-999.000,9, 20150611,     1113,-999.000,    1.478,2,    34.8484,2,     -999.0,9,     -999.0,-999.0000,     -999.0,     -999.0,9,     -999.0,     -999.0,9,     -999.0,  -999.0,9,     -999.0,     -999.0,9,     -999.0
33RO20150525,     P16N.2,     161,          2,          2,          2,2,20150611,       1053,    46.5001,  -151.9999,       4870,    4481,   1.5083,  34.6866,2,   34.689,2,    143.3,2,   144.4,2,   164.4,6,   36.65,6,       0,6,     2.5,6,-999.000,9,-999.000,9,-999.000,9,  2334.8,2,  2428.4,2,   7.5663,6,    25.03,-999.000,9,-999.0000,9, -999.00,9,  -999.0,9,  -999.0,-999.0000,9,-999.0000,    38.6,2,     -999.0,9,-999.000,9, 20150611,     1103,-999.000,   1.5083,2,    34.8525,2,     -999.0,9,     -999.0,-999.0000,     -999.0,     -999.0,9,     -999.0,     -999.0,9,     -999.0,  -999.0,9,     -999.0,     -999.0,9,     -999.0
33RO20150525,     P16N.2,     161,          2,          1,          1,2,20150611,       1053,    46.5001,  -151.9999,       4870,  4960.8,    1.561,  34.6882,2,  34.6898,2,    144.3,2,   143.8,2,  166.35,6,   36.65,6,    0.01,6,    2.49,6,-999.000,9,-999.000,9,-999.000,9,  2336.8,6,    2430,2,   7.5691,2,    25.02,-999.000,9,-999.0000,9, -999.00,9,  -999.0,9,  -999.0,-999.0000,9,-999.0000,    37.8,2,     -999.0,9,-999.000,9, 20150611,     1053,-999.000,    1.561,2,    34.8534,2,     -999.0,9,     -999.0,-999.0000,     -999.0,     -999.0,9,     -999.0,     -999.0,9,     -999.0,  -999.0,9,     -999.0,     -999.0,9,     -999.0