BOTTLE,20220330CCHSIOCBG
EXPOCODE,SECT_ID,STNNBR,CASTNO,SAMPNO,BTLNBR,BTLNBR_FLAG_W,DATE,TIME,LATITUDE,LONGITUDE,DEPTH,CTDPRS,CTDTMP,CTDSAL,CTDSAL_FLAG_W,SALNTY,SALNTY_FLAG_W,CTDOXY,CTDOXY_FLAG_W,OXYGEN,OXYGEN_FLAG_W,SILCAT,SILCAT_FLAG_W,NITRAT,NITRAT_FLAG_W,NITRIT,NITRIT_FLAG_W,PHSPHT,PHSPHT_FLAG_W,CFC-11,CFC-11_FLAG_W,CFC-12,CFC-12_FLAG_W,SF6,SF6_FLAG_W,TCARBN,TCARBN_FLAG_W,ALKALI,ALKALI_FLAG_W,PH_TOT,PH_TOT_FLAG_W,PH_TMP,TRITUM,TRITUM_FLAG_W,HELIUM,HELIUM_FLAG_W,DELC13,DELC13_FLAG_W,DELC14,DELC14_FLAG_W,C14ERR,NEON,NEON_FLAG_W,NEONER,DOC,DOC_FLAG_W,N2O,N2O_FLAG_W,ARGON,ARGON_FLAG_W,BTL_DATE,BTL_TIME,TRITER,SBE35,SBE35_FLAG_W,SALTREF,SALTREF_FLAG_W,DELHE3,DELHE3_FLAG_W,DELHER,HELIER,ARGONER,KRYPTON,KRYPTON_FLAG_W,KRYPTONER,XENON,XENON_FLAG_W,XENONER,14C-DOC,14C-DOC_FLAG_W,14C-DOCERR,13C-DOC,13C-DOC_FLAG_W,13C-DOCERR
,,,,,,,,,,,METERS,DBAR,ITS-90,PSS-78,,PSS-78,,UMOL/KG,,UMOL/KG,,UMOL/KG,,UMOL/KG,,UMOL/KG,,UMOL/KG,,PMOL/KG,,PMOL/KG,,FMOL/KG,,UMOL/KG,,UMOL/KG,,,,DEG C,TU,,NMOL/KG,,/MILLE,,/MILLE,,/MILLE,NMOL/KG,,NMOL/KG,UMOL/KG,,NMOL/KG,,UMOL/KG,,,,TU,ITS-90,,G/KG,,PERCNT,,PERCNT,NMOL/KG,UMOL/KG,NMOL/KG,,NMOL/KG,NMOL/KG,,NMOL/KG,/MILLE,,/MILLE,/MILLE,,/MILLE
33RO20150525,     P16N.2,     181,          1,         24,         24,2,20150617,       0520,    55.5978,  -152.7026,       5382,     2.3,  10.8121,  32.4641,2,  32.4639,2,    292.1,2,   293.2,2,   22.91,2,   10.38,2,    0.16,2,    1.14,2,   3.759,6,   2.149,6,    2.45,6,  2017.1,6,  2188.8,2,   7.8207,2,    25.02,-999.000,9,-999.0000,9,    0.83,2,   -40.0,2,     3.2,-999.0000,9,-999.0000,    41.4,2,     11.463,3,-999.000,9, 20150617,     0727,-999.000,  10.8139,2,     32.617,2,     -999.0,9,     -999.0,-999.0000,     -999.0,     -999.0,9,     -999.0,     -999.0,9,     -999.0,  -999.0,9,     -999.0,     -999.0,9,     -999.0
33RO20150525,     P16N.2,     181,          1,         23,         23,2,20150617,       0520,    55.5978,  -152.7026,       5382,    20.3,   9.3932,  32.4181,2,  32.4228,2,    301.1,2,   304.2,2,   20.46,2,     9.1,2,    0.15,2,    1.07,2,   3.897,2,   2.225,2,   2.527,2,  2009.9,2,  2186.5,6,   7.8354,2,    25.02,-999.000,9,-999.0000,9,    0.99,2,   -36.3,2,     1.9,-999.0000,9,-999.0000,    62.2,2,     11.672,3,-999.000,9, 20150617,     0725,-999.000,   9.3897,2,    32.5757,2,     -999.0,9,     -999.0,-999.0000,     -999.0,     -999.0,9,     -999.0,     -999.0,9,     -999.0,  -999.0,9,     -999.0,     -999.0,9,     -999.0
33RO20150525,     P16N.2,     181,          1,         22,         22,2,20150617,       0520,    55.5978,  -152.7026,       5382,    45.2,   6.3033,  32.4952,2,  32.5254,2,    301.9,2,     299,2,   40.82,2,   25.55,2,    0.05,2,    1.99,2,   4.335,2,   2.451,2,   2.755,2,  2058.2,2,  2188.5,2,   7.7227,2,    25.02,-999.000,9,-999.0000,9,    0.82,2,   -33.9,2,     2.0,-999.0000,9,-999.0000,    64.0,2,     13.272,3,-999.000,9, 20150617,     0722,-999.000,   6.2953,2,    32.6787,2,     -999.0,9,     -999.0,-999.0000,     -999.0,     -999.0,9,     -999.0,     -999.0,9,     -999.0,  -999.0,9,     -999.0,     -999.0,9,     -999.0
33RO20150525,     P16N.2,     181,          1,         21,         21,2,20150617,       0520,    55.5978,  -152.7026,       5382,    80.3,   5.2281,  33.0038,2,  33.0502,2,    199.9,2,   207.9,2,   65.96,2,   37.19,2,    0.03,2,    2.67,2,   3.975,2,   2.204,2,   2.139,2,    2149,2,  2221.5,2,   7.5431,6,    25.02,-999.000,9,-999.0000,9,    0.00,2,   -45.2,2,     2.0,-999.0000,9,-999.0000,    56.8,2,     21.845,3,-999.000,9, 20150617,     0720,-999.000,   5.2165,2,     33.206,2,     -999.0,9,     -999.0,-999.0000,     -999.0,     -999.0,9,     -999.0,     -999.0,9,     -999.0,  -999.0,9,     -999.0,     -999.0,9,     -999.0
33RO20150525,     P16N.2,     181,          1,         20,         20,2,20150617,       0520,    55.5978,  -152.7026,       5382,   129.9,   4.2556,  33.5952,2,   33.611,2,    114.1,2,   106.4,2,   66.12,2,   37.17,2,    0.03,2,    2.66,2,   3.273,2,   1.751,2,   1.343,2,  2256.6,2,  2264.8,2,   7.3303,6,    24.99,-999.000,9,-999.0000,9,   -0.65,2,   -76.7,2,     1.9,-999.0000,9,-999.0000,    53.1,2,     32.969,3,-999.000,9, 20150617,     0718,-999.000,    4.256,2,    33.7695,2,     -999.0,9,     -999.0,-999.0000,     -999.0,     -999.0,9,     -999.0,     -999.0,9,     -999.0,  -999.0,9,     -999.0,     -999.0,9,     -999.0
33RO20150525,     P16N.2,     181,          1,         19,         19,2,20150617,       0520,    55.5978,  -152.7026,       5382,   200.3,   3.9788,   33.862,2,  33.8633,2,     49.4,2,    48.1,2,   83.03,2,   42.15,2,    0.02,2,    2.96,2,   2.449,2,   1.264,2,   0.796,2,  2310.3,2,  2289.7,2,   7.2422,2,    24.97,-999.000,9,-999.0000,9,   -0.90,2,   -95.5,2,     2.2,-999.0000,9,-999.0000,    49.1,2,     40.199,3,-999.000,9, 20150617,     0714,-999.000,   3.9766,2,    34.0229,2,     -999.0,9,     -999.0,-999.0000,     -999.0,     -999.0,9,     -999.0,     -999.0,9,     -999.0,  -999.0,9,     -999.0,     -999.0,9,     -999.0
33RO20150525,     P16N.2,     181,          1,         18,         18,2,20150617,       0520,    55.5978,  -152.7026,       5382,   275.4,   4.0289,  34.0065,2,  34.0115,2,     29.1,2,    25.5,2,   93.97,2,   43.12,2,    0.02,2,    3.03,2,    1.66,2,   0.827,2,   0.475,2,    2329,2,  2307.8,2,    7.238,2,    25.02,-999.000,9,-999.0000,9,   -1.04,2,  -126.5,2,     2.4,-999.0000,9,-999.0000,    48.0,2,     43.733,3,-999.000,9, 20150617,     0712,-999.000,   4.0283,2,    34.1719,2,     -999.0,9,     -999.0,-999.0000,     -999.0,     -999.0,9,     -999.0,     -999.0,9,     -999.0,  -999.0,9,     -999.0,     -999.0,9,     -999.0
33RO20150525,     P16N.2,     181,          1,         17,         17,2,20150617,       0520,    55.5978,  -152.7026,       5382,   367.8,   3.8893,  34.0989,2,  34.0979,2,       20,2,    18.6,2,  103.75,2,   43.41,2,    0.02,2,    3.06,2,   1.123,2,   0.553,2,   0.251,2,  2340.3,2,  2321.9,2,   7.2452,6,    25.02,-999.000,9,-999.0000,9,   -0.94,2,  -144.3,2,     1.8,-999.0000,9,-999.0000,    45.2,2,     45.548,3,-999.000,9, 20150617,     0709,-999.000,    3.889,2,    34.2587,2,     -999.0,9,     -999.0,-999.0000,     -999.0,     -999.0,9,     -999.0,     -999.0,9,     -999.0,  -999.0,9,     -999.0,     -999.0,9,     -999.0
33RO20150525,     P16N.2,     181,          1,         16,         16,2,20150617,       0520,    55.5978,  -152.7026,       5382,   466.6,   3.7037,  34.1735,2,  34.1815,2,     15.9,2,    14.9,2,  112.64,2,   43.51,2,    0.01,2,    3.07,2,   0.746,6,   0.359,6,   0.158,6,  2349.6,2,  2335.1,2,   7.2546,2,       25,-999.000,9,-999.0000,9,   -0.82,2,  -152.0,2,     1.8,-999.0000,9,-999.0000,    43.2,2,     46.909,3,-999.000,9, 20150617,     0706,-999.000,   3.7037,2,    34.3426,2,     -999.0,9,     -999.0,-999.0000,     -999.0,     -999.0,9,     -999.0,     -999.0,9,     -999.0,  -999.0,9,     -999.0,     -999.0,9,     -999.0
33RO20150525,     P16N.2,     181,          1,         15,         15,2,20150617,       0520,    55.5978,  -152.7026,       5382,   599.9,   3.4548,  34.2593,2,  34.2568,2,     13.8,2,    12.7,2,   122.9,2,   43.61,2,    0.02,2,    3.09,2,   0.379,2,   0.182,2,   0.084,2,  2362.5,2,  2351.2,2,   7.2673,2,    24.99,-999.000,9,-999.0000,9,   -0.80,2,  -168.0,2,     1.7,-999.0000,9,-999.0000,    44.3,2,     48.478,3,-999.000,9, 20150617,     0702,-999.000,   3.4547,2,    34.4183,2,     -999.0,9,     -999.0,-999.0000,     -999.0,     -999.0,9,     -999.0,     -999.0,9,     -999.0,  -999.0,9,     -999.0,     -999.0,9,     -999.0
33RO20150525,     P16N.2,     181,          1,         14,         14,2,20150617,       0520,    55.5978,  -152.7026,       5382,   749.8,   3.1968,  34.3245,2,  34.3246,2,     13.1,2,    12.2,2,  132.08,2,    43.7,2,    0.01,2,     3.1,2,   0.194,2,   0.093,2,   0.044,2,  2370.6,6,  2363.7,2,   7.2757,2,    25.01,-999.000,9,-999.0000,9,   -0.81,2,  -187.7,2,     1.9,-999.0000,9,-999.0000,    42.0,2,     48.563,3,-999.000,9, 20150617,     0658,-999.000,   3.1966,2,    34.4864,6,     -999.0,9,     -999.0,-999.0000,     -999.0,     -999.0,9,     -999.0,     -999.0,9,     -999.0,  -999.0,9,     -999.0,     -999.0,9,     -999.0
33RO20150525,     P16N.2,     181,          1,         13,         13,2,20150617,       0520,    55.5978,  -152.7026,       5382,   900.3,   2.9405,  34.3761,2,  34.3786,2,       14,2,      13,2,  140.29,2,   43.89,2,       0,2,    3.09,2,   0.106,2,    0.05,2,       0,2,  2379.7,2,  2375.1,2,    7.284,2,       25,-999.000,9,-999.0000,9,   -0.81,2,  -199.2,2,     1.7,-999.0000,9,-999.0000,    41.6,2,     47.981,3,-999.000,9, 20150617,     0654,-999.000,   2.9396,2,    34.5407,2,     -999.0,9,     -999.0,-999.0000,     -999.0,     -999.0,9,     -999.0,     -999.0,9,     -999.0,  -999.0,9,     -999.0,     -999.0,9,     -999.0
33RO20150525,     P16N.2,     181,          1,         12,         12,2,20150617,       0520,    55.5978,  -152.7026,       5382,    1050,   2.7068,   34.423,2,  34.4239,2,     16.2,2,    15.5,2,  147.22,2,   43.89,2,       0,2,    3.09,2,   0.062,2,    0.03,2,       0,2,    2386,2,  2383.7,2,   7.2936,2,    24.98,-999.000,9,-999.0000,9,   -0.81,2,  -211.2,2,     1.8,-999.0000,9,-999.0000,    40.9,2,     46.276,3,-999.000,9, 20150617,     0650,-999.000,   2.7076,2,    34.5863,2,     -999.0,9,     -999.0,-999.0000,     -999.0,     -999.0,9,     -999.0,     -999.0,9,     -999.0,  -999.0,9,     -999.0,     -999.0,9,     -999.0
33RO20150525,     P16N.2,     181,          1,         11,         11,2,20150617,       0520,    55.5978,  -152.7026,       5382,  1231.8,   2.5043,  34.4644,2,  34.4662,2,     20.2,2,    20.4,2,  153.08,2,    43.7,2,       0,2,    3.05,2,   0.036,2,   0.017,2,       0,2,  2388.3,2,  2391.1,2,   7.3053,2,       25,-999.000,9,-999.0000,9,   -0.75,2,  -217.4,2,     1.7,-999.0000,9,-999.0000,    40.2,2,     44.888,3,-999.000,9, 20150617,     0645,-999.000,   2.5057,2,    34.6287,2,     -999.0,9,     -999.0,-999.0000,     -999.0,     -999.0,9,     -999.0,     -999.0,9,     -999.0,  -999.0,9,     -999.0,     -999.0,9,     -999.0
33RO20150525,     P16N.2,     181,          1,         10,         10,2,20150617,       0520,    55.5978,  -152.7026,       5382,  1499.8,   2.2113,  34.5243,2,  34.5242,2,     33.2,2,    33.3,2,  160.21,2,   43.01,2,       0,2,    3.01,2,   0.017,2,   0.008,2,       0,2,  2389.1,2,  2402.2,2,   7.3356,2,    24.99,-999.000,9,-999.0000,9,   -1.10,2,  -241.0,2,     1.9,-999.0000,9,-999.0000,    39.5,2,     40.421,3,-999.000,9, 20150617,     0640,-999.000,    2.211,2,     34.687,2,     -999.0,9,     -999.0,-999.0000,     -999.0,     -999.0,9,     -999.0,     -999.0,9,     -999.0,  -999.0,9,     -999.0,     -999.0,9,     -999.0
33RO20150525,     P16N.2,     181,          1,          9,          9,2,20150617,       0520,    55.5978,  -152.7026,       5382,  1865.3,   1.9382,  34.5813,2,  34.5826,2,     53.6,2,    53.5,2,  165.48,2,   41.74,2,       0,2,    2.92,2,   0.004,2,   0.002,2,       0,2,  2382.9,2,    2412,2,   7.3822,2,    24.99,-999.000,9,-999.0000,9,   -0.60,2,  -236.8,2,     1.7,-999.0000,9,-999.0000,    38.2,2,     35.432,3,-999.000,9, 20150617,     0632,-999.000,   1.9381,2,    34.7457,2,     -999.0,9,     -999.0,-999.0000,     -999.0,     -999.0,9,     -999.0,     -999.0,9,     -999.0,  -999.0,9,     -999.0,     -999.0,9,     -999.0
33RO20150525,     P16N.2,     181,          1,          8,          8,2,20150617,       0520,    55.5978,  -152.7026,       5382,  2332.8,   1.7403,  34.6219,2,  34.6211,2,     76.4,2,    77.6,2,  167.24,2,   40.27,2,       0,2,     2.8,2,   0.003,2,   0.001,2,       0,2,  2371.2,2,  2416.6,2,    7.435,3,       25,-999.000,9,-999.0000,9,   -0.43,2,  -237.4,2,     2.5,-999.0000,9,-999.0000,    38.4,2,     30.253,3,-999.000,9, 20150617,     0623,-999.000,   1.7399,2,    34.7844,2,     -999.0,9,     -999.0,-999.0000,     -999.0,     -999.0,9,     -999.0,     -999.0,9,     -999.0,  -999.0,9,     -999.0,     -999.0,9,     -999.0
33RO20150525,     P16N.2,     181,          1,          7,          7,2,20150617,       0520,    55.5978,  -152.7026,       5382,  2832.9,   1.6365,  34.6444,2,  34.6437,2,       97,2,      97,2,  166.85,2,      39,2,       0,2,    2.72,2,   0.003,2,   0.002,2,       0,2,  2362.1,2,    2422,2,   7.4749,2,       25,-999.000,9,-999.0000,9,   -0.33,2,  -230.5,2,     1.6,-999.0000,9,-999.0000,    39.4,2,     27.023,3,-999.000,9, 20150617,     0613,-999.000,   1.6365,2,    34.8071,2,     -999.0,9,     -999.0,-999.0000,     -999.0,     -999.0,9,     -999.0,     -999.0,9,     -999.0,  -999.0,9,     -999.0,     -999.0,9,     -999.0
33RO20150525,     P16N.2,     181,          1,          6,          6,2,20150617,       0520,    55.5978,  -152.7026,       5382,  3333.1,    1.516,  34.6678,2,  34.6671,2,    121.8,2,   122.6,2,  162.44,2,   37.34,2,       0,2,     2.6,2,   0.002,2,   0.001,2,       0,2,  2343.9,2,  2421.8,2,   7.5217,2,       25,-999.000,9,-999.0000,9,   -0.13,2,  -226.6,2,     1.6,-999.0000,9,-999.0000,    40.2,2,     23.727,3,-999.000,9, 20150617,     0603,-999.000,   1.5159,2,    34.8306,2,     -999.0,9,     -999.0,-999.0000,     -999.0,     -999.0,9,     -999.0,     -999.0,9,     -999.0,  -999.0,9,     -999.0,     -999.0,9,     -999.0
33RO20150525,     P16N.2,     181,          1,          5,          5,2,20150617,       0520,    55.5978,  -152.7026,       5382,  3833.1,   1.4738,    34.68,2,  34.6796,2,      138,2,   137.4,2,  158.83,2,   36.36,2,       0,2,    2.54,2,   0.002,2,   0.001,2,       0,2,  2333.3,2,    2421,2,   7.5502,2,    24.97,-999.000,9,-999.0000,9,   -0.05,2,  -220.4,2,     2.0,-999.0000,9,-999.0000,    39.2,2,     22.030,3,-999.000,9, 20150617,     0554,-999.000,   1.4738,2,    34.8431,6,     -999.0,9,     -999.0,-999.0000,     -999.0,     -999.0,9,     -999.0,     -999.0,9,     -999.0,  -999.0,9,     -999.0,     -999.0,9,     -999.0
33RO20150525,     P16N.2,     181,          1,          4,          4,2,20150617,       0520,    55.5978,  -152.7026,       5382,  4333.4,   1.4859,  34.6855,2,  34.6862,2,    145.2,2,   144.8,2,   155.7,6,   35.77,6,    0.01,6,    2.49,6,   0.003,2,   0.002,2,       0,2,  2327.4,2,  2421.2,2,   7.5627,6,    24.99,-999.000,9,-999.0000,9,   -0.04,2,  -218.4,2,     1.7,-999.0000,9,-999.0000,    40.1,2,     21.498,3,-999.000,9, 20150617,     0544,-999.000,    1.486,2,    34.8497,2,     -999.0,9,     -999.0,-999.0000,     -999.0,     -999.0,9,     -999.0,     -999.0,9,     -999.0,  -999.0,9,     -999.0,     -999.0,9,     -999.0
33RO20150525,     P16N.2,     181,          1,          3,          3,2,20150617,       0520,    55.5978,  -152.7026,       5382,    4669,   1.5096,  34.6872,2,  34.6905,2,    148.1,2,   148.2,2,  153.45,6,   35.58,6,    0.01,6,    2.47,6,   0.004,2,   0.003,2,       0,2,  2325.8,2,  2418.6,2,   7.5664,2,       25,-999.000,9,-999.0000,9,   -0.16,2,  -216.2,2,     1.7,-999.0000,9,-999.0000,    40.4,2,     21.267,3,-999.000,9, 20150617,     0537,-999.000,   1.5097,2,    34.8541,2,     -999.0,9,     -999.0,-999.0000,     -999.0,     -999.0,9,     -999.0,     -999.0,9,     -999.0,  -999.0,9,     -999.0,     -999.0,9,     -999.0
33RO20150525,     P16N.2,     181,          1,          2,          2,2,20150617,       0520,    55.5978,  -152.7026,       5382,  5220.2,   1.5458,  34.6907,2,  34.6889,2,    154.5,2,   153.7,2,  148.07,6,   35.09,6,    0.01,6,    2.45,6,   0.006,2,   0.004,2,       0,2,  2320.6,2,  2416.2,6,    7.574,2,    25.02,-999.000,9,-999.0000,9,   -0.02,2,  -216.1,2,     1.7,-999.0000,9,-999.0000,    40.3,2,     20.926,3,-999.000,9, 20150617,     0527,-999.000,    1.546,2,    34.8525,2,     -999.0,9,     -999.0,-999.0000,     -999.0,     -999.0,9,     -999.0,     -999.0,9,     -999.0,    -535,2,          4,      -22.0,2,        0.2
33RO20150525,     P16N.2,     181,          1,          1,          1,2,20150617,       0520,    55.5978,  -152.7026,       5382,  5480.9,    1.579,  34.6911,2,  34.6897,2,      155,2,   154.7,2,  148.17,6,   34.99,6,    0.01,6,    2.45,6,   0.004,6,   0.003,6,       0,6,  2320.4,6,  2415.6,2,   7.5745,6,    25.02,-999.000,9,-999.0000,9,    0.07,2,  -206.2,2,     1.7,-999.0000,9,-999.0000,    41.5,2,     20.903,3,-999.000,9, 20150617,     0521,-999.000,   1.5788,2,    34.8533,2,     -999.0,9,     -999.0,-999.0000,     -999.0,     -999.0,9,     -999.0,     -999.0,9,     -999.0,  -999.0,9,     -999.0,     -999.0,9,     -999.0