BOTTLE,20220330CCHSIOCBG
EXPOCODE,SECT_ID,STNNBR,CASTNO,SAMPNO,BTLNBR,BTLNBR_FLAG_W,DATE,TIME,LATITUDE,LONGITUDE,DEPTH,CTDPRS,CTDTMP,CTDSAL,CTDSAL_FLAG_W,SALNTY,SALNTY_FLAG_W,CTDOXY,CTDOXY_FLAG_W,OXYGEN,OXYGEN_FLAG_W,SILCAT,SILCAT_FLAG_W,NITRAT,NITRAT_FLAG_W,NITRIT,NITRIT_FLAG_W,PHSPHT,PHSPHT_FLAG_W,CFC-11,CFC-11_FLAG_W,CFC-12,CFC-12_FLAG_W,SF6,SF6_FLAG_W,TCARBN,TCARBN_FLAG_W,ALKALI,ALKALI_FLAG_W,PH_TOT,PH_TOT_FLAG_W,PH_TMP,TRITUM,TRITUM_FLAG_W,HELIUM,HELIUM_FLAG_W,DELC13,DELC13_FLAG_W,DELC14,DELC14_FLAG_W,C14ERR,NEON,NEON_FLAG_W,NEONER,DOC,DOC_FLAG_W,N2O,N2O_FLAG_W,ARGON,ARGON_FLAG_W,BTL_DATE,BTL_TIME,TRITER,SBE35,SBE35_FLAG_W,SALTREF,SALTREF_FLAG_W,DELHE3,DELHE3_FLAG_W,DELHER,HELIER,ARGONER,KRYPTON,KRYPTON_FLAG_W,KRYPTONER,XENON,XENON_FLAG_W,XENONER,14C-DOC,14C-DOC_FLAG_W,14C-DOCERR,13C-DOC,13C-DOC_FLAG_W,13C-DOCERR
,,,,,,,,,,,METERS,DBAR,ITS-90,PSS-78,,PSS-78,,UMOL/KG,,UMOL/KG,,UMOL/KG,,UMOL/KG,,UMOL/KG,,UMOL/KG,,PMOL/KG,,PMOL/KG,,FMOL/KG,,UMOL/KG,,UMOL/KG,,,,DEG C,TU,,NMOL/KG,,/MILLE,,/MILLE,,/MILLE,NMOL/KG,,NMOL/KG,UMOL/KG,,NMOL/KG,,UMOL/KG,,,,TU,ITS-90,,G/KG,,PERCNT,,PERCNT,NMOL/KG,UMOL/KG,NMOL/KG,,NMOL/KG,NMOL/KG,,NMOL/KG,/MILLE,,/MILLE,/MILLE,,/MILLE
33RO20150525,     P16N.2,     186,          1,         22,         22,2,20150618,       0524,    56.1399,  -153.1181,       1507,     2.9,  11.9944,  32.1762,2,  32.1784,2,    304.6,2,   301.9,2,    2.06,2,    1.08,2,    0.06,2,    0.45,2,-999.000,9,-999.000,9,-999.000,9,  -999.0,9,  -999.0,9,-999.0000,9,  -999.00,-999.000,9,-999.0000,9,    1.90,2,    -9.2,2,     2.3,-999.0000,9,-999.0000,  -999.0,9,     -999.0,9,-999.000,9, 20150618,     0621,-999.000,  11.9872,2,    32.3301,2,     -999.0,9,     -999.0,-999.0000,     -999.0,     -999.0,9,     -999.0,     -999.0,9,     -999.0,  -999.0,9,     -999.0,     -999.0,9,     -999.0
33RO20150525,     P16N.2,     186,          1,         21,         21,2,20150618,       0524,    56.1399,  -153.1181,       1507,      15,   9.7253,  32.1392,2,   32.143,2,    305.2,2,     310,2,    6.36,2,    2.64,2,    0.07,2,    0.69,2,   3.833,2,   2.185,2,   2.581,2,  1968.8,6,  2173.5,2,   7.9057,2,    24.95,-999.000,9,-999.0000,9,    1.65,2,   -15.2,2,     2.5,-999.0000,9,-999.0000,  -999.0,9,     11.572,3,-999.000,9, 20150618,     0619,-999.000,   9.7437,2,    32.2946,2,     -999.0,9,     -999.0,-999.0000,     -999.0,     -999.0,9,     -999.0,     -999.0,9,     -999.0,  -999.0,9,     -999.0,     -999.0,9,     -999.0
33RO20150525,     P16N.2,     186,          1,         20,         20,2,20150618,       0524,    56.1399,  -153.1181,       1507,    37.5,   7.1108,  32.2492,2,  32.2567,2,    307.3,2,   298.1,2,   15.27,2,    8.71,2,    0.22,2,    1.11,2,   4.144,2,    2.35,2,   2.786,2,  2021.9,2,  2173.2,6,   7.7815,6,    24.94,-999.000,9,-999.0000,9,    1.07,2,   -18.2,2,     2.1,-999.0000,9,-999.0000,  -999.0,9,     12.873,3,-999.000,9, 20150618,     0617,-999.000,   7.1103,2,    32.4088,2,     -999.0,9,     -999.0,-999.0000,     -999.0,     -999.0,9,     -999.0,     -999.0,9,     -999.0,  -999.0,9,     -999.0,     -999.0,9,     -999.0
33RO20150525,     P16N.2,     186,          1,         19,         19,2,20150618,       0524,    56.1399,  -153.1181,       1507,      63,   6.3749,  32.3676,2,  32.3823,2,    287.8,2,   283.4,2,   18.21,2,   13.02,2,    0.14,2,    1.28,2,   4.197,2,   2.357,2,   2.697,2,  2045.8,2,  2176.6,2,   7.7269,2,    25.01,-999.000,9,-999.0000,9,    0.92,2,   -19.2,2,     1.9,-999.0000,9,-999.0000,  -999.0,9,     14.114,3,-999.000,9, 20150618,     0615,-999.000,   6.3742,2,     32.535,2,     -999.0,9,     -999.0,-999.0000,     -999.0,     -999.0,9,     -999.0,     -999.0,9,     -999.0,  -999.0,9,     -999.0,     -999.0,9,     -999.0
33RO20150525,     P16N.2,     186,          1,         18,         18,2,20150618,       0524,    56.1399,  -153.1181,       1507,    83.2,   6.2862,  32.5495,2,  32.5647,2,    248.4,2,   256.5,2,   23.39,2,   16.74,2,    0.04,2,    1.46,2,    4.05,2,   2.297,2,   2.508,2,  2075.6,2,  2187.6,2,   7.6714,6,    24.99,-999.000,9,-999.0000,9,    0.66,2,   -23.4,2,     2.0,-999.0000,9,-999.0000,  -999.0,9,     16.426,3,-999.000,9, 20150618,     0613,-999.000,    6.287,2,    32.7182,2,     -999.0,9,     -999.0,-999.0000,     -999.0,     -999.0,9,     -999.0,     -999.0,9,     -999.0,  -999.0,9,     -999.0,     -999.0,9,     -999.0
33RO20150525,     P16N.2,     186,          1,         17,         17,2,20150618,       0524,    56.1399,  -153.1181,       1507,   112.9,   6.1458,  33.0788,2,  33.0798,2,    190.1,2,   190.9,2,   36.78,2,   24.75,2,    0.04,2,     1.9,2,   3.796,2,   2.115,2,   2.031,2,  2147.7,2,    2220,2,   7.5412,2,    25.01,-999.000,9,-999.0000,9,    0.06,2,   -24.8,2,     2.1,-999.0000,9,-999.0000,  -999.0,9,     22.838,3,-999.000,9, 20150618,     0611,-999.000,   6.1461,2,    33.2358,2,     -999.0,9,     -999.0,-999.0000,     -999.0,     -999.0,9,     -999.0,     -999.0,9,     -999.0,  -999.0,9,     -999.0,     -999.0,9,     -999.0
33RO20150525,     P16N.2,     186,          1,         16,         16,2,20150618,       0524,    56.1399,  -153.1181,       1507,   136.1,   5.9537,  33.3526,2,  33.3634,2,    156.2,2,   158.2,2,    44.5,2,   28.66,2,    0.03,2,    2.12,2,   3.607,2,   1.976,2,   1.746,2,  2184.7,2,  2238.9,2,   7.4767,2,    25.01,-999.000,9,-999.0000,9,   -0.19,2,   -39.3,2,     2.1,-999.0000,9,-999.0000,  -999.0,9,     26.183,3,-999.000,9, 20150618,     0609,-999.000,   5.9532,2,    33.5207,2,     -999.0,9,     -999.0,-999.0000,     -999.0,     -999.0,9,     -999.0,     -999.0,9,     -999.0,  -999.0,9,     -999.0,     -999.0,9,     -999.0
33RO20150525,     P16N.2,     186,          1,         15,         15,2,20150618,       0524,    56.1399,  -153.1181,       1507,   175.3,   5.6717,  33.6712,2,  33.6717,2,    121.8,2,   120.8,2,   53.59,2,   32.66,2,    0.02,2,    2.34,2,   3.305,2,   1.782,2,    1.31,2,  2224.8,2,  2258.4,2,   7.4101,2,    25.01,-999.000,9,-999.0000,9,   -0.40,2,   -46.7,2,     1.9,-999.0000,9,-999.0000,  -999.0,9,     30.145,3,-999.000,9, 20150618,     0606,-999.000,   5.6712,2,    33.8305,2,     -999.0,9,     -999.0,-999.0000,     -999.0,     -999.0,9,     -999.0,     -999.0,9,     -999.0,  -999.0,9,     -999.0,     -999.0,9,     -999.0
33RO20150525,     P16N.2,     186,          1,         14,         14,2,20150618,       0524,    56.1399,  -153.1181,       1507,   225.2,   5.2115,  33.7714,2,  33.7783,2,     97.6,2,    97.7,2,    61.8,2,   35.59,2,    0.03,2,    2.53,2,   3.016,2,   1.611,2,   1.156,2,  2252.1,2,  2271.8,2,   7.3554,6,    24.99,-999.000,9,-999.0000,9,   -0.51,2,   -61.1,2,     2.0,-999.0000,9,-999.0000,  -999.0,9,     33.692,3,-999.000,9, 20150618,     0604,-999.000,   5.2143,2,    33.9376,2,     -999.0,9,     -999.0,-999.0000,     -999.0,     -999.0,9,     -999.0,     -999.0,9,     -999.0,  -999.0,9,     -999.0,     -999.0,9,     -999.0
33RO20150525,     P16N.2,     186,          1,         13,         13,2,20150618,       0524,    56.1399,  -153.1181,       1507,   274.8,   4.7732,  33.8524,2,  33.8532,2,     76.3,2,    75.2,2,   71.38,2,   38.33,2,    0.03,2,     2.7,2,   2.695,2,   1.416,2,   0.914,2,  2278.8,2,  2283.8,2,   7.3151,2,    24.96,-999.000,9,-999.0000,9,   -0.74,2,   -81.7,2,     1.8,-999.0000,9,-999.0000,  -999.0,9,     36.303,3,-999.000,9, 20150618,     0601,-999.000,   4.7743,2,    34.0128,6,     -999.0,9,     -999.0,-999.0000,     -999.0,     -999.0,9,     -999.0,     -999.0,9,     -999.0,  -999.0,9,     -999.0,     -999.0,9,     -999.0
33RO20150525,     P16N.2,     186,          1,         12,         12,2,20150618,       0524,    56.1399,  -153.1181,       1507,   338.5,   4.3735,  33.8952,2,  33.8995,2,     56.7,2,    55.4,2,   80.27,2,   40.67,2,    0.01,2,    2.85,2,   2.394,6,   1.232,6,   0.764,6,  2300.1,2,  2291.2,2,   7.2764,2,       25,-999.000,9,-999.0000,9,   -0.75,2,   -95.8,2,     1.9,-999.0000,9,-999.0000,  -999.0,9,     39.202,3,-999.000,9, 20150618,     0559,-999.000,   4.3771,2,    34.0593,2,     -999.0,9,     -999.0,-999.0000,     -999.0,     -999.0,9,     -999.0,     -999.0,9,     -999.0,  -999.0,9,     -999.0,     -999.0,9,     -999.0
33RO20150525,     P16N.2,     186,          1,         11,         11,2,20150618,       0524,    56.1399,  -153.1181,       1507,   400.4,     4.22,  33.9811,2,-999.0000,9,     37.9,2,  -999.0,9, -999.00,9, -999.00,9, -999.00,9, -999.00,9,-999.000,9,-999.000,9,-999.000,9,  -999.0,9,  -999.0,9,-999.0000,9,  -999.00,-999.000,9,-999.0000,9, -999.00,9,  -999.0,9,  -999.0,-999.0000,9,-999.0000,  -999.0,9,     -999.0,9,-999.000,9, 20150618,     0556,-999.000,   4.2198,2,     -999.0,9,     -999.0,9,     -999.0,-999.0000,     -999.0,     -999.0,9,     -999.0,     -999.0,9,     -999.0,  -999.0,9,     -999.0,     -999.0,9,     -999.0
33RO20150525,     P16N.2,     186,          1,         10,         10,2,20150618,       0524,    56.1399,  -153.1181,       1507,   400.3,   4.2197,  33.9812,2,  33.9805,2,     37.9,2,    37.7,2,   88.58,2,   42.14,2,    0.01,2,    2.96,2,   1.889,2,   0.952,2,   0.526,2,  2316.3,2,  2301.8,2,   7.2573,2,    24.99,-999.000,9,-999.0000,9,   -0.87,2,  -110.9,2,     1.9,-999.0000,9,-999.0000,  -999.0,9,     42.094,3,-999.000,9, 20150618,     0556,-999.000,   4.2185,2,    34.1407,2,     -999.0,9,     -999.0,-999.0000,     -999.0,     -999.0,9,     -999.0,     -999.0,9,     -999.0,  -999.0,9,     -999.0,     -999.0,9,     -999.0
33RO20150525,     P16N.2,     186,          1,          8,          8,2,20150618,       0524,    56.1399,  -153.1181,       1507,   475.3,     4.12,  34.0463,2,  34.0461,2,     28.7,2,    27.5,2,   95.61,2,   42.82,2,    0.01,2,       3,2,   1.473,2,   0.731,2,   0.389,2,  2327.6,2,    2313,2,   7.2538,2,    24.99,-999.000,9,-999.0000,9,   -0.77,2,  -118.6,2,     1.9,-999.0000,9,-999.0000,  -999.0,9,     43.759,3,-999.000,9, 20150618,     0552,-999.000,   4.1186,2,    34.2066,2,     -999.0,9,     -999.0,-999.0000,     -999.0,     -999.0,9,     -999.0,     -999.0,9,     -999.0,  -999.0,9,     -999.0,     -999.0,9,     -999.0
33RO20150525,     P16N.2,     186,          1,          9,          9,2,20150618,       0524,    56.1399,  -153.1181,       1507,   475.2,   4.1216,  34.0458,2,-999.0000,9,     28.8,2,  -999.0,9, -999.00,9, -999.00,9, -999.00,9, -999.00,9,-999.000,9,-999.000,9,-999.000,9,  -999.0,9,  -999.0,9,-999.0000,9,  -999.00,-999.000,9,-999.0000,9, -999.00,9,  -999.0,9,  -999.0,-999.0000,9,-999.0000,  -999.0,9,     -999.0,9,-999.000,9, 20150618,     0553,-999.000,   4.1218,2,     -999.0,9,     -999.0,9,     -999.0,-999.0000,     -999.0,     -999.0,9,     -999.0,     -999.0,9,     -999.0,  -999.0,9,     -999.0,     -999.0,9,     -999.0
33RO20150525,     P16N.2,     186,          1,          7,          7,2,20150618,       0524,    56.1399,  -153.1181,       1507,   574.9,   3.8749,  34.1271,2,  34.1265,2,     19.4,2,    19.1,2,  106.36,2,    43.6,2,    0.01,2,    3.06,2,   0.997,2,   0.492,2,   0.215,2,  2343.6,2,  2327.7,2,   7.2522,2,    25.01,-999.000,9,-999.0000,9,   -0.76,2,  -138.5,2,     1.8,-999.0000,9,-999.0000,  -999.0,9,     45.692,3,-999.000,9, 20150618,     0549,-999.000,   3.8756,2,    34.2875,2,     -999.0,9,     -999.0,-999.0000,     -999.0,     -999.0,9,     -999.0,     -999.0,9,     -999.0,  -999.0,9,     -999.0,     -999.0,9,     -999.0
33RO20150525,     P16N.2,     186,          1,          6,          6,2,20150618,       0524,    56.1399,  -153.1181,       1507,   650.3,   3.7499,  34.1641,2,   34.164,2,     17.3,2,    16.6,2,  111.24,2,    43.6,2,       0,2,    3.06,2,   0.807,2,   0.391,2,   0.142,2,  2346.8,2,  2335.1,2,   7.2549,2,       25,-999.000,9,-999.0000,9,   -0.76,2,  -150.8,2,     1.9,-999.0000,9,-999.0000,  -999.0,9,     46.735,3,-999.000,9, 20150618,     0546,-999.000,     3.75,2,    34.3251,2,     -999.0,9,     -999.0,-999.0000,     -999.0,     -999.0,9,     -999.0,     -999.0,9,     -999.0,  -999.0,9,     -999.0,     -999.0,9,     -999.0
33RO20150525,     P16N.2,     186,          1,          5,          5,2,20150618,       0524,    56.1399,  -153.1181,       1507,   799.2,   3.5039,  34.2296,2,   34.231,2,       16,2,    15.8,2,  120.82,2,   43.69,2,       0,2,    3.07,2,   0.534,2,   0.257,2,     0.1,2,  2357.6,2,  2347.1,2,   7.2655,6,       25,-999.000,9,-999.0000,9,   -0.70,2,  -169.0,2,     1.8,-999.0000,9,-999.0000,  -999.0,9,     47.564,3,-999.000,9, 20150618,     0542,-999.000,   3.5035,2,    34.3924,2,     -999.0,9,     -999.0,-999.0000,     -999.0,     -999.0,9,     -999.0,     -999.0,9,     -999.0,  -999.0,9,     -999.0,     -999.0,9,     -999.0
33RO20150525,     P16N.2,     186,          1,          4,          4,2,20150618,       0524,    56.1399,  -153.1181,       1507,   990.5,   3.2197,  34.3197,2,  34.3198,2,       13,2,    12.6,2,  132.05,6,   43.98,6,       0,6,    3.09,6,   0.207,2,   0.099,2,   0.033,2,  2372.3,2,  2364.5,2,   7.2757,6,       25,-999.000,9,-999.0000,9,   -0.70,2,  -191.6,2,     1.8,-999.0000,9,-999.0000,  -999.0,9,     48.451,3,-999.000,9, 20150618,     0537,-999.000,   3.2201,2,    34.4816,6,     -999.0,9,     -999.0,-999.0000,     -999.0,     -999.0,9,     -999.0,     -999.0,9,     -999.0,  -999.0,9,     -999.0,     -999.0,9,     -999.0
33RO20150525,     P16N.2,     186,          1,          3,          3,2,20150618,       0524,    56.1399,  -153.1181,       1507,  1150.5,   2.9463,  34.3782,2,  34.3789,2,       14,2,    13.9,2,  140.84,6,   44.18,6,    0.01,6,    3.11,6,   0.109,2,   0.053,2,       0,2,  2379.5,2,  2378.9,2,   7.2841,6,       25,-999.000,9,-999.0000,9,   -0.68,2,  -205.4,2,     1.8,-999.0000,9,-999.0000,  -999.0,9,     47.635,3,-999.000,9, 20150618,     0533,-999.000,   2.9468,2,     34.541,2,     -999.0,9,     -999.0,-999.0000,     -999.0,     -999.0,9,     -999.0,     -999.0,9,     -999.0,  -999.0,9,     -999.0,     -999.0,9,     -999.0
33RO20150525,     P16N.2,     186,          1,          2,          2,2,20150618,       0524,    56.1399,  -153.1181,       1507,  1369.5,   2.5865,    34.45,2,  34.4496,2,     19.6,2,    19.9,2,  151.58,6,   43.98,6,    0.01,6,    3.07,6,   0.048,2,   0.022,2,       0,2,  2388.1,2,  2389.4,6,   7.3024,2,    24.97,-999.000,9,-999.0000,9,   -0.67,2,  -214.3,2,     1.9,-999.0000,9,-999.0000,  -999.0,9,     45.231,3,-999.000,9, 20150618,     0528,-999.000,   2.5873,2,     34.612,2,     -999.0,9,     -999.0,-999.0000,     -999.0,     -999.0,9,     -999.0,     -999.0,9,     -999.0,  -999.0,9,     -999.0,     -999.0,9,     -999.0
33RO20150525,     P16N.2,     186,          1,          1,          1,2,20150618,       0524,    56.1399,  -153.1181,       1507,  1509.7,   2.3688,  34.4939,2,  34.4936,2,     26.5,2,    27.2,2,  157.54,6,   43.49,6,    0.01,6,    3.04,6,   0.029,2,   0.012,2,       0,2,  2390.6,6,    2398,2,   7.3206,2,    25.01,-999.000,9,-999.0000,9,   -0.63,2,  -225.3,2,     1.7,-999.0000,9,-999.0000,  -999.0,9,     42.850,3,-999.000,9, 20150618,     0524,-999.000,   2.3683,2,    34.6562,2,     -999.0,9,     -999.0,-999.0000,     -999.0,     -999.0,9,     -999.0,     -999.0,9,     -999.0,  -999.0,9,     -999.0,     -999.0,9,     -999.0