BOTTLE,20220330CCHSIOCBG
EXPOCODE,SECT_ID,STNNBR,CASTNO,SAMPNO,BTLNBR,BTLNBR_FLAG_W,DATE,TIME,LATITUDE,LONGITUDE,DEPTH,CTDPRS,CTDTMP,CTDSAL,CTDSAL_FLAG_W,SALNTY,SALNTY_FLAG_W,CTDOXY,CTDOXY_FLAG_W,OXYGEN,OXYGEN_FLAG_W,SILCAT,SILCAT_FLAG_W,NITRAT,NITRAT_FLAG_W,NITRIT,NITRIT_FLAG_W,PHSPHT,PHSPHT_FLAG_W,CFC-11,CFC-11_FLAG_W,CFC-12,CFC-12_FLAG_W,SF6,SF6_FLAG_W,TCARBN,TCARBN_FLAG_W,ALKALI,ALKALI_FLAG_W,PH_TOT,PH_TOT_FLAG_W,PH_TMP,TRITUM,TRITUM_FLAG_W,HELIUM,HELIUM_FLAG_W,DELC13,DELC13_FLAG_W,DELC14,DELC14_FLAG_W,C14ERR,NEON,NEON_FLAG_W,NEONER,DOC,DOC_FLAG_W,N2O,N2O_FLAG_W,ARGON,ARGON_FLAG_W,BTL_DATE,BTL_TIME,TRITER,SBE35,SBE35_FLAG_W,SALTREF,SALTREF_FLAG_W,DELHE3,DELHE3_FLAG_W,DELHER,HELIER,ARGONER,KRYPTON,KRYPTON_FLAG_W,KRYPTONER,XENON,XENON_FLAG_W,XENONER,14C-DOC,14C-DOC_FLAG_W,14C-DOCERR,13C-DOC,13C-DOC_FLAG_W,13C-DOCERR
,,,,,,,,,,,METERS,DBAR,ITS-90,PSS-78,,PSS-78,,UMOL/KG,,UMOL/KG,,UMOL/KG,,UMOL/KG,,UMOL/KG,,UMOL/KG,,PMOL/KG,,PMOL/KG,,FMOL/KG,,UMOL/KG,,UMOL/KG,,,,DEG C,TU,,NMOL/KG,,/MILLE,,/MILLE,,/MILLE,NMOL/KG,,NMOL/KG,UMOL/KG,,NMOL/KG,,UMOL/KG,,,,TU,ITS-90,,G/KG,,PERCNT,,PERCNT,NMOL/KG,UMOL/KG,NMOL/KG,,NMOL/KG,NMOL/KG,,NMOL/KG,/MILLE,,/MILLE,/MILLE,,/MILLE
33RO20150525,     P16N.2,     177,          1,         24,         24,2,20150616,       0505,    54.3297,  -151.9999,       4228,     3.5,   9.4761,  32.3636,2,  32.3655,2,    300.3,2,   299.7,2,   18.11,2,    8.32,2,    0.12,2,    1.01,2,   3.923,6,   2.197,6,     2.6,6,  2009.4,6,  2182.3,2,   7.8272,2,    25.01,-999.000,9,-999.0000,9,    1.35,2,   -21.5,2,     2.7,-999.0000,9,-999.0000,    59.9,2,     11.566,3,-999.000,9, 20150616,     0650,-999.000,   9.4688,2,    32.5182,2,     -999.0,9,     -999.0,-999.0000,     -999.0,     -999.0,9,     -999.0,     -999.0,9,     -999.0,  -999.0,9,     -999.0,     -999.0,9,     -999.0
33RO20150525,     P16N.2,     177,          1,         23,         23,2,20150616,       0505,    54.3297,  -151.9999,       4228,    32.9,   7.2614,  32.4495,2,  32.4633,2,    310.3,2,   309.6,2,   26.24,2,   13.12,2,    0.14,2,    1.31,2,-999.000,9,-999.000,9,-999.000,9,  2040.4,2,  2187.1,6,   7.7628,6,    25.01,-999.000,9,-999.0000,9,    0.90,2,   -15.9,2,     2.3,-999.0000,9,-999.0000,    56.7,2,     -999.0,9,-999.000,9, 20150616,     0647,-999.000,    7.256,3,    32.6164,2,     -999.0,9,     -999.0,-999.0000,     -999.0,     -999.0,9,     -999.0,     -999.0,9,     -999.0,  -999.0,9,     -999.0,     -999.0,9,     -999.0
33RO20150525,     P16N.2,     177,          1,         22,         22,2,20150616,       0505,    54.3297,  -151.9999,       4228,    58.3,   5.4517,  32.6386,2,  32.6321,2,    277.5,2,   280.7,2,   33.09,2,    18.3,2,    0.27,2,    1.62,2,   4.403,2,   2.425,2,   2.709,2,  2084.1,2,  2197.8,2,   7.6749,6,       25,-999.000,9,-999.0000,9,    0.58,2,   -20.7,2,     2.2,-999.0000,9,-999.0000,    53.6,2,     14.979,3,-999.000,9, 20150616,     0646,-999.000,   5.4806,2,    32.7859,2,     -999.0,9,     -999.0,-999.0000,     -999.0,     -999.0,9,     -999.0,     -999.0,9,     -999.0,  -999.0,9,     -999.0,     -999.0,9,     -999.0
33RO20150525,     P16N.2,     177,          1,         21,         21,2,20150616,       0505,    54.3297,  -151.9999,       4228,    83.7,   4.8523,  33.0054,2,   33.049,2,    202.7,2,   201.7,2,   47.85,2,   27.69,2,    0.06,2,    2.12,2,    3.94,2,   2.154,2,   2.104,2,  2161.9,2,  2224.4,2,   7.5156,3,    25.01,-999.000,9,-999.0000,9,   -0.05,2,   -39.5,6,     2.6,-999.0000,9,-999.0000,    47.6,2,     22.847,3,-999.000,9, 20150616,     0643,-999.000,   4.8341,3,    33.2049,2,     -999.0,9,     -999.0,-999.0000,     -999.0,     -999.0,9,     -999.0,     -999.0,9,     -999.0,  -999.0,9,     -999.0,     -999.0,9,     -999.0
33RO20150525,     P16N.2,     177,          1,         20,         20,2,20150616,       0505,    54.3297,  -151.9999,       4228,     108,   4.1712,  33.5353,2,  33.5366,2,      111,2,   111.4,2,   66.62,2,   37.27,2,    0.02,2,    2.67,2,   3.327,2,    1.77,2,   1.428,2,  2251.8,2,  2260.4,2,   7.3352,2,    25.02,-999.000,9,-999.0000,9,   -0.57,2,   -76.0,2,     1.9,-999.0000,9,-999.0000,    46.9,2,     32.594,3,-999.000,9, 20150616,     0642,-999.000,   4.1707,2,    33.6947,2,     -999.0,9,     -999.0,-999.0000,     -999.0,     -999.0,9,     -999.0,     -999.0,9,     -999.0,  -999.0,9,     -999.0,     -999.0,9,     -999.0
33RO20150525,     P16N.2,     177,          1,         19,         19,2,20150616,       0505,    54.3297,  -151.9999,       4228,   142.3,   3.9808,  33.7382,2,  33.7451,2,     66.3,2,    68.1,2,   77.46,2,   41.27,2,    0.02,2,     2.9,2,    2.85,2,   1.483,2,   1.026,2,  2293.5,2,  2277.7,2,   7.2621,6,    25.01,-999.000,9,-999.0000,9,   -0.82,2,   -82.2,2,     1.9,-999.0000,9,-999.0000,    44.6,2,     37.809,3,-999.000,9, 20150616,     0640,-999.000,   3.9802,2,    33.9042,2,     -999.0,9,     -999.0,-999.0000,     -999.0,     -999.0,9,     -999.0,     -999.0,9,     -999.0,  -999.0,9,     -999.0,     -999.0,9,     -999.0
33RO20150525,     P16N.2,     177,          1,         18,         18,2,20150616,       0505,    54.3297,  -151.9999,       4228,   199.9,   3.9015,   33.909,2,  33.9134,2,     30.2,2,    27.8,2,   90.07,2,    44.4,2,    0.01,2,    3.08,2,   2.196,2,   1.099,2,    0.64,2,  2327.4,2,  2296.6,2,   7.2099,2,    25.01,-999.000,9,-999.0000,9,   -0.95,2,  -103.9,2,     1.7,-999.0000,9,-999.0000,    44.7,2,     43.533,3,-999.000,9, 20150616,     0637,-999.000,   3.9015,2,    34.0734,2,     -999.0,9,     -999.0,-999.0000,     -999.0,     -999.0,9,     -999.0,     -999.0,9,     -999.0,  -999.0,9,     -999.0,     -999.0,9,     -999.0
33RO20150525,     P16N.2,     177,          1,         17,         17,2,20150616,       0505,    54.3297,  -151.9999,       4228,   275.1,   3.8869,  34.0185,2,  34.0186,2,     18.5,2,    16.8,2,   99.16,2,   44.79,2,       0,2,    3.11,2,   1.587,2,   0.784,2,    0.42,3,  2339.9,2,  2310.1,2,   7.2173,2,    25.02,-999.000,9,-999.0000,9,   -0.90,6,  -119.1,6,     2.2,-999.0000,9,-999.0000,    43.2,2,     45.270,3,-999.000,9, 20150616,     0634,-999.000,   3.8867,2,     34.179,2,     -999.0,9,     -999.0,-999.0000,     -999.0,     -999.0,9,     -999.0,     -999.0,9,     -999.0,  -999.0,9,     -999.0,     -999.0,9,     -999.0
33RO20150525,     P16N.2,     177,          1,         16,         16,2,20150616,       0505,    54.3297,  -151.9999,       4228,   350.2,   3.8288,  34.0949,2,  34.0947,2,       17,2,    15.8,2,  106.29,2,    44.3,2,    0.01,2,    3.09,2,   1.141,2,   0.554,2,   0.282,2,  2344.6,2,  2321.2,2,   7.2375,2,    25.01,-999.000,9,-999.0000,9,   -0.84,2,  -141.3,2,     2.0,-999.0000,9,-999.0000,    40.0,2,     45.888,3,-999.000,9, 20150616,     0631,-999.000,   3.8285,2,    34.2555,6,     -999.0,9,     -999.0,-999.0000,     -999.0,     -999.0,9,     -999.0,     -999.0,9,     -999.0,  -999.0,9,     -999.0,     -999.0,9,     -999.0
33RO20150525,     P16N.2,     177,          1,         15,         15,2,20150616,       0505,    54.3297,  -151.9999,       4228,   432.9,   3.7153,  34.1624,2,  34.1668,2,     15.1,2,    13.8,2,  113.03,2,    44.1,2,    0.01,2,    3.09,2,   0.793,2,   0.382,2,    0.16,2,  2351.5,2,  2332.9,2,   7.2493,2,    25.01,-999.000,9,-999.0000,9,   -0.78,2,  -152.1,2,     2.0,-999.0000,9,-999.0000,    41.1,2,     47.001,3,-999.000,9, 20150616,     0629,-999.000,   3.7153,2,    34.3279,2,     -999.0,9,     -999.0,-999.0000,     -999.0,     -999.0,9,     -999.0,     -999.0,9,     -999.0,  -999.0,9,     -999.0,     -999.0,9,     -999.0
33RO20150525,     P16N.2,     177,          1,         14,         14,2,20150616,       0505,    54.3297,  -151.9999,       4228,   550.5,   3.5425,  34.2292,2,  34.2339,2,     13.6,2,    12.7,2,  120.85,2,   44.19,2,       0,2,     3.1,2,   0.486,2,   0.234,2,   0.082,2,  2359.9,2,  2344.4,2,   7.2608,2,       25,-999.000,9,-999.0000,9,   -0.74,2,  -168.9,2,     2.0,-999.0000,9,-999.0000,    41.6,2,     48.070,3,-999.000,9, 20150616,     0625,-999.000,   3.5427,2,    34.3953,2,     -999.0,9,     -999.0,-999.0000,     -999.0,     -999.0,9,     -999.0,     -999.0,9,     -999.0,  -999.0,9,     -999.0,     -999.0,9,     -999.0
33RO20150525,     P16N.2,     177,          1,         13,         13,2,20150616,       0505,    54.3297,  -151.9999,       4228,   699.7,   3.2685,  34.3032,2,  34.3019,2,     13.1,2,    12.2,2,  130.81,2,   44.29,2,       0,2,    3.11,2,   0.245,2,   0.118,2,   0.018,2,  2369.8,6,  2358.2,2,   7.2727,2,    24.98,-999.000,9,-999.0000,9,   -0.72,2,  -186.5,2,     2.1,-999.0000,9,-999.0000,    39.0,2,     48.407,3,-999.000,9, 20150616,     0621,-999.000,   3.2699,2,    34.4637,2,     -999.0,9,     -999.0,-999.0000,     -999.0,     -999.0,9,     -999.0,     -999.0,9,     -999.0,  -999.0,9,     -999.0,     -999.0,9,     -999.0
33RO20150525,     P16N.2,     177,          1,         12,         12,2,20150616,       0505,    54.3297,  -151.9999,       4228,   850.1,   3.0331,  34.3577,2,  34.3614,2,     13.5,2,    12.1,2,  138.82,2,   44.38,2,       0,2,    3.11,2,-999.000,9,-999.000,9,-999.000,9,  2376.4,2,  2370.8,2,   7.2802,2,    25.01,-999.000,9,-999.0000,9,   -0.72,2,  -202.4,2,     1.7,-999.0000,9,-999.0000,    37.6,2,     -999.0,9,-999.000,9, 20150616,     0617,-999.000,   3.0355,2,    34.5234,2,     -999.0,9,     -999.0,-999.0000,     -999.0,     -999.0,9,     -999.0,     -999.0,9,     -999.0,  -999.0,9,     -999.0,     -999.0,9,     -999.0
33RO20150525,     P16N.2,     177,          1,         11,         11,2,20150616,       0505,    54.3297,  -151.9999,       4228,    1125,   2.6118,  34.4402,2,  34.4397,2,     18.1,2,    17.6,2,  151.91,2,   44.28,2,    0.01,2,    3.08,2,   0.052,2,   0.025,2,       0,2,  2389.8,2,  2387.5,2,   7.2981,2,    24.99,-999.000,9,-999.0000,9,   -0.76,2,  -213.7,2,     1.9,-999.0000,9,-999.0000,    38.3,2,     45.539,3,-999.000,9, 20150616,     0611,-999.000,   2.6124,2,    34.6021,2,     -999.0,9,     -999.0,-999.0000,     -999.0,     -999.0,9,     -999.0,     -999.0,9,     -999.0,  -999.0,9,     -999.0,     -999.0,9,     -999.0
33RO20150525,     P16N.2,     177,          1,          9,          9,2,20150616,       0505,    54.3297,  -151.9999,       4228,  1399.5,   2.2576,  34.5132,2,  34.5133,2,       32,2,    30.8,2,  161.19,2,    43.6,2,       0,2,    3.03,2,-999.000,9,-999.000,9,-999.000,9,  2391.2,2,  2400.2,2,   7.3305,2,    25.01,-999.000,9,-999.0000,9,   -0.69,6,  -226.7,6,     2.0,-999.0000,9,-999.0000,    37.9,2,     -999.0,9,-999.000,9, 20150616,     0605,-999.000,   2.2576,2,    34.6761,2,     -999.0,9,     -999.0,-999.0000,     -999.0,     -999.0,9,     -999.0,     -999.0,9,     -999.0,  -999.0,9,     -999.0,     -999.0,9,     -999.0
33RO20150525,     P16N.2,     177,          1,         10,         10,2,20150616,       0505,    54.3297,  -151.9999,       4228,  1399.5,   2.2586,  34.5131,2,  34.5198,2,     32.2,2,    30.8,2,   160.9,2,    43.6,2,       0,2,    3.03,2,-999.000,9,-999.000,9,-999.000,9,  2390.1,2,  2398.6,2,   7.3309,2,       25,-999.000,9,-999.0000,9,   -0.62,6,  -223.6,6,     2.6,-999.0000,9,-999.0000,    37.4,2,     -999.0,9,-999.000,9, 20150616,     0605,-999.000,   2.2588,2,    34.6826,2,     -999.0,9,     -999.0,-999.0000,     -999.0,     -999.0,9,     -999.0,     -999.0,9,     -999.0,  -999.0,9,     -999.0,     -999.0,9,     -999.0
33RO20150525,     P16N.2,     177,          1,          8,          8,2,20150616,       0505,    54.3297,  -151.9999,       4228,  1732.9,   2.0074,  34.5674,2,  34.5697,2,     47.8,2,    47.6,2,  166.07,2,   42.62,2,       0,2,    2.96,2,-999.000,9,-999.000,9,-999.000,9,  2387.4,2,  2408.8,2,   7.3685,2,    25.01,-999.000,9,-999.0000,9,   -0.54,2,  -238.8,2,     1.7,-999.0000,9,-999.0000,    39.1,2,     -999.0,9,-999.000,9, 20150616,     0558,-999.000,   2.0067,2,    34.7327,2,     -999.0,9,     -999.0,-999.0000,     -999.0,     -999.0,9,     -999.0,     -999.0,9,     -999.0,  -999.0,9,     -999.0,     -999.0,9,     -999.0
33RO20150525,     P16N.2,     177,          1,          7,          7,2,20150616,       0505,    54.3297,  -151.9999,       4228,  2132.3,   1.8038,  34.6086,2,  34.6078,2,     69.1,2,    69.4,2,   168.8,2,   41.35,2,       0,2,    2.86,2,-999.000,9,-999.000,9,-999.000,9,  2380.3,2,  2415.8,2,   7.4143,6,       25,-999.000,9,-999.0000,9,   -0.43,2,  -239.2,2,     1.8,-999.0000,9,-999.0000,    36.0,2,     -999.0,9,-999.000,9, 20150616,     0550,-999.000,   1.8033,2,     34.771,2,     -999.0,9,     -999.0,-999.0000,     -999.0,     -999.0,9,     -999.0,     -999.0,9,     -999.0,  -999.0,9,     -999.0,     -999.0,9,     -999.0
33RO20150525,     P16N.2,     177,          1,          6,          6,2,20150616,       0505,    54.3297,  -151.9999,       4228,  2532.6,   1.6544,  34.6376,2,  34.6365,2,     91.7,2,      92,2,  168.31,2,   39.88,2,       0,2,    2.75,2,-999.000,9,-999.000,9,-999.000,9,  2364.3,2,  2419.4,2,   7.4598,2,       25,-999.000,9,-999.0000,9,   -0.25,2,  -239.5,2,     1.8,-999.0000,9,-999.0000,    36.6,2,     -999.0,9,-999.000,9, 20150616,     0541,-999.000,    1.654,2,    34.7998,2,     -999.0,9,     -999.0,-999.0000,     -999.0,     -999.0,9,     -999.0,     -999.0,9,     -999.0,  -999.0,9,     -999.0,     -999.0,9,     -999.0
33RO20150525,     P16N.2,     177,          1,          5,          5,2,20150616,       0505,    54.3297,  -151.9999,       4228,  2933.1,   1.5553,  34.6571,2,  34.6646,4,    110.5,2,   110.2,2,  166.65,2,   38.61,2,       0,2,    2.66,2,-999.000,9,-999.000,9,-999.000,9,  2355.4,2,    2421,2,   7.4985,2,    24.99,-999.000,9,-999.0000,9,   -0.13,2,  -238.8,2,     1.8,-999.0000,9,-999.0000,    37.9,2,     -999.0,9,-999.000,9, 20150616,     0533,-999.000,   1.5551,2,    34.8281,2,     -999.0,9,     -999.0,-999.0000,     -999.0,     -999.0,9,     -999.0,     -999.0,9,     -999.0,  -999.0,9,     -999.0,     -999.0,9,     -999.0
33RO20150525,     P16N.2,     177,          1,          4,          4,2,20150616,       0505,    54.3297,  -151.9999,       4228,  3149.8,   1.5198,  34.6649,2,  34.6652,2,      119,2,   119.2,2,  165.18,6,   38.02,6,       0,6,    2.62,6,-999.000,9,-999.000,9,-999.000,9,  2349.3,2,    2422,2,   7.5153,6,       25,-999.000,9,-999.0000,9,   -0.10,2,  -243.1,2,     2.1,-999.0000,9,-999.0000,    36.6,2,     -999.0,9,-999.000,9, 20150616,     0528,-999.000,   1.5197,2,    34.8287,6,     -999.0,9,     -999.0,-999.0000,     -999.0,     -999.0,9,     -999.0,     -999.0,9,     -999.0,  -999.0,9,     -999.0,     -999.0,9,     -999.0
33RO20150525,     P16N.2,     177,          1,          3,          3,2,20150616,       0505,    54.3297,  -151.9999,       4228,  3332.8,   1.4984,  34.6703,2,  34.6693,2,    125.1,2,   124.8,2,   164.4,6,   37.63,6,       0,6,    2.59,6,-999.000,9,-999.000,9,-999.000,9,    2346,2,  2422.6,2,   7.5267,2,    25.01,-999.000,9,-999.0000,9,   -0.10,2,  -231.0,2,     1.7,-999.0000,9,-999.0000,    37.7,2,     -999.0,9,-999.000,9, 20150616,     0524,-999.000,   1.4985,2,    34.8328,2,     -999.0,9,     -999.0,-999.0000,     -999.0,     -999.0,9,     -999.0,     -999.0,9,     -999.0,  -999.0,9,     -999.0,     -999.0,9,     -999.0
33RO20150525,     P16N.2,     177,          1,          2,          2,2,20150616,       0505,    54.3297,  -151.9999,       4228,    3760,   1.4852,   34.678,2,  34.6778,2,    134.8,2,   133.9,2,  162.64,6,   36.95,6,       0,6,    2.55,6,-999.000,9,-999.000,9,-999.000,9,  2339.1,2,  2423.4,6,   7.5449,2,    25.02,-999.000,9,-999.0000,9,    0.00,2,  -233.4,2,     1.8,-999.0000,9,-999.0000,    38.6,2,     -999.0,9,-999.000,9, 20150616,     0515,-999.000,    1.485,2,    34.8413,2,     -999.0,9,     -999.0,-999.0000,     -999.0,     -999.0,9,     -999.0,     -999.0,9,     -999.0,  -999.0,9,     -999.0,     -999.0,9,     -999.0
33RO20150525,     P16N.2,     177,          1,          1,          1,2,20150616,       0505,    54.3297,  -151.9999,       4228,  4293.4,   1.5031,  34.6842,2,  34.7008,4,      142,2,   141.3,2,  161.86,6,   36.46,6,       0,6,    2.51,6,-999.000,9,-999.000,9,-999.000,9,  2334.7,6,  2423.6,2,   7.5583,2,    25.03,-999.000,9,-999.0000,9,    0.05,2,  -222.3,2,     2.0,-999.0000,9,-999.0000,    37.7,2,     -999.0,9,-999.000,9, 20150616,     0504,-999.000,   1.5029,2,    34.8644,2,     -999.0,9,     -999.0,-999.0000,     -999.0,     -999.0,9,     -999.0,     -999.0,9,     -999.0,  -999.0,9,     -999.0,     -999.0,9,     -999.0