BOTTLE,20220330CCHSIOCBG
EXPOCODE,SECT_ID,STNNBR,CASTNO,SAMPNO,BTLNBR,BTLNBR_FLAG_W,DATE,TIME,LATITUDE,LONGITUDE,DEPTH,CTDPRS,CTDTMP,CTDSAL,CTDSAL_FLAG_W,SALNTY,SALNTY_FLAG_W,CTDOXY,CTDOXY_FLAG_W,OXYGEN,OXYGEN_FLAG_W,SILCAT,SILCAT_FLAG_W,NITRAT,NITRAT_FLAG_W,NITRIT,NITRIT_FLAG_W,PHSPHT,PHSPHT_FLAG_W,CFC-11,CFC-11_FLAG_W,CFC-12,CFC-12_FLAG_W,SF6,SF6_FLAG_W,TCARBN,TCARBN_FLAG_W,ALKALI,ALKALI_FLAG_W,PH_TOT,PH_TOT_FLAG_W,PH_TMP,TRITUM,TRITUM_FLAG_W,HELIUM,HELIUM_FLAG_W,DELC13,DELC13_FLAG_W,DELC14,DELC14_FLAG_W,C14ERR,NEON,NEON_FLAG_W,NEONER,DOC,DOC_FLAG_W,N2O,N2O_FLAG_W,ARGON,ARGON_FLAG_W,BTL_DATE,BTL_TIME,TRITER,SBE35,SBE35_FLAG_W,SALTREF,SALTREF_FLAG_W,DELHE3,DELHE3_FLAG_W,DELHER,HELIER,ARGONER,KRYPTON,KRYPTON_FLAG_W,KRYPTONER,XENON,XENON_FLAG_W,XENONER,14C-DOC,14C-DOC_FLAG_W,14C-DOCERR,13C-DOC,13C-DOC_FLAG_W,13C-DOCERR
,,,,,,,,,,,METERS,DBAR,ITS-90,PSS-78,,PSS-78,,UMOL/KG,,UMOL/KG,,UMOL/KG,,UMOL/KG,,UMOL/KG,,UMOL/KG,,PMOL/KG,,PMOL/KG,,FMOL/KG,,UMOL/KG,,UMOL/KG,,,,DEG C,TU,,NMOL/KG,,/MILLE,,/MILLE,,/MILLE,NMOL/KG,,NMOL/KG,UMOL/KG,,NMOL/KG,,UMOL/KG,,,,TU,ITS-90,,G/KG,,PERCNT,,PERCNT,NMOL/KG,UMOL/KG,NMOL/KG,,NMOL/KG,NMOL/KG,,NMOL/KG,/MILLE,,/MILLE,/MILLE,,/MILLE
33RO20150525,     P16N.2,     136,          2,         24,         24,2,20150603,       1152,    33.9992,  -151.9996,       5486,       3,  18.9537,  34.4934,2,  34.4901,2,    237.5,2,   235.6,2,    3.13,2,       0,2,       0,2,    0.04,2,   2.369,3,   1.418,2,    1.76,2,  2026.6,6,  2267.2,2,    7.951,6,    25.01,-999.000,9,-999.0000,9, -999.00,9,  -999.0,9,  -999.0,-999.0000,9,-999.0000,  -999.0,9,      7.928,3,-999.000,9, 20150603,     1358,-999.000,  18.9511,2,    34.6527,2,     -999.0,9,     -999.0,-999.0000,     -999.0,     -999.0,9,     -999.0,     -999.0,9,     -999.0,  -999.0,9,     -999.0,     -999.0,9,     -999.0
33RO20150525,     P16N.2,     136,          2,         23,         23,2,20150603,       1152,    33.9992,  -151.9996,       5486,    20.4,  17.6863,   34.434,2,   34.445,2,    239.6,2,   240.1,2,    3.32,2,       0,2,       0,2,    0.06,2,   2.397,2,   1.453,2,   1.807,2,  2023.2,2,  2263.4,2,     7.95,6,    25.01,-999.000,9,-999.0000,9, -999.00,9,  -999.0,9,  -999.0,-999.0000,9,-999.0000,  -999.0,9,      8.295,3,-999.000,9, 20150603,     1356,-999.000,  17.6838,2,    34.6074,2,     -999.0,9,     -999.0,-999.0000,     -999.0,     -999.0,9,     -999.0,     -999.0,9,     -999.0,  -999.0,9,     -999.0,     -999.0,9,     -999.0
33RO20150525,     P16N.2,     136,          2,         22,         22,2,20150603,       1152,    33.9992,  -151.9996,       5486,    42.1,  16.8878,  34.3509,2,  34.3602,2,    245.1,2,   246.2,2,    3.62,2,       0,2,       0,2,    0.08,2,    2.59,3,   1.515,2,   1.845,2,  2018.2,2,  2258.7,6,   7.9445,2,    25.03,-999.000,9,-999.0000,9, -999.00,9,  -999.0,9,  -999.0,-999.0000,9,-999.0000,  -999.0,9,      8.311,3,-999.000,9, 20150603,     1354,-999.000,  16.8852,2,    34.5223,2,     -999.0,9,     -999.0,-999.0000,     -999.0,     -999.0,9,     -999.0,     -999.0,9,     -999.0,  -999.0,9,     -999.0,     -999.0,9,     -999.0
33RO20150525,     P16N.2,     136,          2,         21,         21,2,20150603,       1152,    33.9992,  -151.9996,       5486,    67.5,  15.0969,  34.2662,2,  34.2636,2,    251.9,2,   251.4,2,    3.71,2,       0,2,       0,2,    0.09,2,   2.699,6,   1.601,6,   1.905,6,  2018.6,2,  2250.5,2,   7.9384,2,    25.01,-999.000,9,-999.0000,9, -999.00,9,  -999.0,9,  -999.0,-999.0000,9,-999.0000,  -999.0,9,      8.859,3,-999.000,9, 20150603,     1352,-999.000,  15.0947,2,    34.4251,2,     -999.0,9,     -999.0,-999.0000,     -999.0,     -999.0,9,     -999.0,     -999.0,9,     -999.0,  -999.0,9,     -999.0,     -999.0,9,     -999.0
33RO20150525,     P16N.2,     136,          2,         20,         20,2,20150603,       1152,    33.9992,  -151.9996,       5486,    92.8,  14.2895,  34.2267,2,  34.2303,2,    244.5,2,   244.7,2,     4.4,2,    1.27,2,    0.21,2,    0.22,2,   2.811,2,   1.644,2,   1.922,2,  2029.7,2,  2250.2,2,   7.9115,2,    25.04,-999.000,9,-999.0000,9, -999.00,9,  -999.0,9,  -999.0,-999.0000,9,-999.0000,  -999.0,9,      9.349,3,-999.000,9, 20150603,     1350,-999.000,  14.2892,2,    34.3917,2,     -999.0,9,     -999.0,-999.0000,     -999.0,     -999.0,9,     -999.0,     -999.0,9,     -999.0,  -999.0,9,     -999.0,     -999.0,9,     -999.0
33RO20150525,     P16N.2,     136,          2,         19,         19,2,20150603,       1152,    33.9992,  -151.9996,       5486,   133.5,  13.2462,   34.174,2,  34.1787,2,    230.9,2,   237.4,2,    5.86,2,     4.5,2,    0.02,2,    0.39,2,   2.876,2,   1.713,2,   1.985,2,  2049.8,2,  2248.9,2,   7.8748,2,    25.02,-999.000,9,-999.0000,9, -999.00,9,  -999.0,9,  -999.0,-999.0000,9,-999.0000,  -999.0,9,     10.932,3,-999.000,9, 20150603,     1348,-999.000,   13.245,2,    34.3399,2,     -999.0,9,     -999.0,-999.0000,     -999.0,     -999.0,9,     -999.0,     -999.0,9,     -999.0,  -999.0,9,     -999.0,     -999.0,9,     -999.0
33RO20150525,     P16N.2,     136,          2,         18,         18,2,20150603,       1152,    33.9992,  -151.9996,       5486,   201.3,  12.0695,  34.2299,2,  34.2292,2,      219,2,   219.1,2,   10.36,2,   10.46,2,    0.01,2,    0.74,2,   3.013,2,   1.784,2,   1.809,2,  2080.6,2,  2255.7,2,   7.8125,2,    25.04,-999.000,9,-999.0000,9, -999.00,9,  -999.0,9,  -999.0,-999.0000,9,-999.0000,  -999.0,9,     15.012,3,-999.000,9, 20150603,     1345,-999.000,  12.0707,2,    34.3906,2,     -999.0,9,     -999.0,-999.0000,     -999.0,     -999.0,9,     -999.0,     -999.0,9,     -999.0,  -999.0,9,     -999.0,     -999.0,9,     -999.0
33RO20150525,     P16N.2,     136,          2,         17,         17,2,20150603,       1152,    33.9992,  -151.9996,       5486,   275.1,  11.0026,  34.1956,2,   34.193,2,    214.9,2,   214.4,2,   14.85,2,   13.49,2,    0.01,2,    0.96,2,   3.132,2,   1.822,2,   1.701,2,    2102,2,  2260.1,2,   7.7769,2,    24.95,-999.000,9,-999.0000,9, -999.00,9,  -999.0,9,  -999.0,-999.0000,9,-999.0000,  -999.0,9,     17.681,3,-999.000,9, 20150603,     1343,-999.000,  11.0017,2,    34.3542,2,     -999.0,9,     -999.0,-999.0000,     -999.0,     -999.0,9,     -999.0,     -999.0,9,     -999.0,  -999.0,9,     -999.0,     -999.0,9,     -999.0
33RO20150525,     P16N.2,     136,          2,         16,         16,2,20150603,       1152,    33.9992,  -151.9996,       5486,   366.6,   9.3032,  34.0923,2,  34.0911,2,    201.6,2,   201.5,2,   22.77,2,   18.08,2,    0.01,2,    1.28,2,    3.32,2,   1.873,2,   1.472,2,  2130.9,2,  2263.3,2,   7.7079,6,    25.01,-999.000,9,-999.0000,9, -999.00,9,  -999.0,9,  -999.0,-999.0000,9,-999.0000,  -999.0,9,     21.174,3,-999.000,9, 20150603,     1340,-999.000,    9.303,2,    34.2518,2,     -999.0,9,     -999.0,-999.0000,     -999.0,     -999.0,9,     -999.0,     -999.0,9,     -999.0,  -999.0,9,     -999.0,     -999.0,9,     -999.0
33RO20150525,     P16N.2,     136,          2,         15,         15,2,20150603,       1152,    33.9992,  -151.9996,       5486,   467.2,   7.5274,  34.0103,2,   34.008,2,    162.3,2,   163.2,2,   38.31,2,   25.31,2,       0,2,    1.77,2,   3.083,2,   1.655,2,   1.077,2,    2182,2,  2272.3,2,   7.5925,2,       25,-999.000,9,-999.0000,9, -999.00,9,  -999.0,9,  -999.0,-999.0000,9,-999.0000,  -999.0,9,     25.821,3,-999.000,9, 20150603,     1337,-999.000,    7.526,2,    34.1683,6,     -999.0,9,     -999.0,-999.0000,     -999.0,     -999.0,9,     -999.0,     -999.0,9,     -999.0,  -999.0,9,     -999.0,     -999.0,9,     -999.0
33RO20150525,     P16N.2,     136,          2,         14,         14,2,20150603,       1152,    33.9992,  -151.9996,       5486,   599.9,   5.3815,  34.0016,2,  34.0004,2,     91.7,2,    93.6,2,   68.12,2,   35.18,2,    0.01,2,    2.51,2,    2.04,6,   1.013,6,   0.462,6,  2261.5,2,  2294.7,2,   7.4195,2,    25.03,-999.000,9,-999.0000,9, -999.00,9,  -999.0,9,  -999.0,-999.0000,9,-999.0000,  -999.0,9,     33.428,3,-999.000,9, 20150603,     1333,-999.000,    5.386,2,    34.1608,2,     -999.0,9,     -999.0,-999.0000,     -999.0,     -999.0,9,     -999.0,     -999.0,9,     -999.0,  -999.0,9,     -999.0,     -999.0,9,     -999.0
33RO20150525,     P16N.2,     136,          2,         13,         13,2,20150603,       1152,    33.9992,  -151.9996,       5486,   749.9,   4.2764,  34.1281,2,  34.1282,2,     42.9,2,    42.6,2,   96.46,2,   41.14,2,    0.01,2,    2.92,2,   0.804,2,   0.386,2,   0.162,2,  2321.7,2,  2324.6,2,   7.3182,2,    25.01,-999.000,9,-999.0000,9, -999.00,9,  -999.0,9,  -999.0,-999.0000,9,-999.0000,  -999.0,9,     43.060,3,-999.000,9, 20150603,     1330,-999.000,   4.2781,2,    34.2892,2,     -999.0,9,     -999.0,-999.0000,     -999.0,     -999.0,9,     -999.0,     -999.0,9,     -999.0,  -999.0,9,     -999.0,     -999.0,9,     -999.0
33RO20150525,     P16N.2,     136,          2,         12,         12,2,20150603,       1152,    33.9992,  -151.9996,       5486,   901.1,   3.7406,  34.2562,2,  34.2565,2,     13.4,2,    14.4,2,  115.31,2,   43.78,2,       0,2,    3.11,2,   0.137,2,   0.071,2,   0.084,2,  2360.7,2,  2349.1,2,   7.2788,2,    25.04,-999.000,9,-999.0000,9, -999.00,9,  -999.0,9,  -999.0,-999.0000,9,-999.0000,  -999.0,9,     49.007,3,-999.000,9, 20150603,     1325,-999.000,    3.739,2,     34.418,2,     -999.0,9,     -999.0,-999.0000,     -999.0,     -999.0,9,     -999.0,     -999.0,9,     -999.0,  -999.0,9,     -999.0,     -999.0,9,     -999.0
33RO20150525,     P16N.2,     136,          2,         11,         11,2,20150603,       1152,    33.9992,  -151.9996,       5486,    1051,   3.3317,  34.3476,2,  34.3513,2,      8.1,2,     8.2,2,  128.98,2,   44.56,2,       0,2,    3.17,2,   0.019,2,   0.012,2,       0,2,  2376.2,6,  2362.1,2,   7.2768,2,    25.04,-999.000,9,-999.0000,9, -999.00,9,  -999.0,9,  -999.0,-999.0000,9,-999.0000,  -999.0,9,     51.951,3,-999.000,9, 20150603,     1322,-999.000,   3.3289,2,    34.5132,2,     -999.0,9,     -999.0,-999.0000,     -999.0,     -999.0,9,     -999.0,     -999.0,9,     -999.0,  -999.0,9,     -999.0,     -999.0,9,     -999.0
33RO20150525,     P16N.2,     136,          2,         10,         10,2,20150603,       1152,    33.9992,  -151.9996,       5486,  1233.5,   3.0167,  34.4411,2,  34.4425,2,       12,2,      12,2,  139.52,2,   44.55,2,       0,2,    3.17,2,   0.002,2,   0.003,2,       0,2,  2386.8,2,  2384.3,2,   7.2955,2,    24.96,-999.000,9,-999.0000,9, -999.00,9,  -999.0,9,  -999.0,-999.0000,9,-999.0000,  -999.0,9,     51.135,3,-999.000,9, 20150603,     1317,-999.000,   3.0152,2,    34.6049,2,     -999.0,9,     -999.0,-999.0000,     -999.0,     -999.0,9,     -999.0,     -999.0,9,     -999.0,  -999.0,9,     -999.0,     -999.0,9,     -999.0
33RO20150525,     P16N.2,     136,          2,          9,          9,2,20150603,       1152,    33.9992,  -151.9996,       5486,  1501.3,   2.5967,  34.5402,2,  34.5379,2,     36.2,2,    36.3,2,   148.6,2,   43.38,2,       0,2,    3.06,2,   0.002,2,   0.002,2,       0,2,    2385,2,  2401.2,2,   7.3529,6,    25.03,-999.000,9,-999.0000,9, -999.00,9,  -999.0,9,  -999.0,-999.0000,9,-999.0000,  -999.0,9,     36.031,3,-999.000,9, 20150603,     1311,-999.000,   2.6013,2,    34.7008,2,     -999.0,9,     -999.0,-999.0000,     -999.0,     -999.0,9,     -999.0,     -999.0,9,     -999.0,  -999.0,9,     -999.0,     -999.0,9,     -999.0
33RO20150525,     P16N.2,     136,          2,          8,          8,2,20150603,       1152,    33.9992,  -151.9996,       5486,    1868,   2.1002,  34.5953,2,   34.593,2,     59.2,2,    59.9,2,     161,2,   41.91,2,       0,2,    2.94,2,   0.002,2,   0.002,2,       0,2,    2383,2,  2415.6,2,   7.4005,2,    25.03,-999.000,9,-999.0000,9, -999.00,9,  -999.0,9,  -999.0,-999.0000,9,-999.0000,  -999.0,9,     33.404,3,-999.000,9, 20150603,     1304,-999.000,   2.0997,2,    34.7561,2,     -999.0,9,     -999.0,-999.0000,     -999.0,     -999.0,9,     -999.0,     -999.0,9,     -999.0,  -999.0,9,     -999.0,     -999.0,9,     -999.0
33RO20150525,     P16N.2,     136,          2,          7,          7,2,20150603,       1152,    33.9992,  -151.9996,       5486,  2333.8,   1.7719,  34.6357,2,  34.6337,2,     85.7,2,    86.2,2,  166.17,2,   40.25,2,       0,2,     2.8,2,       0,2,       0,2,       0,2,  2373.3,2,    2424,2,    7.457,2,    25.01,-999.000,9,-999.0000,9, -999.00,9,  -999.0,9,  -999.0,-999.0000,9,-999.0000,  -999.0,9,     25.026,3,-999.000,9, 20150603,     1255,-999.000,   1.7717,2,     34.797,2,     -999.0,9,     -999.0,-999.0000,     -999.0,     -999.0,9,     -999.0,     -999.0,9,     -999.0,  -999.0,9,     -999.0,     -999.0,9,     -999.0
33RO20150525,     P16N.2,     136,          2,          6,          6,2,20150603,       1152,    33.9992,  -151.9996,       5486,  2833.9,    1.583,  34.6588,2,  34.6565,2,    109.9,2,   109.5,2,  163.33,2,   38.78,2,       0,2,    2.68,2,   0.001,2,  -0.001,2,       0,2,  2358.5,2,  2424.8,2,   7.4999,2,    25.02,-999.000,9,-999.0000,9, -999.00,9,  -999.0,9,  -999.0,-999.0000,9,-999.0000,  -999.0,9,     23.263,3,-999.000,9, 20150603,     1245,-999.000,   1.5828,2,    34.8199,2,     -999.0,9,     -999.0,-999.0000,     -999.0,     -999.0,9,     -999.0,     -999.0,9,     -999.0,  -999.0,9,     -999.0,     -999.0,9,     -999.0
33RO20150525,     P16N.2,     136,          2,          5,          5,2,20150603,       1152,    33.9992,  -151.9996,       5486,  3332.5,   1.4913,  34.6735,2,  34.6713,2,    128.6,2,   128.9,2,  158.06,2,   37.51,2,       0,2,     2.6,2,  -0.001,2,  -0.001,2,       0,2,  2345.9,2,  2425.4,2,   7.5376,2,    24.98,-999.000,9,-999.0000,9, -999.00,9,  -999.0,9,  -999.0,-999.0000,9,-999.0000,  -999.0,9,     21.434,3,-999.000,9, 20150603,     1235,-999.000,   1.4913,2,    34.8348,2,     -999.0,9,     -999.0,-999.0000,     -999.0,     -999.0,9,     -999.0,     -999.0,9,     -999.0,  -999.0,9,     -999.0,     -999.0,9,     -999.0
33RO20150525,     P16N.2,     136,          2,          4,          4,2,20150603,       1152,    33.9992,  -151.9996,       5486,  3833.6,   1.4676,  34.6822,2,  34.6796,2,    140.4,2,   140.9,2,  154.15,6,   36.73,6,       0,6,    2.53,6,       0,2,   0.001,2,       0,2,  2338.3,2,  2424.4,2,   7.5617,2,    25.03,-999.000,9,-999.0000,9, -999.00,9,  -999.0,9,  -999.0,-999.0000,9,-999.0000,  -999.0,9,     21.128,3,-999.000,9, 20150603,     1225,-999.000,   1.4678,2,    34.8431,2,     -999.0,9,     -999.0,-999.0000,     -999.0,     -999.0,9,     -999.0,     -999.0,9,     -999.0,  -999.0,9,     -999.0,     -999.0,9,     -999.0
33RO20150525,     P16N.2,     136,          2,          3,          3,2,20150603,       1152,    33.9992,  -151.9996,       5486,  4332.6,    1.483,  34.6866,2,  34.6851,2,    147.1,2,   147.4,2,  151.41,6,   36.34,6,       0,6,    2.48,6,   0.001,6,   0.003,6,       0,6,  2332.8,2,  2423.8,6,   7.5716,2,    25.02,-999.000,9,-999.0000,9, -999.00,9,  -999.0,9,  -999.0,-999.0000,9,-999.0000,  -999.0,9,     20.307,3,-999.000,9, 20150603,     1216,-999.000,   1.4829,2,    34.8487,2,     -999.0,9,     -999.0,-999.0000,     -999.0,     -999.0,9,     -999.0,     -999.0,9,     -999.0,  -999.0,9,     -999.0,     -999.0,9,     -999.0
33RO20150525,     P16N.2,     136,          2,          2,          2,2,20150603,       1152,    33.9992,  -151.9996,       5486,  4950.5,   1.5296,    34.69,2,  34.6881,2,    153.8,2,   153.5,2,  145.75,6,   35.95,6,       0,6,    2.45,6,   0.001,2,   0.005,2,       0,2,  2325.6,2,  2420.6,2,    7.579,6,    25.04,-999.000,9,-999.0000,9, -999.00,9,  -999.0,9,  -999.0,-999.0000,9,-999.0000,  -999.0,9,     19.998,3,-999.000,9, 20150603,     1204,-999.000,   1.5298,2,    34.8517,2,     -999.0,9,     -999.0,-999.0000,     -999.0,     -999.0,9,     -999.0,     -999.0,9,     -999.0,  -999.0,9,     -999.0,     -999.0,9,     -999.0
33RO20150525,     P16N.2,     136,          2,          1,          1,2,20150603,       1152,    33.9992,  -151.9996,       5486,  5593.3,   1.6074,   34.691,2,  34.6891,2,    156.2,2,   157.7,2,  144.09,6,   35.75,6,       0,6,    2.45,6,   0.002,2,   0.007,2,       0,2,  2325.7,6,  2420.4,2,   7.5817,6,    25.05,-999.000,9,-999.0000,9, -999.00,9,  -999.0,9,  -999.0,-999.0000,9,-999.0000,  -999.0,9,     20.089,3,-999.000,9, 20150603,     1151,-999.000,   1.6074,2,    34.8527,2,     -999.0,9,     -999.0,-999.0000,     -999.0,     -999.0,9,     -999.0,     -999.0,9,     -999.0,  -999.0,9,     -999.0,     -999.0,9,     -999.0