BOTTLE,20220330CCHSIOCBG
EXPOCODE,SECT_ID,STNNBR,CASTNO,SAMPNO,BTLNBR,BTLNBR_FLAG_W,DATE,TIME,LATITUDE,LONGITUDE,DEPTH,CTDPRS,CTDTMP,CTDSAL,CTDSAL_FLAG_W,SALNTY,SALNTY_FLAG_W,CTDOXY,CTDOXY_FLAG_W,OXYGEN,OXYGEN_FLAG_W,SILCAT,SILCAT_FLAG_W,NITRAT,NITRAT_FLAG_W,NITRIT,NITRIT_FLAG_W,PHSPHT,PHSPHT_FLAG_W,CFC-11,CFC-11_FLAG_W,CFC-12,CFC-12_FLAG_W,SF6,SF6_FLAG_W,TCARBN,TCARBN_FLAG_W,ALKALI,ALKALI_FLAG_W,PH_TOT,PH_TOT_FLAG_W,PH_TMP,TRITUM,TRITUM_FLAG_W,HELIUM,HELIUM_FLAG_W,DELC13,DELC13_FLAG_W,DELC14,DELC14_FLAG_W,C14ERR,NEON,NEON_FLAG_W,NEONER,DOC,DOC_FLAG_W,N2O,N2O_FLAG_W,ARGON,ARGON_FLAG_W,BTL_DATE,BTL_TIME,TRITER,SBE35,SBE35_FLAG_W,SALTREF,SALTREF_FLAG_W,DELHE3,DELHE3_FLAG_W,DELHER,HELIER,ARGONER,KRYPTON,KRYPTON_FLAG_W,KRYPTONER,XENON,XENON_FLAG_W,XENONER,14C-DOC,14C-DOC_FLAG_W,14C-DOCERR,13C-DOC,13C-DOC_FLAG_W,13C-DOCERR
,,,,,,,,,,,METERS,DBAR,ITS-90,PSS-78,,PSS-78,,UMOL/KG,,UMOL/KG,,UMOL/KG,,UMOL/KG,,UMOL/KG,,UMOL/KG,,PMOL/KG,,PMOL/KG,,FMOL/KG,,UMOL/KG,,UMOL/KG,,,,DEG C,TU,,NMOL/KG,,/MILLE,,/MILLE,,/MILLE,NMOL/KG,,NMOL/KG,UMOL/KG,,NMOL/KG,,UMOL/KG,,,,TU,ITS-90,,G/KG,,PERCNT,,PERCNT,NMOL/KG,UMOL/KG,NMOL/KG,,NMOL/KG,NMOL/KG,,NMOL/KG,/MILLE,,/MILLE,/MILLE,,/MILLE
33RO20150525,     P16N.2,     188,          1,         24,         24,2,20150618,       1249,      56.29,  -153.2331,        326,     2.8,  10.8893,  32.0273,2,   32.026,2,      305,2,   308.7,2,    2.55,2,    0.49,2,    0.04,2,    0.46,2,   3.822,6,   2.172,6,   2.577,6,  1948.5,6,  2172.4,6,   7.9446,6,    25.03,-999.000,9,-999.0000,9,    1.81,2,   -22.2,2,  -999.0,-999.0000,9,-999.0000,    57.2,2,     11.528,3,-999.000,9, 20150618,     1314,-999.000,  10.8769,2,     32.177,6,     -999.0,9,     -999.0,-999.0000,     -999.0,     -999.0,9,     -999.0,     -999.0,9,     -999.0,  -999.0,9,     -999.0,     -999.0,9,     -999.0
33RO20150525,     P16N.2,     188,          1,         22,         22,2,20150618,       1249,      56.29,  -153.2331,        326,    12.1,   9.0126,  32.1125,2,  32.1426,2,    311.3,2,   299.1,2,   10.38,2,    5.68,2,    0.17,2,    0.88,2,   4.065,2,   2.301,2,   2.636,2,  1997.1,2,    2173,2,   7.8387,2,       25,-999.000,9,-999.0000,9,    1.20,2,   -23.2,2,  -999.0,-999.0000,9,-999.0000,    54.1,2,     12.913,3,-999.000,9, 20150618,     1312,-999.000,   8.9223,2,    32.2942,2,     -999.0,9,     -999.0,-999.0000,     -999.0,     -999.0,9,     -999.0,     -999.0,9,     -999.0,  -999.0,9,     -999.0,     -999.0,9,     -999.0
33RO20150525,     P16N.2,     188,          1,         23,         23,2,20150618,       1249,      56.29,  -153.2331,        326,    12.2,   8.9119,  32.1177,2,-999.0000,9,    310.1,2,  -999.0,9, -999.00,9, -999.00,9, -999.00,9, -999.00,9,-999.000,9,-999.000,9,-999.000,9,  -999.0,9,  -999.0,9,-999.0000,9,  -999.00,-999.000,9,-999.0000,9, -999.00,9,  -999.0,9,  -999.0,-999.0000,9,-999.0000,  -999.0,9,     -999.0,9,-999.000,9, 20150618,     1312,-999.000,   8.9244,2,     -999.0,9,     -999.0,9,     -999.0,-999.0000,     -999.0,     -999.0,9,     -999.0,     -999.0,9,     -999.0,  -999.0,9,     -999.0,     -999.0,9,     -999.0
33RO20150525,     P16N.2,     188,          1,         21,         21,2,20150618,       1249,      56.29,  -153.2331,        326,    21.4,   7.4624,  32.1527,2,  32.1706,2,    286.6,2,   286.8,2,   15.86,2,    8.91,2,    0.22,2,    1.13,2,   4.143,2,   2.341,2,   2.705,2,  2019.6,2,    2174,2,   7.7843,2,    25.04,-999.000,9,-999.0000,9,    0.84,6,   -24.7,6,     1.7,-999.0000,9,-999.0000,    53.1,2,     13.582,3,-999.000,9, 20150618,     1310,-999.000,   7.4705,2,    32.3223,2,     -999.0,9,     -999.0,-999.0000,     -999.0,     -999.0,9,     -999.0,     -999.0,9,     -999.0,  -999.0,9,     -999.0,     -999.0,9,     -999.0
33RO20150525,     P16N.2,     188,          1,         18,         18,2,20150618,       1249,      56.29,  -153.2331,        326,    33.1,   7.0335,  32.2245,2,  32.2336,2,    279.8,2,   279.9,2,    18.4,2,   10.57,2,    0.24,2,    1.24,2,   4.159,2,   2.339,2,   2.645,2,  2032.7,2,  2175.2,2,   7.7486,2,       25,-999.000,9,-999.0000,9,    0.81,2,   -25.8,2,  -999.0,-999.0000,9,-999.0000,    52.1,2,     14.211,3,-999.000,9, 20150618,     1308,-999.000,   7.0333,2,    32.3856,2,     -999.0,9,     -999.0,-999.0000,     -999.0,     -999.0,9,     -999.0,     -999.0,9,     -999.0,  -999.0,9,     -999.0,     -999.0,9,     -999.0
33RO20150525,     P16N.2,     188,          1,         20,         20,2,20150618,       1249,      56.29,  -153.2331,        326,    33.1,   7.0358,  32.2228,2,-999.0000,9,    279.9,2,  -999.0,9, -999.00,9, -999.00,9, -999.00,9, -999.00,9,-999.000,9,-999.000,9,-999.000,9,  -999.0,9,  -999.0,9,-999.0000,9,  -999.00,-999.000,9,-999.0000,9, -999.00,9,  -999.0,9,  -999.0,-999.0000,9,-999.0000,  -999.0,9,     -999.0,9,-999.000,9, 20150618,     1309,-999.000,   7.0361,2,     -999.0,9,     -999.0,9,     -999.0,-999.0000,     -999.0,     -999.0,9,     -999.0,     -999.0,9,     -999.0,  -999.0,9,     -999.0,     -999.0,9,     -999.0
33RO20150525,     P16N.2,     188,          1,         19,         19,2,20150618,       1249,      56.29,  -153.2331,        326,    33.1,   7.0347,  32.2229,2,-999.0000,9,    279.9,2,  -999.0,9, -999.00,9, -999.00,9, -999.00,9, -999.00,9,-999.000,9,-999.000,9,-999.000,9,  -999.0,9,  -999.0,9,-999.0000,9,  -999.00,-999.000,9,-999.0000,9, -999.00,9,  -999.0,9,  -999.0,-999.0000,9,-999.0000,  -999.0,9,     -999.0,9,-999.000,9, 20150618,     1308,-999.000,   7.0352,2,     -999.0,9,     -999.0,9,     -999.0,-999.0000,     -999.0,     -999.0,9,     -999.0,     -999.0,9,     -999.0,  -999.0,9,     -999.0,     -999.0,9,     -999.0
33RO20150525,     P16N.2,     188,          1,         17,         17,2,20150618,       1249,      56.29,  -153.2331,        326,      44,   6.9308,  32.2671,2,   32.269,2,    277.8,2,   280.1,2,   19.19,2,   11.26,2,    0.25,2,    1.28,2,   4.123,2,    2.34,2,   2.693,2,  2038.8,2,  2175.9,2,   7.7357,2,    25.03,-999.000,9,-999.0000,9,    0.62,2,   -24.4,2,  -999.0,-999.0000,9,-999.0000,    52.3,2,     14.372,3,-999.000,9, 20150618,     1307,-999.000,   6.9314,2,    32.4211,2,     -999.0,9,     -999.0,-999.0000,     -999.0,     -999.0,9,     -999.0,     -999.0,9,     -999.0,  -999.0,9,     -999.0,     -999.0,9,     -999.0
33RO20150525,     P16N.2,     188,          1,         15,         15,2,20150618,       1249,      56.29,  -153.2331,        326,      58,   6.8423,  32.2861,2,-999.0000,9,    276.9,2,  -999.0,9, -999.00,9, -999.00,9, -999.00,9, -999.00,9,-999.000,9,-999.000,9,-999.000,9,  -999.0,9,  -999.0,9,-999.0000,9,  -999.00,-999.000,9,-999.0000,9, -999.00,9,  -999.0,9,  -999.0,-999.0000,9,-999.0000,  -999.0,9,     -999.0,9,-999.000,9, 20150618,     1305,-999.000,   6.8394,2,     -999.0,9,     -999.0,9,     -999.0,-999.0000,     -999.0,     -999.0,9,     -999.0,     -999.0,9,     -999.0,  -999.0,9,     -999.0,     -999.0,9,     -999.0
33RO20150525,     P16N.2,     188,          1,         16,         16,2,20150618,       1249,      56.29,  -153.2331,        326,      58,   6.8455,  32.2854,2,-999.0000,9,    277.1,2,  -999.0,9, -999.00,9, -999.00,9, -999.00,9, -999.00,9,-999.000,9,-999.000,9,-999.000,9,  -999.0,9,  -999.0,9,-999.0000,9,  -999.00,-999.000,9,-999.0000,9, -999.00,9,  -999.0,9,  -999.0,-999.0000,9,-999.0000,  -999.0,9,     -999.0,9,-999.000,9, 20150618,     1305,-999.000,   6.8457,2,     -999.0,9,     -999.0,9,     -999.0,-999.0000,     -999.0,     -999.0,9,     -999.0,     -999.0,9,     -999.0,  -999.0,9,     -999.0,     -999.0,9,     -999.0
33RO20150525,     P16N.2,     188,          1,         14,         14,2,20150618,       1249,      56.29,  -153.2331,        326,      58,   6.8426,  32.2856,2,  32.3089,2,      277,2,   274.1,2,   20.36,2,   12.33,2,    0.25,2,    1.33,2,   4.123,2,   2.338,2,   2.638,2,  2044.8,2,  2177.3,2,   7.7215,6,    25.04,-999.000,9,-999.0000,9,    0.77,2,   -22.7,2,  -999.0,-999.0000,9,-999.0000,    53.0,2,     14.766,3,-999.000,9, 20150618,     1304,-999.000,   6.8426,2,    32.4613,2,     -999.0,9,     -999.0,-999.0000,     -999.0,     -999.0,9,     -999.0,     -999.0,9,     -999.0,  -999.0,9,     -999.0,     -999.0,9,     -999.0
33RO20150525,     P16N.2,     188,          1,         13,         13,2,20150618,       1249,      56.29,  -153.2331,        326,    82.7,    6.554,  32.4024,2,  32.4243,2,      262,2,   262.4,2,    23.3,2,   14.78,2,    0.22,2,    1.44,2,   4.074,2,   2.299,2,   2.608,2,    2062,2,  2182.8,2,    7.687,2,    25.03,-999.000,9,-999.0000,9,    0.60,6,   -23.7,6,     0.6,-999.0000,9,-999.0000,    48.7,2,     15.250,3,-999.000,9, 20150618,     1303,-999.000,   6.5534,2,    32.5772,2,     -999.0,9,     -999.0,-999.0000,     -999.0,     -999.0,9,     -999.0,     -999.0,9,     -999.0,  -999.0,9,     -999.0,     -999.0,9,     -999.0
33RO20150525,     P16N.2,     188,          1,         11,         11,2,20150618,       1249,      56.29,  -153.2331,        326,   107.7,   6.4256,  32.5505,2,-999.0000,9,      245,2,  -999.0,9, -999.00,9, -999.00,9, -999.00,9, -999.00,9,-999.000,9,-999.000,9,-999.000,9,  -999.0,9,  -999.0,9,-999.0000,9,  -999.00,-999.000,9,-999.0000,9, -999.00,9,  -999.0,9,  -999.0,-999.0000,9,-999.0000,  -999.0,9,     -999.0,9,-999.000,9, 20150618,     1300,-999.000,   6.4273,2,     -999.0,9,     -999.0,9,     -999.0,-999.0000,     -999.0,     -999.0,9,     -999.0,     -999.0,9,     -999.0,  -999.0,9,     -999.0,     -999.0,9,     -999.0
33RO20150525,     P16N.2,     188,          1,         12,         12,2,20150618,       1249,      56.29,  -153.2331,        326,   107.8,   6.4254,  32.5535,2,-999.0000,9,    244.6,2,  -999.0,9, -999.00,9, -999.00,9, -999.00,9, -999.00,9,-999.000,9,-999.000,9,-999.000,9,  -999.0,9,  -999.0,9,-999.0000,9,  -999.00,-999.000,9,-999.0000,9, -999.00,9,  -999.0,9,  -999.0,-999.0000,9,-999.0000,  -999.0,9,     -999.0,9,-999.000,9, 20150618,     1301,-999.000,   6.4273,2,     -999.0,9,     -999.0,9,     -999.0,-999.0000,     -999.0,     -999.0,9,     -999.0,     -999.0,9,     -999.0,  -999.0,9,     -999.0,     -999.0,9,     -999.0
33RO20150525,     P16N.2,     188,          1,         10,         10,2,20150618,       1249,      56.29,  -153.2331,        326,   107.7,   6.4317,   32.544,2,  32.5607,2,      246,2,     246,2,   26.82,2,   17.32,2,    0.19,2,    1.55,2,   3.997,2,    2.26,2,   2.493,2,  2080.9,2,  2189.6,2,    7.652,2,    25.03,-999.000,9,-999.0000,9,    0.39,6,   -27.5,6,     1.7,-999.0000,9,-999.0000,    48.0,2,     17.317,3,-999.000,9, 20150618,     1300,-999.000,   6.4327,2,    32.7142,6,     -999.0,9,     -999.0,-999.0000,     -999.0,     -999.0,9,     -999.0,     -999.0,9,     -999.0,  -999.0,9,     -999.0,     -999.0,9,     -999.0
33RO20150525,     P16N.2,     188,          1,          9,          9,2,20150618,       1249,      56.29,  -153.2331,        326,   129.9,   6.2689,  32.7816,2,  32.8028,2,    217.2,2,   216.8,2,   32.88,2,   21.23,2,    0.13,2,    1.75,2,   3.866,2,   2.163,2,   2.247,2,  2114.5,2,  2203.8,2,   7.5929,2,    24.98,-999.000,9,-999.0000,9,    0.22,6,   -28.5,6,     2.4,-999.0000,9,-999.0000,    46.1,2,     20.304,3,-999.000,9, 20150618,     1258,-999.000,    6.269,2,    32.9574,2,     -999.0,9,     -999.0,-999.0000,     -999.0,     -999.0,9,     -999.0,     -999.0,9,     -999.0,  -999.0,9,     -999.0,     -999.0,9,     -999.0
33RO20150525,     P16N.2,     188,          1,          8,          8,2,20150618,       1249,      56.29,  -153.2331,        326,   150.3,   6.0476,  33.1448,2,-999.0000,9,    170.5,2,  -999.0,9, -999.00,9, -999.00,9, -999.00,9, -999.00,9,-999.000,9,-999.000,9,-999.000,9,  -999.0,9,  -999.0,9,-999.0000,9,  -999.00,-999.000,9,-999.0000,9, -999.00,9,  -999.0,9,  -999.0,-999.0000,9,-999.0000,  -999.0,9,     -999.0,9,-999.000,9, 20150618,     1257,-999.000,   6.0476,2,     -999.0,9,     -999.0,9,     -999.0,-999.0000,     -999.0,     -999.0,9,     -999.0,     -999.0,9,     -999.0,  -999.0,9,     -999.0,     -999.0,9,     -999.0
33RO20150525,     P16N.2,     188,          1,          6,          6,2,20150618,       1249,      56.29,  -153.2331,        326,   150.3,   6.0457,  33.1464,2,  33.1635,2,    170.2,2,   175.2,2,   41.48,2,   26.41,2,    0.08,2,    2.02,2,   3.635,2,   2.012,2,   1.897,2,  2161.8,2,  2225.6,2,   7.5086,2,    25.02,-999.000,9,-999.0000,9,    0.08,6,   -36.5,6,     2.2,-999.0000,9,-999.0000,    44.5,2,     24.761,3,-999.000,9, 20150618,     1256,-999.000,   6.0457,2,    33.3199,2,     -999.0,9,     -999.0,-999.0000,     -999.0,     -999.0,9,     -999.0,     -999.0,9,     -999.0,  -999.0,9,     -999.0,     -999.0,9,     -999.0
33RO20150525,     P16N.2,     188,          1,          7,          7,2,20150618,       1249,      56.29,  -153.2331,        326,   150.3,   6.0471,   33.145,2,-999.0000,9,    170.5,2,  -999.0,9, -999.00,9, -999.00,9, -999.00,9, -999.00,9,-999.000,9,-999.000,9,-999.000,9,  -999.0,9,  -999.0,9,-999.0000,9,  -999.00,-999.000,9,-999.0000,9, -999.00,9,  -999.0,9,  -999.0,-999.0000,9,-999.0000,  -999.0,9,     -999.0,9,-999.000,9, 20150618,     1256,-999.000,   6.0476,2,     -999.0,9,     -999.0,9,     -999.0,-999.0000,     -999.0,     -999.0,9,     -999.0,     -999.0,9,     -999.0,  -999.0,9,     -999.0,     -999.0,9,     -999.0
33RO20150525,     P16N.2,     188,          1,          5,          5,2,20150618,       1249,      56.29,  -153.2331,        326,     185,   5.7158,  33.4743,2,  33.4765,2,    142.5,2,   142.1,2,   49.59,6,   30.71,6,    0.05,6,    2.24,6,   3.453,2,   1.871,2,    1.57,2,  2201.7,2,    2248,2,   7.4432,2,    25.03,-999.000,9,-999.0000,9,   -0.27,6,   -46.6,6,     1.8,-999.0000,9,-999.0000,    44.7,2,     28.497,3,-999.000,9, 20150618,     1254,-999.000,    5.714,2,    33.6344,2,     -999.0,9,     -999.0,-999.0000,     -999.0,     -999.0,9,     -999.0,     -999.0,9,     -999.0,  -999.0,9,     -999.0,     -999.0,9,     -999.0
33RO20150525,     P16N.2,     188,          1,          4,          4,2,20150618,       1249,      56.29,  -153.2331,        326,   235.1,   5.0457,  33.7827,2,  33.7838,2,     95.9,2,    93.8,2,   64.54,6,   36.28,6,    0.02,6,    2.57,6,   2.948,2,   1.573,2,   1.122,2,    2258,2,  2277.4,2,   7.3492,2,    25.02,-999.000,9,-999.0000,9,   -0.57,2,   -66.6,2,  -999.0,-999.0000,9,-999.0000,    41.4,2,     34.609,3,-999.000,9, 20150618,     1252,-999.000,   5.0461,2,    33.9431,2,     -999.0,9,     -999.0,-999.0000,     -999.0,     -999.0,9,     -999.0,     -999.0,9,     -999.0,  -999.0,9,     -999.0,     -999.0,9,     -999.0
33RO20150525,     P16N.2,     188,          1,          3,          3,2,20150618,       1249,      56.29,  -153.2331,        326,   320.8,   4.4774,  33.8961,2,-999.0000,9,     61.1,2,  -999.0,9, -999.00,9, -999.00,9, -999.00,9, -999.00,9,-999.000,9,-999.000,9,-999.000,9,  -999.0,9,  -999.0,9,-999.0000,9,  -999.00,-999.000,9,-999.0000,9, -999.00,9,  -999.0,9,  -999.0,-999.0000,9,-999.0000,  -999.0,9,     -999.0,9,-999.000,9, 20150618,     1249,-999.000,   4.4763,2,     -999.0,9,     -999.0,9,     -999.0,-999.0000,     -999.0,     -999.0,9,     -999.0,     -999.0,9,     -999.0,  -999.0,9,     -999.0,     -999.0,9,     -999.0
33RO20150525,     P16N.2,     188,          1,          1,          1,2,20150618,       1249,      56.29,  -153.2331,        326,   320.8,   4.4783,  33.8959,2,  33.8932,2,     61.2,2,      61,2,   78.81,6,   39.99,6,    0.03,6,    2.82,6,   2.426,2,   1.258,2,   0.777,2,  2294.5,6,    2291,2,   7.2873,6,    25.03,-999.000,9,-999.0000,9,   -0.70,2,   -89.0,2,  -999.0,-999.0000,9,-999.0000,    43.2,2,     39.217,3,-999.000,9, 20150618,     1248,-999.000,   4.4825,2,    34.0531,2,     -999.0,9,     -999.0,-999.0000,     -999.0,     -999.0,9,     -999.0,     -999.0,9,     -999.0,  -999.0,9,     -999.0,     -999.0,9,     -999.0
33RO20150525,     P16N.2,     188,          1,          2,          2,2,20150618,       1249,      56.29,  -153.2331,        326,   320.8,   4.4756,  33.8963,2,-999.0000,9,       61,2,  -999.0,9, -999.00,9, -999.00,9, -999.00,9, -999.00,9,-999.000,9,-999.000,9,-999.000,9,  -999.0,9,  -999.0,9,-999.0000,9,  -999.00,-999.000,9,-999.0000,9, -999.00,9,  -999.0,9,  -999.0,-999.0000,9,-999.0000,  -999.0,9,     -999.0,9,-999.000,9, 20150618,     1249,-999.000,   4.4753,2,     -999.0,9,     -999.0,9,     -999.0,-999.0000,     -999.0,     -999.0,9,     -999.0,     -999.0,9,     -999.0,  -999.0,9,     -999.0,     -999.0,9,     -999.0