BOTTLE,20220330CCHSIOCBG
EXPOCODE,SECT_ID,STNNBR,CASTNO,SAMPNO,BTLNBR,BTLNBR_FLAG_W,DATE,TIME,LATITUDE,LONGITUDE,DEPTH,CTDPRS,CTDTMP,CTDSAL,CTDSAL_FLAG_W,SALNTY,SALNTY_FLAG_W,CTDOXY,CTDOXY_FLAG_W,OXYGEN,OXYGEN_FLAG_W,SILCAT,SILCAT_FLAG_W,NITRAT,NITRAT_FLAG_W,NITRIT,NITRIT_FLAG_W,PHSPHT,PHSPHT_FLAG_W,CFC-11,CFC-11_FLAG_W,CFC-12,CFC-12_FLAG_W,SF6,SF6_FLAG_W,TCARBN,TCARBN_FLAG_W,ALKALI,ALKALI_FLAG_W,PH_TOT,PH_TOT_FLAG_W,PH_TMP,TRITUM,TRITUM_FLAG_W,HELIUM,HELIUM_FLAG_W,DELC13,DELC13_FLAG_W,DELC14,DELC14_FLAG_W,C14ERR,NEON,NEON_FLAG_W,NEONER,DOC,DOC_FLAG_W,N2O,N2O_FLAG_W,ARGON,ARGON_FLAG_W,BTL_DATE,BTL_TIME,TRITER,SBE35,SBE35_FLAG_W,SALTREF,SALTREF_FLAG_W,DELHE3,DELHE3_FLAG_W,DELHER,HELIER,ARGONER,KRYPTON,KRYPTON_FLAG_W,KRYPTONER,XENON,XENON_FLAG_W,XENONER,14C-DOC,14C-DOC_FLAG_W,14C-DOCERR,13C-DOC,13C-DOC_FLAG_W,13C-DOCERR
,,,,,,,,,,,METERS,DBAR,ITS-90,PSS-78,,PSS-78,,UMOL/KG,,UMOL/KG,,UMOL/KG,,UMOL/KG,,UMOL/KG,,UMOL/KG,,PMOL/KG,,PMOL/KG,,FMOL/KG,,UMOL/KG,,UMOL/KG,,,,DEG C,TU,,NMOL/KG,,/MILLE,,/MILLE,,/MILLE,NMOL/KG,,NMOL/KG,UMOL/KG,,NMOL/KG,,UMOL/KG,,,,TU,ITS-90,,G/KG,,PERCNT,,PERCNT,NMOL/KG,UMOL/KG,NMOL/KG,,NMOL/KG,NMOL/KG,,NMOL/KG,/MILLE,,/MILLE,/MILLE,,/MILLE
33RO20150525,     P16N.2,     190,          1,         17,         17,2,20150618,       1857,    55.9502,  -152.9756,       2678,     3.2,  11.1381,  32.1854,2,  32.1861,2,    287.2,2,   292.3,2,    7.44,2,    3.33,2,    0.07,2,    0.69,2,   3.681,2,   2.093,2,   2.508,2,  1976.9,6,  2173.5,2,   7.8868,6,    25.03,-999.000,9,-999.0000,9, -999.00,9,  -999.0,9,  -999.0,-999.0000,9,-999.0000,  -999.0,9,     11.044,3,-999.000,9, 20150618,     2002,-999.000,  11.1445,2,    32.3379,2,     -999.0,9,     -999.0,-999.0000,     -999.0,     -999.0,9,     -999.0,     -999.0,9,     -999.0,  -999.0,9,     -999.0,     -999.0,9,     -999.0
33RO20150525,     P16N.2,     190,          1,         16,         16,2,20150618,       1857,    55.9502,  -152.9756,       2678,    25.7,   9.1985,  32.1844,2,  32.1892,2,      296,2,   302.9,2,    7.83,2,    3.92,2,    0.08,2,    0.77,2,   3.864,2,   2.203,2,   2.535,2,  1982.9,2,  2173.2,2,   7.8764,6,    25.03,-999.000,9,-999.0000,9, -999.00,9,  -999.0,9,  -999.0,-999.0000,9,-999.0000,  -999.0,9,     11.681,3,-999.000,9, 20150618,     2000,-999.000,    9.199,2,     32.341,2,     -999.0,9,     -999.0,-999.0000,     -999.0,     -999.0,9,     -999.0,     -999.0,9,     -999.0,  -999.0,9,     -999.0,     -999.0,9,     -999.0
33RO20150525,     P16N.2,     190,          1,         15,         15,2,20150618,       1857,    55.9502,  -152.9756,       2678,    76.2,   6.0797,  32.5918,2,  32.6503,2,    282.9,2,   277.3,2,   26.52,2,   16.74,2,    0.31,2,    1.49,2,   4.246,2,   2.387,2,   2.587,2,  2074.7,2,  2197.5,6,   7.6947,6,    25.04,-999.000,9,-999.0000,9, -999.00,9,  -999.0,9,  -999.0,-999.0000,9,-999.0000,  -999.0,9,     15.541,3,-999.000,9, 20150618,     1957,-999.000,   6.0789,2,    32.8043,2,     -999.0,9,     -999.0,-999.0000,     -999.0,     -999.0,9,     -999.0,     -999.0,9,     -999.0,  -999.0,9,     -999.0,     -999.0,9,     -999.0
33RO20150525,     P16N.2,     190,          1,         14,         14,2,20150618,       1857,    55.9502,  -152.9756,       2678,   175.6,   3.6853,  33.6823,2,  33.6819,2,    104.8,2,   103.1,2,   72.07,2,   38.43,2,    0.02,2,    2.75,2,   3.284,2,   1.745,2,   1.298,2,  2272.7,2,    2275,2,   7.3099,2,    25.05,-999.000,9,-999.0000,9, -999.00,9,  -999.0,9,  -999.0,-999.0000,9,-999.0000,  -999.0,9,     34.600,3,-999.000,9, 20150618,     1954,-999.000,   3.6843,2,    33.8407,2,     -999.0,9,     -999.0,-999.0000,     -999.0,     -999.0,9,     -999.0,     -999.0,9,     -999.0,  -999.0,9,     -999.0,     -999.0,9,     -999.0
33RO20150525,     P16N.2,     190,          1,         13,         13,2,20150618,       1857,    55.9502,  -152.9756,       2678,   276.1,   3.6763,  33.8698,2,  33.8756,2,     46.7,2,    40.8,2,   89.27,2,   43.22,2,    0.02,2,    3.03,2,   2.366,2,   1.206,2,   0.757,2,  2318.5,2,  2297.4,2,   7.2215,2,    25.05,-999.000,9,-999.0000,9, -999.00,9,  -999.0,9,  -999.0,-999.0000,9,-999.0000,  -999.0,9,     42.690,3,-999.000,9, 20150618,     1951,-999.000,    3.676,2,    34.0354,2,     -999.0,9,     -999.0,-999.0000,     -999.0,     -999.0,9,     -999.0,     -999.0,9,     -999.0,  -999.0,9,     -999.0,     -999.0,9,     -999.0
33RO20150525,     P16N.2,     190,          1,         12,         12,2,20150618,       1857,    55.9502,  -152.9756,       2678,     476,   3.6628,  34.1006,2,  34.0976,2,       20,2,    19.4,2,  108.61,2,    43.7,2,       0,2,    3.07,2,   1.146,2,   0.564,2,   0.253,2,  2344.3,2,  2326.5,2,   7.2398,2,    25.04,-999.000,9,-999.0000,9, -999.00,9,  -999.0,9,  -999.0,-999.0000,9,-999.0000,  -999.0,9,     45.850,3,-999.000,9, 20150618,     1947,-999.000,   3.6624,2,    34.2584,2,     -999.0,9,     -999.0,-999.0000,     -999.0,     -999.0,9,     -999.0,     -999.0,9,     -999.0,  -999.0,9,     -999.0,     -999.0,9,     -999.0
33RO20150525,     P16N.2,     190,          1,         11,         11,2,20150618,       1857,    55.9502,  -152.9756,       2678,     675,   3.5398,  34.2523,2,  34.2503,2,     13.9,2,    13.6,2,  121.01,2,    43.6,2,    0.01,2,    3.08,2,   0.395,2,   0.192,2,   0.064,2,  2360.4,2,  2349.5,2,   7.2668,2,    25.03,-999.000,9,-999.0000,9, -999.00,9,  -999.0,9,  -999.0,-999.0000,9,-999.0000,  -999.0,9,     49.031,3,-999.000,9, 20150618,     1942,-999.000,   3.5394,2,    34.4118,2,     -999.0,9,     -999.0,-999.0000,     -999.0,     -999.0,9,     -999.0,     -999.0,9,     -999.0,  -999.0,9,     -999.0,     -999.0,9,     -999.0
33RO20150525,     P16N.2,     190,          1,         10,         10,2,20150618,       1857,    55.9502,  -152.9756,       2678,   850.8,   3.1741,  34.3223,2,  34.3194,2,     15.3,2,    13.8,2,  132.64,2,   43.69,2,       0,2,    3.09,2,   0.217,2,   0.105,2,   0.023,2,  2369.4,2,  2364.7,2,   7.2748,2,    25.06,-999.000,9,-999.0000,9, -999.00,9,  -999.0,9,  -999.0,-999.0000,9,-999.0000,  -999.0,9,     49.094,3,-999.000,9, 20150618,     1939,-999.000,   3.1755,2,    34.4812,2,     -999.0,9,     -999.0,-999.0000,     -999.0,     -999.0,9,     -999.0,     -999.0,9,     -999.0,  -999.0,9,     -999.0,     -999.0,9,     -999.0
33RO20150525,     P16N.2,     190,          1,          9,          9,2,20150618,       1857,    55.9502,  -152.9756,       2678,  1050.4,   2.8742,  34.3911,2,   34.389,2,     14.3,2,    14.2,2,   142.6,2,   43.88,2,       0,2,    3.09,2,   0.091,2,   0.044,2,       0,2,  2380.5,2,  2378.8,2,   7.2855,2,    25.04,-999.000,9,-999.0000,9, -999.00,9,  -999.0,9,  -999.0,-999.0000,9,-999.0000,  -999.0,9,     48.387,3,-999.000,9, 20150618,     1934,-999.000,   2.8741,2,    34.5511,6,     -999.0,9,     -999.0,-999.0000,     -999.0,     -999.0,9,     -999.0,     -999.0,9,     -999.0,  -999.0,9,     -999.0,     -999.0,9,     -999.0
33RO20150525,     P16N.2,     190,          1,          8,          8,2,20150618,       1857,    55.9502,  -152.9756,       2678,  1250.5,   2.6423,  34.4396,2,  34.4388,2,       17,2,    17.8,2,  150.02,2,   43.78,2,       0,2,    3.07,2,   0.048,2,   0.023,2,       0,2,  2387.4,2,  2388.6,2,   7.2965,2,    25.04,-999.000,9,-999.0000,9, -999.00,9,  -999.0,9,  -999.0,-999.0000,9,-999.0000,  -999.0,9,     46.645,3,-999.000,9, 20150618,     1930,-999.000,   2.6417,2,    34.6012,6,     -999.0,9,     -999.0,-999.0000,     -999.0,     -999.0,9,     -999.0,     -999.0,9,     -999.0,  -999.0,9,     -999.0,     -999.0,9,     -999.0
33RO20150525,     P16N.2,     190,          1,          7,          7,2,20150618,       1857,    55.9502,  -152.9756,       2678,    1450,   2.4048,   34.486,2,  34.4843,2,     24.4,2,    24.4,2,  156.27,2,   43.49,2,       0,2,    3.05,2,   0.029,6,   0.015,6,   0.013,3,  2391.2,2,  2396.9,2,   7.3135,6,    25.05,-999.000,9,-999.0000,9, -999.00,9,  -999.0,9,  -999.0,-999.0000,9,-999.0000,  -999.0,9,     44.226,3,-999.000,9, 20150618,     1925,-999.000,   2.4048,2,    34.6469,2,     -999.0,9,     -999.0,-999.0000,     -999.0,     -999.0,9,     -999.0,     -999.0,9,     -999.0,  -999.0,9,     -999.0,     -999.0,9,     -999.0
33RO20150525,     P16N.2,     190,          1,          6,          6,2,20150618,       1857,    55.9502,  -152.9756,       2678,  1650.9,   2.1803,  34.5328,2,  34.5348,2,     36.4,2,    35.7,2,  161.93,2,    42.9,2,       0,2,    2.99,2,   0.013,2,   0.007,2,       0,2,  2389.2,2,  2404.2,2,   7.3405,2,    25.04,-999.000,9,-999.0000,9, -999.00,9,  -999.0,9,  -999.0,-999.0000,9,-999.0000,  -999.0,9,     40.909,3,-999.000,9, 20150618,     1921,-999.000,   2.1811,2,    34.6977,2,     -999.0,9,     -999.0,-999.0000,     -999.0,     -999.0,9,     -999.0,     -999.0,9,     -999.0,  -999.0,9,     -999.0,     -999.0,9,     -999.0
33RO20150525,     P16N.2,     190,          1,          5,          5,2,20150618,       1857,    55.9502,  -152.9756,       2678,  1850.9,   2.0162,  34.5671,2,  34.5663,2,     48.4,2,    48.3,2,  164.47,2,   42.22,2,       0,2,    2.93,2,   0.006,2,   0.003,2,       0,2,  2384.8,2,  2410.7,2,   7.3664,2,    25.03,-999.000,9,-999.0000,9, -999.00,9,  -999.0,9,  -999.0,-999.0000,9,-999.0000,  -999.0,9,     37.927,3,-999.000,9, 20150618,     1916,-999.000,   2.0172,2,    34.7293,2,     -999.0,9,     -999.0,-999.0000,     -999.0,     -999.0,9,     -999.0,     -999.0,9,     -999.0,  -999.0,9,     -999.0,     -999.0,9,     -999.0
33RO20150525,     P16N.2,     190,          1,          4,          4,2,20150618,       1857,    55.9502,  -152.9756,       2678,  2051.6,   1.9042,  34.5903,2,  34.5889,2,     58.6,2,    58.9,2,  166.23,6,   41.63,6,       0,6,    2.89,6,   0.005,2,   0.003,2,       0,2,  2381.8,2,  2415.9,2,   7.3915,2,    25.04,-999.000,9,-999.0000,9, -999.00,9,  -999.0,9,  -999.0,-999.0000,9,-999.0000,  -999.0,9,     35.430,3,-999.000,9, 20150618,     1912,-999.000,   1.9041,2,     34.752,2,     -999.0,9,     -999.0,-999.0000,     -999.0,     -999.0,9,     -999.0,     -999.0,9,     -999.0,  -999.0,9,     -999.0,     -999.0,9,     -999.0
33RO20150525,     P16N.2,     190,          1,          3,          3,2,20150618,       1857,    55.9502,  -152.9756,       2678,  2250.6,   1.7886,  34.6129,2,  34.6121,2,     71.1,2,    72.3,2,  167.59,6,   40.75,6,       0,6,    2.84,6,   0.006,2,   0.004,2,       0,2,  2374.6,2,  2417.4,6,   7.4196,6,    25.04,-999.000,9,-999.0000,9, -999.00,9,  -999.0,9,  -999.0,-999.0000,9,-999.0000,  -999.0,9,     32.367,3,-999.000,9, 20150618,     1907,-999.000,   1.7883,2,    34.7753,2,     -999.0,9,     -999.0,-999.0000,     -999.0,     -999.0,9,     -999.0,     -999.0,9,     -999.0,  -999.0,9,     -999.0,     -999.0,9,     -999.0
33RO20150525,     P16N.2,     190,          1,          2,          2,2,20150618,       1857,    55.9502,  -152.9756,       2678,  2451.3,   1.7157,  34.6272,2,  34.6267,2,     84.6,2,    82.4,2,  167.49,6,   40.07,6,       0,6,    2.78,6,   0.006,2,   0.002,2,       0,2,  2369.7,2,  2419.4,2,   7.4412,6,    25.04,-999.000,9,-999.0000,9, -999.00,9,  -999.0,9,  -999.0,-999.0000,9,-999.0000,  -999.0,9,     30.559,3,-999.000,9, 20150618,     1903,-999.000,   1.7165,2,      34.79,2,     -999.0,9,     -999.0,-999.0000,     -999.0,     -999.0,9,     -999.0,     -999.0,9,     -999.0,  -999.0,9,     -999.0,     -999.0,9,     -999.0
33RO20150525,     P16N.2,     190,          1,          1,          1,2,20150618,       1857,    55.9502,  -152.9756,       2678,  2712.5,   1.6445,  34.6418,2,  34.6393,2,     94.2,2,    94.2,2,   167.2,6,   39.28,6,    0.01,6,    2.74,6,   0.009,6,   0.002,6,       0,6,  2362.1,6,  2422.1,2,   7.4649,2,    25.03,-999.000,9,-999.0000,9, -999.00,9,  -999.0,9,  -999.0,-999.0000,9,-999.0000,  -999.0,9,     28.713,3,-999.000,9, 20150618,     1857,-999.000,   1.6479,2,    34.8027,2,     -999.0,9,     -999.0,-999.0000,     -999.0,     -999.0,9,     -999.0,     -999.0,9,     -999.0,  -999.0,9,     -999.0,     -999.0,9,     -999.0