BOTTLE,20220330CCHSIOCBG
EXPOCODE,SECT_ID,STNNBR,CASTNO,SAMPNO,BTLNBR,BTLNBR_FLAG_W,DATE,TIME,LATITUDE,LONGITUDE,DEPTH,CTDPRS,CTDTMP,CTDSAL,CTDSAL_FLAG_W,SALNTY,SALNTY_FLAG_W,CTDOXY,CTDOXY_FLAG_W,OXYGEN,OXYGEN_FLAG_W,SILCAT,SILCAT_FLAG_W,NITRAT,NITRAT_FLAG_W,NITRIT,NITRIT_FLAG_W,PHSPHT,PHSPHT_FLAG_W,CFC-11,CFC-11_FLAG_W,CFC-12,CFC-12_FLAG_W,SF6,SF6_FLAG_W,TCARBN,TCARBN_FLAG_W,ALKALI,ALKALI_FLAG_W,PH_TOT,PH_TOT_FLAG_W,PH_TMP,TRITUM,TRITUM_FLAG_W,HELIUM,HELIUM_FLAG_W,DELC13,DELC13_FLAG_W,DELC14,DELC14_FLAG_W,C14ERR,NEON,NEON_FLAG_W,NEONER,DOC,DOC_FLAG_W,N2O,N2O_FLAG_W,ARGON,ARGON_FLAG_W,BTL_DATE,BTL_TIME,TRITER,SBE35,SBE35_FLAG_W,SALTREF,SALTREF_FLAG_W,DELHE3,DELHE3_FLAG_W,DELHER,HELIER,ARGONER,KRYPTON,KRYPTON_FLAG_W,KRYPTONER,XENON,XENON_FLAG_W,XENONER,14C-DOC,14C-DOC_FLAG_W,14C-DOCERR,13C-DOC,13C-DOC_FLAG_W,13C-DOCERR
,,,,,,,,,,,METERS,DBAR,ITS-90,PSS-78,,PSS-78,,UMOL/KG,,UMOL/KG,,UMOL/KG,,UMOL/KG,,UMOL/KG,,UMOL/KG,,PMOL/KG,,PMOL/KG,,FMOL/KG,,UMOL/KG,,UMOL/KG,,,,DEG C,TU,,NMOL/KG,,/MILLE,,/MILLE,,/MILLE,NMOL/KG,,NMOL/KG,UMOL/KG,,NMOL/KG,,UMOL/KG,,,,TU,ITS-90,,G/KG,,PERCNT,,PERCNT,NMOL/KG,UMOL/KG,NMOL/KG,,NMOL/KG,NMOL/KG,,NMOL/KG,/MILLE,,/MILLE,/MILLE,,/MILLE
33RO20150525,     P16N.2,     166,          3,         24,         24,2,20150612,       0220,    49.0008,  -151.9996,       5021,     3.4,   9.3817,  32.7384,2,  32.7392,2,    290.9,2,   293.2,2,   20.55,2,   12.53,2,    0.13,2,    1.22,2,   3.996,2,   2.184,2,   2.526,2,  2049.6,6,  2203.6,2,   7.7796,2,    25.02,-999.000,9,-999.0000,9, -999.00,9,  -999.0,9,  -999.0,-999.0000,9,-999.0000,  -999.0,9,     11.351,3,-999.000,9, 20150613,     0419,-999.000,   9.3778,2,    32.8935,2,     -999.0,9,     -999.0,-999.0000,     -999.0,     -999.0,9,     -999.0,     -999.0,9,     -999.0,  -999.0,9,     -999.0,     -999.0,9,     -999.0
33RO20150525,     P16N.2,     166,          3,         23,         23,2,20150612,       0220,    49.0008,  -151.9996,       5021,    20.6,   9.1524,   32.736,2,  32.7526,2,    292.8,2,   298.4,2,   20.36,2,   12.53,2,    0.12,2,    1.22,2,   4.184,3,   2.254,2,    2.67,2,  2052.9,2,    2204,2,   7.7765,6,    24.99,-999.000,9,-999.0000,9, -999.00,9,  -999.0,9,  -999.0,-999.0000,9,-999.0000,  -999.0,9,     11.695,3,-999.000,9, 20150613,     0417,-999.000,   9.1472,2,    32.9071,2,     -999.0,9,     -999.0,-999.0000,     -999.0,     -999.0,9,     -999.0,     -999.0,9,     -999.0,  -999.0,9,     -999.0,     -999.0,9,     -999.0
33RO20150525,     P16N.2,     166,          3,         22,         22,2,20150612,       0220,    49.0008,  -151.9996,       5021,    41.7,   6.6588,  32.8185,2,  32.8218,2,    310.9,2,   308.7,2,   19.48,2,   12.92,2,     0.1,2,    1.24,2,   4.467,6,   2.402,6,   2.745,6,  2059.8,2,  2208.2,2,   7.7644,2,    25.03,-999.000,9,-999.0000,9, -999.00,9,  -999.0,9,  -999.0,-999.0000,9,-999.0000,  -999.0,9,     12.309,3,-999.000,9, 20150613,     0415,-999.000,   6.6651,2,    32.9765,2,     -999.0,9,     -999.0,-999.0000,     -999.0,     -999.0,9,     -999.0,     -999.0,9,     -999.0,  -999.0,9,     -999.0,     -999.0,9,     -999.0
33RO20150525,     P16N.2,     166,          3,         21,         21,2,20150612,       0220,    49.0008,  -151.9996,       5021,    65.7,   6.3118,  32.8196,2,  32.8222,2,    302.1,2,   303.5,2,   20.36,2,    13.7,2,    0.13,2,     1.3,2,   4.482,2,   2.418,2,   2.837,2,  2066.4,2,    2208,6,   7.7475,6,    25.03,-999.000,9,-999.0000,9, -999.00,9,  -999.0,9,  -999.0,-999.0000,9,-999.0000,  -999.0,9,     12.441,3,-999.000,9, 20150613,     0413,-999.000,   6.3124,2,    32.9769,2,     -999.0,9,     -999.0,-999.0000,     -999.0,     -999.0,9,     -999.0,     -999.0,9,     -999.0,  -999.0,9,     -999.0,     -999.0,9,     -999.0
33RO20150525,     P16N.2,     166,          3,         20,         20,2,20150612,       0220,    49.0008,  -151.9996,       5021,    92.1,   6.1058,  32.9336,2,  32.9568,2,    291.1,2,     285,2,      23,2,   15.56,2,    0.16,2,     1.4,2,   4.372,2,   2.368,2,   2.599,2,  2084.5,2,  2212.9,2,    7.716,6,    25.02,-999.000,9,-999.0000,9, -999.00,9,  -999.0,9,  -999.0,-999.0000,9,-999.0000,  -999.0,9,     13.633,3,-999.000,9, 20150613,     0411,-999.000,   6.1213,2,    33.1122,2,     -999.0,9,     -999.0,-999.0000,     -999.0,     -999.0,9,     -999.0,     -999.0,9,     -999.0,  -999.0,9,     -999.0,     -999.0,9,     -999.0
33RO20150525,     P16N.2,     166,          3,         19,         19,2,20150612,       0220,    49.0008,  -151.9996,       5021,   133.1,   5.4736,  33.7573,2,  33.7618,2,    182.6,2,   174.3,2,   47.63,2,   27.78,2,    0.01,2,       2,2,   3.646,2,   1.935,2,   1.652,2,  2198.2,2,  2266.2,2,   7.5248,2,    25.03,-999.000,9,-999.0000,9, -999.00,9,  -999.0,9,  -999.0,-999.0000,9,-999.0000,  -999.0,9,     23.983,3,-999.000,9, 20150613,     0409,-999.000,   5.4736,2,     33.921,2,     -999.0,9,     -999.0,-999.0000,     -999.0,     -999.0,9,     -999.0,     -999.0,9,     -999.0,  -999.0,9,     -999.0,     -999.0,9,     -999.0
33RO20150525,     P16N.2,     166,          3,         18,         18,2,20150612,       0220,    49.0008,  -151.9996,       5021,   200.1,   4.5044,  33.8077,2,  33.8091,2,    125.5,2,   123.4,2,    66.7,2,   34.23,2,    0.01,2,    2.44,2,   3.172,2,   1.633,2,   1.206,2,  2251.3,2,  2280.8,2,   7.4043,2,    25.04,-999.000,9,-999.0000,9, -999.00,9,  -999.0,9,  -999.0,-999.0000,9,-999.0000,  -999.0,9,     29.951,3,-999.000,9, 20150613,     0406,-999.000,   4.5054,2,    33.9686,2,     -999.0,9,     -999.0,-999.0000,     -999.0,     -999.0,9,     -999.0,     -999.0,9,     -999.0,  -999.0,9,     -999.0,     -999.0,9,     -999.0
33RO20150525,     P16N.2,     166,          3,         17,         17,2,20150612,       0220,    49.0008,  -151.9996,       5021,   275.1,   4.1386,  33.9037,2,  33.9023,2,       85,2,    82.3,2,   81.27,2,   38.34,2,    0.01,2,    2.71,2,   2.521,2,   1.275,2,   0.862,2,  2289.3,2,  2293.5,2,   7.3308,2,    25.04,-999.000,9,-999.0000,9, -999.00,9,  -999.0,9,  -999.0,-999.0000,9,-999.0000,  -999.0,9,     35.017,3,-999.000,9, 20150613,     0403,-999.000,   4.1383,2,    34.0622,2,     -999.0,9,     -999.0,-999.0000,     -999.0,     -999.0,9,     -999.0,     -999.0,9,     -999.0,  -999.0,9,     -999.0,     -999.0,9,     -999.0
33RO20150525,     P16N.2,     166,          3,         16,         16,2,20150612,       0220,    49.0008,  -151.9996,       5021,   366.9,   3.9826,  34.0018,2,  34.0052,2,     59.4,2,    57.7,2,   93.29,2,   40.39,2,    0.01,2,    2.84,2,   1.869,2,   0.933,2,   0.492,2,  2311.8,2,  2311.3,2,   7.3031,2,    25.02,-999.000,9,-999.0000,9, -999.00,9,  -999.0,9,  -999.0,-999.0000,9,-999.0000,  -999.0,9,     38.871,3,-999.000,9, 20150613,     0401,-999.000,   3.9824,2,    34.1656,6,     -999.0,9,     -999.0,-999.0000,     -999.0,     -999.0,9,     -999.0,     -999.0,9,     -999.0,  -999.0,9,     -999.0,     -999.0,9,     -999.0
33RO20150525,     P16N.2,     166,          3,         15,         15,2,20150612,       0220,    49.0008,  -151.9996,       5021,     467,   3.8164,   34.091,2,  34.0926,2,     44.7,2,    42.6,2,  103.75,2,   41.46,2,    0.01,2,    2.93,2,   1.362,2,   0.673,2,   0.383,2,  2328.5,2,  2323.9,2,   7.2914,2,    25.03,-999.000,9,-999.0000,9, -999.00,9,  -999.0,9,  -999.0,-999.0000,9,-999.0000,  -999.0,9,     41.692,3,-999.000,9, 20150613,     0358,-999.000,   3.8164,2,    34.2533,2,     -999.0,9,     -999.0,-999.0000,     -999.0,     -999.0,9,     -999.0,     -999.0,9,     -999.0,  -999.0,9,     -999.0,     -999.0,9,     -999.0
33RO20150525,     P16N.2,     166,          3,         14,         14,2,20150612,       0220,    49.0008,  -151.9996,       5021,     600,   3.5916,  34.1906,2,  34.1909,2,     31.6,2,    30.3,2,  116.84,2,   42.34,2,       0,2,    2.97,2,   0.831,2,   0.404,2,   0.184,2,  2347.3,2,  2340.3,2,   7.2872,2,       25,-999.000,9,-999.0000,9, -999.00,9,  -999.0,9,  -999.0,-999.0000,9,-999.0000,  -999.0,9,     44.097,3,-999.000,9, 20150613,     0354,-999.000,   3.5923,2,    34.3521,2,     -999.0,9,     -999.0,-999.0000,     -999.0,     -999.0,9,     -999.0,     -999.0,9,     -999.0,  -999.0,9,     -999.0,     -999.0,9,     -999.0
33RO20150525,     P16N.2,     166,          3,         13,         13,2,20150612,       0220,    49.0008,  -151.9996,       5021,     750,   3.4003,  34.2771,2,  34.2757,2,     25.9,2,    25.3,2,  124.46,2,   42.72,2,       0,2,    3.01,2,    0.42,6,   0.207,6,   0.115,6,  2358.7,2,  2355.5,2,   7.2959,2,    25.01,-999.000,9,-999.0000,9, -999.00,9,  -999.0,9,  -999.0,-999.0000,9,-999.0000,  -999.0,9,     45.369,3,-999.000,9, 20150613,     0350,-999.000,   3.4011,2,    34.4373,2,     -999.0,9,     -999.0,-999.0000,     -999.0,     -999.0,9,     -999.0,     -999.0,9,     -999.0,  -999.0,9,     -999.0,     -999.0,9,     -999.0
33RO20150525,     P16N.2,     166,          3,         12,         12,2,20150612,       0220,    49.0008,  -151.9996,       5021,   900.1,   3.0686,  34.3454,2,  34.3446,2,     22.9,2,    21.8,2,   135.5,2,   43.21,2,       0,2,    3.04,2,   0.227,2,   0.112,2,   0.105,2,  2370.7,2,  2368.8,2,   7.2962,2,    25.02,-999.000,9,-999.0000,9, -999.00,9,  -999.0,9,  -999.0,-999.0000,9,-999.0000,  -999.0,9,     45.715,3,-999.000,9, 20150613,     0346,-999.000,   3.0693,2,    34.5065,2,     -999.0,9,     -999.0,-999.0000,     -999.0,     -999.0,9,     -999.0,     -999.0,9,     -999.0,  -999.0,9,     -999.0,     -999.0,9,     -999.0
33RO20150525,     P16N.2,     166,          3,         11,         11,2,20150612,       0220,    49.0008,  -151.9996,       5021,  1029.1,   2.8685,  34.3881,2,   34.386,2,     21.5,2,    21.2,2,  142.05,2,   43.41,2,       0,2,    3.05,2,   0.138,2,   0.068,2,       0,2,  2378.5,2,  2377.4,2,   7.2994,6,    25.02,-999.000,9,-999.0000,9, -999.00,9,  -999.0,9,  -999.0,-999.0000,9,-999.0000,  -999.0,9,     45.462,3,-999.000,9, 20150613,     0342,-999.000,   2.8697,2,    34.5481,2,     -999.0,9,     -999.0,-999.0000,     -999.0,     -999.0,9,     -999.0,     -999.0,9,     -999.0,  -999.0,9,     -999.0,     -999.0,9,     -999.0
33RO20150525,     P16N.2,     166,          3,         10,         10,2,20150612,       0220,    49.0008,  -151.9996,       5021,  1199.3,   2.6268,  34.4382,2,    34.45,4,     23.2,2,    23.2,2,  149.76,2,    43.5,2,       0,2,    3.04,2,   0.084,2,   0.041,2,   0.043,2,  2385.7,2,  2387.9,2,   7.3083,2,    24.99,-999.000,9,-999.0000,9, -999.00,9,  -999.0,9,  -999.0,-999.0000,9,-999.0000,  -999.0,9,     44.654,3,-999.000,9, 20150613,     0338,-999.000,   2.6277,2,    34.6124,2,     -999.0,9,     -999.0,-999.0000,     -999.0,     -999.0,9,     -999.0,     -999.0,9,     -999.0,  -999.0,9,     -999.0,     -999.0,9,     -999.0
33RO20150525,     P16N.2,     166,          3,          9,          9,2,20150612,       0220,    49.0008,  -151.9996,       5021,  1299.5,   2.4997,   34.465,2,  34.4639,2,     21.5,2,    21.4,2,  154.16,2,   43.79,2,       0,2,    3.06,2,   0.039,2,   0.019,2,       0,2,  2390.2,2,  2392.6,2,    7.308,2,    25.01,-999.000,9,-999.0000,9, -999.00,9,  -999.0,9,  -999.0,-999.0000,9,-999.0000,  -999.0,9,     45.321,3,-999.000,9, 20150613,     0334,-999.000,   2.4997,2,    34.6264,2,     -999.0,9,     -999.0,-999.0000,     -999.0,     -999.0,9,     -999.0,     -999.0,9,     -999.0,  -999.0,9,     -999.0,     -999.0,9,     -999.0
33RO20150525,     P16N.2,     166,          3,          8,          8,2,20150612,       0220,    49.0008,  -151.9996,       5021,  1866.8,   2.0434,  34.5657,2,  34.5676,2,     39.8,2,    39.5,2,  167.15,2,   42.91,2,       0,2,    2.96,2,   0.002,2,   0.001,2,       0,2,  2393.4,2,  2412.8,2,   7.3532,2,    25.02,-999.000,9,-999.0000,9, -999.00,9,  -999.0,9,  -999.0,-999.0000,9,-999.0000,  -999.0,9,     39.032,3,-999.000,9, 20150613,     0324,-999.000,   2.0437,2,    34.7306,2,     -999.0,9,     -999.0,-999.0000,     -999.0,     -999.0,9,     -999.0,     -999.0,9,     -999.0,  -999.0,9,     -999.0,     -999.0,9,     -999.0
33RO20150525,     P16N.2,     166,          3,          7,          7,2,20150612,       0220,    49.0008,  -151.9996,       5021,    2266,   1.8259,  34.6096,2,  34.6091,2,     65.5,2,    63.8,2,  169.68,2,   41.54,2,       0,2,    2.87,2,       0,2,       0,2,       0,2,  2383.3,2,  2418.8,2,   7.4049,6,    25.01,-999.000,9,-999.0000,9, -999.00,9,  -999.0,9,  -999.0,-999.0000,9,-999.0000,  -999.0,9,     32.704,3,-999.000,9, 20150613,     0316,-999.000,   1.8259,2,    34.7723,2,     -999.0,9,     -999.0,-999.0000,     -999.0,     -999.0,9,     -999.0,     -999.0,9,     -999.0,  -999.0,9,     -999.0,     -999.0,9,     -999.0
33RO20150525,     P16N.2,     166,          3,          6,          6,2,20150612,       0220,    49.0008,  -151.9996,       5021,  2667.1,   1.6697,  34.6381,2,   34.642,2,     89.3,2,    88.8,2,  168.41,2,   39.88,2,       0,2,    2.76,2,   0.001,2,       0,2,       0,2,  2367.6,2,  2422.4,2,   7.4545,2,       25,-999.000,9,-999.0000,9, -999.00,9,  -999.0,9,  -999.0,-999.0000,9,-999.0000,  -999.0,9,     27.800,3,-999.000,9, 20150613,     0308,-999.000,   1.6698,2,    34.8053,2,     -999.0,9,     -999.0,-999.0000,     -999.0,     -999.0,9,     -999.0,     -999.0,9,     -999.0,  -999.0,9,     -999.0,     -999.0,9,     -999.0
33RO20150525,     P16N.2,     166,          3,          5,          5,2,20150612,       0220,    49.0008,  -151.9996,       5021,  3066.6,   1.5647,   34.658,2,  34.6574,2,    110.7,2,   110.1,2,  165.28,2,   38.51,2,       0,2,    2.65,2,       0,6,       0,6,       0,6,  2353.2,2,  2422.4,6,    7.497,2,    25.02,-999.000,9,-999.0000,9, -999.00,9,  -999.0,9,  -999.0,-999.0000,9,-999.0000,  -999.0,9,     24.824,3,-999.000,9, 20150613,     0300,-999.000,   1.5647,2,    34.8208,2,     -999.0,9,     -999.0,-999.0000,     -999.0,     -999.0,9,     -999.0,     -999.0,9,     -999.0,  -999.0,9,     -999.0,     -999.0,9,     -999.0
33RO20150525,     P16N.2,     166,          3,          4,          4,2,20150612,       0220,    49.0008,  -151.9996,       5021,    3467,   1.5044,  34.6715,2,  34.6747,2,      126,2,   125.5,2,  163.32,6,   37.53,6,       0,6,    2.58,6,       0,2,  -0.001,4,       0,2,  2343.7,2,  2425.2,2,   7.5284,2,    25.03,-999.000,9,-999.0000,9, -999.00,9,  -999.0,9,  -999.0,-999.0000,9,-999.0000,  -999.0,9,     22.941,3,-999.000,9, 20150613,     0252,-999.000,   1.5047,2,    34.8382,6,     -999.0,9,     -999.0,-999.0000,     -999.0,     -999.0,9,     -999.0,     -999.0,9,     -999.0,  -999.0,9,     -999.0,     -999.0,9,     -999.0
33RO20150525,     P16N.2,     166,          3,          3,          3,2,20150612,       0220,    49.0008,  -151.9996,       5021,  3932.6,   1.4912,  34.6799,2,  34.6796,2,    136.6,2,   135.7,2,  163.52,6,   36.85,6,       0,6,    2.52,6,   0.001,2,   0.001,2,       0,2,  2340.5,2,  2427.2,2,   7.5513,6,       25,-999.000,9,-999.0000,9, -999.00,9,  -999.0,9,  -999.0,-999.0000,9,-999.0000,  -999.0,9,     21.822,3,-999.000,9, 20150613,     0242,-999.000,   1.4909,2,    34.8432,2,     -999.0,9,     -999.0,-999.0000,     -999.0,     -999.0,9,     -999.0,     -999.0,9,     -999.0,  -999.0,9,     -999.0,     -999.0,9,     -999.0
33RO20150525,     P16N.2,     166,          3,          2,          2,2,20150612,       0220,    49.0008,  -151.9996,       5021,  4503.3,   1.5307,  34.6845,2,  34.6847,2,    140.9,2,   139.4,2,  167.33,6,   36.65,6,       0,6,    2.51,6,   0.002,2,   0.001,2,       0,2,  2342.1,2,  2432.2,2,   7.5622,2,    25.03,-999.000,9,-999.0000,9, -999.00,9,  -999.0,9,  -999.0,-999.0000,9,-999.0000,  -999.0,9,     21.362,3,-999.000,9, 20150613,     0231,-999.000,   1.5308,2,    34.8483,2,     -999.0,9,     -999.0,-999.0000,     -999.0,     -999.0,9,     -999.0,     -999.0,9,     -999.0,  -999.0,9,     -999.0,     -999.0,9,     -999.0
33RO20150525,     P16N.2,     166,          3,          1,          1,2,20150612,       0220,    49.0008,  -151.9996,       5021,  5109.9,   1.5934,  34.6868,2,  34.6873,2,    141.6,2,   141.4,2,  168.11,6,   36.46,6,    0.01,6,     2.5,6,   0.002,2,    0.01,3,       0,2,  2340.7,6,  2432.2,2,   7.5663,2,    25.01,-999.000,9,-999.0000,9, -999.00,9,  -999.0,9,  -999.0,-999.0000,9,-999.0000,  -999.0,9,     21.223,3,-999.000,9, 20150613,     0220,-999.000,   1.5932,2,    34.8509,2,     -999.0,9,     -999.0,-999.0000,     -999.0,     -999.0,9,     -999.0,     -999.0,9,     -999.0,  -999.0,9,     -999.0,     -999.0,9,     -999.0