BOTTLE,20220330CCHSIOCBG
EXPOCODE,SECT_ID,STNNBR,CASTNO,SAMPNO,BTLNBR,BTLNBR_FLAG_W,DATE,TIME,LATITUDE,LONGITUDE,DEPTH,CTDPRS,CTDTMP,CTDSAL,CTDSAL_FLAG_W,SALNTY,SALNTY_FLAG_W,CTDOXY,CTDOXY_FLAG_W,OXYGEN,OXYGEN_FLAG_W,SILCAT,SILCAT_FLAG_W,NITRAT,NITRAT_FLAG_W,NITRIT,NITRIT_FLAG_W,PHSPHT,PHSPHT_FLAG_W,CFC-11,CFC-11_FLAG_W,CFC-12,CFC-12_FLAG_W,SF6,SF6_FLAG_W,TCARBN,TCARBN_FLAG_W,ALKALI,ALKALI_FLAG_W,PH_TOT,PH_TOT_FLAG_W,PH_TMP,TRITUM,TRITUM_FLAG_W,HELIUM,HELIUM_FLAG_W,DELC13,DELC13_FLAG_W,DELC14,DELC14_FLAG_W,C14ERR,NEON,NEON_FLAG_W,NEONER,DOC,DOC_FLAG_W,N2O,N2O_FLAG_W,ARGON,ARGON_FLAG_W,BTL_DATE,BTL_TIME,TRITER,SBE35,SBE35_FLAG_W,SALTREF,SALTREF_FLAG_W,DELHE3,DELHE3_FLAG_W,DELHER,HELIER,ARGONER,KRYPTON,KRYPTON_FLAG_W,KRYPTONER,XENON,XENON_FLAG_W,XENONER,14C-DOC,14C-DOC_FLAG_W,14C-DOCERR,13C-DOC,13C-DOC_FLAG_W,13C-DOCERR
,,,,,,,,,,,METERS,DBAR,ITS-90,PSS-78,,PSS-78,,UMOL/KG,,UMOL/KG,,UMOL/KG,,UMOL/KG,,UMOL/KG,,UMOL/KG,,PMOL/KG,,PMOL/KG,,FMOL/KG,,UMOL/KG,,UMOL/KG,,,,DEG C,TU,,NMOL/KG,,/MILLE,,/MILLE,,/MILLE,NMOL/KG,,NMOL/KG,UMOL/KG,,NMOL/KG,,UMOL/KG,,,,TU,ITS-90,,G/KG,,PERCNT,,PERCNT,NMOL/KG,UMOL/KG,NMOL/KG,,NMOL/KG,NMOL/KG,,NMOL/KG,/MILLE,,/MILLE,/MILLE,,/MILLE
33RO20150525,     P16N.2,     131,          2,         24,         24,2,20150601,       2242,    31.4996,  -152.0003,       5353,       3,  19.2792,  34.5319,2,  34.5327,2,    234.8,2,   234.7,2,    3.03,2,       0,2,       0,2,    0.05,2,   2.323,3,   1.364,2,   1.825,2,  2018.4,6,  2270.3,2,     7.96,2,    25.02,-999.000,9,-999.0000,9, -999.00,9,  -999.0,9,  -999.0,-999.0000,9,-999.0000,    60.4,2,      8.004,3,-999.000,9, 20150602,     0049,-999.000,  19.2792,2,    34.6956,2,     -999.0,9,     -999.0,-999.0000,     -999.0,     -999.0,9,     -999.0,     -999.0,9,     -999.0,  -999.0,9,     -999.0,     -999.0,9,     -999.0
33RO20150525,     P16N.2,     131,          2,         23,         23,2,20150601,       2242,    31.4996,  -152.0003,       5353,    25.6,   18.719,  34.4934,2,  34.4929,2,    235.4,2,   236.4,2,    3.13,2,       0,2,    0.01,2,    0.03,2,-999.000,9,-999.000,9,-999.000,9,  2015.7,2,  2268.9,2,   7.9588,2,       25,-999.000,9,-999.0000,9, -999.00,9,  -999.0,9,  -999.0,-999.0000,9,-999.0000,    60.3,2,     -999.0,9,-999.000,9, 20150602,     0047,-999.000,  18.7251,2,    34.6555,2,     -999.0,9,     -999.0,-999.0000,     -999.0,     -999.0,9,     -999.0,     -999.0,9,     -999.0,  -999.0,9,     -999.0,     -999.0,9,     -999.0
33RO20150525,     P16N.2,     131,          2,         22,         22,2,20150601,       2242,    31.4996,  -152.0003,       5353,    50.3,  16.7076,  34.3784,2,   34.399,2,    246.9,2,   248.2,2,    3.32,2,       0,2,    0.01,2,    0.07,2,   2.569,2,   1.525,2,    1.86,2,  2012.2,2,  2262.4,2,   7.9531,6,    25.03,-999.000,9,-999.0000,9, -999.00,9,  -999.0,9,  -999.0,-999.0000,9,-999.0000,    59.4,2,      8.585,3,-999.000,9, 20150602,     0045,-999.000,  16.7082,2,    34.5612,2,     -999.0,9,     -999.0,-999.0000,     -999.0,     -999.0,9,     -999.0,     -999.0,9,     -999.0,  -999.0,9,     -999.0,     -999.0,9,     -999.0
33RO20150525,     P16N.2,     131,          2,         21,         21,2,20150601,       2242,    31.4996,  -152.0003,       5353,      75,  15.6955,  34.3939,2,  34.3953,2,    250.9,2,   247.8,2,    3.32,2,       0,2,       0,2,    0.08,2,-999.000,9,-999.000,9,-999.000,9,  2016.3,2,  2266.3,2,   7.9481,6,    25.01,-999.000,9,-999.0000,9, -999.00,9,  -999.0,9,  -999.0,-999.0000,9,-999.0000,    57.2,2,     -999.0,9,-999.000,9, 20150602,     0043,-999.000,  15.7027,2,    34.5575,2,     -999.0,9,     -999.0,-999.0000,     -999.0,     -999.0,9,     -999.0,     -999.0,9,     -999.0,  -999.0,9,     -999.0,     -999.0,9,     -999.0
33RO20150525,     P16N.2,     131,          2,         20,         20,2,20150601,       2242,    31.4996,  -152.0003,       5353,    99.8,  14.7396,  34.2621,2,  34.2599,2,    252.6,2,   250.9,2,    3.91,2,     0.2,2,    0.03,2,    0.13,2,   2.767,2,   1.612,2,   1.991,2,  2018.8,2,  2254.3,6,   7.9304,2,    25.01,-999.000,9,-999.0000,9, -999.00,9,  -999.0,9,  -999.0,-999.0000,9,-999.0000,    54.7,2,      9.336,3,-999.000,9, 20150602,     0040,-999.000,  14.7471,2,    34.4215,2,     -999.0,9,     -999.0,-999.0000,     -999.0,     -999.0,9,     -999.0,     -999.0,9,     -999.0,  -999.0,9,     -999.0,     -999.0,9,     -999.0
33RO20150525,     P16N.2,     131,          2,         19,         19,2,20150601,       2242,    31.4996,  -152.0003,       5353,   149.9,  13.7437,  34.3055,2,  34.3035,2,    221.1,2,   225.7,2,    6.06,2,    5.57,2,    0.02,2,    0.45,2,     2.8,2,   1.673,2,   1.852,2,  2050.6,2,  2256.7,2,   7.8699,2,    25.02,-999.000,9,-999.0000,9, -999.00,9,  -999.0,9,  -999.0,-999.0000,9,-999.0000,    50.1,2,     10.991,3,-999.000,9, 20150602,     0038,-999.000,   13.749,2,    34.4652,2,     -999.0,9,     -999.0,-999.0000,     -999.0,     -999.0,9,     -999.0,     -999.0,9,     -999.0,  -999.0,9,     -999.0,     -999.0,9,     -999.0
33RO20150525,     P16N.2,     131,          2,         18,         18,2,20150601,       2242,    31.4996,  -152.0003,       5353,   224.9,  11.9075,   34.231,2,  34.2303,2,    211.2,2,   218.7,2,   11.04,2,   10.85,2,    0.01,2,    0.78,2,   3.052,2,   1.778,2,   1.892,2,  2079.7,2,  2257.6,2,   7.8083,2,    25.03,-999.000,9,-999.0000,9, -999.00,9,  -999.0,9,  -999.0,-999.0000,9,-999.0000,    47.6,2,     14.885,3,-999.000,9, 20150602,     0035,-999.000,   11.907,2,    34.3917,2,     -999.0,9,     -999.0,-999.0000,     -999.0,     -999.0,9,     -999.0,     -999.0,9,     -999.0,  -999.0,9,     -999.0,     -999.0,9,     -999.0
33RO20150525,     P16N.2,     131,          2,         17,         17,2,20150601,       2242,    31.4996,  -152.0003,       5353,   299.9,  10.3672,  34.1401,2,  34.1408,2,    208.9,2,   206.9,2,   16.71,2,   15.15,2,    0.01,2,    1.07,2,   3.283,2,   1.859,2,    1.57,2,  2107.4,2,  2259.2,2,   7.7468,2,       25,-999.000,9,-999.0000,9, -999.00,9,  -999.0,9,  -999.0,-999.0000,9,-999.0000,    45.0,2,     18.259,3,-999.000,9, 20150602,     0031,-999.000,  10.3743,2,    34.3018,2,     -999.0,9,     -999.0,-999.0000,     -999.0,     -999.0,9,     -999.0,     -999.0,9,     -999.0,  -999.0,9,     -999.0,     -999.0,9,     -999.0
33RO20150525,     P16N.2,     131,          2,         16,         16,2,20150601,       2242,    31.4996,  -152.0003,       5353,   399.9,   8.6091,   34.056,2,  34.0531,2,    180.6,2,   180.1,2,   28.05,2,   21.11,2,    0.01,2,    1.48,2,   3.251,2,   1.772,2,   1.175,2,  2150.2,2,    2265,2,   7.6559,2,    25.04,-999.000,9,-999.0000,9, -999.00,9,  -999.0,9,  -999.0,-999.0000,9,-999.0000,    42.6,2,     22.513,3,-999.000,9, 20150602,     0028,-999.000,   8.6358,2,    34.2137,2,     -999.0,9,     -999.0,-999.0000,     -999.0,     -999.0,9,     -999.0,     -999.0,9,     -999.0,  -999.0,9,     -999.0,     -999.0,9,     -999.0
33RO20150525,     P16N.2,     131,          2,         15,         15,2,20150601,       2242,    31.4996,  -152.0003,       5353,   500.1,   6.8045,       34,2,   34.012,4,    130.5,2,  -999.0,9,    47.4,2,   29.22,2,    0.01,2,    2.06,2,   2.675,2,   1.384,2,   0.709,2,  2205.3,2,  2279.3,2,   7.5189,6,    25.01,-999.000,9,-999.0000,9, -999.00,9,  -999.0,9,  -999.0,-999.0000,9,-999.0000,    44.0,2,     28.186,3,-999.000,9, 20150602,     0025,-999.000,   6.8037,2,    34.1724,2,     -999.0,9,     -999.0,-999.0000,     -999.0,     -999.0,9,     -999.0,     -999.0,9,     -999.0,  -999.0,9,     -999.0,     -999.0,9,     -999.0
33RO20150525,     P16N.2,     131,          2,         14,         14,2,20150601,       2242,    31.4996,  -152.0003,       5353,   649.7,   5.0024,  34.0611,2,  34.0629,2,     60.4,2,    59.6,2,   78.28,2,   38.51,2,    0.01,2,    2.72,2,   1.206,6,   0.576,6,   0.195,6,  2289.3,2,  2304.9,2,   7.3543,2,    25.01,-999.000,9,-999.0000,9, -999.00,9,  -999.0,9,  -999.0,-999.0000,9,-999.0000,    40.9,2,     38.387,3,-999.000,9, 20150602,     0021,-999.000,   4.9985,2,    34.2235,2,     -999.0,9,     -999.0,-999.0000,     -999.0,     -999.0,9,     -999.0,     -999.0,9,     -999.0,  -999.0,9,     -999.0,     -999.0,9,     -999.0
33RO20150525,     P16N.2,     131,          2,         13,         13,2,20150601,       2242,    31.4996,  -152.0003,       5353,   800.1,   4.1663,  34.2165,2,  34.2176,2,     17.7,2,    18.5,2,  103.39,2,    42.9,2,       0,2,    3.05,2,   0.203,2,   0.103,2,   0.054,2,  2339.7,6,  2336.2,2,   7.2841,2,    25.03,-999.000,9,-999.0000,9, -999.00,9,  -999.0,9,  -999.0,-999.0000,9,-999.0000,    40.0,2,     47.650,3,-999.000,9, 20150602,     0017,-999.000,   4.1664,2,    34.3789,2,     -999.0,9,     -999.0,-999.0000,     -999.0,     -999.0,9,     -999.0,     -999.0,9,     -999.0,  -999.0,9,     -999.0,     -999.0,9,     -999.0
33RO20150525,     P16N.2,     131,          2,         12,         12,2,20150601,       2242,    31.4996,  -152.0003,       5353,   949.9,   3.7722,  34.3477,2,  34.3469,2,     10.3,2,    10.2,2,  116.86,2,   43.77,2,    0.01,2,    3.13,2,-999.000,9,-999.000,9,-999.000,9,  2363.3,2,  2358.9,2,   7.2872,2,    25.02,-999.000,9,-999.0000,9, -999.00,9,  -999.0,9,  -999.0,-999.0000,9,-999.0000,    38.4,2,     -999.0,9,-999.000,9, 20150602,     0013,-999.000,   3.7739,2,    34.5088,2,     -999.0,9,     -999.0,-999.0000,     -999.0,     -999.0,9,     -999.0,     -999.0,9,     -999.0,  -999.0,9,     -999.0,     -999.0,9,     -999.0
33RO20150525,     P16N.2,     131,          2,         11,         11,2,20150601,       2242,    31.4996,  -152.0003,       5353,  1100.4,   3.4489,  34.4334,2,  34.4324,2,     15.9,2,      16,2,  125.94,2,   43.77,2,       0,2,    3.12,2,   0.011,2,   0.008,2,       0,2,  2370.9,2,  2375.1,2,   7.3066,2,    25.05,-999.000,9,-999.0000,9, -999.00,9,  -999.0,9,  -999.0,-999.0000,9,-999.0000,    38.3,2,     48.549,3,-999.000,9, 20150602,     0009,-999.000,   3.4507,2,    34.5948,6,     -999.0,9,     -999.0,-999.0000,     -999.0,     -999.0,9,     -999.0,     -999.0,9,     -999.0,  -999.0,9,     -999.0,     -999.0,9,     -999.0
33RO20150525,     P16N.2,     131,          2,         10,         10,2,20150601,       2242,    31.4996,  -152.0003,       5353,  1300.4,   3.0537,  34.5039,2,  34.5033,2,       30,2,    30.2,2,  134.63,2,   43.18,2,    0.01,2,    3.05,2,-999.000,9,-999.000,9,-999.000,9,  2374.7,2,  2390.1,2,   7.3432,2,    25.02,-999.000,9,-999.0000,9, -999.00,9,  -999.0,9,  -999.0,-999.0000,9,-999.0000,    37.7,2,     -999.0,9,-999.000,9, 20150602,     0004,-999.000,   3.0544,2,     34.666,2,     -999.0,9,     -999.0,-999.0000,     -999.0,     -999.0,9,     -999.0,     -999.0,9,     -999.0,  -999.0,9,     -999.0,     -999.0,9,     -999.0
33RO20150525,     P16N.2,     131,          2,          9,          9,2,20150601,       2242,    31.4996,  -152.0003,       5353,  1600.3,   2.5404,  34.5646,2,  34.5638,2,     53.1,2,    52.6,2,  145.17,2,   41.91,2,    0.01,2,    2.96,2,-999.000,9,-999.000,9,-999.000,9,  2370.2,2,  2404.4,2,   7.3912,6,    25.01,-999.000,9,-999.0000,9, -999.00,9,  -999.0,9,  -999.0,-999.0000,9,-999.0000,    36.1,2,     -999.0,9,-999.000,9, 20150601,     2357,-999.000,   2.5422,2,    34.7268,2,     -999.0,9,     -999.0,-999.0000,     -999.0,     -999.0,9,     -999.0,     -999.0,9,     -999.0,  -999.0,9,     -999.0,     -999.0,9,     -999.0
33RO20150525,     P16N.2,     131,          2,          8,          8,2,20150601,       2242,    31.4996,  -152.0003,       5353,  2000.9,   2.0298,  34.6123,2,  34.6121,2,     72.7,2,    72.4,2,  159.24,2,   40.74,2,    0.01,2,    2.84,2,-999.000,9,-999.000,9,-999.000,9,  2373.7,2,    2418,2,   7.4303,2,    25.03,-999.000,9,-999.0000,9, -999.00,9,  -999.0,9,  -999.0,-999.0000,9,-999.0000,    36.6,2,     -999.0,9,-999.000,9, 20150601,     2349,-999.000,   2.0308,2,    34.7753,2,     -999.0,9,     -999.0,-999.0000,     -999.0,     -999.0,9,     -999.0,     -999.0,9,     -999.0,  -999.0,9,     -999.0,     -999.0,9,     -999.0
33RO20150525,     P16N.2,     131,          2,          7,          7,2,20150601,       2242,    31.4996,  -152.0003,       5353,  2399.8,     1.75,  34.6416,2,  34.6422,2,     91.9,2,    91.9,2,     165,2,   39.56,2,       0,2,    2.76,2,-999.000,9,-999.000,9,-999.000,9,    2367,2,    2426,2,   7.4693,2,    25.02,-999.000,9,-999.0000,9, -999.00,9,  -999.0,9,  -999.0,-999.0000,9,-999.0000,    37.6,2,     -999.0,9,-999.000,9, 20150601,     2341,-999.000,   1.7499,2,    34.8055,2,     -999.0,9,     -999.0,-999.0000,     -999.0,     -999.0,9,     -999.0,     -999.0,9,     -999.0,  -999.0,9,     -999.0,     -999.0,9,     -999.0
33RO20150525,     P16N.2,     131,          2,          6,          6,2,20150601,       2242,    31.4996,  -152.0003,       5353,  2900.3,   1.5561,  34.6624,2,  34.6695,4,      113,2,   113.3,2,  162.55,2,   38.29,2,       0,2,    2.64,2,-999.000,9,-999.000,9,-999.000,9,  2352.1,2,  2426.6,2,   7.5092,6,       25,-999.000,9,-999.0000,9, -999.00,9,  -999.0,9,  -999.0,-999.0000,9,-999.0000,    37.2,2,     -999.0,9,-999.000,9, 20150601,     2331,-999.000,   1.5562,2,     34.833,2,     -999.0,9,     -999.0,-999.0000,     -999.0,     -999.0,9,     -999.0,     -999.0,9,     -999.0,  -999.0,9,     -999.0,     -999.0,9,     -999.0
33RO20150525,     P16N.2,     131,          2,          5,          5,2,20150601,       2242,    31.4996,  -152.0003,       5353,  3400.2,   1.4759,  34.6763,2,  34.6771,2,    131.4,2,   131.5,2,  157.76,2,   37.12,2,    0.01,2,    2.53,2,-999.000,9,-999.000,9,-999.000,9,  2343.6,3,  2424.2,2,   7.5432,6,    25.02,-999.000,9,-999.0000,9, -999.00,9,  -999.0,9,  -999.0,-999.0000,9,-999.0000,    37.2,2,     -999.0,9,-999.000,9, 20150601,     2322,-999.000,   1.4759,2,    34.8407,2,     -999.0,9,     -999.0,-999.0000,     -999.0,     -999.0,9,     -999.0,     -999.0,9,     -999.0,  -999.0,9,     -999.0,     -999.0,9,     -999.0
33RO20150525,     P16N.2,     131,          2,          4,          4,2,20150601,       2242,    31.4996,  -152.0003,       5353,  3900.9,   1.4606,  34.6839,2,  34.6848,2,    142.7,2,   142.8,2,  153.07,6,   36.34,6,       0,6,    2.49,6,-999.000,9,-999.000,9,-999.000,9,  2334.6,2,  2427.4,2,    7.564,2,    25.01,-999.000,9,-999.0000,9, -999.00,9,  -999.0,9,  -999.0,-999.0000,9,-999.0000,    37.4,2,     -999.0,9,-999.000,9, 20150601,     2312,-999.000,   1.4607,2,    34.8484,2,     -999.0,9,     -999.0,-999.0000,     -999.0,     -999.0,9,     -999.0,     -999.0,9,     -999.0,  -999.0,9,     -999.0,     -999.0,9,     -999.0
33RO20150525,     P16N.2,     131,          2,          3,          3,2,20150601,       2242,    31.4996,  -152.0003,       5353,  4400.1,   1.4853,  34.6875,2,  34.6882,2,    149.3,2,   148.9,2,  149.36,6,   35.85,6,       0,6,    2.45,6,-999.000,9,-999.000,9,-999.000,9,  2328.9,2,  2424.8,6,   7.5734,2,    25.04,-999.000,9,-999.0000,9, -999.00,9,  -999.0,9,  -999.0,-999.0000,9,-999.0000,    37.6,2,     -999.0,9,-999.000,9, 20150601,     2302,-999.000,   1.4854,2,    34.8518,6,     -999.0,9,     -999.0,-999.0000,     -999.0,     -999.0,9,     -999.0,     -999.0,9,     -999.0,  -999.0,9,     -999.0,     -999.0,9,     -999.0
33RO20150525,     P16N.2,     131,          2,          2,          2,2,20150601,       2242,    31.4996,  -152.0003,       5353,  4922.7,   1.5281,  34.6902,2,  34.6909,2,    153.4,2,   153.8,2,  144.48,6,   35.56,6,    0.01,6,    2.43,6,-999.000,9,-999.000,9,-999.000,9,  2322.7,2,  2422.6,2,   7.5827,2,    24.84,-999.000,9,-999.0000,9, -999.00,9,  -999.0,9,  -999.0,-999.0000,9,-999.0000,    39.9,2,     -999.0,9,-999.000,9, 20150601,     2252,-999.000,   1.5283,2,    34.8545,2,     -999.0,9,     -999.0,-999.0000,     -999.0,     -999.0,9,     -999.0,     -999.0,9,     -999.0,  -999.0,9,     -999.0,     -999.0,9,     -999.0
33RO20150525,     P16N.2,     131,          2,          1,          1,2,20150601,       2242,    31.4996,  -152.0003,       5353,    5447,   1.5937,  34.6907,2,  34.6887,2,    155.8,2,   154.8,2,  143.89,6,   35.46,6,    0.01,6,    2.42,6,-999.000,9,-999.000,9,-999.000,9,  2323.2,6,  2422.6,2,   7.5814,2,    25.02,-999.000,9,-999.0000,9, -999.00,9,  -999.0,9,  -999.0,-999.0000,9,-999.0000,    37.8,2,     -999.0,9,-999.000,9, 20150601,     2242,-999.000,   1.5938,2,    34.8523,2,     -999.0,9,     -999.0,-999.0000,     -999.0,     -999.0,9,     -999.0,     -999.0,9,     -999.0,  -999.0,9,     -999.0,     -999.0,9,     -999.0