BOTTLE,20220330CCHSIOCBG
EXPOCODE,SECT_ID,STNNBR,CASTNO,SAMPNO,BTLNBR,BTLNBR_FLAG_W,DATE,TIME,LATITUDE,LONGITUDE,DEPTH,CTDPRS,CTDTMP,CTDSAL,CTDSAL_FLAG_W,SALNTY,SALNTY_FLAG_W,CTDOXY,CTDOXY_FLAG_W,OXYGEN,OXYGEN_FLAG_W,SILCAT,SILCAT_FLAG_W,NITRAT,NITRAT_FLAG_W,NITRIT,NITRIT_FLAG_W,PHSPHT,PHSPHT_FLAG_W,CFC-11,CFC-11_FLAG_W,CFC-12,CFC-12_FLAG_W,SF6,SF6_FLAG_W,TCARBN,TCARBN_FLAG_W,ALKALI,ALKALI_FLAG_W,PH_TOT,PH_TOT_FLAG_W,PH_TMP,TRITUM,TRITUM_FLAG_W,HELIUM,HELIUM_FLAG_W,DELC13,DELC13_FLAG_W,DELC14,DELC14_FLAG_W,C14ERR,NEON,NEON_FLAG_W,NEONER,DOC,DOC_FLAG_W,N2O,N2O_FLAG_W,ARGON,ARGON_FLAG_W,BTL_DATE,BTL_TIME,TRITER,SBE35,SBE35_FLAG_W,SALTREF,SALTREF_FLAG_W,DELHE3,DELHE3_FLAG_W,DELHER,HELIER,ARGONER,KRYPTON,KRYPTON_FLAG_W,KRYPTONER,XENON,XENON_FLAG_W,XENONER,14C-DOC,14C-DOC_FLAG_W,14C-DOCERR,13C-DOC,13C-DOC_FLAG_W,13C-DOCERR
,,,,,,,,,,,METERS,DBAR,ITS-90,PSS-78,,PSS-78,,UMOL/KG,,UMOL/KG,,UMOL/KG,,UMOL/KG,,UMOL/KG,,UMOL/KG,,PMOL/KG,,PMOL/KG,,FMOL/KG,,UMOL/KG,,UMOL/KG,,,,DEG C,TU,,NMOL/KG,,/MILLE,,/MILLE,,/MILLE,NMOL/KG,,NMOL/KG,UMOL/KG,,NMOL/KG,,UMOL/KG,,,,TU,ITS-90,,G/KG,,PERCNT,,PERCNT,NMOL/KG,UMOL/KG,NMOL/KG,,NMOL/KG,NMOL/KG,,NMOL/KG,/MILLE,,/MILLE,/MILLE,,/MILLE
33RO20150525,     P16N.2,     191,          4,         24,         24,2,20150619,       1051,    54.0705,  -151.1125,       4312,       3,    9.299,  32.5027,2,  32.5058,2,    295.9,2,   296.1,2,   27.99,2,   11.94,2,    0.16,2,    1.22,2,   3.898,6,   2.215,6,   2.597,6,  2026.9,6,  2193.2,2,   7.8124,2,    25.04,-999.000,9,-999.0000,9,    1.25,2,   -29.7,2,     2.1,-999.0000,9,-999.0000,    57.4,2,     12.276,3,-999.000,9, 20150619,     1234,-999.000,   9.3012,2,    32.6591,2,     -999.0,9,     -999.0,-999.0000,     -999.0,     -999.0,9,     -999.0,     -999.0,9,     -999.0,  -999.0,9,     -999.0,     -999.0,9,     -999.0
33RO20150525,     P16N.2,     191,          4,         23,         23,2,20150619,       1051,    54.0705,  -151.1125,       4312,    33.1,    6.368,  32.5667,2,  32.5683,2,    306.1,2,   305.3,2,   31.12,2,   16.44,2,    0.15,2,    1.49,2,   4.404,2,    2.46,2,   2.781,2,  2062.7,2,  2195.2,2,   7.7268,6,    25.07,-999.000,9,-999.0000,9, -999.00,9,  -999.0,9,  -999.0,-999.0000,9,-999.0000,    53.8,2,     14.015,3,-999.000,9, 20150619,     1231,-999.000,   6.3755,2,    32.7218,2,     -999.0,9,     -999.0,-999.0000,     -999.0,     -999.0,9,     -999.0,     -999.0,9,     -999.0,  -999.0,9,     -999.0,     -999.0,9,     -999.0
33RO20150525,     P16N.2,     191,          4,         22,         22,2,20150619,       1051,    54.0705,  -151.1125,       4312,    57.5,   5.6148,   32.673,2,   32.695,2,    282.2,2,   278.5,2,   35.03,2,   19.57,2,    0.23,2,    1.67,2,   4.267,2,   2.364,2,   2.652,2,  2093.2,2,  2203.2,6,   7.6649,6,    25.07,-999.000,9,-999.0000,9, -999.00,9,  -999.0,9,  -999.0,-999.0000,9,-999.0000,    53.7,2,     16.625,3,-999.000,9, 20150619,     1229,-999.000,   5.5941,2,    32.8492,2,     -999.0,9,     -999.0,-999.0000,     -999.0,     -999.0,9,     -999.0,     -999.0,9,     -999.0,  -999.0,9,     -999.0,     -999.0,9,     -999.0
33RO20150525,     P16N.2,     191,          4,         21,         21,2,20150619,       1051,    54.0705,  -151.1125,       4312,    83.2,   4.2603,   33.488,2,   33.503,2,     99.3,2,   114.5,2,   64.94,2,   36.97,2,    0.04,2,    2.65,2,   3.342,2,   1.774,2,   1.465,2,  2251.7,2,  2258.9,2,   7.3373,2,    25.08,-999.000,9,-999.0000,9, -999.00,9,  -999.0,9,  -999.0,-999.0000,9,-999.0000,    49.7,2,     33.061,3,-999.000,9, 20150619,     1227,-999.000,   4.2522,2,     33.661,2,     -999.0,9,     -999.0,-999.0000,     -999.0,     -999.0,9,     -999.0,     -999.0,9,     -999.0,  -999.0,9,     -999.0,     -999.0,9,     -999.0
33RO20150525,     P16N.2,     191,          4,         20,         20,2,20150619,       1051,    54.0705,  -151.1125,       4312,   107.4,   3.9924,  33.7543,2,  33.7528,2,     61.2,2,    62.4,2,   76.76,2,   41.75,2,    0.03,2,    2.93,2,   2.839,2,   1.484,2,   0.997,2,  2299.1,2,  2279.1,2,   7.2474,2,    25.08,-999.000,9,-999.0000,9, -999.00,9,  -999.0,9,  -999.0,-999.0000,9,-999.0000,    45.4,2,     39.448,3,-999.000,9, 20150619,     1226,-999.000,   3.9921,2,    33.9119,2,     -999.0,9,     -999.0,-999.0000,     -999.0,     -999.0,9,     -999.0,     -999.0,9,     -999.0,  -999.0,9,     -999.0,     -999.0,9,     -999.0
33RO20150525,     P16N.2,     191,          4,         19,         19,2,20150619,       1051,    54.0705,  -151.1125,       4312,   141.3,   3.8752,  33.8524,2,  33.8528,2,     41.6,2,    41.5,2,   84.48,2,   43.51,2,    0.02,2,    3.04,2,   2.478,2,   1.266,2,   0.787,2,  2318.6,2,  2290.1,2,   7.2192,2,    25.08,-999.000,9,-999.0000,9, -999.00,9,  -999.0,9,  -999.0,-999.0000,9,-999.0000,    45.0,2,     42.938,3,-999.000,9, 20150619,     1224,-999.000,   3.8752,2,    34.0124,2,     -999.0,9,     -999.0,-999.0000,     -999.0,     -999.0,9,     -999.0,     -999.0,9,     -999.0,  -999.0,9,     -999.0,     -999.0,9,     -999.0
33RO20150525,     P16N.2,     191,          4,         18,         18,2,20150619,       1051,    54.0705,  -151.1125,       4312,   200.4,   3.8886,  33.9502,2,  33.9483,2,     21.9,2,    20.9,2,   92.49,2,   44.78,2,    0.03,2,    3.11,2,   1.986,2,   0.998,2,   0.523,2,  2336.1,2,  2300.1,2,   7.2008,2,    25.09,-999.000,9,-999.0000,9, -999.00,9,  -999.0,9,  -999.0,-999.0000,9,-999.0000,    42.5,2,     46.310,3,-999.000,9, 20150619,     1221,-999.000,   3.8884,2,    34.1084,2,     -999.0,9,     -999.0,-999.0000,     -999.0,     -999.0,9,     -999.0,     -999.0,9,     -999.0,  -999.0,9,     -999.0,     -999.0,9,     -999.0
33RO20150525,     P16N.2,     191,          4,         17,         17,2,20150619,       1051,    54.0705,  -151.1125,       4312,     275,   3.8181,  34.0476,2,  34.0494,2,     18.4,2,    17.4,2,  101.67,2,   44.48,2,    0.01,2,    3.11,2,   1.429,2,   0.696,2,   0.333,2,  2343.5,2,  2315.9,2,   7.2239,2,    25.02,-999.000,9,-999.0000,9, -999.00,9,  -999.0,9,  -999.0,-999.0000,9,-999.0000,    44.2,2,     46.004,3,-999.000,9, 20150619,     1219,-999.000,   3.8179,2,      34.21,2,     -999.0,9,     -999.0,-999.0000,     -999.0,     -999.0,9,     -999.0,     -999.0,9,     -999.0,  -999.0,9,     -999.0,     -999.0,9,     -999.0
33RO20150525,     P16N.2,     191,          4,         16,         16,2,20150619,       1051,    54.0705,  -151.1125,       4312,   349.7,   3.7479,  34.1229,2,  34.1202,2,     16.7,2,    16.4,2,  108.71,2,   44.19,2,    0.01,2,    3.06,2,   1.011,2,    0.49,2,     0.2,2,  2348.8,2,  2326.6,2,   7.2405,2,    25.09,-999.000,9,-999.0000,9, -999.00,9,  -999.0,9,  -999.0,-999.0000,9,-999.0000,    43.1,2,     46.544,3,-999.000,9, 20150619,     1216,-999.000,   3.7479,2,    34.2811,2,     -999.0,9,     -999.0,-999.0000,     -999.0,     -999.0,9,     -999.0,     -999.0,9,     -999.0,  -999.0,9,     -999.0,     -999.0,9,     -999.0
33RO20150525,     P16N.2,     191,          4,         15,         15,2,20150619,       1051,    54.0705,  -151.1125,       4312,   433.1,   3.6559,  34.1788,2,  34.1766,2,     15.4,2,    14.8,2,  114.18,2,   43.99,2,       0,2,    3.07,2,   0.726,2,    0.35,2,   0.142,2,  2356.1,2,  2337.1,2,   7.2514,2,    25.04,-999.000,9,-999.0000,9, -999.00,9,  -999.0,9,  -999.0,-999.0000,9,-999.0000,    40.6,2,     47.797,3,-999.000,9, 20150619,     1214,-999.000,   3.6587,2,    34.3378,6,     -999.0,9,     -999.0,-999.0000,     -999.0,     -999.0,9,     -999.0,     -999.0,9,     -999.0,  -999.0,9,     -999.0,     -999.0,9,     -999.0
33RO20150525,     P16N.2,     191,          4,         14,         14,2,20150619,       1051,    54.0705,  -151.1125,       4312,     550,   3.4317,  34.2527,2,  34.2543,2,     14.4,2,    14.3,2,  123.55,2,   43.89,2,       0,2,    3.08,2,   0.418,6,   0.201,6,   0.084,6,  2362.5,6,  2351.6,2,   7.2651,6,    25.08,-999.000,9,-999.0000,9, -999.00,9,  -999.0,9,  -999.0,-999.0000,9,-999.0000,    39.7,2,     48.708,3,-999.000,9, 20150619,     1211,-999.000,   3.4318,2,    34.4158,2,     -999.0,9,     -999.0,-999.0000,     -999.0,     -999.0,9,     -999.0,     -999.0,9,     -999.0,  -999.0,9,     -999.0,     -999.0,9,     -999.0
33RO20150525,     P16N.2,     191,          4,         13,         13,2,20150619,       1051,    54.0705,  -151.1125,       4312,   700.1,   3.1886,  34.3175,2,  34.3159,2,       14,2,    13.9,2,  132.15,2,   43.98,2,       0,2,     3.1,2,   0.223,2,   0.107,2,   0.069,2,    2372,2,  2363.9,2,   7.2751,3,    25.04,-999.000,9,-999.0000,9, -999.00,9,  -999.0,9,  -999.0,-999.0000,9,-999.0000,    39.1,2,     48.690,3,-999.000,9, 20150619,     1207,-999.000,   3.1885,2,    34.4777,2,     -999.0,9,     -999.0,-999.0000,     -999.0,     -999.0,9,     -999.0,     -999.0,9,     -999.0,  -999.0,9,     -999.0,     -999.0,9,     -999.0
33RO20150525,     P16N.2,     191,          4,         12,         12,2,20150619,       1051,    54.0705,  -151.1125,       4312,   849.9,   2.9367,  34.3718,2,  34.3716,2,     15.3,2,    14.9,2,  140.26,2,   44.08,2,       0,2,     3.1,2,   0.124,2,   0.061,2,       0,2,  2381.6,2,    2374,2,   7.2827,2,    25.07,-999.000,9,-999.0000,9, -999.00,9,  -999.0,9,  -999.0,-999.0000,9,-999.0000,    39.1,2,     47.927,3,-999.000,9, 20150619,     1203,-999.000,   2.9365,2,    34.5337,2,     -999.0,9,     -999.0,-999.0000,     -999.0,     -999.0,9,     -999.0,     -999.0,9,     -999.0,  -999.0,9,     -999.0,     -999.0,9,     -999.0
33RO20150525,     P16N.2,     191,          4,         11,         11,2,20150619,       1051,    54.0705,  -151.1125,       4312,    1000,   2.7162,  34.4165,2,  34.4152,2,     17.1,2,    16.9,2,   146.8,2,   43.88,2,       0,2,    3.09,2,    0.08,2,    0.04,2,       0,2,  2386.9,2,    2383,2,   7.2916,2,    25.08,-999.000,9,-999.0000,9, -999.00,9,  -999.0,9,  -999.0,-999.0000,9,-999.0000,    39.3,2,     46.840,3,-999.000,9, 20150619,     1159,-999.000,   2.7166,2,    34.5775,2,     -999.0,9,     -999.0,-999.0000,     -999.0,     -999.0,9,     -999.0,     -999.0,9,     -999.0,  -999.0,9,     -999.0,     -999.0,9,     -999.0
33RO20150525,     P16N.2,     191,          4,         10,         10,2,20150619,       1051,    54.0705,  -151.1125,       4312,  1167.4,   2.5189,  34.4583,2,  34.4588,2,       21,2,    21.2,2,  152.95,2,   43.78,2,       0,2,    3.07,2,   0.045,2,   0.023,2,       0,2,  2389.4,2,  2390.7,2,   7.3042,2,    25.03,-999.000,9,-999.0000,9, -999.00,9,  -999.0,9,  -999.0,-999.0000,9,-999.0000,    39.1,2,     45.352,3,-999.000,9, 20150619,     1155,-999.000,   2.5204,2,    34.6213,2,     -999.0,9,     -999.0,-999.0000,     -999.0,     -999.0,9,     -999.0,     -999.0,9,     -999.0,  -999.0,9,     -999.0,     -999.0,9,     -999.0
33RO20150525,     P16N.2,     191,          4,          9,          9,2,20150619,       1051,    54.0705,  -151.1125,       4312,  1400.6,   2.2643,  34.5129,2,  34.5134,2,     27.9,2,    29.4,2,  159.98,2,   43.49,2,    0.01,2,    3.03,2,   0.018,2,   0.009,2,       0,2,  2392.8,2,  2400.7,2,   7.3246,2,     25.1,-999.000,9,-999.0000,9, -999.00,9,  -999.0,9,  -999.0,-999.0000,9,-999.0000,    37.0,2,     42.841,3,-999.000,9, 20150619,     1150,-999.000,   2.2639,2,    34.6761,2,     -999.0,9,     -999.0,-999.0000,     -999.0,     -999.0,9,     -999.0,     -999.0,9,     -999.0,  -999.0,9,     -999.0,     -999.0,9,     -999.0
33RO20150525,     P16N.2,     191,          4,          8,          8,2,20150619,       1051,    54.0705,  -151.1125,       4312,  1733.5,   2.0157,  34.5675,2,  34.5699,2,     44.6,2,    44.4,2,  165.06,2,   42.61,2,       0,2,    2.96,2,   0.002,2,   0.002,2,       0,2,  2389.2,2,  2411.1,2,   7.3614,2,    25.04,-999.000,9,-999.0000,9, -999.00,9,  -999.0,9,  -999.0,-999.0000,9,-999.0000,    37.8,2,     38.760,3,-999.000,9, 20150619,     1144,-999.000,   2.0156,2,    34.7329,2,     -999.0,9,     -999.0,-999.0000,     -999.0,     -999.0,9,     -999.0,     -999.0,9,     -999.0,  -999.0,9,     -999.0,     -999.0,9,     -999.0
33RO20150525,     P16N.2,     191,          4,          7,          7,2,20150619,       1051,    54.0705,  -151.1125,       4312,  2132.8,   1.8068,  34.6088,2,  34.6092,2,       69,2,    69.4,2,   167.1,2,   41.04,2,       0,2,    2.86,2,   0.002,2,   0.001,2,       0,2,  2377.7,2,  2416.4,2,    7.412,2,    25.09,-999.000,9,-999.0000,9, -999.00,9,  -999.0,9,  -999.0,-999.0000,9,-999.0000,    37.3,2,     32.911,3,-999.000,9, 20150619,     1136,-999.000,   1.8069,2,    34.7724,2,     -999.0,9,     -999.0,-999.0000,     -999.0,     -999.0,9,     -999.0,     -999.0,9,     -999.0,  -999.0,9,     -999.0,     -999.0,9,     -999.0
33RO20150525,     P16N.2,     191,          4,          6,          6,2,20150619,       1051,    54.0705,  -151.1125,       4312,    2533,   1.6849,  34.6334,2,  34.6367,2,     87.4,2,    87.5,2,  166.91,2,   39.87,2,       0,2,    2.77,2,   0.002,6,   0.002,6,       0,6,  2369.1,2,  2419.5,2,   7.4508,6,    25.08,-999.000,9,-999.0000,9, -999.00,9,  -999.0,9,  -999.0,-999.0000,9,-999.0000,    37.6,2,     29.592,3,-999.000,9, 20150619,     1128,-999.000,   1.6848,2,       34.8,2,     -999.0,9,     -999.0,-999.0000,     -999.0,     -999.0,9,     -999.0,     -999.0,9,     -999.0,  -999.0,9,     -999.0,     -999.0,9,     -999.0
33RO20150525,     P16N.2,     191,          4,          5,          5,2,20150619,       1051,    54.0705,  -151.1125,       4312,  2929.6,   1.5785,  34.6544,2,  34.6585,2,    107.4,2,   107.4,2,  164.36,2,    38.6,2,       0,2,    2.68,2,   0.001,2,   0.001,2,       0,2,    2357,2,  2422.3,2,   7.4891,2,    25.08,-999.000,9,-999.0000,9, -999.00,9,  -999.0,9,  -999.0,-999.0000,9,-999.0000,    36.0,2,     26.786,3,-999.000,9, 20150619,     1120,-999.000,   1.5786,2,     34.822,2,     -999.0,9,     -999.0,-999.0000,     -999.0,     -999.0,9,     -999.0,     -999.0,9,     -999.0,  -999.0,9,     -999.0,     -999.0,9,     -999.0
33RO20150525,     P16N.2,     191,          4,          4,          4,2,20150619,       1051,    54.0705,  -151.1125,       4312,  3232.8,   1.5243,  34.6659,2,  34.6662,2,      120,2,   120.3,2,   162.5,6,   37.82,6,       0,6,    2.61,6,   0.002,2,   0.002,2,       0,2,  2349.2,2,  2423.6,2,    7.515,2,    25.08,-999.000,9,-999.0000,9, -999.00,9,  -999.0,9,  -999.0,-999.0000,9,-999.0000,    38.9,2,     25.085,3,-999.000,9, 20150619,     1114,-999.000,   1.5243,2,    34.8297,2,     -999.0,9,     -999.0,-999.0000,     -999.0,     -999.0,9,     -999.0,     -999.0,9,     -999.0,  -999.0,9,     -999.0,     -999.0,9,     -999.0
33RO20150525,     P16N.2,     191,          4,          3,          3,2,20150619,       1051,    54.0705,  -151.1125,       4312,  3732.7,   1.4972,  34.6765,2,  34.6767,2,    132.6,2,   132.5,2,  161.23,6,   37.03,6,       0,6,    2.55,6,   0.002,2,   0.003,2,       0,2,  2340.9,2,  2423.7,6,   7.5389,2,    25.08,-999.000,9,-999.0000,9, -999.00,9,  -999.0,9,  -999.0,-999.0000,9,-999.0000,    37.6,2,     23.925,3,-999.000,9, 20150619,     1105,-999.000,   1.4975,2,    34.8402,2,     -999.0,9,     -999.0,-999.0000,     -999.0,     -999.0,9,     -999.0,     -999.0,9,     -999.0,  -999.0,9,     -999.0,     -999.0,9,     -999.0
33RO20150525,     P16N.2,     191,          4,          2,          2,2,20150619,       1051,    54.0705,  -151.1125,       4312,  4062.6,   1.5074,    34.68,2,  34.6892,4,    136.1,2,   136.4,2,  160.65,6,   36.74,6,       0,6,    2.54,6,   0.002,2,   0.004,2,       0,2,  2338.3,2,  2424.8,2,   7.5474,6,    25.09,-999.000,9,-999.0000,9, -999.00,9,  -999.0,9,  -999.0,-999.0000,9,-999.0000,    38.2,2,     23.319,3,-999.000,9, 20150619,     1058,-999.000,   1.5072,2,    34.8528,2,     -999.0,9,     -999.0,-999.0000,     -999.0,     -999.0,9,     -999.0,     -999.0,9,     -999.0,  -999.0,9,     -999.0,     -999.0,9,     -999.0
33RO20150525,     P16N.2,     191,          4,          1,          1,2,20150619,       1051,    54.0705,  -151.1125,       4312,  4382.2,   1.5189,   34.684,2,  34.6843,2,      141,2,   140.3,2,  160.74,6,   36.45,6,       0,6,    2.52,6,   0.004,2,   0.004,2,   0.007,3,    2337,6,  2425.8,2,    7.556,2,    25.07,-999.000,9,-999.0000,9, -999.00,9,  -999.0,9,  -999.0,-999.0000,9,-999.0000,    37.3,2,     22.540,3,-999.000,9, 20150619,     1051,-999.000,   1.5186,2,    34.8478,2,     -999.0,9,     -999.0,-999.0000,     -999.0,     -999.0,9,     -999.0,     -999.0,9,     -999.0,  -999.0,9,     -999.0,     -999.0,9,     -999.0