BOTTLE,20220330CCHSIOCBG
EXPOCODE,SECT_ID,STNNBR,CASTNO,SAMPNO,BTLNBR,BTLNBR_FLAG_W,DATE,TIME,LATITUDE,LONGITUDE,DEPTH,CTDPRS,CTDTMP,CTDSAL,CTDSAL_FLAG_W,SALNTY,SALNTY_FLAG_W,CTDOXY,CTDOXY_FLAG_W,OXYGEN,OXYGEN_FLAG_W,SILCAT,SILCAT_FLAG_W,NITRAT,NITRAT_FLAG_W,NITRIT,NITRIT_FLAG_W,PHSPHT,PHSPHT_FLAG_W,CFC-11,CFC-11_FLAG_W,CFC-12,CFC-12_FLAG_W,SF6,SF6_FLAG_W,TCARBN,TCARBN_FLAG_W,ALKALI,ALKALI_FLAG_W,PH_TOT,PH_TOT_FLAG_W,PH_TMP,TRITUM,TRITUM_FLAG_W,HELIUM,HELIUM_FLAG_W,DELC13,DELC13_FLAG_W,DELC14,DELC14_FLAG_W,C14ERR,NEON,NEON_FLAG_W,NEONER,DOC,DOC_FLAG_W,N2O,N2O_FLAG_W,ARGON,ARGON_FLAG_W,BTL_DATE,BTL_TIME,TRITER,SBE35,SBE35_FLAG_W,SALTREF,SALTREF_FLAG_W,DELHE3,DELHE3_FLAG_W,DELHER,HELIER,ARGONER,KRYPTON,KRYPTON_FLAG_W,KRYPTONER,XENON,XENON_FLAG_W,XENONER,14C-DOC,14C-DOC_FLAG_W,14C-DOCERR,13C-DOC,13C-DOC_FLAG_W,13C-DOCERR
,,,,,,,,,,,METERS,DBAR,ITS-90,PSS-78,,PSS-78,,UMOL/KG,,UMOL/KG,,UMOL/KG,,UMOL/KG,,UMOL/KG,,UMOL/KG,,PMOL/KG,,PMOL/KG,,FMOL/KG,,UMOL/KG,,UMOL/KG,,,,DEG C,TU,,NMOL/KG,,/MILLE,,/MILLE,,/MILLE,NMOL/KG,,NMOL/KG,UMOL/KG,,NMOL/KG,,UMOL/KG,,,,TU,ITS-90,,G/KG,,PERCNT,,PERCNT,NMOL/KG,UMOL/KG,NMOL/KG,,NMOL/KG,NMOL/KG,,NMOL/KG,/MILLE,,/MILLE,/MILLE,,/MILLE
33RO20150525,     P16N.2,     160,          1,         24,         24,2,20150611,       0342,    46.0002,  -151.9999,       5343,     3.2,  10.4273,  32.8598,2,  32.8594,2,    287.5,2,   288.8,2,    13.9,2,    9.49,2,     0.1,2,       1,2,   3.866,3,   2.092,6,   2.466,6,    2042,6,  2205.5,2,   7.8104,2,    24.99,-999.000,9,-999.0000,9, -999.00,9,  -999.0,9,  -999.0,-999.0000,9,-999.0000,  -999.0,9,     11.041,3,-999.000,9, 20150611,     0548,-999.000,  10.4253,2,    33.0143,2,     -999.0,9,     -999.0,-999.0000,     -999.0,     -999.0,9,     -999.0,     -999.0,9,     -999.0,  -999.0,9,     -999.0,     -999.0,9,     -999.0
33RO20150525,     P16N.2,     160,          1,         23,         23,2,20150611,       0342,    46.0002,  -151.9999,       5343,    19.5,  10.1243,  32.8869,2,  32.8874,2,    289.3,2,   291.3,2,    13.6,2,     9.3,2,    0.09,2,    0.99,2,   3.896,3,   2.119,2,   2.483,2,  2042.1,2,  2210.5,2,   7.8105,2,    25.03,-999.000,9,-999.0000,9, -999.00,9,  -999.0,9,  -999.0,-999.0000,9,-999.0000,  -999.0,9,     11.128,3,-999.000,9, 20150611,     0546,-999.000,  10.1159,2,    33.0425,2,     -999.0,9,     -999.0,-999.0000,     -999.0,     -999.0,9,     -999.0,     -999.0,9,     -999.0,  -999.0,9,     -999.0,     -999.0,9,     -999.0
33RO20150525,     P16N.2,     160,          1,         22,         22,2,20150611,       0342,    46.0002,  -151.9999,       5343,    41.9,   7.5478,  32.9251,2,  32.9173,2,    301.5,2,   304.5,2,   14.58,2,   10.47,2,    0.08,2,    1.06,2,   4.268,2,   2.315,2,   2.665,2,  2053.2,2,  2210.6,6,   7.7898,2,    25.01,-999.000,9,-999.0000,9, -999.00,9,  -999.0,9,  -999.0,-999.0000,9,-999.0000,  -999.0,9,     11.892,3,-999.000,9, 20150611,     0544,-999.000,   7.5085,3,    33.0725,2,     -999.0,9,     -999.0,-999.0000,     -999.0,     -999.0,9,     -999.0,     -999.0,9,     -999.0,  -999.0,9,     -999.0,     -999.0,9,     -999.0
33RO20150525,     P16N.2,     160,          1,         21,         21,2,20150611,       0342,    46.0002,  -151.9999,       5343,    65.7,   6.7989,  32.8788,2,  32.8789,2,    300.5,2,   300.8,2,   17.03,2,   12.33,2,    0.11,2,     1.2,2,   4.411,2,   2.366,2,   2.671,2,  2062.8,2,  2209.4,2,    7.762,2,    25.02,-999.000,9,-999.0000,9, -999.00,9,  -999.0,9,  -999.0,-999.0000,9,-999.0000,  -999.0,9,     12.204,3,-999.000,9, 20150611,     0542,-999.000,   6.7879,2,     33.034,2,     -999.0,9,     -999.0,-999.0000,     -999.0,     -999.0,9,     -999.0,     -999.0,9,     -999.0,  -999.0,9,     -999.0,     -999.0,9,     -999.0
33RO20150525,     P16N.2,     160,          1,         20,         20,2,20150611,       0342,    46.0002,  -151.9999,       5343,    91.6,   7.3762,  33.6342,2,   33.612,2,    254.7,2,   253.3,2,   20.83,2,   15.94,2,    0.02,2,    1.26,2,   4.033,2,   2.181,2,   2.391,2,  2109.2,2,  2243.3,2,   7.7148,2,    25.01,-999.000,9,-999.0000,9, -999.00,9,  -999.0,9,  -999.0,-999.0000,9,-999.0000,  -999.0,9,     14.094,3,-999.000,9, 20150611,     0540,-999.000,   7.3802,3,    33.7705,2,     -999.0,9,     -999.0,-999.0000,     -999.0,     -999.0,9,     -999.0,     -999.0,9,     -999.0,  -999.0,9,     -999.0,     -999.0,9,     -999.0
33RO20150525,     P16N.2,     160,          1,         19,         19,2,20150611,       0342,    46.0002,  -151.9999,       5343,   133.1,   7.1149,  33.8614,2,   33.867,2,    221.5,2,   218.8,2,    31.3,2,   20.34,2,    0.01,2,    1.49,2,   3.726,2,   2.028,2,   1.953,2,    2148,2,  2261.9,2,   7.6565,2,       25,-999.000,9,-999.0000,9, -999.00,9,  -999.0,9,  -999.0,-999.0000,9,-999.0000,  -999.0,9,     19.128,3,-999.000,9, 20150611,     0538,-999.000,   7.1131,2,    34.0267,2,     -999.0,9,     -999.0,-999.0000,     -999.0,     -999.0,9,     -999.0,     -999.0,9,     -999.0,  -999.0,9,     -999.0,     -999.0,9,     -999.0
33RO20150525,     P16N.2,     160,          1,         18,         18,2,20150611,       0342,    46.0002,  -151.9999,       5343,     200,   6.0616,  33.8678,2,  33.8664,2,    164.3,2,   168.2,2,   47.73,2,   26.89,2,    0.01,2,    1.94,2,   3.412,2,   1.766,2,   1.398,2,  2199.3,2,  2273.6,2,   7.5469,2,    25.01,-999.000,9,-999.0000,9, -999.00,9,  -999.0,9,  -999.0,-999.0000,9,-999.0000,  -999.0,9,     25.716,3,-999.000,9, 20150611,     0535,-999.000,   6.0619,2,    34.0261,2,     -999.0,9,     -999.0,-999.0000,     -999.0,     -999.0,9,     -999.0,     -999.0,9,     -999.0,  -999.0,9,     -999.0,     -999.0,9,     -999.0
33RO20150525,     P16N.2,     160,          1,         17,         17,2,20150611,       0342,    46.0002,  -151.9999,       5343,   274.5,   5.1528,  33.8768,2,   33.874,2,    129.1,2,   129.5,2,   62.69,2,   32.18,2,    0.01,2,     2.3,2,   2.997,2,   1.555,2,   1.062,2,  2238.9,2,  2284.2,2,   7.4498,6,       25,-999.000,9,-999.0000,9, -999.00,9,  -999.0,9,  -999.0,-999.0000,9,-999.0000,  -999.0,9,     29.532,3,-999.000,9, 20150611,     0532,-999.000,   5.1439,2,    34.0337,2,     -999.0,9,     -999.0,-999.0000,     -999.0,     -999.0,9,     -999.0,     -999.0,9,     -999.0,  -999.0,9,     -999.0,     -999.0,9,     -999.0
33RO20150525,     P16N.2,     160,          1,         16,         16,2,20150611,       0342,    46.0002,  -151.9999,       5343,   367.2,   4.5073,  33.9455,2,  33.9437,2,     88.9,2,    89.2,2,   78.63,2,   36.87,2,    0.01,2,    2.61,2,   2.377,6,   1.203,6,   0.778,6,  2278.9,2,  2298.1,2,   7.3689,2,    24.98,-999.000,9,-999.0000,9, -999.00,9,  -999.0,9,  -999.0,-999.0000,9,-999.0000,  -999.0,9,     34.333,3,-999.000,9, 20150611,     0529,-999.000,    4.506,2,    34.1038,2,     -999.0,9,     -999.0,-999.0000,     -999.0,     -999.0,9,     -999.0,     -999.0,9,     -999.0,  -999.0,9,     -999.0,     -999.0,9,     -999.0
33RO20150525,     P16N.2,     160,          1,         15,         15,2,20150611,       0342,    46.0002,  -151.9999,       5343,   466.8,   4.1355,  34.0342,2,  34.0356,2,     59.4,2,    59.8,2,    92.9,2,    39.7,2,    0.01,2,    2.81,2,   1.729,2,   0.858,2,   0.478,2,  2309.5,2,  2313.2,2,   7.3209,6,       25,-999.000,9,-999.0000,9, -999.00,9,  -999.0,9,  -999.0,-999.0000,9,-999.0000,  -999.0,9,     38.858,3,-999.000,9, 20150611,     0526,-999.000,   4.1346,2,    34.1961,2,     -999.0,9,     -999.0,-999.0000,     -999.0,     -999.0,9,     -999.0,     -999.0,9,     -999.0,  -999.0,9,     -999.0,     -999.0,9,     -999.0
33RO20150525,     P16N.2,     160,          1,         14,         14,2,20150611,       0342,    46.0002,  -151.9999,       5343,   600.5,   3.8033,   34.161,2,  34.1797,2,     36.2,2,    36.2,2,  109.31,2,   41.56,2,       0,2,    2.93,2,   0.971,2,   0.474,2,   0.223,2,  2339.3,2,  2334.6,2,   7.2977,2,    25.01,-999.000,9,-999.0000,9, -999.00,9,  -999.0,9,  -999.0,-999.0000,9,-999.0000,  -999.0,9,     43.090,3,-999.000,9, 20150611,     0522,-999.000,   3.8019,2,    34.3409,2,     -999.0,9,     -999.0,-999.0000,     -999.0,     -999.0,9,     -999.0,     -999.0,9,     -999.0,  -999.0,9,     -999.0,     -999.0,9,     -999.0
33RO20150525,     P16N.2,     160,          1,         13,         13,2,20150611,       0342,    46.0002,  -151.9999,       5343,   749.4,   3.4989,  34.2605,2,  34.2581,2,     27.3,2,    26.6,2,  122.02,2,   42.43,2,       0,2,    2.99,2,   0.483,2,   0.231,2,    0.11,2,  2355.6,2,  2351.9,2,    7.296,2,    25.01,-999.000,9,-999.0000,9, -999.00,9,  -999.0,9,  -999.0,-999.0000,9,-999.0000,  -999.0,9,     44.894,3,-999.000,9, 20150611,     0518,-999.000,   3.4985,2,    34.4197,2,     -999.0,9,     -999.0,-999.0000,     -999.0,     -999.0,9,     -999.0,     -999.0,9,     -999.0,  -999.0,9,     -999.0,     -999.0,9,     -999.0
33RO20150525,     P16N.2,     160,          1,         12,         12,2,20150611,       0342,    46.0002,  -151.9999,       5343,   901.5,    3.176,   34.332,2,  34.3299,2,     22.5,2,    22.3,2,  133.06,2,   43.02,2,       0,2,    3.03,2,   0.234,2,   0.111,2,       0,2,  2368.9,2,  2366.2,2,   7.2963,2,    25.01,-999.000,9,-999.0000,9, -999.00,9,  -999.0,9,  -999.0,-999.0000,9,-999.0000,  -999.0,9,     46.039,3,-999.000,9, 20150611,     0514,-999.000,   3.1764,2,    34.4918,2,     -999.0,9,     -999.0,-999.0000,     -999.0,     -999.0,9,     -999.0,     -999.0,9,     -999.0,  -999.0,9,     -999.0,     -999.0,9,     -999.0
33RO20150525,     P16N.2,     160,          1,         11,         11,2,20150611,       0342,    46.0002,  -151.9999,       5343,  1050.4,   2.8941,  34.3879,2,  34.3878,2,     17.9,2,    17.3,2,  142.53,2,    43.7,2,       0,2,    3.07,2,   0.094,2,   0.045,2,       0,2,  2382.5,2,  2378.4,2,    7.294,2,    25.03,-999.000,9,-999.0000,9, -999.00,9,  -999.0,9,  -999.0,-999.0000,9,-999.0000,  -999.0,9,     47.472,3,-999.000,9, 20150611,     0510,-999.000,    2.894,2,      34.55,2,     -999.0,9,     -999.0,-999.0000,     -999.0,     -999.0,9,     -999.0,     -999.0,9,     -999.0,  -999.0,9,     -999.0,     -999.0,9,     -999.0
33RO20150525,     P16N.2,     160,          1,         10,         10,2,20150611,       0342,    46.0002,  -151.9999,       5343,  1233.6,   2.6016,  34.4471,2,  34.4454,2,     18.5,2,    18.1,2,   152.3,2,   43.89,2,       0,2,    3.06,2,   0.041,2,   0.019,2,       0,2,  2391.7,6,  2390.9,2,   7.3012,2,    25.01,-999.000,9,-999.0000,9, -999.00,9,  -999.0,9,  -999.0,-999.0000,9,-999.0000,  -999.0,9,     46.764,3,-999.000,9, 20150611,     0505,-999.000,   2.6012,2,    34.6078,2,     -999.0,9,     -999.0,-999.0000,     -999.0,     -999.0,9,     -999.0,     -999.0,9,     -999.0,  -999.0,9,     -999.0,     -999.0,9,     -999.0
33RO20150525,     P16N.2,     160,          1,          9,          9,2,20150611,       0342,    46.0002,  -151.9999,       5343,  1499.6,   2.3327,  34.5054,2,  34.5051,2,     21.7,2,      21,2,  161.39,2,   43.99,2,       0,2,    3.04,2,    0.01,2,   0.005,2,       0,2,    2397,2,  2399.6,2,   7.3122,6,       25,-999.000,9,-999.0000,9, -999.00,9,  -999.0,9,  -999.0,-999.0000,9,-999.0000,  -999.0,9,     44.624,3,-999.000,9, 20150611,     0459,-999.000,   2.3324,2,    34.6678,2,     -999.0,9,     -999.0,-999.0000,     -999.0,     -999.0,9,     -999.0,     -999.0,9,     -999.0,  -999.0,9,     -999.0,     -999.0,9,     -999.0
33RO20150525,     P16N.2,     160,          1,          8,          8,2,20150611,       0342,    46.0002,  -151.9999,       5343,  1866.1,   2.0387,   34.569,2,  34.5677,2,     39.6,2,    39.3,2,  168.32,2,   42.91,2,       0,2,    2.97,2,   0.001,2,       0,2,       0,2,  2394.9,2,  2411.8,2,   7.3536,2,    25.02,-999.000,9,-999.0000,9, -999.00,9,  -999.0,9,  -999.0,-999.0000,9,-999.0000,  -999.0,9,     38.429,3,-999.000,9, 20150611,     0451,-999.000,   2.0383,2,    34.7307,2,     -999.0,9,     -999.0,-999.0000,     -999.0,     -999.0,9,     -999.0,     -999.0,9,     -999.0,  -999.0,9,     -999.0,     -999.0,9,     -999.0
33RO20150525,     P16N.2,     160,          1,          7,          7,2,20150611,       0342,    46.0002,  -151.9999,       5343,  2267.4,   1.8204,  34.6133,2,   34.621,4,     64.7,2,    64.7,2,  171.15,2,   41.35,2,       0,2,    2.88,2,       0,2,   0.001,2,       0,2,  2383.2,2,  2420.4,2,    7.407,6,    25.01,-999.000,9,-999.0000,9, -999.00,9,  -999.0,9,  -999.0,-999.0000,9,-999.0000,  -999.0,9,     31.897,3,-999.000,9, 20150611,     0443,-999.000,   1.8203,2,    34.7843,2,     -999.0,9,     -999.0,-999.0000,     -999.0,     -999.0,9,     -999.0,     -999.0,9,     -999.0,  -999.0,9,     -999.0,     -999.0,9,     -999.0
33RO20150525,     P16N.2,     160,          1,          6,          6,2,20150611,       0342,    46.0002,  -151.9999,       5343,  2668.1,   1.6606,  34.6413,2,  34.6513,4,     90.6,2,    90.5,2,  168.12,2,   39.68,2,       0,2,    2.75,2,  -0.001,2,   0.001,2,       0,2,  2368.4,2,  2421.6,2,   7.4582,2,    25.01,-999.000,9,-999.0000,9, -999.00,9,  -999.0,9,  -999.0,-999.0000,9,-999.0000,  -999.0,9,     27.448,3,-999.000,9, 20150611,     0435,-999.000,   1.6603,2,    34.8147,2,     -999.0,9,     -999.0,-999.0000,     -999.0,     -999.0,9,     -999.0,     -999.0,9,     -999.0,  -999.0,9,     -999.0,     -999.0,9,     -999.0
33RO20150525,     P16N.2,     160,          1,          5,          5,2,20150611,       0342,    46.0002,  -151.9999,       5343,  3132.1,   1.5479,  34.6623,2,  34.6706,4,    113.5,2,   114.1,2,  164.01,2,   38.02,2,       0,2,    2.62,2,       0,2,       0,2,       0,2,  2352.4,2,  2423.6,2,   7.5041,6,       25,-999.000,9,-999.0000,9, -999.00,9,  -999.0,9,  -999.0,-999.0000,9,-999.0000,  -999.0,9,     24.196,3,-999.000,9, 20150611,     0426,-999.000,   1.5476,2,    34.8341,2,     -999.0,9,     -999.0,-999.0000,     -999.0,     -999.0,9,     -999.0,     -999.0,9,     -999.0,  -999.0,9,     -999.0,     -999.0,9,     -999.0
33RO20150525,     P16N.2,     160,          1,          4,          4,2,20150611,       0342,    46.0002,  -151.9999,       5343,  3633.6,   1.4882,  34.6762,2,  34.6761,2,      132,2,   131.8,2,  160.49,6,   36.95,6,       0,6,    2.54,6,  -0.001,2,   0.006,4,       0,2,  2340.3,2,  2423.2,2,   7.5401,2,    25.01,-999.000,9,-999.0000,9, -999.00,9,  -999.0,9,  -999.0,-999.0000,9,-999.0000,  -999.0,9,     22.175,3,-999.000,9, 20150611,     0416,-999.000,   1.4879,2,    34.8396,2,     -999.0,9,     -999.0,-999.0000,     -999.0,     -999.0,9,     -999.0,     -999.0,9,     -999.0,  -999.0,9,     -999.0,     -999.0,9,     -999.0
33RO20150525,     P16N.2,     160,          1,          3,          3,2,20150611,       0342,    46.0002,  -151.9999,       5343,  4132.5,   1.4844,  34.6839,2,  34.6836,2,    140.8,2,   140.8,2,  160.98,6,   36.36,6,       0,6,    2.51,6,       0,6,       0,6,       0,6,  2336.1,2,  2425.8,6,     7.56,2,    25.01,-999.000,9,-999.0000,9, -999.00,9,  -999.0,9,  -999.0,-999.0000,9,-999.0000,  -999.0,9,     21.294,3,-999.000,9, 20150611,     0406,-999.000,   1.4842,2,    34.8471,2,     -999.0,9,     -999.0,-999.0000,     -999.0,     -999.0,9,     -999.0,     -999.0,9,     -999.0,  -999.0,9,     -999.0,     -999.0,9,     -999.0
33RO20150525,     P16N.2,     160,          1,          2,          2,2,20150611,       0342,    46.0002,  -151.9999,       5343,  4759.5,   1.5367,  34.6878,2,  34.6864,2,      144,2,   143.7,2,  164.69,6,   36.26,6,       0,6,    2.48,6,   0.002,2,   0.002,2,       0,2,  2336.7,2,  2431.2,2,   7.5684,2,       25,-999.000,9,-999.0000,9, -999.00,9,  -999.0,9,  -999.0,-999.0000,9,-999.0000,  -999.0,9,     20.973,3,-999.000,9, 20150611,     0354,-999.000,   1.5367,2,      34.85,6,     -999.0,9,     -999.0,-999.0000,     -999.0,     -999.0,9,     -999.0,     -999.0,9,     -999.0,  -999.0,9,     -999.0,     -999.0,9,     -999.0
33RO20150525,     P16N.2,     160,          1,          1,          1,2,20150611,       0342,    46.0002,  -151.9999,       5343,  5430.5,   1.6185,  34.6889,2,  34.6891,2,    146.2,2,   145.1,2,  165.96,6,   36.16,6,    0.01,6,    2.48,6,   0.002,2,   0.003,2,   0.124,4,  2337.3,6,  2429.4,2,   7.5699,2,       25,-999.000,9,-999.0000,9, -999.00,9,  -999.0,9,  -999.0,-999.0000,9,-999.0000,  -999.0,9,     20.953,3,-999.000,9, 20150611,     0341,-999.000,   1.6182,2,    34.8527,2,     -999.0,9,     -999.0,-999.0000,     -999.0,     -999.0,9,     -999.0,     -999.0,9,     -999.0,  -999.0,9,     -999.0,     -999.0,9,     -999.0