BOTTLE,20220330CCHSIOCBG
EXPOCODE,SECT_ID,STNNBR,CASTNO,SAMPNO,BTLNBR,BTLNBR_FLAG_W,DATE,TIME,LATITUDE,LONGITUDE,DEPTH,CTDPRS,CTDTMP,CTDSAL,CTDSAL_FLAG_W,SALNTY,SALNTY_FLAG_W,CTDOXY,CTDOXY_FLAG_W,OXYGEN,OXYGEN_FLAG_W,SILCAT,SILCAT_FLAG_W,NITRAT,NITRAT_FLAG_W,NITRIT,NITRIT_FLAG_W,PHSPHT,PHSPHT_FLAG_W,CFC-11,CFC-11_FLAG_W,CFC-12,CFC-12_FLAG_W,SF6,SF6_FLAG_W,TCARBN,TCARBN_FLAG_W,ALKALI,ALKALI_FLAG_W,PH_TOT,PH_TOT_FLAG_W,PH_TMP,TRITUM,TRITUM_FLAG_W,HELIUM,HELIUM_FLAG_W,DELC13,DELC13_FLAG_W,DELC14,DELC14_FLAG_W,C14ERR,NEON,NEON_FLAG_W,NEONER,DOC,DOC_FLAG_W,N2O,N2O_FLAG_W,ARGON,ARGON_FLAG_W,BTL_DATE,BTL_TIME,TRITER,SBE35,SBE35_FLAG_W,SALTREF,SALTREF_FLAG_W,DELHE3,DELHE3_FLAG_W,DELHER,HELIER,ARGONER,KRYPTON,KRYPTON_FLAG_W,KRYPTONER,XENON,XENON_FLAG_W,XENONER,14C-DOC,14C-DOC_FLAG_W,14C-DOCERR,13C-DOC,13C-DOC_FLAG_W,13C-DOCERR
,,,,,,,,,,,METERS,DBAR,ITS-90,PSS-78,,PSS-78,,UMOL/KG,,UMOL/KG,,UMOL/KG,,UMOL/KG,,UMOL/KG,,UMOL/KG,,PMOL/KG,,PMOL/KG,,FMOL/KG,,UMOL/KG,,UMOL/KG,,,,DEG C,TU,,NMOL/KG,,/MILLE,,/MILLE,,/MILLE,NMOL/KG,,NMOL/KG,UMOL/KG,,NMOL/KG,,UMOL/KG,,,,TU,ITS-90,,G/KG,,PERCNT,,PERCNT,NMOL/KG,UMOL/KG,NMOL/KG,,NMOL/KG,NMOL/KG,,NMOL/KG,/MILLE,,/MILLE,/MILLE,,/MILLE
33RO20150525,     P16N.2,     154,          2,         24,         24,2,20150609,       0828,    43.0001,  -151.9999,       5088,     3.3,  12.6522,  33.1472,2,  33.1492,2,    275.5,2,   277.4,2,    0.29,2,    1.27,2,    0.06,2,    0.38,2,   3.273,6,   1.897,6,   2.246,6,  2006.6,6,  2219.9,2,   7.9053,2,       25,-999.000,9,-999.0000,9, -999.00,9,  -999.0,9,  -999.0,-999.0000,9,-999.0000,  -999.0,9,      9.975,3,-999.000,9, 20150609,     1028,-999.000,   12.674,2,    33.3056,2,     -999.0,9,     -999.0,-999.0000,     -999.0,     -999.0,9,     -999.0,     -999.0,9,     -999.0,  -999.0,9,     -999.0,     -999.0,9,     -999.0
33RO20150525,     P16N.2,     154,          2,         23,         23,2,20150609,       0828,    43.0001,  -151.9999,       5088,    19.9,  12.1646,  33.1723,2,  33.1719,2,    280.2,2,   281.7,2,    0.39,2,    1.27,2,    0.07,2,    0.35,2,   3.445,3,   1.922,2,   2.299,2,  2004.5,2,    2220,2,   7.9095,6,    24.99,-999.000,9,-999.0000,9, -999.00,9,  -999.0,9,  -999.0,-999.0000,9,-999.0000,  -999.0,9,      9.983,3,-999.000,9, 20150609,     1026,-999.000,   12.167,2,    33.3283,2,     -999.0,9,     -999.0,-999.0000,     -999.0,     -999.0,9,     -999.0,     -999.0,9,     -999.0,  -999.0,9,     -999.0,     -999.0,9,     -999.0
33RO20150525,     P16N.2,     154,          2,         22,         22,2,20150609,       0828,    43.0001,  -151.9999,       5088,    42.7,    9.794,  33.2154,2,  33.2207,2,    298.6,2,   295.8,2,    7.24,2,    5.97,2,    0.07,2,    0.69,2,   3.817,2,   2.101,2,   2.476,2,  2035.3,2,  2219.9,2,   7.8424,2,    25.02,-999.000,9,-999.0000,9, -999.00,9,  -999.0,9,  -999.0,-999.0000,9,-999.0000,  -999.0,9,     11.301,3,-999.000,9, 20150609,     1024,-999.000,   9.7979,2,    33.3773,2,     -999.0,9,     -999.0,-999.0000,     -999.0,     -999.0,9,     -999.0,     -999.0,9,     -999.0,  -999.0,9,     -999.0,     -999.0,9,     -999.0
33RO20150525,     P16N.2,     154,          2,         21,         21,2,20150609,       0828,    43.0001,  -151.9999,       5088,    67.6,   9.0358,  33.2616,2,  33.2699,2,    281.4,2,   280.4,2,    8.41,2,    7.04,2,    0.16,2,    0.79,2,     3.8,2,   2.121,2,   2.494,2,  2049.1,2,  2223.2,6,   7.8123,3,    24.93,-999.000,9,-999.0000,9, -999.00,9,  -999.0,9,  -999.0,-999.0000,9,-999.0000,  -999.0,9,     11.314,3,-999.000,9, 20150609,     1022,-999.000,   9.0481,2,    33.4268,2,     -999.0,9,     -999.0,-999.0000,     -999.0,     -999.0,9,     -999.0,     -999.0,9,     -999.0,  -999.0,9,     -999.0,     -999.0,9,     -999.0
33RO20150525,     P16N.2,     154,          2,         20,         20,2,20150609,       0828,    43.0001,  -151.9999,       5088,    92.5,   8.7758,   33.714,2,  33.7396,2,    252.4,2,   251.8,2,   13.79,2,   12.62,2,    0.06,2,    0.99,2,   3.751,2,    2.09,2,   2.348,2,  2088.6,2,  2240.1,2,   7.7572,6,    25.02,-999.000,9,-999.0000,9, -999.00,9,  -999.0,9,  -999.0,-999.0000,9,-999.0000,  -999.0,9,     12.896,3,-999.000,9, 20150609,     1021,-999.000,   8.7779,2,    33.8987,2,     -999.0,9,     -999.0,-999.0000,     -999.0,     -999.0,9,     -999.0,     -999.0,9,     -999.0,  -999.0,9,     -999.0,     -999.0,9,     -999.0
33RO20150525,     P16N.2,     154,          2,         19,         19,2,20150609,       0828,    43.0001,  -151.9999,       5088,   133.1,   8.6305,  33.8879,2,  33.8914,2,    243.5,2,   242.6,2,   17.41,2,   14.57,2,    0.04,2,    1.08,2,    3.79,2,   2.068,2,    2.19,2,  2103.5,2,  2251.4,2,   7.7418,2,    24.98,-999.000,9,-999.0000,9, -999.00,9,  -999.0,9,  -999.0,-999.0000,9,-999.0000,  -999.0,9,     14.512,3,-999.000,9, 20150609,     1018,-999.000,   8.6287,2,    34.0513,2,     -999.0,9,     -999.0,-999.0000,     -999.0,     -999.0,9,     -999.0,     -999.0,9,     -999.0,  -999.0,9,     -999.0,     -999.0,9,     -999.0
33RO20150525,     P16N.2,     154,          2,         18,         18,2,20150609,       0828,    43.0001,  -151.9999,       5088,   199.8,   8.1273,  33.9524,2,  33.9524,2,      217,2,   216.4,2,   26.21,2,   19.07,2,    0.03,2,    1.37,2,   3.581,2,   1.964,2,   1.923,2,  2134.4,2,  2261.9,2,   7.6866,2,    25.02,-999.000,9,-999.0000,9, -999.00,9,  -999.0,9,  -999.0,-999.0000,9,-999.0000,  -999.0,9,     20.978,3,-999.000,9, 20150609,     1016,-999.000,   8.1244,2,    34.1125,2,     -999.0,9,     -999.0,-999.0000,     -999.0,     -999.0,9,     -999.0,     -999.0,9,     -999.0,  -999.0,9,     -999.0,     -999.0,9,     -999.0
33RO20150525,     P16N.2,     154,          2,         17,         17,2,20150609,       0828,    43.0001,  -151.9999,       5088,   275.6,   7.0742,  33.9578,2,  33.9567,2,    163.3,2,     164,2,   41.76,2,   26.01,2,    0.01,2,    1.84,2,   3.216,2,   1.709,2,   1.306,2,  2184.6,2,  2274.2,2,   7.5774,2,    25.01,-999.000,9,-999.0000,9, -999.00,9,  -999.0,9,  -999.0,-999.0000,9,-999.0000,  -999.0,9,     28.264,3,-999.000,9, 20150609,     1013,-999.000,   7.0744,2,    34.1168,2,     -999.0,9,     -999.0,-999.0000,     -999.0,     -999.0,9,     -999.0,     -999.0,9,     -999.0,  -999.0,9,     -999.0,     -999.0,9,     -999.0
33RO20150525,     P16N.2,     154,          2,         16,         16,2,20150609,       0828,    43.0001,  -151.9999,       5088,   367.1,   5.8331,  33.9377,2,  33.9373,2,    129.8,2,   130.5,2,    57.6,2,   31.78,2,    0.01,2,    2.24,2,   2.937,2,   1.486,2,   0.993,2,  2228.6,2,  2285.7,2,   7.4767,2,    25.01,-999.000,9,-999.0000,9, -999.00,9,  -999.0,9,  -999.0,-999.0000,9,-999.0000,  -999.0,9,     31.150,3,-999.000,9, 20150609,     1010,-999.000,    5.841,2,    34.0973,2,     -999.0,9,     -999.0,-999.0000,     -999.0,     -999.0,9,     -999.0,     -999.0,9,     -999.0,  -999.0,9,     -999.0,     -999.0,9,     -999.0
33RO20150525,     P16N.2,     154,          2,         15,         15,2,20150609,       0828,    43.0001,  -151.9999,       5088,   468.5,   4.7751,  33.9792,2,    33.98,2,     91.1,2,    91.2,2,   75.98,2,   36.87,2,    0.01,2,    2.61,2,    2.26,2,    1.11,2,   0.615,2,  2271.5,2,  2300.4,2,   7.3898,2,    25.01,-999.000,9,-999.0000,9, -999.00,9,  -999.0,9,  -999.0,-999.0000,9,-999.0000,  -999.0,9,     35.240,3,-999.000,9, 20150609,     1007,-999.000,   4.7769,2,    34.1402,2,     -999.0,9,     -999.0,-999.0000,     -999.0,     -999.0,9,     -999.0,     -999.0,9,     -999.0,  -999.0,9,     -999.0,     -999.0,9,     -999.0
33RO20150525,     P16N.2,     154,          2,         14,         14,2,20150609,       0828,    43.0001,  -151.9999,       5088,   600.4,   4.2305,  34.0949,2,   34.117,2,     51.5,2,    91.5,4,   94.75,2,   40.77,2,       0,2,    2.87,2,   1.359,6,   0.647,6,   0.294,6,    2312,2,  2319.9,2,   7.3227,2,    25.01,-999.000,9,-999.0000,9, -999.00,9,  -999.0,9,  -999.0,-999.0000,9,-999.0000,  -999.0,9,     40.676,3,-999.000,9, 20150609,     1004,-999.000,   4.2303,2,    34.2778,2,     -999.0,9,     -999.0,-999.0000,     -999.0,     -999.0,9,     -999.0,     -999.0,9,     -999.0,  -999.0,9,     -999.0,     -999.0,9,     -999.0
33RO20150525,     P16N.2,     154,          2,         13,         13,2,20150609,       0828,    43.0001,  -151.9999,       5088,   750.9,   3.8304,  34.2099,2,  34.2081,2,     30.4,2,    30.1,2,  110.48,2,   42.73,2,       0,2,    2.99,2,   0.604,2,    0.28,2,    0.13,2,  2340.3,2,  2340.5,2,   7.3018,2,       25,-999.000,9,-999.0000,9, -999.00,9,  -999.0,9,  -999.0,-999.0000,9,-999.0000,  -999.0,9,     45.079,3,-999.000,9, 20150609,     1000,-999.000,   3.8411,2,    34.3694,6,     -999.0,9,     -999.0,-999.0000,     -999.0,     -999.0,9,     -999.0,     -999.0,9,     -999.0,  -999.0,9,     -999.0,     -999.0,9,     -999.0
33RO20150525,     P16N.2,     154,          2,         12,         12,2,20150609,       0828,    43.0001,  -151.9999,       5088,   900.5,   3.4121,  34.2929,2,  34.2923,2,     21.6,2,    21.7,2,  124.07,2,    43.8,2,       0,2,    3.08,2,    0.25,2,   0.122,2,       0,2,  2360.9,2,  2358.6,2,    7.293,2,       25,-999.000,9,-999.0000,9, -999.00,9,  -999.0,9,  -999.0,-999.0000,9,-999.0000,  -999.0,9,     47.348,3,-999.000,9, 20150609,     0955,-999.000,   3.4132,2,     34.454,2,     -999.0,9,     -999.0,-999.0000,     -999.0,     -999.0,9,     -999.0,     -999.0,9,     -999.0,  -999.0,9,     -999.0,     -999.0,9,     -999.0
33RO20150525,     P16N.2,     154,          2,         11,         11,2,20150609,       0828,    43.0001,  -151.9999,       5088,  1050.4,   3.0707,  34.3542,2,  34.3549,2,     14.1,2,    14.1,2,   135.3,2,   44.68,2,       0,2,    3.12,2,   0.091,2,   0.044,2,       0,2,  2375.8,6,  2372.6,2,   7.2853,2,    25.01,-999.000,9,-999.0000,9, -999.00,9,  -999.0,9,  -999.0,-999.0000,9,-999.0000,  -999.0,9,     48.889,3,-999.000,9, 20150609,     0952,-999.000,    3.069,2,    34.5169,2,     -999.0,9,     -999.0,-999.0000,     -999.0,     -999.0,9,     -999.0,     -999.0,9,     -999.0,  -999.0,9,     -999.0,     -999.0,9,     -999.0
33RO20150525,     P16N.2,     154,          2,         10,         10,2,20150609,       0828,    43.0001,  -151.9999,       5088,  1233.1,   2.7384,  34.4225,2,   34.423,2,     11.5,2,    13.4,2,  146.54,2,   44.87,2,       0,2,    3.12,2,   0.034,2,   0.019,2,       0,2,  2388.5,2,  2385.5,2,   7.2907,2,       25,-999.000,9,-999.0000,9, -999.00,9,  -999.0,9,  -999.0,-999.0000,9,-999.0000,  -999.0,9,     49.410,3,-999.000,9, 20150609,     0947,-999.000,   2.7383,2,    34.5853,2,     -999.0,9,     -999.0,-999.0000,     -999.0,     -999.0,9,     -999.0,     -999.0,9,     -999.0,  -999.0,9,     -999.0,     -999.0,9,     -999.0
33RO20150525,     P16N.2,     154,          2,          9,          9,2,20150609,       0828,    43.0001,  -151.9999,       5088,  1500.6,    2.383,  34.5007,2,  34.5043,2,     17.8,2,      18,2,  157.28,2,   45.06,2,       0,2,     3.1,2,   0.003,2,   0.002,2,       0,2,  2397.4,2,  2400.8,2,    7.305,2,    25.01,-999.000,9,-999.0000,9, -999.00,9,  -999.0,9,  -999.0,-999.0000,9,-999.0000,  -999.0,9,     46.137,3,-999.000,9, 20150609,     0941,-999.000,    2.383,2,     34.667,2,     -999.0,9,     -999.0,-999.0000,     -999.0,     -999.0,9,     -999.0,     -999.0,9,     -999.0,  -999.0,9,     -999.0,     -999.0,9,     -999.0
33RO20150525,     P16N.2,     154,          2,          8,          8,2,20150609,       0828,    43.0001,  -151.9999,       5088,    1866,   2.0361,  34.5744,2,  34.5773,2,     41.5,2,    43.1,2,  166.07,2,    43.6,2,       0,2,    2.99,2,  -0.001,2,   0.002,2,       0,2,    2389,2,  2412.8,2,   7.3601,2,    25.01,-999.000,9,-999.0000,9, -999.00,9,  -999.0,9,  -999.0,-999.0000,9,-999.0000,  -999.0,9,     38.413,3,-999.000,9, 20150609,     0934,-999.000,   2.0357,2,    34.7404,2,     -999.0,9,     -999.0,-999.0000,     -999.0,     -999.0,9,     -999.0,     -999.0,9,     -999.0,  -999.0,9,     -999.0,     -999.0,9,     -999.0
33RO20150525,     P16N.2,     154,          2,          7,          7,2,20150609,       0828,    43.0001,  -151.9999,       5088,  2266.8,   1.8121,  34.6173,2,   34.621,2,     66.9,2,    67.4,2,   168.9,2,   42.03,2,       0,2,    2.89,2,       0,2,       0,2,       0,2,  2380.1,2,  2420.8,2,   7.4135,6,       25,-999.000,9,-999.0000,9, -999.00,9,  -999.0,9,  -999.0,-999.0000,9,-999.0000,  -999.0,9,     32.738,3,-999.000,9, 20150609,     0926,-999.000,   1.8113,2,    34.7842,2,     -999.0,9,     -999.0,-999.0000,     -999.0,     -999.0,9,     -999.0,     -999.0,9,     -999.0,  -999.0,9,     -999.0,     -999.0,9,     -999.0
33RO20150525,     P16N.2,     154,          2,          6,          6,2,20150609,       0828,    43.0001,  -151.9999,       5088,  2666.9,   1.6486,  34.6443,2,   34.653,4,     91.5,2,      92,2,  166.85,2,   40.37,2,       0,2,    2.77,2,   0.001,2,   0.001,2,       0,2,  2365.1,2,  2422.8,2,   7.4615,2,    25.01,-999.000,9,-999.0000,9, -999.00,9,  -999.0,9,  -999.0,-999.0000,9,-999.0000,  -999.0,9,     28.311,3,-999.000,9, 20150609,     0918,-999.000,   1.6483,2,    34.8164,2,     -999.0,9,     -999.0,-999.0000,     -999.0,     -999.0,9,     -999.0,     -999.0,9,     -999.0,  -999.0,9,     -999.0,     -999.0,9,     -999.0
33RO20150525,     P16N.2,     154,          2,          5,          5,2,20150609,       0828,    43.0001,  -151.9999,       5088,    3133,   1.5381,  34.6641,2,  34.6673,2,      114,2,   115.7,2,  163.13,2,    38.9,2,       0,2,    2.67,2,       0,2,       0,2,       0,2,  2351.4,2,  2424.8,2,   7.5058,2,    25.01,-999.000,9,-999.0000,9, -999.00,9,  -999.0,9,  -999.0,-999.0000,9,-999.0000,  -999.0,9,     25.081,3,-999.000,9, 20150609,     0909,-999.000,   1.5378,2,    34.8308,2,     -999.0,9,     -999.0,-999.0000,     -999.0,     -999.0,9,     -999.0,     -999.0,9,     -999.0,  -999.0,9,     -999.0,     -999.0,9,     -999.0
33RO20150525,     P16N.2,     154,          2,          4,          4,2,20150609,       0828,    43.0001,  -151.9999,       5088,  3633.3,   1.4813,  34.6775,2,  34.6781,2,    132.1,2,  -999.0,9,     160,6,   37.83,6,       0,6,    2.57,6,   0.001,6,       0,6,       0,6,  2339.5,2,  2425.8,2,   7.5426,2,    24.96,-999.000,9,-999.0000,9, -999.00,9,  -999.0,9,  -999.0,-999.0000,9,-999.0000,  -999.0,9,     23.121,3,-999.000,9, 20150609,     0859,-999.000,    1.481,2,    34.8416,2,     -999.0,9,     -999.0,-999.0000,     -999.0,     -999.0,9,     -999.0,     -999.0,9,     -999.0,  -999.0,9,     -999.0,     -999.0,9,     -999.0
33RO20150525,     P16N.2,     154,          2,          3,          3,2,20150609,       0828,    43.0001,  -151.9999,       5088,  4132.7,   1.4875,  34.6842,2,   34.688,2,    139.2,2,   140.6,2,  161.76,6,   37.24,6,       0,6,    2.53,6,   0.001,2,   0.002,2,       0,2,  2337.1,2,  2429.4,2,   7.5596,6,       25,-999.000,9,-999.0000,9, -999.00,9,  -999.0,9,  -999.0,-999.0000,9,-999.0000,  -999.0,9,     22.466,3,-999.000,9, 20150609,     0849,-999.000,   1.4872,2,    34.8515,2,     -999.0,9,     -999.0,-999.0000,     -999.0,     -999.0,9,     -999.0,     -999.0,9,     -999.0,  -999.0,9,     -999.0,     -999.0,9,     -999.0
33RO20150525,     P16N.2,     154,          2,          2,          2,2,20150609,       0828,    43.0001,  -151.9999,       5088,  4633.6,   1.5307,  34.6873,2,  34.6872,2,    142.2,2,   141.7,2,  164.49,6,   37.24,6,       0,6,    2.53,6,   0.003,2,   0.002,2,       0,2,  2337.8,2,  2431.4,6,   7.5665,6,    24.99,-999.000,9,-999.0000,9, -999.00,9,  -999.0,9,  -999.0,-999.0000,9,-999.0000,  -999.0,9,     22.064,3,-999.000,9, 20150609,     0840,-999.000,   1.5308,2,    34.8508,2,     -999.0,9,     -999.0,-999.0000,     -999.0,     -999.0,9,     -999.0,     -999.0,9,     -999.0,  -999.0,9,     -999.0,     -999.0,9,     -999.0
33RO20150525,     P16N.2,     154,          2,          1,          1,2,20150609,       0828,    43.0001,  -151.9999,       5088,  5173.5,   1.5935,   34.688,2,  34.6884,2,    142.3,2,   142.1,2,  164.01,6,   37.34,6,    0.01,6,    2.52,6,   0.005,2,   0.003,2,       0,2,  2337.4,6,  2433.4,2,    7.568,2,       25,-999.000,9,-999.0000,9, -999.00,9,  -999.0,9,  -999.0,-999.0000,9,-999.0000,  -999.0,9,     22.453,3,-999.000,9, 20150609,     0829,-999.000,   1.5935,2,    34.8519,2,     -999.0,9,     -999.0,-999.0000,     -999.0,     -999.0,9,     -999.0,     -999.0,9,     -999.0,  -999.0,9,     -999.0,     -999.0,9,     -999.0