BOTTLE,20220330CCHSIOCBG
EXPOCODE,SECT_ID,STNNBR,CASTNO,SAMPNO,BTLNBR,BTLNBR_FLAG_W,DATE,TIME,LATITUDE,LONGITUDE,DEPTH,CTDPRS,CTDTMP,CTDSAL,CTDSAL_FLAG_W,SALNTY,SALNTY_FLAG_W,CTDOXY,CTDOXY_FLAG_W,OXYGEN,OXYGEN_FLAG_W,SILCAT,SILCAT_FLAG_W,NITRAT,NITRAT_FLAG_W,NITRIT,NITRIT_FLAG_W,PHSPHT,PHSPHT_FLAG_W,CFC-11,CFC-11_FLAG_W,CFC-12,CFC-12_FLAG_W,SF6,SF6_FLAG_W,TCARBN,TCARBN_FLAG_W,ALKALI,ALKALI_FLAG_W,PH_TOT,PH_TOT_FLAG_W,PH_TMP,TRITUM,TRITUM_FLAG_W,HELIUM,HELIUM_FLAG_W,DELC13,DELC13_FLAG_W,DELC14,DELC14_FLAG_W,C14ERR,NEON,NEON_FLAG_W,NEONER,DOC,DOC_FLAG_W,N2O,N2O_FLAG_W,ARGON,ARGON_FLAG_W,BTL_DATE,BTL_TIME,TRITER,SBE35,SBE35_FLAG_W,SALTREF,SALTREF_FLAG_W,DELHE3,DELHE3_FLAG_W,DELHER,HELIER,ARGONER,KRYPTON,KRYPTON_FLAG_W,KRYPTONER,XENON,XENON_FLAG_W,XENONER,14C-DOC,14C-DOC_FLAG_W,14C-DOCERR,13C-DOC,13C-DOC_FLAG_W,13C-DOCERR
,,,,,,,,,,,METERS,DBAR,ITS-90,PSS-78,,PSS-78,,UMOL/KG,,UMOL/KG,,UMOL/KG,,UMOL/KG,,UMOL/KG,,UMOL/KG,,PMOL/KG,,PMOL/KG,,FMOL/KG,,UMOL/KG,,UMOL/KG,,,,DEG C,TU,,NMOL/KG,,/MILLE,,/MILLE,,/MILLE,NMOL/KG,,NMOL/KG,UMOL/KG,,NMOL/KG,,UMOL/KG,,,,TU,ITS-90,,G/KG,,PERCNT,,PERCNT,NMOL/KG,UMOL/KG,NMOL/KG,,NMOL/KG,NMOL/KG,,NMOL/KG,/MILLE,,/MILLE,/MILLE,,/MILLE
33RO20150525,     P16N.2,     151,          2,         24,         24,2,20150608,       1051,    41.4998,  -151.9995,       5237,     2.8,  13.1813,  33.3592,2,  33.3594,2,    266.8,2,   268.7,2,    1.66,2,    0.59,2,    0.04,2,    0.27,2,   3.316,3,   1.815,6,   2.197,6,  2013.2,6,  2217.6,2,   7.8879,2,    24.99,-999.000,9,-999.0000,9, -999.00,9,  -999.0,9,  -999.0,-999.0000,9,-999.0000,    61.7,2,      9.830,3,-999.000,9, 20150608,     1250,-999.000,  13.1804,2,    33.5168,2,     -999.0,9,     -999.0,-999.0000,     -999.0,     -999.0,9,     -999.0,     -999.0,9,     -999.0,  -999.0,9,     -999.0,     -999.0,9,     -999.0
33RO20150525,     P16N.2,     151,          2,         23,         23,2,20150608,       1051,    41.4998,  -151.9995,       5237,    20.1,  12.9692,  33.3828,2,  33.3904,2,    270.2,2,   270.4,2,    1.76,2,    0.59,2,    0.04,2,    0.28,2,-999.000,9,-999.000,9,-999.000,9,  2013.6,2,    2219,2,   7.8894,2,    24.97,-999.000,9,-999.0000,9, -999.00,9,  -999.0,9,  -999.0,-999.0000,9,-999.0000,    60.1,2,     -999.0,9,-999.000,9, 20150608,     1249,-999.000,  12.9672,2,    33.5478,2,     -999.0,9,     -999.0,-999.0000,     -999.0,     -999.0,9,     -999.0,     -999.0,9,     -999.0,  -999.0,9,     -999.0,     -999.0,9,     -999.0
33RO20150525,     P16N.2,     151,          2,         22,         22,2,20150608,       1051,    41.4998,  -151.9995,       5237,    42.6,  11.7508,  33.4409,2,  33.4487,2,    284.3,2,   285.2,2,    2.05,2,    1.47,2,    0.06,2,    0.34,2,   3.548,2,   1.937,2,   2.282,2,  2018.8,2,  2223.4,2,   7.8831,2,       25,-999.000,9,-999.0000,9, -999.00,9,  -999.0,9,  -999.0,-999.0000,9,-999.0000,    58.4,2,     10.387,3,-999.000,9, 20150608,     1247,-999.000,  11.7556,2,    33.6065,2,     -999.0,9,     -999.0,-999.0000,     -999.0,     -999.0,9,     -999.0,     -999.0,9,     -999.0,  -999.0,9,     -999.0,     -999.0,9,     -999.0
33RO20150525,     P16N.2,     151,          2,         21,         21,2,20150608,       1051,    41.4998,  -151.9995,       5237,      67,  10.2877,  33.4956,2,  33.5008,2,      271,2,   271.3,2,     4.4,2,    4.01,2,    0.43,2,    0.49,2,-999.000,9,-999.000,9,-999.000,9,    2037,2,  2222.9,6,   7.8423,2,    25.01,-999.000,9,-999.0000,9, -999.00,9,  -999.0,9,  -999.0,-999.0000,9,-999.0000,    57.1,2,     -999.0,9,-999.000,9, 20150608,     1245,-999.000,  10.3186,2,    33.6588,2,     -999.0,9,     -999.0,-999.0000,     -999.0,     -999.0,9,     -999.0,     -999.0,9,     -999.0,  -999.0,9,     -999.0,     -999.0,9,     -999.0
33RO20150525,     P16N.2,     151,          2,         20,         20,2,20150608,       1051,    41.4998,  -151.9995,       5237,   110.3,  10.0235,  33.9016,2,  33.9229,2,    237.5,2,     236,2,   11.15,2,   11.15,2,    0.02,2,    0.86,2,   3.556,2,   1.957,2,   2.163,2,  2082.7,2,    2245,2,   7.7769,6,    24.99,-999.000,9,-999.0000,9, -999.00,9,  -999.0,9,  -999.0,-999.0000,9,-999.0000,    50.7,2,     13.106,3,-999.000,9, 20150608,     1243,-999.000,  10.0198,2,    34.0828,2,     -999.0,9,     -999.0,-999.0000,     -999.0,     -999.0,9,     -999.0,     -999.0,9,     -999.0,  -999.0,9,     -999.0,     -999.0,9,     -999.0
33RO20150525,     P16N.2,     151,          2,         19,         19,2,20150608,       1051,    41.4998,  -151.9995,       5237,   200.3,   9.0847,  34.0074,2,   34.006,2,    218.3,2,     219,2,   19.85,2,   16.33,2,    0.01,2,    1.18,2,   3.542,2,   1.942,2,   1.896,2,  2116.5,2,  2258.1,2,   7.7226,6,       25,-999.000,9,-999.0000,9, -999.00,9,  -999.0,9,  -999.0,-999.0000,9,-999.0000,    50.6,2,     18.930,3,-999.000,9, 20150608,     1240,-999.000,   9.1028,2,    34.1664,2,     -999.0,9,     -999.0,-999.0000,     -999.0,     -999.0,9,     -999.0,     -999.0,9,     -999.0,  -999.0,9,     -999.0,     -999.0,9,     -999.0
33RO20150525,     P16N.2,     151,          2,         18,         18,2,20150608,       1051,    41.4998,  -151.9995,       5237,     275,   8.1164,  34.0024,2,  34.0012,2,    182.8,2,   184.3,2,   31.59,2,      22,2,    0.01,2,    1.55,2,   3.444,2,   1.804,2,   1.752,2,    2156,2,  2268.1,2,   7.6441,2,    24.91,-999.000,9,-999.0000,9, -999.00,9,  -999.0,9,  -999.0,-999.0000,9,-999.0000,    51.5,2,     26.516,3,-999.000,9, 20150608,     1237,-999.000,   8.1167,2,    34.1616,6,     -999.0,9,     -999.0,-999.0000,     -999.0,     -999.0,9,     -999.0,     -999.0,9,     -999.0,  -999.0,9,     -999.0,     -999.0,9,     -999.0
33RO20150525,     P16N.2,     151,          2,         17,         17,2,20150608,       1051,    41.4998,  -151.9995,       5237,   355.7,   6.8368,  33.9665,2,  33.9682,2,    150.2,2,   149.5,2,   45.96,2,   27.87,2,    0.01,2,    1.95,2,   3.154,2,   1.612,2,   1.155,2,  2199.2,2,  2276.5,2,   7.5448,2,    24.98,-999.000,9,-999.0000,9, -999.00,9,  -999.0,9,  -999.0,-999.0000,9,-999.0000,    47.4,2,     29.295,3,-999.000,9, 20150608,     1234,-999.000,   6.8397,2,    34.1284,2,     -999.0,9,     -999.0,-999.0000,     -999.0,     -999.0,9,     -999.0,     -999.0,9,     -999.0,  -999.0,9,     -999.0,     -999.0,9,     -999.0
33RO20150525,     P16N.2,     151,          2,         16,         16,2,20150608,       1051,    41.4998,  -151.9995,       5237,   497.6,   4.9596,  33.9604,2,  33.9612,2,     99.5,2,    99.4,2,   71.88,2,   35.89,2,    0.01,2,    2.54,2,   2.424,2,    1.19,2,   0.655,2,  2262.2,2,  2296.1,2,   7.4042,2,    25.02,-999.000,9,-999.0000,9, -999.00,9,  -999.0,9,  -999.0,-999.0000,9,-999.0000,    45.9,2,     34.077,3,-999.000,9, 20150608,     1231,-999.000,   4.9692,2,    34.1214,2,     -999.0,9,     -999.0,-999.0000,     -999.0,     -999.0,9,     -999.0,     -999.0,9,     -999.0,  -999.0,9,     -999.0,     -999.0,9,     -999.0
33RO20150525,     P16N.2,     151,          2,         15,         15,2,20150608,       1051,    41.4998,  -151.9995,       5237,   600.4,   4.4296,  34.0678,2,  34.0694,2,     59.6,2,    59.8,2,   88.98,2,    39.8,2,    0.01,2,     2.8,2,   1.546,2,   0.737,2,   0.355,2,    2303,2,  2314.5,2,   7.3389,2,    25.01,-999.000,9,-999.0000,9, -999.00,9,  -999.0,9,  -999.0,-999.0000,9,-999.0000,    45.3,2,     39.557,3,-999.000,9, 20150608,     1228,-999.000,   4.4293,2,    34.2301,2,     -999.0,9,     -999.0,-999.0000,     -999.0,     -999.0,9,     -999.0,     -999.0,9,     -999.0,  -999.0,9,     -999.0,     -999.0,9,     -999.0
33RO20150525,     P16N.2,     151,          2,         14,         14,2,20150608,       1051,    41.4998,  -151.9995,       5237,   750.1,   3.8972,  34.1936,2,  34.1924,2,       31,2,    31.4,2,  108.14,2,   42.43,2,    0.01,2,    2.98,2,   0.691,2,   0.316,2,   0.144,2,  2338.7,2,  2337.5,2,   7.3002,2,       25,-999.000,9,-999.0000,9, -999.00,9,  -999.0,9,  -999.0,-999.0000,9,-999.0000,    45.2,2,     44.720,3,-999.000,9, 20150608,     1224,-999.000,   3.8967,2,    34.3537,2,     -999.0,9,     -999.0,-999.0000,     -999.0,     -999.0,9,     -999.0,     -999.0,9,     -999.0,  -999.0,9,     -999.0,     -999.0,9,     -999.0
33RO20150525,     P16N.2,     151,          2,         13,         13,2,20150608,       1051,    41.4998,  -151.9995,       5237,     900,   3.4257,  34.2848,2,  34.2868,2,     19.7,2,    19.7,2,  123.77,2,    43.8,2,    0.01,2,    3.07,2,   0.255,2,   0.119,2,       0,2,  2360.3,2,  2357.5,2,   7.2882,2,    25.01,-999.000,9,-999.0000,9, -999.00,9,  -999.0,9,  -999.0,-999.0000,9,-999.0000,    40.3,2,     47.435,3,-999.000,9, 20150608,     1220,-999.000,   3.4247,2,    34.4485,2,     -999.0,9,     -999.0,-999.0000,     -999.0,     -999.0,9,     -999.0,     -999.0,9,     -999.0,  -999.0,9,     -999.0,     -999.0,9,     -999.0
33RO20150525,     P16N.2,     151,          2,         12,         12,2,20150608,       1051,    41.4998,  -151.9995,       5237,  1051.4,   3.0454,  34.3586,2,  34.3576,2,     14.4,2,      16,2,  136.38,2,   44.38,2,       0,2,    3.11,2,-999.000,9,-999.000,9,-999.000,9,  2377.7,2,  2372.9,2,   7.2852,6,       25,-999.000,9,-999.0000,9, -999.00,9,  -999.0,9,  -999.0,-999.0000,9,-999.0000,    44.2,2,     -999.0,9,-999.000,9, 20150608,     1216,-999.000,   3.0441,2,    34.5196,2,     -999.0,9,     -999.0,-999.0000,     -999.0,     -999.0,9,     -999.0,     -999.0,9,     -999.0,  -999.0,9,     -999.0,     -999.0,9,     -999.0
33RO20150525,     P16N.2,     151,          2,         11,         11,2,20150608,       1051,    41.4998,  -151.9995,       5237,  1233.1,   2.7449,  34.4223,2,   34.422,2,       13,2,    12.6,2,  146.93,2,   44.87,2,       0,2,    3.13,2,   0.026,2,   0.013,2,       0,2,  2388.6,6,  2386.3,2,   7.2889,2,    24.92,-999.000,9,-999.0000,9, -999.00,9,  -999.0,9,  -999.0,-999.0000,9,-999.0000,    40.3,2,     50.512,3,-999.000,9, 20150608,     1211,-999.000,   2.7446,2,    34.5843,6,     -999.0,9,     -999.0,-999.0000,     -999.0,     -999.0,9,     -999.0,     -999.0,9,     -999.0,  -999.0,9,     -999.0,     -999.0,9,     -999.0
33RO20150525,     P16N.2,     151,          2,         10,         10,2,20150608,       1051,    41.4998,  -151.9995,       5237,  1500.1,   2.4165,  34.5002,2,  34.5004,2,     15.7,2,    16.5,2,  157.87,2,   44.97,2,       0,2,    3.11,2,-999.000,9,-999.000,9,-999.000,9,  2400.8,2,  2400.8,2,   7.3011,2,    25.04,-999.000,9,-999.0000,9, -999.00,9,  -999.0,9,  -999.0,-999.0000,9,-999.0000,    43.2,2,     -999.0,9,-999.000,9, 20150608,     1206,-999.000,   2.4188,2,    34.6631,2,     -999.0,9,     -999.0,-999.0000,     -999.0,     -999.0,9,     -999.0,     -999.0,9,     -999.0,  -999.0,9,     -999.0,     -999.0,9,     -999.0
33RO20150525,     P16N.2,     151,          2,          9,          9,2,20150608,       1051,    41.4998,  -151.9995,       5237,  1868.6,   2.0585,  34.5765,2,  34.5763,2,     44.3,2,      43,2,  165.88,2,    43.3,2,    0.01,2,    2.99,2,-999.000,9,-999.000,9,-999.000,9,  2392.8,2,    2415,2,   7.3631,3,    24.96,-999.000,9,-999.0000,9, -999.00,9,  -999.0,9,  -999.0,-999.0000,9,-999.0000,    39.9,2,     -999.0,9,-999.000,9, 20150608,     1158,-999.000,    2.058,2,    34.7394,2,     -999.0,9,     -999.0,-999.0000,     -999.0,     -999.0,9,     -999.0,     -999.0,9,     -999.0,  -999.0,9,     -999.0,     -999.0,9,     -999.0
33RO20150525,     P16N.2,     151,          2,          8,          8,2,20150608,       1051,    41.4998,  -151.9995,       5237,  2267.2,   1.8321,  34.6184,2,  34.6183,2,     67.8,2,      68,2,   168.8,2,   41.64,2,    0.01,2,    2.89,2,-999.000,9,-999.000,9,-999.000,9,  2382.2,2,  2421.6,2,   7.4156,2,    25.02,-999.000,9,-999.0000,9, -999.00,9,  -999.0,9,  -999.0,-999.0000,9,-999.0000,    40.5,2,     -999.0,9,-999.000,9, 20150608,     1150,-999.000,   1.8318,2,    34.7815,2,     -999.0,9,     -999.0,-999.0000,     -999.0,     -999.0,9,     -999.0,     -999.0,9,     -999.0,  -999.0,9,     -999.0,     -999.0,9,     -999.0
33RO20150525,     P16N.2,     151,          2,          7,          7,2,20150608,       1051,    41.4998,  -151.9995,       5237,  2732.9,   1.6384,  34.6475,2,  34.6487,2,     95.4,2,    96.3,2,  165.97,2,   39.88,2,       0,2,    2.75,2,-999.000,9,-999.000,9,-999.000,9,  2366.5,2,    2424,2,   7.4697,2,    25.02,-999.000,9,-999.0000,9, -999.00,9,  -999.0,9,  -999.0,-999.0000,9,-999.0000,    41.0,2,     -999.0,9,-999.000,9, 20150608,     1141,-999.000,   1.6379,2,    34.8121,2,     -999.0,9,     -999.0,-999.0000,     -999.0,     -999.0,9,     -999.0,     -999.0,9,     -999.0,  -999.0,9,     -999.0,     -999.0,9,     -999.0
33RO20150525,     P16N.2,     151,          2,          6,          6,2,20150608,       1051,    41.4998,  -151.9995,       5237,  3232.5,   1.5271,   34.667,2,  34.6687,2,    118.6,2,   118.5,2,  162.44,2,   38.41,2,       0,2,    2.64,2,-999.000,9,-999.000,9,-999.000,9,  2348.9,2,  2425.2,2,   7.5148,2,    25.01,-999.000,9,-999.0000,9, -999.00,9,  -999.0,9,  -999.0,-999.0000,9,-999.0000,    41.0,2,     -999.0,9,-999.000,9, 20150608,     1132,-999.000,   1.5269,2,    34.8321,2,     -999.0,9,     -999.0,-999.0000,     -999.0,     -999.0,9,     -999.0,     -999.0,9,     -999.0,  -999.0,9,     -999.0,     -999.0,9,     -999.0
33RO20150525,     P16N.2,     151,          2,          5,          5,2,20150608,       1051,    41.4998,  -151.9995,       5237,  3732.7,   1.4896,  34.6787,2,  34.6799,2,    131.3,2,   131.6,2,  163.42,2,   37.53,2,       0,2,    2.57,2,-999.000,9,-999.000,9,-999.000,9,    2343,2,  2429.2,2,   7.5447,6,    24.97,-999.000,9,-999.0000,9, -999.00,9,  -999.0,9,  -999.0,-999.0000,9,-999.0000,    43.3,2,     -999.0,9,-999.000,9, 20150608,     1122,-999.000,   1.4893,2,    34.8435,2,     -999.0,9,     -999.0,-999.0000,     -999.0,     -999.0,9,     -999.0,     -999.0,9,     -999.0,  -999.0,9,     -999.0,     -999.0,9,     -999.0
33RO20150525,     P16N.2,     151,          2,          4,          4,2,20150608,       1051,    41.4998,  -151.9995,       5237,  4233.2,   1.5032,  34.6844,2,  34.6849,2,    138.1,2,   138.3,2,   164.4,6,   37.14,6,       0,6,    2.53,6,-999.000,9,-999.000,9,-999.000,9,  2338.6,2,  2431.6,2,   7.5594,2,    25.01,-999.000,9,-999.0000,9, -999.00,9,  -999.0,9,  -999.0,-999.0000,9,-999.0000,    42.1,2,     -999.0,9,-999.000,9, 20150608,     1112,-999.000,   1.5031,2,    34.8485,2,     -999.0,9,     -999.0,-999.0000,     -999.0,     -999.0,9,     -999.0,     -999.0,9,     -999.0,  -999.0,9,     -999.0,     -999.0,9,     -999.0
33RO20150525,     P16N.2,     151,          2,          3,          3,2,20150608,       1051,    41.4998,  -151.9995,       5237,  4749.2,   1.5504,   34.687,2,  34.6873,2,    140.4,2,   140.8,2,  165.67,6,   37.04,6,       0,6,    2.53,6,-999.000,9,-999.000,9,-999.000,9,  2340.5,2,  2434.4,6,   7.5668,2,       25,-999.000,9,-999.0000,9, -999.00,9,  -999.0,9,  -999.0,-999.0000,9,-999.0000,    41.0,2,     -999.0,9,-999.000,9, 20150608,     1102,-999.000,   1.5502,2,    34.8508,2,     -999.0,9,     -999.0,-999.0000,     -999.0,     -999.0,9,     -999.0,     -999.0,9,     -999.0,  -999.0,9,     -999.0,     -999.0,9,     -999.0
33RO20150525,     P16N.2,     151,          2,          1,          1,2,20150608,       1051,    41.4998,  -151.9995,       5237,  5317.6,   1.6203,  34.6878,2,  34.6869,2,    141.2,2,   140.6,2,  165.08,6,   36.95,6,       0,6,    2.52,6,-999.000,9,-999.000,9,-999.000,9,  2340.3,6,  2432.6,2,   7.5683,6,    24.99,-999.000,9,-999.0000,9, -999.00,9,  -999.0,9,  -999.0,-999.0000,9,-999.0000,    40.0,2,     -999.0,9,-999.000,9, 20150608,     1051,-999.000,   1.6201,2,    34.8504,2,     -999.0,9,     -999.0,-999.0000,     -999.0,     -999.0,9,     -999.0,     -999.0,9,     -999.0,  -999.0,9,     -999.0,     -999.0,9,     -999.0
33RO20150525,     P16N.2,     151,          2,          2,          2,2,20150608,       1051,    41.4998,  -151.9995,       5237,  5317.9,   1.6203,  34.6876,2,  34.6875,2,    141.3,2,   140.6,2,  165.47,6,   37.04,6,       0,6,    2.53,6,-999.000,9,-999.000,9,-999.000,9,    2341,2,    2434,2,   7.5677,2,       25,-999.000,9,-999.0000,9, -999.00,9,  -999.0,9,  -999.0,-999.0000,9,-999.0000,    39.7,2,     -999.0,9,-999.000,9, 20150608,     1051,-999.000,   1.6202,2,     34.851,2,     -999.0,9,     -999.0,-999.0000,     -999.0,     -999.0,9,     -999.0,     -999.0,9,     -999.0,  -999.0,9,     -999.0,     -999.0,9,     -999.0