BOTTLE,20220330CCHSIOCBG
EXPOCODE,SECT_ID,STNNBR,CASTNO,SAMPNO,BTLNBR,BTLNBR_FLAG_W,DATE,TIME,LATITUDE,LONGITUDE,DEPTH,CTDPRS,CTDTMP,CTDSAL,CTDSAL_FLAG_W,SALNTY,SALNTY_FLAG_W,CTDOXY,CTDOXY_FLAG_W,OXYGEN,OXYGEN_FLAG_W,SILCAT,SILCAT_FLAG_W,NITRAT,NITRAT_FLAG_W,NITRIT,NITRIT_FLAG_W,PHSPHT,PHSPHT_FLAG_W,CFC-11,CFC-11_FLAG_W,CFC-12,CFC-12_FLAG_W,SF6,SF6_FLAG_W,TCARBN,TCARBN_FLAG_W,ALKALI,ALKALI_FLAG_W,PH_TOT,PH_TOT_FLAG_W,PH_TMP,TRITUM,TRITUM_FLAG_W,HELIUM,HELIUM_FLAG_W,DELC13,DELC13_FLAG_W,DELC14,DELC14_FLAG_W,C14ERR,NEON,NEON_FLAG_W,NEONER,DOC,DOC_FLAG_W,N2O,N2O_FLAG_W,ARGON,ARGON_FLAG_W,BTL_DATE,BTL_TIME,TRITER,SBE35,SBE35_FLAG_W,SALTREF,SALTREF_FLAG_W,DELHE3,DELHE3_FLAG_W,DELHER,HELIER,ARGONER,KRYPTON,KRYPTON_FLAG_W,KRYPTONER,XENON,XENON_FLAG_W,XENONER,14C-DOC,14C-DOC_FLAG_W,14C-DOCERR,13C-DOC,13C-DOC_FLAG_W,13C-DOCERR
,,,,,,,,,,,METERS,DBAR,ITS-90,PSS-78,,PSS-78,,UMOL/KG,,UMOL/KG,,UMOL/KG,,UMOL/KG,,UMOL/KG,,UMOL/KG,,PMOL/KG,,PMOL/KG,,FMOL/KG,,UMOL/KG,,UMOL/KG,,,,DEG C,TU,,NMOL/KG,,/MILLE,,/MILLE,,/MILLE,NMOL/KG,,NMOL/KG,UMOL/KG,,NMOL/KG,,UMOL/KG,,,,TU,ITS-90,,G/KG,,PERCNT,,PERCNT,NMOL/KG,UMOL/KG,NMOL/KG,,NMOL/KG,NMOL/KG,,NMOL/KG,/MILLE,,/MILLE,/MILLE,,/MILLE
33RO20150525,     P16N.2,     127,          1,         24,         24,2,20150531,       1645,    29.5003,  -151.9998,       5466,       3,  22.7411,  35.4173,2,  35.4176,2,    214.7,2,   215.6,2,    0.88,2,       0,2,    0.01,2,    0.05,2,   1.847,6,   1.158,6,    1.46,6,  2029.7,6,  2331.3,2,   8.0348,6,    25.03,-999.000,9,-999.0000,9, -999.00,9,  -999.0,9,  -999.0,-999.0000,9,-999.0000,    66.8,2,      7.003,3,-999.000,9, 20150531,     1856,-999.000,  22.7405,2,    35.5846,2,     -999.0,9,     -999.0,-999.0000,     -999.0,     -999.0,9,     -999.0,     -999.0,9,     -999.0,  -999.0,9,     -999.0,     -999.0,9,     -999.0
33RO20150525,     P16N.2,     127,          1,         23,         23,2,20150531,       1645,    29.5003,  -151.9998,       5466,    24.7,  22.7386,  35.4163,2,  35.4274,2,    215.3,2,   215.9,2,    0.98,2,       0,2,    0.01,2,    0.06,2,-999.000,9,-999.000,9,-999.000,9,  2029.7,2,  2330.4,2,   8.0337,2,    25.03,-999.000,9,-999.0000,9, -999.00,9,  -999.0,9,  -999.0,-999.0000,9,-999.0000,    68.4,2,     -999.0,9,-999.000,9, 20150531,     1854,-999.000,  22.7396,2,    35.5945,2,     -999.0,9,     -999.0,-999.0000,     -999.0,     -999.0,9,     -999.0,     -999.0,9,     -999.0,  -999.0,9,     -999.0,     -999.0,9,     -999.0
33RO20150525,     P16N.2,     127,          1,         22,         22,2,20150531,       1645,    29.5003,  -151.9998,       5466,    50.7,  21.6147,  35.3018,2,  35.2914,2,    223.4,2,   223.3,2,    1.46,2,       0,2,    0.01,2,    0.04,2,   1.988,2,   1.232,2,    1.59,2,  2035.6,2,  2319.4,6,   8.0109,2,    25.03,-999.000,9,-999.0000,9, -999.00,9,  -999.0,9,  -999.0,-999.0000,9,-999.0000,    64.9,2,      7.352,3,-999.000,9, 20150531,     1851,-999.000,  21.6156,2,    35.4579,2,     -999.0,9,     -999.0,-999.0000,     -999.0,     -999.0,9,     -999.0,     -999.0,9,     -999.0,  -999.0,9,     -999.0,     -999.0,9,     -999.0
33RO20150525,     P16N.2,     127,          1,         21,         21,2,20150531,       1645,    29.5003,  -151.9998,       5466,    80.7,  19.7218,  35.1185,2,  35.1039,2,    231.2,2,   231.6,2,    1.76,2,       0,2,    0.01,2,    0.05,2,   2.149,2,   1.342,2,   1.673,2,  2030.4,2,  2306.7,2,   7.9967,2,    25.02,-999.000,9,-999.0000,9, -999.00,9,  -999.0,9,  -999.0,-999.0000,9,-999.0000,    60.7,2,      7.867,3,-999.000,9, 20150531,     1849,-999.000,  19.7203,2,    35.2695,2,     -999.0,9,     -999.0,-999.0000,     -999.0,     -999.0,9,     -999.0,     -999.0,9,     -999.0,  -999.0,9,     -999.0,     -999.0,9,     -999.0
33RO20150525,     P16N.2,     127,          1,         20,         20,2,20150531,       1645,    29.5003,  -151.9998,       5466,   130.2,  17.3562,  34.8435,2,  34.8351,2,    226.8,2,   225.2,2,    2.64,2,    0.49,2,    0.16,2,    0.14,2,   2.342,2,   1.426,2,   1.736,2,  2039.6,2,    2290,2,   7.9559,2,    25.04,-999.000,9,-999.0000,9, -999.00,9,  -999.0,9,  -999.0,-999.0000,9,-999.0000,    53.9,2,      8.880,3,-999.000,9, 20150531,     1846,-999.000,  17.3552,2,    34.9994,2,     -999.0,9,     -999.0,-999.0000,     -999.0,     -999.0,9,     -999.0,     -999.0,9,     -999.0,  -999.0,9,     -999.0,     -999.0,9,     -999.0
33RO20150525,     P16N.2,     127,          1,         19,         19,2,20150531,       1645,    29.5003,  -151.9998,       5466,   200.9,  14.6222,   34.469,2,  34.4677,2,    219.3,2,   219.6,2,    5.27,2,    5.17,2,    0.02,2,    0.41,2,   2.668,2,   1.599,2,   1.812,2,  2053.6,2,    2264,2,   7.8864,2,       25,-999.000,9,-999.0000,9, -999.00,9,  -999.0,9,  -999.0,-999.0000,9,-999.0000,    48.7,2,     10.642,3,-999.000,9, 20150531,     1843,-999.000,  14.6264,2,    34.6302,2,     -999.0,9,     -999.0,-999.0000,     -999.0,     -999.0,9,     -999.0,     -999.0,9,     -999.0,  -999.0,9,     -999.0,     -999.0,9,     -999.0
33RO20150525,     P16N.2,     127,          1,         18,         18,2,20150531,       1645,    29.5003,  -151.9998,       5466,   275.7,  12.0123,  34.2018,2,   34.188,2,      208,2,   206.7,2,   11.13,2,   11.72,2,    0.01,2,    0.85,2,   3.076,2,   1.777,2,   1.634,2,    2088,2,  2254.5,2,   7.7888,2,    25.05,-999.000,9,-999.0000,9, -999.00,9,  -999.0,9,  -999.0,-999.0000,9,-999.0000,    46.2,2,     15.081,3,-999.000,9, 20150531,     1839,-999.000,  12.0161,2,    34.3492,6,     -999.0,9,     -999.0,-999.0000,     -999.0,     -999.0,9,     -999.0,     -999.0,9,     -999.0,  -999.0,9,     -999.0,     -999.0,9,     -999.0
33RO20150525,     P16N.2,     127,          1,         17,         17,2,20150531,       1645,    29.5003,  -151.9998,       5466,   366.7,  10.0332,  34.1149,2,  34.1163,2,    200.7,2,   198.8,2,   18.56,2,    16.6,2,    0.01,2,    1.17,2,   3.276,2,   1.841,2,   1.436,2,  2120.1,2,  2259.3,2,   7.7234,2,    25.05,-999.000,9,-999.0000,9, -999.00,9,  -999.0,9,  -999.0,-999.0000,9,-999.0000,    42.4,2,     19.151,3,-999.000,9, 20150531,     1836,-999.000,  10.0342,2,    34.2771,2,     -999.0,9,     -999.0,-999.0000,     -999.0,     -999.0,9,     -999.0,     -999.0,9,     -999.0,  -999.0,9,     -999.0,     -999.0,9,     -999.0
33RO20150525,     P16N.2,     127,          1,         16,         16,2,20150531,       1645,    29.5003,  -151.9998,       5466,   468.3,   7.7554,  34.0191,2,  34.0202,2,    144.4,2,     143,2,   37.11,2,   26.27,2,    0.01,2,    1.86,2,   2.908,6,   1.556,6,   0.936,6,  2186.3,2,  2269.3,2,   7.5612,2,    25.02,-999.000,9,-999.0000,9, -999.00,9,  -999.0,9,  -999.0,-999.0000,9,-999.0000,    44.7,2,     26.275,3,-999.000,9, 20150531,     1832,-999.000,    7.759,2,    34.1807,2,     -999.0,9,     -999.0,-999.0000,     -999.0,     -999.0,9,     -999.0,     -999.0,9,     -999.0,  -999.0,9,     -999.0,     -999.0,9,     -999.0
33RO20150525,     P16N.2,     127,          1,         15,         15,2,20150531,       1645,    29.5003,  -151.9998,       5466,   601.6,   5.7063,   34.013,2,  34.0114,2,     93.1,2,    92.3,2,   64.17,2,   34.67,2,    0.01,2,    2.46,2,   1.915,2,   0.962,2,   0.385,2,  2254.9,2,  2290.7,2,   7.4255,6,    25.02,-999.000,9,-999.0000,9, -999.00,9,  -999.0,9,  -999.0,-999.0000,9,-999.0000,    42.9,2,     33.334,3,-999.000,9, 20150531,     1829,-999.000,   5.7142,2,    34.1718,2,     -999.0,9,     -999.0,-999.0000,     -999.0,     -999.0,9,     -999.0,     -999.0,9,     -999.0,  -999.0,9,     -999.0,     -999.0,9,     -999.0
33RO20150525,     P16N.2,     127,          1,         14,         14,2,20150531,       1645,    29.5003,  -151.9998,       5466,   751.2,   4.3643,   34.149,2,  34.1583,2,     33.6,2,    33.7,2,    95.7,2,    41.7,2,    0.01,2,    2.95,2,   0.467,2,   0.228,2,    0.04,2,  2323.9,2,  2323.8,2,   7.3067,2,    25.06,-999.000,9,-999.0000,9, -999.00,9,  -999.0,9,  -999.0,-999.0000,9,-999.0000,    40.9,2,     43.758,3,-999.000,9, 20150531,     1825,-999.000,   4.3644,2,    34.3194,2,     -999.0,9,     -999.0,-999.0000,     -999.0,     -999.0,9,     -999.0,     -999.0,9,     -999.0,  -999.0,9,     -999.0,     -999.0,9,     -999.0
33RO20150525,     P16N.2,     127,          1,         13,         13,2,20150531,       1645,    29.5003,  -151.9998,       5466,   899.3,   3.8505,  34.2883,2,  34.2904,2,     14.6,2,    15.3,2,  114.93,2,   43.65,2,    0.01,2,    3.12,2,   0.068,2,   0.039,2,       0,2,    2356,6,  2349.4,2,   7.2848,3,    25.04,-999.000,9,-999.0000,9, -999.00,9,  -999.0,9,  -999.0,-999.0000,9,-999.0000,    38.1,2,     49.588,3,-999.000,9, 20150531,     1821,-999.000,   3.8513,2,    34.4521,2,     -999.0,9,     -999.0,-999.0000,     -999.0,     -999.0,9,     -999.0,     -999.0,9,     -999.0,  -999.0,9,     -999.0,     -999.0,9,     -999.0
33RO20150525,     P16N.2,     127,          1,         12,         12,2,20150531,       1645,    29.5003,  -151.9998,       5466,  1050.7,   3.4728,  34.4126,2,  34.4111,2,     22.5,2,    22.4,2,  123.61,2,   43.55,2,    0.01,2,    3.09,2,   0.013,2,   0.009,2,       0,2,  2365.2,2,  2371.8,2,   7.3169,2,    25.05,-999.000,9,-999.0000,9, -999.00,9,  -999.0,9,  -999.0,-999.0000,9,-999.0000,    38.3,2,     47.522,3,-999.000,9, 20150531,     1817,-999.000,   3.4668,2,    34.5734,2,     -999.0,9,     -999.0,-999.0000,     -999.0,     -999.0,9,     -999.0,     -999.0,9,     -999.0,  -999.0,9,     -999.0,     -999.0,9,     -999.0
33RO20150525,     P16N.2,     127,          1,         11,         11,2,20150531,       1645,    29.5003,  -151.9998,       5466,    1234,   3.1267,  34.4946,2,   34.493,2,     38.1,2,    38.7,2,  130.44,2,   42.76,2,    0.01,2,    3.03,2,   0.005,2,   0.003,2,       0,2,  2364.5,2,  2384.4,2,   7.3585,2,    25.03,-999.000,9,-999.0000,9, -999.00,9,  -999.0,9,  -999.0,-999.0000,9,-999.0000,    37.2,2,     41.769,3,-999.000,9, 20150531,     1813,-999.000,   3.1269,2,    34.6556,2,     -999.0,9,     -999.0,-999.0000,     -999.0,     -999.0,9,     -999.0,     -999.0,9,     -999.0,  -999.0,9,     -999.0,     -999.0,9,     -999.0
33RO20150525,     P16N.2,     127,          1,         10,         10,2,20150531,       1645,    29.5003,  -151.9998,       5466,  1501.7,   2.6668,   34.554,2,  34.5527,2,     57.7,2,    57.6,2,  139.22,2,   41.79,2,       0,2,    2.95,2,   0.002,2,   0.004,2,       0,2,  2365.8,2,    2397,2,   7.3976,6,    25.04,-999.000,9,-999.0000,9, -999.00,9,  -999.0,9,  -999.0,-999.0000,9,-999.0000,    37.5,2,     36.208,3,-999.000,9, 20150531,     1807,-999.000,   2.6705,2,    34.7156,2,     -999.0,9,     -999.0,-999.0000,     -999.0,     -999.0,9,     -999.0,     -999.0,9,     -999.0,  -999.0,9,     -999.0,     -999.0,9,     -999.0
33RO20150525,     P16N.2,     127,          1,          9,          9,2,20150531,       1645,    29.5003,  -151.9998,       5466,  1866.8,   2.1702,  34.6038,2,  34.6031,2,     76.7,2,    76.5,2,  151.03,2,   40.61,2,    0.01,2,    2.85,2,-999.000,9,-999.000,9,-999.000,9,  2367.8,2,  2411.2,2,    7.437,2,    25.06,-999.000,9,-999.0000,9, -999.00,9,  -999.0,9,  -999.0,-999.0000,9,-999.0000,    35.9,2,     -999.0,9,-999.000,9, 20150531,     1759,-999.000,   2.1704,2,    34.7662,2,     -999.0,9,     -999.0,-999.0000,     -999.0,     -999.0,9,     -999.0,     -999.0,9,     -999.0,  -999.0,9,     -999.0,     -999.0,9,     -999.0
33RO20150525,     P16N.2,     127,          1,          8,          8,2,20150531,       1645,    29.5003,  -151.9998,       5466,  2333.6,   1.7902,  34.6396,2,  34.6404,2,     96.4,2,    96.4,2,  158.73,2,   39.44,2,       0,2,    2.75,2,-999.000,9,-999.000,9,-999.000,9,    2362,2,  2423.4,2,   7.4755,2,    25.06,-999.000,9,-999.0000,9, -999.00,9,  -999.0,9,  -999.0,-999.0000,9,-999.0000,    36.3,2,     -999.0,9,-999.000,9, 20150531,     1750,-999.000,   1.7901,2,    34.8037,2,     -999.0,9,     -999.0,-999.0000,     -999.0,     -999.0,9,     -999.0,     -999.0,9,     -999.0,  -999.0,9,     -999.0,     -999.0,9,     -999.0
33RO20150525,     P16N.2,     127,          1,          7,          7,2,20150531,       1645,    29.5003,  -151.9998,       5466,  2833.6,   1.6049,  34.6617,2,  34.6618,2,    116.5,2,   116.7,2,  157.95,2,   38.17,2,       0,2,    2.65,2,-999.000,9,-999.000,9,-999.000,9,  2351.6,2,  2426.6,2,   7.5146,2,    25.04,-999.000,9,-999.0000,9, -999.00,9,  -999.0,9,  -999.0,-999.0000,9,-999.0000,    35.6,2,     -999.0,9,-999.000,9, 20150531,     1740,-999.000,   1.6046,2,    34.8253,2,     -999.0,9,     -999.0,-999.0000,     -999.0,     -999.0,9,     -999.0,     -999.0,9,     -999.0,  -999.0,9,     -999.0,     -999.0,9,     -999.0
33RO20150525,     P16N.2,     127,          1,          6,          6,2,20150531,       1645,    29.5003,  -151.9998,       5466,  3332.7,   1.5287,  34.6736,2,  34.6797,4,    129.9,2,   129.3,2,   155.8,2,   37.39,2,    0.01,2,    2.59,2,-999.000,9,-999.000,9,-999.000,9,  2342.5,2,  2424.8,2,   7.5391,2,    25.04,-999.000,9,-999.0000,9, -999.00,9,  -999.0,9,  -999.0,-999.0000,9,-999.0000,    36.5,2,     -999.0,9,-999.000,9, 20150531,     1730,-999.000,   1.5288,2,    34.8432,2,     -999.0,9,     -999.0,-999.0000,     -999.0,     -999.0,9,     -999.0,     -999.0,9,     -999.0,  -999.0,9,     -999.0,     -999.0,9,     -999.0
33RO20150525,     P16N.2,     127,          1,          5,          5,2,20150531,       1645,    29.5003,  -151.9998,       5466,  3833.5,   1.5039,  34.6805,2,  34.6797,2,    139.4,2,   138.9,2,  152.87,2,    36.7,2,       0,2,    2.53,2,-999.000,9,-999.000,9,-999.000,9,  2337.1,2,  2424.8,2,   7.5551,2,    25.04,-999.000,9,-999.0000,9, -999.00,9,  -999.0,9,  -999.0,-999.0000,9,-999.0000,    36.0,2,     -999.0,9,-999.000,9, 20150531,     1721,-999.000,   1.5038,2,    34.8432,6,     -999.0,9,     -999.0,-999.0000,     -999.0,     -999.0,9,     -999.0,     -999.0,9,     -999.0,  -999.0,9,     -999.0,     -999.0,9,     -999.0
33RO20150525,     P16N.2,     127,          1,          4,          4,2,20150531,       1645,    29.5003,  -151.9998,       5466,  4332.6,    1.492,  34.6862,2,   34.686,2,      149,2,   148.2,2,  148.58,6,   36.12,6,       0,6,    2.47,6,-999.000,9,-999.000,9,-999.000,9,  2328.5,2,  2421.2,2,   7.5697,6,    25.04,-999.000,9,-999.0000,9, -999.00,9,  -999.0,9,  -999.0,-999.0000,9,-999.0000,    36.2,2,     -999.0,9,-999.000,9, 20150531,     1711,-999.000,   1.4919,2,    34.8496,2,     -999.0,9,     -999.0,-999.0000,     -999.0,     -999.0,9,     -999.0,     -999.0,9,     -999.0,  -999.0,9,     -999.0,     -999.0,9,     -999.0
33RO20150525,     P16N.2,     127,          1,          3,          3,2,20150531,       1645,    29.5003,  -151.9998,       5466,  4831.8,   1.5082,  34.6899,2,  34.6888,2,    155.4,2,   155.5,2,   143.3,6,   35.63,6,       0,6,    2.43,6,-999.000,9,-999.000,9,-999.000,9,  2321.2,2,  2418.4,2,   7.5789,2,    25.05,-999.000,9,-999.0000,9, -999.00,9,  -999.0,9,  -999.0,-999.0000,9,-999.0000,    36.5,2,     -999.0,9,-999.000,9, 20150531,     1701,-999.000,   1.5083,2,    34.8524,2,     -999.0,9,     -999.0,-999.0000,     -999.0,     -999.0,9,     -999.0,     -999.0,9,     -999.0,  -999.0,9,     -999.0,     -999.0,9,     -999.0
33RO20150525,     P16N.2,     127,          1,          2,          2,2,20150531,       1645,    29.5003,  -151.9998,       5466,  5193.7,   1.5339,  34.6918,2,  34.6913,2,      159,2,   158.5,2,  140.67,6,   35.44,6,       0,6,    2.42,6,-999.000,9,-999.000,9,-999.000,9,  2318.2,6,  2416.2,6,   7.5823,6,    25.06,-999.000,9,-999.0000,9, -999.00,9,  -999.0,9,  -999.0,-999.0000,9,-999.0000,    36.6,2,     -999.0,9,-999.000,9, 20150531,     1654,-999.000,   1.5343,2,    34.8549,2,     -999.0,9,     -999.0,-999.0000,     -999.0,     -999.0,9,     -999.0,     -999.0,9,     -999.0,  -999.0,9,     -999.0,     -999.0,9,     -999.0
33RO20150525,     P16N.2,     127,          1,          1,          1,4,20150531,       1645,    29.5003,  -151.9998,       5466,  5560.3,    1.569,  34.6931,2,  34.0216,4,    161.9,2,   146.7,4,    36.7,4,   26.16,4,    0.01,4,    1.84,4,-999.000,9,-999.000,9,-999.000,9,  2183.9,4,  2266.3,4,   7.5622,4,    25.07,-999.000,9,-999.0000,9, -999.00,9,  -999.0,9,  -999.0,-999.0000,9,-999.0000,    43.2,2,     -999.0,9,-999.000,9, 20150531,     1645,-999.000,   1.5692,2,    34.1821,2,     -999.0,9,     -999.0,-999.0000,     -999.0,     -999.0,9,     -999.0,     -999.0,9,     -999.0,  -999.0,9,     -999.0,     -999.0,9,     -999.0