BOTTLE,20220330CCHSIOCBG
EXPOCODE,SECT_ID,STNNBR,CASTNO,SAMPNO,BTLNBR,BTLNBR_FLAG_W,DATE,TIME,LATITUDE,LONGITUDE,DEPTH,CTDPRS,CTDTMP,CTDSAL,CTDSAL_FLAG_W,SALNTY,SALNTY_FLAG_W,CTDOXY,CTDOXY_FLAG_W,OXYGEN,OXYGEN_FLAG_W,SILCAT,SILCAT_FLAG_W,NITRAT,NITRAT_FLAG_W,NITRIT,NITRIT_FLAG_W,PHSPHT,PHSPHT_FLAG_W,CFC-11,CFC-11_FLAG_W,CFC-12,CFC-12_FLAG_W,SF6,SF6_FLAG_W,TCARBN,TCARBN_FLAG_W,ALKALI,ALKALI_FLAG_W,PH_TOT,PH_TOT_FLAG_W,PH_TMP,TRITUM,TRITUM_FLAG_W,HELIUM,HELIUM_FLAG_W,DELC13,DELC13_FLAG_W,DELC14,DELC14_FLAG_W,C14ERR,NEON,NEON_FLAG_W,NEONER,DOC,DOC_FLAG_W,N2O,N2O_FLAG_W,ARGON,ARGON_FLAG_W,BTL_DATE,BTL_TIME,TRITER,SBE35,SBE35_FLAG_W,SALTREF,SALTREF_FLAG_W,DELHE3,DELHE3_FLAG_W,DELHER,HELIER,ARGONER,KRYPTON,KRYPTON_FLAG_W,KRYPTONER,XENON,XENON_FLAG_W,XENONER,14C-DOC,14C-DOC_FLAG_W,14C-DOCERR,13C-DOC,13C-DOC_FLAG_W,13C-DOCERR
,,,,,,,,,,,METERS,DBAR,ITS-90,PSS-78,,PSS-78,,UMOL/KG,,UMOL/KG,,UMOL/KG,,UMOL/KG,,UMOL/KG,,UMOL/KG,,PMOL/KG,,PMOL/KG,,FMOL/KG,,UMOL/KG,,UMOL/KG,,,,DEG C,TU,,NMOL/KG,,/MILLE,,/MILLE,,/MILLE,NMOL/KG,,NMOL/KG,UMOL/KG,,NMOL/KG,,UMOL/KG,,,,TU,ITS-90,,G/KG,,PERCNT,,PERCNT,NMOL/KG,UMOL/KG,NMOL/KG,,NMOL/KG,NMOL/KG,,NMOL/KG,/MILLE,,/MILLE,/MILLE,,/MILLE
33RO20150525,     P16N.2,     178,          3,         24,         24,2,20150616,       1153,    54.6607,  -151.9962,       4287,       3,   9.4565,  32.3997,2,  32.3996,2,    294.2,2,   296.1,2,    18.5,2,    8.91,2,    0.13,2,    1.04,2,   3.919,2,   2.201,2,   2.563,2,  2016.4,6,  2183.2,2,   7.8194,2,    24.99,-999.000,9,-999.0000,9, -999.00,9,  -999.0,9,  -999.0,-999.0000,9,-999.0000,  -999.0,9,     11.629,3,-999.000,9, 20150616,     1335,-999.000,   9.4526,2,    32.5524,2,     -999.0,9,     -999.0,-999.0000,     -999.0,     -999.0,9,     -999.0,     -999.0,9,     -999.0,  -999.0,9,     -999.0,     -999.0,9,     -999.0
33RO20150525,     P16N.2,     178,          3,         23,         23,2,20150616,       1153,    54.6607,  -151.9962,       4287,    20.3,   8.8459,  32.4014,2,  32.4052,2,    301.8,2,     301,2,   19.29,2,     9.2,2,    0.13,2,    1.07,2,   4.015,2,   2.244,2,   2.622,2,  2017.5,2,  2181.3,2,   7.8189,6,    24.98,-999.000,9,-999.0000,9, -999.00,9,  -999.0,9,  -999.0,-999.0000,9,-999.0000,  -999.0,9,     11.669,3,-999.000,9, 20150616,     1333,-999.000,   8.8469,2,     32.558,2,     -999.0,9,     -999.0,-999.0000,     -999.0,     -999.0,9,     -999.0,     -999.0,9,     -999.0,  -999.0,9,     -999.0,     -999.0,9,     -999.0
33RO20150525,     P16N.2,     178,          3,         22,         22,2,20150616,       1153,    54.6607,  -151.9962,       4287,    42.8,   6.7498,  32.4903,2,  32.5007,2,    306.3,2,   304.7,2,   27.61,2,   14.59,2,    0.15,2,     1.4,2,   4.402,2,   2.427,2,   2.767,2,    2052,2,  2187.7,2,   7.7431,2,    25.01,-999.000,9,-999.0000,9, -999.00,9,  -999.0,9,  -999.0,-999.0000,9,-999.0000,  -999.0,9,     12.672,3,-999.000,9, 20150616,     1332,-999.000,   6.7566,2,     32.654,2,     -999.0,9,     -999.0,-999.0000,     -999.0,     -999.0,9,     -999.0,     -999.0,9,     -999.0,  -999.0,9,     -999.0,     -999.0,9,     -999.0
33RO20150525,     P16N.2,     178,          3,         21,         21,2,20150616,       1153,    54.6607,  -151.9962,       4287,    66.3,    5.413,   32.708,2,  32.7399,2,    258.1,2,   262.9,2,   34.85,2,   20.36,2,    0.26,2,    1.73,2,   4.291,2,   2.355,2,   2.532,2,  2101.9,2,  2201.3,6,   7.6412,6,    24.99,-999.000,9,-999.0000,9, -999.00,9,  -999.0,9,  -999.0,-999.0000,9,-999.0000,  -999.0,9,     16.715,3,-999.000,9, 20150616,     1330,-999.000,   5.4249,2,    32.8943,2,     -999.0,9,     -999.0,-999.0000,     -999.0,     -999.0,9,     -999.0,     -999.0,9,     -999.0,  -999.0,9,     -999.0,     -999.0,9,     -999.0
33RO20150525,     P16N.2,     178,          3,         20,         20,2,20150616,       1153,    54.6607,  -151.9962,       4287,      91,   3.9651,  33.5445,2,  33.5352,2,    124.8,2,     120,2,   65.93,2,   36.78,2,    0.02,2,    2.64,2,   3.471,2,   1.852,2,   1.482,2,  2251.6,2,  2260.3,2,   7.3409,2,       25,-999.000,9,-999.0000,9, -999.00,9,  -999.0,9,  -999.0,-999.0000,9,-999.0000,  -999.0,9,     31.577,3,-999.000,9, 20150616,     1328,-999.000,   4.0004,2,    33.6934,2,     -999.0,9,     -999.0,-999.0000,     -999.0,     -999.0,9,     -999.0,     -999.0,9,     -999.0,  -999.0,9,     -999.0,     -999.0,9,     -999.0
33RO20150525,     P16N.2,     178,          3,         19,         19,2,20150616,       1153,    54.6607,  -151.9962,       4287,   117.4,    3.935,  33.7142,2,   33.719,2,     97.5,2,    96.6,2,   71.99,2,   38.73,2,    0.01,2,    2.74,2,   3.206,2,   1.677,2,   1.231,2,  2276.6,2,  2276.2,2,   7.3076,2,    25.01,-999.000,9,-999.0000,9, -999.00,9,  -999.0,9,  -999.0,-999.0000,9,-999.0000,  -999.0,9,     33.981,3,-999.000,9, 20150616,     1327,-999.000,    3.932,2,     33.878,6,     -999.0,9,     -999.0,-999.0000,     -999.0,     -999.0,9,     -999.0,     -999.0,9,     -999.0,  -999.0,9,     -999.0,     -999.0,9,     -999.0
33RO20150525,     P16N.2,     178,          3,         18,         18,2,20150616,       1153,    54.6607,  -151.9962,       4287,   158.3,   4.2085,   33.843,2,  33.8452,2,     68.2,2,    68.2,2,   76.97,2,    40.2,2,    0.01,2,    2.81,2,     2.7,2,   1.391,2,   0.873,2,  2294.6,2,  2286.1,2,   7.2843,6,    24.99,-999.000,9,-999.0000,9, -999.00,9,  -999.0,9,  -999.0,-999.0000,9,-999.0000,  -999.0,9,     36.954,3,-999.000,9, 20150616,     1324,-999.000,   4.1843,2,    34.0048,2,     -999.0,9,     -999.0,-999.0000,     -999.0,     -999.0,9,     -999.0,     -999.0,9,     -999.0,  -999.0,9,     -999.0,     -999.0,9,     -999.0
33RO20150525,     P16N.2,     178,          3,         17,         17,2,20150616,       1153,    54.6607,  -151.9962,       4287,   225.2,   3.8502,  33.8945,2,  33.8945,2,       44,2,    44.3,2,   87.72,2,   42.74,2,    0.01,2,    2.97,2,    2.31,2,   1.174,2,   0.719,2,  2317.5,2,  2293.3,2,   7.2388,2,    24.99,-999.000,9,-999.0000,9, -999.00,9,  -999.0,9,  -999.0,-999.0000,9,-999.0000,  -999.0,9,     40.265,3,-999.000,9, 20150616,     1322,-999.000,   3.8486,2,    34.0543,2,     -999.0,9,     -999.0,-999.0000,     -999.0,     -999.0,9,     -999.0,     -999.0,9,     -999.0,  -999.0,9,     -999.0,     -999.0,9,     -999.0
33RO20150525,     P16N.2,     178,          3,         16,         16,2,20150616,       1153,    54.6607,  -151.9962,       4287,   289.1,   3.9335,  33.9817,2,  33.9961,2,     33.1,2,    28.8,2,   93.49,2,   43.22,2,    0.01,2,       3,2,   1.751,2,   0.869,2,   0.426,2,    2328,2,  2305.8,2,   7.2412,2,    24.99,-999.000,9,-999.0000,9, -999.00,9,  -999.0,9,  -999.0,-999.0000,9,-999.0000,  -999.0,9,     43.083,3,-999.000,9, 20150616,     1320,-999.000,   3.9353,2,    34.1564,2,     -999.0,9,     -999.0,-999.0000,     -999.0,     -999.0,9,     -999.0,     -999.0,9,     -999.0,  -999.0,9,     -999.0,     -999.0,9,     -999.0
33RO20150525,     P16N.2,     178,          3,         15,         15,2,20150616,       1153,    54.6607,  -151.9962,       4287,     375,   3.8333,  34.0703,2,  34.0694,2,     22.3,2,    17.4,2,  103.36,2,    44.1,2,    0.01,2,    3.08,2,   1.293,2,    0.63,2,   0.336,2,  2344.8,2,    2320,2,   7.2313,2,       25,-999.000,9,-999.0000,9, -999.00,9,  -999.0,9,  -999.0,-999.0000,9,-999.0000,  -999.0,9,     45.530,3,-999.000,9, 20150616,     1317,-999.000,    3.833,2,    34.2301,2,     -999.0,9,     -999.0,-999.0000,     -999.0,     -999.0,9,     -999.0,     -999.0,9,     -999.0,  -999.0,9,     -999.0,     -999.0,9,     -999.0
33RO20150525,     P16N.2,     178,          3,         14,         14,2,20150616,       1153,    54.6607,  -151.9962,       4287,   467.5,   3.7635,  34.1677,2,  34.1694,2,     16.4,2,    15.4,2,  111.66,2,   43.71,2,    0.01,2,    3.06,2,   0.758,2,   0.366,2,   0.166,2,  2352.2,2,  2334.8,2,   7.2566,3,    24.96,-999.000,9,-999.0000,9, -999.00,9,  -999.0,9,  -999.0,-999.0000,9,-999.0000,  -999.0,9,     46.975,3,-999.000,9, 20150616,     1315,-999.000,   3.7638,2,    34.3305,2,     -999.0,9,     -999.0,-999.0000,     -999.0,     -999.0,9,     -999.0,     -999.0,9,     -999.0,  -999.0,9,     -999.0,     -999.0,9,     -999.0
33RO20150525,     P16N.2,     178,          3,         13,         13,2,20150616,       1153,    54.6607,  -151.9962,       4287,   601.9,    3.552,  34.2365,2,  34.2368,2,     14.1,2,    13.6,2,  120.36,2,    43.8,2,    0.01,2,    3.07,2,   0.461,2,   0.222,2,   0.116,2,  2360.6,2,  2346.4,2,   7.2644,2,       25,-999.000,9,-999.0000,9, -999.00,9,  -999.0,9,  -999.0,-999.0000,9,-999.0000,  -999.0,9,     47.949,3,-999.000,9, 20150616,     1311,-999.000,   3.5519,2,    34.3983,2,     -999.0,9,     -999.0,-999.0000,     -999.0,     -999.0,9,     -999.0,     -999.0,9,     -999.0,  -999.0,9,     -999.0,     -999.0,9,     -999.0
33RO20150525,     P16N.2,     178,          3,         12,         12,2,20150616,       1153,    54.6607,  -151.9962,       4287,   749.6,    3.213,  34.3149,2,  34.3132,2,     13.4,2,    11.6,2,  131.69,2,   43.99,2,       0,2,    3.08,2,   0.221,2,   0.106,2,   0.038,2,  2373.3,2,  2362.4,2,   7.2742,2,    24.98,-999.000,9,-999.0000,9, -999.00,9,  -999.0,9,  -999.0,-999.0000,9,-999.0000,  -999.0,9,     47.871,3,-999.000,9, 20150616,     1307,-999.000,   3.2135,2,     34.475,2,     -999.0,9,     -999.0,-999.0000,     -999.0,     -999.0,9,     -999.0,     -999.0,9,     -999.0,  -999.0,9,     -999.0,     -999.0,9,     -999.0
33RO20150525,     P16N.2,     178,          3,         11,         11,2,20150616,       1153,    54.6607,  -151.9962,       4287,   900.1,   2.9332,  34.3747,2,  34.3746,2,     14.1,2,    13.8,2,  140.87,2,   44.09,2,    0.01,2,    3.09,2,-999.000,9,-999.000,9,-999.000,9,  2382.2,2,  2373.8,2,   7.2841,2,    24.99,-999.000,9,-999.0000,9, -999.00,9,  -999.0,9,  -999.0,-999.0000,9,-999.0000,  -999.0,9,     -999.0,9,-999.000,9, 20150616,     1303,-999.000,    2.934,2,    34.5366,2,     -999.0,9,     -999.0,-999.0000,     -999.0,     -999.0,9,     -999.0,     -999.0,9,     -999.0,  -999.0,9,     -999.0,     -999.0,9,     -999.0
33RO20150525,     P16N.2,     178,          3,         10,         10,2,20150616,       1153,    54.6607,  -151.9962,       4287,  1050.7,   2.6951,  34.4244,2,  34.4234,2,       16,2,    16.8,2,   148.2,2,   44.09,2,       0,2,    3.08,2,    0.06,2,    0.03,2,   0.015,2,  2388.7,2,  2385.5,2,   7.2939,2,    24.96,-999.000,9,-999.0000,9, -999.00,9,  -999.0,9,  -999.0,-999.0000,9,-999.0000,  -999.0,9,     46.311,3,-999.000,9, 20150616,     1300,-999.000,   2.6944,2,    34.5857,2,     -999.0,9,     -999.0,-999.0000,     -999.0,     -999.0,9,     -999.0,     -999.0,9,     -999.0,  -999.0,9,     -999.0,     -999.0,9,     -999.0
33RO20150525,     P16N.2,     178,          3,          9,          9,2,20150616,       1153,    54.6607,  -151.9962,       4287,  1233.9,   2.4728,  34.4695,2,  34.4676,2,     19.4,2,    21.3,2,  154.65,2,   43.79,2,       0,2,    3.05,2,-999.000,9,-999.000,9,-999.000,9,  2391.7,2,    2392,2,   7.3071,2,    24.96,-999.000,9,-999.0000,9, -999.00,9,  -999.0,9,  -999.0,-999.0000,9,-999.0000,  -999.0,9,     -999.0,9,-999.000,9, 20150616,     1255,-999.000,   2.4724,2,    34.6301,6,     -999.0,9,     -999.0,-999.0000,     -999.0,     -999.0,9,     -999.0,     -999.0,9,     -999.0,  -999.0,9,     -999.0,     -999.0,9,     -999.0
33RO20150525,     P16N.2,     178,          3,          8,          8,2,20150616,       1153,    54.6607,  -151.9962,       4287,  1501.7,   2.1914,  34.5281,2,  34.5269,2,     33.6,2,    34.2,2,  161.29,2,   43.21,2,    0.01,2,       3,2,   0.012,2,   0.006,2,       0,2,  2391.4,6,  2403.2,2,   7.3373,2,    24.99,-999.000,9,-999.0000,9, -999.00,9,  -999.0,9,  -999.0,-999.0000,9,-999.0000,  -999.0,9,     40.188,3,-999.000,9, 20150616,     1249,-999.000,   2.1915,2,    34.6897,2,     -999.0,9,     -999.0,-999.0000,     -999.0,     -999.0,9,     -999.0,     -999.0,9,     -999.0,  -999.0,9,     -999.0,     -999.0,9,     -999.0
33RO20150525,     P16N.2,     178,          3,          7,          7,2,20150616,       1153,    54.6607,  -151.9962,       4287,  1867.2,    1.925,  34.5844,2,  34.5835,2,     54.6,2,    54.7,2,  165.88,2,   41.93,2,    0.01,2,    2.91,2,-999.000,9,-999.000,9,-999.000,9,  2384.7,2,  2412.6,2,   7.3832,2,    25.08,-999.000,9,-999.0000,9, -999.00,9,  -999.0,9,  -999.0,-999.0000,9,-999.0000,  -999.0,9,     -999.0,9,-999.000,9, 20150616,     1242,-999.000,   1.9249,2,    34.7466,2,     -999.0,9,     -999.0,-999.0000,     -999.0,     -999.0,9,     -999.0,     -999.0,9,     -999.0,  -999.0,9,     -999.0,     -999.0,9,     -999.0
33RO20150525,     P16N.2,     178,          3,          6,          6,2,20150616,       1153,    54.6607,  -151.9962,       4287,  2266.5,   1.7509,  34.6191,2,  34.6191,2,     76.7,2,    76.2,2,  167.04,2,   40.66,2,    0.01,2,    2.83,2,   0.001,2,   0.001,2,       0,2,  2374.2,2,  2418.6,2,   7.4295,6,    24.99,-999.000,9,-999.0000,9, -999.00,9,  -999.0,9,  -999.0,-999.0000,9,-999.0000,  -999.0,9,     30.464,3,-999.000,9, 20150616,     1234,-999.000,   1.7508,2,    34.7823,2,     -999.0,9,     -999.0,-999.0000,     -999.0,     -999.0,9,     -999.0,     -999.0,9,     -999.0,  -999.0,9,     -999.0,     -999.0,9,     -999.0
33RO20150525,     P16N.2,     178,          3,          5,          5,2,20150616,       1153,    54.6607,  -151.9962,       4287,  2668.2,    1.636,  34.6422,2,  34.6419,2,     95.7,2,    95.4,2,  166.36,2,   39.39,2,    0.01,2,    2.73,2,-999.000,9,-999.000,9,-999.000,9,  2364.6,2,  2419.4,2,   7.4682,2,    24.99,-999.000,9,-999.0000,9, -999.00,9,  -999.0,9,  -999.0,-999.0000,9,-999.0000,  -999.0,9,     -999.0,9,-999.000,9, 20150616,     1226,-999.000,    1.636,2,    34.8052,2,     -999.0,9,     -999.0,-999.0000,     -999.0,     -999.0,9,     -999.0,     -999.0,9,     -999.0,  -999.0,9,     -999.0,     -999.0,9,     -999.0
33RO20150525,     P16N.2,     178,          3,          4,          4,2,20150616,       1153,    54.6607,  -151.9962,       4287,  3067.4,   1.5599,  34.6583,2,  34.6576,2,    112.3,2,   111.9,2,   164.3,6,   38.31,6,    0.01,6,    2.66,6,   0.004,2,   0.002,2,       0,2,  2353.9,2,    2421,2,   7.5008,2,    24.99,-999.000,9,-999.0000,9, -999.00,9,  -999.0,9,  -999.0,-999.0000,9,-999.0000,  -999.0,9,     24.800,3,-999.000,9, 20150616,     1218,-999.000,   1.5596,2,     34.821,2,     -999.0,9,     -999.0,-999.0000,     -999.0,     -999.0,9,     -999.0,     -999.0,9,     -999.0,  -999.0,9,     -999.0,     -999.0,9,     -999.0
33RO20150525,     P16N.2,     178,          3,          3,          3,2,20150616,       1153,    54.6607,  -151.9962,       4287,  3467.4,   1.5029,  34.6715,2,  34.6708,2,    127.1,2,   126.5,2,  162.54,6,   37.34,6,    0.01,6,    2.59,6,-999.000,9,-999.000,9,-999.000,9,  2345.4,2,    2422,6,   7.5297,2,    25.01,-999.000,9,-999.0000,9, -999.00,9,  -999.0,9,  -999.0,-999.0000,9,-999.0000,  -999.0,9,     -999.0,9,-999.000,9, 20150616,     1210,-999.000,   1.5026,2,    34.8343,2,     -999.0,9,     -999.0,-999.0000,     -999.0,     -999.0,9,     -999.0,     -999.0,9,     -999.0,  -999.0,9,     -999.0,     -999.0,9,     -999.0
33RO20150525,     P16N.2,     178,          3,          2,          2,2,20150616,       1153,    54.6607,  -151.9962,       4287,  3961.3,   1.4933,  34.6799,2,  34.6796,2,    136.8,2,   136.1,2,  160.98,6,   36.65,6,    0.01,6,    2.54,6,   0.002,2,   0.002,2,       0,2,  2339.4,2,  2422.8,2,   7.5488,6,       25,-999.000,9,-999.0000,9, -999.00,9,  -999.0,9,  -999.0,-999.0000,9,-999.0000,  -999.0,9,     22.008,3,-999.000,9, 20150616,     1201,-999.000,   1.4932,2,    34.8431,2,     -999.0,9,     -999.0,-999.0000,     -999.0,     -999.0,9,     -999.0,     -999.0,9,     -999.0,  -999.0,9,     -999.0,     -999.0,9,     -999.0
33RO20150525,     P16N.2,     178,          3,          1,          1,2,20150616,       1153,    54.6607,  -151.9962,       4287,  4357.6,   1.5149,  34.6837,2,  34.6833,2,    140.9,2,   142.9,2,  161.27,6,   36.36,6,    0.01,6,    2.51,6,   0.002,6,   0.002,6,       0,6,  2336.5,6,  2424.2,2,   7.5564,2,    24.98,-999.000,9,-999.0000,9, -999.00,9,  -999.0,9,  -999.0,-999.0000,9,-999.0000,  -999.0,9,     21.571,3,-999.000,9, 20150616,     1153,-999.000,   1.5145,2,    34.8469,2,     -999.0,9,     -999.0,-999.0000,     -999.0,     -999.0,9,     -999.0,     -999.0,9,     -999.0,  -999.0,9,     -999.0,     -999.0,9,     -999.0