BOTTLE,20220330CCHSIOCBG
EXPOCODE,SECT_ID,STNNBR,CASTNO,SAMPNO,BTLNBR,BTLNBR_FLAG_W,DATE,TIME,LATITUDE,LONGITUDE,DEPTH,CTDPRS,CTDTMP,CTDSAL,CTDSAL_FLAG_W,SALNTY,SALNTY_FLAG_W,CTDOXY,CTDOXY_FLAG_W,OXYGEN,OXYGEN_FLAG_W,SILCAT,SILCAT_FLAG_W,NITRAT,NITRAT_FLAG_W,NITRIT,NITRIT_FLAG_W,PHSPHT,PHSPHT_FLAG_W,CFC-11,CFC-11_FLAG_W,CFC-12,CFC-12_FLAG_W,SF6,SF6_FLAG_W,TCARBN,TCARBN_FLAG_W,ALKALI,ALKALI_FLAG_W,PH_TOT,PH_TOT_FLAG_W,PH_TMP,TRITUM,TRITUM_FLAG_W,HELIUM,HELIUM_FLAG_W,DELC13,DELC13_FLAG_W,DELC14,DELC14_FLAG_W,C14ERR,NEON,NEON_FLAG_W,NEONER,DOC,DOC_FLAG_W,N2O,N2O_FLAG_W,ARGON,ARGON_FLAG_W,BTL_DATE,BTL_TIME,TRITER,SBE35,SBE35_FLAG_W,SALTREF,SALTREF_FLAG_W,DELHE3,DELHE3_FLAG_W,DELHER,HELIER,ARGONER,KRYPTON,KRYPTON_FLAG_W,KRYPTONER,XENON,XENON_FLAG_W,XENONER,14C-DOC,14C-DOC_FLAG_W,14C-DOCERR,13C-DOC,13C-DOC_FLAG_W,13C-DOCERR
,,,,,,,,,,,METERS,DBAR,ITS-90,PSS-78,,PSS-78,,UMOL/KG,,UMOL/KG,,UMOL/KG,,UMOL/KG,,UMOL/KG,,UMOL/KG,,PMOL/KG,,PMOL/KG,,FMOL/KG,,UMOL/KG,,UMOL/KG,,,,DEG C,TU,,NMOL/KG,,/MILLE,,/MILLE,,/MILLE,NMOL/KG,,NMOL/KG,UMOL/KG,,NMOL/KG,,UMOL/KG,,,,TU,ITS-90,,G/KG,,PERCNT,,PERCNT,NMOL/KG,UMOL/KG,NMOL/KG,,NMOL/KG,NMOL/KG,,NMOL/KG,/MILLE,,/MILLE,/MILLE,,/MILLE
33RO20150525,     P16N.2,     133,          2,         24,         24,2,20150602,       1238,    32.4999,  -151.9999,       5337,     3.2,  19.7462,  34.4996,2,   34.499,2,    231.1,2,   231.1,2,    2.83,2,       0,2,       0,2,    0.03,2,   2.212,6,   1.342,6,   1.716,6,  2017.5,6,  2269.3,2,   7.9623,2,       25,-999.000,9,-999.0000,9,    0.65,2,    38.3,2,     2.3,-999.0000,9,-999.0000,    63.8,2,      7.766,3,-999.000,9, 20150602,     1441,-999.000,  19.7417,2,    34.6616,2,     -999.0,9,     -999.0,-999.0000,     -999.0,     -999.0,9,     -999.0,     -999.0,9,     -999.0,  -999.0,9,     -999.0,     -999.0,9,     -999.0
33RO20150525,     P16N.2,     133,          2,         23,         23,2,20150602,       1238,    32.4999,  -151.9999,       5337,    23.2,  18.6367,  34.4571,2,   34.445,2,    243.2,2,   242.9,2,    3.03,2,       0,2,       0,2,    0.03,2,-999.000,9,-999.000,9,-999.000,9,  2014.3,2,  2264.6,2,   7.9625,2,    25.01,-999.000,9,-999.0000,9, -999.00,9,  -999.0,9,  -999.0,-999.0000,9,-999.0000,    62.6,2,     -999.0,9,-999.000,9, 20150602,     1439,-999.000,  18.6667,2,    34.6074,2,     -999.0,9,     -999.0,-999.0000,     -999.0,     -999.0,9,     -999.0,     -999.0,9,     -999.0,  -999.0,9,     -999.0,     -999.0,9,     -999.0
33RO20150525,     P16N.2,     133,          2,         22,         22,2,20150602,       1238,    32.4999,  -151.9999,       5337,    50.9,  17.0106,  34.3594,2,  34.3569,2,    246.7,2,   247.5,2,    3.22,2,       0,2,       0,2,    0.04,2,   2.519,2,   1.493,2,   1.825,2,    2014,2,  2258.2,2,   7.9553,2,    25.03,-999.000,9,-999.0000,9,    0.64,2,    41.4,2,     2.5,-999.0000,9,-999.0000,    61.1,2,      8.459,3,-999.000,9, 20150602,     1438,-999.000,  17.0097,2,    34.5189,2,     -999.0,9,     -999.0,-999.0000,     -999.0,     -999.0,9,     -999.0,     -999.0,9,     -999.0,  -999.0,9,     -999.0,     -999.0,9,     -999.0
33RO20150525,     P16N.2,     133,          2,         21,         21,2,20150602,       1238,    32.4999,  -151.9999,       5337,    79.9,  16.1168,  34.3247,2,  34.3294,2,    246.9,2,   245.9,2,    3.32,2,       0,2,    0.01,2,    0.07,2,   2.524,2,   1.521,2,   1.899,2,  2012.9,2,  2257.4,6,   7.9502,2,    25.04,-999.000,9,-999.0000,9,    0.60,2,    44.2,2,     4.3,-999.0000,9,-999.0000,    60.1,2,      8.600,3,-999.000,9, 20150602,     1436,-999.000,  16.1161,2,    34.4913,2,     -999.0,9,     -999.0,-999.0000,     -999.0,     -999.0,9,     -999.0,     -999.0,9,     -999.0,  -999.0,9,     -999.0,     -999.0,9,     -999.0
33RO20150525,     P16N.2,     133,          2,         20,         20,2,20150602,       1238,    32.4999,  -151.9999,       5337,   130.2,   13.887,  34.1847,2,  34.1849,2,    228.7,2,     228,2,    5.47,2,     4.3,2,    0.03,2,    0.39,2,    2.81,2,   1.674,2,   1.911,2,  2043.8,2,    2250,2,   7.8749,6,    25.01,-999.000,9,-999.0000,9,    0.35,2,    43.2,2,     2.7,-999.0000,9,-999.0000,    52.0,2,     10.645,3,-999.000,9, 20150602,     1433,-999.000,  13.8858,2,    34.3461,2,     -999.0,9,     -999.0,-999.0000,     -999.0,     -999.0,9,     -999.0,     -999.0,9,     -999.0,  -999.0,9,     -999.0,     -999.0,9,     -999.0
33RO20150525,     P16N.2,     133,          2,         19,         19,2,20150602,       1238,    32.4999,  -151.9999,       5337,   200.9,  12.1911,  34.2222,2,  34.2249,2,    222.4,2,   221.4,2,    9.77,2,    9.87,2,    0.01,2,     0.7,2,    3.02,2,   1.771,2,   1.918,2,    2077,2,  2254.3,2,   7.8179,2,    25.03,-999.000,9,-999.0000,9,    0.16,2,    42.3,2,     2.4,-999.0000,9,-999.0000,    56.3,2,     14.358,3,-999.000,9, 20150602,     1431,-999.000,  12.1896,2,    34.3863,2,     -999.0,9,     -999.0,-999.0000,     -999.0,     -999.0,9,     -999.0,     -999.0,9,     -999.0,  -999.0,9,     -999.0,     -999.0,9,     -999.0
33RO20150525,     P16N.2,     133,          2,         18,         18,2,20150602,       1238,    32.4999,  -151.9999,       5337,   275.8,  10.7869,  34.1647,2,  34.1617,2,      211,2,   210.6,2,   15.15,2,   14.07,2,       0,2,    0.99,2,   3.191,2,   1.846,2,   1.691,2,  2103.3,2,  2258.1,2,    7.763,2,    25.01,-999.000,9,-999.0000,9,    0.12,2,    34.2,2,     3.2,-999.0000,9,-999.0000,    48.9,2,     17.836,3,-999.000,9, 20150602,     1428,-999.000,  10.7849,2,    34.3228,6,     -999.0,9,     -999.0,-999.0000,     -999.0,     -999.0,9,     -999.0,     -999.0,9,     -999.0,  -999.0,9,     -999.0,     -999.0,9,     -999.0
33RO20150525,     P16N.2,     133,          2,         17,         17,2,20150602,       1238,    32.4999,  -151.9999,       5337,   367.4,   9.0276,   34.067,2,  34.0671,2,    200.4,2,   198.7,2,   23.85,2,   18.76,2,       0,2,    1.31,2,   3.346,2,   1.855,2,   1.494,2,  2131.7,2,  2262.3,2,   7.6954,2,    25.03,-999.000,9,-999.0000,9,    0.09,2,    20.0,2,     2.1,-999.0000,9,-999.0000,    47.1,2,     21.913,3,-999.000,9, 20150602,     1426,-999.000,   9.0292,2,    34.2278,2,     -999.0,9,     -999.0,-999.0000,     -999.0,     -999.0,9,     -999.0,     -999.0,9,     -999.0,  -999.0,9,     -999.0,     -999.0,9,     -999.0
33RO20150525,     P16N.2,     133,          2,         16,         16,2,20150602,       1238,    32.4999,  -151.9999,       5337,   466.7,   7.2752,  33.9972,2,   33.997,2,    155.3,2,   154.2,2,   40.56,2,   26.29,2,       0,2,    1.82,2,   3.037,2,   1.611,2,   1.038,2,  2188.2,2,  2273.3,2,   7.5734,2,       25,-999.000,9,-999.0000,9,   -0.11,2,   -21.5,2,     2.1,-999.0000,9,-999.0000,    44.0,2,     26.518,3,-999.000,9, 20150602,     1422,-999.000,   7.2749,2,    34.1573,2,     -999.0,9,     -999.0,-999.0000,     -999.0,     -999.0,9,     -999.0,     -999.0,9,     -999.0,  -999.0,9,     -999.0,     -999.0,9,     -999.0
33RO20150525,     P16N.2,     133,          2,         15,         15,2,20150602,       1238,    32.4999,  -151.9999,       5337,   601.2,    5.187,  34.0159,2,  34.0266,2,     74.4,2,    73.5,2,    73.1,2,   37.24,2,       0,2,    2.61,2,   1.758,2,   0.863,2,   0.371,2,  2272.2,2,  2300.2,2,    7.376,2,    25.03,-999.000,9,-999.0000,9,   -0.42,2,   -80.6,2,     2.1,-999.0000,9,-999.0000,    46.5,2,     36.145,3,-999.000,9, 20150602,     1419,-999.000,   5.2022,2,     34.187,2,     -999.0,9,     -999.0,-999.0000,     -999.0,     -999.0,9,     -999.0,     -999.0,9,     -999.0,  -999.0,9,     -999.0,     -999.0,9,     -999.0
33RO20150525,     P16N.2,     133,          2,         14,         14,2,20150602,       1238,    32.4999,  -151.9999,       5337,   750.5,   4.3772,  34.1521,2,  34.1558,2,     29.4,2,    28.4,2,   95.77,2,   42.02,2,       0,2,    2.99,2,   0.531,6,   0.256,6,   0.081,2,  2327.3,2,  2324.8,2,   7.2953,2,    25.02,-999.000,9,-999.0000,9,   -0.60,2,  -138.1,2,     1.9,-999.0000,9,-999.0000,    42.3,2,     45.058,3,-999.000,9, 20150602,     1415,-999.000,   4.3765,2,    34.3168,2,     -999.0,9,     -999.0,-999.0000,     -999.0,     -999.0,9,     -999.0,     -999.0,9,     -999.0,  -999.0,9,     -999.0,     -999.0,9,     -999.0
33RO20150525,     P16N.2,     133,          2,         13,         13,2,20150602,       1238,    32.4999,  -151.9999,       5337,   900.6,   3.8727,  34.3145,2,  34.3136,2,      9.6,2,     9.6,2,  114.42,2,   43.78,2,       0,2,    3.13,2,   0.051,2,   0.026,2,       0,2,  2359.9,2,  2353.3,2,    7.282,6,    25.01,-999.000,9,-999.0000,9,   -0.60,2,  -178.6,2,     2.1,-999.0000,9,-999.0000,    42.8,2,     51.119,3,-999.000,9, 20150602,     1411,-999.000,   3.8779,2,    34.4754,2,     -999.0,9,     -999.0,-999.0000,     -999.0,     -999.0,9,     -999.0,     -999.0,9,     -999.0,  -999.0,9,     -999.0,     -999.0,9,     -999.0
33RO20150525,     P16N.2,     133,          2,         12,         12,2,20150602,       1238,    32.4999,  -151.9999,       5337,  1051.1,   3.5278,  34.4202,2,  34.4266,2,     14.3,2,    14.8,2,  124.57,2,   43.87,2,       0,2,    3.13,2,   0.014,2,    0.01,2,   0.062,3,    2371,2,    2372,2,   7.3045,2,    25.02,-999.000,9,-999.0000,9, -999.00,9,  -999.0,9,  -999.0,-999.0000,9,-999.0000,    40.7,2,     49.561,3,-999.000,9, 20150602,     1407,-999.000,   3.5291,2,    34.5889,2,     -999.0,9,     -999.0,-999.0000,     -999.0,     -999.0,9,     -999.0,     -999.0,9,     -999.0,  -999.0,9,     -999.0,     -999.0,9,     -999.0
33RO20150525,     P16N.2,     133,          2,         11,         11,2,20150602,       1238,    32.4999,  -151.9999,       5337,  1234.3,   3.1473,  34.4893,2,   34.489,2,     25.7,2,      26,2,  133.65,2,   43.57,2,       0,2,     3.1,2,   0.007,2,   0.006,2,       0,2,  2374.1,2,  2386.2,2,    7.333,2,    25.02,-999.000,9,-999.0000,9, -999.00,9,  -999.0,9,  -999.0,-999.0000,9,-999.0000,    38.6,2,     44.816,3,-999.000,9, 20150602,     1402,-999.000,   3.1495,2,    34.6516,2,     -999.0,9,     -999.0,-999.0000,     -999.0,     -999.0,9,     -999.0,     -999.0,9,     -999.0,  -999.0,9,     -999.0,     -999.0,9,     -999.0
33RO20150525,     P16N.2,     133,          2,         10,         10,2,20150602,       1238,    32.4999,  -151.9999,       5337,  1500.8,    2.679,  34.5431,2,  34.5418,2,     41.5,2,    41.4,2,   144.3,2,   42.89,2,       0,2,    3.02,2,-999.000,9,-999.000,9,-999.000,9,  2374.7,6,  2399.4,2,    7.366,6,    25.01,-999.000,9,-999.0000,9, -999.00,9,  -999.0,9,  -999.0,-999.0000,9,-999.0000,    38.8,2,     -999.0,9,-999.000,9, 20150602,     1357,-999.000,   2.6788,2,    34.7047,2,     -999.0,9,     -999.0,-999.0000,     -999.0,     -999.0,9,     -999.0,     -999.0,9,     -999.0,  -999.0,9,     -999.0,     -999.0,9,     -999.0
33RO20150525,     P16N.2,     133,          2,          9,          9,2,20150602,       1238,    32.4999,  -151.9999,       5337,  1868.5,   2.1227,   34.599,2,  34.5984,2,     64.3,2,      64,2,  158.75,2,   41.42,2,       0,2,    2.91,2,-999.000,9,-999.000,9,-999.000,9,  2376.2,2,  2416.4,2,   7.4111,2,    25.01,-999.000,9,-999.0000,9, -999.00,9,  -999.0,9,  -999.0,-999.0000,9,-999.0000,    37.7,2,     -999.0,9,-999.000,9, 20150602,     1349,-999.000,   2.1229,2,    34.7616,2,     -999.0,9,     -999.0,-999.0000,     -999.0,     -999.0,9,     -999.0,     -999.0,9,     -999.0,  -999.0,9,     -999.0,     -999.0,9,     -999.0
33RO20150525,     P16N.2,     133,          2,          8,          8,2,20150602,       1238,    32.4999,  -151.9999,       5337,  2267.4,   1.8164,  34.6322,2,  34.6317,2,     83.5,2,    83.8,2,  165.78,2,   40.15,2,       0,2,    2.81,2,-999.000,9,-999.000,9,-999.000,9,    2370,2,  2423.6,2,   7.4524,2,    25.03,-999.000,9,-999.0000,9, -999.00,9,  -999.0,9,  -999.0,-999.0000,9,-999.0000,    38.3,2,     -999.0,9,-999.000,9, 20150602,     1341,-999.000,   1.8159,2,     34.795,6,     -999.0,9,     -999.0,-999.0000,     -999.0,     -999.0,9,     -999.0,     -999.0,9,     -999.0,  -999.0,9,     -999.0,     -999.0,9,     -999.0
33RO20150525,     P16N.2,     133,          2,          7,          7,2,20150602,       1238,    32.4999,  -151.9999,       5337,  2733.6,   1.6087,   34.656,2,  34.6568,2,    105.9,2,   105.7,2,   164.8,2,   38.88,2,       0,2,    2.69,2,-999.000,9,-999.000,9,-999.000,9,  2358.4,2,  2428.4,2,   7.4954,2,    24.99,-999.000,9,-999.0000,9, -999.00,9,  -999.0,9,  -999.0,-999.0000,9,-999.0000,    38.9,2,     -999.0,9,-999.000,9, 20150602,     1331,-999.000,   1.6086,2,    34.8202,2,     -999.0,9,     -999.0,-999.0000,     -999.0,     -999.0,9,     -999.0,     -999.0,9,     -999.0,  -999.0,9,     -999.0,     -999.0,9,     -999.0
33RO20150525,     P16N.2,     133,          2,          6,          6,2,20150602,       1238,    32.4999,  -151.9999,       5337,  3233.7,    1.499,  34.6717,2,  34.6731,2,    126.8,2,   126.4,2,  159.23,2,   37.51,2,       0,2,    2.58,2,-999.000,9,-999.000,9,-999.000,9,  2344.9,2,  2427.6,2,   7.5316,2,    25.04,-999.000,9,-999.0000,9, -999.00,9,  -999.0,9,  -999.0,-999.0000,9,-999.0000,    37.9,2,     -999.0,9,-999.000,9, 20150602,     1321,-999.000,    1.499,2,    34.8365,6,     -999.0,9,     -999.0,-999.0000,     -999.0,     -999.0,9,     -999.0,     -999.0,9,     -999.0,  -999.0,9,     -999.0,     -999.0,9,     -999.0
33RO20150525,     P16N.2,     133,          2,          5,          5,2,20150602,       1238,    32.4999,  -151.9999,       5337,  3735.2,   1.4637,  34.6814,2,  34.6914,4,    139.3,2,   139.6,2,  154.83,2,   36.73,2,       0,2,    2.51,2,-999.000,9,-999.000,9,-999.000,9,  2336.3,2,  2425.6,2,   7.5565,2,    25.03,-999.000,9,-999.0000,9, -999.00,9,  -999.0,9,  -999.0,-999.0000,9,-999.0000,    36.3,2,     -999.0,9,-999.000,9, 20150602,     1312,-999.000,    1.464,2,     34.855,2,     -999.0,9,     -999.0,-999.0000,     -999.0,     -999.0,9,     -999.0,     -999.0,9,     -999.0,  -999.0,9,     -999.0,     -999.0,9,     -999.0
33RO20150525,     P16N.2,     133,          2,          4,          4,2,20150602,       1238,    32.4999,  -151.9999,       5337,  4234.7,   1.4738,  34.6864,2,  34.6816,4,    147.4,2,   148.7,2,  150.53,6,   36.14,6,       0,6,    2.46,6,-999.000,9,-999.000,9,-999.000,9,  2328.3,2,  2423.8,2,   7.5712,6,    25.04,-999.000,9,-999.0000,9, -999.00,9,  -999.0,9,  -999.0,-999.0000,9,-999.0000,    37.9,2,     -999.0,9,-999.000,9, 20150602,     1302,-999.000,   1.4739,2,    34.8452,2,     -999.0,9,     -999.0,-999.0000,     -999.0,     -999.0,9,     -999.0,     -999.0,9,     -999.0,  -999.0,9,     -999.0,     -999.0,9,     -999.0
33RO20150525,     P16N.2,     133,          2,          3,          3,2,20150602,       1238,    32.4999,  -151.9999,       5337,  4732.8,   1.5089,  34.6893,2,  34.6852,4,      153,2,   153.2,2,  146.33,6,   35.85,6,       0,6,    2.44,6,-999.000,9,-999.000,9,-999.000,9,  2325.1,2,  2421.8,6,   7.5791,2,    25.01,-999.000,9,-999.0000,9, -999.00,9,  -999.0,9,  -999.0,-999.0000,9,-999.0000,    38.3,2,     -999.0,9,-999.000,9, 20150602,     1253,-999.000,   1.5087,2,    34.8487,2,     -999.0,9,     -999.0,-999.0000,     -999.0,     -999.0,9,     -999.0,     -999.0,9,     -999.0,  -999.0,9,     -999.0,     -999.0,9,     -999.0
33RO20150525,     P16N.2,     133,          2,          2,          2,2,20150602,       1238,    32.4999,  -151.9999,       5337,  5055.4,   1.5434,  34.6904,2,  34.6972,4,    155.1,2,   154.3,2,  144.77,6,   35.75,6,       0,6,    2.42,6,-999.000,9,-999.000,9,-999.000,9,  2323.2,2,  2421.6,2,   7.5826,6,    24.89,-999.000,9,-999.0000,9, -999.00,9,  -999.0,9,  -999.0,-999.0000,9,-999.0000,    38.2,2,     -999.0,9,-999.000,9, 20150602,     1245,-999.000,   1.5437,2,    34.8608,2,     -999.0,9,     -999.0,-999.0000,     -999.0,     -999.0,9,     -999.0,     -999.0,9,     -999.0,  -999.0,9,     -999.0,     -999.0,9,     -999.0
33RO20150525,     P16N.2,     133,          2,          1,          1,2,20150602,       1238,    32.4999,  -151.9999,       5337,  5421.4,   1.5904,  34.6907,2,  34.6907,2,    155.2,2,     156,2,  144.28,6,   35.66,6,       0,6,    2.42,6,-999.000,9,-999.000,9,-999.000,9,  2323.4,6,  2422.4,2,   7.5814,6,    25.01,-999.000,9,-999.0000,9, -999.00,9,  -999.0,9,  -999.0,-999.0000,9,-999.0000,    37.6,2,     -999.0,9,-999.000,9, 20150602,     1238,-999.000,   1.5901,2,    34.8543,2,     -999.0,9,     -999.0,-999.0000,     -999.0,     -999.0,9,     -999.0,     -999.0,9,     -999.0,  -999.0,9,     -999.0,     -999.0,9,     -999.0