BOTTLE,20220330CCHSIOCBG
EXPOCODE,SECT_ID,STNNBR,CASTNO,SAMPNO,BTLNBR,BTLNBR_FLAG_W,DATE,TIME,LATITUDE,LONGITUDE,DEPTH,CTDPRS,CTDTMP,CTDSAL,CTDSAL_FLAG_W,SALNTY,SALNTY_FLAG_W,CTDOXY,CTDOXY_FLAG_W,OXYGEN,OXYGEN_FLAG_W,SILCAT,SILCAT_FLAG_W,NITRAT,NITRAT_FLAG_W,NITRIT,NITRIT_FLAG_W,PHSPHT,PHSPHT_FLAG_W,CFC-11,CFC-11_FLAG_W,CFC-12,CFC-12_FLAG_W,SF6,SF6_FLAG_W,TCARBN,TCARBN_FLAG_W,ALKALI,ALKALI_FLAG_W,PH_TOT,PH_TOT_FLAG_W,PH_TMP,TRITUM,TRITUM_FLAG_W,HELIUM,HELIUM_FLAG_W,DELC13,DELC13_FLAG_W,DELC14,DELC14_FLAG_W,C14ERR,NEON,NEON_FLAG_W,NEONER,DOC,DOC_FLAG_W,N2O,N2O_FLAG_W,ARGON,ARGON_FLAG_W,BTL_DATE,BTL_TIME,TRITER,SBE35,SBE35_FLAG_W,SALTREF,SALTREF_FLAG_W,DELHE3,DELHE3_FLAG_W,DELHER,HELIER,ARGONER,KRYPTON,KRYPTON_FLAG_W,KRYPTONER,XENON,XENON_FLAG_W,XENONER,14C-DOC,14C-DOC_FLAG_W,14C-DOCERR,13C-DOC,13C-DOC_FLAG_W,13C-DOCERR
,,,,,,,,,,,METERS,DBAR,ITS-90,PSS-78,,PSS-78,,UMOL/KG,,UMOL/KG,,UMOL/KG,,UMOL/KG,,UMOL/KG,,UMOL/KG,,PMOL/KG,,PMOL/KG,,FMOL/KG,,UMOL/KG,,UMOL/KG,,,,DEG C,TU,,NMOL/KG,,/MILLE,,/MILLE,,/MILLE,NMOL/KG,,NMOL/KG,UMOL/KG,,NMOL/KG,,UMOL/KG,,,,TU,ITS-90,,G/KG,,PERCNT,,PERCNT,NMOL/KG,UMOL/KG,NMOL/KG,,NMOL/KG,NMOL/KG,,NMOL/KG,/MILLE,,/MILLE,/MILLE,,/MILLE
33RO20150525,     P16N.2,     143,          2,         24,         24,2,20150605,       2209,    37.5001,  -152.0002,       5557,     3.6,  16.6206,  33.9084,2,  33.9083,2,    246.3,2,   246.8,2,    4.01,2,       0,2,    0.01,2,    0.12,2,   2.726,3,   1.562,6,   1.916,6,  2015.7,6,    2254,3,   7.9118,2,    25.15,-999.000,9,-999.0000,9,    0.72,2,    37.5,2,     2.1,-999.0000,9,-999.0000,    59.2,2,      8.749,3,-999.000,9, 20150606,     0029,-999.000,  16.6126,2,    34.0682,2,     -999.0,9,     -999.0,-999.0000,     -999.0,     -999.0,9,     -999.0,     -999.0,9,     -999.0,  -999.0,9,     -999.0,     -999.0,9,     -999.0
33RO20150525,     P16N.2,     143,          2,         23,         23,2,20150605,       2209,    37.5001,  -152.0002,       5557,    30.2,   15.747,  33.9323,2,  33.9295,2,    251.9,2,   252.6,2,    4.01,2,       0,2,       0,2,    0.12,2,   2.825,2,   1.612,2,   1.979,2,  2014.4,2,  2236.6,6,   7.9151,2,    25.17,-999.000,9,-999.0000,9,    0.71,2,    36.6,2,     2.3,-999.0000,9,-999.0000,    60.8,2,      8.988,3,-999.000,9, 20150606,     0026,-999.000,  15.7102,2,    34.0895,2,     -999.0,9,     -999.0,-999.0000,     -999.0,     -999.0,9,     -999.0,     -999.0,9,     -999.0,  -999.0,9,     -999.0,     -999.0,9,     -999.0
33RO20150525,     P16N.2,     143,          2,         22,         22,2,20150605,       2209,    37.5001,  -152.0002,       5557,    59.3,  12.9252,  33.9183,2,  33.9127,2,    268.5,2,   253.7,2,    4.59,2,    0.68,2,    0.09,2,    0.18,2,   2.673,3,   1.781,2,   2.129,2,  2018.6,2,    2235,2,   7.9012,2,    25.14,-999.000,9,-999.0000,9,    0.69,2,    37.6,2,     2.9,-999.0000,9,-999.0000,    57.5,2,     10.005,3,-999.000,9, 20150606,     0024,-999.000,  12.9235,2,    34.0727,2,     -999.0,9,     -999.0,-999.0000,     -999.0,     -999.0,9,     -999.0,     -999.0,9,     -999.0,  -999.0,9,     -999.0,     -999.0,9,     -999.0
33RO20150525,     P16N.2,     143,          2,         21,         21,2,20150605,       2209,    37.5001,  -152.0002,       5557,      90,  12.2306,  33.9255,2,  33.9255,2,      252,2,   249.1,2,    5.57,2,    3.62,2,    0.44,2,    0.39,2,   3.182,2,   1.796,2,   2.116,2,  2042.2,2,    2238,2,   7.8625,6,    25.12,-999.000,9,-999.0000,9,    0.45,2,    39.1,2,     2.5,-999.0000,9,-999.0000,    54.4,2,     10.867,3,-999.000,9, 20150606,     0022,-999.000,  12.2315,2,    34.0855,2,     -999.0,9,     -999.0,-999.0000,     -999.0,     -999.0,9,     -999.0,     -999.0,9,     -999.0,  -999.0,9,     -999.0,     -999.0,9,     -999.0
33RO20150525,     P16N.2,     143,          2,         20,         20,2,20150605,       2209,    37.5001,  -152.0002,       5557,   149.2,  11.5896,  34.1644,2,  34.1638,2,    226.2,2,   227.5,2,   10.26,2,   10.16,2,    0.02,2,    0.75,2,   3.188,2,   1.825,2,   1.935,2,  2078.9,2,  2254.4,2,   7.8048,6,    25.14,-999.000,9,-999.0000,9,    0.18,2,    39.2,2,     2.4,-999.0000,9,-999.0000,    50.3,2,     15.365,3,-999.000,9, 20150606,     0019,-999.000,   11.589,2,    34.3249,2,     -999.0,9,     -999.0,-999.0000,     -999.0,     -999.0,9,     -999.0,     -999.0,9,     -999.0,  -999.0,9,     -999.0,     -999.0,9,     -999.0
33RO20150525,     P16N.2,     143,          2,         19,         19,2,20150605,       2209,    37.5001,  -152.0002,       5557,   226.3,  10.4772,  34.1264,2,  34.1258,2,    214.7,2,   216.1,2,   15.64,2,   14.07,2,    0.02,2,    0.99,2,   3.289,2,   1.854,2,   1.797,2,  2104.1,2,  2258.7,2,   7.7627,2,    25.11,-999.000,9,-999.0000,9,    0.16,2,    29.5,2,     2.8,-999.0000,9,-999.0000,    48.4,2,     19.383,3,-999.000,9, 20150606,     0016,-999.000,   10.478,2,    34.2867,2,     -999.0,9,     -999.0,-999.0000,     -999.0,     -999.0,9,     -999.0,     -999.0,9,     -999.0,  -999.0,9,     -999.0,     -999.0,9,     -999.0
33RO20150525,     P16N.2,     143,          2,         18,         18,2,20150605,       2209,    37.5001,  -152.0002,       5557,     299,   9.4793,  34.0965,2,  34.1054,2,    200.1,2,     200,2,   22.38,2,   17.98,2,    0.01,2,    1.25,2,   3.309,2,   1.841,2,   1.542,2,  2127.9,2,    2264,2,   7.7102,2,    25.13,-999.000,9,-999.0000,9,    0.08,2,    20.0,2,     2.3,-999.0000,9,-999.0000,    47.1,2,     22.712,3,-999.000,9, 20150606,     0013,-999.000,   9.4707,2,    34.2662,2,     -999.0,9,     -999.0,-999.0000,     -999.0,     -999.0,9,     -999.0,     -999.0,9,     -999.0,  -999.0,9,     -999.0,     -999.0,9,     -999.0
33RO20150525,     P16N.2,     143,          2,         17,         17,2,20150605,       2209,    37.5001,  -152.0002,       5557,   400.1,   7.6874,  34.0139,2,  34.0137,2,    165.9,2,     167,2,   37.04,2,   24.63,2,    0.01,2,     1.7,2,   3.115,2,   1.679,2,   1.237,2,  2175.3,2,  2272.9,2,   7.6059,2,    25.12,-999.000,9,-999.0000,9,   -0.10,2,    -7.6,2,     2.2,-999.0000,9,-999.0000,    47.9,2,     26.565,3,-999.000,9, 20150606,     0010,-999.000,   7.6883,2,    34.1741,2,     -999.0,9,     -999.0,-999.0000,     -999.0,     -999.0,9,     -999.0,     -999.0,9,     -999.0,  -999.0,9,     -999.0,     -999.0,9,     -999.0
33RO20150525,     P16N.2,     143,          2,         16,         16,2,20150605,       2209,    37.5001,  -152.0002,       5557,   501.2,   6.1242,  33.9737,2,  33.9724,2,    129.1,2,   129.7,2,   55.03,2,   31.08,2,    0.01,2,    2.18,2,   2.742,2,   1.398,2,   0.821,2,  2222.8,2,  2284.5,2,   7.4991,2,    25.14,-999.000,9,-999.0000,9,   -0.22,2,   -41.8,2,     2.4,-999.0000,9,-999.0000,    44.8,2,     31.526,3,-999.000,9, 20150606,     0006,-999.000,   6.1244,2,    34.1326,6,     -999.0,9,     -999.0,-999.0000,     -999.0,     -999.0,9,     -999.0,     -999.0,9,     -999.0,  -999.0,9,     -999.0,     -999.0,9,     -999.0
33RO20150525,     P16N.2,     143,          2,         15,         15,2,20150605,       2209,    37.5001,  -152.0002,       5557,   649.4,   4.7519,   34.056,2,  34.0559,2,     68.5,2,    67.6,2,   82.78,2,    38.9,2,    0.01,2,     2.7,2,   1.512,2,   0.723,2,   0.289,2,  2289.1,2,  2309.7,2,    7.365,2,    25.13,-999.000,9,-999.0000,9,   -0.44,2,  -102.0,2,     2.3,-999.0000,9,-999.0000,    43.1,2,     39.677,3,-999.000,9, 20150606,     0002,-999.000,   4.7494,2,    34.2165,2,     -999.0,9,     -999.0,-999.0000,     -999.0,     -999.0,9,     -999.0,     -999.0,9,     -999.0,  -999.0,9,     -999.0,     -999.0,9,     -999.0
33RO20150525,     P16N.2,     143,          2,         14,         14,2,20150605,       2209,    37.5001,  -152.0002,       5557,   799.9,   4.0087,  34.1732,2,  34.1732,2,     32.8,2,    32.4,2,  105.05,2,    42.7,2,    0.01,2,    2.96,2,   0.622,6,   0.288,6,   0.106,6,  2334.5,2,  2334.1,2,   7.3045,2,    25.03,-999.000,9,-999.0000,9,   -0.60,2,  -151.0,2,     2.3,-999.0000,9,-999.0000,    41.3,2,     46.144,3,-999.000,9, 20150605,     2358,-999.000,   4.0074,2,    34.3343,2,     -999.0,9,     -999.0,-999.0000,     -999.0,     -999.0,9,     -999.0,     -999.0,9,     -999.0,  -999.0,9,     -999.0,     -999.0,9,     -999.0
33RO20150525,     P16N.2,     143,          2,         13,         13,2,20150605,       2209,    37.5001,  -152.0002,       5557,   949.5,    3.497,  34.2752,2,  34.2759,2,     15.3,2,    14.9,2,  122.14,2,   44.56,2,    0.01,2,    3.09,2,   0.161,2,   0.078,2,       0,2,  2364.1,2,  2356.1,2,    7.281,2,    25.02,-999.000,9,-999.0000,9,   -0.66,2,  -183.2,2,     2.1,-999.0000,9,-999.0000,    41.2,2,     49.879,3,-999.000,9, 20150605,     2353,-999.000,   3.4969,2,    34.4375,2,     -999.0,9,     -999.0,-999.0000,     -999.0,     -999.0,9,     -999.0,     -999.0,9,     -999.0,  -999.0,9,     -999.0,     -999.0,9,     -999.0
33RO20150525,     P16N.2,     143,          2,         12,         12,2,20150605,       2209,    37.5001,  -152.0002,       5557,  1102.3,   3.1168,  34.3559,2,  34.3542,2,      8.4,2,     7.9,2,  135.72,2,   45.43,2,    0.02,2,    3.13,2,    0.03,2,   0.017,2,       0,2,  2380.9,6,    2374,2,   7.2771,2,    25.03,-999.000,9,-999.0000,9,   -0.71,2,  -203.9,2,     2.5,-999.0000,9,-999.0000,    40.5,2,     53.875,3,-999.000,9, 20150605,     2349,-999.000,   3.1164,2,    34.5162,2,     -999.0,9,     -999.0,-999.0000,     -999.0,     -999.0,9,     -999.0,     -999.0,9,     -999.0,  -999.0,9,     -999.0,     -999.0,9,     -999.0
33RO20150525,     P16N.2,     143,          2,         11,         11,2,20150605,       2209,    37.5001,  -152.0002,       5557,  1301.6,   2.7853,  34.4434,2,  34.4423,2,      9.9,2,     8.9,2,  147.34,2,   45.53,2,    0.01,2,    3.14,2,   0.004,2,   0.002,2,       0,2,  2393.2,2,  2389.2,2,   7.2885,2,       25,-999.000,9,-999.0000,9,   -0.64,2,  -224.5,2,     2.1,-999.0000,9,-999.0000,    40.0,2,     52.897,3,-999.000,9, 20150605,     2344,-999.000,   2.7861,2,    34.6047,2,     -999.0,9,     -999.0,-999.0000,     -999.0,     -999.0,9,     -999.0,     -999.0,9,     -999.0,  -999.0,9,     -999.0,     -999.0,9,     -999.0
33RO20150525,     P16N.2,     143,          2,         10,         10,2,20150605,       2209,    37.5001,  -152.0002,       5557,  1500.9,   2.5119,  34.5056,2,  34.5071,2,     18.6,2,    18.3,2,  154.85,2,   45.23,2,    0.01,2,     3.1,2,       0,2,       0,2,       0,2,  2397.3,2,  2401.4,2,   7.3118,2,    25.02,-999.000,9,-999.0000,9,   -0.72,2,  -235.3,2,     2.4,-999.0000,9,-999.0000,    38.5,2,     32.378,3,-999.000,9, 20150605,     2339,-999.000,   2.5119,2,    34.6698,2,     -999.0,9,     -999.0,-999.0000,     -999.0,     -999.0,9,     -999.0,     -999.0,9,     -999.0,  -999.0,9,     -999.0,     -999.0,9,     -999.0
33RO20150525,     P16N.2,     143,          2,          9,          9,2,20150605,       2209,    37.5001,  -152.0002,       5557,  1800.8,   2.1857,  34.5763,2,  34.6126,4,     46.3,2,    46.8,2,     161,2,   43.47,2,    0.01,2,    2.99,2,-999.000,9,-999.000,9,-999.000,9,  2388.1,2,  2414.2,2,   7.3741,6,    25.03,-999.000,9,-999.0000,9,   -0.53,2,  -242.1,2,     2.3,-999.0000,9,-999.0000,    37.4,2,     -999.0,9,-999.000,9, 20150605,     2332,-999.000,   2.1855,2,    34.7758,2,     -999.0,9,     -999.0,-999.0000,     -999.0,     -999.0,9,     -999.0,     -999.0,9,     -999.0,  -999.0,9,     -999.0,     -999.0,9,     -999.0
33RO20150525,     P16N.2,     143,          2,          8,          8,2,20150605,       2209,    37.5001,  -152.0002,       5557,  2200.2,   1.8567,  34.6172,2,  34.6178,2,     69.2,2,    69.2,2,  166.56,2,   42.01,2,       0,2,    2.87,2,-999.000,9,-999.000,9,-999.000,9,    2381,2,    2420,2,   7.4212,2,    24.99,-999.000,9,-999.0000,9,   -0.42,2,  -248.4,2,     2.3,-999.0000,9,-999.0000,    38.3,2,     -999.0,9,-999.000,9, 20150605,     2324,-999.000,   1.8565,2,     34.781,2,     -999.0,9,     -999.0,-999.0000,     -999.0,     -999.0,9,     -999.0,     -999.0,9,     -999.0,  -999.0,9,     -999.0,     -999.0,9,     -999.0
33RO20150525,     P16N.2,     143,          2,          7,          7,2,20150605,       2209,    37.5001,  -152.0002,       5557,  2699.9,    1.629,  34.6491,2,  34.6507,2,    100.2,2,   100.5,2,  162.75,2,   39.95,2,    0.03,2,    2.71,2,-999.000,9,-999.000,9,-999.000,9,  2361.2,2,  2422.6,2,   7.4808,6,    25.02,-999.000,9,-999.0000,9,   -0.44,2,  -244.4,2,     2.4,-999.0000,9,-999.0000,    36.7,2,     -999.0,9,-999.000,9, 20150605,     2314,-999.000,   1.6287,2,    34.8141,6,     -999.0,9,     -999.0,-999.0000,     -999.0,     -999.0,9,     -999.0,     -999.0,9,     -999.0,  -999.0,9,     -999.0,     -999.0,9,     -999.0
33RO20150525,     P16N.2,     143,          2,          6,          6,2,20150605,       2209,    37.5001,  -152.0002,       5557,  3201.2,   1.5227,  34.6674,2,  34.6678,2,    122.2,2,   122.8,2,  157.86,2,   38.49,2,       0,2,    2.61,2,-999.000,9,-999.000,9,-999.000,9,  2348.5,2,  2423.6,2,   7.5238,2,    25.01,-999.000,9,-999.0000,9,   -0.25,2,  -235.7,2,     2.3,-999.0000,9,-999.0000,    37.8,2,     -999.0,9,-999.000,9, 20150605,     2304,-999.000,   1.5229,2,    34.8313,2,     -999.0,9,     -999.0,-999.0000,     -999.0,     -999.0,9,     -999.0,     -999.0,9,     -999.0,  -999.0,9,     -999.0,     -999.0,9,     -999.0
33RO20150525,     P16N.2,     143,          2,          5,          5,2,20150605,       2209,    37.5001,  -152.0002,       5557,  3698.9,   1.4807,  34.6784,2,  34.6783,2,    135.6,2,   136.1,2,  155.52,2,   37.51,2,       0,2,    2.53,2,-999.000,9,-999.000,9,-999.000,9,  2338.8,2,  2424.6,2,   7.5504,6,    25.02,-999.000,9,-999.0000,9,    0.03,2,  -231.4,2,     2.7,-999.0000,9,-999.0000,    38.3,2,     -999.0,9,-999.000,9, 20150605,     2254,-999.000,   1.4807,2,    34.8419,2,     -999.0,9,     -999.0,-999.0000,     -999.0,     -999.0,9,     -999.0,     -999.0,9,     -999.0,  -999.0,9,     -999.0,     -999.0,9,     -999.0
33RO20150525,     P16N.2,     143,          2,          4,          4,2,20150605,       2209,    37.5001,  -152.0002,       5557,  4200.4,   1.4856,  34.6843,2,  34.6846,2,    142.8,2,   143.2,2,  154.73,6,   36.93,6,       0,6,    2.49,6,-999.000,9,-999.000,9,-999.000,9,  2332.4,2,  2426.2,6,   7.5657,2,    25.01,-999.000,9,-999.0000,9,    0.07,2,  -226.2,2,     2.8,-999.0000,9,-999.0000,    37.2,2,     -999.0,9,-999.000,9, 20150605,     2244,-999.000,   1.4854,2,    34.8482,2,     -999.0,9,     -999.0,-999.0000,     -999.0,     -999.0,9,     -999.0,     -999.0,9,     -999.0,  -999.0,9,     -999.0,     -999.0,9,     -999.0
33RO20150525,     P16N.2,     143,          2,          3,          3,2,20150605,       2209,    37.5001,  -152.0002,       5557,  4701.1,    1.521,  34.6872,2,  34.6872,2,    147.9,2,   147.1,2,  153.17,6,   36.73,6,       0,6,    2.47,6,-999.000,9,-999.000,9,-999.000,9,  2331.2,2,    2425,2,   7.5731,2,    25.03,-999.000,9,-999.0000,9,    0.08,2,  -224.0,2,     2.1,-999.0000,9,-999.0000,    38.8,2,     -999.0,9,-999.000,9, 20150605,     2234,-999.000,   1.5212,2,    34.8508,2,     -999.0,9,     -999.0,-999.0000,     -999.0,     -999.0,9,     -999.0,     -999.0,9,     -999.0,  -999.0,9,     -999.0,     -999.0,9,     -999.0
33RO20150525,     P16N.2,     143,          2,          2,          2,2,20150605,       2209,    37.5001,  -152.0002,       5557,  5201.4,   1.5639,  34.6895,2,   34.689,2,    153.5,2,   151.8,2,   147.6,6,   36.44,6,       0,6,    2.45,6,-999.000,9,-999.000,9,-999.000,9,  2324.7,2,  2421.4,2,   7.5796,3,    25.03,-999.000,9,-999.0000,9,    0.05,2,  -219.8,2,     1.9,-999.0000,9,-999.0000,    39.9,2,     -999.0,9,-999.000,9, 20150605,     2224,-999.000,   1.5642,2,    34.8526,2,     -999.0,9,     -999.0,-999.0000,     -999.0,     -999.0,9,     -999.0,     -999.0,9,     -999.0,  -999.0,9,     -999.0,     -999.0,9,     -999.0
33RO20150525,     P16N.2,     143,          2,          1,          1,2,20150605,       2209,    37.5001,  -152.0002,       5557,  5657.6,   1.6179,  34.6905,2,  34.6912,2,    154.8,2,   154.9,2,  145.26,6,   36.24,6,       0,6,    2.44,6,-999.000,9,-999.000,9,-999.000,9,  2326.1,6,  2420.6,2,   7.5823,6,    25.01,-999.000,9,-999.0000,9,    0.06,2,  -217.6,2,     2.2,-999.0000,9,-999.0000,    38.6,2,     -999.0,9,-999.000,9, 20150605,     2209,-999.000,   1.6177,2,    34.8548,2,     -999.0,9,     -999.0,-999.0000,     -999.0,     -999.0,9,     -999.0,     -999.0,9,     -999.0,  -999.0,9,     -999.0,     -999.0,9,     -999.0