BOTTLE,20220330CCHSIOCBG
EXPOCODE,SECT_ID,STNNBR,CASTNO,SAMPNO,BTLNBR,BTLNBR_FLAG_W,DATE,TIME,LATITUDE,LONGITUDE,DEPTH,CTDPRS,CTDTMP,CTDSAL,CTDSAL_FLAG_W,SALNTY,SALNTY_FLAG_W,CTDOXY,CTDOXY_FLAG_W,OXYGEN,OXYGEN_FLAG_W,SILCAT,SILCAT_FLAG_W,NITRAT,NITRAT_FLAG_W,NITRIT,NITRIT_FLAG_W,PHSPHT,PHSPHT_FLAG_W,CFC-11,CFC-11_FLAG_W,CFC-12,CFC-12_FLAG_W,SF6,SF6_FLAG_W,TCARBN,TCARBN_FLAG_W,ALKALI,ALKALI_FLAG_W,PH_TOT,PH_TOT_FLAG_W,PH_TMP,TRITUM,TRITUM_FLAG_W,HELIUM,HELIUM_FLAG_W,DELC13,DELC13_FLAG_W,DELC14,DELC14_FLAG_W,C14ERR,NEON,NEON_FLAG_W,NEONER,DOC,DOC_FLAG_W,N2O,N2O_FLAG_W,ARGON,ARGON_FLAG_W,BTL_DATE,BTL_TIME,TRITER,SBE35,SBE35_FLAG_W,SALTREF,SALTREF_FLAG_W,DELHE3,DELHE3_FLAG_W,DELHER,HELIER,ARGONER,KRYPTON,KRYPTON_FLAG_W,KRYPTONER,XENON,XENON_FLAG_W,XENONER,14C-DOC,14C-DOC_FLAG_W,14C-DOCERR,13C-DOC,13C-DOC_FLAG_W,13C-DOCERR
,,,,,,,,,,,METERS,DBAR,ITS-90,PSS-78,,PSS-78,,UMOL/KG,,UMOL/KG,,UMOL/KG,,UMOL/KG,,UMOL/KG,,UMOL/KG,,PMOL/KG,,PMOL/KG,,FMOL/KG,,UMOL/KG,,UMOL/KG,,,,DEG C,TU,,NMOL/KG,,/MILLE,,/MILLE,,/MILLE,NMOL/KG,,NMOL/KG,UMOL/KG,,NMOL/KG,,UMOL/KG,,,,TU,ITS-90,,G/KG,,PERCNT,,PERCNT,NMOL/KG,UMOL/KG,NMOL/KG,,NMOL/KG,NMOL/KG,,NMOL/KG,/MILLE,,/MILLE,/MILLE,,/MILLE
33RO20150525,     P16N.2,     175,          1,         24,         24,2,20150615,       1635,    53.5003,  -151.9986,       4720,     2.9,   8.8139,  32.5129,2,  32.5139,2,    299.6,2,   301.8,2,   27.31,2,   10.57,2,    0.16,2,     1.2,2,   4.007,2,   2.251,2,   2.656,2,  2026.6,6,  2193.3,2,   7.8173,6,    25.05,-999.000,9,-999.0000,9,    1.26,2,   -25.7,2,     2.6,-999.0000,9,-999.0000,    60.0,2,     11.673,3,-999.000,9, 20150615,     1823,-999.000,   8.8135,2,    32.6672,2,     -999.0,9,     -999.0,-999.0000,     -999.0,     -999.0,9,     -999.0,     -999.0,9,     -999.0,  -999.0,9,     -999.0,     -999.0,9,     -999.0
33RO20150525,     P16N.2,     175,          1,         23,         23,2,20150615,       1635,    53.5003,  -151.9986,       4720,    20.1,    8.364,  32.5497,2,   32.582,2,    303.2,2,   304.7,2,   30.25,2,   12.53,2,    0.16,2,    1.32,2,-999.000,9,-999.000,9,-999.000,9,  2040.8,2,  2195.6,6,   7.7931,2,    25.04,-999.000,9,-999.0000,9,    1.14,2,   -33.6,2,     2.0,-999.0000,9,-999.0000,    59.9,2,     -999.0,9,-999.000,9, 20150615,     1821,-999.000,   8.3638,2,    32.7357,2,     -999.0,9,     -999.0,-999.0000,     -999.0,     -999.0,9,     -999.0,     -999.0,9,     -999.0,    -294,2,          4,     -999.0,9,     -999.0
33RO20150525,     P16N.2,     175,          1,         22,         22,2,20150615,       1635,    53.5003,  -151.9986,       4720,    41.9,    6.002,  32.7885,2,  32.8313,2,    301.5,2,   295.3,2,   37.88,2,   19.67,2,    0.15,2,    1.73,2,    4.45,2,   2.474,2,   2.794,2,  2098.3,2,  2212.8,2,   7.6783,2,    24.97,-999.000,9,-999.0000,9,    0.63,2,   -34.4,2,     2.0,-999.0000,9,-999.0000,    53.1,2,     14.109,3,-999.000,9, 20150615,     1819,-999.000,   5.9994,2,    32.9861,2,     -999.0,9,     -999.0,-999.0000,     -999.0,     -999.0,9,     -999.0,     -999.0,9,     -999.0,  -999.0,9,     -999.0,     -999.0,9,     -999.0
33RO20150525,     P16N.2,     175,          1,         21,         21,2,20150615,       1635,    53.5003,  -151.9986,       4720,    67.7,   4.9451,    33.06,2,  33.1304,3,    241.8,2,   225.3,2,   49.22,2,   27.01,2,    0.13,2,    2.13,2,   4.074,2,   2.226,2,   2.413,2,    2164,2,    2232,2,   7.5394,2,    25.03,-999.000,9,-999.0000,9,    0.11,2,   -51.2,2,     2.9,-999.0000,9,-999.0000,    53.1,2,     21.055,3,-999.000,9, 20150615,     1818,-999.000,   4.9516,2,    33.2866,2,     -999.0,9,     -999.0,-999.0000,     -999.0,     -999.0,9,     -999.0,     -999.0,9,     -999.0,    -338,2,          4,      -22.7,2,        0.2
33RO20150525,     P16N.2,     175,          1,         20,         20,2,20150615,       1635,    53.5003,  -151.9986,       4720,    92.1,   4.1634,  33.5426,2,  33.5463,2,    102.7,2,   118.3,2,    67.3,2,   36.88,2,    0.02,2,    2.64,2,   3.339,2,    1.78,2,   1.509,2,  2254.7,2,  2261.5,2,   7.3407,2,    25.07,-999.000,9,-999.0000,9,   -0.51,2,   -70.6,2,     2.3,-999.0000,9,-999.0000,    48.2,2,     31.718,3,-999.000,9, 20150615,     1816,-999.000,   4.1624,2,    33.7045,2,     -999.0,9,     -999.0,-999.0000,     -999.0,     -999.0,9,     -999.0,     -999.0,9,     -999.0,  -999.0,9,     -999.0,     -999.0,9,     -999.0
33RO20150525,     P16N.2,     175,          1,         19,         19,2,20150615,       1635,    53.5003,  -151.9986,       4720,   133.1,   3.8335,  33.7963,2,  33.7985,2,     60.8,2,    59.2,2,   81.27,2,   42.25,2,    0.01,2,    2.97,2,   2.737,2,   1.417,2,   0.967,2,  2305.8,2,  2283.7,2,   7.2427,2,    24.96,-999.000,9,-999.0000,9,   -0.84,2,   -92.7,2,     2.3,-999.0000,9,-999.0000,    46.8,2,     38.402,3,-999.000,9, 20150615,     1814,-999.000,   3.8333,2,    33.9579,2,     -999.0,9,     -999.0,-999.0000,     -999.0,     -999.0,9,     -999.0,     -999.0,9,     -999.0,    -403,2,          4,      -22.1,2,        0.2
33RO20150525,     P16N.2,     175,          1,         18,         18,2,20150615,       1635,    53.5003,  -151.9986,       4720,   201.2,    3.828,  33.9207,2,  33.9226,2,     31.3,2,    28.3,2,   91.63,2,    44.4,2,    0.01,2,    3.06,2,   2.131,2,   1.079,2,   0.598,2,  2328.8,2,  2298.7,2,   7.2113,6,    25.05,-999.000,9,-999.0000,9,   -0.94,2,  -109.7,2,     2.3,-999.0000,9,-999.0000,    44.2,2,     42.711,3,-999.000,9, 20150615,     1811,-999.000,   3.8274,2,    34.0826,2,     -999.0,9,     -999.0,-999.0000,     -999.0,     -999.0,9,     -999.0,     -999.0,9,     -999.0,  -999.0,9,     -999.0,     -999.0,9,     -999.0
33RO20150525,     P16N.2,     175,          1,         17,         17,2,20150615,       1635,    53.5003,  -151.9986,       4720,   250.5,   3.8596,  33.9989,2,  33.9965,2,     21.9,2,    22.6,2,   97.59,2,   44.49,2,    0.01,2,    3.09,2,    1.72,2,    0.86,2,   0.435,2,  2338.6,2,    2308,2,   7.2187,2,    25.03,-999.000,9,-999.0000,9,   -0.92,2,  -116.9,2,     3.3,-999.0000,9,-999.0000,    44.3,2,     44.274,3,-999.000,9, 20150615,     1809,-999.000,    3.859,2,    34.1568,2,     -999.0,9,     -999.0,-999.0000,     -999.0,     -999.0,9,     -999.0,     -999.0,9,     -999.0,  -999.0,9,     -999.0,     -999.0,9,     -999.0
33RO20150525,     P16N.2,     175,          1,         16,         16,2,20150615,       1635,    53.5003,  -151.9986,       4720,   367.4,   3.7631,  34.1075,2,   34.107,2,     18.2,2,    17.5,2,  108.05,2,    44.2,2,       0,2,    3.07,2,   1.086,2,   0.531,2,   0.228,2,  2345.3,2,  2326.3,2,   7.2415,6,    25.07,-999.000,9,-999.0000,9,   -0.93,2,  -144.2,2,     1.7,-999.0000,9,-999.0000,    41.8,2,     45.390,3,-999.000,9, 20150615,     1806,-999.000,   3.7628,2,    34.2678,2,     -999.0,9,     -999.0,-999.0000,     -999.0,     -999.0,9,     -999.0,     -999.0,9,     -999.0,    -458,2,          4,      -22.5,2,        0.2
33RO20150525,     P16N.2,     175,          1,         15,         15,2,20150615,       1635,    53.5003,  -151.9986,       4720,   467.6,   3.6317,  34.1875,2,  34.1858,2,     15.3,2,      15,2,  116.16,2,    44.1,2,    0.01,2,    3.07,2,   0.693,2,   0.334,2,   0.131,2,  2355.7,2,  2337.9,2,   7.2561,2,    25.01,-999.000,9,-999.0000,9,   -0.76,2,  -165.0,2,     1.9,-999.0000,9,-999.0000,    41.8,2,     46.748,3,-999.000,9, 20150615,     1803,-999.000,   3.6314,2,     34.347,2,     -999.0,9,     -999.0,-999.0000,     -999.0,     -999.0,9,     -999.0,     -999.0,9,     -999.0,  -999.0,9,     -999.0,     -999.0,9,     -999.0
33RO20150525,     P16N.2,     175,          1,         14,         14,2,20150615,       1635,    53.5003,  -151.9986,       4720,     601,    3.407,    34.26,2,  34.2613,2,       16,2,    14.9,2,  125.54,2,   44.09,2,       0,2,    3.08,2,    0.39,6,   0.189,6,   0.071,6,  2365.5,2,  2349.4,2,   7.2685,6,    25.04,-999.000,9,-999.0000,9,   -0.67,2,  -174.8,2,     1.8,-999.0000,9,-999.0000,    42.9,2,     47.733,3,-999.000,9, 20150615,     1800,-999.000,    3.409,2,    34.4229,2,     -999.0,9,     -999.0,-999.0000,     -999.0,     -999.0,9,     -999.0,     -999.0,9,     -999.0,    -489,2,          4,      -22.2,2,        0.2
33RO20150525,     P16N.2,     175,          1,         13,         13,2,20150615,       1635,    53.5003,  -151.9986,       4720,     751,   3.0965,  34.3312,2,  34.3309,2,     16.5,2,    18.6,2,   135.6,2,   44.09,2,       0,2,    3.08,2,   0.212,2,   0.103,2,   0.058,2,  2376.3,2,  2365.3,2,   7.2804,2,    24.99,-999.000,9,-999.0000,9,   -0.87,2,  -193.4,2,     1.8,-999.0000,9,-999.0000,    42.4,2,     47.391,3,-999.000,9, 20150615,     1757,-999.000,    3.097,2,    34.4928,2,     -999.0,9,     -999.0,-999.0000,     -999.0,     -999.0,9,     -999.0,     -999.0,9,     -999.0,    -497,2,          4,      -22.1,2,        0.2
33RO20150525,     P16N.2,     175,          1,         12,         12,2,20150615,       1635,    53.5003,  -151.9986,       4720,   900.3,    2.843,  34.3861,2,  34.3862,2,     18.5,2,    18.9,2,  143.61,2,   44.09,2,       0,2,    3.07,2,-999.000,9,-999.000,9,-999.000,9,  2380.9,2,  2377.4,2,   7.2925,2,       25,-999.000,9,-999.0000,9,   -0.84,2,  -206.9,2,     1.9,-999.0000,9,-999.0000,    40.5,2,     -999.0,9,-999.000,9, 20150615,     1753,-999.000,   2.8431,2,    34.5483,6,     -999.0,9,     -999.0,-999.0000,     -999.0,     -999.0,9,     -999.0,     -999.0,9,     -999.0,    -522,2,          4,      -22.0,2,        0.2
33RO20150525,     P16N.2,     175,          1,         11,         11,2,20150615,       1635,    53.5003,  -151.9986,       4720,  1049.8,   2.6469,  34.4285,2,  34.4273,2,     19.7,2,    20.9,2,  149.86,2,   44.19,2,       0,2,    3.07,2,   0.076,2,   0.036,2,       0,2,  2386.7,2,  2388.5,2,   7.3004,2,    24.99,-999.000,9,-999.0000,9,   -0.85,2,  -219.4,2,     2.1,-999.0000,9,-999.0000,    39.5,2,     45.507,3,-999.000,9, 20150615,     1749,-999.000,   2.6466,2,    34.5896,2,     -999.0,9,     -999.0,-999.0000,     -999.0,     -999.0,9,     -999.0,     -999.0,9,     -999.0,  -999.0,9,     -999.0,     -999.0,9,     -999.0
33RO20150525,     P16N.2,     175,          1,         10,         10,2,20150615,       1635,    53.5003,  -151.9986,       4720,  1233.1,    2.474,  34.4664,2,  34.4713,2,     22.9,2,    23.4,2,  155.04,2,   44.09,2,       0,2,    3.05,2,-999.000,9,-999.000,9,-999.000,9,  2391.1,2,  2393.9,2,   7.3099,2,    24.97,-999.000,9,-999.0000,9,   -0.81,2,  -224.3,2,     2.4,-999.0000,9,-999.0000,    39.2,2,     -999.0,9,-999.000,9, 20150615,     1745,-999.000,   2.4739,2,    34.6338,2,     -999.0,9,     -999.0,-999.0000,     -999.0,     -999.0,9,     -999.0,     -999.0,9,     -999.0,    -519,2,          4,      -21.8,2,        0.2
33RO20150525,     P16N.2,     175,          1,          9,          9,2,20150615,       1635,    53.5003,  -151.9986,       4720,  1500.1,   2.2413,  34.5181,2,  34.5178,2,     33.4,2,    32.7,2,  161.39,2,    43.6,2,       0,2,    3.01,2,   0.021,2,   0.011,2,       0,2,  2390.3,6,  2400.4,2,   7.3326,2,    25.03,-999.000,9,-999.0000,9,   -0.72,2,  -230.2,2,     1.8,-999.0000,9,-999.0000,    38.7,2,     40.951,3,-999.000,9, 20150615,     1739,-999.000,   2.2411,2,    34.6806,2,     -999.0,9,     -999.0,-999.0000,     -999.0,     -999.0,9,     -999.0,     -999.0,9,     -999.0,    -529,2,          4,     -999.0,9,     -999.0
33RO20150525,     P16N.2,     175,          1,          8,          8,2,20150615,       1635,    53.5003,  -151.9986,       4720,  1867.6,   1.9892,  34.5737,2,  34.5721,2,       50,2,    50.7,2,  166.37,2,   42.52,2,       0,2,    2.93,2,-999.000,9,-999.000,9,-999.000,9,    2386,2,  2409.6,2,   7.3723,2,    25.02,-999.000,9,-999.0000,9,   -0.69,2,  -239.9,2,     2.3,-999.0000,9,-999.0000,    37.8,2,     -999.0,9,-999.000,9, 20150615,     1732,-999.000,    1.989,2,    34.7351,2,     -999.0,9,     -999.0,-999.0000,     -999.0,     -999.0,9,     -999.0,     -999.0,9,     -999.0,    -537,2,          4,      -21.6,2,        0.2
33RO20150525,     P16N.2,     175,          1,          7,          7,2,20150615,       1635,    53.5003,  -151.9986,       4720,    2267,    1.777,  34.6151,2,  34.6149,2,       73,2,    74.3,2,  168.51,2,   40.95,2,       0,2,    2.84,2,-999.000,9,-999.000,9,-999.000,9,    2377,2,    2416,2,   7.4228,6,    24.99,-999.000,9,-999.0000,9,   -0.54,2,  -239.7,2,     2.0,-999.0000,9,-999.0000,    38.6,2,     -999.0,9,-999.000,9, 20150615,     1724,-999.000,   1.7772,2,    34.7781,2,     -999.0,9,     -999.0,-999.0000,     -999.0,     -999.0,9,     -999.0,     -999.0,9,     -999.0,  -999.0,9,     -999.0,     -999.0,9,     -999.0
33RO20150525,     P16N.2,     175,          1,          6,          6,2,20150615,       1635,    53.5003,  -151.9986,       4720,  2666.7,    1.654,    34.64,2,  34.6402,2,     92.9,2,      94,2,  167.14,2,   39.68,2,       0,2,    2.75,2,-999.000,9,-999.000,9,-999.000,9,  2367.5,2,  2418.8,2,   7.4632,2,    24.97,-999.000,9,-999.0000,9,   -0.49,2,  -241.0,2,     1.6,-999.0000,9,-999.0000,    38.8,2,     -999.0,9,-999.000,9, 20150615,     1717,-999.000,   1.6542,2,    34.8035,2,     -999.0,9,     -999.0,-999.0000,     -999.0,     -999.0,9,     -999.0,     -999.0,9,     -999.0,    -525,2,          4,      -22.0,2,        0.2
33RO20150525,     P16N.2,     175,          1,          5,          5,2,20150615,       1635,    53.5003,  -151.9986,       4720,  3067.5,   1.5568,  34.6589,2,  34.6583,2,    113.8,2,     113,2,  164.11,2,   38.31,2,       0,2,    2.64,2,-999.000,9,-999.000,9,-999.000,9,  2352.2,2,  2419.4,2,   7.5009,2,    25.03,-999.000,9,-999.0000,9,   -0.30,2,  -233.4,2,     2.9,-999.0000,9,-999.0000,    36.6,2,     -999.0,9,-999.000,9, 20150615,     1709,-999.000,   1.5573,2,    34.8217,2,     -999.0,9,     -999.0,-999.0000,     -999.0,     -999.0,9,     -999.0,     -999.0,9,     -999.0,  -999.0,9,     -999.0,     -999.0,9,     -999.0
33RO20150525,     P16N.2,     175,          1,          4,          4,2,20150615,       1635,    53.5003,  -151.9986,       4720,  3467.5,   1.4946,  34.6724,2,  34.6716,2,    128.5,2,   128.5,2,  161.66,6,   37.24,6,       0,6,    2.57,6,-999.000,9,-999.000,9,-999.000,9,  2342.4,2,  2420.8,2,   7.5316,6,    25.02,-999.000,9,-999.0000,9,   -0.26,2,  -231.6,2,     2.0,-999.0000,9,-999.0000,    37.8,2,     -999.0,9,-999.000,9, 20150615,     1701,-999.000,   1.4944,2,    34.8351,2,     -999.0,9,     -999.0,-999.0000,     -999.0,     -999.0,9,     -999.0,     -999.0,9,     -999.0,  -999.0,9,     -999.0,     -999.0,9,     -999.0
33RO20150525,     P16N.2,     175,          1,          3,          3,2,20150615,       1635,    53.5003,  -151.9986,       4720,  3839.4,   1.4804,  34.6795,2,  34.6789,2,    136.6,2,   136.7,2,  161.07,6,   36.55,6,       0,6,    2.53,6,-999.000,9,-999.000,9,-999.000,9,  2338.2,2,    2420,2,   7.5489,2,    25.01,-999.000,9,-999.0000,9,   -0.03,2,  -224.6,2,     1.9,-999.0000,9,-999.0000,    38.1,2,     -999.0,9,-999.000,9, 20150615,     1654,-999.000,   1.4805,2,    34.8424,2,     -999.0,9,     -999.0,-999.0000,     -999.0,     -999.0,9,     -999.0,     -999.0,9,     -999.0,    -543,2,          4,     -999.0,9,     -999.0
33RO20150525,     P16N.2,     175,          1,          2,          2,2,20150615,       1635,    53.5003,  -151.9986,       4720,  4331.6,   1.5018,  34.6841,2,  34.6939,4,    142.5,2,   142.9,2,  160.68,6,   36.16,6,       0,6,    2.51,6,-999.000,9,-999.000,9,-999.000,9,  2333.7,2,    2422,6,   7.5596,2,       25,-999.000,9,-999.0000,9,   -0.09,2,  -219.6,2,     1.8,-999.0000,9,-999.0000,    38.9,2,     -999.0,9,-999.000,9, 20150615,     1645,-999.000,   1.5018,2,    34.8574,2,     -999.0,9,     -999.0,-999.0000,     -999.0,     -999.0,9,     -999.0,     -999.0,9,     -999.0,    -535,2,          4,      -21.6,2,        0.2
33RO20150525,     P16N.2,     175,          1,          1,          1,2,20150615,       1635,    53.5003,  -151.9986,       4720,  4798.6,   1.5369,  34.6869,2,  34.6862,2,      146,2,   145.8,2,  159.02,6,   35.87,6,       0,6,    2.48,6,-999.000,9,-999.000,9,-999.000,9,  2332.7,6,  2420.8,2,   7.5646,2,    25.02,-999.000,9,-999.0000,9,    0.03,2,  -223.6,2,     1.5,-999.0000,9,-999.0000,    39.3,2,     -999.0,9,-999.000,9, 20150615,     1636,-999.000,   1.5369,2,    34.8498,2,     -999.0,9,     -999.0,-999.0000,     -999.0,     -999.0,9,     -999.0,     -999.0,9,     -999.0,  -999.0,9,     -999.0,     -999.0,9,     -999.0