BOTTLE,20220330CCHSIOCBG
EXPOCODE,SECT_ID,STNNBR,CASTNO,SAMPNO,BTLNBR,BTLNBR_FLAG_W,DATE,TIME,LATITUDE,LONGITUDE,DEPTH,CTDPRS,CTDTMP,CTDSAL,CTDSAL_FLAG_W,SALNTY,SALNTY_FLAG_W,CTDOXY,CTDOXY_FLAG_W,OXYGEN,OXYGEN_FLAG_W,SILCAT,SILCAT_FLAG_W,NITRAT,NITRAT_FLAG_W,NITRIT,NITRIT_FLAG_W,PHSPHT,PHSPHT_FLAG_W,CFC-11,CFC-11_FLAG_W,CFC-12,CFC-12_FLAG_W,SF6,SF6_FLAG_W,TCARBN,TCARBN_FLAG_W,ALKALI,ALKALI_FLAG_W,PH_TOT,PH_TOT_FLAG_W,PH_TMP,TRITUM,TRITUM_FLAG_W,HELIUM,HELIUM_FLAG_W,DELC13,DELC13_FLAG_W,DELC14,DELC14_FLAG_W,C14ERR,NEON,NEON_FLAG_W,NEONER,DOC,DOC_FLAG_W,N2O,N2O_FLAG_W,ARGON,ARGON_FLAG_W,BTL_DATE,BTL_TIME,TRITER,SBE35,SBE35_FLAG_W,SALTREF,SALTREF_FLAG_W,DELHE3,DELHE3_FLAG_W,DELHER,HELIER,ARGONER,KRYPTON,KRYPTON_FLAG_W,KRYPTONER,XENON,XENON_FLAG_W,XENONER,14C-DOC,14C-DOC_FLAG_W,14C-DOCERR,13C-DOC,13C-DOC_FLAG_W,13C-DOCERR
,,,,,,,,,,,METERS,DBAR,ITS-90,PSS-78,,PSS-78,,UMOL/KG,,UMOL/KG,,UMOL/KG,,UMOL/KG,,UMOL/KG,,UMOL/KG,,PMOL/KG,,PMOL/KG,,FMOL/KG,,UMOL/KG,,UMOL/KG,,,,DEG C,TU,,NMOL/KG,,/MILLE,,/MILLE,,/MILLE,NMOL/KG,,NMOL/KG,UMOL/KG,,NMOL/KG,,UMOL/KG,,,,TU,ITS-90,,G/KG,,PERCNT,,PERCNT,NMOL/KG,UMOL/KG,NMOL/KG,,NMOL/KG,NMOL/KG,,NMOL/KG,/MILLE,,/MILLE,/MILLE,,/MILLE
33RO20150525,     P16N.2,     165,          1,         24,         24,2,20150612,       1757,    48.4998,  -152.0012,       5057,     3.3,   9.4344,  32.7639,2,  32.7647,2,    289.9,2,   291.3,2,   19.58,2,   12.43,2,    0.14,2,    1.23,2,   3.954,6,     2.2,6,   2.566,6,  2050.8,2,  2207.2,2,    7.779,2,    24.99,-999.000,9,-999.0000,9, -999.00,9,  -999.0,9,  -999.0,-999.0000,9,-999.0000,    55.7,2,     11.420,3,-999.000,9, 20150612,     1953,-999.000,   9.4369,2,    32.9192,2,     -999.0,9,     -999.0,-999.0000,     -999.0,     -999.0,9,     -999.0,     -999.0,9,     -999.0,  -999.0,9,     -999.0,     -999.0,9,     -999.0
33RO20150525,     P16N.2,     165,          1,         23,         23,2,20150612,       1757,    48.4998,  -152.0012,       5057,    33.4,   6.7692,  32.8063,2,  32.8103,2,      312,2,   310.6,2,   19.77,2,   13.12,2,    0.09,2,    1.24,2,-999.000,9,-999.000,9,-999.000,9,  2061.9,3,  2208.6,2,   7.7667,6,    24.97,-999.000,9,-999.0000,9, -999.00,9,  -999.0,9,  -999.0,-999.0000,9,-999.0000,    55.2,2,     -999.0,9,-999.000,9, 20150612,     1950,-999.000,   6.7803,2,     32.965,2,     -999.0,9,     -999.0,-999.0000,     -999.0,     -999.0,9,     -999.0,     -999.0,9,     -999.0,  -999.0,9,     -999.0,     -999.0,9,     -999.0
33RO20150525,     P16N.2,     165,          1,         22,         22,2,20150612,       1757,    48.4998,  -152.0012,       5057,    58.3,   6.3441,  32.8173,2,  32.8155,2,    301.9,2,   304.1,2,   20.26,2,    13.9,2,    0.12,2,     1.3,2,   4.416,2,   2.439,2,   2.736,2,  2064.7,2,  2206.5,2,    7.749,2,    24.98,-999.000,9,-999.0000,9, -999.00,9,  -999.0,9,  -999.0,-999.0000,9,-999.0000,    55.5,2,     12.388,3,-999.000,9, 20150612,     1949,-999.000,   6.3421,2,    32.9703,2,     -999.0,9,     -999.0,-999.0000,     -999.0,     -999.0,9,     -999.0,     -999.0,9,     -999.0,  -999.0,9,     -999.0,     -999.0,9,     -999.0
33RO20150525,     P16N.2,     165,          1,         21,         21,2,20150612,       1757,    48.4998,  -152.0012,       5057,    83.3,   6.1908,  32.8341,2,  32.8448,2,    297.6,2,   299.5,2,   20.26,2,   14.09,2,    0.13,2,    1.32,2,     4.4,2,   2.431,2,   2.746,2,  2067.3,2,  2208.8,6,   7.7414,2,    24.98,-999.000,9,-999.0000,9, -999.00,9,  -999.0,9,  -999.0,-999.0000,9,-999.0000,    54.1,2,     12.441,3,-999.000,9, 20150612,     1947,-999.000,   6.1924,2,    32.9997,2,     -999.0,9,     -999.0,-999.0000,     -999.0,     -999.0,9,     -999.0,     -999.0,9,     -999.0,  -999.0,9,     -999.0,     -999.0,9,     -999.0
33RO20150525,     P16N.2,     165,          1,         20,         20,2,20150612,       1757,    48.4998,  -152.0012,       5057,   117.1,   5.8372,  33.6342,2,  33.6488,2,    214.6,2,   211.3,2,   36.88,2,   23.96,2,    0.01,2,    1.75,2,   3.893,2,   2.124,2,   2.051,2,  2159.8,2,  2254.7,2,   7.5955,2,    24.97,-999.000,9,-999.0000,9, -999.00,9,  -999.0,9,  -999.0,-999.0000,9,-999.0000,    49.4,2,     20.083,3,-999.000,9, 20150612,     1945,-999.000,   5.8368,2,    33.8075,2,     -999.0,9,     -999.0,-999.0000,     -999.0,     -999.0,9,     -999.0,     -999.0,9,     -999.0,  -999.0,9,     -999.0,     -999.0,9,     -999.0
33RO20150525,     P16N.2,     165,          1,         19,         19,2,20150612,       1757,    48.4998,  -152.0012,       5057,   175.7,   5.3868,  33.8136,2,  33.8125,2,    156.9,2,   156.8,2,    53.2,2,   29.83,2,    0.01,2,    2.13,2,   3.323,2,   1.802,2,   1.436,2,  2213.7,2,  2273.8,2,   7.4978,2,    24.96,-999.000,9,-999.0000,9, -999.00,9,  -999.0,9,  -999.0,-999.0000,9,-999.0000,    47.6,2,     25.933,3,-999.000,9, 20150612,     1943,-999.000,   5.4091,2,    33.9719,2,     -999.0,9,     -999.0,-999.0000,     -999.0,     -999.0,9,     -999.0,     -999.0,9,     -999.0,  -999.0,9,     -999.0,     -999.0,9,     -999.0
33RO20150525,     P16N.2,     165,          1,         18,         18,2,20150612,       1757,    48.4998,  -152.0012,       5057,   248.5,   4.4708,  33.8464,2,  33.8461,2,    113.1,2,   111.6,2,   70.81,2,   35.79,2,    0.01,2,    2.52,2,   2.884,2,   1.514,2,   1.076,2,  2260.4,2,  2287.3,2,   7.3891,6,    24.97,-999.000,9,-999.0000,9, -999.00,9,  -999.0,9,  -999.0,-999.0000,9,-999.0000,    46.1,2,     31.286,3,-999.000,9, 20150612,     1941,-999.000,   4.4742,2,    34.0057,2,     -999.0,9,     -999.0,-999.0000,     -999.0,     -999.0,9,     -999.0,     -999.0,9,     -999.0,  -999.0,9,     -999.0,     -999.0,9,     -999.0
33RO20150525,     P16N.2,     165,          1,         17,         17,2,20150612,       1757,    48.4998,  -152.0012,       5057,   332.5,   4.2368,   33.949,2,  33.9497,2,     79.8,2,    79.2,2,   83.71,2,   38.82,2,    0.01,2,    2.71,2,   2.222,2,   1.149,2,   0.718,2,  2287.7,2,  2304.2,2,   7.3415,2,    24.97,-999.000,9,-999.0000,9, -999.00,9,  -999.0,9,  -999.0,-999.0000,9,-999.0000,    46.4,2,     35.565,3,-999.000,9, 20150612,     1938,-999.000,   4.2365,2,    34.1098,2,     -999.0,9,     -999.0,-999.0000,     -999.0,     -999.0,9,     -999.0,     -999.0,9,     -999.0,  -999.0,9,     -999.0,     -999.0,9,     -999.0
33RO20150525,     P16N.2,     165,          1,         16,         16,2,20150612,       1757,    48.4998,  -152.0012,       5057,   432.1,   4.0614,   34.045,2,   34.043,2,     57.2,2,    58.4,2,   94.66,2,   40.68,2,       0,2,    2.85,2,   1.663,2,   0.841,2,    0.45,2,  2308.4,2,  2313.5,2,   7.3179,2,    24.97,-999.000,9,-999.0000,9, -999.00,9,  -999.0,9,  -999.0,-999.0000,9,-999.0000,    44.1,2,     38.744,3,-999.000,9, 20150612,     1935,-999.000,   4.0611,2,    34.2035,2,     -999.0,9,     -999.0,-999.0000,     -999.0,     -999.0,9,     -999.0,     -999.0,9,     -999.0,  -999.0,9,     -999.0,     -999.0,9,     -999.0
33RO20150525,     P16N.2,     165,          1,         15,         15,2,20150612,       1757,    48.4998,  -152.0012,       5057,     549,   3.7745,  34.1524,2,  34.1565,2,     39.5,2,    37.6,2,  109.12,2,   42.24,2,       0,2,    2.95,2,    1.02,2,   0.506,2,   0.259,2,  2334.2,2,  2331.9,2,   7.2966,2,    24.96,-999.000,9,-999.0000,9, -999.00,9,  -999.0,9,  -999.0,-999.0000,9,-999.0000,    44.1,2,     42.590,3,-999.000,9, 20150612,     1932,-999.000,   3.7754,2,    34.3175,2,     -999.0,9,     -999.0,-999.0000,     -999.0,     -999.0,9,     -999.0,     -999.0,9,     -999.0,  -999.0,9,     -999.0,     -999.0,9,     -999.0
33RO20150525,     P16N.2,     165,          1,         14,         14,2,20150612,       1757,    48.4998,  -152.0012,       5057,   701.1,   3.4827,   34.248,2,  34.2518,2,     28.3,2,    27.2,2,  122.31,2,   43.12,2,       0,2,    3.02,2,   0.538,2,   0.266,2,   0.107,2,  2354.3,2,  2351.1,2,   7.2923,2,    24.98,-999.000,9,-999.0000,9, -999.00,9,  -999.0,9,  -999.0,-999.0000,9,-999.0000,    43.0,2,     44.637,3,-999.000,9, 20150612,     1928,-999.000,   3.4824,2,    34.4133,2,     -999.0,9,     -999.0,-999.0000,     -999.0,     -999.0,9,     -999.0,     -999.0,9,     -999.0,  -999.0,9,     -999.0,     -999.0,9,     -999.0
33RO20150525,     P16N.2,     165,          1,         13,         13,2,20150612,       1757,    48.4998,  -152.0012,       5057,     850,   3.2009,  34.3223,2,  34.3208,2,     24.5,2,    23.9,2,  132.18,2,   43.51,2,       0,2,    3.06,2,   0.272,2,   0.135,2,       0,2,  2365.6,2,  2365.3,2,   7.2974,2,       25,-999.000,9,-999.0000,9, -999.00,9,  -999.0,9,  -999.0,-999.0000,9,-999.0000,    39.9,2,     45.363,3,-999.000,9, 20150612,     1925,-999.000,    3.202,2,    34.4827,2,     -999.0,9,     -999.0,-999.0000,     -999.0,     -999.0,9,     -999.0,     -999.0,9,     -999.0,  -999.0,9,     -999.0,     -999.0,9,     -999.0
33RO20150525,     P16N.2,     165,          1,         12,         12,2,20150612,       1757,    48.4998,  -152.0012,       5057,  1001.1,    2.966,  34.3726,2,  34.3746,2,     23.3,2,    23.2,2,  139.99,2,    43.7,2,       0,2,    3.05,2,    0.16,2,   0.079,2,   0.093,3,  2374.5,2,    2375,2,   7.3013,2,    24.97,-999.000,9,-999.0000,9, -999.00,9,  -999.0,9,  -999.0,-999.0000,9,-999.0000,    42.0,2,     45.417,3,-999.000,9, 20150612,     1921,-999.000,   2.9694,2,    34.5367,2,     -999.0,9,     -999.0,-999.0000,     -999.0,     -999.0,9,     -999.0,     -999.0,9,     -999.0,  -999.0,9,     -999.0,     -999.0,9,     -999.0
33RO20150525,     P16N.2,     165,          1,         11,         11,2,20150612,       1757,    48.4998,  -152.0012,       5057,  1166.3,    2.699,  34.4246,2,  34.4259,2,     24.6,2,    24.1,2,  148.59,2,    43.8,2,       0,2,    3.06,2,-999.000,9,-999.000,9,-999.000,9,  2382.3,2,  2385.6,2,   7.3088,2,    24.97,-999.000,9,-999.0000,9, -999.00,9,  -999.0,9,  -999.0,-999.0000,9,-999.0000,    39.5,2,     -999.0,9,-999.000,9, 20150612,     1917,-999.000,   2.6986,2,    34.5882,6,     -999.0,9,     -999.0,-999.0000,     -999.0,     -999.0,9,     -999.0,     -999.0,9,     -999.0,  -999.0,9,     -999.0,     -999.0,9,     -999.0
33RO20150525,     P16N.2,     165,          1,         10,         10,2,20150612,       1757,    48.4998,  -152.0012,       5057,  1400.7,   2.3979,  34.4864,2,  34.4877,2,     26.5,2,    25.8,2,  157.97,2,   43.89,2,       0,2,    3.05,2,   0.035,2,   0.017,2,       0,2,  2389.5,2,    2397,2,   7.3181,6,    24.96,-999.000,9,-999.0000,9, -999.00,9,  -999.0,9,  -999.0,-999.0000,9,-999.0000,    38.1,2,     43.103,3,-999.000,9, 20150612,     1912,-999.000,   2.3989,2,    34.6503,2,     -999.0,9,     -999.0,-999.0000,     -999.0,     -999.0,9,     -999.0,     -999.0,9,     -999.0,  -999.0,9,     -999.0,     -999.0,9,     -999.0
33RO20150525,     P16N.2,     165,          1,          9,          9,2,20150612,       1757,    48.4998,  -152.0012,       5057,  1732.7,   2.1365,  34.5459,2,  34.5452,2,     33.7,2,    33.6,2,  165.98,2,   43.79,2,       0,2,    3.01,2,-999.000,9,-999.000,9,-999.000,9,  2391.7,6,  2408.8,2,   7.3386,2,    24.99,-999.000,9,-999.0000,9, -999.00,9,  -999.0,9,  -999.0,-999.0000,9,-999.0000,    37.0,2,     -999.0,9,-999.000,9, 20150612,     1905,-999.000,    2.137,2,    34.7081,2,     -999.0,9,     -999.0,-999.0000,     -999.0,     -999.0,9,     -999.0,     -999.0,9,     -999.0,  -999.0,9,     -999.0,     -999.0,9,     -999.0
33RO20150525,     P16N.2,     165,          1,          8,          8,2,20150612,       1757,    48.4998,  -152.0012,       5057,  2133.2,    1.876,  34.5994,2,  34.5982,2,     57.2,2,    57.4,2,  170.47,2,   42.23,2,       0,2,     2.9,2,-999.000,9,-999.000,9,-999.000,9,  2384.8,2,  2415.8,2,   7.3899,2,    25.03,-999.000,9,-999.0000,9, -999.00,9,  -999.0,9,  -999.0,-999.0000,9,-999.0000,    37.7,2,     -999.0,9,-999.000,9, 20150612,     1857,-999.000,   1.8761,2,    34.7613,2,     -999.0,9,     -999.0,-999.0000,     -999.0,     -999.0,9,     -999.0,     -999.0,9,     -999.0,  -999.0,9,     -999.0,     -999.0,9,     -999.0
33RO20150525,     P16N.2,     165,          1,          7,          7,2,20150612,       1757,    48.4998,  -152.0012,       5057,  2533.3,   1.7168,  34.6301,2,  34.6291,2,     80.6,2,    80.4,2,  170.37,2,   40.86,2,       0,2,    2.81,2,-999.000,9,-999.000,9,-999.000,9,  2372.1,2,  2419.4,2,   7.4366,2,    25.04,-999.000,9,-999.0000,9, -999.00,9,  -999.0,9,  -999.0,-999.0000,9,-999.0000,    36.8,2,     -999.0,9,-999.000,9, 20150612,     1849,-999.000,   1.7175,2,    34.7924,2,     -999.0,9,     -999.0,-999.0000,     -999.0,     -999.0,9,     -999.0,     -999.0,9,     -999.0,  -999.0,9,     -999.0,     -999.0,9,     -999.0
33RO20150525,     P16N.2,     165,          1,          6,          6,2,20150612,       1757,    48.4998,  -152.0012,       5057,  2932.3,   1.6029,  34.6518,2,  34.6515,2,    102.1,2,   101.9,2,  167.43,2,   39.39,2,       0,2,    2.71,2,-999.000,9,-999.000,9,-999.000,9,  2360.5,2,  2421.8,2,   7.4799,2,    25.05,-999.000,9,-999.0000,9, -999.00,9,  -999.0,9,  -999.0,-999.0000,9,-999.0000,    39.6,2,     -999.0,9,-999.000,9, 20150612,     1841,-999.000,   1.6031,2,    34.8149,2,     -999.0,9,     -999.0,-999.0000,     -999.0,     -999.0,9,     -999.0,     -999.0,9,     -999.0,  -999.0,9,     -999.0,     -999.0,9,     -999.0
33RO20150525,     P16N.2,     165,          1,          5,          5,2,20150612,       1757,    48.4998,  -152.0012,       5057,  3333.9,   1.5306,  34.6665,2,  34.6666,2,    119.9,2,   119.8,2,   164.2,2,   38.12,2,       0,2,    2.62,2,-999.000,9,-999.000,9,-999.000,9,  2349.3,2,  2420.2,2,   7.5149,2,    25.03,-999.000,9,-999.0000,9, -999.00,9,  -999.0,9,  -999.0,-999.0000,9,-999.0000,    37.0,2,     -999.0,9,-999.000,9, 20150612,     1833,-999.000,   1.5309,2,    34.8301,2,     -999.0,9,     -999.0,-999.0000,     -999.0,     -999.0,9,     -999.0,     -999.0,9,     -999.0,  -999.0,9,     -999.0,     -999.0,9,     -999.0
33RO20150525,     P16N.2,     165,          1,          4,          4,2,20150612,       1757,    48.4998,  -152.0012,       5057,  3768.1,   1.4932,  34.6771,2,  34.6772,2,    132.9,2,   133.4,2,  162.05,6,   37.24,6,       0,6,    2.55,6,-999.000,9,-999.000,9,-999.000,9,  2339.9,2,  2423.6,2,   7.5427,6,    25.04,-999.000,9,-999.0000,9, -999.00,9,  -999.0,9,  -999.0,-999.0000,9,-999.0000,    39.8,2,     -999.0,9,-999.000,9, 20150612,     1824,-999.000,   1.4934,2,    34.8407,2,     -999.0,9,     -999.0,-999.0000,     -999.0,     -999.0,9,     -999.0,     -999.0,9,     -999.0,  -999.0,9,     -999.0,     -999.0,9,     -999.0
33RO20150525,     P16N.2,     165,          1,          3,          3,2,20150612,       1757,    48.4998,  -152.0012,       5057,  4264.7,   1.5035,  34.6836,2,  34.6838,2,    140.3,2,   139.9,2,   164.3,6,   36.85,6,       0,6,    2.52,6,-999.000,9,-999.000,9,-999.000,9,  2337.4,2,  2427.8,6,   7.5593,2,    25.04,-999.000,9,-999.0000,9, -999.00,9,  -999.0,9,  -999.0,-999.0000,9,-999.0000,    41.2,2,     -999.0,9,-999.000,9, 20150612,     1815,-999.000,   1.5036,2,    34.8473,2,     -999.0,9,     -999.0,-999.0000,     -999.0,     -999.0,9,     -999.0,     -999.0,9,     -999.0,  -999.0,9,     -999.0,     -999.0,9,     -999.0
33RO20150525,     P16N.2,     165,          1,          2,          2,2,20150612,       1757,    48.4998,  -152.0012,       5057,  4750.9,   1.5453,  34.6862,2,  34.6855,2,      142,2,   142.1,2,  166.25,6,   36.65,6,       0,6,     2.5,6,-999.000,9,-999.000,9,-999.000,9,  2336.5,2,  2432.4,2,   7.5654,6,    25.05,-999.000,9,-999.0000,9, -999.00,9,  -999.0,9,  -999.0,-999.0000,9,-999.0000,    37.8,2,     -999.0,9,-999.000,9, 20150612,     1805,-999.000,   1.5454,2,    34.8491,2,     -999.0,9,     -999.0,-999.0000,     -999.0,     -999.0,9,     -999.0,     -999.0,9,     -999.0,  -999.0,9,     -999.0,     -999.0,9,     -999.0
33RO20150525,     P16N.2,     165,          1,          1,          1,2,20150612,       1757,    48.4998,  -152.0012,       5057,  5141.9,   1.5862,  34.6879,2,  34.6881,2,    143.2,2,   143.2,2,  167.52,6,   36.55,6,    0.01,6,     2.5,6,-999.000,9,-999.000,9,-999.000,9,    2337,6,  2436.8,2,   7.5681,6,    25.04,-999.000,9,-999.0000,9, -999.00,9,  -999.0,9,  -999.0,-999.0000,9,-999.0000,    41.3,2,     -999.0,9,-999.000,9, 20150612,     1757,-999.000,   1.5858,2,    34.8517,2,     -999.0,9,     -999.0,-999.0000,     -999.0,     -999.0,9,     -999.0,     -999.0,9,     -999.0,  -999.0,9,     -999.0,     -999.0,9,     -999.0