BOTTLE,20220330CCHSIOCBG
EXPOCODE,SECT_ID,STNNBR,CASTNO,SAMPNO,BTLNBR,BTLNBR_FLAG_W,DATE,TIME,LATITUDE,LONGITUDE,DEPTH,CTDPRS,CTDTMP,CTDSAL,CTDSAL_FLAG_W,SALNTY,SALNTY_FLAG_W,CTDOXY,CTDOXY_FLAG_W,OXYGEN,OXYGEN_FLAG_W,SILCAT,SILCAT_FLAG_W,NITRAT,NITRAT_FLAG_W,NITRIT,NITRIT_FLAG_W,PHSPHT,PHSPHT_FLAG_W,CFC-11,CFC-11_FLAG_W,CFC-12,CFC-12_FLAG_W,SF6,SF6_FLAG_W,TCARBN,TCARBN_FLAG_W,ALKALI,ALKALI_FLAG_W,PH_TOT,PH_TOT_FLAG_W,PH_TMP,TRITUM,TRITUM_FLAG_W,HELIUM,HELIUM_FLAG_W,DELC13,DELC13_FLAG_W,DELC14,DELC14_FLAG_W,C14ERR,NEON,NEON_FLAG_W,NEONER,DOC,DOC_FLAG_W,N2O,N2O_FLAG_W,ARGON,ARGON_FLAG_W,BTL_DATE,BTL_TIME,TRITER,SBE35,SBE35_FLAG_W,SALTREF,SALTREF_FLAG_W,DELHE3,DELHE3_FLAG_W,DELHER,HELIER,ARGONER,KRYPTON,KRYPTON_FLAG_W,KRYPTONER,XENON,XENON_FLAG_W,XENONER,14C-DOC,14C-DOC_FLAG_W,14C-DOCERR,13C-DOC,13C-DOC_FLAG_W,13C-DOCERR
,,,,,,,,,,,METERS,DBAR,ITS-90,PSS-78,,PSS-78,,UMOL/KG,,UMOL/KG,,UMOL/KG,,UMOL/KG,,UMOL/KG,,UMOL/KG,,PMOL/KG,,PMOL/KG,,FMOL/KG,,UMOL/KG,,UMOL/KG,,,,DEG C,TU,,NMOL/KG,,/MILLE,,/MILLE,,/MILLE,NMOL/KG,,NMOL/KG,UMOL/KG,,NMOL/KG,,UMOL/KG,,,,TU,ITS-90,,G/KG,,PERCNT,,PERCNT,NMOL/KG,UMOL/KG,NMOL/KG,,NMOL/KG,NMOL/KG,,NMOL/KG,/MILLE,,/MILLE,/MILLE,,/MILLE
33RO20150525,     P16N.2,     146,          2,         24,         24,2,20150606,       2100,    38.9988,       -152,       5838,     3.6,  15.1218,  33.7332,2,  33.7328,2,    253.2,2,   253.9,2,    2.74,2,       0,2,    0.01,2,    0.13,2,   2.803,6,   1.645,6,   2.045,6,  2011.5,6,  2227.9,2,   7.9066,2,    25.05,   0.489,2,   1.7591,2, -999.00,9,  -999.0,9,  -999.0,   7.2777,2,   0.0182,  -999.0,9,      9.066,3,-999.000,9, 20150606,     2314,   0.005,  15.1222,2,    33.8919,2,      -1.37,2,       0.20,   0.0046,     -999.0,     -999.0,9,     -999.0,     -999.0,9,     -999.0,  -999.0,9,     -999.0,     -999.0,9,     -999.0
33RO20150525,     P16N.2,     146,          2,         23,         23,2,20150606,       2100,    38.9988,       -152,       5838,      30,  14.9136,  33.8057,2,  33.8091,2,    254.8,2,   256.7,2,    2.64,2,       0,2,    0.02,2,    0.14,2,   2.834,2,   1.656,2,   2.029,2,  2014.3,2,  2233.3,2,   7.9052,2,    25.05,   0.501,2,   1.7500,2, -999.00,9,  -999.0,9,  -999.0,   7.2754,2,   0.0182,  -999.0,9,      9.192,3,-999.000,9, 20150606,     2311,   0.003,  14.9154,2,    33.9685,2,      -1.03,2,       0.20,   0.0046,     -999.0,     -999.0,9,     -999.0,     -999.0,9,     -999.0,  -999.0,9,     -999.0,     -999.0,9,     -999.0
33RO20150525,     P16N.2,     146,          2,         22,         22,2,20150606,       2100,    38.9988,       -152,       5838,    60.3,  11.6376,  33.8684,2,  33.8697,2,    269.4,2,   266.4,2,    5.38,2,    2.15,2,    0.24,2,    0.36,2,   3.211,2,   1.865,2,   2.211,2,  2038.5,2,  2238.8,2,   7.8698,2,    25.07,   0.498,2,   1.7752,2, -999.00,9,  -999.0,9,  -999.0,   7.4562,2,   0.0186,  -999.0,9,     10.604,3,-999.000,9, 20150606,     2309,   0.003,  11.6365,2,    34.0294,2,      -1.68,2,       0.20,   0.0046,     -999.0,     -999.0,9,     -999.0,     -999.0,9,     -999.0,  -999.0,9,     -999.0,     -999.0,9,     -999.0
33RO20150525,     P16N.2,     146,          2,         21,         21,2,20150606,       2100,    38.9988,       -152,       5838,    88.6,  11.1731,  33.8554,2,  33.8563,2,    258.6,2,   258.9,2,    6.06,2,    3.23,2,    1.12,2,    0.44,2,   3.226,2,   1.868,2,   2.194,2,  2049.1,2,  2238.9,2,   7.8502,2,    25.04,   0.490,2,   1.7743,2, -999.00,9,  -999.0,9,  -999.0,   7.4617,2,   0.0187,  -999.0,9,     10.900,3,-999.000,9, 20150606,     2307,   0.004,  11.1716,2,     34.016,2,      -1.58,2,       0.20,   0.0046,     -999.0,     -999.0,9,     -999.0,     -999.0,9,     -999.0,  -999.0,9,     -999.0,     -999.0,9,     -999.0
33RO20150525,     P16N.2,     146,          2,         20,         20,2,20150606,       2100,    38.9988,       -152,       5838,   149.8,  11.2427,   34.162,2,  34.1596,2,    225.3,2,     228,2,   11.14,2,   10.26,2,    0.03,2,    0.78,2,   3.123,2,   1.838,2,   1.999,2,  2085.5,2,  2254.9,2,   7.8001,6,    25.07,   0.468,2,-999.0000,9, -999.00,9,  -999.0,9,  -999.0,-999.0000,9,-999.0000,  -999.0,9,     14.169,3,-999.000,9, 20150606,     2305,   0.004,  11.2423,2,    34.3207,2,     -999.0,9,     -999.0,-999.0000,     -999.0,     -999.0,9,     -999.0,     -999.0,9,     -999.0,  -999.0,9,     -999.0,     -999.0,9,     -999.0
33RO20150525,     P16N.2,     146,          2,         19,         19,2,20150606,       2100,    38.9988,       -152,       5838,   224.6,  10.2426,  34.1154,2,  34.1134,2,      223,2,   224.3,2,   15.54,2,   13.19,2,    0.02,2,    0.97,2,   3.251,2,   1.874,2,   1.911,2,  2102.2,2,  2258.6,2,   7.7665,2,    25.07,   0.488,2,   1.7876,2, -999.00,9,  -999.0,9,  -999.0,   7.5448,2,   0.0189,  -999.0,9,     17.960,3,-999.000,9, 20150606,     2302,   0.006,   10.235,2,    34.2742,2,       0.04,2,       0.20,   0.0046,     -999.0,     -999.0,9,     -999.0,     -999.0,9,     -999.0,  -999.0,9,     -999.0,     -999.0,9,     -999.0
33RO20150525,     P16N.2,     146,          2,         18,         18,2,20150606,       2100,    38.9988,       -152,       5838,   299.6,   9.2773,  34.0822,2,  34.0819,2,    200.5,2,     202,2,   23.55,2,   17.69,2,    0.02,2,    1.26,2,   3.226,2,   1.826,2,   1.603,2,  2132.2,2,  2264.4,2,   7.7076,2,    25.05,   0.487,2,   1.7969,2, -999.00,9,  -999.0,9,  -999.0,   7.6294,2,   0.0191,  -999.0,9,     22.935,3,-999.000,9, 20150606,     2259,   0.004,   9.2867,2,    34.2426,2,       2.22,2,       0.20,   0.0047,     -999.0,     -999.0,9,     -999.0,     -999.0,9,     -999.0,  -999.0,9,     -999.0,     -999.0,9,     -999.0
33RO20150525,     P16N.2,     146,          2,         17,         17,2,20150606,       2100,    38.9988,       -152,       5838,   400.4,   7.4445,  34.0082,2,  34.0061,2,    161.1,2,   160.5,2,   40.76,2,   25.41,2,    0.01,2,    1.81,2,   2.967,2,   1.624,2,   1.122,2,  2185.7,2,  2275.6,2,   7.5889,6,    25.06,-999.000,9,   1.8158,2, -999.00,9,  -999.0,9,  -999.0,   7.7479,2,   0.0194,  -999.0,9,     26.524,3,-999.000,9, 20150606,     2256,-999.000,   7.4208,2,    34.1664,6,       6.67,2,       0.20,   0.0047,     -999.0,     -999.0,9,     -999.0,     -999.0,9,     -999.0,  -999.0,9,     -999.0,     -999.0,9,     -999.0
33RO20150525,     P16N.2,     146,          2,         16,         16,2,20150606,       2100,    38.9988,       -152,       5838,     500,   5.8678,  33.9665,2,   33.965,2,    124.8,2,   125.4,2,   58.45,2,   31.57,2,    0.01,2,    2.25,2,-999.000,5,-999.000,5,-999.000,5,  2231.7,2,  2285.8,2,   7.4837,6,    25.06,   0.334,2,   1.8326,2, -999.00,9,  -999.0,9,  -999.0,   7.8458,2,   0.0196,  -999.0,9,     -999.0,5,-999.000,9, 20150606,     2252,   0.003,   5.8678,2,    34.1251,2,      10.00,2,       0.20,   0.0048,     -999.0,     -999.0,9,     -999.0,     -999.0,9,     -999.0,  -999.0,9,     -999.0,     -999.0,9,     -999.0
33RO20150525,     P16N.2,     146,          2,         15,         15,2,20150606,       2100,    38.9988,       -152,       5838,   650.2,   4.5777,  34.0744,2,  34.0722,2,     63.2,2,    63.2,2,   87.08,2,   39.09,2,    0.01,2,    2.74,2,   1.419,6,   0.692,6,   0.328,6,    2298,2,  2314.2,2,   7.3555,2,    25.05,   0.224,2,-999.0000,9, -999.00,9,  -999.0,9,  -999.0,-999.0000,9,-999.0000,  -999.0,9,     39.849,3,-999.000,9, 20150606,     2248,   0.002,   4.5787,2,    34.2328,2,     -999.0,9,     -999.0,-999.0000,     -999.0,     -999.0,9,     -999.0,     -999.0,9,     -999.0,  -999.0,9,     -999.0,     -999.0,9,     -999.0
33RO20150525,     P16N.2,     146,          2,         14,         14,2,20150606,       2100,    38.9988,       -152,       5838,     801,   3.9392,  34.1887,2,   34.187,2,     31.5,2,    31.3,2,   107.3,2,   42.41,2,    0.01,2,    2.99,2,   0.605,2,   0.285,2,   0.109,2,  2338.5,2,  2335.2,2,   7.3035,2,    25.06,   0.152,2,   1.8712,2, -999.00,9,  -999.0,9,  -999.0,   7.9935,2,   0.0200,  -999.0,9,     45.252,3,-999.000,9, 20150606,     2244,   0.002,   3.9391,2,    34.3482,2,      16.80,2,       0.20,   0.0049,     -999.0,     -999.0,9,     -999.0,     -999.0,9,     -999.0,  -999.0,9,     -999.0,     -999.0,9,     -999.0
33RO20150525,     P16N.2,     146,          2,         13,         13,2,20150606,       2100,    38.9988,       -152,       5838,   951.8,   3.5007,  34.2723,2,  34.2715,2,     18.9,2,    18.6,2,  121.95,2,   43.78,2,       0,2,    3.07,2,   0.227,2,   0.113,2,   0.034,2,  2361.7,2,  2354.7,2,   7.2868,2,    25.06,   0.073,2,   1.8765,2, -999.00,9,  -999.0,9,  -999.0,   8.0014,2,   0.0200,  -999.0,9,     48.154,3,-999.000,9, 20150606,     2241,   0.002,   3.5007,2,    34.4331,2,      16.66,2,       0.20,   0.0049,     -999.0,     -999.0,9,     -999.0,     -999.0,9,     -999.0,  -999.0,9,     -999.0,     -999.0,9,     -999.0
33RO20150525,     P16N.2,     146,          2,         12,         12,2,20150606,       2100,    38.9988,       -152,       5838,  1100.3,   3.1094,  34.3481,2,  34.3467,2,     12.7,2,    12.9,2,  134.84,2,   44.46,2,    0.01,2,     3.1,2,   0.074,2,   0.039,2,       0,2,  2378.6,2,  2369.9,2,   7.2817,2,    25.06,-999.000,9,   1.8785,2, -999.00,9,  -999.0,9,  -999.0,   8.0357,2,   0.0201,  -999.0,9,     50.703,3,-999.000,9, 20150606,     2237,-999.000,   3.1094,2,    34.5086,2,      16.82,2,       0.20,   0.0049,     -999.0,     -999.0,9,     -999.0,     -999.0,9,     -999.0,  -999.0,9,     -999.0,     -999.0,9,     -999.0
33RO20150525,     P16N.2,     146,          2,         11,         11,2,20150606,       2100,    38.9988,       -152,       5838,  1300.2,   2.7642,  34.4238,2,  34.4228,2,       10,2,     9.4,2,  147.44,2,   45.04,2,    0.01,2,    3.14,2,-999.000,5,-999.000,5,-999.000,5,  2392.5,2,  2386.3,2,   7.2852,2,    25.08,   0.004,2,   1.8972,2, -999.00,9,  -999.0,9,  -999.0,   8.0757,2,   0.0202,  -999.0,9,     -999.0,5,-999.000,9, 20150606,     2232,   0.001,    2.764,2,    34.5851,2,      17.21,2,       0.20,   0.0049,     -999.0,     -999.0,9,     -999.0,     -999.0,9,     -999.0,  -999.0,9,     -999.0,     -999.0,9,     -999.0
33RO20150525,     P16N.2,     146,          2,         10,         10,2,20150606,       2100,    38.9988,       -152,       5838,  1599.8,   2.3797,  34.5219,2,  34.5221,2,     20.9,2,    21.5,2,  158.76,2,   44.55,2,       0,2,    3.08,2,       0,2,   0.001,2,       0,2,  2399.6,2,    2405,2,   7.3178,2,    25.07,  -0.001,2,   1.9056,2, -999.00,9,  -999.0,9,  -999.0,   8.0707,2,   0.0202,  -999.0,9,     45.189,3,-999.000,9, 20150606,     2226,   0.001,   2.3791,2,    34.6849,2,      20.99,2,       0.20,   0.0050,     -999.0,     -999.0,9,     -999.0,     -999.0,9,     -999.0,  -999.0,9,     -999.0,     -999.0,9,     -999.0
33RO20150525,     P16N.2,     146,          2,          9,          9,2,20150606,       2100,    38.9988,       -152,       5838,  1999.3,   1.9933,   34.593,2,  34.5928,2,     52.1,2,    51.4,2,  166.66,2,   42.69,2,       0,2,    2.96,2,       0,2,   0.001,2,       0,2,  2391.3,2,  2418.4,2,   7.3823,2,    25.07,  -0.004,2,-999.0000,9, -999.00,9,  -999.0,9,  -999.0,-999.0000,9,-999.0000,  -999.0,9,     36.050,3,-999.000,9, 20150606,     2217,   0.001,   1.9934,2,    34.7559,2,     -999.0,9,     -999.0,-999.0000,     -999.0,     -999.0,9,     -999.0,     -999.0,9,     -999.0,  -999.0,9,     -999.0,     -999.0,9,     -999.0
33RO20150525,     P16N.2,     146,          2,          8,          8,2,20150606,       2100,    38.9988,       -152,       5838,    2502,    1.705,  34.6367,2,  34.6364,2,     85.5,2,    85.7,2,  165.78,2,   40.44,2,       0,2,    2.78,2,   0.001,2,   0.002,2,       0,2,  2370.4,6,    2422,2,   7.4518,2,    25.05,-999.000,9,-999.0000,9, -999.00,9,  -999.0,9,  -999.0,-999.0000,9,-999.0000,  -999.0,9,     29.104,3,-999.000,9, 20150606,     2207,-999.000,   1.7052,2,    34.7998,6,     -999.0,9,     -999.0,-999.0000,     -999.0,     -999.0,9,     -999.0,     -999.0,9,     -999.0,  -999.0,9,     -999.0,     -999.0,9,     -999.0
33RO20150525,     P16N.2,     146,          2,          7,          7,2,20150606,       2100,    38.9988,       -152,       5838,  3000.5,   1.5571,  34.6602,2,   34.661,2,    112.4,2,   113.2,2,  161.57,2,   38.59,2,       0,2,    2.66,2,  -0.001,2,   0.001,2,       0,2,  2357.5,2,  2423.4,2,   7.5031,2,    25.07,-999.000,9,-999.0000,9, -999.00,9,  -999.0,9,  -999.0,-999.0000,9,-999.0000,  -999.0,9,     25.246,3,-999.000,9, 20150606,     2157,-999.000,   1.5566,2,    34.8244,2,     -999.0,9,     -999.0,-999.0000,     -999.0,     -999.0,9,     -999.0,     -999.0,9,     -999.0,  -999.0,9,     -999.0,     -999.0,9,     -999.0
33RO20150525,     P16N.2,     146,          2,          6,          6,2,20150606,       2100,    38.9988,       -152,       5838,  3499.3,   1.4861,   34.675,2,  34.6754,2,    130.8,2,   131.1,2,  157.96,2,   37.32,2,       0,2,    2.56,2,       0,2,   0.001,2,       0,2,  2345.5,2,  2424.2,2,   7.5397,2,    25.05,-999.000,9,-999.0000,9, -999.00,9,  -999.0,9,  -999.0,-999.0000,9,-999.0000,  -999.0,9,     23.073,3,-999.000,9, 20150606,     2148,-999.000,    1.486,2,    34.8389,2,     -999.0,9,     -999.0,-999.0000,     -999.0,     -999.0,9,     -999.0,     -999.0,9,     -999.0,  -999.0,9,     -999.0,     -999.0,9,     -999.0
33RO20150525,     P16N.2,     146,          2,          5,          5,2,20150606,       2100,    38.9988,       -152,       5838,  4000.1,   1.4792,  34.6828,2,  34.6834,2,    138.3,2,   139.5,2,   160.3,2,   36.93,2,       0,2,    2.52,2,       0,2,       0,2,       0,2,  2340.4,2,  2431.4,3,    7.559,6,    25.07,-999.000,9,-999.0000,9, -999.00,9,  -999.0,9,  -999.0,-999.0000,9,-999.0000,  -999.0,9,     22.231,3,-999.000,9, 20150606,     2138,-999.000,   1.4791,2,     34.847,2,     -999.0,9,     -999.0,-999.0000,     -999.0,     -999.0,9,     -999.0,     -999.0,9,     -999.0,  -999.0,9,     -999.0,     -999.0,9,     -999.0
33RO20150525,     P16N.2,     146,          2,          4,          4,2,20150606,       2100,    38.9988,       -152,       5838,  4499.3,   1.5152,  34.6862,2,  34.6858,2,    142.1,2,   142.2,2,  161.38,6,   36.73,6,    0.01,6,    2.51,6,   0.002,2,   0.003,2,   1.458,4,  2338.6,2,  2430.4,3,   7.5671,2,    25.07,-999.000,9,-999.0000,9, -999.00,9,  -999.0,9,  -999.0,-999.0000,9,-999.0000,  -999.0,9,     21.679,3,-999.000,9, 20150606,     2128,-999.000,   1.5152,2,    34.8493,2,     -999.0,9,     -999.0,-999.0000,     -999.0,     -999.0,9,     -999.0,     -999.0,9,     -999.0,  -999.0,9,     -999.0,     -999.0,9,     -999.0
33RO20150525,     P16N.2,     146,          2,          3,          3,2,20150606,       2100,    38.9988,       -152,       5838,    5001,    1.561,  34.6877,2,   34.687,2,    145.7,2,   145.9,2,  156.39,6,   36.44,6,    0.01,6,    2.49,6,   0.002,6,   0.003,6,       0,6,  2334.8,2,    2428,6,   7.5722,2,    25.07,-999.000,9,-999.0000,9, -999.00,9,  -999.0,9,  -999.0,-999.0000,9,-999.0000,  -999.0,9,     21.660,3,-999.000,9, 20150606,     2118,-999.000,    1.561,2,    34.8505,2,     -999.0,9,     -999.0,-999.0000,     -999.0,     -999.0,9,     -999.0,     -999.0,9,     -999.0,  -999.0,9,     -999.0,     -999.0,9,     -999.0
33RO20150525,     P16N.2,     146,          2,          2,          2,2,20150606,       2100,    38.9988,       -152,       5838,  5499.1,   1.6146,  34.6888,2,  34.6876,2,    149.2,2,   148.7,2,   151.8,6,   36.14,6,    0.01,6,    2.46,6,   0.003,2,   0.002,2,       0,2,  2330.7,2,    2426,2,   7.5757,6,    25.07,-999.000,9,-999.0000,9, -999.00,9,  -999.0,9,  -999.0,-999.0000,9,-999.0000,  -999.0,9,     21.592,3,-999.000,9, 20150606,     2109,-999.000,   1.6146,2,    34.8511,2,     -999.0,9,     -999.0,-999.0000,     -999.0,     -999.0,9,     -999.0,     -999.0,9,     -999.0,  -999.0,9,     -999.0,     -999.0,9,     -999.0
33RO20150525,     P16N.2,     146,          2,          1,          1,2,20150606,       2100,    38.9988,       -152,       5838,  5945.6,    1.671,  34.6894,2,  34.6882,2,    151.6,2,   150.3,2,  150.04,6,   36.05,6,       0,6,    2.46,6,   0.003,2,   0.004,2,       0,2,  2329.6,6,  2425.2,2,   7.5771,6,    25.06,-999.000,9,-999.0000,9, -999.00,9,  -999.0,9,  -999.0,-999.0000,9,-999.0000,  -999.0,9,     21.399,3,-999.000,9, 20150606,     2100,-999.000,   1.6708,2,    34.8518,2,     -999.0,9,     -999.0,-999.0000,     -999.0,     -999.0,9,     -999.0,     -999.0,9,     -999.0,  -999.0,9,     -999.0,     -999.0,9,     -999.0