BOTTLE,20220330CCHSIOCBG
EXPOCODE,SECT_ID,STNNBR,CASTNO,SAMPNO,BTLNBR,BTLNBR_FLAG_W,DATE,TIME,LATITUDE,LONGITUDE,DEPTH,CTDPRS,CTDTMP,CTDSAL,CTDSAL_FLAG_W,SALNTY,SALNTY_FLAG_W,CTDOXY,CTDOXY_FLAG_W,OXYGEN,OXYGEN_FLAG_W,SILCAT,SILCAT_FLAG_W,NITRAT,NITRAT_FLAG_W,NITRIT,NITRIT_FLAG_W,PHSPHT,PHSPHT_FLAG_W,CFC-11,CFC-11_FLAG_W,CFC-12,CFC-12_FLAG_W,SF6,SF6_FLAG_W,TCARBN,TCARBN_FLAG_W,ALKALI,ALKALI_FLAG_W,PH_TOT,PH_TOT_FLAG_W,PH_TMP,TRITUM,TRITUM_FLAG_W,HELIUM,HELIUM_FLAG_W,DELC13,DELC13_FLAG_W,DELC14,DELC14_FLAG_W,C14ERR,NEON,NEON_FLAG_W,NEONER,DOC,DOC_FLAG_W,N2O,N2O_FLAG_W,ARGON,ARGON_FLAG_W,BTL_DATE,BTL_TIME,TRITER,SBE35,SBE35_FLAG_W,SALTREF,SALTREF_FLAG_W,DELHE3,DELHE3_FLAG_W,DELHER,HELIER,ARGONER,KRYPTON,KRYPTON_FLAG_W,KRYPTONER,XENON,XENON_FLAG_W,XENONER,14C-DOC,14C-DOC_FLAG_W,14C-DOCERR,13C-DOC,13C-DOC_FLAG_W,13C-DOCERR
,,,,,,,,,,,METERS,DBAR,ITS-90,PSS-78,,PSS-78,,UMOL/KG,,UMOL/KG,,UMOL/KG,,UMOL/KG,,UMOL/KG,,UMOL/KG,,PMOL/KG,,PMOL/KG,,FMOL/KG,,UMOL/KG,,UMOL/KG,,,,DEG C,TU,,NMOL/KG,,/MILLE,,/MILLE,,/MILLE,NMOL/KG,,NMOL/KG,UMOL/KG,,NMOL/KG,,UMOL/KG,,,,TU,ITS-90,,G/KG,,PERCNT,,PERCNT,NMOL/KG,UMOL/KG,NMOL/KG,,NMOL/KG,NMOL/KG,,NMOL/KG,/MILLE,,/MILLE,/MILLE,,/MILLE
33RO20150525,     P16N.2,     113,          2,         24,         24,2,20150527,       1031,    22.4993,   -152.001,       5341,     2.8,  24.7355,  34.8192,2,  34.8204,2,    206.6,2,   202.8,2,    1.07,2,     0.1,2,    0.01,2,    0.14,2,   1.706,6,   1.062,6,   1.427,6,  1986.6,6,  2294.3,2,   8.0597,2,    25.04,-999.000,9,-999.0000,9, -999.00,9,  -999.0,9,  -999.0,-999.0000,9,-999.0000,    72.5,2,      6.489,3,-999.000,9, 20150527,     1244,-999.000,  24.7375,2,    34.9846,2,     -999.0,9,     -999.0,-999.0000,     -999.0,     -999.0,9,     -999.0,     -999.0,9,     -999.0,  -999.0,9,     -999.0,     -999.0,9,     -999.0
33RO20150525,     P16N.2,     113,          2,         23,         23,2,20150527,       1031,    22.4993,   -152.001,       5341,    25.1,  24.6752,  34.8197,2,  34.8186,2,      208,2,   208.5,2,    1.07,2,       0,2,       0,2,    0.14,2,-999.000,9,-999.000,9,-999.000,9,  1985.9,2,  2294.2,2,   8.0609,6,    25.03,-999.000,9,-999.0000,9, -999.00,9,  -999.0,9,  -999.0,-999.0000,9,-999.0000,    76.5,2,     -999.0,9,-999.000,9, 20150527,     1242,-999.000,  24.6774,2,    34.9828,2,     -999.0,9,     -999.0,-999.0000,     -999.0,     -999.0,9,     -999.0,     -999.0,9,     -999.0,  -999.0,9,     -999.0,     -999.0,9,     -999.0
33RO20150525,     P16N.2,     113,          2,         22,         22,2,20150527,       1031,    22.4993,   -152.001,       5341,    49.6,  24.5996,   34.875,2,  34.8936,2,    209.5,2,   209.6,2,    1.17,2,       0,2,       0,2,    0.13,2,   1.726,2,    1.08,2,   1.413,2,  1989.9,2,    2299,6,    8.061,6,    25.03,-999.000,9,-999.0000,9, -999.00,9,  -999.0,9,  -999.0,-999.0000,9,-999.0000,    75.8,2,      6.611,3,-999.000,9, 20150527,     1240,-999.000,  24.6022,2,    35.0581,2,     -999.0,9,     -999.0,-999.0000,     -999.0,     -999.0,9,     -999.0,     -999.0,9,     -999.0,  -999.0,9,     -999.0,     -999.0,9,     -999.0
33RO20150525,     P16N.2,     113,          2,         21,         21,2,20150527,       1031,    22.4993,   -152.001,       5341,    75.3,  23.9238,  35.2848,2,  35.2776,2,      213,2,     214,2,    1.17,2,       0,2,       0,2,    0.09,2,-999.000,9,-999.000,9,-999.000,9,  2014.9,2,  2323.1,2,   8.0525,2,    25.04,-999.000,9,-999.0000,9, -999.00,9,  -999.0,9,  -999.0,-999.0000,9,-999.0000,    73.0,2,     -999.0,9,-999.000,9, 20150527,     1238,-999.000,  23.9394,2,    35.4439,2,     -999.0,9,     -999.0,-999.0000,     -999.0,     -999.0,9,     -999.0,     -999.0,9,     -999.0,  -999.0,9,     -999.0,     -999.0,9,     -999.0
33RO20150525,     P16N.2,     113,          2,         20,         20,2,20150527,       1031,    22.4993,   -152.001,       5341,    99.3,  22.4033,  35.1719,2,   35.166,2,    210.6,2,   210.6,2,    1.46,2,       0,2,    0.01,2,    0.15,2,   1.952,2,    1.21,2,   1.454,2,  2034.9,2,  2320.1,2,    8.012,6,    25.02,-999.000,9,-999.0000,9, -999.00,9,  -999.0,9,  -999.0,-999.0000,9,-999.0000,    70.2,2,      8.544,3,-999.000,9, 20150527,     1236,-999.000,  22.4042,2,    35.3318,2,     -999.0,9,     -999.0,-999.0000,     -999.0,     -999.0,9,     -999.0,     -999.0,9,     -999.0,  -999.0,9,     -999.0,     -999.0,9,     -999.0
33RO20150525,     P16N.2,     113,          2,         19,         19,2,20150527,       1031,    22.4993,   -152.001,       5341,   150.4,  20.0535,  35.0922,2,  35.0833,2,      190,2,     194,2,    2.24,2,    1.76,2,    0.06,2,    0.24,2,   2.168,2,   1.301,2,   1.529,2,  2061.9,2,  2310.8,2,   7.9486,2,    25.04,-999.000,9,-999.0000,9, -999.00,9,  -999.0,9,  -999.0,-999.0000,9,-999.0000,    56.6,2,      9.204,3,-999.000,9, 20150527,     1234,-999.000,  20.0574,2,    35.2487,2,     -999.0,9,     -999.0,-999.0000,     -999.0,     -999.0,9,     -999.0,     -999.0,9,     -999.0,  -999.0,9,     -999.0,     -999.0,9,     -999.0
33RO20150525,     P16N.2,     113,          2,         18,         18,2,20150527,       1031,    22.4993,   -152.001,       5341,   225.1,  15.5703,  34.4481,2,  34.4467,2,    181.3,2,   160.2,4,    5.86,2,    6.74,2,    0.01,2,     0.6,2,   2.593,2,    1.54,2,   1.501,2,    2083,2,  2270.9,2,   7.8375,2,    25.03,-999.000,9,-999.0000,9, -999.00,9,  -999.0,9,  -999.0,-999.0000,9,-999.0000,    51.3,2,     15.860,3,-999.000,9, 20150527,     1231,-999.000,   15.599,2,    34.6092,2,     -999.0,9,     -999.0,-999.0000,     -999.0,     -999.0,9,     -999.0,     -999.0,9,     -999.0,  -999.0,9,     -999.0,     -999.0,9,     -999.0
33RO20150525,     P16N.2,     113,          2,         17,         17,2,20150527,       1031,    22.4993,   -152.001,       5341,   299.5,  11.0571,   34.072,2,  34.0727,2,    175.5,2,   172.5,2,   15.82,2,   15.82,2,       0,2,    1.23,2,   3.135,2,   1.764,2,   1.354,2,  2123.5,2,  2253.8,2,   7.6983,2,    25.05,-999.000,9,-999.0000,9, -999.00,9,  -999.0,9,  -999.0,-999.0000,9,-999.0000,    47.6,2,     22.201,3,-999.000,9, 20150527,     1228,-999.000,  11.0537,2,    34.2334,2,     -999.0,9,     -999.0,-999.0000,     -999.0,     -999.0,9,     -999.0,     -999.0,9,     -999.0,  -999.0,9,     -999.0,     -999.0,9,     -999.0
33RO20150525,     P16N.2,     113,          2,         16,         16,2,20150527,       1031,    22.4993,   -152.001,       5341,   400.4,   8.4605,  34.1222,2,  34.1232,2,    113.9,2,     113,2,   35.84,2,   26.86,2,       0,2,       2,2,   2.511,6,   1.299,6,    0.67,6,  2205.4,2,  2271.9,2,   7.5247,2,    25.03,-999.000,9,-999.0000,9, -999.00,9,  -999.0,9,  -999.0,-999.0000,9,-999.0000,    44.4,2,     29.194,3,-999.000,9, 20150527,     1225,-999.000,   8.4545,2,    34.2841,6,     -999.0,9,     -999.0,-999.0000,     -999.0,     -999.0,9,     -999.0,     -999.0,9,     -999.0,  -999.0,9,     -999.0,     -999.0,9,     -999.0
33RO20150525,     P16N.2,     113,          2,         15,         15,2,20150527,       1031,    22.4993,   -152.001,       5341,   499.6,   6.3956,  34.0967,2,  34.0972,2,     68.5,2,    68.4,2,   59.67,2,   35.16,2,       0,2,    2.56,2,   1.431,2,   0.697,2,   0.248,2,  2261.6,2,  2290.8,2,   7.3945,6,    25.03,-999.000,9,-999.0000,9, -999.00,9,  -999.0,9,  -999.0,-999.0000,9,-999.0000,    44.7,2,     35.637,3,-999.000,9, 20150527,     1222,-999.000,   6.3913,2,     34.258,2,     -999.0,9,     -999.0,-999.0000,     -999.0,     -999.0,9,     -999.0,     -999.0,9,     -999.0,  -999.0,9,     -999.0,     -999.0,9,     -999.0
33RO20150525,     P16N.2,     113,          2,         14,         14,2,20150527,       1031,    22.4993,   -152.001,       5341,     650,   5.0947,  34.2591,2,  34.2604,2,       27,2,    27.1,2,   85.35,2,   41.11,2,       0,2,    2.97,2,   0.217,2,   0.109,2,   0.066,2,  2319.3,2,  2325.8,2,   7.3228,2,    25.02,-999.000,9,-999.0000,9, -999.00,9,  -999.0,9,  -999.0,-999.0000,9,-999.0000,    39.6,2,     45.522,3,-999.000,9, 20150527,     1218,-999.000,   5.0908,2,    34.4219,2,     -999.0,9,     -999.0,-999.0000,     -999.0,     -999.0,9,     -999.0,     -999.0,9,     -999.0,  -999.0,9,     -999.0,     -999.0,9,     -999.0
33RO20150525,     P16N.2,     113,          2,         13,         13,2,20150527,       1031,    22.4993,   -152.001,       5341,   800.1,   4.6056,  34.4142,2,  34.4154,2,     29.8,2,    31.7,2,   96.17,2,   42.18,2,       0,2,    3.03,2,   0.046,2,   0.019,2,   0.051,3,  2336.5,6,  2350.3,2,   7.3492,2,    25.05,-999.000,9,-999.0000,9, -999.00,9,  -999.0,9,  -999.0,-999.0000,9,-999.0000,    40.3,2,     45.451,3,-999.000,9, 20150527,     1214,-999.000,   4.6092,2,    34.5776,2,     -999.0,9,     -999.0,-999.0000,     -999.0,     -999.0,9,     -999.0,     -999.0,9,     -999.0,  -999.0,9,     -999.0,     -999.0,9,     -999.0
33RO20150525,     P16N.2,     113,          2,         12,         12,2,20150527,       1031,    22.4993,   -152.001,       5341,   950.4,   4.1139,  34.4907,2,  34.4909,2,       39,2,    39.6,2,  105.54,2,   42.47,2,       0,2,    3.03,2,   0.013,2,   0.006,2,   0.029,3,  2343.2,2,  2367.2,2,   7.3717,2,    25.02,-999.000,9,-999.0000,9, -999.00,9,  -999.0,9,  -999.0,-999.0000,9,-999.0000,    41.3,2,     42.131,3,-999.000,9, 20150527,     1210,-999.000,    4.114,2,    34.6536,2,     -999.0,9,     -999.0,-999.0000,     -999.0,     -999.0,9,     -999.0,     -999.0,9,     -999.0,  -999.0,9,     -999.0,     -999.0,9,     -999.0
33RO20150525,     P16N.2,     113,          2,         11,         11,2,20150527,       1031,    22.4993,   -152.001,       5341,  1100.1,   3.6843,  34.5243,2,  34.5252,2,     46.1,2,    47.8,2,  114.42,2,   42.37,2,       0,2,    3.01,2,-999.000,9,-999.000,9,-999.000,9,    2350,2,  2379.1,2,   7.3853,2,    25.02,-999.000,9,-999.0000,9, -999.00,9,  -999.0,9,  -999.0,-999.0000,9,-999.0000,    39.0,2,     -999.0,9,-999.000,9, 20150527,     1206,-999.000,   3.6845,2,     34.688,6,     -999.0,9,     -999.0,-999.0000,     -999.0,     -999.0,9,     -999.0,     -999.0,9,     -999.0,  -999.0,9,     -999.0,     -999.0,9,     -999.0
33RO20150525,     P16N.2,     113,          2,         10,         10,2,20150527,       1031,    22.4993,   -152.001,       5341,  1300.5,   3.1924,  34.5545,2,  34.5554,2,     56.3,2,    56.5,2,  124.77,2,   41.88,2,       0,2,    2.96,2,-999.000,5,-999.000,5,-999.000,5,  2356.5,2,  2390.5,2,    7.404,2,    25.03,-999.000,9,-999.0000,9, -999.00,9,  -999.0,9,  -999.0,-999.0000,9,-999.0000,    38.0,2,     -999.0,5,-999.000,9, 20150527,     1201,-999.000,   3.1941,2,    34.7183,2,     -999.0,9,     -999.0,-999.0000,     -999.0,     -999.0,9,     -999.0,     -999.0,9,     -999.0,  -999.0,9,     -999.0,     -999.0,9,     -999.0
33RO20150525,     P16N.2,     113,          2,          9,          9,2,20150527,       1031,    22.4993,   -152.001,       5341,  1600.4,   2.6557,  34.5892,2,  34.5917,2,     71.9,2,  -999.0,9,   135.6,2,    41.1,2,       0,2,    2.88,2,-999.000,9,-999.000,9,-999.000,9,  2358.2,2,    2402,2,   7.4325,6,    25.02,-999.000,9,-999.0000,9, -999.00,9,  -999.0,9,  -999.0,-999.0000,9,-999.0000,    38.6,2,     -999.0,9,-999.000,9, 20150527,     1155,-999.000,   2.6556,2,    34.7548,2,     -999.0,9,     -999.0,-999.0000,     -999.0,     -999.0,9,     -999.0,     -999.0,9,     -999.0,  -999.0,9,     -999.0,     -999.0,9,     -999.0
33RO20150525,     P16N.2,     113,          2,          8,          8,2,20150527,       1031,    22.4993,   -152.001,       5341,  2000.4,   2.1671,  34.6193,2,    34.62,2,     88.7,2,    88.7,2,  146.24,2,   40.03,2,       0,2,    2.78,2,-999.000,9,-999.000,9,-999.000,9,  2357.4,2,    2414,2,   7.4633,2,    25.04,-999.000,9,-999.0000,9, -999.00,9,  -999.0,9,  -999.0,-999.0000,9,-999.0000,    37.4,2,     -999.0,9,-999.000,9, 20150527,     1147,-999.000,   2.1678,2,    34.7833,2,     -999.0,9,     -999.0,-999.0000,     -999.0,     -999.0,9,     -999.0,     -999.0,9,     -999.0,  -999.0,9,     -999.0,     -999.0,9,     -999.0
33RO20150525,     P16N.2,     113,          2,          7,          7,2,20150527,       1031,    22.4993,   -152.001,       5341,  2400.6,   1.8325,  34.6425,2,  34.6454,2,    102.8,2,   102.5,2,  153.95,2,   39.05,2,       0,2,    2.72,2,-999.000,5,-999.000,5,-999.000,5,  2354.9,2,    2420,2,   7.4894,2,    25.02,-999.000,9,-999.0000,9, -999.00,9,  -999.0,9,  -999.0,-999.0000,9,-999.0000,    36.3,2,     -999.0,5,-999.000,9, 20150527,     1139,-999.000,   1.8318,2,    34.8087,2,     -999.0,9,     -999.0,-999.0000,     -999.0,     -999.0,9,     -999.0,     -999.0,9,     -999.0,  -999.0,9,     -999.0,     -999.0,9,     -999.0
33RO20150525,     P16N.2,     113,          2,          6,          6,2,20150527,       1031,    22.4993,   -152.001,       5341,  2900.1,   1.5976,  34.6643,2,  34.6648,2,    120.3,2,     121,2,   155.8,2,   37.97,2,       0,2,    2.61,2,-999.000,9,-999.000,9,-999.000,9,  2347.2,2,  2424.8,2,   7.5219,2,    25.04,-999.000,9,-999.0000,9, -999.00,9,  -999.0,9,  -999.0,-999.0000,9,-999.0000,    36.0,2,     -999.0,9,-999.000,9, 20150527,     1129,-999.000,   1.5978,2,    34.8283,2,     -999.0,9,     -999.0,-999.0000,     -999.0,     -999.0,9,     -999.0,     -999.0,9,     -999.0,  -999.0,9,     -999.0,     -999.0,9,     -999.0
33RO20150525,     P16N.2,     113,          2,          5,          5,2,20150527,       1031,    22.4993,   -152.001,       5341,  3401.2,   1.5049,  34.6763,2,  34.6774,2,    133.2,2,   133.5,2,  154.73,2,      37,2,       0,2,    2.54,2,-999.000,9,-999.000,9,-999.000,9,  2339.8,2,  2425.4,2,   7.5459,2,    25.02,-999.000,9,-999.0000,9, -999.00,9,  -999.0,9,  -999.0,-999.0000,9,-999.0000,    38.2,2,     -999.0,9,-999.000,9, 20150527,     1118,-999.000,   1.5048,2,    34.8409,2,     -999.0,9,     -999.0,-999.0000,     -999.0,     -999.0,9,     -999.0,     -999.0,9,     -999.0,  -999.0,9,     -999.0,     -999.0,9,     -999.0
33RO20150525,     P16N.2,     113,          2,          4,          4,2,20150527,       1031,    22.4993,   -152.001,       5341,  3900.5,   1.4707,   34.684,2,  34.6845,2,    144.5,2,   144.3,2,  151.02,6,   36.41,6,       0,6,    2.49,6,   0.005,6,   0.004,6,       0,2,  2332.3,2,  2423.4,2,   7.5646,2,    25.03,-999.000,9,-999.0000,9, -999.00,9,  -999.0,9,  -999.0,-999.0000,9,-999.0000,    41.1,2,     20.975,3,-999.000,9, 20150527,     1102,-999.000,   1.4709,2,     34.848,2,     -999.0,9,     -999.0,-999.0000,     -999.0,     -999.0,9,     -999.0,     -999.0,9,     -999.0,  -999.0,9,     -999.0,     -999.0,9,     -999.0
33RO20150525,     P16N.2,     113,          2,          3,          3,2,20150527,       1031,    22.4993,   -152.001,       5341,  4399.6,   1.4665,  34.6891,2,  34.6902,2,    153.1,2,   152.9,2,  144.87,6,   35.73,6,       0,6,    2.44,6,-999.000,9,-999.000,9,-999.000,9,  2322.7,2,  2419.8,2,   7.5771,6,    25.03,-999.000,9,-999.0000,9, -999.00,9,  -999.0,9,  -999.0,-999.0000,9,-999.0000,    39.5,2,     -999.0,9,-999.000,9, 20150527,     1052,-999.000,   1.4666,2,    34.8538,2,     -999.0,9,     -999.0,-999.0000,     -999.0,     -999.0,9,     -999.0,     -999.0,9,     -999.0,  -999.0,9,     -999.0,     -999.0,9,     -999.0
33RO20150525,     P16N.2,     113,          2,          2,          2,2,20150527,       1031,    22.4993,   -152.001,       5341,  4900.5,    1.467,  34.6934,2,  34.6933,2,    162.7,2,   162.8,2,  138.13,6,   35.05,6,       0,6,    2.39,6,-999.000,9,-999.000,9,-999.000,9,  2313.1,2,    2413,6,   7.5869,6,    25.03,-999.000,9,-999.0000,9, -999.00,9,  -999.0,9,  -999.0,-999.0000,9,-999.0000,    41.2,2,     -999.0,9,-999.000,9, 20150527,     1042,-999.000,   1.4669,2,    34.8569,2,     -999.0,9,     -999.0,-999.0000,     -999.0,     -999.0,9,     -999.0,     -999.0,9,     -999.0,  -999.0,9,     -999.0,     -999.0,9,     -999.0
33RO20150525,     P16N.2,     113,          2,          1,          1,2,20150527,       1031,    22.4993,   -152.001,       5341,    5434,    1.527,  34.6943,2,  34.6936,2,    164.4,2,   164.1,2,  137.25,6,   34.95,6,       0,6,    2.39,6,   0.004,2,   0.003,2,       0,2,  2313.9,6,    2413,2,    7.588,2,    25.04,-999.000,9,-999.0000,9, -999.00,9,  -999.0,9,  -999.0,-999.0000,9,-999.0000,    39.8,2,     19.865,3,-999.000,9, 20150527,     1031,-999.000,   1.5273,2,    34.8572,2,     -999.0,9,     -999.0,-999.0000,     -999.0,     -999.0,9,     -999.0,     -999.0,9,     -999.0,  -999.0,9,     -999.0,     -999.0,9,     -999.0