BOTTLE,20220330CCHSIOCBG
EXPOCODE,SECT_ID,STNNBR,CASTNO,SAMPNO,BTLNBR,BTLNBR_FLAG_W,DATE,TIME,LATITUDE,LONGITUDE,DEPTH,CTDPRS,CTDTMP,CTDSAL,CTDSAL_FLAG_W,SALNTY,SALNTY_FLAG_W,CTDOXY,CTDOXY_FLAG_W,OXYGEN,OXYGEN_FLAG_W,SILCAT,SILCAT_FLAG_W,NITRAT,NITRAT_FLAG_W,NITRIT,NITRIT_FLAG_W,PHSPHT,PHSPHT_FLAG_W,CFC-11,CFC-11_FLAG_W,CFC-12,CFC-12_FLAG_W,SF6,SF6_FLAG_W,TCARBN,TCARBN_FLAG_W,ALKALI,ALKALI_FLAG_W,PH_TOT,PH_TOT_FLAG_W,PH_TMP,TRITUM,TRITUM_FLAG_W,HELIUM,HELIUM_FLAG_W,DELC13,DELC13_FLAG_W,DELC14,DELC14_FLAG_W,C14ERR,NEON,NEON_FLAG_W,NEONER,DOC,DOC_FLAG_W,N2O,N2O_FLAG_W,ARGON,ARGON_FLAG_W,BTL_DATE,BTL_TIME,TRITER,SBE35,SBE35_FLAG_W,SALTREF,SALTREF_FLAG_W,DELHE3,DELHE3_FLAG_W,DELHER,HELIER,ARGONER,KRYPTON,KRYPTON_FLAG_W,KRYPTONER,XENON,XENON_FLAG_W,XENONER,14C-DOC,14C-DOC_FLAG_W,14C-DOCERR,13C-DOC,13C-DOC_FLAG_W,13C-DOCERR
,,,,,,,,,,,METERS,DBAR,ITS-90,PSS-78,,PSS-78,,UMOL/KG,,UMOL/KG,,UMOL/KG,,UMOL/KG,,UMOL/KG,,UMOL/KG,,PMOL/KG,,PMOL/KG,,FMOL/KG,,UMOL/KG,,UMOL/KG,,,,DEG C,TU,,NMOL/KG,,/MILLE,,/MILLE,,/MILLE,NMOL/KG,,NMOL/KG,UMOL/KG,,NMOL/KG,,UMOL/KG,,,,TU,ITS-90,,G/KG,,PERCNT,,PERCNT,NMOL/KG,UMOL/KG,NMOL/KG,,NMOL/KG,NMOL/KG,,NMOL/KG,/MILLE,,/MILLE,/MILLE,,/MILLE
33RO20150525,     P16N.2,     122,          1,         24,         24,2,20150530,       0511,    26.9999,  -152.0003,       5366,     3.1,  23.4675,  35.2428,2,  35.2437,2,    213.4,2,   213.4,2,    1.07,2,       0,2,       0,2,     0.1,2,   1.797,6,   1.125,6,   1.492,6,    2013,2,  2319.8,2,   8.0495,2,    25.02,   0.416,2,   1.7362,2, -999.00,9,  -999.0,9,  -999.0,   6.8978,2,   0.0172,  -999.0,9,      6.859,3,-999.000,9, 20150530,     0723,   0.003,  23.4686,2,    35.4099,2,      -1.46,2,       0.20,   0.0045,     -999.0,     -999.0,9,     -999.0,     -999.0,9,     -999.0,  -999.0,9,     -999.0,     -999.0,9,     -999.0
33RO20150525,     P16N.2,     122,          1,         23,         23,2,20150530,       0511,    26.9999,  -152.0003,       5366,    25.7,  23.2743,  35.2782,2,  35.2897,2,    214.9,2,   215.2,2,    1.07,2,       0,2,       0,2,    0.08,2,   1.813,2,    1.14,2,   1.473,2,  2017.4,2,  2323.2,2,   8.0457,6,    25.03,   0.430,2,   1.7234,2, -999.00,9,  -999.0,9,  -999.0,   6.8576,2,   0.0171,  -999.0,9,      6.923,3,-999.000,9, 20150530,     0720,   0.003,  23.2738,2,    35.4561,2,      -1.49,2,       0.20,   0.0045,     -999.0,     -999.0,9,     -999.0,     -999.0,9,     -999.0,  -999.0,9,     -999.0,     -999.0,9,     -999.0
33RO20150525,     P16N.2,     122,          1,         22,         22,2,20150530,       0511,    26.9999,  -152.0003,       5366,    49.7,  22.1448,  35.4163,2,  35.4127,2,    221.6,2,   221.7,2,    1.27,2,       0,2,    0.01,2,    0.05,2,   1.931,2,   1.201,2,   1.525,2,  2032.6,6,  2328.6,2,   8.0312,2,    25.01,   0.447,2,   1.7483,2, -999.00,9,  -999.0,9,  -999.0,   6.9870,2,   0.0175,  -999.0,9,      7.189,3,-999.000,9, 20150530,     0717,   0.004,  22.1451,2,    35.5797,2,      -1.18,2,       0.20,   0.0045,     -999.0,     -999.0,9,     -999.0,     -999.0,9,     -999.0,  -999.0,9,     -999.0,     -999.0,9,     -999.0
33RO20150525,     P16N.2,     122,          1,         21,         21,2,20150530,       0511,    26.9999,  -152.0003,       5366,    74.4,  21.7701,  35.3901,2,  35.3794,2,    221.7,2,   221.5,2,    1.27,2,       0,2,    0.01,2,    0.05,2,   1.948,2,   1.208,2,   1.572,2,  2031.8,2,  2327.3,6,   8.0269,6,    25.05,   0.487,2,   1.7427,2, -999.00,9,  -999.0,9,  -999.0,   6.9819,2,   0.0175,  -999.0,9,      7.270,3,-999.000,9, 20150530,     0715,   0.003,  21.7698,2,    35.5462,2,      -1.70,2,       0.20,   0.0045,     -999.0,     -999.0,9,     -999.0,     -999.0,9,     -999.0,  -999.0,9,     -999.0,     -999.0,9,     -999.0
33RO20150525,     P16N.2,     122,          1,         20,         20,3,20150530,       0511,    26.9999,  -152.0003,       5366,   100.1,  20.8134,  35.2835,2,  35.2665,2,    221.9,2,  -999.0,9,    1.56,2,       0,2,       0,2,    0.06,2,-999.000,9,-999.000,9,-999.000,9,  -999.0,9,  -999.0,9,-999.0000,9,  -999.00,-999.000,9,-999.0000,9, -999.00,9,  -999.0,9,  -999.0,-999.0000,9,-999.0000,  -999.0,9,     -999.0,9,-999.000,9, 20150530,     0713,-999.000,  20.8206,2,    35.4328,2,     -999.0,9,     -999.0,-999.0000,     -999.0,     -999.0,9,     -999.0,     -999.0,9,     -999.0,  -999.0,9,     -999.0,     -999.0,9,     -999.0
33RO20150525,     P16N.2,     122,          1,         19,         19,2,20150530,       0511,    26.9999,  -152.0003,       5366,   150.1,  19.0079,  35.0084,2,  35.0036,2,    211.6,2,   210.8,2,    2.24,2,    1.17,2,    0.06,2,    0.15,2,   2.176,2,   1.341,2,   1.602,2,  2045.1,2,    2300,2,   7.9628,2,    25.03,   0.449,2,   1.7533,2, -999.00,9,  -999.0,9,  -999.0,   7.1014,2,   0.0178,  -999.0,9,      8.358,3,-999.000,9, 20150530,     0709,   0.003,   19.012,2,    35.1687,2,      -1.38,2,       0.20,   0.0046,     -999.0,     -999.0,9,     -999.0,     -999.0,9,     -999.0,  -999.0,9,     -999.0,     -999.0,9,     -999.0
33RO20150525,     P16N.2,     122,          1,         18,         18,2,20150530,       0511,    26.9999,  -152.0003,       5366,   224.6,  14.6263,  34.3832,2,  34.3778,2,    207.6,2,   207.2,2,    5.76,2,    6.05,2,       0,2,     0.5,2,   2.728,2,   1.626,2,   1.624,2,  2063.5,2,  2260.2,2,   7.8606,2,    25.04,   0.444,2,   1.7932,2, -999.00,9,  -999.0,9,  -999.0,   7.4025,2,   0.0185,  -999.0,9,     11.460,3,-999.000,9, 20150530,     0706,   0.003,  14.6617,2,    34.5399,2,      -0.67,2,       0.20,   0.0047,     -999.0,     -999.0,9,     -999.0,     -999.0,9,     -999.0,  -999.0,9,     -999.0,     -999.0,9,     -999.0
33RO20150525,     P16N.2,     122,          1,         17,         17,2,20150530,       0511,    26.9999,  -152.0003,       5366,   300.8,  11.0198,  34.0229,2,  34.0207,2,    198.7,2,   197.3,2,   13.19,2,   13.38,2,       0,2,    1.02,2,   3.114,2,   1.854,2,   1.563,2,  2102.6,2,  2247.4,2,   7.7414,2,    25.01,   0.484,2,   1.8103,2, -999.00,9,  -999.0,9,  -999.0,   7.6007,2,   0.0190,  -999.0,9,     15.017,3,-999.000,9, 20150530,     0703,   0.005,  11.0219,2,    34.1811,2,       0.91,2,       0.20,   0.0047,     -999.0,     -999.0,9,     -999.0,     -999.0,9,     -999.0,  -999.0,9,     -999.0,     -999.0,9,     -999.0
33RO20150525,     P16N.2,     122,          1,         16,         16,2,20150530,       0511,    26.9999,  -152.0003,       5366,   400.4,   9.2352,  34.0416,2,  34.0395,2,    185.9,2,     184,2,   22.95,2,   19.24,2,       0,2,     1.4,2,   3.306,2,   1.844,2,    1.34,2,  2139.8,2,  2257.2,2,   7.6688,2,    25.05,   0.409,2,-999.0000,9, -999.00,9,  -999.0,9,  -999.0,-999.0000,9,-999.0000,  -999.0,9,     21.418,3,-999.000,9, 20150530,     0659,   0.003,   9.2363,2,    34.2001,2,     -999.0,9,     -999.0,-999.0000,     -999.0,     -999.0,9,     -999.0,     -999.0,9,     -999.0,  -999.0,9,     -999.0,     -999.0,9,     -999.0
33RO20150525,     P16N.2,     122,          1,         15,         15,2,20150530,       0511,    26.9999,  -152.0003,       5366,   500.9,   7.2603,  34.0081,2,   34.008,2,    137.9,2,   139.3,2,    42.1,2,   27.05,2,       0,2,    1.95,2,   2.811,2,   1.474,2,   0.825,2,  2199.7,2,  2272.7,2,   7.5463,2,    25.04,   0.373,2,   1.8243,2, -999.00,9,  -999.0,9,  -999.0,   7.7864,2,   0.0195,  -999.0,9,     26.937,3,-999.000,9, 20150530,     0656,   0.004,   7.2615,2,    34.1684,2,       9.20,2,       0.20,   0.0047,     -999.0,     -999.0,9,     -999.0,     -999.0,9,     -999.0,  -999.0,9,     -999.0,     -999.0,9,     -999.0
33RO20150525,     P16N.2,     122,          1,         14,         14,2,20150530,       0511,    26.9999,  -152.0003,       5366,   650.5,   5.1878,  34.0658,2,  34.0664,2,     58.4,2,    59.4,2,   75.79,2,   37.41,2,    0.02,2,    2.73,2,-999.000,5,-999.000,5,-999.000,5,  2286.3,2,  2301.7,2,   7.3543,2,    25.06,   0.274,2,   1.8515,2, -999.00,9,  -999.0,9,  -999.0,   7.9222,2,   0.0198,  -999.0,9,     -999.0,5,-999.000,9, 20150530,     0652,   0.004,   5.1888,2,     34.227,6,      16.14,2,       0.20,   0.0048,     -999.0,     -999.0,9,     -999.0,     -999.0,9,     -999.0,  -999.0,9,     -999.0,     -999.0,9,     -999.0
33RO20150525,     P16N.2,     122,          1,         13,         13,2,20150530,       0511,    26.9999,  -152.0003,       5366,   800.6,   4.2908,  34.2445,2,  34.2413,2,     17.7,2,    18.4,2,  101.26,2,    41.5,2,       0,2,    3.07,2,   0.156,6,   0.081,6,   0.042,6,  2340.4,6,  2335.2,2,     7.29,2,    25.05,   0.069,2,   1.8722,2, -999.00,9,  -999.0,9,  -999.0,   7.9820,2,   0.0200,  -999.0,9,     47.672,3,-999.000,9, 20150530,     0648,   0.002,   4.2902,2,    34.4028,2,      15.67,2,       0.20,   0.0049,     -999.0,     -999.0,9,     -999.0,     -999.0,9,     -999.0,  -999.0,9,     -999.0,     -999.0,9,     -999.0
33RO20150525,     P16N.2,     122,          1,         12,         12,2,20150530,       0511,    26.9999,  -152.0003,       5366,   950.2,   3.8151,  34.3753,2,  34.3753,2,     18.4,2,      19,2,  115.12,2,   42.18,2,       0,2,    3.12,2,   0.019,2,   0.011,2,   0.029,3,  2359.2,2,  2359.5,2,   7.3075,2,    25.06,   0.013,2,   1.8936,6, -999.00,9,  -999.0,9,  -999.0,   8.0346,6,   0.0140,  -999.0,9,     48.016,3,-999.000,9, 20150530,     0644,   0.002,   3.8152,2,    34.5374,2,      16.79,6,       0.14,   0.0035,     -999.0,     -999.0,9,     -999.0,     -999.0,9,     -999.0,  -999.0,9,     -999.0,     -999.0,9,     -999.0
33RO20150525,     P16N.2,     122,          1,         11,         11,2,20150530,       0511,    26.9999,  -152.0003,       5366,  1101.2,   3.5003,   34.464,2,  34.4634,2,     33.5,2,    34.6,2,  121.07,2,   41.59,2,    0.01,2,    3.05,2,   0.007,2,   0.005,2,       0,2,  2359.9,2,  2374.7,2,   7.3493,6,    25.05,   0.000,2,   1.9009,2, -999.00,9,  -999.0,9,  -999.0,   8.0384,2,   0.0201,  -999.0,9,     43.300,3,-999.000,9, 20150530,     0639,   0.001,   3.5013,2,     34.626,2,      19.21,2,       0.20,   0.0049,     -999.0,     -999.0,9,     -999.0,     -999.0,9,     -999.0,  -999.0,9,     -999.0,     -999.0,9,     -999.0
33RO20150525,     P16N.2,     122,          1,         10,         10,2,20150530,       0511,    26.9999,  -152.0003,       5366,  1300.6,    3.126,  34.5273,2,  34.5273,2,     51.6,2,    51.9,2,  127.31,2,   40.71,2,       0,2,    2.96,2,   0.003,2,   0.002,2,       0,2,  2358.3,2,    2385,2,   7.3903,2,    25.06,   0.000,2,   1.9084,2, -999.00,9,  -999.0,9,  -999.0,   8.0530,2,   0.0201,  -999.0,9,     37.932,3,-999.000,9, 20150530,     0635,   0.002,   3.1284,2,    34.6901,2,      21.15,2,       0.20,   0.0050,     -999.0,     -999.0,9,     -999.0,     -999.0,9,     -999.0,  -999.0,9,     -999.0,     -999.0,9,     -999.0
33RO20150525,     P16N.2,     122,          1,          9,          9,2,20150530,       0511,    26.9999,  -152.0003,       5366,  1598.9,   2.6088,  34.5763,2,  34.5762,2,     68.6,2,    68.3,2,  137.85,2,   39.93,2,       0,2,    2.89,2,   0.001,2,   0.001,2,       0,2,  2362.3,2,  -999.0,9,   7.4244,2,    24.97,   0.001,2,   1.9075,2, -999.00,9,  -999.0,9,  -999.0,   8.0647,2,   0.0202,  -999.0,9,     33.503,3,-999.000,9, 20150530,     0628,   0.001,     2.61,2,    34.7392,2,      21.69,2,       0.20,   0.0050,     -999.0,     -999.0,9,     -999.0,     -999.0,9,     -999.0,  -999.0,9,     -999.0,     -999.0,9,     -999.0
33RO20150525,     P16N.2,     122,          1,          8,          8,2,20150530,       0511,    26.9999,  -152.0003,       5366,  1999.8,   2.0919,   34.615,2,  34.6155,2,     81.7,2,    82.2,2,   151.9,2,   39.34,2,    0.02,2,    2.82,2,   0.006,2,   0.003,2,       0,2,  2366.6,2,  2415.2,2,   7.4487,2,    25.07,   0.009,2,   1.9372,2, -999.00,9,  -999.0,9,  -999.0,   8.1585,2,   0.0204,  -999.0,9,     29.621,3,-999.000,9, 20150530,     0620,   0.002,   2.0925,2,    34.7787,2,      22.11,2,       0.20,   0.0050,     -999.0,     -999.0,9,     -999.0,     -999.0,9,     -999.0,  -999.0,9,     -999.0,     -999.0,9,     -999.0
33RO20150525,     P16N.2,     122,          1,          7,          7,2,20150530,       0511,    26.9999,  -152.0003,       5366,  2499.1,   1.7453,  34.6462,2,  34.6467,2,    101.4,2,   101.4,2,  159.51,2,   38.27,2,    0.01,2,    2.72,2,  -0.001,2,       0,2,       0,2,  2361.7,2,    2423,2,   7.4852,2,    25.07,-999.000,9,-999.0000,9, -999.00,9,  -999.0,9,  -999.0,-999.0000,9,-999.0000,  -999.0,9,     25.863,3,-999.000,9, 20150530,     0610,-999.000,   1.7453,2,    34.8101,2,     -999.0,9,     -999.0,-999.0000,     -999.0,     -999.0,9,     -999.0,     -999.0,9,     -999.0,  -999.0,9,     -999.0,     -999.0,9,     -999.0
33RO20150525,     P16N.2,     122,          1,          6,          6,2,20150530,       0511,    26.9999,  -152.0003,       5366,  2999.9,   1.5708,  34.6664,2,  34.6668,2,    120.3,2,   121.1,2,  158.15,2,      37,2,       0,2,    2.62,2,  -0.001,2,       0,2,       0,2,  2349.7,2,  2425.2,2,   7.5223,6,    25.05,-999.000,9,-999.0000,9, -999.00,9,  -999.0,9,  -999.0,-999.0000,9,-999.0000,  -999.0,9,     23.276,3,-999.000,9, 20150530,     0601,-999.000,   1.5707,2,    34.8303,2,     -999.0,9,     -999.0,-999.0000,     -999.0,     -999.0,9,     -999.0,     -999.0,9,     -999.0,  -999.0,9,     -999.0,     -999.0,9,     -999.0
33RO20150525,     P16N.2,     122,          1,          5,          5,2,20150530,       0511,    26.9999,  -152.0003,       5366,  3499.6,   1.5106,   34.677,2,  34.6773,2,    134.1,2,   133.4,2,  155.02,2,   36.31,2,       0,2,    2.54,2,  -0.001,2,   0.001,2,       0,2,  2340.6,2,  2426.2,2,   7.5458,6,    25.06,-999.000,9,-999.0000,9, -999.00,9,  -999.0,9,  -999.0,-999.0000,9,-999.0000,  -999.0,9,     21.933,3,-999.000,9, 20150530,     0551,-999.000,   1.5107,2,    34.8408,2,     -999.0,9,     -999.0,-999.0000,     -999.0,     -999.0,9,     -999.0,     -999.0,9,     -999.0,  -999.0,9,     -999.0,     -999.0,9,     -999.0
33RO20150525,     P16N.2,     122,          1,          4,          4,2,20150530,       0511,    26.9999,  -152.0003,       5366,  3999.7,   1.4841,  34.6836,2,  34.6843,2,    143.9,2,   143.5,2,  151.31,6,   36.02,6,       0,6,    2.49,6,       0,2,   0.003,2,       0,2,  2332.9,2,  2423.6,2,   7.5627,2,    25.07,-999.000,9,-999.0000,9, -999.00,9,  -999.0,9,  -999.0,-999.0000,9,-999.0000,  -999.0,9,     21.096,3,-999.000,9, 20150530,     0541,-999.000,   1.4842,2,    34.8479,6,     -999.0,9,     -999.0,-999.0000,     -999.0,     -999.0,9,     -999.0,     -999.0,9,     -999.0,  -999.0,9,     -999.0,     -999.0,9,     -999.0
33RO20150525,     P16N.2,     122,          1,          3,          3,2,20150530,       0511,    26.9999,  -152.0003,       5366,    4500,   1.4928,  34.6878,2,  34.6888,2,    152.1,2,   151.1,2,  146.53,6,   35.53,6,       0,6,    2.46,6,   0.001,6,   0.003,6,       0,2,    2326,2,  2419.6,6,   7.5731,2,    25.07,-999.000,9,-999.0000,9, -999.00,9,  -999.0,9,  -999.0,-999.0000,9,-999.0000,  -999.0,9,     20.693,3,-999.000,9, 20150530,     0531,-999.000,   1.4928,2,    34.8524,2,     -999.0,9,     -999.0,-999.0000,     -999.0,     -999.0,9,     -999.0,     -999.0,9,     -999.0,  -999.0,9,     -999.0,     -999.0,9,     -999.0
33RO20150525,     P16N.2,     122,          1,          2,          2,2,20150530,       0511,    26.9999,  -152.0003,       5366,  4980.4,   1.5052,  34.6917,2,  34.6916,2,    158.8,2,   158.9,2,  141.25,6,   35.14,6,       0,6,    2.42,6,   0.011,3,   0.009,3,       0,2,  2317.3,2,  2415.8,2,   7.5822,6,    25.08,-999.000,9,-999.0000,9, -999.00,9,  -999.0,9,  -999.0,-999.0000,9,-999.0000,  -999.0,9,     20.250,3,-999.000,9, 20150530,     0522,-999.000,   1.5052,2,    34.8552,2,     -999.0,9,     -999.0,-999.0000,     -999.0,     -999.0,9,     -999.0,     -999.0,9,     -999.0,  -999.0,9,     -999.0,     -999.0,9,     -999.0
33RO20150525,     P16N.2,     122,          1,          1,          1,2,20150530,       0511,    26.9999,  -152.0003,       5366,  5461.3,   1.5387,  34.6941,2,   34.695,2,    164.4,2,   164.8,2,  137.54,6,   34.85,6,    0.01,6,    2.39,6,       0,2,   0.003,2,       0,2,  2313.4,6,  2410.8,2,   7.5878,2,    25.01,-999.000,9,-999.0000,9, -999.00,9,  -999.0,9,  -999.0,-999.0000,9,-999.0000,  -999.0,9,     20.094,3,-999.000,9, 20150530,     0512,-999.000,   1.5388,2,    34.8586,2,     -999.0,9,     -999.0,-999.0000,     -999.0,     -999.0,9,     -999.0,     -999.0,9,     -999.0,  -999.0,9,     -999.0,     -999.0,9,     -999.0