BOTTLE,20220330CCHSIOCBG
EXPOCODE,SECT_ID,STNNBR,CASTNO,SAMPNO,BTLNBR,BTLNBR_FLAG_W,DATE,TIME,LATITUDE,LONGITUDE,DEPTH,CTDPRS,CTDTMP,CTDSAL,CTDSAL_FLAG_W,SALNTY,SALNTY_FLAG_W,CTDOXY,CTDOXY_FLAG_W,OXYGEN,OXYGEN_FLAG_W,SILCAT,SILCAT_FLAG_W,NITRAT,NITRAT_FLAG_W,NITRIT,NITRIT_FLAG_W,PHSPHT,PHSPHT_FLAG_W,CFC-11,CFC-11_FLAG_W,CFC-12,CFC-12_FLAG_W,SF6,SF6_FLAG_W,TCARBN,TCARBN_FLAG_W,ALKALI,ALKALI_FLAG_W,PH_TOT,PH_TOT_FLAG_W,PH_TMP,TRITUM,TRITUM_FLAG_W,HELIUM,HELIUM_FLAG_W,DELC13,DELC13_FLAG_W,DELC14,DELC14_FLAG_W,C14ERR,NEON,NEON_FLAG_W,NEONER,DOC,DOC_FLAG_W,N2O,N2O_FLAG_W,ARGON,ARGON_FLAG_W,BTL_DATE,BTL_TIME,TRITER,SBE35,SBE35_FLAG_W,SALTREF,SALTREF_FLAG_W,DELHE3,DELHE3_FLAG_W,DELHER,HELIER,ARGONER,KRYPTON,KRYPTON_FLAG_W,KRYPTONER,XENON,XENON_FLAG_W,XENONER,14C-DOC,14C-DOC_FLAG_W,14C-DOCERR,13C-DOC,13C-DOC_FLAG_W,13C-DOCERR
,,,,,,,,,,,METERS,DBAR,ITS-90,PSS-78,,PSS-78,,UMOL/KG,,UMOL/KG,,UMOL/KG,,UMOL/KG,,UMOL/KG,,UMOL/KG,,PMOL/KG,,PMOL/KG,,FMOL/KG,,UMOL/KG,,UMOL/KG,,,,DEG C,TU,,NMOL/KG,,/MILLE,,/MILLE,,/MILLE,NMOL/KG,,NMOL/KG,UMOL/KG,,NMOL/KG,,UMOL/KG,,,,TU,ITS-90,,G/KG,,PERCNT,,PERCNT,NMOL/KG,UMOL/KG,NMOL/KG,,NMOL/KG,NMOL/KG,,NMOL/KG,/MILLE,,/MILLE,/MILLE,,/MILLE
33RO20150525,     P16N.2,     168,          1,         24,         24,2,20150613,       1535,    49.9998,  -152.0011,       4962,     3.4,   9.0694,  32.6634,2,  32.6629,2,    310.1,2,   308.1,2,   23.59,2,   10.08,2,    0.15,2,    1.12,2,   4.165,3,   2.236,6,   2.629,6,  2027.8,6,  2202.1,2,   7.8408,6,       25,-999.000,9,-999.0000,9,    1.23,2,   -26.7,2,     2.4,-999.0000,9,-999.0000,  -999.0,9,     11.501,3,-999.000,9, 20150613,     1728,-999.000,   9.0749,2,    32.8169,2,     -999.0,9,     -999.0,-999.0000,     -999.0,     -999.0,9,     -999.0,     -999.0,9,     -999.0,  -999.0,9,     -999.0,     -999.0,9,     -999.0
33RO20150525,     P16N.2,     168,          1,         23,         23,2,20150613,       1535,    49.9998,  -152.0011,       4962,    33.2,   6.1045,  32.7228,2,  32.7225,2,    314.8,2,   311.3,2,   24.76,2,   14.78,2,    0.12,2,    1.37,2,-999.000,5,-999.000,5,-999.000,5,  2067.6,2,  2205.9,2,   7.7438,6,    24.99,-999.000,9,-999.0000,9,    0.80,2,   -34.7,2,     2.1,-999.0000,9,-999.0000,  -999.0,9,     -999.0,5,-999.000,9, 20150613,     1726,-999.000,   6.1047,2,    32.8768,2,     -999.0,9,     -999.0,-999.0000,     -999.0,     -999.0,9,     -999.0,     -999.0,9,     -999.0,  -999.0,9,     -999.0,     -999.0,9,     -999.0
33RO20150525,     P16N.2,     168,          1,         22,         22,2,20150613,       1535,    49.9998,  -152.0011,       4962,    58.4,   5.8844,  32.7291,2,  32.7302,2,    305.5,2,   303.1,2,   26.04,2,   15.47,2,    0.13,2,    1.44,2,   4.638,2,   2.475,2,   2.835,2,  2074.8,2,  2203.4,2,   7.7237,2,    24.99,-999.000,9,-999.0000,9,    0.66,2,   -36.2,2,     2.5,-999.0000,9,-999.0000,  -999.0,9,     12.738,3,-999.000,9, 20150613,     1724,-999.000,   5.8851,2,    32.8846,2,     -999.0,9,     -999.0,-999.0000,     -999.0,     -999.0,9,     -999.0,     -999.0,9,     -999.0,  -999.0,9,     -999.0,     -999.0,9,     -999.0
33RO20150525,     P16N.2,     168,          1,         21,         21,2,20150613,       1535,    49.9998,  -152.0011,       4962,    82.6,   5.1959,  33.0015,2,  32.9685,2,    254.9,2,   253.3,2,   32.88,2,   19.96,2,    0.12,2,    1.67,2,   4.446,2,   2.347,2,   2.516,2,  2125.8,2,  2222.6,6,   7.6333,2,    25.01,-999.000,9,-999.0000,9,    0.37,2,   -37.5,2,     2.4,-999.0000,9,-999.0000,  -999.0,9,     17.296,3,-999.000,9, 20150613,     1722,-999.000,   5.2264,2,     33.124,2,     -999.0,9,     -999.0,-999.0000,     -999.0,     -999.0,9,     -999.0,     -999.0,9,     -999.0,  -999.0,9,     -999.0,     -999.0,9,     -999.0
33RO20150525,     P16N.2,     168,          1,         20,         20,2,20150613,       1535,    49.9998,  -152.0011,       4962,   118.2,   4.3618,  33.6783,2,  33.6921,2,    151.9,2,   150.2,2,   59.37,2,   32.96,2,    0.02,2,    2.37,2,   3.714,2,   1.914,2,   1.592,2,  2233.2,2,    2268,2,   7.4302,2,    24.98,-999.000,9,-999.0000,9,   -0.41,2,   -68.4,2,     2.4,-999.0000,9,-999.0000,  -999.0,9,     27.086,3,-999.000,9, 20150613,     1720,-999.000,   4.3609,2,     33.851,2,     -999.0,9,     -999.0,-999.0000,     -999.0,     -999.0,9,     -999.0,     -999.0,9,     -999.0,  -999.0,9,     -999.0,     -999.0,9,     -999.0
33RO20150525,     P16N.2,     168,          1,         19,         19,2,20150613,       1535,    49.9998,  -152.0011,       4962,   175.1,   3.8596,  33.7687,2,  33.7686,2,    105.2,2,   105.1,2,   74.72,2,   37.85,2,    0.01,2,    2.68,2,   3.145,2,   1.607,2,   1.183,2,  2274.9,2,    2283,2,   7.3374,2,    25.04,-999.000,9,-999.0000,9,   -0.59,2,   -86.3,2,     2.8,-999.0000,9,-999.0000,  -999.0,9,     32.419,3,-999.000,9, 20150613,     1718,-999.000,   3.8601,2,    33.9278,2,     -999.0,9,     -999.0,-999.0000,     -999.0,     -999.0,9,     -999.0,     -999.0,9,     -999.0,  -999.0,9,     -999.0,     -999.0,9,     -999.0
33RO20150525,     P16N.2,     168,          1,         18,         18,2,20150613,       1535,    49.9998,  -152.0011,       4962,     250,   3.8075,  33.9029,2,  33.9045,2,       60,2,    58.8,2,   88.99,2,   41.66,2,    0.01,2,     2.9,2,   2.406,2,   1.195,2,   0.817,2,  2312.8,2,  2299.4,2,   7.2726,6,    25.03,-999.000,9,-999.0000,9,   -0.81,2,  -106.3,2,     2.1,-999.0000,9,-999.0000,  -999.0,9,     38.247,3,-999.000,9, 20150613,     1716,-999.000,   3.8073,2,    34.0644,2,     -999.0,9,     -999.0,-999.0000,     -999.0,     -999.0,9,     -999.0,     -999.0,9,     -999.0,  -999.0,9,     -999.0,     -999.0,9,     -999.0
33RO20150525,     P16N.2,     168,          1,         17,         17,2,20150613,       1535,    49.9998,  -152.0011,       4962,   333.2,   3.8156,  34.0063,2,  34.0078,2,     47.9,2,    46.2,2,   97.98,2,   42.15,2,    0.01,2,    2.96,2,   1.795,2,   0.876,2,   0.527,2,  2324.5,2,  2314.5,2,   7.2742,6,    25.02,-999.000,9,-999.0000,9,   -0.89,2,  -124.4,2,     2.0,-999.0000,9,-999.0000,  -999.0,9,     40.291,3,-999.000,9, 20150613,     1713,-999.000,   3.8163,2,    34.1682,2,     -999.0,9,     -999.0,-999.0000,     -999.0,     -999.0,9,     -999.0,     -999.0,9,     -999.0,  -999.0,9,     -999.0,     -999.0,9,     -999.0
33RO20150525,     P16N.2,     168,          1,         16,         16,2,20150613,       1535,    49.9998,  -152.0011,       4962,     432,   3.6391,  34.1111,2,  34.1115,2,     27.6,2,    25.8,2,   110.1,2,   43.61,2,    0.01,2,    3.04,2,   1.156,2,   0.565,2,   0.304,2,  2345.4,2,    2329,2,   7.2556,2,    25.02,-999.000,9,-999.0000,9,   -0.78,2,  -145.1,2,     2.4,-999.0000,9,-999.0000,  -999.0,9,     44.078,3,-999.000,9, 20150613,     1711,-999.000,   3.6392,2,    34.2723,2,     -999.0,9,     -999.0,-999.0000,     -999.0,     -999.0,9,     -999.0,     -999.0,9,     -999.0,  -999.0,9,     -999.0,     -999.0,9,     -999.0
33RO20150525,     P16N.2,     168,          1,         15,         15,2,20150613,       1535,    49.9998,  -152.0011,       4962,   550.4,   3.5152,  34.1732,2,  34.1754,2,     24.7,2,    24.1,2,  117.92,2,   43.51,2,       0,2,    3.06,2,   0.868,2,   0.423,2,   0.177,2,    2354,2,  2338.9,2,   7.2661,2,    24.99,-999.000,9,-999.0000,9,   -0.72,2,  -163.8,2,     2.4,-999.0000,9,-999.0000,  -999.0,9,     45.436,3,-999.000,9, 20150613,     1708,-999.000,   3.5151,2,    34.3365,2,     -999.0,9,     -999.0,-999.0000,     -999.0,     -999.0,9,     -999.0,     -999.0,9,     -999.0,  -999.0,9,     -999.0,     -999.0,9,     -999.0
33RO20150525,     P16N.2,     168,          1,         14,         14,2,20150613,       1535,    49.9998,  -152.0011,       4962,   700.8,   3.2584,  34.2729,2,  34.2771,2,     22.5,2,    22.2,2,  129.15,2,    43.6,2,    0.01,2,    3.06,2,   0.467,6,   0.227,6,   0.093,6,  2365.4,2,  2357.4,2,   7.2819,2,    24.99,-999.000,9,-999.0000,9,   -0.66,2,  -178.5,2,     3.2,-999.0000,9,-999.0000,  -999.0,9,     45.493,3,-999.000,9, 20150613,     1704,-999.000,   3.2585,2,    34.4388,2,     -999.0,9,     -999.0,-999.0000,     -999.0,     -999.0,9,     -999.0,     -999.0,9,     -999.0,  -999.0,9,     -999.0,     -999.0,9,     -999.0
33RO20150525,     P16N.2,     168,          1,         13,         13,2,20150613,       1535,    49.9998,  -152.0011,       4962,   849.4,   3.0348,  34.3433,2,  34.3441,2,       23,2,    24.4,2,  136.97,2,    43.7,2,    0.01,2,    3.06,2,    0.26,2,   0.127,2,    0.06,2,  2372.9,2,  2368.7,2,    7.295,2,    25.01,-999.000,9,-999.0000,9,   -0.66,2,  -189.6,2,     2.3,-999.0000,9,-999.0000,  -999.0,9,     45.487,3,-999.000,9, 20150613,     1700,-999.000,    3.035,2,     34.506,6,     -999.0,9,     -999.0,-999.0000,     -999.0,     -999.0,9,     -999.0,     -999.0,9,     -999.0,  -999.0,9,     -999.0,     -999.0,9,     -999.0
33RO20150525,     P16N.2,     168,          1,         12,         12,2,20150613,       1535,    49.9998,  -152.0011,       4962,  1000.6,   2.8276,   34.392,2,  34.3907,2,     23.8,2,    23.6,2,     144,2,    43.8,2,    0.01,2,    3.07,2,   0.161,2,   0.078,2,   0.019,2,  2379.3,2,  2379.6,2,   7.3021,2,    25.04,-999.000,9,-999.0000,9,   -0.63,2,  -208.1,2,     2.0,-999.0000,9,-999.0000,  -999.0,9,     44.666,3,-999.000,9, 20150613,     1656,-999.000,   2.8279,2,    34.5529,2,     -999.0,9,     -999.0,-999.0000,     -999.0,     -999.0,9,     -999.0,     -999.0,9,     -999.0,  -999.0,9,     -999.0,     -999.0,9,     -999.0
33RO20150525,     P16N.2,     168,          1,         11,         11,2,20150613,       1535,    49.9998,  -152.0011,       4962,  1167.5,    2.618,  34.4399,2,  34.4423,2,     25.2,2,    26.3,2,  150.54,2,   43.79,2,       0,2,    3.06,2,   0.086,2,   0.043,2,       0,2,  2384.3,2,  2387.4,2,    7.312,2,       25,-999.000,9,-999.0000,9,   -0.61,2,  -221.9,2,     1.8,-999.0000,9,-999.0000,  -999.0,9,     43.796,3,-999.000,9, 20150613,     1652,-999.000,   2.6179,2,    34.6047,2,     -999.0,9,     -999.0,-999.0000,     -999.0,     -999.0,9,     -999.0,     -999.0,9,     -999.0,  -999.0,9,     -999.0,     -999.0,9,     -999.0
33RO20150525,     P16N.2,     168,          1,         10,         10,2,20150613,       1535,    49.9998,  -152.0011,       4962,  1400.8,   2.3505,  34.4952,2,  34.4957,2,     29.5,2,    29.6,2,  158.16,2,    43.7,2,       0,2,    3.05,2,   0.033,2,   0.016,2,       0,2,  2390.8,2,  2398.4,2,   7.3261,2,    24.99,-999.000,9,-999.0000,9,   -0.74,2,  -222.5,2,     2.6,-999.0000,9,-999.0000,  -999.0,9,     42.091,3,-999.000,9, 20150613,     1647,-999.000,   2.3503,2,    34.6584,2,     -999.0,9,     -999.0,-999.0000,     -999.0,     -999.0,9,     -999.0,     -999.0,9,     -999.0,  -999.0,9,     -999.0,     -999.0,9,     -999.0
33RO20150525,     P16N.2,     168,          1,          9,          9,2,20150613,       1535,    49.9998,  -152.0011,       4962,  1732.7,   2.0901,  34.5538,2,  34.5538,2,     39.4,2,    39.2,2,   165.1,2,    43.4,2,       0,2,    2.99,2,   0.006,2,   0.003,2,       0,2,  2392.1,6,  2408.6,2,   7.3502,2,    25.04,-999.000,9,-999.0000,9,   -0.70,2,  -238.2,2,     2.3,-999.0000,9,-999.0000,  -999.0,9,     39.410,3,-999.000,9, 20150613,     1640,-999.000,   2.0903,2,    34.7167,2,     -999.0,9,     -999.0,-999.0000,     -999.0,     -999.0,9,     -999.0,     -999.0,9,     -999.0,  -999.0,9,     -999.0,     -999.0,9,     -999.0
33RO20150525,     P16N.2,     168,          1,          8,          8,2,20150613,       1535,    49.9998,  -152.0011,       4962,  2132.6,   1.8731,     34.6,2,  34.6005,2,     58.6,2,    58.4,2,   169.1,2,   42.23,2,    0.01,2,     2.9,2,  -0.001,2,       0,2,       0,2,  2387.2,2,    2417,2,   7.3918,2,    25.03,-999.000,9,-999.0000,9,   -0.57,2,  -244.8,2,     1.7,-999.0000,9,-999.0000,  -999.0,9,     34.112,3,-999.000,9, 20150613,     1633,-999.000,   1.8731,2,    34.7637,2,     -999.0,9,     -999.0,-999.0000,     -999.0,     -999.0,9,     -999.0,     -999.0,9,     -999.0,  -999.0,9,     -999.0,     -999.0,9,     -999.0
33RO20150525,     P16N.2,     168,          1,          7,          7,2,20150613,       1535,    49.9998,  -152.0011,       4962,  2532.2,   1.7122,  34.6306,2,  34.6304,2,     81.5,2,    82.5,2,   168.8,2,   40.76,2,       0,2,    2.81,2,       0,2,       0,2,       0,2,  2374.7,2,  2421.4,2,   7.4392,2,    25.02,-999.000,9,-999.0000,9,   -0.41,2,  -234.9,2,     2.0,-999.0000,9,-999.0000,  -999.0,9,     29.105,3,-999.000,9, 20150613,     1625,-999.000,   1.7121,2,    34.7937,2,     -999.0,9,     -999.0,-999.0000,     -999.0,     -999.0,9,     -999.0,     -999.0,9,     -999.0,  -999.0,9,     -999.0,     -999.0,9,     -999.0
33RO20150525,     P16N.2,     168,          1,          6,          6,2,20150613,       1535,    49.9998,  -152.0011,       4962,  2932.6,   1.5947,  34.6525,2,-999.0000,9,    102.7,2,     103,2,  166.75,2,   39.29,2,       0,2,    2.71,2,   0.001,2,       0,2,       0,2,  2361.2,2,  2421.6,2,   7.4841,2,    24.97,-999.000,9,-999.0000,9,   -0.40,2,  -248.4,2,     2.8,-999.0000,9,-999.0000,  -999.0,9,     25.551,3,-999.000,9, 20150613,     1617,-999.000,   1.5948,2,     -999.0,5,     -999.0,9,     -999.0,-999.0000,     -999.0,     -999.0,9,     -999.0,     -999.0,9,     -999.0,  -999.0,9,     -999.0,     -999.0,9,     -999.0
33RO20150525,     P16N.2,     168,          1,          5,          5,2,20150613,       1535,    49.9998,  -152.0011,       4962,  3333.3,    1.523,  34.6671,2,  34.6715,4,    121.2,2,   120.8,2,  163.42,2,   38.12,2,    0.02,2,    2.63,2,  -0.001,2,       0,2,       0,2,  2349.2,2,  2422.4,2,   7.5176,2,    25.03,-999.000,9,-999.0000,9,   -0.23,2,  -239.6,2,     1.8,-999.0000,9,-999.0000,  -999.0,9,     23.434,3,-999.000,9, 20150613,     1609,-999.000,    1.523,2,     34.835,2,     -999.0,9,     -999.0,-999.0000,     -999.0,     -999.0,9,     -999.0,     -999.0,9,     -999.0,  -999.0,9,     -999.0,     -999.0,9,     -999.0
33RO20150525,     P16N.2,     168,          1,          4,          4,2,20150613,       1535,    49.9998,  -152.0011,       4962,  3766.9,   1.4869,  34.6779,2,  34.6777,2,    134.2,2,   133.5,2,  162.35,6,   37.24,6,       0,6,    2.55,6,  -0.001,6,       0,6,       0,6,  2341.5,2,  2422.4,2,   7.5454,2,    25.02,-999.000,9,-999.0000,9,   -0.08,2,  -232.6,2,     2.5,-999.0000,9,-999.0000,  -999.0,9,     22.008,3,-999.000,9, 20150613,     1600,-999.000,   1.4867,2,    34.8412,2,     -999.0,9,     -999.0,-999.0000,     -999.0,     -999.0,9,     -999.0,     -999.0,9,     -999.0,  -999.0,9,     -999.0,     -999.0,9,     -999.0
33RO20150525,     P16N.2,     168,          1,          3,          3,2,20150613,       1535,    49.9998,  -152.0011,       4962,  4266.2,   1.5067,  34.6833,2,  34.6893,4,    139.5,2,   139.1,2,  164.59,6,   36.95,6,    0.01,6,    2.53,6,   0.001,2,       0,2,       0,2,  2338.8,2,  2429.2,3,   7.5588,6,    25.02,-999.000,9,-999.0000,9,   -0.02,2,  -229.6,2,     1.8,-999.0000,9,-999.0000,  -999.0,9,     21.420,3,-999.000,9, 20150613,     1551,-999.000,   1.5068,2,    34.8528,2,     -999.0,9,     -999.0,-999.0000,     -999.0,     -999.0,9,     -999.0,     -999.0,9,     -999.0,  -999.0,9,     -999.0,     -999.0,9,     -999.0
33RO20150525,     P16N.2,     168,          1,          2,          2,2,20150613,       1535,    49.9998,  -152.0011,       4962,  4675.5,   1.5425,  34.6856,2,  34.6854,2,    142.3,2,   141.1,2,  166.06,6,   36.65,2,       0,6,    2.52,6,       0,2,   0.003,3,       0,2,  2338.2,2,  2425.6,2,   7.5647,6,    25.01,-999.000,9,-999.0000,9,   -0.07,2,  -227.1,2,     2.5,-999.0000,9,-999.0000,  -999.0,9,     21.179,3,-999.000,9, 20150613,     1543,-999.000,   1.5426,2,    34.8489,6,     -999.0,9,     -999.0,-999.0000,     -999.0,     -999.0,9,     -999.0,     -999.0,9,     -999.0,  -999.0,9,     -999.0,     -999.0,9,     -999.0
33RO20150525,     P16N.2,     168,          1,          1,          1,2,20150613,       1535,    49.9998,  -152.0011,       4962,    5047,   1.5866,  34.6868,2,  34.6864,2,    141.6,2,   141.2,2,  168.89,6,   36.65,2,    0.01,6,    2.51,6,   0.002,2,   0.001,2,       0,2,  2339.4,6,  2429.4,2,   7.5667,2,    25.03,-999.000,9,-999.0000,9,   -0.04,2,  -222.2,2,     2.5,-999.0000,9,-999.0000,  -999.0,9,     21.146,3,-999.000,9, 20150613,     1535,-999.000,   1.5864,2,      34.85,2,     -999.0,9,     -999.0,-999.0000,     -999.0,     -999.0,9,     -999.0,     -999.0,9,     -999.0,  -999.0,9,     -999.0,     -999.0,9,     -999.0