BOTTLE,20220330CCHSIOCBG
EXPOCODE,SECT_ID,STNNBR,CASTNO,SAMPNO,BTLNBR,BTLNBR_FLAG_W,DATE,TIME,LATITUDE,LONGITUDE,DEPTH,CTDPRS,CTDTMP,CTDSAL,CTDSAL_FLAG_W,SALNTY,SALNTY_FLAG_W,CTDOXY,CTDOXY_FLAG_W,OXYGEN,OXYGEN_FLAG_W,SILCAT,SILCAT_FLAG_W,NITRAT,NITRAT_FLAG_W,NITRIT,NITRIT_FLAG_W,PHSPHT,PHSPHT_FLAG_W,CFC-11,CFC-11_FLAG_W,CFC-12,CFC-12_FLAG_W,SF6,SF6_FLAG_W,TCARBN,TCARBN_FLAG_W,ALKALI,ALKALI_FLAG_W,PH_TOT,PH_TOT_FLAG_W,PH_TMP,TRITUM,TRITUM_FLAG_W,HELIUM,HELIUM_FLAG_W,DELC13,DELC13_FLAG_W,DELC14,DELC14_FLAG_W,C14ERR,NEON,NEON_FLAG_W,NEONER,DOC,DOC_FLAG_W,N2O,N2O_FLAG_W,ARGON,ARGON_FLAG_W,BTL_DATE,BTL_TIME,TRITER,SBE35,SBE35_FLAG_W,SALTREF,SALTREF_FLAG_W,DELHE3,DELHE3_FLAG_W,DELHER,HELIER,ARGONER,KRYPTON,KRYPTON_FLAG_W,KRYPTONER,XENON,XENON_FLAG_W,XENONER,14C-DOC,14C-DOC_FLAG_W,14C-DOCERR,13C-DOC,13C-DOC_FLAG_W,13C-DOCERR
,,,,,,,,,,,METERS,DBAR,ITS-90,PSS-78,,PSS-78,,UMOL/KG,,UMOL/KG,,UMOL/KG,,UMOL/KG,,UMOL/KG,,UMOL/KG,,PMOL/KG,,PMOL/KG,,FMOL/KG,,UMOL/KG,,UMOL/KG,,,,DEG C,TU,,NMOL/KG,,/MILLE,,/MILLE,,/MILLE,NMOL/KG,,NMOL/KG,UMOL/KG,,NMOL/KG,,UMOL/KG,,,,TU,ITS-90,,G/KG,,PERCNT,,PERCNT,NMOL/KG,UMOL/KG,NMOL/KG,,NMOL/KG,NMOL/KG,,NMOL/KG,/MILLE,,/MILLE,/MILLE,,/MILLE
33RO20150525,     P16N.2,     118,          3,         24,         24,2,20150528,       2300,    25.0001,  -152.0001,       5409,     3.2,  23.9871,  35.2605,2,  35.2671,2,      211,2,     228,4,    1.07,2,       0,2,       0,2,     0.1,2,   1.804,6,   1.118,6,   1.467,6,  2016.6,6,  2322.6,2,   8.0462,2,    25.11,-999.000,9,-999.0000,9, -999.00,9,  -999.0,9,  -999.0,-999.0000,9,-999.0000,  -999.0,9,      6.791,3,-999.000,9, 20150529,     0108,-999.000,  24.0092,2,    35.4334,2,     -999.0,9,     -999.0,-999.0000,     -999.0,     -999.0,9,     -999.0,     -999.0,9,     -999.0,  -999.0,9,     -999.0,     -999.0,9,     -999.0
33RO20150525,     P16N.2,     118,          3,         23,         23,2,20150528,       2300,    25.0001,  -152.0001,       5409,    23.4,  23.2094,  35.3805,2,  35.3786,2,    213.8,2,   213.7,2,    1.27,2,       0,2,       0,2,    0.06,2,   1.857,2,   1.143,2,   1.485,2,  2025.5,2,  2329.4,2,   8.0392,6,    25.08,-999.000,9,-999.0000,9, -999.00,9,  -999.0,9,  -999.0,-999.0000,9,-999.0000,  -999.0,9,      6.941,3,-999.000,9, 20150529,     0105,-999.000,  23.2096,2,    35.5454,2,     -999.0,9,     -999.0,-999.0000,     -999.0,     -999.0,9,     -999.0,     -999.0,9,     -999.0,  -999.0,9,     -999.0,     -999.0,9,     -999.0
33RO20150525,     P16N.2,     118,          3,         22,         22,2,20150528,       2300,    25.0001,  -152.0001,       5409,    50.1,  23.0093,  35.3754,2,  35.3739,2,      214,2,   214.8,2,    1.27,2,       0,2,       0,2,    0.07,2,   1.869,2,   1.158,2,   1.536,2,  2026.4,2,  2326.6,2,   8.0371,6,    25.08,-999.000,9,-999.0000,9, -999.00,9,  -999.0,9,  -999.0,-999.0000,9,-999.0000,  -999.0,9,      7.091,3,-999.000,9, 20150529,     0103,-999.000,  23.0191,2,    35.5407,2,     -999.0,9,     -999.0,-999.0000,     -999.0,     -999.0,9,     -999.0,     -999.0,9,     -999.0,  -999.0,9,     -999.0,     -999.0,9,     -999.0
33RO20150525,     P16N.2,     118,          3,         21,         21,2,20150528,       2300,    25.0001,  -152.0001,       5409,    79.5,   20.934,  35.2502,2,  35.2468,2,      214,2,   215.1,2,    1.66,2,       0,2,       0,2,    0.08,2,   2.043,2,   1.249,2,   1.521,2,  2036.8,2,  2317.3,2,   8.0065,6,    25.08,-999.000,9,-999.0000,9, -999.00,9,  -999.0,9,  -999.0,-999.0000,9,-999.0000,  -999.0,9,      7.730,3,-999.000,9, 20150529,     0101,-999.000,  20.9361,2,     35.413,2,     -999.0,9,     -999.0,-999.0000,     -999.0,     -999.0,9,     -999.0,     -999.0,9,     -999.0,  -999.0,9,     -999.0,     -999.0,9,     -999.0
33RO20150525,     P16N.2,     118,          3,         20,         20,2,20150528,       2300,    25.0001,  -152.0001,       5409,   130.4,  18.7874,  34.9747,2,  34.9638,2,      210,2,   202.9,2,    2.64,2,    1.76,2,    0.11,2,    0.21,2,    2.23,2,   1.365,2,   1.513,2,  2053.1,2,  2297.6,6,   7.9464,2,    25.08,-999.000,9,-999.0000,9, -999.00,9,  -999.0,9,  -999.0,-999.0000,9,-999.0000,  -999.0,9,      8.876,3,-999.000,9, 20150529,     0058,-999.000,  18.7917,2,    35.1287,2,     -999.0,9,     -999.0,-999.0000,     -999.0,     -999.0,9,     -999.0,     -999.0,9,     -999.0,  -999.0,9,     -999.0,     -999.0,9,     -999.0
33RO20150525,     P16N.2,     118,          3,         19,         19,2,20150528,       2300,    25.0001,  -152.0001,       5409,   199.9,  15.2453,  34.4616,2,  34.4235,2,    201.9,2,   199.4,2,    5.57,2,    5.96,2,    0.01,2,    0.49,2,   2.683,2,   1.588,2,   1.581,2,  2066.9,2,  2264.9,2,     7.86,2,    25.08,-999.000,9,-999.0000,9, -999.00,9,  -999.0,9,  -999.0,-999.0000,9,-999.0000,  -999.0,9,     12.022,3,-999.000,9, 20150529,     0056,-999.000,  15.2522,2,    34.5858,2,     -999.0,9,     -999.0,-999.0000,     -999.0,     -999.0,9,     -999.0,     -999.0,9,     -999.0,  -999.0,9,     -999.0,     -999.0,9,     -999.0
33RO20150525,     P16N.2,     118,          3,         18,         18,2,20150528,       2300,    25.0001,  -152.0001,       5409,   275.2,  11.5464,  34.1141,2,  34.1122,2,    201.1,2,   199.6,2,   12.01,2,    12.5,2,    0.01,2,    0.93,2,   3.151,2,   1.816,2,   1.597,2,  2096.2,2,  2250.2,2,   7.7663,2,     25.1,-999.000,9,-999.0000,9, -999.00,9,  -999.0,9,  -999.0,-999.0000,9,-999.0000,  -999.0,9,     15.922,3,-999.000,9, 20150529,     0053,-999.000,  11.5151,2,    34.2731,2,     -999.0,9,     -999.0,-999.0000,     -999.0,     -999.0,9,     -999.0,     -999.0,9,     -999.0,  -999.0,9,     -999.0,     -999.0,9,     -999.0
33RO20150525,     P16N.2,     118,          3,         17,         17,2,20150528,       2300,    25.0001,  -152.0001,       5409,   365.8,   9.5045,  34.0925,2,  34.0921,2,    190.3,2,   193.7,2,   21.39,2,   17.77,2,    0.01,2,    1.27,2,   3.329,2,   1.857,2,   1.369,2,  2127.7,2,  2262.1,2,   7.7058,2,    25.08,-999.000,9,-999.0000,9, -999.00,9,  -999.0,9,  -999.0,-999.0000,9,-999.0000,  -999.0,9,     20.423,3,-999.000,9, 20150529,     0050,-999.000,   9.5002,2,    34.2529,2,     -999.0,9,     -999.0,-999.0000,     -999.0,     -999.0,9,     -999.0,     -999.0,9,     -999.0,  -999.0,9,     -999.0,     -999.0,9,     -999.0
33RO20150525,     P16N.2,     118,          3,         16,         16,2,20150528,       2300,    25.0001,  -152.0001,       5409,     466,   7.2574,    34.01,2,  34.0088,2,      130,2,   137.6,2,   42.49,2,   27.64,2,    0.01,2,    1.98,2,   2.834,2,   1.475,2,   0.837,2,  2199.6,2,  2272.8,2,    7.541,2,    25.08,-999.000,9,-999.0000,9, -999.00,9,  -999.0,9,  -999.0,-999.0000,9,-999.0000,  -999.0,9,     26.991,3,-999.000,9, 20150529,     0047,-999.000,   7.2608,2,    34.1691,2,     -999.0,9,     -999.0,-999.0000,     -999.0,     -999.0,9,     -999.0,     -999.0,9,     -999.0,  -999.0,9,     -999.0,     -999.0,9,     -999.0
33RO20150525,     P16N.2,     118,          3,         15,         15,2,20150528,       2300,    25.0001,  -152.0001,       5409,   600.1,   5.1666,  34.0659,2,  34.0649,2,     60.8,2,    59.5,2,   76.47,2,   37.89,2,       0,2,    2.74,2,   1.213,6,   0.589,6,   0.189,6,    2286,2,  2303.8,2,   7.3575,6,    25.08,-999.000,9,-999.0000,9, -999.00,9,  -999.0,9,  -999.0,-999.0000,9,-999.0000,  -999.0,9,     38.440,3,-999.000,9, 20150529,     0044,-999.000,   5.1672,2,    34.2255,2,     -999.0,9,     -999.0,-999.0000,     -999.0,     -999.0,9,     -999.0,     -999.0,9,     -999.0,  -999.0,9,     -999.0,     -999.0,9,     -999.0
33RO20150525,     P16N.2,     118,          3,         14,         14,2,20150528,       2300,    25.0001,  -152.0001,       5409,   750.4,   4.4671,  34.2657,2,  34.2657,2,     22.5,2,    21.3,2,   98.63,2,   41.89,2,    0.01,2,    3.08,2,   0.133,2,   0.074,2,   0.052,2,  2337.5,6,  2336.9,2,   7.3041,2,    25.11,-999.000,9,-999.0000,9, -999.00,9,  -999.0,9,  -999.0,-999.0000,9,-999.0000,  -999.0,9,     47.160,3,-999.000,9, 20150529,     0040,-999.000,    4.468,2,    34.4273,2,     -999.0,9,     -999.0,-999.0000,     -999.0,     -999.0,9,     -999.0,     -999.0,9,     -999.0,  -999.0,9,     -999.0,     -999.0,9,     -999.0
33RO20150525,     P16N.2,     118,          3,         13,         13,2,20150528,       2300,    25.0001,  -152.0001,       5409,   900.2,    4.111,  34.4048,2,  34.4043,2,     33.9,2,    32.6,2,  106.92,2,   41.79,2,       0,2,    3.05,2,    0.05,2,   0.027,2,   0.019,2,  2343.5,2,  2357.8,2,   7.3475,2,    25.11,-999.000,9,-999.0000,9, -999.00,9,  -999.0,9,  -999.0,-999.0000,9,-999.0000,  -999.0,9,     44.266,3,-999.000,9, 20150529,     0035,-999.000,   4.1116,2,    34.5665,6,     -999.0,9,     -999.0,-999.0000,     -999.0,     -999.0,9,     -999.0,     -999.0,9,     -999.0,  -999.0,9,     -999.0,     -999.0,9,     -999.0
33RO20150525,     P16N.2,     118,          3,         12,         12,2,20150528,       2300,    25.0001,  -152.0001,       5409,  1049.6,   3.8086,  34.4933,2,  34.4927,2,     45.9,2,      45,2,  111.89,2,   41.49,2,       0,2,    3.03,2,    0.02,2,   0.009,2,   0.042,3,  2345.9,2,  2371.3,2,   7.3816,2,    25.11,-999.000,9,-999.0000,9, -999.00,9,  -999.0,9,  -999.0,-999.0000,9,-999.0000,  -999.0,9,     40.540,3,-999.000,9, 20150529,     0031,-999.000,   3.8088,2,    34.6554,2,     -999.0,9,     -999.0,-999.0000,     -999.0,     -999.0,9,     -999.0,     -999.0,9,     -999.0,  -999.0,9,     -999.0,     -999.0,9,     -999.0
33RO20150525,     P16N.2,     118,          3,         11,         11,2,20150528,       2300,    25.0001,  -152.0001,       5409,  1233.6,   3.3836,  34.5293,2,  34.5283,2,     54.6,2,      53,2,  120.57,2,    41.2,2,       0,2,    2.98,2,   0.007,2,   0.005,2,    0.02,3,  2351.4,2,  2382.8,2,   7.3987,2,     25.1,-999.000,9,-999.0000,9, -999.00,9,  -999.0,9,  -999.0,-999.0000,9,-999.0000,  -999.0,9,     37.871,3,-999.000,9, 20150529,     0026,-999.000,   3.3842,2,    34.6911,2,     -999.0,9,     -999.0,-999.0000,     -999.0,     -999.0,9,     -999.0,     -999.0,9,     -999.0,  -999.0,9,     -999.0,     -999.0,9,     -999.0
33RO20150525,     P16N.2,     118,          3,         10,         10,2,20150528,       2300,    25.0001,  -152.0001,       5409,  1499.9,   2.8187,  34.5683,2,  34.5676,2,     66.2,2,    79.6,4,  132.87,2,   40.71,2,       0,2,    2.93,2,   0.004,2,   0.004,2,       0,2,  2357.1,2,  2397.4,2,    7.422,2,    25.08,-999.000,9,-999.0000,9, -999.00,9,  -999.0,9,  -999.0,-999.0000,9,-999.0000,  -999.0,9,     34.289,3,-999.000,9, 20150529,     0020,-999.000,   2.8184,2,    34.7306,2,     -999.0,9,     -999.0,-999.0000,     -999.0,     -999.0,9,     -999.0,     -999.0,9,     -999.0,  -999.0,9,     -999.0,     -999.0,9,     -999.0
33RO20150525,     P16N.2,     118,          3,          9,          9,2,20150528,       2300,    25.0001,  -152.0001,       5409,  1867.4,    2.296,  34.6025,2,  34.6027,2,     80.1,2,    79.6,2,  145.17,2,   40.03,2,       0,2,    2.86,2,   0.002,2,       0,2,       0,2,  2360.5,2,  2408.8,2,   7.4464,2,     25.1,-999.000,9,-999.0000,9, -999.00,9,  -999.0,9,  -999.0,-999.0000,9,-999.0000,  -999.0,9,     30.694,3,-999.000,9, 20150529,     0012,-999.000,   2.2945,2,    34.7659,2,     -999.0,9,     -999.0,-999.0000,     -999.0,     -999.0,9,     -999.0,     -999.0,9,     -999.0,  -999.0,9,     -999.0,     -999.0,9,     -999.0
33RO20150525,     P16N.2,     118,          3,          8,          8,2,20150528,       2300,    25.0001,  -152.0001,       5409,  2332.8,   1.8517,  34.6368,2,  34.6371,2,     96.8,2,    96.5,2,  155.61,2,   39.05,2,    0.01,2,    2.76,2,   0.001,2,       0,2,       0,2,  2359.8,2,  2419.8,2,   7.4786,2,    25.03,-999.000,9,-999.0000,9, -999.00,9,  -999.0,9,  -999.0,-999.0000,9,-999.0000,  -999.0,9,     27.092,3,-999.000,9, 20150529,     0003,-999.000,   1.8519,2,    34.8005,2,     -999.0,9,     -999.0,-999.0000,     -999.0,     -999.0,9,     -999.0,     -999.0,9,     -999.0,  -999.0,9,     -999.0,     -999.0,9,     -999.0
33RO20150525,     P16N.2,     118,          3,          7,          7,2,20150528,       2300,    25.0001,  -152.0001,       5409,  2833.9,   1.6235,  34.6605,2,  34.6604,2,      115,2,   115.1,2,  157.66,2,   37.88,2,       0,2,    2.66,2,   0.002,2,   0.001,2,       0,2,    2351,2,  2423.6,2,   7.5147,2,    25.07,-999.000,9,-999.0000,9, -999.00,9,  -999.0,9,  -999.0,-999.0000,9,-999.0000,  -999.0,9,     24.190,3,-999.000,9, 20150528,     2354,-999.000,   1.6236,2,    34.8238,2,     -999.0,9,     -999.0,-999.0000,     -999.0,     -999.0,9,     -999.0,     -999.0,9,     -999.0,  -999.0,9,     -999.0,     -999.0,9,     -999.0
33RO20150525,     P16N.2,     118,          3,          6,          6,2,20150528,       2300,    25.0001,  -152.0001,       5409,  3333.9,    1.518,  34.6751,2,  34.6756,2,    128.8,2,   129.9,2,  155.51,2,    36.9,2,       0,2,    2.57,2,  -0.001,2,   0.001,2,       0,2,  2343.3,2,  2425.6,2,   7.5422,2,    25.07,-999.000,9,-999.0000,9, -999.00,9,  -999.0,9,  -999.0,-999.0000,9,-999.0000,  -999.0,9,     22.251,3,-999.000,9, 20150528,     2344,-999.000,   1.5178,2,    34.8392,2,     -999.0,9,     -999.0,-999.0000,     -999.0,     -999.0,9,     -999.0,     -999.0,9,     -999.0,  -999.0,9,     -999.0,     -999.0,9,     -999.0
33RO20150525,     P16N.2,     118,          3,          5,          5,2,20150528,       2300,    25.0001,  -152.0001,       5409,  3833.8,   1.4813,  34.6825,2,  34.6827,2,    139.9,2,   140.4,2,  153.07,2,   36.22,2,    0.01,2,    2.53,2,   0.002,2,   0.004,2,       0,2,  2335.1,2,  2424.6,2,   7.5595,6,    25.07,-999.000,9,-999.0000,9, -999.00,9,  -999.0,9,  -999.0,-999.0000,9,-999.0000,  -999.0,9,     21.345,3,-999.000,9, 20150528,     2334,-999.000,   1.4814,2,    34.8463,2,     -999.0,9,     -999.0,-999.0000,     -999.0,     -999.0,9,     -999.0,     -999.0,9,     -999.0,  -999.0,9,     -999.0,     -999.0,9,     -999.0
33RO20150525,     P16N.2,     118,          3,          4,          4,2,20150528,       2300,    25.0001,  -152.0001,       5409,  4332.7,   1.4893,  34.6869,2,  34.6876,2,    147.2,2,   147.3,2,  149.16,6,   36.02,6,       0,6,    2.48,6,   0.003,2,   0.007,2,       0,2,  2327.9,2,  2422.4,2,    7.571,3,    25.07,-999.000,9,-999.0000,9, -999.00,9,  -999.0,9,  -999.0,-999.0000,9,-999.0000,  -999.0,9,     20.775,3,-999.000,9, 20150528,     2324,-999.000,   1.4894,2,    34.8512,2,     -999.0,9,     -999.0,-999.0000,     -999.0,     -999.0,9,     -999.0,     -999.0,9,     -999.0,  -999.0,9,     -999.0,     -999.0,9,     -999.0
33RO20150525,     P16N.2,     118,          3,          3,          3,2,20150528,       2300,    25.0001,  -152.0001,       5409,  4833.5,   1.4889,  34.6914,2,  34.6912,2,      157,2,   157.1,2,  141.84,6,   35.34,6,       0,6,    2.43,6,   0.002,2,   0.005,2,       0,2,  2317.4,2,  2417.6,6,   7.5819,2,    25.07,-999.000,9,-999.0000,9, -999.00,9,  -999.0,9,  -999.0,-999.0000,9,-999.0000,  -999.0,9,     20.375,3,-999.000,9, 20150528,     2314,-999.000,   1.4889,2,    34.8548,2,     -999.0,9,     -999.0,-999.0000,     -999.0,     -999.0,9,     -999.0,     -999.0,9,     -999.0,  -999.0,9,     -999.0,     -999.0,9,     -999.0
33RO20150525,     P16N.2,     118,          3,          2,          2,2,20150528,       2300,    25.0001,  -152.0001,       5409,  5160.7,    1.501,  34.6936,2,  34.6938,2,    162.3,2,   161.5,2,  138.13,6,   35.05,6,       0,6,     2.4,6,   0.001,2,   0.003,2,       0,2,  2312.4,2,    2413,2,   7.5862,2,    25.09,-999.000,9,-999.0000,9, -999.00,9,  -999.0,9,  -999.0,-999.0000,9,-999.0000,  -999.0,9,     20.117,3,-999.000,9, 20150528,     2307,-999.000,    1.501,2,    34.8574,6,     -999.0,9,     -999.0,-999.0000,     -999.0,     -999.0,9,     -999.0,     -999.0,9,     -999.0,  -999.0,9,     -999.0,     -999.0,9,     -999.0
33RO20150525,     P16N.2,     118,          3,          1,          1,2,20150528,       2300,    25.0001,  -152.0001,       5409,  5485.5,   1.5356,  34.6944,2,  34.6952,2,    164.1,2,   162.7,2,  137.35,6,   34.95,6,       0,6,     2.4,6,   0.002,6,   0.005,6,       0,6,  2313.4,6,  2411.4,2,   7.5882,3,    25.08,-999.000,9,-999.0000,9, -999.00,9,  -999.0,9,  -999.0,-999.0000,9,-999.0000,  -999.0,9,     20.093,3,-999.000,9, 20150528,     2300,-999.000,   1.5356,2,    34.8588,2,     -999.0,9,     -999.0,-999.0000,     -999.0,     -999.0,9,     -999.0,     -999.0,9,     -999.0,  -999.0,9,     -999.0,     -999.0,9,     -999.0