BOTTLE,20220330CCHSIOCBG
EXPOCODE,SECT_ID,STNNBR,CASTNO,SAMPNO,BTLNBR,BTLNBR_FLAG_W,DATE,TIME,LATITUDE,LONGITUDE,DEPTH,CTDPRS,CTDTMP,CTDSAL,CTDSAL_FLAG_W,SALNTY,SALNTY_FLAG_W,CTDOXY,CTDOXY_FLAG_W,OXYGEN,OXYGEN_FLAG_W,SILCAT,SILCAT_FLAG_W,NITRAT,NITRAT_FLAG_W,NITRIT,NITRIT_FLAG_W,PHSPHT,PHSPHT_FLAG_W,CFC-11,CFC-11_FLAG_W,CFC-12,CFC-12_FLAG_W,SF6,SF6_FLAG_W,TCARBN,TCARBN_FLAG_W,ALKALI,ALKALI_FLAG_W,PH_TOT,PH_TOT_FLAG_W,PH_TMP,TRITUM,TRITUM_FLAG_W,HELIUM,HELIUM_FLAG_W,DELC13,DELC13_FLAG_W,DELC14,DELC14_FLAG_W,C14ERR,NEON,NEON_FLAG_W,NEONER,DOC,DOC_FLAG_W,N2O,N2O_FLAG_W,ARGON,ARGON_FLAG_W,BTL_DATE,BTL_TIME,TRITER,SBE35,SBE35_FLAG_W,SALTREF,SALTREF_FLAG_W,DELHE3,DELHE3_FLAG_W,DELHER,HELIER,ARGONER,KRYPTON,KRYPTON_FLAG_W,KRYPTONER,XENON,XENON_FLAG_W,XENONER,14C-DOC,14C-DOC_FLAG_W,14C-DOCERR,13C-DOC,13C-DOC_FLAG_W,13C-DOCERR
,,,,,,,,,,,METERS,DBAR,ITS-90,PSS-78,,PSS-78,,UMOL/KG,,UMOL/KG,,UMOL/KG,,UMOL/KG,,UMOL/KG,,UMOL/KG,,PMOL/KG,,PMOL/KG,,FMOL/KG,,UMOL/KG,,UMOL/KG,,,,DEG C,TU,,NMOL/KG,,/MILLE,,/MILLE,,/MILLE,NMOL/KG,,NMOL/KG,UMOL/KG,,NMOL/KG,,UMOL/KG,,,,TU,ITS-90,,G/KG,,PERCNT,,PERCNT,NMOL/KG,UMOL/KG,NMOL/KG,,NMOL/KG,NMOL/KG,,NMOL/KG,/MILLE,,/MILLE,/MILLE,,/MILLE
33RO20150525,     P16N.2,     119,          1,         24,         24,2,20150529,       0552,       25.5,       -152,       5493,     2.8,  23.5165,    35.35,2,  35.3496,2,    211.3,2,   211.9,2,    0.98,2,       0,2,       0,2,    0.05,2,   1.818,6,    1.13,6,   1.499,6,  2017.6,2,  2323.4,2,   8.0445,2,    25.07,-999.000,9,-999.0000,9, -999.00,9,  -999.0,9,  -999.0,-999.0000,9,-999.0000,    66.5,2,      6.834,3,-999.000,9, 20150529,     0803,-999.000,  23.5139,2,    35.5163,2,     -999.0,9,     -999.0,-999.0000,     -999.0,     -999.0,9,     -999.0,     -999.0,9,     -999.0,  -999.0,9,     -999.0,     -999.0,9,     -999.0
33RO20150525,     P16N.2,     119,          1,         23,         23,2,20150529,       0552,       25.5,       -152,       5493,    29.9,  23.2355,  35.3544,2,  35.3533,2,    212.9,2,   216.3,2,    1.07,2,       0,2,       0,2,    0.07,2,-999.000,9,-999.000,9,-999.000,9,  -999.0,9,  -999.0,9,-999.0000,9,  -999.00,-999.000,9,-999.0000,9, -999.00,9,  -999.0,9,  -999.0,-999.0000,9,-999.0000,    66.0,2,     -999.0,9,-999.000,9, 20150529,     0801,-999.000,  23.2338,2,      35.52,2,     -999.0,9,     -999.0,-999.0000,     -999.0,     -999.0,9,     -999.0,     -999.0,9,     -999.0,  -999.0,9,     -999.0,     -999.0,9,     -999.0
33RO20150525,     P16N.2,     119,          1,         22,         22,2,20150529,       0552,       25.5,       -152,       5493,    58.9,    22.74,  35.3739,2,  35.3792,2,    217.2,2,   220.9,2,    1.17,2,       0,2,       0,2,    0.03,2,   1.902,2,   1.178,2,   1.507,2,  2026.1,2,    2324,2,    8.035,6,    25.08,-999.000,9,-999.0000,9, -999.00,9,  -999.0,9,  -999.0,-999.0000,9,-999.0000,    64.3,2,      7.192,3,-999.000,9, 20150529,     0758,-999.000,  22.7301,2,     35.546,2,     -999.0,9,     -999.0,-999.0000,     -999.0,     -999.0,9,     -999.0,     -999.0,9,     -999.0,  -999.0,9,     -999.0,     -999.0,9,     -999.0
33RO20150525,     P16N.2,     119,          1,         21,         21,2,20150529,       0552,       25.5,       -152,       5493,    89.7,   21.506,  35.3067,2,  35.3112,2,    211.7,2,   215.1,2,    1.37,2,       0,2,       0,2,    0.06,2,   2.002,2,   1.236,2,   1.524,2,  2037.2,2,  2321.2,2,   8.0123,6,    25.08,-999.000,9,-999.0000,9, -999.00,9,  -999.0,9,  -999.0,-999.0000,9,-999.0000,    60.5,2,      7.745,3,-999.000,9, 20150529,     0756,-999.000,  21.5505,2,    35.4777,2,     -999.0,9,     -999.0,-999.0000,     -999.0,     -999.0,9,     -999.0,     -999.0,9,     -999.0,  -999.0,9,     -999.0,     -999.0,9,     -999.0
33RO20150525,     P16N.2,     119,          1,         20,         20,2,20150529,       0552,       25.5,       -152,       5493,   149.6,  19.3814,  35.0544,2,  35.0455,2,    202.9,2,   204.4,2,    2.15,2,    1.37,2,    0.06,2,    0.18,2,   2.165,2,   1.329,2,   1.593,2,  2049.8,2,  2303.9,6,   7.9598,2,    25.07,-999.000,9,-999.0000,9, -999.00,9,  -999.0,9,  -999.0,-999.0000,9,-999.0000,    52.6,2,      8.275,3,-999.000,9, 20150529,     0754,-999.000,  19.3971,2,    35.2108,2,     -999.0,9,     -999.0,-999.0000,     -999.0,     -999.0,9,     -999.0,     -999.0,9,     -999.0,  -999.0,9,     -999.0,     -999.0,9,     -999.0
33RO20150525,     P16N.2,     119,          1,         19,         19,2,20150529,       0552,       25.5,       -152,       5493,   224.7,  14.4068,  34.3321,2,  34.3223,2,    198.5,2,   199.5,2,    6.05,2,    6.84,2,    0.01,2,    0.54,2,     2.8,2,   1.634,2,   1.612,2,  2070.4,2,    2259,2,   7.8424,2,    25.09,-999.000,9,-999.0000,9, -999.00,9,  -999.0,9,  -999.0,-999.0000,9,-999.0000,    43.5,2,     12.320,3,-999.000,9, 20150529,     0751,-999.000,  14.4213,2,    34.4842,2,     -999.0,9,     -999.0,-999.0000,     -999.0,     -999.0,9,     -999.0,     -999.0,9,     -999.0,  -999.0,9,     -999.0,     -999.0,9,     -999.0
33RO20150525,     P16N.2,     119,          1,         18,         18,2,20150529,       0552,       25.5,       -152,       5493,   300.6,  10.7424,  34.0719,2,  34.0722,2,    197.1,2,   197.9,2,   14.16,2,   14.26,2,    0.01,2,    1.04,2,   3.287,2,   1.848,2,   1.488,2,  2106.3,2,  2249.6,2,     7.74,2,    25.09,-999.000,9,-999.0000,9, -999.00,9,  -999.0,9,  -999.0,-999.0000,9,-999.0000,    41.2,2,     17.256,3,-999.000,9, 20150529,     0749,-999.000,  10.7493,2,    34.2328,2,     -999.0,9,     -999.0,-999.0000,     -999.0,     -999.0,9,     -999.0,     -999.0,9,     -999.0,  -999.0,9,     -999.0,     -999.0,9,     -999.0
33RO20150525,     P16N.2,     119,          1,         17,         17,2,20150529,       0552,       25.5,       -152,       5493,     401,   8.5469,   34.038,2,  34.0375,2,    167.1,2,   176.8,2,   28.52,2,   21.78,2,       0,2,    1.56,2,   3.244,2,   1.744,2,   1.135,2,  2158.1,2,  2261.1,2,   7.6327,2,    25.08,-999.000,9,-999.0000,9, -999.00,9,  -999.0,9,  -999.0,-999.0000,9,-999.0000,    41.6,2,     23.380,3,-999.000,9, 20150529,     0745,-999.000,   8.5359,2,     34.198,2,     -999.0,9,     -999.0,-999.0000,     -999.0,     -999.0,9,     -999.0,     -999.0,9,     -999.0,  -999.0,9,     -999.0,     -999.0,9,     -999.0
33RO20150525,     P16N.2,     119,          1,         16,         16,2,20150529,       0552,       25.5,       -152,       5493,   500.8,   6.5943,  34.0176,2,   34.016,2,    103.2,2,   105.7,2,   51.86,2,   31.35,2,       0,2,    2.28,2,   2.328,2,    1.17,2,   0.515,2,  2232.8,2,  2278.9,2,     7.46,6,    25.06,-999.000,9,-999.0000,9, -999.00,9,  -999.0,9,  -999.0,-999.0000,9,-999.0000,    40.7,2,     31.238,3,-999.000,9, 20150529,     0742,-999.000,   6.5936,2,    34.1764,6,     -999.0,9,     -999.0,-999.0000,     -999.0,     -999.0,9,     -999.0,     -999.0,9,     -999.0,  -999.0,9,     -999.0,     -999.0,9,     -999.0
33RO20150525,     P16N.2,     119,          1,         15,         15,2,20150529,       0552,       25.5,       -152,       5493,   650.6,   4.8289,  34.1092,2,  34.1107,2,     42.5,2,    43.9,2,   84.18,2,   39.06,2,       0,2,    2.87,2,-999.000,5,-999.000,5,-999.000,5,    2307,2,    2312,2,   7.3273,2,    25.06,-999.000,9,-999.0000,9, -999.00,9,  -999.0,9,  -999.0,-999.0000,9,-999.0000,    38.9,2,     -999.0,5,-999.000,9, 20150529,     0738,-999.000,   4.8276,2,    34.2715,2,     -999.0,9,     -999.0,-999.0000,     -999.0,     -999.0,9,     -999.0,     -999.0,9,     -999.0,  -999.0,9,     -999.0,     -999.0,9,     -999.0
33RO20150525,     P16N.2,     119,          1,         14,         14,2,20150529,       0552,       25.5,       -152,       5493,     800,   4.3139,  34.3106,2,  34.3117,2,     22.5,2,      20,2,  102.43,2,    41.5,2,       0,2,    3.08,2,   0.074,2,   0.041,2,       0,2,    2343,2,  2343.7,2,   7.3074,2,    25.07,-999.000,9,-999.0000,9, -999.00,9,  -999.0,9,  -999.0,-999.0000,9,-999.0000,    35.7,2,     47.599,3,-999.000,9, 20150529,     0734,-999.000,   4.3136,2,    34.4735,2,     -999.0,9,     -999.0,-999.0000,     -999.0,     -999.0,9,     -999.0,     -999.0,9,     -999.0,  -999.0,9,     -999.0,     -999.0,9,     -999.0
33RO20150525,     P16N.2,     119,          1,         13,         13,2,20150529,       0552,       25.5,       -152,       5493,   949.2,   3.9434,  34.4407,2,  34.4429,2,     38.5,2,    38.5,2,  109.35,2,   40.91,2,       0,2,       3,2,   0.034,2,   0.019,2,       0,2,  2347.5,2,  2359.9,6,    7.362,2,    25.06,-999.000,9,-999.0000,9, -999.00,9,  -999.0,9,  -999.0,-999.0000,9,-999.0000,    34.7,2,     42.609,3,-999.000,9, 20150529,     0730,-999.000,   3.9436,2,    34.6053,2,     -999.0,9,     -999.0,-999.0000,     -999.0,     -999.0,9,     -999.0,     -999.0,9,     -999.0,  -999.0,9,     -999.0,     -999.0,9,     -999.0
33RO20150525,     P16N.2,     119,          1,         12,         12,2,20150529,       0552,       25.5,       -152,       5493,  1100.7,   3.6033,  34.5043,2,  34.5038,2,     49.6,2,    49.4,2,  115.69,2,   40.52,2,       0,2,    2.98,2,-999.000,9,-999.000,9,-999.000,9,  -999.0,9,  -999.0,9,-999.0000,9,  -999.00,-999.000,9,-999.0000,9, -999.00,9,  -999.0,9,  -999.0,-999.0000,9,-999.0000,    35.1,2,     -999.0,9,-999.000,9, 20150529,     0725,-999.000,   3.6043,2,    34.6665,2,     -999.0,9,     -999.0,-999.0000,     -999.0,     -999.0,9,     -999.0,     -999.0,9,     -999.0,  -999.0,9,     -999.0,     -999.0,9,     -999.0
33RO20150525,     P16N.2,     119,          1,         11,         11,2,20150529,       0552,       25.5,       -152,       5493,  1299.7,   3.1777,  34.5454,2,  34.5453,2,     58.6,2,    57.9,2,  124.48,2,   40.32,2,       0,2,    2.96,2,-999.000,9,-999.000,9,-999.000,9,  -999.0,9,  -999.0,9,-999.0000,9,  -999.00,-999.000,9,-999.0000,9, -999.00,9,  -999.0,9,  -999.0,-999.0000,9,-999.0000,    37.7,2,     -999.0,9,-999.000,9, 20150529,     0720,-999.000,   3.1785,2,    34.7082,2,     -999.0,9,     -999.0,-999.0000,     -999.0,     -999.0,9,     -999.0,     -999.0,9,     -999.0,  -999.0,9,     -999.0,     -999.0,9,     -999.0
33RO20150525,     P16N.2,     119,          1,         10,         10,2,20150529,       0552,       25.5,       -152,       5493,  1600.1,   2.6512,  34.5802,2,  34.5804,2,     70.4,2,    70.1,2,  136.19,2,   39.83,2,       0,2,    2.89,2,   0.001,2,   0.002,2,   0.029,3,  2357.9,2,  2400.4,2,   7.4294,6,    25.07,-999.000,9,-999.0000,9, -999.00,9,  -999.0,9,  -999.0,-999.0000,9,-999.0000,    34.6,2,     33.232,3,-999.000,9, 20150529,     0714,-999.000,   2.6511,2,    34.7435,2,     -999.0,9,     -999.0,-999.0000,     -999.0,     -999.0,9,     -999.0,     -999.0,9,     -999.0,  -999.0,9,     -999.0,     -999.0,9,     -999.0
33RO20150525,     P16N.2,     119,          1,          9,          9,2,20150529,       0552,       25.5,       -152,       5493,    2000,    2.109,  34.6158,2,  34.6172,2,     85.2,2,      85,2,  149.76,2,   39.05,2,       0,2,    2.81,2,-999.000,9,-999.000,9,-999.000,9,  -999.0,9,  -999.0,9,-999.0000,9,  -999.00,-999.000,9,-999.0000,9, -999.00,9,  -999.0,9,  -999.0,-999.0000,9,-999.0000,    33.3,2,     -999.0,9,-999.000,9, 20150529,     0706,-999.000,   2.1089,2,    34.7804,2,     -999.0,9,     -999.0,-999.0000,     -999.0,     -999.0,9,     -999.0,     -999.0,9,     -999.0,  -999.0,9,     -999.0,     -999.0,9,     -999.0
33RO20150525,     P16N.2,     119,          1,          8,          8,2,20150529,       0552,       25.5,       -152,       5493,  2500.7,   1.7305,  34.6479,2,  34.6473,2,    104.9,2,     105,2,  156.29,2,   37.88,2,       0,2,    2.69,2,-999.000,9,-999.000,9,-999.000,9,  -999.0,9,  -999.0,9,-999.0000,9,  -999.00,-999.000,9,-999.0000,9, -999.00,9,  -999.0,9,  -999.0,-999.0000,9,-999.0000,    35.2,2,     -999.0,9,-999.000,9, 20150529,     0656,-999.000,   1.7308,2,    34.8107,2,     -999.0,9,     -999.0,-999.0000,     -999.0,     -999.0,9,     -999.0,     -999.0,9,     -999.0,  -999.0,9,     -999.0,     -999.0,9,     -999.0
33RO20150525,     P16N.2,     119,          1,          7,          7,2,20150529,       0552,       25.5,       -152,       5493,    3000,   1.5734,  34.6664,2,  34.6668,2,    121.5,2,   121.5,2,  156.68,2,    36.9,2,       0,2,    2.61,2,       0,2,   0.001,2,       0,2,  2343.8,2,  2423.4,2,   7.5253,6,    25.07,-999.000,9,-999.0000,9, -999.00,9,  -999.0,9,  -999.0,-999.0000,9,-999.0000,    34.5,2,     23.267,3,-999.000,9, 20150529,     0646,-999.000,   1.5732,2,    34.8303,6,     -999.0,9,     -999.0,-999.0000,     -999.0,     -999.0,9,     -999.0,     -999.0,9,     -999.0,  -999.0,9,     -999.0,     -999.0,9,     -999.0
33RO20150525,     P16N.2,     119,          1,          6,          6,2,20150529,       0552,       25.5,       -152,       5493,  3500.3,    1.497,  34.6781,2,  34.6774,2,    133.7,2,     135,2,  154.14,2,   36.12,2,       0,2,    2.54,2,-999.000,9,-999.000,9,-999.000,9,  -999.0,9,  -999.0,9,-999.0000,9,  -999.00,-999.000,9,-999.0000,9, -999.00,9,  -999.0,9,  -999.0,-999.0000,9,-999.0000,    35.2,2,     -999.0,9,-999.000,9, 20150529,     0637,-999.000,   1.4971,2,    34.8409,2,     -999.0,9,     -999.0,-999.0000,     -999.0,     -999.0,9,     -999.0,     -999.0,9,     -999.0,  -999.0,9,     -999.0,     -999.0,9,     -999.0
33RO20150525,     P16N.2,     119,          1,          5,          5,2,20150529,       0552,       25.5,       -152,       5493,  4001.6,   1.4831,  34.6838,2,  34.6835,2,    142.7,2,   143.2,2,  150.92,2,   35.53,2,       0,2,     2.5,2,-999.000,9,-999.000,9,-999.000,9,  -999.0,9,  -999.0,9,-999.0000,9,  -999.00,-999.000,9,-999.0000,9, -999.00,9,  -999.0,9,  -999.0,-999.0000,9,-999.0000,    34.4,2,     -999.0,9,-999.000,9, 20150529,     0627,-999.000,   1.4831,2,    34.8471,2,     -999.0,9,     -999.0,-999.0000,     -999.0,     -999.0,9,     -999.0,     -999.0,9,     -999.0,  -999.0,9,     -999.0,     -999.0,9,     -999.0
33RO20150525,     P16N.2,     119,          1,          4,          4,2,20150529,       0552,       25.5,       -152,       5493,  4500.6,   1.4874,  34.6882,2,  34.6881,2,    150.8,2,   150.6,2,  145.65,6,   35.34,6,       0,6,    2.44,6,   0.002,6,   0.004,6,       0,6,  2267.7,4,  2418.6,6,   7.5749,6,    25.08,-999.000,9,-999.0000,9, -999.00,9,  -999.0,9,  -999.0,-999.0000,9,-999.0000,    36.8,2,     20.495,3,-999.000,9, 20150529,     0617,-999.000,   1.4875,2,    34.8516,2,     -999.0,9,     -999.0,-999.0000,     -999.0,     -999.0,9,     -999.0,     -999.0,9,     -999.0,  -999.0,9,     -999.0,     -999.0,9,     -999.0
33RO20150525,     P16N.2,     119,          1,          3,          3,2,20150529,       0552,       25.5,       -152,       5493,  5000.8,   1.4983,  34.6923,2,   34.691,2,    159.5,2,   159.1,2,   139.4,6,   34.85,6,       0,6,    2.39,6,-999.000,9,-999.000,9,-999.000,9,  -999.0,9,  -999.0,9,-999.0000,9,  -999.00,-999.000,9,-999.0000,9, -999.00,9,  -999.0,9,  -999.0,-999.0000,9,-999.0000,    35.5,2,     -999.0,9,-999.000,9, 20150529,     0607,-999.000,   1.4983,2,    34.8546,2,     -999.0,9,     -999.0,-999.0000,     -999.0,     -999.0,9,     -999.0,     -999.0,9,     -999.0,  -999.0,9,     -999.0,     -999.0,9,     -999.0
33RO20150525,     P16N.2,     119,          1,          2,          2,2,20150529,       0552,       25.5,       -152,       5493,  5291.3,   1.5199,  34.6937,2,  34.6924,2,    162.5,2,   161.5,2,  138.03,6,   34.75,6,       0,6,    2.37,6,-999.000,9,-999.000,9,-999.000,9,  -999.0,9,  -999.0,9,-999.0000,9,  -999.00,-999.000,9,-999.0000,9, -999.00,9,  -999.0,9,  -999.0,-999.0000,9,-999.0000,    35.2,2,     -999.0,9,-999.000,9, 20150529,     0601,-999.000,   1.5201,2,     34.856,2,     -999.0,9,     -999.0,-999.0000,     -999.0,     -999.0,9,     -999.0,     -999.0,9,     -999.0,  -999.0,9,     -999.0,     -999.0,9,     -999.0
33RO20150525,     P16N.2,     119,          1,          1,          1,2,20150529,       0552,       25.5,       -152,       5493,  5583.9,   1.5523,  34.6942,2,  34.6948,2,    163.6,2,   163.4,2,  137.06,6,   34.75,6,       0,6,    2.35,6,       0,2,   0.003,2,       0,2,  2263.8,4,  2411.6,2,   7.5875,2,    25.07,-999.000,9,-999.0000,9, -999.00,9,  -999.0,9,  -999.0,-999.0000,9,-999.0000,    40.4,2,     19.956,3,-999.000,9, 20150529,     0553,-999.000,   1.5523,2,    34.8584,2,     -999.0,9,     -999.0,-999.0000,     -999.0,     -999.0,9,     -999.0,     -999.0,9,     -999.0,  -999.0,9,     -999.0,     -999.0,9,     -999.0