BOTTLE,20220330CCHSIOCBG
EXPOCODE,SECT_ID,STNNBR,CASTNO,SAMPNO,BTLNBR,BTLNBR_FLAG_W,DATE,TIME,LATITUDE,LONGITUDE,DEPTH,CTDPRS,CTDTMP,CTDSAL,CTDSAL_FLAG_W,SALNTY,SALNTY_FLAG_W,CTDOXY,CTDOXY_FLAG_W,OXYGEN,OXYGEN_FLAG_W,SILCAT,SILCAT_FLAG_W,NITRAT,NITRAT_FLAG_W,NITRIT,NITRIT_FLAG_W,PHSPHT,PHSPHT_FLAG_W,CFC-11,CFC-11_FLAG_W,CFC-12,CFC-12_FLAG_W,SF6,SF6_FLAG_W,TCARBN,TCARBN_FLAG_W,ALKALI,ALKALI_FLAG_W,PH_TOT,PH_TOT_FLAG_W,PH_TMP,TRITUM,TRITUM_FLAG_W,HELIUM,HELIUM_FLAG_W,DELC13,DELC13_FLAG_W,DELC14,DELC14_FLAG_W,C14ERR,NEON,NEON_FLAG_W,NEONER,DOC,DOC_FLAG_W,N2O,N2O_FLAG_W,ARGON,ARGON_FLAG_W,BTL_DATE,BTL_TIME,TRITER,SBE35,SBE35_FLAG_W,SALTREF,SALTREF_FLAG_W,DELHE3,DELHE3_FLAG_W,DELHER,HELIER,ARGONER,KRYPTON,KRYPTON_FLAG_W,KRYPTONER,XENON,XENON_FLAG_W,XENONER,14C-DOC,14C-DOC_FLAG_W,14C-DOCERR,13C-DOC,13C-DOC_FLAG_W,13C-DOCERR
,,,,,,,,,,,METERS,DBAR,ITS-90,PSS-78,,PSS-78,,UMOL/KG,,UMOL/KG,,UMOL/KG,,UMOL/KG,,UMOL/KG,,UMOL/KG,,PMOL/KG,,PMOL/KG,,FMOL/KG,,UMOL/KG,,UMOL/KG,,,,DEG C,TU,,NMOL/KG,,/MILLE,,/MILLE,,/MILLE,NMOL/KG,,NMOL/KG,UMOL/KG,,NMOL/KG,,UMOL/KG,,,,TU,ITS-90,,G/KG,,PERCNT,,PERCNT,NMOL/KG,UMOL/KG,NMOL/KG,,NMOL/KG,NMOL/KG,,NMOL/KG,/MILLE,,/MILLE,/MILLE,,/MILLE
33RO20150525,     P16N.2,     201,          2,         24,         24,2,20150622,       1101,    55.9699,  -140.4813,       3518,     3.1,  13.6237,   31.928,2,  31.9383,2,    276.9,2,   286.1,2,    4.11,2,       0,2,    0.01,2,     0.4,2,   3.357,6,   1.899,6,   2.304,6,    1945,6,  2160.6,2,   7.9395,2,    25.04,-999.000,9,-999.0000,9,    1.71,2,   -13.2,2,     2.3,-999.0000,9,-999.0000,    63.3,2,     10.216,3,-999.000,9, 20150622,     1228,-999.000,  13.6624,2,    32.0889,2,     -999.0,9,     -999.0,-999.0000,     -999.0,     -999.0,9,     -999.0,     -999.0,9,     -999.0,  -999.0,9,     -999.0,     -999.0,9,     -999.0
33RO20150525,     P16N.2,     201,          2,         23,         23,2,20150622,       1101,    55.9699,  -140.4813,       3518,    19.9,  10.7399,  32.0788,2,  32.0842,2,    303.9,2,   296.9,2,    4.11,2,    0.59,2,    0.04,2,    0.56,2,   3.591,2,   2.009,2,   2.395,2,  1965.6,2,  2165.8,2,   7.9044,6,    25.04,-999.000,9,-999.0000,9, -999.00,9,  -999.0,9,  -999.0,-999.0000,9,-999.0000,    59.3,2,     10.910,3,-999.000,9, 20150622,     1226,-999.000,  10.7469,2,    32.2355,2,     -999.0,9,     -999.0,-999.0000,     -999.0,     -999.0,9,     -999.0,     -999.0,9,     -999.0,  -999.0,9,     -999.0,     -999.0,9,     -999.0
33RO20150525,     P16N.2,     201,          2,         22,         22,2,20150622,       1101,    55.9699,  -140.4813,       3518,    42.5,   8.2312,  32.2019,2,  32.2054,2,    281.8,2,   283.3,2,   12.33,2,    6.66,2,    0.42,2,       1,2,   3.906,2,   2.132,2,   2.486,2,  2019.4,2,  2165.5,2,   7.7757,6,    25.03,-999.000,9,-999.0000,9, -999.00,9,  -999.0,9,  -999.0,-999.0000,9,-999.0000,    54.4,2,     12.389,3,-999.000,9, 20150622,     1225,-999.000,   8.2312,2,    32.3573,2,     -999.0,9,     -999.0,-999.0000,     -999.0,     -999.0,9,     -999.0,     -999.0,9,     -999.0,  -999.0,9,     -999.0,     -999.0,9,     -999.0
33RO20150525,     P16N.2,     201,          2,         21,         21,2,20150622,       1101,    55.9699,  -140.4813,       3518,    66.9,   7.8624,  32.3014,2,  32.3436,2,    268.8,2,   266.3,2,   15.66,2,   11.06,2,    0.04,2,    1.16,2,    3.92,2,   2.205,2,   2.527,2,  2040.9,2,  2172.4,6,   7.7301,6,    25.03,-999.000,9,-999.0000,9, -999.00,9,  -999.0,9,  -999.0,-999.0000,9,-999.0000,    51.5,2,     13.634,3,-999.000,9, 20150622,     1223,-999.000,   7.8623,2,    32.4961,2,     -999.0,9,     -999.0,-999.0000,     -999.0,     -999.0,9,     -999.0,     -999.0,9,     -999.0,  -999.0,9,     -999.0,     -999.0,9,     -999.0
33RO20150525,     P16N.2,     201,          2,         20,         20,2,20150622,       1101,    55.9699,  -140.4813,       3518,    91.8,   7.1506,  32.7344,2,  32.7589,2,    207.7,2,   213.6,2,   29.16,2,   19.67,2,    0.03,2,    1.65,2,   3.746,2,   2.014,2,   2.075,2,  2108.9,2,  2199.8,2,   7.6066,2,    25.05,-999.000,9,-999.0000,9, -999.00,9,  -999.0,9,  -999.0,-999.0000,9,-999.0000,    50.7,2,     18.554,3,-999.000,9, 20150622,     1221,-999.000,   7.1507,2,    32.9134,6,     -999.0,9,     -999.0,-999.0000,     -999.0,     -999.0,9,     -999.0,     -999.0,9,     -999.0,  -999.0,9,     -999.0,     -999.0,9,     -999.0
33RO20150525,     P16N.2,     201,          2,         19,         19,2,20150622,       1101,    55.9699,  -140.4813,       3518,     117,   6.5957,  33.0546,2,  33.0869,2,    183.3,2,   181.6,2,   38.25,2,   24.65,2,    0.02,2,    1.93,2,    3.66,2,   1.978,2,   1.872,2,  2150.8,2,  2220.3,2,   7.5314,2,    25.07,-999.000,9,-999.0000,9, -999.00,9,  -999.0,9,  -999.0,-999.0000,9,-999.0000,    47.6,2,     22.772,3,-999.000,9, 20150622,     1220,-999.000,   6.5961,2,    33.2429,2,     -999.0,9,     -999.0,-999.0000,     -999.0,     -999.0,9,     -999.0,     -999.0,9,     -999.0,  -999.0,9,     -999.0,     -999.0,9,     -999.0
33RO20150525,     P16N.2,     201,          2,         18,         18,2,20150622,       1101,    55.9699,  -140.4813,       3518,   142.9,   6.1951,  33.4393,2,  33.4551,2,    156.6,2,   154.7,2,   43.42,2,   28.07,2,    0.01,2,    2.11,2,   3.567,2,   1.948,2,   1.659,2,  2187.7,2,  2242.8,2,   7.4799,2,    25.06,-999.000,9,-999.0000,9, -999.00,9,  -999.0,9,  -999.0,-999.0000,9,-999.0000,    47.4,2,     25.828,3,-999.000,9, 20150622,     1218,-999.000,    6.195,2,    33.6128,2,     -999.0,9,     -999.0,-999.0000,     -999.0,     -999.0,9,     -999.0,     -999.0,9,     -999.0,  -999.0,9,     -999.0,     -999.0,9,     -999.0
33RO20150525,     P16N.2,     201,          2,         17,         17,2,20150622,       1101,    55.9699,  -140.4813,       3518,   184.3,   5.9397,  33.6847,2,  33.6868,2,    129.4,2,     132,2,    48.7,2,    30.8,2,    0.01,2,    2.23,2,    3.38,2,   1.754,2,   1.372,2,  2215.4,2,  2258.1,2,   7.4394,2,    25.04,-999.000,9,-999.0000,9, -999.00,9,  -999.0,9,  -999.0,-999.0000,9,-999.0000,    46.7,2,     28.242,3,-999.000,9, 20150622,     1216,-999.000,   5.9399,2,    33.8456,2,     -999.0,9,     -999.0,-999.0000,     -999.0,     -999.0,9,     -999.0,     -999.0,9,     -999.0,  -999.0,9,     -999.0,     -999.0,9,     -999.0
33RO20150525,     P16N.2,     201,          2,         16,         16,2,20150622,       1101,    55.9699,  -140.4813,       3518,   250.4,   5.5182,  33.8439,2,  33.8455,2,    103.1,2,   100.8,2,   58.96,2,   34.51,2,    0.01,2,    2.46,2,   3.024,2,   1.586,2,   1.076,2,  2249.9,2,  2274.9,2,   7.3794,6,    25.06,-999.000,9,-999.0000,9, -999.00,9,  -999.0,9,  -999.0,-999.0000,9,-999.0000,    47.7,2,     32.630,3,-999.000,9, 20150622,     1214,-999.000,   5.5203,2,    34.0051,2,     -999.0,9,     -999.0,-999.0000,     -999.0,     -999.0,9,     -999.0,     -999.0,9,     -999.0,  -999.0,9,     -999.0,     -999.0,9,     -999.0
33RO20150525,     P16N.2,     201,          2,         15,         15,2,20150622,       1101,    55.9699,  -140.4813,       3518,   325.4,   4.7338,  33.8904,2,   33.894,2,     74.1,2,    72.1,2,   71.67,2,   38.23,2,    0.01,2,     2.7,2,   2.578,2,   1.301,2,     0.8,2,  2281.7,2,  2286.1,2,   7.3157,2,    25.05,-999.000,9,-999.0000,9, -999.00,9,  -999.0,9,  -999.0,-999.0000,9,-999.0000,    44.0,2,     35.796,3,-999.000,9, 20150622,     1212,-999.000,   4.7187,2,    34.0538,2,     -999.0,9,     -999.0,-999.0000,     -999.0,     -999.0,9,     -999.0,     -999.0,9,     -999.0,  -999.0,9,     -999.0,     -999.0,9,     -999.0
33RO20150525,     P16N.2,     201,          2,         14,         14,2,20150622,       1101,    55.9699,  -140.4813,       3518,   400.2,   4.5733,   33.974,2,  33.9743,2,     50.1,2,    50.2,2,   80.95,2,   40.08,2,       0,2,    2.84,2,   2.009,6,   1.021,6,   0.578,6,  2302.3,2,  2297.3,2,   7.2888,2,    25.08,-999.000,9,-999.0000,9, -999.00,9,  -999.0,9,  -999.0,-999.0000,9,-999.0000,    43.0,2,     38.848,3,-999.000,9, 20150622,     1209,-999.000,   4.5728,2,    34.1345,2,     -999.0,9,     -999.0,-999.0000,     -999.0,     -999.0,9,     -999.0,     -999.0,9,     -999.0,  -999.0,9,     -999.0,     -999.0,9,     -999.0
33RO20150525,     P16N.2,     201,          2,         13,         13,2,20150622,       1101,    55.9699,  -140.4813,       3518,   475.5,   4.3827,  34.0447,2,  34.0441,2,     35.7,2,    35.4,2,   89.35,2,   41.35,2,       0,2,    2.91,2,   1.533,2,   0.768,2,   0.357,2,  2317.8,2,  2309.2,2,   7.2745,2,    25.08,-999.000,9,-999.0000,9, -999.00,9,  -999.0,9,  -999.0,-999.0000,9,-999.0000,    44.3,2,     41.559,3,-999.000,9, 20150622,     1207,-999.000,   4.3852,2,    34.2046,2,     -999.0,9,     -999.0,-999.0000,     -999.0,     -999.0,9,     -999.0,     -999.0,9,     -999.0,  -999.0,9,     -999.0,     -999.0,9,     -999.0
33RO20150525,     P16N.2,     201,          2,         12,         12,2,20150622,       1101,    55.9699,  -140.4813,       3518,   567.3,   4.1512,  34.1167,2,  34.1226,2,     24.5,2,      24,2,   99.12,2,   42.23,2,       0,2,       3,2,   1.048,2,   0.513,2,    0.22,2,  2334.5,2,    2323,2,   7.2661,2,    25.08,-999.000,9,-999.0000,9, -999.00,9,  -999.0,9,  -999.0,-999.0000,9,-999.0000,    43.1,2,     44.217,3,-999.000,9, 20150622,     1204,-999.000,   4.1514,2,    34.2835,2,     -999.0,9,     -999.0,-999.0000,     -999.0,     -999.0,9,     -999.0,     -999.0,9,     -999.0,  -999.0,9,     -999.0,     -999.0,9,     -999.0
33RO20150525,     P16N.2,     201,          2,         11,         11,2,20150622,       1101,    55.9699,  -140.4813,       3518,   710.2,   3.8407,  34.2044,2,  34.2038,2,     16.7,2,    16.2,2,  111.33,2,   42.91,2,    0.01,2, -999.00,5,   0.571,2,   0.278,2,   0.136,2,  2349.6,2,    2339,2,   7.2672,2,    25.07,-999.000,9,-999.0000,9, -999.00,9,  -999.0,9,  -999.0,-999.0000,9,-999.0000,    41.1,2,     46.725,3,-999.000,9, 20150622,     1201,-999.000,   3.8399,2,    34.3651,2,     -999.0,9,     -999.0,-999.0000,     -999.0,     -999.0,9,     -999.0,     -999.0,9,     -999.0,  -999.0,9,     -999.0,     -999.0,9,     -999.0
33RO20150525,     P16N.2,     201,          2,         10,         10,2,20150622,       1101,    55.9699,  -140.4813,       3518,   832.8,   3.5831,  34.2679,2,  34.2664,2,     13.3,2,    13.6,2,  120.13,2,    43.2,2,       0,2,    3.08,2,   0.324,2,   0.158,2,   0.089,2,  2361.3,2,  2351.4,2,   7.2711,2,    25.08,-999.000,9,-999.0000,9, -999.00,9,  -999.0,9,  -999.0,-999.0000,9,-999.0000,    40.4,2,     47.683,3,-999.000,9, 20150622,     1158,-999.000,   3.5818,2,    34.4279,2,     -999.0,9,     -999.0,-999.0000,     -999.0,     -999.0,9,     -999.0,     -999.0,9,     -999.0,  -999.0,9,     -999.0,     -999.0,9,     -999.0
33RO20150525,     P16N.2,     201,          2,          9,          9,2,20150622,       1101,    55.9699,  -140.4813,       3518,   966.7,   3.2761,  34.3224,2,  34.3223,2,     12.4,2,    12.7,2,  129.99,2,   43.49,2,       0,2,     3.1,2,   0.184,2,   0.089,2,   0.046,2,  2369.9,2,  2364.2,2,   7.2753,2,    25.08,-999.000,9,-999.0000,9, -999.00,9,  -999.0,9,  -999.0,-999.0000,9,-999.0000,    38.8,2,     47.891,3,-999.000,9, 20150622,     1154,-999.000,   3.2757,2,    34.4841,2,     -999.0,9,     -999.0,-999.0000,     -999.0,     -999.0,9,     -999.0,     -999.0,9,     -999.0,  -999.0,9,     -999.0,     -999.0,9,     -999.0
33RO20150525,     P16N.2,     201,          2,          8,          8,2,20150622,       1101,    55.9699,  -140.4813,       3518,  1233.4,   2.7904,  34.4161,2,  34.4137,2,     14.1,2,    17.1,2,  144.94,2,   43.78,2,       0,2,     3.1,2,   0.049,2,   0.024,2,       0,2,  2386.3,2,    2384,2,   7.2885,2,    25.07,-999.000,9,-999.0000,9, -999.00,9,  -999.0,9,  -999.0,-999.0000,9,-999.0000,    38.9,2,     46.938,3,-999.000,9, 20150622,     1148,-999.000,   2.7927,2,     34.576,2,     -999.0,9,     -999.0,-999.0000,     -999.0,     -999.0,9,     -999.0,     -999.0,9,     -999.0,  -999.0,9,     -999.0,     -999.0,9,     -999.0
33RO20150525,     P16N.2,     201,          2,          7,          7,2,20150622,       1101,    55.9699,  -140.4813,       3518,  1545.7,   2.3349,  34.5027,2,  34.5027,2,     26.3,2,    26.4,2,  157.63,2,   43.29,2,       0,2,    3.03,2,   0.017,2,   0.009,2,       0,2,  2392.2,6,  2400.1,2,     7.32,6,    25.06,-999.000,9,-999.0000,9, -999.00,9,  -999.0,9,  -999.0,-999.0000,9,-999.0000,    37.2,2,     41.822,3,-999.000,9, 20150622,     1142,-999.000,    2.334,2,    34.6654,6,     -999.0,9,     -999.0,-999.0000,     -999.0,     -999.0,9,     -999.0,     -999.0,9,     -999.0,  -999.0,9,     -999.0,     -999.0,9,     -999.0
33RO20150525,     P16N.2,     201,          2,          6,          6,2,20150622,       1101,    55.9699,  -140.4813,       3518,  1867.7,   2.0373,  34.5636,2,   34.562,2,     45.6,2,    45.4,2,  163.59,2,   42.12,2,       0,2,    2.96,2,   0.004,2,   0.003,2,       0,2,  2387.4,2,  2411.2,2,   7.3625,6,    25.06,-999.000,9,-999.0000,9, -999.00,9,  -999.0,9,  -999.0,-999.0000,9,-999.0000,    37.6,2,     36.659,3,-999.000,9, 20150622,     1135,-999.000,   2.0388,2,    34.7249,2,     -999.0,9,     -999.0,-999.0000,     -999.0,     -999.0,9,     -999.0,     -999.0,9,     -999.0,  -999.0,9,     -999.0,     -999.0,9,     -999.0
33RO20150525,     P16N.2,     201,          2,          5,          5,2,20150622,       1101,    55.9699,  -140.4813,       3518,  2133.1,   1.8884,  34.5941,2,  34.5959,2,     60.2,2,      60,2,  166.03,2,   41.14,2,       0,2,     2.9,2,   0.003,2,  -0.001,2,       0,2,  2382.2,2,  2416.2,2,   7.3941,2,    25.08,-999.000,9,-999.0000,9, -999.00,9,  -999.0,9,  -999.0,-999.0000,9,-999.0000,    37.6,2,     33.342,3,-999.000,9, 20150622,     1130,-999.000,    1.889,2,    34.7591,2,     -999.0,9,     -999.0,-999.0000,     -999.0,     -999.0,9,     -999.0,     -999.0,9,     -999.0,  -999.0,9,     -999.0,     -999.0,9,     -999.0
33RO20150525,     P16N.2,     201,          2,          4,          4,2,20150622,       1101,    55.9699,  -140.4813,       3518,  2467.2,   1.7254,  34.6263,2,  34.6254,2,     80.3,2,      80,2,  168.37,6,   40.06,6,       0,6,     2.8,6,   0.003,2,   0.002,2,       0,2,    2373,2,  2421.5,2,   7.4377,2,    25.07,-999.000,9,-999.0000,9, -999.00,9,  -999.0,9,  -999.0,-999.0000,9,-999.0000,    37.9,2,     29.335,3,-999.000,9, 20150622,     1123,-999.000,   1.7254,2,    34.7887,2,     -999.0,9,     -999.0,-999.0000,     -999.0,     -999.0,9,     -999.0,     -999.0,9,     -999.0,  -999.0,9,     -999.0,     -999.0,9,     -999.0
33RO20150525,     P16N.2,     201,          2,          3,          3,2,20150622,       1101,    55.9699,  -140.4813,       3518,  2850.2,   1.6218,  34.6476,2,  34.6458,2,     98.3,2,    98.2,2,  168.85,6,   38.79,6,       0,6,    2.71,6,   0.005,2,   0.003,2,       0,2,  2363.6,2,  2424.8,6,   7.4749,2,    25.08,-999.000,9,-999.0000,9, -999.00,9,  -999.0,9,  -999.0,-999.0000,9,-999.0000,    37.5,2,     26.377,3,-999.000,9, 20150622,     1115,-999.000,   1.6218,2,    34.8092,2,     -999.0,9,     -999.0,-999.0000,     -999.0,     -999.0,9,     -999.0,     -999.0,9,     -999.0,  -999.0,9,     -999.0,     -999.0,9,     -999.0
33RO20150525,     P16N.2,     201,          2,          2,          2,2,20150622,       1101,    55.9699,  -140.4813,       3518,  3199.8,   1.5505,  34.6627,2,   34.669,4,    114.1,2,   114.8,2,  167.09,6,   37.72,6,       0,6,    2.65,6,   0.003,2,   0.002,2,       0,2,  2354.6,2,  2426.4,2,   7.5069,6,    25.05,-999.000,9,-999.0000,9, -999.00,9,  -999.0,9,  -999.0,-999.0000,9,-999.0000,    36.8,2,     24.243,3,-999.000,9, 20150622,     1108,-999.000,   1.5505,2,    34.8325,2,     -999.0,9,     -999.0,-999.0000,     -999.0,     -999.0,9,     -999.0,     -999.0,9,     -999.0,  -999.0,9,     -999.0,     -999.0,9,     -999.0
33RO20150525,     P16N.2,     201,          2,          1,          1,2,20150622,       1101,    55.9699,  -140.4813,       3518,  3567.9,    1.473,  34.6788,2,  34.6775,2,    132.7,2,   131.7,2,  165.72,6,   36.45,6,       0,6,    2.56,6,   0.004,2,   0.004,2,       0,2,  2344.3,6,  2427.9,2,    7.542,6,    25.08,-999.000,9,-999.0000,9, -999.00,9,  -999.0,9,  -999.0,-999.0000,9,-999.0000,    37.2,2,     22.238,3,-999.000,9, 20150622,     1101,-999.000,   1.4729,2,     34.841,2,     -999.0,9,     -999.0,-999.0000,     -999.0,     -999.0,9,     -999.0,     -999.0,9,     -999.0,  -999.0,9,     -999.0,     -999.0,9,     -999.0