BOTTLE,20220330CCHSIOCBG
EXPOCODE,SECT_ID,STNNBR,CASTNO,SAMPNO,BTLNBR,BTLNBR_FLAG_W,DATE,TIME,LATITUDE,LONGITUDE,DEPTH,CTDPRS,CTDTMP,CTDSAL,CTDSAL_FLAG_W,SALNTY,SALNTY_FLAG_W,CTDOXY,CTDOXY_FLAG_W,OXYGEN,OXYGEN_FLAG_W,SILCAT,SILCAT_FLAG_W,NITRAT,NITRAT_FLAG_W,NITRIT,NITRIT_FLAG_W,PHSPHT,PHSPHT_FLAG_W,CFC-11,CFC-11_FLAG_W,CFC-12,CFC-12_FLAG_W,SF6,SF6_FLAG_W,TCARBN,TCARBN_FLAG_W,ALKALI,ALKALI_FLAG_W,PH_TOT,PH_TOT_FLAG_W,PH_TMP,TRITUM,TRITUM_FLAG_W,HELIUM,HELIUM_FLAG_W,DELC13,DELC13_FLAG_W,DELC14,DELC14_FLAG_W,C14ERR,NEON,NEON_FLAG_W,NEONER,DOC,DOC_FLAG_W,N2O,N2O_FLAG_W,ARGON,ARGON_FLAG_W,BTL_DATE,BTL_TIME,TRITER,SBE35,SBE35_FLAG_W,SALTREF,SALTREF_FLAG_W,DELHE3,DELHE3_FLAG_W,DELHER,HELIER,ARGONER,KRYPTON,KRYPTON_FLAG_W,KRYPTONER,XENON,XENON_FLAG_W,XENONER,14C-DOC,14C-DOC_FLAG_W,14C-DOCERR,13C-DOC,13C-DOC_FLAG_W,13C-DOCERR
,,,,,,,,,,,METERS,DBAR,ITS-90,PSS-78,,PSS-78,,UMOL/KG,,UMOL/KG,,UMOL/KG,,UMOL/KG,,UMOL/KG,,UMOL/KG,,PMOL/KG,,PMOL/KG,,FMOL/KG,,UMOL/KG,,UMOL/KG,,,,DEG C,TU,,NMOL/KG,,/MILLE,,/MILLE,,/MILLE,NMOL/KG,,NMOL/KG,UMOL/KG,,NMOL/KG,,UMOL/KG,,,,TU,ITS-90,,G/KG,,PERCNT,,PERCNT,NMOL/KG,UMOL/KG,NMOL/KG,,NMOL/KG,NMOL/KG,,NMOL/KG,/MILLE,,/MILLE,/MILLE,,/MILLE
33RO20150525,     P16N.2,     167,          1,         24,         24,2,20150613,       0851,    49.5003,  -152.0009,       4903,     3.3,     8.91,  32.6955,2,  32.6947,2,    298.9,2,     297,2,   22.12,2,   12.92,2,    0.13,2,    1.26,2,   4.142,3,   2.225,2,   2.604,2,  2047.7,6,  2204.1,2,   7.7833,2,    25.02,-999.000,9,-999.0000,9, -999.00,9,  -999.0,9,  -999.0,-999.0000,9,-999.0000,    56.6,2,     11.542,3,-999.000,9, 20150613,     1045,-999.000,   8.9131,2,    32.8489,2,     -999.0,9,     -999.0,-999.0000,     -999.0,     -999.0,9,     -999.0,     -999.0,9,     -999.0,  -999.0,9,     -999.0,     -999.0,9,     -999.0
33RO20150525,     P16N.2,     167,          1,         23,         23,2,20150613,       0851,    49.5003,  -152.0009,       4903,    24.9,   8.4635,  32.7002,2,  32.7387,2,    301.4,2,   304.4,2,   21.53,2,   13.21,2,    0.11,2,    1.28,2,-999.000,9,-999.000,9,-999.000,9,  2054.5,2,  2201.5,2,   7.7702,6,    24.99,-999.000,9,-999.0000,9, -999.00,9,  -999.0,9,  -999.0,-999.0000,9,-999.0000,    54.5,2,     -999.0,9,-999.000,9, 20150613,     1042,-999.000,   8.3175,2,    32.8931,2,     -999.0,9,     -999.0,-999.0000,     -999.0,     -999.0,9,     -999.0,     -999.0,9,     -999.0,  -999.0,9,     -999.0,     -999.0,9,     -999.0
33RO20150525,     P16N.2,     167,          1,         22,         22,2,20150613,       0851,    49.5003,  -152.0009,       4903,    50.4,   6.4612,  32.7807,2,  32.7831,2,    306.8,2,   304.8,2,   21.43,2,      14,2,    0.12,2,     1.3,2,   4.514,6,   2.402,6,   2.804,6,  2063.4,2,    2203,6,   7.7518,2,    25.01,-999.000,9,-999.0000,9, -999.00,9,  -999.0,9,  -999.0,-999.0000,9,-999.0000,    52.6,2,     12.391,3,-999.000,9, 20150613,     1041,-999.000,    6.462,2,    32.9377,2,     -999.0,9,     -999.0,-999.0000,     -999.0,     -999.0,9,     -999.0,     -999.0,9,     -999.0,  -999.0,9,     -999.0,     -999.0,9,     -999.0
33RO20150525,     P16N.2,     167,          1,         21,         21,2,20150613,       0851,    49.5003,  -152.0009,       4903,    73.7,   6.2276,  32.8257,2,  32.8172,2,    300.1,2,   298.7,2,   21.73,2,   14.49,2,    0.13,2,    1.34,2,   4.533,2,   2.416,2,   2.754,2,  2070.9,2,  2204.3,2,   7.7393,2,    24.98,-999.000,9,-999.0000,9, -999.00,9,  -999.0,9,  -999.0,-999.0000,9,-999.0000,    52.4,2,     12.602,3,-999.000,9, 20150613,     1039,-999.000,   6.2511,2,    32.9719,2,     -999.0,9,     -999.0,-999.0000,     -999.0,     -999.0,9,     -999.0,     -999.0,9,     -999.0,  -999.0,9,     -999.0,     -999.0,9,     -999.0
33RO20150525,     P16N.2,     167,          1,         20,         20,2,20150613,       0851,    49.5003,  -152.0009,       4903,   101.1,   4.7173,   33.547,2,  33.5769,2,    172.7,2,   180.7,2,   50.67,2,   29.74,2,    0.02,2,    2.14,2,   3.946,2,   2.057,2,   1.868,2,  2200.8,2,  2255.4,2,   7.4947,6,       25,-999.000,9,-999.0000,9, -999.00,9,  -999.0,9,  -999.0,-999.0000,9,-999.0000,    47.5,2,     24.141,3,-999.000,9, 20150613,     1037,-999.000,   4.7128,2,    33.7353,2,     -999.0,9,     -999.0,-999.0000,     -999.0,     -999.0,9,     -999.0,     -999.0,9,     -999.0,  -999.0,9,     -999.0,     -999.0,9,     -999.0
33RO20150525,     P16N.2,     167,          1,         19,         19,2,20150613,       0851,    49.5003,  -152.0009,       4903,   150.5,   4.1939,  33.7483,2,   33.747,2,    128.8,2,   127.4,2,   67.19,2,   35.41,2,    0.01,2,    2.52,2,   3.406,2,   1.752,2,   1.344,2,  2251.7,2,  2275.1,2,   7.3903,2,    24.98,-999.000,9,-999.0000,9, -999.00,9,  -999.0,9,  -999.0,-999.0000,9,-999.0000,    47.7,2,     29.630,3,-999.000,9, 20150613,     1035,-999.000,    4.198,2,    33.9061,2,     -999.0,9,     -999.0,-999.0000,     -999.0,     -999.0,9,     -999.0,     -999.0,9,     -999.0,  -999.0,9,     -999.0,     -999.0,9,     -999.0
33RO20150525,     P16N.2,     167,          1,         18,         18,2,20150613,       0851,    49.5003,  -152.0009,       4903,     225,   3.9036,   33.835,2,  33.8299,2,     85.9,2,    87.4,2,      80,2,   39.22,2,    0.01,2,    2.76,2,   2.844,2,   1.436,2,   1.057,2,  2285.6,2,  2286.5,2,   7.3176,6,    25.01,-999.000,9,-999.0000,9, -999.00,9,  -999.0,9,  -999.0,-999.0000,9,-999.0000,    45.8,2,     34.457,3,-999.000,9, 20150613,     1032,-999.000,   3.9039,2,    33.9894,2,     -999.0,9,     -999.0,-999.0000,     -999.0,     -999.0,9,     -999.0,     -999.0,9,     -999.0,  -999.0,9,     -999.0,     -999.0,9,     -999.0
33RO20150525,     P16N.2,     167,          1,         17,         17,2,20150613,       0851,    49.5003,  -152.0009,       4903,   300.2,   3.9299,  33.9473,2,  33.9469,2,     63.9,2,    62.1,2,   90.36,2,   41.07,2,    0.02,2,    2.85,2,   2.207,2,   1.092,2,   0.699,2,  2307.5,2,    2301,2,   7.2944,2,    25.01,-999.000,9,-999.0000,9, -999.00,9,  -999.0,9,  -999.0,-999.0000,9,-999.0000,    44.6,2,     37.647,3,-999.000,9, 20150613,     1029,-999.000,   3.9294,2,     34.107,2,     -999.0,9,     -999.0,-999.0000,     -999.0,     -999.0,9,     -999.0,     -999.0,9,     -999.0,  -999.0,9,     -999.0,     -999.0,9,     -999.0
33RO20150525,     P16N.2,     167,          1,         16,         16,2,20150613,       0851,    49.5003,  -152.0009,       4903,   401.1,    3.798,  34.0543,2,  34.0517,2,     46.4,2,    45.4,2,  101.89,2,   42.05,2,    0.01,2,    2.94,2,    1.58,2,   0.778,2,   0.479,2,  2326.1,2,  2317.8,2,   7.2862,2,    24.98,-999.000,9,-999.0000,9, -999.00,9,  -999.0,9,  -999.0,-999.0000,9,-999.0000,    44.1,2,     40.879,3,-999.000,9, 20150613,     1026,-999.000,    3.802,2,    34.2123,2,     -999.0,9,     -999.0,-999.0000,     -999.0,     -999.0,9,     -999.0,     -999.0,9,     -999.0,  -999.0,9,     -999.0,     -999.0,9,     -999.0
33RO20150525,     P16N.2,     167,          1,         15,         15,2,20150613,       0851,    49.5003,  -152.0009,       4903,   500.5,   3.6186,  34.1371,2,  34.1342,2,     33.7,2,    33.2,2,  112.05,2,   42.92,2,    0.01,2,    2.99,2,   1.121,2,   0.541,2,   0.304,2,    2343,2,  2331.2,2,   7.2778,2,    25.03,-999.000,9,-999.0000,9, -999.00,9,  -999.0,9,  -999.0,-999.0000,9,-999.0000,    43.3,2,     43.323,3,-999.000,9, 20150613,     1023,-999.000,   3.6193,2,    34.2952,2,     -999.0,9,     -999.0,-999.0000,     -999.0,     -999.0,9,     -999.0,     -999.0,9,     -999.0,  -999.0,9,     -999.0,     -999.0,9,     -999.0
33RO20150525,     P16N.2,     167,          1,         14,         14,2,20150613,       0851,    49.5003,  -152.0009,       4903,   650.2,   3.3711,  34.2444,2,  34.2428,2,       25,2,    24.1,2,  125.44,2,   43.51,2,    0.01,2,    3.03,2,   0.582,2,   0.287,2,   0.128,2,  2359.3,2,  2348.2,2,   7.2828,2,    24.96,-999.000,9,-999.0000,9, -999.00,9,  -999.0,9,  -999.0,-999.0000,9,-999.0000,    39.9,2,     45.383,3,-999.000,9, 20150613,     1020,-999.000,   3.3703,2,    34.4043,2,     -999.0,9,     -999.0,-999.0000,     -999.0,     -999.0,9,     -999.0,     -999.0,9,     -999.0,  -999.0,9,     -999.0,     -999.0,9,     -999.0
33RO20150525,     P16N.2,     167,          1,         13,         13,2,20150613,       0851,    49.5003,  -152.0009,       4903,     800,   3.1372,   34.321,2,  34.3196,2,       23,2,    23.3,2,   135.5,2,    43.7,2,       0,2,    3.06,2,   0.308,2,   0.152,2,   0.077,2,  2367.6,2,  2363.6,2,    7.292,6,       25,-999.000,9,-999.0000,9, -999.00,9,  -999.0,9,  -999.0,-999.0000,9,-999.0000,    39.2,2,     45.563,3,-999.000,9, 20150613,     1016,-999.000,   3.1372,2,    34.4814,2,     -999.0,9,     -999.0,-999.0000,     -999.0,     -999.0,9,     -999.0,     -999.0,9,     -999.0,  -999.0,9,     -999.0,     -999.0,9,     -999.0
33RO20150525,     P16N.2,     167,          1,         12,         12,2,20150613,       0851,    49.5003,  -152.0009,       4903,   950.7,   2.9091,  34.3794,2,   34.378,2,     21.3,2,    22.2,2,  142.05,2,   44.09,2,    0.01,2,    3.06,2,   0.151,2,   0.073,2,   0.042,2,  2375.4,2,  2373.2,2,   7.2986,2,    24.98,-999.000,9,-999.0000,9, -999.00,9,  -999.0,9,  -999.0,-999.0000,9,-999.0000,    39.8,2,     45.751,3,-999.000,9, 20150613,     1012,-999.000,   2.9095,2,    34.5401,2,     -999.0,9,     -999.0,-999.0000,     -999.0,     -999.0,9,     -999.0,     -999.0,9,     -999.0,  -999.0,9,     -999.0,     -999.0,9,     -999.0
33RO20150525,     P16N.2,     167,          1,         11,         11,2,20150613,       0851,    49.5003,  -152.0009,       4903,  1099.5,   2.7209,  34.4191,2,  34.4173,2,     19.8,2,    19.6,2,   148.4,2,   44.28,2,       0,2,    3.08,2,-999.000,9,-999.000,9,-999.000,9,  2383.5,2,  2381.4,2,   7.2989,2,    25.02,-999.000,9,-999.0000,9, -999.00,9,  -999.0,9,  -999.0,-999.0000,9,-999.0000,    39.8,2,     -999.0,9,-999.000,9, 20150613,     1008,-999.000,    2.724,2,    34.5796,2,     -999.0,9,     -999.0,-999.0000,     -999.0,     -999.0,9,     -999.0,     -999.0,9,     -999.0,  -999.0,9,     -999.0,     -999.0,9,     -999.0
33RO20150525,     P16N.2,     167,          1,         10,         10,2,20150613,       0851,    49.5003,  -152.0009,       4903,  1299.4,   2.4739,  34.4699,2,  34.4713,2,     23.2,2,    23.5,2,  155.72,2,   44.18,2,       0,2,    3.06,2,   0.042,2,   0.023,2,   0.066,3,  2389.4,6,  2392.9,2,   7.3114,2,    25.03,-999.000,9,-999.0000,9, -999.00,9,  -999.0,9,  -999.0,-999.0000,9,-999.0000,    38.3,2,     44.269,3,-999.000,9, 20150613,     1004,-999.000,   2.4742,2,    34.6338,2,     -999.0,9,     -999.0,-999.0000,     -999.0,     -999.0,9,     -999.0,     -999.0,9,     -999.0,  -999.0,9,     -999.0,     -999.0,9,     -999.0
33RO20150525,     P16N.2,     167,          1,          9,          9,2,20150613,       0851,    49.5003,  -152.0009,       4903,  1600.8,    2.201,  34.5317,2,  34.5667,4,     28.3,2,    28.4,2,  164.61,2,   44.18,2,       0,2,    3.04,2,-999.000,9,-999.000,9,-999.000,9,    2395,2,  2405.2,2,   7.3284,2,    24.98,-999.000,9,-999.0000,9, -999.00,9,  -999.0,9,  -999.0,-999.0000,9,-999.0000,    38.0,2,     -999.0,9,-999.000,9, 20150613,     0957,-999.000,    2.201,2,    34.7297,2,     -999.0,9,     -999.0,-999.0000,     -999.0,     -999.0,9,     -999.0,     -999.0,9,     -999.0,  -999.0,9,     -999.0,     -999.0,9,     -999.0
33RO20150525,     P16N.2,     167,          1,          8,          8,2,20150613,       0851,    49.5003,  -152.0009,       4903,  2001.5,   1.9493,  34.5849,2,  34.5838,2,     48.7,2,      49,2,  169.79,2,   43.01,2,       0,2,    2.95,2,-999.000,9,-999.000,9,-999.000,9,  2388.4,2,  2412.6,2,   7.3731,2,    25.02,-999.000,9,-999.0000,9, -999.00,9,  -999.0,9,  -999.0,-999.0000,9,-999.0000,    38.6,2,     -999.0,9,-999.000,9, 20150613,     0949,-999.000,   1.9502,2,    34.7468,2,     -999.0,9,     -999.0,-999.0000,     -999.0,     -999.0,9,     -999.0,     -999.0,9,     -999.0,  -999.0,9,     -999.0,     -999.0,9,     -999.0
33RO20150525,     P16N.2,     167,          1,          7,          7,2,20150613,       0851,    49.5003,  -152.0009,       4903,  2399.5,   1.7391,   34.625,2,  34.6246,2,       76,2,    76.9,2,  169.98,6,   41.15,2,       0,6,    2.83,6,-999.000,9,-999.000,9,-999.000,9,  2374.2,2,  2419.2,2,   7.4286,2,    25.03,-999.000,9,-999.0000,9, -999.00,9,  -999.0,9,  -999.0,-999.0000,9,-999.0000,    38.4,2,     -999.0,9,-999.000,9, 20150613,     0941,-999.000,   1.7392,2,    34.7879,2,     -999.0,9,     -999.0,-999.0000,     -999.0,     -999.0,9,     -999.0,     -999.0,9,     -999.0,  -999.0,9,     -999.0,     -999.0,9,     -999.0
33RO20150525,     P16N.2,     167,          1,          6,          6,2,20150613,       0851,    49.5003,  -152.0009,       4903,  2800.8,   1.6127,   34.648,2,  34.6486,2,     99.3,2,    99.6,2,  167.82,6,   39.68,2,       0,6,    2.72,6,-999.000,9,-999.000,9,-999.000,9,  2360.9,2,  2419.4,2,   7.4748,2,    24.98,-999.000,9,-999.0000,9, -999.00,9,  -999.0,9,  -999.0,-999.0000,9,-999.0000,    37.6,2,     -999.0,9,-999.000,9, 20150613,     0934,-999.000,    1.613,2,     34.812,2,     -999.0,9,     -999.0,-999.0000,     -999.0,     -999.0,9,     -999.0,     -999.0,9,     -999.0,  -999.0,9,     -999.0,     -999.0,9,     -999.0
33RO20150525,     P16N.2,     167,          1,          5,          5,2,20150613,       0851,    49.5003,  -152.0009,       4903,  3200.6,   1.5485,   34.662,2,  34.6623,2,    115.6,2,   115.3,2,  164.89,6,   38.61,6,       0,6,    2.65,6,-999.000,9,-999.000,9,-999.000,9,  2351.1,2,  2420.8,2,   7.5068,6,    24.98,-999.000,9,-999.0000,9, -999.00,9,  -999.0,9,  -999.0,-999.0000,9,-999.0000,    39.2,2,     -999.0,9,-999.000,9, 20150613,     0925,-999.000,   1.5485,2,    34.8258,6,     -999.0,9,     -999.0,-999.0000,     -999.0,     -999.0,9,     -999.0,     -999.0,9,     -999.0,  -999.0,9,     -999.0,     -999.0,9,     -999.0
33RO20150525,     P16N.2,     167,          1,          4,          4,2,20150613,       0851,    49.5003,  -152.0009,       4903,  3600.7,   1.5022,  34.6734,2,  34.6731,2,    129.7,2,   128.4,2,  163.23,6,   37.63,6,       0,6,    2.58,6,-999.000,9,-999.000,9,-999.000,9,  2341.9,2,  2421.2,6,   7.5346,2,    25.02,-999.000,9,-999.0000,9, -999.00,9,  -999.0,9,  -999.0,-999.0000,9,-999.0000,    39.1,2,     -999.0,9,-999.000,9, 20150613,     0918,-999.000,    1.502,2,    34.8366,2,     -999.0,9,     -999.0,-999.0000,     -999.0,     -999.0,9,     -999.0,     -999.0,9,     -999.0,  -999.0,9,     -999.0,     -999.0,9,     -999.0
33RO20150525,     P16N.2,     167,          1,          3,          3,2,20150613,       0851,    49.5003,  -152.0009,       4903,  4100.5,   1.5008,  34.6812,2,  34.6812,2,    137.8,2,   137.2,2,  163.91,6,   37.14,6,       0,6,    2.53,6,-999.000,9,-999.000,9,-999.000,9,    2339,2,  2426.4,2,   7.5554,3,       25,-999.000,9,-999.0000,9, -999.00,9,  -999.0,9,  -999.0,-999.0000,9,-999.0000,    38.6,2,     -999.0,9,-999.000,9, 20150613,     0908,-999.000,   1.5005,2,    34.8447,2,     -999.0,9,     -999.0,-999.0000,     -999.0,     -999.0,9,     -999.0,     -999.0,9,     -999.0,  -999.0,9,     -999.0,     -999.0,9,     -999.0
33RO20150525,     P16N.2,     167,          1,          2,          2,2,20150613,       0851,    49.5003,  -152.0009,       4903,  4589.7,   1.5351,  34.6851,2,  34.6837,2,    141.8,2,   140.8,2,  166.84,6,   36.95,6,       0,6,    2.52,6,-999.000,9,-999.000,9,-999.000,9,  2340.2,2,  2427.4,2,   7.5638,2,    25.03,-999.000,9,-999.0000,9, -999.00,9,  -999.0,9,  -999.0,-999.0000,9,-999.0000,    39.4,2,     -999.0,9,-999.000,9, 20150613,     0859,-999.000,   1.5351,2,    34.8472,2,     -999.0,9,     -999.0,-999.0000,     -999.0,     -999.0,9,     -999.0,     -999.0,9,     -999.0,  -999.0,9,     -999.0,     -999.0,9,     -999.0
33RO20150525,     P16N.2,     167,          1,          1,          1,2,20150613,       0851,    49.5003,  -152.0009,       4903,  4979.9,   1.5784,  34.6863,2,   34.689,2,    141.8,2,   141.3,2,  168.79,6,   36.95,6,       0,6,    2.51,6,-999.000,9,-999.000,9,-999.000,9,  2339.1,6,  2429.8,2,    7.566,2,    25.03,-999.000,9,-999.0000,9, -999.00,9,  -999.0,9,  -999.0,-999.0000,9,-999.0000,    38.8,2,     -999.0,9,-999.000,9, 20150613,     0851,-999.000,   1.5781,2,    34.8525,2,     -999.0,9,     -999.0,-999.0000,     -999.0,     -999.0,9,     -999.0,     -999.0,9,     -999.0,  -999.0,9,     -999.0,     -999.0,9,     -999.0