BOTTLE,20220330CCHSIOCBG
EXPOCODE,SECT_ID,STNNBR,CASTNO,SAMPNO,BTLNBR,BTLNBR_FLAG_W,DATE,TIME,LATITUDE,LONGITUDE,DEPTH,CTDPRS,CTDTMP,CTDSAL,CTDSAL_FLAG_W,SALNTY,SALNTY_FLAG_W,CTDOXY,CTDOXY_FLAG_W,OXYGEN,OXYGEN_FLAG_W,SILCAT,SILCAT_FLAG_W,NITRAT,NITRAT_FLAG_W,NITRIT,NITRIT_FLAG_W,PHSPHT,PHSPHT_FLAG_W,CFC-11,CFC-11_FLAG_W,CFC-12,CFC-12_FLAG_W,SF6,SF6_FLAG_W,TCARBN,TCARBN_FLAG_W,ALKALI,ALKALI_FLAG_W,PH_TOT,PH_TOT_FLAG_W,PH_TMP,TRITUM,TRITUM_FLAG_W,HELIUM,HELIUM_FLAG_W,DELC13,DELC13_FLAG_W,DELC14,DELC14_FLAG_W,C14ERR,NEON,NEON_FLAG_W,NEONER,DOC,DOC_FLAG_W,N2O,N2O_FLAG_W,ARGON,ARGON_FLAG_W,BTL_DATE,BTL_TIME,TRITER,SBE35,SBE35_FLAG_W,SALTREF,SALTREF_FLAG_W,DELHE3,DELHE3_FLAG_W,DELHER,HELIER,ARGONER,KRYPTON,KRYPTON_FLAG_W,KRYPTONER,XENON,XENON_FLAG_W,XENONER,14C-DOC,14C-DOC_FLAG_W,14C-DOCERR,13C-DOC,13C-DOC_FLAG_W,13C-DOCERR
,,,,,,,,,,,METERS,DBAR,ITS-90,PSS-78,,PSS-78,,UMOL/KG,,UMOL/KG,,UMOL/KG,,UMOL/KG,,UMOL/KG,,UMOL/KG,,PMOL/KG,,PMOL/KG,,FMOL/KG,,UMOL/KG,,UMOL/KG,,,,DEG C,TU,,NMOL/KG,,/MILLE,,/MILLE,,/MILLE,NMOL/KG,,NMOL/KG,UMOL/KG,,NMOL/KG,,UMOL/KG,,,,TU,ITS-90,,G/KG,,PERCNT,,PERCNT,NMOL/KG,UMOL/KG,NMOL/KG,,NMOL/KG,NMOL/KG,,NMOL/KG,/MILLE,,/MILLE,/MILLE,,/MILLE
33RO20150525,     P16N.2,     155,          1,         24,         24,2,20150609,       1520,    43.5001,  -151.9998,       4597,     3.6,  11.5765,  33.1072,2,    33.11,2,    288.4,2,   289.1,2,    2.25,2,    3.52,2,    0.07,2,    0.53,2,   3.476,4,   1.988,6,   2.425,6,  2015.5,6,  2214.1,2,   7.8799,2,       25,-999.000,9,-999.0000,9,    1.28,2,    -2.4,2,     2.8,-999.0000,9,-999.0000,    57.7,2,     10.205,3,-999.000,9, 20150609,     1709,-999.000,  11.5754,2,    33.2662,2,     -999.0,9,     -999.0,-999.0000,     -999.0,     -999.0,9,     -999.0,     -999.0,9,     -999.0,  -999.0,9,     -999.0,     -999.0,9,     -999.0
33RO20150525,     P16N.2,     155,          1,         23,         23,2,20150609,       1520,    43.5001,  -151.9998,       4597,    25.9,  11.0542,  33.1138,2,  33.1146,2,    291.1,2,   291.1,2,    2.35,2,    3.72,2,    0.07,2,    0.55,2,   2.624,4,   2.017,2,   2.495,2,    2019,2,  2213.9,2,   7.8758,6,       25,-999.000,9,-999.0000,9,    1.23,2,    -3.4,2,     2.7,-999.0000,9,-999.0000,    58.4,2,     10.090,3,-999.000,9, 20150609,     1706,-999.000,  11.0481,2,    33.2708,6,     -999.0,9,     -999.0,-999.0000,     -999.0,     -999.0,9,     -999.0,     -999.0,9,     -999.0,    -285,2,          4,      -21.7,2,        0.2
33RO20150525,     P16N.2,     155,          1,         22,         22,2,20150609,       1520,    43.5001,  -151.9998,       4597,    49.7,   9.7267,  33.1499,2,  33.1493,2,    287.7,2,   286.3,2,    5.68,2,    5.77,2,    0.08,2,    0.68,2,   3.516,4,    2.09,2,    2.48,2,  2036.2,2,  2213.4,2,    7.834,6,       25,-999.000,9,-999.0000,9,    1.01,2,     0.1,2,     2.8,-999.0000,9,-999.0000,    56.6,2,     10.952,3,-999.000,9, 20150609,     1704,-999.000,    9.724,2,    33.3056,2,     -999.0,9,     -999.0,-999.0000,     -999.0,     -999.0,9,     -999.0,     -999.0,9,     -999.0,  -999.0,9,     -999.0,     -999.0,9,     -999.0
33RO20150525,     P16N.2,     155,          1,         21,         21,2,20150609,       1520,    43.5001,  -151.9998,       4597,    75.3,   9.1657,  33.1816,2,  33.1888,2,    279.2,2,   281.6,2,    6.26,2,    6.75,2,     0.2,2,    0.76,2,   3.403,4,   2.122,2,   2.578,2,  2050.1,2,  2216.9,2,   7.8137,2,    25.01,-999.000,9,-999.0000,9,    0.78,2,    -9.7,2,     2.9,-999.0000,9,-999.0000,    54.6,2,     10.832,3,-999.000,9, 20150609,     1702,-999.000,   9.1636,2,    33.3453,2,     -999.0,9,     -999.0,-999.0000,     -999.0,     -999.0,9,     -999.0,     -999.0,9,     -999.0,    -316,2,          4,     -999.0,9,     -999.0
33RO20150525,     P16N.2,     155,          1,         20,         20,2,20150609,       1520,    43.5001,  -151.9998,       4597,   100.1,   8.8585,  33.6193,2,  33.6215,2,    251.3,2,     251,2,   12.03,2,   12.03,2,    0.04,2,    0.97,2,   3.487,4,   2.079,2,   2.321,2,  2084.7,2,  2233.3,6,   7.7599,6,    24.99,-999.000,9,-999.0000,9,    0.38,2,    -2.0,2,     2.8,-999.0000,9,-999.0000,    53.4,2,     11.940,3,-999.000,9, 20150609,     1701,-999.000,   8.8556,2,    33.7801,2,     -999.0,9,     -999.0,-999.0000,     -999.0,     -999.0,9,     -999.0,     -999.0,9,     -999.0,  -999.0,9,     -999.0,     -999.0,9,     -999.0
33RO20150525,     P16N.2,     155,          1,         19,         19,2,20150609,       1520,    43.5001,  -151.9998,       4597,   150.8,   8.5735,  33.9417,2,  33.9372,2,    224.3,2,   225.5,2,   21.03,2,   16.92,2,    0.03,2,    1.22,2,   3.421,4,   2.022,2,   2.019,2,  2121.4,2,  2254.8,2,   7.7131,2,    24.97,-999.000,9,-999.0000,9,    0.12,2,     0.1,2,     3.0,-999.0000,9,-999.0000,    49.0,2,     17.078,3,-999.000,9, 20150609,     1659,-999.000,   8.5748,2,    34.0973,2,     -999.0,9,     -999.0,-999.0000,     -999.0,     -999.0,9,     -999.0,     -999.0,9,     -999.0,    -356,2,          4,      -21.7,2,        0.2
33RO20150525,     P16N.2,     155,          1,         18,         18,2,20150609,       1520,    43.5001,  -151.9998,       4597,   224.7,   7.7239,  33.9631,2,  33.9619,2,    183.6,2,   185.5,2,   33.35,2,   22.69,2,    0.02,2,    1.59,2,   3.167,4,   1.831,2,   1.552,2,    2162,2,  2267.6,2,   7.6319,2,    24.99,-999.000,9,-999.0000,9,   -0.05,2,   -19.0,2,     2.8,-999.0000,9,-999.0000,    45.6,2,     24.332,3,-999.000,9, 20150609,     1656,-999.000,   7.7204,2,    34.1221,2,     -999.0,9,     -999.0,-999.0000,     -999.0,     -999.0,9,     -999.0,     -999.0,9,     -999.0,  -999.0,9,     -999.0,     -999.0,9,     -999.0
33RO20150525,     P16N.2,     155,          1,         17,         17,2,20150609,       1520,    43.5001,  -151.9998,       4597,   299.8,   6.3677,  33.9357,2,  33.9347,2,    144.4,2,     146,2,   49.48,2,   29.14,2,    0.01,2,    2.05,2,   2.918,4,   1.632,2,   1.189,2,  2209.5,2,  2278.4,2,   7.5235,2,    24.99,-999.000,9,-999.0000,9,   -0.20,2,   -49.2,2,     3.0,-999.0000,9,-999.0000,    44.3,2,     28.251,3,-999.000,9, 20150609,     1654,-999.000,    6.367,2,    34.0948,2,     -999.0,9,     -999.0,-999.0000,     -999.0,     -999.0,9,     -999.0,     -999.0,9,     -999.0,    -396,2,          4,      -22.0,2,        0.2
33RO20150525,     P16N.2,     155,          1,         16,         16,2,20150609,       1520,    43.5001,  -151.9998,       4597,   400.4,   5.1246,  33.9275,2,  33.9318,2,    109.3,2,   111.2,2,    66.3,2,   34.81,2,       0,2,    2.45,2,   2.599,4,   1.371,2,   0.827,2,  2252.4,2,  2290.1,2,   7.4228,2,    25.01,-999.000,9,-999.0000,9,   -0.64,2,   -67.4,2,     2.0,-999.0000,9,-999.0000,    43.8,2,     31.110,3,-999.000,9, 20150609,     1651,-999.000,   5.1281,2,    34.0918,2,     -999.0,9,     -999.0,-999.0000,     -999.0,     -999.0,9,     -999.0,     -999.0,9,     -999.0,  -999.0,9,     -999.0,     -999.0,9,     -999.0
33RO20150525,     P16N.2,     155,          1,         15,         15,2,20150609,       1520,    43.5001,  -151.9998,       4597,   500.3,   4.4937,  34.0023,2,  34.0057,2,     76.6,2,    77.4,2,   82.34,2,   38.72,2,    0.01,2,    2.72,2,   1.933,4,   0.991,2,   0.542,2,  2288.3,2,  2303.8,2,   7.3576,2,       25,-999.000,9,-999.0000,9,   -0.66,2,  -102.9,2,     1.8,-999.0000,9,-999.0000,    44.0,2,     36.295,3,-999.000,9, 20150609,     1648,-999.000,   4.4906,2,    34.1661,2,     -999.0,9,     -999.0,-999.0000,     -999.0,     -999.0,9,     -999.0,     -999.0,9,     -999.0,    -426,2,          6,      -22.0,2,        0.2
33RO20150525,     P16N.2,     155,          1,         14,         14,2,20150609,       1520,    43.5001,  -151.9998,       4597,   650.6,    4.044,   34.151,2,  34.1502,2,     38.7,2,    38.9,2,  102.18,2,   42.14,2,    0.01,2,    2.95,2,   0.964,4,   0.465,2,   0.175,2,  2329.8,2,  2330.3,2,   7.3073,2,    24.98,-999.000,9,-999.0000,9,   -0.81,2,  -138.9,2,     2.0,-999.0000,9,-999.0000,    43.2,2,     40.902,3,-999.000,9, 20150609,     1644,-999.000,   4.0434,2,    34.3112,2,     -999.0,9,     -999.0,-999.0000,     -999.0,     -999.0,9,     -999.0,     -999.0,9,     -999.0,  -999.0,9,     -999.0,     -999.0,9,     -999.0
33RO20150525,     P16N.2,     155,          1,         13,         13,2,20150609,       1520,    43.5001,  -151.9998,       4597,   799.7,   3.6377,  34.2427,2,  34.2426,2,     25.5,2,    25.7,2,  116.45,2,   43.41,2,       0,2,    3.04,2,   0.456,4,   0.215,2,   0.092,2,  2350.5,2,  2348.7,2,   7.2942,2,    24.98,-999.000,9,-999.0000,9,   -0.67,2,  -177.7,2,     1.6,-999.0000,9,-999.0000,    41.1,2,     44.285,3,-999.000,9, 20150609,     1640,-999.000,   3.6372,2,     34.404,2,     -999.0,9,     -999.0,-999.0000,     -999.0,     -999.0,9,     -999.0,     -999.0,9,     -999.0,    -486,2,          4,      -21.8,2,        0.2
33RO20150525,     P16N.2,     155,          1,         12,         12,2,20150609,       1520,    43.5001,  -151.9998,       4597,     950,   3.2735,  34.3135,2,  34.3124,2,     17.9,2,    17.9,2,  128.27,2,   44.29,2,       0,2,    3.09,2,   0.187,4,   0.091,2,       0,2,  2368.6,2,  2364.7,2,   7.2875,2,    25.01,-999.000,9,-999.0000,9,   -0.70,2,  -186.2,2,     1.8,-999.0000,9,-999.0000,    40.2,2,     47.142,3,-999.000,9, 20150609,     1636,-999.000,   3.2726,2,    34.4742,2,     -999.0,9,     -999.0,-999.0000,     -999.0,     -999.0,9,     -999.0,     -999.0,9,     -999.0,    -503,2,          4,      -21.7,2,        0.2
33RO20150525,     P16N.2,     155,          1,         11,         11,2,20150609,       1520,    43.5001,  -151.9998,       4597,  1100.3,    2.965,  34.3758,2,  34.3841,2,     16.4,2,    16.3,2,  138.43,2,   44.68,2,       0,2,    3.11,2,   0.091,4,   0.044,2,       0,2,  2379.6,2,  2375.8,2,   7.2904,6,    24.97,-999.000,9,-999.0000,9, -999.00,5,  -999.0,5,-999000.0,-999.0000,9,-999.0000,    39.3,2,     47.632,3,-999.000,9, 20150609,     1633,-999.000,   2.9644,2,    34.5462,2,     -999.0,9,     -999.0,-999.0000,     -999.0,     -999.0,9,     -999.0,     -999.0,9,     -999.0,  -999.0,9,     -999.0,     -999.0,9,     -999.0
33RO20150525,     P16N.2,     155,          1,         10,         10,2,20150609,       1520,    43.5001,  -151.9998,       4597,  1300.6,    2.631,  34.4445,2,  34.4469,2,     15.4,2,    15.4,2,  149.37,2,   44.97,2,       0,2,    3.13,2,-999.000,9,-999.000,9,-999.000,9,  2391.2,2,  2390.2,2,   7.2952,2,       25,-999.000,9,-999.0000,9,   -0.68,2,  -216.6,2,     1.7,-999.0000,9,-999.0000,    39.2,2,     -999.0,9,-999.000,9, 20150609,     1628,-999.000,   2.6309,2,    34.6093,2,     -999.0,9,     -999.0,-999.0000,     -999.0,     -999.0,9,     -999.0,     -999.0,9,     -999.0,    -524,2,          4,      -22.0,2,        0.2
33RO20150525,     P16N.2,     155,          1,          9,          9,2,20150609,       1520,    43.5001,  -151.9998,       4597,  1700.6,   2.1849,  34.5403,2,  34.5392,2,     28.2,2,    27.4,2,  162.75,2,   44.48,2,       0,2,    3.06,2,       0,4,   0.002,2,       0,2,  2397.7,6,    2409,2,   7.3277,2,    24.99,-999.000,9,-999.0000,9,   -0.64,2,  -233.0,2,     1.7,-999.0000,9,-999.0000,    39.5,2,     41.876,3,-999.000,9, 20150609,     1621,-999.000,   2.1844,2,    34.7021,2,     -999.0,9,     -999.0,-999.0000,     -999.0,     -999.0,9,     -999.0,     -999.0,9,     -999.0,    -530,2,          4,      -21.6,2,        0.2
33RO20150525,     P16N.2,     155,          1,          8,          8,2,20150609,       1520,    43.5001,  -151.9998,       4597,  2000.7,   1.9542,  34.5876,2,  34.5884,2,       50,2,    48.9,2,  167.44,2,    43.2,2,       0,2,    2.96,2,-999.000,9,-999.000,9,-999.000,9,    2390,2,  2413.8,2,   7.3736,2,       25,-999.000,9,-999.0000,9,   -0.49,2,  -241.4,2,     1.8,-999.0000,9,-999.0000,    38.2,2,     -999.0,9,-999.000,9, 20150609,     1614,-999.000,   1.9538,2,    34.7515,2,     -999.0,9,     -999.0,-999.0000,     -999.0,     -999.0,9,     -999.0,     -999.0,9,     -999.0,  -999.0,9,     -999.0,     -999.0,9,     -999.0
33RO20150525,     P16N.2,     155,          1,          7,          7,2,20150609,       1520,    43.5001,  -151.9998,       4597,  2399.1,   1.7468,  34.6265,2,  34.6263,2,     74.8,2,    75.5,2,  167.92,2,   41.54,2,       0,2,    2.86,2,-999.000,9,-999.000,9,-999.000,9,  2377.5,2,  2421.2,2,   7.4284,2,    24.98,-999.000,9,-999.0000,9,   -0.35,2,  -246.8,2,     1.5,-999.0000,9,-999.0000,    38.9,2,     -999.0,9,-999.000,9, 20150609,     1606,-999.000,   1.7464,2,    34.7896,2,     -999.0,9,     -999.0,-999.0000,     -999.0,     -999.0,9,     -999.0,     -999.0,9,     -999.0,    -550,2,          4,      -21.8,2,        0.2
33RO20150525,     P16N.2,     155,          1,          6,          6,2,20150609,       1520,    43.5001,  -151.9998,       4597,    2700,   1.6327,  34.6459,2,   34.646,2,     92.8,2,    94.9,2,  165.57,2,   40.27,2,       0,2,    2.76,2,-999.000,9,-999.000,9,-999.000,9,  2365.8,2,  2421.6,2,   7.4653,2,    24.98,-999.000,9,-999.0000,9,   -0.23,2,  -245.9,2,     1.5,-999.0000,9,-999.0000,    39.0,2,     -999.0,9,-999.000,9, 20150609,     1559,-999.000,   1.6326,2,    34.8094,2,     -999.0,9,     -999.0,-999.0000,     -999.0,     -999.0,9,     -999.0,     -999.0,9,     -999.0,  -999.0,9,     -999.0,     -999.0,9,     -999.0
33RO20150525,     P16N.2,     155,          1,          5,          5,2,20150609,       1520,    43.5001,  -151.9998,       4597,  3050.4,   1.5422,  34.6621,2,  34.6615,2,    112.3,2,   113.2,2,  162.15,2,      39,2,       0,2,    2.67,2,-999.000,9,-999.000,9,-999.000,9,  2352.5,2,  2421.8,2,   7.5027,2,       25,-999.000,9,-999.0000,9,   -0.15,2,  -239.3,2,     2.0,-999.0000,9,-999.0000,    37.7,2,     -999.0,9,-999.000,9, 20150609,     1552,-999.000,   1.5419,2,     34.825,2,     -999.0,9,     -999.0,-999.0000,     -999.0,     -999.0,9,     -999.0,     -999.0,9,     -999.0,    -551,2,          4,      -21.8,2,        0.2
33RO20150525,     P16N.2,     155,          1,          4,          4,2,20150609,       1520,    43.5001,  -151.9998,       4597,  3400.4,   1.4873,  34.6736,2,  34.6734,2,    127.2,2,   127.2,2,  159.51,6,   38.02,6,       0,6,    2.59,6,-999.000,9,-999.000,9,-999.000,9,  2343.1,2,  2422.6,2,   7.5317,2,       25,-999.000,9,-999.0000,9,   -0.05,2,  -238.2,2,     1.6,-999.0000,9,-999.0000,    39.4,2,     -999.0,9,-999.000,9, 20150609,     1545,-999.000,   1.4871,2,    34.8369,2,     -999.0,9,     -999.0,-999.0000,     -999.0,     -999.0,9,     -999.0,     -999.0,9,     -999.0,    -565,2,          4,      -22.4,2,        0.2
33RO20150525,     P16N.2,     155,          1,          3,          3,2,20150609,       1520,    43.5001,  -151.9998,       4597,  3774.8,   1.4687,  34.6813,2,  34.6829,2,    135.9,2,   137.4,2,   160.1,6,   37.43,6,       0,6,    2.55,6,-999.000,9,-999.000,9,-999.000,9,  2341.7,2,  2426.6,6,   7.5521,6,    24.98,-999.000,9,-999.0000,9,    0.00,2,  -222.1,2,     1.7,-999.0000,9,-999.0000,    39.9,2,     -999.0,9,-999.000,9, 20150609,     1537,-999.000,   1.4685,2,    34.8464,6,     -999.0,9,     -999.0,-999.0000,     -999.0,     -999.0,9,     -999.0,     -999.0,9,     -999.0,    -547,2,          4,     -999.0,9,     -999.0
33RO20150525,     P16N.2,     155,          1,          2,          2,2,20150609,       1520,    43.5001,  -151.9998,       4597,  4224.9,   1.4894,  34.6859,2,  34.6909,3,    140.6,2,   140.5,2,  162.64,6,   37.14,6,       0,6,    2.53,6,-999.000,9,-999.000,9,-999.000,9,  2338.9,2,  2432.6,2,   7.5632,6,       25,-999.000,9,-999.0000,9,    0.03,2,  -226.8,2,     1.6,-999.0000,9,-999.0000,    39.9,2,     -999.0,9,-999.000,9, 20150609,     1529,-999.000,   1.4894,2,    34.8545,2,     -999.0,9,     -999.0,-999.0000,     -999.0,     -999.0,9,     -999.0,     -999.0,9,     -999.0,    -542,2,          4,      -21.8,2,        0.2
33RO20150525,     P16N.2,     155,          1,          1,          1,2,20150609,       1520,    43.5001,  -151.9998,       4597,  4672.9,   1.5362,  34.6874,2,  34.6888,2,    141.1,2,   141.6,2,   164.3,6,   37.14,6,       0,6,    2.52,6,-999.000,9,-999.000,9,-999.000,9,  2341.2,6,  2431.4,2,   7.5667,2,    24.99,-999.000,9,-999.0000,9,    0.06,2,  -225.7,2,     2.1,-999.0000,9,-999.0000,    39.5,2,     -999.0,9,-999.000,9, 20150609,     1520,-999.000,   1.5356,2,    34.8524,2,     -999.0,9,     -999.0,-999.0000,     -999.0,     -999.0,9,     -999.0,     -999.0,9,     -999.0,  -999.0,9,     -999.0,     -999.0,9,     -999.0