BOTTLE,20220330CCHSIOCBG
EXPOCODE,SECT_ID,STNNBR,CASTNO,SAMPNO,BTLNBR,BTLNBR_FLAG_W,DATE,TIME,LATITUDE,LONGITUDE,DEPTH,CTDPRS,CTDTMP,CTDSAL,CTDSAL_FLAG_W,SALNTY,SALNTY_FLAG_W,CTDOXY,CTDOXY_FLAG_W,OXYGEN,OXYGEN_FLAG_W,SILCAT,SILCAT_FLAG_W,NITRAT,NITRAT_FLAG_W,NITRIT,NITRIT_FLAG_W,PHSPHT,PHSPHT_FLAG_W,CFC-11,CFC-11_FLAG_W,CFC-12,CFC-12_FLAG_W,SF6,SF6_FLAG_W,TCARBN,TCARBN_FLAG_W,ALKALI,ALKALI_FLAG_W,PH_TOT,PH_TOT_FLAG_W,PH_TMP,TRITUM,TRITUM_FLAG_W,HELIUM,HELIUM_FLAG_W,DELC13,DELC13_FLAG_W,DELC14,DELC14_FLAG_W,C14ERR,NEON,NEON_FLAG_W,NEONER,DOC,DOC_FLAG_W,N2O,N2O_FLAG_W,ARGON,ARGON_FLAG_W,BTL_DATE,BTL_TIME,TRITER,SBE35,SBE35_FLAG_W,SALTREF,SALTREF_FLAG_W,DELHE3,DELHE3_FLAG_W,DELHER,HELIER,ARGONER,KRYPTON,KRYPTON_FLAG_W,KRYPTONER,XENON,XENON_FLAG_W,XENONER,14C-DOC,14C-DOC_FLAG_W,14C-DOCERR,13C-DOC,13C-DOC_FLAG_W,13C-DOCERR
,,,,,,,,,,,METERS,DBAR,ITS-90,PSS-78,,PSS-78,,UMOL/KG,,UMOL/KG,,UMOL/KG,,UMOL/KG,,UMOL/KG,,UMOL/KG,,PMOL/KG,,PMOL/KG,,FMOL/KG,,UMOL/KG,,UMOL/KG,,,,DEG C,TU,,NMOL/KG,,/MILLE,,/MILLE,,/MILLE,NMOL/KG,,NMOL/KG,UMOL/KG,,NMOL/KG,,UMOL/KG,,,,TU,ITS-90,,G/KG,,PERCNT,,PERCNT,NMOL/KG,UMOL/KG,NMOL/KG,,NMOL/KG,NMOL/KG,,NMOL/KG,/MILLE,,/MILLE,/MILLE,,/MILLE
33RO20150525,     P16N.2,     147,          1,         24,         24,2,20150607,       0409,    39.4999,  -152.0001,       5239,     3.9,  14.4809,  33.7183,2,  33.7256,2,    259.9,2,   261.5,2,    2.05,2,       0,2,    0.01,2,     0.2,2,   2.888,6,   1.686,6,   2.095,6,  2014.5,6,  2229.9,2,   7.9083,2,    25.07,-999.000,9,-999.0000,9,    0.85,2,    33.6,2,     3.4,-999.0000,9,-999.0000,    57.7,2,      9.334,3,-999.000,9, 20150607,     0618,-999.000,  14.4807,2,    33.8846,2,     -999.0,9,     -999.0,-999.0000,     -999.0,     -999.0,9,     -999.0,     -999.0,9,     -999.0,  -999.0,9,     -999.0,     -999.0,9,     -999.0
33RO20150525,     P16N.2,     147,          1,         23,         23,2,20150607,       0409,    39.4999,  -152.0001,       5239,    33.6,  14.1642,   33.732,2,  33.7379,2,    263.7,2,   263.9,2,    1.86,2,       0,2,    0.02,2,     0.2,2,-999.000,9,-999.000,9,-999.000,9,  2020.4,2,  2234.1,2,   7.9061,6,    25.05,-999.000,9,-999.0000,9, -999.00,9,  -999.0,9,  -999.0,-999.0000,9,-999.0000,    56.5,2,     -999.0,9,-999.000,9, 20150607,     0614,-999.000,  14.1853,2,     33.897,2,     -999.0,9,     -999.0,-999.0000,     -999.0,     -999.0,9,     -999.0,     -999.0,9,     -999.0,  -999.0,9,     -999.0,     -999.0,9,     -999.0
33RO20150525,     P16N.2,     147,          1,         22,         22,2,20150607,       0409,    39.4999,  -152.0001,       5239,    58.2,  11.7041,  33.8114,2,  33.8145,2,    272.7,2,   277.8,2,     4.3,2,    1.66,2,    0.05,2,    0.35,2,   3.259,2,   1.876,2,   2.207,2,  2033.7,2,  2236.5,6,   7.8799,2,    25.05,-999.000,9,-999.0000,9,    0.75,2,    35.7,2,     2.2,-999.0000,9,-999.0000,    56.0,2,     11.277,3,-999.000,9, 20150607,     0612,-999.000,  11.7396,2,    33.9739,2,     -999.0,9,     -999.0,-999.0000,     -999.0,     -999.0,9,     -999.0,     -999.0,9,     -999.0,  -999.0,9,     -999.0,     -999.0,9,     -999.0
33RO20150525,     P16N.2,     147,          1,         21,         21,2,20150607,       0409,    39.4999,  -152.0001,       5239,    83.6,  11.1397,  33.8461,2,  33.8462,2,    257.3,2,   265.7,2,    6.26,2,    3.03,2,     0.2,2,    0.45,2,   3.255,2,   1.889,2,   2.228,2,  2049.1,2,    2242,2,   7.8552,6,    25.06,-999.000,9,-999.0000,9,    0.57,2,    37.5,2,     2.1,-999.0000,9,-999.0000,    52.8,2,     10.895,3,-999.000,9, 20150607,     0610,-999.000,  11.1441,2,    34.0058,2,     -999.0,9,     -999.0,-999.0000,     -999.0,     -999.0,9,     -999.0,     -999.0,9,     -999.0,  -999.0,9,     -999.0,     -999.0,9,     -999.0
33RO20150525,     P16N.2,     147,          1,         20,         20,2,20150607,       0409,    39.4999,  -152.0001,       5239,   116.1,  10.9337,  33.8946,2,  33.9136,2,    252.9,2,   253.2,2,    7.43,2,    5.57,2,    0.25,2,    0.55,2,   3.224,2,   1.876,2,   2.187,2,  2060.1,2,  2243.7,2,   7.8354,6,    25.07,-999.000,9,-999.0000,9,    0.46,2,    35.7,2,     2.9,-999.0000,9,-999.0000,    54.4,2,     11.351,3,-999.000,9, 20150607,     0608,-999.000,  10.9213,2,    34.0735,2,     -999.0,9,     -999.0,-999.0000,     -999.0,     -999.0,9,     -999.0,     -999.0,9,     -999.0,  -999.0,9,     -999.0,     -999.0,9,     -999.0
33RO20150525,     P16N.2,     147,          1,         19,         19,2,20150607,       0409,    39.4999,  -152.0001,       5239,     175,  10.7096,  34.1558,2,  34.1521,2,    228.5,2,   228.2,2,   13.49,2,   11.73,2,    0.02,2,    0.89,2,     3.2,2,   1.871,2,   1.913,2,  2093.9,2,  2256.8,2,   7.7854,2,    25.02,-999.000,9,-999.0000,9,    0.14,2,    33.5,2,     2.0,-999.0000,9,-999.0000,    49.0,2,     16.086,3,-999.000,9, 20150607,     0605,-999.000,  10.7189,2,    34.3131,2,     -999.0,9,     -999.0,-999.0000,     -999.0,     -999.0,9,     -999.0,     -999.0,9,     -999.0,  -999.0,9,     -999.0,     -999.0,9,     -999.0
33RO20150525,     P16N.2,     147,          1,         18,         18,2,20150607,       0409,    39.4999,  -152.0001,       5239,   249.6,   9.7776,  34.0982,2,  34.0996,2,    217.6,2,   218.1,2,   18.57,2,   14.76,2,    0.01,2,    1.09,2,   3.247,2,   1.872,2,   1.835,2,  2113.7,2,  2262.3,2,   7.7459,2,    25.09,-999.000,9,-999.0000,9,    0.02,2,    27.4,2,     2.7,-999.0000,9,-999.0000,    47.3,2,     19.902,3,-999.000,9, 20150607,     0603,-999.000,   9.7839,2,    34.2604,2,     -999.0,9,     -999.0,-999.0000,     -999.0,     -999.0,9,     -999.0,     -999.0,9,     -999.0,  -999.0,9,     -999.0,     -999.0,9,     -999.0
33RO20150525,     P16N.2,     147,          1,         17,         17,2,20150607,       0409,    39.4999,  -152.0001,       5239,     333,   8.5061,  34.0445,2,  34.0441,2,    186.1,2,     187,2,   29.81,2,   20.52,2,    0.01,2,    1.49,2,   3.147,2,   1.763,2,   1.502,2,  2151.9,2,  2268.5,2,   7.6639,2,    25.04,-999.000,9,-999.0000,9,   -0.06,2,    -5.6,2,     2.1,-999.0000,9,-999.0000,    46.3,2,     23.576,3,-999.000,9, 20150607,     0559,-999.000,     8.52,2,    34.2047,2,     -999.0,9,     -999.0,-999.0000,     -999.0,     -999.0,9,     -999.0,     -999.0,9,     -999.0,  -999.0,9,     -999.0,     -999.0,9,     -999.0
33RO20150525,     P16N.2,     147,          1,         16,         16,2,20150607,       0409,    39.4999,  -152.0001,       5239,   433.1,   6.7242,  33.9842,2,  33.9866,2,      146,2,   145.3,2,   48.28,2,   28.15,2,    0.01,2,    2.01,2,   2.942,2,   1.572,2,   1.029,2,  2204.4,2,  2281.3,2,   7.5433,2,    25.05,-999.000,9,-999.0000,9,   -0.22,2,   -36.8,2,     2.1,-999.0000,9,-999.0000,    44.4,2,     29.900,3,-999.000,9, 20150607,     0556,-999.000,   6.7196,2,    34.1468,2,     -999.0,9,     -999.0,-999.0000,     -999.0,     -999.0,9,     -999.0,     -999.0,9,     -999.0,  -999.0,9,     -999.0,     -999.0,9,     -999.0
33RO20150525,     P16N.2,     147,          1,         15,         15,2,20150607,       0409,    39.4999,  -152.0001,       5239,   549.6,   5.1463,  33.9958,2,  33.9957,2,     97.7,2,    96.4,2,   71.35,2,   35.18,2,    0.01,2,    2.52,2,   2.136,2,   1.081,2,   0.631,2,  2264.2,2,  2296.5,2,   7.4195,2,    25.04,-999.000,9,-999.0000,9,   -0.38,2,   -82.8,2,     2.0,-999.0000,9,-999.0000,    42.8,2,     35.090,3,-999.000,9, 20150607,     0553,-999.000,   5.1461,2,     34.156,6,     -999.0,9,     -999.0,-999.0000,     -999.0,     -999.0,9,     -999.0,     -999.0,9,     -999.0,  -999.0,9,     -999.0,     -999.0,9,     -999.0
33RO20150525,     P16N.2,     147,          1,         14,         14,2,20150607,       0409,    39.4999,  -152.0001,       5239,   700.6,   4.3422,  34.1166,2,  34.1206,2,       48,2,    47.5,2,   94.89,2,   40.56,2,    0.01,2,    2.89,2,   1.083,2,   0.518,2,   0.153,2,  2316.4,2,  2321.9,2,    7.328,2,    25.06,-999.000,9,-999.0000,9,   -0.56,2,  -130.1,2,     1.9,-999.0000,9,-999.0000,    40.7,2,     42.072,3,-999.000,9, 20150607,     0549,-999.000,   4.3428,2,    34.2815,2,     -999.0,9,     -999.0,-999.0000,     -999.0,     -999.0,9,     -999.0,     -999.0,9,     -999.0,  -999.0,9,     -999.0,     -999.0,9,     -999.0
33RO20150525,     P16N.2,     147,          1,         13,         13,2,20150607,       0409,    39.4999,  -152.0001,       5239,   849.8,   3.7347,   34.226,2,  34.2291,2,     24.7,2,    24.4,2,  114.14,2,   43.09,2,       0,2,    3.05,2,   0.379,2,   0.182,2,   0.044,2,  2349.5,2,    2345,2,   7.2937,6,    25.06,-999.000,9,-999.0000,9,   -0.66,2,  -169.9,2,     2.0,-999.0000,9,-999.0000,    40.9,2,     46.725,3,-999.000,9, 20150607,     0545,-999.000,   3.7329,2,    34.3905,2,     -999.0,9,     -999.0,-999.0000,     -999.0,     -999.0,9,     -999.0,     -999.0,9,     -999.0,  -999.0,9,     -999.0,     -999.0,9,     -999.0
33RO20150525,     P16N.2,     147,          1,         12,         12,2,20150607,       0409,    39.4999,  -152.0001,       5239,    1000,   3.3136,  34.3089,2,  34.3129,2,     14.2,2,    13.8,2,     128,2,   44.26,2,    0.01,2,    3.12,2,    0.12,2,   0.061,2,    0.04,2,  2370.6,2,  2362.4,2,   7.2809,2,    25.06,-999.000,9,-999.0000,9, -999.00,9,  -999.0,9,  -999.0,-999.0000,9,-999.0000,    39.1,2,     49.771,3,-999.000,9, 20150607,     0541,-999.000,   3.3127,2,    34.4747,2,     -999.0,9,     -999.0,-999.0000,     -999.0,     -999.0,9,     -999.0,     -999.0,9,     -999.0,  -999.0,9,     -999.0,     -999.0,9,     -999.0
33RO20150525,     P16N.2,     147,          1,         11,         11,2,20150607,       0409,    39.4999,  -152.0001,       5239,  1167.1,   2.9654,  34.3777,2,  34.3779,2,     11.1,2,    10.8,2,  140.21,2,   44.75,2,       0,2,    3.15,2,-999.000,9,-999.000,9,-999.000,9,    2383,2,  2377.1,2,   7.2824,2,    25.06,-999.000,9,-999.0000,9, -999.00,9,  -999.0,9,  -999.0,-999.0000,9,-999.0000,    38.0,2,     -999.0,9,-999.000,9, 20150607,     0536,-999.000,   2.9652,2,      34.54,2,     -999.0,9,     -999.0,-999.0000,     -999.0,     -999.0,9,     -999.0,     -999.0,9,     -999.0,  -999.0,9,     -999.0,     -999.0,9,     -999.0
33RO20150525,     P16N.2,     147,          1,         10,         10,2,20150607,       0409,    39.4999,  -152.0001,       5239,  1400.3,   2.6309,  34.4616,2,  34.4619,2,       11,2,    10.9,2,  151.83,2,   45.14,2,       0,2,    3.15,2,   0.001,2,   0.002,2,       0,2,  2398.1,6,  2393.8,2,    7.291,2,    25.04,-999.000,9,-999.0000,9, -999.00,9,  -999.0,9,  -999.0,-999.0000,9,-999.0000,    37.9,2,     51.264,3,-999.000,9, 20150607,     0531,-999.000,   2.6307,2,    34.6244,2,     -999.0,9,     -999.0,-999.0000,     -999.0,     -999.0,9,     -999.0,     -999.0,9,     -999.0,  -999.0,9,     -999.0,     -999.0,9,     -999.0
33RO20150525,     P16N.2,     147,          1,          9,          9,2,20150607,       0409,    39.4999,  -152.0001,       5239,  1732.9,   2.2305,   34.552,2,  34.5603,4,     32.8,2,    31.9,2,  161.88,2,   43.87,2,       0,2,    3.06,2,-999.000,9,-999.000,9,-999.000,9,  2395.2,2,  2407.2,2,   7.3412,6,    25.03,-999.000,9,-999.0000,9, -999.00,9,  -999.0,9,  -999.0,-999.0000,9,-999.0000,    37.7,2,     -999.0,9,-999.000,9, 20150607,     0524,-999.000,   2.2301,2,    34.7233,2,     -999.0,9,     -999.0,-999.0000,     -999.0,     -999.0,9,     -999.0,     -999.0,9,     -999.0,  -999.0,9,     -999.0,     -999.0,9,     -999.0
33RO20150525,     P16N.2,     147,          1,          8,          8,2,20150607,       0409,    39.4999,  -152.0001,       5239,  2132.7,   1.8965,  34.6079,2,  34.6083,2,       61,2,    60.9,2,  167.34,2,   42.01,2,       0,2,    2.93,2,-999.000,9,-999.000,9,-999.000,9,  2386.4,2,  2419.4,2,   7.4028,2,    25.06,-999.000,9,-999.0000,9, -999.00,9,  -999.0,9,  -999.0,-999.0000,9,-999.0000,    37.4,2,     -999.0,9,-999.000,9, 20150607,     0516,-999.000,   1.8963,2,    34.7714,2,     -999.0,9,     -999.0,-999.0000,     -999.0,     -999.0,9,     -999.0,     -999.0,9,     -999.0,  -999.0,9,     -999.0,     -999.0,9,     -999.0
33RO20150525,     P16N.2,     147,          1,          7,          7,2,20150607,       0409,    39.4999,  -152.0001,       5239,  2566.6,   1.6841,    34.64,2,  34.6405,2,     90.4,2,   115.7,4,  165.19,2,   40.15,2,       0,2,     2.8,2,-999.000,9,-999.000,9,-999.000,9,    2369,2,  2422.8,2,   7.4592,2,    25.04,-999.000,9,-999.0000,9, -999.00,9,  -999.0,9,  -999.0,-999.0000,9,-999.0000,    37.8,2,     -999.0,9,-999.000,9, 20150607,     0507,-999.000,   1.6839,2,    34.8038,2,     -999.0,9,     -999.0,-999.0000,     -999.0,     -999.0,9,     -999.0,     -999.0,9,     -999.0,  -999.0,9,     -999.0,     -999.0,9,     -999.0
33RO20150525,     P16N.2,     147,          1,          6,          6,2,20150607,       0409,    39.4999,  -152.0001,       5239,  3066.7,   1.5468,  34.6624,2,  34.6625,2,    115.4,2,   115.6,2,   160.4,2,   38.49,2,       0,2,    2.67,2,-999.000,9,-999.000,9,-999.000,9,    2352,2,  2424.6,2,    7.509,2,    25.06,-999.000,9,-999.0000,9, -999.00,9,  -999.0,9,  -999.0,-999.0000,9,-999.0000,    37.2,2,     -999.0,9,-999.000,9, 20150607,     0457,-999.000,   1.5468,2,     34.826,2,     -999.0,9,     -999.0,-999.0000,     -999.0,     -999.0,9,     -999.0,     -999.0,9,     -999.0,  -999.0,9,     -999.0,     -999.0,9,     -999.0
33RO20150525,     P16N.2,     147,          1,          5,          5,2,20150607,       0409,    39.4999,  -152.0001,       5239,  3567.4,   1.4906,  34.6754,2,   34.676,2,      131,2,   130.5,2,  159.42,2,   37.41,2,    0.01,2,    2.58,2,-999.000,9,-999.000,9,-999.000,9,    2342,2,  2426.6,2,   7.5396,6,    25.07,-999.000,9,-999.0000,9, -999.00,9,  -999.0,9,  -999.0,-999.0000,9,-999.0000,    36.9,2,     -999.0,9,-999.000,9, 20150607,     0448,-999.000,   1.4905,2,    34.8395,6,     -999.0,9,     -999.0,-999.0000,     -999.0,     -999.0,9,     -999.0,     -999.0,9,     -999.0,  -999.0,9,     -999.0,     -999.0,9,     -999.0
33RO20150525,     P16N.2,     147,          1,          4,          4,2,20150607,       0409,    39.4999,  -152.0001,       5239,  4066.9,   1.4852,  34.6834,2,  34.6832,2,    138.5,2,   138.7,2,  161.96,6,   37.02,6,       0,6,    2.54,6,-999.000,9,-999.000,9,-999.000,9,  2341.5,2,  2430.4,2,   7.5593,2,    25.05,-999.000,9,-999.0000,9, -999.00,9,  -999.0,9,  -999.0,-999.0000,9,-999.0000,    37.3,2,     -999.0,9,-999.000,9, 20150607,     0438,-999.000,   1.4853,2,    34.8468,2,     -999.0,9,     -999.0,-999.0000,     -999.0,     -999.0,9,     -999.0,     -999.0,9,     -999.0,  -999.0,9,     -999.0,     -999.0,9,     -999.0
33RO20150525,     P16N.2,     147,          1,          3,          3,2,20150607,       0409,    39.4999,  -152.0001,       5239,  4565.2,   1.5241,  34.6863,2,  34.6868,2,    142.2,2,   141.6,2,  162.74,6,   36.83,6,       0,6,    2.53,6,-999.000,9,-999.000,9,-999.000,9,  2339.5,2,  2431.4,6,   7.5673,2,    25.06,-999.000,9,-999.0000,9, -999.00,9,  -999.0,9,  -999.0,-999.0000,9,-999.0000,    38.0,2,     -999.0,9,-999.000,9, 20150607,     0429,-999.000,   1.5239,2,    34.8504,2,     -999.0,9,     -999.0,-999.0000,     -999.0,     -999.0,9,     -999.0,     -999.0,9,     -999.0,  -999.0,9,     -999.0,     -999.0,9,     -999.0
33RO20150525,     P16N.2,     147,          1,          2,          2,2,20150607,       0409,    39.4999,  -152.0001,       5239,  4900.5,   1.5557,  34.6872,2,   34.688,2,    144.3,2,     144,2,  159.42,6,   36.63,6,       0,6,    2.52,6,-999.000,9,-999.000,9,-999.000,9,  2337.1,2,  2431.2,2,   7.5703,2,    25.07,-999.000,9,-999.0000,9, -999.00,9,  -999.0,9,  -999.0,-999.0000,9,-999.0000,    39.4,2,     -999.0,9,-999.000,9, 20150607,     0422,-999.000,   1.5557,2,    34.8516,2,     -999.0,9,     -999.0,-999.0000,     -999.0,     -999.0,9,     -999.0,     -999.0,9,     -999.0,  -999.0,9,     -999.0,     -999.0,9,     -999.0
33RO20150525,     P16N.2,     147,          1,          1,          1,2,20150607,       0409,    39.4999,  -152.0001,       5239,  5330.8,   1.6034,  34.6879,2,   34.689,2,    141.2,2,   146.1,2,  156.69,6,   36.44,6,    0.01,6,    2.51,6,-999.000,9,-999.000,9,-999.000,9,  2334.8,6,  2428.6,2,   7.5724,2,    25.08,-999.000,9,-999.0000,9, -999.00,9,  -999.0,9,  -999.0,-999.0000,9,-999.0000,    38.0,2,     -999.0,9,-999.000,9, 20150607,     0410,-999.000,   1.6035,2,    34.8526,2,     -999.0,9,     -999.0,-999.0000,     -999.0,     -999.0,9,     -999.0,     -999.0,9,     -999.0,  -999.0,9,     -999.0,     -999.0,9,     -999.0