BOTTLE,20220330CCHSIOCBG
EXPOCODE,SECT_ID,STNNBR,CASTNO,SAMPNO,BTLNBR,BTLNBR_FLAG_W,DATE,TIME,LATITUDE,LONGITUDE,DEPTH,CTDPRS,CTDTMP,CTDSAL,CTDSAL_FLAG_W,SALNTY,SALNTY_FLAG_W,CTDOXY,CTDOXY_FLAG_W,OXYGEN,OXYGEN_FLAG_W,SILCAT,SILCAT_FLAG_W,NITRAT,NITRAT_FLAG_W,NITRIT,NITRIT_FLAG_W,PHSPHT,PHSPHT_FLAG_W,CFC-11,CFC-11_FLAG_W,CFC-12,CFC-12_FLAG_W,SF6,SF6_FLAG_W,TCARBN,TCARBN_FLAG_W,ALKALI,ALKALI_FLAG_W,PH_TOT,PH_TOT_FLAG_W,PH_TMP,TRITUM,TRITUM_FLAG_W,HELIUM,HELIUM_FLAG_W,DELC13,DELC13_FLAG_W,DELC14,DELC14_FLAG_W,C14ERR,NEON,NEON_FLAG_W,NEONER,DOC,DOC_FLAG_W,N2O,N2O_FLAG_W,ARGON,ARGON_FLAG_W,BTL_DATE,BTL_TIME,TRITER,SBE35,SBE35_FLAG_W,SALTREF,SALTREF_FLAG_W,DELHE3,DELHE3_FLAG_W,DELHER,HELIER,ARGONER,KRYPTON,KRYPTON_FLAG_W,KRYPTONER,XENON,XENON_FLAG_W,XENONER,14C-DOC,14C-DOC_FLAG_W,14C-DOCERR,13C-DOC,13C-DOC_FLAG_W,13C-DOCERR
,,,,,,,,,,,METERS,DBAR,ITS-90,PSS-78,,PSS-78,,UMOL/KG,,UMOL/KG,,UMOL/KG,,UMOL/KG,,UMOL/KG,,UMOL/KG,,PMOL/KG,,PMOL/KG,,FMOL/KG,,UMOL/KG,,UMOL/KG,,,,DEG C,TU,,NMOL/KG,,/MILLE,,/MILLE,,/MILLE,NMOL/KG,,NMOL/KG,UMOL/KG,,NMOL/KG,,UMOL/KG,,,,TU,ITS-90,,G/KG,,PERCNT,,PERCNT,NMOL/KG,UMOL/KG,NMOL/KG,,NMOL/KG,NMOL/KG,,NMOL/KG,/MILLE,,/MILLE,/MILLE,,/MILLE
33RO20150525,     P16N.2,     197,          1,         24,         24,2,20150621,       0513,      55.16,  -144.8109,       4019,       2,  10.9797,  32.5126,2,  32.5146,2,    286.6,2,   286.9,2,   18.11,2,   10.37,2,    0.13,2,     1.1,2,   3.596,2,   2.069,6,   2.469,6,  2023.9,6,  2189.5,2,   7.8125,6,    25.01,-999.000,9,-999.0000,9,    1.19,2,   -24.1,2,     2.9,-999.0000,9,-999.0000,    53.8,2,     10.905,3,-999.000,9, 20150621,     0657,-999.000,  11.1121,4,    32.6679,2,     -999.0,9,     -999.0,-999.0000,     -999.0,     -999.0,9,     -999.0,     -999.0,9,     -999.0,  -999.0,9,     -999.0,     -999.0,9,     -999.0
33RO20150525,     P16N.2,     197,          1,         23,         23,2,20150621,       0513,      55.16,  -144.8109,       4019,    33.6,   7.8979,  32.3961,2,  32.3935,2,    309.4,2,   309.4,2,   13.12,2,    8.81,2,    0.11,2,    1.01,2,   4.121,2,   2.317,2,     2.7,2,  2019.6,2,  2178.1,2,   7.7993,6,    25.01,-999.000,9,-999.0000,9, -999.00,9,  -999.0,9,  -999.0,-999.0000,9,-999.0000,    54.0,2,     12.530,3,-999.000,9, 20150621,     0654,-999.000,   7.8925,2,    32.5462,2,     -999.0,9,     -999.0,-999.0000,     -999.0,     -999.0,9,     -999.0,     -999.0,9,     -999.0,  -999.0,9,     -999.0,     -999.0,9,     -999.0
33RO20150525,     P16N.2,     197,          1,         22,         22,2,20150621,       0513,      55.16,  -144.8109,       4019,    58.6,   7.1967,    32.54,2,  32.5475,2,    306.5,2,   304.6,2,   18.89,2,   12.23,2,    0.15,2,    1.21,2,   4.127,2,   2.357,2,   2.803,2,  2041.6,2,  2191.3,2,   7.7694,6,    24.99,-999.000,9,-999.0000,9, -999.00,9,  -999.0,9,  -999.0,-999.0000,9,-999.0000,    53.5,2,     12.602,3,-999.000,9, 20150621,     0652,-999.000,   7.1875,2,     32.701,2,     -999.0,9,     -999.0,-999.0000,     -999.0,     -999.0,9,     -999.0,     -999.0,9,     -999.0,  -999.0,9,     -999.0,     -999.0,9,     -999.0
33RO20150525,     P16N.2,     197,          1,         21,         21,2,20150621,       0513,      55.16,  -144.8109,       4019,    83.4,   6.2021,  32.7377,2,  32.7742,2,    266.4,2,   262.2,2,   26.13,2,    18.2,2,    0.23,2,    1.53,2,   4.237,2,   2.356,2,   2.559,2,  2090.8,2,  2202.7,2,   7.6686,2,    24.99,-999.000,9,-999.0000,9, -999.00,9,  -999.0,9,  -999.0,-999.0000,9,-999.0000,    50.6,2,     16.252,3,-999.000,9, 20150621,     0650,-999.000,   6.2027,2,    32.9288,2,     -999.0,9,     -999.0,-999.0000,     -999.0,     -999.0,9,     -999.0,     -999.0,9,     -999.0,  -999.0,9,     -999.0,     -999.0,9,     -999.0
33RO20150525,     P16N.2,     197,          1,         20,         20,2,20150621,       0513,      55.16,  -144.8109,       4019,   108.2,   5.2694,  33.1816,2,  33.2043,2,    194.6,2,   202.8,2,   39.52,2,   26.41,2,    0.02,2,    1.98,2,   4.113,2,   2.251,2,   2.107,2,  2159.6,2,  2230.6,2,   7.5331,2,       25,-999.000,9,-999.0000,9, -999.00,9,  -999.0,9,  -999.0,-999.0000,9,-999.0000,    48.9,2,     22.232,3,-999.000,9, 20150621,     0648,-999.000,   5.2698,2,    33.3609,2,     -999.0,9,     -999.0,-999.0000,     -999.0,     -999.0,9,     -999.0,     -999.0,9,     -999.0,  -999.0,9,     -999.0,     -999.0,9,     -999.0
33RO20150525,     P16N.2,     197,          1,         19,         19,2,20150621,       0513,      55.16,  -144.8109,       4019,   142.5,   4.7845,  33.5092,2,  33.5211,2,    164.2,2,   161.4,2,   50.76,2,    31.3,2,    0.01,2,    2.26,2,   3.814,2,   2.074,2,   1.712,2,  2209.7,2,  2252.5,2,    7.449,2,    24.97,-999.000,9,-999.0000,9, -999.00,9,  -999.0,9,  -999.0,-999.0000,9,-999.0000,    47.8,2,     26.020,3,-999.000,9, 20150621,     0646,-999.000,   4.7838,2,    33.6792,2,     -999.0,9,     -999.0,-999.0000,     -999.0,     -999.0,9,     -999.0,     -999.0,9,     -999.0,  -999.0,9,     -999.0,     -999.0,9,     -999.0
33RO20150525,     P16N.2,     197,          1,         18,         18,2,20150621,       0513,      55.16,  -144.8109,       4019,   200.4,    4.368,  33.7707,2,  33.7685,2,    103.9,2,   102.2,2,   67.18,2,   37.16,2,    0.01,2,    2.62,2,   3.178,2,   1.689,2,    1.19,2,  2265.2,2,  2275.8,2,   7.3412,2,    25.04,-999.000,9,-999.0000,9, -999.00,9,  -999.0,9,  -999.0,-999.0000,9,-999.0000,    44.2,2,     33.084,3,-999.000,9, 20150621,     0643,-999.000,   4.3677,2,    33.9278,2,     -999.0,9,     -999.0,-999.0000,     -999.0,     -999.0,9,     -999.0,     -999.0,9,     -999.0,  -999.0,9,     -999.0,     -999.0,9,     -999.0
33RO20150525,     P16N.2,     197,          1,         17,         17,2,20150621,       0513,      55.16,  -144.8109,       4019,   275.1,   4.0876,  33.8953,2,  33.8941,2,     58.8,2,    57.2,2,   82.33,2,   41.16,2,    0.01,2,    2.87,2,    1.64,4,   1.236,2,   0.757,2,  2303.9,2,  2292.2,2,   7.2708,6,    25.02,-999.000,9,-999.0000,9, -999.00,9,  -999.0,9,  -999.0,-999.0000,9,-999.0000,    43.3,2,     39.132,3,-999.000,9, 20150621,     0641,-999.000,   4.0857,2,    34.0539,2,     -999.0,9,     -999.0,-999.0000,     -999.0,     -999.0,9,     -999.0,     -999.0,9,     -999.0,  -999.0,9,     -999.0,     -999.0,9,     -999.0
33RO20150525,     P16N.2,     197,          1,         16,         16,2,20150621,       0513,      55.16,  -144.8109,       4019,   350.2,   3.9695,  33.9751,2,  33.9744,2,     41.5,2,    40.7,2,   90.92,2,   42.53,2,       0,2,    2.94,2,   1.903,2,    0.96,2,   0.504,2,    2320,2,  2304.3,2,   7.2578,6,    24.99,-999.000,9,-999.0000,9, -999.00,9,  -999.0,9,  -999.0,-999.0000,9,-999.0000,    44.0,2,     41.452,3,-999.000,9, 20150621,     0638,-999.000,    3.969,2,    34.1346,2,     -999.0,9,     -999.0,-999.0000,     -999.0,     -999.0,9,     -999.0,     -999.0,9,     -999.0,  -999.0,9,     -999.0,     -999.0,9,     -999.0
33RO20150525,     P16N.2,     197,          1,         15,         15,2,20150621,       0513,      55.16,  -144.8109,       4019,   433.1,   3.7006,  34.0247,2,  34.0238,2,     31.8,2,    32.7,2,  100.79,2,   43.21,2,       0,2,    3.02,2,   1.603,6,     0.8,6,   0.436,6,  2333.7,2,  2314.4,2,   7.2471,6,    25.01,-999.000,9,-999.0000,9, -999.00,9,  -999.0,9,  -999.0,-999.0000,9,-999.0000,    44.8,2,     43.604,3,-999.000,9, 20150621,     0635,-999.000,   3.7001,2,    34.1842,2,     -999.0,9,     -999.0,-999.0000,     -999.0,     -999.0,9,     -999.0,     -999.0,9,     -999.0,  -999.0,9,     -999.0,     -999.0,9,     -999.0
33RO20150525,     P16N.2,     197,          1,         14,         14,2,20150621,       0513,      55.16,  -144.8109,       4019,   550.2,   3.5851,  34.1463,2,  34.1434,2,     21.3,2,    21.2,2,  112.81,2,    43.6,2,       0,2,    3.04,2,   0.942,2,   0.469,2,    0.21,2,  2348.9,2,  2332.3,2,   7.2551,2,    25.01,-999.000,9,-999.0000,9, -999.00,9,  -999.0,9,  -999.0,-999.0000,9,-999.0000,    42.3,2,     45.457,3,-999.000,9, 20150621,     0631,-999.000,   3.5847,2,    34.3044,6,     -999.0,9,     -999.0,-999.0000,     -999.0,     -999.0,9,     -999.0,     -999.0,9,     -999.0,  -999.0,9,     -999.0,     -999.0,9,     -999.0
33RO20150525,     P16N.2,     197,          1,         13,         13,2,20150621,       0513,      55.16,  -144.8109,       4019,   699.9,   3.4166,  34.2395,2,  34.2368,2,     19.3,2,    19.4,2,  122.28,2,    43.6,2,       0,2,    3.05,2,   0.529,2,   0.258,2,    0.09,2,  2359.3,2,  2347.7,2,   7.2702,2,    25.01,-999.000,9,-999.0000,9, -999.00,9,  -999.0,9,  -999.0,-999.0000,9,-999.0000,    42.6,2,     47.559,3,-999.000,9, 20150621,     0627,-999.000,   3.4164,2,    34.3982,2,     -999.0,9,     -999.0,-999.0000,     -999.0,     -999.0,9,     -999.0,     -999.0,9,     -999.0,  -999.0,9,     -999.0,     -999.0,9,     -999.0
33RO20150525,     P16N.2,     197,          1,         12,         12,2,20150621,       0513,      55.16,  -144.8109,       4019,   850.4,   3.2321,  34.3256,2,  34.3245,2,     13.8,2,    14.3,2,  130.29,2,   43.98,2,       0,2,    3.08,2,   0.185,2,    0.09,2,   0.029,2,  2370.3,6,  2361.7,2,   7.2791,2,    24.99,-999.000,9,-999.0000,9, -999.00,9,  -999.0,9,  -999.0,-999.0000,9,-999.0000,    40.4,2,     48.230,3,-999.000,9, 20150621,     0623,-999.000,   3.2317,2,    34.4863,2,     -999.0,9,     -999.0,-999.0000,     -999.0,     -999.0,9,     -999.0,     -999.0,9,     -999.0,  -999.0,9,     -999.0,     -999.0,9,     -999.0
33RO20150525,     P16N.2,     197,          1,         11,         11,2,20150621,       0513,      55.16,  -144.8109,       4019,   999.8,   2.9792,  34.3752,2,  34.3741,2,     14.1,2,    13.7,2,   138.4,2,   44.18,2,       0,2,    3.08,2,   0.097,2,   0.048,2,   0.022,2,  2379.5,2,    2373,2,   7.2851,2,    25.03,-999.000,9,-999.0000,9, -999.00,9,  -999.0,9,  -999.0,-999.0000,9,-999.0000,    39.7,2,     48.639,3,-999.000,9, 20150621,     0620,-999.000,   2.9796,2,    34.5362,2,     -999.0,9,     -999.0,-999.0000,     -999.0,     -999.0,9,     -999.0,     -999.0,9,     -999.0,  -999.0,9,     -999.0,     -999.0,9,     -999.0
33RO20150525,     P16N.2,     197,          1,         10,         10,2,20150621,       0513,      55.16,  -144.8109,       4019,  1167.2,   2.7359,  34.4216,2,  34.4185,2,       15,2,    15.4,2,  146.41,2,   44.27,2,       0,2,    3.07,2,   0.051,2,   0.027,2,       0,2,  2387.5,2,  2384.4,2,   7.2917,2,    25.01,-999.000,9,-999.0000,9, -999.00,9,  -999.0,9,  -999.0,-999.0000,9,-999.0000,    40.3,2,     48.332,3,-999.000,9, 20150621,     0615,-999.000,   2.7355,2,    34.5808,2,     -999.0,9,     -999.0,-999.0000,     -999.0,     -999.0,9,     -999.0,     -999.0,9,     -999.0,  -999.0,9,     -999.0,     -999.0,9,     -999.0
33RO20150525,     P16N.2,     197,          1,          9,          9,2,20150621,       0513,      55.16,  -144.8109,       4019,  1399.8,   2.4386,  34.4796,2,  34.4778,2,     21.9,2,    21.9,2,  155.29,2,   44.08,2,       0,2,    3.05,2,   0.023,2,   0.012,2,       0,2,  2390.1,2,  2393.5,2,   7.3083,2,    25.01,-999.000,9,-999.0000,9, -999.00,9,  -999.0,9,  -999.0,-999.0000,9,-999.0000,    37.2,2,     44.329,3,-999.000,9, 20150621,     0610,-999.000,   2.4386,2,    34.6404,2,     -999.0,9,     -999.0,-999.0000,     -999.0,     -999.0,9,     -999.0,     -999.0,9,     -999.0,  -999.0,9,     -999.0,     -999.0,9,     -999.0
33RO20150525,     P16N.2,     197,          1,          8,          8,2,20150621,       0513,      55.16,  -144.8109,       4019,  1700.1,   2.1502,  34.5403,2,  34.5372,2,     36.3,2,      37,2,  161.84,2,    43.2,2,       0,2,    2.98,2,   0.007,2,   0.003,2,       0,2,  2390.7,2,  2404.9,2,   7.3431,2,    24.99,-999.000,9,-999.0000,9, -999.00,9,  -999.0,9,  -999.0,-999.0000,9,-999.0000,    37.8,2,     39.527,3,-999.000,9, 20150621,     0603,-999.000,   2.1501,2,    34.7001,2,     -999.0,9,     -999.0,-999.0000,     -999.0,     -999.0,9,     -999.0,     -999.0,9,     -999.0,  -999.0,9,     -999.0,     -999.0,9,     -999.0
33RO20150525,     P16N.2,     197,          1,          7,          7,2,20150621,       0513,      55.16,  -144.8109,       4019,  1999.9,   1.9488,   34.582,2,  34.5799,2,     53.8,2,    53.4,2,  165.84,2,   42.12,2,       0,2,     2.9,2,   0.002,2,   0.002,2,       0,2,  2382.4,2,  2412.2,2,   7.3811,2,    24.99,-999.000,9,-999.0000,9, -999.00,9,  -999.0,9,  -999.0,-999.0000,9,-999.0000,    37.2,2,     35.149,3,-999.000,9, 20150621,     0557,-999.000,   1.9489,2,     34.743,2,     -999.0,9,     -999.0,-999.0000,     -999.0,     -999.0,9,     -999.0,     -999.0,9,     -999.0,  -999.0,9,     -999.0,     -999.0,9,     -999.0
33RO20150525,     P16N.2,     197,          1,          6,          6,2,20150621,       0513,      55.16,  -144.8109,       4019,  2299.7,   1.8042,  34.6113,2,  34.6092,2,     70.5,2,    70.4,2,   167.3,2,   41.04,2,       0,2,    2.83,2,   0.003,2,   0.001,2,       0,2,  2376.4,2,  2417.4,2,   7.4158,2,    25.03,-999.000,9,-999.0000,9, -999.00,9,  -999.0,9,  -999.0,-999.0000,9,-999.0000,    37.6,2,     31.293,3,-999.000,9, 20150621,     0550,-999.000,   1.8033,2,    34.7724,2,     -999.0,9,     -999.0,-999.0000,     -999.0,     -999.0,9,     -999.0,     -999.0,9,     -999.0,  -999.0,9,     -999.0,     -999.0,9,     -999.0
33RO20150525,     P16N.2,     197,          1,          5,          5,2,20150621,       0513,      55.16,  -144.8109,       4019,  2633.2,   1.6694,  34.6374,2,  34.6354,2,     90.1,2,    89.7,2,  168.37,2,   39.77,2,       0,2,    2.74,2,   0.004,2,   0.002,2,       0,2,  2366.4,2,  2422.3,2,   7.4576,6,       25,-999.000,9,-999.0000,9, -999.00,9,  -999.0,9,  -999.0,-999.0000,9,-999.0000,    38.6,2,     27.701,3,-999.000,9, 20150621,     0543,-999.000,     1.67,2,    34.7987,2,     -999.0,9,     -999.0,-999.0000,     -999.0,     -999.0,9,     -999.0,     -999.0,9,     -999.0,  -999.0,9,     -999.0,     -999.0,9,     -999.0
33RO20150525,     P16N.2,     197,          1,          4,          4,2,20150621,       0513,      55.16,  -144.8109,       4019,  3033.3,   1.5801,  34.6559,2,  34.6536,2,    107.7,2,   107.3,2,  166.61,6,    38.7,6,       0,6,    2.67,6,   0.004,2,   0.003,2,       0,2,  2352.9,2,    2422,2,   7.4935,2,       25,-999.000,9,-999.0000,9, -999.00,9,  -999.0,9,  -999.0,-999.0000,9,-999.0000,    38.5,2,     25.296,3,-999.000,9, 20150621,     0535,-999.000,   1.5802,2,     34.817,2,     -999.0,9,     -999.0,-999.0000,     -999.0,     -999.0,9,     -999.0,     -999.0,9,     -999.0,  -999.0,9,     -999.0,     -999.0,9,     -999.0
33RO20150525,     P16N.2,     197,          1,          3,          3,2,20150621,       0513,      55.16,  -144.8109,       4019,  3433.1,    1.507,  34.6714,2,  34.6698,2,      125,2,   124.4,2,  163.48,6,   37.91,6,       0,6,    2.59,6,   0.011,2,   0.007,2,       0,2,  2343.7,2,  2422.6,2,    7.527,6,    25.02,-999.000,9,-999.0000,9, -999.00,9,  -999.0,9,  -999.0,-999.0000,9,-999.0000,    39.0,2,     23.053,3,-999.000,9, 20150621,     0527,-999.000,   1.5072,2,    34.8333,2,     -999.0,9,     -999.0,-999.0000,     -999.0,     -999.0,9,     -999.0,     -999.0,9,     -999.0,  -999.0,9,     -999.0,     -999.0,9,     -999.0
33RO20150525,     P16N.2,     197,          1,          2,          2,2,20150621,       0513,      55.16,  -144.8109,       4019,  3700.1,   1.4756,  34.6789,2,  34.6779,2,    134.5,2,   135.1,2,  160.45,6,   36.84,6,       0,6,    2.53,6,   0.008,2,   0.005,2,       0,2,    2337,2,  2422.2,2,   7.5444,2,    25.01,-999.000,9,-999.0000,9, -999.00,9,  -999.0,9,  -999.0,-999.0000,9,-999.0000,    40.6,2,     22.215,3,-999.000,9, 20150621,     0521,-999.000,   1.4755,2,    34.8414,6,     -999.0,9,     -999.0,-999.0000,     -999.0,     -999.0,9,     -999.0,     -999.0,9,     -999.0,  -999.0,9,     -999.0,     -999.0,9,     -999.0
33RO20150525,     P16N.2,     197,          1,          1,          1,2,20150621,       0513,      55.16,  -144.8109,       4019,  4080.3,   1.4637,  34.6859,2,   34.684,2,    144.5,2,   144.6,2,  157.62,6,   36.25,6,       0,6,    2.49,6,   0.005,2,   0.003,2,       0,2,  2330.8,6,  2421.4,6,   7.5605,2,    25.01,-999.000,9,-999.0000,9, -999.00,9,  -999.0,9,  -999.0,-999.0000,9,-999.0000,    40.0,2,     21.270,3,-999.000,9, 20150621,     0513,-999.000,   1.4634,2,    34.8475,2,     -999.0,9,     -999.0,-999.0000,     -999.0,     -999.0,9,     -999.0,     -999.0,9,     -999.0,  -999.0,9,     -999.0,     -999.0,9,     -999.0