BOTTLE,20220330CCHSIOCBG
EXPOCODE,SECT_ID,STNNBR,CASTNO,SAMPNO,BTLNBR,BTLNBR_FLAG_W,DATE,TIME,LATITUDE,LONGITUDE,DEPTH,CTDPRS,CTDTMP,CTDSAL,CTDSAL_FLAG_W,SALNTY,SALNTY_FLAG_W,CTDOXY,CTDOXY_FLAG_W,OXYGEN,OXYGEN_FLAG_W,SILCAT,SILCAT_FLAG_W,NITRAT,NITRAT_FLAG_W,NITRIT,NITRIT_FLAG_W,PHSPHT,PHSPHT_FLAG_W,CFC-11,CFC-11_FLAG_W,CFC-12,CFC-12_FLAG_W,SF6,SF6_FLAG_W,TCARBN,TCARBN_FLAG_W,ALKALI,ALKALI_FLAG_W,PH_TOT,PH_TOT_FLAG_W,PH_TMP,TRITUM,TRITUM_FLAG_W,HELIUM,HELIUM_FLAG_W,DELC13,DELC13_FLAG_W,DELC14,DELC14_FLAG_W,C14ERR,NEON,NEON_FLAG_W,NEONER,DOC,DOC_FLAG_W,N2O,N2O_FLAG_W,ARGON,ARGON_FLAG_W,BTL_DATE,BTL_TIME,TRITER,SBE35,SBE35_FLAG_W,SALTREF,SALTREF_FLAG_W,DELHE3,DELHE3_FLAG_W,DELHER,HELIER,ARGONER,KRYPTON,KRYPTON_FLAG_W,KRYPTONER,XENON,XENON_FLAG_W,XENONER,14C-DOC,14C-DOC_FLAG_W,14C-DOCERR,13C-DOC,13C-DOC_FLAG_W,13C-DOCERR
,,,,,,,,,,,METERS,DBAR,ITS-90,PSS-78,,PSS-78,,UMOL/KG,,UMOL/KG,,UMOL/KG,,UMOL/KG,,UMOL/KG,,UMOL/KG,,PMOL/KG,,PMOL/KG,,FMOL/KG,,UMOL/KG,,UMOL/KG,,,,DEG C,TU,,NMOL/KG,,/MILLE,,/MILLE,,/MILLE,NMOL/KG,,NMOL/KG,UMOL/KG,,NMOL/KG,,UMOL/KG,,,,TU,ITS-90,,G/KG,,PERCNT,,PERCNT,NMOL/KG,UMOL/KG,NMOL/KG,,NMOL/KG,NMOL/KG,,NMOL/KG,/MILLE,,/MILLE,/MILLE,,/MILLE
33RO20150525,     P16N.2,     159,          1,         24,         24,2,20150610,       2040,       45.5,       -152,       5295,       3,  10.8401,  32.8859,2,  32.8844,2,    284.9,2,   285.4,2,   12.33,2,    8.81,2,     0.1,2,    0.94,2,    3.69,2,   2.058,2,   2.383,2,  2032.6,2,  2206.2,2,   7.8162,6,    25.02,-999.000,9,-999.0000,9,    1.06,2,    -8.9,2,     2.5,-999.0000,9,-999.0000,    55.2,2,     10.909,3,-999.000,9, 20150610,     2247,-999.000,  10.8416,2,    33.0395,2,     -999.0,9,     -999.0,-999.0000,     -999.0,     -999.0,9,     -999.0,     -999.0,9,     -999.0,  -999.0,9,     -999.0,     -999.0,9,     -999.0
33RO20150525,     P16N.2,     159,          1,         23,         23,2,20150610,       2040,       45.5,       -152,       5295,    33.2,   8.6513,  32.9351,2,  32.9403,2,    303.5,2,   302.2,2,   12.82,2,     9.3,2,    0.07,2,    0.96,2,   3.999,2,   2.237,2,   2.626,2,  2042.4,2,  2209.1,2,   7.8052,2,    25.02,-999.000,9,-999.0000,9,    1.09,2,    -7.8,2,     2.3,-999.0000,9,-999.0000,    53.3,2,     11.600,3,-999.000,9, 20150610,     2245,-999.000,   8.6989,2,    33.0956,2,     -999.0,9,     -999.0,-999.0000,     -999.0,     -999.0,9,     -999.0,     -999.0,9,     -999.0,  -999.0,9,     -999.0,     -999.0,9,     -999.0
33RO20150525,     P16N.2,     159,          1,         22,         22,2,20150610,       2040,       45.5,       -152,       5295,    57.4,   7.8772,  33.0019,2,  33.0026,2,    296.8,2,   293.6,2,   11.25,2,     9.2,2,     0.1,2,    0.95,2,   4.048,2,   2.249,2,   2.565,2,  2046.4,2,  2211.1,6,   7.7926,2,    25.01,-999.000,9,-999.0000,9,    0.80,2,   -10.0,2,     3.6,-999.0000,9,-999.0000,    53.6,2,     11.690,3,-999.000,9, 20150610,     2243,-999.000,   7.9152,2,    33.1582,2,     -999.0,9,     -999.0,-999.0000,     -999.0,     -999.0,9,     -999.0,     -999.0,9,     -999.0,  -999.0,9,     -999.0,     -999.0,9,     -999.0
33RO20150525,     P16N.2,     159,          1,         21,         21,2,20150610,       2040,       45.5,       -152,       5295,    82.4,   7.1091,  32.9808,2,  32.9848,2,      291,2,   294.2,2,   14.87,2,   11.45,2,    0.12,2,    1.12,2,    4.16,2,   2.329,2,   2.729,2,  2058.9,2,  2212.7,2,   7.7694,2,    25.02,-999.000,9,-999.0000,9,    0.74,2,   -13.3,2,     2.1,-999.0000,9,-999.0000,    52.5,2,     12.156,3,-999.000,9, 20150610,     2241,-999.000,   7.1031,2,    33.1403,2,     -999.0,9,     -999.0,-999.0000,     -999.0,     -999.0,9,     -999.0,     -999.0,9,     -999.0,  -999.0,9,     -999.0,     -999.0,9,     -999.0
33RO20150525,     P16N.2,     159,          1,         20,         20,2,20150610,       2040,       45.5,       -152,       5295,   116.3,   7.5418,  33.7677,2,  33.7654,2,    239.6,2,   240.8,2,   22.69,2,   17.12,2,    0.01,2,    1.28,2,   3.866,2,   2.149,2,   2.277,2,  2118.2,2,  2250.2,2,   7.7016,6,    25.01,-999.000,9,-999.0000,9,    0.04,2,     2.2,2,     2.0,-999.0000,9,-999.0000,    49.2,2,     15.310,3,-999.000,9, 20150610,     2239,-999.000,   7.5473,2,    33.9247,2,     -999.0,9,     -999.0,-999.0000,     -999.0,     -999.0,9,     -999.0,     -999.0,9,     -999.0,  -999.0,9,     -999.0,     -999.0,9,     -999.0
33RO20150525,     P16N.2,     159,          1,         19,         19,2,20150610,       2040,       45.5,       -152,       5295,   174.8,   6.6526,  33.8486,2,  33.8463,2,    205.7,2,     207,2,   35.99,2,   22.49,2,    0.01,2,    1.63,2,   3.652,2,   1.986,2,   1.855,2,  2158.8,2,  2263.9,2,   7.6262,6,    25.02,-999.000,9,-999.0000,9,   -0.12,2,   -20.1,2,     2.2,-999.0000,9,-999.0000,    49.2,2,     20.986,3,-999.000,9, 20150610,     2236,-999.000,   6.6612,2,    34.0059,2,     -999.0,9,     -999.0,-999.0000,     -999.0,     -999.0,9,     -999.0,     -999.0,9,     -999.0,  -999.0,9,     -999.0,     -999.0,9,     -999.0
33RO20150525,     P16N.2,     159,          1,         18,         18,2,20150610,       2040,       45.5,       -152,       5295,   249.5,   5.5522,  33.8688,2,  33.8675,2,      145,2,   146.4,2,   55.74,2,   30.12,2,    0.01,2,    2.16,2,   3.171,2,   1.671,2,   1.236,2,  2214.6,2,  2278.8,2,   7.4939,2,    25.01,-999.000,9,-999.0000,9,   -0.32,2,   -53.3,2,     2.1,-999.0000,9,-999.0000,    47.0,2,     28.078,3,-999.000,9, 20150610,     2233,-999.000,   5.5547,2,    34.0272,2,     -999.0,9,     -999.0,-999.0000,     -999.0,     -999.0,9,     -999.0,     -999.0,9,     -999.0,  -999.0,9,     -999.0,     -999.0,9,     -999.0
33RO20150525,     P16N.2,     159,          1,         17,         17,2,20150610,       2040,       45.5,       -152,       5295,   333.7,   4.7543,  33.8867,2,  33.8874,2,    112.8,2,     113,2,   69.44,2,   34.82,2,       0,2,    2.45,2,   2.799,2,   1.451,2,   0.957,2,  2250.8,2,  2288.3,2,   7.4086,2,    25.01,-999.000,9,-999.0000,9,   -0.52,2,   -74.8,2,     3.3,-999.0000,9,-999.0000,    45.1,2,     31.248,3,-999.000,9, 20150610,     2230,-999.000,   4.7535,2,    34.0472,2,     -999.0,9,     -999.0,-999.0000,     -999.0,     -999.0,9,     -999.0,     -999.0,9,     -999.0,  -999.0,9,     -999.0,     -999.0,9,     -999.0
33RO20150525,     P16N.2,     159,          1,         16,         16,2,20150610,       2040,       45.5,       -152,       5295,   431.9,   4.3258,  33.9839,2,  33.9821,2,     78.4,2,    77.3,2,   84.78,2,   38.63,2,    0.01,2,    2.71,2,   2.082,6,   1.064,6,   0.645,6,  2286.2,2,  2304.9,2,   7.3498,2,    25.01,-999.000,9,-999.0000,9,   -0.66,2,  -102.0,2,     2.0,-999.0000,9,-999.0000,    45.6,2,     36.201,3,-999.000,9, 20150610,     2227,-999.000,   4.3253,2,    34.1423,6,     -999.0,9,     -999.0,-999.0000,     -999.0,     -999.0,9,     -999.0,     -999.0,9,     -999.0,  -999.0,9,     -999.0,     -999.0,9,     -999.0
33RO20150525,     P16N.2,     159,          1,         15,         15,2,20150610,       2040,       45.5,       -152,       5295,   549.1,   4.0113,  34.0966,2,  34.0943,2,     48.7,2,    28.4,4,  100.23,2,   41.17,2,       0,2,    2.89,2,   1.349,2,   0.667,2,   0.378,2,    2319,2,  2322.5,2,   7.3108,2,       25,-999.000,9,-999.0000,9,   -0.72,2,  -132.2,2,     1.8,-999.0000,9,-999.0000,    42.5,2,     40.865,3,-999.000,9, 20150610,     2223,-999.000,   4.0115,2,     34.255,2,     -999.0,9,     -999.0,-999.0000,     -999.0,     -999.0,9,     -999.0,     -999.0,9,     -999.0,  -999.0,9,     -999.0,     -999.0,9,     -999.0
33RO20150525,     P16N.2,     159,          1,         14,         14,2,20150610,       2040,       45.5,       -152,       5295,   699.5,   3.6683,    34.22,2,  34.2183,2,     29.1,2,    28.8,2,  116.25,2,   42.82,2,       0,2,    2.99,2,-999.000,9,-999.000,9,-999.000,9,  2343.4,2,  2344.6,2,   7.2943,2,    25.02,-999.000,9,-999.0000,9,   -0.78,2,  -165.8,2,     1.7,-999.0000,9,-999.0000,    43.2,2,     -999.0,9,-999.000,9, 20150610,     2219,-999.000,   3.6685,2,    34.3796,2,     -999.0,9,     -999.0,-999.0000,     -999.0,     -999.0,9,     -999.0,     -999.0,9,     -999.0,  -999.0,9,     -999.0,     -999.0,9,     -999.0
33RO20150525,     P16N.2,     159,          1,         13,         13,2,20150610,       2040,       45.5,       -152,       5295,   849.7,   3.3124,  34.3024,2,  34.3016,2,     20.9,2,      20,2,  128.95,2,    43.7,2,       0,2,    3.05,2,   0.251,2,   0.119,2,   0.046,2,  2365.9,2,  2360.2,2,   7.2892,2,    25.02,-999.000,9,-999.0000,9,   -0.87,2,  -189.4,2,     2.0,-999.0000,9,-999.0000,    41.1,2,     46.099,3,-999.000,9, 20150610,     2215,-999.000,   3.3121,2,    34.4634,2,     -999.0,9,     -999.0,-999.0000,     -999.0,     -999.0,9,     -999.0,     -999.0,9,     -999.0,  -999.0,9,     -999.0,     -999.0,9,     -999.0
33RO20150525,     P16N.2,     159,          1,         12,         12,2,20150610,       2040,       45.5,       -152,       5295,    1000,    3.022,  34.3623,2,  34.3599,2,     17.5,2,    17.7,2,  138.72,2,   44.19,2,       0,2,    3.08,2,-999.000,9,-999.000,9,-999.000,9,  2377.5,2,  2372.2,2,   7.2907,2,    25.02,-999.000,9,-999.0000,9,   -0.83,2,  -203.2,2,     2.1,-999.0000,9,-999.0000,    39.8,2,     -999.0,9,-999.000,9, 20150610,     2211,-999.000,   3.0217,2,     34.522,2,     -999.0,9,     -999.0,-999.0000,     -999.0,     -999.0,9,     -999.0,     -999.0,9,     -999.0,  -999.0,9,     -999.0,     -999.0,9,     -999.0
33RO20150525,     P16N.2,     159,          1,         11,         11,2,20150610,       2040,       45.5,       -152,       5295,  1168.1,   2.7525,  34.4195,2,   34.417,2,     14.8,2,    14.5,2,  148.49,2,   44.58,2,       0,2,     3.1,2,-999.000,9,-999.000,9,-999.000,9,  2389.8,2,  2385.4,2,   7.2907,2,    25.03,-999.000,9,-999.0000,9,   -0.81,2,  -222.3,2,     1.6,-999.0000,9,-999.0000,    40.2,2,     -999.0,9,-999.000,9, 20150610,     2207,-999.000,   2.7519,2,    34.5793,2,     -999.0,9,     -999.0,-999.0000,     -999.0,     -999.0,9,     -999.0,     -999.0,9,     -999.0,  -999.0,9,     -999.0,     -999.0,9,     -999.0
33RO20150525,     P16N.2,     159,          1,         10,         10,2,20150610,       2040,       45.5,       -152,       5295,    1400,   2.4945,  34.4792,2,  34.4797,2,     15.5,2,    14.4,2,  157.38,2,   44.87,2,       0,2,    3.09,2,-999.000,9,-999.000,9,-999.000,9,  2396.1,2,  2396.8,2,   7.2975,2,    25.02,-999.000,9,-999.0000,9,   -0.80,2,  -228.2,2,     1.9,-999.0000,9,-999.0000,    39.0,2,     -999.0,9,-999.000,9, 20150610,     2201,-999.000,   2.4945,2,    34.6423,2,     -999.0,9,     -999.0,-999.0000,     -999.0,     -999.0,9,     -999.0,     -999.0,9,     -999.0,  -999.0,9,     -999.0,     -999.0,9,     -999.0
33RO20150525,     P16N.2,     159,          1,          9,          9,2,20150610,       2040,       45.5,       -152,       5295,  1732.9,   2.1285,  34.5531,2,  34.5836,4,     33.9,2,    33.1,2,  166.86,2,   43.79,2,       0,2,    3.01,2,-999.000,9,-999.000,9,-999.000,9,  2397.6,2,    2411,2,   7.3405,2,       25,-999.000,9,-999.0000,9,   -0.73,2,  -238.6,2,     1.9,-999.0000,9,-999.0000,    39.3,2,     -999.0,9,-999.000,9, 20150610,     2154,-999.000,    2.129,2,    34.7467,2,     -999.0,9,     -999.0,-999.0000,     -999.0,     -999.0,9,     -999.0,     -999.0,9,     -999.0,  -999.0,9,     -999.0,     -999.0,9,     -999.0
33RO20150525,     P16N.2,     159,          1,          8,          8,2,20150610,       2040,       45.5,       -152,       5295,    2133,   1.8868,   34.601,2,  34.5997,2,     58.3,2,    57.4,2,  171.74,2,   42.23,2,       0,2,     2.9,2,-999.000,9,-999.000,9,-999.000,9,  2388.5,2,  2417.8,2,   7.3923,6,    25.01,-999.000,9,-999.0000,9,   -0.60,2,  -248.0,2,     1.7,-999.0000,9,-999.0000,    38.3,2,     -999.0,9,-999.000,9, 20150610,     2146,-999.000,   1.8866,2,    34.7628,2,     -999.0,9,     -999.0,-999.0000,     -999.0,     -999.0,9,     -999.0,     -999.0,9,     -999.0,  -999.0,9,     -999.0,     -999.0,9,     -999.0
33RO20150525,     P16N.2,     159,          1,          7,          7,2,20150610,       2040,       45.5,       -152,       5295,    2533,   1.7191,  34.6329,2,  34.6361,2,     81.1,2,    80.4,2,  171.15,2,   40.86,2,       0,2,     2.8,2,-999.000,9,-999.000,9,-999.000,9,  2375.7,2,  2422.6,2,   7.4396,2,       25,-999.000,9,-999.0000,9,   -0.48,2,  -251.5,2,     1.6,-999.0000,9,-999.0000,    37.9,2,     -999.0,9,-999.000,9, 20150610,     2137,-999.000,   1.7192,2,    34.7994,2,     -999.0,9,     -999.0,-999.0000,     -999.0,     -999.0,9,     -999.0,     -999.0,9,     -999.0,  -999.0,9,     -999.0,     -999.0,9,     -999.0
33RO20150525,     P16N.2,     159,          1,          6,          6,2,20150610,       2040,       45.5,       -152,       5295,  2966.6,   1.5885,  34.6553,2,  34.6542,2,    104.5,2,     104,2,  167.14,2,   39.29,2,       0,2,     2.7,2,-999.000,9,-999.000,9,-999.000,9,  2358.8,2,    2422,2,   7.4852,2,    25.02,-999.000,9,-999.0000,9,   -0.35,2,  -249.3,2,     1.5,-999.0000,9,-999.0000,    38.0,2,     -999.0,9,-999.000,9, 20150610,     2128,-999.000,   1.5882,2,    34.8176,2,     -999.0,9,     -999.0,-999.0000,     -999.0,     -999.0,9,     -999.0,     -999.0,9,     -999.0,  -999.0,9,     -999.0,     -999.0,9,     -999.0
33RO20150525,     P16N.2,     159,          1,          5,          5,2,20150610,       2040,       45.5,       -152,       5295,  3467.1,   1.4981,  34.6731,2,  34.6717,2,    126.9,2,   127.2,2,  161.37,2,   37.63,2,       0,2,    2.57,2,-999.000,9,-999.000,9,-999.000,9,  2343.9,2,  2422.6,2,   7.5306,6,       25,-999.000,9,-999.0000,9,   -0.18,2,  -239.3,2,     1.5,-999.0000,9,-999.0000,    38.7,2,     -999.0,9,-999.000,9, 20150610,     2119,-999.000,    1.498,2,    34.8352,2,     -999.0,9,     -999.0,-999.0000,     -999.0,     -999.0,9,     -999.0,     -999.0,9,     -999.0,  -999.0,9,     -999.0,     -999.0,9,     -999.0
33RO20150525,     P16N.2,     159,          1,          4,          4,2,20150610,       2040,       45.5,       -152,       5295,  3966.8,    1.477,   34.683,2,   34.682,2,      139,2,   138.8,2,  161.95,6,   36.85,6,       0,6,    2.53,6,-999.000,9,-999.000,9,-999.000,9,  2339.1,2,  2425.4,2,    7.556,2,       25,-999.000,9,-999.0000,9,   -0.10,2,  -227.9,2,     1.7,-999.0000,9,-999.0000,    39.0,2,     -999.0,9,-999.000,9, 20150610,     2109,-999.000,   1.4772,2,    34.8455,6,     -999.0,9,     -999.0,-999.0000,     -999.0,     -999.0,9,     -999.0,     -999.0,9,     -999.0,  -999.0,9,     -999.0,     -999.0,9,     -999.0
33RO20150525,     P16N.2,     159,          1,          3,          3,2,20150610,       2040,       45.5,       -152,       5295,  4468.7,   1.5089,  34.6871,2,  34.6988,4,      143,2,   141.9,2,  164.98,6,   36.85,6,       0,6,     2.5,6,-999.000,9,-999.000,9,-999.000,9,  2339.4,2,  2430.2,6,   7.5663,2,    25.01,-999.000,9,-999.0000,9,   -0.11,2,  -226.9,2,     1.6,-999.0000,9,-999.0000,    39.1,2,     -999.0,9,-999.000,9, 20150610,     2059,-999.000,   1.5089,2,    34.8624,2,     -999.0,9,     -999.0,-999.0000,     -999.0,     -999.0,9,     -999.0,     -999.0,9,     -999.0,  -999.0,9,     -999.0,     -999.0,9,     -999.0
33RO20150525,     P16N.2,     159,          1,          2,          2,2,20150610,       2040,       45.5,       -152,       5295,  4967.6,   1.5647,  34.6882,2,   34.687,2,    143.3,2,   142.9,2,  166.55,6,   36.75,6,       0,6,    2.51,6,-999.000,9,-999.000,9,-999.000,9,    2339,2,  2432.2,2,   7.5687,2,    25.01,-999.000,9,-999.0000,9,   -0.07,2,  -217.3,2,     1.8,-999.0000,9,-999.0000,    38.0,2,     -999.0,9,-999.000,9, 20150610,     2049,-999.000,   1.5646,2,    34.8506,2,     -999.0,9,     -999.0,-999.0000,     -999.0,     -999.0,9,     -999.0,     -999.0,9,     -999.0,  -999.0,9,     -999.0,     -999.0,9,     -999.0
33RO20150525,     P16N.2,     159,          1,          1,          1,2,20150610,       2040,       45.5,       -152,       5295,    5389,   1.6164,  34.6888,2,  34.6902,2,    143.7,2,   143.5,2,  166.55,6,   36.85,6,       0,6,     2.5,6,-999.000,9,-999.000,9,-999.000,9,  2336.6,6,  2430.8,2,   7.5699,6,    25.01,-999.000,9,-999.0000,9,   -0.04,2,  -215.5,2,     1.9,-999.0000,9,-999.0000,    38.4,2,     -999.0,9,-999.000,9, 20150610,     2040,-999.000,   1.6164,2,    34.8538,2,     -999.0,9,     -999.0,-999.0000,     -999.0,     -999.0,9,     -999.0,     -999.0,9,     -999.0,  -999.0,9,     -999.0,     -999.0,9,     -999.0