BOTTLE,20220330CCHSIOCBG
EXPOCODE,SECT_ID,STNNBR,CASTNO,SAMPNO,BTLNBR,BTLNBR_FLAG_W,DATE,TIME,LATITUDE,LONGITUDE,DEPTH,CTDPRS,CTDTMP,CTDSAL,CTDSAL_FLAG_W,SALNTY,SALNTY_FLAG_W,CTDOXY,CTDOXY_FLAG_W,OXYGEN,OXYGEN_FLAG_W,SILCAT,SILCAT_FLAG_W,NITRAT,NITRAT_FLAG_W,NITRIT,NITRIT_FLAG_W,PHSPHT,PHSPHT_FLAG_W,CFC-11,CFC-11_FLAG_W,CFC-12,CFC-12_FLAG_W,SF6,SF6_FLAG_W,TCARBN,TCARBN_FLAG_W,ALKALI,ALKALI_FLAG_W,PH_TOT,PH_TOT_FLAG_W,PH_TMP,TRITUM,TRITUM_FLAG_W,HELIUM,HELIUM_FLAG_W,DELC13,DELC13_FLAG_W,DELC14,DELC14_FLAG_W,C14ERR,NEON,NEON_FLAG_W,NEONER,DOC,DOC_FLAG_W,N2O,N2O_FLAG_W,ARGON,ARGON_FLAG_W,BTL_DATE,BTL_TIME,TRITER,SBE35,SBE35_FLAG_W,SALTREF,SALTREF_FLAG_W,DELHE3,DELHE3_FLAG_W,DELHER,HELIER,ARGONER,KRYPTON,KRYPTON_FLAG_W,KRYPTONER,XENON,XENON_FLAG_W,XENONER,14C-DOC,14C-DOC_FLAG_W,14C-DOCERR,13C-DOC,13C-DOC_FLAG_W,13C-DOCERR
,,,,,,,,,,,METERS,DBAR,ITS-90,PSS-78,,PSS-78,,UMOL/KG,,UMOL/KG,,UMOL/KG,,UMOL/KG,,UMOL/KG,,UMOL/KG,,PMOL/KG,,PMOL/KG,,FMOL/KG,,UMOL/KG,,UMOL/KG,,,,DEG C,TU,,NMOL/KG,,/MILLE,,/MILLE,,/MILLE,NMOL/KG,,NMOL/KG,UMOL/KG,,NMOL/KG,,UMOL/KG,,,,TU,ITS-90,,G/KG,,PERCNT,,PERCNT,NMOL/KG,UMOL/KG,NMOL/KG,,NMOL/KG,NMOL/KG,,NMOL/KG,/MILLE,,/MILLE,/MILLE,,/MILLE
33RO20150525,     P16N.2,     141,          1,         24,         24,2,20150605,       0203,    36.5001,  -151.9998,       5844,    19.9,   16.327,  34.1289,2,  34.1291,2,    252.7,2,   252.2,2,    5.18,2,       0,2,       0,2,    0.11,2,   2.689,2,   1.568,2,   1.969,2,  2016.2,6,    2246,2,   7.9282,2,    24.98,-999.000,9,-999.0000,9, -999.00,9,  -999.0,9,  -999.0,-999.0000,9,-999.0000,    60.8,2,      8.709,3,-999.000,9, 20150605,     0443,-999.000,  16.3172,2,      34.29,2,     -999.0,9,     -999.0,-999.0000,     -999.0,     -999.0,9,     -999.0,     -999.0,9,     -999.0,  -999.0,9,     -999.0,     -999.0,9,     -999.0
33RO20150525,     P16N.2,     141,          1,         23,         23,2,20150605,       0203,    36.5001,  -151.9998,       5844,    40.4,  13.8071,  34.1098,2,  34.1091,2,    281.5,2,   278.2,2,    5.47,2,    0.29,2,    0.02,2,    0.14,2,-999.000,9,-999.000,9,-999.000,9,  2019.7,2,  2246.4,6,    7.924,2,    24.98,-999.000,9,-999.0000,9, -999.00,9,  -999.0,9,  -999.0,-999.0000,9,-999.0000,    59.6,2,     -999.0,9,-999.000,9, 20150605,     0441,-999.000,  13.7583,2,    34.2699,2,     -999.0,9,     -999.0,-999.0000,     -999.0,     -999.0,9,     -999.0,     -999.0,9,     -999.0,  -999.0,9,     -999.0,     -999.0,9,     -999.0
33RO20150525,     P16N.2,     141,          1,         22,         22,2,20150605,       0203,    36.5001,  -151.9998,       5844,    70.8,  12.6655,  34.1262,2,  34.1254,2,      267,2,   262.1,2,    6.16,2,    2.54,2,    0.17,2,    0.32,2,   3.093,2,   1.733,2,   2.017,2,  2035.4,2,  2249.5,2,   7.8929,2,    24.97,-999.000,9,-999.0000,9, -999.00,9,  -999.0,9,  -999.0,-999.0000,9,-999.0000,    59.6,2,     10.367,3,-999.000,9, 20150605,     0435,-999.000,  12.6612,2,    34.2863,2,     -999.0,9,     -999.0,-999.0000,     -999.0,     -999.0,9,     -999.0,     -999.0,9,     -999.0,  -999.0,9,     -999.0,     -999.0,9,     -999.0
33RO20150525,     P16N.2,     141,          1,         21,         21,2,20150605,       0203,    36.5001,  -151.9998,       5844,   109.5,  11.7604,  34.0253,2,  34.0264,2,    253.4,2,     255,2,    6.84,2,     4.3,2,    0.66,2,    0.44,2,   3.228,2,   1.822,2,   2.186,2,  2046.7,2,  2245.1,2,   7.8608,2,    25.01,-999.000,9,-999.0000,9, -999.00,9,  -999.0,9,  -999.0,-999.0000,9,-999.0000,    61.0,2,     10.843,3,-999.000,9, 20150605,     0432,-999.000,  11.7574,2,    34.1869,2,     -999.0,9,     -999.0,-999.0000,     -999.0,     -999.0,9,     -999.0,     -999.0,9,     -999.0,  -999.0,9,     -999.0,     -999.0,9,     -999.0
33RO20150525,     P16N.2,     141,          1,         20,         20,2,20150605,       0203,    36.5001,  -151.9998,       5844,   174.4,  11.5469,   34.219,2,  34.2156,2,    224.5,2,   223.2,2,   11.92,2,   11.14,2,    0.03,2,    0.81,2,    3.16,2,   1.809,2,   1.928,2,  2083.5,2,  2258.5,2,   7.8043,6,       25,-999.000,9,-999.0000,9, -999.00,9,  -999.0,9,  -999.0,-999.0000,9,-999.0000,    49.2,2,     15.663,3,-999.000,9, 20150605,     0429,-999.000,  11.5386,2,    34.3769,2,     -999.0,9,     -999.0,-999.0000,     -999.0,     -999.0,9,     -999.0,     -999.0,9,     -999.0,  -999.0,9,     -999.0,     -999.0,9,     -999.0
33RO20150525,     P16N.2,     141,          1,         19,         19,2,20150605,       0203,    36.5001,  -151.9998,       5844,   250.8,  10.3397,  34.1399,2,  34.1393,2,    216.1,2,   215.8,2,   16.81,2,   14.46,2,    0.02,2,    1.02,2,   3.274,2,   1.849,2,   1.756,2,  2102.5,2,  2261.1,2,   7.7608,6,       25,-999.000,9,-999.0000,9, -999.00,9,  -999.0,9,  -999.0,-999.0000,9,-999.0000,    51.5,2,     19.528,3,-999.000,9, 20150605,     0427,-999.000,   10.339,2,    34.3003,6,     -999.0,9,     -999.0,-999.0000,     -999.0,     -999.0,9,     -999.0,     -999.0,9,     -999.0,  -999.0,9,     -999.0,     -999.0,9,     -999.0
33RO20150525,     P16N.2,     141,          1,         18,         18,2,20150605,       0203,    36.5001,  -151.9998,       5844,   332.8,   9.0464,  34.0805,2,  34.0788,2,    194.9,2,   194.8,2,   26.29,2,   19.35,2,    0.01,2,    1.35,2,   3.254,2,    1.79,2,   1.522,2,  2135.1,2,  2266.5,2,   7.6935,2,    24.99,-999.000,9,-999.0000,9, -999.00,9,  -999.0,9,  -999.0,-999.0000,9,-999.0000,    49.4,2,     22.348,3,-999.000,9, 20150605,     0424,-999.000,   9.0355,2,    34.2395,2,     -999.0,9,     -999.0,-999.0000,     -999.0,     -999.0,9,     -999.0,     -999.0,9,     -999.0,  -999.0,9,     -999.0,     -999.0,9,     -999.0
33RO20150525,     P16N.2,     141,          1,         17,         17,2,20150605,       0203,    36.5001,  -151.9998,       5844,   433.6,   7.1806,  34.0021,2,  34.0006,2,    154.6,2,   154.4,2,    43.3,2,   26.68,2,    0.01,2,    1.88,2,   3.012,2,   1.586,2,   1.074,2,  2189.6,2,  2277.3,2,    7.575,2,    24.97,-999.000,9,-999.0000,9, -999.00,9,  -999.0,9,  -999.0,-999.0000,9,-999.0000,    54.2,2,     27.608,3,-999.000,9, 20150605,     0420,-999.000,   7.1619,2,    34.1609,2,     -999.0,9,     -999.0,-999.0000,     -999.0,     -999.0,9,     -999.0,     -999.0,9,     -999.0,  -999.0,9,     -999.0,     -999.0,9,     -999.0
33RO20150525,     P16N.2,     141,          1,         16,         16,2,20150605,       0203,    36.5001,  -151.9998,       5844,   549.5,   5.5763,  33.9919,2,  33.9908,2,    103.6,2,   103.8,2,   64.99,2,   34.21,2,    0.01,2,    2.41,2,   2.276,2,   1.128,2,   0.595,2,  2244.1,2,    2292,2,   7.4449,6,    25.01,-999.000,9,-999.0000,9, -999.00,9,  -999.0,9,  -999.0,-999.0000,9,-999.0000,    49.3,2,     34.222,3,-999.000,9, 20150605,     0415,-999.000,   5.5781,2,    34.1511,2,     -999.0,9,     -999.0,-999.0000,     -999.0,     -999.0,9,     -999.0,     -999.0,9,     -999.0,  -999.0,9,     -999.0,     -999.0,9,     -999.0
33RO20150525,     P16N.2,     141,          1,         15,         15,2,20150605,       0203,    36.5001,  -151.9998,       5844,   700.1,   4.4652,     34.1,2,  34.0989,2,     55.5,2,    55.1,2,   91.38,2,   40.17,2,    0.01,2,    2.83,2,   1.216,2,   0.573,2,   0.247,2,  2304.5,2,  2318.2,2,   7.3426,2,       25,-999.000,9,-999.0000,9, -999.00,9,  -999.0,9,  -999.0,-999.0000,9,-999.0000,    49.2,2,     41.560,3,-999.000,9, 20150605,     0411,-999.000,   4.4645,2,    34.2597,2,     -999.0,9,     -999.0,-999.0000,     -999.0,     -999.0,9,     -999.0,     -999.0,9,     -999.0,  -999.0,9,     -999.0,     -999.0,9,     -999.0
33RO20150525,     P16N.2,     141,          1,         14,         14,2,20150605,       0203,    36.5001,  -151.9998,       5844,   849.2,   3.7916,  34.2179,2,  34.2169,2,     24.3,2,    24.5,2,  112.47,2,   43.29,2,    0.01,2,    3.03,2,   0.373,2,   0.176,2,   0.056,2,  2345.3,2,  2342.7,2,   7.2952,2,       25,-999.000,9,-999.0000,9, -999.00,9,  -999.0,9,  -999.0,-999.0000,9,-999.0000,    40.6,2,     47.380,3,-999.000,9, 20150605,     0406,-999.000,   3.7908,2,    34.3782,2,     -999.0,9,     -999.0,-999.0000,     -999.0,     -999.0,9,     -999.0,     -999.0,9,     -999.0,  -999.0,9,     -999.0,     -999.0,9,     -999.0
33RO20150525,     P16N.2,     141,          1,         13,         13,2,20150605,       0203,    36.5001,  -151.9998,       5844,   999.5,   3.3049,  34.3152,2,  34.3145,2,      9.7,2,     9.3,2,  129.18,2,   44.75,2,    0.01,2,    3.13,2,-999.000,9,-999.000,9,-999.000,9,  2370.7,6,  2363.8,2,   7.2766,2,    25.01,-999.000,9,-999.0000,9, -999.00,9,  -999.0,9,  -999.0,-999.0000,9,-999.0000,    43.4,2,     -999.0,9,-999.000,9, 20150605,     0402,-999.000,   3.3061,2,    34.4764,2,     -999.0,9,     -999.0,-999.0000,     -999.0,     -999.0,9,     -999.0,     -999.0,9,     -999.0,  -999.0,9,     -999.0,     -999.0,9,     -999.0
33RO20150525,     P16N.2,     141,          1,         12,         12,2,20150605,       0203,    36.5001,  -151.9998,       5844,  1299.7,    2.797,  34.4632,2,  34.4621,2,     13.6,2,    11.9,2,  146.65,2,   45.04,2,       0,2,    3.15,2,   0.001,2,   0.002,2,       0,2,    2389,2,  2390.2,2,   7.2983,6,    24.99,-999.000,9,-999.0000,9, -999.00,9,  -999.0,9,  -999.0,-999.0000,9,-999.0000,    42.0,2,     51.235,3,-999.000,9, 20150605,     0356,-999.000,   2.7969,2,    34.6246,2,     -999.0,9,     -999.0,-999.0000,     -999.0,     -999.0,9,     -999.0,     -999.0,9,     -999.0,  -999.0,9,     -999.0,     -999.0,9,     -999.0
33RO20150525,     P16N.2,     141,          1,         11,         11,2,20150605,       0203,    36.5001,  -151.9998,       5844,  1599.8,   2.4346,  34.5466,2,  34.5473,2,     34.7,2,    34.5,2,  154.85,2,   43.77,2,    0.01,2,    3.05,2,-999.000,9,-999.000,9,-999.000,9,  2388.3,2,  2404.4,2,   7.3503,2,    24.98,-999.000,9,-999.0000,9, -999.00,9,  -999.0,9,  -999.0,-999.0000,9,-999.0000,    42.0,2,     -999.0,9,-999.000,9, 20150605,     0349,-999.000,   2.4344,2,    34.7102,2,     -999.0,9,     -999.0,-999.0000,     -999.0,     -999.0,9,     -999.0,     -999.0,9,     -999.0,  -999.0,9,     -999.0,     -999.0,9,     -999.0
33RO20150525,     P16N.2,     141,          1,         10,         10,2,20150605,       0203,    36.5001,  -151.9998,       5844,  1933.3,   2.0558,  34.6014,2,  34.6018,2,     62.3,2,    62.2,2,  162.95,2,   42.01,2,    0.01,2,    2.93,2,-999.000,9,-999.000,9,-999.000,9,  2380.2,2,    2417,2,   7.4092,2,       25,-999.000,9,-999.0000,9, -999.00,9,  -999.0,9,  -999.0,-999.0000,9,-999.0000,    37.2,2,     -999.0,9,-999.000,9, 20150605,     0342,-999.000,   2.0553,2,    34.7649,2,     -999.0,9,     -999.0,-999.0000,     -999.0,     -999.0,9,     -999.0,     -999.0,9,     -999.0,  -999.0,9,     -999.0,     -999.0,9,     -999.0
33RO20150525,     P16N.2,     141,          1,          9,          9,2,20150605,       0203,    36.5001,  -151.9998,       5844,  2367.1,   1.7789,  34.6348,2,  34.6377,2,     85.5,2,    85.6,2,  166.95,2,   40.54,2,    0.01,2,    2.82,2,-999.000,9,-999.000,9,-999.000,9,  2370.9,2,  2423.8,2,   7.4553,2,    25.01,-999.000,9,-999.0000,9, -999.00,9,  -999.0,9,  -999.0,-999.0000,9,-999.0000,    38.4,2,     -999.0,9,-999.000,9, 20150605,     0333,-999.000,   1.7791,2,    34.8011,2,     -999.0,9,     -999.0,-999.0000,     -999.0,     -999.0,9,     -999.0,     -999.0,9,     -999.0,  -999.0,9,     -999.0,     -999.0,9,     -999.0
33RO20150525,     P16N.2,     141,          1,          8,          8,2,20150605,       0203,    36.5001,  -151.9998,       5844,  2866.3,   1.5822,  34.6573,2,  34.6574,2,      110,2,   109.7,2,  162.06,2,   39.07,2,       0,2,    2.69,2,       0,2,   0.001,2,       0,2,  2353.7,2,  2424.2,2,      7.5,2,    25.01,-999.000,9,-999.0000,9, -999.00,9,  -999.0,9,  -999.0,-999.0000,9,-999.0000,    36.6,2,     25.784,3,-999.000,9, 20150605,     0323,-999.000,    1.582,2,    34.8208,2,     -999.0,9,     -999.0,-999.0000,     -999.0,     -999.0,9,     -999.0,     -999.0,9,     -999.0,  -999.0,9,     -999.0,     -999.0,9,     -999.0
33RO20150525,     P16N.2,     141,          1,          7,          7,2,20150605,       0203,    36.5001,  -151.9998,       5844,  3367.6,   1.5024,  34.6722,2,  34.6726,2,    127.5,2,   127.9,2,  158.25,2,    37.9,2,    0.01,2,     2.6,2,-999.000,9,-999.000,9,-999.000,9,  2342.2,2,  2424.4,2,   7.5349,2,       25,-999.000,9,-999.0000,9, -999.00,9,  -999.0,9,  -999.0,-999.0000,9,-999.0000,    38.4,2,     -999.0,9,-999.000,9, 20150605,     0313,-999.000,   1.5024,2,    34.8361,2,     -999.0,9,     -999.0,-999.0000,     -999.0,     -999.0,9,     -999.0,     -999.0,9,     -999.0,  -999.0,9,     -999.0,     -999.0,9,     -999.0
33RO20150525,     P16N.2,     141,          1,          6,          6,2,20150605,       0203,    36.5001,  -151.9998,       5844,  3866.6,   1.4775,  34.6809,2,  34.6816,2,    139.6,2,   139.8,2,  155.12,2,   37.02,2,    0.01,2,    2.54,2,-999.000,9,-999.000,9,-999.000,9,  2336.1,2,  2424.2,2,   7.5567,2,    25.03,-999.000,9,-999.0000,9, -999.00,9,  -999.0,9,  -999.0,-999.0000,9,-999.0000,    38.6,2,     -999.0,9,-999.000,9, 20150605,     0303,-999.000,   1.4774,2,    34.8451,6,     -999.0,9,     -999.0,-999.0000,     -999.0,     -999.0,9,     -999.0,     -999.0,9,     -999.0,  -999.0,9,     -999.0,     -999.0,9,     -999.0
33RO20150525,     P16N.2,     141,          1,          5,          5,2,20150605,       0203,    36.5001,  -151.9998,       5844,  4366.8,   1.4956,  34.6854,2,  34.6861,2,    145.2,2,   145.6,2,  153.37,2,   36.63,2,       0,2,     2.5,2,-999.000,9,-999.000,9,-999.000,9,  2332.8,2,  2424.2,2,    7.569,6,    24.99,-999.000,9,-999.0000,9, -999.00,9,  -999.0,9,  -999.0,-999.0000,9,-999.0000,    39.2,2,     -999.0,9,-999.000,9, 20150605,     0253,-999.000,   1.4957,2,    34.8497,2,     -999.0,9,     -999.0,-999.0000,     -999.0,     -999.0,9,     -999.0,     -999.0,9,     -999.0,  -999.0,9,     -999.0,     -999.0,9,     -999.0
33RO20150525,     P16N.2,     141,          1,          4,          4,2,20150605,       0203,    36.5001,  -151.9998,       5844,  4867.3,   1.5339,  34.6879,2,  34.6877,2,    150.1,2,   149.4,2,  150.73,6,   36.34,6,       0,6,    2.48,6,-999.000,9,-999.000,9,-999.000,9,    2328,2,  2423.4,2,   7.5765,6,    24.98,-999.000,9,-999.0000,9, -999.00,9,  -999.0,9,  -999.0,-999.0000,9,-999.0000,    37.0,2,     -999.0,9,-999.000,9, 20150605,     0243,-999.000,    1.534,2,    34.8512,2,     -999.0,9,     -999.0,-999.0000,     -999.0,     -999.0,9,     -999.0,     -999.0,9,     -999.0,  -999.0,9,     -999.0,     -999.0,9,     -999.0
33RO20150525,     P16N.2,     141,          1,          3,          3,2,20150605,       0203,    36.5001,  -151.9998,       5844,  5366.2,   1.5819,  34.6902,2,  34.6893,2,    154.1,2,   152.7,2,  146.63,6,   36.05,6,       0,6,    2.45,6,-999.000,9,-999.000,9,-999.000,9,  2326.2,2,  2421.4,6,   7.5807,2,       25,-999.000,9,-999.0000,9, -999.00,9,  -999.0,9,  -999.0,-999.0000,9,-999.0000,    38.0,2,     -999.0,9,-999.000,9, 20150605,     0233,-999.000,    1.582,2,    34.8528,2,     -999.0,9,     -999.0,-999.0000,     -999.0,     -999.0,9,     -999.0,     -999.0,9,     -999.0,  -999.0,9,     -999.0,     -999.0,9,     -999.0
33RO20150525,     P16N.2,     141,          1,          2,          2,2,20150605,       0203,    36.5001,  -151.9998,       5844,  5699.4,   1.6218,  34.6909,2,  34.6895,2,    155.7,2,   153.9,2,  144.96,6,   36.05,6,       0,6,    2.45,6,   0.002,2,   0.003,2,       0,2,  2324.7,2,  2422.2,2,   7.5826,2,    24.98,-999.000,9,-999.0000,9, -999.00,9,  -999.0,9,  -999.0,-999.0000,9,-999.0000,    37.4,2,     21.515,3,-999.000,9, 20150605,     0225,-999.000,   1.6217,2,     34.853,2,     -999.0,9,     -999.0,-999.0000,     -999.0,     -999.0,9,     -999.0,     -999.0,9,     -999.0,  -999.0,9,     -999.0,     -999.0,9,     -999.0
33RO20150525,     P16N.2,     141,          1,          1,          1,2,20150605,       0203,    36.5001,  -151.9998,       5844,  5954.1,   1.6563,  34.6911,2,  34.6897,2,    155.3,2,   155.5,2,  144.87,6,   35.95,6,    0.01,6,    2.44,6,   0.002,6,   0.004,6,       0,6,    2324,6,  2421.8,2,   7.5826,2,       25,-999.000,9,-999.0000,9, -999.00,9,  -999.0,9,  -999.0,-999.0000,9,-999.0000,    37.4,2,     21.427,3,-999.000,9, 20150605,     0203,-999.000,   1.6564,2,    34.8532,2,     -999.0,9,     -999.0,-999.0000,     -999.0,     -999.0,9,     -999.0,     -999.0,9,     -999.0,  -999.0,9,     -999.0,     -999.0,9,     -999.0