BOTTLE,20220330CCHSIOCBG
EXPOCODE,SECT_ID,STNNBR,CASTNO,SAMPNO,BTLNBR,BTLNBR_FLAG_W,DATE,TIME,LATITUDE,LONGITUDE,DEPTH,CTDPRS,CTDTMP,CTDSAL,CTDSAL_FLAG_W,SALNTY,SALNTY_FLAG_W,CTDOXY,CTDOXY_FLAG_W,OXYGEN,OXYGEN_FLAG_W,SILCAT,SILCAT_FLAG_W,NITRAT,NITRAT_FLAG_W,NITRIT,NITRIT_FLAG_W,PHSPHT,PHSPHT_FLAG_W,CFC-11,CFC-11_FLAG_W,CFC-12,CFC-12_FLAG_W,SF6,SF6_FLAG_W,TCARBN,TCARBN_FLAG_W,ALKALI,ALKALI_FLAG_W,PH_TOT,PH_TOT_FLAG_W,PH_TMP,TRITUM,TRITUM_FLAG_W,HELIUM,HELIUM_FLAG_W,DELC13,DELC13_FLAG_W,DELC14,DELC14_FLAG_W,C14ERR,NEON,NEON_FLAG_W,NEONER,DOC,DOC_FLAG_W,N2O,N2O_FLAG_W,ARGON,ARGON_FLAG_W,BTL_DATE,BTL_TIME,TRITER,SBE35,SBE35_FLAG_W,SALTREF,SALTREF_FLAG_W,DELHE3,DELHE3_FLAG_W,DELHER,HELIER,ARGONER,KRYPTON,KRYPTON_FLAG_W,KRYPTONER,XENON,XENON_FLAG_W,XENONER,14C-DOC,14C-DOC_FLAG_W,14C-DOCERR,13C-DOC,13C-DOC_FLAG_W,13C-DOCERR
,,,,,,,,,,,METERS,DBAR,ITS-90,PSS-78,,PSS-78,,UMOL/KG,,UMOL/KG,,UMOL/KG,,UMOL/KG,,UMOL/KG,,UMOL/KG,,PMOL/KG,,PMOL/KG,,FMOL/KG,,UMOL/KG,,UMOL/KG,,,,DEG C,TU,,NMOL/KG,,/MILLE,,/MILLE,,/MILLE,NMOL/KG,,NMOL/KG,UMOL/KG,,NMOL/KG,,UMOL/KG,,,,TU,ITS-90,,G/KG,,PERCNT,,PERCNT,NMOL/KG,UMOL/KG,NMOL/KG,,NMOL/KG,NMOL/KG,,NMOL/KG,/MILLE,,/MILLE,/MILLE,,/MILLE
33RO20150525,     P16N.2,     128,          4,         24,         24,2,20150531,       0140,    29.9997,  -151.9996,       5399,     3.4,  22.4246,  35.4415,2,  35.4426,2,      217,2,   218.1,2,    1.37,2,       0,2,       0,2,    0.05,2,   1.921,2,   1.187,2,    1.51,2,  2033.9,6,  2330.4,2,   8.0279,6,    25.03,   0.435,2,-999.0000,9, -999.00,9,  -999.0,9,  -999.0,-999.0000,9,-999.0000,  -999.0,9,      7.101,3,-999.000,9, 20150601,     0353,   0.003,  22.4216,2,    35.6097,2,     -999.0,9,     -999.0,-999.0000,     -999.0,     -999.0,9,     -999.0,     -999.0,9,     -999.0,  -999.0,9,     -999.0,     -999.0,9,     -999.0
33RO20150525,     P16N.2,     128,          4,         23,         23,2,20150531,       0140,    29.9997,  -151.9996,       5399,    25.2,  22.2701,  35.4461,2,  35.4521,2,    217.3,2,   219.6,2,    1.37,2,       0,2,    0.01,2,    0.04,2,   1.921,6,   1.189,6,   1.549,6,  2034.8,2,    2331,2,   8.0284,2,    24.98,-999.000,9,-999.0000,9, -999.00,9,  -999.0,9,  -999.0,-999.0000,9,-999.0000,  -999.0,9,      7.132,3,-999.000,9, 20150601,     0350,-999.000,  22.2704,2,    35.6192,2,     -999.0,9,     -999.0,-999.0000,     -999.0,     -999.0,9,     -999.0,     -999.0,9,     -999.0,  -999.0,9,     -999.0,     -999.0,9,     -999.0
33RO20150525,     P16N.2,     128,          4,         22,         22,2,20150531,       0140,    29.9997,  -151.9996,       5399,    50.1,  20.5272,  35.2063,2,  35.1653,2,    228.2,2,   230.6,2,    1.85,2,       0,2,    0.02,2,    0.07,2,   2.128,2,   1.312,2,   1.646,2,  2029.6,2,  2310.7,2,   8.0041,6,    25.05,   0.451,2,   1.7349,2, -999.00,9,  -999.0,9,  -999.0,   6.9665,2,   0.0174,  -999.0,9,      7.766,3,  11.340,2, 20150601,     0347,   0.003,  20.5386,2,    35.3311,2,      -0.86,2,       0.20,   0.0045,      0.022,     2.5144,2,     0.0073,    0.34252,2,    0.00099,  -999.0,9,     -999.0,     -999.0,9,     -999.0
33RO20150525,     P16N.2,     128,          4,         21,         21,2,20150531,       0140,    29.9997,  -151.9996,       5399,    75.4,  18.4262,  34.9895,2,  34.9881,2,    230.6,2,   230.7,2,    3.12,2,       0,2,    0.02,2,    0.07,2,   2.267,2,   1.389,2,   1.685,2,  2032.7,2,  2298.7,2,   7.9825,2,    25.04,   0.464,2,   1.7306,2, -999.00,9,  -999.0,9,  -999.0,   7.0108,2,   0.0175,  -999.0,9,      8.311,3,  11.625,2, 20150601,     0345,   0.003,  18.4322,2,    35.1531,2,      -0.88,2,       0.20,   0.0045,      0.022,     2.5917,2,     0.0075,    0.35678,2,    0.00103,  -999.0,9,     -999.0,     -999.0,9,     -999.0
33RO20150525,     P16N.2,     128,          4,         20,         20,2,20150531,       0140,    29.9997,  -151.9996,       5399,    99.6,   17.537,   34.868,2,  34.8683,2,    227.6,2,   228.8,2,    2.73,2,     0.2,2,    0.08,2,    0.12,2,   2.348,2,   1.431,2,   1.714,2,  2035.2,2,  2291.7,6,    7.966,2,       25,   0.447,2,   1.7320,2, -999.00,9,  -999.0,9,  -999.0,   7.0334,2,   0.0176,  -999.0,9,      8.627,3,  11.743,2, 20150601,     0343,   0.005,  17.5427,2,    35.0328,2,      -1.00,2,       0.20,   0.0045,      0.022,     2.6250,2,     0.0076,    0.36163,2,    0.00105,  -999.0,9,     -999.0,     -999.0,9,     -999.0
33RO20150525,     P16N.2,     128,          4,         19,         19,2,20150531,       0140,    29.9997,  -151.9996,       5399,   150.1,    15.08,  34.4904,2,  34.4707,2,    211.2,2,   211.3,2,    5.37,2,    5.27,2,    0.02,2,    0.42,2,   2.686,2,   1.608,2,   1.694,2,  2057.3,2,  2264.6,2,   7.8793,2,    25.04,-999.000,9,-999.0000,9, -999.00,9,  -999.0,9,  -999.0,-999.0000,9,-999.0000,  -999.0,9,     11.004,3,-999.000,9, 20150601,     0340,-999.000,  15.0837,2,    34.6333,2,     -999.0,9,     -999.0,-999.0000,     -999.0,     -999.0,9,     -999.0,     -999.0,9,     -999.0,  -999.0,9,     -999.0,     -999.0,9,     -999.0
33RO20150525,     P16N.2,     128,          4,         18,         18,2,20150531,       0140,    29.9997,  -151.9996,       5399,   224.9,  12.5893,  34.2604,2,  34.2626,2,    209.3,2,   208.8,2,   10.06,2,   10.45,2,    0.01,2,    0.76,2,   2.988,2,   1.752,2,   1.626,2,  2082.6,2,  2259.3,2,   7.8124,2,    25.03,   0.451,2,   1.7786,6, -999.00,9,  -999.0,9,  -999.0,   7.3890,6,   0.0135,  -999.0,9,     14.346,3,  13.071,6, 20150601,     0337,   0.004,  12.5634,2,    34.4242,2,       0.25,6,       0.14,   0.0035,      0.018,     2.9867,6,     0.0059,    0.42387,6,    0.00090,  -999.0,9,     -999.0,     -999.0,9,     -999.0
33RO20150525,     P16N.2,     128,          4,         17,         17,2,20150531,       0140,    29.9997,  -151.9996,       5399,     301,  10.9782,  34.1796,2,   34.176,2,    206.3,2,   204.6,2,   15.04,2,   14.16,2,    0.01,2,    1.01,2,   3.197,2,   1.837,2,   1.514,2,  2103.2,2,  2260.3,2,   7.7613,2,       25,   0.461,2,   1.7745,2, -999.00,9,  -999.0,9,  -999.0,   7.4331,2,   0.0186,  -999.0,9,     17.036,3,  13.466,2, 20150601,     0334,   0.003,  10.9795,2,    34.3371,2,       1.52,2,       0.20,   0.0046,      0.026,     3.1109,2,     0.0090,    0.44426,2,    0.00129,  -999.0,9,     -999.0,     -999.0,9,     -999.0
33RO20150525,     P16N.2,     128,          4,         16,         16,2,20150531,       0140,    29.9997,  -151.9996,       5399,   400.5,    8.856,  34.0612,2,  34.0618,2,    192.8,2,   193.4,2,    25.1,2,   19.53,2,    0.01,2,    1.38,2,   3.326,2,   1.888,2,   1.345,2,    2139,2,  2263.2,2,   7.6837,2,    25.04,   0.424,2,   1.8181,2, -999.00,9,  -999.0,9,  -999.0,   7.6603,2,   0.0192,  -999.0,9,     21.900,3,  14.183,2, 20150601,     0331,   0.003,   8.8545,2,    34.2224,6,       3.82,2,       0.20,   0.0047,      0.027,     3.2925,2,     0.0095,    0.47839,2,    0.00139,  -999.0,9,     -999.0,     -999.0,9,     -999.0
33RO20150525,     P16N.2,     128,          4,         15,         15,2,20150531,       0140,    29.9997,  -151.9996,       5399,   500.1,   6.7614,  33.9903,2,  33.9885,2,    129.5,2,   131.2,2,   46.88,2,    29.2,2,       0,2,    2.05,2,   2.677,2,   1.413,2,   0.722,2,  2207.8,2,    2276,2,   7.5186,2,    25.04,   0.392,2,   1.8201,2, -999.00,9,  -999.0,9,  -999.0,   7.7556,2,   0.0194,  -999.0,9,     27.879,3,  14.864,2, 20150601,     0328,   0.003,   6.7621,2,    34.1487,2,      10.30,2,       0.20,   0.0047,      0.028,     3.5272,2,     0.0102,    0.51987,2,    0.00151,  -999.0,9,     -999.0,     -999.0,9,     -999.0
33RO20150525,     P16N.2,     128,          4,         14,         14,2,20150531,       0140,    29.9997,  -151.9996,       5399,   650.6,   5.0456,  34.0532,2,  34.0525,2,       65,2,    64.3,2,   77.16,2,   38.19,2,    0.01,2,     2.7,2,    1.28,6,   0.618,6,    0.23,6,  2283.3,2,  2304.4,2,   7.3652,2,    25.03,   0.254,2,   1.8639,2, -999.00,9,  -999.0,9,  -999.0,   7.9264,2,   0.0198,  -999.0,9,     37.721,3,  15.503,2, 20150601,     0322,   0.002,   5.0453,2,    34.2131,2,      16.21,2,       0.20,   0.0048,      0.029,     3.6837,2,     0.0107,    0.54916,2,    0.00159,  -999.0,9,     -999.0,     -999.0,9,     -999.0
33RO20150525,     P16N.2,     128,          4,         13,         13,2,20150531,       0140,    29.9997,  -151.9996,       5399,   799.8,   4.1456,  34.2139,2,  34.2168,2,     20.2,2,    21.1,2,  103.51,2,   42.87,2,    0.01,2,    3.06,2,   0.191,2,   0.096,2,   0.071,2,  2340.6,2,  2336.6,2,   7.2903,6,    25.02,   0.091,2,   1.8913,6, -999.00,9,  -999.0,9,  -999.0,   8.0250,6,   0.0160,  -999.0,9,     47.206,3,  15.808,6, 20150601,     0318,   0.003,   4.1454,2,    34.3782,2,      15.92,6,       0.14,   0.0350,      0.022,     3.7670,6,     0.0090,    0.56426,6,    0.00110,  -999.0,9,     -999.0,     -999.0,9,     -999.0
33RO20150525,     P16N.2,     128,          4,         12,         12,2,20150531,       0140,    29.9997,  -151.9996,       5399,   950.1,   3.7069,  34.3392,2,  34.3398,2,     13.2,2,    13.2,2,  117.95,2,   43.74,2,       0,2,    3.14,2,   0.022,2,   0.016,2,   0.012,2,  2362.7,6,  2359.8,2,   7.2913,2,       25,   0.019,2,   1.8779,2, -999.00,9,  -999.0,9,  -999.0,   7.9608,2,   0.0199,  -999.0,9,     50.101,3,  15.864,2, 20150601,     0314,   0.002,    3.706,2,    34.5018,2,      16.00,2,       0.20,   0.0049,      0.030,     3.7960,2,     0.0110,    0.57023,2,    0.00165,  -999.0,9,     -999.0,     -999.0,9,     -999.0
33RO20150525,     P16N.2,     128,          4,         11,         11,2,20150531,       0140,    29.9997,  -151.9996,       5399,  1101.1,    3.366,  34.4345,2,  34.4323,2,     20.7,2,    20.6,2,  127.03,2,   43.74,2,    0.01,2,    3.11,2,   0.006,2,   0.006,2,       0,2,    2372,2,  2375.3,2,   7.3159,2,    25.05,   0.001,2,   1.8922,2, -999.00,9,  -999.0,9,  -999.0,   7.9750,2,   0.0199,  -999.0,9,     47.590,3,  15.984,2, 20150601,     0310,   0.002,   3.3665,2,    34.5946,2,      18.35,2,       0.20,   0.0049,      0.030,     3.8373,2,     0.0111,    0.57716,2,    0.00167,  -999.0,9,     -999.0,     -999.0,9,     -999.0
33RO20150525,     P16N.2,     128,          4,         10,         10,2,20150531,       0140,    29.9997,  -151.9996,       5399,  1300.4,   2.9921,   34.507,2,  34.5065,2,     36.5,2,    36.4,2,  134.63,2,   42.96,2,    0.02,2,    3.05,2,   0.002,2,   0.002,2,       0,2,  2370.7,2,  2389.6,2,   7.3542,2,    25.05,   0.001,2,   1.9177,2, -999.00,9,  -999.0,9,  -999.0,   8.0747,2,   0.0202,  -999.0,9,     41.844,3,  16.121,2, 20150601,     0305,   0.001,   2.9922,2,    34.6692,2,      20.34,2,       0.20,   0.0050,      0.031,     3.8650,2,     0.0112,    0.58339,2,    0.00169,  -999.0,9,     -999.0,     -999.0,9,     -999.0
33RO20150525,     P16N.2,     128,          4,          9,          9,2,20150531,       0140,    29.9997,  -151.9996,       5399,  1599.6,   2.4755,  34.5693,2,  34.5683,2,       59,2,    59.2,2,  145.07,2,   41.69,2,    0.01,2,    2.93,2,  -0.001,2,   0.001,2,       0,2,  2369.6,2,  2404.6,2,   7.4018,2,    25.07,  -0.003,2,   1.9096,2, -999.00,9,  -999.0,9,  -999.0,   8.0512,2,   0.0201,  -999.0,9,     35.228,3,  16.265,2, 20150601,     0258,   0.002,   2.4756,2,    34.7313,2,      21.57,2,       0.20,   0.0050,      0.031,     3.9050,2,     0.0113,    0.58904,2,    0.00171,  -999.0,9,     -999.0,     -999.0,9,     -999.0
33RO20150525,     P16N.2,     128,          4,          8,          8,2,20150531,       0140,    29.9997,  -151.9996,       5399,  1999.5,   2.0242,  34.6134,2,  34.6124,2,       77,2,    76.6,2,  157.27,2,   40.61,2,    0.03,2,    2.85,2,       0,2,   0.001,2,       0,2,  2371.3,2,  2416.4,2,    7.437,6,    25.08,   0.007,2,   1.9260,2, -999.00,9,  -999.0,9,  -999.0,   8.0913,2,   0.0202,  -999.0,9,     30.418,3,  16.412,2, 20150601,     0250,   0.002,   2.0239,2,    34.7756,2,      22.78,2,       0.20,   0.0050,      0.031,     3.9612,2,     0.0115,    0.59686,2,    0.00173,  -999.0,9,     -999.0,     -999.0,9,     -999.0
33RO20150525,     P16N.2,     128,          4,          7,          7,2,20150531,       0140,    29.9997,  -151.9996,       5399,  2501.1,   1.7005,  34.6468,2,  34.6466,2,     98.8,2,    98.8,2,  163.03,2,   39.24,2,    0.01,2,    2.74,2,       0,2,       0,2,       0,2,  2363.7,2,  2417.6,3,   7.4806,6,    25.07,-999.000,9,-999.0000,9, -999.00,9,  -999.0,9,  -999.0,-999.0000,9,-999.0000,  -999.0,9,     26.139,3,-999.000,9, 20150601,     0240,-999.000,   1.7005,2,    34.8099,2,     -999.0,9,     -999.0,-999.0000,     -999.0,     -999.0,9,     -999.0,     -999.0,9,     -999.0,  -999.0,9,     -999.0,     -999.0,9,     -999.0
33RO20150525,     P16N.2,     128,          4,          6,          6,2,20150531,       0140,    29.9997,  -151.9996,       5399,  3000.4,   1.5384,  34.6665,2,  34.6668,2,    119.1,2,   119.9,2,  160.68,2,   37.97,2,    0.02,2,    2.63,2,  -0.001,2,       0,2,       0,2,  2352.2,2,    2426,2,   7.5193,2,    25.05,-999.000,9,-999.0000,9, -999.00,9,  -999.0,9,  -999.0,-999.0000,9,-999.0000,  -999.0,9,     23.447,3,-999.000,9, 20150601,     0230,-999.000,   1.5386,2,    34.8303,2,     -999.0,9,     -999.0,-999.0000,     -999.0,     -999.0,9,     -999.0,     -999.0,9,     -999.0,  -999.0,9,     -999.0,     -999.0,9,     -999.0
33RO20150525,     P16N.2,     128,          4,          5,          5,2,20150531,       0140,    29.9997,  -151.9996,       5399,  3500.3,   1.4701,  34.6785,2,  34.6782,2,    134.9,2,   143.8,4,  156.58,2,      37,2,    0.02,2,    2.53,2,  -0.001,2,   0.001,2,       0,2,  2340.1,2,  2425.4,2,   7.5484,6,    25.06,-999.000,9,-999.0000,9, -999.00,9,  -999.0,9,  -999.0,-999.0000,9,-999.0000,  -999.0,9,     21.785,3,-999.000,9, 20150601,     0220,-999.000,   1.4702,2,    34.8418,2,     -999.0,9,     -999.0,-999.0000,     -999.0,     -999.0,9,     -999.0,     -999.0,9,     -999.0,  -999.0,9,     -999.0,     -999.0,9,     -999.0
33RO20150525,     P16N.2,     128,          4,          4,          4,2,20150531,       0140,    29.9997,  -151.9996,       5399,  3999.2,   1.4601,  34.6853,2,  34.6851,2,    146.1,2,   146.1,2,  150.53,6,   36.31,6,    0.01,6,    2.49,6,   0.002,2,   0.002,2,       0,2,  2331.4,2,  2423.6,2,   7.5669,2,    25.06,-999.000,9,-999.0000,9, -999.00,9,  -999.0,9,  -999.0,-999.0000,9,-999.0000,  -999.0,9,     20.998,3,-999.000,9, 20150601,     0210,-999.000,   1.4603,2,    34.8487,2,     -999.0,9,     -999.0,-999.0000,     -999.0,     -999.0,9,     -999.0,     -999.0,9,     -999.0,  -999.0,9,     -999.0,     -999.0,9,     -999.0
33RO20150525,     P16N.2,     128,          4,          3,          3,2,20150531,       0140,    29.9997,  -151.9996,       5399,    4499,   1.4873,  34.6885,2,  34.6877,2,    151.6,2,   150.6,2,   147.7,6,   35.92,6,    0.01,6,    2.45,6,   0.002,2,   0.004,2,       0,2,  2327.8,2,    2423,6,   7.5756,2,    25.05,-999.000,9,-999.0000,9, -999.00,9,  -999.0,9,  -999.0,-999.0000,9,-999.0000,  -999.0,9,     20.707,3,-999.000,9, 20150601,     0201,-999.000,   1.4874,2,    34.8513,2,     -999.0,9,     -999.0,-999.0000,     -999.0,     -999.0,9,     -999.0,     -999.0,9,     -999.0,  -999.0,9,     -999.0,     -999.0,9,     -999.0
33RO20150525,     P16N.2,     128,          4,          2,          2,2,20150531,       0140,    29.9997,  -151.9996,       5399,  4995.8,   1.5358,  34.6905,2,  34.6896,2,    154.9,2,     154,2,  144.57,6,   35.73,6,    0.01,6,    2.44,6,   0.001,6,   0.004,6,       0,6,  2324.9,6,  2422.2,2,   7.5807,2,    25.04,-999.000,9,-999.0000,9, -999.00,9,  -999.0,9,  -999.0,-999.0000,9,-999.0000,  -999.0,9,     20.442,3,-999.000,9, 20150601,     0151,-999.000,    1.536,2,    34.8532,6,     -999.0,9,     -999.0,-999.0000,     -999.0,     -999.0,9,     -999.0,     -999.0,9,     -999.0,  -999.0,9,     -999.0,     -999.0,9,     -999.0
33RO20150525,     P16N.2,     128,          4,          1,          1,2,20150531,       0140,    29.9997,  -151.9996,       5399,  5491.9,   1.5765,  34.6918,2,  34.6901,2,    158.5,2,   158.3,2,  141.64,6,   35.44,6,    0.02,6,    2.42,6,   0.001,2,   0.006,2,       0,2,  2318.5,2,  2416.4,2,   7.5826,2,    25.05,-999.000,9,-999.0000,9, -999.00,9,  -999.0,9,  -999.0,-999.0000,9,-999.0000,  -999.0,9,     20.331,3,-999.000,9, 20150601,     0141,-999.000,   1.5766,2,    34.8536,2,     -999.0,9,     -999.0,-999.0000,     -999.0,     -999.0,9,     -999.0,     -999.0,9,     -999.0,  -999.0,9,     -999.0,     -999.0,9,     -999.0