BOTTLE,20220330CCHSIOCBG
EXPOCODE,SECT_ID,STNNBR,CASTNO,SAMPNO,BTLNBR,BTLNBR_FLAG_W,DATE,TIME,LATITUDE,LONGITUDE,DEPTH,CTDPRS,CTDTMP,CTDSAL,CTDSAL_FLAG_W,SALNTY,SALNTY_FLAG_W,CTDOXY,CTDOXY_FLAG_W,OXYGEN,OXYGEN_FLAG_W,SILCAT,SILCAT_FLAG_W,NITRAT,NITRAT_FLAG_W,NITRIT,NITRIT_FLAG_W,PHSPHT,PHSPHT_FLAG_W,CFC-11,CFC-11_FLAG_W,CFC-12,CFC-12_FLAG_W,SF6,SF6_FLAG_W,TCARBN,TCARBN_FLAG_W,ALKALI,ALKALI_FLAG_W,PH_TOT,PH_TOT_FLAG_W,PH_TMP,TRITUM,TRITUM_FLAG_W,HELIUM,HELIUM_FLAG_W,DELC13,DELC13_FLAG_W,DELC14,DELC14_FLAG_W,C14ERR,NEON,NEON_FLAG_W,NEONER,DOC,DOC_FLAG_W,N2O,N2O_FLAG_W,ARGON,ARGON_FLAG_W,BTL_DATE,BTL_TIME,TRITER,SBE35,SBE35_FLAG_W,SALTREF,SALTREF_FLAG_W,DELHE3,DELHE3_FLAG_W,DELHER,HELIER,ARGONER,KRYPTON,KRYPTON_FLAG_W,KRYPTONER,XENON,XENON_FLAG_W,XENONER,14C-DOC,14C-DOC_FLAG_W,14C-DOCERR,13C-DOC,13C-DOC_FLAG_W,13C-DOCERR
,,,,,,,,,,,METERS,DBAR,ITS-90,PSS-78,,PSS-78,,UMOL/KG,,UMOL/KG,,UMOL/KG,,UMOL/KG,,UMOL/KG,,UMOL/KG,,PMOL/KG,,PMOL/KG,,FMOL/KG,,UMOL/KG,,UMOL/KG,,,,DEG C,TU,,NMOL/KG,,/MILLE,,/MILLE,,/MILLE,NMOL/KG,,NMOL/KG,UMOL/KG,,NMOL/KG,,UMOL/KG,,,,TU,ITS-90,,G/KG,,PERCNT,,PERCNT,NMOL/KG,UMOL/KG,NMOL/KG,,NMOL/KG,NMOL/KG,,NMOL/KG,/MILLE,,/MILLE,/MILLE,,/MILLE
33RO20150525,     P16N.2,     138,          4,         24,         24,2,20150604,       0347,    35.0001,  -152.0001,       5714,     2.8,  18.4289,  34.2292,2,   34.228,2,    238.2,2,     238,2,    3.13,2,       0,2,       0,2,    0.06,2,   2.418,6,   1.443,6,    1.81,6,  2014.8,6,  2250.4,2,   7.9401,2,    25.02,-999.000,9,-999.0000,9, -999.00,9,  -999.0,9,  -999.0,-999.0000,9,-999.0000,  -999.0,9,      8.281,3,-999.000,9, 20150604,     0603,-999.000,  18.4275,2,    34.3894,2,     -999.0,9,     -999.0,-999.0000,     -999.0,     -999.0,9,     -999.0,     -999.0,9,     -999.0,  -999.0,9,     -999.0,     -999.0,9,     -999.0
33RO20150525,     P16N.2,     138,          4,         23,         23,2,20150604,       0347,    35.0001,  -152.0001,       5714,      40,  14.2724,  34.2224,2,  34.2216,2,    270.1,2,   269.2,2,    3.81,2,       0,2,    0.01,2,    0.09,2,   2.865,2,    1.68,2,   1.996,2,  2016.2,2,  2249.8,2,   7.9361,2,    25.03,-999.000,9,-999.0000,9, -999.00,9,  -999.0,9,  -999.0,-999.0000,9,-999.0000,  -999.0,9,      9.632,3,-999.000,9, 20150604,     0600,-999.000,  14.2868,2,    34.3829,2,     -999.0,9,     -999.0,-999.0000,     -999.0,     -999.0,9,     -999.0,     -999.0,9,     -999.0,  -999.0,9,     -999.0,     -999.0,9,     -999.0
33RO20150525,     P16N.2,     138,          4,         22,         22,2,20150604,       0347,    35.0001,  -152.0001,       5714,    70.9,  13.3444,  34.1973,2,  34.1953,2,    255.6,2,   255.1,2,    4.69,2,    2.05,2,    0.24,2,    0.25,2,   2.898,2,   1.714,2,   2.047,2,  2032.3,2,  2250.1,2,   7.9017,6,    25.01,-999.000,9,-999.0000,9, -999.00,9,  -999.0,9,  -999.0,-999.0000,9,-999.0000,  -999.0,9,     10.278,3,-999.000,9, 20150604,     0557,-999.000,  13.3411,2,    34.3566,2,     -999.0,9,     -999.0,-999.0000,     -999.0,     -999.0,9,     -999.0,     -999.0,9,     -999.0,  -999.0,9,     -999.0,     -999.0,9,     -999.0
33RO20150525,     P16N.2,     138,          4,         21,         21,2,20150604,       0347,    35.0001,  -152.0001,       5714,   109.7,  12.8133,   34.189,2,    34.18,2,    243.1,2,   242.8,2,    5.77,2,    4.69,2,    0.15,2,    0.39,2,   2.991,2,   1.746,2,   2.057,2,  2047.7,2,    2250,2,   7.8708,2,    25.05,-999.000,9,-999.0000,9, -999.00,9,  -999.0,9,  -999.0,-999.0000,9,-999.0000,  -999.0,9,     11.221,3,-999.000,9, 20150604,     0554,-999.000,  12.8122,2,    34.3412,2,     -999.0,9,     -999.0,-999.0000,     -999.0,     -999.0,9,     -999.0,     -999.0,9,     -999.0,  -999.0,9,     -999.0,     -999.0,9,     -999.0
33RO20150525,     P16N.2,     138,          4,         20,         20,2,20150604,       0347,    35.0001,  -152.0001,       5714,   174.4,   12.092,  34.2244,2,   34.225,2,    220.2,2,   219.4,2,    9.38,2,   10.16,2,    0.02,2,    0.72,2,   3.038,2,   1.775,2,    1.85,2,  2078.3,2,  2256.5,6,   7.8147,2,    25.03,-999.000,9,-999.0000,9, -999.00,9,  -999.0,9,  -999.0,-999.0000,9,-999.0000,  -999.0,9,     15.767,3,-999.000,9, 20150604,     0551,-999.000,  12.0947,2,    34.3864,2,     -999.0,9,     -999.0,-999.0000,     -999.0,     -999.0,9,     -999.0,     -999.0,9,     -999.0,  -999.0,9,     -999.0,     -999.0,9,     -999.0
33RO20150525,     P16N.2,     138,          4,         19,         19,2,20150604,       0347,    35.0001,  -152.0001,       5714,   249.9,  10.8038,  34.1812,2,  34.1797,2,    215.2,2,   214.6,2,   14.76,2,   13.78,2,    0.01,2,    0.95,2,   3.214,2,   1.828,2,   1.751,2,  2099.5,2,  2259.8,2,   7.7722,2,    25.03,-999.000,9,-999.0000,9, -999.00,9,  -999.0,9,  -999.0,-999.0000,9,-999.0000,  -999.0,9,     17.956,3,-999.000,9, 20150604,     0548,-999.000,  10.8023,2,    34.3409,2,     -999.0,9,     -999.0,-999.0000,     -999.0,     -999.0,9,     -999.0,     -999.0,9,     -999.0,  -999.0,9,     -999.0,     -999.0,9,     -999.0
33RO20150525,     P16N.2,     138,          4,         18,         18,2,20150604,       0347,    35.0001,  -152.0001,       5714,   332.9,   9.2887,  34.0906,2,  34.0902,2,    201.7,2,   201.5,2,   22.18,2,   18.18,2,    0.01,2,    1.26,2,   3.293,2,   1.861,2,   1.509,2,  2128.9,2,    2264,2,   7.7076,6,    25.04,-999.000,9,-999.0000,9, -999.00,9,  -999.0,9,  -999.0,-999.0000,9,-999.0000,  -999.0,9,     21.905,3,-999.000,9, 20150604,     0545,-999.000,   9.2867,2,    34.2509,2,     -999.0,9,     -999.0,-999.0000,     -999.0,     -999.0,9,     -999.0,     -999.0,9,     -999.0,  -999.0,9,     -999.0,     -999.0,9,     -999.0
33RO20150525,     P16N.2,     138,          4,         17,         17,2,20150604,       0347,    35.0001,  -152.0001,       5714,   433.2,    7.526,  34.0118,2,  34.0098,2,    160.3,2,   160.5,2,   37.63,2,   25.31,2,    0.01,2,    1.76,2,    3.07,2,    1.64,2,   1.104,2,  2178.1,2,  2272.2,2,   7.5933,6,    25.02,-999.000,9,-999.0000,9, -999.00,9,  -999.0,9,  -999.0,-999.0000,9,-999.0000,  -999.0,9,     26.501,3,-999.000,9, 20150604,     0542,-999.000,   7.5299,2,    34.1702,2,     -999.0,9,     -999.0,-999.0000,     -999.0,     -999.0,9,     -999.0,     -999.0,9,     -999.0,  -999.0,9,     -999.0,     -999.0,9,     -999.0
33RO20150525,     P16N.2,     138,          4,         16,         16,2,20150604,       0347,    35.0001,  -152.0001,       5714,   548.8,   5.6538,   33.987,2,  33.9874,2,    109.5,2,   109.3,2,   62.45,2,   33.33,2,    0.01,2,    2.35,2,    2.34,2,   1.181,2,   0.617,2,    2243,2,  2290.2,2,   7.4559,2,    24.98,-999.000,9,-999.0000,9, -999.00,9,  -999.0,9,  -999.0,-999.0000,9,-999.0000,  -999.0,9,     33.504,3,-999.000,9, 20150604,     0538,-999.000,   5.6561,2,    34.1476,2,     -999.0,9,     -999.0,-999.0000,     -999.0,     -999.0,9,     -999.0,     -999.0,9,     -999.0,  -999.0,9,     -999.0,     -999.0,9,     -999.0
33RO20150525,     P16N.2,     138,          4,         15,         15,2,20150604,       0347,    35.0001,  -152.0001,       5714,   700.3,   4.4685,  34.0987,2,  34.0993,2,     48.4,2,    46.6,2,    90.4,2,   40.75,2,    0.01,2,    2.86,2,   0.995,2,    0.47,2,   0.149,2,    2310,2,  2314.2,2,   7.3257,6,    25.03,-999.000,9,-999.0000,9, -999.00,9,  -999.0,9,  -999.0,-999.0000,9,-999.0000,  -999.0,9,     42.820,3,-999.000,9, 20150604,     0534,-999.000,   4.4704,2,    34.2601,2,     -999.0,9,     -999.0,-999.0000,     -999.0,     -999.0,9,     -999.0,     -999.0,9,     -999.0,  -999.0,9,     -999.0,     -999.0,9,     -999.0
33RO20150525,     P16N.2,     138,          4,         14,         14,2,20150604,       0347,    35.0001,  -152.0001,       5714,   850.4,   3.9137,  34.2291,2,  34.2299,2,     16.8,2,    16.5,2,  109.54,2,   43.48,2,    0.01,2,    3.08,2,   0.206,6,     0.1,6,   0.018,6,  2346.7,2,  2340.5,2,   7.2818,2,    25.03,-999.000,9,-999.0000,9, -999.00,9,  -999.0,9,  -999.0,-999.0000,9,-999.0000,  -999.0,9,     49.097,3,-999.000,9, 20150604,     0530,-999.000,   3.9156,2,    34.3913,6,     -999.0,9,     -999.0,-999.0000,     -999.0,     -999.0,9,     -999.0,     -999.0,9,     -999.0,  -999.0,9,     -999.0,     -999.0,9,     -999.0
33RO20150525,     P16N.2,     138,          4,         13,         13,2,20150604,       0347,    35.0001,  -152.0001,       5714,  1000.2,   3.4958,  34.3369,2,  34.3354,2,      8.4,2,     8.3,2,  124.39,2,   44.46,2,       0,2,    3.15,2,   0.028,2,   0.017,2,   0.037,3,  2368.3,6,  2360.4,2,   7.2798,6,    25.03,-999.000,9,-999.0000,9, -999.00,9,  -999.0,9,  -999.0,-999.0000,9,-999.0000,  -999.0,9,     53.056,3,-999.000,9, 20150604,     0526,-999.000,   3.4953,2,    34.4973,2,     -999.0,9,     -999.0,-999.0000,     -999.0,     -999.0,9,     -999.0,     -999.0,9,     -999.0,  -999.0,9,     -999.0,     -999.0,9,     -999.0
33RO20150525,     P16N.2,     138,          4,         12,         12,2,20150604,       0347,    35.0001,  -152.0001,       5714,  1166.3,    3.123,   34.426,2,  34.4236,2,     11.5,2,    11.1,2,   136.1,2,   44.75,2,    0.01,2,    3.15,2,   0.007,2,   0.007,2,       0,2,  2382.6,2,  2378.6,2,   7.2923,6,    25.03,-999.000,9,-999.0000,9, -999.00,9,  -999.0,9,  -999.0,-999.0000,9,-999.0000,  -999.0,9,     52.536,3,-999.000,9, 20150604,     0522,-999.000,   3.1239,2,    34.5859,2,     -999.0,9,     -999.0,-999.0000,     -999.0,     -999.0,9,     -999.0,     -999.0,9,     -999.0,  -999.0,9,     -999.0,     -999.0,9,     -999.0
33RO20150525,     P16N.2,     138,          4,         11,         11,2,20150604,       0347,    35.0001,  -152.0001,       5714,  1400.4,   2.7525,  34.5019,2,  34.5015,2,     22.6,2,    22.1,2,  145.86,2,   44.26,2,       0,2,    3.11,2,   0.003,2,   0.004,2,       0,2,  2386.2,2,  2393.2,2,   7.3215,2,    25.02,-999.000,9,-999.0000,9, -999.00,9,  -999.0,9,  -999.0,-999.0000,9,-999.0000,  -999.0,9,     46.209,3,-999.000,9, 20150604,     0517,-999.000,   2.7538,2,    34.6642,2,     -999.0,9,     -999.0,-999.0000,     -999.0,     -999.0,9,     -999.0,     -999.0,9,     -999.0,  -999.0,9,     -999.0,     -999.0,9,     -999.0
33RO20150525,     P16N.2,     138,          4,         10,         10,2,20150604,       0347,    35.0001,  -152.0001,       5714,  1732.8,    2.262,  34.5703,2,  34.5697,2,     45.1,2,    44.9,2,  157.58,2,   42.99,2,       0,2,    2.99,2,   0.001,2,   0.002,2,       0,2,  2384.9,2,  2408.2,2,     7.37,2,    25.04,-999.000,9,-999.0000,9, -999.00,9,  -999.0,9,  -999.0,-999.0000,9,-999.0000,  -999.0,9,     38.025,3,-999.000,9, 20150604,     0510,-999.000,   2.2625,2,    34.7327,2,     -999.0,9,     -999.0,-999.0000,     -999.0,     -999.0,9,     -999.0,     -999.0,9,     -999.0,  -999.0,9,     -999.0,     -999.0,9,     -999.0
33RO20150525,     P16N.2,     138,          4,          9,          9,2,20150604,       0347,    35.0001,  -152.0001,       5714,  2132.6,   1.8777,  34.6127,2,  34.6143,2,     66.4,2,    66.1,2,  166.27,2,   41.71,2,       0,2,    2.88,2,   0.001,2,       0,2,       0,2,  2380.2,2,  2417.6,2,   7.4129,2,    25.05,-999.000,9,-999.0000,9, -999.00,9,  -999.0,9,  -999.0,-999.0000,9,-999.0000,  -999.0,9,     32.780,3,-999.000,9, 20150604,     0501,-999.000,   1.8779,2,    34.7775,2,     -999.0,9,     -999.0,-999.0000,     -999.0,     -999.0,9,     -999.0,     -999.0,9,     -999.0,  -999.0,9,     -999.0,     -999.0,9,     -999.0
33RO20150525,     P16N.2,     138,          4,          8,          8,2,20150604,       0347,    35.0001,  -152.0001,       5714,  2566.6,   1.6631,  34.6447,2,  34.6424,2,     95.7,2,    95.4,2,  163.73,2,   39.76,2,       0,2,    2.74,2,   0.001,2,   0.001,2,       0,2,  2363.5,2,  2421.8,2,   7.4712,2,    25.05,-999.000,9,-999.0000,9, -999.00,9,  -999.0,9,  -999.0,-999.0000,9,-999.0000,  -999.0,9,     27.624,3,-999.000,9, 20150604,     0453,-999.000,   1.6634,2,    34.8057,2,     -999.0,9,     -999.0,-999.0000,     -999.0,     -999.0,9,     -999.0,     -999.0,9,     -999.0,  -999.0,9,     -999.0,     -999.0,9,     -999.0
33RO20150525,     P16N.2,     138,          4,          7,          7,2,20150604,       0347,    35.0001,  -152.0001,       5714,  3067.8,     1.54,  34.6652,2,   34.665,2,    118.1,2,   118.5,2,   160.3,2,   38.29,2,       0,2,    2.63,2,  -0.001,2,  -0.001,2,    0.02,4,  2350.2,2,  2423.6,2,   7.5193,2,    24.83,-999.000,9,-999.0000,9, -999.00,9,  -999.0,9,  -999.0,-999.0000,9,-999.0000,  -999.0,9,     24.615,3,-999.000,9, 20150604,     0443,-999.000,   1.5402,2,    34.8285,2,     -999.0,9,     -999.0,-999.0000,     -999.0,     -999.0,9,     -999.0,     -999.0,9,     -999.0,  -999.0,9,     -999.0,     -999.0,9,     -999.0
33RO20150525,     P16N.2,     138,          4,          6,          6,2,20150604,       0347,    35.0001,  -152.0001,       5714,    3566,   1.4835,  34.6768,2,  34.6768,2,    134.1,2,   134.1,2,  155.22,2,   37.12,2,       0,2,    2.53,2,   0.001,2,   0.002,2,       0,2,  2338.7,2,  2422.6,2,   7.5462,2,    25.05,-999.000,9,-999.0000,9, -999.00,9,  -999.0,9,  -999.0,-999.0000,9,-999.0000,  -999.0,9,     22.841,3,-999.000,9, 20150604,     0434,-999.000,   1.4835,2,    34.8403,2,     -999.0,9,     -999.0,-999.0000,     -999.0,     -999.0,9,     -999.0,     -999.0,9,     -999.0,  -999.0,9,     -999.0,     -999.0,9,     -999.0
33RO20150525,     P16N.2,     138,          4,          5,          5,2,20150604,       0347,    35.0001,  -152.0001,       5714,  4065.9,   1.4792,  34.6834,2,  34.6836,2,    143.1,2,   142.9,2,  152.88,2,   36.53,2,       0,2,     2.5,2,       0,2,       0,2,       0,2,  2332.4,2,  2422.4,2,   7.5626,6,    25.05,-999.000,9,-999.0000,9, -999.00,9,  -999.0,9,  -999.0,-999.0000,9,-999.0000,  -999.0,9,     21.969,3,-999.000,9, 20150604,     0424,-999.000,   1.4793,2,    34.8471,2,     -999.0,9,     -999.0,-999.0000,     -999.0,     -999.0,9,     -999.0,     -999.0,9,     -999.0,  -999.0,9,     -999.0,     -999.0,9,     -999.0
33RO20150525,     P16N.2,     138,          4,          4,          4,2,20150604,       0347,    35.0001,  -152.0001,       5714,  4566.5,    1.506,   34.687,2,  34.6865,2,    147.6,2,   147.6,2,  151.02,6,   36.44,6,       0,6,    2.47,6,   0.003,2,   0.002,2,       0,2,  2328.5,2,    2424,2,   7.5718,2,    25.06,-999.000,9,-999.0000,9, -999.00,9,  -999.0,9,  -999.0,-999.0000,9,-999.0000,  -999.0,9,     21.633,3,-999.000,9, 20150604,     0414,-999.000,   1.5062,2,      34.85,6,     -999.0,9,     -999.0,-999.0000,     -999.0,     -999.0,9,     -999.0,     -999.0,9,     -999.0,  -999.0,9,     -999.0,     -999.0,9,     -999.0
33RO20150525,     P16N.2,     138,          4,          3,          3,2,20150604,       0347,    35.0001,  -152.0001,       5714,  5068.7,   1.5463,  34.6897,2,  34.6908,2,    152.4,2,   152.1,2,  145.55,6,   36.05,6,       0,6,    2.44,6,   0.002,6,   0.004,6,       0,6,  2325.4,2,    2422,6,    7.579,2,    25.04,-999.000,9,-999.0000,9, -999.00,9,  -999.0,9,  -999.0,-999.0000,9,-999.0000,  -999.0,9,     21.320,3,-999.000,9, 20150604,     0404,-999.000,   1.5465,2,    34.8544,2,     -999.0,9,     -999.0,-999.0000,     -999.0,     -999.0,9,     -999.0,     -999.0,9,     -999.0,  -999.0,9,     -999.0,     -999.0,9,     -999.0
33RO20150525,     P16N.2,     138,          4,          2,          2,2,20150604,       0347,    35.0001,  -152.0001,       5714,  5208.3,   1.5604,  34.6903,2,  34.6888,2,    153.9,2,   153.3,2,  144.96,6,   35.95,6,       0,6,    2.45,6,   0.002,2,   0.003,2,       0,2,    2324,2,    2421,2,   7.5812,2,    24.98,-999.000,9,-999.0000,9, -999.00,9,  -999.0,9,  -999.0,-999.0000,9,-999.0000,  -999.0,9,     21.429,3,-999.000,9, 20150604,     0400,-999.000,   1.5606,2,    34.8524,2,     -999.0,9,     -999.0,-999.0000,     -999.0,     -999.0,9,     -999.0,     -999.0,9,     -999.0,  -999.0,9,     -999.0,     -999.0,9,     -999.0
33RO20150525,     P16N.2,     138,          4,          1,          1,2,20150604,       0347,    35.0001,  -152.0001,       5714,  5811.6,   1.6369,  34.6911,2,  34.6953,4,    155.9,2,   154.3,2,   143.6,6,   35.85,6,    0.01,6,    2.43,6,   0.004,2,   0.005,2,       0,2,  2323.9,2,  2421.6,2,   7.5824,2,    25.06,-999.000,9,-999.0000,9, -999.00,9,  -999.0,9,  -999.0,-999.0000,9,-999.0000,  -999.0,9,     21.194,3,-999.000,9, 20150604,     0348,-999.000,   1.6369,2,    34.8589,2,     -999.0,9,     -999.0,-999.0000,     -999.0,     -999.0,9,     -999.0,     -999.0,9,     -999.0,  -999.0,9,     -999.0,     -999.0,9,     -999.0