BOTTLE,20220330CCHSIOCBG
EXPOCODE,SECT_ID,STNNBR,CASTNO,SAMPNO,BTLNBR,BTLNBR_FLAG_W,DATE,TIME,LATITUDE,LONGITUDE,DEPTH,CTDPRS,CTDTMP,CTDSAL,CTDSAL_FLAG_W,SALNTY,SALNTY_FLAG_W,CTDOXY,CTDOXY_FLAG_W,OXYGEN,OXYGEN_FLAG_W,SILCAT,SILCAT_FLAG_W,NITRAT,NITRAT_FLAG_W,NITRIT,NITRIT_FLAG_W,PHSPHT,PHSPHT_FLAG_W,CFC-11,CFC-11_FLAG_W,CFC-12,CFC-12_FLAG_W,SF6,SF6_FLAG_W,TCARBN,TCARBN_FLAG_W,ALKALI,ALKALI_FLAG_W,PH_TOT,PH_TOT_FLAG_W,PH_TMP,TRITUM,TRITUM_FLAG_W,HELIUM,HELIUM_FLAG_W,DELC13,DELC13_FLAG_W,DELC14,DELC14_FLAG_W,C14ERR,NEON,NEON_FLAG_W,NEONER,DOC,DOC_FLAG_W,N2O,N2O_FLAG_W,ARGON,ARGON_FLAG_W,BTL_DATE,BTL_TIME,TRITER,SBE35,SBE35_FLAG_W,SALTREF,SALTREF_FLAG_W,DELHE3,DELHE3_FLAG_W,DELHER,HELIER,ARGONER,KRYPTON,KRYPTON_FLAG_W,KRYPTONER,XENON,XENON_FLAG_W,XENONER,14C-DOC,14C-DOC_FLAG_W,14C-DOCERR,13C-DOC,13C-DOC_FLAG_W,13C-DOCERR
,,,,,,,,,,,METERS,DBAR,ITS-90,PSS-78,,PSS-78,,UMOL/KG,,UMOL/KG,,UMOL/KG,,UMOL/KG,,UMOL/KG,,UMOL/KG,,PMOL/KG,,PMOL/KG,,FMOL/KG,,UMOL/KG,,UMOL/KG,,,,DEG C,TU,,NMOL/KG,,/MILLE,,/MILLE,,/MILLE,NMOL/KG,,NMOL/KG,UMOL/KG,,NMOL/KG,,UMOL/KG,,,,TU,ITS-90,,G/KG,,PERCNT,,PERCNT,NMOL/KG,UMOL/KG,NMOL/KG,,NMOL/KG,NMOL/KG,,NMOL/KG,/MILLE,,/MILLE,/MILLE,,/MILLE
33RO20150525,     P16N.2,     193,          1,         24,         24,2,20150620,       0024,    54.3498,  -149.1389,       3533,     3.1,   9.7827,  32.5176,2,  32.5183,2,    293.6,2,     295,2,    27.5,2,   12.23,2,    0.17,2,    1.23,2,   3.826,6,   2.165,6,   2.533,6,  2029.4,6,  2192.8,2,   7.8053,3,    25.01,-999.000,9,-999.0000,9,    1.21,2,   -29.4,2,     2.0,-999.0000,9,-999.0000,  -999.0,9,     12.246,3,-999.000,9, 20150620,     0200,-999.000,   9.7807,2,    32.6717,2,     -999.0,9,     -999.0,-999.0000,     -999.0,     -999.0,9,     -999.0,     -999.0,9,     -999.0,  -999.0,9,     -999.0,     -999.0,9,     -999.0
33RO20150525,     P16N.2,     193,          1,         23,         23,2,20150620,       0024,    54.3498,  -149.1389,       3533,    25.1,   8.5151,  32.5064,2,  32.5061,2,    305.4,2,   306.4,2,   28.09,2,   12.72,2,    0.16,2,    1.26,2,   4.085,2,   2.292,2,   2.625,2,  2034.6,2,  2192.3,6,   7.7941,6,    25.01,-999.000,9,-999.0000,9, -999.00,9,  -999.0,9,  -999.0,-999.0000,9,-999.0000,  -999.0,9,     12.849,3,-999.000,9, 20150620,     0158,-999.000,   8.5819,4,    32.6593,2,     -999.0,9,     -999.0,-999.0000,     -999.0,     -999.0,9,     -999.0,     -999.0,9,     -999.0,  -999.0,9,     -999.0,     -999.0,9,     -999.0
33RO20150525,     P16N.2,     193,          1,         22,         22,2,20150620,       0024,    54.3498,  -149.1389,       3533,    50.1,   5.8212,  32.6223,2,  32.6728,2,    288.4,2,   275.5,2,   33.76,2,   18.79,2,    0.25,2,     1.6,2,   4.287,2,   2.382,2,   2.633,2,  2089.3,2,  2201.4,2,   7.6739,6,       25,-999.000,9,-999.0000,9, -999.00,9,  -999.0,9,  -999.0,-999.0000,9,-999.0000,  -999.0,9,     16.749,3,-999.000,9, 20150620,     0156,-999.000,    5.821,2,    32.8269,2,     -999.0,9,     -999.0,-999.0000,     -999.0,     -999.0,9,     -999.0,     -999.0,9,     -999.0,  -999.0,9,     -999.0,     -999.0,9,     -999.0
33RO20150525,     P16N.2,     193,          1,         21,         21,2,20150620,       0024,    54.3498,  -149.1389,       3533,    75.1,   4.7978,  33.0979,2,  33.1008,2,    196.4,2,   195.2,2,   49.21,2,   28.27,2,    0.07,2,    2.13,2,   3.854,2,   2.092,2,   2.029,2,  2172.6,2,  2229.9,2,   7.5016,6,    24.99,-999.000,9,-999.0000,9, -999.00,9,  -999.0,9,  -999.0,-999.0000,9,-999.0000,  -999.0,9,     23.444,3,-999.000,9, 20150620,     0155,-999.000,   4.8009,2,    33.2569,2,     -999.0,9,     -999.0,-999.0000,     -999.0,     -999.0,9,     -999.0,     -999.0,9,     -999.0,  -999.0,9,     -999.0,     -999.0,9,     -999.0
33RO20150525,     P16N.2,     193,          1,         20,         20,2,20150620,       0024,    54.3498,  -149.1389,       3533,   100.2,   4.3644,   33.397,2,  33.4058,2,      133,2,   133.6,2,   61.23,2,   34.43,2,    0.03,2,    2.48,2,   3.454,2,   1.855,2,    1.63,2,  2232.3,2,  2253.6,2,   7.3797,6,    24.99,-999.000,9,-999.0000,9, -999.00,9,  -999.0,9,  -999.0,-999.0000,9,-999.0000,  -999.0,9,     31.823,3,-999.000,9, 20150620,     0153,-999.000,   4.3649,2,    33.5633,2,     -999.0,9,     -999.0,-999.0000,     -999.0,     -999.0,9,     -999.0,     -999.0,9,     -999.0,  -999.0,9,     -999.0,     -999.0,9,     -999.0
33RO20150525,     P16N.2,     193,          1,         19,         19,2,20150620,       0024,    54.3498,  -149.1389,       3533,   122.3,    4.114,  33.5846,2,  33.5801,2,     93.5,2,   100.7,2,   68.36,2,   37.75,2,    0.02,2,    2.68,2,   3.188,2,     1.7,2,   1.329,2,  2265.6,2,    2268,2,   7.3158,6,    24.98,-999.000,9,-999.0000,9, -999.00,9,  -999.0,9,  -999.0,-999.0000,9,-999.0000,  -999.0,9,     35.578,3,-999.000,9, 20150620,     0151,-999.000,   4.1147,2,    33.7384,2,     -999.0,9,     -999.0,-999.0000,     -999.0,     -999.0,9,     -999.0,     -999.0,9,     -999.0,  -999.0,9,     -999.0,     -999.0,9,     -999.0
33RO20150525,     P16N.2,     193,          1,         18,         18,2,20150620,       0024,    54.3498,  -149.1389,       3533,   174.8,    3.889,  33.8446,2,   33.845,2,     45.2,2,    44.4,2,    83.7,2,   42.83,2,    0.01,2,    2.98,2,   2.507,2,   1.286,2,   0.804,2,  2316.5,2,  2290.2,2,   7.2246,6,    24.98,-999.000,9,-999.0000,9, -999.00,9,  -999.0,9,  -999.0,-999.0000,9,-999.0000,  -999.0,9,     42.537,3,-999.000,9, 20150620,     0148,-999.000,   3.8889,2,    34.0046,2,     -999.0,9,     -999.0,-999.0000,     -999.0,     -999.0,9,     -999.0,     -999.0,9,     -999.0,  -999.0,9,     -999.0,     -999.0,9,     -999.0
33RO20150525,     P16N.2,     193,          1,         17,         17,2,20150620,       0024,    54.3498,  -149.1389,       3533,     225,   3.8349,  33.9553,2,  33.9563,2,     22.2,2,    21.4,2,   93.66,2,   44.19,2,    0.01,2,    3.05,2,-999.000,9,-999.000,9,-999.000,9,  2338.1,2,  2304.5,2,-999.0000,5,  -999.00,-999.000,9,-999.0000,9, -999.00,9,  -999.0,9,  -999.0,-999.0000,9,-999.0000,  -999.0,9,     -999.0,9,-999.000,9, 20150620,     0146,-999.000,   3.8348,2,    34.1164,2,     -999.0,9,     -999.0,-999.0000,     -999.0,     -999.0,9,     -999.0,     -999.0,9,     -999.0,  -999.0,9,     -999.0,     -999.0,9,     -999.0
33RO20150525,     P16N.2,     193,          1,         16,         16,2,20150620,       0024,    54.3498,  -149.1389,       3533,   299.6,   3.8578,  34.0449,2,  34.0451,2,     18.2,2,    16.7,2,  100.79,2,   43.99,2,    0.01,2,    3.05,2,   1.422,2,   0.703,2,   0.317,2,  2343.1,2,    2317,2,   7.2252,2,    24.92,-999.000,9,-999.0000,9, -999.00,9,  -999.0,9,  -999.0,-999.0000,9,-999.0000,  -999.0,9,     46.850,3,-999.000,9, 20150620,     0143,-999.000,   3.8578,2,    34.2056,6,     -999.0,9,     -999.0,-999.0000,     -999.0,     -999.0,9,     -999.0,     -999.0,9,     -999.0,  -999.0,9,     -999.0,     -999.0,9,     -999.0
33RO20150525,     P16N.2,     193,          1,         15,         15,2,20150620,       0024,    54.3498,  -149.1389,       3533,   375.6,   3.7736,  34.1226,2,  34.1232,2,     17.2,2,    15.7,2,  107.92,2,    43.5,2,    0.01,2,    3.03,2,   0.991,2,   0.488,2,   0.228,2,  2348.7,2,  2329.4,2,   7.2442,6,    24.97,-999.000,9,-999.0000,9, -999.00,9,  -999.0,9,  -999.0,-999.0000,9,-999.0000,  -999.0,9,     47.497,3,-999.000,9, 20150620,     0140,-999.000,   3.7735,2,    34.2841,2,     -999.0,9,     -999.0,-999.0000,     -999.0,     -999.0,9,     -999.0,     -999.0,9,     -999.0,  -999.0,9,     -999.0,     -999.0,9,     -999.0
33RO20150525,     P16N.2,     193,          1,         14,         14,2,20150620,       0024,    54.3498,  -149.1389,       3533,   449.5,   3.6458,  34.1883,2,  34.1863,2,     14.8,2,    13.5,2,  114.57,2,    43.4,2,       0,2,    3.03,2,   0.678,6,   0.329,6,    0.14,6,  2356.1,2,  2339.7,2,   7.2543,2,    24.98,-999.000,9,-999.0000,9, -999.00,9,  -999.0,9,  -999.0,-999.0000,9,-999.0000,  -999.0,9,     48.881,3,-999.000,9, 20150620,     0137,-999.000,   3.6465,2,    34.3475,2,     -999.0,9,     -999.0,-999.0000,     -999.0,     -999.0,9,     -999.0,     -999.0,9,     -999.0,  -999.0,9,     -999.0,     -999.0,9,     -999.0
33RO20150525,     P16N.2,     193,          1,         13,         13,2,20150620,       0024,    54.3498,  -149.1389,       3533,   525.3,   3.5545,   34.223,2,  34.2257,2,     13.9,2,    13.1,2,  118.86,2,    43.4,2,       0,2,    3.04,2,-999.000,9,-999.000,9,-999.000,9,  2359.1,2,  2346.5,2,   7.2599,2,    24.97,-999.000,9,-999.0000,9, -999.00,9,  -999.0,9,  -999.0,-999.0000,9,-999.0000,  -999.0,9,     -999.0,9,-999.000,9, 20150620,     0135,-999.000,   3.5546,2,    34.3871,2,     -999.0,9,     -999.0,-999.0000,     -999.0,     -999.0,9,     -999.0,     -999.0,9,     -999.0,  -999.0,9,     -999.0,     -999.0,9,     -999.0
33RO20150525,     P16N.2,     193,          1,         12,         12,2,20150620,       0024,    54.3498,  -149.1389,       3533,   650.2,   3.3299,  34.2864,2,  34.2863,2,     13.6,2,    12.6,2,  127.17,2,    43.4,2,       0,2,    3.05,2,   0.292,2,   0.141,2,   0.052,2,  2369.4,2,  2358.3,2,   7.2709,2,    24.96,-999.000,9,-999.0000,9, -999.00,9,  -999.0,9,  -999.0,-999.0000,9,-999.0000,  -999.0,9,     48.006,3,-999.000,9, 20150620,     0131,-999.000,   3.3298,2,    34.4479,2,     -999.0,9,     -999.0,-999.0000,     -999.0,     -999.0,9,     -999.0,     -999.0,9,     -999.0,  -999.0,9,     -999.0,     -999.0,9,     -999.0
33RO20150525,     P16N.2,     193,          1,         11,         11,2,20150620,       0024,    54.3498,  -149.1389,       3533,   800.7,   3.0529,  34.3514,2,  34.3532,2,     13.5,2,    12.7,2,  136.25,2,   43.49,2,       0,2,    3.06,2,    0.15,2,   0.072,2,       0,2,  2377.2,6,  2371.2,2,   7.2813,2,       25,-999.000,9,-999.0000,9, -999.00,9,  -999.0,9,  -999.0,-999.0000,9,-999.0000,  -999.0,9,     47.656,3,-999.000,9, 20150620,     0127,-999.000,   3.0528,2,    34.5152,2,     -999.0,9,     -999.0,-999.0000,     -999.0,     -999.0,9,     -999.0,     -999.0,9,     -999.0,  -999.0,9,     -999.0,     -999.0,9,     -999.0
33RO20150525,     P16N.2,     193,          1,         10,         10,2,20150620,       0024,    54.3498,  -149.1389,       3533,   950.2,   2.7878,  34.4058,2,  34.4044,2,     15.2,2,    14.9,2,  144.55,2,   43.49,2,       0,2,    3.05,2,   0.076,2,   0.038,2,       0,2,  2385.2,2,  2381.2,2,   7.2897,2,    24.97,-999.000,9,-999.0000,9, -999.00,9,  -999.0,9,  -999.0,-999.0000,9,-999.0000,  -999.0,9,     46.205,3,-999.000,9, 20150620,     0123,-999.000,   2.7892,2,    34.5666,2,     -999.0,9,     -999.0,-999.0000,     -999.0,     -999.0,9,     -999.0,     -999.0,9,     -999.0,  -999.0,9,     -999.0,     -999.0,9,     -999.0
33RO20150525,     P16N.2,     193,          1,          9,          9,2,20150620,       0024,    54.3498,  -149.1389,       3533,  1100.3,   2.5822,  34.4473,2,  34.4456,2,     18.6,2,    18.4,2,   150.7,2,   43.39,2,       0,2,    3.05,2,   0.045,2,   0.023,2,   0.054,2,  2390.7,2,  2388.4,2,   7.2992,2,    24.98,-999.000,9,-999.0000,9, -999.00,9,  -999.0,9,  -999.0,-999.0000,9,-999.0000,  -999.0,9,     45.157,3,-999.000,9, 20150620,     0119,-999.000,   2.5831,2,     34.608,2,     -999.0,9,     -999.0,-999.0000,     -999.0,     -999.0,9,     -999.0,     -999.0,9,     -999.0,  -999.0,9,     -999.0,     -999.0,9,     -999.0
33RO20150525,     P16N.2,     193,          1,          8,          8,2,20150620,       0024,    54.3498,  -149.1389,       3533,  1299.7,   2.3736,  34.4899,2,  34.4884,2,     25.7,2,    25.3,2,  156.08,2,      43,2,       0,2,    3.04,2,   0.026,2,   0.014,2,       0,2,  2391.7,2,  2397.5,2,   7.3165,2,    24.99,-999.000,9,-999.0000,9, -999.00,9,  -999.0,9,  -999.0,-999.0000,9,-999.0000,  -999.0,9,     42.524,3,-999.000,9, 20150620,     0114,-999.000,   2.3739,2,     34.651,2,     -999.0,9,     -999.0,-999.0000,     -999.0,     -999.0,9,     -999.0,     -999.0,9,     -999.0,  -999.0,9,     -999.0,     -999.0,9,     -999.0
33RO20150525,     P16N.2,     193,          1,          7,          7,2,20150620,       0024,    54.3498,  -149.1389,       3533,  1450.3,   2.2288,  34.5203,2,  34.5239,2,     32.5,2,    31.4,2,  159.69,2,   42.61,2,       0,2,    2.97,2,   0.015,2,   0.007,2,       0,2,    2392,2,    2403,2,   7.3333,2,    24.97,-999.000,9,-999.0000,9, -999.00,9,  -999.0,9,  -999.0,-999.0000,9,-999.0000,  -999.0,9,     40.514,3,-999.000,9, 20150620,     0110,-999.000,   2.2297,2,    34.6867,2,     -999.0,9,     -999.0,-999.0000,     -999.0,     -999.0,9,     -999.0,     -999.0,9,     -999.0,  -999.0,9,     -999.0,     -999.0,9,     -999.0
33RO20150525,     P16N.2,     193,          1,          6,          6,2,20150620,       0024,    54.3498,  -149.1389,       3533,  1600.3,   2.1061,  34.5467,2,  34.5471,2,     40.4,2,    40.1,2,  162.23,2,   42.22,2,       0,2,    2.94,2,-999.000,9,-999.000,9,-999.000,9,  2389.1,2,  2406.9,2,   7.3511,2,    24.98,-999.000,9,-999.0000,9, -999.00,9,  -999.0,9,  -999.0,-999.0000,9,-999.0000,  -999.0,9,     -999.0,9,-999.000,9, 20150620,     0106,-999.000,   2.1076,2,      34.71,2,     -999.0,9,     -999.0,-999.0000,     -999.0,     -999.0,9,     -999.0,     -999.0,9,     -999.0,  -999.0,9,     -999.0,     -999.0,9,     -999.0
33RO20150525,     P16N.2,     193,          1,          5,          5,2,20150620,       0024,    54.3498,  -149.1389,       3533,  1999.9,   1.9016,  34.5899,2,  34.5886,2,     59.1,2,    58.6,2,  165.25,2,   41.14,2,       0,2,    2.86,2,   0.003,2,   0.002,2,       0,2,    2382,2,  2415.3,2,   7.3927,2,    24.97,-999.000,9,-999.0000,9, -999.00,9,  -999.0,9,  -999.0,-999.0000,9,-999.0000,  -999.0,9,     34.004,3,-999.000,9, 20150620,     0058,-999.000,   1.9017,2,    34.7517,2,     -999.0,9,     -999.0,-999.0000,     -999.0,     -999.0,9,     -999.0,     -999.0,9,     -999.0,  -999.0,9,     -999.0,     -999.0,9,     -999.0
33RO20150525,     P16N.2,     193,          1,          4,          4,2,20150620,       0024,    54.3498,  -149.1389,       3533,  2399.4,   1.7085,  34.6279,2,  34.6282,2,     82.6,2,      83,2,  166.52,6,   39.67,6,       0,6,    2.75,6,   0.001,2,       0,2,       0,2,  2370.9,2,  2420.7,2,   7.4438,2,    24.96,-999.000,9,-999.0000,9, -999.00,9,  -999.0,9,  -999.0,-999.0000,9,-999.0000,  -999.0,9,     29.001,3,-999.000,9, 20150620,     0049,-999.000,   1.7089,2,    34.7914,6,     -999.0,9,     -999.0,-999.0000,     -999.0,     -999.0,9,     -999.0,     -999.0,9,     -999.0,  -999.0,9,     -999.0,     -999.0,9,     -999.0
33RO20150525,     P16N.2,     193,          1,          3,          3,2,20150620,       0024,    54.3498,  -149.1389,       3533,    2800,   1.5847,  34.6517,2,  34.6518,2,    104.7,2,   104.2,2,  164.66,6,    38.5,6,       0,6,    2.65,6,   0.001,2,   0.001,2,   0.018,2,  2358.3,2,  2422.6,2,   7.4868,3,    24.96,-999.000,9,-999.0000,9, -999.00,9,  -999.0,9,  -999.0,-999.0000,9,-999.0000,  -999.0,9,     25.759,3,-999.000,9, 20150620,     0041,-999.000,   1.5846,2,    34.8152,2,     -999.0,9,     -999.0,-999.0000,     -999.0,     -999.0,9,     -999.0,     -999.0,9,     -999.0,  -999.0,9,     -999.0,     -999.0,9,     -999.0
33RO20150525,     P16N.2,     193,          1,          2,          2,2,20150620,       0024,    54.3498,  -149.1389,       3533,  3320.1,   1.5185,  34.6678,2,  34.6687,2,    122.5,2,   122.2,2,  162.41,6,   37.23,6,       0,6,    2.57,6,-999.000,9,-999.000,9,-999.000,9,  2347.7,2,  2423.3,6,   7.5221,2,    24.93,-999.000,9,-999.0000,9, -999.00,9,  -999.0,9,  -999.0,-999.0000,9,-999.0000,  -999.0,9,     -999.0,9,-999.000,9, 20150620,     0031,-999.000,   1.5185,2,    34.8322,2,     -999.0,9,     -999.0,-999.0000,     -999.0,     -999.0,9,     -999.0,     -999.0,9,     -999.0,  -999.0,9,     -999.0,     -999.0,9,     -999.0
33RO20150525,     P16N.2,     193,          1,          1,          1,2,20150620,       0024,    54.3498,  -149.1389,       3533,    3581,   1.5053,  34.6736,2,  34.6726,2,    128.8,2,   128.5,2,  161.62,6,   36.84,6,       0,6,    2.54,6,   0.001,2,   0.001,2,       0,2,  2344.4,6,  2424.6,2,   7.5338,2,    24.96,-999.000,9,-999.0000,9, -999.00,9,  -999.0,9,  -999.0,-999.0000,9,-999.0000,  -999.0,9,     22.764,3,-999.000,9, 20150620,     0025,-999.000,   1.5049,2,    34.8361,2,     -999.0,9,     -999.0,-999.0000,     -999.0,     -999.0,9,     -999.0,     -999.0,9,     -999.0,  -999.0,9,     -999.0,     -999.0,9,     -999.0