BOTTLE,20220330CCHSIOCBG
EXPOCODE,SECT_ID,STNNBR,CASTNO,SAMPNO,BTLNBR,BTLNBR_FLAG_W,DATE,TIME,LATITUDE,LONGITUDE,DEPTH,CTDPRS,CTDTMP,CTDSAL,CTDSAL_FLAG_W,SALNTY,SALNTY_FLAG_W,CTDOXY,CTDOXY_FLAG_W,OXYGEN,OXYGEN_FLAG_W,SILCAT,SILCAT_FLAG_W,NITRAT,NITRAT_FLAG_W,NITRIT,NITRIT_FLAG_W,PHSPHT,PHSPHT_FLAG_W,CFC-11,CFC-11_FLAG_W,CFC-12,CFC-12_FLAG_W,SF6,SF6_FLAG_W,TCARBN,TCARBN_FLAG_W,ALKALI,ALKALI_FLAG_W,PH_TOT,PH_TOT_FLAG_W,PH_TMP,TRITUM,TRITUM_FLAG_W,HELIUM,HELIUM_FLAG_W,DELC13,DELC13_FLAG_W,DELC14,DELC14_FLAG_W,C14ERR,NEON,NEON_FLAG_W,NEONER,DOC,DOC_FLAG_W,N2O,N2O_FLAG_W,ARGON,ARGON_FLAG_W,BTL_DATE,BTL_TIME,TRITER,SBE35,SBE35_FLAG_W,SALTREF,SALTREF_FLAG_W,DELHE3,DELHE3_FLAG_W,DELHER,HELIER,ARGONER,KRYPTON,KRYPTON_FLAG_W,KRYPTONER,XENON,XENON_FLAG_W,XENONER,14C-DOC,14C-DOC_FLAG_W,14C-DOCERR,13C-DOC,13C-DOC_FLAG_W,13C-DOCERR
,,,,,,,,,,,METERS,DBAR,ITS-90,PSS-78,,PSS-78,,UMOL/KG,,UMOL/KG,,UMOL/KG,,UMOL/KG,,UMOL/KG,,UMOL/KG,,PMOL/KG,,PMOL/KG,,FMOL/KG,,UMOL/KG,,UMOL/KG,,,,DEG C,TU,,NMOL/KG,,/MILLE,,/MILLE,,/MILLE,NMOL/KG,,NMOL/KG,UMOL/KG,,NMOL/KG,,UMOL/KG,,,,TU,ITS-90,,G/KG,,PERCNT,,PERCNT,NMOL/KG,UMOL/KG,NMOL/KG,,NMOL/KG,NMOL/KG,,NMOL/KG,/MILLE,,/MILLE,/MILLE,,/MILLE
33RO20150525,     P16N.2,     202,          1,         24,         24,2,20150622,       1711,    56.1698,  -139.3991,       3351,     3.2,  13.5247,  31.7712,2,  31.8036,2,    287.4,2,   291.6,2,    0.88,2,     0.1,2,    0.03,2,    0.47,2,   3.423,6,   1.974,6,   2.395,6,  1945.1,6,  2157.2,2,   7.9357,2,    24.97,-999.000,9,-999.0000,9,    1.63,2,   -14.1,2,     2.3,-999.0000,9,-999.0000,    65.9,2,     10.625,3,-999.000,9, 20150622,     1835,-999.000,  13.5059,2,    31.9536,2,     -999.0,9,     -999.0,-999.0000,     -999.0,     -999.0,9,     -999.0,     -999.0,9,     -999.0,  -999.0,9,     -999.0,     -999.0,9,     -999.0
33RO20150525,     P16N.2,     202,          1,         23,         23,2,20150622,       1711,    56.1698,  -139.3991,       3351,    25.6,   9.9998,   31.956,2,  31.9648,2,    296.8,2,   283.5,2,   10.18,2,     4.7,2,    0.18,2,    0.94,2,   3.712,2,   2.118,2,   2.546,2,  1991.6,2,    2160,2,   7.8349,6,    24.98,-999.000,9,-999.0000,9,    1.14,2,   -10.0,2,     3.3,-999.0000,9,-999.0000,    56.8,2,     11.870,3,-999.000,9, 20150622,     1833,-999.000,   9.9998,2,    32.1155,2,     -999.0,9,     -999.0,-999.0000,     -999.0,     -999.0,9,     -999.0,     -999.0,9,     -999.0,  -999.0,9,     -999.0,     -999.0,9,     -999.0
33RO20150525,     P16N.2,     202,          1,         22,         22,2,20150622,       1711,    56.1698,  -139.3991,       3351,    50.3,   8.2964,  32.1185,2,  32.1454,2,    285.5,2,   264.1,4,   18.11,2,   11.16,2,    0.16,2,    1.21,2,   3.816,2,   2.163,2,   2.528,2,    2033,2,    2164,6,   7.7276,2,    24.98,-999.000,9,-999.0000,9,    0.75,2,   -22.7,2,     2.0,-999.0000,9,-999.0000,    55.6,2,     13.752,3,-999.000,9, 20150622,     1831,-999.000,   8.2994,2,    32.2969,2,     -999.0,9,     -999.0,-999.0000,     -999.0,     -999.0,9,     -999.0,     -999.0,9,     -999.0,  -999.0,9,     -999.0,     -999.0,9,     -999.0
33RO20150525,     P16N.2,     202,          1,         21,         21,2,20150622,       1711,    56.1698,  -139.3991,       3351,    75.2,    7.693,  32.2256,2,   32.244,2,    276.3,2,   268.4,2,   17.33,2,   11.45,2,    0.04,2,    1.22,2,   3.893,2,   2.213,2,   2.606,2,  2037.7,2,  2167.7,2,   7.7271,2,    24.96,-999.000,9,-999.0000,9,    0.81,2,   -13.0,2,     2.2,-999.0000,9,-999.0000,    53.9,2,     13.432,3,-999.000,9, 20150622,     1830,-999.000,   7.6914,2,    32.3961,2,     -999.0,9,     -999.0,-999.0000,     -999.0,     -999.0,9,     -999.0,     -999.0,9,     -999.0,  -999.0,9,     -999.0,     -999.0,9,     -999.0
33RO20150525,     P16N.2,     202,          1,         20,         20,2,20150622,       1711,    56.1698,  -139.3991,       3351,     100,   7.2406,  32.4673,2,  32.4978,2,    245.6,2,   242.3,2,   23.49,2,   16.05,2,    0.02,2,    1.46,2,    3.82,2,   2.179,2,   2.364,2,  2075.3,2,  2183.8,2,   7.6621,2,    24.98,-999.000,9,-999.0000,9,    0.53,2,   -16.5,2,     2.1,-999.0000,9,-999.0000,    53.1,2,     15.977,3,-999.000,9, 20150622,     1828,-999.000,    7.241,2,     32.651,2,     -999.0,9,     -999.0,-999.0000,     -999.0,     -999.0,9,     -999.0,     -999.0,9,     -999.0,  -999.0,9,     -999.0,     -999.0,9,     -999.0
33RO20150525,     P16N.2,     202,          1,         19,         19,2,20150622,       1711,    56.1698,  -139.3991,       3351,   125.8,   7.0302,  32.7963,2,  32.8398,2,    206.9,2,   204.2,2,   31.31,2,   21.14,2,    0.02,2,    1.73,2,   3.692,2,   2.079,2,   2.068,2,  2120.4,2,  2204.4,2,   7.5845,6,    24.95,-999.000,9,-999.0000,9,    0.16,2,   -26.4,2,     2.0,-999.0000,9,-999.0000,    57.0,2,     19.621,3,-999.000,9, 20150622,     1826,-999.000,   7.0296,2,    32.9947,2,     -999.0,9,     -999.0,-999.0000,     -999.0,     -999.0,9,     -999.0,     -999.0,9,     -999.0,  -999.0,9,     -999.0,     -999.0,9,     -999.0
33RO20150525,     P16N.2,     202,          1,         18,         18,2,20150622,       1711,    56.1698,  -139.3991,       3351,   150.1,   6.6066,  33.2218,2,  33.2431,2,    165.7,2,   167.4,2,   39.23,2,   26.12,2,    0.02,2,       2,2,    3.56,2,   1.986,2,   1.821,2,  2165.2,2,    2229,2,   7.5086,6,    24.99,-999.000,9,-999.0000,9,   -0.16,2,   -33.1,2,     2.1,-999.0000,9,-999.0000,    55.9,2,     24.034,3,-999.000,9, 20150622,     1825,-999.000,   6.6057,2,    33.3999,2,     -999.0,9,     -999.0,-999.0000,     -999.0,     -999.0,9,     -999.0,     -999.0,9,     -999.0,  -999.0,9,     -999.0,     -999.0,9,     -999.0
33RO20150525,     P16N.2,     202,          1,         17,         17,2,20150622,       1711,    56.1698,  -139.3991,       3351,   200.5,   6.0135,  33.7187,2,  33.7413,2,    122.8,2,   121.1,2,   50.85,2,   31.88,2,    0.01,2,     2.3,2,   3.237,2,   1.767,2,   1.337,2,  2226.4,2,  2261.7,2,   7.4226,6,    24.99,-999.000,9,-999.0000,9,   -0.44,2,   -35.2,2,     2.2,-999.0000,9,-999.0000,    51.8,2,     29.437,3,-999.000,9, 20150622,     1823,-999.000,   6.0142,2,    33.9004,2,     -999.0,9,     -999.0,-999.0000,     -999.0,     -999.0,9,     -999.0,     -999.0,9,     -999.0,  -999.0,9,     -999.0,     -999.0,9,     -999.0
33RO20150525,     P16N.2,     202,          1,         16,         16,2,20150622,       1711,    56.1698,  -139.3991,       3351,   275.6,   5.0261,  33.8994,2,   33.902,2,     76.7,2,    74.8,2,   69.03,2,   37.93,2,    0.01,2,    2.65,2,    2.56,2,   1.338,2,    0.84,2,  2276.3,2,  2288.5,2,   7.3297,6,    24.99,-999.000,9,-999.0000,9,   -0.59,2,   -78.2,2,     2.0,-999.0000,9,-999.0000,    45.2,2,     35.598,3,-999.000,9, 20150622,     1821,-999.000,   5.0264,2,    34.0619,2,     -999.0,9,     -999.0,-999.0000,     -999.0,     -999.0,9,     -999.0,     -999.0,9,     -999.0,  -999.0,9,     -999.0,     -999.0,9,     -999.0
33RO20150525,     P16N.2,     202,          1,         15,         15,2,20150622,       1711,    56.1698,  -139.3991,       3351,   349.7,   4.5986,  33.9712,2,  33.9714,2,     51.3,2,      51,2,   80.17,2,   40.47,2,    0.01,2,    2.82,2,   2.028,2,   1.041,2,   0.531,2,  2299.9,2,  2296.8,2,   7.2912,2,       25,-999.000,9,-999.0000,9,   -0.69,2,   -95.6,2,     2.0,-999.0000,9,-999.0000,    43.7,2,     39.060,3,-999.000,9, 20150622,     1819,-999.000,   4.5984,2,    34.1315,2,     -999.0,9,     -999.0,-999.0000,     -999.0,     -999.0,9,     -999.0,     -999.0,9,     -999.0,  -999.0,9,     -999.0,     -999.0,9,     -999.0
33RO20150525,     P16N.2,     202,          1,         14,         14,2,20150622,       1711,    56.1698,  -139.3991,       3351,     425,   4.3859,  34.0365,2,  34.0403,2,     36.8,2,    35.4,2,   89.16,2,   41.84,2,       0,2,    2.93,2,    1.55,2,   0.779,2,   0.401,2,  2318.8,2,  2309.3,2,   7.2729,2,    25.02,-999.000,9,-999.0000,9,   -0.76,2,  -116.1,2,     2.0,-999.0000,9,-999.0000,    43.1,2,     41.881,3,-999.000,9, 20150622,     1816,-999.000,   4.3852,2,    34.2008,2,     -999.0,9,     -999.0,-999.0000,     -999.0,     -999.0,9,     -999.0,     -999.0,9,     -999.0,  -999.0,9,     -999.0,     -999.0,9,     -999.0
33RO20150525,     P16N.2,     202,          1,         13,         13,2,20150622,       1711,    56.1698,  -139.3991,       3351,   500.5,   4.1812,  34.1023,2,  34.1044,2,     26.1,2,    25.2,2,   97.66,2,   42.72,2,       0,2,    2.99,2,   1.128,2,    0.56,2,    0.24,2,  2329.5,2,  2319.5,2,   7.2654,2,    25.02,-999.000,9,-999.0000,9,   -0.71,2,  -135.5,2,     1.9,-999.0000,9,-999.0000,    44.6,2,     44.444,3,-999.000,9, 20150622,     1814,-999.000,   4.1807,2,    34.2652,2,     -999.0,9,     -999.0,-999.0000,     -999.0,     -999.0,9,     -999.0,     -999.0,9,     -999.0,  -999.0,9,     -999.0,     -999.0,9,     -999.0
33RO20150525,     P16N.2,     202,          1,         12,         12,2,20150622,       1711,    56.1698,  -139.3991,       3351,   600.4,    3.923,  34.1788,2,  34.1793,2,       18,2,    17.3,2,  107.62,2,    43.5,2,       0,2,    3.05,2,   0.697,2,   0.343,2,   0.141,2,  2344.8,2,  2334.4,2,    7.265,2,    25.02,-999.000,9,-999.0000,9,   -0.67,2,  -154.4,2,     2.7,-999.0000,9,-999.0000,    42.4,2,     46.024,3,-999.000,9, 20150622,     1811,-999.000,   3.9225,2,    34.3404,6,     -999.0,9,     -999.0,-999.0000,     -999.0,     -999.0,9,     -999.0,     -999.0,9,     -999.0,  -999.0,9,     -999.0,     -999.0,9,     -999.0
33RO20150525,     P16N.2,     202,          1,         11,         11,2,20150622,       1711,    56.1698,  -139.3991,       3351,   749.9,   3.5699,   34.265,2,  34.2654,2,     13.6,2,    13.2,2,  120.03,2,   44.08,2,       0,2,    3.09,2,   0.334,2,   0.165,2,   0.074,2,    2361,2,  2351.3,2,   7.2704,2,    24.99,-999.000,9,-999.0000,9,   -0.72,2,  -177.7,2,     1.7,-999.0000,9,-999.0000,    39.8,2,     47.476,3,-999.000,9, 20150622,     1808,-999.000,    3.569,2,    34.4269,2,     -999.0,9,     -999.0,-999.0000,     -999.0,     -999.0,9,     -999.0,     -999.0,9,     -999.0,  -999.0,9,     -999.0,     -999.0,9,     -999.0
33RO20150525,     P16N.2,     202,          1,         10,         10,2,20150622,       1711,    56.1698,  -139.3991,       3351,   900.3,    3.191,  34.3444,2,  34.3429,2,     12.2,2,    12.2,2,  132.24,2,   44.18,2,       0,2,    3.11,2,   0.134,2,   0.067,2,   0.029,2,  2372.9,2,    2367,2,    7.278,2,    25.01,-999.000,9,-999.0000,9,   -0.70,2,  -197.8,2,     1.7,-999.0000,9,-999.0000,    37.9,2,     48.025,3,-999.000,9, 20150622,     1804,-999.000,   3.1978,2,    34.5048,2,     -999.0,9,     -999.0,-999.0000,     -999.0,     -999.0,9,     -999.0,     -999.0,9,     -999.0,  -999.0,9,     -999.0,     -999.0,9,     -999.0
33RO20150525,     P16N.2,     202,          1,          9,          9,2,20150622,       1711,    56.1698,  -139.3991,       3351,    1050,   2.9249,  34.3945,2,  34.3929,2,     12.7,2,    12.9,2,  140.74,2,   44.57,2,       0,2,    3.11,2,   0.067,2,   0.032,2,       0,2,  2381.7,2,  2378.8,2,   7.2846,6,    25.02,-999.000,9,-999.0000,9,   -0.73,2,  -209.0,2,     1.6,-999.0000,9,-999.0000,    37.7,2,     47.793,3,-999.000,9, 20150622,     1800,-999.000,   2.9246,2,    34.5551,2,     -999.0,9,     -999.0,-999.0000,     -999.0,     -999.0,9,     -999.0,     -999.0,9,     -999.0,  -999.0,9,     -999.0,     -999.0,9,     -999.0
33RO20150525,     P16N.2,     202,          1,          8,          8,2,20150622,       1711,    56.1698,  -139.3991,       3351,  1200.6,   2.6779,  34.4402,2,  34.4378,2,     15.9,2,    15.8,2,  147.87,2,   44.47,2,       0,2,    3.09,2,   0.036,2,   0.018,2,       0,2,  2387.3,6,    2388,2,    7.295,2,    25.01,-999.000,9,-999.0000,9,   -0.71,2,  -218.3,2,     1.7,-999.0000,9,-999.0000,    39.0,2,     46.125,3,-999.000,9, 20150622,     1757,-999.000,   2.6789,2,    34.6002,6,     -999.0,9,     -999.0,-999.0000,     -999.0,     -999.0,9,     -999.0,     -999.0,9,     -999.0,  -999.0,9,     -999.0,     -999.0,9,     -999.0
33RO20150525,     P16N.2,     202,          1,          7,          7,2,20150622,       1711,    56.1698,  -139.3991,       3351,  1300.5,   2.5259,   34.467,2,  34.4708,2,     19.1,2,    27.4,4,  152.26,2,   44.27,2,       0,2,    3.06,2,-999.000,9,-999.000,9,-999.000,9,    2390,2,  2393.8,2,   7.3034,2,    24.99,-999.000,9,-999.0000,9,   -0.62,2,  -222.8,2,     1.7,-999.0000,9,-999.0000,    38.6,2,     -999.0,9,-999.000,9, 20150622,     1754,-999.000,   2.5254,2,    34.6334,2,     -999.0,9,     -999.0,-999.0000,     -999.0,     -999.0,9,     -999.0,     -999.0,9,     -999.0,  -999.0,9,     -999.0,     -999.0,9,     -999.0
33RO20150525,     P16N.2,     202,          1,          6,          6,2,20150622,       1711,    56.1698,  -139.3991,       3351,    1500,   2.3086,  34.5086,2,  34.5113,2,     27.3,2,    46.9,4,  158.02,2,   43.88,2,       0,2,    3.03,2,   0.014,2,   0.007,2,       0,2,  2391.8,2,  2400.8,2,   7.3233,2,    24.99,-999.000,9,-999.0000,9,   -1.69,2,  -227.4,2,     1.7,-999.0000,9,-999.0000,    36.6,2,     41.631,3,-999.000,9, 20150622,     1749,-999.000,   2.3084,2,     34.674,2,     -999.0,9,     -999.0,-999.0000,     -999.0,     -999.0,9,     -999.0,     -999.0,9,     -999.0,  -999.0,9,     -999.0,     -999.0,9,     -999.0
33RO20150525,     P16N.2,     202,          1,          5,          5,2,20150622,       1711,    56.1698,  -139.3991,       3351,  1800.3,   2.0139,  34.5673,2,  34.5653,2,       47,2,    47.4,2,  163.88,2,    42.8,2,       0,2,    2.94,2,-999.000,9,-999.000,9,-999.000,9,  2387.2,2,  2411.3,2,   7.3661,2,    25.03,-999.000,9,-999.0000,9,   -0.53,2,  -235.3,2,     1.6,-999.0000,9,-999.0000,    37.0,2,     -999.0,9,-999.000,9, 20150622,     1743,-999.000,   2.0141,2,    34.7283,2,     -999.0,9,     -999.0,-999.0000,     -999.0,     -999.0,9,     -999.0,     -999.0,9,     -999.0,  -999.0,9,     -999.0,     -999.0,9,     -999.0
33RO20150525,     P16N.2,     202,          1,          4,          4,2,20150622,       1711,    56.1698,  -139.3991,       3351,  2250.5,   1.7468,  34.6199,2,  34.6193,2,     75.6,2,    75.7,2,  167.68,6,   40.85,6,       0,6,    2.81,6,   0.007,2,   0.001,2,       0,2,  2374.7,2,  2420.7,6,   7.4288,2,       25,-999.000,9,-999.0000,9,   -0.39,2,  -238.9,2,     1.7,-999.0000,9,-999.0000,    37.8,2,     30.140,3,-999.000,9, 20150622,     1734,-999.000,   1.7465,2,    34.7825,2,     -999.0,9,     -999.0,-999.0000,     -999.0,     -999.0,9,     -999.0,     -999.0,9,     -999.0,  -999.0,9,     -999.0,     -999.0,9,     -999.0
33RO20150525,     P16N.2,     202,          1,          3,          3,2,20150622,       1711,    56.1698,  -139.3991,       3351,    2600,   1.6459,  34.6408,2,  34.6399,2,     91.7,2,    91.6,2,  169.05,6,   39.77,6,       0,6,    2.75,6,-999.000,9,-999.000,9,-999.000,9,  2366.3,2,  2423.6,2,   7.4624,6,    25.01,-999.000,9,-999.0000,9,   -0.31,2,  -238.1,2,     1.8,-999.0000,9,-999.0000,    36.8,2,     -999.0,9,-999.000,9, 20150622,     1727,-999.000,   1.6457,2,    34.8033,2,     -999.0,9,     -999.0,-999.0000,     -999.0,     -999.0,9,     -999.0,     -999.0,9,     -999.0,  -999.0,9,     -999.0,     -999.0,9,     -999.0
33RO20150525,     P16N.2,     202,          1,          2,          2,2,20150622,       1711,    56.1698,  -139.3991,       3351,  3033.1,   1.5542,    34.66,2,  34.6594,2,    110.5,2,   110.9,2,  167.87,6,    38.5,6,       0,6,    2.66,6,   0.004,2,   0.003,2,       0,2,  2356.7,2,  2426.3,2,   7.5013,6,    25.03,-999.000,9,-999.0000,9,   -0.20,2,  -230.6,2,     1.6,-999.0000,9,-999.0000,    37.6,2,     24.761,3,-999.000,9, 20150622,     1719,-999.000,   1.5542,2,    34.8228,2,     -999.0,9,     -999.0,-999.0000,     -999.0,     -999.0,9,     -999.0,     -999.0,9,     -999.0,  -999.0,9,     -999.0,     -999.0,9,     -999.0
33RO20150525,     P16N.2,     202,          1,          1,          1,2,20150622,       1711,    56.1698,  -139.3991,       3351,  3378.9,   1.4794,  34.6762,2,  34.6777,2,    127.8,2,   127.2,2,  169.53,6,   37.33,6,    0.01,6,    2.59,6,   0.004,2,   0.004,2,       0,2,  2350.1,6,  2429.3,2,   7.5351,2,    25.03,-999.000,9,-999.0000,9,   -0.06,2,  -222.5,2,     1.6,-999.0000,9,-999.0000,    37.1,2,     22.620,3,-999.000,9, 20150622,     1712,-999.000,    1.479,2,    34.8412,2,     -999.0,9,     -999.0,-999.0000,     -999.0,     -999.0,9,     -999.0,     -999.0,9,     -999.0,  -999.0,9,     -999.0,     -999.0,9,     -999.0