BOTTLE,20220330CCHSIOCBG
EXPOCODE,SECT_ID,STNNBR,CASTNO,SAMPNO,BTLNBR,BTLNBR_FLAG_W,DATE,TIME,LATITUDE,LONGITUDE,DEPTH,CTDPRS,CTDTMP,CTDSAL,CTDSAL_FLAG_W,SALNTY,SALNTY_FLAG_W,CTDOXY,CTDOXY_FLAG_W,OXYGEN,OXYGEN_FLAG_W,SILCAT,SILCAT_FLAG_W,NITRAT,NITRAT_FLAG_W,NITRIT,NITRIT_FLAG_W,PHSPHT,PHSPHT_FLAG_W,CFC-11,CFC-11_FLAG_W,CFC-12,CFC-12_FLAG_W,SF6,SF6_FLAG_W,TCARBN,TCARBN_FLAG_W,ALKALI,ALKALI_FLAG_W,PH_TOT,PH_TOT_FLAG_W,PH_TMP,TRITUM,TRITUM_FLAG_W,HELIUM,HELIUM_FLAG_W,DELC13,DELC13_FLAG_W,DELC14,DELC14_FLAG_W,C14ERR,NEON,NEON_FLAG_W,NEONER,DOC,DOC_FLAG_W,N2O,N2O_FLAG_W,ARGON,ARGON_FLAG_W,BTL_DATE,BTL_TIME,TRITER,SBE35,SBE35_FLAG_W,SALTREF,SALTREF_FLAG_W,DELHE3,DELHE3_FLAG_W,DELHER,HELIER,ARGONER,KRYPTON,KRYPTON_FLAG_W,KRYPTONER,XENON,XENON_FLAG_W,XENONER,14C-DOC,14C-DOC_FLAG_W,14C-DOCERR,13C-DOC,13C-DOC_FLAG_W,13C-DOCERR
,,,,,,,,,,,METERS,DBAR,ITS-90,PSS-78,,PSS-78,,UMOL/KG,,UMOL/KG,,UMOL/KG,,UMOL/KG,,UMOL/KG,,UMOL/KG,,PMOL/KG,,PMOL/KG,,FMOL/KG,,UMOL/KG,,UMOL/KG,,,,DEG C,TU,,NMOL/KG,,/MILLE,,/MILLE,,/MILLE,NMOL/KG,,NMOL/KG,UMOL/KG,,NMOL/KG,,UMOL/KG,,,,TU,ITS-90,,G/KG,,PERCNT,,PERCNT,NMOL/KG,UMOL/KG,NMOL/KG,,NMOL/KG,NMOL/KG,,NMOL/KG,/MILLE,,/MILLE,/MILLE,,/MILLE
33RO20150525,     P16N.2,     157,          1,         24,         24,2,20150610,       0521,    44.5002,  -152.0001,       5081,     3.3,  11.5464,  33.0552,2,  33.0539,2,    283.8,2,   283.9,2,    6.75,2,    5.48,2,    0.08,2,     0.7,2,    3.51,2,   1.994,2,   2.373,2,  2024.9,6,    2217,2,   7.8598,3,       25,-999.000,9,-999.0000,9, -999.00,9,  -999.0,9,  -999.0,-999.0000,9,-999.0000,    56.4,2,     10.603,3,-999.000,9, 20150610,     0723,-999.000,  11.5455,2,    33.2098,2,     -999.0,9,     -999.0,-999.0000,     -999.0,     -999.0,9,     -999.0,     -999.0,9,     -999.0,  -999.0,9,     -999.0,     -999.0,9,     -999.0
33RO20150525,     P16N.2,     157,          1,         23,         23,2,20150610,       0521,    44.5002,  -152.0001,       5081,    20.2,   11.503,  33.0509,2,  33.0545,2,    284.2,2,   284.2,2,    7.34,2,    5.68,2,    0.08,2,    0.73,2,-999.000,9,-999.000,9,-999.000,9,  2025.9,2,  2214.8,2,   7.8596,2,       25,-999.000,9,-999.0000,9, -999.00,9,  -999.0,9,  -999.0,-999.0000,9,-999.0000,    56.6,2,     -999.0,9,-999.000,9, 20150610,     0721,-999.000,  11.5107,2,    33.2104,2,     -999.0,9,     -999.0,-999.0000,     -999.0,     -999.0,9,     -999.0,     -999.0,9,     -999.0,  -999.0,9,     -999.0,     -999.0,9,     -999.0
33RO20150525,     P16N.2,     157,          1,         22,         22,2,20150610,       0521,    44.5002,  -152.0001,       5081,    42.4,   9.0996,  33.0303,2,  33.0337,2,    303.2,2,   299.2,2,   10.57,2,    7.73,2,    0.06,2,    0.88,2,   3.873,2,   2.174,2,   2.536,2,  2035.4,2,  2213.5,6,   7.8272,2,       25,-999.000,9,-999.0000,9, -999.00,9,  -999.0,9,  -999.0,-999.0000,9,-999.0000,    54.7,2,     11.395,3,-999.000,9, 20150610,     0719,-999.000,   9.0829,2,    33.1894,2,     -999.0,9,     -999.0,-999.0000,     -999.0,     -999.0,9,     -999.0,     -999.0,9,     -999.0,  -999.0,9,     -999.0,     -999.0,9,     -999.0
33RO20150525,     P16N.2,     157,          1,         21,         21,2,20150610,       0521,    44.5002,  -152.0001,       5081,    67.5,   8.7622,  33.1377,2,  33.1492,2,    285.2,2,   284.7,2,     9.1,2,    8.22,2,    0.15,2,    0.89,2,   3.837,2,   2.161,2,   2.483,2,  2048.9,2,  2217.3,2,   7.8037,2,    24.99,-999.000,9,-999.0000,9, -999.00,9,  -999.0,9,  -999.0,-999.0000,9,-999.0000,    52.9,2,     11.469,3,-999.000,9, 20150610,     0717,-999.000,   8.7605,2,    33.3055,2,     -999.0,9,     -999.0,-999.0000,     -999.0,     -999.0,9,     -999.0,     -999.0,9,     -999.0,  -999.0,9,     -999.0,     -999.0,9,     -999.0
33RO20150525,     P16N.2,     157,          1,         20,         20,2,20150610,       0521,    44.5002,  -152.0001,       5081,    92.3,   8.4342,  33.6099,2,  33.6465,2,    255.4,2,   253.3,2,   14.09,2,   12.81,2,    0.05,2,    1.06,2,   3.715,2,   2.126,2,   2.339,2,  2091.3,2,  2237.2,2,   7.7491,6,    24.99,-999.000,9,-999.0000,9, -999.00,9,  -999.0,9,  -999.0,-999.0000,9,-999.0000,    49.0,2,     12.744,3,-999.000,9, 20150610,     0715,-999.000,   8.4339,2,    33.8052,2,     -999.0,9,     -999.0,-999.0000,     -999.0,     -999.0,9,     -999.0,     -999.0,9,     -999.0,  -999.0,9,     -999.0,     -999.0,9,     -999.0
33RO20150525,     P16N.2,     157,          1,         19,         19,2,20150610,       0521,    44.5002,  -152.0001,       5081,   133.2,   8.3562,  33.8813,2,  33.8817,2,    235.9,2,   236.1,2,   19.85,2,   15.94,2,    0.02,2,    1.19,2,   3.603,2,   2.059,2,   2.119,2,    2115,2,  2252.2,2,   7.7213,2,       25,-999.000,9,-999.0000,9, -999.00,9,  -999.0,9,  -999.0,-999.0000,9,-999.0000,    48.1,2,     15.473,3,-999.000,9, 20150610,     0712,-999.000,   8.3566,2,    34.0415,2,     -999.0,9,     -999.0,-999.0000,     -999.0,     -999.0,9,     -999.0,     -999.0,9,     -999.0,  -999.0,9,     -999.0,     -999.0,9,     -999.0
33RO20150525,     P16N.2,     157,          1,         18,         18,2,20150610,       0521,    44.5002,  -152.0001,       5081,   200.1,   7.6015,  33.9581,2,  33.9348,2,    183.1,2,   185.9,2,   34.13,2,   22.69,2,    0.01,2,    1.64,2,    3.28,2,    1.83,2,   1.532,2,  2159.1,2,  2267.2,2,    7.629,2,    24.99,-999.000,9,-999.0000,9, -999.00,9,  -999.0,9,  -999.0,-999.0000,9,-999.0000,    47.5,2,     25.801,3,-999.000,9, 20150610,     0709,-999.000,   7.6029,2,    34.0948,2,     -999.0,9,     -999.0,-999.0000,     -999.0,     -999.0,9,     -999.0,     -999.0,9,     -999.0,  -999.0,9,     -999.0,     -999.0,9,     -999.0
33RO20150525,     P16N.2,     157,          1,         17,         17,2,20150610,       0521,    44.5002,  -152.0001,       5081,   274.2,   6.3891,  33.9365,2,  33.9387,2,    145.9,2,   146.2,2,   49.78,2,   28.95,2,    0.01,2,    2.06,2,   3.007,2,   1.611,2,   1.171,2,  2209.7,2,  2278.4,2,   7.5245,2,    24.99,-999.000,9,-999.0000,9, -999.00,9,  -999.0,9,  -999.0,-999.0000,9,-999.0000,    44.8,2,     29.214,3,-999.000,9, 20150610,     0706,-999.000,   6.3856,2,    34.0988,2,     -999.0,9,     -999.0,-999.0000,     -999.0,     -999.0,9,     -999.0,     -999.0,9,     -999.0,  -999.0,9,     -999.0,     -999.0,9,     -999.0
33RO20150525,     P16N.2,     157,          1,         16,         16,2,20150610,       0521,    44.5002,  -152.0001,       5081,   367.5,   5.1869,  33.9265,2,  33.9276,2,    113.2,2,   112.2,2,   65.91,2,   34.42,2,    0.01,2,    2.44,2,   2.616,2,   1.378,2,   0.875,2,  2249.6,2,  2289.2,2,   7.4277,6,    24.98,-999.000,9,-999.0000,9, -999.00,9,  -999.0,9,  -999.0,-999.0000,9,-999.0000,    45.1,2,     32.282,3,-999.000,9, 20150610,     0703,-999.000,   5.1872,2,    34.0875,2,     -999.0,9,     -999.0,-999.0000,     -999.0,     -999.0,9,     -999.0,     -999.0,9,     -999.0,  -999.0,9,     -999.0,     -999.0,9,     -999.0
33RO20150525,     P16N.2,     157,          1,         15,         15,2,20150610,       0521,    44.5002,  -152.0001,       5081,   465.7,   4.4847,  33.9957,2,  34.0028,2,     79.7,2,    78.7,2,   82.04,2,   38.24,2,    0.02,2,    2.71,2,   2.008,6,   1.032,6,   0.589,6,  2281.3,2,  2304.3,2,   7.3625,2,    24.99,-999.000,9,-999.0000,9, -999.00,9,  -999.0,9,  -999.0,-999.0000,9,-999.0000,    42.9,2,     36.106,3,-999.000,9, 20150610,     0700,-999.000,   4.4841,2,    34.1631,2,     -999.0,9,     -999.0,-999.0000,     -999.0,     -999.0,9,     -999.0,     -999.0,9,     -999.0,  -999.0,9,     -999.0,     -999.0,9,     -999.0
33RO20150525,     P16N.2,     157,          1,         14,         14,2,20150610,       0521,    44.5002,  -152.0001,       5081,   600.6,   4.1069,  34.1375,2,  34.1386,2,     42.9,2,    41.5,2,  100.13,2,   41.56,2,       0,2,    2.92,2,-999.000,9,-999.000,9,-999.000,9,  2323.1,2,  2327.2,2,   7.3133,2,    24.96,-999.000,9,-999.0000,9, -999.00,9,  -999.0,9,  -999.0,-999.0000,9,-999.0000,    44.1,2,     -999.0,9,-999.000,9, 20150610,     0656,-999.000,   4.1066,2,    34.2996,2,     -999.0,9,     -999.0,-999.0000,     -999.0,     -999.0,9,     -999.0,     -999.0,9,     -999.0,  -999.0,9,     -999.0,     -999.0,9,     -999.0
33RO20150525,     P16N.2,     157,          1,         13,         13,2,20150610,       0521,    44.5002,  -152.0001,       5081,   749.3,   3.6761,  34.2394,2,  34.2458,2,     26.8,2,    26.3,2,  115.47,2,   43.12,2,    0.01,2,    3.03,2,   0.465,2,   0.223,2,   0.058,2,  2349.7,2,  2347.4,2,   7.2976,2,       25,-999.000,9,-999.0000,9, -999.00,9,  -999.0,9,  -999.0,-999.0000,9,-999.0000,    41.4,2,     45.477,3,-999.000,9, 20150610,     0652,-999.000,   3.6793,2,    34.4073,2,     -999.0,9,     -999.0,-999.0000,     -999.0,     -999.0,9,     -999.0,     -999.0,9,     -999.0,  -999.0,9,     -999.0,     -999.0,9,     -999.0
33RO20150525,     P16N.2,     157,          1,         12,         12,2,20150610,       0521,    44.5002,  -152.0001,       5081,   899.8,   3.2619,  34.3156,2,  34.3137,2,     18.4,2,    18.1,2,  128.86,2,   44.09,2,       0,2,    3.09,2,-999.000,9,-999.000,9,-999.000,9,  2367.3,2,  2363.8,2,   7.2893,2,    24.99,-999.000,9,-999.0000,9, -999.00,9,  -999.0,9,  -999.0,-999.0000,9,-999.0000,    40.3,2,     -999.0,9,-999.000,9, 20150610,     0648,-999.000,   3.2618,2,    34.4755,2,     -999.0,9,     -999.0,-999.0000,     -999.0,     -999.0,9,     -999.0,     -999.0,9,     -999.0,  -999.0,9,     -999.0,     -999.0,9,     -999.0
33RO20150525,     P16N.2,     157,          1,         11,         11,2,20150610,       0521,    44.5002,  -152.0001,       5081,    1050,   2.9614,  34.3757,2,  34.3737,2,     15.3,2,    14.8,2,  138.72,2,   44.58,2,       0,2,    3.12,2,   0.082,2,    0.04,2,       0,2,  2378.9,2,  2376.7,2,    7.289,2,       25,-999.000,9,-999.0000,9, -999.00,9,  -999.0,9,  -999.0,-999.0000,9,-999.0000,    40.7,2,     48.768,3,-999.000,9, 20150610,     0644,-999.000,   2.9611,2,    34.5358,2,     -999.0,9,     -999.0,-999.0000,     -999.0,     -999.0,9,     -999.0,     -999.0,9,     -999.0,  -999.0,9,     -999.0,     -999.0,9,     -999.0
33RO20150525,     P16N.2,     157,          1,         10,         10,2,20150610,       0521,    44.5002,  -152.0001,       5081,  1232.4,   2.6711,  34.4351,2,  34.4358,2,     16.4,2,    15.8,2,     148,2,   44.77,2,       0,2,    3.12,2,-999.000,9,-999.000,9,-999.000,9,  2389.5,6,  2387.7,2,   7.2969,2,    24.99,-999.000,9,-999.0000,9, -999.00,9,  -999.0,9,  -999.0,-999.0000,9,-999.0000,    37.9,2,     -999.0,9,-999.000,9, 20150610,     0640,-999.000,   2.6712,2,    34.5981,2,     -999.0,9,     -999.0,-999.0000,     -999.0,     -999.0,9,     -999.0,     -999.0,9,     -999.0,  -999.0,9,     -999.0,     -999.0,9,     -999.0
33RO20150525,     P16N.2,     157,          1,          9,          9,2,20150610,       0521,    44.5002,  -152.0001,       5081,  1500.5,   2.3652,  34.4993,2,  34.4982,2,     21.7,2,    20.6,2,  157.77,2,   44.67,2,       0,2,    3.09,2,-999.000,9,-999.000,9,-999.000,9,  2396.7,2,  2400.6,2,   7.3108,2,    24.99,-999.000,9,-999.0000,9, -999.00,9,  -999.0,9,  -999.0,-999.0000,9,-999.0000,    37.5,2,     -999.0,9,-999.000,9, 20150610,     0634,-999.000,   2.3651,2,    34.6609,2,     -999.0,9,     -999.0,-999.0000,     -999.0,     -999.0,9,     -999.0,     -999.0,9,     -999.0,  -999.0,9,     -999.0,     -999.0,9,     -999.0
33RO20150525,     P16N.2,     157,          1,          8,          8,2,20150610,       0521,    44.5002,  -152.0001,       5081,  1867.3,   2.0608,  34.5667,2,  34.5648,2,     39.1,2,    38.4,2,  165.78,2,   43.69,2,       0,2,       3,2,-999.000,9,-999.000,9,-999.000,9,  2393.6,2,  2411.6,2,   7.3517,2,    24.99,-999.000,9,-999.0000,9, -999.00,9,  -999.0,9,  -999.0,-999.0000,9,-999.0000,    37.9,2,     -999.0,9,-999.000,9, 20150610,     0626,-999.000,   2.0603,2,    34.7278,2,     -999.0,9,     -999.0,-999.0000,     -999.0,     -999.0,9,     -999.0,     -999.0,9,     -999.0,  -999.0,9,     -999.0,     -999.0,9,     -999.0
33RO20150525,     P16N.2,     157,          1,          7,          7,2,20150610,       0521,    44.5002,  -152.0001,       5081,  2266.4,   1.8183,  34.6146,2,  34.6198,4,     65.6,2,    64.8,2,   168.8,2,   42.03,2,       0,2,     2.9,2,-999.000,9,-999.000,9,-999.000,9,  2383.5,2,  2420.4,2,   7.4088,6,    24.97,-999.000,9,-999.0000,9, -999.00,9,  -999.0,9,  -999.0,-999.0000,9,-999.0000,    37.6,2,     -999.0,9,-999.000,9, 20150610,     0618,-999.000,   1.8193,2,     34.783,2,     -999.0,9,     -999.0,-999.0000,     -999.0,     -999.0,9,     -999.0,     -999.0,9,     -999.0,  -999.0,9,     -999.0,     -999.0,9,     -999.0
33RO20150525,     P16N.2,     157,          1,          6,          6,2,20150610,       0521,    44.5002,  -152.0001,       5081,  2665.9,   1.6515,  34.6431,2,  34.6471,2,     91.2,2,    91.2,2,  166.06,2,   40.37,2,       0,2,    2.77,2,-999.000,9,-999.000,9,-999.000,9,  2371.5,2,  2421.2,2,   7.4602,2,    24.98,-999.000,9,-999.0000,9, -999.00,9,  -999.0,9,  -999.0,-999.0000,9,-999.0000,    38.3,2,     -999.0,9,-999.000,9, 20150610,     0610,-999.000,   1.6506,2,    34.8105,2,     -999.0,9,     -999.0,-999.0000,     -999.0,     -999.0,9,     -999.0,     -999.0,9,     -999.0,  -999.0,9,     -999.0,     -999.0,9,     -999.0
33RO20150525,     P16N.2,     157,          1,          5,          5,2,20150610,       0521,    44.5002,  -152.0001,       5081,  3133.3,   1.5356,  34.6643,2,  34.6634,2,    115.6,2,   115.4,2,  161.47,2,   38.71,2,       0,2,    2.66,2,-999.000,9,-999.000,9,-999.000,9,  2350.6,2,  2425.2,2,   7.5076,6,    24.98,-999.000,9,-999.0000,9, -999.00,9,  -999.0,9,  -999.0,-999.0000,9,-999.0000,    38.4,2,     -999.0,9,-999.000,9, 20150610,     0601,-999.000,   1.5358,2,    34.8268,2,     -999.0,9,     -999.0,-999.0000,     -999.0,     -999.0,9,     -999.0,     -999.0,9,     -999.0,  -999.0,9,     -999.0,     -999.0,9,     -999.0
33RO20150525,     P16N.2,     157,          1,          4,          4,2,20150610,       0521,    44.5002,  -152.0001,       5081,  3633.2,   1.4769,  34.6779,2,  34.6767,2,    133.5,2,   133.4,2,  157.85,6,   37.43,6,       0,6,    2.57,6,-999.000,9,-999.000,9,-999.000,9,  2340.5,2,  2423.4,2,   7.5438,6,    24.98,-999.000,9,-999.0000,9, -999.00,9,  -999.0,9,  -999.0,-999.0000,9,-999.0000,    36.6,2,     -999.0,9,-999.000,9, 20150610,     0551,-999.000,   1.4769,2,    34.8402,2,     -999.0,9,     -999.0,-999.0000,     -999.0,     -999.0,9,     -999.0,     -999.0,9,     -999.0,  -999.0,9,     -999.0,     -999.0,9,     -999.0
33RO20150525,     P16N.2,     157,          1,          3,          3,2,20150610,       0521,    44.5002,  -152.0001,       5081,  4133.8,   1.4793,  34.6854,2,  34.6862,2,    140.4,2,   140.5,2,   160.1,6,   36.95,6,       0,6,    2.53,6,-999.000,9,-999.000,9,-999.000,9,  2337.3,2,  2427.4,6,   7.5623,2,    24.99,-999.000,9,-999.0000,9, -999.00,9,  -999.0,9,  -999.0,-999.0000,9,-999.0000,    36.8,2,     -999.0,9,-999.000,9, 20150610,     0541,-999.000,   1.4796,2,    34.8498,2,     -999.0,9,     -999.0,-999.0000,     -999.0,     -999.0,9,     -999.0,     -999.0,9,     -999.0,  -999.0,9,     -999.0,     -999.0,9,     -999.0
33RO20150525,     P16N.2,     157,          1,          2,          2,2,20150610,       0521,    44.5002,  -152.0001,       5081,  4633.5,   1.5244,  34.6879,2,  34.6943,4,    142.3,2,   142.5,2,  162.83,6,   36.85,6,       0,6,    2.52,6,-999.000,9,-999.000,9,-999.000,9,    2338,2,  2430.6,2,   7.5679,2,    24.99,-999.000,9,-999.0000,9, -999.00,9,  -999.0,9,  -999.0,-999.0000,9,-999.0000,    38.8,2,     -999.0,9,-999.000,9, 20150610,     0531,-999.000,   1.5246,2,    34.8578,2,     -999.0,9,     -999.0,-999.0000,     -999.0,     -999.0,9,     -999.0,     -999.0,9,     -999.0,  -999.0,9,     -999.0,     -999.0,9,     -999.0
33RO20150525,     P16N.2,     157,          1,          1,          1,2,20150610,       0521,    44.5002,  -152.0001,       5081,  5181.2,   1.5904,  34.6885,2,  34.6882,2,    143.2,2,     143,2,  163.22,6,   36.85,6,       0,6,    2.52,6,-999.000,9,-999.000,9,-999.000,9,  2338.2,6,  2430.6,2,   7.5692,2,    24.99,-999.000,9,-999.0000,9, -999.00,9,  -999.0,9,  -999.0,-999.0000,9,-999.0000,    38.5,2,     -999.0,9,-999.000,9, 20150610,     0521,-999.000,   1.5905,2,    34.8517,2,     -999.0,9,     -999.0,-999.0000,     -999.0,     -999.0,9,     -999.0,     -999.0,9,     -999.0,  -999.0,9,     -999.0,     -999.0,9,     -999.0