BOTTLE,20220330CCHSIOCBG
EXPOCODE,SECT_ID,STNNBR,CASTNO,SAMPNO,BTLNBR,BTLNBR_FLAG_W,DATE,TIME,LATITUDE,LONGITUDE,DEPTH,CTDPRS,CTDTMP,CTDSAL,CTDSAL_FLAG_W,SALNTY,SALNTY_FLAG_W,CTDOXY,CTDOXY_FLAG_W,OXYGEN,OXYGEN_FLAG_W,SILCAT,SILCAT_FLAG_W,NITRAT,NITRAT_FLAG_W,NITRIT,NITRIT_FLAG_W,PHSPHT,PHSPHT_FLAG_W,CFC-11,CFC-11_FLAG_W,CFC-12,CFC-12_FLAG_W,SF6,SF6_FLAG_W,TCARBN,TCARBN_FLAG_W,ALKALI,ALKALI_FLAG_W,PH_TOT,PH_TOT_FLAG_W,PH_TMP,TRITUM,TRITUM_FLAG_W,HELIUM,HELIUM_FLAG_W,DELC13,DELC13_FLAG_W,DELC14,DELC14_FLAG_W,C14ERR,NEON,NEON_FLAG_W,NEONER,DOC,DOC_FLAG_W,N2O,N2O_FLAG_W,ARGON,ARGON_FLAG_W,BTL_DATE,BTL_TIME,TRITER,SBE35,SBE35_FLAG_W,SALTREF,SALTREF_FLAG_W,DELHE3,DELHE3_FLAG_W,DELHER,HELIER,ARGONER,KRYPTON,KRYPTON_FLAG_W,KRYPTONER,XENON,XENON_FLAG_W,XENONER,14C-DOC,14C-DOC_FLAG_W,14C-DOCERR,13C-DOC,13C-DOC_FLAG_W,13C-DOCERR
,,,,,,,,,,,METERS,DBAR,ITS-90,PSS-78,,PSS-78,,UMOL/KG,,UMOL/KG,,UMOL/KG,,UMOL/KG,,UMOL/KG,,UMOL/KG,,PMOL/KG,,PMOL/KG,,FMOL/KG,,UMOL/KG,,UMOL/KG,,,,DEG C,TU,,NMOL/KG,,/MILLE,,/MILLE,,/MILLE,NMOL/KG,,NMOL/KG,UMOL/KG,,NMOL/KG,,UMOL/KG,,,,TU,ITS-90,,G/KG,,PERCNT,,PERCNT,NMOL/KG,UMOL/KG,NMOL/KG,,NMOL/KG,NMOL/KG,,NMOL/KG,/MILLE,,/MILLE,/MILLE,,/MILLE
33RO20150525,     P16N.2,     120,          2,         24,         24,2,20150529,       1342,    25.9999,  -152.0001,       5376,     2.9,  23.3707,  35.3633,2,  35.3631,2,    214.2,2,   214.8,2,    1.17,2,       0,2,       0,2,    0.08,2,   1.835,6,   1.127,6,   1.483,6,  2022.8,6,  2327.1,2,   8.0432,2,    25.07,-999.000,9,-999.0000,9, -999.00,9,  -999.0,9,  -999.0,-999.0000,9,-999.0000,  -999.0,9,      6.769,3,-999.000,9, 20150529,     1548,-999.000,  23.3707,2,    35.5299,2,     -999.0,9,     -999.0,-999.0000,     -999.0,     -999.0,9,     -999.0,     -999.0,9,     -999.0,  -999.0,9,     -999.0,     -999.0,9,     -999.0
33RO20150525,     P16N.2,     120,          2,         23,         23,2,20150529,       1342,    25.9999,  -152.0001,       5376,    33.6,  23.0777,  35.3695,2,  35.3673,2,      217,2,   216.7,2,    1.27,2,       0,2,    0.01,2,    0.08,2,   1.861,2,   1.143,2,    1.49,2,  2023.7,2,  2325.3,2,   8.0422,2,    25.06,-999.000,9,-999.0000,9, -999.00,9,  -999.0,9,  -999.0,-999.0000,9,-999.0000,  -999.0,9,      6.906,3,-999.000,9, 20150529,     1545,-999.000,  23.0779,2,    35.5341,2,     -999.0,9,     -999.0,-999.0000,     -999.0,     -999.0,9,     -999.0,     -999.0,9,     -999.0,  -999.0,9,     -999.0,     -999.0,9,     -999.0
33RO20150525,     P16N.2,     120,          2,         22,         22,2,20150529,       1342,    25.9999,  -152.0001,       5376,    58.7,  22.2875,  35.3519,2,  35.3483,2,    219.7,2,     220,2,    1.37,2,       0,2,       0,2,    0.07,2,   1.943,2,   1.189,2,   1.501,2,  2030.6,2,  2326.3,2,   8.0303,6,    25.06,-999.000,9,-999.0000,9, -999.00,9,  -999.0,9,  -999.0,-999.0000,9,-999.0000,  -999.0,9,      7.249,3,-999.000,9, 20150529,     1543,-999.000,   22.289,2,     35.515,6,     -999.0,9,     -999.0,-999.0000,     -999.0,     -999.0,9,     -999.0,     -999.0,9,     -999.0,  -999.0,9,     -999.0,     -999.0,9,     -999.0
33RO20150525,     P16N.2,     120,          2,         21,         21,2,20150529,       1342,    25.9999,  -152.0001,       5376,    83.2,  21.1986,  35.2754,2,  35.2762,2,    218.9,2,   219.1,2,    1.76,2,       0,2,    0.01,2,    0.08,2,   2.066,2,   1.248,2,   1.568,2,  2038.1,2,  2319.8,6,   8.0076,6,    25.06,-999.000,9,-999.0000,9, -999.00,9,  -999.0,9,  -999.0,-999.0000,9,-999.0000,  -999.0,9,      7.854,3,-999.000,9, 20150529,     1542,-999.000,  21.2004,2,    35.4425,2,     -999.0,9,     -999.0,-999.0000,     -999.0,     -999.0,9,     -999.0,     -999.0,9,     -999.0,  -999.0,9,     -999.0,     -999.0,9,     -999.0
33RO20150525,     P16N.2,     120,          2,         20,         20,2,20150529,       1342,    25.9999,  -152.0001,       5376,   116.9,   19.526,  35.0983,2,  35.0814,2,    209.3,2,   209.5,2,    2.24,2,    0.88,2,    0.19,2,    0.15,2,   2.182,2,   1.321,2,   1.578,2,  2050.1,2,  2305.4,2,   7.9658,2,    25.08,-999.000,9,-999.0000,9, -999.00,9,  -999.0,9,  -999.0,-999.0000,9,-999.0000,  -999.0,9,      8.472,3,-999.000,9, 20150529,     1540,-999.000,  19.5289,2,    35.2468,2,     -999.0,9,     -999.0,-999.0000,     -999.0,     -999.0,9,     -999.0,     -999.0,9,     -999.0,  -999.0,9,     -999.0,     -999.0,9,     -999.0
33RO20150525,     P16N.2,     120,          2,         19,         19,2,20150529,       1342,    25.9999,  -152.0001,       5376,   175.8,  16.5288,  34.6396,2,  34.6352,2,    203.2,2,   203.9,2,     4.1,2,     3.9,2,    0.02,2,    0.34,2,   2.523,2,   1.492,2,   1.646,2,  2059.9,2,  2276.4,2,   7.8989,2,    25.05,-999.000,9,-999.0000,9, -999.00,9,  -999.0,9,  -999.0,-999.0000,9,-999.0000,  -999.0,9,     10.264,3,-999.000,9, 20150529,     1537,-999.000,  16.5301,2,    34.7985,2,     -999.0,9,     -999.0,-999.0000,     -999.0,     -999.0,9,     -999.0,     -999.0,9,     -999.0,  -999.0,9,     -999.0,     -999.0,9,     -999.0
33RO20150525,     P16N.2,     120,          2,         18,         18,2,20150529,       1342,    25.9999,  -152.0001,       5376,   250.2,  12.8318,  34.2152,2,   34.219,2,      203,2,   202.3,2,    9.08,2,    9.86,2,    0.01,2,    0.75,2,   2.995,2,   1.723,2,   1.628,2,  2082.9,2,  2253.1,2,   7.8058,2,    25.08,-999.000,9,-999.0000,9, -999.00,9,  -999.0,9,  -999.0,-999.0000,9,-999.0000,  -999.0,9,     14.090,3,-999.000,9, 20150529,     1534,-999.000,  12.8374,2,    34.3804,2,     -999.0,9,     -999.0,-999.0000,     -999.0,     -999.0,9,     -999.0,     -999.0,9,     -999.0,  -999.0,9,     -999.0,     -999.0,9,     -999.0
33RO20150525,     P16N.2,     120,          2,         17,         17,2,20150529,       1342,    25.9999,  -152.0001,       5376,   333.7,  10.5731,  34.1334,2,  34.1334,2,    205.9,2,   203.4,2,   16.11,2,   14.84,2,    0.01,2,    1.06,2,    3.31,2,   1.839,2,   1.506,2,  2112.5,2,  2257.5,2,   7.7441,2,    25.09,-999.000,9,-999.0000,9, -999.00,9,  -999.0,9,  -999.0,-999.0000,9,-999.0000,  -999.0,9,     17.816,3,-999.000,9, 20150529,     1532,-999.000,  10.5774,2,    34.2943,2,     -999.0,9,     -999.0,-999.0000,     -999.0,     -999.0,9,     -999.0,     -999.0,9,     -999.0,  -999.0,9,     -999.0,     -999.0,9,     -999.0
33RO20150525,     P16N.2,     120,          2,         16,         16,2,20150529,       1342,    25.9999,  -152.0001,       5376,   433.7,   8.2215,  34.0323,2,  34.0313,2,    166.5,2,   162.7,2,   32.43,2,   23.54,2,       0,2,    1.67,2,   3.151,2,   1.673,2,   1.071,2,  2169.5,2,  2267.1,2,   7.6103,6,    25.05,-999.000,9,-999.0000,9, -999.00,9,  -999.0,9,  -999.0,-999.0000,9,-999.0000,  -999.0,9,     23.915,3,-999.000,9, 20150529,     1529,-999.000,    8.242,2,    34.1918,2,     -999.0,9,     -999.0,-999.0000,     -999.0,     -999.0,9,     -999.0,     -999.0,9,     -999.0,  -999.0,9,     -999.0,     -999.0,9,     -999.0
33RO20150525,     P16N.2,     120,          2,         15,         15,2,20150529,       1342,    25.9999,  -152.0001,       5376,   550.8,   6.0194,  34.0049,2,  34.0074,2,     99.4,2,    99.9,2,   59.48,2,    33.4,2,       0,2,    2.38,2,   2.158,6,   1.069,6,   0.456,6,  2244.4,2,  2285.9,2,   7.4425,2,    25.09,-999.000,9,-999.0000,9, -999.00,9,  -999.0,9,  -999.0,-999.0000,9,-999.0000,  -999.0,9,     31.823,3,-999.000,9, 20150529,     1525,-999.000,   6.0189,2,    34.1678,2,     -999.0,9,     -999.0,-999.0000,     -999.0,     -999.0,9,     -999.0,     -999.0,9,     -999.0,  -999.0,9,     -999.0,     -999.0,9,     -999.0
33RO20150525,     P16N.2,     120,          2,         14,         14,2,20150529,       1342,    25.9999,  -152.0001,       5376,   701.3,   4.5277,  34.1459,2,  34.1476,2,     33.9,2,    33.9,2,   92.58,2,   41.21,2,       0,2,    2.95,2,   0.499,2,   0.246,2,   0.073,2,  2321.9,2,  2318.1,2,   7.3087,2,    25.07,-999.000,9,-999.0000,9, -999.00,9,  -999.0,9,  -999.0,-999.0000,9,-999.0000,  -999.0,9,     43.478,3,-999.000,9, 20150529,     1522,-999.000,    4.535,2,    34.3086,2,     -999.0,9,     -999.0,-999.0000,     -999.0,     -999.0,9,     -999.0,     -999.0,9,     -999.0,  -999.0,9,     -999.0,     -999.0,9,     -999.0
33RO20150525,     P16N.2,     120,          2,         13,         13,2,20150529,       1342,    25.9999,  -152.0001,       5376,   851.1,   4.0072,   34.319,2,   34.318,2,     15.9,2,      17,2,  110.63,2,   43.26,2,       0,2,     3.1,2,   0.048,2,   0.025,2,   0.052,3,  2353.4,6,  2350.4,2,   7.2956,2,    25.06,-999.000,9,-999.0000,9, -999.00,9,  -999.0,9,  -999.0,-999.0000,9,-999.0000,  -999.0,9,     48.388,3,-999.000,9, 20150529,     1518,-999.000,    4.007,2,    34.4798,2,     -999.0,9,     -999.0,-999.0000,     -999.0,     -999.0,9,     -999.0,     -999.0,9,     -999.0,  -999.0,9,     -999.0,     -999.0,9,     -999.0
33RO20150525,     P16N.2,     120,          2,         12,         12,2,20150529,       1342,    25.9999,  -152.0001,       5376,  1001.2,   3.7653,  34.4576,2,  34.4568,2,     37.7,2,      38,2,  114.23,2,   42.18,2,    0.01,2,    3.03,2,   0.015,2,    0.01,2,       0,2,  2352.5,2,  2370.1,2,   7.3601,2,    25.09,-999.000,9,-999.0000,9, -999.00,9,  -999.0,9,  -999.0,-999.0000,9,-999.0000,  -999.0,9,     42.152,3,-999.000,9, 20150529,     1514,-999.000,   3.7609,2,    34.6193,2,     -999.0,9,     -999.0,-999.0000,     -999.0,     -999.0,9,     -999.0,     -999.0,9,     -999.0,  -999.0,9,     -999.0,     -999.0,9,     -999.0
33RO20150525,     P16N.2,     120,          2,         11,         11,2,20150529,       1342,    25.9999,  -152.0001,       5376,  1167.9,   3.3851,  34.5113,2,  34.5091,2,     48.7,2,      49,2,  121.55,2,   41.79,2,       0,2,    2.98,2,   0.007,2,   0.003,2,   0.031,3,  2355.6,2,  2382.1,2,   7.3847,2,    25.05,-999.000,9,-999.0000,9, -999.00,9,  -999.0,9,  -999.0,-999.0000,9,-999.0000,  -999.0,9,     38.761,3,-999.000,9, 20150529,     1509,-999.000,   3.3859,2,    34.6718,2,     -999.0,9,     -999.0,-999.0000,     -999.0,     -999.0,9,     -999.0,     -999.0,9,     -999.0,  -999.0,9,     -999.0,     -999.0,9,     -999.0
33RO20150525,     P16N.2,     120,          2,         10,         10,2,20150529,       1342,    25.9999,  -152.0001,       5376,  1402.3,    2.975,  34.5506,2,  34.5494,2,     60.1,2,    62.5,2,  130.14,2,   41.39,2,       0,2,    2.94,2,   0.007,2,   0.003,2,   0.035,3,  2358.2,2,  2392.3,2,   7.4072,2,    25.08,-999.000,9,-999.0000,9, -999.00,9,  -999.0,9,  -999.0,-999.0000,9,-999.0000,  -999.0,9,     35.641,3,-999.000,9, 20150529,     1504,-999.000,   2.9765,2,    34.7123,2,     -999.0,9,     -999.0,-999.0000,     -999.0,     -999.0,9,     -999.0,     -999.0,9,     -999.0,  -999.0,9,     -999.0,     -999.0,9,     -999.0
33RO20150525,     P16N.2,     120,          2,          9,          9,2,20150529,       1342,    25.9999,  -152.0001,       5376,  1734.8,    2.399,  34.5919,2,  34.5905,2,     72.5,2,    73.2,2,  144.68,2,   40.81,2,       0,2,    2.89,2,   0.002,2,       0,2,       0,2,  2366.1,2,    2409,2,   7.4299,2,    25.07,-999.000,9,-999.0000,9, -999.00,9,  -999.0,9,  -999.0,-999.0000,9,-999.0000,  -999.0,9,     31.782,3,-999.000,9, 20150529,     1457,-999.000,   2.3981,2,    34.7537,2,     -999.0,9,     -999.0,-999.0000,     -999.0,     -999.0,9,     -999.0,     -999.0,9,     -999.0,  -999.0,9,     -999.0,     -999.0,9,     -999.0
33RO20150525,     P16N.2,     120,          2,          8,          8,2,20150529,       1342,    25.9999,  -152.0001,       5376,  2134.2,   1.9726,  34.6256,2,  34.6259,2,     88.3,2,    89.4,2,  154.83,2,   39.83,2,       0,2,    2.79,2,   0.003,2,   0.002,2,       0,2,  2365.9,2,  2418.4,2,   7.4597,2,    25.09,-999.000,9,-999.0000,9, -999.00,9,  -999.0,9,  -999.0,-999.0000,9,-999.0000,  -999.0,9,     28.258,3,-999.000,9, 20150529,     1449,-999.000,   1.9728,2,    34.7892,2,     -999.0,9,     -999.0,-999.0000,     -999.0,     -999.0,9,     -999.0,     -999.0,9,     -999.0,  -999.0,9,     -999.0,     -999.0,9,     -999.0
33RO20150525,     P16N.2,     120,          2,          7,          7,2,20150529,       1342,    25.9999,  -152.0001,       5376,  2534.1,    1.712,  34.6497,2,    34.65,2,    107.2,2,   108.1,2,  157.07,2,   38.66,2,       0,2,    2.69,2,       0,2,       0,2,       0,2,  2358.2,2,  2421.8,2,   7.4967,2,    24.97,-999.000,9,-999.0000,9, -999.00,9,  -999.0,9,  -999.0,-999.0000,9,-999.0000,  -999.0,9,     25.187,3,-999.000,9, 20150529,     1441,-999.000,   1.7116,2,    34.8134,2,     -999.0,9,     -999.0,-999.0000,     -999.0,     -999.0,9,     -999.0,     -999.0,9,     -999.0,  -999.0,9,     -999.0,     -999.0,9,     -999.0
33RO20150525,     P16N.2,     120,          2,          6,          6,2,20150529,       1342,    25.9999,  -152.0001,       5376,  2967.5,   1.5859,  34.6653,2,  34.6646,2,    120.1,2,   120.1,2,  158.05,2,   37.88,2,       0,2,    2.63,2,   0.002,2,   0.001,2,       0,2,  2352.9,2,  2424.6,2,   7.5211,6,    25.07,-999.000,9,-999.0000,9, -999.00,9,  -999.0,9,  -999.0,-999.0000,9,-999.0000,  -999.0,9,     23.203,3,-999.000,9, 20150529,     1432,-999.000,   1.5857,2,    34.8281,6,     -999.0,9,     -999.0,-999.0000,     -999.0,     -999.0,9,     -999.0,     -999.0,9,     -999.0,  -999.0,9,     -999.0,     -999.0,9,     -999.0
33RO20150525,     P16N.2,     120,          2,          5,          5,2,20150529,       1342,    25.9999,  -152.0001,       5376,  3464.2,   1.5148,  34.6764,2,   34.675,2,    132.4,2,   133.1,2,  156.29,2,    37.1,2,       0,2,    2.56,2,   0.001,2,   0.002,2,       0,2,  2343.3,2,  2425.2,2,   7.5448,2,    25.04,-999.000,9,-999.0000,9, -999.00,9,  -999.0,9,  -999.0,-999.0000,9,-999.0000,  -999.0,9,     21.750,3,-999.000,9, 20150529,     1423,-999.000,   1.5145,2,    34.8385,2,     -999.0,9,     -999.0,-999.0000,     -999.0,     -999.0,9,     -999.0,     -999.0,9,     -999.0,  -999.0,9,     -999.0,     -999.0,9,     -999.0
33RO20150525,     P16N.2,     120,          2,          4,          4,2,20150529,       1342,    25.9999,  -152.0001,       5376,  3969.1,   1.4856,  34.6835,2,  34.6821,2,    143.4,2,   144.4,2,  152.48,6,   36.51,6,       0,6,     2.5,6,   0.002,2,   0.004,2,       0,2,  2333.8,2,  2424.6,2,    7.561,2,    25.06,-999.000,9,-999.0000,9, -999.00,9,  -999.0,9,  -999.0,-999.0000,9,-999.0000,  -999.0,9,     20.934,3,-999.000,9, 20150529,     1413,-999.000,   1.4856,2,    34.8457,2,     -999.0,9,     -999.0,-999.0000,     -999.0,     -999.0,9,     -999.0,     -999.0,9,     -999.0,  -999.0,9,     -999.0,     -999.0,9,     -999.0
33RO20150525,     P16N.2,     120,          2,          3,          3,2,20150529,       1342,    25.9999,  -152.0001,       5376,  4468.2,   1.4976,  34.6875,2,  34.6866,2,    150.2,2,   151.6,2,  147.89,6,   36.02,6,       0,6,    2.47,6,   0.004,2,   0.006,2,       0,2,  2327.9,2,    2422,2,    7.572,6,    25.08,-999.000,9,-999.0000,9, -999.00,9,  -999.0,9,  -999.0,-999.0000,9,-999.0000,  -999.0,9,     20.454,3,-999.000,9, 20150529,     1403,-999.000,   1.4978,2,    34.8502,2,     -999.0,9,     -999.0,-999.0000,     -999.0,     -999.0,9,     -999.0,     -999.0,9,     -999.0,  -999.0,9,     -999.0,     -999.0,9,     -999.0
33RO20150525,     P16N.2,     120,          2,          2,          2,2,20150529,       1342,    25.9999,  -152.0001,       5376,  4959.3,   1.5056,  34.6914,2,  34.6896,2,    159.2,2,   158.2,2,  141.84,6,   35.44,6,       0,6,    2.43,6,   0.003,2,   0.004,2,       0,2,  2320.4,2,    2416,6,   7.5817,6,    25.08,-999.000,9,-999.0000,9, -999.00,9,  -999.0,9,  -999.0,-999.0000,9,-999.0000,  -999.0,9,     20.159,3,-999.000,9, 20150529,     1353,-999.000,   1.5057,2,    34.8532,2,     -999.0,9,     -999.0,-999.0000,     -999.0,     -999.0,9,     -999.0,     -999.0,9,     -999.0,  -999.0,9,     -999.0,     -999.0,9,     -999.0
33RO20150525,     P16N.2,     120,          2,          1,          1,2,20150529,       1342,    25.9999,  -152.0001,       5376,  5450.2,   1.5332,  34.6942,2,  34.6943,2,    164.9,2,   164.5,2,  137.74,6,   35.05,6,       0,6,     2.4,6,   0.002,6,   0.004,6,       0,6,  2313.7,6,    2413,2,   7.5867,2,    25.09,-999.000,9,-999.0000,9, -999.00,9,  -999.0,9,  -999.0,-999.0000,9,-999.0000,  -999.0,9,     19.870,3,-999.000,9, 20150529,     1343,-999.000,   1.5334,2,    34.8579,2,     -999.0,9,     -999.0,-999.0000,     -999.0,     -999.0,9,     -999.0,     -999.0,9,     -999.0,  -999.0,9,     -999.0,     -999.0,9,     -999.0