BOTTLE,20220330CCHSIOCBG
EXPOCODE,SECT_ID,STNNBR,CASTNO,SAMPNO,BTLNBR,BTLNBR_FLAG_W,DATE,TIME,LATITUDE,LONGITUDE,DEPTH,CTDPRS,CTDTMP,CTDSAL,CTDSAL_FLAG_W,SALNTY,SALNTY_FLAG_W,CTDOXY,CTDOXY_FLAG_W,OXYGEN,OXYGEN_FLAG_W,SILCAT,SILCAT_FLAG_W,NITRAT,NITRAT_FLAG_W,NITRIT,NITRIT_FLAG_W,PHSPHT,PHSPHT_FLAG_W,CFC-11,CFC-11_FLAG_W,CFC-12,CFC-12_FLAG_W,SF6,SF6_FLAG_W,TCARBN,TCARBN_FLAG_W,ALKALI,ALKALI_FLAG_W,PH_TOT,PH_TOT_FLAG_W,PH_TMP,TRITUM,TRITUM_FLAG_W,HELIUM,HELIUM_FLAG_W,DELC13,DELC13_FLAG_W,DELC14,DELC14_FLAG_W,C14ERR,NEON,NEON_FLAG_W,NEONER,DOC,DOC_FLAG_W,N2O,N2O_FLAG_W,ARGON,ARGON_FLAG_W,BTL_DATE,BTL_TIME,TRITER,SBE35,SBE35_FLAG_W,SALTREF,SALTREF_FLAG_W,DELHE3,DELHE3_FLAG_W,DELHER,HELIER,ARGONER,KRYPTON,KRYPTON_FLAG_W,KRYPTONER,XENON,XENON_FLAG_W,XENONER,14C-DOC,14C-DOC_FLAG_W,14C-DOCERR,13C-DOC,13C-DOC_FLAG_W,13C-DOCERR
,,,,,,,,,,,METERS,DBAR,ITS-90,PSS-78,,PSS-78,,UMOL/KG,,UMOL/KG,,UMOL/KG,,UMOL/KG,,UMOL/KG,,UMOL/KG,,PMOL/KG,,PMOL/KG,,FMOL/KG,,UMOL/KG,,UMOL/KG,,,,DEG C,TU,,NMOL/KG,,/MILLE,,/MILLE,,/MILLE,NMOL/KG,,NMOL/KG,UMOL/KG,,NMOL/KG,,UMOL/KG,,,,TU,ITS-90,,G/KG,,PERCNT,,PERCNT,NMOL/KG,UMOL/KG,NMOL/KG,,NMOL/KG,NMOL/KG,,NMOL/KG,/MILLE,,/MILLE,/MILLE,,/MILLE
33RO20150525,     P16N.2,     170,          2,         24,         24,2,20150614,       0646,    51.0002,  -151.9997,       4991,     2.8,   8.3826,  32.6433,2,  32.6436,2,    305.1,2,   304.6,2,   25.25,2,   12.43,2,    0.14,2,    1.28,2,   4.158,6,   2.289,6,   2.686,6,    2040,6,  2202.1,2,   7.7983,6,    24.99,   0.502,2,-999.0000,9, -999.00,9,  -999.0,9,  -999.0,-999.0000,9,-999.0000,  -999.0,9,     11.804,3,-999.000,9, 20150614,     0847,   0.004,   8.3839,2,    32.7975,2,     -999.0,9,     -999.0,-999.0000,     -999.0,     -999.0,9,     -999.0,     -999.0,9,     -999.0,  -999.0,9,     -999.0,     -999.0,9,     -999.0
33RO20150525,     P16N.2,     170,          2,         23,         23,2,20150614,       0646,    51.0002,  -151.9997,       4991,      25,   8.1659,   32.643,2,  32.6484,2,    303.3,2,   305.5,2,   25.45,2,   12.33,2,    0.14,2,    1.28,2,   4.186,2,   2.304,2,   2.726,2,  2041.1,2,  2202.6,6,   7.7987,2,    24.99,-999.000,9,-999.0000,9, -999.00,9,  -999.0,9,  -999.0,-999.0000,9,-999.0000,  -999.0,9,     11.908,3,-999.000,9, 20150614,     0844,-999.000,   8.0807,3,    32.8024,2,     -999.0,9,     -999.0,-999.0000,     -999.0,     -999.0,9,     -999.0,     -999.0,9,     -999.0,  -999.0,9,     -999.0,     -999.0,9,     -999.0
33RO20150525,     P16N.2,     170,          2,         22,         22,2,20150614,       0646,    51.0002,  -151.9997,       4991,      50,   6.0303,  32.6735,2,   32.677,2,    308.6,2,   304.5,2,   26.14,2,   15.27,2,    0.13,2,    1.43,2,   4.529,2,   2.469,2,   2.868,2,    2068,2,    2203,2,   7.7286,2,    25.02,   0.524,2,   1.8168,2, -999.00,9,  -999.0,9,  -999.0,   7.8931,2,   0.0197,  -999.0,9,     12.720,3,-999.000,9, 20150614,     0842,   0.004,   6.0304,2,    32.8311,2,      -1.23,2,       0.20,   0.0047,     -999.0,     -999.0,9,     -999.0,     -999.0,9,     -999.0,  -999.0,9,     -999.0,     -999.0,9,     -999.0
33RO20150525,     P16N.2,     170,          2,         21,         21,2,20150614,       0646,    51.0002,  -151.9997,       4991,      76,   5.8193,   32.698,2,  32.7066,2,    305.4,2,   301.8,2,   27.21,2,   15.86,2,    0.14,2,    1.46,2,    4.55,2,   2.482,2,    2.86,2,  2072.1,2,  2203.2,2,   7.7179,2,    25.03,   0.502,2,-999.0000,9, -999.00,9,  -999.0,9,  -999.0,-999.0000,9,-999.0000,  -999.0,9,     13.029,3,-999.000,9, 20150614,     0840,   0.004,   5.8231,2,    32.8609,2,     -999.0,9,     -999.0,-999.0000,     -999.0,     -999.0,9,     -999.0,     -999.0,9,     -999.0,  -999.0,9,     -999.0,     -999.0,9,     -999.0
33RO20150525,     P16N.2,     170,          2,         20,         20,2,20150614,       0646,    51.0002,  -151.9997,       4991,    99.7,   4.7422,  33.0572,2,  33.1117,3,    218.7,2,   223.5,2,   43.45,2,   25.74,2,    0.08,2,    1.98,2,   4.177,2,    2.25,2,   2.308,2,  2154.1,2,  2230.1,2,   7.5559,6,    24.99,   0.440,2,   1.8269,2, -999.00,9,  -999.0,9,  -999.0,   7.9479,2,   0.0199,  -999.0,9,     20.767,3,-999.000,9, 20150614,     0839,   0.003,   4.7377,2,    33.2678,2,       1.59,2,       0.20,   0.0047,     -999.0,     -999.0,9,     -999.0,     -999.0,9,     -999.0,  -999.0,9,     -999.0,     -999.0,9,     -999.0
33RO20150525,     P16N.2,     170,          2,         19,         19,2,20150614,       0646,    51.0002,  -151.9997,       4991,   150.9,   3.5753,  33.6967,2,  33.7036,2,    101.1,2,    98.8,2,    75.8,2,   39.32,2,    0.01,2,    2.78,2,   3.193,2,   1.687,2,   1.298,2,  2279.1,2,  2278.9,2,   7.3018,6,       25,   0.316,2,-999.0000,9, -999.00,9,  -999.0,9,  -999.0,-999.0000,9,-999.0000,  -999.0,9,     34.021,3,-999.000,9, 20150614,     0836,   0.003,   3.5752,2,    33.8625,2,     -999.0,9,     -999.0,-999.0000,     -999.0,     -999.0,9,     -999.0,     -999.0,9,     -999.0,  -999.0,9,     -999.0,     -999.0,9,     -999.0
33RO20150525,     P16N.2,     170,          2,         18,         18,2,20150614,       0646,    51.0002,  -151.9997,       4991,     225,   3.6767,   33.866,2,  33.8655,2,     48.6,2,    48.5,2,   89.29,2,   43.03,2,    0.01,2,    2.99,2,   2.433,2,   1.236,2,   0.821,2,    2317,2,  2295.6,2,   7.2371,2,    24.98,   0.261,2,   1.8504,2, -999.00,9,  -999.0,9,  -999.0,   8.0073,2,   0.0200,  -999.0,9,     39.871,3,-999.000,9, 20150614,     0834,   0.004,   3.6753,2,    34.0252,2,      11.65,2,       0.20,   0.0048,     -999.0,     -999.0,9,     -999.0,     -999.0,9,     -999.0,  -999.0,9,     -999.0,     -999.0,9,     -999.0
33RO20150525,     P16N.2,     170,          2,         17,         17,2,20150614,       0646,    51.0002,  -151.9997,       4991,   300.5,   3.7266,  33.9748,2,  33.9749,2,     31.3,2,    30.3,2,   98.28,2,   43.91,2,    0.01,2,    3.06,2,   1.837,2,    0.93,2,   0.575,2,  2330.9,2,  2307.7,2,   7.2286,2,    25.04,   0.227,2,   1.8584,2, -999.00,9,  -999.0,9,  -999.0,   8.0168,2,   0.0200,  -999.0,9,     42.714,3,-999.000,9, 20150614,     0831,   0.002,   3.7265,2,    34.1351,2,      13.68,2,       0.20,   0.0048,     -999.0,     -999.0,9,     -999.0,     -999.0,9,     -999.0,  -999.0,9,     -999.0,     -999.0,9,     -999.0
33RO20150525,     P16N.2,     170,          2,         16,         16,2,20150614,       0646,    51.0002,  -151.9997,       4991,   399.7,   3.6507,  34.0846,2,  34.0852,2,     27.8,2,    26.8,2,  108.24,2,   43.51,2,       0,2,    3.04,2,   1.278,2,   0.629,2,   0.336,2,  2341.3,2,  2322.3,2,   7.2524,2,    24.97,   0.175,2,   1.8690,2, -999.00,9,  -999.0,9,  -999.0,   8.0233,2,   0.0201,  -999.0,9,     44.039,3,-999.000,9, 20150614,     0828,   0.003,   3.6506,2,     34.246,2,      15.43,2,       0.20,   0.0049,     -999.0,     -999.0,9,     -999.0,     -999.0,9,     -999.0,  -999.0,9,     -999.0,     -999.0,9,     -999.0
33RO20150525,     P16N.2,     170,          2,         15,         15,2,20150614,       0646,    51.0002,  -151.9997,       4991,   499.8,   3.5201,  34.1652,2,   34.165,2,     20.5,2,    20.3,2,  116.84,2,    43.8,2,    0.01,2,    3.05,2,   0.863,6,   0.424,6,   0.213,6,  2351.4,2,  2339.2,2,   7.2563,2,    24.99,   0.137,2,-999.0000,9, -999.00,9,  -999.0,9,  -999.0,-999.0000,9,-999.0000,  -999.0,9,     45.952,3,-999.000,9, 20150614,     0825,   0.002,   3.5196,2,    34.3262,2,     -999.0,9,     -999.0,-999.0000,     -999.0,     -999.0,9,     -999.0,     -999.0,9,     -999.0,  -999.0,9,     -999.0,     -999.0,9,     -999.0
33RO20150525,     P16N.2,     170,          2,         14,         14,2,20150614,       0646,    51.0002,  -151.9997,       4991,   649.9,   3.3122,  34.2571,2,  34.2621,2,     19.7,2,    19.8,2,     127,2,    43.7,2,       0,2,    3.06,2,   0.494,2,    0.24,2,    0.15,2,  2361.8,2,  2351.4,2,   7.2735,2,    24.99,   0.096,2,   1.9010,2, -999.00,9,  -999.0,9,  -999.0,   8.1281,2,   0.0203,  -999.0,9,     46.488,3,-999.000,9, 20150614,     0821,   0.002,   3.3118,2,    34.4237,2,      16.75,2,       0.20,   0.0049,     -999.0,     -999.0,9,     -999.0,     -999.0,9,     -999.0,  -999.0,9,     -999.0,     -999.0,9,     -999.0
33RO20150525,     P16N.2,     170,          2,         13,         13,2,20150614,       0646,    51.0002,  -151.9997,       4991,     800,   3.0893,  34.3255,2,  34.3251,2,     19.5,2,    20.3,2,   135.4,2,    43.8,2,       0,2,    3.06,2,   0.277,2,   0.137,2,   0.072,2,  2368.7,2,  2365.3,2,   7.2857,2,    24.98,   0.066,2,   1.8921,2, -999.00,9,  -999.0,9,  -999.0,   8.0700,2,   0.0202,  -999.0,9,     46.402,3,-999.000,9, 20150614,     0817,   0.002,    3.089,2,    34.4869,2,      17.51,2,       0.20,   0.0049,     -999.0,     -999.0,9,     -999.0,     -999.0,9,     -999.0,  -999.0,9,     -999.0,     -999.0,9,     -999.0
33RO20150525,     P16N.2,     170,          2,         12,         12,2,20150614,       0646,    51.0002,  -151.9997,       4991,   949.8,   2.8588,  34.3821,2,  34.3808,2,     21.2,2,    21.5,2,  143.02,2,    43.7,2,       0,2,    3.06,2,   0.163,2,   0.081,2,   0.032,2,  2378.5,2,  2376.5,2,   7.2964,2,    24.98,   0.037,2,-999.0000,9, -999.00,9,  -999.0,9,  -999.0,-999.0000,9,-999.0000,  -999.0,9,     45.484,3,-999.000,9, 20150614,     0813,   0.002,    2.859,2,    34.5429,2,     -999.0,9,     -999.0,-999.0000,     -999.0,     -999.0,9,     -999.0,     -999.0,9,     -999.0,  -999.0,9,     -999.0,     -999.0,9,     -999.0
33RO20150525,     P16N.2,     170,          2,         11,         11,2,20150614,       0646,    51.0002,  -151.9997,       4991,  1099.9,    2.665,  34.4283,2,  34.4281,2,     24.1,2,    24.2,2,  148.88,2,    43.8,2,       0,2,    3.06,2,   0.099,2,   0.049,2,   0.045,2,  2382.9,6,  2384.2,2,    7.308,2,    24.99,   0.031,2,   1.9105,2, -999.00,9,  -999.0,9,  -999.0,   8.1417,2,   0.0204,  -999.0,9,     44.421,3,-999.000,9, 20150614,     0809,   0.002,   2.6632,2,    34.5905,2,      17.75,2,       0.20,   0.0050,     -999.0,     -999.0,9,     -999.0,     -999.0,9,     -999.0,  -999.0,9,     -999.0,     -999.0,9,     -999.0
33RO20150525,     P16N.2,     170,          2,         10,         10,2,20150614,       0646,    51.0002,  -151.9997,       4991,  1293.7,   2.4432,  34.4763,2,  34.4778,2,     20.8,2,    22.8,2,  156.41,2,   44.18,2,       0,2,    3.06,2,   0.034,2,   0.016,2,   0.034,3,  2390.6,2,  2395.6,2,   7.3107,2,    25.03,   0.011,2,   1.8973,2, -999.00,9,  -999.0,9,  -999.0,   8.1028,2,   0.0203,  -999.0,9,     44.715,3,-999.000,9, 20150614,     0805,   0.002,   2.4431,2,    34.6404,2,      18.44,2,       0.20,   0.0049,     -999.0,     -999.0,9,     -999.0,     -999.0,9,     -999.0,  -999.0,9,     -999.0,     -999.0,9,     -999.0
33RO20150525,     P16N.2,     170,          2,          9,          9,2,20150614,       0646,    51.0002,  -151.9997,       4991,  1600.1,   2.1882,   34.534,2,   34.535,2,     30.1,2,    29.2,2,  164.12,2,   43.89,2,       0,2,    3.04,2,   0.004,2,   0.003,2,       0,2,  2394.9,2,  2406.8,2,     7.33,3,    25.01,  -0.003,2,-999.0000,9, -999.00,9,  -999.0,9,  -999.0,-999.0000,9,-999.0000,  -999.0,9,     42.068,3,-999.000,9, 20150614,     0758,   0.002,   2.1884,2,    34.6978,2,     -999.0,9,     -999.0,-999.0000,     -999.0,     -999.0,9,     -999.0,     -999.0,9,     -999.0,  -999.0,9,     -999.0,     -999.0,9,     -999.0
33RO20150525,     P16N.2,     170,          2,          8,          8,2,20150614,       0646,    51.0002,  -151.9997,       4991,  2000.2,   1.9286,  34.5875,2,   34.596,4,     52.2,2,    52.2,2,  168.71,2,   42.52,2,       0,2,    2.92,2,   0.002,2,   0.001,2,       0,2,  2387.4,2,  2413.4,2,   7.3798,2,    25.01,   0.002,2,   1.9081,2, -999.00,9,  -999.0,9,  -999.0,   8.1230,2,   0.0203,  -999.0,9,     35.729,3,-999.000,9, 20150614,     0750,   0.002,   1.9285,2,    34.7592,2,      19.41,2,       0.20,   0.0050,     -999.0,     -999.0,9,     -999.0,     -999.0,9,     -999.0,  -999.0,9,     -999.0,     -999.0,9,     -999.0
33RO20150525,     P16N.2,     170,          2,          7,          7,2,20150614,       0646,    51.0002,  -151.9997,       4991,  2400.5,   1.7524,  34.6229,2,  34.6223,2,     74.6,2,    77.4,2,  170.37,2,   41.15,2,       0,2,    2.84,2,   0.001,2,   0.001,2,   0.045,4,  2377.1,2,    2418,2,   7.4259,2,       25,-999.000,9,-999.0000,9, -999.00,9,  -999.0,9,  -999.0,-999.0000,9,-999.0000,  -999.0,9,     30.549,3,-999.000,9, 20150614,     0742,-999.000,   1.7524,2,    34.7856,6,     -999.0,9,     -999.0,-999.0000,     -999.0,     -999.0,9,     -999.0,     -999.0,9,     -999.0,  -999.0,9,     -999.0,     -999.0,9,     -999.0
33RO20150525,     P16N.2,     170,          2,          6,          6,2,20150614,       0646,    51.0002,  -151.9997,       4991,  2799.2,   1.6292,  34.6459,2,   34.646,2,     97.3,2,    96.9,2,  167.04,2,   39.68,2,       0,2,    2.74,2,       0,2,       0,2,       0,2,  2363.4,2,  2421.2,2,   7.4698,2,    25.05,-999.000,9,-999.0000,9, -999.00,9,  -999.0,9,  -999.0,-999.0000,9,-999.0000,  -999.0,9,     26.622,3,-999.000,9, 20150614,     0733,-999.000,   1.6293,2,    34.8093,2,     -999.0,9,     -999.0,-999.0000,     -999.0,     -999.0,9,     -999.0,     -999.0,9,     -999.0,  -999.0,9,     -999.0,     -999.0,9,     -999.0
33RO20150525,     P16N.2,     170,          2,          5,          5,2,20150614,       0646,    51.0002,  -151.9997,       4991,  3200.1,   1.5413,   34.663,2,  34.6632,2,    115.4,2,   116.6,2,  163.81,2,   38.31,2,    0.01,2,    2.63,2,       0,2,       0,2,       0,2,  2351.4,2,  2422.2,2,   7.5082,6,       25,-999.000,9,-999.0000,9, -999.00,9,  -999.0,9,  -999.0,-999.0000,9,-999.0000,  -999.0,9,     24.216,3,-999.000,9, 20150614,     0725,-999.000,   1.5412,2,    34.8267,2,     -999.0,9,     -999.0,-999.0000,     -999.0,     -999.0,9,     -999.0,     -999.0,9,     -999.0,  -999.0,9,     -999.0,     -999.0,9,     -999.0
33RO20150525,     P16N.2,     170,          2,          4,          4,2,20150614,       0646,    51.0002,  -151.9997,       4991,  3600.2,   1.5006,  34.6737,2,  34.6739,2,    129.2,2,   128.8,2,  162.05,6,   37.53,6,       0,6,    2.57,6,       0,2,       0,2,       0,2,  2342.9,2,  2422.8,2,   7.5341,2,    25.04,-999.000,9,-999.0000,9, -999.00,9,  -999.0,9,  -999.0,-999.0000,9,-999.0000,  -999.0,9,     22.619,3,-999.000,9, 20150614,     0717,-999.000,   1.5008,2,    34.8374,2,     -999.0,9,     -999.0,-999.0000,     -999.0,     -999.0,9,     -999.0,     -999.0,9,     -999.0,  -999.0,9,     -999.0,     -999.0,9,     -999.0
33RO20150525,     P16N.2,     170,          2,          3,          3,2,20150614,       0646,    51.0002,  -151.9997,       4991,  4100.4,   1.5018,  34.6809,2,  34.6803,2,    137.8,2,   137.2,2,  162.54,6,   37.34,6,       0,6,    2.53,6,       0,6,   0.001,6,       0,6,  2339.7,2,  2426.4,2,   7.5532,2,    25.01,-999.000,9,-999.0000,9, -999.00,9,  -999.0,9,  -999.0,-999.0000,9,-999.0000,  -999.0,9,     21.781,3,-999.000,9, 20150614,     0707,-999.000,    1.502,2,    34.8439,2,     -999.0,9,     -999.0,-999.0000,     -999.0,     -999.0,9,     -999.0,     -999.0,9,     -999.0,  -999.0,9,     -999.0,     -999.0,9,     -999.0
33RO20150525,     P16N.2,     170,          2,          2,          2,2,20150614,       0646,    51.0002,  -151.9997,       4991,  4574.7,    1.534,  34.6848,2,  34.6874,2,    141.7,2,   141.3,2,  164.89,6,   36.75,6,       0,6,    2.51,6,   0.001,2,   0.001,2,       0,2,  2338.7,2,  2428.6,6,   7.5631,6,    25.03,-999.000,9,-999.0000,9, -999.00,9,  -999.0,9,  -999.0,-999.0000,9,-999.0000,  -999.0,9,     21.410,3,-999.000,9, 20150614,     0657,-999.000,    1.534,2,     34.851,2,     -999.0,9,     -999.0,-999.0000,     -999.0,     -999.0,9,     -999.0,     -999.0,9,     -999.0,  -999.0,9,     -999.0,     -999.0,9,     -999.0
33RO20150525,     P16N.2,     170,          2,          1,          1,2,20150614,       0646,    51.0002,  -151.9997,       4991,  5082.2,   1.5929,  34.6867,2,  34.6851,2,    141.3,2,     141,2,  168.31,6,   36.95,6,       0,6,    2.51,6,   0.002,2,   0.002,2,   0.061,4,  2340.5,6,  2432.6,2,   7.5659,2,    25.03,-999.000,9,-999.0000,9, -999.00,9,  -999.0,9,  -999.0,-999.0000,9,-999.0000,  -999.0,9,     21.160,3,-999.000,9, 20150614,     0647,-999.000,   1.5925,2,    34.8486,2,     -999.0,9,     -999.0,-999.0000,     -999.0,     -999.0,9,     -999.0,     -999.0,9,     -999.0,  -999.0,9,     -999.0,     -999.0,9,     -999.0