BOTTLE,20220330CCHSIOCBG
EXPOCODE,SECT_ID,STNNBR,CASTNO,SAMPNO,BTLNBR,BTLNBR_FLAG_W,DATE,TIME,LATITUDE,LONGITUDE,DEPTH,CTDPRS,CTDTMP,CTDSAL,CTDSAL_FLAG_W,SALNTY,SALNTY_FLAG_W,CTDOXY,CTDOXY_FLAG_W,OXYGEN,OXYGEN_FLAG_W,SILCAT,SILCAT_FLAG_W,NITRAT,NITRAT_FLAG_W,NITRIT,NITRIT_FLAG_W,PHSPHT,PHSPHT_FLAG_W,CFC-11,CFC-11_FLAG_W,CFC-12,CFC-12_FLAG_W,SF6,SF6_FLAG_W,TCARBN,TCARBN_FLAG_W,ALKALI,ALKALI_FLAG_W,PH_TOT,PH_TOT_FLAG_W,PH_TMP,TRITUM,TRITUM_FLAG_W,HELIUM,HELIUM_FLAG_W,DELC13,DELC13_FLAG_W,DELC14,DELC14_FLAG_W,C14ERR,NEON,NEON_FLAG_W,NEONER,DOC,DOC_FLAG_W,N2O,N2O_FLAG_W,ARGON,ARGON_FLAG_W,BTL_DATE,BTL_TIME,TRITER,SBE35,SBE35_FLAG_W,SALTREF,SALTREF_FLAG_W,DELHE3,DELHE3_FLAG_W,DELHER,HELIER,ARGONER,KRYPTON,KRYPTON_FLAG_W,KRYPTONER,XENON,XENON_FLAG_W,XENONER,14C-DOC,14C-DOC_FLAG_W,14C-DOCERR,13C-DOC,13C-DOC_FLAG_W,13C-DOCERR
,,,,,,,,,,,METERS,DBAR,ITS-90,PSS-78,,PSS-78,,UMOL/KG,,UMOL/KG,,UMOL/KG,,UMOL/KG,,UMOL/KG,,UMOL/KG,,PMOL/KG,,PMOL/KG,,FMOL/KG,,UMOL/KG,,UMOL/KG,,,,DEG C,TU,,NMOL/KG,,/MILLE,,/MILLE,,/MILLE,NMOL/KG,,NMOL/KG,UMOL/KG,,NMOL/KG,,UMOL/KG,,,,TU,ITS-90,,G/KG,,PERCNT,,PERCNT,NMOL/KG,UMOL/KG,NMOL/KG,,NMOL/KG,NMOL/KG,,NMOL/KG,/MILLE,,/MILLE,/MILLE,,/MILLE
33RO20150525,     P16N.2,     206,          1,         24,         24,2,20150623,       1527,    56.7816,  -135.9861,        590,     2.9,  13.5247,  31.7161,2,   31.717,2,    280.9,2,   284.4,2,    4.11,2,     0.1,2,    0.01,2,    0.41,2,   3.277,6,   1.888,6,   2.295,6,  1930.7,6,  2151.2,2,   7.9519,3,    24.96,-999.000,9,-999.0000,9,    1.62,2,   -22.0,2,     2.1,-999.0000,9,-999.0000,    63.8,2,     10.049,3,-999.000,9, 20150623,     1554,-999.000,  13.5205,2,    31.8666,2,     -999.0,9,     -999.0,-999.0000,     -999.0,     -999.0,9,     -999.0,     -999.0,9,     -999.0,  -999.0,9,     -999.0,     -999.0,9,     -999.0
33RO20150525,     P16N.2,     206,          1,         23,         23,2,20150623,       1527,    56.7816,  -135.9861,        590,    17.2,   10.929,   31.757,2,  31.7666,2,    313.2,2,   306.6,2,    5.09,2,    0.88,2,    0.05,2,    0.54,2,   3.607,2,   2.059,2,   2.432,2,  1942.4,2,  2153.6,2,   7.9239,6,    25.03,-999.000,9,-999.0000,9, -999.00,9,  -999.0,9,  -999.0,-999.0000,9,-999.0000,    64.5,2,     11.416,3,-999.000,9, 20150623,     1552,-999.000,  10.9314,2,    31.9164,2,     -999.0,9,     -999.0,-999.0000,     -999.0,     -999.0,9,     -999.0,     -999.0,9,     -999.0,  -999.0,9,     -999.0,     -999.0,9,     -999.0
33RO20150525,     P16N.2,     206,          1,         22,         22,2,20150623,       1527,    56.7816,  -135.9861,        590,    35.2,    9.008,  31.8277,2,  31.8933,2,      260,2,   256.5,2,   17.04,2,    9.79,2,    0.21,2,    1.24,2,   3.706,2,    2.09,2,   2.401,2,  2023.1,2,  2160.8,2,   7.7465,6,    25.02,-999.000,9,-999.0000,9, -999.00,9,  -999.0,9,  -999.0,-999.0000,9,-999.0000,    57.6,2,     14.029,3,-999.000,9, 20150623,     1551,-999.000,   9.0088,2,    32.0437,4,     -999.0,9,     -999.0,-999.0000,     -999.0,     -999.0,9,     -999.0,     -999.0,9,     -999.0,  -999.0,9,     -999.0,     -999.0,9,     -999.0
33RO20150525,     P16N.2,     206,          1,         21,         21,2,20150623,       1527,    56.7816,  -135.9861,        590,    50.3,   8.1686,  32.0214,2,  32.0573,2,    247.3,2,   246.9,2,   21.54,2,      14,2,    0.28,2,    1.37,2,    3.77,2,   2.111,2,   2.399,2,  2046.1,2,  2162.9,2,     7.69,6,    25.04,-999.000,9,-999.0000,9, -999.00,9,  -999.0,9,  -999.0,-999.0000,9,-999.0000,    56.8,2,     14.655,3,-999.000,9, 20150623,     1549,-999.000,   8.1735,2,    32.2084,2,     -999.0,9,     -999.0,-999.0000,     -999.0,     -999.0,9,     -999.0,     -999.0,9,     -999.0,  -999.0,9,     -999.0,     -999.0,9,     -999.0
33RO20150525,     P16N.2,     206,          1,         20,         20,2,20150623,       1527,    56.7816,  -135.9861,        590,    65.8,   7.6458,  32.1657,2,   32.158,2,    228.1,2,     240,2,   24.57,2,   15.96,2,    0.23,2,    1.45,2,   3.757,2,   2.105,2,   2.346,2,  2059.5,2,  2167.8,2,   7.6599,2,    25.06,-999.000,9,-999.0000,9, -999.00,9,  -999.0,9,  -999.0,-999.0000,9,-999.0000,    54.0,2,     15.577,3,-999.000,9, 20150623,     1548,-999.000,   7.6739,2,    32.3097,2,     -999.0,9,     -999.0,-999.0000,     -999.0,     -999.0,9,     -999.0,     -999.0,9,     -999.0,  -999.0,9,     -999.0,     -999.0,9,     -999.0
33RO20150525,     P16N.2,     206,          1,         19,         19,2,20150623,       1527,    56.7816,  -135.9861,        590,    85.4,   7.0964,  32.4474,2,  32.4527,2,    205.3,2,   206.5,2,   34.35,2,   21.53,2,    0.04,2,    1.76,2,   3.625,2,   2.035,2,   2.154,2,  2104.2,2,  2184.9,2,   7.5722,2,    25.03,-999.000,9,-999.0000,9, -999.00,9,  -999.0,9,  -999.0,-999.0000,9,-999.0000,    51.9,2,     18.267,3,-999.000,9, 20150623,     1547,-999.000,   7.0967,2,    32.6057,2,     -999.0,9,     -999.0,-999.0000,     -999.0,     -999.0,9,     -999.0,     -999.0,9,     -999.0,  -999.0,9,     -999.0,     -999.0,9,     -999.0
33RO20150525,     P16N.2,     206,          1,         17,         17,2,20150623,       1527,    56.7816,  -135.9861,        590,   110.6,   6.6206,    32.77,2,-999.0000,9,    171.9,2,  -999.0,9, -999.00,9, -999.00,9, -999.00,9, -999.00,9,-999.000,9,-999.000,9,-999.000,9,  -999.0,9,  -999.0,9,-999.0000,9,  -999.00,-999.000,9,-999.0000,9, -999.00,9,  -999.0,9,  -999.0,-999.0000,9,-999.0000,  -999.0,9,     -999.0,9,-999.000,9, 20150623,     1545,-999.000,   6.6817,4,     -999.0,9,     -999.0,9,     -999.0,-999.0000,     -999.0,     -999.0,9,     -999.0,     -999.0,9,     -999.0,  -999.0,9,     -999.0,     -999.0,9,     -999.0
33RO20150525,     P16N.2,     206,          1,         16,         16,2,20150623,       1527,    56.7816,  -135.9861,        590,   110.7,   6.5969,  32.7756,2,  32.7676,2,      170,2,   180.5,2,   42.37,2,   25.44,2,     0.1,2,    1.96,2,   3.509,2,   1.926,2,   1.854,2,  2140.9,2,  2207.1,2,   7.5197,2,    25.05,-999.000,9,-999.0000,9, -999.00,9,  -999.0,9,  -999.0,-999.0000,9,-999.0000,    49.6,2,     22.219,3,-999.000,9, 20150623,     1545,-999.000,   6.6062,2,    32.9222,6,     -999.0,9,     -999.0,-999.0000,     -999.0,     -999.0,9,     -999.0,     -999.0,9,     -999.0,  -999.0,9,     -999.0,     -999.0,9,     -999.0
33RO20150525,     P16N.2,     206,          1,         18,         18,2,20150623,       1527,    56.7816,  -135.9861,        590,   110.6,    6.684,  32.7522,2,-999.0000,9,    184.5,2,  -999.0,9, -999.00,9, -999.00,9, -999.00,9, -999.00,9,-999.000,9,-999.000,9,-999.000,9,  -999.0,9,  -999.0,9,-999.0000,9,  -999.00,-999.000,9,-999.0000,9, -999.00,9,  -999.0,9,  -999.0,-999.0000,9,-999.0000,  -999.0,9,     -999.0,9,-999.000,9, 20150623,     1545,-999.000,   6.7303,4,     -999.0,9,     -999.0,9,     -999.0,-999.0000,     -999.0,     -999.0,9,     -999.0,     -999.0,9,     -999.0,  -999.0,9,     -999.0,     -999.0,9,     -999.0
33RO20150525,     P16N.2,     206,          1,         15,         15,2,20150623,       1527,    56.7816,  -135.9861,        590,     133,   6.0472,  33.1978,2,  33.1786,2,    143.7,2,   144.7,2,   51.75,2,   30.13,2,    0.04,2,    2.21,2,   3.258,2,   1.771,2,   1.556,2,    2190,2,  2233.9,2,   7.4484,2,    25.06,-999.000,9,-999.0000,9, -999.00,9,  -999.0,9,  -999.0,-999.0000,9,-999.0000,    52.6,2,     26.592,3,-999.000,9, 20150623,     1543,-999.000,   6.0529,2,    33.3351,2,     -999.0,9,     -999.0,-999.0000,     -999.0,     -999.0,9,     -999.0,     -999.0,9,     -999.0,  -999.0,9,     -999.0,     -999.0,9,     -999.0
33RO20150525,     P16N.2,     206,          1,         14,         14,2,20150623,       1527,    56.7816,  -135.9861,        590,   160.2,   5.9019,  33.4453,2,  33.4436,2,    134.9,2,   132.3,2,    53.4,2,   31.39,2,    0.01,2,    2.27,2,   3.216,2,   1.735,2,   1.414,2,  2210.2,2,  2248.9,2,   7.4321,2,    25.05,-999.000,9,-999.0000,9, -999.00,9,  -999.0,9,  -999.0,-999.0000,9,-999.0000,    47.7,2,     28.287,3,-999.000,9, 20150623,     1542,-999.000,   5.9109,2,    33.6013,2,     -999.0,9,     -999.0,-999.0000,     -999.0,     -999.0,9,     -999.0,     -999.0,9,     -999.0,  -999.0,9,     -999.0,     -999.0,9,     -999.0
33RO20150525,     P16N.2,     206,          1,         11,         11,2,20150623,       1527,    56.7816,  -135.9861,        590,   200.4,    5.773,  33.6942,2,-999.0000,9,    125.7,2,  -999.0,9, -999.00,9, -999.00,9, -999.00,9, -999.00,9,-999.000,9,-999.000,9,-999.000,9,  -999.0,9,  -999.0,9,-999.0000,9,  -999.00,-999.000,9,-999.0000,9, -999.00,9,  -999.0,9,  -999.0,-999.0000,9,-999.0000,  -999.0,9,     -999.0,9,-999.000,9, 20150623,     1539,-999.000,   5.7728,2,     -999.0,9,     -999.0,9,     -999.0,-999.0000,     -999.0,     -999.0,9,     -999.0,     -999.0,9,     -999.0,  -999.0,9,     -999.0,     -999.0,9,     -999.0
33RO20150525,     P16N.2,     206,          1,         13,         13,2,20150623,       1527,    56.7816,  -135.9861,        590,   200.3,   5.7782,   33.685,2,  33.6944,2,    128.4,2,     123,2,   53.68,2,   32.46,2,    0.01,2,     2.3,2,   3.193,2,   1.716,2,   1.343,2,    2224,2,  2262.9,2,   7.4224,2,    25.05,-999.000,9,-999.0000,9, -999.00,9,  -999.0,9,  -999.0,-999.0000,9,-999.0000,    43.7,2,     29.274,3,-999.000,9, 20150623,     1540,-999.000,   5.7774,2,    33.8533,2,     -999.0,9,     -999.0,-999.0000,     -999.0,     -999.0,9,     -999.0,     -999.0,9,     -999.0,  -999.0,9,     -999.0,     -999.0,9,     -999.0
33RO20150525,     P16N.2,     206,          1,         12,         12,2,20150623,       1527,    56.7816,  -135.9861,        590,   200.4,   5.7736,  33.6969,2,-999.0000,9,    124.9,2,  -999.0,9, -999.00,9, -999.00,9, -999.00,9, -999.00,9,-999.000,9,-999.000,9,-999.000,9,  -999.0,9,  -999.0,9,-999.0000,9,  -999.00,-999.000,9,-999.0000,9, -999.00,9,  -999.0,9,  -999.0,-999.0000,9,-999.0000,  -999.0,9,     -999.0,9,-999.000,9, 20150623,     1539,-999.000,   5.7746,2,     -999.0,9,     -999.0,9,     -999.0,-999.0000,     -999.0,     -999.0,9,     -999.0,     -999.0,9,     -999.0,  -999.0,9,     -999.0,     -999.0,9,     -999.0
33RO20150525,     P16N.2,     206,          1,         10,         10,2,20150623,       1527,    56.7816,  -135.9861,        590,   264.8,    5.246,  33.8672,2,  33.8741,2,     89.7,2,    88.3,2,   64.04,2,   36.47,2,    0.01,2,    2.55,2,    2.83,2,   1.484,2,   0.993,2,  2260.8,2,  2279.1,2,   7.3539,2,    25.05,-999.000,9,-999.0000,9, -999.00,9,  -999.0,9,  -999.0,-999.0000,9,-999.0000,    44.8,2,     33.376,3,-999.000,9, 20150623,     1537,-999.000,   5.2449,2,    34.0338,2,     -999.0,9,     -999.0,-999.0000,     -999.0,     -999.0,9,     -999.0,     -999.0,9,     -999.0,  -999.0,9,     -999.0,     -999.0,9,     -999.0
33RO20150525,     P16N.2,     206,          1,          8,          8,2,20150623,       1527,    56.7816,  -135.9861,        590,   346.1,   4.5967,  33.9808,2,-999.0000,9,     51.2,2,  -999.0,9, -999.00,9, -999.00,9, -999.00,9, -999.00,9,-999.000,9,-999.000,9,-999.000,9,  -999.0,9,  -999.0,9,-999.0000,9,  -999.00,-999.000,9,-999.0000,9, -999.00,9,  -999.0,9,  -999.0,-999.0000,9,-999.0000,  -999.0,9,     -999.0,9,-999.000,9, 20150623,     1534,-999.000,   4.5953,2,     -999.0,9,     -999.0,9,     -999.0,-999.0000,     -999.0,     -999.0,9,     -999.0,     -999.0,9,     -999.0,  -999.0,9,     -999.0,     -999.0,9,     -999.0
33RO20150525,     P16N.2,     206,          1,          7,          7,2,20150623,       1527,    56.7816,  -135.9861,        590,   346.1,   4.5922,  33.9819,2,-999.0000,9,       51,2,  -999.0,9, -999.00,9, -999.00,9, -999.00,9, -999.00,9,-999.000,9,-999.000,9,-999.000,9,  -999.0,9,  -999.0,9,-999.0000,9,  -999.00,-999.000,9,-999.0000,9, -999.00,9,  -999.0,9,  -999.0,-999.0000,9,-999.0000,  -999.0,9,     -999.0,9,-999.000,9, 20150623,     1534,-999.000,   4.5896,2,     -999.0,9,     -999.0,9,     -999.0,-999.0000,     -999.0,     -999.0,9,     -999.0,     -999.0,9,     -999.0,  -999.0,9,     -999.0,     -999.0,9,     -999.0
33RO20150525,     P16N.2,     206,          1,          9,          9,2,20150623,       1527,    56.7816,  -135.9861,        590,   346.1,   4.5999,  33.9801,2,  33.9787,2,     51.4,2,      51,2,   81.05,6,   40.47,6,    0.02,6,    2.81,6,   2.005,2,   1.012,2,   0.554,2,  2301.7,2,  2299.2,6,   7.2928,2,    25.06,-999.000,9,-999.0000,9, -999.00,9,  -999.0,9,  -999.0,-999.0000,9,-999.0000,    43.8,2,     38.948,3,-999.000,9, 20150623,     1535,-999.000,   4.6004,2,    34.1389,2,     -999.0,9,     -999.0,-999.0000,     -999.0,     -999.0,9,     -999.0,     -999.0,9,     -999.0,  -999.0,9,     -999.0,     -999.0,9,     -999.0
33RO20150525,     P16N.2,     206,          1,          5,          5,2,20150623,       1527,    56.7816,  -135.9861,        590,   425.8,   4.4112,  34.0377,2,-999.0000,9,     38.2,2,  -999.0,9, -999.00,9, -999.00,9, -999.00,9, -999.00,9,-999.000,9,-999.000,9,-999.000,9,  -999.0,9,  -999.0,9,-999.0000,9,  -999.00,-999.000,9,-999.0000,9, -999.00,9,  -999.0,9,  -999.0,-999.0000,9,-999.0000,  -999.0,9,     -999.0,9,-999.000,9, 20150623,     1531,-999.000,    4.411,2,     -999.0,9,     -999.0,9,     -999.0,-999.0000,     -999.0,     -999.0,9,     -999.0,     -999.0,9,     -999.0,  -999.0,9,     -999.0,     -999.0,9,     -999.0
33RO20150525,     P16N.2,     206,          1,          4,          4,2,20150623,       1527,    56.7816,  -135.9861,        590,   425.8,   4.4099,  34.0379,2,  34.0341,2,     38.2,2,    38.1,2,   88.18,6,   41.55,6,    0.01,6,     2.9,6,   1.605,2,   0.805,2,   0.401,2,  2314.4,2,  2307.7,2,   7.2789,2,    25.07,-999.000,9,-999.0000,9, -999.00,9,  -999.0,9,  -999.0,-999.0000,9,-999.0000,    42.8,2,     41.110,3,-999.000,9, 20150623,     1531,-999.000,   4.4127,2,    34.1946,2,     -999.0,9,     -999.0,-999.0000,     -999.0,     -999.0,9,     -999.0,     -999.0,9,     -999.0,  -999.0,9,     -999.0,     -999.0,9,     -999.0
33RO20150525,     P16N.2,     206,          1,          6,          6,2,20150623,       1527,    56.7816,  -135.9861,        590,     426,   4.4101,  34.0382,2,-999.0000,9,     38.2,2,  -999.0,9, -999.00,9, -999.00,9, -999.00,9, -999.00,9,-999.000,9,-999.000,9,-999.000,9,  -999.0,9,  -999.0,9,-999.0000,9,  -999.00,-999.000,9,-999.0000,9, -999.00,9,  -999.0,9,  -999.0,-999.0000,9,-999.0000,  -999.0,9,     -999.0,9,-999.000,9, 20150623,     1532,-999.000,   4.4105,2,     -999.0,9,     -999.0,9,     -999.0,-999.0000,     -999.0,     -999.0,9,     -999.0,     -999.0,9,     -999.0,  -999.0,9,     -999.0,     -999.0,9,     -999.0
33RO20150525,     P16N.2,     206,          1,          1,          1,2,20150623,       1527,    56.7816,  -135.9861,        590,   582.3,   4.1514,  34.1216,2,-999.0000,9,     25.3,2,  -999.0,9, -999.00,9, -999.00,9, -999.00,9, -999.00,9,-999.000,9,-999.000,9,-999.000,9,  -999.0,9,  -999.0,9,-999.0000,9,  -999.00,-999.000,9,-999.0000,9, -999.00,9,  -999.0,9,  -999.0,-999.0000,9,-999.0000,  -999.0,9,     -999.0,9,-999.000,9, 20150623,     1526,-999.000,   4.1519,2,     -999.0,9,     -999.0,9,     -999.0,-999.0000,     -999.0,     -999.0,9,     -999.0,     -999.0,9,     -999.0,  -999.0,9,     -999.0,     -999.0,9,     -999.0
33RO20150525,     P16N.2,     206,          1,          2,          2,2,20150623,       1527,    56.7816,  -135.9861,        590,   582.3,   4.1498,  34.1216,2,-999.0000,9,     25.4,2,  -999.0,9, -999.00,9, -999.00,9, -999.00,9, -999.00,9,-999.000,9,-999.000,9,-999.000,9,  -999.0,9,  -999.0,9,-999.0000,9,  -999.00,-999.000,9,-999.0000,9, -999.00,9,  -999.0,9,  -999.0,-999.0000,9,-999.0000,  -999.0,9,     -999.0,9,-999.000,9, 20150623,     1527,-999.000,     4.15,2,     -999.0,9,     -999.0,9,     -999.0,-999.0000,     -999.0,     -999.0,9,     -999.0,     -999.0,9,     -999.0,  -999.0,9,     -999.0,     -999.0,9,     -999.0
33RO20150525,     P16N.2,     206,          1,          3,          3,2,20150623,       1527,    56.7816,  -135.9861,        590,   582.3,    4.149,  34.1217,2,  34.1188,2,     25.4,2,    25.1,2,   99.32,6,   42.62,6,    0.01,6,    2.98,6,   1.066,2,   0.533,2,   0.255,2,  2333.3,6,  2325.3,2,   7.2687,2,    25.01,-999.000,9,-999.0000,9, -999.00,9,  -999.0,9,  -999.0,-999.0000,9,-999.0000,    45.3,2,     43.749,3,-999.000,9, 20150623,     1527,-999.000,   4.1496,2,    34.2797,2,     -999.0,9,     -999.0,-999.0000,     -999.0,     -999.0,9,     -999.0,     -999.0,9,     -999.0,  -999.0,9,     -999.0,     -999.0,9,     -999.0