BOTTLE,20220330CCHSIOCBG
EXPOCODE,SECT_ID,STNNBR,CASTNO,SAMPNO,BTLNBR,BTLNBR_FLAG_W,DATE,TIME,LATITUDE,LONGITUDE,DEPTH,CTDPRS,CTDTMP,CTDSAL,CTDSAL_FLAG_W,SALNTY,SALNTY_FLAG_W,CTDOXY,CTDOXY_FLAG_W,OXYGEN,OXYGEN_FLAG_W,SILCAT,SILCAT_FLAG_W,NITRAT,NITRAT_FLAG_W,NITRIT,NITRIT_FLAG_W,PHSPHT,PHSPHT_FLAG_W,CFC-11,CFC-11_FLAG_W,CFC-12,CFC-12_FLAG_W,SF6,SF6_FLAG_W,TCARBN,TCARBN_FLAG_W,ALKALI,ALKALI_FLAG_W,PH_TOT,PH_TOT_FLAG_W,PH_TMP,TRITUM,TRITUM_FLAG_W,HELIUM,HELIUM_FLAG_W,DELC13,DELC13_FLAG_W,DELC14,DELC14_FLAG_W,C14ERR,NEON,NEON_FLAG_W,NEONER,DOC,DOC_FLAG_W,N2O,N2O_FLAG_W,ARGON,ARGON_FLAG_W,BTL_DATE,BTL_TIME,TRITER,SBE35,SBE35_FLAG_W,SALTREF,SALTREF_FLAG_W,DELHE3,DELHE3_FLAG_W,DELHER,HELIER,ARGONER,KRYPTON,KRYPTON_FLAG_W,KRYPTONER,XENON,XENON_FLAG_W,XENONER,14C-DOC,14C-DOC_FLAG_W,14C-DOCERR,13C-DOC,13C-DOC_FLAG_W,13C-DOCERR
,,,,,,,,,,,METERS,DBAR,ITS-90,PSS-78,,PSS-78,,UMOL/KG,,UMOL/KG,,UMOL/KG,,UMOL/KG,,UMOL/KG,,UMOL/KG,,PMOL/KG,,PMOL/KG,,FMOL/KG,,UMOL/KG,,UMOL/KG,,,,DEG C,TU,,NMOL/KG,,/MILLE,,/MILLE,,/MILLE,NMOL/KG,,NMOL/KG,UMOL/KG,,NMOL/KG,,UMOL/KG,,,,TU,ITS-90,,G/KG,,PERCNT,,PERCNT,NMOL/KG,UMOL/KG,NMOL/KG,,NMOL/KG,NMOL/KG,,NMOL/KG,/MILLE,,/MILLE,/MILLE,,/MILLE
33RO20150525,     P16N.2,     132,          1,         24,         24,2,20150602,       0522,     32.001,  -151.9997,       5263,     2.7,  19.3928,  34.6337,2,  34.6338,2,    231.8,2,   233.4,2,    1.86,2,       0,2,       0,2,    0.01,2,   2.243,2,   1.371,2,   1.722,2,  2025.3,6,  2275.2,2,   7.9692,2,    25.01,-999.000,9,-999.0000,9, -999.00,9,  -999.0,9,  -999.0,-999.0000,9,-999.0000,  -999.0,9,      8.013,3,-999.000,9, 20150602,     0731,-999.000,  19.3915,2,    34.7971,2,     -999.0,9,     -999.0,-999.0000,     -999.0,     -999.0,9,     -999.0,     -999.0,9,     -999.0,  -999.0,9,     -999.0,     -999.0,9,     -999.0
33RO20150525,     P16N.2,     132,          1,         23,         23,2,20150602,       0522,     32.001,  -151.9997,       5263,    33.8,  18.7982,  34.5688,2,  34.5682,2,    235.6,2,   236.5,2,    1.95,2,       0,2,    0.01,2,    0.04,2,   2.327,6,   1.385,6,   1.825,6,  2022.4,2,  2274.6,2,   7.9649,2,       25,-999.000,9,-999.0000,9, -999.00,9,  -999.0,9,  -999.0,-999.0000,9,-999.0000,  -999.0,9,      8.061,3,-999.000,9, 20150602,     0728,-999.000,   18.796,2,    34.7312,2,     -999.0,9,     -999.0,-999.0000,     -999.0,     -999.0,9,     -999.0,     -999.0,9,     -999.0,  -999.0,9,     -999.0,     -999.0,9,     -999.0
33RO20150525,     P16N.2,     132,          1,         22,         22,2,20150602,       0522,     32.001,  -151.9997,       5263,    58.1,  16.5385,  34.3362,2,  34.3297,2,    247.7,2,   248.4,2,    2.44,2,       0,2,       0,2,    0.07,2,   2.543,2,   1.526,2,   1.869,2,  2017.7,2,  2254.6,2,   7.9511,6,       25,-999.000,9,-999.0000,9, -999.00,9,  -999.0,9,  -999.0,-999.0000,9,-999.0000,  -999.0,9,      8.629,3,-999.000,9, 20150602,     0726,-999.000,  16.4844,4,    34.4916,2,     -999.0,9,     -999.0,-999.0000,     -999.0,     -999.0,9,     -999.0,     -999.0,9,     -999.0,  -999.0,9,     -999.0,     -999.0,9,     -999.0
33RO20150525,     P16N.2,     132,          1,         21,         21,2,20150602,       0522,     32.001,  -151.9997,       5263,    82.6,  14.8316,   34.242,2,  34.2438,2,      252,2,   252.5,2,    3.03,2,       0,2,    0.01,2,    0.09,2,   2.714,2,   1.609,2,   2.032,2,  2020.4,2,  2252.8,2,   7.9362,2,    24.99,-999.000,9,-999.0000,9, -999.00,9,  -999.0,9,  -999.0,-999.0000,9,-999.0000,  -999.0,9,      9.133,3,-999.000,9, 20150602,     0724,-999.000,  14.8757,2,    34.4053,2,     -999.0,9,     -999.0,-999.0000,     -999.0,     -999.0,9,     -999.0,     -999.0,9,     -999.0,  -999.0,9,     -999.0,     -999.0,9,     -999.0
33RO20150525,     P16N.2,     132,          1,         20,         20,2,20150602,       0522,     32.001,  -151.9997,       5263,   117.4,  13.7883,  34.1839,2,  34.1842,2,    236.3,2,   236.5,2,     4.3,2,    3.32,2,     0.1,2,    0.32,2,   2.852,2,    1.66,2,    1.98,2,  2043.5,2,  2249.4,6,   7.8873,2,    25.01,-999.000,9,-999.0000,9, -999.00,9,  -999.0,9,  -999.0,-999.0000,9,-999.0000,  -999.0,9,     10.257,3,-999.000,9, 20150602,     0721,-999.000,  13.7831,2,    34.3454,2,     -999.0,9,     -999.0,-999.0000,     -999.0,     -999.0,9,     -999.0,     -999.0,9,     -999.0,  -999.0,9,     -999.0,     -999.0,9,     -999.0
33RO20150525,     P16N.2,     132,          1,         19,         19,2,20150602,       0522,     32.001,  -151.9997,       5263,   174.7,  12.2741,  34.1547,2,  34.1599,2,      220,2,   217.7,2,    8.31,2,    9.58,2,    0.01,2,    0.71,2,   3.021,2,   1.788,2,   1.882,2,  2078.9,2,  2251.9,2,   7.8139,2,    24.98,-999.000,9,-999.0000,9, -999.00,9,  -999.0,9,  -999.0,-999.0000,9,-999.0000,  -999.0,9,     13.975,3,-999.000,9, 20150602,     0718,-999.000,   12.269,2,     34.321,2,     -999.0,9,     -999.0,-999.0000,     -999.0,     -999.0,9,     -999.0,     -999.0,9,     -999.0,  -999.0,9,     -999.0,     -999.0,9,     -999.0
33RO20150525,     P16N.2,     132,          1,         18,         18,2,20150602,       0522,     32.001,  -151.9997,       5263,   250.1,  10.8572,  34.1541,2,  34.1556,2,    212.8,2,   210.8,2,   13.88,2,   13.88,2,    0.01,2,    0.96,2,   3.208,2,   1.849,2,   1.715,2,    2105,2,  2257.6,2,   7.7657,2,    24.99,-999.000,9,-999.0000,9, -999.00,9,  -999.0,9,  -999.0,-999.0000,9,-999.0000,  -999.0,9,     17.891,3,-999.000,9, 20150602,     0715,-999.000,  10.8582,2,    34.3166,2,     -999.0,9,     -999.0,-999.0000,     -999.0,     -999.0,9,     -999.0,     -999.0,9,     -999.0,  -999.0,9,     -999.0,     -999.0,9,     -999.0
33RO20150525,     P16N.2,     132,          1,         17,         17,2,20150602,       0522,     32.001,  -151.9997,       5263,   333.4,   9.2311,  34.0774,2,  34.0776,2,    203.4,2,     203,2,   21.11,2,   17.79,2,       0,2,    1.24,2,   3.371,2,   1.868,2,    1.49,2,  2131.6,2,  2262.6,2,   7.7097,6,    24.99,-999.000,9,-999.0000,9, -999.00,9,  -999.0,9,  -999.0,-999.0000,9,-999.0000,  -999.0,9,     21.120,3,-999.000,9, 20150602,     0712,-999.000,   9.2139,2,    34.2383,2,     -999.0,9,     -999.0,-999.0000,     -999.0,     -999.0,9,     -999.0,     -999.0,9,     -999.0,  -999.0,9,     -999.0,     -999.0,9,     -999.0
33RO20150525,     P16N.2,     132,          1,         16,         16,2,20150602,       0522,     32.001,  -151.9997,       5263,   432.9,   7.4633,  34.0045,2,  34.0069,2,    159.7,2,     159,2,   37.14,2,   25.31,2,    0.01,2,    1.77,2,   3.096,2,   1.649,2,   1.095,2,  2182.9,2,  2271.5,2,   7.5892,2,    24.99,-999.000,9,-999.0000,9, -999.00,9,  -999.0,9,  -999.0,-999.0000,9,-999.0000,  -999.0,9,     25.874,3,-999.000,9, 20150602,     0709,-999.000,   7.4845,2,    34.1673,2,     -999.0,9,     -999.0,-999.0000,     -999.0,     -999.0,9,     -999.0,     -999.0,9,     -999.0,  -999.0,9,     -999.0,     -999.0,9,     -999.0
33RO20150525,     P16N.2,     132,          1,         15,         15,2,20150602,       0522,     32.001,  -151.9997,       5263,   548.7,   5.7183,  33.9877,2,  33.9881,2,     99.8,2,    98.6,2,   61.28,2,   34.01,2,    0.01,2,     2.4,2,   2.224,2,   1.122,2,   0.535,2,  2250.7,2,  2287.9,2,   7.4328,2,       25,-999.000,9,-999.0000,9, -999.00,9,  -999.0,9,  -999.0,-999.0000,9,-999.0000,  -999.0,9,     32.970,3,-999.000,9, 20150602,     0705,-999.000,   5.7217,2,    34.1484,6,     -999.0,9,     -999.0,-999.0000,     -999.0,     -999.0,9,     -999.0,     -999.0,9,     -999.0,  -999.0,9,     -999.0,     -999.0,9,     -999.0
33RO20150525,     P16N.2,     132,          1,         14,         14,2,20150602,       0522,     32.001,  -151.9997,       5263,   699.3,   4.5364,  34.1219,2,  34.1289,2,     34.7,2,    36.4,2,   89.71,2,   41.14,2,       0,2,     2.9,2,   0.721,6,   0.343,6,   0.156,6,  2320.2,2,  2319.1,2,    7.307,2,    25.01,-999.000,9,-999.0000,9, -999.00,9,  -999.0,9,  -999.0,-999.0000,9,-999.0000,  -999.0,9,     43.516,3,-999.000,9, 20150602,     0701,-999.000,   4.5376,2,    34.2899,2,     -999.0,9,     -999.0,-999.0000,     -999.0,     -999.0,9,     -999.0,     -999.0,9,     -999.0,  -999.0,9,     -999.0,     -999.0,9,     -999.0
33RO20150525,     P16N.2,     132,          1,         13,         13,2,20150602,       0522,     32.001,  -151.9997,       5263,   850.7,   4.0287,  34.2572,2,  34.2589,2,     12.6,2,    13.3,2,  107.59,2,   43.29,2,       0,2,    3.07,2,   0.176,4,   0.167,4,   1.769,4,    2353,2,  2343.6,2,    7.279,2,    25.02,-999.000,9,-999.0000,9, -999.00,9,  -999.0,9,  -999.0,-999.0000,9,-999.0000,  -999.0,9,     49.932,4,-999.000,9, 20150602,     0656,-999.000,   4.0296,2,    34.4205,2,     -999.0,9,     -999.0,-999.0000,     -999.0,     -999.0,9,     -999.0,     -999.0,9,     -999.0,  -999.0,9,     -999.0,     -999.0,9,     -999.0
33RO20150525,     P16N.2,     132,          1,         12,         12,2,20150602,       0522,     32.001,  -151.9997,       5263,   999.7,   3.5782,  34.3639,2,  34.3641,2,      9.4,2,     9.9,2,  121.65,2,   43.97,2,       0,2,    3.14,2,   0.016,2,    0.01,2,       0,2,    2371,6,  2365.2,2,   7.2852,2,    25.01,-999.000,9,-999.0000,9, -999.00,9,  -999.0,9,  -999.0,-999.0000,9,-999.0000,  -999.0,9,     51.764,3,-999.000,9, 20150602,     0652,-999.000,   3.5787,2,    34.5261,2,     -999.0,9,     -999.0,-999.0000,     -999.0,     -999.0,9,     -999.0,     -999.0,9,     -999.0,  -999.0,9,     -999.0,     -999.0,9,     -999.0
33RO20150525,     P16N.2,     132,          1,         11,         11,2,20150602,       0522,     32.001,  -151.9997,       5263,  1166.5,   3.2803,  34.4579,2,  34.4581,2,     18.7,2,    18.7,2,  129.85,2,   43.67,2,       0,2,    3.11,2,   0.007,2,   0.006,2,       0,2,  2378.2,2,    2381,2,   7.3138,2,    25.02,-999.000,9,-999.0000,9, -999.00,9,  -999.0,9,  -999.0,-999.0000,9,-999.0000,  -999.0,9,     47.728,3,-999.000,9, 20150602,     0648,-999.000,   3.2819,2,    34.6206,2,     -999.0,9,     -999.0,-999.0000,     -999.0,     -999.0,9,     -999.0,     -999.0,9,     -999.0,  -999.0,9,     -999.0,     -999.0,9,     -999.0
33RO20150525,     P16N.2,     132,          1,         10,         10,2,20150602,       0522,     32.001,  -151.9997,       5263,  1400.6,   2.8563,  34.5271,2,  34.5309,2,       36,2,    35.8,2,  139.41,2,   42.89,2,       0,2,    3.06,2,   0.003,2,   0.004,2,       0,2,    2380,2,  2394.4,2,   7.3537,2,    25.02,-999.000,9,-999.0000,9, -999.00,9,  -999.0,9,  -999.0,-999.0000,9,-999.0000,  -999.0,9,     40.967,3,-999.000,9, 20150602,     0642,-999.000,   2.8561,2,    34.6938,2,     -999.0,9,     -999.0,-999.0000,     -999.0,     -999.0,9,     -999.0,     -999.0,9,     -999.0,  -999.0,9,     -999.0,     -999.0,9,     -999.0
33RO20150525,     P16N.2,     132,          1,          9,          9,2,20150602,       0522,     32.001,  -151.9997,       5263,  1733.3,     2.26,  34.5871,2,  34.5871,2,     59.6,2,    59.4,2,  153.38,2,   41.52,2,       0,2,    2.91,2,   0.003,2,   0.002,2,       0,2,  2378.7,2,  2412.8,2,   7.4024,6,    24.99,-999.000,9,-999.0000,9, -999.00,9,  -999.0,9,  -999.0,-999.0000,9,-999.0000,  -999.0,9,     34.126,3,-999.000,9, 20150602,     0635,-999.000,   2.2602,2,    34.7502,2,     -999.0,9,     -999.0,-999.0000,     -999.0,     -999.0,9,     -999.0,     -999.0,9,     -999.0,  -999.0,9,     -999.0,     -999.0,9,     -999.0
33RO20150525,     P16N.2,     132,          1,          8,          8,2,20150602,       0522,     32.001,  -151.9997,       5263,  2132.8,   1.9023,  34.6242,2,  34.6236,2,     78.9,2,    78.8,2,  162.07,2,   40.25,2,       0,2,    2.81,2,   0.002,2,   0.001,2,       0,2,  2374.8,2,  2422.2,2,   7.4433,2,       25,-999.000,9,-999.0000,9, -999.00,9,  -999.0,9,  -999.0,-999.0000,9,-999.0000,  -999.0,9,     29.411,3,-999.000,9, 20150602,     0627,-999.000,   1.9022,2,    34.7869,2,     -999.0,9,     -999.0,-999.0000,     -999.0,     -999.0,9,     -999.0,     -999.0,9,     -999.0,  -999.0,9,     -999.0,     -999.0,9,     -999.0
33RO20150525,     P16N.2,     132,          1,          7,          7,2,20150602,       0522,     32.001,  -151.9997,       5263,  2532.1,   1.6872,  34.6477,2,  34.6484,2,     97.5,2,      97,2,   164.6,2,   39.17,2,       0,2,    2.71,2,   0.001,2,  -0.001,2,       0,2,  2367.2,2,  2426.4,2,   7.4801,2,    24.92,-999.000,9,-999.0000,9, -999.00,9,  -999.0,9,  -999.0,-999.0000,9,-999.0000,  -999.0,9,     26.171,3,-999.000,9, 20150602,     0619,-999.000,   1.6871,2,    34.8118,2,     -999.0,9,     -999.0,-999.0000,     -999.0,     -999.0,9,     -999.0,     -999.0,9,     -999.0,  -999.0,9,     -999.0,     -999.0,9,     -999.0
33RO20150525,     P16N.2,     132,          1,          6,          6,2,20150602,       0522,     32.001,  -151.9997,       5263,  2934.3,   1.5507,  34.6633,2,  34.6629,2,    114.8,2,   115.4,2,  161.57,2,    38.1,2,       0,2,    2.62,2,   0.003,2,   0.001,2,       0,2,  2355.1,2,  2426.2,2,    7.512,2,       25,-999.000,9,-999.0000,9, -999.00,9,  -999.0,9,  -999.0,-999.0000,9,-999.0000,  -999.0,9,     23.925,3,-999.000,9, 20150602,     0610,-999.000,   1.5505,2,    34.8264,2,     -999.0,9,     -999.0,-999.0000,     -999.0,     -999.0,9,     -999.0,     -999.0,9,     -999.0,  -999.0,9,     -999.0,     -999.0,9,     -999.0
33RO20150525,     P16N.2,     132,          1,          5,          5,2,20150602,       0522,     32.001,  -151.9997,       5263,  3367.3,   1.4797,  34.6753,2,  34.6757,2,    131.1,2,   131.4,2,  156.79,2,   37.12,2,       0,2,    2.55,2,   0.001,2,   0.004,3,       0,2,    2343,2,  2424.8,2,   7.5417,6,    24.99,-999.000,9,-999.0000,9, -999.00,9,  -999.0,9,  -999.0,-999.0000,9,-999.0000,  -999.0,9,     20.519,3,-999.000,9, 20150602,     0601,-999.000,   1.4796,2,    34.8392,6,     -999.0,9,     -999.0,-999.0000,     -999.0,     -999.0,9,     -999.0,     -999.0,9,     -999.0,  -999.0,9,     -999.0,     -999.0,9,     -999.0
33RO20150525,     P16N.2,     132,          1,          4,          4,2,20150602,       0522,     32.001,  -151.9997,       5263,  3866.4,   1.4595,  34.6834,2,  34.6834,2,      143,2,     143,2,   151.9,6,   36.34,6,       0,6,    2.48,6,       0,2,       0,2,       0,2,  2334.6,2,  2425.2,2,    7.564,6,       25,-999.000,9,-999.0000,9, -999.00,9,  -999.0,9,  -999.0,-999.0000,9,-999.0000,  -999.0,9,     21.262,3,-999.000,9, 20150602,     0551,-999.000,   1.4595,2,    34.8469,2,     -999.0,9,     -999.0,-999.0000,     -999.0,     -999.0,9,     -999.0,     -999.0,9,     -999.0,  -999.0,9,     -999.0,     -999.0,9,     -999.0
33RO20150525,     P16N.2,     132,          1,          3,          3,2,20150602,       0522,     32.001,  -151.9997,       5263,  4366.9,   1.4791,  34.6876,2,  34.6875,2,    149.6,2,   149.1,2,  148.19,6,   35.85,6,       0,6,    2.44,6,   0.001,2,   0.001,2,       0,2,  2328.5,2,  2423.4,6,   7.5744,6,    25.01,-999.000,9,-999.0000,9, -999.00,9,  -999.0,9,  -999.0,-999.0000,9,-999.0000,  -999.0,9,     20.756,3,-999.000,9, 20150602,     0542,-999.000,   1.4793,2,    34.8511,2,     -999.0,9,     -999.0,-999.0000,     -999.0,     -999.0,9,     -999.0,     -999.0,9,     -999.0,  -999.0,9,     -999.0,     -999.0,9,     -999.0
33RO20150525,     P16N.2,     132,          1,          2,          2,2,20150602,       0522,     32.001,  -151.9997,       5263,  4819.6,   1.5146,  34.6901,2,  34.6895,2,    153.9,2,   153.8,2,   143.5,6,   35.56,6,       0,6,    2.42,6,   0.002,6,   0.002,6,       0,6,  2325.4,2,  2421.8,2,   7.5808,2,    25.01,-999.000,9,-999.0000,9, -999.00,9,  -999.0,9,  -999.0,-999.0000,9,-999.0000,  -999.0,9,     21.340,3,-999.000,9, 20150602,     0533,-999.000,   1.5147,2,    34.8531,2,     -999.0,9,     -999.0,-999.0000,     -999.0,     -999.0,9,     -999.0,     -999.0,9,     -999.0,  -999.0,9,     -999.0,     -999.0,9,     -999.0
33RO20150525,     P16N.2,     132,          1,          1,          1,2,20150602,       0522,     32.001,  -151.9997,       5263,  5338.2,   1.5784,  34.6906,2,  34.6913,2,    155.5,2,   155.1,2,  143.11,6,   35.46,6,    0.01,6,    2.41,6,   0.004,2,   0.004,2,       0,2,    2325,6,  2421.8,2,   7.5821,2,       25,-999.000,9,-999.0000,9, -999.00,9,  -999.0,9,  -999.0,-999.0000,9,-999.0000,  -999.0,9,     20.617,3,-999.000,9, 20150602,     0523,-999.000,    1.578,2,    34.8548,2,     -999.0,9,     -999.0,-999.0000,     -999.0,     -999.0,9,     -999.0,     -999.0,9,     -999.0,  -999.0,9,     -999.0,     -999.0,9,     -999.0