BOTTLE,20220330CCHSIOCBG
EXPOCODE,SECT_ID,STNNBR,CASTNO,SAMPNO,BTLNBR,BTLNBR_FLAG_W,DATE,TIME,LATITUDE,LONGITUDE,DEPTH,CTDPRS,CTDTMP,CTDSAL,CTDSAL_FLAG_W,SALNTY,SALNTY_FLAG_W,CTDOXY,CTDOXY_FLAG_W,OXYGEN,OXYGEN_FLAG_W,SILCAT,SILCAT_FLAG_W,NITRAT,NITRAT_FLAG_W,NITRIT,NITRIT_FLAG_W,PHSPHT,PHSPHT_FLAG_W,CFC-11,CFC-11_FLAG_W,CFC-12,CFC-12_FLAG_W,SF6,SF6_FLAG_W,TCARBN,TCARBN_FLAG_W,ALKALI,ALKALI_FLAG_W,PH_TOT,PH_TOT_FLAG_W,PH_TMP,TRITUM,TRITUM_FLAG_W,HELIUM,HELIUM_FLAG_W,DELC13,DELC13_FLAG_W,DELC14,DELC14_FLAG_W,C14ERR,NEON,NEON_FLAG_W,NEONER,DOC,DOC_FLAG_W,N2O,N2O_FLAG_W,ARGON,ARGON_FLAG_W,BTL_DATE,BTL_TIME,TRITER,SBE35,SBE35_FLAG_W,SALTREF,SALTREF_FLAG_W,DELHE3,DELHE3_FLAG_W,DELHER,HELIER,ARGONER,KRYPTON,KRYPTON_FLAG_W,KRYPTONER,XENON,XENON_FLAG_W,XENONER,14C-DOC,14C-DOC_FLAG_W,14C-DOCERR,13C-DOC,13C-DOC_FLAG_W,13C-DOCERR
,,,,,,,,,,,METERS,DBAR,ITS-90,PSS-78,,PSS-78,,UMOL/KG,,UMOL/KG,,UMOL/KG,,UMOL/KG,,UMOL/KG,,UMOL/KG,,PMOL/KG,,PMOL/KG,,FMOL/KG,,UMOL/KG,,UMOL/KG,,,,DEG C,TU,,NMOL/KG,,/MILLE,,/MILLE,,/MILLE,NMOL/KG,,NMOL/KG,UMOL/KG,,NMOL/KG,,UMOL/KG,,,,TU,ITS-90,,G/KG,,PERCNT,,PERCNT,NMOL/KG,UMOL/KG,NMOL/KG,,NMOL/KG,NMOL/KG,,NMOL/KG,/MILLE,,/MILLE,/MILLE,,/MILLE
33RO20150525,     P16N.2,     182,          3,         24,         24,2,20150617,       1214,    55.7771,  -152.8411,       4313,     3.2,  10.3826,  32.4195,2,  32.4184,2,      292,2,   294.7,2,   19.68,2,     9.5,2,    0.14,2,    1.07,2,   3.801,6,   2.178,6,   2.561,6,  2016.6,6,  2183.1,2,   7.8188,2,       25,-999.000,9,-999.0000,9, -999.00,9,  -999.0,9,  -999.0,-999.0000,9,-999.0000,  -999.0,9,     11.611,3,-999.000,9, 20150617,     1355,-999.000,  10.3922,2,    32.5713,2,     -999.0,9,     -999.0,-999.0000,     -999.0,     -999.0,9,     -999.0,     -999.0,9,     -999.0,  -999.0,9,     -999.0,     -999.0,9,     -999.0
33RO20150525,     P16N.2,     182,          3,         23,         23,2,20150617,       1214,    55.7771,  -152.8411,       4313,    16.1,   9.4406,  32.4369,2,  32.4356,2,    300.5,2,   304.6,2,   21.64,2,    9.99,2,    0.15,2,    1.09,2,-999.000,9,-999.000,9,-999.000,9,  2018.7,2,    2186,2,   7.8211,6,    24.98,-999.000,9,-999.0000,9, -999.00,9,  -999.0,9,  -999.0,-999.0000,9,-999.0000,  -999.0,9,     -999.0,9,-999.000,9, 20150617,     1353,-999.000,      9.5,2,    32.5885,2,     -999.0,9,     -999.0,-999.0000,     -999.0,     -999.0,9,     -999.0,     -999.0,9,     -999.0,  -999.0,9,     -999.0,     -999.0,9,     -999.0
33RO20150525,     P16N.2,     182,          3,         22,         22,2,20150617,       1214,    55.7771,  -152.8411,       4313,    49.8,   6.2046,    32.51,2,  32.5309,2,    303.2,2,   298.6,2,   29.17,2,   15.76,2,    0.18,2,    1.44,2,   4.383,2,   2.467,2,   2.831,2,  2061.5,2,  2190.2,6,   7.7174,2,    25.05,-999.000,9,-999.0000,9, -999.00,9,  -999.0,9,  -999.0,-999.0000,9,-999.0000,  -999.0,9,     13.673,3,-999.000,9, 20150617,     1351,-999.000,   6.2061,2,    32.6843,2,     -999.0,9,     -999.0,-999.0000,     -999.0,     -999.0,9,     -999.0,     -999.0,9,     -999.0,  -999.0,9,     -999.0,     -999.0,9,     -999.0
33RO20150525,     P16N.2,     182,          3,         21,         21,2,20150617,       1214,    55.7771,  -152.8411,       4313,    74.9,    5.043,  32.8759,2,  32.8849,2,    224.1,2,     233,2,   40.81,2,   23.98,2,    0.22,2,     1.9,2,   4.074,2,   2.285,2,   2.421,2,  2130.4,2,  2212.4,2,   7.5776,2,    24.96,-999.000,9,-999.0000,9, -999.00,9,  -999.0,9,  -999.0,-999.0000,9,-999.0000,  -999.0,9,     20.029,3,-999.000,9, 20150617,     1349,-999.000,   5.0419,2,      33.04,2,     -999.0,9,     -999.0,-999.0000,     -999.0,     -999.0,9,     -999.0,     -999.0,9,     -999.0,  -999.0,9,     -999.0,     -999.0,9,     -999.0
33RO20150525,     P16N.2,     182,          3,         20,         20,2,20150617,       1214,    55.7771,  -152.8411,       4313,    94.7,   4.5591,  33.2229,2,  33.2204,2,    156.9,2,   170.6,2,   52.74,2,   30.72,2,    0.04,2,    2.28,2,   3.729,2,   2.053,2,   1.929,2,  2193.7,2,  2236.2,2,   7.4485,2,    25.02,-999.000,9,-999.0000,9, -999.00,9,  -999.0,9,  -999.0,-999.0000,9,-999.0000,  -999.0,9,     26.560,3,-999.000,9, 20150617,     1348,-999.000,   4.5649,2,     33.377,6,     -999.0,9,     -999.0,-999.0000,     -999.0,     -999.0,9,     -999.0,     -999.0,9,     -999.0,  -999.0,9,     -999.0,     -999.0,9,     -999.0
33RO20150525,     P16N.2,     182,          3,         19,         19,2,20150617,       1214,    55.7771,  -152.8411,       4313,   150.4,   3.9222,  33.7386,2,  33.7463,2,     72.1,2,    67.1,2,   76.48,2,   40.98,2,    0.02,2,    2.88,2,   2.859,2,   1.505,2,   1.015,2,  2295.5,2,  2277.4,2,   7.2549,2,    25.01,-999.000,9,-999.0000,9, -999.00,9,  -999.0,9,  -999.0,-999.0000,9,-999.0000,  -999.0,9,     38.098,3,-999.000,9, 20150617,     1345,-999.000,   3.9217,2,    33.9054,2,     -999.0,9,     -999.0,-999.0000,     -999.0,     -999.0,9,     -999.0,     -999.0,9,     -999.0,  -999.0,9,     -999.0,     -999.0,9,     -999.0
33RO20150525,     P16N.2,     182,          3,         18,         18,2,20150617,       1214,    55.7771,  -152.8411,       4313,   249.6,   3.8869,  33.9725,2,  33.9724,2,     21.1,2,    20.3,2,   93.68,2,    44.1,2,    0.02,2,    3.07,2,   1.842,2,   0.927,2,   0.484,2,  2334.5,2,  2301.5,2,   7.2089,2,    25.02,-999.000,9,-999.0000,9, -999.00,9,  -999.0,9,  -999.0,-999.0000,9,-999.0000,  -999.0,9,     44.741,3,-999.000,9, 20150617,     1342,-999.000,   3.8867,2,    34.1326,2,     -999.0,9,     -999.0,-999.0000,     -999.0,     -999.0,9,     -999.0,     -999.0,9,     -999.0,  -999.0,9,     -999.0,     -999.0,9,     -999.0
33RO20150525,     P16N.2,     182,          3,         17,         17,2,20150617,       1214,    55.7771,  -152.8411,       4313,   307.6,    3.877,  34.0389,2,  34.0376,2,     18.4,2,    17.6,2,   99.25,2,   43.91,2,    0.02,2,    3.05,2,   1.473,2,   0.727,2,   0.359,2,  2338.9,2,  2313.3,2,   7.2244,2,    24.97,-999.000,9,-999.0000,9, -999.00,9,  -999.0,9,  -999.0,-999.0000,9,-999.0000,  -999.0,9,     45.685,3,-999.000,9, 20150617,     1340,-999.000,   3.8764,2,    34.1981,2,     -999.0,9,     -999.0,-999.0000,     -999.0,     -999.0,9,     -999.0,     -999.0,9,     -999.0,  -999.0,9,     -999.0,     -999.0,9,     -999.0
33RO20150525,     P16N.2,     182,          3,         16,         16,2,20150617,       1214,    55.7771,  -152.8411,       4313,   401.2,   3.7637,  34.1142,2,  34.1135,2,     16.7,2,    17.2,2,  107.17,2,   43.51,2,    0.01,2,    3.03,2,   1.041,2,   0.511,2,   0.237,2,  2346.4,2,  2324.5,2,   7.2425,2,    25.02,-999.000,9,-999.0000,9, -999.00,9,  -999.0,9,  -999.0,-999.0000,9,-999.0000,  -999.0,9,     45.997,3,-999.000,9, 20150617,     1338,-999.000,   3.7635,2,    34.2743,2,     -999.0,9,     -999.0,-999.0000,     -999.0,     -999.0,9,     -999.0,     -999.0,9,     -999.0,  -999.0,9,     -999.0,     -999.0,9,     -999.0
33RO20150525,     P16N.2,     182,          3,         15,         15,2,20150617,       1214,    55.7771,  -152.8411,       4313,     500,   3.6515,  34.1828,2,  34.1823,2,     14.8,2,    13.9,2,  113.71,2,   43.41,2,    0.01,2,    3.04,2,   0.695,2,   0.333,2,    0.15,2,  2352.6,2,  2336.9,2,   7.2539,6,    24.99,-999.000,9,-999.0000,9, -999.00,9,  -999.0,9,  -999.0,-999.0000,9,-999.0000,  -999.0,9,     47.674,3,-999.000,9, 20150617,     1335,-999.000,   3.6504,2,    34.3435,2,     -999.0,9,     -999.0,-999.0000,     -999.0,     -999.0,9,     -999.0,     -999.0,9,     -999.0,  -999.0,9,     -999.0,     -999.0,9,     -999.0
33RO20150525,     P16N.2,     182,          3,         14,         14,2,20150617,       1214,    55.7771,  -152.8411,       4313,     650,   3.4152,  34.2605,2,  34.2601,2,     13.5,2,    14.1,2,  123.48,2,   43.41,2,    0.01,2,    3.05,2,   0.389,2,   0.191,2,   0.065,2,  2363.2,2,  2349.7,2,   7.2664,2,    25.01,-999.000,9,-999.0000,9, -999.00,9,  -999.0,9,  -999.0,-999.0000,9,-999.0000,  -999.0,9,     48.341,3,-999.000,9, 20150617,     1331,-999.000,    3.415,2,    34.4217,2,     -999.0,9,     -999.0,-999.0000,     -999.0,     -999.0,9,     -999.0,     -999.0,9,     -999.0,  -999.0,9,     -999.0,     -999.0,9,     -999.0
33RO20150525,     P16N.2,     182,          3,         13,         13,2,20150617,       1214,    55.7771,  -152.8411,       4313,   800.1,   3.1642,  34.3258,2,   34.326,2,     13.4,2,    13.8,2,  132.76,2,   43.51,2,    0.01,2,    3.06,2,   0.195,2,   0.094,2,       0,2,  2371.4,2,  2363.1,2,   7.2762,2,    25.02,-999.000,9,-999.0000,9, -999.00,9,  -999.0,9,  -999.0,-999.0000,9,-999.0000,  -999.0,9,     48.427,3,-999.000,9, 20150617,     1327,-999.000,   3.1642,2,    34.4879,2,     -999.0,9,     -999.0,-999.0000,     -999.0,     -999.0,9,     -999.0,     -999.0,9,     -999.0,  -999.0,9,     -999.0,     -999.0,9,     -999.0
33RO20150525,     P16N.2,     182,          3,         12,         12,2,20150617,       1214,    55.7771,  -152.8411,       4313,   950.3,   2.9733,  34.3716,2,  34.3712,2,     13.6,2,    15.1,2,  138.72,2,    43.6,2,    0.01,2,    3.07,2,-999.000,9,-999.000,9,-999.000,9,  2378.6,2,    2372,2,   7.2826,2,    25.02,-999.000,9,-999.0000,9, -999.00,9,  -999.0,9,  -999.0,-999.0000,9,-999.0000,  -999.0,9,     -999.0,9,-999.000,9, 20150617,     1324,-999.000,   2.9729,2,    34.5333,2,     -999.0,9,     -999.0,-999.0000,     -999.0,     -999.0,9,     -999.0,     -999.0,9,     -999.0,  -999.0,9,     -999.0,     -999.0,9,     -999.0
33RO20150525,     P16N.2,     182,          3,         11,         11,2,20150617,       1214,    55.7771,  -152.8411,       4313,  1100.1,   2.7514,  34.4158,2,  34.4148,2,     15.6,2,    15.4,2,  145.27,2,    43.7,2,    0.01,2,    3.06,2,   0.066,2,   0.032,2,       0,2,  2383.7,6,  2380.8,2,   7.2911,2,    24.95,-999.000,9,-999.0000,9, -999.00,9,  -999.0,9,  -999.0,-999.0000,9,-999.0000,  -999.0,9,     47.111,3,-999.000,9, 20150617,     1320,-999.000,    2.751,2,    34.5771,6,     -999.0,9,     -999.0,-999.0000,     -999.0,     -999.0,9,     -999.0,     -999.0,9,     -999.0,  -999.0,9,     -999.0,     -999.0,9,     -999.0
33RO20150525,     P16N.2,     182,          3,         10,         10,2,20150617,       1214,    55.7771,  -152.8411,       4313,  1300.9,   2.4528,   34.475,2,   34.476,2,     22.4,2,    22.7,2,  153.57,2,   43.31,2,    0.01,2,    3.02,2,-999.000,9,-999.000,9,-999.000,9,  2390.6,2,  2391.7,2,   7.3093,2,    25.04,-999.000,9,-999.0000,9, -999.00,9,  -999.0,9,  -999.0,-999.0000,9,-999.0000,  -999.0,9,     -999.0,9,-999.000,9, 20150617,     1315,-999.000,   2.4527,2,    34.6386,2,     -999.0,9,     -999.0,-999.0000,     -999.0,     -999.0,9,     -999.0,     -999.0,9,     -999.0,  -999.0,9,     -999.0,     -999.0,9,     -999.0
33RO20150525,     P16N.2,     182,          3,          9,          9,2,20150617,       1214,    55.7771,  -152.8411,       4313,    1600,   2.1393,  34.5397,2,  34.5387,2,     37.5,2,    37.8,2,  161.48,2,   42.52,2,    0.01,2,    2.95,2,-999.000,9,-999.000,9,-999.000,9,  2388.6,2,  2403.2,2,   7.3451,2,    25.03,-999.000,9,-999.0000,9, -999.00,9,  -999.0,9,  -999.0,-999.0000,9,-999.0000,  -999.0,9,     -999.0,9,-999.000,9, 20150617,     1309,-999.000,   2.1392,2,    34.7015,2,     -999.0,9,     -999.0,-999.0000,     -999.0,     -999.0,9,     -999.0,     -999.0,9,     -999.0,  -999.0,9,     -999.0,     -999.0,9,     -999.0
33RO20150525,     P16N.2,     182,          3,          8,          8,2,20150617,       1214,    55.7771,  -152.8411,       4313,  2000.7,     1.88,  34.5937,2,  34.5966,2,       60,2,    60.6,2,  165.39,2,   41.15,2,    0.01,2,    2.86,2,-999.000,9,-999.000,9,-999.000,9,  2381.3,2,  2412.8,2,   7.3949,2,    25.03,-999.000,9,-999.0000,9, -999.00,9,  -999.0,9,  -999.0,-999.0000,9,-999.0000,  -999.0,9,     -999.0,9,-999.000,9, 20150617,     1301,-999.000,   1.8796,2,    34.7597,2,     -999.0,9,     -999.0,-999.0000,     -999.0,     -999.0,9,     -999.0,     -999.0,9,     -999.0,  -999.0,9,     -999.0,     -999.0,9,     -999.0
33RO20150525,     P16N.2,     182,          3,          7,          7,2,20150617,       1214,    55.7771,  -152.8411,       4313,  2432.7,   1.6884,  34.6315,2,  34.6308,2,     84.6,2,    85.7,2,  165.77,2,   39.59,2,       0,2,    2.75,2,-999.000,9,-999.000,9,-999.000,9,  2367.1,2,    2419,2,   7.4484,2,    25.03,-999.000,9,-999.0000,9, -999.00,9,  -999.0,9,  -999.0,-999.0000,9,-999.0000,  -999.0,9,     -999.0,9,-999.000,9, 20150617,     1253,-999.000,   1.6882,2,    34.7941,2,     -999.0,9,     -999.0,-999.0000,     -999.0,     -999.0,9,     -999.0,     -999.0,9,     -999.0,  -999.0,9,     -999.0,     -999.0,9,     -999.0
33RO20150525,     P16N.2,     182,          3,          6,          6,2,20150617,       1214,    55.7771,  -152.8411,       4313,  2682.8,   1.6163,  34.6455,2,  34.6471,2,       98,2,    98.5,2,  165.38,2,   38.71,2,       0,2,    2.69,2,-999.000,9,-999.000,9,-999.000,9,  2360.4,2,  2419.8,2,   7.4743,2,    24.98,-999.000,9,-999.0000,9, -999.00,9,  -999.0,9,  -999.0,-999.0000,9,-999.0000,  -999.0,9,     -999.0,9,-999.000,9, 20150617,     1248,-999.000,   1.6161,2,    34.8105,2,     -999.0,9,     -999.0,-999.0000,     -999.0,     -999.0,9,     -999.0,     -999.0,9,     -999.0,  -999.0,9,     -999.0,     -999.0,9,     -999.0
33RO20150525,     P16N.2,     182,          3,          5,          5,2,20150617,       1214,    55.7771,  -152.8411,       4313,  3100.1,   1.5227,  34.6638,2,  34.6642,2,    117.6,2,   118.2,2,  162.25,2,   37.53,2,       0,2,     2.6,2,-999.000,9,-999.000,9,-999.000,9,  2349.4,2,  2419.6,2,    7.513,2,    24.98,-999.000,9,-999.0000,9, -999.00,9,  -999.0,9,  -999.0,-999.0000,9,-999.0000,  -999.0,9,     -999.0,9,-999.000,9, 20150617,     1240,-999.000,   1.5224,2,    34.8277,2,     -999.0,9,     -999.0,-999.0000,     -999.0,     -999.0,9,     -999.0,     -999.0,9,     -999.0,  -999.0,9,     -999.0,     -999.0,9,     -999.0
33RO20150525,     P16N.2,     182,          3,          4,          4,2,20150617,       1214,    55.7771,  -152.8411,       4313,  3499.1,   1.4719,  34.6758,2,  34.6752,2,    132.5,2,   132.2,2,  159.02,6,   36.55,6,       0,6,    2.53,6,-999.000,9,-999.000,9,-999.000,9,  2338.6,2,  2420.8,2,   7.5399,6,    25.02,-999.000,9,-999.0000,9, -999.00,9,  -999.0,9,  -999.0,-999.0000,9,-999.0000,  -999.0,9,     -999.0,9,-999.000,9, 20150617,     1232,-999.000,   1.4719,2,    34.8387,2,     -999.0,9,     -999.0,-999.0000,     -999.0,     -999.0,9,     -999.0,     -999.0,9,     -999.0,  -999.0,9,     -999.0,     -999.0,9,     -999.0
33RO20150525,     P16N.2,     182,          3,          3,          3,2,20150617,       1214,    55.7771,  -152.8411,       4313,  3899.7,   1.4599,  34.6826,2,  34.6819,2,    141.6,2,   141.2,2,  157.16,6,   35.97,6,    0.01,6,    2.48,6,-999.000,9,-999.000,9,-999.000,9,    2332,2,  2421.4,6,   7.5562,6,    25.02,-999.000,9,-999.0000,9, -999.00,9,  -999.0,9,  -999.0,-999.0000,9,-999.0000,  -999.0,9,     -999.0,9,-999.000,9, 20150617,     1224,-999.000,   1.4599,2,    34.8454,2,     -999.0,9,     -999.0,-999.0000,     -999.0,     -999.0,9,     -999.0,     -999.0,9,     -999.0,  -999.0,9,     -999.0,     -999.0,9,     -999.0
33RO20150525,     P16N.2,     182,          3,          2,          2,2,20150617,       1214,    55.7771,  -152.8411,       4313,    4150,   1.4613,  34.6858,2,  34.6858,2,    146.7,2,   145.6,2,  154.82,6,   35.67,6,    0.01,6,    2.46,6,-999.000,9,-999.000,9,-999.000,9,  2329.7,2,  2419.6,2,   7.5639,6,    25.03,-999.000,9,-999.0000,9, -999.00,9,  -999.0,9,  -999.0,-999.0000,9,-999.0000,  -999.0,9,     -999.0,9,-999.000,9, 20150617,     1219,-999.000,    1.461,2,    34.8494,2,     -999.0,9,     -999.0,-999.0000,     -999.0,     -999.0,9,     -999.0,     -999.0,9,     -999.0,  -999.0,9,     -999.0,     -999.0,9,     -999.0
33RO20150525,     P16N.2,     182,          3,          1,          1,2,20150617,       1214,    55.7771,  -152.8411,       4313,  4382.7,    1.466,  34.6882,2,  34.6872,2,    150.9,2,   149.4,2,   151.5,6,   35.38,6,       0,6,    2.44,6,-999.000,9,-999.000,9,-999.000,9,  2324.9,6,  2417.4,2,   7.5686,6,    25.03,-999.000,9,-999.0000,9, -999.00,9,  -999.0,9,  -999.0,-999.0000,9,-999.0000,  -999.0,9,     -999.0,9,-999.000,9, 20150617,     1214,-999.000,   1.4654,2,    34.8508,2,     -999.0,9,     -999.0,-999.0000,     -999.0,     -999.0,9,     -999.0,     -999.0,9,     -999.0,  -999.0,9,     -999.0,     -999.0,9,     -999.0