BOTTLE,20220330CCHSIOCBG
EXPOCODE,SECT_ID,STNNBR,CASTNO,SAMPNO,BTLNBR,BTLNBR_FLAG_W,DATE,TIME,LATITUDE,LONGITUDE,DEPTH,CTDPRS,CTDTMP,CTDSAL,CTDSAL_FLAG_W,SALNTY,SALNTY_FLAG_W,CTDOXY,CTDOXY_FLAG_W,OXYGEN,OXYGEN_FLAG_W,SILCAT,SILCAT_FLAG_W,NITRAT,NITRAT_FLAG_W,NITRIT,NITRIT_FLAG_W,PHSPHT,PHSPHT_FLAG_W,CFC-11,CFC-11_FLAG_W,CFC-12,CFC-12_FLAG_W,SF6,SF6_FLAG_W,TCARBN,TCARBN_FLAG_W,ALKALI,ALKALI_FLAG_W,PH_TOT,PH_TOT_FLAG_W,PH_TMP,TRITUM,TRITUM_FLAG_W,HELIUM,HELIUM_FLAG_W,DELC13,DELC13_FLAG_W,DELC14,DELC14_FLAG_W,C14ERR,NEON,NEON_FLAG_W,NEONER,DOC,DOC_FLAG_W,N2O,N2O_FLAG_W,ARGON,ARGON_FLAG_W,BTL_DATE,BTL_TIME,TRITER,SBE35,SBE35_FLAG_W,SALTREF,SALTREF_FLAG_W,DELHE3,DELHE3_FLAG_W,DELHER,HELIER,ARGONER,KRYPTON,KRYPTON_FLAG_W,KRYPTONER,XENON,XENON_FLAG_W,XENONER,14C-DOC,14C-DOC_FLAG_W,14C-DOCERR,13C-DOC,13C-DOC_FLAG_W,13C-DOCERR
,,,,,,,,,,,METERS,DBAR,ITS-90,PSS-78,,PSS-78,,UMOL/KG,,UMOL/KG,,UMOL/KG,,UMOL/KG,,UMOL/KG,,UMOL/KG,,PMOL/KG,,PMOL/KG,,FMOL/KG,,UMOL/KG,,UMOL/KG,,,,DEG C,TU,,NMOL/KG,,/MILLE,,/MILLE,,/MILLE,NMOL/KG,,NMOL/KG,UMOL/KG,,NMOL/KG,,UMOL/KG,,,,TU,ITS-90,,G/KG,,PERCNT,,PERCNT,NMOL/KG,UMOL/KG,NMOL/KG,,NMOL/KG,NMOL/KG,,NMOL/KG,/MILLE,,/MILLE,/MILLE,,/MILLE
33RO20150525,     P16N.2,     185,          1,         21,         21,2,20150618,       0047,    56.0299,  -153.0491,       1945,     2.9,  11.8124,  32.1447,2,  32.1492,2,    292.8,2,   294.3,2,    5.88,2,    2.64,2,    0.07,2,    0.65,2,   3.652,6,   2.073,6,   2.434,6,  1969.8,6,    2173,2,   7.9004,2,    24.96,   0.601,2,-999.0000,9, -999.00,9,  -999.0,9,  -999.0,-999.0000,9,-999.0000,    61.1,2,     11.045,3,-999.000,9, 20150618,     0152,   0.005,  11.8254,2,    32.3008,2,     -999.0,9,     -999.0,-999.0000,     -999.0,     -999.0,9,     -999.0,     -999.0,9,     -999.0,  -999.0,9,     -999.0,     -999.0,9,     -999.0
33RO20150525,     P16N.2,     185,          1,         20,         20,2,20150618,       0047,    56.0299,  -153.0491,       1945,      25,    9.046,  32.2076,2,  32.2182,2,    303.6,2,   304.6,2,   11.46,2,    6.07,2,    0.13,2,    0.89,2,-999.000,9,-999.000,9,-999.000,9,  1992.2,2,  2173.1,2,   7.8444,6,       25,-999.000,9,-999.0000,9, -999.00,9,  -999.0,9,  -999.0,-999.0000,9,-999.0000,    58.1,2,     -999.0,9,-999.000,9, 20150618,     0150,-999.000,   9.0451,2,    32.3701,2,     -999.0,9,     -999.0,-999.0000,     -999.0,     -999.0,9,     -999.0,     -999.0,9,     -999.0,  -999.0,9,     -999.0,     -999.0,9,     -999.0
33RO20150525,     P16N.2,     185,          1,         19,         19,2,20150618,       0047,    56.0299,  -153.0491,       1945,    50.2,   6.6238,  32.3003,2,   32.306,2,    295.7,2,   290.5,2,   16.84,2,   11.36,2,    0.36,2,     1.2,2,   4.263,2,   2.371,2,   2.724,2,  2033.7,2,  2173.8,6,   7.7462,6,       25,   0.553,2,   1.8006,2, -999.00,9,  -999.0,9,  -999.0,   7.7315,2,   0.0193,    54.5,2,     13.258,3,  15.025,2, 20150618,     0148,   0.004,   6.6258,2,    32.4584,2,      -1.17,2,       0.20,   0.0047,      0.029,     3.5533,2,     0.0103,    0.52409,2,    0.00152,  -999.0,9,     -999.0,     -999.0,9,     -999.0
33RO20150525,     P16N.2,     185,          1,         18,         18,2,20150618,       0047,    56.0299,  -153.0491,       1945,    75.1,   6.2638,  32.4777,2,  32.5075,2,    264.9,2,   268.7,2,   21.34,2,   15.37,2,    0.05,2,    1.39,2,   4.189,2,   2.344,2,   2.581,2,    2063,2,  2186.3,2,   7.6942,2,       25,-999.000,9,-999.0000,9, -999.00,9,  -999.0,9,  -999.0,-999.0000,9,-999.0000,    53.0,2,     15.420,3,-999.000,9, 20150618,     0146,-999.000,   6.2587,2,    32.6607,2,     -999.0,9,     -999.0,-999.0000,     -999.0,     -999.0,9,     -999.0,     -999.0,9,     -999.0,  -999.0,9,     -999.0,     -999.0,9,     -999.0
33RO20150525,     P16N.2,     185,          1,         17,         17,2,20150618,       0047,    56.0299,  -153.0491,       1945,    99.9,   5.8704,  32.9509,2,  32.9987,2,    243.5,2,   215.6,2,   34.84,2,   23.29,2,    0.04,2,    1.83,2,    4.04,2,   2.198,2,   2.185,2,  2134.8,2,  2216.9,2,   7.5769,6,       25,   0.453,2,   1.8231,2, -999.00,9,  -999.0,9,  -999.0,   7.8362,2,   0.0196,    50.8,2,     20.702,3,  15.276,2, 20150618,     0144,   0.003,   5.8681,2,    33.1543,2,       2.05,2,       0.20,   0.0047,      0.029,     3.6371,2,     0.0105,    0.53899,2,    0.00156,  -999.0,9,     -999.0,     -999.0,9,     -999.0
33RO20150525,     P16N.2,     185,          1,         16,         16,2,20150618,       0047,    56.0299,  -153.0491,       1945,   125.5,   4.6328,  33.3836,2,  33.3828,2,      153,2,   179.8,2,   48.72,2,   29.74,2,    0.02,2,     2.2,2,-999.000,9,-999.000,9,-999.000,9,  2188.6,2,  2246.5,2,   7.4764,2,    25.01,-999.000,9,-999.0000,9, -999.00,9,  -999.0,9,  -999.0,-999.0000,9,-999.0000,    49.5,2,     -999.0,9,-999.000,9, 20150618,     0142,-999.000,   4.6325,2,    33.5402,6,     -999.0,9,     -999.0,-999.0000,     -999.0,     -999.0,9,     -999.0,     -999.0,9,     -999.0,  -999.0,9,     -999.0,     -999.0,9,     -999.0
33RO20150525,     P16N.2,     185,          1,         15,         15,2,20150618,       0047,    56.0299,  -153.0491,       1945,   150.7,   4.3009,  33.5654,2,  33.5684,2,    152.3,2,   148.3,2,   57.71,2,   33.36,2,    0.03,2,    2.41,2,   3.661,2,   1.985,2,   1.616,2,  2226.2,2,  2262.1,2,   7.4115,2,       25,   0.383,2,   1.8335,2, -999.00,9,  -999.0,9,  -999.0,   7.9147,2,   0.0198,    46.9,2,     28.657,3,  15.747,2, 20150618,     0140,   0.003,   4.3018,2,    33.7267,2,       5.13,2,       0.20,   0.0048,      0.030,     3.7669,2,     0.0109,    0.56719,2,    0.00164,  -999.0,9,     -999.0,     -999.0,9,     -999.0
33RO20150525,     P16N.2,     185,          1,         14,         14,2,20150618,       0047,    56.0299,  -153.0491,       1945,   199.9,   3.7389,  33.7337,2,  33.7308,2,     97.1,2,    98.8,2,   73.75,2,   38.54,2,    0.01,2,    2.74,2,   3.195,2,   1.668,2,   1.242,2,  2274.2,2,  2280.1,2,   7.3128,2,    24.99,   0.302,2,   1.8668,6, -999.00,9,  -999.0,9,  -999.0,   8.0272,6,   0.0135,    47.9,2,     34.354,3,  15.979,6, 20150618,     0137,   0.004,   3.7464,2,    33.8899,2,       9.16,6,       0.14,   0.0035,      0.020,     3.8351,6,     0.0091,    0.57556,6,    0.00123,  -999.0,9,     -999.0,     -999.0,9,     -999.0
33RO20150525,     P16N.2,     185,          1,         13,         13,2,20150618,       0047,    56.0299,  -153.0491,       1945,   249.8,   3.8293,  33.8269,2,  33.8239,2,     67.4,2,    65.8,2,   81.17,2,   41.08,2,    0.01,2,    2.88,2,   2.688,2,   1.404,2,   0.933,2,  2296.9,2,  2287.5,2,   7.2657,2,    24.98,   0.283,2,   1.8553,2, -999.00,9,  -999.0,9,  -999.0,   7.9743,2,   0.0199,    45.4,2,     38.279,3,  15.881,2, 20150618,     0135,   0.004,   3.8318,2,    33.9833,2,      10.78,2,       0.20,   0.0048,      0.030,     3.8294,2,     0.0111,    0.57541,2,    0.00167,  -999.0,9,     -999.0,     -999.0,9,     -999.0
33RO20150525,     P16N.2,     185,          1,         12,         12,2,20150618,       0047,    56.0299,  -153.0491,       1945,   300.5,   3.7928,  33.8932,2,  33.8941,2,     42.2,2,    41.9,2,    88.6,2,   43.03,2,       0,2,    2.99,2,   2.329,2,   1.173,2,   0.739,2,  2317.6,2,  2296.8,2,    7.233,2,    24.94,   0.236,2,   1.8927,2, -999.00,9,  -999.0,9,  -999.0,   8.0903,2,   0.0202,    44.8,2,     41.388,3,  15.982,2, 20150618,     0132,   0.003,   3.7926,2,     34.054,2,      12.47,2,       0.20,   0.0049,      0.030,     3.8196,2,     0.0111,    0.57568,2,    0.00167,  -999.0,9,     -999.0,     -999.0,9,     -999.0
33RO20150525,     P16N.2,     185,          1,         11,         11,2,20150618,       0047,    56.0299,  -153.0491,       1945,   376.6,   4.0265,  34.0032,2,  34.0054,2,     30.6,2,    31.9,2,   93.19,2,   42.83,2,       0,2,       3,2,   1.731,2,    0.86,2,    0.49,2,  2323.5,2,  2310.5,2,   7.2485,2,    24.98,   0.222,2,   1.8641,2, -999.00,9,  -999.0,9,  -999.0,   7.9722,2,   0.0199,    42.9,2,     43.201,3,  15.860,2, 20150618,     0130,   0.003,   4.0254,2,    34.1657,2,      14.32,2,       0.20,   0.0048,      0.030,     3.7945,2,     0.0110,    0.56989,2,    0.00165,  -999.0,9,     -999.0,     -999.0,9,     -999.0
33RO20150525,     P16N.2,     185,          1,         10,         10,2,20150618,       0047,    56.0299,  -153.0491,       1945,   450.9,   4.0577,  34.0936,2,  34.0905,2,       23,2,    22.9,2,   99.74,2,   42.93,2,       0,2,    3.02,2,   1.201,2,   0.583,2,    0.28,2,  2334.6,2,  2319.5,2,   7.2564,2,    24.99,-999.000,9,-999.0000,9, -999.00,9,  -999.0,9,  -999.0,-999.0000,9,-999.0000,    42.0,2,     45.154,3,-999.000,9, 20150618,     0127,-999.000,   4.0571,2,    34.2513,2,     -999.0,9,     -999.0,-999.0000,     -999.0,     -999.0,9,     -999.0,     -999.0,9,     -999.0,  -999.0,9,     -999.0,     -999.0,9,     -999.0
33RO20150525,     P16N.2,     185,          1,          9,          9,2,20150618,       0047,    56.0299,  -153.0491,       1945,   525.3,   3.9097,  34.1486,2,  34.1466,2,     19.1,2,    17.9,2,  106.58,2,   43.32,2,       0,2,    3.12,2,-999.000,9,-999.000,9,-999.000,9,  2340.6,2,  2328.9,2,   7.2587,6,    24.97,   0.155,2,   1.8568,2, -999.00,9,  -999.0,9,  -999.0,   7.9366,2,   0.0198,    40.4,2,     -999.0,9,  15.822,2, 20150618,     0124,   0.003,   3.9095,2,    34.3077,2,      16.55,2,       0.20,   0.0048,      0.030,     3.7990,2,     0.0110,    0.56932,2,    0.00165,  -999.0,9,     -999.0,     -999.0,9,     -999.0
33RO20150525,     P16N.2,     185,          1,          8,          8,2,20150618,       0047,    56.0299,  -153.0491,       1945,   600.7,   3.7097,  34.1972,2,  34.1958,2,     15.9,2,    15.1,2,   114.1,2,   43.61,2,       0,2,    3.07,2,   0.649,2,   0.309,2,   0.116,2,  2349.4,2,  2339.7,2,   7.2619,2,    24.97,   0.124,2,   1.8710,6, -999.00,9,  -999.0,9,  -999.0,   7.9709,6,   0.0135,    42.6,2,     47.803,3,  15.918,6, 20150618,     0121,   0.002,   3.7105,2,     34.357,2,      17.20,6,       0.14,   0.0035,      0.020,     3.8213,2,     0.0088,    0.57395,6,    0.00126,  -999.0,9,     -999.0,     -999.0,9,     -999.0
33RO20150525,     P16N.2,     185,          1,          7,          7,2,20150618,       0047,    56.0299,  -153.0491,       1945,   725.9,   3.4683,  34.2548,2,  34.2533,2,     14.1,2,    13.3,2,   122.8,2,    43.8,2,       0,2,    3.08,2,-999.000,9,-999.000,9,-999.000,9,  2359.5,2,    2351,2,   7.2674,6,    24.96,   0.086,2,   1.8710,6, -999.00,9,  -999.0,9,  -999.0,   7.9649,6,   0.0135,    41.9,2,     -999.0,9,  15.958,6, 20150618,     0118,   0.002,   3.4681,2,    34.4148,2,      17.33,6,       0.14,   0.0035,      0.020,     3.8396,6,     0.0088,    0.57637,6,    0.00126,  -999.0,9,     -999.0,     -999.0,9,     -999.0
33RO20150525,     P16N.2,     185,          1,          6,          6,2,20150618,       0047,    56.0299,  -153.0491,       1945,   850.1,   3.3398,  34.2893,2,  34.2871,2,     13.4,2,    12.8,2,  127.29,2,    43.9,2,       0,2,     3.1,2,   0.304,2,   0.145,2,   0.043,2,  2366.3,2,  2358.5,2,   7.2723,2,    24.97,   0.067,2,   1.8787,6, -999.00,9,  -999.0,9,  -999.0,   7.9834,6,   0.0135,    42.2,2,     48.691,3,  16.011,6, 20150618,     0114,   0.002,   3.3395,2,    34.4488,2,      17.32,6,       0.14,   0.0035,      0.020,     3.8509,6,     0.0088,    0.57972,6,    0.00126,  -999.0,9,     -999.0,     -999.0,9,     -999.0
33RO20150525,     P16N.2,     185,          1,          5,          5,2,20150618,       0047,    56.0299,  -153.0491,       1945,  1049.7,   3.0437,  34.3552,2,  34.3529,2,     13.5,2,    12.9,2,  136.97,2,   43.99,2,       0,2,     3.1,2,-999.000,9,-999.000,9,-999.000,9,  -999.0,9,  2370.5,2,   7.2804,2,    24.97,   0.039,2,   1.8858,6, -999.00,9,  -999.0,9,  -999.0,   8.0062,6,   0.0135,    39.4,2,     -999.0,9,  16.102,6, 20150618,     0109,   0.002,   3.0455,2,    34.5149,2,      17.76,6,       0.14,   0.0035,      0.020,     3.8721,6,     0.0088,    0.58272,6,    0.00126,  -999.0,9,     -999.0,     -999.0,9,     -999.0
33RO20150525,     P16N.2,     185,          1,          4,          4,2,20150618,       0047,    56.0299,  -153.0491,       1945,  1250.3,   2.7358,  34.4191,2,  34.4187,2,     15.7,2,    15.5,2,  146.83,6,   44.09,6,       0,6,    3.08,6,   0.065,2,   0.028,2,       0,2,  2384.4,2,  2383.2,6,    7.293,2,    24.98,   0.025,2,   1.8919,2, -999.00,9,  -999.0,9,  -999.0,   8.0114,2,   0.0200,    38.7,2,     46.691,3,  16.188,2, 20150618,     0104,   0.002,   2.7361,2,     34.581,2,      18.62,2,       0.20,   0.0049,      0.031,     3.9131,6,     0.0113,    0.58838,2,    0.00171,  -999.0,9,     -999.0,     -999.0,9,     -999.0
33RO20150525,     P16N.2,     185,          1,          3,          3,2,20150618,       0047,    56.0299,  -153.0491,       1945,  1450.2,    2.479,   34.472,2,  34.4707,2,     21.5,2,    21.5,2,  154.26,6,   43.79,6,       0,6,    3.06,6,-999.000,9,-999.000,9,-999.000,9,  2389.5,2,  2394.2,2,   7.3077,2,    24.97,-999.000,9,-999.0000,9, -999.00,9,  -999.0,9,  -999.0,-999.0000,9,-999.0000,    40.4,2,     -999.0,9,-999.000,9, 20150618,     0100,-999.000,   2.4792,2,    34.6332,2,     -999.0,9,     -999.0,-999.0000,     -999.0,     -999.0,9,     -999.0,     -999.0,9,     -999.0,  -999.0,9,     -999.0,     -999.0,9,     -999.0
33RO20150525,     P16N.2,     185,          1,          2,          2,2,20150618,       0047,    56.0299,  -153.0491,       1945,    1751,    2.197,  34.5311,2,  34.5301,2,       35,2,    35.3,2,  161.19,6,   43.11,6,       0,6,    2.99,6,-999.000,9,-999.000,9,-999.000,9,  2390.1,2,  2404.6,2,   7.3403,6,    24.99,  -0.001,2,   1.8997,6, -999.00,9,  -999.0,9,  -999.0,   8.0438,6,   0.0135,    42.7,2,     -999.0,9,  16.368,6, 20150618,     0053,   0.002,    2.197,2,     34.693,6,      18.81,6,       0.14,   0.0049,      0.020,     3.9634,6,     0.0088,    0.59829,6,    0.00126,  -999.0,9,     -999.0,     -999.0,9,     -999.0
33RO20150525,     P16N.2,     185,          1,          1,          1,2,20150618,       0047,    56.0299,  -153.0491,       1945,  1956.5,   2.0093,  34.5699,2,  34.5683,2,     48.8,2,    51.2,2,   164.8,6,   42.23,6,    0.01,6,    2.94,6,-999.000,9,-999.000,9,-999.000,9,  2383.4,6,  2411.8,2,   7.3737,2,    24.97,  -0.003,2,   1.9118,6, -999.00,9,  -999.0,9,  -999.0,   8.0823,6,   0.0135,    40.7,2,     -999.0,9,  16.429,6, 20150618,     0048,   0.001,   2.0089,2,    34.7313,2,      18.99,6,       0.14,   0.0049,      0.020,     3.9694,6,     0.0088,    0.60136,6,    0.00126,  -999.0,9,     -999.0,     -999.0,9,     -999.0