BOTTLE,20220330CCHSIOCBG
EXPOCODE,SECT_ID,STNNBR,CASTNO,SAMPNO,BTLNBR,BTLNBR_FLAG_W,DATE,TIME,LATITUDE,LONGITUDE,DEPTH,CTDPRS,CTDTMP,CTDSAL,CTDSAL_FLAG_W,SALNTY,SALNTY_FLAG_W,CTDOXY,CTDOXY_FLAG_W,OXYGEN,OXYGEN_FLAG_W,SILCAT,SILCAT_FLAG_W,NITRAT,NITRAT_FLAG_W,NITRIT,NITRIT_FLAG_W,PHSPHT,PHSPHT_FLAG_W,CFC-11,CFC-11_FLAG_W,CFC-12,CFC-12_FLAG_W,SF6,SF6_FLAG_W,TCARBN,TCARBN_FLAG_W,ALKALI,ALKALI_FLAG_W,PH_TOT,PH_TOT_FLAG_W,PH_TMP,TRITUM,TRITUM_FLAG_W,HELIUM,HELIUM_FLAG_W,DELC13,DELC13_FLAG_W,DELC14,DELC14_FLAG_W,C14ERR,NEON,NEON_FLAG_W,NEONER,DOC,DOC_FLAG_W,N2O,N2O_FLAG_W,ARGON,ARGON_FLAG_W,BTL_DATE,BTL_TIME,TRITER,SBE35,SBE35_FLAG_W,SALTREF,SALTREF_FLAG_W,DELHE3,DELHE3_FLAG_W,DELHER,HELIER,ARGONER,KRYPTON,KRYPTON_FLAG_W,KRYPTONER,XENON,XENON_FLAG_W,XENONER,14C-DOC,14C-DOC_FLAG_W,14C-DOCERR,13C-DOC,13C-DOC_FLAG_W,13C-DOCERR
,,,,,,,,,,,METERS,DBAR,ITS-90,PSS-78,,PSS-78,,UMOL/KG,,UMOL/KG,,UMOL/KG,,UMOL/KG,,UMOL/KG,,UMOL/KG,,PMOL/KG,,PMOL/KG,,FMOL/KG,,UMOL/KG,,UMOL/KG,,,,DEG C,TU,,NMOL/KG,,/MILLE,,/MILLE,,/MILLE,NMOL/KG,,NMOL/KG,UMOL/KG,,NMOL/KG,,UMOL/KG,,,,TU,ITS-90,,G/KG,,PERCNT,,PERCNT,NMOL/KG,UMOL/KG,NMOL/KG,,NMOL/KG,NMOL/KG,,NMOL/KG,/MILLE,,/MILLE,/MILLE,,/MILLE
33RO20150525,     P16N.2,     144,          1,         24,         24,2,20150606,       0501,    38.0004,  -152.0005,       4980,     3.7,  16.4609,   34.007,2,  34.0059,2,    245.6,2,   246.9,2,     4.2,2,       0,2,    0.01,2,    0.09,2,   2.648,6,   1.544,6,   1.914,6,  2019.5,6,    2240,2,   7.9178,2,    25.01,-999.000,9,-999.0000,9, -999.00,9,  -999.0,9,  -999.0,-999.0000,9,-999.0000,  -999.0,9,      8.695,3,-999.000,9, 20150606,     0701,-999.000,  16.4608,2,    34.1663,2,     -999.0,9,     -999.0,-999.0000,     -999.0,     -999.0,9,     -999.0,     -999.0,9,     -999.0,  -999.0,9,     -999.0,     -999.0,9,     -999.0
33RO20150525,     P16N.2,     144,          1,         23,         23,2,20150606,       0501,    38.0004,  -152.0005,       4980,    33.8,  15.3505,  33.9163,2,  33.9184,2,    254.3,2,   253.9,2,    4.01,2,       0,2,    0.01,2,     0.1,2,   2.785,2,   1.609,2,       2,2,  2016.5,2,    2236,2,   7.9151,2,       25,-999.000,9,-999.0000,9, -999.00,9,  -999.0,9,  -999.0,-999.0000,9,-999.0000,  -999.0,9,      9.090,3,-999.000,9, 20150606,     0658,-999.000,  15.3532,2,    34.0783,2,     -999.0,9,     -999.0,-999.0000,     -999.0,     -999.0,9,     -999.0,     -999.0,9,     -999.0,  -999.0,9,     -999.0,     -999.0,9,     -999.0
33RO20150525,     P16N.2,     144,          1,         22,         22,2,20150606,       0501,    38.0004,  -152.0005,       4980,    58.8,  13.6764,  33.9605,2,  33.9541,2,    269.6,2,   267.5,2,     4.3,2,     0.1,2,    0.02,2,    0.13,2,   2.971,2,   1.721,2,     2.1,2,  2017.3,2,  2239.4,2,   7.9185,6,    25.01,-999.000,9,-999.0000,9, -999.00,9,  -999.0,9,  -999.0,-999.0000,9,-999.0000,  -999.0,9,      9.715,3,-999.000,9, 20150606,     0656,-999.000,  13.6922,2,    34.1142,2,     -999.0,9,     -999.0,-999.0000,     -999.0,     -999.0,9,     -999.0,     -999.0,9,     -999.0,  -999.0,9,     -999.0,     -999.0,9,     -999.0
33RO20150525,     P16N.2,     144,          1,         21,         21,2,20150606,       0501,    38.0004,  -152.0005,       4980,    83.3,  12.2511,  33.8598,2,  33.8605,2,      255,2,   257.3,2,    4.89,2,    1.66,2,    0.62,2,     0.3,2,   3.135,2,   1.786,2,   2.174,2,  2034.6,2,  2235.6,2,   7.8791,2,    25.01,-999.000,9,-999.0000,9, -999.00,9,  -999.0,9,  -999.0,-999.0000,9,-999.0000,  -999.0,9,     10.473,3,-999.000,9, 20150606,     0654,-999.000,   12.264,2,    34.0201,2,     -999.0,9,     -999.0,-999.0000,     -999.0,     -999.0,9,     -999.0,     -999.0,9,     -999.0,  -999.0,9,     -999.0,     -999.0,9,     -999.0
33RO20150525,     P16N.2,     144,          1,         20,         20,2,20150606,       0501,    38.0004,  -152.0005,       4980,   116.2,    12.54,  34.0714,2,  34.0681,2,    246.6,2,     255,2,    5.77,2,    2.54,2,    0.33,2,    0.34,2,   3.088,2,   1.764,2,   2.121,2,  2042.7,2,  2246.2,6,   7.8838,2,    24.94,-999.000,9,-999.0000,9, -999.00,9,  -999.0,9,  -999.0,-999.0000,9,-999.0000,  -999.0,9,     10.474,3,-999.000,9, 20150606,     0651,-999.000,  12.5403,2,    34.2288,2,     -999.0,9,     -999.0,-999.0000,     -999.0,     -999.0,9,     -999.0,     -999.0,9,     -999.0,  -999.0,9,     -999.0,     -999.0,9,     -999.0
33RO20150525,     P16N.2,     144,          1,         19,         19,2,20150606,       0501,    38.0004,  -152.0005,       4980,   175.3,  11.4934,  34.0684,2,   34.075,2,      229,2,   227.3,2,    9.48,2,    9.58,2,    0.02,2,    0.71,2,   3.179,2,   1.814,2,   2.001,2,  2078.6,2,  2248.8,2,   7.8054,2,    25.03,-999.000,9,-999.0000,9, -999.00,9,  -999.0,9,  -999.0,-999.0000,9,-999.0000,  -999.0,9,     13.713,3,-999.000,9, 20150606,     0648,-999.000,  11.4896,2,    34.2357,2,     -999.0,9,     -999.0,-999.0000,     -999.0,     -999.0,9,     -999.0,     -999.0,9,     -999.0,  -999.0,9,     -999.0,     -999.0,9,     -999.0
33RO20150525,     P16N.2,     144,          1,         18,         18,2,20150606,       0501,    38.0004,  -152.0005,       4980,   250.8,  10.5722,  34.1165,2,  34.1158,2,      222,2,   221.1,2,   14.07,2,      13,2,    0.01,2,    0.93,2,   3.187,2,   1.855,2,   1.884,2,    2099,2,  2257.1,2,   7.7728,2,    25.02,-999.000,9,-999.0000,9, -999.00,9,  -999.0,9,  -999.0,-999.0000,9,-999.0000,  -999.0,9,     17.368,3,-999.000,9, 20150606,     0646,-999.000,  10.5646,2,    34.2766,2,     -999.0,9,     -999.0,-999.0000,     -999.0,     -999.0,9,     -999.0,     -999.0,9,     -999.0,  -999.0,9,     -999.0,     -999.0,9,     -999.0
33RO20150525,     P16N.2,     144,          1,         17,         17,2,20150606,       0501,    38.0004,  -152.0005,       4980,   332.5,   9.4367,  34.0943,2,  34.0959,2,    200.4,2,   199.6,2,   22.87,2,   18.08,2,    0.01,2,    1.26,2,   3.197,2,   1.826,2,    1.58,2,  2131.5,2,  2265.1,2,   7.7112,2,    24.95,-999.000,9,-999.0000,9, -999.00,9,  -999.0,9,  -999.0,-999.0000,9,-999.0000,  -999.0,9,     22.922,3,-999.000,9, 20150606,     0643,-999.000,   9.4399,2,    34.2567,2,     -999.0,9,     -999.0,-999.0000,     -999.0,     -999.0,9,     -999.0,     -999.0,9,     -999.0,  -999.0,9,     -999.0,     -999.0,9,     -999.0
33RO20150525,     P16N.2,     144,          1,         16,         16,2,20150606,       0501,    38.0004,  -152.0005,       4980,   432.6,   7.6752,  34.0156,2,  34.0161,2,    166.2,2,   165.8,2,   37.33,2,   24.63,2,    0.01,2,    1.73,2,   3.184,2,   1.682,2,   1.211,2,  2177.9,2,    2272,2,   7.6055,2,    25.04,-999.000,9,-999.0000,9, -999.00,9,  -999.0,9,  -999.0,-999.0000,9,-999.0000,  -999.0,9,     26.654,3,-999.000,9, 20150606,     0640,-999.000,    7.675,2,    34.1765,2,     -999.0,9,     -999.0,-999.0000,     -999.0,     -999.0,9,     -999.0,     -999.0,9,     -999.0,  -999.0,9,     -999.0,     -999.0,9,     -999.0
33RO20150525,     P16N.2,     144,          1,         15,         15,2,20150606,       0501,    38.0004,  -152.0005,       4980,   549.3,   5.7734,  33.9764,2,  33.9756,2,    118.8,2,   119.5,2,   59.91,2,   32.35,2,    0.01,2,     2.3,2,   2.532,6,   1.284,6,   0.672,6,  2237.6,2,  2289.5,2,    7.475,6,    25.01,-999.000,9,-999.0000,9, -999.00,9,  -999.0,9,  -999.0,-999.0000,9,-999.0000,  -999.0,9,     32.477,3,-999.000,9, 20150606,     0637,-999.000,   5.7643,2,    34.1358,6,     -999.0,9,     -999.0,-999.0000,     -999.0,     -999.0,9,     -999.0,     -999.0,9,     -999.0,  -999.0,9,     -999.0,     -999.0,9,     -999.0
33RO20150525,     P16N.2,     144,          1,         14,         14,2,20150606,       0501,    38.0004,  -152.0005,       4980,   699.2,   4.6115,  34.0756,2,  34.0749,2,     60.8,2,    61.1,2,   86.49,2,   39.58,2,    0.01,2,    2.77,2,   1.352,2,   0.652,2,   0.246,2,  2300.3,2,  2313.4,2,   7.3541,2,    24.97,-999.000,9,-999.0000,9, -999.00,9,  -999.0,9,  -999.0,-999.0000,9,-999.0000,  -999.0,9,     40.727,3,-999.000,9, 20150606,     0633,-999.000,   4.6162,2,    34.2356,2,     -999.0,9,     -999.0,-999.0000,     -999.0,     -999.0,9,     -999.0,     -999.0,9,     -999.0,  -999.0,9,     -999.0,     -999.0,9,     -999.0
33RO20150525,     P16N.2,     144,          1,         13,         13,2,20150606,       0501,    38.0004,  -152.0005,       4980,   827.8,   3.9488,  34.1824,2,  34.1788,2,     30.2,2,    30.5,2,  106.22,2,    43.1,2,       0,2,    2.99,2,   0.577,2,   0.267,2,   0.125,2,  2339.3,2,  2336.3,2,   7.3017,2,       25,-999.000,9,-999.0000,9, -999.00,9,  -999.0,9,  -999.0,-999.0000,9,-999.0000,  -999.0,9,     46.197,3,-999.000,9, 20150606,     0630,-999.000,   3.9665,2,      34.34,2,     -999.0,9,     -999.0,-999.0000,     -999.0,     -999.0,9,     -999.0,     -999.0,9,     -999.0,  -999.0,9,     -999.0,     -999.0,9,     -999.0
33RO20150525,     P16N.2,     144,          1,         12,         12,2,20150606,       0501,    38.0004,  -152.0005,       4980,   999.4,   3.3549,  34.3038,2,  34.3022,2,     11.9,2,    11.4,2,  127.22,2,   44.56,2,    0.01,2,    3.12,2,   0.103,2,   0.052,2,       0,2,  2372.1,2,  2361.1,2,   7.2791,2,    25.01,-999.000,9,-999.0000,9, -999.00,9,  -999.0,9,  -999.0,-999.0000,9,-999.0000,  -999.0,9,     51.179,3,-999.000,9, 20150606,     0625,-999.000,   3.3555,2,    34.4639,2,     -999.0,9,     -999.0,-999.0000,     -999.0,     -999.0,9,     -999.0,     -999.0,9,     -999.0,  -999.0,9,     -999.0,     -999.0,9,     -999.0
33RO20150525,     P16N.2,     144,          1,         11,         11,2,20150606,       0501,    38.0004,  -152.0005,       4980,  1166.1,    2.973,  34.3849,2,  34.4694,4,      8.3,2,     6.8,2,   140.7,2,   45.24,2,    0.01,2,    3.16,2,   0.016,2,   0.009,2,       0,2,  2387.6,6,  2379.5,2,   7.2799,6,       25,-999.000,9,-999.0000,9, -999.00,9,  -999.0,9,  -999.0,-999.0000,9,-999.0000,  -999.0,9,     54.605,3,-999.000,9, 20150606,     0620,-999.000,    2.973,2,    34.6319,2,     -999.0,9,     -999.0,-999.0000,     -999.0,     -999.0,9,     -999.0,     -999.0,9,     -999.0,  -999.0,9,     -999.0,     -999.0,9,     -999.0
33RO20150525,     P16N.2,     144,          1,         10,         10,2,20150606,       0501,    38.0004,  -152.0005,       4980,  1398.8,   2.6238,  34.4726,2,  34.4717,2,     12.5,2,    12.1,2,  152.51,2,   45.24,2,    0.01,2,    3.15,2,   0.002,2,   0.002,2,       0,2,  2397.8,2,  2395.4,2,   7.2949,2,    25.02,-999.000,9,-999.0000,9, -999.00,9,  -999.0,9,  -999.0,-999.0000,9,-999.0000,  -999.0,9,     51.318,3,-999.000,9, 20150606,     0615,-999.000,   2.6238,2,    34.6342,2,     -999.0,9,     -999.0,-999.0000,     -999.0,     -999.0,9,     -999.0,     -999.0,9,     -999.0,  -999.0,9,     -999.0,     -999.0,9,     -999.0
33RO20150525,     P16N.2,     144,          1,          9,          9,2,20150606,       0501,    38.0004,  -152.0005,       4980,  1732.2,   2.2214,  34.5558,2,  34.5547,2,     32.9,2,      33,2,  162.47,2,   44.06,2,    0.01,2,    3.05,2,   0.002,2,   0.002,2,       0,2,  2397.8,2,  2409.8,2,   7.3437,2,    25.01,-999.000,9,-999.0000,9, -999.00,9,  -999.0,9,  -999.0,-999.0000,9,-999.0000,  -999.0,9,     42.031,3,-999.000,9, 20150606,     0608,-999.000,    2.222,2,    34.7176,2,     -999.0,9,     -999.0,-999.0000,     -999.0,     -999.0,9,     -999.0,     -999.0,9,     -999.0,  -999.0,9,     -999.0,     -999.0,9,     -999.0
33RO20150525,     P16N.2,     144,          1,          8,          8,2,20150606,       0501,    38.0004,  -152.0005,       4980,    2133,   1.8804,  34.6108,2,  34.6092,2,     63.4,2,      63,2,  167.34,2,    42.1,2,    0.01,2,    2.91,2,   0.003,2,   0.002,2,       0,2,  2385.4,2,  2420.8,2,   7.4083,6,    25.01,-999.000,9,-999.0000,9, -999.00,9,  -999.0,9,  -999.0,-999.0000,9,-999.0000,  -999.0,9,     33.863,3,-999.000,9, 20150606,     0600,-999.000,    1.881,2,    34.7724,2,     -999.0,9,     -999.0,-999.0000,     -999.0,     -999.0,9,     -999.0,     -999.0,9,     -999.0,  -999.0,9,     -999.0,     -999.0,9,     -999.0
33RO20150525,     P16N.2,     144,          1,          7,          7,2,20150606,       0501,    38.0004,  -152.0005,       4980,  2533.6,   1.6732,  34.6418,2,  34.6433,2,     92.1,2,      92,2,   164.7,2,   40.54,2,    0.01,2,    2.78,2,   0.001,2,   0.002,2,       0,2,  2367.3,2,    2421,2,   7.4648,2,    24.99,-999.000,9,-999.0000,9, -999.00,9,  -999.0,9,  -999.0,-999.0000,9,-999.0000,  -999.0,9,     28.955,3,-999.000,9, 20150606,     0552,-999.000,   1.6737,2,    34.8066,2,     -999.0,9,     -999.0,-999.0000,     -999.0,     -999.0,9,     -999.0,     -999.0,9,     -999.0,  -999.0,9,     -999.0,     -999.0,9,     -999.0
33RO20150525,     P16N.2,     144,          1,          6,          6,2,20150606,       0501,    38.0004,  -152.0005,       4980,  2932.2,   1.5618,  34.6598,2,  34.6639,4,    113.1,2,     113,2,   160.4,2,   38.88,2,       0,2,    2.66,2,   0.001,2,   0.001,2,       0,2,  2352.6,2,    2423,2,   7.5058,2,    25.01,-999.000,9,-999.0000,9, -999.00,9,  -999.0,9,  -999.0,-999.0000,9,-999.0000,  -999.0,9,     26.124,3,-999.000,9, 20150606,     0543,-999.000,   1.5618,2,    34.8274,2,     -999.0,9,     -999.0,-999.0000,     -999.0,     -999.0,9,     -999.0,     -999.0,9,     -999.0,  -999.0,9,     -999.0,     -999.0,9,     -999.0
33RO20150525,     P16N.2,     144,          1,          5,          5,2,20150606,       0501,    38.0004,  -152.0005,       4980,  3332.1,   1.5039,  34.6714,2,  34.6705,2,    126.9,2,     127,2,  157.37,2,    37.9,2,    0.01,2,    2.58,2,   0.001,2,       0,2,       0,2,  2343.5,2,  2425.8,2,   7.5328,6,    25.01,-999.000,9,-999.0000,9, -999.00,9,  -999.0,9,  -999.0,-999.0000,9,-999.0000,  -999.0,9,     24.184,3,-999.000,9, 20150606,     0535,-999.000,   1.5041,2,     34.834,2,     -999.0,9,     -999.0,-999.0000,     -999.0,     -999.0,9,     -999.0,     -999.0,9,     -999.0,  -999.0,9,     -999.0,     -999.0,9,     -999.0
33RO20150525,     P16N.2,     144,          1,          4,          4,2,20150606,       0501,    38.0004,  -152.0005,       4980,  3766.9,   1.4778,  34.6797,2,  34.6794,2,    136.6,2,   137.1,2,  155.91,6,   37.22,6,       0,6,    2.54,6,       0,2,   0.001,2,       0,2,  2337.4,2,  2424.6,2,   7.5531,6,    24.99,-999.000,9,-999.0000,9, -999.00,9,  -999.0,9,  -999.0,-999.0000,9,-999.0000,  -999.0,9,     23.229,3,-999.000,9, 20150606,     0527,-999.000,   1.4783,2,    34.8429,6,     -999.0,9,     -999.0,-999.0000,     -999.0,     -999.0,9,     -999.0,     -999.0,9,     -999.0,  -999.0,9,     -999.0,     -999.0,9,     -999.0
33RO20150525,     P16N.2,     144,          1,          3,          3,2,20150606,       0501,    38.0004,  -152.0005,       4980,  4266.7,   1.4889,  34.6853,2,  34.6846,2,    143.3,2,   143.3,2,  156.39,6,   36.93,6,       0,6,    2.52,6,   0.002,6,   0.001,6,       0,6,  2335.4,2,  2427.4,6,   7.5671,2,       25,-999.000,9,-999.0000,9, -999.00,9,  -999.0,9,  -999.0,-999.0000,9,-999.0000,  -999.0,9,     22.593,3,-999.000,9, 20150606,     0517,-999.000,   1.4893,2,    34.8482,2,     -999.0,9,     -999.0,-999.0000,     -999.0,     -999.0,9,     -999.0,     -999.0,9,     -999.0,  -999.0,9,     -999.0,     -999.0,9,     -999.0
33RO20150525,     P16N.2,     144,          1,          2,          2,2,20150606,       0501,    38.0004,  -152.0005,       4980,  4768.8,   1.5262,  34.6881,2,  34.6868,2,      147,2,   147.4,2,  153.07,6,   36.53,6,    0.01,6,     2.5,6,   0.021,3,   0.014,3,       0,2,  2331.6,2,  2427.4,2,   7.5734,2,    25.03,-999.000,9,-999.0000,9, -999.00,9,  -999.0,9,  -999.0,-999.0000,9,-999.0000,  -999.0,9,     21.850,3,-999.000,9, 20150606,     0507,-999.000,   1.5266,2,    34.8504,2,     -999.0,9,     -999.0,-999.0000,     -999.0,     -999.0,9,     -999.0,     -999.0,9,     -999.0,  -999.0,9,     -999.0,     -999.0,9,     -999.0
33RO20150525,     P16N.2,     144,          1,          1,          1,2,20150606,       0501,    38.0004,  -152.0005,       4980,  5061.9,   1.5544,  34.6891,2,  34.6878,2,    150.7,2,   149.7,2,  150.04,6,   36.34,6,    0.01,6,    2.47,6,   0.007,2,   0.004,2,       0,2,    2330,6,  2424.2,2,   7.5779,2,    24.98,-999.000,9,-999.0000,9, -999.00,9,  -999.0,9,  -999.0,-999.0000,9,-999.0000,  -999.0,9,     22.287,3,-999.000,9, 20150606,     0501,-999.000,   1.5545,2,    34.8514,2,     -999.0,9,     -999.0,-999.0000,     -999.0,     -999.0,9,     -999.0,     -999.0,9,     -999.0,  -999.0,9,     -999.0,     -999.0,9,     -999.0