BOTTLE,20220330CCHSIOCBG
EXPOCODE,SECT_ID,STNNBR,CASTNO,SAMPNO,BTLNBR,BTLNBR_FLAG_W,DATE,TIME,LATITUDE,LONGITUDE,DEPTH,CTDPRS,CTDTMP,CTDSAL,CTDSAL_FLAG_W,SALNTY,SALNTY_FLAG_W,CTDOXY,CTDOXY_FLAG_W,OXYGEN,OXYGEN_FLAG_W,SILCAT,SILCAT_FLAG_W,NITRAT,NITRAT_FLAG_W,NITRIT,NITRIT_FLAG_W,PHSPHT,PHSPHT_FLAG_W,CFC-11,CFC-11_FLAG_W,CFC-12,CFC-12_FLAG_W,SF6,SF6_FLAG_W,TCARBN,TCARBN_FLAG_W,ALKALI,ALKALI_FLAG_W,PH_TOT,PH_TOT_FLAG_W,PH_TMP,TRITUM,TRITUM_FLAG_W,HELIUM,HELIUM_FLAG_W,DELC13,DELC13_FLAG_W,DELC14,DELC14_FLAG_W,C14ERR,NEON,NEON_FLAG_W,NEONER,DOC,DOC_FLAG_W,N2O,N2O_FLAG_W,ARGON,ARGON_FLAG_W,BTL_DATE,BTL_TIME,TRITER,SBE35,SBE35_FLAG_W,SALTREF,SALTREF_FLAG_W,DELHE3,DELHE3_FLAG_W,DELHER,HELIER,ARGONER,KRYPTON,KRYPTON_FLAG_W,KRYPTONER,XENON,XENON_FLAG_W,XENONER,14C-DOC,14C-DOC_FLAG_W,14C-DOCERR,13C-DOC,13C-DOC_FLAG_W,13C-DOCERR
,,,,,,,,,,,METERS,DBAR,ITS-90,PSS-78,,PSS-78,,UMOL/KG,,UMOL/KG,,UMOL/KG,,UMOL/KG,,UMOL/KG,,UMOL/KG,,PMOL/KG,,PMOL/KG,,FMOL/KG,,UMOL/KG,,UMOL/KG,,,,DEG C,TU,,NMOL/KG,,/MILLE,,/MILLE,,/MILLE,NMOL/KG,,NMOL/KG,UMOL/KG,,NMOL/KG,,UMOL/KG,,,,TU,ITS-90,,G/KG,,PERCNT,,PERCNT,NMOL/KG,UMOL/KG,NMOL/KG,,NMOL/KG,NMOL/KG,,NMOL/KG,/MILLE,,/MILLE,/MILLE,,/MILLE
33RO20150525,     P16N.2,     153,          2,         24,         24,2,20150609,       0008,    42.5001,       -152,       5137,     3.3,  12.4225,  33.2121,2,  33.2128,2,    278.1,2,   278.5,2,    0.39,2,    2.15,2,    0.06,2,    0.44,2,   3.586,3,   1.921,6,   2.321,6,  2012.4,6,  2219.6,2,   7.8929,2,       25,-999.000,9,-999.0000,9, -999.00,9,  -999.0,9,  -999.0,-999.0000,9,-999.0000,    58.0,2,     10.349,3,-999.000,9, 20150609,     0213,-999.000,  12.4282,2,    33.3694,2,     -999.0,9,     -999.0,-999.0000,     -999.0,     -999.0,9,     -999.0,     -999.0,9,     -999.0,  -999.0,9,     -999.0,     -999.0,9,     -999.0
33RO20150525,     P16N.2,     153,          2,         23,         23,2,20150609,       0008,    42.5001,       -152,       5137,      33,  11.3367,  33.2789,2,   33.288,2,    289.6,2,   292.1,2,    0.49,2,    2.15,2,    0.08,2,    0.44,2,   3.598,2,   2.002,2,   2.315,2,    2017,2,  2223.7,2,   7.8936,2,    24.99,-999.000,9,-999.0000,9, -999.00,9,  -999.0,9,  -999.0,-999.0000,9,-999.0000,    59.3,2,     10.835,3,-999.000,9, 20150609,     0210,-999.000,  11.3388,2,     33.445,2,     -999.0,9,     -999.0,-999.0000,     -999.0,     -999.0,9,     -999.0,     -999.0,9,     -999.0,  -999.0,9,     -999.0,     -999.0,9,     -999.0
33RO20150525,     P16N.2,     153,          2,         22,         22,2,20150609,       0008,    42.5001,       -152,       5137,    56.9,   9.3758,  33.3724,2,  33.3853,2,    278.2,2,   278.9,2,    8.32,2,    6.36,2,    0.18,2,    0.76,2,   3.844,2,   2.083,2,   2.329,2,  2048.5,2,  2224.1,6,   7.8193,2,       25,-999.000,9,-999.0000,9, -999.00,9,  -999.0,9,  -999.0,-999.0000,9,-999.0000,    59.6,2,     11.413,3,-999.000,9, 20150609,     0208,-999.000,   9.3926,2,    33.5427,2,     -999.0,9,     -999.0,-999.0000,     -999.0,     -999.0,9,     -999.0,     -999.0,9,     -999.0,  -999.0,9,     -999.0,     -999.0,9,     -999.0
33RO20150525,     P16N.2,     153,          2,         21,         21,2,20150609,       0008,    42.5001,       -152,       5137,    82.8,   8.8775,  33.4155,2,   33.421,2,    273.2,2,   272.9,2,    9.39,2,    7.63,2,    0.69,2,    0.81,2,   3.762,2,   2.111,2,   2.431,2,  2056.8,2,  2225.3,2,   7.8046,2,    24.99,-999.000,9,-999.0000,9, -999.00,9,  -999.0,9,  -999.0,-999.0000,9,-999.0000,    55.7,2,     12.092,3,-999.000,9, 20150609,     0206,-999.000,    8.877,2,    33.5786,2,     -999.0,9,     -999.0,-999.0000,     -999.0,     -999.0,9,     -999.0,     -999.0,9,     -999.0,  -999.0,9,     -999.0,     -999.0,9,     -999.0
33RO20150525,     P16N.2,     153,          2,         20,         20,2,20150609,       0008,    42.5001,       -152,       5137,   116.6,   9.1579,  33.9437,2,  33.9433,2,    240.6,2,   244.7,2,   15.06,2,    13.1,2,    0.05,2,       1,2,   3.681,2,   2.021,2,   2.266,2,    2096,2,  2251.5,2,     7.76,6,    24.99,-999.000,9,-999.0000,9, -999.00,9,  -999.0,9,  -999.0,-999.0000,9,-999.0000,    60.8,2,     13.575,3,-999.000,9, 20150609,     0204,-999.000,   9.1572,2,    34.1034,2,     -999.0,9,     -999.0,-999.0000,     -999.0,     -999.0,9,     -999.0,     -999.0,9,     -999.0,  -999.0,9,     -999.0,     -999.0,9,     -999.0
33RO20150525,     P16N.2,     153,          2,         19,         19,2,20150609,       0008,    42.5001,       -152,       5137,   174.3,   8.6535,  33.9883,2,  33.9857,2,    221.5,2,   221.7,2,   22.49,2,   17.11,2,    0.03,2,    1.25,2,   3.623,2,   1.979,2,   1.975,2,  2121.5,2,  2260.3,2,   7.7124,2,       25,-999.000,9,-999.0000,9, -999.00,9,  -999.0,9,  -999.0,-999.0000,9,-999.0000,    53.0,2,     19.237,3,-999.000,9, 20150609,     0201,-999.000,   8.6526,2,     34.146,2,     -999.0,9,     -999.0,-999.0000,     -999.0,     -999.0,9,     -999.0,     -999.0,9,     -999.0,  -999.0,9,     -999.0,     -999.0,9,     -999.0
33RO20150525,     P16N.2,     153,          2,         18,         18,2,20150609,       0008,    42.5001,       -152,       5137,   249.7,   7.6524,    33.98,2,  33.9815,2,    179.6,2,   181.2,2,    35.3,2,   23.08,2,    0.01,2,    1.64,2,   3.423,2,   1.779,2,   1.595,2,  2162.5,2,  2270.3,2,   7.6257,2,    24.98,-999.000,9,-999.0000,9, -999.00,9,  -999.0,9,  -999.0,-999.0000,9,-999.0000,    50.6,2,     25.756,3,-999.000,9, 20150609,     0158,-999.000,   7.6533,2,    34.1417,2,     -999.0,9,     -999.0,-999.0000,     -999.0,     -999.0,9,     -999.0,     -999.0,9,     -999.0,  -999.0,9,     -999.0,     -999.0,9,     -999.0
33RO20150525,     P16N.2,     153,          2,         17,         17,2,20150609,       0008,    42.5001,       -152,       5137,   333.3,   6.3269,  33.9441,2,  33.9439,2,    142.1,2,   142.7,2,   51.05,2,   29.44,2,    0.01,2,    2.08,2,   3.096,2,   1.574,2,   1.106,2,  2208.5,2,  2278.6,2,   7.5178,6,       25,-999.000,9,-999.0000,9, -999.00,9,  -999.0,9,  -999.0,-999.0000,9,-999.0000,    48.8,2,     30.136,3,-999.000,9, 20150609,     0155,-999.000,   6.3168,2,     34.104,2,     -999.0,9,     -999.0,-999.0000,     -999.0,     -999.0,9,     -999.0,     -999.0,9,     -999.0,  -999.0,9,     -999.0,     -999.0,9,     -999.0
33RO20150525,     P16N.2,     153,          2,         16,         16,2,20150609,       0008,    42.5001,       -152,       5137,   432.9,   5.0396,  33.9545,2,  33.9536,2,    103.3,2,   104.3,2,   69.82,2,    35.3,2,       0,2,    2.51,2,   2.584,2,   1.246,2,   0.712,2,  2255.2,2,  2294.4,2,   7.4168,2,    24.95,-999.000,9,-999.0000,9, -999.00,9,  -999.0,9,  -999.0,-999.0000,9,-999.0000,    45.3,2,     34.180,3,-999.000,9, 20150609,     0152,-999.000,    5.039,2,    34.1137,6,     -999.0,9,     -999.0,-999.0000,     -999.0,     -999.0,9,     -999.0,     -999.0,9,     -999.0,  -999.0,9,     -999.0,     -999.0,9,     -999.0
33RO20150525,     P16N.2,     153,          2,         15,         15,2,20150609,       0008,    42.5001,       -152,       5137,     550,   4.4199,   34.064,2,  34.0656,2,     65.7,2,      65,2,   88.79,2,   39.31,2,    0.01,2,    2.77,2,   1.611,2,   0.765,2,   0.419,2,  2296.6,2,  2314.7,2,   7.3501,2,       25,-999.000,9,-999.0000,9, -999.00,9,  -999.0,9,  -999.0,-999.0000,9,-999.0000,    45.2,2,     39.632,3,-999.000,9, 20150609,     0148,-999.000,   4.4245,2,    34.2262,2,     -999.0,9,     -999.0,-999.0000,     -999.0,     -999.0,9,     -999.0,     -999.0,9,     -999.0,  -999.0,9,     -999.0,     -999.0,9,     -999.0
33RO20150525,     P16N.2,     153,          2,         14,         14,2,20150609,       0008,    42.5001,       -152,       5137,     700,   3.9464,  34.1789,2,  34.1804,2,     35.3,2,    37.2,2,  106.18,2,   42.14,2,       0,2,    2.97,2,   0.807,2,   0.379,2,   0.197,2,  2332.2,2,  2335.4,2,   7.3058,2,    24.98,-999.000,9,-999.0000,9, -999.00,9,  -999.0,9,  -999.0,-999.0000,9,-999.0000,    43.6,2,     43.949,3,-999.000,9, 20150609,     0144,-999.000,   3.9494,2,    34.3416,2,     -999.0,9,     -999.0,-999.0000,     -999.0,     -999.0,9,     -999.0,     -999.0,9,     -999.0,  -999.0,9,     -999.0,     -999.0,9,     -999.0
33RO20150525,     P16N.2,     153,          2,         13,         13,2,20150609,       0008,    42.5001,       -152,       5137,   849.5,    3.513,  34.2692,2,  34.2706,2,     23.1,2,    22.8,2,  120.94,2,   43.51,2,       0,2,    3.05,2,   0.348,2,   0.164,2,   0.065,2,  2351.7,2,  2354.3,2,   7.2935,2,    24.99,-999.000,9,-999.0000,9, -999.00,9,  -999.0,9,  -999.0,-999.0000,9,-999.0000,    43.0,2,     46.600,3,-999.000,9, 20150609,     0140,-999.000,   3.5131,2,    34.4322,2,     -999.0,9,     -999.0,-999.0000,     -999.0,     -999.0,9,     -999.0,     -999.0,9,     -999.0,  -999.0,9,     -999.0,     -999.0,9,     -999.0
33RO20150525,     P16N.2,     153,          2,         12,         12,2,20150609,       0008,    42.5001,       -152,       5137,    1000,    3.157,  34.3378,2,  34.3389,2,     15.9,2,    15.9,2,  132.96,2,   44.38,2,       0,2,    3.13,2,   0.119,2,   0.057,2,       0,2,  2370.6,2,  2370.2,2,   7.2868,6,    24.99,-999.000,9,-999.0000,9, -999.00,9,  -999.0,9,  -999.0,-999.0000,9,-999.0000,    43.1,2,     48.909,3,-999.000,9, 20150609,     0136,-999.000,    3.159,2,    34.5008,2,     -999.0,9,     -999.0,-999.0000,     -999.0,     -999.0,9,     -999.0,     -999.0,9,     -999.0,  -999.0,9,     -999.0,     -999.0,9,     -999.0
33RO20150525,     P16N.2,     153,          2,         11,         11,2,20150609,       0008,    42.5001,       -152,       5137,    1167,   2.8601,  34.3975,2,   34.396,2,     12.3,2,    11.7,2,  143.22,2,   44.87,2,    0.01,2,    3.13,2,   0.037,2,    0.02,2,       0,2,  2384.8,6,  2381.6,2,   7.2864,2,    24.98,-999.000,9,-999.0000,9, -999.00,9,  -999.0,9,  -999.0,-999.0000,9,-999.0000,    41.4,2,     50.548,3,-999.000,9, 20150609,     0131,-999.000,   2.8619,2,    34.5582,2,     -999.0,9,     -999.0,-999.0000,     -999.0,     -999.0,9,     -999.0,     -999.0,9,     -999.0,  -999.0,9,     -999.0,     -999.0,9,     -999.0
33RO20150525,     P16N.2,     153,          2,         10,         10,2,20150609,       0008,    42.5001,       -152,       5137,  1400.5,   2.5491,  34.4653,2,  34.4665,2,     14.4,2,    13.7,2,  153.96,2,   44.97,2,       0,2,    3.14,2,-999.000,9,-999.000,9,-999.000,9,  2394.3,2,  2394.8,2,   7.2954,2,    24.97,-999.000,9,-999.0000,9, -999.00,9,  -999.0,9,  -999.0,-999.0000,9,-999.0000,    40.9,2,     -999.0,9,-999.000,9, 20150609,     0125,-999.000,   2.5481,2,     34.629,2,     -999.0,9,     -999.0,-999.0000,     -999.0,     -999.0,9,     -999.0,     -999.0,9,     -999.0,  -999.0,9,     -999.0,     -999.0,9,     -999.0
33RO20150525,     P16N.2,     153,          2,          9,          9,2,20150609,       0008,    42.5001,       -152,       5137,  1733.5,   2.1713,   34.546,2,  34.5583,4,     30.6,2,    29.4,2,  164.41,2,   44.18,2,       0,2,    3.06,2,       0,2,   0.004,2,       0,2,  2394.3,2,    2411,2,   7.3338,2,    24.98,-999.000,9,-999.0000,9, -999.00,9,  -999.0,9,  -999.0,-999.0000,9,-999.0000,    40.2,2,     42.087,3,-999.000,9, 20150609,     0118,-999.000,   2.1721,2,    34.7213,2,     -999.0,9,     -999.0,-999.0000,     -999.0,     -999.0,9,     -999.0,     -999.0,9,     -999.0,  -999.0,9,     -999.0,     -999.0,9,     -999.0
33RO20150525,     P16N.2,     153,          2,          8,          8,2,20150609,       0008,    42.5001,       -152,       5137,  2133.4,   1.8826,  34.6057,2,  34.6059,2,     59.3,2,    59.2,2,  169.39,2,   42.23,2,       0,2,    2.93,2,-999.000,9,-999.000,9,-999.000,9,  2384.5,2,  2420.4,2,   7.3972,6,    24.99,-999.000,9,-999.0000,9, -999.00,9,  -999.0,9,  -999.0,-999.0000,9,-999.0000,    41.0,2,     -999.0,9,-999.000,9, 20150609,     0110,-999.000,   1.8826,2,    34.7691,2,     -999.0,9,     -999.0,-999.0000,     -999.0,     -999.0,9,     -999.0,     -999.0,9,     -999.0,  -999.0,9,     -999.0,     -999.0,9,     -999.0
33RO20150525,     P16N.2,     153,          2,          7,          7,2,20150609,       0008,    42.5001,       -152,       5137,  2533.7,   1.7022,  34.6365,2,  34.6361,2,     82.7,2,      83,2,   168.9,2,   40.76,2,       0,2,    2.81,2,-999.000,9,-999.000,9,-999.000,9,  2371.5,2,  2422.6,2,   7.4456,2,       25,-999.000,9,-999.0000,9, -999.00,9,  -999.0,9,  -999.0,-999.0000,9,-999.0000,    39.5,2,     -999.0,9,-999.000,9, 20150609,     0102,-999.000,   1.7022,2,    34.7994,2,     -999.0,9,     -999.0,-999.0000,     -999.0,     -999.0,9,     -999.0,     -999.0,9,     -999.0,  -999.0,9,     -999.0,     -999.0,9,     -999.0
33RO20150525,     P16N.2,     153,          2,          6,          6,2,20150609,       0008,    42.5001,       -152,       5137,  3000.2,   1.5677,  34.6591,2,  34.6595,2,    108.3,2,   107.7,2,  164.99,2,    39.1,2,       0,2,    2.72,2,-999.000,9,-999.000,9,-999.000,9,  2356.3,2,  2425.8,2,   7.4945,2,    24.98,-999.000,9,-999.0000,9, -999.00,9,  -999.0,9,  -999.0,-999.0000,9,-999.0000,    40.5,2,     -999.0,9,-999.000,9, 20150609,     0053,-999.000,   1.5675,2,    34.8229,6,     -999.0,9,     -999.0,-999.0000,     -999.0,     -999.0,9,     -999.0,     -999.0,9,     -999.0,  -999.0,9,     -999.0,     -999.0,9,     -999.0
33RO20150525,     P16N.2,     153,          2,          5,          5,2,20150609,       0008,    42.5001,       -152,       5137,  3499.4,   1.4942,  34.6744,2,  34.6753,2,      127,2,   127.2,2,  162.44,2,   37.73,2,       0,2,    2.61,2,-999.000,9,-999.000,9,-999.000,9,  2344.5,2,  2426.6,2,   7.5334,6,    24.99,-999.000,9,-999.0000,9, -999.00,9,  -999.0,9,  -999.0,-999.0000,9,-999.0000,    39.9,2,     -999.0,9,-999.000,9, 20150609,     0043,-999.000,   1.4937,2,    34.8388,2,     -999.0,9,     -999.0,-999.0000,     -999.0,     -999.0,9,     -999.0,     -999.0,9,     -999.0,  -999.0,9,     -999.0,     -999.0,9,     -999.0
33RO20150525,     P16N.2,     153,          2,          4,          4,2,20150609,       0008,    42.5001,       -152,       5137,  3999.6,   1.4864,  34.6831,2,  34.6832,2,    136.3,2,   137.6,2,  163.91,6,   37.14,6,       0,6,    2.55,6,-999.000,9,-999.000,9,-999.000,9,  2337.9,2,  2430.4,2,   7.5557,2,       25,-999.000,9,-999.0000,9, -999.00,9,  -999.0,9,  -999.0,-999.0000,9,-999.0000,    39.9,2,     -999.0,9,-999.000,9, 20150609,     0033,-999.000,   1.4865,2,    34.8467,2,     -999.0,9,     -999.0,-999.0000,     -999.0,     -999.0,9,     -999.0,     -999.0,9,     -999.0,  -999.0,9,     -999.0,     -999.0,9,     -999.0
33RO20150525,     P16N.2,     153,          2,          3,          3,2,20150609,       0008,    42.5001,       -152,       5137,  4550.5,   1.5258,  34.6871,2,  34.6879,2,    140.4,2,     140,2,  166.06,6,   36.95,6,       0,6,    2.53,6,-999.000,9,-999.000,9,-999.000,9,    2339,2,  2433.4,6,   7.5667,2,    24.98,-999.000,9,-999.0000,9, -999.00,9,  -999.0,9,  -999.0,-999.0000,9,-999.0000,    39.5,2,     -999.0,9,-999.000,9, 20150609,     0022,-999.000,   1.5258,2,    34.8515,2,     -999.0,9,     -999.0,-999.0000,     -999.0,     -999.0,9,     -999.0,     -999.0,9,     -999.0,  -999.0,9,     -999.0,     -999.0,9,     -999.0
33RO20150525,     P16N.2,     153,          2,          2,          2,2,20150609,       0008,    42.5001,       -152,       5137,  4799.9,   1.5548,  34.6874,2,  34.6869,2,    140.9,2,   140.2,2,  165.67,6,   36.95,6,       0,6,    2.54,6,-999.000,9,-999.000,9,-999.000,9,  2338.4,2,  2432.8,2,   7.5672,6,    24.98,-999.000,9,-999.0000,9, -999.00,9,  -999.0,9,  -999.0,-999.0000,9,-999.0000,    40.2,2,     -999.0,9,-999.000,9, 20150609,     0017,-999.000,   1.5548,2,    34.8505,2,     -999.0,9,     -999.0,-999.0000,     -999.0,     -999.0,9,     -999.0,     -999.0,9,     -999.0,  -999.0,9,     -999.0,     -999.0,9,     -999.0
33RO20150525,     P16N.2,     153,          2,          1,          1,2,20150609,       0008,    42.5001,       -152,       5137,  5220.9,   1.6037,  34.6878,2,  34.6899,2,      142,2,   141.4,2,  164.98,6,   36.75,6,       0,6,    2.53,6,-999.000,9,-999.000,9,-999.000,9,  2338.3,6,    2433,2,   7.5676,2,    25.01,-999.000,9,-999.0000,9, -999.00,9,  -999.0,9,  -999.0,-999.0000,9,-999.0000,    39.5,2,     -999.0,9,-999.000,9, 20150609,     0008,-999.000,   1.6037,2,    34.8534,2,     -999.0,9,     -999.0,-999.0000,     -999.0,     -999.0,9,     -999.0,     -999.0,9,     -999.0,  -999.0,9,     -999.0,     -999.0,9,     -999.0