BOTTLE,20220330CCHSIOCBG
EXPOCODE,SECT_ID,STNNBR,CASTNO,SAMPNO,BTLNBR,BTLNBR_FLAG_W,DATE,TIME,LATITUDE,LONGITUDE,DEPTH,CTDPRS,CTDTMP,CTDSAL,CTDSAL_FLAG_W,SALNTY,SALNTY_FLAG_W,CTDOXY,CTDOXY_FLAG_W,OXYGEN,OXYGEN_FLAG_W,SILCAT,SILCAT_FLAG_W,NITRAT,NITRAT_FLAG_W,NITRIT,NITRIT_FLAG_W,PHSPHT,PHSPHT_FLAG_W,CFC-11,CFC-11_FLAG_W,CFC-12,CFC-12_FLAG_W,SF6,SF6_FLAG_W,TCARBN,TCARBN_FLAG_W,ALKALI,ALKALI_FLAG_W,PH_TOT,PH_TOT_FLAG_W,PH_TMP,TRITUM,TRITUM_FLAG_W,HELIUM,HELIUM_FLAG_W,DELC13,DELC13_FLAG_W,DELC14,DELC14_FLAG_W,C14ERR,NEON,NEON_FLAG_W,NEONER,DOC,DOC_FLAG_W,N2O,N2O_FLAG_W,ARGON,ARGON_FLAG_W,BTL_DATE,BTL_TIME,TRITER,SBE35,SBE35_FLAG_W,SALTREF,SALTREF_FLAG_W,DELHE3,DELHE3_FLAG_W,DELHER,HELIER,ARGONER,KRYPTON,KRYPTON_FLAG_W,KRYPTONER,XENON,XENON_FLAG_W,XENONER,14C-DOC,14C-DOC_FLAG_W,14C-DOCERR,13C-DOC,13C-DOC_FLAG_W,13C-DOCERR
,,,,,,,,,,,METERS,DBAR,ITS-90,PSS-78,,PSS-78,,UMOL/KG,,UMOL/KG,,UMOL/KG,,UMOL/KG,,UMOL/KG,,UMOL/KG,,PMOL/KG,,PMOL/KG,,FMOL/KG,,UMOL/KG,,UMOL/KG,,,,DEG C,TU,,NMOL/KG,,/MILLE,,/MILLE,,/MILLE,NMOL/KG,,NMOL/KG,UMOL/KG,,NMOL/KG,,UMOL/KG,,,,TU,ITS-90,,G/KG,,PERCNT,,PERCNT,NMOL/KG,UMOL/KG,NMOL/KG,,NMOL/KG,NMOL/KG,,NMOL/KG,/MILLE,,/MILLE,/MILLE,,/MILLE
33RO20150525,     P16N.2,     200,          1,         24,         24,2,20150622,       0414,    55.7601,  -141.5624,       3500,     3.1,  13.3169,  31.8962,2,  31.8987,2,    281.3,2,   288.4,2,    0.69,2,     0.1,2,    0.01,2,     0.4,2,   3.392,6,   1.936,6,   2.335,6,  1939.7,6,  2156.8,2,    7.943,2,    25.06,-999.000,9,-999.0000,9,    1.71,2,   -11.2,2,     2.2,-999.0000,9,-999.0000,    63.3,2,     10.328,3,-999.000,9, 20150622,     0549,-999.000,  13.3167,2,    32.0492,2,     -999.0,9,     -999.0,-999.0000,     -999.0,     -999.0,9,     -999.0,     -999.0,9,     -999.0,  -999.0,9,     -999.0,     -999.0,9,     -999.0
33RO20150525,     P16N.2,     200,          1,         23,         23,2,20150622,       0414,    55.7601,  -141.5624,       3500,    15.4,  11.0804,  31.9141,2,  31.9243,2,    298.2,2,   302.3,2,    7.44,2,    3.72,2,    0.11,2,    0.75,2,   3.797,2,   2.118,2,   2.526,2,  1971.1,2,  2158.2,6,   7.8708,2,    25.06,-999.000,9,-999.0000,9, -999.00,9,  -999.0,9,  -999.0,-999.0000,9,-999.0000,    59.7,2,     11.561,3,-999.000,9, 20150622,     0547,-999.000,  11.0893,2,    32.0749,2,     -999.0,9,     -999.0,-999.0000,     -999.0,     -999.0,9,     -999.0,     -999.0,9,     -999.0,  -999.0,9,     -999.0,     -999.0,9,     -999.0
33RO20150525,     P16N.2,     200,          1,         22,         22,2,20150622,       0414,    55.7601,  -141.5624,       3500,    33.4,   7.8707,  31.9279,2,  31.9298,2,    289.4,2,   288.9,2,   17.13,2,   10.38,2,    0.51,2,    1.17,2,   4.025,2,   2.242,2,   2.606,2,  2012.3,2,    2152,2,   7.7593,6,    25.05,-999.000,9,-999.0000,9, -999.00,9,  -999.0,9,  -999.0,-999.0000,9,-999.0000,    56.6,2,     12.417,3,-999.000,9, 20150622,     0545,-999.000,   7.8584,2,    32.0803,2,     -999.0,9,     -999.0,-999.0000,     -999.0,     -999.0,9,     -999.0,     -999.0,9,     -999.0,  -999.0,9,     -999.0,     -999.0,9,     -999.0
33RO20150525,     P16N.2,     200,          1,         21,         21,2,20150622,       0414,    55.7601,  -141.5624,       3500,    57.7,   7.8326,  32.0444,2,  32.0604,2,    285.9,2,   287.5,2,   15.76,2,   10.38,2,    0.23,2,    1.11,2,   4.003,2,   2.253,2,   2.601,2,  2015.4,2,  2157.8,2,   7.7653,2,    25.06,-999.000,9,-999.0000,9, -999.00,9,  -999.0,9,  -999.0,-999.0000,9,-999.0000,    54.5,2,     12.427,3,-999.000,9, 20150622,     0543,-999.000,   7.8306,2,    32.2116,2,     -999.0,9,     -999.0,-999.0000,     -999.0,     -999.0,9,     -999.0,     -999.0,9,     -999.0,  -999.0,9,     -999.0,     -999.0,9,     -999.0
33RO20150525,     P16N.2,     200,          1,         20,         20,2,20150622,       0414,    55.7601,  -141.5624,       3500,      83,   7.4326,  32.1964,2,  32.2414,2,      272,2,   268.9,2,    18.8,2,    13.8,2,    0.02,2,    1.28,2,   3.946,2,   2.224,2,   2.537,2,  2041.1,2,  2166.7,2,   7.7119,2,    25.05,-999.000,9,-999.0000,9, -999.00,9,  -999.0,9,  -999.0,-999.0000,9,-999.0000,    52.8,2,     13.602,3,-999.000,9, 20150622,     0541,-999.000,    7.432,2,    32.3934,2,     -999.0,9,     -999.0,-999.0000,     -999.0,     -999.0,9,     -999.0,     -999.0,9,     -999.0,  -999.0,9,     -999.0,     -999.0,9,     -999.0
33RO20150525,     P16N.2,     200,          1,         19,         19,2,20150622,       0414,    55.7601,  -141.5624,       3500,   103.9,   7.2703,  32.4272,2,  32.4494,2,    244.3,2,   239.9,2,   25.06,2,   17.23,2,    0.02,2,    1.48,2,   3.795,2,   2.083,2,   2.288,2,  2074.2,2,  2180.2,2,   7.6535,2,    25.07,-999.000,9,-999.0000,9, -999.00,9,  -999.0,9,  -999.0,-999.0000,9,-999.0000,    51.0,2,     16.331,3,-999.000,9, 20150622,     0540,-999.000,   7.2704,2,    32.6024,2,     -999.0,9,     -999.0,-999.0000,     -999.0,     -999.0,9,     -999.0,     -999.0,9,     -999.0,  -999.0,9,     -999.0,     -999.0,9,     -999.0
33RO20150525,     P16N.2,     200,          1,         18,         18,2,20150622,       0414,    55.7601,  -141.5624,       3500,   132.9,   6.9535,  32.9023,2,  32.9354,2,    188.6,2,   187.6,2,   35.52,2,   23.58,2,    0.01,2,    1.84,2,   3.593,2,       2,2,   1.931,2,  2136.3,2,  2207.9,2,   7.5515,2,    25.04,-999.000,9,-999.0000,9, -999.00,9,  -999.0,9,  -999.0,-999.0000,9,-999.0000,    49.2,2,     21.513,3,-999.000,9, 20150622,     0538,-999.000,   6.9572,2,    33.0907,2,     -999.0,9,     -999.0,-999.0000,     -999.0,     -999.0,9,     -999.0,     -999.0,9,     -999.0,  -999.0,9,     -999.0,     -999.0,9,     -999.0
33RO20150525,     P16N.2,     200,          1,         17,         17,2,20150622,       0414,    55.7601,  -141.5624,       3500,   167.4,   6.4851,  33.3797,2,  33.3928,2,    154.3,2,   150.6,2,   42.94,2,   28.27,2,    0.01,2,    2.09,2,   3.503,2,   1.913,2,   1.681,2,    2185,2,  2236.9,2,   7.4786,2,    25.04,-999.000,9,-999.0000,9, -999.00,9,  -999.0,9,  -999.0,-999.0000,9,-999.0000,    45.5,2,     26.011,3,-999.000,9, 20150622,     0535,-999.000,   6.4869,2,    33.5502,2,     -999.0,9,     -999.0,-999.0000,     -999.0,     -999.0,9,     -999.0,     -999.0,9,     -999.0,  -999.0,9,     -999.0,     -999.0,9,     -999.0
33RO20150525,     P16N.2,     200,          1,         16,         16,2,20150622,       0414,    55.7601,  -141.5624,       3500,   225.4,   6.0348,  33.7535,2,  33.7554,2,    120.3,2,   119.8,2,   51.24,2,   32.07,2,    0.01,2,    2.28,2,   3.225,2,    1.74,2,   1.317,2,  2225.3,2,  2261.5,2,   7.4234,2,    25.04,-999.000,9,-999.0000,9, -999.00,9,  -999.0,9,  -999.0,-999.0000,9,-999.0000,    44.7,2,     29.856,3,-999.000,9, 20150622,     0533,-999.000,   6.0342,2,    33.9146,2,     -999.0,9,     -999.0,-999.0000,     -999.0,     -999.0,9,     -999.0,     -999.0,9,     -999.0,  -999.0,9,     -999.0,     -999.0,9,     -999.0
33RO20150525,     P16N.2,     200,          1,         15,         15,2,20150622,       0414,    55.7601,  -141.5624,       3500,   300.3,   5.1845,  33.8856,2,  33.8854,2,     83.8,2,    84.6,2,   65.21,2,   36.47,2,       0,2,    2.57,2,   2.749,2,   1.435,2,   0.913,2,  2265.7,2,  2279.7,2,   7.3501,6,    25.03,-999.000,9,-999.0000,9, -999.00,9,  -999.0,9,  -999.0,-999.0000,9,-999.0000,    44.2,2,     34.237,3,-999.000,9, 20150622,     0530,-999.000,   5.1892,2,    34.0451,6,     -999.0,9,     -999.0,-999.0000,     -999.0,     -999.0,9,     -999.0,     -999.0,9,     -999.0,  -999.0,9,     -999.0,     -999.0,9,     -999.0
33RO20150525,     P16N.2,     200,          1,         14,         14,2,20150622,       0414,    55.7601,  -141.5624,       3500,   374.7,   4.6495,   33.943,2,  33.9476,2,     57.9,2,    57.1,2,   77.33,2,    39.6,2,    0.01,2,    2.78,2,   2.227,2,   1.134,2,    0.63,2,    2294,2,  2291.6,2,    7.296,6,    25.05,-999.000,9,-999.0000,9, -999.00,9,  -999.0,9,  -999.0,-999.0000,9,-999.0000,    42.1,2,     38.259,3,-999.000,9, 20150622,     0527,-999.000,   4.6503,2,    34.1077,2,     -999.0,9,     -999.0,-999.0000,     -999.0,     -999.0,9,     -999.0,     -999.0,9,     -999.0,  -999.0,9,     -999.0,     -999.0,9,     -999.0
33RO20150525,     P16N.2,     200,          1,         13,         13,2,20150622,       0414,    55.7601,  -141.5624,       3500,   450.5,   4.3835,   34.004,2,  33.9995,2,     42.1,2,    41.8,2,   86.32,2,   41.16,2,       0,2,    2.89,2,   1.801,2,   0.915,2,   0.481,2,  2311.9,2,  2301.9,2,   7.2768,6,    25.05,-999.000,9,-999.0000,9, -999.00,9,  -999.0,9,  -999.0,-999.0000,9,-999.0000,    41.6,2,     40.857,3,-999.000,9, 20150622,     0524,-999.000,   4.3846,2,    34.1598,2,     -999.0,9,     -999.0,-999.0000,     -999.0,     -999.0,9,     -999.0,     -999.0,9,     -999.0,  -999.0,9,     -999.0,     -999.0,9,     -999.0
33RO20150525,     P16N.2,     200,          1,         12,         12,2,20150622,       0414,    55.7601,  -141.5624,       3500,   533.1,   4.2618,  34.0826,2,  34.0806,2,     29.6,2,    28.8,2,   94.14,2,   41.94,2,       0,2,    2.96,2,   1.273,2,   0.641,2,    0.28,2,  2326.7,2,  2314.3,2,    7.269,2,    25.04,-999.000,9,-999.0000,9, -999.00,9,  -999.0,9,  -999.0,-999.0000,9,-999.0000,    41.4,2,     43.377,3,-999.000,9, 20150622,     0521,-999.000,   4.2615,2,    34.2413,2,     -999.0,9,     -999.0,-999.0000,     -999.0,     -999.0,9,     -999.0,     -999.0,9,     -999.0,  -999.0,9,     -999.0,     -999.0,9,     -999.0
33RO20150525,     P16N.2,     200,          1,         11,         11,2,20150622,       0414,    55.7601,  -141.5624,       3500,   625.1,   4.0068,  34.1549,2,  34.1553,2,     20.1,2,    19.5,2,  104.59,2,   42.82,2,       0,2,       3,2,   0.818,2,   0.404,2,    0.16,2,  2341.4,2,  2329.2,2,   7.2644,2,    25.05,-999.000,9,-999.0000,9, -999.00,9,  -999.0,9,  -999.0,-999.0000,9,-999.0000,    40.3,2,     45.891,3,-999.000,9, 20150622,     0518,-999.000,   4.0062,2,    34.3163,2,     -999.0,9,     -999.0,-999.0000,     -999.0,     -999.0,9,     -999.0,     -999.0,9,     -999.0,  -999.0,9,     -999.0,     -999.0,9,     -999.0
33RO20150525,     P16N.2,     200,          1,         10,         10,2,20150622,       0414,    55.7601,  -141.5624,       3500,     876,    3.446,  34.2918,2,  34.2904,2,     12.8,2,    12.7,2,  124.13,2,    43.5,2,    0.01,2,    3.08,2,   0.246,2,   0.124,2,    0.08,2,  2367.9,6,  2356.6,2,   7.2738,2,    25.06,-999.000,9,-999.0000,9, -999.00,9,  -999.0,9,  -999.0,-999.0000,9,-999.0000,    38.9,2,     48.560,3,-999.000,9, 20150622,     0513,-999.000,   3.4459,2,    34.4521,2,     -999.0,9,     -999.0,-999.0000,     -999.0,     -999.0,9,     -999.0,     -999.0,9,     -999.0,  -999.0,9,     -999.0,     -999.0,9,     -999.0
33RO20150525,     P16N.2,     200,          1,          9,          9,2,20150622,       0414,    55.7601,  -141.5624,       3500,  1025.2,   3.1733,  34.3488,2,  34.3496,2,     12.2,2,    12.2,2,  133.12,2,   43.69,2,       0,2,    3.09,2,-999.000,9,-999.000,9,-999.000,9,  2373.9,2,  2366.6,2,   7.2794,2,    25.07,-999.000,9,-999.0000,9, -999.00,9,  -999.0,9,  -999.0,-999.0000,9,-999.0000,    37.4,2,     -999.0,9,-999.000,9, 20150622,     0509,-999.000,   3.1753,2,    34.5116,2,     -999.0,9,     -999.0,-999.0000,     -999.0,     -999.0,9,     -999.0,     -999.0,9,     -999.0,  -999.0,9,     -999.0,     -999.0,9,     -999.0
33RO20150525,     P16N.2,     200,          1,          8,          8,2,20150622,       0414,    55.7601,  -141.5624,       3500,  1166.6,   2.9433,  34.3925,2,  34.3918,2,     12.8,2,    13.4,2,  140.64,2,   43.88,2,       0,2,    3.09,2,   0.064,2,   0.032,2,   0.015,2,  2386.3,2,  2377.2,2,   7.2852,2,     25.1,-999.000,9,-999.0000,9, -999.00,9,  -999.0,9,  -999.0,-999.0000,9,-999.0000,    37.6,2,     48.403,3,-999.000,9, 20150622,     0505,-999.000,   2.9422,2,     34.554,2,     -999.0,9,     -999.0,-999.0000,     -999.0,     -999.0,9,     -999.0,     -999.0,9,     -999.0,  -999.0,9,     -999.0,     -999.0,9,     -999.0
33RO20150525,     P16N.2,     200,          1,          7,          7,2,20150622,       0414,    55.7601,  -141.5624,       3500,  1432.9,   2.5505,  34.4633,2,  34.4596,2,     18.1,2,    18.6,2,  151.87,2,   43.78,2,       0,2,    3.06,2,-999.000,9,-999.000,9,-999.000,9,  2394.8,2,  2391.9,2,   7.3012,2,       25,-999.000,9,-999.0000,9, -999.00,9,  -999.0,9,  -999.0,-999.0000,9,-999.0000,    36.7,2,     -999.0,9,-999.000,9, 20150622,     0459,-999.000,    2.548,2,    34.6221,2,     -999.0,9,     -999.0,-999.0000,     -999.0,     -999.0,9,     -999.0,     -999.0,9,     -999.0,  -999.0,9,     -999.0,     -999.0,9,     -999.0
33RO20150525,     P16N.2,     200,          1,          6,          6,2,20150622,       0414,    55.7601,  -141.5624,       3500,  1732.3,    2.207,  34.5309,2,  34.5317,2,     33.3,2,    32.9,2,  160.27,2,    43.1,2,       0,2,       3,2,   0.009,2,   0.006,2,       0,2,  2394.2,2,  2403.4,2,   7.3366,2,    25.05,-999.000,9,-999.0000,9, -999.00,9,  -999.0,9,  -999.0,-999.0000,9,-999.0000,    37.5,2,     40.328,3,-999.000,9, 20150622,     0452,-999.000,   2.2081,2,    34.6946,6,     -999.0,9,     -999.0,-999.0000,     -999.0,     -999.0,9,     -999.0,     -999.0,9,     -999.0,  -999.0,9,     -999.0,     -999.0,9,     -999.0
33RO20150525,     P16N.2,     200,          1,          5,          5,2,20150622,       0414,    55.7601,  -141.5624,       3500,  2033.5,   1.9737,  34.5781,2,  34.5759,2,     51.5,2,    51.1,2,  164.76,2,   42.02,2,       0,2,    2.91,2,-999.000,9,-999.000,9,-999.000,9,  2387.6,2,  2411.2,2,   7.3752,6,    25.05,-999.000,9,-999.0000,9, -999.00,9,  -999.0,9,  -999.0,-999.0000,9,-999.0000,    34.5,2,     -999.0,9,-999.000,9, 20150622,     0446,-999.000,   1.9741,2,     34.739,2,     -999.0,9,     -999.0,-999.0000,     -999.0,     -999.0,9,     -999.0,     -999.0,9,     -999.0,  -999.0,9,     -999.0,     -999.0,9,     -999.0
33RO20150525,     P16N.2,     200,          1,          4,          4,2,20150622,       0414,    55.7601,  -141.5624,       3500,  2332.9,   1.8043,  34.6116,2,  34.6097,2,     70.2,2,    70.6,2,  166.81,6,   40.85,6,       0,6,    2.83,6,   0.004,2,   0.002,2,       0,2,  2380.3,2,  2418.1,2,   7.4163,2,    25.04,-999.000,9,-999.0000,9, -999.00,9,  -999.0,9,  -999.0,-999.0000,9,-999.0000,    36.3,2,     31.516,3,-999.000,9, 20150622,     0439,-999.000,   1.8048,2,    34.7729,2,     -999.0,9,     -999.0,-999.0000,     -999.0,     -999.0,9,     -999.0,     -999.0,9,     -999.0,  -999.0,9,     -999.0,     -999.0,9,     -999.0
33RO20150525,     P16N.2,     200,          1,          3,          3,2,20150622,       0414,    55.7601,  -141.5624,       3500,  2600.5,   1.7053,  34.6313,2,  34.6307,2,     84.5,2,      84,2,  167.88,6,   40.06,6,       0,6,    2.77,6,-999.000,9,-999.000,9,-999.000,9,  2371.4,2,    2421,2,   7.4464,6,    25.05,-999.000,9,-999.0000,9, -999.00,9,  -999.0,9,  -999.0,-999.0000,9,-999.0000,    36.6,2,     -999.0,9,-999.000,9, 20150622,     0434,-999.000,   1.7055,2,     34.794,2,     -999.0,9,     -999.0,-999.0000,     -999.0,     -999.0,9,     -999.0,     -999.0,9,     -999.0,  -999.0,9,     -999.0,     -999.0,9,     -999.0
33RO20150525,     P16N.2,     200,          1,          2,          2,2,20150622,       0414,    55.7601,  -141.5624,       3500,  3000.5,   1.6073,  34.6517,2,    34.65,2,    102.9,2,   102.7,2,  167.58,6,   38.79,6,       0,6,    2.69,6,   0.005,2,   0.003,2,       0,2,  2362.8,2,  2423.2,6,   7.4869,6,    25.05,-999.000,9,-999.0000,9, -999.00,9,  -999.0,9,  -999.0,-999.0000,9,-999.0000,    36.4,2,     26.045,3,-999.000,9, 20150622,     0425,-999.000,   1.6072,2,    34.8134,2,     -999.0,9,     -999.0,-999.0000,     -999.0,     -999.0,9,     -999.0,     -999.0,9,     -999.0,  -999.0,9,     -999.0,     -999.0,9,     -999.0
33RO20150525,     P16N.2,     200,          1,          1,          1,2,20150622,       0414,    55.7601,  -141.5624,       3500,  3546.5,   1.4979,  34.6751,2,  34.6731,2,    127.9,2,   127.4,2,  165.82,6,   37.13,6,       0,6,    2.57,6,   0.004,2,   0.003,2,       0,2,  2346.7,6,  2425.6,2,    7.534,6,    25.05,-999.000,9,-999.0000,9, -999.00,9,  -999.0,9,  -999.0,-999.0000,9,-999.0000,    35.4,2,     23.051,3,-999.000,9, 20150622,     0415,-999.000,   1.4983,2,    34.8366,2,     -999.0,9,     -999.0,-999.0000,     -999.0,     -999.0,9,     -999.0,     -999.0,9,     -999.0,  -999.0,9,     -999.0,     -999.0,9,     -999.0