BOTTLE,20220330CCHSIOCBG
EXPOCODE,SECT_ID,STNNBR,CASTNO,SAMPNO,BTLNBR,BTLNBR_FLAG_W,DATE,TIME,LATITUDE,LONGITUDE,DEPTH,CTDPRS,CTDTMP,CTDSAL,CTDSAL_FLAG_W,SALNTY,SALNTY_FLAG_W,CTDOXY,CTDOXY_FLAG_W,OXYGEN,OXYGEN_FLAG_W,SILCAT,SILCAT_FLAG_W,NITRAT,NITRAT_FLAG_W,NITRIT,NITRIT_FLAG_W,PHSPHT,PHSPHT_FLAG_W,CFC-11,CFC-11_FLAG_W,CFC-12,CFC-12_FLAG_W,SF6,SF6_FLAG_W,TCARBN,TCARBN_FLAG_W,ALKALI,ALKALI_FLAG_W,PH_TOT,PH_TOT_FLAG_W,PH_TMP,TRITUM,TRITUM_FLAG_W,HELIUM,HELIUM_FLAG_W,DELC13,DELC13_FLAG_W,DELC14,DELC14_FLAG_W,C14ERR,NEON,NEON_FLAG_W,NEONER,DOC,DOC_FLAG_W,N2O,N2O_FLAG_W,ARGON,ARGON_FLAG_W,BTL_DATE,BTL_TIME,TRITER,SBE35,SBE35_FLAG_W,SALTREF,SALTREF_FLAG_W,DELHE3,DELHE3_FLAG_W,DELHER,HELIER,ARGONER,KRYPTON,KRYPTON_FLAG_W,KRYPTONER,XENON,XENON_FLAG_W,XENONER,14C-DOC,14C-DOC_FLAG_W,14C-DOCERR,13C-DOC,13C-DOC_FLAG_W,13C-DOCERR
,,,,,,,,,,,METERS,DBAR,ITS-90,PSS-78,,PSS-78,,UMOL/KG,,UMOL/KG,,UMOL/KG,,UMOL/KG,,UMOL/KG,,UMOL/KG,,PMOL/KG,,PMOL/KG,,FMOL/KG,,UMOL/KG,,UMOL/KG,,,,DEG C,TU,,NMOL/KG,,/MILLE,,/MILLE,,/MILLE,NMOL/KG,,NMOL/KG,UMOL/KG,,NMOL/KG,,UMOL/KG,,,,TU,ITS-90,,G/KG,,PERCNT,,PERCNT,NMOL/KG,UMOL/KG,NMOL/KG,,NMOL/KG,NMOL/KG,,NMOL/KG,/MILLE,,/MILLE,/MILLE,,/MILLE
33RO20150525,     P16N.2,     187,          3,         23,         23,2,20150618,       1019,      56.24,  -153.1867,        860,     2.7,  10.6941,  32.0628,2,  32.0701,2,    309.2,2,   310.7,2,    1.66,2,    0.49,2,    0.04,2,    0.45,2,   3.791,6,   2.155,6,   2.556,6,  1950.7,6,  2172.1,2,     7.95,2,    25.02,-999.000,9,-999.0000,9, -999.00,9,  -999.0,9,  -999.0,-999.0000,9,-999.0000,    56.3,2,     11.290,3,-999.000,9, 20150618,     1058,-999.000,  10.6883,2,    32.2213,2,     -999.0,9,     -999.0,-999.0000,     -999.0,     -999.0,9,     -999.0,     -999.0,9,     -999.0,  -999.0,9,     -999.0,     -999.0,9,     -999.0
33RO20150525,     P16N.2,     187,          3,         22,         22,2,20150618,       1019,      56.24,  -153.1867,        860,      10,   9.5459,  32.1278,2,   32.136,2,    314.2,2,   310.7,2,    6.36,2,    4.01,2,    0.13,2,    0.75,2,   3.989,2,   2.253,2,   2.623,2,  1979.1,2,  2175.1,2,   7.8836,6,    25.02,-999.000,9,-999.0000,9, -999.00,9,  -999.0,9,  -999.0,-999.0000,9,-999.0000,    54.5,2,     12.135,3,-999.000,9, 20150618,     1057,-999.000,   9.7528,2,    32.2875,2,     -999.0,9,     -999.0,-999.0000,     -999.0,     -999.0,9,     -999.0,     -999.0,9,     -999.0,  -999.0,9,     -999.0,     -999.0,9,     -999.0
33RO20150525,     P16N.2,     187,          3,         21,         21,2,20150618,       1019,      56.24,  -153.1867,        860,    26.6,   6.6928,  32.2596,2,  32.2687,2,    296.8,2,   291.8,2,   16.64,2,   10.77,2,    0.31,2,    1.19,2,   4.186,2,   2.373,2,   2.754,2,  2032.5,2,  2174.8,6,   7.7583,2,    25.03,-999.000,9,-999.0000,9, -999.00,9,  -999.0,9,  -999.0,-999.0000,9,-999.0000,    51.5,2,     13.796,3,-999.000,9, 20150618,     1055,-999.000,   6.7163,2,    32.4208,2,     -999.0,9,     -999.0,-999.0000,     -999.0,     -999.0,9,     -999.0,     -999.0,9,     -999.0,  -999.0,9,     -999.0,     -999.0,9,     -999.0
33RO20150525,     P16N.2,     187,          3,         20,         20,2,20150618,       1019,      56.24,  -153.1867,        860,    45.1,   6.4226,  32.4127,2,  32.4127,2,    261.5,2,   266.9,2,   22.41,2,   15.27,2,     0.2,2,    1.43,2,   4.088,2,   2.302,2,   2.597,2,    2064,2,  2180.4,2,   7.6886,2,    25.02,-999.000,9,-999.0000,9, -999.00,9,  -999.0,9,  -999.0,-999.0000,9,-999.0000,    49.8,2,     15.293,3,-999.000,9, 20150618,     1053,-999.000,   6.4228,2,    32.5656,2,     -999.0,9,     -999.0,-999.0000,     -999.0,     -999.0,9,     -999.0,     -999.0,9,     -999.0,  -999.0,9,     -999.0,     -999.0,9,     -999.0
33RO20150525,     P16N.2,     187,          3,         19,         19,2,20150618,       1019,      56.24,  -153.1867,        860,    69.7,   6.3976,  32.4657,2,  32.4602,2,    256.1,2,   256.5,2,   24.18,2,   16.25,2,    0.18,2,    1.48,2,    4.06,2,   2.289,2,    2.53,2,  2072.5,2,  2184.1,2,   7.6709,2,    25.03,-999.000,9,-999.0000,9, -999.00,9,  -999.0,9,  -999.0,-999.0000,9,-999.0000,    46.2,2,     15.935,3,-999.000,9, 20150618,     1052,-999.000,    6.401,2,    32.6133,2,     -999.0,9,     -999.0,-999.0000,     -999.0,     -999.0,9,     -999.0,     -999.0,9,     -999.0,  -999.0,9,     -999.0,     -999.0,9,     -999.0
33RO20150525,     P16N.2,     187,          3,         18,         18,2,20150618,       1019,      56.24,  -153.1867,        860,    94.8,   6.3575,  32.5599,2,  32.6077,2,    242.4,2,   239.5,2,    27.8,2,   18.69,2,    0.11,2,     1.6,2,   3.942,2,   2.232,2,     2.4,2,  2091.7,2,  2192.8,2,   7.6357,2,    25.03,-999.000,9,-999.0000,9, -999.00,9,  -999.0,9,  -999.0,-999.0000,9,-999.0000,    46.6,2,     17.543,3,-999.000,9, 20150618,     1050,-999.000,   6.3542,2,    32.7615,2,     -999.0,9,     -999.0,-999.0000,     -999.0,     -999.0,9,     -999.0,     -999.0,9,     -999.0,  -999.0,9,     -999.0,     -999.0,9,     -999.0
33RO20150525,     P16N.2,     187,          3,         17,         17,2,20150618,       1019,      56.24,  -153.1867,        860,   121.4,   6.1856,  32.9303,2,   32.955,2,    202.5,2,   202.6,2,    36.1,2,   23.58,2,    0.06,2,    1.86,2,   3.763,2,   2.098,2,   2.049,2,  2136.5,2,  2211.8,2,    7.558,2,    25.03,-999.000,9,-999.0000,9, -999.00,9,  -999.0,9,  -999.0,-999.0000,9,-999.0000,    45.7,2,     21.655,3,-999.000,9, 20150618,     1048,-999.000,   6.1854,2,    33.1104,2,     -999.0,9,     -999.0,-999.0000,     -999.0,     -999.0,9,     -999.0,     -999.0,9,     -999.0,  -999.0,9,     -999.0,     -999.0,9,     -999.0
33RO20150525,     P16N.2,     187,          3,         16,         16,2,20150618,       1019,      56.24,  -153.1867,        860,   160.4,    5.934,  33.2853,2,  33.3454,2,    163.2,2,   157.8,2,      45,2,   28.76,2,    0.04,2,    2.14,2,   3.549,2,   1.959,2,   1.676,2,  2188.5,2,  2237.7,2,   7.4743,6,    25.02,-999.000,9,-999.0000,9, -999.00,9,  -999.0,9,  -999.0,-999.0000,9,-999.0000,    45.4,2,     26.410,3,-999.000,9, 20150618,     1046,-999.000,   5.9336,2,    33.5027,2,     -999.0,9,     -999.0,-999.0000,     -999.0,     -999.0,9,     -999.0,     -999.0,9,     -999.0,  -999.0,9,     -999.0,     -999.0,9,     -999.0
33RO20150525,     P16N.2,     187,          3,         15,         15,2,20150618,       1019,      56.24,  -153.1867,        860,   210.9,   5.4183,  33.6557,2,-999.0000,9,    118.7,2,  -999.0,9, -999.00,9, -999.00,9, -999.00,9, -999.00,9,-999.000,9,-999.000,9,-999.000,9,  -999.0,9,  -999.0,9,-999.0000,9,  -999.00,-999.000,9,-999.0000,9, -999.00,9,  -999.0,9,  -999.0,-999.0000,9,-999.0000,  -999.0,9,     -999.0,9,-999.000,9, 20150618,     1044,-999.000,   5.4174,2,     -999.0,9,     -999.0,9,     -999.0,-999.0000,     -999.0,     -999.0,9,     -999.0,     -999.0,9,     -999.0,  -999.0,9,     -999.0,     -999.0,9,     -999.0
33RO20150525,     P16N.2,     187,          3,         14,         14,2,20150618,       1019,      56.24,  -153.1867,        860,   210.9,   5.4165,  33.6568,2,-999.0000,9,    118.6,2,  -999.0,9, -999.00,9, -999.00,9, -999.00,9, -999.00,9,-999.000,9,-999.000,9,-999.000,9,  -999.0,9,  -999.0,9,-999.0000,9,  -999.00,-999.000,9,-999.0000,9, -999.00,9,  -999.0,9,  -999.0,-999.0000,9,-999.0000,  -999.0,9,     -999.0,9,-999.000,9, 20150618,     1044,-999.000,   5.4163,2,     -999.0,9,     -999.0,9,     -999.0,-999.0000,     -999.0,     -999.0,9,     -999.0,     -999.0,9,     -999.0,  -999.0,9,     -999.0,     -999.0,9,     -999.0
33RO20150525,     P16N.2,     187,          3,         13,         13,2,20150618,       1019,      56.24,  -153.1867,        860,   210.9,   5.4165,  33.6567,2,   33.675,2,    118.6,2,   115.9,2,   56.72,2,   33.74,2,    0.02,2,    2.41,2,   3.208,2,   1.733,2,   1.252,2,  2236.3,2,    2263,2,   7.3928,6,    25.02,-999.000,9,-999.0000,9, -999.00,9,  -999.0,9,  -999.0,-999.0000,9,-999.0000,    41.6,2,     31.469,3,-999.000,9, 20150618,     1043,-999.000,   5.4153,2,    33.8338,2,     -999.0,9,     -999.0,-999.0000,     -999.0,     -999.0,9,     -999.0,     -999.0,9,     -999.0,  -999.0,9,     -999.0,     -999.0,9,     -999.0
33RO20150525,     P16N.2,     187,          3,         12,         12,2,20150618,       1019,      56.24,  -153.1867,        860,   260.1,   4.9347,  33.8078,2,  33.8064,2,       88,2,    86.7,2,   67.17,2,   37.06,2,    0.02,2,    2.62,2,   2.834,2,   1.501,2,   1.041,2,  2267.6,2,  2276.7,2,   7.3333,2,    25.01,-999.000,9,-999.0000,9, -999.00,9,  -999.0,9,  -999.0,-999.0000,9,-999.0000,    41.6,2,     35.298,3,-999.000,9, 20150618,     1041,-999.000,   4.9342,2,    33.9658,6,     -999.0,9,     -999.0,-999.0000,     -999.0,     -999.0,9,     -999.0,     -999.0,9,     -999.0,  -999.0,9,     -999.0,     -999.0,9,     -999.0
33RO20150525,     P16N.2,     187,          3,         11,         11,2,20150618,       1019,      56.24,  -153.1867,        860,   309.8,   4.5575,  33.8705,2,  33.8742,2,     65.6,2,    64.8,2,   76.07,2,    39.6,2,    0.01,2,    2.79,2,-999.000,5,-999.000,5,-999.000,5,  2291.8,2,  2286.4,2,   7.2933,2,    25.03,-999.000,9,-999.0000,9, -999.00,9,  -999.0,9,  -999.0,-999.0000,9,-999.0000,    41.0,2,     -999.0,5,-999.000,9, 20150618,     1039,-999.000,   4.5551,2,    34.0339,2,     -999.0,9,     -999.0,-999.0000,     -999.0,     -999.0,9,     -999.0,     -999.0,9,     -999.0,  -999.0,9,     -999.0,     -999.0,9,     -999.0
33RO20150525,     P16N.2,     187,          3,         10,         10,2,20150618,       1019,      56.24,  -153.1867,        860,   359.8,   4.2964,  33.9298,2,  33.9306,2,     49.3,2,    48.5,2,    83.3,2,   41.26,2,    0.01,2,    2.89,2,   2.191,2,   1.126,2,   0.707,2,  2307.4,2,  2294.1,2,   7.2676,6,    25.04,-999.000,9,-999.0000,9, -999.00,9,  -999.0,9,  -999.0,-999.0000,9,-999.0000,    41.0,2,     40.839,3,-999.000,9, 20150618,     1037,-999.000,   4.2963,2,    34.0906,2,     -999.0,9,     -999.0,-999.0000,     -999.0,     -999.0,9,     -999.0,     -999.0,9,     -999.0,  -999.0,9,     -999.0,     -999.0,9,     -999.0
33RO20150525,     P16N.2,     187,          3,          9,          9,2,20150618,       1019,      56.24,  -153.1867,        860,   450.4,   4.0973,  34.0384,2,-999.0000,9,     29.5,2,  -999.0,9, -999.00,9, -999.00,9, -999.00,9, -999.00,9,-999.000,9,-999.000,9,-999.000,9,  -999.0,9,  -999.0,9,-999.0000,9,  -999.00,-999.000,9,-999.0000,9, -999.00,9,  -999.0,9,  -999.0,-999.0000,9,-999.0000,  -999.0,9,     -999.0,9,-999.000,9, 20150618,     1035,-999.000,   4.0968,2,     -999.0,9,     -999.0,9,     -999.0,-999.0000,     -999.0,     -999.0,9,     -999.0,     -999.0,9,     -999.0,  -999.0,9,     -999.0,     -999.0,9,     -999.0
33RO20150525,     P16N.2,     187,          3,          7,          7,2,20150618,       1019,      56.24,  -153.1867,        860,   450.4,   4.0922,  34.0405,2,  34.0398,2,     29.2,2,    27.9,2,   95.42,2,   42.92,2,       0,2,       3,2,   1.505,2,   0.746,2,   0.338,2,  2329.4,2,  2313.4,2,   7.2501,2,    25.04,-999.000,9,-999.0000,9, -999.00,9,  -999.0,9,  -999.0,-999.0000,9,-999.0000,    41.3,2,     44.579,3,-999.000,9, 20150618,     1034,-999.000,    4.092,2,    34.2003,6,     -999.0,9,     -999.0,-999.0000,     -999.0,     -999.0,9,     -999.0,     -999.0,9,     -999.0,  -999.0,9,     -999.0,     -999.0,9,     -999.0
33RO20150525,     P16N.2,     187,          3,          8,          8,2,20150618,       1019,      56.24,  -153.1867,        860,   450.5,   4.0968,  34.0385,2,-999.0000,9,     29.5,2,  -999.0,9, -999.00,9, -999.00,9, -999.00,9, -999.00,9,-999.000,9,-999.000,9,-999.000,9,  -999.0,9,  -999.0,9,-999.0000,9,  -999.00,-999.000,9,-999.0000,9, -999.00,9,  -999.0,9,  -999.0,-999.0000,9,-999.0000,  -999.0,9,     -999.0,9,-999.000,9, 20150618,     1034,-999.000,   4.0964,2,     -999.0,9,     -999.0,9,     -999.0,-999.0000,     -999.0,     -999.0,9,     -999.0,     -999.0,9,     -999.0,  -999.0,9,     -999.0,     -999.0,9,     -999.0
33RO20150525,     P16N.2,     187,          3,          6,          6,2,20150618,       1019,      56.24,  -153.1867,        860,   525.3,   4.0101,  34.0896,2,  34.0879,2,     23.3,2,    22.5,2,  100.59,6,   43.21,6,    0.01,6,    3.03,6,   1.209,2,   0.597,2,   0.271,2,  2335.8,2,  2321.4,2,   7.2561,2,    25.02,-999.000,9,-999.0000,9, -999.00,9,  -999.0,9,  -999.0,-999.0000,9,-999.0000,    37.8,2,     45.865,3,-999.000,9, 20150618,     1032,-999.000,   4.0125,2,    34.2487,2,     -999.0,9,     -999.0,-999.0000,     -999.0,     -999.0,9,     -999.0,     -999.0,9,     -999.0,  -999.0,9,     -999.0,     -999.0,9,     -999.0
33RO20150525,     P16N.2,     187,          3,          3,          3,2,20150618,       1019,      56.24,  -153.1867,        860,     615,   3.7197,  34.1694,2,  34.1675,2,     16.4,2,    17.1,2,  112.22,6,    43.7,6,       0,6,    3.06,6,    0.79,2,   0.384,2,   0.134,2,  2352.1,2,  2335.4,6,   7.2556,6,    25.03,-999.000,9,-999.0000,9, -999.00,9,  -999.0,9,  -999.0,-999.0000,9,-999.0000,    36.1,2,     47.439,3,-999.000,9, 20150618,     1028,-999.000,   3.7202,2,    34.3287,2,     -999.0,9,     -999.0,-999.0000,     -999.0,     -999.0,9,     -999.0,     -999.0,9,     -999.0,  -999.0,9,     -999.0,     -999.0,9,     -999.0
33RO20150525,     P16N.2,     187,          3,          4,          4,2,20150618,       1019,      56.24,  -153.1867,        860,     615,   3.7206,  34.1693,2,-999.0000,9,     16.4,2,  -999.0,9, -999.00,9, -999.00,9, -999.00,9, -999.00,9,-999.000,9,-999.000,9,-999.000,9,  -999.0,9,  -999.0,9,-999.0000,9,  -999.00,-999.000,9,-999.0000,9, -999.00,9,  -999.0,9,  -999.0,-999.0000,9,-999.0000,  -999.0,9,     -999.0,9,-999.000,9, 20150618,     1028,-999.000,   3.7212,2,     -999.0,9,     -999.0,9,     -999.0,-999.0000,     -999.0,     -999.0,9,     -999.0,     -999.0,9,     -999.0,  -999.0,9,     -999.0,     -999.0,9,     -999.0
33RO20150525,     P16N.2,     187,          3,          5,          5,2,20150618,       1019,      56.24,  -153.1867,        860,     615,   3.7236,  34.1686,2,-999.0000,9,     16.4,2,  -999.0,9, -999.00,9, -999.00,9, -999.00,9, -999.00,9,-999.000,9,-999.000,9,-999.000,9,  -999.0,9,  -999.0,9,-999.0000,9,  -999.00,-999.000,9,-999.0000,9, -999.00,9,  -999.0,9,  -999.0,-999.0000,9,-999.0000,  -999.0,9,     -999.0,9,-999.000,9, 20150618,     1029,-999.000,   3.7253,2,     -999.0,9,     -999.0,9,     -999.0,-999.0000,     -999.0,     -999.0,9,     -999.0,     -999.0,9,     -999.0,  -999.0,9,     -999.0,     -999.0,9,     -999.0
33RO20150525,     P16N.2,     187,          3,          2,          2,2,20150618,       1019,      56.24,  -153.1867,        860,   750.6,   3.3668,  34.2794,2,  34.2778,2,     13.9,2,    13.5,2,  126.38,6,   43.89,6,       0,6,    3.09,6,   0.333,2,   0.163,2,   0.061,2,  2367.5,2,  2356.1,2,   7.2697,6,    25.01,-999.000,9,-999.0000,9, -999.00,9,  -999.0,9,  -999.0,-999.0000,9,-999.0000,    36.4,2,     49.477,3,-999.000,9, 20150618,     1025,-999.000,   3.3664,2,    34.4394,2,     -999.0,9,     -999.0,-999.0000,     -999.0,     -999.0,9,     -999.0,     -999.0,9,     -999.0,  -999.0,9,     -999.0,     -999.0,9,     -999.0
33RO20150525,     P16N.2,     187,          3,          1,          1,2,20150618,       1019,      56.24,  -153.1867,        860,   928.1,   3.2125,  34.3202,2,  34.3239,2,     13.3,2,    12.9,2,  132.15,6,   43.98,6,    0.01,6,     3.1,6,   0.215,2,   0.106,2,   0.069,2,  2372.4,6,  2363.6,2,   7.2744,2,    25.03,-999.000,9,-999.0000,9, -999.00,9,  -999.0,9,  -999.0,-999.0000,9,-999.0000,    37.1,2,     49.064,3,-999.000,9, 20150618,     1020,-999.000,    3.207,2,    34.4857,2,     -999.0,9,     -999.0,-999.0000,     -999.0,     -999.0,9,     -999.0,     -999.0,9,     -999.0,  -999.0,9,     -999.0,     -999.0,9,     -999.0