BOTTLE,20220330CCHSIOCBG
EXPOCODE,SECT_ID,STNNBR,CASTNO,SAMPNO,BTLNBR,BTLNBR_FLAG_W,DATE,TIME,LATITUDE,LONGITUDE,DEPTH,CTDPRS,CTDTMP,CTDSAL,CTDSAL_FLAG_W,SALNTY,SALNTY_FLAG_W,CTDOXY,CTDOXY_FLAG_W,OXYGEN,OXYGEN_FLAG_W,SILCAT,SILCAT_FLAG_W,NITRAT,NITRAT_FLAG_W,NITRIT,NITRIT_FLAG_W,PHSPHT,PHSPHT_FLAG_W,CFC-11,CFC-11_FLAG_W,CFC-12,CFC-12_FLAG_W,SF6,SF6_FLAG_W,TCARBN,TCARBN_FLAG_W,ALKALI,ALKALI_FLAG_W,PH_TOT,PH_TOT_FLAG_W,PH_TMP,TRITUM,TRITUM_FLAG_W,HELIUM,HELIUM_FLAG_W,DELC13,DELC13_FLAG_W,DELC14,DELC14_FLAG_W,C14ERR,NEON,NEON_FLAG_W,NEONER,DOC,DOC_FLAG_W,N2O,N2O_FLAG_W,ARGON,ARGON_FLAG_W,BTL_DATE,BTL_TIME,TRITER,SBE35,SBE35_FLAG_W,SALTREF,SALTREF_FLAG_W,DELHE3,DELHE3_FLAG_W,DELHER,HELIER,ARGONER,KRYPTON,KRYPTON_FLAG_W,KRYPTONER,XENON,XENON_FLAG_W,XENONER,14C-DOC,14C-DOC_FLAG_W,14C-DOCERR,13C-DOC,13C-DOC_FLAG_W,13C-DOCERR
,,,,,,,,,,,METERS,DBAR,ITS-90,PSS-78,,PSS-78,,UMOL/KG,,UMOL/KG,,UMOL/KG,,UMOL/KG,,UMOL/KG,,UMOL/KG,,PMOL/KG,,PMOL/KG,,FMOL/KG,,UMOL/KG,,UMOL/KG,,,,DEG C,TU,,NMOL/KG,,/MILLE,,/MILLE,,/MILLE,NMOL/KG,,NMOL/KG,UMOL/KG,,NMOL/KG,,UMOL/KG,,,,TU,ITS-90,,G/KG,,PERCNT,,PERCNT,NMOL/KG,UMOL/KG,NMOL/KG,,NMOL/KG,NMOL/KG,,NMOL/KG,/MILLE,,/MILLE,/MILLE,,/MILLE
33RO20150525,     P16N.2,     169,          2,         24,         24,2,20150613,       2215,    50.5002,  -152.0001,       4942,     2.5,   8.5418,  32.6256,2,   32.624,2,    299.6,2,   300.7,2,   24.67,2,   13.41,2,    0.14,2,    1.33,2,   4.183,2,   2.263,2,   2.666,2,    2046,6,  2200.2,6,    7.776,2,       25,-999.000,9,-999.0000,9, -999.00,9,  -999.0,9,  -999.0,-999.0000,9,-999.0000,    53.6,2,     11.722,3,-999.000,9, 20150614,     0014,-999.000,    8.534,2,    32.7779,2,     -999.0,9,     -999.0,-999.0000,     -999.0,     -999.0,9,     -999.0,     -999.0,9,     -999.0,  -999.0,9,     -999.0,     -999.0,9,     -999.0
33RO20150525,     P16N.2,     169,          2,         23,         23,2,20150613,       2215,    50.5002,  -152.0001,       4942,    19.7,   8.2481,  32.6231,2,  32.6252,2,    301.1,2,     303,2,   24.77,2,   13.51,2,    0.13,2,    1.32,2,   4.242,2,   2.303,2,    2.66,2,  2046.3,2,  2199.4,2,   7.7745,2,    24.98,-999.000,9,-999.0000,9, -999.00,9,  -999.0,9,  -999.0,-999.0000,9,-999.0000,    54.4,2,     11.807,3,-999.000,9, 20150614,     0012,-999.000,   8.2462,2,    32.7791,2,     -999.0,9,     -999.0,-999.0000,     -999.0,     -999.0,9,     -999.0,     -999.0,9,     -999.0,  -999.0,9,     -999.0,     -999.0,9,     -999.0
33RO20150525,     P16N.2,     169,          2,         22,         22,2,20150613,       2215,    50.5002,  -152.0001,       4942,    41.8,   6.0188,  32.6742,2,  32.6787,2,    307.6,2,   307.1,2,   26.33,2,   15.47,2,    0.13,2,    1.42,2,   4.628,2,   2.464,2,   2.819,2,  2067.3,2,    2202,2,   7.7338,2,    24.99,-999.000,9,-999.0000,9, -999.00,9,  -999.0,9,  -999.0,-999.0000,9,-999.0000,    53.6,2,     12.670,3,-999.000,9, 20150614,     0010,-999.000,   6.0206,2,    32.8328,2,     -999.0,9,     -999.0,-999.0000,     -999.0,     -999.0,9,     -999.0,     -999.0,9,     -999.0,  -999.0,9,     -999.0,     -999.0,9,     -999.0
33RO20150525,     P16N.2,     169,          2,         21,         21,2,20150613,       2215,    50.5002,  -152.0001,       4942,    67.5,   5.6671,  32.6973,2,  32.7006,2,    299.6,2,   299.4,2,    27.7,2,   16.25,2,    0.15,2,    1.48,2,    4.65,2,   2.481,2,   2.841,2,    2079,2,  2206.2,2,   7.7126,2,    24.98,-999.000,9,-999.0000,9, -999.00,9,  -999.0,9,  -999.0,-999.0000,9,-999.0000,    53.4,2,     13.156,3,-999.000,9, 20150614,     0008,-999.000,    5.669,2,    32.8548,2,     -999.0,9,     -999.0,-999.0000,     -999.0,     -999.0,9,     -999.0,     -999.0,9,     -999.0,  -999.0,9,     -999.0,     -999.0,9,     -999.0
33RO20150525,     P16N.2,     169,          2,         20,         20,2,20150613,       2215,    50.5002,  -152.0001,       4942,      93,   4.4722,   33.199,2,  33.1941,2,    189.2,2,   209.5,2,   46.87,2,   27.69,2,    0.03,2,    2.08,2,   4.196,2,   2.201,2,   2.219,2,  2169.6,2,  2234.9,2,   7.5257,6,    24.99,-999.000,9,-999.0000,9, -999.00,9,  -999.0,9,  -999.0,-999.0000,9,-999.0000,    50.4,2,     21.957,3,-999.000,9, 20150614,     0006,-999.000,   4.4911,2,    33.3506,2,     -999.0,9,     -999.0,-999.0000,     -999.0,     -999.0,9,     -999.0,     -999.0,9,     -999.0,  -999.0,9,     -999.0,     -999.0,9,     -999.0
33RO20150525,     P16N.2,     169,          2,         19,         19,2,20150613,       2215,    50.5002,  -152.0001,       4942,     133,   3.6672,  33.6517,2,  33.6496,2,    109.3,2,   114.9,2,   71.21,2,   37.76,2,    0.01,2,    2.68,2,   3.464,2,   1.775,2,   1.346,2,    2265,2,  2274.3,2,    7.332,6,    24.99,-999.000,9,-999.0000,9, -999.00,9,  -999.0,9,  -999.0,-999.0000,9,-999.0000,    48.6,2,     31.928,3,-999.000,9, 20150614,     0004,-999.000,   3.6628,2,    33.8083,2,     -999.0,9,     -999.0,-999.0000,     -999.0,     -999.0,9,     -999.0,     -999.0,9,     -999.0,  -999.0,9,     -999.0,     -999.0,9,     -999.0
33RO20150525,     P16N.2,     169,          2,         18,         18,2,20150613,       2215,    50.5002,  -152.0001,       4942,   200.8,   3.5902,  33.7911,2,  33.7895,2,     70.7,2,    68.8,2,   83.52,2,   41.76,2,    0.01,2,    2.92,2,   2.867,2,   1.448,2,   1.014,2,  2302.3,2,  2286.4,2,   7.2586,2,    24.95,-999.000,9,-999.0000,9, -999.00,9,  -999.0,9,  -999.0,-999.0000,9,-999.0000,    44.6,2,     36.991,3,-999.000,9, 20150614,     0001,-999.000,   3.5902,2,    33.9488,2,     -999.0,9,     -999.0,-999.0000,     -999.0,     -999.0,9,     -999.0,     -999.0,9,     -999.0,  -999.0,9,     -999.0,     -999.0,9,     -999.0
33RO20150525,     P16N.2,     169,          2,         17,         17,2,20150613,       2215,    50.5002,  -152.0001,       4942,   275.1,   3.7146,  33.9323,2,  33.9344,2,     40.3,2,    37.6,2,   94.86,2,   43.42,2,    0.01,2,    3.02,2,   2.108,2,    1.05,2,   0.664,2,  2324.9,2,  2304.7,2,   7.2349,6,    24.98,-999.000,9,-999.0000,9, -999.00,9,  -999.0,9,  -999.0,-999.0000,9,-999.0000,    43.8,2,     40.977,3,-999.000,9, 20150613,     2358,-999.000,   3.7141,2,    34.0944,2,     -999.0,9,     -999.0,-999.0000,     -999.0,     -999.0,9,     -999.0,     -999.0,9,     -999.0,  -999.0,9,     -999.0,     -999.0,9,     -999.0
33RO20150525,     P16N.2,     169,          2,         16,         16,2,20150613,       2215,    50.5002,  -152.0001,       4942,   367.4,    3.702,  34.0431,2,  34.0417,2,       30,2,      23,2,  104.04,2,   43.51,2,    0.01,2,    3.05,2,   1.506,2,   0.743,2,   0.419,2,  2337.6,2,  2318.7,2,   7.2458,2,    24.98,-999.000,9,-999.0000,9, -999.00,9,  -999.0,9,  -999.0,-999.0000,9,-999.0000,    44.2,2,     43.070,3,-999.000,9, 20150613,     2355,-999.000,   3.7024,2,    34.2022,2,     -999.0,9,     -999.0,-999.0000,     -999.0,     -999.0,9,     -999.0,     -999.0,9,     -999.0,  -999.0,9,     -999.0,     -999.0,9,     -999.0
33RO20150525,     P16N.2,     169,          2,         15,         15,2,20150613,       2215,    50.5002,  -152.0001,       4942,   453.8,   3.6266,  34.1118,2,  34.1129,2,     23.5,2,    22.8,2,  110.69,2,   43.71,2,    0.01,2,    3.06,2,   1.136,2,   0.551,2,   0.297,2,  2348.1,2,  2330.2,2,   7.2516,2,    24.93,-999.000,9,-999.0000,9, -999.00,9,  -999.0,9,  -999.0,-999.0000,9,-999.0000,    42.3,2,     44.443,3,-999.000,9, 20150613,     2352,-999.000,   3.6269,2,    34.2737,2,     -999.0,9,     -999.0,-999.0000,     -999.0,     -999.0,9,     -999.0,     -999.0,9,     -999.0,  -999.0,9,     -999.0,     -999.0,9,     -999.0
33RO20150525,     P16N.2,     169,          2,         14,         14,2,20150613,       2215,    50.5002,  -152.0001,       4942,   600.2,   3.4117,   34.219,2,  34.2193,2,     23.9,2,    22.9,2,  122.22,2,   43.51,2,    0.01,2,    3.05,2,   0.654,2,   0.323,2,   0.156,2,  2356.6,2,  2348.2,2,   7.2748,6,       25,-999.000,9,-999.0000,9, -999.00,9,  -999.0,9,  -999.0,-999.0000,9,-999.0000,    40.7,2,     45.612,3,-999.000,9, 20150613,     2348,-999.000,   3.4126,2,    34.3807,6,     -999.0,9,     -999.0,-999.0000,     -999.0,     -999.0,9,     -999.0,     -999.0,9,     -999.0,  -999.0,9,     -999.0,     -999.0,9,     -999.0
33RO20150525,     P16N.2,     169,          2,         13,         13,2,20150613,       2215,    50.5002,  -152.0001,       4942,   750.8,   3.1542,  34.3039,2,  34.3051,2,     21.5,2,    21.3,2,  132.67,2,    43.6,2,    0.01,2,    3.06,2,   0.362,2,   0.175,2,   0.044,2,  2368.1,2,  2363.2,2,   7.2864,2,    24.98,-999.000,9,-999.0000,9, -999.00,9,  -999.0,9,  -999.0,-999.0000,9,-999.0000,    39.5,2,     45.779,3,-999.000,9, 20150613,     2344,-999.000,   3.1554,2,    34.4669,2,     -999.0,9,     -999.0,-999.0000,     -999.0,     -999.0,9,     -999.0,     -999.0,9,     -999.0,  -999.0,9,     -999.0,     -999.0,9,     -999.0
33RO20150525,     P16N.2,     169,          2,         12,         12,2,20150613,       2215,    50.5002,  -152.0001,       4942,   899.9,   2.9057,  34.3707,2,  34.3694,2,       23,2,    23.1,2,  140.87,2,    43.5,2,    0.01,2,    3.06,2,   0.208,2,     0.1,2,   0.049,2,  2374.9,2,  2374.1,2,   7.2982,2,       25,-999.000,9,-999.0000,9, -999.00,9,  -999.0,9,  -999.0,-999.0000,9,-999.0000,    39.8,2,     45.093,3,-999.000,9, 20150613,     2340,-999.000,   2.9055,2,    34.5315,2,     -999.0,9,     -999.0,-999.0000,     -999.0,     -999.0,9,     -999.0,     -999.0,9,     -999.0,  -999.0,9,     -999.0,     -999.0,9,     -999.0
33RO20150525,     P16N.2,     169,          2,         11,         11,2,20150613,       2215,    50.5002,  -152.0001,       4942,  1050.5,   2.6821,  34.4233,2,  34.4218,2,     23.5,2,    23.8,2,   148.1,2,    43.8,2,    0.01,2,    3.05,2,-999.000,9,-999.000,9,-999.000,9,  2379.2,6,  2384.7,2,   7.3073,2,    24.98,-999.000,9,-999.0000,9, -999.00,9,  -999.0,9,  -999.0,-999.0000,9,-999.0000,    38.3,2,     -999.0,9,-999.000,9, 20150613,     2336,-999.000,    2.682,2,    34.5841,2,     -999.0,9,     -999.0,-999.0000,     -999.0,     -999.0,9,     -999.0,     -999.0,9,     -999.0,  -999.0,9,     -999.0,     -999.0,9,     -999.0
33RO20150525,     P16N.2,     169,          2,         10,         10,2,20150613,       2215,    50.5002,  -152.0001,       4942,  1233.5,   2.4712,  34.4678,2,  34.4654,2,       27,2,    26.7,2,  154.45,2,    43.7,2,    0.01,2,    3.05,2,   0.061,2,   0.028,2,   0.021,2,  2387.4,2,  2393.8,2,    7.317,2,    25.01,-999.000,9,-999.0000,9, -999.00,9,  -999.0,9,  -999.0,-999.0000,9,-999.0000,    37.8,2,     43.002,3,-999.000,9, 20150613,     2332,-999.000,   2.4713,2,    34.6279,2,     -999.0,9,     -999.0,-999.0000,     -999.0,     -999.0,9,     -999.0,     -999.0,9,     -999.0,  -999.0,9,     -999.0,     -999.0,9,     -999.0
33RO20150525,     P16N.2,     169,          2,          9,          9,2,20150613,       2215,    50.5002,  -152.0001,       4942,  1499.5,   2.2607,  34.5164,2,  34.5151,2,     29.4,2,      29,2,  161.58,2,   43.69,2,       0,2,    3.04,2,-999.000,9,-999.000,9,-999.000,9,  2393.8,2,  2403.4,2,   7.3278,2,       25,-999.000,9,-999.0000,9, -999.00,9,  -999.0,9,  -999.0,-999.0000,9,-999.0000,    38.6,2,     -999.0,9,-999.000,9, 20150613,     2326,-999.000,   2.2604,2,    34.6778,2,     -999.0,9,     -999.0,-999.0000,     -999.0,     -999.0,9,     -999.0,     -999.0,9,     -999.0,  -999.0,9,     -999.0,     -999.0,9,     -999.0
33RO20150525,     P16N.2,     169,          2,          8,          8,2,20150613,       2215,    50.5002,  -152.0001,       4942,  1867.1,   1.9952,  34.5743,2,  34.5737,2,     46.6,2,    46.2,2,  167.54,2,   42.91,2,    0.01,2,    2.94,2,-999.000,9,-999.000,9,-999.000,9,  2390.3,2,  2412.8,2,   7.3662,2,    24.98,-999.000,9,-999.0000,9, -999.00,9,  -999.0,9,  -999.0,-999.0000,9,-999.0000,    39.5,2,     -999.0,9,-999.000,9, 20150613,     2318,-999.000,   1.9951,2,    34.7367,2,     -999.0,9,     -999.0,-999.0000,     -999.0,     -999.0,9,     -999.0,     -999.0,9,     -999.0,  -999.0,9,     -999.0,     -999.0,9,     -999.0
33RO20150525,     P16N.2,     169,          2,          7,          7,2,20150613,       2215,    50.5002,  -152.0001,       4942,  2266.5,      1.8,  34.6138,2,  34.6133,2,     67.7,2,    68.2,2,  169.49,2,   41.64,2,       0,2,    2.87,2,-999.000,9,-999.000,9,-999.000,9,  2378.1,2,  2416.4,2,   7.4124,2,       25,-999.000,9,-999.0000,9, -999.00,9,  -999.0,9,  -999.0,-999.0000,9,-999.0000,    38.3,2,     -999.0,9,-999.000,9, 20150613,     2310,-999.000,      1.8,2,    34.7765,2,     -999.0,9,     -999.0,-999.0000,     -999.0,     -999.0,9,     -999.0,     -999.0,9,     -999.0,  -999.0,9,     -999.0,     -999.0,9,     -999.0
33RO20150525,     P16N.2,     169,          2,          6,          6,2,20150613,       2215,    50.5002,  -152.0001,       4942,  2666.9,   1.6583,  34.6401,2,  34.6392,2,     90.5,2,    91.2,2,  167.73,2,   40.07,2,       0,2,    2.76,2,-999.000,9,-999.000,9,-999.000,9,  2366.3,2,  2421.8,2,   7.4578,2,    24.97,-999.000,9,-999.0000,9, -999.00,9,  -999.0,9,  -999.0,-999.0000,9,-999.0000,    39.2,2,     -999.0,9,-999.000,9, 20150613,     2302,-999.000,   1.6584,2,    34.8025,2,     -999.0,9,     -999.0,-999.0000,     -999.0,     -999.0,9,     -999.0,     -999.0,9,     -999.0,  -999.0,9,     -999.0,     -999.0,9,     -999.0
33RO20150525,     P16N.2,     169,          2,          5,          5,2,20150613,       2215,    50.5002,  -152.0001,       4942,  3066.6,   1.5663,   34.658,2,  34.6575,2,    109.6,2,   110.2,2,  165.08,2,   38.71,2,    0.01,2,    2.67,2,-999.000,9,-999.000,9,-999.000,9,  2355.2,2,  2423.2,2,   7.4963,2,    24.97,-999.000,9,-999.0000,9, -999.00,9,  -999.0,9,  -999.0,-999.0000,9,-999.0000,    39.7,2,     -999.0,9,-999.000,9, 20150613,     2254,-999.000,   1.5665,2,    34.8209,2,     -999.0,9,     -999.0,-999.0000,     -999.0,     -999.0,9,     -999.0,     -999.0,9,     -999.0,  -999.0,9,     -999.0,     -999.0,9,     -999.0
33RO20150525,     P16N.2,     169,          2,          4,          4,2,20150613,       2215,    50.5002,  -152.0001,       4942,  3439.6,   1.5099,  34.6703,2,  34.6691,2,      125,2,   137.3,4,  162.74,6,   37.83,6,    0.01,6,    2.61,6,-999.000,9,-999.000,9,-999.000,9,  2344.8,2,  2422.8,2,   7.5264,6,    24.99,-999.000,9,-999.0000,9, -999.00,9,  -999.0,9,  -999.0,-999.0000,9,-999.0000,    40.0,2,     -999.0,9,-999.000,9, 20150613,     2246,-999.000,     1.51,2,    34.8326,2,     -999.0,9,     -999.0,-999.0000,     -999.0,     -999.0,9,     -999.0,     -999.0,9,     -999.0,  -999.0,9,     -999.0,     -999.0,9,     -999.0
33RO20150525,     P16N.2,     169,          2,          3,          3,2,20150613,       2215,    50.5002,  -152.0001,       4942,  3931.8,   1.4906,  34.6797,2,  34.6783,2,    135.8,2,   136.1,2,  162.35,6,   37.04,6,       0,6,    2.53,6,-999.000,9,-999.000,9,-999.000,9,  2337.1,2,    2426,2,   7.5507,6,    24.99,-999.000,9,-999.0000,9, -999.00,9,  -999.0,9,  -999.0,-999.0000,9,-999.0000,    39.4,2,     -999.0,9,-999.000,9, 20150613,     2237,-999.000,   1.4906,2,    34.8418,2,     -999.0,9,     -999.0,-999.0000,     -999.0,     -999.0,9,     -999.0,     -999.0,9,     -999.0,  -999.0,9,     -999.0,     -999.0,9,     -999.0
33RO20150525,     P16N.2,     169,          2,          2,          2,2,20150613,       2215,    50.5002,  -152.0001,       4942,  4332.8,   1.5112,  34.6836,2,   34.683,2,    140.1,2,   140.1,2,   164.2,6,   36.95,6,    0.01,6,    2.52,6,-999.000,9,-999.000,9,-999.000,9,  2337.2,2,  2428.8,2,   7.5608,2,    24.99,-999.000,9,-999.0000,9, -999.00,9,  -999.0,9,  -999.0,-999.0000,9,-999.0000,    39.4,2,     -999.0,9,-999.000,9, 20150613,     2229,-999.000,   1.5116,2,    34.8466,2,     -999.0,9,     -999.0,-999.0000,     -999.0,     -999.0,9,     -999.0,     -999.0,9,     -999.0,  -999.0,9,     -999.0,     -999.0,9,     -999.0
33RO20150525,     P16N.2,     169,          2,          1,          1,2,20150613,       2215,    50.5002,  -152.0001,       4942,  5027.9,   1.5842,  34.6866,2,  34.6846,2,    140.9,2,     144,4,   168.8,6,   36.55,6,    0.01,6,    2.52,6,-999.000,9,-999.000,9,-999.000,9,  2338.6,6,  2433.6,6,   7.5681,2,    24.99,-999.000,9,-999.0000,9, -999.00,9,  -999.0,9,  -999.0,-999.0000,9,-999.0000,    39.7,2,     -999.0,9,-999.000,9, 20150613,     2216,-999.000,   1.5845,2,    34.8481,6,     -999.0,9,     -999.0,-999.0000,     -999.0,     -999.0,9,     -999.0,     -999.0,9,     -999.0,  -999.0,9,     -999.0,     -999.0,9,     -999.0