BOTTLE,20220330CCHSIOCBG
EXPOCODE,SECT_ID,STNNBR,CASTNO,SAMPNO,BTLNBR,BTLNBR_FLAG_W,DATE,TIME,LATITUDE,LONGITUDE,DEPTH,CTDPRS,CTDTMP,CTDSAL,CTDSAL_FLAG_W,SALNTY,SALNTY_FLAG_W,CTDOXY,CTDOXY_FLAG_W,OXYGEN,OXYGEN_FLAG_W,SILCAT,SILCAT_FLAG_W,NITRAT,NITRAT_FLAG_W,NITRIT,NITRIT_FLAG_W,PHSPHT,PHSPHT_FLAG_W,CFC-11,CFC-11_FLAG_W,CFC-12,CFC-12_FLAG_W,SF6,SF6_FLAG_W,TCARBN,TCARBN_FLAG_W,ALKALI,ALKALI_FLAG_W,PH_TOT,PH_TOT_FLAG_W,PH_TMP,TRITUM,TRITUM_FLAG_W,HELIUM,HELIUM_FLAG_W,DELC13,DELC13_FLAG_W,DELC14,DELC14_FLAG_W,C14ERR,NEON,NEON_FLAG_W,NEONER,DOC,DOC_FLAG_W,N2O,N2O_FLAG_W,ARGON,ARGON_FLAG_W,BTL_DATE,BTL_TIME,TRITER,SBE35,SBE35_FLAG_W,SALTREF,SALTREF_FLAG_W,DELHE3,DELHE3_FLAG_W,DELHER,HELIER,ARGONER,KRYPTON,KRYPTON_FLAG_W,KRYPTONER,XENON,XENON_FLAG_W,XENONER,14C-DOC,14C-DOC_FLAG_W,14C-DOCERR,13C-DOC,13C-DOC_FLAG_W,13C-DOCERR
,,,,,,,,,,,METERS,DBAR,ITS-90,PSS-78,,PSS-78,,UMOL/KG,,UMOL/KG,,UMOL/KG,,UMOL/KG,,UMOL/KG,,UMOL/KG,,PMOL/KG,,PMOL/KG,,FMOL/KG,,UMOL/KG,,UMOL/KG,,,,DEG C,TU,,NMOL/KG,,/MILLE,,/MILLE,,/MILLE,NMOL/KG,,NMOL/KG,UMOL/KG,,NMOL/KG,,UMOL/KG,,,,TU,ITS-90,,G/KG,,PERCNT,,PERCNT,NMOL/KG,UMOL/KG,NMOL/KG,,NMOL/KG,NMOL/KG,,NMOL/KG,/MILLE,,/MILLE,/MILLE,,/MILLE
33RO20150525,     P16N.2,     158,          3,         24,         24,2,20150610,       1359,    45.0001,       -152,       5339,    16.2,  10.6352,  32.9587,2,   32.963,2,    293.3,2,   291.2,2,   11.16,2,    8.02,2,    0.09,2,    0.91,2,   3.695,6,   2.078,6,   2.465,6,  2036.5,6,  2213.1,2,   7.8286,6,    24.96,   0.495,2,-999.0000,9, -999.00,9,  -999.0,9,  -999.0,-999.0000,9,-999.0000,  -999.0,9,     10.926,3,-999.000,9, 20150610,     1557,   0.004,  10.7348,2,    33.1185,2,     -999.0,9,     -999.0,-999.0000,     -999.0,     -999.0,9,     -999.0,     -999.0,9,     -999.0,  -999.0,9,     -999.0,     -999.0,9,     -999.0
33RO20150525,     P16N.2,     158,          3,         23,         23,2,20150610,       1359,    45.0001,       -152,       5339,    51.1,   8.2535,  33.0102,2,  33.0126,2,    292.3,2,   292.9,2,   11.35,2,       9,2,    0.07,2,    0.96,2,   3.992,2,   2.225,2,   2.579,2,  2050.1,2,  2212.5,2,   7.7979,6,    25.02,-999.000,9,-999.0000,9, -999.00,9,  -999.0,9,  -999.0,-999.0000,9,-999.0000,  -999.0,9,     11.562,3,-999.000,9, 20150610,     1554,-999.000,   8.2422,2,    33.1682,2,     -999.0,9,     -999.0,-999.0000,     -999.0,     -999.0,9,     -999.0,     -999.0,9,     -999.0,  -999.0,9,     -999.0,     -999.0,9,     -999.0
33RO20150525,     P16N.2,     158,          3,         22,         22,2,20150610,       1359,    45.0001,       -152,       5339,    75.8,   7.9855,  33.1772,2,  33.1393,2,    282.5,2,   283.5,2,   11.55,2,    9.78,2,    0.19,2,       1,2,   3.982,2,   2.211,2,   2.577,2,  2060.9,2,  2217.5,6,   7.7823,2,    25.02,   0.505,2,   1.8125,2, -999.00,9,  -999.0,9,  -999.0,   7.7484,2,   0.0194,  -999.0,9,     11.885,3,-999.000,9, 20150610,     1553,   0.004,   7.9879,2,    33.2955,2,      -1.40,2,       0.20,   0.0047,     -999.0,     -999.0,9,     -999.0,     -999.0,9,     -999.0,  -999.0,9,     -999.0,     -999.0,9,     -999.0
33RO20150525,     P16N.2,     158,          3,         21,         21,2,20150610,       1359,    45.0001,       -152,       5339,    99.5,   7.9949,  33.7718,2,  33.7956,2,    250.4,2,   251.8,2,    17.9,2,   14.48,2,    0.01,2,    1.13,2,   3.748,2,   2.144,2,   2.392,2,  2104.6,2,  2248.8,2,   7.7358,2,    25.03,   0.455,2,-999.0000,9, -999.00,9,  -999.0,9,  -999.0,-999.0000,9,-999.0000,  -999.0,9,     13.400,3,-999.000,9, 20150610,     1551,   0.003,   7.9949,2,    33.9549,2,     -999.0,9,     -999.0,-999.0000,     -999.0,     -999.0,9,     -999.0,     -999.0,9,     -999.0,  -999.0,9,     -999.0,     -999.0,9,     -999.0
33RO20150525,     P16N.2,     158,          3,         20,         20,2,20150610,       1359,    45.0001,       -152,       5339,   148.9,   7.6771,  33.8882,2,  33.8897,2,    225.7,2,   228.5,2,   25.62,2,   18.39,2,    0.01,2,    1.36,2,   3.649,2,   2.064,2,   2.133,2,  2132.5,2,  2259.1,2,   7.6907,2,    24.99,   0.475,2,   1.8051,2, -999.00,9,  -999.0,9,  -999.0,   7.7286,2,   0.0193,  -999.0,9,     17.462,3,-999.000,9, 20150610,     1549,   0.005,    7.677,2,    34.0495,2,       0.53,2,       0.20,   0.0047,     -999.0,     -999.0,9,     -999.0,     -999.0,9,     -999.0,  -999.0,9,     -999.0,     -999.0,9,     -999.0
33RO20150525,     P16N.2,     158,          3,         19,         19,2,20150610,       1359,    45.0001,       -152,       5339,   224.2,   6.7903,  33.9081,2,  33.9108,2,    177.4,2,     181,2,      40,2,   24.55,2,    0.01,2,    1.77,2,   3.322,2,   1.819,2,   1.644,2,  2178.9,2,  2269.6,2,   7.5937,2,    25.03,-999.000,9,-999.0000,9, -999.00,9,  -999.0,9,  -999.0,-999.0000,9,-999.0000,  -999.0,9,     26.226,3,-999.000,9, 20150610,     1547,-999.000,   6.7876,2,    34.0707,2,     -999.0,9,     -999.0,-999.0000,     -999.0,     -999.0,9,     -999.0,     -999.0,9,     -999.0,  -999.0,9,     -999.0,     -999.0,9,     -999.0
33RO20150525,     P16N.2,     158,          3,         18,         18,2,20150610,       1359,    45.0001,       -152,       5339,   300.2,    5.552,  33.9076,2,   33.907,2,    131.4,2,   131.6,2,   58.09,2,   31.59,2,       0,2,    2.25,2,   2.885,2,    1.54,2,   1.079,2,  2230.9,2,  2283.3,2,    7.472,2,    25.03,-999.000,9,   1.8307,2, -999.00,9,  -999.0,9,  -999.0,   7.8772,2,   0.0197,  -999.0,9,     30.360,3,-999.000,9, 20150610,     1544,-999.000,   5.5458,2,    34.0668,2,       8.63,2,       0.20,   0.0048,     -999.0,     -999.0,9,     -999.0,     -999.0,9,     -999.0,  -999.0,9,     -999.0,     -999.0,9,     -999.0
33RO20150525,     P16N.2,     158,          3,         17,         17,2,20150610,       1359,    45.0001,       -152,       5339,   400.1,   4.6574,  33.9478,2,  33.9471,2,       94,2,    94.6,2,   75.01,2,   36.67,2,    0.01,2,     2.6,2,   2.347,2,   1.221,2,    0.74,2,  2272.6,2,  2296.2,2,   7.3837,2,    24.97,   0.274,2,   1.8453,2, -999.00,9,  -999.0,9,  -999.0,   7.9281,2,   0.0198,  -999.0,9,     33.794,3,-999.000,9, 20150610,     1542,   0.004,   4.6544,2,    34.1072,2,      11.65,2,       0.20,   0.0048,     -999.0,     -999.0,9,     -999.0,     -999.0,9,     -999.0,  -999.0,9,     -999.0,     -999.0,9,     -999.0
33RO20150525,     P16N.2,     158,          3,         16,         16,2,20150610,       1359,    45.0001,       -152,       5339,     500,   4.2774,  34.0427,2,  34.0443,2,     64.8,2,    64.6,2,   89.18,2,    39.7,2,       0,2,    2.81,2,   1.662,2,   0.845,2,   0.465,2,  2302.3,2,  2311.3,2,   7.3349,2,    25.04,   0.228,2,-999.0000,9, -999.00,9,  -999.0,9,  -999.0,-999.0000,9,-999.0000,  -999.0,9,     37.938,3,-999.000,9, 20150610,     1539,   0.003,   4.2778,2,    34.2048,2,     -999.0,9,     -999.0,-999.0000,     -999.0,     -999.0,9,     -999.0,     -999.0,9,     -999.0,  -999.0,9,     -999.0,     -999.0,9,     -999.0
33RO20150525,     P16N.2,     158,          3,         15,         15,2,20150610,       1359,    45.0001,       -152,       5339,     652,   3.9035,  34.1658,2,  34.1635,2,     37.9,2,    37.6,2,   105.7,2,   41.95,2,    0.01,2,    2.94,2,   0.921,2,    0.45,2,   0.213,2,    2333,2,  2332.7,2,   7.3049,2,    25.01,   0.170,2,   1.8652,2, -999.00,9,  -999.0,9,  -999.0,   7.9850,2,   0.0200,  -999.0,9,     42.593,3,-999.000,9, 20150610,     1535,   0.002,   3.9024,2,    34.3246,6,      16.22,2,       0.20,   0.0048,     -999.0,     -999.0,9,     -999.0,     -999.0,9,     -999.0,  -999.0,9,     -999.0,     -999.0,9,     -999.0
33RO20150525,     P16N.2,     158,          3,         14,         14,2,20150610,       1359,    45.0001,       -152,       5339,     800,   3.4911,  34.2665,2,  34.2725,2,     27.2,2,    27.1,2,  120.65,2,   43.02,2,       0,2,    3.02,2,   0.441,6,   0.214,6,   0.088,6,  2355.2,2,  2353.3,2,   7.2968,2,    25.03,-999.000,9,   1.8747,2, -999.00,9,  -999.0,9,  -999.0,   8.0230,2,   0.0201,  -999.0,9,     45.009,3,-999.000,9, 20150610,     1531,-999.000,   3.4904,2,    34.4341,2,      16.87,2,       0.20,   0.0049,     -999.0,     -999.0,9,     -999.0,     -999.0,9,     -999.0,  -999.0,9,     -999.0,     -999.0,9,     -999.0
33RO20150525,     P16N.2,     158,          3,         13,         13,2,20150610,       1359,    45.0001,       -152,       5339,   951.5,   3.1606,   34.338,2,  34.3362,2,     22.3,2,    22.1,2,  131.79,2,    43.7,2,       0,2,    3.06,2,   0.208,2,   0.099,2,   0.032,2,  2370.1,2,  2366.9,2,   7.2971,2,    25.03,   0.069,2,   1.8872,2, -999.00,9,  -999.0,9,  -999.0,   8.0671,2,   0.0202,  -999.0,9,     46.041,3,-999.000,9, 20150610,     1527,   0.004,     3.16,2,    34.4981,2,      17.23,2,       0.20,   0.0049,     -999.0,     -999.0,9,     -999.0,     -999.0,9,     -999.0,  -999.0,9,     -999.0,     -999.0,9,     -999.0
33RO20150525,     P16N.2,     158,          3,         12,         12,2,20150610,       1359,    45.0001,       -152,       5339,  1101.9,   2.8812,  34.3921,2,  34.3904,2,       20,2,    19.9,2,  140.77,2,   44.09,2,       0,2,    3.09,2,   0.105,2,    0.05,2,       0,2,  2379.8,2,  2377.5,2,    7.298,2,    25.02,   0.029,2,   1.9107,2, -999.00,9,  -999.0,9,  -999.0,   8.1453,2,   0.0204,  -999.0,9,     46.944,3,-999.000,9, 20150610,     1524,   0.002,   2.8804,2,    34.5525,2,      17.18,2,       0.20,   0.0050,     -999.0,     -999.0,9,     -999.0,     -999.0,9,     -999.0,  -999.0,9,     -999.0,     -999.0,9,     -999.0
33RO20150525,     P16N.2,     158,          3,         11,         11,2,20150610,       1359,    45.0001,       -152,       5339,  1300.9,   2.5732,  34.4549,2,  34.4554,2,     17.1,2,    18.4,2,  151.03,2,   44.67,2,       0,2,    3.11,2,   0.026,2,   0.013,2,       0,2,  2392.1,2,  2390.7,2,   7.2984,6,    25.02,   0.008,2,   1.9017,2, -999.00,9,  -999.0,9,  -999.0,   8.0729,2,   0.0202,  -999.0,9,     47.525,3,-999.000,9, 20150610,     1519,   0.001,   2.5728,2,    34.6178,2,      17.99,2,       0.20,   0.0049,     -999.0,     -999.0,9,     -999.0,     -999.0,9,     -999.0,  -999.0,9,     -999.0,     -999.0,9,     -999.0
33RO20150525,     P16N.2,     158,          3,         10,         10,2,20150610,       1359,    45.0001,       -152,       5339,  1601.4,   2.2615,  34.5227,2,  34.5209,2,     23.3,2,    23.5,2,     161,2,   44.48,2,       0,2,    3.07,2,   0.002,2,   0.001,2,       0,2,  2399.4,2,  2403.8,2,   7.3179,2,    24.96,  -0.002,2,   1.9145,2, -999.00,9,  -999.0,9,  -999.0,   8.1240,2,   0.0203,  -999.0,9,     43.930,3,-999.000,9, 20150610,     1513,   0.001,    2.261,2,    34.6837,2,      19.36,2,       0.20,   0.0050,     -999.0,     -999.0,9,     -999.0,     -999.0,9,     -999.0,  -999.0,9,     -999.0,     -999.0,9,     -999.0
33RO20150525,     P16N.2,     158,          3,          9,          9,2,20150610,       1359,    45.0001,       -152,       5339,  2000.4,   1.9629,  34.5869,2,  34.5875,2,     49.6,2,    49.4,2,  167.34,2,   42.81,2,       0,2,    2.96,2,-999.000,9,-999.000,9,-999.000,9,  2388.9,6,  2415.6,2,   7.3752,2,    24.99,  -0.001,2,   1.9176,2, -999.00,9,  -999.0,9,  -999.0,   8.1220,2,   0.0203,  -999.0,9,     -999.0,9,-999.000,9, 20150610,     1505,   0.001,   1.9624,2,    34.7506,2,      21.36,2,       0.20,   0.0050,     -999.0,     -999.0,9,     -999.0,     -999.0,9,     -999.0,  -999.0,9,     -999.0,     -999.0,9,     -999.0
33RO20150525,     P16N.2,     158,          3,          8,          8,2,20150610,       1359,    45.0001,       -152,       5339,  2402.2,   1.7675,  34.6241,2,  34.6366,4,     72.2,2,    73.4,2,  168.31,2,   41.35,2,       0,2,    2.86,2,   0.001,2,       0,2,   0.004,4,  2378.5,2,  2420.2,2,   7.4239,2,    25.03,   0.009,2,   1.9156,2, -999.00,9,  -999.0,9,  -999.0,   8.1457,2,   0.0204,  -999.0,9,     30.639,3,-999.000,9, 20150610,     1457,   0.002,   1.7674,2,       34.8,2,      20.26,2,       0.20,   0.0050,     -999.0,     -999.0,9,     -999.0,     -999.0,9,     -999.0,  -999.0,9,     -999.0,     -999.0,9,     -999.0
33RO20150525,     P16N.2,     158,          3,          7,          7,2,20150610,       1359,    45.0001,       -152,       5339,  2800.1,   1.6277,  34.6481,2,  34.6537,4,     96.4,2,    95.6,2,  166.06,2,   39.78,2,       0,2,    2.76,2,-999.000,9,-999.000,9,-999.000,9,  2365.1,2,  2421.6,2,   7.4694,2,       25,-999.000,9,-999.0000,9, -999.00,9,  -999.0,9,  -999.0,-999.0000,9,-999.0000,  -999.0,9,     -999.0,9,-999.000,9, 20150610,     1449,-999.000,   1.6278,2,    34.8171,2,     -999.0,9,     -999.0,-999.0000,     -999.0,     -999.0,9,     -999.0,     -999.0,9,     -999.0,  -999.0,9,     -999.0,     -999.0,9,     -999.0
33RO20150525,     P16N.2,     158,          3,          6,          6,2,20150610,       1359,    45.0001,       -152,       5339,  3302.8,   1.5232,  34.6678,2,  34.6712,2,      120,2,   120.7,2,  161.08,2,   38.12,2,       0,2,    2.63,2,       0,2,  -0.001,2,       0,2,    2349,2,    2422,2,    7.517,2,       25,-999.000,9,-999.0000,9, -999.00,9,  -999.0,9,  -999.0,-999.0000,9,-999.0000,  -999.0,9,     23.693,3,-999.000,9, 20150610,     1440,-999.000,   1.5227,2,    34.8347,2,     -999.0,9,     -999.0,-999.0000,     -999.0,     -999.0,9,     -999.0,     -999.0,9,     -999.0,  -999.0,9,     -999.0,     -999.0,9,     -999.0
33RO20150525,     P16N.2,     158,          3,          5,          5,2,20150610,       1359,    45.0001,       -152,       5339,  3671.2,   1.4852,  34.6771,2,  34.6772,2,    133.3,2,   133.6,2,  157.56,2,   37.24,2,       0,2,    2.55,2,-999.000,9,-999.000,9,-999.000,9,  2338.2,2,  2422.8,2,   7.5426,3,    25.02,-999.000,9,-999.0000,9, -999.00,9,  -999.0,9,  -999.0,-999.0000,9,-999.0000,  -999.0,9,     -999.0,9,-999.000,9, 20150610,     1433,-999.000,    1.485,2,    34.8407,6,     -999.0,9,     -999.0,-999.0000,     -999.0,     -999.0,9,     -999.0,     -999.0,9,     -999.0,  -999.0,9,     -999.0,     -999.0,9,     -999.0
33RO20150525,     P16N.2,     158,          3,          4,          4,2,20150610,       1359,    45.0001,       -152,       5339,  3802.1,   1.4783,  34.6798,2,  34.6813,2,    136.4,2,   137.1,2,  157.36,6,   37.04,6,       0,6,    2.55,6,  -0.001,2,       0,2,       0,2,  2336.7,2,  2422.6,2,   7.5467,2,    25.02,-999.000,9,-999.0000,9, -999.00,9,  -999.0,9,  -999.0,-999.0000,9,-999.0000,  -999.0,9,     22.022,3,-999.000,9, 20150610,     1430,-999.000,    1.478,2,    34.8448,2,     -999.0,9,     -999.0,-999.0000,     -999.0,     -999.0,9,     -999.0,     -999.0,9,     -999.0,  -999.0,9,     -999.0,     -999.0,9,     -999.0
33RO20150525,     P16N.2,     158,          3,          3,          3,2,20150610,       1359,    45.0001,       -152,       5339,  4299.6,   1.4927,  34.6859,2,   34.685,2,    142.6,2,   141.9,2,     160,6,   36.75,6,       0,6,    2.52,6,-999.000,9,-999.000,9,-999.000,9,  2335.4,2,  2428.4,2,   7.5638,6,    25.04,-999.000,9,-999.0000,9, -999.00,9,  -999.0,9,  -999.0,-999.0000,9,-999.0000,  -999.0,9,     -999.0,9,-999.000,9, 20150610,     1421,-999.000,   1.4927,2,    34.8485,2,     -999.0,9,     -999.0,-999.0000,     -999.0,     -999.0,9,     -999.0,     -999.0,9,     -999.0,  -999.0,9,     -999.0,     -999.0,9,     -999.0
33RO20150525,     P16N.2,     158,          3,          2,          2,2,20150610,       1359,    45.0001,       -152,       5339,  4821.1,   1.5451,  34.6882,2,  34.6866,2,    142.7,2,   143.7,2,  163.22,6,   36.65,6,       0,6,    2.51,6,   0.001,6,       0,6,       0,6,  2337.8,2,  2431.6,6,   7.5688,6,    25.02,-999.000,9,-999.0000,9, -999.00,9,  -999.0,9,  -999.0,-999.0000,9,-999.0000,  -999.0,9,     21.627,3,-999.000,9, 20150610,     1410,-999.000,   1.5452,2,    34.8501,2,     -999.0,9,     -999.0,-999.0000,     -999.0,     -999.0,9,     -999.0,     -999.0,9,     -999.0,  -999.0,9,     -999.0,     -999.0,9,     -999.0
33RO20150525,     P16N.2,     158,          3,          1,          1,2,20150610,       1359,    45.0001,       -152,       5339,  5441.2,   1.6235,  34.6889,2,  34.6877,2,    144.2,2,   144.2,2,   164.1,6,   36.65,6,       0,6,    2.51,6,   0.003,2,   0.003,2,       0,2,  2336.9,6,  2430.2,2,    7.569,2,    25.04,-999.000,9,-999.0000,9, -999.00,9,  -999.0,9,  -999.0,-999.0000,9,-999.0000,  -999.0,9,     21.260,3,-999.000,9, 20150610,     1359,-999.000,   1.6234,2,    34.8513,2,     -999.0,9,     -999.0,-999.0000,     -999.0,     -999.0,9,     -999.0,     -999.0,9,     -999.0,  -999.0,9,     -999.0,     -999.0,9,     -999.0