BOTTLE,20220330CCHSIOCBG
EXPOCODE,SECT_ID,STNNBR,CASTNO,SAMPNO,BTLNBR,BTLNBR_FLAG_W,DATE,TIME,LATITUDE,LONGITUDE,DEPTH,CTDPRS,CTDTMP,CTDSAL,CTDSAL_FLAG_W,SALNTY,SALNTY_FLAG_W,CTDOXY,CTDOXY_FLAG_W,OXYGEN,OXYGEN_FLAG_W,SILCAT,SILCAT_FLAG_W,NITRAT,NITRAT_FLAG_W,NITRIT,NITRIT_FLAG_W,PHSPHT,PHSPHT_FLAG_W,CFC-11,CFC-11_FLAG_W,CFC-12,CFC-12_FLAG_W,SF6,SF6_FLAG_W,TCARBN,TCARBN_FLAG_W,ALKALI,ALKALI_FLAG_W,PH_TOT,PH_TOT_FLAG_W,PH_TMP,TRITUM,TRITUM_FLAG_W,HELIUM,HELIUM_FLAG_W,DELC13,DELC13_FLAG_W,DELC14,DELC14_FLAG_W,C14ERR,NEON,NEON_FLAG_W,NEONER,DOC,DOC_FLAG_W,N2O,N2O_FLAG_W,ARGON,ARGON_FLAG_W,BTL_DATE,BTL_TIME,TRITER,SBE35,SBE35_FLAG_W,SALTREF,SALTREF_FLAG_W,DELHE3,DELHE3_FLAG_W,DELHER,HELIER,ARGONER,KRYPTON,KRYPTON_FLAG_W,KRYPTONER,XENON,XENON_FLAG_W,XENONER,14C-DOC,14C-DOC_FLAG_W,14C-DOCERR,13C-DOC,13C-DOC_FLAG_W,13C-DOCERR
,,,,,,,,,,,METERS,DBAR,ITS-90,PSS-78,,PSS-78,,UMOL/KG,,UMOL/KG,,UMOL/KG,,UMOL/KG,,UMOL/KG,,UMOL/KG,,PMOL/KG,,PMOL/KG,,FMOL/KG,,UMOL/KG,,UMOL/KG,,,,DEG C,TU,,NMOL/KG,,/MILLE,,/MILLE,,/MILLE,NMOL/KG,,NMOL/KG,UMOL/KG,,NMOL/KG,,UMOL/KG,,,,TU,ITS-90,,G/KG,,PERCNT,,PERCNT,NMOL/KG,UMOL/KG,NMOL/KG,,NMOL/KG,NMOL/KG,,NMOL/KG,/MILLE,,/MILLE,/MILLE,,/MILLE
33RO20150525,     P16N.2,     124,          1,         24,         24,2,20150530,       1925,    28.0001,  -151.9996,       5527,       3,  22.6482,  35.4642,2,  35.4739,2,    216.3,2,     218,2,    1.17,2,       0,2,       0,2,    0.04,2,   1.893,6,   1.171,6,   1.529,6,  2033.2,6,  2333.3,2,   8.0327,6,    25.03,-999.000,9,-999.0000,9, -999.00,9,  -999.0,9,  -999.0,-999.0000,9,-999.0000,  -999.0,9,      6.988,3,-999.000,9, 20150530,     2133,-999.000,  22.6492,2,    35.6411,2,     -999.0,9,     -999.0,-999.0000,     -999.0,     -999.0,9,     -999.0,     -999.0,9,     -999.0,  -999.0,9,     -999.0,     -999.0,9,     -999.0
33RO20150525,     P16N.2,     124,          1,         23,         23,2,20150530,       1925,    28.0001,  -151.9996,       5527,    23.7,  22.3925,  35.4515,2,  35.4571,2,    218.1,2,   218.3,2,    1.17,2,       0,2,       0,2,    0.03,2,   1.928,2,    1.18,2,   1.509,2,  2035.6,2,  2332.3,6,   8.0306,2,    25.02,-999.000,9,-999.0000,9, -999.00,9,  -999.0,9,  -999.0,-999.0000,9,-999.0000,  -999.0,9,      7.082,3,-999.000,9, 20150530,     2131,-999.000,  22.3966,2,    35.6243,2,     -999.0,9,     -999.0,-999.0000,     -999.0,     -999.0,9,     -999.0,     -999.0,9,     -999.0,  -999.0,9,     -999.0,     -999.0,9,     -999.0
33RO20150525,     P16N.2,     124,          1,         22,         22,2,20150530,       1925,    28.0001,  -151.9996,       5527,    51.1,  21.5436,  35.3966,2,  35.3954,2,    222.3,2,   222.8,2,    1.27,2,       0,2,       0,2,    0.03,2,   1.979,2,   1.211,2,   1.559,2,  2036.5,2,  2328.5,2,   8.0256,2,    25.03,-999.000,9,-999.0000,9, -999.00,9,  -999.0,9,  -999.0,-999.0000,9,-999.0000,  -999.0,9,      7.270,3,-999.000,9, 20150530,     2129,-999.000,  21.5319,2,    35.5623,2,     -999.0,9,     -999.0,-999.0000,     -999.0,     -999.0,9,     -999.0,     -999.0,9,     -999.0,  -999.0,9,     -999.0,     -999.0,9,     -999.0
33RO20150525,     P16N.2,     124,          1,         21,         21,2,20150530,       1925,    28.0001,  -151.9996,       5527,    80.7,  20.6417,  35.2976,2,  35.3173,3,    226.3,2,   226.4,2,    1.46,2,       0,2,       0,2,    0.02,2,   2.072,2,   1.254,2,   1.587,2,    2036,2,  2321.6,2,   8.0132,6,    25.03,-999.000,9,-999.0000,9, -999.00,9,  -999.0,9,  -999.0,-999.0000,9,-999.0000,  -999.0,9,      7.419,3,-999.000,9, 20150530,     2126,-999.000,   20.631,2,    35.4839,2,     -999.0,9,     -999.0,-999.0000,     -999.0,     -999.0,9,     -999.0,     -999.0,9,     -999.0,  -999.0,9,     -999.0,     -999.0,9,     -999.0
33RO20150525,     P16N.2,     124,          1,         20,         20,2,20150530,       1925,    28.0001,  -151.9996,       5527,   130.6,  19.1826,  35.1431,2,  35.1489,2,    219.6,2,   219.4,2,    1.95,2,     0.2,2,    0.27,2,    0.08,2,   2.179,2,   1.324,2,   1.465,3,  2042.3,2,  2308.1,2,    7.985,6,    25.04,-999.000,9,-999.0000,9, -999.00,9,  -999.0,9,  -999.0,-999.0000,9,-999.0000,  -999.0,9,      7.949,3,-999.000,9, 20150530,     2123,-999.000,  19.1869,2,    35.3146,2,     -999.0,9,     -999.0,-999.0000,     -999.0,     -999.0,9,     -999.0,     -999.0,9,     -999.0,  -999.0,9,     -999.0,     -999.0,9,     -999.0
33RO20150525,     P16N.2,     124,          1,         19,         19,2,20150530,       1925,    28.0001,  -151.9996,       5527,   201.3,  16.9101,  34.7815,2,  34.7737,2,    218.8,2,   216.8,2,    3.32,2,    2.44,2,    0.02,2,    0.21,2,   2.445,2,   1.463,2,   1.776,2,  2047.2,2,  2283.7,6,   7.9324,2,    25.08,-999.000,9,-999.0000,9, -999.00,9,  -999.0,9,  -999.0,-999.0000,9,-999.0000,  -999.0,9,      9.173,3,-999.000,9, 20150530,     2121,-999.000,  16.9277,2,    34.9376,2,     -999.0,9,     -999.0,-999.0000,     -999.0,     -999.0,9,     -999.0,     -999.0,9,     -999.0,  -999.0,9,     -999.0,     -999.0,9,     -999.0
33RO20150525,     P16N.2,     124,          1,         18,         18,2,20150530,       1925,    28.0001,  -151.9996,       5527,   276.7,  12.5231,  34.2179,2,  34.2184,2,    209.6,2,   209.7,2,    9.57,2,   10.25,2,       0,2,    0.73,2,   3.042,2,   1.755,2,   1.764,2,  2081.1,2,  2253.4,2,   7.8089,2,    25.08,-999.000,9,-999.0000,9, -999.00,9,  -999.0,9,  -999.0,-999.0000,9,-999.0000,  -999.0,9,     13.960,3,-999.000,9, 20150530,     2118,-999.000,  12.5263,2,    34.3798,2,     -999.0,9,     -999.0,-999.0000,     -999.0,     -999.0,9,     -999.0,     -999.0,9,     -999.0,  -999.0,9,     -999.0,     -999.0,9,     -999.0
33RO20150525,     P16N.2,     124,          1,         17,         17,2,20150530,       1925,    28.0001,  -151.9996,       5527,   368.7,  10.5363,  34.1402,2,  34.1403,2,    210.2,2,   208.5,2,   15.63,2,   14.65,2,    0.01,2,    1.04,2,    3.29,2,   1.866,2,   1.536,2,  2107.6,2,  2257.6,2,   7.7508,2,    25.09,-999.000,9,-999.0000,9, -999.00,9,  -999.0,9,  -999.0,-999.0000,9,-999.0000,  -999.0,9,     17.738,3,-999.000,9, 20150530,     2115,-999.000,  10.5379,2,    34.3013,2,     -999.0,9,     -999.0,-999.0000,     -999.0,     -999.0,9,     -999.0,     -999.0,9,     -999.0,  -999.0,9,     -999.0,     -999.0,9,     -999.0
33RO20150525,     P16N.2,     124,          1,         16,         16,2,20150530,       1925,    28.0001,  -151.9996,       5527,   468.5,   8.4871,  34.0432,2,  34.0393,2,    181.4,2,   178.5,2,   28.91,2,   21.78,2,       0,2,    1.51,2,   3.265,6,   1.774,6,    1.23,6,  2155.3,2,  2263.4,2,   7.6462,2,    25.06,-999.000,9,-999.0000,9, -999.00,9,  -999.0,9,  -999.0,-999.0000,9,-999.0000,  -999.0,9,     23.003,3,-999.000,9, 20150530,     2112,-999.000,   8.5204,2,    34.1998,2,     -999.0,9,     -999.0,-999.0000,     -999.0,     -999.0,9,     -999.0,     -999.0,9,     -999.0,  -999.0,9,     -999.0,     -999.0,9,     -999.0
33RO20150525,     P16N.2,     124,          1,         15,         15,2,20150530,       1925,    28.0001,  -151.9996,       5527,     601,   5.9294,  34.0133,2,  34.0208,2,     96.5,2,    90.7,2,   61.63,2,   34.57,2,       0,2,    2.44,2,   1.958,2,    0.97,2,   0.414,2,  2251.3,2,  2289.6,2,   7.4244,2,    25.04,-999.000,9,-999.0000,9, -999.00,9,  -999.0,9,  -999.0,-999.0000,9,-999.0000,  -999.0,9,     33.306,3,-999.000,9, 20150530,     2109,-999.000,   5.9274,2,    34.1813,2,     -999.0,9,     -999.0,-999.0000,     -999.0,     -999.0,9,     -999.0,     -999.0,9,     -999.0,  -999.0,9,     -999.0,     -999.0,9,     -999.0
33RO20150525,     P16N.2,     124,          1,         14,         14,2,20150530,       1925,    28.0001,  -151.9996,       5527,   751.9,   4.5955,  34.1278,2,  34.1286,2,     38.2,2,    39.1,2,   89.94,2,   40.92,2,       0,2,     2.9,2,   0.628,2,   0.306,2,   0.079,2,  2315.3,2,  2317.5,2,   7.3192,2,    25.06,-999.000,9,-999.0000,9, -999.00,9,  -999.0,9,  -999.0,-999.0000,9,-999.0000,  -999.0,9,     42.480,3,-999.000,9, 20150530,     2105,-999.000,   4.5942,2,    34.2896,2,     -999.0,9,     -999.0,-999.0000,     -999.0,     -999.0,9,     -999.0,     -999.0,9,     -999.0,  -999.0,9,     -999.0,     -999.0,9,     -999.0
33RO20150525,     P16N.2,     124,          1,         13,         13,2,20150530,       1925,    28.0001,  -151.9996,       5527,   900.3,   3.9294,  34.2806,2,  34.2816,2,     17.3,2,    18.6,2,  111.12,2,   43.45,2,       0,2,    3.08,2,   0.085,2,   0.045,2,       0,2,  2351.8,2,  2348.7,2,   7.2934,2,    25.04,-999.000,9,-999.0000,9, -999.00,9,  -999.0,9,  -999.0,-999.0000,9,-999.0000,  -999.0,9,     48.152,3,-999.000,9, 20150530,     2101,-999.000,   3.9286,2,    34.4433,2,     -999.0,9,     -999.0,-999.0000,     -999.0,     -999.0,9,     -999.0,     -999.0,9,     -999.0,  -999.0,9,     -999.0,     -999.0,9,     -999.0
33RO20150525,     P16N.2,     124,          1,         12,         12,2,20150530,       1925,    28.0001,  -151.9996,       5527,  1048.7,    3.534,  34.4061,2,  34.4058,2,     22.9,2,    23.9,2,  122.05,2,   43.55,2,       0,2,    3.08,2,   0.015,2,   0.008,2,       0,2,  2364.4,2,  2367.5,2,   7.3192,2,    25.04,-999.000,9,-999.0000,9, -999.00,9,  -999.0,9,  -999.0,-999.0000,9,-999.0000,  -999.0,9,     46.658,3,-999.000,9, 20150530,     2057,-999.000,   3.5339,2,     34.568,2,     -999.0,9,     -999.0,-999.0000,     -999.0,     -999.0,9,     -999.0,     -999.0,9,     -999.0,  -999.0,9,     -999.0,     -999.0,9,     -999.0
33RO20150525,     P16N.2,     124,          1,         11,         11,2,20150530,       1925,    28.0001,  -151.9996,       5527,  1234.1,   3.1516,  34.4913,2,  34.4891,2,     37.7,2,    38.6,2,  129.95,2,   42.86,2,       0,2,    3.01,2,   0.004,2,   0.004,2,       0,2,  2365.8,2,  2383.5,2,   7.3574,6,    25.04,-999.000,9,-999.0000,9, -999.00,9,  -999.0,9,  -999.0,-999.0000,9,-999.0000,  -999.0,9,     41.576,3,-999.000,9, 20150530,     2052,-999.000,   3.1524,2,    34.6517,2,     -999.0,9,     -999.0,-999.0000,     -999.0,     -999.0,9,     -999.0,     -999.0,9,     -999.0,  -999.0,9,     -999.0,     -999.0,9,     -999.0
33RO20150525,     P16N.2,     124,          1,         10,         10,2,20150530,       1925,    28.0001,  -151.9996,       5527,    1501,   2.6622,  34.5542,2,  34.5543,2,     56.9,2,    57.5,2,   140.1,2,   41.88,2,       0,2,    2.94,2,   0.001,2,   0.002,2,       0,2,  2367.5,2,  2400.2,2,   7.3989,2,    24.99,-999.000,9,-999.0000,9, -999.00,9,  -999.0,9,  -999.0,-999.0000,9,-999.0000,  -999.0,9,     35.877,3,-999.000,9, 20150530,     2046,-999.000,   2.6644,2,    34.7173,2,     -999.0,9,     -999.0,-999.0000,     -999.0,     -999.0,9,     -999.0,     -999.0,9,     -999.0,  -999.0,9,     -999.0,     -999.0,9,     -999.0
33RO20150525,     P16N.2,     124,          1,          9,          9,2,20150530,       1925,    28.0001,  -151.9996,       5527,    1867,   2.1733,  34.6012,2,  34.5999,2,     75.6,2,    75.6,2,  151.71,2,   40.81,2,       0,2,    2.85,2,   0.001,2,   0.001,2,       0,2,  2367.3,6,  2411.8,2,   7.4359,6,       25,-999.000,9,-999.0000,9, -999.00,9,  -999.0,9,  -999.0,-999.0000,9,-999.0000,  -999.0,9,     31.034,3,-999.000,9, 20150530,     2039,-999.000,   2.1731,2,    34.7631,2,     -999.0,9,     -999.0,-999.0000,     -999.0,     -999.0,9,     -999.0,     -999.0,9,     -999.0,  -999.0,9,     -999.0,     -999.0,9,     -999.0
33RO20150525,     P16N.2,     124,          1,          8,          8,2,20150530,       1925,    28.0001,  -151.9996,       5527,  2333.5,   1.8097,  34.6382,2,  34.6667,4,       93,2,    93.2,2,  161.27,2,   39.73,2,    0.01,2,    2.76,2,   0.002,2,   0.001,2,       0,2,  2367.2,2,  2424.2,2,   7.4719,2,    24.98,-999.000,9,-999.0000,9, -999.00,9,  -999.0,9,  -999.0,-999.0000,9,-999.0000,  -999.0,9,     26.924,3,-999.000,9, 20150530,     2030,-999.000,   1.8098,2,    34.8302,2,     -999.0,9,     -999.0,-999.0000,     -999.0,     -999.0,9,     -999.0,     -999.0,9,     -999.0,  -999.0,9,     -999.0,     -999.0,9,     -999.0
33RO20150525,     P16N.2,     124,          1,          7,          7,2,20150530,       1925,    28.0001,  -151.9996,       5527,    2833,   1.5994,  34.6612,2,  34.6612,2,    116.2,2,   116.5,2,  159.12,2,   38.37,2,    0.01,2,    2.64,2,   0.002,2,   0.002,2,       0,2,  2352.1,2,  2424.4,2,   7.5142,2,    24.98,-999.000,9,-999.0000,9, -999.00,9,  -999.0,9,  -999.0,-999.0000,9,-999.0000,  -999.0,9,     23.841,3,-999.000,9, 20150530,     2020,-999.000,   1.5992,2,    34.8247,2,     -999.0,9,     -999.0,-999.0000,     -999.0,     -999.0,9,     -999.0,     -999.0,9,     -999.0,  -999.0,9,     -999.0,     -999.0,9,     -999.0
33RO20150525,     P16N.2,     124,          1,          6,          6,2,20150530,       1925,    28.0001,  -151.9996,       5527,  3334.1,   1.5162,  34.6741,2,  34.6799,4,    130.7,2,   130.2,2,     156,2,   37.39,2,       0,2,    2.56,2,  -0.001,2,       0,2,       0,2,  2344.6,2,  2423.2,3,   7.5407,2,    25.01,-999.000,9,-999.0000,9, -999.00,9,  -999.0,9,  -999.0,-999.0000,9,-999.0000,  -999.0,9,     22.155,3,-999.000,9, 20150530,     2011,-999.000,   1.5162,2,    34.8434,2,     -999.0,9,     -999.0,-999.0000,     -999.0,     -999.0,9,     -999.0,     -999.0,9,     -999.0,  -999.0,9,     -999.0,     -999.0,9,     -999.0
33RO20150525,     P16N.2,     124,          1,          5,          5,2,20150530,       1925,    28.0001,  -151.9996,       5527,  3834.1,   1.4876,  34.6817,2,  34.6816,2,    140.9,2,   141.3,2,  152.38,2,    36.7,2,       0,2,    2.51,2,   0.004,2,   0.003,2,       0,2,  2335.1,2,  2425.2,2,   7.5589,2,    24.98,-999.000,9,-999.0000,9, -999.00,9,  -999.0,9,  -999.0,-999.0000,9,-999.0000,  -999.0,9,     21.188,3,-999.000,9, 20150530,     2001,-999.000,   1.4876,2,    34.8451,2,     -999.0,9,     -999.0,-999.0000,     -999.0,     -999.0,9,     -999.0,     -999.0,9,     -999.0,  -999.0,9,     -999.0,     -999.0,9,     -999.0
33RO20150525,     P16N.2,     124,          1,          4,          4,2,20150530,       1925,    28.0001,  -151.9996,       5527,  4333.5,   1.4911,  34.6864,2,  34.6875,2,    148.8,2,   148.9,2,  148.38,6,   36.22,6,    0.01,6,    2.46,6,   0.002,6,   0.005,6,       0,6,    2329,2,  2419.8,2,   7.5709,2,    24.98,-999.000,9,-999.0000,9, -999.00,9,  -999.0,9,  -999.0,-999.0000,9,-999.0000,  -999.0,9,     20.695,3,-999.000,9, 20150530,     1951,-999.000,   1.4912,2,     34.851,2,     -999.0,9,     -999.0,-999.0000,     -999.0,     -999.0,9,     -999.0,     -999.0,9,     -999.0,  -999.0,9,     -999.0,     -999.0,9,     -999.0
33RO20150525,     P16N.2,     124,          1,          3,          3,2,20150530,       1925,    28.0001,  -151.9996,       5527,  4833.7,   1.5031,  34.6904,2,  34.6904,2,    156.8,2,   156.6,2,  142.82,6,   35.63,6,       0,6,    2.43,6,   0.002,2,   0.006,2,       0,2,    2321,2,  2415.8,6,   7.5793,2,       25,-999.000,9,-999.0000,9, -999.00,9,  -999.0,9,  -999.0,-999.0000,9,-999.0000,  -999.0,9,     20.285,3,-999.000,9, 20150530,     1942,-999.000,   1.5031,2,     34.854,2,     -999.0,9,     -999.0,-999.0000,     -999.0,     -999.0,9,     -999.0,     -999.0,9,     -999.0,  -999.0,9,     -999.0,     -999.0,9,     -999.0
33RO20150525,     P16N.2,     124,          1,          2,          2,2,20150530,       1925,    28.0001,  -151.9996,       5527,  5227.7,   1.5231,   34.693,2,   34.692,2,    162.5,2,   161.5,2,  139.11,6,   35.24,6,    0.01,6,     2.4,6,   0.002,2,   0.005,2,       0,2,  2317.2,2,  2411.2,2,   7.5863,6,    24.98,-999.000,9,-999.0000,9, -999.00,9,  -999.0,9,  -999.0,-999.0000,9,-999.0000,  -999.0,9,     20.071,3,-999.000,9, 20150530,     1934,-999.000,   1.5233,2,    34.8556,2,     -999.0,9,     -999.0,-999.0000,     -999.0,     -999.0,9,     -999.0,     -999.0,9,     -999.0,  -999.0,9,     -999.0,     -999.0,9,     -999.0
33RO20150525,     P16N.2,     124,          1,          1,          1,2,20150530,       1925,    28.0001,  -151.9996,       5527,  5619.2,   1.5674,  34.6937,2,  34.6942,2,    163.1,2,   162.5,2,  138.13,6,   35.14,6,    0.01,6,    2.39,6,   0.002,2,   0.005,2,       0,2,  2314.9,6,  2413.6,2,    7.587,2,    24.96,-999.000,9,-999.0000,9, -999.00,9,  -999.0,9,  -999.0,-999.0000,9,-999.0000,  -999.0,9,     20.027,3,-999.000,9, 20150530,     1926,-999.000,   1.5672,2,    34.8578,2,     -999.0,9,     -999.0,-999.0000,     -999.0,     -999.0,9,     -999.0,     -999.0,9,     -999.0,  -999.0,9,     -999.0,     -999.0,9,     -999.0