BOTTLE,20220308OCPNOCYLF
#SHIP: Discovery
#Cruise DY146; RAPID Eastern Boundary
#Region: Eastern North Atlantic (subtropical)
#EXPOCODE: 74EQ20220209
#DATES: 20220209 - 20220309
#Chief Scientist: D. G. Evans, NOC
#Supported by grants from the UK Natural Environment Research Council for the RAPID-AMOC program and the ACSIS program (grant no. NE/N018044/1).
#25 stations with 12-place rosette
#CTD: Who - B. King; Status - final
#Notes: Includes CTDSAL, CTDOXY, CTDTMP
#The CTD PRS; TMP; SAL; OXY data are all calibrated and good.
#Salinity: Who - B. King; Status - final
#Oxygen: Who - Y. Firing and B. King; Status - final
#Nutrients: Who - E. Mawji; Status - not yet analysed
#Carbon: Who - P. Brown; Status - not yet analysed
#Chlorophyll: Who - S. Fowell; Status - not yet analysed
EXPOCODE,SECT_ID,STNNBR,CASTNO,SAMPNO,BTLNBR,BTLNBR_FLAG_W,DATE,TIME,LATITUDE,LONGITUDE,DEPTH,CTDPRS,CTDTMP,SBE35,SBE35_FLAG_W,CTDSAL,CTDSAL_FLAG_W,SALNTY,SALNTY_FLAG_W,CTDOXY,CTDOXY_FLAG_W,OXYGEN,OXYGEN_FLAG_W,SILCAT,SILCAT_FLAG_W,NO2+NO3,NO2+NO3_FLAG_W,PHSPHT,PHSPHT_FLAG_W,TCARBN,TCARBN_FLAG_W,CTDFLUOR,BOTCHLA,BOTCHLA_FLAG_W
 , , , , , , , , , , ,METERS,DBAR,ITS-90,ITS-90, ,PSS-78, ,PSS-78, ,UMOL/KG, ,UMOL/KG, ,UMOL/KG, ,UMOL/KG,UMOL/KG,UMOL/KG,UMOL/KG,UMOL/KG,UMOL/KG,MG/M^3,ML/L,ML/L
74EQ20220209,RAPID-East,  1,1, 1,9002,2,20220216,1431, 27.18916, -21.99163,4864,2025.0, 4.0180, 4.0181, 2.0000,35.0615,2,35.0640,2, 225.0,2, 224.5,6, -999.00,9, -999.00,9, -999.00,9,  -999.0,1, 0.0089, -999.0,9
74EQ20220209,RAPID-East,  1,1, 3,8149,2,20220216,1431, 27.18916, -21.99163,4864,2025.3, 4.0176, 4.0167, 2.0000,35.0615,2,-999.0000,9, 225.1,2, 224.6,2, -999.00,1, -999.00,1, -999.00,1,  -999.0,9, 0.0084, -999.0,1
74EQ20220209,RAPID-East,  1,1, 5,9006,2,20220216,1504, 27.18914, -21.99164,4864,1008.6, 7.8692, 7.8673, 2.0000,35.3312,2,35.3321,2, 161.4,2, 159.5,2, -999.00,9, -999.00,9, -999.00,9,  -999.0,1, 0.0104, -999.0,9
74EQ20220209,RAPID-East,  1,1, 7,9008,2,20220216,1504, 27.18916, -21.99164,4864,1008.9, 7.8271, 7.8712, 2.0000,35.3298,2,-999.0000,9, 162.0,2, 161.0,2, -999.00,1, -999.00,1, -999.00,1,  -999.0,9, 0.0111, -999.0,1
74EQ20220209,RAPID-East,  1,1, 9,9010,2,20220216,1532, 27.18914, -21.99164,4864, 503.5,12.1990,12.2018, 2.0000,35.6579,2,35.6592,2, 173.5,2, 173.2,6, -999.00,9, -999.00,9, -999.00,9,  -999.0,1, 0.0089, -999.0,9
74EQ20220209,RAPID-East,  1,1,11,9012,2,20220216,1532, 27.18916, -21.99164,4864, 504.2,12.1758,12.2002, 2.0000,35.6568,2,-999.0000,9, 173.6,2, 175.8,2, -999.00,1, -999.00,1, -999.00,1,  -999.0,9, 0.0098, -999.0,1
74EQ20220209,RAPID-East,  1,1,13,9014,2,20220216,1556, 27.18920, -21.99166,4864, 100.6,19.7901,19.7995, 2.0000,36.8496,2,36.8490,2, 208.2,2, 209.4,6, -999.00,9, -999.00,9, -999.00,9,  -999.0,1, 0.1039, -999.0,9
74EQ20220209,RAPID-East,  1,1,15,9016,2,20220216,1557, 27.18918, -21.99168,4864, 100.5,19.7946,19.7914, 2.0000,36.8503,2,-999.0000,9, 207.8,2, 209.3,2, -999.00,1, -999.00,1, -999.00,1,  -999.0,9, 0.1032, -999.0,1
74EQ20220209,RAPID-East,  1,1,17,9018,2,20220216,1602, 27.18921, -21.99166,4864,  50.3,20.9288,20.9345, 2.0000,37.0743,2,-999.0000,9, 219.7,2, 220.9,2, -999.00,9, -999.00,9, -999.00,9,  -999.0,1, 0.1122, -999.0,9
74EQ20220209,RAPID-East,  1,1,19,9020,2,20220216,1602, 27.18923, -21.99166,4864,  50.0,20.9293,20.9383, 2.0000,37.0741,2,37.0731,2, 219.5,2, 220.6,2, -999.00,1, -999.00,1, -999.00,1,  -999.0,9, 0.1108, -999.0,1
74EQ20220209,RAPID-East,  1,1,21,9022,2,20220216,1607, 27.18923, -21.99168,4864,   9.5,20.9422,20.9442, 2.0000,37.0755,2,37.0759,2, 220.3,2, 221.4,6, -999.00,9, -999.00,9, -999.00,9,  -999.0,1, 0.0727, -999.0,9
74EQ20220209,RAPID-East,  1,1,23,9024,2,20220216,1607, 27.18923, -21.99166,4864,   9.8,20.9433,20.9418, 2.0000,37.0753,2,-999.0000,9, 220.6,2, 221.3,2, -999.00,1, -999.00,1, -999.00,1,  -999.0,9, 0.0735, -999.0,1
74EQ20220209,RAPID-East,  2,1, 1,9002,2,20220217,1115, 24.73648, -23.55250,5042,4072.9, 2.3832, 2.3833, 2.0000,34.8946,2,34.8948,2, 244.2,2, 243.5,6, -999.00,9, -999.00,9, -999.00,9,  -999.0,9, 0.0092, -999.0,9
74EQ20220209,RAPID-East,  2,1, 3,8149,2,20220217,1146, 24.73650, -23.55250,5042,3551.2, 2.4992, 2.4994, 2.0000,34.9116,2,34.9117,2, 242.5,2, 240.2,6, -999.00,9, -999.00,9, -999.00,9,  -999.0,9, 0.0061, -999.0,9
74EQ20220209,RAPID-East,  2,1, 5,9006,2,20220217,1231, 24.73650, -23.55250,5042,3039.5, 2.7409, 2.7409, 2.0000,34.9378,2,34.9418,2, 242.2,2, 240.8,6, -999.00,9, -999.00,9, -999.00,9,  -999.0,9, 0.0074, -999.0,9
74EQ20220209,RAPID-East,  2,1, 7,9008,4,20220217,1618, 24.73648, -23.55250,5042,2526.1, 3.3241, 3.3255, 2.0000,34.9923,2,-999.0000,9, 233.8,2,-999.0,9, -999.00,9, -999.00,9, -999.00,9,  -999.0,9, 0.0109, -999.0,9
74EQ20220209,RAPID-East,  2,1, 9,9010,2,20220217,1633, 24.73647, -23.55250,5042,2025.0, 4.0873, 4.0871, 2.0000,35.0612,2,35.0610,2, 219.0,2, 219.0,6, -999.00,9, -999.00,9, -999.00,9,  -999.0,9, 0.0113, -999.0,9
74EQ20220209,RAPID-East,  2,1,11,9012,2,20220217,1643, 24.73648, -23.55250,5042,1822.2, 4.5294, 4.5317, 2.0000,35.0993,2,-999.0000,9, 212.1,2, 213.3,6, -999.00,9, -999.00,9, -999.00,9,  -999.0,9, 0.0119, -999.0,9
74EQ20220209,RAPID-East,  2,1,13,9014,2,20220217,1656, 24.73648, -23.55250,5042,1414.2, 5.8581, 5.8656, 2.0000,35.1966,2,35.1973,2, 187.2,2, 186.5,2, -999.00,9, -999.00,9, -999.00,9,  -999.0,9, 0.0116, -999.0,9
74EQ20220209,RAPID-East,  2,1,15,9016,2,20220217,1710, 24.73648, -23.55248,5042,1006.8, 7.1517, 7.1488, 2.0000,35.1317,2,35.1316,2, 139.3,2, 140.2,2, -999.00,9, -999.00,9, -999.00,9,  -999.0,9, 0.0115, -999.0,9
74EQ20220209,RAPID-East,  2,1,17,9018,2,20220217,1721, 24.73647, -23.55252,5042, 804.9, 8.1205, 8.1226, 2.0000,35.1450,2,35.1462,2, 116.8,2, 117.0,2, -999.00,9, -999.00,9, -999.00,9,  -999.0,9, 0.0146, -999.0,9
74EQ20220209,RAPID-East,  2,1,19,9020,2,20220217,1733, 24.73648, -23.55250,5042, 504.8,11.8675,11.8708, 2.0000,35.5896,2,35.5938,2, 129.2,2, 129.5,2, -999.00,9, -999.00,9, -999.00,9,  -999.0,9, 0.0206, -999.0,9
74EQ20220209,RAPID-East,  2,1,21,9022,2,20220217,1747, 24.73648, -23.55250,5042, 100.3,21.6700,21.6705, 2.0000,37.1688,2,37.1685,2, 210.1,2, 209.8,6, -999.00,9, -999.00,9, -999.00,9,  -999.0,9, 0.0835, -999.0,9
74EQ20220209,RAPID-East,  2,1,23,9024,2,20220217,1756, 24.73647, -23.55250,5042,   9.5,21.2639,21.2665, 2.0000,36.7541,2,36.7529,2, 221.8,2, 222.3,2, -999.00,9, -999.00,9, -999.00,9,  -999.0,9, 0.1493, -999.0,9
74EQ20220209,RAPID-East,  3,1, 1,9002,2,20220219,0005, 23.77333, -24.16148,5089,5132.3, 2.4309, 2.4309, 2.0000,34.8854,2,34.8854,2, 244.0,2, 243.2,2, -999.00,9, -999.00,9, -999.00,9,  -999.0,9, 0.0108, -999.0,9
74EQ20220209,RAPID-East,  3,1, 3,8149,2,20220219,0036, 23.77334, -24.16148,5089,4467.6, 2.3744, 2.3744, 2.0000,34.8887,2,34.8886,2, 245.0,2, 244.1,2, -999.00,9, -999.00,9, -999.00,9,  -999.0,9, 0.0104, -999.0,9
74EQ20220209,RAPID-East,  3,1, 5,9006,2,20220219,0100, 23.77333, -24.16148,5089,3964.4, 2.4257, 2.4255, 2.0000,34.8999,2,34.8997,2, 244.1,2, 244.0,2, -999.00,9, -999.00,9, -999.00,9,  -999.0,9, 0.0088, -999.0,9
74EQ20220209,RAPID-East,  3,1, 7,9008,2,20220219,0124, 23.77332, -24.16148,5089,3446.6, 2.5681, 2.5681, 2.0000,34.9189,2,34.9188,2, 242.2,2, 243.1,2, -999.00,9, -999.00,9, -999.00,9,  -999.0,9, 0.0065, -999.0,9
74EQ20220209,RAPID-East,  3,1, 9,9010,2,20220219,0148, 23.77334, -24.16148,5089,2942.0, 2.8768, 2.8771, 2.0000,34.9493,2,34.9489,2, 239.2,2, 239.8,3, -999.00,9, -999.00,9, -999.00,9,  -999.0,9, 0.0073, -999.0,9
74EQ20220209,RAPID-East,  3,1,11,9012,2,20220219,0212, 23.77336, -24.16152,5089,2425.5, 3.4456, 3.4435, 2.0000,34.9992,2,34.9980,2, 232.3,2, 232.6,3, -999.00,9, -999.00,9, -999.00,9,  -999.0,9, 0.0097, -999.0,9
74EQ20220209,RAPID-East,  3,1,13,9014,2,20220219,0237, 23.77334, -24.16148,5089,1818.9, 4.4204, 4.4205, 2.0000,35.0728,2,35.0729,2, 218.8,2, 220.0,2, -999.00,9, -999.00,9, -999.00,9,  -999.0,9, 0.0067, -999.0,9
74EQ20220209,RAPID-East,  3,1,15,9016,2,20220219,0300, 23.77334, -24.16150,5089,1411.2, 5.8064, 5.8149, 2.0000,35.1606,2,35.1630,2, 186.9,2, 187.4,6, -999.00,9, -999.00,9, -999.00,9,  -999.0,9, 0.0144, -999.0,9
74EQ20220209,RAPID-East,  3,1,17,9018,2,20220219,0325, 23.77334, -24.16149,5089, 803.0, 8.4376, 8.4390, 2.0000,35.1706,2,35.1700,2, 116.8,2, 117.2,2, -999.00,9, -999.00,9, -999.00,9,  -999.0,9, 0.0201, -999.0,9
74EQ20220209,RAPID-East,  3,1,19,9020,2,20220219,0345, 23.77334, -24.16148,5089, 508.3,12.5256,12.5315, 2.0000,35.6911,2,35.6912,2, 154.5,2, 154.3,2, -999.00,9, -999.00,9, -999.00,9,  -999.0,9, 0.0169, -999.0,9
74EQ20220209,RAPID-East,  3,1,21,9022,2,20220219,0409, 23.77334, -24.16150,5089,  82.7,21.6006,21.6023, 2.0000,36.9241,2,36.9215,2, 217.8,2, 217.7,2, -999.00,9, -999.00,9, -999.00,9,  -999.0,9, 0.1112, -999.0,9
74EQ20220209,RAPID-East,  3,1,23,9024,2,20220219,0430, 23.77334, -24.16150,5089,  13.8,21.5900,21.5938, 2.0000,36.9232,2,36.9199,2, 219.8,2, 219.7,2, -999.00,9, -999.00,9, -999.00,9,  -999.0,9, 0.0847, -999.0,9
74EQ20220209,RAPID-East,  4,1, 1,9002,2,20220219,2313, 24.03745, -23.46029,4993,5069.0, 2.4265, 2.4265, 2.0000,34.8858,2,34.8858,2, 244.8,2, 244.7,2, -999.00,9, -999.00,9, -999.00,9,  -999.0,9, 0.0107, -999.0,9
74EQ20220209,RAPID-East,  4,1, 3,8149,2,20220219,2342, 24.03743, -23.46029,4993,4471.9, 2.3694, 2.3692, 2.0000,34.8880,2,34.8881,2, 245.0,2, 244.8,2, -999.00,9, -999.00,9, -999.00,9,  -999.0,9, 0.0085, -999.0,9
74EQ20220209,RAPID-East,  4,1, 5,9006,2,20220220,0006, 24.03743, -23.46027,4993,3961.9, 2.4038, 2.4041, 2.0000,34.8980,2,34.8974,2, 244.8,2, 244.8,2, -999.00,9, -999.00,9, -999.00,9,  -999.0,9, 0.0086, -999.0,9
74EQ20220209,RAPID-East,  4,1, 7,9008,2,20220220,0029, 24.03739, -23.46029,4993,3451.3, 2.5656, 2.5655, 2.0000,34.9188,2,34.9179,2, 241.3,2, 241.4,2, -999.00,9, -999.00,9, -999.00,9,  -999.0,9, 0.0081, -999.0,9
74EQ20220209,RAPID-East,  4,1, 9,9010,2,20220220,0053, 24.03739, -23.46027,4993,2929.6, 2.8984, 2.8996, 2.0000,34.9507,2,34.9497,2, 237.6,2, 237.7,2, -999.00,9, -999.00,9, -999.00,9,  -999.0,9, 0.0086, -999.0,9
74EQ20220209,RAPID-East,  4,1,11,9012,2,20220220,0117, 24.03738, -23.46027,4993,2430.3, 3.4030, 3.4032, 2.0000,34.9961,2,34.9950,2, 231.7,2, 231.7,2, -999.00,9, -999.00,9, -999.00,9,  -999.0,9, 0.0121, -999.0,9
74EQ20220209,RAPID-East,  4,1,13,9014,2,20220220,0142, 24.03738, -23.46027,4993,1829.3, 4.4635, 4.4656, 2.0000,35.0864,2,35.0861,2, 216.2,2, 216.2,2, -999.00,9, -999.00,9, -999.00,9,  -999.0,9, 0.0083, -999.0,9
74EQ20220209,RAPID-East,  4,1,15,9016,2,20220220,0204, 24.03737, -23.46028,4993,1416.0, 5.8261, 5.8297, 2.0000,35.1629,2,35.1624,2, 187.7,2, 187.7,2, -999.00,9, -999.00,9, -999.00,9,  -999.0,9, 0.0119, -999.0,9
74EQ20220209,RAPID-East,  4,1,17,9018,2,20220220,0229, 24.03737, -23.46027,4993, 806.4, 8.0098, 8.0065, 2.0000,35.0979,2,35.0952,2, 107.3,2, 106.4,2, -999.00,9, -999.00,9, -999.00,9,  -999.0,9, 0.0175, -999.0,9
74EQ20220209,RAPID-East,  4,1,19,9020,2,20220220,0250, 24.03737, -23.46027,4993, 502.9,11.9514,11.9464, 2.0000,35.5773,2,35.5797,2, 116.3,2, 116.1,2, -999.00,9, -999.00,9, -999.00,9,  -999.0,9, 0.0255, -999.0,9
74EQ20220209,RAPID-East,  4,1,21,9022,2,20220220,0313, 24.03739, -23.46027,4993,  58.4,21.4276,21.4283, 2.0000,36.9509,2,36.9487,2, 219.2,2, 220.3,2, -999.00,9, -999.00,9, -999.00,9,  -999.0,9, 0.2043, -999.0,9
74EQ20220209,RAPID-East,  4,1,23,9024,2,20220220,0331, 24.03737, -23.46023,4993,  13.4,21.4092,21.4041, 2.0000,36.9512,2,36.9503,2, 219.9,2, 220.1,6, -999.00,9, -999.00,9, -999.00,9,  -999.0,9, 0.1783, -999.0,9
74EQ20220209,RAPID-East,  5,1, 1,9002,2,20220221,1838, 24.93673, -21.27052,4497,4564.8, 2.3914, 2.3910, 2.0000,34.8884,2,34.8904,2, 244.1,2, 244.9,2, -999.00,9, -999.00,9, -999.00,9,  -999.0,9, 0.0073, -999.0,9
74EQ20220209,RAPID-East,  5,1, 3,8149,2,20220221,1846, 24.93673, -21.27052,4497,4476.6, 2.3803, 2.3801, 2.0000,34.8884,2,34.8889,2, 244.2,2, 245.8,2, -999.00,9, -999.00,9, -999.00,9,  -999.0,9, 0.0036, -999.0,9
74EQ20220209,RAPID-East,  5,1, 5,9006,2,20220221,1901, 24.93673, -21.27052,4497,3961.4, 2.3881, 2.3877, 2.0000,34.8962,2,34.8993,2, 244.6,2, 245.0,2, -999.00,9, -999.00,9, -999.00,9,  -999.0,9, 0.0073, -999.0,9
74EQ20220209,RAPID-East,  5,1, 7,9008,2,20220221,1916, 24.93673, -21.27052,4497,3447.9, 2.5414, 2.5415, 2.0000,34.9162,2,34.9163,2, 241.7,2, 243.4,2, -999.00,9, -999.00,9, -999.00,9,  -999.0,9, 0.0019, -999.0,9
74EQ20220209,RAPID-East,  5,1, 9,9010,2,20220221,1930, 24.93673, -21.27052,4497,2941.2, 2.8294, 2.8299, 2.0000,34.9449,2,34.9454,2, 238.6,2, 238.8,3, -999.00,9, -999.00,9, -999.00,9,  -999.0,9, 0.0093, -999.0,9
74EQ20220209,RAPID-East,  5,1,11,9012,2,20220221,1943, 24.93673, -21.27052,4497,2427.4, 3.3836, 3.3834, 2.0000,34.9978,2,34.9994,2, 233.2,2, 232.8,6, -999.00,9, -999.00,9, -999.00,9,  -999.0,9, 0.0097, -999.0,9
74EQ20220209,RAPID-East,  5,1,13,9014,2,20220221,1959, 24.93671, -21.27052,4497,1818.1, 4.5289, 4.5300, 2.0000,35.1081,2,35.1096,2, 216.3,2, 217.6,2, -999.00,9, -999.00,9, -999.00,9,  -999.0,9, 0.0117, -999.0,9
74EQ20220209,RAPID-East,  5,1,15,9016,2,20220221,2011, 24.93673, -21.27052,4497,1414.1, 6.0178, 6.0276, 2.0000,35.2516,2,35.2518,2, 195.4,2, 196.4,2, -999.00,9, -999.00,9, -999.00,9,  -999.0,9, 0.0109, -999.0,9
74EQ20220209,RAPID-East,  5,1,17,9018,2,20220221,2026, 24.93671, -21.27052,4497, 806.1, 8.7036, 8.7099, 2.0000,35.2648,2,35.2666,2, 128.2,2, 128.6,2, -999.00,9, -999.00,9, -999.00,9,  -999.0,9, 0.0146, -999.0,9
74EQ20220209,RAPID-East,  5,1,19,9020,2,20220221,2037, 24.93671, -21.27052,4497, 505.6,12.6984,12.7133, 2.0000,35.7148,2,35.7162,2, 171.8,2, 172.0,2, -999.00,9, -999.00,9, -999.00,9,  -999.0,9, 0.0128, -999.0,9
74EQ20220209,RAPID-East,  5,1,21,9022,2,20220221,2049, 24.93672, -21.27052,4497,  97.9,20.9920,20.9941, 2.0000,37.0417,2,37.0473,2, 211.7,2, 211.9,2, -999.00,9, -999.00,9, -999.00,9,  -999.0,9, 0.2010, -999.0,9
74EQ20220209,RAPID-East,  5,1,23,9024,2,20220221,2100, 24.93671, -21.27052,4497,  12.7,21.1951,21.1886, 2.0000,37.0083,2,37.0080,2, 221.0,2, 221.1,2, -999.00,9, -999.00,9, -999.00,9,  -999.0,9, 0.1434, -999.0,9
74EQ20220209,RAPID-East,  6,1, 1,9002,2,20220223,2131, 27.22457, -15.40500,3009,3041.5, 2.8315, 2.8313, 2.0000,34.9409,2,34.9405,2, 228.4,2, 227.9,2, -999.00,1, -999.00,1, -999.00,1,  -999.0,1, 0.0130, -999.0,1
74EQ20220209,RAPID-East,  6,1, 3,8149,2,20220223,2149, 27.22459, -15.40500,3009,3016.2, 2.8344, 2.8325, 2.0000,34.9415,2,34.9413,2, 228.4,2,-999.0,9, -999.00,1, -999.00,1, -999.00,1,  -999.0,1, 0.0162, -999.0,1
74EQ20220209,RAPID-East,  6,1, 5,9006,2,20220223,2206, 27.22459, -15.40500,3009,2990.2, 2.8445, 2.8438, 2.0000,34.9426,2,34.9429,2, 228.3,2, 228.3,6, -999.00,1, -999.00,1, -999.00,1,  -999.0,1, 0.0094, -999.0,1
74EQ20220209,RAPID-East,  6,1, 7,9008,2,20220223,2230, 27.22457, -15.40500,3009,2532.7, 3.2282, 3.2270, 2.0000,34.9798,2,34.9794,2, 226.7,2,-999.0,9, -999.00,1, -999.00,1, -999.00,1,  -999.0,1, 0.0122, -999.0,1
74EQ20220209,RAPID-East,  6,1, 9,9010,2,20220223,2254, 27.22459, -15.40500,3009,2021.8, 4.0226, 4.0237, 2.0000,35.0605,2,35.0610,2, 219.9,2, 218.5,2, -999.00,1, -999.00,1, -999.00,1,  -999.0,1, 0.0141, -999.0,1
74EQ20220209,RAPID-East,  6,1,11,9012,2,20220223,2318, 27.22457, -15.40500,3009,1517.6, 5.7644, 5.7649, 2.0000,35.2205,2,35.2204,2, 193.3,2,-999.0,9, -999.00,1, -999.00,1, -999.00,1,  -999.0,1, 0.0141, -999.0,1
74EQ20220209,RAPID-East,  6,1,13,9014,2,20220223,2340, 27.22457, -15.40500,3009,1109.4, 7.8773, 7.8778, 2.0000,35.4125,2,35.4126,2, 166.5,2,-999.0,9, -999.00,1, -999.00,1, -999.00,1,  -999.0,1, 0.0120, -999.0,1
74EQ20220209,RAPID-East,  6,1,15,9016,2,20220224,0002, 27.22457, -15.40500,3009, 756.5, 9.2442, 9.2573, 2.0000,35.3204,2,35.3213,2, 123.8,2, 123.9,2, -999.00,1, -999.00,1, -999.00,1,  -999.0,1, 0.0179, -999.0,1
74EQ20220209,RAPID-East,  6,1,17,9018,2,20220224,0023, 27.22457, -15.40500,3009, 405.2,12.7642,12.7732, 2.0000,35.7180,2,35.7183,2, 156.9,2,-999.0,9, -999.00,1, -999.00,1, -999.00,1,  -999.0,1, 0.0205, -999.0,1
74EQ20220209,RAPID-East,  6,1,19,9020,2,20220224,0043, 27.22457, -15.40500,3009, 151.5,17.9112,17.9552, 2.0000,36.5396,2,36.5489,2, 204.8,2,-999.0,9, -999.00,1, -999.00,1, -999.00,1,  -999.0,1, 0.0511, -999.0,1
74EQ20220209,RAPID-East,  6,1,21,9022,2,20220224,0102, 27.22457, -15.40500,3009,  87.9,18.8248,18.8265, 2.0000,36.7439,2,36.7423,2, 225.3,2, 226.9,2, -999.00,1, -999.00,1, -999.00,1,  -999.0,1, 0.1198, -999.0,1
74EQ20220209,RAPID-East,  6,1,23,9024,2,20220224,0121, 27.22457, -15.40500,3009,  13.1,19.7695,19.7698, 2.0000,36.8987,2,36.8967,2, 226.9,2, 227.5,3, -999.00,1, -999.00,1, -999.00,1,  -999.0,1, 0.1080, -999.0,1
74EQ20220209,RAPID-East,  7,1, 1,9002,2,20220224,2056, 27.62398, -14.19541,1998,2011.5, 4.0720, 4.0719, 2.0000,35.0613,2,35.0615,2, 218.2,2, 217.0,2, -999.00,1, -999.00,1, -999.00,1,  -999.0,1, 0.0135, -999.0,9
74EQ20220209,RAPID-East,  7,1, 3,8149,2,20220224,2113, 27.62400, -14.19543,1998,1985.6, 4.1399, 4.1399, 2.0000,35.0676,2,35.0691,2, 217.3,2,-999.0,9, -999.00,1, -999.00,1, -999.00,1,  -999.0,1, 0.0095, -999.0,9
74EQ20220209,RAPID-East,  7,1, 5,9006,2,20220224,2132, 27.62398, -14.19543,1998,1820.9, 4.5491, 4.5496, 2.0000,35.1082,2,35.1084,2, 213.0,2,-999.0,9, -999.00,1, -999.00,1, -999.00,1,  -999.0,1, 0.0140, -999.0,9
74EQ20220209,RAPID-East,  7,1, 7,9008,2,20220224,2151, 27.62398, -14.19541,1998,1620.6, 5.1602, 5.1639, 2.0000,35.1747,2,35.1760,2, 206.0,2, 208.0,2, -999.00,1, -999.00,1, -999.00,1,  -999.0,1, 0.0097, -999.0,9
74EQ20220209,RAPID-East,  7,1, 9,9010,2,20220224,2213, 27.62398, -14.19543,1998,1260.7, 6.6906, 6.6912, 2.0000,35.2867,2,35.2867,2, 177.9,2, 178.6,2, -999.00,1, -999.00,1, -999.00,1,  -999.0,1, 0.0151, -999.0,9
74EQ20220209,RAPID-East,  7,1,11,9012,2,20220224,2232, 27.62398, -14.19543,1998,1011.3, 7.6491, 7.6622, 2.0000,35.2660,2,35.2671,2, 148.8,2,-999.0,9, -999.00,1, -999.00,1, -999.00,1,  -999.0,1, 0.0147, -999.0,9
74EQ20220209,RAPID-East,  7,1,13,9014,2,20220224,2253, 27.62398, -14.19543,1998, 705.5, 9.4635, 9.4716, 2.0000,35.3313,2,35.3320,2, 120.8,2, 121.2,6, -999.00,1, -999.00,1, -999.00,1,  -999.0,1, 0.0196, -999.0,9
74EQ20220209,RAPID-East,  7,1,15,9016,2,20220224,2312, 27.62398, -14.19541,1998, 506.2,11.5109,11.5177, 2.0000,35.5685,2,35.5692,2, 142.5,2,-999.0,9, -999.00,1, -999.00,1, -999.00,1,  -999.0,1, 0.0198, -999.0,9
74EQ20220209,RAPID-East,  7,1,17,9018,2,20220224,2330, 27.62398, -14.19543,1998, 380.3,13.0887,13.0969, 2.0000,35.7609,2,35.7631,2, 171.4,2, 172.1,2, -999.00,1, -999.00,1, -999.00,1,  -999.0,1, 0.0152, -999.0,9
74EQ20220209,RAPID-East,  7,1,19,9020,2,20220224,2349, 27.62398, -14.19543,1998, 177.2,16.6997,16.7097, 2.0000,36.3314,2,36.3367,2, 203.1,2,-999.0,9, -999.00,1, -999.00,1, -999.00,1,  -999.0,1, 0.0200, -999.0,9
74EQ20220209,RAPID-East,  7,1,21,9022,2,20220225,0011, 27.62398, -14.19541,1998,  61.8,18.4099,18.4107, 2.0000,36.6854,2,36.6862,2, 233.4,2, 234.9,3, -999.00,1, -999.00,1, -999.00,1,  -999.0,1, 0.2169, -999.0,9
74EQ20220209,RAPID-East,  7,1,23,9024,2,20220225,0035, 27.62398, -14.19542,1998,  12.2,18.6169,18.6201, 2.0000,36.6838,2,36.6843,2, 236.8,2,-999.0,9, -999.00,1, -999.00,1, -999.00,1,  -999.0,1, 0.1093, -999.0,9