BOTTLE,20220308OCPNOCYLF
EXPOCODE,SECT_ID,STNNBR,CASTNO,SAMPNO,BTLNBR,BTLNBR_FLAG_W,DATE,TIME,LATITUDE,LONGITUDE,DEPTH,CTDPRS,CTDTMP,SBE35,SBE35_FLAG_W,CTDSAL,CTDSAL_FLAG_W,SALNTY,SALNTY_FLAG_W,CTDOXY,CTDOXY_FLAG_W,OXYGEN,OXYGEN_FLAG_W,SILCAT,SILCAT_FLAG_W,NO2+NO3,NO2+NO3_FLAG_W,PHSPHT,PHSPHT_FLAG_W,TCARBN,TCARBN_FLAG_W,CTDFLUOR,BOTCHLA,BOTCHLA_FLAG_W
 , , , , , , , , , , ,METERS,DBAR,ITS-90,ITS-90, ,PSS-78, ,PSS-78, ,UMOL/KG, ,UMOL/KG, ,UMOL/KG, ,UMOL/KG,UMOL/KG,UMOL/KG,UMOL/KG,UMOL/KG,UMOL/KG,MG/M^3,ML/L,ML/L
74EQ20220209,RAPID-East,  8,1, 1,9002,2,20220225,0430, 27.80198, -13.76434,1441,1442.9, 5.7971, 5.8008, 2.0000,35.2038,2,35.2056,2, 190.3,2, 190.3,3, -999.00,9, -999.00,9, -999.00,9,  -999.0,9, 0.0158, -999.0,9
74EQ20220209,RAPID-East,  8,1, 3,8149,2,20220225,0434, 27.80198, -13.76434,1441,1417.3, 5.9980, 6.0049, 2.0000,35.2186,2,35.2183,2, 187.4,2,-999.0,9, -999.00,9, -999.00,9, -999.00,9,  -999.0,9, 0.0160, -999.0,9
74EQ20220209,RAPID-East,  8,1, 5,9006,2,20220225,0448, 27.80198, -13.76434,1441, 779.4, 8.7719, 8.7782, 2.0000,35.2699,2,35.2708,2, 124.2,2,-999.0,9, -999.00,9, -999.00,9, -999.00,9,  -999.0,9, 0.0176, -999.0,9
74EQ20220209,RAPID-East,  8,1, 7,9008,2,20220225,0450, 27.80198, -13.76434,1441, 756.9, 8.9719, 8.9794, 2.0000,35.2878,2,35.2862,2, 123.3,2,-999.0,9, -999.00,9, -999.00,9, -999.00,9,  -999.0,9, 0.0162, -999.0,9
74EQ20220209,RAPID-East,  8,1, 9,9010,2,20220225,0454, 27.80198, -13.76434,1441, 731.8, 9.1361, 9.1419, 2.0000,35.3027,2,35.3035,2, 122.6,2, 123.1,2, -999.00,9, -999.00,9, -999.00,9,  -999.0,9, 0.0163, -999.0,9
74EQ20220209,RAPID-East,  8,1,11,9012,2,20220225,0501, 27.80198, -13.76434,1441, 430.0,12.1417,12.1746, 2.0000,35.6483,2,35.6510,2, 157.9,2,-999.0,9, -999.00,9, -999.00,9, -999.00,9,  -999.0,9, 0.0168, -999.0,9
74EQ20220209,RAPID-East,  8,1,13,9014,2,20220225,0504, 27.80197, -13.76434,1441, 404.8,12.4024,12.4225, 2.0000,35.6779,2,35.6781,2, 156.1,2, 156.4,3, -999.00,9, -999.00,9, -999.00,9,  -999.0,9, 0.0172, -999.0,9
74EQ20220209,RAPID-East,  8,1,15,9016,2,20220225,0507, 27.80197, -13.76434,1441, 379.9,12.6772,12.6889, 2.0000,35.7110,2,35.7107,2, 163.8,2,-999.0,9, -999.00,9, -999.00,9, -999.00,9,  -999.0,9, 0.0150, -999.0,9
74EQ20220209,RAPID-East,  8,1,17,9018,2,20220225,0515, 27.80198, -13.76434,1441,  75.7,17.7755,17.7796, 2.0000,36.5318,2,36.5326,2, 226.1,2, 225.6,6, -999.00,9, -999.00,9, -999.00,9,  -999.0,9, 0.0705, -999.0,9
74EQ20220209,RAPID-East,  8,1,19,9020,2,20220225,0517, 27.80198, -13.76434,1441,  50.4,17.8970,17.8985, 2.0000,36.5530,2,36.5528,2, 231.3,2, 231.4,2, -999.00,9, -999.00,9, -999.00,9,  -999.0,9, 0.1653, -999.0,9
74EQ20220209,RAPID-East,  8,1,21,9022,2,20220225,0520, 27.80198, -13.76434,1441,  24.7,18.1929,18.1756, 2.0000,36.6002,2,36.5991,2, 240.5,2,-999.0,9, -999.00,9, -999.00,9, -999.00,9,  -999.0,9, 0.3245, -999.0,9
74EQ20220209,RAPID-East,  8,1,23,9024,2,20220225,0523, 27.80198, -13.76434,1441,  12.0,18.2048,18.2100, 2.0000,36.6027,2,36.6021,2, 240.7,2, 240.6,2, -999.00,9, -999.00,9, -999.00,9,  -999.0,9, 0.3194, -999.0,9
74EQ20220209,RAPID-East,  9,1, 1,9002,2,20220225,1957, 27.35911, -15.00037,2703,2031.0, 4.0436, 4.0498, 2.0000,35.0627,2,35.0624,2, 221.3,2, 221.1,3, -999.00,1, -999.00,1, -999.00,1,  -999.0,1, 0.0153, -999.0,9
74EQ20220209,RAPID-East,  9,1, 3,8149,2,20220225,2019, 27.35911, -15.00037,2703, 808.8, 8.6808, 8.6932, 2.0000,35.2715,2,35.2708,2, 127.2,2, 126.3,2, -999.00,1, -999.00,1, -999.00,1,  -999.0,1, 0.0187, -999.0,9
74EQ20220209,RAPID-East,  9,1, 5,9006,2,20220225,2034, 27.35913, -15.00037,2703,  41.4,18.3586,18.3604, 2.0000,36.6712,2,36.6705,2, 231.1,2,-999.0,9, -999.00,1, -999.00,1, -999.00,1,  -999.0,1, 0.2671, -999.0,9
74EQ20220209,RAPID-East,  9,1, 7,9008,2,20220225,2036, 27.35913, -15.00039,2703,  21.4,18.5049,18.5070, 2.0000,36.6645,2,36.6656,2, 237.8,2, 238.2,2, -999.00,1, -999.00,1, -999.00,1,  -999.0,1, 0.1883, -999.0,9
74EQ20220209,RAPID-East, 10,1, 1,9002,2,20220225,2248, 27.32781, -15.09384,2763, 836.2, 9.1035, 9.1055, 2.0000,35.3943,2,35.3941,2, 144.2,2,-999.0,9, -999.00,1, -999.00,1, -999.00,1,  -999.0,1, 0.0159, -999.0,9
74EQ20220209,RAPID-East, 11,1, 1,9002,2,20220226,0114, 27.29579, -15.18782,2833, 956.9, 8.0627, 8.1321, 2.0000,35.2968,2,35.2957,2, 146.2,2,-999.0,9, -999.00,1, -999.00,1, -999.00,1,  -999.0,1, 0.0145, -999.0,9
74EQ20220209,RAPID-East, 11,1, 3,8149,2,20220226,0114, 27.29579, -15.18782,2833, 957.2, 8.0650, 8.1311, 2.0000,35.2974,2,-999.0000,9, 145.7,2,-999.0,9, -999.00,9, -999.00,9, -999.00,9,  -999.0,9, 0.0165, -999.0,9
74EQ20220209,RAPID-East, 11,1, 5,9006,2,20220226,0118, 27.29579, -15.18782,2833, 868.8, 8.9281, 8.9330, 2.0000,35.3902,2,35.3896,2, 146.6,2,-999.0,9, -999.00,1, -999.00,1, -999.00,1,  -999.0,1, 0.0156, -999.0,9
74EQ20220209,RAPID-East, 11,1, 7,9008,2,20220226,0119, 27.29579, -15.18782,2833, 868.6, 8.9302, 8.9220, 2.0000,35.3905,2,-999.0000,9, 146.5,2,-999.0,9, -999.00,9, -999.00,9, -999.00,9,  -999.0,9, 0.0161, -999.0,9
74EQ20220209,RAPID-East, 12,1, 1,9002,2,20220226,0310, 27.26395, -15.28095,2906,2030.9, 3.9976, 3.9963, 2.0000,35.0563,2,35.0558,2, 221.3,2, 220.9,6, -999.00,1, -999.00,1, -999.00,1,  -999.0,1, 0.0129, -999.0,9
74EQ20220209,RAPID-East, 12,1, 3,8149,2,20220226,0310, 27.26395, -15.28095,2906,2030.8, 3.9973, 3.9958, 2.0000,35.0563,2,-999.0000,9, 221.4,2,-999.0,9, -999.00,9, -999.00,9, -999.00,9,  -999.0,9, 0.0142, -999.0,9
74EQ20220209,RAPID-East, 12,1, 5,9006,2,20220226,0329, 27.26395, -15.28095,2906,1063.6, 7.9731, 8.0606, 2.0000,35.4030,2,35.4062,2, 165.8,2,-999.0,9, -999.00,1, -999.00,1, -999.00,1,  -999.0,1, 0.0115, -999.0,9
74EQ20220209,RAPID-East, 12,1, 7,9008,2,20220226,0333, 27.26395, -15.28095,2906, 911.7, 8.8232, 8.8345, 2.0000,35.4155,2,35.4124,2, 152.6,2,-999.0,9, -999.00,1, -999.00,1, -999.00,1,  -999.0,1, 0.0133, -999.0,9
74EQ20220209,RAPID-East, 12,1, 9,9010,2,20220226,0339, 27.26395, -15.28093,2906, 708.4, 9.5561, 9.5561, 2.0000,35.3527,2,35.3523,2, 125.9,2, 124.9,2, -999.00,1, -999.00,1, -999.00,1,  -999.0,1, 0.0204, -999.0,9
74EQ20220209,RAPID-East, 12,1,11,9012,2,20220226,0339, 27.26395, -15.28095,2906, 708.4, 9.5559, 9.5560, 2.0000,35.3530,2,-999.0000,9, 125.9,2,-999.0,9, -999.00,9, -999.00,9, -999.00,9,  -999.0,9, 0.0183, -999.0,9
74EQ20220209,RAPID-East, 12,1,13,9014,2,20220226,0354, 27.26395, -15.28095,2906,  11.9,19.1963,19.1954, 2.0000,36.8069,2,36.8066,2, 227.4,2, 227.5,2, -999.00,1, -999.00,1, -999.00,1,  -999.0,1, 0.2663, -999.0,9
74EQ20220209,RAPID-East, 12,1,15,9016,2,20220226,0355, 27.26395, -15.28095,2906,  11.8,19.1959,19.1981, 2.0000,36.8071,2,-999.0000,9, 227.4,2,-999.0,9, -999.00,9, -999.00,9, -999.00,9,  -999.0,9, 0.2301, -999.0,9
74EQ20220209,RAPID-East, 13,1, 1,9002,2,20220226,0546, 27.23239, -15.37373,2976,1181.2, 6.9109, 6.9125, 2.0000,35.2691,2,35.2701,2, 169.5,2,-999.0,9, -999.00,1, -999.00,1, -999.00,1,  -999.0,1, 0.0129, -999.0,9
74EQ20220209,RAPID-East, 13,1, 3,8149,2,20220226,0546, 27.23239, -15.37373,2976,1181.5, 6.9104, 6.9126, 2.0000,35.2689,2,-999.0000,9, 169.4,2,-999.0,9, -999.00,9, -999.00,9, -999.00,9,  -999.0,9, 0.0145, -999.0,9
74EQ20220209,RAPID-East, 13,1, 5,9006,2,20220226,0550, 27.23239, -15.37373,2976,1073.8, 7.3606, 7.3642, 2.0000,35.2729,2,35.2727,2, 157.9,2,-999.0,9, -999.00,1, -999.00,1, -999.00,1,  -999.0,1, 0.0126, -999.0,9
74EQ20220209,RAPID-East, 13,1, 7,9008,2,20220226,0550, 27.23239, -15.37373,2976,1073.8, 7.3582, 7.3623, 2.0000,35.2724,2,-999.0000,9, 157.9,2,-999.0,9, -999.00,9, -999.00,9, -999.00,9,  -999.0,9, 0.0140, -999.0,9
74EQ20220209,RAPID-East, 14,1, 1,9002,2,20220226,0751, 27.20064, -15.46736,3088,1675.9, 4.8228, 4.8259, 2.0000,35.1206,2,35.1209,2, 208.1,2, 206.8,2, -999.00,1, -999.00,1, -999.00,1,  -999.0,1, 0.0133, -999.0,9
74EQ20220209,RAPID-East, 14,1, 3,8149,2,20220226,0803, 27.20064, -15.46736,3088,1093.6, 7.6175, 7.6519, 2.0000,35.3619,2,35.3559,2, 166.3,2,-999.0,9, -999.00,1, -999.00,1, -999.00,1,  -999.0,1, 0.0087, -999.0,9
74EQ20220209,RAPID-East, 14,1, 5,9006,2,20220226,0805, 27.20064, -15.46736,3088,1037.9, 7.4460, 7.4493, 2.0000,35.2578,2,35.2580,2, 153.1,2,-999.0,9, -999.00,1, -999.00,1, -999.00,1,  -999.0,1, 0.0167, -999.0,9
74EQ20220209,RAPID-East, 14,1, 7,9008,2,20220226,0809, 27.20064, -15.46736,3088, 910.9, 8.1161, 8.1209, 2.0000,35.2527,2,35.2539,2, 136.7,2,-999.0,9, -999.00,1, -999.00,1, -999.00,1,  -999.0,1, 0.0151, -999.0,9
74EQ20220209,RAPID-East, 14,1, 9,9010,2,20220226,0812, 27.20064, -15.46736,3088, 809.9, 8.7629, 8.7754, 2.0000,35.2765,2,35.2766,2, 125.8,2, 125.3,2, -999.00,1, -999.00,1, -999.00,1,  -999.0,1, 0.0139, -999.0,9
74EQ20220209,RAPID-East, 14,1,11,9012,2,20220226,0816, 27.20064, -15.46734,3088, 658.1,10.2326,10.2404, 2.0000,35.4308,2,35.4264,2, 132.1,2,-999.0,9, -999.00,1, -999.00,1, -999.00,1,  -999.0,1, 0.0163, -999.0,9
74EQ20220209,RAPID-East, 14,1,13,9014,2,20220226,0830, 27.20064, -15.46734,3088,  21.7,19.6493,19.6523, 2.0000,36.8809,2,36.8800,2, 228.9,2, 230.3,2, -999.00,1, -999.00,1, -999.00,1,  -999.0,1, 0.1020, -999.0,9
74EQ20220209,RAPID-East, 15,1, 1,9002,2,20220226,1012, 27.16866, -15.56000,3184,1718.9, 5.0513, 5.0359, 2.0000,35.1748,2,35.1734,2, 211.9,2,-999.0,9, -999.00,1, -999.00,1, -999.00,1,  -999.0,1, 0.0115, -999.0,9
74EQ20220209,RAPID-East, 15,1, 3,8149,2,20220226,1015, 27.16864, -15.56000,3184,1668.8, 4.9593, 4.9532, 2.0000,35.1311,2,35.1304,2, 205.2,2,-999.0,9, -999.00,1, -999.00,1, -999.00,1,  -999.0,1, 0.0150, -999.0,9
74EQ20220209,RAPID-East, 15,1, 5,9006,2,20220226,1030, 27.16864, -15.56000,3184, 853.1, 8.4499, 8.3902, 2.0000,35.2594,2,35.2559,2, 129.9,2,-999.0,9, -999.00,1, -999.00,1, -999.00,1,  -999.0,1, 0.0194, -999.0,9
74EQ20220209,RAPID-East, 15,1, 7,9008,2,20220226,1035, 27.16864, -15.56000,3184, 650.8,10.1458,10.1621, 2.0000,35.4202,2,35.4182,2, 130.7,2,-999.0,9, -999.00,1, -999.00,1, -999.00,1,  -999.0,1, 0.0172, -999.0,9
74EQ20220209,RAPID-East, 16,1, 1,9002,2,20220226,1245, 27.13637, -15.65423,3235,1310.4, 7.2879, 7.2925, 2.0000,35.4164,2,35.4162,2, 184.6,2,-999.0,9, -999.00,1, -999.00,1, -999.00,1,  -999.0,1, 0.0106, -999.0,9
74EQ20220209,RAPID-East, 16,1, 3,8149,2,20220226,1249, 27.13637, -15.65427,3235,1208.3, 7.1051, 7.1045, 2.0000,35.2807,2,35.2831,2, 166.5,2,-999.0,9, -999.00,1, -999.00,1, -999.00,1,  -999.0,1, 0.0130, -999.0,9
74EQ20220209,RAPID-East, 16,1, 5,9006,2,20220226,1301, 27.13637, -15.65423,3235, 549.9,11.4439,11.4501, 2.0000,35.5650,2,35.5624,2, 146.5,2,-999.0,9, -999.00,1, -999.00,1, -999.00,1,  -999.0,1, 0.0193, -999.0,9
74EQ20220209,RAPID-East, 16,1, 7,9008,2,20220226,1303, 27.13636, -15.65427,3235, 500.1,11.9789,11.9933, 2.0000,35.6260,2,35.6227,2, 153.2,2,-999.0,9, -999.00,1, -999.00,1, -999.00,1,  -999.0,1, 0.0207, -999.0,9
74EQ20220209,RAPID-East, 17,1, 1,9002,2,20220226,1442, 27.10450, -15.74721,3295,2032.3, 4.0451, 4.0500, 2.0000,35.0633,2,35.0643,2, 221.7,2, 222.3,2, -999.00,1, -999.00,1, -999.00,1,  -999.0,1, 0.0128, -999.0,9
74EQ20220209,RAPID-East, 17,1, 3,8149,2,20220226,1456, 27.10448, -15.74721,3295,1311.4, 7.1375, 7.1207, 2.0000,35.3927,2,35.3877,2, 185.2,2,-999.0,9, -999.00,1, -999.00,1, -999.00,1,  -999.0,1, 0.0158, -999.0,9
74EQ20220209,RAPID-East, 17,1, 5,9006,2,20220226,1502, 27.10448, -15.74721,3295,1041.6, 7.5267, 7.5336, 2.0000,35.2549,2,35.2552,2, 151.5,2,-999.0,9, -999.00,1, -999.00,1, -999.00,1,  -999.0,1, 0.0150, -999.0,9
74EQ20220209,RAPID-East, 17,1, 7,9008,2,20220226,1508, 27.10450, -15.74721,3295, 752.5, 9.2694, 9.2735, 2.0000,35.3223,2,35.3227,2, 125.0,2, 124.0,2, -999.00,1, -999.00,1, -999.00,1,  -999.0,1, 0.0191, -999.0,9
74EQ20220209,RAPID-East, 17,1, 9,9010,2,20220226,1525, 27.10450, -15.74727,3295,  12.8,19.8101,19.8510, 2.0000,36.8976,2,36.8955,2, 230.6,2, 230.8,2, -999.00,1, -999.00,1, -999.00,1,  -999.0,1, 0.0875, -999.0,9
74EQ20220209,RAPID-East, 18,1, 1,9002,2,20220226,1754, 26.85455, -15.74663,3333,2032.7, 4.0209, 4.0116, 2.0000,35.0561,2,35.0561,2, 221.4,2, 221.5,3, -999.00,1, -999.00,1, -999.00,1,  -999.0,1, 0.0150, -999.0,9
74EQ20220209,RAPID-East, 18,1, 3,8149,2,20220226,1803, 26.85457, -15.74663,3333,1618.0, 5.0826, 5.0907, 2.0000,35.1460,2,35.1458,2, 204.0,2,-999.0,9, -999.00,1, -999.00,1, -999.00,1,  -999.0,1, 0.0155, -999.0,9
74EQ20220209,RAPID-East, 18,1, 5,9006,2,20220226,1818, 26.85453, -15.74663,3333, 802.9, 8.8907, 8.8959, 2.0000,35.2930,2,35.2927,2, 127.8,2,-999.0,9, -999.00,1, -999.00,1, -999.00,1,  -999.0,1, 0.0181, -999.0,9
74EQ20220209,RAPID-East, 18,1, 7,9008,2,20220226,1823, 26.85455, -15.74663,3333, 601.2,10.4601,10.4709, 2.0000,35.4214,2,35.4212,2, 120.4,2, 120.0,2, -999.00,1, -999.00,1, -999.00,1,  -999.0,1, 0.0191, -999.0,9
74EQ20220209,RAPID-East, 18,1, 9,9010,2,20220226,1833, 26.85461, -15.74666,3333, 104.6,18.4718,18.4926, 2.0000,36.6649,2,36.6655,2, 221.1,2,-999.0,9, -999.00,1, -999.00,1, -999.00,1,  -999.0,1, 0.0682, -999.0,9
74EQ20220209,RAPID-East, 18,1,11,9012,2,20220226,1835, 26.85457, -15.74664,3333,  73.1,18.5442,18.5467, 2.0000,36.6362,2,36.6359,2, 207.3,2,-999.0,9, -999.00,1, -999.00,1, -999.00,1,  -999.0,1, 0.0477, -999.0,9
74EQ20220209,RAPID-East, 18,1,13,9014,2,20220226,1837, 26.85455, -15.74663,3333,  56.9,19.1061,19.1093, 2.0000,36.7825,2,36.7785,2, 230.2,2, 230.0,2, -999.00,1, -999.00,1, -999.00,1,  -999.0,1, 0.2537, -999.0,9
74EQ20220209,RAPID-East, 19,1, 1,9002,2,20220226,2103, 26.91807, -15.56131,3236,2029.6, 4.0661, 4.0546, 2.0000,35.0754,2,35.0751,2, 224.7,2, 224.4,3, -999.00,1, -999.00,1, -999.00,1,  -999.0,1, 0.0125, -999.0,9
74EQ20220209,RAPID-East, 19,1, 3,8149,2,20220226,2116, 26.91805, -15.56132,3236,1404.9, 6.0164, 6.0166, 2.0000,35.2551,2,35.2547,2, 194.3,2,-999.0,9, -999.00,1, -999.00,1, -999.00,1,  -999.0,1, 0.0116, -999.0,9
74EQ20220209,RAPID-East, 19,1, 5,9006,2,20220226,2121, 26.91805, -15.56132,3236,1237.0, 6.7752, 6.7871, 2.0000,35.2803,2,35.2801,2, 175.3,2,-999.0,9, -999.00,1, -999.00,1, -999.00,1,  -999.0,1, 0.0137, -999.0,9
74EQ20220209,RAPID-East, 19,1, 7,9008,2,20220226,2125, 26.91809, -15.56131,3236,1126.5, 7.1530, 7.1609, 2.0000,35.2806,2,35.2799,2, 164.7,2,-999.0,9, -999.00,1, -999.00,1, -999.00,1,  -999.0,1, 0.0128, -999.0,9
74EQ20220209,RAPID-East, 19,1, 9,9010,2,20220226,2130, 26.91809, -15.56132,3236, 929.1, 7.7967, 7.8140, 2.0000,35.2300,2,35.2292,2, 139.7,2,-999.0,9, -999.00,1, -999.00,1, -999.00,1,  -999.0,1, 0.0167, -999.0,9
74EQ20220209,RAPID-East, 19,1,11,9012,2,20220226,2135, 26.91809, -15.56131,3236, 757.6, 9.2183, 9.2181, 2.0000,35.3158,2,35.3159,2, 124.3,2, 122.9,2, -999.00,1, -999.00,1, -999.00,1,  -999.0,1, 0.0155, -999.0,9
74EQ20220209,RAPID-East, 19,1,13,9014,2,20220226,2154, 26.91807, -15.56131,3236,  11.6,19.5847,19.5838, 2.0000,36.8743,2,36.8732,2, 229.7,2, 230.2,2, -999.00,1, -999.00,1, -999.00,1,  -999.0,1, 0.1556, -999.0,9
74EQ20220209,RAPID-East, 20,1, 1,9002,2,20220227,0024, 26.98205, -15.37450,3153,2030.9, 4.1819, 4.1860, 2.0000,35.0876,2,35.0887,2, 224.1,2, 224.6,2, -999.00,1, -999.00,1, -999.00,1,  -999.0,1, 0.0124, -999.0,9
74EQ20220209,RAPID-East, 20,1, 3,8149,2,20220227,0044, 26.98203, -15.37450,3153,1043.3, 7.5972, 7.6058, 2.0000,35.2442,2,35.2434,2, 147.6,2,-999.0,9, -999.00,1, -999.00,1, -999.00,1,  -999.0,1, 0.0102, -999.0,9
74EQ20220209,RAPID-East, 20,1, 5,9006,2,20220227,0047, 26.98203, -15.37450,3153, 968.6, 7.8975, 7.8992, 2.0000,35.2399,2,35.2407,2, 139.7,2,-999.0,9, -999.00,1, -999.00,1, -999.00,1,  -999.0,1, 0.0130, -999.0,9
74EQ20220209,RAPID-East, 20,1, 7,9008,2,20220227,0051, 26.98203, -15.37450,3153, 887.3, 8.1745, 8.1791, 2.0000,35.2378,2,35.2373,2, 132.1,2,-999.0,9, -999.00,1, -999.00,1, -999.00,1,  -999.0,1, 0.0137, -999.0,9
74EQ20220209,RAPID-East, 20,1, 9,9010,2,20220227,0056, 26.98203, -15.37450,3153, 707.8, 9.8084, 9.8195, 2.0000,35.3815,2,35.3800,2, 127.8,2, 127.7,6, -999.00,1, -999.00,1, -999.00,1,  -999.0,1, 0.0175, -999.0,9
74EQ20220209,RAPID-East, 20,1,11,9012,2,20220227,0112, 26.98203, -15.37450,3153,  11.4,19.4282,19.4299, 2.0000,36.8576,2,36.8557,2, 228.4,2, 229.5,2, -999.00,1, -999.00,1, -999.00,1,  -999.0,1, 0.1777, -999.0,9
74EQ20220209,RAPID-East, 21,1, 1,9002,2,20220227,2052, 27.82552, -13.74887,1440,1435.3, 5.9328, 5.9399, 2.0000,35.2162,2,35.2164,2, 189.1,2, 189.0,2, -999.00,1, -999.00,1, -999.00,1,  -999.0,1, 0.0160, -999.0,1
74EQ20220209,RAPID-East, 21,1, 3,8149,2,20220227,2108, 27.82552, -13.74887,1440,1409.6, 6.0292, 6.0319, 2.0000,35.2233,2,35.2253,2, 187.2,2, 187.3,2, -999.00,1, -999.00,1, -999.00,1,  -999.0,1, 0.0162, -999.0,1
74EQ20220209,RAPID-East, 21,1, 5,9006,2,20220227,2135, 27.82553, -13.74887,1440, 783.2, 8.7362, 8.7400, 2.0000,35.2703,2,35.2704,2, 124.8,2, 124.2,2, -999.00,1, -999.00,1, -999.00,1,  -999.0,1, 0.0221, -999.0,1
74EQ20220209,RAPID-East, 21,1, 7,9008,2,20220227,2152, 27.82552, -13.74887,1440, 757.3, 8.9695, 8.9771, 2.0000,35.2880,2,35.2888,2, 123.3,2, 123.6,2, -999.00,1, -999.00,1, -999.00,1,  -999.0,1, 0.0180, -999.0,1
74EQ20220209,RAPID-East, 21,1, 9,9010,2,20220227,2208, 27.82550, -13.74889,1440, 732.2, 9.1692, 9.1741, 2.0000,35.3048,2,35.3059,2, 122.1,2, 123.5,2, -999.00,1, -999.00,1, -999.00,1,  -999.0,1, 0.0187, -999.0,1
74EQ20220209,RAPID-East, 21,1,11,9012,2,20220227,2229, 27.82550, -13.74889,1440, 431.5,12.2284,12.2292, 2.0000,35.6605,2,35.6660,2, 171.4,2, 173.0,2, -999.00,1, -999.00,1, -999.00,1,  -999.0,1, 0.0153, -999.0,1
74EQ20220209,RAPID-East, 21,1,13,9014,2,20220227,2245, 27.82550, -13.74887,1440, 407.0,12.4778,12.4878, 2.0000,35.6864,2,35.6868,2, 172.5,2, 175.1,2, -999.00,1, -999.00,1, -999.00,1,  -999.0,1, 0.0152, -999.0,1
74EQ20220209,RAPID-East, 21,1,15,9016,2,20220227,2302, 27.82550, -13.74897,1440, 379.2,12.7114,12.7231, 2.0000,35.7148,2,35.7151,2, 174.2,2, 175.7,2, -999.00,1, -999.00,1, -999.00,1,  -999.0,1, 0.0161, -999.0,1
74EQ20220209,RAPID-East, 21,1,17,9018,2,20220227,2325, 27.82550, -13.74897,1440,  77.8,17.7405,17.7609, 2.0000,36.5248,2,36.5278,2, 227.2,2, 229.9,2, -999.00,1, -999.00,1, -999.00,1,  -999.0,1, 0.0794, -999.0,1
74EQ20220209,RAPID-East, 21,1,19,9020,2,20220227,2342, 27.82550, -13.74895,1440,  52.4,17.7852,17.7877, 2.0000,36.4891,2,36.4858,2, 237.6,2, 240.2,2, -999.00,1, -999.00,1, -999.00,1,  -999.0,1, 0.3437, -999.0,1
74EQ20220209,RAPID-East, 21,1,21,9022,2,20220228,0000, 27.82548, -13.74897,1440,  26.9,17.7815,17.7820, 2.0000,36.4833,2,36.4834,2, 238.1,2, 240.3,2, -999.00,1, -999.00,1, -999.00,1,  -999.0,1, 0.3178, -999.0,1
74EQ20220209,RAPID-East, 21,1,23,9024,2,20220228,0017, 27.82550, -13.74897,1440,  11.8,17.7840,17.7809, 2.0000,36.4826,2,36.4843,2, 238.6,2, 240.7,2, -999.00,1, -999.00,1, -999.00,1,  -999.0,1, 0.3063, -999.0,1
74EQ20220209,RAPID-East, 22,1, 1,9002,2,20220228,0240, 27.82548, -13.74897,1439,1034.7, 7.5061, 7.5097, 2.0000,35.2441,2,35.2446,2, 149.3,2, 150.0,2, -999.00,1, -999.00,1, -999.00,1,  -999.0,1, 0.0119, -999.0,1
74EQ20220209,RAPID-East, 22,1, 3,8149,2,20220228,0240, 27.82548, -13.74897,1439,1034.2, 7.5067, 7.5105, 2.0000,35.2443,2,-999.0000,9, 149.5,2,-999.0,9, -999.00,1, -999.00,1, -999.00,1,  -999.0,1, 0.0155, -999.0,1
74EQ20220209,RAPID-East, 22,1, 5,9006,2,20220228,0257, 27.82548, -13.74897,1439,1008.6, 7.6398, 7.6397, 2.0000,35.2415,2,35.2415,2, 145.6,2, 145.8,2, -999.00,1, -999.00,1, -999.00,1,  -999.0,1, 0.0153, -999.0,1
74EQ20220209,RAPID-East, 22,1, 7,9008,2,20220228,0258, 27.82548, -13.74897,1439,1008.6, 7.6399, 7.6397, 2.0000,35.2415,2,-999.0000,9, 145.6,2,-999.0,9, -999.00,9, -999.00,9, -999.00,9,  -999.0,9, 0.0150, -999.0,9
74EQ20220209,RAPID-East, 22,1, 9,9010,2,20220228,0314, 27.82549, -13.74897,1439, 984.0, 7.6973, 7.6984, 2.0000,35.2406,2,35.2402,2, 143.6,2, 144.1,2, -999.00,9, -999.00,9, -999.00,9,  -999.0,9, 0.0150, -999.0,9
74EQ20220209,RAPID-East, 22,1,11,9012,2,20220228,0314, 27.82548, -13.74897,1439, 984.4, 7.6973, 7.6973, 2.0000,35.2406,2,-999.0000,9, 143.5,2,-999.0,9, -999.00,9, -999.00,9, -999.00,9,  -999.0,9, 0.0132, -999.0,9