BOTTLE,20220308OCPNOCYLF
EXPOCODE,SECT_ID,STNNBR,CASTNO,SAMPNO,BTLNBR,BTLNBR_FLAG_W,DATE,TIME,LATITUDE,LONGITUDE,DEPTH,CTDPRS,CTDTMP,SBE35,SBE35_FLAG_W,CTDSAL,CTDSAL_FLAG_W,SALNTY,SALNTY_FLAG_W,CTDOXY,CTDOXY_FLAG_W,OXYGEN,OXYGEN_FLAG_W,SILCAT,SILCAT_FLAG_W,NO2+NO3,NO2+NO3_FLAG_W,PHSPHT,PHSPHT_FLAG_W,TCARBN,TCARBN_FLAG_W,CTDFLUOR,BOTCHLA,BOTCHLA_FLAG_W
 , , , , , , , , , , ,METERS,DBAR,ITS-90,ITS-90, ,PSS-78, ,PSS-78, ,UMOL/KG, ,UMOL/KG, ,UMOL/KG, ,UMOL/KG,UMOL/KG,UMOL/KG,UMOL/KG,UMOL/KG,UMOL/KG,MG/M^3,ML/L,ML/L
74EQ20220209,RAPID-East, 23,1, 1,9002,2,20220228,2025, 27.86764, -13.54607,1103,1070.1, 7.4895, 7.4864, 2.0000,35.2376,2,35.2377,2, 148.6,2, 147.7,2, -999.00,9, -999.00,9, -999.00,9,  -999.0,9, 0.0158, -999.0,9
74EQ20220209,RAPID-East, 23,1, 3,8149,2,20220228,2027, 27.86766, -13.54607,1103,1045.2, 7.5429, 7.5491, 2.0000,35.2357,2,35.2361,2, 147.0,2, 145.8,6, -999.00,9, -999.00,9, -999.00,9,  -999.0,9, 0.0145, -999.0,9
74EQ20220209,RAPID-East, 23,1, 5,9006,2,20220228,2030, 27.86764, -13.54605,1103,1019.6, 7.6330, 7.6342, 2.0000,35.2328,2,35.2322,2, 144.3,2, 143.9,2, -999.00,9, -999.00,9, -999.00,9,  -999.0,9, 0.0159, -999.0,9
74EQ20220209,RAPID-East, 23,1, 7,9008,2,20220228,2038, 27.86766, -13.54605,1103, 754.8, 9.0709, 9.0739, 2.0000,35.3078,2,35.3066,2, 126.2,2, 125.4,2, -999.00,9, -999.00,9, -999.00,9,  -999.0,9, 0.0186, -999.0,9
74EQ20220209,RAPID-East, 23,1, 9,9010,2,20220228,2044, 27.86766, -13.54606,1103, 504.7,10.9063,10.9263, 2.0000,35.4951,2,35.4967,2, 132.8,2, 132.6,2, -999.00,9, -999.00,9, -999.00,9,  -999.0,9, 0.0182, -999.0,9
74EQ20220209,RAPID-East, 23,1,11,9012,2,20220228,2048, 27.86764, -13.54605,1103, 354.0,12.5365,12.5425, 2.0000,35.6942,2,35.6953,2, 171.5,2, 171.4,2, -999.00,9, -999.00,9, -999.00,9,  -999.0,9, 0.0141, -999.0,9
74EQ20220209,RAPID-East, 23,1,13,9014,2,20220228,2054, 27.86764, -13.54605,1103, 125.5,15.8589,15.9075, 2.0000,36.1893,2,36.1848,2, 191.7,2, 191.3,6, -999.00,9, -999.00,9, -999.00,9,  -999.0,9, 0.0273, -999.0,9
74EQ20220209,RAPID-East, 23,1,15,9016,2,20220228,2058, 27.86766, -13.54605,1103, 101.0,16.6312,16.6497, 2.0000,36.3290,2,36.3305,2, 200.3,2, 200.7,2, -999.00,9, -999.00,9, -999.00,9,  -999.0,9, 0.0471, -999.0,9
74EQ20220209,RAPID-East, 23,1,17,9018,2,20220228,2102, 27.86764, -13.54607,1103,  75.5,17.2190,17.2177, 2.0000,36.4288,2,36.4283,2, 214.7,2, 215.3,2, -999.00,9, -999.00,9, -999.00,9,  -999.0,9, 0.0570, -999.0,9
74EQ20220209,RAPID-East, 23,1,19,9020,2,20220228,2106, 27.86764, -13.54605,1103,  50.4,17.7361,17.7364, 2.0000,36.5076,2,36.5066,2, 233.4,2, 235.3,2, -999.00,9, -999.00,9, -999.00,9,  -999.0,9, 0.3538, -999.0,9
74EQ20220209,RAPID-East, 23,1,21,9022,2,20220228,2109, 27.86764, -13.54607,1103,  24.4,17.7663,17.7668, 2.0000,36.5150,2,36.5166,2, 236.9,2, 236.5,2, -999.00,9, -999.00,9, -999.00,9,  -999.0,9, 0.3696, -999.0,9
74EQ20220209,RAPID-East, 23,1,23,9024,2,20220228,2113, 27.86766, -13.54605,1103,  11.3,17.7638,17.7645, 2.0000,36.5152,2,36.5153,2, 237.2,2, 236.5,2, -999.00,9, -999.00,9, -999.00,9,  -999.0,9, 0.3517, -999.0,9
74EQ20220209,RAPID-East, 24,1, 1,9002,2,20220303,1539, 34.72793, -12.67347,4442,2026.2, 4.5830, 4.5956, 2.0000,35.1651,2,35.1670,2, 238.4,2, 238.3,2, -999.00,1, -999.00,1, -999.00,1,  -999.0,1, 0.0057, -999.0,9
74EQ20220209,RAPID-East, 24,1, 3,8149,2,20220303,1554, 34.72793, -12.67347,4442,1518.5, 7.1751, 7.1705, 2.0000,35.5632,2,35.5616,2, 209.3,2, 212.3,2, -999.00,1, -999.00,1, -999.00,1,  -999.0,1, 0.0053, -999.0,9
74EQ20220209,RAPID-East, 24,1, 5,9006,2,20220303,1606, 34.72793, -12.67347,4442,1109.4, 9.5470, 9.5460, 2.0000,35.8674,2,35.8698,2, 179.4,2, 181.7,6, -999.00,1, -999.00,1, -999.00,1,  -999.0,1, 0.0103, -999.0,9
74EQ20220209,RAPID-East, 24,1, 7,9008,2,20220303,1619, 34.72791, -12.67347,4442, 757.4,10.7247,10.7234, 2.0000,35.7776,2,35.7680,2, 174.2,2, 175.4,6, -999.00,1, -999.00,1, -999.00,1,  -999.0,1, 0.0094, -999.0,9
74EQ20220209,RAPID-East, 24,1, 9,9010,2,20220303,1631, 34.72793, -12.67347,4442, 404.1,12.1242,12.1291, 2.0000,35.6166,2,35.6177,2, 206.0,2, 206.9,2, -999.00,1, -999.00,1, -999.00,1,  -999.0,1, 0.0138, -999.0,9
74EQ20220209,RAPID-East, 24,1,11,9012,2,20220303,1641, 34.72789, -12.67347,4442, 151.4,14.9022,14.9299, 2.0000,36.0001,2,36.0013,2, 217.2,2, 218.5,2, -999.00,1, -999.00,1, -999.00,1,  -999.0,1, 0.0289, -999.0,9
74EQ20220209,RAPID-East, 24,1,13,9014,2,20220303,1649, 34.72793, -12.67347,4442,  49.8,17.1499,17.1514, 2.0000,36.4223,2,36.4231,2, 240.9,2, 243.0,2, -999.00,1, -999.00,1, -999.00,1,  -999.0,1, 0.1905, -999.0,9
74EQ20220209,RAPID-East, 24,1,15,9016,2,20220303,1656, 34.72789, -12.67348,4442,  11.5,17.3374,17.3371, 2.0000,36.4521,2,36.4527,2, 241.7,2, 244.1,2, -999.00,1, -999.00,1, -999.00,1,  -999.0,1, 0.1239, -999.0,9
74EQ20220209,RAPID-East, 25,1, 1,9002,2,20220304,1035, 37.01544, -13.23663,4240,2033.1, 4.3539,-999.0000, 9.0000,35.1232,2,35.1246,2, 246.7,2, 247.7,2, -999.00,1, -999.00,1, -999.00,1,  -999.0,1, 0.0050, -999.0,9
74EQ20220209,RAPID-East, 25,1, 3,8149,2,20220304,1046, 37.01541, -13.23664,4240,1518.4, 7.2654,-999.0000, 9.0000,35.5869,2,35.5854,2, 216.1,2, 215.8,6, -999.00,1, -999.00,1, -999.00,1,  -999.0,1, 0.0082, -999.0,9
74EQ20220209,RAPID-East, 25,1, 5,9006,2,20220304,1053, 37.01541, -13.23664,4240,1211.1,10.7489,-999.0000, 9.0000,36.2302,2,36.2314,2, 183.3,2, 183.1,6, -999.00,1, -999.00,1, -999.00,1,  -999.0,1, 0.0101, -999.0,9
74EQ20220209,RAPID-East, 25,1, 7,9008,2,20220304,1101, 37.01543, -13.23663,4240, 884.2,11.2801,-999.0000, 9.0000,36.0544,2,36.0503,2, 177.0,2, 177.5,2, -999.00,1, -999.00,1, -999.00,1,  -999.0,1, 0.0137, -999.0,9
74EQ20220209,RAPID-East, 25,1, 9,9010,2,20220304,1111, 37.01539, -13.23665,4240, 405.4,11.9319,-999.0000, 9.0000,35.6018,2,35.6014,2, 206.9,2, 207.6,2, -999.00,1, -999.00,1, -999.00,1,  -999.0,1, 0.0139, -999.0,9
74EQ20220209,RAPID-East, 25,1,11,9012,2,20220304,1117, 37.01539, -13.23668,4240, 151.4,14.1868,-999.0000, 9.0000,35.8797,2,35.8716,2, 221.7,2, 222.1,2, -999.00,1, -999.00,1, -999.00,1,  -999.0,1, 0.0252, -999.0,9
74EQ20220209,RAPID-East, 25,1,13,9014,2,20220304,1122, 37.01537, -13.23666,4240,  51.9,16.2552,-999.0000, 9.0000,36.1910,2,36.1915,2, 245.9,2, 246.5,2, -999.00,1, -999.00,1, -999.00,1,  -999.0,1, 0.2224, -999.0,9
74EQ20220209,RAPID-East, 25,1,15,9016,2,20220304,1124, 37.01537, -13.23666,4240,  12.7,16.2513,-999.0000, 9.0000,36.1899,2,-999.0000,9, 246.0,2, 246.9,2, -999.00,1, -999.00,1, -999.00,1,  -999.0,1, 0.1413, -999.0,9