BOTTLE,20211903JOAExport
EXPOCODE,SECT_ID,STNNBR,CASTNO,SAMPNO,BTLNBR,BTLNBR_FLAG_W,DATE,TIME,LATITUDE,LONGITUDE,DEPTH,CTDPRS,CTDTMP,CTDSAL,CTDSAL_FLAG_W,SALNTY,SALNTY_FLAG_W,CTDOXY,CTDOXY_FLAG_W,OXYGEN,OXYGEN_FLAG_W,SILCAT,SILCAT_FLAG_W,NITRAT,NITRAT_FLAG_W,NITRIT,NITRIT_FLAG_W,PHSPHT,PHSPHT_FLAG_W,CFC-11,CFC-11_FLAG_W,CFC-12,CFC-12_FLAG_W,SF6,SF6_FLAG_W,TCARBN,TCARBN_FLAG_W,ALKALI,ALKALI_FLAG_W
,,,,,,,,,,,,DB,ITS-90,PSS-78,,PSS-78,,UMOL/KG,,UMOL/KG,,UMOL/KG,,UMOL/KG,,UMOL/KG,,UMOL/KG,,PMOL/KG,,PMOL/KG,,FMOL/KG,,UMOL/KG,,UMOL/KG
           NA,    P03C,    345,   1,-999.0,     -99,  2,20060111,1328,  24.2718,  129.2903,  4337,   10.400,   23.352,   34.691,2,   34.692,2,  194.680,1,  211.860,2,    1.210,2,    0.030,2,    0.010,2,    0.059,2,    1.795,2,    1.055,2, -999.000,9, 1955.600,2, 2276.800,2
           NA,    P03C,    345,   1,-999.0,     -99,  2,20060111,1328,  24.2718,  129.2903,  4337,   49.600,   23.324,   34.694,2,   34.694,2,  194.950,1,  211.870,2,    1.160,2,    0.030,2,    0.010,2,    0.057,2,    1.806,2,    1.052,2, -999.000,9, 1954.900,6, 2277.600,2
           NA,    P03C,    345,   1,-999.0,     -99,  2,20060111,1328,  24.2718,  129.2903,  4337,  100.300,   22.188,   34.777,2,   34.780,2,  194.820,1,  211.250,2,    1.380,2,    0.260,2,    0.070,2,    0.083,2,    1.899,2,    1.112,2, -999.000,9, 1969.100,2, 2283.200,6
           NA,    P03C,    345,   1,-999.0,     -99,  2,20060111,1328,  24.2718,  129.2903,  4337,  150.400,   19.778,   34.891,2,   34.893,2,  175.980,1,  191.630,2,    2.860,2,    3.170,2,    0.010,2,    0.265,2,    2.216,2,    1.242,2, -999.000,9, 2019.300,2, 2289.500,2
           NA,    P03C,    345,   1,-999.0,     -99,  2,20060111,1328,  24.2718,  129.2903,  4337,  199.600,   18.338,   34.843,2,   34.842,2,  185.610,1,  201.730,2,    3.180,2,    3.640,2,    0.010,2,    0.288,2,    2.309,2,    1.300,2, -999.000,9, 2022.200,2, 2286.700,2
           NA,    P03C,    345,   1,-999.0,     -99,  2,20060111,1328,  24.2718,  129.2903,  4337,  250.300,   17.327,   34.792,2,   34.791,2,  190.700,1,  207.050,2,    3.920,2,    4.520,2,    0.010,2,    0.337,2,    2.396,2,    1.338,2, -999.000,9, 2025.300,2, 2282.900,2
           NA,    P03C,    345,   1,-999.0,     -99,  2,20060111,1328,  24.2718,  129.2903,  4337,  300.500,   16.528,   34.724,2,   34.724,2,  186.080,1,  201.980,2,    5.500,2,    6.180,2,    0.000,2,    0.447,2,    2.473,2,    1.353,2, -999.000,9, 2037.400,2, 2280.300,2
           NA,    P03C,    345,   1,-999.0,     -99,  2,20060111,1328,  24.2718,  129.2903,  4337,  399.100,   14.265,   34.536,2,   34.535,2,  175.210,1,  189.620,2,   11.580,2,   10.840,2,    0.000,2,    0.776,2,    2.605,2,    1.372,2, -999.000,9, 2072.700,2, 2275.100,2
           NA,    P03C,    345,   1,-999.0,     -99,  2,20060111,1328,  24.2718,  129.2903,  4337,  499.100,   11.398,   34.342,2,   34.340,6,  160.000,1,  172.030,2,   23.830,2,   17.240,2,    0.000,2,    1.242,2,    2.452,2,    1.252,2, -999.000,9, 2118.500,2, 2277.400,2
           NA,    P03C,    345,   1,-999.0,     -99,  2,20060111,1328,  24.2718,  129.2903,  4337,  600.100,    9.357,   34.236,2,   34.236,2,  140.030,1,  151.030,2,   37.180,2,   22.630,2,    0.000,2,    1.643,2,    2.104,2,    1.114,2, -999.000,9, 2160.700,2, 2282.900,2
           NA,    P03C,    345,   1,-999.0,     -99,  2,20060111,1328,  24.2718,  129.2903,  4337,  700.000,    6.606,   34.132,2,   34.133,2,  107.060,1,  114.960,2,   62.590,2,   30.790,2,    0.000,2,    2.244,2,    1.519,2,    0.728,2, -999.000,9, 2228.100,6, 2298.200,2
           NA,    P03C,    345,   1,-999.0,     -99,  2,20060111,1328,  24.2718,  129.2903,  4337,  800.500,    5.217,   34.179,2,   34.179,2,   76.870,1,   82.710,2,   85.350,2,   35.990,2,    0.000,2,    2.619,2,    0.926,2,    0.437,2, -999.000,9, 2277.400,2, 2317.300,6
           NA,    P03C,    345,   1,-999.0,     -99,  2,20060111,1328,  24.2718,  129.2903,  4337,  899.800,    4.335,   34.271,2,   34.271,2,   57.510,1,   61.800,2,  104.730,2,   39.250,2,    0.000,2,    2.837,2,    0.466,2,    0.222,2, -999.000,9, 2313.400,2, 2342.600,2
           NA,    P03C,    345,   1,-999.0,     -99,  2,20060111,1328,  24.2718,  129.2903,  4337, 1001.800,    3.948,   34.342,2,   34.341,6,   52.360,1,   56.260,2,  113.690,2,   40.310,2,    0.000,2,    2.914,2,    0.242,2,    0.109,2, -999.000,9, 2326.100,2, 2356.900,2
           NA,    P03C,    345,   1,-999.0,     -99,  2,20060111,1328,  24.2718,  129.2903,  4337, 1199.800,    3.209,   34.444,2,   34.444,2,   57.040,1,   61.380,2,  129.790,2,   40.850,2,    0.000,2,    2.938,2,    0.082,2,    0.039,2, -999.000,9, 2343.700,2, 2375.400,2
           NA,    P03C,    345,   1,-999.0,     -99,  2,20060111,1328,  24.2718,  129.2903,  4337, 1401.700,    2.754,   34.509,2,   34.509,2,   70.870,1,   76.490,2,  137.070,2,   40.270,2,    0.000,2,    2.878,2,    0.033,2,    0.019,2, -999.000,9, 2344.900,2, 2389.400,2
           NA,    P03C,    345,   1,-999.0,     -99,  2,20060111,1328,  24.2718,  129.2903,  4337, 1601.800,    2.420,   34.553,2,   34.553,2,   82.280,1,   89.010,2,  141.120,2,   39.660,2,    0.000,2,    2.831,2, -999.000,5, -999.000,5, -999.000,9, 2347.900,2, 2397.200,2
           NA,    P03C,    345,   1,-999.0,     -99,  2,20060111,1328,  24.2718,  129.2903,  4337, 1798.700,    2.159,   34.589,2,   34.589,6,   94.790,1,  102.790,2,  142.920,2,   38.960,2,    0.000,2,    2.768,2,    0.007,2,    0.006,2, -999.000,9, 2340.600,2, 2402.500,2
           NA,    P03C,    345,   1,-999.0,     -99,  2,20060111,1328,  24.2718,  129.2903,  4337, 1999.700,    1.975,   34.616,2,   34.616,2,  105.640,1,  114.650,2,  143.130,2,   38.230,2,    0.000,2,    2.711,2,    0.000,2,    0.000,2, -999.000,9, 2337.900,2, 2406.700,2
           NA,    P03C,    345,   1,-999.0,     -99,  2,20060111,1328,  24.2718,  129.2903,  4337, 2199.900,    1.870,   34.632,2,   34.632,2,  112.640,1,  122.290,2,  143.240,2,   37.890,2,    0.000,2,    2.677,2,    0.000,2,    0.001,2, -999.000,9, 2333.900,2, 2406.800,2
           NA,    P03C,    345,   1,-999.0,     -99,  2,20060111,1328,  24.2718,  129.2903,  4337, 2401.400,    1.770,   34.645,2,   34.645,2,  118.840,1,  129.070,2,  143.400,2,   37.560,2,    0.000,2,    2.642,2,    0.000,2,    0.000,2, -999.000,9, 2331.600,6, 2412.300,2
           NA,    P03C,    345,   1,-999.0,     -99,  2,20060111,1328,  24.2718,  129.2903,  4337, 2601.100,    1.694,   34.655,2,   34.655,6,  123.870,1,  134.540,2,  143.350,2,   37.220,2,    0.000,2,    2.615,2, -999.000,9, -999.000,9, -999.000,9, 2328.500,2, 2410.300,6
           NA,    P03C,    345,   1,-999.0,     -99,  2,20060111,1328,  24.2718,  129.2903,  4337, 2802.300,    1.631,   34.663,2,   34.663,2,  128.430,1,  139.410,2,  143.230,2,   36.920,2,    0.000,2,    2.592,2,    0.000,2,    0.000,2, -999.000,9, 2326.000,2, 2412.200,2
           NA,    P03C,    345,   1,-999.0,     -99,  2,20060111,1328,  24.2718,  129.2903,  4337, 3000.700,    1.584,   34.669,2,   34.669,2,  132.370,1,  143.490,2,  143.080,2,   36.610,2,    0.000,2,    2.571,2, -999.000,9, -999.000,9, -999.000,9, 2324.400,2, 2411.100,2
           NA,    P03C,    345,   1,-999.0,     -99,  2,20060111,1328,  24.2718,  129.2903,  4337, 3251.100,    1.564,   34.673,2,   34.673,2,  135.390,1,  146.650,2,  142.380,2,   36.440,2,    0.000,2,    2.551,2, -999.000,9, -999.000,9, -999.000,9, 2321.900,2, 2412.000,2
           NA,    P03C,    345,   1,-999.0,     -99,  2,20060111,1328,  24.2718,  129.2903,  4337, 3501.500,    1.569,   34.675,2,   34.675,6,  137.100,1,  147.940,2,  142.510,2,   36.390,2,    0.000,2,    2.550,2,    0.000,2,    0.000,2, -999.000,9, 2321.700,2, 2412.000,2
           NA,    P03C,    345,   1,-999.0,     -99,  2,20060111,1328,  24.2718,  129.2903,  4337, 3750.400,    1.551,   34.679,2,   34.679,2,  140.440,1,  151.180,2,  142.070,2,   36.100,2,    0.000,2,    2.528,2, -999.000,9, -999.000,9, -999.000,9, 2318.900,2, 2410.300,2
           NA,    P03C,    345,   1,-999.0,     -99,  2,20060111,1328,  24.2718,  129.2903,  4337, 4001.200,    1.561,   34.681,2,   34.681,2,  142.310,1,  152.560,2,  141.810,2,   36.060,2,    0.000,2,    2.525,2, -999.000,9, -999.000,9, -999.000,9, 2320.100,2, 2413.100,2
           NA,    P03C,    345,   1,-999.0,     -99,  2,20060111,1328,  24.2718,  129.2903,  4337, 4249.200,    1.580,   34.682,2,   34.682,2,  143.630,1,  153.260,2,  141.700,2,   36.010,2,    0.000,2,    2.519,2,    0.000,2,    0.000,2, -999.000,9, 2318.800,6, 2412.200,2
           NA,    P03C,    345,   1,-999.0,     -99,  2,20060111,1328,  24.2718,  129.2903,  4337, 4413.100,    1.597,   34.682,2,   34.682,6,  144.590,1,  153.370,2,  141.700,2,   36.070,2,    0.000,2,    2.523,2,    0.000,2,    0.000,2, -999.000,9, 2317.700,2, 2413.100,2
           NA,    P03C,    343,   1,-999.0,     -99,  2,20060111,0759,  24.2705,  129.7852,  4158,   10.100,   22.388,   34.846,2,   34.846,2,  197.960,1,  215.270,2,    1.280,2,    0.020,2,    0.000,2,    0.041,2,    1.867,2,    1.100,2, -999.000,9, -999.000,9, -999.000,9
           NA,    P03C,    343,   1,-999.0,     -99,  2,20060111,0759,  24.2705,  129.7852,  4158,   51.900,   22.399,   34.846,2,   34.847,2,  197.850,1,  215.210,2,    1.280,2,    0.030,2,    0.000,2,    0.040,2,    1.867,2,    1.093,2, -999.000,9, -999.000,9, -999.000,9
           NA,    P03C,    343,   1,-999.0,     -99,  2,20060111,0759,  24.2705,  129.7852,  4158,  100.700,   22.370,   34.850,2,   34.850,2,  197.950,1,  215.330,2,    1.250,2,    0.020,2,    0.000,2,    0.040,2,    1.869,2,    1.089,2, -999.000,9, -999.000,9, -999.000,9
           NA,    P03C,    343,   1,-999.0,     -99,  2,20060111,0759,  24.2705,  129.7852,  4158,  150.300,   19.448,   34.904,2,   34.903,2,  181.810,1,  197.430,2,    2.550,2,    2.480,2,    0.020,2,    0.224,2,    2.227,2,    1.269,2, -999.000,9, -999.000,9, -999.000,9
           NA,    P03C,    343,   1,-999.0,     -99,  2,20060111,0759,  24.2705,  129.7852,  4158,  200.900,   17.851,   34.816,2,   34.817,2,  183.490,1,  199.100,2,    3.560,2,    4.390,2,    0.010,2,    0.335,2,    2.363,2,    1.319,2, -999.000,9, -999.000,9, -999.000,9
           NA,    P03C,    343,   1,-999.0,     -99,  2,20060111,0759,  24.2705,  129.7852,  4158,  249.400,   16.964,   34.757,2,   34.757,2,  186.000,1,  201.870,2,    4.610,2,    5.490,2,    0.010,2,    0.401,2,    2.446,6,    1.349,6, -999.000,9, -999.000,9, -999.000,9
           NA,    P03C,    343,   1,-999.0,     -99,  2,20060111,0759,  24.2705,  129.7852,  4158,  299.500,   15.977,   34.678,2,   34.677,2,  183.720,1,  199.330,2,    6.720,2,    7.250,2,    0.000,2,    0.522,2,    2.504,2,    1.359,2, -999.000,9, -999.000,9, -999.000,9
           NA,    P03C,    343,   1,-999.0,     -99,  2,20060111,0759,  24.2705,  129.7852,  4158,  401.900,   14.000,   34.516,2,   34.506,2,  175.470,1,  189.230,2,   12.570,2,   11.410,2,    0.000,2,    0.827,2,    2.609,2,    1.362,2, -999.000,9, -999.000,9, -999.000,9
           NA,    P03C,    343,   1,-999.0,     -99,  2,20060111,0759,  24.2705,  129.7852,  4158,  501.600,   10.769,   34.299,2,   34.299,6,  157.340,1,  169.710,2,   26.050,2,   18.420,2,    0.000,2,    1.338,2,    2.430,2,    1.207,2, -999.000,9, -999.000,9, -999.000,9
           NA,    P03C,    343,   1,-999.0,     -99,  2,20060111,0759,  24.2705,  129.7852,  4158,  599.100,    8.424,   34.209,2,   34.204,2,  126.870,1,  135.790,2,   46.580,2,   25.910,2,    0.000,2,    1.890,2,    1.833,2,    0.890,2, -999.000,9, -999.000,9, -999.000,9
           NA,    P03C,    343,   1,-999.0,     -99,  2,20060111,0759,  24.2705,  129.7852,  4158,  699.400,    6.326,   34.141,2,   34.143,2,  100.470,1,  107.890,2,   67.110,2,   31.930,2,    0.000,2,    2.336,2,    1.377,2,    0.659,2, -999.000,9, -999.000,9, -999.000,9
           NA,    P03C,    343,   1,-999.0,     -99,  2,20060111,0759,  24.2705,  129.7852,  4158,  800.300,    5.093,   34.199,2,   34.198,2,   72.080,1,   77.640,2,   88.370,2,   36.670,2,    0.000,2,    2.675,2,    0.801,6,    0.418,6, -999.000,9, -999.000,9, -999.000,9
           NA,    P03C,    343,   1,-999.0,     -99,  2,20060111,0759,  24.2705,  129.7852,  4158,  899.600,    4.442,   34.283,2,   34.284,2,   57.030,1,   61.120,2,  102.680,2,   39.150,2,    0.000,2,    2.852,2,    0.387,2,    0.182,2, -999.000,9, -999.000,9, -999.000,9
           NA,    P03C,    343,   1,-999.0,     -99,  2,20060111,0759,  24.2705,  129.7852,  4158, 1000.800,    3.930,   34.365,2,   34.366,6,   52.790,1,   56.680,2,  113.760,2,   40.410,2,    0.000,2,    2.926,2,    0.174,2,    0.080,2, -999.000,9, -999.000,9, -999.000,9
           NA,    P03C,    343,   1,-999.0,     -99,  2,20060111,0759,  24.2705,  129.7852,  4158, 1200.700,    3.216,   34.458,2,   34.459,2,   60.700,1,   65.390,2,  128.920,2,   40.630,2,    0.000,2,    2.922,2,    0.058,2,    0.029,2, -999.000,9, -999.000,9, -999.000,9
           NA,    P03C,    343,   1,-999.0,     -99,  2,20060111,0759,  24.2705,  129.7852,  4158, 1401.400,    2.717,   34.517,2,   34.517,2,   72.530,1,   78.290,2,  137.190,2,   40.130,2,    0.000,2,    2.876,2,    0.027,2,    0.011,2, -999.000,9, -999.000,9, -999.000,9
           NA,    P03C,    343,   1,-999.0,     -99,  2,20060111,0759,  24.2705,  129.7852,  4158, 1600.900,    2.336,   34.566,2,   34.566,2,   86.700,1,   93.680,2,  141.360,2,   39.370,2,    0.000,2,    2.815,2,    0.010,2,    0.005,2, -999.000,9, -999.000,9, -999.000,9
           NA,    P03C,    343,   1,-999.0,     -99,  2,20060111,0759,  24.2705,  129.7852,  4158, 1801.100,    2.097,   34.599,2,   34.599,6,   98.760,1,  107.030,2,  142.510,2,   38.700,2,    0.000,2,    2.756,2,    0.000,2,    0.003,2, -999.000,9, -999.000,9, -999.000,9
           NA,    P03C,    343,   1,-999.0,     -99,  2,20060111,0759,  24.2705,  129.7852,  4158, 2000.100,    1.950,   34.621,2,   34.621,2,  107.660,1,  116.820,2,  142.880,2,   38.130,2,    0.000,2,    2.707,2,    0.000,2,    0.000,2, -999.000,9, -999.000,9, -999.000,9
           NA,    P03C,    343,   1,-999.0,     -99,  2,20060111,0759,  24.2705,  129.7852,  4158, 2201.200,    1.835,   34.636,2,   34.636,2,  114.470,1,  124.250,2,  143.010,2,   37.730,2,    0.000,2,    2.672,2,    0.000,2,    0.000,2, -999.000,9, -999.000,9, -999.000,9
           NA,    P03C,    343,   1,-999.0,     -99,  2,20060111,0759,  24.2705,  129.7852,  4158, 2400.500,    1.761,   34.646,2,   34.646,2,  119.510,1,  129.620,2,  143.150,2,   37.410,2,    0.000,2,    2.647,2,    0.000,2,    0.000,2, -999.000,9, -999.000,9, -999.000,9
           NA,    P03C,    343,   1,-999.0,     -99,  2,20060111,0759,  24.2705,  129.7852,  4158, 2601.100,    1.692,   34.655,2,   34.655,6,  124.130,1,  134.570,2,  143.060,2,   37.090,2,    0.000,2,    2.622,2, -999.000,9, -999.000,9, -999.000,9, -999.000,9, -999.000,9
           NA,    P03C,    343,   1,-999.0,     -99,  2,20060111,0759,  24.2705,  129.7852,  4158, 2799.700,    1.644,   34.662,2,   34.662,2,  128.030,1,  138.610,2,  143.130,2,   36.920,2,    0.000,2,    2.602,2, -999.000,9, -999.000,9, -999.000,9, -999.000,9, -999.000,9
           NA,    P03C,    343,   1,-999.0,     -99,  2,20060111,0759,  24.2705,  129.7852,  4158, 2999.600,    1.598,   34.668,2,   34.668,2,  131.880,1,  142.650,2,  142.900,2,   36.630,2,    0.000,2,    2.583,2,    0.000,2,    0.000,2, -999.000,9, -999.000,9, -999.000,9
           NA,    P03C,    343,   1,-999.0,     -99,  2,20060111,0759,  24.2705,  129.7852,  4158, 3249.600,    1.576,   34.672,2,   34.672,6,  135.000,1,  145.960,2,  142.510,2,   36.500,2,    0.000,2,    2.563,2, -999.000,9, -999.000,9, -999.000,9, -999.000,9, -999.000,9
           NA,    P03C,    343,   1,-999.0,     -99,  2,20060111,0759,  24.2705,  129.7852,  4158, 3498.700,    1.560,   34.676,2,   34.676,2,  138.020,1,  148.660,2,  142.370,2,   36.260,2,    0.000,2,    2.550,2, -999.000,9, -999.000,9, -999.000,9, -999.000,9, -999.000,9
           NA,    P03C,    343,   1,-999.0,     -99,  2,20060111,0759,  24.2705,  129.7852,  4158, 3748.500,    1.552,   34.679,2,   34.679,2,  140.880,1,  151.270,2,  141.920,2,   36.110,2,    0.000,2,    2.535,2,    0.000,2,    0.000,2, -999.000,9, -999.000,9, -999.000,9
           NA,    P03C,    343,   1,-999.0,     -99,  2,20060111,0759,  24.2705,  129.7852,  4158, 3999.100,    1.558,   34.681,2,   34.681,2,  143.060,1,  152.880,2,  141.660,2,   35.990,2,    0.000,2,    2.525,2, -999.000,9, -999.000,9, -999.000,9, -999.000,9, -999.000,9
           NA,    P03C,    343,   1,-999.0,     -99,  2,20060111,0759,  24.2705,  129.7852,  4158, 4140.300,    1.565,   34.682,2,   34.682,6,  144.380,1,  153.630,2,  141.570,2,   36.060,2,    0.000,2,    2.523,2,    0.000,2,    0.000,2, -999.000,9, -999.000,9, -999.000,9