BOTTLE,20211903JOAExport
EXPOCODE,SECT_ID,STNNBR,CASTNO,SAMPNO,BTLNBR,BTLNBR_FLAG_W,DATE,TIME,LATITUDE,LONGITUDE,DEPTH,CTDPRS,CTDTMP,CTDSAL,CTDSAL_FLAG_W,SALNTY,SALNTY_FLAG_W,CTDOXY,CTDOXY_FLAG_W,OXYGEN,OXYGEN_FLAG_W,SILCAT,SILCAT_FLAG_W,NITRAT,NITRAT_FLAG_W,NITRIT,NITRIT_FLAG_W,PHSPHT,PHSPHT_FLAG_W,CFC-11,CFC-11_FLAG_W,CFC-12,CFC-12_FLAG_W,SF6,SF6_FLAG_W,TCARBN,TCARBN_FLAG_W,ALKALI,ALKALI_FLAG_W
,,,,,,,,,,,,DB,ITS-90,PSS-78,,PSS-78,,UMOL/KG,,UMOL/KG,,UMOL/KG,,UMOL/KG,,UMOL/KG,,UMOL/KG,,PMOL/KG,,PMOL/KG,,FMOL/KG,,UMOL/KG,,UMOL/KG
           NA,    P03C,    353,   1,-999.0,     -99,  2,20060114,1751,  24.8312,  128.0153,  7410,    9.800,   23.403,   34.655,2,   34.656,2,  195.350,1,  213.180,2,    1.290,2,    0.040,2,    0.010,2,    0.062,2,    1.819,2,    1.052,2, -999.000,9, 1951.300,2, 2277.100,2
           NA,    P03C,    353,   1,-999.0,     -99,  2,20060114,1751,  24.8312,  128.0153,  7410,   50.100,   22.526,   34.677,2,   34.683,2,  197.720,1,  215.530,2,    1.410,2,    0.070,2,    0.070,2,    0.070,2,    1.885,2,    1.096,2, -999.000,9, 1958.800,6, 2276.000,2
           NA,    P03C,    353,   1,-999.0,     -99,  2,20060114,1751,  24.8312,  128.0153,  7410,  100.100,   20.966,   34.895,2,   34.893,2,  171.440,1,  187.560,2,    2.690,2,    2.610,2,    0.030,2,    0.242,2,    2.084,2,    1.188,2, -999.000,9, 2013.200,2, 2290.200,6
           NA,    P03C,    353,   1,-999.0,     -99,  2,20060114,1751,  24.8312,  128.0153,  7410,  150.900,   19.544,   34.871,2,   34.872,2,  175.350,1,  190.810,2,    3.400,2,    3.590,2,    0.020,2,    0.302,2,    2.195,2,    1.231,2, -999.000,9, 2022.600,2, 2289.700,2
           NA,    P03C,    353,   1,-999.0,     -99,  2,20060114,1751,  24.8312,  128.0153,  7410,  199.000,   17.967,   34.819,2,   34.810,2,  167.780,1,  184.530,2,    4.670,2,    5.690,2,    0.010,2,    0.456,2,    2.358,2,    1.294,2, -999.000,9, 2047.600,2, 2288.800,2
           NA,    P03C,    353,   1,-999.0,     -99,  2,20060114,1751,  24.8312,  128.0153,  7410,  251.900,   16.596,   34.715,2,   34.714,2,  175.460,1,  191.160,2,    5.940,2,    6.870,2,    0.010,2,    0.520,2,    2.457,6,    1.333,6, -999.000,9, 2049.700,2, 2283.500,2
           NA,    P03C,    353,   1,-999.0,     -99,  2,20060114,1751,  24.8312,  128.0153,  7410,  301.200,   15.547,   34.631,2,   34.630,2,  173.840,1,  189.450,2,    8.140,2,    8.620,2,    0.010,2,    0.640,2,    2.501,2,    1.349,2, -999.000,9, 2060.600,2, 2279.500,2
           NA,    P03C,    353,   1,-999.0,     -99,  2,20060114,1751,  24.8312,  128.0153,  7410,  399.700,   13.145,   34.457,2,   34.443,2,  163.910,1,  177.520,2,   16.560,2,   13.940,2,    0.010,2,    1.015,2,    2.523,2,    1.278,2, -999.000,9, 2097.900,2, 2274.200,2
           NA,    P03C,    353,   1,-999.0,     -99,  2,20060114,1751,  24.8312,  128.0153,  7410,  499.600,    9.824,   34.240,2,   34.238,6,  143.120,1,  155.690,2,   31.140,2,   21.310,2,    0.010,2,    1.557,2,    2.247,2,    1.091,2, -999.000,9, 2149.600,2, 2278.500,2
           NA,    P03C,    353,   1,-999.0,     -99,  2,20060114,1751,  24.8312,  128.0153,  7410,  600.700,    7.894,   34.181,2,   34.181,2,  118.320,1,  128.600,2,   49.660,2,   27.260,2,    0.010,2,    1.995,2,    1.704,2,    0.814,2, -999.000,9, 2196.800,2, 2287.800,2
           NA,    P03C,    353,   1,-999.0,     -99,  2,20060114,1751,  24.8312,  128.0153,  7410,  700.400,    6.110,   34.159,2,   34.160,2,   89.370,1,   97.300,2,   70.950,2,   33.200,2,    0.010,2,    2.436,2,    1.142,2,    0.537,2, -999.000,9, 2250.700,6, 2308.500,2
           NA,    P03C,    353,   1,-999.0,     -99,  2,20060114,1751,  24.8312,  128.0153,  7410,  800.400,    5.119,   34.215,2,   34.216,2,   67.450,1,   73.590,2,   88.170,2,   36.990,2,    0.000,2,    2.701,2,    0.679,6,    0.316,6, -999.000,9, 2286.900,2, 2326.900,6
           NA,    P03C,    353,   1,-999.0,     -99,  2,20060114,1751,  24.8312,  128.0153,  7410,  900.500,    4.333,   34.295,2,   34.296,2,   54.590,1,   59.500,2,  104.980,2,   39.350,2,    0.000,2,    2.861,2,    0.356,2,    0.167,2, -999.000,9, 2316.800,2, 2345.100,2
           NA,    P03C,    353,   1,-999.0,     -99,  2,20060114,1751,  24.8312,  128.0153,  7410, 1000.200,    3.869,   34.367,2,   34.367,6,   53.510,1,   58.470,2,  115.610,2,   40.120,2,    0.010,2,    2.908,2,    0.196,2,    0.093,2, -999.000,9, 2330.300,2, 2359.400,2
           NA,    P03C,    353,   1,-999.0,     -99,  2,20060114,1751,  24.8312,  128.0153,  7410, 1200.700,    3.159,   34.459,2,   34.459,2,   60.950,1,   66.670,2,  130.160,2,   40.320,2,    0.010,2,    2.909,2,    0.083,2,    0.041,2, -999.000,9, 2342.200,2, 2378.800,2
           NA,    P03C,    353,   1,-999.0,     -99,  2,20060114,1751,  24.8312,  128.0153,  7410, 1401.600,    2.808,   34.522,2,   34.522,2,   72.720,1,   79.920,2,  135.460,2,   39.770,2,    0.010,2,    2.861,2,    0.032,2,    0.016,2, -999.000,9, 2345.800,2, 2389.100,2
           NA,    P03C,    353,   1,-999.0,     -99,  2,20060114,1751,  24.8312,  128.0153,  7410, 1598.500,    2.465,   34.557,2,   34.557,2,   82.720,1,   91.160,2,  139.980,2,   39.260,2,    0.000,2,    2.818,2,    0.014,2,    0.009,2, -999.000,9, 2343.800,2, 2398.100,2
           NA,    P03C,    353,   1,-999.0,     -99,  2,20060114,1751,  24.8312,  128.0153,  7410, 1800.300,    2.242,   34.594,2,   34.594,2,   94.760,1,  104.710,2,  140.910,2,   38.610,2,    0.010,2,    2.758,2,    0.005,2,    0.004,2, -999.000,9, 2341.700,2, 2401.100,2
           NA,    P03C,    353,   1,-999.0,     -99,  2,20060114,1751,  24.8312,  128.0153,  7410, 2000.900,    2.088,   34.614,2,   34.614,2,  101.970,1,  112.870,2,  141.580,2,   38.180,2,    0.010,2,    2.718,2,    0.002,2,    0.003,2, -999.000,9, 2339.000,2, 2405.300,2
           NA,    P03C,    353,   1,-999.0,     -99,  2,20060114,1751,  24.8312,  128.0153,  7410, 2200.100,    1.912,   34.632,2,   34.633,2,  109.400,1,  121.370,2,  142.710,2,   37.860,2,    0.000,2,    2.680,2,    0.002,2,    0.001,2, -999.000,9, 2336.000,2, 2406.500,2
           NA,    P03C,    353,   1,-999.0,     -99,  2,20060114,1751,  24.8312,  128.0153,  7410, 2399.300,    1.813,   34.644,2,   34.644,6,  114.660,1,  127.340,2,  143.040,2,   37.440,2,    0.010,2,    2.652,2,    0.000,2,    0.000,2, -999.000,9, 2334.000,6, 2410.400,2
           NA,    P03C,    353,   1,-999.0,     -99,  2,20060114,1751,  24.8312,  128.0153,  7410, 2601.500,    1.749,   34.652,2,   34.652,2,  118.320,1,  131.650,2,  143.340,2,   37.190,2,    0.010,2,    2.631,2,    0.000,2,    0.000,2, -999.000,9, 2333.900,2, 2410.100,6
           NA,    P03C,    353,   1,-999.0,     -99,  2,20060114,1751,  24.8312,  128.0153,  7410, 2800.300,    1.676,   34.660,2,   34.660,2,  122.690,1,  136.770,2,  143.460,2,   36.940,2,    0.010,2,    2.609,2, -999.000,9, -999.000,9, -999.000,9, 2330.000,2, 2410.600,2
           NA,    P03C,    353,   1,-999.0,     -99,  2,20060114,1751,  24.8312,  128.0153,  7410, 2998.500,    1.635,   34.665,2,   34.666,2,  125.840,1,  140.390,2,  143.270,2,   36.610,2,    0.000,2,    2.590,2, -999.000,9, -999.000,9, -999.000,9, -999.000,5, -999.000,5
           NA,    P03C,    353,   1,-999.0,     -99,  2,20060114,1751,  24.8312,  128.0153,  7410, 3250.000,    1.605,   34.670,2,   34.670,2,  128.910,1,  143.880,2,  142.890,2,   36.440,2,    0.000,2,    2.571,2,    0.000,2,    0.000,2, -999.000,9, 2325.500,2, 2411.600,2
           NA,    P03C,    353,   1,-999.0,     -99,  2,20060114,1751,  24.8312,  128.0153,  7410, 3499.800,    1.583,   34.674,2,   34.674,2,  131.790,1,  146.970,2,  142.470,2,   36.220,2,    0.000,2,    2.552,2, -999.000,9, -999.000,9, -999.000,9, 2326.000,2, 2414.400,2
           NA,    P03C,    353,   1,-999.0,     -99,  2,20060114,1751,  24.8312,  128.0153,  7410, 3750.300,    1.576,   34.677,2,   34.678,6,  133.970,1,  149.340,2,  142.170,2,   36.120,2,    0.000,2,    2.538,2, -999.000,9, -999.000,9, -999.000,9, 2324.100,2, 2415.300,2
           NA,    P03C,    353,   1,-999.0,     -99,  2,20060114,1751,  24.8312,  128.0153,  7410, 4000.200,    1.582,   34.679,2,   34.679,2,  135.440,1,  150.700,2,  142.140,2,   36.030,2,    0.000,2,    2.535,2,    0.000,2,    0.000,2, -999.000,9, 2323.800,2, 2414.400,2
           NA,    P03C,    353,   1,-999.0,     -99,  2,20060114,1751,  24.8312,  128.0153,  7410, 4249.800,    1.590,   34.681,2,   34.681,2,  137.020,1,  152.300,2,  141.950,2,   35.920,2,    0.000,2,    2.526,2, -999.000,9, -999.000,9, -999.000,9, 2321.200,2, 2413.400,2
           NA,    P03C,    353,   1,-999.0,     -99,  2,20060114,1751,  24.8312,  128.0153,  7410, 4500.600,    1.607,   34.682,2,   34.682,2,  138.200,1,  153.250,2,  141.720,2,   35.860,2,    0.000,2,    2.525,2, -999.000,9, -999.000,9, -999.000,9, 2322.100,2, 2412.500,6
           NA,    P03C,    353,   1,-999.0,     -99,  2,20060114,1751,  24.8312,  128.0153,  7410, 4749.800,    1.628,   34.683,2,   34.683,2,  139.250,1,  154.000,2,  141.560,2,   35.750,2,    0.000,2,    2.521,2,    0.000,2,    0.003,2, -999.000,9, 2319.300,2, 2414.400,2
           NA,    P03C,    353,   1,-999.0,     -99,  2,20060114,1751,  24.8312,  128.0153,  7410, 5000.100,    1.655,   34.683,2,   34.683,6,  140.040,1,  154.440,2,  141.300,2,   35.860,2,    0.000,2,    2.516,2, -999.000,9, -999.000,9, -999.000,9, 2321.500,2, 2411.900,2
           NA,    P03C,    353,   1,-999.0,     -99,  2,20060114,1751,  24.8312,  128.0153,  7410, 5250.300,    1.683,   34.684,2,   34.684,2,  140.850,1,  154.470,2,  141.230,2,   35.770,2,    0.010,2,    2.514,2,    0.000,2,    0.002,2, -999.000,9, 2319.900,2, 2412.500,2
           NA,    P03C,    353,   1,-999.0,     -99,  2,20060114,1751,  24.8312,  128.0153,  7410, 5501.600,    1.712,   34.684,2,   34.684,2,  141.870,1,  155.020,2,  141.280,2,   35.840,2,    0.010,2,    2.511,2, -999.000,9, -999.000,9, -999.000,9, 2320.800,2, 2411.600,2
           NA,    P03C,    353,   1,-999.0,     -99,  2,20060114,1751,  24.8312,  128.0153,  7410, 6000.500,    1.780,   34.684,2,   34.684,2,  143.560,1,  154.890,2,  141.330,2,   35.800,2,    0.010,2,    2.513,2,    0.001,2,    0.005,2, -999.000,9, 2319.200,2, 2412.100,2
           NA,    P03C,    353,   1,-999.0,     -99,  2,20060114,1751,  24.8312,  128.0153,  7410, 6501.500,    1.852,   34.684,2,   34.684,6,  146.350,1,  155.120,2,  141.430,2,   35.780,2,    0.010,2,    2.515,2,    0.000,2,    0.000,2, -999.000,9, 2318.400,2, 2413.900,2