BOTTLE,20211903JOAExport
EXPOCODE,SECT_ID,STNNBR,CASTNO,SAMPNO,BTLNBR,BTLNBR_FLAG_W,DATE,TIME,LATITUDE,LONGITUDE,DEPTH,CTDPRS,CTDTMP,CTDSAL,CTDSAL_FLAG_W,SALNTY,SALNTY_FLAG_W,CTDOXY,CTDOXY_FLAG_W,OXYGEN,OXYGEN_FLAG_W,SILCAT,SILCAT_FLAG_W,NITRAT,NITRAT_FLAG_W,NITRIT,NITRIT_FLAG_W,PHSPHT,PHSPHT_FLAG_W,CFC-11,CFC-11_FLAG_W,CFC-12,CFC-12_FLAG_W,SF6,SF6_FLAG_W,TCARBN,TCARBN_FLAG_W,ALKALI,ALKALI_FLAG_W
,,,,,,,,,,,,DB,ITS-90,PSS-78,,PSS-78,,UMOL/KG,,UMOL/KG,,UMOL/KG,,UMOL/KG,,UMOL/KG,,UMOL/KG,,PMOL/KG,,PMOL/KG,,FMOL/KG,,UMOL/KG,,UMOL/KG
           NA,    P03C,    X10,   1,-999.0,     -99,  2,20051230,0537,  24.5033,  149.3132,  5769,   10.500,   23.994,   34.962,2,   34.960,2,  195.270,1,  210.610,2,    1.180,2,    0.050,2,    0.000,2,    0.034,2,    1.717,2,    1.025,2, -999.000,9, 1961.700,2, 2295.900,2
           NA,    P03C,    X10,   1,-999.0,     -99,  2,20051230,0537,  24.5033,  149.3132,  5769,   51.900,   23.687,   34.914,2,   34.920,2,  196.500,1,  211.670,2,    1.290,2,    0.040,2,    0.000,2,    0.035,2,    1.756,2,    1.039,2, -999.000,9, 1962.800,6, 2289.700,2
           NA,    P03C,    X10,   1,-999.0,     -99,  2,20051230,0537,  24.5033,  149.3132,  5769,   99.500,   20.388,   34.904,2,   34.905,2,  200.770,1,  216.430,2,    1.960,2,    0.290,2,    0.110,2,    0.083,2,    2.109,2,    1.240,2, -999.000,9, 2002.900,2, 2292.800,6
           NA,    P03C,    X10,   1,-999.0,     -99,  2,20051230,0537,  24.5033,  149.3132,  5769,  151.200,   18.763,   34.867,2,   34.867,2,  190.920,1,  205.500,2,    2.590,2,    2.050,2,    0.020,2,    0.194,2,    2.184,2,    1.287,2, -999.000,9, 2020.400,2, 2290.300,2
           NA,    P03C,    X10,   1,-999.0,     -99,  2,20051230,0537,  24.5033,  149.3132,  5769,  199.800,   17.761,   34.814,2,   34.814,2,  195.280,1,  209.890,2,    3.190,2,    3.640,2,    0.010,2,    0.272,2,    2.249,2,    1.323,2, -999.000,9, 2020.400,2, 2285.600,2
           NA,    P03C,    X10,   1,-999.0,     -99,  2,20051230,0537,  24.5033,  149.3132,  5769,  251.300,   17.250,   34.799,2,   34.800,2,  200.040,1,  215.310,2,    3.590,2,    3.930,2,    0.010,2,    0.289,2,    2.290,6,    1.351,6, -999.000,9, 2021.600,2, 2285.100,2
           NA,    P03C,    X10,   1,-999.0,     -99,  2,20051230,0537,  24.5033,  149.3132,  5769,  301.500,   16.548,   34.730,2,   34.729,2,  189.060,1,  203.410,2,    5.450,2,    6.090,2,    0.010,2,    0.430,2,    2.359,2,    1.361,2, -999.000,9, 2037.900,2, 2282.900,2
           NA,    P03C,    X10,   1,-999.0,     -99,  2,20051230,0537,  24.5033,  149.3132,  5769,  398.800,   14.295,   34.541,2,   34.534,2,  178.590,1,  192.030,2,   11.880,2,   10.760,2,    0.000,2,    0.760,2,    2.425,2,    1.347,2, -999.000,9, 2072.400,2, 2276.500,2
           NA,    P03C,    X10,   1,-999.0,     -99,  2,20051230,0537,  24.5033,  149.3132,  5769,  501.600,   10.770,   34.276,2,   34.277,6,  170.260,1,  182.910,2,   23.140,2,   17.180,2,    0.000,2,    1.233,2,    2.529,2,    1.321,2, -999.000,9, 2118.500,2, 2273.400,2
           NA,    P03C,    X10,   1,-999.0,     -99,  2,20051230,0537,  24.5033,  149.3132,  5769,  601.300,    8.333,   34.122,2,   34.123,2,  150.220,1,  161.680,2,   38.870,2,   23.560,2,    0.000,2,    1.709,2,    2.248,2,    1.161,2, -999.000,9, 2165.500,2, 2280.300,2
           NA,    P03C,    X10,   1,-999.0,     -99,  2,20051230,0537,  24.5033,  149.3132,  5769,  701.300,    6.340,   34.067,2,   34.071,2,  111.400,1,  118.670,2,   61.590,2,   31.190,2,    0.000,2,    2.281,2,    1.597,2,    0.776,2, -999.000,9, 2226.500,6, 2293.400,2
           NA,    P03C,    X10,   1,-999.0,     -99,  2,20051230,0537,  24.5033,  149.3132,  5769,  800.600,    4.935,   34.167,2,   34.169,2,   62.850,1,   67.470,2,   88.800,2,   38.190,2,    0.000,2,    2.780,2,    0.646,6,    0.318,6, -999.000,9, 2291.000,2, 2321.700,6
           NA,    P03C,    X10,   1,-999.0,     -99,  2,20051230,0537,  24.5033,  149.3132,  5769,  903.600,    4.348,   34.258,2,   34.257,2,   47.090,1,   50.860,2,  103.150,2,   40.330,2,    0.000,2,    2.935,2,    0.302,2,    0.144,2, -999.000,9, 2318.200,2, 2341.500,2
           NA,    P03C,    X10,   1,-999.0,     -99,  2,20051230,0537,  24.5033,  149.3132,  5769, 1004.100,    3.889,   34.342,2,   34.341,6,   42.020,1,   45.340,2,  115.270,2,   41.500,2,    0.000,2,    3.010,2,    0.128,2,    0.062,2, -999.000,9, 2337.100,2, 2354.500,2
           NA,    P03C,    X10,   1,-999.0,     -99,  2,20051230,0537,  24.5033,  149.3132,  5769, 1200.600,    3.208,   34.447,2,   34.446,2,   45.720,1,   49.170,2,  132.210,2,   41.860,2,    0.000,2,    3.035,2,    0.033,2,    0.017,2, -999.000,9, 2354.000,2, 2376.200,2
           NA,    P03C,    X10,   1,-999.0,     -99,  2,20051230,0537,  24.5033,  149.3132,  5769, 1402.700,    2.706,   34.509,2,   34.509,2,   53.930,1,   58.590,2,  143.710,2,   41.900,2,    0.000,2,    3.002,2,    0.007,2,    0.006,2, -999.000,9, 2361.800,2, 2390.700,2
           NA,    P03C,    X10,   1,-999.0,     -99,  2,20051230,0537,  24.5033,  149.3132,  5769, 1601.400,    2.348,   34.555,2,   34.555,2,   64.920,1,   70.330,2,  150.420,2,   41.220,2,    0.000,2,    2.950,2,    0.005,2,    0.005,2, -999.000,9, 2360.200,2, 2400.200,2
           NA,    P03C,    X10,   1,-999.0,     -99,  2,20051230,0537,  24.5033,  149.3132,  5769, 1802.600,    2.106,   34.588,2,   34.589,2,   78.250,1,   85.180,2,  152.590,2,   40.430,2,    0.000,2,    2.877,2,    0.010,2,    0.002,2, -999.000,9, 2357.100,2, 2409.100,2
           NA,    P03C,    X10,   1,-999.0,     -99,  2,20051230,0537,  24.5033,  149.3132,  5769, 2001.000,    1.936,   34.612,2,   34.613,2,   89.740,1,   97.870,2,  153.300,2,   39.630,2,    0.000,2,    2.818,2,    0.003,2,    0.004,2, -999.000,9, 2352.000,2, 2411.000,2
           NA,    P03C,    X10,   1,-999.0,     -99,  2,20051230,0537,  24.5033,  149.3132,  5769, 2200.700,    1.789,   34.632,2,   34.632,6,   99.810,1,  108.980,2,  153.840,2,   38.980,2,    0.000,2,    2.764,2,    0.014,2,    0.001,2, -999.000,9, 2347.200,2, 2412.500,2
           NA,    P03C,    X10,   1,-999.0,     -99,  2,20051230,0537,  24.5033,  149.3132,  5769, 2402.300,    1.697,   34.647,2,   34.647,2,  109.550,1,  119.850,2,  152.270,2,   38.290,2,    0.000,2,    2.709,2,    0.010,2,    0.001,2, -999.000,9, 2341.300,6, 2413.900,2
           NA,    P03C,    X10,   1,-999.0,     -99,  2,20051230,0537,  24.5033,  149.3132,  5769, 2599.600,    1.635,   34.655,2,   34.655,2,  114.360,1,  125.170,2,  152.350,2,   38.000,2,    0.000,2,    2.684,2,    0.004,2,    0.000,2, -999.000,9, 2339.000,2, 2414.900,6
           NA,    P03C,    X10,   1,-999.0,     -99,  2,20051230,0537,  24.5033,  149.3132,  5769, 2799.600,    1.589,   34.664,2,   34.664,2,  120.270,1,  131.870,2,  151.460,2,   37.580,2,    0.000,2,    2.647,2, -999.000,9, -999.000,9, -999.000,9, 2334.300,2, 2418.700,2
           NA,    P03C,    X10,   1,-999.0,     -99,  2,20051230,0537,  24.5033,  149.3132,  5769, 3001.900,    1.556,   34.668,2,   34.668,2,  123.740,1,  135.800,2,  151.140,2,   37.340,2,    0.000,2,    2.631,2, -999.000,9, -999.000,9, -999.000,9, 2332.400,2, 2418.000,2
           NA,    P03C,    X10,   1,-999.0,     -99,  2,20051230,0537,  24.5033,  149.3132,  5769, 3250.000,    1.523,   34.675,2,   34.675,6,  128.830,1,  141.460,2,  149.720,2,   36.810,2,    0.000,2,    2.584,2,    0.000,2,    0.003,2, -999.000,9, 2328.900,2, 2418.000,2
           NA,    P03C,    X10,   1,-999.0,     -99,  2,20051230,0537,  24.5033,  149.3132,  5769, 3498.500,    1.494,   34.679,2,   34.679,2,  133.030,1,  145.930,2,  148.770,2,   36.620,2,    0.000,2,    2.564,2, -999.000,9, -999.000,9, -999.000,9, 2325.500,2, 2414.500,2
           NA,    P03C,    X10,   1,-999.0,     -99,  2,20051230,0537,  24.5033,  149.3132,  5769, 3750.700,    1.492,   34.682,2,   34.682,2,  136.160,1,  149.310,2,  147.880,2,   36.500,2,    0.000,2,    2.552,2, -999.000,9, -999.000,9, -999.000,9, 2324.500,2, 2416.800,2
           NA,    P03C,    X10,   1,-999.0,     -99,  2,20051230,0537,  24.5033,  149.3132,  5769, 4000.300,    1.475,   34.685,2,   34.685,2,  140.010,1,  152.920,2,  146.840,2,   36.120,2,    0.000,2,    2.533,2,    0.000,2,    0.001,2, -999.000,9, 2321.900,2, 2413.400,2
           NA,    P03C,    X10,   1,-999.0,     -99,  2,20051230,0537,  24.5033,  149.3132,  5769, 4251.700,    1.469,   34.688,2,   34.688,2,  143.820,1,  156.780,2,  145.320,2,   35.900,2,    0.000,2,    2.512,2, -999.000,9, -999.000,9, -999.000,9, 2317.800,6, 2412.800,2
           NA,    P03C,    X10,   1,-999.0,     -99,  2,20051230,0537,  24.5033,  149.3132,  5769, 4504.000,    1.472,   34.690,2,   34.690,6,  147.230,1,  160.040,2,  143.870,2,   35.650,2,    0.000,2,    2.491,2, -999.000,9, -999.000,9, -999.000,9, 2314.700,2, 2411.300,6
           NA,    P03C,    X10,   1,-999.0,     -99,  2,20051230,0537,  24.5033,  149.3132,  5769, 4753.000,    1.482,   34.692,2,   34.692,2,  151.010,1,  163.560,2,  141.670,2,   35.400,2,    0.000,2,    2.472,2,    0.000,2,    0.002,2, -999.000,9, 2313.600,2, 2409.200,2
           NA,    P03C,    X10,   1,-999.0,     -99,  2,20051230,0537,  24.5033,  149.3132,  5769, 4998.900,    1.497,   34.693,2,   34.694,2,  153.520,1,  165.540,2,  140.490,2,   35.270,2,    0.000,2,    2.464,2, -999.000,9, -999.000,9, -999.000,9, 2310.000,2, 2408.000,2
           NA,    P03C,    X10,   1,-999.0,     -99,  2,20051230,0537,  24.5033,  149.3132,  5769, 5250.900,    1.512,   34.695,2,   34.695,2,  156.650,1,  168.420,2,  138.790,2,   35.050,2,    0.000,2,    2.449,2, -999.000,9, -999.000,9, -999.000,9, 2302.800,2, 2406.500,2
           NA,    P03C,    X10,   1,-999.0,     -99,  2,20051230,0537,  24.5033,  149.3132,  5769, 5500.100,    1.527,   34.696,2,   34.697,2,  160.280,1,  171.110,2,  136.680,2,   34.860,2,    0.000,2,    2.440,2,    0.000,2,    0.000,2, -999.000,9, 2301.600,2, 2405.200,2
           NA,    P03C,    X10,   1,-999.0,     -99,  2,20051230,0537,  24.5033,  149.3132,  5769, 5750.200,    1.529,   34.699,2,   34.699,2,  165.830,1,  175.670,2,  133.810,2,   34.520,2,    0.000,2,    2.412,2, -999.000,9, -999.000,9, -999.000,9, -999.000,3, 2399.800,2
           NA,    P03C,    X10,   1,-999.0,     -99,  2,20051230,0537,  24.5033,  149.3132,  5769, 5865.600,    1.545,   34.699,2,   34.699,6,  166.760,1,  175.720,2,  133.870,2,   34.530,2,    0.000,2,    2.414,2,    0.000,2,    0.000,2, -999.000,9, -999.000,3, 2401.400,2
           NA,    P03C,    273,   1,-999.0,     -99,  2,20051230,0002,  24.2620,  149.6548,  5034,   10.000,   24.284,   34.891,2,   34.891,2,  195.780,1,  210.760,2,    1.310,2,    0.050,2,    0.000,2,    0.039,2,    1.726,2,    1.040,2, -999.000,9, -999.000,9, -999.000,9
           NA,    P03C,    273,   1,-999.0,     -99,  2,20051230,0002,  24.2620,  149.6548,  5034,   48.700,   24.275,   34.889,2,   34.889,2,  195.590,1,  210.790,2,    1.340,2,    0.050,2,    0.000,2,    0.036,2,    1.721,2,    1.032,2, -999.000,9, -999.000,9, -999.000,9
           NA,    P03C,    273,   1,-999.0,     -99,  2,20051230,0002,  24.2620,  149.6548,  5034,  100.100,   20.610,   34.924,2,   34.925,2,  202.090,1,  217.990,2,    1.980,2,    0.080,2,    0.040,2,    0.072,2,    2.147,2,    1.245,2, -999.000,9, -999.000,9, -999.000,9
           NA,    P03C,    273,   1,-999.0,     -99,  2,20051230,0002,  24.2620,  149.6548,  5034,  151.000,   18.856,   34.870,2,   34.870,2,  189.380,1,  203.830,2,    2.730,2,    1.960,2,    0.030,2,    0.200,2,    2.266,2,    1.280,2, -999.000,9, -999.000,9, -999.000,9
           NA,    P03C,    273,   1,-999.0,     -99,  2,20051230,0002,  24.2620,  149.6548,  5034,  199.400,   17.525,   34.810,2,   34.809,2,  197.340,1,  212.290,2,    3.420,2,    3.820,2,    0.010,2,    0.289,2,    2.356,2,    1.319,2, -999.000,9, -999.000,9, -999.000,9
           NA,    P03C,    273,   1,-999.0,     -99,  2,20051230,0002,  24.2620,  149.6548,  5034,  249.400,   16.813,   34.755,2,   34.755,2,  191.950,1,  206.700,2,    4.740,2,    5.350,2,    0.000,2,    0.388,2,    2.422,6,    1.341,6, -999.000,9, -999.000,9, -999.000,9
           NA,    P03C,    273,   1,-999.0,     -99,  2,20051230,0002,  24.2620,  149.6548,  5034,  300.200,   15.683,   34.652,2,   34.653,2,  184.460,1,  198.330,2,    7.520,2,    7.760,2,    0.000,2,    0.557,2,    2.510,2,    1.355,2, -999.000,9, -999.000,9, -999.000,9
           NA,    P03C,    273,   1,-999.0,     -99,  2,20051230,0002,  24.2620,  149.6548,  5034,  400.500,   13.188,   34.449,2,   34.446,2,  178.380,1,  191.450,2,   13.950,2,   12.260,2,    0.000,2,    0.888,2,    2.639,2,    1.369,2, -999.000,9, -999.000,9, -999.000,9
           NA,    P03C,    273,   1,-999.0,     -99,  2,20051230,0002,  24.2620,  149.6548,  5034,  502.700,   10.108,   34.232,2,   34.238,6,  165.630,1,  177.740,2,   26.180,2,   18.620,2,    0.000,2,    1.352,2,    2.540,2,    1.261,2, -999.000,9, -999.000,9, -999.000,9
           NA,    P03C,    273,   1,-999.0,     -99,  2,20051230,0002,  24.2620,  149.6548,  5034,  600.500,    7.189,   34.087,2,   34.089,2,  126.430,1,  136.470,2,   50.010,2,   27.780,2,    0.000,2,    2.037,2,    1.884,2,    0.920,2, -999.000,9, -999.000,9, -999.000,9
           NA,    P03C,    273,   1,-999.0,     -99,  2,20051230,0002,  24.2620,  149.6548,  5034,  702.600,    5.789,   34.100,2,   34.101,2,   91.970,1,   98.480,2,   70.310,2,   33.750,2,    0.000,2,    2.473,2,    1.205,2,    0.584,2, -999.000,9, -999.000,9, -999.000,9
           NA,    P03C,    273,   1,-999.0,     -99,  2,20051230,0002,  24.2620,  149.6548,  5034,  800.000,    4.941,   34.185,2,   34.184,2,   61.330,1,   66.510,2,   88.930,2,   38.010,2,    0.000,2,    2.784,2,    0.586,6,    0.290,6, -999.000,9, -999.000,9, -999.000,9
           NA,    P03C,    273,   1,-999.0,     -99,  2,20051230,0002,  24.2620,  149.6548,  5034,  899.900,    4.232,   34.276,2,   34.276,2,   45.360,1,   48.500,2,  106.070,2,   40.630,2,    0.000,2,    2.955,2,    0.247,2,    0.116,2, -999.000,9, -999.000,9, -999.000,9
           NA,    P03C,    273,   1,-999.0,     -99,  2,20051230,0002,  24.2620,  149.6548,  5034, 1001.900,    3.881,   34.334,2,   34.335,6,   40.920,1,   43.660,2,  115.560,2,   41.500,2,    0.000,2,    3.019,2,    0.130,2,    0.064,2, -999.000,9, -999.000,9, -999.000,9
           NA,    P03C,    273,   1,-999.0,     -99,  2,20051230,0002,  24.2620,  149.6548,  5034, 1200.400,    3.166,   34.468,2,   34.469,2,   51.590,1,   55.270,2,  131.920,2,   41.480,2,    0.000,2,    3.006,2,    0.026,2,    0.012,2, -999.000,9, -999.000,9, -999.000,9
           NA,    P03C,    273,   1,-999.0,     -99,  2,20051230,0002,  24.2620,  149.6548,  5034, 1400.200,    2.696,   34.514,2,   34.514,2,   55.360,1,   59.610,2,  143.250,2,   41.620,2,    0.000,2,    3.001,2,    0.012,2,    0.002,2, -999.000,9, -999.000,9, -999.000,9
           NA,    P03C,    273,   1,-999.0,     -99,  2,20051230,0002,  24.2620,  149.6548,  5034, 1599.300,    2.316,   34.560,2,   34.561,2,   67.400,1,   72.600,2,  150.210,2,   40.970,2,   -0.010,2,    2.941,2,    0.006,2,    0.002,2, -999.000,9, -999.000,9, -999.000,9
           NA,    P03C,    273,   1,-999.0,     -99,  2,20051230,0002,  24.2620,  149.6548,  5034, 1798.400,    2.038,   34.596,2,   34.596,2,   80.620,1,   87.070,2,  153.690,2,   40.170,2,    0.000,2,    2.877,2,    0.002,2,    0.000,2, -999.000,9, -999.000,9, -999.000,9
           NA,    P03C,    273,   1,-999.0,     -99,  2,20051230,0002,  24.2620,  149.6548,  5034, 1999.400,    1.902,   34.615,2,   34.616,6,   90.850,1,   98.440,2,  153.690,2,   39.560,2,    0.000,2,    2.828,2,    0.000,2,    0.001,2, -999.000,9, -999.000,9, -999.000,9
           NA,    P03C,    273,   1,-999.0,     -99,  2,20051230,0002,  24.2620,  149.6548,  5034, 2198.800,    1.771,   34.635,2,   34.635,2,  102.830,1,  111.470,2,  152.560,2,   38.710,2,    0.000,2,    2.759,2,    0.001,2,    0.001,2, -999.000,9, -999.000,9, -999.000,9
           NA,    P03C,    273,   1,-999.0,     -99,  2,20051230,0002,  24.2620,  149.6548,  5034, 2399.000,    1.669,   34.650,2,   34.650,2,  111.870,1,  121.560,2,  152.050,2,   38.030,2,    0.000,2,    2.705,2,    0.003,2,    0.002,2, -999.000,9, -999.000,9, -999.000,9
           NA,    P03C,    273,   1,-999.0,     -99,  2,20051230,0002,  24.2620,  149.6548,  5034, 2598.600,    1.609,   34.658,2,   34.658,2,  117.520,1,  127.570,2,  151.590,2,   37.650,2,    0.000,2,    2.677,2,    0.000,2,    0.000,2, -999.000,9, -999.000,9, -999.000,9
           NA,    P03C,    273,   1,-999.0,     -99,  2,20051230,0002,  24.2620,  149.6548,  5034, 2800.100,    1.570,   34.665,2,   34.665,2,  122.080,1,  132.760,2,  150.910,2,   37.390,2,    0.000,2,    2.654,2,    0.001,2,    0.000,2, -999.000,9, -999.000,9, -999.000,9
           NA,    P03C,    273,   1,-999.0,     -99,  2,20051230,0002,  24.2620,  149.6548,  5034, 3002.200,    1.536,   34.670,2,   34.670,6,  125.970,1,  136.980,2,  150.360,2,   37.120,2,    0.000,2,    2.628,2, -999.000,9, -999.000,9, -999.000,9, -999.000,9, -999.000,9
           NA,    P03C,    273,   1,-999.0,     -99,  2,20051230,0002,  24.2620,  149.6548,  5034, 3249.200,    1.499,   34.675,2,   34.676,2,  131.280,1,  142.920,2,  149.780,2,   36.720,2,    0.000,2,    2.587,2, -999.000,9, -999.000,9, -999.000,9, -999.000,9, -999.000,9
           NA,    P03C,    273,   1,-999.0,     -99,  2,20051230,0002,  24.2620,  149.6548,  5034, 3499.100,    1.456,   34.682,2,   34.682,2,  137.550,1,  149.030,2,  147.700,2,   36.280,2,    0.000,2,    2.556,2,    0.002,2,    0.001,2, -999.000,9, -999.000,9, -999.000,9
           NA,    P03C,    273,   1,-999.0,     -99,  2,20051230,0002,  24.2620,  149.6548,  5034, 3750.200,    1.439,   34.686,2,   34.686,2,  142.280,1,  153.760,2,  146.270,2,   35.920,2,   -0.010,2,    2.534,2, -999.000,9, -999.000,9, -999.000,9, -999.000,9, -999.000,9
           NA,    P03C,    273,   1,-999.0,     -99,  2,20051230,0002,  24.2620,  149.6548,  5034, 4000.200,    1.438,   34.688,2,   34.688,6,  145.840,1,  157.290,2,  144.690,2,   35.740,2,    0.000,2,    2.518,2, -999.000,9, -999.000,9, -999.000,9, -999.000,9, -999.000,9
           NA,    P03C,    273,   1,-999.0,     -99,  2,20051230,0002,  24.2620,  149.6548,  5034, 4249.300,    1.429,   34.691,2,   34.691,2,  150.720,1,  162.170,2,  142.040,2,   35.380,2,    0.000,2,    2.495,2,    0.001,2,    0.000,2, -999.000,9, -999.000,9, -999.000,9
           NA,    P03C,    273,   1,-999.0,     -99,  2,20051230,0002,  24.2620,  149.6548,  5034, 4500.800,    1.442,   34.693,2,   34.693,2,  153.600,1,  164.540,2,  140.720,2,   35.200,2,    0.000,2,    2.479,2, -999.000,9, -999.000,9, -999.000,9, -999.000,9, -999.000,9
           NA,    P03C,    273,   1,-999.0,     -99,  2,20051230,0002,  24.2620,  149.6548,  5034, 4750.100,    1.457,   34.694,2,   34.694,2,  156.620,1,  167.130,2,  139.360,2,   35.010,2,   -0.010,2,    2.466,2, -999.000,9, -999.000,9, -999.000,9, -999.000,9, -999.000,9
           NA,    P03C,    273,   1,-999.0,     -99,  2,20051230,0002,  24.2620,  149.6548,  5034, 5000.900,    1.473,   34.695,2,   34.696,2,  160.020,1,  169.630,2,  137.430,2,   34.800,2,    0.000,2,    2.456,2, -999.000,9, -999.000,9, -999.000,9, -999.000,9, -999.000,9
           NA,    P03C,    273,   1,-999.0,     -99,  2,20051230,0002,  24.2620,  149.6548,  5034, 5094.000,    1.479,   34.696,2,   34.696,6,  161.610,1,  170.690,2,  136.810,2,   34.780,2,    0.000,2,    2.454,2,    0.001,2,    0.000,2, -999.000,9, -999.000,9, -999.000,9