BOTTLE,20211903JOAExport
EXPOCODE,SECT_ID,STNNBR,CASTNO,SAMPNO,BTLNBR,BTLNBR_FLAG_W,DATE,TIME,LATITUDE,LONGITUDE,DEPTH,CTDPRS,CTDTMP,CTDSAL,CTDSAL_FLAG_W,SALNTY,SALNTY_FLAG_W,CTDOXY,CTDOXY_FLAG_W,OXYGEN,OXYGEN_FLAG_W,SILCAT,SILCAT_FLAG_W,NITRAT,NITRAT_FLAG_W,NITRIT,NITRIT_FLAG_W,PHSPHT,PHSPHT_FLAG_W,CFC-11,CFC-11_FLAG_W,CFC-12,CFC-12_FLAG_W,SF6,SF6_FLAG_W,TCARBN,TCARBN_FLAG_W,ALKALI,ALKALI_FLAG_W
,,,,,,,,,,,,DB,ITS-90,PSS-78,,PSS-78,,UMOL/KG,,UMOL/KG,,UMOL/KG,,UMOL/KG,,UMOL/KG,,UMOL/KG,,PMOL/KG,,PMOL/KG,,FMOL/KG,,UMOL/KG,,UMOL/KG
           NA,    P03C,    217,  99,-999.0,     -99,  2,20051211,1705,  24.2572,  171.9500,  5835,    9.500,   26.415,   35.232,2,   35.233,2,  179.390,1,  203.640,2,    0.920,2,    0.040,2,    0.000,2,    0.048,2,    1.441,2,    0.876,2, -999.000,9, 1964.100,2, 2317.400,2
           NA,    P03C,    217,  99,-999.0,     -99,  2,20051211,1705,  24.2572,  171.9500,  5835,   48.200,   26.478,   35.295,2,   35.296,2,  192.800,1,  203.430,2,    1.040,2,    0.040,2,    0.010,2,    0.041,2,    1.613,2,    0.908,2, -999.000,9, 1969.200,6, 2311.900,2
           NA,    P03C,    217,  99,-999.0,     -99,  2,20051211,1705,  24.2572,  171.9500,  5835,   50.400,   26.420,   35.231,2,   35.232,2,  179.340,1,  203.390,2,    0.910,2,    0.030,2,    0.000,2,    0.050,2,    1.455,2,    0.886,2, -999.000,9, 1965.500,6, 2311.100,2
           NA,    P03C,    217,  99,-999.0,     -99,  2,20051211,1705,  24.2572,  171.9500,  5835,   97.700,   24.448,   35.245,2,   35.245,2,  205.660,1,  216.850,2,    1.250,2,    0.050,2,    0.020,2,    0.047,2,    1.886,2,    1.102,2, -999.000,9, 1986.700,2, 2312.100,6
           NA,    P03C,    217,  99,-999.0,     -99,  2,20051211,1705,  24.2572,  171.9500,  5835,  100.500,   23.826,   35.244,2,   35.245,2,  190.860,1,  216.550,2,    1.170,2,    0.030,2,    0.000,2,    0.051,2,    1.731,2,    1.058,2, -999.000,9, 1991.500,2, 2315.700,6
           NA,    P03C,    217,  99,-999.0,     -99,  2,20051211,1705,  24.2572,  171.9500,  5835,  149.800,   20.221,   35.038,2,   35.037,2,  174.750,1,  198.430,2,    2.230,2,    1.220,2,    0.110,2,    0.194,2,    1.966,2,    1.117,2, -999.000,9, 2030.100,2, 2309.300,2
           NA,    P03C,    217,  99,-999.0,     -99,  2,20051211,1705,  24.2572,  171.9500,  5835,  152.800,   20.731,   35.107,2,   35.117,2,  188.830,1,  199.220,2,    2.040,2,    0.620,2,    0.110,2,    0.144,2,    2.157,2,    1.160,2, -999.000,9, 2026.100,2, 2306.700,2
           NA,    P03C,    217,  99,-999.0,     -99,  2,20051211,1705,  24.2572,  171.9500,  5835,  198.100,   18.125,   34.860,2,   34.857,2,  196.260,1,  206.280,2,    3.220,2,    2.730,2,    0.030,2,    0.269,2,    2.411,2,    1.278,2, -999.000,9, 2031.300,2, 2289.700,2
           NA,    P03C,    217,  99,-999.0,     -99,  2,20051211,1705,  24.2572,  171.9500,  5835,  200.500,   17.799,   34.825,2,   34.824,2,  186.290,1,  211.940,2,    3.140,2,    2.860,2,    0.020,2,    0.263,2,    2.142,2,    1.198,2, -999.000,9, 2024.500,2, 2290.100,2
           NA,    P03C,    217,  99,-999.0,     -99,  2,20051211,1705,  24.2572,  171.9500,  5835,  249.100,   16.741,   34.752,2,   34.752,2,  203.050,1,  213.590,2,    4.470,2,    4.630,2,    0.020,2,    0.357,2,    2.515,6,    1.346,6, -999.000,9, 2031.600,2, 2285.200,2
           NA,    P03C,    217,  99,-999.0,     -99,  2,20051211,1705,  24.2572,  171.9500,  5835,  251.000,   16.847,   34.756,2,   34.757,2,  185.520,1,  210.680,2,    4.280,2,    4.640,2,    0.010,2,    0.367,2,    2.209,2,    1.221,2, -999.000,9, 2033.300,2, 2287.100,2
           NA,    P03C,    217,  99,-999.0,     -99,  2,20051211,1705,  24.2572,  171.9500,  5835,  301.300,   15.613,   34.638,2,   34.633,2,  197.030,1,  206.340,2,    6.560,2,    6.810,2,    0.020,2,    0.514,2,    2.628,2,    1.380,2, -999.000,9, 2048.000,2, 2274.200,2
           NA,    P03C,    217,  99,-999.0,     -99,  2,20051211,1705,  24.2572,  171.9500,  5835,  301.500,   15.455,   34.612,2,   34.614,2,  180.190,1,  204.860,2,    6.350,2,    6.720,2,    0.010,2,    0.526,2,    2.370,6,    1.285,6, -999.000,9, 2052.200,2, 2275.700,2
           NA,    P03C,    217,  99,-999.0,     -99,  2,20051211,1705,  24.2572,  171.9500,  5835,  401.300,   12.681,   34.370,2,   34.366,2,  176.550,1,  200.890,2,   12.690,2,   11.820,2,    0.010,2,    0.870,2,    2.596,2,    1.364,2, -999.000,9, 2082.500,2, 2271.500,2
           NA,    P03C,    217,  99,-999.0,     -99,  2,20051211,1705,  24.2572,  171.9500,  5835,  401.400,   12.144,   34.322,2,   34.325,2,  189.100,1,  198.760,2,   14.000,2,   12.770,2,    0.010,2,    0.943,2,    2.915,2,    1.455,2, -999.000,9, 2089.800,2, 2266.300,2
           NA,    P03C,    217,  99,-999.0,     -99,  2,20051211,1705,  24.2572,  171.9500,  5835,  500.200,    9.927,   34.192,2,   34.191,6,  158.830,1,  180.970,2,   24.680,2,   18.730,2,    0.000,2,    1.357,2,    2.481,2,    1.257,2, -999.000,9, 2128.500,2, 2264.700,2
           NA,    P03C,    217,  99,-999.0,     -99,  2,20051211,1705,  24.2572,  171.9500,  5835,  598.800,    7.374,   34.111,2,   34.106,6,  109.500,1,  115.820,2,   48.860,2,   29.570,2,    0.010,2,    2.160,2,    1.604,2,    0.741,2, -999.000,9, 2211.900,2, 2282.600,2
           NA,    P03C,    217,  99,-999.0,     -99,  2,20051211,1705,  24.2572,  171.9500,  5835,  601.500,    7.598,   34.094,2,   34.094,2,  115.180,1,  132.870,2,   44.910,2,   27.510,2,    0.000,2,    1.999,2,    1.760,2,    0.831,2, -999.000,9, 2193.400,2, 2278.100,2
           NA,    P03C,    217,  99,-999.0,     -99,  2,20051211,1705,  24.2572,  171.9500,  5835,  698.100,    6.006,   34.125,2,   34.127,2,   77.270,1,   80.110,2,   68.810,2,   35.330,2,    0.010,2,    2.571,2,    0.857,2,    0.398,2, -999.000,9, 2259.100,6, 2302.200,2
           NA,    P03C,    217,  99,-999.0,     -99,  2,20051211,1705,  24.2572,  171.9500,  5835,  701.700,    5.974,   34.128,2,   34.127,2,   69.810,1,   79.900,2,   68.800,2,   35.150,2,    0.000,2,    2.575,2,    0.807,2,    0.372,2, -999.000,9, 2259.000,6, 2298.400,2
           NA,    P03C,    217,  99,-999.0,     -99,  2,20051211,1705,  24.2572,  171.9500,  5835,  799.800,    5.006,   34.232,2,   34.233,2,   46.710,1,   49.070,2,   89.130,2,   39.790,2,    0.010,2,    2.908,2,    0.284,6,    0.135,6, -999.000,9, 2304.200,2, 2326.400,6
           NA,    P03C,    217,  99,-999.0,     -99,  2,20051211,1705,  24.2572,  171.9500,  5835,  801.300,    5.153,   34.220,2,   34.219,2,   45.430,1,   52.290,2,   85.960,2,   39.090,2,    0.010,2,    2.866,2,    0.299,6,    0.147,6, -999.000,9, 2298.200,2, 2322.500,6
           NA,    P03C,    217,  99,-999.0,     -99,  2,20051211,1705,  24.2572,  171.9500,  5835,  900.000,    4.323,   34.298,2,   34.298,2,   37.860,1,   39.630,2,  104.660,2,   41.550,2,    0.010,2,    3.020,2,    0.125,2,    0.061,2, -999.000,9, 2328.300,2, 2348.100,2
           NA,    P03C,    217,  99,-999.0,     -99,  2,20051211,1705,  24.2572,  171.9500,  5835,  900.500,    4.622,   34.325,2,   34.325,2,   37.060,1,   43.250,2,   98.040,2,   40.920,2,    0.010,2,    2.992,2,    0.093,2,    0.041,2, -999.000,9, 2320.400,2, 2342.000,2
           NA,    P03C,    217,  99,-999.0,     -99,  2,20051211,1705,  24.2572,  171.9500,  5835, 1000.900,    3.895,   34.372,2,   34.372,6,   37.510,1,   39.160,2,  115.470,2,   42.260,2,    0.010,2,    3.058,2,    0.046,2,    0.021,2, -999.000,9, 2341.500,2, 2357.400,2
           NA,    P03C,    217,  99,-999.0,     -99,  2,20051211,1705,  24.2572,  171.9500,  5835, 1001.300,    4.046,   34.366,2,   34.367,6,   34.690,1,   41.100,2,  110.750,2,   41.700,2,    0.000,2,    3.047,2,    0.041,2,    0.023,2, -999.000,9, 2336.200,2, 2350.600,2
           NA,    P03C,    217,  99,-999.0,     -99,  2,20051211,1705,  24.2572,  171.9500,  5835, 1198.200,    3.419,   34.472,2,   34.472,2,   49.050,1,   51.380,2,  125.510,2,   41.880,2,    0.020,2,    3.018,2,    0.004,2,    0.006,2, -999.000,9, 2348.100,2, 2377.100,2
           NA,    P03C,    217,  99,-999.0,     -99,  2,20051211,1705,  24.2572,  171.9500,  5835, 1200.200,    3.424,   34.479,2,   34.480,2,   45.830,1,   53.100,2,  124.740,2,   41.650,2,    0.000,2,    3.011,2,    0.003,2,    0.004,2, -999.000,9, 2347.000,2, 2376.600,2
           NA,    P03C,    217,  99,-999.0,     -99,  2,20051211,1705,  24.2572,  171.9500,  5835, 1400.200,    2.935,   34.536,2,   34.536,2,   64.530,1,   68.200,2,  134.300,2,   41.160,2,    0.010,2,    2.952,2,    0.004,2,    0.000,2, -999.000,9, 2351.200,2, 2391.500,2
           NA,    P03C,    217,  99,-999.0,     -99,  2,20051211,1705,  24.2572,  171.9500,  5835, 1400.900,    2.961,   34.534,2,   34.533,2,   57.600,1,   66.640,2,  134.090,2,   41.100,2,    0.000,2,    2.957,2,    0.000,2,    0.001,2, -999.000,9, 2349.900,2, 2387.300,2
           NA,    P03C,    217,  99,-999.0,     -99,  2,20051211,1705,  24.2572,  171.9500,  5835, 1601.100,    2.580,   34.567,2,   34.566,2,   72.670,1,   76.910,2,  141.460,2,   40.810,2,    0.020,2,    2.914,2,    0.000,2,    0.004,2, -999.000,9, 2351.800,2, 2397.300,2
           NA,    P03C,    217,  99,-999.0,     -99,  2,20051211,1705,  24.2572,  171.9500,  5835, 1601.300,    2.583,   34.566,2,   34.565,2,   63.870,1,   73.930,2,  142.420,2,   40.780,2,    0.000,2,    2.935,2,    0.000,2,    0.000,2, -999.000,9, 2355.000,2, 2398.400,2
           NA,    P03C,    217,  99,-999.0,     -99,  2,20051211,1705,  24.2572,  171.9500,  5835, 1801.000,    2.250,   34.596,2,   34.596,2,   82.350,1,   87.540,2,  147.410,2,   40.310,2,    0.010,2,    2.866,2,    0.000,2,    0.003,2, -999.000,9, 2356.400,2, 2406.700,2
           NA,    P03C,    217,  99,-999.0,     -99,  2,20051211,1705,  24.2572,  171.9500,  5835, 1801.400,    2.280,   34.591,2,   34.591,2,   73.210,1,   85.040,2,  147.690,2,   40.340,2,    0.000,2,    2.878,2,    0.000,2,    0.002,2, -999.000,9, 2353.400,2, -999.000,3
           NA,    P03C,    217,  99,-999.0,     -99,  2,20051211,1705,  24.2572,  171.9500,  5835, 2000.000,    2.074,   34.613,2,   34.613,2,   80.900,1,   94.180,2,  151.020,2,   39.750,2,    0.000,2,    2.830,2,    0.000,2,    0.002,2, -999.000,9, 2354.000,2, 2409.000,2
           NA,    P03C,    217,  99,-999.0,     -99,  2,20051211,1705,  24.2572,  171.9500,  5835, 2001.300,    2.040,   34.617,2,   34.618,2,   91.700,1,   97.760,2,  150.910,2,   39.730,2,    0.010,2,    2.816,2,    0.000,2,    0.002,2, -999.000,9, 2350.900,2, 2413.000,2
           NA,    P03C,    217,  99,-999.0,     -99,  2,20051211,1705,  24.2572,  171.9500,  5835, 2200.400,    1.906,   34.629,2,   34.629,6,   88.220,1,  103.010,2,  153.270,2,   39.260,2,    0.000,2,    2.785,2,    0.000,2,    0.000,2, -999.000,9, 2351.200,2, 2413.900,2
           NA,    P03C,    217,  99,-999.0,     -99,  2,20051211,1705,  24.2572,  171.9500,  5835, 2201.000,    1.869,   34.634,2,   34.634,6,  100.010,1,  106.790,2,  152.780,2,   39.190,2,    0.010,2,    2.773,2,    0.000,2,    0.002,2, -999.000,9, 2349.500,2, 2414.300,2
           NA,    P03C,    217,  99,-999.0,     -99,  2,20051211,1705,  24.2572,  171.9500,  5835, 2401.300,    1.795,   34.643,2,   34.643,2,   95.760,1,  112.010,2,  153.680,2,   38.670,2,    0.000,2,    2.743,2,    0.000,2,    0.000,2, -999.000,9, 2347.000,6, 2410.500,2
           NA,    P03C,    217,  99,-999.0,     -99,  2,20051211,1705,  24.2572,  171.9500,  5835, 2401.600,    1.761,   34.646,2,   34.647,2,  107.290,1,  114.940,2,  153.670,2,   38.790,2,    0.010,2,    2.730,2,    0.000,2,    0.002,2, -999.000,9, 2346.700,6, 2416.600,2
           NA,    P03C,    217,  99,-999.0,     -99,  2,20051211,1705,  24.2572,  171.9500,  5835, 2600.300,    1.696,   34.654,2,   34.654,2,  112.680,1,  120.680,2,  153.420,2,   38.390,2,    0.010,2,    2.700,2,    0.000,2,    0.002,2, -999.000,9, 2343.200,2, 2418.600,6
           NA,    P03C,    217,  99,-999.0,     -99,  2,20051211,1705,  24.2572,  171.9500,  5835, 2600.900,    1.712,   34.652,2,   34.651,2,  101.250,1,  118.710,2,  154.130,2,   38.240,2,    0.000,2,    2.709,2, -999.000,9, -999.000,9, -999.000,9, 2345.600,2, 2418.100,6
           NA,    P03C,    217,  99,-999.0,     -99,  2,20051211,1705,  24.2572,  171.9500,  5835, 2800.000,    1.635,   34.661,2,   34.661,2,  118.160,1,  126.550,2,  153.410,2,   37.920,2,    0.010,2,    2.673,2, -999.000,9, -999.000,9, -999.000,9, 2339.800,2, 2421.500,2
           NA,    P03C,    217,  99,-999.0,     -99,  2,20051211,1705,  24.2572,  171.9500,  5835, 2800.100,    1.652,   34.659,2,   34.659,2,  105.840,1,  124.220,2,  153.730,2,   37.970,2,    0.000,2,    2.675,2, -999.000,9, -999.000,9, -999.000,9, 2342.100,2, 2416.300,2
           NA,    P03C,    217,  99,-999.0,     -99,  2,20051211,1705,  24.2572,  171.9500,  5835, 2999.600,    1.600,   34.665,2,   34.665,2,  110.460,1,  129.830,2,  153.430,2,   37.560,2,    0.010,2,    2.647,2,    0.000,2,    0.001,2, -999.000,9, 2338.100,2, 2421.800,2
           NA,    P03C,    217,  99,-999.0,     -99,  2,20051211,1705,  24.2572,  171.9500,  5835, 3001.100,    1.593,   34.667,2,   34.667,2,  122.640,1,  131.710,2,  152.670,2,   37.600,2,    0.010,2,    2.642,2, -999.000,9, -999.000,9, -999.000,9, 2336.000,2, 2417.400,2
           NA,    P03C,    217,  99,-999.0,     -99,  2,20051211,1705,  24.2572,  171.9500,  5835, 3250.400,    1.560,   34.671,2,   34.671,6,  115.480,1,  135.730,2,  152.150,2,   37.170,2,    0.000,2,    2.616,2, -999.000,9, -999.000,9, -999.000,9, 2335.300,2, 2415.500,2
           NA,    P03C,    217,  99,-999.0,     -99,  2,20051211,1705,  24.2572,  171.9500,  5835, 3251.900,    1.552,   34.672,2,   34.672,6,  126.920,1,  136.400,2,  152.240,2,   37.310,2,    0.010,2,    2.621,2,    0.002,2,    0.000,2, -999.000,9, 2332.200,2, 2417.900,2
           NA,    P03C,    217,  99,-999.0,     -99,  2,20051211,1705,  24.2572,  171.9500,  5835, 3501.300,    1.524,   34.676,2,   34.676,2,  120.480,1,  141.500,2,  150.790,2,   36.730,2,    0.000,2,    2.584,2, -999.000,9, -999.000,9, -999.000,9, 2331.000,2, 2416.500,2
           NA,    P03C,    217,  99,-999.0,     -99,  2,20051211,1705,  24.2572,  171.9500,  5835, 3501.300,    1.525,   34.676,2,   34.677,2,  132.000,1,  141.750,2,  150.900,2,   36.990,2,    0.010,2,    2.592,2, -999.000,9, -999.000,9, -999.000,9, 2329.800,2, 2418.200,2
           NA,    P03C,    217,  99,-999.0,     -99,  2,20051211,1705,  24.2572,  171.9500,  5835, 3748.900,    1.502,   34.680,2,   34.680,2,  136.710,1,  146.820,2,  149.140,2,   36.640,2,    0.010,2,    2.568,2, -999.000,9, -999.000,9, -999.000,9, 2325.700,2, 2415.600,2
           NA,    P03C,    217,  99,-999.0,     -99,  2,20051211,1705,  24.2572,  171.9500,  5835, 3750.800,    1.501,   34.680,2,   34.680,2,  124.660,1,  146.360,2,  149.410,2,   36.500,2,    0.000,2,    2.558,2,    0.000,2,    0.001,2, -999.000,9, 2329.100,2, 2418.200,2
           NA,    P03C,    217,  99,-999.0,     -99,  2,20051211,1705,  24.2572,  171.9500,  5835, 4001.100,    1.483,   34.684,2,   34.684,2,  141.750,1,  152.010,2,  147.250,2,   36.230,2,    0.010,2,    2.537,2,    0.000,2,    0.000,2, -999.000,9, 2320.400,2, 2415.600,2
           NA,    P03C,    217,  99,-999.0,     -99,  2,20051211,1705,  24.2572,  171.9500,  5835, 4001.600,    1.483,   34.684,2,   34.683,2,  129.220,1,  151.350,2,  147.650,2,   36.080,2,    0.000,2,    2.532,2, -999.000,9, -999.000,9, -999.000,9, 2323.000,2, 2415.600,2
           NA,    P03C,    217,  99,-999.0,     -99,  2,20051211,1705,  24.2572,  171.9500,  5835, 4250.200,    1.467,   34.688,2,   34.688,2,  146.900,1,  157.050,2,  144.710,2,   35.940,2,    0.020,2,    2.506,2, -999.000,9, -999.000,9, -999.000,9, 2317.500,6, 2410.000,2
           NA,    P03C,    217,  99,-999.0,     -99,  2,20051211,1705,  24.2572,  171.9500,  5835, 4251.000,    1.466,   34.688,2,   34.688,2,  134.150,1,  156.820,2,  144.990,2,   35.720,2,    0.000,2,    2.505,2, -999.000,9, -999.000,9, -999.000,9, 2317.400,6, 2407.000,2
           NA,    P03C,    217,  99,-999.0,     -99,  2,20051211,1705,  24.2572,  171.9500,  5835, 4499.000,    1.453,   34.691,2,   34.691,6,  152.420,1,  162.530,2,  141.790,2,   35.540,2,    0.010,2,    2.480,2, -999.000,9, -999.000,9, -999.000,9, 2311.100,2, 2410.200,6
           NA,    P03C,    217,  99,-999.0,     -99,  2,20051211,1705,  24.2572,  171.9500,  5835, 4502.700,    1.454,   34.691,2,   34.691,6,  139.200,1,  162.540,2,  141.690,2,   35.280,2,    0.000,2,    2.467,2,    0.000,2,    0.001,2, -999.000,9, 2312.300,2, 2405.800,6
           NA,    P03C,    217,  99,-999.0,     -99,  2,20051211,1705,  24.2572,  171.9500,  5835, 4750.700,    1.446,   34.694,2,   34.694,2,  157.640,1,  167.700,2,  138.580,2,   35.140,2,    0.010,2,    2.450,2,    0.000,2,    0.002,2, -999.000,9, 2306.400,2, 2402.800,2
           NA,    P03C,    217,  99,-999.0,     -99,  2,20051211,1705,  24.2572,  171.9500,  5835, 4751.100,    1.447,   34.694,2,   34.694,2,  144.060,1,  167.460,2,  139.060,2,   34.930,2,    0.000,2,    2.441,2, -999.000,9, -999.000,9, -999.000,9, 2307.500,2, -999.000,4
           NA,    P03C,    217,  99,-999.0,     -99,  2,20051211,1705,  24.2572,  171.9500,  5835, 5001.200,    1.446,   34.696,2,   34.696,2,  162.190,1,  171.850,2,  136.310,2,   34.900,2,    0.010,2,    2.429,2, -999.000,9, -999.000,9, -999.000,9, 2301.400,2, 2403.400,2
           NA,    P03C,    217,  99,-999.0,     -99,  2,20051211,1705,  24.2572,  171.9500,  5835, 5002.400,    1.444,   34.696,2,   34.696,2,  148.610,1,  172.060,2,  136.270,2,   34.600,2,    0.000,2,    2.418,2, -999.000,9, -999.000,9, -999.000,9, 2299.200,2, 2395.900,2
           NA,    P03C,    217,  99,-999.0,     -99,  2,20051211,1705,  24.2572,  171.9500,  5835, 5250.700,    1.450,   34.698,2,   34.698,2,  166.340,1,  175.540,2,  134.240,2,   34.560,2,    0.010,2,    2.414,2, -999.000,9, -999.000,9, -999.000,9, 2297.400,2, 2400.300,2
           NA,    P03C,    217,  99,-999.0,     -99,  2,20051211,1705,  24.2572,  171.9500,  5835, 5252.100,    1.451,   34.698,2,   34.698,2,  152.110,1,  175.520,2,  134.350,2,   34.350,2,    0.000,2,    2.403,2,    0.000,2,    0.000,2, -999.000,9, 2298.100,2, 2395.600,2
           NA,    P03C,    217,  99,-999.0,     -99,  2,20051211,1705,  24.2572,  171.9500,  5835, 5499.100,    1.464,   34.700,2,   34.699,2,  169.490,1,  177.800,2,  133.380,2,   34.420,2,    0.010,2,    2.396,2,    0.000,2,    0.000,2, -999.000,9, 2295.000,2, 2394.800,2
           NA,    P03C,    217,  99,-999.0,     -99,  2,20051211,1705,  24.2572,  171.9500,  5835, 5501.100,    1.462,   34.700,2,   34.699,2,  155.290,1,  178.090,2,  132.650,2,   34.260,2,    0.000,2,    2.389,2, -999.000,9, -999.000,9, -999.000,9, 2296.500,2, 2394.600,2
           NA,    P03C,    217,  99,-999.0,     -99,  2,20051211,1705,  24.2572,  171.9500,  5835, 5748.200,    1.485,   34.701,2,   34.700,2,  172.300,1,  179.430,2,  131.810,2,   34.260,2,    0.010,2,    2.389,2, -999.000,9, -999.000,9, -999.000,9, 2293.200,2, 2396.000,2
           NA,    P03C,    217,  99,-999.0,     -99,  2,20051211,1705,  24.2572,  171.9500,  5835, 5749.200,    1.485,   34.700,2,   34.700,2,  157.650,1,  179.490,2,  132.020,2,   34.130,2,    0.000,2,    2.376,2, -999.000,9, -999.000,9, -999.000,9, 2294.600,2, 2392.200,2
           NA,    P03C,    217,  99,-999.0,     -99,  2,20051211,1705,  24.2572,  171.9500,  5835, 5932.600,    1.505,   34.701,2,   34.701,6,  174.560,1,  180.010,2,  131.740,2,   34.260,2,    0.010,2,    2.383,2,    0.000,2,    0.001,2, -999.000,9, 2291.300,2, 2395.700,2
           NA,    P03C,    217,  99,-999.0,     -99,  2,20051211,1705,  24.2572,  171.9500,  5835, 5934.500,    1.508,   34.700,2,   34.701,6,  159.730,1,  179.730,2,  131.860,2,   34.040,2,    0.000,2,    2.381,2, -999.000,5, -999.000,5, -999.000,9, 2294.200,2, 2400.400,2