BOTTLE,20211903JOAExport
EXPOCODE,SECT_ID,STNNBR,CASTNO,SAMPNO,BTLNBR,BTLNBR_FLAG_W,DATE,TIME,LATITUDE,LONGITUDE,DEPTH,CTDPRS,CTDTMP,CTDSAL,CTDSAL_FLAG_W,SALNTY,SALNTY_FLAG_W,CTDOXY,CTDOXY_FLAG_W,OXYGEN,OXYGEN_FLAG_W,SILCAT,SILCAT_FLAG_W,NITRAT,NITRAT_FLAG_W,NITRIT,NITRIT_FLAG_W,PHSPHT,PHSPHT_FLAG_W,CFC-11,CFC-11_FLAG_W,CFC-12,CFC-12_FLAG_W,SF6,SF6_FLAG_W,TCARBN,TCARBN_FLAG_W,ALKALI,ALKALI_FLAG_W
,,,,,,,,,,,,DB,ITS-90,PSS-78,,PSS-78,,UMOL/KG,,UMOL/KG,,UMOL/KG,,UMOL/KG,,UMOL/KG,,UMOL/KG,,PMOL/KG,,PMOL/KG,,FMOL/KG,,UMOL/KG,,UMOL/KG
           NA,    P03C,    263,   1,-999.0,     -99,  2,20051228,1127,  24.2057,  153.5582,  5412,   10.700,   24.848,   35.041,2,   35.043,2,  193.930,1,  208.240,2,    1.250,2,    0.050,2,    0.000,2,    0.047,2,    1.689,2,    1.014,2, -999.000,9, 1963.100,2, 2300.500,2
           NA,    P03C,    263,   1,-999.0,     -99,  2,20051228,1127,  24.2057,  153.5582,  5412,   49.500,   24.861,   35.042,2,   35.044,2,  193.720,1,  208.130,2,    1.270,2,    0.050,2,    0.000,2,    0.045,2,    1.692,2,    1.015,2, -999.000,9, 1961.500,6, 2301.100,2
           NA,    P03C,    263,   1,-999.0,     -99,  2,20051228,1127,  24.2057,  153.5582,  5412,   99.700,   22.104,   35.048,2,   35.048,2,  209.550,1,  224.820,2,    1.750,2,    0.040,2,    0.010,2,    0.052,2,    2.033,2,    1.209,2, -999.000,9, 1992.300,2, 2301.200,6
           NA,    P03C,    263,   1,-999.0,     -99,  2,20051228,1127,  24.2057,  153.5582,  5412,  148.700,   19.171,   34.908,2,   34.909,2,  194.730,1,  209.140,2,    2.420,2,    0.910,2,    0.020,2,    0.148,2,    2.176,2,    1.291,2, -999.000,9, 2015.600,2, 2292.600,2
           NA,    P03C,    263,   1,-999.0,     -99,  2,20051228,1127,  24.2057,  153.5582,  5412,  201.100,   17.664,   34.805,2,   34.806,2,  192.690,1,  206.790,2,    3.420,2,    3.920,2,    0.010,2,    0.305,2,    2.276,2,    1.344,2, -999.000,9, 2027.300,2, 2284.300,2
           NA,    P03C,    263,   1,-999.0,     -99,  2,20051228,1127,  24.2057,  153.5582,  5412,  251.100,   16.923,   34.758,2,   34.756,2,  193.260,1,  207.070,2,    4.440,2,    5.110,2,    0.010,2,    0.378,2,    2.347,6,    1.365,6, -999.000,9, 2034.700,2, 2280.400,2
           NA,    P03C,    263,   1,-999.0,     -99,  2,20051228,1127,  24.2057,  153.5582,  5412,  300.600,   16.138,   34.690,2,   34.690,2,  191.240,1,  204.810,2,    5.860,2,    6.430,2,    0.000,2,    0.472,2,    2.429,2,    1.389,2, -999.000,9, 2041.900,2, 2277.600,2
           NA,    P03C,    263,   1,-999.0,     -99,  2,20051228,1127,  24.2057,  153.5582,  5412,  401.500,   14.090,   34.513,2,   34.517,2,  183.440,1,  196.650,2,   10.490,2,   10.080,2,    0.010,2,    0.739,2,    2.534,2,    1.393,2, -999.000,9, 2071.400,2, 2274.000,2
           NA,    P03C,    263,   1,-999.0,     -99,  2,20051228,1127,  24.2057,  153.5582,  5412,  503.300,   11.404,   34.306,2,   34.308,6,  181.150,1,  194.020,2,   18.180,2,   14.850,2,    0.000,2,    1.074,2,    2.683,2,    1.414,2, -999.000,9, 2101.300,2, 2268.900,2
           NA,    P03C,    263,   1,-999.0,     -99,  2,20051228,1127,  24.2057,  153.5582,  5412,  602.100,    8.373,   34.116,2,   34.115,2,  152.610,1,  162.770,2,   36.880,2,   23.260,2,    0.000,2,    1.687,2,    2.248,2,    1.144,2, -999.000,9, 2163.700,2, 2274.800,2
           NA,    P03C,    263,   1,-999.0,     -99,  2,20051228,1127,  24.2057,  153.5582,  5412,  702.600,    6.330,   34.077,2,   34.077,2,  105.740,1,  113.230,2,   60.860,2,   31.500,2,    0.000,2,    2.297,2,    1.464,2,    0.709,2, -999.000,9, 2227.800,6, 2292.700,2
           NA,    P03C,    263,   1,-999.0,     -99,  2,20051228,1127,  24.2057,  153.5582,  5412,  801.200,    5.255,   34.133,2,   34.133,2,   71.390,1,   76.360,2,   81.010,2,   36.710,2,    0.000,2,    2.681,2,    0.799,6,    0.385,6, -999.000,9, 2277.900,2, 2312.300,6
           NA,    P03C,    263,   1,-999.0,     -99,  2,20051228,1127,  24.2057,  153.5582,  5412,  900.500,    4.503,   34.258,2,   34.258,2,   47.290,1,   50.520,2,   99.630,2,   40.230,2,    0.000,2,    2.921,2,    0.275,2,    0.131,2, -999.000,9, 2316.400,2, 2334.200,2
           NA,    P03C,    263,   1,-999.0,     -99,  2,20051228,1127,  24.2057,  153.5582,  5412, 1001.600,    3.880,   34.356,2,   34.356,6,   40.870,1,   43.550,2,  115.260,2,   41.700,2,    0.000,2,    3.024,2,    0.089,2,    0.045,2, -999.000,9, 2338.600,2, 2356.200,2
           NA,    P03C,    263,   1,-999.0,     -99,  2,20051228,1127,  24.2057,  153.5582,  5412, 1201.100,    3.274,   34.475,2,   34.475,2,   54.490,1,   58.240,2,  128.130,2,   41.220,2,    0.000,2,    2.976,2,    0.021,2,    0.010,2, -999.000,9, 2347.200,2, 2380.000,2
           NA,    P03C,    263,   1,-999.0,     -99,  2,20051228,1127,  24.2057,  153.5582,  5412, 1401.700,    2.803,   34.525,2,   34.525,2,   63.350,1,   68.210,2,  138.020,2,   40.880,2,    0.000,2,    2.940,2,    0.005,2,    0.001,2, -999.000,9, 2353.000,2, 2389.600,2
           NA,    P03C,    263,   1,-999.0,     -99,  2,20051228,1127,  24.2057,  153.5582,  5412, 1601.100,    2.410,   34.560,2,   34.560,2,   71.380,1,   77.030,2,  146.280,2,   40.650,2,    0.000,2,    2.908,2,    0.004,2,    0.003,2, -999.000,9, 2355.400,2, 2396.800,2
           NA,    P03C,    263,   1,-999.0,     -99,  2,20051228,1127,  24.2057,  153.5582,  5412, 1802.300,    2.164,   34.588,2,   34.588,2,   80.350,1,   86.860,2,  150.010,2,   40.230,2,    0.000,2,    2.864,2,    0.000,2,    0.000,2, -999.000,9, 2355.600,2, 2404.600,2
           NA,    P03C,    263,   1,-999.0,     -99,  2,20051228,1127,  24.2057,  153.5582,  5412, 2002.300,    1.955,   34.612,2,   34.612,2,   89.750,1,   97.070,2,  152.470,2,   39.600,2,    0.000,2,    2.819,2,    0.003,2,    0.000,2, -999.000,9, 2353.200,2, 2409.000,2
           NA,    P03C,    263,   1,-999.0,     -99,  2,20051228,1127,  24.2057,  153.5582,  5412, 2200.100,    1.851,   34.628,2,   34.629,6,   98.600,1,  106.930,2,  152.420,2,   39.020,2,    0.000,2,    2.769,2,    0.000,2,    0.000,2, -999.000,9, 2351.400,2, 2409.300,2
           NA,    P03C,    263,   1,-999.0,     -99,  2,20051228,1127,  24.2057,  153.5582,  5412, 2400.200,    1.738,   34.641,2,   34.642,2,  105.770,1,  114.970,2,  153.110,2,   38.530,2,    0.000,2,    2.731,2,    0.000,2,    0.000,2, -999.000,9, 2346.100,6, 2412.700,2
           NA,    P03C,    263,   1,-999.0,     -99,  2,20051228,1127,  24.2057,  153.5582,  5412, 2600.000,    1.660,   34.652,2,   34.652,2,  112.420,1,  122.300,2,  152.860,2,   38.070,2,    0.000,2,    2.688,2,    0.000,2,    0.000,2, -999.000,9, 2343.400,2, 2414.000,6
           NA,    P03C,    263,   1,-999.0,     -99,  2,20051228,1127,  24.2057,  153.5582,  5412, 2801.100,    1.608,   34.660,2,   34.660,2,  118.030,1,  128.290,2,  151.810,2,   37.690,2,    0.000,2,    2.660,2, -999.000,9, -999.000,9, -999.000,9, 2340.400,2, 2415.400,2
           NA,    P03C,    263,   1,-999.0,     -99,  2,20051228,1127,  24.2057,  153.5582,  5412, 3000.700,    1.559,   34.667,2,   34.667,2,  123.240,1,  134.280,2,  151.290,2,   37.300,2,    0.000,2,    2.632,2, -999.000,9, -999.000,9, -999.000,9, 2335.300,2, 2416.500,2
           NA,    P03C,    263,   1,-999.0,     -99,  2,20051228,1127,  24.2057,  153.5582,  5412, 3250.900,    1.513,   34.674,2,   34.674,6,  129.120,1,  140.710,2,  150.080,2,   36.910,2,    0.000,2,    2.589,2,    0.000,2,    0.000,2, -999.000,9, 2332.100,2, 2412.900,2
           NA,    P03C,    263,   1,-999.0,     -99,  2,20051228,1127,  24.2057,  153.5582,  5412, 3499.000,    1.489,   34.678,2,   34.678,2,  133.590,1,  145.260,2,  148.870,2,   36.440,2,    0.000,2,    2.567,2, -999.000,9, -999.000,9, -999.000,9, 2327.700,2, 2413.500,2
           NA,    P03C,    263,   1,-999.0,     -99,  2,20051228,1127,  24.2057,  153.5582,  5412, 3750.700,    1.472,   34.682,2,   34.682,2,  138.050,1,  149.850,2,  148.290,2,   36.230,2,    0.000,2,    2.546,2, -999.000,9, -999.000,9, -999.000,9, 2326.400,2, 2412.500,2
           NA,    P03C,    263,   1,-999.0,     -99,  2,20051228,1127,  24.2057,  153.5582,  5412, 4001.500,    1.466,   34.685,2,   34.686,2,  141.650,1,  153.350,2,  146.690,2,   36.060,2,    0.000,2,    2.529,2,    0.003,2,    0.000,2, -999.000,9, 2322.500,2, 2413.500,2
           NA,    P03C,    263,   1,-999.0,     -99,  2,20051228,1127,  24.2057,  153.5582,  5412, 4248.800,    1.465,   34.688,2,   34.688,6,  145.170,1,  156.770,2,  145.470,2,   35.820,2,    0.000,2,    2.508,2, -999.000,9, -999.000,9, -999.000,9, 2319.500,2, 2411.900,2
           NA,    P03C,    263,   1,-999.0,     -99,  2,20051228,1127,  24.2057,  153.5582,  5412, 4499.300,    1.475,   34.689,2,   34.690,2,  147.940,1,  159.320,2,  144.270,2,   35.640,2,    0.000,2,    2.499,2, -999.000,9, -999.000,9, -999.000,9, 2315.400,2, 2409.500,6
           NA,    P03C,    263,   1,-999.0,     -99,  2,20051228,1127,  24.2057,  153.5582,  5412, 4750.300,    1.490,   34.691,2,   34.691,2,  150.530,1,  161.520,2,  142.830,2,   35.490,2,    0.000,2,    2.482,2,    0.005,2,    0.000,2, -999.000,9, -999.000,3, 2407.100,2
           NA,    P03C,    263,   1,-999.0,     -99,  2,20051228,1127,  24.2057,  153.5582,  5412, 5000.400,    1.500,   34.693,2,   34.693,2,  154.050,1,  164.500,2,  141.190,2,   35.180,2,    0.000,2,    2.469,2, -999.000,9, -999.000,9, -999.000,9, 2312.200,2, 2407.000,2
           NA,    P03C,    263,   1,-999.0,     -99,  2,20051228,1127,  24.2057,  153.5582,  5412, 5250.300,    1.510,   34.695,2,   34.695,2,  158.550,1,  168.380,2,  138.360,2,   35.020,2,    0.000,2,    2.450,2, -999.000,9, -999.000,9, -999.000,9, 2306.700,2, 2405.200,2
           NA,    P03C,    263,   1,-999.0,     -99,  2,20051228,1127,  24.2057,  153.5582,  5412, 5510.000,    1.523,   34.696,2,   34.697,6,  163.420,1,  171.890,2,  136.170,2,   34.740,2,    0.000,2,    2.430,2,    0.000,2,    0.000,2, -999.000,9, 2305.700,2, 2402.600,2
           NA,    P03C,    261,   1,-999.0,     -99,  2,20051228,0341,  24.1845,  154.4392,  4986,   10.300,   24.377,   34.956,2,   34.956,2,  195.470,1,  209.900,2,    1.320,2,    0.040,2,    0.000,2,    0.051,2,    1.723,2,    1.023,2, -999.000,9, -999.000,9, -999.000,9
           NA,    P03C,    261,   1,-999.0,     -99,  2,20051228,0341,  24.1845,  154.4392,  4986,   49.300,   24.384,   34.955,2,   34.956,2,  195.480,1,  209.720,2,    1.310,2,    0.040,2,    0.000,2,    0.050,2,    1.727,2,    1.022,2, -999.000,9, -999.000,9, -999.000,9
           NA,    P03C,    261,   1,-999.0,     -99,  2,20051228,0341,  24.1845,  154.4392,  4986,  101.700,   21.495,   34.952,2,   34.953,2,  213.910,1,  229.890,2,    1.800,2,    0.030,2,    0.010,2,    0.052,2,    2.131,2,    1.233,2, -999.000,9, -999.000,9, -999.000,9
           NA,    P03C,    261,   1,-999.0,     -99,  2,20051228,0341,  24.1845,  154.4392,  4986,  152.500,   18.205,   34.838,2,   34.840,2,  192.200,1,  206.050,2,    2.970,2,    2.760,2,    0.020,2,    0.252,2,    2.327,2,    1.295,2, -999.000,9, -999.000,9, -999.000,9
           NA,    P03C,    261,   1,-999.0,     -99,  2,20051228,0341,  24.1845,  154.4392,  4986,  202.000,   17.385,   34.802,2,   34.802,2,  199.610,1,  213.750,2,    3.560,2,    3.860,2,    0.010,2,    0.307,2,    2.384,2,    1.317,2, -999.000,9, -999.000,9, -999.000,9
           NA,    P03C,    261,   1,-999.0,     -99,  2,20051228,0341,  24.1845,  154.4392,  4986,  248.100,   16.713,   34.743,2,   34.743,2,  192.100,1,  205.720,2,    4.840,2,    5.520,2,    0.010,2,    0.409,2,    2.469,6,    1.340,6, -999.000,9, -999.000,9, -999.000,9
           NA,    P03C,    261,   1,-999.0,     -99,  2,20051228,0341,  24.1845,  154.4392,  4986,  302.700,   16.032,   34.683,2,   34.686,2,  188.940,1,  202.240,2,    6.480,2,    6.880,2,    0.010,2,    0.505,2,    2.486,2,    1.363,2, -999.000,9, -999.000,9, -999.000,9
           NA,    P03C,    261,   1,-999.0,     -99,  2,20051228,0341,  24.1845,  154.4392,  4986,  400.800,   13.495,   34.468,2,   34.467,2,  182.160,1,  194.760,2,   12.370,2,   11.380,2,    0.010,2,    0.833,2,    2.712,2,    1.387,2, -999.000,9, -999.000,9, -999.000,9
           NA,    P03C,    261,   1,-999.0,     -99,  2,20051228,0341,  24.1845,  154.4392,  4986,  501.200,   10.554,   34.255,2,   34.256,6,  175.160,1,  187.010,2,   22.920,2,   17.060,2,    0.020,2,    1.249,2,    2.731,2,    1.349,2, -999.000,9, -999.000,9, -999.000,9
           NA,    P03C,    261,   1,-999.0,     -99,  2,20051228,0341,  24.1845,  154.4392,  4986,  601.600,    8.263,   34.109,2,   34.111,2,  149.750,1,  160.710,2,   37.660,2,   23.780,2,    0.010,2,    1.734,2,    2.364,2,    1.136,2, -999.000,9, -999.000,9, -999.000,9
           NA,    P03C,    261,   1,-999.0,     -99,  2,20051228,0341,  24.1845,  154.4392,  4986,  700.800,    6.205,   34.079,2,   34.080,2,  101.180,1,  108.740,2,   62.480,2,   32.250,2,    0.010,2,    2.365,2,    1.408,2,    0.672,2, -999.000,9, -999.000,9, -999.000,9
           NA,    P03C,    261,   1,-999.0,     -99,  2,20051228,0341,  24.1845,  154.4392,  4986,  802.000,    4.982,   34.163,2,   34.159,2,   61.610,1,   66.460,2,   86.480,2,   38.180,2,    0.010,2,    2.789,2,    0.617,6,    0.299,6, -999.000,9, -999.000,9, -999.000,9
           NA,    P03C,    261,   1,-999.0,     -99,  2,20051228,0341,  24.1845,  154.4392,  4986,  902.600,    4.323,   34.250,2,   34.249,2,   44.270,1,   47.270,2,  103.090,2,   40.750,2,    0.010,2,    2.958,2,    0.268,2,    0.134,2, -999.000,9, -999.000,9, -999.000,9
           NA,    P03C,    261,   1,-999.0,     -99,  2,20051228,0341,  24.1845,  154.4392,  4986, 1000.400,    3.803,   34.336,2,   34.337,6,   37.110,1,   39.450,2,  117.590,2,   42.190,2,    0.000,2,    3.058,2,    0.100,2,    0.057,2, -999.000,9, -999.000,9, -999.000,9
           NA,    P03C,    261,   1,-999.0,     -99,  2,20051228,0341,  24.1845,  154.4392,  4986, 1203.300,    3.172,   34.465,2,   34.465,2,   47.200,1,   50.400,2,  132.290,2,   41.970,2,    0.000,2,    3.032,2,    0.014,2,    0.008,2, -999.000,9, -999.000,9, -999.000,9
           NA,    P03C,    261,   1,-999.0,     -99,  2,20051228,0341,  24.1845,  154.4392,  4986, 1402.500,    2.697,   34.531,2,   34.532,2,   62.220,1,   66.810,2,  141.120,2,   41.300,2,    0.000,2,    2.966,2,    0.006,2,    0.001,2, -999.000,9, -999.000,9, -999.000,9
           NA,    P03C,    261,   1,-999.0,     -99,  2,20051228,0341,  24.1845,  154.4392,  4986, 1600.400,    2.375,   34.566,2,   34.566,2,   73.030,1,   78.600,2,  146.240,2,   40.590,2,    0.010,2,    2.891,2,    0.002,2,    0.000,2, -999.000,9, -999.000,9, -999.000,9
           NA,    P03C,    261,   1,-999.0,     -99,  2,20051228,0341,  24.1845,  154.4392,  4986, 1799.700,    2.150,   34.591,2,   34.591,2,   82.080,1,   88.400,2,  149.920,2,   40.040,2,    0.010,2,    2.866,2,    0.003,2,    0.000,2, -999.000,9, -999.000,9, -999.000,9
           NA,    P03C,    261,   1,-999.0,     -99,  2,20051228,0341,  24.1845,  154.4392,  4986, 2001.800,    1.932,   34.618,2,   34.618,6,   93.750,1,  101.380,2,  151.890,2,   39.450,2,    0.010,2,    2.807,2,    0.003,2,    0.000,2, -999.000,9, -999.000,9, -999.000,9
           NA,    P03C,    261,   1,-999.0,     -99,  2,20051228,0341,  24.1845,  154.4392,  4986, 2201.500,    1.799,   34.633,2,   34.634,2,  101.800,1,  110.180,2,  152.670,2,   38.930,2,    0.010,2,    2.764,2,    0.001,2,    0.000,2, -999.000,9, -999.000,9, -999.000,9
           NA,    P03C,    261,   1,-999.0,     -99,  2,20051228,0341,  24.1845,  154.4392,  4986, 2400.700,    1.699,   34.646,2,   34.646,2,  109.020,1,  118.150,2,  152.960,2,   38.490,2,    0.010,2,    2.728,2,    0.002,2,    0.001,2, -999.000,9, -999.000,9, -999.000,9
           NA,    P03C,    261,   1,-999.0,     -99,  2,20051228,0341,  24.1845,  154.4392,  4986, 2601.400,    1.621,   34.657,2,   34.657,2,  116.160,1,  125.950,2,  152.510,2,   37.970,2,    0.010,2,    2.685,2, -999.000,9, -999.000,9, -999.000,9, -999.000,9, -999.000,9
           NA,    P03C,    261,   1,-999.0,     -99,  2,20051228,0341,  24.1845,  154.4392,  4986, 2801.700,    1.576,   34.663,2,   34.663,2,  121.050,1,  131.100,2,  152.030,2,   37.620,2,    0.010,2,    2.658,2,    0.007,2,    0.002,2, -999.000,9, -999.000,9, -999.000,9
           NA,    P03C,    261,   1,-999.0,     -99,  2,20051228,0341,  24.1845,  154.4392,  4986, 3000.100,    1.538,   34.669,2,   34.669,6,  125.690,1,  136.210,2,  151.160,2,   37.290,2,    0.010,2,    2.632,2, -999.000,9, -999.000,9, -999.000,9, -999.000,9, -999.000,9
           NA,    P03C,    261,   1,-999.0,     -99,  2,20051228,0341,  24.1845,  154.4392,  4986, 3247.400,    1.498,   34.675,2,   34.675,2,  131.370,1,  142.160,2,  149.710,2,   36.830,2,    0.010,2,    2.584,2, -999.000,9, -999.000,9, -999.000,9, -999.000,9, -999.000,9
           NA,    P03C,    261,   1,-999.0,     -99,  2,20051228,0341,  24.1845,  154.4392,  4986, 3501.300,    1.470,   34.680,2,   34.680,2,  136.380,1,  147.170,2,  148.640,2,   36.530,2,    0.010,2,    2.568,2,    0.002,2,    0.001,2, -999.000,9, -999.000,9, -999.000,9
           NA,    P03C,    261,   1,-999.0,     -99,  2,20051228,0341,  24.1845,  154.4392,  4986, 3750.000,    1.450,   34.684,2,   34.684,2,  141.110,1,  152.080,2,  147.030,2,   36.170,2,    0.010,2,    2.546,2, -999.000,9, -999.000,9, -999.000,9, -999.000,9, -999.000,9
           NA,    P03C,    261,   1,-999.0,     -99,  2,20051228,0341,  24.1845,  154.4392,  4986, 4001.900,    1.442,   34.687,2,   34.687,6,  145.240,1,  156.110,2,  145.820,2,   35.860,2,    0.010,2,    2.523,2, -999.000,9, -999.000,9, -999.000,9, -999.000,9, -999.000,9
           NA,    P03C,    261,   1,-999.0,     -99,  2,20051228,0341,  24.1845,  154.4392,  4986, 4250.100,    1.445,   34.689,2,   34.690,2,  148.640,1,  159.270,2,  144.480,2,   35.690,2,    0.000,2,    2.508,2,    0.002,2,    0.000,2, -999.000,9, -999.000,9, -999.000,9
           NA,    P03C,    261,   1,-999.0,     -99,  2,20051228,0341,  24.1845,  154.4392,  4986, 4501.200,    1.447,   34.692,2,   34.692,2,  152.830,1, -999.000,4,  142.190,2,   35.410,2,    0.010,2,    2.484,2, -999.000,9, -999.000,9, -999.000,9, -999.000,9, -999.000,9
           NA,    P03C,    261,   1,-999.0,     -99,  2,20051228,0341,  24.1845,  154.4392,  4986, 4501.700,    1.447,   34.692,2,   34.692,2,  152.860,1,  163.040,2,  142.140,2,   35.370,2,    0.010,2,    2.488,2, -999.000,9, -999.000,9, -999.000,9, -999.000,9, -999.000,9
           NA,    P03C,    261,   1,-999.0,     -99,  2,20051228,0341,  24.1845,  154.4392,  4986, 4748.800,    1.458,   34.694,2,   34.694,2,  156.510,1,  166.240,2,  140.230,2,   35.260,2,    0.000,2,    2.468,2,    0.004,2,    0.001,2, -999.000,9, -999.000,9, -999.000,9
           NA,    P03C,    261,   1,-999.0,     -99,  2,20051228,0341,  24.1845,  154.4392,  4986, 5015.000,    1.469,   34.695,2,   34.696,6,  161.500,1,  170.000,2,  137.210,2,   34.940,2,    0.010,2,    2.448,2,    0.000,2,    0.000,2, -999.000,9, -999.000,9, -999.000,9