BOTTLE,20211903JOAExport
EXPOCODE,SECT_ID,STNNBR,CASTNO,SAMPNO,BTLNBR,BTLNBR_FLAG_W,DATE,TIME,LATITUDE,LONGITUDE,DEPTH,CTDPRS,CTDTMP,CTDSAL,CTDSAL_FLAG_W,SALNTY,SALNTY_FLAG_W,CTDOXY,CTDOXY_FLAG_W,OXYGEN,OXYGEN_FLAG_W,SILCAT,SILCAT_FLAG_W,NITRAT,NITRAT_FLAG_W,NITRIT,NITRIT_FLAG_W,PHSPHT,PHSPHT_FLAG_W,CFC-11,CFC-11_FLAG_W,CFC-12,CFC-12_FLAG_W,SF6,SF6_FLAG_W,TCARBN,TCARBN_FLAG_W,ALKALI,ALKALI_FLAG_W
,,,,,,,,,,,,DB,ITS-90,PSS-78,,PSS-78,,UMOL/KG,,UMOL/KG,,UMOL/KG,,UMOL/KG,,UMOL/KG,,UMOL/KG,,PMOL/KG,,PMOL/KG,,FMOL/KG,,UMOL/KG,,UMOL/KG
           NA,    P03E,    146,   1,-999.0,     -99,  2,20051122,0107,  24.6672, -166.5573,  5126,    9.900,   25.875,   35.213,2,   35.213,2,  187.920,1,  206.000,2,    0.990,2,    0.060,2,    0.000,2,    0.047,2,    1.823,2,    0.993,2, -999.000,9, 1976.200,2, 2318.400,2
           NA,    P03E,    146,   1,-999.0,     -99,  2,20051122,0107,  24.6672, -166.5573,  5126,   50.400,   25.899,   35.230,2,   35.230,2,  187.930,1,  205.900,2,    1.000,2,    0.060,2,    0.000,2,    0.047,2,    1.619,2,    0.994,2, -999.000,9, 1977.600,6, 2315.200,2
           NA,    P03E,    146,   1,-999.0,     -99,  2,20051122,0107,  24.6672, -166.5573,  5126,  100.500,   23.907,   35.200,2,   35.200,2,  196.120,1,  213.930,2,    1.230,2,    0.050,2,    0.010,2,    0.064,2,    1.862,2,    1.118,2, -999.000,9, 1998.700,2, 2315.600,6
           NA,    P03E,    146,   1,-999.0,     -99,  2,20051122,0107,  24.6672, -166.5573,  5126,  150.400,   20.943,   35.135,2,   35.135,2,  180.880,1,  198.100,2,    1.880,2,    1.380,2,    0.030,2,    0.190,2,    2.065,2,    1.227,2, -999.000,9, 2032.300,2, 2310.500,2
           NA,    P03E,    146,   1,-999.0,     -99,  2,20051122,0107,  24.6672, -166.5573,  5126,  200.400,   19.253,   34.989,2,   34.988,2,  181.090,1,  198.070,2,    2.730,2,    2.510,2,    0.010,2,    0.267,2,    2.203,2,    1.306,2, -999.000,9, 2041.100,2, 2299.800,2
           NA,    P03E,    146,   1,-999.0,     -99,  2,20051122,0107,  24.6672, -166.5573,  5126,  250.500,   16.830,   34.755,2,   34.753,2,  192.070,1,  209.930,2,    4.270,2,    3.950,2,    0.010,2,    0.351,2,    2.424,6,    1.400,6, -999.000,9, 2041.000,2, 2289.900,2
           NA,    P03E,    146,   1,-999.0,     -99,  2,20051122,0107,  24.6672, -166.5573,  5126,  300.400,   15.569,   34.626,2,   34.625,2,  194.340,1,  212.200,2,    5.690,2,    5.600,2,    0.010,2,    0.455,2,    2.533,2,    1.454,2, -999.000,9, 2049.200,2, 2275.000,2
           NA,    P03E,    146,   1,-999.0,     -99,  2,20051122,0107,  24.6672, -166.5573,  5126,  400.900,   12.421,   34.308,2,   34.305,2,  188.920,1,  205.850,2,   12.110,2,   11.410,2,    0.000,2,    0.862,2,    2.808,2,    1.555,2, -999.000,9, 2083.800,2, 2267.000,2
           NA,    P03E,    146,   1,-999.0,     -99,  2,20051122,0107,  24.6672, -166.5573,  5126,  501.000,    9.384,   34.136,2,   34.135,6,  164.470,1,  179.590,2,   26.420,2,   19.760,2,    0.000,2,    1.437,2,    2.686,2,    1.394,2, -999.000,9, 2136.800,2, 2267.700,2
           NA,    P03E,    146,   1,-999.0,     -99,  2,20051122,0107,  24.6672, -166.5573,  5126,  600.500,    7.875,   34.079,2,   34.077,2,  130.280,1,  141.490,2,   40.880,2,   26.280,2,    0.000,2,    1.916,2,    2.141,2,    1.059,2, -999.000,9, 2185.000,2, 2275.500,2
           NA,    P03E,    146,   1,-999.0,     -99,  2,20051122,0107,  24.6672, -166.5573,  5126,  703.200,    5.982,   34.098,2,   34.099,2,   66.830,1,   72.970,2,   66.940,2,   35.750,2,    0.000,2,    2.632,2,    0.828,2,    0.417,2, -999.000,9, 2264.100,6, 2301.500,2
           NA,    P03E,    146,   1,-999.0,     -99,  2,20051122,0107,  24.6672, -166.5573,  5126,  800.200,    5.248,   34.175,2,   34.182,2,   43.890,1,   46.230,2,   83.620,2,   39.440,2,    0.000,2,    2.906,2,    0.354,6,    0.184,6, -999.000,9, 2301.200,2, 2317.300,6
           NA,    P03E,    146,   1,-999.0,     -99,  2,20051122,0107,  24.6672, -166.5573,  5126,  900.200,    4.399,   34.298,2,   34.298,2,   34.890,1,   37.700,2,  102.710,2,   41.500,2,    0.000,2,    3.035,2,    0.145,2,    0.074,2, -999.000,9, 2329.500,2, 2345.800,2
           NA,    P03E,    146,   1,-999.0,     -99,  2,20051122,0107,  24.6672, -166.5573,  5126, 1001.200,    4.025,   34.365,2,   34.365,6,   34.000,1,   37.030,2,  111.760,2,   42.210,2,    0.000,2,    3.075,2,    0.066,2,    0.059,2, -999.000,9, 2341.800,2, 2357.800,2
           NA,    P03E,    146,   1,-999.0,     -99,  2,20051122,0107,  24.6672, -166.5573,  5126, 1200.300,    3.344,   34.474,2,   34.474,2,   44.140,1,   48.250,2,  127.720,2,   42.260,2,    0.000,2,    3.054,2,    0.014,2,    0.007,2, -999.000,9, 2353.500,2, 2380.100,2
           NA,    P03E,    146,   1,-999.0,     -99,  2,20051122,0107,  24.6672, -166.5573,  5126, 1401.200,    2.929,   34.528,2,   34.528,2,   54.750,1,   59.980,2,  136.440,2,   41.610,2,    0.000,2,    3.003,2,    0.006,2,    0.004,2, -999.000,9, 2357.700,2, 2392.800,2
           NA,    P03E,    146,   1,-999.0,     -99,  2,20051122,0107,  24.6672, -166.5573,  5126, 1599.200,    2.555,   34.563,2,   34.563,2,   63.770,1,   72.170,2,  145.030,2,   41.120,2,    0.000,2,    2.961,2,    0.001,2,    0.000,2, -999.000,9, 2360.000,2, 2400.400,2
           NA,    P03E,    146,   1,-999.0,     -99,  2,20051122,0107,  24.6672, -166.5573,  5126, 1800.700,    2.261,   34.590,2,   34.590,2,   72.530,1,   79.920,2,  151.110,2,   40.720,2,    0.000,2,    2.918,2,    0.001,2,    0.000,2, -999.000,9, 2361.100,2, 2407.000,2
           NA,    P03E,    146,   1,-999.0,     -99,  2,20051122,0107,  24.6672, -166.5573,  5126, 2001.100,    2.044,   34.611,2,   34.611,2,   81.360,1,   89.900,2,  154.820,2,   40.140,2,    0.000,2,    2.865,2,    0.001,2,    0.000,2, -999.000,9, 2358.800,2, 2411.600,2
           NA,    P03E,    146,   1,-999.0,     -99,  2,20051122,0107,  24.6672, -166.5573,  5126, 2200.000,    1.886,   34.627,2,   34.627,6,   89.190,1,   98.690,2,  156.960,2,   39.650,2,    0.000,2,    2.818,2, -999.000,9, -999.000,9, -999.000,9, 2358.400,2, 2413.900,2
           NA,    P03E,    146,   1,-999.0,     -99,  2,20051122,0107,  24.6672, -166.5573,  5126, 2400.500,    1.767,   34.639,2,   34.639,2,   95.200,1,  105.210,2,  159.210,2,   39.180,2,    0.000,2,    2.777,2,    0.000,2,    0.000,2, -999.000,9, 2355.200,6, 2418.800,2
           NA,    P03E,    146,   1,-999.0,     -99,  2,20051122,0107,  24.6672, -166.5573,  5126, 2600.000,    1.671,   34.650,2,   34.651,2,  102.280,1,  113.310,2,  159.850,2,   38.700,2,    0.000,2,    2.737,2, -999.000,9, -999.000,9, -999.000,9, 2350.400,2, 2421.500,6
           NA,    P03E,    146,   1,-999.0,     -99,  2,20051122,0107,  24.6672, -166.5573,  5126, 2800.600,    1.600,   34.659,2,   34.659,2,  108.640,1,  120.280,2,  159.650,2,   38.160,2,    0.000,2,    2.705,2, -999.000,9, -999.000,9, -999.000,9, 2349.400,2, 2424.800,2
           NA,    P03E,    146,   1,-999.0,     -99,  2,20051122,0107,  24.6672, -166.5573,  5126, 3002.300,    1.549,   34.666,2,   34.666,2,  113.880,1,  126.200,2,  159.180,2,   37.860,2,    0.000,2,    2.680,2,    0.001,2,    0.001,2, -999.000,9, 2345.100,2, 2422.700,2
           NA,    P03E,    146,   1,-999.0,     -99,  2,20051122,0107,  24.6672, -166.5573,  5126, 3251.600,    1.500,   34.673,2,   34.672,6,  120.550,1,  133.690,2,  158.180,2,   37.370,2,    0.000,2,    2.636,2, -999.000,9, -999.000,9, -999.000,9, 2340.300,2, 2421.000,2
           NA,    P03E,    146,   1,-999.0,     -99,  2,20051122,0107,  24.6672, -166.5573,  5126, 3502.700,    1.457,   34.680,2,   34.680,2,  128.280,1,  142.030,2,  155.830,2,   36.850,2,    0.000,2,    2.596,2, -999.000,9, -999.000,9, -999.000,9, 2336.600,2, 2421.600,2
           NA,    P03E,    146,   1,-999.0,     -99,  2,20051122,0107,  24.6672, -166.5573,  5126, 3752.000,    1.449,   34.683,2,   34.683,2,  132.530,1,  146.630,2,  154.580,2,   36.510,2,    0.000,2,    2.570,2,    0.000,2,    0.001,2, -999.000,9, 2331.600,2, 2424.500,2
           NA,    P03E,    146,   1,-999.0,     -99,  2,20051122,0107,  24.6672, -166.5573,  5126, 4000.900,    1.446,   34.686,2,   34.686,2,  136.680,1,  150.980,2,  152.950,2,   36.210,2,    0.000,2,    2.546,2, -999.000,9, -999.000,9, -999.000,9, 2328.300,2, 2420.100,2
           NA,    P03E,    146,   1,-999.0,     -99,  2,20051122,0107,  24.6672, -166.5573,  5126, 4250.900,    1.459,   34.688,2,   34.688,2,  139.040,1,  153.010,2,  151.990,2,   36.030,2,    0.000,2,    2.529,2, -999.000,9, -999.000,9, -999.000,9, 2326.800,6, 2419.400,2
           NA,    P03E,    146,   1,-999.0,     -99,  2,20051122,0107,  24.6672, -166.5573,  5126, 4500.300,    1.475,   34.689,2,   34.689,6,  141.470,1,  154.920,2,  150.950,2,   35.900,2,    0.000,2,    2.524,2,    0.000,2,    0.001,2, -999.000,9, -999.000,3, 2419.600,6
           NA,    P03E,    146,   1,-999.0,     -99,  2,20051122,0107,  24.6672, -166.5573,  5126, 4748.900,    1.497,   34.690,2,   34.690,2,  143.430,1,  156.280,2,  150.080,2,   35.860,2,    0.000,2,    2.522,2, -999.000,9, -999.000,9, -999.000,9, 2323.200,2, 2422.100,2
           NA,    P03E,    146,   1,-999.0,     -99,  2,20051122,0107,  24.6672, -166.5573,  5126, 4997.600,    1.526,   34.690,2,   34.690,2,  144.510,1,  156.520,2,  149.670,2,   35.830,2,    0.000,2,    2.522,2, -999.000,9, -999.000,9, -999.000,9, 2324.400,2, 2416.800,2
           NA,    P03E,    146,   1,-999.0,     -99,  2,20051122,0107,  24.6672, -166.5573,  5126, 5202.000,    1.551,   34.690,2,   34.690,6,  145.800,1,  156.900,2,  149.530,2,   35.790,2,    0.000,2,    2.517,2,    0.002,2,    0.001,2, -999.000,9, 2322.500,2, 2420.500,2
           NA,    P03E,    144,   1,-999.0,     -99,  2,20051121,2003,  24.8867, -166.3435,  5085,    9.900,   25.819,   35.230,2,   35.231,2,  188.200,1,  205.430,2,    0.960,2,    0.060,2,   -0.010,2,    0.025,2,    1.601,2,    0.978,2, -999.000,9, -999.000,9, -999.000,9
           NA,    P03E,    144,   1,-999.0,     -99,  2,20051121,2003,  24.8867, -166.3435,  5085,   50.100,   25.825,   35.236,2,   35.236,2,  187.810,1,  205.420,2,    0.980,2,    0.050,2,   -0.010,2,    0.027,2,    1.607,2,    0.982,2, -999.000,9, -999.000,9, -999.000,9
           NA,    P03E,    144,   1,-999.0,     -99,  2,20051121,2003,  24.8867, -166.3435,  5085,  100.400,   24.215,   35.176,2,   35.177,2,  191.740,1,  209.450,2,    1.160,2,    0.060,2,    0.020,2,    0.050,2,    1.806,2,    1.117,2, -999.000,9, -999.000,9, -999.000,9
           NA,    P03E,    144,   1,-999.0,     -99,  2,20051121,2003,  24.8867, -166.3435,  5085,  151.300,   20.899,   35.135,2,   35.141,2,  180.260,1,  197.270,2,    1.820,2,    1.340,2,    0.010,2,    0.160,2,    2.030,2,    1.211,2, -999.000,9, -999.000,9, -999.000,9
           NA,    P03E,    144,   1,-999.0,     -99,  2,20051121,2003,  24.8867, -166.3435,  5085,  199.000,   18.656,   34.936,2,   34.933,2,  181.540,1,  198.340,2,    3.000,2,    2.980,2,    0.000,2,    0.269,2,    2.254,2,    1.294,2, -999.000,9, -999.000,9, -999.000,9
           NA,    P03E,    144,   1,-999.0,     -99,  2,20051121,2003,  24.8867, -166.3435,  5085,  252.000,   16.537,   34.730,2,   34.738,2,  194.450,1,  211.790,2,    4.420,2,    4.170,2,    0.000,2,    0.334,2,    2.423,6,    1.363,6, -999.000,9, -999.000,9, -999.000,9
           NA,    P03E,    144,   1,-999.0,     -99,  2,20051121,2003,  24.8867, -166.3435,  5085,  301.800,   14.865,   34.541,2,   34.555,2,  193.090,1,  210.460,2,    6.510,2,    6.550,2,   -0.010,2,    0.504,2,    2.603,2,    1.450,2, -999.000,9, -999.000,9, -999.000,9
           NA,    P03E,    144,   1,-999.0,     -99,  2,20051121,2003,  24.8867, -166.3435,  5085,  399.500,   11.920,   34.289,2,   34.285,2,  187.960,1,  204.700,2,   13.940,2,   12.630,2,   -0.010,2,    0.923,2,    2.817,2,    1.478,2, -999.000,9, -999.000,9, -999.000,9
           NA,    P03E,    144,   1,-999.0,     -99,  2,20051121,2003,  24.8867, -166.3435,  5085,  502.800,    9.253,   34.133,2,   34.132,6,  162.120,1,  176.750,2,   27.740,2,   20.340,2,    0.000,2,    1.470,2,    2.604,2,    1.297,2, -999.000,9, -999.000,9, -999.000,9
           NA,    P03E,    144,   1,-999.0,     -99,  2,20051121,2003,  24.8867, -166.3435,  5085,  601.000,    7.272,   34.069,2,   34.070,2,  119.130,1,  128.600,2,   47.990,2,   28.610,2,   -0.010,2,    2.079,2,    1.853,2,    0.875,2, -999.000,9, -999.000,9, -999.000,9
           NA,    P03E,    144,   1,-999.0,     -99,  2,20051121,2003,  24.8867, -166.3435,  5085,  700.100,    5.798,   34.114,2,   34.116,2,   61.830,1,   67.050,2,   70.960,2,   36.660,2,   -0.010,2,    2.691,2,    0.753,2,    0.346,2, -999.000,9, -999.000,9, -999.000,9
           NA,    P03E,    144,   1,-999.0,     -99,  2,20051121,2003,  24.8867, -166.3435,  5085,  801.200,    4.978,   34.214,2,   34.210,2,   37.490,1,   41.550,2,   88.350,2,   40.190,2,   -0.010,2,    2.953,2,    0.292,6,    0.133,6, -999.000,9, -999.000,9, -999.000,9
           NA,    P03E,    144,   1,-999.0,     -99,  2,20051121,2003,  24.8867, -166.3435,  5085,  901.900,    4.437,   34.319,2,   34.319,2,   31.880,1,   34.660,2,  102.110,2,   41.750,2,   -0.010,2,    3.051,2,    0.112,2,    0.040,2, -999.000,9, -999.000,9, -999.000,9
           NA,    P03E,    144,   1,-999.0,     -99,  2,20051121,2003,  24.8867, -166.3435,  5085, 1000.900,    4.111,   34.408,2,   34.407,6,   35.420,1,   38.520,2,  109.620,2,   42.060,2,   -0.010,2,    3.073,2,    0.034,2,    0.008,2, -999.000,9, -999.000,9, -999.000,9
           NA,    P03E,    144,   1,-999.0,     -99,  2,20051121,2003,  24.8867, -166.3435,  5085, 1202.000,    3.360,   34.477,2,   34.477,2,   44.570,1,   48.660,2,  126.700,2,   42.060,2,   -0.010,2,    3.032,2,    0.019,2,    0.008,2, -999.000,9, -999.000,9, -999.000,9
           NA,    P03E,    144,   1,-999.0,     -99,  2,20051121,2003,  24.8867, -166.3435,  5085, 1402.100,    2.945,   34.525,2,   34.525,2,   53.340,1,   58.440,2,  136.150,2,   41.720,2,   -0.010,2,    3.005,2,    0.012,2,    0.000,2, -999.000,9, -999.000,9, -999.000,9
           NA,    P03E,    144,   1,-999.0,     -99,  2,20051121,2003,  24.8867, -166.3435,  5085, 1603.000,    2.554,   34.562,2,   34.562,2,   62.550,1,   68.630,2,  144.930,2,   41.220,2,   -0.010,2,    2.961,2,    0.000,2,    0.000,2, -999.000,9, -999.000,9, -999.000,9
           NA,    P03E,    144,   1,-999.0,     -99,  2,20051121,2003,  24.8867, -166.3435,  5085, 1797.000,    2.276,   34.590,2,   34.590,2,   72.700,1,   80.070,2,  150.410,2,   40.700,2,   -0.010,2,    2.899,2,    0.000,2,    0.001,2, -999.000,9, -999.000,9, -999.000,9
           NA,    P03E,    144,   1,-999.0,     -99,  2,20051121,2003,  24.8867, -166.3435,  5085, 2000.700,    2.004,   34.614,2,   34.615,2,   82.190,1,   90.680,2,  155.660,2,   40.020,2,   -0.010,2,    2.851,2,    0.000,2,    0.000,2, -999.000,9, -999.000,9, -999.000,9
           NA,    P03E,    144,   1,-999.0,     -99,  2,20051121,2003,  24.8867, -166.3435,  5085, 2201.100,    1.847,   34.631,2,   34.631,2,   90.420,1,  100.020,2,  157.870,2,   39.500,2,   -0.010,2,    2.814,2, -999.000,9, -999.000,9, -999.000,9, -999.000,9, -999.000,9
           NA,    P03E,    144,   1,-999.0,     -99,  2,20051121,2003,  24.8867, -166.3435,  5085, 2401.800,    1.736,   34.643,2,   34.643,6,   97.270,1,  107.600,2,  159.250,2,   39.060,2,   -0.010,2,    2.770,2, -999.000,9, -999.000,9, -999.000,9, -999.000,9, -999.000,9
           NA,    P03E,    144,   1,-999.0,     -99,  2,20051121,2003,  24.8867, -166.3435,  5085, 2600.000,    1.650,   34.652,2,   34.653,2,  103.580,1,  114.700,2,  159.660,2,   38.610,2,   -0.010,2,    2.728,2, -999.000,9, -999.000,9, -999.000,9, -999.000,9, -999.000,9
           NA,    P03E,    144,   1,-999.0,     -99,  2,20051121,2003,  24.8867, -166.3435,  5085, 2800.000,    1.591,   34.659,2,   34.660,2,  108.730,1,  120.420,2,  159.890,2,   38.200,2,   -0.010,2,    2.700,2,    0.000,2,    0.000,2, -999.000,9, -999.000,9, -999.000,9
           NA,    P03E,    144,   1,-999.0,     -99,  2,20051121,2003,  24.8867, -166.3435,  5085, 3000.700,    1.550,   34.665,2,   34.665,2,  113.370,1,  125.610,2,  159.450,2,   37.920,2,   -0.010,2,    2.676,2, -999.000,9, -999.000,9, -999.000,9, -999.000,9, -999.000,9
           NA,    P03E,    144,   1,-999.0,     -99,  2,20051121,2003,  24.8867, -166.3435,  5085, 3251.100,    1.505,   34.672,2,   34.672,2,  119.890,1,  132.720,2,  158.210,2,   37.330,2,   -0.010,2,    2.629,2, -999.000,9, -999.000,9, -999.000,9, -999.000,9, -999.000,9
           NA,    P03E,    144,   1,-999.0,     -99,  2,20051121,2003,  24.8867, -166.3435,  5085, 3500.100,    1.476,   34.678,2,   34.678,6,  126.400,1,  139.590,2,  156.400,2,   36.920,2,   -0.010,2,    2.601,2,    0.003,2,    0.003,2, -999.000,9, -999.000,9, -999.000,9
           NA,    P03E,    144,   1,-999.0,     -99,  2,20051121,2003,  24.8867, -166.3435,  5085, 3749.900,    1.460,   34.682,2,   34.682,2,  131.220,1,  144.620,2,  155.220,2,   36.580,2,   -0.010,2,    2.575,2, -999.000,9, -999.000,9, -999.000,9, -999.000,9, -999.000,9
           NA,    P03E,    144,   1,-999.0,     -99,  2,20051121,2003,  24.8867, -166.3435,  5085, 4000.300,    1.459,   34.685,2,   34.685,2,  134.850,1,  148.490,2,  154.180,2,   36.370,2,   -0.010,2,    2.555,2, -999.000,9, -999.000,9, -999.000,9, -999.000,9, -999.000,9
           NA,    P03E,    144,   1,-999.0,     -99,  2,20051121,2003,  24.8867, -166.3435,  5085, 4250.900,    1.466,   34.687,2,   34.687,2,  138.000,1,  151.410,2,  153.010,2,   36.190,2,   -0.010,2,    2.529,2,    0.000,2,    0.000,2, -999.000,9, -999.000,9, -999.000,9
           NA,    P03E,    144,   1,-999.0,     -99,  2,20051121,2003,  24.8867, -166.3435,  5085, 4501.400,    1.482,   34.689,2,   34.688,6,  140.410,1,  153.410,2,  151.800,2,   35.990,2,   -0.010,2,    2.528,2, -999.000,9, -999.000,9, -999.000,9, -999.000,9, -999.000,9
           NA,    P03E,    144,   1,-999.0,     -99,  2,20051121,2003,  24.8867, -166.3435,  5085, 4749.800,    1.498,   34.690,2,   34.690,2,  143.060,1,  155.710,2,  150.050,2,   35.870,2,   -0.010,2,    2.519,2, -999.000,9, -999.000,9, -999.000,9, -999.000,9, -999.000,9
           NA,    P03E,    144,   1,-999.0,     -99,  2,20051121,2003,  24.8867, -166.3435,  5085, 5000.500,    1.516,   34.691,2,   34.691,2,  146.000,1,  157.940,2,  148.310,2,   35.700,2,   -0.010,2,    2.500,2, -999.000,9, -999.000,9, -999.000,9, -999.000,9, -999.000,9
           NA,    P03E,    144,   1,-999.0,     -99,  2,20051121,2003,  24.8867, -166.3435,  5085, 5160.200,    1.536,   34.691,2,   34.691,6,  147.180,1,  158.070,2,  147.850,2,   35.730,2,   -0.010,2,    2.496,2,    0.002,2,    0.001,2, -999.000,9, -999.000,9, -999.000,9