BOTTLE,20211903JOAExport
EXPOCODE,SECT_ID,STNNBR,CASTNO,SAMPNO,BTLNBR,BTLNBR_FLAG_W,DATE,TIME,LATITUDE,LONGITUDE,DEPTH,CTDPRS,CTDTMP,CTDSAL,CTDSAL_FLAG_W,SALNTY,SALNTY_FLAG_W,CTDOXY,CTDOXY_FLAG_W,OXYGEN,OXYGEN_FLAG_W,SILCAT,SILCAT_FLAG_W,NITRAT,NITRAT_FLAG_W,NITRIT,NITRIT_FLAG_W,PHSPHT,PHSPHT_FLAG_W,CFC-11,CFC-11_FLAG_W,CFC-12,CFC-12_FLAG_W,SF6,SF6_FLAG_W,TCARBN,TCARBN_FLAG_W,ALKALI,ALKALI_FLAG_W
,,,,,,,,,,,,DB,ITS-90,PSS-78,,PSS-78,,UMOL/KG,,UMOL/KG,,UMOL/KG,,UMOL/KG,,UMOL/KG,,UMOL/KG,,PMOL/KG,,PMOL/KG,,FMOL/KG,,UMOL/KG,,UMOL/KG
           NA,    P03C,    233,   1,-999.0,     -99,  2,20051223,1445,  24.2585,  165.6707,  5970,   10.000,   25.878,   35.256,2,   35.256,2,  192.120,1,  205.100,2,    1.130,2,    0.020,2,    0.000,2,    0.042,2,    1.590,2,    0.950,2, -999.000,9, 1969.800,2, 2313.200,2
           NA,    P03C,    233,   1,-999.0,     -99,  2,20051223,1445,  24.2585,  165.6707,  5970,   50.400,   25.870,   35.252,2,   35.252,2,  192.370,1,  205.350,2,    1.130,2,    0.040,2,    0.010,2,    0.039,2,    1.605,2,    0.959,2, -999.000,9, 1969.900,6, 2317.100,2
           NA,    P03C,    233,   1,-999.0,     -99,  2,20051223,1445,  24.2585,  165.6707,  5970,  100.000,   22.865,   35.143,2,   35.141,2,  208.390,1,  222.430,2,    1.530,2,    0.020,2,    0.000,2,    0.052,2,    1.957,2,    1.153,2, -999.000,9, 1994.400,2, 2309.300,6
           NA,    P03C,    233,   1,-999.0,     -99,  2,20051223,1445,  24.2585,  165.6707,  5970,  149.800,   19.137,   34.933,2,   34.926,2,  197.110,1,  210.140,2,    2.430,2,    0.500,2,    0.140,2,    0.141,2,    2.174,2,    1.274,2, -999.000,9, 2022.600,2, 2291.100,2
           NA,    P03C,    233,   1,-999.0,     -99,  2,20051223,1445,  24.2585,  165.6707,  5970,  200.800,   17.479,   34.795,2,   34.794,2,  200.390,1,  213.490,2,    3.450,2,    3.740,2,    0.010,2,    0.294,2,    2.265,2,    1.317,2, -999.000,9, 2022.700,2, -999.000,4
           NA,    P03C,    233,   1,-999.0,     -99,  2,20051223,1445,  24.2585,  165.6707,  5970,  251.000,   16.960,   34.765,2,   34.765,2,  197.560,1,  210.340,2,    4.280,2,    4.690,2,    0.010,2,    0.357,2,    2.296,6,    1.336,6, -999.000,9, 2030.300,2, 2281.100,2
           NA,    P03C,    233,   1,-999.0,     -99,  2,20051223,1445,  24.2585,  165.6707,  5970,  299.200,   15.724,   34.655,2,   34.652,2,  190.930,1,  203.390,2,    7.170,2,    7.290,2,    0.000,2,    0.536,2,    2.403,2,    1.356,2, -999.000,9, 2047.500,2, -999.000,4
           NA,    P03C,    233,   1,-999.0,     -99,  2,20051223,1445,  24.2585,  165.6707,  5970,  401.700,   12.867,   34.403,2,   34.401,2,  188.330,1,  200.350,2,   12.650,2,   11.640,2,    0.000,2,    0.854,2,    2.700,2,    1.458,2, -999.000,9, 2081.400,2, -999.000,4
           NA,    P03C,    233,   1,-999.0,     -99,  2,20051223,1445,  24.2585,  165.6707,  5970,  500.300,    9.884,   34.187,2,   34.183,6,  173.550,1,  183.350,2,   24.770,2,   18.610,2,    0.000,2,    1.351,2,    2.639,2,    1.353,2, -999.000,9, 2128.300,2, -999.000,4
           NA,    P03C,    233,   1,-999.0,     -99,  2,20051223,1445,  24.2585,  165.6707,  5970,  601.700,    7.833,   34.096,2,   34.096,2,  132.910,1,  141.990,2,   41.780,2,   26.260,2,    0.000,2,    1.900,2,    1.967,2,    0.969,2, -999.000,9, 2183.700,2, -999.000,4
           NA,    P03C,    233,   1,-999.0,     -99,  2,20051223,1445,  24.2585,  165.6707,  5970,  700.000,    6.031,   34.123,2,   34.125,2,   79.150,1,   83.860,2,   67.980,2,   34.780,2,    0.000,2,    2.542,2,    0.900,2,    0.450,2, -999.000,9, 2256.300,6, 2299.600,2
           NA,    P03C,    233,   1,-999.0,     -99,  2,20051223,1445,  24.2585,  165.6707,  5970,  800.600,    5.127,   34.170,2,   34.171,2,   56.570,1,   60.150,2,   85.150,2,   38.440,2,    0.000,2,    2.805,2,    0.471,6,    0.232,6, -999.000,9, 2292.600,2, 2314.700,6
           NA,    P03C,    233,   1,-999.0,     -99,  2,20051223,1445,  24.2585,  165.6707,  5970,  899.600,    4.384,   34.244,2,   34.247,2,   41.480,1,   44.010,2,  102.480,2,   40.880,2,    0.000,2,    2.971,2,    0.217,2,    0.112,2, -999.000,9, 2324.000,2, 2336.700,2
           NA,    P03C,    233,   1,-999.0,     -99,  2,20051223,1445,  24.2585,  165.6707,  5970, 1001.100,    3.967,   34.338,2,   34.338,6,   36.460,1,   38.900,2,  113.480,2,   41.980,2,    0.000,2,    3.048,2,    0.065,2,    0.029,2, -999.000,9, 2339.200,2, 2351.300,2
           NA,    P03C,    233,   1,-999.0,     -99,  2,20051223,1445,  24.2585,  165.6707,  5970, 1199.500,    3.251,   34.477,2,   34.479,2,   48.220,1,   52.000,2,  129.110,2,   41.680,2,    0.000,2,    3.005,2,    0.004,2,    0.002,2, -999.000,9, 2352.700,2, 2377.900,2
           NA,    P03C,    233,   1,-999.0,     -99,  2,20051223,1445,  24.2585,  165.6707,  5970, 1401.700,    2.781,   34.542,2,   34.542,2,   65.270,1,   70.440,2,  137.400,2,   40.750,2,    0.000,2,    2.930,2,    0.000,2,    0.000,2, -999.000,9, 2352.700,2, 2388.000,2
           NA,    P03C,    233,   1,-999.0,     -99,  2,20051223,1445,  24.2585,  165.6707,  5970, 1599.900,    2.405,   34.575,2,   34.576,2,   74.320,1,   80.260,2,  145.170,2,   40.480,2,    0.000,2,    2.895,2,    0.000,2,    0.003,2, -999.000,9, 2353.600,2, 2401.200,2
           NA,    P03C,    233,   1,-999.0,     -99,  2,20051223,1445,  24.2585,  165.6707,  5970, 1802.200,    2.150,   34.601,2,   34.602,2,   83.870,1,   90.730,2,  149.040,2,   40.000,2,    0.000,2,    2.848,2,    0.000,2,    0.001,2, -999.000,9, 2354.600,2, 2406.100,2
           NA,    P03C,    233,   1,-999.0,     -99,  2,20051223,1445,  24.2585,  165.6707,  5970, 2000.700,    1.977,   34.620,2,   34.621,2,   92.670,1,  100.400,2,  151.310,2,   39.440,2,   -0.010,2,    2.794,2,    0.000,2,    0.000,2, -999.000,9, 2351.300,2, 2409.500,2
           NA,    P03C,    233,   1,-999.0,     -99,  2,20051223,1445,  24.2585,  165.6707,  5970, 2200.400,    1.855,   34.637,2,   34.639,6,  101.540,1,  110.270,2,  151.960,2,   38.780,2,    0.000,2,    2.752,2,    0.000,2,    0.004,2, -999.000,9, 2347.600,2, 2412.200,2
           NA,    P03C,    233,   1,-999.0,     -99,  2,20051223,1445,  24.2585,  165.6707,  5970, 2400.900,    1.764,   34.647,2,   34.647,2,  106.500,1,  115.940,2,  152.640,2,   38.500,2,    0.000,2,    2.722,2,    0.000,2,    0.001,2, -999.000,9, 2346.100,6, 2411.200,2
           NA,    P03C,    233,   1,-999.0,     -99,  2,20051223,1445,  24.2585,  165.6707,  5970, 2600.200,    1.696,   34.656,2,   34.656,2,  112.230,1,  122.260,2,  152.820,2,   38.170,2,    0.000,2,    2.686,2, -999.000,9, -999.000,9, -999.000,9, 2341.800,2, 2414.600,6
           NA,    P03C,    233,   1,-999.0,     -99,  2,20051223,1445,  24.2585,  165.6707,  5970, 2800.100,    1.638,   34.662,2,   34.662,2,  116.750,1,  127.300,2,  152.450,2,   37.680,2,    0.000,2,    2.666,2, -999.000,9, -999.000,9, -999.000,9, 2341.700,2, 2414.500,2
           NA,    P03C,    233,   1,-999.0,     -99,  2,20051223,1445,  24.2585,  165.6707,  5970, 3000.400,    1.602,   34.666,2,   34.666,2,  120.300,1,  131.310,2,  152.170,2,   37.510,2,    0.010,2,    2.644,2,    0.000,2,    0.000,2, -999.000,9, 2337.100,2, 2418.400,2
           NA,    P03C,    233,   1,-999.0,     -99,  2,20051223,1445,  24.2585,  165.6707,  5970, 3249.700,    1.568,   34.671,2,   34.672,6,  124.700,1,  135.990,2,  151.470,2,   37.100,2,    0.000,2,    2.615,2, -999.000,9, -999.000,9, -999.000,9, 2337.100,2, 2417.400,2
           NA,    P03C,    233,   1,-999.0,     -99,  2,20051223,1445,  24.2585,  165.6707,  5970, 3500.000,    1.538,   34.675,2,   34.676,2,  128.920,1,  140.600,2,  150.640,2,   36.880,2,    0.000,2,    2.590,2, -999.000,9, -999.000,9, -999.000,9, 2332.600,2, 2414.900,2
           NA,    P03C,    233,   1,-999.0,     -99,  2,20051223,1445,  24.2585,  165.6707,  5970, 3750.000,    1.505,   34.680,2,   34.680,2,  134.470,1,  146.660,2,  149.010,2,   36.450,2,    0.000,2,    2.560,2,    0.000,2,    0.001,2, -999.000,9, 2326.600,2, 2415.600,2
           NA,    P03C,    233,   1,-999.0,     -99,  2,20051223,1445,  24.2585,  165.6707,  5970, 3999.300,    1.487,   34.684,2,   34.684,2,  139.330,1,  151.710,2,  147.270,2,   36.030,2,    0.000,2,    2.536,2, -999.000,9, -999.000,9, -999.000,9, 2322.100,2, 2413.600,2
           NA,    P03C,    233,   1,-999.0,     -99,  2,20051223,1445,  24.2585,  165.6707,  5970, 4248.600,    1.476,   34.687,2,   34.687,2,  143.670,1,  156.020,2,  144.770,2,   35.810,2,    0.000,2,    2.511,2, -999.000,9, -999.000,9, -999.000,9, 2319.300,6, 2410.600,2
           NA,    P03C,    233,   1,-999.0,     -99,  2,20051223,1445,  24.2585,  165.6707,  5970, 4501.000,    1.467,   34.690,2,   34.690,6,  148.340,1,  160.750,2,  142.670,2,   35.450,2,    0.000,2,    2.482,2,    0.001,2,    0.001,2, -999.000,9, 2315.400,2, 2408.500,6
           NA,    P03C,    233,   1,-999.0,     -99,  2,20051223,1445,  24.2585,  165.6707,  5970, 4749.600,    1.460,   34.693,2,   34.694,2,  153.180,1,  165.570,2,  140.090,2,   35.120,2,    0.000,2,    2.461,2, -999.000,9, -999.000,9, -999.000,9, 2309.100,2, 2405.800,2
           NA,    P03C,    233,   1,-999.0,     -99,  2,20051223,1445,  24.2585,  165.6707,  5970, 5001.400,    1.455,   34.695,2,   34.695,2,  158.390,1,  170.490,2,  137.230,2,   34.780,2,    0.000,2,    2.432,2, -999.000,9, -999.000,9, -999.000,9, 2304.600,2, 2403.100,2
           NA,    P03C,    233,   1,-999.0,     -99,  2,20051223,1445,  24.2585,  165.6707,  5970, 5249.000,    1.460,   34.697,2,   34.697,2,  162.270,1,  174.110,2,  134.740,2,   34.430,2,    0.000,2,    2.410,2,    0.000,2,    0.004,2, -999.000,9, 2299.600,2, 2403.400,2
           NA,    P03C,    233,   1,-999.0,     -99,  2,20051223,1445,  24.2585,  165.6707,  5970, 5499.500,    1.473,   34.699,2,   34.699,2,  165.630,1,  176.780,2,  133.530,2,   34.280,2,    0.000,2,    2.402,2, -999.000,9, -999.000,9, -999.000,9, 2297.900,2, 2397.300,2
           NA,    P03C,    233,   1,-999.0,     -99,  2,20051223,1445,  24.2585,  165.6707,  5970, 5749.900,    1.497,   34.699,2,   34.700,2,  167.850,1,  177.850,2,  132.570,2,   34.260,2,    0.000,2,    2.399,2, -999.000,9, -999.000,9, -999.000,9, 2296.100,2, 2397.900,2
           NA,    P03C,    233,   1,-999.0,     -99,  2,20051223,1445,  24.2585,  165.6707,  5970, 6076.800,    1.535,   34.699,2,   34.699,6,  171.030,1,  178.730,2,  132.740,2,   34.210,2,    0.010,2,    2.386,2,    0.001,2,    0.006,2, -999.000,9, 2295.000,2, 2395.800,2
           NA,    P03C,    231,   1,-999.0,     -99,  2,20051223,0630,  24.2470,  166.4832,  5800,   10.100,   26.016,   35.241,2,   35.241,2,  192.120,1,  204.710,2,    1.080,2,    0.050,2,    0.000,2,    0.055,2,    1.606,2,    0.949,2, -999.000,9, -999.000,9, -999.000,9
           NA,    P03C,    231,   1,-999.0,     -99,  2,20051223,0630,  24.2470,  166.4832,  5800,   49.800,   26.022,   35.239,2,   35.240,2,  191.940,1,  204.760,2,    1.040,2,    0.050,2,    0.000,2,    0.053,2,    1.605,2,    0.935,2, -999.000,9, -999.000,9, -999.000,9
           NA,    P03C,    231,   1,-999.0,     -99,  2,20051223,0630,  24.2470,  166.4832,  5800,  101.100,   23.138,   35.182,2,   35.184,2,  207.340,1,  220.580,2,    1.410,2,    0.040,2,    0.000,2,    0.059,2,    1.985,2,    1.145,2, -999.000,9, -999.000,9, -999.000,9
           NA,    P03C,    231,   1,-999.0,     -99,  2,20051223,0630,  24.2470,  166.4832,  5800,  150.300,   19.611,   34.974,2,   34.965,2,  192.890,1,  205.380,2,    2.370,2,    1.020,2,    0.060,2,    0.173,2,    2.250,2,    1.249,2, -999.000,9, -999.000,9, -999.000,9
           NA,    P03C,    231,   1,-999.0,     -99,  2,20051223,0630,  24.2470,  166.4832,  5800,  201.700,   17.566,   34.799,2,   34.798,2,  199.890,1,  213.030,2,    3.340,2,    3.660,2,    0.010,2,    0.298,2,    2.388,2,    1.314,2, -999.000,9, -999.000,9, -999.000,9
           NA,    P03C,    231,   1,-999.0,     -99,  2,20051223,0630,  24.2470,  166.4832,  5800,  249.600,   16.870,   34.759,2,   34.753,2,  198.130,1,  209.690,2,    4.590,2,    5.060,2,    0.010,2,    0.391,2,    2.450,6,    1.321,6, -999.000,9, -999.000,9, -999.000,9
           NA,    P03C,    231,   1,-999.0,     -99,  2,20051223,0630,  24.2470,  166.4832,  5800,  301.400,   15.942,   34.674,2,   34.672,2,  191.540,1,  203.860,2,    6.550,2,    6.900,2,    0.000,2,    0.515,2,    2.536,2,    1.344,2, -999.000,9, -999.000,9, -999.000,9
           NA,    P03C,    231,   1,-999.0,     -99,  2,20051223,0630,  24.2470,  166.4832,  5800,  400.200,   13.504,   34.473,2,   34.467,2,  189.970,1,  202.280,2,   12.060,2,   10.770,2,    0.000,2,    0.790,2,    2.751,2,    1.405,2, -999.000,9, -999.000,9, -999.000,9
           NA,    P03C,    231,   1,-999.0,     -99,  2,20051223,0630,  24.2470,  166.4832,  5800,  501.700,   10.336,   34.219,2,   34.217,6,  174.800,1,  185.410,2,   22.330,2,   17.540,2,    0.000,2,    1.280,2,    2.836,2,    1.359,2, -999.000,9, -999.000,9, -999.000,9
           NA,    P03C,    231,   1,-999.0,     -99,  2,20051223,0630,  24.2470,  166.4832,  5800,  599.800,    7.878,   34.093,2,   34.092,2,  139.530,1,  147.850,2,   41.330,2,   25.740,2,    0.000,2,    1.868,2,    2.184,2,    1.025,2, -999.000,9, -999.000,9, -999.000,9
           NA,    P03C,    231,   1,-999.0,     -99,  2,20051223,0630,  24.2470,  166.4832,  5800,  800.600,    5.067,   34.212,2,   34.212,2,   50.480,1,   53.520,2,   87.280,2,   39.310,2,    0.000,2,    2.856,2,    0.353,6,    0.168,6, -999.000,9, -999.000,9, -999.000,9
           NA,    P03C,    231,   1,-999.0,     -99,  2,20051223,0630,  24.2470,  166.4832,  5800,  900.900,    4.444,   34.317,2,   34.316,2,   39.670,1,   42.090,2,  101.730,2,   41.330,2,    0.000,2,    2.999,2,    0.110,2,    0.051,2, -999.000,9, -999.000,9, -999.000,9
           NA,    P03C,    231,   1,-999.0,     -99,  2,20051223,0630,  24.2470,  166.4832,  5800,  999.700,    4.086,   34.380,2,   34.380,6,   40.460,1,   42.980,2,  110.140,2,   41.920,2,    0.000,2,    3.031,2,    0.047,2,    0.022,2, -999.000,9, -999.000,9, -999.000,9
           NA,    P03C,    231,   1,-999.0,     -99,  2,20051223,0630,  24.2470,  166.4832,  5800, 1201.200,    3.352,   34.480,2,   34.481,2,   52.000,1,   55.550,2,  126.620,2,   41.730,2,    0.000,2,    2.994,2,    0.009,2,    0.004,2, -999.000,9, -999.000,9, -999.000,9
           NA,    P03C,    231,   1,-999.0,     -99,  2,20051223,0630,  24.2470,  166.4832,  5800, 1400.200,    2.882,   34.535,2,   34.535,2,   64.510,1,   69.110,2,  135.550,2,   41.170,2,    0.000,2,    2.945,2,    0.004,2,    0.005,2, -999.000,9, -999.000,9, -999.000,9
           NA,    P03C,    231,   1,-999.0,     -99,  2,20051223,0630,  24.2470,  166.4832,  5800, 1600.600,    2.488,   34.569,2,   34.569,2,   71.860,1,   77.360,2,  144.030,2,   40.830,2,    0.000,2,    2.912,2,    0.003,2,    0.000,2, -999.000,9, -999.000,9, -999.000,9
           NA,    P03C,    231,   1,-999.0,     -99,  2,20051223,0630,  24.2470,  166.4832,  5800, 1800.300,    2.210,   34.598,2,   34.598,2,   83.240,1,   89.840,2,  148.000,2,   40.210,2,    0.000,2,    2.855,2,    0.003,2,    0.000,2, -999.000,9, -999.000,9, -999.000,9
           NA,    P03C,    231,   1,-999.0,     -99,  2,20051223,0630,  24.2470,  166.4832,  5800, 2000.700,    2.016,   34.619,2,   34.619,2,   92.230,1,   99.660,2,  150.560,2,   39.700,2,    0.010,2,    2.811,2,    0.000,2,    0.000,2, -999.000,9, -999.000,9, -999.000,9
           NA,    P03C,    231,   1,-999.0,     -99,  2,20051223,0630,  24.2470,  166.4832,  5800, 2200.400,    1.877,   34.636,2,   34.636,6,  100.550,1,  108.830,2,  151.870,2,   39.160,2,    0.000,2,    2.763,2,    0.000,2,    0.001,2, -999.000,9, -999.000,9, -999.000,9
           NA,    P03C,    231,   1,-999.0,     -99,  2,20051223,0630,  24.2470,  166.4832,  5800, 2400.400,    1.777,   34.647,2,   34.647,2,  106.770,1,  115.610,2,  152.690,2,   38.770,2,    0.000,2,    2.732,2,    0.003,2,    0.001,2, -999.000,9, -999.000,9, -999.000,9
           NA,    P03C,    231,   1,-999.0,     -99,  2,20051223,0630,  24.2470,  166.4832,  5800, 2600.600,    1.699,   34.655,2,   34.655,2,  111.920,1,  121.250,2,  153.220,2,   38.360,2,    0.000,2,    2.697,2, -999.000,9, -999.000,9, -999.000,9, -999.000,9, -999.000,9
           NA,    P03C,    231,   1,-999.0,     -99,  2,20051223,0630,  24.2470,  166.4832,  5800, 2801.200,    1.648,   34.661,2,   34.661,2,  116.360,1,  126.250,2,  153.080,2,   37.950,2,    0.000,2,    2.677,2,    0.001,2,    0.000,2, -999.000,9, -999.000,9, -999.000,9
           NA,    P03C,    231,   1,-999.0,     -99,  2,20051223,0630,  24.2470,  166.4832,  5800, 3001.500,    1.609,   34.667,2,   34.666,2,  120.670,1,  131.180,2,  152.600,2,   37.710,2,    0.000,2,    2.649,2, -999.000,9, -999.000,9, -999.000,9, -999.000,9, -999.000,9
           NA,    P03C,    231,   1,-999.0,     -99,  2,20051223,0630,  24.2470,  166.4832,  5800, 3252.100,    1.564,   34.672,2,   34.672,6,  125.860,1,  136.650,2,  151.670,2,   37.280,2,    0.000,2,    2.613,2, -999.000,9, -999.000,9, -999.000,9, -999.000,9, -999.000,9
           NA,    P03C,    231,   1,-999.0,     -99,  2,20051223,0630,  24.2470,  166.4832,  5800, 3501.400,    1.535,   34.676,2,   34.677,2,  130.230,1,  141.510,2,  150.450,2,   37.100,2,    0.000,2,    2.591,2,    0.000,2,    0.001,2, -999.000,9, -999.000,9, -999.000,9
           NA,    P03C,    231,   1,-999.0,     -99,  2,20051223,0630,  24.2470,  166.4832,  5800, 3749.900,    1.515,   34.680,2,   34.680,2,  134.450,1,  146.100,2,  149.230,2,   36.790,2,    0.010,2,    2.571,2, -999.000,9, -999.000,9, -999.000,9, -999.000,9, -999.000,9
           NA,    P03C,    231,   1,-999.0,     -99,  2,20051223,0630,  24.2470,  166.4832,  5800, 4001.000,    1.502,   34.683,2,   34.683,2,  138.660,1,  150.280,2,  147.590,2,   36.430,2,    0.000,2,    2.544,2, -999.000,9, -999.000,9, -999.000,9, -999.000,9, -999.000,9
           NA,    P03C,    231,   1,-999.0,     -99,  2,20051223,0630,  24.2470,  166.4832,  5800, 4250.800,    1.488,   34.686,2,   34.686,2,  142.900,1,  154.360,2,  146.270,2,   36.140,2,    0.000,2,    2.521,2,    0.004,2,    0.000,2, -999.000,9, -999.000,9, -999.000,9
           NA,    P03C,    231,   1,-999.0,     -99,  2,20051223,0630,  24.2470,  166.4832,  5800, 4500.800,    1.474,   34.690,2,   34.689,6,  148.190,1,  159.780,2,  143.650,2,   35.730,2,    0.000,2,    2.494,2, -999.000,9, -999.000,9, -999.000,9, -999.000,9, -999.000,9
           NA,    P03C,    231,   1,-999.0,     -99,  2,20051223,0630,  24.2470,  166.4832,  5800, 4750.900,    1.467,   34.693,2,   34.693,2,  153.430,1,  164.960,2,  140.580,2,   35.350,2,    0.000,2,    2.465,2, -999.000,9, -999.000,9, -999.000,9, -999.000,9, -999.000,9
           NA,    P03C,    231,   1,-999.0,     -99,  2,20051223,0630,  24.2470,  166.4832,  5800, 5000.900,    1.464,   34.695,2,   34.695,2,  158.290,1,  169.540,2,  137.980,2,   35.110,2,    0.000,2,    2.441,2,    0.001,2,    0.001,2, -999.000,9, -999.000,9, -999.000,9
           NA,    P03C,    231,   1,-999.0,     -99,  2,20051223,0630,  24.2470,  166.4832,  5800, 5248.900,    1.463,   34.697,2,   34.697,2,  163.150,1,  173.920,2,  135.390,2,   34.800,2,    0.000,2,    2.420,2, -999.000,9, -999.000,9, -999.000,9, -999.000,9, -999.000,9
           NA,    P03C,    231,   1,-999.0,     -99,  2,20051223,0630,  24.2470,  166.4832,  5800, 5498.900,    1.472,   34.699,2,   34.699,2,  166.820,1,  177.010,2,  133.460,2,   34.540,2,    0.000,2,    2.399,2,    0.004,2,    0.000,2, -999.000,9, -999.000,9, -999.000,9
           NA,    P03C,    231,   1,-999.0,     -99,  2,20051223,0630,  24.2470,  166.4832,  5800, 5857.100,    1.506,   34.700,2,   34.700,6,  170.950,1,  178.980,2,  132.430,2,   34.280,2,    0.000,2,    2.385,2,    0.000,2,    0.000,2, -999.000,9, -999.000,9, -999.000,9