BOTTLE,20211903JOAExport
EXPOCODE,SECT_ID,STNNBR,CASTNO,SAMPNO,BTLNBR,BTLNBR_FLAG_W,DATE,TIME,LATITUDE,LONGITUDE,DEPTH,CTDPRS,CTDTMP,CTDSAL,CTDSAL_FLAG_W,SALNTY,SALNTY_FLAG_W,CTDOXY,CTDOXY_FLAG_W,OXYGEN,OXYGEN_FLAG_W,SILCAT,SILCAT_FLAG_W,NITRAT,NITRAT_FLAG_W,NITRIT,NITRIT_FLAG_W,PHSPHT,PHSPHT_FLAG_W,CFC-11,CFC-11_FLAG_W,CFC-12,CFC-12_FLAG_W,SF6,SF6_FLAG_W,TCARBN,TCARBN_FLAG_W,ALKALI,ALKALI_FLAG_W
,,,,,,,,,,,,DB,ITS-90,PSS-78,,PSS-78,,UMOL/KG,,UMOL/KG,,UMOL/KG,,UMOL/KG,,UMOL/KG,,UMOL/KG,,PMOL/KG,,PMOL/KG,,FMOL/KG,,UMOL/KG,,UMOL/KG
           NA,    P03C,    207,   1,-999.0,     -99,  2,20051210,0051,  24.2537,  175.9935,  5789,   10.200,   26.246,   35.363,2,   35.363,2,  181.130,1,  204.550,2,    0.840,2,    0.050,2,    0.000,2,    0.054,2,    1.636,2,    0.944,2, -999.000,9, -999.000,9, -999.000,9
           NA,    P03C,    207,   1,-999.0,     -99,  2,20051210,0051,  24.2537,  175.9935,  5789,   50.600,   26.172,   35.358,2,   35.358,2,  181.030,1,  204.690,2,    0.810,2,    0.050,2,    0.000,2,    0.052,2,    1.642,2,    0.951,2, -999.000,9, -999.000,9, -999.000,9
           NA,    P03C,    207,   1,-999.0,     -99,  2,20051210,0051,  24.2537,  175.9935,  5789,  100.800,   24.122,   35.245,2,   35.245,2,  196.200,1,  221.730,2,    1.050,2,    0.060,2,    0.000,2,    0.060,2,    1.905,2,    1.081,2, -999.000,9, -999.000,9, -999.000,9
           NA,    P03C,    207,   1,-999.0,     -99,  2,20051210,0051,  24.2537,  175.9935,  5789,  150.500,   21.294,   35.177,2,   35.174,2,  179.840,1,  203.260,2,    1.580,2,    0.210,2,    0.160,2,    0.133,2,    2.070,2,    1.176,2, -999.000,9, -999.000,9, -999.000,9
           NA,    P03C,    207,   1,-999.0,     -99,  2,20051210,0051,  24.2537,  175.9935,  5789,  198.700,   19.193,   35.020,2,   35.013,2,  178.100,1,  201.790,2,    2.500,2,    2.210,2,    0.010,2,    0.240,2,    2.241,2,    1.266,2, -999.000,9, -999.000,9, -999.000,9
           NA,    P03C,    207,   1,-999.0,     -99,  2,20051210,0051,  24.2537,  175.9935,  5789,  250.200,   16.921,   34.773,2,   34.771,2,  183.100,1,  207.150,2,    4.120,2,    4.150,2,    0.000,2,    0.367,2,    2.429,2,    1.375,2, -999.000,9, -999.000,9, -999.000,9
           NA,    P03C,    207,   1,-999.0,     -99,  2,20051210,0051,  24.2537,  175.9935,  5789,  299.400,   15.194,   34.564,2,   34.560,2,  174.780,1,  197.990,2,    6.620,2,    7.330,2,    0.000,2,    0.588,2,    2.615,2,    1.438,2, -999.000,9, -999.000,9, -999.000,9
           NA,    P03C,    207,   1,-999.0,     -99,  2,20051210,0051,  24.2537,  175.9935,  5789,  400.800,   11.823,   34.305,2,   34.304,2,  177.860,1,  201.600,2,   14.890,2,   13.140,2,    0.000,2,    0.972,2,    2.826,2,    1.458,2, -999.000,9, -999.000,9, -999.000,9
           NA,    P03C,    207,   1,-999.0,     -99,  2,20051210,0051,  24.2537,  175.9935,  5789,  500.700,    9.149,   34.136,2,   34.134,6,  147.480,1,  167.140,2,   29.460,2,   21.360,2,    0.000,2,    1.560,2,    2.484,2,    1.227,2, -999.000,9, -999.000,9, -999.000,9
           NA,    P03C,    207,   1,-999.0,     -99,  2,20051210,0051,  24.2537,  175.9935,  5789,  599.800,    7.402,   34.091,2,   34.091,2,  108.940,1,  124.030,2,   47.230,2,   28.620,2,    0.000,2,    2.090,2,    1.729,2,    0.826,2, -999.000,9, -999.000,9, -999.000,9
           NA,    P03C,    207,   1,-999.0,     -99,  2,20051210,0051,  24.2537,  175.9935,  5789,  700.800,    5.866,   34.114,2,   34.115,2,   70.550,1,   80.320,2,   69.650,2,   35.380,2,    0.000,2,    2.587,2,    0.915,2,    0.419,2, -999.000,9, -999.000,9, -999.000,9
           NA,    P03C,    207,   1,-999.0,     -99,  2,20051210,0051,  24.2537,  175.9935,  5789,  799.300,    4.838,   34.181,2,   34.183,2,   46.370,1,   53.330,2,   91.090,2,   39.540,2,    0.000,2,    2.888,2,    0.444,6,    0.205,6, -999.000,9, -999.000,9, -999.000,9
           NA,    P03C,    207,   1,-999.0,     -99,  2,20051210,0051,  24.2537,  175.9935,  5789,  901.400,    4.254,   34.305,2,   34.303,2,   32.830,1,   38.260,2,  106.080,2,   41.670,2,   -0.010,2,    3.043,2,    0.127,2,    0.055,2, -999.000,9, -999.000,9, -999.000,9
           NA,    P03C,    207,   1,-999.0,     -99,  2,20051210,0051,  24.2537,  175.9935,  5789, 1001.600,    3.901,   34.370,2,   34.369,2,   32.580,1,   37.880,2,  115.190,2,   42.150,2,    0.000,2,    3.076,2,    0.059,2,    0.023,2, -999.000,9, -999.000,9, -999.000,9
           NA,    P03C,    207,   1,-999.0,     -99,  2,20051210,0051,  24.2537,  175.9935,  5789, 1200.600,    3.399,   34.495,2,   34.495,2,   49.180,1,   56.730,2,  125.060,2,   41.510,2,    0.000,2,    3.010,2,    0.006,2,    0.003,2, -999.000,9, -999.000,9, -999.000,9
           NA,    P03C,    207,   1,-999.0,     -99,  2,20051210,0051,  24.2537,  175.9935,  5789, 1399.500,    3.016,   34.542,2,   34.542,2,   59.400,1,   68.330,2,  132.130,2,   41.070,2,    0.000,2,    2.964,2,    0.002,2,    0.000,2, -999.000,9, -999.000,9, -999.000,9
           NA,    P03C,    207,   1,-999.0,     -99,  2,20051210,0051,  24.2537,  175.9935,  5789, 1600.100,    2.628,   34.574,2,   34.573,2,   67.630,1,   77.960,2,  140.330,2,   40.710,2,    0.000,2,    2.925,2,    0.005,2,    0.000,2, -999.000,9, -999.000,9, -999.000,9
           NA,    P03C,    207,   1,-999.0,     -99,  2,20051210,0051,  24.2537,  175.9935,  5789, 1799.800,    2.286,   34.600,2,   34.600,2,   76.380,1,   88.360,2,  146.950,2,   40.120,2,    0.000,2,    2.877,2,    0.005,2,    0.000,2, -999.000,9, -999.000,9, -999.000,9
           NA,    P03C,    207,   1,-999.0,     -99,  2,20051210,0051,  24.2537,  175.9935,  5789, 2000.900,    2.067,   34.617,2,   34.617,2,   82.690,1,   95.810,2,  151.160,2,   39.640,2,    0.000,2,    2.831,2,    0.014,2,    0.000,2, -999.000,9, -999.000,9, -999.000,9
           NA,    P03C,    207,   1,-999.0,     -99,  2,20051210,0051,  24.2537,  175.9935,  5789, 2200.300,    1.907,   34.632,2,   34.632,6,   90.650,1,  105.360,2,  153.090,2,   39.150,2,    0.000,2,    2.785,2,    0.006,2,    0.000,2, -999.000,9, -999.000,9, -999.000,9
           NA,    P03C,    207,   1,-999.0,     -99,  2,20051210,0051,  24.2537,  175.9935,  5789, 2400.800,    1.793,   34.643,2,   34.644,2,   96.900,1,  113.000,2,  153.940,2,   38.650,2,    0.000,2,    2.743,2,    0.001,2,    0.000,2, -999.000,9, -999.000,9, -999.000,9
           NA,    P03C,    207,   1,-999.0,     -99,  2,20051210,0051,  24.2537,  175.9935,  5789, 2601.000,    1.714,   34.652,2,   34.651,2,  102.020,1,  119.080,2,  154.150,2,   38.430,2,    0.000,2,    2.715,2,    0.013,2,    0.000,2, -999.000,9, -999.000,9, -999.000,9
           NA,    P03C,    207,   1,-999.0,     -99,  2,20051210,0051,  24.2537,  175.9935,  5789, 2800.700,    1.650,   34.659,2,   34.659,2,  106.680,1,  124.610,2,  154.120,2,   38.050,2,    0.000,2,    2.683,2, -999.000,9, -999.000,9, -999.000,9, -999.000,9, -999.000,9
           NA,    P03C,    207,   1,-999.0,     -99,  2,20051210,0051,  24.2537,  175.9935,  5789, 2999.900,    1.604,   34.664,2,   34.663,2,  110.140,1,  128.960,2,  154.200,2,   37.690,2,    0.000,2,    2.661,2, -999.000,9, -999.000,9, -999.000,9, -999.000,9, -999.000,9
           NA,    P03C,    207,   1,-999.0,     -99,  2,20051210,0051,  24.2537,  175.9935,  5789, 3250.000,    1.551,   34.671,2,   34.671,6,  116.100,1,  135.920,2,  152.990,2,   37.210,2,   -0.010,2,    2.620,2,    0.002,2,    0.000,2, -999.000,9, -999.000,9, -999.000,9
           NA,    P03C,    207,   1,-999.0,     -99,  2,20051210,0051,  24.2537,  175.9935,  5789, 3499.300,    1.520,   34.675,2,   34.675,2,  120.180,1,  140.840,2,  152.170,2,   36.900,2,    0.000,2,    2.596,2, -999.000,9, -999.000,9, -999.000,9, -999.000,9, -999.000,9
           NA,    P03C,    207,   1,-999.0,     -99,  2,20051210,0051,  24.2537,  175.9935,  5789, 3750.100,    1.492,   34.680,2,   34.680,2,  125.350,1,  146.670,2,  150.480,2,   36.520,2,   -0.010,2,    2.564,2, -999.000,9, -999.000,9, -999.000,9, -999.000,9, -999.000,9
           NA,    P03C,    207,   1,-999.0,     -99,  2,20051210,0051,  24.2537,  175.9935,  5789, 4000.700,    1.472,   34.684,2,   34.684,2,  129.590,1,  151.150,2,  148.900,2,   36.300,2,   -0.010,2,    2.542,2,    0.005,2,    0.000,2, -999.000,9, -999.000,9, -999.000,9
           NA,    P03C,    207,   1,-999.0,     -99,  2,20051210,0051,  24.2537,  175.9935,  5789, 4250.400,    1.456,   34.688,2,   34.688,2,  134.530,1,  156.540,2,  146.070,2,   35.740,2,   -0.010,2,    2.507,2, -999.000,9, -999.000,9, -999.000,9, -999.000,9, -999.000,9
           NA,    P03C,    207,   1,-999.0,     -99,  2,20051210,0051,  24.2537,  175.9935,  5789, 4500.400,    1.443,   34.691,2,   34.691,6,  140.320,1,  163.170,2,  142.470,2,   35.340,2,   -0.010,2,    2.472,2, -999.000,9, -999.000,9, -999.000,9, -999.000,9, -999.000,9
           NA,    P03C,    207,   1,-999.0,     -99,  2,20051210,0051,  24.2537,  175.9935,  5789, 4749.400,    1.434,   34.695,2,   34.694,2,  145.840,1,  168.970,2,  138.850,2,   34.910,2,   -0.010,2,    2.443,2,    0.001,2,    0.000,2, -999.000,9, -999.000,9, -999.000,9
           NA,    P03C,    207,   1,-999.0,     -99,  2,20051210,0051,  24.2537,  175.9935,  5789, 5000.500,    1.435,   34.697,2,   34.696,2,  149.900,1,  172.760,2,  136.290,2,   34.640,2,   -0.010,2,    2.421,2, -999.000,9, -999.000,9, -999.000,9, -999.000,9, -999.000,9
           NA,    P03C,    207,   1,-999.0,     -99,  2,20051210,0051,  24.2537,  175.9935,  5789, 5250.100,    1.446,   34.699,2,   34.699,2,  153.300,1,  176.040,2,  134.760,2,   34.440,2,   -0.010,2,    2.405,2, -999.000,9, -999.000,9, -999.000,9, -999.000,9, -999.000,9
           NA,    P03C,    207,   1,-999.0,     -99,  2,20051210,0051,  24.2537,  175.9935,  5789, 5501.400,    1.467,   34.699,2,   34.699,2,  155.510,1,  177.430,2,  133.420,2,   34.370,2,   -0.010,2,    2.398,2,    0.000,2,    0.000,2, -999.000,9, -999.000,9, -999.000,9
           NA,    P03C,    207,   1,-999.0,     -99,  2,20051210,0051,  24.2537,  175.9935,  5789, 5749.400,    1.493,   34.700,2,   34.700,2,  157.520,1,  178.430,2,  132.960,2,   34.180,2,   -0.010,2,    2.387,2, -999.000,9, -999.000,9, -999.000,9, -999.000,9, -999.000,9
           NA,    P03C,    207,   1,-999.0,     -99,  2,20051210,0051,  24.2537,  175.9935,  5789, 5889.800,    1.509,   34.700,2,   34.700,6,  159.630,1,  178.910,2,  132.650,2,   34.170,2,    0.000,2,    2.389,2,    0.000,2,    0.000,2, -999.000,9, -999.000,9, -999.000,9