BOTTLE,20211903JOAExport
EXPOCODE,SECT_ID,STNNBR,CASTNO,SAMPNO,BTLNBR,BTLNBR_FLAG_W,DATE,TIME,LATITUDE,LONGITUDE,DEPTH,CTDPRS,CTDTMP,CTDSAL,CTDSAL_FLAG_W,SALNTY,SALNTY_FLAG_W,CTDOXY,CTDOXY_FLAG_W,OXYGEN,OXYGEN_FLAG_W,SILCAT,SILCAT_FLAG_W,NITRAT,NITRAT_FLAG_W,NITRIT,NITRIT_FLAG_W,PHSPHT,PHSPHT_FLAG_W,CFC-11,CFC-11_FLAG_W,CFC-12,CFC-12_FLAG_W,SF6,SF6_FLAG_W,TCARBN,TCARBN_FLAG_W,ALKALI,ALKALI_FLAG_W
,,,,,,,,,,,,DB,ITS-90,PSS-78,,PSS-78,,UMOL/KG,,UMOL/KG,,UMOL/KG,,UMOL/KG,,UMOL/KG,,UMOL/KG,,PMOL/KG,,PMOL/KG,,FMOL/KG,,UMOL/KG,,UMOL/KG
           NA,    P03C,    185,   1,-999.0,     -99,  2,20051205,0932,  24.2247, -175.1978,  5110,   10.100,   25.948,   35.258,2,   35.262,2,  184.020,1,  204.880,2,    0.950,2,    0.030,2,    0.000,2,    0.034,2,    1.607,2,    0.942,2, -999.000,9, -999.000,9, -999.000,9
           NA,    P03C,    185,   1,-999.0,     -99,  2,20051205,0932,  24.2247, -175.1978,  5110,   51.500,   25.875,   35.268,2,   35.268,2,  185.170,1,  206.170,2,    0.950,2,    0.030,2,    0.000,2,    0.035,2,    1.622,2,    0.951,2, -999.000,9, -999.000,9, -999.000,9
           NA,    P03C,    185,   1,-999.0,     -99,  2,20051205,0932,  24.2247, -175.1978,  5110,   99.500,   22.278,   35.207,2,   35.208,2,  186.590,1,  208.420,2,    1.330,2,    0.030,2,    0.030,2,    0.073,2,    1.947,2,    1.119,2, -999.000,9, -999.000,9, -999.000,9
           NA,    P03C,    185,   1,-999.0,     -99,  2,20051205,0932,  24.2247, -175.1978,  5110,  149.700,   20.115,   35.104,2,   35.104,2,  175.080,1,  195.530,2,    2.140,2,    1.850,2,    0.020,2,    0.209,2,    2.117,2,    1.220,2, -999.000,9, -999.000,9, -999.000,9
           NA,    P03C,    185,   1,-999.0,     -99,  2,20051205,0932,  24.2247, -175.1978,  5110,  200.200,   17.351,   34.796,2,   34.794,2,  190.570,1,  212.000,2,    3.610,2,    3.620,2,    0.010,2,    0.294,2,    2.331,2,    1.331,2, -999.000,9, -999.000,9, -999.000,9
           NA,    P03C,    185,   1,-999.0,     -99,  2,20051205,0932,  24.2247, -175.1978,  5110,  250.000,   16.384,   34.719,2,   34.715,2,  191.730,1,  213.250,2,    4.960,2,    5.040,2,    0.010,2,    0.388,2,    2.412,6,    1.378,6, -999.000,9, -999.000,9, -999.000,9
           NA,    P03C,    185,   1,-999.0,     -99,  2,20051205,0932,  24.2247, -175.1978,  5110,  301.400,   15.100,   34.604,2,   34.602,2,  190.560,1,  212.130,2,    7.360,2,    7.070,2,    0.010,2,    0.530,2,    2.516,2,    1.413,2, -999.000,9, -999.000,9, -999.000,9
           NA,    P03C,    185,   1,-999.0,     -99,  2,20051205,0932,  24.2247, -175.1978,  5110,  402.500,   12.112,   34.320,2,   34.319,2,  181.380,1,  201.960,2,   13.820,2,   12.450,2,    0.010,2,    0.921,2,    2.763,2,    1.490,2, -999.000,9, -999.000,9, -999.000,9
           NA,    P03C,    185,   1,-999.0,     -99,  2,20051205,0932,  24.2247, -175.1978,  5110,  501.100,    9.299,   34.143,2,   34.144,6,  153.770,1,  172.190,2,   27.980,2,   20.490,2,    0.010,2,    1.497,2,    2.502,2,    1.287,2, -999.000,9, -999.000,9, -999.000,9
           NA,    P03C,    185,   1,-999.0,     -99,  2,20051205,0932,  24.2247, -175.1978,  5110,  601.300,    7.032,   34.090,2,   34.090,2,   99.030,1,  110.890,2,   51.390,2,   30.540,2,    0.010,2,    2.230,2,    1.524,2,    0.725,2, -999.000,9, -999.000,9, -999.000,9
           NA,    P03C,    185,   1,-999.0,     -99,  2,20051205,0932,  24.2247, -175.1978,  5110,  702.600,    5.609,   34.129,2,   34.129,2,   61.460,1,   69.210,2,   74.680,2,   36.880,2,    0.000,2,    2.691,2,    0.715,2,    0.343,2, -999.000,9, -999.000,9, -999.000,9
           NA,    P03C,    185,   1,-999.0,     -99,  2,20051205,0932,  24.2247, -175.1978,  5110,  802.600,    4.906,   34.236,2,   34.236,2,   38.390,1,   43.300,2,   91.120,2,   40.320,2,    0.000,2,    2.952,2,    0.254,6,    0.123,6, -999.000,9, -999.000,9, -999.000,9
           NA,    P03C,    185,   1,-999.0,     -99,  2,20051205,0932,  24.2247, -175.1978,  5110,  902.200,    4.380,   34.319,2,   34.318,2,   33.400,1,   38.070,2,  103.400,2,   41.540,2,    0.000,2,    3.035,2,    0.105,2,    0.049,2, -999.000,9, -999.000,9, -999.000,9
           NA,    P03C,    185,   1,-999.0,     -99,  2,20051205,0932,  24.2247, -175.1978,  5110, 1002.900,    4.027,   34.399,2,   34.398,6,   35.530,1,   40.410,2,  111.620,2,   41.980,2,    0.000,2,    3.054,2,    0.030,2,    0.018,2, -999.000,9, -999.000,9, -999.000,9
           NA,    P03C,    185,   1,-999.0,     -99,  2,20051205,0932,  24.2247, -175.1978,  5110, 1201.800,    3.459,   34.499,2,   34.499,2,   49.390,1,   55.670,2,  123.320,2,   41.510,2,    0.000,2,    3.005,2,    0.000,2,    0.000,2, -999.000,9, -999.000,9, -999.000,9
           NA,    P03C,    185,   1,-999.0,     -99,  2,20051205,0932,  24.2247, -175.1978,  5110, 1401.400,    2.957,   34.543,2,   34.542,2,   59.040,1,   66.690,2,  134.160,2,   41.200,2,    0.000,2,    2.966,2,    0.000,2,    0.000,2, -999.000,9, -999.000,9, -999.000,9
           NA,    P03C,    185,   1,-999.0,     -99,  2,20051205,0932,  24.2247, -175.1978,  5110, 1602.800,    2.582,   34.570,2,   34.571,2,   66.040,1,   74.420,2,  142.380,2,   41.000,2,    0.000,2,    2.934,2,    0.001,2,    0.000,2, -999.000,9, -999.000,9, -999.000,9
           NA,    P03C,    185,   1,-999.0,     -99,  2,20051205,0932,  24.2247, -175.1978,  5110, 1802.900,    2.278,   34.593,2,   34.592,2,   72.490,1,   81.970,2,  149.810,2,   40.620,2,    0.000,2,    2.896,2,    0.005,2,    0.000,2, -999.000,9, -999.000,9, -999.000,9
           NA,    P03C,    185,   1,-999.0,     -99,  2,20051205,0932,  24.2247, -175.1978,  5110, 1999.300,    2.046,   34.614,2,   34.614,6,   81.170,1,   92.110,2,  153.990,2,   39.900,2,    0.010,2,    2.848,2,    0.006,2,    0.000,2, -999.000,9, -999.000,9, -999.000,9
           NA,    P03C,    185,   1,-999.0,     -99,  4,20051205,0932,  24.2247, -175.1978,  5110, 2202.400,    1.883,   34.629,2, -999.000,4,   88.780,1, -999.000,4, -999.000,4, -999.000,4, -999.000,4, -999.000,4, -999.000,4, -999.000,4, -999.000,9, -999.000,9, -999.000,9
           NA,    P03C,    185,   1,-999.0,     -99,  2,20051205,0932,  24.2247, -175.1978,  5110, 2402.000,    1.763,   34.641,2,   34.641,2,   95.470,1,  108.510,2,  157.500,2,   38.910,2,    0.000,2,    2.763,2,    0.019,2,    0.001,2, -999.000,9, -999.000,9, -999.000,9
           NA,    P03C,    185,   1,-999.0,     -99,  2,20051205,0932,  24.2247, -175.1978,  5110, 2601.400,    1.685,   34.650,2,   34.650,2,  100.960,1,  114.990,2,  157.630,2,   38.600,2,    0.010,2,    2.728,2, -999.000,9, -999.000,9, -999.000,9, -999.000,9, -999.000,9
           NA,    P03C,    185,   1,-999.0,     -99,  2,20051205,0932,  24.2247, -175.1978,  5110, 2800.400,    1.628,   34.657,2,   34.657,2,  106.270,1,  121.310,2,  157.160,2,   38.260,2,    0.000,2,    2.698,2,    0.000,2,    0.000,2, -999.000,9, -999.000,9, -999.000,9
           NA,    P03C,    185,   1,-999.0,     -99,  2,20051205,0932,  24.2247, -175.1978,  5110, 3000.200,    1.576,   34.665,2,   34.664,6,  112.030,1,  127.740,2,  156.280,2,   37.770,2,    0.000,2,    2.661,2, -999.000,9, -999.000,9, -999.000,9, -999.000,9, -999.000,9
           NA,    P03C,    185,   1,-999.0,     -99,  2,20051205,0932,  24.2247, -175.1978,  5110, 3250.700,    1.519,   34.673,2,   34.673,2,  119.040,1,  135.880,2,  154.780,2,   37.170,2,    0.000,2,    2.618,2, -999.000,9, -999.000,9, -999.000,9, -999.000,9, -999.000,9
           NA,    P03C,    185,   1,-999.0,     -99,  2,20051205,0932,  24.2247, -175.1978,  5110, 3500.200,    1.478,   34.678,2,   34.679,2,  125.070,1,  142.630,2,  153.020,2,   36.720,2,    0.000,2,    2.580,2,    0.001,2,    0.002,2, -999.000,9, -999.000,9, -999.000,9
           NA,    P03C,    185,   1,-999.0,     -99,  2,20051205,0932,  24.2247, -175.1978,  5110, 3750.000,    1.456,   34.683,2,   34.683,2,  130.400,1,  148.400,2,  151.280,2,   36.380,2,    0.000,2,    2.553,2, -999.000,9, -999.000,9, -999.000,9, -999.000,9, -999.000,9
           NA,    P03C,    185,   1,-999.0,     -99,  2,20051205,0932,  24.2247, -175.1978,  5110, 3998.500,    1.444,   34.687,2,   34.687,6,  134.900,1,  153.320,2,  149.230,2,   36.100,2,    0.000,2,    2.526,2, -999.000,9, -999.000,9, -999.000,9, -999.000,9, -999.000,9
           NA,    P03C,    185,   1,-999.0,     -99,  2,20051205,0932,  24.2247, -175.1978,  5110, 4250.900,    1.438,   34.690,2,   34.689,2,  139.380,1,  157.700,2,  147.110,2,   35.750,2,    0.000,2,    2.503,2,    0.000,2,    0.000,2, -999.000,9, -999.000,9, -999.000,9
           NA,    P03C,    185,   1,-999.0,     -99,  2,20051205,0932,  24.2247, -175.1978,  5110, 4500.600,    1.434,   34.692,2,   34.693,2,  144.370,1,  162.760,2,  143.380,2,   35.400,2,    0.000,2,    2.473,2, -999.000,9, -999.000,9, -999.000,9, -999.000,9, -999.000,9
           NA,    P03C,    185,   1,-999.0,     -99,  2,20051205,0932,  24.2247, -175.1978,  5110, 4749.700,    1.435,   34.695,2,   34.694,2,  148.970,1,  167.210,2,  140.280,2,   34.880,2,    0.000,2,    2.447,2,    0.000,2,    0.000,2, -999.000,9, -999.000,9, -999.000,9
           NA,    P03C,    185,   1,-999.0,     -99,  2,20051205,0932,  24.2247, -175.1978,  5110, 4750.500,    1.435,   34.695,2,   34.695,2,  148.900,1,  167.230,2,  140.590,2,   35.040,2,    0.000,2,    2.453,2, -999.000,9, -999.000,9, -999.000,9, -999.000,9, -999.000,9
           NA,    P03C,    185,   1,-999.0,     -99,  2,20051205,0932,  24.2247, -175.1978,  5110, 4999.700,    1.443,   34.697,2,   34.697,2,  153.580,1,  171.440,2,  137.340,2,   34.520,2,    0.000,2,    2.426,2, -999.000,9, -999.000,9, -999.000,9, -999.000,9, -999.000,9
           NA,    P03C,    185,   1,-999.0,     -99,  2,20051205,0932,  24.2247, -175.1978,  5110, 5195.100,    1.461,   34.697,2,   34.697,6,  156.410,1,  172.800,2,  136.120,2,   34.670,2,    0.000,2,    2.418,2,    0.000,2,    0.001,2, -999.000,9, -999.000,9, -999.000,9
           NA,    P03C,    183,   1,-999.0,     -99,  2,20051205,0206,  24.2438, -174.4433,  5067,   10.300,   25.589,   35.353,2,   35.354,2,  185.690,1,  206.360,2,    0.980,2,    0.030,2,    0.000,2,    0.030,2,    1.636,2,    0.966,2, -999.000,9, 1979.200,2, 2324.700,2
           NA,    P03C,    183,   1,-999.0,     -99,  2,20051205,0206,  24.2438, -174.4433,  5067,   50.700,   25.549,   35.354,2,   35.355,2,  185.680,1,  206.590,2,    0.980,2,    0.020,2,    0.000,2,    0.033,2,    1.641,2,    0.973,2, -999.000,9, 1981.100,6, 2319.400,2
           NA,    P03C,    183,   1,-999.0,     -99,  2,20051205,0206,  24.2438, -174.4433,  5067,  100.000,   21.984,   35.220,2,   35.214,2,  188.620,1,  208.230,2,    1.510,2,    0.030,2,    0.040,2,    0.074,2,    2.005,2,    1.162,2, -999.000,9, 2018.300,2, 2312.200,6
           NA,    P03C,    183,   1,-999.0,     -99,  2,20051205,0206,  24.2438, -174.4433,  5067,  150.000,   19.176,   35.000,2,   34.995,2,  181.270,1,  201.740,2,    2.590,2,    2.020,2,    0.020,2,    0.215,2,    2.227,2,    1.249,2, -999.000,9, 2036.400,2, 2295.200,2
           NA,    P03C,    183,   1,-999.0,     -99,  2,20051205,0206,  24.2438, -174.4433,  5067,  198.400,   17.083,   34.778,2,   34.777,2,  193.220,1,  214.290,2,    3.860,2,    4.110,2,    0.010,2,    0.311,2,    2.374,2,    1.309,2, -999.000,9, 2026.900,2, -999.000,3
           NA,    P03C,    183,   1,-999.0,     -99,  2,20051205,0206,  24.2438, -174.4433,  5067,  249.400,   16.317,   34.712,2,   34.706,2,  191.600,1,  212.470,2,    5.170,2,    5.360,2,    0.010,2,    0.403,2,    2.463,6,    1.301,6, -999.000,9, 2039.800,2, 2278.700,2
           NA,    P03C,    183,   1,-999.0,     -99,  2,20051205,0206,  24.2438, -174.4433,  5067,  300.400,   14.783,   34.560,2,   34.546,2,  186.820,1,  206.980,2,    7.990,2,    8.080,2,    0.010,2,    0.597,2,    2.641,2,    1.358,2, -999.000,9, 2059.400,2, 2272.900,2
           NA,    P03C,    183,   1,-999.0,     -99,  2,20051205,0206,  24.2438, -174.4433,  5067,  402.200,   11.655,   34.283,2,   34.281,2,  174.430,1,  193.420,2,   15.680,2,   14.170,2,    0.000,2,    1.042,2,    2.817,2,    1.438,2, -999.000,9, 2101.500,2, 2261.500,2
           NA,    P03C,    183,   1,-999.0,     -99,  2,20051205,0206,  24.2438, -174.4433,  5067,  499.900,    8.981,   34.128,2,   34.125,6,  149.010,1,  165.280,2,   31.010,2,   22.130,2,    0.000,2,    1.600,2,    2.506,2,    1.221,2, -999.000,9, 2155.600,2, 2267.100,2
           NA,    P03C,    183,   1,-999.0,     -99,  2,20051205,0206,  24.2438, -174.4433,  5067,  600.500,    7.221,   34.078,2,   34.078,2,  112.100,1,  123.450,2,   49.400,2,   29.280,2,    0.000,2,    2.124,2,    1.746,2,    0.822,2, -999.000,9, 2211.200,2, 2279.900,2
           NA,    P03C,    183,   1,-999.0,     -99,  2,20051205,0206,  24.2438, -174.4433,  5067,  701.800,    5.540,   34.120,2,   34.120,2,   64.800,1,   72.180,2,   75.440,2,   36.730,2,    0.000,2,    2.677,2,    0.773,2,    0.365,2, -999.000,9, 2274.800,6, 2306.100,2
           NA,    P03C,    183,   1,-999.0,     -99,  2,20051205,0206,  24.2438, -174.4433,  5067,  799.700,    4.868,   34.213,2,   34.217,2,   41.730,1,   46.600,2,   91.710,2,   40.120,2,    0.000,2,    2.933,2,    0.294,6,    0.142,6, -999.000,9, 2310.100,2, 2329.600,6
           NA,    P03C,    183,   1,-999.0,     -99,  2,20051205,0206,  24.2438, -174.4433,  5067,  899.500,    4.406,   34.310,2,   34.310,2,   33.710,1,   38.660,2,  102.860,2,   41.500,2,    0.000,2,    3.032,2,    0.112,2,    0.051,2, -999.000,9, 2330.200,2, 2348.700,2
           NA,    P03C,    183,   1,-999.0,     -99,  2,20051205,0206,  24.2438, -174.4433,  5067,  999.500,    3.986,   34.385,2,   34.385,6,   34.750,1,   39.790,2,  112.690,2,   42.120,2,    0.000,2,    3.062,2,    0.029,2,    0.018,2, -999.000,9, 2341.400,2, 2364.300,2
           NA,    P03C,    183,   1,-999.0,     -99,  2,20051205,0206,  24.2438, -174.4433,  5067, 1201.900,    3.412,   34.496,2,   34.495,2,   49.000,1,   55.300,2,  124.480,2,   41.670,2,    0.000,2,    3.007,2,    0.000,2,    0.000,2, -999.000,9, 2351.300,2, 2380.800,2
           NA,    P03C,    183,   1,-999.0,     -99,  2,20051205,0206,  24.2438, -174.4433,  5067, 1400.100,    3.007,   34.540,2,   34.540,2,   58.560,1,   66.000,2,  132.870,2,   41.310,2,    0.000,2,    2.966,2,    0.000,2,    0.000,2, -999.000,9, 2352.100,2, 2391.600,2
           NA,    P03C,    183,   1,-999.0,     -99,  2,20051205,0206,  24.2438, -174.4433,  5067, 1601.200,    2.614,   34.570,2,   34.569,2,   65.850,1,   74.250,2,  141.730,2,   40.980,2,    0.000,2,    2.933,2,    0.000,2,    0.000,2, -999.000,9, 2355.100,2, 2399.200,2
           NA,    P03C,    183,   1,-999.0,     -99,  2,20051205,0206,  24.2438, -174.4433,  5067, 1802.700,    2.320,   34.590,2,   34.590,2,   72.100,1,   81.320,2,  148.620,2,   40.630,2,    0.000,2,    2.902,2,    0.000,2,    0.000,2, -999.000,9, 2358.400,2, 2409.900,2
           NA,    P03C,    183,   1,-999.0,     -99,  2,20051205,0206,  24.2438, -174.4433,  5067, 2001.500,    2.088,   34.610,2,   34.610,6,   79.550,1,   90.200,2,  153.410,2,   40.170,2,    0.000,2,    2.860,2,    0.000,2,    0.000,2, -999.000,9, 2358.800,2, 2408.400,2
           NA,    P03C,    183,   1,-999.0,     -99,  2,20051205,0206,  24.2438, -174.4433,  5067, 2200.300,    1.925,   34.625,2,   34.625,2,   87.030,1,   98.700,2,  155.500,2,   39.580,2,    0.000,2,    2.813,2,    0.000,2,    0.000,2, -999.000,9, 2356.600,2, 2417.500,2
           NA,    P03C,    183,   1,-999.0,     -99,  2,20051205,0206,  24.2438, -174.4433,  5067, 2401.700,    1.817,   34.637,2,   34.637,2,   93.350,1,  106.000,2,  156.520,2,   39.250,2,    0.000,2,    2.776,2,    0.001,2,    0.006,2, -999.000,9, 2353.400,6, 2420.100,2
           NA,    P03C,    183,   1,-999.0,     -99,  2,20051205,0206,  24.2438, -174.4433,  5067, 2601.900,    1.722,   34.648,2,   34.648,2,   99.700,1,  113.530,2,  157.200,2,   38.800,2,    0.000,2,    2.734,2,    0.000,2,    0.000,2, -999.000,9, 2349.300,2, 2420.100,6
           NA,    P03C,    183,   1,-999.0,     -99,  2,20051205,0206,  24.2438, -174.4433,  5067, 2800.400,    1.656,   34.656,2,   34.656,2,  105.340,1,  119.920,2,  157.070,2,   38.400,2,    0.000,2,    2.704,2, -999.000,9, -999.000,9, -999.000,9, 2348.100,2, 2419.300,2
           NA,    P03C,    183,   1,-999.0,     -99,  2,20051205,0206,  24.2438, -174.4433,  5067, 3000.800,    1.600,   34.663,2,   34.663,6,  110.730,1,  126.230,2,  156.590,2,   38.000,2,    0.000,2,    2.675,2, -999.000,9, -999.000,9, -999.000,9, 2344.400,2, 2425.000,2
           NA,    P03C,    183,   1,-999.0,     -99,  2,20051205,0206,  24.2438, -174.4433,  5067, 3251.400,    1.543,   34.670,2,   34.670,2,  117.590,1,  133.700,2,  154.890,2,   37.430,2,    0.000,2,    2.622,2,    0.001,2,    0.003,2, -999.000,9, 2339.500,2, 2422.100,2
           NA,    P03C,    183,   1,-999.0,     -99,  2,20051205,0206,  24.2438, -174.4433,  5067, 3500.500,    1.499,   34.677,2,   34.676,2,  123.860,1,  140.790,2,  152.940,2,   36.930,2,    0.000,2,    2.587,2, -999.000,9, -999.000,9, -999.000,9, 2336.500,2, 2419.700,2
           NA,    P03C,    183,   1,-999.0,     -99,  2,20051205,0206,  24.2438, -174.4433,  5067, 3750.000,    1.468,   34.682,2,   34.681,2,  128.720,1,  145.980,2,  152.320,2,   36.640,2,    0.000,2,    2.558,2, -999.000,9, -999.000,9, -999.000,9, 2333.700,2, 2419.400,2
           NA,    P03C,    183,   1,-999.0,     -99,  2,20051205,0206,  24.2438, -174.4433,  5067, 4000.400,    1.458,   34.685,2,   34.685,6,  132.900,1,  150.370,2,  150.750,2,   36.310,2,    0.000,2,    2.538,2,    0.000,2,    0.000,2, -999.000,9, 2327.300,2, 2423.200,2
           NA,    P03C,    183,   1,-999.0,     -99,  2,20051205,0206,  24.2438, -174.4433,  5067, 4252.100,    1.452,   34.688,2,   34.689,2,  137.120,1,  154.610,2,  148.970,2,   36.000,2,    0.000,2,    2.515,2, -999.000,9, -999.000,9, -999.000,9, 2325.800,6, 2417.500,2
           NA,    P03C,    183,   1,-999.0,     -99,  2,20051205,0206,  24.2438, -174.4433,  5067, 4502.000,    1.449,   34.691,2,   34.692,2,  142.190,1,  159.760,2,  145.750,2,   35.660,2,    0.000,2,    2.486,2,    0.000,2,    0.000,2, -999.000,9, 2320.000,2, 2416.600,6
           NA,    P03C,    183,   1,-999.0,     -99,  2,20051205,0206,  24.2438, -174.4433,  5067, 4750.100,    1.441,   34.694,2,   34.694,2,  148.290,1,  165.750,2,  141.300,2,   35.260,2,    0.000,2,    2.456,2, -999.000,9, -999.000,9, -999.000,9, 2313.300,2, 2407.800,2
           NA,    P03C,    183,   1,-999.0,     -99,  2,20051205,0206,  24.2438, -174.4433,  5067, 5000.500,    1.445,   34.697,2,   34.697,2,  153.660,1,  170.610,2,  137.310,2,   34.820,2,    0.000,2,    2.427,2, -999.000,9, -999.000,9, -999.000,9, 2306.900,2, 2406.000,2
           NA,    P03C,    183,   1,-999.0,     -99,  2,20051205,0206,  24.2438, -174.4433,  5067, 5139.800,    1.457,   34.697,2,   34.697,6,  156.090,1,  171.900,2,  136.260,2,   34.750,2,    0.000,2,    2.421,2,    0.002,2,    0.000,2, -999.000,9, 2304.000,2, 2405.300,2