BOTTLE,20211903JOAExport
EXPOCODE,SECT_ID,STNNBR,CASTNO,SAMPNO,BTLNBR,BTLNBR_FLAG_W,DATE,TIME,LATITUDE,LONGITUDE,DEPTH,CTDPRS,CTDTMP,CTDSAL,CTDSAL_FLAG_W,SALNTY,SALNTY_FLAG_W,CTDOXY,CTDOXY_FLAG_W,OXYGEN,OXYGEN_FLAG_W,SILCAT,SILCAT_FLAG_W,NITRAT,NITRAT_FLAG_W,NITRIT,NITRIT_FLAG_W,PHSPHT,PHSPHT_FLAG_W,CFC-11,CFC-11_FLAG_W,CFC-12,CFC-12_FLAG_W,SF6,SF6_FLAG_W,TCARBN,TCARBN_FLAG_W,ALKALI,ALKALI_FLAG_W
,,,,,,,,,,,,DB,ITS-90,PSS-78,,PSS-78,,UMOL/KG,,UMOL/KG,,UMOL/KG,,UMOL/KG,,UMOL/KG,,UMOL/KG,,PMOL/KG,,PMOL/KG,,FMOL/KG,,UMOL/KG,,UMOL/KG
           NA,    P03E,     26,   1,-999.0,     -99,  2,20051103,0727,  30.4782, -122.0330,  3853,    9.800,   18.239,   33.167,2,   33.166,2,  232.350,1,  240.170,2,    2.080,2,    0.030,2,    0.000,2,    0.293,2,    2.323,2,    1.358,2, -999.000,9, -999.000,9, -999.000,9
           NA,    P03E,     26,   1,-999.0,     -99,  2,20051103,0727,  30.4782, -122.0330,  3853,   50.500,   16.926,   33.094,2,   33.106,2,  240.690,1,  249.310,2,    1.750,2,    0.030,2,    0.010,2,    0.311,2,    2.493,2,    1.431,2, -999.000,9, -999.000,9, -999.000,9
           NA,    P03E,     26,   1,-999.0,     -99,  2,20051103,0727,  30.4782, -122.0330,  3853,  100.100,   14.086,   33.491,2,   33.480,2,  232.420,1,  238.640,2,    3.390,2,    1.610,2,    0.170,2,    0.439,2,    2.889,2,    1.642,2, -999.000,9, -999.000,9, -999.000,9
           NA,    P03E,     26,   1,-999.0,     -99,  2,20051103,0727,  30.4782, -122.0330,  3853,  149.800,   10.268,   33.518,2,   33.519,2,  193.790,1,  198.850,2,   13.420,2,   14.540,2,    0.010,2,    1.200,2,    3.335,2,    1.789,2, -999.000,9, -999.000,9, -999.000,9
           NA,    P03E,     26,   1,-999.0,     -99,  2,20051103,0727,  30.4782, -122.0330,  3853,  200.200,    8.950,   33.905,2,   33.910,2,  141.830,1,  146.320,2,   26.880,2,   23.510,2,    0.010,2,    1.769,2,    3.006,2,    1.527,2, -999.000,9, -999.000,9, -999.000,9
           NA,    P03E,     26,   1,-999.0,     -99,  2,20051103,0727,  30.4782, -122.0330,  3853,  252.500,    8.343,   34.019,2,   34.019,2,  122.870,1,  125.010,2,   34.200,2,   26.720,2,    0.010,2,    1.977,2,    2.670,6,    1.320,6, -999.000,9, -999.000,9, -999.000,9
           NA,    P03E,     26,   1,-999.0,     -99,  2,20051103,0727,  30.4782, -122.0330,  3853,  300.600,    7.610,   34.059,2,   34.059,2,   87.970,1,   90.130,2,   44.480,2,   31.340,2,    0.010,2,    2.326,2,    2.122,2,    1.019,2, -999.000,9, -999.000,9, -999.000,9
           NA,    P03E,     26,   1,-999.0,     -99,  2,20051103,0727,  30.4782, -122.0330,  3853,  401.500,    6.239,   34.092,2,   34.093,2,   53.320,1,   54.280,2,   63.490,2,   36.790,2,    0.010,2,    2.749,2,    1.051,2,    0.486,2, -999.000,9, -999.000,9, -999.000,9
           NA,    P03E,     26,   1,-999.0,     -99,  2,20051103,0727,  30.4782, -122.0330,  3853,  500.400,    5.551,   34.193,2,   34.194,6,   24.920,1,   25.350,2,   79.860,2,   40.010,2,    0.000,2,    3.035,2,    0.293,2,    0.143,2, -999.000,9, -999.000,9, -999.000,9
           NA,    P03E,     26,   1,-999.0,     -99,  2,20051103,0727,  30.4782, -122.0330,  3853,  601.100,    5.242,   34.295,2,   34.298,2,   12.990,1,   13.130,2,   89.480,2,   41.410,2,    0.000,2,    3.176,2,    0.068,2,    0.034,2, -999.000,9, -999.000,9, -999.000,9
           NA,    P03E,     26,   1,-999.0,     -99,  2,20051103,0727,  30.4782, -122.0330,  3853,  703.800,    4.839,   34.374,2,   34.372,2,   10.490,1,   10.490,2,   98.800,2,   42.370,2,    0.000,2,    3.233,2,    0.033,2,    0.022,2, -999.000,9, -999.000,9, -999.000,9
           NA,    P03E,     26,   1,-999.0,     -99,  2,20051103,0727,  30.4782, -122.0330,  3853,  801.300,    4.473,   34.421,2,   34.420,2,   13.960,1,   14.170,2,  106.480,2,   43.060,2,    0.000,2,    3.246,2,    0.016,6,    0.012,6, -999.000,9, -999.000,9, -999.000,9
           NA,    P03E,     26,   1,-999.0,     -99,  2,20051103,0727,  30.4782, -122.0330,  3853,  900.100,    4.115,   34.449,2,   34.449,2,   18.200,1,   18.630,2,  113.900,2,   43.360,2,    0.000,2,    3.234,2,    0.017,2,    0.013,2, -999.000,9, -999.000,9, -999.000,9
           NA,    P03E,     26,   1,-999.0,     -99,  2,20051103,0727,  30.4782, -122.0330,  3853, 1000.600,    3.853,   34.479,2,   34.479,6,   22.780,1,   23.240,2,  120.230,2,   43.430,2,    0.010,2,    3.227,2,    0.016,2,    0.007,2, -999.000,9, -999.000,9, -999.000,9
           NA,    P03E,     26,   1,-999.0,     -99,  2,20051103,0727,  30.4782, -122.0330,  3853, 1200.300,    3.383,   34.525,2,   34.525,2,   33.630,1,   34.390,2,  130.940,2,   43.250,2,    0.000,2,    3.186,2, -999.000,9, -999.000,9, -999.000,9, -999.000,9, -999.000,9
           NA,    P03E,     26,   1,-999.0,     -99,  2,20051103,0727,  30.4782, -122.0330,  3853, 1399.000,    2.993,   34.554,2,   34.554,2,   42.500,1,   43.610,2,  141.100,2,   42.850,2,    0.000,2,    3.140,2,    0.011,2,    0.011,2, -999.000,9, -999.000,9, -999.000,9
           NA,    P03E,     26,   1,-999.0,     -99,  2,20051103,0727,  30.4782, -122.0330,  3853, 1599.500,    2.574,   34.586,2,   34.587,2,   55.860,1,   57.630,2,  150.740,2,   42.090,2,    0.000,2,    3.060,2, -999.000,9, -999.000,9, -999.000,9, -999.000,9, -999.000,9
           NA,    P03E,     26,   1,-999.0,     -99,  2,20051103,0727,  30.4782, -122.0330,  3853, 1800.000,    2.278,   34.609,2,   34.609,6,   67.820,1,   69.860,2,  157.470,2,   41.340,2,    0.010,2,    2.983,2,    0.000,2,    0.000,2, -999.000,9, -999.000,9, -999.000,9
           NA,    P03E,     26,   1,-999.0,     -99,  2,20051103,0727,  30.4782, -122.0330,  3853, 2001.100,    2.096,   34.628,2,   34.628,2,   79.310,1,   81.700,2,  160.030,2,   40.620,2,    0.000,2,    2.922,2, -999.000,9, -999.000,9, -999.000,9, -999.000,9, -999.000,9
           NA,    P03E,     26,   1,-999.0,     -99,  2,20051103,0727,  30.4782, -122.0330,  3853, 2200.200,    1.944,   34.642,2,   34.642,2,   89.430,1,   92.210,2,  161.960,2,   39.940,2,    0.000,2,    2.861,2,    0.000,2,    0.001,2, -999.000,9, -999.000,9, -999.000,9
           NA,    P03E,     26,   1,-999.0,     -99,  2,20051103,0727,  30.4782, -122.0330,  3853, 2400.400,    1.805,   34.653,2,   34.653,6,   98.820,1,  102.080,2,  164.170,2,   39.330,2,    0.000,2,    2.804,2, -999.000,9, -999.000,9, -999.000,9, -999.000,9, -999.000,9
           NA,    P03E,     26,   1,-999.0,     -99,  2,20051103,0727,  30.4782, -122.0330,  3853, 2601.100,    1.733,   34.659,2,   34.659,2,  104.720,1,  108.070,2,  165.100,2,   38.950,2,    0.000,2,    2.769,2,    0.000,2,    0.000,2, -999.000,9, -999.000,9, -999.000,9
           NA,    P03E,     26,   1,-999.0,     -99,  2,20051103,0727,  30.4782, -122.0330,  3853, 2801.400,    1.694,   34.663,2,   34.664,2,  108.760,1,  112.140,2,  165.570,2,   38.730,2,    0.000,2,    2.744,2, -999.000,9, -999.000,9, -999.000,9, -999.000,9, -999.000,9
           NA,    P03E,     26,   1,-999.0,     -99,  2,20051103,0727,  30.4782, -122.0330,  3853, 3001.700,    1.655,   34.667,2,   34.667,2,  112.710,1,  116.000,2,  166.410,2,   38.540,2,    0.000,2,    2.722,2,    0.007,2,    0.002,2, -999.000,9, -999.000,9, -999.000,9
           NA,    P03E,     26,   1,-999.0,     -99,  2,20051103,0727,  30.4782, -122.0330,  3853, 3252.600,    1.589,   34.673,2,   34.673,6,  119.270,1,  122.430,2,  167.570,2,   38.210,2,    0.000,2,    2.689,2, -999.000,9, -999.000,9, -999.000,9, -999.000,9, -999.000,9
           NA,    P03E,     26,   1,-999.0,     -99,  2,20051103,0727,  30.4782, -122.0330,  3853, 3499.900,    1.562,   34.676,2,   34.676,2,  123.790,1,  126.670,2,  167.770,2,   37.800,2,    0.000,2,    2.664,2,    0.010,2,    0.006,2, -999.000,9, -999.000,9, -999.000,9
           NA,    P03E,     26,   1,-999.0,     -99,  2,20051103,0727,  30.4782, -122.0330,  3853, 3748.100,    1.546,   34.679,2,   34.679,2,  128.090,1,  130.580,2,  168.090,2,   37.600,2,    0.000,2,    2.645,2, -999.000,9, -999.000,9, -999.000,9, -999.000,9, -999.000,9
           NA,    P03E,     26,   1,-999.0,     -99,  2,20051103,0727,  30.4782, -122.0330,  3853, 3847.900,    1.548,   34.680,2,   34.680,6,  129.530,1,  131.540,2,  168.060,2,   37.480,2,    0.000,2,    2.639,2,    0.023,2,    0.010,2, -999.000,9, -999.000,9, -999.000,9
           NA,    P03E,     24,   1,-999.0,     -99,  2,20051103,0105,  30.8785, -121.2347,  3959,   11.300,   18.008,   33.184,2,   33.184,2,  234.140,1,  241.920,2,    1.930,2,    0.030,2,    0.000,2,    0.299,2,    2.408,2,    1.410,2, -999.000,9, 1982.100,2, 2223.900,2
           NA,    P03E,     24,   1,-999.0,     -99,  2,20051103,0105,  30.8785, -121.2347,  3959,   49.400,   16.769,   33.248,2,   33.247,2,  241.860,1,  250.020,2,    1.650,2,    0.020,2,    0.000,2,    0.290,2,    2.603,2,    1.507,2, -999.000,9, 1988.200,6, 2228.300,2
           NA,    P03E,     24,   1,-999.0,     -99,  2,20051103,0105,  30.8785, -121.2347,  3959,   99.700,   11.887,   33.232,2,   33.241,2,  218.560,1,  224.100,2,    6.580,2,    7.560,2,    0.020,2,    0.819,2,    3.149,2,    1.785,2, -999.000,9, 2043.700,2, 2215.600,6
           NA,    P03E,     24,   1,-999.0,     -99,  2,20051103,0105,  30.8785, -121.2347,  3959,  150.600,    9.497,   33.553,2,   33.556,2,  181.950,1,  186.820,2,   17.490,2,   17.990,2,    0.010,2,    1.427,2,    3.331,2,    1.824,2, -999.000,9, -999.000,4, 2231.800,2
           NA,    P03E,     24,   1,-999.0,     -99,  2,20051103,0105,  30.8785, -121.2347,  3959,  200.700,    9.118,   33.978,2,   33.987,2,  110.480,1,  112.670,2,   30.210,2,   26.050,2,    0.010,2,    2.028,2,    2.658,2,    1.360,2, -999.000,9, 2192.100,2, 2260.900,2
           NA,    P03E,     24,   1,-999.0,     -99,  2,20051103,0105,  30.8785, -121.2347,  3959,  251.300,    8.288,   34.062,2,   34.063,2,   92.760,1,   94.410,2,   38.570,2,   29.700,2,    0.000,2,    2.234,2,    2.310,6,    1.154,6, -999.000,9, 2214.400,2, 2271.400,2
           NA,    P03E,     24,   1,-999.0,     -99,  2,20051103,0105,  30.8785, -121.2347,  3959,  301.000,    7.609,   34.081,2,   34.079,2,   78.950,1,   81.090,2,   45.510,2,   32.050,2,    0.000,2,    2.402,2,    1.933,2,    0.953,2, -999.000,9, 2230.000,2, 2277.100,2
           NA,    P03E,     24,   1,-999.0,     -99,  2,20051103,0105,  30.8785, -121.2347,  3959,  402.300,    6.295,   34.131,2,   34.130,2,   44.160,1,   45.460,2,   64.640,2,   37.170,2,    0.000,2,    2.815,2,    0.770,2,    0.406,2, -999.000,9, -999.000,4, 2297.700,2
           NA,    P03E,     24,   1,-999.0,     -99,  2,20051103,0105,  30.8785, -121.2347,  3959,  499.700,    5.870,   34.236,2,   34.239,6,   18.930,1,   18.840,2,   77.390,2,   39.710,2,    0.000,2,    3.072,2,    0.249,2,    0.139,2, -999.000,9, -999.000,4, 2317.900,2
           NA,    P03E,     24,   1,-999.0,     -99,  2,20051103,0105,  30.8785, -121.2347,  3959,  600.000,    5.335,   34.312,2,   34.313,2,   10.590,1,   10.870,2,   89.280,2,   41.320,2,    0.000,2,    3.189,2,    0.079,2,    0.045,2, -999.000,9, 2328.300,2, 2332.800,2
           NA,    P03E,     24,   1,-999.0,     -99,  2,20051103,0105,  30.8785, -121.2347,  3959,  702.700,    4.845,   34.361,2,   34.361,2,    9.970,1,   10.090,2,   99.200,2,   42.550,2,    0.000,2,    3.243,2,    0.033,2,    0.023,2, -999.000,9, 2342.600,2, 2349.200,2
           NA,    P03E,     24,   1,-999.0,     -99,  2,20051103,0105,  30.8785, -121.2347,  3959,  798.900,    4.511,   34.416,2,   34.416,2,   12.410,1,   12.580,2,  107.150,2,   43.080,2,    0.000,2,    3.262,2,    0.032,6,    0.017,6, -999.000,9, -999.000,4, 2358.500,6
           NA,    P03E,     24,   1,-999.0,     -99,  2,20051103,0105,  30.8785, -121.2347,  3959,  900.500,    4.138,   34.450,2,   34.451,2,   16.940,1,   17.310,2,  114.430,2,   43.460,2,    0.000,2,    3.239,2,    0.027,2,    0.017,2, -999.000,9, -999.000,4, 2367.500,2
           NA,    P03E,     24,   1,-999.0,     -99,  2,20051103,0105,  30.8785, -121.2347,  3959, 1002.400,    3.836,   34.480,2,   34.480,6,   22.230,1,   22.680,2,  121.190,2,   43.570,2,    0.000,2,    3.227,2,    0.019,2,    0.011,2, -999.000,9, 2363.300,2, 2376.200,2
           NA,    P03E,     24,   1,-999.0,     -99,  2,20051103,0105,  30.8785, -121.2347,  3959, 1201.100,    3.283,   34.528,2,   34.528,2,   33.960,1,   34.700,2,  133.960,2,   43.350,2,    0.000,2,    3.180,2,    0.012,2,    0.012,2, -999.000,9, 2372.200,2, 2392.300,2
           NA,    P03E,     24,   1,-999.0,     -99,  2,20051103,0105,  30.8785, -121.2347,  3959, 1401.000,    2.907,   34.560,2,   34.561,2,   44.630,1,   45.780,2,  143.100,2,   42.800,2,    0.000,2,    3.125,2,    0.009,2,    0.008,2, -999.000,9, 2374.300,2, 2401.500,2
           NA,    P03E,     24,   1,-999.0,     -99,  2,20051103,0105,  30.8785, -121.2347,  3959, 1600.800,    2.569,   34.588,2,   34.588,2,   56.410,1,   58.070,2,  150.800,2,   42.110,2,    0.000,2,    3.059,2,    0.001,2,    0.004,2, -999.000,9, 2374.100,2, -999.000,5
           NA,    P03E,     24,   1,-999.0,     -99,  2,20051103,0105,  30.8785, -121.2347,  3959, 1800.400,    2.271,   34.610,2,   34.610,2,   68.590,1,   70.550,2,  157.100,2,   41.430,2,    0.000,2,    2.987,2,    0.000,2,    0.000,2, -999.000,9, 2377.800,2, 2418.800,2
           NA,    P03E,     24,   1,-999.0,     -99,  2,20051103,0105,  30.8785, -121.2347,  3959, 2000.900,    2.070,   34.628,2,   34.628,6,   79.420,1,   81.850,2,  161.090,2,   40.740,2,    0.000,2,    2.915,2,    0.000,2,    0.000,2, -999.000,9, 2369.600,2, 2424.700,2
           NA,    P03E,     24,   1,-999.0,     -99,  2,20051103,0105,  30.8785, -121.2347,  3959, 2201.300,    1.924,   34.642,2,   34.642,2,   89.440,1,   92.340,2,  162.970,2,   40.110,2,    0.000,2,    2.861,2,    0.001,2,    0.000,2, -999.000,9, 2365.700,2, 2430.900,2
           NA,    P03E,     24,   1,-999.0,     -99,  2,20051103,0105,  30.8785, -121.2347,  3959, 2402.600,    1.822,   34.652,2,   34.652,2,   97.470,1,  100.590,2,  164.040,2,   39.580,2,    0.000,2,    2.814,2, -999.000,9, -999.000,9, -999.000,9, 2363.100,6, 2428.200,2
           NA,    P03E,     24,   1,-999.0,     -99,  2,20051103,0105,  30.8785, -121.2347,  3959, 2600.000,    1.753,   34.658,2,   34.659,2,  103.170,1,  106.410,2,  164.990,2,   39.180,2,    0.000,2,    2.783,2, -999.000,9, -999.000,9, -999.000,9, 2360.400,2, 2430.200,6
           NA,    P03E,     24,   1,-999.0,     -99,  2,20051103,0105,  30.8785, -121.2347,  3959, 2800.100,    1.691,   34.664,2,   34.664,2,  108.610,1,  112.040,2,  166.150,2,   38.850,2,   -0.010,2,    2.748,2, -999.000,9, -999.000,9, -999.000,9, -999.000,4, 2430.900,2
           NA,    P03E,     24,   1,-999.0,     -99,  2,20051103,0105,  30.8785, -121.2347,  3959, 3000.200,    1.639,   34.668,2,   34.668,2,  113.500,1,  116.770,2,  167.060,2,   38.510,2,    0.000,2,    2.722,2,    0.001,2,    0.004,2, -999.000,9, -999.000,4, 2432.900,2
           NA,    P03E,     24,   1,-999.0,     -99,  2,20051103,0105,  30.8785, -121.2347,  3959, 3251.100,    1.597,   34.672,2,   34.672,6,  118.430,1,  121.670,2,  167.680,2,   38.240,2,    0.000,2,    2.690,2, -999.000,9, -999.000,9, -999.000,9, -999.000,4, 2434.500,2
           NA,    P03E,     24,   1,-999.0,     -99,  2,20051103,0105,  30.8785, -121.2347,  3959, 3503.500,    1.561,   34.676,2,   34.676,2,  123.260,1,  126.200,2,  168.460,2,   37.930,2,    0.000,2,    2.668,2, -999.000,9, -999.000,9, -999.000,9, -999.000,4, 2436.900,2
           NA,    P03E,     24,   1,-999.0,     -99,  2,20051103,0105,  30.8785, -121.2347,  3959, 3750.000,    1.550,   34.679,2,   34.679,6,  127.110,1,  129.740,2,  168.500,2,   37.760,2,    0.000,2,    2.655,2, -999.000,9, -999.000,9, -999.000,9, 2350.200,2, 2435.400,2
           NA,    P03E,     24,   1,-999.0,     -99,  2,20051103,0105,  30.8785, -121.2347,  3959, 4007.500,    1.556,   34.681,2,   34.681,6,  130.050,1,  132.010,2,  168.300,2,   37.610,2,    0.000,2,    2.646,2,    0.014,2,    0.012,2, -999.000,9, 2345.900,2, 2437.700,2