BOTTLE,20211903JOAExport
EXPOCODE,SECT_ID,STNNBR,CASTNO,SAMPNO,BTLNBR,BTLNBR_FLAG_W,DATE,TIME,LATITUDE,LONGITUDE,DEPTH,CTDPRS,CTDTMP,CTDSAL,CTDSAL_FLAG_W,SALNTY,SALNTY_FLAG_W,CTDOXY,CTDOXY_FLAG_W,OXYGEN,OXYGEN_FLAG_W,SILCAT,SILCAT_FLAG_W,NITRAT,NITRAT_FLAG_W,NITRIT,NITRIT_FLAG_W,PHSPHT,PHSPHT_FLAG_W,CFC-11,CFC-11_FLAG_W,CFC-12,CFC-12_FLAG_W,SF6,SF6_FLAG_W,TCARBN,TCARBN_FLAG_W,ALKALI,ALKALI_FLAG_W
,,,,,,,,,,,,DB,ITS-90,PSS-78,,PSS-78,,UMOL/KG,,UMOL/KG,,UMOL/KG,,UMOL/KG,,UMOL/KG,,UMOL/KG,,PMOL/KG,,PMOL/KG,,FMOL/KG,,UMOL/KG,,UMOL/KG
           NA,    P03E,     73,   1,-999.0,     -99,  2,20051110,0657,  24.2430, -140.3665,  4811,    9.700,   22.861,   35.141,2,   35.140,2,  205.620,1,  217.170,2,    1.090,2,    0.050,2,    0.000,2,    0.114,2,    1.891,2,    1.142,2, -999.000,9, -999.000,9, -999.000,9
           NA,    P03E,     73,   1,-999.0,     -99,  2,20051110,0657,  24.2430, -140.3665,  4811,   49.800,   22.868,   35.139,2,   35.139,2,  205.570,1,  217.200,2,    1.100,2,    0.050,2,    0.000,2,    0.111,2, -999.000,9, -999.000,9, -999.000,9, -999.000,9, -999.000,9
           NA,    P03E,     73,   1,-999.0,     -99,  2,20051110,0657,  24.2430, -140.3665,  4811,   99.700,   20.779,   34.957,2,   34.961,2,  213.620,1,  224.570,2,    1.480,2,    0.050,2,    0.010,2,    0.128,2,    2.161,2,    1.276,2, -999.000,9, -999.000,9, -999.000,9
           NA,    P03E,     73,   1,-999.0,     -99,  2,20051110,0657,  24.2430, -140.3665,  4811,  151.100,   19.334,   34.862,2,   34.865,2,  198.030,1,  209.250,2,    1.930,2,    0.850,2,    0.070,2,    0.214,2, -999.000,9, -999.000,9, -999.000,9, -999.000,9, -999.000,9
           NA,    P03E,     73,   1,-999.0,     -99,  2,20051110,0657,  24.2430, -140.3665,  4811,  200.200,   15.571,   34.270,2,   34.251,2,  191.870,1,  202.560,2,    4.430,2,    4.630,2,    0.010,2,    0.495,2,    2.697,2,    1.542,2, -999.000,9, -999.000,9, -999.000,9
           NA,    P03E,     73,   1,-999.0,     -99,  2,20051110,0657,  24.2430, -140.3665,  4811,  250.500,   12.361,   33.964,2,   33.961,2,  192.700,1,  202.570,2,    8.840,2,    9.610,2,    0.010,2,    0.824,2, -999.000,9, -999.000,9, -999.000,9, -999.000,9, -999.000,9
           NA,    P03E,     73,   1,-999.0,     -99,  2,20051110,0657,  24.2430, -140.3665,  4811,  299.800,   10.120,   34.002,2,   34.007,2,  177.060,1,  185.880,2,   18.000,2,   16.740,2,    0.000,2,    1.286,2,    3.106,2,    1.665,2, -999.000,9, -999.000,9, -999.000,9
           NA,    P03E,     73,   1,-999.0,     -99,  2,20051110,0657,  24.2430, -140.3665,  4811,  399.600,    7.979,   34.050,2,   34.050,2,  134.340,1,  140.170,2,   37.080,2,   26.240,2,    0.000,2,    1.915,2,    2.503,2,    1.234,2, -999.000,9, -999.000,9, -999.000,9
           NA,    P03E,     73,   1,-999.0,     -99,  2,20051110,0657,  24.2430, -140.3665,  4811,  501.800,    6.081,   34.043,2,   34.044,6,   78.640,1,   81.900,2,   62.050,2,   35.080,2,    0.000,2,    2.564,2,    1.156,2,    0.567,2, -999.000,9, -999.000,9, -999.000,9
           NA,    P03E,     73,   1,-999.0,     -99,  2,20051110,0657,  24.2430, -140.3665,  4811,  600.800,    5.218,   34.156,2,   34.156,2,   32.700,1,   34.460,2,   82.770,2,   40.390,2,    0.000,2,    2.999,2,    0.243,2,    0.133,2, -999.000,9, -999.000,9, -999.000,9
           NA,    P03E,     73,   1,-999.0,     -99,  2,20051110,0657,  24.2430, -140.3665,  4811,  701.900,    4.888,   34.284,2,   34.282,2,   17.050,1,   18.010,2,   93.680,2,   42.300,2,    0.000,2,    3.167,2,    0.036,2,    0.023,2, -999.000,9, -999.000,9, -999.000,9
           NA,    P03E,     73,   1,-999.0,     -99,  2,20051110,0657,  24.2430, -140.3665,  4811,  800.900,    4.654,   34.385,2,   34.384,2,   18.580,1,   19.800,2,   99.530,2,   42.980,2,    0.000,2,    3.200,2,    0.009,2,    0.006,2, -999.000,9, -999.000,9, -999.000,9
           NA,    P03E,     73,   1,-999.0,     -99,  2,20051110,0657,  24.2430, -140.3665,  4811,  900.700,    4.413,   34.445,2,   34.444,2,   23.890,1,   25.220,2,  104.040,2,   43.190,2,    0.000,2,    3.194,2,    0.005,2,    0.004,2, -999.000,9, -999.000,9, -999.000,9
           NA,    P03E,     73,   1,-999.0,     -99,  2,20051110,0657,  24.2430, -140.3665,  4811, 1001.500,    4.137,   34.482,2,   34.482,6,   29.420,1,   30.850,2,  109.910,2,   43.240,2,    0.000,2,    3.183,2,    0.000,2,    0.001,2, -999.000,9, -999.000,9, -999.000,9
           NA,    P03E,     73,   1,-999.0,     -99,  2,20051110,0657,  24.2430, -140.3665,  4811, 1200.400,    3.625,   34.525,2,   34.525,2,   37.260,1,   39.400,2,  121.740,2,   43.070,2,    0.000,2,    3.167,2,    0.001,2,    0.001,2, -999.000,9, -999.000,9, -999.000,9
           NA,    P03E,     73,   1,-999.0,     -99,  2,20051110,0657,  24.2430, -140.3665,  4811, 1400.300,    3.129,   34.557,2,   34.557,2,   46.390,1,   49.170,2,  133.670,2,   42.790,2,    0.000,2,    3.128,2,    0.000,2,    0.000,2, -999.000,9, -999.000,9, -999.000,9
           NA,    P03E,     73,   1,-999.0,     -99,  2,20051110,0657,  24.2430, -140.3665,  4811, 1599.200,    2.740,   34.581,2,   34.581,2,   56.530,1,   60.010,2,  142.740,2,   42.260,2,    0.000,2,    3.065,2,    0.000,2,    0.000,2, -999.000,9, -999.000,9, -999.000,9
           NA,    P03E,     73,   1,-999.0,     -99,  2,20051110,0657,  24.2430, -140.3665,  4811, 1799.700,    2.397,   34.600,2,   34.600,6,   68.360,1,   72.540,2,  150.320,2,   41.460,2,    0.000,2,    2.981,2,    0.000,2,    0.000,2, -999.000,9, -999.000,9, -999.000,9
           NA,    P03E,     73,   1,-999.0,     -99,  2,20051110,0657,  24.2430, -140.3665,  4811, 2000.800,    2.161,   34.617,2,   34.616,2,   76.180,1,   80.900,2,  156.630,2,   40.880,2,    0.000,2,    2.929,2,    0.018,2,    0.008,2, -999.000,9, -999.000,9, -999.000,9
           NA,    P03E,     73,   1,-999.0,     -99,  2,20051110,0657,  24.2430, -140.3665,  4811, 2201.000,    1.954,   34.633,2,   34.633,2,   85.550,1,   90.900,2,  161.250,2,   40.270,2,    0.000,2,    2.880,2, -999.000,9, -999.000,9, -999.000,9, -999.000,9, -999.000,9
           NA,    P03E,     73,   1,-999.0,     -99,  2,20051110,0657,  24.2430, -140.3665,  4811, 2399.300,    1.828,   34.643,2,   34.643,2,   92.130,1,   97.980,2,  164.130,2,   39.820,2,    0.000,2,    2.840,2, -999.000,9, -999.000,9, -999.000,9, -999.000,9, -999.000,9
           NA,    P03E,     73,   1,-999.0,     -99,  2,20051110,0657,  24.2430, -140.3665,  4811, 2601.800,    1.711,   34.653,2,   34.653,2,   99.510,1,  106.090,2,  166.480,2,   39.350,2,    0.000,2,    2.790,2, -999.000,9, -999.000,9, -999.000,9, -999.000,9, -999.000,9
           NA,    P03E,     73,   1,-999.0,     -99,  2,20051110,0657,  24.2430, -140.3665,  4811, 2799.700,    1.618,   34.662,2,   34.662,6,  107.560,1,  114.560,2,  166.850,2,   38.770,2,    0.000,2,    2.745,2, -999.000,9, -999.000,9, -999.000,9, -999.000,9, -999.000,9
           NA,    P03E,     73,   1,-999.0,     -99,  2,20051110,0657,  24.2430, -140.3665,  4811, 3002.400,    1.562,   34.669,2,   34.668,2,  114.260,1,  121.700,2,  165.970,2,   38.270,2,    0.000,2,    2.697,2, -999.000,9, -999.000,9, -999.000,9, -999.000,9, -999.000,9
           NA,    P03E,     73,   1,-999.0,     -99,  2,20051110,0657,  24.2430, -140.3665,  4811, 3249.200,    1.518,   34.675,2,   34.675,2,  121.760,1,  129.570,2,  164.320,2,   37.700,2,    0.000,2,    2.653,2, -999.000,9, -999.000,9, -999.000,9, -999.000,9, -999.000,9
           NA,    P03E,     73,   1,-999.0,     -99,  2,20051110,0657,  24.2430, -140.3665,  4811, 3500.200,    1.495,   34.680,2,   34.679,2,  127.470,1,  135.390,2,  163.000,2,   37.370,2,    0.000,2,    2.626,2, -999.000,9, -999.000,9, -999.000,9, -999.000,9, -999.000,9
           NA,    P03E,     73,   1,-999.0,     -99,  2,20051110,0657,  24.2430, -140.3665,  4811, 3751.300,    1.482,   34.683,2,   34.683,6,  132.930,1,  140.840,2,  160.520,2,   37.020,2,    0.000,2,    2.598,2, -999.000,9, -999.000,9, -999.000,9, -999.000,9, -999.000,9
           NA,    P03E,     73,   1,-999.0,     -99,  2,20051110,0657,  24.2430, -140.3665,  4811, 3999.600,    1.477,   34.686,2,   34.685,2,  137.760,1,  145.550,2,  157.880,2,   36.710,2,    0.000,2,    2.579,2, -999.000,9, -999.000,9, -999.000,9, -999.000,9, -999.000,9
           NA,    P03E,     73,   1,-999.0,     -99,  2,20051110,0657,  24.2430, -140.3665,  4811, 4252.700,    1.487,   34.688,2,   34.687,2,  141.270,1,  148.630,2,  155.960,2,   36.510,2,    0.000,2,    2.555,2, -999.000,9, -999.000,9, -999.000,9, -999.000,9, -999.000,9
           NA,    P03E,     73,   1,-999.0,     -99,  2,20051110,0657,  24.2430, -140.3665,  4811, 4498.900,    1.502,   34.689,2,   34.689,2,  144.130,1,  151.240,2,  154.240,2,   36.330,2,    0.000,2,    2.538,2, -999.000,9, -999.000,9, -999.000,9, -999.000,9, -999.000,9
           NA,    P03E,     73,   1,-999.0,     -99,  2,20051110,0657,  24.2430, -140.3665,  4811, 4749.900,    1.497,   34.691,2,   34.691,2,  150.280,1,  156.770,2,  149.700,2,   35.840,2,    0.000,2,    2.511,2, -999.000,9, -999.000,9, -999.000,9, -999.000,9, -999.000,9
           NA,    P03E,     73,   1,-999.0,     -99,  2,20051110,0657,  24.2430, -140.3665,  4811, 4881.900,    1.498,   34.692,2,   34.692,6,  153.650,1,  159.520,2,  147.500,2,   35.660,2,    0.000,2,    2.490,2, -999.000,9, -999.000,9, -999.000,9, -999.000,9, -999.000,9
           NA,    P03E,     73,   1,-999.0,     -99,  2,20051110,0657,  24.2430, -140.3665,  4811, 4882.000,    1.498,   34.692,2,   34.693,2,  153.520,1,  159.500,2,  147.750,2,   35.710,2,    0.000,2,    2.496,2, -999.000,9, -999.000,9, -999.000,9, -999.000,9, -999.000,9
           NA,    P03E,     71,   1,-999.0,     -99,  2,20051110,0045,  24.2562, -139.6283,  4722,   10.800,   22.945,   35.140,2,   35.139,2,  205.160,1,  216.910,2,    1.230,2,    0.030,2,    0.000,2,    0.114,2,    1.836,2,    1.113,2, -999.000,9, -999.000,9, -999.000,9
           NA,    P03E,     71,   1,-999.0,     -99,  2,20051110,0045,  24.2562, -139.6283,  4722,   49.700,   22.963,   35.142,2,   35.144,2,  205.080,1,  216.990,2,    1.230,2,    0.020,2,    0.000,2,    0.110,2, -999.000,9, -999.000,9, -999.000,9, -999.000,9, -999.000,9
           NA,    P03E,     71,   1,-999.0,     -99,  2,20051110,0045,  24.2562, -139.6283,  4722,  100.600,   21.291,   35.045,2,   35.046,2,  216.630,1,  228.910,2,    1.540,2,    0.020,2,    0.000,2,    0.099,2,    2.090,2,    1.249,2, -999.000,9, -999.000,9, -999.000,9
           NA,    P03E,     71,   1,-999.0,     -99,  2,20051110,0045,  24.2562, -139.6283,  4722,  149.200,   19.142,   34.802,2,   34.804,2,  197.880,1,  208.950,2,    2.150,2,    0.790,2,    0.110,2,    0.223,2, -999.000,9, -999.000,9, -999.000,9, -999.000,9, -999.000,9
           NA,    P03E,     71,   1,-999.0,     -99,  2,20051110,0045,  24.2562, -139.6283,  4722,  200.700,   15.247,   34.199,2,   34.195,2,  192.370,1,  202.510,2,    4.700,2,    4.920,2,    0.010,2,    0.522,2,    2.685,2,    1.541,2, -999.000,9, -999.000,9, -999.000,9
           NA,    P03E,     71,   1,-999.0,     -99,  2,20051110,0045,  24.2562, -139.6283,  4722,  250.200,   11.937,   33.903,2,   33.902,2,  194.350,1,  204.090,2,    9.570,2,   10.230,2,    0.000,2,    0.867,2,    3.055,6,    1.716,6, -999.000,9, -999.000,9, -999.000,9
           NA,    P03E,     71,   1,-999.0,     -99,  2,20051110,0045,  24.2562, -139.6283,  4722,  300.300,   10.536,   34.003,2,   34.002,2,  193.350,1,  202.520,2,   14.700,2,   14.220,2,    0.000,2,    1.090,2,    3.148,2,    1.742,2, -999.000,9, -999.000,9, -999.000,9
           NA,    P03E,     71,   1,-999.0,     -99,  2,20051110,0045,  24.2562, -139.6283,  4722,  401.400,    8.113,   34.049,2,   34.050,2,  140.380,1,  148.470,2,   34.560,2,   25.100,2,    0.000,2,    1.821,2, -999.000,9, -999.000,9, -999.000,9, -999.000,9, -999.000,9
           NA,    P03E,     71,   1,-999.0,     -99,  2,20051110,0045,  24.2562, -139.6283,  4722,  500.100,    6.104,   34.053,2,   34.050,6,   76.890,1,   81.720,2,   61.810,2,   34.970,2,    0.000,2,    2.562,2,    1.083,2,    0.542,2, -999.000,9, -999.000,9, -999.000,9
           NA,    P03E,     71,   1,-999.0,     -99,  2,20051110,0045,  24.2562, -139.6283,  4722,  601.300,    5.418,   34.214,2,   34.213,2,   26.830,1,   28.460,2,   81.400,2,   40.300,2,    0.000,2,    3.021,2, -999.000,9, -999.000,9, -999.000,9, -999.000,9, -999.000,9
           NA,    P03E,     71,   1,-999.0,     -99,  2,20051110,0045,  24.2562, -139.6283,  4722,  700.700,    5.003,   34.336,2,   34.334,2,   20.290,1,   21.230,2,   91.650,2,   42.070,2,    0.000,2,    3.132,2,    0.025,2,    0.011,2, -999.000,9, -999.000,9, -999.000,9
           NA,    P03E,     71,   1,-999.0,     -99,  2,20051110,0045,  24.2562, -139.6283,  4722,  798.600,    4.678,   34.421,2,   34.421,2,   24.440,1,   25.710,2,   98.330,2,   42.610,2,    0.000,2,    3.149,2,    0.006,6,    0.007,6, -999.000,9, -999.000,9, -999.000,9
           NA,    P03E,     71,   1,-999.0,     -99,  2,20051110,0045,  24.2562, -139.6283,  4722,  900.300,    4.383,   34.468,2,   34.468,2,   29.030,1,   30.540,2,  104.100,2,   42.880,2,    0.000,2,    3.146,2,    0.000,2,    0.001,2, -999.000,9, -999.000,9, -999.000,9
           NA,    P03E,     71,   1,-999.0,     -99,  2,20051110,0045,  24.2562, -139.6283,  4722, 1000.600,    4.119,   34.490,2,   34.489,6,   33.310,1,   34.930,2,  109.590,2,   42.890,2,    0.000,2,    3.146,2,    0.003,2,    0.002,2, -999.000,9, -999.000,9, -999.000,9
           NA,    P03E,     71,   1,-999.0,     -99,  2,20051110,0045,  24.2562, -139.6283,  4722, 1201.900,    3.598,   34.529,2,   34.529,2,   41.050,1,   43.300,2,  121.280,2,   42.760,2,    0.000,2,    3.128,2,    0.000,2,    0.000,2, -999.000,9, -999.000,9, -999.000,9
           NA,    P03E,     71,   1,-999.0,     -99,  2,20051110,0045,  24.2562, -139.6283,  4722, 1399.800,    3.160,   34.556,2,   34.555,2,   47.390,1,   49.990,2,  132.140,2,   42.620,2,   -0.010,2,    3.102,2,    0.000,2,    0.000,2, -999.000,9, -999.000,9, -999.000,9
           NA,    P03E,     71,   1,-999.0,     -99,  2,20051110,0045,  24.2562, -139.6283,  4722, 1600.100,    2.733,   34.583,2,   34.583,2,   56.960,1,   60.260,2,  142.620,2,   42.070,2,    0.000,2,    3.049,2,    0.000,2,    0.000,2, -999.000,9, -999.000,9, -999.000,9
           NA,    P03E,     71,   1,-999.0,     -99,  2,20051110,0045,  24.2562, -139.6283,  4722, 1798.800,    2.372,   34.605,2,   34.605,6,   69.420,1,   73.540,2,  150.750,2,   41.230,2,   -0.010,2,    2.966,2,    0.005,2,    0.000,2, -999.000,9, -999.000,9, -999.000,9
           NA,    P03E,     71,   1,-999.0,     -99,  2,20051110,0045,  24.2562, -139.6283,  4722, 2002.700,    2.140,   34.622,2,   34.621,2,   78.190,1,   82.980,2,  156.170,2,   40.740,2,    0.000,2,    2.909,2,    0.001,2,    0.000,2, -999.000,9, -999.000,9, -999.000,9
           NA,    P03E,     71,   1,-999.0,     -99,  2,20051110,0045,  24.2562, -139.6283,  4722, 2202.400,    1.955,   34.636,2,   34.635,2,   86.740,1,   92.100,2,  160.330,2,   40.150,2,    0.000,2,    2.859,2, -999.000,9, -999.000,9, -999.000,9, -999.000,9, -999.000,9
           NA,    P03E,     71,   1,-999.0,     -99,  2,20051110,0045,  24.2562, -139.6283,  4722, 2401.800,    1.814,   34.647,2,   34.646,2,   94.530,1,  100.400,2,  163.070,2,   39.580,2,    0.000,2,    2.808,2, -999.000,9, -999.000,9, -999.000,9, -999.000,9, -999.000,9
           NA,    P03E,     71,   1,-999.0,     -99,  2,20051110,0045,  24.2562, -139.6283,  4722, 2601.500,    1.709,   34.655,2,   34.654,6,  101.060,1,  107.340,2,  165.600,2,   39.160,2,   -0.010,2,    2.772,2, -999.000,9, -999.000,9, -999.000,9, -999.000,9, -999.000,9
           NA,    P03E,     71,   1,-999.0,     -99,  2,20051110,0045,  24.2562, -139.6283,  4722, 2800.700,    1.621,   34.663,2,   34.662,2,  108.160,1,  114.800,2,  166.350,2,   38.700,2,    0.000,2,    2.732,2, -999.000,9, -999.000,9, -999.000,9, -999.000,9, -999.000,9
           NA,    P03E,     71,   1,-999.0,     -99,  2,20051110,0045,  24.2562, -139.6283,  4722, 3001.600,    1.562,   34.669,2,   34.669,2,  115.150,1,  122.310,2,  165.540,2,   38.240,2,   -0.010,2,    2.688,2, -999.000,9, -999.000,9, -999.000,9, -999.000,9, -999.000,9
           NA,    P03E,     71,   1,-999.0,     -99,  2,20051110,0045,  24.2562, -139.6283,  4722, 3249.600,    1.515,   34.676,2,   34.675,2,  122.620,1,  129.940,2,  164.050,2,   37.690,2,    0.000,2,    2.635,2, -999.000,9, -999.000,9, -999.000,9, -999.000,9, -999.000,9
           NA,    P03E,     71,   1,-999.0,     -99,  2,20051110,0045,  24.2562, -139.6283,  4722, 3501.000,    1.488,   34.680,2,   34.680,2,  128.820,1,  136.290,2,  162.260,2,   37.280,2,    0.000,2,    2.612,2, -999.000,9, -999.000,9, -999.000,9, -999.000,9, -999.000,9
           NA,    P03E,     71,   1,-999.0,     -99,  2,20051110,0045,  24.2562, -139.6283,  4722, 3750.800,    1.482,   34.683,2,   34.682,6,  133.380,1,  140.710,2,  160.450,2,   36.970,2,    0.000,2,    2.594,2, -999.000,9, -999.000,9, -999.000,9, -999.000,9, -999.000,9
           NA,    P03E,     71,   1,-999.0,     -99,  2,20051110,0045,  24.2562, -139.6283,  4722, 4000.700,    1.480,   34.686,2,   34.685,2,  138.060,1,  145.240,2,  157.850,2,   36.730,2,    0.000,2,    2.570,2, -999.000,9, -999.000,9, -999.000,9, -999.000,9, -999.000,9
           NA,    P03E,     71,   1,-999.0,     -99,  2,20051110,0045,  24.2562, -139.6283,  4722, 4251.900,    1.487,   34.688,2,   34.687,2,  141.860,1,  148.610,2,  155.800,2,   36.410,2,    0.000,2,    2.548,2, -999.000,9, -999.000,9, -999.000,9, -999.000,9, -999.000,9
           NA,    P03E,     71,   1,-999.0,     -99,  2,20051110,0045,  24.2562, -139.6283,  4722, 4499.900,    1.495,   34.689,2,   34.689,2,  145.960,1,  152.330,2,  153.150,2,   36.120,2,    0.000,2,    2.525,2, -999.000,9, -999.000,9, -999.000,9, -999.000,9, -999.000,9
           NA,    P03E,     71,   1,-999.0,     -99,  2,20051110,0045,  24.2562, -139.6283,  4722, 4719.900,    1.497,   34.691,2,   34.691,6,  150.650,1,  156.050,2,  149.950,2,   35.940,2,    0.000,2,    2.511,2, -999.000,9, -999.000,9, -999.000,9, -999.000,9, -999.000,9