BOTTLE,20211903JOAExport
EXPOCODE,SECT_ID,STNNBR,CASTNO,SAMPNO,BTLNBR,BTLNBR_FLAG_W,DATE,TIME,LATITUDE,LONGITUDE,DEPTH,CTDPRS,CTDTMP,CTDSAL,CTDSAL_FLAG_W,SALNTY,SALNTY_FLAG_W,CTDOXY,CTDOXY_FLAG_W,OXYGEN,OXYGEN_FLAG_W,SILCAT,SILCAT_FLAG_W,NITRAT,NITRAT_FLAG_W,NITRIT,NITRIT_FLAG_W,PHSPHT,PHSPHT_FLAG_W,CFC-11,CFC-11_FLAG_W,CFC-12,CFC-12_FLAG_W,SF6,SF6_FLAG_W,TCARBN,TCARBN_FLAG_W,ALKALI,ALKALI_FLAG_W
,,,,,,,,,,,,DB,ITS-90,PSS-78,,PSS-78,,UMOL/KG,,UMOL/KG,,UMOL/KG,,UMOL/KG,,UMOL/KG,,UMOL/KG,,PMOL/KG,,PMOL/KG,,FMOL/KG,,UMOL/KG,,UMOL/KG
           NA,    P03C,    243,   1,-999.0,     -99,  2,20051225,0730,  24.2483,  161.5920,  3327,    9.800,   25.341,   35.198,2,   35.198,2,  193.610,1,  206.850,2,    1.250,2,    0.040,2,    0.010,2,    0.038,2,    1.624,2,    0.984,2, -999.000,9, 1969.200,2, 2309.700,2
           NA,    P03C,    243,   1,-999.0,     -99,  2,20051225,0730,  24.2483,  161.5920,  3327,   49.600,   25.326,   35.209,2,   35.210,2,  193.840,1,  207.050,2,    1.280,2,    0.020,2,    0.020,2,    0.033,2,    1.641,2,    0.981,2, -999.000,9, 1969.800,6, 2311.000,2
           NA,    P03C,    243,   1,-999.0,     -99,  2,20051225,0730,  24.2483,  161.5920,  3327,  101.800,   20.529,   34.994,2,   34.998,2,  209.270,1,  223.350,2,    1.950,2,    0.020,2,    0.020,2,    0.059,2,    2.141,2,    1.233,2, -999.000,9, 2003.600,2, 2298.800,6
           NA,    P03C,    243,   1,-999.0,     -99,  2,20051225,0730,  24.2483,  161.5920,  3327,  150.800,   18.218,   34.848,2,   34.847,2,  198.710,1,  211.970,2,    2.810,2,    1.940,2,    0.030,2,    0.196,2,    2.319,2,    1.316,2, -999.000,9, 2024.500,2, 2287.300,2
           NA,    P03C,    243,   1,-999.0,     -99,  2,20051225,0730,  24.2483,  161.5920,  3327,  199.600,   17.345,   34.790,2,   34.790,2,  200.230,1,  212.900,2,    3.540,2,    3.860,2,    0.020,2,    0.308,2,    2.365,2,    1.315,2, -999.000,9, 2027.600,2, 2285.200,2
           NA,    P03C,    243,   1,-999.0,     -99,  2,20051225,0730,  24.2483,  161.5920,  3327,  252.700,   16.782,   34.747,2,   34.748,2,  195.390,1,  208.150,2,    4.630,2,    5.110,2,    0.020,2,    0.388,2,    2.414,6,    1.323,6, -999.000,9, 2033.800,2, 2283.800,2
           NA,    P03C,    243,   1,-999.0,     -99,  2,20051225,0730,  24.2483,  161.5920,  3327,  301.800,   15.614,   34.643,2,   34.646,2,  191.920,1,  204.520,2,    6.860,2,    7.080,2,    0.020,2,    0.526,2,    2.572,2,    1.376,2, -999.000,9, 2045.100,2, 2276.500,2
           NA,    P03C,    243,   1,-999.0,     -99,  2,20051225,0730,  24.2483,  161.5920,  3327,  399.900,   13.034,   34.427,2,   34.427,2,  190.760,1,  202.720,2,   12.530,2,   11.200,2,    0.020,2,    0.825,2,    2.808,2,    1.456,2, -999.000,9, 2076.700,2, 2271.500,2
           NA,    P03C,    243,   1,-999.0,     -99,  2,20051225,0730,  24.2483,  161.5920,  3327,  501.200,   10.391,   34.234,2,   34.237,6,  180.910,1,  191.960,2,   22.360,2,   16.790,2,    0.010,2,    1.226,2,    2.828,2,    1.396,2, -999.000,9, 2115.600,2, 2269.900,2
           NA,    P03C,    243,   1,-999.0,     -99,  2,20051225,0730,  24.2483,  161.5920,  3327,  601.200,    7.650,   34.082,2,   34.083,2,  140.550,1,  149.620,2,   42.800,2,   25.740,2,    0.010,2,    1.887,2,    2.186,2,    1.055,2, -999.000,9, 2181.000,2, 2281.100,2
           NA,    P03C,    243,   1,-999.0,     -99,  2,20051225,0730,  24.2483,  161.5920,  3327,  701.100,    5.880,   34.060,2,   34.060,2,  102.770,1,  108.900,2,   66.210,2,   32.710,2,    0.010,2,    2.398,2,    1.493,2,    0.720,2, -999.000,9, 2240.500,6, 2294.900,2
           NA,    P03C,    243,   1,-999.0,     -99,  2,20051225,0730,  24.2483,  161.5920,  3327,  800.600,    4.867,   34.143,2,   34.142,2,   62.360,1,   66.820,2,   88.390,2,   38.280,2,    0.010,2,    2.788,2,    0.687,6,    0.338,6, -999.000,9, 2292.300,2, 2319.700,6
           NA,    P03C,    243,   1,-999.0,     -99,  2,20051225,0730,  24.2483,  161.5920,  3327,  900.000,    4.237,   34.246,2,   34.246,2,   40.710,1,   42.870,2,  105.730,2,   41.360,2,    0.010,2,    2.993,2,    0.234,2,    0.116,2, -999.000,9, 2326.800,2, 2338.800,2
           NA,    P03C,    243,   1,-999.0,     -99,  2,20051225,0730,  24.2483,  161.5920,  3327, 1000.300,    3.780,   34.327,2,   34.327,6,   33.720,1,   35.350,2,  118.320,2,   42.500,2,    0.010,2,    3.073,2,    0.092,2,    0.045,2, -999.000,9, 2347.300,2, 2357.200,2
           NA,    P03C,    243,   1,-999.0,     -99,  2,20051225,0730,  24.2483,  161.5920,  3327, 1201.200,    3.174,   34.470,2,   34.471,2,   44.900,1,   47.270,2,  133.310,2,   42.340,2,    0.010,2,    3.057,2,    0.004,2,    0.002,2, -999.000,9, 2360.000,2, 2380.900,2
           NA,    P03C,    243,   1,-999.0,     -99,  2,20051225,0730,  24.2483,  161.5920,  3327, 1401.500,    2.737,   34.528,2,   34.528,2,   57.620,1,   60.920,2,  142.500,2,   41.760,2,    0.010,2,    2.995,2,    0.003,2,    0.000,2, -999.000,9, 2363.200,2, 2392.800,2
           NA,    P03C,    243,   1,-999.0,     -99,  2,20051225,0730,  24.2483,  161.5920,  3327, 1602.400,    2.424,   34.568,2,   34.568,2,   71.970,1,   76.470,2,  146.790,2,   41.050,2,    0.010,2,    2.929,2,    0.000,2,    0.000,2, -999.000,9, 2355.300,2, 2401.800,2
           NA,    P03C,    243,   1,-999.0,     -99,  2,20051225,0730,  24.2483,  161.5920,  3327, 1802.000,    2.145,   34.597,2,   34.598,2,   84.570,1,   89.910,2,  150.380,2,   40.200,2,    0.010,2,    2.858,2,    0.000,2,    0.000,2, -999.000,9, 2353.800,2, 2407.400,2
           NA,    P03C,    243,   1,-999.0,     -99,  2,20051225,0730,  24.2483,  161.5920,  3327, 2001.200,    1.951,   34.618,2,   34.619,6,   93.890,1,   99.720,2,  153.080,2,   39.640,2,    0.010,2,    2.809,2,    0.000,2,    0.000,2, -999.000,9, 2357.000,2, 2411.300,2
           NA,    P03C,    243,   1,-999.0,     -99,  2,20051225,0730,  24.2483,  161.5920,  3327, 2199.800,    1.805,   34.636,2,   34.636,2,  103.350,1,  109.830,2,  154.080,2,   38.950,2,    0.010,2,    2.758,2,    0.000,2,    0.000,2, -999.000,9, 2349.600,2, 2415.200,2
           NA,    P03C,    243,   1,-999.0,     -99,  2,20051225,0730,  24.2483,  161.5920,  3327, 2402.400,    1.733,   34.645,2,   34.646,2,  109.490,1,  116.320,2,  153.960,2,   38.540,2,    0.010,2,    2.732,2,    0.000,2,    0.000,2, -999.000,9, 2346.200,6, 2413.700,2
           NA,    P03C,    243,   1,-999.0,     -99,  2,20051225,0730,  24.2483,  161.5920,  3327, 2602.400,    1.618,   34.659,2,   34.659,2,  118.790,1,  125.910,2,  153.760,2,   37.940,2,    0.010,2,    2.678,2,    0.000,2,    0.000,2, -999.000,9, -999.000,3, 2418.400,6
           NA,    P03C,    243,   1,-999.0,     -99,  2,20051225,0730,  24.2483,  161.5920,  3327, 2800.100,    1.581,   34.664,2,   34.664,2,  123.270,1,  130.500,2,  153.240,2,   37.670,2,    0.010,2,    2.657,2,    0.001,2,    0.000,2, -999.000,9, -999.000,3, 2415.400,2
           NA,    P03C,    243,   1,-999.0,     -99,  2,20051225,0730,  24.2483,  161.5920,  3327, 3000.100,    1.567,   34.667,2,   34.667,2,  126.350,1,  133.410,2,  152.600,2,   37.490,2,    0.010,2,    2.644,2,    0.000,2,    0.000,2, -999.000,9, 2337.700,2, 2419.300,2
           NA,    P03C,    243,   1,-999.0,     -99,  2,20051225,0730,  24.2483,  161.5920,  3327, 3240.800,    1.520,   34.673,2,   34.674,6,  132.760,1,  139.790,2,  151.110,2,   37.050,2,    0.010,2,    2.609,2,    0.000,2,    0.000,2, -999.000,9, 2331.800,2, 2417.600,2
           NA,    P03C,    241,   1,-999.0,     -99,  2,20051225,0007,  24.2373,  162.4408,  5440,    9.900,   25.990,   35.163,2,   35.166,2,  192.270,1,  205.330,2,    1.150,2,    0.030,2,   -0.010,2,    0.040,2,    1.606,2,    0.957,2, -999.000,9, -999.000,9, -999.000,9
           NA,    P03C,    241,   1,-999.0,     -99,  2,20051225,0007,  24.2373,  162.4408,  5440,   48.500,   25.508,   35.196,2,   35.199,2,  199.780,1,  213.040,2,    1.290,2,    0.030,2,   -0.010,2,    0.039,2,    1.698,2,    1.004,2, -999.000,9, -999.000,9, -999.000,9
           NA,    P03C,    241,   1,-999.0,     -99,  2,20051225,0007,  24.2373,  162.4408,  5440,   99.100,   20.986,   35.026,2,   35.024,2,  208.110,1,  222.320,2,    1.860,2,    0.020,2,    0.000,2,    0.059,2,    2.071,2,    1.221,2, -999.000,9, -999.000,9, -999.000,9
           NA,    P03C,    241,   1,-999.0,     -99,  2,20051225,0007,  24.2373,  162.4408,  5440,  149.600,   18.104,   34.834,2,   34.835,2,  194.770,1,  207.810,2,    3.070,2,    2.620,2,    0.020,2,    0.244,2,    2.236,2,    1.306,2, -999.000,9, -999.000,9, -999.000,9
           NA,    P03C,    241,   1,-999.0,     -99,  2,20051225,0007,  24.2373,  162.4408,  5440,  199.100,   17.155,   34.778,2,   34.777,2,  194.480,1,  207.400,2,    4.020,2,    4.540,2,    0.010,2,    0.346,2,    2.307,2,    1.342,2, -999.000,9, -999.000,9, -999.000,9
           NA,    P03C,    241,   1,-999.0,     -99,  2,20051225,0007,  24.2373,  162.4408,  5440,  249.900,   16.450,   34.714,2,   34.714,2,  192.010,1,  204.710,2,    5.170,2,    5.840,2,    0.000,2,    0.431,2,    2.361,6,    1.367,6, -999.000,9, -999.000,9, -999.000,9
           NA,    P03C,    241,   1,-999.0,     -99,  2,20051225,0007,  24.2373,  162.4408,  5440,  302.700,   15.236,   34.604,2,   34.609,2,  192.470,1,  205.240,2,    7.030,2,    7.350,2,    0.000,2,    0.543,2,    2.497,2,    1.415,2, -999.000,9, -999.000,9, -999.000,9
           NA,    P03C,    241,   1,-999.0,     -99,  2,20051225,0007,  24.2373,  162.4408,  5440,  400.000,   12.248,   34.365,2,   34.363,2,  188.830,1,  200.560,2,   14.900,2,   12.810,2,    0.000,2,    0.929,2,    2.699,2,    1.446,2, -999.000,9, -999.000,9, -999.000,9
           NA,    P03C,    241,   1,-999.0,     -99,  2,20051225,0007,  24.2373,  162.4408,  5440,  497.500,    9.481,   34.173,2,   34.173,6,  162.480,1,  172.510,2,   28.090,2,   20.240,2,    0.000,2,    1.475,2,    2.451,2,    1.259,2, -999.000,9, -999.000,9, -999.000,9
           NA,    P03C,    241,   1,-999.0,     -99,  2,20051225,0007,  24.2373,  162.4408,  5440,  600.700,    7.356,   34.093,2,   34.095,2,  122.300,1,  130.840,2,   47.360,2,   28.020,2,    0.000,2,    2.036,2,    1.754,2,    0.851,2, -999.000,9, -999.000,9, -999.000,9
           NA,    P03C,    241,   1,-999.0,     -99,  2,20051225,0007,  24.2373,  162.4408,  5440,  698.600,    6.056,   34.100,2,   34.101,2,   89.610,1,   95.910,2,   66.310,2,   33.590,2,    0.000,2,    2.451,2,    1.129,2,    0.539,2, -999.000,9, -999.000,9, -999.000,9
           NA,    P03C,    241,   1,-999.0,     -99,  2,20051225,0007,  24.2373,  162.4408,  5440,  801.600,    5.014,   34.211,2,   34.210,2,   53.370,1,   56.960,2,   88.000,2,   38.820,2,    0.000,2,    2.842,2,    0.400,6,    0.192,6, -999.000,9, -999.000,9, -999.000,9
           NA,    P03C,    241,   1,-999.0,     -99,  2,20051225,0007,  24.2373,  162.4408,  5440,  900.400,    4.379,   34.306,2,   34.306,2,   43.000,1,   45.630,2,  103.230,2,   40.870,2,    0.000,2,    2.973,2,    0.162,2,    0.075,2, -999.000,9, -999.000,9, -999.000,9
           NA,    P03C,    241,   1,-999.0,     -99,  2,20051225,0007,  24.2373,  162.4408,  5440,  998.900,    3.697,   34.362,2,   34.362,6,   34.900,1,   36.970,2,  120.560,2,   42.320,2,    0.000,2,    3.070,2,    0.072,2,    0.027,2, -999.000,9, -999.000,9, -999.000,9
           NA,    P03C,    241,   1,-999.0,     -99,  2,20051225,0007,  24.2373,  162.4408,  5440, 1202.100,    3.240,   34.480,2,   34.480,2,   51.890,1,   55.180,2,  129.470,2,   41.510,2,    0.000,2,    2.995,2,    0.021,2,    0.011,2, -999.000,9, -999.000,9, -999.000,9
           NA,    P03C,    241,   1,-999.0,     -99,  2,20051225,0007,  24.2373,  162.4408,  5440, 1400.700,    2.714,   34.540,2,   34.541,2,   65.940,1,   70.850,2,  139.390,2,   40.840,2,    0.000,2,    2.929,2,    0.003,2,    0.004,2, -999.000,9, -999.000,9, -999.000,9
           NA,    P03C,    241,   1,-999.0,     -99,  2,20051225,0007,  24.2373,  162.4408,  5440, 1601.500,    2.407,   34.572,2,   34.572,2,   76.190,1,   81.980,2,  144.410,2,   40.300,2,    0.000,2,    2.878,2,    0.015,2,    0.005,2, -999.000,9, -999.000,9, -999.000,9
           NA,    P03C,    241,   1,-999.0,     -99,  2,20051225,0007,  24.2373,  162.4408,  5440, 1801.200,    2.157,   34.597,2,   34.597,2,   84.780,1,   91.330,2,  148.620,2,   39.840,2,    0.000,2,    2.836,2,    0.009,2,    0.002,2, -999.000,9, -999.000,9, -999.000,9
           NA,    P03C,    241,   1,-999.0,     -99,  2,20051225,0007,  24.2373,  162.4408,  5440, 2002.100,    1.991,   34.616,2,   34.616,2,   92.370,1,   99.650,2,  150.970,2,   39.340,2,    0.000,2,    2.800,2,    0.001,2,    0.000,2, -999.000,9, -999.000,9, -999.000,9
           NA,    P03C,    241,   1,-999.0,     -99,  2,20051225,0007,  24.2373,  162.4408,  5440, 2201.900,    1.844,   34.633,2,   34.633,6,  100.100,1,  108.330,2,  152.530,2,   38.840,2,    0.000,2,    2.759,2,    0.000,2,    0.000,2, -999.000,9, -999.000,9, -999.000,9
           NA,    P03C,    241,   1,-999.0,     -99,  2,20051225,0007,  24.2373,  162.4408,  5440, 2401.400,    1.753,   34.644,2,   34.645,2,  106.810,1,  115.720,2,  152.430,2,   38.450,2,    0.000,2,    2.719,2,    0.002,2,    0.000,2, -999.000,9, -999.000,9, -999.000,9
           NA,    P03C,    241,   1,-999.0,     -99,  2,20051225,0007,  24.2373,  162.4408,  5440, 2600.900,    1.677,   34.653,2,   34.653,2,  112.150,1, -999.000,4,  152.960,2,   38.110,2,    0.000,2,    2.690,2,    0.003,2,    0.003,2, -999.000,9, -999.000,9, -999.000,9
           NA,    P03C,    241,   1,-999.0,     -99,  2,20051225,0007,  24.2373,  162.4408,  5440, 2798.900,    1.623,   34.660,2,   34.660,2,  117.170,1,  127.110,2,  152.650,2,   37.690,2,    0.000,2,    2.660,2, -999.000,9, -999.000,9, -999.000,9, -999.000,9, -999.000,9
           NA,    P03C,    241,   1,-999.0,     -99,  2,20051225,0007,  24.2373,  162.4408,  5440, 2999.600,    1.580,   34.666,2,   34.666,2,  121.620,1,  132.160,2,  152.240,2,   37.380,2,    0.000,2,    2.638,2, -999.000,9, -999.000,9, -999.000,9, -999.000,9, -999.000,9
           NA,    P03C,    241,   1,-999.0,     -99,  2,20051225,0007,  24.2373,  162.4408,  5440, 3252.200,    1.537,   34.672,2,   34.672,6,  127.440,1,  138.400,2,  150.850,2,   37.000,2,    0.000,2,    2.601,2,    0.000,2,    0.000,2, -999.000,9, -999.000,9, -999.000,9
           NA,    P03C,    241,   1,-999.0,     -99,  2,20051225,0007,  24.2373,  162.4408,  5440, 3499.800,    1.509,   34.677,2,   34.677,2,  132.170,1,  143.490,2,  149.740,2,   36.650,2,    0.000,2,    2.572,2, -999.000,9, -999.000,9, -999.000,9, -999.000,9, -999.000,9
           NA,    P03C,    241,   1,-999.0,     -99,  2,20051225,0007,  24.2373,  162.4408,  5440, 3750.400,    1.487,   34.681,2,   34.681,2,  136.350,1,  147.790,2,  149.000,2,   36.380,2,    0.000,2,    2.548,2, -999.000,9, -999.000,9, -999.000,9, -999.000,9, -999.000,9
           NA,    P03C,    241,   1,-999.0,     -99,  2,20051225,0007,  24.2373,  162.4408,  5440, 4000.700,    1.465,   34.685,2,   34.685,2,  141.660,1,  153.320,2,  147.120,2,   35.950,2,    0.000,2,    2.521,2,    0.000,2,    0.000,2, -999.000,9, -999.000,9, -999.000,9
           NA,    P03C,    241,   1,-999.0,     -99,  2,20051225,0007,  24.2373,  162.4408,  5440, 4248.200,    1.454,   34.688,2,   34.688,6,  146.540,1,  158.110,2,  144.840,2,   35.560,2,    0.000,2,    2.493,2, -999.000,9, -999.000,9, -999.000,9, -999.000,9, -999.000,9
           NA,    P03C,    241,   1,-999.0,     -99,  2,20051225,0007,  24.2373,  162.4408,  5440, 4498.700,    1.454,   34.691,2,   34.691,2,  150.710,1,  162.220,2,  142.590,2,   35.340,2,    0.000,2,    2.475,2, -999.000,9, -999.000,9, -999.000,9, -999.000,9, -999.000,9
           NA,    P03C,    241,   1,-999.0,     -99,  2,20051225,0007,  24.2373,  162.4408,  5440, 4751.500,    1.459,   34.693,2,   34.693,2,  154.780,1,  165.950,2,  140.360,2,   35.120,2,    0.000,2,    2.450,2,    0.000,2,    0.000,2, -999.000,9, -999.000,9, -999.000,9
           NA,    P03C,    241,   1,-999.0,     -99,  2,20051225,0007,  24.2373,  162.4408,  5440, 4999.400,    1.475,   34.694,2,   34.694,2,  157.680,1,  168.320,2,  138.820,2,   34.930,2,    0.000,2,    2.439,2, -999.000,9, -999.000,9, -999.000,9, -999.000,9, -999.000,9
           NA,    P03C,    241,   1,-999.0,     -99,  2,20051225,0007,  24.2373,  162.4408,  5440, 5248.600,    1.498,   34.695,2,   34.695,2,  159.910,1,  169.750,2,  137.840,2,   34.780,2,    0.000,2,    2.429,2, -999.000,9, -999.000,9, -999.000,9, -999.000,9, -999.000,9
           NA,    P03C,    241,   1,-999.0,     -99,  2,20051225,0007,  24.2373,  162.4408,  5440, 5497.200,    1.518,   34.696,2,   34.696,2,  162.770,1,  171.580,2,  136.780,2,   34.670,2,    0.000,2,    2.419,2, -999.000,9, -999.000,9, -999.000,9, -999.000,9, -999.000,9
           NA,    P03C,    241,   1,-999.0,     -99,  2,20051225,0007,  24.2373,  162.4408,  5440, 5542.200,    1.523,   34.696,2,   34.696,6,  163.360,1,  171.880,2,  136.720,2,   34.710,2,    0.000,2,    2.427,2,    0.000,2,    0.000,2, -999.000,9, -999.000,9, -999.000,9