BOTTLE,20211903JOAExport
EXPOCODE,SECT_ID,STNNBR,CASTNO,SAMPNO,BTLNBR,BTLNBR_FLAG_W,DATE,TIME,LATITUDE,LONGITUDE,DEPTH,CTDPRS,CTDTMP,CTDSAL,CTDSAL_FLAG_W,SALNTY,SALNTY_FLAG_W,CTDOXY,CTDOXY_FLAG_W,OXYGEN,OXYGEN_FLAG_W,SILCAT,SILCAT_FLAG_W,NITRAT,NITRAT_FLAG_W,NITRIT,NITRIT_FLAG_W,PHSPHT,PHSPHT_FLAG_W,CFC-11,CFC-11_FLAG_W,CFC-12,CFC-12_FLAG_W,SF6,SF6_FLAG_W,TCARBN,TCARBN_FLAG_W,ALKALI,ALKALI_FLAG_W
,,,,,,,,,,,,DB,ITS-90,PSS-78,,PSS-78,,UMOL/KG,,UMOL/KG,,UMOL/KG,,UMOL/KG,,UMOL/KG,,UMOL/KG,,PMOL/KG,,PMOL/KG,,FMOL/KG,,UMOL/KG,,UMOL/KG
           NA,    P03C,    255,   1,-999.0,     -99,  2,20051227,0424,  24.2172,  156.8385,  5722,   10.200,   25.669,   35.195,2,   35.196,2,  191.830,1,  205.570,2,    1.110,2,    0.040,2,    0.000,2,    0.041,2,    1.632,2,    0.974,2, -999.000,9, 1967.000,2, 2309.600,2
           NA,    P03C,    255,   1,-999.0,     -99,  2,20051227,0424,  24.2172,  156.8385,  5722,   50.100,   25.605,   35.199,2,   35.201,2,  192.480,1,  206.180,2,    1.070,2,    0.040,2,    0.000,2,    0.046,2,    1.648,2,    0.990,2, -999.000,9, 1968.400,6, 2311.200,2
           NA,    P03C,    255,   1,-999.0,     -99,  2,20051227,0424,  24.2172,  156.8385,  5722,  101.000,   21.241,   35.063,2,   35.063,2,  197.540,1,  211.160,2,    1.780,2,    0.050,2,    0.080,2,    0.080,2,    2.073,2,    1.220,2, -999.000,9, 2012.800,2, 2306.600,6
           NA,    P03C,    255,   1,-999.0,     -99,  2,20051227,0424,  24.2172,  156.8385,  5722,  149.200,   18.687,   34.889,2,   34.889,2,  192.520,1,  205.630,2,    2.680,2,    1.730,2,    0.020,2,    0.212,2,    2.245,2,    1.304,2, -999.000,9, 2030.100,2, 2293.800,2
           NA,    P03C,    255,   1,-999.0,     -99,  2,20051227,0424,  24.2172,  156.8385,  5722,  203.000,   17.328,   34.790,2,   34.791,2,  192.790,1,  204.990,2,    3.770,2,    4.390,2,    0.020,2,    0.351,2,    2.340,2,    1.360,2, -999.000,9, 2036.500,2, 2287.100,2
           NA,    P03C,    255,   1,-999.0,     -99,  2,20051227,0424,  24.2172,  156.8385,  5722,  253.200,   16.596,   34.727,2,   34.727,2,  190.940,1,  204.200,2,    4.920,2,    5.700,2,    0.010,2,    0.426,2,    2.400,6,    1.382,6, -999.000,9, 2042.800,2, 2281.300,2
           NA,    P03C,    255,   1,-999.0,     -99,  2,20051227,0424,  24.2172,  156.8385,  5722,  304.000,   15.317,   34.616,2,   34.614,2,  189.800,1,  202.930,2,    7.480,2,    7.770,2,    0.010,2,    0.567,2,    2.526,2,    1.419,2, -999.000,9, 2056.200,2, 2275.800,2
           NA,    P03C,    255,   1,-999.0,     -99,  2,20051227,0424,  24.2172,  156.8385,  5722,  399.900,   12.604,   34.391,2,   34.388,2,  188.760,1,  201.730,2,   13.620,2,   12.180,2,    0.010,2,    0.884,2,    2.727,2,    1.460,2, -999.000,9, 2085.200,2, 2267.900,2
           NA,    P03C,    255,   1,-999.0,     -99,  2,20051227,0424,  24.2172,  156.8385,  5722,  500.700,    9.888,   34.200,2,   34.194,6,  173.570,1,  184.710,2,   25.970,2,   18.760,2,    0.010,2,    1.355,2,    2.618,2,    1.352,2, -999.000,9, 2130.900,2, 2271.500,2
           NA,    P03C,    255,   1,-999.0,     -99,  2,20051227,0424,  24.2172,  156.8385,  5722,  599.200,    7.418,   34.063,2,   34.060,2,  143.490,1,  151.940,2,   46.310,2,   26.390,2,    0.000,2,    1.923,2,    2.145,2,    1.084,2, -999.000,9, 2187.700,2, 2280.400,2
           NA,    P03C,    255,   1,-999.0,     -99,  2,20051227,0424,  24.2172,  156.8385,  5722,  698.400,    5.535,   34.098,2,   34.100,2,   82.720,1,   88.380,2,   74.550,2,   35.410,2,    0.010,2,    2.573,2,    1.050,2,    0.503,2, -999.000,9, 2266.300,6, 2304.300,2
           NA,    P03C,    255,   1,-999.0,     -99,  2,20051227,0424,  24.2172,  156.8385,  5722,  801.000,    4.660,   34.200,2,   34.199,2,   50.650,1,   54.400,2,   94.630,2,   39.790,2,    0.000,2,    2.889,2,    0.423,6,    0.198,6, -999.000,9, 2307.000,2, 2327.300,6
           NA,    P03C,    255,   1,-999.0,     -99,  2,20051227,0424,  24.2172,  156.8385,  5722,  901.900,    4.194,   34.302,2,   34.302,2,   40.770,1,   43.550,2,  107.390,2,   41.410,2,    0.010,2,    2.993,2,    0.163,2,    0.079,2, -999.000,9, 2332.400,2, 2345.300,2
           NA,    P03C,    255,   1,-999.0,     -99,  2,20051227,0424,  24.2172,  156.8385,  5722, 1002.300,    3.933,   34.395,2,   34.395,6,   43.640,1,   46.580,2,  113.510,2,   41.710,2,    0.000,2,    3.014,2,    0.040,2,    0.023,2, -999.000,9, 2338.600,2, 2357.000,2
           NA,    P03C,    255,   1,-999.0,     -99,  2,20051227,0424,  24.2172,  156.8385,  5722, 1202.400,    3.343,   34.488,2,   34.487,2,   55.980,1,   59.960,2,  126.090,2,   41.310,2,    0.000,2,    2.966,2,    0.008,2,    0.005,2, -999.000,9, 2348.500,2, 2380.500,2
           NA,    P03C,    255,   1,-999.0,     -99,  2,20051227,0424,  24.2172,  156.8385,  5722, 1402.300,    2.760,   34.536,2,   34.535,2,   64.860,1,   70.040,2,  138.770,2,   41.120,2,    0.000,2,    2.940,2,    0.003,2,    0.000,2, -999.000,9, 2354.500,2, 2394.700,2
           NA,    P03C,    255,   1,-999.0,     -99,  2,20051227,0424,  24.2172,  156.8385,  5722, 1602.200,    2.418,   34.568,2,   34.568,2,   74.960,1,   80.820,2,  144.730,2,   40.550,2,    0.010,2,    2.889,2,    0.006,2,    0.001,2, -999.000,9, 2356.900,2, 2400.500,2
           NA,    P03C,    255,   1,-999.0,     -99,  2,20051227,0424,  24.2172,  156.8385,  5722, 1800.400,    2.175,   34.593,2,   34.593,2,   83.390,1,   90.330,2,  148.510,2,   40.140,2,    0.010,2,    2.854,2,    0.000,2,    0.001,2, -999.000,9, 2355.000,2, 2406.700,2
           NA,    P03C,    255,   1,-999.0,     -99,  2,20051227,0424,  24.2172,  156.8385,  5722, 2000.500,    1.972,   34.614,2,   34.614,2,   91.470,1,   99.340,2,  151.290,2,   39.580,2,    0.000,2,    2.809,2,    0.000,2,    0.001,2, -999.000,9, 2353.400,2, 2412.800,2
           NA,    P03C,    255,   1,-999.0,     -99,  2,20051227,0424,  24.2172,  156.8385,  5722, 2199.900,    1.843,   34.630,2,   34.630,6,   99.950,1,  108.730,2,  151.810,2,   39.070,2,    0.010,2,    2.760,2,    0.000,2,    0.000,2, -999.000,9, 2348.100,2, 2411.300,2
           NA,    P03C,    255,   1,-999.0,     -99,  2,20051227,0424,  24.2172,  156.8385,  5722, 2400.000,    1.751,   34.641,2,   34.642,2,  106.420,1,  115.850,2,  152.470,2,   38.610,2,    0.010,2,    2.720,2,    0.002,2,    0.000,2, -999.000,9, 2345.400,6, 2415.100,2
           NA,    P03C,    255,   1,-999.0,     -99,  2,20051227,0424,  24.2172,  156.8385,  5722, 2599.500,    1.674,   34.652,2,   34.652,2,  112.500,1,  122.670,2,  152.270,2,   38.180,2,    0.010,2,    2.687,2,    0.000,2,    0.000,2, -999.000,9, 2344.300,2, 2415.100,6
           NA,    P03C,    255,   1,-999.0,     -99,  2,20051227,0424,  24.2172,  156.8385,  5722, 2800.600,    1.605,   34.661,2,   34.661,2,  118.630,1,  129.320,2,  151.710,2,   37.770,2,    0.010,2,    2.659,2,    0.008,2,    0.000,2, -999.000,9, 2340.500,2, 2418.300,2
           NA,    P03C,    255,   1,-999.0,     -99,  2,20051227,0424,  24.2172,  156.8385,  5722, 3002.300,    1.565,   34.667,2,   34.667,2,  122.940,1,  134.070,2,  151.350,2,   37.500,2,    0.000,2,    2.635,2, -999.000,9, -999.000,9, -999.000,9, 2339.000,2, 2415.600,2
           NA,    P03C,    255,   1,-999.0,     -99,  2,20051227,0424,  24.2172,  156.8385,  5722, 3249.600,    1.514,   34.674,2,   34.674,6,  128.880,1,  140.670,2,  150.020,2,   36.970,2,    0.010,2,    2.587,2, -999.000,9, -999.000,9, -999.000,9, 2332.300,2, 2415.100,2
           NA,    P03C,    255,   1,-999.0,     -99,  2,20051227,0424,  24.2172,  156.8385,  5722, 3499.600,    1.483,   34.679,2,   34.679,2,  133.410,1,  145.610,2,  149.340,2,   36.700,2,    0.000,2,    2.575,2,    0.001,2,    0.000,2, -999.000,9, 2329.900,2, 2416.500,2
           NA,    P03C,    255,   1,-999.0,     -99,  2,20051227,0424,  24.2172,  156.8385,  5722, 3748.600,    1.458,   34.683,2,   34.684,2,  138.420,1,  150.960,2,  147.790,2,   36.380,2,    0.000,2,    2.544,2, -999.000,9, -999.000,9, -999.000,9, 2326.200,2, 2412.100,2
           NA,    P03C,    255,   1,-999.0,     -99,  2,20051227,0424,  24.2172,  156.8385,  5722, 3998.900,    1.446,   34.687,2,   34.687,2,  142.680,1,  155.220,2,  146.440,2,   35.980,2,    0.000,2,    2.522,2, -999.000,9, -999.000,9, -999.000,9, 2321.300,2, 2413.400,2
           NA,    P03C,    255,   1,-999.0,     -99,  2,20051227,0424,  24.2172,  156.8385,  5722, 4249.900,    1.450,   34.689,2,   34.690,2,  146.260,1,  158.810,2,  144.660,2,   35.790,2,    0.000,2,    2.500,2,    0.000,2,    0.000,2, -999.000,9, 2318.200,6, 2410.700,2
           NA,    P03C,    255,   1,-999.0,     -99,  2,20051227,0424,  24.2172,  156.8385,  5722, 4499.400,    1.455,   34.691,2,   34.692,6,  149.400,1,  161.780,2,  143.320,2,   35.610,2,    0.000,2,    2.488,2, -999.000,9, -999.000,9, -999.000,9, 2316.500,2, 2409.700,6
           NA,    P03C,    255,   1,-999.0,     -99,  2,20051227,0424,  24.2172,  156.8385,  5722, 4749.100,    1.466,   34.693,2,   34.693,2,  152.550,1,  164.710,2,  141.290,2,   35.350,2,    0.010,2,    2.474,2,    0.000,2,    0.000,2, -999.000,9, 2313.300,2, 2406.700,2
           NA,    P03C,    255,   1,-999.0,     -99,  2,20051227,0424,  24.2172,  156.8385,  5722, 5000.000,    1.482,   34.694,2,   34.694,2,  155.460,1,  167.080,2,  139.790,2,   35.250,2,    0.010,2,    2.457,2, -999.000,9, -999.000,9, -999.000,9, 2308.900,2, 2405.600,2
           NA,    P03C,    255,   1,-999.0,     -99,  2,20051227,0424,  24.2172,  156.8385,  5722, 5248.400,    1.500,   34.696,2,   34.696,2,  158.420,1,  169.550,2,  137.750,2,   35.060,2,    0.010,2,    2.441,2, -999.000,9, -999.000,9, -999.000,9, 2308.500,2, 2404.600,2
           NA,    P03C,    255,   1,-999.0,     -99,  2,20051227,0424,  24.2172,  156.8385,  5722, 5500.400,    1.525,   34.696,2,   34.696,2,  160.900,1,  171.140,2,  136.670,2,   34.960,2,    0.010,2,    2.429,2,    0.000,2,    0.000,2, -999.000,9, 2306.700,2, 2402.300,2
           NA,    P03C,    255,   1,-999.0,     -99,  2,20051227,0424,  24.2172,  156.8385,  5722, 5750.400,    1.540,   34.698,2,   34.698,2,  165.090,1,  174.070,2,  134.790,2,   34.690,2,    0.010,2,    2.416,2, -999.000,9, -999.000,9, -999.000,9, 2305.100,2, 2399.900,2
           NA,    P03C,    255,   1,-999.0,     -99,  2,20051227,0424,  24.2172,  156.8385,  5722, 5819.500,    1.546,   34.698,2,   34.699,6,  166.300,1,  174.610,2,  134.050,2,   34.610,2,    0.010,2,    2.413,2,    0.000,2,    0.003,2, -999.000,9, 2303.600,2, 2400.300,2