BOTTLE,20211903JOAExport
EXPOCODE,SECT_ID,STNNBR,CASTNO,SAMPNO,BTLNBR,BTLNBR_FLAG_W,DATE,TIME,LATITUDE,LONGITUDE,DEPTH,CTDPRS,CTDTMP,CTDSAL,CTDSAL_FLAG_W,SALNTY,SALNTY_FLAG_W,CTDOXY,CTDOXY_FLAG_W,OXYGEN,OXYGEN_FLAG_W,SILCAT,SILCAT_FLAG_W,NITRAT,NITRAT_FLAG_W,NITRIT,NITRIT_FLAG_W,PHSPHT,PHSPHT_FLAG_W,CFC-11,CFC-11_FLAG_W,CFC-12,CFC-12_FLAG_W,SF6,SF6_FLAG_W,TCARBN,TCARBN_FLAG_W,ALKALI,ALKALI_FLAG_W
,,,,,,,,,,,,DB,ITS-90,PSS-78,,PSS-78,,UMOL/KG,,UMOL/KG,,UMOL/KG,,UMOL/KG,,UMOL/KG,,UMOL/KG,,PMOL/KG,,PMOL/KG,,FMOL/KG,,UMOL/KG,,UMOL/KG
           NA,    P03C,    314,   1,-999.0,     -99,  2,20060105,1543,  24.2268,  139.4148,  4783,   10.300,   22.662,   34.910,2,   34.910,2,  198.510,1,  215.440,2,    1.440,2,    0.040,2,    0.000,2,    0.055,2,    1.857,2,    1.110,2, -999.000,9, 1969.700,2, 2288.600,2
           NA,    P03C,    314,   1,-999.0,     -99,  2,20060105,1543,  24.2268,  139.4148,  4783,   49.900,   22.468,   34.907,2,   34.908,2,  199.220,1,  216.320,2,    1.470,2,    0.030,2,    0.000,2,    0.050,2,    1.878,2,    1.119,2, -999.000,9, 1972.500,6, 2296.800,2
           NA,    P03C,    314,   1,-999.0,     -99,  2,20060105,1543,  24.2268,  139.4148,  4783,  100.700,   19.636,   34.866,2,   34.865,2,  193.940,1,  209.860,2,    2.390,2,    1.570,2,    0.050,2,    0.174,2,    2.215,2,    1.279,2, -999.000,9, 2011.000,2, 2291.700,6
           NA,    P03C,    314,   1,-999.0,     -99,  2,20060105,1543,  24.2268,  139.4148,  4783,  150.000,   18.306,   34.834,2,   34.833,2,  189.270,1,  205.010,2,    3.230,2,    3.380,2,    0.020,2,    0.282,2,    2.318,2,    1.318,2, -999.000,9, 2022.300,2, 2289.200,2
           NA,    P03C,    314,   1,-999.0,     -99,  2,20060105,1543,  24.2268,  139.4148,  4783,  199.800,   17.454,   34.803,2,   34.801,2,  193.210,1,  209.000,2,    3.760,2,    4.220,2,    0.010,2,    0.333,2,    2.381,2,    1.342,2, -999.000,9, 2025.200,2, 2284.700,2
           NA,    P03C,    314,   1,-999.0,     -99,  2,20060105,1543,  24.2268,  139.4148,  4783,  249.900,   16.881,   34.758,2,   34.749,2,  190.030,1,  204.790,2,    5.100,2,    5.570,2,    0.010,2,    0.417,2,    2.420,6,    1.349,6, -999.000,9, 2036.700,2, 2283.300,2
           NA,    P03C,    314,   1,-999.0,     -99,  2,20060105,1543,  24.2268,  139.4148,  4783,  301.300,   15.849,   34.668,2,   34.669,2,  182.280,1,  196.820,2,    7.650,2,    7.730,2,    0.010,2,    0.568,2,    2.482,2,    1.352,2, -999.000,9, -999.000,4, 2279.700,2
           NA,    P03C,    314,   1,-999.0,     -99,  2,20060105,1543,  24.2268,  139.4148,  4783,  400.300,   13.385,   34.479,2,   34.476,2,  171.430,1,  184.960,2,   15.520,2,   12.790,2,    0.010,2,    0.924,2,    2.553,2,    1.337,2, -999.000,9, 2097.200,2, 2278.700,2
           NA,    P03C,    314,   1,-999.0,     -99,  2,20060105,1543,  24.2268,  139.4148,  4783,  501.000,    9.903,   34.238,2,   34.231,6,  158.020,1,  169.620,2,   32.160,2,   20.200,2,    0.010,2,    1.479,2,    2.438,2,    1.241,2, -999.000,9, 2149.700,2, 2281.600,2
           NA,    P03C,    314,   1,-999.0,     -99,  2,20060105,1543,  24.2268,  139.4148,  4783,  600.200,    7.127,   34.114,2,   34.112,2,  124.150,1,  133.360,2,   54.790,2,   28.390,2,    0.010,2,    2.076,2,    1.895,2,    0.925,2, -999.000,9, 2213.100,2, 2292.700,2
           NA,    P03C,    314,   1,-999.0,     -99,  2,20060105,1543,  24.2268,  139.4148,  4783,  699.900,    5.269,   34.104,2,   34.106,2,   88.370,1,   96.420,2,   79.520,2,   34.960,2,    0.010,2,    2.548,2,    1.345,2,    0.653,2, -999.000,9, 2265.200,6, 2313.200,2
           NA,    P03C,    314,   1,-999.0,     -99,  2,20060105,1543,  24.2268,  139.4148,  4783,  798.700,    4.532,   34.228,2,   34.229,2,   59.330,1,   63.690,2,   99.560,2,   38.980,2,    0.010,2,    2.830,2,    0.575,6,    0.275,6, -999.000,9, 2307.400,2, 2336.600,6
           NA,    P03C,    314,   1,-999.0,     -99,  2,20060105,1543,  24.2268,  139.4148,  4783,  900.400,    4.012,   34.307,2,   34.307,2,   49.660,1,   53.200,2,  112.000,2,   40.520,2,    0.010,2,    2.927,2,    0.298,2,    0.142,2, -999.000,9, 2330.300,2, 2354.200,2
           NA,    P03C,    314,   1,-999.0,     -99,  2,20060105,1543,  24.2268,  139.4148,  4783, 1000.400,    3.552,   34.366,2,   34.368,6,   45.520,1,   48.770,2,  123.820,2,   41.480,2,    0.010,2,    2.998,2,    0.160,2,    0.079,2, -999.000,9, 2345.500,2, 2365.800,2
           NA,    P03C,    314,   1,-999.0,     -99,  2,20060105,1543,  24.2268,  139.4148,  4783, 1200.000,    3.045,   34.460,2,   34.460,2,   56.120,1,   60.420,2,  133.660,2,   41.250,2,    0.010,2,    2.967,2,    0.059,2,    0.026,2, -999.000,9, 2351.300,2, 2385.800,2
           NA,    P03C,    314,   1,-999.0,     -99,  2,20060105,1543,  24.2268,  139.4148,  4783, 1400.200,    2.634,   34.517,2,   34.517,2,   67.270,1,   72.830,2,  140.740,2,   40.830,2,    0.010,2,    2.920,2,    0.023,2,    0.011,2, -999.000,9, 2352.100,2, 2393.200,2
           NA,    P03C,    314,   1,-999.0,     -99,  2,20060105,1543,  24.2268,  139.4148,  4783, 1598.900,    2.322,   34.565,2,   34.565,2,   82.760,1,   89.930,2,  143.360,2,   39.940,2,    0.010,2,    2.838,2,    0.007,2,    0.002,2, -999.000,9, 2348.500,2, 2402.500,2
           NA,    P03C,    314,   1,-999.0,     -99,  2,20060105,1543,  24.2268,  139.4148,  4783, 1799.200,    2.137,   34.595,2,   34.595,2,   93.500,1,  101.630,2,  144.290,2,   39.220,2,    0.010,2,    2.791,2,    0.000,2,    0.001,2, -999.000,9, 2345.900,2, 2405.700,2
           NA,    P03C,    314,   1,-999.0,     -99,  2,20060105,1543,  24.2268,  139.4148,  4783, 2000.000,    1.941,   34.623,2,   34.623,6,  105.270,1,  114.630,2,  144.600,2,   38.540,2,    0.010,2,    2.727,2,    0.000,2,    0.000,2, -999.000,9, 2341.500,2, -999.000,4
           NA,    P03C,    314,   1,-999.0,     -99,  2,20060105,1543,  24.2268,  139.4148,  4783, 2199.900,    1.830,   34.638,2,   34.638,2,  112.530,1,  122.590,2,  144.840,2,   38.100,2,    0.010,2,    2.692,2,    0.000,2,    0.000,2, -999.000,9, 2337.900,2, -999.000,4
           NA,    P03C,    314,   1,-999.0,     -99,  2,20060105,1543,  24.2268,  139.4148,  4783, 2400.200,    1.771,   34.646,2,   34.646,2,  116.790,1,  127.170,2,  144.890,2,   37.810,2,    0.010,2,    2.658,2,    0.000,2,    0.000,2, -999.000,9, 2336.800,6, 2412.800,2
           NA,    P03C,    314,   1,-999.0,     -99,  2,20060105,1543,  24.2268,  139.4148,  4783, 2599.200,    1.702,   34.655,2,   34.655,2,  121.750,1,  132.750,2,  144.440,2,   37.490,2,    0.010,2,    2.644,2, -999.000,9, -999.000,9, -999.000,9, 2334.800,2, 2416.000,6
           NA,    P03C,    314,   1,-999.0,     -99,  2,20060105,1543,  24.2268,  139.4148,  4783, 2800.300,    1.657,   34.661,2,   34.661,2,  125.840,1,  137.180,2,  144.010,2,   37.220,2,    0.010,2,    2.618,2, -999.000,9, -999.000,9, -999.000,9, 2331.400,2, 2417.500,2
           NA,    P03C,    314,   1,-999.0,     -99,  2,20060105,1543,  24.2268,  139.4148,  4783, 3000.500,    1.616,   34.667,2,   34.666,6,  129.460,1,  141.000,2,  143.800,2,   37.060,2,    0.000,2,    2.603,2,    0.000,2,    0.000,2, -999.000,9, 2329.500,2, 2418.200,2
           NA,    P03C,    314,   1,-999.0,     -99,  2,20060105,1543,  24.2268,  139.4148,  4783, 3251.300,    1.562,   34.674,2,   34.674,2,  134.630,1,  146.390,2,  142.630,2,   36.600,2,    0.010,2,    2.557,2, -999.000,9, -999.000,9, -999.000,9, 2326.500,2, 2416.700,2
           NA,    P03C,    314,   1,-999.0,     -99,  2,20060105,1543,  24.2268,  139.4148,  4783, 3499.900,    1.519,   34.680,2,   34.680,2,  139.470,1,  151.370,2,  142.120,2,   36.240,2,    0.010,2,    2.544,2, -999.000,9, -999.000,9, -999.000,9, 2322.500,2, 2414.500,2
           NA,    P03C,    314,   1,-999.0,     -99,  2,20060105,1543,  24.2268,  139.4148,  4783, 3752.200,    1.502,   34.684,2,   34.683,2,  143.040,1,  154.940,2,  141.500,2,   36.040,2,    0.010,2,    2.526,2,    0.000,2,    0.000,2, -999.000,9, 2320.500,2, 2414.400,2
           NA,    P03C,    314,   1,-999.0,     -99,  2,20060105,1543,  24.2268,  139.4148,  4783, 3999.900,    1.502,   34.686,2,   34.686,6,  145.550,1,  157.130,2,  140.740,2,   35.960,2,    0.010,2,    2.514,2, -999.000,9, -999.000,9, -999.000,9, 2319.100,2, 2411.100,2
           NA,    P03C,    314,   1,-999.0,     -99,  2,20060105,1543,  24.2268,  139.4148,  4783, 4249.900,    1.522,   34.687,2,   34.686,2,  146.730,1,  157.830,2,  140.940,2,   35.880,2,    0.010,2,    2.511,2, -999.000,9, -999.000,9, -999.000,9, 2319.200,6, 2413.700,2
           NA,    P03C,    314,   1,-999.0,     -99,  2,20060105,1543,  24.2268,  139.4148,  4783, 4499.900,    1.550,   34.687,2,   34.687,2,  147.500,1,  157.890,2,  140.790,2,   35.910,2,    0.010,2,    2.517,2,    0.000,2,    0.000,2, -999.000,9, 2318.200,2, 2413.200,6
           NA,    P03C,    314,   1,-999.0,     -99,  2,20060105,1543,  24.2268,  139.4148,  4783, 4749.800,    1.579,   34.687,2,   34.687,2,  148.480,1,  158.110,2,  140.720,2,   35.850,2,    0.000,2,    2.512,2, -999.000,9, -999.000,9, -999.000,9, 2318.000,2, 2413.100,2
           NA,    P03C,    314,   1,-999.0,     -99,  2,20060105,1543,  24.2268,  139.4148,  4783, 4854.200,    1.592,   34.687,2,   34.687,6,  149.080,1,  158.080,2,  140.800,2,   35.930,2,    0.010,2,    2.514,2,    0.000,2,    0.000,2, -999.000,9, 2318.200,2, 2410.900,2
           NA,    P03C,    312,   1,-999.0,     -99,  2,20060105,0829,  24.2573,  140.2695,  4013,   10.200,   23.179,   34.897,2,   34.896,2,  197.200,1,  213.760,2,    1.450,2,    0.030,2,    0.000,2,    0.040,2,    1.811,2,    1.072,2, -999.000,9, -999.000,9, -999.000,9
           NA,    P03C,    312,   1,-999.0,     -99,  2,20060105,0829,  24.2573,  140.2695,  4013,   49.400,   22.782,   34.904,2,   34.903,2,  198.920,1,  215.680,2,    1.550,2,    0.020,2,    0.000,2,    0.041,2,    1.851,2,    1.099,2, -999.000,9, -999.000,9, -999.000,9
           NA,    P03C,    312,   1,-999.0,     -99,  2,20060105,0829,  24.2573,  140.2695,  4013,  100.800,   20.578,   34.901,2,   34.900,2,  199.590,1,  216.240,2,    1.970,2,    0.160,2,    0.070,2,    0.082,2,    2.157,2,    1.255,2, -999.000,9, -999.000,9, -999.000,9
           NA,    P03C,    312,   1,-999.0,     -99,  2,20060105,0829,  24.2573,  140.2695,  4013,  150.100,   18.431,   34.852,2,   34.850,2,  185.680,1,  201.070,2,    3.060,2,    3.220,2,    0.020,2,    0.271,2,    2.308,2,    1.313,2, -999.000,9, -999.000,9, -999.000,9
           NA,    P03C,    312,   1,-999.0,     -99,  2,20060105,0829,  24.2573,  140.2695,  4013,  200.800,   17.684,   34.811,2,   34.810,2,  187.950,1,  203.570,2,    3.590,2,    4.240,2,    0.010,2,    0.325,2,    2.366,2,    1.340,2, -999.000,9, -999.000,9, -999.000,9
           NA,    P03C,    312,   1,-999.0,     -99,  2,20060105,0829,  24.2573,  140.2695,  4013,  250.000,   16.953,   34.763,2,   34.759,2,  189.960,1,  205.380,2,    4.650,2,    5.320,2,    0.000,2,    0.389,2,    2.423,6,    1.358,6, -999.000,9, -999.000,9, -999.000,9
           NA,    P03C,    312,   1,-999.0,     -99,  2,20060105,0829,  24.2573,  140.2695,  4013,  301.400,   16.022,   34.682,2,   34.677,2,  183.690,1,  198.190,2,    7.160,2,    7.450,2,    0.000,2,    0.537,2,    2.475,2,    1.359,2, -999.000,9, -999.000,9, -999.000,9
           NA,    P03C,    312,   1,-999.0,     -99,  2,20060105,0829,  24.2573,  140.2695,  4013,  400.700,   13.483,   34.484,2,   34.471,2,  172.390,1,  185.560,2,   15.640,2,   12.840,2,    0.000,2,    0.927,2,    2.542,2,    1.335,2, -999.000,9, -999.000,9, -999.000,9
           NA,    P03C,    312,   1,-999.0,     -99,  2,20060105,0829,  24.2573,  140.2695,  4013,  500.100,   10.392,   34.269,2,   34.263,6,  161.280,1,  173.500,2,   29.270,2,   18.990,2,    0.000,2,    1.386,2,    2.466,2,    1.258,2, -999.000,9, -999.000,9, -999.000,9
           NA,    P03C,    312,   1,-999.0,     -99,  2,20060105,0829,  24.2573,  140.2695,  4013,  600.300,    7.151,   34.096,2,   34.097,2,  132.870,1,  142.120,2,   53.400,2,   27.440,2,    0.000,2,    2.025,2,    2.077,2,    1.026,2, -999.000,9, -999.000,9, -999.000,9
           NA,    P03C,    312,   1,-999.0,     -99,  2,20060105,0829,  24.2573,  140.2695,  4013,  700.300,    5.739,   34.133,2,   34.138,2,   91.250,1,   96.790,2,   75.580,2,   34.070,2,    0.000,2,    2.492,2,    1.216,2,    0.585,2, -999.000,9, -999.000,9, -999.000,9
           NA,    P03C,    312,   1,-999.0,     -99,  2,20060105,0829,  24.2573,  140.2695,  4013,  800.300,    4.597,   34.221,2,   34.222,2,   62.640,1,   67.240,2,   97.780,2,   38.420,2,    0.000,2,    2.797,2,    0.649,6,    0.310,6, -999.000,9, -999.000,9, -999.000,9
           NA,    P03C,    312,   1,-999.0,     -99,  2,20060105,0829,  24.2573,  140.2695,  4013,  899.500,    4.080,   34.296,2,   34.297,2,   52.330,1,   56.130,2,  110.650,2,   40.150,2,    0.000,2,    2.911,2,    0.351,2,    0.165,2, -999.000,9, -999.000,9, -999.000,9
           NA,    P03C,    312,   1,-999.0,     -99,  2,20060105,0829,  24.2573,  140.2695,  4013, 1000.300,    3.566,   34.358,2, -999.000,3,   44.980,1,   48.070,2,  123.740,2,   41.470,2,    0.000,2,    3.009,2,    0.171,2,    0.079,2, -999.000,9, -999.000,9, -999.000,9
           NA,    P03C,    312,   1,-999.0,     -99,  2,20060105,0829,  24.2573,  140.2695,  4013, 1202.200,    2.867,   34.474,2,   34.473,2,   55.910,1,   60.270,2,  137.980,2,   41.350,2,    0.000,2,    2.981,2,    0.058,2,    0.025,2, -999.000,9, -999.000,9, -999.000,9
           NA,    P03C,    312,   1,-999.0,     -99,  2,20060105,0829,  24.2573,  140.2695,  4013, 1398.900,    2.490,   34.529,2,   34.529,2,   67.380,1,   72.970,2,  144.660,2,   40.790,2,    0.000,2,    2.929,2,    0.030,2,    0.008,2, -999.000,9, -999.000,9, -999.000,9
           NA,    P03C,    312,   1,-999.0,     -99,  2,20060105,0829,  24.2573,  140.2695,  4013, 1599.900,    2.265,   34.575,2,   34.575,2,   86.030,1,   93.430,2,  143.760,2,   39.560,2,    0.000,2,    2.826,2,    0.016,2,    0.002,2, -999.000,9, -999.000,9, -999.000,9
           NA,    P03C,    312,   1,-999.0,     -99,  2,20060105,0829,  24.2573,  140.2695,  4013, 1801.200,    2.103,   34.601,2,   34.601,6,   96.740,1,  105.130,2,  143.650,2,   38.800,2,    0.000,2,    2.779,2,    0.003,2,    0.000,2, -999.000,9, -999.000,9, -999.000,9
           NA,    P03C,    312,   1,-999.0,     -99,  2,20060105,0829,  24.2573,  140.2695,  4013, 2000.500,    1.957,   34.622,2,   34.622,2,  105.540,1,  114.590,2,  144.520,2,   38.330,2,    0.000,2,    2.731,2,    0.003,2,    0.000,2, -999.000,9, -999.000,9, -999.000,9
           NA,    P03C,    312,   1,-999.0,     -99,  2,20060105,0829,  24.2573,  140.2695,  4013, 2199.600,    1.855,   34.636,2,   34.636,2,  112.010,1,  121.490,2,  144.690,2,   37.900,2,    0.000,2,    2.699,2,    0.004,2,    0.000,2, -999.000,9, -999.000,9, -999.000,9
           NA,    P03C,    312,   1,-999.0,     -99,  2,20060105,0829,  24.2573,  140.2695,  4013, 2400.100,    1.776,   34.646,2,   34.646,2,  117.310,1,  127.210,2,  144.680,2,   37.580,2,    0.000,2,    2.667,2,    0.002,2,    0.000,2, -999.000,9, -999.000,9, -999.000,9
           NA,    P03C,    312,   1,-999.0,     -99,  2,20060105,0829,  24.2573,  140.2695,  4013, 2600.800,    1.707,   34.655,2,   34.655,6,  122.290,1,  132.650,2,  144.620,2,   37.350,2,    0.000,2,    2.642,2, -999.000,9, -999.000,9, -999.000,9, -999.000,9, -999.000,9
           NA,    P03C,    312,   1,-999.0,     -99,  2,20060105,0829,  24.2573,  140.2695,  4013, 2801.400,    1.659,   34.662,2,   34.661,2,  126.380,1,  136.540,2,  144.370,2,   37.070,2,    0.000,2,    2.619,2,    0.000,2,    0.000,2, -999.000,9, -999.000,9, -999.000,9
           NA,    P03C,    312,   1,-999.0,     -99,  2,20060105,0829,  24.2573,  140.2695,  4013, 2999.400,    1.592,   34.669,2,   34.669,2,  131.990,1,  142.480,2,  143.710,2,   36.680,2,    0.000,2,    2.589,2, -999.000,9, -999.000,9, -999.000,9, -999.000,9, -999.000,9
           NA,    P03C,    312,   1,-999.0,     -99,  2,20060105,0829,  24.2573,  140.2695,  4013, 3249.800,    1.554,   34.675,2,   34.675,6,  136.510,1,  147.020,2,  142.780,2,   36.390,2,    0.000,2,    2.563,2,    0.000,2,    0.000,2, -999.000,9, -999.000,9, -999.000,9
           NA,    P03C,    312,   1,-999.0,     -99,  2,20060105,0829,  24.2573,  140.2695,  4013, 3501.900,    1.535,   34.679,2,   34.679,2,  140.020,1,  150.270,2,  142.110,2,   36.170,2,    0.000,2,    2.546,2, -999.000,9, -999.000,9, -999.000,9, -999.000,9, -999.000,9
           NA,    P03C,    312,   1,-999.0,     -99,  2,20060105,0829,  24.2573,  140.2695,  4013, 3749.100,    1.494,   34.684,2,   34.684,2,  145.270,1,  155.500,2,  141.380,2,   35.830,2,    0.000,2,    2.521,2,    0.001,2,    0.000,2, -999.000,9, -999.000,9, -999.000,9
           NA,    P03C,    312,   1,-999.0,     -99,  2,20060105,0829,  24.2573,  140.2695,  4013, 4070.100,    1.513,   34.685,2,   34.686,6,  147.760,1,  156.820,2,  141.110,2,   35.770,2,    0.000,2,    2.519,2,    0.002,2,    0.000,2, -999.000,9, -999.000,9, -999.000,9