BOTTLE,20211903JOAExport
EXPOCODE,SECT_ID,STNNBR,CASTNO,SAMPNO,BTLNBR,BTLNBR_FLAG_W,DATE,TIME,LATITUDE,LONGITUDE,DEPTH,CTDPRS,CTDTMP,CTDSAL,CTDSAL_FLAG_W,SALNTY,SALNTY_FLAG_W,CTDOXY,CTDOXY_FLAG_W,OXYGEN,OXYGEN_FLAG_W,SILCAT,SILCAT_FLAG_W,NITRAT,NITRAT_FLAG_W,NITRIT,NITRIT_FLAG_W,PHSPHT,PHSPHT_FLAG_W,CFC-11,CFC-11_FLAG_W,CFC-12,CFC-12_FLAG_W,SF6,SF6_FLAG_W,TCARBN,TCARBN_FLAG_W,ALKALI,ALKALI_FLAG_W
,,,,,,,,,,,,DB,ITS-90,PSS-78,,PSS-78,,UMOL/KG,,UMOL/KG,,UMOL/KG,,UMOL/KG,,UMOL/KG,,UMOL/KG,,PMOL/KG,,PMOL/KG,,FMOL/KG,,UMOL/KG,,UMOL/KG
           NA,    P03C,    318,   1,-999.0,     -99,  2,20060106,0621,  24.2345,  137.7972,  5030,    9.600,   21.996,   34.842,2,   34.842,2,  200.130,1,  217.120,2,    1.360,2,    0.030,2,    0.000,2,    0.050,2,    1.915,2,    1.136,2, -999.000,9, -999.000,9, -999.000,9
           NA,    P03C,    318,   1,-999.0,     -99,  2,20060106,0621,  24.2345,  137.7972,  5030,   49.800,   21.918,   34.845,2,   34.845,2,  199.940,1,  217.070,2,    1.410,2,    0.020,2,    0.000,2,    0.054,2, -999.000,9, -999.000,9, -999.000,9, -999.000,9, -999.000,9
           NA,    P03C,    318,   1,-999.0,     -99,  2,20060106,0621,  24.2345,  137.7972,  5030,  100.100,   21.744,   34.848,2,   34.850,2,  196.280,1,  212.510,2,    1.490,2,    0.250,2,    0.060,2,    0.072,2,    1.948,2,    1.144,2, -999.000,9, -999.000,9, -999.000,9
           NA,    P03C,    318,   1,-999.0,     -99,  2,20060106,0621,  24.2345,  137.7972,  5030,  150.500,   19.134,   34.868,2,   34.869,2,  188.660,1,  204.460,2,    2.540,2,    2.490,2,    0.020,2,    0.219,2, -999.000,9, -999.000,9, -999.000,9, -999.000,9, -999.000,9
           NA,    P03C,    318,   1,-999.0,     -99,  2,20060106,0621,  24.2345,  137.7972,  5030,  200.300,   18.142,   34.831,2,   34.829,2,  187.330,1,  203.090,2,    3.320,2,    3.820,2,    0.010,2,    0.302,2,    2.318,2,    1.316,2, -999.000,9, -999.000,9, -999.000,9
           NA,    P03C,    318,   1,-999.0,     -99,  2,20060106,0621,  24.2345,  137.7972,  5030,  250.200,   17.221,   34.784,2,   34.783,2,  191.270,1,  207.260,2,    4.130,2,    4.710,2,    0.010,2,    0.352,2,    2.399,2,    1.350,2, -999.000,9, -999.000,9, -999.000,9
           NA,    P03C,    318,   1,-999.0,     -99,  2,20060106,0621,  24.2345,  137.7972,  5030,  300.400,   16.614,   34.731,2,   34.730,2,  185.320,1,  200.650,2,    5.610,2,    6.220,2,    0.010,2,    0.454,2, -999.000,9, -999.000,9, -999.000,9, -999.000,9, -999.000,9
           NA,    P03C,    318,   1,-999.0,     -99,  2,20060106,0621,  24.2345,  137.7972,  5030,  400.100,   14.193,   34.535,2,   34.525,2,  172.900,1,  186.440,2,   12.690,2,   11.410,2,    0.010,2,    0.821,2,    2.560,2,    1.348,2, -999.000,9, -999.000,9, -999.000,9
           NA,    P03C,    318,   1,-999.0,     -99,  2,20060106,0621,  24.2345,  137.7972,  5030,  500.600,   11.147,   34.325,2,   34.323,6,  158.170,1,  170.800,2,   24.550,2,   17.730,2,    0.000,2,    1.285,2, -999.000,9, -999.000,9, -999.000,9, -999.000,9, -999.000,9
           NA,    P03C,    318,   1,-999.0,     -99,  2,20060106,0621,  24.2345,  137.7972,  5030,  600.300,    8.266,   34.177,2,   34.175,2,  130.820,1,  139.710,2,   46.110,2,   25.820,2,    0.000,2,    1.883,2,    1.929,2,    0.945,2, -999.000,9, -999.000,9, -999.000,9
           NA,    P03C,    318,   1,-999.0,     -99,  2,20060106,0621,  24.2345,  137.7972,  5030,  700.400,    6.523,   34.159,2,   34.158,2,  101.610,1,  109.340,2,   66.340,2,   31.540,2,    0.000,2,    2.299,2,    1.392,2,    0.672,2, -999.000,9, -999.000,9, -999.000,9
           NA,    P03C,    318,   1,-999.0,     -99,  2,20060106,0621,  24.2345,  137.7972,  5030,  800.500,    5.322,   34.169,2,   34.170,2,   78.770,1,   83.780,2,   84.160,2,   35.980,2,    0.000,2,    2.618,2,    0.968,2,    0.464,2, -999.000,9, -999.000,9, -999.000,9
           NA,    P03C,    318,   1,-999.0,     -99,  2,20060106,0621,  24.2345,  137.7972,  5030,  900.500,    4.402,   34.247,2,   34.248,2,   55.230,1,   59.060,2,  102.790,2,   39.390,2,    0.000,2,    2.857,2,    0.475,2,    0.226,2, -999.000,9, -999.000,9, -999.000,9
           NA,    P03C,    318,   1,-999.0,     -99,  2,20060106,0621,  24.2345,  137.7972,  5030, 1001.400,    3.834,   34.329,2,   34.329,6,   48.770,1,   52.220,2,  117.010,2,   40.820,2,    0.000,2,    2.954,2, -999.000,9, -999.000,9, -999.000,9, -999.000,9, -999.000,9
           NA,    P03C,    318,   1,-999.0,     -99,  2,20060106,0621,  24.2345,  137.7972,  5030, 1200.300,    3.068,   34.443,2,   34.444,2,   51.460,1,   55.330,2,  134.720,2,   41.530,2,    0.000,2,    2.991,2,    0.082,2,    0.042,2, -999.000,9, -999.000,9, -999.000,9
           NA,    P03C,    318,   1,-999.0,     -99,  2,20060106,0621,  24.2345,  137.7972,  5030, 1401.500,    2.593,   34.515,2,   34.514,2,   63.770,1,   68.820,2,  143.080,2,   41.030,2,    0.000,2,    2.943,2, -999.000,9, -999.000,9, -999.000,9, -999.000,9, -999.000,9
           NA,    P03C,    318,   1,-999.0,     -99,  2,20060106,0621,  24.2345,  137.7972,  5030, 1599.200,    2.286,   34.567,2,   34.568,2,   81.960,1,   89.480,2,  144.510,2,   39.910,2,    0.000,2,    2.840,2,    0.010,2,    0.002,2, -999.000,9, -999.000,9, -999.000,9
           NA,    P03C,    318,   1,-999.0,     -99,  2,20060106,0621,  24.2345,  137.7972,  5030, 1800.100,    2.118,   34.598,2,   34.598,2,   95.870,1,  104.400,2,  143.780,2,   39.000,2,    0.000,2,    2.769,2,    0.004,2,    0.002,2, -999.000,9, -999.000,9, -999.000,9
           NA,    P03C,    318,   1,-999.0,     -99,  2,20060106,0621,  24.2345,  137.7972,  5030, 2000.700,    1.976,   34.621,2,   34.621,6,  105.510,1,  114.910,2,  143.850,2,   38.400,2,    0.000,2,    2.712,2,    0.001,2,    0.001,2, -999.000,9, -999.000,9, -999.000,9
           NA,    P03C,    318,   1,-999.0,     -99,  2,20060106,0621,  24.2345,  137.7972,  5030, 2200.500,    1.879,   34.634,2,   34.634,2,  111.280,1,  121.430,2,  144.150,2,   38.040,2,    0.000,2,    2.693,2,    0.000,2,    0.000,2, -999.000,9, -999.000,9, -999.000,9
           NA,    P03C,    318,   1,-999.0,     -99,  2,20060106,0621,  24.2345,  137.7972,  5030, 2400.800,    1.791,   34.644,2,   34.645,2,  116.420,1,  127.110,2,  144.310,2,   37.700,2,    0.000,2,    2.664,2, -999.000,9, -999.000,9, -999.000,9, -999.000,9, -999.000,9
           NA,    P03C,    318,   1,-999.0,     -99,  2,20060106,0621,  24.2345,  137.7972,  5030, 2600.400,    1.732,   34.652,2,   34.652,2,  120.410,1,  131.490,2,  144.330,2,   37.500,2,    0.000,2,    2.647,2,    0.000,2,    0.001,2, -999.000,9, -999.000,9, -999.000,9
           NA,    P03C,    318,   1,-999.0,     -99,  2,20060106,0621,  24.2345,  137.7972,  5030, 2800.200,    1.695,   34.657,2,   34.657,2,  123.370,1,  134.860,2,  144.250,2,   37.230,2,    0.000,2,    2.630,2, -999.000,9, -999.000,9, -999.000,9, -999.000,9, -999.000,9
           NA,    P03C,    318,   1,-999.0,     -99,  2,20060106,0621,  24.2345,  137.7972,  5030, 3001.000,    1.645,   34.663,2,   34.663,6,  127.440,1,  139.180,2,  143.860,2,   37.010,2,    0.000,2,    2.610,2, -999.000,9, -999.000,9, -999.000,9, -999.000,9, -999.000,9
           NA,    P03C,    318,   1,-999.0,     -99,  2,20060106,0621,  24.2345,  137.7972,  5030, 3251.600,    1.604,   34.669,2,   34.669,2,  131.560,1,  143.610,2,  143.080,2,   36.650,2,    0.000,2,    2.568,2,    0.000,2,    0.000,2, -999.000,9, -999.000,9, -999.000,9
           NA,    P03C,    318,   1,-999.0,     -99,  2,20060106,0621,  24.2345,  137.7972,  5030, 3500.200,    1.557,   34.676,2,   34.676,2,  136.370,1,  148.540,2,  142.720,2,   36.280,2,    0.000,2,    2.554,2, -999.000,9, -999.000,9, -999.000,9, -999.000,9, -999.000,9
           NA,    P03C,    318,   1,-999.0,     -99,  2,20060106,0621,  24.2345,  137.7972,  5030, 3750.600,    1.537,   34.681,2,   34.681,2,  139.860,1,  152.110,2,  142.330,2,   36.170,2,    0.000,2,    2.533,2, -999.000,9, -999.000,9, -999.000,9, -999.000,9, -999.000,9
           NA,    P03C,    318,   1,-999.0,     -99,  2,20060106,0621,  24.2345,  137.7972,  5030, 4000.700,    1.530,   34.684,2,   34.683,6,  142.700,1,  154.810,2,  141.880,2,   35.950,2,    0.000,2,    2.513,2,    0.002,2,    0.000,2, -999.000,9, -999.000,9, -999.000,9
           NA,    P03C,    318,   1,-999.0,     -99,  2,20060106,0621,  24.2345,  137.7972,  5030, 4249.000,    1.543,   34.685,2,   34.685,2,  144.350,1,  156.030,2,  141.460,2,   35.860,2,    0.000,2,    2.513,2, -999.000,9, -999.000,9, -999.000,9, -999.000,9, -999.000,9
           NA,    P03C,    318,   1,-999.0,     -99,  2,20060106,0621,  24.2345,  137.7972,  5030, 4501.300,    1.566,   34.685,2,   34.685,2,  145.370,1,  156.690,2,  141.390,2,   35.900,2,    0.000,2,    2.510,2, -999.000,9, -999.000,9, -999.000,9, -999.000,9, -999.000,9
           NA,    P03C,    318,   1,-999.0,     -99,  2,20060106,0621,  24.2345,  137.7972,  5030, 4750.700,    1.594,   34.686,2,   34.685,2,  146.240,1,  156.800,2,  141.290,2,   35.900,2,    0.000,2,    2.505,2,    0.000,2,    0.000,2, -999.000,9, -999.000,9, -999.000,9
           NA,    P03C,    318,   1,-999.0,     -99,  2,20060106,0621,  24.2345,  137.7972,  5030, 4998.800,    1.623,   34.686,2,   34.686,2,  147.370,1,  157.040,2,  141.150,2,   35.870,2,    0.000,2,    2.509,2, -999.000,9, -999.000,9, -999.000,9, -999.000,9, -999.000,9
           NA,    P03C,    318,   1,-999.0,     -99,  2,20060106,0621,  24.2345,  137.7972,  5030, 5173.100,    1.644,   34.686,2,   34.686,6,  148.370,1,  157.120,2,  141.190,2,   35.890,2,   -0.010,2,    2.515,2,    0.001,2,    0.000,2, -999.000,9, -999.000,9, -999.000,9
           NA,    P03C,    316,   1,-999.0,     -99,  2,20060105,2307,  24.2545,  138.5633,  5027,   10.200,   21.699,   34.887,2,   34.885,2,  201.320,1,  218.370,2,    1.670,2,    0.040,2,    0.000,2,    0.038,2,    1.936,2,    1.122,2, -999.000,9, -999.000,9, -999.000,9
           NA,    P03C,    316,   1,-999.0,     -99,  2,20060105,2307,  24.2545,  138.5633,  5027,   50.200,   21.625,   34.885,2,   34.884,2,  201.440,1,  218.650,2,    1.690,2,    0.030,2,    0.000,2,    0.043,2,    1.944,2,    1.141,2, -999.000,9, -999.000,9, -999.000,9
           NA,    P03C,    316,   1,-999.0,     -99,  2,20060105,2307,  24.2545,  138.5633,  5027,   99.600,   20.780,   34.861,2,   34.862,2,  195.250,1,  211.680,2,    2.100,2,    0.770,2,    0.110,2,    0.106,2,    2.084,2,    1.214,2, -999.000,9, -999.000,9, -999.000,9
           NA,    P03C,    316,   1,-999.0,     -99,  2,20060105,2307,  24.2545,  138.5633,  5027,  149.200,   18.762,   34.860,2,   34.864,2,  188.110,1,  204.490,2,    2.810,2,    2.340,2,    0.020,2,    0.205,2,    2.268,2,    1.280,2, -999.000,9, -999.000,9, -999.000,9
           NA,    P03C,    316,   1,-999.0,     -99,  2,20060105,2307,  24.2545,  138.5633,  5027,  199.800,   17.729,   34.811,2,   34.808,2,  190.370,1,  206.380,2,    3.830,2,    4.160,2,    0.010,2,    0.303,2,    2.356,2,    1.318,2, -999.000,9, -999.000,9, -999.000,9
           NA,    P03C,    316,   1,-999.0,     -99,  2,20060105,2307,  24.2545,  138.5633,  5027,  249.400,   16.930,   34.760,2,   34.754,2,  189.340,1,  204.400,2,    5.110,2,    5.480,2,    0.010,2,    0.394,2,    2.413,6,    1.337,6, -999.000,9, -999.000,9, -999.000,9
           NA,    P03C,    316,   1,-999.0,     -99,  2,20060105,2307,  24.2545,  138.5633,  5027,  299.700,   16.061,   34.687,2,   34.678,2,  182.940,1,  197.100,2,    7.530,2,    7.540,2,    0.000,2,    0.534,2,    2.457,2,    1.355,2, -999.000,9, -999.000,9, -999.000,9
           NA,    P03C,    316,   1,-999.0,     -99,  2,20060105,2307,  24.2545,  138.5633,  5027,  401.300,   13.225,   34.473,2,   34.462,2,  167.640,1,  180.780,2,   17.600,2,   13.660,2,    0.000,2,    0.976,2,    2.486,2,    1.284,2, -999.000,9, -999.000,9, -999.000,9
           NA,    P03C,    316,   1,-999.0,     -99,  2,20060105,2307,  24.2545,  138.5633,  5027,  500.700,   10.464,   34.281,2,   34.278,6,  158.450,1,  170.930,2,   29.170,2,   18.940,2,    0.000,2,    1.369,2,    2.424,2,    1.226,2, -999.000,9, -999.000,9, -999.000,9
           NA,    P03C,    316,   1,-999.0,     -99,  2,20060105,2307,  24.2545,  138.5633,  5027,  599.600,    7.786,   34.109,2,   34.112,2,  143.980,1,  154.350,2,   46.090,2,   25.060,2,    0.000,2,    1.838,2,    2.258,2,    1.118,2, -999.000,9, -999.000,9, -999.000,9
           NA,    P03C,    316,   1,-999.0,     -99,  2,20060105,2307,  24.2545,  138.5633,  5027,  699.600,    5.932,   34.118,2,   34.118,2,   95.660,1,  103.020,2,   70.850,2,   33.060,2,    0.000,2,    2.410,2,    1.337,2,    0.640,2, -999.000,9, -999.000,9, -999.000,9
           NA,    P03C,    316,   1,-999.0,     -99,  2,20060105,2307,  24.2545,  138.5633,  5027,  800.200,    4.853,   34.199,2,   34.202,2,   65.450,1,   69.780,2,   93.010,2,   37.830,2,    0.000,2,    2.754,2,    0.686,6,    0.329,6, -999.000,9, -999.000,9, -999.000,9
           NA,    P03C,    316,   1,-999.0,     -99,  2,20060105,2307,  24.2545,  138.5633,  5027,  902.000,    4.161,   34.276,2,   34.276,2,   51.310,1,   55.300,2,  108.160,2,   39.990,2,    0.000,2,    2.904,2,    0.388,2,    0.183,2, -999.000,9, -999.000,9, -999.000,9
           NA,    P03C,    316,   1,-999.0,     -99,  2,20060105,2307,  24.2545,  138.5633,  5027,  999.700,    3.731,   34.373,2,   34.378,6,   49.900,1,   53.740,2,  119.550,2,   40.840,2,    0.000,2,    2.956,2,    0.158,2,    0.072,2, -999.000,9, -999.000,9, -999.000,9
           NA,    P03C,    316,   1,-999.0,     -99,  2,20060105,2307,  24.2545,  138.5633,  5027, 1200.300,    3.125,   34.459,2,   34.459,2,   56.550,1,   61.160,2,  131.540,2,   41.040,2,    0.000,2,    2.951,2,    0.064,2,    0.030,2, -999.000,9, -999.000,9, -999.000,9
           NA,    P03C,    316,   1,-999.0,     -99,  2,20060105,2307,  24.2545,  138.5633,  5027, 1400.000,    2.624,   34.519,2, -999.000,3,   67.410,1,   73.900,2,  141.010,2,   40.640,2,    0.000,2,    2.906,2,    0.028,2,    0.010,2, -999.000,9, -999.000,9, -999.000,9
           NA,    P03C,    316,   1,-999.0,     -99,  2,20060105,2307,  24.2545,  138.5633,  5027, 1600.300,    2.363,   34.562,2,   34.563,2,   81.940,1,   89.010,2,  142.750,2,   39.670,2,    0.000,2,    2.838,2,    0.013,2,    0.004,2, -999.000,9, -999.000,9, -999.000,9
           NA,    P03C,    316,   1,-999.0,     -99,  2,20060105,2307,  24.2545,  138.5633,  5027, 1800.100,    2.108,   34.596,2,   34.596,2,   93.650,1,  101.860,2,  144.690,2,   38.990,2,    0.000,2,    2.782,2,    0.008,2,    0.005,2, -999.000,9, -999.000,9, -999.000,9
           NA,    P03C,    316,   1,-999.0,     -99,  2,20060105,2307,  24.2545,  138.5633,  5027, 2000.000,    1.937,   34.621,2,   34.621,6,  104.980,1,  114.450,2,  144.430,2,   38.240,2,    0.000,2,    2.720,2,    0.004,2,    0.002,2, -999.000,9, -999.000,9, -999.000,9
           NA,    P03C,    316,   1,-999.0,     -99,  2,20060105,2307,  24.2545,  138.5633,  5027, 2199.300,    1.835,   34.636,2,   34.636,2,  112.010,1,  122.220,2,  144.330,2,   37.890,2,    0.000,2,    2.682,2,    0.002,2,    0.000,2, -999.000,9, -999.000,9, -999.000,9
           NA,    P03C,    316,   1,-999.0,     -99,  2,20060105,2307,  24.2545,  138.5633,  5027, 2400.000,    1.766,   34.646,2,   34.646,2,  117.200,1,  127.900,2,  144.020,2,   37.590,2,    0.000,2,    2.653,2,    0.000,2,    0.000,2, -999.000,9, -999.000,9, -999.000,9
           NA,    P03C,    316,   1,-999.0,     -99,  2,20060105,2307,  24.2545,  138.5633,  5027, 2600.800,    1.718,   34.653,2,   34.653,2,  120.720,1,  131.780,2,  143.980,2,   37.280,2,    0.000,2,    2.632,2, -999.000,9, -999.000,9, -999.000,9, -999.000,9, -999.000,9
           NA,    P03C,    316,   1,-999.0,     -99,  2,20060105,2307,  24.2545,  138.5633,  5027, 2799.800,    1.668,   34.660,2,   34.659,2,  124.940,1,  136.370,2,  143.680,2,   36.990,2,    0.000,2,    2.610,2,    0.002,2,    0.000,2, -999.000,9, -999.000,9, -999.000,9
           NA,    P03C,    316,   1,-999.0,     -99,  2,20060105,2307,  24.2545,  138.5633,  5027, 3000.300,    1.625,   34.666,2,   34.665,6,  128.670,1,  140.440,2,  143.420,2,   36.750,2,    0.000,2,    2.592,2, -999.000,9, -999.000,9, -999.000,9, -999.000,9, -999.000,9
           NA,    P03C,    316,   1,-999.0,     -99,  2,20060105,2307,  24.2545,  138.5633,  5027, 3250.100,    1.583,   34.672,2,   34.672,2,  132.950,1,  145.000,2,  142.950,2,   36.450,2,    0.000,2,    2.565,2, -999.000,9, -999.000,9, -999.000,9, -999.000,9, -999.000,9
           NA,    P03C,    316,   1,-999.0,     -99,  2,20060105,2307,  24.2545,  138.5633,  5027, 3500.200,    1.540,   34.678,2,   34.678,2,  137.630,1,  149.900,2,  142.180,2,   36.180,2,    0.000,2,    2.544,2,    0.000,2,    0.000,2, -999.000,9, -999.000,9, -999.000,9
           NA,    P03C,    316,   1,-999.0,     -99,  2,20060105,2307,  24.2545,  138.5633,  5027, 3750.200,    1.515,   34.683,2,   34.682,2,  141.590,1,  153.820,2,  141.470,2,   35.930,2,    0.000,2,    2.522,2, -999.000,9, -999.000,9, -999.000,9, -999.000,9, -999.000,9
           NA,    P03C,    316,   1,-999.0,     -99,  2,20060105,2307,  24.2545,  138.5633,  5027, 4001.200,    1.516,   34.685,2,   34.684,6,  144.010,1,  156.060,2,  141.110,2,   35.780,2,    0.000,2,    2.511,2, -999.000,9, -999.000,9, -999.000,9, -999.000,9, -999.000,9
           NA,    P03C,    316,   1,-999.0,     -99,  2,20060105,2307,  24.2545,  138.5633,  5027, 4250.000,    1.526,   34.686,2,   34.686,2,  145.860,1,  157.530,2,  140.760,2,   35.660,2,    0.000,2,    2.505,2,    0.000,2,    0.000,2, -999.000,9, -999.000,9, -999.000,9
           NA,    P03C,    316,   1,-999.0,     -99,  2,20060105,2307,  24.2545,  138.5633,  5027, 4501.600,    1.550,   34.687,2,   34.687,2,  146.820,1,  158.040,2,  140.640,2,   35.660,2,    0.000,2,    2.502,2, -999.000,9, -999.000,9, -999.000,9, -999.000,9, -999.000,9
           NA,    P03C,    316,   1,-999.0,     -99,  2,20060105,2307,  24.2545,  138.5633,  5027, 4749.100,    1.579,   34.687,2,   34.687,2,  147.670,1,  157.930,2,  140.520,2,   35.640,2,    0.000,2,    2.501,2,    0.000,2,    0.000,2, -999.000,9, -999.000,9, -999.000,9
           NA,    P03C,    316,   1,-999.0,     -99,  2,20060105,2307,  24.2545,  138.5633,  5027, 5000.300,    1.610,   34.687,2,   34.687,2,  148.590,1,  158.060,2,  140.490,2,   35.670,2,    0.000,2,    2.501,2, -999.000,9, -999.000,9, -999.000,9, -999.000,9, -999.000,9
           NA,    P03C,    316,   1,-999.0,     -99,  2,20060105,2307,  24.2545,  138.5633,  5027, 5103.500,    1.624,   34.687,2,   34.687,6,  149.410,1,  158.060,2,  140.610,2,   35.640,2,    0.000,2,    2.506,2,    0.000,2,    0.000,2, -999.000,9, -999.000,9, -999.000,9