BOTTLE,20211903JOAExport
EXPOCODE,SECT_ID,STNNBR,CASTNO,SAMPNO,BTLNBR,BTLNBR_FLAG_W,DATE,TIME,LATITUDE,LONGITUDE,DEPTH,CTDPRS,CTDTMP,CTDSAL,CTDSAL_FLAG_W,SALNTY,SALNTY_FLAG_W,CTDOXY,CTDOXY_FLAG_W,OXYGEN,OXYGEN_FLAG_W,SILCAT,SILCAT_FLAG_W,NITRAT,NITRAT_FLAG_W,NITRIT,NITRIT_FLAG_W,PHSPHT,PHSPHT_FLAG_W,CFC-11,CFC-11_FLAG_W,CFC-12,CFC-12_FLAG_W,SF6,SF6_FLAG_W,TCARBN,TCARBN_FLAG_W,ALKALI,ALKALI_FLAG_W
,,,,,,,,,,,,DB,ITS-90,PSS-78,,PSS-78,,UMOL/KG,,UMOL/KG,,UMOL/KG,,UMOL/KG,,UMOL/KG,,UMOL/KG,,PMOL/KG,,PMOL/KG,,FMOL/KG,,UMOL/KG,,UMOL/KG
           NA,    P03C,    289,   1,-999.0,     -99,  2,20060103,0023,  24.2200,  144.8342,  5358,    9.900,   24.059,   34.860,2,   34.860,2,  194.450,1,  210.490,2,    1.140,2,    0.020,2,    0.000,2,    0.045,2,    1.756,2,    1.021,2, -999.000,9, -999.000,9, -999.000,9
           NA,    P03C,    289,   1,-999.0,     -99,  2,20060103,0023,  24.2200,  144.8342,  5358,   50.700,   23.568,   34.866,2,   34.867,2,  196.410,1,  212.400,2,    1.250,2,    0.020,2,    0.010,2,    0.045,2, -999.000,9, -999.000,9, -999.000,9, -999.000,9, -999.000,9
           NA,    P03C,    289,   1,-999.0,     -99,  2,20060103,0023,  24.2200,  144.8342,  5358,   99.600,   23.378,   34.862,2,   34.863,2,  196.790,1,  212.800,2,    1.300,2,    0.010,2,    0.010,2,    0.045,2,    1.843,2,    1.060,2, -999.000,9, -999.000,9, -999.000,9
           NA,    P03C,    289,   1,-999.0,     -99,  2,20060103,0023,  24.2200,  144.8342,  5358,  150.000,   20.065,   34.955,2,   34.956,2,  187.200,1,  202.210,2,    2.060,2,    0.940,2,    0.040,2,    0.140,2, -999.000,9, -999.000,9, -999.000,9, -999.000,9, -999.000,9
           NA,    P03C,    289,   1,-999.0,     -99,  2,20060103,0023,  24.2200,  144.8342,  5358,  199.800,   18.466,   34.854,2,   34.848,2,  186.280,1,  201.200,2,    2.900,2,    3.090,2,    0.020,2,    0.266,2,    2.328,2,    1.312,2, -999.000,9, -999.000,9, -999.000,9
           NA,    P03C,    289,   1,-999.0,     -99,  2,20060103,0023,  24.2200,  144.8342,  5358,  249.500,   17.339,   34.786,2,   34.781,2,  187.830,1,  202.590,2,    3.920,2,    4.870,2,    0.010,2,    0.365,2,    2.425,2,    1.354,2, -999.000,9, -999.000,9, -999.000,9
           NA,    P03C,    289,   1,-999.0,     -99,  2,20060103,0023,  24.2200,  144.8342,  5358,  300.200,   16.515,   34.723,2,   34.720,2,  187.970,1,  202.890,2,    5.320,2,    6.110,2,    0.010,2,    0.446,2, -999.000,9, -999.000,9, -999.000,9, -999.000,9, -999.000,9
           NA,    P03C,    289,   1,-999.0,     -99,  2,20060103,0023,  24.2200,  144.8342,  5358,  400.400,   14.226,   34.533,2,   34.527,2,  178.020,1,  191.760,2,   11.610,2,   10.720,2,    0.010,2,    0.772,2,    2.557,2,    1.363,2, -999.000,9, -999.000,9, -999.000,9
           NA,    P03C,    289,   1,-999.0,     -99,  2,20060103,0023,  24.2200,  144.8342,  5358,  500.000,   11.209,   34.309,2,   34.304,6,  170.010,1,  182.610,2,   21.700,2,   16.500,2,    0.010,2,    1.194,2,    2.604,2,    1.330,2, -999.000,9, -999.000,9, -999.000,9
           NA,    P03C,    289,   1,-999.0,     -99,  2,20060103,0023,  24.2200,  144.8342,  5358,  600.300,    8.252,   34.111,2,   34.109,2,  152.120,1,  162.030,2,   39.430,2,   23.620,2,    0.010,2,    1.725,2,    2.343,2,    1.144,2, -999.000,9, -999.000,9, -999.000,9
           NA,    P03C,    289,   1,-999.0,     -99,  2,20060103,0023,  24.2200,  144.8342,  5358,  701.300,    6.265,   34.073,2,   34.075,2,  110.880,1,  118.080,2,   62.650,2,   31.210,2,    0.010,2,    2.280,2,    1.611,2,    0.764,2, -999.000,9, -999.000,9, -999.000,9
           NA,    P03C,    289,   1,-999.0,     -99,  2,20060103,0023,  24.2200,  144.8342,  5358,  802.500,    5.043,   34.129,2,   34.126,2,   73.730,1,   80.000,2,   83.980,2,   36.590,2,    0.010,2,    2.669,2,    0.907,2,    0.435,2, -999.000,9, -999.000,9, -999.000,9
           NA,    P03C,    289,   1,-999.0,     -99,  2,20060103,0023,  24.2200,  144.8342,  5358,  900.300,    4.295,   34.263,2,   34.263,2,   47.290,1,   50.580,2,  104.340,2,   40.310,2,    0.010,2,    2.925,2,    0.278,2,    0.137,2, -999.000,9, -999.000,9, -999.000,9
           NA,    P03C,    289,   1,-999.0,     -99,  2,20060103,0023,  24.2200,  144.8342,  5358, 1000.400,    3.772,   34.328,2,   34.329,6,   41.160,1,   44.220,2,  118.120,2,   41.540,2,    0.000,2,    3.001,2,    0.152,2,    0.077,2, -999.000,9, -999.000,9, -999.000,9
           NA,    P03C,    289,   1,-999.0,     -99,  2,20060103,0023,  24.2200,  144.8342,  5358, 1199.700,    3.090,   34.444,2,   34.445,2,   44.700,1,   47.930,2,  135.400,2,   42.030,2,    0.000,2,    3.028,2,    0.043,2,    0.021,2, -999.000,9, -999.000,9, -999.000,9
           NA,    P03C,    289,   1,-999.0,     -99,  2,20060103,0023,  24.2200,  144.8342,  5358, 1400.200,    2.639,   34.506,2,   34.507,2,   53.150,1,   57.420,2,  145.320,2,   41.830,2,    0.000,2,    2.992,2,    0.022,2,    0.005,2, -999.000,9, -999.000,9, -999.000,9
           NA,    P03C,    289,   1,-999.0,     -99,  4,20060103,0023,  24.2200,  144.8342,  5358, 1602.300,    2.301,   34.554,2, -999.000,4,   69.290,1, -999.000,4, -999.000,4, -999.000,4, -999.000,4, -999.000,4, -999.000,4, -999.000,4, -999.000,9, -999.000,9, -999.000,9
           NA,    P03C,    289,   1,-999.0,     -99,  2,20060103,0023,  24.2200,  144.8342,  5358, 1801.000,    2.067,   34.590,2,   34.590,2,   83.850,1,   91.070,2,  150.540,2,   39.820,2,    0.010,2,    2.830,2,    0.002,2,    0.000,2, -999.000,9, -999.000,9, -999.000,9
           NA,    P03C,    289,   1,-999.0,     -99,  2,20060103,0023,  24.2200,  144.8342,  5358, 2001.100,    1.908,   34.613,2,   34.614,2,   94.430,1,  102.850,2,  151.110,2,   39.110,2,    0.010,2,    2.776,2,    0.000,2,    0.000,2, -999.000,9, -999.000,9, -999.000,9
           NA,    P03C,    289,   1,-999.0,     -99,  2,20060103,0023,  24.2200,  144.8342,  5358, 2201.200,    1.793,   34.631,2,   34.631,6,  102.830,1,  112.120,2,  151.240,2,   38.560,2,    0.010,2,    2.729,2, -999.000,9, -999.000,9, -999.000,9, -999.000,9, -999.000,9
           NA,    P03C,    289,   1,-999.0,     -99,  2,20060103,0023,  24.2200,  144.8342,  5358, 2401.100,    1.730,   34.641,2,   34.641,2,  108.230,1,  118.160,2,  151.360,2,   38.240,2,    0.010,2,    2.705,2,    0.002,2,    0.002,2, -999.000,9, -999.000,9, -999.000,9
           NA,    P03C,    289,   1,-999.0,     -99,  2,20060103,0023,  24.2200,  144.8342,  5358, 2600.700,    1.658,   34.652,2,   34.653,2,  114.970,1,  125.570,2,  150.480,2,   37.860,2,    0.010,2,    2.667,2, -999.000,9, -999.000,9, -999.000,9, -999.000,9, -999.000,9
           NA,    P03C,    289,   1,-999.0,     -99,  2,20060103,0023,  24.2200,  144.8342,  5358, 2803.000,    1.602,   34.661,2,   34.662,2,  120.290,1,  131.440,2,  150.100,2,   37.450,2,    0.010,2,    2.637,2,    0.001,2,    0.000,2, -999.000,9, -999.000,9, -999.000,9
           NA,    P03C,    289,   1,-999.0,     -99,  2,20060103,0023,  24.2200,  144.8342,  5358, 2998.900,    1.566,   34.667,2,   34.668,2,  124.340,1,  135.880,2,  149.800,2,   37.160,2,    0.000,2,    2.613,2, -999.000,9, -999.000,9, -999.000,9, -999.000,9, -999.000,9
           NA,    P03C,    289,   1,-999.0,     -99,  2,20060103,0023,  24.2200,  144.8342,  5358, 3249.500,    1.521,   34.674,2,   34.674,6,  129.540,1,  141.570,2,  148.950,2,   36.730,2,    0.010,2,    2.576,2, -999.000,9, -999.000,9, -999.000,9, -999.000,9, -999.000,9
           NA,    P03C,    289,   1,-999.0,     -99,  2,20060103,0023,  24.2200,  144.8342,  5358, 3498.800,    1.497,   34.678,2,   34.678,2,  133.460,1,  145.820,2,  148.200,2,   36.440,2,    0.000,2,    2.558,2,    0.000,2,    0.000,2, -999.000,9, -999.000,9, -999.000,9
           NA,    P03C,    289,   1,-999.0,     -99,  2,20060103,0023,  24.2200,  144.8342,  5358, 3750.200,    1.494,   34.680,2,   34.681,2,  136.650,1,  149.010,2,  147.100,2,   36.310,2,    0.000,2,    2.540,2, -999.000,9, -999.000,9, -999.000,9, -999.000,9, -999.000,9
           NA,    P03C,    289,   1,-999.0,     -99,  2,20060103,0023,  24.2200,  144.8342,  5358, 4000.700,    1.483,   34.684,2,   34.684,2,  140.710,1,  153.100,2,  145.610,2,   36.010,2,    0.010,2,    2.522,2, -999.000,9, -999.000,9, -999.000,9, -999.000,9, -999.000,9
           NA,    P03C,    289,   1,-999.0,     -99,  2,20060103,0023,  24.2200,  144.8342,  5358, 4249.300,    1.477,   34.687,2,   34.687,6,  144.650,1,  156.940,2,  143.940,2,   35.730,2,    0.010,2,    2.499,2,    0.000,2,    0.000,2, -999.000,9, -999.000,9, -999.000,9
           NA,    P03C,    289,   1,-999.0,     -99,  2,20060103,0023,  24.2200,  144.8342,  5358, 4499.700,    1.476,   34.690,2,   34.690,2,  148.720,1,  160.890,2,  142.080,2,   35.430,2,    0.010,2,    2.480,2, -999.000,9, -999.000,9, -999.000,9, -999.000,9, -999.000,9
           NA,    P03C,    289,   1,-999.0,     -99,  2,20060103,0023,  24.2200,  144.8342,  5358, 4751.200,    1.491,   34.691,2,   34.692,2,  151.270,1,  162.960,2,  141.090,2,   35.330,2,    0.010,2,    2.465,2, -999.000,9, -999.000,9, -999.000,9, -999.000,9, -999.000,9
           NA,    P03C,    289,   1,-999.0,     -99,  2,20060103,0023,  24.2200,  144.8342,  5358, 5000.200,    1.502,   34.693,2,   34.693,2,  154.650,1,  165.770,2,  139.310,2,   35.070,2,    0.010,2,    2.452,2,    0.003,2,    0.000,2, -999.000,9, -999.000,9, -999.000,9
           NA,    P03C,    289,   1,-999.0,     -99,  2,20060103,0023,  24.2200,  144.8342,  5358, 5248.600,    1.522,   34.694,2,   34.694,2,  157.260,1,  167.540,2,  138.350,2,   35.030,2,    0.010,2,    2.444,2, -999.000,9, -999.000,9, -999.000,9, -999.000,9, -999.000,9
           NA,    P03C,    289,   1,-999.0,     -99,  2,20060103,0023,  24.2200,  144.8342,  5358, 5433.000,    1.531,   34.695,2,   34.696,6,  160.400,1,  169.600,2,  136.930,2,   34.860,2,    0.000,2,    2.434,2,    0.000,2,    0.000,2, -999.000,9, -999.000,9, -999.000,9
           NA,    P03C,    287,   1,-999.0,     -99,  2,20060102,1710,  24.2317,  145.4627,  5560,   10.400,   25.240,   34.955,2,   34.956,2,  190.520,1,  206.010,2,    1.060,2,    0.040,2,    0.000,2,    0.042,2,    1.655,2,    0.984,2, -999.000,9, 1951.100,2, 2294.400,2
           NA,    P03C,    287,   1,-999.0,     -99,  2,20060102,1710,  24.2317,  145.4627,  5560,   49.900,   25.254,   34.955,2,   34.956,2,  190.390,1,  205.920,2,    1.050,2,    0.040,2,    0.000,2,    0.042,2,    1.667,2,    0.980,2, -999.000,9, 1952.300,6, 2292.900,2
           NA,    P03C,    287,   1,-999.0,     -99,  2,20060102,1710,  24.2317,  145.4627,  5560,  100.200,   25.265,   34.954,2,   34.958,2,  190.480,1,  206.020,2,    1.070,2,    0.040,2,    0.000,2,    0.045,2,    1.676,2,    0.997,2, -999.000,9, 1954.800,2, 2292.200,6
           NA,    P03C,    287,   1,-999.0,     -99,  2,20060102,1710,  24.2317,  145.4627,  5560,  150.900,   21.914,   35.072,2,   35.072,2,  182.830,1,  198.100,2,    1.700,2,    0.420,2,    0.050,2,    0.103,2,    2.074,2,    1.185,2, -999.000,9, 2013.100,2, 2300.600,2
           NA,    P03C,    287,   1,-999.0,     -99,  2,20060102,1710,  24.2317,  145.4627,  5560,  200.700,   19.363,   34.930,2,   34.929,2,  180.810,1,  195.480,2,    2.660,2,    2.460,2,    0.010,2,    0.239,2,    2.286,2,    1.283,2, -999.000,9, 2030.500,2, 2293.100,2
           NA,    P03C,    287,   1,-999.0,     -99,  2,20060102,1710,  24.2317,  145.4627,  5560,  249.300,   18.277,   34.856,2,   34.852,2,  179.410,1,  194.110,2,    3.390,2,    4.070,2,    0.010,2,    0.335,2,    2.390,6,    1.321,6, -999.000,9, 2037.400,2, 2287.900,2
           NA,    P03C,    287,   1,-999.0,     -99,  2,20060102,1710,  24.2317,  145.4627,  5560,  299.700,   16.981,   34.751,2,   34.743,2,  183.520,1,  198.650,2,    4.600,2,    5.620,2,    0.000,2,    0.428,2,    2.522,2,    1.374,2, -999.000,9, 2043.900,2, 2281.900,2
           NA,    P03C,    287,   1,-999.0,     -99,  2,20060102,1710,  24.2317,  145.4627,  5560,  401.900,   14.678,   34.550,2,   34.547,2,  181.800,1,  196.150,2,    9.100,2,    9.320,2,    0.000,2,    0.682,2,    2.708,2,    1.418,2, -999.000,9, 2067.400,2, 2274.400,2
           NA,    P03C,    287,   1,-999.0,     -99,  2,20060102,1710,  24.2317,  145.4627,  5560,  504.200,   11.560,   34.326,2,   34.332,6,  173.870,1,  187.520,2,   18.840,2,   15.220,2,    0.000,2,    1.100,2,    2.766,2,    1.386,2, -999.000,9, 2108.200,2, 2269.500,2
           NA,    P03C,    287,   1,-999.0,     -99,  2,20060102,1710,  24.2317,  145.4627,  5560,  602.700,    8.460,   34.142,2,   34.148,2,  146.410,1,  157.310,2,   38.860,2,   23.580,2,    0.000,2,    1.715,2,    2.318,2,    1.125,2, -999.000,9, 2169.600,2, 2278.200,2
           NA,    P03C,    287,   1,-999.0,     -99,  2,20060102,1710,  24.2317,  145.4627,  5560,  698.800,    6.380,   34.071,2,   34.073,2,  114.850,1,  123.300,2,   60.790,2,   30.610,2,    0.000,2,    2.230,2,    1.778,2,    0.847,2, -999.000,9, 2223.500,6, 2292.500,2
           NA,    P03C,    287,   1,-999.0,     -99,  2,20060102,1710,  24.2317,  145.4627,  5560,  798.800,    5.025,   34.143,2,   34.147,2,   71.450,1,   75.000,2,   87.380,2,   37.440,2,    0.000,2,    2.717,2,    0.859,6,    0.407,6, -999.000,9, 2284.300,2, 2318.200,6
           NA,    P03C,    287,   1,-999.0,     -99,  2,20060102,1710,  24.2317,  145.4627,  5560,  900.500,    4.132,   34.248,2,   34.249,2,   45.890,1,   48.990,2,  108.060,2,   40.890,2,    0.000,2,    2.952,2,    0.355,2,    0.165,2, -999.000,9, 2325.700,2, 2343.000,2
           NA,    P03C,    287,   1,-999.0,     -99,  2,20060102,1710,  24.2317,  145.4627,  5560, 1000.200,    3.805,   34.316,2,   34.317,6,   40.140,1,   42.920,2,  117.480,2,   41.850,2,    0.000,2,    3.015,2,    0.179,2,    0.083,2, -999.000,9, 2341.700,2, 2351.100,2
           NA,    P03C,    287,   1,-999.0,     -99,  2,20060102,1710,  24.2317,  145.4627,  5560, 1199.900,    3.200,   34.450,2,   34.450,2,   46.360,1,   49.830,2,  132.240,2,   42.110,2,    0.000,2,    3.020,2,    0.029,2,    0.015,2, -999.000,9, 2355.700,2, 2377.100,2
           NA,    P03C,    287,   1,-999.0,     -99,  2,20060102,1710,  24.2317,  145.4627,  5560, 1400.000,    2.669,   34.513,2,   34.513,2,   55.390,1,   60.100,2,  143.830,2,   41.800,2,    0.000,2,    2.984,2,    0.010,2,    0.008,2, -999.000,9, 2363.700,2, 2389.100,2
           NA,    P03C,    287,   1,-999.0,     -99,  2,20060102,1710,  24.2317,  145.4627,  5560, 1600.700,    2.293,   34.559,2,   34.559,2,   69.310,1,   75.090,2,  149.780,2,   41.120,2,    0.000,2,    2.915,2,    0.007,2,    0.002,2, -999.000,9, 2361.200,2, 2402.700,2
           NA,    P03C,    287,   1,-999.0,     -99,  2,20060102,1710,  24.2317,  145.4627,  5560, 1800.200,    2.067,   34.591,2,   34.592,2,   83.410,1,   90.640,2,  150.880,2,   40.090,2,    0.000,2,    2.839,2,    0.003,2,    0.000,2, -999.000,9, 2355.600,2, 2403.400,2
           NA,    P03C,    287,   1,-999.0,     -99,  2,20060102,1710,  24.2317,  145.4627,  5560, 2000.500,    1.931,   34.612,2,   34.613,2,   93.560,1,  101.920,2,  150.890,2,   39.440,2,    0.000,2,    2.785,2,    0.001,2,    0.000,2, -999.000,9, 2351.800,2, 2409.600,2
           NA,    P03C,    287,   1,-999.0,     -99,  2,20060102,1710,  24.2317,  145.4627,  5560, 2200.800,    1.816,   34.629,2,   34.629,6,  101.810,1,  111.080,2,  150.880,2,   38.850,2,    0.000,2,    2.740,2,    0.001,2,    0.000,2, -999.000,9, 2348.900,2, 2411.400,2
           NA,    P03C,    287,   1,-999.0,     -99,  2,20060102,1710,  24.2317,  145.4627,  5560, 2401.200,    1.745,   34.641,2,   34.641,2,  108.210,1,  118.280,2,  150.360,2,   38.450,2,    0.000,2,    2.704,2,    0.000,2,    0.000,2, -999.000,9, 2343.900,6, 2411.800,2
           NA,    P03C,    287,   1,-999.0,     -99,  2,20060102,1710,  24.2317,  145.4627,  5560, 2600.200,    1.674,   34.651,2,   34.652,2,  114.360,1,  125.000,2,  150.260,2,   38.020,2,    0.000,2,    2.670,2, -999.000,9, -999.000,9, -999.000,9, 2339.500,2, 2414.100,6
           NA,    P03C,    287,   1,-999.0,     -99,  2,20060102,1710,  24.2317,  145.4627,  5560, 2801.500,    1.623,   34.659,2,   34.659,2,  118.850,1,  130.050,2,  149.910,2,   37.670,2,    0.000,2,    2.644,2, -999.000,9, -999.000,9, -999.000,9, 2338.700,2, 2413.900,2
           NA,    P03C,    287,   1,-999.0,     -99,  2,20060102,1710,  24.2317,  145.4627,  5560, 3000.400,    1.581,   34.665,2,   34.665,2,  122.980,1,  134.710,2,  149.890,2,   37.480,2,    0.000,2,    2.624,2,    0.001,2,    0.000,2, -999.000,9, 2337.500,2, 2412.900,2
           NA,    P03C,    287,   1,-999.0,     -99,  2,20060102,1710,  24.2317,  145.4627,  5560, 3248.400,    1.542,   34.671,2,   34.671,6,  127.620,1,  139.720,2,  149.000,2,   37.110,2,    0.000,2,    2.595,2, -999.000,9, -999.000,9, -999.000,9, 2335.200,2, 2412.200,2
           NA,    P03C,    287,   1,-999.0,     -99,  2,20060102,1710,  24.2317,  145.4627,  5560, 3499.600,    1.513,   34.676,2,   34.677,2,  132.070,1,  144.360,2,  148.300,2,   36.750,2,    0.000,2,    2.571,2, -999.000,9, -999.000,9, -999.000,9, 2331.300,2, 2414.700,2
           NA,    P03C,    287,   1,-999.0,     -99,  2,20060102,1710,  24.2317,  145.4627,  5560, 3749.500,    1.490,   34.681,2,   34.681,2,  136.450,1,  149.020,2,  147.400,2,   36.430,2,    0.000,2,    2.550,2,    0.000,2,    0.000,2, -999.000,9, 2325.800,2, 2414.300,2
           NA,    P03C,    287,   1,-999.0,     -99,  2,20060102,1710,  24.2317,  145.4627,  5560, 4000.200,    1.482,   34.684,2,   34.684,2,  139.830,1,  152.500,2,  146.450,2,   36.260,2,    0.000,2,    2.531,2, -999.000,9, -999.000,9, -999.000,9, 2321.800,2, 2412.400,2
           NA,    P03C,    287,   1,-999.0,     -99,  2,20060102,1710,  24.2317,  145.4627,  5560, 4249.900,    1.484,   34.686,2,   34.686,2,  142.990,1,  155.670,2,  145.090,2,   36.030,2,    0.000,2,    2.514,2, -999.000,9, -999.000,9, -999.000,9, 2321.400,6, 2408.500,2
           NA,    P03C,    287,   1,-999.0,     -99,  2,20060102,1710,  24.2317,  145.4627,  5560, 4500.300,    1.486,   34.689,2,   34.689,6,  146.750,1,  159.180,2,  143.300,2,   35.770,2,    0.000,2,    2.493,2,    0.000,2,    0.000,2, -999.000,9, 2318.700,2, 2410.500,6
           NA,    P03C,    287,   1,-999.0,     -99,  2,20060102,1710,  24.2317,  145.4627,  5560, 4750.600,    1.489,   34.691,2,   34.692,2,  150.690,1,  162.890,2,  141.150,2,   35.470,2,    0.000,2,    2.473,2, -999.000,9, -999.000,9, -999.000,9, 2315.900,2, 2406.600,2
           NA,    P03C,    287,   1,-999.0,     -99,  2,20060102,1710,  24.2317,  145.4627,  5560, 4999.700,    1.498,   34.693,2,   34.693,2,  154.430,1,  166.230,2,  139.280,2,   35.300,2,    0.000,2,    2.456,2,    0.002,2,    0.000,2, -999.000,9, 2311.500,2, 2406.200,2
           NA,    P03C,    287,   1,-999.0,     -99,  2,20060102,1710,  24.2317,  145.4627,  5560, 5249.200,    1.512,   34.695,2,   34.695,2,  157.760,1,  168.990,2,  137.430,2,   35.040,2,    0.000,2,    2.438,2, -999.000,9, -999.000,9, -999.000,9, 2307.400,2, 2403.800,2
           NA,    P03C,    287,   1,-999.0,     -99,  2,20060102,1710,  24.2317,  145.4627,  5560, 5499.100,    1.530,   34.696,2,   34.696,2,  160.820,1,  171.100,2,  136.170,2,   34.840,2,    0.000,2,    2.427,2, -999.000,9, -999.000,9, -999.000,9, 2304.700,2, 2403.600,2
           NA,    P03C,    287,   1,-999.0,     -99,  2,20060102,1710,  24.2317,  145.4627,  5560, 5645.300,    1.538,   34.697,2,   34.697,6,  163.520,1,  173.010,2,  134.930,2,   34.810,2,    0.000,2,    2.421,2,    0.000,2,    0.000,2, -999.000,9, 2303.600,2, 2401.400,2