BOTTLE,20211903JOAExport
EXPOCODE,SECT_ID,STNNBR,CASTNO,SAMPNO,BTLNBR,BTLNBR_FLAG_W,DATE,TIME,LATITUDE,LONGITUDE,DEPTH,CTDPRS,CTDTMP,CTDSAL,CTDSAL_FLAG_W,SALNTY,SALNTY_FLAG_W,CTDOXY,CTDOXY_FLAG_W,OXYGEN,OXYGEN_FLAG_W,SILCAT,SILCAT_FLAG_W,NITRAT,NITRAT_FLAG_W,NITRIT,NITRIT_FLAG_W,PHSPHT,PHSPHT_FLAG_W,CFC-11,CFC-11_FLAG_W,CFC-12,CFC-12_FLAG_W,SF6,SF6_FLAG_W,TCARBN,TCARBN_FLAG_W,ALKALI,ALKALI_FLAG_W
,,,,,,,,,,,,DB,ITS-90,PSS-78,,PSS-78,,UMOL/KG,,UMOL/KG,,UMOL/KG,,UMOL/KG,,UMOL/KG,,UMOL/KG,,PMOL/KG,,PMOL/KG,,FMOL/KG,,UMOL/KG,,UMOL/KG
           NA,    P03E,    X16,   1,-999.0,     -99,  2,20051115,1632,  24.0070, -151.9853,  5467,    9.000,   24.291,   35.346,2,   35.345,2,  196.150,1,  211.760,2,    0.850,2,    0.040,2,    0.000,2,    0.048,2,    1.746,2,    1.065,2, -999.000,9, 1997.600,2, 2328.300,2
           NA,    P03E,    X16,   1,-999.0,     -99,  2,20051115,1632,  24.0070, -151.9853,  5467,   50.000,   24.268,   35.355,2,   35.356,2,  196.440,1,  211.870,2,    0.840,2,    0.020,2,    0.000,2,    0.046,2,    1.746,2,    1.068,2, -999.000,9, 1998.000,6, 2326.400,2
           NA,    P03E,    X16,   1,-999.0,     -99,  2,20051115,1632,  24.0070, -151.9853,  5467,   99.600,   22.595,   35.242,2,   35.242,2,  203.200,1,  219.320,2,    1.070,2,    0.040,2,    0.000,2,    0.058,2,    1.958,2,    1.167,2, -999.000,9, 2009.100,2, 2321.300,6
           NA,    P03E,    X16,   1,-999.0,     -99,  2,20051115,1632,  24.0070, -151.9853,  5467,  150.100,   20.705,   35.123,2,   35.112,2,  194.910,1,  210.400,2,    1.740,2,    0.490,2,    0.110,2,    0.114,2,    2.131,2,    1.258,2, -999.000,9, 2025.400,2, 2308.200,2
           NA,    P03E,    X16,   1,-999.0,     -99,  2,20051115,1632,  24.0070, -151.9853,  5467,  199.500,   18.254,   34.867,2,   34.867,2,  188.460,1,  203.990,2,    2.780,2,    2.290,2,    0.010,2,    0.242,2,    2.331,2,    1.353,2, -999.000,9, 2039.400,2, 2291.100,2
           NA,    P03E,    X16,   1,-999.0,     -99,  2,20051115,1632,  24.0070, -151.9853,  5467,  248.800,   15.683,   34.550,2,   34.541,2,  191.480,1,  206.000,2,    4.830,2,    5.020,2,    0.010,2,    0.428,2,    2.606,6,    1.489,6, -999.000,9, 2049.500,2, 2279.400,2
           NA,    P03E,    X16,   1,-999.0,     -99,  2,20051115,1632,  24.0070, -151.9853,  5467,  299.900,   13.469,   34.362,2,   34.357,2,  198.300,1,  213.210,2,    8.020,2,    8.400,2,    0.010,2,    0.650,2,    2.830,2,    1.589,2, -999.000,9, 2062.400,2, 2259.600,2
           NA,    P03E,    X16,   1,-999.0,     -99,  2,20051115,1632,  24.0070, -151.9853,  5467,  401.500,   10.132,   34.106,2,   34.111,2,  175.420,1,  185.700,2,   19.290,2,   17.250,2,    0.000,2,    1.288,2,    2.962,2,    1.568,2, -999.000,9, 2117.900,2, 2257.000,2
           NA,    P03E,    X16,   1,-999.0,     -99,  2,20051115,1632,  24.0070, -151.9853,  5467,  500.100,    7.900,   34.057,2,   34.056,6,  128.220,1,  136.160,2,   38.430,2,   26.880,2,    0.000,2,    1.952,2,    2.253,2,    1.089,2, -999.000,9, 2185.300,2, 2274.200,2
           NA,    P03E,    X16,   1,-999.0,     -99,  2,20051115,1632,  24.0070, -151.9853,  5467,  600.700,    5.805,   34.038,2,   34.039,2,   79.030,1,   85.090,2,   65.410,2,   35.390,2,    0.000,2,    2.562,2,    1.048,2,    0.511,2, -999.000,9, 2253.300,2, 2292.100,2
           NA,    P03E,    X16,   1,-999.0,     -99,  2,20051115,1632,  24.0070, -151.9853,  5467,  700.700,    4.918,   34.168,2,   34.167,2,   31.350,1,   33.570,2,   88.970,2,   41.140,2,    0.000,2,    3.017,2,    0.214,2,    0.113,2, -999.000,9, 2312.100,6, 2317.100,2
           NA,    P03E,    X16,   1,-999.0,     -99,  2,20051115,1632,  24.0070, -151.9853,  5467,  798.900,    4.582,   34.294,2,   34.295,2,   20.720,1,   21.940,2,   99.810,2,   42.720,2,    0.000,2,    3.140,2,    0.049,6,    0.028,6, -999.000,9, 2334.000,2, 2338.400,6
           NA,    P03E,    X16,   1,-999.0,     -99,  2,20051115,1632,  24.0070, -151.9853,  5467,  901.100,    4.203,   34.384,2,   34.384,2,   23.620,1,   25.270,2,  108.830,2,   43.120,2,    0.000,2,    3.160,2,    0.015,2,    0.009,2, -999.000,9, 2344.800,2, 2352.200,2
           NA,    P03E,    X16,   1,-999.0,     -99,  2,20051115,1632,  24.0070, -151.9853,  5467, 1001.600,    3.896,   34.458,2,   34.457,6,   33.450,1,   35.990,2,  114.760,2,   42.930,2,    0.000,2,    3.116,2,    0.013,2,    0.007,2, -999.000,9, 2347.700,2, 2368.400,2
           NA,    P03E,    X16,   1,-999.0,     -99,  2,20051115,1632,  24.0070, -151.9853,  5467, 1201.800,    3.434,   34.527,2,   34.526,2,   48.250,1,   52.010,2,  123.820,2,   42.320,2,    0.000,2,    3.060,2,    0.011,2,    0.009,2, -999.000,9, 2350.600,2, 2379.100,2
           NA,    P03E,    X16,   1,-999.0,     -99,  2,20051115,1632,  24.0070, -151.9853,  5467, 1400.200,    3.079,   34.563,2,   34.562,2,   55.590,1,   60.090,2,  131.350,2,   41.980,2,    0.000,2,    3.029,2,    0.002,2,    0.001,2, -999.000,9, 2355.700,2, 2389.000,2
           NA,    P03E,    X16,   1,-999.0,     -99,  2,20051115,1632,  24.0070, -151.9853,  5467, 1600.600,    2.736,   34.584,2,   34.583,2,   63.530,1,   68.840,2,  139.230,2,   41.580,2,    0.000,2,    2.989,2,    0.000,2,    0.000,2, -999.000,9, 2356.100,2, 2401.300,2
           NA,    P03E,    X16,   1,-999.0,     -99,  2,20051115,1632,  24.0070, -151.9853,  5467, 1800.700,    2.425,   34.603,2,   34.602,2,   72.340,1,   78.710,2,  146.190,2,   41.000,2,    0.000,2,    2.930,2,    0.005,2,    0.005,2, -999.000,9, 2358.500,2, 2408.700,2
           NA,    P03E,    X16,   1,-999.0,     -99,  2,20051115,1632,  24.0070, -151.9853,  5467, 2001.900,    2.176,   34.618,2,   34.618,2,   80.160,1,   87.300,2,  151.930,2,   40.480,2,    0.000,2,    2.874,2,    0.000,2,    0.000,2, -999.000,9, 2359.500,2, 2414.000,2
           NA,    P03E,    X16,   1,-999.0,     -99,  2,20051115,1632,  24.0070, -151.9853,  5467, 2201.000,    1.992,   34.632,2,   34.631,6,   87.090,1,   95.170,2,  156.250,2,   39.960,2,    0.000,2,    2.832,2,    0.005,2,    0.002,2, -999.000,9, 2359.300,2, 2416.900,2
           NA,    P03E,    X16,   1,-999.0,     -99,  2,20051115,1632,  24.0070, -151.9853,  5467, 2399.400,    1.861,   34.641,2,   34.640,2,   91.590,1,  100.060,2,  160.290,2,   39.760,2,    0.000,2,    2.809,2, -999.000,9, -999.000,9, -999.000,9, 2358.100,6, 2418.900,2
           NA,    P03E,    X16,   1,-999.0,     -99,  2,20051115,1632,  24.0070, -151.9853,  5467, 2600.600,    1.745,   34.652,2,   34.651,2,   99.240,1,  108.430,2,  161.280,2,   39.260,2,    0.000,2,    2.764,2,    0.000,2,    0.000,2, -999.000,9, 2354.600,2, 2420.400,2
           NA,    P03E,    X16,   1,-999.0,     -99,  2,20051115,1632,  24.0070, -151.9853,  5467, 2801.300,    1.660,   34.659,2,   34.659,2,  105.240,1,  115.190,2,  161.990,2,   38.720,2,    0.000,2,    2.724,2, -999.000,9, -999.000,9, -999.000,9, 2350.900,2, 2422.900,2
           NA,    P03E,    X16,   1,-999.0,     -99,  2,20051115,1632,  24.0070, -151.9853,  5467, 3000.500,    1.602,   34.667,2,   34.667,2,  110.660,1,  121.130,2,  162.480,2,   38.390,2,    0.000,2,    2.692,2,    0.000,2,    0.003,2, -999.000,9, 2348.400,2, 2423.400,2
           NA,    P03E,    X16,   1,-999.0,     -99,  2,20051115,1632,  24.0070, -151.9853,  5467, 3252.200,    1.555,   34.673,2,   34.673,2,  116.100,1,  126.990,2,  163.130,2,   38.030,2,    0.000,2,    2.664,2, -999.000,9, -999.000,9, -999.000,9, 2345.800,2, 2425.500,2
           NA,    P03E,    X16,   1,-999.0,     -99,  2,20051115,1632,  24.0070, -151.9853,  5467, 3500.700,    1.522,   34.678,2,   34.678,2,  121.890,1,  133.350,2,  161.950,2,   37.600,2,    0.000,2,    2.632,2,    0.000,2,    0.000,2, -999.000,9, 2341.600,2, 2424.400,2
           NA,    P03E,    X16,   1,-999.0,     -99,  2,20051115,1632,  24.0070, -151.9853,  5467, 3750.300,    1.503,   34.682,2,   34.682,2,  126.990,1,  138.760,2,  160.260,2,   37.310,2,    0.000,2,    2.599,2, -999.000,9, -999.000,9, -999.000,9, 2337.700,2, 2425.100,2
           NA,    P03E,    X16,   1,-999.0,     -99,  2,20051115,1632,  24.0070, -151.9853,  5467, 4000.400,    1.489,   34.685,2,   34.685,6,  132.670,1,  144.750,2,  156.960,2,   36.780,2,    0.000,2,    2.564,2,    0.000,2,    0.001,2, -999.000,9, 2332.100,2, 2421.200,2
           NA,    P03E,    X16,   1,-999.0,     -99,  2,20051115,1632,  24.0070, -151.9853,  5467, 4250.100,    1.489,   34.687,2,   34.687,2,  136.930,1,  149.090,2,  154.510,2,   36.490,2,    0.000,2,    2.544,2, -999.000,9, -999.000,9, -999.000,9, 2328.600,6, 2423.100,2
           NA,    P03E,    X16,   1,-999.0,     -99,  2,20051115,1632,  24.0070, -151.9853,  5467, 4500.900,    1.485,   34.690,2,   34.689,2,  141.970,1,  154.020,2,  150.780,2,   36.150,2,    0.000,2,    2.515,2,    0.005,2,    0.008,2, -999.000,9, 2324.300,2, 2418.700,6
           NA,    P03E,    X16,   1,-999.0,     -99,  2,20051115,1632,  24.0070, -151.9853,  5467, 4749.100,    1.487,   34.692,2,   34.692,2,  146.500,1,  158.220,2,  147.810,2,   35.900,2,    0.000,2,    2.496,2, -999.000,9, -999.000,9, -999.000,9, 2315.200,2, 2413.600,2
           NA,    P03E,    X16,   1,-999.0,     -99,  2,20051115,1632,  24.0070, -151.9853,  5467, 5000.400,    1.485,   34.694,2,   34.694,2,  151.770,1,  163.270,2,  144.070,2,   35.510,2,    0.000,2,    2.470,2,    0.003,2,    0.008,2, -999.000,9, 2311.800,2, 2409.900,2
           NA,    P03E,    X16,   1,-999.0,     -99,  2,20051115,1632,  24.0070, -151.9853,  5467, 5249.400,    1.497,   34.695,2,   34.695,6,  155.290,1,  166.200,2,  141.910,2,   35.240,2,    0.000,2,    2.450,2, -999.000,9, -999.000,9, -999.000,9, 2309.500,2, 2410.800,2
           NA,    P03E,    X16,   1,-999.0,     -99,  2,20051115,1632,  24.0070, -151.9853,  5467, 5531.800,    1.531,   34.695,2,   34.695,6,  157.170,1,  166.920,2,  141.520,2,   35.210,2,    0.000,2,    2.455,2,    0.000,2,    0.007,2, -999.000,9, 2308.300,2, 2409.200,2
           NA,    P03E,    100,   1,-999.0,     -99,  2,20051115,0953,  24.2680, -151.3197,  5457,    9.300,   24.362,   35.336,2,   35.336,2,  195.950,1,  211.130,2,    0.940,2,    0.020,2,    0.000,2,    0.048,2,    1.736,2,    1.068,2, -999.000,9, -999.000,9, -999.000,9
           NA,    P03E,    100,   1,-999.0,     -99,  2,20051115,0953,  24.2680, -151.3197,  5457,   50.100,   24.339,   35.327,2,   35.327,2,  196.000,1,  211.120,2,    0.930,2,    0.020,2,    0.000,2,    0.048,2,    1.748,2,    1.073,2, -999.000,9, -999.000,9, -999.000,9
           NA,    P03E,    100,   1,-999.0,     -99,  2,20051115,0953,  24.2680, -151.3197,  5457,  100.900,   22.693,   35.243,2,   35.243,2,  202.630,1,  217.020,2,    1.140,2,    0.020,2,    0.010,2,    0.050,2,    1.944,2,    1.184,2, -999.000,9, -999.000,9, -999.000,9
           NA,    P03E,    100,   1,-999.0,     -99,  2,20051115,0953,  24.2680, -151.3197,  5457,  150.300,   20.352,   35.102,2,   35.100,2,  183.090,1,  197.250,2,    1.810,2,    1.370,2,    0.040,2,    0.179,2,    2.155,2,    1.273,2, -999.000,9, -999.000,9, -999.000,9
           NA,    P03E,    100,   1,-999.0,     -99,  2,20051115,0953,  24.2680, -151.3197,  5457,  200.900,   17.828,   34.834,2,   34.792,2,  192.510,1,  206.710,2,    3.290,2,    2.570,2,    0.020,2,    0.270,2,    2.443,2,    1.392,2, -999.000,9, -999.000,9, -999.000,9
           NA,    P03E,    100,   1,-999.0,     -99,  2,20051115,0953,  24.2680, -151.3197,  5457,  250.400,   14.206,   34.395,2,   34.386,2,  195.260,1,  209.660,2,    6.590,2,    7.100,2,    0.010,2,    0.561,2,    2.830,6,    1.553,6, -999.000,9, -999.000,9, -999.000,9
           NA,    P03E,    100,   1,-999.0,     -99,  2,20051115,0953,  24.2680, -151.3197,  5457,  299.300,   12.389,   34.245,2,   34.240,2,  198.770,1,  212.960,2,    9.930,2,   10.210,2,    0.010,2,    0.765,2,    3.048,2,    1.631,2, -999.000,9, -999.000,9, -999.000,9
           NA,    P03E,    100,   1,-999.0,     -99,  2,20051115,0953,  24.2680, -151.3197,  5457,  400.300,    9.470,   34.111,2,   34.110,2,  168.350,1,  179.680,2,   23.910,2,   19.540,2,    0.010,2,    1.425,2,    2.944,2,    1.467,2, -999.000,9, -999.000,9, -999.000,9
           NA,    P03E,    100,   1,-999.0,     -99,  2,20051115,0953,  24.2680, -151.3197,  5457,  500.400,    7.304,   34.036,2,   34.036,6,  118.400,1,  125.970,2,   44.340,2,   28.960,2,    0.000,2,    2.098,2,    2.053,2,    0.957,2, -999.000,9, -999.000,9, -999.000,9
           NA,    P03E,    100,   1,-999.0,     -99,  2,20051115,0953,  24.2680, -151.3197,  5457,  599.800,    5.682,   34.056,2,   34.057,2,   68.400,1,   72.570,2,   69.220,2,   36.540,2,    0.010,2,    2.667,2,    0.912,2,    0.422,2, -999.000,9, -999.000,9, -999.000,9
           NA,    P03E,    100,   1,-999.0,     -99,  2,20051115,0953,  24.2680, -151.3197,  5457,  699.500,    4.936,   34.171,2,   34.172,2,   27.580,1,   29.170,2,   89.090,2,   41.420,2,    0.000,2,    3.053,2,    0.187,2,    0.087,2, -999.000,9, -999.000,9, -999.000,9
           NA,    P03E,    100,   1,-999.0,     -99,  2,20051115,0953,  24.2680, -151.3197,  5457,  800.900,    4.508,   34.292,2,   34.292,2,   18.420,1,   19.960,2,  101.510,2,   42.830,2,    0.010,2,    3.161,2,    0.044,6,    0.018,6, -999.000,9, -999.000,9, -999.000,9
           NA,    P03E,    100,   1,-999.0,     -99,  2,20051115,0953,  24.2680, -151.3197,  5457,  900.400,    4.226,   34.388,2,   34.388,2,   23.530,1,   25.050,2,  108.340,2,   43.080,2,    0.000,2,    3.151,2,    0.016,2,    0.008,2, -999.000,9, -999.000,9, -999.000,9
           NA,    P03E,    100,   1,-999.0,     -99,  2,20051115,0953,  24.2680, -151.3197,  5457,  999.900,    3.956,   34.451,2,   34.451,6,   32.200,1,   35.150,2,  113.870,2,   42.870,2,    0.000,2,    3.123,2,    0.020,2,    0.005,2, -999.000,9, -999.000,9, -999.000,9
           NA,    P03E,    100,   1,-999.0,     -99,  2,20051115,0953,  24.2680, -151.3197,  5457, 1199.500,    3.461,   34.517,2,   34.517,2,   46.100,1,   49.740,2,  123.730,2,   42.390,2,    0.000,2,    3.070,2,    0.010,2,    0.001,2, -999.000,9, -999.000,9, -999.000,9
           NA,    P03E,    100,   1,-999.0,     -99,  2,20051115,0953,  24.2680, -151.3197,  5457, 1401.200,    3.057,   34.553,2,   34.553,2,   54.800,1,   59.210,2,  132.730,2,   42.010,2,    0.000,2,    3.031,2,    0.000,2,    0.000,2, -999.000,9, -999.000,9, -999.000,9
           NA,    P03E,    100,   1,-999.0,     -99,  2,20051115,0953,  24.2680, -151.3197,  5457, 1600.800,    2.693,   34.577,2,   34.577,2,   63.010,1,   68.150,2,  141.260,2,   41.510,2,    0.000,2,    2.989,2,    0.000,2,    0.000,2, -999.000,9, -999.000,9, -999.000,9
           NA,    P03E,    100,   1,-999.0,     -99,  2,20051115,0953,  24.2680, -151.3197,  5457, 1799.500,    2.402,   34.597,2,   34.597,2,   70.420,1,   76.470,2,  148.380,2,   41.160,2,    0.000,2,    2.940,2,    0.001,2,    0.000,2, -999.000,9, -999.000,9, -999.000,9
           NA,    P03E,    100,   1,-999.0,     -99,  2,20051115,0953,  24.2680, -151.3197,  5457, 2001.000,    2.154,   34.615,2,   34.615,2,   77.200,1,   83.660,2,  154.990,2,   40.660,2,    0.000,2,    2.895,2,    0.006,2,    0.000,2, -999.000,9, -999.000,9, -999.000,9
           NA,    P03E,    100,   1,-999.0,     -99,  2,20051115,0953,  24.2680, -151.3197,  5457, 2200.400,    1.993,   34.631,2,   34.630,6,   86.490,1,   94.240,2,  156.970,2,   40.020,2,    0.000,2,    2.845,2,    0.010,2,    0.000,2, -999.000,9, -999.000,9, -999.000,9
           NA,    P03E,    100,   1,-999.0,     -99,  2,20051115,0953,  24.2680, -151.3197,  5457, 2400.900,    1.862,   34.640,2,   34.640,2,   92.180,1,  100.600,2,  159.890,2,   39.690,2,    0.000,2,    2.810,2,    0.002,2,    0.000,2, -999.000,9, -999.000,9, -999.000,9
           NA,    P03E,    100,   1,-999.0,     -99,  2,20051115,0953,  24.2680, -151.3197,  5457, 2600.700,    1.769,   34.649,2,   34.648,2,   96.790,1,  105.550,2,  162.350,2,   39.320,2,    0.010,2,    2.778,2, -999.000,9, -999.000,9, -999.000,9, -999.000,9, -999.000,9
           NA,    P03E,    100,   1,-999.0,     -99,  2,20051115,0953,  24.2680, -151.3197,  5457, 2799.500,    1.683,   34.657,2,   34.657,2,  102.920,1,  112.380,2,  163.610,2,   38.890,2,    0.000,2,    2.745,2,    0.000,2,    0.000,2, -999.000,9, -999.000,9, -999.000,9
           NA,    P03E,    100,   1,-999.0,     -99,  2,20051115,0953,  24.2680, -151.3197,  5457, 2999.400,    1.608,   34.666,2,   34.666,2,  109.470,1,  119.710,2,  163.940,2,   38.480,2,    0.010,2,    2.703,2, -999.000,9, -999.000,9, -999.000,9, -999.000,9, -999.000,9
           NA,    P03E,    100,   1,-999.0,     -99,  2,20051115,0953,  24.2680, -151.3197,  5457, 3250.200,    1.558,   34.673,2,   34.672,6,  116.120,1,  126.770,2,  163.130,2,   38.010,2,    0.000,2,    2.654,2,    0.000,2,    0.000,2, -999.000,9, -999.000,9, -999.000,9
           NA,    P03E,    100,   1,-999.0,     -99,  2,20051115,0953,  24.2680, -151.3197,  5457, 3501.400,    1.524,   34.678,2,   34.678,2,  122.010,1,  133.230,2,  161.850,2,   37.480,2,    0.000,2,    2.627,2, -999.000,9, -999.000,9, -999.000,9, -999.000,9, -999.000,9
           NA,    P03E,    100,   1,-999.0,     -99,  2,20051115,0953,  24.2680, -151.3197,  5457, 3751.500,    1.503,   34.682,2,   34.681,2,  127.290,1,  138.810,2,  160.400,2,   37.240,2,    0.000,2,    2.601,2,    0.000,2,    0.000,2, -999.000,9, -999.000,9, -999.000,9
           NA,    P03E,    100,   1,-999.0,     -99,  2,20051115,0953,  24.2680, -151.3197,  5457, 4000.400,    1.488,   34.685,2,   34.685,2,  132.630,1,  144.220,2,  157.810,2,   36.900,2,    0.000,2,    2.573,2, -999.000,9, -999.000,9, -999.000,9, -999.000,9, -999.000,9
           NA,    P03E,    100,   1,-999.0,     -99,  2,20051115,0953,  24.2680, -151.3197,  5457, 4250.600,    1.488,   34.687,2,   34.687,2,  136.840,1,  148.520,2,  155.420,2,   36.490,2,    0.010,2,    2.546,2,    0.000,2,    0.001,2, -999.000,9, -999.000,9, -999.000,9
           NA,    P03E,    100,   1,-999.0,     -99,  3,20051115,0953,  24.2680, -151.3197,  5457, 4500.900,    1.491,   34.689,2,   34.690,6,  141.380,1,  153.050,2,  151.840,2,   36.200,2,    0.010,2,    2.523,2, -999.000,9, -999.000,9, -999.000,9, -999.000,9, -999.000,9
           NA,    P03E,    100,   1,-999.0,     -99,  2,20051115,0953,  24.2680, -151.3197,  5457, 4750.500,    1.488,   34.692,2,   34.692,2,  146.570,1,  158.010,2,  147.940,2,   35.810,2,    0.000,2,    2.497,2,    0.000,2,    0.000,2, -999.000,9, -999.000,9, -999.000,9
           NA,    P03E,    100,   1,-999.0,     -99,  2,20051115,0953,  24.2680, -151.3197,  5457, 5000.800,    1.489,   34.694,2,   34.694,2,  151.390,1,  162.580,2,  144.810,2,   35.470,2,    0.000,2,    2.469,2, -999.000,9, -999.000,9, -999.000,9, -999.000,9, -999.000,9
           NA,    P03E,    100,   1,-999.0,     -99,  2,20051115,0953,  24.2680, -151.3197,  5457, 5250.200,    1.500,   34.695,2,   34.695,2,  155.200,1,  165.810,2,  142.140,2,   35.300,2,    0.000,2,    2.459,2,    0.003,2,    0.002,2, -999.000,9, -999.000,9, -999.000,9
           NA,    P03E,    100,   1,-999.0,     -99,  2,20051115,0953,  24.2680, -151.3197,  5457, 5500.500,    1.526,   34.695,2,   34.695,2,  157.350,1,  166.880,2,  141.460,2,   35.240,2,    0.000,2,    2.442,2, -999.000,9, -999.000,9, -999.000,9, -999.000,9, -999.000,9
           NA,    P03E,    100,   1,-999.0,     -99,  2,20051115,0953,  24.2680, -151.3197,  5457, 5563.500,    1.534,   34.695,2,   34.695,6,  158.190,1,  167.160,2,  141.210,2,   35.270,2,    0.000,2,    2.449,2,    0.000,2,    0.001,2, -999.000,9, -999.000,9, -999.000,9