BOTTLE,20211903JOAExport
EXPOCODE,SECT_ID,STNNBR,CASTNO,SAMPNO,BTLNBR,BTLNBR_FLAG_W,DATE,TIME,LATITUDE,LONGITUDE,DEPTH,CTDPRS,CTDTMP,CTDSAL,CTDSAL_FLAG_W,SALNTY,SALNTY_FLAG_W,CTDOXY,CTDOXY_FLAG_W,OXYGEN,OXYGEN_FLAG_W,SILCAT,SILCAT_FLAG_W,NITRAT,NITRAT_FLAG_W,NITRIT,NITRIT_FLAG_W,PHSPHT,PHSPHT_FLAG_W,CFC-11,CFC-11_FLAG_W,CFC-12,CFC-12_FLAG_W,SF6,SF6_FLAG_W,TCARBN,TCARBN_FLAG_W,ALKALI,ALKALI_FLAG_W
,,,,,,,,,,,,DB,ITS-90,PSS-78,,PSS-78,,UMOL/KG,,UMOL/KG,,UMOL/KG,,UMOL/KG,,UMOL/KG,,UMOL/KG,,PMOL/KG,,PMOL/KG,,FMOL/KG,,UMOL/KG,,UMOL/KG
           NA,    P03E,     86,   1,-999.0,     -99,  2,20051113,1135,  24.2397, -146.2260,  5258,    9.200,   23.940,   35.162,2,   35.163,2,  199.510,1,  212.220,2,    0.950,2,    0.040,2,    0.000,2,    0.090,2,    1.793,2,    1.066,2, -999.000,9, -999.000,9, -999.000,9
           NA,    P03E,     86,   1,-999.0,     -99,  2,20051113,1135,  24.2397, -146.2260,  5258,   49.900,   23.864,   35.243,2,   35.238,2,  200.060,1,  212.560,2,    0.960,2,    0.030,2,    0.000,2,    0.080,2,    1.802,2,    1.072,2, -999.000,9, -999.000,9, -999.000,9
           NA,    P03E,     86,   1,-999.0,     -99,  2,20051113,1135,  24.2397, -146.2260,  5258,  100.800,   21.763,   35.191,2,   35.198,2,  211.700,1,  224.580,2,    1.480,2,    0.030,2,    0.000,2,    0.062,2,    2.101,2,    1.246,2, -999.000,9, -999.000,9, -999.000,9
           NA,    P03E,     86,   1,-999.0,     -99,  2,20051113,1135,  24.2397, -146.2260,  5258,  150.200,   19.366,   34.973,2,   34.975,2,  193.790,1,  205.970,2,    2.140,2,    1.150,2,    0.060,2,    0.198,2,    2.301,2,    1.314,2, -999.000,9, -999.000,9, -999.000,9
           NA,    P03E,     86,   1,-999.0,     -99,  2,20051113,1135,  24.2397, -146.2260,  5258,  202.300,   15.098,   34.359,2,   34.371,2,  187.520,1,  199.080,2,    5.110,2,    5.660,2,    0.000,2,    0.531,2,    2.763,2,    1.496,2, -999.000,9, -999.000,9, -999.000,9
           NA,    P03E,     86,   1,-999.0,     -99,  2,20051113,1135,  24.2397, -146.2260,  5258,  252.300,   12.528,   34.076,2,   34.079,2,  178.870,1,  189.470,2,    9.500,2,   10.570,2,    0.000,2,    0.894,2,    3.000,6,    1.573,6, -999.000,9, -999.000,9, -999.000,9
           NA,    P03E,     86,   1,-999.0,     -99,  2,20051113,1135,  24.2397, -146.2260,  5258,  302.300,   10.969,   34.129,2,   34.127,2,  192.320,1,  203.580,2,   14.010,2,   13.650,2,    0.000,2,    1.023,2,    3.225,2,    1.650,2, -999.000,9, -999.000,9, -999.000,9
           NA,    P03E,     86,   1,-999.0,     -99,  2,20051113,1135,  24.2397, -146.2260,  5258,  402.000,    9.036,   34.096,2,   34.097,2,  171.920,1,  182.420,2,   26.120,2,   20.160,2,    0.000,2,    1.446,2,    3.060,2,    1.491,2, -999.000,9, -999.000,9, -999.000,9
           NA,    P03E,     86,   1,-999.0,     -99,  2,20051113,1135,  24.2397, -146.2260,  5258,  499.400,    6.565,   34.022,2,   34.022,6,  107.810,1,  114.880,2,   52.700,2,   31.240,2,    0.000,2,    2.258,2,    1.774,2,    0.806,2, -999.000,9, -999.000,9, -999.000,9
           NA,    P03E,     86,   1,-999.0,     -99,  2,20051113,1135,  24.2397, -146.2260,  5258,  601.300,    5.443,   34.104,2,   34.102,2,   47.860,1,   51.310,2,   75.440,2,   38.570,2,    0.000,2,    2.833,2,    0.539,2,    0.246,2, -999.000,9, -999.000,9, -999.000,9
           NA,    P03E,     86,   1,-999.0,     -99,  2,20051113,1135,  24.2397, -146.2260,  5258,  701.900,    4.766,   34.244,2,   34.241,2,   20.350,1,   21.860,2,   94.720,2,   42.200,2,    0.000,2,    3.119,2, -999.000,5, -999.000,5, -999.000,9, -999.000,9, -999.000,9
           NA,    P03E,     86,   1,-999.0,     -99,  2,20051113,1135,  24.2397, -146.2260,  5258,  801.200,    4.502,   34.353,2,   34.351,2,   20.870,1,   22.160,2,  101.870,2,   42.860,2,    0.000,2,    3.164,2,    0.010,6,    0.001,6, -999.000,9, -999.000,9, -999.000,9
           NA,    P03E,     86,   1,-999.0,     -99,  2,20051113,1135,  24.2397, -146.2260,  5258,  897.400,    4.333,   34.439,2,   34.438,2,   30.390,1,   32.260,2,  105.190,2,   42.620,2,    0.000,2,    3.117,2,    0.007,2,    0.000,2, -999.000,9, -999.000,9, -999.000,9
           NA,    P03E,     86,   1,-999.0,     -99,  2,20051113,1135,  24.2397, -146.2260,  5258, 1000.300,    4.075,   34.479,2,   34.479,6,   36.750,1,   38.920,2,  109.890,2,   42.500,2,    0.000,2,    3.100,2,    0.003,2,    0.000,2, -999.000,9, -999.000,9, -999.000,9
           NA,    P03E,     86,   1,-999.0,     -99,  2,20051113,1135,  24.2397, -146.2260,  5258, 1200.100,    3.532,   34.521,2,   34.522,2,   46.190,1,   49.180,2,  121.870,2,   42.370,2,    0.000,2,    3.072,2,    0.000,2,    0.000,2, -999.000,9, -999.000,9, -999.000,9
           NA,    P03E,     86,   1,-999.0,     -99,  2,20051113,1135,  24.2397, -146.2260,  5258, 1398.500,    3.090,   34.552,2,   34.552,2,   54.120,1,   57.720,2,  131.950,2,   42.060,2,    0.000,2,    3.038,2,    0.007,2,    0.003,2, -999.000,9, -999.000,9, -999.000,9
           NA,    P03E,     86,   1,-999.0,     -99,  2,20051113,1135,  24.2397, -146.2260,  5258, 1598.800,    2.712,   34.577,2,   34.577,2,   63.120,1,   67.640,2,  140.680,2,   41.530,2,    0.000,2,    2.980,2,    0.000,2,    0.001,2, -999.000,9, -999.000,9, -999.000,9
           NA,    P03E,     86,   1,-999.0,     -99,  2,20051113,1135,  24.2397, -146.2260,  5258, 1799.200,    2.375,   34.599,2,   34.599,2,   70.750,1,   76.080,2,  149.560,2,   41.030,2,    0.000,2,    2.931,2,    0.000,2,    0.000,2, -999.000,9, -999.000,9, -999.000,9
           NA,    P03E,     86,   1,-999.0,     -99,  2,20051113,1135,  24.2397, -146.2260,  5258, 2002.000,    2.122,   34.616,2,   34.617,6,   77.150,1,   82.660,2,  157.090,2,   40.680,2,    0.000,2,    2.896,2,    0.000,2,    0.000,2, -999.000,9, -999.000,9, -999.000,9
           NA,    P03E,     86,   1,-999.0,     -99,  2,20051113,1135,  24.2397, -146.2260,  5258, 2200.800,    1.927,   34.632,2,   34.632,2,   85.210,1,   91.720,2,  161.590,2,   40.170,2,    0.000,2,    2.853,2, -999.000,9, -999.000,9, -999.000,9, -999.000,9, -999.000,9
           NA,    P03E,     86,   1,-999.0,     -99,  2,20051113,1135,  24.2397, -146.2260,  5258, 2400.800,    1.767,   34.646,2,   34.646,2,   93.560,1,  100.800,2,  165.340,2,   39.640,2,    0.000,2,    2.800,2, -999.000,9, -999.000,9, -999.000,9, -999.000,9, -999.000,9
           NA,    P03E,     86,   1,-999.0,     -99,  2,20051113,1135,  24.2397, -146.2260,  5258, 2600.500,    1.673,   34.655,2,   34.655,2,  100.290,1,  108.110,2,  166.900,2,   39.200,2,    0.000,2,    2.755,2, -999.000,9, -999.000,9, -999.000,9, -999.000,9, -999.000,9
           NA,    P03E,     86,   1,-999.0,     -99,  2,20051113,1135,  24.2397, -146.2260,  5258, 2799.900,    1.590,   34.664,2,   34.664,2,  108.050,1,  116.610,2,  166.840,2,   38.540,2,    0.000,2,    2.710,2,    0.002,2,    0.000,2, -999.000,9, -999.000,9, -999.000,9
           NA,    P03E,     86,   1,-999.0,     -99,  2,20051113,1135,  24.2397, -146.2260,  5258, 2999.800,    1.535,   34.671,2,   34.671,6,  115.220,1,  124.190,2,  165.650,2,   38.100,2,    0.000,2,    2.672,2, -999.000,9, -999.000,9, -999.000,9, -999.000,9, -999.000,9
           NA,    P03E,     86,   1,-999.0,     -99,  2,20051113,1135,  24.2397, -146.2260,  5258, 3249.500,    1.499,   34.676,2,   34.676,2,  122.150,1,  131.710,2,  162.970,2,   37.740,2,    0.000,2,    2.633,2, -999.000,9, -999.000,9, -999.000,9, -999.000,9, -999.000,9
           NA,    P03E,     86,   1,-999.0,     -99,  2,20051113,1135,  24.2397, -146.2260,  5258, 3501.800,    1.471,   34.681,2,   34.681,2,  128.660,1,  138.700,2,  160.560,2,   37.090,2,    0.000,2,    2.590,2,    0.004,2,    0.000,2, -999.000,9, -999.000,9, -999.000,9
           NA,    P03E,     86,   1,-999.0,     -99,  2,20051113,1135,  24.2397, -146.2260,  5258, 3750.400,    1.462,   34.684,2,   34.685,2,  133.530,1,  143.590,2,  158.400,2,   36.750,2,    0.000,2,    2.562,2, -999.000,9, -999.000,9, -999.000,9, -999.000,9, -999.000,9
           NA,    P03E,     86,   1,-999.0,     -99,  2,20051113,1135,  24.2397, -146.2260,  5258, 4000.800,    1.465,   34.687,2,   34.687,2,  137.390,1,  147.650,2,  156.150,2,   36.510,2,    0.000,2,    2.546,2, -999.000,9, -999.000,9, -999.000,9, -999.000,9, -999.000,9
           NA,    P03E,     86,   1,-999.0,     -99,  2,20051113,1135,  24.2397, -146.2260,  5258, 4250.400,    1.477,   34.688,2,   34.688,6,  140.390,1,  150.370,2,  154.290,2,   36.430,2,    0.000,2,    2.533,2,    0.005,2,    0.001,2, -999.000,9, -999.000,9, -999.000,9
           NA,    P03E,     86,   1,-999.0,     -99,  2,20051113,1135,  24.2397, -146.2260,  5258, 4501.400,    1.486,   34.690,2,   34.690,2,  144.160,1,  154.010,2,  151.820,2,   36.160,2,    0.000,2,    2.515,2, -999.000,9, -999.000,9, -999.000,9, -999.000,9, -999.000,9
           NA,    P03E,     86,   1,-999.0,     -99,  2,20051113,1135,  24.2397, -146.2260,  5258, 4751.900,    1.492,   34.692,2,   34.692,2,  148.600,1,  158.240,2,  148.170,2,   35.770,2,    0.000,2,    2.488,2, -999.000,9, -999.000,9, -999.000,9, -999.000,9, -999.000,9
           NA,    P03E,     86,   1,-999.0,     -99,  2,20051113,1135,  24.2397, -146.2260,  5258, 5001.600,    1.499,   34.693,2,   34.693,2,  153.060,1,  162.000,2,  145.260,2,   35.470,2,    0.000,2,    2.467,2,    0.003,2,    0.004,2, -999.000,9, -999.000,9, -999.000,9
           NA,    P03E,     86,   1,-999.0,     -99,  2,20051113,1135,  24.2397, -146.2260,  5258, 5250.800,    1.508,   34.695,2,   34.694,2,  157.220,1,  165.140,2,  142.850,2,   35.220,2,    0.000,2,    2.454,2,    0.000,2,    0.002,2, -999.000,9, -999.000,9, -999.000,9
           NA,    P03E,     86,   1,-999.0,     -99,  2,20051113,1135,  24.2397, -146.2260,  5258, 5317.700,    1.513,   34.695,2,   34.695,6,  158.550,1,  165.840,2,  142.150,2,   35.260,2,    0.000,2,    2.449,2,    0.000,2,    0.001,2, -999.000,9, -999.000,9, -999.000,9
           NA,    P03E,     86,   1,-999.0,     -99,  2,20051113,1135,  24.2397, -146.2260,  5258, 5319.000,    1.513,   34.695,2,   34.695,2,  158.460,1,  165.660,2,  142.290,2,   35.220,2,    0.000,2,    2.445,2, -999.000,9, -999.000,9, -999.000,9, -999.000,9, -999.000,9
           NA,    P03E,     84,   1,-999.0,     -99,  2,20051113,0458,  24.3025, -145.4755,  5171,   10.100,   23.272,   35.288,2,   35.288,2,  202.770,1,  215.700,2,    1.150,2,    0.050,2,    0.010,2,    0.064,2,    1.782,2,    1.111,2, -999.000,9, 2006.000,2, 2324.100,2
           NA,    P03E,     84,   1,-999.0,     -99,  2,20051113,0458,  24.3025, -145.4755,  5171,   50.800,   23.273,   35.287,2,   35.287,2,  202.580,1,  215.610,2,    1.110,2,    0.040,2,    0.010,2,    0.067,2,    1.788,2,    1.108,2, -999.000,9, 2005.100,6, 2320.500,2
           NA,    P03E,     84,   1,-999.0,     -99,  2,20051113,0458,  24.3025, -145.4755,  5171,  100.400,   21.068,   35.177,2,   35.177,2,  208.990,1,  222.260,2,    1.510,2,    0.040,2,    0.010,2,    0.054,2,    2.049,2,    1.243,2, -999.000,9, 2018.000,2, 2314.700,6
           NA,    P03E,     84,   1,-999.0,     -99,  2,20051113,0458,  24.3025, -145.4755,  5171,  149.800,   19.230,   34.940,2,   34.940,2,  200.570,1,  212.790,2,    2.050,2,    0.640,2,    0.100,2,    0.129,2,    2.203,2,    1.320,2, -999.000,9, 2031.700,2, 2299.400,2
           NA,    P03E,     84,   1,-999.0,     -99,  2,20051113,0458,  24.3025, -145.4755,  5171,  201.700,   16.049,   34.504,2,   34.504,2,  193.220,1,  205.050,2,    4.150,2,    4.030,2,    0.020,2,    0.380,2,    2.538,2,    1.490,2, -999.000,9, 2047.400,2, 2270.500,2
           NA,    P03E,     84,   1,-999.0,     -99,  2,20051113,0458,  24.3025, -145.4755,  5171,  250.300,   12.870,   34.210,2,   34.214,2,  200.690,1,  212.420,2,    8.040,2,    8.530,2,    0.010,2,    0.673,2,    2.868,6,    1.645,6, -999.000,9, 2062.500,2, 2256.800,2
           NA,    P03E,     84,   1,-999.0,     -99,  2,20051113,0458,  24.3025, -145.4755,  5171,  300.200,   11.416,   34.164,2,   34.166,2,  201.560,1,  213.380,2,   12.220,2,   12.040,2,    0.010,2,    0.893,2,    2.992,2,    1.714,2, -999.000,9, 2081.400,2, 2255.300,2
           NA,    P03E,     84,   1,-999.0,     -99,  2,20051113,0458,  24.3025, -145.4755,  5171,  399.200,    9.087,   34.097,2,   34.101,2,  174.320,1,  184.940,2,   25.540,2,   19.820,2,    0.010,2,    1.421,2,    2.892,2,    1.542,2, -999.000,9, 2133.700,2, 2262.300,2
           NA,    P03E,     84,   1,-999.0,     -99,  2,20051113,0458,  24.3025, -145.4755,  5171,  501.200,    6.672,   34.023,2,   34.025,6,  106.170,1,  112.730,2,   51.790,2,   31.320,2,    0.010,2,    2.272,2,    1.717,2,    0.830,2, -999.000,9, 2219.600,2, 2277.700,2
           NA,    P03E,     84,   1,-999.0,     -99,  2,20051113,0458,  24.3025, -145.4755,  5171,  601.000,    5.466,   34.115,2,   34.114,2,   43.880,1,   46.790,2,   76.090,2,   38.980,2,    0.010,2,    2.873,2,    0.417,2,    0.221,2, -999.000,9, 2289.700,2, 2303.500,2
           NA,    P03E,     84,   1,-999.0,     -99,  2,20051113,0458,  24.3025, -145.4755,  5171,  702.100,    4.913,   34.253,2,   34.252,2,   19.320,1,   20.370,2,   92.240,2,   42.040,2,    0.010,2,    3.128,2,    0.051,2,    0.036,2, -999.000,9, 2325.700,6, 2328.200,2
           NA,    P03E,     84,   1,-999.0,     -99,  2,20051113,0458,  24.3025, -145.4755,  5171,  800.200,    4.479,   34.353,2,   34.352,2,   18.500,1,   19.950,2,  102.690,2,   43.190,2,    0.010,2,    3.190,2,    0.010,6,    0.007,6, -999.000,9, 2341.800,2, 2345.400,6
           NA,    P03E,     84,   1,-999.0,     -99,  2,20051113,0458,  24.3025, -145.4755,  5171,  901.000,    4.220,   34.445,2,   34.444,2,   30.930,1,   32.840,2,  107.720,2,   42.860,2,    0.010,2,    3.133,2,    0.006,2,    0.003,2, -999.000,9, 2340.700,2, 2358.400,2
           NA,    P03E,     84,   1,-999.0,     -99,  2,20051113,0458,  24.3025, -145.4755,  5171, 1000.500,    3.969,   34.487,2,   34.486,6,   37.360,1,   39.730,2,  112.310,2,   42.740,2,    0.010,2,    3.105,2,    0.003,2,    0.001,2, -999.000,9, 2345.400,2, 2370.700,2
           NA,    P03E,     84,   1,-999.0,     -99,  2,20051113,0458,  24.3025, -145.4755,  5171, 1201.100,    3.458,   34.532,2,   34.532,2,   45.660,1,   48.670,2,  123.920,2,   42.520,2,    0.010,2,    3.102,2,    0.000,2,    0.000,2, -999.000,9, 2354.400,2, 2379.800,2
           NA,    P03E,     84,   1,-999.0,     -99,  2,20051113,0458,  24.3025, -145.4755,  5171, 1398.700,    3.062,   34.558,2,   34.558,2,   53.630,1,   57.160,2,  132.980,2,   42.310,2,    0.010,2,    3.055,2,    0.000,2,    0.000,2, -999.000,9, 2358.300,2, 2391.400,2
           NA,    P03E,     84,   1,-999.0,     -99,  2,20051113,0458,  24.3025, -145.4755,  5171, 1602.500,    2.696,   34.580,2,   34.580,2,   62.200,1,   66.540,2,  141.630,2,   41.780,2,    0.010,2,    3.004,2,    0.000,2,    0.000,2, -999.000,9, 2360.400,2, 2400.200,2
           NA,    P03E,     84,   1,-999.0,     -99,  2,20051113,0458,  24.3025, -145.4755,  5171, 1799.800,    2.388,   34.599,2,   34.599,2,   69.110,1,   74.210,2,  149.860,2,   41.340,2,    0.010,2,    2.963,2,    0.000,2,    0.000,2, -999.000,9, 2363.600,2, 2409.400,2
           NA,    P03E,     84,   1,-999.0,     -99,  2,20051113,0458,  24.3025, -145.4755,  5171, 1999.800,    2.136,   34.617,2,   34.617,6,   76.950,1,   82.470,2,  156.670,2,   40.820,2,    0.010,2,    2.912,2,    0.000,2,    0.000,2, -999.000,9, 2365.600,2, 2410.600,2
           NA,    P03E,     84,   1,-999.0,     -99,  2,20051113,0458,  24.3025, -145.4755,  5171, 2198.900,    1.951,   34.631,2,   34.631,2,   84.200,1,   90.430,2,  161.440,2,   40.360,2,    0.010,2,    2.869,2,    0.000,2,    0.000,2, -999.000,9, 2363.300,2, 2418.800,2
           NA,    P03E,     84,   1,-999.0,     -99,  2,20051113,0458,  24.3025, -145.4755,  5171, 2399.800,    1.795,   34.645,2,   34.645,2,   93.360,1,  100.350,2,  164.060,2,   39.660,2,    0.010,2,    2.815,2, -999.000,9, -999.000,9, -999.000,9, 2360.300,6, 2424.700,2
           NA,    P03E,     84,   1,-999.0,     -99,  2,20051113,0458,  24.3025, -145.4755,  5171, 2599.900,    1.681,   34.655,2,   34.655,2,  101.000,1,  108.790,2,  165.980,2,   39.160,2,    0.010,2,    2.766,2,    0.007,2,    0.003,2, -999.000,9, 2356.800,2, 2423.100,2
           NA,    P03E,     84,   1,-999.0,     -99,  2,20051113,0458,  24.3025, -145.4755,  5171, 2800.200,    1.601,   34.663,2,   34.663,6,  107.520,1,  115.960,2,  166.830,2,   38.850,2,    0.010,2,    2.735,2, -999.000,9, -999.000,9, -999.000,9, 2353.000,2, 2425.100,2
           NA,    P03E,     84,   1,-999.0,     -99,  2,20051113,0458,  24.3025, -145.4755,  5171, 3002.000,    1.544,   34.670,2,   34.670,2,  114.500,1,  123.320,2,  165.580,2,   38.230,2,    0.010,2,    2.692,2,    0.000,2,    0.000,2, -999.000,9, 2349.300,2, 2425.300,2
           NA,    P03E,     84,   1,-999.0,     -99,  2,20051113,0458,  24.3025, -145.4755,  5171, 3251.500,    1.500,   34.677,2,   34.677,2,  122.790,1,  132.290,2,  162.700,2,   37.490,2,    0.010,2,    2.633,2, -999.000,9, -999.000,9, -999.000,9, 2344.400,2, 2427.300,2
           NA,    P03E,     84,   1,-999.0,     -99,  2,20051113,0458,  24.3025, -145.4755,  5171, 3501.700,    1.480,   34.681,2,   34.681,2,  128.290,1,  138.090,2,  161.260,2,   37.250,2,    0.010,2,    2.602,2,    0.000,2,    0.001,2, -999.000,9, 2339.200,2, 2425.900,2
           NA,    P03E,     84,   1,-999.0,     -99,  2,20051113,0458,  24.3025, -145.4755,  5171, 3752.100,    1.465,   34.684,2,   34.684,2,  133.410,1,  143.450,2,  158.770,2,   36.910,2,    0.010,2,    2.579,2, -999.000,9, -999.000,9, -999.000,9, 2334.400,2, 2424.200,2
           NA,    P03E,     84,   1,-999.0,     -99,  2,20051113,0458,  24.3025, -145.4755,  5171, 4002.700,    1.463,   34.687,2,   34.687,2,  137.860,1,  147.830,2,  156.070,2,   36.640,2,    0.010,2,    2.555,2,    0.001,2,    0.003,2, -999.000,9, 2330.700,2, 2424.200,2
           NA,    P03E,     84,   1,-999.0,     -99,  2,20051113,0458,  24.3025, -145.4755,  5171, 4250.300,    1.474,   34.688,2,   34.688,6,  141.200,1,  150.980,2,  154.080,2,   36.400,2,    0.010,2,    2.536,2, -999.000,9, -999.000,9, -999.000,9, 2328.200,6, 2422.500,2
           NA,    P03E,     84,   1,-999.0,     -99,  2,20051113,0458,  24.3025, -145.4755,  5171, 4500.300,    1.476,   34.690,2,   34.691,2,  146.040,1,  155.730,2,  150.350,2,   36.040,2,    0.010,2,    2.511,2,    0.005,2,    0.007,2, -999.000,9, 2323.700,2, 2417.600,6
           NA,    P03E,     84,   1,-999.0,     -99,  2,20051113,0458,  24.3025, -145.4755,  5171, 4752.300,    1.481,   34.692,2,   34.692,2,  150.620,1,  159.910,2,  147.110,2,   35.780,2,    0.010,2,    2.486,2, -999.000,9, -999.000,9, -999.000,9, 2317.900,2, 2413.000,2
           NA,    P03E,     84,   1,-999.0,     -99,  2,20051113,0458,  24.3025, -145.4755,  5171, 4999.700,    1.476,   34.695,2,   34.695,2,  156.190,1,  164.910,2,  143.030,2,   35.340,2,    0.010,2,    2.460,2, -999.000,9, -999.000,9, -999.000,9, 2312.600,2, 2409.100,2
           NA,    P03E,     84,   1,-999.0,     -99,  2,20051113,0458,  24.3025, -145.4755,  5171, 5252.000,    1.491,   34.695,2,   34.696,2,  159.580,1,  167.360,2,  141.420,2,   35.150,2,    0.010,2,    2.445,2,    0.001,2,    0.002,2, -999.000,9, 2308.300,2, 2410.300,2
           NA,    P03E,     84,   1,-999.0,     -99,  2,20051113,0458,  24.3025, -145.4755,  5171, 5278.000,    1.494,   34.695,2,   34.695,6,  160.200,1,  167.340,2,  141.260,2,   35.190,2,    0.010,2,    2.451,2,    0.006,2,    0.003,2, -999.000,9, 2308.500,2, 2409.900,2
           NA,    P03E,     84,   1,-999.0,     -99,  2,20051113,0458,  24.3025, -145.4755,  5171, 5278.300,    1.495,   34.695,2,   34.696,2,  160.040,1,  167.360,2,  140.960,2,   35.060,2,    0.010,2,    2.443,2, -999.000,9, -999.000,9, -999.000,9, 2310.100,2, 2409.600,2