BOTTLE,20211903JOAExport
EXPOCODE,SECT_ID,STNNBR,CASTNO,SAMPNO,BTLNBR,BTLNBR_FLAG_W,DATE,TIME,LATITUDE,LONGITUDE,DEPTH,CTDPRS,CTDTMP,CTDSAL,CTDSAL_FLAG_W,SALNTY,SALNTY_FLAG_W,CTDOXY,CTDOXY_FLAG_W,OXYGEN,OXYGEN_FLAG_W,SILCAT,SILCAT_FLAG_W,NITRAT,NITRAT_FLAG_W,NITRIT,NITRIT_FLAG_W,PHSPHT,PHSPHT_FLAG_W,CFC-11,CFC-11_FLAG_W,CFC-12,CFC-12_FLAG_W,SF6,SF6_FLAG_W,TCARBN,TCARBN_FLAG_W,ALKALI,ALKALI_FLAG_W
,,,,,,,,,,,,DB,ITS-90,PSS-78,,PSS-78,,UMOL/KG,,UMOL/KG,,UMOL/KG,,UMOL/KG,,UMOL/KG,,UMOL/KG,,PMOL/KG,,PMOL/KG,,FMOL/KG,,UMOL/KG,,UMOL/KG
           NA,    P03C,    351,  99,-999.0,     -99,  2,20060112,0734,  24.5588,  128.2282,  5987,    9.800,   22.071,   34.660,2,   34.660,2,  201.720,1,  220.350,2, -999.000,9, -999.000,9, -999.000,9, -999.000,9, -999.000,9, -999.000,9, -999.000,9, -999.000,9, -999.000,9
           NA,    P03C,    351,  99,-999.0,     -99,  2,20060112,0734,  24.5588,  128.2282,  5987,    9.900,   21.979,   34.764,2,   34.764,2,  198.900,1,  216.650,2,    1.420,2,    0.140,2,    0.030,2,    0.068,2,    1.929,2,    1.121,2, -999.000,9, -999.000,9, -999.000,9
           NA,    P03C,    351,  99,-999.0,     -99,  2,20060112,0734,  24.5588,  128.2282,  5987,   50.400,   21.836,   34.701,2,   34.707,2,  200.900,1,  219.190,2, -999.000,9, -999.000,9, -999.000,9, -999.000,9, -999.000,9, -999.000,9, -999.000,9, -999.000,9, -999.000,9
           NA,    P03C,    351,  99,-999.0,     -99,  2,20060112,0734,  24.5588,  128.2282,  5987,   52.000,   21.503,   34.785,2,   34.784,2,  198.940,1,  216.560,2,    1.410,2,    0.130,2,    0.040,2,    0.068,2,    1.960,2,    1.133,2, -999.000,9, -999.000,9, -999.000,9
           NA,    P03C,    351,  99,-999.0,     -99,  2,20060112,0734,  24.5588,  128.2282,  5987,   99.300,   21.193,   34.823,2,   34.822,2,  197.810,1,  215.170,2,    1.540,2,    0.270,2,    0.110,2,    0.087,2,    1.994,2,    1.157,2, -999.000,9, -999.000,9, -999.000,9
           NA,    P03C,    351,  99,-999.0,     -99,  2,20060112,0734,  24.5588,  128.2282,  5987,  100.500,   21.476,   34.817,2,   34.821,2,  195.020,1,  211.210,2, -999.000,9, -999.000,9, -999.000,9, -999.000,9, -999.000,9, -999.000,9, -999.000,9, -999.000,9, -999.000,9
           NA,    P03C,    351,  99,-999.0,     -99,  2,20060112,0734,  24.5588,  128.2282,  5987,  149.600,   19.215,   34.904,2,   34.902,2,  166.270,1,  181.330,2,    3.430,2,    4.410,2,    0.020,2,    0.366,2,    2.239,2,    1.256,2, -999.000,9, -999.000,9, -999.000,9
           NA,    P03C,    351,  99,-999.0,     -99,  3,20060112,0734,  24.5588,  128.2282,  5987,  150.500,   20.257,   34.890,2,   34.890,2,  171.600,1,  187.730,2, -999.000,9, -999.000,9, -999.000,9, -999.000,9, -999.000,9, -999.000,9, -999.000,9, -999.000,9, -999.000,9
           NA,    P03C,    351,  99,-999.0,     -99,  2,20060112,0734,  24.5588,  128.2282,  5987,  198.800,   18.523,   34.834,2,   34.829,2,  171.050,1,  187.150,2, -999.000,9, -999.000,9, -999.000,9, -999.000,9, -999.000,9, -999.000,9, -999.000,9, -999.000,9, -999.000,9
           NA,    P03C,    351,  99,-999.0,     -99,  2,20060112,0734,  24.5588,  128.2282,  5987,  201.100,   17.635,   34.778,2,   34.780,2,  173.070,1,  188.100,2,    5.120,2,    5.860,2,    0.010,2,    0.447,2,    2.335,2,    1.296,2, -999.000,9, -999.000,9, -999.000,9
           NA,    P03C,    351,  99,-999.0,     -99,  2,20060112,0734,  24.5588,  128.2282,  5987,  250.300,   16.842,   34.742,2,   34.741,2,  182.990,1,  198.680,2,    5.100,2,    5.950,2,    0.010,2,    0.435,2,    2.425,6,    1.349,6, -999.000,9, -999.000,9, -999.000,9
           NA,    P03C,    351,  99,-999.0,     -99,  2,20060112,0734,  24.5588,  128.2282,  5987,  251.300,   17.010,   34.747,2,   34.743,2,  174.160,1,  191.070,2, -999.000,9, -999.000,9, -999.000,9, -999.000,9, -999.000,9, -999.000,9, -999.000,9, -999.000,9, -999.000,9
           NA,    P03C,    351,  99,-999.0,     -99,  2,20060112,0734,  24.5588,  128.2282,  5987,  301.200,   15.785,   34.655,2,   34.655,2,  178.450,1,  193.950,2,    7.410,2,    7.900,2,    0.010,2,    0.580,2,    2.500,2,    1.368,2, -999.000,9, -999.000,9, -999.000,9
           NA,    P03C,    351,  99,-999.0,     -99,  2,20060112,0734,  24.5588,  128.2282,  5987,  302.300,   16.065,   34.674,2,   34.673,2,  176.630,1,  192.710,2, -999.000,9, -999.000,9, -999.000,9, -999.000,9, -999.000,9, -999.000,9, -999.000,9, -999.000,9, -999.000,9
           NA,    P03C,    351,  99,-999.0,     -99,  2,20060112,0734,  24.5588,  128.2282,  5987,  399.300,   13.208,   34.453,2,   34.448,2,  164.130,1,  178.560,2, -999.000,9, -999.000,9, -999.000,9, -999.000,9, -999.000,9, -999.000,9, -999.000,9, -999.000,9, -999.000,9
           NA,    P03C,    351,  99,-999.0,     -99,  2,20060112,0734,  24.5588,  128.2282,  5987,  401.300,   13.411,   34.475,2,   34.469,2,  167.690,1,  181.120,2,   14.880,2,   12.960,2,    0.010,2,    0.939,2,    2.493,2,    1.302,2, -999.000,9, -999.000,9, -999.000,9
           NA,    P03C,    351,  99,-999.0,     -99,  2,20060112,0734,  24.5588,  128.2282,  5987,  500.600,   10.116,   34.265,2,   34.263,6,  146.290,1,  159.680,2, -999.000,9, -999.000,9, -999.000,9, -999.000,9, -999.000,9, -999.000,9, -999.000,9, -999.000,9, -999.000,9
           NA,    P03C,    351,  99,-999.0,     -99,  2,20060112,0734,  24.5588,  128.2282,  5987,  502.600,   10.335,   34.270,2,   34.270,6,  147.800,1,  160.580,2,   27.810,2,   19.860,2,    0.010,2,    1.449,2,    2.273,2,    1.126,2, -999.000,9, -999.000,9, -999.000,9
           NA,    P03C,    351,  99,-999.0,     -99,  2,20060112,0734,  24.5588,  128.2282,  5987,  600.700,    8.014,   34.172,2,   34.172,2,  123.880,1,  133.220,2, -999.000,9, -999.000,9, -999.000,9, -999.000,9, -999.000,9, -999.000,9, -999.000,9, -999.000,9, -999.000,9
           NA,    P03C,    351,  99,-999.0,     -99,  2,20060112,0734,  24.5588,  128.2282,  5987,  600.900,    8.070,   34.184,2,   34.184,2,  121.310,1,  131.530,2,   47.720,2,   26.690,2,    0.010,2,    1.951,2,    1.701,2,    0.823,2, -999.000,9, -999.000,9, -999.000,9
           NA,    P03C,    351,  99,-999.0,     -99,  2,20060112,0734,  24.5588,  128.2282,  5987,  700.300,    6.300,   34.170,2,   34.170,2,   91.180,1,   98.170,2, -999.000,9, -999.000,9, -999.000,9, -999.000,9, -999.000,9, -999.000,9, -999.000,9, -999.000,9, -999.000,9
           NA,    P03C,    351,  99,-999.0,     -99,  2,20060112,0734,  24.5588,  128.2282,  5987,  703.400,    6.312,   34.163,2,   34.163,2,   92.400,1,  101.060,2,   67.830,2,   32.670,2,    0.000,2,    2.382,2,    1.134,2,    0.552,2, -999.000,9, -999.000,9, -999.000,9
           NA,    P03C,    351,  99,-999.0,     -99,  2,20060112,0734,  24.5588,  128.2282,  5987,  799.900,    5.105,   34.211,2,   34.214,2,   68.260,1,   73.750,2, -999.000,9, -999.000,9, -999.000,9, -999.000,9, -999.000,9, -999.000,9, -999.000,9, -999.000,9, -999.000,9
           NA,    P03C,    351,  99,-999.0,     -99,  2,20060112,0734,  24.5588,  128.2282,  5987,  800.200,    5.210,   34.205,2,   34.205,2,   70.240,1,   76.200,2,   86.670,2,   36.720,2,    0.000,2,    2.681,2,    0.683,6,    0.335,6, -999.000,9, -999.000,9, -999.000,9
           NA,    P03C,    351,  99,-999.0,     -99,  2,20060112,0734,  24.5588,  128.2282,  5987,  900.200,    4.286,   34.299,2,   34.299,2,   53.300,1,   57.890,2, -999.000,9, -999.000,9, -999.000,9, -999.000,9, -999.000,9, -999.000,9, -999.000,9, -999.000,9, -999.000,9
           NA,    P03C,    351,  99,-999.0,     -99,  2,20060112,0734,  24.5588,  128.2282,  5987,  901.200,    4.315,   34.295,2,   34.294,2,   54.070,1,   58.570,2,  105.190,2,   39.700,2,    0.010,2,    2.874,2,    0.319,2,    0.158,2, -999.000,9, -999.000,9, -999.000,9
           NA,    P03C,    351,  99,-999.0,     -99,  2,20060112,0734,  24.5588,  128.2282,  5987, 1001.600,    3.871,   34.358,2,   34.357,6,   51.050,1,   55.400,2, -999.000,9, -999.000,9, -999.000,9, -999.000,9, -999.000,9, -999.000,9, -999.000,9, -999.000,9, -999.000,9
           NA,    P03C,    351,  99,-999.0,     -99,  2,20060112,0734,  24.5588,  128.2282,  5987, 1002.800,    3.880,   34.356,2,   34.356,6,   51.150,1,   55.450,2,  115.170,2,   40.490,2,    0.010,2,    2.934,2,    0.182,2,    0.090,2, -999.000,9, -999.000,9, -999.000,9
           NA,    P03C,    351,  99,-999.0,     -99,  2,20060112,0734,  24.5588,  128.2282,  5987, 1200.500,    3.236,   34.451,2, -999.000,3,   59.540,1,   65.090,2, -999.000,9, -999.000,9, -999.000,9, -999.000,9, -999.000,9, -999.000,9, -999.000,9, -999.000,9, -999.000,9
           NA,    P03C,    351,  99,-999.0,     -99,  2,20060112,0734,  24.5588,  128.2282,  5987, 1201.000,    3.196,   34.455,2,   34.455,2,   60.430,1,   65.630,2,  129.550,2,   40.580,2,    0.000,2,    2.920,2,    0.072,2,    0.036,2, -999.000,9, -999.000,9, -999.000,9
           NA,    P03C,    351,  99,-999.0,     -99,  2,20060112,0734,  24.5588,  128.2282,  5987, 1400.600,    2.710,   34.516,2,   34.516,2,   71.610,1,   77.920,2,  137.440,2,   40.130,2,    0.000,2,    2.875,2,    0.032,2,    0.018,2, -999.000,9, -999.000,9, -999.000,9
           NA,    P03C,    351,  99,-999.0,     -99,  4,20060112,0734,  24.5588,  128.2282,  5987, 1402.400,    2.698,   34.515,2, -999.000,4,   71.070,1, -999.000,4, -999.000,9, -999.000,9, -999.000,9, -999.000,9, -999.000,9, -999.000,9, -999.000,9, -999.000,9, -999.000,9
           NA,    P03C,    351,  99,-999.0,     -99,  2,20060112,0734,  24.5588,  128.2282,  5987, 1599.800,    2.366,   34.563,2,   34.563,2,   84.630,1,   93.010,2, -999.000,9, -999.000,9, -999.000,9, -999.000,9, -999.000,9, -999.000,9, -999.000,9, -999.000,9, -999.000,9
           NA,    P03C,    351,  99,-999.0,     -99,  2,20060112,0734,  24.5588,  128.2282,  5987, 1600.400,    2.353,   34.563,2,   34.564,2,   85.020,1,   93.250,2,  141.450,2,   39.430,2,    0.000,2,    2.816,2,    0.010,2,    0.003,2, -999.000,9, -999.000,9, -999.000,9
           NA,    P03C,    351,  99,-999.0,     -99,  2,20060112,0734,  24.5588,  128.2282,  5987, 1799.900,    2.185,   34.595,2,   34.595,2,   95.300,1,  104.940,2, -999.000,9, -999.000,9, -999.000,9, -999.000,9, -999.000,9, -999.000,9, -999.000,9, -999.000,9, -999.000,9
           NA,    P03C,    351,  99,-999.0,     -99,  2,20060112,0734,  24.5588,  128.2282,  5987, 1800.200,    2.151,   34.596,2,   34.596,2,   96.260,1,  105.800,2,  141.600,2,   38.850,2,    0.000,2,    2.760,2,    0.002,2,    0.003,2, -999.000,9, -999.000,9, -999.000,9
           NA,    P03C,    351,  99,-999.0,     -99,  2,20060112,0734,  24.5588,  128.2282,  5987, 2000.800,    2.008,   34.618,2,   34.618,2,  104.570,1,  115.110,2,  142.510,2,   38.320,2,    0.000,2,    2.715,2,    0.001,2,    0.001,2, -999.000,9, -999.000,9, -999.000,9
           NA,    P03C,    351,  99,-999.0,     -99,  2,20060112,0734,  24.5588,  128.2282,  5987, 2002.000,    2.000,   34.619,2,   34.619,2,  104.630,1,  115.220,2, -999.000,9, -999.000,9, -999.000,9, -999.000,9, -999.000,9, -999.000,9, -999.000,9, -999.000,9, -999.000,9
           NA,    P03C,    351,  99,-999.0,     -99,  2,20060112,0734,  24.5588,  128.2282,  5987, 2199.900,    1.880,   34.633,2,   34.633,6,  110.890,1,  122.320,2, -999.000,9, -999.000,9, -999.000,9, -999.000,9, -999.000,9, -999.000,9, -999.000,9, -999.000,9, -999.000,9
           NA,    P03C,    351,  99,-999.0,     -99,  2,20060112,0734,  24.5588,  128.2282,  5987, 2201.100,    1.911,   34.632,2,   34.632,6,  110.290,1,  121.520,2,  142.890,2,   37.950,2,    0.010,2,    2.686,2,    0.002,2,    0.000,2, -999.000,9, -999.000,9, -999.000,9
           NA,    P03C,    351,  99,-999.0,     -99,  2,20060112,0734,  24.5588,  128.2282,  5987, 2400.200,    1.821,   34.644,2,   34.644,2,  114.950,1,  126.890,2, -999.000,9, -999.000,9, -999.000,9, -999.000,9, -999.000,9, -999.000,9, -999.000,9, -999.000,9, -999.000,9
           NA,    P03C,    351,  99,-999.0,     -99,  2,20060112,0734,  24.5588,  128.2282,  5987, 2400.500,    1.819,   34.643,2,   34.644,2,  115.250,1,  127.260,2,  143.150,2,   37.760,2,    0.010,2,    2.660,2,    0.000,2,    0.002,2, -999.000,9, -999.000,9, -999.000,9
           NA,    P03C,    351,  99,-999.0,     -99,  2,20060112,0734,  24.5588,  128.2282,  5987, 2600.200,    1.749,   34.652,2,   34.651,2,  119.420,1,  131.880,2,  143.220,2,   37.330,2,    0.010,2,    2.638,2, -999.000,9, -999.000,9, -999.000,9, -999.000,9, -999.000,9
           NA,    P03C,    351,  99,-999.0,     -99,  2,20060112,0734,  24.5588,  128.2282,  5987, 2601.500,    1.759,   34.651,2,   34.651,2,  118.510,1,  130.930,2, -999.000,9, -999.000,9, -999.000,9, -999.000,9, -999.000,9, -999.000,9, -999.000,9, -999.000,9, -999.000,9
           NA,    P03C,    351,  99,-999.0,     -99,  2,20060112,0734,  24.5588,  128.2282,  5987, 2799.700,    1.691,   34.658,2,   34.658,2,  123.110,1,  135.800,2,  143.560,2,   37.140,2,    0.000,2,    2.617,2,    0.000,2,    0.001,2, -999.000,9, -999.000,9, -999.000,9
           NA,    P03C,    351,  99,-999.0,     -99,  2,20060112,0734,  24.5588,  128.2282,  5987, 2999.300,    1.649,   34.664,2,   34.664,2,  126.050,1,  139.500,2, -999.000,9, -999.000,9, -999.000,9, -999.000,9, -999.000,9, -999.000,9, -999.000,9, -999.000,9, -999.000,9
           NA,    P03C,    351,  99,-999.0,     -99,  2,20060112,0734,  24.5588,  128.2282,  5987, 2999.600,    1.633,   34.665,2,   34.665,2,  127.120,1,  140.360,2,  143.270,2,   36.840,2,    0.000,2,    2.587,2, -999.000,9, -999.000,9, -999.000,9, -999.000,9, -999.000,9
           NA,    P03C,    351,  99,-999.0,     -99,  2,20060112,0734,  24.5588,  128.2282,  5987, 3248.600,    1.600,   34.670,2,   34.670,2,  130.370,1,  144.000,2,  143.080,2,   36.560,2,    0.010,2,    2.572,2, -999.000,9, -999.000,9, -999.000,9, -999.000,9, -999.000,9
           NA,    P03C,    351,  99,-999.0,     -99,  2,20060112,0734,  24.5588,  128.2282,  5987, 3251.100,    1.601,   34.670,2,   34.670,2,  129.990,1,  143.950,2, -999.000,9, -999.000,9, -999.000,9, -999.000,9, -999.000,9, -999.000,9, -999.000,9, -999.000,9, -999.000,9
           NA,    P03C,    351,  99,-999.0,     -99,  2,20060112,0734,  24.5588,  128.2282,  5987, 3499.600,    1.579,   34.674,2,   34.674,6,  132.930,1,  147.110,2, -999.000,9, -999.000,9, -999.000,9, -999.000,9, -999.000,9, -999.000,9, -999.000,9, -999.000,9, -999.000,9
           NA,    P03C,    351,  99,-999.0,     -99,  2,20060112,0734,  24.5588,  128.2282,  5987, 3500.300,    1.576,   34.675,2,   34.674,6,  133.360,1,  147.550,2,  142.560,2,   36.340,2,    0.000,2,    2.556,2,    0.000,2,    0.003,2, -999.000,9, -999.000,9, -999.000,9
           NA,    P03C,    351,  99,-999.0,     -99,  2,20060112,0734,  24.5588,  128.2282,  5987, 3749.500,    1.570,   34.678,2,   34.678,2,  135.630,1,  149.760,2,  142.570,2,   36.170,2,    0.000,2,    2.545,2, -999.000,9, -999.000,9, -999.000,9, -999.000,9, -999.000,9
           NA,    P03C,    351,  99,-999.0,     -99,  2,20060112,0734,  24.5588,  128.2282,  5987, 3749.500,    1.577,   34.677,2,   34.677,2,  134.940,1,  149.230,2, -999.000,9, -999.000,9, -999.000,9, -999.000,9, -999.000,9, -999.000,9, -999.000,9, -999.000,9, -999.000,9
           NA,    P03C,    351,  99,-999.0,     -99,  2,20060112,0734,  24.5588,  128.2282,  5987, 3998.800,    1.575,   34.680,2,   34.680,2,  137.330,1,  151.180,2,  142.250,2,   36.120,2,    0.010,2,    2.536,2, -999.000,9, -999.000,9, -999.000,9, -999.000,9, -999.000,9
           NA,    P03C,    351,  99,-999.0,     -99,  2,20060112,0734,  24.5588,  128.2282,  5987, 3999.800,    1.584,   34.679,2,   34.679,2,  136.490,1,  150.910,2, -999.000,9, -999.000,9, -999.000,9, -999.000,9, -999.000,9, -999.000,9, -999.000,9, -999.000,9, -999.000,9
           NA,    P03C,    351,  99,-999.0,     -99,  2,20060112,0734,  24.5588,  128.2282,  5987, 4250.300,    1.592,   34.681,2,   34.681,2,  138.160,1,  152.340,2, -999.000,9, -999.000,9, -999.000,9, -999.000,9, -999.000,9, -999.000,9, -999.000,9, -999.000,9, -999.000,9
           NA,    P03C,    351,  99,-999.0,     -99,  2,20060112,0734,  24.5588,  128.2282,  5987, 4250.700,    1.588,   34.681,2,   34.681,2,  138.710,1,  152.490,2,  142.040,2,   36.170,2,    0.000,2,    2.533,2,    0.000,2,    0.000,2, -999.000,9, -999.000,9, -999.000,9
           NA,    P03C,    351,  99,-999.0,     -99,  2,20060112,0734,  24.5588,  128.2282,  5987, 4498.500,    1.604,   34.682,2,   34.683,2,  140.050,1,  153.560,2,  141.790,2,   35.960,2,    0.010,2,    2.526,2, -999.000,9, -999.000,9, -999.000,9, -999.000,9, -999.000,9
           NA,    P03C,    351,  99,-999.0,     -99,  2,20060112,0734,  24.5588,  128.2282,  5987, 4499.800,    1.607,   34.682,2,   34.682,2,  139.520,1,  153.510,2, -999.000,9, -999.000,9, -999.000,9, -999.000,9, -999.000,9, -999.000,9, -999.000,9, -999.000,9, -999.000,9
           NA,    P03C,    351,  99,-999.0,     -99,  2,20060112,0734,  24.5588,  128.2282,  5987, 4749.600,    1.626,   34.683,2,   34.683,6,  140.880,1,  154.300,2, -999.000,9, -999.000,9, -999.000,9, -999.000,9, -999.000,9, -999.000,9, -999.000,9, -999.000,9, -999.000,9
           NA,    P03C,    351,  99,-999.0,     -99,  2,20060112,0734,  24.5588,  128.2282,  5987, 4750.100,    1.626,   34.683,2,   34.683,6,  141.160,1,  154.270,2,  141.730,2,   35.960,2,    0.010,2,    2.520,2, -999.000,9, -999.000,9, -999.000,9, -999.000,9, -999.000,9
           NA,    P03C,    351,  99,-999.0,     -99,  2,20060112,0734,  24.5588,  128.2282,  5987, 4999.000,    1.651,   34.684,2,   34.684,2,  142.170,1,  154.800,2,  142.040,2,   35.920,2,    0.010,2,    2.518,2,    0.000,2,    0.000,2, -999.000,9, -999.000,9, -999.000,9
           NA,    P03C,    351,  99,-999.0,     -99,  2,20060112,0734,  24.5588,  128.2282,  5987, 5000.600,    1.650,   34.684,2,   34.684,2,  142.060,1,  155.010,2, -999.000,9, -999.000,9, -999.000,9, -999.000,9, -999.000,9, -999.000,9, -999.000,9, -999.000,9, -999.000,9
           NA,    P03C,    351,  99,-999.0,     -99,  2,20060112,0734,  24.5588,  128.2282,  5987, 5250.200,    1.680,   34.684,2,   34.684,2,  143.130,1,  155.010,2,  141.570,2,   35.950,2,    0.010,2,    2.517,2, -999.000,9, -999.000,9, -999.000,9, -999.000,9, -999.000,9
           NA,    P03C,    351,  99,-999.0,     -99,  2,20060112,0734,  24.5588,  128.2282,  5987, 5250.500,    1.680,   34.684,2,   34.684,2,  142.870,1,  155.360,2, -999.000,9, -999.000,9, -999.000,9, -999.000,9, -999.000,9, -999.000,9, -999.000,9, -999.000,9, -999.000,9
           NA,    P03C,    351,  99,-999.0,     -99,  2,20060112,0734,  24.5588,  128.2282,  5987, 5499.200,    1.712,   34.684,2,   34.684,2,  143.680,1,  155.290,2, -999.000,9, -999.000,9, -999.000,9, -999.000,9, -999.000,9, -999.000,9, -999.000,9, -999.000,9, -999.000,9
           NA,    P03C,    351,  99,-999.0,     -99,  2,20060112,0734,  24.5588,  128.2282,  5987, 5500.100,    1.713,   34.684,2,   34.684,2,  143.910,1,  155.050,2,  141.390,2,   35.850,2,    0.010,2,    2.517,2,    0.000,2,    0.000,2, -999.000,9, -999.000,9, -999.000,9
           NA,    P03C,    351,  99,-999.0,     -99,  2,20060112,0734,  24.5588,  128.2282,  5987, 5749.200,    1.746,   34.684,2,   34.684,2,  144.690,1,  155.270,2, -999.000,9, -999.000,9, -999.000,9, -999.000,9, -999.000,9, -999.000,9, -999.000,9, -999.000,9, -999.000,9
           NA,    P03C,    351,  99,-999.0,     -99,  2,20060112,0734,  24.5588,  128.2282,  5987, 5749.700,    1.747,   34.684,2,   34.684,2,  144.920,1,  155.130,2,  141.660,2,   35.770,2,    0.010,2,    2.517,2, -999.000,9, -999.000,9, -999.000,9, -999.000,9, -999.000,9
           NA,    P03C,    351,  99,-999.0,     -99,  2,20060112,0734,  24.5588,  128.2282,  5987, 6062.800,    1.790,   34.684,2,   34.684,6,  146.470,1,  155.450,2, -999.000,9, -999.000,9, -999.000,9, -999.000,9, -999.000,9, -999.000,9, -999.000,9, -999.000,9, -999.000,9
           NA,    P03C,    351,  99,-999.0,     -99,  2,20060112,0734,  24.5588,  128.2282,  5987, 6081.000,    1.793,   34.684,2,   34.684,6,  146.850,1,  154.940,2,  141.400,2,   35.810,2,    0.010,2,    2.518,2,    0.000,2,    0.000,2, -999.000,9, -999.000,9, -999.000,9