BOTTLE,20211903JOAExport
EXPOCODE,SECT_ID,STNNBR,CASTNO,SAMPNO,BTLNBR,BTLNBR_FLAG_W,DATE,TIME,LATITUDE,LONGITUDE,DEPTH,CTDPRS,CTDTMP,CTDSAL,CTDSAL_FLAG_W,SALNTY,SALNTY_FLAG_W,CTDOXY,CTDOXY_FLAG_W,OXYGEN,OXYGEN_FLAG_W,SILCAT,SILCAT_FLAG_W,NITRAT,NITRAT_FLAG_W,NITRIT,NITRIT_FLAG_W,PHSPHT,PHSPHT_FLAG_W,CFC-11,CFC-11_FLAG_W,CFC-12,CFC-12_FLAG_W,SF6,SF6_FLAG_W,TCARBN,TCARBN_FLAG_W,ALKALI,ALKALI_FLAG_W
,,,,,,,,,,,,DB,ITS-90,PSS-78,,PSS-78,,UMOL/KG,,UMOL/KG,,UMOL/KG,,UMOL/KG,,UMOL/KG,,UMOL/KG,,PMOL/KG,,PMOL/KG,,FMOL/KG,,UMOL/KG,,UMOL/KG
           NA,    P03C,    297,   1,-999.0,     -99,  2,20060104,0026,  24.2452,  142.9410,  2590,   10.700,   23.498,   34.883,2,   34.882,2,  195.880,1,  212.320,2,    1.320,2,    0.050,2,    0.000,2,    0.047,2,    1.787,2,    1.049,2, -999.000,9, -999.000,9, -999.000,9
           NA,    P03C,    297,   1,-999.0,     -99,  2,20060104,0026,  24.2452,  142.9410,  2590,   49.900,   23.416,   34.881,2,   34.881,2,  195.510,1,  212.130,2,    1.300,2,    0.030,2,    0.000,2,    0.050,2,    1.812,2,    1.057,2, -999.000,9, -999.000,9, -999.000,9
           NA,    P03C,    297,   1,-999.0,     -99,  2,20060104,0026,  24.2452,  142.9410,  2590,   99.600,   22.497,   34.865,2,   34.865,2,  198.590,1,  215.260,2,    1.440,2,    0.030,2,    0.000,2,    0.046,2,    1.903,2,    1.110,2, -999.000,9, -999.000,9, -999.000,9
           NA,    P03C,    297,   1,-999.0,     -99,  2,20060104,0026,  24.2452,  142.9410,  2590,  150.200,   19.353,   34.889,2,   34.891,2,  189.320,1,  204.220,2,    2.410,2,    2.050,2,    0.010,2,    0.201,2,    2.232,2,    1.267,2, -999.000,9, -999.000,9, -999.000,9
           NA,    P03C,    297,   1,-999.0,     -99,  2,20060104,0026,  24.2452,  142.9410,  2590,  199.900,   18.161,   34.838,2,   34.837,2,  187.170,1,  202.800,2,    3.140,2,    3.620,2,    0.010,2,    0.297,2,    2.355,2,    1.329,2, -999.000,9, -999.000,9, -999.000,9
           NA,    P03C,    297,   1,-999.0,     -99,  2,20060104,0026,  24.2452,  142.9410,  2590,  249.200,   17.290,   34.780,2,   34.778,2,  186.130,1,  201.270,2,    4.050,2,    4.990,2,    0.000,2,    0.382,2,    2.439,6,    1.365,6, -999.000,9, -999.000,9, -999.000,9
           NA,    P03C,    297,   1,-999.0,     -99,  2,20060104,0026,  24.2452,  142.9410,  2590,  301.700,   16.438,   34.713,2,   34.709,2,  185.580,1,  200.820,2,    5.530,2,    6.380,2,    0.000,2,    0.477,2,    2.530,2,    1.576,2, -999.000,9, -999.000,9, -999.000,9
           NA,    P03C,    297,   1,-999.0,     -99,  2,20060104,0026,  24.2452,  142.9410,  2590,  398.900,   13.813,   34.487,2,   34.485,2,  178.760,1,  192.560,2,   11.560,2,   11.040,2,    0.000,2,    0.810,2,    2.650,2,    1.400,2, -999.000,9, -999.000,9, -999.000,9
           NA,    P03C,    297,   1,-999.0,     -99,  2,20060104,0026,  24.2452,  142.9410,  2590,  499.700,   11.639,   34.340,2,   34.335,6,  169.670,1,  182.530,2,   20.400,2,   15.800,2,    0.000,2,    1.154,2,    2.587,2,    1.344,2, -999.000,9, -999.000,9, -999.000,9
           NA,    P03C,    297,   1,-999.0,     -99,  2,20060104,0026,  24.2452,  142.9410,  2590,  600.700,    8.870,   34.187,2,   34.184,2,  142.210,1,  152.120,2,   38.710,2,   23.530,2,    0.000,2,    1.719,2,    2.144,2,    1.054,2, -999.000,9, -999.000,9, -999.000,9
           NA,    P03C,    297,   1,-999.0,     -99,  2,20060104,0026,  24.2452,  142.9410,  2590,  701.600,    7.123,   34.132,2,   34.132,2,  109.280,1,  116.300,2,   54.730,2,   29.950,2,    0.000,2,    2.192,2,    1.468,2,    0.710,2, -999.000,9, -999.000,9, -999.000,9
           NA,    P03C,    297,   1,-999.0,     -99,  2,20060104,0026,  24.2452,  142.9410,  2590,  801.000,    5.338,   34.157,2,   34.156,2,   78.580,1,   85.160,2,   81.150,2,   35.630,2,    0.000,2,    2.610,2,    0.951,6,    0.463,6, -999.000,9, -999.000,9, -999.000,9
           NA,    P03C,    297,   1,-999.0,     -99,  2,20060104,0026,  24.2452,  142.9410,  2590,  901.200,    4.315,   34.241,2,   34.242,2,   56.220,1,   59.980,2,  104.270,2,   39.380,2,    0.000,2,    2.858,2,    0.502,2,    0.246,2, -999.000,9, -999.000,9, -999.000,9
           NA,    P03C,    297,   1,-999.0,     -99,  2,20060104,0026,  24.2452,  142.9410,  2590,  999.800,    3.872,   34.327,2,   34.326,6,   48.320,1,   51.200,2,  116.390,2,   40.930,2,    0.000,2,    2.959,2,    0.233,2,    0.116,2, -999.000,9, -999.000,9, -999.000,9
           NA,    P03C,    297,   1,-999.0,     -99,  2,20060104,0026,  24.2452,  142.9410,  2590, 1201.800,    3.235,   34.407,2,   34.407,2,   43.830,1,   46.680,2,  132.290,2,   41.950,2,    0.000,2,    3.025,2,    0.090,2,    0.041,2, -999.000,9, -999.000,9, -999.000,9
           NA,    P03C,    297,   1,-999.0,     -99,  2,20060104,0026,  24.2452,  142.9410,  2590, 1401.900,    2.691,   34.498,2,   34.497,2,   54.650,1,   58.420,2,  144.010,2,   41.750,2,    0.000,2,    2.990,2,    0.029,2,    0.014,2, -999.000,9, -999.000,9, -999.000,9
           NA,    P03C,    297,   1,-999.0,     -99,  2,20060104,0026,  24.2452,  142.9410,  2590, 1601.200,    2.300,   34.564,2,   34.564,2,   77.720,1,   83.400,2,  146.860,2,   40.300,2,    0.000,2,    2.879,2,    0.005,2,    0.005,2, -999.000,9, -999.000,9, -999.000,9
           NA,    P03C,    297,   1,-999.0,     -99,  2,20060104,0026,  24.2452,  142.9410,  2590, 1802.100,    2.065,   34.596,2,   34.595,6,   89.700,1,   96.230,2,  149.070,2,   39.670,2,    0.000,2,    2.819,2,    0.002,2,    0.002,2, -999.000,9, -999.000,9, -999.000,9
           NA,    P03C,    297,   1,-999.0,     -99,  2,20060104,0026,  24.2452,  142.9410,  2590, 2002.100,    1.902,   34.618,2,   34.617,2,   98.990,1,  106.110,2,  150.200,2,   39.050,2,    0.000,2,    2.768,2,    0.000,2,    0.000,2, -999.000,9, -999.000,9, -999.000,9
           NA,    P03C,    297,   1,-999.0,     -99,  2,20060104,0026,  24.2452,  142.9410,  2590, 2202.400,    1.789,   34.633,2,   34.633,2,  107.120,1,  114.720,2,  150.430,2,   38.440,2,    0.000,2,    2.729,2,    0.000,2,    0.000,2, -999.000,9, -999.000,9, -999.000,9
           NA,    P03C,    297,   1,-999.0,     -99,  2,20060104,0026,  24.2452,  142.9410,  2590, 2400.500,    1.781,   34.636,2,   34.636,2,  108.920,1,  116.360,2,  150.490,2,   38.380,2,    0.000,2,    2.718,2,    0.000,2,    0.000,2, -999.000,9, -999.000,9, -999.000,9
           NA,    P03C,    297,   1,-999.0,     -99,  2,20060104,0026,  24.2452,  142.9410,  2590, 2526.800,    1.740,   34.642,2,   34.643,6,  112.500,1,  119.900,2,  150.580,2,   38.260,2,    0.000,2,    2.703,2,    0.000,2,    0.000,2, -999.000,9, -999.000,9, -999.000,9
           NA,    P03C,    295,   1,-999.0,     -99,  2,20060103,1945,  24.2537,  143.2252,  4624,    9.300,   23.357,   34.889,2,   34.888,2,  196.200,1,  212.810,2,    1.480,2,    0.050,2,    0.000,2,    0.033,2,    1.811,2,    1.068,2, -999.000,9, -999.000,9, -999.000,9
           NA,    P03C,    295,   1,-999.0,     -99,  2,20060103,1945,  24.2537,  143.2252,  4624,   49.100,   23.362,   34.888,2,   34.889,2,  196.190,1,  212.710,2,    1.440,2,    0.040,2,    0.000,2,    0.033,2, -999.000,9, -999.000,9, -999.000,9, -999.000,9, -999.000,9
           NA,    P03C,    295,   1,-999.0,     -99,  2,20060103,1945,  24.2537,  143.2252,  4624,   99.700,   21.711,   34.933,2,   34.937,2,  197.560,1,  213.980,2,    1.840,2,    0.060,2,    0.020,2,    0.059,2,    2.088,2,    1.212,2, -999.000,9, -999.000,9, -999.000,9
           NA,    P03C,    295,   1,-999.0,     -99,  2,20060103,1945,  24.2537,  143.2252,  4624,  150.600,   19.059,   34.885,2,   34.883,2,  189.220,1,  205.010,2,    2.610,2,    1.790,2,    0.020,2,    0.180,2, -999.000,9, -999.000,9, -999.000,9, -999.000,9, -999.000,9
           NA,    P03C,    295,   1,-999.0,     -99,  2,20060103,1945,  24.2537,  143.2252,  4624,  199.800,   17.805,   34.819,2,   34.818,2,  191.000,1,  206.810,2,    3.500,2,    3.900,2,    0.010,2,    0.297,2,    2.384,2,    1.332,2, -999.000,9, -999.000,9, -999.000,9
           NA,    P03C,    295,   1,-999.0,     -99,  2,20060103,1945,  24.2537,  143.2252,  4624,  250.300,   17.146,   34.782,2,   34.775,2,  193.400,1,  208.070,2,    4.450,2,    4.890,2,    0.000,2,    0.357,2,    2.419,2,    1.344,2, -999.000,9, -999.000,9, -999.000,9
           NA,    P03C,    295,   1,-999.0,     -99,  2,20060103,1945,  24.2537,  143.2252,  4624,  300.500,   16.251,   34.702,2,   34.700,2,  185.280,1,  200.140,2,    6.600,2,    6.880,2,    0.000,2,    0.492,2, -999.000,9, -999.000,9, -999.000,9, -999.000,9, -999.000,9
           NA,    P03C,    295,   1,-999.0,     -99,  2,20060103,1945,  24.2537,  143.2252,  4624,  400.900,   13.513,   34.469,2,   34.473,2,  174.920,1,  189.200,2,   12.880,2,   11.740,2,    0.000,2,    0.856,2,    2.668,2,    1.375,2, -999.000,9, -999.000,9, -999.000,9
           NA,    P03C,    295,   1,-999.0,     -99,  2,20060103,1945,  24.2537,  143.2252,  4624,  500.200,   11.241,   34.298,2,   34.296,6,  166.150,1,  178.930,2,   20.480,2,   16.610,2,    0.000,2,    1.215,2,    2.658,2,    1.323,2, -999.000,9, -999.000,9, -999.000,9
           NA,    P03C,    295,   1,-999.0,     -99,  2,20060103,1945,  24.2537,  143.2252,  4624,  599.900,    8.672,   34.151,2,   34.148,2,  141.840,1,  153.070,2,   37.380,2,   23.680,2,    0.000,2,    1.737,2,    2.233,2,    1.083,2, -999.000,9, -999.000,9, -999.000,9
           NA,    P03C,    295,   1,-999.0,     -99,  2,20060103,1945,  24.2537,  143.2252,  4624,  699.900,    6.346,   34.057,2,   34.058,2,  122.700,1,  130.920,2,   61.200,2,   29.890,2,    0.000,2,    2.204,2,    1.957,2,    0.945,2, -999.000,9, -999.000,9, -999.000,9
           NA,    P03C,    295,   1,-999.0,     -99,  2,20060103,1945,  24.2537,  143.2252,  4624,  802.200,    5.033,   34.119,2,   34.120,2,   80.950,1,   87.540,2,   84.380,2,   36.010,2,    0.000,2,    2.632,2,    1.189,6,    0.567,6, -999.000,9, -999.000,9, -999.000,9
           NA,    P03C,    295,   1,-999.0,     -99,  2,20060103,1945,  24.2537,  143.2252,  4624,  900.600,    4.457,   34.228,2,   34.229,2,   57.900,1,   62.220,2,  101.280,2,   38.980,2,    0.000,2,    2.838,2,    0.561,2,    0.269,2, -999.000,9, -999.000,9, -999.000,9
           NA,    P03C,    295,   1,-999.0,     -99,  2,20060103,1945,  24.2537,  143.2252,  4624,  999.400,    3.759,   34.321,2,   34.324,6,   43.970,1,   47.130,2,  118.830,2,   41.240,2,    0.000,2,    2.994,2,    0.228,2,    0.106,2, -999.000,9, -999.000,9, -999.000,9
           NA,    P03C,    295,   1,-999.0,     -99,  2,20060103,1945,  24.2537,  143.2252,  4624, 1202.100,    3.124,   34.458,2,   34.458,2,   52.560,1,   56.690,2,  132.750,2,   41.380,2,    0.000,2,    2.986,2,    0.045,2,    0.019,2, -999.000,9, -999.000,9, -999.000,9
           NA,    P03C,    295,   1,-999.0,     -99,  2,20060103,1945,  24.2537,  143.2252,  4624, 1401.900,    2.627,   34.506,2,   34.507,2,   56.400,1,   61.130,2,  144.550,2,   41.580,2,    0.000,2,    2.978,2,    0.018,2,    0.007,2, -999.000,9, -999.000,9, -999.000,9
           NA,    P03C,    295,   1,-999.0,     -99,  2,20060103,1945,  24.2537,  143.2252,  4624, 1601.500,    2.323,   34.547,2,   34.548,2,   65.200,1,   70.670,2,  150.220,2,   41.080,2,    0.000,2,    2.943,2,    0.010,2,    0.004,2, -999.000,9, -999.000,9, -999.000,9
           NA,    P03C,    295,   1,-999.0,     -99,  2,20060103,1945,  24.2537,  143.2252,  4624, 1800.400,    2.097,   34.584,2,   34.585,2,   79.930,1,   86.680,2,  151.750,2,   40.150,2,    0.000,2,    2.867,2,    0.001,2,    0.000,2, -999.000,9, -999.000,9, -999.000,9
           NA,    P03C,    295,   1,-999.0,     -99,  2,20060103,1945,  24.2537,  143.2252,  4624, 2000.400,    1.944,   34.609,2,   34.609,6,   91.580,1,   99.480,2,  151.380,2,   39.390,2,    0.000,2,    2.805,2,    0.000,2,    0.000,2, -999.000,9, -999.000,9, -999.000,9
           NA,    P03C,    295,   1,-999.0,     -99,  2,20060103,1945,  24.2537,  143.2252,  4624, 2201.200,    1.807,   34.630,2,   34.631,2,  102.790,1,  111.820,2,  150.830,2,   38.620,2,    0.000,2,    2.742,2, -999.000,9, -999.000,9, -999.000,9, -999.000,9, -999.000,9
           NA,    P03C,    295,   1,-999.0,     -99,  2,20060103,1945,  24.2537,  143.2252,  4624, 2400.900,    1.726,   34.642,2,   34.642,2,  109.150,1,  118.820,2,  150.640,2,   38.210,2,    0.000,2,    2.710,2,    0.000,2,    0.000,2, -999.000,9, -999.000,9, -999.000,9
           NA,    P03C,    295,   1,-999.0,     -99,  2,20060103,1945,  24.2537,  143.2252,  4624, 2599.200,    1.668,   34.649,2,   34.649,2,  111.860,1,  121.650,2,  152.140,2,   38.070,2,    0.000,2,    2.695,2, -999.000,9, -999.000,9, -999.000,9, -999.000,9, -999.000,9
           NA,    P03C,    295,   1,-999.0,     -99,  2,20060103,1945,  24.2537,  143.2252,  4624, 2800.000,    1.624,   34.657,2,   34.657,6,  117.810,1,  128.110,2,  151.030,2,   37.620,2,    0.000,2,    2.663,2,    0.000,2,    0.000,2, -999.000,9, -999.000,9, -999.000,9
           NA,    P03C,    295,   1,-999.0,     -99,  2,20060103,1945,  24.2537,  143.2252,  4624, 3000.200,    1.582,   34.664,2,   34.664,2,  122.720,1,  133.360,2,  150.710,2,   37.340,2,    0.000,2,    2.640,2, -999.000,9, -999.000,9, -999.000,9, -999.000,9, -999.000,9
           NA,    P03C,    295,   1,-999.0,     -99,  2,20060103,1945,  24.2537,  143.2252,  4624, 3250.800,    1.516,   34.672,2,   34.673,2,  129.680,1,  140.760,2,  149.150,2,   36.890,2,    0.000,2,    2.594,2, -999.000,9, -999.000,9, -999.000,9, -999.000,9, -999.000,9
           NA,    P03C,    295,   1,-999.0,     -99,  2,20060103,1945,  24.2537,  143.2252,  4624, 3501.900,    1.498,   34.676,2,   34.677,2,  133.620,1,  144.780,2,  148.460,2,   36.510,2,    0.000,2,    2.571,2,    0.000,2,    0.002,2, -999.000,9, -999.000,9, -999.000,9
           NA,    P03C,    295,   1,-999.0,     -99,  2,20060103,1945,  24.2537,  143.2252,  4624, 3750.600,    1.488,   34.681,2,   34.681,6,  137.820,1,  149.040,2,  147.550,2,   36.270,2,    0.000,2,    2.554,2, -999.000,9, -999.000,9, -999.000,9, -999.000,9, -999.000,9
           NA,    P03C,    295,   1,-999.0,     -99,  2,20060103,1945,  24.2537,  143.2252,  4624, 3999.900,    1.487,   34.683,2,   34.684,2,  141.420,1,  152.270,2,  145.970,2,   36.110,2,    0.000,2,    2.539,2, -999.000,9, -999.000,9, -999.000,9, -999.000,9, -999.000,9
           NA,    P03C,    295,   1,-999.0,     -99,  2,20060103,1945,  24.2537,  143.2252,  4624, 4251.300,    1.485,   34.686,2,   34.686,2,  145.520,1,  156.100,2,  144.200,2,   35.790,2,    0.000,2,    2.516,2,    0.000,2,    0.000,2, -999.000,9, -999.000,9, -999.000,9
           NA,    P03C,    295,   1,-999.0,     -99,  2,20060103,1945,  24.2537,  143.2252,  4624, 4500.700,    1.457,   34.691,2,   34.692,2,  153.260,1,  163.720,2,  140.060,2,   35.220,2,    0.000,2,    2.477,2, -999.000,9, -999.000,9, -999.000,9, -999.000,9, -999.000,9
           NA,    P03C,    295,   1,-999.0,     -99,  2,20060103,1945,  24.2537,  143.2252,  4624, 4687.000,    1.458,   34.693,2,   34.693,6,  156.860,1,  166.480,2,  138.720,2,   35.150,2,    0.000,2,    2.461,2,    0.000,2,    0.000,2, -999.000,9, -999.000,9, -999.000,9