BOTTLE,20211903JOAExport
EXPOCODE,SECT_ID,STNNBR,CASTNO,SAMPNO,BTLNBR,BTLNBR_FLAG_W,DATE,TIME,LATITUDE,LONGITUDE,DEPTH,CTDPRS,CTDTMP,CTDSAL,CTDSAL_FLAG_W,SALNTY,SALNTY_FLAG_W,CTDOXY,CTDOXY_FLAG_W,OXYGEN,OXYGEN_FLAG_W,SILCAT,SILCAT_FLAG_W,NITRAT,NITRAT_FLAG_W,NITRIT,NITRIT_FLAG_W,PHSPHT,PHSPHT_FLAG_W,CFC-11,CFC-11_FLAG_W,CFC-12,CFC-12_FLAG_W,SF6,SF6_FLAG_W,TCARBN,TCARBN_FLAG_W,ALKALI,ALKALI_FLAG_W
,,,,,,,,,,,,DB,ITS-90,PSS-78,,PSS-78,,UMOL/KG,,UMOL/KG,,UMOL/KG,,UMOL/KG,,UMOL/KG,,UMOL/KG,,PMOL/KG,,PMOL/KG,,FMOL/KG,,UMOL/KG,,UMOL/KG
           NA,    P03C,    173,   1,-999.0,     -99,  2,20051203,1324,  23.3887, -170.7413,  4683,   10.200,   26.246,   35.170,2,   35.171,2,  185.120,1,  204.490,2,    0.850,2,    0.050,2,    0.000,2,    0.067,2,    1.706,2,    0.979,2, -999.000,9, 1968.700,2, 2315.500,2
           NA,    P03C,    173,   1,-999.0,     -99,  2,20051203,1324,  23.3887, -170.7413,  4683,   50.100,   25.834,   35.216,2,   35.217,2,  185.890,1,  205.410,2,    0.850,2,    0.050,2,    0.000,2,    0.067,2,    1.735,2,    0.986,2, -999.000,9, 1976.000,6, 2316.500,2
           NA,    P03C,    173,   1,-999.0,     -99,  2,20051203,1324,  23.3887, -170.7413,  4683,   99.900,   24.185,   35.196,2,   35.198,2,  192.860,1,  213.080,2,    0.990,2,    0.040,2,    0.000,2,    0.073,2,    1.926,2,    1.082,2, -999.000,9, 1995.000,2, 2317.400,6
           NA,    P03C,    173,   1,-999.0,     -99,  2,20051203,1324,  23.3887, -170.7413,  4683,  149.900,   20.910,   35.110,2,   35.109,2,  176.790,1,  195.630,2,    1.720,2,    1.440,2,    0.040,2,    0.207,2,    2.182,2,    1.226,2, -999.000,9, 2037.500,2, 2310.500,2
           NA,    P03C,    173,   1,-999.0,     -99,  2,20051203,1324,  23.3887, -170.7413,  4683,  199.400,   18.755,   34.937,2,   34.936,2,  180.250,1,  199.440,2,    2.740,2,    2.640,2,    0.010,2,    0.281,2,    2.368,2,    1.331,2, -999.000,9, 2041.300,2, 2297.400,2
           NA,    P03C,    173,   1,-999.0,     -99,  2,20051203,1324,  23.3887, -170.7413,  4683,  249.800,   16.112,   34.674,2,   34.662,2,  188.690,1,  208.700,2,    4.970,2,    5.050,2,    0.010,2,    0.437,2,    2.617,2,    1.452,2, -999.000,9, 2046.700,2, 2280.900,2
           NA,    P03C,    173,   1,-999.0,     -99,  2,20051203,1324,  23.3887, -170.7413,  4683,  300.700,   14.093,   34.450,2,   34.449,2,  188.820,1,  208.460,2,    7.730,2,    8.000,2,    0.010,2,    0.634,2,    2.771,2,    1.508,2, -999.000,9, 2061.900,2, 2273.200,2
           NA,    P03C,    173,   1,-999.0,     -99,  2,20051203,1324,  23.3887, -170.7413,  4683,  399.700,   11.004,   34.209,2,   34.206,2,  183.030,1,  200.840,2,   16.510,2,   14.560,2,    0.000,2,    1.085,2,    3.013,2,    1.564,2, -999.000,9, 2100.300,2, 2262.400,2
           NA,    P03C,    173,   1,-999.0,     -99,  2,20051203,1324,  23.3887, -170.7413,  4683,  499.500,    8.574,   34.100,2,   34.099,6,  138.590,1,  151.840,2,   33.080,2,   23.890,2,    0.000,2,    1.755,2,    2.450,2,    1.195,2, -999.000,9, 2168.000,2, 2269.300,2
           NA,    P03C,    173,   1,-999.0,     -99,  2,20051203,1324,  23.3887, -170.7413,  4683,  599.400,    6.639,   34.116,2,   34.118,2,   75.280,1,   81.450,2,   58.180,2,   33.860,2,    0.000,2,    2.502,2,    1.089,2,    0.507,2, -999.000,9, 2247.400,2, 2292.500,2
           NA,    P03C,    173,   1,-999.0,     -99,  2,20051203,1324,  23.3887, -170.7413,  4683,  700.300,    5.524,   34.172,2,   34.172,2,   46.660,1,   51.950,2,   77.690,2,   38.460,2,    0.000,2,    2.840,2,    0.495,2,    0.232,2, -999.000,9, 2290.800,6, 2309.800,2
           NA,    P03C,    173,   1,-999.0,     -99,  2,20051203,1324,  23.3887, -170.7413,  4683,  801.100,    4.907,   34.284,2,   34.284,2,   31.680,1,   35.720,2,   92.050,2,   41.040,2,    0.000,2,    3.030,2,    0.170,6,    0.077,6, -999.000,9, 2318.100,2, 2332.900,6
           NA,    P03C,    173,   1,-999.0,     -99,  2,20051203,1324,  23.3887, -170.7413,  4683,  900.000,    4.516,   34.375,2,   34.374,2,   31.540,1,   35.820,2,  100.780,2,   41.760,2,    0.000,2,    3.055,2,    0.073,2,    0.027,2, -999.000,9, 2331.100,2, 2346.000,2
           NA,    P03C,    173,   1,-999.0,     -99,  2,20051203,1324,  23.3887, -170.7413,  4683,  999.900,    4.165,   34.442,2,   34.443,6,   39.100,1,   44.150,2,  107.990,2,   41.810,2,    0.000,2,    3.051,2,    0.038,2,    0.011,2, -999.000,9, 2339.400,2, 2360.600,2
           NA,    P03C,    173,   1,-999.0,     -99,  2,20051203,1324,  23.3887, -170.7413,  4683, 1200.100,    3.588,   34.512,2,   34.512,2,   49.620,1,   55.340,2,  119.930,2,   41.690,2,    0.000,2,    3.023,2,    0.013,2,    0.002,2, -999.000,9, 2344.700,2, 2378.500,2
           NA,    P03C,    173,   1,-999.0,     -99,  2,20051203,1324,  23.3887, -170.7413,  4683, 1400.300,    3.110,   34.542,2,   34.541,2,   56.580,1,   63.200,2,  130.990,2,   41.370,2,    0.000,2,    2.996,2,    0.006,2,    0.000,2, -999.000,9, 2351.200,2, 2388.600,2
           NA,    P03C,    173,   1,-999.0,     -99,  2,20051203,1324,  23.3887, -170.7413,  4683, 1599.700,    2.773,   34.573,2,   34.573,2,   65.920,1,   73.550,2,  137.550,2,   40.990,2,    0.000,2,    2.945,2,    0.003,2,    0.001,2, -999.000,9, 2351.400,2, 2399.500,2
           NA,    P03C,    173,   1,-999.0,     -99,  2,20051203,1324,  23.3887, -170.7413,  4683, 1801.200,    2.396,   34.596,2,   34.596,2,   74.370,1,   83.040,2,  146.140,2,   40.490,2,    0.000,2,    2.903,2,    0.002,2,    0.000,2, -999.000,9, 2355.400,2, 2405.300,2
           NA,    P03C,    173,   1,-999.0,     -99,  2,20051203,1324,  23.3887, -170.7413,  4683, 2001.100,    2.130,   34.613,2,   34.613,6,   81.090,1,   90.740,2,  152.220,2,   40.060,2,    0.000,2,    2.862,2,    0.003,2,    0.000,2, -999.000,9, 2355.000,2, 2412.400,2
           NA,    P03C,    173,   1,-999.0,     -99,  2,20051203,1324,  23.3887, -170.7413,  4683, 2201.500,    1.921,   34.629,2,   34.629,2,   88.840,1,   99.530,2,  156.110,2,   39.620,2,    0.000,2,    2.819,2,    0.002,2,    0.000,2, -999.000,9, 2354.900,2, 2415.700,2
           NA,    P03C,    173,   1,-999.0,     -99,  2,20051203,1324,  23.3887, -170.7413,  4683, 2400.100,    1.787,   34.642,2,   34.642,2,   96.250,1,  108.070,2,  157.640,2,   39.100,2,    0.000,2,    2.773,2,    0.001,2,    0.000,2, -999.000,9, 2352.500,6, 2419.800,2
           NA,    P03C,    173,   1,-999.0,     -99,  2,20051203,1324,  23.3887, -170.7413,  4683, 2601.300,    1.700,   34.651,2,   34.651,2,  102.540,1,  115.360,2,  157.690,2,   38.630,2,    0.000,2,    2.729,2, -999.000,9, -999.000,9, -999.000,9, 2348.700,2, 2418.300,6
           NA,    P03C,    173,   1,-999.0,     -99,  2,20051203,1324,  23.3887, -170.7413,  4683, 2799.500,    1.625,   34.659,2,   34.659,6,  108.580,1,  121.990,2,  157.730,2,   38.160,2,    0.000,2,    2.696,2,    0.004,2,    0.002,2, -999.000,9, 2348.400,2, 2421.500,2
           NA,    P03C,    173,   1,-999.0,     -99,  2,20051203,1324,  23.3887, -170.7413,  4683, 3000.300,    1.577,   34.665,2,   34.665,2,  113.600,1,  127.800,2,  156.930,2,   37.890,2,    0.010,2,    2.666,2, -999.000,9, -999.000,9, -999.000,9, 2344.000,2, 2424.000,2
           NA,    P03C,    173,   1,-999.0,     -99,  2,20051203,1324,  23.3887, -170.7413,  4683, 3249.600,    1.520,   34.673,2,   34.673,2,  120.760,1,  135.630,2,  154.860,2,   37.230,2,    0.000,2,    2.611,2, -999.000,9, -999.000,9, -999.000,9, 2339.200,2, 2418.800,2
           NA,    P03C,    173,   1,-999.0,     -99,  2,20051203,1324,  23.3887, -170.7413,  4683, 3500.300,    1.489,   34.678,2,   34.678,2,  126.400,1,  141.640,2,  153.280,2,   36.900,2,    0.010,2,    2.590,2,    0.002,2,    0.004,2, -999.000,9, 2333.700,2, 2418.000,2
           NA,    P03C,    173,   1,-999.0,     -99,  2,20051203,1324,  23.3887, -170.7413,  4683, 3750.200,    1.462,   34.683,2,   34.683,6,  132.580,1,  148.340,2,  150.440,2,   36.380,2,    0.000,2,    2.557,2, -999.000,9, -999.000,9, -999.000,9, 2327.000,2, 2414.400,2
           NA,    P03C,    173,   1,-999.0,     -99,  2,20051203,1324,  23.3887, -170.7413,  4683, 4001.300,    1.451,   34.686,2,   34.686,2,  137.350,1,  153.240,2,  148.060,2,   36.070,2,    0.000,2,    2.531,2, -999.000,9, -999.000,9, -999.000,9, 2324.200,2, 2411.600,2
           NA,    P03C,    173,   1,-999.0,     -99,  2,20051203,1324,  23.3887, -170.7413,  4683, 4251.600,    1.449,   34.689,2,   34.689,2,  141.610,1,  157.230,2,  145.950,2,   35.780,2,    0.010,2,    2.505,2,    0.003,2,    0.001,2, -999.000,9, 2320.600,6, 2413.300,2
           NA,    P03C,    173,   1,-999.0,     -99,  2,20051203,1324,  23.3887, -170.7413,  4683, 4499.700,    1.450,   34.691,2,   34.692,2,  145.910,1,  161.200,2,  143.560,2,   35.460,2,    0.000,2,    2.483,2, -999.000,9, -999.000,9, -999.000,9, 2316.100,2, 2409.100,6
           NA,    P03C,    173,   1,-999.0,     -99,  2,20051203,1324,  23.3887, -170.7413,  4683, 4501.200,    1.451,   34.691,2,   34.692,2,  145.920,1,  161.130,2,  143.790,2,   35.550,2,    0.000,2,    2.489,2, -999.000,9, -999.000,9, -999.000,9, 2318.900,2, 2412.100,2
           NA,    P03C,    173,   1,-999.0,     -99,  2,20051203,1324,  23.3887, -170.7413,  4683, 4742.400,    1.463,   34.693,2,   34.693,6,  149.870,1,  163.790,2,  142.120,2,   35.280,2,    0.010,2,    2.470,2,    0.001,2,    0.004,2, -999.000,9, 2313.500,2, 2409.500,2
           NA,    P03C,    171,   1,-999.0,     -99,  2,20051203,0545,  23.0677, -170.0200,  4655,   10.400,   25.951,   35.208,2,   35.208,2,  186.090,1,  205.470,2,    0.980,2,    0.050,2,    0.000,2,    0.051,2,    1.626,2,    0.978,2, -999.000,9, -999.000,9, -999.000,9
           NA,    P03C,    171,   1,-999.0,     -99,  2,20051203,0545,  23.0677, -170.0200,  4655,   51.400,   25.800,   35.204,2,   35.204,2,  186.160,1,  205.670,2,    1.000,2,    0.050,2,    0.000,2,    0.050,2,    1.623,2,    0.982,2, -999.000,9, -999.000,9, -999.000,9
           NA,    P03C,    171,   1,-999.0,     -99,  2,20051203,0545,  23.0677, -170.0200,  4655,  100.700,   23.111,   35.181,2,   35.181,2,  187.980,1,  208.210,2,    1.240,2,    0.140,2,    0.060,2,    0.091,2,    1.906,2,    1.144,2, -999.000,9, -999.000,9, -999.000,9
           NA,    P03C,    171,   1,-999.0,     -99,  2,20051203,0545,  23.0677, -170.0200,  4655,  151.000,   20.474,   35.106,2,   35.103,2,  177.920,1,  196.640,2,    2.010,2,    1.710,2,    0.020,2,    0.208,2,    2.118,2,    1.225,2, -999.000,9, -999.000,9, -999.000,9
           NA,    P03C,    171,   1,-999.0,     -99,  2,20051203,0545,  23.0677, -170.0200,  4655,  200.100,   18.095,   34.879,2,   34.862,2,  183.570,1,  202.840,2,    3.270,2,    3.010,2,    0.010,2,    0.296,2,    2.364,2,    1.335,2, -999.000,9, -999.000,9, -999.000,9
           NA,    P03C,    171,   1,-999.0,     -99,  2,20051203,0545,  23.0677, -170.0200,  4655,  250.400,   15.763,   34.610,2,   34.602,2,  186.730,1,  206.260,2,    5.360,2,    5.500,2,    0.010,2,    0.459,2,    2.594,6,    1.432,6, -999.000,9, -999.000,9, -999.000,9
           NA,    P03C,    171,   1,-999.0,     -99,  2,20051203,0545,  23.0677, -170.0200,  4655,  301.500,   14.004,   34.437,2,   34.432,2,  188.780,1,  208.330,2,    7.950,2,    8.170,2,    0.010,2,    0.633,2,    2.749,2,    1.477,2, -999.000,9, -999.000,9, -999.000,9
           NA,    P03C,    171,   1,-999.0,     -99,  2,20051203,0545,  23.0677, -170.0200,  4655,  399.500,   10.842,   34.190,2,   34.189,2,  177.630,1,  196.400,2,   17.220,2,   15.170,2,    0.000,2,    1.124,2,    2.933,2,    1.510,2, -999.000,9, -999.000,9, -999.000,9
           NA,    P03C,    171,   1,-999.0,     -99,  2,20051203,0545,  23.0677, -170.0200,  4655,  500.900,    8.487,   34.094,2,   34.094,6,  138.410,1,  152.280,2,   33.730,2,   24.060,2,    0.010,2,    1.754,2,    2.389,2,    1.160,2, -999.000,9, -999.000,9, -999.000,9
           NA,    P03C,    171,   1,-999.0,     -99,  2,20051203,0545,  23.0677, -170.0200,  4655,  601.200,    6.778,   34.109,2,   34.111,2,   79.850,1,   88.570,2,   55.390,2,   32.950,2,    0.010,2,    2.426,2,    1.169,2,    0.548,2, -999.000,9, -999.000,9, -999.000,9
           NA,    P03C,    171,   1,-999.0,     -99,  2,20051203,0545,  23.0677, -170.0200,  4655,  701.800,    5.445,   34.182,2,   34.182,2,   45.390,1,   50.750,2,   79.210,2,   38.760,2,    0.000,2,    2.845,2,    0.439,2,    0.210,2, -999.000,9, -999.000,9, -999.000,9
           NA,    P03C,    171,   1,-999.0,     -99,  2,20051203,0545,  23.0677, -170.0200,  4655,  802.400,    4.869,   34.306,2,   34.307,2,   31.380,1,   35.950,2,   93.010,2,   41.110,2,    0.000,2,    3.023,2,    0.131,6,    0.058,6, -999.000,9, -999.000,9, -999.000,9
           NA,    P03C,    171,   1,-999.0,     -99,  2,20051203,0545,  23.0677, -170.0200,  4655,  903.500,    4.510,   34.388,2,   34.388,2,   32.960,1,   37.290,2,  100.780,2,   41.710,2,    0.010,2,    3.058,2,    0.059,2,    0.026,2, -999.000,9, -999.000,9, -999.000,9
           NA,    P03C,    171,   1,-999.0,     -99,  2,20051203,0545,  23.0677, -170.0200,  4655, 1003.200,    4.184,   34.450,2,   34.450,6,   37.990,1,   42.650,2,  107.460,2,   41.870,2,    0.000,2,    3.057,2,    0.022,2,    0.011,2, -999.000,9, -999.000,9, -999.000,9
           NA,    P03C,    171,   1,-999.0,     -99,  2,20051203,0545,  23.0677, -170.0200,  4655, 1202.700,    3.678,   34.513,2,   34.513,2,   48.800,1,   54.440,2,  117.480,2,   41.580,2,    0.000,2,    3.023,2,    0.008,2,    0.003,2, -999.000,9, -999.000,9, -999.000,9
           NA,    P03C,    171,   1,-999.0,     -99,  2,20051203,0545,  23.0677, -170.0200,  4655, 1401.900,    3.267,   34.551,2,   34.551,2,   58.800,1,   65.460,2,  125.820,2,   41.240,2,    0.000,2,    2.976,2,    0.004,2,    0.001,2, -999.000,9, -999.000,9, -999.000,9
           NA,    P03C,    171,   1,-999.0,     -99,  2,20051203,0545,  23.0677, -170.0200,  4655, 1599.100,    2.782,   34.566,2,   34.566,2,   63.660,1,   70.940,2,  138.060,2,   41.090,2,    0.000,2,    2.952,2,    0.001,2,    0.000,2, -999.000,9, -999.000,9, -999.000,9
           NA,    P03C,    171,   1,-999.0,     -99,  2,20051203,0545,  23.0677, -170.0200,  4655, 1798.000,    2.426,   34.591,2,   34.592,2,   72.800,1,   81.120,2,  145.720,2,   40.580,2,    0.000,2,    2.901,2,    0.000,2,    0.000,2, -999.000,9, -999.000,9, -999.000,9
           NA,    P03C,    171,   1,-999.0,     -99,  2,20051203,0545,  23.0677, -170.0200,  4655, 2000.000,    2.152,   34.610,2,   34.610,6,   79.590,1,   89.000,2,  151.880,2,   40.170,2,    0.000,2,    2.858,2,    0.001,2,    0.000,2, -999.000,9, -999.000,9, -999.000,9
           NA,    P03C,    171,   1,-999.0,     -99,  2,20051203,0545,  23.0677, -170.0200,  4655, 2199.200,    1.947,   34.626,2,   34.626,2,   87.430,1,   97.750,2,  155.850,2,   39.660,2,    0.000,2,    2.812,2,    0.002,2,    0.001,2, -999.000,9, -999.000,9, -999.000,9
           NA,    P03C,    171,   1,-999.0,     -99,  2,20051203,0545,  23.0677, -170.0200,  4655, 2400.700,    1.813,   34.638,2,   34.638,2,   94.240,1,  105.640,2,  157.390,2,   39.170,2,    0.000,2,    2.770,2,    0.003,2,    0.001,2, -999.000,9, -999.000,9, -999.000,9
           NA,    P03C,    171,   1,-999.0,     -99,  2,20051203,0545,  23.0677, -170.0200,  4655, 2601.100,    1.707,   34.649,2,   34.649,2,  101.390,1, -999.000,3,  157.780,2,   38.660,2,    0.010,2,    2.732,2,    0.000,2,    0.001,2, -999.000,9, -999.000,9, -999.000,9
           NA,    P03C,    171,   1,-999.0,     -99,  2,20051203,0545,  23.0677, -170.0200,  4655, 2800.800,    1.637,   34.658,2,   34.658,6,  107.660,1,  120.870,2,  157.480,2,   38.190,2,    0.010,2,    2.693,2, -999.000,9, -999.000,9, -999.000,9, -999.000,9, -999.000,9
           NA,    P03C,    171,   1,-999.0,     -99,  2,20051203,0545,  23.0677, -170.0200,  4655, 3002.400,    1.572,   34.665,2,   34.665,2,  114.050,1,  128.250,2,  156.270,2,   37.660,2,    0.010,2,    2.653,2, -999.000,9, -999.000,9, -999.000,9, -999.000,9, -999.000,9
           NA,    P03C,    171,   1,-999.0,     -99,  2,20051203,0545,  23.0677, -170.0200,  4655, 3251.900,    1.514,   34.673,2,   34.673,2,  121.440,1,  136.330,2,  154.670,2,   37.180,2,    0.010,2,    2.608,2,    0.000,2,    0.000,2, -999.000,9, -999.000,9, -999.000,9
           NA,    P03C,    171,   1,-999.0,     -99,  2,20051203,0545,  23.0677, -170.0200,  4655, 3500.700,    1.485,   34.678,2,   34.678,2,  127.020,1,  142.190,2,  153.010,2,   36.770,2,    0.000,2,    2.580,2, -999.000,9, -999.000,9, -999.000,9, -999.000,9, -999.000,9
           NA,    P03C,    171,   1,-999.0,     -99,  2,20051203,0545,  23.0677, -170.0200,  4655, 3751.300,    1.469,   34.682,2,   34.682,6,  131.960,1,  147.300,2,  150.830,2,   36.440,2,    0.000,2,    2.555,2, -999.000,9, -999.000,9, -999.000,9, -999.000,9, -999.000,9
           NA,    P03C,    171,   1,-999.0,     -99,  2,20051203,0545,  23.0677, -170.0200,  4655, 4002.200,    1.452,   34.686,2,   34.686,2,  137.510,1,  153.210,2,  147.860,2,   35.950,2,    0.010,2,    2.524,2,    0.000,2,    0.000,2, -999.000,9, -999.000,9, -999.000,9
           NA,    P03C,    171,   1,-999.0,     -99,  2,20051203,0545,  23.0677, -170.0200,  4655, 4250.800,    1.448,   34.689,2,   34.689,2,  141.970,1,  157.420,2,  145.610,2,   35.700,2,    0.000,2,    2.502,2, -999.000,9, -999.000,9, -999.000,9, -999.000,9, -999.000,9
           NA,    P03C,    171,   1,-999.0,     -99,  2,20051203,0545,  23.0677, -170.0200,  4655, 4500.700,    1.449,   34.691,2,   34.691,2,  146.270,1,  161.280,2,  143.380,2,   35.450,2,    0.000,2,    2.477,2, -999.000,9, -999.000,9, -999.000,9, -999.000,9, -999.000,9
           NA,    P03C,    171,   1,-999.0,     -99,  2,20051203,0545,  23.0677, -170.0200,  4655, 4706.500,    1.454,   34.693,2,   34.693,6,  150.580,1,  164.340,2,  141.730,2,   35.250,2,    0.010,2,    2.462,2,    0.001,2,    0.002,2, -999.000,9, -999.000,9, -999.000,9