BOTTLE,20211903JOAExport
EXPOCODE,SECT_ID,STNNBR,CASTNO,SAMPNO,BTLNBR,BTLNBR_FLAG_W,DATE,TIME,LATITUDE,LONGITUDE,DEPTH,CTDPRS,CTDTMP,CTDSAL,CTDSAL_FLAG_W,SALNTY,SALNTY_FLAG_W,CTDOXY,CTDOXY_FLAG_W,OXYGEN,OXYGEN_FLAG_W,SILCAT,SILCAT_FLAG_W,NITRAT,NITRAT_FLAG_W,NITRIT,NITRIT_FLAG_W,PHSPHT,PHSPHT_FLAG_W,CFC-11,CFC-11_FLAG_W,CFC-12,CFC-12_FLAG_W,SF6,SF6_FLAG_W,TCARBN,TCARBN_FLAG_W,ALKALI,ALKALI_FLAG_W
,,,,,,,,,,,,DB,ITS-90,PSS-78,,PSS-78,,UMOL/KG,,UMOL/KG,,UMOL/KG,,UMOL/KG,,UMOL/KG,,UMOL/KG,,PMOL/KG,,PMOL/KG,,FMOL/KG,,UMOL/KG,,UMOL/KG
           NA,    P03C,    215,   1,-999.0,     -99,  2,20051211,0900,  24.2290,  172.7662,  5834,   10.300,   26.608,   35.226,2,   35.226,2,  179.240,1,  203.020,2,    0.970,2,   -0.040,2,    0.000,2,    0.049,2,    1.561,2,    0.930,2, -999.000,9, -999.000,9, -999.000,9
           NA,    P03C,    215,   1,-999.0,     -99,  2,20051211,0900,  24.2290,  172.7662,  5834,   50.000,   26.338,   35.276,2,   35.278,2,  180.430,1,  204.260,2,    1.040,2,    0.020,2,    0.000,2,    0.048,2,    1.579,2,    0.935,2, -999.000,9, -999.000,9, -999.000,9
           NA,    P03C,    215,   1,-999.0,     -99,  2,20051211,0900,  24.2290,  172.7662,  5834,  100.100,   22.802,   35.237,2,   35.239,2,  187.070,1,  212.070,2,    1.390,2,    0.010,2,    0.010,2,    0.059,2,    1.913,2,    1.121,2, -999.000,9, -999.000,9, -999.000,9
           NA,    P03C,    215,   1,-999.0,     -99,  2,20051211,0900,  24.2290,  172.7662,  5834,  149.600,   20.023,   35.050,2,   35.055,2,  175.990,1,  199.720,2,    2.200,2,    1.160,2,    0.040,2,    0.173,2,    2.107,2,    1.220,2, -999.000,9, -999.000,9, -999.000,9
           NA,    P03C,    215,   1,-999.0,     -99,  2,20051211,0900,  24.2290,  172.7662,  5834,  199.700,   17.770,   34.840,2,   34.830,2,  179.930,1,  204.950,2,    3.500,2,    3.660,2,    0.010,2,    0.313,2,    2.293,2,    1.325,2, -999.000,9, -999.000,9, -999.000,9
           NA,    P03C,    215,   1,-999.0,     -99,  2,20051211,0900,  24.2290,  172.7662,  5834,  250.800,   16.301,   34.700,2,   34.701,2,  181.930,1,  206.280,2,    5.150,2,    5.650,2,    0.010,2,    0.434,2,    2.408,6,    1.367,6, -999.000,9, -999.000,9, -999.000,9
           NA,    P03C,    215,   1,-999.0,     -99,  2,20051211,0900,  24.2290,  172.7662,  5834,  300.900,   15.144,   34.584,2,   34.578,2,  179.020,1,  203.360,2,    7.160,2,    7.600,2,    0.010,2,    0.574,2,    2.537,2,    1.412,2, -999.000,9, -999.000,9, -999.000,9
           NA,    P03C,    215,   1,-999.0,     -99,  2,20051211,0900,  24.2290,  172.7662,  5834,  402.500,   12.087,   34.321,2,   34.326,2,  176.710,1,  201.210,2,   13.690,2,   12.530,2,    0.010,2,    0.921,2,    2.768,2,    1.468,2, -999.000,9, -999.000,9, -999.000,9
           NA,    P03C,    215,   1,-999.0,     -99,  2,20051211,0900,  24.2290,  172.7662,  5834,  502.000,    9.017,   34.133,2,   34.132,6,  145.790,1,  166.090,2,   30.160,2,   21.790,2,    0.010,2,    1.574,2,    2.426,2,    1.215,2, -999.000,9, -999.000,9, -999.000,9
           NA,    P03C,    215,   1,-999.0,     -99,  2,20051211,0900,  24.2290,  172.7662,  5834,  601.400,    7.003,   34.090,2,   34.090,2,  100.310,1,  114.560,2,   52.260,2,   30.330,2,    0.010,2,    2.197,2,    1.520,2,    0.719,2, -999.000,9, -999.000,9, -999.000,9
           NA,    P03C,    215,   1,-999.0,     -99,  2,20051211,0900,  24.2290,  172.7662,  5834,  701.600,    5.329,   34.103,2,   34.102,2,   70.550,1,   81.030,2,   77.680,2,   36.260,2,    0.000,2,    2.637,2,    0.944,2,    0.446,2, -999.000,9, -999.000,9, -999.000,9
           NA,    P03C,    215,   1,-999.0,     -99,  2,20051211,0900,  24.2290,  172.7662,  5834,  800.400,    4.475,   34.191,2,   34.191,2,   44.810,1,   51.300,2,   98.280,2,   40.170,2,    0.000,2,    2.915,2,    0.440,6,    0.204,6, -999.000,9, -999.000,9, -999.000,9
           NA,    P03C,    215,   1,-999.0,     -99,  2,20051211,0900,  24.2290,  172.7662,  5834,  900.600,    4.142,   34.313,2,   34.312,2,   33.360,1,   38.820,2,  108.560,2,   41.810,2,    0.000,2,    3.031,2,    0.113,2,    0.055,2, -999.000,9, -999.000,9, -999.000,9
           NA,    P03C,    215,   1,-999.0,     -99,  2,20051211,0900,  24.2290,  172.7662,  5834, 1003.000,    3.796,   34.391,2, -999.000,3,   34.820,1,   40.570,2,  117.370,2,   42.090,2,    0.000,2,    3.056,2,    0.040,2,    0.016,2, -999.000,9, -999.000,9, -999.000,9
           NA,    P03C,    215,   1,-999.0,     -99,  2,20051211,0900,  24.2290,  172.7662,  5834, 1200.100,    3.376,   34.489,2,   34.489,2,   49.220,1,   56.830,2,  125.670,2,   41.540,2,    0.010,2,    2.992,2,    0.005,2,    0.000,2, -999.000,9, -999.000,9, -999.000,9
           NA,    P03C,    215,   1,-999.0,     -99,  2,20051211,0900,  24.2290,  172.7662,  5834, 1399.100,    2.896,   34.541,2,   34.542,2,   60.900,1,   70.580,2,  134.770,2,   40.930,2,    0.000,2,    2.937,2,    0.000,2,    0.000,2, -999.000,9, -999.000,9, -999.000,9
           NA,    P03C,    215,   1,-999.0,     -99,  2,20051211,0900,  24.2290,  172.7662,  5834, 1602.100,    2.534,   34.570,2,   34.569,2,   67.520,1,   78.010,2,  142.490,2,   40.740,2,    0.000,2,    2.909,2,    0.000,2,    0.000,2, -999.000,9, -999.000,9, -999.000,9
           NA,    P03C,    215,   1,-999.0,     -99,  2,20051211,0900,  24.2290,  172.7662,  5834, 1801.000,    2.269,   34.594,2,   34.594,2,   74.990,1,   86.880,2,  147.530,2,   40.310,2,    0.000,2,    2.861,2,    0.000,2,    0.000,2, -999.000,9, -999.000,9, -999.000,9
           NA,    P03C,    215,   1,-999.0,     -99,  2,20051211,0900,  24.2290,  172.7662,  5834, 1999.800,    2.031,   34.619,2,   34.618,2,   84.440,1,   98.350,2,  151.250,2,   39.620,2,    0.000,2,    2.811,2,    0.001,2,    0.000,2, -999.000,9, -999.000,9, -999.000,9
           NA,    P03C,    215,   1,-999.0,     -99,  2,20051211,0900,  24.2290,  172.7662,  5834, 2200.300,    1.875,   34.634,2,   34.633,6,   91.380,1,  106.540,2,  153.040,2,   39.160,2,    0.000,2,    2.768,2,    0.005,2,    0.000,2, -999.000,9, -999.000,9, -999.000,9
           NA,    P03C,    215,   1,-999.0,     -99,  2,20051211,0900,  24.2290,  172.7662,  5834, 2402.100,    1.756,   34.645,2,   34.645,2,   97.110,1,  113.490,2,  154.170,2,   38.750,2,    0.010,2,    2.736,2,    0.006,2,    0.000,2, -999.000,9, -999.000,9, -999.000,9
           NA,    P03C,    215,   1,-999.0,     -99,  2,20051211,0900,  24.2290,  172.7662,  5834, 2600.000,    1.684,   34.653,2,   34.653,2,  102.220,1,  119.700,2,  154.550,2,   38.430,2,    0.000,2,    2.699,2, -999.000,9, -999.000,9, -999.000,9, -999.000,9, -999.000,9
           NA,    P03C,    215,   1,-999.0,     -99,  2,20051211,0900,  24.2290,  172.7662,  5834, 2801.100,    1.627,   34.661,2,   34.661,2,  107.420,1,  126.000,2,  154.000,2,   37.890,2,    0.000,2,    2.666,2,    0.001,2,    0.000,2, -999.000,9, -999.000,9, -999.000,9
           NA,    P03C,    215,   1,-999.0,     -99,  2,20051211,0900,  24.2290,  172.7662,  5834, 3001.100,    1.586,   34.666,2,   34.666,2,  111.610,1,  130.940,2,  153.370,2,   37.510,2,    0.000,2,    2.642,2, -999.000,9, -999.000,9, -999.000,9, -999.000,9, -999.000,9
           NA,    P03C,    215,   1,-999.0,     -99,  2,20051211,0900,  24.2290,  172.7662,  5834, 3252.000,    1.546,   34.673,2,   34.673,6,  117.170,1,  137.480,2,  151.750,2,   37.190,2,    0.000,2,    2.601,2, -999.000,9, -999.000,9, -999.000,9, -999.000,9, -999.000,9
           NA,    P03C,    215,   1,-999.0,     -99,  2,20051211,0900,  24.2290,  172.7662,  5834, 3500.300,    1.505,   34.678,2,   34.677,2,  121.530,1,  142.660,2,  151.130,2,   36.880,2,    0.000,2,    2.576,2,    0.000,2,    0.000,2, -999.000,9, -999.000,9, -999.000,9
           NA,    P03C,    215,   1,-999.0,     -99,  2,20051211,0900,  24.2290,  172.7662,  5834, 3750.800,    1.486,   34.681,2,   34.681,2,  125.440,1,  147.070,2,  150.060,2,   36.580,2,    0.000,2,    2.555,2, -999.000,9, -999.000,9, -999.000,9, -999.000,9, -999.000,9
           NA,    P03C,    215,   1,-999.0,     -99,  2,20051211,0900,  24.2290,  172.7662,  5834, 4001.900,    1.469,   34.685,2,   34.685,2,  130.860,1,  153.220,2,  146.710,2,   36.110,2,    0.000,2,    2.519,2, -999.000,9, -999.000,9, -999.000,9, -999.000,9, -999.000,9
           NA,    P03C,    215,   1,-999.0,     -99,  2,20051211,0900,  24.2290,  172.7662,  5834, 4247.900,    1.456,   34.688,2,   34.688,2,  135.420,1,  158.320,2,  143.940,2,   35.750,2,    0.000,2,    2.495,2,    0.001,2,    0.000,2, -999.000,9, -999.000,9, -999.000,9
           NA,    P03C,    215,   1,-999.0,     -99,  2,20051211,0900,  24.2290,  172.7662,  5834, 4502.200,    1.444,   34.692,2,   34.692,6,  140.610,1,  164.060,2,  141.130,2,   35.330,2,    0.000,2,    2.460,2, -999.000,9, -999.000,9, -999.000,9, -999.000,9, -999.000,9
           NA,    P03C,    215,   1,-999.0,     -99,  2,20051211,0900,  24.2290,  172.7662,  5834, 4750.200,    1.438,   34.695,2,   34.694,2,  145.120,1,  168.710,2,  138.440,2,   35.030,2,    0.000,2,    2.438,2, -999.000,9, -999.000,9, -999.000,9, -999.000,9, -999.000,9
           NA,    P03C,    215,   1,-999.0,     -99,  2,20051211,0900,  24.2290,  172.7662,  5834, 5001.700,    1.437,   34.697,2,   34.697,2,  149.410,1,  172.940,2,  135.840,2,   34.670,2,    0.000,2,    2.414,2,    0.000,2, -999.000,3, -999.000,9, -999.000,9, -999.000,9
           NA,    P03C,    215,   1,-999.0,     -99,  2,20051211,0900,  24.2290,  172.7662,  5834, 5248.800,    1.443,   34.699,2,   34.698,2,  152.960,1,  176.400,2,  133.980,2,   34.540,2,    0.000,2,    2.400,2, -999.000,9, -999.000,9, -999.000,9, -999.000,9, -999.000,9
           NA,    P03C,    215,   1,-999.0,     -99,  2,20051211,0900,  24.2290,  172.7662,  5834, 5498.300,    1.456,   34.700,2,   34.700,2,  155.890,1,  178.820,2,  132.600,2,   34.220,2,    0.010,2,    2.381,2,    0.002,2,    0.000,2, -999.000,9, -999.000,9, -999.000,9
           NA,    P03C,    215,   1,-999.0,     -99,  2,20051211,0900,  24.2290,  172.7662,  5834, 5749.400,    1.485,   34.701,2,   34.700,2,  157.600,1,  179.330,2,  132.130,2,   34.210,2,    0.000,2,    2.378,2, -999.000,9, -999.000,9, -999.000,9, -999.000,9, -999.000,9
           NA,    P03C,    215,   1,-999.0,     -99,  2,20051211,0900,  24.2290,  172.7662,  5834, 5923.400,    1.506,   34.700,2,   34.700,6,  158.980,1,  179.680,2,  131.940,2,   34.220,2,    0.000,2,    2.375,2,    0.000,2,    0.000,2, -999.000,9, -999.000,9, -999.000,9