BOTTLE,20211903JOAExport
EXPOCODE,SECT_ID,STNNBR,CASTNO,SAMPNO,BTLNBR,BTLNBR_FLAG_W,DATE,TIME,LATITUDE,LONGITUDE,DEPTH,CTDPRS,CTDTMP,CTDSAL,CTDSAL_FLAG_W,SALNTY,SALNTY_FLAG_W,CTDOXY,CTDOXY_FLAG_W,OXYGEN,OXYGEN_FLAG_W,SILCAT,SILCAT_FLAG_W,NITRAT,NITRAT_FLAG_W,NITRIT,NITRIT_FLAG_W,PHSPHT,PHSPHT_FLAG_W,CFC-11,CFC-11_FLAG_W,CFC-12,CFC-12_FLAG_W,SF6,SF6_FLAG_W,TCARBN,TCARBN_FLAG_W,ALKALI,ALKALI_FLAG_W
,,,,,,,,,,,,DB,ITS-90,PSS-78,,PSS-78,,UMOL/KG,,UMOL/KG,,UMOL/KG,,UMOL/KG,,UMOL/KG,,UMOL/KG,,PMOL/KG,,PMOL/KG,,FMOL/KG,,UMOL/KG,,UMOL/KG
           NA,    P03C,    169,   1,-999.0,     -99,  2,20051202,2221,  22.7522, -169.3327,  4690,    9.900,   26.196,   35.190,2,   35.190,2,  185.570,1,  205.120,2,    0.820,2,    0.030,2,    0.000,2,    0.053,2,    1.693,2,    0.973,2, -999.000,9, 1972.400,2, 2312.900,2
           NA,    P03C,    169,   1,-999.0,     -99,  2,20051202,2221,  22.7522, -169.3327,  4690,   49.500,   25.953,   35.267,2,   35.267,2,  186.270,1,  205.580,2,    0.830,2,    0.030,2,    0.000,2,    0.059,2,    1.702,2,    0.965,2, -999.000,9, 1979.800,6, 2313.100,2
           NA,    P03C,    169,   1,-999.0,     -99,  2,20051202,2221,  22.7522, -169.3327,  4690,  100.800,   24.499,   35.199,2,   35.200,2,  191.940,1,  211.490,2,    0.950,2,    0.020,2,    0.000,2,    0.065,2,    1.883,2,    1.054,2, -999.000,9, 1993.600,2, 2313.100,6
           NA,    P03C,    169,   1,-999.0,     -99,  2,20051202,2221,  22.7522, -169.3327,  4690,  149.600,   20.897,   35.136,2,   35.133,2,  179.870,1,  198.400,2,    1.730,2,    1.280,2,    0.030,2,    0.185,2,    2.168,2,    1.200,2, -999.000,9, 2033.100,2, 2309.300,2
           NA,    P03C,    169,   1,-999.0,     -99,  2,20051202,2221,  22.7522, -169.3327,  4690,  200.300,   18.987,   34.984,2,   34.982,2,  182.310,1,  200.790,2,    2.570,2,    2.390,2,    0.020,2,    0.255,2,    2.336,2,    1.291,2, -999.000,9, 2042.600,2, 2297.300,2
           NA,    P03C,    169,   1,-999.0,     -99,  2,20051202,2221,  22.7522, -169.3327,  4690,  250.000,   16.096,   34.661,2,   34.657,2,  187.290,1,  206.630,2,    4.950,2,    5.060,2,    0.010,2,    0.428,2,    2.609,6,    1.425,6, -999.000,9, 2047.700,2, 2277.100,2
           NA,    P03C,    169,   1,-999.0,     -99,  2,20051202,2221,  22.7522, -169.3327,  4690,  299.100,   13.886,   34.425,2,   34.425,2,  188.710,1,  207.870,2,    8.010,2,    8.310,2,    0.000,2,    0.645,2,    2.761,2,    1.504,2, -999.000,9, 2063.900,2, 2265.100,2
           NA,    P03C,    169,   1,-999.0,     -99,  2,20051202,2221,  22.7522, -169.3327,  4690,  401.400,   10.656,   34.185,2,   34.187,2,  180.130,1,  198.890,2,   17.390,2,   15.210,2,    0.000,2,    1.117,2,    3.007,2,    1.519,2, -999.000,9, 2106.400,2, 2259.500,2
           NA,    P03C,    169,   1,-999.0,     -99,  2,20051202,2221,  22.7522, -169.3327,  4690,  500.200,    7.882,   34.069,2,   34.070,6,  128.070,1,  140.510,2,   39.570,2,   26.350,2,    0.000,2,    1.920,2,    2.229,2,    1.041,2, -999.000,9, 2183.200,2, 2275.200,2
           NA,    P03C,    169,   1,-999.0,     -99,  2,20051202,2221,  22.7522, -169.3327,  4690,  599.500,    6.294,   34.053,2,   34.055,2,   84.590,1,   93.390,2,   59.270,2,   33.610,2,    0.000,2,    2.457,2,    1.295,2,    0.583,2, -999.000,9, 2242.300,2, 2290.300,2
           NA,    P03C,    169,   1,-999.0,     -99,  2,20051202,2221,  22.7522, -169.3327,  4690,  700.200,    5.667,   34.202,2,   34.202,2,   44.000,1,   48.960,2,   76.210,2,   38.540,2,    0.000,2,    2.849,2,    0.402,2,    0.191,2, -999.000,9, 2290.300,6, 2312.800,2
           NA,    P03C,    169,   1,-999.0,     -99,  2,20051202,2221,  22.7522, -169.3327,  4690,  799.700,    4.917,   34.299,2,   34.298,2,   32.790,1,   37.210,2,   91.800,2,   40.920,2,    0.000,2,    3.017,2,    0.141,6,    0.069,6, -999.000,9, 2317.500,2, 2334.500,6
           NA,    P03C,    169,   1,-999.0,     -99,  2,20051202,2221,  22.7522, -169.3327,  4690,  901.000,    4.615,   34.406,2,   34.405,2,   38.140,1,   42.670,2,   98.250,2,   41.320,2,    0.000,2,    3.018,2,    0.034,2,    0.017,2, -999.000,9, 2325.700,2, 2348.800,2
           NA,    P03C,    169,   1,-999.0,     -99,  2,20051202,2221,  22.7522, -169.3327,  4690, 1001.600,    4.271,   34.455,2,   34.456,6,   41.900,1,   46.820,2,  105.200,2,   41.520,2,    0.000,2,    3.031,2,    0.009,2,    0.004,2, -999.000,9, 2333.100,2, 2359.300,2
           NA,    P03C,    169,   1,-999.0,     -99,  2,20051202,2221,  22.7522, -169.3327,  4690, 1201.200,    3.703,   34.511,2,   34.511,2,   48.790,1,   54.430,2,  117.160,2,   41.670,2,    0.000,2,    3.023,2,    0.000,2,    0.000,2, -999.000,9, 2343.300,2, 2375.600,2
           NA,    P03C,    169,   1,-999.0,     -99,  2,20051202,2221,  22.7522, -169.3327,  4690, 1401.000,    3.259,   34.553,2,   34.552,2,   59.610,1,   66.790,2,  125.980,2,   41.160,2,    0.000,2,    2.979,2,    0.000,2,    0.000,2, -999.000,9, 2346.500,2, 2386.900,2
           NA,    P03C,    169,   1,-999.0,     -99,  2,20051202,2221,  22.7522, -169.3327,  4690, 1600.900,    2.850,   34.569,2,   34.569,2,   64.930,1,   72.250,2,  135.570,2,   41.000,2,    0.000,2,    2.954,2,    0.000,2,    0.000,2, -999.000,9, 2352.300,2, 2402.300,2
           NA,    P03C,    169,   1,-999.0,     -99,  2,20051202,2221,  22.7522, -169.3327,  4690, 1801.200,    2.504,   34.593,2,   34.593,2,   73.260,1,   81.730,2,  143.240,2,   40.520,2,    0.000,2,    2.907,2,    0.000,2,    0.000,2, -999.000,9, 2353.300,2, 2405.400,2
           NA,    P03C,    169,   1,-999.0,     -99,  2,20051202,2221,  22.7522, -169.3327,  4690, 2000.500,    2.239,   34.609,2,   34.609,6,   80.190,1,   89.560,2,  148.990,2,   40.180,2,    0.000,2,    2.865,2,    0.000,2,    0.000,2, -999.000,9, 2355.700,2, 2410.800,2
           NA,    P03C,    169,   1,-999.0,     -99,  2,20051202,2221,  22.7522, -169.3327,  4690, 2200.400,    2.018,   34.621,2,   34.621,2,   85.450,1,   95.560,2,  154.210,2,   39.810,2,    0.000,2,    2.836,2,    0.000,2,    0.000,2, -999.000,9, 2358.000,2, 2415.400,2
           NA,    P03C,    169,   1,-999.0,     -99,  2,20051202,2221,  22.7522, -169.3327,  4690, 2400.000,    1.866,   34.635,2,   34.635,2,   91.770,1,  102.910,2,  157.430,2,   39.390,2,    0.000,2,    2.796,2,    0.003,2,    0.000,2, -999.000,9, 2356.300,6, 2413.500,2
           NA,    P03C,    169,   1,-999.0,     -99,  2,20051202,2221,  22.7522, -169.3327,  4690, 2600.900,    1.767,   34.645,2,   34.645,2,   97.920,1,  109.720,2,  158.280,2,   38.940,2,    0.000,2,    2.760,2, -999.000,9, -999.000,9, -999.000,9, 2350.700,2, 2419.400,6
           NA,    P03C,    169,   1,-999.0,     -99,  2,20051202,2221,  22.7522, -169.3327,  4690, 2800.200,    1.658,   34.655,2,   34.655,2,  105.980,1,  119.070,2,  157.540,2,   38.370,2,    0.000,2,    2.718,2, -999.000,9, -999.000,9, -999.000,9, -999.000,3, 2416.600,2
           NA,    P03C,    169,   1,-999.0,     -99,  2,20051202,2221,  22.7522, -169.3327,  4690, 2998.800,    1.610,   34.662,2,   34.661,6,  110.970,1,  124.750,2,  157.320,2,   37.970,2,    0.000,2,    2.680,2,    0.000,2,    0.000,2, -999.000,9, 2343.800,2, 2416.500,2
           NA,    P03C,    169,   1,-999.0,     -99,  2,20051202,2221,  22.7522, -169.3327,  4690, 3251.000,    1.553,   34.670,2,   34.669,2,  117.970,1,  132.300,2,  155.960,2,   37.550,2,    0.000,2,    2.634,2, -999.000,9, -999.000,9, -999.000,9, 2339.100,2, 2421.000,2
           NA,    P03C,    169,   1,-999.0,     -99,  2,20051202,2221,  22.7522, -169.3327,  4690, 3500.700,    1.517,   34.675,2,   34.675,6,  123.880,1,  138.740,2,  154.190,2,   37.010,2,    0.000,2,    2.605,2, -999.000,9, -999.000,9, -999.000,9, 2337.400,2, 2419.900,2
           NA,    P03C,    169,   1,-999.0,     -99,  2,20051202,2221,  22.7522, -169.3327,  4690, 3749.500,    1.489,   34.680,2,   34.680,2,  129.810,1,  145.060,2,  151.870,2,   36.610,2,    0.000,2,    2.574,2,    0.000,2,    0.000,2, -999.000,9, 2332.900,2, 2418.200,2
           NA,    P03C,    169,   1,-999.0,     -99,  2,20051202,2221,  22.7522, -169.3327,  4690, 3999.600,    1.468,   34.685,2,   34.685,6,  135.670,1,  151.040,2,  149.190,2,   36.260,2,    0.000,2,    2.542,2, -999.000,9, -999.000,9, -999.000,9, 2323.400,2, 2415.400,2
           NA,    P03C,    169,   1,-999.0,     -99,  2,20051202,2221,  22.7522, -169.3327,  4690, 4248.600,    1.466,   34.687,2,   34.687,2,  139.870,1,  155.240,2,  146.980,2,   35.900,2,    0.000,2,    2.525,2,    0.003,2,    0.002,2, -999.000,9, 2320.000,2, 2411.300,2
           NA,    P03C,    169,   1,-999.0,     -99,  2,20051202,2221,  22.7522, -169.3327,  4690, 4499.300,    1.461,   34.690,2,   34.690,2,  144.820,1,  159.810,2,  144.610,2,   35.570,2,    0.000,2,    2.494,2, -999.000,9, -999.000,9, -999.000,9, 2317.800,6, 2410.300,2
           NA,    P03C,    169,   1,-999.0,     -99,  2,20051202,2221,  22.7522, -169.3327,  4690, 4499.500,    1.461,   34.690,2,   34.690,6,  144.840,1,  159.860,2,  144.320,2,   35.610,2,    0.000,2,    2.495,2, -999.000,9, -999.000,9, -999.000,9, 2316.900,2, 2406.600,6
           NA,    P03C,    169,   1,-999.0,     -99,  2,20051202,2221,  22.7522, -169.3327,  4690, 4753.100,    1.465,   34.692,2,   34.693,6,  149.890,1,  163.800,2,  142.270,2,   35.340,2,    0.000,2,    2.479,2,    0.000,2,    0.000,2, -999.000,9, 2315.500,2, 2409.500,2
           NA,    P03C,    167,   1,-999.0,     -99,  2,20051202,1503,  23.0112, -168.6548,  4760,    9.900,   25.894,   35.238,2,   35.238,2,  186.170,1,  205.130,2,    0.900,2,    0.030,2,    0.010,2,    0.042,2,    1.652,2,    0.957,2, -999.000,9, -999.000,9, -999.000,9
           NA,    P03C,    167,   1,-999.0,     -99,  2,20051202,1503,  23.0112, -168.6548,  4760,   49.300,   25.883,   35.256,2,   35.255,2,  186.480,1,  205.420,2,    0.930,2,    0.030,2,    0.000,2,    0.042,2,    1.674,2,    0.952,2, -999.000,9, -999.000,9, -999.000,9
           NA,    P03C,    167,   1,-999.0,     -99,  2,20051202,1503,  23.0112, -168.6548,  4760,   98.800,   23.041,   35.196,2,   35.197,2,  192.560,1,  211.940,2,    1.240,2,    0.050,2,    0.020,2,    0.074,2,    1.982,2,    1.147,2, -999.000,9, -999.000,9, -999.000,9
           NA,    P03C,    167,   1,-999.0,     -99,  2,20051202,1503,  23.0112, -168.6548,  4760,  150.400,   20.891,   35.132,2,   35.132,2,  178.500,1,  196.910,2,    1.820,2,    1.440,2,    0.030,2,    0.186,2,    2.128,2,    1.188,2, -999.000,9, -999.000,9, -999.000,9
           NA,    P03C,    167,   1,-999.0,     -99,  2,20051202,1503,  23.0112, -168.6548,  4760,  198.900,   18.966,   34.984,2,   34.961,2,  181.890,1,  201.420,2,    2.780,2,    2.530,2,    0.020,2,    0.255,2,    2.328,2,    1.279,2, -999.000,9, -999.000,9, -999.000,9
           NA,    P03C,    167,   1,-999.0,     -99,  2,20051202,1503,  23.0112, -168.6548,  4760,  249.900,   16.690,   34.727,2,   34.722,2,  186.210,1,  204.940,2,    4.470,2,    4.450,2,    0.010,2,    0.385,2,    2.542,6,    1.366,6, -999.000,9, -999.000,9, -999.000,9
           NA,    P03C,    167,   1,-999.0,     -99,  2,20051202,1503,  23.0112, -168.6548,  4760,  299.300,   15.109,   34.552,2,   34.546,2,  187.950,1,  207.160,2,    6.320,2,    6.520,2,    0.010,2,    0.524,2,    2.702,2,    1.429,2, -999.000,9, -999.000,9, -999.000,9
           NA,    P03C,    167,   1,-999.0,     -99,  2,20051202,1503,  23.0112, -168.6548,  4760,  402.300,   10.878,   34.164,2,   34.163,2,  175.670,1,  193.050,2,   16.740,2,   15.190,2,    0.010,2,    1.134,2,    3.038,2,    1.504,2, -999.000,9, -999.000,9, -999.000,9
           NA,    P03C,    167,   1,-999.0,     -99,  2,20051202,1503,  23.0112, -168.6548,  4760,  498.500,    8.057,   34.070,2,   34.064,6,  136.340,1,  146.320,2,   38.310,2,   25.860,2,    0.010,2,    1.865,2,    2.363,2,    1.093,2, -999.000,9, -999.000,9, -999.000,9
           NA,    P03C,    167,   1,-999.0,     -99,  2,20051202,1503,  23.0112, -168.6548,  4760,  600.700,    6.482,   34.095,2,   34.097,2,   77.160,1,   85.120,2,   58.770,2,   33.710,2,    0.010,2,    2.484,2,    1.142,2,    0.503,2, -999.000,9, -999.000,9, -999.000,9
           NA,    P03C,    167,   1,-999.0,     -99,  2,20051202,1503,  23.0112, -168.6548,  4760,  699.700,    5.693,   34.207,2,   34.210,2,   42.630,1,   47.150,2,   75.890,2,   38.640,2,    0.010,2,    2.854,2,    0.383,2,    0.169,2, -999.000,9, -999.000,9, -999.000,9
           NA,    P03C,    167,   1,-999.0,     -99,  3,20051202,1503,  23.0112, -168.6548,  4760,  798.900,    5.214,   34.298,2,   34.299,2,   33.420,1,   37.960,2,   86.400,2,   40.380,2,    0.010,2,    2.982,2,    0.166,6,    0.076,6, -999.000,9, -999.000,9, -999.000,9
           NA,    P03C,    167,   1,-999.0,     -99,  2,20051202,1503,  23.0112, -168.6548,  4760,  901.600,    4.671,   34.388,2,   34.388,2,   35.510,1,   39.930,2,   97.240,2,   41.180,2,    0.000,2,    3.031,2,    0.055,2,    0.055,2, -999.000,9, -999.000,9, -999.000,9
           NA,    P03C,    167,   1,-999.0,     -99,  2,20051202,1503,  23.0112, -168.6548,  4760,  999.900,    4.274,   34.434,2,   34.434,6,   37.730,1,   42.430,2,  105.440,2,   41.770,2,    0.000,2,    3.048,2,    0.036,2,    0.008,2, -999.000,9, -999.000,9, -999.000,9
           NA,    P03C,    167,   1,-999.0,     -99,  2,20051202,1503,  23.0112, -168.6548,  4760, 1200.700,    3.705,   34.509,2,   34.509,2,   47.990,1,   53.550,2,  117.140,2,   41.730,2,    0.000,2,    3.025,2,    0.008,2,    0.006,2, -999.000,9, -999.000,9, -999.000,9
           NA,    P03C,    167,   1,-999.0,     -99,  2,20051202,1503,  23.0112, -168.6548,  4760, 1400.800,    3.225,   34.553,2,   34.553,2,   59.180,1,   65.900,2,  126.390,2,   41.270,2,    0.000,2,    2.976,2,    0.001,2,    0.005,2, -999.000,9, -999.000,9, -999.000,9
           NA,    P03C,    167,   1,-999.0,     -99,  2,20051202,1503,  23.0112, -168.6548,  4760, 1600.600,    2.820,   34.571,2,   34.571,2,   65.590,1,   73.020,2,  135.920,2,   40.880,2,    0.010,2,    2.945,2,    0.000,2,    0.001,2, -999.000,9, -999.000,9, -999.000,9
           NA,    P03C,    167,   1,-999.0,     -99,  2,20051202,1503,  23.0112, -168.6548,  4760, 1800.900,    2.445,   34.592,2,   34.592,2,   73.280,1,   81.700,2,  144.430,2,   40.440,2,    0.000,2,    2.898,2,    0.010,2,    0.004,2, -999.000,9, -999.000,9, -999.000,9
           NA,    P03C,    167,   1,-999.0,     -99,  2,20051202,1503,  23.0112, -168.6548,  4760, 1999.800,    2.158,   34.613,2,   34.613,6,   81.720,1,   91.520,2,  150.480,2,   39.920,2,    0.000,2,    2.848,2,    0.001,2,    0.000,2, -999.000,9, -999.000,9, -999.000,9
           NA,    P03C,    167,   1,-999.0,     -99,  2,20051202,1503,  23.0112, -168.6548,  4760, 2200.300,    1.964,   34.626,2,   34.626,2,   87.680,1,   98.170,2,  154.720,2,   39.680,2,    0.010,2,    2.813,2,    0.001,2,    0.002,2, -999.000,9, -999.000,9, -999.000,9
           NA,    P03C,    167,   1,-999.0,     -99,  2,20051202,1503,  23.0112, -168.6548,  4760, 2401.600,    1.822,   34.639,2,   34.639,2,   94.070,1,  105.470,2,  157.360,2,   39.200,2,    0.010,2,    2.773,2,    0.002,2,    0.000,2, -999.000,9, -999.000,9, -999.000,9
           NA,    P03C,    167,   1,-999.0,     -99,  2,20051202,1503,  23.0112, -168.6548,  4760, 2600.200,    1.715,   34.650,2,   34.651,2,  101.840,1,  114.360,2,  157.360,2,   38.670,2,    0.000,2,    2.723,2, -999.000,9, -999.000,9, -999.000,9, -999.000,9, -999.000,9
           NA,    P03C,    167,   1,-999.0,     -99,  2,20051202,1503,  23.0112, -168.6548,  4760, 2799.900,    1.632,   34.659,2,   34.660,2,  108.530,1,  121.860,2,  157.100,2,   38.050,2,    0.010,2,    2.688,2,    0.000,2,    0.000,2, -999.000,9, -999.000,9, -999.000,9
           NA,    P03C,    167,   1,-999.0,     -99,  2,20051202,1503,  23.0112, -168.6548,  4760, 3001.900,    1.583,   34.666,2,   34.665,6,  113.680,1,  127.700,2,  156.330,2,   37.760,2,    0.000,2,    2.662,2, -999.000,9, -999.000,9, -999.000,9, -999.000,9, -999.000,9
           NA,    P03C,    167,   1,-999.0,     -99,  2,20051202,1503,  23.0112, -168.6548,  4760, 3250.600,    1.527,   34.673,2,   34.673,2,  120.340,1,  135.030,2,  154.800,2,   37.150,2,    0.010,2,    2.624,2, -999.000,9, -999.000,9, -999.000,9, -999.000,9, -999.000,9
           NA,    P03C,    167,   1,-999.0,     -99,  2,20051202,1503,  23.0112, -168.6548,  4760, 3502.000,    1.500,   34.678,2,   34.678,2,  125.650,1,  140.700,2,  153.090,2,   36.870,2,    0.000,2,    2.585,2,    0.004,2,    0.000,2, -999.000,9, -999.000,9, -999.000,9
           NA,    P03C,    167,   1,-999.0,     -99,  2,20051202,1503,  23.0112, -168.6548,  4760, 3750.600,    1.482,   34.681,2,   34.681,2,  130.490,1,  145.810,2,  151.160,2,   36.550,2,    0.000,2,    2.559,2, -999.000,9, -999.000,9, -999.000,9, -999.000,9, -999.000,9
           NA,    P03C,    167,   1,-999.0,     -99,  2,20051202,1503,  23.0112, -168.6548,  4760, 3999.100,    1.463,   34.685,2,   34.685,6,  136.150,1,  151.770,2,  148.370,2,   36.120,2,    0.000,2,    2.525,2, -999.000,9, -999.000,9, -999.000,9, -999.000,9, -999.000,9
           NA,    P03C,    167,   1,-999.0,     -99,  2,20051202,1503,  23.0112, -168.6548,  4760, 4250.000,    1.456,   34.688,2,   34.688,2,  141.040,1,  156.630,2,  145.760,2,   35.810,2,    0.010,2,    2.504,2,    0.001,2,    0.001,2, -999.000,9, -999.000,9, -999.000,9
           NA,    P03C,    167,   1,-999.0,     -99,  2,20051202,1503,  23.0112, -168.6548,  4760, 4498.600,    1.458,   34.691,2,   34.690,2,  145.060,1,  160.180,2,  143.680,2,   35.480,2,    0.000,2,    2.483,2, -999.000,9, -999.000,9, -999.000,9, -999.000,9, -999.000,9
           NA,    P03C,    167,   1,-999.0,     -99,  2,20051202,1503,  23.0112, -168.6548,  4760, 4499.500,    1.458,   34.691,2,   34.691,2,  145.050,1,  160.120,2,  143.810,2,   35.480,2,    0.000,2,    2.487,2, -999.000,9, -999.000,9, -999.000,9, -999.000,9, -999.000,9
           NA,    P03C,    167,   1,-999.0,     -99,  2,20051202,1503,  23.0112, -168.6548,  4760, 4752.200,    1.467,   34.692,2,   34.693,2,  148.870,1,  163.330,2,  141.800,2,   35.280,2,    0.000,2,    2.466,2, -999.000,9, -999.000,9, -999.000,9, -999.000,9, -999.000,9
           NA,    P03C,    167,   1,-999.0,     -99,  2,20051202,1503,  23.0112, -168.6548,  4760, 4827.400,    1.470,   34.693,2,   34.693,6,  150.870,1,  164.390,2,  141.380,2,   35.190,2,    0.000,2,    2.463,2,    0.003,2,    0.006,2, -999.000,9, -999.000,9, -999.000,9