BOTTLE,20211903JOAExport
EXPOCODE,SECT_ID,STNNBR,CASTNO,SAMPNO,BTLNBR,BTLNBR_FLAG_W,DATE,TIME,LATITUDE,LONGITUDE,DEPTH,CTDPRS,CTDTMP,CTDSAL,CTDSAL_FLAG_W,SALNTY,SALNTY_FLAG_W,CTDOXY,CTDOXY_FLAG_W,OXYGEN,OXYGEN_FLAG_W,SILCAT,SILCAT_FLAG_W,NITRAT,NITRAT_FLAG_W,NITRIT,NITRIT_FLAG_W,PHSPHT,PHSPHT_FLAG_W,CFC-11,CFC-11_FLAG_W,CFC-12,CFC-12_FLAG_W,SF6,SF6_FLAG_W,TCARBN,TCARBN_FLAG_W,ALKALI,ALKALI_FLAG_W
,,,,,,,,,,,,DB,ITS-90,PSS-78,,PSS-78,,UMOL/KG,,UMOL/KG,,UMOL/KG,,UMOL/KG,,UMOL/KG,,UMOL/KG,,PMOL/KG,,PMOL/KG,,FMOL/KG,,UMOL/KG,,UMOL/KG
           NA,    P03C,    322,   1,-999.0,     -99,  2,20060106,2347,  24.2358,  136.1902,  4362,    9.400,   22.252,   34.836,2,   34.837,2,  198.390,1,  215.500,2,    1.420,2,    0.030,2,    0.000,2,    0.044,2,    1.863,2,    1.098,2, -999.000,9, 1966.800,2, 2287.400,2
           NA,    P03C,    322,   1,-999.0,     -99,  2,20060106,2347,  24.2358,  136.1902,  4362,   50.000,   22.147,   34.844,2,   34.845,2,  198.020,1,  215.060,2,    1.440,2,    0.030,2,    0.000,2,    0.042,2,    1.889,2,    1.115,2, -999.000,9, 1970.400,6, 2287.100,2
           NA,    P03C,    322,   1,-999.0,     -99,  2,20060106,2347,  24.2358,  136.1902,  4362,  101.400,   20.235,   34.907,2,   34.907,2,  187.180,1,  203.370,2,    2.120,2,    1.430,2,    0.030,2,    0.148,2,    2.130,2,    1.231,2, -999.000,9, 2008.200,2, 2291.800,6
           NA,    P03C,    322,   1,-999.0,     -99,  2,20060106,2347,  24.2358,  136.1902,  4362,  149.900,   19.110,   34.890,2,   34.886,2,  184.080,1,  199.900,2,    2.770,2,    2.740,2,    0.010,2,    0.226,2,    2.237,2,    1.284,2, -999.000,9, 2020.900,2, 2287.600,2
           NA,    P03C,    322,   1,-999.0,     -99,  2,20060106,2347,  24.2358,  136.1902,  4362,  200.500,   17.977,   34.825,2,   34.824,2,  186.200,1,  202.380,2,    3.460,2,    3.990,2,    0.010,2,    0.300,2,    2.329,2,    1.318,2, -999.000,9, 2026.500,2, 2286.600,2
           NA,    P03C,    322,   1,-999.0,     -99,  2,20060106,2347,  24.2358,  136.1902,  4362,  249.700,   17.374,   34.794,2,   34.791,2,  190.470,1,  206.420,2,    3.930,2,    4.520,2,    0.010,2,    0.332,2,    2.376,6,    1.339,6, -999.000,9, 2025.800,2, 2285.000,2
           NA,    P03C,    322,   1,-999.0,     -99,  2,20060106,2347,  24.2358,  136.1902,  4362,  300.200,   16.781,   34.749,2,   34.749,2,  188.670,1,  204.530,2,    5.000,2,    5.560,2,    0.000,2,    0.394,2,    2.422,2,    1.358,2, -999.000,9, 2032.700,2, 2283.600,2
           NA,    P03C,    322,   1,-999.0,     -99,  2,20060106,2347,  24.2358,  136.1902,  4362,  400.500,   15.249,   34.615,2,   34.614,2,  180.600,1,  195.230,2,    8.760,2,    8.690,2,    0.000,2,    0.621,2,    2.538,2,    1.368,2, -999.000,9, 2058.700,2, 2278.000,2
           NA,    P03C,    322,   1,-999.0,     -99,  2,20060106,2347,  24.2358,  136.1902,  4362,  501.800,   12.356,   34.397,2,   34.395,6,  172.190,1,  186.030,2,   17.980,2,   14.260,2,    0.000,2,    1.021,2,    2.610,2,    1.346,2, -999.000,9, 2098.300,2, 2275.400,2
           NA,    P03C,    322,   1,-999.0,     -99,  2,20060106,2347,  24.2358,  136.1902,  4362,  600.000,    9.376,   34.212,2,   34.211,2,  146.360,1,  157.420,2,   34.540,2,   22.010,2,    0.000,2,    1.597,2,    2.228,2,    1.100,2, -999.000,9, 2157.500,2, 2277.600,2
           NA,    P03C,    322,   1,-999.0,     -99,  2,20060106,2347,  24.2358,  136.1902,  4362,  699.100,    6.793,   34.142,2,   34.142,2,  104.360,1,  112.390,2,   60.330,2,   30.760,2,    0.000,2,    2.243,2,    1.371,2,    0.668,2, -999.000,9, 2226.500,6, 2294.000,2
           NA,    P03C,    322,   1,-999.0,     -99,  2,20060106,2347,  24.2358,  136.1902,  4362,  801.500,    5.648,   34.149,2,   34.149,2,   84.590,1,   91.030,2,   76.770,2,   34.650,2,    0.000,2,    2.529,2,    1.072,6,    0.511,6, -999.000,9, 2261.200,2, 2310.700,6
           NA,    P03C,    322,   1,-999.0,     -99,  2,20060106,2347,  24.2358,  136.1902,  4362,  900.300,    4.821,   34.235,2,   34.236,2,   60.860,1,   65.420,2,   93.600,2,   38.200,2,    0.000,2,    2.780,2,    0.537,2,    0.258,2, -999.000,9, 2299.300,2, 2328.700,2
           NA,    P03C,    322,   1,-999.0,     -99,  2,20060106,2347,  24.2358,  136.1902,  4362,  999.900,    4.259,   34.314,2,   34.314,6,   52.230,1,   56.210,2,  106.480,2,   39.830,2,    0.000,2,    2.897,2,    0.270,2,    0.130,2, -999.000,9, 2320.700,2, 2342.900,2
           NA,    P03C,    322,   1,-999.0,     -99,  2,20060106,2347,  24.2358,  136.1902,  4362, 1199.700,    3.396,   34.427,2,   34.427,2,   53.730,1,   57.660,2,  125.870,2,   40.850,2,    0.000,2,    2.956,2,    0.094,2,    0.041,2, -999.000,9, 2343.200,2, 2371.400,2
           NA,    P03C,    322,   1,-999.0,     -99,  2,20060106,2347,  24.2358,  136.1902,  4362, 1399.400,    2.857,   34.502,2,   34.502,2,   65.470,1,   70.680,2,  135.760,2,   40.480,2,    0.000,2,    2.910,2,    0.029,2,    0.015,2, -999.000,9, 2347.400,2, 2384.900,2
           NA,    P03C,    322,   1,-999.0,     -99,  2,20060106,2347,  24.2358,  136.1902,  4362, 1599.300,    2.440,   34.548,2,   34.548,2,   78.040,1,   84.440,2,  142.170,2,   39.850,2,    0.000,2,    2.859,2,    0.018,2,    0.010,2, -999.000,9, 2346.000,2, 2393.400,2
           NA,    P03C,    322,   1,-999.0,     -99,  2,20060106,2347,  24.2358,  136.1902,  4362, 1800.000,    2.211,   34.584,2,   34.584,6,   90.860,1,   98.470,2,  143.360,2,   39.120,2,    0.000,2,    2.789,2,    0.010,2,    0.005,2, -999.000,9, 2344.100,2, 2402.900,2
           NA,    P03C,    322,   1,-999.0,     -99,  2,20060106,2347,  24.2358,  136.1902,  4362, 2200.700,    1.883,   34.630,2,   34.630,2,  110.860,1,  120.250,2,  143.830,2,   37.840,2,    0.000,2,    2.688,2,    0.004,2,    0.002,2, -999.000,9, 2335.900,2, 2410.200,2
           NA,    P03C,    322,   1,-999.0,     -99,  2,20060106,2347,  24.2358,  136.1902,  4362, 2400.300,    1.815,   34.639,2,   34.639,2,  116.110,1,  125.850,2,  143.430,2,   37.600,2,    0.000,2,    2.666,2,    0.000,2,    0.001,2, -999.000,9, 2333.500,6, 2411.400,2
           NA,    P03C,    322,   1,-999.0,     -99,  2,20060106,2347,  24.2358,  136.1902,  4362, 2600.900,    1.737,   34.649,2,   34.649,6,  121.200,1,  131.350,2,  143.580,2,   37.280,2,    0.000,2,    2.637,2, -999.000,9, -999.000,9, -999.000,9, 2332.600,2, 2410.700,6
           NA,    P03C,    322,   1,-999.0,     -99,  2,20060106,2347,  24.2358,  136.1902,  4362, 2801.100,    1.683,   34.656,2,   34.656,2,  125.420,1,  135.700,2,  143.420,2,   37.060,2,    0.000,2,    2.612,2,    0.000,2,    0.001,2, -999.000,9, 2327.300,2, 2412.800,2
           NA,    P03C,    322,   1,-999.0,     -99,  2,20060106,2347,  24.2358,  136.1902,  4362, 3001.800,    1.640,   34.662,2,   34.663,2,  129.180,1,  139.630,2,  143.340,2,   36.790,2,    0.000,2,    2.598,2, -999.000,9, -999.000,9, -999.000,9, 2328.600,2, 2414.800,2
           NA,    P03C,    322,   1,-999.0,     -99,  2,20060106,2347,  24.2358,  136.1902,  4362, 3252.600,    1.577,   34.671,2,   34.671,6,  134.470,1,  145.030,2,  142.730,2,   36.420,2,    0.000,2,    2.559,2, -999.000,9, -999.000,9, -999.000,9, 2324.600,2, 2413.300,2
           NA,    P03C,    322,   1,-999.0,     -99,  2,20060106,2347,  24.2358,  136.1902,  4362, 3499.400,    1.553,   34.676,2,   34.676,2,  138.390,1,  149.020,2,  142.430,2,   36.070,2,    0.000,2,    2.546,2,    0.000,2,    0.000,2, -999.000,9, 2322.600,2, 2413.400,2
           NA,    P03C,    322,   1,-999.0,     -99,  2,20060106,2347,  24.2358,  136.1902,  4362, 3750.800,    1.546,   34.679,2,   34.679,2,  141.260,1,  151.470,2,  141.990,2,   36.070,2,    0.000,2,    2.533,2, -999.000,9, -999.000,9, -999.000,9, 2321.200,2, 2413.400,2
           NA,    P03C,    322,   1,-999.0,     -99,  2,20060106,2347,  24.2358,  136.1902,  4362, 3998.200,    1.546,   34.682,2,   34.682,2,  143.870,1,  153.500,2,  141.500,2,   35.860,2,    0.000,2,    2.522,2, -999.000,9, -999.000,9, -999.000,9, 2320.700,2, 2413.200,2
           NA,    P03C,    322,   1,-999.0,     -99,  2,20060106,2347,  24.2358,  136.1902,  4362, 4153.500,    1.558,   34.682,2,   34.682,6,  144.870,1,  153.870,2,  141.610,2,   35.830,2,    0.000,2,    2.522,2,    0.000,2,    0.000,2, -999.000,9, 2318.600,2, 2413.500,2
           NA,    P03C,    X09,   1,-999.0,     -99,  2,20060106,1622,  23.9870,  136.9933,  4099,   10.000,   22.303,   34.819,2,   34.819,2,  198.170,1,  215.130,2,    1.440,2,    0.050,2,    0.000,2,    0.038,2,    1.891,2,    1.106,2, -999.000,9, 1966.600,2, 2286.700,2
           NA,    P03C,    X09,   1,-999.0,     -99,  2,20060106,1622,  23.9870,  136.9933,  4099,   50.400,   22.309,   34.820,2,   34.820,2,  198.020,1,  214.760,2,    1.470,2,    0.060,2,    0.010,2,    0.036,2,    1.887,2,    1.096,2, -999.000,9, 1968.100,6, 2287.300,2
           NA,    P03C,    X09,   1,-999.0,     -99,  2,20060106,1622,  23.9870,  136.9933,  4099,   99.800,   22.207,   34.846,2,   34.848,2,  198.350,1,  214.550,2,    1.560,2,    0.170,2,    0.020,2,    0.047,2,    1.934,2,    1.126,2, -999.000,9, 1975.300,2, 2289.700,6
           NA,    P03C,    X09,   1,-999.0,     -99,  2,20060106,1622,  23.9870,  136.9933,  4099,  150.200,   19.272,   34.889,2,   34.889,2,  186.700,1,  202.480,2,    2.500,2,    2.490,2,    0.020,2,    0.205,2,    2.219,2,    1.279,2, -999.000,9, 2016.300,2, 2290.400,2
           NA,    P03C,    X09,   1,-999.0,     -99,  2,20060106,1622,  23.9870,  136.9933,  4099,  199.500,   18.457,   34.853,2,   34.848,2,  185.340,1,  201.280,2,    3.110,2,    3.560,2,    0.010,2,    0.274,2,    2.292,2,    1.309,2, -999.000,9, 2024.400,2, 2288.200,2
           NA,    P03C,    X09,   1,-999.0,     -99,  2,20060106,1622,  23.9870,  136.9933,  4099,  249.700,   17.698,   34.809,2,   34.806,2,  187.410,1,  203.390,2,    3.680,2,    4.360,2,    0.010,2,    0.321,2,    2.369,6,    1.343,6, -999.000,9, 2026.700,2, 2285.800,2
           NA,    P03C,    X09,   1,-999.0,     -99,  2,20060106,1622,  23.9870,  136.9933,  4099,  301.000,   17.006,   34.764,2,   34.759,2,  188.790,1,  204.110,2,    4.620,2,    5.330,2,    0.010,2,    0.383,2,    2.428,2,    1.376,2, -999.000,9, 2032.900,2, 2284.000,2
           NA,    P03C,    X09,   1,-999.0,     -99,  2,20060106,1622,  23.9870,  136.9933,  4099,  400.800,   14.690,   34.571,2,   34.566,2,  177.290,1,  191.440,2,   10.630,2,    9.990,2,    0.010,2,    0.717,2,    2.510,2,    1.351,2, -999.000,9, 2067.900,2, 2278.400,2
           NA,    P03C,    X09,   1,-999.0,     -99,  2,20060106,1622,  23.9870,  136.9933,  4099,  499.200,   11.662,   34.346,2,   34.342,6,  169.710,1,  182.990,2,   20.780,2,   15.650,2,    0.010,2,    1.132,2,    2.552,2,    1.328,2, -999.000,9, 2108.100,2, 2274.300,2
           NA,    P03C,    X09,   1,-999.0,     -99,  2,20060106,1622,  23.9870,  136.9933,  4099,  599.500,    8.902,   34.174,2,   34.172,2,  149.180,1,  160.290,2,   37.060,2,   22.580,2,    0.000,2,    1.650,2,    2.275,2,    1.131,2, -999.000,9, 2160.400,2, 2281.500,2
           NA,    P03C,    X09,   1,-999.0,     -99,  2,20060106,1622,  23.9870,  136.9933,  4099,  700.400,    6.611,   34.121,2,   34.122,2,  105.910,1,  113.200,2,   61.210,2,   30.960,2,    0.000,2,    2.272,2,    1.440,2,    0.692,2, -999.000,9, 2227.800,6, 2300.100,2
           NA,    P03C,    X09,   1,-999.0,     -99,  2,20060106,1622,  23.9870,  136.9933,  4099,  800.000,    5.342,   34.180,2,   34.180,2,   73.490,1,   78.830,2,   82.800,2,   36.290,2,    0.000,2,    2.657,2,    0.773,6,    0.376,6, -999.000,9, 2277.100,2, 2318.500,6
           NA,    P03C,    X09,   1,-999.0,     -99,  2,20060106,1622,  23.9870,  136.9933,  4099,  900.600,    4.433,   34.251,2,   34.252,2,   57.380,1,   61.600,2,  102.540,2,   39.070,2,    0.000,2,    2.836,2,    0.461,2,    0.230,2, -999.000,9, 2311.000,2, 2337.300,2
           NA,    P03C,    X09,   1,-999.0,     -99,  2,20060106,1622,  23.9870,  136.9933,  4099, 1002.100,    3.892,   34.347,2,   34.347,6,   50.450,1,   54.090,2,  115.160,2,   40.580,2,    0.010,2,    2.937,2,    0.201,2,    0.097,2, -999.000,9, 2331.600,2, 2353.500,2
           NA,    P03C,    X09,   1,-999.0,     -99,  2,20060106,1622,  23.9870,  136.9933,  4099, 1201.900,    3.303,   34.448,2,   34.448,2,   55.550,1,   59.520,2,  127.810,2,   40.960,2,    0.000,2,    2.959,2,    0.061,2,    0.029,2, -999.000,9, 2342.700,2, 2373.600,2
           NA,    P03C,    X09,   1,-999.0,     -99,  2,20060106,1622,  23.9870,  136.9933,  4099, 1402.000,    2.788,   34.511,2,   34.510,2,   67.220,1,   72.290,2,  137.360,2,   40.570,2,    0.000,2,    2.913,2,    0.022,2,    0.014,2, -999.000,9, 2349.700,2, 2389.700,2
           NA,    P03C,    X09,   1,-999.0,     -99,  2,20060106,1622,  23.9870,  136.9933,  4099, 1602.300,    2.479,   34.554,2,   34.553,2,   80.130,1,   86.460,2,  141.040,2,   39.820,2,    0.000,2,    2.844,2,    0.006,2,    0.004,2, -999.000,9, 2345.800,2, 2397.300,2
           NA,    P03C,    X09,   1,-999.0,     -99,  2,20060106,1622,  23.9870,  136.9933,  4099, 1800.700,    2.290,   34.587,2,   34.587,6,   92.580,1,  100.140,2,  141.600,2,   39.000,2,    0.000,2,    2.781,2,    0.000,2,    0.002,2, -999.000,9, 2340.800,2, 2405.400,2
           NA,    P03C,    X09,   1,-999.0,     -99,  2,20060106,1622,  23.9870,  136.9933,  4099, 2000.000,    2.040,   34.611,2,   34.612,2,  102.690,1,  111.170,2,  143.550,2,   38.380,2,    0.000,2,    2.739,2,    0.000,2,    0.000,2, -999.000,9, 2339.900,2, -999.000,4
           NA,    P03C,    X09,   1,-999.0,     -99,  2,20060106,1622,  23.9870,  136.9933,  4099, 2199.600,    1.897,   34.630,2,   34.630,2,  110.930,1,  120.290,2,  143.840,2,   37.970,2,    0.000,2,    2.694,2,    0.000,2,    0.001,2, -999.000,9, 2335.000,2, 2409.600,2
           NA,    P03C,    X09,   1,-999.0,     -99,  2,20060106,1622,  23.9870,  136.9933,  4099, 2398.700,    1.826,   34.639,2,   34.639,2,  115.570,1,  125.330,2,  143.810,2,   37.650,2,    0.010,2,    2.671,2,    0.000,2,    0.000,2, -999.000,9, 2333.400,6, 2411.800,2
           NA,    P03C,    X09,   1,-999.0,     -99,  2,20060106,1622,  23.9870,  136.9933,  4099, 2599.600,    1.729,   34.650,2,   34.650,6,  121.700,1,  131.980,2,  143.910,2,   37.270,2,    0.000,2,    2.636,2, -999.000,9, -999.000,9, -999.000,9, 2331.100,2, 2413.300,6
           NA,    P03C,    X09,   1,-999.0,     -99,  2,20060106,1622,  23.9870,  136.9933,  4099, 2801.000,    1.673,   34.658,2,   34.658,2,  125.920,1,  136.440,2,  143.910,2,   36.970,2,    0.000,2,    2.614,2, -999.000,9, -999.000,9, -999.000,9, 2328.400,2, -999.000,3
           NA,    P03C,    X09,   1,-999.0,     -99,  2,20060106,1622,  23.9870,  136.9933,  4099, 2999.300,    1.624,   34.664,2,   34.664,2,  130.080,1,  140.740,2,  143.560,2,   36.730,2,    0.000,2,    2.595,2,    0.000,2,    0.000,2, -999.000,9, 2326.800,2, 2417.400,2
           NA,    P03C,    X09,   1,-999.0,     -99,  2,20060106,1622,  23.9870,  136.9933,  4099, 3249.700,    1.586,   34.671,2,   34.670,6,  134.070,1,  144.650,2,  143.220,2,   36.390,2,    0.000,2,    2.562,2, -999.000,9, -999.000,9, -999.000,9, 2324.900,2, 2413.700,2
           NA,    P03C,    X09,   1,-999.0,     -99,  2,20060106,1622,  23.9870,  136.9933,  4099, 3498.600,    1.545,   34.677,2,   34.677,2,  138.840,1,  149.580,2,  142.830,2,   36.150,2,    0.000,2,    2.544,2, -999.000,9, -999.000,9, -999.000,9, 2322.700,2, 2417.200,2
           NA,    P03C,    X09,   1,-999.0,     -99,  2,20060106,1622,  23.9870,  136.9933,  4099, 3752.000,    1.530,   34.681,2,   34.681,2,  142.230,1,  152.570,2,  142.280,2,   35.960,2,    0.000,2,    2.525,2,    0.000,2,    0.001,2, -999.000,9, 2320.400,2, 2413.000,2
           NA,    P03C,    X09,   1,-999.0,     -99,  2,20060106,1622,  23.9870,  136.9933,  4099, 4001.000,    1.537,   34.683,2,   34.683,2,  144.420,1,  154.080,2,  142.120,2,   35.840,2,    0.000,2,    2.517,2, -999.000,9, -999.000,9, -999.000,9, 2317.100,2, 2415.300,2
           NA,    P03C,    X09,   1,-999.0,     -99,  3,20060106,1622,  23.9870,  136.9933,  4099, 4165.600,    1.552,   34.683,2,   34.684,6,  145.380,1,  154.790,2,  141.790,2,   35.920,2,    0.000,2,    2.528,2,    0.000,2,    0.000,2, -999.000,9, 2317.600,2, 2415.000,2