BOTTLE,20211903JOAExport
EXPOCODE,SECT_ID,STNNBR,CASTNO,SAMPNO,BTLNBR,BTLNBR_FLAG_W,DATE,TIME,LATITUDE,LONGITUDE,DEPTH,CTDPRS,CTDTMP,CTDSAL,CTDSAL_FLAG_W,SALNTY,SALNTY_FLAG_W,CTDOXY,CTDOXY_FLAG_W,OXYGEN,OXYGEN_FLAG_W,SILCAT,SILCAT_FLAG_W,NITRAT,NITRAT_FLAG_W,NITRIT,NITRIT_FLAG_W,PHSPHT,PHSPHT_FLAG_W,CFC-11,CFC-11_FLAG_W,CFC-12,CFC-12_FLAG_W,SF6,SF6_FLAG_W,TCARBN,TCARBN_FLAG_W,ALKALI,ALKALI_FLAG_W
,,,,,,,,,,,,DB,ITS-90,PSS-78,,PSS-78,,UMOL/KG,,UMOL/KG,,UMOL/KG,,UMOL/KG,,UMOL/KG,,UMOL/KG,,PMOL/KG,,PMOL/KG,,FMOL/KG,,UMOL/KG,,UMOL/KG
           NA,    P03C,    157,   1,-999.0,     -99,  2,20051201,1050,  24.0932, -167.1653,  3038,   10.000,   25.469,   35.223,2,   35.224,2,  189.630,1,  206.380,2,    0.950,2,    0.040,2,    0.000,2,    0.043,2,    1.653,2,    0.975,2, -999.000,9, 1978.900,2, 2321.900,2
           NA,    P03C,    157,   1,-999.0,     -99,  2,20051201,1050,  24.0932, -167.1653,  3038,   50.500,   25.486,   35.255,2,   35.255,2,  189.570,1,  206.380,2,    0.960,2,    0.030,2,    0.000,2,    0.046,2,    1.656,2,    0.967,2, -999.000,9, 1981.600,6, 2321.200,2
           NA,    P03C,    157,   1,-999.0,     -99,  2,20051201,1050,  24.0932, -167.1653,  3038,   99.800,   22.053,   35.175,2,   35.174,2,  187.390,1,  203.880,2,    1.570,2,    0.620,2,    0.080,2,    0.123,2,    1.997,2,    1.156,2, -999.000,9, 2020.400,2, 2315.300,6
           NA,    P03C,    157,   1,-999.0,     -99,  2,20051201,1050,  24.0932, -167.1653,  3038,  150.300,   19.571,   35.020,2,   35.019,2,  184.230,1,  200.270,2,    2.540,2,    2.150,2,    0.020,2,    0.232,2,    2.194,2,    1.254,2, -999.000,9, 2038.700,2, 2302.100,2
           NA,    P03C,    157,   1,-999.0,     -99,  2,20051201,1050,  24.0932, -167.1653,  3038,  201.500,   17.480,   34.827,2,   34.831,2,  190.120,1,  206.130,2,    3.800,2,    3.560,2,    0.010,2,    0.319,2,    2.369,2,    1.355,2, -999.000,9, 2043.000,2, 2290.900,2
           NA,    P03C,    157,   1,-999.0,     -99,  2,20051201,1050,  24.0932, -167.1653,  3038,  250.000,   16.054,   34.684,2,   34.682,2,  195.400,1,  211.810,2,    5.240,2,    5.060,2,    0.010,2,    0.414,2,    2.567,2,    1.416,2, -999.000,9, 2045.900,2, 2283.200,2
           NA,    P03C,    157,   1,-999.0,     -99,  2,20051201,1050,  24.0932, -167.1653,  3038,  301.500,   14.963,   34.575,2,   34.576,2,  197.040,1,  212.880,2,    6.810,2,    6.580,2,    0.010,2,    0.514,2,    2.595,2,    1.461,2, -999.000,9, 2052.700,2, 2277.300,2
           NA,    P03C,    157,   1,-999.0,     -99,  2,20051201,1050,  24.0932, -167.1653,  3038,  403.100,   12.307,   34.329,2,   34.330,2,  189.980,1,  205.830,2,   13.030,2,   11.740,2,    0.000,2,    0.871,2,    2.781,2,    1.502,2, -999.000,9, 2084.200,2, 2267.700,2
           NA,    P03C,    157,   1,-999.0,     -99,  2,20051201,1050,  24.0932, -167.1653,  3038,  502.900,    9.982,   34.173,2,   34.174,6,  167.380,1,  181.530,2,   24.020,2,   18.380,2,    0.000,2,    1.346,2,    2.680,2,    1.388,2, -999.000,9, 2129.300,2, 2266.900,2
           NA,    P03C,    157,   1,-999.0,     -99,  2,20051201,1050,  24.0932, -167.1653,  3038,  603.200,    7.609,   34.094,2,   34.094,2,  113.080,1,  124.950,2,   44.570,2,   28.100,2,    0.000,2,    2.066,2,    1.879,2,    0.901,2, -999.000,9, 2202.600,2, 2281.200,2
           NA,    P03C,    157,   1,-999.0,     -99,  2,20051201,1050,  24.0932, -167.1653,  3038,  702.400,    6.074,   34.110,2,   34.109,2,   76.100,1,   82.880,2,   66.510,2,   34.800,2,    0.000,2,    2.552,2,    1.040,2,    0.501,2, -999.000,9, 2257.900,6, 2297.300,2
           NA,    P03C,    157,   1,-999.0,     -99,  2,20051201,1050,  24.0932, -167.1653,  3038,  801.700,    5.176,   34.188,2,   34.187,2,   45.630,1,   49.820,2,   84.900,2,   39.320,2,    0.000,2,    2.895,2,    0.428,6,    0.212,6, -999.000,9, 2298.800,2, 2322.800,6
           NA,    P03C,    157,   1,-999.0,     -99,  2,20051201,1050,  24.0932, -167.1653,  3038,  902.100,    4.387,   34.312,2,   34.311,2,   34.540,1,   38.110,2,  103.430,2,   41.640,2,    0.000,2,    3.035,2,    0.141,2,    0.074,2, -999.000,9, 2331.200,2, 2347.100,2
           NA,    P03C,    157,   1,-999.0,     -99,  2,20051201,1050,  24.0932, -167.1653,  3038, 1000.100,    3.916,   34.413,2,   34.412,6,   38.190,1,   42.090,2,  114.380,2,   42.150,2,    0.000,2,    3.064,2,    0.042,2,    0.022,2, -999.000,9, 2343.800,2, 2364.200,2
           NA,    P03C,    157,   1,-999.0,     -99,  2,20051201,1050,  24.0932, -167.1653,  3038, 1203.800,    3.301,   34.489,2,   34.489,2,   48.140,1,   52.420,2,  128.130,2,   41.850,2,    0.000,2,    3.036,2,    0.010,2,    0.014,2, -999.000,9, 2354.800,2, 2382.500,2
           NA,    P03C,    157,   1,-999.0,     -99,  2,20051201,1050,  24.0932, -167.1653,  3038, 1402.300,    2.926,   34.530,2,   34.530,2,   56.650,1,   61.420,2,  136.570,2,   41.670,2,    0.000,2,    2.996,2,    0.000,2,    0.005,2, -999.000,9, 2358.200,2, 2390.000,2
           NA,    P03C,    157,   1,-999.0,     -99,  2,20051201,1050,  24.0932, -167.1653,  3038, 1602.200,    2.567,   34.572,2,   34.571,6,   67.780,1,   73.540,2,  144.140,2,   41.100,2,    0.000,2,    2.945,2,    0.000,2,    0.002,2, -999.000,9, 2358.100,2, 2401.300,2
           NA,    P03C,    157,   1,-999.0,     -99,  2,20051201,1050,  24.0932, -167.1653,  3038, 1801.700,    2.299,   34.594,2,   34.594,2,   76.000,1,   82.440,2,  149.810,2,   40.600,2,    0.000,2,    2.902,2,    0.000,2,    0.000,2, -999.000,9, 2359.400,2, 2411.500,2
           NA,    P03C,    157,   1,-999.0,     -99,  2,20051201,1050,  24.0932, -167.1653,  3038, 2003.100,    2.067,   34.615,2,   34.615,2,   84.330,1,   91.450,2,  154.250,2,   40.120,2,    0.000,2,    2.860,2,    0.000,2,    0.000,2, -999.000,9, 2359.400,2, 2415.800,2
           NA,    P03C,    157,   1,-999.0,     -99,  2,20051201,1050,  24.0932, -167.1653,  3038, 2202.600,    1.873,   34.633,2,   34.633,6,   93.400,1,  101.420,2,  157.590,2,   39.510,2,    0.000,2,    2.809,2, -999.000,9, -999.000,9, -999.000,9, 2357.500,2, 2419.300,2
           NA,    P03C,    157,   1,-999.0,     -99,  2,20051201,1050,  24.0932, -167.1653,  3038, 2401.400,    1.743,   34.645,2,   34.645,2,  101.250,1,  109.870,2,  158.740,2,   39.040,2,    0.000,2,    2.761,2,    0.000,2,    0.000,2, -999.000,9, 2353.600,6, 2417.500,2
           NA,    P03C,    157,   1,-999.0,     -99,  2,20051201,1050,  24.0932, -167.1653,  3038, 2602.100,    1.658,   34.655,2,   34.654,2,  107.880,1,  117.030,2,  159.070,2,   38.570,2,    0.000,2,    2.723,2, -999.000,9, -999.000,9, -999.000,9, 2349.300,2, 2419.000,6
           NA,    P03C,    157,   1,-999.0,     -99,  2,20051201,1050,  24.0932, -167.1653,  3038, 2801.300,    1.594,   34.662,2,   34.662,2,  114.270,1,  123.730,2,  159.060,2,   38.180,2,    0.000,2,    2.686,2, -999.000,9, -999.000,9, -999.000,9, 2347.200,2, 2418.900,2
           NA,    P03C,    157,   1,-999.0,     -99,  2,20051201,1050,  24.0932, -167.1653,  3038, 3036.700,    1.544,   34.669,2,   34.669,6,  121.440,1,  130.550,2,  157.200,2,   37.670,2,    0.000,2,    2.655,2,    0.000,2,    0.000,2, -999.000,9, 2342.700,2, 2421.300,2
           NA,    P03C,    155,   1,-999.0,     -99,  2,20051201,0548,  24.1500, -167.1270,  1869,    9.800,   25.496,   35.205,2,   35.204,2,  189.660,1,  206.490,2,    0.920,2,    0.020,2,    0.000,2,    0.047,2,    1.662,2,    0.963,2, -999.000,9, -999.000,9, -999.000,9
           NA,    P03C,    155,   1,-999.0,     -99,  2,20051201,0548,  24.1500, -167.1270,  1869,   49.900,   25.461,   35.204,2,   35.204,2,  189.550,1,  206.500,2,    0.890,2,    0.020,2,    0.000,2,    0.043,2,    1.682,2,    0.980,2, -999.000,9, -999.000,9, -999.000,9
           NA,    P03C,    155,   1,-999.0,     -99,  2,20051201,0548,  24.1500, -167.1270,  1869,  100.800,   22.892,   35.200,2,   35.205,2,  193.370,1,  210.680,2,    1.240,2,    0.110,2,    0.060,2,    0.078,2,    1.967,2,    1.155,2, -999.000,9, -999.000,9, -999.000,9
           NA,    P03C,    155,   1,-999.0,     -99,  2,20051201,0548,  24.1500, -167.1270,  1869,  151.100,   19.604,   35.017,2,   35.018,2,  184.950,1,  200.890,2,    2.490,2,    2.140,2,    0.020,2,    0.225,2,    2.258,2,    1.256,2, -999.000,9, -999.000,9, -999.000,9
           NA,    P03C,    155,   1,-999.0,     -99,  2,20051201,0548,  24.1500, -167.1270,  1869,  201.000,   17.622,   34.832,2,   34.832,2,  188.880,1,  204.750,2,    3.980,2,    3.770,2,    0.020,2,    0.333,2,    2.449,2,    1.337,2, -999.000,9, -999.000,9, -999.000,9
           NA,    P03C,    155,   1,-999.0,     -99,  2,20051201,0548,  24.1500, -167.1270,  1869,  251.400,   15.493,   34.629,2,   34.629,2,  195.760,1,  211.940,2,    6.020,2,    5.900,2,    0.010,2,    0.460,2,    2.644,6,    1.412,6, -999.000,9, -999.000,9, -999.000,9
           NA,    P03C,    155,   1,-999.0,     -99,  2,20051201,0548,  24.1500, -167.1270,  1869,  302.200,   13.984,   34.486,2,   34.486,2,  196.160,1,  212.300,2,    8.590,2,    8.350,2,    0.010,2,    0.623,2,    2.793,2,    1.469,2, -999.000,9, -999.000,9, -999.000,9
           NA,    P03C,    155,   1,-999.0,     -99,  2,20051201,0548,  24.1500, -167.1270,  1869,  401.300,   11.307,   34.254,2,   34.258,2,  184.740,1,  199.690,2,   16.440,2,   14.080,2,    0.000,2,    1.025,2,    2.956,2,    1.494,2, -999.000,9, -999.000,9, -999.000,9
           NA,    P03C,    155,   1,-999.0,     -99,  2,20051201,0548,  24.1500, -167.1270,  1869,  500.100,    8.786,   34.121,2,   34.122,6,  146.780,1,  158.860,2,   33.090,2,   22.850,2,    0.000,2,    1.659,2,    2.494,2,    1.189,2, -999.000,9, -999.000,9, -999.000,9
           NA,    P03C,    155,   1,-999.0,     -99,  2,20051201,0548,  24.1500, -167.1270,  1869,  599.700,    7.076,   34.094,2,   34.094,2,  100.470,1,  108.430,2,   51.930,2,   30.790,2,    0.000,2,    2.244,2,    1.602,2,    0.733,2, -999.000,9, -999.000,9, -999.000,9
           NA,    P03C,    155,   1,-999.0,     -99,  2,20051201,0548,  24.1500, -167.1270,  1869,  701.600,    5.477,   34.143,2,   34.146,2,   56.770,1,   61.270,2,   77.530,2,   37.900,2,    0.000,2,    2.771,2,    0.667,2,    0.301,2, -999.000,9, -999.000,9, -999.000,9
           NA,    P03C,    155,   1,-999.0,     -99,  3,20051201,0548,  24.1500, -167.1270,  1869,  800.800,    4.679,   34.273,2,   34.272,2,   37.990,1,   41.920,2,   95.920,2,   40.870,2,    0.000,2,    2.989,2,    0.245,6,    0.111,6, -999.000,9, -999.000,9, -999.000,9
           NA,    P03C,    155,   1,-999.0,     -99,  2,20051201,0548,  24.1500, -167.1270,  1869,  899.500,    4.271,   34.356,2,   34.356,2,   35.410,1,   39.140,2,  105.880,2,   41.800,2,    0.000,2,    3.046,2,    0.104,2,    0.040,2, -999.000,9, -999.000,9, -999.000,9
           NA,    P03C,    155,   1,-999.0,     -99,  2,20051201,0548,  24.1500, -167.1270,  1869, 1001.700,    3.957,   34.421,2,   34.420,6,   39.060,1,   42.850,2,  112.680,2,   41.940,2,    0.000,2,    3.053,2,    0.045,2,    0.020,2, -999.000,9, -999.000,9, -999.000,9
           NA,    P03C,    155,   1,-999.0,     -99,  2,20051201,0548,  24.1500, -167.1270,  1869, 1200.900,    3.356,   34.505,2,   34.505,2,   50.640,1,   54.730,2,  125.560,2,   41.720,2,    0.000,2,    3.021,2,    0.031,2,    0.007,2, -999.000,9, -999.000,9, -999.000,9
           NA,    P03C,    155,   1,-999.0,     -99,  2,20051201,0548,  24.1500, -167.1270,  1869, 1401.600,    2.830,   34.551,2,   34.551,6,   61.930,1,   66.930,2,  137.380,2,   41.370,2,    0.000,2,    2.973,2,    0.011,2,    0.000,2, -999.000,9, -999.000,9, -999.000,9
           NA,    P03C,    155,   1,-999.0,     -99,  2,20051201,0548,  24.1500, -167.1270,  1869, 1601.000,    2.548,   34.574,2,   34.574,2,   68.990,1,   74.290,2,  143.990,2,   41.150,2,    0.000,2,    2.942,2,    0.000,2,    0.000,2, -999.000,9, -999.000,9, -999.000,9
           NA,    P03C,    155,   1,-999.0,     -99,  2,20051201,0548,  24.1500, -167.1270,  1869, 1801.300,    2.243,   34.599,2,   34.600,2,   78.920,1,   84.760,2,  150.220,2,   40.600,2,    0.000,2,    2.887,2,    0.000,2,    0.000,2, -999.000,9, -999.000,9, -999.000,9
           NA,    P03C,    155,   1,-999.0,     -99,  2,20051201,0548,  24.1500, -167.1270,  1869, 1886.000,    2.122,   34.610,2,   34.610,6,   83.250,1,   89.380,2,  152.220,2,   40.160,2,    0.000,2,    2.859,2,    0.000,2,    0.000,2, -999.000,9, -999.000,9, -999.000,9
           NA,    P03C,    154,   1,-999.0,     -99,  2,20051201,0131,  24.1437, -167.0990,  1416,   10.200,   25.501,   35.226,2,   35.226,2,  189.910,1,  206.790,2,    1.030,2,    0.060,2,    0.010,2,    0.048,2,    1.647,2,    0.978,2, -999.000,9, 1979.500,2, 2317.000,2
           NA,    P03C,    154,   1,-999.0,     -99,  2,20051201,0131,  24.1437, -167.0990,  1416,   49.700,   25.480,   35.232,2,   35.232,2,  189.930,1,  206.650,2,    1.040,2,    0.040,2,    0.010,2,    0.046,2,    1.652,2,    0.979,2, -999.000,9, 1979.700,2, 2314.400,2
           NA,    P03C,    154,   1,-999.0,     -99,  2,20051201,0131,  24.1437, -167.0990,  1416,  100.200,   25.228,   35.216,2,   35.216,2,  191.120,1,  208.750,2,    1.100,2,    0.040,2,    0.010,2,    0.048,2,    1.712,2,    1.012,2, -999.000,9, 1998.200,2, 2314.700,6
           NA,    P03C,    154,   1,-999.0,     -99,  2,20051201,0131,  24.1437, -167.0990,  1416,  150.700,   21.787,   35.156,2,   35.152,2,  186.760,1,  203.540,2,    1.790,2,    0.850,2,    0.070,2,    0.137,2,    2.029,2,    1.182,2, -999.000,9, 2030.700,2, 2313.100,2
           NA,    P03C,    154,   1,-999.0,     -99,  2,20051201,0131,  24.1437, -167.0990,  1416,  200.000,   19.349,   34.994,2,   34.989,2,  185.080,1,  201.260,2,    2.830,2,    2.390,2,    0.020,2,    0.246,2,    2.224,2,    1.286,2, -999.000,9, 2037.700,2, 2301.500,2
           NA,    P03C,    154,   1,-999.0,     -99,  2,20051201,0131,  24.1437, -167.0990,  1416,  252.200,   17.158,   34.790,2,   34.794,2,  190.070,1,  206.030,2,    4.350,2,    4.020,2,    0.020,2,    0.355,2,    2.397,6,    1.379,6, -999.000,9, 2043.800,2, 2283.400,2
           NA,    P03C,    154,   1,-999.0,     -99,  2,20051201,0131,  24.1437, -167.0990,  1416,  301.200,   15.258,   34.605,2,   34.603,2,  195.760,1,  212.150,2,    6.580,2,    6.300,2,    0.010,2,    0.500,2,    2.571,2,    1.461,2, -999.000,9, 2052.500,2, 2277.300,2
           NA,    P03C,    154,   1,-999.0,     -99,  2,20051201,0131,  24.1437, -167.0990,  1416,  400.600,   11.984,   34.307,2,   34.306,2,  186.540,1,  201.460,2,   14.880,2,   12.770,2,    0.010,2,    0.951,2,    2.774,2,    1.501,2, -999.000,9, 2090.700,2, 2267.700,2
           NA,    P03C,    154,   1,-999.0,     -99,  2,20051201,0131,  24.1437, -167.0990,  1416,  500.600,    9.472,   34.150,2,   34.151,6,  160.260,1,  172.960,2,   27.400,2,   20.070,2,    0.010,2,    1.466,2,    2.543,2,    1.308,2, -999.000,9, 2140.500,2, 2269.200,2
           NA,    P03C,    154,   1,-999.0,     -99,  2,20051201,0131,  24.1437, -167.0990,  1416,  602.500,    7.501,   34.098,2,   34.099,2,  114.500,1,  123.730,2,   46.690,2,   28.400,2,    0.010,2,    2.075,2,    1.804,2,    0.876,2, -999.000,9, 2204.300,2, 2283.200,2
           NA,    P03C,    154,   1,-999.0,     -99,  2,20051201,0131,  24.1437, -167.0990,  1416,  701.700,    5.958,   34.123,2,   34.119,2,   72.660,1,   78.410,2,   69.090,2,   35.260,2,    0.010,2,    2.592,2,    0.930,2,    0.453,2, -999.000,9, 2264.500,6, 2300.700,2
           NA,    P03C,    154,   1,-999.0,     -99,  2,20051201,0131,  24.1437, -167.0990,  1416,  803.100,    4.916,   34.229,2,   34.226,2,   40.970,1,   44.520,2,   90.330,2,   40.000,2,    0.010,2,    2.944,2,    0.305,6,    0.157,6, -999.000,9, 2310.400,2, 2325.900,6
           NA,    P03C,    154,   1,-999.0,     -99,  2,20051201,0131,  24.1437, -167.0990,  1416,  901.100,    4.344,   34.342,2,   34.342,2,   35.650,1,   39.010,2,  104.260,2,   41.550,2,    0.010,2,    3.039,2,    0.100,2,    0.053,2, -999.000,9, 2331.700,2, 2351.300,2
           NA,    P03C,    154,   1,-999.0,     -99,  2,20051201,0131,  24.1437, -167.0990,  1416, 1000.600,    4.099,   34.393,2,   34.393,2,   37.190,1,   40.670,2,  109.720,2,   41.810,2,    0.010,2,    3.052,2,    0.050,2,    0.029,2, -999.000,9, 2337.500,2, 2359.200,2
           NA,    P03C,    154,   1,-999.0,     -99,  2,20051201,0131,  24.1437, -167.0990,  1416, 1199.600,    3.503,   34.490,2,   34.490,2,   48.580,1,   52.230,2,  122.560,2,   41.750,2,    0.010,2,    3.032,2,    0.006,2,    0.003,2, -999.000,9, 2348.600,2, 2377.800,2
           NA,    P03C,    154,   1,-999.0,     -99,  2,20051201,0131,  24.1437, -167.0990,  1416, 1353.500,    3.098,   34.529,2,   34.529,6,   56.280,1,   60.650,2,  131.330,2,   41.440,2,    0.000,2,    3.003,2, -999.000,4, -999.000,4, -999.000,9, 2352.700,2, 2388.100,2