BOTTLE,20211903JOAExport
EXPOCODE,SECT_ID,STNNBR,CASTNO,SAMPNO,BTLNBR,BTLNBR_FLAG_W,DATE,TIME,LATITUDE,LONGITUDE,DEPTH,CTDPRS,CTDTMP,CTDSAL,CTDSAL_FLAG_W,SALNTY,SALNTY_FLAG_W,CTDOXY,CTDOXY_FLAG_W,OXYGEN,OXYGEN_FLAG_W,SILCAT,SILCAT_FLAG_W,NITRAT,NITRAT_FLAG_W,NITRIT,NITRIT_FLAG_W,PHSPHT,PHSPHT_FLAG_W,CFC-11,CFC-11_FLAG_W,CFC-12,CFC-12_FLAG_W,SF6,SF6_FLAG_W,TCARBN,TCARBN_FLAG_W,ALKALI,ALKALI_FLAG_W
,,,,,,,,,,,,DB,ITS-90,PSS-78,,PSS-78,,UMOL/KG,,UMOL/KG,,UMOL/KG,,UMOL/KG,,UMOL/KG,,UMOL/KG,,PMOL/KG,,PMOL/KG,,FMOL/KG,,UMOL/KG,,UMOL/KG
           NA,    P03C,    211,   1,-999.0,     -99,  2,20051210,1652,  24.2433,  174.3848,  5727,   10.200,   26.359,   35.232,2,   35.232,2,  180.240,1,  203.770,2,    0.830,2,    0.040,2,    0.000,2,    0.036,2,    1.602,2,    0.941,2, -999.000,9, 1964.300,2, 2312.000,2
           NA,    P03C,    211,   1,-999.0,     -99,  2,20051210,1652,  24.2433,  174.3848,  5727,   49.400,   26.203,   35.264,2,   35.265,2,  180.460,1,  204.200,2,    0.840,2,    0.040,2,    0.000,2,    0.035,2,    1.612,2,    0.949,2, -999.000,9, 1968.000,6, 2312.500,2
           NA,    P03C,    211,   1,-999.0,     -99,  2,20051210,1652,  24.2433,  174.3848,  5727,  100.200,   22.682,   35.211,2,   35.205,2,  189.380,1,  213.230,2,    1.310,2,    0.040,2,    0.000,2,    0.055,2,    1.965,2,    1.135,2, -999.000,9, 2003.200,2, 2309.400,6
           NA,    P03C,    211,   1,-999.0,     -99,  2,20051210,1652,  24.2433,  174.3848,  5727,  151.100,   19.208,   34.952,2,   34.950,2,  176.160,1,  200.360,2,    2.510,2,    1.800,2,    0.010,2,    0.206,2, -999.000,5, -999.000,5, -999.000,9, 2031.500,2, 2291.700,2
           NA,    P03C,    211,   1,-999.0,     -99,  2,20051210,1652,  24.2433,  174.3848,  5727,  198.400,   17.513,   34.806,2,   34.803,2,  187.580,1,  212.600,2,    3.300,2,    3.460,2,    0.010,2,    0.281,2,    2.341,2,    1.335,2, -999.000,9, 2026.100,2, 2280.600,2
           NA,    P03C,    211,   1,-999.0,     -99,  2,20051210,1652,  24.2433,  174.3848,  5727,  248.400,   16.721,   34.748,2,   34.748,2,  188.090,1,  212.790,2,    4.380,2,    4.740,2,    0.000,2,    0.351,2,    2.382,2,    1.351,2, -999.000,9, 2031.100,2, 2279.800,2
           NA,    P03C,    211,   1,-999.0,     -99,  2,20051210,1652,  24.2433,  174.3848,  5727,  299.500,   15.490,   34.627,2,   34.624,2,  182.120,1,  206.290,2,    6.680,2,    7.040,2,    0.000,2,    0.517,2,    2.522,2,    1.383,2, -999.000,9, 2049.400,2, 2278.000,2
           NA,    P03C,    211,   1,-999.0,     -99,  2,20051210,1652,  24.2433,  174.3848,  5727,  397.900,   12.557,   34.386,2,   34.386,2,  180.090,1,  204.220,2,   13.500,2,   11.900,2,    0.000,2,    0.863,2,    2.746,2,    1.452,2, -999.000,9, 2083.300,2, 2271.800,2
           NA,    P03C,    211,   1,-999.0,     -99,  2,20051210,1652,  24.2433,  174.3848,  5727,  499.700,    9.952,   34.194,2,   34.189,6,  167.790,1,  189.510,2,   24.490,2,   18.040,2,    0.000,2,    1.300,2,    2.721,2,    1.367,2, -999.000,9, 2122.900,2, 2272.400,2
           NA,    P03C,    211,   1,-999.0,     -99,  2,20051210,1652,  24.2433,  174.3848,  5727,  600.300,    7.538,   34.072,2,   34.073,2,  128.060,1,  145.060,2,   43.920,2,   26.610,2,    0.000,2,    1.919,2,    2.096,2,    1.013,2, -999.000,9, 2185.200,2, 2282.700,2
           NA,    P03C,    211,   1,-999.0,     -99,  2,20051210,1652,  24.2433,  174.3848,  5727,  701.100,    5.593,   34.057,2,   34.060,2,   89.760,1,  102.140,2,   71.090,2,   33.990,2,    0.000,2,    2.469,2, -999.000,3, -999.000,3, -999.000,9, 2250.500,6, 2296.900,2
           NA,    P03C,    211,   1,-999.0,     -99,  2,20051210,1652,  24.2433,  174.3848,  5727,  802.700,    4.860,   34.187,2,   34.184,2,   46.950,1,   53.830,2,   89.670,2,   39.450,2,    0.000,2,    2.865,2,    0.433,6,    0.201,6, -999.000,9, 2300.800,2, 2319.100,6
           NA,    P03C,    211,   1,-999.0,     -99,  2,20051210,1652,  24.2433,  174.3848,  5727,  900.400,    4.343,   34.277,2,   34.279,2,   33.730,1,   39.200,2,  103.970,2,   41.580,2,    0.000,2,    3.017,2,    0.159,2,    0.076,2, -999.000,9, 2327.600,2, 2345.700,2
           NA,    P03C,    211,   1,-999.0,     -99,  2,20051210,1652,  24.2433,  174.3848,  5727, 1000.100,    3.874,   34.367,2,   34.368,2,   31.740,1,   36.850,2,  115.780,2,   42.460,2,    0.000,2,    3.072,2,    0.057,2,    0.028,2, -999.000,9, 2344.300,2, 2361.100,2
           NA,    P03C,    211,   1,-999.0,     -99,  2,20051210,1652,  24.2433,  174.3848,  5727, 1197.800,    3.364,   34.489,2,   34.489,2,   47.630,1,   54.900,2,  126.020,2,   41.600,2,    0.000,2,    3.002,2,    0.008,2,    0.002,2, -999.000,9, 2347.900,2, 2372.900,2
           NA,    P03C,    211,   1,-999.0,     -99,  2,20051210,1652,  24.2433,  174.3848,  5727, 1402.900,    2.879,   34.543,2,   34.543,2,   59.840,1,   68.990,2,  135.470,2,   41.010,2,    0.000,2,    2.947,2,    0.001,2,    0.000,2, -999.000,9, 2351.300,2, 2388.900,2
           NA,    P03C,    211,   1,-999.0,     -99,  2,20051210,1652,  24.2433,  174.3848,  5727, 1599.200,    2.521,   34.579,2,   34.579,2,   69.090,1,   79.730,2,  142.320,2,   40.570,2,    0.000,2,    2.900,2,    0.003,2,    0.000,2, -999.000,9, 2354.300,2, -999.000,3
           NA,    P03C,    211,   1,-999.0,     -99,  2,20051210,1652,  24.2433,  174.3848,  5727, 1800.400,    2.245,   34.601,2,   34.601,2,   76.010,1,   88.010,2,  148.170,2,   40.250,2,    0.000,2,    2.864,2,    0.002,2,    0.001,2, -999.000,9, 2355.300,2, 2401.200,2
           NA,    P03C,    211,   1,-999.0,     -99,  2,20051210,1652,  24.2433,  174.3848,  5727, 2001.000,    2.022,   34.619,2,   34.619,2,   84.060,1,   97.720,2,  151.660,2,   39.690,2,    0.000,2,    2.817,2,    0.000,2,    0.000,2, -999.000,9, 2353.300,2, 2414.800,2
           NA,    P03C,    211,   1,-999.0,     -99,  2,20051210,1652,  24.2433,  174.3848,  5727, 2200.000,    1.861,   34.634,2,   34.635,6,   91.030,1,  105.900,2,  153.790,2,   39.190,2,    0.000,2,    2.772,2,    0.003,2,    0.001,2, -999.000,9, 2350.800,2, 2411.200,2
           NA,    P03C,    211,   1,-999.0,     -99,  2,20051210,1652,  24.2433,  174.3848,  5727, 2400.000,    1.749,   34.645,2,   34.646,2,   97.050,1,  113.210,2,  154.870,2,   38.740,2,    0.000,2,    2.732,2,    0.004,2,    0.000,2, -999.000,9, 2347.200,6, 2413.200,2
           NA,    P03C,    211,   1,-999.0,     -99,  2,20051210,1652,  24.2433,  174.3848,  5727, 2601.400,    1.672,   34.654,2,   34.654,2,  102.540,1,  119.820,2,  154.990,2,   38.270,2,    0.000,2,    2.698,2, -999.000,9, -999.000,9, -999.000,9, 2343.200,2, -999.000,3
           NA,    P03C,    211,   1,-999.0,     -99,  2,20051210,1652,  24.2433,  174.3848,  5727, 2800.500,    1.607,   34.661,2,   34.662,2,  107.730,1,  125.950,2,  154.910,2,   37.880,2,    0.000,2,    2.667,2, -999.000,9, -999.000,9, -999.000,9, 2340.900,2, 2412.500,2
           NA,    P03C,    211,   1,-999.0,     -99,  2,20051210,1652,  24.2433,  174.3848,  5727, 3000.400,    1.564,   34.666,2,   34.666,2,  111.280,1,  130.390,2,  155.080,2,   37.670,2,    0.000,2,    2.646,2,    0.002,2,    0.000,2, -999.000,9, 2338.500,2, 2416.600,2
           NA,    P03C,    211,   1,-999.0,     -99,  2,20051210,1652,  24.2433,  174.3848,  5727, 3251.300,    1.518,   34.673,2,   34.673,6,  117.120,1,  137.220,2,  153.570,2,   37.090,2,   -0.010,2,    2.604,2, -999.000,9, -999.000,9, -999.000,9, 2332.800,2, -999.000,3
           NA,    P03C,    211,   1,-999.0,     -99,  2,20051210,1652,  24.2433,  174.3848,  5727, 3500.500,    1.494,   34.679,2,   34.678,2,  123.310,1,  144.510,2,  150.170,2,   36.630,2,    0.000,2,    2.570,2, -999.000,9, -999.000,9, -999.000,9, 2331.000,2, 2415.600,2
           NA,    P03C,    211,   1,-999.0,     -99,  2,20051210,1652,  24.2433,  174.3848,  5727, 3750.300,    1.475,   34.682,2,   34.682,2,  127.950,1,  149.700,2,  147.770,2,   36.370,2,    0.000,2,    2.542,2,    0.000,2,    0.001,2, -999.000,9, -999.000,4, 2419.500,2
           NA,    P03C,    211,   1,-999.0,     -99,  2,20051210,1652,  24.2433,  174.3848,  5727, 4000.600,    1.454,   34.686,2,   34.686,2,  132.410,1,  154.420,2,  146.250,2,   36.060,2,    0.000,2,    2.513,2, -999.000,9, -999.000,9, -999.000,9, -999.000,4, 2418.800,2
           NA,    P03C,    211,   1,-999.0,     -99,  2,20051210,1652,  24.2433,  174.3848,  5727, 4252.300,    1.434,   34.690,2,   34.690,2,  137.870,1,  160.410,2,  143.270,2,   35.580,2,   -0.010,2,    2.482,2, -999.000,9, -999.000,9, -999.000,9, 2314.700,2, 2406.000,2
           NA,    P03C,    211,   1,-999.0,     -99,  2,20051210,1652,  24.2433,  174.3848,  5727, 4501.000,    1.428,   34.693,2,   34.693,6,  142.960,1,  165.990,2,  139.530,2,   35.110,2,    0.000,2,    2.449,2,    0.002,2,    0.001,2, -999.000,9, -999.000,3, 2402.800,6
           NA,    P03C,    211,   1,-999.0,     -99,  2,20051210,1652,  24.2433,  174.3848,  5727, 4750.000,    1.421,   34.696,2,   34.696,2,  147.560,1,  170.700,2,  137.110,2,   34.790,2,    0.000,2,    2.422,2, -999.000,9, -999.000,9, -999.000,9, -999.000,3, 2400.000,2
           NA,    P03C,    211,   1,-999.0,     -99,  2,20051210,1652,  24.2433,  174.3848,  5727, 5002.800,    1.427,   34.698,2,   34.698,2,  151.120,1,  174.200,2,  135.170,2,   34.540,2,    0.000,2,    2.407,2, -999.000,9, -999.000,9, -999.000,9, 2298.100,2, 2396.500,2
           NA,    P03C,    211,   1,-999.0,     -99,  2,20051210,1652,  24.2433,  174.3848,  5727, 5248.800,    1.441,   34.699,2,   34.699,2,  153.910,1,  176.570,2,  133.710,2,   34.380,2,    0.000,2,    2.394,2,    0.000,2,    0.002,2, -999.000,9, 2298.100,2, 2398.100,2
           NA,    P03C,    211,   1,-999.0,     -99,  2,20051210,1652,  24.2433,  174.3848,  5727, 5499.500,    1.459,   34.700,2,   34.700,2,  156.420,1, -999.000,5,  132.530,2,   34.270,2,    0.000,2,    2.386,2, -999.000,9, -999.000,9, -999.000,9, 2294.800,2, 2390.300,2
           NA,    P03C,    211,   1,-999.0,     -99,  2,20051210,1652,  24.2433,  174.3848,  5727, 5750.400,    1.479,   34.701,2,   34.701,2,  159.290,1,  179.990,2,  131.640,2,   34.170,2,   -0.010,2,    2.374,2, -999.000,9, -999.000,9, -999.000,9, 2292.000,2, 2400.000,2
           NA,    P03C,    211,   1,-999.0,     -99,  2,20051210,1652,  24.2433,  174.3848,  5727, 5827.900,    1.487,   34.701,2,   34.701,6,  160.800,1,  180.420,2,  131.360,2,   34.080,2,    0.000,2,    2.371,2,    0.000,2,    0.002,2, -999.000,9, 2292.500,2, 2389.300,2
           NA,    P03C,    209,   1,-999.0,     -99,  2,20051210,0901,  24.2573,  175.1693,  5587,   10.300,   26.606,   35.290,2,   35.289,2,  179.820,1,  203.280,2,    0.890,2,    0.020,2,    0.000,2,    0.053,2,    1.443,2,    0.867,2, -999.000,9, -999.000,9, -999.000,9
           NA,    P03C,    209,   1,-999.0,     -99,  2,20051210,0901,  24.2573,  175.1693,  5587,   50.800,   26.560,   35.306,2,   35.307,2,  180.050,1,  203.550,2,    0.900,2,    0.030,2,    0.000,2,    0.050,2,    1.455,2,    0.878,2, -999.000,9, -999.000,9, -999.000,9
           NA,    P03C,    209,   1,-999.0,     -99,  2,20051210,0901,  24.2573,  175.1693,  5587,   99.900,   22.920,   35.235,2,   35.234,2,  187.140,1,  211.300,2,    1.330,2,    0.010,2,    0.000,2,    0.075,2,    1.791,2,    1.068,2, -999.000,9, -999.000,9, -999.000,9
           NA,    P03C,    209,   1,-999.0,     -99,  2,20051210,0901,  24.2573,  175.1693,  5587,  150.400,   20.103,   35.082,2,   35.071,2,  176.970,1,  200.550,2,    2.200,2,    1.260,2,    0.020,2,    0.185,2,    1.993,2,    1.142,2, -999.000,9, -999.000,9, -999.000,9
           NA,    P03C,    209,   1,-999.0,     -99,  2,20051210,0901,  24.2573,  175.1693,  5587,  200.200,   17.827,   34.845,2,   34.837,2,  183.790,1,  208.210,2,    3.380,2,    3.120,2,    0.010,2,    0.288,2,    2.168,2,    1.205,2, -999.000,9, -999.000,9, -999.000,9
           NA,    P03C,    209,   1,-999.0,     -99,  2,20051210,0901,  24.2573,  175.1693,  5587,  250.300,   16.405,   34.719,2,   34.715,2,  187.510,1,  212.180,2,    5.000,2,    5.160,2,    0.000,2,    0.400,2,    2.271,6,    1.255,6, -999.000,9, -999.000,9, -999.000,9
           NA,    P03C,    209,   1,-999.0,     -99,  2,20051210,0901,  24.2573,  175.1693,  5587,  300.300,   15.024,   34.577,2,   34.570,2,  181.320,1,  205.570,2,    7.670,2,    7.780,2,    0.000,2,    0.579,2,    2.398,2,    1.268,2, -999.000,9, -999.000,9, -999.000,9
           NA,    P03C,    209,   1,-999.0,     -99,  2,20051210,0901,  24.2573,  175.1693,  5587,  399.400,   12.292,   34.345,2,   34.339,2,  177.150,1,  200.890,2,   14.130,2,   12.650,2,    0.000,2,    0.926,2,    2.608,2,    1.351,2, -999.000,9, -999.000,9, -999.000,9
           NA,    P03C,    209,   1,-999.0,     -99,  2,20051210,0901,  24.2573,  175.1693,  5587,  500.400,    9.527,   34.162,2,   34.158,6,  159.750,1,  181.520,2,   27.340,2,   19.660,2,    0.000,2,    1.413,2,    2.492,2,    1.231,2, -999.000,9, -999.000,9, -999.000,9
           NA,    P03C,    209,   1,-999.0,     -99,  2,20051210,0901,  24.2573,  175.1693,  5587,  599.800,    7.042,   34.065,2,   34.065,2,  115.720,1,  131.790,2,   50.500,2,   28.630,2,    0.000,2,    2.077,2,    1.745,2,    0.817,2, -999.000,9, -999.000,9, -999.000,9
           NA,    P03C,    209,   1,-999.0,     -99,  2,20051210,0901,  24.2573,  175.1693,  5587,  699.600,    5.694,   34.090,2,   34.092,2,   77.520,1,   87.150,2,   72.080,2,   35.170,2,    0.000,2,    2.555,2,    0.988,2,    0.475,2, -999.000,9, -999.000,9, -999.000,9
           NA,    P03C,    209,   1,-999.0,     -99,  2,20051210,0901,  24.2573,  175.1693,  5587,  799.700,    4.720,   34.182,2,   34.185,2,   46.790,1,   52.780,2,   93.810,2,   39.610,2,    0.000,2,    2.886,2,    0.408,6,    0.187,6, -999.000,9, -999.000,9, -999.000,9
           NA,    P03C,    209,   1,-999.0,     -99,  2,20051210,0901,  24.2573,  175.1693,  5587,  900.800,    4.177,   34.296,2,   34.298,2,   32.020,1,   37.200,2,  108.030,2,   41.770,2,    0.000,2,    3.030,2,    0.115,2,    0.049,2, -999.000,9, -999.000,9, -999.000,9
           NA,    P03C,    209,   1,-999.0,     -99,  2,20051210,0901,  24.2573,  175.1693,  5587, 1000.200,    3.849,   34.397,2,   34.396,6,   35.440,1,   40.960,2,  116.140,2,   42.010,2,    0.000,2,    3.060,2,    0.016,2,    0.011,2, -999.000,9, -999.000,9, -999.000,9
           NA,    P03C,    209,   1,-999.0,     -99,  2,20051210,0901,  24.2573,  175.1693,  5587, 1199.100,    3.364,   34.505,2,   34.504,2,   51.790,1,   59.340,2,  125.080,2,   41.310,2,    0.000,2,    2.986,2,    0.002,2,    0.003,2, -999.000,9, -999.000,9, -999.000,9
           NA,    P03C,    209,   1,-999.0,     -99,  2,20051210,0901,  24.2573,  175.1693,  5587, 1401.100,    2.930,   34.542,2,   34.542,2,   59.440,1,   68.310,2,  134.620,2,   41.040,2,    0.000,2,    2.949,2,    0.000,2,    0.000,2, -999.000,9, -999.000,9, -999.000,9
           NA,    P03C,    209,   1,-999.0,     -99,  2,20051210,0901,  24.2573,  175.1693,  5587, 1600.300,    2.597,   34.575,2,   34.574,2,   68.410,1,   78.630,2,  140.520,2,   40.520,2,    0.000,2,    2.907,2,    0.000,2,    0.000,2, -999.000,9, -999.000,9, -999.000,9
           NA,    P03C,    209,   1,-999.0,     -99,  2,20051210,0901,  24.2573,  175.1693,  5587, 1802.400,    2.278,   34.599,2,   34.599,2,   76.020,1,   87.810,2,  147.030,2,   40.130,2,    0.000,2,    2.862,2,    0.000,2,    0.000,2, -999.000,9, -999.000,9, -999.000,9
           NA,    P03C,    209,   1,-999.0,     -99,  2,20051210,0901,  24.2573,  175.1693,  5587, 1999.300,    2.031,   34.620,2,   34.620,2,   83.890,1,   97.010,2,  152.130,2,   39.650,2,    0.000,2,    2.821,2,    0.000,2,    0.000,2, -999.000,9, -999.000,9, -999.000,9
           NA,    P03C,    209,   1,-999.0,     -99,  2,20051210,0901,  24.2573,  175.1693,  5587, 2201.200,    1.897,   34.631,2,   34.631,6,   88.580,1,  102.870,2,  154.660,2,   39.350,2,    0.000,2,    2.785,2,    0.000,2,    0.000,2, -999.000,9, -999.000,9, -999.000,9
           NA,    P03C,    209,   1,-999.0,     -99,  2,20051210,0901,  24.2573,  175.1693,  5587, 2400.100,    1.787,   34.641,2,   34.641,2,   94.010,1,  109.110,2,  156.250,2,   38.970,2,    0.000,2,    2.753,2,    0.000,2,    0.000,2, -999.000,9, -999.000,9, -999.000,9
           NA,    P03C,    209,   1,-999.0,     -99,  2,20051210,0901,  24.2573,  175.1693,  5587, 2599.300,    1.697,   34.651,2,   34.650,2,   99.570,1,  116.100,2,  156.950,2,   38.480,2,    0.000,2,    2.715,2, -999.000,9, -999.000,9, -999.000,9, -999.000,9, -999.000,9
           NA,    P03C,    209,   1,-999.0,     -99,  2,20051210,0901,  24.2573,  175.1693,  5587, 2799.300,    1.629,   34.658,2,   34.659,2,  105.130,1,  122.510,2,  156.440,2,   38.100,2,    0.000,2,    2.683,2,    0.000,2,    0.000,2, -999.000,9, -999.000,9, -999.000,9
           NA,    P03C,    209,   1,-999.0,     -99,  2,20051210,0901,  24.2573,  175.1693,  5587, 3002.300,    1.573,   34.665,2,   34.665,2,  110.500,1,  128.820,2,  155.820,2,   37.710,2,    0.000,2,    2.649,2, -999.000,9, -999.000,9, -999.000,9, -999.000,9, -999.000,9
           NA,    P03C,    209,   1,-999.0,     -99,  2,20051210,0901,  24.2573,  175.1693,  5587, 3250.100,    1.526,   34.672,2,   34.672,6,  116.340,1,  135.650,2,  154.370,2,   37.220,2,    0.000,2,    2.606,2, -999.000,9, -999.000,9, -999.000,9, -999.000,9, -999.000,9
           NA,    P03C,    209,   1,-999.0,     -99,  2,20051210,0901,  24.2573,  175.1693,  5587, 3499.500,    1.506,   34.676,2,   34.676,2,  121.180,1,  141.170,2,  152.320,2,   36.880,2,    0.000,2,    2.583,2,    0.000,2,    0.000,2, -999.000,9, -999.000,9, -999.000,9
           NA,    P03C,    209,   1,-999.0,     -99,  2,20051210,0901,  24.2573,  175.1693,  5587, 3749.900,    1.474,   34.681,2,   34.681,2,  126.330,1,  147.200,2,  150.750,2,   36.430,2,    0.000,2,    2.556,2, -999.000,9, -999.000,9, -999.000,9, -999.000,9, -999.000,9
           NA,    P03C,    209,   1,-999.0,     -99,  2,20051210,0901,  24.2573,  175.1693,  5587, 4000.400,    1.455,   34.686,2,   34.686,2,  131.970,1,  153.570,2,  147.510,2,   35.960,2,    0.000,2,    2.518,2, -999.000,9, -999.000,9, -999.000,9, -999.000,9, -999.000,9
           NA,    P03C,    209,   1,-999.0,     -99,  5,20051210,0901,  24.2573,  175.1693,  5587, 4250.400,    1.444,   34.689,2,   34.689,2,  136.660,1,  158.660,2,  145.040,2,   35.650,2,    0.000,2,    2.491,2,    0.000,2,    0.000,2, -999.000,9, -999.000,9, -999.000,9
           NA,    P03C,    209,   1,-999.0,     -99,  2,20051210,0901,  24.2573,  175.1693,  5587, 4500.900,    1.436,   34.692,2,   34.692,6,  141.630,1,  163.880,2,  141.960,2,   35.250,2,    0.000,2,    2.461,2, -999.000,9, -999.000,9, -999.000,9, -999.000,9, -999.000,9
           NA,    P03C,    209,   1,-999.0,     -99,  2,20051210,0901,  24.2573,  175.1693,  5587, 4748.200,    1.429,   34.695,2,   34.694,2,  146.760,1,  169.240,2,  138.460,2,   34.860,2,    0.000,2,    2.436,2, -999.000,9, -999.000,9, -999.000,9, -999.000,9, -999.000,9
           NA,    P03C,    209,   1,-999.0,     -99,  2,20051210,0901,  24.2573,  175.1693,  5587, 5001.000,    1.426,   34.698,2,   34.697,2,  151.620,1,  174.190,2,  135.400,2,   34.570,2,    0.000,2,    2.406,2,    0.000,2,    0.000,2, -999.000,9, -999.000,9, -999.000,9
           NA,    P03C,    209,   1,-999.0,     -99,  2,20051210,0901,  24.2573,  175.1693,  5587, 5250.600,    1.439,   34.699,2,   34.699,2,  154.650,1,  176.870,2,  133.880,2,   34.320,2,    0.000,2,    2.392,2, -999.000,9, -999.000,9, -999.000,9, -999.000,9, -999.000,9
           NA,    P03C,    209,   1,-999.0,     -99,  2,20051210,0901,  24.2573,  175.1693,  5587, 5499.400,    1.459,   34.700,2,   34.700,2,  157.160,1,  178.560,2,  132.850,2,   34.160,2,    0.000,2,    2.378,2, -999.000,9, -999.000,9, -999.000,9, -999.000,9, -999.000,9
           NA,    P03C,    209,   1,-999.0,     -99,  2,20051210,0901,  24.2573,  175.1693,  5587, 5675.000,    1.476,   34.700,2,   34.700,6,  159.550,1,  179.300,2,  132.380,2,   34.120,2,    0.000,2,    2.380,2,    0.000,2,    0.000,2, -999.000,9, -999.000,9, -999.000,9