BOTTLE,20211903JOAExport
EXPOCODE,SECT_ID,STNNBR,CASTNO,SAMPNO,BTLNBR,BTLNBR_FLAG_W,DATE,TIME,LATITUDE,LONGITUDE,DEPTH,CTDPRS,CTDTMP,CTDSAL,CTDSAL_FLAG_W,SALNTY,SALNTY_FLAG_W,CTDOXY,CTDOXY_FLAG_W,OXYGEN,OXYGEN_FLAG_W,SILCAT,SILCAT_FLAG_W,NITRAT,NITRAT_FLAG_W,NITRIT,NITRIT_FLAG_W,PHSPHT,PHSPHT_FLAG_W,CFC-11,CFC-11_FLAG_W,CFC-12,CFC-12_FLAG_W,SF6,SF6_FLAG_W,TCARBN,TCARBN_FLAG_W,ALKALI,ALKALI_FLAG_W
,,,,,,,,,,,,DB,ITS-90,PSS-78,,PSS-78,,UMOL/KG,,UMOL/KG,,UMOL/KG,,UMOL/KG,,UMOL/KG,,UMOL/KG,,PMOL/KG,,PMOL/KG,,FMOL/KG,,UMOL/KG,,UMOL/KG
           NA,    P03C,    337,   1,-999.0,     -99,  2,20060110,1537,  24.2537,  131.5962,  2380,   10.700,   23.325,   34.749,2,   34.748,2,  194.190,1,  211.330,2,    1.210,2,    0.040,2,    0.000,2,    0.048,2,    1.811,2,    1.053,2, -999.000,9, 1957.500,2, 2281.900,2
           NA,    P03C,    337,   1,-999.0,     -99,  2,20060110,1537,  24.2537,  131.5962,  2380,   49.900,   22.803,   34.738,2,   34.741,2,  196.750,1,  214.090,2,    1.240,2,    0.020,2,    0.000,2,    0.045,2,    1.858,2,    1.080,2, -999.000,9, 1958.200,6, 2280.300,2
           NA,    P03C,    337,   1,-999.0,     -99,  2,20060110,1537,  24.2537,  131.5962,  2380,  100.300,   22.520,   34.818,2,   34.818,2,  197.130,1,  214.730,2,    1.290,2,    0.010,2,    0.010,2,    0.044,2,    1.877,2,    1.089,2, -999.000,9, 1965.400,2, 2284.800,6
           NA,    P03C,    337,   1,-999.0,     -99,  2,20060110,1537,  24.2537,  131.5962,  2380,  150.400,   21.711,   34.883,2,   34.890,2,  191.420,1,  207.450,2,    1.700,2,    0.510,2,    0.060,2,    0.089,2,    2.039,2,    1.166,2, -999.000,9, 1994.800,2, 2290.900,2
           NA,    P03C,    337,   1,-999.0,     -99,  2,20060110,1537,  24.2537,  131.5962,  2380,  201.200,   18.859,   34.876,2,   34.869,2,  181.010,1,  196.910,2,    3.030,2,    3.450,2,    0.010,2,    0.278,2,    2.314,2,    1.284,2, -999.000,9, 2026.700,2, 2289.500,2
           NA,    P03C,    337,   1,-999.0,     -99,  2,20060110,1537,  24.2537,  131.5962,  2380,  250.500,   17.558,   34.796,2,   34.790,2,  183.730,1,  199.890,2,    4.070,2,    4.910,2,    0.000,2,    0.363,2,    2.433,6,    1.335,6, -999.000,9, 2032.900,2, 2282.200,2
           NA,    P03C,    337,   1,-999.0,     -99,  2,20060110,1537,  24.2537,  131.5962,  2380,  301.600,   16.638,   34.729,2,   34.723,2,  184.290,1,  199.820,2,    5.490,2,    6.240,2,    0.000,2,    0.454,2,    2.520,2,    1.357,2, -999.000,9, 2041.500,2, 2278.100,2
           NA,    P03C,    337,   1,-999.0,     -99,  2,20060110,1537,  24.2537,  131.5962,  2380,  400.600,   14.490,   34.556,2,   34.551,2,  175.980,1,  190.420,2,   11.150,2,   10.400,2,    0.000,2,    0.748,2,    2.641,2,    1.363,2, -999.000,9, 2070.800,2, 2276.200,2
           NA,    P03C,    337,   1,-999.0,     -99,  2,20060110,1537,  24.2537,  131.5962,  2380,  499.700,   11.409,   34.334,2,   34.322,6,  164.900,1,  176.890,2,   23.190,2,   16.920,2,    0.000,2,    1.224,2,    2.601,2,    1.290,2, -999.000,9, 2118.200,2, 2275.500,2
           NA,    P03C,    337,   1,-999.0,     -99,  2,20060110,1537,  24.2537,  131.5962,  2380,  600.100,    8.548,   34.177,2,   34.173,2,  137.100,1,  146.070,2,   42.370,2,   24.650,2,    0.000,2,    1.798,2,    2.102,2,    1.010,2, -999.000,9, 2176.700,2, 2284.000,2
           NA,    P03C,    337,   1,-999.0,     -99,  2,20060110,1537,  24.2537,  131.5962,  2380,  700.400,    6.833,   34.141,2,   34.142,2,  107.750,1,  115.370,2,   60.330,2,   30.380,2,    0.000,2,    2.223,2,    1.527,2,    0.721,2, -999.000,9, 2224.000,6, 2299.100,2
           NA,    P03C,    337,   1,-999.0,     -99,  2,20060110,1537,  24.2537,  131.5962,  2380,  799.700,    5.648,   34.162,2,   34.164,2,   83.860,1,   89.450,2,   78.450,2,   34.790,2,    0.000,2,    2.547,2,    1.041,6,    0.491,6, -999.000,9, 2264.500,2, 2311.500,6
           NA,    P03C,    337,   1,-999.0,     -99,  2,20060110,1537,  24.2537,  131.5962,  2380,  900.900,    4.773,   34.217,2,   34.218,2,   65.360,1,   69.800,2,   95.120,2,   37.980,2,    0.000,2,    2.758,2,    0.674,2,    0.316,2, -999.000,9, 2297.800,2, 2329.900,2
           NA,    P03C,    337,   1,-999.0,     -99,  2,20060110,1537,  24.2537,  131.5962,  2380, 1001.000,    4.012,   34.311,2,   34.312,6,   52.560,1,   55.960,2,  112.740,2,   40.210,2,    0.000,2,    2.914,2,    0.320,2,    0.149,2, -999.000,9, 2326.700,2, 2350.800,2
           NA,    P03C,    337,   1,-999.0,     -99,  2,20060110,1537,  24.2537,  131.5962,  2380, 1201.100,    3.175,   34.433,2,   34.433,2,   54.080,1,   57.820,2,  131.490,2,   41.060,2,    0.000,2,    2.962,2,    0.100,2,    0.049,2, -999.000,9, 2347.400,2, 2377.200,2
           NA,    P03C,    337,   1,-999.0,     -99,  2,20060110,1537,  24.2537,  131.5962,  2380, 1400.700,    2.641,   34.513,2,   34.513,6,   67.610,1,   72.760,2,  140.840,2,   40.580,2,    0.000,2,    2.912,2,    0.029,2,    0.014,2, -999.000,9, 2351.100,2, 2388.800,2
           NA,    P03C,    337,   1,-999.0,     -99,  2,20060110,1537,  24.2537,  131.5962,  2380, 1600.300,    2.378,   34.557,2,   34.557,2,   82.790,1,   88.810,2,  142.390,2,   39.660,2,    0.000,2,    2.839,2,    0.009,2,    0.007,2, -999.000,9, 2346.100,2, 2396.200,2
           NA,    P03C,    337,   1,-999.0,     -99,  2,20060110,1537,  24.2537,  131.5962,  2380, 1799.800,    2.061,   34.602,2,   34.602,6,  101.000,1,  108.410,2,  143.190,2,   38.600,2,    0.000,2,    2.748,2,    0.001,2,    0.000,2, -999.000,9, 2340.800,2, 2403.100,2
           NA,    P03C,    337,   1,-999.0,     -99,  2,20060110,1537,  24.2537,  131.5962,  2380, 2001.300,    1.944,   34.619,2,   34.619,2,  108.390,1,  116.220,2,  143.350,2,   38.170,2,    0.000,2,    2.714,2,    0.000,2,    0.002,2, -999.000,9, 2337.900,2, 2403.200,2
           NA,    P03C,    337,   1,-999.0,     -99,  2,20060110,1537,  24.2537,  131.5962,  2380, 2201.200,    1.804,   34.637,2,   34.637,2,  117.000,1,  125.250,2,  143.630,2,   37.710,2,    0.000,2,    2.671,2,    0.000,2,    0.002,2, -999.000,9, 2333.100,2, 2408.500,2
           NA,    P03C,    337,   1,-999.0,     -99,  2,20060110,1537,  24.2537,  131.5962,  2380, 2396.200,    1.763,   34.644,2,   34.644,6,  120.710,1,  129.120,2,  143.590,2,   37.440,2,    0.000,2,    2.649,2,    0.000,2,    0.000,2, -999.000,9, 2332.300,2, 2411.200,2
           NA,    P03C,    335,   1,-999.0,     -99,  2,20060110,1051,  24.2703,  132.2070,  3219,   10.100,   23.728,   34.687,2,   34.685,2,  193.860,1,  210.800,2,    1.100,2,    0.030,2,    0.000,2,    0.044,2,    1.777,2,    1.042,2, -999.000,9, -999.000,9, -999.000,9
           NA,    P03C,    335,   1,-999.0,     -99,  2,20060110,1051,  24.2703,  132.2070,  3219,   50.500,   23.660,   34.700,2,   34.700,2,  193.930,1,  211.040,2,    1.090,2,    0.030,2,    0.000,2,    0.044,2,    1.776,2,    1.027,2, -999.000,9, -999.000,9, -999.000,9
           NA,    P03C,    335,   1,-999.0,     -99,  2,20060110,1051,  24.2703,  132.2070,  3219,   99.700,   22.757,   34.820,2,   34.822,2,  192.590,1,  209.000,2,    1.390,2,    0.180,2,    0.050,2,    0.060,2,    1.887,2,    1.090,2, -999.000,9, -999.000,9, -999.000,9
           NA,    P03C,    335,   1,-999.0,     -99,  2,20060110,1051,  24.2703,  132.2070,  3219,  150.200,   20.108,   34.919,2,   34.914,2,  184.840,1,  201.090,2,    2.220,2,    1.820,2,    0.020,2,    0.174,2,    2.200,2,    1.235,2, -999.000,9, -999.000,9, -999.000,9
           NA,    P03C,    335,   1,-999.0,     -99,  2,20060110,1051,  24.2703,  132.2070,  3219,  199.100,   18.995,   34.882,2,   34.880,2,  183.630,1,  199.900,2,    2.790,2,    3.000,2,    0.010,2,    0.245,2,    2.281,2,    1.264,2, -999.000,9, -999.000,9, -999.000,9
           NA,    P03C,    335,   1,-999.0,     -99,  2,20060110,1051,  24.2703,  132.2070,  3219,  248.900,   17.793,   34.813,2,   34.810,2,  186.410,1,  202.290,2,    3.650,2,    4.340,2,    0.010,2,    0.327,2,    2.414,6,    1.311,6, -999.000,9, -999.000,9, -999.000,9
           NA,    P03C,    335,   1,-999.0,     -99,  2,20060110,1051,  24.2703,  132.2070,  3219,  300.400,   16.911,   34.752,2,   34.751,2,  185.680,1,  201.680,2,    4.800,2,    5.630,2,    0.000,2,    0.407,2,    2.493,2,    1.335,2, -999.000,9, -999.000,9, -999.000,9
           NA,    P03C,    335,   1,-999.0,     -99,  2,20060110,1051,  24.2703,  132.2070,  3219,  399.800,   14.712,   34.569,2,   34.563,2,  176.290,1,  190.800,2,   10.250,2,   10.010,2,    0.000,2,    0.718,2,    2.643,2,    1.358,2, -999.000,9, -999.000,9, -999.000,9
           NA,    P03C,    335,   1,-999.0,     -99,  2,20060110,1051,  24.2703,  132.2070,  3219,  499.900,   11.742,   34.355,2,   34.352,6,  166.920,1,  180.180,2,   20.700,2,   15.850,2,    0.000,2,    1.138,2,    2.649,2,    1.309,2, -999.000,9, -999.000,9, -999.000,9
           NA,    P03C,    335,   1,-999.0,     -99,  2,20060110,1051,  24.2703,  132.2070,  3219,  599.500,    9.176,   34.195,2,   34.190,2,  149.320,1,  159.130,2,   36.320,2,   22.380,2,    0.000,2,    1.628,2,    2.333,2,    1.119,2, -999.000,9, -999.000,9, -999.000,9
           NA,    P03C,    335,   1,-999.0,     -99,  2,20060110,1051,  24.2703,  132.2070,  3219,  700.900,    7.163,   34.125,2,   34.125,2,  118.950,1,  128.270,2,   54.460,2,   28.620,2,    0.000,2,    2.086,2,    1.788,2,    0.850,2, -999.000,9, -999.000,9, -999.000,9
           NA,    P03C,    335,   1,-999.0,     -99,  2,20060110,1051,  24.2703,  132.2070,  3219,  800.100,    5.626,   34.155,2,   34.154,2,   84.230,1,   90.710,2,   77.360,2,   34.670,2,    0.000,2,    2.529,2,    1.076,6,    0.503,6, -999.000,9, -999.000,9, -999.000,9
           NA,    P03C,    335,   1,-999.0,     -99,  2,20060110,1051,  24.2703,  132.2070,  3219,  900.400,    4.584,   34.225,2,   34.225,2,   60.430,1,   64.890,2,   98.420,2,   38.630,2,    0.000,2,    2.802,2,    0.591,2,    0.272,2, -999.000,9, -999.000,9, -999.000,9
           NA,    P03C,    335,   1,-999.0,     -99,  2,20060110,1051,  24.2703,  132.2070,  3219,  999.600,    3.962,   34.309,2,   34.309,6,   50.160,1,   54.020,2,  113.600,2,   40.430,2,    0.000,2,    2.924,2,    0.313,2,    0.147,2, -999.000,9, -999.000,9, -999.000,9
           NA,    P03C,    335,   1,-999.0,     -99,  2,20060110,1051,  24.2703,  132.2070,  3219, 1201.600,    3.149,   34.433,2,   34.433,2,   51.850,1,   55.810,2,  132.420,2,   41.280,2,    0.000,2,    2.975,2,    0.098,2,    0.041,2, -999.000,9, -999.000,9, -999.000,9
           NA,    P03C,    335,   1,-999.0,     -99,  2,20060110,1051,  24.2703,  132.2070,  3219, 1401.000,    2.738,   34.499,2,   34.498,2,   63.680,1,   68.600,2,  139.320,2,   40.800,2,    0.000,2,    2.926,2,    0.041,2,    0.015,2, -999.000,9, -999.000,9, -999.000,9
           NA,    P03C,    335,   1,-999.0,     -99,  2,20060110,1051,  24.2703,  132.2070,  3219, 1600.900,    2.369,   34.554,2,   34.554,6,   79.530,1,   85.730,2,  143.380,2,   39.900,2,    0.000,2,    2.849,2,    0.014,2,    0.007,2, -999.000,9, -999.000,9, -999.000,9
           NA,    P03C,    335,   1,-999.0,     -99,  2,20060110,1051,  24.2703,  132.2070,  3219, 1801.700,    2.105,   34.597,2,   34.597,2,   97.700,1,  105.540,2,  143.030,2,   38.740,2,    0.000,2,    2.752,2,    0.010,2,    0.004,2, -999.000,9, -999.000,9, -999.000,9
           NA,    P03C,    335,   1,-999.0,     -99,  2,20060110,1051,  24.2703,  132.2070,  3219, 2000.700,    1.971,   34.616,2,   34.616,2,  105.850,1,  114.260,2,  143.410,2,   38.270,2,    0.000,2,    2.712,2,    0.002,2,    0.000,2, -999.000,9, -999.000,9, -999.000,9
           NA,    P03C,    335,   1,-999.0,     -99,  2,20060110,1051,  24.2703,  132.2070,  3219, 2201.000,    1.845,   34.632,2,   34.633,6,  113.580,1,  122.550,2,  143.550,2,   37.790,2,    0.000,2,    2.674,2,    0.000,2,    0.000,2, -999.000,9, -999.000,9, -999.000,9
           NA,    P03C,    335,   1,-999.0,     -99,  2,20060110,1051,  24.2703,  132.2070,  3219, 2401.100,    1.735,   34.646,2,   34.646,2,  120.910,1,  130.410,2,  143.650,2,   37.370,2,    0.000,2,    2.635,2,    0.000,2,    0.000,2, -999.000,9, -999.000,9, -999.000,9
           NA,    P03C,    335,   1,-999.0,     -99,  2,20060110,1051,  24.2703,  132.2070,  3219, 2601.300,    1.666,   34.656,2,   34.656,2,  126.260,1,  136.140,2,  143.280,2,   37.020,2,    0.000,2,    2.606,2,    0.000,2,    0.000,2, -999.000,9, -999.000,9, -999.000,9
           NA,    P03C,    335,   1,-999.0,     -99,  2,20060110,1051,  24.2703,  132.2070,  3219, 2801.500,    1.630,   34.662,2,   34.662,2,  129.730,1,  139.480,2,  143.220,2,   36.860,2,    0.000,2,    2.594,2, -999.000,9, -999.000,9, -999.000,9, -999.000,9, -999.000,9
           NA,    P03C,    335,   1,-999.0,     -99,  2,20060110,1051,  24.2703,  132.2070,  3219, 3001.000,    1.603,   34.667,2,   34.667,2,  132.940,1,  142.890,2,  143.000,2,   36.640,2,    0.000,2,    2.575,2,    0.000,2,    0.000,2, -999.000,9, -999.000,9, -999.000,9
           NA,    P03C,    335,   1,-999.0,     -99,  2,20060110,1051,  24.2703,  132.2070,  3219, 3197.800,    1.590,   34.670,2,   34.670,6,  135.480,1,  144.720,2,  142.910,2,   36.480,2,    0.000,2,    2.567,2, -999.000,9, -999.000,9, -999.000,9, -999.000,9, -999.000,9