BOTTLE,20211903JOAExport
EXPOCODE,SECT_ID,STNNBR,CASTNO,SAMPNO,BTLNBR,BTLNBR_FLAG_W,DATE,TIME,LATITUDE,LONGITUDE,DEPTH,CTDPRS,CTDTMP,CTDSAL,CTDSAL_FLAG_W,SALNTY,SALNTY_FLAG_W,CTDOXY,CTDOXY_FLAG_W,OXYGEN,OXYGEN_FLAG_W,SILCAT,SILCAT_FLAG_W,NITRAT,NITRAT_FLAG_W,NITRIT,NITRIT_FLAG_W,PHSPHT,PHSPHT_FLAG_W,CFC-11,CFC-11_FLAG_W,CFC-12,CFC-12_FLAG_W,SF6,SF6_FLAG_W,TCARBN,TCARBN_FLAG_W,ALKALI,ALKALI_FLAG_W
,,,,,,,,,,,,DB,ITS-90,PSS-78,,PSS-78,,UMOL/KG,,UMOL/KG,,UMOL/KG,,UMOL/KG,,UMOL/KG,,UMOL/KG,,PMOL/KG,,PMOL/KG,,FMOL/KG,,UMOL/KG,,UMOL/KG
           NA,    P03C,    X13,   1,-999.0,     -99,  2,20051223,2229,  24.0462,  164.9875,  6059,    9.400,   26.222,   35.326,2,   35.326,2,  191.290,1,  204.390,2,    0.980,2,    0.050,2,    0.000,2,    0.036,2,    1.597,2,    0.936,2, -999.000,9, 1971.700,2, 2320.500,2
           NA,    P03C,    X13,   1,-999.0,     -99,  2,20051223,2229,  24.0462,  164.9875,  6059,   49.500,   26.223,   35.325,2,   35.326,2,  191.240,1,  204.200,2,    0.970,2,    0.050,2,    0.000,2,    0.042,2,    1.595,2,    0.944,2, -999.000,9, 1971.500,6, 2318.600,2
           NA,    P03C,    X13,   1,-999.0,     -99,  2,20051223,2229,  24.0462,  164.9875,  6059,  100.700,   22.692,   35.174,2,   35.175,2,  207.970,1,  221.500,2,    1.410,2,    0.040,2,    0.000,2,    0.047,2,    2.027,2,    1.158,2, -999.000,9, 1999.000,2, 2308.300,6
           NA,    P03C,    X13,   1,-999.0,     -99,  2,20051223,2229,  24.0462,  164.9875,  6059,  149.900,   19.636,   34.987,2,   34.990,2,  192.410,1,  205.530,2,    2.200,2,    0.790,2,    0.070,2,    0.134,2,    2.225,2,    1.251,2, -999.000,9, 2024.000,2, 2297.300,2
           NA,    P03C,    X13,   1,-999.0,     -99,  2,20051223,2229,  24.0462,  164.9875,  6059,  200.000,   17.577,   34.808,2,   34.808,2,  195.150,1,  208.880,2,    3.340,2,    3.680,2,    0.010,2,    0.288,2,    2.411,2,    1.321,2, -999.000,9, 2028.000,2, 2287.800,2
           NA,    P03C,    X13,   1,-999.0,     -99,  2,20051223,2229,  24.0462,  164.9875,  6059,  251.300,   16.535,   34.727,2,   34.729,2,  193.790,1,  206.450,2,    5.080,2,    5.600,2,    0.010,2,    0.412,2,    2.500,2,    1.342,2, -999.000,9, 2036.100,2, 2282.800,2
           NA,    P03C,    X13,   1,-999.0,     -99,  2,20051223,2229,  24.0462,  164.9875,  6059,  299.300,   15.541,   34.629,2,   34.626,2,  190.500,1,  203.350,2,    6.740,2,    7.220,2,    0.000,2,    0.537,2,    2.645,2, -999.000,5, -999.000,9, 2051.300,2, 2276.400,2
           NA,    P03C,    X13,   1,-999.0,     -99,  2,20051223,2229,  24.0462,  164.9875,  6059,  402.300,   13.201,   34.428,2,   34.435,2,  191.710,1,  204.240,2,   11.210,2,   10.480,2,    0.000,2,    0.774,2,    2.839,2,    1.448,2, -999.000,9, 2073.700,2, 2271.500,2
           NA,    P03C,    X13,   1,-999.0,     -99,  2,20051223,2229,  24.0462,  164.9875,  6059,  499.000,   10.474,   34.223,2,   34.221,6,  178.110,1,  190.470,2,   21.280,2,   16.730,2,    0.000,2,    1.225,2,    2.831,2,    1.381,2, -999.000,9, 2117.200,2, 2267.900,2
           NA,    P03C,    X13,   1,-999.0,     -99,  2,20051223,2229,  24.0462,  164.9875,  6059,  597.900,    7.539,   34.086,2,   34.086,2,  126.850,1,  135.350,2,   45.260,2,   27.310,2,    0.000,2,    1.997,2,    1.899,2,    0.905,2, -999.000,9, 2193.500,2, 2279.000,2
           NA,    P03C,    X13,   1,-999.0,     -99,  2,20051223,2229,  24.0462,  164.9875,  6059,  700.700,    5.964,   34.094,2,   34.094,2,   89.110,1,   94.890,2,   67.380,2,   33.750,2,    0.000,2,    2.473,2,    1.092,2,    0.527,2, -999.000,9, 2248.600,6, 2298.100,2
           NA,    P03C,    X13,   1,-999.0,     -99,  2,20051223,2229,  24.0462,  164.9875,  6059,  800.200,    5.071,   34.194,2,   34.194,2,   55.070,1,   58.880,2,   86.590,2,   38.530,2,    0.000,2,    2.827,2,    0.433,6,    0.220,6, -999.000,9, 2294.800,2, 2319.900,6
           NA,    P03C,    X13,   1,-999.0,     -99,  2,20051223,2229,  24.0462,  164.9875,  6059,  899.800,    4.269,   34.264,2,   34.265,2,   39.760,1,   42.270,2,  105.160,2,   41.330,2,    0.000,2,    2.994,2,    0.184,2,    0.086,2, -999.000,9, 2327.900,2, 2341.700,2
           NA,    P03C,    X13,   1,-999.0,     -99,  2,20051223,2229,  24.0462,  164.9875,  6059, 1001.200,    4.019,   34.388,2,   34.388,6,   43.240,1,   46.290,2,  111.500,2,   41.340,2,    0.000,2,    3.005,2,    0.045,2,    0.020,2, -999.000,9, 2335.600,2, 2357.500,2
           NA,    P03C,    X13,   1,-999.0,     -99,  2,20051223,2229,  24.0462,  164.9875,  6059, 1201.200,    3.383,   34.496,2,   34.496,2,   59.090,1,   63.410,2,  124.070,2,   40.730,2,    0.000,2,    2.945,2,    0.010,2,    0.000,2, -999.000,9, 2341.700,2, 2378.700,2
           NA,    P03C,    X13,   1,-999.0,     -99,  2,20051223,2229,  24.0462,  164.9875,  6059, 1399.900,    2.876,   34.538,2,   34.539,2,   67.410,1,   72.890,2,  134.610,2,   40.540,2,    0.000,2,    2.916,2,    0.000,2,    0.000,2, -999.000,9, 2349.400,2, 2392.100,2
           NA,    P03C,    X13,   1,-999.0,     -99,  2,20051223,2229,  24.0462,  164.9875,  6059, 1598.900,    2.527,   34.569,2,   34.569,2,   75.840,1,   82.050,2,  140.970,2,   40.200,2,    0.000,2,    2.878,2,    0.001,2,    0.002,2, -999.000,9, 2349.900,2, 2397.300,2
           NA,    P03C,    X13,   1,-999.0,     -99,  2,20051223,2229,  24.0462,  164.9875,  6059, 1800.000,    2.215,   34.595,2,   34.595,2,   82.480,1,   89.540,2,  147.720,2,   40.030,2,    0.000,2,    2.852,2,    0.000,2,    0.000,2, -999.000,9, 2352.900,2, 2407.500,2
           NA,    P03C,    X13,   1,-999.0,     -99,  2,20051223,2229,  24.0462,  164.9875,  6059, 1998.800,    2.028,   34.618,2,   34.618,2,   91.850,1,   99.920,2,  149.570,2,   39.390,2,    0.000,2,    2.803,2,    0.000,2,    0.000,2, -999.000,9, 2350.400,2, 2408.700,2
           NA,    P03C,    X13,   1,-999.0,     -99,  2,20051223,2229,  24.0462,  164.9875,  6059, 2198.700,    1.882,   34.634,2,   34.634,6,   99.490,1,  108.270,2,  151.450,2,   38.850,2,    0.010,2,    2.760,2,    0.000,2,    0.000,2, -999.000,9, 2348.800,2, 2413.600,2
           NA,    P03C,    X13,   1,-999.0,     -99,  2,20051223,2229,  24.0462,  164.9875,  6059, 2399.600,    1.764,   34.646,2,   34.646,2,  105.750,1,  115.330,2,  152.720,2,   38.370,2,    0.000,2,    2.724,2,    0.000,2,    0.000,2, -999.000,9, 2346.300,6, 2416.400,2
           NA,    P03C,    X13,   1,-999.0,     -99,  2,20051223,2229,  24.0462,  164.9875,  6059, 2597.600,    1.689,   34.655,2,   34.655,2,  111.790,1,  122.200,2,  152.840,2,   37.950,2,    0.000,2,    2.692,2,    0.000,2,    0.000,2, -999.000,9, 2342.800,2, 2418.000,6
           NA,    P03C,    X13,   1,-999.0,     -99,  2,20051223,2229,  24.0462,  164.9875,  6059, 2801.700,    1.645,   34.661,2,   34.661,2,  115.960,1,  126.870,2,  152.200,2,   37.720,2,    0.000,2,    2.672,2, -999.000,9, -999.000,9, -999.000,9, 2340.500,2, 2414.600,2
           NA,    P03C,    X13,   1,-999.0,     -99,  2,20051223,2229,  24.0462,  164.9875,  6059, 3001.300,    1.613,   34.666,2,   34.666,2,  119.410,1,  130.990,2,  152.310,2,   37.540,2,    0.000,2,    2.653,2, -999.000,9, -999.000,9, -999.000,9, 2339.400,2, 2415.300,2
           NA,    P03C,    X13,   1,-999.0,     -99,  2,20051223,2229,  24.0462,  164.9875,  6059, 3251.600,    1.572,   34.671,2,   34.671,6,  124.150,1,  135.940,2,  151.000,2,   37.200,2,    0.000,2,    2.614,2,    0.000,2,    0.000,2, -999.000,9, 2336.900,2, 2416.200,2
           NA,    P03C,    X13,   1,-999.0,     -99,  2,20051223,2229,  24.0462,  164.9875,  6059, 3498.900,    1.546,   34.675,2, -999.000,4,  128.190,1,  140.360,2,  150.690,2,   36.870,2,    0.000,2,    2.595,2, -999.000,9, -999.000,9, -999.000,9, 2333.600,2, 2417.400,2
           NA,    P03C,    X13,   1,-999.0,     -99,  2,20051223,2229,  24.0462,  164.9875,  6059, 3748.900,    1.523,   34.679,2,   34.679,2,  132.360,1,  144.910,2,  149.480,2,   36.490,2,    0.000,2,    2.568,2, -999.000,9, -999.000,9, -999.000,9, 2328.600,2, 2417.300,2
           NA,    P03C,    X13,   1,-999.0,     -99,  2,20051223,2229,  24.0462,  164.9875,  6059, 4001.700,    1.499,   34.683,2,   34.683,2,  137.160,1,  149.790,2,  147.970,2,   36.090,2,    0.000,2,    2.545,2,    0.000,2,    0.000,2, -999.000,9, 2323.500,2, 2416.500,2
           NA,    P03C,    X13,   1,-999.0,     -99,  2,20051223,2229,  24.0462,  164.9875,  6059, 4250.300,    1.484,   34.686,2,   34.686,2,  141.890,1,  154.630,2,  146.090,2,   35.810,2,    0.000,2,    2.519,2, -999.000,9, -999.000,9, -999.000,9, 2319.800,6, 2411.500,2
           NA,    P03C,    X13,   1,-999.0,     -99,  2,20051223,2229,  24.0462,  164.9875,  6059, 4498.400,    1.471,   34.690,2,   34.689,6,  147.170,1,  160.250,2,  143.240,2,   35.440,2,    0.000,2,    2.490,2, -999.000,9, -999.000,9, -999.000,9, 2316.800,2, 2409.500,6
           NA,    P03C,    X13,   1,-999.0,     -99,  2,20051223,2229,  24.0462,  164.9875,  6059, 4748.600,    1.466,   34.692,2,   34.693,2,  151.870,1,  164.710,2,  140.620,2,   35.070,2,    0.000,2,    2.465,2,    0.000,2,    0.000,2, -999.000,9, 2311.200,2, 2405.100,2
           NA,    P03C,    X13,   1,-999.0,     -99,  2,20051223,2229,  24.0462,  164.9875,  6059, 5000.700,    1.469,   34.695,2,   34.695,2,  155.910,1,  168.600,2,  138.390,2,   34.850,2,    0.000,2,    2.444,2, -999.000,9, -999.000,9, -999.000,9, 2306.200,2, 2402.700,2
           NA,    P03C,    X13,   1,-999.0,     -99,  2,20051223,2229,  24.0462,  164.9875,  6059, 5252.400,    1.471,   34.697,2,   34.697,2,  160.360,1,  172.770,2,  136.070,2,   34.550,2,    0.000,2,    2.422,2, -999.000,9, -999.000,9, -999.000,9, 2302.200,2, 2402.100,2
           NA,    P03C,    X13,   1,-999.0,     -99,  2,20051223,2229,  24.0462,  164.9875,  6059, 5500.800,    1.481,   34.698,2,   34.699,2,  163.920,1,  175.660,2,  134.190,2,   34.360,2,    0.000,2,    2.410,2,    0.000,2,    0.000,2, -999.000,9, 2299.200,2, 2399.400,2
           NA,    P03C,    X13,   1,-999.0,     -99,  2,20051223,2229,  24.0462,  164.9875,  6059, 5750.300,    1.502,   34.699,2,   34.699,2,  166.450,1,  177.280,2,  133.030,2,   34.230,2,    0.000,2,    2.398,2, -999.000,9, -999.000,9, -999.000,9, 2298.200,2, 2397.500,2
           NA,    P03C,    X13,   1,-999.0,     -99,  2,20051223,2229,  24.0462,  164.9875,  6059, 6170.500,    1.554,   34.699,2,   34.700,6,  170.160,1,  178.240,2,  132.580,2,   34.100,2,    0.000,2,    2.394,2,    0.000,2,    0.000,2, -999.000,9, 2295.500,2, 2395.500,2