BOTTLE,20211903JOAExport
EXPOCODE,SECT_ID,STNNBR,CASTNO,SAMPNO,BTLNBR,BTLNBR_FLAG_W,DATE,TIME,LATITUDE,LONGITUDE,DEPTH,CTDPRS,CTDTMP,CTDSAL,CTDSAL_FLAG_W,SALNTY,SALNTY_FLAG_W,CTDOXY,CTDOXY_FLAG_W,OXYGEN,OXYGEN_FLAG_W,SILCAT,SILCAT_FLAG_W,NITRAT,NITRAT_FLAG_W,NITRIT,NITRIT_FLAG_W,PHSPHT,PHSPHT_FLAG_W,CFC-11,CFC-11_FLAG_W,CFC-12,CFC-12_FLAG_W,SF6,SF6_FLAG_W,TCARBN,TCARBN_FLAG_W,ALKALI,ALKALI_FLAG_W
,,,,,,,,,,,,DB,ITS-90,PSS-78,,PSS-78,,UMOL/KG,,UMOL/KG,,UMOL/KG,,UMOL/KG,,UMOL/KG,,UMOL/KG,,PMOL/KG,,PMOL/KG,,FMOL/KG,,UMOL/KG,,UMOL/KG
           NA,    P03E,     51,   1,-999.0,     -99,  2,20051107,0024,  24.2592, -130.8472,  4757,   11.000,   22.079,   34.874,2,   34.873,2,  210.070,1,  220.570,2,    1.180,2,    0.060,2,    0.000,2,    0.164,2,    1.901,2,    1.148,2, -999.000,9, 2008.700,2, 2307.000,2
           NA,    P03E,     51,   1,-999.0,     -99,  2,20051107,0024,  24.2592, -130.8472,  4757,   49.900,   22.065,   34.871,2,   34.871,2,  210.040,1,  220.580,2,    1.180,2,    0.050,2,    0.000,2,    0.162,2,    1.913,2,    1.156,2, -999.000,9, 2009.400,6, 2308.300,2
           NA,    P03E,     51,   1,-999.0,     -99,  2,20051107,0024,  24.2592, -130.8472,  4757,  100.400,   19.809,   34.549,2,   34.561,2,  223.220,1,  232.940,2,    1.590,2,    0.050,2,    0.000,2,    0.167,2,    2.244,2,    1.344,2, -999.000,9, 2020.500,2, 2290.100,6
           NA,    P03E,     51,   1,-999.0,     -99,  2,20051107,0024,  24.2592, -130.8472,  4757,  150.100,   18.270,   34.592,2,   34.580,2,  208.400,1,  218.260,2,    2.190,2,    0.600,2,    0.150,2,    0.226,2,    2.384,2,    1.376,2, -999.000,9, 2035.000,2, 2283.800,2
           NA,    P03E,     51,   1,-999.0,     -99,  2,20051107,0024,  24.2592, -130.8472,  4757,  201.900,   13.295,   33.906,2,   33.894,2,  203.270,1,  211.570,2,    6.460,2,    6.920,2,    0.010,2,    0.661,2,    2.961,2,    1.618,2, -999.000,9, 2054.800,2, 2236.200,2
           NA,    P03E,     51,   1,-999.0,     -99,  2,20051107,0024,  24.2592, -130.8472,  4757,  252.500,   10.333,   33.940,2,   33.945,2,  192.220,1,  200.320,2,   15.250,2,   14.670,2,    0.000,2,    1.133,2,    3.240,6,    1.679,6, -999.000,9, 2099.000,2, 2247.600,2
           NA,    P03E,     51,   1,-999.0,     -99,  2,20051107,0024,  24.2592, -130.8472,  4757,  300.700,    9.083,   34.046,2,   34.041,2,  163.130,1,  167.620,2,   25.770,2,   21.170,2,    0.000,2,    1.568,2,    2.946,2,    1.469,2, -999.000,9, 2146.100,2, 2254.400,2
           NA,    P03E,     51,   1,-999.0,     -99,  2,20051107,0024,  24.2592, -130.8472,  4757,  399.700,    7.049,   34.061,2,   34.062,2,   94.170,1,   97.140,2,   49.720,2,   31.590,2,    0.000,2,    2.348,2,    1.653,2,    0.754,2, -999.000,9, 2228.100,2, 2280.800,2
           NA,    P03E,     51,   1,-999.0,     -99,  2,20051107,0024,  24.2592, -130.8472,  4757,  600.400,    5.390,   34.293,2,   34.292,2,   18.940,1,   19.820,2,   84.210,2,   41.040,2,    0.000,2,    3.107,2,    0.059,2,    0.031,2, -999.000,9, 2319.500,2, 2326.400,2
           NA,    P03E,     51,   1,-999.0,     -99,  2,20051107,0024,  24.2592, -130.8472,  4757,  700.700,    5.062,   34.391,2, -999.000,4,   18.640,1,   19.400,2,   91.320,2,   42.180,2,    0.000,2,    3.165,2,    0.016,2,    0.010,2, -999.000,9, 2331.000,6, 2337.800,2
           NA,    P03E,     51,   1,-999.0,     -99,  2,20051107,0024,  24.2592, -130.8472,  4757,  801.200,    4.804,   34.447,2,   34.447,2,   21.480,1,   22.420,2,   96.330,2,   42.750,2,    0.000,2,    3.188,2,    0.006,6,    0.005,6, -999.000,9, 2338.100,2, 2349.500,6
           NA,    P03E,     51,   1,-999.0,     -99,  2,20051107,0024,  24.2592, -130.8472,  4757,  901.400,    4.470,   34.479,2,   34.479,2,   25.560,1,   26.600,2,  102.720,2,   42.980,2,    0.000,2,    3.184,2,    0.006,2,    0.004,2, -999.000,9, 2344.600,2, 2361.200,2
           NA,    P03E,     51,   1,-999.0,     -99,  2,20051107,0024,  24.2592, -130.8472,  4757, 1001.500,    4.124,   34.504,2,   34.503,6,   28.890,1,   30.250,2,  110.370,2,   43.180,2,    0.000,2,    3.195,2,    0.003,2,    0.005,2, -999.000,9, 2350.100,2, 2369.400,2
           NA,    P03E,     51,   1,-999.0,     -99,  2,20051107,0024,  24.2592, -130.8472,  4757, 1201.900,    3.602,   34.532,2,   34.532,2,   37.190,1,   38.910,2,  122.390,2,   43.140,2,    0.000,2,    3.172,2,    0.011,2,    0.000,2, -999.000,9, 2358.400,2, 2384.800,2
           NA,    P03E,     51,   1,-999.0,     -99,  2,20051107,0024,  24.2592, -130.8472,  4757, 1400.100,    3.084,   34.564,2,   34.564,2,   46.120,1,   48.400,2,  135.150,2,   42.710,2,    0.000,2,    3.126,2,    0.002,2,    0.002,2, -999.000,9, 2363.200,2, 2398.700,2
           NA,    P03E,     51,   1,-999.0,     -99,  3,20051107,0024,  24.2592, -130.8472,  4757, 1601.200,    2.684,   34.589,2,   34.590,2,   57.120,1,   59.920,2,  144.580,2,   42.060,2,    0.000,2,    3.055,2,    0.000,2,    0.000,2, -999.000,9, 2367.700,2, 2403.200,2
           NA,    P03E,     51,   1,-999.0,     -99,  2,20051107,0024,  24.2592, -130.8472,  4757, 1801.800,    2.420,   34.607,2,   34.607,2,   66.480,1,   69.670,2,  150.710,2,   41.500,2,    0.000,2,    2.994,2,    0.000,2,    0.001,2, -999.000,9, 2367.400,2, 2410.900,2
           NA,    P03E,     51,   1,-999.0,     -99,  2,20051107,0024,  24.2592, -130.8472,  4757, 2000.900,    2.156,   34.627,2,   34.627,2,   78.260,1,   82.220,2,  156.030,2,   40.700,2,    0.000,2,    2.921,2,    0.001,2,    0.000,2, -999.000,9, 2366.400,2, 2419.000,2
           NA,    P03E,     51,   1,-999.0,     -99,  2,20051107,0024,  24.2592, -130.8472,  4757, 2201.500,    1.973,   34.640,2,   34.640,6,   87.800,1,   92.500,2,  159.590,2,   40.060,2,    0.000,2,    2.856,2, -999.000,9, -999.000,9, -999.000,9, 2363.800,2, 2424.800,2
           NA,    P03E,     51,   1,-999.0,     -99,  2,20051107,0024,  24.2592, -130.8472,  4757, 2400.900,    1.864,   34.647,2,   34.647,2,   93.800,1,   98.970,2,  162.210,2,   39.660,2,    0.000,2,    2.820,2, -999.000,9, -999.000,9, -999.000,9, 2361.400,6, 2425.200,2
           NA,    P03E,     51,   1,-999.0,     -99,  2,20051107,0024,  24.2592, -130.8472,  4757, 2601.500,    1.729,   34.656,2,   34.655,2,  101.040,1,  106.740,2,  165.480,2,   39.090,2,    0.000,2,    2.770,2, -999.000,9, -999.000,9, -999.000,9, 2359.300,2, 2426.900,6
           NA,    P03E,     51,   1,-999.0,     -99,  2,20051107,0024,  24.2592, -130.8472,  4757, 2801.500,    1.632,   34.663,2,   34.662,2,  108.040,1,  114.020,2,  167.270,2,   38.750,2,    0.000,2,    2.735,2, -999.000,9, -999.000,9, -999.000,9, 2354.100,2, 2431.100,2
           NA,    P03E,     51,   1,-999.0,     -99,  2,20051107,0024,  24.2592, -130.8472,  4757, 3000.500,    1.548,   34.671,2,   34.670,2,  116.580,1,  123.140,2,  166.870,2,   38.170,2,    0.000,2,    2.686,2,    0.001,2,    0.000,2, -999.000,9, 2347.400,2, 2429.100,2
           NA,    P03E,     51,   1,-999.0,     -99,  2,20051107,0024,  24.2592, -130.8472,  4757, 3250.800,    1.509,   34.676,2,   34.676,6,  123.490,1,  130.190,2,  165.120,2,   37.630,2,    0.000,2,    2.644,2, -999.000,9, -999.000,9, -999.000,9, 2345.900,2, 2431.700,2
           NA,    P03E,     51,   1,-999.0,     -99,  2,20051107,0024,  24.2592, -130.8472,  4757, 3500.900,    1.490,   34.680,2,   34.681,2,  129.050,1,  135.970,2,  163.610,2,   37.280,2,    0.000,2,    2.617,2, -999.000,9, -999.000,9, -999.000,9, 2339.100,2, -999.000,3
           NA,    P03E,     51,   1,-999.0,     -99,  2,20051107,0024,  24.2592, -130.8472,  4757, 3751.000,    1.494,   34.682,2,   34.682,2,  132.220,1,  138.890,2,  162.750,2,   37.110,2,    0.000,2,    2.602,2, -999.000,9, -999.000,9, -999.000,9, 2338.800,2, -999.000,3
           NA,    P03E,     51,   1,-999.0,     -99,  2,20051107,0024,  24.2592, -130.8472,  4757, 4000.100,    1.501,   34.685,2,   34.685,6,  135.730,1,  142.280,2,  161.100,2,   36.860,2,    0.000,2,    2.582,2,    0.007,2,    0.007,2, -999.000,9, 2335.600,2, 2425.400,2
           NA,    P03E,     51,   1,-999.0,     -99,  2,20051107,0024,  24.2592, -130.8472,  4757, 4252.400,    1.512,   34.686,2,   34.686,2,  139.270,1,  145.550,2,  158.520,2,   36.650,2,    0.000,2,    2.564,2, -999.000,9, -999.000,9, -999.000,9, 2332.600,6, 2422.600,2
           NA,    P03E,     51,   1,-999.0,     -99,  2,20051107,0024,  24.2592, -130.8472,  4757, 4500.800,    1.529,   34.687,2,   34.687,2,  142.040,1,  147.720,2,  156.670,2,   36.490,2,    0.000,2,    2.550,2, -999.000,9, -999.000,9, -999.000,9, 2329.700,2, 2423.500,6
           NA,    P03E,     51,   1,-999.0,     -99,  2,20051107,0024,  24.2592, -130.8472,  4757, 4749.800,    1.544,   34.688,2,   34.688,2,  145.280,1,  150.210,2,  154.810,2,   36.420,2,    0.000,2,    2.542,2, -999.000,9, -999.000,9, -999.000,9, 2327.900,2, 2423.100,2
           NA,    P03E,     51,   1,-999.0,     -99,  2,20051107,0024,  24.2592, -130.8472,  4757, 4820.600,    1.547,   34.688,2,   34.688,6,  146.890,1,  151.170,2,  153.980,2,   36.250,2,    0.000,2,    2.537,2,    0.016,2,    0.008,2, -999.000,9, 2326.500,2, 2417.800,2
           NA,    P03E,     51,   1,-999.0,     -99,  2,20051107,0024,  24.2592, -130.8472,  4757, 4821.000,    1.547,   34.688,2,   34.688,2,  146.760,1,  151.130,2,  153.860,2,   36.220,2,    0.000,2,    2.533,2, -999.000,5, -999.000,5, -999.000,9, -999.000,3, 2419.700,2
           NA,    P03E,     50,   1,-999.0,     -99,  2,20051106,1800,  24.2585, -130.0385,  4613,   10.000,   21.614,   34.546,2,   34.546,2,  212.630,1,  222.910,2,    1.490,2,    0.040,2,    0.000,2,    0.206,2,    1.960,2,    1.183,2, -999.000,9, -999.000,9, -999.000,9
           NA,    P03E,     50,   1,-999.0,     -99,  2,20051106,1800,  24.2585, -130.0385,  4613,   49.400,   21.626,   34.547,2,   34.550,2,  212.650,1,  222.900,2,    1.450,2,    0.040,2,    0.000,2,    0.205,2,    1.968,2,    1.181,2, -999.000,9, -999.000,9, -999.000,9
           NA,    P03E,     50,   1,-999.0,     -99,  2,20051106,1800,  24.2585, -130.0385,  4613,   99.400,   19.721,   34.381,2,   34.374,2,  225.410,1,  235.280,2,    1.690,2,    0.040,2,    0.000,2,    0.196,2,    2.251,2,    1.338,2, -999.000,9, -999.000,9, -999.000,9
           NA,    P03E,     50,   1,-999.0,     -99,  2,20051106,1800,  24.2585, -130.0385,  4613,  149.900,   16.088,   34.061,2,   34.045,2,  206.190,1,  215.050,2,    3.480,2,    2.260,2,    0.060,2,    0.420,2,    2.615,2,    1.523,2, -999.000,9, -999.000,9, -999.000,9
           NA,    P03E,     50,   1,-999.0,     -99,  2,20051106,1800,  24.2585, -130.0385,  4613,  199.200,   11.294,   33.657,2,   33.663,2,  191.680,1,  198.810,2,   11.140,2,   11.990,2,    0.010,2,    1.037,2,    3.124,2,    1.774,2, -999.000,9, -999.000,9, -999.000,9
           NA,    P03E,     50,   1,-999.0,     -99,  2,20051106,1800,  24.2585, -130.0385,  4613,  250.200,    9.542,   33.953,2,   33.961,2,  168.180,1,  172.970,2,   21.610,2,   19.300,2,    0.010,2,    1.475,2,    3.023,2,    1.632,2, -999.000,9, -999.000,9, -999.000,9
           NA,    P03E,     50,   1,-999.0,     -99,  2,20051106,1800,  24.2585, -130.0385,  4613,  298.600,    8.803,   34.088,2,   34.088,2,  124.770,1,  129.480,2,   32.130,2,   25.090,2,    0.010,2,    1.908,2,    2.490,2,    1.243,2, -999.000,9, -999.000,9, -999.000,9
           NA,    P03E,     50,   1,-999.0,     -99,  2,20051106,1800,  24.2585, -130.0385,  4613,  400.300,    7.299,   34.174,2,   34.174,2,   55.800,1,   58.300,2,   53.010,2,   33.470,2,    0.010,2,    2.618,2,    1.011,2,    0.503,2, -999.000,9, -999.000,9, -999.000,9
           NA,    P03E,     50,   1,-999.0,     -99,  2,20051106,1800,  24.2585, -130.0385,  4613,  498.800,    6.202,   34.215,2,   34.221,6,   30.580,1,   30.450,2,   69.740,2,   38.060,2,    0.010,2,    2.939,2,    0.292,2,    0.180,2, -999.000,9, -999.000,9, -999.000,9
           NA,    P03E,     50,   1,-999.0,     -99,  2,20051106,1800,  24.2585, -130.0385,  4613,  600.100,    5.805,   34.322,2,   34.323,2,   14.520,1,   15.050,2,   79.810,2,   40.290,2,    0.000,2,    3.118,2,    0.059,2,    0.035,2, -999.000,9, -999.000,9, -999.000,9
           NA,    P03E,     50,   1,-999.0,     -99,  2,20051106,1800,  24.2585, -130.0385,  4613,  700.800,    5.280,   34.399,2,   34.400,2,   12.640,1,   13.020,2,   89.580,2,   42.010,2,    0.010,2,    3.202,2,    0.021,2,    0.012,2, -999.000,9, -999.000,9, -999.000,9
           NA,    P03E,     50,   1,-999.0,     -99,  2,20051106,1800,  24.2585, -130.0385,  4613,  798.900,    4.923,   34.437,2,   34.438,2,   15.840,1,   16.580,2,   95.580,2,   42.780,2,    0.000,2,    3.218,2,    0.011,6,    0.005,6, -999.000,9, -999.000,9, -999.000,9
           NA,    P03E,     50,   1,-999.0,     -99,  2,20051106,1800,  24.2585, -130.0385,  4613,  900.600,    4.549,   34.470,2,   34.470,2,   19.720,1,   20.430,2,  102.740,2,   43.260,2,    0.000,2,    3.217,2,    0.001,2,    0.001,2, -999.000,9, -999.000,9, -999.000,9
           NA,    P03E,     50,   1,-999.0,     -99,  2,20051106,1800,  24.2585, -130.0385,  4613, 1000.100,    4.187,   34.492,2,   34.492,6,   24.040,1,   24.970,2,  110.590,2,   43.460,2,    0.010,2,    3.227,2,    0.002,2,    0.000,2, -999.000,9, -999.000,9, -999.000,9
           NA,    P03E,     50,   1,-999.0,     -99,  2,20051106,1800,  24.2585, -130.0385,  4613, 1200.700,    3.629,   34.531,2,   34.531,2,   33.070,1,   34.420,2,  123.130,2,   43.400,2,    0.000,2,    3.201,2,    0.000,2,    0.000,2, -999.000,9, -999.000,9, -999.000,9
           NA,    P03E,     50,   1,-999.0,     -99,  2,20051106,1800,  24.2585, -130.0385,  4613, 1400.800,    3.151,   34.560,2,   34.560,2,   43.280,1,   45.350,2,  134.210,2,   42.990,2,    0.000,2,    3.145,2,    0.000,2,    0.000,2, -999.000,9, -999.000,9, -999.000,9
           NA,    P03E,     50,   1,-999.0,     -99,  2,20051106,1800,  24.2585, -130.0385,  4613, 1599.100,    2.740,   34.585,2,   34.585,2,   53.080,1,   55.570,2,  145.040,2,   42.370,2,    0.000,2,    3.079,2,    0.000,2,    0.000,2, -999.000,9, -999.000,9, -999.000,9
           NA,    P03E,     50,   1,-999.0,     -99,  2,20051106,1800,  24.2585, -130.0385,  4613, 1799.700,    2.426,   34.609,2,   34.609,2,   65.730,1,   68.870,2,  150.940,2,   41.530,2,    0.000,2,    3.004,2,    0.000,2,    0.000,2, -999.000,9, -999.000,9, -999.000,9
           NA,    P03E,     50,   1,-999.0,     -99,  2,20051106,1800,  24.2585, -130.0385,  4613, 2000.100,    2.177,   34.626,2,   34.627,2,   77.510,1,   81.530,2,  155.760,2,   40.840,2,    0.010,2,    2.924,2,    0.005,2,    0.000,2, -999.000,9, -999.000,9, -999.000,9
           NA,    P03E,     50,   1,-999.0,     -99,  2,20051106,1800,  24.2585, -130.0385,  4613, 2200.500,    2.006,   34.638,2,   34.638,6,   86.000,1,   90.380,2,  159.180,2,   40.230,2,    0.010,2,    2.869,2, -999.000,9, -999.000,9, -999.000,9, -999.000,9, -999.000,9
           NA,    P03E,     50,   1,-999.0,     -99,  2,20051106,1800,  24.2585, -130.0385,  4613, 2400.300,    1.847,   34.648,2,   34.649,2,   94.500,1, -999.000,5,  162.820,2,   39.700,2,    0.010,2,    2.820,2, -999.000,9, -999.000,9, -999.000,9, -999.000,9, -999.000,9
           NA,    P03E,     50,   1,-999.0,     -99,  2,20051106,1800,  24.2585, -130.0385,  4613, 2598.200,    1.726,   34.656,2,   34.656,2,  101.580,1,  107.080,2,  165.290,2,   39.190,2,    0.000,2,    2.772,2, -999.000,9, -999.000,9, -999.000,9, -999.000,9, -999.000,9
           NA,    P03E,     50,   1,-999.0,     -99,  2,20051106,1800,  24.2585, -130.0385,  4613, 2800.000,    1.632,   34.663,2,   34.663,2,  108.070,1,  113.860,2,  166.480,2,   38.760,2,    0.010,2,    2.746,2, -999.000,9, -999.000,9, -999.000,9, -999.000,9, -999.000,9
           NA,    P03E,     50,   1,-999.0,     -99,  2,20051106,1800,  24.2585, -130.0385,  4613, 3001.500,    1.566,   34.669,2,   34.670,2,  115.660,1,  121.740,2,  166.770,2,   38.270,2,    0.010,2,    2.701,2, -999.000,9, -999.000,9, -999.000,9, -999.000,9, -999.000,9
           NA,    P03E,     50,   1,-999.0,     -99,  2,20051106,1800,  24.2585, -130.0385,  4613, 3249.800,    1.512,   34.675,2,   34.675,6,  122.850,1,  129.330,2,  165.930,2,   37.660,2,    0.010,2,    2.647,2,    0.003,2,    0.001,2, -999.000,9, -999.000,9, -999.000,9
           NA,    P03E,     50,   1,-999.0,     -99,  2,20051106,1800,  24.2585, -130.0385,  4613, 3502.000,    1.492,   34.680,2,   34.680,2,  128.810,1,  135.390,2,  164.230,2,   37.360,2,    0.010,2,    2.619,2, -999.000,9, -999.000,9, -999.000,9, -999.000,9, -999.000,9
           NA,    P03E,     50,   1,-999.0,     -99,  2,20051106,1800,  24.2585, -130.0385,  4613, 3749.500,    1.496,   34.682,2,   34.682,2,  132.400,1,  138.700,2,  162.950,2,   37.170,2,    0.010,2,    2.606,2, -999.000,9, -999.000,9, -999.000,9, -999.000,9, -999.000,9
           NA,    P03E,     50,   1,-999.0,     -99,  2,20051106,1800,  24.2585, -130.0385,  4613, 4001.000,    1.507,   34.684,2,   34.684,2,  135.100,1,  141.150,2,  161.710,2,   37.020,2,    0.010,2,    2.588,2, -999.000,9, -999.000,9, -999.000,9, -999.000,9, -999.000,9
           NA,    P03E,     50,   1,-999.0,     -99,  2,20051106,1800,  24.2585, -130.0385,  4613, 4249.500,    1.521,   34.685,2,   34.686,6,  138.150,1,  143.770,2,  159.660,2,   36.820,2,    0.010,2,    2.573,2, -999.000,9, -999.000,9, -999.000,9, -999.000,9, -999.000,9
           NA,    P03E,     50,   1,-999.0,     -99,  2,20051106,1800,  24.2585, -130.0385,  4613, 4500.400,    1.529,   34.687,2,   34.687,2,  142.750,1,  147.710,2,  156.600,2,   36.520,2,    0.010,2,    2.553,2, -999.000,9, -999.000,9, -999.000,9, -999.000,9, -999.000,9
           NA,    P03E,     50,   1,-999.0,     -99,  2,20051106,1800,  24.2585, -130.0385,  4613, 4685.200,    1.542,   34.688,2,   34.688,2,  144.990,1,  149.410,2,  155.390,2,   36.380,2,    0.000,2,    2.545,2, -999.000,9, -999.000,9, -999.000,9, -999.000,9, -999.000,9
           NA,    P03E,     50,   1,-999.0,     -99,  2,20051106,1800,  24.2585, -130.0385,  4613, 4685.500,    1.542,   34.688,2,   34.688,6,  145.060,1,  149.380,2,  155.570,2,   36.470,2,    0.000,2,    2.551,2,    0.000,2,    0.004,2, -999.000,9, -999.000,9, -999.000,9