BOTTLE,20211903JOAExport
EXPOCODE,SECT_ID,STNNBR,CASTNO,SAMPNO,BTLNBR,BTLNBR_FLAG_W,DATE,TIME,LATITUDE,LONGITUDE,DEPTH,CTDPRS,CTDTMP,CTDSAL,CTDSAL_FLAG_W,SALNTY,SALNTY_FLAG_W,CTDOXY,CTDOXY_FLAG_W,OXYGEN,OXYGEN_FLAG_W,SILCAT,SILCAT_FLAG_W,NITRAT,NITRAT_FLAG_W,NITRIT,NITRIT_FLAG_W,PHSPHT,PHSPHT_FLAG_W,CFC-11,CFC-11_FLAG_W,CFC-12,CFC-12_FLAG_W,SF6,SF6_FLAG_W,TCARBN,TCARBN_FLAG_W,ALKALI,ALKALI_FLAG_W
,,,,,,,,,,,,DB,ITS-90,PSS-78,,PSS-78,,UMOL/KG,,UMOL/KG,,UMOL/KG,,UMOL/KG,,UMOL/KG,,UMOL/KG,,PMOL/KG,,PMOL/KG,,FMOL/KG,,UMOL/KG,,UMOL/KG
           NA,    P03E,     40,   1,-999.0,     -99,  2,20051105,0819,  26.6667, -126.9680,  4521,   10.300,   20.745,   34.186,2,   34.185,2,  217.850,1,  227.490,2,    1.530,2,    0.050,2,    0.010,2,    0.229,2,    2.074,2,    1.244,2, -999.000,9, -999.000,9, -999.000,9
           NA,    P03E,     40,   1,-999.0,     -99,  2,20051105,0819,  26.6667, -126.9680,  4521,   50.500,   20.750,   34.185,2,   34.185,2,  217.960,1,  227.440,2,    1.520,2,    0.040,2,    0.010,2,    0.229,2,    2.081,2,    1.241,2, -999.000,9, -999.000,9, -999.000,9
           NA,    P03E,     40,   1,-999.0,     -99,  2,20051105,0819,  26.6667, -126.9680,  4521,   99.400,   19.023,   34.029,2,   34.053,2,  230.370,1,  239.330,2,    1.590,2,    0.050,2,    0.010,2,    0.224,2,    2.334,2,    1.367,2, -999.000,9, -999.000,9, -999.000,9
           NA,    P03E,     40,   1,-999.0,     -99,  2,20051105,0819,  26.6667, -126.9680,  4521,  150.700,   17.057,   34.233,2,   34.195,2,  213.740,1,  221.680,2,    2.750,2,    1.120,2,    0.120,2,    0.305,2,    2.583,2,    1.478,2, -999.000,9, -999.000,9, -999.000,9
           NA,    P03E,     40,   1,-999.0,     -99,  2,20051105,0819,  26.6667, -126.9680,  4521,  200.900,   11.421,   33.628,2,   33.628,2,  197.700,1,  203.600,2,   10.170,2,   11.140,2,    0.010,2,    0.970,2,    3.252,2,    1.734,2, -999.000,9, -999.000,9, -999.000,9
           NA,    P03E,     40,   1,-999.0,     -99,  2,20051105,0819,  26.6667, -126.9680,  4521,  252.400,    9.547,   33.889,2,   33.883,2,  158.230,1,  166.280,2,   21.350,2,   19.830,2,    0.010,2,    1.525,2,    3.166,2,    1.610,2, -999.000,9, -999.000,9, -999.000,9
           NA,    P03E,     40,   1,-999.0,     -99,  2,20051105,0819,  26.6667, -126.9680,  4521,  300.400,    8.958,   34.069,2,   34.071,2,  120.790,1,  126.160,2,   30.810,2,   25.050,2,    0.010,2,    1.908,2,    2.583,2,    1.227,2, -999.000,9, -999.000,9, -999.000,9
           NA,    P03E,     40,   1,-999.0,     -99,  2,20051105,0819,  26.6667, -126.9680,  4521,  400.000,    7.681,   34.182,2,   34.184,2,   60.390,1,   61.050,2,   49.090,2,   32.480,2,    0.010,2,    2.557,2,    1.200,2,    0.548,2, -999.000,9, -999.000,9, -999.000,9
           NA,    P03E,     40,   1,-999.0,     -99,  2,20051105,0819,  26.6667, -126.9680,  4521,  501.700,    6.794,   34.284,2,   34.284,6,   21.720,1,   22.080,2,   64.680,2,   36.880,2,    0.000,2,    2.959,2,    0.314,2,    0.142,2, -999.000,9, -999.000,9, -999.000,9
           NA,    P03E,     40,   1,-999.0,     -99,  2,20051105,0819,  26.6667, -126.9680,  4521,  599.800,    6.140,   34.340,2,   34.340,2,   11.250,1,   11.160,2,   76.100,2,   39.360,2,    0.000,2,    3.128,2,    0.094,2,    0.051,2, -999.000,9, -999.000,9, -999.000,9
           NA,    P03E,     40,   1,-999.0,     -99,  2,20051105,0819,  26.6667, -126.9680,  4521,  703.600,    5.533,   34.395,2,   34.394,2,    9.110,1,    8.810,2,   86.260,2,   41.300,2,    0.010,2,    3.215,2,    0.018,2,    0.010,2, -999.000,9, -999.000,9, -999.000,9
           NA,    P03E,     40,   1,-999.0,     -99,  2,20051105,0819,  26.6667, -126.9680,  4521,  801.600,    4.982,   34.431,2,   34.430,2,   11.770,1,   11.850,2,   95.880,2,   42.730,2,    0.010,2,    3.250,2,    0.014,6,    0.007,6, -999.000,9, -999.000,9, -999.000,9
           NA,    P03E,     40,   1,-999.0,     -99,  2,20051105,0819,  26.6667, -126.9680,  4521,  899.200,    4.517,   34.448,2,   34.450,2,   19.030,1,   19.280,2,  103.500,2,   43.410,2,    0.010,2,    3.220,2,    0.008,2,    0.004,2, -999.000,9, -999.000,9, -999.000,9
           NA,    P03E,     40,   1,-999.0,     -99,  2,20051105,0819,  26.6667, -126.9680,  4521, 1001.500,    4.200,   34.486,2,   34.486,6,   21.450,1,   21.790,2,  111.020,2,   43.550,2,    0.010,2,    3.243,2,    0.008,2,    0.006,2, -999.000,9, -999.000,9, -999.000,9
           NA,    P03E,     40,   1,-999.0,     -99,  2,20051105,0819,  26.6667, -126.9680,  4521, 1201.300,    3.622,   34.526,2,   34.526,2,   30.640,1,   31.530,2,  124.580,2,   43.530,2,    0.010,2,    3.213,2,    0.017,2,    0.008,2, -999.000,9, -999.000,9, -999.000,9
           NA,    P03E,     40,   1,-999.0,     -99,  2,20051105,0819,  26.6667, -126.9680,  4521, 1402.100,    3.146,   34.558,2,   34.558,2,   40.090,1,   41.520,2,  136.020,2,   43.110,2,    0.010,2,    3.163,2,    0.006,2,    0.006,2, -999.000,9, -999.000,9, -999.000,9
           NA,    P03E,     40,   1,-999.0,     -99,  2,20051105,0819,  26.6667, -126.9680,  4521, 1602.300,    2.732,   34.585,2,   34.585,2,   52.380,1,   54.520,2,  145.660,2,   42.380,2,    0.010,2,    3.085,2,    0.005,2,    0.002,2, -999.000,9, -999.000,9, -999.000,9
           NA,    P03E,     40,   1,-999.0,     -99,  2,20051105,0819,  26.6667, -126.9680,  4521, 1802.200,    2.399,   34.607,2,   34.607,2,   65.290,1,   67.830,2,  152.770,2,   41.670,2,    0.010,2,    3.004,2,    0.004,2,    0.000,2, -999.000,9, -999.000,9, -999.000,9
           NA,    P03E,     40,   1,-999.0,     -99,  2,20051105,0819,  26.6667, -126.9680,  4521, 2000.200,    2.187,   34.624,2,   34.624,2,   75.690,1,   78.850,2,  157.080,2,   40.950,2,    0.010,2,    2.936,2,    0.000,2,    0.000,2, -999.000,9, -999.000,9, -999.000,9
           NA,    P03E,     40,   1,-999.0,     -99,  2,20051105,0819,  26.6667, -126.9680,  4521, 2200.100,    2.007,   34.639,2,   34.639,2,   86.060,1,   90.020,2,  159.560,2,   40.340,2,    0.010,2,    2.873,2,    0.001,2,    0.000,2, -999.000,9, -999.000,9, -999.000,9
           NA,    P03E,     40,   1,-999.0,     -99,  2,20051105,0819,  26.6667, -126.9680,  4521, 2401.600,    1.873,   34.648,2,   34.648,6,   94.280,1,   98.520,2,  161.880,2,   39.810,2,    0.010,2,    2.822,2, -999.000,9, -999.000,9, -999.000,9, -999.000,9, -999.000,9
           NA,    P03E,     40,   1,-999.0,     -99,  3,20051105,0819,  26.6667, -126.9680,  4521, 2601.200,    1.761,   34.654,2,   34.654,2,  100.040,1,  104.820,2,  165.040,2,   39.350,2,    0.010,2,    2.787,2, -999.000,9, -999.000,9, -999.000,9, -999.000,9, -999.000,9
           NA,    P03E,     40,   1,-999.0,     -99,  2,20051105,0819,  26.6667, -126.9680,  4521, 2800.300,    1.651,   34.663,2,   34.663,2,  107.970,1,  112.960,2,  167.200,2,   38.840,2,    0.010,2,    2.745,2, -999.000,9, -999.000,9, -999.000,9, -999.000,9, -999.000,9
           NA,    P03E,     40,   1,-999.0,     -99,  2,20051105,0819,  26.6667, -126.9680,  4521, 3002.000,    1.578,   34.667,2,   34.667,2,  113.510,1,  118.730,2,  168.740,2,   38.470,2,    0.010,2,    2.714,2,    0.000,2,    0.002,2, -999.000,9, -999.000,9, -999.000,9
           NA,    P03E,     40,   1,-999.0,     -99,  2,20051105,0819,  26.6667, -126.9680,  4521, 3251.200,    1.523,   34.674,2,   34.674,2,  121.290,1,  126.560,2,  167.930,2,   37.960,2,    0.010,2,    2.664,2, -999.000,9, -999.000,9, -999.000,9, -999.000,9, -999.000,9
           NA,    P03E,     40,   1,-999.0,     -99,  2,20051105,0819,  26.6667, -126.9680,  4521, 3503.800,    1.499,   34.679,2,   34.679,2,  127.410,1,  132.810,2,  166.440,2,   37.550,2,    0.010,2,    2.630,2, -999.000,9, -999.000,9, -999.000,9, -999.000,9, -999.000,9
           NA,    P03E,     40,   1,-999.0,     -99,  2,20051105,0819,  26.6667, -126.9680,  4521, 3752.200,    1.494,   34.682,2,   34.682,2,  132.160,1,  137.430,2,  164.820,2,   37.280,2,    0.010,2,    2.608,2,    0.002,2,    0.006,2, -999.000,9, -999.000,9, -999.000,9
           NA,    P03E,     40,   1,-999.0,     -99,  2,20051105,0819,  26.6667, -126.9680,  4521, 4001.200,    1.505,   34.684,2,   34.684,2,  135.450,1,  140.320,2,  163.510,2,   37.100,2,    0.010,2,    2.589,2, -999.000,9, -999.000,9, -999.000,9, -999.000,9, -999.000,9
           NA,    P03E,     40,   1,-999.0,     -99,  2,20051105,0819,  26.6667, -126.9680,  4521, 4250.100,    1.528,   34.685,2,   34.685,6,  137.040,1,  141.360,2,  163.010,2,   37.010,2,    0.010,2,    2.589,2, -999.000,9, -999.000,9, -999.000,9, -999.000,9, -999.000,9
           NA,    P03E,     40,   1,-999.0,     -99,  2,20051105,0819,  26.6667, -126.9680,  4521, 4459.800,    1.553,   34.685,2,   34.685,6,  137.830,1,  141.410,2,  163.100,2,   37.030,2,    0.010,2,    2.593,2,    0.005,2,    0.011,2, -999.000,9, -999.000,9, -999.000,9
           NA,    P03E,     40,   1,-999.0,     -99,  2,20051105,0819,  26.6667, -126.9680,  4521, 4460.000,    1.553,   34.685,2,   34.685,2,  137.830,1,  141.300,2,  163.360,2,   37.040,2,    0.010,2,    2.592,2, -999.000,9, -999.000,9, -999.000,9, -999.000,9, -999.000,9
           NA,    P03E,     38,   1,-999.0,     -99,  2,20051105,0215,  27.1480, -126.3822,  4384,   10.100,   20.964,   34.394,2,   34.394,2,  216.540,1,  226.100,2,    1.620,2,    0.050,2,    0.000,2,    0.215,2,    2.054,2,    1.223,2, -999.000,9, 2017.100,2, 2289.900,2
           NA,    P03E,     38,   1,-999.0,     -99,  2,20051105,0215,  27.1480, -126.3822,  4384,   50.400,   20.973,   34.396,2,   34.404,2,  216.710,1,  226.470,2,    1.570,2,    0.040,2,    0.000,2,    0.219,2,    2.068,2,    1.224,2, -999.000,9, 2016.800,6, 2286.800,2
           NA,    P03E,     38,   1,-999.0,     -99,  2,20051105,0215,  27.1480, -126.3822,  4384,   99.600,   19.305,   34.701,2,   34.697,2,  227.240,1,  236.650,2,    1.880,2,    0.040,2,    0.000,2,    0.108,2,    2.316,2,    1.358,2, -999.000,9, 2016.700,2, 2283.800,6
           NA,    P03E,     38,   1,-999.0,     -99,  2,20051105,0215,  27.1480, -126.3822,  4384,  150.300,   16.274,   34.207,2,   34.153,2,  215.020,1,  223.520,2,    3.220,2,    1.840,2,    0.080,2,    0.337,2,    2.649,2,    1.506,2, -999.000,9, 2031.700,2, 2251.500,2
           NA,    P03E,     38,   1,-999.0,     -99,  2,20051105,0215,  27.1480, -126.3822,  4384,  200.000,   11.681,   33.733,2,   33.743,2,  207.710,1,  215.020,2,    8.730,2,    9.310,2,    0.010,2,    0.825,2,    3.170,2,    1.750,2, -999.000,9, 2063.700,2, 2229.600,2
           NA,    P03E,     38,   1,-999.0,     -99,  2,20051105,0215,  27.1480, -126.3822,  4384,  249.600,    9.763,   33.854,2,   33.860,2,  191.030,1,  194.620,2,   18.100,2,   16.880,2,    0.000,2,    1.302,2,    3.279,6,    1.759,6, -999.000,9, 2113.500,2, 2239.700,2
           NA,    P03E,     38,   1,-999.0,     -99,  2,20051105,0215,  27.1480, -126.3822,  4384,  301.100,    8.566,   34.003,2,   34.003,2,  145.770,1,  150.590,2,   30.160,2,   23.940,2,    0.000,2,    1.774,2,    2.911,2,    1.480,2, -999.000,9, 2164.700,2, 2254.300,2
           NA,    P03E,     38,   1,-999.0,     -99,  2,20051105,0215,  27.1480, -126.3822,  4384,  401.600,    6.756,   34.053,2,   34.053,2,   87.190,1,   90.140,2,   52.780,2,   32.770,2,    0.000,2,    2.431,2,    1.591,2,    0.765,2, -999.000,9, 2236.700,2, 2275.600,2
           NA,    P03E,     38,   1,-999.0,     -99,  2,20051105,0215,  27.1480, -126.3822,  4384,  500.400,    5.852,   34.147,2,   34.147,6,   39.760,1,   40.560,2,   71.640,2,   38.310,2,    0.000,2,    2.895,2,    0.475,2,    0.240,2, -999.000,9, 2289.800,2, 2299.700,2
           NA,    P03E,     38,   1,-999.0,     -99,  2,20051105,0215,  27.1480, -126.3822,  4384,  601.500,    5.515,   34.296,2,   34.296,2,   14.880,1,   15.190,2,   83.690,2,   40.780,2,    0.000,2,    3.137,2,    0.067,2,    0.040,2, -999.000,9, 2322.100,2, 2320.100,2
           NA,    P03E,     38,   1,-999.0,     -99,  2,20051105,0215,  27.1480, -126.3822,  4384,  700.700,    5.138,   34.372,2,   34.371,2,   12.660,1,   12.790,2,   91.360,2,   42.080,2,    0.000,2,    3.201,2,    0.012,2,    0.006,2, -999.000,9, 2334.000,6, 2332.700,2
           NA,    P03E,     38,   1,-999.0,     -99,  2,20051105,0215,  27.1480, -126.3822,  4384,  800.900,    4.710,   34.431,2,   34.431,2,   16.920,1,   17.220,2,   99.310,2,   42.990,2,    0.000,2,    3.221,2,    0.004,6,    0.001,6, -999.000,9, 2342.500,2, 2347.600,6
           NA,    P03E,     38,   1,-999.0,     -99,  2,20051105,0215,  27.1480, -126.3822,  4384,  900.200,    4.395,   34.469,2,   34.469,2,   18.410,1,   18.690,2,  106.760,2,   43.240,2,    0.000,2,    3.237,2,    0.000,2,    0.002,2, -999.000,9, 2351.600,2, 2357.900,2
           NA,    P03E,     38,   1,-999.0,     -99,  2,20051105,0215,  27.1480, -126.3822,  4384, 1000.800,    4.095,   34.490,2,   34.490,6,   24.950,1,   25.290,2,  112.350,2,   43.390,2,    0.000,2,    3.227,2,    0.000,2,    0.002,2, -999.000,9, 2354.600,2, 2366.000,2
           NA,    P03E,     38,   1,-999.0,     -99,  2,20051105,0215,  27.1480, -126.3822,  4384, 1201.300,    3.608,   34.525,2,   34.525,2,   34.550,1,   35.370,2,  123.000,2,   43.130,2,    0.000,2,    3.180,2,    0.001,2,    0.000,2, -999.000,9, 2360.800,2, 2377.800,2
           NA,    P03E,     38,   1,-999.0,     -99,  2,20051105,0215,  27.1480, -126.3822,  4384, 1399.100,    3.132,   34.555,2,   34.555,2,   42.500,1,   44.220,2,  135.090,2,   42.710,2,    0.000,2,    3.141,2,    0.001,2,    0.000,2, -999.000,9, 2367.800,2, 2386.500,2
           NA,    P03E,     38,   1,-999.0,     -99,  2,20051105,0215,  27.1480, -126.3822,  4384, 1600.900,    2.748,   34.584,2,   34.585,2,   51.890,1,   53.990,2,  145.150,2,   42.290,2,    0.000,2,    3.099,2,    0.000,2,    0.000,2, -999.000,9, 2373.600,2, 2404.600,2
           NA,    P03E,     38,   1,-999.0,     -99,  4,20051105,0215,  27.1480, -126.3822,  4384, 1800.500,    2.432,   34.606,2, -999.000,4,   64.090,1, -999.000,4, -999.000,4, -999.000,4, -999.000,4, -999.000,4, -999.000,4, -999.000,4, -999.000,9, -999.000,4, -999.000,4
           NA,    P03E,     38,   1,-999.0,     -99,  2,20051105,0215,  27.1480, -126.3822,  4384, 1999.600,    2.177,   34.627,2,   34.627,2,   76.890,1,   80.230,2,  156.230,2,   40.780,2,    0.000,2,    2.932,2,    0.001,2,    0.001,2, -999.000,9, 2370.800,2, 2429.300,2
           NA,    P03E,     38,   1,-999.0,     -99,  2,20051105,0215,  27.1480, -126.3822,  4384, 2201.100,    2.002,   34.640,2,   34.640,2,   86.960,1,   90.870,2,  159.030,2,   40.080,2,    0.000,2,    2.873,2,    0.000,2,    0.000,2, -999.000,9, 2366.700,2, 2431.100,2
           NA,    P03E,     38,   1,-999.0,     -99,  2,20051105,0215,  27.1480, -126.3822,  4384, 2399.800,    1.880,   34.648,2,   34.649,2,   94.100,1,   98.400,2,  161.590,2,   39.700,2,    0.000,2,    2.830,2, -999.000,9, -999.000,9, -999.000,9, 2364.100,6, 2433.600,2
           NA,    P03E,     38,   1,-999.0,     -99,  2,20051105,0215,  27.1480, -126.3822,  4384, 2601.000,    1.771,   34.656,2,   34.656,6,  101.060,1,  105.810,2,  163.940,2,   39.150,2,    0.000,2,    2.785,2, -999.000,9, -999.000,9, -999.000,9, 2360.100,2, 2433.900,6
           NA,    P03E,     38,   1,-999.0,     -99,  2,20051105,0215,  27.1480, -126.3822,  4384, 2800.800,    1.683,   34.663,2,   34.663,2,  107.430,1,  112.350,2,  165.970,2,   38.780,2,    0.000,2,    2.750,2, -999.000,9, -999.000,9, -999.000,9, 2357.500,2, 2441.600,2
           NA,    P03E,     38,   1,-999.0,     -99,  2,20051105,0215,  27.1480, -126.3822,  4384, 3000.400,    1.611,   34.668,2,   34.668,2,  113.180,1,  118.110,2,  167.170,2,   38.330,2,    0.000,2,    2.721,2,    0.000,2,    0.000,2, -999.000,9, 2354.900,2, 2438.500,2
           NA,    P03E,     38,   1,-999.0,     -99,  2,20051105,0215,  27.1480, -126.3822,  4384, 3251.600,    1.552,   34.673,2,   34.673,2,  119.480,1,  124.540,2,  167.510,2,   37.980,2,    0.000,2,    2.683,2, -999.000,9, -999.000,9, -999.000,9, 2350.900,2, 2436.900,2
           NA,    P03E,     38,   1,-999.0,     -99,  2,20051105,0215,  27.1480, -126.3822,  4384, 3499.300,    1.507,   34.679,2,   34.679,6,  126.710,1,  131.680,2,  166.480,2,   37.440,2,    0.000,2,    2.645,2, -999.000,9, -999.000,9, -999.000,9, 2346.500,2, 2441.600,2
           NA,    P03E,     38,   1,-999.0,     -99,  2,20051105,0215,  27.1480, -126.3822,  4384, 3751.400,    1.497,   34.682,2,   34.682,2,  131.740,1,  136.680,2,  165.170,2,   37.170,2,    0.000,2,    2.616,2,    0.004,2,    0.006,2, -999.000,9, 2343.000,2, 2438.500,2
           NA,    P03E,     38,   1,-999.0,     -99,  2,20051105,0215,  27.1480, -126.3822,  4384, 3999.700,    1.509,   34.684,2,   34.684,2,  134.780,1,  139.350,2,  164.200,2,   37.000,2,    0.000,2,    2.607,2, -999.000,9, -999.000,9, -999.000,9, 2340.400,2, 2440.400,2
           NA,    P03E,     38,   1,-999.0,     -99,  2,20051105,0215,  27.1480, -126.3822,  4384, 4249.200,    1.529,   34.685,2,   34.685,2,  136.900,1,  140.940,2,  163.700,2,   36.930,2,    0.000,2,    2.599,2, -999.000,9, -999.000,9, -999.000,9, 2340.400,6, 2438.500,2
           NA,    P03E,     38,   1,-999.0,     -99,  2,20051105,0215,  27.1480, -126.3822,  4384, 4403.000,    1.546,   34.685,2,   34.685,6,  137.770,1,  141.220,2,  163.430,2,   36.900,2,    0.000,2,    2.603,2,    0.004,2,    0.013,2, -999.000,9, 2340.700,2, 2437.700,2