BOTTLE,20211903JOAExport
EXPOCODE,SECT_ID,STNNBR,CASTNO,SAMPNO,BTLNBR,BTLNBR_FLAG_W,DATE,TIME,LATITUDE,LONGITUDE,DEPTH,CTDPRS,CTDTMP,CTDSAL,CTDSAL_FLAG_W,SALNTY,SALNTY_FLAG_W,CTDOXY,CTDOXY_FLAG_W,OXYGEN,OXYGEN_FLAG_W,SILCAT,SILCAT_FLAG_W,NITRAT,NITRAT_FLAG_W,NITRIT,NITRIT_FLAG_W,PHSPHT,PHSPHT_FLAG_W,CFC-11,CFC-11_FLAG_W,CFC-12,CFC-12_FLAG_W,SF6,SF6_FLAG_W,TCARBN,TCARBN_FLAG_W,ALKALI,ALKALI_FLAG_W
,,,,,,,,,,,,DB,ITS-90,PSS-78,,PSS-78,,UMOL/KG,,UMOL/KG,,UMOL/KG,,UMOL/KG,,UMOL/KG,,UMOL/KG,,PMOL/KG,,PMOL/KG,,FMOL/KG,,UMOL/KG,,UMOL/KG
           NA,    P03C,    165,   1,-999.0,     -99,  2,20051202,0825,  23.2327, -168.0072,  4881,    9.500,   25.500,   35.254,2,   35.254,2,  188.010,1,  206.760,2,    1.000,2,    0.030,2,    0.000,2,    0.040,2,    1.749,2,    1.008,2, -999.000,9, -999.000,9, -999.000,9
           NA,    P03C,    165,   1,-999.0,     -99,  2,20051202,0825,  23.2327, -168.0072,  4881,   51.700,   25.478,   35.254,2,   35.254,2,  187.630,1,  206.640,2,    1.040,2,    0.030,2,    0.000,2,    0.042,2,    1.743,2,    1.003,2, -999.000,9, -999.000,9, -999.000,9
           NA,    P03C,    165,   1,-999.0,     -99,  2,20051202,0825,  23.2327, -168.0072,  4881,  101.900,   23.428,   35.200,2,   35.200,2,  192.910,1,  212.780,2,    1.220,2,    0.020,2,    0.000,2,    0.062,2,    1.977,2,    1.128,2, -999.000,9, -999.000,9, -999.000,9
           NA,    P03C,    165,   1,-999.0,     -99,  2,20051202,0825,  23.2327, -168.0072,  4881,  150.600,   21.392,   35.193,2,   35.189,2,  182.510,1,  201.140,2,    1.610,2,    0.880,2,    0.040,2,    0.140,2, -999.000,5, -999.000,5, -999.000,9, -999.000,9, -999.000,9
           NA,    P03C,    165,   1,-999.0,     -99,  2,20051202,0825,  23.2327, -168.0072,  4881,  202.200,   18.980,   34.975,2,   34.971,2,  180.430,1,  198.940,2,    2.760,2,    2.610,2,    0.020,2,    0.261,2,    2.325,2,    1.321,2, -999.000,9, -999.000,9, -999.000,9
           NA,    P03C,    165,   1,-999.0,     -99,  2,20051202,0825,  23.2327, -168.0072,  4881,  251.000,   17.088,   34.781,2,   34.780,2,  187.940,1,  206.780,2,    4.090,2,    3.750,2,    0.010,2,    0.336,2,    2.515,6,    1.403,6, -999.000,9, -999.000,9, -999.000,9
           NA,    P03C,    165,   1,-999.0,     -99,  2,20051202,0825,  23.2327, -168.0072,  4881,  301.900,   15.286,   34.586,2,   34.579,2,  188.520,1,  207.420,2,    6.550,2,    6.400,2,    0.010,2,    0.512,2,    2.694,2,    1.505,2, -999.000,9, -999.000,9, -999.000,9
           NA,    P03C,    165,   1,-999.0,     -99,  2,20051202,0825,  23.2327, -168.0072,  4881,  403.400,   11.217,   34.235,2,   34.234,2,  178.180,1,  196.080,2,   17.110,2,   14.530,2,    0.010,2,    1.072,2,    2.916,2,    1.510,2, -999.000,9, -999.000,9, -999.000,9
           NA,    P03C,    165,   1,-999.0,     -99,  2,20051202,0825,  23.2327, -168.0072,  4881,  501.500,    8.761,   34.120,2,   34.119,6,  133.770,1,  146.750,2,   32.790,2,   23.870,2,    0.010,2,    1.761,2,    2.383,2,    1.155,2, -999.000,9, -999.000,9, -999.000,9
           NA,    P03C,    165,   1,-999.0,     -99,  2,20051202,0825,  23.2327, -168.0072,  4881,  599.000,    6.983,   34.117,2,   34.117,2,   80.780,1,   88.810,2,   53.210,2,   32.400,2,    0.010,2,    2.403,2,    1.262,2,    0.576,2, -999.000,9, -999.000,9, -999.000,9
           NA,    P03C,    165,   1,-999.0,     -99,  2,20051202,0825,  23.2327, -168.0072,  4881,  702.300,    5.735,   34.171,2,   34.170,2,   48.140,1,   53.520,2,   74.070,2,   37.870,2,    0.010,2,    2.804,2,    0.502,2,    0.244,2, -999.000,9, -999.000,9, -999.000,9
           NA,    P03C,    165,   1,-999.0,     -99,  2,20051202,0825,  23.2327, -168.0072,  4881,  800.300,    5.137,   34.268,2,   34.271,2,   35.260,1,   39.320,2,   87.280,2,   40.260,2,    0.010,2,    2.981,2,    0.191,6,    0.095,6, -999.000,9, -999.000,9, -999.000,9
           NA,    P03C,    165,   1,-999.0,     -99,  2,20051202,0825,  23.2327, -168.0072,  4881,  902.000,    4.635,   34.350,2,   34.349,2,   32.970,1,   37.070,2,   98.160,2,   41.400,2,    0.010,2,    3.036,2,    0.089,2,    0.038,2, -999.000,9, -999.000,9, -999.000,9
           NA,    P03C,    165,   1,-999.0,     -99,  2,20051202,0825,  23.2327, -168.0072,  4881, 1001.900,    4.282,   34.440,2,   34.440,6,   39.260,1,   43.760,2,  105.360,2,   41.600,2,    0.010,2,    3.043,2,    0.022,2,    0.013,2, -999.000,9, -999.000,9, -999.000,9
           NA,    P03C,    165,   1,-999.0,     -99,  2,20051202,0825,  23.2327, -168.0072,  4881, 1200.700,    3.731,   34.508,2,   34.508,2,   48.730,1,   54.020,2,  116.350,2,   41.400,2,    0.010,2,    3.026,2,    0.005,2,    0.003,2, -999.000,9, -999.000,9, -999.000,9
           NA,    P03C,    165,   1,-999.0,     -99,  2,20051202,0825,  23.2327, -168.0072,  4881, 1400.500,    3.254,   34.544,2,   34.544,2,   55.570,1,   61.920,2,  126.810,2,   41.430,2,    0.010,2,    3.007,2,    0.000,2,    0.000,2, -999.000,9, -999.000,9, -999.000,9
           NA,    P03C,    165,   1,-999.0,     -99,  2,20051202,0825,  23.2327, -168.0072,  4881, 1603.700,    2.831,   34.571,2,   34.571,2,   64.180,1,   71.340,2,  136.160,2,   41.130,2,    0.010,2,    2.959,2,    0.000,2,    0.000,2, -999.000,9, -999.000,9, -999.000,9
           NA,    P03C,    165,   1,-999.0,     -99,  2,20051202,0825,  23.2327, -168.0072,  4881, 1800.500,    2.477,   34.589,2,   34.589,2,   71.590,1,   79.880,2,  144.480,2,   40.590,2,    0.010,2,    2.916,2,    0.000,2,    0.000,2, -999.000,9, -999.000,9, -999.000,9
           NA,    P03C,    165,   1,-999.0,     -99,  2,20051202,0825,  23.2327, -168.0072,  4881, 2000.000,    2.206,   34.609,2,   34.609,6,   80.030,1,   89.310,2,  149.810,2,   40.070,2,    0.010,2,    2.863,2,    0.000,2,    0.000,2, -999.000,9, -999.000,9, -999.000,9
           NA,    P03C,    165,   1,-999.0,     -99,  2,20051202,0825,  23.2327, -168.0072,  4881, 2199.900,    1.991,   34.623,2,   34.623,2,   85.640,1,   95.680,2,  155.240,2,   39.730,2,    0.010,2,    2.832,2,    0.000,2,    0.000,2, -999.000,9, -999.000,9, -999.000,9
           NA,    P03C,    165,   1,-999.0,     -99,  2,20051202,0825,  23.2327, -168.0072,  4881, 2401.000,    1.847,   34.637,2,   34.637,2,   93.140,1,  104.400,2,  156.930,2,   39.200,2,    0.010,2,    2.787,2,    0.000,2,    0.000,2, -999.000,9, -999.000,9, -999.000,9
           NA,    P03C,    165,   1,-999.0,     -99,  2,20051202,0825,  23.2327, -168.0072,  4881, 2599.100,    1.748,   34.647,2,   34.647,2,   99.330,1,  111.540,2,  157.850,2,   38.710,2,    0.010,2,    2.749,2,    0.000,2,    0.000,2, -999.000,9, -999.000,9, -999.000,9
           NA,    P03C,    165,   1,-999.0,     -99,  2,20051202,0825,  23.2327, -168.0072,  4881, 2800.300,    1.684,   34.654,2,   34.654,2,  104.130,1,  116.930,2,  158.150,2,   38.370,2,    0.010,2,    2.719,2, -999.000,9, -999.000,9, -999.000,9, -999.000,9, -999.000,9
           NA,    P03C,    165,   1,-999.0,     -99,  2,20051202,0825,  23.2327, -168.0072,  4881, 3000.600,    1.614,   34.662,2,   34.662,6,  110.530,1,  124.370,2,  157.690,2,   37.850,2,    0.010,2,    2.683,2, -999.000,9, -999.000,9, -999.000,9, -999.000,9, -999.000,9
           NA,    P03C,    165,   1,-999.0,     -99,  2,20051202,0825,  23.2327, -168.0072,  4881, 3250.800,    1.567,   34.669,2,   34.669,2,  117.000,1,  131.420,2,  156.120,2,   37.520,2,    0.010,2,    2.635,2,    0.000,2,    0.000,2, -999.000,9, -999.000,9, -999.000,9
           NA,    P03C,    165,   1,-999.0,     -99,  2,20051202,0825,  23.2327, -168.0072,  4881, 3502.300,    1.513,   34.676,2,   34.676,2,  124.440,1,  139.640,2,  153.640,2,   36.840,2,    0.010,2,    2.602,2, -999.000,9, -999.000,9, -999.000,9, -999.000,9, -999.000,9
           NA,    P03C,    165,   1,-999.0,     -99,  2,20051202,0825,  23.2327, -168.0072,  4881, 3749.800,    1.492,   34.681,2,   34.680,2,  129.680,1,  145.280,2,  151.430,2,   36.550,2,    0.010,2,    2.571,2, -999.000,9, -999.000,9, -999.000,9, -999.000,9, -999.000,9
           NA,    P03C,    165,   1,-999.0,     -99,  2,20051202,0825,  23.2327, -168.0072,  4881, 4000.300,    1.472,   34.685,2,   34.684,6,  134.950,1,  150.800,2,  148.970,2,   36.090,2,    0.010,2,    2.544,2,    0.000,2,    0.003,2, -999.000,9, -999.000,9, -999.000,9
           NA,    P03C,    165,   1,-999.0,     -99,  2,20051202,0825,  23.2327, -168.0072,  4881, 4250.200,    1.469,   34.687,2,   34.687,2,  139.220,1,  154.700,2,  147.140,2,   35.820,2,    0.010,2,    2.519,2, -999.000,9, -999.000,9, -999.000,9, -999.000,9, -999.000,9
           NA,    P03C,    165,   1,-999.0,     -99,  2,20051202,0825,  23.2327, -168.0072,  4881, 4500.400,    1.474,   34.689,2,   34.689,2,  142.680,1,  158.090,2,  145.330,2,   35.540,2,    0.010,2,    2.498,2,    0.000,2,    0.000,2, -999.000,9, -999.000,9, -999.000,9
           NA,    P03C,    165,   1,-999.0,     -99,  2,20051202,0825,  23.2327, -168.0072,  4881, 4751.300,    1.481,   34.691,2,   34.691,2,  146.480,1,  161.070,2,  143.590,2,   35.380,2,    0.010,2,    2.483,2, -999.000,9, -999.000,9, -999.000,9, -999.000,9, -999.000,9
           NA,    P03C,    165,   1,-999.0,     -99,  2,20051202,0825,  23.2327, -168.0072,  4881, 4752.000,    1.481,   34.691,2,   34.691,2,  146.500,1,  161.220,2,  143.600,2,   35.450,2,    0.010,2,    2.479,2, -999.000,9, -999.000,9, -999.000,9, -999.000,9, -999.000,9
           NA,    P03C,    165,   1,-999.0,     -99,  2,20051202,0825,  23.2327, -168.0072,  4881, 4945.400,    1.488,   34.693,2,   34.693,6,  150.490,1,  163.870,2,  141.920,2,   35.250,2,    0.010,2,    2.473,2,    0.000,2,    0.001,2, -999.000,9, -999.000,9, -999.000,9
           NA,    P03C,    163,   1,-999.0,     -99,  2,20051202,0207,  23.6133, -167.6263,  4959,   10.400,   25.539,   35.257,2,   35.256,2,  188.330,1,  206.670,2,    0.820,2,    0.040,2,    0.000,2,    0.064,2,    1.714,2,    0.999,2, -999.000,9, 1981.100,2, 2318.200,2
           NA,    P03C,    163,   1,-999.0,     -99,  2,20051202,0207,  23.6133, -167.6263,  4959,   49.400,   25.451,   35.254,2,   35.254,2,  188.380,1,  206.650,2,    0.810,2,    0.030,2,    0.010,2,    0.064,2,    1.686,2,    1.007,2, -999.000,9, 1981.500,6, 2315.100,2
           NA,    P03C,    163,   1,-999.0,     -99,  2,20051202,0207,  23.6133, -167.6263,  4959,   99.300,   22.718,   35.201,2,   35.201,2,  189.590,1,  207.720,2,    1.200,2,    0.190,2,    0.100,2,    0.114,2,    1.993,2,    1.169,2, -999.000,9, 2010.900,2, 2310.000,6
           NA,    P03C,    163,   1,-999.0,     -99,  2,20051202,0207,  23.6133, -167.6263,  4959,  149.000,   20.583,   35.109,2,   35.096,2,  179.280,1,  197.190,2,    1.850,2,    1.620,2,    0.030,2,    0.220,2,    2.185,2,    1.254,2, -999.000,9, 2036.400,2, 2303.100,2
           NA,    P03C,    163,   1,-999.0,     -99,  2,20051202,0207,  23.6133, -167.6263,  4959,  199.100,   18.158,   34.896,2,   34.883,2,  184.660,1,  202.870,2,    3.150,2,    3.090,2,    0.010,2,    0.317,2,    2.401,2,    1.319,2, -999.000,9, 2043.600,2, 2296.100,2
           NA,    P03C,    163,   1,-999.0,     -99,  2,20051202,0207,  23.6133, -167.6263,  4959,  251.800,   16.314,   34.699,2,   34.700,2,  189.500,1,  207.820,2,    4.710,2,    4.730,2,    0.010,2,    0.422,2,    2.616,6,    1.366,6, -999.000,9, 2048.100,2, 2286.600,2
           NA,    P03C,    163,   1,-999.0,     -99,  2,20051202,0207,  23.6133, -167.6263,  4959,  303.100,   14.322,   34.479,2,   34.480,2,  189.910,1,  208.130,2,    7.290,2,    7.580,2,    0.010,2,    0.610,2,    2.861,2,    1.489,2, -999.000,9, 2061.100,2, 2274.100,2
           NA,    P03C,    163,   1,-999.0,     -99,  2,20051202,0207,  23.6133, -167.6263,  4959,  399.900,   11.150,   34.219,2,   34.217,2,  180.210,1,  197.740,2,   16.310,2,   14.450,2,    0.010,2,    1.085,2,    3.099,2,    1.516,2, -999.000,9, 2102.400,2, 2262.700,2
           NA,    P03C,    163,   1,-999.0,     -99,  2,20051202,0207,  23.6133, -167.6263,  4959,  500.200,    8.644,   34.100,2,   34.100,6,  140.720,1,  153.340,2,   32.250,2,   23.570,2,    0.010,2,    1.738,2,    2.602,2,    1.179,2, -999.000,9, 2165.500,2, 2268.800,2
           NA,    P03C,    163,   1,-999.0,     -99,  2,20051202,0207,  23.6133, -167.6263,  4959,  601.400,    6.583,   34.082,2,   34.082,2,   88.600,1,   97.510,2,   57.180,2,   32.470,2,    0.000,2,    2.388,2,    1.423,2,    0.621,2, -999.000,9, 2237.600,2, 2285.300,2
           NA,    P03C,    163,   1,-999.0,     -99,  2,20051202,0207,  23.6133, -167.6263,  4959,  700.100,    5.648,   34.193,2,   34.195,2,   46.290,1,   50.940,2,   76.360,2,   38.250,2,    0.000,2,    2.834,2,    0.454,2,    0.195,2, -999.000,9, 2291.200,6, 2314.600,2
           NA,    P03C,    163,   1,-999.0,     -99,  2,20051202,0207,  23.6133, -167.6263,  4959,  801.200,    4.880,   34.286,2,   34.289,2,   33.050,1,   37.130,2,   92.700,2,   40.880,2,    0.010,2,    3.016,2,    0.161,6,    0.075,6, -999.000,9, 2321.400,2, 2332.800,6
           NA,    P03C,    163,   1,-999.0,     -99,  2,20051202,0207,  23.6133, -167.6263,  4959,  902.500,    4.499,   34.393,2,   34.392,2,   34.170,1,   38.500,2,  100.900,2,   41.690,2,    0.010,2,    3.044,2,    0.062,2,    0.020,2, -999.000,9, 2334.400,2, 2349.600,2
           NA,    P03C,    163,   1,-999.0,     -99,  2,20051202,0207,  23.6133, -167.6263,  4959,  999.500,    4.204,   34.442,2,   34.442,6,   37.420,1,   42.040,2,  107.260,2,   41.830,2,    0.010,2,    3.058,2,    0.037,2,    0.007,2, -999.000,9, 2337.700,2, 2362.500,2
           NA,    P03C,    163,   1,-999.0,     -99,  2,20051202,0207,  23.6133, -167.6263,  4959, 1203.600,    3.672,   34.510,2,   34.509,2,   48.390,1,   53.880,2,  117.940,2,   41.690,2,    0.000,2,    3.027,2,    0.027,2,    0.000,2, -999.000,9, 2346.200,2, 2373.000,2
           NA,    P03C,    163,   1,-999.0,     -99,  2,20051202,0207,  23.6133, -167.6263,  4959, 1402.000,    3.278,   34.545,2,   34.545,2,   56.630,1,   62.970,2,  126.230,2,   41.470,2,    0.010,2,    2.993,2,    0.020,2,    0.000,2, -999.000,9, 2350.000,2, 2386.400,2
           NA,    P03C,    163,   1,-999.0,     -99,  2,20051202,0207,  23.6133, -167.6263,  4959, 1602.000,    2.763,   34.570,2,   34.570,2,   65.150,1,   72.410,2,  138.030,2,   40.950,2,    0.010,2,    2.947,2,    0.017,2,    0.000,2, -999.000,9, 2356.600,2, 2401.400,2
           NA,    P03C,    163,   1,-999.0,     -99,  2,20051202,0207,  23.6133, -167.6263,  4959, 1802.500,    2.415,   34.586,2,   34.586,2,   70.210,1,   78.080,2,  146.980,2,   40.750,2,    0.000,2,    2.916,2,    0.010,2,    0.000,2, -999.000,9, 2362.000,2, 2402.900,2
           NA,    P03C,    163,   1,-999.0,     -99,  2,20051202,0207,  23.6133, -167.6263,  4959, 2001.600,    2.133,   34.610,2,   34.609,6,   79.420,1,   88.730,2,  152.830,2,   40.140,2,    0.000,2,    2.865,2,    0.006,2,    0.000,2, -999.000,9, 2361.100,2, 2407.500,2
           NA,    P03C,    163,   1,-999.0,     -99,  2,20051202,0207,  23.6133, -167.6263,  4959, 2203.800,    1.944,   34.626,2,   34.627,2,   87.520,1,   97.890,2,  156.120,2,   39.630,2,    0.000,2,    2.820,2, -999.000,9, -999.000,9, -999.000,9, 2356.700,2, 2410.600,2
           NA,    P03C,    163,   1,-999.0,     -99,  2,20051202,0207,  23.6133, -167.6263,  4959, 2400.600,    1.802,   34.640,2,   34.640,2,   94.950,1,  106.450,2,  157.880,2,   39.200,2,    0.010,2,    2.772,2,    0.008,2,    0.000,2, -999.000,9, 2356.200,6, 2413.000,2
           NA,    P03C,    163,   1,-999.0,     -99,  2,20051202,0207,  23.6133, -167.6263,  4959, 2598.500,    1.710,   34.650,2,   34.650,2,  101.480,1,  113.860,2,  158.430,2,   38.700,2,    0.010,2,    2.734,2, -999.000,9, -999.000,9, -999.000,9, 2352.900,2, 2419.700,6
           NA,    P03C,    163,   1,-999.0,     -99,  2,20051202,0207,  23.6133, -167.6263,  4959, 2803.000,    1.635,   34.659,2,   34.659,2,  107.610,1,  120.920,2,  158.120,2,   38.260,2,    0.000,2,    2.697,2, -999.000,9, -999.000,9, -999.000,9, 2349.900,2, 2422.100,2
           NA,    P03C,    163,   1,-999.0,     -99,  2,20051202,0207,  23.6133, -167.6263,  4959, 3001.000,    1.569,   34.667,2,   34.667,6,  114.420,1,  128.730,2,  156.880,2,   37.740,2,    0.010,2,    2.657,2,    0.014,2,    0.000,2, -999.000,9, 2345.300,2, 2421.200,2
           NA,    P03C,    163,   1,-999.0,     -99,  2,20051202,0207,  23.6133, -167.6263,  4959, 3250.600,    1.524,   34.673,2,   34.673,2,  120.100,1,  134.590,2,  155.690,2,   37.340,2,    0.000,2,    2.620,2, -999.000,9, -999.000,9, -999.000,9, 2340.100,2, 2423.600,2
           NA,    P03C,    163,   1,-999.0,     -99,  2,20051202,0207,  23.6133, -167.6263,  4959, 3499.900,    1.497,   34.678,2,   34.678,2,  125.290,1,  140.290,2,  154.110,2,   36.920,2,    0.010,2,    2.594,2, -999.000,9, -999.000,9, -999.000,9, 2336.100,2, 2417.900,2
           NA,    P03C,    163,   1,-999.0,     -99,  2,20051202,0207,  23.6133, -167.6263,  4959, 3750.200,    1.469,   34.683,2,   34.682,2,  131.660,1,  147.130,2,  151.200,2,   36.470,2,    0.000,2,    2.560,2,    0.008,2,    0.000,2, -999.000,9, 2330.500,2, 2417.400,2
           NA,    P03C,    163,   1,-999.0,     -99,  2,20051202,0207,  23.6133, -167.6263,  4959, 3999.200,    1.462,   34.686,2,   34.686,6,  136.180,1,  151.770,2,  148.600,2,   36.130,2,    0.000,2,    2.531,2, -999.000,9, -999.000,9, -999.000,9, 2326.200,2, 2418.300,2
           NA,    P03C,    163,   1,-999.0,     -99,  2,20051202,0207,  23.6133, -167.6263,  4959, 4251.800,    1.459,   34.688,2,   34.688,2,  140.430,1,  155.970,2,  146.240,2,   35.820,2,    0.000,2,    2.508,2,    0.018,2,    0.002,2, -999.000,9, 2323.400,6, 2417.300,2
           NA,    P03C,    163,   1,-999.0,     -99,  2,20051202,0207,  23.6133, -167.6263,  4959, 4499.900,    1.465,   34.690,2,   34.690,2,  143.910,1,  159.260,2,  144.610,2,   35.630,2,    0.010,2,    2.493,2, -999.000,9, -999.000,9, -999.000,9, 2319.000,2, 2413.200,6
           NA,    P03C,    163,   1,-999.0,     -99,  2,20051202,0207,  23.6133, -167.6263,  4959, 4750.200,    1.482,   34.692,2,   34.692,2,  146.460,1,  161.180,2,  143.370,2,   35.440,2,    0.010,2,    2.483,2, -999.000,9, -999.000,9, -999.000,9, 2317.200,2, 2407.000,2
           NA,    P03C,    163,   1,-999.0,     -99,  2,20051202,0207,  23.6133, -167.6263,  4959, 5033.400,    1.508,   34.692,2,   34.693,6,  149.690,1,  162.460,2,  142.560,2,   35.380,2,    0.010,2,    2.480,2,    0.017,2,    0.006,2, -999.000,9, 2316.100,2, 2407.600,2