BOTTLE,20211903JOAExport
EXPOCODE,SECT_ID,STNNBR,CASTNO,SAMPNO,BTLNBR,BTLNBR_FLAG_W,DATE,TIME,LATITUDE,LONGITUDE,DEPTH,CTDPRS,CTDTMP,CTDSAL,CTDSAL_FLAG_W,SALNTY,SALNTY_FLAG_W,CTDOXY,CTDOXY_FLAG_W,OXYGEN,OXYGEN_FLAG_W,SILCAT,SILCAT_FLAG_W,NITRAT,NITRAT_FLAG_W,NITRIT,NITRIT_FLAG_W,PHSPHT,PHSPHT_FLAG_W,CFC-11,CFC-11_FLAG_W,CFC-12,CFC-12_FLAG_W,SF6,SF6_FLAG_W,TCARBN,TCARBN_FLAG_W,ALKALI,ALKALI_FLAG_W
,,,,,,,,,,,,DB,ITS-90,PSS-78,,PSS-78,,UMOL/KG,,UMOL/KG,,UMOL/KG,,UMOL/KG,,UMOL/KG,,UMOL/KG,,PMOL/KG,,PMOL/KG,,FMOL/KG,,UMOL/KG,,UMOL/KG
           NA,    P03C,    277,   1,-999.0,     -99,  2,20051230,1758,  24.2455,  148.4337,  5788,   10.800,   24.889,   34.972,2,   34.972,2,  191.980,1,  207.260,2,    0.940,2,    0.030,2,    0.000,2,    0.034,2,    1.679,2,    1.003,2, -999.000,9, -999.000,9, -999.000,9
           NA,    P03C,    277,   1,-999.0,     -99,  2,20051230,1758,  24.2455,  148.4337,  5788,   51.500,   24.834,   34.969,2,   34.970,2,  191.950,1,  207.220,2,    0.950,2,    0.020,2,    0.000,2,    0.035,2,    1.686,2,    1.003,2, -999.000,9, -999.000,9, -999.000,9
           NA,    P03C,    277,   1,-999.0,     -99,  2,20051230,1758,  24.2455,  148.4337,  5788,  100.600,   23.742,   35.057,2,   35.054,2,  195.150,1,  210.620,2,    1.260,2,    0.030,2,    0.050,2,    0.052,2,    1.932,2,    1.145,2, -999.000,9, -999.000,9, -999.000,9
           NA,    P03C,    277,   1,-999.0,     -99,  2,20051230,1758,  24.2455,  148.4337,  5788,  150.000,   20.529,   34.988,2,   34.989,2,  187.040,1,  201.770,2,    1.860,2,    0.800,2,    0.030,2,    0.126,2,    2.154,2,    1.220,2, -999.000,9, -999.000,9, -999.000,9
           NA,    P03C,    277,   1,-999.0,     -99,  2,20051230,1758,  24.2455,  148.4337,  5788,  202.100,   18.450,   34.855,2,   34.856,2,  189.810,1,  204.730,2,    2.730,2,    2.830,2,    0.010,2,    0.241,2,    2.318,2,    1.289,2, -999.000,9, -999.000,9, -999.000,9
           NA,    P03C,    277,   1,-999.0,     -99,  2,20051230,1758,  24.2455,  148.4337,  5788,  253.400,   17.379,   34.794,2,   34.794,2,  194.980,1,  210.170,2,    3.480,2,    4.140,2,    0.010,2,    0.315,2,    2.407,6,    1.336,6, -999.000,9, -999.000,9, -999.000,9
           NA,    P03C,    277,   1,-999.0,     -99,  2,20051230,1758,  24.2455,  148.4337,  5788,  302.300,   16.686,   34.739,2,   34.739,2,  190.280,1,  205.340,2,    4.760,2,    5.640,2,    0.010,2,    0.408,2,    2.470,2,    1.348,2, -999.000,9, -999.000,9, -999.000,9
           NA,    P03C,    277,   1,-999.0,     -99,  2,20051230,1758,  24.2455,  148.4337,  5788,  400.300,   14.651,   34.558,2,   34.552,2,  184.020,1,  197.970,2,    9.330,2,    9.390,2,    0.010,2,    0.677,2,    2.650,2,    1.392,2, -999.000,9, -999.000,9, -999.000,9
           NA,    P03C,    277,   1,-999.0,     -99,  2,20051230,1758,  24.2455,  148.4337,  5788,  501.000,   11.486,   34.317,2,   34.317,6,  176.780,1,  190.570,2,   18.550,2,   15.190,2,    0.010,2,    1.094,2,    2.762,2,    1.395,2, -999.000,9, -999.000,9, -999.000,9
           NA,    P03C,    277,   1,-999.0,     -99,  2,20051230,1758,  24.2455,  148.4337,  5788,  603.200,    8.764,   34.149,2,   34.148,2,  145.980,1,  156.070,2,   35.300,2,   23.300,2,    0.010,2,    1.687,2,    2.276,2,    1.096,2, -999.000,9, -999.000,9, -999.000,9
           NA,    P03C,    277,   1,-999.0,     -99,  2,20051230,1758,  24.2455,  148.4337,  5788,  702.200,    6.209,   34.053,2,   34.053,2,  114.030,1,  123.390,2,   60.770,2,   30.740,2,    0.010,2,    2.254,2,    1.768,2,    0.852,2, -999.000,9, -999.000,9, -999.000,9
           NA,    P03C,    277,   1,-999.0,     -99,  2,20051230,1758,  24.2455,  148.4337,  5788,  800.900,    5.081,   34.158,2,   34.159,2,   66.380,1,   71.370,2,   85.170,2,   37.500,2,    0.010,2,    2.729,2,    0.705,6,    0.342,6, -999.000,9, -999.000,9, -999.000,9
           NA,    P03C,    277,   1,-999.0,     -99,  2,20051230,1758,  24.2455,  148.4337,  5788,  901.500,    4.387,   34.263,2,   34.262,2,   47.670,1,   51.240,2,  101.960,2,   40.060,2,    0.010,2,    2.913,2,    0.289,2,    0.145,2, -999.000,9, -999.000,9, -999.000,9
           NA,    P03C,    277,   1,-999.0,     -99,  2,20051230,1758,  24.2455,  148.4337,  5788, 1002.000,    4.003,   34.356,2,   34.356,6,   44.540,1,   47.490,2,  112.610,2,   41.180,2,    0.010,2,    2.982,2,    0.114,2,    0.059,2, -999.000,9, -999.000,9, -999.000,9
           NA,    P03C,    277,   1,-999.0,     -99,  2,20051230,1758,  24.2455,  148.4337,  5788, 1200.300,    3.318,   34.451,2,   34.451,2,   49.810,1,   53.620,2,  128.260,2,   41.560,2,    0.000,2,    2.988,2,    0.040,2,    0.021,2, -999.000,9, -999.000,9, -999.000,9
           NA,    P03C,    277,   1,-999.0,     -99,  2,20051230,1758,  24.2455,  148.4337,  5788, 1401.500,    2.738,   34.511,2,   34.512,2,   58.090,1,   62.890,2,  141.050,2,   41.350,2,    0.000,2,    2.963,2,    0.016,2,    0.006,2, -999.000,9, -999.000,9, -999.000,9
           NA,    P03C,    277,   1,-999.0,     -99,  2,20051230,1758,  24.2455,  148.4337,  5788, 1600.000,    2.348,   34.555,2,   34.556,2,   68.700,1,   74.660,2,  148.510,2,   40.820,2,    0.010,2,    2.914,2,    0.011,2,    0.004,2, -999.000,9, -999.000,9, -999.000,9
           NA,    P03C,    277,   1,-999.0,     -99,  2,20051230,1758,  24.2455,  148.4337,  5788, 1800.400,    2.099,   34.594,2,   34.595,2,   87.090,1,   94.920,2,  148.400,2,   39.570,2,    0.010,2,    2.811,2,    0.006,2,    0.000,2, -999.000,9, -999.000,9, -999.000,9
           NA,    P03C,    277,   1,-999.0,     -99,  2,20051230,1758,  24.2455,  148.4337,  5788, 2001.100,    1.936,   34.615,2,   34.616,2,   95.220,1,  103.910,2,  149.810,2,   39.150,2,    0.000,2,    2.771,2,    0.003,2,    0.001,2, -999.000,9, -999.000,9, -999.000,9
           NA,    P03C,    277,   1,-999.0,     -99,  2,20051230,1758,  24.2455,  148.4337,  5788, 2201.600,    1.823,   34.632,2,   34.632,6,  103.450,1,  113.060,2,  150.030,2,   38.610,2,    0.010,2,    2.726,2,    0.004,2,    0.000,2, -999.000,9, -999.000,9, -999.000,9
           NA,    P03C,    277,   1,-999.0,     -99,  2,20051230,1758,  24.2455,  148.4337,  5788, 2400.900,    1.767,   34.642,2,   34.643,2,  108.770,1,  119.040,2,  149.580,2,   38.220,2,    0.010,2,    2.699,2,    0.007,2,    0.002,2, -999.000,9, -999.000,9, -999.000,9
           NA,    P03C,    277,   1,-999.0,     -99,  2,20051230,1758,  24.2455,  148.4337,  5788, 2602.700,    1.698,   34.651,2,   34.652,2,  114.040,1,  124.900,2,  149.610,2,   37.910,2,    0.010,2,    2.668,2,    0.004,2,    0.000,2, -999.000,9, -999.000,9, -999.000,9
           NA,    P03C,    277,   1,-999.0,     -99,  2,20051230,1758,  24.2455,  148.4337,  5788, 2799.600,    1.632,   34.661,2,   34.661,2,  119.030,1,  130.570,2,  149.790,2,   37.520,2,    0.000,2,    2.644,2,    0.003,2,    0.000,2, -999.000,9, -999.000,9, -999.000,9
           NA,    P03C,    277,   1,-999.0,     -99,  2,20051230,1758,  24.2455,  148.4337,  5788, 3000.700,    1.589,   34.666,2,   34.666,2,  122.570,1,  134.380,2,  149.800,2,   37.290,2,    0.000,2,    2.619,2, -999.000,9, -999.000,9, -999.000,9, -999.000,9, -999.000,9
           NA,    P03C,    277,   1,-999.0,     -99,  2,20051230,1758,  24.2455,  148.4337,  5788, 3251.800,    1.541,   34.673,2,   34.673,6,  127.120,1,  139.440,2,  149.770,2,   36.940,2,    0.000,2,    2.592,2, -999.000,9, -999.000,9, -999.000,9, -999.000,9, -999.000,9
           NA,    P03C,    277,   1,-999.0,     -99,  2,20051230,1758,  24.2455,  148.4337,  5788, 3501.600,    1.506,   34.678,2,   34.678,2,  132.290,1,  145.110,2,  148.280,2,   36.530,2,    0.000,2,    2.561,2,    0.001,2,    0.000,2, -999.000,9, -999.000,9, -999.000,9
           NA,    P03C,    277,   1,-999.0,     -99,  2,20051230,1758,  24.2455,  148.4337,  5788, 3750.000,    1.489,   34.682,2,   34.682,2,  136.310,1,  149.310,2,  147.230,2,   36.280,2,    0.000,2,    2.541,2, -999.000,9, -999.000,9, -999.000,9, -999.000,9, -999.000,9
           NA,    P03C,    277,   1,-999.0,     -99,  2,20051230,1758,  24.2455,  148.4337,  5788, 4001.700,    1.473,   34.685,2,   34.686,2,  140.670,1,  153.800,2,  145.600,2,   36.030,2,    0.000,2,    2.515,2, -999.000,9, -999.000,9, -999.000,9, -999.000,9, -999.000,9
           NA,    P03C,    277,   1,-999.0,     -99,  2,20051230,1758,  24.2455,  148.4337,  5788, 4249.300,    1.467,   34.688,2,   34.688,2,  144.590,1,  157.820,2,  144.080,2,   35.760,2,    0.000,2,    2.493,2, -999.000,4,    0.002,2, -999.000,9, -999.000,9, -999.000,9
           NA,    P03C,    277,   1,-999.0,     -99,  2,20051230,1758,  24.2455,  148.4337,  5788, 4499.200,    1.470,   34.690,2,   34.691,6,  147.980,1,  161.000,2,  142.460,2,   35.560,2,    0.000,2,    2.478,2, -999.000,9, -999.000,9, -999.000,9, -999.000,9, -999.000,9
           NA,    P03C,    277,   1,-999.0,     -99,  2,20051230,1758,  24.2455,  148.4337,  5788, 4750.700,    1.474,   34.692,2,   34.693,2,  151.940,1,  164.960,2,  139.840,2,   35.160,2,    0.000,2,    2.455,2, -999.000,9, -999.000,9, -999.000,9, -999.000,9, -999.000,9
           NA,    P03C,    277,   1,-999.0,     -99,  2,20051230,1758,  24.2455,  148.4337,  5788, 4999.800,    1.492,   34.694,2,   34.694,2,  154.480,1,  167.130,2,  138.680,2,   35.050,2,    0.000,2,    2.444,2, -999.000,4,    0.000,2, -999.000,9, -999.000,9, -999.000,9
           NA,    P03C,    277,   1,-999.0,     -99,  2,20051230,1758,  24.2455,  148.4337,  5788, 5249.200,    1.510,   34.695,2,   34.695,2,  157.120,1,  169.110,2,  137.500,2,   34.970,2,    0.000,2,    2.430,2, -999.000,9, -999.000,9, -999.000,9, -999.000,9, -999.000,9
           NA,    P03C,    277,   1,-999.0,     -99,  2,20051230,1758,  24.2455,  148.4337,  5788, 5499.100,    1.533,   34.696,2,   34.696,2,  159.470,1,  170.690,2,  136.440,2,   34.810,2,    0.000,2,    2.423,2, -999.000,9, -999.000,9, -999.000,9, -999.000,9, -999.000,9
           NA,    P03C,    277,   1,-999.0,     -99,  2,20051230,1758,  24.2455,  148.4337,  5788, 5749.800,    1.552,   34.697,2,   34.697,2,  162.730,1,  172.860,2,  135.090,2,   34.720,2,    0.000,2,    2.414,2, -999.000,4,    0.000,2, -999.000,9, -999.000,9, -999.000,9
           NA,    P03C,    277,   1,-999.0,     -99,  2,20051230,1758,  24.2455,  148.4337,  5788, 5891.500,    1.559,   34.698,2,   34.698,6,  165.500,1,  174.660,2,  133.990,2,   34.620,2,    0.000,2,    2.407,2,    0.008,2,    0.000,2, -999.000,9, -999.000,9, -999.000,9