BOTTLE,20211903JOAExport
EXPOCODE,SECT_ID,STNNBR,CASTNO,SAMPNO,BTLNBR,BTLNBR_FLAG_W,DATE,TIME,LATITUDE,LONGITUDE,DEPTH,CTDPRS,CTDTMP,CTDSAL,CTDSAL_FLAG_W,SALNTY,SALNTY_FLAG_W,CTDOXY,CTDOXY_FLAG_W,OXYGEN,OXYGEN_FLAG_W,SILCAT,SILCAT_FLAG_W,NITRAT,NITRAT_FLAG_W,NITRIT,NITRIT_FLAG_W,PHSPHT,PHSPHT_FLAG_W,CFC-11,CFC-11_FLAG_W,CFC-12,CFC-12_FLAG_W,SF6,SF6_FLAG_W,TCARBN,TCARBN_FLAG_W,ALKALI,ALKALI_FLAG_W
,,,,,,,,,,,,DB,ITS-90,PSS-78,,PSS-78,,UMOL/KG,,UMOL/KG,,UMOL/KG,,UMOL/KG,,UMOL/KG,,UMOL/KG,,PMOL/KG,,PMOL/KG,,FMOL/KG,,UMOL/KG,,UMOL/KG
           NA,    P03C,    197,   1,-999.0,     -99,  2,20051207,0908,  24.2272, -179.9880,  5539,    9.100,   25.958,   35.360,2,   35.361,2,  182.720,1,  205.310,2,    0.920,2,    0.040,2,    0.000,2,    0.045,2,    1.641,2,    0.997,2, -999.000,9, -999.000,9, -999.000,9
           NA,    P03C,    197,   1,-999.0,     -99,  2,20051207,0908,  24.2272, -179.9880,  5539,   50.200,   25.760,   35.370,2,   35.369,2,  183.110,1,  206.200,2,    0.940,2,    0.030,2,    0.000,2,    0.039,2,    1.667,2,    0.988,2, -999.000,9, -999.000,9, -999.000,9
           NA,    P03C,    197,   1,-999.0,     -99,  2,20051207,0908,  24.2272, -179.9880,  5539,  101.600,   22.583,   35.296,2,   35.298,2,  188.970,1,  212.820,2,    1.160,2,    0.030,2,    0.000,2,    0.057,2,    1.946,2,    1.119,2, -999.000,9, -999.000,9, -999.000,9
           NA,    P03C,    197,   1,-999.0,     -99,  2,20051207,0908,  24.2272, -179.9880,  5539,  151.300,   21.244,   35.271,2,   35.270,2,  182.510,1,  205.240,2,    1.430,2,    0.520,2,    0.020,2,    0.112,2,    2.046,2,    1.192,2, -999.000,9, -999.000,9, -999.000,9
           NA,    P03C,    197,   1,-999.0,     -99,  2,20051207,0908,  24.2272, -179.9880,  5539,  200.400,   20.351,   35.178,2,   35.177,2,  181.260,1,  204.010,2,    1.760,2,    1.210,2,    0.020,2,    0.148,2,    2.103,2,    1.216,2, -999.000,9, -999.000,9, -999.000,9
           NA,    P03C,    197,   1,-999.0,     -99,  2,20051207,0908,  24.2272, -179.9880,  5539,  250.900,   18.641,   34.951,2,   34.952,2,  182.710,1,  205.520,2,    2.790,2,    2.490,2,    0.010,2,    0.241,2,    2.276,6,    1.272,6, -999.000,9, -999.000,9, -999.000,9
           NA,    P03C,    197,   1,-999.0,     -99,  2,20051207,0908,  24.2272, -179.9880,  5539,  299.900,   16.669,   34.736,2,   34.736,2,  185.620,1,  208.800,2,    4.590,2,    4.920,2,    0.010,2,    0.388,2,    2.461,2,    1.336,2, -999.000,9, -999.000,9, -999.000,9
           NA,    P03C,    197,   1,-999.0,     -99,  2,20051207,0908,  24.2272, -179.9880,  5539,  399.100,   13.565,   34.429,2,   34.425,2,  180.580,1,  203.150,2,    9.950,2,    9.900,2,    0.000,2,    0.742,2,    2.837,2,    1.473,2, -999.000,9, -999.000,9, -999.000,9
           NA,    P03C,    197,   1,-999.0,     -99,  2,20051207,0908,  24.2272, -179.9880,  5539,  502.000,   10.579,   34.211,2,   34.213,6,  166.150,1,  187.130,2,   20.000,2,   16.650,2,    0.000,2,    1.225,2,    2.808,2,    1.416,2, -999.000,9, -999.000,9, -999.000,9
           NA,    P03C,    197,   1,-999.0,     -99,  2,20051207,0908,  24.2272, -179.9880,  5539,  601.900,    8.510,   34.111,2,   34.111,2,  135.140,1,  152.580,2,   34.800,2,   23.970,2,    0.000,2,    1.745,2,    2.334,2,    1.119,2, -999.000,9, -999.000,9, -999.000,9
           NA,    P03C,    197,   1,-999.0,     -99,  2,20051207,0908,  24.2272, -179.9880,  5539,  700.800,    6.448,   34.108,2,   34.107,2,   79.210,1,   89.660,2,   60.880,2,   33.580,2,    0.000,2,    2.453,2,    1.131,2,    0.511,2, -999.000,9, -999.000,9, -999.000,9
           NA,    P03C,    197,   1,-999.0,     -99,  2,20051207,0908,  24.2272, -179.9880,  5539,  800.200,    5.217,   34.162,2,   34.164,2,   51.920,1,   58.460,2,   83.160,2,   38.400,2,    0.000,2,    2.810,2,    0.530,6,    0.239,6, -999.000,9, -999.000,9, -999.000,9
           NA,    P03C,    197,   1,-999.0,     -99,  2,20051207,0908,  24.2272, -179.9880,  5539,  900.000,    4.516,   34.258,2,   34.259,2,   35.980,1,   41.250,2,   99.880,2,   41.080,2,    0.000,2,    2.989,2,    0.212,2,    0.088,2, -999.000,9, -999.000,9, -999.000,9
           NA,    P03C,    197,   1,-999.0,     -99,  2,20051207,0908,  24.2272, -179.9880,  5539, 1001.200,    4.139,   34.374,2,   34.374,6,   35.260,1,   40.750,2,  109.090,2,   41.740,2,    0.000,2,    3.043,2,    0.040,2,    0.017,2, -999.000,9, -999.000,9, -999.000,9
           NA,    P03C,    197,   1,-999.0,     -99,  2,20051207,0908,  24.2272, -179.9880,  5539, 1200.400,    3.569,   34.478,2,   34.478,2,   46.130,1,   52.530,2,  121.260,2,   41.580,2,    0.000,2,    3.016,2,    0.006,2,    0.009,2, -999.000,9, -999.000,9, -999.000,9
           NA,    P03C,    197,   1,-999.0,     -99,  2,20051207,0908,  24.2272, -179.9880,  5539, 1399.800,    3.045,   34.524,2,   34.524,2,   54.220,1,   62.170,2,  132.820,2,   41.360,2,    0.000,2,    2.984,2,    0.000,2,    0.001,2, -999.000,9, -999.000,9, -999.000,9
           NA,    P03C,    197,   1,-999.0,     -99,  2,20051207,0908,  24.2272, -179.9880,  5539, 1601.300,    2.671,   34.554,2,   34.554,2,   60.270,1,   68.870,2,  141.380,2,   41.120,2,    0.000,2,    2.955,2,    0.000,2,    0.000,2, -999.000,9, -999.000,9, -999.000,9
           NA,    P03C,    197,   1,-999.0,     -99,  2,20051207,0908,  24.2272, -179.9880,  5539, 1801.000,    2.361,   34.589,2,   34.589,2,   71.580,1,   81.820,2,  146.380,2,   40.410,2,    0.000,2,    2.901,2,    0.000,2,    0.000,2, -999.000,9, -999.000,9, -999.000,9
           NA,    P03C,    197,   1,-999.0,     -99,  2,20051207,0908,  24.2272, -179.9880,  5539, 1999.600,    2.111,   34.608,2,   34.608,2,   78.050,1,   89.660,2,  152.060,2,   40.030,2,    0.000,2,    2.858,2,    0.000,2,    0.004,2, -999.000,9, -999.000,9, -999.000,9
           NA,    P03C,    197,   1,-999.0,     -99,  2,20051207,0908,  24.2272, -179.9880,  5539, 2199.200,    1.928,   34.626,2,   34.626,6,   86.160,1,   99.040,2,  154.820,2,   39.490,2,    0.000,2,    2.815,2,    0.000,2,    0.000,2, -999.000,9, -999.000,9, -999.000,9
           NA,    P03C,    197,   1,-999.0,     -99,  2,20051207,0908,  24.2272, -179.9880,  5539, 2401.800,    1.804,   34.638,2,   34.638,2,   92.410,1,  106.420,2,  156.320,2,   39.000,2,    0.000,2,    2.775,2,    0.000,2,    0.002,2, -999.000,9, -999.000,9, -999.000,9
           NA,    P03C,    197,   1,-999.0,     -99,  2,20051207,0908,  24.2272, -179.9880,  5539, 2601.200,    1.711,   34.648,2,   34.648,2,   98.530,1,  113.680,2,  157.140,2,   38.610,2,    0.000,2,    2.739,2, -999.000,9, -999.000,9, -999.000,9, -999.000,9, -999.000,9
           NA,    P03C,    197,   1,-999.0,     -99,  2,20051207,0908,  24.2272, -179.9880,  5539, 2800.500,    1.635,   34.657,2,   34.657,2,  104.550,1,  120.910,2,  156.840,2,   38.120,2,    0.000,2,    2.698,2,    0.000,2,    0.000,2, -999.000,9, -999.000,9, -999.000,9
           NA,    P03C,    197,   1,-999.0,     -99,  2,20051207,0908,  24.2272, -179.9880,  5539, 3001.500,    1.573,   34.665,2,   34.665,2,  110.390,1,  127.820,2,  155.970,2,   37.660,2,    0.000,2,    2.661,2, -999.000,9, -999.000,9, -999.000,9, -999.000,9, -999.000,9
           NA,    P03C,    197,   1,-999.0,     -99,  2,20051207,0908,  24.2272, -179.9880,  5539, 3250.500,    1.526,   34.671,2,   34.671,6,  116.180,1,  134.490,2,  154.960,2,   37.310,2,    0.000,2,    2.622,2, -999.000,9, -999.000,9, -999.000,9, -999.000,9, -999.000,9
           NA,    P03C,    197,   1,-999.0,     -99,  2,20051207,0908,  24.2272, -179.9880,  5539, 3500.700,    1.489,   34.677,2,   34.677,2,  122.190,1,  141.530,2,  152.900,2,   36.840,2,    0.000,2,    2.590,2,    0.000,2,    0.002,2, -999.000,9, -999.000,9, -999.000,9
           NA,    P03C,    197,   1,-999.0,     -99,  2,20051207,0908,  24.2272, -179.9880,  5539, 3749.500,    1.470,   34.681,2,   34.682,2,  126.520,1,  146.330,2,  151.740,2,   36.500,2,    0.000,2,    2.567,2, -999.000,9, -999.000,9, -999.000,9, -999.000,9, -999.000,9
           NA,    P03C,    197,   1,-999.0,     -99,  2,20051207,0908,  24.2272, -179.9880,  5539, 4000.100,    1.452,   34.686,2,   34.686,2,  131.700,1,  151.960,2,  149.770,2,   36.050,2,    0.000,2,    2.537,2, -999.000,9, -999.000,9, -999.000,9, -999.000,9, -999.000,9
           NA,    P03C,    197,   1,-999.0,     -99,  2,20051207,0908,  24.2272, -179.9880,  5539, 4251.500,    1.444,   34.689,2,   34.688,6,  136.150,1,  156.860,2,  146.970,2,   35.740,2,    0.000,2,    2.509,2,    0.000,2,    0.002,2, -999.000,9, -999.000,9, -999.000,9
           NA,    P03C,    197,   1,-999.0,     -99,  2,20051207,0908,  24.2272, -179.9880,  5539, 4501.300,    1.448,   34.691,2,   34.691,2,  139.750,1,  160.540,2,  145.000,2,   35.470,2,    0.000,2,    2.488,2, -999.000,9, -999.000,9, -999.000,9, -999.000,9, -999.000,9
           NA,    P03C,    197,   1,-999.0,     -99,  2,20051207,0908,  24.2272, -179.9880,  5539, 4751.100,    1.449,   34.693,2,   34.693,2,  144.360,1,  165.160,2,  141.420,2,   35.200,2,    0.000,2,    2.466,2, -999.000,9, -999.000,9, -999.000,9, -999.000,9, -999.000,9
           NA,    P03C,    197,   1,-999.0,     -99,  2,20051207,0908,  24.2272, -179.9880,  5539, 5001.200,    1.454,   34.695,2,   34.695,2,  148.790,1,  169.500,2,  138.470,2,   34.860,2,    0.000,2,    2.441,2,    0.000,2,    0.001,2, -999.000,9, -999.000,9, -999.000,9
           NA,    P03C,    197,   1,-999.0,     -99,  2,20051207,0908,  24.2272, -179.9880,  5539, 5250.800,    1.467,   34.697,2,   34.697,2,  152.200,1,  172.610,2,  136.290,2,   34.540,2,    0.000,2,    2.422,2, -999.000,9, -999.000,9, -999.000,9, -999.000,9, -999.000,9
           NA,    P03C,    197,   1,-999.0,     -99,  2,20051207,0908,  24.2272, -179.9880,  5539, 5499.700,    1.486,   34.698,2,   34.698,2,  155.350,1,  175.050,2,  134.670,2,   34.440,2,    0.000,2,    2.409,2, -999.000,9, -999.000,9, -999.000,9, -999.000,9, -999.000,9
           NA,    P03C,    197,   1,-999.0,     -99,  2,20051207,0908,  24.2272, -179.9880,  5539, 5628.100,    1.497,   34.699,2,   34.699,6,  157.580,1,  175.590,2,  134.090,2,   34.410,2,    0.000,2,    2.408,2,    0.000,2,    0.000,2, -999.000,9, -999.000,9, -999.000,9
           NA,    P03C,    195,   1,-999.0,     -99,  2,20051207,0103,  24.2418, -179.1560,  5613,   10.900,   25.599,   35.294,2,   35.293,2,  183.710,1,  206.220,2,    0.960,2,    0.050,2,    0.000,2,    0.027,2,    1.666,2,    0.984,2, -999.000,9, 1974.100,2, 2320.100,2
           NA,    P03C,    195,   1,-999.0,     -99,  2,20051207,0103,  24.2418, -179.1560,  5613,   51.200,   25.450,   35.294,2,   35.295,2,  183.480,1,  206.310,2,    1.000,2,    0.030,2,    0.000,2,    0.031,2,    1.672,2,    0.990,2, -999.000,9, 1974.700,6, 2318.200,2
           NA,    P03C,    195,   1,-999.0,     -99,  2,20051207,0103,  24.2418, -179.1560,  5613,  101.000,   21.131,   35.096,2,   35.097,2,  191.260,1,  215.230,2,    1.820,2,    0.020,2,    0.010,2,    0.071,2,    2.120,2,    1.224,2, -999.000,9, 2013.000,2, 2307.200,6
           NA,    P03C,    195,   1,-999.0,     -99,  2,20051207,0103,  24.2418, -179.1560,  5613,  151.100,   18.444,   34.892,2,   34.895,2,  183.180,1,  205.890,2,    2.870,2,    2.230,2,    0.020,2,    0.224,2,    2.302,2,    1.281,2, -999.000,9, 2030.400,2, 2288.000,2
           NA,    P03C,    195,   1,-999.0,     -99,  2,20051207,0103,  24.2418, -179.1560,  5613,  200.200,   17.047,   34.773,2,   34.775,2,  188.710,1,  211.960,2,    3.900,2,    4.200,2,    0.010,2,    0.322,2,    2.412,2,    1.319,2, -999.000,9, 2032.100,2, 2282.700,2
           NA,    P03C,    195,   1,-999.0,     -99,  2,20051207,0103,  24.2418, -179.1560,  5613,  252.000,   16.297,   34.707,2,   34.710,2,  187.620,1,  211.370,2,    5.060,2,    5.380,2,    0.010,2,    0.400,2,    2.471,6,    1.348,6, -999.000,9, 2036.900,2, 2280.800,2
           NA,    P03C,    195,   1,-999.0,     -99,  2,20051207,0103,  24.2418, -179.1560,  5613,  300.400,   15.040,   34.591,2,   34.588,2,  187.100,1,  210.140,2,    7.330,2,    7.350,2,    0.010,2,    0.537,2,    2.599,2,    1.348,2, -999.000,9, 2050.900,2, 2273.500,2
           NA,    P03C,    195,   1,-999.0,     -99,  2,20051207,0103,  24.2418, -179.1560,  5613,  401.800,   12.500,   34.385,2,   34.386,2,  184.970,1,  208.010,2,   13.420,2,   11.700,2,    0.010,2,    0.843,2,    2.801,2,    1.471,2, -999.000,9, 2080.200,2, 2274.300,2
           NA,    P03C,    195,   1,-999.0,     -99,  2,20051207,0103,  24.2418, -179.1560,  5613,  500.700,   10.000,   34.194,2,   34.194,6,  170.130,1,  191.670,2,   23.820,2,   17.680,2,    0.000,2,    1.277,2,    2.782,2,    1.390,2, -999.000,9, 2121.600,2, 2272.700,2
           NA,    P03C,    195,   1,-999.0,     -99,  2,20051207,0103,  24.2418, -179.1560,  5613,  601.700,    7.413,   34.052,2,   34.054,2,  139.650,1,  157.670,2,   44.110,2,   25.630,2,    0.000,2,    1.868,2, -999.000,3, -999.000,3, -999.000,9, 2183.100,2, 2281.700,2
           NA,    P03C,    195,   1,-999.0,     -99,  2,20051207,0103,  24.2418, -179.1560,  5613,  699.400,    5.904,   34.078,2,   34.079,2,   85.130,1,   96.060,2,   68.100,2,   34.070,2,    0.000,2,    2.474,2,    1.222,2,    0.561,2, -999.000,9, 2249.700,6, 2300.700,2
           NA,    P03C,    195,   1,-999.0,     -99,  2,20051207,0103,  24.2418, -179.1560,  5613,  801.500,    4.766,   34.159,2,   34.160,2,   51.530,1,   58.250,2,   91.350,2,   39.090,2,    0.010,2,    2.833,2,    0.562,6,    0.253,6, -999.000,9, 2301.100,2, 2323.500,6
           NA,    P03C,    195,   1,-999.0,     -99,  2,20051207,0103,  24.2418, -179.1560,  5613,  900.800,    4.192,   34.279,2,   34.281,2,   32.300,1,   37.160,2,  107.530,2,   41.890,2,    0.000,2,    3.029,2,    0.165,2,    0.071,2, -999.000,9, 2334.400,2, 2344.100,2
           NA,    P03C,    195,   1,-999.0,     -99,  2,20051207,0103,  24.2418, -179.1560,  5613, 1003.300,    3.798,   34.370,2,   34.370,6,   31.460,1,   36.560,2,  117.900,2,   42.460,2,    0.000,2,    3.076,2,    0.045,2,    0.023,2, -999.000,9, 2346.600,2, 2365.100,2
           NA,    P03C,    195,   1,-999.0,     -99,  2,20051207,0103,  24.2418, -179.1560,  5613, 1202.600,    3.300,   34.465,2,   34.465,2,   40.010,1,   46.060,2,  129.730,2,   42.390,2,    0.000,2,    3.053,2,    0.004,2,    0.000,2, -999.000,9, 2356.100,2, 2379.300,2
           NA,    P03C,    195,   1,-999.0,     -99,  2,20051207,0103,  24.2418, -179.1560,  5613, 1400.200,    2.866,   34.527,2,   34.527,2,   52.380,1,   59.830,2,  138.210,2,   41.710,2,    0.000,2,    2.995,2,    0.000,2,    0.000,2, -999.000,9, 2358.300,2, 2391.400,2
           NA,    P03C,    195,   1,-999.0,     -99,  2,20051207,0103,  24.2418, -179.1560,  5613, 1602.000,    2.518,   34.568,2,   34.569,2,   64.010,1,   73.090,2,  144.740,2,   41.040,2,    0.000,2,    2.937,2,    0.000,2,    0.000,2, -999.000,9, 2356.700,2, 2403.200,2
           NA,    P03C,    195,   1,-999.0,     -99,  2,20051207,0103,  24.2418, -179.1560,  5613, 1800.800,    2.253,   34.595,2,   34.596,2,   73.250,1,   83.930,2,  149.460,2,   40.550,2,    0.000,2,    2.879,2,    0.003,2,    0.000,2, -999.000,9, 2357.000,2, 2410.300,2
           NA,    P03C,    195,   1,-999.0,     -99,  2,20051207,0103,  24.2418, -179.1560,  5613, 2001.700,    2.024,   34.618,2,   34.619,6,   82.660,1,   95.120,2,  153.360,2,   39.860,2,    0.000,2,    2.823,2,    0.000,2,    0.000,2, -999.000,9, 2355.100,2, 2415.800,2
           NA,    P03C,    195,   1,-999.0,     -99,  2,20051207,0103,  24.2418, -179.1560,  5613, 2201.800,    1.872,   34.632,2,   34.632,2,   89.090,1,  102.560,2,  155.800,2,   39.400,2,    0.000,2,    2.794,2,    0.000,2,    0.000,2, -999.000,9, 2354.800,2, 2416.300,2
           NA,    P03C,    195,   1,-999.0,     -99,  2,20051207,0103,  24.2418, -179.1560,  5613, 2399.900,    1.756,   34.642,2,   34.643,2,   94.900,1,  109.530,2,  157.440,2,   39.000,2,    0.000,2,    2.758,2,    0.000,2,    0.000,2, -999.000,9, 2350.100,6, 2418.400,2
           NA,    P03C,    195,   1,-999.0,     -99,  2,20051207,0103,  24.2418, -179.1560,  5613, 2601.100,    1.689,   34.651,2,   34.651,2,  100.150,1,  115.710,2,  157.220,2,   38.660,2,    0.000,2,    2.721,2,    0.000,2,    0.000,2, -999.000,9, 2345.000,2, 2420.100,6
           NA,    P03C,    195,   1,-999.0,     -99,  2,20051207,0103,  24.2418, -179.1560,  5613, 2800.400,    1.622,   34.659,2,   34.659,2,  105.580,1,  122.180,2,  157.160,2,   38.240,2,    0.000,2,    2.686,2, -999.000,9, -999.000,9, -999.000,9, 2344.500,2, 2421.800,2
           NA,    P03C,    195,   1,-999.0,     -99,  2,20051207,0103,  24.2418, -179.1560,  5613, 3001.200,    1.576,   34.665,2,   34.666,2,  110.760,1,  128.410,2,  156.230,2,   37.800,2,    0.000,2,    2.655,2, -999.000,9, -999.000,9, -999.000,9, 2340.200,2, 2420.000,2
           NA,    P03C,    195,   1,-999.0,     -99,  2,20051207,0103,  24.2418, -179.1560,  5613, 3251.500,    1.526,   34.673,2,   34.672,6,  117.480,1,  136.290,2,  154.120,2,   37.230,2,    0.000,2,    2.610,2,    0.000,2,    0.000,2, -999.000,9, 2335.300,2, 2422.200,2
           NA,    P03C,    195,   1,-999.0,     -99,  2,20051207,0103,  24.2418, -179.1560,  5613, 3500.900,    1.490,   34.678,2,   34.678,2,  122.990,1,  142.530,2,  152.500,2,   36.840,2,    0.000,2,    2.582,2, -999.000,9, -999.000,9, -999.000,9, 2330.000,2, 2422.700,2
           NA,    P03C,    195,   1,-999.0,     -99,  2,20051207,0103,  24.2418, -179.1560,  5613, 3750.100,    1.472,   34.682,2,   34.682,2,  127.470,1,  147.240,2,  151.070,2,   36.540,2,    0.000,2,    2.556,2, -999.000,9, -999.000,9, -999.000,9, 2326.800,2, 2416.400,2
           NA,    P03C,    195,   1,-999.0,     -99,  2,20051207,0103,  24.2418, -179.1560,  5613, 3999.600,    1.459,   34.685,2,   34.685,2,  130.930,1,  151.030,2,  150.380,2,   36.210,2,    0.000,2,    2.532,2,    0.000,2,    0.000,2, -999.000,9, 2323.000,2, 2416.500,2
           NA,    P03C,    195,   1,-999.0,     -99,  2,20051207,0103,  24.2418, -179.1560,  5613, 4248.900,    1.452,   34.688,2,   34.689,2,  135.370,1,  155.930,2,  147.830,2,   35.940,2,    0.000,2,    2.504,2, -999.000,9, -999.000,9, -999.000,9, 2320.300,6, 2413.700,2
           NA,    P03C,    195,   1,-999.0,     -99,  2,20051207,0103,  24.2418, -179.1560,  5613, 4500.900,    1.448,   34.691,2,   34.691,6,  139.880,1,  160.840,2,  144.900,2,   35.590,2,    0.000,2,    2.481,2, -999.000,9, -999.000,9, -999.000,9, 2315.900,2, 2414.900,6
           NA,    P03C,    195,   1,-999.0,     -99,  2,20051207,0103,  24.2418, -179.1560,  5613, 4751.300,    1.447,   34.694,2,   34.694,2,  144.740,1,  165.430,2,  141.380,2,   35.140,2,    0.000,2,    2.459,2,    0.000,2,    0.000,2, -999.000,9, 2310.100,2, 2410.900,2
           NA,    P03C,    195,   1,-999.0,     -99,  2,20051207,0103,  24.2418, -179.1560,  5613, 5000.000,    1.453,   34.696,2,   34.696,2,  148.740,1,  169.450,2,  138.850,2,   34.960,2,    0.000,2,    2.436,2, -999.000,9, -999.000,9, -999.000,9, 2305.700,2, 2408.200,2
           NA,    P03C,    195,   1,-999.0,     -99,  2,20051207,0103,  24.2418, -179.1560,  5613, 5249.300,    1.468,   34.697,2,   34.697,2,  151.870,1,  172.370,2,  136.770,2,   34.680,2,    0.000,2,    2.421,2, -999.000,9, -999.000,9, -999.000,9, 2300.000,2, 2405.700,2
           NA,    P03C,    195,   1,-999.0,     -99,  2,20051207,0103,  24.2418, -179.1560,  5613, 5498.800,    1.487,   34.698,2,   34.698,2,  154.840,1,  174.440,2,  135.320,2,   34.590,2,    0.000,2,    2.411,2,    0.000,2,    0.000,2, -999.000,9, 2299.300,2, 2404.500,2
           NA,    P03C,    195,   1,-999.0,     -99,  2,20051207,0103,  24.2418, -179.1560,  5613, 5708.100,    1.507,   34.699,2,   34.700,6,  158.070,1,  175.800,2,  134.100,2,   34.370,2,    0.000,2,    2.402,2,    0.000,2,    0.000,2, -999.000,9, 2298.400,2, 2401.000,2