BOTTLE,20211903JOAExport
EXPOCODE,SECT_ID,STNNBR,CASTNO,SAMPNO,BTLNBR,BTLNBR_FLAG_W,DATE,TIME,LATITUDE,LONGITUDE,DEPTH,CTDPRS,CTDTMP,CTDSAL,CTDSAL_FLAG_W,SALNTY,SALNTY_FLAG_W,CTDOXY,CTDOXY_FLAG_W,OXYGEN,OXYGEN_FLAG_W,SILCAT,SILCAT_FLAG_W,NITRAT,NITRAT_FLAG_W,NITRIT,NITRIT_FLAG_W,PHSPHT,PHSPHT_FLAG_W,CFC-11,CFC-11_FLAG_W,CFC-12,CFC-12_FLAG_W,SF6,SF6_FLAG_W,TCARBN,TCARBN_FLAG_W,ALKALI,ALKALI_FLAG_W
,,,,,,,,,,,,DB,ITS-90,PSS-78,,PSS-78,,UMOL/KG,,UMOL/KG,,UMOL/KG,,UMOL/KG,,UMOL/KG,,UMOL/KG,,PMOL/KG,,PMOL/KG,,FMOL/KG,,UMOL/KG,,UMOL/KG
           NA,    P03C,    223,   1,-999.0,     -99,  2,20051221,2255,  24.2663,  169.5138,  6137,    9.200,   26.030,   35.350,2,   35.349,2,  193.340,1,  205.390,2,    1.100,2,    0.050,2,    0.000,2,    0.048,2,    1.597,2,    0.964,2, -999.000,9, 1972.900,2, 2319.100,2
           NA,    P03C,    223,   1,-999.0,     -99,  2,20051221,2255,  24.2663,  169.5138,  6137,   49.900,   25.993,   35.345,2,   35.346,2,  193.240,1,  205.390,2,    1.080,2,    0.030,2,    0.000,2,    0.038,2,    1.595,2,    0.967,2, -999.000,9, 1973.700,6, 2321.300,2
           NA,    P03C,    223,   1,-999.0,     -99,  2,20051221,2255,  24.2663,  169.5138,  6137,   98.700,   22.634,   35.181,2,   35.181,2,  213.780,1,  227.270,2,    1.550,2,    0.040,2,    0.000,2,    0.045,2, -999.000,5, -999.000,5, -999.000,9, 1992.800,2, 2309.500,6
           NA,    P03C,    223,   1,-999.0,     -99,  2,20051221,2255,  24.2663,  169.5138,  6137,  149.900,   18.969,   34.912,2,   34.886,2,  195.730,1,  206.410,2,    2.950,2,    1.650,2,    0.040,2,    0.197,2, -999.000,5, -999.000,5, -999.000,9, 2025.900,2, 2289.600,2
           NA,    P03C,    223,   1,-999.0,     -99,  2,20051221,2255,  24.2663,  169.5138,  6137,  200.300,   17.429,   34.793,2,   34.793,2,  197.820,1,  210.100,2,    3.790,2,    4.140,2,    0.010,2,    0.319,2,    2.486,2,    1.305,2, -999.000,9, 2026.700,2, 2284.300,2
           NA,    P03C,    223,   1,-999.0,     -99,  2,20051221,2255,  24.2663,  169.5138,  6137,  250.400,   16.491,   34.717,2,   34.714,2,  192.070,1,  203.750,2,    5.100,2,    5.800,2,    0.010,2,    0.438,2,    2.611,2,    1.345,2, -999.000,9, 2040.400,2, 2282.100,2
           NA,    P03C,    223,   1,-999.0,     -99,  2,20051221,2255,  24.2663,  169.5138,  6137,  299.500,   15.098,   34.587,2,   34.584,2,  191.160,1,  202.890,2,    7.410,2,    7.840,2,    0.000,2,    0.587,2,    2.749,2,    1.400,2, -999.000,9, 2056.400,2, 2274.200,2
           NA,    P03C,    223,   1,-999.0,     -99,  2,20051221,2255,  24.2663,  169.5138,  6137,  400.100,   12.904,   34.413,2,   34.412,2,  192.970,1,  204.590,2,   12.390,2,   11.270,2,    0.000,2,    0.825,2,    2.904,2,    1.450,2, -999.000,9, 2077.000,2, 2269.700,2
           NA,    P03C,    223,   1,-999.0,     -99,  2,20051221,2255,  24.2663,  169.5138,  6137,  501.500,    9.912,   34.190,2,   34.191,6,  177.270,1,  188.090,2,   24.200,2,   18.150,2,    0.000,2,    1.318,2,    2.892,2,    1.394,2, -999.000,9, 2123.800,2, 2269.300,2
           NA,    P03C,    223,   1,-999.0,     -99,  2,20051221,2255,  24.2663,  169.5138,  6137,  603.100,    6.846,   34.053,2,   34.058,2,  126.130,1,  134.450,2,   50.830,2,   28.680,2,    0.000,2,    2.086,2,    1.993,2,    0.925,2, -999.000,9, 2202.400,2, 2283.600,2
           NA,    P03C,    223,   1,-999.0,     -99,  2,20051221,2255,  24.2663,  169.5138,  6137,  699.100,    5.662,   34.130,2,   34.131,2,   72.040,1,   76.120,2,   74.350,2,   36.170,2,    0.000,2,    2.642,2, -999.000,5, -999.000,5, -999.000,9, 2267.700,6, 2306.500,2
           NA,    P03C,    223,   1,-999.0,     -99,  2,20051221,2255,  24.2663,  169.5138,  6137,  800.400,    4.860,   34.218,2,   34.218,2,   47.410,1,   50.620,2,   90.910,2,   39.700,2,    0.000,2,    2.903,2,    0.317,6,    0.148,6, -999.000,9, 2305.300,2, 2328.300,6
           NA,    P03C,    223,   1,-999.0,     -99,  2,20051221,2255,  24.2663,  169.5138,  6137,  900.200,    4.346,   34.332,2,   34.331,2,   39.330,1,   41.810,2,  103.930,2,   41.450,2,    0.000,2,    3.018,2,    0.098,2,    0.045,2, -999.000,9, 2326.100,2, 2348.600,2
           NA,    P03C,    223,   1,-999.0,     -99,  2,20051221,2255,  24.2663,  169.5138,  6137,  999.700,    4.012,   34.386,2,   34.386,6,   40.630,1,   43.150,2,  112.110,2,   41.820,2,    0.000,2,    3.035,2,    0.037,2,    0.020,2, -999.000,9, 2336.400,2, 2356.800,2
           NA,    P03C,    223,   1,-999.0,     -99,  2,20051221,2255,  24.2663,  169.5138,  6137, 1201.200,    3.266,   34.471,2,   34.470,2,   46.440,1,   49.160,2,  129.840,2,   42.160,2,    0.000,2,    3.042,2,    0.007,2,    0.003,2, -999.000,9, 2354.300,2, 2381.000,2
           NA,    P03C,    223,   1,-999.0,     -99,  2,20051221,2255,  24.2663,  169.5138,  6137, 1402.600,    2.848,   34.534,2,   34.533,2,   61.190,1,   65.450,2,  137.030,2,   41.350,2,    0.000,2,    2.970,2,    0.004,2,    0.002,2, -999.000,9, 2354.000,2, 2393.100,2
           NA,    P03C,    223,   1,-999.0,     -99,  2,20051221,2255,  24.2663,  169.5138,  6137, 1600.600,    2.508,   34.567,2,   34.567,2,   69.850,1,   74.950,2,  143.890,2,   41.020,2,    0.000,2,    2.922,2,    0.000,2,    0.001,2, -999.000,9, 2356.300,2, 2401.100,2
           NA,    P03C,    223,   1,-999.0,     -99,  2,20051221,2255,  24.2663,  169.5138,  6137, 1802.700,    2.205,   34.593,2,   34.593,2,   78.270,1,   84.260,2,  149.800,2,   40.440,2,    0.000,2,    2.880,2,    0.000,2,    0.004,2, -999.000,9, 2357.400,2, 2404.400,2
           NA,    P03C,    223,   1,-999.0,     -99,  2,20051221,2255,  24.2663,  169.5138,  6137, 2001.700,    2.011,   34.615,2,   34.615,2,   87.670,1,   94.530,2,  152.880,2,   39.910,2,    0.000,2,    2.837,2,    0.000,2,    0.000,2, -999.000,9, 2355.000,2, 2408.800,2
           NA,    P03C,    223,   1,-999.0,     -99,  2,20051221,2255,  24.2663,  169.5138,  6137, 2200.100,    1.866,   34.633,2,   34.633,6,   97.710,1,  105.710,2,  153.490,2,   39.250,2,    0.000,2,    2.783,2,    0.000,2,    0.000,2, -999.000,9, 2351.600,2, 2416.200,2
           NA,    P03C,    223,   1,-999.0,     -99,  2,20051221,2255,  24.2663,  169.5138,  6137, 2399.600,    1.773,   34.643,2,   34.643,2,  103.080,1,  111.650,2,  154.320,2,   38.930,2,    0.000,2,    2.749,2,    0.000,2,    0.000,2, -999.000,9, 2347.800,6, 2415.800,2
           NA,    P03C,    223,   1,-999.0,     -99,  2,20051221,2255,  24.2663,  169.5138,  6137, 2600.800,    1.693,   34.653,2,   34.653,2,  109.950,1,  119.370,2,  154.240,2,   38.400,2,    0.000,2,    2.715,2,    0.000,2,    0.000,2, -999.000,9, 2344.200,2, 2418.700,6
           NA,    P03C,    223,   1,-999.0,     -99,  2,20051221,2255,  24.2663,  169.5138,  6137, 2799.500,    1.633,   34.661,2,   34.661,2,  115.880,1,  126.010,2,  153.630,2,   37.900,2,    0.000,2,    2.676,2, -999.000,9, -999.000,9, -999.000,9, 2340.800,2, 2416.500,2
           NA,    P03C,    223,   1,-999.0,     -99,  2,20051221,2255,  24.2663,  169.5138,  6137, 2999.200,    1.590,   34.666,2,   34.666,2,  120.280,1,  130.940,2,  153.110,2,   37.640,2,    0.000,2,    2.652,2, -999.000,9, -999.000,9, -999.000,9, 2338.700,2, 2416.500,2
           NA,    P03C,    223,   1,-999.0,     -99,  2,20051221,2255,  24.2663,  169.5138,  6137, 3249.100,    1.556,   34.671,2,   34.672,2,  125.110,1,  136.370,2,  151.890,2,   37.280,2,    0.000,2,    2.614,2,    0.000,2,    0.001,2, -999.000,9, 2334.300,2, 2417.400,2
           NA,    P03C,    223,   1,-999.0,     -99,  2,20051221,2255,  24.2663,  169.5138,  6137, 3500.200,    1.525,   34.676,2,   34.676,6,  129.780,1,  141.470,2,  150.760,2,   36.910,2,    0.000,2,    2.587,2, -999.000,9, -999.000,9, -999.000,9, 2330.400,2, 2416.800,2
           NA,    P03C,    223,   1,-999.0,     -99,  2,20051221,2255,  24.2663,  169.5138,  6137, 3751.300,    1.502,   34.680,2,   34.680,2,  134.460,1,  146.710,2,  149.270,2,   36.600,2,    0.000,2,    2.562,2, -999.000,9, -999.000,9, -999.000,9, 2328.800,2, 2416.300,2
           NA,    P03C,    223,   1,-999.0,     -99,  2,20051221,2255,  24.2663,  169.5138,  6137, 4001.100,    1.488,   34.684,2,   34.684,2,  138.930,1,  151.090,2,  147.610,2,   36.260,2,    0.000,2,    2.539,2,    0.000,2,    0.000,2, -999.000,9, 2324.100,2, 2412.800,2
           NA,    P03C,    223,   1,-999.0,     -99,  2,20051221,2255,  24.2663,  169.5138,  6137, 4249.500,    1.477,   34.687,2,   34.687,2,  143.520,1,  155.660,2,  145.210,2,   35.970,2,    0.000,2,    2.510,2, -999.000,9, -999.000,9, -999.000,9, 2318.600,6, 2410.500,2
           NA,    P03C,    223,   1,-999.0,     -99,  2,20051221,2255,  24.2663,  169.5138,  6137, 4500.400,    1.465,   34.690,2,   34.691,2,  148.720,1,  160.970,2,  142.540,2,   35.560,2,    0.000,2,    2.477,2, -999.000,9, -999.000,9, -999.000,9, 2313.700,2, 2409.700,6
           NA,    P03C,    223,   1,-999.0,     -99,  2,20051221,2255,  24.2663,  169.5138,  6137, 4749.600,    1.462,   34.693,2,   34.693,6,  153.300,1,  165.580,2,  139.780,2,   35.250,2,    0.000,2,    2.460,2,    0.000,2,    0.000,2, -999.000,9, 2309.000,2, 2404.500,2
           NA,    P03C,    223,   1,-999.0,     -99,  2,20051221,2255,  24.2663,  169.5138,  6137, 4999.100,    1.461,   34.695,2,   34.695,2,  157.670,1,  169.870,2,  137.060,2,   34.930,2,    0.000,2,    2.433,2, -999.000,9, -999.000,9, -999.000,9, 2304.500,2, 2404.100,2
           NA,    P03C,    223,   1,-999.0,     -99,  2,20051221,2255,  24.2663,  169.5138,  6137, 5250.700,    1.467,   34.697,2,   34.697,2,  161.720,1,  173.480,2,  135.330,2,   34.730,2,    0.000,2,    2.415,2, -999.000,9, -999.000,9, -999.000,9, 2299.100,2, 2401.100,2
           NA,    P03C,    223,   1,-999.0,     -99,  2,20051221,2255,  24.2663,  169.5138,  6137, 5499.600,    1.478,   34.699,2,   34.699,2,  164.950,1,  175.930,2,  133.640,2,   34.480,2,    0.000,2,    2.402,2,    0.000,2,    0.000,2, -999.000,9, 2297.500,2, 2397.400,2
           NA,    P03C,    223,   1,-999.0,     -99,  2,20051221,2255,  24.2663,  169.5138,  6137, 5748.600,    1.495,   34.700,2,   34.700,2,  167.910,1,  178.070,2,  132.570,2,   34.340,2,    0.000,2,    2.392,2, -999.000,9, -999.000,9, -999.000,9, 2294.600,2, 2399.200,2
           NA,    P03C,    223,   1,-999.0,     -99,  2,20051221,2255,  24.2663,  169.5138,  6137, 6242.200,    1.546,   34.701,2,   34.701,6,  173.450,1,  180.130,2,  131.430,2,   34.240,2,    0.000,2,    2.383,2,    0.000,2,    0.000,2, -999.000,9, 2293.500,2, 2395.000,2