BOTTLE,20211903JOAExport
EXPOCODE,SECT_ID,STNNBR,CASTNO,SAMPNO,BTLNBR,BTLNBR_FLAG_W,DATE,TIME,LATITUDE,LONGITUDE,DEPTH,CTDPRS,CTDTMP,CTDSAL,CTDSAL_FLAG_W,SALNTY,SALNTY_FLAG_W,CTDOXY,CTDOXY_FLAG_W,OXYGEN,OXYGEN_FLAG_W,SILCAT,SILCAT_FLAG_W,NITRAT,NITRAT_FLAG_W,NITRIT,NITRIT_FLAG_W,PHSPHT,PHSPHT_FLAG_W,CFC-11,CFC-11_FLAG_W,CFC-12,CFC-12_FLAG_W,SF6,SF6_FLAG_W,TCARBN,TCARBN_FLAG_W,ALKALI,ALKALI_FLAG_W
,,,,,,,,,,,,DB,ITS-90,PSS-78,,PSS-78,,UMOL/KG,,UMOL/KG,,UMOL/KG,,UMOL/KG,,UMOL/KG,,UMOL/KG,,PMOL/KG,,PMOL/KG,,FMOL/KG,,UMOL/KG,,UMOL/KG
           NA,    P03E,    130,   1,-999.0,     -99,  2,20051120,0023,  25.0963, -162.0277,  3334,    9.600,   26.025,   35.255,2,   35.255,2,  189.670,1,  206.360,2,    0.950,2,    0.050,2,    0.000,2,    0.046,2,    1.622,2,    0.989,2, -999.000,9, 1980.200,2, 2321.800,2
           NA,    P03E,    130,   1,-999.0,     -99,  2,20051120,0023,  25.0963, -162.0277,  3334,   50.600,   25.535,   35.325,2,   35.329,2,  191.020,1,  208.350,2,    1.150,2,    0.040,2,    0.000,2,    0.046,2,    1.663,2,    1.006,2, -999.000,9, 1986.600,6, 2325.000,2
           NA,    P03E,    130,   1,-999.0,     -99,  2,20051120,0023,  25.0963, -162.0277,  3334,   99.700,   20.019,   35.015,2,   35.013,2,  208.700,1,  226.830,2,    2.190,2,    0.060,2,    0.020,2,    0.088,2,    2.228,2,    1.294,2, -999.000,9, 2019.100,2, 2302.300,6
           NA,    P03E,    130,   1,-999.0,     -99,  2,20051120,0023,  25.0963, -162.0277,  3334,  149.700,   17.235,   34.811,2,   34.799,2,  196.990,1,  213.070,2,    3.730,2,    2.900,2,    0.020,2,    0.286,2,    2.431,2,    1.393,2, -999.000,9, 2039.600,2, 2287.300,2
           NA,    P03E,    130,   1,-999.0,     -99,  2,20051120,0023,  25.0963, -162.0277,  3334,  199.000,   15.554,   34.616,2,   34.604,2,  189.770,1,  205.730,2,    6.030,2,    6.280,2,    0.010,2,    0.500,2,    2.587,2,    1.451,2, -999.000,9, 2056.400,2, 2274.600,2
           NA,    P03E,    130,   1,-999.0,     -99,  2,20051120,0023,  25.0963, -162.0277,  3334,  250.400,   14.023,   34.480,2,   34.478,2,  193.820,1,  211.520,2,    8.440,2,    8.340,2,    0.010,2,    0.634,2,    2.724,6,    1.524,6, -999.000,9, 2064.600,2, 2273.800,2
           NA,    P03E,    130,   1,-999.0,     -99,  2,20051120,0023,  25.0963, -162.0277,  3334,  299.500,   12.917,   34.417,2,   34.415,2,  201.780,1,  218.230,2,   10.870,2,    9.870,2,    0.000,2,    0.737,2,    2.795,2,    1.551,2, -999.000,9, 2071.800,2, 2270.400,2
           NA,    P03E,    130,   1,-999.0,     -99,  2,20051120,0023,  25.0963, -162.0277,  3334,  404.300,   10.184,   34.184,2,   34.184,2,  186.250,1,  201.300,2,   20.550,2,   16.330,2,    0.000,2,    1.185,2,    2.917,2,    1.551,2, -999.000,9, 2114.200,2, 2266.700,2
           NA,    P03E,    130,   1,-999.0,     -99,  2,20051120,0023,  25.0963, -162.0277,  3334,  501.400,    8.021,   34.075,2,   34.074,6,  147.450,1,  158.310,2,   37.910,2,   24.630,2,    0.000,2,    1.772,2,    2.433,2,    1.199,2, -999.000,9, 2172.300,2, 2274.300,2
           NA,    P03E,    130,   1,-999.0,     -99,  2,20051120,0023,  25.0963, -162.0277,  3334,  603.100,    6.230,   34.050,2,   34.051,2,   99.220,1,  105.510,2,   60.860,2,   32.720,2,    0.000,2,    2.368,2,    1.439,2,    0.692,2, -999.000,9, 2238.700,2, 2291.300,2
           NA,    P03E,    130,   1,-999.0,     -99,  2,20051120,0023,  25.0963, -162.0277,  3334,  700.900,    5.054,   34.141,2,   34.141,2,   51.190,1,   54.890,2,   84.620,2,   39.020,2,    0.000,2,    2.848,2,    0.476,2,    0.255,2, -999.000,9, 2298.800,6, 2317.500,2
           NA,    P03E,    130,   1,-999.0,     -99,  2,20051120,0023,  25.0963, -162.0277,  3334,  800.900,    4.526,   34.241,2,   34.240,2,   35.460,1,   38.340,2,   98.330,2,   41.210,2,    0.000,2,    3.016,2,    0.197,6,    0.104,6, -999.000,9, 2325.600,2, 2336.300,6
           NA,    P03E,    130,   1,-999.0,     -99,  2,20051120,0023,  25.0963, -162.0277,  3334,  900.900,    4.110,   34.342,2,   34.343,2,   32.130,1,   34.700,2,  109.650,2,   42.190,2,    0.000,2,    3.071,2,    0.070,2,    0.037,2, -999.000,9, 2342.500,2, 2355.000,2
           NA,    P03E,    130,   1,-999.0,     -99,  2,20051120,0023,  25.0963, -162.0277,  3334,  999.800,    3.852,   34.412,2,   34.414,6,   36.360,1,   39.160,2,  115.560,2,   42.350,2,    0.000,2,    3.080,2,    0.028,2,    0.015,2, -999.000,9, 2348.600,2, 2363.600,2
           NA,    P03E,    130,   1,-999.0,     -99,  2,20051120,0023,  25.0963, -162.0277,  3334, 1201.400,    3.430,   34.494,2,   34.494,2,   47.390,1,   50.990,2,  124.270,2,   42.030,2,    0.000,2,    3.046,2,    0.008,2,    0.007,2, -999.000,9, 2353.500,2, 2379.900,2
           NA,    P03E,    130,   1,-999.0,     -99,  2,20051120,0023,  25.0963, -162.0277,  3334, 1399.800,    3.001,   34.533,2,   34.533,2,   54.700,1,   59.240,2,  134.200,2,   41.860,2,    0.000,2,    3.014,2,    0.008,2,    0.003,2, -999.000,9, 2359.600,2, 2391.400,2
           NA,    P03E,    130,   1,-999.0,     -99,  2,20051120,0023,  25.0963, -162.0277,  3334, 1599.100,    2.592,   34.571,2,   34.572,2,   65.410,1,   71.050,2,  143.450,2,   41.240,2,    0.000,2,    2.958,2,    0.001,2,    0.000,2, -999.000,9, 2362.100,2, 2400.500,2
           NA,    P03E,    130,   1,-999.0,     -99,  2,20051120,0023,  25.0963, -162.0277,  3334, 1801.200,    2.188,   34.603,2,   34.603,2,   76.800,1,   83.190,2,  152.300,2,   40.580,2,    0.000,2,    2.896,2,    0.003,2,    0.000,2, -999.000,9, 2363.600,2, 2412.300,2
           NA,    P03E,    130,   1,-999.0,     -99,  2,20051120,0023,  25.0963, -162.0277,  3334, 2000.300,    2.024,   34.618,2,   34.618,6,   83.260,1,   90.290,2,  156.000,2,   40.160,2,    0.000,2,    2.867,2,    0.000,2,    0.001,2, -999.000,9, 2361.100,2, 2418.600,2
           NA,    P03E,    130,   1,-999.0,     -99,  2,20051120,0023,  25.0963, -162.0277,  3334, 2199.100,    1.890,   34.630,2,   34.630,2,   89.820,1,   97.610,2,  158.380,2,   39.830,2,    0.000,2,    2.830,2,    0.000,2,    0.001,2, -999.000,9, 2360.900,2, 2415.200,2
           NA,    P03E,    130,   1,-999.0,     -99,  2,20051120,0023,  25.0963, -162.0277,  3334, 2400.900,    1.795,   34.639,2,   34.639,2,   95.440,1,  103.600,2,  159.530,2,   39.410,2,    0.000,2,    2.793,2,    0.000,2,    0.000,2, -999.000,9, 2357.400,6, 2419.700,2
           NA,    P03E,    130,   1,-999.0,     -99,  2,20051120,0023,  25.0963, -162.0277,  3334, 2601.600,    1.714,   34.648,2,   34.647,6,  101.390,1,  109.750,2,  160.260,2,   39.010,2,    0.000,2,    2.761,2,    0.000,2,    0.000,2, -999.000,9, 2355.800,2, 2419.600,6
           NA,    P03E,    130,   1,-999.0,     -99,  2,20051120,0023,  25.0963, -162.0277,  3334, 2801.900,    1.645,   34.656,2,   34.656,2,  108.150,1,  117.080,2,  160.080,2,   38.560,2,    0.000,2,    2.723,2,    0.000,2,    0.001,2, -999.000,9, 2352.700,2, 2424.500,2
           NA,    P03E,    130,   1,-999.0,     -99,  2,20051120,0023,  25.0963, -162.0277,  3334, 3000.400,    1.569,   34.665,2,   34.665,6,  116.010,1,  125.270,2,  159.370,2,   37.980,2,    0.000,2,    2.677,2,    0.000,2,    0.000,2, -999.000,9, 2347.900,2, 2422.700,2
           NA,    P03E,    130,   1,-999.0,     -99,  2,20051120,0023,  25.0963, -162.0277,  3334, 3251.000,    1.533,   34.670,2,   34.671,2,  122.210,1,  131.450,2,  158.200,2,   37.500,2,    0.000,2,    2.631,2,    0.000,2,    0.001,2, -999.000,9, 2343.800,2, 2421.500,2
           NA,    P03E,    130,   1,-999.0,     -99,  2,20051120,0023,  25.0963, -162.0277,  3334, 3410.700,    1.529,   34.672,2,   34.672,6,  124.540,1,  133.310,2,  157.800,2,   37.410,2,    0.000,2,    2.635,2,    0.001,2,    0.003,2, -999.000,9, 2343.200,2, 2422.500,2
           NA,    P03E,    128,   1,-999.0,     -99,  2,20051119,1215,  25.8452, -161.2560,  4995,    9.300,   25.456,   35.333,2,   35.334,2,  190.450,1,  207.340,2,    0.970,2,    0.050,2,    0.010,2,    0.044,2,    1.679,2,    1.009,2, -999.000,9, 1985.700,2, 2321.700,2
           NA,    P03E,    128,   1,-999.0,     -99,  2,20051119,1215,  25.8452, -161.2560,  4995,   49.500,   25.384,   35.346,2,   35.322,2,  190.940,1,  211.360,2,    1.110,2,    0.040,2,    0.010,2,    0.036,2,    1.737,2,    1.041,2, -999.000,9, 1991.300,6, 2322.100,2
           NA,    P03E,    128,   1,-999.0,     -99,  2,20051119,1215,  25.8452, -161.2560,  4995,   99.200,   19.335,   34.953,2,   34.944,2,  212.270,1,  229.730,2,    2.450,2,    0.150,2,    0.030,2,    0.095,2,    2.343,2,    1.339,2, -999.000,9, 2020.200,2, 2299.300,6
           NA,    P03E,    128,   1,-999.0,     -99,  2,20051119,1215,  25.8452, -161.2560,  4995,  149.100,   16.600,   34.738,2,   34.740,2,  196.250,1,  212.860,2,    4.120,2,    3.620,2,    0.020,2,    0.321,2,    2.518,2,    1.427,2, -999.000,9, 2041.300,2, 2281.800,2
           NA,    P03E,    128,   1,-999.0,     -99,  2,20051119,1215,  25.8452, -161.2560,  4995,  198.800,   15.145,   34.593,2,   34.586,2,  196.170,1,  212.630,2,    6.390,2,    6.390,2,    0.010,2,    0.495,2,    2.665,2,    1.492,2, -999.000,9, 2053.300,2, 2276.000,2
           NA,    P03E,    128,   1,-999.0,     -99,  2,20051119,1215,  25.8452, -161.2560,  4995,  249.700,   13.243,   34.417,2,   34.416,2,  198.580,1,  215.050,2,    9.550,2,    9.260,2,    0.010,2,    0.692,2,    2.840,2,    1.572,2, -999.000,9, 2065.100,2, 2268.300,2
           NA,    P03E,    128,   1,-999.0,     -99,  2,20051119,1215,  25.8452, -161.2560,  4995,  303.900,   12.145,   34.321,2,   34.325,2,  198.440,1,  215.140,2,   12.070,2,   11.170,2,    0.000,2,    0.822,2,    2.951,2,    1.614,2, -999.000,9, 2080.800,2, 2265.300,2
           NA,    P03E,    128,   1,-999.0,     -99,  2,20051119,1215,  25.8452, -161.2560,  4995,  401.500,    9.413,   34.140,2,   34.139,2,  170.600,1,  184.320,2,   25.960,2,   19.280,2,    0.000,2,    1.402,2,    2.813,2,    1.444,2, -999.000,9, 2135.600,2, 2269.500,2
           NA,    P03E,    128,   1,-999.0,     -99,  2,20051119,1215,  25.8452, -161.2560,  4995,  499.800,    7.351,   34.062,2,   34.063,6,  127.060,1,  136.810,2,   45.710,2,   27.660,2,    0.010,2,    2.005,2,    2.081,2,    1.002,2, -999.000,9, 2196.700,2, 2280.600,2
           NA,    P03E,    128,   1,-999.0,     -99,  2,20051119,1215,  25.8452, -161.2560,  4995,  599.200,    5.866,   34.055,2,   34.056,2,   73.910,1,   79.340,2,   66.260,2,   35.590,2,    0.000,2,    2.599,2,    0.960,2,    0.472,2, -999.000,9, 2260.800,2, 2293.300,2
           NA,    P03E,    128,   1,-999.0,     -99,  2,20051119,1215,  25.8452, -161.2560,  4995,  699.300,    5.001,   34.174,2,   34.175,2,   32.080,1,   34.190,2,   87.520,2,   40.870,2,    0.000,2,    3.011,2,    0.201,2,    0.108,2, -999.000,9, 2315.200,6, 2322.300,2
           NA,    P03E,    128,   1,-999.0,     -99,  2,20051119,1215,  25.8452, -161.2560,  4995,  798.500,    4.406,   34.273,2,   34.273,2,   20.450,1,   21.980,2,  103.250,2,   42.780,2,    0.000,2,    3.145,2,    0.054,6,    0.034,6, -999.000,9, 2344.100,2, 2341.600,6
           NA,    P03E,    128,   1,-999.0,     -99,  2,20051119,1215,  25.8452, -161.2560,  4995,  899.200,    4.054,   34.364,2,   34.365,2,   23.660,1,   25.480,2,  112.110,2,   42.920,2,    0.000,2,    3.139,2,    0.021,2,    0.013,2, -999.000,9, 2353.900,2, 2356.100,2
           NA,    P03E,    128,   1,-999.0,     -99,  2,20051119,1215,  25.8452, -161.2560,  4995, 1001.000,    3.793,   34.431,2,   34.430,6,   31.410,1,   33.900,2,  118.130,2,   42.800,2,    0.010,2,    3.126,2,    0.012,2,    0.011,2, -999.000,9, 2353.900,2, 2370.400,2
           NA,    P03E,    128,   1,-999.0,     -99,  2,20051119,1215,  25.8452, -161.2560,  4995, 1201.900,    3.368,   34.504,2,   34.504,2,   45.110,1,   48.950,2,  126.540,2,   42.190,2,    0.000,2,    3.057,2,    0.000,2,    0.001,2, -999.000,9, 2355.900,2, 2382.700,2
           NA,    P03E,    128,   1,-999.0,     -99,  2,20051119,1215,  25.8452, -161.2560,  4995, 1398.500,    2.951,   34.544,2,   34.545,2,   55.290,1,   60.250,2,  135.640,2,   41.770,2,    0.010,2,    3.013,2,    0.001,2,    0.000,2, -999.000,9, 2364.200,2, 2395.100,2
           NA,    P03E,    128,   1,-999.0,     -99,  2,20051119,1215,  25.8452, -161.2560,  4995, 1601.100,    2.562,   34.576,2,   34.576,2,   64.870,1,   70.790,2,  144.960,2,   41.210,2,    0.010,2,    2.968,2,    0.003,2,    0.000,2, -999.000,9, 2363.100,2, 2402.200,2
           NA,    P03E,    128,   1,-999.0,     -99,  2,20051119,1215,  25.8452, -161.2560,  4995, 1800.800,    2.302,   34.597,2,   34.597,6,   71.780,1,   78.150,2,  151.220,2,   40.860,2,    0.000,2,    2.921,2,    0.000,2,    0.000,2, -999.000,9, 2364.000,2, 2411.000,2
           NA,    P03E,    128,   1,-999.0,     -99,  2,20051119,1215,  25.8452, -161.2560,  4995, 1999.900,    2.053,   34.616,2,   34.616,2,   79.650,1,   86.960,2,  157.140,2,   40.240,2,    0.010,2,    2.875,2,    0.000,2,    0.000,2, -999.000,9, 2364.700,2, 2413.700,2
           NA,    P03E,    128,   1,-999.0,     -99,  2,20051119,1215,  25.8452, -161.2560,  4995, 2200.000,    1.896,   34.630,2,   34.630,2,   87.530,1,   95.750,2,  159.730,2,   39.780,2,    0.010,2,    2.835,2, -999.000,9, -999.000,9, -999.000,9, 2364.900,2, 2420.600,2
           NA,    P03E,    128,   1,-999.0,     -99,  2,20051119,1215,  25.8452, -161.2560,  4995, 2400.900,    1.773,   34.642,2,   34.642,2,   94.890,1,  103.890,2,  160.820,2,   39.250,2,    0.010,2,    2.792,2,    0.000,2,    0.000,2, -999.000,9, 2359.800,6, 2422.000,2
           NA,    P03E,    128,   1,-999.0,     -99,  2,20051119,1215,  25.8452, -161.2560,  4995, 2599.700,    1.679,   34.652,2,   34.652,6,  101.850,1,  111.610,2,  161.650,2,   38.770,2,    0.010,2,    2.745,2, -999.000,9, -999.000,9, -999.000,9, 2353.700,2, 2426.100,6
           NA,    P03E,    128,   1,-999.0,     -99,  2,20051119,1215,  25.8452, -161.2560,  4995, 2799.800,    1.599,   34.660,2,   34.660,2,  109.140,1,  119.580,2,  161.010,2,   38.240,2,    0.010,2,    2.705,2, -999.000,9, -999.000,9, -999.000,9, 2351.400,2, 2426.400,2
           NA,    P03E,    128,   1,-999.0,     -99,  2,20051119,1215,  25.8452, -161.2560,  4995, 3000.400,    1.546,   34.667,2,   34.666,2,  115.380,1,  126.360,2,  159.820,2,   37.820,2,    0.000,2,    2.674,2,    0.002,2,    0.000,2, -999.000,9, 2349.800,2, 2423.900,2
           NA,    P03E,    128,   1,-999.0,     -99,  2,20051119,1215,  25.8452, -161.2560,  4995, 3250.200,    1.498,   34.674,2,   34.673,2,  122.520,1,  134.190,2,  157.910,2,   37.230,2,    0.000,2,    2.623,2, -999.000,9, -999.000,9, -999.000,9, 2345.200,2, 2428.200,2
           NA,    P03E,    128,   1,-999.0,     -99,  2,20051119,1215,  25.8452, -161.2560,  4995, 3500.300,    1.478,   34.678,2,   34.678,2,  127.560,1,  139.710,2,  156.750,2,   36.890,2,    0.000,2,    2.596,2, -999.000,9, -999.000,9, -999.000,9, 2336.200,2, 2423.900,2
           NA,    P03E,    128,   1,-999.0,     -99,  2,20051119,1215,  25.8452, -161.2560,  4995, 3751.500,    1.462,   34.682,2,   34.682,2,  132.500,1,  144.800,2,  155.480,2,   36.510,2,    0.010,2,    2.566,2,    0.004,2,    0.000,2, -999.000,9, 2335.400,2, 2426.200,2
           NA,    P03E,    128,   1,-999.0,     -99,  2,20051119,1215,  25.8452, -161.2560,  4995, 4000.800,    1.464,   34.685,2,   34.684,6,  135.860,1,  148.170,2,  154.160,2,   36.370,2,    0.010,2,    2.562,2, -999.000,9, -999.000,9, -999.000,9, 2332.600,2, 2424.500,2
           NA,    P03E,    128,   1,-999.0,     -99,  2,20051119,1215,  25.8452, -161.2560,  4995, 4251.500,    1.471,   34.687,2,   34.686,2,  138.880,1,  150.900,2,  153.170,2,   36.160,2,    0.010,2,    2.537,2, -999.000,9, -999.000,9, -999.000,9, 2331.700,6, 2421.100,2
           NA,    P03E,    128,   1,-999.0,     -99,  2,20051119,1215,  25.8452, -161.2560,  4995, 4499.100,    1.485,   34.688,2,   34.688,2,  141.410,1,  153.000,2,  152.270,2,   36.010,2,    0.010,2,    2.529,2,    0.000,2,    0.000,2, -999.000,9, 2329.000,2, 2421.000,6
           NA,    P03E,    128,   1,-999.0,     -99,  2,20051119,1215,  25.8452, -161.2560,  4995, 4749.100,    1.507,   34.689,2,   34.689,2,  143.310,1,  154.410,2,  151.420,2,   35.940,2,    0.000,2,    2.526,2, -999.000,9, -999.000,9, -999.000,9, 2328.300,2, 2424.600,2
           NA,    P03E,    128,   1,-999.0,     -99,  2,20051119,1215,  25.8452, -161.2560,  4995, 5000.600,    1.530,   34.690,2,   34.690,2,  145.390,1,  155.620,2,  150.650,2,   35.810,2,    0.010,2,    2.509,2, -999.000,9, -999.000,9, -999.000,9, 2324.300,2, 2417.200,2
           NA,    P03E,    128,   1,-999.0,     -99,  2,20051119,1215,  25.8452, -161.2560,  4995, 5068.200,    1.537,   34.690,2,   34.690,6,  146.230,1,  156.180,2,  150.310,2,   35.750,2,    0.000,2,    2.510,2,    0.000,2,    0.000,2, -999.000,9, 2327.200,2, 2423.000,2