BOTTLE,20211903JOAExport
EXPOCODE,SECT_ID,STNNBR,CASTNO,SAMPNO,BTLNBR,BTLNBR_FLAG_W,DATE,TIME,LATITUDE,LONGITUDE,DEPTH,CTDPRS,CTDTMP,CTDSAL,CTDSAL_FLAG_W,SALNTY,SALNTY_FLAG_W,CTDOXY,CTDOXY_FLAG_W,OXYGEN,OXYGEN_FLAG_W,SILCAT,SILCAT_FLAG_W,NITRAT,NITRAT_FLAG_W,NITRIT,NITRIT_FLAG_W,PHSPHT,PHSPHT_FLAG_W,CFC-11,CFC-11_FLAG_W,CFC-12,CFC-12_FLAG_W,SF6,SF6_FLAG_W,TCARBN,TCARBN_FLAG_W,ALKALI,ALKALI_FLAG_W
,,,,,,,,,,,,DB,ITS-90,PSS-78,,PSS-78,,UMOL/KG,,UMOL/KG,,UMOL/KG,,UMOL/KG,,UMOL/KG,,UMOL/KG,,PMOL/KG,,PMOL/KG,,FMOL/KG,,UMOL/KG,,UMOL/KG
           NA,    P03C,    367,   1,-999.0,     -99,  2,20060113,1021,  25.7608,  127.2908,  1186,    9.800,   22.447,   34.708,2,   34.708,2,  198.540,1,  215.730,2,    1.180,2,    0.040,2,    0.020,2,    0.062,2,    1.841,2,    1.106,2, -999.000,9, -999.000,9, -999.000,9
           NA,    P03C,    367,   1,-999.0,     -99,  2,20060113,1021,  25.7608,  127.2908,  1186,   50.300,   22.313,   34.776,2,   34.775,2,  197.620,1,  214.680,2,    1.230,2,    0.030,2,    0.020,2,    0.058,2,    1.836,2,    1.097,2, -999.000,9, -999.000,9, -999.000,9
           NA,    P03C,    367,   1,-999.0,     -99,  2,20060113,1021,  25.7608,  127.2908,  1186,   98.700,   22.137,   34.826,2,   34.827,2,  196.960,1,  214.040,2,    1.230,2,    0.060,2,    0.030,2,    0.053,2,    1.850,2,    1.099,2, -999.000,9, -999.000,9, -999.000,9
           NA,    P03C,    367,   1,-999.0,     -99,  2,20060113,1021,  25.7608,  127.2908,  1186,  150.700,   19.604,   34.904,2,   34.905,2,  184.670,1,  200.320,2,    2.340,2,    2.210,2,    0.030,2,    0.203,2,    2.148,2,    1.254,2, -999.000,9, -999.000,9, -999.000,9
           NA,    P03C,    367,   1,-999.0,     -99,  2,20060113,1021,  25.7608,  127.2908,  1186,  200.200,   18.111,   34.834,2,   34.834,2,  185.980,1,  201.620,2,    3.290,2,    3.900,2,    0.010,2,    0.302,2,    2.279,2,    1.321,2, -999.000,9, -999.000,9, -999.000,9
           NA,    P03C,    367,   1,-999.0,     -99,  2,20060113,1021,  25.7608,  127.2908,  1186,  250.800,   17.281,   34.790,2,   34.789,2,  191.370,1,  207.450,2,    3.880,2,    4.560,2,    0.010,2,    0.342,2,    2.343,6,    1.354,6, -999.000,9, -999.000,9, -999.000,9
           NA,    P03C,    367,   1,-999.0,     -99,  2,20060113,1021,  25.7608,  127.2908,  1186,  301.300,   16.340,   34.709,2,   34.709,2,  185.820,1,  201.050,2,    5.920,2,    6.540,2,    0.010,2,    0.476,2,    2.424,2,    1.373,2, -999.000,9, -999.000,9, -999.000,9
           NA,    P03C,    367,   1,-999.0,     -99,  2,20060113,1021,  25.7608,  127.2908,  1186,  403.000,   14.405,   34.549,2,   34.549,2,  176.060,1,  190.070,2,   11.180,2,   10.430,2,    0.010,2,    0.754,2,    2.510,2,    1.377,2, -999.000,9, -999.000,9, -999.000,9
           NA,    P03C,    367,   1,-999.0,     -99,  2,20060113,1021,  25.7608,  127.2908,  1186,  500.100,   11.255,   34.318,2,   34.319,6,  156.070,1,  168.040,2,   21.990,2,   17.450,2,    0.000,2,    1.277,2,    2.366,2,    1.207,2, -999.000,9, -999.000,9, -999.000,9
           NA,    P03C,    367,   1,-999.0,     -99,  2,20060113,1021,  25.7608,  127.2908,  1186,  601.400,    8.824,   34.207,2,   34.207,2,  134.180,1,  143.910,2,   40.680,2,   24.220,2,    0.000,2,    1.765,2,    1.917,2,    0.948,2, -999.000,9, -999.000,9, -999.000,9
           NA,    P03C,    367,   1,-999.0,     -99,  2,20060113,1021,  25.7608,  127.2908,  1186,  701.100,    6.934,   34.171,2,   34.171,2,  103.920,1,  111.380,2,   60.620,2,   30.520,2,    0.000,2,    2.234,2,    1.280,2,    0.636,2, -999.000,9, -999.000,9, -999.000,9
           NA,    P03C,    367,   1,-999.0,     -99,  2,20060113,1021,  25.7608,  127.2908,  1186,  801.500,    5.517,   34.190,2,   34.191,2,   77.600,1,   83.070,2,   81.150,2,   35.610,2,    0.000,2,    2.595,2,    0.781,6,    0.389,6, -999.000,9, -999.000,9, -999.000,9
           NA,    P03C,    367,   1,-999.0,     -99,  2,20060113,1021,  25.7608,  127.2908,  1186,  901.100,    4.545,   34.288,2,   34.287,2,   60.440,1,   64.550,2,  100.760,2,   38.670,2,    0.000,2,    2.817,2,    0.366,2,    0.179,2, -999.000,9, -999.000,9, -999.000,9
           NA,    P03C,    367,   1,-999.0,     -99,  2,20060113,1021,  25.7608,  127.2908,  1186,  999.500,    3.899,   34.369,2, -999.000,3,   57.390,1,   61.550,2,  115.410,2,   39.950,2,    0.000,2,    2.892,2,    0.185,2,    0.097,2, -999.000,9, -999.000,9, -999.000,9
           NA,    P03C,    367,   1,-999.0,     -99,  2,20060113,1021,  25.7608,  127.2908,  1186, 1146.900,    3.031,   34.490,2,   34.489,6,   71.240,1,   76.230,2,  131.090,2,   39.870,2,    0.000,2,    2.863,2,    0.059,2,    0.035,2, -999.000,9, -999.000,9, -999.000,9
           NA,    P03C,    365,   1,-999.0,     -99,  2,20060113,1325,  25.6200,  127.4077,  2139,   10.200,   21.763,   34.738,2,   34.738,2,  201.560,1,  219.110,2,    1.370,2,    0.050,2,    0.010,2,    0.059,2,    1.929,2,    1.118,2, -999.000,9, 1967.500,2, 2282.400,2
           NA,    P03C,    365,   1,-999.0,     -99,  2,20060113,1325,  25.6200,  127.4077,  2139,   49.700,   21.706,   34.764,2,   34.764,2,  200.140,1,  217.790,2,    1.390,2,    0.070,2,    0.020,2,    0.066,2,    1.932,2,    1.125,2, -999.000,9, 1971.800,6, 2283.700,2
           NA,    P03C,    365,   1,-999.0,     -99,  2,20060113,1325,  25.6200,  127.4077,  2139,  100.500,   21.031,   34.886,2,   34.885,2,  181.160,1,  197.430,2,    2.170,2,    1.730,2,    0.070,2,    0.179,2,    2.031,2,    1.177,2, -999.000,9, 2005.000,2, 2291.300,6
           NA,    P03C,    365,   1,-999.0,     -99,  2,20060113,1325,  25.6200,  127.4077,  2139,  149.600,   19.421,   34.882,2,   34.883,2,  178.330,1,  193.510,2,    3.120,2,    3.320,2,    0.010,2,    0.272,2,    2.197,2,    1.254,2, -999.000,9, 2024.900,2, 2289.500,2
           NA,    P03C,    365,   1,-999.0,     -99,  2,20060113,1325,  25.6200,  127.4077,  2139,  199.700,   17.990,   34.816,2,   34.816,2,  176.640,1,  191.660,2,    3.990,2,    4.940,2,    0.010,2,    0.379,2,    2.351,2,    1.318,2, -999.000,9, 2039.200,2, 2285.600,2
           NA,    P03C,    365,   1,-999.0,     -99,  2,20060113,1325,  25.6200,  127.4077,  2139,  249.900,   17.163,   34.755,2,   34.752,2,  179.030,1,  194.490,2,    4.900,2,    5.890,2,    0.000,2,    0.441,2,    2.430,6,    1.339,6, -999.000,9, 2040.600,2, 2282.400,2
           NA,    P03C,    365,   1,-999.0,     -99,  2,20060113,1325,  25.6200,  127.4077,  2139,  299.100,   16.397,   34.714,2,   34.714,2,  186.130,1,  201.850,2,    5.860,2,    6.400,2,    0.000,2,    0.467,2,    2.478,2,    1.363,2, -999.000,9, 2039.800,2, 2281.500,2
           NA,    P03C,    365,   1,-999.0,     -99,  2,20060113,1325,  25.6200,  127.4077,  2139,  399.500,   14.132,   34.528,2,   34.524,2,  175.560,1,  189.230,2,   12.090,2,   11.050,2,    0.000,2,    0.801,2,    2.585,2,    1.360,2, -999.000,9, 2076.800,2, 2273.000,2
           NA,    P03C,    365,   1,-999.0,     -99,  2,20060113,1325,  25.6200,  127.4077,  2139,  502.200,   11.203,   34.326,2,   34.326,6,  160.330,1,  173.190,2,   23.790,2,   17.260,2,    0.000,2,    1.260,2,    2.475,2,    1.249,2, -999.000,9, 2121.900,2, 2276.600,2
           NA,    P03C,    365,   1,-999.0,     -99,  2,20060113,1325,  25.6200,  127.4077,  2139,  600.000,    8.615,   34.188,2,   34.187,2,  133.490,1,  143.910,2,   41.370,2,   24.500,2,    0.000,2,    1.803,2,    2.003,2,    0.981,2, -999.000,9, 2177.000,2, 2281.200,2
           NA,    P03C,    365,   1,-999.0,     -99,  2,20060113,1325,  25.6200,  127.4077,  2139,  698.900,    6.666,   34.165,2,   34.166,2,  100.170,1,  107.410,2,   63.990,2,   31.390,2,    0.000,2,    2.306,2,    1.300,2,    0.623,2, -999.000,9, 2235.700,6, 2302.100,2
           NA,    P03C,    365,   1,-999.0,     -99,  2,20060113,1325,  25.6200,  127.4077,  2139,  800.400,    5.307,   34.219,2,   34.222,2,   72.450,1,   77.530,2,   87.000,2,   36.420,2,    0.000,2,    2.665,2,    0.701,6,    0.337,6, -999.000,9, 2284.900,2, 2322.000,6
           NA,    P03C,    365,   1,-999.0,     -99,  2,20060113,1325,  25.6200,  127.4077,  2139,  899.700,    4.538,   34.273,2,   34.273,2,   58.690,1,   63.230,2,  100.480,2,   38.860,2,    0.000,2,    2.829,2,    0.431,2,    0.211,2, -999.000,9, 2306.900,2, 2338.800,2
           NA,    P03C,    365,   1,-999.0,     -99,  2,20060113,1325,  25.6200,  127.4077,  2139, 1000.000,    3.959,   34.351,2,   34.352,6,   54.350,1,   58.050,2,  113.910,2,   40.070,2,    0.000,2,    2.911,2,    0.221,2,    0.102,2, -999.000,9, 2328.900,2, 2354.500,2
           NA,    P03C,    365,   1,-999.0,     -99,  2,20060113,1325,  25.6200,  127.4077,  2139, 1203.100,    3.221,   34.454,2,   34.454,2,   61.960,1,   66.290,2,  128.970,2,   40.340,2,    0.000,2,    2.914,2,    0.081,2,    0.062,2, -999.000,9, 2344.400,2, 2376.400,2
           NA,    P03C,    365,   1,-999.0,     -99,  2,20060113,1325,  25.6200,  127.4077,  2139, 1401.600,    2.839,   34.510,2,   34.509,6,   71.350,1,   76.510,2,  135.320,2,   39.990,2,    0.000,2,    2.886,2,    0.029,2,    0.011,2, -999.000,9, 2346.900,2, 2387.800,2
           NA,    P03C,    365,   1,-999.0,     -99,  2,20060113,1325,  25.6200,  127.4077,  2139, 1598.500,    2.514,   34.551,2,   34.551,2,   83.030,1,   88.920,2,  139.370,2,   39.490,2,    0.000,2,    2.834,2,    0.014,2,    0.006,2, -999.000,9, 2345.600,2, 2394.000,2
           NA,    P03C,    365,   1,-999.0,     -99,  2,20060113,1325,  25.6200,  127.4077,  2139, 1801.400,    2.260,   34.578,2,   34.578,6,   92.120,1,   98.640,2,  142.110,2,   38.980,2,    0.000,2,    2.793,2,    0.007,2,    0.006,2, -999.000,9, 2345.200,2, 2400.700,2
           NA,    P03C,    365,   1,-999.0,     -99,  2,20060113,1325,  25.6200,  127.4077,  2139, 2000.000,    2.092,   34.599,2,   34.599,2,  100.360,1,  107.450,2,  143.190,2,   38.540,2,    0.000,2,    2.752,2,    0.004,2,    0.007,2, -999.000,9, 2342.500,2, 2403.500,2
           NA,    P03C,    365,   1,-999.0,     -99,  2,20060113,1325,  25.6200,  127.4077,  2139, 2150.200,    1.966,   34.619,2,   34.618,6,  108.380,1,  116.010,2,  143.330,2,   38.090,2,    0.000,2,    2.716,2,    0.001,2,    0.001,2, -999.000,9, 2343.200,2, 2407.600,2
           NA,    P03C,    363,   1,-999.0,     -99,  2,20060113,1720,  25.4655,  127.5120,  2343,   10.400,   22.342,   34.704,2,   34.704,2,  198.310,1,  215.770,2,    1.290,2,    0.040,2,    0.020,2,    0.062,2,    1.822,2,    1.085,2, -999.000,9, -999.000,9, -999.000,9
           NA,    P03C,    363,   1,-999.0,     -99,  2,20060113,1720,  25.4655,  127.5120,  2343,   50.800,   22.448,   34.798,2,   34.798,2,  197.190,1,  214.550,2,    1.240,2,    0.020,2,    0.010,2,    0.051,2,    1.791,2,    1.069,2, -999.000,9, -999.000,9, -999.000,9
           NA,    P03C,    363,   1,-999.0,     -99,  2,20060113,1720,  25.4655,  127.5120,  2343,   99.500,   22.306,   34.859,2,   34.862,2,  195.910,1,  212.840,2,    1.330,2,    0.110,2,    0.020,2,    0.059,2,    1.812,2,    1.086,2, -999.000,9, -999.000,9, -999.000,9
           NA,    P03C,    363,   1,-999.0,     -99,  2,20060113,1720,  25.4655,  127.5120,  2343,  149.600,   19.437,   34.897,2,   34.895,2,  181.730,1,  197.640,2,    2.630,2,    2.880,2,    0.010,2,    0.240,2,    2.138,2,    1.245,2, -999.000,9, -999.000,9, -999.000,9
           NA,    P03C,    363,   1,-999.0,     -99,  2,20060113,1720,  25.4655,  127.5120,  2343,  199.900,   18.126,   34.817,2,   34.812,2,  178.530,1,  193.710,2,    4.160,2,    4.860,2,    0.010,2,    0.373,2,    2.243,2,    1.286,2, -999.000,9, -999.000,9, -999.000,9
           NA,    P03C,    363,   1,-999.0,     -99,  2,20060113,1720,  25.4655,  127.5120,  2343,  250.500,   16.904,   34.734,2,   34.732,2,  176.550,1,  191.380,2,    5.870,2,    6.590,2,    0.010,2,    0.493,2,    2.313,6,    1.309,6, -999.000,9, -999.000,9, -999.000,9
           NA,    P03C,    363,   1,-999.0,     -99,  2,20060113,1720,  25.4655,  127.5120,  2343,  300.100,   16.544,   34.707,2,   34.704,2,  176.440,1,  191.320,2,    6.500,2,    7.150,2,    0.000,2,    0.533,2,    2.337,2,    1.320,2, -999.000,9, -999.000,9, -999.000,9
           NA,    P03C,    363,   1,-999.0,     -99,  2,20060113,1720,  25.4655,  127.5120,  2343,  399.100,   13.722,   34.490,2,   34.478,2,  163.970,1,  179.420,2,   13.980,2,   12.750,2,    0.000,2,    0.930,2,    2.389,2,    1.285,2, -999.000,9, -999.000,9, -999.000,9
           NA,    P03C,    363,   1,-999.0,     -99,  2,20060113,1720,  25.4655,  127.5120,  2343,  500.300,   10.797,   34.289,2,   34.284,6,  152.860,1,  164.120,2,   24.940,2,   18.860,2,    0.000,2,    1.380,2,    2.257,2,    1.154,2, -999.000,9, -999.000,9, -999.000,9
           NA,    P03C,    363,   1,-999.0,     -99,  2,20060113,1720,  25.4655,  127.5120,  2343,  599.700,    8.414,   34.178,2,   34.176,2,  130.340,1,  139.010,2,   43.390,2,   25.590,2,    0.000,2,    1.864,2,    1.803,2,    0.896,2, -999.000,9, -999.000,9, -999.000,9
           NA,    P03C,    363,   1,-999.0,     -99,  2,20060113,1720,  25.4655,  127.5120,  2343,  699.200,    6.260,   34.154,2,   34.159,2,   93.280,1,   98.050,2,   69.990,2,   33.180,2,    0.000,2,    2.425,2,    1.050,2,    0.525,2, -999.000,9, -999.000,9, -999.000,9
           NA,    P03C,    363,   1,-999.0,     -99,  2,20060113,1720,  25.4655,  127.5120,  2343,  801.600,    5.269,   34.225,2,   34.224,2,   72.720,1,   77.910,2,   86.860,2,   36.440,2,    0.000,2,    2.655,2,    0.636,6,    0.327,6, -999.000,9, -999.000,9, -999.000,9
           NA,    P03C,    363,   1,-999.0,     -99,  2,20060113,1720,  25.4655,  127.5120,  2343,  900.600,    4.622,   34.267,2,   34.268,2,   60.350,1,   64.920,2,   99.130,2,   38.670,2,    0.000,2,    2.802,2,    0.408,2,    0.211,2, -999.000,9, -999.000,9, -999.000,9
           NA,    P03C,    363,   1,-999.0,     -99,  2,20060113,1720,  25.4655,  127.5120,  2343, 1002.500,    4.082,   34.335,2,   34.335,6,   55.070,1,   59.060,2,  111.090,2,   39.990,2,    0.000,2,    2.888,2,    0.238,2,    0.121,2, -999.000,9, -999.000,9, -999.000,9
           NA,    P03C,    363,   1,-999.0,     -99,  2,20060113,1720,  25.4655,  127.5120,  2343, 1200.200,    3.291,   34.446,2,   34.447,2,   61.130,1,   65.560,2,  128.060,2,   40.500,2,    0.000,2,    2.912,2,    0.080,2,    0.041,2, -999.000,9, -999.000,9, -999.000,9
           NA,    P03C,    363,   1,-999.0,     -99,  2,20060113,1720,  25.4655,  127.5120,  2343, 1401.400,    2.790,   34.526,2,   34.526,6,   75.600,1,   81.180,2,  135.870,2,   39.920,2,    0.000,2,    2.858,2,    0.018,2,    0.010,2, -999.000,9, -999.000,9, -999.000,9
           NA,    P03C,    363,   1,-999.0,     -99,  2,20060113,1720,  25.4655,  127.5120,  2343, 1600.100,    2.585,   34.552,2,   34.552,2,   83.030,1,   89.100,2,  138.300,2,   39.620,2,    0.000,2,    2.825,2,    0.006,2,    0.005,2, -999.000,9, -999.000,9, -999.000,9
           NA,    P03C,    363,   1,-999.0,     -99,  2,20060113,1720,  25.4655,  127.5120,  2343, 1799.500,    2.234,   34.585,2,   34.585,6,   94.470,1,  101.300,2,  141.900,2,   39.050,2,    0.000,2,    2.781,2,    0.002,2,    0.002,2, -999.000,9, -999.000,9, -999.000,9
           NA,    P03C,    363,   1,-999.0,     -99,  2,20060113,1720,  25.4655,  127.5120,  2343, 2001.600,    2.082,   34.607,2,   34.608,2,  103.130,1,  110.520,2,  142.650,2,   38.520,2,    0.000,2,    2.738,2,    0.000,2,    0.002,2, -999.000,9, -999.000,9, -999.000,9
           NA,    P03C,    363,   1,-999.0,     -99,  2,20060113,1720,  25.4655,  127.5120,  2343, 2200.600,    1.897,   34.629,2,   34.629,2,  112.840,1,  120.790,2,  143.400,2,   37.980,2,    0.000,2,    2.688,2,    0.000,2,    0.003,2, -999.000,9, -999.000,9, -999.000,9
           NA,    P03C,    363,   1,-999.0,     -99,  2,20060113,1720,  25.4655,  127.5120,  2343, 2355.100,    1.860,   34.635,2,   34.636,6,  115.870,1,  123.660,2,  143.450,2,   37.820,2,    0.000,2,    2.674,2,    0.000,2,    0.000,2, -999.000,9, -999.000,9, -999.000,9