BOTTLE,20211903JOAExport
EXPOCODE,SECT_ID,STNNBR,CASTNO,SAMPNO,BTLNBR,BTLNBR_FLAG_W,DATE,TIME,LATITUDE,LONGITUDE,DEPTH,CTDPRS,CTDTMP,CTDSAL,CTDSAL_FLAG_W,SALNTY,SALNTY_FLAG_W,CTDOXY,CTDOXY_FLAG_W,OXYGEN,OXYGEN_FLAG_W,SILCAT,SILCAT_FLAG_W,NITRAT,NITRAT_FLAG_W,NITRIT,NITRIT_FLAG_W,PHSPHT,PHSPHT_FLAG_W,CFC-11,CFC-11_FLAG_W,CFC-12,CFC-12_FLAG_W,SF6,SF6_FLAG_W,TCARBN,TCARBN_FLAG_W,ALKALI,ALKALI_FLAG_W
,,,,,,,,,,,,DB,ITS-90,PSS-78,,PSS-78,,UMOL/KG,,UMOL/KG,,UMOL/KG,,UMOL/KG,,UMOL/KG,,UMOL/KG,,PMOL/KG,,PMOL/KG,,FMOL/KG,,UMOL/KG,,UMOL/KG
           NA,    P03E,     12,   1,-999.0,     -99,  2,20051102,0041,  31.9057, -119.2582,  1286,   10.600,   18.256,   33.412,2,   33.415,2,  235.420,1,  242.140,2,    1.640,2,    0.030,2,    0.010,2,    0.238,2,    2.375,2,    1.405,2, -999.000,9, 1989.000,2, 2233.500,2
           NA,    P03E,     12,   1,-999.0,     -99,  2,20051102,0041,  31.9057, -119.2582,  1286,   49.800,   11.805,   33.265,2,   33.278,2,  207.020,1,  207.080,2,    9.400,2,   11.230,2,    0.040,2,    1.058,2,    3.117,2,    1.763,2, -999.000,9, 2072.200,6, 2214.700,2
           NA,    P03E,     12,   1,-999.0,     -99,  2,20051102,0041,  31.9057, -119.2582,  1286,  100.300,    9.667,   33.705,2,   33.736,2,  140.500,1,  140.660,2,   23.180,2,   22.660,2,    0.010,2,    1.790,2,    2.973,2,    1.609,2, -999.000,9, 2157.100,2, 2242.100,6
           NA,    P03E,     12,   1,-999.0,     -99,  2,20051102,0041,  31.9057, -119.2582,  1286,  151.500,    9.467,   34.113,2,   34.120,2,   90.430,1,   90.040,2,   31.940,2,   26.530,2,    0.010,2,    2.164,2,    2.215,2,    1.139,2, -999.000,9, 2207.700,2, 2269.000,2
           NA,    P03E,     12,   1,-999.0,     -99,  2,20051102,0041,  31.9057, -119.2582,  1286,  199.300,    9.086,   34.259,2,   34.258,2,   57.770,1,   57.850,2,   39.640,2,   29.370,2,    0.010,2,    2.454,2,    1.454,2,    0.757,2, -999.000,9, 2241.500,2, 2282.700,2
           NA,    P03E,     12,   1,-999.0,     -99,  2,20051102,0041,  31.9057, -119.2582,  1286,  250.500,    8.573,   34.286,2,   34.285,2,   44.610,1,   45.050,2,   44.940,2,   31.000,2,    0.010,2,    2.602,2,    1.059,6,    0.558,6, -999.000,9, 2256.400,2, 2290.300,2
           NA,    P03E,     12,   1,-999.0,     -99,  2,20051102,0041,  31.9057, -119.2582,  1286,  300.600,    7.916,   34.269,2,   34.268,2,   39.130,1,   39.580,2,   50.910,2,   32.900,2,    0.010,2,    2.715,2,    0.810,2,    0.434,2, -999.000,9, 2269.200,2, 2292.300,2
           NA,    P03E,     12,   1,-999.0,     -99,  2,20051102,0041,  31.9057, -119.2582,  1286,  400.400,    7.089,   34.287,2,   34.288,2,   24.550,1,   24.680,2,   61.600,2,   35.860,2,    0.010,2,    2.912,2,    0.388,2,    0.217,2, -999.000,9, 2291.800,2, 2305.100,2
           NA,    P03E,     12,   1,-999.0,     -99,  2,20051102,0041,  31.9057, -119.2582,  1286,  500.700,    6.201,   34.326,2,   34.326,6,   12.890,1,   12.950,2,   75.490,2,   39.000,2,    0.010,2,    3.115,2,    0.119,2,    0.067,2, -999.000,9, 2315.400,2, 2319.900,2
           NA,    P03E,     12,   1,-999.0,     -99,  2,20051102,0041,  31.9057, -119.2582,  1286,  601.200,    5.587,   34.371,2,   34.371,2,    9.560,1,    9.740,2,   85.810,2,   40.900,2,    0.010,2,    3.200,2,    0.044,2,    0.025,2, -999.000,9, 2329.300,2, 2336.200,2
           NA,    P03E,     12,   1,-999.0,     -99,  2,20051102,0041,  31.9057, -119.2582,  1286,  698.700,    5.030,   34.407,2,   34.407,2,   11.100,1,   11.050,2,   96.050,2,   42.150,2,    0.000,2,    3.245,2,    0.026,2,    0.015,2, -999.000,9, 2343.500,6, 2348.100,2
           NA,    P03E,     12,   1,-999.0,     -99,  2,20051102,0041,  31.9057, -119.2582,  1286,  800.300,    4.679,   34.435,2,   34.434,2,   13.670,1,   13.730,2,  102.810,2,   42.780,2,    0.010,2,    3.256,2,    0.023,6,    0.016,6, -999.000,9, 2347.600,2, 2354.400,6
           NA,    P03E,     12,   1,-999.0,     -99,  2,20051102,0041,  31.9057, -119.2582,  1286,  900.200,    4.440,   34.453,2,   34.454,2,   16.440,1,   16.580,2,  107.420,2,   43.030,2,    0.000,2,    3.248,2,    0.024,2,    0.015,2, -999.000,9, 2352.400,2, 2363.200,2
           NA,    P03E,     12,   1,-999.0,     -99,  2,20051102,0041,  31.9057, -119.2582,  1286, 1001.700,    3.994,   34.486,2,   34.487,6,   22.700,1,   22.800,2,  117.530,2,   43.250,2,    0.000,2,    3.238,2,    0.021,2,    0.027,2, -999.000,9, 2361.500,2, 2374.200,2
           NA,    P03E,     12,   1,-999.0,     -99,  2,20051102,0041,  31.9057, -119.2582,  1286, 1201.000,    3.520,   34.522,2,   34.523,2,   31.740,1,   32.130,2,  128.630,2,   43.220,2,    0.000,2,    3.206,2,    0.024,2,    0.027,2, -999.000,9, 2367.900,2, 2383.500,2
           NA,    P03E,     12,   1,-999.0,     -99,  2,20051102,0041,  31.9057, -119.2582,  1286, 1365.000,    3.122,   34.551,2,   34.551,6,   41.420,1,   41.600,2,  138.250,2,   42.770,2,    0.010,2,    3.161,2,    0.031,2,    0.024,2, -999.000,9, 2371.600,2, 2398.700,2
           NA,    P03E,     10,   1,-999.0,     -99,  2,20051101,2110,  32.1495, -118.7608,  1299,    9.700,   18.175,   33.346,2,   33.340,2,  240.260,1,  246.550,2,    1.640,2,    0.040,2,    0.010,2,    0.239,2,    2.427,2,    1.416,2, -999.000,9, -999.000,9, -999.000,9
           NA,    P03E,     10,   1,-999.0,     -99,  2,20051101,2110,  32.1495, -118.7608,  1299,   49.100,   14.212,   33.169,2,   33.171,2,  250.390,1,  254.510,2,    3.150,2,    1.000,2,    0.060,2,    0.459,2, -999.000,9, -999.000,9, -999.000,9, -999.000,9, -999.000,9
           NA,    P03E,     10,   1,-999.0,     -99,  2,20051101,2110,  32.1495, -118.7608,  1299,  100.400,   10.523,   33.586,2,   33.581,2,  148.790,1,  155.470,2,   18.010,2,   19.090,2,    0.020,2,    1.594,2,    3.126,2,    1.672,2, -999.000,9, -999.000,9, -999.000,9
           NA,    P03E,     10,   1,-999.0,     -99,  2,20051101,2110,  32.1495, -118.7608,  1299,  150.200,    9.575,   34.002,2,   34.002,2,  114.780,1,  116.510,2,   27.530,2,   24.320,2,    0.010,2,    1.955,2, -999.000,9, -999.000,9, -999.000,9, -999.000,9, -999.000,9
           NA,    P03E,     10,   1,-999.0,     -99,  2,20051101,2110,  32.1495, -118.7608,  1299,  202.800,    9.196,   34.180,2,   34.179,2,   81.260,1,   82.870,2,   35.040,2,   27.510,2,    0.010,2,    2.248,2, -999.000,9, -999.000,9, -999.000,9, -999.000,9, -999.000,9
           NA,    P03E,     10,   1,-999.0,     -99,  2,20051101,2110,  32.1495, -118.7608,  1299,  253.900,    9.110,   34.309,2,   34.285,2,   49.510,1,   53.720,2,   40.360,2,   29.480,2,    0.010,2,    2.500,2,    1.364,6,    0.667,6, -999.000,9, -999.000,9, -999.000,9
           NA,    P03E,     10,   1,-999.0,     -99,  2,20051101,2110,  32.1495, -118.7608,  1299,  303.500,    8.462,   34.322,2,   34.328,2,   34.920,1,   34.840,2,   46.970,2,   31.330,2,    0.010,2,    2.705,2, -999.000,9, -999.000,9, -999.000,9, -999.000,9, -999.000,9
           NA,    P03E,     10,   1,-999.0,     -99,  2,20051101,2110,  32.1495, -118.7608,  1299,  402.400,    7.194,   34.291,2,   34.291,2,   25.110,1,   25.080,2,   60.480,2,   35.500,2,    0.010,2,    2.915,2, -999.000,9, -999.000,9, -999.000,9, -999.000,9, -999.000,9
           NA,    P03E,     10,   1,-999.0,     -99,  2,20051101,2110,  32.1495, -118.7608,  1299,  501.800,    6.415,   34.318,2,   34.318,6,   14.990,1,   15.340,2,   71.930,2,   38.150,2,    0.010,2,    3.080,2,    0.205,2,    0.103,2, -999.000,9, -999.000,9, -999.000,9
           NA,    P03E,     10,   1,-999.0,     -99,  2,20051101,2110,  32.1495, -118.7608,  1299,  601.700,    5.887,   34.351,2,   34.351,2,   10.390,1,   10.680,2,   80.790,2,   39.950,2,    0.010,2,    3.170,2, -999.000,9, -999.000,9, -999.000,9, -999.000,9, -999.000,9
           NA,    P03E,     10,   1,-999.0,     -99,  2,20051101,2110,  32.1495, -118.7608,  1299,  703.600,    5.329,   34.392,2,   34.391,2,    9.710,1,    9.810,2,   90.480,2,   41.570,2,    0.010,2,    3.234,2,    0.036,2,    0.017,2, -999.000,9, -999.000,9, -999.000,9
           NA,    P03E,     10,   1,-999.0,     -99,  2,20051101,2110,  32.1495, -118.7608,  1299,  802.600,    4.872,   34.421,2,   34.421,2,   12.250,1,   12.470,2,   99.500,2,   42.400,2,    0.010,2,    3.254,2,    0.028,6,    0.018,6, -999.000,9, -999.000,9, -999.000,9
           NA,    P03E,     10,   1,-999.0,     -99,  2,20051101,2110,  32.1495, -118.7608,  1299,  902.800,    4.498,   34.451,2,   34.450,2,   15.870,1,   16.100,2,  107.140,2,   42.970,2,    0.010,2,    3.264,2, -999.000,9, -999.000,9, -999.000,9, -999.000,9, -999.000,9
           NA,    P03E,     10,   1,-999.0,     -99,  2,20051101,2110,  32.1495, -118.7608,  1299, 1001.900,    4.188,   34.474,2,   34.474,6,   20.000,1,   20.040,2,  114.240,2,   43.060,2,    0.010,2,    3.257,2,    0.044,2,    0.033,2, -999.000,9, -999.000,9, -999.000,9
           NA,    P03E,     10,   1,-999.0,     -99,  2,20051101,2110,  32.1495, -118.7608,  1299, 1201.400,    3.490,   34.523,2,   34.524,2,   31.320,1,   31.290,2,  131.580,2,   42.830,2,    0.010,2,    3.215,2, -999.000,9, -999.000,9, -999.000,9, -999.000,9, -999.000,9
           NA,    P03E,     10,   1,-999.0,     -99,  2,20051101,2110,  32.1495, -118.7608,  1299, 1304.600,    3.259,   34.542,2,   34.542,6,   35.370,1,   35.480,2,  138.800,2,   42.580,2,    0.010,2,    3.204,2,    0.075,2,    0.167,2, -999.000,9, -999.000,9, -999.000,9
           NA,    P03E,      8,   1,-999.0,     -99,  2,20051101,1814,  32.3657, -118.3362,   676,    9.800,   18.089,   33.365,2,   33.365,2,  238.480,1,  244.350,2,    1.590,2,    0.030,2,    0.010,2,    0.223,2,    2.397,2,    1.421,2, -999.000,9, 1977.400,2, 2232.100,2
           NA,    P03E,      8,   1,-999.0,     -99,  2,20051101,1814,  32.3657, -118.3362,   676,   49.500,   13.193,   33.202,2,   33.209,2,  229.970,1,  232.760,2,    5.120,2,    4.360,2,    0.180,2,    0.697,2,    3.042,2,    1.713,2, -999.000,9, 2039.100,6, 2217.300,2
           NA,    P03E,      8,   1,-999.0,     -99,  2,20051101,1814,  32.3657, -118.3362,   676,   99.500,   11.129,   33.788,2,   33.806,2,  104.550,1,   99.450,2,   23.810,2,   21.480,2,    0.030,2,    1.964,2,    2.701,2,    1.462,2, -999.000,9, 2177.300,2, 2247.200,6
           NA,    P03E,      8,   1,-999.0,     -99,  2,20051101,1814,  32.3657, -118.3362,   676,  150.300,   10.621,   34.149,2,   34.151,2,   65.060,1,   65.470,2,   30.840,2,   25.310,2,    0.020,2,    2.286,2,    2.114,2,    1.109,2, -999.000,9, 2217.500,2, 2268.800,2
           NA,    P03E,      8,   1,-999.0,     -99,  2,20051101,1814,  32.3657, -118.3362,   676,  199.900,   10.369,   34.360,2,   34.358,2,   43.810,1,   44.670,2,   35.040,2,   27.200,2,    0.020,2,    2.487,2,    1.455,2,    0.743,2, -999.000,9, 2241.500,2, 2284.700,2
           NA,    P03E,      8,   1,-999.0,     -99,  2,20051101,1814,  32.3657, -118.3362,   676,  249.500,    9.122,   34.217,2,   34.221,2,   68.460,1,   68.930,2,   37.240,2,   28.470,2,    0.010,2,    2.369,2,    1.754,6,    0.874,6, -999.000,9, 2228.400,2, 2280.400,2
           NA,    P03E,      8,   1,-999.0,     -99,  2,20051101,1814,  32.3657, -118.3362,   676,  299.500,    8.776,   34.275,2,   34.283,2,   50.510,1,   50.370,2,   42.660,2,   30.190,2,    0.010,2,    2.559,2,    1.264,2,    0.625,2, -999.000,9, 2252.000,2, 2289.300,2
           NA,    P03E,      8,   1,-999.0,     -99,  2,20051101,1814,  32.3657, -118.3362,   676,  399.600,    7.489,   34.255,2,   34.255,2,   35.520,1,   35.940,2,   55.430,2,   34.260,2,    0.010,2,    2.793,2,    0.754,2,    0.359,2, -999.000,9, 2276.600,2, 2295.600,2
           NA,    P03E,      8,   1,-999.0,     -99,  2,20051101,1814,  32.3657, -118.3362,   676,  501.100,    6.625,   34.278,2,   34.278,6,   22.560,1,   22.520,2,   67.650,2,   37.300,2,    0.010,2,    2.989,2,    0.369,2,    0.180,2, -999.000,9, 2299.400,2, 2309.200,2
           NA,    P03E,      8,   1,-999.0,     -99,  2,20051101,1814,  32.3657, -118.3362,   676,  599.300,    6.096,   34.302,2,   34.302,2,   15.970,1,   16.030,2,   76.290,2,   39.100,2,    0.010,2,    3.101,2,    0.197,2,    0.102,2, -999.000,9, 2313.400,2, 2320.500,2
           NA,    P03E,      8,   1,-999.0,     -99,  2,20051101,1814,  32.3657, -118.3362,   676,  668.600,    5.447,   34.364,2,   34.364,6,   11.220,1,   11.380,2,   88.370,2,   41.030,2,    0.010,2,    3.210,2,    0.073,2,    0.040,2, -999.000,9, 2331.100,2, 2337.200,2
           NA,    P03E,      6,   1,-999.0,     -99,  2,20051101,0322,  32.5222, -118.0268,  1882,    9.300,   17.778,   33.376,2,   33.375,2,  240.660,1,  246.830,2,    1.910,2,    0.010,2,    0.010,2,    0.238,2,    2.442,2,    1.452,2, -999.000,9, 1981.200,2, 2232.900,2
           NA,    P03E,      6,   1,-999.0,     -99,  2,20051101,0322,  32.5222, -118.0268,  1882,   49.700,   12.324,   33.299,2,   33.322,2,  205.900,1,  202.810,2,    9.000,2,   10.200,2,    0.220,2,    1.043,2,    3.088,2,    1.705,2, -999.000,9, 2076.200,6, 2219.500,2
           NA,    P03E,      6,   1,-999.0,     -99,  2,20051101,0322,  32.5222, -118.0268,  1882,   99.700,   10.455,   33.795,2,   33.807,2,  118.440,1,  118.570,2,   22.970,2,   21.820,2,    0.020,2,    1.869,2,    2.755,2,    1.473,2, -999.000,9, 2165.600,2, 2246.900,6
           NA,    P03E,      6,   1,-999.0,     -99,  2,20051101,0322,  32.5222, -118.0268,  1882,  149.600,    9.630,   34.028,2,   34.033,2,  100.840,1,  102.330,2,   29.400,2,   25.420,2,    0.010,2,    2.063,2,    2.460,2,    1.266,2, -999.000,9, 2193.500,2, 2262.100,2
           NA,    P03E,      6,   1,-999.0,     -99,  2,20051101,0322,  32.5222, -118.0268,  1882,  200.900,    9.033,   34.117,2,   34.117,2,   89.250,1,   90.280,2,   34.300,2,   27.630,2,    0.010,2,    2.198,2,    2.179,2,    1.106,2, -999.000,9, 2210.400,2, 2269.600,2
           NA,    P03E,      6,   1,-999.0,     -99,  2,20051101,0322,  32.5222, -118.0268,  1882,  248.900,    8.727,   34.183,2,   34.182,2,   70.600,1,   71.930,2,   39.380,2,   29.490,2,    0.010,2,    2.373,2,    1.769,6,    0.882,2, -999.000,9, 2233.000,2, 2276.100,2
           NA,    P03E,      6,   1,-999.0,     -99,  2,20051101,0322,  32.5222, -118.0268,  1882,  300.500,    8.177,   34.211,2,   34.211,2,   55.960,1,   56.410,2,   45.720,2,   31.580,2,    0.010,2,    2.547,2,    1.328,2,    0.720,2, -999.000,9, 2249.400,2, 2285.300,2
           NA,    P03E,      6,   1,-999.0,     -99,  2,20051101,0322,  32.5222, -118.0268,  1882,  399.500,    7.260,   34.233,2,   34.235,2,   36.690,1,   36.340,2,   57.210,2,   34.910,2,    0.010,2,    2.799,2,    0.745,2,    0.366,2, -999.000,9, 2277.600,2, 2296.500,2
           NA,    P03E,      6,   1,-999.0,     -99,  2,20051101,0322,  32.5222, -118.0268,  1882,  499.600,    6.533,   34.285,2,   34.285,6,   19.660,1,   19.630,2,   69.520,2,   37.740,2,    0.010,2,    3.021,2,    0.295,2,    0.146,2, -999.000,9, 2303.300,2, 2313.900,2
           NA,    P03E,      6,   1,-999.0,     -99,  2,20051101,0322,  32.5222, -118.0268,  1882,  599.900,    5.916,   34.320,2,   34.321,2,   12.650,1,   12.820,2,   79.720,2,   39.730,2,    0.010,2,    3.140,2,    0.142,2,    0.076,2, -999.000,9, 2319.900,2, 2323.600,2
           NA,    P03E,      6,   1,-999.0,     -99,  2,20051101,0322,  32.5222, -118.0268,  1882,  702.900,    5.385,   34.370,2,   34.369,2,   10.400,1,   10.830,2,   89.190,2,   41.270,2,    0.000,2,    3.218,2,    0.061,2,    0.029,2, -999.000,9, 2335.600,6, 2334.600,2
           NA,    P03E,      6,   1,-999.0,     -99,  2,20051101,0322,  32.5222, -118.0268,  1882,  800.000,    4.934,   34.411,2,   34.411,2,   11.770,1,   12.130,2,   97.610,2,   42.280,2,    0.010,2,    3.249,2,    0.035,6,    0.018,6, -999.000,9, -999.000,3, 2349.200,6
           NA,    P03E,      6,   1,-999.0,     -99,  2,20051101,0322,  32.5222, -118.0268,  1882,  901.800,    4.468,   34.451,2,   34.450,2,   15.780,1,   16.640,2,  108.450,2,   42.680,2,    0.000,2,    3.260,2,    0.053,2,    0.045,2, -999.000,9, 2353.800,2, 2363.400,2
           NA,    P03E,      6,   1,-999.0,     -99,  2,20051101,0322,  32.5222, -118.0268,  1882, 1002.900,    4.112,   34.478,2,   34.478,6,   20.140,1,   21.120,2,  116.930,2,   42.760,2,    0.010,2,    3.255,2,    0.063,2,    0.059,2, -999.000,9, 2360.400,2, 2372.600,2
           NA,    P03E,      6,   1,-999.0,     -99,  2,20051101,0322,  32.5222, -118.0268,  1882, 1202.400,    3.481,   34.527,2,   34.527,2,   32.190,1,   32.800,2,  130.670,2,   42.750,2,    0.000,2,    3.210,2,    0.067,2,    0.066,2, -999.000,9, 2370.400,2, 2389.300,2
           NA,    P03E,      6,   1,-999.0,     -99,  2,20051101,0322,  32.5222, -118.0268,  1882, 1402.200,    3.069,   34.559,2,   34.558,2,   42.190,1, -999.000,3,  141.150,2,   42.260,2,    0.010,2,    3.157,2,    0.137,2,    0.081,2, -999.000,9, 2376.800,2, 2400.300,2
           NA,    P03E,      6,   1,-999.0,     -99,  2,20051101,0322,  32.5222, -118.0268,  1882, 1600.600,    2.739,   34.584,2,   34.585,2,   52.040,1,   52.610,2,  148.970,2,   41.800,2,    0.010,2,    3.108,2,    0.099,2,    0.087,2, -999.000,9, 2377.800,2, 2406.300,2
           NA,    P03E,      6,   1,-999.0,     -99,  2,20051101,0322,  32.5222, -118.0268,  1882, 1801.700,    2.632,   34.593,2,   34.594,6,   55.690,1,   56.340,2,  152.040,2,   41.630,2,    0.000,2,    3.092,2,    0.054,2,    0.096,2, -999.000,9, 2377.700,2, 2416.800,2
           NA,    P03E,      6,   1,-999.0,     -99,  2,20051101,0322,  32.5222, -118.0268,  1882, 1866.600,    2.617,   34.595,2,   34.595,6,   56.890,1,   57.330,2,  151.650,2,   41.580,2,    0.010,2,    3.081,2,    0.045,2,    0.082,2, -999.000,9, 2375.600,2, 2413.600,2