BOTTLE,20211903JOAExport
EXPOCODE,SECT_ID,STNNBR,CASTNO,SAMPNO,BTLNBR,BTLNBR_FLAG_W,DATE,TIME,LATITUDE,LONGITUDE,DEPTH,CTDPRS,CTDTMP,CTDSAL,CTDSAL_FLAG_W,SALNTY,SALNTY_FLAG_W,CTDOXY,CTDOXY_FLAG_W,OXYGEN,OXYGEN_FLAG_W,SILCAT,SILCAT_FLAG_W,NITRAT,NITRAT_FLAG_W,NITRIT,NITRIT_FLAG_W,PHSPHT,PHSPHT_FLAG_W,CFC-11,CFC-11_FLAG_W,CFC-12,CFC-12_FLAG_W,SF6,SF6_FLAG_W,TCARBN,TCARBN_FLAG_W,ALKALI,ALKALI_FLAG_W
,,,,,,,,,,,,DB,ITS-90,PSS-78,,PSS-78,,UMOL/KG,,UMOL/KG,,UMOL/KG,,UMOL/KG,,UMOL/KG,,UMOL/KG,,PMOL/KG,,PMOL/KG,,FMOL/KG,,UMOL/KG,,UMOL/KG
           NA,    P03E,     76,   1,-999.0,     -99,  2,20051111,2133,  24.2607, -141.8557,  4612,    9.300,   22.754,   35.111,2,   35.111,2,  206.080,1,  218.060,2,    1.140,2,    0.050,2,    0.000,2,    0.112,2, -999.000,5, -999.000,5, -999.000,9, -999.000,9, -999.000,9
           NA,    P03E,     76,   1,-999.0,     -99,  2,20051111,2133,  24.2607, -141.8557,  4612,   49.600,   22.802,   35.149,2,   35.149,2,  205.680,1,  217.440,2,    1.120,2,    0.040,2,    0.000,2,    0.107,2,    1.887,2,    1.104,2, -999.000,9, -999.000,9, -999.000,9
           NA,    P03E,     76,   1,-999.0,     -99,  2,20051111,2133,  24.2607, -141.8557,  4612,   99.700,   20.757,   35.011,2,   35.012,2,  211.760,1,  223.490,2,    1.440,2,    0.040,2,    0.010,2,    0.109,2,    2.149,2,    1.244,2, -999.000,9, -999.000,9, -999.000,9
           NA,    P03E,     76,   1,-999.0,     -99,  2,20051111,2133,  24.2607, -141.8557,  4612,  151.300,   19.774,   35.020,2,   35.020,2,  202.730,1,  214.180,2,    1.710,2,    0.240,2,    0.180,2,    0.121,2,    2.224,2,    1.270,2, -999.000,9, -999.000,9, -999.000,9
           NA,    P03E,     76,   1,-999.0,     -99,  2,20051111,2133,  24.2607, -141.8557,  4612,  202.600,   16.013,   34.379,2,   34.367,2,  195.660,1,  205.910,2,    3.780,2,    3.720,2,    0.010,2,    0.402,2,    2.614,2,    1.496,2, -999.000,9, -999.000,9, -999.000,9
           NA,    P03E,     76,   1,-999.0,     -99,  2,20051111,2133,  24.2607, -141.8557,  4612,  251.000,   12.316,   33.988,2,   33.995,2,  196.060,1,  205.860,2,    8.530,2,    9.170,2,    0.000,2,    0.769,2,    3.138,6,    1.625,6, -999.000,9, -999.000,9, -999.000,9
           NA,    P03E,     76,   1,-999.0,     -99,  2,20051111,2133,  24.2607, -141.8557,  4612,  302.800,   10.929,   34.014,2,   34.014,2,  198.140,1,  208.260,2,   12.840,2,   12.730,2,    0.000,2,    0.975,2,    3.338,2,    1.678,2, -999.000,9, -999.000,9, -999.000,9
           NA,    P03E,     76,   1,-999.0,     -99,  2,20051111,2133,  24.2607, -141.8557,  4612,  401.100,    8.514,   34.071,2,   34.072,2,  161.980,1,  170.510,2,   30.720,2,   22.350,2,    0.000,2,    1.598,2,    2.897,2,    1.363,2, -999.000,9, -999.000,9, -999.000,9
           NA,    P03E,     76,   1,-999.0,     -99,  2,20051111,2133,  24.2607, -141.8557,  4612,  500.600,    6.205,   34.038,2,   34.036,6,   82.260,1,   89.090,2,   58.810,2,   34.090,2,    0.000,2,    2.483,2,    1.379,2,    0.612,2, -999.000,9, -999.000,9, -999.000,9
           NA,    P03E,     76,   1,-999.0,     -99,  2,20051111,2133,  24.2607, -141.8557,  4612,  598.300,    5.452,   34.144,2,   34.143,2,   36.000,1,   38.130,2,   78.360,2,   39.500,2,    0.000,2,    2.941,2,    0.375,2,    0.184,2, -999.000,9, -999.000,9, -999.000,9
           NA,    P03E,     76,   1,-999.0,     -99,  2,20051111,2133,  24.2607, -141.8557,  4612,  699.100,    4.849,   34.273,2,   34.273,2,   18.400,1,   19.380,2,   94.020,2,   42.260,2,    0.000,2,    3.153,2,    0.039,2,    0.022,2, -999.000,9, -999.000,9, -999.000,9
           NA,    P03E,     76,   1,-999.0,     -99,  2,20051111,2133,  24.2607, -141.8557,  4612,  799.900,    4.695,   34.398,2,   34.398,2,   22.240,1,   23.470,2,   98.160,2,   42.670,2,    0.000,2,    3.162,2,    0.004,6,    0.002,6, -999.000,9, -999.000,9, -999.000,9
           NA,    P03E,     76,   1,-999.0,     -99,  2,20051111,2133,  24.2607, -141.8557,  4612,  899.900,    4.433,   34.459,2,   34.457,2,   29.810,1,   31.320,2,  102.560,2,   42.630,2,    0.000,2,    3.132,2,    0.001,2,    0.000,2, -999.000,9, -999.000,9, -999.000,9
           NA,    P03E,     76,   1,-999.0,     -99,  2,20051111,2133,  24.2607, -141.8557,  4612,  999.700,    4.173,   34.487,2,   34.487,6,   34.420,1,   36.460,2,  108.440,2,   42.800,2,    0.000,2,    3.137,2,    0.000,2,    0.000,2, -999.000,9, -999.000,9, -999.000,9
           NA,    P03E,     76,   1,-999.0,     -99,  2,20051111,2133,  24.2607, -141.8557,  4612, 1198.400,    3.642,   34.527,2,   34.527,2,   42.670,1,   45.190,2,  119.680,2,   42.790,2,    0.000,2,    3.113,2,    0.002,2,    0.000,2, -999.000,9, -999.000,9, -999.000,9
           NA,    P03E,     76,   1,-999.0,     -99,  2,20051111,2133,  24.2607, -141.8557,  4612, 1400.600,    3.128,   34.558,2,   34.558,2,   50.120,1,   53.280,2,  131.850,2,   42.420,2,    0.000,2,    3.081,2,    0.000,2,    0.000,2, -999.000,9, -999.000,9, -999.000,9
           NA,    P03E,     76,   1,-999.0,     -99,  2,20051111,2133,  24.2607, -141.8557,  4612, 1606.300,    2.693,   34.583,2,   34.583,2,   60.430,1,   63.840,2,  142.270,2,   41.950,2,    0.000,2,    3.025,2,    0.000,2,    0.002,2, -999.000,9, -999.000,9, -999.000,9
           NA,    P03E,     76,   1,-999.0,     -99,  2,20051111,2133,  24.2607, -141.8557,  4612, 1807.500,    2.413,   34.601,2,   34.602,2,   68.710,1,   72.460,2,  149.040,2,   41.290,2,    0.000,2,    2.973,2,    0.006,2,    0.004,2, -999.000,9, -999.000,9, -999.000,9
           NA,    P03E,     76,   1,-999.0,     -99,  2,20051111,2133,  24.2607, -141.8557,  4612, 2003.200,    2.148,   34.621,2,   34.621,6,   77.830,1,   82.510,2,  155.590,2,   40.810,2,    0.000,2,    2.911,2,    0.001,2,    0.001,2, -999.000,9, -999.000,9, -999.000,9
           NA,    P03E,     76,   1,-999.0,     -99,  2,20051111,2133,  24.2607, -141.8557,  4612, 2200.900,    1.960,   34.635,2,   34.635,2,   86.560,1,   91.970,2,  160.240,2,   40.120,2,    0.000,2,    2.856,2,    0.001,2,    0.000,2, -999.000,9, -999.000,9, -999.000,9
           NA,    P03E,     76,   1,-999.0,     -99,  2,20051111,2133,  24.2607, -141.8557,  4612, 2396.700,    1.807,   34.646,2,   34.646,2,   94.350,1,  100.280,2,  163.650,2,   39.570,2,    0.000,2,    2.808,2, -999.000,9, -999.000,9, -999.000,9, -999.000,9, -999.000,9
           NA,    P03E,     76,   1,-999.0,     -99,  2,20051111,2133,  24.2607, -141.8557,  4612, 2597.200,    1.713,   34.653,2,   34.653,2,   99.930,1,  106.240,2,  165.960,2,   39.270,2,    0.000,2,    2.777,2, -999.000,9, -999.000,9, -999.000,9, -999.000,9, -999.000,9
           NA,    P03E,     76,   1,-999.0,     -99,  2,20051111,2133,  24.2607, -141.8557,  4612, 2798.600,    1.614,   34.662,2,   34.662,6,  107.850,1,  114.700,2,  166.820,2,   38.740,2,    0.000,2,    2.732,2,    0.000,2,    0.000,2, -999.000,9, -999.000,9, -999.000,9
           NA,    P03E,     76,   1,-999.0,     -99,  2,20051111,2133,  24.2607, -141.8557,  4612, 2998.400,    1.564,   34.668,2,   34.668,2,  114.150,1,  121.440,2,  165.970,2,   38.310,2,    0.000,2,    2.697,2, -999.000,9, -999.000,9, -999.000,9, -999.000,9, -999.000,9
           NA,    P03E,     76,   1,-999.0,     -99,  2,20051111,2133,  24.2607, -141.8557,  4612, 3250.800,    1.503,   34.676,2,   34.676,2,  123.320,1,  130.790,2,  163.690,2,   37.620,2,    0.000,2,    2.634,2,    0.010,2,    0.011,2, -999.000,9, -999.000,9, -999.000,9
           NA,    P03E,     76,   1,-999.0,     -99,  2,20051111,2133,  24.2607, -141.8557,  4612, 3500.700,    1.478,   34.680,2,   34.680,2,  129.520,1,  137.170,2,  161.620,2,   37.250,2,    0.000,2,    2.603,2, -999.000,9, -999.000,9, -999.000,9, -999.000,9, -999.000,9
           NA,    P03E,     76,   1,-999.0,     -99,  2,20051111,2133,  24.2607, -141.8557,  4612, 3751.200,    1.467,   34.684,2,   34.684,6,  134.870,1,  142.660,2,  159.250,2,   36.820,2,    0.000,2,    2.572,2,    0.013,2,    0.006,2, -999.000,9, -999.000,9, -999.000,9
           NA,    P03E,     76,   1,-999.0,     -99,  2,20051111,2133,  24.2607, -141.8557,  4612, 4002.400,    1.472,   34.686,2,   34.687,2,  138.750,1,  146.180,2,  157.230,2,   36.640,2,    0.000,2,    2.558,2, -999.000,9, -999.000,9, -999.000,9, -999.000,9, -999.000,9
           NA,    P03E,     76,   1,-999.0,     -99,  2,20051111,2133,  24.2607, -141.8557,  4612, 4251.400,    1.485,   34.688,2,   34.688,2,  141.650,1,  148.660,2,  155.430,2,   36.530,2,    0.000,2,    2.543,2,    0.014,2,    0.012,2, -999.000,9, -999.000,9, -999.000,9
           NA,    P03E,     76,   1,-999.0,     -99,  2,20051111,2133,  24.2607, -141.8557,  4612, 4500.000,    1.498,   34.689,2,   34.689,2,  145.080,1,  151.560,2,  153.380,2,   36.220,2,    0.000,2,    2.526,2, -999.000,9, -999.000,9, -999.000,9, -999.000,9, -999.000,9
           NA,    P03E,     76,   1,-999.0,     -99,  2,20051111,2133,  24.2607, -141.8557,  4612, 4697.300,    1.503,   34.690,2,   34.690,6,  149.160,1,  155.070,2,  150.670,2,   35.960,2,    0.000,2,    2.510,2,    0.011,2,    0.013,2, -999.000,9, -999.000,9, -999.000,9
           NA,    P03E,     76,   1,-999.0,     -99,  2,20051111,2133,  24.2607, -141.8557,  4612, 4697.300,    1.503,   34.690,2,   34.691,2,  149.070,1,  155.220,2,  150.560,2,   36.020,2,    0.000,2,    2.509,2, -999.000,9, -999.000,9, -999.000,9, -999.000,9, -999.000,9
           NA,    P03E,     74,   1,-999.0,     -99,  2,20051111,1523,  24.2823, -141.1493,  4990,    9.500,   22.816,   35.131,2,   35.131,2,  205.070,1,  216.870,2,    1.180,2,    0.060,2,    0.000,2,    0.116,2,    1.868,2,    1.130,2, -999.000,9, 2009.800,2, 2316.400,2
           NA,    P03E,     74,   1,-999.0,     -99,  2,20051111,1523,  24.2823, -141.1493,  4990,   49.400,   22.830,   35.132,2,   35.133,2,  205.110,1,  216.810,2,    1.190,2,    0.060,2,    0.000,2,    0.119,2,    1.871,2,    1.128,2, -999.000,9, 2011.400,6, 2319.800,2
           NA,    P03E,     74,   1,-999.0,     -99,  2,20051111,1523,  24.2823, -141.1493,  4990,   99.900,   21.508,   35.166,2,   35.162,2,  216.200,1,  228.180,2,    1.440,2,    0.040,2,    0.000,2,    0.063,2,    2.090,2,    1.236,2, -999.000,9, 2019.700,2, 2311.200,6
           NA,    P03E,     74,   1,-999.0,     -99,  2,20051111,1523,  24.2823, -141.1493,  4990,  149.600,   19.947,   35.063,2,   35.057,2,  202.690,1,  213.760,2,    1.710,2,    0.280,2,    0.160,2,    0.129,2,    2.180,2,    1.282,2, -999.000,9, 2034.700,2, 2306.900,2
           NA,    P03E,     74,   1,-999.0,     -99,  2,20051111,1523,  24.2823, -141.1493,  4990,  202.100,   16.591,   34.547,2,   34.548,2,  198.050,1,  208.770,2,    3.530,2,    2.970,2,    0.020,2,    0.315,2, -999.000,5, -999.000,5, -999.000,9, 2042.700,2, 2276.100,2
           NA,    P03E,     74,   1,-999.0,     -99,  2,20051111,1523,  24.2823, -141.1493,  4990,  252.700,   13.102,   34.184,2,   34.188,2,  203.720,1,  214.440,2,    7.240,2,    7.700,2,    0.010,2,    0.629,2,    2.954,6,    1.674,6, -999.000,9, 2059.000,2, 2250.900,2
           NA,    P03E,     74,   1,-999.0,     -99,  2,20051111,1523,  24.2823, -141.1493,  4990,  300.200,   11.117,   34.079,2,   34.077,2,  204.250,1,  213.060,2,   12.630,2,   12.390,2,    0.000,2,    0.941,2,    3.172,2,    1.763,2, -999.000,9, 2082.400,2, 2252.300,2
           NA,    P03E,     74,   1,-999.0,     -99,  2,20051111,1523,  24.2823, -141.1493,  4990,  399.200,    8.518,   34.056,2,   34.058,2,  154.350,1,  161.860,2,   30.720,2,   23.050,2,    0.000,2,    1.662,2,    2.843,2,    1.444,2, -999.000,9, 2158.100,2, 2262.000,2
           NA,    P03E,     74,   1,-999.0,     -99,  2,20051111,1523,  24.2823, -141.1493,  4990,  500.600,    6.403,   34.037,2,   34.037,6,   88.260,1,   91.730,2,   57.020,2,   33.560,2,    0.000,2,    2.452,2,    1.434,2,    0.687,2, -999.000,9, 2239.200,2, 2284.200,2
           NA,    P03E,     74,   1,-999.0,     -99,  2,20051111,1523,  24.2823, -141.1493,  4990,  602.000,    5.298,   34.120,2,   34.119,2,   41.820,1,   43.810,2,   79.180,2,   39.510,2,    0.000,2,    2.906,2,    0.396,2,    0.215,2, -999.000,9, 2297.600,2, 2303.100,2
           NA,    P03E,     74,   1,-999.0,     -99,  2,20051111,1523,  24.2823, -141.1493,  4990,  702.200,    4.864,   34.252,2,   34.251,2,   18.110,1,   18.860,2,   93.570,2,   42.170,2,    0.000,2,    3.141,2,    0.066,2,    0.035,2, -999.000,9, 2330.500,2, 2328.300,2
           NA,    P03E,     74,   1,-999.0,     -99,  2,20051111,1523,  24.2823, -141.1493,  4990,  800.700,    4.511,   34.344,2,   34.343,2,   15.810,1,   16.430,2,  102.970,2,   43.150,2,    0.000,2,    3.199,2,    0.020,6,    0.012,6, -999.000,9, 2341.800,2, 2343.000,6
           NA,    P03E,     74,   1,-999.0,     -99,  2,20051111,1523,  24.2823, -141.1493,  4990,  899.000,    4.278,   34.433,2,   34.432,2,   23.030,1,   23.870,2,  107.690,2,   43.210,2,    0.000,2,    3.181,2,    0.006,2,    0.003,2, -999.000,9, 2344.800,2, 2357.700,2
           NA,    P03E,     74,   1,-999.0,     -99,  2,20051111,1523,  24.2823, -141.1493,  4990, 1000.800,    4.012,   34.481,2,   34.480,6,   30.160,1,   31.480,2,  113.050,2,   43.100,2,    0.000,2,    3.168,2,    0.004,2,    0.000,2, -999.000,9, 2347.600,2, 2367.500,2
           NA,    P03E,     74,   1,-999.0,     -99,  2,20051111,1523,  24.2823, -141.1493,  4990, 1202.600,    3.477,   34.528,2,   34.528,2,   40.020,1,   42.020,2,  124.960,2,   42.950,2,    0.000,2,    3.137,2,    0.001,2,    0.002,2, -999.000,9, 2355.500,2, 2381.700,2
           NA,    P03E,     74,   1,-999.0,     -99,  2,20051111,1523,  24.2823, -141.1493,  4990, 1401.800,    3.052,   34.558,2,   34.558,2,   51.530,1,   54.230,2,  133.880,2,   42.340,2,    0.000,2,    3.071,2,    0.003,2,    0.005,2, -999.000,9, -999.000,4, 2392.400,2
           NA,    P03E,     74,   1,-999.0,     -99,  2,20051111,1523,  24.2823, -141.1493,  4990, 1601.200,    2.675,   34.581,2,   34.581,2,   61.310,1,   64.810,2,  142.820,2,   41.800,2,    0.000,2,    3.012,2,    0.001,2,    0.000,2, -999.000,9, 2364.900,2, 2404.500,2
           NA,    P03E,     74,   1,-999.0,     -99,  2,20051111,1523,  24.2823, -141.1493,  4990, 1799.600,    2.358,   34.602,2,   34.602,6,   69.440,1,   73.510,2,  151.240,2,   41.230,2,    0.000,2,    2.958,2,    0.000,2,    0.000,2, -999.000,9, 2367.900,2, 2406.900,2
           NA,    P03E,     74,   1,-999.0,     -99,  2,20051111,1523,  24.2823, -141.1493,  4990, 2000.700,    2.115,   34.620,2,   34.620,2,   77.690,1,   82.590,2,  157.650,2,   40.710,2,    0.000,2,    2.910,2, -999.000,9, -999.000,9, -999.000,9, 2364.000,2, 2415.700,2
           NA,    P03E,     74,   1,-999.0,     -99,  2,20051111,1523,  24.2823, -141.1493,  4990, 2200.800,    1.929,   34.634,2,   34.634,2,   85.630,1,   91.090,2,  162.180,2,   40.190,2,    0.000,2,    2.855,2,    0.000,2,    0.000,2, -999.000,9, 2364.800,2, 2416.600,2
           NA,    P03E,     74,   1,-999.0,     -99,  2,20051111,1523,  24.2823, -141.1493,  4990, 2401.900,    1.789,   34.645,2,   34.645,2,   93.200,1,   99.100,2,  165.370,2,   39.700,2,    0.000,2,    2.813,2, -999.000,9, -999.000,9, -999.000,9, 2359.500,2, 2422.900,2
           NA,    P03E,     74,   1,-999.0,     -99,  2,20051111,1523,  24.2823, -141.1493,  4990, 2601.000,    1.685,   34.654,2,   34.654,6,  100.400,1,  106.710,2,  166.970,2,   39.210,2,    0.000,2,    2.768,2,    0.000,2,    0.000,2, -999.000,9, 2358.900,2, 2423.800,6
           NA,    P03E,     74,   1,-999.0,     -99,  2,20051111,1523,  24.2823, -141.1493,  4990, 2800.700,    1.598,   34.663,2,   34.663,2,  108.420,1,  115.580,2,  167.120,2,   38.660,2,    0.000,2,    2.722,2, -999.000,9, -999.000,9, -999.000,9, 2356.900,2, 2426.500,2
           NA,    P03E,     74,   1,-999.0,     -99,  2,20051111,1523,  24.2823, -141.1493,  4990, 3000.600,    1.542,   34.670,2,   34.670,2,  115.600,1,  123.120,2,  165.910,2,   38.180,2,    0.000,2,    2.682,2,    0.002,2,    0.002,2, -999.000,9, -999.000,4, 2425.700,2
           NA,    P03E,     74,   1,-999.0,     -99,  2,20051111,1523,  24.2823, -141.1493,  4990, 3250.800,    1.494,   34.676,2,   34.676,2,  123.460,1,  131.490,2,  163.640,2,   37.560,2,    0.000,2,    2.633,2, -999.000,9, -999.000,9, -999.000,9, -999.000,4, 2423.200,2
           NA,    P03E,     74,   1,-999.0,     -99,  2,20051111,1523,  24.2823, -141.1493,  4990, 3501.200,    1.467,   34.681,2,   34.681,2,  130.160,1,  138.640,2,  161.000,2,   37.120,2,    0.000,2,    2.596,2,    0.000,2,    0.001,2, -999.000,9, -999.000,4, 2424.400,2
           NA,    P03E,     74,   1,-999.0,     -99,  2,20051111,1523,  24.2823, -141.1493,  4990, 3751.400,    1.458,   34.685,2,   34.685,2,  135.500,1,  144.140,2,  158.400,2,   36.730,2,    0.000,2,    2.564,2, -999.000,9, -999.000,9, -999.000,9, -999.000,4, 2422.600,2
           NA,    P03E,     74,   1,-999.0,     -99,  2,20051111,1523,  24.2823, -141.1493,  4990, 3999.700,    1.464,   34.687,2,   34.687,6,  139.110,1,  147.530,2,  156.490,2,   36.520,2,    0.000,2,    2.551,2,    0.003,2,    0.004,2, -999.000,9, 2329.900,2, 2418.400,2
           NA,    P03E,     74,   1,-999.0,     -99,  2,20051111,1523,  24.2823, -141.1493,  4990, 4251.000,    1.478,   34.688,2,   34.688,2,  141.940,1,  150.160,2,  154.800,2,   36.380,2,    0.000,2,    2.535,2, -999.000,9, -999.000,9, -999.000,9, 2328.300,6, 2417.100,2
           NA,    P03E,     74,   1,-999.0,     -99,  2,20051111,1523,  24.2823, -141.1493,  4990, 4500.800,    1.502,   34.689,2,   34.689,2,  143.550,1,  151.330,2,  154.030,2,   36.300,2,    0.000,2,    2.530,2,    0.006,2,    0.006,2, -999.000,9, 2327.800,2, 2418.900,6
           NA,    P03E,     74,   1,-999.0,     -99,  2,20051111,1523,  24.2823, -141.1493,  4990, 4750.300,    1.519,   34.690,2,   34.689,2,  146.390,1,  153.410,2,  152.280,2,   36.150,2,    0.000,2,    2.518,2, -999.000,9, -999.000,9, -999.000,9, 2323.700,2, 2412.000,2
           NA,    P03E,     74,   1,-999.0,     -99,  2,20051111,1523,  24.2823, -141.1493,  4990, 5000.400,    1.487,   34.694,2,   34.694,2,  156.470,1,  163.160,2,  144.560,2,   35.370,2,    0.000,2,    2.466,2, -999.000,9, -999.000,9, -999.000,9, 2313.800,2, 2410.100,2
           NA,    P03E,     74,   1,-999.0,     -99,  2,20051111,1523,  24.2823, -141.1493,  4990, 5066.100,    1.480,   34.694,2,   34.695,6,  159.260,1,  165.380,2,  142.770,2,   35.240,2,    0.000,2,    2.456,2,    0.003,2,    0.004,2, -999.000,9, 2310.900,2, 2408.500,2
           NA,    P03E,     74,   1,-999.0,     -99,  2,20051111,1523,  24.2823, -141.1493,  4990, 5066.900,    1.480,   34.694,2,   34.695,2,  159.210,1,  165.250,2,  142.800,2,   35.270,2,    0.000,2,    2.453,2,    0.000,2,    0.000,2, -999.000,9, 2313.900,2, 2409.300,2