BOTTLE,20211903JOAExport
EXPOCODE,SECT_ID,STNNBR,CASTNO,SAMPNO,BTLNBR,BTLNBR_FLAG_W,DATE,TIME,LATITUDE,LONGITUDE,DEPTH,CTDPRS,CTDTMP,CTDSAL,CTDSAL_FLAG_W,SALNTY,SALNTY_FLAG_W,CTDOXY,CTDOXY_FLAG_W,OXYGEN,OXYGEN_FLAG_W,SILCAT,SILCAT_FLAG_W,NITRAT,NITRAT_FLAG_W,NITRIT,NITRIT_FLAG_W,PHSPHT,PHSPHT_FLAG_W,CFC-11,CFC-11_FLAG_W,CFC-12,CFC-12_FLAG_W,SF6,SF6_FLAG_W,TCARBN,TCARBN_FLAG_W,ALKALI,ALKALI_FLAG_W
,,,,,,,,,,,,DB,ITS-90,PSS-78,,PSS-78,,UMOL/KG,,UMOL/KG,,UMOL/KG,,UMOL/KG,,UMOL/KG,,UMOL/KG,,PMOL/KG,,PMOL/KG,,FMOL/KG,,UMOL/KG,,UMOL/KG
           NA,    P03E,    110,   1,-999.0,     -99,  2,20051116,1740,  24.2502, -154.6325,  4680,    9.000,   24.586,   35.169,2,   35.168,2,  194.500,1,  210.340,2,    0.910,2,    0.050,2,    0.000,2,    0.086,2,    1.693,2,    1.037,2, -999.000,9, 1993.100,2, 2321.700,2
           NA,    P03E,    110,   1,-999.0,     -99,  2,20051116,1740,  24.2502, -154.6325,  4680,   49.200,   24.580,   35.244,2,   35.245,2,  194.760,1,  210.760,2,    0.860,2,    0.040,2,    0.000,2,    0.076,2,    1.698,2,    1.032,2, -999.000,9, 1996.200,6, 2322.100,2
           NA,    P03E,    110,   1,-999.0,     -99,  2,20051116,1740,  24.2502, -154.6325,  4680,   98.900,   23.386,   35.257,2,   35.258,2,  204.380,1,  220.620,2,    1.080,2,    0.040,2,    0.000,2,    0.071,2,    1.880,2,    1.134,2, -999.000,9, 2005.500,2, 2322.000,6
           NA,    P03E,    110,   1,-999.0,     -99,  2,20051116,1740,  24.2502, -154.6325,  4680,  148.500,   21.527,   35.252,2,   35.251,2,  188.010,1,  203.380,2,    1.260,2,    0.610,2,    0.030,2,    0.124,2,    1.968,2,    1.180,2, -999.000,9, 2027.600,2, 2323.600,2
           NA,    P03E,    110,   1,-999.0,     -99,  2,20051116,1740,  24.2502, -154.6325,  4680,  199.700,   18.875,   34.936,2,   34.931,2,  184.860,1,  200.300,2,    2.530,2,    2.250,2,    0.010,2,    0.248,2,    2.251,2,    1.319,2, -999.000,9, 2044.700,2, 2299.000,2
           NA,    P03E,    110,   1,-999.0,     -99,  2,20051116,1740,  24.2502, -154.6325,  4680,  249.100,   16.445,   34.639,2,   34.631,2,  189.830,1,  205.390,2,    4.160,2,    4.050,2,    0.010,2,    0.379,2,    2.499,6,    1.432,6, -999.000,9, 2047.100,2, 2281.200,2
           NA,    P03E,    110,   1,-999.0,     -99,  2,20051116,1740,  24.2502, -154.6325,  4680,  300.700,   13.899,   34.389,2,   34.389,2,  195.760,1,  211.420,2,    7.140,2,    7.540,2,    0.000,2,    0.598,2,    2.733,2,    1.548,2, -999.000,9, 2059.900,2, 2264.200,2
           NA,    P03E,    110,   1,-999.0,     -99,  2,20051116,1740,  24.2502, -154.6325,  4680,  398.700,   10.396,   34.130,2,   34.130,2,  182.410,1,  196.490,2,   17.430,2,   15.740,2,    0.000,2,    1.178,2,    2.961,2,    1.583,2, -999.000,9, 2109.500,2, 2262.000,2
           NA,    P03E,    110,   1,-999.0,     -99,  2,20051116,1740,  24.2502, -154.6325,  4680,  499.600,    7.945,   34.060,2,   34.060,6,  139.610,1,  148.000,2,   37.610,2,   25.630,2,    0.000,2,    1.857,2,    2.365,2,    1.161,2, -999.000,9, 2178.500,2, 2275.300,2
           NA,    P03E,    110,   1,-999.0,     -99,  2,20051116,1740,  24.2502, -154.6325,  4680,  600.400,    6.201,   34.041,2,   34.041,2,   81.900,1,   88.050,2,   59.480,2,   34.190,2,    0.000,2,    2.497,2,    1.195,2,    0.578,2, -999.000,9, 2247.000,2, 2286.700,2
           NA,    P03E,    110,   1,-999.0,     -99,  2,20051116,1740,  24.2502, -154.6325,  4680,  700.500,    5.077,   34.144,2,   34.142,2,   33.440,1,   36.270,2,   84.660,2,   40.650,2,    0.000,2,    2.981,2,    0.264,2,    0.134,2, -999.000,9, 2308.200,6, 2315.900,2
           NA,    P03E,    110,   1,-999.0,     -99,  2,20051116,1740,  24.2502, -154.6325,  4680,  801.400,    4.455,   34.265,2,   34.264,2,   18.450,1,   19.770,2,  101.930,2,   42.930,2,    0.000,2,    3.150,2,    0.053,6,    0.026,6, -999.000,9, 2338.700,2, 2340.600,6
           NA,    P03E,    110,   1,-999.0,     -99,  2,20051116,1740,  24.2502, -154.6325,  4680,  900.400,    4.264,   34.369,2,   34.368,2,   21.500,1,   22.850,2,  107.840,2,   43.100,2,    0.000,2,    3.165,2,    0.019,2,    0.006,2, -999.000,9, 2345.600,2, 2352.200,2
           NA,    P03E,    110,   1,-999.0,     -99,  2,20051116,1740,  24.2502, -154.6325,  4680, 1001.900,    4.010,   34.445,2,   34.444,6,   32.460,1,   34.420,2,  112.560,2,   42.740,2,    0.000,2,    3.118,2,    0.018,2,    0.007,2, -999.000,9, 2349.200,2, 2364.500,2
           NA,    P03E,    110,   1,-999.0,     -99,  2,20051116,1740,  24.2502, -154.6325,  4680, 1201.900,    3.622,   34.517,2,   34.517,2,   46.290,1,   49.840,2,  119.640,2,   42.220,2,    0.000,2,    3.065,2,    0.010,2,    0.002,2, -999.000,9, 2349.400,2, 2378.400,2
           NA,    P03E,    110,   1,-999.0,     -99,  2,20051116,1740,  24.2502, -154.6325,  4680, 1401.100,    3.171,   34.548,2,   34.548,2,   53.720,1,   58.010,2,  129.430,2,   41.990,2,    0.000,2,    3.034,2,    0.004,2,    0.000,2, -999.000,9, 2354.800,2, 2397.800,2
           NA,    P03E,    110,   1,-999.0,     -99,  2,20051116,1740,  24.2502, -154.6325,  4680, 1601.200,    2.744,   34.574,2,   34.574,2,   62.950,1,   68.150,2,  139.850,2,   41.460,2,    0.000,2,    2.977,2,    0.011,2,    0.005,2, -999.000,9, 2362.000,2, 2403.300,2
           NA,    P03E,    110,   1,-999.0,     -99,  2,20051116,1740,  24.2502, -154.6325,  4680, 1800.800,    2.418,   34.593,2,   34.593,2,   69.960,1,   75.950,2,  148.100,2,   41.080,2,    0.000,2,    2.934,2,    0.005,2,    0.000,2, -999.000,9, 2364.000,2, 2407.300,2
           NA,    P03E,    110,   1,-999.0,     -99,  2,20051116,1740,  24.2502, -154.6325,  4680, 2001.100,    2.145,   34.612,2,   34.612,2,   76.800,1,   83.510,2,  155.740,2,   40.630,2,    0.000,2,    2.895,2,    0.000,2,    0.000,2, -999.000,9, 2364.600,2, 2415.600,2
           NA,    P03E,    110,   1,-999.0,     -99,  2,20051116,1740,  24.2502, -154.6325,  4680, 2199.600,    1.962,   34.626,2,   34.626,6,   82.790,1,   90.210,2,  160.420,2,   40.360,2,    0.000,2,    2.863,2, -999.000,9, -999.000,9, -999.000,9, 2364.900,2, 2417.500,2
           NA,    P03E,    110,   1,-999.0,     -99,  2,20051116,1740,  24.2502, -154.6325,  4680, 2398.000,    1.798,   34.641,2,   34.641,2,   91.790,1,  100.010,2,  163.100,2,   39.610,2,    0.000,2,    2.806,2,    0.000,2,    0.000,2, -999.000,9, 2363.500,6, 2422.700,2
           NA,    P03E,    110,   1,-999.0,     -99,  2,20051116,1740,  24.2502, -154.6325,  4680, 2600.600,    1.696,   34.653,2,   34.653,2,  100.250,1,  109.170,2,  163.420,2,   39.040,2,    0.000,2,    2.758,2, -999.000,9, -999.000,9, -999.000,9, 2358.800,2, 2422.600,6
           NA,    P03E,    110,   1,-999.0,     -99,  2,20051116,1740,  24.2502, -154.6325,  4680, 2800.200,    1.614,   34.660,2,   34.660,2,  106.730,1,  116.480,2,  163.720,2,   38.570,2,    0.000,2,    2.719,2, -999.000,9, -999.000,9, -999.000,9, 2357.000,2, 2426.800,2
           NA,    P03E,    110,   1,-999.0,     -99,  2,20051116,1740,  24.2502, -154.6325,  4680, 3000.800,    1.570,   34.668,2,   34.668,2,  112.750,1,  122.970,2,  163.200,2,   38.190,2,    0.000,2,    2.688,2, -999.000,9, -999.000,9, -999.000,9, 2351.800,2, 2425.400,2
           NA,    P03E,    110,   1,-999.0,     -99,  2,20051116,1740,  24.2502, -154.6325,  4680, 3249.800,    1.518,   34.674,2,   34.674,6,  120.230,1,  131.010,2,  161.390,2,   37.650,2,    0.000,2,    2.646,2,    0.000,2,    0.000,2, -999.000,9, 2345.300,2, 2426.800,2
           NA,    P03E,    110,   1,-999.0,     -99,  2,20051116,1740,  24.2502, -154.6325,  4680, 3500.300,    1.484,   34.679,2,   34.679,2,  126.840,1,  138.050,2,  159.090,2,   37.190,2,    0.000,2,    2.602,2, -999.000,9, -999.000,9, -999.000,9, 2339.000,2, 2425.400,2
           NA,    P03E,    110,   1,-999.0,     -99,  2,20051116,1740,  24.2502, -154.6325,  4680, 3751.800,    1.467,   34.682,2,   34.682,2,  132.430,1,  143.770,2,  156.600,2,   36.790,2,    0.000,2,    2.574,2, -999.000,9, -999.000,9, -999.000,9, 2337.300,2, 2421.800,2
           NA,    P03E,    110,   1,-999.0,     -99,  2,20051116,1740,  24.2502, -154.6325,  4680, 3999.300,    1.460,   34.685,2,   34.686,2,  137.260,1,  148.610,2,  154.090,2,   36.450,2,    0.000,2,    2.548,2, -999.000,9, -999.000,9, -999.000,9, 2331.600,2, 2421.700,2
           NA,    P03E,    110,   1,-999.0,     -99,  2,20051116,1740,  24.2502, -154.6325,  4680, 4251.100,    1.461,   34.688,2,   34.688,2,  141.280,1,  152.290,2,  152.470,2,   36.100,2,    0.000,2,    2.533,2,    0.002,2,    0.001,2, -999.000,9, 2329.700,6, 2422.400,2
           NA,    P03E,    110,   1,-999.0,     -99,  2,20051116,1740,  24.2502, -154.6325,  4680, 4498.000,    1.477,   34.689,2,   34.689,6,  143.760,1,  154.320,2,  151.190,2,   36.120,2,    0.000,2,    2.518,2, -999.000,9, -999.000,9, -999.000,9, 2326.700,2, 2419.800,6
           NA,    P03E,    110,   1,-999.0,     -99,  2,20051116,1740,  24.2502, -154.6325,  4680, 4741.800,    1.490,   34.690,2,   34.691,6,  147.210,1,  157.030,2,  149.400,2,   35.880,2,    0.000,2,    2.503,2,    0.000,2,    0.002,2, -999.000,9, 2325.800,2, 2419.100,2
           NA,    P03E,    108,   1,-999.0,     -99,  2,20051116,1133,  24.2690, -153.9537,  4876,    9.500,   24.554,   35.244,2,   35.243,2,  194.630,1,  210.680,2,    0.870,2,    0.050,2,    0.000,2,    0.049,2,    1.716,2,    1.033,2, -999.000,9, -999.000,9, -999.000,9
           NA,    P03E,    108,   1,-999.0,     -99,  2,20051116,1133,  24.2690, -153.9537,  4876,   49.500,   24.507,   35.281,2,   35.281,2,  195.280,1,  211.120,2,    0.830,2,    0.040,2,    0.000,2,    0.043,2,    1.716,2,    1.042,2, -999.000,9, -999.000,9, -999.000,9
           NA,    P03E,    108,   1,-999.0,     -99,  2,20051116,1133,  24.2690, -153.9537,  4876,   99.800,   22.830,   35.263,2,   35.263,2,  203.800,1,  220.250,2,    1.110,2,    0.040,2,    0.000,2,    0.035,2,    1.924,2,    1.168,2, -999.000,9, -999.000,9, -999.000,9
           NA,    P03E,    108,   1,-999.0,     -99,  2,20051116,1133,  24.2690, -153.9537,  4876,  148.000,   21.393,   35.224,2,   35.224,2,  188.540,1,  203.900,2,    1.300,2,    0.460,2,    0.070,2,    0.097,2,    2.005,2,    1.185,2, -999.000,9, -999.000,9, -999.000,9
           NA,    P03E,    108,   1,-999.0,     -99,  2,20051116,1133,  24.2690, -153.9537,  4876,  200.700,   18.702,   34.890,2,   34.892,2,  183.600,1,  198.040,2,    2.510,2,    2.400,2,    0.010,2,    0.245,2,    2.278,2,    1.299,2, -999.000,9, -999.000,9, -999.000,9
           NA,    P03E,    108,   1,-999.0,     -99,  2,20051116,1133,  24.2690, -153.9537,  4876,  250.600,   16.495,   34.655,2,   34.656,2,  191.670,1,  206.990,2,    4.020,2,    3.760,2,    0.010,2,    0.344,2,    2.520,6,    1.417,6, -999.000,9, -999.000,9, -999.000,9
           NA,    P03E,    108,   1,-999.0,     -99,  2,20051116,1133,  24.2690, -153.9537,  4876,  302.600,   13.742,   34.381,2,   34.387,2,  195.880,1,  211.180,2,    7.340,2,    7.790,2,    0.000,2,    0.594,2,    2.827,2,    1.526,2, -999.000,9, -999.000,9, -999.000,9
           NA,    P03E,    108,   1,-999.0,     -99,  2,20051116,1133,  24.2690, -153.9537,  4876,  400.900,   10.457,   34.124,2,   34.124,2,  189.580,1,  204.070,2,   16.310,2,   14.930,2,    0.000,2,    1.095,2,    3.150,2,    1.598,2, -999.000,9, -999.000,9, -999.000,9
           NA,    P03E,    108,   1,-999.0,     -99,  2,20051116,1133,  24.2690, -153.9537,  4876,  501.400,    8.141,   34.068,2,   34.068,6,  133.020,1,  143.520,2,   35.650,2,   25.390,2,    0.000,2,    1.863,2,    2.411,2,    1.134,2, -999.000,9, -999.000,9, -999.000,9
           NA,    P03E,    108,   1,-999.0,     -99,  2,20051116,1133,  24.2690, -153.9537,  4876,  602.100,    6.254,   34.034,2,   34.034,2,   86.430,1,   92.570,2,   58.500,2,   33.760,2,    0.000,2,    2.460,2,    1.347,2,    0.615,2, -999.000,9, -999.000,9, -999.000,9
           NA,    P03E,    108,   1,-999.0,     -99,  2,20051116,1133,  24.2690, -153.9537,  4876,  701.400,    5.090,   34.137,2,   34.136,2,   36.840,1,   39.490,2,   84.150,2,   40.240,2,    0.000,2,    2.952,2,    0.320,2,    0.152,2, -999.000,9, -999.000,9, -999.000,9
           NA,    P03E,    108,   1,-999.0,     -99,  2,20051116,1133,  24.2690, -153.9537,  4876,  802.200,    4.594,   34.263,2,   34.255,2,   20.330,1,   21.550,2,   99.520,2,   42.490,2,    0.000,2,    3.139,2,    0.068,6,    0.037,6, -999.000,9, -999.000,9, -999.000,9
           NA,    P03E,    108,   1,-999.0,     -99,  2,20051116,1133,  24.2690, -153.9537,  4876,  901.700,    4.225,   34.375,2,   34.374,2,   21.900,1,   23.550,2,  108.190,2,   43.030,2,    0.000,2,    3.160,2,    0.014,2,    0.012,2, -999.000,9, -999.000,9, -999.000,9
           NA,    P03E,    108,   1,-999.0,     -99,  2,20051116,1133,  24.2690, -153.9537,  4876, 1001.900,    3.958,   34.457,2,   34.456,6,   33.120,1,   35.570,2,  113.750,2,   42.810,2,    0.000,2,    3.121,2,    0.002,2,    0.005,2, -999.000,9, -999.000,9, -999.000,9
           NA,    P03E,    108,   1,-999.0,     -99,  2,20051116,1133,  24.2690, -153.9537,  4876, 1198.600,    3.461,   34.519,2,   34.519,2,   45.640,1,   49.110,2,  123.980,2,   42.320,2,    0.000,2,    3.066,2,    0.004,2,    0.001,2, -999.000,9, -999.000,9, -999.000,9
           NA,    P03E,    108,   1,-999.0,     -99,  2,20051116,1133,  24.2690, -153.9537,  4876, 1399.300,    3.039,   34.553,2,   34.553,2,   54.600,1,   58.970,2,  133.390,2,   41.910,2,    0.000,2,    3.028,2,    0.000,2,    0.001,2, -999.000,9, -999.000,9, -999.000,9
           NA,    P03E,    108,   1,-999.0,     -99,  2,20051116,1133,  24.2690, -153.9537,  4876, 1600.400,    2.667,   34.581,2,   34.581,2,   64.840,1,   70.470,2,  141.580,2,   41.340,2,    0.000,2,    2.967,2,    0.002,2,    0.001,2, -999.000,9, -999.000,9, -999.000,9
           NA,    P03E,    108,   1,-999.0,     -99,  2,20051116,1133,  24.2690, -153.9537,  4876, 1801.300,    2.402,   34.599,2,   34.599,6,   72.000,1,   78.230,2,  147.860,2,   40.890,2,    0.000,2,    2.931,2,    0.002,2,    0.000,2, -999.000,9, -999.000,9, -999.000,9
           NA,    P03E,    108,   1,-999.0,     -99,  2,20051116,1133,  24.2690, -153.9537,  4876, 2001.300,    2.158,   34.612,2,   34.613,2,   77.280,1,   83.890,2,  154.870,2,   40.540,2,    0.000,2,    2.899,2,    0.001,2,    0.000,2, -999.000,9, -999.000,9, -999.000,9
           NA,    P03E,    108,   1,-999.0,     -99,  2,20051116,1133,  24.2690, -153.9537,  4876, 2201.700,    1.964,   34.628,2,   34.629,2,   84.400,1,   91.970,2,  159.900,2,   40.030,2,    0.000,2,    2.848,2, -999.000,9, -999.000,9, -999.000,9, -999.000,9, -999.000,9
           NA,    P03E,    108,   1,-999.0,     -99,  2,20051116,1133,  24.2690, -153.9537,  4876, 2401.700,    1.847,   34.639,2,   34.639,2,   90.630,1,   98.760,2,  162.040,2,   39.630,2,    0.000,2,    2.815,2, -999.000,9, -999.000,9, -999.000,9, -999.000,9, -999.000,9
           NA,    P03E,    108,   1,-999.0,     -99,  2,20051116,1133,  24.2690, -153.9537,  4876, 2601.800,    1.702,   34.651,2,   34.651,2,   98.610,1,  107.470,2,  164.510,2,   39.130,2,    0.000,2,    2.769,2,    0.000,2,    0.001,2, -999.000,9, -999.000,9, -999.000,9
           NA,    P03E,    108,   1,-999.0,     -99,  2,20051116,1133,  24.2690, -153.9537,  4876, 2799.900,    1.610,   34.659,2,   34.659,2,  107.030,1,  116.690,2,  163.260,2,   38.560,2,    0.000,2,    2.720,2, -999.000,9, -999.000,9, -999.000,9, -999.000,9, -999.000,9
           NA,    P03E,    108,   1,-999.0,     -99,  2,20051116,1133,  24.2690, -153.9537,  4876, 3001.800,    1.555,   34.667,2,   34.667,6,  113.620,1,  124.070,2,  162.600,2,   38.060,2,    0.000,2,    2.682,2, -999.000,9, -999.000,9, -999.000,9, -999.000,9, -999.000,9
           NA,    P03E,    108,   1,-999.0,     -99,  2,20051116,1133,  24.2690, -153.9537,  4876, 3249.700,    1.509,   34.674,2,   34.674,2,  120.740,1,  131.770,2,  161.360,2,   37.560,2,    0.000,2,    2.636,2, -999.000,9, -999.000,9, -999.000,9, -999.000,9, -999.000,9
           NA,    P03E,    108,   1,-999.0,     -99,  2,20051116,1133,  24.2690, -153.9537,  4876, 3501.200,    1.472,   34.679,2,   34.679,2,  128.150,1,  139.790,2,  157.870,2,   37.000,2,    0.000,2,    2.591,2,    0.000,2,    0.000,2, -999.000,9, -999.000,9, -999.000,9
           NA,    P03E,    108,   1,-999.0,     -99,  2,20051116,1133,  24.2690, -153.9537,  4876, 3752.500,    1.455,   34.683,2,   34.683,2,  133.590,1,  145.340,2,  156.330,2,   36.650,2,    0.000,2,    2.572,2, -999.000,9, -999.000,9, -999.000,9, -999.000,9, -999.000,9
           NA,    P03E,    108,   1,-999.0,     -99,  2,20051116,1133,  24.2690, -153.9537,  4876, 4001.700,    1.453,   34.686,2,   34.686,2,  137.660,1,  149.280,2,  154.780,2,   36.380,2,    0.000,2,    2.554,2, -999.000,9, -999.000,9, -999.000,9, -999.000,9, -999.000,9
           NA,    P03E,    108,   1,-999.0,     -99,  2,20051116,1133,  24.2690, -153.9537,  4876, 4252.700,    1.463,   34.688,2,   34.688,6,  140.750,1,  152.090,2,  153.060,2,   36.200,2,    0.000,2,    2.529,2, -999.000,9, -999.000,9, -999.000,9, -999.000,9, -999.000,9
           NA,    P03E,    108,   1,-999.0,     -99,  2,20051116,1133,  24.2690, -153.9537,  4876, 4501.100,    1.480,   34.689,2,   34.689,2,  143.080,1,  154.020,2,  152.190,2,   36.000,2,    0.000,2,    2.520,2,    0.000,2,    0.001,2, -999.000,9, -999.000,9, -999.000,9
           NA,    P03E,    108,   1,-999.0,     -99,  2,20051116,1133,  24.2690, -153.9537,  4876, 4751.300,    1.503,   34.689,2,   34.690,2,  145.040,1,  155.140,2,  151.250,2,   35.950,2,    0.000,2,    2.515,2, -999.000,9, -999.000,9, -999.000,9, -999.000,9, -999.000,9
           NA,    P03E,    108,   1,-999.0,     -99,  2,20051116,1133,  24.2690, -153.9537,  4876, 4934.100,    1.516,   34.690,2,   34.691,6,  147.530,1,  156.870,2,  149.910,2,   35.800,2,    0.000,2,    2.512,2,    0.000,2,    0.001,2, -999.000,9, -999.000,9, -999.000,9