BOTTLE,20211903JOAExport
EXPOCODE,SECT_ID,STNNBR,CASTNO,SAMPNO,BTLNBR,BTLNBR_FLAG_W,DATE,TIME,LATITUDE,LONGITUDE,DEPTH,CTDPRS,CTDTMP,CTDSAL,CTDSAL_FLAG_W,SALNTY,SALNTY_FLAG_W,CTDOXY,CTDOXY_FLAG_W,OXYGEN,OXYGEN_FLAG_W,SILCAT,SILCAT_FLAG_W,NITRAT,NITRAT_FLAG_W,NITRIT,NITRIT_FLAG_W,PHSPHT,PHSPHT_FLAG_W,CFC-11,CFC-11_FLAG_W,CFC-12,CFC-12_FLAG_W,SF6,SF6_FLAG_W,TCARBN,TCARBN_FLAG_W,ALKALI,ALKALI_FLAG_W
,,,,,,,,,,,,DB,ITS-90,PSS-78,,PSS-78,,UMOL/KG,,UMOL/KG,,UMOL/KG,,UMOL/KG,,UMOL/KG,,UMOL/KG,,PMOL/KG,,PMOL/KG,,FMOL/KG,,UMOL/KG,,UMOL/KG
           NA,    P03E,     36,   1,-999.0,     -99,  2,20051104,2016,  27.5980, -125.7693,  4493,   10.000,   20.380,   34.050,2,   34.050,2,  220.060,1,  229.650,2,    1.720,2,    0.040,2,    0.010,2,    0.234,2,    2.121,2,    1.268,2, -999.000,9, -999.000,9, -999.000,9
           NA,    P03E,     36,   1,-999.0,     -99,  2,20051104,2016,  27.5980, -125.7693,  4493,   49.400,   20.425,   34.079,2,   34.070,2,  219.770,1,  229.840,2,    1.660,2,    0.030,2,    0.000,2,    0.230,2,    2.111,2,    1.289,2, -999.000,9, -999.000,9, -999.000,9
           NA,    P03E,     36,   1,-999.0,     -99,  2,20051104,2016,  27.5980, -125.7693,  4493,   99.100,   17.573,   33.956,2,   33.954,2,  231.200,1,  240.600,2,    1.980,2,    0.030,2,    0.000,2,    0.231,2,    2.484,2,    1.464,2, -999.000,9, -999.000,9, -999.000,9
           NA,    P03E,     36,   1,-999.0,     -99,  2,20051104,2016,  27.5980, -125.7693,  4493,  149.500,   13.474,   33.600,2,   33.600,2,  215.360,1,  222.970,2,    5.070,2,    4.750,2,    0.020,2,    0.597,2,    2.965,2,    1.662,2, -999.000,9, -999.000,9, -999.000,9
           NA,    P03E,     36,   1,-999.0,     -99,  2,20051104,2016,  27.5980, -125.7693,  4493,  201.500,   10.178,   33.605,2,   33.599,2,  191.290,1,  198.740,2,   14.180,2,   14.680,2,    0.010,2,    1.202,2,    3.338,2,    1.791,2, -999.000,9, -999.000,9, -999.000,9
           NA,    P03E,     36,   1,-999.0,     -99,  2,20051104,2016,  27.5980, -125.7693,  4493,  249.900,    9.018,   33.883,2,   33.902,2,  154.700,1,  156.680,2,   25.800,2,   22.420,2,    0.010,2,    1.687,2,    3.042,6,    1.577,6, -999.000,9, -999.000,9, -999.000,9
           NA,    P03E,     36,   1,-999.0,     -99,  2,20051104,2016,  27.5980, -125.7693,  4493,  300.500,    8.188,   34.031,2,   34.033,2,  128.390,1,  131.010,2,   35.720,2,   26.680,2,    0.000,2,    1.959,2,    2.582,2,    1.270,2, -999.000,9, -999.000,9, -999.000,9
           NA,    P03E,     36,   1,-999.0,     -99,  2,20051104,2016,  27.5980, -125.7693,  4493,  402.800,    6.648,   34.098,2,   34.098,2,   60.400,1,   62.170,2,   57.970,2,   35.240,2,    0.000,2,    2.653,2,    1.200,2,    0.560,2, -999.000,9, -999.000,9, -999.000,9
           NA,    P03E,     36,   1,-999.0,     -99,  2,20051104,2016,  27.5980, -125.7693,  4493,  502.600,    5.846,   34.169,2,   34.169,6,   32.040,1,   32.410,2,   73.510,2,   38.950,2,    0.000,2,    2.950,2,    0.476,2,    0.219,2, -999.000,9, -999.000,9, -999.000,9
           NA,    P03E,     36,   1,-999.0,     -99,  2,20051104,2016,  27.5980, -125.7693,  4493,  601.500,    5.279,   34.253,2,   34.253,2,   16.540,1,   16.720,2,   87.030,2,   41.200,2,    0.000,2,    3.132,2,    0.137,2,    0.065,2, -999.000,9, -999.000,9, -999.000,9
           NA,    P03E,     36,   1,-999.0,     -99,  2,20051104,2016,  27.5980, -125.7693,  4493,  701.100,    4.832,   34.340,2,   34.341,2,   12.060,1,   12.070,2,   97.650,2,   42.640,2,    0.000,2,    3.222,2,    0.025,2,    0.013,2, -999.000,9, -999.000,9, -999.000,9
           NA,    P03E,     36,   1,-999.0,     -99,  2,20051104,2016,  27.5980, -125.7693,  4493,  801.100,    4.457,   34.410,2,   34.410,2,   15.120,1,   15.370,2,  105.550,2,   43.280,2,    0.000,2,    3.242,2,    0.007,6,    0.005,6, -999.000,9, -999.000,9, -999.000,9
           NA,    P03E,     36,   1,-999.0,     -99,  2,20051104,2016,  27.5980, -125.7693,  4493,  901.600,    4.237,   34.453,2,   34.452,2,   19.490,1,   19.910,2,  110.320,2,   43.400,2,    0.000,2,    3.225,2,    0.010,2,    0.006,2, -999.000,9, -999.000,9, -999.000,9
           NA,    P03E,     36,   1,-999.0,     -99,  2,20051104,2016,  27.5980, -125.7693,  4493, 1001.100,    3.908,   34.483,2,   34.483,6,   25.870,1,   26.680,2,  117.050,2,   43.480,2,    0.000,2,    3.209,2,    0.007,2,    0.006,2, -999.000,9, -999.000,9, -999.000,9
           NA,    P03E,     36,   1,-999.0,     -99,  2,20051104,2016,  27.5980, -125.7693,  4493, 1201.400,    3.411,   34.528,2,   34.527,2,   34.880,1,   35.970,2,  129.070,2,   43.330,2,    0.000,2,    3.178,2,    0.008,2,    0.007,2, -999.000,9, -999.000,9, -999.000,9
           NA,    P03E,     36,   1,-999.0,     -99,  2,20051104,2016,  27.5980, -125.7693,  4493, 1400.700,    2.963,   34.560,2,   34.560,2,   45.280,1,   46.940,2,  140.130,2,   42.750,2,    0.000,2,    3.129,2,    0.007,2,    0.008,2, -999.000,9, -999.000,9, -999.000,9
           NA,    P03E,     36,   1,-999.0,     -99,  2,20051104,2016,  27.5980, -125.7693,  4493, 1599.600,    2.656,   34.582,2,   34.582,2,   54.710,1,   57.090,2,  147.260,2,   42.230,2,    0.000,2,    3.064,2,    0.006,2,    0.004,2, -999.000,9, -999.000,9, -999.000,9
           NA,    P03E,     36,   1,-999.0,     -99,  2,20051104,2016,  27.5980, -125.7693,  4493, 1799.400,    2.340,   34.607,2,   34.607,6,   66.840,1,   69.710,2,  154.230,2,   41.510,2,    0.000,2,    2.991,2,    0.005,2,    0.005,2, -999.000,9, -999.000,9, -999.000,9
           NA,    P03E,     36,   1,-999.0,     -99,  2,20051104,2016,  27.5980, -125.7693,  4493, 2001.300,    2.126,   34.625,2,   34.625,2,   77.320,1,   80.630,2,  158.680,2,   40.830,2,    0.000,2,    2.930,2,    0.000,2,    0.000,2, -999.000,9, -999.000,9, -999.000,9
           NA,    P03E,     36,   1,-999.0,     -99,  2,20051104,2016,  27.5980, -125.7693,  4493, 2200.600,    1.971,   34.640,2,   34.640,2,   87.220,1,   91.070,2,  160.830,2,   40.230,2,    0.000,2,    2.874,2,    0.002,2,    0.000,2, -999.000,9, -999.000,9, -999.000,9
           NA,    P03E,     36,   1,-999.0,     -99,  2,20051104,2016,  27.5980, -125.7693,  4493, 2401.200,    1.842,   34.651,2,   34.651,2,   95.640,1,  100.070,2,  162.820,2,   39.630,2,    0.000,2,    2.820,2, -999.000,9, -999.000,9, -999.000,9, -999.000,9, -999.000,9
           NA,    P03E,     36,   1,-999.0,     -99,  2,20051104,2016,  27.5980, -125.7693,  4493, 2600.800,    1.746,   34.657,2,   34.657,2,  101.770,1,  106.540,2,  164.840,2,   39.170,2,    0.000,2,    2.776,2, -999.000,9, -999.000,9, -999.000,9, -999.000,9, -999.000,9
           NA,    P03E,     36,   1,-999.0,     -99,  2,20051104,2016,  27.5980, -125.7693,  4493, 2800.500,    1.661,   34.664,2,   34.663,6,  108.100,1,  113.110,2,  166.620,2,   38.810,2,    0.000,2,    2.748,2,    0.009,2,    0.001,2, -999.000,9, -999.000,9, -999.000,9
           NA,    P03E,     36,   1,-999.0,     -99,  2,20051104,2016,  27.5980, -125.7693,  4493, 3000.900,    1.597,   34.669,2,   34.669,2,  113.780,1,  118.920,2,  167.590,2,   38.430,2,    0.000,2,    2.715,2, -999.000,9, -999.000,9, -999.000,9, -999.000,9, -999.000,9
           NA,    P03E,     36,   1,-999.0,     -99,  2,20051104,2016,  27.5980, -125.7693,  4493, 3249.700,    1.544,   34.674,2,   34.674,2,  120.120,1,  125.310,2,  167.970,2,   38.010,2,    0.000,2,    2.676,2, -999.000,9, -999.000,9, -999.000,9, -999.000,9, -999.000,9
           NA,    P03E,     36,   1,-999.0,     -99,  2,20051104,2016,  27.5980, -125.7693,  4493, 3499.500,    1.513,   34.679,2,   34.679,2,  125.840,1,  131.270,2,  167.250,2,   37.710,2,    0.000,2,    2.644,2,    0.011,2,    0.004,2, -999.000,9, -999.000,9, -999.000,9
           NA,    P03E,     36,   1,-999.0,     -99,  2,20051104,2016,  27.5980, -125.7693,  4493, 3750.300,    1.502,   34.682,2,   34.682,6,  130.720,1,  136.010,2,  166.200,2,   37.340,2,    0.000,2,    2.621,2, -999.000,9, -999.000,9, -999.000,9, -999.000,9, -999.000,9
           NA,    P03E,     36,   1,-999.0,     -99,  2,20051104,2016,  27.5980, -125.7693,  4493, 4001.400,    1.518,   34.683,2,   34.683,2,  133.020,1,  137.960,2,  165.430,2,   37.310,2,    0.000,2,    2.614,2, -999.000,9, -999.000,9, -999.000,9, -999.000,9, -999.000,9
           NA,    P03E,     36,   1,-999.0,     -99,  2,20051104,2016,  27.5980, -125.7693,  4493, 4251.700,    1.542,   34.684,2,   34.684,2,  134.220,1,  138.490,2,  165.150,2,   37.220,2,    0.000,2,    2.609,2, -999.000,9, -999.000,9, -999.000,9, -999.000,9, -999.000,9
           NA,    P03E,     36,   1,-999.0,     -99,  2,20051104,2016,  27.5980, -125.7693,  4493, 4521.500,    1.569,   34.684,2,   34.684,6,  135.970,1,  139.340,2,  164.710,2,   37.140,2,    0.000,2,    2.605,2,    0.014,2,    0.013,2, -999.000,9, -999.000,9, -999.000,9
           NA,    P03E,     34,   1,-999.0,     -99,  2,20051104,1356,  28.1022, -125.1380,  4294,    9.900,   20.075,   33.781,2,   33.786,2,  221.080,1,  230.100,2,    1.820,2,    0.030,2,    0.000,2,    0.261,2,    2.146,2,    1.270,2, -999.000,9, 2003.200,2, 2259.900,2
           NA,    P03E,     34,   1,-999.0,     -99,  2,20051104,1356,  28.1022, -125.1380,  4294,   49.400,   20.524,   34.070,2,   34.065,2,  219.800,1,  229.400,2,    1.620,2,    0.030,2,    0.000,2,    0.243,2,    2.124,2,    1.265,2, -999.000,9, 2009.200,6, 2274.700,2
           NA,    P03E,     34,   1,-999.0,     -99,  2,20051104,1356,  28.1022, -125.1380,  4294,  101.100,   17.007,   33.855,2,   33.851,2,  231.250,1,  240.510,2,    2.060,2,    0.030,2,    0.000,2,    0.261,2,    2.565,2,    1.483,2, -999.000,9, 2009.500,2, 2252.400,6
           NA,    P03E,     34,   1,-999.0,     -99,  2,20051104,1356,  28.1022, -125.1380,  4294,  150.100,   13.799,   33.694,2,   33.694,2,  214.030,1,  221.780,2,    4.840,2,    4.580,2,    0.020,2,    0.575,2,    2.932,2,    1.648,2, -999.000,9, 2039.500,2, 2234.600,2
           NA,    P03E,     34,   1,-999.0,     -99,  2,20051104,1356,  28.1022, -125.1380,  4294,  199.200,   10.542,   33.556,2,   33.568,2,  195.560,1,  201.370,2,   12.860,2,   13.680,2,    0.000,2,    1.144,2,    3.259,2,    1.793,2, -999.000,9, 2089.200,2, 2230.800,2
           NA,    P03E,     34,   1,-999.0,     -99,  2,20051104,1356,  28.1022, -125.1380,  4294,  249.200,    9.118,   33.862,2,   33.869,2,  159.460,1,  164.630,2,   23.960,2,   21.390,2,    0.000,2,    1.617,2,    3.144,6,    1.655,6, -999.000,9, 2148.300,2, 2247.800,2
           NA,    P03E,     34,   1,-999.0,     -99,  2,20051104,1356,  28.1022, -125.1380,  4294,  300.800,    8.093,   34.037,2,   34.038,2,  121.140,1,  125.180,2,   36.800,2,   27.360,2,    0.000,2,    2.014,2,    2.559,2,    1.255,2, -999.000,9, 2193.900,2, 2268.800,2
           NA,    P03E,     34,   1,-999.0,     -99,  2,20051104,1356,  28.1022, -125.1380,  4294,  399.700,    6.693,   34.071,2,   34.074,2,   76.040,1,   76.260,2,   56.040,2,   34.240,2,    0.000,2,    2.544,2,    1.325,2,    0.651,2, -999.000,9, 2250.300,2, 2285.500,2
           NA,    P03E,     34,   1,-999.0,     -99,  2,20051104,1356,  28.1022, -125.1380,  4294,  500.900,    5.709,   34.151,2,   34.151,6,   36.670,1,   37.840,2,   74.700,2,   38.900,2,    0.000,2,    2.922,2,    0.446,2,    0.224,2, -999.000,9, 2298.000,2, 2307.800,2
           NA,    P03E,     34,   1,-999.0,     -99,  2,20051104,1356,  28.1022, -125.1380,  4294,  599.600,    5.334,   34.279,2,   34.279,2,   14.650,1,   15.070,2,   86.900,2,   41.260,2,    0.000,2,    3.153,2,    0.112,2,    0.049,2, -999.000,9, 2327.300,2, 2330.000,2
           NA,    P03E,     34,   1,-999.0,     -99,  2,20051104,1356,  28.1022, -125.1380,  4294,  701.100,    4.938,   34.355,2,   34.355,2,   11.590,1,   11.930,2,   95.820,2,   42.430,2,    0.000,2,    3.224,2,    0.028,2,    0.015,2, -999.000,9, 2342.000,6, 2340.800,2
           NA,    P03E,     34,   1,-999.0,     -99,  2,20051104,1356,  28.1022, -125.1380,  4294,  800.000,    4.551,   34.396,2,   34.397,2,   14.010,1,   14.440,2,  103.910,2,   43.160,2,    0.000,2,    3.243,2,    0.029,6,    0.012,6, -999.000,9, 2351.000,2, 2354.100,6
           NA,    P03E,     34,   1,-999.0,     -99,  2,20051104,1356,  28.1022, -125.1380,  4294,  900.000,    4.246,   34.446,2,   34.445,2,   19.150,1,   19.610,2,  109.980,2,   43.350,2,    0.000,2,    3.225,2,    0.012,2,    0.005,2, -999.000,9, 2354.700,2, 2362.100,2
           NA,    P03E,     34,   1,-999.0,     -99,  2,20051104,1356,  28.1022, -125.1380,  4294, 1001.100,    3.930,   34.482,2,   34.482,6,   25.380,1,   26.420,2,  116.840,2,   43.460,2,    0.000,2,    3.220,2,    0.000,2,    0.003,2, -999.000,9, 2359.100,2, 2373.600,2
           NA,    P03E,     34,   1,-999.0,     -99,  2,20051104,1356,  28.1022, -125.1380,  4294, 1200.500,    3.421,   34.526,2,   34.526,2,   35.800,1,   37.100,2,  128.450,2,   43.160,2,    0.000,2,    3.175,2,    0.003,2,    0.005,2, -999.000,9, 2366.600,2, 2384.200,2
           NA,    P03E,     34,   1,-999.0,     -99,  2,20051104,1356,  28.1022, -125.1380,  4294, 1400.200,    2.980,   34.557,2,   34.557,2,   45.080,1,   46.700,2,  139.520,2,   42.770,2,    0.000,2,    3.131,2,    0.000,2,    0.003,2, -999.000,9, 2372.200,2, 2389.600,2
           NA,    P03E,     34,   1,-999.0,     -99,  2,20051104,1356,  28.1022, -125.1380,  4294, 1600.600,    2.631,   34.584,2,   34.584,2,   55.240,1,   57.400,2,  148.410,2,   42.160,2,    0.000,2,    3.070,2,    0.000,2,    0.003,2, -999.000,9, 2376.000,2, 2402.600,2
           NA,    P03E,     34,   1,-999.0,     -99,  2,20051104,1356,  28.1022, -125.1380,  4294, 1800.800,    2.340,   34.608,2,   34.609,2,   66.680,1,   69.390,2,  154.770,2,   41.450,2,    0.000,2,    3.001,2, -999.000,3,    0.000,2, -999.000,9, 2373.500,2, 2408.700,2
           NA,    P03E,     34,   1,-999.0,     -99,  2,20051104,1356,  28.1022, -125.1380,  4294, 2000.500,    2.108,   34.627,2,   34.627,2,   78.720,1,   81.930,2,  159.020,2,   40.730,2,    0.000,2,    2.929,2,    0.000,2,    0.000,2, -999.000,9, 2370.500,2, 2413.900,2
           NA,    P03E,     34,   1,-999.0,     -99,  2,20051104,1356,  28.1022, -125.1380,  4294, 2201.100,    1.959,   34.641,2,   34.641,6,   88.190,1,   91.940,2,  161.010,2,   40.170,2,    0.000,2,    2.861,2,    0.000,2,    0.000,2, -999.000,9, 2367.900,2, 2416.900,2
           NA,    P03E,     34,   1,-999.0,     -99,  2,20051104,1356,  28.1022, -125.1380,  4294, 2399.800,    1.854,   34.650,2,   34.650,2,   95.580,1,   99.780,2,  162.480,2,   39.740,2,    0.000,2,    2.821,2,    0.000,2,    0.000,2, -999.000,9, 2363.200,6, 2418.900,2
           NA,    P03E,     34,   1,-999.0,     -99,  2,20051104,1356,  28.1022, -125.1380,  4294, 2601.500,    1.754,   34.659,2,   34.659,2,  102.830,1,  107.470,2,  164.040,2,   39.250,2,    0.000,2,    2.778,2,    0.000,2,    0.000,2, -999.000,9, 2358.400,2, 2422.500,6
           NA,    P03E,     34,   1,-999.0,     -99,  2,20051104,1356,  28.1022, -125.1380,  4294, 2801.400,    1.669,   34.665,2,   34.666,2,  109.360,1,  114.050,2,  165.830,2,   38.760,2,    0.000,2,    2.747,2, -999.000,9, -999.000,9, -999.000,9, 2353.700,2, 2426.900,2
           NA,    P03E,     34,   1,-999.0,     -99,  2,20051104,1356,  28.1022, -125.1380,  4294, 3000.600,    1.616,   34.669,2,   34.670,2,  114.140,1,  118.970,2,  166.720,2,   38.530,2,    0.000,2,    2.713,2,    0.001,2,    0.003,2, -999.000,9, 2351.100,2, 2423.400,2
           NA,    P03E,     34,   1,-999.0,     -99,  2,20051104,1356,  28.1022, -125.1380,  4294, 3251.400,    1.562,   34.673,2,   34.673,6,  118.880,1,  123.810,2,  167.950,2,   38.080,2,    0.000,2,    2.683,2, -999.000,9, -999.000,9, -999.000,9, 2348.500,2, 2425.000,2
           NA,    P03E,     34,   1,-999.0,     -99,  2,20051104,1356,  28.1022, -125.1380,  4294, 3499.400,    1.530,   34.677,2,   34.677,2,  124.160,1,  128.940,2,  167.920,2,   37.830,2,    0.000,2,    2.651,2,    0.003,2,    0.006,2, -999.000,9, 2343.700,2, 2423.000,2
           NA,    P03E,     34,   1,-999.0,     -99,  2,20051104,1356,  28.1022, -125.1380,  4294, 3751.700,    1.510,   34.681,2,   34.681,2,  129.930,1,  134.600,2,  166.940,2,   37.510,2,    0.000,2,    2.626,2, -999.000,9, -999.000,9, -999.000,9, 2344.300,2, 2425.200,2
           NA,    P03E,     34,   1,-999.0,     -99,  2,20051104,1356,  28.1022, -125.1380,  4294, 4002.400,    1.516,   34.683,2,   34.683,6,  133.230,1,  137.510,2,  166.140,2,   37.350,2,    0.000,2,    2.608,2,    0.001,2,    0.007,2, -999.000,9, 2343.500,2, 2429.000,2
           NA,    P03E,     34,   1,-999.0,     -99,  2,20051104,1356,  28.1022, -125.1380,  4294, 4250.300,    1.536,   34.685,2,   34.685,2,  135.120,1,  138.950,2,  165.640,2,   37.190,2,    0.000,2,    2.605,2, -999.000,9, -999.000,9, -999.000,9, -999.000,4, 2425.200,2
           NA,    P03E,     34,   1,-999.0,     -99,  2,20051104,1356,  28.1022, -125.1380,  4294, 4365.000,    1.549,   34.685,2,   34.685,6,  135.860,1,  138.980,2,  165.460,2,   37.140,2,    0.000,2,    2.609,2,    0.000,2,    0.008,2, -999.000,9, -999.000,4, 2428.000,2