BOTTLE,20211903JOAExport
EXPOCODE,SECT_ID,STNNBR,CASTNO,SAMPNO,BTLNBR,BTLNBR_FLAG_W,DATE,TIME,LATITUDE,LONGITUDE,DEPTH,CTDPRS,CTDTMP,CTDSAL,CTDSAL_FLAG_W,SALNTY,SALNTY_FLAG_W,CTDOXY,CTDOXY_FLAG_W,OXYGEN,OXYGEN_FLAG_W,SILCAT,SILCAT_FLAG_W,NITRAT,NITRAT_FLAG_W,NITRIT,NITRIT_FLAG_W,PHSPHT,PHSPHT_FLAG_W,CFC-11,CFC-11_FLAG_W,CFC-12,CFC-12_FLAG_W,SF6,SF6_FLAG_W,TCARBN,TCARBN_FLAG_W,ALKALI,ALKALI_FLAG_W
,,,,,,,,,,,,DB,ITS-90,PSS-78,,PSS-78,,UMOL/KG,,UMOL/KG,,UMOL/KG,,UMOL/KG,,UMOL/KG,,UMOL/KG,,PMOL/KG,,PMOL/KG,,FMOL/KG,,UMOL/KG,,UMOL/KG
           NA,    P03C,    193,   1,-999.0,     -99,  2,20051206,1659,  24.2463, -178.3617,  5539,   10.000,   25.225,   35.253,2,   35.255,2,  184.300,1,  206.720,2,    0.950,2,    0.040,2,    0.000,2,    0.038,2,    1.655,2,    0.982,2, -999.000,9, -999.000,9, -999.000,9
           NA,    P03C,    193,   1,-999.0,     -99,  2,20051206,1659,  24.2463, -178.3617,  5539,   49.200,   25.057,   35.254,2,   35.250,2,  184.880,1,  209.470,2,    1.220,2,    0.040,2,    0.010,2,    0.032,2,    1.698,2,    1.001,2, -999.000,9, -999.000,9, -999.000,9
           NA,    P03C,    193,   1,-999.0,     -99,  2,20051206,1659,  24.2463, -178.3617,  5539,   99.700,   20.350,   35.044,2,   35.034,2,  186.740,1,  208.950,2,    2.030,2,    0.320,2,    0.110,2,    0.126,2,    2.122,2,    1.232,2, -999.000,9, -999.000,9, -999.000,9
           NA,    P03C,    193,   1,-999.0,     -99,  2,20051206,1659,  24.2463, -178.3617,  5539,  150.600,   17.318,   34.805,2,   34.802,2,  191.540,1,  214.930,2,    3.480,2,    3.190,2,    0.020,2,    0.278,2,    2.336,2,    1.354,2, -999.000,9, -999.000,9, -999.000,9
           NA,    P03C,    193,   1,-999.0,     -99,  2,20051206,1659,  24.2463, -178.3617,  5539,  199.600,   16.824,   34.774,2,   34.773,2,  198.020,1,  222.280,2,    3.870,2,    3.730,2,    0.010,2,    0.296,2,    2.362,2,    1.368,2, -999.000,9, -999.000,9, -999.000,9
           NA,    P03C,    193,   1,-999.0,     -99,  2,20051206,1659,  24.2463, -178.3617,  5539,  249.500,   16.344,   34.721,2,   34.717,2,  194.200,1,  217.490,2,    4.910,2,    4.930,2,    0.010,2,    0.378,2,    2.408,6,    1.375,6, -999.000,9, -999.000,9, -999.000,9
           NA,    P03C,    193,   1,-999.0,     -99,  2,20051206,1659,  24.2463, -178.3617,  5539,  301.400,   15.202,   34.615,2,   34.616,2,  190.030,1,  213.090,2,    6.960,2,    6.830,2,    0.010,2,    0.513,2,    2.504,2,    1.409,2, -999.000,9, -999.000,9, -999.000,9
           NA,    P03C,    193,   1,-999.0,     -99,  2,20051206,1659,  24.2463, -178.3617,  5539,  399.700,   12.044,   34.346,2,   34.329,2,  183.150,1,  204.730,2,   15.470,2,   13.020,2,    0.000,2,    0.955,2,    2.719,2,    1.458,2, -999.000,9, -999.000,9, -999.000,9
           NA,    P03C,    193,   1,-999.0,     -99,  2,20051206,1659,  24.2463, -178.3617,  5539,  499.700,    9.403,   34.152,2,   34.144,6,  160.650,1,  177.210,2,   28.160,2,   20.250,2,    0.000,2,    1.469,2,    2.538,2,    1.303,2, -999.000,9, -999.000,9, -999.000,9
           NA,    P03C,    193,   1,-999.0,     -99,  2,20051206,1659,  24.2463, -178.3617,  5539,  600.200,    6.962,   34.085,2,   34.084,2,  101.230,1,  113.840,2,   52.700,2,   30.490,2,    0.000,2,    2.216,2,    1.533,2,    0.734,2, -999.000,9, -999.000,9, -999.000,9
           NA,    P03C,    193,   1,-999.0,     -99,  2,20051206,1659,  24.2463, -178.3617,  5539,  699.200,    5.343,   34.114,2,   34.115,2,   66.630,1,   74.850,2,   78.590,2,   36.710,2,    0.000,2,    2.673,2,    0.814,2,    0.386,2, -999.000,9, -999.000,9, -999.000,9
           NA,    P03C,    193,   1,-999.0,     -99,  2,20051206,1659,  24.2463, -178.3617,  5539,  799.300,    4.664,   34.249,2,   34.249,2,   38.400,1,   43.960,2,   96.050,2,   40.500,2,    0.000,2,    2.954,2,    0.231,6,    0.105,6, -999.000,9, -999.000,9, -999.000,9
           NA,    P03C,    193,   1,-999.0,     -99,  2,20051206,1659,  24.2463, -178.3617,  5539,  900.200,    4.228,   34.338,2,   34.339,2,   33.800,1,   39.130,2,  106.790,2,   41.620,2,    0.000,2,    3.024,2,    0.086,2,    0.036,2, -999.000,9, -999.000,9, -999.000,9
           NA,    P03C,    193,   1,-999.0,     -99,  2,20051206,1659,  24.2463, -178.3617,  5539, 1000.900,    3.899,   34.410,2,   34.411,6,   37.000,1,   42.790,2,  114.550,2,   41.920,2,    0.000,2,    3.040,2,    0.029,2,    0.013,2, -999.000,9, -999.000,9, -999.000,9
           NA,    P03C,    193,   1,-999.0,     -99,  2,20051206,1659,  24.2463, -178.3617,  5539, 1200.900,    3.405,   34.509,2,   34.509,2,   52.380,1,   59.710,2,  123.890,2,   41.210,2,    0.000,2,    2.978,2,    0.016,2,    0.004,2, -999.000,9, -999.000,9, -999.000,9
           NA,    P03C,    193,   1,-999.0,     -99,  2,20051206,1659,  24.2463, -178.3617,  5539, 1401.300,    2.949,   34.549,2,   34.550,2,   61.320,1,   70.160,2,  133.360,2,   40.940,2,    0.000,2,    2.944,2,    0.001,2,    0.000,2, -999.000,9, -999.000,9, -999.000,9
           NA,    P03C,    193,   1,-999.0,     -99,  2,20051206,1659,  24.2463, -178.3617,  5539, 1600.400,    2.561,   34.576,2,   34.577,2,   68.020,1,   77.830,2,  141.900,2,   40.650,2,    0.000,2,    2.913,2,    0.002,2,    0.000,2, -999.000,9, -999.000,9, -999.000,9
           NA,    P03C,    193,   1,-999.0,     -99,  2,20051206,1659,  24.2463, -178.3617,  5539, 1799.700,    2.289,   34.599,2,   34.600,2,   75.810,1,   86.840,2,  147.280,2,   40.260,2,    0.000,2,    2.870,2,    0.002,2,    0.000,2, -999.000,9, -999.000,9, -999.000,9
           NA,    P03C,    193,   1,-999.0,     -99,  2,20051206,1659,  24.2463, -178.3617,  5539, 1999.200,    2.082,   34.616,2,   34.616,6,   81.930,1,   93.920,2,  151.700,2,   39.820,2,    0.000,2,    2.830,2, -999.000,5, -999.000,5, -999.000,9, -999.000,9, -999.000,9
           NA,    P03C,    193,   1,-999.0,     -99,  2,20051206,1659,  24.2463, -178.3617,  5539, 2200.400,    1.903,   34.628,2,   34.629,2,   87.330,1,  100.450,2,  155.720,2,   39.510,2,    0.000,2,    2.799,2,    0.001,2,    0.000,2, -999.000,9, -999.000,9, -999.000,9
           NA,    P03C,    193,   1,-999.0,     -99,  2,20051206,1659,  24.2463, -178.3617,  5539, 2399.400,    1.781,   34.641,2,   34.641,2,   94.490,1,  108.810,2,  156.680,2,   38.910,2,    0.000,2,    2.751,2,    0.000,2,    0.003,2, -999.000,9, -999.000,9, -999.000,9
           NA,    P03C,    193,   1,-999.0,     -99,  2,20051206,1659,  24.2463, -178.3617,  5539, 2600.000,    1.693,   34.651,2,   34.651,2,  100.500,1,  115.960,2,  157.010,2,   38.430,2,    0.000,2,    2.717,2, -999.000,9, -999.000,9, -999.000,9, -999.000,9, -999.000,9
           NA,    P03C,    193,   1,-999.0,     -99,  2,20051206,1659,  24.2463, -178.3617,  5539, 2800.400,    1.620,   34.659,2,   34.659,2,  106.310,1,  122.850,2,  156.730,2,   38.130,2,    0.000,2,    2.682,2, -999.000,9, -999.000,9, -999.000,9, -999.000,9, -999.000,9
           NA,    P03C,    193,   1,-999.0,     -99,  2,20051206,1659,  24.2463, -178.3617,  5539, 2998.300,    1.573,   34.666,2,   34.665,2,  111.620,1,  128.940,2,  155.570,2,   37.670,2,    0.000,2,    2.648,2,    0.000,2,    0.000,2, -999.000,9, -999.000,9, -999.000,9
           NA,    P03C,    193,   1,-999.0,     -99,  2,20051206,1659,  24.2463, -178.3617,  5539, 3249.800,    1.521,   34.673,2,   34.672,6,  117.770,1,  136.340,2,  153.970,2,   37.200,2,    0.000,2,    2.610,2, -999.000,9, -999.000,9, -999.000,9, -999.000,9, -999.000,9
           NA,    P03C,    193,   1,-999.0,     -99,  2,20051206,1659,  24.2463, -178.3617,  5539, 3499.900,    1.485,   34.678,2,   34.678,2,  123.260,1,  142.530,2,  152.360,2,   36.740,2,    0.000,2,    2.577,2, -999.000,9, -999.000,9, -999.000,9, -999.000,9, -999.000,9
           NA,    P03C,    193,   1,-999.0,     -99,  2,20051206,1659,  24.2463, -178.3617,  5539, 3751.100,    1.466,   34.682,2,   34.682,2,  127.610,1,  147.430,2,  151.090,2,   36.420,2,    0.000,2,    2.549,2,    0.000,2,    0.000,2, -999.000,9, -999.000,9, -999.000,9
           NA,    P03C,    193,   1,-999.0,     -99,  2,20051206,1659,  24.2463, -178.3617,  5539, 3999.200,    1.451,   34.686,2,   34.686,2,  131.980,1,  152.070,2,  149.590,2,   36.070,2,    0.000,2,    2.526,2, -999.000,9, -999.000,9, -999.000,9, -999.000,9, -999.000,9
           NA,    P03C,    193,   1,-999.0,     -99,  2,20051206,1659,  24.2463, -178.3617,  5539, 4250.700,    1.448,   34.689,2,   34.688,2,  135.890,1,  156.200,2,  147.850,2,   35.800,2,    0.000,2,    2.505,2, -999.000,9, -999.000,9, -999.000,9, -999.000,9, -999.000,9
           NA,    P03C,    193,   1,-999.0,     -99,  2,20051206,1659,  24.2463, -178.3617,  5539, 4499.900,    1.446,   34.691,2,   34.691,6,  140.720,1,  161.300,2,  144.120,2,   35.480,2,    0.000,2,    2.476,2,    0.000,2,    0.001,2, -999.000,9, -999.000,9, -999.000,9
           NA,    P03C,    193,   1,-999.0,     -99,  2,20051206,1659,  24.2463, -178.3617,  5539, 4751.100,    1.448,   34.694,2,   34.694,2,  145.030,1,  165.740,2,  141.290,2,   35.150,2,    0.000,2,    2.457,2, -999.000,9, -999.000,9, -999.000,9, -999.000,9, -999.000,9
           NA,    P03C,    193,   1,-999.0,     -99,  2,20051206,1659,  24.2463, -178.3617,  5539, 5000.500,    1.452,   34.696,2,   34.696,2,  149.360,1,  169.880,2,  138.100,2,   34.880,2,    0.000,2,    2.432,2, -999.000,9, -999.000,9, -999.000,9, -999.000,9, -999.000,9
           NA,    P03C,    193,   1,-999.0,     -99,  2,20051206,1659,  24.2463, -178.3617,  5539, 5248.300,    1.466,   34.697,2,   34.697,2,  152.870,1,  172.840,2,  135.930,2,   34.660,2,    0.000,2,    2.414,2,    0.000,2,    0.000,2, -999.000,9, -999.000,9, -999.000,9
           NA,    P03C,    193,   1,-999.0,     -99,  2,20051206,1659,  24.2463, -178.3617,  5539, 5249.400,    1.466,   34.697,2,   34.697,2,  152.720,1,  172.850,2,  136.060,2,   34.550,2,    0.000,2,    2.413,2, -999.000,9, -999.000,9, -999.000,9, -999.000,9, -999.000,9
           NA,    P03C,    193,   1,-999.0,     -99,  2,20051206,1659,  24.2463, -178.3617,  5539, 5499.600,    1.485,   34.699,2,   34.699,2,  155.920,1,  175.090,2,  134.610,2,   34.480,2,    0.000,2,    2.400,2, -999.000,9, -999.000,9, -999.000,9, -999.000,9, -999.000,9
           NA,    P03C,    193,   1,-999.0,     -99,  2,20051206,1659,  24.2463, -178.3617,  5539, 5636.800,    1.500,   34.699,2,   34.699,6,  157.990,1,  175.520,2,  134.220,2,   34.390,2,    0.000,2,    2.398,2,    0.000,2,    0.001,2, -999.000,9, -999.000,9, -999.000,9
           NA,    P03C,    191,   1,-999.0,     -99,  2,20051206,0859,  24.2178, -177.5758,  5413,   10.200,   25.490,   35.301,2,   35.302,2,  184.310,1,  206.300,2,    1.080,2,    0.030,2,    0.000,2,    0.039,2,    1.690,2,    0.989,2, -999.000,9, -999.000,9, -999.000,9
           NA,    P03C,    191,   1,-999.0,     -99,  2,20051206,0859,  24.2178, -177.5758,  5413,   50.500,   25.331,   35.298,2,   35.299,2,  184.770,1,  206.910,2,    1.120,2,    0.030,2,    0.000,2,    0.036,2,    1.699,2,    0.992,2, -999.000,9, -999.000,9, -999.000,9
           NA,    P03C,    191,   1,-999.0,     -99,  2,20051206,0859,  24.2178, -177.5758,  5413,  100.500,   21.095,   35.090,2,   35.083,2,  195.000,1,  217.930,2,    1.900,2,    0.030,2,    0.000,2,    0.069,2,    2.138,2,    1.215,2, -999.000,9, -999.000,9, -999.000,9
           NA,    P03C,    191,   1,-999.0,     -99,  2,20051206,0859,  24.2178, -177.5758,  5413,  150.200,   18.345,   34.889,2,   34.875,2,  180.000,1,  201.970,2,    3.210,2,    3.080,2,    0.020,2,    0.282,2,    2.330,2,    1.324,2, -999.000,9, -999.000,9, -999.000,9
           NA,    P03C,    191,   1,-999.0,     -99,  2,20051206,0859,  24.2178, -177.5758,  5413,  200.500,   16.993,   34.773,2,   34.770,2,  190.950,1,  213.890,2,    4.010,2,    4.000,2,    0.010,2,    0.323,2,    2.422,2,    1.385,2, -999.000,9, -999.000,9, -999.000,9
           NA,    P03C,    191,   1,-999.0,     -99,  2,20051206,0859,  24.2178, -177.5758,  5413,  250.700,   15.951,   34.680,2,   34.674,2,  189.810,1,  212.570,2,    5.970,2,    6.020,2,    0.000,2,    0.450,2,    2.501,6,    1.407,6, -999.000,9, -999.000,9, -999.000,9
           NA,    P03C,    191,   1,-999.0,     -99,  2,20051206,0859,  24.2178, -177.5758,  5413,  300.200,   14.756,   34.567,2,   34.560,2,  187.560,1,  210.000,2,    8.010,2,    7.900,2,    0.000,2,    0.581,2,    2.632,2,    1.465,2, -999.000,9, -999.000,9, -999.000,9
           NA,    P03C,    191,   1,-999.0,     -99,  2,20051206,0859,  24.2178, -177.5758,  5413,  400.400,   11.928,   34.324,2,   34.320,2,  182.850,1,  204.440,2,   14.960,2,   12.990,2,    0.000,2,    0.938,2,    2.827,2,    1.507,2, -999.000,9, -999.000,9, -999.000,9
           NA,    P03C,    191,   1,-999.0,     -99,  2,20051206,0859,  24.2178, -177.5758,  5413,  500.600,    9.274,   34.144,2,   34.141,6,  157.240,1,  176.100,2,   28.720,2,   20.600,2,    0.000,2,    1.480,2,    2.604,2,    1.312,2, -999.000,9, -999.000,9, -999.000,9
           NA,    P03C,    191,   1,-999.0,     -99,  2,20051206,0859,  24.2178, -177.5758,  5413,  601.900,    6.663,   34.065,2,   34.066,2,  106.770,1,  119.190,2,   55.900,2,   30.630,2,    0.000,2,    2.219,2,    1.672,2,    0.789,2, -999.000,9, -999.000,9, -999.000,9
           NA,    P03C,    191,   1,-999.0,     -99,  2,20051206,0859,  24.2178, -177.5758,  5413,  699.300,    5.343,   34.108,2,   34.109,2,   68.890,1,   76.770,2,   78.660,2,   36.760,2,    0.000,2,    2.666,2,    0.866,2,    0.407,2, -999.000,9, -999.000,9, -999.000,9
           NA,    P03C,    191,   1,-999.0,     -99,  2,20051206,0859,  24.2178, -177.5758,  5413,  801.300,    4.639,   34.261,2,   34.262,2,   37.510,1,   42.720,2,   97.100,2,   40.800,2,    0.000,2,    2.977,2,    0.202,6,    0.097,6, -999.000,9, -999.000,9, -999.000,9
           NA,    P03C,    191,   1,-999.0,     -99,  2,20051206,0859,  24.2178, -177.5758,  5413,  899.700,    4.165,   34.351,2,   34.352,2,   33.900,1,   39.030,2,  108.300,2,   42.040,2,    0.000,2,    3.040,2,    0.057,2,    0.028,2, -999.000,9, -999.000,9, -999.000,9
           NA,    P03C,    191,   1,-999.0,     -99,  2,20051206,0859,  24.2178, -177.5758,  5413, 1001.500,    3.867,   34.429,2,   34.429,6,   39.720,1,   45.390,2,  114.930,2,   41.870,2,    0.000,2,    3.034,2,    0.016,2,    0.007,2, -999.000,9, -999.000,9, -999.000,9
           NA,    P03C,    191,   1,-999.0,     -99,  2,20051206,0859,  24.2178, -177.5758,  5413, 1201.400,    3.342,   34.504,2,   34.504,2,   50.420,1,   57.270,2,  125.940,2,   41.720,2,    0.000,2,    2.996,2,    0.000,2,    0.001,2, -999.000,9, -999.000,9, -999.000,9
           NA,    P03C,    191,   1,-999.0,     -99,  2,20051206,0859,  24.2178, -177.5758,  5413, 1401.000,    2.994,   34.551,2,   34.550,2,   61.990,1,   70.580,2,  131.890,2,   40.970,2,    0.000,2,    2.943,2, -999.000,5, -999.000,5, -999.000,9, -999.000,9, -999.000,9
           NA,    P03C,    191,   1,-999.0,     -99,  2,20051206,0859,  24.2178, -177.5758,  5413, 1601.400,    2.595,   34.573,2,   34.573,2,   67.090,1,   76.320,2,  141.500,2,   40.860,2,    0.000,2,    2.923,2,    0.000,2,    0.000,2, -999.000,9, -999.000,9, -999.000,9
           NA,    P03C,    191,   1,-999.0,     -99,  2,20051206,0859,  24.2178, -177.5758,  5413, 1799.500,    2.296,   34.595,2,   34.595,2,   73.850,1,   84.180,2,  148.410,2,   40.500,2,    0.000,2,    2.884,2,    0.000,2,    0.000,2, -999.000,9, -999.000,9, -999.000,9
           NA,    P03C,    191,   1,-999.0,     -99,  2,20051206,0859,  24.2178, -177.5758,  5413, 2000.000,    2.054,   34.615,2,   34.616,6,   81.650,1,   93.260,2,  153.200,2,   40.060,2,    0.000,2,    2.843,2,    0.000,2,    0.000,2, -999.000,9, -999.000,9, -999.000,9
           NA,    P03C,    191,   1,-999.0,     -99,  2,20051206,0859,  24.2178, -177.5758,  5413, 2200.700,    1.898,   34.628,2,   34.629,2,   87.380,1,   99.960,2,  156.060,2,   39.660,2,    0.000,2,    2.804,2,    0.000,2,    0.000,2, -999.000,9, -999.000,9, -999.000,9
           NA,    P03C,    191,   1,-999.0,     -99,  2,20051206,0859,  24.2178, -177.5758,  5413, 2401.800,    1.783,   34.640,2,   34.640,2,   94.380,1,  108.110,2,  156.870,2,   39.200,2,    0.000,2,    2.765,2,    0.000,2,    0.000,2, -999.000,9, -999.000,9, -999.000,9
           NA,    P03C,    191,   1,-999.0,     -99,  2,20051206,0859,  24.2178, -177.5758,  5413, 2601.200,    1.696,   34.650,2,   34.650,2,  100.530,1,  115.250,2,  157.310,2,   38.700,2,    0.000,2,    2.725,2, -999.000,9, -999.000,9, -999.000,9, -999.000,9, -999.000,9
           NA,    P03C,    191,   1,-999.0,     -99,  2,20051206,0859,  24.2178, -177.5758,  5413, 2801.100,    1.623,   34.659,2,   34.658,2,  106.280,1,  122.210,2,  157.330,2,   38.270,2,    0.000,2,    2.686,2,    0.000,2,    0.003,2, -999.000,9, -999.000,9, -999.000,9
           NA,    P03C,    191,   1,-999.0,     -99,  2,20051206,0859,  24.2178, -177.5758,  5413, 3001.900,    1.566,   34.666,2,   34.666,6,  112.130,1,  129.110,2,  156.490,2,   37.840,2,    0.000,2,    2.653,2, -999.000,9, -999.000,9, -999.000,9, -999.000,9, -999.000,9
           NA,    P03C,    191,   1,-999.0,     -99,  2,20051206,0859,  24.2178, -177.5758,  5413, 3250.200,    1.523,   34.672,2,   34.672,2,  117.580,1,  135.300,2,  154.760,2,   37.380,2,    0.000,2,    2.610,2, -999.000,9, -999.000,9, -999.000,9, -999.000,9, -999.000,9
           NA,    P03C,    191,   1,-999.0,     -99,  2,20051206,0859,  24.2178, -177.5758,  5413, 3499.600,    1.496,   34.677,2,   34.677,2,  122.150,1,  140.390,2,  153.900,2,   37.100,2,    0.000,2,    2.589,2,    0.000,2,    0.000,2, -999.000,9, -999.000,9, -999.000,9
           NA,    P03C,    191,   1,-999.0,     -99,  2,20051206,0859,  24.2178, -177.5758,  5413, 3750.500,    1.468,   34.682,2,   34.681,2,  127.570,1,  146.520,2,  152.210,2,   36.700,2,    0.000,2,    2.559,2, -999.000,9, -999.000,9, -999.000,9, -999.000,9, -999.000,9
           NA,    P03C,    191,   1,-999.0,     -99,  2,20051206,0859,  24.2178, -177.5758,  5413, 4000.400,    1.457,   34.685,2,   34.686,2,  131.880,1,  151.190,2,  150.470,2,   36.300,2,    0.000,2,    2.534,2, -999.000,9, -999.000,9, -999.000,9, -999.000,9, -999.000,9
           NA,    P03C,    191,   1,-999.0,     -99,  2,20051206,0859,  24.2178, -177.5758,  5413, 4248.600,    1.448,   34.689,2,   34.689,6,  136.550,1,  156.090,2,  148.290,2,   35.960,2,    0.000,2,    2.508,2,    0.000,2,    0.000,2, -999.000,9, -999.000,9, -999.000,9
           NA,    P03C,    191,   1,-999.0,     -99,  2,20051206,0859,  24.2178, -177.5758,  5413, 4500.500,    1.447,   34.691,2,   34.691,2,  141.110,1,  160.770,2,  145.020,2,   35.730,2,    0.000,2,    2.483,2, -999.000,9, -999.000,9, -999.000,9, -999.000,9, -999.000,9
           NA,    P03C,    191,   1,-999.0,     -99,  2,20051206,0859,  24.2178, -177.5758,  5413, 4748.300,    1.446,   34.694,2,   34.694,2,  146.010,1,  165.740,2,  141.280,2,   35.250,2,    0.000,2,    2.454,2, -999.000,9, -999.000,9, -999.000,9, -999.000,9, -999.000,9
           NA,    P03C,    191,   1,-999.0,     -99,  2,20051206,0859,  24.2178, -177.5758,  5413, 4997.400,    1.451,   34.696,2,   34.695,2,  150.350,1,  169.740,2,  138.370,2,   34.970,2,    0.000,2,    2.432,2, -999.000,9, -999.000,9, -999.000,9, -999.000,9, -999.000,9
           NA,    P03C,    191,   1,-999.0,     -99,  2,20051206,0859,  24.2178, -177.5758,  5413, 4997.900,    1.451,   34.696,2,   34.696,2,  150.320,1,  169.910,2,  138.590,2,   35.050,2,    0.000,2,    2.433,2,    0.000,2,    0.001,2, -999.000,9, -999.000,9, -999.000,9
           NA,    P03C,    191,   1,-999.0,     -99,  2,20051206,0859,  24.2178, -177.5758,  5413, 5248.500,    1.467,   34.697,2,   34.697,2,  153.840,1,  172.820,2,  136.320,2,   34.710,2,    0.000,2,    2.414,2, -999.000,9, -999.000,9, -999.000,9, -999.000,9, -999.000,9
           NA,    P03C,    191,   1,-999.0,     -99,  2,20051206,0859,  24.2178, -177.5758,  5413, 5503.200,    1.489,   34.698,2,   34.698,6,  157.470,1,  174.700,2,  134.930,2,   34.640,2,    0.000,2,    2.405,2,    0.000,2,    0.000,2, -999.000,9, -999.000,9, -999.000,9