BOTTLE,20211903JOAExport
EXPOCODE,SECT_ID,STNNBR,CASTNO,SAMPNO,BTLNBR,BTLNBR_FLAG_W,DATE,TIME,LATITUDE,LONGITUDE,DEPTH,CTDPRS,CTDTMP,CTDSAL,CTDSAL_FLAG_W,SALNTY,SALNTY_FLAG_W,CTDOXY,CTDOXY_FLAG_W,OXYGEN,OXYGEN_FLAG_W,SILCAT,SILCAT_FLAG_W,NITRAT,NITRAT_FLAG_W,NITRIT,NITRIT_FLAG_W,PHSPHT,PHSPHT_FLAG_W,CFC-11,CFC-11_FLAG_W,CFC-12,CFC-12_FLAG_W,SF6,SF6_FLAG_W,TCARBN,TCARBN_FLAG_W,ALKALI,ALKALI_FLAG_W
,,,,,,,,,,,,DB,ITS-90,PSS-78,,PSS-78,,UMOL/KG,,UMOL/KG,,UMOL/KG,,UMOL/KG,,UMOL/KG,,UMOL/KG,,PMOL/KG,,PMOL/KG,,FMOL/KG,,UMOL/KG,,UMOL/KG
           NA,    P03C,    303,   1,-999.0,     -99,  2,20060104,1339,  24.2400,  141.7533,  2508,   10.300,   25.117,   34.790,2,   34.790,2,  190.340,1,  206.220,2,    1.120,2,    0.050,2,    0.000,2,    0.047,2,    1.645,2,    0.986,2, -999.000,9, 1945.300,2, 2283.300,2
           NA,    P03C,    303,   1,-999.0,     -99,  2,20060104,1339,  24.2400,  141.7533,  2508,   49.500,   24.893,   34.801,2,   34.802,2,  190.730,1,  206.800,2,    1.150,2,    0.050,2,    0.000,2,    0.046,2,    1.669,2,    0.999,2, -999.000,9, 1948.200,6, 2284.700,2
           NA,    P03C,    303,   1,-999.0,     -99,  2,20060104,1339,  24.2400,  141.7533,  2508,  100.200,   21.365,   34.942,2,   34.940,2,  188.540,1,  204.440,2,    1.980,2,    0.800,2,    0.060,2,    0.127,2,    2.081,2,    1.206,2, -999.000,9, 2005.300,2, 2295.000,6
           NA,    P03C,    303,   1,-999.0,     -99,  2,20060104,1339,  24.2400,  141.7533,  2508,  149.900,   19.347,   34.901,2,   34.901,2,  183.150,1,  198.370,2,    2.760,2,    2.640,2,    0.020,2,    0.242,2,    2.223,2,    1.266,2, -999.000,9, 2024.300,2, 2289.900,2
           NA,    P03C,    303,   1,-999.0,     -99,  2,20060104,1339,  24.2400,  141.7533,  2508,  200.400,   17.848,   34.822,2,   34.820,2,  186.070,1,  201.800,2,    3.610,2,    4.170,2,    0.010,2,    0.334,2,    2.357,2,    1.325,2, -999.000,9, 2030.300,2, 2286.700,2
           NA,    P03C,    303,   1,-999.0,     -99,  2,20060104,1339,  24.2400,  141.7533,  2508,  250.200,   17.107,   34.769,2,   34.767,2,  188.070,1,  203.460,2,    4.390,2,    5.090,2,    0.010,2,    0.384,2,    2.425,6,    1.349,6, -999.000,9, 2034.300,2, 2284.100,2
           NA,    P03C,    303,   1,-999.0,     -99,  2,20060104,1339,  24.2400,  141.7533,  2508,  299.900,   16.071,   34.679,2,   34.677,2,  185.290,1,  200.140,2,    6.270,2,    6.890,2,    0.010,2,    0.513,2,    2.523,2,    1.376,2, -999.000,9, 2047.400,2, 2281.200,2
           NA,    P03C,    303,   1,-999.0,     -99,  2,20060104,1339,  24.2400,  141.7533,  2508,  401.900,   13.716,   34.485,2,   34.486,2,  176.180,1,  189.830,2,   12.500,2,   11.450,2,    0.000,2,    0.838,2,    2.627,2,    1.378,2, -999.000,9, 2080.100,2, 2274.500,2
           NA,    P03C,    303,   1,-999.0,     -99,  2,20060104,1339,  24.2400,  141.7533,  2508,  499.500,   10.991,   34.305,2,   34.305,6,  164.600,1,  176.750,2,   24.930,2,   17.330,2,    0.000,2,    1.260,2,    2.524,2,    1.283,2, -999.000,9, 2121.500,2, 2278.900,2
           NA,    P03C,    303,   1,-999.0,     -99,  2,20060104,1339,  24.2400,  141.7533,  2508,  601.700,    8.224,   34.118,2,   34.118,2,  152.730,1,  163.920,2,   41.220,2,   23.340,2,    0.000,2,    1.723,2,    2.409,2,    1.195,2, -999.000,9, 2167.200,2, 2281.800,2
           NA,    P03C,    303,   1,-999.0,     -99,  2,20060104,1339,  24.2400,  141.7533,  2508,  701.400,    5.915,   34.054,2,   34.056,2,  114.370,1,  120.900,2,   66.910,2,   31.490,2,    0.000,2,    2.324,2,    1.797,2,    0.870,2, -999.000,9, 2232.700,6, 2296.800,2
           NA,    P03C,    303,   1,-999.0,     -99,  2,20060104,1339,  24.2400,  141.7533,  2508,  800.700,    4.951,   34.131,2,   34.134,2,   76.570,1,   81.510,2,   86.820,2,   36.550,2,    0.000,2,    2.676,2,    1.040,6,    0.495,6, -999.000,9, 2281.100,2, 2316.700,6
           NA,    P03C,    303,   1,-999.0,     -99,  2,20060104,1339,  24.2400,  141.7533,  2508,  899.900,    4.096,   34.244,2,   34.245,2,   48.800,1,   52.140,2,  109.150,2,   40.300,2,    0.000,2,    2.932,2,    0.447,2,    0.209,2, -999.000,9, 2325.200,2, 2343.000,2
           NA,    P03C,    303,   1,-999.0,     -99,  2,20060104,1339,  24.2400,  141.7533,  2508, 1001.300,    3.634,   34.331,2,   34.331,6,   40.690,1,   43.570,2,  121.930,2,   41.620,2,    0.000,2,    3.015,2,    0.193,2,    0.091,2, -999.000,9, 2341.000,2, 2360.600,2
           NA,    P03C,    303,   1,-999.0,     -99,  2,20060104,1339,  24.2400,  141.7533,  2508, 1200.900,    3.067,   34.431,2, -999.000,3,   46.660,1,   49.560,2,  135.680,2,   41.770,2,    0.000,2,    3.013,2,    0.084,2,    0.040,2, -999.000,9, 2355.100,2, 2377.900,2
           NA,    P03C,    303,   1,-999.0,     -99,  2,20060104,1339,  24.2400,  141.7533,  2508, 1400.900,    2.566,   34.507,2, -999.000,3,   57.750,1,   62.420,2,  145.990,2,   41.370,2,    0.000,2,    2.971,2,    0.027,2,    0.010,2, -999.000,9, 2361.000,2, 2393.200,2
           NA,    P03C,    303,   1,-999.0,     -99,  2,20060104,1339,  24.2400,  141.7533,  2508, 1600.900,    2.221,   34.560,2,   34.561,2,   74.310,1,   79.520,2,  149.840,2,   40.450,2,    0.000,2,    2.891,2,    0.013,2,    0.006,2, -999.000,9, 2358.700,2, 2403.400,2
           NA,    P03C,    303,   1,-999.0,     -99,  2,20060104,1339,  24.2400,  141.7533,  2508, 1800.500,    1.985,   34.597,2,   34.597,6,   89.350,1,   95.770,2,  150.970,2,   39.500,2,    0.000,2,    2.813,2,    0.004,2,    0.000,2, -999.000,9, 2352.200,2, 2408.600,2
           NA,    P03C,    303,   1,-999.0,     -99,  2,20060104,1339,  24.2400,  141.7533,  2508, 2001.600,    1.849,   34.623,2,   34.623,2,  103.900,1,  111.300,2,  148.590,2,   38.500,2,    0.000,2,    2.735,2,    0.000,2,    0.000,2, -999.000,9, 2344.500,2, 2409.200,2
           NA,    P03C,    303,   1,-999.0,     -99,  2,20060104,1339,  24.2400,  141.7533,  2508, 2200.100,    1.816,   34.630,2,   34.630,2,  107.750,1,  115.340,2,  148.450,2,   38.220,2,    0.000,2,    2.716,2,    0.000,2,    0.001,2, -999.000,9, 2342.000,2, 2414.600,2
           NA,    P03C,    303,   1,-999.0,     -99,  2,20060104,1339,  24.2400,  141.7533,  2508, 2400.100,    1.768,   34.636,2,   34.636,2,  110.430,1,  118.120,2,  149.450,2,   38.140,2,    0.000,2,    2.704,2,    0.000,2,    0.000,2, -999.000,9, 2340.500,6, 2413.600,2
           NA,    P03C,    303,   1,-999.0,     -99,  2,20060104,1339,  24.2400,  141.7533,  2508, 2528.100,    1.727,   34.643,2,   34.643,6,  114.490,1,  121.990,2,  149.160,2,   37.890,2,    0.000,2,    2.691,2,    0.002,2,    0.000,2, -999.000,9, 2337.600,2, 2411.800,2
           NA,    P03C,    301,   1,-999.0,     -99,  2,20060104,0943,  24.2330,  142.1018,  2578,   10.300,   24.811,   34.800,2,   34.801,2,  191.760,1,  207.640,2,    1.210,2,    0.030,2,    0.000,2,    0.041,2,    1.693,2,    1.004,2, -999.000,9, -999.000,9, -999.000,9
           NA,    P03C,    301,   1,-999.0,     -99,  2,20060104,0943,  24.2330,  142.1018,  2578,   49.700,   24.700,   34.796,2,   34.796,2,  192.330,1,  208.160,2,    1.200,2,    0.010,2,    0.000,2,    0.042,2, -999.000,9, -999.000,9, -999.000,9, -999.000,9, -999.000,9
           NA,    P03C,    301,   1,-999.0,     -99,  2,20060104,0943,  24.2330,  142.1018,  2578,  100.300,   22.672,   34.902,2,   34.902,2,  194.990,1,  211.350,2,    1.680,2,    0.100,2,    0.060,2,    0.070,2,    2.021,2,    1.159,2, -999.000,9, -999.000,9, -999.000,9
           NA,    P03C,    301,   1,-999.0,     -99,  2,20060104,0943,  24.2330,  142.1018,  2578,  150.900,   19.565,   34.916,2,   34.916,2,  177.850,1,  193.010,2,    2.800,2,    2.800,2,    0.010,2,    0.258,2, -999.000,9, -999.000,9, -999.000,9, -999.000,9, -999.000,9
           NA,    P03C,    301,   1,-999.0,     -99,  2,20060104,0943,  24.2330,  142.1018,  2578,  198.900,   18.417,   34.854,2,   34.855,2,  168.540,1,  182.760,2,    4.030,2,    4.910,2,    0.010,2,    0.411,2,    2.331,2,    1.300,2, -999.000,9, -999.000,9, -999.000,9
           NA,    P03C,    301,   1,-999.0,     -99,  2,20060104,0943,  24.2330,  142.1018,  2578,  251.000,   17.019,   34.742,2,   34.741,2,  159.230,1,  172.380,2,    6.100,2,    7.680,2,    0.010,2,    0.621,2,    2.419,2,    1.326,2, -999.000,9, -999.000,9, -999.000,9
           NA,    P03C,    301,   1,-999.0,     -99,  2,20060104,0943,  24.2330,  142.1018,  2578,  300.500,   15.552,   34.623,2,   34.620,2,  169.980,1,  184.090,2,    8.010,2,    8.920,2,    0.010,2,    0.677,2, -999.000,9, -999.000,9, -999.000,9, -999.000,9, -999.000,9
           NA,    P03C,    301,   1,-999.0,     -99,  2,20060104,0943,  24.2330,  142.1018,  2578,  400.400,   12.698,   34.401,2,   34.400,2,  173.210,1,  186.660,2,   14.930,2,   13.240,2,    0.000,2,    0.966,2,    2.623,2,    1.366,2, -999.000,9, -999.000,9, -999.000,9
           NA,    P03C,    301,   1,-999.0,     -99,  2,20060104,0943,  24.2330,  142.1018,  2578,  500.500,   10.161,   34.235,2,   34.234,6,  159.510,1,  171.260,2,   26.620,2,   19.200,2,    0.000,2,    1.398,2,    2.465,2,    1.240,2, -999.000,9, -999.000,9, -999.000,9
           NA,    P03C,    301,   1,-999.0,     -99,  2,20060104,0943,  24.2330,  142.1018,  2578,  600.900,    8.123,   34.150,2,   34.150,2,  127.160,1,  136.430,2,   43.080,2,   26.180,2,    0.000,2,    1.904,2,    1.866,2,    0.899,2, -999.000,9, -999.000,9, -999.000,9
           NA,    P03C,    301,   1,-999.0,     -99,  2,20060104,0943,  24.2330,  142.1018,  2578,  700.700,    6.272,   34.149,2,   34.150,2,   87.980,1,   94.170,2,   66.370,2,   33.330,2,    0.000,2,    2.438,2,    1.029,2,    0.496,2, -999.000,9, -999.000,9, -999.000,9
           NA,    P03C,    301,   1,-999.0,     -99,  2,20060104,0943,  24.2330,  142.1018,  2578,  800.000,    5.056,   34.192,2,   34.195,2,   69.530,1,   74.250,2,   88.190,2,   37.140,2,    0.000,2,    2.704,2,    0.695,2,    0.343,2, -999.000,9, -999.000,9, -999.000,9
           NA,    P03C,    301,   1,-999.0,     -99,  2,20060104,0943,  24.2330,  142.1018,  2578,  900.700,    4.284,   34.276,2,   34.277,2,   52.340,1,   56.110,2,  105.270,2,   39.750,2,    0.000,2,    2.882,2,    0.341,2,    0.164,2, -999.000,9, -999.000,9, -999.000,9
           NA,    P03C,    301,   1,-999.0,     -99,  2,20060104,0943,  24.2330,  142.1018,  2578, 1001.200,    3.715,   34.320,2,   34.319,2,   41.540,1,   44.750,2,  119.220,2,   41.500,2,    0.000,2,    3.000,2, -999.000,9, -999.000,9, -999.000,9, -999.000,9, -999.000,9
           NA,    P03C,    301,   1,-999.0,     -99,  2,20060104,0943,  24.2330,  142.1018,  2578, 1200.600,    3.034,   34.434,2,   34.434,2,   42.360,1,   45.120,2,  137.520,2,   42.270,2,    0.000,2,    3.038,2,    0.055,2,    0.025,2, -999.000,9, -999.000,9, -999.000,9
           NA,    P03C,    301,   1,-999.0,     -99,  2,20060104,0943,  24.2330,  142.1018,  2578, 1401.600,    2.616,   34.498,2,   34.498,2,   52.490,1,   55.980,2,  146.320,2,   41.930,2,    0.000,2,    3.000,2,    0.027,2,    0.016,2, -999.000,9, -999.000,9, -999.000,9
           NA,    P03C,    301,   1,-999.0,     -99,  2,20060104,0943,  24.2330,  142.1018,  2578, 1601.800,    2.265,   34.553,2,   34.553,2,   69.160,1,   74.090,2,  150.610,2,   40.930,2,    0.000,2,    2.918,2,    0.011,2,    0.005,2, -999.000,9, -999.000,9, -999.000,9
           NA,    P03C,    301,   1,-999.0,     -99,  2,20060104,0943,  24.2330,  142.1018,  2578, 1802.400,    2.082,   34.582,2,   34.582,6,   79.770,1,   85.470,2,  152.480,2,   40.240,2,    0.000,2,    2.864,2,    0.002,2,    0.001,2, -999.000,9, -999.000,9, -999.000,9
           NA,    P03C,    301,   1,-999.0,     -99,  2,20060104,0943,  24.2330,  142.1018,  2578, 2000.900,    1.913,   34.609,2,   34.609,2,   92.840,1,   99.740,2,  152.200,2,   39.360,2,    0.000,2,    2.795,2,    0.000,2,    0.000,2, -999.000,9, -999.000,9, -999.000,9
           NA,    P03C,    301,   1,-999.0,     -99,  2,20060104,0943,  24.2330,  142.1018,  2578, 2201.000,    1.773,   34.631,2,   34.631,2,  104.720,1,  112.350,2,  151.620,2,   38.670,2,    0.000,2,    2.733,2,    0.000,2,    0.000,2, -999.000,9, -999.000,9, -999.000,9
           NA,    P03C,    301,   1,-999.0,     -99,  2,20060104,0943,  24.2330,  142.1018,  2578, 2401.200,    1.686,   34.645,2,   34.645,2,  113.350,1,  121.100,2,  150.680,2,   38.070,2,    0.000,2,    2.687,2,    0.000,2,    0.000,2, -999.000,9, -999.000,9, -999.000,9
           NA,    P03C,    301,   1,-999.0,     -99,  2,20060104,0943,  24.2330,  142.1018,  2578, 2593.300,    1.604,   34.657,2,   34.657,6,  121.200,1,  129.220,2,  150.250,2,   37.590,2,    0.000,2,    2.649,2,    0.000,2,    0.000,2, -999.000,9, -999.000,9, -999.000,9
           NA,    P03C,    299,   1,-999.0,     -99,  2,20060104,0500,  24.2337,  142.4455,  2884,    9.900,   24.870,   34.811,2,   34.811,2,  191.060,1,  207.000,2,    1.070,2,    0.040,2,    0.000,2,    0.040,2,    1.685,2,    0.993,2, -999.000,9, 1948.300,2, 2283.400,2
           NA,    P03C,    299,   1,-999.0,     -99,  2,20060104,0500,  24.2337,  142.4455,  2884,   49.200,   24.625,   34.832,2,   34.832,2,  191.600,1,  207.550,2,    1.080,2,    0.030,2,    0.000,2,    0.038,2,    1.704,2,    1.003,2, -999.000,9, 1950.400,6, 2282.100,2
           NA,    P03C,    299,   1,-999.0,     -99,  2,20060104,0500,  24.2337,  142.4455,  2884,  100.700,   23.349,   34.879,2,   34.879,2,  195.250,1,  211.640,2,    1.320,2,    0.020,2,    0.000,2,    0.039,2,    1.818,2,    1.072,2, -999.000,9, 1964.800,2, 2289.000,6
           NA,    P03C,    299,   1,-999.0,     -99,  2,20060104,0500,  24.2337,  142.4455,  2884,  150.900,   21.839,   34.974,2,   34.975,2,  185.710,1,  201.370,2,    1.740,2,    0.620,2,    0.060,2,    0.106,2,    2.067,2,    1.200,2, -999.000,9, 2005.600,2, 2294.400,2
           NA,    P03C,    299,   1,-999.0,     -99,  2,20060104,0500,  24.2337,  142.4455,  2884,  199.300,   19.070,   34.895,2,   34.894,2,  177.870,1,  192.280,2,    3.020,2,    3.420,2,    0.010,2,    0.293,2,    2.284,2,    1.286,2, -999.000,9, 2034.500,2, 2290.400,2
           NA,    P03C,    299,   1,-999.0,     -99,  2,20060104,0500,  24.2337,  142.4455,  2884,  249.700,   17.181,   34.768,2,   34.769,2,  179.680,1,  194.520,2,    4.570,2,    5.630,2,    0.010,2,    0.432,2,    2.444,6,    1.340,6, -999.000,9, 2044.100,2, 2285.200,2
           NA,    P03C,    299,   1,-999.0,     -99,  2,20060104,0500,  24.2337,  142.4455,  2884,  299.800,   15.504,   34.623,2,   34.619,2,  174.600,1,  188.610,2,    7.880,2,    8.690,2,    0.000,2,    0.653,2,    2.569,2,    1.356,2, -999.000,9, 2065.700,2, 2277.000,2
           NA,    P03C,    299,   1,-999.0,     -99,  2,20060104,0500,  24.2337,  142.4455,  2884,  399.300,   12.516,   34.390,2,   34.384,2,  171.920,1,  185.300,2,   15.810,2,   13.860,2,    0.010,2,    1.011,2,    2.702,2,    1.370,2, -999.000,9, 2097.900,2, 2273.300,2
           NA,    P03C,    299,   1,-999.0,     -99,  2,20060104,0500,  24.2337,  142.4455,  2884,  499.100,    9.802,   34.210,2,   34.208,6,  153.800,1,  164.710,2,   28.460,2,   20.520,2,    0.010,2,    1.496,2,    2.439,2,    1.188,2, -999.000,9, 2144.500,2, 2272.100,2
           NA,    P03C,    299,   1,-999.0,     -99,  2,20060104,0500,  24.2337,  142.4455,  2884,  599.200,    7.650,   34.133,2,   34.132,2,  120.570,1, -999.000,4,   48.360,2,   27.840,2,    0.000,2,    2.032,2,    1.762,2,    0.843,2, -999.000,9, 2200.000,2, 2286.300,2
           NA,    P03C,    299,   1,-999.0,     -99,  2,20060104,0500,  24.2337,  142.4455,  2884,  702.700,    5.789,   34.123,2,   34.124,2,   93.320,1,  100.400,2,   72.620,2,   33.490,2,    0.010,2,    2.444,2,    1.292,2,    0.615,2, -999.000,9, 2251.600,6, 2307.100,2
           NA,    P03C,    299,   1,-999.0,     -99,  2,20060104,0500,  24.2337,  142.4455,  2884,  801.800,    4.831,   34.221,2,   34.219,2,   64.430,1,   69.130,2,   92.400,2,   37.880,2,    0.000,2,    2.753,2,    0.631,2,    0.299,2, -999.000,9, 2295.200,2, 2329.100,6
           NA,    P03C,    299,   1,-999.0,     -99,  2,20060104,0500,  24.2337,  142.4455,  2884,  902.200,    4.217,   34.311,2,   34.311,2,   51.840,1,   55.630,2,  106.750,2,   39.960,2,    0.000,2,    2.900,2,    0.285,2,    0.137,2, -999.000,9, 2320.600,2, 2345.800,2
           NA,    P03C,    299,   1,-999.0,     -99,  2,20060104,0500,  24.2337,  142.4455,  2884,  999.400,    3.939,   34.355,2,   34.355,6,   50.900,1,   54.540,2,  113.400,2,   40.510,2,    0.000,2,    2.930,2,    0.195,2,    0.090,2, -999.000,9, 2330.600,2, 2354.500,2
           NA,    P03C,    299,   1,-999.0,     -99,  2,20060104,0500,  24.2337,  142.4455,  2884, 1200.700,    3.007,   34.446,2,   34.446,2,   48.860,1,   52.210,2,  136.470,2,   41.670,2,    0.000,2,    2.998,2,    0.070,2,    0.028,2, -999.000,9, 2357.400,2, 2380.500,2
           NA,    P03C,    299,   1,-999.0,     -99,  2,20060104,0500,  24.2337,  142.4455,  2884, 1400.000,    2.598,   34.502,2,   34.502,2,   55.170,1,   59.300,2,  145.650,2,   41.630,2,    0.000,2,    2.982,2,    0.028,2,    0.010,2, -999.000,9, 2363.500,2, 2391.300,2
           NA,    P03C,    299,   1,-999.0,     -99,  2,20060104,0500,  24.2337,  142.4455,  2884, 1602.400,    2.263,   34.554,2,   34.553,6,   68.940,1,   73.840,2,  150.450,2,   40.880,2,    0.000,2,    2.916,2,    0.011,2,    0.004,2, -999.000,9, 2360.800,2, 2402.300,2
           NA,    P03C,    299,   1,-999.0,     -99,  2,20060104,0500,  24.2337,  142.4455,  2884, 1801.800,    2.045,   34.590,2,   34.588,2,   82.720,1,   88.950,2,  151.750,2,   39.970,2,    0.000,2,    2.844,2,    0.004,2,    0.000,2, -999.000,9, 2355.300,2, 2402.600,2
           NA,    P03C,    299,   1,-999.0,     -99,  2,20060104,0500,  24.2337,  142.4455,  2884, 2000.200,    1.924,   34.609,2,   34.609,2,   92.330,1,   99.540,2,  151.900,2,   39.340,2,    0.000,2,    2.792,2,    0.000,2,    0.000,2, -999.000,9, 2350.700,2, 2408.200,2
           NA,    P03C,    299,   1,-999.0,     -99,  2,20060104,0500,  24.2337,  142.4455,  2884, 2199.800,    1.817,   34.626,2,   34.626,6,  102.650,1,  110.590,2,  150.690,2,   38.640,2,    0.000,2,    2.739,2,    0.000,2,    0.000,2, -999.000,9, 2344.800,2, 2410.000,2
           NA,    P03C,    299,   1,-999.0,     -99,  2,20060104,0500,  24.2337,  142.4455,  2884, 2402.100,    1.729,   34.639,2,   34.639,2,  109.560,1,  117.820,2,  150.880,2,   38.190,2,    0.000,2,    2.700,2,    0.002,2,    0.000,2, -999.000,9, 2341.400,6, 2411.200,2
           NA,    P03C,    299,   1,-999.0,     -99,  2,20060104,0500,  24.2337,  142.4455,  2884, 2599.800,    1.638,   34.653,2,   34.653,2,  117.650,1,  126.270,2,  150.470,2,   37.650,2,    0.000,2,    2.658,2,    0.000,2,    0.000,2, -999.000,9, 2336.600,2, 2413.700,6
           NA,    P03C,    299,   1,-999.0,     -99,  2,20060104,0500,  24.2337,  142.4455,  2884, 2800.000,    1.613,   34.658,2,   34.658,2,  121.490,1,  130.030,2,  150.090,2,   37.460,2,    0.000,2,    2.639,2,    0.000,2,    0.000,2, -999.000,9, 2337.800,2, 2414.300,2
           NA,    P03C,    299,   1,-999.0,     -99,  2,20060104,0500,  24.2337,  142.4455,  2884, 2925.900,    1.510,   34.671,2,   34.671,6,  130.150,1,  138.750,2,  149.550,2,   36.890,2,    0.000,2,    2.594,2,    0.000,2,    0.000,2, -999.000,9, 2332.200,2, 2413.900,2