BOTTLE,20211903JOAExport
EXPOCODE,SECT_ID,STNNBR,CASTNO,SAMPNO,BTLNBR,BTLNBR_FLAG_W,DATE,TIME,LATITUDE,LONGITUDE,DEPTH,CTDPRS,CTDTMP,CTDSAL,CTDSAL_FLAG_W,SALNTY,SALNTY_FLAG_W,CTDOXY,CTDOXY_FLAG_W,OXYGEN,OXYGEN_FLAG_W,SILCAT,SILCAT_FLAG_W,NITRAT,NITRAT_FLAG_W,NITRIT,NITRIT_FLAG_W,PHSPHT,PHSPHT_FLAG_W,CFC-11,CFC-11_FLAG_W,CFC-12,CFC-12_FLAG_W,SF6,SF6_FLAG_W,TCARBN,TCARBN_FLAG_W,ALKALI,ALKALI_FLAG_W
,,,,,,,,,,,,DB,ITS-90,PSS-78,,PSS-78,,UMOL/KG,,UMOL/KG,,UMOL/KG,,UMOL/KG,,UMOL/KG,,UMOL/KG,,PMOL/KG,,PMOL/KG,,FMOL/KG,,UMOL/KG,,UMOL/KG
           NA,    P03E,     90,   1,-999.0,     -99,  2,20051114,0102,  24.2763, -147.6980,  5529,   10.700,   23.955,   35.286,2,   35.286,2,  199.340,1,  212.930,2,    0.810,2,    0.060,2,    0.000,2,    0.058,2,    1.776,2,    1.082,2, -999.000,9, 1995.000,2, 2323.900,2
           NA,    P03E,     90,   1,-999.0,     -99,  2,20051114,0102,  24.2763, -147.6980,  5529,   49.700,   23.943,   35.303,2,   35.304,2,  199.330,1,  213.020,2,    0.850,2,    0.050,2,    0.000,2,    0.060,2,    1.784,2,    1.081,2, -999.000,9, 1997.600,6, 2322.800,2
           NA,    P03E,     90,   1,-999.0,     -99,  2,20051114,0102,  24.2763, -147.6980,  5529,  101.300,   21.729,   35.215,2,   35.214,2,  200.680,1,  214.140,2,    1.210,2,    0.040,2,    0.000,2,    0.072,2,    2.052,2,    1.215,2, -999.000,9, 2017.600,2, 2314.700,6
           NA,    P03E,     90,   1,-999.0,     -99,  2,20051114,0102,  24.2763, -147.6980,  5529,  150.700,   19.188,   34.958,2,   34.953,2,  198.660,1,  212.030,2,    2.050,2,    0.690,2,    0.110,2,    0.138,2,    2.314,2,    1.336,2, -999.000,9, 2029.100,2, 2296.600,2
           NA,    P03E,     90,   1,-999.0,     -99,  2,20051114,0102,  24.2763, -147.6980,  5529,  201.000,   15.777,   34.536,2,   34.549,2,  193.570,1,  206.220,2,    4.320,2,    4.410,2,    0.010,2,    0.403,2,    2.691,2,    1.484,2, -999.000,9, 2045.500,2, 2272.000,2
           NA,    P03E,     90,   1,-999.0,     -99,  2,20051114,0102,  24.2763, -147.6980,  5529,  250.400,   13.349,   34.302,2,   34.298,2,  200.610,1,  213.480,2,    7.490,2,    8.050,2,    0.000,2,    0.639,2,    2.999,6,    1.593,6, -999.000,9, 2058.900,2, 2257.500,2
           NA,    P03E,     90,   1,-999.0,     -99,  2,20051114,0102,  24.2763, -147.6980,  5529,  300.400,   11.579,   34.165,2,   34.165,2,  198.630,1,  211.370,2,   11.800,2,   11.790,2,    0.000,2,    0.890,2,    3.230,2,    1.665,2, -999.000,9, 2080.000,2, 2253.200,2
           NA,    P03E,     90,   1,-999.0,     -99,  2,20051114,0102,  24.2763, -147.6980,  5529,  400.900,    9.301,   34.104,2,   34.104,2,  176.100,1,  187.160,2,   23.970,2,   19.120,2,    0.000,2,    1.387,2,    3.128,2,    1.541,2, -999.000,9, 2126.600,2, 2266.600,2
           NA,    P03E,     90,   1,-999.0,     -99,  2,20051114,0102,  24.2763, -147.6980,  5529,  500.400,    7.059,   34.027,2,   34.028,6,  119.270,1,  123.970,2,   47.480,2,   29.670,2,    0.000,2,    2.154,2, -999.000,5, -999.000,5, -999.000,9, 2205.900,2, 2273.900,2
           NA,    P03E,     90,   1,-999.0,     -99,  2,20051114,0102,  24.2763, -147.6980,  5529,  599.200,    5.591,   34.078,2,   34.078,2,   57.390,1,   61.150,2,   71.920,2,   37.580,2,    0.000,2,    2.760,2, -999.000,5, -999.000,5, -999.000,9, 2274.900,2, 2299.700,2
           NA,    P03E,     90,   1,-999.0,     -99,  2,20051114,0102,  24.2763, -147.6980,  5529,  699.400,    4.902,   34.213,2,   34.215,2,   21.640,1,   22.740,2,   91.490,2,   41.760,2,    0.000,2,    3.102,2, -999.000,5, -999.000,5, -999.000,9, 2321.000,6, 2322.600,2
           NA,    P03E,     90,   1,-999.0,     -99,  2,20051114,0102,  24.2763, -147.6980,  5529,  800.000,    4.545,   34.333,2,   34.334,2,   17.460,1,   18.520,2,  101.460,2,   42.980,2,    0.000,2,    3.177,2, -999.000,5, -999.000,5, -999.000,9, 2338.300,2, 2342.600,6
           NA,    P03E,     90,   1,-999.0,     -99,  2,20051114,0102,  24.2763, -147.6980,  5529,  899.800,    4.293,   34.419,2,   34.420,2,   25.440,1,   27.260,2,  106.550,2,   43.030,2,    0.000,2,    3.159,2, -999.000,5, -999.000,5, -999.000,9, 2343.500,2, 2356.700,2
           NA,    P03E,     90,   1,-999.0,     -99,  2,20051114,0102,  24.2763, -147.6980,  5529, 1000.600,    4.003,   34.472,2,   34.472,6,   35.100,1,   37.410,2,  111.990,2,   42.680,2,    0.000,2,    3.111,2,    0.002,2,    0.000,2, -999.000,9, 2344.500,2, 2365.300,2
           NA,    P03E,     90,   1,-999.0,     -99,  2,20051114,0102,  24.2763, -147.6980,  5529, 1200.500,    3.430,   34.528,2,   34.528,2,   47.200,1,   50.570,2,  124.060,2,   42.210,2,    0.000,2,    3.070,2,    0.000,2,    0.000,2, -999.000,9, 2350.600,2, 2382.000,2
           NA,    P03E,     90,   1,-999.0,     -99,  2,20051114,0102,  24.2763, -147.6980,  5529, 1399.600,    3.036,   34.556,2,   34.556,2,   55.740,1,   59.770,2,  132.910,2,   41.760,2,    0.000,2,    3.029,2,    0.000,2,    0.000,2, -999.000,9, 2355.100,2, 2389.400,2
           NA,    P03E,     90,   1,-999.0,     -99,  2,20051114,0102,  24.2763, -147.6980,  5529, 1601.200,    2.678,   34.582,2,   34.583,2,   64.040,1,   68.870,2,  141.080,2,   41.450,2,    0.000,2,    2.993,2,    0.000,2,    0.001,2, -999.000,9, 2357.300,2, 2400.900,2
           NA,    P03E,     90,   1,-999.0,     -99,  2,20051114,0102,  24.2763, -147.6980,  5529, 1801.200,    2.384,   34.600,2,   34.601,2,   71.820,1,   77.360,2,  148.170,2,   40.870,2,    0.000,2,    2.936,2,    0.000,2,    0.002,2, -999.000,9, 2359.300,2, -999.000,3
           NA,    P03E,     90,   1,-999.0,     -99,  2,20051114,0102,  24.2763, -147.6980,  5529, 2000.200,    2.138,   34.617,2,   34.617,2,   78.510,1,   84.820,2,  154.850,2,   40.490,2,    0.000,2,    2.893,2,    0.000,2,    0.000,2, -999.000,9, 2361.600,2, 2412.800,2
           NA,    P03E,     90,   1,-999.0,     -99,  2,20051114,0102,  24.2763, -147.6980,  5529, 2201.800,    1.918,   34.633,2,   34.633,2,   85.190,1,   92.010,2,  161.920,2,   40.090,2,    0.000,2,    2.854,2,    0.002,2,    0.000,2, -999.000,9, 2359.700,2, 2417.400,2
           NA,    P03E,     90,   1,-999.0,     -99,  2,20051114,0102,  24.2763, -147.6980,  5529, 2401.800,    1.754,   34.647,2,   34.647,2,   93.210,1,  101.030,2,  165.880,2,   39.490,2,    0.000,2,    2.807,2, -999.000,9, -999.000,9, -999.000,9, 2359.800,6, 2420.400,2
           NA,    P03E,     90,   1,-999.0,     -99,  2,20051114,0102,  24.2763, -147.6980,  5529, 2601.700,    1.661,   34.657,2,   34.657,2,  101.480,1,  110.190,2,  165.590,2,   38.930,2,    0.000,2,    2.757,2, -999.000,9, -999.000,9, -999.000,9, 2354.500,2, 2421.400,6
           NA,    P03E,     90,   1,-999.0,     -99,  2,20051114,0102,  24.2763, -147.6980,  5529, 2802.900,    1.601,   34.664,2,   34.664,6,  107.490,1,  116.640,2,  165.630,2,   38.480,2,    0.000,2,    2.720,2,    0.002,2,    0.000,2, -999.000,9, 2352.900,2, 2423.800,2
           NA,    P03E,     90,   1,-999.0,     -99,  2,20051114,0102,  24.2763, -147.6980,  5529, 3002.500,    1.548,   34.670,2,   34.670,2,  113.580,1,  123.470,2,  165.030,2,   38.040,2,    0.000,2,    2.682,2, -999.000,9, -999.000,9, -999.000,9, 2348.000,2, 2425.200,2
           NA,    P03E,     90,   1,-999.0,     -99,  2,20051114,0102,  24.2763, -147.6980,  5529, 3253.400,    1.506,   34.676,2,   34.676,2,  120.560,1,  131.080,2,  163.270,2,   37.530,2,    0.000,2,    2.643,2,    0.000,2,    0.000,2, -999.000,9, 2343.100,2, 2425.000,2
           NA,    P03E,     90,   1,-999.0,     -99,  2,20051114,0102,  24.2763, -147.6980,  5529, 3501.300,    1.480,   34.681,2,   34.681,2,  126.940,1,  138.060,2,  160.850,2,   37.070,2,    0.000,2,    2.605,2, -999.000,9, -999.000,9, -999.000,9, 2337.600,2, 2423.700,2
           NA,    P03E,     90,   1,-999.0,     -99,  2,20051114,0102,  24.2763, -147.6980,  5529, 3752.500,    1.467,   34.684,2,   34.684,2,  131.890,1,  143.280,2,  158.740,2,   36.790,2,    0.000,2,    2.581,2, -999.000,9, -999.000,9, -999.000,9, 2333.400,2, 2420.900,2
           NA,    P03E,     90,   1,-999.0,     -99,  2,20051114,0102,  24.2763, -147.6980,  5529, 4001.500,    1.467,   34.687,2,   34.686,6,  135.870,1,  147.390,2,  156.310,2,   36.510,2,    0.000,2,    2.557,2,    0.004,2,    0.003,2, -999.000,9, 2330.200,2, 2426.300,2
           NA,    P03E,     90,   1,-999.0,     -99,  2,20051114,0102,  24.2763, -147.6980,  5529, 4252.000,    1.476,   34.688,2,   34.688,2,  139.230,1,  150.670,2,  154.270,2,   36.200,2,    0.000,2,    2.537,2, -999.000,9, -999.000,9, -999.000,9, 2328.200,6, 2420.800,2
           NA,    P03E,     90,   1,-999.0,     -99,  2,20051114,0102,  24.2763, -147.6980,  5529, 4500.100,    1.485,   34.690,2,   34.690,2,  142.960,1,  154.180,2,  151.440,2,   35.950,2,    0.000,2,    2.520,2,    0.001,2,    0.002,2, -999.000,9, 2324.600,2, 2417.400,6
           NA,    P03E,     90,   1,-999.0,     -99,  2,20051114,0102,  24.2763, -147.6980,  5529, 4749.700,    1.490,   34.692,2,   34.692,2,  147.340,1,  158.660,2,  148.240,2,   35.650,2,    0.000,2,    2.498,2, -999.000,9, -999.000,9, -999.000,9, 2321.100,2, 2414.600,2
           NA,    P03E,     90,   1,-999.0,     -99,  2,20051114,0102,  24.2763, -147.6980,  5529, 5001.800,    1.493,   34.694,2,   34.694,6,  151.870,1,  162.720,2,  144.680,2,   35.380,2,    0.000,2,    2.475,2,    0.006,2,    0.002,2, -999.000,9, 2315.100,2, 2410.400,2
           NA,    P03E,     90,   1,-999.0,     -99,  2,20051114,0102,  24.2763, -147.6980,  5529, 5250.600,    1.502,   34.695,2,   34.695,2,  155.590,1,  166.090,2,  142.160,2,   35.190,2,    0.000,2,    2.454,2, -999.000,9, -999.000,9, -999.000,9, 2310.600,2, 2408.000,2
           NA,    P03E,     90,   1,-999.0,     -99,  2,20051114,0102,  24.2763, -147.6980,  5529, 5499.600,    1.520,   34.696,2,   34.696,2,  158.360,1,  167.870,2,  140.810,2,   34.990,2,    0.000,2,    2.440,2,    0.004,2,    0.001,2, -999.000,9, 2309.800,2, 2404.000,2
           NA,    P03E,     90,   1,-999.0,     -99,  2,20051114,0102,  24.2763, -147.6980,  5529, 5666.100,    1.538,   34.696,2,   34.696,6,  160.000,1,  168.530,2,  140.400,2,   34.950,2,    0.000,2,    2.439,2,    0.001,2,    0.000,2, -999.000,9, 2307.800,2, 2404.000,2
           NA,    P03E,     88,   1,-999.0,     -99,  2,20051113,1808,  24.2407, -146.9352,  5262,    9.100,   23.924,   35.259,2,   35.259,2,  199.700,1,  212.650,2,    1.000,2,    0.040,2,    0.000,2,    0.066,2,    1.739,2,    1.067,2, -999.000,9, -999.000,9, -999.000,9
           NA,    P03E,     88,   1,-999.0,     -99,  2,20051113,1808,  24.2407, -146.9352,  5262,   49.200,   23.925,   35.262,2,   35.264,2,  199.380,1,  212.570,2,    1.000,2,    0.030,2,    0.010,2,    0.063,2,    1.737,2,    1.067,2, -999.000,9, -999.000,9, -999.000,9
           NA,    P03E,     88,   1,-999.0,     -99,  2,20051113,1808,  24.2407, -146.9352,  5262,   99.600,   22.552,   35.257,2,   35.254,2,  209.800,1,  223.590,2,    1.330,2,    0.020,2,    0.010,2,    0.042,2,    1.947,2,    1.180,2, -999.000,9, -999.000,9, -999.000,9
           NA,    P03E,     88,   1,-999.0,     -99,  2,20051113,1808,  24.2407, -146.9352,  5262,  150.300,   19.061,   34.939,2,   34.934,2,  193.680,1,  206.040,2,    2.310,2,    1.190,2,    0.070,2,    0.178,2,    2.239,2,    1.332,2, -999.000,9, -999.000,9, -999.000,9
           NA,    P03E,     88,   1,-999.0,     -99,  2,20051113,1808,  24.2407, -146.9352,  5262,  198.100,   15.758,   34.541,2,   34.533,2,  196.900,1,  209.020,2,    4.570,2,    4.330,2,    0.010,2,    0.391,2,    2.558,2,    1.497,2, -999.000,9, -999.000,9, -999.000,9
           NA,    P03E,     88,   1,-999.0,     -99,  2,20051113,1808,  24.2407, -146.9352,  5262,  249.700,   12.896,   34.243,2,   34.243,2,  200.530,1,  213.230,2,    8.470,2,    8.890,2,    0.010,2,    0.688,2,    2.861,6,    1.638,6, -999.000,9, -999.000,9, -999.000,9
           NA,    P03E,     88,   1,-999.0,     -99,  2,20051113,1808,  24.2407, -146.9352,  5262,  301.700,   11.412,   34.171,2,   34.175,2,  198.250,1,  211.360,2,   12.320,2,   12.120,2,    0.010,2,    0.904,2,    2.978,2,    1.666,2, -999.000,9, -999.000,9, -999.000,9
           NA,    P03E,     88,   1,-999.0,     -99,  2,20051113,1808,  24.2407, -146.9352,  5262,  399.600,    9.033,   34.097,2,   34.095,2,  170.700,1,  179.630,2,   26.830,2,   20.610,2,    0.000,2,    1.488,2,    2.804,2,    1.492,2, -999.000,9, -999.000,9, -999.000,9
           NA,    P03E,     88,   1,-999.0,     -99,  2,20051113,1808,  24.2407, -146.9352,  5262,  500.100,    6.758,   34.030,2,   34.030,6,  105.590,1,  110.840,2,   51.370,2,   31.260,2,    0.000,2,    2.277,2,    1.685,2,    0.813,2, -999.000,9, -999.000,9, -999.000,9
           NA,    P03E,     88,   1,-999.0,     -99,  2,20051113,1808,  24.2407, -146.9352,  5262,  600.200,    5.363,   34.120,2,   34.120,2,   41.400,1,   43.920,2,   78.450,2,   39.390,2,    0.000,2,    2.908,2,    0.380,2,    0.202,2, -999.000,9, -999.000,9, -999.000,9
           NA,    P03E,     88,   1,-999.0,     -99,  2,20051113,1808,  24.2407, -146.9352,  5262,  699.400,    4.740,   34.241,2,   34.244,2,   19.020,1,   19.980,2,   95.920,2,   42.400,2,    0.000,2,    3.148,2,    0.059,2,    0.034,2, -999.000,9, -999.000,9, -999.000,9
           NA,    P03E,     88,   1,-999.0,     -99,  2,20051113,1808,  24.2407, -146.9352,  5262,  799.100,    4.460,   34.357,2,   34.357,2,   19.760,1,   20.970,2,  103.410,2,   43.020,2,    0.000,2,    3.183,2,    0.019,6,    0.012,6, -999.000,9, -999.000,9, -999.000,9
           NA,    P03E,     88,   1,-999.0,     -99,  2,20051113,1808,  24.2407, -146.9352,  5262,  898.400,    4.217,   34.445,2,   34.446,2,   31.110,1,   33.230,2,  107.350,2,   42.680,2,    0.000,2,    3.117,2,    0.008,2,    0.008,2, -999.000,9, -999.000,9, -999.000,9
           NA,    P03E,     88,   1,-999.0,     -99,  2,20051113,1808,  24.2407, -146.9352,  5262, 1001.900,    3.996,   34.489,2,   34.488,6,   38.270,1,   40.670,2,  111.830,2,   42.560,2,    0.000,2,    3.108,2,    0.007,2,    0.007,2, -999.000,9, -999.000,9, -999.000,9
           NA,    P03E,     88,   1,-999.0,     -99,  2,20051113,1808,  24.2407, -146.9352,  5262, 1199.800,    3.498,   34.531,2,   34.531,2,   47.160,1,   50.230,2,  122.520,2,   42.340,2,    0.000,2,    3.078,2,    0.005,2,    0.005,2, -999.000,9, -999.000,9, -999.000,9
           NA,    P03E,     88,   1,-999.0,     -99,  2,20051113,1808,  24.2407, -146.9352,  5262, 1400.400,    3.062,   34.560,2,   34.560,2,   55.060,1,   59.020,2,  132.650,2,   42.040,2,    0.000,2,    3.041,2,    0.000,2,    0.000,2, -999.000,9, -999.000,9, -999.000,9
           NA,    P03E,     88,   1,-999.0,     -99,  2,20051113,1808,  24.2407, -146.9352,  5262, 1599.800,    2.686,   34.581,2,   34.581,2,   64.170,1,   68.970,2,  141.400,2,   41.450,2,    0.000,2,    2.993,2,    0.001,2,    0.001,2, -999.000,9, -999.000,9, -999.000,9
           NA,    P03E,     88,   1,-999.0,     -99,  2,20051113,1808,  24.2407, -146.9352,  5262, 1800.000,    2.381,   34.601,2,   34.601,2,   71.760,1,   77.130,2,  149.020,2,   41.050,2,    0.000,2,    2.941,2,    0.001,2,    0.001,2, -999.000,9, -999.000,9, -999.000,9
           NA,    P03E,     88,   1,-999.0,     -99,  2,20051113,1808,  24.2407, -146.9352,  5262, 2000.400,    2.147,   34.616,2,   34.617,2,   78.370,1,   84.300,2,  155.470,2,   40.580,2,    0.000,2,    2.896,2,    0.000,2,    0.001,2, -999.000,9, -999.000,9, -999.000,9
           NA,    P03E,     88,   1,-999.0,     -99,  2,20051113,1808,  24.2407, -146.9352,  5262, 2199.100,    1.950,   34.631,2,   34.631,2,   85.700,1,   92.490,2,  160.510,2,   40.110,2,    0.000,2,    2.855,2, -999.000,9, -999.000,9, -999.000,9, -999.000,9, -999.000,9
           NA,    P03E,     88,   1,-999.0,     -99,  2,20051113,1808,  24.2407, -146.9352,  5262, 2398.900,    1.797,   34.644,2,   34.644,2,   93.390,1,  100.800,2,  163.770,2,   39.590,2,    0.000,2,    2.806,2,    0.000,2,    0.001,2, -999.000,9, -999.000,9, -999.000,9
           NA,    P03E,     88,   1,-999.0,     -99,  2,20051113,1808,  24.2407, -146.9352,  5262, 2600.100,    1.694,   34.654,2,   34.654,6,  100.270,1,  108.230,2,  165.800,2,   39.160,2,    0.000,2,    2.770,2, -999.000,9, -999.000,9, -999.000,9, -999.000,9, -999.000,9
           NA,    P03E,     88,   1,-999.0,     -99,  2,20051113,1808,  24.2407, -146.9352,  5262, 2800.200,    1.612,   34.663,2,   34.663,2,  107.360,1,  115.960,2,  166.240,2,   38.710,2,    0.000,2,    2.732,2,    0.000,2,    0.000,2, -999.000,9, -999.000,9, -999.000,9
           NA,    P03E,     88,   1,-999.0,     -99,  2,20051113,1808,  24.2407, -146.9352,  5262, 2999.300,    1.551,   34.670,2,   34.670,2,  113.900,1,  123.170,2,  165.730,2,   38.240,2,    0.000,2,    2.690,2, -999.000,9, -999.000,9, -999.000,9, -999.000,9, -999.000,9
           NA,    P03E,     88,   1,-999.0,     -99,  2,20051113,1808,  24.2407, -146.9352,  5262, 3248.600,    1.501,   34.676,2,   34.676,2,  121.610,1,  131.520,2,  163.790,2,   37.590,2,    0.000,2,    2.636,2, -999.000,9, -999.000,9, -999.000,9, -999.000,9, -999.000,9
           NA,    P03E,     88,   1,-999.0,     -99,  2,20051113,1808,  24.2407, -146.9352,  5262, 3500.600,    1.475,   34.681,2,   34.681,2,  127.730,1,  137.810,2,  161.560,2,   37.220,2,    0.000,2,    2.608,2,    0.004,2,    0.001,2, -999.000,9, -999.000,9, -999.000,9
           NA,    P03E,     88,   1,-999.0,     -99,  2,20051113,1808,  24.2407, -146.9352,  5262, 3750.500,    1.462,   34.684,2,   34.685,6,  133.220,1,  143.650,2,  158.830,2,   36.800,2,    0.000,2,    2.577,2, -999.000,9, -999.000,9, -999.000,9, -999.000,9, -999.000,9
           NA,    P03E,     88,   1,-999.0,     -99,  2,20051113,1808,  24.2407, -146.9352,  5262, 4001.700,    1.462,   34.687,2,   34.687,2,  137.580,1,  147.950,2,  156.450,2,   36.520,2,    0.000,2,    2.554,2, -999.000,9, -999.000,9, -999.000,9, -999.000,9, -999.000,9
           NA,    P03E,     88,   1,-999.0,     -99,  2,20051113,1808,  24.2407, -146.9352,  5262, 4248.800,    1.475,   34.688,2,   34.688,2,  140.320,1,  150.520,2,  154.630,2,   36.350,2,    0.000,2,    2.539,2, -999.000,9, -999.000,9, -999.000,9, -999.000,9, -999.000,9
           NA,    P03E,     88,   1,-999.0,     -99,  2,20051113,1808,  24.2407, -146.9352,  5262, 4500.400,    1.489,   34.690,2,   34.690,2,  143.500,1,  153.380,2,  152.530,2,   36.140,2,    0.000,2,    2.528,2,    0.002,2,    0.009,2, -999.000,9, -999.000,9, -999.000,9
           NA,    P03E,     88,   1,-999.0,     -99,  2,20051113,1808,  24.2407, -146.9352,  5262, 4751.700,    1.493,   34.692,2,   34.692,6,  148.110,1,  157.700,2,  149.110,2,   35.790,2,    0.000,2,    2.503,2, -999.000,9, -999.000,9, -999.000,9, -999.000,9, -999.000,9
           NA,    P03E,     88,   1,-999.0,     -99,  2,20051113,1808,  24.2407, -146.9352,  5262, 5000.000,    1.500,   34.693,2,   34.693,2,  152.530,1,  161.650,2,  145.940,2,   35.570,2,    0.000,2,    2.483,2, -999.000,9, -999.000,9, -999.000,9, -999.000,9, -999.000,9
           NA,    P03E,     88,   1,-999.0,     -99,  2,20051113,1808,  24.2407, -146.9352,  5262, 5248.100,    1.505,   34.695,2,   34.695,2,  157.130,1,  165.540,2,  142.870,2,   35.320,2,    0.000,2,    2.460,2, -999.000,9, -999.000,9, -999.000,9, -999.000,9, -999.000,9
           NA,    P03E,     88,   1,-999.0,     -99,  2,20051113,1808,  24.2407, -146.9352,  5262, 5341.900,    1.513,   34.695,2,   34.695,6,  158.380,1,  166.250,2,  142.580,2,   35.240,2,    0.000,2,    2.465,2,    0.000,2,    0.000,2, -999.000,9, -999.000,9, -999.000,9