BOTTLE,20211903JOAExport
EXPOCODE,SECT_ID,STNNBR,CASTNO,SAMPNO,BTLNBR,BTLNBR_FLAG_W,DATE,TIME,LATITUDE,LONGITUDE,DEPTH,CTDPRS,CTDTMP,CTDSAL,CTDSAL_FLAG_W,SALNTY,SALNTY_FLAG_W,CTDOXY,CTDOXY_FLAG_W,OXYGEN,OXYGEN_FLAG_W,SILCAT,SILCAT_FLAG_W,NITRAT,NITRAT_FLAG_W,NITRIT,NITRIT_FLAG_W,PHSPHT,PHSPHT_FLAG_W,CFC-11,CFC-11_FLAG_W,CFC-12,CFC-12_FLAG_W,SF6,SF6_FLAG_W,TCARBN,TCARBN_FLAG_W,ALKALI,ALKALI_FLAG_W
,,,,,,,,,,,,DB,ITS-90,PSS-78,,PSS-78,,UMOL/KG,,UMOL/KG,,UMOL/KG,,UMOL/KG,,UMOL/KG,,UMOL/KG,,PMOL/KG,,PMOL/KG,,FMOL/KG,,UMOL/KG,,UMOL/KG
           NA,    P03C,    213,   1,-999.0,     -99,  2,20051211,0107,  24.2482,  173.5623,  5822,    9.500,   26.524,   35.245,2,   35.246,2,  180.140,1,  203.590,2,    0.940,2,    0.040,2,    0.000,2,    0.046,2,    1.586,2,    0.963,2, -999.000,9, -999.000,9, -999.000,9
           NA,    P03C,    213,   1,-999.0,     -99,  2,20051211,0107,  24.2482,  173.5623,  5822,   50.800,   26.414,   35.238,2,   35.239,2,  180.150,1,  204.070,2,    0.950,2,    0.040,2,    0.000,2,    0.044,2,    1.591,2,    0.982,2, -999.000,9, -999.000,9, -999.000,9
           NA,    P03C,    213,   1,-999.0,     -99,  2,20051211,0107,  24.2482,  173.5623,  5822,   98.700,   23.678,   35.225,2,   35.226,2,  193.860,1,  219.250,2,    1.300,2,    0.040,2,    0.000,2,    0.046,2,    1.911,2,    1.173,2, -999.000,9, -999.000,9, -999.000,9
           NA,    P03C,    213,   1,-999.0,     -99,  2,20051211,0107,  24.2482,  173.5623,  5822,  150.100,   20.743,   35.105,2,   35.103,2,  179.020,1,  202.770,2,    1.980,2,    0.430,2,    0.170,2,    0.131,2,    2.106,2,    1.207,2, -999.000,9, -999.000,9, -999.000,9
           NA,    P03C,    213,   1,-999.0,     -99,  2,20051211,0107,  24.2482,  173.5623,  5822,  200.300,   18.228,   34.888,2,   34.886,2,  173.970,1,  197.580,2,    3.370,2,    3.610,2,    0.010,2,    0.316,2,    2.303,2,    1.292,2, -999.000,9, -999.000,9, -999.000,9
           NA,    P03C,    213,   1,-999.0,     -99,  2,20051211,0107,  24.2482,  173.5623,  5822,  250.100,   16.776,   34.739,2,   34.739,2,  176.270,1,  199.810,2,    4.720,2,    5.420,2,    0.010,2,    0.424,2,    2.431,6,    1.338,6, -999.000,9, -999.000,9, -999.000,9
           NA,    P03C,    213,   1,-999.0,     -99,  2,20051211,0107,  24.2482,  173.5623,  5822,  300.600,   14.945,   34.566,2,   34.573,2,  178.100,1,  202.400,2,    7.400,2,    7.860,2,    0.010,2,    0.586,2,    2.593,2,    1.404,2, -999.000,9, -999.000,9, -999.000,9
           NA,    P03C,    213,   1,-999.0,     -99,  2,20051211,0107,  24.2482,  173.5623,  5822,  402.500,   12.069,   34.325,2,   34.320,2,  177.190,1,  200.960,2,   14.640,2,   13.050,2,    0.010,2,    0.943,2,    2.801,2,    1.472,2, -999.000,9, -999.000,9, -999.000,9
           NA,    P03C,    213,   1,-999.0,     -99,  2,20051211,0107,  24.2482,  173.5623,  5822,  502.000,    9.133,   34.143,2,   34.144,6,  153.290,1,  174.550,2,   29.530,2,   20.880,2,    0.000,2,    1.494,2,    2.543,2,    1.248,2, -999.000,9, -999.000,9, -999.000,9
           NA,    P03C,    213,   1,-999.0,     -99,  2,20051211,0107,  24.2482,  173.5623,  5822,  598.300,    6.908,   34.093,2,   34.095,2,   96.150,1,  108.840,2,   54.490,2,   31.130,2,    0.000,2,    2.259,2,    1.405,2,    0.640,2, -999.000,9, -999.000,9, -999.000,9
           NA,    P03C,    213,   1,-999.0,     -99,  2,20051211,0107,  24.2482,  173.5623,  5822,  701.900,    5.413,   34.124,2,   34.124,2,   66.280,1,   75.530,2,   77.160,2,   36.550,2,    0.010,2,    2.665,2,    0.823,2,    0.379,2, -999.000,9, -999.000,9, -999.000,9
           NA,    P03C,    213,   1,-999.0,     -99,  2,20051211,0107,  24.2482,  173.5623,  5822,  799.900,    4.673,   34.230,2,   34.231,2,   40.020,1,   46.210,2,   95.730,2,   40.490,2,    0.000,2,    2.943,2,    0.273,6,    0.119,6, -999.000,9, -999.000,9, -999.000,9
           NA,    P03C,    213,   1,-999.0,     -99,  2,20051211,0107,  24.2482,  173.5623,  5822,  900.100,    4.288,   34.325,2,   34.325,2,   34.560,1,   40.460,2,  105.720,2,   41.530,2,    0.000,2,    3.027,2,    0.089,2,    0.037,2, -999.000,9, -999.000,9, -999.000,9
           NA,    P03C,    213,   1,-999.0,     -99,  2,20051211,0107,  24.2482,  173.5623,  5822, 1001.100,    3.784,   34.377,2,   34.377,6,   32.910,1,   38.450,2,  117.840,2,   42.290,2,    0.000,2,    3.066,2,    0.033,2,    0.016,2, -999.000,9, -999.000,9, -999.000,9
           NA,    P03C,    213,   1,-999.0,     -99,  2,20051211,0107,  24.2482,  173.5623,  5822, 1200.800,    3.208,   34.486,2,   34.485,2,   45.370,1,   52.480,2,  130.680,2,   41.860,2,    0.000,2,    3.021,2,    0.000,2,    0.004,2, -999.000,9, -999.000,9, -999.000,9
           NA,    P03C,    213,   1,-999.0,     -99,  2,20051211,0107,  24.2482,  173.5623,  5822, 1401.600,    2.791,   34.538,2,   34.537,2,   56.700,1,   65.710,2,  138.340,2,   41.220,2,    0.010,2,    2.957,2,    0.000,2,    0.002,2, -999.000,9, -999.000,9, -999.000,9
           NA,    P03C,    213,   1,-999.0,     -99,  2,20051211,0107,  24.2482,  173.5623,  5822, 1601.400,    2.493,   34.569,2,   34.569,2,   66.090,1,   76.220,2,  144.230,2,   40.770,2,    0.000,2,    2.918,2,    0.000,2,    0.000,2, -999.000,9, -999.000,9, -999.000,9
           NA,    P03C,    213,   1,-999.0,     -99,  2,20051211,0107,  24.2482,  173.5623,  5822, 1798.600,    2.228,   34.597,2,   34.597,2,   76.790,1,   89.000,2,  147.710,2,   40.150,2,    0.000,2,    2.848,2,    0.000,2,    0.000,2, -999.000,9, -999.000,9, -999.000,9
           NA,    P03C,    213,   1,-999.0,     -99,  2,20051211,0107,  24.2482,  173.5623,  5822, 1998.900,    2.031,   34.615,2,   34.615,2,   82.420,1,   96.000,2,  151.790,2,   39.800,2,    0.000,2,    2.821,2,    0.000,2,    0.002,2, -999.000,9, -999.000,9, -999.000,9
           NA,    P03C,    213,   1,-999.0,     -99,  2,20051211,0107,  24.2482,  173.5623,  5822, 2199.300,    1.867,   34.631,2,   34.631,6,   89.070,1,  103.900,2,  154.570,2,   39.360,2,    0.000,2,    2.780,2,    0.000,2,    0.001,2, -999.000,9, -999.000,9, -999.000,9
           NA,    P03C,    213,   1,-999.0,     -99,  2,20051211,0107,  24.2482,  173.5623,  5822, 2400.200,    1.758,   34.643,2,   34.644,2,   95.710,1,  111.910,2,  155.450,2,   38.900,2,    0.000,2,    2.745,2,    0.000,2,    0.000,2, -999.000,9, -999.000,9, -999.000,9
           NA,    P03C,    213,   1,-999.0,     -99,  2,20051211,0107,  24.2482,  173.5623,  5822, 2600.900,    1.690,   34.652,2,   34.652,2,  100.900,1,  118.210,2,  155.370,2,   38.450,2,    0.000,2,    2.711,2,    0.000,2,    0.000,2, -999.000,9, -999.000,9, -999.000,9
           NA,    P03C,    213,   1,-999.0,     -99,  2,20051211,0107,  24.2482,  173.5623,  5822, 2800.300,    1.628,   34.660,2,   34.660,2,  106.250,1,  124.450,2,  154.810,2,   38.030,2,    0.000,2,    2.671,2, -999.000,9, -999.000,9, -999.000,9, -999.000,9, -999.000,9
           NA,    P03C,    213,   1,-999.0,     -99,  2,20051211,0107,  24.2482,  173.5623,  5822, 3001.700,    1.582,   34.666,2,   34.666,2,  110.960,1,  130.270,2,  154.140,2,   37.700,2,    0.000,2,    2.643,2, -999.000,9, -999.000,9, -999.000,9, -999.000,9, -999.000,9
           NA,    P03C,    213,   1,-999.0,     -99,  2,20051211,0107,  24.2482,  173.5623,  5822, 3249.600,    1.548,   34.671,2,   34.671,6,  115.730,1,  135.890,2,  152.780,2,   37.380,2,    0.000,2,    2.609,2,    0.000,2,    0.000,2, -999.000,9, -999.000,9, -999.000,9
           NA,    P03C,    213,   1,-999.0,     -99,  2,20051211,0107,  24.2482,  173.5623,  5822, 3500.700,    1.516,   34.677,2,   34.677,2,  120.610,1,  141.660,2,  151.430,2,   36.860,2,    0.000,2,    2.577,2, -999.000,9, -999.000,9, -999.000,9, -999.000,9, -999.000,9
           NA,    P03C,    213,   1,-999.0,     -99,  2,20051211,0107,  24.2482,  173.5623,  5822, 3749.300,    1.487,   34.681,2,   34.681,2,  125.710,1,  147.380,2,  149.730,2,   36.470,2,    0.000,2,    2.547,2, -999.000,9, -999.000,9, -999.000,9, -999.000,9, -999.000,9
           NA,    P03C,    213,   1,-999.0,     -99,  2,20051211,0107,  24.2482,  173.5623,  5822, 4000.700,    1.470,   34.685,2,   34.684,2,  130.040,1,  151.830,2,  148.080,2,   36.210,2,    0.000,2,    2.526,2,    0.000,2,    0.000,2, -999.000,9, -999.000,9, -999.000,9
           NA,    P03C,    213,   1,-999.0,     -99,  2,20051211,0107,  24.2482,  173.5623,  5822, 4250.200,    1.455,   34.688,2,   34.688,2,  134.820,1,  157.210,2,  145.400,2,   35.860,2,    0.000,2,    2.491,2, -999.000,9, -999.000,9, -999.000,9, -999.000,9, -999.000,9
           NA,    P03C,    213,   1,-999.0,     -99,  3,20051211,0107,  24.2482,  173.5623,  5822, 4501.400,    1.444,   34.692,2,   34.692,6,  140.200,1,  163.020,2,  141.880,2,   35.460,2,    0.000,2,    2.459,2, -999.000,9, -999.000,9, -999.000,9, -999.000,9, -999.000,9
           NA,    P03C,    213,   1,-999.0,     -99,  2,20051211,0107,  24.2482,  173.5623,  5822, 4750.800,    1.440,   34.694,2,   34.695,2,  144.980,1,  168.090,2,  138.910,2,   35.110,2,    0.000,2,    2.434,2,    0.000,2,    0.000,2, -999.000,9, -999.000,9, -999.000,9
           NA,    P03C,    213,   1,-999.0,     -99,  2,20051211,0107,  24.2482,  173.5623,  5822, 5000.100,    1.438,   34.697,2,   34.697,2,  149.370,1,  172.480,2,  136.160,2,   34.690,2,    0.000,2,    2.410,2, -999.000,9, -999.000,9, -999.000,9, -999.000,9, -999.000,9
           NA,    P03C,    213,   1,-999.0,     -99,  2,20051211,0107,  24.2482,  173.5623,  5822, 5249.800,    1.446,   34.699,2,   34.699,2,  152.820,1,  175.680,2,  134.160,2,   34.410,2,    0.000,2,    2.394,2, -999.000,9, -999.000,9, -999.000,9, -999.000,9, -999.000,9
           NA,    P03C,    213,   1,-999.0,     -99,  2,20051211,0107,  24.2482,  173.5623,  5822, 5500.400,    1.462,   34.700,2,   34.700,2,  155.610,1,  177.820,2,  132.940,2,   34.390,2,    0.000,2,    2.378,2,    0.000,2,    0.000,2, -999.000,9, -999.000,9, -999.000,9
           NA,    P03C,    213,   1,-999.0,     -99,  2,20051211,0107,  24.2482,  173.5623,  5822, 5749.900,    1.487,   34.700,2,   34.700,2,  157.760,1,  179.110,2,  132.150,2,   34.210,2,    0.000,2,    2.371,2, -999.000,9, -999.000,9, -999.000,9, -999.000,9, -999.000,9
           NA,    P03C,    213,   1,-999.0,     -99,  2,20051211,0107,  24.2482,  173.5623,  5822, 5914.500,    1.509,   34.700,2,   34.700,6,  159.620,1,  179.080,2,  132.160,2,   34.240,2,    0.000,2,    2.377,2,    0.000,2,    0.003,2, -999.000,9, -999.000,9, -999.000,9