BOTTLE,20211903JOAExport
EXPOCODE,SECT_ID,STNNBR,CASTNO,SAMPNO,BTLNBR,BTLNBR_FLAG_W,DATE,TIME,LATITUDE,LONGITUDE,DEPTH,CTDPRS,CTDTMP,CTDSAL,CTDSAL_FLAG_W,SALNTY,SALNTY_FLAG_W,CTDOXY,CTDOXY_FLAG_W,OXYGEN,OXYGEN_FLAG_W,SILCAT,SILCAT_FLAG_W,NITRAT,NITRAT_FLAG_W,NITRIT,NITRIT_FLAG_W,PHSPHT,PHSPHT_FLAG_W,CFC-11,CFC-11_FLAG_W,CFC-12,CFC-12_FLAG_W,SF6,SF6_FLAG_W,TCARBN,TCARBN_FLAG_W,ALKALI,ALKALI_FLAG_W
,,,,,,,,,,,,DB,ITS-90,PSS-78,,PSS-78,,UMOL/KG,,UMOL/KG,,UMOL/KG,,UMOL/KG,,UMOL/KG,,UMOL/KG,,PMOL/KG,,PMOL/KG,,FMOL/KG,,UMOL/KG,,UMOL/KG
           NA,    P03E,    134,   1,-999.0,     -99,  2,20051120,1327,  25.5153, -163.4787,  4998,   10.100,   25.203,   35.374,2,   35.374,2,  191.610,1,  209.020,2,    1.210,2,    0.040,2,    0.000,2,    0.054,2,    1.695,2,    1.017,2, -999.000,9, 1992.900,2, 2326.800,2
           NA,    P03E,    134,   1,-999.0,     -99,  2,20051120,1327,  25.5153, -163.4787,  4998,   50.400,   24.998,   35.338,2,   35.325,2,  193.170,1,  212.140,2,    1.400,2,    0.040,2,    0.000,2,    0.057,2,    1.759,2,    1.051,2, -999.000,9, 1994.100,6, 2326.100,2
           NA,    P03E,    134,   1,-999.0,     -99,  2,20051120,1327,  25.5153, -163.4787,  4998,  100.400,   19.039,   34.934,2,   34.925,2,  208.640,1,  226.670,2,    2.520,2,    0.170,2,    0.040,2,    0.126,2,    2.315,2,    1.332,2, -999.000,9, 2022.200,2, 2294.900,6
           NA,    P03E,    134,   1,-999.0,     -99,  2,20051120,1327,  25.5153, -163.4787,  4998,  150.200,   16.502,   34.732,2,   34.729,2,  202.680,1,  219.800,2,    4.050,2,    2.760,2,    0.110,2,    0.308,2,    2.495,2,    1.433,2, -999.000,9, 2037.700,2, 2282.300,2
           NA,    P03E,    134,   1,-999.0,     -99,  2,20051120,1327,  25.5153, -163.4787,  4998,  199.200,   15.332,   34.604,2,   34.595,2,  199.200,1,  215.930,2,    5.520,2,    5.320,2,    0.010,2,    0.454,2,    2.618,2,    1.490,2, -999.000,9, 2048.700,2, -999.000,5
           NA,    P03E,    134,   1,-999.0,     -99,  2,20051120,1327,  25.5153, -163.4787,  4998,  249.300,   13.766,   34.451,2,   34.446,2,  191.000,1,  207.020,2,    9.100,2,    9.040,2,    0.010,2,    0.699,2,    2.710,6,    1.505,6, -999.000,9, 2069.100,2, 2267.400,2
           NA,    P03E,    134,   1,-999.0,     -99,  2,20051120,1327,  25.5153, -163.4787,  4998,  297.500,   12.680,   34.381,2,   34.378,2,  195.050,1,  211.580,2,   11.730,2,   10.750,2,    0.000,2,    0.804,2,    2.787,2,    1.546,2, -999.000,9, 2078.400,2, 2271.600,2
           NA,    P03E,    134,   1,-999.0,     -99,  2,20051120,1327,  25.5153, -163.4787,  4998,  400.200,   10.076,   34.187,2,   34.186,2,  181.400,1,  196.590,2,   22.020,2,   16.980,2,    0.000,2,    1.245,2,    2.813,2,    1.498,2, -999.000,9, 2118.300,2, 2270.700,2
           NA,    P03E,    134,   1,-999.0,     -99,  2,20051120,1327,  25.5153, -163.4787,  4998,  499.300,    7.494,   34.062,2,   34.062,6,  135.340,1,  146.290,2,   43.900,2,   26.550,2,    0.000,2,    1.930,2,    2.194,2,    1.082,2, -999.000,9, 2188.400,2, 2278.900,2
           NA,    P03E,    134,   1,-999.0,     -99,  2,20051120,1327,  25.5153, -163.4787,  4998,  600.900,    5.989,   34.063,2,   34.063,2,   89.950,1,   97.650,2,   65.540,2,   33.680,2,    0.000,2,    2.449,2,    1.273,2,    0.634,2, -999.000,9, 2248.300,2, 2299.100,2
           NA,    P03E,    134,   1,-999.0,     -99,  2,20051120,1327,  25.5153, -163.4787,  4998,  701.300,    4.953,   34.161,2,   34.160,2,   49.660,1,   53.860,2,   87.330,2,   39.190,2,    0.000,2,    2.856,2,    0.463,2,    0.237,2, -999.000,9, 2300.600,6, 2323.900,2
           NA,    P03E,    134,   1,-999.0,     -99,  2,20051120,1327,  25.5153, -163.4787,  4998,  799.800,    4.564,   34.284,2,   34.286,2,   32.090,1,   34.480,2,   99.030,2,   41.560,2,    0.000,2,    3.045,2,    0.132,6,    0.072,6, -999.000,9, 2329.100,2, 2342.000,6
           NA,    P03E,    134,   1,-999.0,     -99,  2,20051120,1327,  25.5153, -163.4787,  4998,  901.800,    4.096,   34.344,2,   34.345,2,   32.640,1,   35.330,2,  110.040,2,   42.250,2,    0.000,2,    3.070,2,    0.078,2,    0.042,2, -999.000,9, 2341.400,2, 2355.400,2
           NA,    P03E,    134,   1,-999.0,     -99,  2,20051120,1327,  25.5153, -163.4787,  4998, 1001.200,    3.973,   34.438,2,   34.437,6,   39.160,1,   42.060,2,  112.350,2,   42.080,2,    0.000,2,    3.067,2,    0.024,2,    0.012,2, -999.000,9, 2344.100,2, 2368.000,2
           NA,    P03E,    134,   1,-999.0,     -99,  2,20051120,1327,  25.5153, -163.4787,  4998, 1200.800,    3.432,   34.501,2,   34.501,2,   48.350,1,   52.700,2,  124.340,2,   41.810,2,    0.000,2,    3.034,2,    0.010,2,    0.004,2, -999.000,9, 2351.600,2, 2382.800,2
           NA,    P03E,    134,   1,-999.0,     -99,  2,20051120,1327,  25.5153, -163.4787,  4998, 1400.200,    2.892,   34.534,2,   34.534,2,   54.810,1,   59.820,2,  137.760,2,   41.670,2,    0.000,2,    3.003,2,    0.007,2,    0.003,2, -999.000,9, 2360.400,2, 2397.700,2
           NA,    P03E,    134,   1,-999.0,     -99,  2,20051120,1327,  25.5153, -163.4787,  4998, 1599.900,    2.488,   34.576,2,   34.576,2,   66.730,1,   73.070,2,  146.340,2,   41.150,2,    0.000,2,    2.947,2,    0.003,2,    0.000,2, -999.000,9, 2362.100,2, 2404.000,2
           NA,    P03E,    134,   1,-999.0,     -99,  2,20051120,1327,  25.5153, -163.4787,  4998, 1800.400,    2.277,   34.601,2,   34.601,2,   75.420,1,   82.830,2,  150.060,2,   40.620,2,    0.000,2,    2.908,2,    0.004,2,    0.000,2, -999.000,9, 2360.700,2, 2410.500,2
           NA,    P03E,    134,   1,-999.0,     -99,  2,20051120,1327,  25.5153, -163.4787,  4998, 2000.500,    2.011,   34.616,2,   34.616,2,   81.320,1,   89.410,2,  156.500,2,   40.290,2,    0.000,2,    2.863,2,    0.000,2,    0.000,2, -999.000,9, 2361.600,2, 2419.100,2
           NA,    P03E,    134,   1,-999.0,     -99,  2,20051120,1327,  25.5153, -163.4787,  4998, 2200.800,    1.869,   34.633,2,   34.632,6,   89.470,1,   98.380,2,  158.960,2,   39.590,2,    0.000,2,    2.815,2, -999.000,9, -999.000,9, -999.000,9, 2360.300,2, 2417.900,2
           NA,    P03E,    134,   1,-999.0,     -99,  2,20051120,1327,  25.5153, -163.4787,  4998, 2400.700,    1.753,   34.644,2,   34.643,2,   96.350,1,  106.000,2,  160.580,2,   39.180,2,    0.000,2,    2.774,2,    0.001,2,    0.000,2, -999.000,9, 2357.200,6, 2418.600,2
           NA,    P03E,    134,   1,-999.0,     -99,  2,20051120,1327,  25.5153, -163.4787,  4998, 2601.000,    1.668,   34.653,2,   34.652,2,  102.760,1,  113.170,2,  160.900,2,   38.710,2,    0.000,2,    2.740,2, -999.000,9, -999.000,9, -999.000,9, 2354.300,2, 2425.900,6
           NA,    P03E,    134,   1,-999.0,     -99,  2,20051120,1327,  25.5153, -163.4787,  4998, 2799.700,    1.589,   34.661,2,   34.660,2,  109.650,1,  120.730,2,  160.300,2,   38.240,2,    0.000,2,    2.701,2, -999.000,9, -999.000,9, -999.000,9, 2351.300,2, 2427.000,2
           NA,    P03E,    134,   1,-999.0,     -99,  2,20051120,1327,  25.5153, -163.4787,  4998, 3000.600,    1.535,   34.668,2,   34.667,2,  116.020,1,  127.720,2,  159.250,2,   37.800,2,    0.000,2,    2.662,2,    0.000,2,    0.001,2, -999.000,9, 2346.000,2, 2424.400,2
           NA,    P03E,    134,   1,-999.0,     -99,  2,20051120,1327,  25.5153, -163.4787,  4998, 3250.800,    1.493,   34.674,2,   34.674,2,  122.960,1,  135.180,2,  157.540,2,   37.240,2,    0.000,2,    2.622,2, -999.000,9, -999.000,9, -999.000,9, 2340.800,2, 2427.300,2
           NA,    P03E,    134,   1,-999.0,     -99,  2,20051120,1327,  25.5153, -163.4787,  4998, 3501.200,    1.464,   34.680,2,   34.679,2,  128.820,1,  141.580,2,  155.870,2,   36.760,2,    0.000,2,    2.585,2, -999.000,9, -999.000,9, -999.000,9, 2337.800,2, 2422.800,2
           NA,    P03E,    134,   1,-999.0,     -99,  2,20051120,1327,  25.5153, -163.4787,  4998, 3750.200,    1.455,   34.683,2,   34.682,6,  132.920,1,  145.740,2,  154.870,2,   36.530,2,    0.000,2,    2.567,2,    0.000,2,    0.000,2, -999.000,9, 2333.600,2, 2419.400,2
           NA,    P03E,    134,   1,-999.0,     -99,  2,20051120,1327,  25.5153, -163.4787,  4998, 4001.600,    1.455,   34.686,2,   34.685,2,  136.190,1,  148.910,2,  154.240,2,   36.310,2,    0.000,2,    2.557,2, -999.000,9, -999.000,9, -999.000,9, 2330.600,2, -999.000,3
           NA,    P03E,    134,   1,-999.0,     -99,  2,20051120,1327,  25.5153, -163.4787,  4998, 4251.200,    1.463,   34.688,2,   34.687,2,  139.220,1,  151.850,2,  152.970,2,   36.100,2,    0.000,2,    2.533,2, -999.000,9, -999.000,9, -999.000,9, 2329.100,6, 2423.500,2
           NA,    P03E,    134,   1,-999.0,     -99,  2,20051120,1327,  25.5153, -163.4787,  4998, 4500.900,    1.477,   34.689,2,   34.688,2,  141.820,1,  154.190,2,  151.760,2,   35.930,2,    0.000,2,    2.523,2,    0.000,2,    0.000,2, -999.000,9, 2328.100,2, 2425.000,6
           NA,    P03E,    134,   1,-999.0,     -99,  2,20051120,1327,  25.5153, -163.4787,  4998, 4750.200,    1.496,   34.690,2,   34.689,2,  144.410,1,  156.060,2,  150.060,2,   35.740,2,    0.000,2,    2.514,2, -999.000,9, -999.000,9, -999.000,9, 2325.700,2, 2423.500,2
           NA,    P03E,    134,   1,-999.0,     -99,  2,20051120,1327,  25.5153, -163.4787,  4998, 5000.000,    1.513,   34.691,2,   34.691,6,  147.620,1,  158.550,2,  148.060,2,   35.550,2,    0.000,2,    2.501,2, -999.000,9, -999.000,9, -999.000,9, 2322.900,2, 2422.000,2
           NA,    P03E,    134,   1,-999.0,     -99,  2,20051120,1327,  25.5153, -163.4787,  4998, 5070.800,    1.522,   34.692,2,   34.691,6,  148.150,1,  158.700,2,  147.900,2,   35.620,2,    0.000,2,    2.498,2,    0.000,2,    0.002,2, -999.000,9, 2321.900,2, 2419.800,2
           NA,    P03E,    132,   1,-999.0,     -99,  2,20051120,0626,  25.2738, -162.7240,  5005,   10.500,   25.521,   35.321,2,   35.325,2,  190.270,1,  207.820,2,    1.130,2,    0.050,2,    0.010,2,    0.032,2,    1.641,2,    1.035,2, -999.000,9, -999.000,9, -999.000,9
           NA,    P03E,    132,   1,-999.0,     -99,  2,20051120,0626,  25.2738, -162.7240,  5005,   50.300,   23.176,   35.179,2,   35.173,2,  207.500,1,  227.030,2,    1.710,2,    0.040,2,    0.010,2,    0.044,2,    1.962,2,    1.251,2, -999.000,9, -999.000,9, -999.000,9
           NA,    P03E,    132,   1,-999.0,     -99,  2,20051120,0626,  25.2738, -162.7240,  5005,  100.000,   17.780,   34.830,2,   34.826,2,  212.450,1,  229.190,2,    3.030,2,    0.380,2,    0.190,2,    0.139,2,    2.391,2,    1.416,2, -999.000,9, -999.000,9, -999.000,9
           NA,    P03E,    132,   1,-999.0,     -99,  2,20051120,0626,  25.2738, -162.7240,  5005,  150.100,   15.819,   34.622,2,   34.625,2,  188.780,1,  205.750,2,    5.380,2,    5.570,2,    0.020,2,    0.446,2,    2.563,2,    1.459,2, -999.000,9, -999.000,9, -999.000,9
           NA,    P03E,    132,   1,-999.0,     -99,  2,20051120,0626,  25.2738, -162.7240,  5005,  200.100,   14.695,   34.544,2,   34.535,2,  199.550,1,  215.800,2,    6.630,2,    6.580,2,    0.010,2,    0.500,2,    2.668,2,    1.491,2, -999.000,9, -999.000,9, -999.000,9
           NA,    P03E,    132,   1,-999.0,     -99,  2,20051120,0626,  25.2738, -162.7240,  5005,  250.600,   13.279,   34.403,2,   34.403,2,  190.070,1,  205.940,2,   10.190,2,    9.940,2,    0.010,2,    0.736,2,    2.746,6,    1.472,6, -999.000,9, -999.000,9, -999.000,9
           NA,    P03E,    132,   1,-999.0,     -99,  2,20051120,0626,  25.2738, -162.7240,  5005,  301.300,   12.344,   34.356,2,   34.354,2,  195.060,1,  211.270,2,   12.710,2,   11.450,2,    0.010,2,    0.829,2,    2.821,2,    1.489,2, -999.000,9, -999.000,9, -999.000,9
           NA,    P03E,    132,   1,-999.0,     -99,  2,20051120,0626,  25.2738, -162.7240,  5005,  400.900,    9.960,   34.176,2,   34.176,2,  174.600,1,  188.850,2,   23.360,2,   17.880,2,    0.010,2,    1.286,2,    2.762,2,    1.367,2, -999.000,9, -999.000,9, -999.000,9
           NA,    P03E,    132,   1,-999.0,     -99,  2,20051120,0626,  25.2738, -162.7240,  5005,  499.600,    7.680,   34.080,2,   34.079,6,  132.550,1,  142.200,2,   43.300,2,   26.650,2,    0.010,2,    1.924,2,    2.076,2,    0.991,2, -999.000,9, -999.000,9, -999.000,9
           NA,    P03E,    132,   1,-999.0,     -99,  2,20051120,0626,  25.2738, -162.7240,  5005,  600.200,    6.186,   34.070,2,   34.071,2,   91.860,1,   99.190,2,   62.770,2,   33.250,2,    0.010,2,    2.411,2,    1.310,2,    0.604,2, -999.000,9, -999.000,9, -999.000,9
           NA,    P03E,    132,   1,-999.0,     -99,  2,20051120,0626,  25.2738, -162.7240,  5005,  699.800,    5.108,   34.144,2,   34.145,2,   52.740,1,   56.610,2,   84.120,2,   38.820,2,    0.010,2,    2.826,2,    0.539,2,    0.251,2, -999.000,9, -999.000,9, -999.000,9
           NA,    P03E,    132,   1,-999.0,     -99,  2,20051120,0626,  25.2738, -162.7240,  5005,  800.400,    4.438,   34.268,2,   34.267,2,   33.760,1,   36.730,2,  101.340,2,   41.640,2,    0.010,2,    3.032,2,    0.171,6,    0.081,6, -999.000,9, -999.000,9, -999.000,9
           NA,    P03E,    132,   1,-999.0,     -99,  2,20051120,0626,  25.2738, -162.7240,  5005,  899.400,    4.083,   34.351,2,   34.351,2,   32.410,1,   35.040,2,  110.380,2,   42.210,2,    0.010,2,    3.073,2,    0.070,2,    0.030,2, -999.000,9, -999.000,9, -999.000,9
           NA,    P03E,    132,   1,-999.0,     -99,  2,20051120,0626,  25.2738, -162.7240,  5005, 1000.600,    3.777,   34.416,2,   34.416,6,   36.260,1,   39.340,2,  117.380,2,   42.460,2,    0.010,2,    3.072,2,    0.031,2,    0.013,2, -999.000,9, -999.000,9, -999.000,9
           NA,    P03E,    132,   1,-999.0,     -99,  2,20051120,0626,  25.2738, -162.7240,  5005, 1199.800,    3.365,   34.502,2,   34.502,2,   48.720,1,   52.930,2,  126.090,2,   41.950,2,    0.010,2,    3.030,2,    0.008,2,    0.003,2, -999.000,9, -999.000,9, -999.000,9
           NA,    P03E,    132,   1,-999.0,     -99,  2,20051120,0626,  25.2738, -162.7240,  5005, 1400.500,    2.978,   34.535,2,   34.536,2,   55.280,1,   60.340,2,  135.250,2,   41.780,2,    0.010,2,    3.005,2,    0.001,2,    0.000,2, -999.000,9, -999.000,9, -999.000,9
           NA,    P03E,    132,   1,-999.0,     -99,  2,20051120,0626,  25.2738, -162.7240,  5005, 1601.300,    2.606,   34.570,2,   34.569,2,   64.560,1,   70.550,2,  143.350,2,   41.210,2,    0.010,2,    2.957,2,    0.001,2,    0.000,2, -999.000,9, -999.000,9, -999.000,9
           NA,    P03E,    132,   1,-999.0,     -99,  2,20051120,0626,  25.2738, -162.7240,  5005, 1799.600,    2.286,   34.595,2,   34.595,2,   72.620,1,   79.650,2,  151.070,2,   40.850,2,    0.010,2,    2.914,2,    0.000,2,    0.001,2, -999.000,9, -999.000,9, -999.000,9
           NA,    P03E,    132,   1,-999.0,     -99,  2,20051120,0626,  25.2738, -162.7240,  5005, 2002.000,    2.031,   34.615,2,   34.615,6,   80.290,1,   87.950,2,  157.250,2,   40.370,2,    0.010,2,    2.868,2,    0.000,2,    0.002,2, -999.000,9, -999.000,9, -999.000,9
           NA,    P03E,    132,   1,-999.0,     -99,  2,20051120,0626,  25.2738, -162.7240,  5005, 2199.700,    1.882,   34.629,2,   34.629,2,   86.840,1,   95.280,2,  160.220,2,   39.980,2,    0.010,2,    2.830,2, -999.000,9, -999.000,9, -999.000,9, -999.000,9, -999.000,9
           NA,    P03E,    132,   1,-999.0,     -99,  2,20051120,0626,  25.2738, -162.7240,  5005, 2400.200,    1.758,   34.641,2,   34.642,2,   94.660,1,  104.050,2,  161.660,2,   39.440,2,    0.010,2,    2.785,2, -999.000,9, -999.000,9, -999.000,9, -999.000,9, -999.000,9
           NA,    P03E,    132,   1,-999.0,     -99,  2,20051120,0626,  25.2738, -162.7240,  5005, 2602.100,    1.668,   34.652,2,   34.652,2,  102.250,1,  112.340,2,  161.600,2,   38.840,2,    0.010,2,    2.742,2, -999.000,9, -999.000,9, -999.000,9, -999.000,9, -999.000,9
           NA,    P03E,    132,   1,-999.0,     -99,  2,20051120,0626,  25.2738, -162.7240,  5005, 2803.300,    1.603,   34.660,2,   34.660,2,  108.800,1,  119.530,2,  160.950,2,   38.410,2,    0.010,2,    2.704,2,    0.000,2,    0.000,2, -999.000,9, -999.000,9, -999.000,9
           NA,    P03E,    132,   1,-999.0,     -99,  2,20051120,0626,  25.2738, -162.7240,  5005, 3002.300,    1.549,   34.667,2,   34.667,6,  115.150,1,  126.480,2,  160.190,2,   37.880,2,    0.010,2,    2.669,2, -999.000,9, -999.000,9, -999.000,9, -999.000,9, -999.000,9
           NA,    P03E,    132,   1,-999.0,     -99,  2,20051120,0626,  25.2738, -162.7240,  5005, 3252.100,    1.512,   34.673,2,   34.673,2,  121.080,1,  133.000,2,  158.640,2,   37.480,2,    0.010,2,    2.626,2, -999.000,9, -999.000,9, -999.000,9, -999.000,9, -999.000,9
           NA,    P03E,    132,   1,-999.0,     -99,  2,20051120,0626,  25.2738, -162.7240,  5005, 3501.200,    1.483,   34.678,2,   34.678,2,  126.850,1,  139.110,2,  157.140,2,   37.080,2,    0.010,2,    2.600,2,    0.017,2,    0.000,2, -999.000,9, -999.000,9, -999.000,9
           NA,    P03E,    132,   1,-999.0,     -99,  2,20051120,0626,  25.2738, -162.7240,  5005, 3751.400,    1.471,   34.681,2,   34.682,2,  131.470,1,  143.780,2,  155.650,2,   36.750,2,    0.010,2,    2.577,2, -999.000,9, -999.000,9, -999.000,9, -999.000,9, -999.000,9
           NA,    P03E,    132,   1,-999.0,     -99,  2,20051120,0626,  25.2738, -162.7240,  5005, 4000.400,    1.466,   34.685,2,   34.685,6,  135.500,1,  147.890,2,  154.340,2,   36.480,2,    0.010,2,    2.547,2, -999.000,9, -999.000,9, -999.000,9, -999.000,9, -999.000,9
           NA,    P03E,    132,   1,-999.0,     -99,  2,20051120,0626,  25.2738, -162.7240,  5005, 4251.600,    1.471,   34.687,2,   34.687,2,  138.740,1,  150.970,2,  153.160,2,   36.260,2,    0.010,2,    2.539,2,    0.013,2,    0.001,2, -999.000,9, -999.000,9, -999.000,9
           NA,    P03E,    132,   1,-999.0,     -99,  2,20051120,0626,  25.2738, -162.7240,  5005, 4501.300,    1.483,   34.689,2,   34.689,2,  141.480,1,  153.480,2,  151.930,2,   36.060,2,    0.010,2,    2.524,2, -999.000,9, -999.000,9, -999.000,9, -999.000,9, -999.000,9
           NA,    P03E,    132,   1,-999.0,     -99,  2,20051120,0626,  25.2738, -162.7240,  5005, 4749.200,    1.501,   34.690,2,   34.690,2,  143.990,1,  155.390,2,  150.540,2,   35.930,2,    0.010,2,    2.518,2, -999.000,9, -999.000,9, -999.000,9, -999.000,9, -999.000,9
           NA,    P03E,    132,   1,-999.0,     -99,  2,20051120,0626,  25.2738, -162.7240,  5005, 5000.400,    1.522,   34.690,2,   34.690,2,  146.640,1,  157.290,2,  149.580,2,   35.640,2,    0.010,2,    2.507,2, -999.000,9, -999.000,9, -999.000,9, -999.000,9, -999.000,9
           NA,    P03E,    132,   1,-999.0,     -99,  2,20051120,0626,  25.2738, -162.7240,  5005, 5078.100,    1.527,   34.691,2,   34.691,6,  147.950,1,  157.920,2,  148.830,2,   35.800,2,    0.000,2,    2.499,2,    0.012,2,    0.006,2, -999.000,9, -999.000,9, -999.000,9