BOTTLE,20211903JOAExport
EXPOCODE,SECT_ID,STNNBR,CASTNO,SAMPNO,BTLNBR,BTLNBR_FLAG_W,DATE,TIME,LATITUDE,LONGITUDE,DEPTH,CTDPRS,CTDTMP,CTDSAL,CTDSAL_FLAG_W,SALNTY,SALNTY_FLAG_W,CTDOXY,CTDOXY_FLAG_W,OXYGEN,OXYGEN_FLAG_W,SILCAT,SILCAT_FLAG_W,NITRAT,NITRAT_FLAG_W,NITRIT,NITRIT_FLAG_W,PHSPHT,PHSPHT_FLAG_W,CFC-11,CFC-11_FLAG_W,CFC-12,CFC-12_FLAG_W,SF6,SF6_FLAG_W,TCARBN,TCARBN_FLAG_W,ALKALI,ALKALI_FLAG_W
,,,,,,,,,,,,DB,ITS-90,PSS-78,,PSS-78,,UMOL/KG,,UMOL/KG,,UMOL/KG,,UMOL/KG,,UMOL/KG,,UMOL/KG,,PMOL/KG,,PMOL/KG,,FMOL/KG,,UMOL/KG,,UMOL/KG
           NA,    P03C,    189,   1,-999.0,     -99,  2,20051206,0059,  24.2375, -176.7602,  5347,   10.200,   26.032,   35.288,2,   35.290,2,  184.310,1,  205.680,2,    1.080,2,    0.040,2,    0.000,2,    0.033,2,    1.639,2,    0.970,2, -999.000,9, 1974.500,2, 2318.900,2
           NA,    P03C,    189,   1,-999.0,     -99,  2,20051206,0059,  24.2375, -176.7602,  5347,   50.500,   25.625,   35.306,2,   35.310,2,  189.940,1,  211.840,2,    1.160,2,    0.030,2,    0.000,2,    0.030,2,    1.723,2,    1.039,2, -999.000,9, 1979.700,6, 2320.600,2
           NA,    P03C,    189,   1,-999.0,     -99,  2,20051206,0059,  24.2375, -176.7602,  5347,  100.200,   22.011,   35.194,2,   35.187,2,  182.010,1,  203.930,2,    1.550,2,    0.110,2,    0.100,2,    0.097,2,    2.021,2,    1.171,2, -999.000,9, 2018.600,2, 2311.800,6
           NA,    P03C,    189,   1,-999.0,     -99,  2,20051206,0059,  24.2375, -176.7602,  5347,  151.400,   19.323,   35.006,2,   34.996,2,  176.600,1,  196.630,2,    2.850,2,    2.480,2,    0.030,2,    0.250,2,    2.239,2,    1.258,2, -999.000,9, 2041.800,2, 2298.800,2
           NA,    P03C,    189,   1,-999.0,     -99,  2,20051206,0059,  24.2375, -176.7602,  5347,  200.000,   17.027,   34.771,2,   34.765,2,  191.910,1,  214.120,2,    4.200,2,    4.090,2,    0.010,2,    0.319,2,    2.397,2,    1.329,2, -999.000,9, 2031.100,2, 2285.300,2
           NA,    P03C,    189,   1,-999.0,     -99,  2,20051206,0059,  24.2375, -176.7602,  5347,  250.100,   15.806,   34.667,2,   34.661,2,  190.840,1,  212.680,2,    6.190,2,    6.080,2,    0.010,2,    0.448,2,    2.507,6,    1.365,6, -999.000,9, 2042.000,2, 2282.700,2
           NA,    P03C,    189,   1,-999.0,     -99,  2,20051206,0059,  24.2375, -176.7602,  5347,  301.600,   14.332,   34.520,2,   34.520,2,  183.420,1,  204.950,2,    9.220,2,    8.850,2,    0.000,2,    0.647,2,    2.640,2,    1.416,2, -999.000,9, 2061.200,2, 2277.700,2
           NA,    P03C,    189,   1,-999.0,     -99,  2,20051206,0059,  24.2375, -176.7602,  5347,  402.400,   11.465,   34.279,2,   34.256,2,  176.890,1,  196.330,2,   16.770,2,   14.500,2,    0.000,2,    1.056,2,    2.859,2,    1.454,2, -999.000,9, 2100.500,2, 2268.200,2
           NA,    P03C,    189,   1,-999.0,     -99,  2,20051206,0059,  24.2375, -176.7602,  5347,  501.700,    9.302,   34.145,2,   34.139,6,  155.900,1,  170.880,2,   29.300,2,   21.040,2,    0.000,2,    1.526,2,    2.566,2,    1.255,2, -999.000,9, 2144.000,2, 2269.300,2
           NA,    P03C,    189,   1,-999.0,     -99,  2,20051206,0059,  24.2375, -176.7602,  5347,  599.200,    7.200,   34.079,2,   34.078,2,  110.310,1,  122.470,2,   50.340,2,   29.500,2,    0.000,2,    2.137,2,    1.723,2,    0.804,2, -999.000,9, 2208.700,2, 2284.900,2
           NA,    P03C,    189,   1,-999.0,     -99,  2,20051206,0059,  24.2375, -176.7602,  5347,  700.800,    5.482,   34.115,2,   34.118,2,   66.450,1,   72.950,2,   76.890,2,   36.760,2,    0.000,2,    2.676,2,    0.783,2,    0.361,2, -999.000,9, 2273.700,6, 2307.700,2
           NA,    P03C,    189,   1,-999.0,     -99,  2,20051206,0059,  24.2375, -176.7602,  5347,  799.900,    4.806,   34.223,2,   34.225,2,   41.090,1,   46.400,2,   93.250,2,   40.190,2,    0.000,2,    2.933,2,    0.061,2,    0.029,2, -999.000,9, 2310.400,2, 2330.300,6
           NA,    P03C,    189,   1,-999.0,     -99,  2,20051206,0059,  24.2375, -176.7602,  5347,  900.400,    4.217,   34.332,2,   34.331,2,   33.090,1,   38.110,2,  107.560,2,   41.890,2,    0.000,2,    3.043,2,    0.079,2,    0.036,2, -999.000,9, 2334.600,2, 2351.300,2
           NA,    P03C,    189,   1,-999.0,     -99,  2,20051206,0059,  24.2375, -176.7602,  5347, 1001.800,    3.890,   34.395,2,   34.395,6,   34.720,1,   40.070,2,  115.150,2,   42.220,2,    0.000,2,    3.063,2,    0.025,2,    0.018,2, -999.000,9, 2342.500,2, 2363.200,2
           NA,    P03C,    189,   1,-999.0,     -99,  2,20051206,0059,  24.2375, -176.7602,  5347, 1202.200,    3.405,   34.509,2,   34.510,2,   52.160,1,   59.240,2,  124.180,2,   41.430,2,    0.000,2,    2.986,2,    0.000,2,    0.000,2, -999.000,9, 2343.800,2, 2381.100,2
           NA,    P03C,    189,   1,-999.0,     -99,  2,20051206,0059,  24.2375, -176.7602,  5347, 1401.800,    2.992,   34.550,2,   34.549,2,   61.320,1,   69.390,2,  132.640,2,   41.000,2,    0.000,2,    2.949,2,    0.000,2,    0.000,2, -999.000,9, 2347.500,2, 2399.000,2
           NA,    P03C,    189,   1,-999.0,     -99,  2,20051206,0059,  24.2375, -176.7602,  5347, 1601.500,    2.528,   34.575,2,   34.575,2,   67.960,1,   77.150,2,  143.310,2,   40.690,2,    0.000,2,    2.918,2,    0.000,2,    0.000,2, -999.000,9, 2354.700,2, 2403.800,2
           NA,    P03C,    189,   1,-999.0,     -99,  2,20051206,0059,  24.2375, -176.7602,  5347, 1801.300,    2.240,   34.597,2,   34.597,2,   74.610,1,   84.940,2,  149.790,2,   40.450,2,    0.000,2,    2.882,2,    0.000,2,    0.000,2, -999.000,9, 2355.500,2, 2405.700,2
           NA,    P03C,    189,   1,-999.0,     -99,  2,20051206,0059,  24.2375, -176.7602,  5347, 1999.900,    1.998,   34.618,2,   34.618,6,   82.240,1,   93.950,2,  154.630,2,   39.970,2,    0.000,2,    2.841,2,    0.000,2,    0.000,2, -999.000,9, 2355.800,2, -999.000,3
           NA,    P03C,    189,   1,-999.0,     -99,  2,20051206,0059,  24.2375, -176.7602,  5347, 2201.400,    1.868,   34.631,2,   34.631,2,   88.930,1,  101.610,2,  156.310,2,   39.490,2,    0.000,2,    2.799,2,    0.000,2,    0.000,2, -999.000,9, 2353.200,2, 2415.400,2
           NA,    P03C,    189,   1,-999.0,     -99,  2,20051206,0059,  24.2375, -176.7602,  5347, 2399.600,    1.756,   34.643,2,   34.644,2,   96.090,1,  110.100,2,  157.050,2,   38.910,2,    0.000,2,    2.752,2,    0.000,2,    0.000,2, -999.000,9, 2349.100,6, -999.000,3
           NA,    P03C,    189,   1,-999.0,     -99,  2,20051206,0059,  24.2375, -176.7602,  5347, 2598.900,    1.670,   34.652,2,   34.652,2,  102.080,1,  116.830,2,  157.380,2,   38.500,2,    0.000,2,    2.718,2,    0.000,2,    0.002,2, -999.000,9, 2345.800,2, 2419.900,6
           NA,    P03C,    189,   1,-999.0,     -99,  2,20051206,0059,  24.2375, -176.7602,  5347, 2800.300,    1.608,   34.660,2,   34.661,2,  107.780,1,  123.740,2,  156.940,2,   38.130,2,    0.000,2,    2.681,2, -999.000,9, -999.000,9, -999.000,9, 2341.300,2, 2421.500,2
           NA,    P03C,    189,   1,-999.0,     -99,  2,20051206,0059,  24.2375, -176.7602,  5347, 3000.000,    1.559,   34.667,2,   34.667,6,  112.890,1,  129.720,2,  156.190,2,   37.700,2,    0.000,2,    2.654,2, -999.000,9, -999.000,9, -999.000,9, 2338.900,2, 2421.400,2
           NA,    P03C,    189,   1,-999.0,     -99,  2,20051206,0059,  24.2375, -176.7602,  5347, 3250.700,    1.512,   34.673,2,   34.673,2,  118.980,1,  136.830,2,  154.570,2,   37.230,2,    0.000,2,    2.607,2,    0.000,2,    0.000,2, -999.000,9, 2332.400,2, 2419.500,2
           NA,    P03C,    189,   1,-999.0,     -99,  2,20051206,0059,  24.2375, -176.7602,  5347, 3500.200,    1.480,   34.679,2,   34.679,2,  124.320,1,  142.770,2,  152.800,2,   36.820,2,    0.000,2,    2.577,2, -999.000,9, -999.000,9, -999.000,9, 2330.100,2, 2420.600,2
           NA,    P03C,    189,   1,-999.0,     -99,  2,20051206,0059,  24.2375, -176.7602,  5347, 3749.800,    1.459,   34.683,2,   34.683,2,  129.170,1,  147.980,2,  151.310,2,   36.450,2,    0.000,2,    2.553,2, -999.000,9, -999.000,9, -999.000,9, 2325.900,2, 2422.400,2
           NA,    P03C,    189,   1,-999.0,     -99,  2,20051206,0059,  24.2375, -176.7602,  5347, 3999.600,    1.448,   34.686,2,   34.686,6,  133.400,1,  152.320,2,  149.780,2,   36.130,2,    0.000,2,    2.530,2,    0.000,2,    0.001,2, -999.000,9, 2322.800,2, 2416.700,2
           NA,    P03C,    189,   1,-999.0,     -99,  2,20051206,0059,  24.2375, -176.7602,  5347, 4251.200,    1.441,   34.689,2,   34.689,2,  137.920,1,  157.230,2,  147.280,2,   35.850,2,    0.000,2,    2.503,2, -999.000,9, -999.000,9, -999.000,9, 2317.700,6, 2418.200,2
           NA,    P03C,    189,   1,-999.0,     -99,  2,20051206,0059,  24.2375, -176.7602,  5347, 4502.000,    1.442,   34.692,2,   34.692,2,  142.370,1,  161.630,2,  144.150,2,   35.530,2,    0.000,2,    2.477,2, -999.000,9, -999.000,9, -999.000,9, 2311.900,2, 2415.300,6
           NA,    P03C,    189,   1,-999.0,     -99,  2,20051206,0059,  24.2375, -176.7602,  5347, 4749.600,    1.444,   34.694,2,   34.694,2,  146.900,1,  166.200,2,  140.880,2,   35.170,2,    0.000,2,    2.454,2,    0.000,2,    0.000,2, -999.000,9, 2307.600,2, 2410.500,2
           NA,    P03C,    189,   1,-999.0,     -99,  2,20051206,0059,  24.2375, -176.7602,  5347, 5000.200,    1.449,   34.696,2,   34.696,2,  151.190,1,  170.390,2,  138.090,2,   34.850,2,    0.000,2,    2.434,2, -999.000,9, -999.000,9, -999.000,9, 2304.400,2, 2407.700,2
           NA,    P03C,    189,   1,-999.0,     -99,  2,20051206,0059,  24.2375, -176.7602,  5347, 5000.700,    1.449,   34.696,2,   34.696,2,  151.170,1,  170.150,2,  138.390,2,   34.750,2,    0.000,2,    2.426,2, -999.000,9, -999.000,9, -999.000,9, 2303.800,2, 2408.000,2
           NA,    P03C,    189,   1,-999.0,     -99,  2,20051206,0059,  24.2375, -176.7602,  5347, 5249.300,    1.465,   34.697,2,   34.698,2,  154.560,1,  172.940,2,  136.220,2,   34.660,2,    0.000,2,    2.418,2, -999.000,9, -999.000,9, -999.000,9, 2300.500,2, 2402.700,2
           NA,    P03C,    189,   1,-999.0,     -99,  2,20051206,0059,  24.2375, -176.7602,  5347, 5431.300,    1.481,   34.698,2,   34.698,6,  157.380,1,  174.220,2,  135.290,2,   34.560,2,    0.000,2,    2.412,2,    0.000,2,    0.000,2, -999.000,9, 2298.400,2, 2402.400,2
           NA,    P03C,    187,   1,-999.0,     -99,  2,20051205,1731,  24.2348, -176.0215,  5281,    9.500,   26.227,   35.236,2,   35.238,2,  183.120,1,  204.170,2,    0.880,2,    0.030,2,    0.000,2,    0.038,2,    1.621,2,    0.941,2, -999.000,9, -999.000,9, -999.000,9
           NA,    P03C,    187,   1,-999.0,     -99,  2,20051205,1731,  24.2348, -176.0215,  5281,   50.200,   25.806,   35.295,2,   35.284,2,  187.050,1,  210.440,2,    1.020,2,    0.020,2,    0.000,2,    0.038,2,    1.721,2,    0.986,2, -999.000,9, -999.000,9, -999.000,9
           NA,    P03C,    187,   1,-999.0,     -99,  2,20051205,1731,  24.2348, -176.0215,  5281,   99.500,   22.084,   35.219,2,   35.217,2,  188.030,1,  209.210,2,    1.450,2,    0.030,2,    0.050,2,    0.074,2,    2.010,2,    1.148,2, -999.000,9, -999.000,9, -999.000,9
           NA,    P03C,    187,   1,-999.0,     -99,  2,20051205,1731,  24.2348, -176.0215,  5281,  149.900,   19.864,   35.076,2,   35.074,2,  178.700,1,  199.330,2,    2.220,2,    1.720,2,    0.020,2,    0.196,2,    2.179,2,    1.232,2, -999.000,9, -999.000,9, -999.000,9
           NA,    P03C,    187,   1,-999.0,     -99,  2,20051205,1731,  24.2348, -176.0215,  5281,  198.300,   18.460,   34.974,2,   34.972,2,  185.400,1,  207.010,2,    2.780,2,    2.380,2,    0.020,2,    0.230,2,    2.292,2,    1.296,2, -999.000,9, -999.000,9, -999.000,9
           NA,    P03C,    187,   1,-999.0,     -99,  2,20051205,1731,  24.2348, -176.0215,  5281,  249.600,   16.743,   34.751,2,   34.749,2,  191.800,1,  213.760,2,    4.310,2,    4.550,2,    0.010,2,    0.346,2,    2.410,6,    1.351,6, -999.000,9, -999.000,9, -999.000,9
           NA,    P03C,    187,   1,-999.0,     -99,  2,20051205,1731,  24.2348, -176.0215,  5281,  300.400,   15.069,   34.573,2,   34.565,2,  184.050,1,  205.590,2,    6.970,2,    7.340,2,    0.010,2,    0.548,2,    2.607,2,    1.425,2, -999.000,9, -999.000,9, -999.000,9
           NA,    P03C,    187,   1,-999.0,     -99,  2,20051205,1731,  24.2348, -176.0215,  5281,  399.700,   11.835,   34.285,2,   34.283,2,  181.310,1,  202.360,2,   14.490,2,   13.080,2,    0.010,2,    0.950,2,    2.852,2,    1.498,2, -999.000,9, -999.000,9, -999.000,9
           NA,    P03C,    187,   1,-999.0,     -99,  2,20051205,1731,  24.2348, -176.0215,  5281,  501.000,    9.330,   34.146,2,   34.146,6,  155.560,1,  173.540,2,   28.140,2,   20.540,2,    0.010,2,    1.485,2,    2.578,2,    1.286,2, -999.000,9, -999.000,9, -999.000,9
           NA,    P03C,    187,   1,-999.0,     -99,  2,20051205,1731,  24.2348, -176.0215,  5281,  598.700,    7.021,   34.077,2,   34.080,2,  102.040,1,  111.150,2,   51.970,2,   30.750,2,    0.000,2,    2.236,2,    1.591,2,    0.748,2, -999.000,9, -999.000,9, -999.000,9
           NA,    P03C,    187,   1,-999.0,     -99,  2,20051205,1731,  24.2348, -176.0215,  5281,  699.700,    5.738,   34.117,2,   34.117,2,   66.750,1,   74.200,2,   72.240,2,   36.250,2,    0.000,2,    2.639,2,    0.827,2,    0.388,2, -999.000,9, -999.000,9, -999.000,9
           NA,    P03C,    187,   1,-999.0,     -99,  2,20051205,1731,  24.2348, -176.0215,  5281,  800.700,    4.871,   34.218,2,   34.220,2,   40.900,1,   46.130,2,   91.530,2,   40.190,2,    0.000,2,    2.926,2,    0.304,6,    0.147,6, -999.000,9, -999.000,9, -999.000,9
           NA,    P03C,    187,   1,-999.0,     -99,  2,20051205,1731,  24.2348, -176.0215,  5281,  901.800,    4.229,   34.306,2,   34.306,2,   32.700,1,   37.550,2,  106.940,2,   41.870,2,    0.000,2,    3.028,2,    0.125,2,    0.061,2, -999.000,9, -999.000,9, -999.000,9
           NA,    P03C,    187,   1,-999.0,     -99,  2,20051205,1731,  24.2348, -176.0215,  5281, 1000.300,    3.852,   34.387,2,   34.389,6,   33.690,1,   38.760,2,  116.490,2,   42.320,2,    0.000,2,    3.062,2,    0.045,2,    0.020,2, -999.000,9, -999.000,9, -999.000,9
           NA,    P03C,    187,   1,-999.0,     -99,  2,20051205,1731,  24.2348, -176.0215,  5281, 1200.400,    3.395,   34.498,2,   34.497,2,   49.050,1,   55.580,2,  124.960,2,   41.660,2,    0.000,2,    3.003,2,    0.005,2,    0.004,2, -999.000,9, -999.000,9, -999.000,9
           NA,    P03C,    187,   1,-999.0,     -99,  2,20051205,1731,  24.2348, -176.0215,  5281, 1402.100,    2.934,   34.533,2,   34.532,2,   55.800,1,   63.120,2,  135.640,2,   41.530,2,    0.000,2,    2.973,2,    0.003,2,    0.002,2, -999.000,9, -999.000,9, -999.000,9
           NA,    P03C,    187,   1,-999.0,     -99,  2,20051205,1731,  24.2348, -176.0215,  5281, 1599.800,    2.574,   34.571,2,   34.571,2,   66.580,1,   75.310,2,  142.430,2,   40.940,2,    0.000,2,    2.916,2,    0.000,2,    0.001,2, -999.000,9, -999.000,9, -999.000,9
           NA,    P03C,    187,   1,-999.0,     -99,  2,20051205,1731,  24.2348, -176.0215,  5281, 1799.400,    2.252,   34.598,2,   34.598,2,   75.240,1,   85.380,2,  149.210,2,   40.440,2,    0.000,2,    2.869,2,    0.000,2,    0.000,2, -999.000,9, -999.000,9, -999.000,9
           NA,    P03C,    187,   1,-999.0,     -99,  2,20051205,1731,  24.2348, -176.0215,  5281, 1999.800,    2.030,   34.615,2,   34.615,6,   81.640,1,   92.900,2,  153.960,2,   40.020,2,    0.000,2,    2.837,2,    0.000,2,    0.001,2, -999.000,9, -999.000,9, -999.000,9
           NA,    P03C,    187,   1,-999.0,     -99,  2,20051205,1731,  24.2348, -176.0215,  5281, 2199.400,    1.893,   34.629,2,   34.628,2,   88.010,1,  100.270,2,  155.830,2,   39.530,2,    0.000,2,    2.798,2,    0.000,2,    0.002,2, -999.000,9, -999.000,9, -999.000,9
           NA,    P03C,    187,   1,-999.0,     -99,  2,20051205,1731,  24.2348, -176.0215,  5281, 2399.200,    1.766,   34.642,2,   34.642,2,   95.540,1,  109.180,2,  156.980,2,   39.090,2,    0.000,2,    2.749,2,    0.000,2,    0.000,2, -999.000,9, -999.000,9, -999.000,9
           NA,    P03C,    187,   1,-999.0,     -99,  2,20051205,1731,  24.2348, -176.0215,  5281, 2599.400,    1.683,   34.651,2,   34.651,2,  101.570,1,  116.250,2,  157.280,2,   38.680,2,    0.000,2,    2.714,2, -999.000,9, -999.000,9, -999.000,9, -999.000,9, -999.000,9
           NA,    P03C,    187,   1,-999.0,     -99,  2,20051205,1731,  24.2348, -176.0215,  5281, 2800.000,    1.620,   34.659,2,   34.659,2,  107.120,1,  122.620,2,  156.850,2,   38.160,2,    0.000,2,    2.681,2, -999.000,9, -999.000,9, -999.000,9, -999.000,9, -999.000,9
           NA,    P03C,    187,   1,-999.0,     -99,  2,20051205,1731,  24.2348, -176.0215,  5281, 3000.700,    1.567,   34.665,2,   34.665,6,  112.300,1,  128.860,2,  156.090,2,   37.850,2,    0.000,2,    2.655,2,    0.000,2,    0.001,2, -999.000,9, -999.000,9, -999.000,9
           NA,    P03C,    187,   1,-999.0,     -99,  2,20051205,1731,  24.2348, -176.0215,  5281, 3248.800,    1.518,   34.672,2,   34.673,2,  118.330,1,  135.710,2,  154.690,2,   37.230,2,    0.000,2,    2.611,2, -999.000,9, -999.000,9, -999.000,9, -999.000,9, -999.000,9
           NA,    P03C,    187,   1,-999.0,     -99,  2,20051205,1731,  24.2348, -176.0215,  5281, 3499.400,    1.489,   34.678,2,   34.678,2,  124.010,1,  141.980,2,  152.900,2,   36.940,2,    0.000,2,    2.574,2, -999.000,9, -999.000,9, -999.000,9, -999.000,9, -999.000,9
           NA,    P03C,    187,   1,-999.0,     -99,  2,20051205,1731,  24.2348, -176.0215,  5281, 3750.600,    1.467,   34.682,2,   34.682,2,  128.770,1,  147.270,2,  151.510,2,   36.540,2,    0.000,2,    2.546,2,    0.004,2,    0.006,2, -999.000,9, -999.000,9, -999.000,9
           NA,    P03C,    187,   1,-999.0,     -99,  2,20051205,1731,  24.2348, -176.0215,  5281, 3999.600,    1.454,   34.686,2,   34.685,6,  132.900,1,  151.600,2,  150.310,2,   36.210,2,    0.000,2,    2.532,2, -999.000,9, -999.000,9, -999.000,9, -999.000,9, -999.000,9
           NA,    P03C,    187,   1,-999.0,     -99,  2,20051205,1731,  24.2348, -176.0215,  5281, 4251.100,    1.445,   34.689,2,   34.689,2,  137.340,1,  156.240,2,  148.410,2,   35.950,2,    0.000,2,    2.508,2, -999.000,9, -999.000,9, -999.000,9, -999.000,9, -999.000,9
           NA,    P03C,    187,   1,-999.0,     -99,  2,20051205,1731,  24.2348, -176.0215,  5281, 4499.800,    1.446,   34.691,2,   34.692,2,  141.840,1,  160.920,2,  145.100,2,   35.580,2,    0.000,2,    2.476,2,    0.010,2,    0.003,2, -999.000,9, -999.000,9, -999.000,9
           NA,    P03C,    187,   1,-999.0,     -99,  2,20051205,1731,  24.2348, -176.0215,  5281, 4749.400,    1.446,   34.694,2,   34.694,2,  146.610,1,  165.610,2,  141.730,2,   35.290,2,    0.000,2,    2.451,2, -999.000,9, -999.000,9, -999.000,9, -999.000,9, -999.000,9
           NA,    P03C,    187,   1,-999.0,     -99,  2,20051205,1731,  24.2348, -176.0215,  5281, 4999.000,    1.449,   34.696,2,   34.696,2,  151.590,1,  170.310,2,  138.050,2,   34.890,2,    0.000,2,    2.426,2,    0.005,2,    0.003,2, -999.000,9, -999.000,9, -999.000,9
           NA,    P03C,    187,   1,-999.0,     -99,  2,20051205,1731,  24.2348, -176.0215,  5281, 5365.500,    1.475,   34.698,2,   34.698,6,  157.390,1,  173.930,2,  135.310,2,   34.650,2,    0.000,2,    2.406,2,    0.000,2,    0.002,2, -999.000,9, -999.000,9, -999.000,9