BOTTLE,20211903JOAExport
EXPOCODE,SECT_ID,STNNBR,CASTNO,SAMPNO,BTLNBR,BTLNBR_FLAG_W,DATE,TIME,LATITUDE,LONGITUDE,DEPTH,CTDPRS,CTDTMP,CTDSAL,CTDSAL_FLAG_W,SALNTY,SALNTY_FLAG_W,CTDOXY,CTDOXY_FLAG_W,OXYGEN,OXYGEN_FLAG_W,SILCAT,SILCAT_FLAG_W,NITRAT,NITRAT_FLAG_W,NITRIT,NITRIT_FLAG_W,PHSPHT,PHSPHT_FLAG_W,CFC-11,CFC-11_FLAG_W,CFC-12,CFC-12_FLAG_W,SF6,SF6_FLAG_W,TCARBN,TCARBN_FLAG_W,ALKALI,ALKALI_FLAG_W
,,,,,,,,,,,,DB,ITS-90,PSS-78,,PSS-78,,UMOL/KG,,UMOL/KG,,UMOL/KG,,UMOL/KG,,UMOL/KG,,UMOL/KG,,PMOL/KG,,PMOL/KG,,FMOL/KG,,UMOL/KG,,UMOL/KG
           NA,    P03E,    114,   1,-999.0,     -99,  2,20051117,0539,  24.2822, -155.9577,  4514,    9.800,   25.167,   35.208,2,   35.212,2,  191.870,1,  208.490,2,    0.930,2,    0.020,2,    0.010,2,    0.059,2,    1.645,2,    1.010,2, -999.000,9, 1984.200,2, 2315.100,2
           NA,    P03E,    114,   1,-999.0,     -99,  2,20051117,0539,  24.2822, -155.9577,  4514,   49.900,   25.104,   35.316,2,   35.321,2,  192.300,1,  208.920,2,    0.870,2,    0.030,2,    0.010,2,    0.038,2,    1.657,2,    1.009,2, -999.000,9, 1989.500,6, 2323.300,2
           NA,    P03E,    114,   1,-999.0,     -99,  2,20051117,0539,  24.2822, -155.9577,  4514,  101.100,   21.589,   35.180,2,   35.180,2,  197.210,1,  213.390,2,    1.400,2,    0.040,2,    0.020,2,    0.072,2,    2.026,2,    1.207,2, -999.000,9, 2020.000,2, 2311.900,6
           NA,    P03E,    114,   1,-999.0,     -99,  2,20051117,0539,  24.2822, -155.9577,  4514,  151.400,   19.074,   34.966,2,   34.961,2,  183.530,1,  199.320,2,    2.420,2,    2.230,2,    0.030,2,    0.242,2,    2.235,2,    1.307,2, -999.000,9, 2044.000,2, 2288.800,2
           NA,    P03E,    114,   1,-999.0,     -99,  2,20051117,0539,  24.2822, -155.9577,  4514,  200.200,   16.656,   34.740,2,   34.738,2,  199.420,1,  215.680,2,    3.890,2,    2.920,2,    0.020,2,    0.294,2,    2.438,2,    1.416,2, -999.000,9, -999.000,4, 2279.900,2
           NA,    P03E,    114,   1,-999.0,     -99,  2,20051117,0539,  24.2822, -155.9577,  4514,  248.800,   14.938,   34.553,2,   34.558,2,  196.360,1,  212.790,2,    6.090,2,    6.190,2,    0.010,2,    0.496,2,    2.591,6,    1.484,6, -999.000,9, 2051.500,2, 2276.800,2
           NA,    P03E,    114,   1,-999.0,     -99,  2,20051117,0539,  24.2822, -155.9577,  4514,  301.000,   13.274,   34.396,2,   34.393,2,  194.160,1,  209.650,2,    9.690,2,    9.610,2,    0.010,2,    0.721,2,    2.747,2,    1.539,2, -999.000,9, 2070.500,2, 2265.800,2
           NA,    P03E,    114,   1,-999.0,     -99,  2,20051117,0539,  24.2822, -155.9577,  4514,  399.200,   10.397,   34.163,2,   34.160,2,  186.760,1,  200.610,2,   18.140,2,   15.730,2,    0.010,2,    1.159,2,    2.938,2,    1.576,2, -999.000,9, 2110.400,2, 2259.800,2
           NA,    P03E,    114,   1,-999.0,     -99,  2,20051117,0539,  24.2822, -155.9577,  4514,  500.400,    7.815,   34.055,2,   34.055,6,  131.130,1,  141.500,2,   38.660,2,   26.440,2,    0.010,2,    1.932,2,    2.291,2,    1.120,2, -999.000,9, 2188.100,2, 2275.900,2
           NA,    P03E,    114,   1,-999.0,     -99,  2,20051117,0539,  24.2822, -155.9577,  4514,  600.100,    6.036,   34.049,2,   34.049,2,   78.300,1,   84.420,2,   62.040,2,   34.680,2,    0.010,2,    2.554,2,    1.097,2,    0.536,2, -999.000,9, 2252.200,2, 2289.500,2
           NA,    P03E,    114,   1,-999.0,     -99,  2,20051117,0539,  24.2822, -155.9577,  4514,  699.700,    4.977,   34.107,2,   34.110,2,   47.570,1,   50.840,2,   84.620,2,   39.470,2,    0.010,2,    2.892,2,    0.428,2,    0.222,2, -999.000,9, 2298.500,6, 2317.300,2
           NA,    P03E,    114,   1,-999.0,     -99,  2,20051117,0539,  24.2822, -155.9577,  4514,  800.400,    4.614,   34.284,2,   34.285,2,   21.130,1,   22.720,2,   98.910,2,   42.300,2,    0.010,2,    3.141,2,    0.050,6,    0.026,6, -999.000,9, 2337.000,2, 2335.400,6
           NA,    P03E,    114,   1,-999.0,     -99,  2,20051117,0539,  24.2822, -155.9577,  4514,  900.200,    4.132,   34.367,2,   34.366,2,   21.590,1,   23.200,2,  110.670,2,   43.130,2,    0.000,2,    3.171,2,    0.015,2,    0.008,2, -999.000,9, 2352.100,2, 2354.900,2
           NA,    P03E,    114,   1,-999.0,     -99,  2,20051117,0539,  24.2822, -155.9577,  4514,  998.300,    3.853,   34.430,2,   34.430,6,   29.160,1,   31.430,2,  117.070,2,   42.900,2,    0.010,2,    3.141,2,    0.009,2,    0.003,2, -999.000,9, 2352.100,2, 2369.300,2
           NA,    P03E,    114,   1,-999.0,     -99,  2,20051117,0539,  24.2822, -155.9577,  4514, 1200.800,    3.429,   34.508,2,   34.508,2,   44.450,1,   48.110,2,  125.030,2,   42.260,2,    0.010,2,    3.072,2,    0.004,2,    0.002,2, -999.000,9, 2352.400,2, 2382.100,2
           NA,    P03E,    114,   1,-999.0,     -99,  2,20051117,0539,  24.2822, -155.9577,  4514, 1402.800,    2.976,   34.550,2,   34.550,2,   55.370,1,   60.090,2,  134.940,2,   41.810,2,    0.010,2,    3.031,2,    0.001,2,    0.001,2, -999.000,9, 2360.400,2, 2395.400,2
           NA,    P03E,    114,   1,-999.0,     -99,  2,20051117,0539,  24.2822, -155.9577,  4514, 1602.300,    2.617,   34.579,2,   34.579,2,   64.910,1,   70.430,2,  143.210,2,   41.220,2,    0.010,2,    2.978,2,    0.000,2,    0.000,2, -999.000,9, 2362.200,2, 2402.200,2
           NA,    P03E,    114,   1,-999.0,     -99,  2,20051117,0539,  24.2822, -155.9577,  4514, 1801.200,    2.328,   34.600,2,   34.600,2,   72.700,1,   78.930,2,  149.760,2,   40.700,2,    0.010,2,    2.929,2,    0.000,2,    0.000,2, -999.000,9, 2365.300,2, 2410.500,2
           NA,    P03E,    114,   1,-999.0,     -99,  2,20051117,0539,  24.2822, -155.9577,  4514, 2001.800,    2.073,   34.619,2,   34.618,6,   80.300,1,   87.260,2,  156.660,2,   40.220,2,    0.010,2,    2.886,2,    0.000,2,    0.001,2, -999.000,9, 2366.500,2, -999.000,4
           NA,    P03E,    114,   1,-999.0,     -99,  2,20051117,0539,  24.2822, -155.9577,  4514, 2202.200,    1.911,   34.631,2,   34.631,2,   86.290,1,   94.010,2,  160.750,2,   39.950,2,    0.010,2,    2.849,2, -999.000,9, -999.000,9, -999.000,9, 2363.100,2, 2417.900,2
           NA,    P03E,    114,   1,-999.0,     -99,  2,20051117,0539,  24.2822, -155.9577,  4514, 2402.800,    1.772,   34.644,2,   34.644,2,   93.600,1,  102.050,2,  163.350,2,   39.400,2,    0.010,2,    2.810,2,    0.000,2,    0.000,2, -999.000,9, 2361.100,6, 2421.100,2
           NA,    P03E,    114,   1,-999.0,     -99,  2,20051117,0539,  24.2822, -155.9577,  4514, 2600.900,    1.646,   34.656,2,   34.657,6,  103.200,1,  112.580,2,  163.790,2,   38.790,2,    0.010,2,    2.753,2, -999.000,9, -999.000,9, -999.000,9, 2357.100,2, 2423.900,6
           NA,    P03E,    114,   1,-999.0,     -99,  2,20051117,0539,  24.2822, -155.9577,  4514, 2800.900,    1.592,   34.663,2,   34.663,2,  109.310,1,  119.210,2,  163.320,2,   38.250,2,    0.010,2,    2.713,2, -999.000,9, -999.000,9, -999.000,9, 2352.500,2, 2422.500,2
           NA,    P03E,    114,   1,-999.0,     -99,  2,20051117,0539,  24.2822, -155.9577,  4514, 3001.000,    1.546,   34.668,2,   34.668,2,  115.140,1,  125.610,2,  161.940,2,   37.830,2,    0.010,2,    2.675,2, -999.000,9, -999.000,9, -999.000,9, 2349.900,2, 2421.300,2
           NA,    P03E,    114,   1,-999.0,     -99,  2,20051117,0539,  24.2822, -155.9577,  4514, 3252.800,    1.497,   34.675,2,   34.675,2,  123.060,1,  134.040,2,  159.340,2,   37.350,2,    0.010,2,    2.635,2,    0.005,2,    0.001,2, -999.000,9, 2341.300,2, 2421.100,2
           NA,    P03E,    114,   1,-999.0,     -99,  2,20051117,0539,  24.2822, -155.9577,  4514, 3500.000,    1.464,   34.681,2,   34.680,2,  129.800,1,  140.950,2,  157.130,2,   36.890,2,    0.010,2,    2.597,2, -999.000,9, -999.000,9, -999.000,9, 2334.600,2, 2425.300,2
           NA,    P03E,    114,   1,-999.0,     -99,  2,20051117,0539,  24.2822, -155.9577,  4514, 3750.100,    1.462,   34.683,2,   34.682,2,  133.650,1,  144.790,2,  155.580,2,   36.510,2,    0.010,2,    2.580,2, -999.000,9, -999.000,9, -999.000,9, 2334.100,2, 2421.300,2
           NA,    P03E,    114,   1,-999.0,     -99,  2,20051117,0539,  24.2822, -155.9577,  4514, 3998.500,    1.462,   34.686,2,   34.686,6,  137.530,1,  148.580,2,  154.090,2,   36.290,2,    0.010,2,    2.556,2, -999.000,9, -999.000,9, -999.000,9, 2330.600,2, 2420.400,2
           NA,    P03E,    114,   1,-999.0,     -99,  2,20051117,0539,  24.2822, -155.9577,  4514, 4250.500,    1.477,   34.687,2,   34.687,2,  139.890,1,  150.480,2,  153.280,2,   36.260,2,    0.010,2,    2.548,2,    0.004,2,    0.000,2, -999.000,9, 2330.500,6, 2418.100,2
           NA,    P03E,    114,   1,-999.0,     -99,  2,20051117,0539,  24.2822, -155.9577,  4514, 4499.200,    1.488,   34.689,2,   34.688,2,  142.890,1,  152.730,2,  152.070,2,   36.100,2,    0.000,2,    2.533,2, -999.000,9, -999.000,9, -999.000,9, 2330.200,2, 2418.300,6
           NA,    P03E,    114,   1,-999.0,     -99,  2,20051117,0539,  24.2822, -155.9577,  4514, 4602.300,    1.498,   34.689,2,   34.689,6,  143.840,1,  153.160,2,  151.920,2,   36.050,2,    0.000,2,    2.534,2,    0.000,2,    0.000,2, -999.000,9, 2328.300,2, 2420.100,2
           NA,    P03E,    112,   1,-999.0,     -99,  2,20051116,2344,  24.3017, -155.2850,  4582,   10.100,   25.021,   35.303,2,   35.304,2,  193.640,1,  209.560,2,    0.880,2,    0.040,2,    0.000,2,    0.042,2,    1.700,2,    1.029,2, -999.000,9, -999.000,9, -999.000,9
           NA,    P03E,    112,   1,-999.0,     -99,  2,20051116,2344,  24.3017, -155.2850,  4582,   49.800,   24.954,   35.348,2,   35.348,2,  193.710,1,  209.500,2,    0.840,2,    0.040,2,    0.000,2,    0.037,2,    1.699,2,    1.024,2, -999.000,9, -999.000,9, -999.000,9
           NA,    P03E,    112,   1,-999.0,     -99,  2,20051116,2344,  24.3017, -155.2850,  4582,  100.200,   23.165,   35.230,2,   35.223,2,  203.800,1,  219.910,2,    1.180,2,    0.030,2,    0.010,2,    0.049,2,    1.957,2,    1.182,2, -999.000,9, -999.000,9, -999.000,9
           NA,    P03E,    112,   1,-999.0,     -99,  2,20051116,2344,  24.3017, -155.2850,  4582,  150.200,   19.973,   35.069,2,   35.068,2,  188.590,1,  203.980,2,    2.020,2,    1.200,2,    0.080,2,    0.165,2,    2.189,2,    1.278,2, -999.000,9, -999.000,9, -999.000,9
           NA,    P03E,    112,   1,-999.0,     -99,  2,20051116,2344,  24.3017, -155.2850,  4582,  202.400,   17.366,   34.815,2,   34.823,2,  196.700,1,  211.410,2,    3.430,2,    2.560,2,    0.020,2,    0.254,2,    2.416,2,    1.377,2, -999.000,9, -999.000,9, -999.000,9
           NA,    P03E,    112,   1,-999.0,     -99,  2,20051116,2344,  24.3017, -155.2850,  4582,  252.700,   15.513,   34.609,2,   34.611,2,  197.740,1,  213.180,2,    5.300,2,    5.110,2,    0.010,2,    0.416,2,    2.603,2,    1.450,2, -999.000,9, -999.000,9, -999.000,9
           NA,    P03E,    112,   1,-999.0,     -99,  2,20051116,2344,  24.3017, -155.2850,  4582,  301.900,   13.511,   34.406,2,   34.396,2,  196.940,1,  212.160,2,    8.570,2,    8.730,2,    0.010,2,    0.652,2,    2.831,2,    1.544,2, -999.000,9, -999.000,9, -999.000,9
           NA,    P03E,    112,   1,-999.0,     -99,  2,20051116,2344,  24.3017, -155.2850,  4582,  402.500,    9.938,   34.121,2,   34.127,2,  182.850,1,  197.790,2,   19.330,2,   16.620,2,    0.010,2,    1.206,2,    3.060,2,    1.555,2, -999.000,9, -999.000,9, -999.000,9
           NA,    P03E,    112,   1,-999.0,     -99,  2,20051116,2344,  24.3017, -155.2850,  4582,  500.800,    7.841,   34.055,2,   34.054,6,  131.790,1,  141.620,2,   39.370,2,   26.540,2,    0.000,2,    1.920,2,    2.242,2,    1.047,2, -999.000,9, -999.000,9, -999.000,9
           NA,    P03E,    112,   1,-999.0,     -99,  2,20051116,2344,  24.3017, -155.2850,  4582,  601.500,    5.870,   34.044,2,   34.045,2,   80.790,1,   87.800,2,   64.360,2,   34.840,2,    0.010,2,    2.537,2,    1.133,2,    0.516,2, -999.000,9, -999.000,9, -999.000,9
           NA,    P03E,    112,   1,-999.0,     -99,  2,20051116,2344,  24.3017, -155.2850,  4582,  702.700,    4.946,   34.147,2,   34.137,2,   38.180,1,   44.130,2,   87.160,2,   40.140,2,    0.010,2,    2.939,2,    0.358,2,    0.161,2, -999.000,9, -999.000,9, -999.000,9
           NA,    P03E,    112,   1,-999.0,     -99,  2,20051116,2344,  24.3017, -155.2850,  4582,  801.700,    4.483,   34.262,2,   34.262,2,   20.790,1,   22.270,2,  101.290,2,   42.630,2,    0.000,2,    3.138,2,    0.058,6,    0.032,6, -999.000,9, -999.000,9, -999.000,9
           NA,    P03E,    112,   1,-999.0,     -99,  2,20051116,2344,  24.3017, -155.2850,  4582,  903.100,    4.331,   34.368,2,   34.368,2,   25.660,1,   27.400,2,  105.520,2,   42.640,2,    0.010,2,    3.122,2,    0.021,2,    0.012,2, -999.000,9, -999.000,9, -999.000,9
           NA,    P03E,    112,   1,-999.0,     -99,  2,20051116,2344,  24.3017, -155.2850,  4582, 1003.300,    3.968,   34.436,2,   34.434,6,   32.590,1,   34.760,2,  113.570,2,   42.720,2,    0.010,2,    3.116,2,    0.003,2,    0.003,2, -999.000,9, -999.000,9, -999.000,9
           NA,    P03E,    112,   1,-999.0,     -99,  2,20051116,2344,  24.3017, -155.2850,  4582, 1204.900,    3.527,   34.509,2,   34.508,2,   45.680,1,   49.290,2,  122.100,2,   42.290,2,    0.010,2,    3.055,2,    0.002,2,    0.002,2, -999.000,9, -999.000,9, -999.000,9
           NA,    P03E,    112,   1,-999.0,     -99,  2,20051116,2344,  24.3017, -155.2850,  4582, 1401.900,    3.051,   34.551,2,   34.550,2,   56.710,1,   61.190,2,  132.500,2,   41.710,2,    0.010,2,    3.012,2,    0.000,2,    0.000,2, -999.000,9, -999.000,9, -999.000,9
           NA,    P03E,    112,   1,-999.0,     -99,  2,20051116,2344,  24.3017, -155.2850,  4582, 1600.400,    2.713,   34.574,2,   34.574,2,   63.700,1,   69.040,2,  140.570,2,   41.470,2,    0.010,2,    2.972,2,    0.000,2,    0.000,2, -999.000,9, -999.000,9, -999.000,9
           NA,    P03E,    112,   1,-999.0,     -99,  2,20051116,2344,  24.3017, -155.2850,  4582, 1801.500,    2.387,   34.596,2,   34.596,2,   71.140,1,   77.180,2,  148.560,2,   40.910,2,    0.010,2,    2.932,2,    0.001,2,    0.000,2, -999.000,9, -999.000,9, -999.000,9
           NA,    P03E,    112,   1,-999.0,     -99,  2,20051116,2344,  24.3017, -155.2850,  4582, 1998.600,    2.122,   34.615,2,   34.615,2,   78.370,1,   85.270,2,  155.730,2,   40.560,2,    0.000,2,    2.891,2,    0.005,2,    0.000,2, -999.000,9, -999.000,9, -999.000,9
           NA,    P03E,    112,   1,-999.0,     -99,  2,20051116,2344,  24.3017, -155.2850,  4582, 2201.900,    1.960,   34.627,2,   34.627,6,   83.340,1,   90.470,2,  160.170,2,   40.210,2,    0.010,2,    2.857,2, -999.000,9, -999.000,9, -999.000,9, -999.000,9, -999.000,9
           NA,    P03E,    112,   1,-999.0,     -99,  2,20051116,2344,  24.3017, -155.2850,  4582, 2401.100,    1.805,   34.641,2,   34.641,2,   91.850,1,  100.050,2,  162.730,2,   39.630,2,    0.010,2,    2.809,2, -999.000,9, -999.000,9, -999.000,9, -999.000,9, -999.000,9
           NA,    P03E,    112,   1,-999.0,     -99,  2,20051116,2344,  24.3017, -155.2850,  4582, 2600.600,    1.687,   34.652,2,   34.652,2,  100.330,1,  109.330,2,  163.380,2,   39.100,2,    0.010,2,    2.755,2, -999.000,9, -999.000,9, -999.000,9, -999.000,9, -999.000,9
           NA,    P03E,    112,   1,-999.0,     -99,  2,20051116,2344,  24.3017, -155.2850,  4582, 2803.500,    1.606,   34.660,2,   34.660,2,  108.080,1,  117.780,2,  162.590,2,   38.480,2,    0.010,2,    2.712,2,    0.002,2,    0.001,2, -999.000,9, -999.000,9, -999.000,9
           NA,    P03E,    112,   1,-999.0,     -99,  2,20051116,2344,  24.3017, -155.2850,  4582, 3003.900,    1.551,   34.668,2,   34.668,2,  114.920,1,  125.180,2,  161.780,2,   38.020,2,    0.000,2,    2.676,2, -999.000,9, -999.000,9, -999.000,9, -999.000,9, -999.000,9
           NA,    P03E,    112,   1,-999.0,     -99,  2,20051116,2344,  24.3017, -155.2850,  4582, 3249.200,    1.508,   34.674,2,   34.674,6,  121.770,1,  132.480,2,  159.690,2,   37.490,2,    0.010,2,    2.622,2, -999.000,9, -999.000,9, -999.000,9, -999.000,9, -999.000,9
           NA,    P03E,    112,   1,-999.0,     -99,  2,20051116,2344,  24.3017, -155.2850,  4582, 3501.100,    1.480,   34.679,2,   34.679,2,  127.870,1,  139.070,2,  157.910,2,   37.060,2,    0.010,2,    2.594,2, -999.000,9, -999.000,9, -999.000,9, -999.000,9, -999.000,9
           NA,    P03E,    112,   1,-999.0,     -99,  2,20051116,2344,  24.3017, -155.2850,  4582, 3750.100,    1.472,   34.682,2,   34.682,2,  132.210,1,  143.410,2,  156.130,2,   36.800,2,    0.000,2,    2.576,2,    0.000,2,    0.002,2, -999.000,9, -999.000,9, -999.000,9
           NA,    P03E,    112,   1,-999.0,     -99,  2,20051116,2344,  24.3017, -155.2850,  4582, 3999.800,    1.476,   34.684,2,   34.684,2,  135.730,1,  146.770,2,  154.830,2,   36.590,2,    0.010,2,    2.558,2, -999.000,9, -999.000,9, -999.000,9, -999.000,9, -999.000,9
           NA,    P03E,    112,   1,-999.0,     -99,  2,20051116,2344,  24.3017, -155.2850,  4582, 4251.900,    1.490,   34.686,2,   34.686,6,  138.020,1,  148.720,2,  153.840,2,   36.390,2,    0.000,2,    2.550,2, -999.000,9, -999.000,9, -999.000,9, -999.000,9, -999.000,9
           NA,    P03E,    112,   1,-999.0,     -99,  2,20051116,2344,  24.3017, -155.2850,  4582, 4499.900,    1.513,   34.686,2,   34.686,2,  139.580,1,  149.500,2,  153.340,2,   36.360,2,    0.000,2,    2.540,2, -999.000,9, -999.000,9, -999.000,9, -999.000,9, -999.000,9
           NA,    P03E,    112,   1,-999.0,     -99,  2,20051116,2344,  24.3017, -155.2850,  4582, 4645.900,    1.514,   34.688,2,   34.688,6,  142.200,1,  151.690,2,  152.500,2,   36.220,2,    0.000,2,    2.531,2,    0.000,2,    0.001,2, -999.000,9, -999.000,9, -999.000,9