BOTTLE,20211903JOAExport
EXPOCODE,SECT_ID,STNNBR,CASTNO,SAMPNO,BTLNBR,BTLNBR_FLAG_W,DATE,TIME,LATITUDE,LONGITUDE,DEPTH,CTDPRS,CTDTMP,CTDSAL,CTDSAL_FLAG_W,SALNTY,SALNTY_FLAG_W,CTDOXY,CTDOXY_FLAG_W,OXYGEN,OXYGEN_FLAG_W,SILCAT,SILCAT_FLAG_W,NITRAT,NITRAT_FLAG_W,NITRIT,NITRIT_FLAG_W,PHSPHT,PHSPHT_FLAG_W,CFC-11,CFC-11_FLAG_W,CFC-12,CFC-12_FLAG_W,SF6,SF6_FLAG_W,TCARBN,TCARBN_FLAG_W,ALKALI,ALKALI_FLAG_W
,,,,,,,,,,,,DB,ITS-90,PSS-78,,PSS-78,,UMOL/KG,,UMOL/KG,,UMOL/KG,,UMOL/KG,,UMOL/KG,,UMOL/KG,,PMOL/KG,,PMOL/KG,,FMOL/KG,,UMOL/KG,,UMOL/KG
           NA,    P03E,    126,   1,-999.0,     -99,  2,20051118,2345,  25.8455, -160.5448,  5076,   10.300,   25.595,   35.337,2,   35.337,2,  190.930,1,  207.280,2,    0.960,2,    0.050,2,    0.000,2,    0.028,2,    1.666,2,    1.016,2, -999.000,9, 1986.500,2, 2322.600,2
           NA,    P03E,    126,   1,-999.0,     -99,  2,20051118,2345,  25.8455, -160.5448,  5076,   49.800,   25.520,   35.336,2,   35.337,2,  190.900,1,  207.490,2,    0.940,2,    0.040,2,    0.010,2,    0.031,2,    1.663,2,    1.017,2, -999.000,9, 1987.000,6, 2323.100,2
           NA,    P03E,    126,   1,-999.0,     -99,  2,20051118,2345,  25.8455, -160.5448,  5076,  100.300,   22.895,   35.174,2,   35.171,2,  214.140,1,  232.120,2,    1.710,2,    0.030,2,    0.000,2,    0.035,2,    2.047,2,    1.296,2, -999.000,9, 2002.100,2, 2313.100,6
           NA,    P03E,    126,   1,-999.0,     -99,  2,20051118,2345,  25.8455, -160.5448,  5076,  150.100,   17.994,   34.885,2,   34.884,2,  203.130,1,  219.740,2,    2.940,2,    0.880,2,    0.120,2,    0.162,2,    2.382,2,    1.382,2, -999.000,9, 2032.500,2, 2292.700,2
           NA,    P03E,    126,   1,-999.0,     -99,  2,20051118,2345,  25.8455, -160.5448,  5076,  199.600,   15.437,   34.620,2,   34.619,2,  196.750,1,  212.240,2,    5.800,2,    5.820,2,    0.010,2,    0.449,2,    2.618,2,    1.460,2, -999.000,9, 2050.500,2, 2278.300,2
           NA,    P03E,    126,   1,-999.0,     -99,  2,20051118,2345,  25.8455, -160.5448,  5076,  252.700,   13.538,   34.401,2,   34.397,2,  193.990,1,  209.230,2,    8.590,2,    8.810,2,    0.000,2,    0.662,2,    2.755,6,    1.504,6, -999.000,9, 2066.900,2, 2267.400,2
           NA,    P03E,    126,   1,-999.0,     -99,  2,20051118,2345,  25.8455, -160.5448,  5076,  302.400,   12.152,   34.295,2,   34.302,2,  194.250,1,  209.730,2,   11.890,2,   11.380,2,    0.000,2,    0.834,2,    2.928,2,    1.552,2, -999.000,9, 2082.300,2, 2260.700,2
           NA,    P03E,    126,   1,-999.0,     -99,  2,20051118,2345,  25.8455, -160.5448,  5076,  401.400,    9.766,   34.154,2,   34.159,2,  176.330,1,  190.800,2,   22.610,2,   17.840,2,    0.000,2,    1.286,2,    2.897,2,    1.466,2, -999.000,9, 2124.600,2, 2267.300,2
           NA,    P03E,    126,   1,-999.0,     -99,  2,20051118,2345,  25.8455, -160.5448,  5076,  501.400,    7.106,   34.046,2,   34.047,6,  110.730,1,  119.780,2,   47.330,2,   29.790,2,    0.000,2,    2.157,2,    1.833,2,    0.844,2, -999.000,9, 2214.000,2, 2277.900,2
           NA,    P03E,    126,   1,-999.0,     -99,  2,20051118,2345,  25.8455, -160.5448,  5076,  603.900,    5.763,   34.068,2,   34.067,2,   66.100,1,   72.210,2,   68.240,2,   36.420,2,    0.000,2,    2.660,2,    0.880,2,    0.402,2, -999.000,9, 2269.300,2, 2296.800,2
           NA,    P03E,    126,   1,-999.0,     -99,  2,20051118,2345,  25.8455, -160.5448,  5076,  701.000,    5.019,   34.163,2,   34.162,2,   34.360,1,   37.220,2,   86.560,2,   40.650,2,    0.000,2,    2.985,2,    0.265,2,    0.129,2, -999.000,9, 2310.700,6, 2317.400,2
           NA,    P03E,    126,   1,-999.0,     -99,  2,20051118,2345,  25.8455, -160.5448,  5076,  800.200,    4.544,   34.246,2,   34.245,2,   24.110,1,   26.270,2,   99.210,2,   42.250,2,    0.010,2,    3.102,2,    0.101,6,    0.047,6, -999.000,9, 2333.400,2, 2337.600,6
           NA,    P03E,    126,   1,-999.0,     -99,  2,20051118,2345,  25.8455, -160.5448,  5076,  900.300,    4.162,   34.354,2,   34.353,2,   24.370,1,   26.320,2,  109.410,2,   42.880,2,    0.000,2,    3.130,2,    0.030,2,    0.011,2, -999.000,9, 2347.200,2, 2351.500,2
           NA,    P03E,    126,   1,-999.0,     -99,  2,20051118,2345,  25.8455, -160.5448,  5076, 1000.700,    3.866,   34.419,2,   34.418,6,   30.170,1,   32.540,2,  116.240,2,   42.930,2,    0.000,2,    3.130,2,    0.009,2,    0.009,2, -999.000,9, 2352.600,2, 2364.900,2
           NA,    P03E,    126,   1,-999.0,     -99,  2,20051118,2345,  25.8455, -160.5448,  5076, 1201.200,    3.422,   34.500,2,   34.499,2,   44.190,1,   48.160,2,  125.500,2,   42.330,2,    0.000,2,    3.068,2,    0.004,2,    0.002,2, -999.000,9, 2355.500,2, 2381.100,2
           NA,    P03E,    126,   1,-999.0,     -99,  2,20051118,2345,  25.8455, -160.5448,  5076, 1402.400,    2.988,   34.548,2,   34.548,2,   56.320,1,   61.460,2,  134.670,2,   41.760,2,    0.000,2,    3.007,2,    0.010,2,    0.001,2, -999.000,9, 2358.700,2, 2389.800,2
           NA,    P03E,    126,   1,-999.0,     -99,  2,20051118,2345,  25.8455, -160.5448,  5076, 1601.700,    2.645,   34.574,2,   34.574,2,   64.430,1,   70.440,2,  142.450,2,   41.270,2,    0.000,2,    2.966,2,    0.000,2,    0.000,2, -999.000,9, 2362.200,2, 2400.200,2
           NA,    P03E,    126,   1,-999.0,     -99,  2,20051118,2345,  25.8455, -160.5448,  5076, 1801.300,    2.369,   34.595,2,   34.595,6,   71.530,1,   78.250,2,  149.300,2,   40.850,2,    0.000,2,    2.927,2,    0.006,2,    0.000,2, -999.000,9, 2361.900,2, 2407.400,2
           NA,    P03E,    126,   1,-999.0,     -99,  2,20051118,2345,  25.8455, -160.5448,  5076, 2002.600,    2.119,   34.614,2,   34.614,2,   78.710,1,   86.180,2,  155.160,2,   40.520,2,    0.000,2,    2.881,2,    0.008,2,    0.000,2, -999.000,9, 2364.600,2, 2414.900,2
           NA,    P03E,    126,   1,-999.0,     -99,  2,20051118,2345,  25.8455, -160.5448,  5076, 2201.900,    1.932,   34.629,2,   34.629,2,   85.210,1,   93.490,2,  159.630,2,   40.040,2,    0.000,2,    2.844,2, -999.000,9, -999.000,9, -999.000,9, 2363.600,2, 2419.300,2
           NA,    P03E,    126,   1,-999.0,     -99,  2,20051118,2345,  25.8455, -160.5448,  5076, 2400.200,    1.787,   34.642,2,   34.642,2,   92.810,1,  102.070,2,  162.500,2,   39.490,2,    0.000,2,    2.793,2, -999.000,9, -999.000,9, -999.000,9, 2360.500,6, 2418.900,2
           NA,    P03E,    126,   1,-999.0,     -99,  2,20051118,2345,  25.8455, -160.5448,  5076, 2600.500,    1.719,   34.650,2,   34.649,2,   98.090,1,  107.880,2,  163.480,2,   39.110,2,    0.000,2,    2.767,2, -999.000,9, -999.000,9, -999.000,9, 2358.600,2, 2422.000,6
           NA,    P03E,    126,   1,-999.0,     -99,  2,20051118,2345,  25.8455, -160.5448,  5076, 2802.000,    1.630,   34.659,2,   34.659,2,  105.790,1,  116.400,2,  162.650,2,   38.580,2,    0.000,2,    2.726,2,    0.000,2,    0.001,2, -999.000,9, 2353.700,2, 2427.700,2
           NA,    P03E,    126,   1,-999.0,     -99,  2,20051118,2345,  25.8455, -160.5448,  5076, 3000.000,    1.579,   34.665,2,   34.664,2,  112.380,1,  123.510,2,  160.870,2,   38.200,2,    0.000,2,    2.682,2, -999.000,9, -999.000,9, -999.000,9, 2350.400,2, 2424.300,2
           NA,    P03E,    126,   1,-999.0,     -99,  2,20051118,2345,  25.8455, -160.5448,  5076, 3249.600,    1.536,   34.671,2,   34.671,6,  118.650,1,  130.490,2,  159.130,2,   37.660,2,    0.000,2,    2.638,2, -999.000,9, -999.000,9, -999.000,9, 2346.600,2, 2422.300,2
           NA,    P03E,    126,   1,-999.0,     -99,  2,20051118,2345,  25.8455, -160.5448,  5076, 3500.700,    1.507,   34.676,2,   34.676,2,  124.390,1,  136.360,2,  157.930,2,   37.260,2,    0.000,2,    2.612,2,    0.000,2,    0.001,2, -999.000,9, 2340.600,2, 2420.300,2
           NA,    P03E,    126,   1,-999.0,     -99,  2,20051118,2345,  25.8455, -160.5448,  5076, 3749.800,    1.487,   34.680,2,   34.680,2,  129.590,1,  141.920,2,  156.280,2,   36.790,2,    0.000,2,    2.582,2, -999.000,9, -999.000,9, -999.000,9, 2337.100,2, 2420.300,2
           NA,    P03E,    126,   1,-999.0,     -99,  2,20051118,2345,  25.8455, -160.5448,  5076, 3998.400,    1.481,   34.683,2,   34.683,6,  133.600,1,  145.860,2,  154.870,2,   36.560,2,    0.000,2,    2.566,2, -999.000,9, -999.000,9, -999.000,9, 2332.100,2, 2420.400,2
           NA,    P03E,    126,   1,-999.0,     -99,  2,20051118,2345,  25.8455, -160.5448,  5076, 4250.100,    1.484,   34.686,2,   34.686,2,  136.830,1,  148.930,2,  153.990,2,   36.470,2,    0.000,2,    2.553,2,    0.000,2,    0.000,2, -999.000,9, 2332.000,6, 2422.400,2
           NA,    P03E,    126,   1,-999.0,     -99,  2,20051118,2345,  25.8455, -160.5448,  5076, 4500.800,    1.489,   34.688,2,   34.688,2,  140.380,1,  152.370,2,  152.660,2,   36.190,2,    0.000,2,    2.533,2, -999.000,9, -999.000,9, -999.000,9, 2330.100,2, 2421.100,6
           NA,    P03E,    126,   1,-999.0,     -99,  2,20051118,2345,  25.8455, -160.5448,  5076, 4751.700,    1.508,   34.689,2,   34.689,2,  142.540,1,  153.930,2,  151.700,2,   36.110,2,    0.000,2,    2.522,2, -999.000,9, -999.000,9, -999.000,9, 2326.200,2, 2419.100,2
           NA,    P03E,    126,   1,-999.0,     -99,  2,20051118,2345,  25.8455, -160.5448,  5076, 4999.700,    1.532,   34.690,2,   34.690,2,  144.460,1,  155.160,2,  150.870,2,   35.890,2,    0.000,2,    2.512,2, -999.000,9, -999.000,9, -999.000,9, 2325.800,2, 2418.300,2
           NA,    P03E,    126,   1,-999.0,     -99,  2,20051118,2345,  25.8455, -160.5448,  5076, 5161.000,    1.547,   34.690,2,   34.690,6,  146.100,1,  156.140,2,  149.880,2,   35.910,2,    0.010,2,    2.513,2,    0.000,2,    0.000,2, -999.000,9, 2323.600,2, 2419.300,2
           NA,    P03E,    124,   1,-999.0,     -99,  2,20051118,1724,  25.8397, -159.7873,  4534,    9.700,   25.481,   35.308,2,   35.307,2,  190.670,1,  207.120,2,    0.940,2,    0.080,2,    0.000,2,    0.030,2,    1.621,2,    1.002,2, -999.000,9, -999.000,9, -999.000,9
           NA,    P03E,    124,   1,-999.0,     -99,  2,20051118,1724,  25.8397, -159.7873,  4534,   49.500,   25.465,   35.306,2,   35.307,2,  190.790,1,  207.150,2,    0.920,2,    0.060,2,    0.000,2,    0.029,2,    1.608,2,    1.003,2, -999.000,9, -999.000,9, -999.000,9
           NA,    P03E,    124,   1,-999.0,     -99,  2,20051118,1724,  25.8397, -159.7873,  4534,   99.600,   21.429,   35.071,2,   35.068,2,  212.420,1,  230.450,2,    1.880,2,    0.090,2,    0.010,2,    0.054,2,    2.102,2,    1.261,2, -999.000,9, -999.000,9, -999.000,9
           NA,    P03E,    124,   1,-999.0,     -99,  2,20051118,1724,  25.8397, -159.7873,  4534,  150.400,   18.927,   34.941,2,   34.940,2,  202.080,1,  217.820,2,    2.550,2,    0.920,2,    0.100,2,    0.143,2,    2.230,2,    1.323,2, -999.000,9, -999.000,9, -999.000,9
           NA,    P03E,    124,   1,-999.0,     -99,  2,20051118,1724,  25.8397, -159.7873,  4534,  199.900,   16.423,   34.716,2,   34.710,2,  196.810,1,  213.010,2,    4.400,2,    4.040,2,    0.010,2,    0.335,2,    2.418,2,    1.430,2, -999.000,9, -999.000,9, -999.000,9
           NA,    P03E,    124,   1,-999.0,     -99,  2,20051118,1724,  25.8397, -159.7873,  4534,  248.200,   14.521,   34.509,2,   34.504,2,  195.340,1,  211.230,2,    7.090,2,    7.260,2,    0.000,2,    0.548,2,    2.602,6,    1.509,6, -999.000,9, -999.000,9, -999.000,9
           NA,    P03E,    124,   1,-999.0,     -99,  2,20051118,1724,  25.8397, -159.7873,  4534,  299.000,   12.997,   34.340,2,   34.341,2,  193.910,1,  209.800,2,    9.650,2,    9.750,2,    0.000,2, -999.000,4,    2.738,2,    1.558,2, -999.000,9, -999.000,9, -999.000,9
           NA,    P03E,    124,   1,-999.0,     -99,  2,20051118,1724,  25.8397, -159.7873,  4534,  401.100,   10.385,   34.158,2,   34.164,2,  180.620,1,  194.700,2,   18.400,2,   16.050,2,    0.000,2,    1.172,2,    2.846,2,    1.553,2, -999.000,9, -999.000,9, -999.000,9
           NA,    P03E,    124,   1,-999.0,     -99,  2,20051118,1724,  25.8397, -159.7873,  4534,  501.500,    8.135,   34.075,2,   34.076,6,  143.500,1,  155.520,2,   35.960,2,   24.600,2,    0.000,2,    1.761,2,    2.372,2,    1.204,2, -999.000,9, -999.000,9, -999.000,9
           NA,    P03E,    124,   1,-999.0,     -99,  2,20051118,1724,  25.8397, -159.7873,  4534,  599.700,    5.995,   34.041,2,   34.042,2,   90.110,1,   96.720,2,   63.530,2,   33.890,2,    0.000,2,    2.454,2,    1.267,2,    0.619,2, -999.000,9, -999.000,9, -999.000,9
           NA,    P03E,    124,   1,-999.0,     -99,  2,20051118,1724,  25.8397, -159.7873,  4534,  700.900,    4.948,   34.130,2,   34.130,2,   43.630,1,   47.180,2,   86.260,2,   39.950,2,    0.000,2,    2.906,2,    0.389,2,    0.203,2, -999.000,9, -999.000,9, -999.000,9
           NA,    P03E,    124,   1,-999.0,     -99,  2,20051118,1724,  25.8397, -159.7873,  4534,  800.900,    4.453,   34.242,2,   34.240,2,   25.570,1,   27.610,2,  100.820,2,   42.290,2,    0.000,2,    3.090,2,    0.112,6,    0.062,6, -999.000,9, -999.000,9, -999.000,9
           NA,    P03E,    124,   1,-999.0,     -99,  2,20051118,1724,  25.8397, -159.7873,  4534,  900.100,    4.173,   34.337,2,   34.335,2,   23.400,1,   25.180,2,  109.000,2,   42.950,2,    0.000,2,    3.121,2,    0.035,2,    0.023,2, -999.000,9, -999.000,9, -999.000,9
           NA,    P03E,    124,   1,-999.0,     -99,  2,20051118,1724,  25.8397, -159.7873,  4534, 1002.100,    3.884,   34.410,2,   34.410,6,   28.720,1,   31.000,2,  116.250,2,   42.910,2,    0.000,2,    3.132,2,    0.018,2,    0.011,2, -999.000,9, -999.000,9, -999.000,9
           NA,    P03E,    124,   1,-999.0,     -99,  2,20051118,1724,  25.8397, -159.7873,  4534, 1201.200,    3.358,   34.516,2,   34.515,2,   48.280,1,   52.260,2,  126.100,2,   42.110,2,    0.000,2,    3.039,2,    0.002,2,    0.003,2, -999.000,9, -999.000,9, -999.000,9
           NA,    P03E,    124,   1,-999.0,     -99,  2,20051118,1724,  25.8397, -159.7873,  4534, 1400.900,    2.974,   34.550,2,   34.550,2,   56.990,1,   61.850,2,  134.650,2,   41.710,2,    0.000,2,    2.999,2,    0.000,2,    0.002,2, -999.000,9, -999.000,9, -999.000,9
           NA,    P03E,    124,   1,-999.0,     -99,  2,20051118,1724,  25.8397, -159.7873,  4534, 1601.900,    2.623,   34.577,2,   34.576,2,   65.360,1,   71.210,2,  142.540,2,   41.220,2,    0.000,2,    2.958,2,    0.000,2,    0.001,2, -999.000,9, -999.000,9, -999.000,9
           NA,    P03E,    124,   1,-999.0,     -99,  2,20051118,1724,  25.8397, -159.7873,  4534, 1799.500,    2.338,   34.596,2,   34.596,6,   71.900,1,   78.260,2,  149.680,2,   40.910,2,    0.000,2,    2.915,2,    0.000,2,    0.001,2, -999.000,9, -999.000,9, -999.000,9
           NA,    P03E,    124,   1,-999.0,     -99,  2,20051118,1724,  25.8397, -159.7873,  4534, 1999.600,    2.073,   34.616,2,   34.616,2,   79.620,1,   86.770,2,  156.460,2,   40.310,2,    0.000,2,    2.871,2,    0.002,2,    0.002,2, -999.000,9, -999.000,9, -999.000,9
           NA,    P03E,    124,   1,-999.0,     -99,  2,20051118,1724,  25.8397, -159.7873,  4534, 2199.200,    1.910,   34.630,2,   34.630,2,   86.250,1,   94.250,2,  160.130,2,   39.910,2,    0.000,2,    2.838,2, -999.000,9, -999.000,9, -999.000,9, -999.000,9, -999.000,9
           NA,    P03E,    124,   1,-999.0,     -99,  2,20051118,1724,  25.8397, -159.7873,  4534, 2401.600,    1.805,   34.641,2,   34.640,2,   92.200,1,  100.730,2,  162.100,2,   39.590,2,    0.000,2,    2.797,2,    0.001,2,    0.003,2, -999.000,9, -999.000,9, -999.000,9
           NA,    P03E,    124,   1,-999.0,     -99,  2,20051118,1724,  25.8397, -159.7873,  4534, 2598.900,    1.679,   34.652,2,   34.652,2,  101.130,1,  110.570,2,  162.640,2,   38.930,2,    0.000,2,    2.746,2, -999.000,9, -999.000,9, -999.000,9, -999.000,9, -999.000,9
           NA,    P03E,    124,   1,-999.0,     -99,  2,20051118,1724,  25.8397, -159.7873,  4534, 2800.700,    1.613,   34.659,2,   34.659,6,  107.690,1,  117.840,2,  161.990,2,   38.440,2,    0.000,2,    2.708,2, -999.000,9, -999.000,9, -999.000,9, -999.000,9, -999.000,9
           NA,    P03E,    124,   1,-999.0,     -99,  2,20051118,1724,  25.8397, -159.7873,  4534, 2999.400,    1.562,   34.666,2,   34.666,2,  113.980,1,  124.270,2,  160.740,2,   38.070,2,    0.000,2,    2.674,2,    0.001,2,    0.000,2, -999.000,9, -999.000,9, -999.000,9
           NA,    P03E,    124,   1,-999.0,     -99,  2,20051118,1724,  25.8397, -159.7873,  4534, 3250.700,    1.530,   34.671,2,   34.671,2,  119.730,1,  130.400,2,  159.250,2,   37.590,2,    0.000,2,    2.626,2, -999.000,9, -999.000,9, -999.000,9, -999.000,9, -999.000,9
           NA,    P03E,    124,   1,-999.0,     -99,  2,20051118,1724,  25.8397, -159.7873,  4534, 3498.600,    1.496,   34.677,2,   34.677,2,  126.330,1,  137.390,2,  157.470,2,   37.140,2,    0.000,2,    2.600,2,    0.002,2,    0.000,2, -999.000,9, -999.000,9, -999.000,9
           NA,    P03E,    124,   1,-999.0,     -99,  2,20051118,1724,  25.8397, -159.7873,  4534, 3750.900,    1.492,   34.680,2,   34.680,6,  130.210,1,  141.220,2,  156.250,2,   36.900,2,    0.000,2,    2.585,2, -999.000,9, -999.000,9, -999.000,9, -999.000,9, -999.000,9
           NA,    P03E,    124,   1,-999.0,     -99,  2,20051118,1724,  25.8397, -159.7873,  4534, 3999.400,    1.478,   34.683,2,   34.683,2,  135.180,1,  146.190,2,  154.720,2,   36.540,2,    0.000,2,    2.550,2, -999.000,9, -999.000,9, -999.000,9, -999.000,9, -999.000,9
           NA,    P03E,    124,   1,-999.0,     -99,  2,20051118,1724,  25.8397, -159.7873,  4534, 4248.500,    1.479,   34.686,2,   34.686,2,  139.100,1,  149.800,2,  153.070,2,   36.280,2,    0.000,2,    2.528,2, -999.000,9, -999.000,9, -999.000,9, -999.000,9, -999.000,9
           NA,    P03E,    124,   1,-999.0,     -99,  2,20051118,1724,  25.8397, -159.7873,  4534, 4499.400,    1.497,   34.687,2,   34.688,2,  141.330,1,  151.450,2,  152.300,2,   36.170,2,    0.000,2,    2.528,2, -999.000,9, -999.000,9, -999.000,9, -999.000,9, -999.000,9
           NA,    P03E,    124,   1,-999.0,     -99,  2,20051118,1724,  25.8397, -159.7873,  4534, 4620.100,    1.507,   34.687,2,   34.688,6,  142.490,1,  152.020,2,  152.170,2,   36.150,2,   -0.010,2,    2.526,2,    0.000,2,    0.001,2, -999.000,9, -999.000,9, -999.000,9