BOTTLE,20211903JOAExport
EXPOCODE,SECT_ID,STNNBR,CASTNO,SAMPNO,BTLNBR,BTLNBR_FLAG_W,DATE,TIME,LATITUDE,LONGITUDE,DEPTH,CTDPRS,CTDTMP,CTDSAL,CTDSAL_FLAG_W,SALNTY,SALNTY_FLAG_W,CTDOXY,CTDOXY_FLAG_W,OXYGEN,OXYGEN_FLAG_W,SILCAT,SILCAT_FLAG_W,NITRAT,NITRAT_FLAG_W,NITRIT,NITRIT_FLAG_W,PHSPHT,PHSPHT_FLAG_W,CFC-11,CFC-11_FLAG_W,CFC-12,CFC-12_FLAG_W,SF6,SF6_FLAG_W,TCARBN,TCARBN_FLAG_W,ALKALI,ALKALI_FLAG_W
,,,,,,,,,,,,DB,ITS-90,PSS-78,,PSS-78,,UMOL/KG,,UMOL/KG,,UMOL/KG,,UMOL/KG,,UMOL/KG,,UMOL/KG,,PMOL/KG,,PMOL/KG,,FMOL/KG,,UMOL/KG,,UMOL/KG
           NA,    P03C,    251,   1,-999.0,     -99,  2,20051226,1245,  24.2792,  158.4485,  5844,   10.000,   26.761,   35.032,2,   35.033,2,  188.830,1,  201.870,2,    1.030,2,    0.030,2,    0.010,2,    0.029,2,    1.535,2,    0.938,2, -999.000,9, 1953.400,2, 2302.000,2
           NA,    P03C,    251,   1,-999.0,     -99,  2,20051226,1245,  24.2792,  158.4485,  5844,   51.100,   26.791,   35.031,2,   35.033,2,  188.540,1,  201.800,2,    1.000,2,    0.030,2,    0.010,2,    0.027,2,    1.536,2,    0.923,2, -999.000,9, 1955.200,6, 2298.800,2
           NA,    P03C,    251,   1,-999.0,     -99,  2,20051226,1245,  24.2792,  158.4485,  5844,  100.500,   21.557,   35.063,2,   35.061,2,  198.470,1,  212.380,2,    1.720,2,    0.010,2,    0.010,2,    0.048,2,    2.069,2,    1.192,2, -999.000,9, 2006.400,2, 2302.000,6
           NA,    P03C,    251,   1,-999.0,     -99,  2,20051226,1245,  24.2792,  158.4485,  5844,  148.400,   18.826,   34.900,2,   34.893,2,  190.260,1,  203.110,2,    2.720,2,    1.930,2,    0.030,2,    0.200,2,    2.288,2,    1.289,2, -999.000,9, 2031.200,2, 2290.600,2
           NA,    P03C,    251,   1,-999.0,     -99,  2,20051226,1245,  24.2792,  158.4485,  5844,  199.100,   17.296,   34.786,2,   34.785,2,  192.620,1,  206.000,2,    3.830,2,    4.490,2,    0.010,2,    0.334,2,    2.413,2,    1.337,2, -999.000,9, 2035.600,2, 2282.800,2
           NA,    P03C,    251,   1,-999.0,     -99,  2,20051226,1245,  24.2792,  158.4485,  5844,  250.700,   16.344,   34.707,2,   34.706,2,  191.930,1,  205.010,2,    5.400,2,    6.100,2,    0.010,2,    0.433,2,    2.500,6,    1.363,6, -999.000,9, 2044.300,2, 2282.600,2
           NA,    P03C,    251,   1,-999.0,     -99,  2,20051226,1245,  24.2792,  158.4485,  5844,  300.000,   15.353,   34.620,2,   34.614,2,  190.740,1,  203.570,2,    7.660,2,    7.800,2,    0.010,2,    0.555,2,    2.588,2,    1.389,2, -999.000,9, 2056.700,2, 2275.200,2
           NA,    P03C,    251,   1,-999.0,     -99,  2,20051226,1245,  24.2792,  158.4485,  5844,  400.400,   12.727,   34.407,2,   34.406,2,  189.020,1,  201.970,2,   13.610,2,   11.940,2,    0.010,2,    0.859,2,    2.806,2,    1.454,2, -999.000,9, 2082.300,2, 2270.700,2
           NA,    P03C,    251,   1,-999.0,     -99,  2,20051226,1245,  24.2792,  158.4485,  5844,  500.600,   10.402,   34.229,2,   34.228,6,  190.680,1,  203.190,2,   20.940,2,   15.900,2,    0.010,2,    1.150,2,    2.941,2,    1.483,2, -999.000,9, 2110.600,2, 2269.400,2
           NA,    P03C,    251,   1,-999.0,     -99,  2,20051226,1245,  24.2792,  158.4485,  5844,  600.900,    8.576,   34.116,2,   34.115,2,  159.590,1,  169.860,2,   34.620,2,   22.460,2,    0.000,2,    1.622,2,    2.528,2,    1.233,2, -999.000,9, 2157.900,2, 2273.000,2
           NA,    P03C,    251,   1,-999.0,     -99,  2,20051226,1245,  24.2792,  158.4485,  5844,  701.400,    5.934,   34.071,2,   34.074,2,   96.590,1,  103.060,2,   67.250,2,   33.310,2,    0.000,2,    2.428,2,    1.337,2,    0.647,2, -999.000,9, 2245.900,6, 2296.600,2
           NA,    P03C,    251,   1,-999.0,     -99,  2,20051226,1245,  24.2792,  158.4485,  5844,  799.200,    4.862,   34.157,2,   34.159,2,   60.930,1,   64.330,2,   89.190,2,   38.530,2,    0.020,2,    2.790,2,    0.619,6,    0.304,6, -999.000,9, 2298.100,2, 2321.600,6
           NA,    P03C,    251,   1,-999.0,     -99,  2,20051226,1245,  24.2792,  158.4485,  5844,  902.500,    4.188,   34.243,2,   34.244,2,   42.710,1,   45.120,2,  106.610,2,   41.050,2,    0.010,2,    2.973,2,    0.294,2,    0.149,2, -999.000,9, 2327.400,2, 2341.000,2
           NA,    P03C,    251,   1,-999.0,     -99,  2,20051226,1245,  24.2792,  158.4485,  5844,  999.900,    3.804,   34.333,2,   34.334,6,   35.880,1,   37.860,2,  117.790,2,   41.910,2,    0.010,2,    3.050,2,    0.108,2,    0.051,2, -999.000,9, 2345.800,2, 2357.200,2
           NA,    P03C,    251,   1,-999.0,     -99,  2,20051226,1245,  24.2792,  158.4485,  5844, 1201.900,    3.248,   34.468,2,   34.468,2,   49.890,1,   51.710,2,  130.100,2,   41.840,2,    0.010,2,    3.014,2,    0.014,2,    0.004,2, -999.000,9, 2354.900,2, 2379.100,2
           NA,    P03C,    251,   1,-999.0,     -99,  2,20051226,1245,  24.2792,  158.4485,  5844, 1401.100,    2.773,   34.528,2,   34.528,2,   61.620,1,   65.990,2,  139.250,2,   41.140,2,    0.010,2,    2.952,2,    0.003,2,    0.001,2, -999.000,9, 2357.100,2, 2392.800,2
           NA,    P03C,    251,   1,-999.0,     -99,  2,20051226,1245,  24.2792,  158.4485,  5844, 1598.800,    2.456,   34.567,2,   34.568,2,   74.810,1,   80.620,2,  143.090,2,   40.290,2,    0.010,2,    2.876,2,    0.001,2,    0.001,2, -999.000,9, 2356.300,2, 2401.800,2
           NA,    P03C,    251,   1,-999.0,     -99,  2,20051226,1245,  24.2792,  158.4485,  5844, 1799.000,    2.203,   34.592,2,   34.592,2,   82.780,1,   89.450,2,  148.270,2,   39.980,2,    0.000,2,    2.846,2,    0.002,2,    0.001,2, -999.000,9, 2357.300,2, 2407.800,2
           NA,    P03C,    251,   1,-999.0,     -99,  2,20051226,1245,  24.2792,  158.4485,  5844, 1999.600,    1.999,   34.612,2,   34.613,2,   91.590,1,   99.340,2,  150.100,2,   39.310,2,    0.000,2,    2.791,2,    0.001,2,    0.000,2, -999.000,9, 2352.700,2, 2408.500,2
           NA,    P03C,    251,   1,-999.0,     -99,  2,20051226,1245,  24.2792,  158.4485,  5844, 2199.200,    1.870,   34.627,2,   34.627,6,   97.920,1,  106.300,2,  152.370,2,   39.140,2,    0.010,2,    2.767,2,    0.000,2,    0.000,2, -999.000,9, 2353.000,2, 2412.300,2
           NA,    P03C,    251,   1,-999.0,     -99,  2,20051226,1245,  24.2792,  158.4485,  5844, 2401.400,    1.761,   34.641,2,   34.642,2,  105.750,1,  114.880,2,  152.470,2,   38.650,2,    0.000,2,    2.721,2,    0.000,2,    0.000,2, -999.000,9, 2348.600,6, 2414.400,2
           NA,    P03C,    251,   1,-999.0,     -99,  2,20051226,1245,  24.2792,  158.4485,  5844, 2601.600,    1.680,   34.651,2,   34.651,2,  111.820,1,  121.760,2,  152.330,2,   38.120,2,    0.000,2,    2.694,2, -999.000,9, -999.000,9, -999.000,9, 2344.900,2, 2416.600,6
           NA,    P03C,    251,   1,-999.0,     -99,  2,20051226,1245,  24.2792,  158.4485,  5844, 2799.800,    1.616,   34.659,2,   34.659,2,  117.170,1,  127.670,2,  152.270,2,   37.780,2,    0.010,2,    2.659,2,    0.002,2,    0.003,2, -999.000,9, 2341.200,2, 2416.800,2
           NA,    P03C,    251,   1,-999.0,     -99,  2,20051226,1245,  24.2792,  158.4485,  5844, 3002.700,    1.566,   34.666,2,   34.666,2,  122.160,1,  133.460,2,  151.530,2,   37.330,2,    0.010,2,    2.627,2, -999.000,9, -999.000,9, -999.000,9, 2336.100,2, 2416.100,2
           NA,    P03C,    251,   1,-999.0,     -99,  2,20051226,1245,  24.2792,  158.4485,  5844, 3251.200,    1.531,   34.672,2,   34.672,6,  127.080,1,  138.850,2,  150.640,2,   36.990,2,    0.010,2,    2.599,2, -999.000,9, -999.000,9, -999.000,9, 2336.500,2, 2417.000,2
           NA,    P03C,    251,   1,-999.0,     -99,  2,20051226,1245,  24.2792,  158.4485,  5844, 3500.200,    1.498,   34.677,2,   34.678,2,  132.020,1,  144.070,2,  149.810,2,   36.650,2,    0.000,2,    2.571,2,    0.002,2,    0.000,2, -999.000,9, 2330.900,2, 2418.500,2
           NA,    P03C,    251,   1,-999.0,     -99,  2,20051226,1245,  24.2792,  158.4485,  5844, 3750.300,    1.475,   34.682,2,   34.682,2,  136.600,1,  148.990,2,  148.860,2,   36.320,2,    0.000,2,    2.546,2, -999.000,9, -999.000,9, -999.000,9, 2329.100,2, 2413.000,2
           NA,    P03C,    251,   1,-999.0,     -99,  2,20051226,1245,  24.2792,  158.4485,  5844, 3998.200,    1.464,   34.685,2,   34.685,2,  140.840,1,  153.420,2,  147.440,2,   36.070,2,    0.000,2,    2.527,2, -999.000,9, -999.000,9, -999.000,9, 2324.700,2, 2415.400,2
           NA,    P03C,    251,   1,-999.0,     -99,  2,20051226,1245,  24.2792,  158.4485,  5844, 4251.600,    1.460,   34.688,2,   34.688,2,  144.540,1,  157.110,2,  145.810,2,   35.780,2,    0.000,2,    2.503,2,    0.000,2,    0.000,2, -999.000,9, 2319.900,6, 2411.100,2
           NA,    P03C,    251,   1,-999.0,     -99,  2,20051226,1245,  24.2792,  158.4485,  5844, 4500.000,    1.467,   34.690,2,   34.690,6,  147.650,1,  159.970,2,  144.280,2,   35.570,2,    0.000,2,    2.489,2, -999.000,9, -999.000,9, -999.000,9, 2318.700,2, 2410.100,6
           NA,    P03C,    251,   1,-999.0,     -99,  2,20051226,1245,  24.2792,  158.4485,  5844, 4751.400,    1.479,   34.692,2,   34.692,2,  150.620,1,  162.710,2,  142.770,2,   35.390,2,    0.000,2,    2.473,2, -999.000,9, -999.000,9, -999.000,9, 2314.900,2, 2410.400,2
           NA,    P03C,    251,   1,-999.0,     -99,  2,20051226,1245,  24.2792,  158.4485,  5844, 5000.500,    1.493,   34.693,2,   34.694,2,  153.720,1,  165.440,2,  140.950,2,   35.240,2,    0.000,2,    2.459,2,    0.000,2,    0.000,2, -999.000,9, 2311.700,2, 2409.900,2
           NA,    P03C,    251,   1,-999.0,     -99,  2,20051226,1245,  24.2792,  158.4485,  5844, 5251.500,    1.510,   34.695,2,   34.695,2,  156.750,1,  167.940,2,  139.340,2,   35.110,2,    0.010,2,    2.444,2, -999.000,9, -999.000,9, -999.000,9, 2308.200,2, 2407.300,2
           NA,    P03C,    251,   1,-999.0,     -99,  2,20051226,1245,  24.2792,  158.4485,  5844, 5499.700,    1.531,   34.696,2,   34.696,2,  159.550,1,  169.960,2,  137.560,2,   35.000,2,    0.000,2,    2.436,2,    0.000,2,    0.002,2, -999.000,9, 2307.200,2, 2404.700,2
           NA,    P03C,    251,   1,-999.0,     -99,  2,20051226,1245,  24.2792,  158.4485,  5844, 5749.700,    1.557,   34.696,2,   34.697,2,  162.120,1,  171.370,2,  136.540,2,   34.860,2,    0.000,2,    2.427,2, -999.000,9, -999.000,9, -999.000,9, 2304.700,2, 2403.300,2
           NA,    P03C,    251,   1,-999.0,     -99,  2,20051226,1245,  24.2792,  158.4485,  5844, 5932.100,    1.576,   34.696,2,   34.697,6,  164.460,1,  172.480,2,  135.940,2,   34.730,2,    0.010,2,    2.422,2,    0.001,2,    0.002,2, -999.000,9, 2303.000,2, 2402.300,2
           NA,    P03C,    249,   1,-999.0,     -99,  2,20051226,0521,  24.2365,  159.2508,  4220,   11.500,   27.003,   34.980,2,   34.981,2,  188.990,1,  201.890,2,    0.920,2,    0.060,2,    0.000,2,    0.028,2,    1.555,2,    0.935,2, -999.000,9, 1946.600,2, 2294.500,2
           NA,    P03C,    249,   1,-999.0,     -99,  2,20051226,0521,  24.2365,  159.2508,  4220,   49.800,   27.012,   34.979,2,   34.980,2,  188.880,1,  201.820,2,    0.880,2,    0.050,2,    0.000,2,    0.027,2,    1.561,2,    0.939,2, -999.000,9, 1946.300,2, 2296.800,2
           NA,    P03C,    249,   1,-999.0,     -99,  2,20051226,0521,  24.2365,  159.2508,  4220,  101.200,   22.489,   35.057,2,   35.061,2,  207.990,1,  222.240,2,    1.530,2,    0.050,2,    0.000,2,    0.035,2,    2.004,2,    1.188,2, -999.000,9, 1990.300,2, 2301.100,6
           NA,    P03C,    249,   1,-999.0,     -99,  2,20051226,0521,  24.2365,  159.2508,  4220,  151.000,   18.863,   34.888,2,   34.896,2,  197.120,1,  210.870,2,    2.440,2,    0.700,2,    0.100,2,    0.133,2,    2.215,2,    1.307,2, -999.000,9, 2019.400,2, 2292.500,2
           NA,    P03C,    249,   1,-999.0,     -99,  2,20051226,0521,  24.2365,  159.2508,  4220,  199.200,   17.197,   34.778,2,   34.778,2,  190.690,1,  202.920,2,    4.020,2,    4.830,2,    0.010,2,    0.364,2,    2.363,2,    1.375,2, -999.000,9, 2036.300,2, 2283.700,2
           NA,    P03C,    249,   1,-999.0,     -99,  2,20051226,0521,  24.2365,  159.2508,  4220,  251.800,   16.468,   34.715,2,   34.712,2,  191.480,1,  204.320,2,    5.260,2,    6.020,2,    0.010,2,    0.440,2,    2.430,6,    1.390,6, -999.000,9, 2038.100,2, 2281.800,2
           NA,    P03C,    249,   1,-999.0,     -99,  2,20051226,0521,  24.2365,  159.2508,  4220,  301.900,   15.391,   34.621,2,   34.621,2,  190.630,1,  202.970,2,    7.310,2,    7.650,2,    0.010,2,    0.560,2,    2.508,2,    1.415,2, -999.000,9, 2051.000,2, 2278.600,2
           NA,    P03C,    249,   1,-999.0,     -99,  2,20051226,0521,  24.2365,  159.2508,  4220,  399.600,   12.801,   34.413,2,   34.409,2,  188.110,1,  200.060,2,   13.710,2,   12.160,2,    0.000,2,    0.879,2,    2.658,2,    1.434,2, -999.000,9, 2081.300,2, 2269.600,2
           NA,    P03C,    249,   1,-999.0,     -99,  2,20051226,0521,  24.2365,  159.2508,  4220,  503.000,   10.401,   34.231,2,   34.231,6,  176.950,1,  188.390,2,   22.480,2,   17.360,2,    0.010,2,    1.254,2,    2.645,2,    1.366,2, -999.000,9, 2117.800,2, 2271.400,2
           NA,    P03C,    249,   1,-999.0,     -99,  2,20051226,0521,  24.2365,  159.2508,  4220,  602.100,    8.094,   34.110,2,   34.110,2,  138.140,1,  147.010,2,   39.700,2,   25.390,2,    0.010,2,    1.847,2,    2.012,2,    0.990,2, -999.000,9, 2176.800,2, 2277.800,2
           NA,    P03C,    249,   1,-999.0,     -99,  2,20051226,0521,  24.2365,  159.2508,  4220,  701.500,    6.315,   34.109,2,   34.109,2,   90.490,1,   96.520,2,   63.040,2,   33.310,2,    0.000,2,    2.443,2,    1.100,2,    0.530,2, -999.000,9, 2240.200,6, 2295.200,2
           NA,    P03C,    249,   1,-999.0,     -99,  2,20051226,0521,  24.2365,  159.2508,  4220,  802.800,    4.895,   34.151,2,   34.151,2,   60.600,1,   64.580,2,   88.490,2,   38.520,2,    0.010,2,    2.811,2,    0.622,6,    0.296,6, -999.000,9, 2291.300,2, 2321.100,6
           NA,    P03C,    249,   1,-999.0,     -99,  2,20051226,0521,  24.2365,  159.2508,  4220,  899.900,    4.290,   34.238,2,   34.239,2,   42.130,1,   44.830,2,  104.150,2,   41.160,2,    0.000,2,    2.976,2,    0.271,2,    0.131,2, -999.000,9, 2321.800,2, 2337.900,2
           NA,    P03C,    249,   1,-999.0,     -99,  2,20051226,0521,  24.2365,  159.2508,  4220, 1001.500,    3.872,   34.328,2,   34.329,6,   36.000,1,   38.150,2,  115.760,2,   42.250,2,    0.000,2,    3.060,2,    0.099,2,    0.047,2, -999.000,9, 2340.500,2, 2354.800,2
           NA,    P03C,    249,   1,-999.0,     -99,  2,20051226,0521,  24.2365,  159.2508,  4220, 1200.200,    3.267,   34.460,2,   34.462,2,   47.490,1,   50.470,2,  129.870,2,   42.050,2,    0.000,2,    3.030,2,    0.020,2,    0.013,2, -999.000,9, 2352.500,2, 2376.300,2
           NA,    P03C,    249,   1,-999.0,     -99,  2,20051226,0521,  24.2365,  159.2508,  4220, 1401.000,    2.705,   34.528,2,   34.528,2,   60.620,1,   64.790,2,  141.310,2,   41.470,2,    0.000,2,    2.972,2,    0.002,2,    0.005,2, -999.000,9, 2357.300,2, 2393.900,2
           NA,    P03C,    249,   1,-999.0,     -99,  2,20051226,0521,  24.2365,  159.2508,  4220, 1603.100,    2.378,   34.575,2,   34.576,2,   79.520,1,   85.110,2,  144.390,2,   40.370,2,    0.000,2,    2.869,2,    0.000,2,    0.000,2, -999.000,9, 2348.200,2, 2402.500,2
           NA,    P03C,    249,   1,-999.0,     -99,  2,20051226,0521,  24.2365,  159.2508,  4220, 1800.200,    2.192,   34.595,2,   34.595,2,   86.550,1,   92.470,2,  146.930,2,   39.990,2,    0.010,2,    2.842,2, -999.000,9, -999.000,9, -999.000,9, 2350.600,2, -999.000,3
           NA,    P03C,    249,   1,-999.0,     -99,  2,20051226,0521,  24.2365,  159.2508,  4220, 2000.400,    1.992,   34.614,2,   34.615,6,   94.010,1,  101.030,2,  150.140,2,   39.710,2,    0.000,2,    2.806,2,    0.000,2,    0.000,2, -999.000,9, 2349.000,2, 2409.500,2
           NA,    P03C,    249,   1,-999.0,     -99,  2,20051226,0521,  24.2365,  159.2508,  4220, 2200.600,    1.829,   34.632,2,   34.632,2,  102.380,1,  110.120,2,  151.670,2,   39.000,2,    0.000,2,    2.757,2,    0.000,2,    0.000,2, -999.000,9, 2346.200,2, 2411.500,2
           NA,    P03C,    249,   1,-999.0,     -99,  2,20051226,0521,  24.2365,  159.2508,  4220, 2401.900,    1.727,   34.645,2,   34.646,2,  109.750,1,  118.030,2,  152.240,2,   38.480,2,    0.010,2,    2.719,2,    0.000,2,    0.000,2, -999.000,9, 2342.900,6, 2412.000,2
           NA,    P03C,    249,   1,-999.0,     -99,  2,20051226,0521,  24.2365,  159.2508,  4220, 2602.600,    1.654,   34.654,2,   34.655,2,  115.560,1,  124.180,2,  152.450,2,   38.170,2,    0.000,2,    2.694,2,    0.004,2,    0.000,2, -999.000,9, 2337.900,2, 2413.900,6
           NA,    P03C,    249,   1,-999.0,     -99,  2,20051226,0521,  24.2365,  159.2508,  4220, 2801.000,    1.600,   34.662,2,   34.662,2,  120.930,1,  129.800,2,  151.530,2,   37.740,2,    0.000,2,    2.654,2, -999.000,9, -999.000,9, -999.000,9, 2337.100,2, 2415.500,2
           NA,    P03C,    249,   1,-999.0,     -99,  2,20051226,0521,  24.2365,  159.2508,  4220, 3002.700,    1.569,   34.667,2,   34.667,6,  124.730,1,  133.770,2,  151.660,2,   37.550,2,    0.000,2,    2.639,2,    0.002,2,    0.001,2, -999.000,9, 2334.500,2, 2414.300,2
           NA,    P03C,    249,   1,-999.0,     -99,  2,20051226,0521,  24.2365,  159.2508,  4220, 3249.900,    1.518,   34.674,2,   34.674,2,  131.190,1,  140.260,2,  149.980,2,   37.100,2,    0.000,2,    2.596,2, -999.000,9, -999.000,9, -999.000,9, 2331.200,2, 2412.400,2
           NA,    P03C,    249,   1,-999.0,     -99,  2,20051226,0521,  24.2365,  159.2508,  4220, 3498.900,    1.498,   34.678,2,   34.678,2,  135.610,1,  144.640,2,  148.920,2,   36.720,2,    0.000,2,    2.577,2,    0.000,2,    0.001,2, -999.000,9, 2326.700,2, 2413.300,2
           NA,    P03C,    249,   1,-999.0,     -99,  2,20051226,0521,  24.2365,  159.2508,  4220, 3500.500,    1.499,   34.677,2,   34.678,2,  135.640,1,  144.840,2,  148.570,2,   36.640,2,    0.010,2,    2.579,2,    0.000,2,    0.000,2, -999.000,9, 2327.600,2, 2415.100,2
           NA,    P03C,    249,   1,-999.0,     -99,  2,20051226,0521,  24.2365,  159.2508,  4220, 3750.400,    1.477,   34.682,2,   34.682,2,  140.620,1,  149.450,2,  147.620,2,   36.440,2,    0.010,2,    2.557,2, -999.000,9, -999.000,9, -999.000,9, 2324.600,2, 2411.400,2
           NA,    P03C,    249,   1,-999.0,     -99,  2,20051226,0521,  24.2365,  159.2508,  4220, 3999.500,    1.464,   34.685,2,   34.686,2,  145.360,1,  153.980,2,  145.970,2,   36.170,2,    0.000,2,    2.528,2, -999.000,9, -999.000,9, -999.000,9, 2319.600,2, 2413.500,2
           NA,    P03C,    249,   1,-999.0,     -99,  2,20051226,0521,  24.2365,  159.2508,  4220, 4294.700,    1.455,   34.689,2,   34.689,6,  151.110,1,  159.110,2,  143.860,2,   35.850,2,    0.000,2,    2.504,2,    0.000,2,    0.000,2, -999.000,9, 2315.600,2, 2411.700,2