BOTTLE,20211903JOAExport
EXPOCODE,SECT_ID,STNNBR,CASTNO,SAMPNO,BTLNBR,BTLNBR_FLAG_W,DATE,TIME,LATITUDE,LONGITUDE,DEPTH,CTDPRS,CTDTMP,CTDSAL,CTDSAL_FLAG_W,SALNTY,SALNTY_FLAG_W,CTDOXY,CTDOXY_FLAG_W,OXYGEN,OXYGEN_FLAG_W,SILCAT,SILCAT_FLAG_W,NITRAT,NITRAT_FLAG_W,NITRIT,NITRIT_FLAG_W,PHSPHT,PHSPHT_FLAG_W,CFC-11,CFC-11_FLAG_W,CFC-12,CFC-12_FLAG_W,SF6,SF6_FLAG_W,TCARBN,TCARBN_FLAG_W,ALKALI,ALKALI_FLAG_W
,,,,,,,,,,,,DB,ITS-90,PSS-78,,PSS-78,,UMOL/KG,,UMOL/KG,,UMOL/KG,,UMOL/KG,,UMOL/KG,,UMOL/KG,,PMOL/KG,,PMOL/KG,,FMOL/KG,,UMOL/KG,,UMOL/KG
           NA,    P03C,    225,   1,-999.0,     -99,  2,20051222,0647,  24.2720,  168.7735,  5887,   12.100,   25.304,   35.193,2,   35.194,2,  195.040,1,  207.680,2,    1.270,2,    0.040,2,    0.010,2,    0.024,2,    1.634,2,    0.982,2, -999.000,9, -999.000,9, -999.000,9
           NA,    P03C,    225,   1,-999.0,     -99,  2,20051222,0647,  24.2720,  168.7735,  5887,   50.900,   25.257,   35.186,2,   35.188,2,  195.420,1,  208.130,2,    1.300,2,    0.040,2,    0.000,2,    0.024,2,    1.645,2,    0.989,2, -999.000,9, -999.000,9, -999.000,9
           NA,    P03C,    225,   1,-999.0,     -99,  2,20051222,0647,  24.2720,  168.7735,  5887,  101.200,   20.587,   35.056,2,   35.047,2,  202.090,1,  215.230,2,    1.960,2,    0.040,2,    0.010,2,    0.055,2,    2.087,2,    1.230,2, -999.000,9, -999.000,9, -999.000,9
           NA,    P03C,    225,   1,-999.0,     -99,  2,20051222,0647,  24.2720,  168.7735,  5887,  150.700,   17.982,   34.837,2,   34.836,2,  197.230,1,  209.600,2,    3.040,2,    2.690,2,    0.020,2,    0.239,2,    2.250,2,    1.324,2, -999.000,9, -999.000,9, -999.000,9
           NA,    P03C,    225,   1,-999.0,     -99,  2,20051222,0647,  24.2720,  168.7735,  5887,  198.000,   17.153,   34.782,2,   34.783,2,  199.180,1,  211.980,2,    3.780,2,    4.170,2,    0.010,2,    0.313,2,    2.286,2,    1.345,2, -999.000,9, -999.000,9, -999.000,9
           NA,    P03C,    225,   1,-999.0,     -99,  2,20051222,0647,  24.2720,  168.7735,  5887,  248.600,   16.020,   34.677,2,   34.683,2,  192.360,1,  204.380,2,    5.800,2,    6.350,2,    0.010,2,    0.466,2,    2.418,6,    1.392,6, -999.000,9, -999.000,9, -999.000,9
           NA,    P03C,    225,   1,-999.0,     -99,  2,20051222,0647,  24.2720,  168.7735,  5887,  299.900,   14.849,   34.572,2,   34.570,2,  191.430,1,  203.100,2,    8.260,2,    8.310,2,    0.010,2,    0.605,2,    2.540,2,    1.430,2, -999.000,9, -999.000,9, -999.000,9
           NA,    P03C,    225,   1,-999.0,     -99,  2,20051222,0647,  24.2720,  168.7735,  5887,  399.600,   12.373,   34.361,2,   34.362,2,  187.240,1,  198.870,2,   13.760,2,   12.510,2,    0.010,2,    0.912,2,    2.778,2,    1.482,2, -999.000,9, -999.000,9, -999.000,9
           NA,    P03C,    225,   1,-999.0,     -99,  2,20051222,0647,  24.2720,  168.7735,  5887,  500.400,    9.597,   34.174,2,   34.176,6,  173.370,1,  184.110,2,   26.380,2,   19.010,2,    0.000,2,    1.380,2,    2.653,2,    1.365,2, -999.000,9, -999.000,9, -999.000,9
           NA,    P03C,    225,   1,-999.0,     -99,  2,20051222,0647,  24.2720,  168.7735,  5887,  600.400,    7.194,   34.079,2,   34.079,2,  122.860,1,  130.770,2,   49.090,2,   28.460,2,    0.000,2,    2.073,2,    1.797,2,    0.877,2, -999.000,9, -999.000,9, -999.000,9
           NA,    P03C,    225,   1,-999.0,     -99,  2,20051222,0647,  24.2720,  168.7735,  5887,  703.500,    5.647,   34.102,2,   34.103,2,   80.360,1,   85.050,2,   73.130,2,   35.340,2,    0.000,2,    2.579,2,    0.935,2,    0.454,2, -999.000,9, -999.000,9, -999.000,9
           NA,    P03C,    225,   1,-999.0,     -99,  2,20051222,0647,  24.2720,  168.7735,  5887,  800.500,    4.793,   34.176,2,   34.179,2,   52.890,1,   55.650,2,   91.780,2,   39.300,2,    0.000,2,    2.872,2,    0.424,6,    0.218,6, -999.000,9, -999.000,9, -999.000,9
           NA,    P03C,    225,   1,-999.0,     -99,  2,20051222,0647,  24.2720,  168.7735,  5887,  900.700,    4.131,   34.282,2,   34.284,2,   36.750,1,   38.750,2,  108.830,2,   41.690,2,    0.000,2,    3.025,2,    0.139,2,    0.073,2, -999.000,9, -999.000,9, -999.000,9
           NA,    P03C,    225,   1,-999.0,     -99,  2,20051222,0647,  24.2720,  168.7735,  5887, 1001.400,    3.823,   34.370,2,   34.369,6,   36.360,1,   38.440,2,  117.010,2,   42.220,2,    0.010,2,    3.066,2,    0.043,2,    0.027,2, -999.000,9, -999.000,9, -999.000,9
           NA,    P03C,    225,   1,-999.0,     -99,  2,20051222,0647,  24.2720,  168.7735,  5887, 1200.100,    3.188,   34.493,2,   34.493,2,   51.120,1,   54.530,2,  130.710,2,   41.800,2,    0.000,2,    3.008,2,    0.003,2,    0.002,2, -999.000,9, -999.000,9, -999.000,9
           NA,    P03C,    225,   1,-999.0,     -99,  2,20051222,0647,  24.2720,  168.7735,  5887, 1401.600,    2.738,   34.537,2,   34.536,2,   59.700,1,   64.010,2,  140.340,2,   41.400,2,    0.000,2,    2.971,2,    0.000,2,    0.001,2, -999.000,9, -999.000,9, -999.000,9
           NA,    P03C,    225,   1,-999.0,     -99,  2,20051222,0647,  24.2720,  168.7735,  5887, 1600.300,    2.393,   34.574,2,   34.574,2,   71.600,1,   76.930,2,  146.740,2,   40.810,2,    0.000,2,    2.917,2,    0.000,2,    0.000,2, -999.000,9, -999.000,9, -999.000,9
           NA,    P03C,    225,   1,-999.0,     -99,  2,20051222,0647,  24.2720,  168.7735,  5887, 1799.500,    2.175,   34.606,2,   34.606,2,   86.240,1,   92.950,2,  148.040,2,   39.890,2,    0.000,2,    2.839,2,    0.000,2,    0.000,2, -999.000,9, -999.000,9, -999.000,9
           NA,    P03C,    225,   1,-999.0,     -99,  2,20051222,0647,  24.2720,  168.7735,  5887, 2000.000,    1.988,   34.624,2,   34.624,2,   94.480,1,  102.060,2,  150.660,2,   39.360,2,    0.000,2,    2.794,2,    0.000,2,    0.000,2, -999.000,9, -999.000,9, -999.000,9
           NA,    P03C,    225,   1,-999.0,     -99,  2,20051222,0647,  24.2720,  168.7735,  5887, 2203.000,    1.857,   34.637,2,   34.637,6,  100.700,1,  108.990,2,  152.550,2,   38.920,2,    0.000,2,    2.761,2,    0.000,2,    0.000,2, -999.000,9, -999.000,9, -999.000,9
           NA,    P03C,    225,   1,-999.0,     -99,  2,20051222,0647,  24.2720,  168.7735,  5887, 2400.400,    1.755,   34.648,2,   34.648,2,  107.220,1,  116.040,2,  153.230,2,   38.480,2,    0.000,2,    2.725,2,    0.000,2,    0.000,2, -999.000,9, -999.000,9, -999.000,9
           NA,    P03C,    225,   1,-999.0,     -99,  2,20051222,0647,  24.2720,  168.7735,  5887, 2600.600,    1.688,   34.656,2,   34.656,2,  112.610,1,  122.020,2,  153.190,2,   38.080,2,    0.000,2,    2.690,2, -999.000,9, -999.000,9, -999.000,9, -999.000,9, -999.000,9
           NA,    P03C,    225,   1,-999.0,     -99,  2,20051222,0647,  24.2720,  168.7735,  5887, 2801.200,    1.644,   34.662,2,   34.662,2,  116.840,1,  126.740,2,  153.020,2,   37.780,2,   -0.010,2,    2.667,2,    0.009,2,    0.000,2, -999.000,9, -999.000,9, -999.000,9
           NA,    P03C,    225,   1,-999.0,     -99,  2,20051222,0647,  24.2720,  168.7735,  5887, 3001.100,    1.603,   34.667,2,   34.667,2,  121.050,1,  131.370,2,  152.540,2,   37.560,2,    0.000,2,    2.643,2, -999.000,9, -999.000,9, -999.000,9, -999.000,9, -999.000,9
           NA,    P03C,    225,   1,-999.0,     -99,  2,20051222,0647,  24.2720,  168.7735,  5887, 3251.600,    1.565,   34.672,2,   34.672,2,  125.750,1,  136.510,2,  151.940,2,   37.110,2,    0.000,2,    2.614,2, -999.000,9, -999.000,9, -999.000,9, -999.000,9, -999.000,9
           NA,    P03C,    225,   1,-999.0,     -99,  2,20051222,0647,  24.2720,  168.7735,  5887, 3500.300,    1.536,   34.676,2,   34.677,6,  130.250,1,  141.500,2,  150.600,2,   36.820,2,    0.000,2,    2.590,2,    0.007,2,    0.000,2, -999.000,9, -999.000,9, -999.000,9
           NA,    P03C,    225,   1,-999.0,     -99,  2,20051222,0647,  24.2720,  168.7735,  5887, 3751.500,    1.514,   34.680,2,   34.680,2,  134.590,1,  146.190,2,  149.160,2,   36.530,2,    0.000,2,    2.567,2, -999.000,9, -999.000,9, -999.000,9, -999.000,9, -999.000,9
           NA,    P03C,    225,   1,-999.0,     -99,  2,20051222,0647,  24.2720,  168.7735,  5887, 4002.200,    1.496,   34.683,2,   34.684,2,  139.290,1,  150.680,2,  147.430,2,   36.190,2,    0.000,2,    2.542,2, -999.000,9, -999.000,9, -999.000,9, -999.000,9, -999.000,9
           NA,    P03C,    225,   1,-999.0,     -99,  2,20051222,0647,  24.2720,  168.7735,  5887, 4250.900,    1.479,   34.687,2,   34.687,2,  144.260,1,  155.960,2,  145.140,2,   35.830,2,    0.000,2,    2.519,2,    0.004,2,    0.001,2, -999.000,9, -999.000,9, -999.000,9
           NA,    P03C,    225,   1,-999.0,     -99,  2,20051222,0647,  24.2720,  168.7735,  5887, 4502.200,    1.468,   34.690,2,   34.690,2,  149.300,1,  160.950,2,  142.580,2,   35.440,2,    0.000,2,    2.485,2, -999.000,9, -999.000,9, -999.000,9, -999.000,9, -999.000,9
           NA,    P03C,    225,   1,-999.0,     -99,  2,20051222,0647,  24.2720,  168.7735,  5887, 4750.400,    1.461,   34.693,2,   34.693,6,  154.260,1,  165.670,2,  139.990,2,   35.040,2,    0.000,2,    2.462,2, -999.000,9, -999.000,9, -999.000,9, -999.000,9, -999.000,9
           NA,    P03C,    225,   1,-999.0,     -99,  2,20051222,0647,  24.2720,  168.7735,  5887, 4999.600,    1.459,   34.695,2,   34.695,2,  158.850,1,  170.060,2,  137.410,2,   34.790,2,    0.000,2,    2.441,2,    0.010,2,    0.001,2, -999.000,9, -999.000,9, -999.000,9
           NA,    P03C,    225,   1,-999.0,     -99,  2,20051222,0647,  24.2720,  168.7735,  5887, 5249.100,    1.462,   34.697,2,   34.698,2,  163.160,1,  173.930,2,  135.100,2,   34.550,2,    0.000,2,    2.415,2, -999.000,9, -999.000,9, -999.000,9, -999.000,9, -999.000,9
           NA,    P03C,    225,   1,-999.0,     -99,  2,20051222,0647,  24.2720,  168.7735,  5887, 5499.900,    1.472,   34.699,2,   34.699,2,  166.680,1,  176.780,2,  133.700,2,   34.280,2,    0.000,2,    2.399,2,    0.000,2,    0.000,2, -999.000,9, -999.000,9, -999.000,9
           NA,    P03C,    225,   1,-999.0,     -99,  2,20051222,0647,  24.2720,  168.7735,  5887, 5750.500,    1.492,   34.699,2,   34.700,2,  169.560,1,  178.480,2,  132.670,2,   34.200,2,    0.000,2,    2.394,2, -999.000,9, -999.000,9, -999.000,9, -999.000,9, -999.000,9
           NA,    P03C,    225,   1,-999.0,     -99,  2,20051222,0647,  24.2720,  168.7735,  5887, 5986.400,    1.510,   34.700,2,   34.701,6,  172.860,1,  180.230,2,  131.650,2,   34.090,2,    0.000,2,    2.384,2,    0.000,2,    0.000,2, -999.000,9, -999.000,9, -999.000,9