BOTTLE,20211903JOAExport
EXPOCODE,SECT_ID,STNNBR,CASTNO,SAMPNO,BTLNBR,BTLNBR_FLAG_W,DATE,TIME,LATITUDE,LONGITUDE,DEPTH,CTDPRS,CTDTMP,CTDSAL,CTDSAL_FLAG_W,SALNTY,SALNTY_FLAG_W,CTDOXY,CTDOXY_FLAG_W,OXYGEN,OXYGEN_FLAG_W,SILCAT,SILCAT_FLAG_W,NITRAT,NITRAT_FLAG_W,NITRIT,NITRIT_FLAG_W,PHSPHT,PHSPHT_FLAG_W,CFC-11,CFC-11_FLAG_W,CFC-12,CFC-12_FLAG_W,SF6,SF6_FLAG_W,TCARBN,TCARBN_FLAG_W,ALKALI,ALKALI_FLAG_W
,,,,,,,,,,,,DB,ITS-90,PSS-78,,PSS-78,,UMOL/KG,,UMOL/KG,,UMOL/KG,,UMOL/KG,,UMOL/KG,,UMOL/KG,,PMOL/KG,,PMOL/KG,,FMOL/KG,,UMOL/KG,,UMOL/KG
           NA,    P03E,     30,   1,-999.0,     -99,  2,20051103,1933,  29.5375, -123.2468,  4259,    9.400,   19.501,   33.438,2,   33.437,2,  225.790,1,  234.450,2,    2.020,2,    0.020,2,    0.000,2,    0.285,2,    2.209,2,    1.308,2, -999.000,9, -999.000,9, -999.000,9
           NA,    P03E,     30,   1,-999.0,     -99,  2,20051103,1933,  29.5375, -123.2468,  4259,   50.100,   19.378,   33.434,2,   33.437,2,  226.060,1,  234.680,2,    2.010,2,    0.030,2,    0.000,2,    0.288,2,    2.224,2,    1.318,2, -999.000,9, -999.000,9, -999.000,9
           NA,    P03E,     30,   1,-999.0,     -99,  2,20051103,1933,  29.5375, -123.2468,  4259,  100.600,   15.158,   33.415,2,   33.418,2,  233.760,1,  240.450,2,    2.880,2,    0.490,2,    0.110,2,    0.405,2,    2.812,2,    1.609,2, -999.000,9, -999.000,9, -999.000,9
           NA,    P03E,     30,   1,-999.0,     -99,  2,20051103,1933,  29.5375, -123.2468,  4259,  149.600,   11.117,   33.486,2,   33.490,2,  170.190,1,  175.580,2,   13.610,2,   15.010,2,    0.010,2,    1.330,2,    2.990,2,    1.632,2, -999.000,9, -999.000,9, -999.000,9
           NA,    P03E,     30,   1,-999.0,     -99,  2,20051103,1933,  29.5375, -123.2468,  4259,  200.600,   10.308,   33.961,2,   33.961,2,  110.120,1,  113.200,2,   24.750,2,   22.990,2,    0.010,2,    1.936,2,    2.632,2,    1.367,2, -999.000,9, -999.000,9, -999.000,9
           NA,    P03E,     30,   1,-999.0,     -99,  2,20051103,1933,  29.5375, -123.2468,  4259,  249.400,    9.502,   34.106,2,   34.104,2,   97.450,1,  100.420,2,   30.880,2,   25.930,2,    0.010,2,    2.092,2,    2.343,6,    1.177,6, -999.000,9, -999.000,9, -999.000,9
           NA,    P03E,     30,   1,-999.0,     -99,  2,20051103,1933,  29.5375, -123.2468,  4259,  300.900,    8.587,   34.127,2,   34.127,2,   87.600,1,   90.790,2,   37.830,2,   28.770,2,    0.000,2,    2.242,2,    2.059,2,    1.009,2, -999.000,9, -999.000,9, -999.000,9
           NA,    P03E,     30,   1,-999.0,     -99,  2,20051103,1933,  29.5375, -123.2468,  4259,  400.100,    7.122,   34.116,2,   34.104,2,   71.560,1,   73.830,2,   52.160,2,   33.180,2,    0.000,2,    2.518,2,    1.390,2,    0.643,2, -999.000,9, -999.000,9, -999.000,9
           NA,    P03E,     30,   1,-999.0,     -99,  2,20051103,1933,  29.5375, -123.2468,  4259,  501.300,    6.208,   34.172,2,   34.172,6,   36.110,1,   36.770,2,   68.400,2,   37.850,2,    0.000,2,    2.896,2,    0.565,2,    0.267,2, -999.000,9, -999.000,9, -999.000,9
           NA,    P03E,     30,   1,-999.0,     -99,  2,20051103,1933,  29.5375, -123.2468,  4259,  603.600,    5.402,   34.231,2,   34.233,2,   20.730,1,   21.130,2,   83.850,2,   40.830,2,    0.010,2,    3.091,2,    0.159,2,    0.076,2, -999.000,9, -999.000,9, -999.000,9
           NA,    P03E,     30,   1,-999.0,     -99,  2,20051103,1933,  29.5375, -123.2468,  4259,  702.800,    4.994,   34.323,2,   34.323,2,   13.630,1,   14.090,2,   93.660,2,   42.240,2,    0.000,2,    3.192,2,    0.047,2,    0.017,2, -999.000,9, -999.000,9, -999.000,9
           NA,    P03E,     30,   1,-999.0,     -99,  2,20051103,1933,  29.5375, -123.2468,  4259,  800.900,    4.738,   34.400,2,   34.400,2,   13.360,1,   13.810,2,   99.980,2,   42.980,2,    0.000,2,    3.234,2,    0.012,6,    0.008,6, -999.000,9, -999.000,9, -999.000,9
           NA,    P03E,     30,   1,-999.0,     -99,  2,20051103,1933,  29.5375, -123.2468,  4259,  900.400,    4.398,   34.448,2,   34.447,2,   17.340,1,   20.610,2,  107.160,2,   43.280,2,    0.000,2,    3.231,2,    0.002,2,    0.004,2, -999.000,9, -999.000,9, -999.000,9
           NA,    P03E,     30,   1,-999.0,     -99,  2,20051103,1933,  29.5375, -123.2468,  4259, 1003.300,    4.137,   34.477,2,   34.476,6,   21.540,1,   22.240,2,  112.730,2,   43.500,2,    0.000,2,    3.234,2,    0.005,2,    0.001,2, -999.000,9, -999.000,9, -999.000,9
           NA,    P03E,     30,   1,-999.0,     -99,  2,20051103,1933,  29.5375, -123.2468,  4259, 1201.700,    3.615,   34.519,2,   34.519,2,   31.490,1,   32.410,2,  124.340,2,   43.370,2,    0.000,2,    3.202,2,    0.003,2,    0.003,2, -999.000,9, -999.000,9, -999.000,9
           NA,    P03E,     30,   1,-999.0,     -99,  2,20051103,1933,  29.5375, -123.2468,  4259, 1400.300,    3.140,   34.552,2,   34.552,2,   39.970,1,   41.250,2,  136.270,2,   43.080,2,    0.000,2,    3.159,2, -999.000,4,    0.005,2, -999.000,9, -999.000,9, -999.000,9
           NA,    P03E,     30,   1,-999.0,     -99,  2,20051103,1933,  29.5375, -123.2468,  4259, 1600.300,    2.787,   34.577,2,   34.577,2,   49.860,1,   51.790,2,  145.120,2,   42.450,2,    0.000,2,    3.106,2,    0.009,2,    0.001,2, -999.000,9, -999.000,9, -999.000,9
           NA,    P03E,     30,   1,-999.0,     -99,  2,20051103,1933,  29.5375, -123.2468,  4259, 1802.900,    2.434,   34.598,2,   34.598,6,   61.980,1,   64.050,2,  153.150,2,   41.790,2,    0.000,2,    3.022,2,    0.000,2,    0.000,2, -999.000,9, -999.000,9, -999.000,9
           NA,    P03E,     30,   1,-999.0,     -99,  2,20051103,1933,  29.5375, -123.2468,  4259, 2000.700,    2.209,   34.615,2,   34.615,2,   71.190,1,   73.860,2,  158.490,2,   41.210,2,    0.000,2,    2.965,2,    0.000,2,    0.000,2, -999.000,9, -999.000,9, -999.000,9
           NA,    P03E,     30,   1,-999.0,     -99,  2,20051103,1933,  29.5375, -123.2468,  4259, 2200.700,    2.015,   34.636,2,   34.635,2,   84.340,1,   87.660,2,  160.670,2,   40.450,2,    0.000,2,    2.898,2, -999.000,9, -999.000,9, -999.000,9, -999.000,9, -999.000,9
           NA,    P03E,     30,   1,-999.0,     -99,  2,20051103,1933,  29.5375, -123.2468,  4259, 2400.800,    1.901,   34.645,2,   34.645,2,   91.730,1,   95.310,2,  162.370,2,   39.880,2,    0.000,2,    2.848,2,    0.000,2,    0.002,2, -999.000,9, -999.000,9, -999.000,9
           NA,    P03E,     30,   1,-999.0,     -99,  3,20051103,1933,  29.5375, -123.2468,  4259, 2598.900,    1.816,   34.653,2, -999.000,4,   98.010,1,  101.980,2,  163.820,2,   39.570,2,    0.000,2,    2.809,2, -999.000,9, -999.000,9, -999.000,9, -999.000,9, -999.000,9
           NA,    P03E,     30,   1,-999.0,     -99,  2,20051103,1933,  29.5375, -123.2468,  4259, 2799.800,    1.726,   34.661,2,   34.660,2,  105.140,1,  109.360,2,  165.000,2,   39.090,2,    0.000,2,    2.773,2, -999.000,9, -999.000,9, -999.000,9, -999.000,9, -999.000,9
           NA,    P03E,     30,   1,-999.0,     -99,  2,20051103,1933,  29.5375, -123.2468,  4259, 3001.400,    1.639,   34.666,2,   34.666,2,  111.380,1,  115.750,2,  166.790,2,   38.600,2,    0.000,2,    2.733,2,    0.007,2,    0.006,2, -999.000,9, -999.000,9, -999.000,9
           NA,    P03E,     30,   1,-999.0,     -99,  2,20051103,1933,  29.5375, -123.2468,  4259, 3251.600,    1.589,   34.671,2,   34.671,2,  117.180,1,  121.520,2,  167.730,2,   38.240,2,    0.000,2,    2.694,2, -999.000,9, -999.000,9, -999.000,9, -999.000,9, -999.000,9
           NA,    P03E,     30,   1,-999.0,     -99,  2,20051103,1933,  29.5375, -123.2468,  4259, 3501.200,    1.546,   34.676,2,   34.676,6,  123.190,1,  127.630,2,  167.270,2,   37.940,2,    0.000,2,    2.665,2, -999.000,9, -999.000,9, -999.000,9, -999.000,9, -999.000,9
           NA,    P03E,     30,   1,-999.0,     -99,  2,20051103,1933,  29.5375, -123.2468,  4259, 3748.600,    1.527,   34.680,2,   34.679,2,  127.940,1,  132.100,2,  167.610,2,   37.590,2,    0.000,2,    2.646,2,    0.009,2,    0.004,2, -999.000,9, -999.000,9, -999.000,9
           NA,    P03E,     30,   1,-999.0,     -99,  2,20051103,1933,  29.5375, -123.2468,  4259, 4000.200,    1.530,   34.682,2,   34.682,2,  131.450,1,  135.180,2,  166.720,2,   37.430,2,    0.000,2,    2.625,2, -999.000,9, -999.000,9, -999.000,9, -999.000,9, -999.000,9
           NA,    P03E,     30,   1,-999.0,     -99,  2,20051103,1933,  29.5375, -123.2468,  4259, 4248.100,    1.547,   34.683,2,   34.683,2,  133.800,1,  136.790,2,  166.090,2,   37.310,2,    0.000,2,    2.616,2, -999.000,9, -999.000,9, -999.000,9, -999.000,9, -999.000,9
           NA,    P03E,     30,   1,-999.0,     -99,  2,20051103,1933,  29.5375, -123.2468,  4259, 4325.500,    1.550,   34.684,2,   34.684,6,  134.920,1,  137.560,2,  166.030,2,   37.290,2,    0.000,2,    2.615,2,    0.007,2,    0.003,2, -999.000,9, -999.000,9, -999.000,9
           NA,    P03E,     28,   1,-999.0,     -99,  2,20051103,1319,  30.0147, -122.5888,  4318,   10.100,   19.216,   33.545,2,   33.545,2,  226.520,1,  234.680,2,    1.880,2,    0.020,2,    0.000,2,    0.266,2,    2.234,2,    1.331,2, -999.000,9, 1993.600,2, 2236.700,2
           NA,    P03E,     28,   1,-999.0,     -99,  2,20051103,1319,  30.0147, -122.5888,  4318,   19.900,   19.225,   33.544,2,   33.546,2,  226.370,1,  234.550,2,    1.870,2,    0.040,2,    0.000,2,    0.275,2, -999.000,9, -999.000,9, -999.000,9, -999.000,9, -999.000,9
           NA,    P03E,     28,   1,-999.0,     -99,  2,20051103,1319,  30.0147, -122.5888,  4318,   49.800,   19.256,   33.559,2,   33.560,2,  226.030,1,  234.620,2,    1.830,2,    0.030,2,    0.000,2,    0.270,2,    2.234,2,    1.326,2, -999.000,9, 1994.300,6, 2237.300,2
           NA,    P03E,     28,   1,-999.0,     -99,  2,20051103,1319,  30.0147, -122.5888,  4318,   99.000,   16.211,   33.694,2,   33.695,2,  238.550,1,  246.670,2,    2.120,2,    0.020,2,    0.010,2,    0.257,2,    2.676,2,    1.551,2, -999.000,9, 2004.900,2, 2235.300,6
           NA,    P03E,     28,   1,-999.0,     -99,  2,20051103,1319,  30.0147, -122.5888,  4318,  150.500,   11.275,   33.316,2,   33.322,2,  199.410,1,  204.660,2,    9.870,2,   11.720,2,    0.010,2,    1.078,2,    3.220,2,    1.804,2, -999.000,9, 2073.400,2, 2210.200,2
           NA,    P03E,     28,   1,-999.0,     -99,  2,20051103,1319,  30.0147, -122.5888,  4318,  200.200,    9.362,   33.725,2,   33.720,2,  156.230,1,  161.150,2,   21.600,2,   21.100,2,    0.010,2,    1.642,2,    3.182,2,    1.717,2, -999.000,9, 2141.100,2, 2234.900,2
           NA,    P03E,     28,   1,-999.0,     -99,  2,20051103,1319,  30.0147, -122.5888,  4318,  249.900,    8.740,   33.964,2,   33.965,2,  133.220,1,  136.510,2,   29.660,2,   24.930,2,    0.000,2,    1.868,2,    2.857,6,    1.479,6, -999.000,9, 2173.400,2, 2256.300,2
           NA,    P03E,     28,   1,-999.0,     -99,  2,20051103,1319,  30.0147, -122.5888,  4318,  299.600,    8.004,   34.052,2,   34.052,2,  103.280,1,  106.590,2,   39.250,2,   29.120,2,    0.010,2,    2.169,2,    2.329,2,    1.147,2, -999.000,9, 2208.000,2, 2268.800,2
           NA,    P03E,     28,   1,-999.0,     -99,  2,20051103,1319,  30.0147, -122.5888,  4318,  399.100,    6.843,   34.119,2,   34.119,2,   55.640,1,   57.070,2,   56.480,2,   35.140,2,    0.000,2,    2.669,2,    1.164,2,    0.589,2, -999.000,9, 2262.700,2, 2285.200,2
           NA,    P03E,     28,   1,-999.0,     -99,  2,20051103,1319,  30.0147, -122.5888,  4318,  500.100,    6.053,   34.189,2,   34.188,6,   29.790,1,   30.820,2,   71.170,2,   38.490,2,    0.000,2,    2.954,2,    0.445,2,    0.238,2, -999.000,9, 2296.800,2, 2303.300,2
           NA,    P03E,     28,   1,-999.0,     -99,  2,20051103,1319,  30.0147, -122.5888,  4318,  599.800,    5.466,   34.257,2,   34.258,2,   16.200,1,   16.620,2,   84.290,2,   40.850,2,    0.000,2,    3.128,2,    0.139,2,    0.058,2, -999.000,9, 2321.000,2, 2320.400,2
           NA,    P03E,     28,   1,-999.0,     -99,  2,20051103,1319,  30.0147, -122.5888,  4318,  699.300,    5.125,   34.333,2,   34.333,2,   11.060,1,   11.090,2,   92.340,2,   41.980,2,    0.000,2,    3.208,2, -999.000,4, -999.000,4, -999.000,9, 2334.200,6, 2335.000,2
           NA,    P03E,     28,   1,-999.0,     -99,  2,20051103,1319,  30.0147, -122.5888,  4318,  801.200,    4.852,   34.419,2,   34.421,2,   11.230,1,   11.260,2,   98.790,2,   42.690,2,    0.000,2,    3.260,2,    0.017,6,    0.012,6, -999.000,9, 2343.600,2, 2350.500,6
           NA,    P03E,     28,   1,-999.0,     -99,  2,20051103,1319,  30.0147, -122.5888,  4318,  900.700,    4.525,   34.463,2,   34.463,2,   14.730,1,   14.820,2,  105.170,2,   43.250,2,    0.000,2,    3.260,2,    0.005,2,    0.008,2, -999.000,9, 2352.400,2, 2358.300,2
           NA,    P03E,     28,   1,-999.0,     -99,  2,20051103,1319,  30.0147, -122.5888,  4318, 1001.300,    4.135,   34.490,2,   34.490,6,   19.910,1,   20.510,2,  113.680,2,   43.500,2,    0.000,2,    3.258,2,    0.011,2,    0.009,2, -999.000,9, 2359.200,2, 2367.700,2
           NA,    P03E,     28,   1,-999.0,     -99,  2,20051103,1319,  30.0147, -122.5888,  4318, 1201.600,    3.413,   34.523,2,   34.523,2,   33.070,1,   33.870,2,  129.890,2,   43.260,2,    0.000,2,    3.187,2,    0.018,2,    0.015,2, -999.000,9, 2367.800,2, 2383.400,2
           NA,    P03E,     28,   1,-999.0,     -99,  2,20051103,1319,  30.0147, -122.5888,  4318, 1400.400,    2.998,   34.562,2,   34.561,2,   42.830,1,   44.190,2,  140.310,2,   42.870,2,    0.000,2,    3.136,2,    0.011,2,    0.011,2, -999.000,9, 2372.300,2, 2395.800,2
           NA,    P03E,     28,   1,-999.0,     -99,  2,20051103,1319,  30.0147, -122.5888,  4318, 1601.600,    2.603,   34.579,2,   34.580,2,   52.780,1,   54.470,2,  150.590,2,   42.250,2,    0.000,2,    3.073,2,    0.005,2,    0.007,2, -999.000,9, 2375.700,2, 2406.200,2
           NA,    P03E,     28,   1,-999.0,     -99,  2,20051103,1319,  30.0147, -122.5888,  4318, 1800.500,    2.316,   34.604,2,   34.604,2,   64.790,1,   66.980,2,  157.220,2,   41.620,2,    0.000,2,    3.002,2,    0.009,2,    0.009,2, -999.000,9, 2375.900,2, 2413.100,2
           NA,    P03E,     28,   1,-999.0,     -99,  2,20051103,1319,  30.0147, -122.5888,  4318, 2001.100,    2.093,   34.625,2,   34.625,2,   77.350,1,   80.230,2,  160.570,2,   40.790,2,    0.000,2,    2.928,2,    0.000,2,    0.003,2, -999.000,9, 2369.400,2, 2421.300,2
           NA,    P03E,     28,   1,-999.0,     -99,  2,20051103,1319,  30.0147, -122.5888,  4318, 2199.600,    1.967,   34.639,2,   34.639,6,   86.960,1,   90.250,2,  161.700,2,   40.190,2,    0.010,2,    2.881,2,    0.000,2,    0.000,2, -999.000,9, 2366.700,2, 2421.700,2
           NA,    P03E,     28,   1,-999.0,     -99,  2,20051103,1319,  30.0147, -122.5888,  4318, 2401.900,    1.863,   34.649,2,   34.649,2,   94.600,1,   98.100,2,  162.740,2,   39.810,2,    0.010,2,    2.827,2,    0.001,2,    0.001,2, -999.000,9, 2362.900,6, 2422.500,2
           NA,    P03E,     28,   1,-999.0,     -99,  2,20051103,1319,  30.0147, -122.5888,  4318, 2601.100,    1.776,   34.657,2,   34.657,2,  101.160,1,  104.980,2,  164.110,2,   39.330,2,    0.000,2,    2.792,2,    0.002,2,    0.000,2, -999.000,9, 2359.700,2, 2426.000,6
           NA,    P03E,     28,   1,-999.0,     -99,  2,20051103,1319,  30.0147, -122.5888,  4318, 2798.800,    1.711,   34.662,2,   34.662,2,  106.460,1,  110.450,2,  165.250,2,   38.970,2,    0.000,2,    2.759,2, -999.000,9, -999.000,9, -999.000,9, 2357.400,2, 2427.600,2
           NA,    P03E,     28,   1,-999.0,     -99,  2,20051103,1319,  30.0147, -122.5888,  4318, 3000.300,    1.635,   34.667,2,   34.667,2,  112.000,1,  116.130,2,  167.100,2,   38.580,2,    0.000,2,    2.724,2, -999.000,9, -999.000,9, -999.000,9, 2352.300,2, 2426.900,2
           NA,    P03E,     28,   1,-999.0,     -99,  2,20051103,1319,  30.0147, -122.5888,  4318, 3249.200,    1.584,   34.672,2,   34.672,6,  117.820,1,  121.990,2,  167.230,2,   38.100,2,    0.000,2,    2.692,2, -999.000,9, -999.000,9, -999.000,9, 2351.400,2, 2428.800,2
           NA,    P03E,     28,   1,-999.0,     -99,  2,20051103,1319,  30.0147, -122.5888,  4318, 3499.500,    1.545,   34.676,2,   34.676,2,  123.430,1,  127.590,2,  167.820,2,   37.580,2,    0.010,2,    2.672,2,    0.005,2,    0.010,2, -999.000,9, 2350.300,2, 2428.700,2
           NA,    P03E,     28,   1,-999.0,     -99,  2,20051103,1319,  30.0147, -122.5888,  4318, 3752.100,    1.535,   34.679,2,   34.680,2,  127.390,1,  131.220,2,  167.820,2,   37.660,2,    0.000,2,    2.649,2, -999.000,9, -999.000,9, -999.000,9, 2346.900,2, 2426.900,2
           NA,    P03E,     28,   1,-999.0,     -99,  2,20051103,1319,  30.0147, -122.5888,  4318, 3999.900,    1.536,   34.682,2,   34.682,6,  130.610,1,  134.090,2,  167.430,2,   37.410,2,    0.000,2,    2.638,2, -999.000,9, -999.000,9, -999.000,9, 2344.900,2, 2426.700,2
           NA,    P03E,     28,   1,-999.0,     -99,  2,20051103,1319,  30.0147, -122.5888,  4318, 4250.300,    1.552,   34.683,2,   34.683,2,  132.940,1,  135.870,2,  167.000,2,   37.280,2,    0.000,2,    2.625,2, -999.000,9, -999.000,9, -999.000,9, 2344.900,6, 2428.600,2
           NA,    P03E,     28,   1,-999.0,     -99,  2,20051103,1319,  30.0147, -122.5888,  4318, 4358.400,    1.558,   34.683,2,   34.683,6,  134.310,1,  136.680,2,  166.080,2,   37.190,2,    0.000,2,    2.612,2,    0.009,2,    0.011,2, -999.000,9, 2343.400,2, 2428.600,2