BOTTLE,20211903JOAExport
EXPOCODE,SECT_ID,STNNBR,CASTNO,SAMPNO,BTLNBR,BTLNBR_FLAG_W,DATE,TIME,LATITUDE,LONGITUDE,DEPTH,CTDPRS,CTDTMP,CTDSAL,CTDSAL_FLAG_W,SALNTY,SALNTY_FLAG_W,CTDOXY,CTDOXY_FLAG_W,OXYGEN,OXYGEN_FLAG_W,SILCAT,SILCAT_FLAG_W,NITRAT,NITRAT_FLAG_W,NITRIT,NITRIT_FLAG_W,PHSPHT,PHSPHT_FLAG_W,CFC-11,CFC-11_FLAG_W,CFC-12,CFC-12_FLAG_W,SF6,SF6_FLAG_W,TCARBN,TCARBN_FLAG_W,ALKALI,ALKALI_FLAG_W
,,,,,,,,,,,,DB,ITS-90,PSS-78,,PSS-78,,UMOL/KG,,UMOL/KG,,UMOL/KG,,UMOL/KG,,UMOL/KG,,UMOL/KG,,PMOL/KG,,PMOL/KG,,FMOL/KG,,UMOL/KG,,UMOL/KG
           NA,    P03E,     48,   1,-999.0,     -99,  2,20051106,1143,  24.7175, -129.4235,  4483,    9.200,   21.669,   34.729,2,   34.729,2,  211.960,1,  222.050,2,    1.350,2,    0.040,2,    0.000,2,    0.181,2,    1.910,2,    1.178,2, -999.000,9, -999.000,9, -999.000,9
           NA,    P03E,     48,   1,-999.0,     -99,  2,20051106,1143,  24.7175, -129.4235,  4483,   49.600,   21.676,   34.728,2,   34.729,2,  212.160,1,  221.920,2,    1.330,2,    0.040,2,    0.000,2,    0.185,2,    1.916,2,    1.178,2, -999.000,9, -999.000,9, -999.000,9
           NA,    P03E,     48,   1,-999.0,     -99,  2,20051106,1143,  24.7175, -129.4235,  4483,  100.200,   19.804,   34.589,2,   34.592,2,  216.690,1,  226.410,2,    1.670,2,    0.030,2,    0.000,2,    0.187,2,    2.185,2,    1.321,2, -999.000,9, -999.000,9, -999.000,9
           NA,    P03E,     48,   1,-999.0,     -99,  2,20051106,1143,  24.7175, -129.4235,  4483,  149.300,   17.326,   34.420,2,   34.388,2,  208.310,1,  217.930,2,    2.630,2,    1.410,2,    0.070,2,    0.284,2,    2.474,2,    1.437,2, -999.000,9, -999.000,9, -999.000,9
           NA,    P03E,     48,   1,-999.0,     -99,  2,20051106,1143,  24.7175, -129.4235,  4483,  200.300,   11.007,   33.701,2,   33.706,2,  193.190,1,  200.910,2,   11.600,2,   12.370,2,    0.000,2,    1.038,2,    3.187,2,    1.702,2, -999.000,9, -999.000,9, -999.000,9
           NA,    P03E,     48,   1,-999.0,     -99,  2,20051106,1143,  24.7175, -129.4235,  4483,  249.400,    9.736,   33.918,2,   33.934,2,  179.500,1,  186.310,2,   19.130,2,   17.600,2,    0.000,2,    1.335,2,    3.178,6,    1.647,6, -999.000,9, -999.000,9, -999.000,9
           NA,    P03E,     48,   1,-999.0,     -99,  2,20051106,1143,  24.7175, -129.4235,  4483,  299.700,    8.661,   34.061,2,   34.062,2,  142.880,1,  147.930,2,   31.060,2,   24.000,2,    0.000,2,    1.771,2,    2.676,2,    1.315,2, -999.000,9, -999.000,9, -999.000,9
           NA,    P03E,     48,   1,-999.0,     -99,  2,20051106,1143,  24.7175, -129.4235,  4483,  398.900,    7.151,   34.119,2,   34.118,2,   71.800,1,   76.490,2,   51.580,2,   32.790,2,    0.000,2,    2.492,2,    1.271,2,    0.620,2, -999.000,9, -999.000,9, -999.000,9
           NA,    P03E,     48,   1,-999.0,     -99,  2,20051106,1143,  24.7175, -129.4235,  4483,  500.300,    6.506,   34.276,2,   34.278,6,   21.760,1,   22.240,2,   67.790,2,   37.760,2,    0.000,2,    2.984,2,    0.220,2,    0.108,2, -999.000,9, -999.000,9, -999.000,9
           NA,    P03E,     48,   1,-999.0,     -99,  2,20051106,1143,  24.7175, -129.4235,  4483,  600.500,    6.026,   34.372,2,   34.373,2,    9.720,1,   10.090,2,   77.770,2,   40.010,2,    0.000,2,    3.153,2,    0.025,2,    0.026,2, -999.000,9, -999.000,9, -999.000,9
           NA,    P03E,     48,   1,-999.0,     -99,  2,20051106,1143,  24.7175, -129.4235,  4483,  699.800,    5.350,   34.405,2,   34.405,2,   12.970,1,   13.520,2,   87.440,2,   41.890,2,    0.000,2,    3.191,2,    0.000,2,    0.013,2, -999.000,9, -999.000,9, -999.000,9
           NA,    P03E,     48,   1,-999.0,     -99,  2,20051106,1143,  24.7175, -129.4235,  4483,  799.500,    4.950,   34.446,2,   34.446,2,   16.260,1,   17.050,2,   94.400,2,   42.870,2,    0.000,2,    3.213,2,    0.000,6,    0.004,6, -999.000,9, -999.000,9, -999.000,9
           NA,    P03E,     48,   1,-999.0,     -99,  2,20051106,1143,  24.7175, -129.4235,  4483,  900.300,    4.587,   34.474,2,   34.474,2,   20.840,1,   21.910,2,  101.420,2,   43.330,2,    0.000,2,    3.224,2,    0.001,2,    0.004,2, -999.000,9, -999.000,9, -999.000,9
           NA,    P03E,     48,   1,-999.0,     -99,  2,20051106,1143,  24.7175, -129.4235,  4483, 1000.900,    4.265,   34.495,2,   34.495,6,   25.160,1,   26.220,2,  107.960,2,   43.420,2,    0.000,2,    3.221,2,    0.000,2,    0.006,2, -999.000,9, -999.000,9, -999.000,9
           NA,    P03E,     48,   1,-999.0,     -99,  2,20051106,1143,  24.7175, -129.4235,  4483, 1200.100,    3.675,   34.529,2,   34.529,2,   33.920,1,   35.460,2,  121.110,2,   43.330,2,    0.000,2,    3.190,2,    0.000,2,    0.006,2, -999.000,9, -999.000,9, -999.000,9
           NA,    P03E,     48,   1,-999.0,     -99,  2,20051106,1143,  24.7175, -129.4235,  4483, 1400.800,    3.198,   34.561,2,   34.561,2,   42.220,1,   44.190,2,  132.700,2,   43.090,2,    0.000,2,    3.154,2,    0.000,2,    0.005,2, -999.000,9, -999.000,9, -999.000,9
           NA,    P03E,     48,   1,-999.0,     -99,  2,20051106,1143,  24.7175, -129.4235,  4483, 1601.800,    2.792,   34.586,2,   34.587,2,   53.220,1,   55.780,2,  142.620,2,   42.470,2,    0.000,2,    3.086,2,    0.000,2,    0.004,2, -999.000,9, -999.000,9, -999.000,9
           NA,    P03E,     48,   1,-999.0,     -99,  2,20051106,1143,  24.7175, -129.4235,  4483, 1800.100,    2.454,   34.609,2,   34.609,2,   65.270,1,   68.300,2,  149.970,2,   41.670,2,    0.000,2,    3.012,2,    0.000,2,    0.001,2, -999.000,9, -999.000,9, -999.000,9
           NA,    P03E,     48,   1,-999.0,     -99,  2,20051106,1143,  24.7175, -129.4235,  4483, 1999.900,    2.188,   34.626,2,   34.626,6,   78.160,1,   82.000,2,  154.480,2,   40.900,2,    0.000,2,    2.922,2,    0.000,2,    0.000,2, -999.000,9, -999.000,9, -999.000,9
           NA,    P03E,     48,   1,-999.0,     -99,  2,20051106,1143,  24.7175, -129.4235,  4483, 2201.800,    2.013,   34.638,2,   34.638,2,   87.040,1,   91.420,2,  157.720,2,   40.160,2,    0.000,2,    2.861,2, -999.000,9, -999.000,9, -999.000,9, -999.000,9, -999.000,9
           NA,    P03E,     48,   1,-999.0,     -99,  2,20051106,1143,  24.7175, -129.4235,  4483, 2401.200,    1.869,   34.647,2,   34.647,2,   93.490,1,   98.230,2,  162.020,2,   39.770,2,    0.000,2,    2.824,2, -999.000,9, -999.000,9, -999.000,9, -999.000,9, -999.000,9
           NA,    P03E,     48,   1,-999.0,     -99,  2,20051106,1143,  24.7175, -129.4235,  4483, 2601.100,    1.746,   34.655,2,   34.655,2,  100.730,1,  105.860,2,  165.130,2,   39.170,2,    0.000,2,    2.788,2, -999.000,9, -999.000,9, -999.000,9, -999.000,9, -999.000,9
           NA,    P03E,     48,   1,-999.0,     -99,  2,20051106,1143,  24.7175, -129.4235,  4483, 2800.200,    1.645,   34.662,2,   34.662,6,  107.310,1,  112.710,2,  167.320,2,   38.890,2,    0.000,2,    2.741,2, -999.000,9, -999.000,9, -999.000,9, -999.000,9, -999.000,9
           NA,    P03E,     48,   1,-999.0,     -99,  2,20051106,1143,  24.7175, -129.4235,  4483, 3001.600,    1.577,   34.668,2,   34.668,2,  113.760,1,  119.470,2,  167.740,2,   38.340,2,    0.000,2,    2.707,2, -999.000,9, -999.000,9, -999.000,9, -999.000,9, -999.000,9
           NA,    P03E,     48,   1,-999.0,     -99,  2,20051106,1143,  24.7175, -129.4235,  4483, 3251.400,    1.518,   34.675,2,   34.675,2,  122.110,1,  128.150,2,  166.510,2,   37.900,2,    0.000,2,    2.659,2, -999.000,9, -999.000,9, -999.000,9, -999.000,9, -999.000,9
           NA,    P03E,     48,   1,-999.0,     -99,  2,20051106,1143,  24.7175, -129.4235,  4483, 3501.000,    1.492,   34.680,2,   34.680,2,  128.970,1,  135.040,2,  164.180,2,   37.470,2,    0.000,2,    2.621,2, -999.000,9, -999.000,9, -999.000,9, -999.000,9, -999.000,9
           NA,    P03E,     48,   1,-999.0,     -99,  2,20051106,1143,  24.7175, -129.4235,  4483, 3751.200,    1.491,   34.682,2,   34.683,6,  133.120,1,  139.150,2,  163.000,2,   37.150,2,    0.000,2,    2.601,2, -999.000,9, -999.000,9, -999.000,9, -999.000,9, -999.000,9
           NA,    P03E,     48,   1,-999.0,     -99,  2,20051106,1143,  24.7175, -129.4235,  4483, 4002.900,    1.506,   34.684,2,   34.684,2,  135.580,1,  141.090,2,  161.910,2,   37.040,2,    0.000,2,    2.584,2, -999.000,9, -999.000,9, -999.000,9, -999.000,9, -999.000,9
           NA,    P03E,     48,   1,-999.0,     -99,  2,20051106,1143,  24.7175, -129.4235,  4483, 4250.300,    1.525,   34.685,2,   34.685,2,  138.050,1,  143.030,2,  160.150,2,   36.880,2,    0.000,2,    2.572,2, -999.000,9, -999.000,9, -999.000,9, -999.000,9, -999.000,9
           NA,    P03E,     48,   1,-999.0,     -99,  2,20051106,1143,  24.7175, -129.4235,  4483, 4500.100,    1.541,   34.686,2,   34.686,2,  141.440,1,  145.800,2,  157.910,2,   36.690,2,    0.000,2,    2.562,2, -999.000,9, -999.000,9, -999.000,9, -999.000,9, -999.000,9
           NA,    P03E,     48,   1,-999.0,     -99,  2,20051106,1143,  24.7175, -129.4235,  4483, 4556.300,    1.547,   34.686,2,   34.686,6,  142.100,1,  146.040,2,  157.770,2,   36.640,2,    0.000,2,    2.561,2, -999.000,9, -999.000,9, -999.000,9, -999.000,9, -999.000,9
           NA,    P03E,     48,   1,-999.0,     -99,  2,20051106,1143,  24.7175, -129.4235,  4483, 4556.400,    1.547,   34.686,2,   34.687,2,  141.970,1,  146.010,2,  157.610,2,   36.650,2,    0.000,2,    2.557,2, -999.000,9, -999.000,9, -999.000,9, -999.000,9, -999.000,9
           NA,    P03E,     46,   1,-999.0,     -99,  2,20051106,0515,  25.2143, -128.8245,  4674,   10.500,   21.106,   34.435,2,   34.436,2,  215.850,1,  225.760,2,    1.500,2,    0.050,2,    0.000,2,    0.205,2,    2.000,2,    1.232,2, -999.000,9, 2018.100,2, 2293.000,2
           NA,    P03E,     46,   1,-999.0,     -99,  2,20051106,0515,  25.2143, -128.8245,  4674,   50.200,   21.236,   34.505,2,   34.492,2,  215.140,1,  226.530,2,    1.460,2,    0.050,2,    0.010,2,    0.200,2,    2.013,2,    1.244,2, -999.000,9, 2016.600,6, 2292.300,2
           NA,    P03E,     46,   1,-999.0,     -99,  2,20051106,0515,  25.2143, -128.8245,  4674,   99.500,   18.690,   34.381,2,   34.373,2,  221.400,1,  231.400,2,    1.880,2,    0.060,2,    0.010,2,    0.194,2,    2.347,2,    1.421,2, -999.000,9, 2022.200,2, 2275.900,6
           NA,    P03E,     46,   1,-999.0,     -99,  2,20051106,0515,  25.2143, -128.8245,  4674,  150.300,   14.896,   33.937,2,   33.936,2,  209.550,1,  218.670,2,    3.980,2,    3.400,2,    0.030,2,    0.458,2,    2.791,2,    1.575,2, -999.000,9, 2037.900,2, 2241.900,2
           NA,    P03E,     46,   1,-999.0,     -99,  2,20051106,0515,  25.2143, -128.8245,  4674,  199.000,   11.575,   33.788,2,   33.784,2,  204.900,1,  212.850,2,    9.580,2,   10.210,2,    0.010,2,    0.860,2,    3.227,2,    1.726,2, -999.000,9, 2070.500,2, 2232.100,2
           NA,    P03E,     46,   1,-999.0,     -99,  2,20051106,0515,  25.2143, -128.8245,  4674,  249.200,    9.688,   33.962,2,   33.964,2,  190.210,1,  197.550,2,   18.690,2,   16.790,2,    0.010,2,    1.257,2,    3.275,6,    1.696,6, -999.000,9, 2113.600,2, 2251.500,2
           NA,    P03E,     46,   1,-999.0,     -99,  2,20051106,0515,  25.2143, -128.8245,  4674,  301.500,    8.590,   34.042,2,   34.042,2,  155.840,1,  161.360,2,   29.900,2,   23.010,2,    0.000,2,    1.665,2,    2.890,2,    1.417,2, -999.000,9, 2159.200,2, 2259.300,2
           NA,    P03E,     46,   1,-999.0,     -99,  2,20051106,0515,  25.2143, -128.8245,  4674,  401.300,    6.815,   34.035,2,   34.036,2,   97.430,1,  101.010,2,   51.080,2,   31.900,2,    0.010,2,    2.335,2,    1.774,2,    0.847,2, -999.000,9, 2228.300,2, 2279.000,2
           NA,    P03E,     46,   1,-999.0,     -99,  2,20051106,0515,  25.2143, -128.8245,  4674,  500.800,    5.810,   34.115,2,   34.116,6,   48.650,1,   50.290,2,   70.490,2,   37.720,2,    0.010,2,    2.829,2,    0.642,2,    0.307,2, -999.000,9, 2284.700,2, 2300.400,2
           NA,    P03E,     46,   1,-999.0,     -99,  2,20051106,0515,  25.2143, -128.8245,  4674,  600.100,    5.496,   34.282,2,   34.285,2,   16.540,1,   17.040,2,   83.360,2,   40.780,2,    0.000,2,    3.123,2,    0.067,2,    0.025,2, -999.000,9, 2321.700,2, 2321.600,2
           NA,    P03E,     46,   1,-999.0,     -99,  2,20051106,0515,  25.2143, -128.8245,  4674,  701.800,    5.172,   34.380,2,   34.380,2,   12.110,1,   12.520,2,   91.170,2,   42.040,2,    0.000,2,    3.204,2,    0.007,2,    0.002,2, -999.000,9, 2334.900,6, 2334.400,2
           NA,    P03E,     46,   1,-999.0,     -99,  2,20051106,0515,  25.2143, -128.8245,  4674,  801.400,    4.774,   34.437,2,   34.437,2,   16.230,1,   17.010,2,   98.350,2,   42.940,2,    0.010,2,    3.215,2,    0.004,6,    0.000,6, -999.000,9, 2344.400,2, 2348.500,6
           NA,    P03E,     46,   1,-999.0,     -99,  2,20051106,0515,  25.2143, -128.8245,  4674,  900.800,    4.406,   34.470,2,   34.470,2,   21.390,1,   22.160,2,  105.440,2,   43.270,2,    0.000,2,    3.216,2,    0.000,2,    0.002,2, -999.000,9, 2351.500,2, 2364.900,2
           NA,    P03E,     46,   1,-999.0,     -99,  2,20051106,0515,  25.2143, -128.8245,  4674, 1001.100,    4.112,   34.493,2,   34.493,6,   26.140,1,   27.100,2,  111.680,2,   43.380,2,    0.000,2,    3.207,2,    0.000,2,    0.001,2, -999.000,9, 2355.400,2, 2367.600,2
           NA,    P03E,     46,   1,-999.0,     -99,  2,20051106,0515,  25.2143, -128.8245,  4674, 1203.000,    3.527,   34.529,2,   34.528,2,   35.130,1,   36.600,2,  125.110,2,   43.260,2,    0.000,2,    3.176,2,    0.000,2,    0.000,2, -999.000,9, 2362.900,2, 2381.200,2
           NA,    P03E,     46,   1,-999.0,     -99,  2,20051106,0515,  25.2143, -128.8245,  4674, 1401.900,    3.110,   34.557,2,   34.557,2,   42.590,1,   44.390,2,  136.190,2,   42.850,2,    0.010,2,    3.147,2,    0.001,2,    0.002,2, -999.000,9, 2371.000,2, 2397.200,2
           NA,    P03E,     46,   1,-999.0,     -99,  2,20051106,0515,  25.2143, -128.8245,  4674, 1600.200,    2.712,   34.586,2,   34.586,2,   53.710,1,   56.420,2,  145.480,2,   42.150,2,    0.010,2,    3.083,2,    0.011,2,    0.000,2, -999.000,9, 2371.900,2, 2402.900,2
           NA,    P03E,     46,   1,-999.0,     -99,  2,20051106,0515,  25.2143, -128.8245,  4674, 1800.700,    2.411,   34.609,2,   34.610,2,   66.040,1,   69.230,2,  151.810,2,   41.400,2,    0.010,2,    2.997,2,    0.029,2,    0.000,2, -999.000,9, 2371.500,2, 2411.500,2
           NA,    P03E,     46,   1,-999.0,     -99,  2,20051106,0515,  25.2143, -128.8245,  4674, 1999.800,    2.187,   34.626,2,   34.626,6,   76.980,1,   80.970,2,  155.510,2,   40.870,2,    0.000,2,    2.915,2,    0.003,2,    0.000,2, -999.000,9, 2370.200,2, 2413.700,2
           NA,    P03E,     46,   1,-999.0,     -99,  2,20051106,0515,  25.2143, -128.8245,  4674, 2200.100,    1.980,   34.641,2,   34.641,2,   88.020,1,   92.700,2,  159.250,2,   40.070,2,    0.010,2,    2.857,2, -999.000,9, -999.000,9, -999.000,9, 2366.500,2, 2422.100,2
           NA,    P03E,     46,   1,-999.0,     -99,  2,20051106,0515,  25.2143, -128.8245,  4674, 2401.000,    1.830,   34.650,2,   34.650,2,   96.180,1,  101.210,2,  162.500,2,   39.470,2,    0.010,2,    2.805,2, -999.000,9, -999.000,9, -999.000,9, 2363.300,6, -999.000,3
           NA,    P03E,     46,   1,-999.0,     -99,  2,20051106,0515,  25.2143, -128.8245,  4674, 2599.500,    1.730,   34.657,2,   34.657,2,  102.010,1,  107.570,2,  165.070,2,   39.130,2,    0.010,2,    2.767,2, -999.000,9, -999.000,9, -999.000,9, 2359.500,2, 2432.000,2
           NA,    P03E,     46,   1,-999.0,     -99,  2,20051106,0515,  25.2143, -128.8245,  4674, 2800.800,    1.625,   34.664,2,   34.664,2,  109.080,1,  114.900,2,  167.390,2,   38.650,2,    0.000,2,    2.724,2, -999.000,9, -999.000,9, -999.000,9, 2356.300,2, 2425.300,2
           NA,    P03E,     46,   1,-999.0,     -99,  2,20051106,0515,  25.2143, -128.8245,  4674, 2999.700,    1.566,   34.669,2,   34.669,6,  114.380,1,  120.510,2,  168.510,2,   38.220,2,    0.000,2,    2.696,2, -999.000,9, -999.000,9, -999.000,9, -999.000,3, 2425.000,2
           NA,    P03E,     46,   1,-999.0,     -99,  2,20051106,0515,  25.2143, -128.8245,  4674, 3250.400,    1.507,   34.676,2,   34.676,2,  122.750,1,  129.160,2,  166.430,2,   37.720,2,    0.000,2,    2.638,2, -999.000,9, -999.000,9, -999.000,9, 2347.700,2, 2425.000,2
           NA,    P03E,     46,   1,-999.0,     -99,  2,20051106,0515,  25.2143, -128.8245,  4674, 3501.200,    1.489,   34.680,2,   34.680,2,  128.290,1,  134.840,2,  165.070,2,   37.350,2,    0.000,2,    2.615,2, -999.000,9, -999.000,9, -999.000,9, 2343.500,2, 2427.300,2
           NA,    P03E,     46,   1,-999.0,     -99,  2,20051106,0515,  25.2143, -128.8245,  4674, 3751.300,    1.492,   34.682,2,   34.682,2,  132.210,1,  138.570,2,  163.580,2,   37.150,2,    0.010,2,    2.600,2, -999.000,9, -999.000,9, -999.000,9, 2340.500,2, 2424.400,2
           NA,    P03E,     46,   1,-999.0,     -99,  2,20051106,0515,  25.2143, -128.8245,  4674, 3999.500,    1.505,   34.684,2,   34.684,6,  134.890,1,  140.990,2,  162.140,2,   36.930,2,    0.010,2,    2.576,2, -999.000,9, -999.000,9, -999.000,9, 2339.700,2, 2424.400,2
           NA,    P03E,     46,   1,-999.0,     -99,  2,20051106,0515,  25.2143, -128.8245,  4674, 4252.000,    1.527,   34.685,2,   34.684,2,  136.890,1,  142.610,2,  161.250,2,   36.860,2,    0.010,2,    2.579,2, -999.000,9, -999.000,9, -999.000,9, 2338.700,2, 2428.800,2
           NA,    P03E,     46,   1,-999.0,     -99,  2,20051106,0515,  25.2143, -128.8245,  4674, 4500.000,    1.551,   34.685,2,   34.685,2,  138.670,1,  143.830,2,  159.840,2,   36.690,2,    0.000,2,    2.570,2, -999.000,9, -999.000,9, -999.000,9, 2336.100,2, 2427.000,6
           NA,    P03E,     46,   1,-999.0,     -99,  2,20051106,0515,  25.2143, -128.8245,  4674, 4748.700,    1.571,   34.686,2,   34.686,2,  141.460,1,  145.800,2,  158.400,2,   36.610,2,    0.010,2,    2.556,2, -999.000,9, -999.000,9, -999.000,9, 2337.300,2, 2426.100,2
           NA,    P03E,     46,   1,-999.0,     -99,  2,20051106,0515,  25.2143, -128.8245,  4674, 4805.500,    1.578,   34.686,2,   34.686,6,  141.910,1,  145.710,2,  158.200,2,   36.660,2,    0.000,2,    2.562,2, -999.000,9, -999.000,9, -999.000,9, 2334.400,2, 2425.800,2