BOTTLE,20211903JOAExport
EXPOCODE,SECT_ID,STNNBR,CASTNO,SAMPNO,BTLNBR,BTLNBR_FLAG_W,DATE,TIME,LATITUDE,LONGITUDE,DEPTH,CTDPRS,CTDTMP,CTDSAL,CTDSAL_FLAG_W,SALNTY,SALNTY_FLAG_W,CTDOXY,CTDOXY_FLAG_W,OXYGEN,OXYGEN_FLAG_W,SILCAT,SILCAT_FLAG_W,NITRAT,NITRAT_FLAG_W,NITRIT,NITRIT_FLAG_W,PHSPHT,PHSPHT_FLAG_W,CFC-11,CFC-11_FLAG_W,CFC-12,CFC-12_FLAG_W,SF6,SF6_FLAG_W,TCARBN,TCARBN_FLAG_W,ALKALI,ALKALI_FLAG_W
,,,,,,,,,,,,DB,ITS-90,PSS-78,,PSS-78,,UMOL/KG,,UMOL/KG,,UMOL/KG,,UMOL/KG,,UMOL/KG,,UMOL/KG,,PMOL/KG,,PMOL/KG,,FMOL/KG,,UMOL/KG,,UMOL/KG
           NA,    P03E,     18,   1,-999.0,     -99,  2,20051102,0957,  31.6708, -119.7193,  3744,   10.000,   17.667,   33.379,2,   33.352,2,  236.730,1,  244.910,2,    1.640,2,    0.050,2,    0.010,2,    0.251,2,    2.473,2,    1.443,2, -999.000,9, 1996.100,2, -999.000,5
           NA,    P03E,     18,   1,-999.0,     -99,  2,20051102,0957,  31.6708, -119.7193,  3744,   50.100,   13.439,   33.266,2,   33.267,2,  230.150,1,  231.010,2,    4.720,2,    5.110,2,    0.390,2,    0.712,2,    2.949,2,    1.680,2, -999.000,9, 2051.800,6, 2222.200,2
           NA,    P03E,     18,   1,-999.0,     -99,  2,20051102,0957,  31.6708, -119.7193,  3744,   99.900,   10.364,   33.813,2,   33.813,2,  117.650,1,  119.290,2,   22.730,2,   22.070,2,    0.020,2,    1.854,2,    2.817,2,    1.516,2, -999.000,9, 2168.100,2, 2249.600,6
           NA,    P03E,     18,   1,-999.0,     -99,  2,20051102,0957,  31.6708, -119.7193,  3744,  150.300,    9.985,   34.140,2,   34.139,2,   85.690,1,   87.680,2,   30.470,2,   25.670,2,    0.010,2,    2.142,2,    2.250,2,    1.169,2, -999.000,9, 2205.400,2, 2267.000,2
           NA,    P03E,     18,   1,-999.0,     -99,  2,20051102,0957,  31.6708, -119.7193,  3744,  201.400,    8.520,   34.058,2,   34.061,2,  100.940,1,  101.960,2,   36.190,2,   28.340,2,    0.010,2,    2.146,2,    2.403,2,    1.224,2, -999.000,9, 2205.400,2, 2269.800,2
           NA,    P03E,     18,   1,-999.0,     -99,  2,20051102,0957,  31.6708, -119.7193,  3744,  253.400,    8.152,   34.113,2,   34.113,2,   81.770,1,   83.470,2,   41.610,2,   30.400,2,    0.010,2,    2.330,2,    1.981,6,    0.989,6, -999.000,9, 2228.200,2, 2271.100,2
           NA,    P03E,     18,   1,-999.0,     -99,  2,20051102,0957,  31.6708, -119.7193,  3744,  301.700,    7.590,   34.145,2,   34.145,2,   64.000,1,   64.950,2,   48.880,2,   32.690,2,    0.010,2,    2.533,2,    1.433,2,    0.721,2, -999.000,9, 2249.700,2, 2285.400,2
           NA,    P03E,     18,   1,-999.0,     -99,  2,20051102,0957,  31.6708, -119.7193,  3744,  402.500,    6.831,   34.240,2,   34.241,2,   29.350,1,   29.610,2,   62.980,2,   36.460,2,    0.000,2,    2.902,2,    0.500,2,    0.277,2, -999.000,9, 2289.600,2, 2303.500,2
           NA,    P03E,     18,   1,-999.0,     -99,  2,20051102,0957,  31.6708, -119.7193,  3744,  500.600,    6.173,   34.307,2,   34.306,6,   14.650,1,   14.640,2,   75.680,2,   39.160,2,    0.000,2,    3.097,2,    0.149,2,    0.088,2, -999.000,9, 2315.000,2, 2319.800,2
           NA,    P03E,     18,   1,-999.0,     -99,  2,20051102,0957,  31.6708, -119.7193,  3744,  601.400,    5.504,   34.354,2,   34.354,2,   10.280,1,   10.800,2,   87.290,2,   40.980,2,    0.000,2,    3.204,2,    0.064,2,    0.039,2, -999.000,9, 2331.500,2, 2336.700,2
           NA,    P03E,     18,   1,-999.0,     -99,  2,20051102,0957,  31.6708, -119.7193,  3744,  703.300,    4.997,   34.402,2,   34.401,2,   10.960,1,   11.710,2,   96.260,2,   42.380,2,    0.000,2,    3.249,2,    0.019,2,    0.011,2, -999.000,9, 2341.100,6, 2351.200,2
           NA,    P03E,     18,   1,-999.0,     -99,  2,20051102,0957,  31.6708, -119.7193,  3744,  799.700,    4.588,   34.440,2,   34.439,2,   14.140,1,   14.340,2,  105.680,2,   42.790,2,    0.010,2,    3.263,2,    0.028,2,    0.025,2, -999.000,9, 2353.500,2, 2356.900,6
           NA,    P03E,     18,   1,-999.0,     -99,  2,20051102,0957,  31.6708, -119.7193,  3744,  900.600,    4.178,   34.453,2,   34.452,2,   17.540,1,   17.760,2,  113.220,2,   43.440,2,    0.000,2,    3.259,2,    0.018,2,    0.014,2, -999.000,9, 2358.200,2, 2364.700,2
           NA,    P03E,     18,   1,-999.0,     -99,  2,20051102,0957,  31.6708, -119.7193,  3744, 1000.500,    3.912,   34.481,2,   34.481,6,   22.560,1,   22.720,2,  119.920,2,   43.420,2,    0.000,2,    3.245,2,    0.018,2,    0.017,2, -999.000,9, 2360.800,2, 2375.500,2
           NA,    P03E,     18,   1,-999.0,     -99,  2,20051102,0957,  31.6708, -119.7193,  3744, 1204.600,    3.422,   34.519,2,   34.519,2,   31.660,1,   32.180,2,  131.080,2,   43.360,2,    0.000,2,    3.201,2,    0.014,2,    0.013,2, -999.000,9, 2371.300,2, 2386.800,2
           NA,    P03E,     18,   1,-999.0,     -99,  2,20051102,0957,  31.6708, -119.7193,  3744, 1401.400,    3.032,   34.555,2,   34.555,2,   42.040,1,   43.100,2,  140.430,2,   42.880,2,    0.000,2,    3.154,2,    0.017,2,    0.020,2, -999.000,9, -999.000,4, 2399.400,2
           NA,    P03E,     18,   1,-999.0,     -99,  2,20051102,0957,  31.6708, -119.7193,  3744, 1598.800,    2.648,   34.579,2,   34.579,2,   52.660,1,   53.720,2,  149.580,2,   42.380,2,    0.000,2,    3.092,2,    0.008,2,    0.008,2, -999.000,9, 2377.000,2, 2408.600,2
           NA,    P03E,     18,   1,-999.0,     -99,  2,20051102,0957,  31.6708, -119.7193,  3744, 1800.700,    2.309,   34.603,2,   34.603,2,   64.860,1,   66.260,2,  158.140,2,   41.720,2,    0.000,2,    3.015,2,    0.003,2,    0.005,2, -999.000,9, 2375.300,2, 2420.300,2
           NA,    P03E,     18,   1,-999.0,     -99,  2,20051102,0957,  31.6708, -119.7193,  3744, 2000.400,    2.069,   34.628,2,   34.629,2,   79.800,1,   81.800,2,  161.820,2,   40.830,2,    0.000,2,    2.931,2,    0.000,2,    0.000,2, -999.000,9, 2370.600,2, 2425.000,2
           NA,    P03E,     18,   1,-999.0,     -99,  2,20051102,0957,  31.6708, -119.7193,  3744, 2200.600,    1.923,   34.642,2,   34.642,6,   89.880,1,   92.060,2,  163.310,2,   40.110,2,    0.000,2,    2.868,2,    0.003,2,    0.001,2, -999.000,9, -999.000,3, 2430.300,2
           NA,    P03E,     18,   1,-999.0,     -99,  2,20051102,0957,  31.6708, -119.7193,  3744, 2401.700,    1.819,   34.652,2,   34.652,2,   97.790,1,  100.040,2,  164.490,2,   39.610,2,    0.000,2,    2.818,2,    0.000,2,    0.000,2, -999.000,9, 2365.100,6, 2430.000,2
           NA,    P03E,     18,   1,-999.0,     -99,  3,20051102,0957,  31.6708, -119.7193,  3744, 2600.600,    1.742,   34.659,2, -999.000,4,  104.250,1,  106.740,2,  165.420,2,   39.160,2,    0.000,2,    2.778,2,    0.017,2,    0.021,2, -999.000,9, 2359.600,2, 2429.600,6
           NA,    P03E,     18,   1,-999.0,     -99,  2,20051102,0957,  31.6708, -119.7193,  3744, 2801.200,    1.690,   34.664,2,   34.664,2,  109.230,1,  111.750,2,  166.240,2,   38.890,2,    0.000,2,    2.751,2,    0.003,2,    0.003,2, -999.000,9, 2360.000,2, 2433.800,2
           NA,    P03E,     18,   1,-999.0,     -99,  2,20051102,0957,  31.6708, -119.7193,  3744, 3002.300,    1.638,   34.669,2,   34.669,2,  114.370,1,  116.870,2,  167.220,2,   38.600,2,    0.000,2,    2.724,2,    0.003,2,    0.008,2, -999.000,9, -999.000,3, 2432.000,2
           NA,    P03E,     18,   1,-999.0,     -99,  2,20051102,0957,  31.6708, -119.7193,  3744, 3251.000,    1.606,   34.672,2,   34.672,6,  118.530,1,  120.540,2,  167.770,2,   38.370,2,    0.000,2,    2.700,2,    0.007,2,    0.009,2, -999.000,9, 2351.900,2, 2435.400,2
           NA,    P03E,     18,   1,-999.0,     -99,  2,20051102,0957,  31.6708, -119.7193,  3744, 3498.900,    1.580,   34.675,2,   34.676,2,  122.420,1,  124.470,2,  168.780,2,   38.130,2,    0.000,2,    2.684,2,    0.019,2,    0.015,2, -999.000,9, 2353.600,2, 2433.800,2
           NA,    P03E,     18,   1,-999.0,     -99,  2,20051102,0957,  31.6708, -119.7193,  3744, 3750.300,    1.558,   34.679,2,   34.679,2,  126.040,1,  127.230,2,  170.160,2,   37.860,2,    0.000,2,    2.662,2,    0.034,2,    0.029,2, -999.000,9, 2353.300,2, 2437.200,2
           NA,    P03E,     18,   1,-999.0,     -99,  2,20051102,0957,  31.6708, -119.7193,  3744, 3776.700,    1.559,   34.679,2,   34.679,6,  126.570,1,  127.770,2,  170.010,2,   37.930,2,    0.010,2,    2.658,2,    0.038,2,    0.035,2, -999.000,9, 2352.400,2, 2435.400,2
           NA,    P03E,     16,   1,-999.0,     -99,  2,20051102,0628,  31.7645, -119.5327,  2884,    9.800,   18.053,   33.557,2,   33.560,2,  233.800,1,  239.950,2,    1.710,2,    0.020,2,    0.010,2,    0.233,2,    2.366,2,    1.370,2, -999.000,9, -999.000,9, -999.000,9
           NA,    P03E,     16,   1,-999.0,     -99,  3,20051102,0628,  31.7645, -119.5327,  2884,   50.400,   13.637,   33.424,2,   33.430,2,  210.990,1,  213.230,2,    7.050,2,    7.930,2,    0.140,2,    0.842,2, -999.000,9, -999.000,9, -999.000,9, -999.000,9, -999.000,9
           NA,    P03E,     16,   1,-999.0,     -99,  2,20051102,0628,  31.7645, -119.5327,  2884,  100.700,    9.539,   33.795,2,   33.832,2,  128.580,1,  125.690,2,   25.080,2,   23.830,2,    0.020,2,    1.886,2, -999.000,9, -999.000,9, -999.000,9, -999.000,9, -999.000,9
           NA,    P03E,     16,   1,-999.0,     -99,  2,20051102,0628,  31.7645, -119.5327,  2884,  149.700,    9.663,   34.093,2,   34.099,2,   92.520,1,   93.470,2,   30.240,2,   25.940,2,    0.010,2,    2.116,2,    2.320,2,    1.167,2, -999.000,9, -999.000,9, -999.000,9
           NA,    P03E,     16,   1,-999.0,     -99,  2,20051102,0628,  31.7645, -119.5327,  2884,  199.200,    9.656,   34.276,2,   34.279,2,   60.050,1,   60.920,2,   35.710,2,   27.790,2,    0.010,2,    2.378,2, -999.000,9, -999.000,9, -999.000,9, -999.000,9, -999.000,9
           NA,    P03E,     16,   1,-999.0,     -99,  2,20051102,0628,  31.7645, -119.5327,  2884,  249.900,    9.155,   34.362,2,   34.353,2,   34.890,1,   37.200,2,   42.750,2,   30.020,2,    0.020,2,    2.627,2,    1.001,6,    0.480,6, -999.000,9, -999.000,9, -999.000,9
           NA,    P03E,     16,   1,-999.0,     -99,  2,20051102,0628,  31.7645, -119.5327,  2884,  300.400,    8.038,   34.281,2,   34.285,2,   37.610,1,   37.680,2,   50.070,2,   32.650,2,    0.010,2,    2.713,2, -999.000,9, -999.000,9, -999.000,9, -999.000,9, -999.000,9
           NA,    P03E,     16,   1,-999.0,     -99,  2,20051102,0628,  31.7645, -119.5327,  2884,  400.200,    6.880,   34.264,2,   34.266,2,   25.380,1,   25.040,2,   63.650,2,   36.600,2,    0.010,2,    2.934,2,    0.453,2,    0.213,2, -999.000,9, -999.000,9, -999.000,9
           NA,    P03E,     16,   1,-999.0,     -99,  2,20051102,0628,  31.7645, -119.5327,  2884,  501.200,    6.007,   34.298,2,   34.301,6,   14.430,1,   14.520,2,   77.400,2,   39.440,2,    0.010,2,    3.114,2, -999.000,9, -999.000,9, -999.000,9, -999.000,9, -999.000,9
           NA,    P03E,     16,   1,-999.0,     -99,  2,20051102,0628,  31.7645, -119.5327,  2884,  602.400,    5.436,   34.331,2,   34.333,2,   11.170,1,   11.300,2,   86.810,2,   41.050,2,    0.010,2,    3.183,2,    0.079,2,    0.041,2, -999.000,9, -999.000,9, -999.000,9
           NA,    P03E,     16,   1,-999.0,     -99,  2,20051102,0628,  31.7645, -119.5327,  2884,  700.200,    5.110,   34.392,2,   34.396,2,   10.480,1,   10.560,2,   94.130,2,   42.160,2,    0.010,2,    3.244,2, -999.000,9, -999.000,9, -999.000,9, -999.000,9, -999.000,9
           NA,    P03E,     16,   1,-999.0,     -99,  2,20051102,0628,  31.7645, -119.5327,  2884,  801.300,    4.656,   34.435,2,   34.435,2,   13.860,1,   14.020,2,  103.380,2,   42.850,2,    0.010,2,    3.256,2,    0.033,6,    0.016,6, -999.000,9, -999.000,9, -999.000,9
           NA,    P03E,     16,   1,-999.0,     -99,  2,20051102,0628,  31.7645, -119.5327,  2884,  901.000,    4.317,   34.465,2,   34.464,2,   17.890,1,   18.150,2,  109.960,2,   43.190,2,    0.010,2,    3.250,2, -999.000,9, -999.000,9, -999.000,9, -999.000,9, -999.000,9
           NA,    P03E,     16,   1,-999.0,     -99,  2,20051102,0628,  31.7645, -119.5327,  2884, 1001.200,    4.061,   34.482,2,   34.482,6,   21.630,1,   22.070,2,  115.990,2,   43.250,2,    0.010,2,    3.238,2,    0.035,2,    0.021,2, -999.000,9, -999.000,9, -999.000,9
           NA,    P03E,     16,   1,-999.0,     -99,  2,20051102,0628,  31.7645, -119.5327,  2884, 1202.700,    3.469,   34.524,2,   34.524,2,   32.360,1,   32.710,2,  129.900,2,   43.230,2,    0.010,2,    3.200,2, -999.000,9, -999.000,9, -999.000,9, -999.000,9, -999.000,9
           NA,    P03E,     16,   1,-999.0,     -99,  2,20051102,0628,  31.7645, -119.5327,  2884, 1401.500,    3.061,   34.547,2,   34.548,2,   40.400,1,   41.060,2,  139.740,2,   43.030,2,    0.000,2,    3.156,2, -999.000,9, -999.000,9, -999.000,9, -999.000,9, -999.000,9
           NA,    P03E,     16,   1,-999.0,     -99,  2,20051102,0628,  31.7645, -119.5327,  2884, 1601.700,    2.660,   34.583,2,   34.583,6,   54.590,1,   55.490,2,  149.340,2,   42.220,2,    0.010,2,    3.079,2,    0.020,2,    0.014,2, -999.000,9, -999.000,9, -999.000,9
           NA,    P03E,     16,   1,-999.0,     -99,  2,20051102,0628,  31.7645, -119.5327,  2884, 1802.000,    2.367,   34.604,2,   34.604,2,   66.030,1,   66.790,2,  155.740,2,   41.610,2,    0.010,2,    3.010,2, -999.000,9, -999.000,9, -999.000,9, -999.000,9, -999.000,9
           NA,    P03E,     16,   1,-999.0,     -99,  2,20051102,0628,  31.7645, -119.5327,  2884, 2002.000,    2.097,   34.625,2,   34.626,2,   79.110,1,   80.270,2,  161.040,2,   40.820,2,    0.000,2,    2.933,2, -999.000,9, -999.000,9, -999.000,9, -999.000,9, -999.000,9
           NA,    P03E,     16,   1,-999.0,     -99,  2,20051102,0628,  31.7645, -119.5327,  2884, 2200.900,    1.989,   34.637,2,   34.638,6,   87.390,1,   88.680,2,  162.430,2,   40.280,2,    0.010,2,    2.883,2,    0.005,2,    0.002,2, -999.000,9, -999.000,9, -999.000,9
           NA,    P03E,     16,   1,-999.0,     -99,  2,20051102,0628,  31.7645, -119.5327,  2884, 2400.800,    1.879,   34.648,2,   34.648,2,   95.910,1,   97.110,2,  163.810,2,   39.750,2,    0.010,2,    2.831,2, -999.000,9, -999.000,9, -999.000,9, -999.000,9, -999.000,9
           NA,    P03E,     16,   1,-999.0,     -99,  2,20051102,0628,  31.7645, -119.5327,  2884, 2601.400,    1.792,   34.655,2,   34.655,2,  102.780,1,  104.080,2,  165.130,2,   39.330,2,    0.010,2,    2.798,2, -999.000,9, -999.000,9, -999.000,9, -999.000,9, -999.000,9
           NA,    P03E,     16,   1,-999.0,     -99,  2,20051102,0628,  31.7645, -119.5327,  2884, 2822.200,    1.700,   34.664,2,   34.664,6,  110.780,1,  111.740,2,  166.530,2,   38.870,2,    0.010,2,    2.755,2,    0.002,2,    0.007,2, -999.000,9, -999.000,9, -999.000,9
           NA,    P03E,     14,   1,-999.0,     -99,  2,20051102,0323,  31.8482, -119.3600,  1740,   10.400,   17.880,   33.382,2,   33.382,2,  237.340,1,  243.280,2,    1.540,2,    0.040,2,    0.000,2,    0.255,2,    2.454,2,    1.420,2, -999.000,9, 1990.400,2, 2238.700,2
           NA,    P03E,     14,   1,-999.0,     -99,  2,20051102,0323,  31.8482, -119.3600,  1740,   50.200,   12.752,   33.449,2,   33.449,2,  196.680,1,  198.890,2,    9.170,2,   11.040,2,    0.160,2,    1.055,2,    3.006,2,    1.634,2, -999.000,9, 2080.700,6, 2231.800,2
           NA,    P03E,     14,   1,-999.0,     -99,  2,20051102,0323,  31.8482, -119.3600,  1740,  100.900,    9.585,   33.692,2,   33.710,2,  142.760,1,  142.870,2,   22.700,2,   22.410,2,    0.010,2,    1.771,2,    3.108,2,    1.611,2, -999.000,9, 2154.900,2, 2243.000,6
           NA,    P03E,     14,   1,-999.0,     -99,  2,20051102,0323,  31.8482, -119.3600,  1740,  149.800,    8.812,   33.965,2,   33.968,2,  115.030,1,  116.290,2,   31.380,2,   26.690,2,    0.010,2,    2.017,2,    2.773,2,    1.394,2, -999.000,9, 2190.300,2, 2259.900,2
           NA,    P03E,     14,   1,-999.0,     -99,  2,20051102,0323,  31.8482, -119.3600,  1740,  199.700,    8.605,   34.139,2,   34.141,2,   82.710,1,   83.500,2,   38.440,2,   29.030,2,    0.010,2,    2.286,2,    2.030,2,    0.998,2, -999.000,9, 2222.600,2, 2276.100,2
           NA,    P03E,     14,   1,-999.0,     -99,  2,20051102,0323,  31.8482, -119.3600,  1740,  248.900,    8.663,   34.264,2,   34.251,2,   52.240,1,   53.550,2,   43.580,2,   30.590,2,    0.010,2,    2.533,2,    1.349,6,    0.651,6, -999.000,9, 2251.700,2, 2287.200,2
           NA,    P03E,     14,   1,-999.0,     -99,  2,20051102,0323,  31.8482, -119.3600,  1740,  300.600,    8.147,   34.296,2,   34.288,2,   36.100,1,   37.590,2,   49.380,2,   32.400,2,    0.010,2,    2.706,2,    0.910,2,    0.435,2, -999.000,9, 2268.600,2, 2297.100,2
           NA,    P03E,     14,   1,-999.0,     -99,  2,20051102,0323,  31.8482, -119.3600,  1740,  400.100,    7.007,   34.292,2,   34.290,2,   23.500,1,   23.440,2,   62.960,2,   36.200,2,    0.000,2,    2.944,2,    0.424,2,    0.199,2, -999.000,9, 2294.900,2, 2309.600,2
           NA,    P03E,     14,   1,-999.0,     -99,  2,20051102,0323,  31.8482, -119.3600,  1740,  500.200,    6.068,   34.286,2,   34.287,6,   16.360,1,   16.460,2,   75.840,2,   39.190,2,    0.000,2,    3.089,2,    0.213,2,    0.103,2, -999.000,9, 2313.700,2, 2319.600,2
           NA,    P03E,     14,   1,-999.0,     -99,  2,20051102,0323,  31.8482, -119.3600,  1740,  599.800,    5.578,   34.356,2,   34.359,2,   10.200,1,   10.180,2,   86.030,2,   40.840,2,    0.000,2,    3.201,2,    0.063,2,    0.023,2, -999.000,9, 2331.600,2, 2333.700,2
           NA,    P03E,     14,   1,-999.0,     -99,  2,20051102,0323,  31.8482, -119.3600,  1740,  699.600,    5.096,   34.403,2,   34.404,2,   10.670,1,   10.790,2,   94.870,2,   42.090,2,    0.000,2,    3.244,2,    0.031,2,    0.016,2, -999.000,9, 2343.200,6, 2347.600,2
           NA,    P03E,     14,   1,-999.0,     -99,  2,20051102,0323,  31.8482, -119.3600,  1740,  800.600,    4.589,   34.442,2,   34.442,2,   14.660,1,   14.820,2,  104.950,2,   42.800,2,    0.000,2,    3.260,2,    0.035,6,    0.016,6, -999.000,9, 2352.500,2, 2360.700,6
           NA,    P03E,     14,   1,-999.0,     -99,  2,20051102,0323,  31.8482, -119.3600,  1740,  899.900,    4.248,   34.466,2,   34.466,2,   18.670,1,   18.980,2,  112.000,2,   43.150,2,    0.000,2,    3.255,2,    0.027,2,    0.020,2, -999.000,9, 2357.800,2, 2366.400,2
           NA,    P03E,     14,   1,-999.0,     -99,  2,20051102,0323,  31.8482, -119.3600,  1740, 1000.300,    3.989,   34.487,2,   34.488,6,   23.030,1,   23.510,2,  117.410,2,   43.330,2,    0.000,2,    3.245,2,    0.022,2,    0.016,2, -999.000,9, 2362.000,2, 2375.100,2
           NA,    P03E,     14,   1,-999.0,     -99,  2,20051102,0323,  31.8482, -119.3600,  1740, 1200.800,    3.518,   34.521,2,   34.522,2,   31.610,1,   31.940,2,  128.630,2,   43.160,2,    0.000,2,    3.207,2,    0.027,2,    0.018,2, -999.000,9, 2369.100,2, 2386.000,2
           NA,    P03E,     14,   1,-999.0,     -99,  2,20051102,0323,  31.8482, -119.3600,  1740, 1401.500,    3.043,   34.554,2,   34.554,2,   42.770,1,   43.070,2,  139.770,2,   42.780,2,    0.000,2,    3.154,2,    0.027,2,    0.023,2, -999.000,9, 2372.500,2, 2399.400,2
           NA,    P03E,     14,   1,-999.0,     -99,  2,20051102,0323,  31.8482, -119.3600,  1740, 1600.000,    2.635,   34.585,2,   34.586,2,   56.530,1,   57.190,2,  149.350,2,   42.050,2,    0.000,2,    3.071,2,    0.013,2,    0.013,2, -999.000,9, 2377.800,2, 2411.700,2
           NA,    P03E,     14,   1,-999.0,     -99,  2,20051102,0323,  31.8482, -119.3600,  1740, 1694.100,    2.472,   34.597,2,   34.597,6,   62.770,1,   63.190,2,  152.890,2,   41.630,2,    0.010,2,    3.037,2,    0.015,2,    0.012,2, -999.000,9, 2372.900,2, 2411.500,2