BOTTLE,20211903JOAExport
EXPOCODE,SECT_ID,STNNBR,CASTNO,SAMPNO,BTLNBR,BTLNBR_FLAG_W,DATE,TIME,LATITUDE,LONGITUDE,DEPTH,CTDPRS,CTDTMP,CTDSAL,CTDSAL_FLAG_W,SALNTY,SALNTY_FLAG_W,CTDOXY,CTDOXY_FLAG_W,OXYGEN,OXYGEN_FLAG_W,SILCAT,SILCAT_FLAG_W,NITRAT,NITRAT_FLAG_W,NITRIT,NITRIT_FLAG_W,PHSPHT,PHSPHT_FLAG_W,CFC-11,CFC-11_FLAG_W,CFC-12,CFC-12_FLAG_W,SF6,SF6_FLAG_W,TCARBN,TCARBN_FLAG_W,ALKALI,ALKALI_FLAG_W
,,,,,,,,,,,,DB,ITS-90,PSS-78,,PSS-78,,UMOL/KG,,UMOL/KG,,UMOL/KG,,UMOL/KG,,UMOL/KG,,UMOL/KG,,PMOL/KG,,PMOL/KG,,FMOL/KG,,UMOL/KG,,UMOL/KG
           NA,    P03C,    237,   1,-999.0,     -99,  2,20051224,0724,  24.2273,  164.0473,  5733,   10.800,   26.627,   35.050,2,   35.051,2,  190.130,1,  202.860,2,    0.990,2,    0.040,2,    0.010,2,    0.041,2,    1.573,2,    0.943,2, -999.000,9, -999.000,9, -999.000,9
           NA,    P03C,    237,   1,-999.0,     -99,  2,20051224,0724,  24.2273,  164.0473,  5733,   48.500,   26.688,   35.099,2, -999.000,3,  190.200,1,  202.750,2,    0.990,2,    0.030,2,    0.000,2,    0.040,2,    1.567,2,    0.936,2, -999.000,9, -999.000,9, -999.000,9
           NA,    P03C,    237,   1,-999.0,     -99,  2,20051224,0724,  24.2273,  164.0473,  5733,  101.400,   24.074,   35.152,2,   35.148,2,  208.970,1,  222.460,2,    1.340,2,    0.020,2,    0.010,2,    0.044,2,    1.894,2,    1.123,2, -999.000,9, -999.000,9, -999.000,9
           NA,    P03C,    237,   1,-999.0,     -99,  2,20051224,0724,  24.2273,  164.0473,  5733,  152.400,   20.384,   35.027,2,   35.027,2,  192.620,1,  206.190,2,    2.040,2,    0.390,2,    0.120,2,    0.120,2,    2.106,2,    1.226,2, -999.000,9, -999.000,9, -999.000,9
           NA,    P03C,    237,   1,-999.0,     -99,  2,20051224,0724,  24.2273,  164.0473,  5733,  200.000,   17.461,   34.800,2,   34.796,2,  191.750,1,  204.680,2,    3.700,2,    4.300,2,    0.010,2,    0.341,2,    2.299,2,    1.331,2, -999.000,9, -999.000,9, -999.000,9
           NA,    P03C,    237,   1,-999.0,     -99,  2,20051224,0724,  24.2273,  164.0473,  5733,  249.300,   16.589,   34.728,2,   34.722,2,  192.340,1,  204.590,2,    5.100,2,    5.760,2,    0.010,2,    0.428,2,    2.362,6,    1.357,6, -999.000,9, -999.000,9, -999.000,9
           NA,    P03C,    237,   1,-999.0,     -99,  2,20051224,0724,  24.2273,  164.0473,  5733,  299.700,   15.120,   34.591,2,   34.590,2,  188.910,1,  201.210,2,    7.680,2,    8.020,2,    0.010,2,    0.597,2,    2.515,2,    1.398,2, -999.000,9, -999.000,9, -999.000,9
           NA,    P03C,    237,   1,-999.0,     -99,  2,20051224,0724,  24.2273,  164.0473,  5733,  400.700,   12.330,   34.368,2,   34.355,2,  185.120,1,  196.940,2,   15.130,2,   13.250,2,    0.000,2,    0.964,2,    2.688,2,    1.431,2, -999.000,9, -999.000,9, -999.000,9
           NA,    P03C,    237,   1,-999.0,     -99,  2,20051224,0724,  24.2273,  164.0473,  5733,  503.500,    9.416,   34.168,2,   34.167,6,  167.520,1,  177.780,2,   28.330,2,   20.030,2,    0.000,2,    1.447,2,    2.521,2,    1.287,2, -999.000,9, -999.000,9, -999.000,9
           NA,    P03C,    237,   1,-999.0,     -99,  2,20051224,0724,  24.2273,  164.0473,  5733,  600.300,    7.096,   34.066,2,   34.066,2,  127.760,1,  137.270,2,   49.040,2,   27.990,2,    0.000,2,    2.039,2,    1.907,2,    0.941,2, -999.000,9, -999.000,9, -999.000,9
           NA,    P03C,    237,   1,-999.0,     -99,  2,20051224,0724,  24.2273,  164.0473,  5733,  700.900,    5.795,   34.121,2,   34.121,2,   79.340,1,   83.890,2,   71.310,2,   35.260,2,    0.000,2,    2.578,2,    0.903,2,    0.438,2, -999.000,9, -999.000,9, -999.000,9
           NA,    P03C,    237,   1,-999.0,     -99,  2,20051224,0724,  24.2273,  164.0473,  5733,  800.600,    4.933,   34.191,2,   34.193,2,   54.600,1,   57.700,2,   89.910,2,   39.100,2,    0.000,2,    2.846,2,    0.436,6,    0.215,6, -999.000,9, -999.000,9, -999.000,9
           NA,    P03C,    237,   1,-999.0,     -99,  2,20051224,0724,  24.2273,  164.0473,  5733,  902.300,    4.358,   34.298,2,   34.297,2,   41.630,1,   44.340,2,  103.320,2,   41.080,2,    0.010,2,    2.982,2,    0.157,2,    0.074,2, -999.000,9, -999.000,9, -999.000,9
           NA,    P03C,    237,   1,-999.0,     -99,  2,20051224,0724,  24.2273,  164.0473,  5733, 1001.300,    3.881,   34.372,2,   34.372,6,   39.070,1,   41.550,2,  115.330,2,   41.980,2,    0.010,2,    3.040,2,    0.058,2,    0.035,2, -999.000,9, -999.000,9, -999.000,9
           NA,    P03C,    237,   1,-999.0,     -99,  2,20051224,0724,  24.2273,  164.0473,  5733, 1201.400,    3.360,   34.479,2,   34.479,2,   52.740,1,   56.420,2,  126.050,2,   41.450,2,    0.000,2,    2.994,2,    0.013,2,    0.005,2, -999.000,9, -999.000,9, -999.000,9
           NA,    P03C,    237,   1,-999.0,     -99,  2,20051224,0724,  24.2273,  164.0473,  5733, 1402.400,    2.791,   34.530,2, -999.000,3,   60.220,1,   64.490,2,  139.200,2,   41.360,2,    0.000,2,    2.968,2,    0.001,2,    0.000,2, -999.000,9, -999.000,9, -999.000,9
           NA,    P03C,    237,   1,-999.0,     -99,  2,20051224,0724,  24.2273,  164.0473,  5733, 1603.800,    2.401,   34.574,2,   34.574,2,   75.940,1,   81.860,2,  144.620,2,   40.550,2,    0.000,2,    2.888,2,    0.000,2,    0.000,2, -999.000,9, -999.000,9, -999.000,9
           NA,    P03C,    237,   1,-999.0,     -99,  2,20051224,0724,  24.2273,  164.0473,  5733, 1801.600,    2.166,   34.596,2,   34.596,2,   81.570,1,   88.210,2,  149.530,2,   40.280,2,    0.000,2,    2.865,2,    0.001,2,    0.000,2, -999.000,9, -999.000,9, -999.000,9
           NA,    P03C,    237,   1,-999.0,     -99,  2,20051224,0724,  24.2273,  164.0473,  5733, 2000.800,    1.993,   34.617,2,   34.618,2,   91.560,1,   99.330,2,  150.990,2,   39.580,2,    0.000,2,    2.809,2,    0.002,2,    0.000,2, -999.000,9, -999.000,9, -999.000,9
           NA,    P03C,    237,   1,-999.0,     -99,  2,20051224,0724,  24.2273,  164.0473,  5733, 2200.500,    1.862,   34.635,2,   34.635,6,  100.360,1,  108.850,2,  151.800,2,   39.010,2,    0.000,2,    2.758,2,    0.001,2,    0.001,2, -999.000,9, -999.000,9, -999.000,9
           NA,    P03C,    237,   1,-999.0,     -99,  2,20051224,0724,  24.2273,  164.0473,  5733, 2402.500,    1.771,   34.645,2,   34.646,2,  105.470,1,  114.720,2,  152.720,2,   38.610,2,   -0.010,2,    2.734,2,    0.000,2,    0.000,2, -999.000,9, -999.000,9, -999.000,9
           NA,    P03C,    237,   1,-999.0,     -99,  2,20051224,0724,  24.2273,  164.0473,  5733, 2600.300,    1.698,   34.654,2,   34.654,2,  111.110,1,  120.920,2,  152.920,2,   38.290,2,    0.000,2,    2.698,2, -999.000,9, -999.000,9, -999.000,9, -999.000,9, -999.000,9
           NA,    P03C,    237,   1,-999.0,     -99,  2,20051224,0724,  24.2273,  164.0473,  5733, 2802.700,    1.648,   34.660,2,   34.661,2,  115.770,1,  126.130,2,  152.730,2,   37.860,2,    0.000,2,    2.672,2,    0.000,2,    0.001,2, -999.000,9, -999.000,9, -999.000,9
           NA,    P03C,    237,   1,-999.0,     -99,  2,20051224,0724,  24.2273,  164.0473,  5733, 3001.400,    1.605,   34.666,2,   34.667,2,  119.920,1,  130.710,2,  152.690,2,   37.580,2,    0.000,2,    2.644,2, -999.000,9, -999.000,9, -999.000,9, -999.000,9, -999.000,9
           NA,    P03C,    237,   1,-999.0,     -99,  2,20051224,0724,  24.2273,  164.0473,  5733, 3251.700,    1.569,   34.671,2,   34.671,6,  124.560,1,  135.820,2,  151.680,2,   37.180,2,    0.000,2,    2.613,2, -999.000,9, -999.000,9, -999.000,9, -999.000,9, -999.000,9
           NA,    P03C,    237,   1,-999.0,     -99,  2,20051224,0724,  24.2273,  164.0473,  5733, 3501.100,    1.527,   34.676,2,   34.676,2,  130.000,1,  141.830,2,  150.680,2,   36.920,2,    0.000,2,    2.585,2,    0.000,2,    0.000,2, -999.000,9, -999.000,9, -999.000,9
           NA,    P03C,    237,   1,-999.0,     -99,  2,20051224,0724,  24.2273,  164.0473,  5733, 3753.100,    1.506,   34.680,2,   34.680,2,  134.300,1,  146.510,2,  149.440,2,   36.580,2,    0.000,2,    2.561,2, -999.000,9, -999.000,9, -999.000,9, -999.000,9, -999.000,9
           NA,    P03C,    237,   1,-999.0,     -99,  2,20051224,0724,  24.2273,  164.0473,  5733, 4001.900,    1.487,   34.684,2,   34.684,2,  139.220,1,  151.450,2,  147.090,2,   36.220,2,    0.000,2,    2.536,2, -999.000,9, -999.000,9, -999.000,9, -999.000,9, -999.000,9
           NA,    P03C,    237,   1,-999.0,     -99,  2,20051224,0724,  24.2273,  164.0473,  5733, 4249.600,    1.475,   34.687,2,   34.687,2,  143.530,1,  155.670,2,  145.540,2,   35.880,2,    0.000,2,    2.513,2,    0.001,2,    0.000,2, -999.000,9, -999.000,9, -999.000,9
           NA,    P03C,    237,   1,-999.0,     -99,  2,20051224,0724,  24.2273,  164.0473,  5733, 4500.900,    1.457,   34.690,2,   34.691,6,  149.280,1,  161.610,2,  142.860,2,   35.510,2,    0.000,2,    2.482,2, -999.000,9, -999.000,9, -999.000,9, -999.000,9, -999.000,9
           NA,    P03C,    237,   1,-999.0,     -99,  2,20051224,0724,  24.2273,  164.0473,  5733, 4749.800,    1.453,   34.693,2,   34.694,2,  154.150,1,  166.240,2,  140.520,2,   35.150,2,    0.000,2,    2.453,2, -999.000,9, -999.000,9, -999.000,9, -999.000,9, -999.000,9
           NA,    P03C,    237,   1,-999.0,     -99,  2,20051224,0724,  24.2273,  164.0473,  5733, 5001.400,    1.448,   34.696,2,   34.696,2,  159.410,1,  171.360,2,  137.340,2,   34.800,2,    0.000,2,    2.429,2,    0.000,2,    0.002,2, -999.000,9, -999.000,9, -999.000,9
           NA,    P03C,    237,   1,-999.0,     -99,  2,20051224,0724,  24.2273,  164.0473,  5733, 5251.000,    1.456,   34.697,2,   34.698,2,  163.120,1,  174.570,2,  134.920,2,   34.630,2,    0.000,2,    2.417,2, -999.000,9, -999.000,9, -999.000,9, -999.000,9, -999.000,9
           NA,    P03C,    237,   1,-999.0,     -99,  2,20051224,0724,  24.2273,  164.0473,  5733, 5500.000,    1.470,   34.699,2,   34.699,2,  166.390,1,  177.120,2,  133.320,2,   34.360,2,    0.010,2,    2.393,2,    0.000,2,    0.000,2, -999.000,9, -999.000,9, -999.000,9
           NA,    P03C,    237,   1,-999.0,     -99,  2,20051224,0724,  24.2273,  164.0473,  5733, 5750.200,    1.498,   34.699,2,   34.700,2,  168.450,1,  177.750,2,  132.810,2,   34.320,2,    0.000,2,    2.394,2, -999.000,9, -999.000,9, -999.000,9, -999.000,9, -999.000,9
           NA,    P03C,    237,   1,-999.0,     -99,  2,20051224,0724,  24.2273,  164.0473,  5733, 5865.200,    1.514,   34.699,2,   34.700,6,  169.490,1,  178.050,2,  132.490,2,   34.380,2,    0.000,2,    2.391,2,    0.000,2,    0.000,2, -999.000,9, -999.000,9, -999.000,9