BOTTLE,20211903JOAExport
EXPOCODE,SECT_ID,STNNBR,CASTNO,SAMPNO,BTLNBR,BTLNBR_FLAG_W,DATE,TIME,LATITUDE,LONGITUDE,DEPTH,CTDPRS,CTDTMP,CTDSAL,CTDSAL_FLAG_W,SALNTY,SALNTY_FLAG_W,CTDOXY,CTDOXY_FLAG_W,OXYGEN,OXYGEN_FLAG_W,SILCAT,SILCAT_FLAG_W,NITRAT,NITRAT_FLAG_W,NITRIT,NITRIT_FLAG_W,PHSPHT,PHSPHT_FLAG_W,CFC-11,CFC-11_FLAG_W,CFC-12,CFC-12_FLAG_W,SF6,SF6_FLAG_W,TCARBN,TCARBN_FLAG_W,ALKALI,ALKALI_FLAG_W
,,,,,,,,,,,,DB,ITS-90,PSS-78,,PSS-78,,UMOL/KG,,UMOL/KG,,UMOL/KG,,UMOL/KG,,UMOL/KG,,UMOL/KG,,PMOL/KG,,PMOL/KG,,FMOL/KG,,UMOL/KG,,UMOL/KG
           NA,    P03C,    161,   1,-999.0,     -99,  2,20051201,2040,  23.8473, -167.3798,  4926,    8.100,   25.499,   35.263,2,   35.263,2,  188.670,1,  206.330,2,    1.040,2,    0.040,2,    0.000,2,    0.043,2,    1.717,2,    0.985,2, -999.000,9, -999.000,9, -999.000,9
           NA,    P03C,    161,   1,-999.0,     -99,  2,20051201,2040,  23.8473, -167.3798,  4926,   49.200,   25.428,   35.259,2,   35.260,2,  188.580,1,  206.160,2,    1.010,2,    0.040,2,    0.000,2,    0.040,2,    1.722,2,    1.027,2, -999.000,9, -999.000,9, -999.000,9
           NA,    P03C,    161,   1,-999.0,     -99,  2,20051201,2040,  23.8473, -167.3798,  4926,   98.700,   23.357,   35.210,2,   35.209,2,  193.340,1,  210.710,2,    1.260,2,    0.100,2,    0.050,2,    0.074,2,    1.965,2,    1.126,2, -999.000,9, -999.000,9, -999.000,9
           NA,    P03C,    161,   1,-999.0,     -99,  2,20051201,2040,  23.8473, -167.3798,  4926,  148.400,   21.136,   35.140,2,   35.134,2,  183.690,1,  200.830,2,    1.860,2,    1.090,2,    0.030,2,    0.157,2,    2.129,2,    1.212,2, -999.000,9, -999.000,9, -999.000,9
           NA,    P03C,    161,   1,-999.0,     -99,  2,20051201,2040,  23.8473, -167.3798,  4926,  199.400,   18.501,   34.932,2,   34.927,2,  184.550,1,  202.000,2,    3.000,2,    2.740,2,    0.010,2,    0.265,2,    2.349,2,    1.325,2, -999.000,9, -999.000,9, -999.000,9
           NA,    P03C,    161,   1,-999.0,     -99,  2,20051201,2040,  23.8473, -167.3798,  4926,  250.000,   15.845,   34.648,2,   34.647,2,  193.340,1,  211.070,2,    5.340,2,    5.230,2,    0.010,2,    0.423,2,    2.590,6,    1.448,6, -999.000,9, -999.000,9, -999.000,9
           NA,    P03C,    161,   1,-999.0,     -99,  2,20051201,2040,  23.8473, -167.3798,  4926,  301.000,   14.159,   34.470,2,   34.488,2,  191.450,1,  209.940,2,    7.930,2,    7.850,2,    0.000,2,    0.598,2,    2.732,2,    1.520,2, -999.000,9, -999.000,9, -999.000,9
           NA,    P03C,    161,   1,-999.0,     -99,  2,20051201,2040,  23.8473, -167.3798,  4926,  400.900,   10.760,   34.193,2,   34.191,2,  178.750,1,  194.380,2,   18.140,2,   15.650,2,    0.000,2,    1.149,2,    2.890,2,    1.505,2, -999.000,9, -999.000,9, -999.000,9
           NA,    P03C,    161,   1,-999.0,     -99,  2,20051201,2040,  23.8473, -167.3798,  4926,  502.300,    8.261,   34.091,2,   34.092,6,  130.760,1,  142.890,2,   35.650,2,   25.320,2,    0.000,2,    1.847,2,    2.292,2,    1.092,2, -999.000,9, -999.000,9, -999.000,9
           NA,    P03C,    161,   1,-999.0,     -99,  2,20051201,2040,  23.8473, -167.3798,  4926,  601.600,    6.303,   34.082,2,   34.082,2,   85.680,1,   94.660,2,   61.190,2,   33.350,2,    0.000,2,    2.427,2,    1.303,2,    0.607,2, -999.000,9, -999.000,9, -999.000,9
           NA,    P03C,    161,   1,-999.0,     -99,  2,20051201,2040,  23.8473, -167.3798,  4926,  700.800,    5.245,   34.177,2,   34.179,2,   46.820,1,   51.370,2,   83.030,2,   38.980,2,    0.000,2,    2.862,2,    0.484,2,    0.229,2, -999.000,9, -999.000,9, -999.000,9
           NA,    P03C,    161,   1,-999.0,     -99,  2,20051201,2040,  23.8473, -167.3798,  4926,  801.000,    4.555,   34.292,2,   34.295,2,   34.070,1,   37.980,2,   99.330,2,   41.240,2,    0.000,2,    3.031,2,    0.182,6,    0.086,6, -999.000,9, -999.000,9, -999.000,9
           NA,    P03C,    161,   1,-999.0,     -99,  2,20051201,2040,  23.8473, -167.3798,  4926,  901.200,    4.151,   34.367,2,   34.367,2,   34.760,1,   38.860,2,  108.210,2,   41.960,2,    0.000,2,    3.050,2,    0.106,2,    0.045,2, -999.000,9, -999.000,9, -999.000,9
           NA,    P03C,    161,   1,-999.0,     -99,  2,20051201,2040,  23.8473, -167.3798,  4926, 1000.900,    3.830,   34.411,2,   34.410,6,   38.210,1,   42.470,2,  115.950,2,   42.010,2,    0.000,2,    3.053,2,    0.073,2,    0.029,2, -999.000,9, -999.000,9, -999.000,9
           NA,    P03C,    161,   1,-999.0,     -99,  2,20051201,2040,  23.8473, -167.3798,  4926, 1199.700,    3.366,   34.481,2,   34.482,2,   46.560,1,   51.560,2,  126.360,2,   41.870,2,    0.000,2,    3.033,2,    0.031,2,    0.011,2, -999.000,9, -999.000,9, -999.000,9
           NA,    P03C,    161,   1,-999.0,     -99,  2,20051201,2040,  23.8473, -167.3798,  4926, 1399.600,    2.980,   34.544,2,   34.544,2,   58.320,1,   64.530,2,  133.690,2,   41.410,2,    0.000,2,    2.984,2,    0.014,2,    0.001,2, -999.000,9, -999.000,9, -999.000,9
           NA,    P03C,    161,   1,-999.0,     -99,  2,20051201,2040,  23.8473, -167.3798,  4926, 1599.900,    2.581,   34.574,2,   34.574,2,   66.820,1,   73.950,2,  142.510,2,   41.080,2,    0.000,2,    2.939,2,    0.015,2,    0.000,2, -999.000,9, -999.000,9, -999.000,9
           NA,    P03C,    161,   1,-999.0,     -99,  2,20051201,2040,  23.8473, -167.3798,  4926, 1802.200,    2.304,   34.593,2,   34.592,2,   73.880,1,   81.880,2,  148.950,2,   40.560,2,    0.000,2,    2.901,2,    0.006,2,    0.002,2, -999.000,9, -999.000,9, -999.000,9
           NA,    P03C,    161,   1,-999.0,     -99,  2,20051201,2040,  23.8473, -167.3798,  4926, 2001.900,    2.106,   34.607,2,   34.607,6,   79.250,1,   88.090,2,  153.290,2,   40.230,2,    0.000,2,    2.867,2,    0.006,2,    0.000,2, -999.000,9, -999.000,9, -999.000,9
           NA,    P03C,    161,   1,-999.0,     -99,  2,20051201,2040,  23.8473, -167.3798,  4926, 2198.900,    1.899,   34.629,2,   34.629,2,   89.960,1,  100.010,2,  156.240,2,   39.540,2,    0.000,2,    2.809,2,    0.006,2,    0.000,2, -999.000,9, -999.000,9, -999.000,9
           NA,    P03C,    161,   1,-999.0,     -99,  2,20051201,2040,  23.8473, -167.3798,  4926, 2402.200,    1.781,   34.642,2,   34.642,2,   96.240,1,  107.360,2,  157.790,2,   39.130,2,    0.000,2,    2.769,2, -999.000,9, -999.000,9, -999.000,9, -999.000,9, -999.000,9
           NA,    P03C,    161,   1,-999.0,     -99,  2,20051201,2040,  23.8473, -167.3798,  4926, 2600.300,    1.700,   34.651,2,   34.650,2,  102.100,1,  114.220,2,  158.420,2,   38.640,2,    0.000,2,    2.736,2, -999.000,9, -999.000,9, -999.000,9, -999.000,9, -999.000,9
           NA,    P03C,    161,   1,-999.0,     -99,  2,20051201,2040,  23.8473, -167.3798,  4926, 2799.000,    1.647,   34.657,2,   34.657,2,  106.790,1,  119.440,2,  158.190,2,   38.370,2,    0.000,2,    2.713,2,    0.006,2,    0.000,2, -999.000,9, -999.000,9, -999.000,9
           NA,    P03C,    161,   1,-999.0,     -99,  2,20051201,2040,  23.8473, -167.3798,  4926, 3002.300,    1.585,   34.665,2,   34.665,6,  112.810,1,  126.260,2,  157.560,2,   37.920,2,    0.000,2,    2.676,2, -999.000,9, -999.000,9, -999.000,9, -999.000,9, -999.000,9
           NA,    P03C,    161,   1,-999.0,     -99,  2,20051201,2040,  23.8473, -167.3798,  4926, 3251.500,    1.520,   34.673,2,   34.673,2,  120.150,1,  134.180,2,  156.480,2,   37.370,2,    0.000,2,    2.624,2, -999.000,9, -999.000,9, -999.000,9, -999.000,9, -999.000,9
           NA,    P03C,    161,   1,-999.0,     -99,  2,20051201,2040,  23.8473, -167.3798,  4926, 3500.100,    1.494,   34.678,2,   34.678,2,  125.870,1,  140.510,2,  153.910,2,   36.860,2,    0.000,2,    2.593,2,    0.006,2,    0.001,2, -999.000,9, -999.000,9, -999.000,9
           NA,    P03C,    161,   1,-999.0,     -99,  2,20051201,2040,  23.8473, -167.3798,  4926, 3750.600,    1.474,   34.682,2,   34.682,2,  131.590,1,  146.690,2,  151.100,2,   36.550,2,    0.000,2,    2.563,2, -999.000,9, -999.000,9, -999.000,9, -999.000,9, -999.000,9
           NA,    P03C,    161,   1,-999.0,     -99,  2,20051201,2040,  23.8473, -167.3798,  4926, 4001.100,    1.462,   34.686,2,   34.686,6,  136.740,1,  151.980,2,  148.190,2,   36.100,2,    0.000,2,    2.535,2, -999.000,9, -999.000,9, -999.000,9, -999.000,9, -999.000,9
           NA,    P03C,    161,   1,-999.0,     -99,  2,20051201,2040,  23.8473, -167.3798,  4926, 4251.400,    1.457,   34.688,2,   34.689,2,  141.450,1,  156.640,2,  145.700,2,   35.800,2,    0.000,2,    2.513,2,    0.007,2,    0.000,2, -999.000,9, -999.000,9, -999.000,9
           NA,    P03C,    161,   1,-999.0,     -99,  2,20051201,2040,  23.8473, -167.3798,  4926, 4501.300,    1.464,   34.690,2,   34.690,2,  144.760,1,  159.640,2,  144.210,2,   35.620,2,    0.000,2,    2.497,2, -999.000,9, -999.000,9, -999.000,9, -999.000,9, -999.000,9
           NA,    P03C,    161,   1,-999.0,     -99,  2,20051201,2040,  23.8473, -167.3798,  4926, 4749.300,    1.480,   34.692,2,   34.692,2,  147.350,1,  161.440,2,  142.950,2,   35.440,2,    0.000,2,    2.485,2, -999.000,9, -999.000,9, -999.000,9, -999.000,9, -999.000,9
           NA,    P03C,    161,   1,-999.0,     -99,  2,20051201,2040,  23.8473, -167.3798,  4926, 4751.200,    1.480,   34.692,2,   34.692,2,  147.360,1,  161.440,2,  143.080,2,   35.400,2,    0.000,2,    2.483,2, -999.000,9, -999.000,9, -999.000,9, -999.000,9, -999.000,9
           NA,    P03C,    161,   1,-999.0,     -99,  2,20051201,2040,  23.8473, -167.3798,  4926, 4997.200,    1.505,   34.692,2,   34.692,6,  150.190,1,  162.470,2,  142.480,2,   35.400,2,    0.000,2,    2.482,2,    0.006,2,    0.000,2, -999.000,9, -999.000,9, -999.000,9
           NA,    P03C,    159,   1,-999.0,     -99,  2,20051201,1530,  24.0208, -167.2437,  3924,    8.600,   25.482,   35.258,2,   35.259,2,  189.440,1,  206.080,2,    1.150,2,    0.050,2,    0.000,2,    0.051,2,    1.657,2,    0.972,2, -999.000,9, -999.000,9, -999.000,9
           NA,    P03C,    159,   1,-999.0,     -99,  2,20051201,1530,  24.0208, -167.2437,  3924,   50.800,   25.492,   35.260,2,   35.260,2,  189.030,1,  205.990,2,    1.140,2,    0.030,2,    0.000,2,    0.048,2,    1.654,2,    0.973,2, -999.000,9, -999.000,9, -999.000,9
           NA,    P03C,    159,   1,-999.0,     -99,  2,20051201,1530,  24.0208, -167.2437,  3924,   99.100,   25.082,   35.243,2,   35.243,2,  190.430,1,  207.660,2,    1.200,2,    0.040,2,    0.000,2,    0.061,2,    1.721,2,    1.030,2, -999.000,9, -999.000,9, -999.000,9
           NA,    P03C,    159,   1,-999.0,     -99,  2,20051201,1530,  24.0208, -167.2437,  3924,  151.600,   22.161,   35.174,2,   35.172,2,  187.920,1,  204.680,2,    1.720,2,    0.630,2,    0.080,2,    0.132,2,    1.998,2,    1.168,2, -999.000,9, -999.000,9, -999.000,9
           NA,    P03C,    159,   1,-999.0,     -99,  2,20051201,1530,  24.0208, -167.2437,  3924,  198.700,   19.647,   35.020,2,   35.020,2,  184.570,1,  200.800,2,    2.700,2,    2.120,2,    0.020,2,    0.235,2,    2.214,2,    1.253,2, -999.000,9, -999.000,9, -999.000,9
           NA,    P03C,    159,   1,-999.0,     -99,  2,20051201,1530,  24.0208, -167.2437,  3924,  248.600,   17.943,   34.872,2,   34.858,2,  187.990,1,  205.180,2,    3.690,2,    3.340,2,    0.010,2,    0.317,2,    2.381,6,    1.324,6, -999.000,9, -999.000,9, -999.000,9
           NA,    P03C,    159,   1,-999.0,     -99,  2,20051201,1530,  24.0208, -167.2437,  3924,  299.900,   15.666,   34.645,2,   34.649,2,  197.880,1,  214.720,2,    5.420,2,    5.020,2,    0.010,2,    0.414,2,    2.583,2,    1.415,2, -999.000,9, -999.000,9, -999.000,9
           NA,    P03C,    159,   1,-999.0,     -99,  2,20051201,1530,  24.0208, -167.2437,  3924,  398.700,   12.111,   34.306,2,   34.306,2,  188.930,1,  204.800,2,   13.530,2,   12.150,2,    0.000,2,    0.901,2,    2.909,2,    1.516,2, -999.000,9, -999.000,9, -999.000,9
           NA,    P03C,    159,   1,-999.0,     -99,  2,20051201,1530,  24.0208, -167.2437,  3924,  499.400,    9.389,   34.143,2,   34.145,6,  157.900,1,  171.670,2,   27.830,2,   20.320,2,    0.000,2,    1.483,2,    2.648,2,    1.303,2, -999.000,9, -999.000,9, -999.000,9
           NA,    P03C,    159,   1,-999.0,     -99,  2,20051201,1530,  24.0208, -167.2437,  3924,  599.300,    6.900,   34.076,2,   34.077,2,   94.620,1,  102.370,2,   52.420,2,   31.510,2,    0.000,2,    2.310,2,    1.486,2,    0.689,2, -999.000,9, -999.000,9, -999.000,9
           NA,    P03C,    159,   1,-999.0,     -99,  2,20051201,1530,  24.0208, -167.2437,  3924,  701.200,    5.522,   34.144,2,   34.144,2,   58.550,1,   63.750,2,   76.760,2,   37.390,2,    0.000,2,    2.735,2,    0.696,2,    0.321,2, -999.000,9, -999.000,9, -999.000,9
           NA,    P03C,    159,   1,-999.0,     -99,  2,20051201,1530,  24.0208, -167.2437,  3924,  799.400,    4.809,   34.245,2,   34.245,2,   37.550,1,   41.600,2,   93.010,2,   40.600,2,    0.000,2,    2.968,2,    0.273,6,    0.125,6, -999.000,9, -999.000,9, -999.000,9
           NA,    P03C,    159,   1,-999.0,     -99,  2,20051201,1530,  24.0208, -167.2437,  3924,  901.000,    4.252,   34.335,2,   34.335,2,   34.540,1,   38.210,2,  106.370,2,   41.680,2,    0.000,2,    3.038,2,    0.123,2,    0.052,2, -999.000,9, -999.000,9, -999.000,9
           NA,    P03C,    159,   1,-999.0,     -99,  2,20051201,1530,  24.0208, -167.2437,  3924, 1001.700,    3.937,   34.393,2,   34.393,6,   37.350,1,   41.230,2,  113.950,2,   41.880,2,    0.000,2,    3.049,2,    0.078,2,    0.032,2, -999.000,9, -999.000,9, -999.000,9
           NA,    P03C,    159,   1,-999.0,     -99,  2,20051201,1530,  24.0208, -167.2437,  3924, 1201.600,    3.323,   34.488,2,   34.489,2,   47.580,1,   52.210,2,  127.650,2,   41.770,2,    0.000,2,    3.033,2,    0.012,2,    0.008,2, -999.000,9, -999.000,9, -999.000,9
           NA,    P03C,    159,   1,-999.0,     -99,  2,20051201,1530,  24.0208, -167.2437,  3924, 1399.600,    2.860,   34.541,2,   34.541,2,   58.710,1,   64.150,2,  137.820,2,   41.380,2,    0.000,2,    2.980,2,    0.000,2,    0.000,2, -999.000,9, -999.000,9, -999.000,9
           NA,    P03C,    159,   1,-999.0,     -99,  2,20051201,1530,  24.0208, -167.2437,  3924, 1601.400,    2.489,   34.573,2,   34.574,2,   68.250,1,   74.440,2,  145.820,2,   40.900,2,    0.000,2,    2.936,2,    0.005,2,    0.006,2, -999.000,9, -999.000,9, -999.000,9
           NA,    P03C,    159,   1,-999.0,     -99,  2,20051201,1530,  24.0208, -167.2437,  3924, 1801.800,    2.190,   34.601,2,   34.600,6,   77.920,1,   85.130,2,  151.680,2,   40.370,2,    0.000,2,    2.882,2,    0.004,2,    0.000,2, -999.000,9, -999.000,9, -999.000,9
           NA,    P03C,    159,   1,-999.0,     -99,  2,20051201,1530,  24.0208, -167.2437,  3924, 2001.300,    2.003,   34.618,2,   34.618,2,   85.810,1,   93.840,2,  154.920,2,   39.880,2,    0.000,2,    2.834,2,    0.005,2,    0.000,2, -999.000,9, -999.000,9, -999.000,9
           NA,    P03C,    159,   1,-999.0,     -99,  2,20051201,1530,  24.0208, -167.2437,  3924, 2201.300,    1.860,   34.634,2,   34.634,2,   93.100,1,  102.040,2,  157.090,2,   39.260,2,   -0.010,2,    2.794,2, -999.000,9, -999.000,9, -999.000,9, -999.000,9, -999.000,9
           NA,    P03C,    159,   1,-999.0,     -99,  2,20051201,1530,  24.0208, -167.2437,  3924, 2400.700,    1.750,   34.645,2,   34.645,2,   99.680,1,  109.530,2,  158.500,2,   38.800,2,    0.000,2,    2.750,2, -999.000,9, -999.000,9, -999.000,9, -999.000,9, -999.000,9
           NA,    P03C,    159,   1,-999.0,     -99,  2,20051201,1530,  24.0208, -167.2437,  3924, 2601.100,    1.659,   34.654,2,   34.654,6,  106.460,1,  116.730,2,  158.930,2,   38.460,2,    0.000,2,    2.716,2,    0.000,2,    0.000,2, -999.000,9, -999.000,9, -999.000,9
           NA,    P03C,    159,   1,-999.0,     -99,  2,20051201,1530,  24.0208, -167.2437,  3924, 2800.200,    1.592,   34.662,2,   34.662,2,  112.830,1,  123.770,2,  158.210,2,   37.960,2,    0.000,2,    2.679,2, -999.000,9, -999.000,9, -999.000,9, -999.000,9, -999.000,9
           NA,    P03C,    159,   1,-999.0,     -99,  2,20051201,1530,  24.0208, -167.2437,  3924, 2999.200,    1.541,   34.669,2,   34.669,2,  118.820,1,  130.230,2,  157.100,2,   37.500,2,    0.000,2,    2.649,2, -999.000,9, -999.000,9, -999.000,9, -999.000,9, -999.000,9
           NA,    P03C,    159,   1,-999.0,     -99,  2,20051201,1530,  24.0208, -167.2437,  3924, 3250.700,    1.509,   34.674,2,   34.674,6,  124.540,1,  136.250,2,  155.860,2,   37.220,2,    0.000,2,    2.611,2,    0.007,2,    0.000,2, -999.000,9, -999.000,9, -999.000,9
           NA,    P03C,    159,   1,-999.0,     -99,  2,20051201,1530,  24.0208, -167.2437,  3924, 3499.700,    1.482,   34.679,2,   34.679,2,  130.430,1,  142.100,2,  153.680,2,   36.750,2,    0.000,2,    2.582,2, -999.000,9, -999.000,9, -999.000,9, -999.000,9, -999.000,9
           NA,    P03C,    159,   1,-999.0,     -99,  2,20051201,1530,  24.0208, -167.2437,  3924, 3747.800,    1.472,   34.682,2,   34.682,2,  135.280,1,  146.840,2,  150.960,2,   36.360,2,    0.000,2,    2.557,2, -999.000,9, -999.000,9, -999.000,9, -999.000,9, -999.000,9
           NA,    P03C,    159,   1,-999.0,     -99,  2,20051201,1530,  24.0208, -167.2437,  3924, 3749.000,    1.470,   34.682,2,   34.682,2,  135.430,1,  146.850,2,  151.470,2,   36.500,2,    0.000,2,    2.562,2, -999.000,9, -999.000,9, -999.000,9, -999.000,9, -999.000,9
           NA,    P03C,    159,   1,-999.0,     -99,  2,20051201,1530,  24.0208, -167.2437,  3924, 3939.800,    1.467,   34.684,2,   34.684,6,  139.870,1,  150.290,2,  148.850,2,   36.170,2,    0.000,2,    2.542,2,    0.000,2,    0.006,2, -999.000,9, -999.000,9, -999.000,9