BOTTLE,20211903JOAExport
EXPOCODE,SECT_ID,STNNBR,CASTNO,SAMPNO,BTLNBR,BTLNBR_FLAG_W,DATE,TIME,LATITUDE,LONGITUDE,DEPTH,CTDPRS,CTDTMP,CTDSAL,CTDSAL_FLAG_W,SALNTY,SALNTY_FLAG_W,CTDOXY,CTDOXY_FLAG_W,OXYGEN,OXYGEN_FLAG_W,SILCAT,SILCAT_FLAG_W,NITRAT,NITRAT_FLAG_W,NITRIT,NITRIT_FLAG_W,PHSPHT,PHSPHT_FLAG_W,CFC-11,CFC-11_FLAG_W,CFC-12,CFC-12_FLAG_W,SF6,SF6_FLAG_W,TCARBN,TCARBN_FLAG_W,ALKALI,ALKALI_FLAG_W
,,,,,,,,,,,,DB,ITS-90,PSS-78,,PSS-78,,UMOL/KG,,UMOL/KG,,UMOL/KG,,UMOL/KG,,UMOL/KG,,UMOL/KG,,PMOL/KG,,PMOL/KG,,FMOL/KG,,UMOL/KG,,UMOL/KG
           NA,    P03E,    122,   1,-999.0,     -99,  2,20051118,1100,  25.8365, -159.0140,  5060,    9.300,   25.237,   35.342,2,   35.341,2,  191.370,1,  207.930,2,    0.910,2,    0.050,2,    0.000,2,    0.032,2,    1.660,2,    1.011,2, -999.000,9, 1984.600,2, 2322.700,2
           NA,    P03E,    122,   1,-999.0,     -99,  2,20051118,1100,  25.8365, -159.0140,  5060,   49.500,   25.241,   35.340,2,   35.340,2,  191.420,1,  207.750,2,    0.870,2,    0.040,2,    0.000,2,    0.039,2,    1.662,2,    1.021,2, -999.000,9, 1984.700,6, 2318.200,2
           NA,    P03E,    122,   1,-999.0,     -99,  2,20051118,1100,  25.8365, -159.0140,  5060,  100.900,   22.572,   35.209,2,   35.209,2,  200.170,1,  217.230,2,    1.210,2,    0.050,2,    0.000,2,    0.053,2,    1.974,2,    1.207,2, -999.000,9, 2005.700,2, 2313.100,6
           NA,    P03E,    122,   1,-999.0,     -99,  2,20051118,1100,  25.8365, -159.0140,  5060,  150.800,   19.515,   35.029,2,   35.034,2,  189.620,1,  205.570,2,    2.160,2,    1.380,2,    0.020,2,    0.175,2,    2.189,2,    1.280,2, -999.000,9, 2032.600,2, 2302.900,2
           NA,    P03E,    122,   1,-999.0,     -99,  2,20051118,1100,  25.8365, -159.0140,  5060,  199.300,   17.189,   34.796,2,   34.796,2,  192.000,1,  208.070,2,    3.630,2,    3.280,2,    0.010,2,    0.294,2,    2.413,2,    1.372,2, -999.000,9, 2041.000,2, 2285.100,2
           NA,    P03E,    122,   1,-999.0,     -99,  2,20051118,1100,  25.8365, -159.0140,  5060,  251.000,   15.240,   34.576,2,   34.576,2,  193.920,1,  209.910,2,    5.740,2,    5.950,2,    0.000,2,    0.471,2,    2.613,6,    1.447,6, -999.000,9, 2048.200,2, 2273.600,2
           NA,    P03E,    122,   1,-999.0,     -99,  2,20051118,1100,  25.8365, -159.0140,  5060,  301.400,   13.541,   34.408,2,   34.409,2,  194.640,1,  210.560,2,    8.660,2,    8.820,2,    0.000,2,    0.664,2,    2.767,2,    1.503,2, -999.000,9, 2063.000,2, 2265.600,2
           NA,    P03E,    122,   1,-999.0,     -99,  2,20051118,1100,  25.8365, -159.0140,  5060,  400.200,   10.685,   34.203,2,   34.207,2,  186.570,1,  201.930,2,   17.570,2,   15.060,2,    0.000,2,    1.095,2,    2.915,2,    1.506,2, -999.000,9, 2102.300,2, 2263.500,2
           NA,    P03E,    122,   1,-999.0,     -99,  2,20051118,1100,  25.8365, -159.0140,  5060,  499.600,    8.138,   34.081,2,   34.081,6,  143.100,1,  154.720,2,   36.730,2,   24.640,2,    0.000,2,    1.782,2,    2.365,2,    1.141,2, -999.000,9, 2168.200,2, 2275.600,2
           NA,    P03E,    122,   1,-999.0,     -99,  2,20051118,1100,  25.8365, -159.0140,  5060,  602.100,    6.457,   34.060,2,   34.060,2,   93.120,1,   99.850,2,   58.140,2,   32.830,2,    0.000,2,    2.378,2,    1.361,2,    0.632,2, -999.000,9, 2233.700,2, 2289.100,2
           NA,    P03E,    122,   1,-999.0,     -99,  2,20051118,1100,  25.8365, -159.0140,  5060,  701.900,    5.328,   34.114,2,   34.113,2,   53.820,1,   58.450,2,   78.490,2,   38.360,2,    0.000,2,    2.794,2,    0.584,2,    0.269,2, -999.000,9, 2284.900,6, 2306.200,2
           NA,    P03E,    122,   1,-999.0,     -99,  2,20051118,1100,  25.8365, -159.0140,  5060,  801.700,    4.590,   34.214,2,   34.212,2,   30.550,1,   33.340,2,   96.850,2,   41.590,2,    0.000,2,    3.037,2,    0.186,6,    0.087,6, -999.000,9, 2321.400,2, 2331.800,6
           NA,    P03E,    122,   1,-999.0,     -99,  2,20051118,1100,  25.8365, -159.0140,  5060,  900.100,    4.284,   34.285,2,   34.286,2,   24.730,1,   26.630,2,  105.930,2,   42.660,2,    0.000,2,    3.112,2,    0.082,2,    0.026,2, -999.000,9, 2337.300,2, 2343.700,2
           NA,    P03E,    122,   1,-999.0,     -99,  2,20051118,1100,  25.8365, -159.0140,  5060, 1002.800,    3.899,   34.393,2,   34.391,6,   27.900,1,   30.110,2,  115.580,2,   43.090,2,    0.000,2,    3.135,2,    0.014,2,    0.005,2, -999.000,9, 2347.800,2, 2365.600,2
           NA,    P03E,    122,   1,-999.0,     -99,  2,20051118,1100,  25.8365, -159.0140,  5060, 1201.600,    3.391,   34.497,2,   34.497,2,   44.710,1,   48.320,2,  125.930,2,   42.280,2,    0.000,2,    3.064,2,    0.002,2,    0.000,2, -999.000,9, 2352.700,2, 2381.400,2
           NA,    P03E,    122,   1,-999.0,     -99,  2,20051118,1100,  25.8365, -159.0140,  5060, 1400.700,    3.030,   34.544,2,   34.544,2,   55.690,1,   60.550,2,  133.460,2,   41.900,2,    0.000,2,    3.012,2,    0.000,2,    0.000,2, -999.000,9, 2354.500,2, 2392.700,2
           NA,    P03E,    122,   1,-999.0,     -99,  2,20051118,1100,  25.8365, -159.0140,  5060, 1602.200,    2.622,   34.575,2,   34.575,2,   65.020,1,   70.880,2,  142.710,2,   41.290,2,    0.000,2,    2.960,2,    0.000,2,    0.000,2, -999.000,9, 2355.900,2, 2398.300,2
           NA,    P03E,    122,   1,-999.0,     -99,  2,20051118,1100,  25.8365, -159.0140,  5060, 1799.700,    2.314,   34.596,2,   34.597,2,   72.330,1,   78.740,2,  150.590,2,   40.860,2,    0.000,2,    2.925,2,    0.001,2,    0.000,2, -999.000,9, 2359.300,2, 2407.600,2
           NA,    P03E,    122,   1,-999.0,     -99,  2,20051118,1100,  25.8365, -159.0140,  5060, 2000.100,    2.136,   34.611,2,   34.611,2,   77.980,1,   85.120,2,  154.610,2,   40.580,2,    0.000,2,    2.891,2,    0.000,2,    0.000,2, -999.000,9, 2359.600,2, 2411.000,2
           NA,    P03E,    122,   1,-999.0,     -99,  2,20051118,1100,  25.8365, -159.0140,  5060, 2200.700,    1.931,   34.627,2,   34.627,6,   85.820,1,   94.030,2,  159.080,2,   40.040,2,    0.000,2,    2.841,2, -999.000,9, -999.000,9, -999.000,9, 2360.200,2, 2415.300,2
           NA,    P03E,    122,   1,-999.0,     -99,  2,20051118,1100,  25.8365, -159.0140,  5060, 2400.100,    1.781,   34.641,2,   34.642,2,   94.150,1,  103.210,2,  161.490,2,   39.480,2,    0.000,2,    2.793,2, -999.000,9, -999.000,9, -999.000,9, 2355.400,6, 2419.600,2
           NA,    P03E,    122,   1,-999.0,     -99,  2,20051118,1100,  25.8365, -159.0140,  5060, 2601.200,    1.684,   34.651,2,   34.651,2,  101.350,1,  111.110,2,  161.810,2,   39.050,2,    0.000,2,    2.750,2,    0.001,2,    0.001,2, -999.000,9, 2351.800,2, 2423.900,6
           NA,    P03E,    122,   1,-999.0,     -99,  2,20051118,1100,  25.8365, -159.0140,  5060, 2801.500,    1.598,   34.661,2,   34.660,2,  109.300,1,  120.000,2,  161.230,2,   38.400,2,    0.000,2,    2.705,2, -999.000,9, -999.000,9, -999.000,9, 2347.300,2, 2426.600,2
           NA,    P03E,    122,   1,-999.0,     -99,  2,20051118,1100,  25.8365, -159.0140,  5060, 3002.100,    1.565,   34.666,2,   34.666,2,  113.910,1,  124.940,2,  160.250,2,   38.080,2,    0.000,2,    2.684,2, -999.000,9, -999.000,9, -999.000,9, 2343.400,2, 2422.800,2
           NA,    P03E,    122,   1,-999.0,     -99,  2,20051118,1100,  25.8365, -159.0140,  5060, 3251.100,    1.521,   34.672,2,   34.672,6,  120.490,1,  132.030,2,  158.820,2,   37.640,2,    0.000,2,    2.636,2, -999.000,9, -999.000,9, -999.000,9, 2339.300,2, 2421.200,2
           NA,    P03E,    122,   1,-999.0,     -99,  2,20051118,1100,  25.8365, -159.0140,  5060, 3502.000,    1.499,   34.676,2,   34.676,2,  125.520,1,  137.320,2,  157.360,2,   37.210,2,    0.000,2,    2.612,2,    0.000,2,    0.001,2, -999.000,9, 2335.000,2, 2425.600,2
           NA,    P03E,    122,   1,-999.0,     -99,  2,20051118,1100,  25.8365, -159.0140,  5060, 3751.500,    1.483,   34.681,2,   34.681,2,  130.100,1,  142.230,2,  156.300,2,   36.870,2,    0.000,2,    2.588,2, -999.000,9, -999.000,9, -999.000,9, 2331.100,2, 2419.200,2
           NA,    P03E,    122,   1,-999.0,     -99,  2,20051118,1100,  25.8365, -159.0140,  5060, 4002.600,    1.481,   34.683,2,   34.683,2,  133.900,1,  145.940,2,  155.100,2,   36.640,2,    0.000,2,    2.567,2, -999.000,9, -999.000,9, -999.000,9, 2327.600,2, 2420.900,2
           NA,    P03E,    122,   1,-999.0,     -99,  2,20051118,1100,  25.8365, -159.0140,  5060, 4249.000,    1.489,   34.685,2,   34.685,2,  136.520,1,  148.410,2,  153.940,2,   36.490,2,    0.000,2,    2.559,2,    0.007,2,    0.004,2, -999.000,9, 2327.100,6, 2421.400,2
           NA,    P03E,    122,   1,-999.0,     -99,  2,20051118,1100,  25.8365, -159.0140,  5060, 4501.500,    1.495,   34.687,2,   34.688,2,  139.960,1,  151.530,2,  153.000,2,   36.280,2,    0.000,2,    2.537,2, -999.000,9, -999.000,9, -999.000,9, 2325.300,2, 2421.300,6
           NA,    P03E,    122,   1,-999.0,     -99,  2,20051118,1100,  25.8365, -159.0140,  5060, 4748.900,    1.514,   34.688,2,   34.689,2,  142.270,1,  153.380,2,  151.870,2,   36.160,2,    0.000,2,    2.534,2, -999.000,9, -999.000,9, -999.000,9, 2323.900,2, 2419.500,2
           NA,    P03E,    122,   1,-999.0,     -99,  2,20051118,1100,  25.8365, -159.0140,  5060, 5000.200,    1.536,   34.689,2,   34.689,2,  144.460,1,  154.710,2,  150.880,2,   36.040,2,    0.000,2,    2.526,2, -999.000,9, -999.000,9, -999.000,9, 2321.700,2, 2418.700,2
           NA,    P03E,    122,   1,-999.0,     -99,  2,20051118,1100,  25.8365, -159.0140,  5060, 5137.600,    1.551,   34.689,2,   34.689,6,  145.560,1,  155.140,2,  150.740,2,   36.020,2,    0.000,2,    2.528,2,    0.000,2,    0.000,2, -999.000,9, 2320.300,2, 2420.900,2
           NA,    P03E,    120,   1,-999.0,     -99,  2,20051118,0124,  25.0053, -158.0025,  4629,    9.500,   25.118,   35.339,2,   35.340,2,  192.770,1,  209.190,2,    1.040,2,    0.020,2,    0.010,2,    0.023,2,    1.685,2,    1.027,2, -999.000,9, -999.000,9, -999.000,9
           NA,    P03E,    120,   1,-999.0,     -99,  2,20051118,0124,  25.0053, -158.0025,  4629,   50.700,   25.042,   35.332,2,   35.333,2,  192.690,1,  209.180,2,    1.010,2,    0.020,2,    0.010,2,    0.029,2,    1.689,2,    1.042,2, -999.000,9, -999.000,9, -999.000,9
           NA,    P03E,    120,   1,-999.0,     -99,  2,20051118,0124,  25.0053, -158.0025,  4629,   99.900,   21.252,   35.091,2,   35.095,2,  211.990,1,  230.680,2,    1.890,2,    0.020,2,    0.010,2,    0.044,2,    2.148,2,    1.316,2, -999.000,9, -999.000,9, -999.000,9
           NA,    P03E,    120,   1,-999.0,     -99,  2,20051118,0124,  25.0053, -158.0025,  4629,  151.100,   18.217,   34.896,2,   34.896,2,  193.430,1,  209.520,2,    2.890,2,    1.920,2,    0.030,2,    0.216,2,    2.338,2,    1.349,2, -999.000,9, -999.000,9, -999.000,9
           NA,    P03E,    120,   1,-999.0,     -99,  2,20051118,0124,  25.0053, -158.0025,  4629,  201.800,   16.108,   34.610,2,   34.626,2,  187.750,1,  203.840,2,    4.380,2,    4.480,2,    0.020,2,    0.399,2,    2.555,2,    1.444,2, -999.000,9, -999.000,9, -999.000,9
           NA,    P03E,    120,   1,-999.0,     -99,  2,20051118,0124,  25.0053, -158.0025,  4629,  250.800,   14.355,   34.436,2,   34.446,2,  190.930,1,  206.600,2,    6.790,2,    7.310,2,    0.010,2,    0.571,2,    2.739,6,    1.502,6, -999.000,9, -999.000,9, -999.000,9
           NA,    P03E,    120,   1,-999.0,     -99,  2,20051118,0124,  25.0053, -158.0025,  4629,  301.400,   12.676,   34.315,2,   34.320,2,  195.140,1,  210.880,2,   10.110,2,   10.200,2,    0.010,2,    0.762,2,    2.875,2,    1.543,2, -999.000,9, -999.000,9, -999.000,9
           NA,    P03E,    120,   1,-999.0,     -99,  2,20051118,0124,  25.0053, -158.0025,  4629,  401.300,   10.370,   34.176,2,   34.176,2,  183.990,1,  198.680,2,   19.050,2,   16.160,2,    0.010,2,    1.165,2,    2.987,2,    1.529,2, -999.000,9, -999.000,9, -999.000,9
           NA,    P03E,    120,   1,-999.0,     -99,  2,20051118,0124,  25.0053, -158.0025,  4629,  501.400,    7.781,   34.068,2,   34.069,6,  137.700,1,  148.700,2,   40.260,2,   25.990,2,    0.000,2,    1.856,2,    2.276,2,    1.079,2, -999.000,9, -999.000,9, -999.000,9
           NA,    P03E,    120,   1,-999.0,     -99,  2,20051118,0124,  25.0053, -158.0025,  4629,  599.800,    6.458,   34.054,2,   34.055,2,   97.270,1,  103.840,2,   57.740,2,   32.490,2,    0.010,2,    2.359,2,    1.438,2,    0.666,2, -999.000,9, -999.000,9, -999.000,9
           NA,    P03E,    120,   1,-999.0,     -99,  2,20051118,0124,  25.0053, -158.0025,  4629,  701.900,    5.203,   34.120,2,   34.120,2,   52.300,1,   56.490,2,   80.630,2,   38.790,2,    0.010,2,    2.831,2,    0.557,2,    0.263,2, -999.000,9, -999.000,9, -999.000,9
           NA,    P03E,    120,   1,-999.0,     -99,  2,20051118,0124,  25.0053, -158.0025,  4629,  801.400,    4.522,   34.229,2,   34.227,2,   30.010,1,   32.620,2,   98.580,2,   41.730,2,    0.010,2,    3.054,2,    0.162,6,    0.079,6, -999.000,9, -999.000,9, -999.000,9
           NA,    P03E,    120,   1,-999.0,     -99,  2,20051118,0124,  25.0053, -158.0025,  4629,  900.200,    4.151,   34.315,2,   34.315,2,   24.940,1,   26.720,2,  109.180,2,   42.890,2,    0.000,2,    3.115,2,    0.055,2,    0.033,2, -999.000,9, -999.000,9, -999.000,9
           NA,    P03E,    120,   1,-999.0,     -99,  2,20051118,0124,  25.0053, -158.0025,  4629, 1002.200,    3.832,   34.379,2,   34.379,6,   26.230,1,   28.070,2,  117.670,2,   43.110,2,    0.000,2,    3.144,2,    0.022,2,    0.005,2, -999.000,9, -999.000,9, -999.000,9
           NA,    P03E,    120,   1,-999.0,     -99,  2,20051118,0124,  25.0053, -158.0025,  4629, 1202.500,    3.278,   34.491,2,   34.491,2,   41.820,1,   45.250,2,  129.740,2,   42.500,2,    0.000,2,    3.075,2,    0.014,2,    0.010,2, -999.000,9, -999.000,9, -999.000,9
           NA,    P03E,    120,   1,-999.0,     -99,  2,20051118,0124,  25.0053, -158.0025,  4629, 1401.400,    2.917,   34.540,2,   34.540,2,   53.760,1,   58.250,2,  137.510,2,   41.970,2,    0.000,2,    3.021,2,    0.003,2,    0.000,2, -999.000,9, -999.000,9, -999.000,9
           NA,    P03E,    120,   1,-999.0,     -99,  2,20051118,0124,  25.0053, -158.0025,  4629, 1603.000,    2.561,   34.576,2,   34.576,2,   65.300,1,   71.050,2,  144.900,2,   41.380,2,    0.000,2,    2.954,2,    0.003,2,    0.007,2, -999.000,9, -999.000,9, -999.000,9
           NA,    P03E,    120,   1,-999.0,     -99,  2,20051118,0124,  25.0053, -158.0025,  4629, 1803.600,    2.273,   34.599,2,   34.599,6,   73.570,1,   80.140,2,  150.980,2,   40.900,2,    0.010,2,    2.912,2,    0.002,2,    0.002,2, -999.000,9, -999.000,9, -999.000,9
           NA,    P03E,    120,   1,-999.0,     -99,  2,20051118,0124,  25.0053, -158.0025,  4629, 1999.300,    2.041,   34.616,2,   34.616,2,   79.190,1,   86.370,2,  158.250,2,   40.490,2,    0.000,2,    2.882,2,    0.000,2,    0.000,2, -999.000,9, -999.000,9, -999.000,9
           NA,    P03E,    120,   1,-999.0,     -99,  2,20051118,0124,  25.0053, -158.0025,  4629, 2201.600,    1.864,   34.633,2,   34.633,2,   87.930,1,   95.850,2,  161.650,2,   39.950,2,    0.010,2,    2.835,2, -999.000,9, -999.000,9, -999.000,9, -999.000,9, -999.000,9
           NA,    P03E,    120,   1,-999.0,     -99,  2,20051118,0124,  25.0053, -158.0025,  4629, 2399.000,    1.761,   34.644,2,   34.644,2,   94.210,1,  102.670,2,  163.440,2,   39.530,2,    0.000,2,    2.793,2,    0.000,2,    0.000,2, -999.000,9, -999.000,9, -999.000,9
           NA,    P03E,    120,   1,-999.0,     -99,  2,20051118,0124,  25.0053, -158.0025,  4629, 2599.700,    1.643,   34.655,2,   34.655,2,  103.790,1,  113.390,2,  163.190,2,   38.850,2,    0.000,2,    2.735,2, -999.000,9, -999.000,9, -999.000,9, -999.000,9, -999.000,9
           NA,    P03E,    120,   1,-999.0,     -99,  2,20051118,0124,  25.0053, -158.0025,  4629, 2800.300,    1.589,   34.662,2,   34.662,6,  109.690,1,  119.700,2,  162.410,2,   38.510,2,    0.000,2,    2.709,2, -999.000,9, -999.000,9, -999.000,9, -999.000,9, -999.000,9
           NA,    P03E,    120,   1,-999.0,     -99,  2,20051118,0124,  25.0053, -158.0025,  4629, 3001.800,    1.546,   34.668,2,   34.667,2,  115.340,1,  125.790,2,  161.600,2,   37.970,2,    0.000,2,    2.672,2,    0.000,2,    0.000,2, -999.000,9, -999.000,9, -999.000,9
           NA,    P03E,    120,   1,-999.0,     -99,  2,20051118,0124,  25.0053, -158.0025,  4629, 3248.300,    1.504,   34.674,2,   34.674,2,  122.430,1,  133.400,2,  158.930,2,   37.440,2,    0.000,2,    2.620,2, -999.000,9, -999.000,9, -999.000,9, -999.000,9, -999.000,9
           NA,    P03E,    120,   1,-999.0,     -99,  2,20051118,0124,  25.0053, -158.0025,  4629, 3500.800,    1.472,   34.679,2,   34.679,2,  129.080,1,  140.400,2,  157.100,2,   37.040,2,    0.010,2,    2.595,2, -999.000,9, -999.000,9, -999.000,9, -999.000,9, -999.000,9
           NA,    P03E,    120,   1,-999.0,     -99,  2,20051118,0124,  25.0053, -158.0025,  4629, 3750.400,    1.459,   34.683,2,   34.683,2,  133.880,1,  145.310,2,  155.420,2,   36.760,2,    0.000,2,    2.569,2,    0.002,2,    0.000,2, -999.000,9, -999.000,9, -999.000,9
           NA,    P03E,    120,   1,-999.0,     -99,  2,20051118,0124,  25.0053, -158.0025,  4629, 3998.000,    1.459,   34.685,2,   34.686,6,  137.650,1,  148.790,2,  153.930,2,   36.540,2,    0.010,2,    2.552,2, -999.000,9, -999.000,9, -999.000,9, -999.000,9, -999.000,9
           NA,    P03E,    120,   1,-999.0,     -99,  2,20051118,0124,  25.0053, -158.0025,  4629, 4249.200,    1.465,   34.688,2,   34.688,2,  141.130,1,  152.000,2,  152.560,2,   36.260,2,    0.010,2,    2.533,2, -999.000,9, -999.000,9, -999.000,9, -999.000,9, -999.000,9
           NA,    P03E,    120,   1,-999.0,     -99,  2,20051118,0124,  25.0053, -158.0025,  4629, 4501.700,    1.479,   34.689,2,   34.689,2,  143.860,1,  154.150,2,  151.440,2,   36.110,2,    0.010,2,    2.510,2, -999.000,9, -999.000,9, -999.000,9, -999.000,9, -999.000,9
           NA,    P03E,    120,   1,-999.0,     -99,  2,20051118,0124,  25.0053, -158.0025,  4629, 4652.300,    1.495,   34.689,2,   34.689,6,  144.890,1,  154.520,2,  151.480,2,   36.180,2,    0.010,2,    2.521,2,    0.002,2,    0.002,2, -999.000,9, -999.000,9, -999.000,9