BOTTLE,20211903JOAExport
EXPOCODE,SECT_ID,STNNBR,CASTNO,SAMPNO,BTLNBR,BTLNBR_FLAG_W,DATE,TIME,LATITUDE,LONGITUDE,DEPTH,CTDPRS,CTDTMP,CTDSAL,CTDSAL_FLAG_W,SALNTY,SALNTY_FLAG_W,CTDOXY,CTDOXY_FLAG_W,OXYGEN,OXYGEN_FLAG_W,SILCAT,SILCAT_FLAG_W,NITRAT,NITRAT_FLAG_W,NITRIT,NITRIT_FLAG_W,PHSPHT,PHSPHT_FLAG_W,CFC-11,CFC-11_FLAG_W,CFC-12,CFC-12_FLAG_W,SF6,SF6_FLAG_W,TCARBN,TCARBN_FLAG_W,ALKALI,ALKALI_FLAG_W
,,,,,,,,,,,,DB,ITS-90,PSS-78,,PSS-78,,UMOL/KG,,UMOL/KG,,UMOL/KG,,UMOL/KG,,UMOL/KG,,UMOL/KG,,PMOL/KG,,PMOL/KG,,FMOL/KG,,UMOL/KG,,UMOL/KG
           NA,    P03C,    205,   1,-999.0,     -99,  2,20051209,1651,  24.2403,  176.7805,  5755,    9.600,   26.240,   35.338,2,   35.337,2,  181.370,1,  204.540,2,    0.840,2,    0.040,2,    0.000,2,    0.046,2,    1.603,2,    0.966,2, -999.000,9, 1976.100,2, 2321.600,2
           NA,    P03C,    205,   1,-999.0,     -99,  2,20051209,1651,  24.2403,  176.7805,  5755,   49.400,   26.254,   35.336,2,   35.336,2,  181.200,1,  204.550,2,    0.840,2,    0.030,2,    0.000,2,    0.046,2,    1.615,2,    0.967,2, -999.000,9, 1976.700,6, 2322.600,2
           NA,    P03C,    205,   1,-999.0,     -99,  2,20051209,1651,  24.2403,  176.7805,  5755,   99.200,   23.083,   35.243,2,   35.244,2,  189.160,1,  213.460,2,    1.220,2,    0.040,2,    0.000,2,    0.066,2,    1.935,2,    1.145,2, -999.000,9, 2002.500,2, 2318.000,6
           NA,    P03C,    205,   1,-999.0,     -99,  2,20051209,1651,  24.2403,  176.7805,  5755,  150.100,   20.490,   35.134,2,   35.129,2,  175.090,1,  198.260,2,    1.950,2,    1.200,2,    0.020,2,    0.175,2,    2.117,2,    1.209,2, -999.000,9, 2031.100,2, 2310.100,2
           NA,    P03C,    205,   1,-999.0,     -99,  2,20051209,1651,  24.2403,  176.7805,  5755,  198.900,   18.268,   34.900,2,   34.889,2,  182.390,1,  206.730,2,    3.010,2,    2.700,2,    0.010,2,    0.260,2,    2.328,2,    1.287,2, -999.000,9, 2032.900,2, 2288.800,2
           NA,    P03C,    205,   1,-999.0,     -99,  2,20051209,1651,  24.2403,  176.7805,  5755,  249.800,   16.602,   34.737,2,   34.734,2,  183.770,1,  207.640,2,    4.530,2,    4.630,2,    0.000,2,    0.380,2,    2.481,2,    1.370,2, -999.000,9, 2042.600,2, 2283.400,2
           NA,    P03C,    205,   1,-999.0,     -99,  2,20051209,1651,  24.2403,  176.7805,  5755,  300.700,   14.820,   34.548,2,   34.550,2,  184.030,1,  207.970,2,    6.960,2,    7.190,2,    0.000,2,    0.554,2,    2.656,6,    1.441,6, -999.000,9, 2055.100,2, 2273.700,2
           NA,    P03C,    205,   1,-999.0,     -99,  2,20051209,1651,  24.2403,  176.7805,  5755,  399.400,   11.765,   34.269,2,   34.266,2,  173.560,1,  196.190,2,   14.470,2,   13.450,2,    0.000,2,    0.999,2,    2.872,2,    1.485,2, -999.000,9, 2094.200,2, 2261.400,2
           NA,    P03C,    205,   1,-999.0,     -99,  2,20051209,1651,  24.2403,  176.7805,  5755,  502.200,    9.547,   34.157,2,   34.158,6,  155.940,1,  176.880,2,   26.040,2,   19.660,2,    0.000,2,    1.425,2,    2.672,2,    1.324,2, -999.000,9, 2133.900,2, 2266.900,2
           NA,    P03C,    205,   1,-999.0,     -99,  2,20051209,1651,  24.2403,  176.7805,  5755,  600.400,    7.406,   34.091,2,   34.091,2,  107.290,1,  121.150,2,   47.310,2,   28.990,2,    0.000,2,    2.110,2,    1.738,2,    0.820,2, -999.000,9, 2206.100,2, 2281.200,2
           NA,    P03C,    205,   1,-999.0,     -99,  2,20051209,1651,  24.2403,  176.7805,  5755,  700.400,    5.972,   34.140,2,   34.141,2,   65.110,1,   73.630,2,   69.570,2,   35.740,2,    0.000,2,    2.621,2,    0.766,2,    0.351,2, -999.000,9, 2264.000,6, 2303.400,2
           NA,    P03C,    205,   1,-999.0,     -99,  2,20051209,1651,  24.2403,  176.7805,  5755,  801.100,    5.023,   34.239,2,   34.238,2,   40.920,1,   47.090,2,   88.390,2,   39.730,2,    0.000,2,    2.919,2,    0.278,6,    0.127,6, -999.000,9, 2305.500,2, 2324.500,6
           NA,    P03C,    205,   1,-999.0,     -99,  2,20051209,1651,  24.2403,  176.7805,  5755,  900.700,    4.510,   34.350,2,   34.350,2,   36.020,1,   41.770,2,  100.280,2,   41.210,2,    0.000,2,    3.011,2,    0.067,2,    0.040,2, -999.000,9, 2325.600,2, 2342.900,2
           NA,    P03C,    205,   1,-999.0,     -99,  2,20051209,1651,  24.2403,  176.7805,  5755, 1002.200,    4.056,   34.408,2,   34.409,6,   38.050,1,   44.240,2,  109.990,2,   41.550,2,    0.000,2,    3.029,2,    0.028,2,    0.010,2, -999.000,9, 2334.700,2, 2359.400,2
           NA,    P03C,    205,   1,-999.0,     -99,  2,20051209,1651,  24.2403,  176.7805,  5755, 1201.100,    3.522,   34.506,2,   34.506,2,   52.450,1,   60.160,2,  120.780,2,   40.980,2,    0.000,2,    2.974,2,    0.001,2,    0.006,2, -999.000,9, 2340.600,2, 2373.400,2
           NA,    P03C,    205,   1,-999.0,     -99,  2,20051209,1651,  24.2403,  176.7805,  5755, 1399.700,    3.024,   34.544,2,   34.545,2,   60.800,1,   70.000,2,  131.220,2,   40.760,2,    0.000,2,    2.943,2,    0.000,2,    0.000,2, -999.000,9, 2346.400,2, 2386.000,2
           NA,    P03C,    205,   1,-999.0,     -99,  2,20051209,1651,  24.2403,  176.7805,  5755, 1601.600,    2.638,   34.574,2,   34.575,2,   68.620,1,   78.890,2,  138.940,2,   40.450,2,    0.000,2,    2.896,2,    0.000,2,    0.002,2, -999.000,9, 2350.400,2, 2401.400,2
           NA,    P03C,    205,   1,-999.0,     -99,  2,20051209,1651,  24.2403,  176.7805,  5755, 1800.200,    2.327,   34.598,2,   34.598,2,   75.560,1,   87.120,2,  145.740,2,   40.120,2,    0.000,2,    2.865,2, -999.000,5, -999.000,5, -999.000,9, 2354.400,2, 2406.100,2
           NA,    P03C,    205,   1,-999.0,     -99,  2,20051209,1651,  24.2403,  176.7805,  5755, 2000.900,    2.090,   34.615,2,   34.615,2,   81.510,1,   94.270,2,  151.090,2,   39.680,2,    0.000,2,    2.835,2,    0.000,2,    0.001,2, -999.000,9, 2353.600,2, 2407.900,2
           NA,    P03C,    205,   1,-999.0,     -99,  2,20051209,1651,  24.2403,  176.7805,  5755, 2199.500,    1.913,   34.630,2,   34.630,6,   88.390,1,  102.550,2,  153.880,2,   39.320,2,    0.000,2,    2.792,2,    0.000,2,    0.003,2, -999.000,9, 2350.400,2, 2410.600,2
           NA,    P03C,    205,   1,-999.0,     -99,  2,20051209,1651,  24.2403,  176.7805,  5755, 2400.100,    1.798,   34.641,2,   34.640,2,   94.040,1,  109.440,2,  155.160,2,   38.840,2,    0.000,2,    2.752,2,    0.000,2,    0.003,2, -999.000,9, 2349.900,6, 2417.700,2
           NA,    P03C,    205,   1,-999.0,     -99,  2,20051209,1651,  24.2403,  176.7805,  5755, 2600.000,    1.718,   34.650,2,   34.650,2,  100.010,1,  116.480,2,  155.180,2,   38.380,2,    0.000,2,    2.714,2, -999.000,9, -999.000,9, -999.000,9, 2345.900,2, 2417.400,6
           NA,    P03C,    205,   1,-999.0,     -99,  2,20051209,1651,  24.2403,  176.7805,  5755, 2800.500,    1.648,   34.658,2,   34.659,2,  105.640,1,  123.380,2,  154.760,2,   37.950,2,    0.000,2,    2.683,2, -999.000,9, -999.000,9, -999.000,9, 2343.200,2, 2420.400,2
           NA,    P03C,    205,   1,-999.0,     -99,  2,20051209,1651,  24.2403,  176.7805,  5755, 3000.000,    1.589,   34.664,2,   34.665,2,  110.240,1,  128.760,2,  154.520,2,   37.600,2,    0.000,2,    2.659,2,    0.000,2,    0.002,2, -999.000,9, 2339.800,2, 2414.300,2
           NA,    P03C,    205,   1,-999.0,     -99,  2,20051209,1651,  24.2403,  176.7805,  5755, 3250.100,    1.537,   34.671,2,   34.672,6,  115.800,1,  135.380,2,  153.890,2,   37.220,2,   -0.010,2,    2.619,2, -999.000,9, -999.000,9, -999.000,9, 2335.100,2, 2415.300,2
           NA,    P03C,    205,   1,-999.0,     -99,  2,20051209,1651,  24.2403,  176.7805,  5755, 3501.200,    1.500,   34.677,2,   34.677,2,  121.210,1,  141.610,2,  152.210,2,   36.720,2,    0.000,2,    2.587,2, -999.000,9, -999.000,9, -999.000,9, 2331.900,2, 2418.900,2
           NA,    P03C,    205,   1,-999.0,     -99,  2,20051209,1651,  24.2403,  176.7805,  5755, 3750.300,    1.473,   34.681,2,   34.682,2,  125.990,1,  147.100,2,  150.680,2,   36.390,2,    0.000,2,    2.562,2,    0.000,2,    0.004,2, -999.000,9, 2329.300,2, 2414.100,2
           NA,    P03C,    205,   1,-999.0,     -99,  2,20051209,1651,  24.2403,  176.7805,  5755, 4000.500,    1.451,   34.686,2,   34.686,2,  131.290,1,  152.860,2,  148.350,2,   35.970,2,    0.000,2,    2.527,2, -999.000,9, -999.000,9, -999.000,9, 2323.400,2, 2414.300,2
           NA,    P03C,    205,   1,-999.0,     -99,  2,20051209,1651,  24.2403,  176.7805,  5755, 4250.300,    1.443,   34.689,2,   34.689,2,  135.660,1,  157.820,2,  145.740,2,   35.610,2,    0.000,2,    2.493,2, -999.000,9, -999.000,9, -999.000,9, 2319.300,6, 2416.200,2
           NA,    P03C,    205,   1,-999.0,     -99,  2,20051209,1651,  24.2403,  176.7805,  5755, 4500.000,    1.435,   34.692,2,   34.692,6,  141.050,1,  163.430,2,  142.120,2,   35.200,2,    0.000,2,    2.467,2,    0.000,2,    0.003,2, -999.000,9, 2311.200,2, 2409.000,6
           NA,    P03C,    205,   1,-999.0,     -99,  2,20051209,1651,  24.2403,  176.7805,  5755, 4750.000,    1.433,   34.695,2,   34.695,2,  145.640,1,  168.390,2,  138.990,2,   34.860,2,    0.000,2,    2.444,2, -999.000,9, -999.000,9, -999.000,9, 2307.300,2, 2406.000,2
           NA,    P03C,    205,   1,-999.0,     -99,  2,20051209,1651,  24.2403,  176.7805,  5755, 4999.900,    1.430,   34.697,2,   34.698,2,  150.570,1,  173.500,2,  135.460,2,   34.500,2,    0.000,2,    2.417,2, -999.000,9, -999.000,9, -999.000,9, 2300.900,2, 2398.900,2
           NA,    P03C,    205,   1,-999.0,     -99,  2,20051209,1651,  24.2403,  176.7805,  5755, 5249.600,    1.447,   34.698,2,   34.699,2,  153.290,1,  175.780,2,  134.040,2,   34.380,2,    0.000,2,    2.403,2,    0.000,2,    0.001,2, -999.000,9, 2299.200,2, 2396.100,2
           NA,    P03C,    205,   1,-999.0,     -99,  2,20051209,1651,  24.2403,  176.7805,  5755, 5499.600,    1.468,   34.699,2,   34.700,2,  155.590,1,  177.220,2,  133.150,2,   34.250,2,    0.000,2,    2.391,2, -999.000,9, -999.000,9, -999.000,9, 2296.800,2, 2394.500,2
           NA,    P03C,    205,   1,-999.0,     -99,  2,20051209,1651,  24.2403,  176.7805,  5755, 5749.400,    1.497,   34.700,2,   34.700,2,  157.320,1,  177.810,2,  132.860,2,   34.230,2,    0.000,2,    2.394,2, -999.000,9, -999.000,9, -999.000,9, 2296.400,2, 2392.300,2
           NA,    P03C,    205,   1,-999.0,     -99,  2,20051209,1651,  24.2403,  176.7805,  5755, 5857.900,    1.509,   34.700,2,   34.701,6,  159.300,1,  178.430,2,  132.510,2,   34.140,2,    0.000,2,    2.393,2,    0.000,2,    0.003,2, -999.000,9, 2295.300,2, 2394.700,2
           NA,    P03C,    203,   1,-999.0,     -99,  2,20051209,0845,  24.2148,  177.6025,  5771,    9.400,   26.069,   35.356,2,   35.356,2,  181.770,1,  204.910,2,    0.930,2,    0.040,2,    0.000,2,    0.052,2,    1.603,2,    0.953,2, -999.000,9, -999.000,9, -999.000,9
           NA,    P03C,    203,   1,-999.0,     -99,  2,20051209,0845,  24.2148,  177.6025,  5771,   49.200,   26.067,   35.356,2,   35.357,2,  181.770,1,  204.950,2,    0.920,2,    0.040,2,    0.000,2,    0.046,2,    1.602,2,    0.962,2, -999.000,9, -999.000,9, -999.000,9
           NA,    P03C,    203,   1,-999.0,     -99,  2,20051209,0845,  24.2148,  177.6025,  5771,  100.700,   22.678,   35.233,2,   35.234,2,  187.250,1,  211.540,2,    1.310,2,    0.040,2,    0.000,2,    0.073,2,    1.922,2,    1.129,2, -999.000,9, -999.000,9, -999.000,9
           NA,    P03C,    203,   1,-999.0,     -99,  2,20051209,0845,  24.2148,  177.6025,  5771,  150.500,   20.291,   35.111,2,   35.112,2,  174.850,1,  197.660,2,    2.020,2,    1.430,2,    0.020,2,    0.193,2,    2.096,2,    1.233,2, -999.000,9, -999.000,9, -999.000,9
           NA,    P03C,    203,   1,-999.0,     -99,  2,20051209,0845,  24.2148,  177.6025,  5771,  199.200,   18.194,   34.898,2,   34.897,2,  181.090,1,  204.520,2,    3.110,2,    2.870,2,    0.010,2,    0.281,2,    2.267,2,    1.320,2, -999.000,9, -999.000,9, -999.000,9
           NA,    P03C,    203,   1,-999.0,     -99,  2,20051209,0845,  24.2148,  177.6025,  5771,  247.900,   16.552,   34.726,2,   34.726,2,  183.420,1,  207.290,2,    4.650,2,    4.890,2,    0.000,2,    0.404,2,    2.432,6,    1.391,6, -999.000,9, -999.000,9, -999.000,9
           NA,    P03C,    203,   1,-999.0,     -99,  2,20051209,0845,  24.2148,  177.6025,  5771,  300.200,   15.127,   34.582,2,   34.579,2,  182.960,1,  206.760,2,    6.840,2,    7.130,2,    0.000,2,    0.547,2,    2.596,2,    1.456,2, -999.000,9, -999.000,9, -999.000,9
           NA,    P03C,    203,   1,-999.0,     -99,  2,20051209,0845,  24.2148,  177.6025,  5771,  402.500,   12.048,   34.309,2,   34.308,2,  177.780,1,  201.280,2,   13.930,2,   12.690,2,    0.000,2,    0.937,2,    2.815,2,    1.492,2, -999.000,9, -999.000,9, -999.000,9
           NA,    P03C,    203,   1,-999.0,     -99,  2,20051209,0845,  24.2148,  177.6025,  5771,  501.100,    9.212,   34.136,2,   34.136,6,  148.850,1,  168.620,2,   28.510,2,   21.120,2,    0.000,2,    1.531,2,    2.524,2,    1.272,2, -999.000,9, -999.000,9, -999.000,9
           NA,    P03C,    203,   1,-999.0,     -99,  2,20051209,0845,  24.2148,  177.6025,  5771,  600.100,    7.253,   34.077,2,   34.077,2,  111.780,1,  126.780,2,   48.140,2,   28.710,2,    0.000,2,    2.087,2,    1.791,2,    0.873,2, -999.000,9, -999.000,9, -999.000,9
           NA,    P03C,    203,   1,-999.0,     -99,  2,20051209,0845,  24.2148,  177.6025,  5771,  700.800,    5.860,   34.104,2,   34.104,2,   71.600,1,   81.320,2,   69.740,2,   35.390,2,    0.000,2,    2.580,2,    0.919,2,    0.437,2, -999.000,9, -999.000,9, -999.000,9
           NA,    P03C,    203,   1,-999.0,     -99,  2,20051209,0845,  24.2148,  177.6025,  5771,  801.600,    5.029,   34.208,2,   34.209,2,   44.120,1,   50.280,2,   88.040,2,   39.640,2,    0.000,2,    2.896,2,    0.343,6,    0.165,6, -999.000,9, -999.000,9, -999.000,9
           NA,    P03C,    203,   1,-999.0,     -99,  2,20051209,0845,  24.2148,  177.6025,  5771,  898.700,    4.505,   34.318,2,   34.319,2,   35.280,1,   41.000,2,  100.620,2,   41.190,2,    0.000,2,    3.019,2,    0.109,2,    0.056,2, -999.000,9, -999.000,9, -999.000,9
           NA,    P03C,    203,   1,-999.0,     -99,  2,20051209,0845,  24.2148,  177.6025,  5771, 1002.200,    4.044,   34.404,2,   34.403,6,   37.350,1,   43.180,2,  110.940,2,   41.880,2,    0.000,2,    3.046,2,    0.033,2,    0.016,2, -999.000,9, -999.000,9, -999.000,9
           NA,    P03C,    203,   1,-999.0,     -99,  2,20051209,0845,  24.2148,  177.6025,  5771, 1200.700,    3.431,   34.490,2,   34.490,2,   46.990,1,   53.960,2,  124.150,2,   41.820,2,    0.000,2,    3.021,2,    0.000,2,    0.000,2, -999.000,9, -999.000,9, -999.000,9
           NA,    P03C,    203,   1,-999.0,     -99,  2,20051209,0845,  24.2148,  177.6025,  5771, 1401.800,    3.019,   34.538,2,   34.537,2,   58.350,1,   66.740,2,  131.970,2,   41.180,2,   -0.010,2,    2.965,2,    0.001,2,    0.001,2, -999.000,9, -999.000,9, -999.000,9
           NA,    P03C,    203,   1,-999.0,     -99,  2,20051209,0845,  24.2148,  177.6025,  5771, 1601.600,    2.626,   34.571,2,   34.570,2,   67.050,1,   76.900,2,  140.110,2,   40.700,2,    0.000,2,    2.923,2,    0.000,2,    0.000,2, -999.000,9, -999.000,9, -999.000,9
           NA,    P03C,    203,   1,-999.0,     -99,  2,20051209,0845,  24.2148,  177.6025,  5771, 1802.100,    2.309,   34.593,2,   34.593,2,   72.730,1,   83.800,2,  147.460,2,   40.510,2,    0.000,2,    2.894,2,    0.002,2,    0.000,2, -999.000,9, -999.000,9, -999.000,9
           NA,    P03C,    203,   1,-999.0,     -99,  2,20051209,0845,  24.2148,  177.6025,  5771, 2001.800,    2.078,   34.613,2,   34.613,2,   80.030,1,   92.380,2,  152.230,2,   40.020,2,    0.000,2,    2.853,2,    0.000,2,    0.000,2, -999.000,9, -999.000,9, -999.000,9
           NA,    P03C,    203,   1,-999.0,     -99,  2,20051209,0845,  24.2148,  177.6025,  5771, 2200.200,    1.924,   34.628,2,   34.629,6,   87.400,1,  101.350,2,  153.990,2,   39.550,2,    0.000,2,    2.806,2, -999.000,9, -999.000,9, -999.000,9, -999.000,9, -999.000,9
           NA,    P03C,    203,   1,-999.0,     -99,  2,20051209,0845,  24.2148,  177.6025,  5771, 2400.300,    1.792,   34.642,2,   34.642,2,   94.640,1,  109.790,2,  155.210,2,   38.990,2,   -0.010,2,    2.763,2,    0.000,2,    0.000,2, -999.000,9, -999.000,9, -999.000,9
           NA,    P03C,    203,   1,-999.0,     -99,  2,20051209,0845,  24.2148,  177.6025,  5771, 2602.200,    1.699,   34.651,2,   34.651,2,  100.470,1,  116.850,2,  155.920,2,   38.560,2,   -0.010,2,    2.726,2, -999.000,9, -999.000,9, -999.000,9, -999.000,9, -999.000,9
           NA,    P03C,    203,   1,-999.0,     -99,  2,20051209,0845,  24.2148,  177.6025,  5771, 2801.000,    1.632,   34.659,2,   34.659,2,  105.470,1,  122.860,2,  155.930,2,   38.180,2,    0.000,2,    2.694,2,    0.000,2,    0.000,2, -999.000,9, -999.000,9, -999.000,9
           NA,    P03C,    203,   1,-999.0,     -99,  2,20051209,0845,  24.2148,  177.6025,  5771, 3000.600,    1.578,   34.665,2,   34.665,2,  110.640,1,  129.090,2,  155.020,2,   37.750,2,    0.000,2,    2.662,2, -999.000,9, -999.000,9, -999.000,9, -999.000,9, -999.000,9
           NA,    P03C,    203,   1,-999.0,     -99,  2,20051209,0845,  24.2148,  177.6025,  5771, 3250.400,    1.530,   34.672,2,   34.672,2,  116.490,1,  135.720,2,  153.820,2,   37.310,2,    0.000,2,    2.624,2, -999.000,9, -999.000,9, -999.000,9, -999.000,9, -999.000,9
           NA,    P03C,    203,   1,-999.0,     -99,  2,20051209,0845,  24.2148,  177.6025,  5771, 3501.000,    1.492,   34.678,2,   34.678,6,  122.050,1,  142.310,2,  152.200,2,   36.840,2,    0.000,2,    2.586,2,    0.000,2,    0.000,2, -999.000,9, -999.000,9, -999.000,9
           NA,    P03C,    203,   1,-999.0,     -99,  2,20051209,0845,  24.2148,  177.6025,  5771, 4000.000,    1.454,   34.686,2,   34.685,2,  130.010,1,  151.290,2,  150.410,2,   36.310,2,    0.000,2,    2.544,2, -999.000,9, -999.000,9, -999.000,9, -999.000,9, -999.000,9
           NA,    P03C,    203,   1,-999.0,     -99,  2,20051209,0845,  24.2148,  177.6025,  5771, 4250.900,    1.450,   34.688,2,   34.688,2,  134.780,1,  156.510,2,  146.910,2,   35.880,2,    0.000,2,    2.514,2,    0.000,2,    0.000,2, -999.000,9, -999.000,9, -999.000,9
           NA,    P03C,    203,   1,-999.0,     -99,  2,20051209,0845,  24.2148,  177.6025,  5771, 4500.500,    1.443,   34.691,2,   34.691,2,  140.000,1,  162.200,2,  143.180,2,   35.390,2,    0.000,2,    2.480,2, -999.000,9, -999.000,9, -999.000,9, -999.000,9, -999.000,9
           NA,    P03C,    203,   1,-999.0,     -99,  2,20051209,0845,  24.2148,  177.6025,  5771, 4750.000,    1.437,   34.694,2,   34.694,6,  145.120,1,  167.600,2,  139.830,2,   35.080,2,    0.000,2,    2.454,2, -999.000,9, -999.000,9, -999.000,9, -999.000,9, -999.000,9
           NA,    P03C,    203,   1,-999.0,     -99,  2,20051209,0845,  24.2148,  177.6025,  5771, 5000.400,    1.441,   34.696,2,   34.697,2,  149.250,1,  171.670,2,  136.860,2,   34.780,2,   -0.010,2,    2.433,2,    0.002,2,    0.000,2, -999.000,9, -999.000,9, -999.000,9
           NA,    P03C,    203,   1,-999.0,     -99,  2,20051209,0845,  24.2148,  177.6025,  5771, 5250.300,    1.454,   34.698,2,   34.698,2,  152.430,1,  174.570,2,  135.070,2,   34.600,2,    0.000,2,    2.415,2, -999.000,9, -999.000,9, -999.000,9, -999.000,9, -999.000,9
           NA,    P03C,    203,   1,-999.0,     -99,  2,20051209,0845,  24.2148,  177.6025,  5771, 5498.200,    1.473,   34.699,2,   34.699,2,  155.160,1,  176.540,2,  133.580,2,   34.460,2,    0.000,2,    2.402,2, -999.000,9, -999.000,9, -999.000,9, -999.000,9, -999.000,9
           NA,    P03C,    203,   1,-999.0,     -99,  2,20051209,0845,  24.2148,  177.6025,  5771, 5749.200,    1.496,   34.700,2,   34.700,2,  157.630,1,  178.010,2,  132.910,2,   34.350,2,    0.000,2,    2.397,2,    0.001,2,    0.000,2, -999.000,9, -999.000,9, -999.000,9
           NA,    P03C,    203,   1,-999.0,     -99,  2,20051209,0845,  24.2148,  177.6025,  5771, 5873.900,    1.511,   34.700,2,   34.700,6,  159.530,1,  178.450,2,  132.550,2,   34.310,2,    0.000,2,    2.395,2,    0.000,2,    0.000,2, -999.000,9, -999.000,9, -999.000,9