BOTTLE,20211903JOAExport
EXPOCODE,SECT_ID,STNNBR,CASTNO,SAMPNO,BTLNBR,BTLNBR_FLAG_W,DATE,TIME,LATITUDE,LONGITUDE,DEPTH,CTDPRS,CTDTMP,CTDSAL,CTDSAL_FLAG_W,SALNTY,SALNTY_FLAG_W,CTDOXY,CTDOXY_FLAG_W,OXYGEN,OXYGEN_FLAG_W,SILCAT,SILCAT_FLAG_W,NITRAT,NITRAT_FLAG_W,NITRIT,NITRIT_FLAG_W,PHSPHT,PHSPHT_FLAG_W,CFC-11,CFC-11_FLAG_W,CFC-12,CFC-12_FLAG_W,SF6,SF6_FLAG_W,TCARBN,TCARBN_FLAG_W,ALKALI,ALKALI_FLAG_W
,,,,,,,,,,,,DB,ITS-90,PSS-78,,PSS-78,,UMOL/KG,,UMOL/KG,,UMOL/KG,,UMOL/KG,,UMOL/KG,,UMOL/KG,,PMOL/KG,,PMOL/KG,,FMOL/KG,,UMOL/KG,,UMOL/KG
           NA,    P03E,    142,   1,-999.0,     -99,  2,20051121,1435,  25.1642, -166.0558,  5018,    9.300,   25.795,   35.250,2,   35.250,2,  188.080,1,  205.680,2,    0.880,2,    0.040,2,    0.000,2,    0.013,2,    1.626,2,    0.984,2, -999.000,9, 1984.000,2, 2321.300,2
           NA,    P03E,    142,   1,-999.0,     -99,  2,20051121,1435,  25.1642, -166.0558,  5018,   50.000,   25.802,   35.249,2,   35.249,2,  188.360,1,  205.580,2,    0.820,2,    0.040,2,    0.000,2,    0.006,2,    1.623,2,    0.979,2, -999.000,9, 1985.700,2, 2322.800,2
           NA,    P03E,    142,   1,-999.0,     -99,  2,20051121,1435,  25.1642, -166.0558,  5018,   99.800,   23.558,   35.187,2,   35.188,2,  192.280,1,  209.350,2,    1.100,2,    0.080,2,    0.120,2,    0.038,2,    1.885,2,    1.122,2, -999.000,9, 2005.000,2, 2313.800,6
           NA,    P03E,    142,   1,-999.0,     -99,  2,20051121,1435,  25.1642, -166.0558,  5018,  149.500,   20.641,   35.130,2,   35.128,2,  182.880,1,  199.130,2,    1.810,2,    1.390,2,    0.030,2,    0.141,2,    2.085,2,    1.215,2, -999.000,9, 2032.700,2, 2309.600,2
           NA,    P03E,    142,   1,-999.0,     -99,  2,20051121,1435,  25.1642, -166.0558,  5018,  198.900,   18.299,   34.920,2,   34.917,2,  187.420,1,  204.280,2,    2.990,2,    2.780,2,    0.010,2,    0.241,2,    2.296,2,    1.324,2, -999.000,9, 2040.000,2, 2296.200,2
           NA,    P03E,    142,   1,-999.0,     -99,  2,20051121,1435,  25.1642, -166.0558,  5018,  249.700,   16.482,   34.723,2,   34.717,2,  191.760,1,  208.590,2,    4.600,2,    4.580,2,    0.010,2,    0.361,2,    2.466,6,    1.405,6, -999.000,9, 2045.000,2, 2283.300,2
           NA,    P03E,    142,   1,-999.0,     -99,  2,20051121,1435,  25.1642, -166.0558,  5018,  300.100,   14.700,   34.539,2,   34.537,2,  193.150,1,  210.070,2,    7.100,2,    7.170,2,    0.010,2,    0.531,2,    2.626,2,    1.472,2, -999.000,9, 2057.100,2, 2275.500,2
           NA,    P03E,    142,   1,-999.0,     -99,  2,20051121,1435,  25.1642, -166.0558,  5018,  400.100,   11.846,   34.282,2,   34.283,2,  187.180,1,  203.210,2,   14.120,2,   12.730,2,    0.000,2,    0.917,2,    2.808,2,    1.528,2, -999.000,9, 2089.400,2, 2263.200,2
           NA,    P03E,    142,   1,-999.0,     -99,  2,20051121,1435,  25.1642, -166.0558,  5018,  501.200,    9.958,   34.164,2,   34.165,6,  172.680,1,  187.990,2,   22.550,2,   17.810,2,    0.000,2,    1.274,2,    2.762,2,    1.447,2, -999.000,9, 2125.700,2, 2266.900,2
           NA,    P03E,    142,   1,-999.0,     -99,  2,20051121,1435,  25.1642, -166.0558,  5018,  599.800,    7.577,   34.072,2,   34.072,2,  126.810,1,  137.060,2,   43.710,2,   27.270,2,    0.000,2,    1.962,2, -999.000,5, -999.000,5, -999.000,9, 2194.300,2, 2277.900,2
           NA,    P03E,    142,   1,-999.0,     -99,  2,20051121,1435,  25.1642, -166.0558,  5018,  699.300,    5.924,   34.104,2,   34.105,2,   70.920,1,   77.070,2,   68.560,2,   35.630,2,    0.000,2,    2.598,2,    0.903,2,    0.443,2, -999.000,9, 2261.400,6, 2300.000,2
           NA,    P03E,    142,   1,-999.0,     -99,  2,20051121,1435,  25.1642, -166.0558,  5018,  799.100,    4.787,   34.230,2,   34.231,2,   40.320,1,   44.020,2,   93.150,2,   40.470,2,    0.000,2,    2.949,2,    0.286,6,    0.149,6, -999.000,9, 2316.300,2, 2330.700,6
           NA,    P03E,    142,   1,-999.0,     -99,  2,20051121,1435,  25.1642, -166.0558,  5018,  900.500,    4.271,   34.328,2,   34.326,2,   33.690,1,   36.300,2,  105.750,2,   41.980,2,    0.000,2,    3.047,2,    0.108,2,    0.056,2, -999.000,9, 2338.300,2, 2350.300,2
           NA,    P03E,    142,   1,-999.0,     -99,  2,20051121,1435,  25.1642, -166.0558,  5018, 1001.800,    4.006,   34.390,2,   34.389,6,   34.430,1,   37.250,2,  112.260,2,   42.260,2,    0.000,2,    3.074,2,    0.051,2,    0.022,2, -999.000,9, 2344.000,2, 2360.800,2
           NA,    P03E,    142,   1,-999.0,     -99,  2,20051121,1435,  25.1642, -166.0558,  5018, 1200.000,    3.510,   34.478,2,   34.478,2,   43.630,1,   47.590,2,  123.120,2,   42.160,2,    0.000,2,    3.044,2,    0.013,2,    0.003,2, -999.000,9, 2350.600,2, 2380.700,2
           NA,    P03E,    142,   1,-999.0,     -99,  2,20051121,1435,  25.1642, -166.0558,  5018, 1400.100,    2.984,   34.534,2,   34.534,2,   56.070,1,   61.480,2,  134.420,2,   41.580,2,    0.000,2,    2.986,2,    0.005,2,    0.003,2, -999.000,9, 2359.600,2, 2390.900,2
           NA,    P03E,    142,   1,-999.0,     -99,  2,20051121,1435,  25.1642, -166.0558,  5018, 1602.900,    2.540,   34.565,2,   34.565,2,   64.560,1,   70.820,2,  144.820,2,   41.240,2,    0.000,2,    2.939,2,    0.004,2,    0.002,2, -999.000,9, 2361.100,2, 2401.100,2
           NA,    P03E,    142,   1,-999.0,     -99,  2,20051121,1435,  25.1642, -166.0558,  5018, 1802.900,    2.212,   34.598,2,   34.598,2,   74.420,1,   81.900,2,  152.000,2,   40.680,2,    0.000,2,    2.894,2,    0.002,2,    0.000,2, -999.000,9, 2365.200,2, 2407.900,2
           NA,    P03E,    142,   1,-999.0,     -99,  2,20051121,1435,  25.1642, -166.0558,  5018, 2000.300,    2.009,   34.615,2,   34.614,2,   80.930,1,   89.060,2,  156.220,2,   40.280,2,    0.000,2,    2.853,2,    0.001,2,    0.004,2, -999.000,9, 2363.100,2, 2416.200,2
           NA,    P03E,    142,   1,-999.0,     -99,  2,20051121,1435,  25.1642, -166.0558,  5018, 2200.000,    1.877,   34.627,2,   34.627,6,   87.320,1,   96.250,2,  158.630,2,   39.850,2,    0.000,2,    2.817,2,    0.000,2,    0.000,2, -999.000,9, 2360.500,2, 2415.400,2
           NA,    P03E,    142,   1,-999.0,     -99,  2,20051121,1435,  25.1642, -166.0558,  5018, 2399.400,    1.755,   34.640,2,   34.640,2,   95.510,1,  105.380,2,  159.670,2,   39.230,2,    0.000,2,    2.766,2,    0.000,2,    0.000,2, -999.000,9, 2357.500,2, 2420.700,2
           NA,    P03E,    142,   1,-999.0,     -99,  2,20051121,1435,  25.1642, -166.0558,  5018, 2600.500,    1.677,   34.650,2,   34.650,2,  102.800,1,  113.340,2,  159.200,2,   38.740,2,    0.000,2,    2.726,2, -999.000,9, -999.000,9, -999.000,9, 2354.000,2, 2421.300,6
           NA,    P03E,    142,   1,-999.0,     -99,  2,20051121,1435,  25.1642, -166.0558,  5018, 2800.800,    1.599,   34.659,2,   34.659,2,  109.570,1,  120.800,2,  159.020,2,   38.210,2,    0.000,2,    2.689,2, -999.000,9, -999.000,9, -999.000,9, 2348.900,2, 2421.000,2
           NA,    P03E,    142,   1,-999.0,     -99,  2,20051121,1435,  25.1642, -166.0558,  5018, 3001.500,    1.545,   34.667,2,   34.667,2,  115.760,1,  127.560,2,  158.220,2,   37.860,2,    0.000,2,    2.657,2, -999.000,9, -999.000,9, -999.000,9, 2343.700,2, 2421.100,2
           NA,    P03E,    142,   1,-999.0,     -99,  2,20051121,1435,  25.1642, -166.0558,  5018, 3250.700,    1.485,   34.675,2,   34.674,6,  123.840,1,  136.540,2,  156.370,2,   37.310,2,    0.010,2,    2.603,2,    0.000,2,    0.000,2, -999.000,9, 2340.000,2, 2420.900,2
           NA,    P03E,    142,   1,-999.0,     -99,  2,20051121,1435,  25.1642, -166.0558,  5018, 3500.300,    1.466,   34.679,2,   34.679,2,  128.800,1,  141.850,2,  154.790,2,   36.890,2,    0.010,2,    2.578,2, -999.000,9, -999.000,9, -999.000,9, 2332.700,2, 2423.200,2
           NA,    P03E,    142,   1,-999.0,     -99,  2,20051121,1435,  25.1642, -166.0558,  5018, 3749.700,    1.450,   34.683,2,   34.683,2,  133.560,1,  146.730,2,  153.490,2,   36.530,2,    0.000,2,    2.546,2, -999.000,9, -999.000,9, -999.000,9, 2329.000,2, 2416.300,2
           NA,    P03E,    142,   1,-999.0,     -99,  2,20051121,1435,  25.1642, -166.0558,  5018, 4000.100,    1.446,   34.687,2,   34.686,6,  137.500,1,  150.750,2,  152.480,2,   36.220,2,    0.010,2,    2.530,2,    0.003,2,    0.001,2, -999.000,9, 2328.700,2, 2417.800,2
           NA,    P03E,    142,   1,-999.0,     -99,  2,20051121,1435,  25.1642, -166.0558,  5018, 4250.900,    1.457,   34.688,2,   34.688,2,  140.120,1,  153.060,2,  151.280,2,   36.100,2,    0.010,2,    2.512,2, -999.000,9, -999.000,9, -999.000,9, 2327.500,6, 2416.100,2
           NA,    P03E,    142,   1,-999.0,     -99,  2,20051121,1435,  25.1642, -166.0558,  5018, 4499.400,    1.479,   34.689,2,   34.689,2,  141.740,1,  154.130,2,  150.680,2,   36.060,2,    0.010,2,    2.511,2, -999.000,9, -999.000,9, -999.000,9, 2324.500,2, 2417.900,6
           NA,    P03E,    142,   1,-999.0,     -99,  2,20051121,1435,  25.1642, -166.0558,  5018, 4749.500,    1.506,   34.689,2,   34.689,2,  142.850,1,  154.730,2,  150.250,2,   36.000,2,    0.010,2,    2.507,2,    0.000,2,    0.000,2, -999.000,9, 2324.800,2, 2417.000,2
           NA,    P03E,    142,   1,-999.0,     -99,  2,20051121,1435,  25.1642, -166.0558,  5018, 5000.700,    1.533,   34.690,2,   34.690,2,  144.410,1,  155.390,2,  150.040,2,   35.960,2,    0.010,2,    2.504,2, -999.000,9, -999.000,9, -999.000,9, 2328.200,2, 2413.600,2
           NA,    P03E,    142,   1,-999.0,     -99,  2,20051121,1435,  25.1642, -166.0558,  5018, 5088.900,    1.540,   34.690,2,   34.690,6,  145.520,1,  155.980,2,  149.570,2,   35.900,2,    0.010,2,    2.496,2,    0.000,2,    0.000,2, -999.000,9, 2327.700,2, 2420.200,2
           NA,    P03E,    140,   1,-999.0,     -99,  2,20051121,0900,  25.4705, -165.7137,  4869,   10.900,   25.868,   35.177,2,   35.176,2,  188.470,1,  205.790,2,    1.080,2,    0.050,2,    0.000,2,    0.052,2,    1.601,2,    0.961,2, -999.000,9, -999.000,9, -999.000,9
           NA,    P03E,    140,   1,-999.0,     -99,  2,20051121,0900,  25.4705, -165.7137,  4869,   51.000,   25.866,   35.175,2,   35.176,2,  188.400,1,  205.770,2,    1.090,2,    0.040,2,    0.000,2,    0.054,2,    1.615,2,    0.972,2, -999.000,9, -999.000,9, -999.000,9
           NA,    P03E,    140,   1,-999.0,     -99,  2,20051121,0900,  25.4705, -165.7137,  4869,  100.500,   23.170,   35.214,2,   35.215,2,  199.530,1,  217.970,2,    1.590,2,    0.050,2,    0.000,2,    0.069,2,    1.913,2,    1.183,2, -999.000,9, -999.000,9, -999.000,9
           NA,    P03E,    140,   1,-999.0,     -99,  2,20051121,0900,  25.4705, -165.7137,  4869,  150.400,   19.324,   34.978,2,   34.979,2,  198.000,1,  215.930,2,    2.640,2,    0.610,2,    0.120,2,    0.159,2,    2.211,2,    1.274,2, -999.000,9, -999.000,9, -999.000,9
           NA,    P03E,    140,   1,-999.0,     -99,  2,20051121,0900,  25.4705, -165.7137,  4869,  199.300,   16.974,   34.742,2,   34.741,2,  185.940,1,  202.210,2,    4.480,2,    4.330,2,    0.010,2,    0.400,2,    2.428,2,    1.341,2, -999.000,9, -999.000,9, -999.000,9
           NA,    P03E,    140,   1,-999.0,     -99,  2,20051121,0900,  25.4705, -165.7137,  4869,  252.000,   14.885,   34.520,2,   34.520,2,  187.950,1,  204.320,2,    7.050,2,    7.010,2,    0.010,2,    0.569,2,    2.635,6,    1.420,6, -999.000,9, -999.000,9, -999.000,9
           NA,    P03E,    140,   1,-999.0,     -99,  2,20051121,0900,  25.4705, -165.7137,  4869,  300.600,   13.522,   34.413,2,   34.410,2,  191.210,1,  207.430,2,    9.640,2,    9.220,2,    0.000,2,    0.708,2,    2.705,2,    1.434,2, -999.000,9, -999.000,9, -999.000,9
           NA,    P03E,    140,   1,-999.0,     -99,  2,20051121,0900,  25.4705, -165.7137,  4869,  401.800,   10.829,   34.206,2,   34.207,2,  184.480,1,  200.070,2,   17.460,2,   14.860,2,    0.000,2,    1.098,2,    2.875,2,    1.448,2, -999.000,9, -999.000,9, -999.000,9
           NA,    P03E,    140,   1,-999.0,     -99,  2,20051121,0900,  25.4705, -165.7137,  4869,  500.500,    8.637,   34.101,2,   34.101,6,  159.810,1,  173.460,2,   32.250,2,   21.920,2,    0.000,2,    1.587,2,    2.599,2,    1.256,2, -999.000,9, -999.000,9, -999.000,9
           NA,    P03E,    140,   1,-999.0,     -99,  2,20051121,0900,  25.4705, -165.7137,  4869,  598.300,    6.799,   34.047,2,   34.048,2,  118.720,1,  128.080,2,   52.790,2,   29.480,2,    0.000,2,    2.153,2,    1.829,2,    0.854,2, -999.000,9, -999.000,9, -999.000,9
           NA,    P03E,    140,   1,-999.0,     -99,  2,20051121,0900,  25.4705, -165.7137,  4869,  699.300,    5.204,   34.087,2,   34.087,2,   68.100,1,   74.040,2,   79.360,2,   37.200,2,    0.000,2,    2.699,2,    0.849,2,    0.391,2, -999.000,9, -999.000,9, -999.000,9
           NA,    P03E,    140,   1,-999.0,     -99,  2,20051121,0900,  25.4705, -165.7137,  4869,  800.000,    4.602,   34.204,2,   34.203,2,   39.920,1,   43.170,2,   96.510,2,   40.670,2,    0.000,2,    2.975,2,    0.311,6,    0.147,6, -999.000,9, -999.000,9, -999.000,9
           NA,    P03E,    140,   1,-999.0,     -99,  2,20051121,0900,  25.4705, -165.7137,  4869,  900.500,    4.163,   34.290,2,   34.291,2,   30.790,1,   33.310,2,  108.430,2,   42.260,2,    0.000,2,    3.061,2,    0.118,2,    0.052,2, -999.000,9, -999.000,9, -999.000,9
           NA,    P03E,    140,   1,-999.0,     -99,  2,20051121,0900,  25.4705, -165.7137,  4869, 1000.700,    3.812,   34.382,2,   34.382,6,   32.370,1,   35.110,2,  117.700,2,   42.620,2,    0.000,2,    3.099,2,    0.032,2,    0.020,2, -999.000,9, -999.000,9, -999.000,9
           NA,    P03E,    140,   1,-999.0,     -99,  2,20051121,0900,  25.4705, -165.7137,  4869, 1200.000,    3.283,   34.482,2,   34.482,2,   44.490,1,   48.490,2,  129.390,2,   42.270,2,    0.000,2,    3.050,2,    0.006,2,    0.001,2, -999.000,9, -999.000,9, -999.000,9
           NA,    P03E,    140,   1,-999.0,     -99,  2,20051121,0900,  25.4705, -165.7137,  4869, 1400.200,    2.883,   34.532,2,   34.533,2,   55.700,1,   60.870,2,  137.840,2,   41.630,2,    0.000,2,    2.995,2,    0.004,2,    0.002,2, -999.000,9, -999.000,9, -999.000,9
           NA,    P03E,    140,   1,-999.0,     -99,  2,20051121,0900,  25.4705, -165.7137,  4869, 1601.300,    2.471,   34.574,2,   34.574,2,   67.060,1,   73.590,2,  146.610,2,   41.120,2,    0.000,2,    2.938,2,    0.004,2,    0.000,2, -999.000,9, -999.000,9, -999.000,9
           NA,    P03E,    140,   1,-999.0,     -99,  2,20051121,0900,  25.4705, -165.7137,  4869, 1799.600,    2.212,   34.599,2,   34.600,2,   75.170,1,   82.470,2,  152.430,2,   40.550,2,    0.000,2,    2.897,2,    0.000,2,    0.000,2, -999.000,9, -999.000,9, -999.000,9
           NA,    P03E,    140,   1,-999.0,     -99,  2,20051121,0900,  25.4705, -165.7137,  4869, 2001.700,    2.011,   34.616,2,   34.616,6,   82.760,1,   90.990,2,  156.140,2,   40.140,2,    0.000,2,    2.855,2,    0.000,2,    0.001,2, -999.000,9, -999.000,9, -999.000,9
           NA,    P03E,    140,   1,-999.0,     -99,  2,20051121,0900,  25.4705, -165.7137,  4869, 2201.000,    1.838,   34.632,2,   34.632,2,   91.150,1,  100.600,2,  158.650,2,   39.540,2,    0.000,2,    2.797,2, -999.000,9, -999.000,9, -999.000,9, -999.000,9, -999.000,9
           NA,    P03E,    140,   1,-999.0,     -99,  2,20051121,0900,  25.4705, -165.7137,  4869, 2400.800,    1.722,   34.643,2,   34.643,2,   97.520,1,  107.490,2,  160.430,2,   39.030,2,    0.000,2,    2.776,2,    0.001,2,    0.000,2, -999.000,9, -999.000,9, -999.000,9
           NA,    P03E,    140,   1,-999.0,     -99,  2,20051121,0900,  25.4705, -165.7137,  4869, 2600.400,    1.638,   34.652,2,   34.652,2,  102.600,1,  113.130,2,  161.650,2,   38.730,2,    0.000,2,    2.738,2, -999.000,9, -999.000,9, -999.000,9, -999.000,9, -999.000,9
           NA,    P03E,    140,   1,-999.0,     -99,  2,20051121,0900,  25.4705, -165.7137,  4869, 2800.600,    1.566,   34.661,2,   34.661,6,  109.860,1,  121.210,2,  161.320,2,   38.210,2,    0.000,2,    2.700,2, -999.000,9, -999.000,9, -999.000,9, -999.000,9, -999.000,9
           NA,    P03E,    140,   1,-999.0,     -99,  2,20051121,0900,  25.4705, -165.7137,  4869, 3000.700,    1.514,   34.669,2,   34.669,2,  117.330,1,  129.190,2,  159.720,2,   37.700,2,    0.000,2,    2.659,2,    0.000,2,    0.000,2, -999.000,9, -999.000,9, -999.000,9
           NA,    P03E,    140,   1,-999.0,     -99,  2,20051121,0900,  25.4705, -165.7137,  4869, 3252.100,    1.483,   34.675,2,   34.675,2,  124.770,1,  137.370,2,  155.990,2,   37.100,2,    0.000,2,    2.607,2, -999.000,9, -999.000,9, -999.000,9, -999.000,9, -999.000,9
           NA,    P03E,    140,   1,-999.0,     -99,  2,20051121,0900,  25.4705, -165.7137,  4869, 3498.900,    1.453,   34.680,2,   34.680,2,  130.310,1,  143.310,2,  155.310,2,   36.730,2,    0.000,2,    2.587,2, -999.000,9, -999.000,9, -999.000,9, -999.000,9, -999.000,9
           NA,    P03E,    140,   1,-999.0,     -99,  2,20051121,0900,  25.4705, -165.7137,  4869, 3753.200,    1.441,   34.684,2,   34.684,2,  134.840,1,  147.930,2,  153.990,2,   36.470,2,    0.000,2,    2.557,2,    0.000,2,    0.000,2, -999.000,9, -999.000,9, -999.000,9
           NA,    P03E,    140,   1,-999.0,     -99,  2,20051121,0900,  25.4705, -165.7137,  4869, 4000.300,    1.439,   34.687,2,   34.687,6,  138.860,1,  151.790,2,  152.400,2,   36.200,2,    0.000,2,    2.538,2, -999.000,9, -999.000,9, -999.000,9, -999.000,9, -999.000,9
           NA,    P03E,    140,   1,-999.0,     -99,  2,20051121,0900,  25.4705, -165.7137,  4869, 4253.300,    1.455,   34.688,2,   34.688,2,  141.050,1,  153.580,2,  151.630,2,   36.070,2,    0.000,2,    2.532,2, -999.000,9, -999.000,9, -999.000,9, -999.000,9, -999.000,9
           NA,    P03E,    140,   1,-999.0,     -99,  3,20051121,0900,  25.4705, -165.7137,  4869, 4501.700,    1.476,   34.689,2,   34.689,2,  142.760,1,  154.870,2,  150.710,2,   35.940,2,    0.000,2,    2.522,2,    0.002,2,    0.000,2, -999.000,9, -999.000,9, -999.000,9
           NA,    P03E,    140,   1,-999.0,     -99,  2,20051121,0900,  25.4705, -165.7137,  4869, 4750.700,    1.501,   34.690,2,   34.689,2,  144.270,1,  155.580,2,  150.550,2,   35.980,2,    0.000,2,    2.509,2, -999.000,9, -999.000,9, -999.000,9, -999.000,9, -999.000,9
           NA,    P03E,    140,   1,-999.0,     -99,  2,20051121,0900,  25.4705, -165.7137,  4869, 4940.700,    1.516,   34.690,2,   34.690,6,  146.480,1,  156.970,2,  149.580,2,   35.840,2,    0.000,2,    2.515,2,    0.000,2,    0.000,2, -999.000,9, -999.000,9, -999.000,9