BOTTLE,20211903JOAExport
EXPOCODE,SECT_ID,STNNBR,CASTNO,SAMPNO,BTLNBR,BTLNBR_FLAG_W,DATE,TIME,LATITUDE,LONGITUDE,DEPTH,CTDPRS,CTDTMP,CTDSAL,CTDSAL_FLAG_W,SALNTY,SALNTY_FLAG_W,CTDOXY,CTDOXY_FLAG_W,OXYGEN,OXYGEN_FLAG_W,SILCAT,SILCAT_FLAG_W,NITRAT,NITRAT_FLAG_W,NITRIT,NITRIT_FLAG_W,PHSPHT,PHSPHT_FLAG_W,CFC-11,CFC-11_FLAG_W,CFC-12,CFC-12_FLAG_W,SF6,SF6_FLAG_W,TCARBN,TCARBN_FLAG_W,ALKALI,ALKALI_FLAG_W
,,,,,,,,,,,,DB,ITS-90,PSS-78,,PSS-78,,UMOL/KG,,UMOL/KG,,UMOL/KG,,UMOL/KG,,UMOL/KG,,UMOL/KG,,PMOL/KG,,PMOL/KG,,FMOL/KG,,UMOL/KG,,UMOL/KG
           NA,    P03C,    181,   1,-999.0,     -99,  2,20051204,1829,  24.2467, -173.6338,  4947,    8.800,   25.697,   35.356,2,   35.357,2,  185.390,1,  205.730,2,    0.900,2,    0.030,2,    0.010,2,    0.038,2,    1.684,2,    0.973,2, -999.000,9, -999.000,9, -999.000,9
           NA,    P03C,    181,   1,-999.0,     -99,  2,20051204,1829,  24.2467, -173.6338,  4947,   49.300,   25.700,   35.358,2,   35.360,2,  185.340,1,  205.690,2,    0.880,2,    0.030,2,    0.000,2,    0.037,2,    1.684,2,    0.981,2, -999.000,9, -999.000,9, -999.000,9
           NA,    P03C,    181,   1,-999.0,     -99,  2,20051204,1829,  24.2467, -173.6338,  4947,  100.800,   22.270,   35.200,2,   35.201,2,  189.910,1,  210.740,2,    1.330,2,    0.050,2,    0.010,2,    0.080,2,    1.993,2,    1.159,2, -999.000,9, -999.000,9, -999.000,9
           NA,    P03C,    181,   1,-999.0,     -99,  2,20051204,1829,  24.2467, -173.6338,  4947,  149.200,   18.858,   34.955,2,   34.955,2,  184.370,1,  204.670,2,    2.710,2,    2.050,2,    0.020,2,    0.227,2,    2.221,2,    1.288,2, -999.000,9, -999.000,9, -999.000,9
           NA,    P03C,    181,   1,-999.0,     -99,  2,20051204,1829,  24.2467, -173.6338,  4947,  199.800,   16.709,   34.750,2,   34.746,2,  190.430,1,  212.130,2,    4.280,2,    4.110,2,    0.010,2,    0.344,2,    2.388,2,    1.397,2, -999.000,9, -999.000,9, -999.000,9
           NA,    P03C,    181,   1,-999.0,     -99,  2,20051204,1829,  24.2467, -173.6338,  4947,  249.600,   15.304,   34.616,2,   34.609,2,  193.040,1,  214.150,2,    6.180,2,    6.200,2,    0.010,2,    0.479,2,    2.491,6,    1.445,6, -999.000,9, -999.000,9, -999.000,9
           NA,    P03C,    181,   1,-999.0,     -99,  2,20051204,1829,  24.2467, -173.6338,  4947,  299.100,   14.191,   34.514,2,   34.510,2,  193.030,1,  214.090,2,    8.230,2,    8.050,2,    0.010,2,    0.608,2,    2.583,2,    1.497,2, -999.000,9, -999.000,9, -999.000,9
           NA,    P03C,    181,   1,-999.0,     -99,  2,20051204,1829,  24.2467, -173.6338,  4947,  400.700,   11.470,   34.282,2,   34.290,2,  185.020,1,  205.530,2,   15.680,2,   13.410,2,    0.000,2,    0.980,2,    2.725,2,    1.520,2, -999.000,9, -999.000,9, -999.000,9
           NA,    P03C,    181,   1,-999.0,     -99,  2,20051204,1829,  24.2467, -173.6338,  4947,  500.100,    9.017,   34.133,2,   34.132,6,  154.610,1,  171.300,2,   30.800,2,   21.390,2,    0.000,2,    1.540,2,    2.429,2,    1.281,2, -999.000,9, -999.000,9, -999.000,9
           NA,    P03C,    181,   1,-999.0,     -99,  2,20051204,1829,  24.2467, -173.6338,  4947,  600.000,    7.108,   34.081,2,   34.081,2,  108.090,1,  119.800,2,   50.910,2,   29.780,2,    0.000,2,    2.156,2,    1.654,2,    0.806,2, -999.000,9, -999.000,9, -999.000,9
           NA,    P03C,    181,   1,-999.0,     -99,  2,20051204,1829,  24.2467, -173.6338,  4947,  699.800,    5.483,   34.135,2,   34.137,2,   59.170,1,   65.080,2,   77.880,2,   37.460,2,    0.000,2,    2.732,2,    0.698,2,    0.316,2, -999.000,9, -999.000,9, -999.000,9
           NA,    P03C,    181,   1,-999.0,     -99,  2,20051204,1829,  24.2467, -173.6338,  4947,  799.700,    4.719,   34.246,2,   34.246,2,   34.290,1,   39.260,2,   95.390,2,   41.000,2,    0.000,2,    3.000,2,    0.274,6,    0.100,6, -999.000,9, -999.000,9, -999.000,9
           NA,    P03C,    181,   1,-999.0,     -99,  2,20051204,1829,  24.2467, -173.6338,  4947,  898.800,    4.321,   34.315,2,   34.315,2,   31.970,1,   36.560,2,  104.930,2,   41.800,2,    0.000,2,    3.045,2,    0.173,2,    0.052,2, -999.000,9, -999.000,9, -999.000,9
           NA,    P03C,    181,   1,-999.0,     -99,  2,20051204,1829,  24.2467, -173.6338,  4947, 1002.000,    4.065,   34.403,2,   34.401,6,   33.990,1,   38.780,2,  111.020,2,   42.210,2,    0.000,2,    3.071,2,    0.098,2,    0.020,2, -999.000,9, -999.000,9, -999.000,9
           NA,    P03C,    181,   1,-999.0,     -99,  2,20051204,1829,  24.2467, -173.6338,  4947, 1201.800,    3.422,   34.499,2,   34.499,2,   47.350,1,   53.360,2,  124.700,2,   41.910,2,    0.000,2,    3.023,2,    0.061,2,    0.003,2, -999.000,9, -999.000,9, -999.000,9
           NA,    P03C,    181,   1,-999.0,     -99,  2,20051204,1829,  24.2467, -173.6338,  4947, 1401.800,    2.911,   34.541,2,   34.541,2,   58.020,1,   65.220,2,  135.910,2,   41.400,2,    0.000,2,    2.969,2,    0.050,2,    0.000,2, -999.000,9, -999.000,9, -999.000,9
           NA,    P03C,    181,   1,-999.0,     -99,  2,20051204,1829,  24.2467, -173.6338,  4947, 1601.500,    2.550,   34.572,2,   34.571,2,   65.870,1,   74.000,2,  143.860,2,   40.950,2,    0.000,2,    2.931,2,    0.038,2,    0.000,2, -999.000,9, -999.000,9, -999.000,9
           NA,    P03C,    181,   1,-999.0,     -99,  2,20051204,1829,  24.2467, -173.6338,  4947, 1800.100,    2.285,   34.594,2,   34.594,2,   73.200,1,   82.470,2,  149.720,2,   40.580,2,    0.000,2,    2.893,2,    0.037,2,    0.000,2, -999.000,9, -999.000,9, -999.000,9
           NA,    P03C,    181,   1,-999.0,     -99,  2,20051204,1829,  24.2467, -173.6338,  4947, 2000.600,    2.040,   34.616,2,   34.616,6,   82.170,1,   92.860,2,  154.350,2,   39.970,2,    0.000,2,    2.846,2,    0.032,2,    0.000,2, -999.000,9, -999.000,9, -999.000,9
           NA,    P03C,    181,   1,-999.0,     -99,  2,20051204,1829,  24.2467, -173.6338,  4947, 2198.400,    1.891,   34.630,2,   34.630,2,   89.300,1,  101.060,2,  156.560,2,   39.470,2,    0.000,2,    2.800,2,    0.025,2,    0.000,2, -999.000,9, -999.000,9, -999.000,9
           NA,    P03C,    181,   1,-999.0,     -99,  2,20051204,1829,  24.2467, -173.6338,  4947, 2400.700,    1.757,   34.644,2,   34.644,2,   96.860,1,  109.760,2,  157.730,2,   38.850,2,    0.000,2,    2.752,2,    0.024,2,    0.000,2, -999.000,9, -999.000,9, -999.000,9
           NA,    P03C,    181,   1,-999.0,     -99,  2,20051204,1829,  24.2467, -173.6338,  4947, 2599.200,    1.685,   34.652,2,   34.652,2,  102.360,1,  116.170,2,  157.930,2,   38.560,2,    0.000,2,    2.720,2, -999.000,9, -999.000,9, -999.000,9, -999.000,9, -999.000,9
           NA,    P03C,    181,   1,-999.0,     -99,  2,20051204,1829,  24.2467, -173.6338,  4947, 2799.300,    1.615,   34.660,2,   34.661,2,  108.420,1,  123.180,2,  157.520,2,   38.120,2,    0.000,2,    2.680,2,    0.024,2,    0.001,2, -999.000,9, -999.000,9, -999.000,9
           NA,    P03C,    181,   1,-999.0,     -99,  2,20051204,1829,  24.2467, -173.6338,  4947, 3000.300,    1.571,   34.666,2,   34.665,6,  113.230,1,  128.400,2,  156.380,2,   37.740,2,    0.000,2,    2.653,2, -999.000,9, -999.000,9, -999.000,9, -999.000,9, -999.000,9
           NA,    P03C,    181,   1,-999.0,     -99,  2,20051204,1829,  24.2467, -173.6338,  4947, 3250.600,    1.519,   34.673,2,   34.673,2,  120.040,1,  136.450,2,  154.620,2,   37.260,2,    0.000,2,    2.604,2, -999.000,9, -999.000,9, -999.000,9, -999.000,9, -999.000,9
           NA,    P03C,    181,   1,-999.0,     -99,  2,20051204,1829,  24.2467, -173.6338,  4947, 3499.000,    1.492,   34.678,2,   34.678,2,  125.070,1,  141.760,2,  152.890,2,   36.840,2,    0.000,2,    2.585,2,    0.018,2,    0.000,2, -999.000,9, -999.000,9, -999.000,9
           NA,    P03C,    181,   1,-999.0,     -99,  2,20051204,1829,  24.2467, -173.6338,  4947, 3752.400,    1.470,   34.682,2,   34.682,2,  130.050,1,  147.030,2,  151.310,2,   36.540,2,    0.000,2,    2.556,2, -999.000,9, -999.000,9, -999.000,9, -999.000,9, -999.000,9
           NA,    P03C,    181,   1,-999.0,     -99,  2,20051204,1829,  24.2467, -173.6338,  4947, 3999.600,    1.460,   34.685,2,   34.685,6,  134.430,1,  151.630,2,  149.550,2,   36.230,2,    0.000,2,    2.532,2, -999.000,9, -999.000,9, -999.000,9, -999.000,9, -999.000,9
           NA,    P03C,    181,   1,-999.0,     -99,  2,20051204,1829,  24.2467, -173.6338,  4947, 4252.200,    1.454,   34.688,2,   34.688,2,  138.700,1,  155.920,2,  147.600,2,   35.910,2,    0.000,2,    2.503,2,    0.017,2,    0.000,2, -999.000,9, -999.000,9, -999.000,9
           NA,    P03C,    181,   1,-999.0,     -99,  2,20051204,1829,  24.2467, -173.6338,  4947, 4499.200,    1.449,   34.691,2,   34.691,2,  143.420,1,  160.680,2,  144.850,2,   35.480,2,    0.000,2,    2.477,2, -999.000,9, -999.000,9, -999.000,9, -999.000,9, -999.000,9
           NA,    P03C,    181,   1,-999.0,     -99,  2,20051204,1829,  24.2467, -173.6338,  4947, 4750.100,    1.451,   34.694,2,   34.694,2,  148.210,1,  165.400,2,  141.920,2,   35.180,2,    0.010,2,    2.455,2, -999.000,9, -999.000,9, -999.000,9, -999.000,9, -999.000,9
           NA,    P03C,    181,   1,-999.0,     -99,  2,20051204,1829,  24.2467, -173.6338,  4947, 4750.200,    1.451,   34.694,2,   34.694,2,  148.280,1,  165.150,2,  141.890,2,   35.200,2,    0.000,2,    2.452,2, -999.000,9, -999.000,9, -999.000,9, -999.000,9, -999.000,9
           NA,    P03C,    181,   1,-999.0,     -99,  2,20051204,1829,  24.2467, -173.6338,  4947, 5019.800,    1.451,   34.697,2,   34.697,6,  155.070,1,  170.700,2,  137.940,2,   34.840,2,    0.000,2,    2.429,2,    0.022,2,    0.002,2, -999.000,9, -999.000,9, -999.000,9
           NA,    P03C,    179,   1,-999.0,     -99,  2,20051204,1059,  24.2462, -172.8288,  4555,    9.800,   25.863,   35.250,2,   35.252,2,  184.830,1,  205.280,2,    0.920,2,    0.070,2,    0.010,2,    0.039,2,    1.618,2,    0.972,2, -999.000,9, -999.000,9, -999.000,9
           NA,    P03C,    179,   1,-999.0,     -99,  2,20051204,1059,  24.2462, -172.8288,  4555,   51.000,   25.902,   35.264,2,   35.270,2,  185.040,1,  205.110,2,    0.900,2,    0.060,2,    0.010,2,    0.035,2,    1.617,2,    0.975,2, -999.000,9, -999.000,9, -999.000,9
           NA,    P03C,    179,   1,-999.0,     -99,  2,20051204,1059,  24.2462, -172.8288,  4555,  100.000,   23.996,   35.183,2,   35.182,2,  194.040,1,  214.080,2,    1.140,2,    0.060,2,    0.020,2,    0.059,2,    1.879,2,    1.127,2, -999.000,9, -999.000,9, -999.000,9
           NA,    P03C,    179,   1,-999.0,     -99,  2,20051204,1059,  24.2462, -172.8288,  4555,  149.800,   20.525,   35.093,2,   35.092,2,  179.510,1,  199.120,2,    1.970,2,    1.380,2,    0.030,2,    0.180,2,    2.125,2,    1.217,2, -999.000,9, -999.000,9, -999.000,9
           NA,    P03C,    179,   1,-999.0,     -99,  2,20051204,1059,  24.2462, -172.8288,  4555,  199.000,   18.383,   34.911,2,   34.906,2,  182.500,1,  202.410,2,    2.980,2,    2.750,2,    0.020,2,    0.267,2,    2.313,2,    1.298,2, -999.000,9, -999.000,9, -999.000,9
           NA,    P03C,    179,   1,-999.0,     -99,  2,20051204,1059,  24.2462, -172.8288,  4555,  251.200,   16.233,   34.679,2,   34.677,2,  187.090,1,  207.320,2,    4.700,2,    4.810,2,    0.010,2,    0.397,2,    2.520,6,    1.395,6, -999.000,9, -999.000,9, -999.000,9
           NA,    P03C,    179,   1,-999.0,     -99,  2,20051204,1059,  24.2462, -172.8288,  4555,  301.200,   14.754,   34.498,2,   34.497,2,  184.850,1,  204.790,2,    6.630,2,    7.060,2,    0.010,2,    0.557,2,    2.728,2,    1.440,2, -999.000,9, -999.000,9, -999.000,9
           NA,    P03C,    179,   1,-999.0,     -99,  2,20051204,1059,  24.2462, -172.8288,  4555,  399.200,   11.185,   34.208,2,   34.209,2,  179.500,1,  198.850,2,   15.760,2,   14.260,2,    0.010,2,    1.051,2,    2.958,2,    1.527,2, -999.000,9, -999.000,9, -999.000,9
           NA,    P03C,    179,   1,-999.0,     -99,  2,20051204,1059,  24.2462, -172.8288,  4555,  502.400,    9.040,   34.123,2,   34.121,6,  150.060,1,  165.950,2,   29.960,2,   21.760,2,    0.010,2,    1.588,2,    2.565,2,    1.268,2, -999.000,9, -999.000,9, -999.000,9
           NA,    P03C,    179,   1,-999.0,     -99,  2,20051204,1059,  24.2462, -172.8288,  4555,  601.400,    6.677,   34.071,2,   34.071,2,  104.900,1,  116.730,2,   55.720,2,   30.770,2,    0.010,2,    2.230,2,    1.643,2,    0.778,2, -999.000,9, -999.000,9, -999.000,9
           NA,    P03C,    179,   1,-999.0,     -99,  2,20051204,1059,  24.2462, -172.8288,  4555,  702.700,    5.683,   34.117,2,   34.115,2,   71.060,1,   79.060,2,   72.770,2,   35.840,2,    0.000,2,    2.605,2,    0.939,2,    0.448,2, -999.000,9, -999.000,9, -999.000,9
           NA,    P03C,    179,   1,-999.0,     -99,  2,20051204,1059,  24.2462, -172.8288,  4555,  803.100,    4.896,   34.231,2,   34.229,2,   40.320,1,   45.260,2,   91.000,2,   40.160,2,    0.010,2,    2.941,2,    0.313,6,    0.143,6, -999.000,9, -999.000,9, -999.000,9
           NA,    P03C,    179,   1,-999.0,     -99,  2,20051204,1059,  24.2462, -172.8288,  4555,  901.800,    4.284,   34.305,2,   34.305,2,   32.990,1,   37.340,2,  105.360,2,   41.650,2,    0.000,2,    3.039,2,    0.128,2,    0.065,2, -999.000,9, -999.000,9, -999.000,9
           NA,    P03C,    179,   1,-999.0,     -99,  2,20051204,1059,  24.2462, -172.8288,  4555, 1001.300,    3.911,   34.377,2,   34.376,6,   33.540,1,   37.940,2,  114.700,2,   42.260,2,    0.000,2,    3.079,2,    0.057,2,    0.036,2, -999.000,9, -999.000,9, -999.000,9
           NA,    P03C,    179,   1,-999.0,     -99,  2,20051204,1059,  24.2462, -172.8288,  4555, 1201.500,    3.219,   34.472,2,   34.471,2,   41.790,1,   46.870,2,  130.970,2,   42.350,2,    0.010,2,    3.067,2,    0.023,2,    0.006,2, -999.000,9, -999.000,9, -999.000,9
           NA,    P03C,    179,   1,-999.0,     -99,  2,20051204,1059,  24.2462, -172.8288,  4555, 1401.300,    2.882,   34.536,2,   34.536,2,   56.550,1,   63.320,2,  136.570,2,   41.510,2,    0.000,2,    2.988,2,    0.000,2,    0.000,2, -999.000,9, -999.000,9, -999.000,9
           NA,    P03C,    179,   1,-999.0,     -99,  2,20051204,1059,  24.2462, -172.8288,  4555, 1601.500,    2.467,   34.568,2,   34.568,2,   64.600,1,   72.190,2,  146.490,2,   41.070,2,    0.000,2,    2.950,2,    0.000,2,    0.000,2, -999.000,9, -999.000,9, -999.000,9
           NA,    P03C,    179,   1,-999.0,     -99,  2,20051204,1059,  24.2462, -172.8288,  4555, 1802.700,    2.256,   34.594,2,   34.594,6,   73.740,1,   82.450,2,  150.120,2,   40.570,2,    0.000,2,    2.899,2,    0.000,2,    0.000,2, -999.000,9, -999.000,9, -999.000,9
           NA,    P03C,    179,   1,-999.0,     -99,  2,20051204,1059,  24.2462, -172.8288,  4555, 2001.300,    2.012,   34.618,2,   34.619,2,   83.700,1,   93.990,2,  154.190,2,   39.830,2,    0.000,2,    2.844,2,    0.002,2,    0.000,2, -999.000,9, -999.000,9, -999.000,9
           NA,    P03C,    179,   1,-999.0,     -99,  2,20051204,1059,  24.2462, -172.8288,  4555, 2202.700,    1.871,   34.631,2,   34.631,2,   90.620,1,  101.750,2,  156.080,2,   39.420,2,    0.000,2,    2.800,2,    0.000,2,    0.000,2, -999.000,9, -999.000,9, -999.000,9
           NA,    P03C,    179,   1,-999.0,     -99,  2,20051204,1059,  24.2462, -172.8288,  4555, 2400.600,    1.766,   34.641,2,   34.642,2,   97.070,1,  109.330,2,  156.970,2,   38.990,2,    0.000,2,    2.764,2,    0.000,2,    0.002,2, -999.000,9, -999.000,9, -999.000,9
           NA,    P03C,    179,   1,-999.0,     -99,  2,20051204,1059,  24.2462, -172.8288,  4555, 2600.000,    1.672,   34.652,2,   34.652,2,  103.820,1,  117.060,2,  157.130,2,   38.490,2,    0.000,2,    2.714,2, -999.000,9, -999.000,9, -999.000,9, -999.000,9, -999.000,9
           NA,    P03C,    179,   1,-999.0,     -99,  2,20051204,1059,  24.2462, -172.8288,  4555, 2800.900,    1.616,   34.659,2,   34.659,6,  108.830,1,  122.620,2,  156.890,2,   38.220,2,    0.000,2,    2.694,2,    0.000,2,    0.000,2, -999.000,9, -999.000,9, -999.000,9
           NA,    P03C,    179,   1,-999.0,     -99,  2,20051204,1059,  24.2462, -172.8288,  4555, 3000.000,    1.557,   34.667,2,   34.666,2,  115.310,1,  129.960,2,  155.720,2,   37.660,2,    0.010,2,    2.654,2, -999.000,9, -999.000,9, -999.000,9, -999.000,9, -999.000,9
           NA,    P03C,    179,   1,-999.0,     -99,  2,20051204,1059,  24.2462, -172.8288,  4555, 3252.400,    1.515,   34.673,2,   34.673,2,  121.330,1,  136.800,2,  154.100,2,   37.260,2,    0.000,2,    2.624,2, -999.000,9, -999.000,9, -999.000,9, -999.000,9, -999.000,9
           NA,    P03C,    179,   1,-999.0,     -99,  2,20051204,1059,  24.2462, -172.8288,  4555, 3500.000,    1.487,   34.678,2,   34.678,2,  126.710,1,  142.650,2,  152.370,2,   36.930,2,    0.000,2,    2.591,2,    0.002,2,    0.002,2, -999.000,9, -999.000,9, -999.000,9
           NA,    P03C,    179,   1,-999.0,     -99,  2,20051204,1059,  24.2462, -172.8288,  4555, 3751.200,    1.462,   34.683,2,   34.682,6,  132.230,1,  148.590,2,  150.070,2,   36.420,2,    0.000,2,    2.556,2, -999.000,9, -999.000,9, -999.000,9, -999.000,9, -999.000,9
           NA,    P03C,    179,   1,-999.0,     -99,  2,20051204,1059,  24.2462, -172.8288,  4555, 4002.200,    1.451,   34.686,2,   34.686,2,  136.880,1,  153.380,2,  148.190,2,   36.060,2,    0.000,2,    2.534,2, -999.000,9, -999.000,9, -999.000,9, -999.000,9, -999.000,9
           NA,    P03C,    179,   1,-999.0,     -99,  2,20051204,1059,  24.2462, -172.8288,  4555, 4248.900,    1.448,   34.689,2,   34.689,2,  141.220,1,  157.410,2,  146.010,2,   35.800,2,    0.000,2,    2.505,2, -999.000,9, -999.000,9, -999.000,9, -999.000,9, -999.000,9
           NA,    P03C,    179,   1,-999.0,     -99,  2,20051204,1059,  24.2462, -172.8288,  4555, 4250.100,    1.448,   34.689,2,   34.688,2,  141.150,1,  157.290,2,  146.230,2,   35.720,2,    0.000,2,    2.507,2,    0.001,2,    0.003,2, -999.000,9, -999.000,9, -999.000,9
           NA,    P03C,    179,   1,-999.0,     -99,  2,20051204,1059,  24.2462, -172.8288,  4555, 4499.200,    1.436,   34.692,2,   34.692,2,  147.050,1,  163.040,2,  142.760,2,   35.330,2,    0.010,2,    2.474,2, -999.000,9, -999.000,9, -999.000,9, -999.000,9, -999.000,9
           NA,    P03C,    179,   1,-999.0,     -99,  2,20051204,1059,  24.2462, -172.8288,  4555, 4618.700,    1.438,   34.693,2,   34.693,6,  149.850,1,  164.870,2,  141.500,2,   35.220,2,    0.010,2,    2.468,2,    0.005,2,    0.000,2, -999.000,9, -999.000,9, -999.000,9