BOTTLE,20211903JOAExport
EXPOCODE,SECT_ID,STNNBR,CASTNO,SAMPNO,BTLNBR,BTLNBR_FLAG_W,DATE,TIME,LATITUDE,LONGITUDE,DEPTH,CTDPRS,CTDTMP,CTDSAL,CTDSAL_FLAG_W,SALNTY,SALNTY_FLAG_W,CTDOXY,CTDOXY_FLAG_W,OXYGEN,OXYGEN_FLAG_W,SILCAT,SILCAT_FLAG_W,NITRAT,NITRAT_FLAG_W,NITRIT,NITRIT_FLAG_W,PHSPHT,PHSPHT_FLAG_W,CFC-11,CFC-11_FLAG_W,CFC-12,CFC-12_FLAG_W,SF6,SF6_FLAG_W,TCARBN,TCARBN_FLAG_W,ALKALI,ALKALI_FLAG_W
,,,,,,,,,,,,DB,ITS-90,PSS-78,,PSS-78,,UMOL/KG,,UMOL/KG,,UMOL/KG,,UMOL/KG,,UMOL/KG,,UMOL/KG,,PMOL/KG,,PMOL/KG,,FMOL/KG,,UMOL/KG,,UMOL/KG
           NA,    P03C,    247,   1,-999.0,     -99,  2,20051225,2139,  24.2700,  160.0642,  5521,   10.000,   26.885,   34.994,2,   34.996,2,  189.190,1,  201.870,2,    0.970,2,    0.050,2,    0.000,2,    0.031,2,    1.534,2,    0.924,2, -999.000,9, 1949.200,2, 2298.100,2
           NA,    P03C,    247,   1,-999.0,     -99,  2,20051225,2139,  24.2700,  160.0642,  5521,   50.700,   26.038,   35.132,2,   35.138,2,  191.270,1,  204.520,2,    1.080,2,    0.040,2,    0.000,2,    0.028,2,    1.597,2,    0.955,2, -999.000,9, 1962.300,6, 2304.600,2
           NA,    P03C,    247,   1,-999.0,     -99,  2,20051225,2139,  24.2700,  160.0642,  5521,  102.100,   22.378,   35.063,2,   35.065,2,  202.780,1,  216.650,2,    1.520,2,    0.040,2,    0.010,2,    0.037,2,    2.014,2,    1.167,2, -999.000,9, 1994.600,2, 2301.900,6
           NA,    P03C,    247,   1,-999.0,     -99,  2,20051225,2139,  24.2700,  160.0642,  5521,  149.300,   20.752,   35.022,2,   35.019,2,  191.930,1,  205.190,2,    1.930,2,    0.280,2,    0.130,2,    0.085,2,    2.141,2,    1.208,2, -999.000,9, 2015.200,2, 2297.200,2
           NA,    P03C,    247,   1,-999.0,     -99,  2,20051225,2139,  24.2700,  160.0642,  5521,  201.000,   18.320,   34.859,2,   34.853,2,  192.080,1,  204.960,2,    2.950,2,    2.760,2,    0.010,2,    0.237,2,    2.337,2,    1.308,2, -999.000,9, 2026.000,2, 2287.100,2
           NA,    P03C,    247,   1,-999.0,     -99,  2,20051225,2139,  24.2700,  160.0642,  5521,  249.100,   16.936,   34.756,2,   34.751,2,  193.380,1,  206.080,2,    4.430,2,    5.170,2,    0.000,2,    0.376,2,    2.447,6,    1.346,6, -999.000,9, 2034.300,2, 2285.600,2
           NA,    P03C,    247,   1,-999.0,     -99,  2,20051225,2139,  24.2700,  160.0642,  5521,  302.300,   15.728,   34.652,2,   34.652,2,  191.360,1,  204.010,2,    6.600,2,    7.040,2,    0.000,2,    0.507,2,    2.549,2,    1.377,2, -999.000,9, 2046.700,2, 2278.500,2
           NA,    P03C,    247,   1,-999.0,     -99,  2,20051225,2139,  24.2700,  160.0642,  5521,  400.700,   13.232,   34.444,2,   34.436,2,  187.970,1,  200.240,2,   12.540,2,   11.340,2,    0.000,2,    0.813,2,    2.759,2,    1.418,2, -999.000,9, 2078.400,2, 2273.000,2
           NA,    P03C,    247,   1,-999.0,     -99,  2,20051225,2139,  24.2700,  160.0642,  5521,  503.300,   10.516,   34.241,2,   34.246,6,  180.320,1,  192.490,2,   21.500,2,   16.490,2,    0.000,2,    1.184,2,    2.834,2,    1.398,2, -999.000,9, 2113.300,2, 2267.600,2
           NA,    P03C,    247,   1,-999.0,     -99,  2,20051225,2139,  24.2700,  160.0642,  5521,  602.800,    8.005,   34.094,2,   34.095,2,  147.970,1,  157.710,2,   39.120,2,   24.370,2,    0.000,2,    1.763,2,    2.323,2,    1.121,2, -999.000,9, 2170.400,2, 2278.500,2
           NA,    P03C,    247,   1,-999.0,     -99,  2,20051225,2139,  24.2700,  160.0642,  5521,  700.300,    6.466,   34.074,2,   34.075,2,  107.390,1,  114.480,2,   58.810,2,   31.270,2,    0.000,2,    2.276,2,    1.513,2,    0.734,2, -999.000,9, 2224.700,6, 2294.400,2
           NA,    P03C,    247,   1,-999.0,     -99,  2,20051225,2139,  24.2700,  160.0642,  5521,  801.600,    5.128,   34.143,2,   34.144,2,   65.100,1,   69.510,2,   83.570,2,   37.620,2,    0.000,2,    2.735,2,    0.691,6,    0.340,6, -999.000,9, 2284.300,2, 2316.500,6
           NA,    P03C,    247,   1,-999.0,     -99,  2,20051225,2139,  24.2700,  160.0642,  5521,  899.700,    4.301,   34.259,2,   34.259,2,   41.640,1,   44.010,2,  104.050,2,   41.080,2,    0.000,2,    2.976,2,    0.222,2,    0.111,2, -999.000,9, 2324.300,2, 2343.200,2
           NA,    P03C,    247,   1,-999.0,     -99,  2,20051225,2139,  24.2700,  160.0642,  5521, 1000.300,    3.810,   34.354,2,   34.354,6,   37.020,1,   39.030,2,  117.030,2,   42.090,2,    0.000,2,    3.049,2,    0.077,2,    0.036,2, -999.000,9, 2343.300,2, 2361.000,2
           NA,    P03C,    247,   1,-999.0,     -99,  2,20051225,2139,  24.2700,  160.0642,  5521, 1199.300,    3.106,   34.459,2,   34.459,2,   43.000,1,   45.110,2,  135.050,2,   42.400,2,    0.000,2,    3.052,2,    0.017,2,    0.009,2, -999.000,9, 2358.400,2, 2381.400,2
           NA,    P03C,    247,   1,-999.0,     -99,  2,20051225,2139,  24.2700,  160.0642,  5521, 1399.900,    2.651,   34.524,2,   34.525,2,   55.210,1,   59.060,2,  144.450,2,   41.820,2,    0.000,2,    2.994,2,    0.006,2,    0.002,2, -999.000,9, 2362.100,2, 2395.700,2
           NA,    P03C,    247,   1,-999.0,     -99,  2,20051225,2139,  24.2700,  160.0642,  5521, 1602.900,    2.357,   34.574,2,   34.574,2,   75.940,1,   81.570,2,  146.010,2,   40.470,2,    0.000,2,    2.880,2,    0.000,2,    0.000,2, -999.000,9, 2355.400,2, 2401.900,2
           NA,    P03C,    247,   1,-999.0,     -99,  2,20051225,2139,  24.2700,  160.0642,  5521, 1799.800,    2.146,   34.599,2,   34.599,2,   86.080,1,   92.800,2,  148.350,2,   39.980,2,    0.000,2,    2.831,2,    0.001,2,    0.000,2, -999.000,9, 2351.600,2, 2408.300,2
           NA,    P03C,    247,   1,-999.0,     -99,  2,20051225,2139,  24.2700,  160.0642,  5521, 2000.700,    1.982,   34.617,2,   34.617,2,   93.800,1,  101.220,2,  150.170,2,   39.420,2,    0.000,2,    2.795,2,    0.002,2,    0.000,2, -999.000,9, 2348.500,2, 2411.600,2
           NA,    P03C,    247,   1,-999.0,     -99,  2,20051225,2139,  24.2700,  160.0642,  5521, 2200.000,    1.846,   34.632,2,   34.633,6,  100.870,1,  109.040,2,  151.750,2,   38.950,2,    0.000,2,    2.753,2,    0.002,2,    0.000,2, -999.000,9, 2347.300,2, 2416.200,2
           NA,    P03C,    247,   1,-999.0,     -99,  2,20051225,2139,  24.2700,  160.0642,  5521, 2401.000,    1.745,   34.645,2,   34.645,2,  107.970,1,  116.980,2,  152.000,2,   38.450,2,    0.000,2,    2.716,2,    0.004,2,    0.000,2, -999.000,9, 2342.700,6, 2417.000,2
           NA,    P03C,    247,   1,-999.0,     -99,  2,20051225,2139,  24.2700,  160.0642,  5521, 2601.500,    1.681,   34.654,2,   34.654,2,  113.550,1,  123.060,2,  151.840,2,   38.040,2,    0.000,2,    2.682,2, -999.000,9, -999.000,9, -999.000,9, 2341.600,2, 2419.200,6
           NA,    P03C,    247,   1,-999.0,     -99,  2,20051225,2139,  24.2700,  160.0642,  5521, 2799.500,    1.623,   34.660,2,   34.661,2,  118.050,1,  128.040,2,  151.860,2,   37.740,2,    0.010,2,    2.659,2, -999.000,9, -999.000,9, -999.000,9, 2340.800,2, 2418.300,2
           NA,    P03C,    247,   1,-999.0,     -99,  2,20051225,2139,  24.2700,  160.0642,  5521, 3000.600,    1.576,   34.667,2,   34.667,2,  122.470,1,  132.840,2,  151.900,2,   37.480,2,    0.000,2,    2.635,2,    0.000,2,    0.000,2, -999.000,9, 2336.700,2, 2421.500,2
           NA,    P03C,    247,   1,-999.0,     -99,  2,20051225,2139,  24.2700,  160.0642,  5521, 3251.100,    1.539,   34.672,2,   34.673,6,  127.250,1,  138.030,2,  150.790,2,   37.110,2,    0.000,2,    2.600,2, -999.000,9, -999.000,9, -999.000,9, 2333.700,2, 2416.200,2
           NA,    P03C,    247,   1,-999.0,     -99,  2,20051225,2139,  24.2700,  160.0642,  5521, 3499.600,    1.505,   34.677,2,   34.678,2,  132.490,1,  143.580,2,  149.570,2,   36.730,2,    0.000,2,    2.572,2, -999.000,9, -999.000,9, -999.000,9, 2327.400,2, 2414.800,2
           NA,    P03C,    247,   1,-999.0,     -99,  2,20051225,2139,  24.2700,  160.0642,  5521, 3747.800,    1.482,   34.681,2,   34.681,2,  137.310,1,  148.600,2,  147.940,2,   36.390,2,    0.000,2,    2.548,2,    0.000,2,    0.000,2, -999.000,9, 2323.400,2, 2415.800,2
           NA,    P03C,    247,   1,-999.0,     -99,  2,20051225,2139,  24.2700,  160.0642,  5521, 3999.800,    1.473,   34.684,2,   34.685,2,  141.170,1,  152.740,2,  146.740,2,   36.050,2,    0.000,2,    2.523,2, -999.000,9, -999.000,9, -999.000,9, 2320.800,2, 2413.100,2
           NA,    P03C,    247,   1,-999.0,     -99,  2,20051225,2139,  24.2700,  160.0642,  5521, 4250.800,    1.466,   34.688,2,   34.688,6,  145.370,1,  156.820,2,  145.010,2,   35.850,2,    0.000,2,    2.505,2, -999.000,9, -999.000,9, -999.000,9, 2317.100,6, 2409.400,2
           NA,    P03C,    247,   1,-999.0,     -99,  2,20051225,2139,  24.2700,  160.0642,  5521, 4499.800,    1.463,   34.690,2,   34.691,2,  149.630,1,  161.090,2,  142.900,2,   35.550,2,    0.000,2,    2.485,2,    0.004,2,    0.000,2, -999.000,9, 2312.700,2, 2410.700,6
           NA,    P03C,    247,   1,-999.0,     -99,  2,20051225,2139,  24.2700,  160.0642,  5521, 4752.100,    1.464,   34.693,2,   34.694,2,  154.130,1,  165.170,2,  140.450,2,   35.240,2,    0.000,2,    2.456,2, -999.000,9, -999.000,9, -999.000,9, 2308.700,2, 2408.500,2
           NA,    P03C,    247,   1,-999.0,     -99,  2,20051225,2139,  24.2700,  160.0642,  5521, 5001.800,    1.479,   34.694,2,   34.694,2,  157.100,1,  167.700,2,  138.750,2,   35.040,2,    0.000,2,    2.441,2, -999.000,9, -999.000,9, -999.000,9, 2307.800,2, 2406.300,2
           NA,    P03C,    247,   1,-999.0,     -99,  2,20051225,2139,  24.2700,  160.0642,  5521, 5250.500,    1.501,   34.695,2,   34.696,2,  159.410,1,  169.370,2,  137.890,2,   34.930,2,    0.000,2,    2.434,2,    0.003,2,    0.000,2, -999.000,9, 2304.700,2, 2402.800,2
           NA,    P03C,    247,   1,-999.0,     -99,  2,20051225,2139,  24.2700,  160.0642,  5521, 5498.100,    1.526,   34.696,2,   34.696,2,  161.800,1,  170.560,2,  137.100,2,   34.920,2,    0.000,2,    2.424,2, -999.000,9, -999.000,9, -999.000,9, 2306.300,2, 2405.500,2
           NA,    P03C,    247,   1,-999.0,     -99,  2,20051225,2139,  24.2700,  160.0642,  5521, 5602.400,    1.538,   34.696,2,   34.696,6,  162.770,1,  170.690,2,  136.860,2,   34.840,2,    0.000,2,    2.432,2,    0.002,2,    0.002,2, -999.000,9, 2302.900,2, 2403.300,2
           NA,    P03C,    245,   1,-999.0,     -99,  2,20051225,1409,  24.2582,  160.8330,  5007,    9.900,   26.673,   35.016,2,   35.018,2,  189.640,1,  202.430,2,    1.060,2,    0.050,2,    0.000,2,    0.041,2,    1.585,2,    0.959,2, -999.000,9, -999.000,9, -999.000,9
           NA,    P03C,    245,   1,-999.0,     -99,  2,20051225,1409,  24.2582,  160.8330,  5007,   49.000,   26.676,   35.018,2,   35.019,2,  189.520,1,  202.450,2,    1.080,2,    0.050,2,    0.000,2,    0.042,2,    1.585,2,    0.948,2, -999.000,9, -999.000,9, -999.000,9
           NA,    P03C,    245,   1,-999.0,     -99,  2,20051225,1409,  24.2582,  160.8330,  5007,   98.600,   23.457,   35.106,2,   35.108,2,  206.050,1,  220.220,2,    1.490,2,    0.040,2,    0.010,2,    0.045,2,    1.956,2,    1.163,2, -999.000,9, -999.000,9, -999.000,9
           NA,    P03C,    245,   1,-999.0,     -99,  2,20051225,1409,  24.2582,  160.8330,  5007,  148.900,   19.515,   34.953,2,   34.949,2,  193.590,1,  206.720,2,    2.350,2,    0.610,2,    0.120,2,    0.145,2,    2.194,2,    1.283,2, -999.000,9, -999.000,9, -999.000,9
           NA,    P03C,    245,   1,-999.0,     -99,  2,20051225,1409,  24.2582,  160.8330,  5007,  200.500,   17.922,   34.823,2,   34.821,2,  195.040,1,  208.490,2,    3.210,2,    3.160,2,    0.020,2,    0.271,2,    2.291,2,    1.346,2, -999.000,9, -999.000,9, -999.000,9
           NA,    P03C,    245,   1,-999.0,     -99,  2,20051225,1409,  24.2582,  160.8330,  5007,  249.400,   17.023,   34.771,2,   34.768,2,  198.030,1,  210.820,2,    4.230,2,    4.640,2,    0.010,2,    0.350,2,    2.349,6,    1.370,6, -999.000,9, -999.000,9, -999.000,9
           NA,    P03C,    245,   1,-999.0,     -99,  2,20051225,1409,  24.2582,  160.8330,  5007,  301.700,   15.937,   34.669,2,   34.668,2,  190.980,1,  203.530,2,    6.300,2,    6.730,2,    0.010,2,    0.500,2,    2.469,2,    1.404,2, -999.000,9, -999.000,9, -999.000,9
           NA,    P03C,    245,   1,-999.0,     -99,  2,20051225,1409,  24.2582,  160.8330,  5007,  401.500,   13.417,   34.447,2,   34.444,2,  190.710,1,  202.790,2,   11.320,2,   10.590,2,    0.010,2,    0.777,2,    2.690,2,    1.466,2, -999.000,9, -999.000,9, -999.000,9
           NA,    P03C,    245,   1,-999.0,     -99,  2,20051225,1409,  24.2582,  160.8330,  5007,  501.300,   11.037,   34.272,2,   34.271,6,  180.330,1,  191.810,2,   19.460,2,   15.700,2,    0.010,2,    1.146,2,    2.705,2,    1.413,2, -999.000,9, -999.000,9, -999.000,9
           NA,    P03C,    245,   1,-999.0,     -99,  2,20051225,1409,  24.2582,  160.8330,  5007,  601.000,    8.010,   34.097,2,   34.102,2,  144.980,1,  155.260,2,   39.040,2,   24.520,2,    0.000,2,    1.779,2,    2.186,2,    1.108,2, -999.000,9, -999.000,9, -999.000,9
           NA,    P03C,    245,   1,-999.0,     -99,  2,20051225,1409,  24.2582,  160.8330,  5007,  699.300,    6.005,   34.060,2,   34.064,2,  103.310,1,  107.070,2,   66.460,2,   33.040,2,    0.000,2,    2.398,2,    1.437,2,    0.695,2, -999.000,9, -999.000,9, -999.000,9
           NA,    P03C,    245,   1,-999.0,     -99,  2,20051225,1409,  24.2582,  160.8330,  5007,  800.100,    4.851,   34.145,2,   34.145,2,   61.880,1,   65.780,2,   88.900,2,   38.390,2,    0.010,2,    2.784,2,    0.677,6,    0.330,6, -999.000,9, -999.000,9, -999.000,9
           NA,    P03C,    245,   1,-999.0,     -99,  2,20051225,1409,  24.2582,  160.8330,  5007,  899.700,    4.346,   34.290,2,   34.291,2,   41.570,1,   44.150,2,  103.570,2,   41.160,2,    0.000,2,    2.981,2,    0.166,2,    0.080,2, -999.000,9, -999.000,9, -999.000,9
           NA,    P03C,    245,   1,-999.0,     -99,  2,20051225,1409,  24.2582,  160.8330,  5007, 1000.800,    3.892,   34.374,2,   34.374,6,   41.100,1,   43.550,2,  115.110,2,   41.850,2,    0.000,2,    3.025,2,    0.066,2,    0.030,2, -999.000,9, -999.000,9, -999.000,9
           NA,    P03C,    245,   1,-999.0,     -99,  2,20051225,1409,  24.2582,  160.8330,  5007, 1200.600,    3.348,   34.472,2,   34.473,2,   52.440,1,   55.890,2,  127.140,2,   41.540,2,    0.000,2,    2.985,2,    0.014,2,    0.006,2, -999.000,9, -999.000,9, -999.000,9
           NA,    P03C,    245,   1,-999.0,     -99,  2,20051225,1409,  24.2582,  160.8330,  5007, 1401.500,    2.843,   34.518,2,   34.518,2,   58.350,1,   62.340,2,  138.710,2,   41.500,2,    0.000,2,    2.973,2,    0.002,2,    0.001,2, -999.000,9, -999.000,9, -999.000,9
           NA,    P03C,    245,   1,-999.0,     -99,  2,20051225,1409,  24.2582,  160.8330,  5007, 1601.100,    2.453,   34.565,2,   34.565,2,   72.690,1,   77.720,2,  144.180,2,   40.590,2,    0.000,2,    2.896,2,    0.002,2,    0.000,2, -999.000,9, -999.000,9, -999.000,9
           NA,    P03C,    245,   1,-999.0,     -99,  2,20051225,1409,  24.2582,  160.8330,  5007, 1800.500,    2.176,   34.595,2,   34.596,2,   84.550,1,   91.020,2,  148.460,2,   40.010,2,    0.000,2,    2.841,2,    0.001,2,    0.000,2, -999.000,9, -999.000,9, -999.000,9
           NA,    P03C,    245,   1,-999.0,     -99,  2,20051225,1409,  24.2582,  160.8330,  5007, 2001.200,    1.992,   34.614,2,   34.615,6,   91.380,1,   98.480,2,  151.690,2,   39.580,2,    0.000,2,    2.808,2,    0.000,2,    0.000,2, -999.000,9, -999.000,9, -999.000,9
           NA,    P03C,    245,   1,-999.0,     -99,  2,20051225,1409,  24.2582,  160.8330,  5007, 2201.200,    1.855,   34.632,2,   34.632,2,  100.130,1,  107.990,2,  152.120,2,   39.000,2,    0.000,2,    2.754,2,    0.000,2,    0.000,2, -999.000,9, -999.000,9, -999.000,9
           NA,    P03C,    245,   1,-999.0,     -99,  2,20051225,1409,  24.2582,  160.8330,  5007, 2399.900,    1.755,   34.644,2,   34.644,2,  106.980,1,  115.570,2,  152.900,2,   38.620,2,    0.000,2,    2.722,2,    0.000,2,    0.000,2, -999.000,9, -999.000,9, -999.000,9
           NA,    P03C,    245,   1,-999.0,     -99,  2,20051225,1409,  24.2582,  160.8330,  5007, 2599.500,    1.691,   34.652,2,   34.653,2,  111.980,1,  120.910,2,  152.720,2,   38.240,2,    0.000,2,    2.693,2,    0.002,2,    0.000,2, -999.000,9, -999.000,9, -999.000,9
           NA,    P03C,    245,   1,-999.0,     -99,  2,20051225,1409,  24.2582,  160.8330,  5007, 2801.500,    1.621,   34.660,2,   34.661,2,  117.920,1,  127.480,2,  152.980,2,   37.940,2,    0.000,2,    2.660,2,    0.000,2,    0.000,2, -999.000,9, -999.000,9, -999.000,9
           NA,    P03C,    245,   1,-999.0,     -99,  2,20051225,1409,  24.2582,  160.8330,  5007, 3001.200,    1.575,   34.666,2,   34.667,6,  122.600,1,  132.570,2,  152.420,2,   37.530,2,    0.000,2,    2.634,2, -999.000,9, -999.000,9, -999.000,9, -999.000,9, -999.000,9
           NA,    P03C,    245,   1,-999.0,     -99,  2,20051225,1409,  24.2582,  160.8330,  5007, 3250.500,    1.535,   34.672,2,   34.673,2,  128.160,1,  138.570,2,  151.210,2,   37.130,2,    0.000,2,    2.597,2, -999.000,9, -999.000,9, -999.000,9, -999.000,9, -999.000,9
           NA,    P03C,    245,   1,-999.0,     -99,  2,20051225,1409,  24.2582,  160.8330,  5007, 3500.500,    1.507,   34.677,2,   34.677,2,  132.960,1,  143.480,2,  149.810,2,   36.720,2,    0.000,2,    2.575,2,    0.004,2,    0.000,2, -999.000,9, -999.000,9, -999.000,9
           NA,    P03C,    245,   1,-999.0,     -99,  2,20051225,1409,  24.2582,  160.8330,  5007, 3750.300,    1.479,   34.682,2,   34.682,2,  138.450,1,  149.000,2,  148.620,2,   36.510,2,    0.000,2,    2.553,2, -999.000,9, -999.000,9, -999.000,9, -999.000,9, -999.000,9
           NA,    P03C,    245,   1,-999.0,     -99,  2,20051225,1409,  24.2582,  160.8330,  5007, 4001.600,    1.467,   34.685,2,   34.685,6,  142.770,1,  153.150,2,  146.820,2,   36.190,2,    0.000,2,    2.523,2, -999.000,9, -999.000,9, -999.000,9, -999.000,9, -999.000,9
           NA,    P03C,    245,   1,-999.0,     -99,  2,20051225,1409,  24.2582,  160.8330,  5007, 4250.900,    1.458,   34.688,2,   34.689,2,  147.480,1,  157.810,2,  145.020,2,   35.800,2,    0.000,2,    2.497,2,    0.000,2,    0.000,2, -999.000,9, -999.000,9, -999.000,9
           NA,    P03C,    245,   1,-999.0,     -99,  2,20051225,1409,  24.2582,  160.8330,  5007, 4502.000,    1.455,   34.691,2,   34.691,2,  152.050,1,  162.130,2,  142.850,2,   35.480,2,    0.000,2,    2.475,2, -999.000,9, -999.000,9, -999.000,9, -999.000,9, -999.000,9
           NA,    P03C,    245,   1,-999.0,     -99,  2,20051225,1409,  24.2582,  160.8330,  5007, 4750.400,    1.454,   34.694,2,   34.694,2,  157.110,1,  166.940,2,  140.090,2,   35.220,2,    0.000,2,    2.453,2,    0.000,2,    0.000,2, -999.000,9, -999.000,9, -999.000,9
           NA,    P03C,    245,   1,-999.0,     -99,  2,20051225,1409,  24.2582,  160.8330,  5007, 4999.200,    1.465,   34.695,2,   34.696,2,  160.990,1,  169.820,2,  137.810,2,   34.950,2,    0.010,2,    2.432,2, -999.000,9, -999.000,9, -999.000,9, -999.000,9, -999.000,9
           NA,    P03C,    245,   1,-999.0,     -99,  2,20051225,1409,  24.2582,  160.8330,  5007, 5120.900,    1.478,   34.696,2,   34.696,6,  162.200,1,  170.260,2,  137.270,2,   34.890,2,    0.000,2,    2.434,2,    0.000,2,    0.000,2, -999.000,9, -999.000,9, -999.000,9