BOTTLE,20211903JOAExport
EXPOCODE,SECT_ID,STNNBR,CASTNO,SAMPNO,BTLNBR,BTLNBR_FLAG_W,DATE,TIME,LATITUDE,LONGITUDE,DEPTH,CTDPRS,CTDTMP,CTDSAL,CTDSAL_FLAG_W,SALNTY,SALNTY_FLAG_W,CTDOXY,CTDOXY_FLAG_W,OXYGEN,OXYGEN_FLAG_W,SILCAT,SILCAT_FLAG_W,NITRAT,NITRAT_FLAG_W,NITRIT,NITRIT_FLAG_W,PHSPHT,PHSPHT_FLAG_W,CFC-11,CFC-11_FLAG_W,CFC-12,CFC-12_FLAG_W,SF6,SF6_FLAG_W,TCARBN,TCARBN_FLAG_W,ALKALI,ALKALI_FLAG_W
,,,,,,,,,,,,DB,ITS-90,PSS-78,,PSS-78,,UMOL/KG,,UMOL/KG,,UMOL/KG,,UMOL/KG,,UMOL/KG,,UMOL/KG,,PMOL/KG,,PMOL/KG,,FMOL/KG,,UMOL/KG,,UMOL/KG
           NA,    P03C,    239,   1,-999.0,     -99,  2,20051224,1531,  24.2745,  163.2885,  5754,   11.600,   26.559,   35.123,2,   35.125,2,  189.990,1,  202.870,2,    1.140,2,    0.020,2,    0.010,2,    0.049,2,    1.586,2,    0.934,2, -999.000,9, 1959.100,2, 2304.900,2
           NA,    P03C,    239,   1,-999.0,     -99,  2,20051224,1531,  24.2745,  163.2885,  5754,   48.300,   26.557,   35.123,2,   35.125,2,  189.870,1,  202.870,2,    1.140,2,    0.000,2,    0.000,2,    0.048,2,    1.587,2,    0.942,2, -999.000,9, 1959.000,6, 2306.300,2
           NA,    P03C,    239,   1,-999.0,     -99,  2,20051224,1531,  24.2745,  163.2885,  5754,   98.500,   22.799,   35.124,2,   35.126,2,  199.660,1,  213.430,2,    1.620,2,    0.000,2,    0.010,2,    0.056,2,    2.006,2,    1.145,2, -999.000,9, 1998.600,2, 2306.200,6
           NA,    P03C,    239,   1,-999.0,     -99,  2,20051224,1531,  24.2745,  163.2885,  5754,  149.300,   19.298,   34.952,2,   34.953,2,  184.610,1,  197.180,2,    2.740,2,    2.000,2,    0.020,2,    0.226,2,    2.293,2,    1.260,2, -999.000,9, 2031.600,2, 2292.300,2
           NA,    P03C,    239,   1,-999.0,     -99,  2,20051224,1531,  24.2745,  163.2885,  5754,  201.600,   17.352,   34.788,2,   34.788,2,  191.910,1,  204.560,2,    4.010,2,    4.510,2,    0.010,2,    0.357,2,    2.458,2,    1.322,2, -999.000,9, 2034.500,2, 2287.100,2
           NA,    P03C,    239,   1,-999.0,     -99,  2,20051224,1531,  24.2745,  163.2885,  5754,  248.600,   16.051,   34.675,2,   34.674,2,  189.680,1,  202.580,2,    6.010,2,    6.610,2,    0.010,2,    0.493,2,    2.591,6,    1.362,6, -999.000,9, 2050.700,2, 2280.900,2
           NA,    P03C,    239,   1,-999.0,     -99,  2,20051224,1531,  24.2745,  163.2885,  5754,  300.200,   14.702,   34.556,2,   34.556,2,  187.580,1,  200.010,2,    8.850,2,    8.820,2,    0.010,2,    0.661,2,    2.700,2,    1.384,2, -999.000,9, 2064.700,2, 2276.600,2
           NA,    P03C,    239,   1,-999.0,     -99,  2,20051224,1531,  24.2745,  163.2885,  5754,  403.200,   11.947,   34.328,2,   34.330,2,  181.310,1,  193.250,2,   15.340,2,   13.800,2,    0.010,2,    1.013,2,    2.893,2,    1.399,2, -999.000,9, 2096.400,2, 2268.000,2
           NA,    P03C,    239,   1,-999.0,     -99,  2,20051224,1531,  24.2745,  163.2885,  5754,  502.300,    9.549,   34.174,2,   34.180,6,  171.800,1,  184.800,2,   26.630,2,   19.040,2,    0.010,2,    1.379,2,    2.782,2,    1.333,2, -999.000,9, 2131.500,2, 2268.300,2
           NA,    P03C,    239,   1,-999.0,     -99,  2,20051224,1531,  24.2745,  163.2885,  5754,  598.800,    7.341,   34.093,2,   34.094,2,  119.870,1,  128.180,2,   48.050,2,   28.550,2,    0.000,2,    2.073,2,    1.776,2,    0.832,2, -999.000,9, 2201.600,2, 2284.200,2
           NA,    P03C,    239,   1,-999.0,     -99,  2,20051224,1531,  24.2745,  163.2885,  5754,  701.700,    5.789,   34.132,2,   34.129,2,   75.550,1,   82.040,2,   71.160,2,   35.400,2,    0.000,2,    2.582,2,    0.847,2,    0.410,2, -999.000,9, 2261.600,6, 2303.000,2
           NA,    P03C,    239,   1,-999.0,     -99,  2,20051224,1531,  24.2745,  163.2885,  5754,  800.400,    4.698,   34.233,2,   34.231,2,   48.410,1,   51.790,2,   95.220,2,   40.110,2,    0.010,2,    2.909,2,    0.313,6,    0.154,6, -999.000,9, 2317.500,2, 2329.300,6
           NA,    P03C,    239,   1,-999.0,     -99,  2,20051224,1531,  24.2745,  163.2885,  5754,  902.000,    4.288,   34.332,2,   34.332,2,   42.250,1,   44.910,2,  105.230,2,   41.300,2,    0.000,2,    2.990,2,    0.106,2,    0.056,2, -999.000,9, 2329.500,2, 2348.100,2
           NA,    P03C,    239,   1,-999.0,     -99,  2,20051224,1531,  24.2745,  163.2885,  5754, 1000.100,    3.874,   34.409,2,   34.409,6,   45.080,1,   47.910,2,  115.120,2,   41.620,2,    0.000,2,    3.015,2,    0.038,2,    0.019,2, -999.000,9, 2340.100,2, 2360.300,2
           NA,    P03C,    239,   1,-999.0,     -99,  2,20051224,1531,  24.2745,  163.2885,  5754, 1203.600,    3.284,   34.482,2,   34.483,2,   53.040,1,   56.590,2,  128.330,2,   41.560,2,    0.000,2,    2.995,2,    0.010,2,    0.005,2, -999.000,9, 2347.900,2, 2379.200,2
           NA,    P03C,    239,   1,-999.0,     -99,  2,20051224,1531,  24.2745,  163.2885,  5754, 1401.100,    2.831,   34.536,2,   34.538,2,   65.860,1,   70.930,2,  136.540,2,   40.990,2,    0.000,2,    2.940,2,    0.003,2,    0.001,2, -999.000,9, 2348.900,2, 2388.100,2
           NA,    P03C,    239,   1,-999.0,     -99,  2,20051224,1531,  24.2745,  163.2885,  5754, 1603.300,    2.444,   34.568,2,   34.569,2,   73.210,1,   78.830,2,  144.760,2,   40.760,2,    0.000,2,    2.901,2,    0.002,2,    0.000,2, -999.000,9, 2354.300,2, 2402.300,2
           NA,    P03C,    239,   1,-999.0,     -99,  2,20051224,1531,  24.2745,  163.2885,  5754, 1804.000,    2.175,   34.600,2,   34.600,2,   86.150,1,   93.210,2,  148.030,2,   40.000,2,    0.000,2,    2.837,2,    0.000,2,    0.000,2, -999.000,9, 2350.700,2, 2406.700,2
           NA,    P03C,    239,   1,-999.0,     -99,  2,20051224,1531,  24.2745,  163.2885,  5754, 2005.200,    1.978,   34.619,2,   34.619,2,   92.220,1,   99.810,2,  151.480,2,   39.700,2,    0.000,2,    2.812,2,    0.000,2,    0.000,2, -999.000,9, 2353.900,2, 2412.600,2
           NA,    P03C,    239,   1,-999.0,     -99,  2,20051224,1531,  24.2745,  163.2885,  5754, 2202.700,    1.844,   34.635,2,   34.635,6,  100.660,1,  109.050,2,  152.460,2,   39.100,2,    0.010,2,    2.765,2,    0.002,2,    0.000,2, -999.000,9, 2348.600,2, 2413.300,2
           NA,    P03C,    239,   1,-999.0,     -99,  2,20051224,1531,  24.2745,  163.2885,  5754, 2402.400,    1.748,   34.647,2,   34.647,2,  106.960,1,  116.220,2,  153.250,2,   38.670,2,    0.010,2,    2.728,2,    0.000,2,    0.000,2, -999.000,9, 2342.300,6, 2415.700,2
           NA,    P03C,    239,   1,-999.0,     -99,  2,20051224,1531,  24.2745,  163.2885,  5754, 2601.500,    1.680,   34.655,2,   34.655,2,  112.200,1,  122.050,2,  153.270,2,   38.270,2,    0.010,2,    2.699,2, -999.000,9, -999.000,9, -999.000,9, 2342.100,2, 2417.000,6
           NA,    P03C,    239,   1,-999.0,     -99,  2,20051224,1531,  24.2745,  163.2885,  5754, 2803.100,    1.644,   34.660,2,   34.660,2,  115.850,1,  126.220,2,  153.160,2,   38.070,2,    0.000,2,    2.674,2, -999.000,9, -999.000,9, -999.000,9, 2339.500,2, 2419.000,2
           NA,    P03C,    239,   1,-999.0,     -99,  2,20051224,1531,  24.2745,  163.2885,  5754, 3002.400,    1.594,   34.666,2,   34.666,2,  120.470,1,  131.390,2,  152.610,2,   37.640,2,    0.010,2,    2.649,2,    0.000,2,    0.000,2, -999.000,9, 2340.100,2, 2418.300,2
           NA,    P03C,    239,   1,-999.0,     -99,  2,20051224,1531,  24.2745,  163.2885,  5754, 3251.300,    1.566,   34.670,2,   34.670,6,  124.190,1,  135.360,2,  151.900,2,   37.380,2,    0.010,2,    2.622,2, -999.000,9, -999.000,9, -999.000,9, 2331.700,2, 2419.600,2
           NA,    P03C,    239,   1,-999.0,     -99,  2,20051224,1531,  24.2745,  163.2885,  5754, 3501.700,    1.539,   34.674,2,   34.674,2,  128.080,1,  139.470,2,  151.570,2,   37.230,2,    0.010,2,    2.608,2, -999.000,9, -999.000,9, -999.000,9, 2329.800,2, 2415.100,2
           NA,    P03C,    239,   1,-999.0,     -99,  2,20051224,1531,  24.2745,  163.2885,  5754, 3749.300,    1.517,   34.679,2,   34.679,2,  132.950,1,  144.530,2,  150.300,2,   36.780,2,    0.000,2,    2.578,2,    0.000,2,    0.001,2, -999.000,9, 2326.300,2, 2417.700,2
           NA,    P03C,    239,   1,-999.0,     -99,  2,20051224,1531,  24.2745,  163.2885,  5754, 4000.400,    1.498,   34.682,2,   34.682,2,  137.170,1,  148.910,2,  149.040,2,   36.550,2,    0.000,2,    2.555,2, -999.000,9, -999.000,9, -999.000,9, 2322.800,2, 2417.400,2
           NA,    P03C,    239,   1,-999.0,     -99,  2,20051224,1531,  24.2745,  163.2885,  5754, 4251.000,    1.482,   34.686,2,   34.686,2,  142.380,1,  154.270,2,  146.940,2,   36.060,2,    0.010,2,    2.522,2, -999.000,9, -999.000,9, -999.000,9, 2320.100,6, 2415.600,2
           NA,    P03C,    239,   1,-999.0,     -99,  2,20051224,1531,  24.2745,  163.2885,  5754, 4500.700,    1.467,   34.690,2,   34.690,6,  147.980,1,  159.800,2,  144.240,2,   35.730,2,    0.010,2,    2.494,2,    0.000,2,    0.000,2, -999.000,9, 2314.500,2, 2410.800,6
           NA,    P03C,    239,   1,-999.0,     -99,  2,20051224,1531,  24.2745,  163.2885,  5754, 4749.900,    1.461,   34.693,2,   34.692,2,  153.080,1,  165.000,2,  141.240,2,   35.400,2,    0.010,2,    2.469,2, -999.000,9, -999.000,9, -999.000,9, 2306.400,2, 2410.600,2
           NA,    P03C,    239,   1,-999.0,     -99,  2,20051224,1531,  24.2745,  163.2885,  5754, 4997.800,    1.465,   34.695,2,   34.695,2,  157.380,1,  168.950,2,  138.290,2,   35.150,2,    0.010,2,    2.447,2, -999.000,9, -999.000,9, -999.000,9, 2303.500,2, 2406.000,2
           NA,    P03C,    239,   1,-999.0,     -99,  2,20051224,1531,  24.2745,  163.2885,  5754, 5249.600,    1.474,   34.696,2,   34.697,2,  161.030,1,  172.360,2,  136.590,2,   34.820,2,    0.010,2,    2.435,2,    0.004,2,    0.000,2, -999.000,9, 2300.300,2, 2404.400,2
           NA,    P03C,    239,   1,-999.0,     -99,  2,20051224,1531,  24.2745,  163.2885,  5754, 5501.400,    1.482,   34.698,2,   34.698,2,  165.120,1,  175.490,2,  134.540,2,   34.650,2,    0.010,2,    2.410,2, -999.000,9, -999.000,9, -999.000,9, 2298.600,2, 2400.300,2
           NA,    P03C,    239,   1,-999.0,     -99,  2,20051224,1531,  24.2745,  163.2885,  5754, 5750.500,    1.503,   34.699,2,   34.699,2,  168.040,1,  177.180,2,  133.280,2,   34.460,2,    0.010,2,    2.403,2, -999.000,9, -999.000,9, -999.000,9, 2299.000,2, 2398.500,2
           NA,    P03C,    239,   1,-999.0,     -99,  2,20051224,1531,  24.2745,  163.2885,  5754, 5848.500,    1.515,   34.699,2,   34.699,6,  169.020,1,  177.360,2,  133.590,2,   34.440,2,    0.010,2,    2.401,2,    0.001,2,    0.000,2, -999.000,9, 2295.500,2, 2398.600,2