BOTTLE,20211903JOAExport
EXPOCODE,SECT_ID,STNNBR,CASTNO,SAMPNO,BTLNBR,BTLNBR_FLAG_W,DATE,TIME,LATITUDE,LONGITUDE,DEPTH,CTDPRS,CTDTMP,CTDSAL,CTDSAL_FLAG_W,SALNTY,SALNTY_FLAG_W,CTDOXY,CTDOXY_FLAG_W,OXYGEN,OXYGEN_FLAG_W,SILCAT,SILCAT_FLAG_W,NITRAT,NITRAT_FLAG_W,NITRIT,NITRIT_FLAG_W,PHSPHT,PHSPHT_FLAG_W,CFC-11,CFC-11_FLAG_W,CFC-12,CFC-12_FLAG_W,SF6,SF6_FLAG_W,TCARBN,TCARBN_FLAG_W,ALKALI,ALKALI_FLAG_W
,,,,,,,,,,,,DB,ITS-90,PSS-78,,PSS-78,,UMOL/KG,,UMOL/KG,,UMOL/KG,,UMOL/KG,,UMOL/KG,,UMOL/KG,,PMOL/KG,,PMOL/KG,,FMOL/KG,,UMOL/KG,,UMOL/KG
           NA,    P03E,    106,   1,-999.0,     -99,  2,20051116,0521,  24.2723, -153.3082,  5145,    9.900,   24.688,   35.062,2,   35.062,2,  194.440,1,  210.370,2,    0.970,2,    0.040,2,    0.000,2,    0.103,2,    1.685,2,    1.031,2, -999.000,9, 1984.700,2, 2307.600,2
           NA,    P03E,    106,   1,-999.0,     -99,  2,20051116,0521,  24.2723, -153.3082,  5145,   50.900,   24.657,   35.231,2,   35.231,2,  194.700,1,  210.720,2,    0.880,2,    0.030,2,    0.000,2,    0.070,2,    1.677,2,    1.032,2, -999.000,9, 1990.900,6, 2323.200,2
           NA,    P03E,    106,   1,-999.0,     -99,  2,20051116,0521,  24.2723, -153.3082,  5145,   99.500,   22.846,   35.237,2,   35.238,2,  203.240,1,  218.790,2,    1.120,2,    0.040,2,    0.000,2,    0.060,2,    1.907,2,    1.154,2, -999.000,9, 2006.300,2, 2322.400,6
           NA,    P03E,    106,   1,-999.0,     -99,  2,20051116,0521,  24.2723, -153.3082,  5145,  150.300,   21.060,   35.163,2,   35.163,2,  184.590,1,  199.440,2,    1.530,2,    0.800,2,    0.030,2,    0.152,2,    2.017,2,    1.206,2, -999.000,9, 2031.800,2, 2314.700,2
           NA,    P03E,    106,   1,-999.0,     -99,  2,20051116,0521,  24.2723, -153.3082,  5145,  199.900,   18.732,   34.906,2,   34.900,2,  184.260,1,  199.030,2,    2.580,2,    2.370,2,    0.020,2,    0.249,2,    2.251,2,    1.325,2, -999.000,9, 2042.400,2, 2297.600,2
           NA,    P03E,    106,   1,-999.0,     -99,  2,20051116,0521,  24.2723, -153.3082,  5145,  249.800,   16.538,   34.670,2,   34.671,2,  191.030,1,  205.980,2,    4.140,2,    3.900,2,    0.010,2,    0.360,2,    2.461,6,    1.427,6, -999.000,9, 2043.600,2, 2280.000,2
           NA,    P03E,    106,   1,-999.0,     -99,  2,20051116,0521,  24.2723, -153.3082,  5145,  302.300,   13.687,   34.353,2,   34.350,2,  194.870,1,  209.840,2,    7.380,2,    7.800,2,    0.010,2,    0.618,2,    2.758,2,    1.566,2, -999.000,9, 2058.700,2, 2262.100,2
           NA,    P03E,    106,   1,-999.0,     -99,  2,20051116,0521,  24.2723, -153.3082,  5145,  402.600,   10.055,   34.111,2,   34.111,2,  174.780,1,  188.380,2,   19.680,2,   17.290,2,    0.000,2,    1.284,2,    2.928,2,    1.559,2, -999.000,9, 2119.400,2, 2259.600,2
           NA,    P03E,    106,   1,-999.0,     -99,  2,20051116,0521,  24.2723, -153.3082,  5145,  501.100,    7.633,   34.041,2,   34.041,6,  131.900,1,  141.810,2,   39.990,2,   26.890,2,    0.000,2,    1.939,2,    2.284,2,    1.115,2, -999.000,9, 2183.800,2, 2277.500,2
           NA,    P03E,    106,   1,-999.0,     -99,  2,20051116,0521,  24.2723, -153.3082,  5145,  600.300,    5.790,   34.047,2,   34.048,2,   73.650,1,   78.280,2,   66.760,2,   35.980,2,    0.000,2,    2.621,2,    0.947,2,    0.467,2, -999.000,9, 2258.900,2, 2291.800,2
           NA,    P03E,    106,   1,-999.0,     -99,  2,20051116,0521,  24.2723, -153.3082,  5145,  699.000,    5.320,   34.153,2,   34.161,2,   37.340,1,   38.600,2,   80.620,2,   39.820,2,    0.000,2,    2.953,2,    0.273,2,    0.141,2, -999.000,9, 2300.100,6, 2312.700,2
           NA,    P03E,    106,   1,-999.0,     -99,  2,20051116,0521,  24.2723, -153.3082,  5145,  801.900,    4.571,   34.250,2,   34.251,2,   19.870,1,   21.460,2,   99.300,2,   42.640,2,    0.000,2,    3.148,2,    0.059,6,    0.032,6, -999.000,9, 2331.300,2, 2335.400,6
           NA,    P03E,    106,   1,-999.0,     -99,  2,20051116,0521,  24.2723, -153.3082,  5145,  900.200,    4.324,   34.356,2,   34.356,2,   20.850,1,   22.270,2,  106.360,2,   43.200,2,    0.000,2,    3.170,2,    0.014,2,    0.007,2, -999.000,9, 2342.700,2, 2349.300,2
           NA,    P03E,    106,   1,-999.0,     -99,  2,20051116,0521,  24.2723, -153.3082,  5145, 1003.100,    4.028,   34.437,2,   34.437,6,   29.450,1,   31.690,2,  112.510,2,   42.970,2,    0.000,2,    3.140,2,    0.005,2,    0.001,2, -999.000,9, 2346.400,2, 2364.900,2
           NA,    P03E,    106,   1,-999.0,     -99,  2,20051116,0521,  24.2723, -153.3082,  5145, 1200.900,    3.521,   34.514,2,   34.514,2,   44.620,1,   48.370,2,  122.430,2,   42.340,2,    0.000,2,    3.078,2,    0.000,2,    0.000,2, -999.000,9, 2350.600,2, 2377.300,2
           NA,    P03E,    106,   1,-999.0,     -99,  2,20051116,0521,  24.2723, -153.3082,  5145, 1398.600,    3.062,   34.552,2,   34.552,2,   54.300,1,   59.010,2,  132.840,2,   42.090,2,    0.000,2,    3.038,2,    0.000,2,    0.000,2, -999.000,9, 2355.500,2, 2392.200,2
           NA,    P03E,    106,   1,-999.0,     -99,  2,20051116,0521,  24.2723, -153.3082,  5145, 1602.800,    2.662,   34.578,2,   34.578,2,   63.820,1,   69.280,2,  141.980,2,   41.550,2,    0.000,2,    2.985,2,    0.002,2,    0.000,2, -999.000,9, 2358.200,2, 2401.000,2
           NA,    P03E,    106,   1,-999.0,     -99,  2,20051116,0521,  24.2723, -153.3082,  5145, 1800.500,    2.394,   34.596,2,   34.596,2,   69.880,1,   76.260,2,  148.790,2,   41.230,2,    0.000,2,    2.952,2,    0.000,2,    0.000,2, -999.000,9, 2360.600,2, 2406.500,2
           NA,    P03E,    106,   1,-999.0,     -99,  2,20051116,0521,  24.2723, -153.3082,  5145, 2001.900,    2.113,   34.614,2,   34.614,2,   76.850,1,   83.880,2,  156.850,2,   40.720,2,    0.000,2,    2.898,2,    0.002,2,    0.002,2, -999.000,9, 2362.900,2, 2410.200,2
           NA,    P03E,    106,   1,-999.0,     -99,  2,20051116,0521,  24.2723, -153.3082,  5145, 2203.400,    1.925,   34.630,2,   34.630,6,   83.560,1,   91.150,2,  161.990,2,   40.290,2,    0.000,2,    2.860,2, -999.000,9, -999.000,9, -999.000,9, 2363.100,2, -999.000,4
           NA,    P03E,    106,   1,-999.0,     -99,  2,20051116,0521,  24.2723, -153.3082,  5145, 2401.300,    1.781,   34.642,2,   34.643,2,   91.970,1,  100.490,2,  164.260,2,   39.620,2,    0.000,2,    2.813,2, -999.000,9, -999.000,9, -999.000,9, 2361.500,6, 2421.500,2
           NA,    P03E,    106,   1,-999.0,     -99,  2,20051116,0521,  24.2723, -153.3082,  5145, 2602.800,    1.686,   34.652,2,   34.652,2,   98.760,1,  108.160,2,  165.200,2,   39.250,2,    0.000,2,    2.774,2, -999.000,9, -999.000,9, -999.000,9, 2356.900,2, 2421.600,6
           NA,    P03E,    106,   1,-999.0,     -99,  2,20051116,0521,  24.2723, -153.3082,  5145, 2800.200,    1.609,   34.661,2,   34.661,2,  106.240,1,  116.260,2,  165.080,2,   38.760,2,    0.000,2,    2.734,2,    0.000,2,    0.002,2, -999.000,9, 2352.900,2, 2424.900,2
           NA,    P03E,    106,   1,-999.0,     -99,  2,20051116,0521,  24.2723, -153.3082,  5145, 3000.800,    1.557,   34.668,2,   34.668,2,  112.670,1,  123.250,2,  164.280,2,   38.230,2,    0.000,2,    2.688,2, -999.000,9, -999.000,9, -999.000,9, 2349.600,2, 2426.000,2
           NA,    P03E,    106,   1,-999.0,     -99,  2,20051116,0521,  24.2723, -153.3082,  5145, 3250.600,    1.510,   34.674,2,   34.674,2,  120.250,1,  131.520,2,  161.870,2,   37.670,2,    0.000,2,    2.638,2, -999.000,9, -999.000,9, -999.000,9, 2341.600,2, 2422.500,2
           NA,    P03E,    106,   1,-999.0,     -99,  2,20051116,0521,  24.2723, -153.3082,  5145, 3500.200,    1.475,   34.679,2,   34.680,2,  127.190,1,  139.030,2,  159.080,2,   37.280,2,    0.000,2,    2.605,2, -999.000,9, -999.000,9, -999.000,9, 2334.700,2, 2422.600,2
           NA,    P03E,    106,   1,-999.0,     -99,  2,20051116,0521,  24.2723, -153.3082,  5145, 3750.400,    1.459,   34.683,2,   34.683,6,  132.530,1,  144.220,2,  157.010,2,   36.870,2,    0.000,2,    2.576,2,    0.001,2,    0.000,2, -999.000,9, 2332.500,2, 2422.200,2
           NA,    P03E,    106,   1,-999.0,     -99,  2,20051116,0521,  24.2723, -153.3082,  5145, 4000.200,    1.454,   34.687,2,   34.686,2,  137.030,1,  148.700,2,  155.020,2,   36.580,2,    0.000,2,    2.549,2, -999.000,9, -999.000,9, -999.000,9, 2330.300,2, 2420.400,2
           NA,    P03E,    106,   1,-999.0,     -99,  2,20051116,0521,  24.2723, -153.3082,  5145, 4250.200,    1.455,   34.689,2,   34.688,2,  141.200,1,  152.900,2,  152.840,2,   36.200,2,    0.000,2,    2.525,2, -999.000,9, -999.000,9, -999.000,9, 2325.600,6, 2419.700,2
           NA,    P03E,    106,   1,-999.0,     -99,  2,20051116,0521,  24.2723, -153.3082,  5145, 4499.300,    1.468,   34.690,2,   34.690,2,  144.070,1,  155.390,2,  151.150,2,   36.020,2,    0.000,2,    2.512,2, -999.000,9, -999.000,9, -999.000,9, 2323.100,2, 2418.800,6
           NA,    P03E,    106,   1,-999.0,     -99,  2,20051116,0521,  24.2723, -153.3082,  5145, 4750.700,    1.488,   34.691,2,   34.691,6,  146.550,1,  157.400,2,  149.310,2,   35.940,2,    0.000,2,    2.505,2,    0.001,2,    0.004,2, -999.000,9, 2320.700,2, 2416.200,2
           NA,    P03E,    106,   1,-999.0,     -99,  2,20051116,0521,  24.2723, -153.3082,  5145, 5000.200,    1.511,   34.692,2,   34.692,2,  148.870,1,  159.010,2,  147.850,2,   35.810,2,    0.000,2,    2.496,2, -999.000,9, -999.000,9, -999.000,9, 2319.100,2, 2417.400,2
           NA,    P03E,    106,   1,-999.0,     -99,  2,20051116,0521,  24.2723, -153.3082,  5145, 5213.300,    1.531,   34.692,2,   34.693,6,  151.410,1,  160.420,2,  146.340,2,   35.670,2,    0.000,2,    2.489,2,    0.000,2,    0.006,2, -999.000,9, 2315.900,2, 2416.600,2
           NA,    P03E,    104,   1,-999.0,     -99,  2,20051115,2307,  24.2697, -152.6385,  5259,    9.100,   24.641,   35.178,2,   35.179,2,  194.930,1,  210.940,2,    0.960,2,    0.040,2,    0.010,2,    0.086,2,    1.697,2,    1.032,2, -999.000,9, -999.000,9, -999.000,9
           NA,    P03E,    104,   1,-999.0,     -99,  2,20051115,2307,  24.2697, -152.6385,  5259,   50.000,   24.591,   35.311,2,   35.314,2,  195.750,1,  211.550,2,    0.950,2,    0.030,2,    0.000,2,    0.057,2,    1.690,2,    1.023,2, -999.000,9, -999.000,9, -999.000,9
           NA,    P03E,    104,   1,-999.0,     -99,  2,20051115,2307,  24.2697, -152.6385,  5259,   98.500,   22.403,   35.244,2,   35.244,2,  195.910,1,  211.490,2,    1.200,2,    0.030,2,    0.010,2,    0.065,2,    1.914,2,    1.149,2, -999.000,9, -999.000,9, -999.000,9
           NA,    P03E,    104,   1,-999.0,     -99,  2,20051115,2307,  24.2697, -152.6385,  5259,  151.100,   20.664,   35.141,2,   35.145,2,  181.890,1,  196.390,2,    1.690,2,    1.240,2,    0.030,2,    0.170,2,    2.065,2,    1.223,2, -999.000,9, -999.000,9, -999.000,9
           NA,    P03E,    104,   1,-999.0,     -99,  2,20051115,2307,  24.2697, -152.6385,  5259,  199.600,   18.674,   34.908,2,   34.910,2,  184.540,1,  199.040,2,    2.660,2,    2.460,2,    0.020,2,    0.261,2,    2.282,2,    1.326,2, -999.000,9, -999.000,9, -999.000,9
           NA,    P03E,    104,   1,-999.0,     -99,  2,20051115,2307,  24.2697, -152.6385,  5259,  250.700,   16.440,   34.642,2,   34.638,2,  191.030,1,  206.010,2,    4.200,2,    4.030,2,    0.010,2,    0.368,2,    2.493,6,    1.414,6, -999.000,9, -999.000,9, -999.000,9
           NA,    P03E,    104,   1,-999.0,     -99,  2,20051115,2307,  24.2697, -152.6385,  5259,  301.700,   13.544,   34.333,2,   34.337,2,  196.090,1,  210.980,2,    7.470,2,    7.940,2,    0.010,2,    0.625,2,    2.806,2,    1.528,2, -999.000,9, -999.000,9, -999.000,9
           NA,    P03E,    104,   1,-999.0,     -99,  2,20051115,2307,  24.2697, -152.6385,  5259,  401.700,   10.529,   34.139,2,   34.140,2,  185.190,1,  199.500,2,   16.830,2,   15.360,2,    0.000,2,    1.137,2,    3.042,2,    1.565,2, -999.000,9, -999.000,9, -999.000,9
           NA,    P03E,    104,   1,-999.0,     -99,  2,20051115,2307,  24.2697, -152.6385,  5259,  502.500,    8.018,   34.055,2,   34.054,6,  139.160,1,  151.300,2,   35.930,2,   25.320,2,    0.000,2,    1.819,2,    2.456,2,    1.165,2, -999.000,9, -999.000,9, -999.000,9
           NA,    P03E,    104,   1,-999.0,     -99,  2,20051115,2307,  24.2697, -152.6385,  5259,  598.800,    6.156,   34.036,2,   34.038,2,   83.330,1,   87.860,2,   60.820,2,   34.590,2,    0.000,2,    2.517,2,    1.189,2,    0.552,2, -999.000,9, -999.000,9, -999.000,9
           NA,    P03E,    104,   1,-999.0,     -99,  2,20051115,2307,  24.2697, -152.6385,  5259,  700.200,    5.053,   34.146,2,   34.147,2,   34.390,1,   36.550,2,   85.220,2,   40.690,2,    0.000,2,    2.990,2,    0.267,2,    0.121,2, -999.000,9, -999.000,9, -999.000,9
           NA,    P03E,    104,   1,-999.0,     -99,  2,20051115,2307,  24.2697, -152.6385,  5259,  801.400,    4.496,   34.263,2,   34.263,2,   20.510,1,   21.950,2,  100.770,2,   42.780,2,    0.000,2,    3.140,2,    0.059,6,    0.027,6, -999.000,9, -999.000,9, -999.000,9
           NA,    P03E,    104,   1,-999.0,     -99,  2,20051115,2307,  24.2697, -152.6385,  5259,  901.300,    4.228,   34.376,2,   34.374,2,   22.200,1,   23.600,2,  108.160,2,   43.100,2,    0.000,2,    3.157,2,    0.014,2,    0.015,2, -999.000,9, -999.000,9, -999.000,9
           NA,    P03E,    104,   1,-999.0,     -99,  2,20051115,2307,  24.2697, -152.6385,  5259, 1001.800,    3.960,   34.449,2,   34.449,6,   31.830,1,   34.250,2,  113.580,2,   42.830,2,    0.000,2,    3.133,2,    0.007,2,    0.007,2, -999.000,9, -999.000,9, -999.000,9
           NA,    P03E,    104,   1,-999.0,     -99,  2,20051115,2307,  24.2697, -152.6385,  5259, 1201.400,    3.515,   34.523,2,   34.522,2,   47.100,1,   50.830,2,  121.940,2,   42.240,2,    0.000,2,    3.062,2,    0.000,2,    0.005,2, -999.000,9, -999.000,9, -999.000,9
           NA,    P03E,    104,   1,-999.0,     -99,  2,20051115,2307,  24.2697, -152.6385,  5259, 1400.500,    3.041,   34.555,2,   34.554,2,   55.130,1,   59.660,2,  132.950,2,   41.910,2,    0.000,2,    3.035,2,    0.009,2,    0.000,2, -999.000,9, -999.000,9, -999.000,9
           NA,    P03E,    104,   1,-999.0,     -99,  2,20051115,2307,  24.2697, -152.6385,  5259, 1601.400,    2.671,   34.583,2,   34.582,2,   64.940,1,   70.510,2,  141.020,2,   41.440,2,    0.000,2,    2.976,2,    0.000,2,    0.000,2, -999.000,9, -999.000,9, -999.000,9
           NA,    P03E,    104,   1,-999.0,     -99,  2,20051115,2307,  24.2697, -152.6385,  5259, 1801.200,    2.372,   34.600,2,   34.600,2,   71.400,1,   77.580,2,  148.730,2,   40.970,2,    0.010,2,    2.933,2,    0.002,2,    0.000,2, -999.000,9, -999.000,9, -999.000,9
           NA,    P03E,    104,   1,-999.0,     -99,  2,20051115,2307,  24.2697, -152.6385,  5259, 2000.500,    2.144,   34.617,2,   34.617,6,   79.300,1,   86.430,2,  153.750,2,   40.530,2,    0.000,2,    2.886,2,    0.004,2,    0.000,2, -999.000,9, -999.000,9, -999.000,9
           NA,    P03E,    104,   1,-999.0,     -99,  2,20051115,2307,  24.2697, -152.6385,  5259, 2201.600,    1.951,   34.630,2,   34.630,2,   84.360,1,   92.130,2,  159.950,2,   40.120,2,    0.000,2,    2.852,2, -999.000,9, -999.000,9, -999.000,9, -999.000,9, -999.000,9
           NA,    P03E,    104,   1,-999.0,     -99,  2,20051115,2307,  24.2697, -152.6385,  5259, 2402.100,    1.827,   34.641,2,   34.641,2,   92.140,1,  100.630,2,  161.310,2,   39.630,2,    0.010,2,    2.815,2,    0.000,2,    0.001,2, -999.000,9, -999.000,9, -999.000,9
           NA,    P03E,    104,   1,-999.0,     -99,  2,20051115,2307,  24.2697, -152.6385,  5259, 2600.500,    1.731,   34.651,2,   34.651,2,   98.450,1,  107.680,2,  162.790,2,   39.200,2,    0.000,2,    2.772,2, -999.000,9, -999.000,9, -999.000,9, -999.000,9, -999.000,9
           NA,    P03E,    104,   1,-999.0,     -99,  2,20051115,2307,  24.2697, -152.6385,  5259, 2801.800,    1.648,   34.659,2,   34.659,2,  103.670,1,  113.310,2,  164.600,2,   38.820,2,    0.000,2,    2.739,2, -999.000,9, -999.000,9, -999.000,9, -999.000,9, -999.000,9
           NA,    P03E,    104,   1,-999.0,     -99,  2,20051115,2307,  24.2697, -152.6385,  5259, 3001.300,    1.592,   34.665,2,   34.665,2,  109.500,1,  119.910,2,  164.090,2,   38.480,2,    0.000,2,    2.713,2, -999.000,9, -999.000,9, -999.000,9, -999.000,9, -999.000,9
           NA,    P03E,    104,   1,-999.0,     -99,  2,20051115,2307,  24.2697, -152.6385,  5259, 3252.100,    1.529,   34.673,2,   34.673,6,  117.850,1,  129.090,2,  162.160,2,   37.710,2,    0.000,2,    2.649,2,    0.000,2,    0.001,2, -999.000,9, -999.000,9, -999.000,9
           NA,    P03E,    104,   1,-999.0,     -99,  2,20051115,2307,  24.2697, -152.6385,  5259, 3501.200,    1.496,   34.678,2,   34.679,2,  124.250,1,  136.160,2,  160.370,2,   37.400,2,    0.000,2,    2.621,2, -999.000,9, -999.000,9, -999.000,9, -999.000,9, -999.000,9
           NA,    P03E,    104,   1,-999.0,     -99,  2,20051115,2307,  24.2697, -152.6385,  5259, 3751.100,    1.481,   34.682,2,   34.682,2,  129.350,1,  141.460,2,  158.140,2,   36.970,2,    0.000,2,    2.592,2, -999.000,9, -999.000,9, -999.000,9, -999.000,9, -999.000,9
           NA,    P03E,    104,   1,-999.0,     -99,  2,20051115,2307,  24.2697, -152.6385,  5259, 3999.700,    1.474,   34.685,2,   34.685,2,  134.090,1,  146.340,2,  156.390,2,   36.640,2,    0.000,2,    2.571,2, -999.000,9, -999.000,9, -999.000,9, -999.000,9, -999.000,9
           NA,    P03E,    104,   1,-999.0,     -99,  2,20051115,2307,  24.2697, -152.6385,  5259, 4250.200,    1.474,   34.688,2,   34.688,2,  138.490,1,  150.810,2,  153.610,2,   36.420,2,    0.000,2,    2.539,2,    0.000,2,    0.000,2, -999.000,9, -999.000,9, -999.000,9
           NA,    P03E,    104,   1,-999.0,     -99,  2,20051115,2307,  24.2697, -152.6385,  5259, 4501.400,    1.482,   34.690,2,   34.690,2,  142.160,1,  154.330,2,  151.200,2,   36.080,2,    0.000,2,    2.523,2, -999.000,9, -999.000,9, -999.000,9, -999.000,9, -999.000,9
           NA,    P03E,    104,   1,-999.0,     -99,  2,20051115,2307,  24.2697, -152.6385,  5259, 4749.900,    1.487,   34.692,2,   34.692,6,  146.180,1,  158.150,2,  148.400,2,   35.820,2,    0.000,2,    2.507,2, -999.000,9, -999.000,9, -999.000,9, -999.000,9, -999.000,9
           NA,    P03E,    104,   1,-999.0,     -99,  2,20051115,2307,  24.2697, -152.6385,  5259, 5002.200,    1.494,   34.693,2,   34.693,2,  150.650,1,  162.200,2,  145.340,2,   35.510,2,    0.000,2,    2.482,2, -999.000,9, -999.000,9, -999.000,9, -999.000,9, -999.000,9
           NA,    P03E,    104,   1,-999.0,     -99,  2,20051115,2307,  24.2697, -152.6385,  5259, 5249.600,    1.507,   34.694,2,   34.694,2,  154.190,1,  165.040,2,  143.110,2,   35.340,2,    0.000,2,    2.471,2,    0.001,2,    0.000,2, -999.000,9, -999.000,9, -999.000,9
           NA,    P03E,    104,   1,-999.0,     -99,  2,20051115,2307,  24.2697, -152.6385,  5259, 5407.600,    1.526,   34.694,2,   34.695,6,  155.220,1,  165.200,2,  142.760,2,   35.420,2,    0.000,2,    2.467,2,    0.008,2,    0.001,2, -999.000,9, -999.000,9, -999.000,9