BOTTLE,20211903JOAExport
EXPOCODE,SECT_ID,STNNBR,CASTNO,SAMPNO,BTLNBR,BTLNBR_FLAG_W,DATE,TIME,LATITUDE,LONGITUDE,DEPTH,CTDPRS,CTDTMP,CTDSAL,CTDSAL_FLAG_W,SALNTY,SALNTY_FLAG_W,CTDOXY,CTDOXY_FLAG_W,OXYGEN,OXYGEN_FLAG_W,SILCAT,SILCAT_FLAG_W,NITRAT,NITRAT_FLAG_W,NITRIT,NITRIT_FLAG_W,PHSPHT,PHSPHT_FLAG_W,CFC-11,CFC-11_FLAG_W,CFC-12,CFC-12_FLAG_W,SF6,SF6_FLAG_W,TCARBN,TCARBN_FLAG_W,ALKALI,ALKALI_FLAG_W
,,,,,,,,,,,,DB,ITS-90,PSS-78,,PSS-78,,UMOL/KG,,UMOL/KG,,UMOL/KG,,UMOL/KG,,UMOL/KG,,UMOL/KG,,PMOL/KG,,PMOL/KG,,FMOL/KG,,UMOL/KG,,UMOL/KG
           NA,    P03C,    361,   1,-999.0,     -99,  2,20060113,2044,  25.3348,  127.6240,  2174,   10.300,   22.337,   34.811,2,   34.811,2,  198.470,1,  215.840,2,    1.290,2,    0.050,2,    0.000,2,    0.049,2,    1.883,2,    1.106,2, -999.000,9, 1966.200,2, 2285.000,2
           NA,    P03C,    361,   1,-999.0,     -99,  2,20060113,2044,  25.3348,  127.6240,  2174,   49.400,   22.362,   34.821,2,   34.821,2,  198.110,1,  215.470,2,    1.290,2,    0.050,2,    0.000,2,    0.052,2,    1.878,2,    1.109,2, -999.000,9, 1967.400,6, 2282.400,2
           NA,    P03C,    361,   1,-999.0,     -99,  2,20060113,2044,  25.3348,  127.6240,  2174,  100.000,   22.293,   34.843,2,   34.844,2,  196.660,1,  213.960,2,    1.290,2,    0.050,2,    0.020,2,    0.049,2,    1.883,2,    1.108,2, -999.000,9, 1969.100,2, 2285.800,6
           NA,    P03C,    361,   1,-999.0,     -99,  2,20060113,2044,  25.3348,  127.6240,  2174,  149.400,   19.835,   34.907,2,   34.909,2,  174.210,1,  189.220,2,    2.730,2,    3.110,2,    0.020,2,    0.266,2,    2.163,2,    1.240,2, -999.000,9, 2024.100,2, 2291.700,2
           NA,    P03C,    361,   1,-999.0,     -99,  2,20060113,2044,  25.3348,  127.6240,  2174,  199.400,   17.820,   34.787,2,   34.785,2,  174.100,1,  189.450,2,    5.100,2,    5.680,2,    0.010,2,    0.436,2,    2.321,2,    1.299,2, -999.000,9, 2042.400,2, 2284.800,2
           NA,    P03C,    361,   1,-999.0,     -99,  2,20060113,2044,  25.3348,  127.6240,  2174,  250.100,   17.064,   34.744,2,   34.743,2,  176.290,1,  191.380,2,    5.690,2,    6.410,2,    0.010,2,    0.482,2,    2.397,6,    1.329,6, -999.000,9, 2048.400,2, 2284.000,2
           NA,    P03C,    361,   1,-999.0,     -99,  2,20060113,2044,  25.3348,  127.6240,  2174,  301.200,   16.120,   34.686,2,   34.679,2,  181.670,1,  196.150,2,    6.920,2,    7.440,2,    0.010,2,    0.543,2,    2.478,2,    1.348,2, -999.000,9, 2051.500,2, 2277.600,2
           NA,    P03C,    361,   1,-999.0,     -99,  2,20060113,2044,  25.3348,  127.6240,  2174,  398.600,   12.854,   34.428,2,   34.428,2,  163.750,1,  177.350,2,   15.930,2,   14.010,2,    0.010,2,    1.025,2,    2.546,2,    1.305,2, -999.000,9, 2102.100,2, 2272.800,2
           NA,    P03C,    361,   1,-999.0,     -99,  2,20060113,2044,  25.3348,  127.6240,  2174,  501.300,   10.564,   34.289,2,   34.289,6,  152.150,1,  164.200,2,   27.610,2,   19.250,2,    0.010,2,    1.403,2,    2.343,2,    1.161,2, -999.000,9, 2138.100,2, 2279.400,2
           NA,    P03C,    361,   1,-999.0,     -99,  2,20060113,2044,  25.3348,  127.6240,  2174,  601.000,    8.222,   34.182,2,   34.185,2,  124.910,1,  133.530,2,   45.870,2,   26.320,2,    0.000,2,    1.925,2,    1.783,2,    0.871,2, -999.000,9, 2193.200,2, 2289.600,2
           NA,    P03C,    361,   1,-999.0,     -99,  2,20060113,2044,  25.3348,  127.6240,  2174,  700.700,    6.310,   34.153,2,   34.155,2,   94.660,1,  100.860,2,   68.310,2,   32.690,2,    0.000,2,    2.388,2,    1.200,2,    0.576,2, -999.000,9, 2249.300,6, 2306.300,2
           NA,    P03C,    361,   1,-999.0,     -99,  2,20060113,2044,  25.3348,  127.6240,  2174,  801.700,    5.384,   34.216,2,   34.218,2,   74.670,1,   79.940,2,   84.870,2,   35.970,2,    0.000,2,    2.625,2,    0.747,6,    0.355,6, -999.000,9, 2282.200,2, 2321.700,6
           NA,    P03C,    361,   1,-999.0,     -99,  2,20060113,2044,  25.3348,  127.6240,  2174,  898.900,    4.504,   34.277,2,   34.281,2,   58.280,1,   62.540,2,  101.940,2,   38.980,2,    0.000,2,    2.833,2,    0.406,2,    0.191,2, -999.000,9, 2313.500,2, 2337.700,2
           NA,    P03C,    361,   1,-999.0,     -99,  2,20060113,2044,  25.3348,  127.6240,  2174, 1002.100,    4.023,   34.347,2, -999.000,3,   54.860,1,   58.990,2,  112.610,2,   40.020,2,    0.000,2,    2.898,2,    0.232,2,    0.108,2, -999.000,9, 2330.200,2, 2354.300,2
           NA,    P03C,    361,   1,-999.0,     -99,  2,20060113,2044,  25.3348,  127.6240,  2174, 1200.000,    3.143,   34.463,2,   34.463,2,   62.990,1,   67.760,2,  130.760,2,   40.380,2,    0.000,2,    2.905,2,    0.074,2,    0.036,2, -999.000,9, 2350.000,2, 2379.300,2
           NA,    P03C,    361,   1,-999.0,     -99,  2,20060113,2044,  25.3348,  127.6240,  2174, 1400.500,    2.836,   34.521,2,   34.521,2,   74.730,1,   80.340,2,  135.340,2,   39.780,2,    0.000,2,    2.856,2,    0.023,2,    0.011,2, -999.000,9, 2347.100,2, 2391.600,2
           NA,    P03C,    361,   1,-999.0,     -99,  2,20060113,2044,  25.3348,  127.6240,  2174, 1600.900,    2.430,   34.558,2,   34.558,6,   85.510,1,   91.770,2,  140.540,2,   39.410,2,    0.000,2,    2.815,2,    0.012,2,    0.008,2, -999.000,9, 2348.100,2, 2397.000,2
           NA,    P03C,    361,   1,-999.0,     -99,  2,20060113,2044,  25.3348,  127.6240,  2174, 1800.000,    2.171,   34.593,2,   34.593,2,   97.440,1,  104.850,2,  142.410,2,   38.730,2,    0.000,2,    2.765,2,    0.001,2,    0.007,2, -999.000,9, 2343.500,2, 2403.400,2
           NA,    P03C,    361,   1,-999.0,     -99,  3,20060113,2044,  25.3348,  127.6240,  2174, 2000.000,    2.055,   34.609,2,   34.610,2,  104.130,1,  111.630,2,  142.540,2,   38.360,2,    0.000,2,    2.728,2,    0.003,2,    0.005,2, -999.000,9, 2344.900,2, 2404.100,2
           NA,    P03C,    361,   1,-999.0,     -99,  2,20060113,2044,  25.3348,  127.6240,  2174, 2154.500,    2.000,   34.618,2,   34.618,6,  107.870,1,  115.070,2,  142.990,2,   38.160,2,    0.000,2,    2.715,2,    0.003,2,    0.003,2, -999.000,9, 2340.900,2, 2405.200,2
           NA,    P03C,    359,   1,-999.0,     -99,  2,20060114,0057,  25.1750,  127.7557,  3651,   10.000,   22.023,   34.597,2,   34.600,2,  199.840,1,  217.560,2,    1.300,2,    0.070,2,    0.010,2,    0.062,2,    1.883,2,    1.128,2, -999.000,9, -999.000,9, -999.000,9
           NA,    P03C,    359,   1,-999.0,     -99,  2,20060114,0057,  25.1750,  127.7557,  3651,   50.100,   21.995,   34.766,2,   34.768,2,  194.790,1,  211.770,2,    1.470,2,    0.370,2,    0.040,2,    0.083,2, -999.000,9, -999.000,9, -999.000,9, -999.000,9, -999.000,9
           NA,    P03C,    359,   1,-999.0,     -99,  2,20060114,0057,  25.1750,  127.7557,  3651,  100.900,   21.083,   34.916,2,   34.916,2,  169.460,1,  184.910,2,    2.470,2,    2.680,2,    0.020,2,    0.242,2,    2.021,2,    1.192,2, -999.000,9, -999.000,9, -999.000,9
           NA,    P03C,    359,   1,-999.0,     -99,  2,20060114,0057,  25.1750,  127.7557,  3651,  149.700,   18.910,   34.870,2,   34.870,2,  178.530,1,  194.390,2,    3.140,2,    3.680,2,    0.010,2,    0.291,2, -999.000,9, -999.000,9, -999.000,9, -999.000,9, -999.000,9
           NA,    P03C,    359,   1,-999.0,     -99,  2,20060114,0057,  25.1750,  127.7557,  3651,  200.000,   17.513,   34.776,2,   34.773,2,  175.470,1,  190.980,2,    5.090,2,    5.820,2,    0.010,2,    0.438,2,    2.312,2,    1.343,2, -999.000,9, -999.000,9, -999.000,9
           NA,    P03C,    359,   1,-999.0,     -99,  2,20060114,0057,  25.1750,  127.7557,  3651,  250.200,   16.664,   34.719,2,   34.715,2,  175.770,1,  191.480,2,    5.770,2,    6.810,2,    0.010,2,    0.507,2,    2.399,2,    1.373,2, -999.000,9, -999.000,9, -999.000,9
           NA,    P03C,    359,   1,-999.0,     -99,  2,20060114,0057,  25.1750,  127.7557,  3651,  300.600,   15.514,   34.629,2,   34.624,2,  174.450,1,  189.530,2,    8.250,2,    8.730,2,    0.010,2,    0.640,2, -999.000,9, -999.000,9, -999.000,9, -999.000,9, -999.000,9
           NA,    P03C,    359,   1,-999.0,     -99,  2,20060114,0057,  25.1750,  127.7557,  3651,  399.300,   12.887,   34.430,2,   34.424,2,  163.600,1,  177.050,2,   16.000,2,   14.030,2,    0.010,2,    1.028,2,    2.428,2,    1.290,2, -999.000,9, -999.000,9, -999.000,9
           NA,    P03C,    359,   1,-999.0,     -99,  2,20060114,0057,  25.1750,  127.7557,  3651,  500.400,   10.383,   34.282,2,   34.282,6,  149.060,1,  160.950,2,   28.980,2,   19.790,2,    0.000,2,    1.441,2,    2.199,2,    1.137,2, -999.000,9, -999.000,9, -999.000,9
           NA,    P03C,    359,   1,-999.0,     -99,  2,20060114,0057,  25.1750,  127.7557,  3651,  600.200,    7.979,   34.168,2,   34.171,2,  123.210,1,  131.440,2,   47.620,2,   26.830,2,    0.010,2,    1.962,2,    1.678,2,    0.835,2, -999.000,9, -999.000,9, -999.000,9
           NA,    P03C,    359,   1,-999.0,     -99,  2,20060114,0057,  25.1750,  127.7557,  3651,  700.300,    6.071,   34.159,2,   34.160,2,   89.760,1,   96.060,2,   71.680,2,   33.410,2,    0.010,2,    2.447,2,    1.032,2,    0.519,2, -999.000,9, -999.000,9, -999.000,9
           NA,    P03C,    359,   1,-999.0,     -99,  2,20060114,0057,  25.1750,  127.7557,  3651,  802.000,    5.180,   34.228,2,   34.230,2,   70.560,1,   75.610,2,   88.830,2,   36.690,2,    0.000,2,    2.681,2,    0.601,2,    0.304,2, -999.000,9, -999.000,9, -999.000,9
           NA,    P03C,    359,   1,-999.0,     -99,  2,20060114,0057,  25.1750,  127.7557,  3651,  899.500,    4.390,   34.291,2,   34.294,2,   56.340,1,   60.110,2,  104.900,2,   39.270,2,    0.010,2,    2.859,2,    0.316,2,    0.163,2, -999.000,9, -999.000,9, -999.000,9
           NA,    P03C,    359,   1,-999.0,     -99,  2,20060114,0057,  25.1750,  127.7557,  3651, 1000.000,    3.833,   34.376,2,   34.377,6,   55.710,1,   59.880,2,  116.630,2,   40.100,2,    0.010,2,    2.907,2,    0.161,2,    0.081,2, -999.000,9, -999.000,9, -999.000,9
           NA,    P03C,    359,   1,-999.0,     -99,  2,20060114,0057,  25.1750,  127.7557,  3651, 1201.300,    3.284,   34.451,2,   34.451,2,   60.940,1,   65.630,2,  127.950,2,   40.320,2,    0.010,2,    2.918,2,    0.073,2,    0.039,2, -999.000,9, -999.000,9, -999.000,9
           NA,    P03C,    359,   1,-999.0,     -99,  2,20060114,0057,  25.1750,  127.7557,  3651, 1400.200,    2.804,   34.524,2,   34.524,2,   74.340,1,   80.600,2,  135.590,2,   39.830,2,    0.010,2,    2.871,2,    0.026,2,    0.014,2, -999.000,9, -999.000,9, -999.000,9
           NA,    P03C,    359,   1,-999.0,     -99,  2,20060114,0057,  25.1750,  127.7557,  3651, 1601.300,    2.452,   34.561,2,   34.561,6,   85.200,1,   92.270,2,  139.990,2,   39.300,2,    0.010,2,    2.821,2,    0.007,2,    0.008,2, -999.000,9, -999.000,9, -999.000,9
           NA,    P03C,    359,   1,-999.0,     -99,  2,20060114,0057,  25.1750,  127.7557,  3651, 1801.600,    2.234,   34.590,2,   34.590,2,   95.240,1,  102.970,2,  141.480,2,   38.770,2,    0.010,2,    2.776,2,    0.000,2,    0.002,2, -999.000,9, -999.000,9, -999.000,9
           NA,    P03C,    359,   1,-999.0,     -99,  2,20060114,0057,  25.1750,  127.7557,  3651, 2002.100,    2.050,   34.615,2,   34.615,2,  104.610,1,  113.270,2,  142.240,2,   38.250,2,    0.000,2,    2.727,2,    0.000,2,    0.000,2, -999.000,9, -999.000,9, -999.000,9
           NA,    P03C,    359,   1,-999.0,     -99,  2,20060114,0057,  25.1750,  127.7557,  3651, 2201.100,    1.919,   34.629,2,   34.629,6,  111.080,1,  120.260,2,  143.060,2,   37.870,2,    0.010,2,    2.693,2,    0.000,2,    0.000,2, -999.000,9, -999.000,9, -999.000,9
           NA,    P03C,    359,   1,-999.0,     -99,  2,20060114,0057,  25.1750,  127.7557,  3651, 2400.900,    1.820,   34.643,2,   34.643,2,  117.240,1,  126.960,2,  143.300,2,   37.520,2,    0.000,2,    2.662,2,    0.000,2,    0.000,2, -999.000,9, -999.000,9, -999.000,9
           NA,    P03C,    359,   1,-999.0,     -99,  2,20060114,0057,  25.1750,  127.7557,  3651, 2599.400,    1.735,   34.653,2,   34.653,2,  122.340,1,  132.270,2,  143.430,2,   37.140,2,    0.010,2,    2.635,2,    0.000,2,    0.000,2, -999.000,9, -999.000,9, -999.000,9
           NA,    P03C,    359,   1,-999.0,     -99,  2,20060114,0057,  25.1750,  127.7557,  3651, 2800.100,    1.682,   34.659,2,   34.659,6,  126.270,1,  136.480,2,  143.340,2,   36.940,2,    0.010,2,    2.614,2, -999.000,9, -999.000,9, -999.000,9, -999.000,9, -999.000,9
           NA,    P03C,    359,   1,-999.0,     -99,  2,20060114,0057,  25.1750,  127.7557,  3651, 3000.900,    1.641,   34.665,2,   34.665,2,  129.740,1,  139.960,2,  143.240,2,   36.790,2,    0.010,2,    2.601,2,    0.000,2,    0.000,2, -999.000,9, -999.000,9, -999.000,9
           NA,    P03C,    359,   1,-999.0,     -99,  2,20060114,0057,  25.1750,  127.7557,  3651, 3250.900,    1.583,   34.671,2,   34.672,2,  134.940,1,  145.150,2,  142.820,2,   36.270,2,    0.000,2,    2.563,2, -999.000,9, -999.000,9, -999.000,9, -999.000,9, -999.000,9
           NA,    P03C,    359,   1,-999.0,     -99,  2,20060114,0057,  25.1750,  127.7557,  3651, 3499.000,    1.546,   34.677,2,   34.678,2,  139.450,1,  149.270,2,  142.220,2,   36.080,2,    0.000,2,    2.544,2,    0.000,2,    0.000,2, -999.000,9, -999.000,9, -999.000,9
           NA,    P03C,    359,   1,-999.0,     -99,  2,20060114,0057,  25.1750,  127.7557,  3651, 3697.100,    1.538,   34.680,2,   34.680,6,  142.140,1,  151.600,2,  142.080,2,   36.030,2,    0.010,2,    2.542,2,    0.000,2,    0.000,2, -999.000,9, -999.000,9, -999.000,9