BOTTLE,20211903JOAExport
EXPOCODE,SECT_ID,STNNBR,CASTNO,SAMPNO,BTLNBR,BTLNBR_FLAG_W,DATE,TIME,LATITUDE,LONGITUDE,DEPTH,CTDPRS,CTDTMP,CTDSAL,CTDSAL_FLAG_W,SALNTY,SALNTY_FLAG_W,CTDOXY,CTDOXY_FLAG_W,OXYGEN,OXYGEN_FLAG_W,SILCAT,SILCAT_FLAG_W,NITRAT,NITRAT_FLAG_W,NITRIT,NITRIT_FLAG_W,PHSPHT,PHSPHT_FLAG_W,CFC-11,CFC-11_FLAG_W,CFC-12,CFC-12_FLAG_W,SF6,SF6_FLAG_W,TCARBN,TCARBN_FLAG_W,ALKALI,ALKALI_FLAG_W
,,,,,,,,,,,,DB,ITS-90,PSS-78,,PSS-78,,UMOL/KG,,UMOL/KG,,UMOL/KG,,UMOL/KG,,UMOL/KG,,UMOL/KG,,PMOL/KG,,PMOL/KG,,FMOL/KG,,UMOL/KG,,UMOL/KG
           NA,    P03E,      4,   1,-999.0,     -99,  2,20051101,0027,  32.6375, -117.6793,   970,    9.900,   18.116,   33.347,2,   33.331,2,  251.120,1,  254.140,2,    2.240,2,    0.120,2,    0.010,2,    0.226,2,    2.585,2,    1.520,2, -999.000,9, -999.000,9, -999.000,9
           NA,    P03E,      4,   1,-999.0,     -99,  2,20051101,0027,  32.6375, -117.6793,   970,   50.600,   11.788,   33.535,2,   33.552,2,  137.410,1,  134.290,2,   16.390,2,   16.990,2,    0.030,2,    1.592,2,    2.882,2,    1.593,2, -999.000,9, -999.000,9, -999.000,9
           NA,    P03E,      4,   1,-999.0,     -99,  2,20051101,0027,  32.6375, -117.6793,   970,  101.600,   11.380,   33.914,2,   33.918,2,   66.330,1,   65.260,2,   27.580,2,   23.430,2,    0.020,2,    2.215,2,    2.446,2,    1.327,2, -999.000,9, -999.000,9, -999.000,9
           NA,    P03E,      4,   1,-999.0,     -99,  2,20051101,0027,  32.6375, -117.6793,   970,  151.200,   11.270,   34.199,2,   34.200,2,   36.490,1,   38.620,2,   33.450,2,   25.770,2,    0.010,2,    2.457,2, -999.000,5, -999.000,5, -999.000,9, -999.000,9, -999.000,9
           NA,    P03E,      4,   1,-999.0,     -99,  2,20051101,0027,  32.6375, -117.6793,   970,  199.400,   10.383,   34.284,2,   34.277,2,   53.160,1,   55.150,2,   33.380,2,   26.920,2,    0.020,2,    2.379,2, -999.000,5, -999.000,5, -999.000,9, -999.000,9, -999.000,9
           NA,    P03E,      4,   1,-999.0,     -99,  2,20051101,0027,  32.6375, -117.6793,   970,  248.600,    8.612,   34.138,2,   34.141,2,   80.620,1,   80.750,2,   38.680,2,   29.340,2,    0.050,2,    2.314,2,    1.699,6,    0.969,6, -999.000,9, -999.000,9, -999.000,9
           NA,    P03E,      4,   1,-999.0,     -99,  2,20051101,0027,  32.6375, -117.6793,   970,  301.700,    8.302,   34.213,2,   34.214,2,   58.040,1,   58.780,2,   44.290,2,   31.200,2,    0.010,2,    2.516,2,    1.190,2,    0.675,2, -999.000,9, -999.000,9, -999.000,9
           NA,    P03E,      4,   1,-999.0,     -99,  2,20051101,0027,  32.6375, -117.6793,   970,  401.100,    7.178,   34.236,2,   34.236,2,   35.000,1,   35.360,2,   58.360,2,   35.260,2,    0.010,2,    2.824,2,    0.582,2,    0.347,2, -999.000,9, -999.000,9, -999.000,9
           NA,    P03E,      4,   1,-999.0,     -99,  2,20051101,0027,  32.6375, -117.6793,   970,  500.500,    6.481,   34.294,2,   34.297,6,   17.880,1,   17.480,2,   71.150,2,   38.160,2,    0.010,2,    3.046,2,    0.221,2,    0.132,2, -999.000,9, -999.000,9, -999.000,9
           NA,    P03E,      4,   1,-999.0,     -99,  2,20051101,0027,  32.6375, -117.6793,   970,  600.300,    5.894,   34.338,2,   34.338,2,   11.300,1,   11.440,2,   81.500,2,   39.770,2,    0.000,2,    3.174,2,    0.124,2,    0.079,2, -999.000,9, -999.000,9, -999.000,9
           NA,    P03E,      4,   1,-999.0,     -99,  2,20051101,0027,  32.6375, -117.6793,   970,  700.400,    5.296,   34.385,2,   34.385,2,    9.120,1,    9.590,2,   93.500,2,   40.840,2,    0.000,2,    3.244,2,    0.079,2,    0.082,2, -999.000,9, -999.000,9, -999.000,9
           NA,    P03E,      4,   1,-999.0,     -99,  2,20051101,0027,  32.6375, -117.6793,   970,  800.000,    4.711,   34.432,2,   34.432,2,   12.040,1,   12.380,2,  105.180,2,   42.010,2,    0.010,2,    3.278,2,    0.068,6,    0.085,6, -999.000,9, -999.000,9, -999.000,9
           NA,    P03E,      4,   1,-999.0,     -99,  2,20051101,0027,  32.6375, -117.6793,   970,  901.200,    4.359,   34.460,2,   34.461,2,   15.360,1,   15.760,2,  112.940,2,   42.470,2,    0.010,2,    3.272,2,    0.069,2,    0.118,2, -999.000,9, -999.000,9, -999.000,9
           NA,    P03E,      4,   1,-999.0,     -99,  5,20051101,0027,  32.6375, -117.6793,   970,  988.600,    4.190,   34.473,2,   34.476,6,   18.960,1,   19.430,2,  116.140,2,   42.850,2,    0.000,2,    3.271,2,    0.052,2,    0.116,2, -999.000,9, -999.000,9, -999.000,9
           NA,    P03E,      3,   1,-999.0,     -99,  2,20051031,2139,  32.6133, -117.5045,  1191,    9.300,   17.710,   33.367,2,   33.338,2,  279.890,1,  264.310,2,    2.800,2,    0.050,2,    0.010,2,    0.210,2,    2.848,2,    1.571,2, -999.000,9, 1965.800,2, 2231.600,2
           NA,    P03E,      3,   1,-999.0,     -99,  2,20051031,2139,  32.6133, -117.5045,  1191,   29.400,   13.007,   33.324,2,   33.320,2,  203.460,1,  207.490,2,    7.070,2,    4.100,2,    0.220,2,    0.785,2, -999.000,9, -999.000,9, -999.000,9, -999.000,9, -999.000,9
           NA,    P03E,      3,   1,-999.0,     -99,  2,20051031,2139,  32.6133, -117.5045,  1191,   49.400,   11.991,   33.388,2,   33.412,2,  177.910,1,  174.990,2,   11.540,2,   12.370,2,    0.070,2,    1.223,2,    3.165,2,    1.674,2, -999.000,9, 2103.600,6, 2225.200,2
           NA,    P03E,      3,   1,-999.0,     -99,  2,20051031,2139,  32.6133, -117.5045,  1191,   99.200,    9.890,   33.639,2,   33.677,2,  145.110,1,  142.090,2,   21.470,2,   21.590,2,    0.030,2,    1.751,2,    3.147,2,    1.597,2, -999.000,9, 2151.900,2, 2238.300,6
           NA,    P03E,      3,   1,-999.0,     -99,  2,20051031,2139,  32.6133, -117.5045,  1191,  150.200,    9.842,   34.053,2,   34.054,2,   89.390,1,   92.030,2,   30.110,2,   25.530,2,    0.040,2,    2.129,2,    2.495,2,    1.223,2, -999.000,9, 2201.400,2, 2265.200,2
           NA,    P03E,      3,   1,-999.0,     -99,  2,20051031,2139,  32.6133, -117.5045,  1191,  200.200,    9.334,   34.216,2,   34.218,2,   69.800,1,   68.490,2,   36.460,2,   28.170,2,    0.010,2,    2.341,2,    1.876,2,    0.901,2, -999.000,9, 2228.500,2, 2278.100,2
           NA,    P03E,      3,   1,-999.0,     -99,  2,20051031,2139,  32.6133, -117.5045,  1191,  251.500,    8.716,   34.222,2,   34.218,2,   62.790,1,   63.930,2,   40.740,2,   29.800,2,    0.010,2,    2.435,2,    1.658,6,    0.778,6, -999.000,9, 2239.600,2, 2282.800,2
           NA,    P03E,      3,   1,-999.0,     -99,  2,20051031,2139,  32.6133, -117.5045,  1191,  300.300,    8.195,   34.215,2,   34.214,2,   55.700,1,   56.150,2,   45.700,2,   31.500,2,    0.010,2,    2.538,2,    1.400,2,    0.644,2, -999.000,9, 2251.800,2, 2285.700,2
           NA,    P03E,      3,   1,-999.0,     -99,  2,20051031,2139,  32.6133, -117.5045,  1191,  401.400,    7.206,   34.236,2,   34.236,2,   35.360,1,   35.690,2,   58.090,2,   35.070,2,    0.010,2,    2.813,2,    0.767,2,    0.345,2, -999.000,9, 2279.700,2, 2299.800,2
           NA,    P03E,      3,   1,-999.0,     -99,  2,20051031,2139,  32.6133, -117.5045,  1191,  500.300,    6.470,   34.293,2,   34.294,6,   18.000,1,   18.120,2,   70.860,2,   37.940,2,    0.000,2,    3.038,2,    0.305,2,    0.142,2, -999.000,9, 2306.500,2, 2314.600,2
           NA,    P03E,      3,   1,-999.0,     -99,  2,20051031,2139,  32.6133, -117.5045,  1191,  600.300,    5.863,   34.334,2,   34.336,2,   11.220,1,   11.650,2,   82.470,2,   39.720,2,    0.000,2,    3.168,2,    0.175,2,    0.080,2, -999.000,9, 2325.700,2, 2329.200,2
           NA,    P03E,      3,   1,-999.0,     -99,  2,20051031,2139,  32.6133, -117.5045,  1191,  700.900,    5.271,   34.385,2,   34.386,2,    9.650,1,    9.930,2,   93.220,2,   41.170,2,    0.000,2,    3.233,2,    0.087,2,    0.061,2, -999.000,9, 2338.300,6, 2343.100,2
           NA,    P03E,      3,   1,-999.0,     -99,  2,20051031,2139,  32.6133, -117.5045,  1191,  799.900,    4.808,   34.424,2,   34.424,2,   12.300,1,   12.590,2,  101.920,2,   42.220,2,    0.000,2,    3.262,2,    0.064,6,    0.047,6, -999.000,9, 2350.200,2, 2352.800,6
           NA,    P03E,      3,   1,-999.0,     -99,  2,20051031,2139,  32.6133, -117.5045,  1191,  900.400,    4.490,   34.450,2,   34.450,2,   14.730,1,   14.940,2,  109.290,2,   42.410,2,    0.000,2,    3.272,2,    0.073,2,    0.073,2, -999.000,9, 2354.200,2, 2364.700,2
           NA,    P03E,      3,   1,-999.0,     -99,  2,20051031,2139,  32.6133, -117.5045,  1191, 1000.700,    4.096,   34.480,2,   34.480,6,   20.570,1,   20.850,2,  116.960,2,   42.940,2,    0.000,2,    3.259,2,    0.060,2,    0.061,2, -999.000,9, 2361.400,2, 2374.000,2
           NA,    P03E,      3,   1,-999.0,     -99,  2,20051031,2139,  32.6133, -117.5045,  1191, 1189.900,    3.579,   34.521,2,   34.521,2,   29.500,1,   29.680,2,  128.880,2,   42.820,2,    0.010,2,    3.225,2,    0.110,2,    0.082,2, -999.000,9, 2370.900,2, 2390.400,2
           NA,    P03E,      2,   1,-999.0,     -99,  2,20051031,1954,  32.6387, -117.4325,   150,    9.800,   17.729,   33.358,2,   33.341,2,  241.080,1, -999.000,3,    1.970,2,    0.040,2,    0.010,2,    0.242,2,    2.198,2,    1.463,2, -999.000,9, -999.000,9, -999.000,9
           NA,    P03E,      2,   1,-999.0,     -99,  2,20051031,1954,  32.6387, -117.4325,   150,   50.100,   11.899,   33.409,2,   33.416,2,  169.420,1,  170.910,2,   11.560,2,   12.270,2,    0.060,2,    1.236,2,    2.661,6,    1.711,6, -999.000,9, -999.000,9, -999.000,9
           NA,    P03E,      2,   1,-999.0,     -99,  2,20051031,1954,  32.6387, -117.4325,   150,  100.100,   10.655,   33.893,2,   33.919,2,   92.760,1,   93.890,2,   26.840,2,   23.440,2,    0.050,2,    2.065,2,    2.272,2,    1.401,2, -999.000,9, -999.000,9, -999.000,9
           NA,    P03E,      2,   1,-999.0,     -99,  2,20051031,1954,  32.6387, -117.4325,   150,  140.900,    9.243,   34.012,2,   34.011,2,  104.890,1,  106.030,2,   30.500,2,   25.980,2,    0.070,2,    2.059,2,    2.227,2,    1.349,2, -999.000,9, -999.000,9, -999.000,9
           NA,    P03E,      1,   1,-999.0,     -99,  2,20051031,1902,  32.6513, -117.3308,   107,   10.000,   12.156,   33.372,2,   33.381,2,  177.830,1,  177.450,2,   11.280,2,   11.390,2,    0.290,2,    1.192,2,    2.666,2,    1.719,2, -999.000,9, -999.000,9, -999.000,9
           NA,    P03E,      1,   1,-999.0,     -99,  2,20051031,1902,  32.6513, -117.3308,   107,   50.500,   11.334,   33.682,2,   33.682,2,   86.650,1,   88.170,2,   24.340,2,   21.260,2,    0.170,2,    2.004,2,    2.379,2,    1.490,2, -999.000,9, -999.000,9, -999.000,9
           NA,    P03E,      1,   1,-999.0,     -99,  2,20051031,1902,  32.6513, -117.3308,   107,   95.100,   11.100,   33.820,2,   33.815,2,   89.760,1,   89.950,2,   24.870,2,   22.190,2,    0.060,2,    2.037,2,    2.298,2,    1.448,2, -999.000,9, -999.000,9, -999.000,9
           NA,     A05,      2,   1,-999.0,       3,  2,20140822,1656,  27.0138,  -79.9364,   133,   10.400, -999.000, -999.000,9,   36.299,2, -999.000,9, -999.000,2,    1.100,2,    0.000,2, -999.000,9,    0.070,2,    1.781,6,    1.090,6, -999.000,9, -999.000,9, -999.000,9
           NA,     A05,      2,   1,-999.0,       2,  2,20140822,1656,  27.0138,  -79.9364,   133,   50.800, -999.000, -999.000,9,   36.397,2, -999.000,9, -999.000,2,    0.950,2,    0.450,2, -999.000,9, -999.000,9,    1.896,2,    1.142,2, -999.000,9, -999.000,9, 2384.900,2
           NA,     A05,      2,   1,-999.0,       1,  2,20140822,1656,  27.0138,  -79.9364,   133,  124.400, -999.000, -999.000,9,   36.303,2, -999.000,9, -999.000,2,    4.830,2,   11.510,2, -999.000,9,    0.680,2,    1.959,2,    1.074,2, -999.000,9, -999.000,9, 2373.300,2
           NA,     A05,      3,   1,-999.0,       4,  2,20140822,1656,  27.0292,  -79.8626,   267,   11.600, -999.000, -999.000,9,   36.236,2, -999.000,9, -999.000,2,    1.170,2,    0.000,2, -999.000,9,    0.020,2,    1.737,2,    1.068,2, -999.000,9, 2017.700,2, 2367.200,2
           NA,     A05,      3,   1,-999.0,       3,  2,20140822,1656,  27.0292,  -79.8626,   267,   51.700, -999.000, -999.000,9,   36.299,2, -999.000,9, -999.000,2,    0.780,2,    0.100,2, -999.000,9,    0.030,2,    1.793,2,    1.130,2, -999.000,9, -999.000,9, -999.000,9
           NA,     A05,      3,   1,-999.0,       2,  2,20140822,1656,  27.0292,  -79.8626,   267,  150.700, -999.000, -999.000,9,   36.365,2, -999.000,9, -999.000,2,    4.100,2,    9.270,2, -999.000,9,    0.520,2,    1.949,2,    1.112,2, -999.000,9, 2135.200,2, -999.000,9
           NA,     A05,      3,   1,-999.0,       1,  2,20140822,1656,  27.0292,  -79.8626,   267,  253.300, -999.000, -999.000,9,   35.421,2, -999.000,9, -999.000,2,   13.760,2,   22.840,2, -999.000,9,    1.490,2,    1.080,6,    0.587,6, -999.000,9, 2186.900,2, 2328.400,2
           NA,     A05,      4,   1,-999.0,       5,  2,20140822,1656,  27.0175,  -79.7761,   395,   10.800, -999.000, -999.000,9,   36.248,2, -999.000,9, -999.000,2,    1.170,2,    0.000,2, -999.000,9,    0.010,2,    1.724,2,    1.056,2, -999.000,9, -999.000,9, -999.000,9
           NA,     A05,      4,   1,-999.0,       4,  2,20140822,1656,  27.0175,  -79.7761,   395,   50.300, -999.000, -999.000,9,   36.248,2, -999.000,9, -999.000,2,    1.170,2,    0.100,2, -999.000,9,    0.030,2,    1.701,2,    1.081,2, -999.000,9, 2018.500,2, 2369.400,2
           NA,     A05,      4,   1,-999.0,       3,  2,20140822,1656,  27.0175,  -79.7761,   395,  150.700, -999.000, -999.000,9,   36.458,2, -999.000,9, -999.000,2,    1.660,2,    2.440,2, -999.000,9,    0.140,2,    2.094,6,    1.218,6, -999.000,9, -999.000,9, -999.000,9
           NA,     A05,      4,   1,-999.0,       2,  2,20140822,1656,  27.0175,  -79.7761,   395,  297.100, -999.000, -999.000,9,   35.454,2, -999.000,9, -999.000,2,   12.980,2,   23.130,2, -999.000,9,    1.470,2,    1.059,2,    0.598,2, -999.000,9, -999.000,9, 2334.100,2
           NA,     A05,      4,   1,-999.0,       1,  2,20140822,1656,  27.0175,  -79.7761,   395,  378.200, -999.000, -999.000,9,   34.987,2, -999.000,9, -999.000,2,   19.920,2,   28.710,2, -999.000,9,    1.880,2,    0.372,2,    0.207,2, -999.000,9, 2203.300,2, 2313.400,2
           NA,     A05,      5,   1,-999.0,       6,  2,20140822,1656,  27.0147,  -79.6824,   533,   11.700, -999.000, -999.000,9,   36.297,2, -999.000,9, -999.000,2,    1.070,2,    0.060,2, -999.000,9,    0.000,2,    1.779,2,    1.090,2, -999.000,9, 2018.400,2, -999.000,9
           NA,     A05,      5,   1,-999.0,       5,  2,20140822,1656,  27.0147,  -79.6824,   533,   51.800, -999.000, -999.000,9,   36.296,2, -999.000,9, -999.000,2,    1.090,2,    0.070,2, -999.000,9,    0.000,2,    1.785,2,    1.109,2, -999.000,9, 2027.400,2, -999.000,9
           NA,     A05,      5,   1,-999.0,       4,  2,20140822,1656,  27.0147,  -79.6824,   533,  151.600, -999.000, -999.000,9,   36.794,2, -999.000,9, -999.000,2,    1.550,2,    3.560,2, -999.000,9,    0.150,2,    2.094,2,    1.200,2, -999.000,9, -999.000,9, 2405.500,2
           NA,     A05,      5,   1,-999.0,       3,  2,20140822,1656,  27.0147,  -79.6824,   533,  302.300, -999.000, -999.000,9,   36.000,2, -999.000,9, -999.000,2,    6.490,2,   16.170,2, -999.000,9,    0.850,2,    1.835,6,    0.957,6, -999.000,9, 2157.400,2, 2352.200,2
           NA,     A05,      5,   1,-999.0,       2,  2,20140822,1656,  27.0147,  -79.6824,   533,  451.700, -999.000, -999.000,9,   35.231,2, -999.000,9, -999.000,2,   15.400,2,   26.410,2, -999.000,9,    1.690,2,    0.799,2,    0.405,2, -999.000,9, -999.000,9, 2316.700,2
           NA,     A05,      5,   1,-999.0,       1,  2,20140822,1656,  27.0147,  -79.6824,   533,  523.700, -999.000, -999.000,9,   34.941,2, -999.000,9, -999.000,2,   21.650,2,   30.060,2, -999.000,9,    1.950,2,    0.256,2,    0.141,2, -999.000,9, 2203.300,2, 2311.400,2
           NA,     A05,      6,   1,-999.0,       6,  2,20140822,1656,  27.0153,  -79.6175,   641,   10.900, -999.000, -999.000,9,   36.292,2, -999.000,9, -999.000,2,    1.170,2,    0.100,2, -999.000,9,    0.000,2,    1.774,2,    1.093,2, -999.000,9, -999.000,9, 2374.400,2
           NA,     A05,      6,   1,-999.0,       5,  2,20140822,1656,  27.0153,  -79.6175,   641,   51.000, -999.000, -999.000,9,   36.315,2, -999.000,9, -999.000,2,    1.070,2,    0.100,2, -999.000,9,    0.000,2,    1.794,2,    1.061,2, -999.000,9, -999.000,9, 2375.400,2
           NA,     A05,      6,   1,-999.0,       4,  2,20140822,1656,  27.0153,  -79.6175,   641,  152.000, -999.000, -999.000,9,   36.730,2, -999.000,9, -999.000,2,    1.460,2,    2.930,2, -999.000,9,    0.140,2,    2.059,2,    1.154,2, -999.000,9, -999.000,9, -999.000,9
           NA,     A05,      6,   1,-999.0,       3,  2,20140822,1656,  27.0153,  -79.6175,   641,  302.200, -999.000, -999.000,9,   35.981,2, -999.000,9, -999.000,2,    6.630,2,   16.680,2, -999.000,9,    0.950,2,    1.849,2,    0.945,2, -999.000,9, -999.000,9, -999.000,9
           NA,     A05,      6,   1,-999.0,       2,  2,20140822,1656,  27.0153,  -79.6175,   641,  452.700, -999.000, -999.000,9,   35.366,2, -999.000,9, -999.000,2,   12.590,2,   24.890,2, -999.000,9,    1.530,2,    1.119,2,    0.488,2, -999.000,9, 2186.300,2, -999.000,9
           NA,     A05,      6,   1,-999.0,       1,  2,20140822,1656,  27.0153,  -79.6175,   641,  630.500, -999.000, -999.000,9,   34.921,2, -999.000,9, -999.000,2,   22.850,2,   30.170,2, -999.000,9,    1.980,2,    0.196,2,    0.095,2, -999.000,9, 2204.200,2, 2313.500,2
           NA,     A05,      7,   1,-999.0,       8,  2,20140822,1656,  27.0155,  -79.5035,   772,   11.100, -999.000, -999.000,9,   36.241,2, -999.000,9, -999.000,2,    1.170,2,    0.000,2, -999.000,9,    0.000,2,    1.746,2,    1.078,2, -999.000,9, 2022.000,2, 2366.500,2
           NA,     A05,      7,   1,-999.0,       7,  2,20140822,1656,  27.0155,  -79.5035,   772,   51.100, -999.000, -999.000,9,   36.283,2, -999.000,9, -999.000,2,    1.170,2,    0.000,2, -999.000,9,    0.000,2,    1.760,2,    1.142,2, -999.000,9, 2025.000,2, 2369.500,2
           NA,     A05,      7,   1,-999.0,       6,  2,20140822,1656,  27.0155,  -79.5035,   772,  151.600, -999.000, -999.000,9,   36.966,2, -999.000,9, -999.000,2,    1.460,2,    3.410,2, -999.000,9,    0.000,2,    1.962,2,    1.199,2, -999.000,9, 2112.400,2, 2409.700,2
           NA,     A05,      7,   1,-999.0,       4,  2,20140822,1656,  27.0155,  -79.5035,   772,  301.900, -999.000, -999.000,9,   36.332,2, -999.000,9, -999.000,2,    3.510,2,   10.340,2, -999.000,9,    0.550,2,    2.203,6,    1.186,6, -999.000,9, 2137.200,2, 2368.600,2
           NA,     A05,      7,   1,-999.0,       5,  2,20140822,1656,  27.0155,  -79.5035,   772,  301.900, -999.000, -999.000,9,   36.331,2, -999.000,9, -999.000,2,    3.610,2,   10.340,2, -999.000,9,    0.560,2,    2.188,2,    1.230,2, -999.000,9, 2137.600,2, 2370.100,2
           NA,     A05,      7,   1,-999.0,       3,  2,20140822,1656,  27.0155,  -79.5035,   772,  453.500, -999.000, -999.000,9,   35.611,2, -999.000,9, -999.000,2,    9.860,2,   21.960,2, -999.000,9,    1.320,2,    1.424,2,    0.747,2, -999.000,9, 2177.900,2, 2334.400,2
           NA,     A05,      7,   1,-999.0,       2,  2,20140822,1656,  27.0155,  -79.5035,   772,  652.100, -999.000, -999.000,9,   34.961,2, -999.000,9, -999.000,2,   20.600,2,   30.850,2, -999.000,9,    2.060,2,    0.332,2,    0.159,2, -999.000,9, 2205.300,2, 2308.500,2