BOTTLE,20211903JOAExport
EXPOCODE,SECT_ID,STNNBR,CASTNO,SAMPNO,BTLNBR,BTLNBR_FLAG_W,DATE,TIME,LATITUDE,LONGITUDE,DEPTH,CTDPRS,CTDTMP,CTDSAL,CTDSAL_FLAG_W,SALNTY,SALNTY_FLAG_W,CTDOXY,CTDOXY_FLAG_W,OXYGEN,OXYGEN_FLAG_W,SILCAT,SILCAT_FLAG_W,NITRAT,NITRAT_FLAG_W,NITRIT,NITRIT_FLAG_W,PHSPHT,PHSPHT_FLAG_W,CFC-11,CFC-11_FLAG_W,CFC-12,CFC-12_FLAG_W,SF6,SF6_FLAG_W,TCARBN,TCARBN_FLAG_W,ALKALI,ALKALI_FLAG_W
,,,,,,,,,,,,DB,ITS-90,PSS-78,,PSS-78,,UMOL/KG,,UMOL/KG,,UMOL/KG,,UMOL/KG,,UMOL/KG,,UMOL/KG,,PMOL/KG,,PMOL/KG,,FMOL/KG,,UMOL/KG,,UMOL/KG
           NA,    P03E,     58,   1,-999.0,     -99,  2,20051108,0159,  24.2433, -134.0527,  4830,   10.000,   21.742,   34.814,2,   34.814,2,  212.330,1,  223.040,2,    1.320,2,    0.030,2,    0.000,2,    0.162,2,    1.920,2,    1.207,2, -999.000,9, -999.000,9, -999.000,9
           NA,    P03E,     58,   1,-999.0,     -99,  2,20051108,0159,  24.2433, -134.0527,  4830,   49.700,   21.756,   34.839,2,   34.839,2,  211.880,1,  222.730,2,    1.300,2,    0.020,2,    0.000,2,    0.158,2,    1.916,2,    1.207,2, -999.000,9, -999.000,9, -999.000,9
           NA,    P03E,     58,   1,-999.0,     -99,  2,20051108,0159,  24.2433, -134.0527,  4830,  101.000,   19.525,   34.604,2,   34.620,2,  220.100,1,  231.370,2,    1.570,2,    0.020,2,    0.010,2,    0.153,2,    2.208,2,    1.352,2, -999.000,9, -999.000,9, -999.000,9
           NA,    P03E,     58,   1,-999.0,     -99,  2,20051108,0159,  24.2433, -134.0527,  4830,  150.800,   18.744,   34.734,2,   34.731,2,  211.900,1,  222.850,2,    1.810,2,    0.160,2,    0.170,2,    0.154,2,    2.262,2,    1.408,2, -999.000,9, -999.000,9, -999.000,9
           NA,    P03E,     58,   1,-999.0,     -99,  2,20051108,0159,  24.2433, -134.0527,  4830,  198.200,   14.722,   34.105,2,   34.079,2,  207.060,1,  217.470,2,    4.450,2,    4.300,2,    0.010,2,    0.467,2,    2.781,2,    1.575,2, -999.000,9, -999.000,9, -999.000,9
           NA,    P03E,     58,   1,-999.0,     -99,  2,20051108,0159,  24.2433, -134.0527,  4830,  249.700,   10.715,   33.891,2,   33.905,2,  202.240,1,  211.410,2,   12.710,2,   12.790,2,    0.010,2,    1.000,2,    3.244,6,    1.755,6, -999.000,9, -999.000,9, -999.000,9
           NA,    P03E,     58,   1,-999.0,     -99,  2,20051108,0159,  24.2433, -134.0527,  4830,  304.300,    9.318,   34.053,2,   34.052,2,  181.570,1,  191.290,2,   21.890,2,   18.400,2,    0.000,2,    1.340,2,    3.158,2,    1.637,2, -999.000,9, -999.000,9, -999.000,9
           NA,    P03E,     58,   1,-999.0,     -99,  2,20051108,0159,  24.2433, -134.0527,  4830,  402.800,    7.216,   34.026,2,   34.027,2,  121.870,1,  128.510,2,   44.140,2,   28.750,2,    0.010,2,    2.076,2,    2.242,2,    1.070,2, -999.000,9, -999.000,9, -999.000,9
           NA,    P03E,     58,   1,-999.0,     -99,  2,20051108,0159,  24.2433, -134.0527,  4830,  498.900,    5.808,   34.059,2,   34.059,6,   66.530,1,   69.520,2,   66.880,2,   36.520,2,    0.000,2,    2.670,2, -999.000,4, -999.000,4, -999.000,9, -999.000,9, -999.000,9
           NA,    P03E,     58,   1,-999.0,     -99,  2,20051108,0159,  24.2433, -134.0527,  4830,  599.300,    5.150,   34.206,2,   34.209,2,   23.850,1,   24.620,2,   86.210,2,   41.040,2,    0.010,2,    3.067,2, -999.000,4, -999.000,4, -999.000,9, -999.000,9, -999.000,9
           NA,    P03E,     58,   1,-999.0,     -99,  2,20051108,0159,  24.2433, -134.0527,  4830,  698.100,    5.016,   34.353,2,   34.354,2,   16.560,1,   17.210,2,   92.220,2,   42.260,2,    0.000,2,    3.169,2,    0.018,2,    0.013,2, -999.000,9, -999.000,9, -999.000,9
           NA,    P03E,     58,   1,-999.0,     -99,  2,20051108,0159,  24.2433, -134.0527,  4830,  799.700,    4.776,   34.438,2,   34.438,2,   21.450,1,   22.330,2,   96.830,2,   42.720,2,    0.010,2,    3.173,2,    0.005,6,    0.009,6, -999.000,9, -999.000,9, -999.000,9
           NA,    P03E,     58,   1,-999.0,     -99,  2,20051108,0159,  24.2433, -134.0527,  4830,  901.700,    4.368,   34.471,2,   34.471,2,   25.790,1,   26.780,2,  104.860,2,   43.030,2,    0.000,2,    3.173,2,    0.004,2,    0.005,2, -999.000,9, -999.000,9, -999.000,9
           NA,    P03E,     58,   1,-999.0,     -99,  2,20051108,0159,  24.2433, -134.0527,  4830, 1003.200,    4.092,   34.498,2,   34.498,6,   30.660,1,   31.970,2,  110.550,2,   43.080,2,    0.000,2,    3.174,2,    0.002,2,    0.001,2, -999.000,9, -999.000,9, -999.000,9
           NA,    P03E,     58,   1,-999.0,     -99,  2,20051108,0159,  24.2433, -134.0527,  4830, 1200.800,    3.582,   34.531,2,   34.531,2,   37.280,1,   38.920,2,  122.800,2,   43.080,2,    0.000,2,    3.160,2,    0.000,2,    0.000,2, -999.000,9, -999.000,9, -999.000,9
           NA,    P03E,     58,   1,-999.0,     -99,  2,20051108,0159,  24.2433, -134.0527,  4830, 1400.500,    3.097,   34.561,2,   34.562,2,   46.060,1,   48.310,2,  134.900,2,   42.640,2,    0.000,2,    3.119,2,    0.000,2,    0.000,2, -999.000,9, -999.000,9, -999.000,9
           NA,    P03E,     58,   1,-999.0,     -99,  2,20051108,0159,  24.2433, -134.0527,  4830, 1601.800,    2.720,   34.586,2,   34.586,2,   55.680,1,   58.620,2,  143.550,2,   42.130,2,    0.000,2,    3.055,2,    0.000,2,    0.001,2, -999.000,9, -999.000,9, -999.000,9
           NA,    P03E,     58,   1,-999.0,     -99,  2,20051108,0159,  24.2433, -134.0527,  4830, 1800.800,    2.409,   34.607,2,   34.607,2,   66.730,1,   70.140,2,  150.460,2,   41.420,2,    0.000,2,    2.984,2,    0.001,2,    0.000,2, -999.000,9, -999.000,9, -999.000,9
           NA,    P03E,     58,   1,-999.0,     -99,  2,20051108,0159,  24.2433, -134.0527,  4830, 2001.400,    2.134,   34.626,2,   34.626,6,   78.740,1,   83.110,2,  155.870,2,   40.680,2,    0.000,2,    2.910,2,    0.001,2,    0.000,2, -999.000,9, -999.000,9, -999.000,9
           NA,    P03E,     58,   1,-999.0,     -99,  2,20051108,0159,  24.2433, -134.0527,  4830, 2201.600,    1.952,   34.639,2,   34.639,2,   88.140,1,   93.150,2,  159.820,2,   40.080,2,    0.000,2,    2.852,2, -999.000,9, -999.000,9, -999.000,9, -999.000,9, -999.000,9
           NA,    P03E,     58,   1,-999.0,     -99,  2,20051108,0159,  24.2433, -134.0527,  4830, 2400.100,    1.827,   34.648,2,   34.648,2,   94.860,1,  100.330,2,  162.650,2,   39.630,2,    0.000,2,    2.810,2,    0.000,2,    0.002,2, -999.000,9, -999.000,9, -999.000,9
           NA,    P03E,     58,   1,-999.0,     -99,  2,20051108,0159,  24.2433, -134.0527,  4830, 2600.900,    1.705,   34.656,2,   34.657,2,  101.990,1,  107.880,2,  165.440,2,   39.060,2,    0.000,2,    2.765,2, -999.000,9, -999.000,9, -999.000,9, -999.000,9, -999.000,9
           NA,    P03E,     58,   1,-999.0,     -99,  2,20051108,0159,  24.2433, -134.0527,  4830, 2799.300,    1.619,   34.663,2,   34.663,2,  108.640,1,  115.040,2,  166.000,2,   38.640,2,    0.000,2,    2.727,2, -999.000,9, -999.000,9, -999.000,9, -999.000,9, -999.000,9
           NA,    P03E,     58,   1,-999.0,     -99,  2,20051108,0159,  24.2433, -134.0527,  4830, 2999.800,    1.556,   34.669,2,   34.670,6,  115.360,1,  122.180,2,  166.120,2,   38.160,2,    0.000,2,    2.691,2, -999.000,5, -999.000,5, -999.000,9, -999.000,9, -999.000,9
           NA,    P03E,     58,   1,-999.0,     -99,  2,20051108,0159,  24.2433, -134.0527,  4830, 3250.400,    1.508,   34.676,2,   34.676,2,  123.100,1,  130.330,2,  165.120,2,   37.610,2,    0.000,2,    2.634,2, -999.000,9, -999.000,9, -999.000,9, -999.000,9, -999.000,9
           NA,    P03E,     58,   1,-999.0,     -99,  2,20051108,0159,  24.2433, -134.0527,  4830, 3502.100,    1.497,   34.679,2,   34.679,2,  127.630,1,  134.860,2,  163.790,2,   37.330,2,    0.000,2,    2.615,2, -999.000,5, -999.000,5, -999.000,9, -999.000,9, -999.000,9
           NA,    P03E,     58,   1,-999.0,     -99,  2,20051108,0159,  24.2433, -134.0527,  4830, 3750.600,    1.492,   34.682,2,   34.683,2,  132.100,1,  139.300,2,  161.010,2,   37.110,2,    0.000,2,    2.593,2, -999.000,9, -999.000,9, -999.000,9, -999.000,9, -999.000,9
           NA,    P03E,     58,   1,-999.0,     -99,  2,20051108,0159,  24.2433, -134.0527,  4830, 4001.700,    1.495,   34.685,2,   34.685,6,  136.090,1,  143.220,2,  159.110,2,   36.790,2,    0.000,2,    2.567,2,    0.000,2,    0.004,2, -999.000,9, -999.000,9, -999.000,9
           NA,    P03E,     58,   1,-999.0,     -99,  2,20051108,0159,  24.2433, -134.0527,  4830, 4251.900,    1.498,   34.687,2,   34.687,2,  140.450,1,  147.220,2,  156.610,2,   36.480,2,    0.000,2,    2.548,2, -999.000,9, -999.000,9, -999.000,9, -999.000,9, -999.000,9
           NA,    P03E,     58,   1,-999.0,     -99,  2,20051108,0159,  24.2433, -134.0527,  4830, 4501.200,    1.501,   34.689,2,   34.689,2,  145.250,1,  151.550,2,  153.290,2,   36.210,2,    0.000,2,    2.527,2, -999.000,9, -999.000,9, -999.000,9, -999.000,9, -999.000,9
           NA,    P03E,     58,   1,-999.0,     -99,  2,20051108,0159,  24.2433, -134.0527,  4830, 4750.700,    1.494,   34.691,2,   34.691,2,  151.670,1,  157.560,2,  148.740,2,   35.750,2,    0.000,2,    2.490,2, -999.000,9, -999.000,9, -999.000,9, -999.000,9, -999.000,9
           NA,    P03E,     58,   1,-999.0,     -99,  2,20051108,0159,  24.2433, -134.0527,  4830, 4907.700,    1.496,   34.693,2,   34.693,6,  155.420,1,  160.320,2,  146.200,2,   35.550,2,    0.000,2,    2.477,2,    0.011,2,    0.002,2, -999.000,9, -999.000,9, -999.000,9
           NA,    P03E,     58,   1,-999.0,     -99,  2,20051108,0159,  24.2433, -134.0527,  4830, 4908.000,    1.496,   34.692,2,   34.693,2,  155.310,1,  160.270,2,  146.410,2,   35.490,2,    0.000,2,    2.477,2, -999.000,9, -999.000,9, -999.000,9, -999.000,9, -999.000,9
           NA,    P03E,     56,   1,-999.0,     -99,  2,20051107,1935,  24.2537, -133.2443,  4856,    9.500,   21.696,   34.767,2,   34.767,2,  212.560,1,  223.130,2,    1.320,2,    0.040,2,    0.000,2,    0.163,2,    1.907,2,    1.195,2, -999.000,9, 2017.800,2, 2308.500,2
           NA,    P03E,     56,   1,-999.0,     -99,  2,20051107,1935,  24.2537, -133.2443,  4856,   50.000,   21.637,   34.766,2,   34.767,2,  212.630,1,  223.290,2,    1.310,2,    0.030,2,    0.000,2,    0.165,2,    1.912,2,    1.195,2, -999.000,9, 2019.200,6, 2302.100,2
           NA,    P03E,     56,   1,-999.0,     -99,  2,20051107,1935,  24.2537, -133.2443,  4856,   99.400,   19.701,   34.586,2,   34.634,2,  221.900,1,  231.820,2,    1.590,2,    0.020,2,    0.010,2,    0.148,2,    2.158,2,    1.326,2, -999.000,9, 2018.100,2, 2288.800,6
           NA,    P03E,     56,   1,-999.0,     -99,  3,20051107,1935,  24.2537, -133.2443,  4856,  150.200,   18.527,   34.712,2,   34.675,2,  212.540,1,  222.030,2,    2.090,2,    0.390,2,    0.140,2,    0.164,2, -999.000,4, -999.000,4, -999.000,9, 2026.900,2, 2287.000,2
           NA,    P03E,     56,   1,-999.0,     -99,  2,20051107,1935,  24.2537, -133.2443,  4856,  198.600,   13.276,   33.904,2,   33.893,2,  204.920,1,  213.460,2,    6.290,2,    6.750,2,    0.010,2,    0.648,2,    2.825,2,    1.680,2, -999.000,9, 2053.500,2, 2238.800,2
           NA,    P03E,     56,   1,-999.0,     -99,  2,20051107,1935,  24.2537, -133.2443,  4856,  250.000,   10.383,   33.827,2,   33.845,2,  193.230,1,  201.730,2,   14.570,2,   14.400,2,    0.010,2,    1.133,2,    3.088,6,    1.790,6, -999.000,9, 2094.800,2, 2243.200,2
           NA,    P03E,     56,   1,-999.0,     -99,  2,20051107,1935,  24.2537, -133.2443,  4856,  300.800,    9.150,   34.017,2,   34.021,2,  178.900,1,  185.430,2,   23.710,2,   19.490,2,    0.000,2,    1.430,2,    2.999,2,    1.681,2, -999.000,9, 2128.400,2, 2256.200,2
           NA,    P03E,     56,   1,-999.0,     -99,  2,20051107,1935,  24.2537, -133.2443,  4856,  401.700,    7.163,   34.041,2,   34.044,2,  106.570,1,  108.710,2,   47.270,2,   30.520,2,    0.000,2,    2.251,2,    1.925,2,    0.953,2, -999.000,9, 2215.100,2, 2283.000,2
           NA,    P03E,     56,   1,-999.0,     -99,  2,20051107,1935,  24.2537, -133.2443,  4856,  502.900,    5.990,   34.153,2,   34.159,6,   40.310,1,   40.490,2,   70.020,2,   37.910,2,    0.000,2,    2.882,2,    0.488,2,    0.261,2, -999.000,9, 2285.400,2, 2303.000,2
           NA,    P03E,     56,   1,-999.0,     -99,  2,20051107,1935,  24.2537, -133.2443,  4856,  600.300,    5.305,   34.244,2,   34.250,2,   20.500,1,   20.420,2,   85.670,2,   41.140,2,    0.000,2,    3.099,2,    0.099,2,    0.056,2, -999.000,9, 2316.500,2, 2316.700,2
           NA,    P03E,     56,   1,-999.0,     -99,  2,20051107,1935,  24.2537, -133.2443,  4856,  699.800,    4.890,   34.356,2,   34.359,2,   16.810,1,   17.510,2,   94.840,2,   42.500,2,    0.000,2,    3.182,2,    0.022,2,    0.010,2, -999.000,9, 2332.500,6, 2330.900,2
           NA,    P03E,     56,   1,-999.0,     -99,  2,20051107,1935,  24.2537, -133.2443,  4856,  802.200,    4.693,   34.432,2,   34.433,2,   21.840,1,   22.580,2,   98.580,2,   42.760,2,    0.000,2,    3.186,2,    0.009,6,    0.006,6, -999.000,9, -999.000,3, 2346.200,6
           NA,    P03E,     56,   1,-999.0,     -99,  2,20051107,1935,  24.2537, -133.2443,  4856,  901.600,    4.392,   34.472,2,   34.472,2,   25.700,1,   26.730,2,  104.620,2,   43.090,2,    0.000,2,    3.173,2,    0.006,2,    0.003,2, -999.000,9, 2342.100,2, 2353.900,2
           NA,    P03E,     56,   1,-999.0,     -99,  2,20051107,1935,  24.2537, -133.2443,  4856, 1002.200,    4.080,   34.498,2,   34.498,6,   30.750,1,   31.860,2,  111.520,2,   43.150,2,    0.000,2,    3.179,2,    0.004,2,    0.006,2, -999.000,9, 2348.400,2, 2362.200,2
           NA,    P03E,     56,   1,-999.0,     -99,  2,20051107,1935,  24.2537, -133.2443,  4856, 1201.800,    3.496,   34.537,2,   34.537,2,   38.040,1,   39.670,2,  124.870,2,   43.060,2,    0.000,2,    3.164,2,    0.003,2,    0.005,2, -999.000,9, 2358.800,2, 2380.300,2
           NA,    P03E,     56,   1,-999.0,     -99,  2,20051107,1935,  24.2537, -133.2443,  4856, 1400.500,    3.092,   34.561,2,   34.561,2,   45.930,1,   48.400,2,  134.860,2,   42.690,2,    0.000,2,    3.126,2,    0.005,2,    0.003,2, -999.000,9, 2364.700,2, 2392.600,2
           NA,    P03E,     56,   1,-999.0,     -99,  2,20051107,1935,  24.2537, -133.2443,  4856, 1601.400,    2.720,   34.585,2,   34.585,2,   55.420,1,   58.180,2,  144.070,2,   42.240,2,    0.000,2,    3.062,2,    0.002,2,    0.000,2, -999.000,9, 2369.900,2, 2406.700,2
           NA,    P03E,     56,   1,-999.0,     -99,  2,20051107,1935,  24.2537, -133.2443,  4856, 1800.600,    2.390,   34.608,2,   34.608,2,   67.090,1,   70.640,2,  151.350,2,   41.390,2,    0.000,2,    2.995,2,    0.000,2,    0.001,2, -999.000,9, 2366.800,2, 2411.700,2
           NA,    P03E,     56,   1,-999.0,     -99,  2,20051107,1935,  24.2537, -133.2443,  4856, 2001.100,    2.156,   34.625,2,   34.625,2,   77.630,1,   81.810,2,  156.270,2,   40.770,2,    0.000,2,    2.926,2,    0.000,2,    0.001,2, -999.000,9, 2364.100,2, 2414.100,2
           NA,    P03E,     56,   1,-999.0,     -99,  2,20051107,1935,  24.2537, -133.2443,  4856, 2200.300,    1.967,   34.639,2,   34.640,6,   87.540,1,   92.670,2,  159.350,2,   39.980,2,    0.000,2,    2.863,2,    0.000,2,    0.000,2, -999.000,9, 2360.600,2, 2422.100,2
           NA,    P03E,     56,   1,-999.0,     -99,  2,20051107,1935,  24.2537, -133.2443,  4856, 2402.500,    1.836,   34.648,2,   34.648,2,   94.750,1,  100.140,2,  162.590,2,   39.590,2,    0.000,2,    2.823,2, -999.000,9, -999.000,9, -999.000,9, 2358.100,6, 2424.000,2
           NA,    P03E,     56,   1,-999.0,     -99,  2,20051107,1935,  24.2537, -133.2443,  4856, 2600.800,    1.726,   34.655,2,   34.656,2,  101.030,1,  106.630,2,  165.240,2,   39.100,2,    0.000,2,    2.777,2, -999.000,9, -999.000,9, -999.000,9, 2356.200,2, 2426.400,6
           NA,    P03E,     56,   1,-999.0,     -99,  2,20051107,1935,  24.2537, -133.2443,  4856, 2799.300,    1.630,   34.663,2,   34.663,2,  107.890,1,  114.070,2,  166.930,2,   38.680,2,    0.000,2,    2.740,2, -999.000,9, -999.000,9, -999.000,9, 2351.800,2, 2428.100,2
           NA,    P03E,     56,   1,-999.0,     -99,  2,20051107,1935,  24.2537, -133.2443,  4856, 2999.700,    1.559,   34.669,2,   34.670,6,  114.920,1,  121.510,2,  166.720,2,   38.210,2,    0.000,2,    2.698,2, -999.000,9, -999.000,9, -999.000,9, 2347.700,2, 2426.400,2
           NA,    P03E,     56,   1,-999.0,     -99,  2,20051107,1935,  24.2537, -133.2443,  4856, 3251.000,    1.510,   34.676,2,   34.676,2,  122.530,1,  129.540,2,  165.210,2,   37.630,2,    0.000,2,    2.649,2,    0.002,2,    0.004,2, -999.000,9, 2343.100,2, 2422.500,2
           NA,    P03E,     56,   1,-999.0,     -99,  2,20051107,1935,  24.2537, -133.2443,  4856, 3499.300,    1.492,   34.680,2,   34.680,2,  128.080,1,  135.160,2,  163.560,2,   37.250,2,    0.000,2,    2.622,2, -999.000,9, -999.000,9, -999.000,9, 2339.800,2, 2426.100,2
           NA,    P03E,     56,   1,-999.0,     -99,  2,20051107,1935,  24.2537, -133.2443,  4856, 3750.200,    1.494,   34.682,2,   34.683,2,  131.810,1,  138.950,2,  162.170,2,   37.100,2,    0.000,2,    2.606,2, -999.000,9, -999.000,9, -999.000,9, 2336.200,2, 2423.800,2
           NA,    P03E,     56,   1,-999.0,     -99,  2,20051107,1935,  24.2537, -133.2443,  4856, 4000.200,    1.498,   34.685,2,   34.684,6,  135.620,1,  142.640,2,  159.770,2,   36.760,2,    0.000,2,    2.589,2, -999.000,9, -999.000,9, -999.000,9, 2336.900,2, 2423.500,2
           NA,    P03E,     56,   1,-999.0,     -99,  2,20051107,1935,  24.2537, -133.2443,  4856, 4249.500,    1.505,   34.686,2,   34.687,2,  139.520,1,  146.340,2,  157.500,2,   36.540,2,    0.000,2,    2.573,2, -999.000,9, -999.000,9, -999.000,9, 2331.800,6, 2420.100,2
           NA,    P03E,     56,   1,-999.0,     -99,  2,20051107,1935,  24.2537, -133.2443,  4856, 4500.300,    1.500,   34.689,2,   34.689,2,  145.360,1,  151.650,2,  153.330,2,   36.140,2,    0.000,2,    2.531,2,    0.001,2,    0.004,2, -999.000,9, 2327.300,2, 2416.900,2
           NA,    P03E,     56,   1,-999.0,     -99,  2,20051107,1935,  24.2537, -133.2443,  4856, 4750.600,    1.490,   34.692,2,   34.692,2,  152.410,1,  158.270,2,  148.190,2,   35.690,2,    0.000,2,    2.497,2,    0.004,2,    0.006,2, -999.000,9, 2319.200,2, 2410.500,2
           NA,    P03E,     56,   1,-999.0,     -99,  2,20051107,1935,  24.2537, -133.2443,  4856, 4937.100,    1.496,   34.693,2,   34.693,2,  156.020,1,  161.290,2,  145.950,2,   35.530,2,    0.000,2,    2.487,2, -999.000,9, -999.000,9, -999.000,9, 2316.500,2, 2409.000,2
           NA,    P03E,     56,   1,-999.0,     -99,  2,20051107,1935,  24.2537, -133.2443,  4856, 4937.400,    1.496,   34.693,2,   34.693,6,  156.000,1,  161.200,2,  146.110,2,   35.540,2,    0.000,2,    2.488,2,    0.004,2,    0.008,2, -999.000,9, 2315.600,2, 2408.700,2