BOTTLE,20211903JOAExport
EXPOCODE,SECT_ID,STNNBR,CASTNO,SAMPNO,BTLNBR,BTLNBR_FLAG_W,DATE,TIME,LATITUDE,LONGITUDE,DEPTH,CTDPRS,CTDTMP,CTDSAL,CTDSAL_FLAG_W,SALNTY,SALNTY_FLAG_W,CTDOXY,CTDOXY_FLAG_W,OXYGEN,OXYGEN_FLAG_W,SILCAT,SILCAT_FLAG_W,NITRAT,NITRAT_FLAG_W,NITRIT,NITRIT_FLAG_W,PHSPHT,PHSPHT_FLAG_W,CFC-11,CFC-11_FLAG_W,CFC-12,CFC-12_FLAG_W,SF6,SF6_FLAG_W,TCARBN,TCARBN_FLAG_W,ALKALI,ALKALI_FLAG_W
,,,,,,,,,,,,DB,ITS-90,PSS-78,,PSS-78,,UMOL/KG,,UMOL/KG,,UMOL/KG,,UMOL/KG,,UMOL/KG,,UMOL/KG,,PMOL/KG,,PMOL/KG,,FMOL/KG,,UMOL/KG,,UMOL/KG
           NA,    P03C,    357,   1,-999.0,     -99,  2,20060114,0538,  25.0583,  127.8163,  5224,   10.500,   23.055,   34.658,2,   34.659,2,  198.050,1,  215.370,2,    1.280,2,    0.030,2,    0.010,2,    0.059,2,    1.833,2,    1.084,2, -999.000,9, 1953.200,2, 2275.700,2
           NA,    P03C,    357,   1,-999.0,     -99,  2,20060114,0538,  25.0583,  127.8163,  5224,   49.800,   22.503,   34.728,2,   34.731,2,  193.610,1,  211.200,2,    1.420,2,    0.240,2,    0.160,2,    0.083,2,    1.864,2,    1.095,2, -999.000,9, 1963.800,6, 2281.100,2
           NA,    P03C,    357,   1,-999.0,     -99,  2,20060114,0538,  25.0583,  127.8163,  5224,  100.600,   21.061,   34.834,2,   34.836,2,  198.250,1,  215.620,2,    1.490,2,    0.250,2,    0.120,2,    0.088,2,    1.995,2,    1.164,2, -999.000,9, 1983.400,2, 2289.200,6
           NA,    P03C,    357,   1,-999.0,     -99,  2,20060114,0538,  25.0583,  127.8163,  5224,  150.000,   19.043,   34.887,2,   34.888,2,  168.870,1,  183.810,2,    3.470,2,    4.420,2,    0.020,2,    0.367,2,    2.258,2,    1.283,2, -999.000,9, 2039.500,2, 2292.800,2
           NA,    P03C,    357,   1,-999.0,     -99,  2,20060114,0538,  25.0583,  127.8163,  5224,  199.600,   17.603,   34.792,2,   34.790,2,  166.780,1,  181.420,2,    4.920,2,    6.300,2,    0.010,2,    0.501,2,    2.390,2,    1.312,2, -999.000,9, 2052.900,2, 2286.400,2
           NA,    P03C,    357,   1,-999.0,     -99,  2,20060114,0538,  25.0583,  127.8163,  5224,  249.600,   16.449,   34.706,2,   34.706,2,  178.970,1,  194.490,2,    5.930,2,    6.880,2,    0.010,2,    0.506,2,    2.471,6,    1.349,6, -999.000,9, 2046.800,2, 2281.300,2
           NA,    P03C,    357,   1,-999.0,     -99,  2,20060114,0538,  25.0583,  127.8163,  5224,  301.300,   15.347,   34.618,2,   34.618,2,  173.470,1,  188.650,2,    8.840,2,    9.090,2,    0.010,2,    0.661,2,    2.512,2,    1.342,2, -999.000,9, 2061.700,2, 2280.100,2
           NA,    P03C,    357,   1,-999.0,     -99,  2,20060114,0538,  25.0583,  127.8163,  5224,  400.300,   12.945,   34.438,2,   34.437,2,  164.870,1,  178.680,2,   15.820,2,   13.820,2,    0.010,2,    1.000,2,    2.557,2,    1.316,2, -999.000,9, 2096.300,2, 2275.200,2
           NA,    P03C,    357,   1,-999.0,     -99,  2,20060114,0538,  25.0583,  127.8163,  5224,  499.900,   10.351,   34.269,2,   34.269,6,  148.190,1,  160.490,2,   27.630,2,   19.910,2,    0.010,2,    1.448,2,    2.315,2,    1.148,2, -999.000,9, 2140.600,2, 2275.500,2
           NA,    P03C,    357,   1,-999.0,     -99,  2,20060114,0538,  25.0583,  127.8163,  5224,  600.300,    7.863,   34.174,2,   34.174,2,  121.220,1,  130.840,2,   49.320,2,   27.110,2,    0.010,2,    1.979,2,    1.741,2,    0.849,2, -999.000,9, 2198.300,2, 2289.600,2
           NA,    P03C,    357,   1,-999.0,     -99,  2,20060114,0538,  25.0583,  127.8163,  5224,  700.400,    6.409,   34.170,2,   34.170,2,   94.050,1,  101.480,2,   67.670,2,   32.420,2,    0.010,2,    2.366,2,    1.192,2,    0.573,2, -999.000,9, 2241.900,6, 2308.000,2
           NA,    P03C,    357,   1,-999.0,     -99,  2,20060114,0538,  25.0583,  127.8163,  5224,  800.300,    5.331,   34.222,2,   34.223,2,   72.640,1,   78.820,2,   85.850,2,   36.210,2,    0.010,2,    2.639,2,    0.725,6,    0.345,6, -999.000,9, 2280.400,2, 2324.600,6
           NA,    P03C,    357,   1,-999.0,     -99,  2,20060114,0538,  25.0583,  127.8163,  5224,  901.400,    4.452,   34.286,2,   34.286,2,   57.470,1,   62.230,2,  102.680,2,   39.060,2,    0.000,2,    2.836,2,    0.392,2,    0.187,2, -999.000,9, 2309.300,2, 2343.900,2
           NA,    P03C,    357,   1,-999.0,     -99,  2,20060114,0538,  25.0583,  127.8163,  5224, 1000.400,    3.958,   34.359,2,   34.359,6,   54.780,1,   59.410,2,  113.800,2,   40.100,2,    0.000,2,    2.894,2,    0.214,2,    0.106,2, -999.000,9, 2325.200,2, 2356.800,2
           NA,    P03C,    357,   1,-999.0,     -99,  2,20060114,0538,  25.0583,  127.8163,  5224, 1200.200,    3.187,   34.464,2,   34.464,2,   61.910,1,   67.080,2,  129.770,2,   40.500,2,    0.000,2,    2.906,2,    0.064,2,    0.030,2, -999.000,9, 2341.300,2, 2377.600,2
           NA,    P03C,    357,   1,-999.0,     -99,  2,20060114,0538,  25.0583,  127.8163,  5224, 1400.300,    2.775,   34.528,2,   34.528,2,   74.720,1,   81.470,2,  136.160,2,   39.820,2,    0.000,2,    2.851,2,    0.017,2,    0.009,2, -999.000,9, 2342.100,2, 2394.000,2
           NA,    P03C,    357,   1,-999.0,     -99,  2,20060114,0538,  25.0583,  127.8163,  5224, 1599.700,    2.452,   34.563,2,   34.562,2,   85.240,1,   93.000,2,  139.890,2,   39.290,2,    0.000,2,    2.808,2,    0.007,2,    0.006,2, -999.000,9, 2341.900,2, 2401.000,2
           NA,    P03C,    357,   1,-999.0,     -99,  2,20060114,0538,  25.0583,  127.8163,  5224, 1799.200,    2.237,   34.594,2,   34.594,2,   95.810,1,  104.870,2,  141.100,2,   38.650,2,    0.000,2,    2.753,2,    0.003,2,    0.001,2, -999.000,9, 2339.700,2, 2401.600,2
           NA,    P03C,    357,   1,-999.0,     -99,  2,20060114,0538,  25.0583,  127.8163,  5224, 2000.200,    2.053,   34.616,2,   34.615,6,  103.800,1,  113.750,2,  142.100,2,   38.220,2,    0.000,2,    2.715,2,    0.000,2,    0.002,2, -999.000,9, 2338.300,2, 2408.500,2
           NA,    P03C,    357,   1,-999.0,     -99,  4,20060114,0538,  25.0583,  127.8163,  5224, 2199.100,    1.921,   34.631,2, -999.000,4,  110.350,1, -999.000,4, -999.000,4, -999.000,4, -999.000,4, -999.000,4, -999.000,4, -999.000,4, -999.000,9, -999.000,4, -999.000,4
           NA,    P03C,    357,   1,-999.0,     -99,  2,20060114,0538,  25.0583,  127.8163,  5224, 2400.400,    1.819,   34.645,2,   34.645,2,  116.290,1,  127.540,2,  143.160,2,   37.550,2,    0.000,2,    2.648,2,    0.000,2,    0.001,2, -999.000,9, 2332.300,6, 2410.800,2
           NA,    P03C,    357,   1,-999.0,     -99,  2,20060114,0538,  25.0583,  127.8163,  5224, 2599.500,    1.746,   34.653,2,   34.653,2,  120.540,1,  132.240,2,  143.590,2,   37.260,2,    0.000,2,    2.627,2, -999.000,9, -999.000,9, -999.000,9, 2330.900,2, 2410.400,6
           NA,    P03C,    357,   1,-999.0,     -99,  2,20060114,0538,  25.0583,  127.8163,  5224, 2800.000,    1.696,   34.659,2,   34.659,2,  123.950,1,  135.960,2,  143.510,2,   36.970,2,    0.000,2,    2.610,2,    0.000,2,    0.000,2, -999.000,9, 2328.800,2, 2411.500,2
           NA,    P03C,    357,   1,-999.0,     -99,  2,20060114,0538,  25.0583,  127.8163,  5224, 3000.400,    1.630,   34.666,2,   34.666,6,  128.460,1,  141.150,2,  143.360,2,   36.720,2,    0.010,2,    2.583,2, -999.000,9, -999.000,9, -999.000,9, 2326.800,2, 2414.200,2
           NA,    P03C,    357,   1,-999.0,     -99,  2,20060114,0538,  25.0583,  127.8163,  5224, 3249.600,    1.588,   34.671,2,   34.671,2,  132.380,1,  144.710,2,  143.010,2,   36.420,2,    0.000,2,    2.564,2, -999.000,9, -999.000,9, -999.000,9, 2324.900,2, 2412.200,2
           NA,    P03C,    357,   1,-999.0,     -99,  2,20060114,0538,  25.0583,  127.8163,  5224, 3499.200,    1.572,   34.675,2,   34.675,2,  135.090,1,  147.470,2,  142.740,2,   36.310,2,    0.000,2,    2.550,2,    0.000,2,    0.002,2, -999.000,9, 2323.700,2, 2412.200,2
           NA,    P03C,    357,   1,-999.0,     -99,  2,20060114,0538,  25.0583,  127.8163,  5224, 3749.500,    1.569,   34.678,2,   34.678,2,  137.210,1,  149.540,2,  142.400,2,   36.240,2,    0.000,2,    2.536,2, -999.000,9, -999.000,9, -999.000,9, 2321.100,2, 2413.600,2
           NA,    P03C,    357,   1,-999.0,     -99,  2,20060114,0538,  25.0583,  127.8163,  5224, 4000.200,    1.568,   34.681,2,   34.680,6,  139.480,1,  151.570,2,  142.140,2,   36.020,2,    0.000,2,    2.529,2, -999.000,9, -999.000,9, -999.000,9, 2322.300,2, 2414.400,2
           NA,    P03C,    357,   1,-999.0,     -99,  2,20060114,0538,  25.0583,  127.8163,  5224, 4250.700,    1.585,   34.682,2,   34.682,2,  140.840,1,  152.550,2,  141.940,2,   36.000,2,    0.000,2,    2.521,2,    0.000,2,    0.000,2, -999.000,9, 2321.500,6, 2412.500,2
           NA,    P03C,    357,   1,-999.0,     -99,  2,20060114,0538,  25.0583,  127.8163,  5224, 4500.200,    1.601,   34.683,2,   34.683,2,  142.290,1,  153.640,2,  141.820,2,   35.980,2,    0.000,2,    2.519,2, -999.000,9, -999.000,9, -999.000,9, 2318.100,2, 2411.900,6
           NA,    P03C,    357,   1,-999.0,     -99,  2,20060114,0538,  25.0583,  127.8163,  5224, 4749.400,    1.621,   34.684,2,   34.684,2,  143.760,1,  154.550,2,  141.690,2,   35.900,2,    0.000,2,    2.517,2, -999.000,9, -999.000,9, -999.000,9, 2318.100,2, 2413.900,2
           NA,    P03C,    357,   1,-999.0,     -99,  2,20060114,0538,  25.0583,  127.8163,  5224, 4998.500,    1.648,   34.684,2,   34.684,2,  145.060,1,  154.900,2,  141.460,2,   35.780,2,    0.000,2,    2.512,2,    0.000,2,    0.001,2, -999.000,9, 2317.700,2, 2412.600,2
           NA,    P03C,    357,   1,-999.0,     -99,  2,20060114,0538,  25.0583,  127.8163,  5224, 5268.600,    1.680,   34.684,2,   34.684,6,  146.550,1,  155.160,2,  141.310,2,   35.910,2,    0.000,2,    2.512,2,    0.000,2,    0.001,2, -999.000,9, 2318.800,2, 2416.000,2
           NA,    P03C,    355,   1,-999.0,     -99,  2,20060114,1136,  24.9683,  127.9023,  6557,    9.500,   23.017,   34.642,2,   34.643,2,  197.360,1,  215.180,2,    1.270,2,    0.040,2,    0.000,2,    0.051,2,    1.807,2,    1.081,2, -999.000,9, -999.000,9, -999.000,9
           NA,    P03C,    355,   1,-999.0,     -99,  2,20060114,1136,  24.9683,  127.9023,  6557,   50.400,   22.947,   34.671,2,   34.675,2,  196.810,1,  214.550,2,    1.280,2,    0.030,2,    0.010,2,    0.053,2, -999.000,9, -999.000,9, -999.000,9, -999.000,9, -999.000,9
           NA,    P03C,    355,   1,-999.0,     -99,  2,20060114,1136,  24.9683,  127.9023,  6557,   99.700,   21.463,   34.813,2,   34.819,2,  194.180,1,  210.380,2,    1.560,2,    0.560,2,    0.150,2,    0.094,2,    1.938,2,    1.144,2, -999.000,9, -999.000,9, -999.000,9
           NA,    P03C,    355,   1,-999.0,     -99,  2,20060114,1136,  24.9683,  127.9023,  6557,  150.100,   19.273,   34.905,2,   34.896,2,  163.010,1,  177.580,2,    3.680,2,    4.830,2,    0.020,2,    0.401,2, -999.000,9, -999.000,9, -999.000,9, -999.000,9, -999.000,9
           NA,    P03C,    355,   1,-999.0,     -99,  2,20060114,1136,  24.9683,  127.9023,  6557,  200.500,   17.546,   34.787,2,   34.783,2,  171.110,1,  186.840,2,    4.780,2,    5.940,2,    0.010,2,    0.461,2,    2.346,2,    1.338,2, -999.000,9, -999.000,9, -999.000,9
           NA,    P03C,    355,   1,-999.0,     -99,  2,20060114,1136,  24.9683,  127.9023,  6557,  249.900,   16.575,   34.715,2,   34.708,2,  177.230,1,  192.560,2,    5.880,2,    6.910,2,    0.010,2,    0.513,2,    2.425,2,    1.370,2, -999.000,9, -999.000,9, -999.000,9
           NA,    P03C,    355,   1,-999.0,     -99,  2,20060114,1136,  24.9683,  127.9023,  6557,  299.800,   15.447,   34.623,2,   34.621,2,  174.090,1,  189.510,2,    8.190,2,    8.780,2,    0.010,2,    0.643,2, -999.000,9, -999.000,9, -999.000,9, -999.000,9, -999.000,9
           NA,    P03C,    355,   1,-999.0,     -99,  2,20060114,1136,  24.9683,  127.9023,  6557,  399.300,   12.948,   34.442,2,   34.440,2,  164.750,1,  178.940,2,   16.050,2,   13.760,2,    0.000,2,    0.998,2,    2.444,2,    1.305,2, -999.000,9, -999.000,9, -999.000,9
           NA,    P03C,    355,   1,-999.0,     -99,  2,20060114,1136,  24.9683,  127.9023,  6557,  500.100,   10.313,   34.268,2,   34.268,6,  147.800,1,  160.790,2,   27.750,2,   19.890,2,    0.000,2,    1.448,2,    2.226,2,    1.125,2, -999.000,9, -999.000,9, -999.000,9
           NA,    P03C,    355,   1,-999.0,     -99,  2,20060114,1136,  24.9683,  127.9023,  6557,  600.400,    8.125,   34.187,2,   34.186,2,  121.730,1,  131.280,2,   47.810,2,   26.680,2,    0.000,2,    1.949,2,    1.665,2,    0.823,2, -999.000,9, -999.000,9, -999.000,9
           NA,    P03C,    355,   1,-999.0,     -99,  2,20060114,1136,  24.9683,  127.9023,  6557,  701.100,    6.061,   34.182,2,   34.181,2,   86.600,1,   94.050,2,   72.650,2,   33.520,2,    0.000,2,    2.451,2,    0.973,2,    0.484,2, -999.000,9, -999.000,9, -999.000,9
           NA,    P03C,    355,   1,-999.0,     -99,  2,20060114,1136,  24.9683,  127.9023,  6557,  799.600,    5.113,   34.229,2,   34.226,2,   68.630,1,   74.400,2,   89.130,2,   36.890,2,    0.000,2,    2.690,2,    0.603,2,    0.303,2, -999.000,9, -999.000,9, -999.000,9
           NA,    P03C,    355,   1,-999.0,     -99,  2,20060114,1136,  24.9683,  127.9023,  6557,  900.100,    4.373,   34.306,2,   34.306,2,   57.610,1,   62.440,2,  104.860,2,   39.130,2,    0.000,2,    2.830,2,    0.318,2,    0.160,2, -999.000,9, -999.000,9, -999.000,9
           NA,    P03C,    355,   1,-999.0,     -99,  2,20060114,1136,  24.9683,  127.9023,  6557, 1001.500,    3.902,   34.371,2,   34.370,6,   55.080,1,   59.870,2,  114.940,2,   39.970,2,    0.000,2,    2.895,2,    0.176,2,    0.090,2, -999.000,9, -999.000,9, -999.000,9
           NA,    P03C,    355,   1,-999.0,     -99,  2,20060114,1136,  24.9683,  127.9023,  6557, 1201.300,    3.172,   34.465,2,   34.464,2,   61.890,1,   67.310,2,  129.850,2,   40.330,2,    0.000,2,    2.907,2,    0.062,2,    0.032,2, -999.000,9, -999.000,9, -999.000,9
           NA,    P03C,    355,   1,-999.0,     -99,  2,20060114,1136,  24.9683,  127.9023,  6557, 1402.000,    2.789,   34.526,2,   34.526,2,   74.350,1,   81.470,2,  135.820,2,   39.740,2,    0.000,2,    2.852,2,    0.021,2,    0.013,2, -999.000,9, -999.000,9, -999.000,9
           NA,    P03C,    355,   1,-999.0,     -99,  2,20060114,1136,  24.9683,  127.9023,  6557, 1600.600,    2.463,   34.563,2,   34.563,2,   84.790,1,   93.040,2,  139.550,2,   39.270,2,    0.000,2,    2.806,2,    0.005,2,    0.004,2, -999.000,9, -999.000,9, -999.000,9
           NA,    P03C,    355,   1,-999.0,     -99,  2,20060114,1136,  24.9683,  127.9023,  6557, 1800.000,    2.259,   34.592,2,   34.592,2,   94.400,1,  103.970,2,  140.870,2,   38.690,2,    0.000,2,    2.762,2,    0.003,2,    0.005,2, -999.000,9, -999.000,9, -999.000,9
           NA,    P03C,    355,   1,-999.0,     -99,  2,20060114,1136,  24.9683,  127.9023,  6557, 2000.000,    2.045,   34.616,2,   34.616,2,  102.920,1,  113.640,2,  142.400,2,   38.240,2,    0.000,2,    2.719,2,    0.000,2,    0.001,2, -999.000,9, -999.000,9, -999.000,9
           NA,    P03C,    355,   1,-999.0,     -99,  2,20060114,1136,  24.9683,  127.9023,  6557, 2201.300,    1.917,   34.631,2,   34.631,2,  109.250,1,  120.710,2,  142.910,2,   37.890,2,    0.000,2,    2.687,2,    0.000,2,    0.000,2, -999.000,9, -999.000,9, -999.000,9
           NA,    P03C,    355,   1,-999.0,     -99,  2,20060114,1136,  24.9683,  127.9023,  6557, 2400.200,    1.827,   34.644,2,   34.644,6,  114.490,1,  126.820,2,  143.120,2,   37.590,2,    0.000,2,    2.655,2,    0.000,2,    0.000,2, -999.000,9, -999.000,9, -999.000,9
           NA,    P03C,    355,   1,-999.0,     -99,  2,20060114,1136,  24.9683,  127.9023,  6557, 2600.200,    1.751,   34.652,2,   34.652,2,  118.700,1,  131.590,2,  143.350,2,   37.300,2,    0.000,2,    2.633,2, -999.000,9, -999.000,9, -999.000,9, -999.000,9, -999.000,9
           NA,    P03C,    355,   1,-999.0,     -99,  2,20060114,1136,  24.9683,  127.9023,  6557, 2800.000,    1.700,   34.658,2,   34.658,2,  122.050,1,  135.460,2,  143.360,2,   37.060,2,    0.000,2,    2.613,2, -999.000,9, -999.000,9, -999.000,9, -999.000,9, -999.000,9
           NA,    P03C,    355,   1,-999.0,     -99,  2,20060114,1136,  24.9683,  127.9023,  6557, 3001.800,    1.645,   34.664,2,   34.664,2,  125.790,1,  139.800,2,  143.300,2,   36.820,2,    0.000,2,    2.590,2,    0.000,2,    0.000,2, -999.000,9, -999.000,9, -999.000,9
           NA,    P03C,    355,   1,-999.0,     -99,  2,20060114,1136,  24.9683,  127.9023,  6557, 3250.800,    1.601,   34.670,2,   34.670,2,  129.420,1,  144.010,2,  142.800,2,   36.410,2,    0.000,2,    2.566,2, -999.000,9, -999.000,9, -999.000,9, -999.000,9, -999.000,9
           NA,    P03C,    355,   1,-999.0,     -99,  2,20060114,1136,  24.9683,  127.9023,  6557, 3500.800,    1.580,   34.674,2,   34.674,2,  132.130,1,  147.060,2,  142.640,2,   36.310,2,    0.000,2,    2.549,2, -999.000,9, -999.000,9, -999.000,9, -999.000,9, -999.000,9
           NA,    P03C,    355,   1,-999.0,     -99,  2,20060114,1136,  24.9683,  127.9023,  6557, 3749.000,    1.575,   34.677,2,   34.677,6,  134.120,1,  149.380,2,  142.390,2,   36.160,2,    0.000,2,    2.540,2,    0.000,2,    0.000,2, -999.000,9, -999.000,9, -999.000,9
           NA,    P03C,    355,   1,-999.0,     -99,  2,20060114,1136,  24.9683,  127.9023,  6557, 4001.500,    1.581,   34.679,2,   34.679,2,  135.760,1,  151.070,2,  142.310,2,   36.070,2,    0.000,2,    2.532,2, -999.000,9, -999.000,9, -999.000,9, -999.000,9, -999.000,9
           NA,    P03C,    355,   1,-999.0,     -99,  2,20060114,1136,  24.9683,  127.9023,  6557, 4250.300,    1.592,   34.681,2,   34.681,2,  137.100,1,  152.280,2,  142.010,2,   36.010,2,    0.010,2,    2.527,2, -999.000,9, -999.000,9, -999.000,9, -999.000,9, -999.000,9
           NA,    P03C,    355,   1,-999.0,     -99,  2,20060114,1136,  24.9683,  127.9023,  6557, 4500.500,    1.610,   34.682,2,   34.682,2,  138.210,1,  153.170,2,  141.920,2,   35.910,2,    0.000,2,    2.525,2,    0.000,2,    0.000,2, -999.000,9, -999.000,9, -999.000,9
           NA,    P03C,    355,   1,-999.0,     -99,  2,20060114,1136,  24.9683,  127.9023,  6557, 4749.900,    1.631,   34.683,2,   34.683,2,  139.290,1,  154.050,2,  141.510,2,   35.910,2,    0.000,2,    2.518,2, -999.000,9, -999.000,9, -999.000,9, -999.000,9, -999.000,9
           NA,    P03C,    355,   1,-999.0,     -99,  2,20060114,1136,  24.9683,  127.9023,  6557, 5000.800,    1.656,   34.683,2,   34.683,2,  140.230,1,  154.620,2,  141.590,2,   35.900,2,    0.010,2,    2.518,2, -999.000,9, -999.000,9, -999.000,9, -999.000,9, -999.000,9
           NA,    P03C,    355,   1,-999.0,     -99,  2,20060114,1136,  24.9683,  127.9023,  6557, 5251.200,    1.683,   34.684,2,   34.684,6,  141.180,1,  155.070,2,  141.470,2,   35.830,2,    0.000,2,    2.515,2,    0.000,2,    0.001,2, -999.000,9, -999.000,9, -999.000,9
           NA,    P03C,    355,   1,-999.0,     -99,  2,20060114,1136,  24.9683,  127.9023,  6557, 5500.300,    1.714,   34.684,2,   34.684,2,  142.060,1,  155.360,2,  141.480,2,   35.770,2,    0.000,2,    2.514,2, -999.000,9, -999.000,9, -999.000,9, -999.000,9, -999.000,9
           NA,    P03C,    355,   1,-999.0,     -99,  2,20060114,1136,  24.9683,  127.9023,  6557, 5998.800,    1.780,   34.684,2,   34.684,2,  143.970,1,  155.490,2,  141.410,2,   35.750,2,    0.010,2,    2.511,2,    0.000,2,    0.002,2, -999.000,9, -999.000,9, -999.000,9
           NA,    P03C,    355,   1,-999.0,     -99,  2,20060114,1136,  24.9683,  127.9023,  6557, 6501.800,    1.849,   34.684,2,   34.684,6,  147.140,1,  155.880,2,  141.220,2,   35.780,2,    0.010,2,    2.508,2,    0.000,2,    0.000,2, -999.000,9, -999.000,9, -999.000,9