BOTTLE,20211903JOAExport
EXPOCODE,SECT_ID,STNNBR,CASTNO,SAMPNO,BTLNBR,BTLNBR_FLAG_W,DATE,TIME,LATITUDE,LONGITUDE,DEPTH,CTDPRS,CTDTMP,CTDSAL,CTDSAL_FLAG_W,SALNTY,SALNTY_FLAG_W,CTDOXY,CTDOXY_FLAG_W,OXYGEN,OXYGEN_FLAG_W,SILCAT,SILCAT_FLAG_W,NITRAT,NITRAT_FLAG_W,NITRIT,NITRIT_FLAG_W,PHSPHT,PHSPHT_FLAG_W,CFC-11,CFC-11_FLAG_W,CFC-12,CFC-12_FLAG_W,SF6,SF6_FLAG_W,TCARBN,TCARBN_FLAG_W,ALKALI,ALKALI_FLAG_W
,,,,,,,,,,,,DB,ITS-90,PSS-78,,PSS-78,,UMOL/KG,,UMOL/KG,,UMOL/KG,,UMOL/KG,,UMOL/KG,,UMOL/KG,,PMOL/KG,,PMOL/KG,,FMOL/KG,,UMOL/KG,,UMOL/KG
           NA,    P03E,     79,   1,-999.0,     -99,  2,20051112,0942,  24.2653, -143.3153,  4417,   10.400,   23.335,   35.174,2,   35.174,2,  203.010,1,  214.890,2,    1.050,2,    0.050,2,    0.000,2,    0.094,2,    1.854,2,    1.065,2, -999.000,9, -999.000,9, -999.000,9
           NA,    P03E,     79,   1,-999.0,     -99,  2,20051112,0942,  24.2653, -143.3153,  4417,   49.800,   23.340,   35.173,2,   35.174,2,  203.140,1,  214.820,2,    1.060,2,    0.050,2,    0.000,2,    0.092,2,    1.869,2,    1.069,2, -999.000,9, -999.000,9, -999.000,9
           NA,    P03E,     79,   1,-999.0,     -99,  2,20051112,0942,  24.2653, -143.3153,  4417,   99.700,   21.454,   35.206,2,   35.202,2,  211.140,1,  222.910,2,    1.390,2,    0.040,2,    0.000,2,    0.060,2,    2.138,2,    1.199,2, -999.000,9, -999.000,9, -999.000,9
           NA,    P03E,     79,   1,-999.0,     -99,  2,20051112,0942,  24.2653, -143.3153,  4417,  150.500,   20.032,   35.065,2,   35.055,2,  197.320,1,  208.040,2,    1.760,2,    0.400,2,    0.200,2,    0.139,2,    2.251,2,    1.244,2, -999.000,9, -999.000,9, -999.000,9
           NA,    P03E,     79,   1,-999.0,     -99,  2,20051112,0942,  24.2653, -143.3153,  4417,  199.900,   16.766,   34.569,2,   34.549,2,  189.210,1,  200.390,2,    3.700,2,    3.820,2,    0.010,2,    0.380,2,    2.675,2,    1.407,2, -999.000,9, -999.000,9, -999.000,9
           NA,    P03E,     79,   1,-999.0,     -99,  2,20051112,0942,  24.2653, -143.3153,  4417,  249.800,   13.553,   34.215,2,   34.213,2,  197.990,1,  208.300,2,    6.780,2,    7.380,2,    0.000,2,    0.613,2,    3.088,6,    1.566,6, -999.000,9, -999.000,9, -999.000,9
           NA,    P03E,     79,   1,-999.0,     -99,  2,20051112,0942,  24.2653, -143.3153,  4417,  300.000,   11.368,   34.099,2,   34.103,2,  202.690,1,  213.120,2,   11.510,2,   11.650,2,    0.000,2,    0.886,2,    3.380,2,    1.689,2, -999.000,9, -999.000,9, -999.000,9
           NA,    P03E,     79,   1,-999.0,     -99,  2,20051112,0942,  24.2653, -143.3153,  4417,  399.600,    9.104,   34.078,2,   34.078,2,  172.940,1,  180.040,2,   25.620,2,   20.260,2,    0.000,2,    1.472,2,    3.180,2,    1.476,2, -999.000,9, -999.000,9, -999.000,9
           NA,    P03E,     79,   1,-999.0,     -99,  2,20051112,0942,  24.2653, -143.3153,  4417,  502.600,    6.670,   34.023,2,   34.024,6,  109.050,1,  113.910,2,   51.550,2,   31.260,2,    0.000,2,    2.260,2,    1.855,2,    0.797,2, -999.000,9, -999.000,9, -999.000,9
           NA,    P03E,     79,   1,-999.0,     -99,  2,20051112,0942,  24.2653, -143.3153,  4417,  601.800,    5.308,   34.083,2,   34.084,2,   53.010,1,   55.340,2,   76.960,2,   38.590,2,    0.000,2,    2.830,2,    0.582,2,    0.270,2, -999.000,9, -999.000,9, -999.000,9
           NA,    P03E,     79,   1,-999.0,     -99,  2,20051112,0942,  24.2653, -143.3153,  4417,  699.700,    4.732,   34.219,2,   34.221,2,   20.230,1,   21.100,2,   95.360,2,   42.500,2,    0.000,2,    3.138,2,    0.087,2,    0.045,2, -999.000,9, -999.000,9, -999.000,9
           NA,    P03E,     79,   1,-999.0,     -99,  2,20051112,0942,  24.2653, -143.3153,  4417,  798.800,    4.389,   34.325,2,   34.328,2,   16.180,1,   17.110,2,  105.070,2,   43.460,2,    0.000,2,    3.206,2,    0.014,6,    0.012,6, -999.000,9, -999.000,9, -999.000,9
           NA,    P03E,     79,   1,-999.0,     -99,  2,20051112,0942,  24.2653, -143.3153,  4417,  900.500,    4.165,   34.421,2,   34.422,2,   24.710,1,   25.930,2,  109.890,2,   43.260,2,    0.000,2,    3.165,2,    0.013,2,    0.008,2, -999.000,9, -999.000,9, -999.000,9
           NA,    P03E,     79,   1,-999.0,     -99,  2,20051112,0942,  24.2653, -143.3153,  4417, 1001.000,    3.953,   34.475,2,   34.474,6,   32.640,1,   34.260,2,  113.760,2,   42.980,2,    0.000,2,    3.145,2,    0.000,2,    0.000,2, -999.000,9, -999.000,9, -999.000,9
           NA,    P03E,     79,   1,-999.0,     -99,  2,20051112,0942,  24.2653, -143.3153,  4417, 1199.900,    3.549,   34.528,2,   34.528,2,   42.450,1,   44.850,2,  122.400,2,   42.820,2,    0.000,2,    3.124,2,    0.000,2,    0.009,2, -999.000,9, -999.000,9, -999.000,9
           NA,    P03E,     79,   1,-999.0,     -99,  2,20051112,0942,  24.2653, -143.3153,  4417, 1400.000,    3.129,   34.555,2,   34.555,2,   50.300,1,   53.020,2,  132.340,2,   42.510,2,    0.000,2,    3.085,2,    0.002,2,    0.000,2, -999.000,9, -999.000,9, -999.000,9
           NA,    P03E,     79,   1,-999.0,     -99,  2,20051112,0942,  24.2653, -143.3153,  4417, 1600.100,    2.723,   34.579,2,   34.579,2,   61.300,1,   64.870,2,  141.540,2,   41.660,2,    0.000,2,    3.012,2,    0.000,2,    0.001,2, -999.000,9, -999.000,9, -999.000,9
           NA,    P03E,     79,   1,-999.0,     -99,  2,20051112,0942,  24.2653, -143.3153,  4417, 1801.300,    2.409,   34.599,2,   34.599,2,   69.740,1,   73.790,2,  149.400,2,   41.330,2,    0.000,2,    2.963,2,    0.000,2,    0.000,2, -999.000,9, -999.000,9, -999.000,9
           NA,    P03E,     79,   1,-999.0,     -99,  2,20051112,0942,  24.2653, -143.3153,  4417, 2000.600,    2.147,   34.617,2,   34.617,6,   77.990,1,   82.820,2,  156.410,2,   40.760,2,    0.000,2,    2.918,2,    0.000,2,    0.000,2, -999.000,9, -999.000,9, -999.000,9
           NA,    P03E,     79,   1,-999.0,     -99,  2,20051112,0942,  24.2653, -143.3153,  4417, 2199.800,    1.944,   34.631,2,   34.631,2,   85.240,1,   90.580,2,  162.120,2,   40.380,2,    0.000,2,    2.872,2,    0.000,2,    0.002,2, -999.000,9, -999.000,9, -999.000,9
           NA,    P03E,     79,   1,-999.0,     -99,  2,20051112,0942,  24.2653, -143.3153,  4417, 2399.500,    1.777,   34.646,2,   34.646,2,   94.600,1,  100.490,2,  165.530,2,   39.600,2,    0.000,2,    2.815,2, -999.000,9, -999.000,9, -999.000,9, -999.000,9, -999.000,9
           NA,    P03E,     79,   1,-999.0,     -99,  2,20051112,0942,  24.2653, -143.3153,  4417, 2600.800,    1.673,   34.656,2,   34.656,2,  102.640,1,  109.040,2,  166.630,2,   39.080,2,    0.000,2,    2.764,2, -999.000,9, -999.000,9, -999.000,9, -999.000,9, -999.000,9
           NA,    P03E,     79,   1,-999.0,     -99,  2,20051112,0942,  24.2653, -143.3153,  4417, 2800.200,    1.601,   34.663,2,   34.663,6,  109.550,1,  116.330,2,  166.670,2,   38.720,2,    0.000,2,    2.725,2,    0.000,2,    0.005,2, -999.000,9, -999.000,9, -999.000,9
           NA,    P03E,     79,   1,-999.0,     -99,  2,20051112,0942,  24.2653, -143.3153,  4417, 3000.100,    1.546,   34.670,2,   34.670,2,  116.580,1,  123.690,2,  165.680,2,   38.210,2,    0.000,2,    2.689,2, -999.000,9, -999.000,9, -999.000,9, -999.000,9, -999.000,9
           NA,    P03E,     79,   1,-999.0,     -99,  2,20051112,0942,  24.2653, -143.3153,  4417, 3249.300,    1.504,   34.676,2,   34.676,2,  124.160,1,  131.560,2,  163.820,2,   37.630,2,    0.000,2,    2.636,2,    0.000,2,    0.002,2, -999.000,9, -999.000,9, -999.000,9
           NA,    P03E,     79,   1,-999.0,     -99,  2,20051112,0942,  24.2653, -143.3153,  4417, 3501.900,    1.479,   34.680,2,   34.681,2,  130.150,1,  137.570,2,  161.860,2,   37.270,2,    0.000,2,    2.607,2, -999.000,9, -999.000,9, -999.000,9, -999.000,9, -999.000,9
           NA,    P03E,     79,   1,-999.0,     -99,  2,20051112,0942,  24.2653, -143.3153,  4417, 3750.800,    1.469,   34.684,2,   34.684,6,  135.200,1,  142.670,2,  159.610,2,   36.850,2,    0.000,2,    2.589,2,    0.000,2,    0.009,2, -999.000,9, -999.000,9, -999.000,9
           NA,    P03E,     79,   1,-999.0,     -99,  2,20051112,0942,  24.2653, -143.3153,  4417, 4002.100,    1.465,   34.687,2,   34.687,2,  140.350,1,  147.340,2,  156.800,2,   36.610,2,    0.000,2,    2.560,2, -999.000,9, -999.000,9, -999.000,9, -999.000,9, -999.000,9
           NA,    P03E,     79,   1,-999.0,     -99,  2,20051112,0942,  24.2653, -143.3153,  4417, 4250.500,    1.477,   34.688,2,   34.688,2,  143.690,1,  150.260,2,  154.880,2,   36.350,2,    0.000,2,    2.541,2,    0.000,2,    0.014,2, -999.000,9, -999.000,9, -999.000,9
           NA,    P03E,     79,   1,-999.0,     -99,  2,20051112,0942,  24.2653, -143.3153,  4417, 4508.100,    1.499,   34.689,2,   34.689,6,  146.180,1,  151.610,2,  153.430,2,   36.360,2,    0.000,2,    2.537,2,    0.000,2,    0.004,2, -999.000,9, -999.000,9, -999.000,9
           NA,    P03E,     79,   1,-999.0,     -99,  2,20051112,0942,  24.2653, -143.3153,  4417, 4509.400,    1.500,   34.689,2,   34.689,2,  146.070,1,  151.830,2,  153.620,2,   36.390,2,    0.000,2,    2.534,2, -999.000,9, -999.000,9, -999.000,9, -999.000,9, -999.000,9
           NA,    P03E,     77,   1,-999.0,     -99,  2,20051112,0335,  24.2577, -142.5887,  4793,   10.600,   23.210,   35.154,2,   35.154,2,  203.700,1,  215.640,2,    1.240,2,    0.020,2,    0.000,2,    0.105,2,    1.801,2,    1.102,2, -999.000,9, 2001.400,2, 2317.200,2
           NA,    P03E,     77,   1,-999.0,     -99,  2,20051112,0335,  24.2577, -142.5887,  4793,   50.600,   23.220,   35.153,2,   35.157,2,  203.790,1,  215.550,2,    1.190,2,    0.030,2,    0.000,2,    0.110,2,    1.808,2,    1.095,2, -999.000,9, 2002.000,6, 2318.500,2
           NA,    P03E,     77,   1,-999.0,     -99,  2,20051112,0335,  24.2577, -142.5887,  4793,  100.700,   21.424,   35.203,2,   35.201,2,  210.200,1,  222.320,2,    1.440,2,    0.020,2,    0.000,2,    0.070,2,    2.050,2,    1.220,2, -999.000,9, 2016.700,2, 2315.600,6
           NA,    P03E,     77,   1,-999.0,     -99,  2,20051112,0335,  24.2577, -142.5887,  4793,  150.400,   19.777,   35.026,2,   35.025,2,  196.310,1,  207.280,2,    1.940,2,    0.700,2,    0.100,2,    0.152,2,    2.182,2,    1.290,2, -999.000,9, 2034.900,2, 2302.400,2
           NA,    P03E,     77,   1,-999.0,     -99,  2,20051112,0335,  24.2577, -142.5887,  4793,  200.600,   16.211,   34.499,2,   34.486,2,  190.740,1,  201.480,2,    4.160,2,    4.240,2,    0.010,2,    0.407,2,    2.568,2,    1.477,2, -999.000,9, 2049.400,2, 2268.200,2
           NA,    P03E,     77,   1,-999.0,     -99,  2,20051112,0335,  24.2577, -142.5887,  4793,  249.900,   12.774,   34.127,2,   34.125,2,  198.290,1,  208.650,2,    8.130,2,    8.670,2,    0.000,2,    0.709,2,    2.930,6,    1.650,6, -999.000,9, 2064.200,2, 2248.700,2
           NA,    P03E,     77,   1,-999.0,     -99,  2,20051112,0335,  24.2577, -142.5887,  4793,  300.800,   10.826,   34.083,2,   34.085,2,  195.010,1,  206.200,2,   13.970,2,   13.440,2,    0.000,2,    1.009,2,    3.094,2,    1.708,2, -999.000,9, 2091.100,2, 2250.800,2
           NA,    P03E,     77,   1,-999.0,     -99,  2,20051112,0335,  24.2577, -142.5887,  4793,  399.900,    8.688,   34.076,2,   34.077,2,  158.390,1,  166.260,2,   29.580,2,   22.220,2,    0.000,2,    1.615,2,    2.771,2,    1.420,2, -999.000,9, 2151.800,2, 2264.500,2
           NA,    P03E,     77,   1,-999.0,     -99,  2,20051112,0335,  24.2577, -142.5887,  4793,  500.500,    6.512,   34.018,2,   34.020,6,  107.880,1,  113.630,2,   53.010,2,   31.400,2,    0.000,2,    2.277,2,    1.738,2,    0.832,2, -999.000,9, 2220.000,2, 2278.300,2
           NA,    P03E,     77,   1,-999.0,     -99,  2,20051112,0335,  24.2577, -142.5887,  4793,  601.800,    5.266,   34.099,2,   34.099,2,   47.740,1,   50.030,2,   78.560,2,   39.140,2,    0.000,2,    2.861,2,    0.464,2,    0.246,2, -999.000,9, 2290.300,2, 2302.900,2
           NA,    P03E,     77,   1,-999.0,     -99,  2,20051112,0335,  24.2577, -142.5887,  4793,  698.200,    4.712,   34.215,2,   34.217,2,   20.700,1,   21.580,2,   95.510,2,   42.250,2,    0.000,2,    3.127,2,    0.087,2,    0.052,2, -999.000,9, 2326.400,6, 2326.000,2
           NA,    P03E,     77,   1,-999.0,     -99,  2,20051112,0335,  24.2577, -142.5887,  4793,  799.800,    4.374,   34.338,2,   34.338,2,   16.710,1,   17.550,2,  105.430,2,   43.210,2,    0.000,2,    3.202,2,    0.016,6,    0.011,6, -999.000,9, 2344.500,2, 2344.800,6
           NA,    P03E,     77,   1,-999.0,     -99,  2,20051112,0335,  24.2577, -142.5887,  4793,  900.000,    4.261,   34.445,2,   34.445,2,   27.380,1,   28.840,2,  107.360,2,   42.990,2,    0.000,2,    3.149,2,    0.005,2,    0.003,2, -999.000,9, 2344.700,2, 2359.700,2
           NA,    P03E,     77,   1,-999.0,     -99,  2,20051112,0335,  24.2577, -142.5887,  4793, 1000.900,    4.007,   34.488,2,   34.488,6,   34.670,1,   36.430,2,  112.170,2,   42.820,2,    0.000,2,    3.134,2,    0.002,2,    0.002,2, -999.000,9, 2346.400,2, 2365.200,2
           NA,    P03E,     77,   1,-999.0,     -99,  2,20051112,0335,  24.2577, -142.5887,  4793, 1200.200,    3.541,   34.528,2,   34.528,2,   42.820,1,   45.250,2,  122.250,2,   42.630,2,    0.000,2,    3.111,2,    0.000,2,    0.000,2, -999.000,9, 2355.000,2, 2376.900,2
           NA,    P03E,     77,   1,-999.0,     -99,  2,20051112,0335,  24.2577, -142.5887,  4793, 1402.000,    3.089,   34.557,2,   34.557,2,   51.080,1,   54.030,2,  133.000,2,   42.320,2,    0.000,2,    3.073,2,    0.000,2,    0.000,2, -999.000,9, 2359.300,2, 2389.600,2
           NA,    P03E,     77,   1,-999.0,     -99,  2,20051112,0335,  24.2577, -142.5887,  4793, 1599.100,    2.711,   34.582,2,   34.583,2,   58.420,1,   61.780,2,  142.930,2,   42.000,2,   -0.010,2,    3.033,2,    0.002,2,    0.004,2, -999.000,9, 2364.600,2, 2399.700,2
           NA,    P03E,     77,   1,-999.0,     -99,  2,20051112,0335,  24.2577, -142.5887,  4793, 1801.900,    2.368,   34.606,2,   34.606,2,   68.980,1,   73.250,2,  151.140,2,   41.300,2,    0.000,2,    2.968,2,    0.001,2,    0.001,2, -999.000,9, 2365.300,2, 2406.200,2
           NA,    P03E,     77,   1,-999.0,     -99,  2,20051112,0335,  24.2577, -142.5887,  4793, 2001.000,    2.122,   34.620,2,   34.620,6,   78.330,1,   83.130,2,  157.160,2,   40.650,2,    0.000,2,    2.903,2,    0.000,2,    0.000,2, -999.000,9, 2363.800,2, 2413.000,2
           NA,    P03E,     77,   1,-999.0,     -99,  2,20051112,0335,  24.2577, -142.5887,  4793, 2200.000,    1.928,   34.634,2,   34.634,2,   86.510,1,   92.150,2,  161.770,2,   40.120,2,    0.000,2,    2.855,2,    0.002,2,    0.004,2, -999.000,9, 2362.700,2, 2417.800,2
           NA,    P03E,     77,   1,-999.0,     -99,  2,20051112,0335,  24.2577, -142.5887,  4793, 2401.000,    1.793,   34.645,2,   34.646,2,   94.000,1,  100.100,2,  164.620,2,   39.640,2,    0.000,2,    2.806,2, -999.000,9, -999.000,9, -999.000,9, 2360.400,6, 2423.900,2
           NA,    P03E,     77,   1,-999.0,     -99,  2,20051112,0335,  24.2577, -142.5887,  4793, 2601.000,    1.699,   34.654,2,   34.654,2,  100.500,1,  106.980,2,  166.030,2,   39.170,2,    0.000,2,    2.769,2,    0.000,2,    0.000,2, -999.000,9, 2357.600,2, 2424.400,6
           NA,    P03E,     77,   1,-999.0,     -99,  2,20051112,0335,  24.2577, -142.5887,  4793, 2802.100,    1.604,   34.663,2,   34.663,2,  108.740,1,  115.900,2,  166.860,2,   38.590,2,    0.000,2,    2.722,2, -999.000,9, -999.000,9, -999.000,9, 2352.600,2, 2424.000,2
           NA,    P03E,     77,   1,-999.0,     -99,  2,20051112,0335,  24.2577, -142.5887,  4793, 3000.200,    1.551,   34.669,2,   34.670,2,  115.590,1,  123.040,2,  166.020,2,   38.240,2,    0.000,2,    2.683,2,    0.001,2,    0.000,2, -999.000,9, 2348.900,2, 2425.900,2
           NA,    P03E,     77,   1,-999.0,     -99,  2,20051112,0335,  24.2577, -142.5887,  4793, 3251.200,    1.503,   34.676,2,   34.676,6,  123.360,1,  131.280,2,  163.230,2,   37.610,2,    0.000,2,    2.626,2, -999.000,9, -999.000,9, -999.000,9, 2344.000,2, 2424.400,2
           NA,    P03E,     77,   1,-999.0,     -99,  2,20051112,0335,  24.2577, -142.5887,  4793, 3500.900,    1.479,   34.681,2,   34.681,2,  129.630,1,  137.560,2,  161.600,2,   37.170,2,    0.000,2,    2.602,2,    0.000,2,    0.000,2, -999.000,9, 2338.600,2, 2423.300,2
           NA,    P03E,     77,   1,-999.0,     -99,  2,20051112,0335,  24.2577, -142.5887,  4793, 3751.100,    1.473,   34.683,2,   34.683,2,  133.930,1,  141.890,2,  159.840,2,   36.930,2,    0.000,2,    2.575,2, -999.000,9, -999.000,9, -999.000,9, 2335.500,2, -999.000,3
           NA,    P03E,     77,   1,-999.0,     -99,  5,20051112,0335,  24.2577, -142.5887,  4793, 3999.900,    1.470,   34.686,2,   34.686,2,  138.710,1,  146.470,2,  157.070,2,   36.580,2,    0.000,2,    2.550,2,    0.005,2,    0.007,2, -999.000,9, 2330.800,2, 2421.900,2
           NA,    P03E,     77,   1,-999.0,     -99,  2,20051112,0335,  24.2577, -142.5887,  4793, 4251.600,    1.481,   34.688,2,   34.688,6,  142.090,1,  149.660,2,  155.350,2,   36.290,2,    0.000,2,    2.530,2, -999.000,9, -999.000,9, -999.000,9, 2328.800,6, 2418.800,2
           NA,    P03E,     77,   1,-999.0,     -99,  2,20051112,0335,  24.2577, -142.5887,  4793, 4500.700,    1.498,   34.689,2,   34.689,2,  144.940,1,  151.790,2,  153.600,2,   36.210,2,    0.000,2,    2.516,2,    0.007,2,    0.010,2, -999.000,9, 2326.700,2, 2420.000,6
           NA,    P03E,     77,   1,-999.0,     -99,  2,20051112,0335,  24.2577, -142.5887,  4793, 4750.900,    1.492,   34.691,2,   34.692,2,  151.270,1,  157.540,2,  148.540,2,   35.800,2,    0.000,2,    2.494,2, -999.000,9, -999.000,9, -999.000,9, 2321.600,2, 2414.100,2
           NA,    P03E,     77,   1,-999.0,     -99,  2,20051112,0335,  24.2577, -142.5887,  4793, 4855.000,    1.489,   34.692,2,   34.693,6,  154.340,1,  160.090,2,  146.730,2,   35.550,2,    0.000,2,    2.488,2,    0.001,2,    0.003,2, -999.000,9, 2316.500,2, 2411.500,2
           NA,    P03E,     77,   1,-999.0,     -99,  2,20051112,0335,  24.2577, -142.5887,  4793, 4855.400,    1.489,   34.692,2,   34.693,2,  154.260,1,  160.220,2,  146.660,2,   35.570,2,    0.000,2,    2.480,2, -999.000,9, -999.000,9, -999.000,9, 2316.300,2, 2417.200,2