BOTTLE,20211903JOAExport
EXPOCODE,SECT_ID,STNNBR,CASTNO,SAMPNO,BTLNBR,BTLNBR_FLAG_W,DATE,TIME,LATITUDE,LONGITUDE,DEPTH,CTDPRS,CTDTMP,CTDSAL,CTDSAL_FLAG_W,SALNTY,SALNTY_FLAG_W,CTDOXY,CTDOXY_FLAG_W,OXYGEN,OXYGEN_FLAG_W,SILCAT,SILCAT_FLAG_W,NITRAT,NITRAT_FLAG_W,NITRIT,NITRIT_FLAG_W,PHSPHT,PHSPHT_FLAG_W,CFC-11,CFC-11_FLAG_W,CFC-12,CFC-12_FLAG_W,SF6,SF6_FLAG_W,TCARBN,TCARBN_FLAG_W,ALKALI,ALKALI_FLAG_W
,,,,,,,,,,,,DB,ITS-90,PSS-78,,PSS-78,,UMOL/KG,,UMOL/KG,,UMOL/KG,,UMOL/KG,,UMOL/KG,,UMOL/KG,,PMOL/KG,,PMOL/KG,,FMOL/KG,,UMOL/KG,,UMOL/KG
           NA,    P03W,    382,  99,-999.0,     -99,  2,20060121,0206,  27.0740,  125.9760,   835,    9.200,   23.466,   34.523,2,   34.523,2,  191.870,1,  211.990,2, -999.000,9, -999.000,9, -999.000,9, -999.000,9, -999.000,9, -999.000,9, -999.000,9, -999.000,9, -999.000,9
           NA,    P03W,    382,  99,-999.0,     -99,  2,20060121,0206,  27.0740,  125.9760,   835,    9.600,   22.973,   34.592,2,   34.593,2,  197.350,1,  215.340,2,    1.210,2,    0.060,2,    0.050,2,    0.062,2,    1.730,2,    1.011,2, -999.000,9, 1952.800,2, 2271.300,2
           NA,    P03W,    382,  99,-999.0,     -99,  2,20060121,0206,  27.0740,  125.9760,   835,   24.300,   23.472,   34.523,2,   34.523,2,  191.990,1,  212.090,2, -999.000,9, -999.000,9, -999.000,9, -999.000,9, -999.000,9, -999.000,9, -999.000,9, -999.000,9, -999.000,9
           NA,    P03W,    382,  99,-999.0,     -99,  2,20060121,0206,  27.0740,  125.9760,   835,   24.800,   22.970,   34.592,2,   34.593,2,  197.110,1,  215.180,2,    1.180,2,    0.080,2,    0.050,2,    0.063,2,    1.731,2,    1.009,2, -999.000,9, 1953.800,2, 2275.000,2
           NA,    P03W,    382,  99,-999.0,     -99,  2,20060121,0206,  27.0740,  125.9760,   835,   49.200,   23.477,   34.523,2,   34.524,2,  191.780,1,  212.000,2, -999.000,9, -999.000,9, -999.000,9, -999.000,9, -999.000,9, -999.000,9, -999.000,9, -999.000,9, -999.000,9
           NA,    P03W,    382,  99,-999.0,     -99,  2,20060121,0206,  27.0740,  125.9760,   835,   49.600,   22.910,   34.604,2,   34.605,2,  195.750,1,  213.790,2,    1.340,2,    0.140,2,    0.100,2,    0.070,2,    1.740,2,    1.007,2, -999.000,9, 1955.700,6, 2275.300,2
           NA,    P03W,    382,  99,-999.0,     -99,  2,20060121,0206,  27.0740,  125.9760,   835,   74.600,   23.441,   34.537,2,   34.538,2,  191.460,1,  211.810,2, -999.000,9, -999.000,9, -999.000,9, -999.000,9, -999.000,9, -999.000,9, -999.000,9, -999.000,9, -999.000,9
           NA,    P03W,    382,  99,-999.0,     -99,  2,20060121,0206,  27.0740,  125.9760,   835,   75.600,   22.739,   34.632,2,   34.633,2,  193.870,1,  211.860,2,    1.670,2,    0.380,2,    0.250,2,    0.096,2,    1.745,2,    1.018,2, -999.000,9, 1961.100,2, 2276.000,2
           NA,    P03W,    382,  99,-999.0,     -99,  2,20060121,0206,  27.0740,  125.9760,   835,   99.700,   23.103,   34.610,2,   34.611,2,  181.400,1,  200.810,2, -999.000,9, -999.000,9, -999.000,9, -999.000,9, -999.000,9, -999.000,9, -999.000,9, -999.000,9, -999.000,9
           NA,    P03W,    382,  99,-999.0,     -99,  2,20060121,0206,  27.0740,  125.9760,   835,  100.400,   22.499,   34.644,2,   34.650,2,  188.260,1,  205.570,2,    2.300,2,    1.010,2,    0.300,2,    0.135,2,    1.758,2,    1.019,2, -999.000,9, 1970.200,2, 2275.600,6
           NA,    P03W,    382,  99,-999.0,     -99,  2,20060121,0206,  27.0740,  125.9760,   835,  150.100,   21.010,   34.612,2,   34.609,2,  183.630,1,  203.490,2, -999.000,9, -999.000,9, -999.000,9, -999.000,9, -999.000,9, -999.000,9, -999.000,9, -999.000,9, -999.000,9
           NA,    P03W,    382,  99,-999.0,     -99,  2,20060121,0206,  27.0740,  125.9760,   835,  150.700,   21.344,   34.736,2,   34.738,2,  172.470,1,  188.450,2,    4.250,2,    3.300,2,    0.060,2,    0.281,2,    1.850,2,    1.070,2, -999.000,9, 2003.700,2, 2284.200,2
           NA,    P03W,    382,  99,-999.0,     -99,  2,20060121,0206,  27.0740,  125.9760,   835,  200.200,   16.957,   34.619,2,   34.622,2,  156.770,1,  170.560,2,   14.970,2,   10.060,2,    0.030,2,    0.754,2,    1.913,2,    1.054,2, -999.000,9, 2066.300,2, 2285.500,2
           NA,    P03W,    382,  99,-999.0,     -99,  2,20060121,0206,  27.0740,  125.9760,   835,  200.800,   19.168,   34.710,2,   34.712,2,  166.850,1,  184.380,2, -999.000,9, -999.000,9, -999.000,9, -999.000,9, -999.000,9, -999.000,9, -999.000,9, -999.000,9, -999.000,9
           NA,    P03W,    382,  99,-999.0,     -99,  2,20060121,0206,  27.0740,  125.9760,   835,  249.900,   13.917,   34.540,2,   34.543,2,  140.930,1,  155.290,2, -999.000,9, -999.000,9, -999.000,9, -999.000,9, -999.000,9, -999.000,9, -999.000,9, -999.000,9, -999.000,9
           NA,    P03W,    382,  99,-999.0,     -99,  2,20060121,0206,  27.0740,  125.9760,   835,  250.300,   13.689,   34.536,2,   34.537,2,  143.360,1,  156.050,2,   23.780,2,   15.270,2,    0.010,2,    1.127,2,    1.905,6,    1.011,6, -999.000,9, 2113.500,2, 2289.500,2
           NA,    P03W,    382,  99,-999.0,     -99,  2,20060121,0206,  27.0740,  125.9760,   835,  300.100,   12.079,   34.465,2,   34.467,2,  131.290,1,  144.160,2, -999.000,9, -999.000,9, -999.000,9, -999.000,9, -999.000,9, -999.000,9, -999.000,9, -999.000,9, -999.000,9
           NA,    P03W,    382,  99,-999.0,     -99,  2,20060121,0206,  27.0740,  125.9760,   835,  301.200,   11.473,   34.430,2,   34.433,2,  129.630,1,  141.570,2,   33.440,2,   20.010,2,    0.010,2,    1.472,2,    1.734,2,    0.886,2, -999.000,9, 2150.500,2, 2290.700,2
           NA,    P03W,    382,  99,-999.0,     -99,  2,20060121,0206,  27.0740,  125.9760,   835,  398.800,    8.926,   34.334,2,   34.334,2,  105.570,1,  115.320,2, -999.000,9, -999.000,9, -999.000,9, -999.000,9, -999.000,9, -999.000,9, -999.000,9, -999.000,9, -999.000,9
           NA,    P03W,    382,  99,-999.0,     -99,  2,20060121,0206,  27.0740,  125.9760,   835,  399.700,    9.046,   34.333,2,   34.333,2,  110.570,1,  119.650,2,   47.390,2,   26.040,2,    0.010,2,    1.915,2,    1.364,2,    0.681,2, -999.000,9, 2195.900,2, 2297.300,2
           NA,    P03W,    382,  99,-999.0,     -99,  2,20060121,0206,  27.0740,  125.9760,   835,  501.600,    7.607,   34.309,2,   34.310,6,   99.670,1,  109.010,2, -999.000,9, -999.000,9, -999.000,9, -999.000,9, -999.000,9, -999.000,9, -999.000,9, -999.000,9, -999.000,9
           NA,    P03W,    382,  99,-999.0,     -99,  2,20060121,0206,  27.0740,  125.9760,   835,  502.300,    7.531,   34.312,2,   34.311,6,   99.890,1,  108.460,2,   63.760,2,   29.610,2,    0.000,2,    2.166,2,    1.087,2,    0.544,2, -999.000,9, 2229.100,2, 2311.700,2
           NA,    P03W,    382,  99,-999.0,     -99,  2,20060121,0206,  27.0740,  125.9760,   835,  599.000,    6.129,   34.290,2,   34.289,2,   84.720,1,   91.410,2,   79.110,2,   33.460,2,    0.000,2,    2.449,2,    0.778,2,    0.381,2, -999.000,9, 2261.200,2, 2323.100,2
           NA,    P03W,    382,  99,-999.0,     -99,  2,20060121,0206,  27.0740,  125.9760,   835,  599.700,    6.172,   34.279,2,   34.279,2,   84.550,1,   92.090,2, -999.000,9, -999.000,9, -999.000,9, -999.000,9, -999.000,9, -999.000,9, -999.000,9, -999.000,9, -999.000,9
           NA,    P03W,    382,  99,-999.0,     -99,  2,20060121,0206,  27.0740,  125.9760,   835,  698.100,    5.657,   34.349,2,   34.349,2,   79.170,1,   85.460,2,   89.480,2,   34.780,2,    0.010,2,    2.535,2,    0.575,2,    0.287,2, -999.000,9, 2281.700,6, 2337.400,2
           NA,    P03W,    382,  99,-999.0,     -99,  2,20060121,0206,  27.0740,  125.9760,   835,  699.600,    5.655,   34.337,2,   34.337,2,   78.530,1,   85.580,2, -999.000,9, -999.000,9, -999.000,9, -999.000,9, -999.000,9, -999.000,9, -999.000,9, -999.000,9, -999.000,9
           NA,    P03W,    382,  99,-999.0,     -99,  2,20060121,0206,  27.0740,  125.9760,   835,  798.700,    5.354,   34.372,2,   34.372,2,   75.780,1,   82.540,2, -999.000,9, -999.000,9, -999.000,9, -999.000,9, -999.000,9, -999.000,9, -999.000,9, -999.000,9, -999.000,9
           NA,    P03W,    382,  99,-999.0,     -99,  2,20060121,0206,  27.0740,  125.9760,   835,  799.600,    5.267,   34.376,2,   34.376,2,   75.630,1,   81.410,2,   96.200,2,   35.760,2,    0.010,2,    2.609,2,    0.459,6,    0.229,6, -999.000,9, 2294.700,2, 2344.900,6
           NA,    P03W,    382,  99,-999.0,     -99,  2,20060121,0206,  27.0740,  125.9760,   835,  800.200,    5.278,   34.375,2,   34.375,2,   75.710,1,   81.640,2, -999.000,9, -999.000,9, -999.000,9, -999.000,9, -999.000,9, -999.000,9, -999.000,9, -999.000,9, -999.000,9
           NA,    P03W,    382,  99,-999.0,     -99,  2,20060121,0206,  27.0740,  125.9760,   835,  825.900,    5.196,   34.380,2,   34.380,6,   74.660,1,   80.980,2, -999.000,9, -999.000,9, -999.000,9, -999.000,9, -999.000,9, -999.000,9, -999.000,9, -999.000,9, -999.000,9
           NA,    P03W,    382,  99,-999.0,     -99,  2,20060121,0206,  27.0740,  125.9760,   835,  837.700,    5.109,   34.384,2,   34.384,6,   74.650,1,   80.180,2,   98.570,2,   35.980,2,    0.000,2,    2.626,2,    0.425,2,    0.209,2, -999.000,9, 2298.400,2, 2347.100,2
           NA,    P03W,    380,   1,-999.0,     -99,  2,20060120,2248,  26.9698,  126.0823,  1355,   10.100,   23.457,   34.542,2,   34.543,2,  194.260,1,  212.660,2,    1.240,2,    0.080,2,    0.080,2,    0.065,2,    1.698,2,    0.987,2, -999.000,9, 1947.600,2, 2269.600,2
           NA,    P03W,    380,   1,-999.0,     -99,  2,20060120,2248,  26.9698,  126.0823,  1355,   25.300,   23.461,   34.542,2,   34.542,2,  194.230,1,  212.240,2,    1.280,2,    0.080,2,    0.080,2,    0.071,2,    1.707,2,    0.996,2, -999.000,9, 1948.500,2, 2270.800,2
           NA,    P03W,    380,   1,-999.0,     -99,  2,20060120,2248,  26.9698,  126.0823,  1355,   51.000,   23.469,   34.543,2,   34.543,2,  193.980,1,  212.160,2,    1.240,2,    0.090,2,    0.080,2,    0.067,2,    1.704,2,    1.010,2, -999.000,9, 1950.000,6, 2271.400,2
           NA,    P03W,    380,   1,-999.0,     -99,  2,20060120,2248,  26.9698,  126.0823,  1355,   74.200,   23.253,   34.591,2,   34.591,2,  188.710,1,  206.230,2,    1.830,2,    0.570,2,    0.300,2,    0.109,2,    1.716,2,    1.004,2, -999.000,9, 1959.800,2, 2271.800,2
           NA,    P03W,    380,   1,-999.0,     -99,  2,20060120,2248,  26.9698,  126.0823,  1355,   99.700,   22.868,   34.630,2,   34.630,2,  191.650,1,  209.530,2,    1.710,2,    0.400,2,    0.330,2,    0.099,2,    1.739,2,    1.020,2, -999.000,9, 1960.900,2, 2274.700,6
           NA,    P03W,    380,   1,-999.0,     -99,  2,20060120,2248,  26.9698,  126.0823,  1355,  149.900,   21.326,   34.679,2,   34.684,2,  170.470,1,  186.780,2,    4.980,2,    3.790,2,    0.050,2,    0.318,2,    1.836,2,    1.053,2, -999.000,9, 2003.600,2, 2278.300,2
           NA,    P03W,    380,   1,-999.0,     -99,  2,20060120,2248,  26.9698,  126.0823,  1355,  200.300,   19.168,   34.789,2,   34.790,2,  167.460,1,  182.900,2,    5.880,2,    5.340,2,    0.020,2,    0.416,2,    1.997,2,    1.134,2, -999.000,9, 2034.300,2, 2285.700,2
           NA,    P03W,    380,   1,-999.0,     -99,  2,20060120,2248,  26.9698,  126.0823,  1355,  250.000,   16.839,   34.685,2,   34.686,2,  160.930,1,  175.640,2,   11.380,2,    8.930,2,    0.010,2,    0.666,2,    2.025,6,    1.131,6, -999.000,9, 2064.000,2, 2284.300,2
           NA,    P03W,    380,   1,-999.0,     -99,  2,20060120,2248,  26.9698,  126.0823,  1355,  297.800,   13.941,   34.543,2,   34.546,2,  146.310,1,  159.030,2,   21.840,2,   14.610,2,    0.010,2,    1.074,2,    1.943,2,    1.040,2, -999.000,9, 2108.300,2, 2285.700,2
           NA,    P03W,    380,   1,-999.0,     -99,  2,20060120,2248,  26.9698,  126.0823,  1355,  401.300,    9.699,   34.356,2,   34.360,2,  115.180,1,  124.580,2,   42.800,2,   24.540,2,    0.010,2,    1.790,2,    1.465,2,    0.734,2, -999.000,9, 2184.300,2, 2293.700,2
           NA,    P03W,    380,   1,-999.0,     -99,  2,20060120,2248,  26.9698,  126.0823,  1355,  500.200,    8.270,   34.321,2,   34.324,6,  104.610,1,  112.980,2,   55.960,2,   28.040,2,    0.000,2,    2.044,2,    1.207,2,    0.599,2, -999.000,9, 2214.400,2, 2302.500,2
           NA,    P03W,    380,   1,-999.0,     -99,  2,20060120,2248,  26.9698,  126.0823,  1355,  599.300,    6.783,   34.322,2,   34.323,2,   91.900,1,   99.270,2,   73.980,2,   31.740,2,    0.000,2,    2.312,2,    0.886,2,    0.445,2, -999.000,9, 2251.600,2, 2322.400,2
           NA,    P03W,    380,   1,-999.0,     -99,  2,20060120,2248,  26.9698,  126.0823,  1355,  699.600,    5.648,   34.347,2,   34.347,2,   78.580,1,   84.900,2,   89.430,2,   35.000,2,    0.000,2,    2.538,2,    0.535,2,    0.264,2, -999.000,9, 2282.600,6, 2335.700,2
           NA,    P03W,    380,   1,-999.0,     -99,  2,20060120,2248,  26.9698,  126.0823,  1355,  800.400,    5.264,   34.369,2,   34.369,2,   75.000,1,   81.020,2,   95.800,2,   35.890,2,    0.010,2,    2.606,2,    0.458,6,    0.231,6, -999.000,9, 2293.500,2, 2346.100,6
           NA,    P03W,    380,   1,-999.0,     -99,  2,20060120,2248,  26.9698,  126.0823,  1355,  903.500,    4.947,   34.395,2,   34.396,2,   73.070,1,   78.720,2,  101.740,2,   36.470,2,    0.000,2,    2.653,2,    0.369,2,    0.188,2, -999.000,9, 2302.800,2, 2351.400,2
           NA,    P03W,    380,   1,-999.0,     -99,  2,20060120,2248,  26.9698,  126.0823,  1355,  999.200,    4.555,   34.412,2,   34.412,6,   71.020,1,   76.550,2, -999.000,9, -999.000,9, -999.000,9, -999.000,9,    0.286,2,    0.145,2, -999.000,9, 2314.400,2, 2356.500,2
           NA,    P03W,    380,   1,-999.0,     -99,  4,20060120,2248,  26.9698,  126.0823,  1355,  999.300,    4.553,   34.412,2, -999.000,4,   70.980,1, -999.000,4, -999.000,4, -999.000,4, -999.000,4, -999.000,4, -999.000,9, -999.000,9, -999.000,9, -999.000,9, -999.000,9
           NA,    P03W,    380,   1,-999.0,     -99,  2,20060120,2248,  26.9698,  126.0823,  1355, 1201.100,    4.078,   34.438,2,   34.439,2,   70.050,1,   75.190,2,  114.450,2,   38.370,2,    0.000,2,    2.766,2,    0.188,2,    0.093,2, -999.000,9, 2321.200,2, 2364.400,2
           NA,    P03W,    380,   1,-999.0,     -99,  2,20060120,2248,  26.9698,  126.0823,  1355, 1353.300,    3.961,   34.449,2,   34.450,6,   70.430,1,   75.700,2,  116.760,2,   38.510,2,    0.000,2,    2.772,2,    0.173,2,    0.086,2, -999.000,9, 2326.600,2, 2369.000,2
           NA,    P03W,    378,   1,-999.0,     -99,  2,20060120,1935,  26.8913,  126.1863,  1534,   10.100,   23.189,   34.590,2,   34.591,2,  196.120,1,  214.370,2,    1.190,2,    0.050,2,    0.040,2,    0.056,2,    1.706,2,    1.000,2, -999.000,9, -999.000,9, -999.000,9
           NA,    P03W,    378,   1,-999.0,     -99,  2,20060120,1935,  26.8913,  126.1863,  1534,   23.900,   23.152,   34.599,2,   34.600,2,  196.310,1,  214.690,2,    1.180,2,    0.050,2,    0.040,2,    0.054,2,    1.703,2,    1.000,2, -999.000,9, -999.000,9, -999.000,9
           NA,    P03W,    378,   1,-999.0,     -99,  2,20060120,1935,  26.8913,  126.1863,  1534,   49.700,   22.781,   34.695,2,   34.695,2,  194.210,1,  212.320,2,    1.300,2,    0.150,2,    0.110,2,    0.060,2,    1.735,2,    1.024,2, -999.000,9, -999.000,9, -999.000,9
           NA,    P03W,    378,   1,-999.0,     -99,  2,20060120,1935,  26.8913,  126.1863,  1534,   76.000,   22.615,   34.705,2,   34.704,2,  193.220,1,  211.240,2,    1.420,2,    0.170,2,    0.240,2,    0.071,2,    1.745,2,    1.022,2, -999.000,9, -999.000,9, -999.000,9
           NA,    P03W,    378,   1,-999.0,     -99,  2,20060120,1935,  26.8913,  126.1863,  1534,   98.800,   22.398,   34.716,2,   34.716,2,  189.440,1,  207.720,2,    1.660,2,    0.610,2,    0.280,2,    0.101,2,    1.760,2,    1.032,2, -999.000,9, -999.000,9, -999.000,9
           NA,    P03W,    378,   1,-999.0,     -99,  2,20060120,1935,  26.8913,  126.1863,  1534,  149.300,   21.084,   34.843,2,   34.841,2,  173.340,1,  189.830,2,    2.840,2,    2.720,2,    0.030,2,    0.232,2,    1.929,2,    1.114,2, -999.000,9, -999.000,9, -999.000,9
           NA,    P03W,    378,   1,-999.0,     -99,  2,20060120,1935,  26.8913,  126.1863,  1534,  201.300,   18.609,   34.832,2,   34.833,2,  172.920,1,  188.950,2,    4.090,2,    4.730,2,    0.010,2,    0.356,2,    2.128,2,    1.196,2, -999.000,9, -999.000,9, -999.000,9
           NA,    P03W,    378,   1,-999.0,     -99,  2,20060120,1935,  26.8913,  126.1863,  1534,  249.300,   16.659,   34.710,2,   34.714,2,  172.400,1,  188.240,2,    6.770,2,    7.240,2,    0.010,2,    0.529,2,    2.270,6,    1.240,6, -999.000,9, -999.000,9, -999.000,9
           NA,    P03W,    378,   1,-999.0,     -99,  2,20060120,1935,  26.8913,  126.1863,  1534,  299.600,   15.361,   34.624,2,   34.625,2,  167.870,1,  182.620,2,   10.690,2,    9.780,2,    0.010,2,    0.708,2,    2.279,2,    1.208,2, -999.000,9, -999.000,9, -999.000,9
           NA,    P03W,    378,   1,-999.0,     -99,  2,20060120,1935,  26.8913,  126.1863,  1534,  400.700,   11.130,   34.403,2,   34.404,2,  130.520,1,  141.590,2,   33.250,2,   20.610,2,    0.010,2,    1.505,2,    1.783,2,    0.899,2, -999.000,9, -999.000,9, -999.000,9
           NA,    P03W,    378,   1,-999.0,     -99,  2,20060120,1935,  26.8913,  126.1863,  1534,  499.800,    9.013,   34.314,2,   34.315,6,  113.550,1,  122.860,2,   47.020,2, -999.000,3,    0.000,2,    1.894,2,    1.435,2,    0.706,2, -999.000,9, -999.000,9, -999.000,9
           NA,    P03W,    378,   1,-999.0,     -99,  2,20060120,1935,  26.8913,  126.1863,  1534,  599.600,    7.427,   34.315,2,   34.316,2,   97.340,1,  105.070,2,   66.010,2,   30.400,2,    0.000,2,    2.206,2,    1.040,2,    0.515,2, -999.000,9, -999.000,9, -999.000,9
           NA,    P03W,    378,   1,-999.0,     -99,  2,20060120,1935,  26.8913,  126.1863,  1534,  700.300,    5.815,   34.274,2,   34.275,2,   79.640,1,   86.000,2,   82.390,2,   34.910,2,    0.010,2,    2.530,2,    0.715,2,    0.346,2, -999.000,9, -999.000,9, -999.000,9
           NA,    P03W,    378,   1,-999.0,     -99,  2,20060120,1935,  26.8913,  126.1863,  1534,  799.400,    5.257,   34.379,2,   34.379,2,   75.960,1,   81.760,2,   96.640,2,   35.910,2,    0.000,2,    2.599,2,    0.468,6,    0.230,6, -999.000,9, -999.000,9, -999.000,9
           NA,    P03W,    378,   1,-999.0,     -99,  2,20060120,1935,  26.8913,  126.1863,  1534,  899.700,    4.785,   34.394,2,   34.393,2,   71.600,1,   76.960,2,  103.270,2,   37.120,2,    0.000,2,    2.687,2,    0.352,2,    0.172,2, -999.000,9, -999.000,9, -999.000,9
           NA,    P03W,    378,   1,-999.0,     -99,  2,20060120,1935,  26.8913,  126.1863,  1534, 1001.700,    4.458,   34.415,2,   34.415,6,   70.600,1,   75.990,2,  108.600,2,   37.750,2,    0.000,2,    2.729,2,    0.269,2,    0.130,2, -999.000,9, -999.000,9, -999.000,9
           NA,    P03W,    378,   1,-999.0,     -99,  2,20060120,1935,  26.8913,  126.1863,  1534, 1202.100,    4.072,   34.442,2,   34.442,2,   70.240,1,   75.390,2,  114.930,2,   38.500,2,    0.000,2,    2.770,2,    0.194,2,    0.096,2, -999.000,9, -999.000,9, -999.000,9
           NA,    P03W,    378,   1,-999.0,     -99,  2,20060120,1935,  26.8913,  126.1863,  1534, 1401.900,    3.871,   34.454,2,   34.454,2,   70.530,1,   75.500,2,  118.110,2,   38.750,2,    0.010,2,    2.788,2,    0.160,2,    0.079,2, -999.000,9, -999.000,9, -999.000,9
           NA,    P03W,    378,   1,-999.0,     -99,  2,20060120,1935,  26.8913,  126.1863,  1534, 1531.500,    3.812,   34.459,2,   34.459,6,   70.490,1,   76.170,2,  119.750,2,   38.810,2,    0.000,2,    2.800,2,    0.148,2,    0.074,2, -999.000,9, -999.000,9, -999.000,9