BOTTLE,20211903JOAExport
# Exported from JOA (5.5.0 Final September 29th, 2020) on 2021/11/03 11:19:10
#BOTTLE,20161116CCHSIORJL,,,,,,,,,,,,,,,,,,,,,,,,,,,,,,,,,,,,,,
#Change EXPOCODE from 49MR0505_3 to 49NZ20060120,,,,,,,,,,,,,,,,,,,,,,,,,,,,,,,,,,,,,,,
#Change SECT to SECT_ID,,,,,,,,,,,,,,,,,,,,,,,,,,,,,,,,,,,,,,,
#Change SECT_ID from P03 to P03W,,,,,,,,,,,,,,,,,,,,,,,,,,,,,,,,,,,,,,,
#Change DEPTH units from M to METERS,,,,,,,,,,,,,,,,,,,,,,,,,,,,,,,,,,,,,,,
#Change SIG0 units from KG/CUM to KG/M^3,,,,,,,,,,,,,,,,,,,,,,,,,,,,,,,,,,,,,,,
#BOTTLE,20100316JAMSTECRIGC,,,,,,,,,,,,,,,,,,,,,,,,,,,,,,,,,,,,,,
#Software_Version: whp_btl_exchange.rb_v2.1 (ogc_group),,,,,,,,,,,,,,,,,,,,,,,,,,,,,,,,,,,,,,,
#ORIGINAL_SUM_FILE: 49MR0505_3_sum.txt Sun Jan 29 14:01:04 +0900 2006,,,,,,,,,,,,,,,,,,,,,,,,,,,,,,,,,,,,,,,
#ORIGINAL_HYD_FILE: 49MR0505_3_sea.txt Tue Mar 16 12:18:03 +0900 2010,,,,,,,,,,,,,,,,,,,,,,,,,,,,,,,,,,,,,,,
#DEPTH_TYPE: COR,,,,,,,,,,,,,,,,,,,,,,,,,,,,,,,,,,,,,,,
#EVENT_CODE: BO,,,,,,,,,,,,,,,,,,,,,,,,,,,,,,,,,,,,,,,
#BOTTLE,20145722JOAExport
# Exported from JOA (5.2.1 December 4, 2013) on 2014/08/22 09:57:08
#BOTTLE,20140822CCHSIOMH
#BOTTLE,20100604CCHDOSIODBK
#code : Justin Fields merge_exchange.rb 
#original files copied from HTML directory: 2010-06-04
#original HYD file: /Users/danie/CLIVAR/a05_74di200404/74DI20040404_hy1.csv  2010-06-04
#2010.06.04  DBK
#Reformatting notes for carina cruise a05_74DI200404 bottle file, 
#submitted by Bob Key on 2009.01.27
#Following edits were made to exchange bottle file units header:
#-Edited DEGC to DEG C
#-Edited DBARS to DBAR
#-Edited PPM to UATM (for PCO2, as per Bob Key)
#Merged TIME (as zero) into bottle file using merge_exchange_bot.rb.
#original carina header:
#BOTTLE,20090109PRINUNIVRMKPRINUNIVRMK
# File Initialized 12/13/06 
# Ship: Discovery
# Cruise: 74DI279
# Cruise dates: 4/4-5/10/2004 
# EXPOCODE: 74DI20040404 
# Region: Atlantic zonal section at 24.5N; A05/AR01 
# Chief Scientist: S. Cunningham 
# 123 full depth stations;  with 24 place Rosette 
# Hydro: Who - H. Longworth; Status - final 
#       Notes: See Cunningham 2004a,b
#       Many apparent mistrips 
# Nuts/O2: Who - R. Sanders; Status - final 
#       Notes: 
# TCO2: Who - U. Schuster; Status - final 
#       Notes: CRM Batch 62; 66 analyses with mean of 2126.65+/-2.3umol/kg with certified value of 2126.46+/-0.56umol/kg. 
#       On-board replicates implied precision of 1.1umol/kg 
#       Carbon data from U. Schuster 11/2/06 
# TA: Who - U. Schuster; Status - final
#       Notes: RM Batch 62; 43 analyses with mean of 2337.8<B1>1.8<B5>mol/kg with certified value of 2338.2<B1>0.46<B5>mol/kg. 
#       On-board replicates implied precision of 1.1-1.5umol/kg
#       Due to analytical problems results from stations 73,75,77,79,81,83,85, and 87 rejected. 
# pCO2: Who - U. Schuster; Status - final  
#       Notes: reported @15C 
#       Underway data also collected 
#  CFC: Who - D.Willey;D.Cooper; Status - final 
#       Notes: includes CFC-113 and CCl4 
#       Estimated accuracy of 2% 
#       Data from Willey via CCHDO 4/28/08 
# Other: LADP, no data in file 
# References: 
# Cunningham, S.A., RRS Discovery Cruise 279, 04 APR - 10 MAY 2004: A transatlantic hydrographic section at 24.5<A1>N, pp. 150, Southampton Oceanography Centre, Southampton, 2005a. ,,,,,,,,,,,,,,,,,,,,,,,,,,,,,,,,
# Cunningham, S.A., RRS Discovery Cruises 277 (26 MAR - 16 APR 2004) and 278 (19 MAR - 30 MAR 2004): Monitoring the Atlantic Meridional Overturning Circulation at 26.5<A1>N, pp. 150, Southampton Oceanography Centre, Southamtpon, 2005b. ,,,,,,,,,,,,,,,,,,,,,,,,,,,,,,,,,
EXPOCODE,SECT_ID,STNNBR,CASTNO,SAMPNO,BTLNBR,BTLNBR_FLAG_W,DATE,TIME,LATITUDE,LONGITUDE,DEPTH,CTDPRS,CTDTMP,CTDSAL,CTDSAL_FLAG_W,SALNTY,SALNTY_FLAG_W,CTDOXY,CTDOXY_FLAG_W,OXYGEN,OXYGEN_FLAG_W,SILCAT,SILCAT_FLAG_W,NITRAT,NITRAT_FLAG_W,NITRIT,NITRIT_FLAG_W,PHSPHT,PHSPHT_FLAG_W,CFC-11,CFC-11_FLAG_W,CFC-12,CFC-12_FLAG_W,SF6,SF6_FLAG_W,TCARBN,TCARBN_FLAG_W,ALKALI,ALKALI_FLAG_W
,,,,,,,,,,,,DB,ITS-90,PSS-78,,PSS-78,,UMOL/KG,,UMOL/KG,,UMOL/KG,,UMOL/KG,,UMOL/KG,,UMOL/KG,,PMOL/KG,,PMOL/KG,,FMOL/KG,,UMOL/KG,,UMOL/KG
           NA,    P03W,    389,   1,-999.0,     -99,  2,20060122,0955,  28.0018,  124.9887,   103,    9.600,   17.124,   34.329,2,   34.328,2,  216.040,1,  237.730,2,    6.880,2,    3.910,2,    0.200,2,    0.330,2,    2.308,2,    1.287,2, -999.000,9, -999.000,9, -999.000,9
           NA,    P03W,    389,   1,-999.0,     -99,  2,20060122,0955,  28.0018,  124.9887,   103,   25.200,   17.128,   34.328,2,   34.327,2,  216.060,1,  237.620,2,    6.830,2,    3.870,2,    0.200,2,    0.331,2,    2.335,2,    1.303,2, -999.000,9, -999.000,9, -999.000,9
           NA,    P03W,    389,   1,-999.0,     -99,  2,20060122,0955,  28.0018,  124.9887,   103,   50.900,   17.138,   34.327,2,   34.327,2,  216.000,1,  237.590,2,    6.890,2,    3.890,2,    0.200,2,    0.334,2,    2.313,2,    1.288,2, -999.000,9, -999.000,9, -999.000,9
           NA,    P03W,    389,   1,-999.0,     -99,  2,20060122,0955,  28.0018,  124.9887,   103,   75.200,   17.149,   34.329,2,   34.330,2,  216.040,1,  237.520,2,    6.830,2,    3.890,2,    0.200,2,    0.330,2,    2.306,6,    1.293,6, -999.000,9, -999.000,9, -999.000,9
           NA,    P03W,    389,   1,-999.0,     -99,  2,20060122,0955,  28.0018,  124.9887,   103,   91.300,   17.124,   34.331,2,   34.332,6,  215.130,1,  236.470,2,    6.900,2,    4.000,2,    0.160,2,    0.342,2,    2.295,2,    1.278,2, -999.000,9, -999.000,9, -999.000,9
           NA,    P03W,    388,   1,-999.0,     -99,  2,20060122,0732,  27.7493,  125.2153,   111,   10.100,   17.304,   34.313,2,   34.313,2,  215.530,1,  236.990,2,    6.890,2,    4.020,2,    0.200,2,    0.336,2,    2.188,2,    1.260,2, -999.000,9, -999.000,9, -999.000,9
           NA,    P03W,    388,   1,-999.0,     -99,  2,20060122,0732,  27.7493,  125.2153,   111,   25.200,   17.313,   34.313,2,   34.312,2,  215.630,1,  237.010,2,    6.880,2,    3.960,2,    0.200,2,    0.331,2,    2.192,2,    1.270,2, -999.000,9, -999.000,9, -999.000,9
           NA,    P03W,    388,   1,-999.0,     -99,  2,20060122,0732,  27.7493,  125.2153,   111,   51.300,   17.322,   34.314,2,   34.314,2,  215.510,1,  236.890,2,    6.880,2,    3.990,2,    0.200,2,    0.342,2,    2.183,2,    1.260,2, -999.000,9, -999.000,9, -999.000,9
           NA,    P03W,    388,   1,-999.0,     -99,  2,20060122,0732,  27.7493,  125.2153,   111,   75.500,   17.314,   34.312,2,   34.312,2,  215.740,1,  236.930,2,    6.890,2,    3.980,2,    0.200,2,    0.333,2,    2.182,2,    1.281,2, -999.000,9, -999.000,9, -999.000,9
           NA,    P03W,    388,   1,-999.0,     -99,  2,20060122,0732,  27.7493,  125.2153,   111,   99.300,   17.282,   34.306,2,   34.305,6,  215.680,1,  236.770,2,    6.970,2,    4.070,2,    0.180,2,    0.338,2,    2.173,6,    1.268,6, -999.000,9, -999.000,9, -999.000,9
           NA,    P03W,    387,   1,-999.0,     -99,  2,20060122,0542,  27.6060,  125.4378,   117,   10.000,   19.926,   34.585,2,   34.585,2,  203.980,1,  224.680,2,    3.510,2,    1.710,2,    0.190,2,    0.190,2,    2.001,2,    1.128,2, -999.000,9, -999.000,9, -999.000,9
           NA,    P03W,    387,   1,-999.0,     -99,  2,20060122,0542,  27.6060,  125.4378,   117,   24.600,   19.910,   34.583,2,   34.582,2,  203.830,1,  224.670,2,    3.560,2,    1.720,2,    0.190,2,    0.191,2,    1.994,2,    1.131,2, -999.000,9, -999.000,9, -999.000,9
           NA,    P03W,    387,   1,-999.0,     -99,  2,20060122,0542,  27.6060,  125.4378,   117,   50.200,   18.359,   34.467,2,   34.467,2,  203.510,1,  223.770,2,    6.810,2,    4.150,2,    0.090,2,    0.345,2,    2.149,2,    1.209,2, -999.000,9, -999.000,9, -999.000,9
           NA,    P03W,    387,   1,-999.0,     -99,  2,20060122,0542,  27.6060,  125.4378,   117,   74.700,   18.296,   34.468,2,   34.467,2,  204.280,1,  224.720,2,    6.860,2,    4.100,2,    0.120,2,    0.344,2,    2.164,2,    1.216,2, -999.000,9, -999.000,9, -999.000,9
           NA,    P03W,    387,   1,-999.0,     -99,  2,20060122,0542,  27.6060,  125.4378,   117,  102.900,   18.238,   34.488,2,   34.487,6,  205.480,1,  225.870,2,    6.860,2,    3.850,2,    0.310,2,    0.345,2,    2.162,2,    1.221,2, -999.000,9, -999.000,9, -999.000,9
           NA,    P03W,    386,   1,-999.0,     -99,  2,20060122,0409,  27.4535,  125.5880,   121,    9.600,   20.602,   34.595,2,   34.596,2,  203.450,1,  224.490,2,    2.310,2,    0.890,2,    0.150,2,    0.150,2,    1.854,2,    1.097,2, -999.000,9, -999.000,9, -999.000,9
           NA,    P03W,    386,   1,-999.0,     -99,  2,20060122,0409,  27.4535,  125.5880,   121,   24.700,   20.599,   34.593,2,   34.595,2,  203.300,1,  224.320,2,    2.260,2,    0.870,2,    0.160,2,    0.152,2,    1.857,2,    1.094,2, -999.000,9, -999.000,9, -999.000,9
           NA,    P03W,    386,   1,-999.0,     -99,  2,20060122,0409,  27.4535,  125.5880,   121,   50.000,   19.037,   34.498,2,   34.498,2,  208.060,1,  229.040,2,    4.880,2,    2.500,2,    0.210,2,    0.266,2,    1.988,2,    1.179,2, -999.000,9, -999.000,9, -999.000,9
           NA,    P03W,    386,   1,-999.0,     -99,  2,20060122,0409,  27.4535,  125.5880,   121,   74.700,   18.454,   34.447,2,   34.448,2,  207.360,1,  227.940,2,    6.160,2,    3.570,2,    0.200,2,    0.323,2,    2.029,2,    1.199,2, -999.000,9, -999.000,9, -999.000,9
           NA,    P03W,    386,   1,-999.0,     -99,  2,20060122,0409,  27.4535,  125.5880,   121,   99.800,   18.249,   34.433,2,   34.433,2,  207.350,1,  227.930,2,    6.520,2,    3.910,2,    0.140,2,    0.342,2,    2.043,2,    1.211,2, -999.000,9, -999.000,9, -999.000,9
           NA,    P03W,    386,   1,-999.0,     -99,  2,20060122,0409,  27.4535,  125.5880,   121,  111.500,   18.236,   34.433,2,   34.433,6,  207.350,1,  227.760,2,    6.540,2,    3.920,2,    0.130,2,    0.342,2,    2.044,6,    1.211,6, -999.000,9, -999.000,9, -999.000,9
           NA,    P03W,    385,   1,-999.0,     -99,  2,20060122,0244,  27.3142,  125.7373,   144,    9.700,   22.635,   34.598,2,   34.599,2,  193.810,1,  213.970,2,    1.500,2,    0.300,2,    0.170,2,    0.099,2,    1.764,2,    1.029,2, -999.000,9, -999.000,9, -999.000,9
           NA,    P03W,    385,   1,-999.0,     -99,  2,20060122,0244,  27.3142,  125.7373,   144,   24.400,   22.650,   34.597,2,   34.597,2,  193.830,1,  213.610,2,    1.440,2,    0.300,2,    0.170,2,    0.095,2,    1.768,2,    1.017,2, -999.000,9, -999.000,9, -999.000,9
           NA,    P03W,    385,   1,-999.0,     -99,  2,20060122,0244,  27.3142,  125.7373,   144,   49.000,   20.898,   34.605,2,   34.605,2,  182.570,1,  201.070,2,    5.030,2,    3.160,2,    0.230,2,    0.294,2,    1.890,2,    1.068,2, -999.000,9, -999.000,9, -999.000,9
           NA,    P03W,    385,   1,-999.0,     -99,  2,20060122,0244,  27.3142,  125.7373,   144,   74.800,   20.058,   34.564,2,   34.564,2,  195.440,1,  215.200,2,    4.750,2,    2.720,2,    0.310,2,    0.270,2,    1.977,2,    1.117,2, -999.000,9, -999.000,9, -999.000,9
           NA,    P03W,    385,   1,-999.0,     -99,  2,20060122,0244,  27.3142,  125.7373,   144,   99.700,   19.365,   34.536,2,   34.537,2,  195.730,1,  215.160,2,    6.150,2,    3.810,2,    0.070,2,    0.333,2,    2.028,6,    1.144,6, -999.000,9, -999.000,9, -999.000,9
           NA,    P03W,    385,   1,-999.0,     -99,  2,20060122,0244,  27.3142,  125.7373,   144,  134.800,   18.798,   34.503,2,   34.502,6,  200.670,1,  220.210,2,    6.410,2,    3.920,2,    0.140,2,    0.338,2,    2.088,2,    1.160,2, -999.000,9, -999.000,9, -999.000,9
           NA,    P03W,    384,   1,-999.0,     -99,  2,20060122,0100,  27.1650,  125.8827,   303,   10.100,   22.993,   34.568,2,   34.569,2,  191.390,1,  211.550,2,    1.360,2,    0.290,2,    0.100,2,    0.089,2,    1.672,2,    1.010,2, -999.000,9, 1951.400,2, 2271.000,2
           NA,    P03W,    384,   1,-999.0,     -99,  2,20060122,0100,  27.1650,  125.8827,   303,   24.500,   23.010,   34.569,2,   34.569,2,  191.190,1,  211.140,2,    1.350,2,    0.310,2,    0.100,2,    0.091,2,    1.671,2,    1.015,2, -999.000,9, 1954.200,2, 2270.600,2
           NA,    P03W,    384,   1,-999.0,     -99,  2,20060122,0100,  27.1650,  125.8827,   303,   49.500,   23.008,   34.571,2,   34.576,2,  190.230,1,  210.480,2,    1.470,2,    0.440,2,    0.110,2,    0.099,2,    1.677,2,    1.015,2, -999.000,9, 1954.600,6, 2271.000,2
           NA,    P03W,    384,   1,-999.0,     -99,  2,20060122,0100,  27.1650,  125.8827,   303,   74.300,   22.538,   34.660,2,   34.661,2,  179.170,1,  198.080,2,    2.700,2,    1.750,2,    0.170,2,    0.182,2,    1.696,2,    1.023,2, -999.000,9, 1977.000,2, 2276.400,2
           NA,    P03W,    384,   1,-999.0,     -99,  2,20060122,0100,  27.1650,  125.8827,   303,  100.100,   21.771,   34.687,2,   34.681,2,  174.610,1,  193.360,2,    3.930,2,    2.830,2,    0.080,2,    0.253,2,    1.744,2,    1.040,2, -999.000,9, 1991.800,2, 2277.900,6
           NA,    P03W,    384,   1,-999.0,     -99,  2,20060122,0100,  27.1650,  125.8827,   303,  149.200,   19.201,   34.506,2,   34.508,2,  204.530,1,  225.400,2,    5.250,2,    2.800,2,    0.360,2,    0.282,2,    1.950,2,    1.166,2, -999.000,9, 1989.200,2, 2274.500,2
           NA,    P03W,    384,   1,-999.0,     -99,  2,20060122,0100,  27.1650,  125.8827,   303,  200.500,   17.219,   34.657,2,   34.666,2,  163.630,1,  180.460,2,   10.990,2,    8.260,2,    0.050,2,    0.632,2,    1.945,2,    1.119,2, -999.000,9, 2055.200,2, 2285.600,2
           NA,    P03W,    384,   1,-999.0,     -99,  2,20060122,0100,  27.1650,  125.8827,   303,  250.100,   12.954,   34.499,2,   34.499,2,  140.340,1,  153.920,2,   26.100,2,   16.470,2,    0.020,2,    1.224,2,    1.826,6,    0.994,6, -999.000,9, 2121.000,2, 2290.900,2
           NA,    P03W,    384,   1,-999.0,     -99,  2,20060122,0100,  27.1650,  125.8827,   303,  289.100,   11.147,   34.424,2,   34.422,6,  126.750,1,  138.250,2,   36.350,2,   20.870,2,    0.020,2,    1.534,2,    1.618,2,    0.857,2, -999.000,9, 2155.200,2, 2293.300,2