BOTTLE,20211903JOAExport
EXPOCODE,SECT_ID,STNNBR,CASTNO,SAMPNO,BTLNBR,BTLNBR_FLAG_W,DATE,TIME,LATITUDE,LONGITUDE,DEPTH,CTDPRS,CTDTMP,CTDSAL,CTDSAL_FLAG_W,SALNTY,SALNTY_FLAG_W,CTDOXY,CTDOXY_FLAG_W,OXYGEN,OXYGEN_FLAG_W,SILCAT,SILCAT_FLAG_W,NITRAT,NITRAT_FLAG_W,NITRIT,NITRIT_FLAG_W,PHSPHT,PHSPHT_FLAG_W,CFC-11,CFC-11_FLAG_W,CFC-12,CFC-12_FLAG_W,SF6,SF6_FLAG_W,TCARBN,TCARBN_FLAG_W,ALKALI,ALKALI_FLAG_W
,,,,,,,,,,,,DB,ITS-90,PSS-78,,PSS-78,,UMOL/KG,,UMOL/KG,,UMOL/KG,,UMOL/KG,,UMOL/KG,,UMOL/KG,,PMOL/KG,,PMOL/KG,,FMOL/KG,,UMOL/KG,,UMOL/KG
           NA,    P03E,     83,   1,-999.0,     -99,  2,20051112,2244,  24.2452, -144.8052,  5202,   10.900,   23.265,   35.178,2,   35.178,2,  203.730,1,  216.240,2,    1.030,2,    0.050,2,    0.000,2,    0.064,2,    1.794,2,    1.084,2, -999.000,9, -999.000,9, -999.000,9
           NA,    P03E,     83,   1,-999.0,     -99,  2,20051112,2244,  24.2452, -144.8052,  5202,   49.600,   23.197,   35.186,2,   35.188,2,  204.060,1,  216.520,2,    0.970,2,    0.040,2,    0.000,2,    0.061,2,    1.802,2,    1.096,2, -999.000,9, -999.000,9, -999.000,9
           NA,    P03E,     83,   1,-999.0,     -99,  2,20051112,2244,  24.2452, -144.8052,  5202,   99.100,   21.275,   35.192,2,   35.189,2,  207.790,1,  220.570,2,    1.280,2,    0.040,2,    0.000,2,    0.048,2,    2.043,2,    1.230,2, -999.000,9, -999.000,9, -999.000,9
           NA,    P03E,     83,   1,-999.0,     -99,  2,20051112,2244,  24.2452, -144.8052,  5202,  151.100,   19.384,   34.953,2,   34.950,2,  200.920,1,  212.740,2,    1.780,2,    0.420,2,    0.170,2,    0.122,2,    2.244,2,    1.318,2, -999.000,9, -999.000,9, -999.000,9
           NA,    P03E,     83,   1,-999.0,     -99,  2,20051112,2244,  24.2452, -144.8052,  5202,  200.000,   15.789,   34.429,2,   34.418,2,  194.290,1,  205.550,2,    4.240,2,    4.370,2,    0.010,2,    0.402,2,    2.637,2,    1.495,2, -999.000,9, -999.000,9, -999.000,9
           NA,    P03E,     83,   1,-999.0,     -99,  2,20051112,2244,  24.2452, -144.8052,  5202,  250.800,   12.309,   34.072,2,   34.072,2,  201.640,1,  212.930,2,    8.540,2,    9.190,2,    0.000,2,    0.723,2,    3.060,6,    1.651,6, -999.000,9, -999.000,9, -999.000,9
           NA,    P03E,     83,   1,-999.0,     -99,  2,20051112,2244,  24.2452, -144.8052,  5202,  301.900,   10.559,   34.053,2,   34.054,2,  193.340,1,  204.590,2,   14.880,2,   14.230,2,    0.000,2,    1.055,2,    3.188,2,    1.665,2, -999.000,9, -999.000,9, -999.000,9
           NA,    P03E,     83,   1,-999.0,     -99,  2,20051112,2244,  24.2452, -144.8052,  5202,  402.700,    8.155,   34.050,2,   34.051,2,  149.030,1,  157.340,2,   34.140,2,   24.400,2,    0.000,2,    1.743,2,    2.664,2,    1.300,2, -999.000,9, -999.000,9, -999.000,9
           NA,    P03E,     83,   1,-999.0,     -99,  2,20051112,2244,  24.2452, -144.8052,  5202,  502.100,    6.053,   34.017,2,   34.017,6,   94.830,1,  100.640,2,   59.950,2,   33.530,2,    0.000,2,    2.426,2,    1.423,2,    0.659,2, -999.000,9, -999.000,9, -999.000,9
           NA,    P03E,     83,   1,-999.0,     -99,  2,20051112,2244,  24.2452, -144.8052,  5202,  601.200,    4.961,   34.105,2,   34.104,2,   44.950,1,   48.500,2,   84.330,2,   39.800,2,    0.000,2,    2.901,2,    0.390,2,    0.195,2, -999.000,9, -999.000,9, -999.000,9
           NA,    P03E,     83,   1,-999.0,     -99,  2,20051112,2244,  24.2452, -144.8052,  5202,  700.900,    4.528,   34.256,2,   34.255,2,   17.430,1,   18.460,2,  100.420,2,   42.830,2,    0.000,2,    3.166,2,    0.040,2,    0.025,2, -999.000,9, -999.000,9, -999.000,9
           NA,    P03E,     83,   1,-999.0,     -99,  2,20051112,2244,  24.2452, -144.8052,  5202,  802.100,    4.342,   34.378,2,   34.377,2,   19.630,1,   20.740,2,  106.170,2,   43.210,2,    0.000,2,    3.187,2,    0.007,2,    0.002,2, -999.000,9, -999.000,9, -999.000,9
           NA,    P03E,     83,   1,-999.0,     -99,  2,20051112,2244,  24.2452, -144.8052,  5202,  900.300,    4.129,   34.450,2,   34.449,2,   29.240,1,   30.820,2,  110.030,2,   42.780,2,   -0.010,2,    3.150,2,    0.043,2,    0.003,2, -999.000,9, -999.000,9, -999.000,9
           NA,    P03E,     83,   1,-999.0,     -99,  2,20051112,2244,  24.2452, -144.8052,  5202, 1000.500,    3.887,   34.489,2,   34.489,6,   36.070,1,   38.250,2,  114.810,2,   42.980,2,   -0.010,2,    3.134,2,    0.000,2,    0.000,2, -999.000,9, -999.000,9, -999.000,9
           NA,    P03E,     83,   1,-999.0,     -99,  2,20051112,2244,  24.2452, -144.8052,  5202, 1202.200,    3.378,   34.534,2,   34.534,2,   47.670,1,   50.580,2,  125.270,2,   42.330,2,   -0.010,2,    3.083,2,    0.004,2,    0.000,2, -999.000,9, -999.000,9, -999.000,9
           NA,    P03E,     83,   1,-999.0,     -99,  2,20051112,2244,  24.2452, -144.8052,  5202, 1403.300,    2.946,   34.564,2,   34.564,2,   55.170,1,   58.650,2,  135.780,2,   41.990,2,    0.000,2,    3.042,2,    0.000,2,    0.000,2, -999.000,9, -999.000,9, -999.000,9
           NA,    P03E,     83,   1,-999.0,     -99,  2,20051112,2244,  24.2452, -144.8052,  5202, 1603.100,    2.579,   34.588,2,   34.587,2,   64.530,1,   68.880,2,  144.670,2,   41.570,2,   -0.010,2,    2.989,2,    0.000,2,    0.000,2, -999.000,9, -999.000,9, -999.000,9
           NA,    P03E,     83,   1,-999.0,     -99,  2,20051112,2244,  24.2452, -144.8052,  5202, 1804.800,    2.303,   34.605,2,   34.605,2,   72.020,1,   77.050,2,  151.730,2,   41.260,2,    0.000,2,    2.939,2,    0.000,2,    0.000,2, -999.000,9, -999.000,9, -999.000,9
           NA,    P03E,     83,   1,-999.0,     -99,  2,20051112,2244,  24.2452, -144.8052,  5202, 2002.400,    2.049,   34.622,2,   34.622,2,   79.820,1,   85.390,2,  159.060,2,   40.590,2,    0.000,2,    2.892,2,    0.000,2,    0.002,2, -999.000,9, -999.000,9, -999.000,9
           NA,    P03E,     83,   1,-999.0,     -99,  2,20051112,2244,  24.2452, -144.8052,  5202, 2202.900,    1.878,   34.636,2,   34.636,6,   87.820,1,   94.190,2,  162.520,2,   39.890,2,    0.000,2,    2.842,2, -999.000,9, -999.000,9, -999.000,9, -999.000,9, -999.000,9
           NA,    P03E,     83,   1,-999.0,     -99,  2,20051112,2244,  24.2452, -144.8052,  5202, 2399.700,    1.749,   34.648,2,   34.648,2,   95.910,1,  102.920,2,  164.910,2,   39.480,2,    0.000,2,    2.797,2, -999.000,9, -999.000,9, -999.000,9, -999.000,9, -999.000,9
           NA,    P03E,     83,   1,-999.0,     -99,  2,20051112,2244,  24.2452, -144.8052,  5202, 2600.000,    1.657,   34.657,2,   34.657,2,  103.120,1,  110.790,2,  165.690,2,   38.990,2,   -0.010,2,    2.752,2, -999.000,9, -999.000,9, -999.000,9, -999.000,9, -999.000,9
           NA,    P03E,     83,   1,-999.0,     -99,  2,20051112,2244,  24.2452, -144.8052,  5202, 2801.200,    1.588,   34.664,2,   34.664,2,  109.010,1,  117.240,2,  166.340,2,   38.490,2,   -0.010,2,    2.715,2,    0.001,2,    0.000,2, -999.000,9, -999.000,9, -999.000,9
           NA,    P03E,     83,   1,-999.0,     -99,  2,20051112,2244,  24.2452, -144.8052,  5202, 3001.800,    1.543,   34.671,2,   34.671,6,  115.370,1,  123.950,2,  165.760,2,   38.020,2,   -0.010,2,    2.680,2, -999.000,9, -999.000,9, -999.000,9, -999.000,9, -999.000,9
           NA,    P03E,     83,   1,-999.0,     -99,  2,20051112,2244,  24.2452, -144.8052,  5202, 3250.600,    1.504,   34.677,2,   34.677,2,  122.480,1,  131.550,2,  163.350,2,   37.570,2,   -0.010,2,    2.638,2, -999.000,9, -999.000,9, -999.000,9, -999.000,9, -999.000,9
           NA,    P03E,     83,   1,-999.0,     -99,  2,20051112,2244,  24.2452, -144.8052,  5202, 3500.700,    1.482,   34.680,2,   34.680,2,  127.730,1,  137.220,2,  161.580,2,   37.260,2,   -0.010,2,    2.606,2,    0.000,2,    0.003,2, -999.000,9, -999.000,9, -999.000,9
           NA,    P03E,     83,   1,-999.0,     -99,  2,20051112,2244,  24.2452, -144.8052,  5202, 3749.400,    1.471,   34.684,2,   34.684,2,  133.070,1,  142.800,2,  159.080,2,   36.960,2,   -0.010,2,    2.579,2, -999.000,9, -999.000,9, -999.000,9, -999.000,9, -999.000,9
           NA,    P03E,     83,   1,-999.0,     -99,  2,20051112,2244,  24.2452, -144.8052,  5202, 4000.200,    1.468,   34.687,2,   34.686,2,  137.410,1,  147.080,2,  157.010,2,   36.670,2,   -0.010,2,    2.553,2, -999.000,9, -999.000,9, -999.000,9, -999.000,9, -999.000,9
           NA,    P03E,     83,   1,-999.0,     -99,  2,20051112,2244,  24.2452, -144.8052,  5202, 4249.600,    1.479,   34.688,2,   34.688,6,  140.490,1,  150.040,2,  154.970,2,   36.490,2,   -0.010,2,    2.537,2,    0.009,2,    0.007,2, -999.000,9, -999.000,9, -999.000,9
           NA,    P03E,     83,   1,-999.0,     -99,  2,20051112,2244,  24.2452, -144.8052,  5202, 4502.500,    1.494,   34.689,2,   34.690,2,  143.550,1,  152.770,2,  152.670,2,   36.310,2,   -0.010,2,    2.525,2, -999.000,9, -999.000,9, -999.000,9, -999.000,9, -999.000,9
           NA,    P03E,     83,   1,-999.0,     -99,  2,20051112,2244,  24.2452, -144.8052,  5202, 4749.500,    1.488,   34.692,2,   34.692,2,  149.490,1,  158.550,2,  148.110,2,   35.840,2,   -0.010,2,    2.491,2, -999.000,9, -999.000,9, -999.000,9, -999.000,9, -999.000,9
           NA,    P03E,     83,   1,-999.0,     -99,  2,20051112,2244,  24.2452, -144.8052,  5202, 4998.800,    1.488,   34.694,2,   34.694,2,  154.650,1,  163.160,2,  144.320,2,   35.520,2,    0.000,2,    2.470,2,    0.005,2,    0.000,2, -999.000,9, -999.000,9, -999.000,9
           NA,    P03E,     83,   1,-999.0,     -99,  2,20051112,2244,  24.2452, -144.8052,  5202, 5282.600,    1.505,   34.695,2,   34.695,2,  158.710,1,  165.950,2,  142.310,2,   35.270,2,   -0.010,2,    2.454,2, -999.000,9, -999.000,9, -999.000,9, -999.000,9, -999.000,9
           NA,    P03E,     83,   1,-999.0,     -99,  2,20051112,2244,  24.2452, -144.8052,  5202, 5282.700,    1.505,   34.695,2,   34.695,6,  158.730,1,  166.050,2,  142.290,2,   35.370,2,   -0.010,2,    2.451,2,    0.000,2,    0.010,2, -999.000,9, -999.000,9, -999.000,9
           NA,    P03E,     81,   1,-999.0,     -99,  2,20051112,1556,  24.2545, -144.0403,  5291,    9.700,   23.347,   35.233,2,   35.233,2,  203.800,1,  214.920,2,    1.080,2,    0.040,2,    0.000,2,    0.093,2,    1.795,2,    1.101,2, -999.000,9, 2002.500,2, 2318.900,2
           NA,    P03E,     81,   1,-999.0,     -99,  2,20051112,1556,  24.2545, -144.0403,  5291,   49.800,   23.353,   35.234,2,   35.234,2,  203.600,1,  215.030,2,    1.110,2,    0.010,2,    0.010,2,    0.101,2,    1.810,2,    1.109,2, -999.000,9, 2002.200,6, 2324.600,2
           NA,    P03E,     81,   1,-999.0,     -99,  2,20051112,1556,  24.2545, -144.0403,  5291,  100.700,   21.483,   35.164,2,   35.165,2,  209.910,1,  221.750,2,    1.390,2,    0.010,2,    0.010,2,    0.091,2,    2.040,2,    1.220,2, -999.000,9, 2017.100,2, 2313.900,6
           NA,    P03E,     81,   1,-999.0,     -99,  2,20051112,1556,  24.2545, -144.0403,  5291,  151.100,   19.088,   34.898,2,   34.902,2,  191.890,1,  202.380,2,    2.230,2,    1.560,2,    0.040,2,    0.229,2,    2.229,6,    1.313,6, -999.000,9, 2039.600,2, 2297.500,2
           NA,    P03E,     81,   1,-999.0,     -99,  2,20051112,1556,  24.2545, -144.0403,  5291,  200.100,   16.260,   34.485,2,   34.489,2,  193.170,1,  203.400,2,    3.790,2,    3.770,2,    0.010,2,    0.391,2,    2.537,2,    1.465,2, -999.000,9, 2046.600,2, 2269.200,2
           NA,    P03E,     81,   1,-999.0,     -99,  2,20051112,1556,  24.2545, -144.0403,  5291,  248.700,   12.869,   34.099,2,   34.098,2,  201.850,1,  212.150,2,    7.480,2,    8.010,2,    0.010,2,    0.681,2,    2.919,6,    1.671,6, -999.000,9, 2059.000,2, 2246.300,2
           NA,    P03E,     81,   1,-999.0,     -99,  2,20051112,1556,  24.2545, -144.0403,  5291,  299.800,   10.737,   34.021,2,   34.022,2,  200.380,1,  210.430,2,   13.530,2,   13.220,2,    0.000,2,    1.003,2,    3.135,2,    1.747,2, -999.000,9, 2086.500,2, 2246.400,2
           NA,    P03E,     81,   1,-999.0,     -99,  2,20051112,1556,  24.2545, -144.0403,  5291,  401.000,    8.402,   34.065,2,   34.066,2,  160.070,1,  168.490,2,   31.340,2,   22.740,2,    0.010,2,    1.626,2,    2.756,2,    1.426,2, -999.000,9, 2154.000,2, 2264.000,2
           NA,    P03E,     81,   1,-999.0,     -99,  2,20051112,1556,  24.2545, -144.0403,  5291,  500.900,    6.536,   34.015,2,   34.016,6,  109.220,1,  115.350,2,   52.920,2,   31.360,2,    0.010,2,    2.263,2,    1.814,2,    0.866,2, -999.000,9, 2219.000,2, 2278.200,2
           NA,    P03E,     81,   1,-999.0,     -99,  2,20051112,1556,  24.2545, -144.0403,  5291,  601.000,    5.267,   34.104,2,   34.104,2,   46.590,1,   48.950,2,   78.990,2,   39.110,2,    0.000,2,    2.870,2,    0.449,2,    0.233,2, -999.000,9, 2291.600,2, 2301.400,2
           NA,    P03E,     81,   1,-999.0,     -99,  2,20051112,1556,  24.2545, -144.0403,  5291,  699.900,    4.893,   34.264,2,   34.264,2,   19.030,1,   19.940,2,   93.200,2,   42.090,2,    0.010,2,    3.134,2,    0.051,2,    0.029,2, -999.000,9, 2326.700,6, 2328.900,2
           NA,    P03E,     81,   1,-999.0,     -99,  2,20051112,1556,  24.2545, -144.0403,  5291,  801.800,    4.490,   34.369,2,   34.368,2,   19.620,1,   20.390,2,  102.810,2,   42.880,2,    0.010,2,    3.172,2,    0.012,6,    0.010,6, -999.000,9, 2340.100,2, 2345.300,6
           NA,    P03E,     81,   1,-999.0,     -99,  2,20051112,1556,  24.2545, -144.0403,  5291,  902.500,    4.251,   34.446,2,   34.446,2,   28.450,1,   29.960,2,  107.220,2,   42.810,2,    0.010,2,    3.134,2,    0.002,2,    0.002,2, -999.000,9, 2343.200,2, 2358.600,2
           NA,    P03E,     81,   1,-999.0,     -99,  2,20051112,1556,  24.2545, -144.0403,  5291, 1001.700,    4.011,   34.484,2,   34.484,6,   35.240,1,   36.980,2,  112.000,2,   42.770,2,    0.000,2,    3.123,2,    0.004,2,    0.002,2, -999.000,9, 2346.300,2, 2365.400,2
           NA,    P03E,     81,   1,-999.0,     -99,  2,20051112,1556,  24.2545, -144.0403,  5291, 1198.600,    3.504,   34.531,2,   34.531,2,   45.580,1,   48.320,2,  122.950,2,   42.470,2,    0.000,2,    3.094,2,    0.000,2,    0.002,2, -999.000,9, 2352.400,2, 2380.800,2
           NA,    P03E,     81,   1,-999.0,     -99,  2,20051112,1556,  24.2545, -144.0403,  5291, 1400.000,    3.100,   34.556,2,   34.556,2,   52.890,1,   55.980,2,  132.350,2,   42.120,2,    0.000,2,    3.056,2,    0.001,2,    0.000,2, -999.000,9, 2355.000,2, 2392.300,2
           NA,    P03E,     81,   1,-999.0,     -99,  2,20051112,1556,  24.2545, -144.0403,  5291, 1601.100,    2.736,   34.578,2,   34.578,2,   60.950,1,   64.570,2,  140.990,2,   41.730,2,    0.000,2,    3.009,2,    0.000,2,    0.000,2, -999.000,9, 2360.500,2, 2398.400,2
           NA,    P03E,     81,   1,-999.0,     -99,  2,20051112,1556,  24.2545, -144.0403,  5291, 1803.000,    2.422,   34.597,2,   34.597,2,   69.100,1,   73.520,2,  148.920,2,   41.210,2,    0.010,2,    2.954,2,    0.001,2,    0.000,2, -999.000,9, 2362.500,2, 2406.900,2
           NA,    P03E,     81,   1,-999.0,     -99,  2,20051112,1556,  24.2545, -144.0403,  5291, 2002.000,    2.163,   34.616,2,   34.616,6,   76.990,1,   82.070,2,  155.960,2,   40.640,2,    0.010,2,    2.912,2,    0.000,2,    0.004,2, -999.000,9, 2363.500,2, 2416.000,2
           NA,    P03E,     81,   1,-999.0,     -99,  2,20051112,1556,  24.2545, -144.0403,  5291, 2201.100,    1.934,   34.632,2,   34.633,2,   85.890,1,   91.830,2,  161.430,2,   40.090,2,    0.000,2,    2.859,2,    0.004,2,    0.000,2, -999.000,9, 2362.400,2, 2417.300,2
           NA,    P03E,     81,   1,-999.0,     -99,  2,20051112,1556,  24.2545, -144.0403,  5291, 2402.400,    1.796,   34.645,2,   34.645,2,   93.240,1,   99.770,2,  163.960,2,   39.540,2,    0.010,2,    2.802,2, -999.000,9, -999.000,9, -999.000,9, 2360.200,6, 2423.100,2
           NA,    P03E,     81,   1,-999.0,     -99,  2,20051112,1556,  24.2545, -144.0403,  5291, 2599.700,    1.694,   34.654,2,   34.654,2,   99.720,1,  106.650,2,  166.800,2,   39.170,2,    0.000,2,    2.772,2,    0.000,2,    0.000,2, -999.000,9, 2356.900,2, 2423.500,6
           NA,    P03E,     81,   1,-999.0,     -99,  2,20051112,1556,  24.2545, -144.0403,  5291, 2799.900,    1.606,   34.662,2,   34.662,2,  106.880,1, -999.000,3,  167.440,2,   38.640,2,    0.000,2,    2.733,2, -999.000,9, -999.000,9, -999.000,9, 2352.800,2, 2427.900,2
           NA,    P03E,     81,   1,-999.0,     -99,  2,20051112,1556,  24.2545, -144.0403,  5291, 3000.800,    1.547,   34.669,2,   34.669,6,  114.490,1,  122.810,2,  166.200,2,   38.230,2,    0.000,2,    2.687,2,    0.000,2,    0.000,2, -999.000,9, 2348.700,2, 2428.100,2
           NA,    P03E,     81,   1,-999.0,     -99,  2,20051112,1556,  24.2545, -144.0403,  5291, 3250.400,    1.496,   34.676,2,   34.676,2,  122.630,1,  131.440,2,  163.570,2,   37.510,2,    0.000,2,    2.625,2, -999.000,9, -999.000,9, -999.000,9, 2343.700,2, 2425.600,2
           NA,    P03E,     81,   1,-999.0,     -99,  2,20051112,1556,  24.2545, -144.0403,  5291, 3501.000,    1.474,   34.681,2,   34.681,2,  128.500,1,  137.790,2,  161.690,2,   37.160,2,    0.010,2,    2.599,2,    0.001,2,    0.002,2, -999.000,9, 2338.300,2, 2423.900,2
           NA,    P03E,     81,   1,-999.0,     -99,  2,20051112,1556,  24.2545, -144.0403,  5291, 3750.000,    1.458,   34.685,2,   34.685,2,  134.470,1,  144.020,2,  158.850,2,   36.660,2,    0.000,2,    2.575,2, -999.000,9, -999.000,9, -999.000,9, 2333.200,2, 2422.900,2
           NA,    P03E,     81,   1,-999.0,     -99,  2,20051112,1556,  24.2545, -144.0403,  5291, 4001.200,    1.462,   34.687,2,   34.687,6,  138.290,1,  147.810,2,  156.520,2,   36.550,2,    0.000,2,    2.547,2,    0.005,2,    0.007,2, -999.000,9, 2330.000,2, 2420.300,2
           NA,    P03E,     81,   1,-999.0,     -99,  2,20051112,1556,  24.2545, -144.0403,  5291, 4251.700,    1.476,   34.689,2,   34.688,2,  141.180,1,  150.520,2,  154.970,2,   36.200,2,    0.000,2,    2.534,2, -999.000,9, -999.000,9, -999.000,9, 2327.500,6, -999.000,4
           NA,    P03E,     81,   1,-999.0,     -99,  2,20051112,1556,  24.2545, -144.0403,  5291, 4501.100,    1.491,   34.690,2,   34.690,2,  144.100,1,  153.290,2,  152.560,2,   36.160,2,    0.000,2,    2.528,2,    0.001,2,    0.005,2, -999.000,9, 2326.000,2, 2418.400,6
           NA,    P03E,     81,   1,-999.0,     -99,  2,20051112,1556,  24.2545, -144.0403,  5291, 4751.300,    1.492,   34.692,2,   34.691,2,  149.060,1,  157.730,2,  148.690,2,   35.720,2,    0.000,2,    2.499,2, -999.000,9, -999.000,9, -999.000,9, 2319.700,2, -999.000,4
           NA,    P03E,     81,   1,-999.0,     -99,  2,20051112,1556,  24.2545, -144.0403,  5291, 4999.000,    1.497,   34.693,2,   34.693,2,  153.500,1,  161.830,2,  145.670,2,   35.470,2,    0.000,2,    2.474,2, -999.000,9, -999.000,9, -999.000,9, 2315.500,2, 2413.000,2
           NA,    P03E,     81,   1,-999.0,     -99,  2,20051112,1556,  24.2545, -144.0403,  5291, 5249.400,    1.519,   34.694,2,   34.694,2,  155.870,1, -999.000,9,  144.260,2,   35.310,2,    0.000,2,    2.467,2,    0.000,2,    0.004,2, -999.000,9, 2314.600,2, 2411.500,2
           NA,    P03E,     81,   1,-999.0,     -99,  2,20051112,1556,  24.2545, -144.0403,  5291, 5360.800,    1.532,   34.694,2,   34.694,2,  156.800,1,  163.320,2,  144.090,2,   35.370,2,    0.010,2,    2.461,2,    0.001,2,    0.002,2, -999.000,9, 2313.200,2, 2410.900,2
           NA,    P03E,     81,   1,-999.0,     -99,  2,20051112,1556,  24.2545, -144.0403,  5291, 5361.200,    1.532,   34.694,2,   34.694,6,  156.810,1,  163.650,2,  144.170,2,   35.370,2,    0.000,2,    2.471,2,    0.000,2,    0.003,2, -999.000,9, 2314.900,2, 2408.900,2