BOTTLE,20211903JOAExport
EXPOCODE,SECT_ID,STNNBR,CASTNO,SAMPNO,BTLNBR,BTLNBR_FLAG_W,DATE,TIME,LATITUDE,LONGITUDE,DEPTH,CTDPRS,CTDTMP,CTDSAL,CTDSAL_FLAG_W,SALNTY,SALNTY_FLAG_W,CTDOXY,CTDOXY_FLAG_W,OXYGEN,OXYGEN_FLAG_W,SILCAT,SILCAT_FLAG_W,NITRAT,NITRAT_FLAG_W,NITRIT,NITRIT_FLAG_W,PHSPHT,PHSPHT_FLAG_W,CFC-11,CFC-11_FLAG_W,CFC-12,CFC-12_FLAG_W,SF6,SF6_FLAG_W,TCARBN,TCARBN_FLAG_W,ALKALI,ALKALI_FLAG_W
,,,,,,,,,,,,DB,ITS-90,PSS-78,,PSS-78,,UMOL/KG,,UMOL/KG,,UMOL/KG,,UMOL/KG,,UMOL/KG,,UMOL/KG,,PMOL/KG,,PMOL/KG,,FMOL/KG,,UMOL/KG,,UMOL/KG
           NA,    P03C,    219,   1,-999.0,     -99,  2,20051221,0619,  24.2592,  171.1763,  5774,    9.700,   26.637,   35.254,2,   35.254,2,  191.930,1,  203.180,2,    1.040,2,    0.050,2,    0.000,2,    0.035,2,    1.564,2,    0.936,2, -999.000,9, -999.000,9, -999.000,9
           NA,    P03C,    219,   1,-999.0,     -99,  2,20051221,0619,  24.2592,  171.1763,  5774,   51.800,   26.645,   35.255,2,   35.255,2,  191.750,1,  203.100,2,    0.990,2,    0.040,2,    0.000,2,    0.038,2,    1.557,2,    0.952,2, -999.000,9, -999.000,9, -999.000,9
           NA,    P03C,    219,   1,-999.0,     -99,  2,20051221,0619,  24.2592,  171.1763,  5774,   99.100,   24.129,   35.241,2,   35.242,2,  206.010,1,  218.050,2,    1.300,2,    0.030,2,    0.000,2,    0.042,2,    1.878,2,    1.124,2, -999.000,9, -999.000,9, -999.000,9
           NA,    P03C,    219,   1,-999.0,     -99,  2,20051221,0619,  24.2592,  171.1763,  5774,  151.100,   20.364,   35.035,2,   35.036,2,  199.310,1,  210.280,2,    2.130,2,    0.310,2,    0.130,2,    0.119,2,    2.135,2,    1.266,2, -999.000,9, -999.000,9, -999.000,9
           NA,    P03C,    219,   1,-999.0,     -99,  2,20051221,0619,  24.2592,  171.1763,  5774,  201.700,   18.076,   34.886,2,   34.886,2,  189.890,1,  200.690,2,    3.430,2,    3.420,2,    0.010,2,    0.300,2,    2.286,2,    1.340,2, -999.000,9, -999.000,9, -999.000,9
           NA,    P03C,    219,   1,-999.0,     -99,  2,20051221,0619,  24.2592,  171.1763,  5774,  248.700,   16.465,   34.709,2,   34.706,2,  188.200,1,  199.090,2,    5.200,2,    5.980,2,    0.010,2,    0.464,2,    2.462,6,    1.398,6, -999.000,9, -999.000,9, -999.000,9
           NA,    P03C,    219,   1,-999.0,     -99,  2,20051221,0619,  24.2592,  171.1763,  5774,  301.400,   14.612,   34.529,2,   34.527,2,  192.700,1,  203.360,2,    7.940,2,    8.270,2,    0.000,2,    0.620,2,    2.653,2,    1.471,2, -999.000,9, -999.000,9, -999.000,9
           NA,    P03C,    219,   1,-999.0,     -99,  2,20051221,0619,  24.2592,  171.1763,  5774,  395.900,   12.020,   34.325,2,   34.322,2,  187.930,1,  198.270,2,   14.950,2,   13.290,2,    0.000,2,    0.972,2,    2.830,2,    1.502,2, -999.000,9, -999.000,9, -999.000,9
           NA,    P03C,    219,   1,-999.0,     -99,  2,20051221,0619,  24.2592,  171.1763,  5774,  500.700,    9.238,   34.155,2,   34.156,6,  156.710,1,  164.660,2,   29.650,2,   21.550,2,    0.010,2,    1.582,2,    2.429,2,    1.227,2, -999.000,9, -999.000,9, -999.000,9
           NA,    P03C,    219,   1,-999.0,     -99,  2,20051221,0619,  24.2592,  171.1763,  5774,  600.900,    7.179,   34.120,2,   34.119,2,  102.380,1,  107.720,2,   51.750,2,   30.670,2,    0.000,2,    2.239,2,    1.380,2,    0.673,2, -999.000,9, -999.000,9, -999.000,9
           NA,    P03C,    219,   1,-999.0,     -99,  2,20051221,0619,  24.2592,  171.1763,  5774,  701.400,    5.725,   34.147,2,   34.145,2,   68.700,1,   72.290,2,   73.550,2,   36.450,2,    0.000,2,    2.659,2,    0.678,2,    0.341,2, -999.000,9, -999.000,9, -999.000,9
           NA,    P03C,    219,   1,-999.0,     -99,  2,20051221,0619,  24.2592,  171.1763,  5774,  801.500,    4.920,   34.240,2,   34.238,2,   46.000,1,   47.960,2,   91.170,2,   40.020,2,    0.000,2,    2.920,2,    0.249,6,    0.136,6, -999.000,9, -999.000,9, -999.000,9
           NA,    P03C,    219,   1,-999.0,     -99,  2,20051221,0619,  24.2592,  171.1763,  5774,  900.200,    4.245,   34.297,2,   34.296,2,   36.890,1,   38.770,2,  106.530,2,   41.700,2,    0.000,2,    3.026,2,    0.114,2,    0.064,2, -999.000,9, -999.000,9, -999.000,9
           NA,    P03C,    219,   1,-999.0,     -99,  2,20051221,0619,  24.2592,  171.1763,  5774, 1002.600,    3.917,   34.396,2, -999.000,3,   38.550,1,   40.240,2,  114.350,2,   42.210,2,    0.000,2,    3.062,2,    0.031,2,    0.017,2, -999.000,9, -999.000,9, -999.000,9
           NA,    P03C,    219,   1,-999.0,     -99,  2,20051221,0619,  24.2592,  171.1763,  5774, 1201.100,    3.348,   34.475,2,   34.476,2,   47.520,1,   49.850,2,  127.690,2,   42.130,2,    0.000,2,    3.036,2,    0.005,2,    0.003,2, -999.000,9, -999.000,9, -999.000,9
           NA,    P03C,    219,   1,-999.0,     -99,  2,20051221,0619,  24.2592,  171.1763,  5774, 1400.600,    2.947,   34.534,2,   34.535,2,   62.650,1,   66.270,2,  134.850,2,   41.270,2,    0.000,2,    2.962,2,    0.000,2,    0.001,2, -999.000,9, -999.000,9, -999.000,9
           NA,    P03C,    219,   1,-999.0,     -99,  2,20051221,0619,  24.2592,  171.1763,  5774, 1599.800,    2.555,   34.571,2,   34.571,2,   72.620,1,   77.030,2,  142.520,2,   40.810,2,    0.000,2,    2.919,2,    0.000,2,    0.000,2, -999.000,9, -999.000,9, -999.000,9
           NA,    P03C,    219,   1,-999.0,     -99,  2,20051221,0619,  24.2592,  171.1763,  5774, 1801.100,    2.254,   34.595,2,   34.596,2,   81.380,1,   86.620,2,  148.220,2,   40.390,2,    0.000,2,    2.873,2,    0.000,2,    0.000,2, -999.000,9, -999.000,9, -999.000,9
           NA,    P03C,    219,   1,-999.0,     -99,  2,20051221,0619,  24.2592,  171.1763,  5774, 2001.600,    2.055,   34.616,2,   34.617,2,   89.700,1,   95.820,2,  151.600,2,   39.930,2,    0.000,2,    2.828,2,    0.000,2,    0.000,2, -999.000,9, -999.000,9, -999.000,9
           NA,    P03C,    219,   1,-999.0,     -99,  2,20051221,0619,  24.2592,  171.1763,  5774, 2202.000,    1.893,   34.631,2,   34.632,6,   97.250,1,  103.920,2,  154.110,2,   39.410,2,    0.000,2,    2.791,2,    0.001,2,    0.002,2, -999.000,9, -999.000,9, -999.000,9
           NA,    P03C,    219,   1,-999.0,     -99,  2,20051221,0619,  24.2592,  171.1763,  5774, 2404.100,    1.776,   34.644,2,   34.644,2,  105.210,1,  112.830,2,  154.640,2,   38.930,2,    0.000,2,    2.741,2,    0.000,2,    0.001,2, -999.000,9, -999.000,9, -999.000,9
           NA,    P03C,    219,   1,-999.0,     -99,  2,20051221,0619,  24.2592,  171.1763,  5774, 2603.300,    1.701,   34.653,2,   34.653,2,  110.760,1,  118.840,2,  154.500,2,   38.470,2,    0.000,2,    2.712,2, -999.000,9, -999.000,9, -999.000,9, -999.000,9, -999.000,9
           NA,    P03C,    219,   1,-999.0,     -99,  2,20051221,0619,  24.2592,  171.1763,  5774, 2797.900,    1.638,   34.660,2,   34.660,2,  116.490,1,  125.130,2,  154.250,2,   38.100,2,    0.000,2,    2.683,2,    0.000,2,    0.000,2, -999.000,9, -999.000,9, -999.000,9
           NA,    P03C,    219,   1,-999.0,     -99,  2,20051221,0619,  24.2592,  171.1763,  5774, 3002.300,    1.593,   34.666,2,   34.666,2,  121.640,1,  130.810,2,  153.330,2,   37.800,2,    0.000,2,    2.651,2, -999.000,9, -999.000,9, -999.000,9, -999.000,9, -999.000,9
           NA,    P03C,    219,   1,-999.0,     -99,  2,20051221,0619,  24.2592,  171.1763,  5774, 3253.100,    1.552,   34.672,2,   34.672,6,  126.960,1,  136.750,2,  152.150,2,   37.290,2,    0.000,2,    2.612,2, -999.000,9, -999.000,9, -999.000,9, -999.000,9, -999.000,9
           NA,    P03C,    219,   1,-999.0,     -99,  2,20051221,0619,  24.2592,  171.1763,  5774, 3500.200,    1.518,   34.677,2,   34.677,2,  132.120,1,  142.080,2,  150.940,2,   36.930,2,    0.000,2,    2.586,2,    0.000,2,    0.003,2, -999.000,9, -999.000,9, -999.000,9
           NA,    P03C,    219,   1,-999.0,     -99,  2,20051221,0619,  24.2592,  171.1763,  5774, 3751.700,    1.498,   34.681,2,   34.680,2,  136.640,1,  147.020,2,  149.390,2,   36.630,2,    0.000,2,    2.561,2, -999.000,9, -999.000,9, -999.000,9, -999.000,9, -999.000,9
           NA,    P03C,    219,   1,-999.0,     -99,  2,20051221,0619,  24.2592,  171.1763,  5774, 4000.200,    1.480,   34.685,2,   34.685,2,  141.600,1,  152.320,2,  147.400,2,   36.310,2,    0.000,2,    2.533,2, -999.000,9, -999.000,9, -999.000,9, -999.000,9, -999.000,9
           NA,    P03C,    219,   1,-999.0,     -99,  2,20051221,0619,  24.2592,  171.1763,  5774, 4251.500,    1.469,   34.688,2,   34.688,2,  146.620,1,  157.180,2,  144.970,2,   35.910,2,    0.000,2,    2.504,2,    0.000,2,    0.001,2, -999.000,9, -999.000,9, -999.000,9
           NA,    P03C,    219,   1,-999.0,     -99,  2,20051221,0619,  24.2592,  171.1763,  5774, 4502.200,    1.456,   34.691,2,   34.691,6,  151.880,1,  162.550,2,  142.180,2,   35.500,2,    0.000,2,    2.478,2, -999.000,9, -999.000,9, -999.000,9, -999.000,9, -999.000,9
           NA,    P03C,    219,   1,-999.0,     -99,  2,20051221,0619,  24.2592,  171.1763,  5774, 4750.700,    1.442,   34.694,2,   34.695,2,  157.770,1,  168.340,2,  138.900,2,   35.110,2,    0.000,2,    2.446,2, -999.000,9, -999.000,9, -999.000,9, -999.000,9, -999.000,9
           NA,    P03C,    219,   1,-999.0,     -99,  2,20051221,0619,  24.2592,  171.1763,  5774, 5001.300,    1.446,   34.697,2,   34.697,2,  161.960,1,  172.100,2,  136.550,2,   34.890,2,    0.000,2,    2.429,2,    0.000,2,    0.000,2, -999.000,9, -999.000,9, -999.000,9
           NA,    P03C,    219,   1,-999.0,     -99,  2,20051221,0619,  24.2592,  171.1763,  5774, 5250.100,    1.453,   34.698,2,   34.699,2,  165.730,1,  175.230,2,  134.680,2,   34.610,2,    0.010,2,    2.409,2, -999.000,9, -999.000,9, -999.000,9, -999.000,9, -999.000,9
           NA,    P03C,    219,   1,-999.0,     -99,  2,20051221,0619,  24.2592,  171.1763,  5774, 5498.600,    1.464,   34.700,2,   34.700,2,  169.310,1,  177.810,2,  133.080,2,   34.420,2,    0.000,2,    2.396,2,    0.000,2,    0.002,2, -999.000,9, -999.000,9, -999.000,9
           NA,    P03C,    219,   1,-999.0,     -99,  2,20051221,0619,  24.2592,  171.1763,  5774, 5748.200,    1.481,   34.701,2,   34.701,2,  172.490,1,  179.900,2,  132.220,2,   34.270,2,    0.000,2,    2.383,2, -999.000,9, -999.000,9, -999.000,9, -999.000,9, -999.000,9
           NA,    P03C,    219,   1,-999.0,     -99,  2,20051221,0619,  24.2592,  171.1763,  5774, 5868.700,    1.493,   34.701,2,   34.701,6,  174.320,1,  180.650,2,  131.910,2,   34.250,2,    0.000,2,    2.377,2,    0.000,2,    0.001,2, -999.000,9, -999.000,9, -999.000,9