BOTTLE,20211903JOAExport
EXPOCODE,SECT_ID,STNNBR,CASTNO,SAMPNO,BTLNBR,BTLNBR_FLAG_W,DATE,TIME,LATITUDE,LONGITUDE,DEPTH,CTDPRS,CTDTMP,CTDSAL,CTDSAL_FLAG_W,SALNTY,SALNTY_FLAG_W,CTDOXY,CTDOXY_FLAG_W,OXYGEN,OXYGEN_FLAG_W,SILCAT,SILCAT_FLAG_W,NITRAT,NITRAT_FLAG_W,NITRIT,NITRIT_FLAG_W,PHSPHT,PHSPHT_FLAG_W,CFC-11,CFC-11_FLAG_W,CFC-12,CFC-12_FLAG_W,SF6,SF6_FLAG_W,TCARBN,TCARBN_FLAG_W,ALKALI,ALKALI_FLAG_W
,,,,,,,,,,,,DB,ITS-90,PSS-78,,PSS-78,,UMOL/KG,,UMOL/KG,,UMOL/KG,,UMOL/KG,,UMOL/KG,,UMOL/KG,,PMOL/KG,,PMOL/KG,,FMOL/KG,,UMOL/KG,,UMOL/KG
           NA,    P03C,    253,   1,-999.0,     -99,  2,20051226,2030,  24.2428,  157.6680,  5821,    9.900,   25.891,   35.156,2,   35.158,2,  192.000,1,  205.270,2,    1.170,2,    0.050,2,    0.010,2,    0.043,2,    1.621,2,    0.974,2, -999.000,9, -999.000,9, -999.000,9
           NA,    P03C,    253,   1,-999.0,     -99,  2,20051226,2030,  24.2428,  157.6680,  5821,   50.200,   25.889,   35.155,2,   35.156,2,  191.930,1,  205.290,2,    1.170,2,    0.030,2,    0.010,2,    0.036,2,    1.621,2,    0.955,2, -999.000,9, -999.000,9, -999.000,9
           NA,    P03C,    253,   1,-999.0,     -99,  2,20051226,2030,  24.2428,  157.6680,  5821,   98.900,   22.140,   35.094,2,   35.095,2,  207.000,1,  221.580,2,    1.690,2,    0.030,2,    0.010,2,    0.041,2,    2.070,2,    1.200,2, -999.000,9, -999.000,9, -999.000,9
           NA,    P03C,    253,   1,-999.0,     -99,  2,20051226,2030,  24.2428,  157.6680,  5821,  150.200,   18.955,   34.918,2,   34.914,2,  188.270,1,  201.140,2,    2.730,2,    1.840,2,    0.040,2,    0.202,2,    2.295,2,    1.290,2, -999.000,9, -999.000,9, -999.000,9
           NA,    P03C,    253,   1,-999.0,     -99,  2,20051226,2030,  24.2428,  157.6680,  5821,  199.000,   17.471,   34.798,2,   34.795,2,  191.800,1,  205.010,2,    3.730,2,    4.310,2,    0.020,2,    0.331,2,    2.413,2,    1.329,2, -999.000,9, -999.000,9, -999.000,9
           NA,    P03C,    253,   1,-999.0,     -99,  2,20051226,2030,  24.2428,  157.6680,  5821,  248.300,   16.534,   34.721,2,   34.716,2,  190.880,1,  203.840,2,    5.140,2,    5.880,2,    0.010,2,    0.431,2,    2.458,2,    1.331,2, -999.000,9, -999.000,9, -999.000,9
           NA,    P03C,    253,   1,-999.0,     -99,  2,20051226,2030,  24.2428,  157.6680,  5821,  298.600,   15.335,   34.616,2,   34.616,2,  189.640,1,  202.650,2,    7.410,2,    7.730,2,    0.010,2,    0.564,2,    2.551,2,    1.366,2, -999.000,9, -999.000,9, -999.000,9
           NA,    P03C,    253,   1,-999.0,     -99,  2,20051226,2030,  24.2428,  157.6680,  5821,  399.300,   12.364,   34.368,2,   34.369,2,  186.870,1,  199.700,2,   14.240,2,   12.610,2,    0.010,2,    0.920,2,    2.861,2,    1.449,2, -999.000,9, -999.000,9, -999.000,9
           NA,    P03C,    253,   1,-999.0,     -99,  2,20051226,2030,  24.2428,  157.6680,  5821,  500.000,    9.760,   34.187,2,   34.186,6,  174.440,1,  186.820,2,   25.890,2,   18.610,2,    0.010,2,    1.348,2,    2.774,2,    1.371,2, -999.000,9, -999.000,9, -999.000,9
           NA,    P03C,    253,   1,-999.0,     -99,  2,20051226,2030,  24.2428,  157.6680,  5821,  601.300,    7.203,   34.073,2,   34.074,2,  127.420,1,  135.660,2,   48.490,2,   28.020,2,    0.010,2,    2.034,2,    1.923,2,    0.912,2, -999.000,9, -999.000,9, -999.000,9
           NA,    P03C,    253,   1,-999.0,     -99,  2,20051226,2030,  24.2428,  157.6680,  5821,  699.100,    5.519,   34.090,2,   34.095,2,   83.900,1,   87.820,2,   75.260,2,   35.420,2,    0.010,2,    2.583,2,    1.053,2,    0.513,2, -999.000,9, -999.000,9, -999.000,9
           NA,    P03C,    253,   1,-999.0,     -99,  2,20051226,2030,  24.2428,  157.6680,  5821,  800.200,    4.560,   34.194,2,   34.197,2,   49.680,1,   52.420,2,   96.930,2,   40.000,2,    0.010,2,    2.900,2,    0.405,6,    0.198,6, -999.000,9, -999.000,9, -999.000,9
           NA,    P03C,    253,   1,-999.0,     -99,  2,20051226,2030,  24.2428,  157.6680,  5821,  900.500,    4.055,   34.287,2,   34.288,2,   39.590,1,   42.240,2,  110.390,2,   41.510,2,    0.010,2,    3.013,2,    0.191,2,    0.091,2, -999.000,9, -999.000,9, -999.000,9
           NA,    P03C,    253,   1,-999.0,     -99,  2,20051226,2030,  24.2428,  157.6680,  5821,  999.200,    3.796,   34.375,2,   34.377,6,   39.750,1,   42.550,2,  117.160,2,   41.960,2,    0.010,2,    3.029,2,    0.064,2,    0.030,2, -999.000,9, -999.000,9, -999.000,9
           NA,    P03C,    253,   1,-999.0,     -99,  2,20051226,2030,  24.2428,  157.6680,  5821, 1201.100,    3.238,   34.478,2,   34.478,2,   51.800,1,   55.220,2,  129.470,2,   41.590,2,    0.010,2,    2.997,2,    0.012,2,    0.003,2, -999.000,9, -999.000,9, -999.000,9
           NA,    P03C,    253,   1,-999.0,     -99,  2,20051226,2030,  24.2428,  157.6680,  5821, 1400.900,    2.801,   34.530,2,   34.530,2,   63.780,1,   68.510,2,  137.890,2,   40.990,2,    0.010,2,    2.939,2,    0.005,2,    0.003,2, -999.000,9, -999.000,9, -999.000,9
           NA,    P03C,    253,   1,-999.0,     -99,  2,20051226,2030,  24.2428,  157.6680,  5821, 1602.200,    2.420,   34.567,2,   34.567,2,   73.550,1,   79.330,2,  144.650,2,   40.560,2,    0.010,2,    2.896,2,    0.001,2,    0.000,2, -999.000,9, -999.000,9, -999.000,9
           NA,    P03C,    253,   1,-999.0,     -99,  2,20051226,2030,  24.2428,  157.6680,  5821, 1801.600,    2.171,   34.593,2,   34.594,2,   83.630,1,   90.470,2,  148.150,2,   40.020,2,    0.010,2,    2.838,2,    0.004,2,    0.000,2, -999.000,9, -999.000,9, -999.000,9
           NA,    P03C,    253,   1,-999.0,     -99,  2,20051226,2030,  24.2428,  157.6680,  5821, 2000.800,    1.987,   34.614,2,   34.614,2,   92.280,1,  100.040,2,  150.370,2,   39.410,2,    0.010,2,    2.797,2,    0.001,2,    0.000,2, -999.000,9, -999.000,9, -999.000,9
           NA,    P03C,    253,   1,-999.0,     -99,  2,20051226,2030,  24.2428,  157.6680,  5821, 2199.000,    1.851,   34.630,2,   34.630,6,   99.640,1,  108.280,2,  151.630,2,   38.930,2,    0.010,2,    2.762,2,    0.003,2,    0.000,2, -999.000,9, -999.000,9, -999.000,9
           NA,    P03C,    253,   1,-999.0,     -99,  2,20051226,2030,  24.2428,  157.6680,  5821, 2402.000,    1.744,   34.642,2,   34.643,2,  106.410,1,  115.900,2,  152.170,2,   38.590,2,    0.010,2,    2.727,2,    0.000,2,    0.000,2, -999.000,9, -999.000,9, -999.000,9
           NA,    P03C,    253,   1,-999.0,     -99,  2,20051226,2030,  24.2428,  157.6680,  5821, 2600.700,    1.663,   34.653,2,   34.653,2,  112.740,1,  122.900,2,  152.270,2,   38.090,2,    0.010,2,    2.682,2, -999.000,9, -999.000,9, -999.000,9, -999.000,9, -999.000,9
           NA,    P03C,    253,   1,-999.0,     -99,  2,20051226,2030,  24.2428,  157.6680,  5821, 2799.000,    1.610,   34.660,2,   34.660,2,  117.280,1,  127.970,2,  152.200,2,   37.760,2,    0.010,2,    2.659,2, -999.000,9, -999.000,9, -999.000,9, -999.000,9, -999.000,9
           NA,    P03C,    253,   1,-999.0,     -99,  2,20051226,2030,  24.2428,  157.6680,  5821, 3000.700,    1.564,   34.666,2,   34.666,2,  122.230,1,  133.520,2,  151.530,2,   37.430,2,    0.010,2,    2.636,2,    0.005,2,    0.001,2, -999.000,9, -999.000,9, -999.000,9
           NA,    P03C,    253,   1,-999.0,     -99,  2,20051226,2030,  24.2428,  157.6680,  5821, 3251.200,    1.518,   34.673,2,   34.673,6,  127.880,1,  139.650,2,  150.530,2,   36.940,2,    0.010,2,    2.593,2, -999.000,9, -999.000,9, -999.000,9, -999.000,9, -999.000,9
           NA,    P03C,    253,   1,-999.0,     -99,  2,20051226,2030,  24.2428,  157.6680,  5821, 3499.600,    1.489,   34.678,2,   34.679,2,  132.660,1,  144.960,2,  149.320,2,   36.580,2,    0.010,2,    2.572,2, -999.000,9, -999.000,9, -999.000,9, -999.000,9, -999.000,9
           NA,    P03C,    253,   1,-999.0,     -99,  2,20051226,2030,  24.2428,  157.6680,  5821, 3749.600,    1.467,   34.682,2,   34.683,2,  137.240,1,  149.790,2,  148.170,2,   36.330,2,    0.010,2,    2.549,2,    0.002,2,    0.000,2, -999.000,9, -999.000,9, -999.000,9
           NA,    P03C,    253,   1,-999.0,     -99,  2,20051226,2030,  24.2428,  157.6680,  5821, 4000.200,    1.459,   34.686,2,   34.686,2,  141.210,1,  153.780,2,  146.830,2,   36.040,2,    0.010,2,    2.523,2, -999.000,9, -999.000,9, -999.000,9, -999.000,9, -999.000,9
           NA,    P03C,    253,   1,-999.0,     -99,  2,20051226,2030,  24.2428,  157.6680,  5821, 4249.700,    1.461,   34.688,2,   34.688,2,  144.140,1,  156.610,2,  145.950,2,   35.850,2,    0.010,2,    2.509,2, -999.000,9, -999.000,9, -999.000,9, -999.000,9, -999.000,9
           NA,    P03C,    253,   1,-999.0,     -99,  2,20051226,2030,  24.2428,  157.6680,  5821, 4501.700,    1.463,   34.690,2,   34.690,6,  147.550,1,  159.950,2,  144.390,2,   35.590,2,    0.010,2,    2.493,2,    0.000,2,    0.000,2, -999.000,9, -999.000,9, -999.000,9
           NA,    P03C,    253,   1,-999.0,     -99,  2,20051226,2030,  24.2428,  157.6680,  5821, 4749.100,    1.473,   34.692,2,   34.692,2,  150.970,1,  163.050,2,  142.380,2,   35.400,2,    0.010,2,    2.472,2, -999.000,9, -999.000,9, -999.000,9, -999.000,9, -999.000,9
           NA,    P03C,    253,   1,-999.0,     -99,  2,20051226,2030,  24.2428,  157.6680,  5821, 4999.400,    1.487,   34.694,2,   34.694,2,  154.330,1,  166.100,2,  139.920,2,   35.160,2,    0.010,2,    2.452,2, -999.000,9, -999.000,9, -999.000,9, -999.000,9, -999.000,9
           NA,    P03C,    253,   1,-999.0,     -99,  2,20051226,2030,  24.2428,  157.6680,  5821, 5250.500,    1.503,   34.695,2,   34.695,2,  157.310,1,  168.680,2,  138.360,2,   34.960,2,    0.010,2,    2.439,2,    0.001,2,    0.000,2, -999.000,9, -999.000,9, -999.000,9
           NA,    P03C,    253,   1,-999.0,     -99,  2,20051226,2030,  24.2428,  157.6680,  5821, 5499.500,    1.528,   34.696,2,   34.696,2,  159.880,1,  170.330,2,  136.970,2,   34.790,2,    0.010,2,    2.437,2, -999.000,9, -999.000,9, -999.000,9, -999.000,9, -999.000,9
           NA,    P03C,    253,   1,-999.0,     -99,  2,20051226,2030,  24.2428,  157.6680,  5821, 5749.400,    1.557,   34.696,2,   34.696,2,  162.000,1,  171.130,2,  136.540,2,   34.740,2,    0.010,2,    2.430,2, -999.000,9, -999.000,9, -999.000,9, -999.000,9, -999.000,9
           NA,    P03C,    253,   1,-999.0,     -99,  2,20051226,2030,  24.2428,  157.6680,  5821, 5922.600,    1.577,   34.696,2,   34.697,6,  163.930,1,  171.920,2,  135.780,2,   34.750,2,    0.010,2,    2.424,2,    0.000,2,    0.000,2, -999.000,9, -999.000,9, -999.000,9