BOTTLE,20211903JOAExport
EXPOCODE,SECT_ID,STNNBR,CASTNO,SAMPNO,BTLNBR,BTLNBR_FLAG_W,DATE,TIME,LATITUDE,LONGITUDE,DEPTH,CTDPRS,CTDTMP,CTDSAL,CTDSAL_FLAG_W,SALNTY,SALNTY_FLAG_W,CTDOXY,CTDOXY_FLAG_W,OXYGEN,OXYGEN_FLAG_W,SILCAT,SILCAT_FLAG_W,NITRAT,NITRAT_FLAG_W,NITRIT,NITRIT_FLAG_W,PHSPHT,PHSPHT_FLAG_W,CFC-11,CFC-11_FLAG_W,CFC-12,CFC-12_FLAG_W,SF6,SF6_FLAG_W,TCARBN,TCARBN_FLAG_W,ALKALI,ALKALI_FLAG_W
,,,,,,,,,,,,DB,ITS-90,PSS-78,,PSS-78,,UMOL/KG,,UMOL/KG,,UMOL/KG,,UMOL/KG,,UMOL/KG,,UMOL/KG,,PMOL/KG,,PMOL/KG,,FMOL/KG,,UMOL/KG,,UMOL/KG
           NA,    P03C,    267,   1,-999.0,     -99,  2,20051229,0208,  24.2347,  152.0452,  5472,    9.900,   25.044,   35.136,2,   35.136,2,  193.100,1,  207.640,2,    1.260,2,    0.050,2,    0.000,2,    0.042,2,    1.646,2,    0.999,2, -999.000,9, 1969.300,2, 2303.600,2
           NA,    P03C,    267,   1,-999.0,     -99,  2,20051229,0208,  24.2347,  152.0452,  5472,   49.000,   25.022,   35.133,2,   35.134,2,  193.120,1,  207.540,2,    1.210,2,    0.050,2,    0.000,2,    0.039,2,    1.655,2,    0.999,2, -999.000,9, 1968.800,6, 2304.300,2
           NA,    P03C,    267,   1,-999.0,     -99,  2,20051229,0208,  24.2347,  152.0452,  5472,   99.500,   21.378,   35.043,2,   35.041,2,  211.220,1,  227.320,2,    1.780,2,    0.030,2,    0.000,2,    0.052,2,    2.052,2,    1.225,2, -999.000,9, 1999.200,2, 2299.700,6
           NA,    P03C,    267,   1,-999.0,     -99,  2,20051229,0208,  24.2347,  152.0452,  5472,  151.500,   18.495,   34.851,2,   34.846,2,  199.360,1,  214.110,2,    2.600,2,    1.280,2,    0.020,2,    0.169,2,    2.200,2,    1.313,2, -999.000,9, 2019.100,2, 2286.700,2
           NA,    P03C,    267,   1,-999.0,     -99,  2,20051229,0208,  24.2347,  152.0452,  5472,  201.600,   17.725,   34.801,2,   34.800,2,  200.310,1,  214.840,2,    3.190,2,    3.320,2,    0.010,2,    0.270,2,    2.244,2,    1.340,2, -999.000,9, 2022.700,2, 2285.100,2
           NA,    P03C,    267,   1,-999.0,     -99,  2,20051229,0208,  24.2347,  152.0452,  5472,  251.000,   17.352,   34.801,2,   34.800,2,  199.720,1,  214.300,2,    3.600,2,    3.910,2,    0.010,2,    0.298,2,    2.255,6,    1.345,6, -999.000,9, 2022.600,2, 2285.700,2
           NA,    P03C,    267,   1,-999.0,     -99,  2,20051229,0208,  24.2347,  152.0452,  5472,  301.400,   16.832,   34.755,2,   34.754,2,  193.210,1,  206.980,2,    4.720,2,    5.320,2,    0.010,2,    0.389,2,    2.307,2,    1.354,2, -999.000,9, 2032.800,2, 2283.000,2
           NA,    P03C,    267,   1,-999.0,     -99,  2,20051229,0208,  24.2347,  152.0452,  5472,  401.100,   14.760,   34.570,2,   34.569,2,  186.920,1,  200.910,2,    9.010,2,    8.920,2,    0.000,2,    0.645,2,    2.461,2,    1.375,2, -999.000,9, 2064.900,2, 2275.100,2
           NA,    P03C,    267,   1,-999.0,     -99,  2,20051229,0208,  24.2347,  152.0452,  5472,  498.200,   11.983,   34.351,2,   34.352,6,  185.560,1,  198.960,2,   16.340,2,   13.570,2,    0.000,2,    0.979,2,    2.689,2,    1.445,2, -999.000,9, 2096.600,2, 2272.400,2
           NA,    P03C,    267,   1,-999.0,     -99,  2,20051229,0208,  24.2347,  152.0452,  5472,  600.500,    8.858,   34.136,2,   34.136,2,  160.680,1,  172.290,2,   32.770,2,   21.680,2,    0.000,2,    1.571,2,    2.382,2,    1.233,2, -999.000,9, 2155.100,2, 2274.000,2
           NA,    P03C,    267,   1,-999.0,     -99,  2,20051229,0208,  24.2347,  152.0452,  5472,  699.400,    6.579,   34.079,2,   34.080,2,  109.360,1,  117.470,2,   57.740,2,   30.820,2,    0.000,2,    2.250,2,    1.524,2,    0.746,2, -999.000,9, 2223.800,6, 2289.700,2
           NA,    P03C,    267,   1,-999.0,     -99,  2,20051229,0208,  24.2347,  152.0452,  5472,  798.600,    5.337,   34.146,2,   34.147,2,   68.740,1,   73.760,2,   80.360,2,   37.000,2,    0.000,2,    2.704,2,    0.723,6,    0.353,6, -999.000,9, 2283.400,2, 2311.700,6
           NA,    P03C,    267,   1,-999.0,     -99,  2,20051229,0208,  24.2347,  152.0452,  5472,  901.500,    4.449,   34.248,2,   34.247,2,   47.120,1,   50.200,2,  100.000,2,   40.030,2,    0.000,2,    2.927,2,    0.297,2,    0.143,2, -999.000,9, 2319.400,2, 2337.400,2
           NA,    P03C,    267,   1,-999.0,     -99,  2,20051229,0208,  24.2347,  152.0452,  5472, 1001.600,    3.867,   34.370,2,   34.370,6,   43.340,1,   46.410,2,  115.400,2,   41.590,2,    0.000,2,    3.018,2,    0.099,2,    0.038,2, -999.000,9, 2340.900,2, 2359.100,2
           NA,    P03C,    267,   1,-999.0,     -99,  2,20051229,0208,  24.2347,  152.0452,  5472, 1200.800,    3.475,   34.447,2,   34.448,2,   50.090,1,   53.640,2,  124.470,2,   41.340,2,    0.000,2,    2.996,2,    0.038,2,    0.017,2, -999.000,9, 2348.700,2, 2371.800,2
           NA,    P03C,    267,   1,-999.0,     -99,  2,20051229,0208,  24.2347,  152.0452,  5472, 1402.500,    2.939,   34.507,2,   34.508,2,   59.390,1,   63.860,2,  135.820,2,   41.120,2,    0.000,2,    2.964,2,    0.021,2,    0.007,2, -999.000,9, 2355.200,2, 2385.600,2
           NA,    P03C,    267,   1,-999.0,     -99,  2,20051229,0208,  24.2347,  152.0452,  5472, 1601.700,    2.565,   34.544,2,   34.544,2,   67.440,1,   72.630,2,  143.210,2,   40.870,2,    0.000,2,    2.932,2,    0.010,2,    0.001,2, -999.000,9, 2360.000,2, 2398.800,2
           NA,    P03C,    267,   1,-999.0,     -99,  2,20051229,0208,  24.2347,  152.0452,  5472, 1800.800,    2.223,   34.581,2,   34.582,2,   78.720,1,   85.220,2,  148.820,2,   40.330,2,    0.000,2,    2.875,2,    0.010,2,    0.004,2, -999.000,9, 2357.800,2, 2405.000,2
           NA,    P03C,    267,   1,-999.0,     -99,  2,20051229,0208,  24.2347,  152.0452,  5472, 2001.700,    1.953,   34.610,2,   34.611,2,   88.130,1,   95.550,2,  153.430,2,   39.800,2,    0.000,2,    2.830,2,    0.003,2,    0.001,2, -999.000,9, 2359.100,2, 2406.800,2
           NA,    P03C,    267,   1,-999.0,     -99,  2,20051229,0208,  24.2347,  152.0452,  5472, 2202.000,    1.830,   34.628,2,   34.628,6,   97.800,1,  106.270,2,  153.100,2,   39.140,2,    0.000,2,    2.778,2,    0.004,2,    0.001,2, -999.000,9, 2352.300,2, 2413.500,2
           NA,    P03C,    267,   1,-999.0,     -99,  2,20051229,0208,  24.2347,  152.0452,  5472, 2399.500,    1.729,   34.642,2,   34.643,2,  106.200,1,  115.500,2,  152.870,2,   38.520,2,    0.000,2,    2.732,2,    0.004,2,    0.001,2, -999.000,9, 2349.100,6, 2413.300,2
           NA,    P03C,    267,   1,-999.0,     -99,  2,20051229,0208,  24.2347,  152.0452,  5472, 2600.600,    1.655,   34.653,2,   34.653,2,  113.160,1,  123.280,2,  152.470,2,   38.050,2,    0.000,2,    2.691,2, -999.000,9, -999.000,9, -999.000,9, 2343.600,2, 2414.500,6
           NA,    P03C,    267,   1,-999.0,     -99,  2,20051229,0208,  24.2347,  152.0452,  5472, 2801.800,    1.604,   34.660,2,   34.661,2,  118.410,1,  128.990,2,  151.860,2,   37.710,2,    0.000,2,    2.661,2,    0.001,2,    0.000,2, -999.000,9, 2343.100,2, 2413.400,2
           NA,    P03C,    267,   1,-999.0,     -99,  2,20051229,0208,  24.2347,  152.0452,  5472, 3002.100,    1.555,   34.667,2,   34.667,2,  123.610,1,  134.700,2,  151.370,2,   37.380,2,    0.000,2,    2.635,2, -999.000,9, -999.000,9, -999.000,9, 2336.400,2, 2415.900,2
           NA,    P03C,    267,   1,-999.0,     -99,  2,20051229,0208,  24.2347,  152.0452,  5472, 3252.400,    1.514,   34.674,2,   34.674,6,  129.110,1,  140.660,2,  150.040,2,   36.880,2,    0.000,2,    2.590,2, -999.000,9, -999.000,9, -999.000,9, 2334.900,2, 2413.400,2
           NA,    P03C,    267,   1,-999.0,     -99,  2,20051229,0208,  24.2347,  152.0452,  5472, 3502.200,    1.488,   34.678,2,   34.679,2,  133.780,1,  145.710,2,  148.860,2,   36.670,2,    0.000,2,    2.570,2,    0.002,2,    0.000,2, -999.000,9, 2329.600,2, 2413.500,2
           NA,    P03C,    267,   1,-999.0,     -99,  2,20051229,0208,  24.2347,  152.0452,  5472, 3752.100,    1.453,   34.684,2,   34.684,2,  140.000,1,  152.140,2,  146.930,2,   36.180,2,    0.000,2,    2.536,2, -999.000,9, -999.000,9, -999.000,9, 2326.700,2, 2413.700,2
           NA,    P03C,    267,   1,-999.0,     -99,  2,20051229,0208,  24.2347,  152.0452,  5472, 4001.200,    1.442,   34.687,2,   34.688,2,  143.830,1,  156.170,2,  145.930,2,   35.920,2,    0.000,2,    2.518,2, -999.000,9, -999.000,9, -999.000,9, 2321.300,2, 2409.600,2
           NA,    P03C,    267,   1,-999.0,     -99,  2,20051229,0208,  24.2347,  152.0452,  5472, 4249.200,    1.439,   34.690,2,   34.690,6,  148.280,1,  160.430,2,  143.350,2,   35.570,2,    0.000,2,    2.492,2,    0.003,2,    0.000,2, -999.000,9, 2318.700,6, 2410.500,2
           NA,    P03C,    267,   1,-999.0,     -99,  2,20051229,0208,  24.2347,  152.0452,  5472, 4499.100,    1.439,   34.693,2,   34.693,2,  152.550,1,  164.600,2,  141.170,2,   35.210,2,    0.000,2,    2.472,2, -999.000,9, -999.000,9, -999.000,9, 2313.800,2, 2407.600,6
           NA,    P03C,    267,   1,-999.0,     -99,  2,20051229,0208,  24.2347,  152.0452,  5472, 4750.100,    1.458,   34.694,2,   34.694,2,  154.760,1,  166.380,2,  139.900,2,   35.170,2,    0.000,2,    2.462,2, -999.000,9, -999.000,9, -999.000,9, 2313.800,2, 2405.100,2
           NA,    P03C,    267,   1,-999.0,     -99,  2,20051229,0208,  24.2347,  152.0452,  5472, 4999.100,    1.485,   34.694,2,   34.694,6,  156.080,1,  166.960,2,  139.050,2,   35.120,2,    0.000,2,    2.458,2, -999.000,9, -999.000,9, -999.000,9, 2311.700,2, 2406.600,2
           NA,    P03C,    267,   1,-999.0,     -99,  2,20051229,0208,  24.2347,  152.0452,  5472, 5001.200,    1.485,   34.694,2,   34.695,2,  156.090,1,  167.010,2,  139.560,2,   35.150,2,    0.000,2,    2.461,2,    0.019,2,    0.000,2, -999.000,9, 2310.600,2, 2406.600,2
           NA,    P03C,    267,   1,-999.0,     -99,  2,20051229,0208,  24.2347,  152.0452,  5472, 5246.300,    1.508,   34.695,2,   34.695,2,  158.260,1,  168.540,2,  138.280,2,   35.050,2,    0.000,2,    2.453,2, -999.000,9, -999.000,9, -999.000,9, 2313.100,2, 2405.900,2
           NA,    P03C,    267,   1,-999.0,     -99,  2,20051229,0208,  24.2347,  152.0452,  5472, 5499.500,    1.528,   34.696,2,   34.696,2,  161.800,1,  170.950,2,  136.230,2,   34.930,2,    0.000,2,    2.439,2, -999.000,9, -999.000,9, -999.000,9, 2309.000,2, 2401.200,2
           NA,    P03C,    267,   1,-999.0,     -99,  2,20051229,0208,  24.2347,  152.0452,  5472, 5563.200,    1.528,   34.697,2,   34.697,6,  163.720,1,  172.230,2,  135.720,2,   34.770,2,    0.000,2,    2.432,2,    0.000,2,    0.000,2, -999.000,9, 2306.200,2, 2403.200,2
           NA,    P03C,    265,   1,-999.0,     -99,  2,20051228,1851,  24.2632,  152.8148,  5342,   11.500,   24.812,   35.140,2,   35.140,2,  193.890,1,  208.460,2,    1.250,2,    0.060,2,    0.000,2,    0.043,2,    1.675,2,    0.996,2, -999.000,9, -999.000,9, -999.000,9
           NA,    P03C,    265,   1,-999.0,     -99,  2,20051228,1851,  24.2632,  152.8148,  5342,   49.700,   24.821,   35.139,2,   35.140,2,  193.790,1,  208.350,2,    1.230,2,    0.060,2,    0.000,2,    0.042,2,    1.686,2,    1.009,2, -999.000,9, -999.000,9, -999.000,9
           NA,    P03C,    265,   1,-999.0,     -99,  2,20051228,1851,  24.2632,  152.8148,  5342,  100.700,   21.090,   34.998,2,   34.998,2,  202.480,1,  216.680,2,    1.830,2,    0.040,2,    0.030,2,    0.066,2,    2.119,2,    1.226,2, -999.000,9, -999.000,9, -999.000,9
           NA,    P03C,    265,   1,-999.0,     -99,  2,20051228,1851,  24.2632,  152.8148,  5342,  150.800,   18.290,   34.837,2,   34.838,2,  197.690,1,  212.350,2,    2.750,2,    1.930,2,    0.020,2,    0.200,2,    2.320,2,    1.301,2, -999.000,9, -999.000,9, -999.000,9
           NA,    P03C,    265,   1,-999.0,     -99,  2,20051228,1851,  24.2632,  152.8148,  5342,  198.900,   17.462,   34.788,2,   34.787,2,  201.680,1,  216.480,2,    3.430,2,    3.590,2,    0.010,2,    0.284,2,    2.372,2,    1.327,2, -999.000,9, -999.000,9, -999.000,9
           NA,    P03C,    265,   1,-999.0,     -99,  2,20051228,1851,  24.2632,  152.8148,  5342,  249.700,   17.043,   34.770,2,   34.769,2,  198.310,1,  212.780,2,    4.120,2,    4.500,2,    0.010,2,    0.341,2,    2.408,6,    1.328,6, -999.000,9, -999.000,9, -999.000,9
           NA,    P03C,    265,   1,-999.0,     -99,  2,20051228,1851,  24.2632,  152.8148,  5342,  301.900,   16.352,   34.708,2,   34.708,2,  192.490,1,  206.590,2,    5.520,2,    6.050,2,    0.000,2,    0.446,2,    2.473,2,    1.352,2, -999.000,9, -999.000,9, -999.000,9
           NA,    P03C,    265,   1,-999.0,     -99,  2,20051228,1851,  24.2632,  152.8148,  5342,  400.700,   14.382,   34.538,2,   34.536,2,  191.170,1,  204.910,2,    9.490,2,    9.020,2,    0.000,2,    0.657,2,    2.674,2,    1.411,2, -999.000,9, -999.000,9, -999.000,9
           NA,    P03C,    265,   1,-999.0,     -99,  2,20051228,1851,  24.2632,  152.8148,  5342,  500.600,   11.668,   34.326,2,   34.320,6,  185.880,1,  198.870,2,   17.560,2,   14.190,2,    0.000,2,    1.029,2,    2.846,2,    1.440,2, -999.000,9, -999.000,9, -999.000,9
           NA,    P03C,    265,   1,-999.0,     -99,  2,20051228,1851,  24.2632,  152.8148,  5342,  601.400,    8.539,   34.116,2,   34.115,2,  158.170,1,  168.550,2,   35.570,2,   22.540,2,    0.000,2,    1.640,2,    2.497,2,    1.208,2, -999.000,9, -999.000,9, -999.000,9
           NA,    P03C,    265,   1,-999.0,     -99,  2,20051228,1851,  24.2632,  152.8148,  5342,  699.000,    6.286,   34.089,2,   34.089,2,   98.880,1,  107.110,2,   62.680,2,   32.180,2,    0.000,2,    2.354,2,    1.357,2,    0.658,2, -999.000,9, -999.000,9, -999.000,9
           NA,    P03C,    265,   1,-999.0,     -99,  2,20051228,1851,  24.2632,  152.8148,  5342,  802.500,    5.048,   34.171,2,   34.171,2,   61.690,1,   66.070,2,   86.580,2,   37.870,2,    0.000,2,    2.775,2,    0.584,6,    0.287,6, -999.000,9, -999.000,9, -999.000,9
           NA,    P03C,    265,   1,-999.0,     -99,  2,20051228,1851,  24.2632,  152.8148,  5342,  904.000,    4.450,   34.280,2,   34.280,2,   46.110,1,   49.350,2,  101.180,2,   40.330,2,    0.000,2,    2.944,2,    0.218,2,    0.104,2, -999.000,9, -999.000,9, -999.000,9
           NA,    P03C,    265,   1,-999.0,     -99,  2,20051228,1851,  24.2632,  152.8148,  5342,  998.200,    4.074,   34.371,2,   34.371,6,   44.980,1,   47.950,2,  110.560,2,   41.080,2,    0.000,2,    2.994,2,    0.076,2,    0.036,2, -999.000,9, -999.000,9, -999.000,9
           NA,    P03C,    265,   1,-999.0,     -99,  2,20051228,1851,  24.2632,  152.8148,  5342, 1201.800,    3.545,   34.476,2,   34.477,2,   57.230,1,   61.270,2,  121.560,2,   40.710,2,    0.000,2,    2.953,2,    0.016,2,    0.011,2, -999.000,9, -999.000,9, -999.000,9
           NA,    P03C,    265,   1,-999.0,     -99,  2,20051228,1851,  24.2632,  152.8148,  5342, 1403.100,    2.928,   34.513,2,   34.512,2,   61.230,1,   65.600,2,  135.750,2,   40.960,2,    0.000,2,    2.954,2,    0.011,2,    0.004,2, -999.000,9, -999.000,9, -999.000,9
           NA,    P03C,    265,   1,-999.0,     -99,  2,20051228,1851,  24.2632,  152.8148,  5342, 1601.200,    2.464,   34.554,2,   34.554,2,   69.070,1,   74.450,2,  145.780,2,   40.690,2,    0.000,2,    2.922,2,    0.005,2,    0.000,2, -999.000,9, -999.000,9, -999.000,9
           NA,    P03C,    265,   1,-999.0,     -99,  2,20051228,1851,  24.2632,  152.8148,  5342, 1802.400,    2.168,   34.584,2,   34.585,2,   78.130,1,   84.430,2,  151.060,2,   40.240,2,    0.000,2,    2.876,2,    0.000,2,    0.000,2, -999.000,9, -999.000,9, -999.000,9
           NA,    P03C,    265,   1,-999.0,     -99,  2,20051228,1851,  24.2632,  152.8148,  5342, 2001.700,    1.971,   34.609,2,   34.610,2,   88.620,1,   95.830,2,  152.990,2,   39.630,2,    0.000,2,    2.822,2,    0.000,2,    0.001,2, -999.000,9, -999.000,9, -999.000,9
           NA,    P03C,    265,   1,-999.0,     -99,  2,20051228,1851,  24.2632,  152.8148,  5342, 2198.200,    1.815,   34.629,2,   34.630,6,   98.810,1,  107.190,2,  153.890,2,   38.890,2,    0.000,2,    2.771,2,    0.000,2,    0.000,2, -999.000,9, -999.000,9, -999.000,9
           NA,    P03C,    265,   1,-999.0,     -99,  2,20051228,1851,  24.2632,  152.8148,  5342, 2402.000,    1.723,   34.643,2,   34.643,2,  106.640,1,  116.020,2,  153.270,2,   38.300,2,    0.000,2,    2.725,2,    0.000,2,    0.000,2, -999.000,9, -999.000,9, -999.000,9
           NA,    P03C,    265,   1,-999.0,     -99,  2,20051228,1851,  24.2632,  152.8148,  5342, 2601.800,    1.663,   34.652,2,   34.652,2,  112.220,1,  122.160,2,  152.940,2,   38.030,2,    0.000,2,    2.697,2, -999.000,9, -999.000,9, -999.000,9, -999.000,9, -999.000,9
           NA,    P03C,    265,   1,-999.0,     -99,  2,20051228,1851,  24.2632,  152.8148,  5342, 2800.200,    1.601,   34.660,2,   34.660,2,  118.500,1,  129.040,2,  152.150,2,   37.540,2,    0.000,2,    2.662,2, -999.000,9, -999.000,9, -999.000,9, -999.000,9, -999.000,9
           NA,    P03C,    265,   1,-999.0,     -99,  2,20051228,1851,  24.2632,  152.8148,  5342, 3001.500,    1.554,   34.667,2,   34.667,2,  123.640,1,  134.720,2,  151.590,2,   37.230,2,    0.000,2,    2.635,2,    0.000,2,    0.000,2, -999.000,9, -999.000,9, -999.000,9
           NA,    P03C,    265,   1,-999.0,     -99,  2,20051228,1851,  24.2632,  152.8148,  5342, 3250.800,    1.511,   34.674,2,   34.674,6,  129.410,1,  140.870,2,  150.360,2,   36.770,2,    0.000,2,    2.588,2, -999.000,9, -999.000,9, -999.000,9, -999.000,9, -999.000,9
           NA,    P03C,    265,   1,-999.0,     -99,  2,20051228,1851,  24.2632,  152.8148,  5342, 3500.700,    1.476,   34.680,2,   34.680,2,  135.050,1,  146.870,2,  149.070,2,   36.360,2,    0.000,2,    2.559,2, -999.000,9, -999.000,9, -999.000,9, -999.000,9, -999.000,9
           NA,    P03C,    265,   1,-999.0,     -99,  2,20051228,1851,  24.2632,  152.8148,  5342, 3751.500,    1.453,   34.684,2,   34.684,2,  140.120,1,  152.160,2,  147.550,2,   36.000,2,    0.000,2,    2.534,2,    0.001,2,    0.001,2, -999.000,9, -999.000,9, -999.000,9
           NA,    P03C,    265,   1,-999.0,     -99,  2,20051228,1851,  24.2632,  152.8148,  5342, 3999.400,    1.450,   34.687,2,   34.687,2,  143.640,1,  155.450,2,  146.190,2,   35.790,2,    0.000,2,    2.516,2, -999.000,9, -999.000,9, -999.000,9, -999.000,9, -999.000,9
           NA,    P03C,    265,   1,-999.0,     -99,  2,20051228,1851,  24.2632,  152.8148,  5342, 4250.300,    1.456,   34.689,2,   34.689,6,  146.450,1,  158.030,2,  145.020,2,   35.630,2,    0.000,2,    2.504,2, -999.000,9, -999.000,9, -999.000,9, -999.000,9, -999.000,9
           NA,    P03C,    265,   1,-999.0,     -99,  2,20051228,1851,  24.2632,  152.8148,  5342, 4500.000,    1.464,   34.690,2,   34.691,2,  149.480,1,  160.780,2,  143.520,2,   35.400,2,    0.000,2,    2.492,2,    0.000,2,    0.000,2, -999.000,9, -999.000,9, -999.000,9
           NA,    P03C,    265,   1,-999.0,     -99,  2,20051228,1851,  24.2632,  152.8148,  5342, 4752.600,    1.468,   34.693,2,   34.693,2,  153.760,1,  164.900,2,  141.270,2,   35.200,2,    0.000,2,    2.470,2, -999.000,9, -999.000,9, -999.000,9, -999.000,9, -999.000,9
           NA,    P03C,    265,   1,-999.0,     -99,  2,20051228,1851,  24.2632,  152.8148,  5342, 4999.200,    1.481,   34.694,2,   34.695,2,  157.320,1,  167.590,2,  139.200,2,   34.880,2,    0.000,2,    2.447,2,    0.002,2,    0.000,2, -999.000,9, -999.000,9, -999.000,9
           NA,    P03C,    265,   1,-999.0,     -99,  2,20051228,1851,  24.2632,  152.8148,  5342, 5000.500,    1.481,   34.694,2,   34.695,2,  157.320,1,  167.790,2,  139.140,2,   34.970,2,    0.000,2,    2.451,2, -999.000,9, -999.000,9, -999.000,9, -999.000,9, -999.000,9
           NA,    P03C,    265,   1,-999.0,     -99,  2,20051228,1851,  24.2632,  152.8148,  5342, 5250.100,    1.492,   34.696,2,   34.696,2,  161.660,1,  171.240,2,  136.430,2,   34.680,2,    0.000,2,    2.430,2, -999.000,9, -999.000,9, -999.000,9, -999.000,9, -999.000,9
           NA,    P03C,    265,   1,-999.0,     -99,  2,20051228,1851,  24.2632,  152.8148,  5342, 5429.200,    1.500,   34.698,2,   34.698,6,  165.150,1,  173.790,2,  135.070,2,   34.410,2,    0.000,2,    2.419,2,    0.000,2,    0.000,2, -999.000,9, -999.000,9, -999.000,9