BOTTLE,20211903JOAExport
EXPOCODE,SECT_ID,STNNBR,CASTNO,SAMPNO,BTLNBR,BTLNBR_FLAG_W,DATE,TIME,LATITUDE,LONGITUDE,DEPTH,CTDPRS,CTDTMP,CTDSAL,CTDSAL_FLAG_W,SALNTY,SALNTY_FLAG_W,CTDOXY,CTDOXY_FLAG_W,OXYGEN,OXYGEN_FLAG_W,SILCAT,SILCAT_FLAG_W,NITRAT,NITRAT_FLAG_W,NITRIT,NITRIT_FLAG_W,PHSPHT,PHSPHT_FLAG_W,CFC-11,CFC-11_FLAG_W,CFC-12,CFC-12_FLAG_W,SF6,SF6_FLAG_W,TCARBN,TCARBN_FLAG_W,ALKALI,ALKALI_FLAG_W
,,,,,,,,,,,,DB,ITS-90,PSS-78,,PSS-78,,UMOL/KG,,UMOL/KG,,UMOL/KG,,UMOL/KG,,UMOL/KG,,UMOL/KG,,PMOL/KG,,PMOL/KG,,FMOL/KG,,UMOL/KG,,UMOL/KG
           NA,    P03E,     22,   1,-999.0,     -99,  2,20051102,1919,  31.2278, -120.5527,  3809,    9.900,   18.438,   33.264,2,   33.258,2,  232.940,1,  240.380,2,    1.850,2,    0.050,2,    0.010,2,    0.293,2,    2.393,2,    1.407,2, -999.000,9, -999.000,9, -999.000,9
           NA,    P03E,     22,   1,-999.0,     -99,  2,20051102,1919,  31.2278, -120.5527,  3809,   49.600,   16.767,   33.222,2,   33.221,2,  248.280,1,  255.480,2,    1.870,2,    0.050,2,    0.000,2,    0.290,2,    2.631,2,    1.507,2, -999.000,9, -999.000,9, -999.000,9
           NA,    P03E,     22,   1,-999.0,     -99,  2,20051102,1919,  31.2278, -120.5527,  3809,   98.900,   11.986,   33.254,2,   33.255,2,  215.890,1,  221.900,2,    6.840,2,    7.880,2,    0.030,2,    0.844,2,    3.170,2,    1.752,2, -999.000,9, -999.000,9, -999.000,9
           NA,    P03E,     22,   1,-999.0,     -99,  2,20051102,1919,  31.2278, -120.5527,  3809,  149.100,    9.406,   33.568,2,   33.568,2,  159.960,1,  164.320,2,   20.210,2,   20.700,2,    0.010,2,    1.632,2,    3.318,2,    1.726,2, -999.000,9, -999.000,9, -999.000,9
           NA,    P03E,     22,   1,-999.0,     -99,  2,20051102,1919,  31.2278, -120.5527,  3809,  199.600,    8.724,   33.977,2,   33.975,2,  124.960,1,  128.060,2,   30.580,2,   25.620,2,    0.000,2,    1.930,2,    2.831,2,    1.412,2, -999.000,9, -999.000,9, -999.000,9
           NA,    P03E,     22,   1,-999.0,     -99,  2,20051102,1919,  31.2278, -120.5527,  3809,  250.300,    8.036,   34.065,2,   34.064,2,   95.960,1,   98.420,2,   39.950,2,   29.700,2,    0.000,2,    2.217,2,    2.292,6,    1.102,6, -999.000,9, -999.000,9, -999.000,9
           NA,    P03E,     22,   1,-999.0,     -99,  2,20051102,1919,  31.2278, -120.5527,  3809,  301.700,    7.380,   34.093,2,   34.093,2,   72.820,1,   74.690,2,   48.890,2,   32.840,2,    0.000,2,    2.474,2,    1.737,2,    0.819,2, -999.000,9, -999.000,9, -999.000,9
           NA,    P03E,     22,   1,-999.0,     -99,  2,20051102,1919,  31.2278, -120.5527,  3809,  403.000,    6.472,   34.167,2,   34.165,2,   38.620,1,   39.720,2,   64.170,2,   36.940,2,    0.000,2,    2.835,2,    0.742,2,    0.344,2, -999.000,9, -999.000,9, -999.000,9
           NA,    P03E,     22,   1,-999.0,     -99,  2,20051102,1919,  31.2278, -120.5527,  3809,  501.500,    5.784,   34.244,2,   34.244,6,   18.920,1,   19.110,2,   78.340,2,   39.800,2,    0.000,2,    3.067,2,    0.224,2,    0.103,2, -999.000,9, -999.000,9, -999.000,9
           NA,    P03E,     22,   1,-999.0,     -99,  2,20051102,1919,  31.2278, -120.5527,  3809,  603.300,    5.431,   34.329,2,   34.328,2,   11.110,1,   11.090,2,   87.130,2,   41.080,2,    0.000,2,    3.179,2,    0.071,2,    0.043,2, -999.000,9, -999.000,9, -999.000,9
           NA,    P03E,     22,   1,-999.0,     -99,  2,20051102,1919,  31.2278, -120.5527,  3809,  702.500,    5.016,   34.378,2,   34.377,2,   10.470,1,   10.490,2,   95.670,2,   42.170,2,    0.000,2,    3.227,2,    0.027,2,    0.014,2, -999.000,9, -999.000,9, -999.000,9
           NA,    P03E,     22,   1,-999.0,     -99,  2,20051102,1919,  31.2278, -120.5527,  3809,  801.800,    4.659,   34.419,2,   34.418,2,   12.750,1,   13.000,2,  103.000,2,   42.810,2,    0.000,2,    3.241,2,    0.021,6,    0.015,6, -999.000,9, -999.000,9, -999.000,9
           NA,    P03E,     22,   1,-999.0,     -99,  2,20051102,1919,  31.2278, -120.5527,  3809,  900.800,    4.346,   34.446,2,   34.445,2,   16.250,1,   16.430,2,  109.600,2,   43.280,2,    0.000,2,    3.236,2,    0.024,2,    0.015,2, -999.000,9, -999.000,9, -999.000,9
           NA,    P03E,     22,   1,-999.0,     -99,  2,20051102,1919,  31.2278, -120.5527,  3809, 1000.900,    4.006,   34.473,2,   34.473,6,   21.310,1,   21.640,2,  116.560,2,   43.380,2,    0.000,2,    3.226,2,    0.022,2,    0.010,2, -999.000,9, -999.000,9, -999.000,9
           NA,    P03E,     22,   1,-999.0,     -99,  2,20051102,1919,  31.2278, -120.5527,  3809, 1203.000,    3.482,   34.523,2,   34.523,2,   31.900,1,   32.580,2,  128.710,2,   43.310,2,    0.000,2,    3.195,2,    0.016,2,    0.013,2, -999.000,9, -999.000,9, -999.000,9
           NA,    P03E,     22,   1,-999.0,     -99,  2,20051102,1919,  31.2278, -120.5527,  3809, 1403.800,    3.041,   34.555,2,   34.555,2,   41.850,1,   42.980,2,  139.580,2,   42.970,2,    0.000,2,    3.144,2,    0.010,2,    0.003,2, -999.000,9, -999.000,9, -999.000,9
           NA,    P03E,     22,   1,-999.0,     -99,  2,20051102,1919,  31.2278, -120.5527,  3809, 1599.000,    2.675,   34.582,2,   34.582,2,   53.330,1,   54.700,2,  148.370,2,   42.290,2,    0.000,2,    3.080,2,    0.007,2,    0.006,2, -999.000,9, -999.000,9, -999.000,9
           NA,    P03E,     22,   1,-999.0,     -99,  2,20051102,1919,  31.2278, -120.5527,  3809, 1801.900,    2.368,   34.604,2,   34.604,6,   64.790,1,   66.500,2,  155.120,2,   41.680,2,    0.000,2,    3.010,2,    0.001,2,    0.003,2, -999.000,9, -999.000,9, -999.000,9
           NA,    P03E,     22,   1,-999.0,     -99,  2,20051102,1919,  31.2278, -120.5527,  3809, 2000.100,    2.111,   34.624,2,   34.624,2,   76.980,1,   79.000,2,  160.890,2,   40.850,2,    0.000,2,    2.931,2,    0.001,2,    0.005,2, -999.000,9, -999.000,9, -999.000,9
           NA,    P03E,     22,   1,-999.0,     -99,  2,20051102,1919,  31.2278, -120.5527,  3809, 2201.700,    1.969,   34.638,2,   34.638,2,   86.570,1,   89.090,2,  162.560,2,   40.230,2,    0.000,2,    2.868,2, -999.000,9, -999.000,9, -999.000,9, -999.000,9, -999.000,9
           NA,    P03E,     22,   1,-999.0,     -99,  2,20051102,1919,  31.2278, -120.5527,  3809, 2401.100,    1.859,   34.648,2,   34.649,2,   94.800,1,   97.440,2,  164.070,2,   39.690,2,    0.000,2,    2.827,2,    0.001,2,    0.000,2, -999.000,9, -999.000,9, -999.000,9
           NA,    P03E,     22,   1,-999.0,     -99,  2,20051102,1919,  31.2278, -120.5527,  3809, 2600.300,    1.764,   34.657,2,   34.657,6,  102.090,1,  105.090,2,  165.660,2,   39.260,2,    0.000,2,    2.790,2, -999.000,9, -999.000,9, -999.000,9, -999.000,9, -999.000,9
           NA,    P03E,     22,   1,-999.0,     -99,  2,20051102,1919,  31.2278, -120.5527,  3809, 2798.400,    1.700,   34.663,2,   34.663,2,  108.230,1,  111.230,2,  166.050,2,   38.920,2,    0.000,2,    2.756,2,    0.000,2,    0.000,2, -999.000,9, -999.000,9, -999.000,9
           NA,    P03E,     22,   1,-999.0,     -99,  2,20051102,1919,  31.2278, -120.5527,  3809, 2999.300,    1.640,   34.668,2,   34.668,2,  113.520,1,  116.570,2,  167.020,2,   38.530,2,    0.000,2,    2.725,2, -999.000,9, -999.000,9, -999.000,9, -999.000,9, -999.000,9
           NA,    P03E,     22,   1,-999.0,     -99,  2,20051102,1919,  31.2278, -120.5527,  3809, 3251.700,    1.597,   34.672,2,   34.672,6,  118.580,1,  121.500,2,  168.000,2,   38.180,2,    0.000,2,    2.687,2,    0.012,2,    0.009,2, -999.000,9, -999.000,9, -999.000,9
           NA,    P03E,     22,   1,-999.0,     -99,  2,20051102,1919,  31.2278, -120.5527,  3809, 3502.800,    1.566,   34.676,2,   34.676,2,  123.080,1,  125.730,2,  168.850,2,   37.930,2,    0.000,2,    2.672,2, -999.000,9, -999.000,9, -999.000,9, -999.000,9, -999.000,9
           NA,    P03E,     22,   1,-999.0,     -99,  2,20051102,1919,  31.2278, -120.5527,  3809, 3750.600,    1.559,   34.679,2,   34.680,2,  127.050,1,  129.360,2,  169.340,2,   37.720,2,    0.000,2,    2.652,2,    0.016,2,    0.014,2, -999.000,9, -999.000,9, -999.000,9
           NA,    P03E,     22,   1,-999.0,     -99,  2,20051102,1919,  31.2278, -120.5527,  3809, 3855.600,    1.561,   34.680,2,   34.679,6,  127.660,1,  129.460,2,  169.240,2,   37.650,2,    0.000,2,    2.656,2,    0.038,2,    0.031,2, -999.000,9, -999.000,9, -999.000,9
           NA,    P03E,     20,   1,-999.0,     -99,  2,20051102,1423,  31.4987, -120.0455,  3728,    9.700,   16.953,   33.249,2,   33.247,2,  241.480,1,  249.670,2,    1.830,2,    0.050,2,    0.000,2,    0.290,2,    2.547,2,    1.505,2, -999.000,9, -999.000,9, -999.000,9
           NA,    P03E,     20,   1,-999.0,     -99,  2,20051102,1423,  31.4987, -120.0455,  3728,   48.700,   13.065,   33.187,2,   33.196,2,  231.680,1,  235.850,2,    4.550,2,    4.470,2,    0.290,2,    0.682,2, -999.000,9, -999.000,9, -999.000,9, -999.000,9, -999.000,9
           NA,    P03E,     20,   1,-999.0,     -99,  2,20051102,1423,  31.4987, -120.0455,  3728,   99.900,    9.894,   33.391,2,   33.401,2,  183.410,1,  186.670,2,   15.360,2,   16.960,2,    0.020,2,    1.392,2,    3.344,2,    1.807,2, -999.000,9, -999.000,9, -999.000,9
           NA,    P03E,     20,   1,-999.0,     -99,  2,20051102,1423,  31.4987, -120.0455,  3728,  150.900,    8.958,   33.898,2,   33.897,2,  127.290,1,  130.550,2,   28.140,2,   24.960,2,    0.010,2,    1.897,2, -999.000,9, -999.000,9, -999.000,9, -999.000,9, -999.000,9
           NA,    P03E,     20,   1,-999.0,     -99,  2,20051102,1423,  31.4987, -120.0455,  3728,  199.500,    8.479,   34.043,2,   34.045,2,  101.430,1,  103.560,2,   35.790,2,   28.330,2,    0.010,2,    2.135,2, -999.000,9, -999.000,9, -999.000,9, -999.000,9, -999.000,9
           NA,    P03E,     20,   1,-999.0,     -99,  2,20051102,1423,  31.4987, -120.0455,  3728,  249.900,    7.908,   34.090,2,   34.090,2,   83.860,1,   85.770,2,   42.890,2,   30.900,2,    0.010,2,    2.331,2,    2.011,6,    0.977,6, -999.000,9, -999.000,9, -999.000,9
           NA,    P03E,     20,   1,-999.0,     -99,  2,20051102,1423,  31.4987, -120.0455,  3728,  299.000,    7.234,   34.086,2,   34.086,2,   70.620,1,   73.310,2,   50.300,2,   33.330,2,    0.000,2,    2.500,2, -999.000,9, -999.000,9, -999.000,9, -999.000,9, -999.000,9
           NA,    P03E,     20,   1,-999.0,     -99,  2,20051102,1423,  31.4987, -120.0455,  3728,  399.900,    6.604,   34.199,2,   34.198,2,   33.600,1,   33.960,2,   64.370,2,   37.010,2,    0.000,2,    2.874,2,    0.671,2,    0.316,2, -999.000,9, -999.000,9, -999.000,9
           NA,    P03E,     20,   1,-999.0,     -99,  2,20051102,1423,  31.4987, -120.0455,  3728,  499.800,    5.795,   34.233,2,   34.235,6,   19.260,1,   19.200,2,   78.110,2,   39.830,2,    0.000,2,    3.069,2, -999.000,9, -999.000,9, -999.000,9, -999.000,9, -999.000,9
           NA,    P03E,     20,   1,-999.0,     -99,  2,20051102,1423,  31.4987, -120.0455,  3728,  599.000,    5.401,   34.314,2,   34.314,2,   11.680,1,   11.720,2,   87.580,2,   41.290,2,    0.000,2,    3.178,2,    0.089,2,    0.045,2, -999.000,9, -999.000,9, -999.000,9
           NA,    P03E,     20,   1,-999.0,     -99,  2,20051102,1423,  31.4987, -120.0455,  3728,  701.600,    5.123,   34.393,2,   34.392,2,   10.520,1,   10.520,2,   95.000,2,   41.770,2,    0.000,2,    3.229,2, -999.000,9, -999.000,9, -999.000,9, -999.000,9, -999.000,9
           NA,    P03E,     20,   1,-999.0,     -99,  2,20051102,1423,  31.4987, -120.0455,  3728,  802.400,    4.693,   34.425,2,   34.425,2,   12.950,1,   13.030,2,  103.040,2,   42.730,2,    0.000,2,    3.260,2,    0.034,6,    0.024,6, -999.000,9, -999.000,9, -999.000,9
           NA,    P03E,     20,   1,-999.0,     -99,  2,20051102,1423,  31.4987, -120.0455,  3728,  901.700,    4.384,   34.452,2,   34.451,2,   16.570,1,   16.700,2,  108.940,2,   43.120,2,    0.000,2,    3.243,2, -999.000,9, -999.000,9, -999.000,9, -999.000,9, -999.000,9
           NA,    P03E,     20,   1,-999.0,     -99,  2,20051102,1423,  31.4987, -120.0455,  3728, 1002.500,    4.041,   34.481,2,   34.480,6,   21.250,1,   21.820,2,  117.050,2,   43.270,2,    0.000,2,    3.227,2,    0.028,2,    0.020,2, -999.000,9, -999.000,9, -999.000,9
           NA,    P03E,     20,   1,-999.0,     -99,  2,20051102,1423,  31.4987, -120.0455,  3728, 1203.200,    3.506,   34.521,2,   34.520,2,   31.000,1,   31.750,2,  129.310,2,   43.180,2,    0.000,2,    3.195,2, -999.000,9, -999.000,9, -999.000,9, -999.000,9, -999.000,9
           NA,    P03E,     20,   1,-999.0,     -99,  2,20051102,1423,  31.4987, -120.0455,  3728, 1402.600,    3.062,   34.550,2,   34.550,2,   40.810,1,   41.640,2,  139.770,2,   42.940,2,    0.000,2,    3.149,2,    0.013,2,    0.011,2, -999.000,9, -999.000,9, -999.000,9
           NA,    P03E,     20,   1,-999.0,     -99,  2,20051102,1423,  31.4987, -120.0455,  3728, 1601.600,    2.716,   34.577,2,   34.576,6,   51.200,1,   52.480,2,  148.250,2,   42.500,2,    0.000,2,    3.090,2, -999.000,9, -999.000,9, -999.000,9, -999.000,9, -999.000,9
           NA,    P03E,     20,   1,-999.0,     -99,  2,20051102,1423,  31.4987, -120.0455,  3728, 1801.100,    2.394,   34.599,2,   34.599,2,   62.650,1,   64.100,2,  156.050,2,   41.770,2,    0.000,2,    3.020,2,    0.000,2,    0.001,2, -999.000,9, -999.000,9, -999.000,9
           NA,    P03E,     20,   1,-999.0,     -99,  2,20051102,1423,  31.4987, -120.0455,  3728, 2001.100,    2.139,   34.620,2,   34.620,2,   74.900,1,   76.720,2,  161.060,2,   41.010,2,    0.000,2,    2.945,2, -999.000,9, -999.000,9, -999.000,9, -999.000,9, -999.000,9
           NA,    P03E,     20,   1,-999.0,     -99,  2,20051102,1423,  31.4987, -120.0455,  3728, 2201.600,    1.950,   34.639,2,   34.639,6,   87.700,1,   89.960,2,  163.360,2,   40.310,2,    0.000,2,    2.871,2,    0.000,2,    0.000,2, -999.000,9, -999.000,9, -999.000,9
           NA,    P03E,     20,   1,-999.0,     -99,  2,20051102,1423,  31.4987, -120.0455,  3728, 2401.000,    1.854,   34.649,2,   34.649,2,   95.220,1,   97.640,2,  164.540,2,   39.810,2,    0.000,2,    2.828,2, -999.000,9, -999.000,9, -999.000,9, -999.000,9, -999.000,9
           NA,    P03E,     20,   1,-999.0,     -99,  2,20051102,1423,  31.4987, -120.0455,  3728, 2599.800,    1.763,   34.657,2, -999.000,3,  102.590,1,  105.240,2,  165.470,2,   39.310,2,    0.000,2,    2.787,2,    0.003,2,    0.002,2, -999.000,9, -999.000,9, -999.000,9
           NA,    P03E,     20,   1,-999.0,     -99,  2,20051102,1423,  31.4987, -120.0455,  3728, 2799.100,    1.714,   34.662,2,   34.662,2,  107.480,1,  110.090,2,  166.280,2,   39.020,2,    0.000,2,    2.754,2, -999.000,9, -999.000,9, -999.000,9, -999.000,9, -999.000,9
           NA,    P03E,     20,   1,-999.0,     -99,  2,20051102,1423,  31.4987, -120.0455,  3728, 2999.900,    1.654,   34.667,2,   34.667,2,  112.720,1,  115.240,2,  167.450,2,   38.670,2,    0.000,2,    2.733,2,    0.002,2,    0.000,2, -999.000,9, -999.000,9, -999.000,9
           NA,    P03E,     20,   1,-999.0,     -99,  2,20051102,1423,  31.4987, -120.0455,  3728, 3249.200,    1.605,   34.672,2,   34.672,6,  118.430,1,  120.910,2,  167.870,2,   38.220,2,    0.000,2,    2.695,2, -999.000,9, -999.000,9, -999.000,9, -999.000,9, -999.000,9
           NA,    P03E,     20,   1,-999.0,     -99,  2,20051102,1423,  31.4987, -120.0455,  3728, 3499.900,    1.580,   34.675,2,   34.675,2,  122.570,1,  124.740,2,  168.940,2,   38.010,2,    0.000,2,    2.671,2,    0.013,2,    0.010,2, -999.000,9, -999.000,9, -999.000,9
           NA,    P03E,     20,   1,-999.0,     -99,  2,20051102,1423,  31.4987, -120.0455,  3728, 3763.400,    1.554,   34.679,2,   34.679,6,  126.670,1,  128.140,2,  170.370,2,   37.770,2,    0.000,2,    2.662,2, -999.000,5, -999.000,5, -999.000,9, -999.000,9, -999.000,9