BOTTLE,20211903JOAExport
EXPOCODE,SECT_ID,STNNBR,CASTNO,SAMPNO,BTLNBR,BTLNBR_FLAG_W,DATE,TIME,LATITUDE,LONGITUDE,DEPTH,CTDPRS,CTDTMP,CTDSAL,CTDSAL_FLAG_W,SALNTY,SALNTY_FLAG_W,CTDOXY,CTDOXY_FLAG_W,OXYGEN,OXYGEN_FLAG_W,SILCAT,SILCAT_FLAG_W,NITRAT,NITRAT_FLAG_W,NITRIT,NITRIT_FLAG_W,PHSPHT,PHSPHT_FLAG_W,CFC-11,CFC-11_FLAG_W,CFC-12,CFC-12_FLAG_W,SF6,SF6_FLAG_W,TCARBN,TCARBN_FLAG_W,ALKALI,ALKALI_FLAG_W
,,,,,,,,,,,,DB,ITS-90,PSS-78,,PSS-78,,UMOL/KG,,UMOL/KG,,UMOL/KG,,UMOL/KG,,UMOL/KG,,UMOL/KG,,PMOL/KG,,PMOL/KG,,FMOL/KG,,UMOL/KG,,UMOL/KG
           NA,    P03C,    227,   1,-999.0,     -99,  2,20051222,1452,  24.2763,  167.9780,  5983,    9.400,   25.353,   35.195,2,   35.196,2,  194.290,1,  206.940,2,    1.410,2,    0.040,2,    0.000,2,    0.049,2,    1.647,2,    1.032,2, -999.000,9, 1972.000,2, 2313.200,2
           NA,    P03C,    227,   1,-999.0,     -99,  2,20051222,1452,  24.2763,  167.9780,  5983,   50.300,   25.357,   35.191,2,   35.182,2,  194.240,1,  207.310,2,    1.400,2,    0.030,2,    0.000,2,    0.052,2,    1.658,2,    1.000,2, -999.000,9, 1973.500,6, 2312.300,2
           NA,    P03C,    227,   1,-999.0,     -99,  2,20051222,1452,  24.2763,  167.9780,  5983,   99.300,   20.431,   34.998,2,   34.991,2,  207.550,1,  219.090,2,    2.160,2,    0.040,2,    0.020,2,    0.090,2,    2.133,2,    1.249,2, -999.000,9, 2011.200,2, 2299.300,6
           NA,    P03C,    227,   1,-999.0,     -99,  2,20051222,1452,  24.2763,  167.9780,  5983,  151.200,   18.035,   34.849,2,   34.849,2,  189.840,1,  201.810,2,    3.430,2,    3.320,2,    0.010,2,    0.303,2,    2.269,2,    1.330,2, -999.000,9, 2035.300,2, 2291.200,2
           NA,    P03C,    227,   1,-999.0,     -99,  2,20051222,1452,  24.2763,  167.9780,  5983,  198.900,   17.213,   34.788,2,   34.788,2,  202.770,1,  215.680,2,    3.880,2,    3.960,2,    0.010,2,    0.316,2,    2.298,2,    1.354,2, -999.000,9, 2022.800,2, 2286.400,2
           NA,    P03C,    227,   1,-999.0,     -99,  2,20051222,1452,  24.2763,  167.9780,  5983,  250.400,   16.602,   34.733,2,   34.735,2,  195.300,1,  207.940,2,    5.260,2,    5.450,2,    0.010,2,    0.416,2,    2.354,6,    1.367,6, -999.000,9, 2035.600,2, 2284.000,2
           NA,    P03C,    227,   1,-999.0,     -99,  2,20051222,1452,  24.2763,  167.9780,  5983,  301.800,   15.062,   34.598,2,   34.599,2,  190.940,1,  203.130,2,    8.670,2,    8.170,2,    0.010,2,    0.609,2,    2.484,2,    1.398,2, -999.000,9, 2056.500,2, 2277.200,2
           NA,    P03C,    227,   1,-999.0,     -99,  2,20051222,1452,  24.2763,  167.9780,  5983,  400.200,   12.439,   34.366,2,   34.363,2,  186.230,1,  197.720,2,   13.970,2,   12.560,2,    0.010,2,    0.930,2,    2.725,2,    1.456,2, -999.000,9, 2087.200,2, 2268.600,2
           NA,    P03C,    227,   1,-999.0,     -99,  2,20051222,1452,  24.2763,  167.9780,  5983,  500.400,    9.784,   34.186,2,   34.188,6,  158.790,1,  169.550,2,   25.990,2,   19.880,2,    0.000,2,    1.464,2,    2.448,2,    1.256,2, -999.000,9, 2138.200,2, 2268.600,2
           NA,    P03C,    227,   1,-999.0,     -99,  2,20051222,1452,  24.2763,  167.9780,  5983,  600.400,    7.563,   34.081,2,   34.080,2,  134.880,1,  142.030,2,   45.140,2,   26.870,2,    0.000,2,    1.963,2,    1.961,2,    0.966,2, -999.000,9, 2188.400,2, 2279.100,2
           NA,    P03C,    227,   1,-999.0,     -99,  2,20051222,1452,  24.2763,  167.9780,  5983,  700.400,    5.794,   34.089,2,   34.090,2,   85.870,1,   91.710,2,   70.310,2,   34.610,2,    0.000,2,    2.531,2,    1.048,2,    0.512,2, -999.000,9, 2255.300,6, 2303.700,2
           NA,    P03C,    227,   1,-999.0,     -99,  2,20051222,1452,  24.2763,  167.9780,  5983,  800.100,    4.809,   34.185,2,   34.189,2,   51.510,1,   54.650,2,   91.550,2,   39.510,2,    0.000,2,    2.884,2,    0.385,6,    0.196,6, -999.000,9, 2302.000,2, 2324.000,6
           NA,    P03C,    227,   1,-999.0,     -99,  2,20051222,1452,  24.2763,  167.9780,  5983,  900.900,    4.255,   34.283,2,   34.286,2,   38.710,1,   41.080,2,  106.120,2,   41.310,2,    0.000,2,    3.012,2,    0.136,2,    0.071,2, -999.000,9, 2330.800,2, 2343.500,2
           NA,    P03C,    227,   1,-999.0,     -99,  2,20051222,1452,  24.2763,  167.9780,  5983, 1000.300,    3.759,   34.379,2,   34.379,6,   36.830,1,   39.020,2,  118.780,2,   42.300,2,    0.000,2,    3.072,2,    0.045,2,    0.020,2, -999.000,9, 2345.300,2, 2364.200,2
           NA,    P03C,    227,   1,-999.0,     -99,  2,20051222,1452,  24.2763,  167.9780,  5983, 1199.400,    3.202,   34.480,2,   34.480,2,   47.480,1,   50.580,2,  131.210,2,   42.090,2,    0.000,2,    3.036,2,    0.002,2,    0.002,2, -999.000,9, 2356.800,2, 2381.200,2
           NA,    P03C,    227,   1,-999.0,     -99,  2,20051222,1452,  24.2763,  167.9780,  5983, 1400.200,    2.783,   34.534,2,   34.534,2,   59.570,1,   63.890,2,  139.680,2,   41.560,2,    0.000,2,    2.984,2,    0.000,2,    0.001,2, -999.000,9, 2357.600,2, 2392.500,2
           NA,    P03C,    227,   1,-999.0,     -99,  2,20051222,1452,  24.2763,  167.9780,  5983, 1600.600,    2.438,   34.571,2,   34.572,2,   70.960,1,   76.280,2,  145.880,2,   41.000,2,    0.000,2,    2.931,2,    0.000,2,    0.000,2, -999.000,9, 2355.200,2, 2404.300,2
           NA,    P03C,    227,   1,-999.0,     -99,  2,20051222,1452,  24.2763,  167.9780,  5983, 1800.700,    2.196,   34.595,2,   34.596,2,   81.230,1,   87.410,2,  149.240,2,   40.410,2,    0.000,2,    2.883,2,    0.000,2,    0.001,2, -999.000,9, -999.000,4, 2407.600,2
           NA,    P03C,    227,   1,-999.0,     -99,  2,20051222,1452,  24.2763,  167.9780,  5983, 2002.200,    1.996,   34.624,2,   34.624,2,   94.610,1,  102.440,2,  150.250,2,   39.520,2,    0.000,2,    2.805,2,    0.000,2,    0.000,2, -999.000,9, 2350.600,2, 2410.200,2
           NA,    P03C,    227,   1,-999.0,     -99,  2,20051222,1452,  24.2763,  167.9780,  5983, 2201.200,    1.864,   34.637,2,   34.638,6,  101.390,1,  109.880,2,  151.860,2,   38.970,2,    0.000,2,    2.765,2,    0.000,2,    0.000,2, -999.000,9, 2348.800,2, 2414.400,2
           NA,    P03C,    227,   1,-999.0,     -99,  2,20051222,1452,  24.2763,  167.9780,  5983, 2400.000,    1.773,   34.648,2,   34.648,2,  107.150,1,  116.290,2,  152.680,2,   38.540,2,    0.010,2,    2.734,2,    0.000,2,    0.000,2, -999.000,9, 2345.700,6, 2415.700,2
           NA,    P03C,    227,   1,-999.0,     -99,  2,20051222,1452,  24.2763,  167.9780,  5983, 2600.400,    1.696,   34.655,2,   34.655,2,  112.230,1,  121.940,2,  153.140,2,   38.320,2,    0.000,2,    2.706,2, -999.000,9, -999.000,9, -999.000,9, 2343.200,2, 2417.900,6
           NA,    P03C,    227,   1,-999.0,     -99,  2,20051222,1452,  24.2763,  167.9780,  5983, 2800.200,    1.652,   34.661,2,   34.662,2,  116.350,1,  126.450,2,  152.970,2,   37.990,2,    0.010,2,    2.683,2, -999.000,9, -999.000,9, -999.000,9, 2340.800,2, 2417.900,2
           NA,    P03C,    227,   1,-999.0,     -99,  2,20051222,1452,  24.2763,  167.9780,  5983, 3001.700,    1.615,   34.666,2,   34.666,2,  119.970,1,  130.600,2,  152.790,2,   37.750,2,    0.010,2,    2.660,2,    0.000,2,    0.000,2, -999.000,9, 2340.500,2, 2417.500,2
           NA,    P03C,    227,   1,-999.0,     -99,  2,20051222,1452,  24.2763,  167.9780,  5983, 3249.500,    1.565,   34.672,2,   34.672,2,  125.450,1,  136.520,2,  151.600,2,   37.300,2,    0.000,2,    2.617,2, -999.000,9, -999.000,9, -999.000,9, 2335.100,2, 2417.300,2
           NA,    P03C,    227,   1,-999.0,     -99,  2,20051222,1452,  24.2763,  167.9780,  5983, 3501.100,    1.538,   34.676,2,   34.676,6,  129.630,1,  141.270,2,  150.930,2,   36.940,2,    0.000,2,    2.598,2, -999.000,9, -999.000,9, -999.000,9, 2330.900,2, 2416.400,2
           NA,    P03C,    227,   1,-999.0,     -99,  2,20051222,1452,  24.2763,  167.9780,  5983, 3750.200,    1.515,   34.680,2,   34.680,2,  134.110,1,  145.900,2,  149.500,2,   36.640,2,    0.000,2,    2.579,2,    0.000,2,    0.001,2, -999.000,9, 2326.500,2, 2416.400,2
           NA,    P03C,    227,   1,-999.0,     -99,  2,20051222,1452,  24.2763,  167.9780,  5983, 3999.500,    1.498,   34.683,2,   34.683,2,  138.600,1,  150.670,2,  147.720,2,   36.400,2,    0.000,2,    2.553,2, -999.000,9, -999.000,9, -999.000,9, 2324.600,2, 2418.100,2
           NA,    P03C,    227,   1,-999.0,     -99,  2,20051222,1452,  24.2763,  167.9780,  5983, 4249.500,    1.483,   34.687,2,   34.687,2,  143.380,1,  155.610,2,  145.410,2,   36.080,2,    0.000,2,    2.526,2, -999.000,9, -999.000,9, -999.000,9, 2318.900,6, 2410.800,2
           NA,    P03C,    227,   1,-999.0,     -99,  2,20051222,1452,  24.2763,  167.9780,  5983, 4501.300,    1.472,   34.690,2,   34.690,2,  148.260,1,  160.320,2,  143.090,2,   35.670,2,    0.000,2,    2.496,2,    0.000,2,    0.000,2, -999.000,9, 2315.200,2, 2411.300,6
           NA,    P03C,    227,   1,-999.0,     -99,  2,20051222,1452,  24.2763,  167.9780,  5983, 4750.600,    1.471,   34.692,2,   34.692,6,  152.440,1,  164.470,2,  140.940,2,   35.370,2,    0.000,2,    2.485,2, -999.000,9, -999.000,9, -999.000,9, 2309.600,2, 2410.000,2
           NA,    P03C,    227,   1,-999.0,     -99,  2,20051222,1452,  24.2763,  167.9780,  5983, 4999.000,    1.468,   34.694,2,   34.695,2,  157.160,1,  169.020,2,  138.360,2,   34.970,2,    0.000,2,    2.451,2, -999.000,9, -999.000,9, -999.000,9, 2306.100,2, 2404.400,2
           NA,    P03C,    227,   1,-999.0,     -99,  2,20051222,1452,  24.2763,  167.9780,  5983, 5251.800,    1.470,   34.697,2,   34.697,2,  161.550,1,  173.020,2,  136.030,2,   34.730,2,    0.000,2,    2.434,2,    0.000,2,    0.001,2, -999.000,9, 2302.400,2, 2401.800,2
           NA,    P03C,    227,   1,-999.0,     -99,  2,20051222,1452,  24.2763,  167.9780,  5983, 5498.900,    1.478,   34.698,2,   34.699,2,  165.350,1,  176.200,2,  134.190,2,   34.520,2,    0.000,2,    2.415,2, -999.000,9, -999.000,9, -999.000,9, 2298.500,2, 2400.800,2
           NA,    P03C,    227,   1,-999.0,     -99,  2,20051222,1452,  24.2763,  167.9780,  5983, 5747.800,    1.497,   34.699,2,   34.699,2,  168.110,1,  177.920,2,  133.180,2,   34.410,2,    0.000,2,    2.410,2, -999.000,9, -999.000,9, -999.000,9, 2296.500,2, 2399.000,2
           NA,    P03C,    227,   1,-999.0,     -99,  2,20051222,1452,  24.2763,  167.9780,  5983, 6096.100,    1.534,   34.699,2,   34.700,6,  171.750,1,  179.120,2,  132.110,2,   34.170,2,    0.010,2,    2.398,2,    0.000,2,    0.001,2, -999.000,9, 2292.300,2, 2396.500,2