BOTTLE,20211903JOAExport
EXPOCODE,SECT_ID,STNNBR,CASTNO,SAMPNO,BTLNBR,BTLNBR_FLAG_W,DATE,TIME,LATITUDE,LONGITUDE,DEPTH,CTDPRS,CTDTMP,CTDSAL,CTDSAL_FLAG_W,SALNTY,SALNTY_FLAG_W,CTDOXY,CTDOXY_FLAG_W,OXYGEN,OXYGEN_FLAG_W,SILCAT,SILCAT_FLAG_W,NITRAT,NITRAT_FLAG_W,NITRIT,NITRIT_FLAG_W,PHSPHT,PHSPHT_FLAG_W,CFC-11,CFC-11_FLAG_W,CFC-12,CFC-12_FLAG_W,SF6,SF6_FLAG_W,TCARBN,TCARBN_FLAG_W,ALKALI,ALKALI_FLAG_W
,,,,,,,,,,,,DB,ITS-90,PSS-78,,PSS-78,,UMOL/KG,,UMOL/KG,,UMOL/KG,,UMOL/KG,,UMOL/KG,,UMOL/KG,,PMOL/KG,,PMOL/KG,,FMOL/KG,,UMOL/KG,,UMOL/KG
           NA,    P03C,    293,   1,-999.0,     -99,  2,20060103,1342,  24.2580,  143.6280,  8739,   10.200,   24.510,   34.826,2,   34.827,2,  191.640,1,  207.730,2,    1.160,2,    0.050,2,    0.000,2,    0.046,2,    1.714,2,    1.001,2, -999.000,9, 1952.800,2, 2287.800,2
           NA,    P03C,    293,   1,-999.0,     -99,  2,20060103,1342,  24.2580,  143.6280,  8739,   51.600,   23.548,   34.856,2,   34.857,2,  195.520,1,  212.120,2,    1.310,2,    0.050,2,    0.000,2,    0.043,2,    1.804,2,    1.041,2, -999.000,9, 1964.200,6, 2289.000,2
           NA,    P03C,    293,   1,-999.0,     -99,  2,20060103,1342,  24.2580,  143.6280,  8739,  101.500,   23.049,   34.864,2,   34.866,2,  196.280,1,  212.640,2,    1.450,2,    0.050,2,    0.010,2,    0.049,2,    1.880,2,    1.082,2, -999.000,9, 1971.400,2, 2289.300,6
           NA,    P03C,    293,   1,-999.0,     -99,  2,20060103,1342,  24.2580,  143.6280,  8739,  150.600,   19.005,   34.866,2,   34.866,2,  193.150,1,  209.340,2,    2.480,2,    1.490,2,    0.040,2,    0.179,2,    2.286,2,    1.283,2, -999.000,9, 2017.000,2, 2291.200,2
           NA,    P03C,    293,   1,-999.0,     -99,  2,20060103,1342,  24.2580,  143.6280,  8739,  200.200,   17.826,   34.820,2,   34.819,2,  192.980,1,  208.960,2,    3.220,2,    3.590,2,    0.010,2,    0.282,2,    2.362,2,    1.332,2, -999.000,9, 2025.500,2, 2285.100,2
           NA,    P03C,    293,   1,-999.0,     -99,  2,20060103,1342,  24.2580,  143.6280,  8739,  251.100,   17.282,   34.800,2,   34.801,2,  198.000,1,  214.210,2,    3.590,2,    3.970,2,    0.010,2,    0.301,2,    2.397,2,    1.356,2, -999.000,9, 2024.100,2, 2286.800,2
           NA,    P03C,    293,   1,-999.0,     -99,  2,20060103,1342,  24.2580,  143.6280,  8739,  302.000,   16.833,   34.759,2,   34.760,2,  191.550,1,  207.410,2,    4.700,2,    5.260,2,    0.010,2,    0.385,2,    2.445,2,    1.360,2, -999.000,9, 2034.300,2, 2286.400,2
           NA,    P03C,    293,   1,-999.0,     -99,  2,20060103,1342,  24.2580,  143.6280,  8739,  401.000,   14.327,   34.544,2,   34.547,2,  175.770,1,  190.570,2,   11.450,2,   10.570,2,    0.010,2,    0.755,2,    2.527,2,    1.329,2, -999.000,9, 2076.100,2, 2278.400,2
           NA,    P03C,    293,   1,-999.0,     -99,  2,20060103,1342,  24.2580,  143.6280,  8739,  501.400,   10.892,   34.300,2,   34.301,6,  162.800,1,  176.050,2,   25.230,2,   17.670,2,    0.000,2,    1.276,2,    2.482,2,    1.250,2, -999.000,9, 2127.700,2, 2277.100,2
           NA,    P03C,    293,   1,-999.0,     -99,  2,20060103,1342,  24.2580,  143.6280,  8739,  600.100,    8.123,   34.128,2,   34.128,2,  144.630,1,  156.850,2,   43.070,2,   24.290,2,    0.010,2,    1.772,2,    2.255,2,    1.098,2, -999.000,9, 2177.000,2, 2285.000,2
           NA,    P03C,    293,   1,-999.0,     -99,  2,20060103,1342,  24.2580,  143.6280,  8739,  701.500,    5.834,   34.087,2,   34.087,2,  103.100,1,  111.910,2,   69.540,2,   32.450,2,    0.000,2,    2.369,2,    1.546,2,    0.735,2, -999.000,9, 2244.000,6, 2304.300,2
           NA,    P03C,    293,   1,-999.0,     -99,  2,20060103,1342,  24.2580,  143.6280,  8739,  800.200,    4.931,   34.177,2,   34.173,2,   68.340,1,   74.950,2,   89.180,2,   37.340,2,    0.000,2,    2.714,2,    0.779,6,    0.373,6, -999.000,9, 2290.400,2, 2325.200,6
           NA,    P03C,    293,   1,-999.0,     -99,  2,20060103,1342,  24.2580,  143.6280,  8739,  900.700,    4.427,   34.263,2,   34.263,2,   54.270,1,   58.760,2,  102.170,2,   39.560,2,    0.000,2,    2.867,2,    0.391,2,    0.193,2, -999.000,9, 2315.600,2, 2340.700,2
           NA,    P03C,    293,   1,-999.0,     -99,  2,20060103,1342,  24.2580,  143.6280,  8739, 1002.300,    3.860,   34.353,2,   34.352,2,   47.250,1,   51.170,2,  115.290,2,   41.070,2,    0.000,2,    2.973,2,    0.159,2,    0.074,2, -999.000,9, 2335.700,2, 2357.700,2
           NA,    P03C,    293,   1,-999.0,     -99,  2,20060103,1342,  24.2580,  143.6280,  8739, 1200.300,    3.158,   34.442,2,   34.441,2,   48.540,1,   52.590,2,  132.790,2,   41.760,2,    0.000,2,    3.012,2,    0.059,2,    0.030,2, -999.000,9, 2357.400,2, 2380.900,2
           NA,    P03C,    293,   1,-999.0,     -99,  2,20060103,1342,  24.2580,  143.6280,  8739, 1401.600,    2.736,   34.496,2,   34.496,2,   55.420,1,   60.290,2,  142.180,2,   41.670,2,    0.000,2,    2.986,2,    0.026,2,    0.010,2, -999.000,9, 2362.300,2, 2390.000,2
           NA,    P03C,    293,   1,-999.0,     -99,  2,20060103,1342,  24.2580,  143.6280,  8739, 1600.400,    2.395,   34.540,2,   34.540,2,   63.560,1,   69.330,2,  149.020,2,   41.230,2,    0.000,2,    2.953,2,    0.014,2,    0.003,2, -999.000,9, -999.000,4, 2400.800,2
           NA,    P03C,    293,   1,-999.0,     -99,  2,20060103,1342,  24.2580,  143.6280,  8739, 1800.600,    2.091,   34.583,2,   34.583,2,   76.780,1,   84.240,2,  153.040,2,   40.540,2,    0.000,2,    2.880,2,    0.001,2,    0.000,2, -999.000,9, -999.000,4, 2407.800,2
           NA,    P03C,    293,   1,-999.0,     -99,  2,20060103,1342,  24.2580,  143.6280,  8739, 2000.600,    1.958,   34.607,2,   34.607,2,   89.040,1,   98.060,2,  152.050,2,   39.760,2,    0.010,2,    2.818,2,    0.003,2,    0.000,2, -999.000,9, 2354.400,2, 2412.900,2
           NA,    P03C,    293,   1,-999.0,     -99,  2,20060103,1342,  24.2580,  143.6280,  8739, 2199.300,    1.819,   34.626,2,   34.627,2,   98.800,1,  109.120,2,  152.230,2,   39.000,2,    0.000,2,    2.762,2,    0.003,2,    0.000,2, -999.000,9, -999.000,3, 2415.400,2
           NA,    P03C,    293,   1,-999.0,     -99,  2,20060103,1342,  24.2580,  143.6280,  8739, 2399.800,    1.738,   34.637,2,   34.637,6,  102.530,1,  113.190,2,  153.660,2,   38.890,2,    0.010,2,    2.744,2,    0.000,2,    0.000,2, -999.000,9, -999.000,3, 2417.500,2
           NA,    P03C,    293,   1,-999.0,     -99,  2,20060103,1342,  24.2580,  143.6280,  8739, 2598.400,    1.654,   34.649,2,   34.650,2,  109.460,1,  121.120,2,  153.490,2,   38.340,2,    0.010,2,    2.704,2, -999.000,9, -999.000,9, -999.000,9, -999.000,4, 2415.800,6
           NA,    P03C,    293,   1,-999.0,     -99,  2,20060103,1342,  24.2580,  143.6280,  8739, 2799.200,    1.588,   34.659,2,   34.660,2,  116.340,1,  128.970,2,  152.590,2,   37.760,2,    0.010,2,    2.660,2, -999.000,9, -999.000,9, -999.000,9, -999.000,4, 2417.400,2
           NA,    P03C,    293,   1,-999.0,     -99,  2,20060103,1342,  24.2580,  143.6280,  8739, 3000.100,    1.554,   34.665,2,   34.666,2,  120.570,1,  133.710,2,  152.010,2,   37.420,2,    0.010,2,    2.639,2,    0.000,2,    0.000,2, -999.000,9, -999.000,3, 2417.900,2
           NA,    P03C,    293,   1,-999.0,     -99,  2,20060103,1342,  24.2580,  143.6280,  8739, 3249.900,    1.516,   34.673,2,   34.674,2,  127.200,1,  141.180,2,  149.370,2,   36.920,2,    0.000,2,    2.584,2, -999.000,9, -999.000,9, -999.000,9, 2338.100,2, 2417.000,2
           NA,    P03C,    293,   1,-999.0,     -99,  2,20060103,1342,  24.2580,  143.6280,  8739, 3501.600,    1.490,   34.678,2,   34.679,2,  131.940,1,  146.490,2,  148.050,2,   36.670,2,    0.010,2,    2.561,2, -999.000,9, -999.000,9, -999.000,9, 2332.500,2, 2416.200,2
           NA,    P03C,    293,   1,-999.0,     -99,  2,20060103,1342,  24.2580,  143.6280,  8739, 3750.100,    1.469,   34.683,2,   34.683,6,  136.360,1,  151.330,2,  146.590,2,   36.340,2,    0.010,2,    2.543,2,    0.000,2,    0.000,2, -999.000,9, 2326.700,2, 2413.700,2
           NA,    P03C,    293,   1,-999.0,     -99,  2,20060103,1342,  24.2580,  143.6280,  8739, 3999.800,    1.465,   34.686,2,   34.686,2,  139.860,1,  154.960,2,  145.300,2,   36.030,2,    0.000,2,    2.525,2, -999.000,9, -999.000,9, -999.000,9, 2322.400,2, 2415.000,2
           NA,    P03C,    293,   1,-999.0,     -99,  2,20060103,1342,  24.2580,  143.6280,  8739, 4249.500,    1.462,   34.688,2,   34.688,2,  143.500,1,  159.010,2,  143.450,2,   35.810,2,    0.010,2,    2.501,2, -999.000,9, -999.000,9, -999.000,9, 2319.400,6, 2411.900,2
           NA,    P03C,    293,   1,-999.0,     -99,  2,20060103,1342,  24.2580,  143.6280,  8739, 4499.500,    1.466,   34.691,2,   34.691,2,  146.850,1,  162.290,2,  141.520,2,   35.500,2,    0.000,2,    2.477,2,    0.000,2,    0.000,2, -999.000,9, 2316.500,2, 2411.900,6
           NA,    P03C,    293,   1,-999.0,     -99,  2,20060103,1342,  24.2580,  143.6280,  8739, 4750.300,    1.475,   34.693,2,   34.693,2,  149.890,1,  165.330,2,  139.990,2,   35.340,2,    0.000,2,    2.461,2, -999.000,9, -999.000,9, -999.000,9, 2312.100,2, 2407.500,2
           NA,    P03C,    293,   1,-999.0,     -99,  2,20060103,1342,  24.2580,  143.6280,  8739, 5000.600,    1.489,   34.694,2,   34.694,6,  152.610,1,  167.790,2,  138.360,2,   35.150,2,    0.000,2,    2.452,2, -999.000,9, -999.000,9, -999.000,9, 2308.900,2, 2407.500,2
           NA,    P03C,    293,   1,-999.0,     -99,  2,20060103,1342,  24.2580,  143.6280,  8739, 5250.300,    1.513,   34.695,2,   34.695,2,  154.310,1,  169.020,2,  137.550,2,   35.080,2,    0.000,2,    2.450,2,    0.000,2,    0.000,2, -999.000,9, 2310.700,2, 2406.400,2
           NA,    P03C,    293,   1,-999.0,     -99,  2,20060103,1342,  24.2580,  143.6280,  8739, 5502.200,    1.538,   34.695,2,   34.696,2,  156.130,1,  170.120,2,  136.920,2,   34.990,2,    0.000,2,    2.441,2, -999.000,9, -999.000,9, -999.000,9, 2309.800,2, 2406.600,2
           NA,    P03C,    293,   1,-999.0,     -99,  2,20060103,1342,  24.2580,  143.6280,  8739, 6001.200,    1.597,   34.696,2,   34.697,2,  159.080,1,  171.510,2,  136.100,2,   34.930,2,    0.000,2,    2.427,2, -999.000,9, -999.000,9, -999.000,9, 2307.600,2, 2404.200,2
           NA,    P03C,    293,   1,-999.0,     -99,  2,20060103,1342,  24.2580,  143.6280,  8739, 6505.300,    1.667,   34.696,2,   34.697,6,  162.930,1,  171.760,2,  136.060,2,   34.870,2,    0.000,2,    2.430,2,    0.000,2,    0.000,2, -999.000,9, 2305.900,2, 2403.300,2
           NA,    P03C,    291,   1,-999.0,     -99,  2,20060103,0706,  24.2473,  144.2338,  4910,   10.200,   23.804,   34.855,2,   34.855,2,  194.860,1,  211.040,2,    1.300,2,    0.050,2,    0.000,2,    0.045,2,    1.753,2,    1.038,2, -999.000,9, 1962.700,2, 2288.400,2
           NA,    P03C,    291,   1,-999.0,     -99,  2,20060103,0706,  24.2473,  144.2338,  4910,   49.800,   23.499,   34.859,2,   34.860,2,  196.400,1,  212.540,2,    1.440,2,    0.040,2,    0.000,2,    0.045,2,    1.784,2,    1.051,2, -999.000,9, 1963.000,6, 2287.000,2
           NA,    P03C,    291,   1,-999.0,     -99,  2,20060103,0706,  24.2473,  144.2338,  4910,  100.600,   22.467,   34.904,2,   34.906,2,  197.810,1,  214.020,2,    1.700,2,    0.060,2,    0.040,2,    0.065,2,    1.974,2,    1.151,2, -999.000,9, 1985.200,2, 2292.900,6
           NA,    P03C,    291,   1,-999.0,     -99,  2,20060103,0706,  24.2473,  144.2338,  4910,  150.600,   19.013,   34.867,2,   34.867,2,  192.230,1,  207.600,2,    2.690,2,    1.710,2,    0.030,2,    0.187,2,    2.260,2,    1.279,2, -999.000,9, 2018.700,2, 2287.900,2
           NA,    P03C,    291,   1,-999.0,     -99,  2,20060103,0706,  24.2473,  144.2338,  4910,  200.700,   17.816,   34.816,2,   34.816,2,  189.490,1,  204.650,2,    3.460,2,    3.880,2,    0.010,2,    0.305,2,    2.361,2,    1.322,2, -999.000,9, 2027.600,2, 2286.800,2
           NA,    P03C,    291,   1,-999.0,     -99,  2,20060103,0706,  24.2473,  144.2338,  4910,  250.400,   17.062,   34.768,2,   34.767,2,  189.130,1,  204.190,2,    4.360,2,    5.100,2,    0.010,2,    0.383,2,    2.437,6,    1.348,6, -999.000,9, 2034.700,2, 2282.000,2
           NA,    P03C,    291,   1,-999.0,     -99,  2,20060103,0706,  24.2473,  144.2338,  4910,  300.900,   16.356,   34.710,2,   34.709,2,  187.630,1,  202.490,2,    5.790,2,    6.370,2,    0.000,2,    0.469,2,    2.495,2,    1.363,2, -999.000,9, 2044.400,2, 2279.300,2
           NA,    P03C,    291,   1,-999.0,     -99,  2,20060103,0706,  24.2473,  144.2338,  4910,  400.900,   14.053,   34.521,2,   34.518,2,  177.420,1,  191.430,2,   12.220,2,   10.980,2,    0.000,2,    0.796,2,    2.616,2,    1.373,2, -999.000,9, 2078.400,2, 2277.400,2
           NA,    P03C,    291,   1,-999.0,     -99,  2,20060103,0706,  24.2473,  144.2338,  4910,  502.200,   11.018,   34.294,2,   34.285,6,  171.040,1,  183.560,2,   22.690,2,   16.820,2,    0.000,2,    1.224,2,    2.663,2,    1.336,2, -999.000,9, 2118.900,2, 2274.600,2
           NA,    P03C,    291,   1,-999.0,     -99,  2,20060103,0706,  24.2473,  144.2338,  4910,  600.500,    8.316,   34.121,2,   34.118,2,  146.780,1,  156.940,2,   39.260,2,   23.950,2,    0.000,2,    1.761,2,    2.275,2,    1.104,2, -999.000,9, 2170.200,2, 2278.900,2
           NA,    P03C,    291,   1,-999.0,     -99,  2,20060103,0706,  24.2473,  144.2338,  4910,  700.400,    5.920,   34.064,2,   34.065,2,  105.390,1,  113.600,2,   66.250,2,   32.100,2,    0.000,2,    2.363,2,    1.584,2,    0.759,2, -999.000,9, 2239.900,6, 2299.200,2
           NA,    P03C,    291,   1,-999.0,     -99,  2,20060103,0706,  24.2473,  144.2338,  4910,  800.800,    5.056,   34.132,2,   34.134,2,   74.900,1,   79.910,2,   85.070,2,   36.510,2,    0.000,2,    2.676,2,    0.950,6,    0.453,6, -999.000,9, 2284.400,2, 2317.900,6
           NA,    P03C,    291,   1,-999.0,     -99,  2,20060103,0706,  24.2473,  144.2338,  4910,  900.400,    4.330,   34.231,2,   34.233,2,   50.020,1,   53.560,2,  102.960,2,   39.970,2,    0.000,2,    2.906,2,    0.412,2,    0.197,2, -999.000,9, 2321.500,2, 2337.000,2
           NA,    P03C,    291,   1,-999.0,     -99,  2,20060103,0706,  24.2473,  144.2338,  4910, 1000.900,    3.937,   34.301,2,   34.302,6,   42.640,1,   45.570,2,  113.630,2,   41.130,2,    0.000,2,    2.987,2,    0.215,2,    0.102,2, -999.000,9, 2338.100,2, 2352.000,2
           NA,    P03C,    291,   1,-999.0,     -99,  2,20060103,0706,  24.2473,  144.2338,  4910, 1201.400,    3.109,   34.442,2,   34.443,2,   44.560,1,   47.850,2,  134.630,2,   42.050,2,    0.000,2,    3.031,2,    0.043,2,    0.018,2, -999.000,9, 2358.900,2, 2380.500,2
           NA,    P03C,    291,   1,-999.0,     -99,  2,20060103,0706,  24.2473,  144.2338,  4910, 1401.200,    2.716,   34.495,2,   34.495,2,   51.810,1,   55.780,2,  143.360,2,   41.700,2,    0.000,2,    3.006,2,    0.021,2,    0.009,2, -999.000,9, 2364.800,2, 2392.200,2
           NA,    P03C,    291,   1,-999.0,     -99,  2,20060103,0706,  24.2473,  144.2338,  4910, 1602.100,    2.302,   34.552,2,   34.552,2,   66.490,1,   71.840,2,  150.090,2,   40.990,2,    0.000,2,    2.931,2,    0.008,2,    0.004,2, -999.000,9, 2363.800,2, 2402.400,2
           NA,    P03C,    291,   1,-999.0,     -99,  2,20060103,0706,  24.2473,  144.2338,  4910, 1802.100,    2.102,   34.583,2,   34.583,2,   78.710,1,   85.410,2,  151.680,2,   40.220,2,    0.000,2,    2.872,2,    0.004,2,    0.000,2, -999.000,9, 2360.000,2, 2407.700,2
           NA,    P03C,    291,   1,-999.0,     -99,  2,20060103,0706,  24.2473,  144.2338,  4910, 2003.300,    1.921,   34.610,2,   34.611,6,   91.180,1,   98.970,2,  152.250,2,   39.350,2,    0.000,2,    2.803,2,    0.000,2,    0.000,2, -999.000,9, 2353.200,2, 2409.900,2
           NA,    P03C,    291,   1,-999.0,     -99,  2,20060103,0706,  24.2473,  144.2338,  4910, 2201.100,    1.817,   34.626,2,   34.626,2,   98.970,1,  107.630,2,  152.340,2,   38.870,2,    0.000,2,    2.760,2,    0.000,2,    0.000,2, -999.000,9, 2351.300,2, 2413.800,2
           NA,    P03C,    291,   1,-999.0,     -99,  2,20060103,0706,  24.2473,  144.2338,  4910, 2400.900,    1.724,   34.641,2,   34.641,2,  107.900,1,  117.260,2,  151.380,2,   38.280,2,    0.000,2,    2.711,2, -999.000,9, -999.000,9, -999.000,9, 2341.900,6, 2414.600,2
           NA,    P03C,    291,   1,-999.0,     -99,  2,20060103,0706,  24.2473,  144.2338,  4910, 2600.700,    1.678,   34.648,2,   34.649,2,  111.610,1,  121.650,2,  151.670,2,   37.940,2,    0.000,2,    2.690,2,    0.000,2,    0.000,2, -999.000,9, 2343.400,2, 2414.900,6
           NA,    P03C,    291,   1,-999.0,     -99,  2,20060103,0706,  24.2473,  144.2338,  4910, 2800.600,    1.630,   34.657,2,   34.657,2,  117.430,1,  127.960,2,  150.910,2,   37.480,2,    0.000,2,    2.658,2, -999.000,9, -999.000,9, -999.000,9, 2340.000,2, 2415.400,2
           NA,    P03C,    291,   1,-999.0,     -99,  2,20060103,0706,  24.2473,  144.2338,  4910, 3000.600,    1.584,   34.664,2,   34.664,6,  122.830,1,  133.780,2,  150.110,2,   37.240,2,    0.000,2,    2.628,2, -999.000,9, -999.000,9, -999.000,9, 2335.500,2, 2416.300,2
           NA,    P03C,    291,   1,-999.0,     -99,  2,20060103,0706,  24.2473,  144.2338,  4910, 3249.900,    1.523,   34.673,2,   34.673,2,  130.030,1,  141.440,2,  148.400,2,   36.650,2,    0.000,2,    2.587,2,    0.000,2,    0.000,2, -999.000,9, 2332.400,2, 2416.600,2
           NA,    P03C,    291,   1,-999.0,     -99,  2,20060103,0706,  24.2473,  144.2338,  4910, 3500.500,    1.488,   34.678,2,   34.679,2,  135.110,1,  146.570,2,  147.600,2,   36.370,2,    0.000,2,    2.565,2, -999.000,9, -999.000,9, -999.000,9, 2331.100,2, 2415.800,2
           NA,    P03C,    291,   1,-999.0,     -99,  2,20060103,0706,  24.2473,  144.2338,  4910, 3751.400,    1.464,   34.683,2,   34.683,2,  140.490,1,  152.250,2,  145.510,2,   35.960,2,    0.000,2,    2.527,2, -999.000,9, -999.000,9, -999.000,9, 2325.000,2, 2413.200,2
           NA,    P03C,    291,   1,-999.0,     -99,  2,20060103,0706,  24.2473,  144.2338,  4910, 4000.500,    1.451,   34.687,2,   34.687,6,  145.140,1,  156.790,2,  143.680,2,   35.670,2,    0.000,2,    2.510,2,    0.000,2,    0.000,2, -999.000,9, 2319.100,2, 2413.500,2
           NA,    P03C,    291,   1,-999.0,     -99,  2,20060103,0706,  24.2473,  144.2338,  4910, 4250.700,    1.455,   34.689,2,   34.689,2,  148.410,1,  159.770,2,  142.360,2,   35.430,2,    0.000,2,    2.492,2, -999.000,9, -999.000,9, -999.000,9, 2317.600,6, 2411.300,2
           NA,    P03C,    291,   1,-999.0,     -99,  2,20060103,0706,  24.2473,  144.2338,  4910, 4502.200,    1.452,   34.692,2,   34.692,2,  153.060,1,  164.120,2,  140.120,2,   35.180,2,    0.000,2,    2.465,2,    0.000,2,    0.000,2, -999.000,9, 2312.200,2, 2409.600,6
           NA,    P03C,    291,   1,-999.0,     -99,  2,20060103,0706,  24.2473,  144.2338,  4910, 4751.900,    1.456,   34.694,2,   34.695,2,  157.500,1,  168.010,2,  137.730,2,   34.850,2,    0.000,2,    2.443,2, -999.000,9, -999.000,9, -999.000,9, 2309.700,2, 2405.300,2
           NA,    P03C,    291,   1,-999.0,     -99,  2,20060103,0706,  24.2473,  144.2338,  4910, 4969.900,    1.469,   34.695,2,   34.695,6,  160.540,1,  170.160,2,  136.460,2,   34.720,2,    0.000,2,    2.436,2,    0.000,2,    0.000,2, -999.000,9, 2306.700,2, 2405.800,2