BOTTLE,20211903JOAExport
EXPOCODE,SECT_ID,STNNBR,CASTNO,SAMPNO,BTLNBR,BTLNBR_FLAG_W,DATE,TIME,LATITUDE,LONGITUDE,DEPTH,CTDPRS,CTDTMP,CTDSAL,CTDSAL_FLAG_W,SALNTY,SALNTY_FLAG_W,CTDOXY,CTDOXY_FLAG_W,OXYGEN,OXYGEN_FLAG_W,SILCAT,SILCAT_FLAG_W,NITRAT,NITRAT_FLAG_W,NITRIT,NITRIT_FLAG_W,PHSPHT,PHSPHT_FLAG_W,CFC-11,CFC-11_FLAG_W,CFC-12,CFC-12_FLAG_W,SF6,SF6_FLAG_W,TCARBN,TCARBN_FLAG_W,ALKALI,ALKALI_FLAG_W
,,,,,,,,,,,,DB,ITS-90,PSS-78,,PSS-78,,UMOL/KG,,UMOL/KG,,UMOL/KG,,UMOL/KG,,UMOL/KG,,UMOL/KG,,PMOL/KG,,PMOL/KG,,FMOL/KG,,UMOL/KG,,UMOL/KG
           NA,    P03C,    310,   1,-999.0,     -99,  2,20060105,0325,  24.2665,  140.7927,  2679,   10.600,   24.093,   34.829,2,   34.830,2,  193.920,1,  210.180,2,    1.170,2,    0.030,2,    0.000,2,    0.043,2,    1.749,2,    1.028,2, -999.000,9, 1958.900,2, 2287.400,2
           NA,    P03C,    310,   1,-999.0,     -99,  2,20060105,0325,  24.2665,  140.7927,  2679,   50.100,   23.200,   34.897,2,   34.897,2,  197.350,1,  213.700,2,    1.420,2,    0.010,2,    0.000,2,    0.041,2,    1.834,2,    1.072,2, -999.000,9, 1971.100,6, 2290.300,2
           NA,    P03C,    310,   1,-999.0,     -99,  2,20060105,0325,  24.2665,  140.7927,  2679,  100.500,   22.931,   34.899,2,   34.899,2,  197.650,1,  214.390,2,    1.440,2,    0.010,2,    0.000,2,    0.044,2,    1.858,2,    1.087,2, -999.000,9, 1970.700,2, 2292.300,6
           NA,    P03C,    310,   1,-999.0,     -99,  2,20060105,0325,  24.2665,  140.7927,  2679,  149.600,   19.705,   34.866,2,   34.867,2,  192.020,1,  207.670,2,    2.370,2,    1.830,2,    0.060,2,    0.177,2,    2.223,2,    1.278,2, -999.000,9, 2010.800,2, 2288.300,2
           NA,    P03C,    310,   1,-999.0,     -99,  2,20060105,0325,  24.2665,  140.7927,  2679,  199.600,   17.933,   34.823,2,   34.820,2,  188.300,1,  204.240,2,    3.360,2,    3.840,2,    0.010,2,    0.299,2,    2.366,2,    1.348,2, -999.000,9, 2025.600,2, 2284.100,2
           NA,    P03C,    310,   1,-999.0,     -99,  2,20060105,0325,  24.2665,  140.7927,  2679,  250.000,   17.086,   34.775,2,   34.773,2,  192.070,1,  207.520,2,    4.290,2,    4.870,2,    0.010,2,    0.362,2,    2.419,6,    1.372,6, -999.000,9, 2031.800,2, 2282.400,2
           NA,    P03C,    310,   1,-999.0,     -99,  2,20060105,0325,  24.2665,  140.7927,  2679,  302.000,   16.414,   34.716,2,   34.715,2,  186.330,1,  201.480,2,    5.950,2,    6.430,2,    0.000,2,    0.463,2,    2.463,2,    1.376,2, -999.000,9, 2042.000,2, 2282.000,2
           NA,    P03C,    310,   1,-999.0,     -99,  2,20060105,0325,  24.2665,  140.7927,  2679,  399.500,   13.481,   34.484,2,   34.476,2,  171.690,1,  184.560,2,   15.480,2,   12.770,2,    0.000,2,    0.915,2,    2.483,2,    1.303,2, -999.000,9, 2087.700,2, 2274.500,2
           NA,    P03C,    310,   1,-999.0,     -99,  2,20060105,0325,  24.2665,  140.7927,  2679,  500.500,   10.327,   34.267,2,   34.263,6,  160.320,1,  172.190,2,   29.500,2,   19.090,2,    0.000,2,    1.387,2,    2.406,2,    1.225,2, -999.000,9, 2132.500,2, 2275.800,2
           NA,    P03C,    310,   1,-999.0,     -99,  2,20060105,0325,  24.2665,  140.7927,  2679,  599.000,    7.583,   34.116,2,   34.118,2,  136.930,1,  144.780,2,   49.450,2,   26.370,2,    0.000,2,    1.928,2,    2.063,2,    1.014,2, -999.000,9, 2190.700,2, 2287.000,2
           NA,    P03C,    310,   1,-999.0,     -99,  2,20060105,0325,  24.2665,  140.7927,  2679,  700.200,    5.833,   34.108,2,   34.113,2,  100.430,1,  105.970,2,   72.560,2,   32.980,2,    0.000,2,    2.409,2,    1.407,2,    0.682,2, -999.000,9, 2248.400,6, 2305.900,2
           NA,    P03C,    310,   1,-999.0,     -99,  2,20060105,0325,  24.2665,  140.7927,  2679,  801.300,    4.792,   34.201,2,   34.202,2,   68.080,1,   72.560,2,   94.090,2,   37.650,2,    0.000,2,    2.730,2,    0.718,6,    0.353,6, -999.000,9, 2295.600,2, 2329.000,6
           NA,    P03C,    310,   1,-999.0,     -99,  2,20060105,0325,  24.2665,  140.7927,  2679,  900.700,    4.035,   34.292,2,   34.294,2,   49.250,1,   52.450,2,  111.290,2,   40.450,2,    0.000,2,    2.922,2,    0.296,2,    0.145,2, -999.000,9, 2328.500,2, 2350.100,2
           NA,    P03C,    310,   1,-999.0,     -99,  2,20060105,0325,  24.2665,  140.7927,  2679,  999.700,    3.485,   34.380,2,   34.381,6,   46.920,1,   50.240,2,  124.900,2,   41.410,2,    0.000,2,    2.984,2,    0.135,2,    0.063,2, -999.000,9, 2347.000,2, -999.000,3
           NA,    P03C,    310,   1,-999.0,     -99,  2,20060105,0325,  24.2665,  140.7927,  2679, 1201.300,    2.976,   34.460,2, -999.000,3,   54.730,1,   59.060,2,  136.010,2,   41.380,2,    0.000,2,    2.968,2,    0.061,2,    0.027,2, -999.000,9, 2357.000,2, 2382.100,2
           NA,    P03C,    310,   1,-999.0,     -99,  2,20060105,0325,  24.2665,  140.7927,  2679, 1399.300,    2.562,   34.526,2,   34.526,2,   69.700,1,   75.190,2,  141.950,2,   40.610,2,    0.000,2,    2.902,2,    0.028,2,    0.010,2, -999.000,9, 2354.700,2, 2395.600,2
           NA,    P03C,    310,   1,-999.0,     -99,  2,20060105,0325,  24.2665,  140.7927,  2679, 1599.900,    2.312,   34.563,2,   34.563,2,   81.040,1,   87.100,2,  144.750,2,   39.950,2,    0.000,2,    2.844,2,    0.010,2,    0.006,2, -999.000,9, 2352.000,2, 2403.100,2
           NA,    P03C,    310,   1,-999.0,     -99,  2,20060105,0325,  24.2665,  140.7927,  2679, 1799.900,    2.086,   34.601,2,   34.600,2,   97.240,1,  104.550,2,  144.440,2,   38.920,2,    0.000,2,    2.760,2,    0.005,2,    0.000,2, -999.000,9, 2345.000,2, 2408.200,2
           NA,    P03C,    310,   1,-999.0,     -99,  2,20060105,0325,  24.2665,  140.7927,  2679, 2000.300,    1.926,   34.624,2,   34.625,6,  107.900,1,  116.050,2,  144.590,2,   38.290,2,    0.000,2,    2.705,2,    0.005,2,    0.002,2, -999.000,9, 2340.600,2, 2409.300,2
           NA,    P03C,    310,   1,-999.0,     -99,  2,20060105,0325,  24.2665,  140.7927,  2679, 2199.500,    1.838,   34.637,2,   34.637,2,  113.950,1,  122.180,2,  144.770,2,   38.000,2,    0.000,2,    2.677,2,    0.005,2,    0.000,2, -999.000,9, 2338.500,2, 2411.200,2
           NA,    P03C,    310,   1,-999.0,     -99,  2,20060105,0325,  24.2665,  140.7927,  2679, 2399.600,    1.765,   34.647,2,   34.648,2,  119.230,1,  127.860,2,  144.800,2,   37.610,2,    0.000,2,    2.655,2,    0.003,2,    0.000,2, -999.000,9, 2335.400,6, 2412.200,2
           NA,    P03C,    310,   1,-999.0,     -99,  2,20060105,0325,  24.2665,  140.7927,  2679, 2601.500,    1.717,   34.654,2,   34.654,2,  123.440,1,  131.930,2,  144.530,2,   37.350,2,    0.000,2,    2.630,2,    0.008,2,    0.002,2, -999.000,9, 2332.600,2, 2411.800,6
           NA,    P03C,    310,   1,-999.0,     -99,  2,20060105,0325,  24.2665,  140.7927,  2679, 2697.300,    1.698,   34.657,2,   34.657,6,  125.320,1,  133.490,2,  144.610,2,   37.230,2,    0.000,2,    2.625,2,    0.007,2,    0.000,2, -999.000,9, 2332.200,2, 2412.100,2
           NA,    P03C,    308,   1,-999.0,     -99,  2,20060104,2345,  24.2525,  141.2007,  1833,    9.700,   23.761,   34.858,2,   34.858,2,  194.920,1,  211.150,2,    1.290,2,    0.040,2,    0.010,2,    0.034,2,    1.763,2,    1.042,2, -999.000,9, -999.000,9, -999.000,9
           NA,    P03C,    308,   1,-999.0,     -99,  2,20060104,2345,  24.2525,  141.2007,  1833,   49.800,   23.672,   34.876,2,   34.876,2,  195.470,1,  211.870,2,    1.360,2,    0.030,2,    0.010,2,    0.033,2,    1.780,2,    1.053,2, -999.000,9, -999.000,9, -999.000,9
           NA,    P03C,    308,   1,-999.0,     -99,  2,20060104,2345,  24.2525,  141.2007,  1833,   99.600,   23.410,   34.870,2,   34.872,2,  196.180,1,  213.010,2,    1.380,2,    0.030,2,    0.010,2,    0.034,2,    1.817,2,    1.072,2, -999.000,9, -999.000,9, -999.000,9
           NA,    P03C,    308,   1,-999.0,     -99,  2,20060104,2345,  24.2525,  141.2007,  1833,  149.900,   19.212,   34.876,2,   34.873,2,  189.850,1,  205.340,2,    2.560,2,    2.070,2,    0.040,2,    0.192,2,    2.253,2,    1.285,2, -999.000,9, -999.000,9, -999.000,9
           NA,    P03C,    308,   1,-999.0,     -99,  2,20060104,2345,  24.2525,  141.2007,  1833,  199.400,   17.533,   34.808,2,   34.807,2,  194.160,1,  209.560,2,    3.630,2,    4.050,2,    0.010,2,    0.301,2,    2.367,2,    1.335,2, -999.000,9, -999.000,9, -999.000,9
           NA,    P03C,    308,   1,-999.0,     -99,  2,20060104,2345,  24.2525,  141.2007,  1833,  250.400,   16.877,   34.756,2,   34.754,2,  189.380,1,  204.470,2,    4.880,2,    5.470,2,    0.010,2,    0.397,2,    2.425,6,    1.343,6, -999.000,9, -999.000,9, -999.000,9
           NA,    P03C,    308,   1,-999.0,     -99,  2,20060104,2345,  24.2525,  141.2007,  1833,  300.600,   15.955,   34.677,2,   34.674,2,  183.340,1,  197.600,2,    7.400,2,    7.550,2,    0.010,2,    0.540,2,    2.478,2,    1.348,2, -999.000,9, -999.000,9, -999.000,9
           NA,    P03C,    308,   1,-999.0,     -99,  2,20060104,2345,  24.2525,  141.2007,  1833,  401.900,   13.871,   34.516,2,   34.510,2,  173.330,1,  185.800,2,   14.410,2,   11.990,2,    0.020,2,    0.863,2,    2.522,2,    1.323,2, -999.000,9, -999.000,9, -999.000,9
           NA,    P03C,    308,   1,-999.0,     -99,  2,20060104,2345,  24.2525,  141.2007,  1833,  499.800,   10.991,   34.313,2,   34.307,6,  163.040,1,  174.770,2,   26.470,2,   17.780,2,    0.010,2,    1.289,2,    2.481,2,    1.261,2, -999.000,9, -999.000,9, -999.000,9
           NA,    P03C,    308,   1,-999.0,     -99,  2,20060104,2345,  24.2525,  141.2007,  1833,  600.300,    8.474,   34.152,2,   34.152,2,  145.550,1,  155.510,2,   40.560,2,   23.770,2,    0.010,2,    1.732,2,    2.223,2,    1.101,2, -999.000,9, -999.000,9, -999.000,9
           NA,    P03C,    308,   1,-999.0,     -99,  2,20060104,2345,  24.2525,  141.2007,  1833,  701.100,    6.721,   34.111,2,   34.112,2,  117.560,1,  125.240,2,   60.680,2,   29.650,2,    0.010,2,    2.168,2,    1.768,2,    0.854,2, -999.000,9, -999.000,9, -999.000,9
           NA,    P03C,    308,   1,-999.0,     -99,  2,20060104,2345,  24.2525,  141.2007,  1833,  800.100,    4.963,   34.186,2,   34.187,2,   69.250,1,   73.740,2,   89.660,2,   37.240,2,    0.010,2,    2.710,2,    0.765,6,    0.365,6, -999.000,9, -999.000,9, -999.000,9
           NA,    P03C,    308,   1,-999.0,     -99,  2,20060104,2345,  24.2525,  141.2007,  1833,  900.000,    4.427,   34.263,2,   34.263,2,   57.320,1,   61.310,2,  102.340,2,   39.140,2,    0.010,2,    2.840,2,    0.468,2,    0.225,2, -999.000,9, -999.000,9, -999.000,9
           NA,    P03C,    308,   1,-999.0,     -99,  2,20060104,2345,  24.2525,  141.2007,  1833, 1000.400,    3.795,   34.325,2,   34.325,6,   49.600,1,   52.930,2,  117.430,2,   40.660,2,    0.010,2,    2.944,2,    0.294,2,    0.144,2, -999.000,9, -999.000,9, -999.000,9
           NA,    P03C,    308,   1,-999.0,     -99,  2,20060104,2345,  24.2525,  141.2007,  1833, 1201.300,    3.139,   34.436,2,   34.437,2,   54.650,1,   58.290,2,  132.130,2,   41.110,2,    0.010,2,    2.962,2,    0.103,2,    0.046,2, -999.000,9, -999.000,9, -999.000,9
           NA,    P03C,    308,   1,-999.0,     -99,  2,20060104,2345,  24.2525,  141.2007,  1833, 1400.800,    2.669,   34.511,2,   34.511,2,   66.980,1,   71.590,2,  140.140,2,   40.650,2,    0.010,2,    2.916,2,    0.033,2,    0.013,2, -999.000,9, -999.000,9, -999.000,9
           NA,    P03C,    308,   1,-999.0,     -99,  2,20060104,2345,  24.2525,  141.2007,  1833, 1601.600,    2.359,   34.558,2,   34.558,2,   81.390,1,   86.860,2,  143.250,2,   39.900,2,    0.010,2,    2.846,2, -999.000,5, -999.000,5, -999.000,9, -999.000,9, -999.000,9
           NA,    P03C,    308,   1,-999.0,     -99,  2,20060104,2345,  24.2525,  141.2007,  1833, 1841.200,    2.026,   34.609,2,   34.609,6,  101.660,1,  108.310,2,  144.160,2,   38.620,2,    0.010,2,    2.750,2,    0.001,2,    0.001,2, -999.000,9, -999.000,9, -999.000,9
           NA,    P03C,    306,   1,-999.0,     -99,  2,20060104,2038,  24.2420,  141.4058,   884,    8.700,   24.437,   34.818,2,   34.818,2,  192.380,1,  208.420,2,    1.220,2,    0.070,2,    0.000,2,    0.047,2,    1.684,2,    1.018,2, -999.000,9, 1953.700,2, 2283.700,2
           NA,    P03C,    306,   1,-999.0,     -99,  2,20060104,2038,  24.2420,  141.4058,   884,   49.200,   24.173,   34.821,2,   34.824,2,  193.650,1,  209.940,2,    1.270,2,    0.050,2,    0.000,2,    0.046,2,    1.708,2,    1.038,2, -999.000,9, 1959.600,6, 2285.600,2
           NA,    P03C,    306,   1,-999.0,     -99,  2,20060104,2038,  24.2420,  141.4058,   884,   99.700,   23.627,   34.874,2,   34.875,2,  195.110,1,  211.310,2,    1.430,2,    0.050,2,    0.000,2,    0.046,2,    1.770,2,    1.065,2, -999.000,9, 1969.800,2, 2291.300,6
           NA,    P03C,    306,   1,-999.0,     -99,  2,20060104,2038,  24.2420,  141.4058,   884,  149.800,   19.248,   34.851,2,   34.849,2,  192.690,1,  208.300,2,    2.890,2,    2.390,2,    0.040,2,    0.211,2,    2.209,2,    1.279,2, -999.000,9, 2016.300,2, 2285.900,2
           NA,    P03C,    306,   1,-999.0,     -99,  2,20060104,2038,  24.2420,  141.4058,   884,  201.400,   18.170,   34.821,2,   34.821,2,  191.620,1,  206.930,2,    3.570,2,    3.490,2,    0.020,2,    0.282,2,    2.291,2,    1.304,2, -999.000,9, 2026.600,2, 2285.900,2
           NA,    P03C,    306,   1,-999.0,     -99,  2,20060104,2038,  24.2420,  141.4058,   884,  250.000,   17.503,   34.794,2,   34.794,2,  192.420,1,  207.720,2,    4.140,2,    4.340,2,    0.010,2,    0.334,2,    2.355,6,    1.343,6, -999.000,9, 2029.700,2, 2286.900,2
           NA,    P03C,    306,   1,-999.0,     -99,  2,20060104,2038,  24.2420,  141.4058,   884,  298.900,   16.951,   34.753,2,   34.747,2,  189.580,1,  203.990,2,    5.780,2,    5.630,2,    0.010,2,    0.412,2,    2.402,2,    1.341,2, -999.000,9, 2039.900,2, 2284.100,2
           NA,    P03C,    306,   1,-999.0,     -99,  2,20060104,2038,  24.2420,  141.4058,   884,  401.900,   15.404,   34.636,2,   34.636,2,  181.190,1,  195.110,2,    9.990,2,    8.690,2,    0.010,2,    0.628,2,    2.456,2,    1.341,2, -999.000,9, 2061.800,2, 2277.800,2
           NA,    P03C,    306,   1,-999.0,     -99,  2,20060104,2038,  24.2420,  141.4058,   884,  501.700,   10.824,   34.317,2,   34.315,6,  158.710,1,  169.470,2,   29.760,2,   18.600,2,    0.000,2,    1.349,2,    2.369,2,    1.210,2, -999.000,9, 2134.600,2, 2282.600,2
           NA,    P03C,    306,   1,-999.0,     -99,  2,20060104,2038,  24.2420,  141.4058,   884,  598.500,    7.720,   34.145,2,   34.145,2,  132.880,1,  139.880,2,   52.070,2,   26.770,2,    0.000,2,    1.959,2,    1.981,2,    0.981,2, -999.000,9, 2200.100,2, 2288.400,2
           NA,    P03C,    306,   1,-999.0,     -99,  2,20060104,2038,  24.2420,  141.4058,   884,  702.400,    5.617,   34.144,2,   34.143,2,   94.840,1,  100.800,2,   77.650,2,   33.700,2,    0.000,2,    2.460,2,    1.339,2,    0.650,2, -999.000,9, 2260.300,6, 2314.100,2
           NA,    P03C,    306,   1,-999.0,     -99,  2,20060104,2038,  24.2420,  141.4058,   884,  800.400,    4.736,   34.220,2,   34.223,2,   70.260,1,   74.150,2,   96.990,2,   37.580,2,    0.000,2,    2.730,2,    0.778,6,    0.379,6, -999.000,9, 2298.200,2, 2330.300,6
           NA,    P03C,    306,   1,-999.0,     -99,  2,20060104,2038,  24.2420,  141.4058,   884,  880.700,    4.321,   34.259,2,   34.258,6,   61.520,1,   65.420,2,  105.290,2,   38.940,2,    0.000,2,    2.824,2,    0.585,2,    0.283,2, -999.000,9, 2316.300,2, 2338.200,2
           NA,    P03C,    305,   1,-999.0,     -99,  2,20060104,1728,  24.2437,  141.5590,  1328,    9.400,   24.613,   34.810,2,   34.808,2,  191.490,1,  207.750,2,    1.150,2,    0.070,2,    0.000,2,    0.043,2,    1.705,2,    1.003,2, -999.000,9, 1947.500,2, 2285.700,2
           NA,    P03C,    305,   1,-999.0,     -99,  2,20060104,1728,  24.2437,  141.5590,  1328,   50.900,   24.283,   34.822,2,   34.822,2,  192.880,1,  209.210,2,    1.300,2,    0.060,2,    0.000,2,    0.045,2,    1.738,2,    1.020,2, -999.000,9, 1956.200,6, 2287.800,2
           NA,    P03C,    305,   1,-999.0,     -99,  2,20060104,1728,  24.2437,  141.5590,  1328,  100.000,   23.351,   34.869,2,   34.866,2,  195.140,1,  211.850,2,    1.550,2,    0.120,2,    0.020,2,    0.057,2,    1.881,2,    1.094,2, -999.000,9, 1974.200,2, 2287.700,6
           NA,    P03C,    305,   1,-999.0,     -99,  2,20060104,1728,  24.2437,  141.5590,  1328,  148.600,   18.856,   34.873,2,   34.872,2,  186.130,1,  201.680,2,    2.860,2,    2.860,2,    0.020,2,    0.249,2,    2.294,2,    1.305,2, -999.000,9, 2024.400,2, 2296.100,2
           NA,    P03C,    305,   1,-999.0,     -99,  2,20060104,1728,  24.2437,  141.5590,  1328,  199.300,   17.955,   34.826,2,   34.822,2,  191.630,1,  207.840,2,    3.360,2,    3.670,2,    0.010,2,    0.288,2,    2.351,2,    1.337,2, -999.000,9, 2022.700,2, 2286.100,2
           NA,    P03C,    305,   1,-999.0,     -99,  2,20060104,1728,  24.2437,  141.5590,  1328,  251.600,   17.238,   34.787,2,   34.787,2,  193.100,1,  208.860,2,    4.080,2,    4.550,2,    0.010,2,    0.336,2,    2.399,6,    1.361,6, -999.000,9, 2024.600,2, 2285.400,2
           NA,    P03C,    305,   1,-999.0,     -99,  2,20060104,1728,  24.2437,  141.5590,  1328,  299.800,   16.558,   34.729,2,   34.725,2,  187.600,1,  202.330,2,    5.770,2,    6.250,2,    0.000,2,    0.453,2,    2.446,2,    1.364,2, -999.000,9, 2037.600,2, 2284.300,2
           NA,    P03C,    305,   1,-999.0,     -99,  2,20060104,1728,  24.2437,  141.5590,  1328,  399.200,   14.024,   34.530,2,   34.516,2,  173.700,1,  186.010,2,   15.030,2,   11.990,2,    0.000,2,    0.862,2,    2.503,2,    1.334,2, -999.000,9, 2082.800,2, 2276.500,2
           NA,    P03C,    305,   1,-999.0,     -99,  2,20060104,1728,  24.2437,  141.5590,  1328,  500.000,    9.974,   34.246,2,   34.246,6,  158.660,1,  170.160,2,   31.590,2,   19.840,2,    0.000,2,    1.437,2,    2.393,2,    1.205,2, -999.000,9, 2140.800,2, 2279.100,2
           NA,    P03C,    305,   1,-999.0,     -99,  2,20060104,1728,  24.2437,  141.5590,  1328,  599.500,    8.752,   34.196,2,   34.196,2,  144.870,1,  154.870,2,   42.900,2,   23.450,2,    0.000,2,    1.709,2,    2.175,2,    1.085,2, -999.000,9, 2172.000,2, 2285.500,2
           NA,    P03C,    305,   1,-999.0,     -99,  2,20060104,1728,  24.2437,  141.5590,  1328,  699.900,    6.196,   34.093,2,   34.094,2,  114.560,1,  122.750,2,   66.080,2,   30.860,2,    0.000,2,    2.253,2,    1.753,2,    0.851,2, -999.000,9, 2229.900,6, 2299.600,2
           NA,    P03C,    305,   1,-999.0,     -99,  2,20060104,1728,  24.2437,  141.5590,  1328,  800.300,    4.968,   34.179,2,   34.180,2,   77.360,1,   82.180,2,   90.340,2,   36.450,2,    0.000,2,    2.658,2,    0.933,6,    0.457,6, -999.000,9, 2283.900,2, 2325.200,6
           NA,    P03C,    305,   1,-999.0,     -99,  2,20060104,1728,  24.2437,  141.5590,  1328,  901.200,    4.412,   34.240,2,   34.241,2,   63.460,1,   67.800,2,  102.960,2,   38.480,2,    0.000,2,    2.789,2,    0.613,2,    0.302,2, -999.000,9, 2309.100,2, 2337.500,2
           NA,    P03C,    305,   1,-999.0,     -99,  2,20060104,1728,  24.2437,  141.5590,  1328, 1000.500,    3.781,   34.314,2,   34.315,6,   49.180,1,   52.390,2,  117.470,2,   40.640,2,    0.000,2,    2.942,2,    0.294,2,    0.149,2, -999.000,9, 2335.300,2, 2356.100,2
           NA,    P03C,    305,   1,-999.0,     -99,  2,20060104,1728,  24.2437,  141.5590,  1328, 1201.100,    2.968,   34.445,2,   34.446,2,   48.900,1,   52.020,2,  137.960,2,   41.970,2,    0.000,2,    3.008,2,    0.064,2,    0.029,2, -999.000,9, 2358.200,2, 2379.300,2
           NA,    P03C,    305,   1,-999.0,     -99,  2,20060104,1728,  24.2437,  141.5590,  1328, 1358.500,    2.794,   34.473,2,   34.472,6,   53.140,1,   56.180,2,  141.310,2,   41.760,2,    0.000,2,    3.002,2,    0.047,2,    0.024,2, -999.000,9, 2360.300,2, 2385.800,2