BOTTLE,20211903JOAExport
EXPOCODE,SECT_ID,STNNBR,CASTNO,SAMPNO,BTLNBR,BTLNBR_FLAG_W,DATE,TIME,LATITUDE,LONGITUDE,DEPTH,CTDPRS,CTDTMP,CTDSAL,CTDSAL_FLAG_W,SALNTY,SALNTY_FLAG_W,CTDOXY,CTDOXY_FLAG_W,OXYGEN,OXYGEN_FLAG_W,SILCAT,SILCAT_FLAG_W,NITRAT,NITRAT_FLAG_W,NITRIT,NITRIT_FLAG_W,PHSPHT,PHSPHT_FLAG_W,CFC-11,CFC-11_FLAG_W,CFC-12,CFC-12_FLAG_W,SF6,SF6_FLAG_W,TCARBN,TCARBN_FLAG_W,ALKALI,ALKALI_FLAG_W
,,,,,,,,,,,,DB,ITS-90,PSS-78,,PSS-78,,UMOL/KG,,UMOL/KG,,UMOL/KG,,UMOL/KG,,UMOL/KG,,UMOL/KG,,PMOL/KG,,PMOL/KG,,FMOL/KG,,UMOL/KG,,UMOL/KG
           NA,    P03C,    259,   1,-999.0,     -99,  2,20051227,2018,  24.2965,  155.2132,  5581,   11.000,   25.380,   35.207,2,   35.207,2,  192.720,1,  206.680,2,    1.110,2,    0.040,2,    0.000,2,    0.040,2,    1.657,2,    0.986,2, -999.000,9, 1968.000,2, 2307.700,2
           NA,    P03C,    259,   1,-999.0,     -99,  2,20051227,2018,  24.2965,  155.2132,  5581,   50.300,   25.390,   35.207,2,   35.207,2,  192.650,1,  206.660,2,    1.070,2,    0.030,2,    0.000,2,    0.037,2,    1.663,2,    0.989,2, -999.000,9, 1970.500,6, 2307.000,2
           NA,    P03C,    259,   1,-999.0,     -99,  2,20051227,2018,  24.2965,  155.2132,  5581,  100.200,   23.314,   35.063,2,   35.068,2,  214.280,1,  229.510,2,    1.460,2,    0.040,2,    0.000,2,    0.039,2,    1.967,2,    1.169,2, -999.000,9, 1984.300,2, 2300.600,6
           NA,    P03C,    259,   1,-999.0,     -99,  2,20051227,2018,  24.2965,  155.2132,  5581,  149.000,   18.810,   34.872,2,   34.872,2,  196.070,1,  210.290,2,    2.440,2,    0.710,2,    0.040,2,    0.141,2,    2.205,2,    1.304,2, -999.000,9, 2022.200,2, 2290.600,2
           NA,    P03C,    259,   1,-999.0,     -99,  2,20051227,2018,  24.2965,  155.2132,  5581,  199.300,   17.301,   34.783,2,   34.783,2,  190.080,1,  203.590,2,    3.780,2,    4.710,2,    0.010,2,    0.350,2,    2.310,2,    1.363,2, -999.000,9, 2035.300,2, 2280.300,2
           NA,    P03C,    259,   1,-999.0,     -99,  2,20051227,2018,  24.2965,  155.2132,  5581,  248.800,   16.531,   34.726,2,   34.726,2,  191.480,1,  205.090,2,    5.050,2,    5.820,2,    0.010,2,    0.419,2,    2.389,2,    1.378,2, -999.000,9, 2039.000,2, 2279.700,2
           NA,    P03C,    259,   1,-999.0,     -99,  2,20051227,2018,  24.2965,  155.2132,  5581,  299.900,   15.693,   34.651,2,   34.648,2,  189.880,1,  203.200,2,    6.910,2,    7.260,2,    0.010,2,    0.523,2,    2.465,2,    1.402,2, -999.000,9, 2048.500,2, 2278.800,2
           NA,    P03C,    259,   1,-999.0,     -99,  2,20051227,2018,  24.2965,  155.2132,  5581,  399.700,   13.055,   34.434,2,   34.433,2,  185.840,1,  198.820,2,   13.050,2,   11.660,2,    0.010,2,    0.842,2,    2.625,2,    1.421,2, -999.000,9, 2082.400,2, 2272.200,2
           NA,    P03C,    259,   1,-999.0,     -99,  2,20051227,2018,  24.2965,  155.2132,  5581,  499.800,   10.410,   34.238,2,   34.234,6,  173.640,1,  185.350,2,   23.310,2,   17.540,2,    0.000,2,    1.269,2,    2.598,2,    1.347,2, -999.000,9, 2121.300,2, 2271.000,2
           NA,    P03C,    259,   1,-999.0,     -99,  2,20051227,2018,  24.2965,  155.2132,  5581,  600.000,    7.700,   34.084,2,   34.083,2,  141.490,1,  150.990,2,   43.410,2,   25.670,2,    0.010,2,    1.871,2,    2.112,2,    1.057,2, -999.000,9, 2182.600,2, 2279.800,2
           NA,    P03C,    259,   1,-999.0,     -99,  2,20051227,2018,  24.2965,  155.2132,  5581,  699.400,    5.812,   34.062,2,   34.063,2,  100.880,1,  107.120,2,   67.990,2,   33.030,2,    0.010,2,    2.418,2,    1.482,2,    0.713,2, -999.000,9, 2243.300,6, 2297.600,2
           NA,    P03C,    259,   1,-999.0,     -99,  2,20051227,2018,  24.2965,  155.2132,  5581,  799.100,    4.847,   34.148,2,   34.150,2,   62.930,1,   67.030,2,   89.240,2,   38.160,2,    0.010,2,    2.788,2,    0.706,2,    0.341,2, -999.000,9, 2293.700,2, 2319.000,6
           NA,    P03C,    259,   1,-999.0,     -99,  2,20051227,2018,  24.2965,  155.2132,  5581,  901.600,    4.123,   34.261,2,   34.261,2,   41.070,1,   43.670,2,  108.310,2,   41.130,2,    0.000,2,    2.986,2,    0.256,2,    0.119,2, -999.000,9, 2328.000,2, 2344.700,2
           NA,    P03C,    259,   1,-999.0,     -99,  2,20051227,2018,  24.2965,  155.2132,  5581, 1000.900,    3.631,   34.362,2,   34.363,6,   37.190,1,   39.470,2,  122.100,2,   42.080,2,    0.000,2,    3.048,2,    0.093,2,    0.039,2, -999.000,9, 2348.100,2, 2360.500,2
           NA,    P03C,    259,   1,-999.0,     -99,  2,20051227,2018,  24.2965,  155.2132,  5581, 1201.900,    3.110,   34.470,2,   34.469,2,   47.880,1,   51.100,2,  134.080,2,   41.930,2,    0.010,2,    3.015,2,    0.031,2,    0.014,2, -999.000,9, 2356.200,2, 2378.200,2
           NA,    P03C,    259,   1,-999.0,     -99,  2,20051227,2018,  24.2965,  155.2132,  5581, 1400.600,    2.734,   34.527,2,   34.528,2,   60.710,1,   65.740,2,  140.540,2,   41.210,2,    0.010,2,    2.958,2,    0.017,2,    0.007,2, -999.000,9, 2355.800,2, 2390.200,2
           NA,    P03C,    259,   1,-999.0,     -99,  2,20051227,2018,  24.2965,  155.2132,  5581, 1600.600,    2.382,   34.568,2,   34.568,2,   73.590,1,   79.210,2,  146.170,2,   40.510,2,    0.010,2,    2.902,2,    0.015,2,    0.003,2, -999.000,9, 2357.000,2, 2400.500,2
           NA,    P03C,    259,   1,-999.0,     -99,  2,20051227,2018,  24.2965,  155.2132,  5581, 1801.800,    2.122,   34.596,2,   34.596,2,   83.550,1,   90.400,2,  149.460,2,   39.680,2,    0.010,2,    2.841,2,    0.006,2,    0.000,2, -999.000,9, 2354.000,2, 2405.300,2
           NA,    P03C,    259,   1,-999.0,     -99,  2,20051227,2018,  24.2965,  155.2132,  5581, 2001.500,    1.954,   34.614,2,   34.615,2,   91.250,1,   98.780,2,  152.050,2,   39.380,2,    0.010,2,    2.803,2,    0.004,2,    0.000,2, -999.000,9, 2352.800,2, 2408.500,2
           NA,    P03C,    259,   1,-999.0,     -99,  2,20051227,2018,  24.2965,  155.2132,  5581, 2203.200,    1.842,   34.630,2,   34.630,6,   98.830,1,  107.110,2,  152.710,2,   38.890,2,    0.010,2,    2.764,2,    0.003,2,    0.000,2, -999.000,9, 2348.300,2, 2409.100,2
           NA,    P03C,    259,   1,-999.0,     -99,  2,20051227,2018,  24.2965,  155.2132,  5581, 2399.900,    1.742,   34.641,2,   34.641,2,  105.130,1,  114.220,2,  153.380,2,   38.590,2,    0.010,2,    2.735,2,    0.000,2,    0.000,2, -999.000,9, 2346.600,6, 2411.100,2
           NA,    P03C,    259,   1,-999.0,     -99,  2,20051227,2018,  24.2965,  155.2132,  5581, 2598.300,    1.657,   34.652,2,   34.653,2,  112.610,1,  122.690,2,  152.970,2,   38.050,2,    0.010,2,    2.692,2, -999.000,9, -999.000,9, -999.000,9, 2343.900,2, 2412.800,6
           NA,    P03C,    259,   1,-999.0,     -99,  2,20051227,2018,  24.2965,  155.2132,  5581, 2800.500,    1.603,   34.660,2,   34.660,2,  118.220,1,  128.740,2,  151.850,2,   37.660,2,    0.010,2,    2.662,2, -999.000,9, -999.000,9, -999.000,9, 2339.400,2, 2413.200,2
           NA,    P03C,    259,   1,-999.0,     -99,  2,20051227,2018,  24.2965,  155.2132,  5581, 2999.300,    1.565,   34.666,2,   34.667,2,  122.280,1,  133.460,2,  151.900,2,   37.250,2,    0.000,2,    2.637,2,    0.004,2,    0.000,2, -999.000,9, 2337.800,2, 2413.700,2
           NA,    P03C,    259,   1,-999.0,     -99,  2,20051227,2018,  24.2965,  155.2132,  5581, 3252.800,    1.522,   34.673,2,   34.673,6,  127.710,1,  139.190,2,  150.740,2,   36.930,2,    0.000,2,    2.594,2, -999.000,9, -999.000,9, -999.000,9, 2332.800,2, 2414.600,2
           NA,    P03C,    259,   1,-999.0,     -99,  2,20051227,2018,  24.2965,  155.2132,  5581, 3500.300,    1.492,   34.678,2,   34.678,2,  132.920,1,  144.920,2,  149.360,2,   36.520,2,    0.000,2,    2.568,2, -999.000,9, -999.000,9, -999.000,9, 2328.600,2, 2412.200,2
           NA,    P03C,    259,   1,-999.0,     -99,  2,20051227,2018,  24.2965,  155.2132,  5581, 3751.300,    1.469,   34.682,2,   34.682,2,  137.550,1,  149.610,2,  148.430,2,   36.290,2,    0.000,2,    2.548,2,    0.002,2,    0.000,2, -999.000,9, 2326.100,2, 2411.500,2
           NA,    P03C,    259,   1,-999.0,     -99,  2,20051227,2018,  24.2965,  155.2132,  5581, 4000.000,    1.464,   34.686,2,   34.686,2,  141.610,1,  153.790,2,  146.700,2,   35.960,2,    0.000,2,    2.526,2, -999.000,9, -999.000,9, -999.000,9, 2320.700,2, 2412.200,2
           NA,    P03C,    259,   1,-999.0,     -99,  2,20051227,2018,  24.2965,  155.2132,  5581, 4249.800,    1.460,   34.688,2,   34.688,2,  145.160,1,  157.370,2,  145.390,2,   35.680,2,    0.000,2,    2.506,2, -999.000,9, -999.000,9, -999.000,9, 2316.500,6, 2412.200,2
           NA,    P03C,    259,   1,-999.0,     -99,  2,20051227,2018,  24.2965,  155.2132,  5581, 4500.800,    1.466,   34.690,2,   34.690,6,  148.190,1,  160.030,2,  144.090,2,   35.470,2,    0.010,2,    2.490,2,    0.004,2,    0.000,2, -999.000,9, 2318.000,2, 2409.300,6
           NA,    P03C,    259,   1,-999.0,     -99,  2,20051227,2018,  24.2965,  155.2132,  5581, 4749.600,    1.473,   34.692,2,   34.692,2,  151.840,1,  163.470,2,  142.050,2,   35.260,2,    0.000,2,    2.468,2, -999.000,9, -999.000,9, -999.000,9, 2311.800,2, 2407.400,2
           NA,    P03C,    259,   1,-999.0,     -99,  2,20051227,2018,  24.2965,  155.2132,  5581, 5000.700,    1.486,   34.694,2,   34.694,2,  155.260,1,  166.470,2,  140.090,2,   35.040,2,    0.010,2,    2.449,2, -999.000,9, -999.000,9, -999.000,9, 2308.600,2, 2405.100,2
           NA,    P03C,    259,   1,-999.0,     -99,  2,20051227,2018,  24.2965,  155.2132,  5581, 5249.700,    1.504,   34.695,2,   34.695,2,  158.380,1,  168.920,2,  138.420,2,   34.880,2,    0.000,2,    2.441,2,    0.000,2,    0.000,2, -999.000,9, 2306.500,2, 2405.800,2
           NA,    P03C,    259,   1,-999.0,     -99,  2,20051227,2018,  24.2965,  155.2132,  5581, 5500.000,    1.525,   34.696,2,   34.696,2,  161.350,1,  170.870,2,  136.920,2,   34.810,2,    0.010,2,    2.431,2, -999.000,9, -999.000,9, -999.000,9, 2305.400,2, 2402.600,2
           NA,    P03C,    259,   1,-999.0,     -99,  2,20051227,2018,  24.2965,  155.2132,  5581, 5675.400,    1.544,   34.697,2,   34.697,6,  163.600,1,  172.060,2,  135.820,2,   34.750,2,    0.000,2,    2.426,2,    0.000,2,    0.000,2, -999.000,9, 2304.200,2, 2402.700,2
           NA,    P03C,    257,   1,-999.0,     -99,  2,20051227,1206,  24.2265,  156.0697,  5668,   10.800,   25.923,   35.072,2,   35.073,2,  192.340,1,  205.820,2,    1.180,2,    0.060,2,    0.010,2,    0.034,2,    1.608,2,    0.961,2, -999.000,9, -999.000,9, -999.000,9
           NA,    P03C,    257,   1,-999.0,     -99,  2,20051227,1206,  24.2265,  156.0697,  5668,   50.200,   25.934,   35.070,2,   35.072,2,  192.060,1,  205.780,2,    1.180,2,    0.060,2,    0.000,2,    0.030,2,    1.612,2,    0.969,2, -999.000,9, -999.000,9, -999.000,9
           NA,    P03C,    257,   1,-999.0,     -99,  2,20051227,1206,  24.2265,  156.0697,  5668,   99.700,   21.137,   34.968,2,   34.968,2,  209.970,1,  225.120,2,    1.820,2,    0.050,2,    0.000,2,    0.043,2,    2.111,2,    1.217,2, -999.000,9, -999.000,9, -999.000,9
           NA,    P03C,    257,   1,-999.0,     -99,  2,20051227,1206,  24.2265,  156.0697,  5668,  149.600,   18.474,   34.857,2,   34.851,2,  190.370,1,  204.040,2,    2.940,2,    2.690,2,    0.020,2,    0.237,2,    2.301,2,    1.278,2, -999.000,9, -999.000,9, -999.000,9
           NA,    P03C,    257,   1,-999.0,     -99,  2,20051227,1206,  24.2265,  156.0697,  5668,  200.400,   17.352,   34.789,2,   34.787,2,  194.350,1,  207.940,2,    3.820,2,    4.420,2,    0.010,2,    0.325,2,    2.379,2,    1.315,2, -999.000,9, -999.000,9, -999.000,9
           NA,    P03C,    257,   1,-999.0,     -99,  2,20051227,1206,  24.2265,  156.0697,  5668,  251.700,   16.601,   34.732,2,   34.731,2,  192.330,1,  205.770,2,    4.980,2,    5.730,2,    0.000,2,    0.407,2,    2.460,6,    1.333,6, -999.000,9, -999.000,9, -999.000,9
           NA,    P03C,    257,   1,-999.0,     -99,  2,20051227,1206,  24.2265,  156.0697,  5668,  300.900,   15.624,   34.646,2,   34.645,2,  190.360,1,  203.500,2,    7.020,2,    7.380,2,    0.000,2,    0.530,2,    2.535,2,    1.349,2, -999.000,9, -999.000,9, -999.000,9
           NA,    P03C,    257,   1,-999.0,     -99,  2,20051227,1206,  24.2265,  156.0697,  5668,  401.500,   12.434,   34.385,2,   34.387,2,  186.070,1,  198.950,2,   14.650,2,   12.690,2,    0.010,2,    0.913,2,    2.759,2,    1.413,2, -999.000,9, -999.000,9, -999.000,9
           NA,    P03C,    257,   1,-999.0,     -99,  2,20051227,1206,  24.2265,  156.0697,  5668,  499.800,    9.861,   34.199,2,   34.199,6,  173.170,1,  185.000,2,   25.790,2,   18.610,2,    0.000,2,    1.339,2,    2.716,2,    1.338,2, -999.000,9, -999.000,9, -999.000,9
           NA,    P03C,    257,   1,-999.0,     -99,  2,20051227,1206,  24.2265,  156.0697,  5668,  600.600,    7.336,   34.067,2,   34.066,2,  137.430,1,  146.320,2,   46.950,2,   26.850,2,    0.000,2,    1.951,2,    2.158,2,    1.039,2, -999.000,9, -999.000,9, -999.000,9
           NA,    P03C,    257,   1,-999.0,     -99,  2,20051227,1206,  24.2265,  156.0697,  5668,  701.600,    5.814,   34.081,2,   34.080,2,   93.020,1,   99.530,2,   68.770,2,   33.860,2,    0.000,2,    2.458,2,    1.279,2,    0.618,2, -999.000,9, -999.000,9, -999.000,9
           NA,    P03C,    257,   1,-999.0,     -99,  2,20051227,1206,  24.2265,  156.0697,  5668,  801.400,    4.751,   34.179,2,   34.179,2,   55.280,1,   59.070,2,   92.430,2,   39.230,2,    0.000,2,    2.853,2,    0.507,6,    0.249,6, -999.000,9, -999.000,9, -999.000,9
           NA,    P03C,    257,   1,-999.0,     -99,  2,20051227,1206,  24.2265,  156.0697,  5668,  901.400,    4.235,   34.269,2,   34.270,2,   42.190,1,   44.990,2,  105.960,2,   41.170,2,    0.000,2,    2.978,2,    0.226,2,    0.112,2, -999.000,9, -999.000,9, -999.000,9
           NA,    P03C,    257,   1,-999.0,     -99,  2,20051227,1206,  24.2265,  156.0697,  5668, 1001.000,    3.844,   34.345,2,   34.345,6,   37.870,1,   40.390,2,  116.470,2,   42.140,2,    0.000,2,    3.047,2,    0.093,2,    0.048,2, -999.000,9, -999.000,9, -999.000,9
           NA,    P03C,    257,   1,-999.0,     -99,  2,20051227,1206,  24.2265,  156.0697,  5668, 1202.200,    3.228,   34.455,2,   34.454,2,   44.900,1,   47.700,2,  131.630,2,   42.220,2,    0.000,2,    3.041,2,    0.020,2,    0.010,2, -999.000,9, -999.000,9, -999.000,9
           NA,    P03C,    257,   1,-999.0,     -99,  2,20051227,1206,  24.2265,  156.0697,  5668, 1402.900,    2.751,   34.533,2,   34.533,2,   63.870,1,   68.830,2,  139.320,2,   41.150,2,    0.000,2,    2.946,2,    0.005,2,    0.003,2, -999.000,9, -999.000,9, -999.000,9
           NA,    P03C,    257,   1,-999.0,     -99,  2,20051227,1206,  24.2265,  156.0697,  5668, 1603.000,    2.430,   34.564,2,   34.564,2,   73.430,1,   79.240,2,  144.680,2,   40.480,2,    0.000,2,    2.898,2,    0.004,2,    0.001,2, -999.000,9, -999.000,9, -999.000,9
           NA,    P03C,    257,   1,-999.0,     -99,  2,20051227,1206,  24.2265,  156.0697,  5668, 1800.500,    2.205,   34.589,2,   34.589,2,   83.090,1,   89.890,2,  147.700,2,   40.090,2,    0.010,2,    2.854,2,    0.001,2,    0.000,2, -999.000,9, -999.000,9, -999.000,9
           NA,    P03C,    257,   1,-999.0,     -99,  2,20051227,1206,  24.2265,  156.0697,  5668, 2001.800,    1.997,   34.613,2,   34.614,2,   91.550,1,   99.230,2,  150.600,2,   39.630,2,    0.000,2,    2.807,2,    0.000,2,    0.000,2, -999.000,9, -999.000,9, -999.000,9
           NA,    P03C,    257,   1,-999.0,     -99,  2,20051227,1206,  24.2265,  156.0697,  5668, 2201.900,    1.863,   34.629,2,   34.629,6,   99.080,1,  107.490,2,  152.040,2,   39.140,2,    0.000,2,    2.770,2,    0.001,2,    0.000,2, -999.000,9, -999.000,9, -999.000,9
           NA,    P03C,    257,   1,-999.0,     -99,  2,20051227,1206,  24.2265,  156.0697,  5668, 2400.200,    1.760,   34.641,2,   34.641,2,  105.450,1,  114.720,2,  152.410,2,   38.680,2,    0.000,2,    2.740,2,    0.000,2,    0.000,2, -999.000,9, -999.000,9, -999.000,9
           NA,    P03C,    257,   1,-999.0,     -99,  2,20051227,1206,  24.2265,  156.0697,  5668, 2597.500,    1.677,   34.650,2,   34.651,2,  111.180,1,  121.110,2,  152.780,2,   38.290,2,    0.000,2,    2.698,2, -999.000,9, -999.000,9, -999.000,9, -999.000,9, -999.000,9
           NA,    P03C,    257,   1,-999.0,     -99,  2,20051227,1206,  24.2265,  156.0697,  5668, 2801.600,    1.617,   34.659,2,   34.659,2,  116.890,1,  127.360,2,  151.970,2,   37.890,2,    0.000,2,    2.667,2,    0.000,2,    0.000,2, -999.000,9, -999.000,9, -999.000,9
           NA,    P03C,    257,   1,-999.0,     -99,  2,20051227,1206,  24.2265,  156.0697,  5668, 2999.800,    1.564,   34.666,2,   34.666,2,  122.180,1,  133.290,2,  151.770,2,   37.620,2,    0.010,2,    2.643,2, -999.000,9, -999.000,9, -999.000,9, -999.000,9, -999.000,9
           NA,    P03C,    257,   1,-999.0,     -99,  2,20051227,1206,  24.2265,  156.0697,  5668, 3248.300,    1.525,   34.672,2,   34.673,6,  127.370,1,  138.980,2,  150.600,2,   37.100,2,    0.010,2,    2.598,2,    0.001,2,    0.000,2, -999.000,9, -999.000,9, -999.000,9
           NA,    P03C,    257,   1,-999.0,     -99,  2,20051227,1206,  24.2265,  156.0697,  5668, 3499.100,    1.493,   34.678,2,   34.678,2,  132.600,1,  144.500,2,  150.060,2,   36.780,2,    0.010,2,    2.578,2, -999.000,9, -999.000,9, -999.000,9, -999.000,9, -999.000,9
           NA,    P03C,    257,   1,-999.0,     -99,  2,20051227,1206,  24.2265,  156.0697,  5668, 3749.600,    1.475,   34.682,2,   34.682,2,  136.960,1,  149.120,2,  148.570,2,   36.520,2,    0.010,2,    2.556,2, -999.000,9, -999.000,9, -999.000,9, -999.000,9, -999.000,9
           NA,    P03C,    257,   1,-999.0,     -99,  2,20051227,1206,  24.2265,  156.0697,  5668, 3999.700,    1.467,   34.685,2,   34.685,2,  140.720,1,  153.040,2,  147.130,2,   36.230,2,    0.010,2,    2.537,2,    0.000,2,    0.000,2, -999.000,9, -999.000,9, -999.000,9
           NA,    P03C,    257,   1,-999.0,     -99,  2,20051227,1206,  24.2265,  156.0697,  5668, 4248.700,    1.461,   34.688,2,   34.688,2,  144.790,1,  157.130,2,  145.780,2,   35.960,2,    0.010,2,    2.509,2, -999.000,9, -999.000,9, -999.000,9, -999.000,9, -999.000,9
           NA,    P03C,    257,   1,-999.0,     -99,  2,20051227,1206,  24.2265,  156.0697,  5668, 4500.700,    1.465,   34.690,2,   34.690,6,  148.200,1,  160.460,2,  143.950,2,   35.750,2,    0.010,2,    2.498,2, -999.000,9, -999.000,9, -999.000,9, -999.000,9, -999.000,9
           NA,    P03C,    257,   1,-999.0,     -99,  2,20051227,1206,  24.2265,  156.0697,  5668, 4749.700,    1.474,   34.692,2,   34.692,2,  151.550,1,  163.410,2,  141.910,2,   35.520,2,    0.010,2,    2.480,2,    0.001,2,    0.000,2, -999.000,9, -999.000,9, -999.000,9
           NA,    P03C,    257,   1,-999.0,     -99,  2,20051227,1206,  24.2265,  156.0697,  5668, 5000.000,    1.490,   34.694,2,   34.694,2,  154.690,1,  166.040,2,  140.010,2,   35.320,2,    0.010,2,    2.466,2, -999.000,9, -999.000,9, -999.000,9, -999.000,9, -999.000,9
           NA,    P03C,    257,   1,-999.0,     -99,  2,20051227,1206,  24.2265,  156.0697,  5668, 5248.500,    1.506,   34.695,2,   34.695,2,  157.810,1,  168.660,2,  138.560,2,   35.060,2,    0.020,2,    2.450,2,    0.002,2,    0.000,2, -999.000,9, -999.000,9, -999.000,9
           NA,    P03C,    257,   1,-999.0,     -99,  2,20051227,1206,  24.2265,  156.0697,  5668, 5499.300,    1.528,   34.696,2,   34.696,2,  160.480,1,  170.420,2,  137.300,2,   34.930,2,    0.020,2,    2.440,2, -999.000,9, -999.000,9, -999.000,9, -999.000,9, -999.000,9
           NA,    P03C,    257,   1,-999.0,     -99,  2,20051227,1206,  24.2265,  156.0697,  5668, 5758.100,    1.555,   34.696,2,   34.697,6,  163.870,1,  172.150,2,  135.760,2,   34.870,2,    0.020,2,    2.425,2,    0.001,2,    0.001,2, -999.000,9, -999.000,9, -999.000,9