BOTTLE,20211903JOAExport
EXPOCODE,SECT_ID,STNNBR,CASTNO,SAMPNO,BTLNBR,BTLNBR_FLAG_W,DATE,TIME,LATITUDE,LONGITUDE,DEPTH,CTDPRS,CTDTMP,CTDSAL,CTDSAL_FLAG_W,SALNTY,SALNTY_FLAG_W,CTDOXY,CTDOXY_FLAG_W,OXYGEN,OXYGEN_FLAG_W,SILCAT,SILCAT_FLAG_W,NITRAT,NITRAT_FLAG_W,NITRIT,NITRIT_FLAG_W,PHSPHT,PHSPHT_FLAG_W,CFC-11,CFC-11_FLAG_W,CFC-12,CFC-12_FLAG_W,SF6,SF6_FLAG_W,TCARBN,TCARBN_FLAG_W,ALKALI,ALKALI_FLAG_W
,,,,,,,,,,,,DB,ITS-90,PSS-78,,PSS-78,,UMOL/KG,,UMOL/KG,,UMOL/KG,,UMOL/KG,,UMOL/KG,,UMOL/KG,,PMOL/KG,,PMOL/KG,,FMOL/KG,,UMOL/KG,,UMOL/KG
           NA,    P03E,     62,   1,-999.0,     -99,  2,20051108,1550,  24.2578, -135.6330,  4471,   10.000,   22.437,   35.101,2,   35.101,2,  207.850,1,  218.680,2,    1.200,2,    0.020,2,    0.000,2,    0.124,2,    1.964,2,    1.148,2, -999.000,9, -999.000,9, -999.000,9
           NA,    P03E,     62,   1,-999.0,     -99,  2,20051108,1550,  24.2578, -135.6330,  4471,   49.900,   22.445,   35.101,2,   35.102,2,  207.700,1,  218.740,2,    1.160,2,    0.020,2,    0.000,2,    0.120,2, -999.000,9, -999.000,9, -999.000,9, -999.000,9, -999.000,9
           NA,    P03E,     62,   1,-999.0,     -99,  2,20051108,1550,  24.2578, -135.6330,  4471,  101.200,   21.105,   35.031,2, -999.000,3,  217.020,1,  228.360,2,    1.400,2,    0.010,2,    0.000,2,    0.110,2,    2.192,2,    1.259,2, -999.000,9, -999.000,9, -999.000,9
           NA,    P03E,     62,   1,-999.0,     -99,  2,20051108,1550,  24.2578, -135.6330,  4471,  152.200,   19.738,   34.994,2,   34.997,2,  206.150,1,  216.780,2,    1.670,2,    0.090,2,    0.190,2,    0.125,2, -999.000,9, -999.000,9, -999.000,9, -999.000,9, -999.000,9
           NA,    P03E,     62,   1,-999.0,     -99,  2,20051108,1550,  24.2578, -135.6330,  4471,  201.000,   15.843,   34.365,2,   34.391,2,  196.180,1,  205.880,2,    3.810,2,    3.740,2,    0.010,2,    0.401,2,    2.718,2,    1.479,2, -999.000,9, -999.000,9, -999.000,9
           NA,    P03E,     62,   1,-999.0,     -99,  2,20051108,1550,  24.2578, -135.6330,  4471,  248.500,   11.844,   33.971,2,   33.972,2,  200.750,1,  210.230,2,    9.460,2,   10.010,2,    0.010,2,    0.828,2,    3.227,6,    1.671,6, -999.000,9, -999.000,9, -999.000,9
           NA,    P03E,     62,   1,-999.0,     -99,  2,20051108,1550,  24.2578, -135.6330,  4471,  299.100,   10.292,   34.008,2,   34.006,2,  196.370,1,  205.810,2,   15.370,2,   14.590,2,    0.010,2,    1.102,2,    3.361,2,    1.685,2, -999.000,9, -999.000,9, -999.000,9
           NA,    P03E,     62,   1,-999.0,     -99,  2,20051108,1550,  24.2578, -135.6330,  4471,  399.100,    7.829,   34.041,2,   34.042,2,  136.850,1,  143.600,2,   37.970,2,   26.350,2,    0.010,2,    1.898,2, -999.000,9, -999.000,9, -999.000,9, -999.000,9, -999.000,9
           NA,    P03E,     62,   1,-999.0,     -99,  2,20051108,1550,  24.2578, -135.6330,  4471,  500.900,    5.879,   34.066,2,   34.066,6,   65.080,1,   68.120,2,   66.230,2,   36.260,2,    0.000,2,    2.683,2,    0.943,2,    0.417,2, -999.000,9, -999.000,9, -999.000,9
           NA,    P03E,     62,   1,-999.0,     -99,  2,20051108,1550,  24.2578, -135.6330,  4471,  598.300,    5.262,   34.201,2,   34.199,2,   25.000,1,   26.020,2,   84.070,2,   40.780,2,    0.000,2,    3.057,2,    0.180,2,    0.082,2, -999.000,9, -999.000,9, -999.000,9
           NA,    P03E,     62,   1,-999.0,     -99,  2,20051108,1550,  24.2578, -135.6330,  4471,  699.300,    4.890,   34.319,2,   34.319,2,   15.640,1,   16.140,2,   94.330,2,   42.350,2,    0.000,2,    3.179,2,    0.037,2,    0.006,2, -999.000,9, -999.000,9, -999.000,9
           NA,    P03E,     62,   1,-999.0,     -99,  2,20051108,1550,  24.2578, -135.6330,  4471,  799.700,    4.675,   34.404,2,   34.403,2,   18.820,1,   19.600,2,   99.040,2,   42.750,2,    0.000,2,    3.192,2,    0.011,6,    0.005,6, -999.000,9, -999.000,9, -999.000,9
           NA,    P03E,     62,   1,-999.0,     -99,  2,20051108,1550,  24.2578, -135.6330,  4471,  898.900,    4.398,   34.458,2,   34.458,2,   25.930,1,   27.010,2,  104.220,2,   43.010,2,    0.000,2,    3.179,2,    0.003,2,    0.002,2, -999.000,9, -999.000,9, -999.000,9
           NA,    P03E,     62,   1,-999.0,     -99,  2,20051108,1550,  24.2578, -135.6330,  4471,  998.200,    4.123,   34.491,2,   34.491,6,   30.650,1,   31.870,2,  110.060,2,   43.100,2,    0.000,2,    3.175,2,    0.000,2,    0.000,2, -999.000,9, -999.000,9, -999.000,9
           NA,    P03E,     62,   1,-999.0,     -99,  2,20051108,1550,  24.2578, -135.6330,  4471, 1200.400,    3.586,   34.530,2,   34.530,2,   38.400,1,   40.090,2,  122.100,2,   42.890,2,    0.000,2,    3.159,2,    0.003,2,    0.000,2, -999.000,9, -999.000,9, -999.000,9
           NA,    P03E,     62,   1,-999.0,     -99,  2,20051108,1550,  24.2578, -135.6330,  4471, 1402.100,    3.103,   34.558,2,   34.558,2,   46.290,1,   48.370,2,  134.210,2,   42.580,2,    0.000,2,    3.121,2, -999.000,9, -999.000,9, -999.000,9, -999.000,9, -999.000,9
           NA,    P03E,     62,   1,-999.0,     -99,  2,20051108,1550,  24.2578, -135.6330,  4471, 1600.400,    2.714,   34.585,2,   34.585,2,   55.870,1,   58.390,2,  144.030,2,   42.240,2,    0.000,2,    3.066,2,    0.004,2,    0.002,2, -999.000,9, -999.000,9, -999.000,9
           NA,    P03E,     62,   1,-999.0,     -99,  2,20051108,1550,  24.2578, -135.6330,  4471, 1800.000,    2.396,   34.608,2,   34.609,2,   67.370,1,   70.750,2,  150.630,2,   41.360,2,    0.000,2,    2.994,2, -999.000,9, -999.000,9, -999.000,9, -999.000,9, -999.000,9
           NA,    P03E,     62,   1,-999.0,     -99,  2,20051108,1550,  24.2578, -135.6330,  4471, 2003.000,    2.135,   34.627,2,   34.627,6,   79.140,1,   83.260,2,  155.950,2,   40.570,2,    0.010,2,    2.909,2,    0.000,2,    0.000,2, -999.000,9, -999.000,9, -999.000,9
           NA,    P03E,     62,   1,-999.0,     -99,  2,20051108,1550,  24.2578, -135.6330,  4471, 2198.500,    1.967,   34.638,2,   34.639,2,   87.550,1,   92.200,2,  159.720,2,   40.000,2,    0.000,2,    2.865,2, -999.000,9, -999.000,9, -999.000,9, -999.000,9, -999.000,9
           NA,    P03E,     62,   1,-999.0,     -99,  2,20051108,1550,  24.2578, -135.6330,  4471, 2399.200,    1.807,   34.649,2,   34.649,2,   96.230,1,  101.460,2,  163.020,2,   39.450,2,    0.010,2,    2.813,2, -999.000,9, -999.000,9, -999.000,9, -999.000,9, -999.000,9
           NA,    P03E,     62,   1,-999.0,     -99,  2,20051108,1550,  24.2578, -135.6330,  4471, 2601.000,    1.699,   34.657,2,   34.657,2,  102.910,1,  108.500,2,  165.350,2,   38.970,2,    0.010,2,    2.770,2, -999.000,9, -999.000,9, -999.000,9, -999.000,9, -999.000,9
           NA,    P03E,     62,   1,-999.0,     -99,  2,20051108,1550,  24.2578, -135.6330,  4471, 2798.900,    1.636,   34.662,2,   34.662,6,  108.090,1,  114.030,2,  165.830,2,   38.600,2,    0.000,2,    2.736,2, -999.000,9, -999.000,9, -999.000,9, -999.000,9, -999.000,9
           NA,    P03E,     62,   1,-999.0,     -99,  2,20051108,1550,  24.2578, -135.6330,  4471, 2997.100,    1.568,   34.669,2,   34.669,2,  115.140,1,  121.280,2,  166.100,2,   38.110,2,    0.010,2,    2.697,2,    0.000,2,    0.000,2, -999.000,9, -999.000,9, -999.000,9
           NA,    P03E,     62,   1,-999.0,     -99,  2,20051108,1550,  24.2578, -135.6330,  4471, 3247.600,    1.511,   34.676,2,   34.676,2,  123.430,1,  129.910,2,  164.550,2,   37.630,2,    0.000,2,    2.665,2, -999.000,9, -999.000,9, -999.000,9, -999.000,9, -999.000,9
           NA,    P03E,     62,   1,-999.0,     -99,  2,20051108,1550,  24.2578, -135.6330,  4471, 3495.900,    1.496,   34.680,2,   34.680,2,  128.410,1,  135.050,2,  162.830,2,   37.220,2,    0.010,2,    2.622,2, -999.000,9, -999.000,9, -999.000,9, -999.000,9, -999.000,9
           NA,    P03E,     62,   1,-999.0,     -99,  2,20051108,1550,  24.2578, -135.6330,  4471, 3748.000,    1.487,   34.683,2,   34.683,2,  133.470,1,  140.010,2,  160.300,2,   36.880,2,    0.000,2,    2.587,2, -999.000,9, -999.000,9, -999.000,9, -999.000,9, -999.000,9
           NA,    P03E,     62,   1,-999.0,     -99,  2,20051108,1550,  24.2578, -135.6330,  4471, 3999.900,    1.480,   34.686,2,   34.686,6,  138.950,1,  145.300,2,  157.760,2,   36.720,2,    0.000,2,    2.567,2,    0.008,2,    0.003,2, -999.000,9, -999.000,9, -999.000,9
           NA,    P03E,     62,   1,-999.0,     -99,  2,20051108,1550,  24.2578, -135.6330,  4471, 4248.100,    1.488,   34.688,2,   34.688,2,  142.820,1,  148.700,2,  155.190,2,   36.380,2,    0.000,2,    2.550,2, -999.000,9, -999.000,9, -999.000,9, -999.000,9, -999.000,9
           NA,    P03E,     62,   1,-999.0,     -99,  2,20051108,1550,  24.2578, -135.6330,  4471, 4538.600,    1.509,   34.688,2,   34.689,2,  145.870,1,  150.990,2,  153.720,2,   36.240,2,    0.000,2,    2.537,2, -999.000,9, -999.000,9, -999.000,9, -999.000,9, -999.000,9
           NA,    P03E,     62,   1,-999.0,     -99,  2,20051108,1550,  24.2578, -135.6330,  4471, 4539.900,    1.509,   34.688,2,   34.689,6,  145.920,1,  150.920,2,  153.660,2,   36.230,2,    0.010,2,    2.537,2,    0.010,2,    0.000,2, -999.000,9, -999.000,9, -999.000,9
           NA,    P03E,    X17,   1,-999.0,     -99,  2,20051108,0904,  23.9967, -135.0105,  4841,   10.800,   22.235,   35.052,2,   35.052,2,  208.700,1,  219.760,2,    1.290,2,    0.040,2,    0.000,2,    0.123,2,    1.890,2,    1.165,2, -999.000,9, 2017.400,2, 2317.000,2
           NA,    P03E,    X17,   1,-999.0,     -99,  2,20051108,0904,  23.9967, -135.0105,  4841,   50.200,   22.240,   35.052,2,   35.053,2,  208.570,1,  219.530,2,    1.240,2,    0.040,2,    0.000,2,    0.131,2,    1.895,2,    1.167,2, -999.000,9, 2018.600,6, 2318.300,2
           NA,    P03E,    X17,   1,-999.0,     -99,  2,20051108,0904,  23.9967, -135.0105,  4841,  100.600,   20.403,   34.765,2,   34.770,2,  221.190,1,  232.640,2,    1.590,2,    0.040,2,    0.000,2,    0.126,2,    2.175,2,    1.326,2, -999.000,9, 2018.600,2, 2303.600,2
           NA,    P03E,    X17,   1,-999.0,     -99,  2,20051108,0904,  23.9967, -135.0105,  4841,  150.400,   18.872,   34.805,2,   34.795,2,  202.950,1,  212.850,2,    2.110,2,    0.900,2,    0.070,2,    0.205,2,    2.289,2,    1.363,2, -999.000,9, 2036.300,2, 2293.000,2
           NA,    P03E,    X17,   1,-999.0,     -99,  2,20051108,0904,  23.9967, -135.0105,  4841,  201.300,   14.207,   34.109,2,   34.117,2,  197.960,1,  208.110,2,    5.280,2,    5.610,2,    0.010,2,    0.544,2,    2.838,2,    1.587,2, -999.000,9, 2051.300,2, 2253.000,2
           NA,    P03E,    X17,   1,-999.0,     -99,  2,20051108,0904,  23.9967, -135.0105,  4841,  251.000,   11.486,   33.960,2,   33.960,2,  195.030,1,  204.020,2,   11.090,2,   11.570,2,    0.000,2,    0.932,2,    3.148,6,    1.693,6, -999.000,9, 2080.900,2, 2242.400,2
           NA,    P03E,    X17,   1,-999.0,     -99,  2,20051108,0904,  23.9967, -135.0105,  4841,  301.000,   10.212,   34.005,2,   34.007,2,  195.060,1,  203.710,2,   16.130,2,   15.150,2,    0.000,2,    1.138,2,    3.257,2,    1.701,2, -999.000,9, 2101.100,2, 2251.400,2
           NA,    P03E,    X17,   1,-999.0,     -99,  2,20051108,0904,  23.9967, -135.0105,  4841,  399.900,    7.926,   34.044,2,   34.045,2,  135.100,1,  140.770,2,   37.380,2,   26.300,2,    0.000,2,    1.920,2,    2.472,2,    1.189,2, -999.000,9, 2181.900,2, 2271.400,2
           NA,    P03E,    X17,   1,-999.0,     -99,  2,20051108,0904,  23.9967, -135.0105,  4841,  499.600,    6.067,   34.066,2,   34.068,6,   68.450,1,   70.940,2,   63.780,2,   35.930,2,    0.000,2,    2.639,2,    1.051,2,    0.485,2, -999.000,9, 2261.300,2, 2293.200,2
           NA,    P03E,    X17,   1,-999.0,     -99,  2,20051108,0904,  23.9967, -135.0105,  4841,  601.100,    5.381,   34.203,2,   34.204,2,   25.630,1,   26.570,2,   81.810,2,   40.530,2,    0.000,2,    3.038,2,    0.186,2,    0.090,2, -999.000,9, 2311.600,2, 2310.300,2
           NA,    P03E,    X17,   1,-999.0,     -99,  2,20051108,0904,  23.9967, -135.0105,  4841,  699.300,    4.886,   34.333,2,   34.333,2,   16.040,1,   16.600,2,   94.250,2,   42.340,2,    0.000,2,    3.178,2,    0.018,2,    0.007,2, -999.000,9, 2333.100,6, 2335.700,2
           NA,    P03E,    X17,   1,-999.0,     -99,  2,20051108,0904,  23.9967, -135.0105,  4841,  801.700,    4.625,   34.418,2,   34.418,2,   20.270,1,   21.050,2,   99.580,2,   42.980,2,    0.000,2,    3.192,2,    0.012,6,    0.000,6, -999.000,9, 2339.400,2, 2347.300,2
           NA,    P03E,    X17,   1,-999.0,     -99,  2,20051108,0904,  23.9967, -135.0105,  4841,  900.100,    4.380,   34.468,2,   34.468,2,   25.560,1,   26.630,2,  104.160,2,   43.090,2,    0.000,2,    3.177,2,    0.006,2,    0.000,2, -999.000,9, 2344.300,2, 2360.100,2
           NA,    P03E,    X17,   1,-999.0,     -99,  2,20051108,0904,  23.9967, -135.0105,  4841, 1002.600,    4.092,   34.494,2,   34.494,6,   30.200,1,   31.540,2,  110.040,2,   43.290,2,    0.000,2,    3.169,2,    0.000,2,    0.000,2, -999.000,9, -999.000,3, 2370.900,2
           NA,    P03E,    X17,   1,-999.0,     -99,  2,20051108,0904,  23.9967, -135.0105,  4841, 1200.400,    3.537,   34.533,2,   34.533,2,   38.630,1,   40.400,2,  122.090,2,   43.120,2,    0.000,2,    3.159,2,    0.000,2,    0.000,2, -999.000,9, 2358.100,2, 2380.100,2
           NA,    P03E,    X17,   1,-999.0,     -99,  2,20051108,0904,  23.9967, -135.0105,  4841, 1399.700,    3.105,   34.561,2,   34.561,2,   45.990,1,   48.230,2,  132.840,2,   42.930,2,    0.000,2,    3.124,2,    0.007,2,    0.000,2, -999.000,9, 2364.400,2, 2394.100,2
           NA,    P03E,    X17,   1,-999.0,     -99,  2,20051108,0904,  23.9967, -135.0105,  4841, 1601.300,    2.693,   34.587,2,   34.587,2,   56.400,1,   59.530,2,  142.420,2,   42.280,2,    0.000,2,    3.052,2,    0.007,2,    0.001,2, -999.000,9, 2367.600,2, 2407.400,2
           NA,    P03E,    X17,   1,-999.0,     -99,  2,20051108,0904,  23.9967, -135.0105,  4841, 1801.400,    2.368,   34.609,2,   34.609,2,   68.070,1,   71.800,2,  151.140,2,   41.520,2,    0.000,2,    2.986,2,    0.000,2,    0.000,2, -999.000,9, 2367.400,2, 2411.800,2
           NA,    P03E,    X17,   1,-999.0,     -99,  2,20051108,0904,  23.9967, -135.0105,  4841, 2002.100,    2.141,   34.625,2,   34.625,2,   78.350,1,   82.750,2,  154.590,2,   40.860,2,    0.000,2,    2.920,2,    0.000,2,    0.001,2, -999.000,9, -999.000,3, 2417.900,2
           NA,    P03E,    X17,   1,-999.0,     -99,  2,20051108,0904,  23.9967, -135.0105,  4841, 2202.100,    1.971,   34.637,2,   34.637,6,   86.810,1,   91.600,2,  158.060,2,   40.320,2,    0.000,2,    2.862,2,    0.000,2,    0.000,2, -999.000,9, 2363.500,2, 2420.900,2
           NA,    P03E,    X17,   1,-999.0,     -99,  2,20051108,0904,  23.9967, -135.0105,  4841, 2402.700,    1.825,   34.647,2,   34.647,2,   94.290,1,   99.550,2,  162.820,2,   39.840,2,    0.000,2,    2.810,2,    0.000,2,    0.001,2, -999.000,9, 2360.700,6, 2423.900,2
           NA,    P03E,    X17,   1,-999.0,     -99,  2,20051108,0904,  23.9967, -135.0105,  4841, 2599.900,    1.702,   34.656,2,   34.656,2,  101.780,1,  107.660,2,  164.410,2,   39.210,2,    0.000,2,    2.777,2,    0.000,2,    0.003,2, -999.000,9, 2356.600,2, 2430.600,6
           NA,    P03E,    X17,   1,-999.0,     -99,  2,20051108,0904,  23.9967, -135.0105,  4841, 2800.200,    1.608,   34.664,2,   34.664,2,  109.400,1,  115.670,2,  166.130,2,   38.760,2,    0.000,2,    2.732,2,    0.000,2,    0.000,2, -999.000,9, 2352.900,2, 2427.200,2
           NA,    P03E,    X17,   1,-999.0,     -99,  2,20051108,0904,  23.9967, -135.0105,  4841, 3000.800,    1.556,   34.670,2,   34.670,2,  115.500,1,  122.240,2,  166.160,2,   38.360,2,    0.010,2,    2.689,2,    0.001,2,    0.007,2, -999.000,9, 2349.800,2, 2429.500,2
           NA,    P03E,    X17,   1,-999.0,     -99,  2,20051108,0904,  23.9967, -135.0105,  4841, 3250.600,    1.511,   34.676,2,   34.675,6,  122.690,1,  129.760,2,  164.940,2,   37.770,2,    0.000,2,    2.641,2,    0.000,2,    0.002,2, -999.000,9, 2343.900,2, 2428.900,2
           NA,    P03E,    X17,   1,-999.0,     -99,  2,20051108,0904,  23.9967, -135.0105,  4841, 3500.200,    1.487,   34.680,2,   34.680,2,  128.510,1,  135.760,2,  163.300,2,   37.590,2,    0.000,2,    2.615,2,    0.004,2,    0.004,2, -999.000,9, 2340.700,2, 2428.900,2
           NA,    P03E,    X17,   1,-999.0,     -99,  2,20051108,0904,  23.9967, -135.0105,  4841, 3751.200,    1.485,   34.683,2,   34.683,2,  132.880,1,  140.000,2,  160.110,2,   37.130,2,    0.000,2,    2.598,2,    0.001,2,    0.002,2, -999.000,9, -999.000,3, 2428.500,2
           NA,    P03E,    X17,   1,-999.0,     -99,  2,20051108,0904,  23.9967, -135.0105,  4841, 3998.700,    1.490,   34.685,2,   34.685,6,  136.620,1,  143.590,2,  159.350,2,   36.890,2,    0.000,2,    2.564,2,    0.000,2,    0.001,2, -999.000,9, 2333.400,2, 2426.800,2
           NA,    P03E,    X17,   1,-999.0,     -99,  2,20051108,0904,  23.9967, -135.0105,  4841, 4248.900,    1.498,   34.687,2,   34.687,2,  140.350,1,  147.260,2,  156.040,2,   36.690,2,    0.000,2,    2.547,2,    0.000,2,    0.001,2, -999.000,9, 2331.200,6, 2426.100,2
           NA,    P03E,    X17,   1,-999.0,     -99,  2,20051108,0904,  23.9967, -135.0105,  4841, 4500.100,    1.508,   34.688,2,   34.688,2,  144.040,1,  150.410,2,  153.980,2,   36.410,2,    0.000,2,    2.540,2,    0.006,2,    0.002,2, -999.000,9, 2327.900,2, 2425.700,6
           NA,    P03E,    X17,   1,-999.0,     -99,  2,20051108,0904,  23.9967, -135.0105,  4841, 4749.800,    1.491,   34.692,2,   34.692,2,  152.120,1,  157.840,2,  147.660,2,   35.990,2,    0.000,2,    2.492,2,    0.001,2,    0.005,2, -999.000,9, 2320.100,2, 2418.500,2
           NA,    P03E,    X17,   1,-999.0,     -99,  2,20051108,0904,  23.9967, -135.0105,  4841, 4927.200,    1.484,   34.693,2,   34.694,6,  157.270,1,  162.460,2,  145.520,2,   35.510,2,    0.000,2,    2.473,2,    0.002,2,    0.001,2, -999.000,9, 2314.000,2, 2422.100,2
           NA,    P03E,    X17,   1,-999.0,     -99,  2,20051108,0904,  23.9967, -135.0105,  4841, 4927.500,    1.484,   34.693,2,   34.694,2,  157.180,1,  162.360,2,  144.290,2,   35.490,2,    0.000,2,    2.469,2, -999.000,9, -999.000,9, -999.000,9, 2314.800,2, 2417.600,2