BOTTLE,20211903JOAExport
EXPOCODE,SECT_ID,STNNBR,CASTNO,SAMPNO,BTLNBR,BTLNBR_FLAG_W,DATE,TIME,LATITUDE,LONGITUDE,DEPTH,CTDPRS,CTDTMP,CTDSAL,CTDSAL_FLAG_W,SALNTY,SALNTY_FLAG_W,CTDOXY,CTDOXY_FLAG_W,OXYGEN,OXYGEN_FLAG_W,SILCAT,SILCAT_FLAG_W,NITRAT,NITRAT_FLAG_W,NITRIT,NITRIT_FLAG_W,PHSPHT,PHSPHT_FLAG_W,CFC-11,CFC-11_FLAG_W,CFC-12,CFC-12_FLAG_W,SF6,SF6_FLAG_W,TCARBN,TCARBN_FLAG_W,ALKALI,ALKALI_FLAG_W
,,,,,,,,,,,,DB,ITS-90,PSS-78,,PSS-78,,UMOL/KG,,UMOL/KG,,UMOL/KG,,UMOL/KG,,UMOL/KG,,UMOL/KG,,PMOL/KG,,PMOL/KG,,FMOL/KG,,UMOL/KG,,UMOL/KG
           NA,    P03E,    138,   1,-999.0,     -99,  2,20051121,0222,  25.4997, -164.9937,  4882,   10.500,   25.339,   35.331,2,   35.330,2,  190.720,1,  207.920,2,    1.300,2,    0.030,2,    0.010,2,    0.054,2,    1.672,2,    0.998,2, -999.000,9, 1987.500,2, 2324.500,2
           NA,    P03E,    138,   1,-999.0,     -99,  2,20051121,0222,  25.4997, -164.9937,  4882,   51.000,   25.068,   35.339,2,   35.345,2,  192.530,1,  210.060,2,    1.400,2,    0.030,2,    0.010,2,    0.044,2,    1.709,2,    1.014,2, -999.000,9, 1991.700,6, 2324.000,2
           NA,    P03E,    138,   1,-999.0,     -99,  2,20051121,0222,  25.4997, -164.9937,  4882,  100.100,   19.004,   34.924,2,   34.917,2,  216.620,1,  234.180,2,    2.700,2,    0.090,2,    0.020,2,    0.096,2,    2.333,2,    1.342,2, -999.000,9, 2019.800,2, 2298.700,6
           NA,    P03E,    138,   1,-999.0,     -99,  2,20051121,0222,  25.4997, -164.9937,  4882,  151.000,   15.864,   34.664,2,   34.661,2,  199.750,1,  216.880,2,    4.920,2,    4.280,2,    0.020,2,    0.369,2,    2.550,2,    1.448,2, -999.000,9, 2043.800,2, 2277.500,2
           NA,    P03E,    138,   1,-999.0,     -99,  2,20051121,0222,  25.4997, -164.9937,  4882,  199.800,   14.772,   34.555,2,   34.549,2,  201.900,1,  218.750,2,    6.400,2,    6.120,2,    0.010,2,    0.483,2,    2.660,2,    1.504,2, -999.000,9, 2050.800,2, 2276.300,2
           NA,    P03E,    138,   1,-999.0,     -99,  2,20051121,0222,  25.4997, -164.9937,  4882,  250.200,   13.322,   34.421,2,   34.420,2,  200.540,1,  217.380,2,    9.240,2,    8.860,2,    0.010,2,    0.661,2,    2.787,6,    1.560,6, -999.000,9, 2066.100,2, 2269.600,2
           NA,    P03E,    138,   1,-999.0,     -99,  2,20051121,0222,  25.4997, -164.9937,  4882,  300.600,   12.291,   34.346,2,   34.341,2,  201.360,1,  217.980,2,   12.080,2,   10.930,2,    0.010,2,    0.800,2,    2.857,2,    1.585,2, -999.000,9, 2079.800,2, 2270.800,2
           NA,    P03E,    138,   1,-999.0,     -99,  2,20051121,0222,  25.4997, -164.9937,  4882,  401.200,   10.289,   34.193,2,   34.190,2,  190.040,1,  205.130,2,   19.990,2,   15.860,2,    0.010,2,    1.149,2,    2.910,2,    1.570,2, -999.000,9, 2112.800,2, 2266.400,2
           NA,    P03E,    138,   1,-999.0,     -99,  2,20051121,0222,  25.4997, -164.9937,  4882,  499.900,    8.059,   34.078,2,   34.077,6,  146.170,1,  156.830,2,   38.330,2,   24.650,2,    0.010,2,    1.781,2,    2.397,2,    1.193,2, -999.000,9, 2173.500,2, 2279.100,2
           NA,    P03E,    138,   1,-999.0,     -99,  2,20051121,0222,  25.4997, -164.9937,  4882,  599.700,    6.094,   34.052,2,   34.053,2,   96.870,1,  103.970,2,   63.560,2,   32.960,2,    0.010,2,    2.395,2,    1.419,2,    0.683,2, -999.000,9, 2243.500,2, 2293.400,2
           NA,    P03E,    138,   1,-999.0,     -99,  2,20051121,0222,  25.4997, -164.9937,  4882,  699.100,    5.043,   34.127,2,   34.128,2,   56.790,1,   61.450,2,   84.820,2,   38.380,2,    0.010,2,    2.803,2,    0.598,2,    0.294,2, -999.000,9, 2295.700,6, 2317.500,2
           NA,    P03E,    138,   1,-999.0,     -99,  2,20051121,0222,  25.4997, -164.9937,  4882,  801.200,    4.349,   34.235,2,   34.236,2,   34.550,1,   37.040,2,  103.130,2,   41.540,2,    0.010,2,    3.027,2,    0.199,6,    0.104,6, -999.000,9, 2329.800,2, 2337.900,6
           NA,    P03E,    138,   1,-999.0,     -99,  2,20051121,0222,  25.4997, -164.9937,  4882,  899.800,    3.945,   34.341,2,   34.341,2,   30.010,1,   32.340,2,  114.060,2,   42.540,2,    0.010,2,    3.091,2,    0.063,2,    0.029,2, -999.000,9, 2347.400,2, 2360.900,2
           NA,    P03E,    138,   1,-999.0,     -99,  2,20051121,0222,  25.4997, -164.9937,  4882, 1000.600,    3.751,   34.401,2,   34.402,6,   34.340,1,   37.340,2,  119.080,2,   42.430,2,    0.010,2,    3.088,2,    0.032,2,    0.018,2, -999.000,9, 2352.700,2, 2369.200,2
           NA,    P03E,    138,   1,-999.0,     -99,  2,20051121,0222,  25.4997, -164.9937,  4882, 1200.000,    3.234,   34.490,2,   34.491,2,   46.560,1,   50.870,2,  130.300,2,   42.010,2,    0.000,2,    3.041,2,    0.007,2,    0.004,2, -999.000,9, 2359.200,2, 2386.300,2
           NA,    P03E,    138,   1,-999.0,     -99,  2,20051121,0222,  25.4997, -164.9937,  4882, 1401.600,    2.728,   34.540,2,   34.541,2,   55.090,1,   60.410,2,  142.650,2,   41.780,2,    0.000,2,    3.003,2,    0.006,2,    0.001,2, -999.000,9, 2366.200,2, 2393.600,2
           NA,    P03E,    138,   1,-999.0,     -99,  2,20051121,0222,  25.4997, -164.9937,  4882, 1600.300,    2.411,   34.582,2,   34.583,2,   69.740,1,   76.350,2,  147.700,2,   40.890,2,    0.000,2,    2.930,2,    0.000,2,    0.000,2, -999.000,9, 2366.000,2, 2407.000,2
           NA,    P03E,    138,   1,-999.0,     -99,  2,20051121,0222,  25.4997, -164.9937,  4882, 1800.500,    2.157,   34.603,2,   34.603,2,   76.930,1,   84.300,2,  153.510,2,   40.540,2,    0.000,2,    2.889,2,    0.000,2,    0.000,2, -999.000,9, 2367.700,2, 2410.700,2
           NA,    P03E,    138,   1,-999.0,     -99,  2,20051121,0222,  25.4997, -164.9937,  4882, 2000.300,    1.956,   34.620,2,   34.621,2,   84.530,1,   92.890,2,  157.440,2,   39.980,2,    0.000,2,    2.848,2,    0.000,2,    0.001,2, -999.000,9, 2365.200,2, 2414.500,2
           NA,    P03E,    138,   1,-999.0,     -99,  2,20051121,0222,  25.4997, -164.9937,  4882, 2200.000,    1.788,   34.636,2,   34.636,6,   93.030,1,  102.400,2,  159.850,2,   39.400,2,    0.010,2,    2.796,2, -999.000,9, -999.000,9, -999.000,9, 2360.900,2, 2418.900,2
           NA,    P03E,    138,   1,-999.0,     -99,  2,20051121,0222,  25.4997, -164.9937,  4882, 2400.400,    1.704,   34.645,2,   34.645,2,   98.750,1,  108.590,2,  160.700,2,   39.000,2,    0.000,2,    2.766,2, -999.000,9, -999.000,9, -999.000,9, 2356.600,6, 2424.000,2
           NA,    P03E,    138,   1,-999.0,     -99,  2,20051121,0222,  25.4997, -164.9937,  4882, 2600.200,    1.622,   34.654,2,   34.654,2,  104.850,1,  115.200,2,  161.190,2,   38.630,2,    0.000,2,    2.731,2, -999.000,9, -999.000,9, -999.000,9, 2354.800,2, 2422.500,6
           NA,    P03E,    138,   1,-999.0,     -99,  2,20051121,0222,  25.4997, -164.9937,  4882, 2800.600,    1.568,   34.663,2,   34.663,2,  112.410,1,  123.530,2,  160.260,2,   38.060,2,    0.010,2,    2.689,2,    0.000,2,    0.000,2, -999.000,9, 2350.200,2, 2420.900,2
           NA,    P03E,    138,   1,-999.0,     -99,  2,20051121,0222,  25.4997, -164.9937,  4882, 3000.900,    1.533,   34.669,2,   34.669,2,  117.290,1,  129.050,2,  159.320,2,   37.710,2,    0.010,2,    2.658,2, -999.000,9, -999.000,9, -999.000,9, 2345.700,2, 2425.400,2
           NA,    P03E,    138,   1,-999.0,     -99,  2,20051121,0222,  25.4997, -164.9937,  4882, 3251.300,    1.482,   34.676,2,   34.676,6,  124.650,1,  136.850,2,  157.300,2,   37.220,2,    0.000,2,    2.607,2, -999.000,9, -999.000,9, -999.000,9, 2339.900,2, 2427.800,2
           NA,    P03E,    138,   1,-999.0,     -99,  2,20051121,0222,  25.4997, -164.9937,  4882, 3500.400,    1.461,   34.680,2,   34.680,2,  129.530,1,  141.920,2,  155.930,2,   36.850,2,    0.000,2,    2.585,2,    0.000,2,    0.001,2, -999.000,9, 2337.400,2, 2421.200,2
           NA,    P03E,    138,   1,-999.0,     -99,  2,20051121,0222,  25.4997, -164.9937,  4882, 3749.800,    1.455,   34.683,2,   34.683,2,  133.470,1,  146.010,2,  154.880,2,   36.590,2,    0.000,2,    2.564,2, -999.000,9, -999.000,9, -999.000,9, 2333.500,2, 2426.000,2
           NA,    P03E,    138,   1,-999.0,     -99,  2,20051121,0222,  25.4997, -164.9937,  4882, 4000.600,    1.453,   34.686,2,   34.686,6,  137.080,1,  149.520,2,  153.590,2,   36.330,2,    0.000,2,    2.543,2, -999.000,9, -999.000,9, -999.000,9, 2330.100,2, 2422.700,2
           NA,    P03E,    138,   1,-999.0,     -99,  2,20051121,0222,  25.4997, -164.9937,  4882, 4249.400,    1.460,   34.688,2,   34.688,2,  140.280,1,  152.430,2,  152.480,2,   36.100,2,    0.000,2,    2.526,2,    0.001,2,    0.001,2, -999.000,9, 2330.300,6, 2419.200,2
           NA,    P03E,    138,   1,-999.0,     -99,  2,20051121,0222,  25.4997, -164.9937,  4882, 4501.300,    1.476,   34.689,2,   34.689,2,  142.750,1,  154.410,2,  151.160,2,   35.940,2,    0.010,2,    2.519,2, -999.000,9, -999.000,9, -999.000,9, 2324.800,2, 2422.400,6
           NA,    P03E,    138,   1,-999.0,     -99,  2,20051121,0222,  25.4997, -164.9937,  4882, 4751.300,    1.499,   34.690,2,   34.690,2,  144.600,1,  155.560,2,  150.490,2,   35.930,2,    0.000,2,    2.517,2, -999.000,9, -999.000,9, -999.000,9, 2326.200,2, 2418.400,2
           NA,    P03E,    138,   1,-999.0,     -99,  2,20051121,0222,  25.4997, -164.9937,  4882, 4956.000,    1.520,   34.690,2,   34.690,6,  146.300,1,  156.520,2,  149.920,2,   35.830,2,    0.000,2,    2.514,2,    0.001,2,    0.001,2, -999.000,9, 2327.500,2, 2419.500,2
           NA,    P03E,    136,   1,-999.0,     -99,  2,20051120,2005,  25.5058, -164.2913,  4224,    9.100,   25.220,   35.374,2,   35.374,2,  191.830,1,  208.900,2,    1.310,2,    0.030,2,    0.010,2,    0.034,2,    1.693,2,    1.011,2, -999.000,9, -999.000,9, -999.000,9
           NA,    P03E,    136,   1,-999.0,     -99,  3,20051120,2005,  25.5058, -164.2913,  4224,   48.300,   25.107,   35.366,2,   35.359,2,  192.650,1,  210.580,2,    1.350,2,    0.020,2,    0.010,2,    0.025,2,    1.714,2,    1.029,2, -999.000,9, -999.000,9, -999.000,9
           NA,    P03E,    136,   1,-999.0,     -99,  2,20051120,2005,  25.5058, -164.2913,  4224,   99.400,   18.379,   34.868,2,   34.865,2,  212.790,1,  231.410,2,    2.770,2,    0.090,2,    0.030,2,    0.100,2,    2.353,2,    1.353,2, -999.000,9, -999.000,9, -999.000,9
           NA,    P03E,    136,   1,-999.0,     -99,  2,20051120,2005,  25.5058, -164.2913,  4224,  149.600,   16.069,   34.693,2,   34.692,2,  201.340,1,  218.340,2,    4.610,2,    4.010,2,    0.030,2,    0.340,2,    2.533,2,    1.417,2, -999.000,9, -999.000,9, -999.000,9
           NA,    P03E,    136,   1,-999.0,     -99,  2,20051120,2005,  25.5058, -164.2913,  4224,  199.500,   14.627,   34.531,2,   34.529,2,  198.700,1,  215.230,2,    6.640,2,    6.600,2,    0.020,2,    0.507,2,    2.700,2,    1.476,2, -999.000,9, -999.000,9, -999.000,9
           NA,    P03E,    136,   1,-999.0,     -99,  2,20051120,2005,  25.5058, -164.2913,  4224,  248.700,   13.489,   34.424,2,   34.419,2,  195.180,1,  211.200,2,    9.280,2,    9.200,2,    0.010,2,    0.680,2,    2.759,6,    1.479,6, -999.000,9, -999.000,9, -999.000,9
           NA,    P03E,    136,   1,-999.0,     -99,  2,20051120,2005,  25.5058, -164.2913,  4224,  300.300,   12.298,   34.338,2,   34.339,2,  192.680,1,  208.460,2,   12.620,2,   11.610,2,    0.010,2,    0.847,2,    2.796,2,    1.471,2, -999.000,9, -999.000,9, -999.000,9
           NA,    P03E,    136,   1,-999.0,     -99,  2,20051120,2005,  25.5058, -164.2913,  4224,  402.000,    9.914,   34.178,2,   34.179,2,  178.410,1,  193.460,2,   23.200,2,   17.620,2,    0.010,2,    1.270,2,    2.825,2,    1.430,2, -999.000,9, -999.000,9, -999.000,9
           NA,    P03E,    136,   1,-999.0,     -99,  2,20051120,2005,  25.5058, -164.2913,  4224,  499.900,    7.586,   34.069,2,   34.069,6,  136.280,1,  146.550,2,   43.410,2,   26.470,2,    0.000,2,    1.902,2,    2.157,2,    1.025,2, -999.000,9, -999.000,9, -999.000,9
           NA,    P03E,    136,   1,-999.0,     -99,  2,20051120,2005,  25.5058, -164.2913,  4224,  600.200,    6.071,   34.065,2,   34.066,2,   92.520,1,  101.110,2,   63.500,2,   33.130,2,    0.000,2,    2.400,2,    1.349,2,    0.625,2, -999.000,9, -999.000,9, -999.000,9
           NA,    P03E,    136,   1,-999.0,     -99,  2,20051120,2005,  25.5058, -164.2913,  4224,  700.400,    5.043,   34.146,2,   34.146,2,   54.640,1,   58.880,2,   85.320,2,   38.660,2,    0.000,2,    2.809,2,    0.570,2,    0.272,2, -999.000,9, -999.000,9, -999.000,9
           NA,    P03E,    136,   1,-999.0,     -99,  2,20051120,2005,  25.5058, -164.2913,  4224,  800.400,    4.430,   34.264,2,   34.263,2,   35.770,1,   38.460,2,  101.250,2,   41.380,2,    0.000,2,    3.009,2,    0.201,6,    0.092,6, -999.000,9, -999.000,9, -999.000,9
           NA,    P03E,    136,   1,-999.0,     -99,  2,20051120,2005,  25.5058, -164.2913,  4224,  899.800,    4.096,   34.357,2,   34.357,2,   33.980,1,   36.600,2,  109.360,2,   41.900,2,    0.000,2,    3.041,2,    0.072,2,    0.043,2, -999.000,9, -999.000,9, -999.000,9
           NA,    P03E,    136,   1,-999.0,     -99,  2,20051120,2005,  25.5058, -164.2913,  4224, 1001.200,    3.829,   34.417,2,   34.417,6,   37.490,1,   40.560,2,  116.170,2,   42.160,2,    0.010,2,    3.065,2,    0.034,2,    0.012,2, -999.000,9, -999.000,9, -999.000,9
           NA,    P03E,    136,   1,-999.0,     -99,  2,20051120,2005,  25.5058, -164.2913,  4224, 1201.100,    3.402,   34.499,2,   34.498,2,   47.730,1,   51.630,2,  125.160,2,   42.030,2,    0.000,2,    3.034,2,    0.002,2,    0.000,2, -999.000,9, -999.000,9, -999.000,9
           NA,    P03E,    136,   1,-999.0,     -99,  2,20051120,2005,  25.5058, -164.2913,  4224, 1400.100,    2.945,   34.540,2,   34.540,2,   56.850,1,   61.860,2,  135.550,2,   41.660,2,    0.000,2,    2.987,2,    0.004,2,    0.002,2, -999.000,9, -999.000,9, -999.000,9
           NA,    P03E,    136,   1,-999.0,     -99,  2,20051120,2005,  25.5058, -164.2913,  4224, 1601.000,    2.543,   34.576,2,   34.576,2,   67.800,1,   74.040,2,  144.140,2,   41.040,2,    0.000,2,    2.934,2,    0.000,2,    0.000,2, -999.000,9, -999.000,9, -999.000,9
           NA,    P03E,    136,   1,-999.0,     -99,  2,20051120,2005,  25.5058, -164.2913,  4224, 1799.800,    2.223,   34.597,2,   34.597,6,   74.120,1,   81.120,2,  152.110,2,   40.670,2,    0.000,2,    2.900,2,    0.000,2,    0.001,2, -999.000,9, -999.000,9, -999.000,9
           NA,    P03E,    136,   1,-999.0,     -99,  2,20051120,2005,  25.5058, -164.2913,  4224, 1998.900,    1.985,   34.617,2,   34.617,2,   82.760,1,   90.350,2,  156.950,2,   40.170,2,    0.000,2,    2.849,2,    0.000,2,    0.001,2, -999.000,9, -999.000,9, -999.000,9
           NA,    P03E,    136,   1,-999.0,     -99,  2,20051120,2005,  25.5058, -164.2913,  4224, 2200.700,    1.835,   34.630,2,   34.630,2,   88.030,1,   96.290,2,  160.530,2,   39.830,2,    0.000,2,    2.815,2,    0.000,2,    0.000,2, -999.000,9, -999.000,9, -999.000,9
           NA,    P03E,    136,   1,-999.0,     -99,  2,20051120,2005,  25.5058, -164.2913,  4224, 2400.200,    1.732,   34.642,2,   34.642,2,   96.470,1,  105.370,2,  160.890,2,   39.220,2,    0.000,2,    2.776,2, -999.000,9, -999.000,9, -999.000,9, -999.000,9, -999.000,9
           NA,    P03E,    136,   1,-999.0,     -99,  2,20051120,2005,  25.5058, -164.2913,  4224, 2601.800,    1.638,   34.653,2,   34.653,6,  104.380,1,  114.230,2,  160.640,2,   38.680,2,    0.000,2,    2.726,2,    0.001,2,    0.000,2, -999.000,9, -999.000,9, -999.000,9
           NA,    P03E,    136,   1,-999.0,     -99,  2,20051120,2005,  25.5058, -164.2913,  4224, 2801.400,    1.583,   34.660,2,   34.660,2,  110.020,1,  120.250,2,  160.460,2,   38.320,2,    0.000,2,    2.697,2, -999.000,9, -999.000,9, -999.000,9, -999.000,9, -999.000,9
           NA,    P03E,    136,   1,-999.0,     -99,  2,20051120,2005,  25.5058, -164.2913,  4224, 2999.900,    1.538,   34.667,2,   34.667,2,  116.570,1,  127.230,2,  159.430,2,   37.830,2,    0.000,2,    2.664,2, -999.000,9, -999.000,9, -999.000,9, -999.000,9, -999.000,9
           NA,    P03E,    136,   1,-999.0,     -99,  2,20051120,2005,  25.5058, -164.2913,  4224, 3250.800,    1.503,   34.674,2,   34.673,2,  123.490,1,  134.650,2,  157.490,2,   37.390,2,    0.000,2,    2.616,2,    0.003,2,    0.002,2, -999.000,9, -999.000,9, -999.000,9
           NA,    P03E,    136,   1,-999.0,     -99,  2,20051120,2005,  25.5058, -164.2913,  4224, 3500.900,    1.472,   34.679,2,   34.679,2,  129.450,1,  140.750,2,  155.920,2,   36.840,2,    0.010,2,    2.583,2, -999.000,9, -999.000,9, -999.000,9, -999.000,9, -999.000,9
           NA,    P03E,    136,   1,-999.0,     -99,  2,20051120,2005,  25.5058, -164.2913,  4224, 3750.700,    1.453,   34.683,2,   34.683,6,  134.830,1,  146.210,2,  154.710,2,   36.620,2,    0.010,2,    2.558,2, -999.000,9, -999.000,9, -999.000,9, -999.000,9, -999.000,9
           NA,    P03E,    136,   1,-999.0,     -99,  2,20051120,2005,  25.5058, -164.2913,  4224, 4000.500,    1.453,   34.686,2,   34.686,2,  138.720,1,  149.700,2,  153.130,2,   36.340,2,    0.000,2,    2.541,2,    0.004,2,    0.000,2, -999.000,9, -999.000,9, -999.000,9
           NA,    P03E,    136,   1,-999.0,     -99,  2,20051120,2005,  25.5058, -164.2913,  4224, 4294.900,    1.464,   34.688,2,   34.687,6,  142.510,1,  152.860,2,  151.790,2,   36.140,2,    0.010,2,    2.532,2,    0.015,2,    0.004,2, -999.000,9, -999.000,9, -999.000,9