BOTTLE,20211903JOAExport
EXPOCODE,SECT_ID,STNNBR,CASTNO,SAMPNO,BTLNBR,BTLNBR_FLAG_W,DATE,TIME,LATITUDE,LONGITUDE,DEPTH,CTDPRS,CTDTMP,CTDSAL,CTDSAL_FLAG_W,SALNTY,SALNTY_FLAG_W,CTDOXY,CTDOXY_FLAG_W,OXYGEN,OXYGEN_FLAG_W,SILCAT,SILCAT_FLAG_W,NITRAT,NITRAT_FLAG_W,NITRIT,NITRIT_FLAG_W,PHSPHT,PHSPHT_FLAG_W,CFC-11,CFC-11_FLAG_W,CFC-12,CFC-12_FLAG_W,SF6,SF6_FLAG_W,TCARBN,TCARBN_FLAG_W,ALKALI,ALKALI_FLAG_W
,,,,,,,,,,,,DB,ITS-90,PSS-78,,PSS-78,,UMOL/KG,,UMOL/KG,,UMOL/KG,,UMOL/KG,,UMOL/KG,,UMOL/KG,,PMOL/KG,,PMOL/KG,,FMOL/KG,,UMOL/KG,,UMOL/KG
           NA,    P03C,    153,   1,-999.0,     -99,  2,20051130,2153,  24.4200, -166.8200,  1490,    9.800,   25.528,   35.218,2,   35.218,2,  189.610,1,  205.920,2,    1.010,2,    0.050,2,    0.010,2,    0.045,2,    1.654,2,    0.986,2, -999.000,9, 1979.300,2, 2317.600,2
           NA,    P03C,    153,   1,-999.0,     -99,  2,20051130,2153,  24.4200, -166.8200,  1490,   49.700,   25.494,   35.217,2,   35.217,2,  189.310,1,  205.900,2,    1.020,2,    0.040,2,    0.010,2,    0.048,2,    1.658,2,    0.988,2, -999.000,9, 1980.100,2, 2318.400,2
           NA,    P03C,    153,   1,-999.0,     -99,  2,20051130,2153,  24.4200, -166.8200,  1490,   99.500,   23.766,   35.220,2,   35.218,2,  196.960,1,  212.830,2,    1.330,2,    0.080,2,    0.040,2,    0.069,2,    1.921,2,    1.129,2, -999.000,9, 2000.800,2, 2316.200,6
           NA,    P03C,    153,   1,-999.0,     -99,  2,20051130,2153,  24.4200, -166.8200,  1490,  151.100,   20.662,   35.099,2,   35.100,2,  185.740,1,  201.500,2,    2.100,2,    1.340,2,    0.040,2,    0.178,2,    2.114,2,    1.226,2, -999.000,9, 2028.400,2, 2306.900,2
           NA,    P03C,    153,   1,-999.0,     -99,  2,20051130,2153,  24.4200, -166.8200,  1490,  203.300,   18.555,   34.921,2,   34.934,2,  190.090,1,  205.910,2,    2.950,2,    2.160,2,    0.020,2,    0.235,2,    2.277,2,    1.320,2, -999.000,9, 2036.200,2, 2297.000,2
           NA,    P03C,    153,   1,-999.0,     -99,  2,20051130,2153,  24.4200, -166.8200,  1490,  248.900,   15.939,   34.674,2,   34.673,2,  195.970,1,  212.010,2,    5.480,2,    5.100,2,    0.010,2,    0.419,2,    2.518,6,    1.439,6, -999.000,9, 2046.600,2, 2279.600,2
           NA,    P03C,    153,   1,-999.0,     -99,  2,20051130,2153,  24.4200, -166.8200,  1490,  302.200,   14.144,   34.516,2,   34.516,2,  204.440,1,  220.400,2,    7.740,2,    7.230,2,    0.010,2,    0.557,2,    2.705,2,    1.539,2, -999.000,9, 2054.500,2, 2273.200,2
           NA,    P03C,    153,   1,-999.0,     -99,  2,20051130,2153,  24.4200, -166.8200,  1490,  401.300,   11.861,   34.310,2,   34.308,2,  194.490,1,  209.770,2,   14.190,2,   12.410,2,    0.010,2,    0.913,2,    2.840,2,    1.542,2, -999.000,9, 2087.500,2, 2262.900,2
           NA,    P03C,    153,   1,-999.0,     -99,  2,20051130,2153,  24.4200, -166.8200,  1490,  501.800,    9.028,   34.121,2,   34.121,6,  156.930,1,  169.150,2,   29.670,2,   21.420,2,    0.010,2,    1.560,2,    2.539,2,    1.298,2, -999.000,9, 2150.100,2, 2269.200,2
           NA,    P03C,    153,   1,-999.0,     -99,  2,20051130,2153,  24.4200, -166.8200,  1490,  602.600,    7.107,   34.074,2,   34.074,2,  111.140,1,  119.150,2,   49.800,2,   29.630,2,    0.010,2,    2.160,2,    1.731,2,    0.834,2, -999.000,9, 2213.200,2, 2281.600,2
           NA,    P03C,    153,   1,-999.0,     -99,  2,20051130,2153,  24.4200, -166.8200,  1490,  700.100,    5.794,   34.125,2,   34.127,2,   62.800,1,   67.360,2,   72.000,2,   36.620,2,    0.010,2,    2.697,2,    0.743,2,    0.362,2, -999.000,9, 2274.800,6, 2302.500,2
           NA,    P03C,    153,   1,-999.0,     -99,  2,20051130,2153,  24.4200, -166.8200,  1490,  800.000,    4.857,   34.252,2,   34.254,2,   34.570,1,   37.920,2,   92.570,2,   40.760,2,    0.010,2,    3.004,2,    0.205,6,    0.105,6, -999.000,9, 2319.200,2, 2330.300,6
           NA,    P03C,    153,   1,-999.0,     -99,  2,20051130,2153,  24.4200, -166.8200,  1490,  900.700,    4.348,   34.344,2,   34.346,2,   33.550,1,   37.050,2,  104.510,2,   41.650,2,    0.010,2,    3.061,2,    0.087,2,    0.043,2, -999.000,9, 2336.200,2, 2346.700,2
           NA,    P03C,    153,   1,-999.0,     -99,  2,20051130,2153,  24.4200, -166.8200,  1490, 1001.800,    4.064,   34.401,2,   34.401,6,   35.900,1,   39.430,2,  110.650,2,   41.930,2,    0.010,2,    3.072,2,    0.045,2,    0.025,2, -999.000,9, 2342.300,2, 2362.100,2
           NA,    P03C,    153,   1,-999.0,     -99,  2,20051130,2153,  24.4200, -166.8200,  1490, 1196.400,    3.529,   34.478,2,   34.479,2,   46.010,1,   49.760,2,  122.470,2,   41.900,2,    0.010,2,    3.045,2,    0.004,2,    0.004,2, -999.000,9, 2350.400,2, 2379.400,2
           NA,    P03C,    153,   1,-999.0,     -99,  2,20051130,2153,  24.4200, -166.8200,  1490, 1401.800,    2.943,   34.541,2,   34.541,2,   58.950,1,   63.450,2,  135.170,2,   41.410,2,    0.010,2,    2.989,2,    0.000,2,    0.000,2, -999.000,9, 2360.800,2, 2393.800,2
           NA,    P03C,    153,   1,-999.0,     -99,  2,20051130,2153,  24.4200, -166.8200,  1490, 1562.100,    2.660,   34.561,2,   34.561,6,   64.800,1,   69.710,2,  142.060,2,   41.200,2,    0.010,2,    2.957,2,    0.000,2,    0.001,2, -999.000,9, -999.000,4, 2403.000,2
           NA,    P03C,    152,   1,-999.0,     -99,  2,20051130,1807,  24.4403, -166.8123,  2075,    9.600,   25.435,   35.217,2,   35.217,2,  189.530,1,  205.780,2,    0.950,2,    0.060,2,    0.000,2,    0.053,2,    1.682,2,    0.974,2, -999.000,9, 1979.400,2, 2318.900,2
           NA,    P03C,    152,   1,-999.0,     -99,  2,20051130,1807,  24.4403, -166.8123,  2075,   48.900,   25.438,   35.217,2,   35.217,2,  189.510,1,  205.820,2,    0.950,2,    0.030,2,    0.000,2,    0.049,2,    1.691,2,    0.972,2, -999.000,9, 1979.500,2, 2317.000,2
           NA,    P03C,    152,   1,-999.0,     -99,  2,20051130,1807,  24.4403, -166.8123,  2075,   98.000,   25.412,   35.216,2,   35.216,2,  189.510,1,  206.230,2,    0.940,2,    0.030,2,    0.000,2,    0.055,2,    1.721,2,    0.989,2, -999.000,9, 1980.700,2, 2314.500,6
           NA,    P03C,    152,   1,-999.0,     -99,  2,20051130,1807,  24.4403, -166.8123,  2075,  149.300,   21.518,   35.158,2,   35.158,2,  183.480,1,  199.140,2,    1.610,2,    1.050,2,    0.040,2,    0.166,2,    2.090,2,    1.177,2, -999.000,9, 2025.700,2, 2311.500,2
           NA,    P03C,    152,   1,-999.0,     -99,  2,20051130,1807,  24.4403, -166.8123,  2075,  200.300,   19.330,   34.996,2,   34.978,2,  189.710,1,  206.640,2,    2.610,2,    1.690,2,    0.020,2,    0.210,2,    2.297,2,    1.261,2, -999.000,9, 2031.300,2, 2296.200,2
           NA,    P03C,    152,   1,-999.0,     -99,  2,20051130,1807,  24.4403, -166.8123,  2075,  249.200,   16.208,   34.687,2,   34.686,2,  193.680,1,  209.720,2,    4.800,2,    4.750,2,    0.010,2,    0.399,2,    2.578,6,    1.382,6, -999.000,9, 2046.200,2, 2281.500,2
           NA,    P03C,    152,   1,-999.0,     -99,  2,20051130,1807,  24.4403, -166.8123,  2075,  299.100,   14.976,   34.583,2,   34.585,2,  202.860,1,  219.530,2,    6.120,2,    5.840,2,    0.010,2,    0.465,2,    2.697,2,    1.447,2, -999.000,9, -999.000,9, 2275.100,2
           NA,    P03C,    152,   1,-999.0,     -99,  2,20051130,1807,  24.4403, -166.8123,  2075,  400.600,   12.531,   34.355,2,   34.349,2,  196.040,1,  211.560,2,   12.040,2,   11.110,2,    0.000,2,    0.824,2,    2.938,2,    1.504,2, -999.000,9, -999.000,9, 2267.800,2
           NA,    P03C,    152,   1,-999.0,     -99,  2,20051130,1807,  24.4403, -166.8123,  2075,  501.400,    9.833,   34.162,2,   34.161,6,  173.930,1,  187.590,2,   23.530,2,   18.190,2,    0.000,2,    1.326,2,    2.877,2,    1.416,2, -999.000,9, 2125.600,2, 2265.500,2
           NA,    P03C,    152,   1,-999.0,     -99,  2,20051130,1807,  24.4403, -166.8123,  2075,  601.200,    7.483,   34.082,2,   34.081,2,  119.310,1,  127.970,2,   45.330,2,   28.230,2,    0.000,2,    2.056,2,    1.963,2,    0.911,2, -999.000,9, 2200.600,2, 2279.100,2
           NA,    P03C,    152,   1,-999.0,     -99,  2,20051130,1807,  24.4403, -166.8123,  2075,  700.000,    5.879,   34.119,2,   34.121,2,   66.410,1,   70.850,2,   70.270,2,   36.320,2,    0.000,2,    2.660,2,    0.854,2,    0.375,2, -999.000,9, 2269.500,6, 2302.300,2
           NA,    P03C,    152,   1,-999.0,     -99,  2,20051130,1807,  24.4403, -166.8123,  2075,  799.300,    4.962,   34.232,2,   34.233,2,   36.640,1,   40.380,2,   89.990,2,   40.500,2,    0.000,2,    2.979,2,    0.284,6,    0.122,6, -999.000,9, 2313.700,2, 2325.800,6
           NA,    P03C,    152,   1,-999.0,     -99,  2,20051130,1807,  24.4403, -166.8123,  2075,  901.000,    4.344,   34.353,2,   34.357,2,   31.780,1,   35.890,2,  104.970,2,   41.900,2,    0.000,2,    3.073,2,    0.085,2,    0.034,2, -999.000,9, 2335.000,2, -999.000,3
           NA,    P03C,    152,   1,-999.0,     -99,  2,20051130,1807,  24.4403, -166.8123,  2075,  999.500,    3.980,   34.417,2,   34.418,6,   37.050,1,   41.140,2,  112.660,2,   42.120,2,    0.000,2,    3.074,2,    0.040,2,    0.014,2, -999.000,9, 2342.400,2, 2363.600,2
           NA,    P03C,    152,   1,-999.0,     -99,  2,20051130,1807,  24.4403, -166.8123,  2075, 1198.700,    3.429,   34.496,2,   34.495,2,   47.860,1,   52.100,2,  124.670,2,   42.010,2,    0.000,2,    3.042,2,    0.016,2,    0.005,2, -999.000,9, 2350.800,2, 2376.200,2
           NA,    P03C,    152,   1,-999.0,     -99,  2,20051130,1807,  24.4403, -166.8123,  2075, 1401.700,    2.899,   34.545,2,   34.545,2,   59.550,1,   64.700,2,  136.510,2,   41.580,2,    0.000,2,    2.991,2,    0.004,2,    0.004,2, -999.000,9, 2355.900,2, 2392.600,2
           NA,    P03C,    152,   1,-999.0,     -99,  2,20051130,1807,  24.4403, -166.8123,  2075, 1600.100,    2.519,   34.571,2,   34.571,6,   67.970,1,   73.400,2,  144.980,2,   41.130,2,    0.000,2,    2.943,2,    0.000,2,    0.000,2, -999.000,9, 2359.200,2, 2401.400,2
           NA,    P03C,    152,   1,-999.0,     -99,  2,20051130,1807,  24.4403, -166.8123,  2075, 1800.500,    2.259,   34.594,2,   34.595,2,   76.220,1,   82.240,2,  150.540,2,   40.510,2,    0.000,2,    2.902,2,    0.004,2,    0.006,2, -999.000,9, 2359.800,2, 2409.000,2
           NA,    P03C,    152,   1,-999.0,     -99,  2,20051130,1807,  24.4403, -166.8123,  2075, 1997.900,    1.962,   34.621,2,   34.622,2,   88.540,1,   95.540,2,  156.040,2,   39.710,2,    0.000,2,    2.832,2,    0.000,2,    0.000,2, -999.000,9, 2356.500,2, 2417.000,2
           NA,    P03C,    152,   1,-999.0,     -99,  2,20051130,1807,  24.4403, -166.8123,  2075, 2092.400,    1.889,   34.628,2,   34.628,6,   92.400,1,   99.060,2,  156.830,2,   39.620,2,    0.000,2,    2.818,2,    0.004,2,    0.004,2, -999.000,9, 2356.000,2, 2422.700,2
           NA,    P03C,    150,   1,-999.0,     -99,  2,20051130,1339,  24.5052, -166.7315,  3369,    7.500,   25.463,   35.219,2,   35.218,2,  189.340,1,  206.100,2,    1.070,2,    0.020,2,    0.000,2,    0.041,2,    1.642,2,    0.976,2, -999.000,9, 1977.100,2, 2309.500,2
           NA,    P03C,    150,   1,-999.0,     -99,  2,20051130,1339,  24.5052, -166.7315,  3369,   48.800,   25.467,   35.218,2,   35.218,2,  189.300,1,  206.070,2,    1.060,2,    0.020,2,    0.000,2,    0.043,2,    1.652,2,    0.986,2, -999.000,9, 1977.500,6, 2310.500,2
           NA,    P03C,    150,   1,-999.0,     -99,  2,20051130,1339,  24.5052, -166.7315,  3369,   98.300,   22.279,   35.180,2,   35.182,2,  187.030,1,  203.510,2,    1.530,2,    0.530,2,    0.050,2,    0.120,2,    1.964,2,    1.153,2, -999.000,9, 2016.300,2, 2311.800,6
           NA,    P03C,    150,   1,-999.0,     -99,  2,20051130,1339,  24.5052, -166.7315,  3369,  146.100,   20.474,   35.103,2,   35.102,2,  181.470,1,  197.470,2,    2.160,2,    1.650,2,    0.020,2,    0.200,2,    2.106,2,    1.232,2, -999.000,9, 2034.000,2, 2306.300,2
           NA,    P03C,    150,   1,-999.0,     -99,  2,20051130,1339,  24.5052, -166.7315,  3369,  199.400,   18.218,   34.885,2,   34.882,2,  190.700,1,  207.210,2,    3.330,2,    2.520,2,    0.010,2,    0.261,2,    2.300,2,    1.340,2, -999.000,9, 2035.500,2, 2289.600,2
           NA,    P03C,    150,   1,-999.0,     -99,  2,20051130,1339,  24.5052, -166.7315,  3369,  251.700,   15.837,   34.653,2,   34.653,2,  194.910,1,  211.340,2,    5.400,2,    5.220,2,    0.010,2,    0.426,2,    2.514,6,    1.436,6, -999.000,9, 2043.400,2, 2279.300,2
           NA,    P03C,    150,   1,-999.0,     -99,  2,20051130,1339,  24.5052, -166.7315,  3369,  301.600,   14.856,   34.576,2,   34.571,2,  203.650,1,  220.890,2,    6.520,2,    6.030,2,    0.010,2,    0.473,2,    2.571,2,    1.471,2, -999.000,9, 2048.900,2, 2270.000,2
           NA,    P03C,    150,   1,-999.0,     -99,  2,20051130,1339,  24.5052, -166.7315,  3369,  400.100,   12.059,   34.316,2,   34.317,2,  191.720,1,  208.000,2,   13.520,2,   12.080,2,    0.000,2,    0.887,2,    2.813,2,    1.530,2, -999.000,9, 2084.600,2, 2266.300,2
           NA,    P03C,    150,   1,-999.0,     -99,  2,20051130,1339,  24.5052, -166.7315,  3369,  499.600,    9.140,   34.126,2,   34.125,6,  158.480,1,  171.500,2,   28.890,2,   21.030,2,    0.000,2,    1.526,2,    2.570,2,    1.309,2, -999.000,9, 2146.800,2, 2268.700,2
           NA,    P03C,    150,   1,-999.0,     -99,  2,20051130,1339,  24.5052, -166.7315,  3369,  602.300,    7.067,   34.075,2,   34.075,2,  107.230,1,  115.960,2,   50.860,2,   30.070,2,    0.000,2,    2.195,2,    1.679,2,    0.806,2, -999.000,9, 2215.400,2, 2279.700,2
           NA,    P03C,    150,   1,-999.0,     -99,  2,20051130,1339,  24.5052, -166.7315,  3369,  700.200,    5.751,   34.126,2,   34.130,2,   61.450,1,   65.560,2,   73.030,2,   37.020,2,    0.000,2,    2.712,2,    0.709,2,    0.348,2, -999.000,9, 2276.700,6, 2300.900,2
           NA,    P03C,    150,   1,-999.0,     -99,  2,20051130,1339,  24.5052, -166.7315,  3369,  798.700,    5.045,   34.220,2,   34.221,2,   36.120,1,   40.040,2,   88.050,2,   40.380,2,    0.000,2,    2.970,2,    0.256,6,    0.135,6, -999.000,9, 2309.900,2, 2328.100,6
           NA,    P03C,    150,   1,-999.0,     -99,  2,20051130,1339,  24.5052, -166.7315,  3369,  901.100,    4.480,   34.329,2,   34.329,2,   30.540,1,   33.980,2,  101.290,2,   41.790,2,    0.000,2,    3.065,2,    0.085,2,    0.047,2, -999.000,9, 2333.100,2, 2341.100,2
           NA,    P03C,    150,   1,-999.0,     -99,  2,20051130,1339,  24.5052, -166.7315,  3369, 1000.900,    3.954,   34.387,2,   34.386,6,   35.220,1,   39.010,2,  113.700,2,   42.170,2,    0.000,2,    3.069,2,    0.053,2,    0.030,2, -999.000,9, 2343.500,2, 2361.600,2
           NA,    P03C,    150,   1,-999.0,     -99,  2,20051130,1339,  24.5052, -166.7315,  3369, 1200.300,    3.310,   34.483,2,   34.482,2,   46.270,1,   50.490,2,  128.110,2,   42.050,2,    0.000,2,    3.043,2,    0.009,2,    0.012,2, -999.000,9, 2354.600,2, 2382.600,2
           NA,    P03C,    150,   1,-999.0,     -99,  2,20051130,1339,  24.5052, -166.7315,  3369, 1400.300,    2.926,   34.530,2,   34.530,2,   55.890,1,   61.150,2,  136.200,2,   41.670,2,    0.000,2,    3.000,2,    0.000,2,    0.000,2, -999.000,9, 2357.300,2, 2394.700,2
           NA,    P03C,    150,   1,-999.0,     -99,  2,20051130,1339,  24.5052, -166.7315,  3369, 1600.300,    2.579,   34.563,2,   34.563,6,   64.340,1,   70.180,2,  144.300,2,   41.270,2,    0.000,2,    2.961,2,    0.000,2,    0.000,2, -999.000,9, 2360.100,2, 2401.100,2
           NA,    P03C,    150,   1,-999.0,     -99,  2,20051130,1339,  24.5052, -166.7315,  3369, 1798.500,    2.220,   34.594,2,   34.594,2,   74.880,1,   81.620,2,  151.980,2,   40.630,2,    0.000,2,    2.904,2,    0.000,2,    0.001,2, -999.000,9, 2361.800,2, 2409.100,2
           NA,    P03C,    150,   1,-999.0,     -99,  2,20051130,1339,  24.5052, -166.7315,  3369, 1999.900,    1.962,   34.619,2,   34.619,2,   86.000,1,   93.890,2,  156.140,2,   39.900,2,    0.000,2,    2.841,2,    0.000,2,    0.000,2, -999.000,9, 2358.100,2, 2414.800,2
           NA,    P03C,    150,   1,-999.0,     -99,  2,20051130,1339,  24.5052, -166.7315,  3369, 2202.200,    1.860,   34.631,2,   34.631,6,   92.660,1,  101.320,2,  157.220,2,   39.620,2,    0.000,2,    2.797,2,    0.000,2,    0.000,2, -999.000,9, 2357.200,2, 2415.400,2
           NA,    P03C,    150,   1,-999.0,     -99,  2,20051130,1339,  24.5052, -166.7315,  3369, 2398.400,    1.772,   34.640,2,   34.640,2,   97.820,1,  106.820,2,  158.440,2,   39.140,2,    0.000,2,    2.772,2, -999.000,9, -999.000,9, -999.000,9, 2354.000,2, 2420.300,2
           NA,    P03C,    150,   1,-999.0,     -99,  2,20051130,1339,  24.5052, -166.7315,  3369, 2601.200,    1.691,   34.650,2,   34.649,2,  103.780,1,  113.190,2,  158.840,2,   38.820,2,    0.000,2,    2.742,2,    0.000,2,    0.000,2, -999.000,9, 2352.400,2, 2419.500,6
           NA,    P03C,    150,   1,-999.0,     -99,  2,20051130,1339,  24.5052, -166.7315,  3369, 2801.300,    1.604,   34.659,2,   34.659,6,  111.590,1,  121.650,2,  158.370,2,   38.250,2,    0.000,2,    2.694,2, -999.000,9, -999.000,9, -999.000,9, 2347.100,2, 2419.000,2
           NA,    P03C,    150,   1,-999.0,     -99,  2,20051130,1339,  24.5052, -166.7315,  3369, 3003.100,    1.553,   34.666,2,   34.666,2,  118.040,1,  128.420,2,  157.250,2,   37.770,2,    0.000,2,    2.662,2, -999.000,9, -999.000,9, -999.000,9, 2342.600,2, 2423.900,2
           NA,    P03C,    150,   1,-999.0,     -99,  2,20051130,1339,  24.5052, -166.7315,  3369, 3003.100,    1.553,   34.666,2,   34.666,2,  118.030,1,  128.480,2,  157.740,2,   37.790,2,    0.000,2,    2.660,2,    0.000,2,    0.002,2, -999.000,9, 2343.700,2, 2423.100,2
           NA,    P03C,    150,   1,-999.0,     -99,  2,20051130,1339,  24.5052, -166.7315,  3369, 3249.700,    1.512,   34.672,2,   34.672,2,  124.230,1,  134.670,2,  156.480,2,   37.300,2,    0.000,2,    2.621,2, -999.000,9, -999.000,9, -999.000,9, 2339.300,2, 2425.500,2
           NA,    P03C,    150,   1,-999.0,     -99,  2,20051130,1339,  24.5052, -166.7315,  3369, 3409.200,    1.490,   34.676,2,   34.676,6,  128.880,1,  138.580,2,  155.740,2,   37.020,2,    0.000,2,    2.601,2,    0.000,2,    0.000,2, -999.000,9, 2336.600,2, 2424.000,2