BOTTLE,20211903JOAExport
EXPOCODE,SECT_ID,STNNBR,CASTNO,SAMPNO,BTLNBR,BTLNBR_FLAG_W,DATE,TIME,LATITUDE,LONGITUDE,DEPTH,CTDPRS,CTDTMP,CTDSAL,CTDSAL_FLAG_W,SALNTY,SALNTY_FLAG_W,CTDOXY,CTDOXY_FLAG_W,OXYGEN,OXYGEN_FLAG_W,SILCAT,SILCAT_FLAG_W,NITRAT,NITRAT_FLAG_W,NITRIT,NITRIT_FLAG_W,PHSPHT,PHSPHT_FLAG_W,CFC-11,CFC-11_FLAG_W,CFC-12,CFC-12_FLAG_W,SF6,SF6_FLAG_W,TCARBN,TCARBN_FLAG_W,ALKALI,ALKALI_FLAG_W
,,,,,,,,,,,,DB,ITS-90,PSS-78,,PSS-78,,UMOL/KG,,UMOL/KG,,UMOL/KG,,UMOL/KG,,UMOL/KG,,UMOL/KG,,PMOL/KG,,PMOL/KG,,FMOL/KG,,UMOL/KG,,UMOL/KG
           NA,    P03C,    279,   1,-999.0,     -99,  2,20051231,0023,  24.2590,  147.8375,  5840,   10.300,   25.352,   34.943,2,   34.943,2,  190.800,1,  205.710,2,    0.970,2,    0.040,2,    0.000,2,    0.040,2,    1.664,2,    0.972,2, -999.000,9, 1948.400,2, 2292.700,2
           NA,    P03C,    279,   1,-999.0,     -99,  2,20051231,0023,  24.2590,  147.8375,  5840,   49.700,   25.393,   34.964,2,   34.963,2,  190.610,1,  205.630,2,    0.970,2,    0.030,2,    0.000,2,    0.041,2,    1.667,2,    0.973,2, -999.000,9, 1949.800,6, 2296.200,2
           NA,    P03C,    279,   1,-999.0,     -99,  2,20051231,0023,  24.2590,  147.8375,  5840,  100.400,   25.362,   34.958,2,   34.960,2,  190.470,1,  205.730,2,    0.970,2,    0.030,2,    0.000,2,    0.039,2,    1.672,2,    0.984,2, -999.000,9, 1950.600,2, 2295.700,6
           NA,    P03C,    279,   1,-999.0,     -99,  2,20051231,0023,  24.2590,  147.8375,  5840,  151.300,   21.672,   35.004,2,   35.004,2,  192.950,1,  208.450,2,    1.680,2,    0.130,2,    0.150,2,    0.077,2,    2.112,2,    1.203,2, -999.000,9, 2002.300,2, 2300.400,2
           NA,    P03C,    279,   1,-999.0,     -99,  2,20051231,0023,  24.2590,  147.8375,  5840,  200.900,   19.130,   34.899,2,   34.901,2,  187.820,1,  202.710,2,    2.440,2,    1.660,2,    0.020,2,    0.180,2,    2.298,2,    1.266,2, -999.000,9, 2020.200,2, 2291.800,2
           NA,    P03C,    279,   1,-999.0,     -99,  2,20051231,0023,  24.2590,  147.8375,  5840,  249.500,   17.909,   34.820,2,   34.818,2,  193.090,1,  208.370,2,    3.190,2,    3.530,2,    0.010,2,    0.279,2,    2.391,6,    1.314,6, -999.000,9, 2021.700,2, 2287.400,2
           NA,    P03C,    279,   1,-999.0,     -99,  2,20051231,0023,  24.2590,  147.8375,  5840,  302.100,   17.087,   34.774,2,   34.775,2,  193.670,1,  209.020,2,    4.020,2,    4.640,2,    0.010,2,    0.349,2,    2.457,2,    1.339,2, -999.000,9, 2027.300,2, 2284.100,2
           NA,    P03C,    279,   1,-999.0,     -99,  2,20051231,0023,  24.2590,  147.8375,  5840,  400.200,   15.475,   34.630,2,   34.632,2,  186.280,1,  200.770,2,    7.460,2,    7.760,2,    0.010,2,    0.565,2,    2.613,2,    1.373,2, -999.000,9, 2051.600,2, 2278.800,2
           NA,    P03C,    279,   1,-999.0,     -99,  2,20051231,0023,  24.2590,  147.8375,  5840,  500.400,   12.598,   34.400,2,   34.399,6,  179.330,1,  193.430,2,   15.050,2,   12.980,2,    0.010,2,    0.938,2,    2.786,2,    1.402,2, -999.000,9, 2089.100,2, 2274.300,2
           NA,    P03C,    279,   1,-999.0,     -99,  2,20051231,0023,  24.2590,  147.8375,  5840,  600.600,    9.456,   34.183,2,   34.182,2,  159.040,1,  170.570,2,   29.830,2,   20.570,2,    0.010,2,    1.496,2,    2.552,2,    1.226,2, -999.000,9, 2142.200,2, 2275.500,2
           NA,    P03C,    279,   1,-999.0,     -99,  2,20051231,0023,  24.2590,  147.8375,  5840,  701.500,    7.013,   34.097,2,   34.098,2,  114.730,1,  123.770,2,   53.310,2,   29.230,2,    0.010,2,    2.144,2,    1.673,2,    0.795,2, -999.000,9, 2209.400,6, 2289.200,2
           NA,    P03C,    279,   1,-999.0,     -99,  2,20051231,0023,  24.2590,  147.8375,  5840,  798.500,    5.371,   34.159,2,   34.162,2,   71.430,1,   76.200,2,   80.980,2,   36.500,2,    0.000,2,    2.670,2,    0.770,6,    0.372,6, -999.000,9, 2276.100,2, 2316.900,6
           NA,    P03C,    279,   1,-999.0,     -99,  2,20051231,0023,  24.2590,  147.8375,  5840,  900.100,    4.488,   34.239,2,   34.236,2,   49.600,1,   53.350,2,   99.240,2,   39.770,2,    0.010,2,    2.893,2,    0.361,2,    0.171,2, -999.000,9, 2312.000,2, 2335.200,2
           NA,    P03C,    279,   1,-999.0,     -99,  2,20051231,0023,  24.2590,  147.8375,  5840, 1001.500,    4.060,   34.313,2,   34.314,6,   43.690,1,   47.000,2,  110.610,2,   40.940,2,    0.000,2,    2.975,2,    0.186,2,    0.089,2, -999.000,9, 2330.000,2, 2351.000,2
           NA,    P03C,    279,   1,-999.0,     -99,  2,20051231,0023,  24.2590,  147.8375,  5840, 1201.800,    3.362,   34.440,2,   34.441,2,   48.200,1,   51.990,2,  127.530,2,   41.540,2,    0.000,2,    2.990,2,    0.044,2,    0.018,2, -999.000,9, 2346.900,2, 2373.200,2
           NA,    P03C,    279,   1,-999.0,     -99,  2,20051231,0023,  24.2590,  147.8375,  5840, 1401.100,    2.777,   34.496,2,   34.496,2,   54.030,1,   58.570,2,  141.420,2,   41.490,2,    0.000,2,    2.975,2,    0.027,2,    0.012,2, -999.000,9, 2359.000,2, 2390.400,2
           NA,    P03C,    279,   1,-999.0,     -99,  2,20051231,0023,  24.2590,  147.8375,  5840, 1601.100,    2.418,   34.548,2,   34.548,2,   70.010,1,   76.070,2,  145.880,2,   40.460,2,    0.000,2,    2.900,2,    0.012,2,    0.003,2, -999.000,9, 2354.800,2, 2398.200,2
           NA,    P03C,    279,   1,-999.0,     -99,  2,20051231,0023,  24.2590,  147.8375,  5840, 1800.900,    2.158,   34.581,2,   34.581,2,   79.950,1,   87.070,2,  149.460,2,   40.040,2,    0.000,2,    2.856,2,    0.005,2,    0.001,2, -999.000,9, 2354.600,2, 2404.400,2
           NA,    P03C,    279,   1,-999.0,     -99,  2,20051231,0023,  24.2590,  147.8375,  5840, 2000.100,    1.971,   34.609,2,   34.610,2,   91.690,1,  100.140,2,  150.200,2,   39.290,2,    0.010,2,    2.784,2,    0.005,2,    0.000,2, -999.000,9, 2350.100,2, 2408.000,2
           NA,    P03C,    279,   1,-999.0,     -99,  2,20051231,0023,  24.2590,  147.8375,  5840, 2201.400,    1.845,   34.629,2,   34.629,6,  101.350,1,  110.870,2,  150.270,2,   38.560,2,    0.010,2,    2.732,2,    0.008,2,    0.001,2, -999.000,9, 2344.600,2, 2412.300,2
           NA,    P03C,    279,   1,-999.0,     -99,  2,20051231,0023,  24.2590,  147.8375,  5840, 2401.100,    1.764,   34.641,2,   34.641,2,  106.400,1,  116.640,2,  151.030,2,   38.250,2,    0.000,2,    2.711,2,    0.002,2,    0.000,2, -999.000,9, 2343.200,6, 2413.000,2
           NA,    P03C,    279,   1,-999.0,     -99,  2,20051231,0023,  24.2590,  147.8375,  5840, 2600.500,    1.691,   34.651,2,   34.651,2,  112.010,1,  122.800,2,  150.920,2,   37.940,2,    0.010,2,    2.680,2,    0.003,2,    0.000,2, -999.000,9, 2337.500,2, 2414.300,6
           NA,    P03C,    279,   1,-999.0,     -99,  2,20051231,0023,  24.2590,  147.8375,  5840, 2801.000,    1.637,   34.659,2,   34.660,2,  117.900,1,  129.380,2,  150.240,2,   37.460,2,    0.010,2,    2.643,2, -999.000,9, -999.000,9, -999.000,9, 2337.600,2, 2415.100,2
           NA,    P03C,    279,   1,-999.0,     -99,  2,20051231,0023,  24.2590,  147.8375,  5840, 3001.400,    1.584,   34.666,2,   34.667,2,  122.980,1,  135.000,2,  149.670,2,   37.190,2,    0.010,2,    2.617,2, -999.000,9, -999.000,9, -999.000,9, 2333.100,2, 2415.100,2
           NA,    P03C,    279,   1,-999.0,     -99,  2,20051231,0023,  24.2590,  147.8375,  5840, 3249.800,    1.533,   34.673,2,   34.673,6,  127.970,1,  140.570,2,  149.070,2,   36.810,2,    0.000,2,    2.582,2,    0.002,2,    0.000,2, -999.000,9, 2330.900,2, 2413.500,2
           NA,    P03C,    279,   1,-999.0,     -99,  2,20051231,0023,  24.2590,  147.8375,  5840, 3502.500,    1.507,   34.677,2,   34.678,2,  131.880,1,  144.870,2,  148.440,2,   36.510,2,    0.000,2,    2.564,2, -999.000,9, -999.000,9, -999.000,9, 2327.200,2, 2413.500,2
           NA,    P03C,    279,   1,-999.0,     -99,  2,20051231,0023,  24.2590,  147.8375,  5840, 3748.800,    1.488,   34.681,2,   34.682,2,  136.030,1,  149.260,2,  147.300,2,   36.200,2,    0.000,2,    2.546,2, -999.000,9, -999.000,9, -999.000,9, 2326.100,2, 2415.500,2
           NA,    P03C,    279,   1,-999.0,     -99,  2,20051231,0023,  24.2590,  147.8375,  5840, 4000.700,    1.475,   34.685,2,   34.685,2,  141.180,1,  154.560,2,  144.640,2,   35.840,2,    0.000,2,    2.514,2,    0.003,2,    0.001,2, -999.000,9, 2317.800,2, 2411.900,2
           NA,    P03C,    279,   1,-999.0,     -99,  2,20051231,0023,  24.2590,  147.8375,  5840, 4249.000,    1.469,   34.688,2,   34.689,2,  144.670,1,  158.090,2,  143.320,2,   35.610,2,    0.010,2,    2.491,2, -999.000,9, -999.000,9, -999.000,9, 2316.400,6, 2411.200,2
           NA,    P03C,    279,   1,-999.0,     -99,  2,20051231,0023,  24.2590,  147.8375,  5840, 4501.700,    1.471,   34.690,2,   34.691,6,  148.100,1,  161.490,2,  141.910,2,   35.380,2,    0.010,2,    2.477,2, -999.000,9, -999.000,9, -999.000,9, 2314.100,2, 2408.600,6
           NA,    P03C,    279,   1,-999.0,     -99,  2,20051231,0023,  24.2590,  147.8375,  5840, 4747.100,    1.478,   34.692,2,   34.693,2,  151.530,1,  164.610,2,  140.070,2,   35.150,2,    0.000,2,    2.462,2,    0.003,2,    0.000,2, -999.000,9, 2309.700,2, 2405.800,2
           NA,    P03C,    279,   1,-999.0,     -99,  2,20051231,0023,  24.2590,  147.8375,  5840, 5000.700,    1.491,   34.694,2,   34.695,2,  154.780,1,  167.460,2,  137.920,2,   34.970,2,    0.010,2,    2.446,2, -999.000,9, -999.000,9, -999.000,9, 2307.400,2, 2405.700,2
           NA,    P03C,    279,   1,-999.0,     -99,  2,20051231,0023,  24.2590,  147.8375,  5840, 5249.000,    1.511,   34.695,2,   34.696,2,  157.200,1,  169.330,2,  136.930,2,   34.840,2,    0.010,2,    2.431,2, -999.000,9, -999.000,9, -999.000,9, 2306.600,2, 2405.900,2
           NA,    P03C,    279,   1,-999.0,     -99,  2,20051231,0023,  24.2590,  147.8375,  5840, 5498.900,    1.533,   34.696,2,   34.696,2,  159.520,1,  170.970,2,  136.210,2,   34.650,2,    0.010,2,    2.427,2,    0.001,2,    0.000,2, -999.000,9, 2304.600,2, 2402.900,2
           NA,    P03C,    279,   1,-999.0,     -99,  2,20051231,0023,  24.2590,  147.8375,  5840, 5749.700,    1.556,   34.697,2,   34.697,2,  162.150,1,  172.540,2,  135.110,2,   34.590,2,    0.010,2,    2.421,2, -999.000,9, -999.000,9, -999.000,9, 2303.600,2, 2403.000,2
           NA,    P03C,    279,   1,-999.0,     -99,  2,20051231,0023,  24.2590,  147.8375,  5840, 5941.000,    1.569,   34.697,2,   34.698,6,  165.060,1,  174.120,2,  134.190,2,   34.500,2,    0.010,2,    2.409,2,    0.003,2,    0.002,2, -999.000,9, 2300.500,2, 2402.300,2