BOTTLE,20211903JOAExport
EXPOCODE,SECT_ID,STNNBR,CASTNO,SAMPNO,BTLNBR,BTLNBR_FLAG_W,DATE,TIME,LATITUDE,LONGITUDE,DEPTH,CTDPRS,CTDTMP,CTDSAL,CTDSAL_FLAG_W,SALNTY,SALNTY_FLAG_W,CTDOXY,CTDOXY_FLAG_W,OXYGEN,OXYGEN_FLAG_W,SILCAT,SILCAT_FLAG_W,NITRAT,NITRAT_FLAG_W,NITRIT,NITRIT_FLAG_W,PHSPHT,PHSPHT_FLAG_W,CFC-11,CFC-11_FLAG_W,CFC-12,CFC-12_FLAG_W,SF6,SF6_FLAG_W,TCARBN,TCARBN_FLAG_W,ALKALI,ALKALI_FLAG_W
,,,,,,,,,,,,DB,ITS-90,PSS-78,,PSS-78,,UMOL/KG,,UMOL/KG,,UMOL/KG,,UMOL/KG,,UMOL/KG,,UMOL/KG,,PMOL/KG,,PMOL/KG,,FMOL/KG,,UMOL/KG,,UMOL/KG
           NA,    P03W,    376,   1,-999.0,     -99,  2,20060120,1557,  26.7397,  126.3295,  1912,   10.000,   22.757,   34.639,2,   34.639,2,  196.460,1,  214.770,2,    1.470,2,    0.100,2,    0.110,2,    0.070,2,    1.729,2,    1.025,2, -999.000,9, 1957.700,2, 2275.800,2
           NA,    P03W,    376,   1,-999.0,     -99,  2,20060120,1557,  26.7397,  126.3295,  1912,   25.400,   22.764,   34.640,2,   34.639,2,  196.770,1,  214.650,2,    1.530,2,    0.100,2,    0.110,2,    0.074,2,    1.727,2,    1.024,2, -999.000,9, 1957.800,2, 2275.500,2
           NA,    P03W,    376,   1,-999.0,     -99,  2,20060120,1557,  26.7397,  126.3295,  1912,   50.000,   22.756,   34.642,2,   34.641,2,  196.800,1,  215.030,2,    1.450,2,    0.080,2,    0.110,2,    0.077,2,    1.715,2,    1.020,2, -999.000,9, 1957.900,6, 2274.700,2
           NA,    P03W,    376,   1,-999.0,     -99,  2,20060120,1557,  26.7397,  126.3295,  1912,   75.100,   22.496,   34.658,2,   34.657,2,  195.330,1,  213.160,2,    1.590,2,    0.200,2,    0.200,2,    0.086,2,    1.733,2,    1.023,2, -999.000,9, 1962.300,2, 2277.100,2
           NA,    P03W,    376,   1,-999.0,     -99,  2,20060120,1557,  26.7397,  126.3295,  1912,  101.400,   22.290,   34.800,2,   34.800,2,  196.870,1,  214.980,2,    1.320,2,    0.020,2,    0.010,2,    0.043,2,    1.744,2,    1.033,2, -999.000,9, 1965.600,2, 2284.200,6
           NA,    P03W,    376,   1,-999.0,     -99,  2,20060120,1557,  26.7397,  126.3295,  1912,  151.600,   21.099,   34.863,2,   34.859,2,  181.660,1,  200.200,2,    2.060,2,    1.460,2,    0.110,2,    0.159,2,    1.859,2,    1.091,2, -999.000,9, 1997.200,2, 2289.700,2
           NA,    P03W,    376,   1,-999.0,     -99,  2,20060120,1557,  26.7397,  126.3295,  1912,  200.300,   18.753,   34.816,2,   34.816,2,  171.400,1,  187.060,2,    4.950,2,    4.970,2,    0.010,2,    0.388,2,    2.024,2,    1.164,2, -999.000,9, 2034.900,2, 2283.800,2
           NA,    P03W,    376,   1,-999.0,     -99,  2,20060120,1557,  26.7397,  126.3295,  1912,  250.500,   17.396,   34.759,2,   34.759,2,  173.010,1,  188.470,2,    6.130,2,    6.280,2,    0.020,2,    0.476,2,    2.110,6,    1.209,6, -999.000,9, 2043.700,2, 2284.300,2
           NA,    P03W,    376,   1,-999.0,     -99,  2,20060120,1557,  26.7397,  126.3295,  1912,  302.500,   15.836,   34.655,2,   34.657,2,  173.770,1,  189.280,2,    7.890,2,    8.210,2,    0.010,2,    0.604,2,    2.230,2,    1.254,2, -999.000,9, 2056.800,2, 2279.900,2
           NA,    P03W,    376,   1,-999.0,     -99,  2,20060120,1557,  26.7397,  126.3295,  1912,  399.400,   12.525,   34.418,2,   34.418,2,  160.140,1,  174.260,2,   18.570,2,   14.910,2,    0.000,2,    1.093,2,    2.223,2,    1.182,2, -999.000,9, 2104.600,2, 2275.400,2
           NA,    P03W,    376,   1,-999.0,     -99,  2,20060120,1557,  26.7397,  126.3295,  1912,  500.300,    9.442,   34.234,2,   34.235,6,  140.780,1,  152.630,2,   35.330,2,   22.170,2,    0.010,2,    1.624,2,    1.969,2,    0.998,2, -999.000,9, 2157.300,2, 2282.900,2
           NA,    P03W,    376,   1,-999.0,     -99,  2,20060120,1557,  26.7397,  126.3295,  1912,  602.000,    7.610,   34.222,2,   34.222,2,  107.200,1,  116.100,2,   56.010,2,   28.860,2,    0.000,2,    2.117,2,    1.329,2,    0.654,2, -999.000,9, 2212.400,2, 2300.400,2
           NA,    P03W,    376,   1,-999.0,     -99,  2,20060120,1557,  26.7397,  126.3295,  1912,  702.400,    5.654,   34.213,2,   34.213,2,   77.080,1,   83.380,2,   79.680,2,   35.180,2,    0.000,2,    2.577,2,    0.747,2,    0.367,2, -999.000,9, 2269.700,6, 2316.000,2
           NA,    P03W,    376,   1,-999.0,     -99,  2,20060120,1557,  26.7397,  126.3295,  1912,  801.200,    5.218,   34.336,2,   34.336,2,   72.810,1,   78.530,2,   93.900,2,   36.190,2,    0.010,2,    2.636,2,    0.477,6,    0.241,6, -999.000,9, 2292.500,2, 2339.600,6
           NA,    P03W,    376,   1,-999.0,     -99,  2,20060120,1557,  26.7397,  126.3295,  1912,  900.300,    4.700,   34.400,2,   34.399,2,   71.180,1,   76.820,2,  104.420,2,   37.110,2,    0.000,2,    2.690,2,    0.314,2,    0.164,2, -999.000,9, 2307.300,2, 2351.500,2
           NA,    P03W,    376,   1,-999.0,     -99,  2,20060120,1557,  26.7397,  126.3295,  1912, 1000.200,    4.528,   34.420,2,   34.420,6,   71.480,1,   77.110,2,  107.970,2,   37.350,2,    0.000,2,    2.706,2,    0.272,2,    0.145,2, -999.000,9, 2313.700,2, 2356.000,2
           NA,    P03W,    376,   1,-999.0,     -99,  2,20060120,1557,  26.7397,  126.3295,  1912, 1203.800,    4.073,   34.435,2,   34.435,2,   69.140,1,   74.450,2,  114.390,2,   38.340,2,    0.000,2,    2.781,2,    0.185,2,    0.095,2, -999.000,9, 2321.900,2, 2366.100,2
           NA,    P03W,    376,   1,-999.0,     -99,  2,20060120,1557,  26.7397,  126.3295,  1912, 1403.400,    3.891,   34.446,2,   34.446,2,   69.230,1,   74.510,2,  117.520,2,   38.650,2,    0.010,2,    2.798,2,    0.157,2,    0.080,2, -999.000,9, 2326.300,2, 2369.000,2
           NA,    P03W,    376,   1,-999.0,     -99,  2,20060120,1557,  26.7397,  126.3295,  1912, 1602.100,    3.843,   34.452,2,   34.452,2,   69.610,1,   74.580,2,  118.750,2,   38.800,2,    0.000,2,    2.803,2,    0.147,2,    0.077,2, -999.000,9, 2328.500,2, 2369.200,2
           NA,    P03W,    376,   1,-999.0,     -99,  2,20060120,1557,  26.7397,  126.3295,  1912, 1798.800,    3.818,   34.460,2,   34.460,2,   70.680,1,   76.040,2,  119.710,2,   38.690,2,    0.010,2,    2.801,2, -999.000,9, -999.000,9, -999.000,9, 2328.700,2, 2372.800,2
           NA,    P03W,    376,   1,-999.0,     -99,  2,20060120,1557,  26.7397,  126.3295,  1912, 1799.600,    3.816,   34.460,2,   34.460,2,   70.680,1,   75.920,2,  119.710,2,   38.690,2,    0.000,2,    2.802,2,    0.141,2,    0.074,2, -999.000,9, 2329.500,2, 2372.700,2
           NA,    P03W,    376,   1,-999.0,     -99,  2,20060120,1557,  26.7397,  126.3295,  1912, 1911.400,    3.803,   34.461,2,   34.461,6,   70.620,1,   75.540,2,  120.200,2,   38.770,2,    0.010,2,    2.798,2,    0.141,2,    0.071,2, -999.000,9, 2329.700,2, 2373.300,2
           NA,    P03W,    374,   1,-999.0,     -99,  2,20060120,1234,  26.6048,  126.5223,  1515,    9.000,   22.304,   34.819,2,   34.816,2,  198.200,1,  216.660,2,    1.270,2,    0.040,2,    0.000,2,    0.047,2,    1.808,2,    1.046,2, -999.000,9, -999.000,9, -999.000,9
           NA,    P03W,    374,   1,-999.0,     -99,  2,20060120,1234,  26.6048,  126.5223,  1515,   23.100,   22.305,   34.824,2,   34.821,2,  197.950,1,  216.380,2,    1.310,2,    0.050,2,    0.000,2,    0.049,2,    1.792,2,    1.036,2, -999.000,9, -999.000,9, -999.000,9
           NA,    P03W,    374,   1,-999.0,     -99,  2,20060120,1234,  26.6048,  126.5223,  1515,   50.500,   22.305,   34.825,2,   34.824,2,  198.070,1,  216.360,2,    1.280,2,    0.030,2,    0.000,2,    0.048,2,    1.800,2,    1.035,2, -999.000,9, -999.000,9, -999.000,9
           NA,    P03W,    374,   1,-999.0,     -99,  2,20060120,1234,  26.6048,  126.5223,  1515,   75.800,   22.237,   34.827,2,   34.826,2,  197.600,1,  216.090,2,    1.300,2,    0.030,2,    0.000,2,    0.044,2,    1.790,2,    1.042,2, -999.000,9, -999.000,9, -999.000,9
           NA,    P03W,    374,   1,-999.0,     -99,  2,20060120,1234,  26.6048,  126.5223,  1515,  100.500,   22.199,   34.833,2,   34.832,2,  195.890,1,  214.160,2,    1.360,2,    0.070,2,    0.020,2,    0.055,2,    1.799,2,    1.035,2, -999.000,9, -999.000,9, -999.000,9
           NA,    P03W,    374,   1,-999.0,     -99,  2,20060120,1234,  26.6048,  126.5223,  1515,  149.500,   20.271,   34.906,2,   34.906,2,  183.890,1,  201.000,2,    2.200,2,    1.660,2,    0.030,2,    0.168,2,    2.051,2,    1.146,2, -999.000,9, -999.000,9, -999.000,9
           NA,    P03W,    374,   1,-999.0,     -99,  2,20060120,1234,  26.6048,  126.5223,  1515,  198.700,   18.860,   34.869,2,   34.869,2,  177.460,1,  193.830,2,    3.200,2,    3.700,2,    0.010,2,    0.303,2,    2.181,2,    1.206,2, -999.000,9, -999.000,9, -999.000,9
           NA,    P03W,    374,   1,-999.0,     -99,  2,20060120,1234,  26.6048,  126.5223,  1515,  252.200,   17.594,   34.805,2,   34.806,2,  187.590,1,  204.430,2,    3.760,2,    4.290,2,    0.010,2,    0.328,2,    2.298,6,    1.269,6, -999.000,9, -999.000,9, -999.000,9
           NA,    P03W,    374,   1,-999.0,     -99,  2,20060120,1234,  26.6048,  126.5223,  1515,  302.700,   16.748,   34.743,2,   34.744,2,  186.200,1,  203.070,2,    5.090,2,    5.690,2,    0.010,2,    0.420,2,    2.371,2,    1.285,2, -999.000,9, -999.000,9, -999.000,9
           NA,    P03W,    374,   1,-999.0,     -99,  2,20060120,1234,  26.6048,  126.5223,  1515,  400.800,   13.860,   34.505,2,   34.504,2,  168.130,1,  183.050,2,   13.030,2,   11.860,2,    0.000,2,    0.871,2,    2.483,2,    1.269,2, -999.000,9, -999.000,9, -999.000,9
           NA,    P03W,    374,   1,-999.0,     -99,  2,20060120,1234,  26.6048,  126.5223,  1515,  500.200,   10.797,   34.327,2,   34.326,6,  144.790,1,  157.590,2,   28.710,2,   19.390,2,    0.000,2,    1.423,2,    2.151,2,    1.049,2, -999.000,9, -999.000,9, -999.000,9
           NA,    P03W,    374,   1,-999.0,     -99,  2,20060120,1234,  26.6048,  126.5223,  1515,  600.200,    8.596,   34.196,2,   34.196,2,  131.470,1,  142.780,2,   42.080,2,   24.630,2,    0.000,2,    1.804,2,    1.900,2,    0.913,2, -999.000,9, -999.000,9, -999.000,9
           NA,    P03W,    374,   1,-999.0,     -99,  2,20060120,1234,  26.6048,  126.5223,  1515,  700.400,    6.674,   34.174,2,   34.174,2,   98.940,1,  107.280,2,   64.020,2,   31.310,2,    0.000,2,    2.291,2,    1.260,2,    0.599,2, -999.000,9, -999.000,9, -999.000,9
           NA,    P03W,    374,   1,-999.0,     -99,  2,20060120,1234,  26.6048,  126.5223,  1515,  800.200,    5.813,   34.318,2,   34.318,2,   81.300,1,   87.910,2,   85.070,2,   34.380,2,    0.000,2,    2.506,2,    0.691,6,    0.330,6, -999.000,9, -999.000,9, -999.000,9
           NA,    P03W,    374,   1,-999.0,     -99,  2,20060120,1234,  26.6048,  126.5223,  1515,  899.400,    4.585,   34.342,2,   34.341,2,   64.480,1,   69.800,2,  102.360,2,   38.140,2,    0.000,2,    2.765,2,    0.346,2,    0.167,2, -999.000,9, -999.000,9, -999.000,9
           NA,    P03W,    374,   1,-999.0,     -99,  2,20060120,1234,  26.6048,  126.5223,  1515, 1002.300,    4.453,   34.404,2,   34.403,6,   69.230,1,   74.690,2,  107.670,2,   37.770,2,    0.000,2,    2.733,2,    0.278,2,    0.132,2, -999.000,9, -999.000,9, -999.000,9
           NA,    P03W,    374,   1,-999.0,     -99,  2,20060120,1234,  26.6048,  126.5223,  1515, 1200.100,    4.073,   34.425,2,   34.425,2,   67.940,1,   73.200,2,  113.560,2,   38.530,2,    0.000,2,    2.793,2,    0.200,2,    0.097,2, -999.000,9, -999.000,9, -999.000,9
           NA,    P03W,    374,   1,-999.0,     -99,  2,20060120,1234,  26.6048,  126.5223,  1515, 1400.700,    3.934,   34.444,2,   34.444,2,   68.870,1,   74.220,2,  116.930,2,   38.710,2,    0.010,2,    2.794,2,    0.167,2,    0.081,2, -999.000,9, -999.000,9, -999.000,9
           NA,    P03W,    374,   1,-999.0,     -99,  2,20060120,1234,  26.6048,  126.5223,  1515, 1506.800,    3.865,   34.448,2,   34.448,6,   69.260,1,   74.100,2,  118.100,2,   38.750,2,    0.000,2,    2.794,2,    0.158,2,    0.077,2, -999.000,9, -999.000,9, -999.000,9
           NA,    P03W,    372,   1,-999.0,     -99,  2,20060120,0858,  26.4503,  126.6257,  1364,    9.800,   22.311,   34.792,2,   34.791,2,  198.380,1,  217.240,2,    1.420,2,    0.040,2,    0.000,2,    0.044,2,    1.769,2,    1.048,2, -999.000,9, 1963.200,2, 2280.900,2
           NA,    P03W,    372,   1,-999.0,     -99,  2,20060120,0858,  26.4503,  126.6257,  1364,   24.600,   22.284,   34.789,2,   34.787,2,  198.170,1,  217.060,2,    1.360,2,    0.050,2,    0.000,2,    0.046,2,    1.760,2,    1.042,2, -999.000,9, 1963.600,2, 2283.300,2
           NA,    P03W,    372,   1,-999.0,     -99,  2,20060120,0858,  26.4503,  126.6257,  1364,   50.900,   22.254,   34.800,2,   34.799,2,  197.890,1,  216.560,2,    1.370,2,    0.030,2,    0.000,2,    0.043,2,    1.767,2,    1.044,2, -999.000,9, 1966.400,6, 2279.500,2
           NA,    P03W,    372,   1,-999.0,     -99,  2,20060120,0858,  26.4503,  126.6257,  1364,   76.100,   22.248,   34.843,2,   34.843,2,  194.210,1,  212.970,2,    1.450,2,    0.080,2,    0.060,2,    0.048,2,    1.756,2,    1.038,2, -999.000,9, 1967.700,2, 2288.500,2
           NA,    P03W,    372,   1,-999.0,     -99,  2,20060120,0858,  26.4503,  126.6257,  1364,  100.700,   21.552,   34.851,2,   34.851,2,  186.550,1,  204.330,2,    1.880,2,    0.980,2,    0.080,2,    0.113,2,    1.846,2,    1.092,2, -999.000,9, 1989.600,2, 2283.000,6
           NA,    P03W,    372,   1,-999.0,     -99,  2,20060120,0858,  26.4503,  126.6257,  1364,  150.800,   19.056,   34.877,2,   34.875,2,  180.220,1,  197.390,2,    3.030,2,    3.190,2,    0.010,2,    0.255,2,    2.064,2,    1.210,2, -999.000,9, 2023.900,2, 2286.600,2
           NA,    P03W,    372,   1,-999.0,     -99,  2,20060120,0858,  26.4503,  126.6257,  1364,  199.300,   18.498,   34.844,2,   34.843,2,  180.510,1,  197.220,2,    3.590,2,    3.920,2,    0.010,2,    0.305,2,    2.097,2,    1.219,2, -999.000,9, 2027.600,2, 2282.800,2
           NA,    P03W,    372,   1,-999.0,     -99,  2,20060120,0858,  26.4503,  126.6257,  1364,  250.900,   17.532,   34.805,2,   34.804,2,  189.180,1,  206.380,2,    3.810,2,    4.280,2,    0.000,2,    0.317,2,    2.159,6,    1.258,6, -999.000,9, 2026.700,2, 2280.400,2
           NA,    P03W,    372,   1,-999.0,     -99,  2,20060120,0858,  26.4503,  126.6257,  1364,  300.000,   16.844,   34.746,2,   34.746,2,  184.150,1,  200.630,2,    5.220,2,    5.810,2,    0.000,2,    0.426,2,    2.204,2,    1.272,2, -999.000,9, 2038.200,2, 2278.800,2
           NA,    P03W,    372,   1,-999.0,     -99,  2,20060120,0858,  26.4503,  126.6257,  1364,  398.700,   14.425,   34.553,2,   34.561,2,  167.240,1,  183.700,2,   12.510,2,   10.950,2,    0.000,2,    0.795,2,    2.233,2,    1.243,2, -999.000,9, 2076.900,2, 2271.300,2
           NA,    P03W,    372,   1,-999.0,     -99,  2,20060120,0858,  26.4503,  126.6257,  1364,  499.300,   12.043,   34.380,2,   34.380,6,  163.430,1,  177.550,2,   19.750,2,   15.490,2,    0.000,2,    1.120,2,    2.304,2,    1.231,2, -999.000,9, 2107.100,2, 2270.000,2
           NA,    P03W,    372,   1,-999.0,     -99,  2,20060120,0858,  26.4503,  126.6257,  1364,  601.500,    9.369,   34.246,2,   34.246,2,  134.740,1,  147.110,2,   36.560,2,   22.730,2,    0.000,2,    1.660,2,    1.903,2,    0.958,2, -999.000,9, 2160.900,2, 2278.200,2
           NA,    P03W,    372,   1,-999.0,     -99,  2,20060120,0858,  26.4503,  126.6257,  1364,  699.000,    6.719,   34.196,2,   34.195,2,   96.420,1,  103.890,2,   65.180,2,   31.650,2,    0.000,2,    2.315,2,    1.138,2,    0.554,2, -999.000,9, 2236.100,6, 2304.400,2
           NA,    P03W,    372,   1,-999.0,     -99,  2,20060120,0858,  26.4503,  126.6257,  1364,  801.000,    5.808,   34.231,2,   34.230,2,   80.620,1,   86.870,2,   79.240,2,   34.720,2,    0.000,2,    2.531,2,    0.791,6,    0.388,6, -999.000,9, 2267.400,2, 2316.500,6
           NA,    P03W,    372,   1,-999.0,     -99,  2,20060120,0858,  26.4503,  126.6257,  1364,  901.700,    5.121,   34.342,2,   34.340,2,   72.940,1,   78.520,2,   95.560,2,   36.440,2,    0.000,2,    2.646,2,    0.475,2,    0.239,2, -999.000,9, 2293.900,2, 2338.100,2
           NA,    P03W,    372,   1,-999.0,     -99,  2,20060120,0858,  26.4503,  126.6257,  1364, 1000.900,    4.332,   34.380,2,   34.379,6,   65.030,1,   69.870,2,  108.080,2,   38.450,2,    0.000,2,    2.789,2,    0.263,2,    0.132,2, -999.000,9, 2316.600,2, 2354.400,2
           NA,    P03W,    372,   1,-999.0,     -99,  2,20060120,0858,  26.4503,  126.6257,  1364, 1200.100,    3.991,   34.424,2,   34.423,2,   66.430,1,   71.400,2,  115.100,2,   38.920,2,    0.000,2,    2.813,2,    0.180,2,    0.091,2, -999.000,9, 2324.100,2, 2361.400,2
           NA,    P03W,    372,   1,-999.0,     -99,  2,20060120,0858,  26.4503,  126.6257,  1364, 1376.400,    3.959,   34.433,2,   34.433,6,   67.470,1,   72.540,2,  116.190,2,   38.860,2,    0.000,2,    2.793,2,    0.167,2,    0.084,2, -999.000,9, 2326.900,2, 2365.500,2
           NA,    P03W,    370,   1,-999.0,     -99,  2,20060120,0659,  26.3885,  126.7037,   327,    9.500,   22.299,   34.797,2,   34.795,2,  198.150,1,  216.530,2,    1.370,2,    0.040,2,    0.000,2,    0.044,2,    1.813,2,    1.025,2, -999.000,9, -999.000,9, -999.000,9
           NA,    P03W,    370,   1,-999.0,     -99,  2,20060120,0659,  26.3885,  126.7037,   327,   24.300,   22.257,   34.798,2,   34.796,2,  197.660,1,  215.710,2,    1.370,2,    0.040,2,    0.000,2,    0.049,2,    1.822,2,    1.023,2, -999.000,9, -999.000,9, -999.000,9
           NA,    P03W,    370,   1,-999.0,     -99,  2,20060120,0659,  26.3885,  126.7037,   327,   48.500,   22.245,   34.799,2,   34.797,2,  197.180,1,  215.660,2,    1.370,2,    0.070,2,    0.010,2,    0.048,2,    1.811,2,    1.019,2, -999.000,9, -999.000,9, -999.000,9
           NA,    P03W,    370,   1,-999.0,     -99,  2,20060120,0659,  26.3885,  126.7037,   327,   73.500,   22.232,   34.799,2,   34.797,2,  197.190,1,  215.310,2,    1.360,2,    0.060,2,    0.010,2,    0.052,2,    1.818,2,    1.031,2, -999.000,9, -999.000,9, -999.000,9
           NA,    P03W,    370,   1,-999.0,     -99,  2,20060120,0659,  26.3885,  126.7037,   327,  101.100,   22.188,   34.801,2,   34.801,2,  196.720,1,  215.000,2,    1.410,2,    0.100,2,    0.020,2,    0.053,2,    1.826,2,    1.029,2, -999.000,9, -999.000,9, -999.000,9
           NA,    P03W,    370,   1,-999.0,     -99,  2,20060120,0659,  26.3885,  126.7037,   327,  151.900,   19.304,   34.861,2,   34.860,2,  179.700,1,  196.060,2,    3.240,2,    3.270,2,    0.020,2,    0.265,2,    2.117,2,    1.158,2, -999.000,9, -999.000,9, -999.000,9
           NA,    P03W,    370,   1,-999.0,     -99,  2,20060120,0659,  26.3885,  126.7037,   327,  199.200,   17.797,   34.800,2,   34.799,2,  180.610,1,  196.920,2,    4.410,2,    4.890,2,    0.010,2,    0.363,2,    2.260,2,    1.216,2, -999.000,9, -999.000,9, -999.000,9
           NA,    P03W,    370,   1,-999.0,     -99,  2,20060120,0659,  26.3885,  126.7037,   327,  250.200,   17.124,   34.764,2,   34.763,2,  182.760,1,  199.140,2,    5.060,2,    5.570,2,    0.010,2,    0.410,2,    2.314,6,    1.238,6, -999.000,9, -999.000,9, -999.000,9
           NA,    P03W,    370,   1,-999.0,     -99,  2,20060120,0659,  26.3885,  126.7037,   327,  309.100,   16.613,   34.724,2,   34.729,6,  180.770,1,  196.400,2,    6.040,2,    6.440,2,    0.000,2,    0.474,2,    2.339,2,    1.246,2, -999.000,9, -999.000,9, -999.000,9
           NA,    P03C,    369,   1,-999.0,     -99,  2,20060113,0800,  25.9188,  127.1940,    93,   11.000,   21.884,   34.720,2,   34.720,2,  201.020,1,  218.440,2,    1.260,2,    0.070,2,    0.020,2,    0.069,2,    1.917,2,    1.124,2, -999.000,9, 1966.500,2, 2280.300,2
           NA,    P03C,    369,   1,-999.0,     -99,  2,20060113,0800,  25.9188,  127.1940,    93,   50.300,   21.864,   34.747,2,   34.746,2,  200.100,1,  217.450,2,    1.200,2,    0.080,2,    0.020,2,    0.067,2,    1.920,2,    1.120,2, -999.000,9, 1969.200,6, 2282.000,2
           NA,    P03C,    369,   1,-999.0,     -99,  2,20060113,0800,  25.9188,  127.1940,    93,   82.100,   21.485,   34.828,2,   34.826,6,  191.400,1,  207.980,2,    1.590,2,    0.760,2,    0.050,2,    0.113,2,    1.967,2,    1.148,2, -999.000,9, 1988.100,2, 2286.200,2