BOTTLE,20211903JOAExport
EXPOCODE,SECT_ID,STNNBR,CASTNO,SAMPNO,BTLNBR,BTLNBR_FLAG_W,DATE,TIME,LATITUDE,LONGITUDE,DEPTH,CTDPRS,CTDTMP,CTDSAL,CTDSAL_FLAG_W,SALNTY,SALNTY_FLAG_W,CTDOXY,CTDOXY_FLAG_W,OXYGEN,OXYGEN_FLAG_W,SILCAT,SILCAT_FLAG_W,NITRAT,NITRAT_FLAG_W,NITRIT,NITRIT_FLAG_W,PHSPHT,PHSPHT_FLAG_W,CFC-11,CFC-11_FLAG_W,CFC-12,CFC-12_FLAG_W,SF6,SF6_FLAG_W,TCARBN,TCARBN_FLAG_W,ALKALI,ALKALI_FLAG_W
,,,,,,,,,,,,DB,ITS-90,PSS-78,,PSS-78,,UMOL/KG,,UMOL/KG,,UMOL/KG,,UMOL/KG,,UMOL/KG,,UMOL/KG,,PMOL/KG,,PMOL/KG,,FMOL/KG,,UMOL/KG,,UMOL/KG
           NA,    P03E,     94,   1,-999.0,     -99,  2,20051114,1414,  24.2515, -149.1583,  5336,    9.700,   23.863,   35.326,2,   35.329,2,  198.730,1,  212.670,2,    1.010,2,    0.050,2,    0.000,2,    0.065,2,    1.808,2,    1.071,2, -999.000,9, 2002.200,2, 2327.500,2
           NA,    P03E,     94,   1,-999.0,     -99,  2,20051114,1414,  24.2515, -149.1583,  5336,   49.700,   23.823,   35.373,2,   35.376,2,  199.350,1,  213.260,2,    1.000,2,    0.050,2,    0.000,2,    0.050,2,    1.839,2,    1.085,2, -999.000,9, 2005.100,6, 2328.700,2
           NA,    P03E,     94,   1,-999.0,     -99,  2,20051114,1414,  24.2515, -149.1583,  5336,  100.100,   21.264,   35.179,2,   35.166,2,  207.180,1,  221.590,2,    1.500,2,    0.050,2,    0.000,2,    0.063,2,    2.149,2,    1.237,2, -999.000,9, 2017.800,2, 2312.000,6
           NA,    P03E,     94,   1,-999.0,     -99,  2,20051114,1414,  24.2515, -149.1583,  5336,  150.000,   18.782,   34.888,2,   34.888,2,  190.930,1,  204.200,2,    2.440,2,    1.470,2,    0.030,2,    0.206,2,    2.364,2,    1.342,2, -999.000,9, 2040.200,2, 2289.300,2
           NA,    P03E,     94,   1,-999.0,     -99,  2,20051114,1414,  24.2515, -149.1583,  5336,  198.900,   15.465,   34.467,2,   34.460,2,  189.910,1,  202.930,2,    4.890,2,    5.210,2,    0.000,2,    0.455,2,    2.715,2,    1.509,2, -999.000,9, 2056.500,2, 2263.700,2
           NA,    P03E,     94,   1,-999.0,     -99,  2,20051114,1414,  24.2515, -149.1583,  5336,  250.000,   12.797,   34.255,2,   34.257,2,  202.160,1,  215.350,2,    8.520,2,    8.870,2,    0.000,2,    0.689,2,    2.997,6,    1.645,6, -999.000,9, 2066.100,2, 2255.100,2
           NA,    P03E,     94,   1,-999.0,     -99,  2,20051114,1414,  24.2515, -149.1583,  5336,  300.700,   11.360,   34.185,2,   34.186,2,  202.420,1,  215.720,2,   12.560,2,   12.080,2,    0.000,2,    0.896,2,    3.147,2,    1.706,2, -999.000,9, 2084.500,2, 2254.000,2
           NA,    P03E,     94,   1,-999.0,     -99,  2,20051114,1414,  24.2515, -149.1583,  5336,  398.900,    8.982,   34.100,2,   34.099,2,  171.860,1,  182.740,2,   27.250,2,   20.360,2,    0.000,2,    1.462,2,    2.979,2,    1.493,2, -999.000,9, 2141.200,2, 2261.900,2
           NA,    P03E,     94,   1,-999.0,     -99,  2,20051114,1414,  24.2515, -149.1583,  5336,  499.600,    6.677,   34.015,2,   34.017,6,  117.850,1,  125.060,2,   51.240,2,   30.250,2,    0.000,2,    2.185,2,    2.047,2,    0.951,2, -999.000,9, 2212.400,2, 2275.800,2
           NA,    P03E,     94,   1,-999.0,     -99,  2,20051114,1414,  24.2515, -149.1583,  5336,  600.200,    5.442,   34.115,2,   34.114,2,   44.350,1,   47.400,2,   76.410,2,   38.980,2,    0.000,2,    2.873,2,    0.441,2,    0.220,2, -999.000,9, 2291.100,2, 2306.000,2
           NA,    P03E,     94,   1,-999.0,     -99,  2,20051114,1414,  24.2515, -149.1583,  5336,  700.800,    4.718,   34.229,2,   34.230,2,   21.200,1,   22.320,2,   95.330,2,   42.190,2,    0.000,2,    3.123,2,    0.087,2,    0.046,2, -999.000,9, 2331.000,6, 2325.200,2
           NA,    P03E,     94,   1,-999.0,     -99,  2,20051114,1414,  24.2515, -149.1583,  5336,  800.800,    4.418,   34.339,2,   34.337,2,   20.550,1,   21.660,2,  103.740,2,   42.950,2,    0.000,2,    3.172,2,    0.031,6,    0.017,6, -999.000,9, 2343.600,2, 2343.500,6
           NA,    P03E,     94,   1,-999.0,     -99,  2,20051114,1414,  24.2515, -149.1583,  5336,  900.500,    4.101,   34.410,2,   34.409,2,   25.600,1,   27.020,2,  110.840,2,   43.060,2,   -0.010,2,    3.153,2,    0.004,2,    0.001,2, -999.000,9, 2349.700,2, 2353.400,2
           NA,    P03E,     94,   1,-999.0,     -99,  2,20051114,1414,  24.2515, -149.1583,  5336, 1000.200,    3.925,   34.480,2,   34.480,6,   38.920,1,   41.260,2,  112.770,2,   42.490,2,    0.000,2,    3.102,2,    0.000,2,    0.000,2, -999.000,9, 2344.800,2, 2363.300,2
           NA,    P03E,     94,   1,-999.0,     -99,  2,20051114,1414,  24.2515, -149.1583,  5336, 1199.300,    3.460,   34.533,2,   34.533,2,   47.920,1,   51.190,2,  122.630,2,   42.300,2,    0.000,2,    3.082,2,    0.000,2,    0.000,2, -999.000,9, 2354.100,2, 2381.300,2
           NA,    P03E,     94,   1,-999.0,     -99,  2,20051114,1414,  24.2515, -149.1583,  5336, 1400.400,    3.047,   34.556,2,   34.556,2,   55.500,1,   59.540,2,  132.370,2,   41.930,2,    0.000,2,    3.035,2,    0.000,2,    0.000,2, -999.000,9, 2358.000,2, 2390.000,2
           NA,    P03E,     94,   1,-999.0,     -99,  2,20051114,1414,  24.2515, -149.1583,  5336, 1601.900,    2.665,   34.579,2,   34.579,2,   63.690,1,   68.610,2,  141.490,2,   41.460,2,    0.000,2,    2.986,2,    0.001,2,    0.006,2, -999.000,9, 2359.000,2, 2398.500,2
           NA,    P03E,     94,   1,-999.0,     -99,  2,20051114,1414,  24.2515, -149.1583,  5336, 1803.800,    2.347,   34.601,2,   34.601,2,   72.350,1,   77.830,2,  149.100,2,   40.900,2,    0.000,2,    2.940,2,    0.000,2,    0.000,2, -999.000,9, 2364.300,2, 2402.600,2
           NA,    P03E,     94,   1,-999.0,     -99,  2,20051114,1414,  24.2515, -149.1583,  5336, 1999.900,    2.092,   34.618,2,   34.618,2,   79.530,1,   85.710,2,  156.010,2,   40.390,2,    0.000,2,    2.894,2,    0.000,2,    0.000,2, -999.000,9, 2363.600,2, 2413.000,2
           NA,    P03E,     94,   1,-999.0,     -99,  2,20051114,1414,  24.2515, -149.1583,  5336, 2199.500,    1.918,   34.633,2,   34.634,6,   87.700,1,   94.810,2,  159.470,2,   39.900,2,    0.000,2,    2.848,2,    0.000,2,    0.001,2, -999.000,9, 2360.600,2, 2418.200,2
           NA,    P03E,     94,   1,-999.0,     -99,  2,20051114,1414,  24.2515, -149.1583,  5336, 2400.300,    1.787,   34.645,2,   34.646,2,   95.270,1,  103.110,2,  161.670,2,   39.380,2,    0.000,2,    2.800,2, -999.000,9, -999.000,9, -999.000,9, 2359.800,2, 2418.800,2
           NA,    P03E,     94,   1,-999.0,     -99,  2,20051114,1414,  24.2515, -149.1583,  5336, 2599.500,    1.696,   34.654,2,   34.654,2,  101.120,1,  109.570,2,  162.870,2,   39.030,2,    0.000,2,    2.764,2,    0.000,2,    0.000,2, -999.000,9, 2357.300,2, 2423.700,6
           NA,    P03E,     94,   1,-999.0,     -99,  2,20051114,1414,  24.2515, -149.1583,  5336, 2799.800,    1.626,   34.662,2,   34.662,2,  107.560,1,  116.750,2,  162.970,2,   38.470,2,    0.000,2,    2.727,2, -999.000,9, -999.000,9, -999.000,9, 2355.200,2, 2420.700,2
           NA,    P03E,     94,   1,-999.0,     -99,  2,20051114,1414,  24.2515, -149.1583,  5336, 3000.000,    1.576,   34.668,2,   34.668,2,  112.850,1,  122.520,2,  163.130,2,   38.180,2,    0.000,2,    2.697,2,    0.000,2,    0.000,2, -999.000,9, 2351.100,2, 2424.400,2
           NA,    P03E,     94,   1,-999.0,     -99,  2,20051114,1414,  24.2515, -149.1583,  5336, 3250.500,    1.523,   34.675,2,   34.675,6,  119.990,1,  130.350,2,  162.320,2,   37.640,2,    0.000,2,    2.642,2, -999.000,9, -999.000,9, -999.000,9, 2344.700,2, 2425.200,2
           NA,    P03E,     94,   1,-999.0,     -99,  2,20051114,1414,  24.2515, -149.1583,  5336, 3500.700,    1.499,   34.679,2,   34.680,2,  125.200,1,  135.860,2,  161.050,2,   37.350,2,    0.000,2,    2.621,2, -999.000,9, -999.000,9, -999.000,9, 2339.900,2, 2427.000,2
           NA,    P03E,     94,   1,-999.0,     -99,  2,20051114,1414,  24.2515, -149.1583,  5336, 3750.800,    1.482,   34.683,2,   34.683,6,  130.290,1,  141.260,2,  158.960,2,   36.920,2,    0.000,2,    2.592,2,    0.000,2,    0.000,2, -999.000,9, 2339.600,2, 2424.500,2
           NA,    P03E,     94,   1,-999.0,     -99,  2,20051114,1414,  24.2515, -149.1583,  5336, 4000.600,    1.475,   34.685,2,   34.686,2,  135.050,1,  146.100,2,  156.560,2,   36.510,2,    0.000,2,    2.567,2, -999.000,9, -999.000,9, -999.000,9, 2331.200,2, 2425.800,2
           NA,    P03E,     94,   1,-999.0,     -99,  2,20051114,1414,  24.2515, -149.1583,  5336, 4250.900,    1.480,   34.688,2,   34.688,2,  138.820,1,  149.910,2,  154.210,2,   36.300,2,    0.000,2,    2.554,2,    0.000,2,    0.003,2, -999.000,9, 2331.500,6, 2421.200,2
           NA,    P03E,     94,   1,-999.0,     -99,  2,20051114,1414,  24.2515, -149.1583,  5336, 4500.000,    1.485,   34.690,2,   34.689,2,  143.030,1,  153.940,2,  150.930,2,   36.060,2,    0.000,2,    2.531,2, -999.000,9, -999.000,9, -999.000,9, 2325.500,2, 2418.300,6
           NA,    P03E,     94,   1,-999.0,     -99,  2,20051114,1414,  24.2515, -149.1583,  5336, 4751.000,    1.483,   34.692,2,   34.692,2,  148.210,1,  159.070,2,  147.020,2,   35.660,2,    0.000,2,    2.501,2,    0.005,2,    0.004,2, -999.000,9, 2319.000,2, 2419.000,2
           NA,    P03E,     94,   1,-999.0,     -99,  2,20051114,1414,  24.2515, -149.1583,  5336, 5000.300,    1.482,   34.694,2,   34.694,2,  153.310,1,  163.630,2,  143.310,2,   35.360,2,    0.000,2,    2.472,2, -999.000,9, -999.000,9, -999.000,9, 2316.200,2, 2413.100,2
           NA,    P03E,     94,   1,-999.0,     -99,  2,20051114,1414,  24.2515, -149.1583,  5336, 5248.600,    1.502,   34.695,2,   34.695,2,  156.110,1,  165.690,2,  141.920,2,   35.130,2,    0.000,2,    2.467,2, -999.000,9, -999.000,9, -999.000,9, 2312.500,2, 2411.400,2
           NA,    P03E,     94,   1,-999.0,     -99,  2,20051114,1414,  24.2515, -149.1583,  5336, 5417.900,    1.521,   34.695,2,   34.695,6,  157.490,1,  166.210,2,  141.380,2,   35.160,2,   -0.010,2,    2.470,2,    0.006,2,    0.001,2, -999.000,9, 2313.600,2, 2409.300,2
           NA,    P03E,     92,   1,-999.0,     -99,  2,20051114,0742,  24.2558, -148.4378,  5473,    9.100,   23.885,   35.302,2,   35.302,2,  199.250,1,  212.890,2,    1.040,2,    0.040,2,    0.000,2,    0.052,2,    1.825,2,    1.054,2, -999.000,9, -999.000,9, -999.000,9
           NA,    P03E,     92,   1,-999.0,     -99,  2,20051114,0742,  24.2558, -148.4378,  5473,   50.000,   23.894,   35.302,2,   35.305,2,  199.120,1,  212.820,2,    1.010,2,    0.020,2,    0.000,2,    0.050,2,    1.867,2,    1.080,2, -999.000,9, -999.000,9, -999.000,9
           NA,    P03E,     92,   1,-999.0,     -99,  2,20051114,0742,  24.2558, -148.4378,  5473,  100.200,   20.764,   35.144,2,   35.127,2,  192.850,1,  204.270,2,    1.660,2,    0.610,2,    0.050,2,    0.110,2,    2.236,2,    1.243,2, -999.000,9, -999.000,9, -999.000,9
           NA,    P03E,     92,   1,-999.0,     -99,  2,20051114,0742,  24.2558, -148.4378,  5473,  149.500,   17.878,   34.778,2,   34.768,2,  187.950,1,  200.290,2,    3.110,2,    2.870,2,    0.020,2,    0.281,2,    2.528,2,    1.389,2, -999.000,9, -999.000,9, -999.000,9
           NA,    P03E,     92,   1,-999.0,     -99,  2,20051114,0742,  24.2558, -148.4378,  5473,  200.600,   14.896,   34.462,2,   34.444,2,  196.630,1,  209.720,2,    5.690,2,    5.940,2,    0.010,2,    0.491,2,    2.862,2,    1.544,2, -999.000,9, -999.000,9, -999.000,9
           NA,    P03E,     92,   1,-999.0,     -99,  2,20051114,0742,  24.2558, -148.4378,  5473,  248.800,   12.586,   34.217,2,   34.220,2,  199.020,1,  212.160,2,    9.100,2,    9.590,2,    0.000,2,    0.738,2,    3.107,6,    1.650,6, -999.000,9, -999.000,9, -999.000,9
           NA,    P03E,     92,   1,-999.0,     -99,  2,20051114,0742,  24.2558, -148.4378,  5473,  298.900,   11.276,   34.187,2,   34.186,2,  200.750,1,  213.390,2,   13.350,2,   12.690,2,    0.000,2,    0.930,2,    3.240,2,    1.690,2, -999.000,9, -999.000,9, -999.000,9
           NA,    P03E,     92,   1,-999.0,     -99,  2,20051114,0742,  24.2558, -148.4378,  5473,  401.700,    8.970,   34.101,2,   34.100,2,  169.580,1,  179.880,2,   27.420,2,   20.730,2,    0.000,2,    1.488,2,    3.021,2,    1.475,2, -999.000,9, -999.000,9, -999.000,9
           NA,    P03E,     92,   1,-999.0,     -99,  2,20051114,0742,  24.2558, -148.4378,  5473,  500.400,    6.878,   34.026,2,   34.025,6,  116.590,1,  122.430,2,   49.510,2,   30.150,2,    0.000,2,    2.177,2,    2.054,2,    0.926,2, -999.000,9, -999.000,9, -999.000,9
           NA,    P03E,     92,   1,-999.0,     -99,  2,20051114,0742,  24.2558, -148.4378,  5473,  600.700,    5.441,   34.085,2,   34.088,2,   53.360,1,   55.580,2,   75.610,2,   38.400,2,   -0.010,2,    2.821,2,    0.610,2,    0.289,2, -999.000,9, -999.000,9, -999.000,9
           NA,    P03E,     92,   1,-999.0,     -99,  2,20051114,0742,  24.2558, -148.4378,  5473,  699.500,    4.773,   34.201,2,   34.201,2,   22.540,1,   24.020,2,   93.820,2,   42.090,2,    0.000,2,    3.110,2,    0.120,2,    0.062,2, -999.000,9, -999.000,9, -999.000,9
           NA,    P03E,     92,   1,-999.0,     -99,  2,20051114,0742,  24.2558, -148.4378,  5473,  801.000,    4.477,   34.346,2,   34.349,2,   19.280,1,   20.860,2,  103.050,2,   42.970,2,    0.000,2,    3.175,2,    0.020,6,    0.013,6, -999.000,9, -999.000,9, -999.000,9
           NA,    P03E,     92,   1,-999.0,     -99,  2,20051114,0742,  24.2558, -148.4378,  5473,  899.900,    4.346,   34.435,2,   34.435,2,   30.070,1,   32.020,2,  104.980,2,   42.530,2,    0.000,2,    3.119,2,    0.017,2,    0.007,2, -999.000,9, -999.000,9, -999.000,9
           NA,    P03E,     92,   1,-999.0,     -99,  2,20051114,0742,  24.2558, -148.4378,  5473, 1000.200,    4.122,   34.480,2,   34.480,6,   36.580,1,   39.060,2,  108.930,2,   42.420,2,    0.000,2,    3.118,2,    0.005,2,    0.004,2, -999.000,9, -999.000,9, -999.000,9
           NA,    P03E,     92,   1,-999.0,     -99,  2,20051114,0742,  24.2558, -148.4378,  5473, 1200.800,    3.555,   34.526,2,   34.526,2,   46.130,1,   49.460,2,  121.480,2,   42.410,2,    0.000,2,    3.089,2,    0.005,2,    0.001,2, -999.000,9, -999.000,9, -999.000,9
           NA,    P03E,     92,   1,-999.0,     -99,  2,20051114,0742,  24.2558, -148.4378,  5473, 1399.100,    3.075,   34.553,2,   34.553,2,   54.450,1,   58.520,2,  132.590,2,   41.970,2,    0.000,2,    3.049,2,    0.000,2,    0.000,2, -999.000,9, -999.000,9, -999.000,9
           NA,    P03E,     92,   1,-999.0,     -99,  2,20051114,0742,  24.2558, -148.4378,  5473, 1599.600,    2.667,   34.579,2,   34.579,2,   64.030,1,   68.940,2,  141.850,2,   41.510,2,    0.000,2,    2.993,2,    0.000,2,    0.000,2, -999.000,9, -999.000,9, -999.000,9
           NA,    P03E,     92,   1,-999.0,     -99,  2,20051114,0742,  24.2558, -148.4378,  5473, 1801.300,    2.363,   34.600,2,   34.600,2,   71.460,1,   77.110,2,  149.530,2,   41.030,2,    0.000,2,    2.943,2,    0.000,2,    0.000,2, -999.000,9, -999.000,9, -999.000,9
           NA,    P03E,     92,   1,-999.0,     -99,  2,20051114,0742,  24.2558, -148.4378,  5473, 1999.000,    2.124,   34.617,2,   34.617,6,   78.540,1,   84.750,2,  156.070,2,   40.520,2,   -0.010,2,    2.898,2,    0.000,2,    0.000,2, -999.000,9, -999.000,9, -999.000,9
           NA,    P03E,     92,   1,-999.0,     -99,  2,20051114,0742,  24.2558, -148.4378,  5473, 2199.100,    1.934,   34.632,2,   34.632,2,   85.550,1,   92.730,2,  160.850,2,   40.200,2,    0.000,2,    2.860,2, -999.000,9, -999.000,9, -999.000,9, -999.000,9, -999.000,9
           NA,    P03E,     92,   1,-999.0,     -99,  2,20051114,0742,  24.2558, -148.4378,  5473, 2399.300,    1.811,   34.643,2,   34.643,2,   93.050,1,  100.880,2,  162.440,2,   39.470,2,    0.000,2,    2.815,2,    0.000,2,    0.000,2, -999.000,9, -999.000,9, -999.000,9
           NA,    P03E,     92,   1,-999.0,     -99,  2,20051114,0742,  24.2558, -148.4378,  5473, 2599.300,    1.698,   34.653,2,   34.653,2,   99.220,1,  107.690,2,  165.210,2,   39.110,2,    0.000,2,    2.777,2, -999.000,9, -999.000,9, -999.000,9, -999.000,9, -999.000,9
           NA,    P03E,     92,   1,-999.0,     -99,  2,20051114,0742,  24.2558, -148.4378,  5473, 2800.000,    1.620,   34.662,2,   34.662,2,  106.400,1,  115.710,2,  165.100,2,   38.670,2,    0.000,2,    2.729,2,    0.001,2,    0.000,2, -999.000,9, -999.000,9, -999.000,9
           NA,    P03E,     92,   1,-999.0,     -99,  2,20051114,0742,  24.2558, -148.4378,  5473, 2999.600,    1.571,   34.669,2,   34.669,2,  113.120,1,  122.860,2,  164.220,2,   38.180,2,    0.000,2,    2.694,2, -999.000,9, -999.000,9, -999.000,9, -999.000,9, -999.000,9
           NA,    P03E,     92,   1,-999.0,     -99,  2,20051114,0742,  24.2558, -148.4378,  5473, 3249.100,    1.526,   34.676,2,   34.676,6,  119.990,1,  130.320,2,  162.760,2,   37.600,2,   -0.010,2,    2.644,2, -999.000,9, -999.000,9, -999.000,9, -999.000,9, -999.000,9
           NA,    P03E,     92,   1,-999.0,     -99,  2,20051114,0742,  24.2558, -148.4378,  5473, 3500.200,    1.497,   34.679,2,   34.679,2,  124.850,1,  135.600,2,  161.840,2,   37.340,2,    0.000,2,    2.630,2,    0.003,2,    0.001,2, -999.000,9, -999.000,9, -999.000,9
           NA,    P03E,     92,   1,-999.0,     -99,  2,20051114,0742,  24.2558, -148.4378,  5473, 3749.100,    1.484,   34.683,2,   34.683,2,  130.910,1,  142.240,2,  158.580,2,   36.960,2,   -0.010,2,    2.593,2, -999.000,9, -999.000,9, -999.000,9, -999.000,9, -999.000,9
           NA,    P03E,     92,   1,-999.0,     -99,  2,20051114,0742,  24.2558, -148.4378,  5473, 4000.100,    1.473,   34.686,2,   34.686,2,  135.270,1,  146.390,2,  157.090,2,   36.640,2,    0.000,2,    2.574,2, -999.000,9, -999.000,9, -999.000,9, -999.000,9, -999.000,9
           NA,    P03E,     92,   1,-999.0,     -99,  2,20051114,0742,  24.2558, -148.4378,  5473, 4248.300,    1.474,   34.688,2,   34.688,2,  139.910,1,  150.950,2,  153.410,2,   36.300,2,   -0.010,2,    2.544,2, -999.000,9, -999.000,9, -999.000,9, -999.000,9, -999.000,9
           NA,    P03E,     92,   1,-999.0,     -99,  2,20051114,0742,  24.2558, -148.4378,  5473, 4499.700,    1.472,   34.691,2,   34.690,2,  145.120,1,  156.120,2,  149.840,2,   35.910,2,    0.000,2,    2.521,2,    0.002,2,    0.003,2, -999.000,9, -999.000,9, -999.000,9
           NA,    P03E,     92,   1,-999.0,     -99,  2,20051114,0742,  24.2558, -148.4378,  5473, 4750.200,    1.466,   34.693,2,   34.693,6,  150.670,1,  161.540,2,  145.540,2,   35.500,2,    0.000,2,    2.487,2, -999.000,9, -999.000,9, -999.000,9, -999.000,9, -999.000,9
           NA,    P03E,     92,   1,-999.0,     -99,  2,20051114,0742,  24.2558, -148.4378,  5473, 4999.300,    1.476,   34.695,2,   34.695,2,  154.290,1,  164.750,2,  143.330,2,   35.340,2,    0.000,2,    2.471,2, -999.000,9, -999.000,9, -999.000,9, -999.000,9, -999.000,9
           NA,    P03E,     92,   1,-999.0,     -99,  2,20051114,0742,  24.2558, -148.4378,  5473, 5249.600,    1.500,   34.695,2,   34.695,2,  156.280,1,  165.940,2,  142.350,2,   35.100,2,    0.000,2,    2.463,2, -999.000,9, -999.000,9, -999.000,9, -999.000,9, -999.000,9
           NA,    P03E,     92,   1,-999.0,     -99,  2,20051114,0742,  24.2558, -148.4378,  5473, 5498.200,    1.526,   34.695,2,   34.695,2,  158.280,1,  166.820,2,  141.520,2,   35.110,2,    0.000,2,    2.460,2, -999.000,9, -999.000,9, -999.000,9, -999.000,9, -999.000,9
           NA,    P03E,     92,   1,-999.0,     -99,  2,20051114,0742,  24.2558, -148.4378,  5473, 5566.100,    1.532,   34.696,2,   34.695,6,  159.390,1,  167.280,2,  141.480,2,   35.080,2,    0.000,2,    2.463,2,    0.002,2,    0.000,2, -999.000,9, -999.000,9, -999.000,9
           NA,    P03E,     92,   1,-999.0,     -99,  2,20051114,0742,  24.2558, -148.4378,  5473, 5566.400,    1.533,   34.695,2,   34.696,2,  159.190,1,  167.240,2,  141.250,2,   35.150,2,   -0.010,2,    2.459,2, -999.000,9, -999.000,9, -999.000,9, -999.000,9, -999.000,9