BOTTLE,20211903JOAExport
EXPOCODE,SECT_ID,STNNBR,CASTNO,SAMPNO,BTLNBR,BTLNBR_FLAG_W,DATE,TIME,LATITUDE,LONGITUDE,DEPTH,CTDPRS,CTDTMP,CTDSAL,CTDSAL_FLAG_W,SALNTY,SALNTY_FLAG_W,CTDOXY,CTDOXY_FLAG_W,OXYGEN,OXYGEN_FLAG_W,SILCAT,SILCAT_FLAG_W,NITRAT,NITRAT_FLAG_W,NITRIT,NITRIT_FLAG_W,PHSPHT,PHSPHT_FLAG_W,CFC-11,CFC-11_FLAG_W,CFC-12,CFC-12_FLAG_W,SF6,SF6_FLAG_W,TCARBN,TCARBN_FLAG_W,ALKALI,ALKALI_FLAG_W
,,,,,,,,,,,,DB,ITS-90,PSS-78,,PSS-78,,UMOL/KG,,UMOL/KG,,UMOL/KG,,UMOL/KG,,UMOL/KG,,UMOL/KG,,PMOL/KG,,PMOL/KG,,FMOL/KG,,UMOL/KG,,UMOL/KG
           NA,    P03C,    349,   1,-999.0,     -99,  2,20060112,0126,  24.2587,  128.4077,  5833,   10.000,   21.805,   34.769,2,   34.770,2,  200.110,1,  217.610,2,    1.340,2,    0.080,2,    0.030,2,    0.067,2,    1.927,2,    1.123,2, -999.000,9, 1968.600,2, -999.000,4
           NA,    P03C,    349,   1,-999.0,     -99,  2,20060112,0126,  24.2587,  128.4077,  5833,   49.800,   21.810,   34.769,2,   34.770,2,  199.690,1,  217.390,2,    1.340,2,    0.070,2,    0.030,2,    0.065,2,    1.936,2,    1.127,2, -999.000,9, 1969.500,6, 2282.400,2
           NA,    P03C,    349,   1,-999.0,     -99,  2,20060112,0126,  24.2587,  128.4077,  5833,   99.500,   21.564,   34.806,2,   34.808,2,  191.250,1,  208.340,2,    1.640,2,    0.710,2,    0.100,2,    0.109,2,    1.963,2,    1.140,2, -999.000,9, 1981.500,2, 2284.400,6
           NA,    P03C,    349,   1,-999.0,     -99,  2,20060112,0126,  24.2587,  128.4077,  5833,  149.500,   19.746,   34.880,2,   34.881,2,  173.270,1,  188.670,2,    3.160,2,    3.510,2,    0.020,2,    0.289,2,    2.181,2,    1.237,2, -999.000,9, 2023.500,2, 2291.200,2
           NA,    P03C,    349,   1,-999.0,     -99,  2,20060112,0126,  24.2587,  128.4077,  5833,  199.700,   18.182,   34.818,2,   34.810,2,  173.820,1,  189.800,2,    4.260,2,    5.150,2,    0.010,2,    0.394,2,    2.337,2,    1.302,2, -999.000,9, 2036.300,2, 2283.100,2
           NA,    P03C,    349,   1,-999.0,     -99,  2,20060112,0126,  24.2587,  128.4077,  5833,  250.100,   16.825,   34.731,2,   34.729,2,  177.980,1,  194.620,2,    5.480,2,    6.370,2,    0.010,2,    0.470,2,    2.441,6,    1.340,6, -999.000,9, 2045.200,2, 2283.000,2
           NA,    P03C,    349,   1,-999.0,     -99,  2,20060112,0126,  24.2587,  128.4077,  5833,  299.600,   15.802,   34.654,2,   34.651,2,  177.040,1,  192.290,2,    7.450,2,    8.020,2,    0.010,2,    0.587,2,    2.518,2,    1.363,2, -999.000,9, 2054.600,2, 2278.800,2
           NA,    P03C,    349,   1,-999.0,     -99,  2,20060112,0126,  24.2587,  128.4077,  5833,  399.500,   13.723,   34.496,2,   34.493,2,  166.730,1,  180.580,2,   13.810,2,   12.410,2,    0.000,2,    0.898,2,    2.559,2,    1.317,2, -999.000,9, 2085.600,2, 2274.500,2
           NA,    P03C,    349,   1,-999.0,     -99,  2,20060112,0126,  24.2587,  128.4077,  5833,  499.400,   10.849,   34.300,2,   34.297,6,  151.130,1,  163.410,2,   25.120,2,   18.810,2,    0.000,2,    1.371,2,    2.399,2,    1.186,2, -999.000,9, 2130.200,2, 2275.000,2
           NA,    P03C,    349,   1,-999.0,     -99,  2,20060112,0126,  24.2587,  128.4077,  5833,  599.300,    8.397,   34.194,2,   34.192,2,  127.190,1,  135.490,2,   45.680,2,   25.900,2,    0.000,2,    1.890,2,    1.859,2,    0.902,2, -999.000,9, 2184.700,2, 2285.900,2
           NA,    P03C,    349,   1,-999.0,     -99,  2,20060112,0126,  24.2587,  128.4077,  5833,  700.400,    6.383,   34.172,2,   34.170,2,   93.050,1,   99.760,2,   68.550,2,   32.700,2,    0.000,2,    2.388,2,    1.179,2,    0.567,2, -999.000,9, 2243.500,6, 2301.500,2
           NA,    P03C,    349,   1,-999.0,     -99,  2,20060112,0126,  24.2587,  128.4077,  5833,  799.600,    5.180,   34.206,2,   34.207,2,   70.150,1,   75.730,2,   87.230,2,   36.740,2,    0.000,2,    2.677,2,    0.742,6,    0.349,6, -999.000,9, 2282.800,2, 2319.400,6
           NA,    P03C,    349,   1,-999.0,     -99,  2,20060112,0126,  24.2587,  128.4077,  5833,  900.900,    4.367,   34.287,2,   34.287,2,   54.800,1,   59.240,2,  103.800,2,   39.500,2,    0.000,2,    2.861,2,    0.378,2,    0.180,2, -999.000,9, 2314.000,2, 2338.500,2
           NA,    P03C,    349,   1,-999.0,     -99,  2,20060112,0126,  24.2587,  128.4077,  5833,  999.300,    3.925,   34.350,2,   34.350,6,   51.240,1,   55.360,2,  114.000,2,   40.430,2,    0.000,2,    2.925,2,    0.210,2,    0.095,2, -999.000,9, 2327.800,2, 2353.800,2
           NA,    P03C,    349,   1,-999.0,     -99,  2,20060112,0126,  24.2587,  128.4077,  5833, 1201.200,    3.185,   34.452,2,   34.453,2,   59.120,1,   64.060,2,  130.020,2,   40.640,2,    0.000,2,    2.925,2,    0.076,2,    0.037,2, -999.000,9, 2342.100,2, 2377.100,2
           NA,    P03C,    349,   1,-999.0,     -99,  2,20060112,0126,  24.2587,  128.4077,  5833, 1401.100,    2.694,   34.517,2,   34.518,2,   72.080,1,   78.660,2,  137.810,2,   40.190,2,    0.000,2,    2.873,2,    0.035,2,    0.019,2, -999.000,9, 2345.400,2, 2388.000,2
           NA,    P03C,    349,   1,-999.0,     -99,  2,20060112,0126,  24.2587,  128.4077,  5833, 1601.500,    2.342,   34.567,2,   34.567,2,   86.580,1,   94.390,2,  141.010,2,   39.330,2,    0.000,2,    2.805,2,    0.009,2,    0.003,2, -999.000,9, 2343.800,2, 2396.800,2
           NA,    P03C,    349,   1,-999.0,     -99,  2,20060112,0126,  24.2587,  128.4077,  5833, 1801.200,    2.141,   34.600,2,   34.600,2,   97.970,1,  107.330,2,  141.880,2,   38.580,2,    0.000,2,    2.750,2,    0.002,2,    0.001,2, -999.000,9, 2339.100,2, 2400.400,2
           NA,    P03C,    349,   1,-999.0,     -99,  2,20060112,0126,  24.2587,  128.4077,  5833, 2000.800,    1.986,   34.620,2,   34.621,2,  105.760,1,  115.890,2,  142.510,2,   38.170,2,    0.000,2,    2.708,2,    0.000,2,    0.001,2, -999.000,9, 2337.100,2, 2407.000,2
           NA,    P03C,    349,   1,-999.0,     -99,  2,20060112,0126,  24.2587,  128.4077,  5833, 2201.100,    1.878,   34.637,2,   34.637,6,  112.460,1,  123.380,2,  142.700,2,   37.750,2,    0.000,2,    2.670,2,    0.000,2,    0.000,2, -999.000,9, 2333.800,2, 2406.100,2
           NA,    P03C,    349,   1,-999.0,     -99,  2,20060112,0126,  24.2587,  128.4077,  5833, 2399.700,    1.801,   34.645,2,   34.645,2,  116.540,1,  128.010,2,  143.080,2,   37.420,2,    0.000,2,    2.645,2,    0.000,2,    0.000,2, -999.000,9, 2331.000,6, 2410.600,2
           NA,    P03C,    349,   1,-999.0,     -99,  2,20060112,0126,  24.2587,  128.4077,  5833, 2599.800,    1.723,   34.654,2,   34.653,2,  120.920,1,  132.680,2,  143.350,2,   37.170,2,    0.000,2,    2.625,2, -999.000,9, -999.000,9, -999.000,9, 2329.300,2, 2408.400,6
           NA,    P03C,    349,   1,-999.0,     -99,  2,20060112,0126,  24.2587,  128.4077,  5833, 2799.100,    1.666,   34.661,2,   34.661,2,  124.760,1,  137.210,2,  143.340,2,   36.990,2,    0.000,2,    2.605,2, -999.000,9, -999.000,9, -999.000,9, 2328.800,2, 2411.500,2
           NA,    P03C,    349,   1,-999.0,     -99,  2,20060112,0126,  24.2587,  128.4077,  5833, 2999.800,    1.615,   34.667,2,   34.667,2,  128.380,1,  141.300,2,  143.100,2,   36.770,2,    0.000,2,    2.587,2,    0.000,2,    0.000,2, -999.000,9, 2324.500,2, -999.000,3
           NA,    P03C,    349,   1,-999.0,     -99,  2,20060112,0126,  24.2587,  128.4077,  5833, 3249.400,    1.584,   34.672,2,   34.672,2,  131.760,1,  145.020,2,  142.670,2,   36.530,2,    0.000,2,    2.562,2, -999.000,9, -999.000,9, -999.000,9, 2324.200,2, 2414.000,2
           NA,    P03C,    349,   1,-999.0,     -99,  2,20060112,0126,  24.2587,  128.4077,  5833, 3500.000,    1.571,   34.675,2,   34.675,6,  134.210,1,  147.640,2,  142.330,2,   36.340,2,    0.000,2,    2.547,2, -999.000,9, -999.000,9, -999.000,9, 2324.300,2, 2411.400,2
           NA,    P03C,    349,   1,-999.0,     -99,  2,20060112,0126,  24.2587,  128.4077,  5833, 3749.400,    1.564,   34.678,2,   34.679,2,  136.530,1,  150.050,2,  142.120,2,   36.160,2,    0.000,2,    2.538,2,    0.000,2,    0.000,2, -999.000,9, 2320.800,2, 2413.900,2
           NA,    P03C,    349,   1,-999.0,     -99,  2,20060112,0126,  24.2587,  128.4077,  5833, 3999.700,    1.569,   34.680,2,   34.681,2,  138.370,1,  151.990,2,  141.930,2,   35.980,2,    0.000,2,    2.524,2, -999.000,9, -999.000,9, -999.000,9, 2321.000,2, -999.000,3
           NA,    P03C,    349,   1,-999.0,     -99,  2,20060112,0126,  24.2587,  128.4077,  5833, 4248.500,    1.582,   34.682,2,   34.682,2,  139.750,1,  153.070,2,  141.760,2,   35.910,2,    0.000,2,    2.519,2, -999.000,9, -999.000,9, -999.000,9, 2320.500,6, 2412.200,2
           NA,    P03C,    349,   1,-999.0,     -99,  2,20060112,0126,  24.2587,  128.4077,  5833, 4499.900,    1.599,   34.683,2,   34.683,2,  141.000,1,  154.030,2,  141.720,2,   35.900,2,    0.000,2,    2.517,2,    0.000,2,    0.000,2, -999.000,9, 2318.200,2, 2411.100,6
           NA,    P03C,    349,   1,-999.0,     -99,  2,20060112,0126,  24.2587,  128.4077,  5833, 4748.600,    1.624,   34.683,2,   34.683,6,  142.030,1,  154.480,2,  141.550,2,   35.880,2,    0.000,2,    2.513,2, -999.000,9, -999.000,9, -999.000,9, 2316.800,2, 2412.800,2
           NA,    P03C,    349,   1,-999.0,     -99,  2,20060112,0126,  24.2587,  128.4077,  5833, 5000.300,    1.650,   34.684,2,   34.684,2,  143.040,1,  155.060,2,  141.430,2,   35.940,2,    0.000,2,    2.513,2, -999.000,9, -999.000,9, -999.000,9, 2316.000,2, 2411.000,2
           NA,    P03C,    349,   1,-999.0,     -99,  2,20060112,0126,  24.2587,  128.4077,  5833, 5249.300,    1.679,   34.684,2,   34.684,2,  143.980,1,  155.340,2,  141.330,2,   35.830,2,    0.000,2,    2.514,2,    0.000,2,    0.000,2, -999.000,9, 2318.400,2, 2412.700,2
           NA,    P03C,    349,   1,-999.0,     -99,  2,20060112,0126,  24.2587,  128.4077,  5833, 5498.900,    1.711,   34.684,2,   34.684,2,  144.900,1,  155.430,2,  141.360,2,   35.820,2,    0.000,2,    2.513,2, -999.000,9, -999.000,9, -999.000,9, 2316.200,2, 2413.100,2
           NA,    P03C,    349,   1,-999.0,     -99,  2,20060112,0126,  24.2587,  128.4077,  5833, 5748.400,    1.745,   34.684,2,   34.684,2,  146.060,1,  155.540,2,  141.370,2,   35.810,2,    0.000,2,    2.510,2, -999.000,9, -999.000,9, -999.000,9, 2317.000,2, 2411.900,2
           NA,    P03C,    349,   1,-999.0,     -99,  2,20060112,0126,  24.2587,  128.4077,  5833, 5915.300,    1.768,   34.684,2,   34.684,6,  147.200,1,  155.730,2,  141.350,2,   35.750,2,    0.000,2,    2.512,2,    0.000,2,    0.000,2, -999.000,9, 2317.100,2, 2413.700,2
           NA,    P03C,    347,   1,-999.0,     -99,  2,20060111,1853,  24.2663,  128.8958,  5171,    9.600,   22.913,   34.716,2,   34.715,2,  192.910,1,  209.740,2,    1.320,2,    0.270,2,    0.050,2,    0.067,2,    1.861,2,    1.078,2, -999.000,9, -999.000,9, -999.000,9
           NA,    P03C,    347,   1,-999.0,     -99,  2,20060111,1853,  24.2663,  128.8958,  5171,   50.200,   22.424,   34.753,2,   34.754,2,  196.520,1,  213.550,2,    1.250,2,    0.070,2,    0.040,2,    0.053,2, -999.000,9, -999.000,9, -999.000,9, -999.000,9, -999.000,9
           NA,    P03C,    347,   1,-999.0,     -99,  2,20060111,1853,  24.2663,  128.8958,  5171,   99.200,   22.058,   34.829,2,   34.831,2,  184.620,1,  200.800,2,    1.720,2,    1.040,2,    0.090,2,    0.126,2,    1.975,2,    1.135,2, -999.000,9, -999.000,9, -999.000,9
           NA,    P03C,    347,   1,-999.0,     -99,  2,20060111,1853,  24.2663,  128.8958,  5171,  149.900,   20.265,   34.909,2,   34.909,2,  172.570,1,  187.650,2,    2.680,2,    3.040,2,    0.020,2,    0.251,2, -999.000,9, -999.000,9, -999.000,9, -999.000,9, -999.000,9
           NA,    P03C,    347,   1,-999.0,     -99,  2,20060111,1853,  24.2663,  128.8958,  5171,  200.800,   18.446,   34.848,2,   34.847,2,  175.010,1,  190.380,2,    3.580,2,    4.540,2,    0.010,2,    0.346,2,    2.344,2,    1.299,2, -999.000,9, -999.000,9, -999.000,9
           NA,    P03C,    347,   1,-999.0,     -99,  2,20060111,1853,  24.2663,  128.8958,  5171,  251.100,   17.032,   34.748,2,   34.751,2,  179.430,1,  194.740,2,    4.840,2,    5.930,2,    0.010,2,    0.430,2,    2.459,2,    1.344,2, -999.000,9, -999.000,9, -999.000,9
           NA,    P03C,    347,   1,-999.0,     -99,  2,20060111,1853,  24.2663,  128.8958,  5171,  299.100,   16.470,   34.701,2,   34.700,2,  177.740,1,  192.970,2,    5.940,2,    6.990,2,    0.000,2,    0.504,2, -999.000,9, -999.000,9, -999.000,9, -999.000,9, -999.000,9
           NA,    P03C,    347,   1,-999.0,     -99,  2,20060111,1853,  24.2663,  128.8958,  5171,  399.400,   14.036,   34.517,2,   34.512,2,  165.620,1,  178.630,2,   13.190,2,   12.190,2,    0.000,2,    0.879,2,    2.482,2,    1.289,2, -999.000,9, -999.000,9, -999.000,9
           NA,    P03C,    347,   1,-999.0,     -99,  2,20060111,1853,  24.2663,  128.8958,  5171,  500.600,   10.820,   34.291,2,   34.292,6,  153.410,1,  165.700,2,   24.390,2,   18.560,2,    0.000,2,    1.344,2, -999.000,9, -999.000,9, -999.000,9, -999.000,9, -999.000,9
           NA,    P03C,    347,   1,-999.0,     -99,  2,20060111,1853,  24.2663,  128.8958,  5171,  600.400,    8.291,   34.180,2,   34.179,2,  124.770,1,  134.210,2,   44.440,2,   26.220,2,    0.000,2,    1.903,2,    1.789,2,    0.852,2, -999.000,9, -999.000,9, -999.000,9
           NA,    P03C,    347,   1,-999.0,     -99,  2,20060111,1853,  24.2663,  128.8958,  5171,  699.500,    6.524,   34.156,2,   34.158,2,   96.240,1,  103.190,2,   65.260,2,   32.140,2,    0.000,2,    2.343,2, -999.000,9, -999.000,9, -999.000,9, -999.000,9, -999.000,9
           NA,    P03C,    347,   1,-999.0,     -99,  2,20060111,1853,  24.2663,  128.8958,  5171,  800.400,    5.569,   34.185,2,   34.188,2,   77.520,1,   82.850,2,   80.530,2,   35.600,2,    0.000,2,    2.593,2,    0.801,2,    0.388,2, -999.000,9, -999.000,9, -999.000,9
           NA,    P03C,    347,   1,-999.0,     -99,  2,20060111,1853,  24.2663,  128.8958,  5171,  901.000,    4.683,   34.277,2,   34.278,2,   59.910,1,   64.710,2,   97.960,2,   38.680,2,    0.000,2,    2.799,2, -999.000,9, -999.000,9, -999.000,9, -999.000,9, -999.000,9
           NA,    P03C,    347,   1,-999.0,     -99,  2,20060111,1853,  24.2663,  128.8958,  5171, 1001.500,    4.029,   34.354,2,   34.355,6,   54.520,1,   58.810,2,  112.290,2,   40.190,2,    0.000,2,    2.896,2,    0.198,2,    0.097,2, -999.000,9, -999.000,9, -999.000,9
           NA,    P03C,    347,   1,-999.0,     -99,  2,20060111,1853,  24.2663,  128.8958,  5171, 1200.600,    3.232,   34.452,2,   34.453,2,   59.390,1,   64.180,2,  129.000,2,   40.730,2,    0.000,2,    2.926,2, -999.000,9, -999.000,9, -999.000,9, -999.000,9, -999.000,9
           NA,    P03C,    347,   1,-999.0,     -99,  2,20060111,1853,  24.2663,  128.8958,  5171, 1400.400,    2.754,   34.510,2,   34.510,2,   70.180,1,   76.100,2,  137.130,2,   40.300,2,    0.000,2,    2.887,2,    0.035,2,    0.025,2, -999.000,9, -999.000,9, -999.000,9
           NA,    P03C,    347,   1,-999.0,     -99,  2,20060111,1853,  24.2663,  128.8958,  5171, 1599.400,    2.411,   34.556,2,   34.557,2,   83.250,1,   90.700,2,  140.980,2,   39.660,2,    0.000,2,    2.828,2, -999.000,9, -999.000,9, -999.000,9, -999.000,9, -999.000,9
           NA,    P03C,    347,   1,-999.0,     -99,  2,20060111,1853,  24.2663,  128.8958,  5171, 1800.300,    2.198,   34.587,2,   34.587,2,   93.790,1,  102.450,2,  142.040,2,   39.010,2,    0.000,2,    2.770,2,    0.002,2,    0.002,2, -999.000,9, -999.000,9, -999.000,9
           NA,    P03C,    347,   1,-999.0,     -99,  2,20060111,1853,  24.2663,  128.8958,  5171, 2001.500,    2.019,   34.612,2,   34.612,6,  103.280,1,  112.960,2,  143.020,2,   38.490,2,    0.000,2,    2.717,2, -999.000,9, -999.000,9, -999.000,9, -999.000,9, -999.000,9
           NA,    P03C,    347,   1,-999.0,     -99,  2,20060111,1853,  24.2663,  128.8958,  5171, 2201.700,    1.877,   34.633,2,   34.633,2,  111.860,1,  122.390,2,  143.250,2,   37.880,2,    0.000,2,    2.679,2, -999.000,9, -999.000,9, -999.000,9, -999.000,9, -999.000,9
           NA,    P03C,    347,   1,-999.0,     -99,  2,20060111,1853,  24.2663,  128.8958,  5171, 2399.800,    1.790,   34.645,2,   34.645,2,  117.330,1,  128.320,2,  143.280,2,   37.490,2,    0.000,2,    2.649,2,    0.000,2,    0.000,2, -999.000,9, -999.000,9, -999.000,9
           NA,    P03C,    347,   1,-999.0,     -99,  2,20060111,1853,  24.2663,  128.8958,  5171, 2599.800,    1.722,   34.653,2,   34.653,2,  121.760,1,  133.200,2,  143.310,2,   37.320,2,    0.000,2,    2.627,2, -999.000,9, -999.000,9, -999.000,9, -999.000,9, -999.000,9
           NA,    P03C,    347,   1,-999.0,     -99,  2,20060111,1853,  24.2663,  128.8958,  5171, 2801.300,    1.652,   34.661,2,   34.662,2,  126.340,1,  138.240,2,  143.140,2,   37.030,2,    0.000,2,    2.598,2, -999.000,9, -999.000,9, -999.000,9, -999.000,9, -999.000,9
           NA,    P03C,    347,   1,-999.0,     -99,  2,20060111,1853,  24.2663,  128.8958,  5171, 3001.300,    1.616,   34.666,2, -999.000,3,  129.380,1,  141.560,2,  143.250,2,   36.770,2,    0.000,2,    2.582,2, -999.000,9, -999.000,9, -999.000,9, -999.000,9, -999.000,9
           NA,    P03C,    347,   1,-999.0,     -99,  2,20060111,1853,  24.2663,  128.8958,  5171, 3251.200,    1.591,   34.671,2,   34.671,2,  132.440,1,  144.530,2,  142.930,2,   36.520,2,    0.000,2,    2.563,2,    0.000,2,    0.000,2, -999.000,9, -999.000,9, -999.000,9
           NA,    P03C,    347,   1,-999.0,     -99,  2,20060111,1853,  24.2663,  128.8958,  5171, 3500.900,    1.561,   34.676,2,   34.676,2,  136.160,1,  148.370,2,  142.420,2,   36.390,2,    0.000,2,    2.546,2, -999.000,9, -999.000,9, -999.000,9, -999.000,9, -999.000,9
           NA,    P03C,    347,   1,-999.0,     -99,  2,20060111,1853,  24.2663,  128.8958,  5171, 3751.200,    1.556,   34.679,2,   34.679,2,  138.510,1,  150.720,2,  141.970,2,   36.220,2,    0.000,2,    2.531,2, -999.000,9, -999.000,9, -999.000,9, -999.000,9, -999.000,9
           NA,    P03C,    347,   1,-999.0,     -99,  2,20060111,1853,  24.2663,  128.8958,  5171, 4001.300,    1.569,   34.680,2,   34.680,6,  139.880,1,  151.820,2,  141.690,2,   36.200,2,    0.000,2,    2.525,2, -999.000,9, -999.000,9, -999.000,9, -999.000,9, -999.000,9
           NA,    P03C,    347,   1,-999.0,     -99,  2,20060111,1853,  24.2663,  128.8958,  5171, 4249.900,    1.583,   34.681,2,   34.681,2,  141.340,1,  152.830,2,  141.790,2,   36.030,2,    0.000,2,    2.521,2, -999.000,9, -999.000,9, -999.000,9, -999.000,9, -999.000,9
           NA,    P03C,    347,   1,-999.0,     -99,  2,20060111,1853,  24.2663,  128.8958,  5171, 4499.800,    1.602,   34.682,2,   34.682,2,  142.610,1,  153.730,2,  141.500,2,   36.000,2,    0.000,2,    2.521,2, -999.000,9, -999.000,9, -999.000,9, -999.000,9, -999.000,9
           NA,    P03C,    347,   1,-999.0,     -99,  2,20060111,1853,  24.2663,  128.8958,  5171, 4748.900,    1.624,   34.683,2,   34.683,2,  143.980,1,  154.490,2,  141.450,2,   36.020,2,    0.000,2,    2.519,2,    0.000,2,    0.000,2, -999.000,9, -999.000,9, -999.000,9
           NA,    P03C,    347,   1,-999.0,     -99,  2,20060111,1853,  24.2663,  128.8958,  5171, 5000.800,    1.649,   34.684,2,   34.684,2,  145.380,1,  154.880,2,  141.280,2,   36.050,2,    0.000,2,    2.512,2, -999.000,9, -999.000,9, -999.000,9, -999.000,9, -999.000,9
           NA,    P03C,    347,   1,-999.0,     -99,  2,20060111,1853,  24.2663,  128.8958,  5171, 5216.700,    1.673,   34.684,2,   34.684,6,  146.810,1,  155.240,2,  141.180,2,   35.980,2,    0.000,2,    2.510,2,    0.000,2,    0.003,2, -999.000,9, -999.000,9, -999.000,9