BOTTLE,20211903JOAExport
EXPOCODE,SECT_ID,STNNBR,CASTNO,SAMPNO,BTLNBR,BTLNBR_FLAG_W,DATE,TIME,LATITUDE,LONGITUDE,DEPTH,CTDPRS,CTDTMP,CTDSAL,CTDSAL_FLAG_W,SALNTY,SALNTY_FLAG_W,CTDOXY,CTDOXY_FLAG_W,OXYGEN,OXYGEN_FLAG_W,SILCAT,SILCAT_FLAG_W,NITRAT,NITRAT_FLAG_W,NITRIT,NITRIT_FLAG_W,PHSPHT,PHSPHT_FLAG_W,CFC-11,CFC-11_FLAG_W,CFC-12,CFC-12_FLAG_W,SF6,SF6_FLAG_W,TCARBN,TCARBN_FLAG_W,ALKALI,ALKALI_FLAG_W
,,,,,,,,,,,,DB,ITS-90,PSS-78,,PSS-78,,UMOL/KG,,UMOL/KG,,UMOL/KG,,UMOL/KG,,UMOL/KG,,UMOL/KG,,PMOL/KG,,PMOL/KG,,FMOL/KG,,UMOL/KG,,UMOL/KG
           NA,    P03C,    341,   1,-999.0,     -99,  2,20060111,0159,  24.2562,  130.3702,  4473,   10.100,   22.296,   34.866,2,   34.865,2,  198.430,1,  215.750,2,    1.310,2,    0.050,2,    0.000,2,    0.045,2,    1.923,2,    1.101,2, -999.000,9, 1969.500,2, 2288.300,2
           NA,    P03C,    341,   1,-999.0,     -99,  2,20060111,0159,  24.2562,  130.3702,  4473,   50.500,   22.294,   34.865,2,   34.864,2,  198.350,1,  215.830,2,    1.290,2,    0.040,2,    0.000,2,    0.047,2, -999.000,9, -999.000,9, -999.000,9, 1968.600,6, 2286.800,2
           NA,    P03C,    341,   1,-999.0,     -99,  2,20060111,0159,  24.2562,  130.3702,  4473,  101.100,   22.289,   34.865,2,   34.867,2,  197.990,1,  215.040,2,    1.310,2,    0.070,2,    0.000,2,    0.049,2,    1.936,2,    1.107,2, -999.000,9, 1969.200,2, 2289.300,6
           NA,    P03C,    341,   1,-999.0,     -99,  2,20060111,0159,  24.2562,  130.3702,  4473,  150.300,   18.851,   34.876,2,   34.876,2,  181.530,1,  197.220,2,    2.850,2,    3.230,2,    0.010,2,    0.262,2, -999.000,9, -999.000,9, -999.000,9, 2025.400,2, 2290.300,2
           NA,    P03C,    341,   1,-999.0,     -99,  2,20060111,0159,  24.2562,  130.3702,  4473,  199.300,   17.667,   34.802,2,   34.802,2,  182.120,1,  197.950,2,    3.890,2,    4.800,2,    0.010,2,    0.360,2,    2.457,2,    1.339,2, -999.000,9, 2034.900,2, 2283.300,2
           NA,    P03C,    341,   1,-999.0,     -99,  2,20060111,0159,  24.2562,  130.3702,  4473,  250.000,   16.768,   34.743,2,   34.739,2,  186.180,1,  201.960,2,    5.010,2,    5.850,2,    0.010,2,    0.426,2,    2.504,2,    1.360,2, -999.000,9, 2037.400,2, 2280.500,2
           NA,    P03C,    341,   1,-999.0,     -99,  2,20060111,0159,  24.2562,  130.3702,  4473,  300.700,   15.559,   34.641,2,   34.638,2,  180.730,1,  195.880,2,    7.920,2,    8.210,2,    0.000,2,    0.592,2, -999.000,9, -999.000,9, -999.000,9, 2055.400,2, 2280.400,2
           NA,    P03C,    341,   1,-999.0,     -99,  2,20060111,0159,  24.2562,  130.3702,  4473,  399.100,   12.966,   34.438,2,   34.436,2,  171.110,1,  185.540,2,   15.430,2,   13.220,2,    0.000,2,    0.952,2,    2.621,2,    1.331,2, -999.000,9, 2092.400,2, 2274.200,2
           NA,    P03C,    341,   1,-999.0,     -99,  2,20060111,0159,  24.2562,  130.3702,  4473,  501.900,   10.347,   34.263,2,   34.251,6,  157.200,1,  167.800,2,   28.900,2,   19.630,2,    0.000,2,    1.421,2,    2.437,2,    1.185,2, -999.000,9, 2139.300,2, 2274.600,2
           NA,    P03C,    341,   1,-999.0,     -99,  2,20060111,0159,  24.2562,  130.3702,  4473,  600.200,    8.008,   34.163,2,   34.163,2,  129.220,1,  138.970,2,   47.240,2,   26.100,2,    0.000,2,    1.899,2,    1.924,2,    0.905,2, -999.000,9, 2189.400,2, 2288.300,2
           NA,    P03C,    341,   1,-999.0,     -99,  2,20060111,0159,  24.2562,  130.3702,  4473,  700.600,    6.147,   34.168,2,   34.170,2,   92.500,1,   98.320,2,   72.190,2,   33.130,2,    0.000,2,    2.414,2,    1.113,2,    0.532,2, -999.000,9, 2250.000,6, 2309.900,2
           NA,    P03C,    341,   1,-999.0,     -99,  2,20060111,0159,  24.2562,  130.3702,  4473,  800.400,    5.001,   34.212,2,   34.215,2,   70.020,1,   74.540,2,   91.210,2,   37.050,2,    0.000,2,    2.698,2,    0.680,2,    0.330,2, -999.000,9, 2290.600,2, 2328.900,6
           NA,    P03C,    341,   1,-999.0,     -99,  2,20060111,0159,  24.2562,  130.3702,  4473,  900.000,    4.444,   34.283,2,   34.283,2,   59.750,1,   63.790,2,  102.880,2,   38.800,2,    0.000,2,    2.811,2,    0.405,2,    0.200,2, -999.000,9, 2312.000,2, 2340.300,2
           NA,    P03C,    341,   1,-999.0,     -99,  2,20060111,0159,  24.2562,  130.3702,  4473, 1001.400,    3.877,   34.347,2,   34.347,6,   54.310,1,   58.260,2,  115.570,2,   40.100,2,    0.000,2,    2.901,2,    0.231,2,    0.110,2, -999.000,9, 2329.700,2, 2358.100,2
           NA,    P03C,    341,   1,-999.0,     -99,  2,20060111,0159,  24.2562,  130.3702,  4473, 1201.700,    3.151,   34.444,2,   34.445,2,   57.130,1,   61.460,2,  131.230,2,   40.790,2,    0.000,2,    2.934,2,    0.079,2,    0.040,2, -999.000,9, 2347.700,2, 2376.500,2
           NA,    P03C,    341,   1,-999.0,     -99,  2,20060111,0159,  24.2562,  130.3702,  4473, 1401.200,    2.692,   34.517,2,   34.517,2,   71.760,1,   77.710,2,  137.770,2,   40.250,2,    0.000,2,    2.876,2,    0.029,2,    0.014,2, -999.000,9, 2348.000,2, 2389.600,2
           NA,    P03C,    341,   1,-999.0,     -99,  2,20060111,0159,  24.2562,  130.3702,  4473, 1600.100,    2.360,   34.562,2,   34.563,2,   85.320,1,   92.380,2,  141.190,2,   39.430,2,    0.000,2,    2.812,2,    0.009,2,    0.006,2, -999.000,9, 2344.000,2, 2398.600,2
           NA,    P03C,    341,   1,-999.0,     -99,  2,20060111,0159,  24.2562,  130.3702,  4473, 1800.300,    2.121,   34.596,2,   34.596,6,   97.100,1,  105.470,2,  142.770,2,   38.690,2,    0.000,2,    2.753,2,    0.002,2,    0.006,2, -999.000,9, 2342.400,2, 2404.400,2
           NA,    P03C,    341,   1,-999.0,     -99,  2,20060111,0159,  24.2562,  130.3702,  4473, 2000.300,    1.985,   34.616,2,   34.616,2,  105.390,1,  114.510,2,  142.900,2,   38.250,2,    0.000,2,    2.706,2,    0.002,2,    0.003,2, -999.000,9, 2339.100,2, 2403.000,2
           NA,    P03C,    341,   1,-999.0,     -99,  2,20060111,0159,  24.2562,  130.3702,  4473, 2199.400,    1.863,   34.633,2,   34.633,2,  112.790,1,  122.540,2,  143.100,2,   37.770,2,    0.000,2,    2.668,2,    0.001,2,    0.001,2, -999.000,9, 2335.600,2, 2409.600,2
           NA,    P03C,    341,   1,-999.0,     -99,  2,20060111,0159,  24.2562,  130.3702,  4473, 2401.000,    1.777,   34.645,2,   34.645,2,  118.420,1,  128.810,2,  143.100,2,   37.490,2,    0.000,2,    2.639,2, -999.000,9, -999.000,9, -999.000,9, 2334.200,6, 2408.900,2
           NA,    P03C,    341,   1,-999.0,     -99,  2,20060111,0159,  24.2562,  130.3702,  4473, 2600.000,    1.704,   34.655,2,   34.654,6,  123.190,1,  134.080,2,  143.170,2,   37.090,2,    0.000,2,    2.615,2,    0.000,2,    0.000,2, -999.000,9, 2332.400,2, 2411.600,6
           NA,    P03C,    341,   1,-999.0,     -99,  2,20060111,0159,  24.2562,  130.3702,  4473, 2799.700,    1.641,   34.662,2,   34.662,2,  127.640,1,  138.740,2,  143.080,2,   36.930,2,    0.000,2,    2.590,2, -999.000,9, -999.000,9, -999.000,9, 2329.500,2, 2410.000,2
           NA,    P03C,    341,   1,-999.0,     -99,  2,20060111,0159,  24.2562,  130.3702,  4473, 3000.900,    1.598,   34.668,2,   34.668,2,  131.260,1,  142.670,2,  142.920,2,   36.640,2,    0.000,2,    2.570,2, -999.000,9, -999.000,9, -999.000,9, 2326.800,2, 2412.900,2
           NA,    P03C,    341,   1,-999.0,     -99,  2,20060111,0159,  24.2562,  130.3702,  4473, 3250.500,    1.572,   34.673,2,   34.672,2,  134.500,1,  146.010,2,  142.420,2,   36.440,2,    0.000,2,    2.549,2,    0.000,2,    0.000,2, -999.000,9, 2327.200,2, 2414.500,2
           NA,    P03C,    341,   1,-999.0,     -99,  2,20060111,0159,  24.2562,  130.3702,  4473, 3500.500,    1.562,   34.676,2,   34.676,6,  137.190,1,  148.450,2,  142.180,2,   36.230,2,    0.000,2,    2.537,2, -999.000,9, -999.000,9, -999.000,9, 2325.100,2, 2412.600,2
           NA,    P03C,    341,   1,-999.0,     -99,  2,20060111,0159,  24.2562,  130.3702,  4473, 3751.000,    1.560,   34.679,2,   34.678,2,  139.470,1,  150.680,2,  141.960,2,   36.090,2,    0.000,2,    2.529,2, -999.000,9, -999.000,9, -999.000,9, 2325.700,2, 2411.900,2
           NA,    P03C,    341,   1,-999.0,     -99,  2,20060111,0159,  24.2562,  130.3702,  4473, 4001.600,    1.565,   34.681,2,   34.681,2,  141.480,1,  152.300,2,  141.840,2,   36.040,2,    0.000,2,    2.519,2,    0.000,2,    0.000,2, -999.000,9, 2322.700,2, 2409.700,2
           NA,    P03C,    341,   1,-999.0,     -99,  2,20060111,0159,  24.2562,  130.3702,  4473, 4248.300,    1.584,   34.682,2,   34.681,2,  142.760,1,  152.970,2,  141.680,2,   36.010,2,    0.000,2,    2.514,2, -999.000,9, -999.000,9, -999.000,9, 2322.200,6, 2414.400,2
           NA,    P03C,    341,   1,-999.0,     -99,  2,20060111,0159,  24.2562,  130.3702,  4473, 4497.600,    1.606,   34.682,2,   34.682,2,  144.090,1,  153.710,2,  141.450,2,   35.950,2,    0.000,2,    2.511,2, -999.000,9, -999.000,9, -999.000,9, 2320.600,2, 2413.300,6
           NA,    P03C,    341,   1,-999.0,     -99,  2,20060111,0159,  24.2562,  130.3702,  4473, 4596.000,    1.616,   34.682,2,   34.682,6,  144.790,1,  153.770,2,  141.480,2,   35.990,2,    0.000,2,    2.515,2,    0.000,2,    0.002,2, -999.000,9, 2323.500,2, 2410.400,2
           NA,    P03C,    339,   1,-999.0,     -99,  2,20060110,2013,  24.2708,  130.9690,  3488,   10.000,   23.583,   34.699,2,   34.700,2,  193.440,1,  210.280,2,    1.110,2,    0.040,2,    0.010,2,    0.052,2,    1.775,2,    1.039,2, -999.000,9, -999.000,9, -999.000,9
           NA,    P03C,    339,   1,-999.0,     -99,  2,20060110,2013,  24.2708,  130.9690,  3488,   49.800,   22.680,   34.781,2,   34.797,2,  197.270,1,  214.490,2,    1.250,2,    0.030,2,    0.000,2,    0.050,2,    1.861,2,    1.084,2, -999.000,9, -999.000,9, -999.000,9
           NA,    P03C,    339,   1,-999.0,     -99,  2,20060110,2013,  24.2708,  130.9690,  3488,   99.900,   21.873,   34.873,2,   34.888,2,  183.980,1,  197.510,2,    2.070,2,    1.510,2,    0.050,2,    0.164,2,    2.031,2,    1.165,2, -999.000,9, -999.000,9, -999.000,9
           NA,    P03C,    339,   1,-999.0,     -99,  2,20060110,2013,  24.2708,  130.9690,  3488,  148.700,   19.087,   34.884,2,   34.880,2,  178.960,1,  193.610,2,    2.970,2,    3.570,2,    0.010,2,    0.298,2,    2.264,2,    1.261,2, -999.000,9, -999.000,9, -999.000,9
           NA,    P03C,    339,   1,-999.0,     -99,  2,20060110,2013,  24.2708,  130.9690,  3488,  199.500,   17.870,   34.817,2,   34.815,2,  184.590,1,  200.290,2,    3.610,2,    4.350,2,    0.010,2,    0.335,2,    2.366,2,    1.308,2, -999.000,9, -999.000,9, -999.000,9
           NA,    P03C,    339,   1,-999.0,     -99,  2,20060110,2013,  24.2708,  130.9690,  3488,  250.500,   17.020,   34.763,2,   34.760,2,  187.250,1,  203.280,2,    4.540,2,    5.340,2,    0.010,2,    0.398,2,    2.444,6,    1.336,6, -999.000,9, -999.000,9, -999.000,9
           NA,    P03C,    339,   1,-999.0,     -99,  2,20060110,2013,  24.2708,  130.9690,  3488,  301.000,   16.544,   34.723,2,   34.710,2,  185.720,1,  200.540,2,    5.820,2,    6.480,2,    0.010,2,    0.478,2,    2.486,2,    1.345,2, -999.000,9, -999.000,9, -999.000,9
           NA,    P03C,    339,   1,-999.0,     -99,  2,20060110,2013,  24.2708,  130.9690,  3488,  399.900,   14.208,   34.530,2,   34.529,2,  175.000,1,  189.500,2,   11.520,2,   10.790,2,    0.010,2,    0.788,2,    2.617,2,    1.358,2, -999.000,9, -999.000,9, -999.000,9
           NA,    P03C,    339,   1,-999.0,     -99,  2,20060110,2013,  24.2708,  130.9690,  3488,  499.900,   10.917,   34.299,2,   34.292,6,  161.830,1,  173.530,2,   25.170,2,   17.970,2,    0.000,2,    1.307,2,    2.515,2,    1.243,2, -999.000,9, -999.000,9, -999.000,9
           NA,    P03C,    339,   1,-999.0,     -99,  2,20060110,2013,  24.2708,  130.9690,  3488,  600.500,    8.175,   34.155,2,   34.153,2,  134.950,1,  144.470,2,   44.790,2,   25.420,2,    0.000,2,    1.853,2,    2.046,2,    0.985,2, -999.000,9, -999.000,9, -999.000,9
           NA,    P03C,    339,   1,-999.0,     -99,  2,20060110,2013,  24.2708,  130.9690,  3488,  702.100,    6.438,   34.144,2,   34.147,2,  100.240,1,  106.460,2,   66.450,2,   31.910,2,    0.000,2,    2.332,2,    1.331,2,    0.637,2, -999.000,9, -999.000,9, -999.000,9
           NA,    P03C,    339,   1,-999.0,     -99,  2,20060110,2013,  24.2708,  130.9690,  3488,  801.100,    5.215,   34.178,2,   34.178,2,   75.050,1,   80.830,2,   85.860,2,   36.210,2,    0.000,2,    2.645,2,    0.885,6,    0.419,6, -999.000,9, -999.000,9, -999.000,9
           NA,    P03C,    339,   1,-999.0,     -99,  2,20060110,2013,  24.2708,  130.9690,  3488,  900.200,    4.507,   34.245,2,   34.246,2,   59.900,1,   64.140,2,  101.200,2,   38.810,2,    0.000,2,    2.818,2,    0.535,2,    0.252,2, -999.000,9, -999.000,9, -999.000,9
           NA,    P03C,    339,   1,-999.0,     -99,  2,20060110,2013,  24.2708,  130.9690,  3488, 1001.100,    3.863,   34.339,2, -999.000,3,   52.620,1,   56.550,2,  116.920,2,   40.410,2,    0.000,2,    2.916,2,    0.259,2,    0.125,2, -999.000,9, -999.000,9, -999.000,9
           NA,    P03C,    339,   1,-999.0,     -99,  2,20060110,2013,  24.2708,  130.9690,  3488, 1201.600,    3.122,   34.454,2, -999.000,3,   57.940,1,   62.670,2,  132.200,2,   40.940,2,    0.000,2,    2.939,2,    0.068,2,    0.032,2, -999.000,9, -999.000,9, -999.000,9
           NA,    P03C,    339,   1,-999.0,     -99,  2,20060110,2013,  24.2708,  130.9690,  3488, 1401.100,    2.741,   34.512,2,   34.512,2,   69.950,1,   75.400,2,  137.800,2,   40.350,2,    0.000,2,    2.889,2,    0.024,2,    0.013,2, -999.000,9, -999.000,9, -999.000,9
           NA,    P03C,    339,   1,-999.0,     -99,  2,20060110,2013,  24.2708,  130.9690,  3488, 1601.700,    2.379,   34.560,2,   34.559,6,   84.510,1,   91.100,2,  141.610,2,   39.500,2,    0.000,2,    2.823,2,    0.011,2,    0.002,2, -999.000,9, -999.000,9, -999.000,9
           NA,    P03C,    339,   1,-999.0,     -99,  2,20060110,2013,  24.2708,  130.9690,  3488, 1807.900,    2.146,   34.592,2,   34.591,2,   96.290,1,  103.960,2,  142.900,2,   38.880,2,    0.000,2,    2.764,2,    0.003,2,    0.002,2, -999.000,9, -999.000,9, -999.000,9
           NA,    P03C,    339,   1,-999.0,     -99,  2,20060110,2013,  24.2708,  130.9690,  3488, 1999.100,    2.011,   34.611,2,   34.611,2,  104.210,1,  112.490,2,  143.060,2,   38.450,2,    0.000,2,    2.720,2,    0.001,2,    0.000,2, -999.000,9, -999.000,9, -999.000,9
           NA,    P03C,    339,   1,-999.0,     -99,  2,20060110,2013,  24.2708,  130.9690,  3488, 2198.100,    1.874,   34.630,2,   34.630,6,  112.670,1,  121.690,2,  143.650,2,   37.840,2,    0.000,2,    2.678,2,    0.000,2,    0.001,2, -999.000,9, -999.000,9, -999.000,9
           NA,    P03C,    339,   1,-999.0,     -99,  2,20060110,2013,  24.2708,  130.9690,  3488, 2401.000,    1.778,   34.644,2,   34.644,2,  119.080,1,  128.440,2,  143.650,2,   37.440,2,    0.000,2,    2.646,2,    0.000,2,    0.000,2, -999.000,9, -999.000,9, -999.000,9
           NA,    P03C,    339,   1,-999.0,     -99,  2,20060110,2013,  24.2708,  130.9690,  3488, 2599.600,    1.691,   34.655,2,   34.655,6,  125.050,1,  134.780,2,  143.600,2,   37.080,2,    0.000,2,    2.618,2,    0.000,2,    0.000,2, -999.000,9, -999.000,9, -999.000,9
           NA,    P03C,    339,   1,-999.0,     -99,  2,20060110,2013,  24.2708,  130.9690,  3488, 2800.000,    1.630,   34.663,2,   34.662,2,  129.720,1,  139.570,2,  143.490,2,   36.880,2,    0.000,2,    2.593,2,    0.000,2,    0.000,2, -999.000,9, -999.000,9, -999.000,9
           NA,    P03C,    339,   1,-999.0,     -99,  2,20060110,2013,  24.2708,  130.9690,  3488, 3000.500,    1.590,   34.668,2,   34.668,2,  133.460,1,  143.260,2,  143.190,2,   36.670,2,    0.000,2,    2.572,2, -999.000,9, -999.000,9, -999.000,9, -999.000,9, -999.000,9
           NA,    P03C,    339,   1,-999.0,     -99,  2,20060110,2013,  24.2708,  130.9690,  3488, 3250.900,    1.583,   34.671,2,   34.671,2,  135.930,1,  145.470,2,  142.980,2,   36.470,2,    0.000,2,    2.563,2,    0.000,2,    0.000,2, -999.000,9, -999.000,9, -999.000,9
           NA,    P03C,    339,   1,-999.0,     -99,  2,20060110,2013,  24.2708,  130.9690,  3488, 3417.100,    1.580,   34.673,2,   34.673,6,  137.700,1,  146.730,2,  143.030,2,   36.430,2,    0.000,2,    2.560,2,    0.000,2,    0.000,2, -999.000,9, -999.000,9, -999.000,9