BOTTLE,20211903JOAExport
EXPOCODE,SECT_ID,STNNBR,CASTNO,SAMPNO,BTLNBR,BTLNBR_FLAG_W,DATE,TIME,LATITUDE,LONGITUDE,DEPTH,CTDPRS,CTDTMP,CTDSAL,CTDSAL_FLAG_W,SALNTY,SALNTY_FLAG_W,CTDOXY,CTDOXY_FLAG_W,OXYGEN,OXYGEN_FLAG_W,SILCAT,SILCAT_FLAG_W,NITRAT,NITRAT_FLAG_W,NITRIT,NITRIT_FLAG_W,PHSPHT,PHSPHT_FLAG_W,CFC-11,CFC-11_FLAG_W,CFC-12,CFC-12_FLAG_W,SF6,SF6_FLAG_W,TCARBN,TCARBN_FLAG_W,ALKALI,ALKALI_FLAG_W
,,,,,,,,,,,,DB,ITS-90,PSS-78,,PSS-78,,UMOL/KG,,UMOL/KG,,UMOL/KG,,UMOL/KG,,UMOL/KG,,UMOL/KG,,PMOL/KG,,PMOL/KG,,FMOL/KG,,UMOL/KG,,UMOL/KG
           NA,    P03C,    201,   1,-999.0,     -99,  2,20051209,0050,  24.2455,  178.3873,  5723,    9.200,   26.263,   35.354,2,   35.352,2,  182.140,1,  204.940,2,    0.950,2,    0.040,2,    0.010,2,    0.042,2,    1.493,2,    0.891,2, -999.000,9, -999.000,9, -999.000,9
           NA,    P03C,    201,   1,-999.0,     -99,  2,20051209,0050,  24.2455,  178.3873,  5723,   49.700,   26.178,   35.355,2,   35.356,2,  182.070,1,  204.930,2,    0.970,2,    0.030,2,    0.010,2,    0.043,2,    1.520,2,    0.905,2, -999.000,9, -999.000,9, -999.000,9
           NA,    P03C,    201,   1,-999.0,     -99,  2,20051209,0050,  24.2455,  178.3873,  5723,  101.100,   22.423,   35.263,2,   35.270,2,  188.080,1,  212.660,2,    1.290,2,    0.020,2,    0.010,2,    0.060,2,    1.817,2,    1.048,2, -999.000,9, -999.000,9, -999.000,9
           NA,    P03C,    201,   1,-999.0,     -99,  2,20051209,0050,  24.2455,  178.3873,  5723,  151.200,   20.919,   35.172,2,   35.174,2,  175.620,1,  198.130,2,    1.780,2,    0.850,2,    0.040,2,    0.150,2,    1.943,2,    1.126,2, -999.000,9, -999.000,9, -999.000,9
           NA,    P03C,    201,   1,-999.0,     -99,  2,20051209,0050,  24.2455,  178.3873,  5723,  198.200,   18.912,   34.954,2,   34.952,2,  182.860,1,  206.250,2,    2.690,2,    1.660,2,    0.020,2,    0.199,2,    2.108,2,    1.187,2, -999.000,9, -999.000,9, -999.000,9
           NA,    P03C,    201,   1,-999.0,     -99,  2,20051209,0050,  24.2455,  178.3873,  5723,  250.400,   17.167,   34.788,2,   34.789,2,  186.490,1,  209.860,2,    3.880,2,    3.860,2,    0.020,2,    0.320,2,    2.251,6,    1.232,6, -999.000,9, -999.000,9, -999.000,9
           NA,    P03C,    201,   1,-999.0,     -99,  2,20051209,0050,  24.2455,  178.3873,  5723,  303.100,   15.393,   34.606,2,   34.610,2,  182.720,1,  206.130,2,    6.350,2,    6.680,2,    0.010,2,    0.510,2,    2.426,2,    1.310,2, -999.000,9, -999.000,9, -999.000,9
           NA,    P03C,    201,   1,-999.0,     -99,  2,20051209,0050,  24.2455,  178.3873,  5723,  399.300,   12.277,   34.365,2,   34.362,2,  181.580,1,  204.950,2,   14.440,2,   12.340,2,    0.010,2,    0.895,2,    2.774,2,    1.439,2, -999.000,9, -999.000,9, -999.000,9
           NA,    P03C,    201,   1,-999.0,     -99,  2,20051209,0050,  24.2455,  178.3873,  5723,  500.700,    9.788,   34.169,2,   34.168,6,  158.150,1,  178.590,2,   24.930,2,   19.140,2,    0.010,2,    1.388,2,    2.705,2,    1.297,2, -999.000,9, -999.000,9, -999.000,9
           NA,    P03C,    201,   1,-999.0,     -99,  2,20051209,0050,  24.2455,  178.3873,  5723,  601.300,    7.521,   34.082,2,   34.082,2,  117.880,1,  133.370,2,   45.090,2,   27.650,2,    0.000,2,    2.007,2,    1.926,2,    0.896,2, -999.000,9, -999.000,9, -999.000,9
           NA,    P03C,    201,   1,-999.0,     -99,  2,20051209,0050,  24.2455,  178.3873,  5723,  701.100,    6.002,   34.129,2,   34.128,2,   66.690,1,   74.960,2,   68.580,2,   35.640,2,    0.000,2,    2.612,2,    0.839,2,    0.397,2, -999.000,9, -999.000,9, -999.000,9
           NA,    P03C,    201,   1,-999.0,     -99,  2,20051209,0050,  24.2455,  178.3873,  5723,  800.900,    5.167,   34.206,2,   34.205,2,   42.340,1,   48.160,2,   85.830,2,   39.460,2,    0.010,2,    2.907,2,    0.358,6,    0.156,6, -999.000,9, -999.000,9, -999.000,9
           NA,    P03C,    201,   1,-999.0,     -99,  2,20051209,0050,  24.2455,  178.3873,  5723,  900.300,    4.393,   34.271,2,   34.271,2,   34.380,1,   39.750,2,  102.850,2,   41.290,2,    0.010,2,    3.018,2,    0.195,2,    0.076,2, -999.000,9, -999.000,9, -999.000,9
           NA,    P03C,    201,   1,-999.0,     -99,  2,20051209,0050,  24.2455,  178.3873,  5723, 1000.300,    3.941,   34.374,2,   34.374,6,   32.940,1,   38.050,2,  113.960,2,   42.080,2,    0.010,2,    3.072,2,    0.047,2,    0.023,2, -999.000,9, -999.000,9, -999.000,9
           NA,    P03C,    201,   1,-999.0,     -99,  2,20051209,0050,  24.2455,  178.3873,  5723, 1201.300,    3.477,   34.507,2,   34.507,2,   52.290,1,   59.710,2,  121.910,2,   41.190,2,    0.010,2,    2.983,2,    0.000,2,    0.000,2, -999.000,9, -999.000,9, -999.000,9
           NA,    P03C,    201,   1,-999.0,     -99,  2,20051209,0050,  24.2455,  178.3873,  5723, 1402.200,    3.025,   34.543,2,   34.544,2,   60.110,1,   68.950,2,  131.550,2,   40.860,2,    0.010,2,    2.956,2,    0.000,2,    0.000,2, -999.000,9, -999.000,9, -999.000,9
           NA,    P03C,    201,   1,-999.0,     -99,  2,20051209,0050,  24.2455,  178.3873,  5723, 1601.600,    2.661,   34.573,2,   34.573,2,   68.030,1,   77.880,2,  138.870,2,   40.540,2,    0.010,2,    2.916,2,    0.000,2,    0.001,2, -999.000,9, -999.000,9, -999.000,9
           NA,    P03C,    201,   1,-999.0,     -99,  2,20051209,0050,  24.2455,  178.3873,  5723, 1800.200,    2.319,   34.595,2,   34.595,2,   73.850,1,   84.930,2,  147.110,2,   40.350,2,    0.010,2,    2.889,2,    0.000,2,    0.000,2, -999.000,9, -999.000,9, -999.000,9
           NA,    P03C,    201,   1,-999.0,     -99,  2,20051209,0050,  24.2455,  178.3873,  5723, 2002.200,    2.085,   34.616,2,   34.616,6,   81.990,1,   94.670,2,  150.880,2,   39.760,2,    0.010,2,    2.833,2,    0.000,2,    0.000,2, -999.000,9, -999.000,9, -999.000,9
           NA,    P03C,    201,   1,-999.0,     -99,  2,20051209,0050,  24.2455,  178.3873,  5723, 2401.400,    1.792,   34.642,2,   34.642,2,   94.790,1,  110.000,2,  156.250,2,   38.870,2,    0.000,2,    2.759,2,    0.000,2,    0.000,2, -999.000,9, -999.000,9, -999.000,9
           NA,    P03C,    201,   1,-999.0,     -99,  2,20051209,0050,  24.2455,  178.3873,  5723, 2600.300,    1.699,   34.651,2,   34.651,2,   99.930,1,  116.040,2,  156.460,2,   38.530,2,    0.010,2,    2.725,2,    0.000,2,    0.001,2, -999.000,9, -999.000,9, -999.000,9
           NA,    P03C,    201,   1,-999.0,     -99,  2,20051209,0050,  24.2455,  178.3873,  5723, 2801.500,    1.635,   34.658,2,   34.658,2,  105.350,1,  122.540,2,  156.060,2,   38.130,2,    0.010,2,    2.693,2, -999.000,9, -999.000,9, -999.000,9, -999.000,9, -999.000,9
           NA,    P03C,    201,   1,-999.0,     -99,  2,20051209,0050,  24.2455,  178.3873,  5723, 3000.600,    1.586,   34.664,2,   34.664,2,  109.740,1,  127.800,2,  155.760,2,   37.730,2,    0.010,2,    2.664,2, -999.000,9, -999.000,9, -999.000,9, -999.000,9, -999.000,9
           NA,    P03C,    201,   1,-999.0,     -99,  2,20051209,0050,  24.2455,  178.3873,  5723, 3251.000,    1.532,   34.671,2,   34.672,6,  116.060,1,  135.340,2,  154.280,2,   37.280,2,    0.000,2,    2.621,2,    0.000,2,    0.002,2, -999.000,9, -999.000,9, -999.000,9
           NA,    P03C,    201,   1,-999.0,     -99,  2,20051209,0050,  24.2455,  178.3873,  5723, 3499.300,    1.500,   34.677,2,   34.677,2,  121.250,1,  141.320,2,  152.550,2,   36.810,2,    0.010,2,    2.593,2, -999.000,9, -999.000,9, -999.000,9, -999.000,9, -999.000,9
           NA,    P03C,    201,   1,-999.0,     -99,  2,20051209,0050,  24.2455,  178.3873,  5723, 3748.700,    1.475,   34.681,2,   34.682,2,  125.980,1,  146.640,2,  151.130,2,   36.490,2,    0.010,2,    2.568,2, -999.000,9, -999.000,9, -999.000,9, -999.000,9, -999.000,9
           NA,    P03C,    201,   1,-999.0,     -99,  2,20051209,0050,  24.2455,  178.3873,  5723, 4001.100,    1.459,   34.685,2,   34.685,2,  130.460,1,  151.440,2,  149.520,2,   36.160,2,    0.010,2,    2.541,2,    0.000,2,    0.000,2, -999.000,9, -999.000,9, -999.000,9
           NA,    P03C,    201,   1,-999.0,     -99,  2,20051209,0050,  24.2455,  178.3873,  5723, 4249.700,    1.452,   34.688,2,   34.688,2,  134.900,1,  156.380,2,  147.010,2,   35.780,2,    0.010,2,    2.517,2, -999.000,9, -999.000,9, -999.000,9, -999.000,9, -999.000,9
           NA,    P03C,    201,   1,-999.0,     -99,  2,20051209,0050,  24.2455,  178.3873,  5723, 4500.100,    1.445,   34.691,2,   34.691,6,  139.940,1,  161.720,2,  143.190,2,   35.400,2,    0.010,2,    2.484,2, -999.000,9, -999.000,9, -999.000,9, -999.000,9, -999.000,9
           NA,    P03C,    201,   1,-999.0,     -99,  2,20051209,0050,  24.2455,  178.3873,  5723, 4751.000,    1.442,   34.694,2,   34.694,2,  144.770,1,  166.730,2,  140.020,2,   35.080,2,    0.010,2,    2.456,2,    0.000,2,    0.001,2, -999.000,9, -999.000,9, -999.000,9
           NA,    P03C,    201,   1,-999.0,     -99,  2,20051209,0050,  24.2455,  178.3873,  5723, 5000.400,    1.447,   34.696,2,   34.696,2,  148.840,1,  170.680,2,  137.390,2,   34.800,2,    0.010,2,    2.436,2, -999.000,9, -999.000,9, -999.000,9, -999.000,9, -999.000,9
           NA,    P03C,    201,   1,-999.0,     -99,  2,20051209,0050,  24.2455,  178.3873,  5723, 5250.300,    1.457,   34.698,2,   34.698,2,  152.500,1,  174.050,2,  135.150,2,   34.570,2,    0.000,2,    2.415,2, -999.000,9, -999.000,9, -999.000,9, -999.000,9, -999.000,9
           NA,    P03C,    201,   1,-999.0,     -99,  2,20051209,0050,  24.2455,  178.3873,  5723, 5501.100,    1.477,   34.699,2,   34.699,2,  155.080,1,  175.900,2,  133.910,2,   34.320,2,    0.000,2,    2.409,2,    0.000,2,    0.000,2, -999.000,9, -999.000,9, -999.000,9
           NA,    P03C,    201,   1,-999.0,     -99,  2,20051209,0050,  24.2455,  178.3873,  5723, 5750.000,    1.502,   34.699,2,   34.700,2,  157.470,1,  177.120,2,  133.130,2,   34.270,2,    0.010,2,    2.401,2, -999.000,9, -999.000,9, -999.000,9, -999.000,9, -999.000,9
           NA,    P03C,    201,   1,-999.0,     -99,  2,20051209,0050,  24.2455,  178.3873,  5723, 5819.900,    1.507,   34.700,2,   34.700,6,  159.320,1,  177.980,2,  132.600,2,   34.230,2,    0.000,2,    2.395,2,    0.000,2,    0.001,2, -999.000,9, -999.000,9, -999.000,9
           NA,    P03C,    X14,   1,-999.0,     -99,  2,20051208,1729,  23.9945,  178.9962,  5747,   10.100,   25.729,   35.358,2,   35.357,2,  182.660,1,  205.630,2,    1.010,2,    0.060,2,    0.000,2,    0.038,2,    1.645,2,    0.983,2, -999.000,9, 1979.800,2, 2322.500,2
           NA,    P03C,    X14,   1,-999.0,     -99,  2,20051208,1729,  23.9945,  178.9962,  5747,   50.300,   25.730,   35.355,2,   35.356,2,  182.580,1,  205.710,2,    1.020,2,    0.070,2,    0.010,2,    0.036,2,    1.645,2,    0.985,2, -999.000,9, 1979.700,6, 2321.800,2
           NA,    P03C,    X14,   1,-999.0,     -99,  2,20051208,1729,  23.9945,  178.9962,  5747,  100.300,   23.131,   35.267,2,   35.268,2,  190.480,1,  214.430,2,    1.280,2,    0.040,2,    0.010,2,    0.050,2,    1.911,2,    1.127,2, -999.000,9, 2001.400,2, 2316.300,6
           NA,    P03C,    X14,   1,-999.0,     -99,  2,20051208,1729,  23.9945,  178.9962,  5747,  149.500,   21.198,   35.194,2,   35.193,2,  178.360,1,  200.900,2,    1.770,2,    0.590,2,    0.040,2,    0.122,2,    2.037,2,    1.200,2, -999.000,9, 2024.600,2, 2311.500,2
           NA,    P03C,    X14,   1,-999.0,     -99,  2,20051208,1729,  23.9945,  178.9962,  5747,  199.600,   19.547,   35.044,2,   35.035,2,  179.070,1,  202.020,2,    2.440,2,    1.790,2,    0.020,2,    0.201,2,    2.171,2,    1.272,2, -999.000,9, 2031.200,2, 2299.100,2
           NA,    P03C,    X14,   1,-999.0,     -99,  2,20051208,1729,  23.9945,  178.9962,  5747,  250.700,   17.319,   34.799,2,   34.792,2,  185.140,1,  209.080,2,    3.900,2,    3.970,2,    0.010,2,    0.325,2,    2.352,6,    1.364,6, -999.000,9, 2034.000,2, -999.000,4
           NA,    P03C,    X14,   1,-999.0,     -99,  2,20051208,1729,  23.9945,  178.9962,  5747,  300.400,   16.142,   34.688,2,   34.683,2,  185.530,1,  208.820,2,    5.510,2,    5.760,2,    0.010,2,    0.434,2,    2.469,2,    1.413,2, -999.000,9, 2041.800,2, 2274.300,2
           NA,    P03C,    X14,   1,-999.0,     -99,  2,20051208,1729,  23.9945,  178.9962,  5747,  399.000,   12.875,   34.374,2,   34.359,2,  178.830,1,  201.270,2,   12.300,2,   11.560,2,    0.010,2,    0.851,2,    2.821,2,    1.520,2, -999.000,9, 2082.600,2, 2266.800,2
           NA,    P03C,    X14,   1,-999.0,     -99,  2,20051208,1729,  23.9945,  178.9962,  5747,  501.200,    9.979,   34.181,2,   34.193,6,  164.730,1,  188.740,2,   22.770,2,   17.570,2,    0.010,2,    1.276,2,    2.777,2,    1.421,2, -999.000,9, 2121.000,2, 2264.700,2
           NA,    P03C,    X14,   1,-999.0,     -99,  2,20051208,1729,  23.9945,  178.9962,  5747,  600.500,    7.615,   34.086,2,   34.086,2,  118.860,1,  134.200,2,   44.410,2,   27.300,2,    0.010,2,    1.989,2,    1.942,2,    0.942,2, -999.000,9, 2193.600,2, 2276.300,2
           NA,    P03C,    X14,   1,-999.0,     -99,  2,20051208,1729,  23.9945,  178.9962,  5747,  700.200,    6.057,   34.102,2,   34.104,2,   75.580,1,   84.350,2,   67.080,2,   34.720,2,    0.010,2,    2.534,2,    1.000,2,    0.478,2, -999.000,9, 2255.300,6, 2302.000,2
           NA,    P03C,    X14,   1,-999.0,     -99,  2,20051208,1729,  23.9945,  178.9962,  5747,  800.500,    5.086,   34.192,2,   34.196,2,   46.940,1,   52.680,2,   87.240,2,   39.190,2,    0.010,2,    2.865,2,    0.393,6,    0.191,6, -999.000,9, 2300.400,2, 2319.500,6
           NA,    P03C,    X14,   1,-999.0,     -99,  2,20051208,1729,  23.9945,  178.9962,  5747,  901.900,    4.462,   34.306,2,   34.306,2,   33.510,1,   38.750,2,  101.860,2,   41.400,2,    0.010,2,    3.019,2,    0.121,2,    0.063,2, -999.000,9, 2327.100,2, 2339.700,2
           NA,    P03C,    X14,   1,-999.0,     -99,  2,20051208,1729,  23.9945,  178.9962,  5747, 1002.700,    4.102,   34.385,2,   34.385,6,   34.810,1,   40.430,2,  110.230,2,   41.870,2,    0.010,2,    3.036,2,    0.039,2,    0.023,2, -999.000,9, 2337.800,2, 2359.800,2
           NA,    P03C,    X14,   1,-999.0,     -99,  2,20051208,1729,  23.9945,  178.9962,  5747, 1201.700,    3.540,   34.487,2,   34.487,2,   47.140,1,   54.050,2,  121.580,2,   41.520,2,    0.010,2,    3.007,2,    0.002,2,    0.002,2, -999.000,9, 2347.800,2, 2376.100,2
           NA,    P03C,    X14,   1,-999.0,     -99,  2,20051208,1729,  23.9945,  178.9962,  5747, 1401.300,    3.085,   34.543,2,   34.542,2,   59.070,1,   67.320,2,  130.650,2,   40.880,2,    0.010,2,    2.954,2,    0.000,2,    0.002,2, -999.000,9, 2348.800,2, 2390.400,2
           NA,    P03C,    X14,   1,-999.0,     -99,  2,20051208,1729,  23.9945,  178.9962,  5747, 1603.100,    2.737,   34.569,2,   34.569,2,   66.730,1,   76.230,2,  137.440,2,   40.560,2,    0.010,2,    2.923,2,    0.000,2,    0.000,2, -999.000,9, 2351.800,2, 2393.700,2
           NA,    P03C,    X14,   1,-999.0,     -99,  2,20051208,1729,  23.9945,  178.9962,  5747, 1799.600,    2.425,   34.591,2,   34.591,2,   73.160,1,   83.880,2,  144.410,2,   40.320,2,    0.010,2,    2.891,2,    0.000,2,    0.002,2, -999.000,9, 2355.500,2, 2403.200,2
           NA,    P03C,    X14,   1,-999.0,     -99,  2,20051208,1729,  23.9945,  178.9962,  5747, 1999.700,    2.165,   34.611,2,   34.611,6,   80.210,1,   92.420,2,  149.530,2,   39.840,2,    0.010,2,    2.839,2,    0.001,2,    0.002,2, -999.000,9, 2353.700,2, 2403.900,2
           NA,    P03C,    X14,   1,-999.0,     -99,  2,20051208,1729,  23.9945,  178.9962,  5747, 2399.700,    1.826,   34.637,2,   34.637,2,   92.060,1,  106.440,2,  156.440,2,   38.960,2,    0.010,2,    2.764,2,    0.000,2,    0.002,2, -999.000,9, 2352.300,6, 2415.300,2
           NA,    P03C,    X14,   1,-999.0,     -99,  2,20051208,1729,  23.9945,  178.9962,  5747, 2601.700,    1.727,   34.648,2,   34.647,2,   98.170,1,  113.750,2,  157.100,2,   38.540,2,    0.010,2,    2.735,2, -999.000,9, -999.000,9, -999.000,9, 2350.400,2, 2414.300,6
           NA,    P03C,    X14,   1,-999.0,     -99,  2,20051208,1729,  23.9945,  178.9962,  5747, 2801.700,    1.652,   34.656,2,   34.657,2,  103.730,1,  120.340,2,  156.630,2,   38.100,2,    0.010,2,    2.697,2, -999.000,9, -999.000,9, -999.000,9, 2343.000,2, 2420.000,2
           NA,    P03C,    X14,   1,-999.0,     -99,  2,20051208,1729,  23.9945,  178.9962,  5747, 3002.200,    1.589,   34.663,2,   34.664,2,  108.900,1,  126.360,2,  156.430,2,   37.760,2,    0.010,2,    2.666,2,    0.000,2,    0.003,2, -999.000,9, 2341.500,2, 2414.700,2
           NA,    P03C,    X14,   1,-999.0,     -99,  2,20051208,1729,  23.9945,  178.9962,  5747, 3248.400,    1.542,   34.670,2,   34.670,6,  114.780,1,  133.390,2,  155.410,2,   37.270,2,    0.010,2,    2.621,2, -999.000,9, -999.000,9, -999.000,9, 2337.600,2, 2416.200,2
           NA,    P03C,    X14,   1,-999.0,     -99,  2,20051208,1729,  23.9945,  178.9962,  5747, 3501.400,    1.501,   34.676,2,   34.676,2,  120.600,1,  140.310,2,  154.060,2,   36.800,2,    0.010,2,    2.596,2, -999.000,9, -999.000,9, -999.000,9, 2332.000,2, 2416.000,2
           NA,    P03C,    X14,   1,-999.0,     -99,  2,20051208,1729,  23.9945,  178.9962,  5747, 3752.000,    1.478,   34.681,2,   34.681,2,  125.660,1,  146.080,2,  152.140,2,   36.370,2,    0.000,2,    2.568,2,    0.000,2,    0.003,2, -999.000,9, 2328.500,2, 2415.500,2
           NA,    P03C,    X14,   1,-999.0,     -99,  2,20051208,1729,  23.9945,  178.9962,  5747, 4000.900,    1.460,   34.685,2,   34.685,2,  130.390,1,  151.130,2,  150.030,2,   36.060,2,    0.010,2,    2.539,2, -999.000,9, -999.000,9, -999.000,9, 2325.300,2, 2411.300,2
           NA,    P03C,    X14,   1,-999.0,     -99,  2,20051208,1729,  23.9945,  178.9962,  5747, 4251.100,    1.454,   34.688,2,   34.688,2,  134.450,1,  155.410,2,  148.350,2,   35.860,2,    0.010,2,    2.510,2, -999.000,9, -999.000,9, -999.000,9, 2320.100,6, 2413.300,2
           NA,    P03C,    X14,   1,-999.0,     -99,  2,20051208,1729,  23.9945,  178.9962,  5747, 4499.500,    1.446,   34.691,2,   34.691,6,  139.570,1,  161.040,2,  144.830,2,   35.450,2,    0.000,2,    2.480,2,    0.000,2,    0.003,2, -999.000,9, 2316.100,2, 2409.800,6
           NA,    P03C,    X14,   1,-999.0,     -99,  2,20051208,1729,  23.9945,  178.9962,  5747, 4752.200,    1.443,   34.694,2,   34.694,2,  144.770,1,  166.560,2,  140.730,2,   34.940,2,    0.010,2,    2.455,2, -999.000,9, -999.000,9, -999.000,9, 2308.600,2, 2405.500,2
           NA,    P03C,    X14,   1,-999.0,     -99,  2,20051208,1729,  23.9945,  178.9962,  5747, 5001.400,    1.448,   34.696,2,   34.696,2,  148.810,1,  170.520,2,  137.860,2,   34.660,2,    0.000,2,    2.430,2, -999.000,9, -999.000,9, -999.000,9, 2305.200,2, 2403.100,2
           NA,    P03C,    X14,   1,-999.0,     -99,  2,20051208,1729,  23.9945,  178.9962,  5747, 5243.100,    1.460,   34.698,2,   34.698,2,  152.190,1,  173.520,2,  135.840,2,   34.340,2,    0.000,2,    2.414,2,    0.000,2,    0.002,2, -999.000,9, 2300.200,2, 2400.000,2
           NA,    P03C,    X14,   1,-999.0,     -99,  2,20051208,1729,  23.9945,  178.9962,  5747, 5502.500,    1.483,   34.698,2,   34.699,2,  154.440,1,  175.080,2,  134.580,2,   34.360,2,    0.000,2,    2.404,2, -999.000,9, -999.000,9, -999.000,9, 2298.000,2, 2399.000,2
           NA,    P03C,    X14,   1,-999.0,     -99,  2,20051208,1729,  23.9945,  178.9962,  5747, 5750.300,    1.508,   34.699,2,   34.699,2,  156.840,1,  176.490,2,  133.950,2,   34.210,2,    0.000,2,    2.398,2, -999.000,9, -999.000,9, -999.000,9, 2297.800,2, 2395.000,2
           NA,    P03C,    X14,   1,-999.0,     -99,  2,20051208,1729,  23.9945,  178.9962,  5747, 5836.600,    1.517,   34.699,2,   34.699,6,  158.760,1,  176.960,2,  133.700,2,   34.320,2,    0.000,2,    2.399,2,    0.000,2,    0.001,2, -999.000,9, 2295.500,2, 2395.500,2