BOTTLE,20211903JOAExport
EXPOCODE,SECT_ID,STNNBR,CASTNO,SAMPNO,BTLNBR,BTLNBR_FLAG_W,DATE,TIME,LATITUDE,LONGITUDE,DEPTH,CTDPRS,CTDTMP,CTDSAL,CTDSAL_FLAG_W,SALNTY,SALNTY_FLAG_W,CTDOXY,CTDOXY_FLAG_W,OXYGEN,OXYGEN_FLAG_W,SILCAT,SILCAT_FLAG_W,NITRAT,NITRAT_FLAG_W,NITRIT,NITRIT_FLAG_W,PHSPHT,PHSPHT_FLAG_W,CFC-11,CFC-11_FLAG_W,CFC-12,CFC-12_FLAG_W,SF6,SF6_FLAG_W,TCARBN,TCARBN_FLAG_W,ALKALI,ALKALI_FLAG_W
,,,,,,,,,,,,DB,ITS-90,PSS-78,,PSS-78,,UMOL/KG,,UMOL/KG,,UMOL/KG,,UMOL/KG,,UMOL/KG,,UMOL/KG,,PMOL/KG,,PMOL/KG,,FMOL/KG,,UMOL/KG,,UMOL/KG
           NA,    P03C,    229,   1,-999.0,     -99,  2,20051222,2236,  24.2473,  167.2587,  5674,    9.600,   25.980,   35.249,2,   35.250,2,  193.130,1,  205.340,2,    1.090,2,    0.030,2,    0.000,2,    0.032,2,    1.606,2,    0.972,2, -999.000,9, 1968.100,2, 2312.900,2
           NA,    P03C,    229,   1,-999.0,     -99,  2,20051222,2236,  24.2473,  167.2587,  5674,   50.000,   25.961,   35.246,2,   35.249,2,  193.040,1,  205.610,2,    1.080,2,    0.030,2,    0.000,2,    0.033,2,    1.617,2,    0.979,2, -999.000,9, 1968.000,6, 2310.400,2
           NA,    P03C,    229,   1,-999.0,     -99,  2,20051222,2236,  24.2473,  167.2587,  5674,  100.400,   22.348,   35.172,2,   35.174,2,  207.750,1,  221.810,2,    1.520,2,    0.020,2,    0.000,2,    0.039,2,    1.991,2,    1.188,2, -999.000,9, 1999.300,2, 2309.300,6
           NA,    P03C,    229,   1,-999.0,     -99,  2,20051222,2236,  24.2473,  167.2587,  5674,  151.000,   18.828,   34.909,2,   34.908,2,  196.700,1,  209.540,2,    2.530,2,    0.860,2,    0.070,2,    0.149,2,    2.221,2,    1.314,2, -999.000,9, 2024.200,2, 2292.600,2
           NA,    P03C,    229,   1,-999.0,     -99,  2,20051222,2236,  24.2473,  167.2587,  5674,  200.400,   17.263,   34.790,2,   34.789,2,  201.200,1,  213.750,2,    3.680,2,    4.000,2,    0.010,2,    0.304,2,    2.295,2,    1.351,2, -999.000,9, 2023.400,2, 2283.000,2
           NA,    P03C,    229,   1,-999.0,     -99,  2,20051222,2236,  24.2473,  167.2587,  5674,  250.500,   16.563,   34.730,2,   34.730,2,  195.230,1,  207.410,2,    5.100,2,    5.550,2,    0.010,2,    0.405,2,    2.368,6,    1.367,6, -999.000,9, 2035.100,2, 2282.900,2
           NA,    P03C,    229,   1,-999.0,     -99,  2,20051222,2236,  24.2473,  167.2587,  5674,  301.000,   15.689,   34.648,2,   34.646,2,  192.000,1,  203.960,2,    6.880,2,    7.160,2,    0.010,2,    0.521,2,    2.460,2,    1.402,2, -999.000,9, 2047.700,2, 2278.800,2
           NA,    P03C,    229,   1,-999.0,     -99,  2,20051222,2236,  24.2473,  167.2587,  5674,  400.200,   12.797,   34.413,2,   34.408,2,  190.570,1,  202.560,2,   13.740,2,   11.870,2,    0.010,2,    0.862,2,    2.672,2,    1.447,2, -999.000,9, 2081.400,2, 2271.700,2
           NA,    P03C,    229,   1,-999.0,     -99,  2,20051222,2236,  24.2473,  167.2587,  5674,  500.500,    9.807,   34.188,2,   34.185,6,  168.130,1,  177.930,2,   25.810,2,   19.230,2,    0.010,2,    1.401,2,    2.555,2,    1.315,2, -999.000,9, 2132.800,2, 2270.100,2
           NA,    P03C,    229,   1,-999.0,     -99,  2,20051222,2236,  24.2473,  167.2587,  5674,  598.800,    7.506,   34.088,2,   34.085,2,  128.070,1,  135.900,2,   45.990,2,   27.540,2,    0.010,2,    2.000,2,    1.874,2,    0.919,2, -999.000,9, 2194.000,2, 2283.600,2
           NA,    P03C,    229,   1,-999.0,     -99,  2,20051222,2236,  24.2473,  167.2587,  5674,  699.900,    5.836,   34.092,2,   34.093,2,   85.100,1,   90.350,2,   69.630,2,   34.610,2,    0.010,2,    2.522,2,    1.018,2,    0.493,2, -999.000,9, 2255.300,6, 2300.100,2
           NA,    P03C,    229,   1,-999.0,     -99,  2,20051222,2236,  24.2473,  167.2587,  5674,  799.400,    4.776,   34.183,2,   34.185,2,   51.430,1,   54.640,2,   91.880,2,   39.460,2,    0.010,2,    2.876,2,    0.400,6,    0.199,6, -999.000,9, 2305.100,2, 2324.300,6
           NA,    P03C,    229,   1,-999.0,     -99,  2,20051222,2236,  24.2473,  167.2587,  5674,  899.700,    4.236,   34.264,2,   34.265,2,   38.090,1,   40.470,2,  105.840,2,   41.400,2,    0.000,2,    3.005,2,    0.176,2,    0.091,2, -999.000,9, 2330.200,2, 2339.800,2
           NA,    P03C,    229,   1,-999.0,     -99,  2,20051222,2236,  24.2473,  167.2587,  5674, 1002.100,    3.731,   34.344,2,   34.343,2,   32.470,1,   34.520,2,  119.450,2,   42.560,2,    0.010,2,    3.086,2,    0.071,2,    0.037,2, -999.000,9, 2349.200,2, 2360.200,2
           NA,    P03C,    229,   1,-999.0,     -99,  2,20051222,2236,  24.2473,  167.2587,  5674, 1201.400,    3.247,   34.471,2,   34.470,2,   45.650,1,   48.700,2,  130.200,2,   42.090,2,    0.010,2,    3.039,2,    0.011,2,    0.004,2, -999.000,9, 2354.700,2, 2381.200,2
           NA,    P03C,    229,   1,-999.0,     -99,  2,20051222,2236,  24.2473,  167.2587,  5674, 1399.900,    2.829,   34.524,2,   34.524,2,   55.410,1,   59.360,2,  139.120,2,   41.660,2,    0.000,2,    2.996,2,    0.000,2,    0.002,2, -999.000,9, 2358.900,2, 2390.900,2
           NA,    P03C,    229,   1,-999.0,     -99,  2,20051222,2236,  24.2473,  167.2587,  5674, 1599.100,    2.511,   34.562,2,   34.562,2,   68.250,1,   73.140,2,  144.350,2,   40.920,2,    0.000,2,    2.932,2,    0.000,2,    0.001,2, -999.000,9, 2358.300,2, 2397.800,2
           NA,    P03C,    229,   1,-999.0,     -99,  2,20051222,2236,  24.2473,  167.2587,  5674, 1799.700,    2.204,   34.595,2,   34.595,2,   81.540,1,   87.850,2,  148.660,2,   40.200,2,    0.000,2,    2.861,2,    0.000,2,    0.001,2, -999.000,9, 2355.300,2, 2408.400,2
           NA,    P03C,    229,   1,-999.0,     -99,  2,20051222,2236,  24.2473,  167.2587,  5674, 1999.000,    2.040,   34.616,2,   34.616,6,   91.000,1,   98.080,2,  150.130,2,   39.510,2,    0.010,2,    2.813,2,    0.000,2,    0.000,2, -999.000,9, 2352.900,2, 2412.800,2
           NA,    P03C,    229,   1,-999.0,     -99,  2,20051222,2236,  24.2473,  167.2587,  5674, 2199.400,    1.898,   34.633,2,   34.633,2,   99.050,1,  106.980,2,  151.580,2,   39.080,2,    0.000,2,    2.771,2,    0.000,2,    0.001,2, -999.000,9, -999.000,4, 2414.000,2
           NA,    P03C,    229,   1,-999.0,     -99,  2,20051222,2236,  24.2473,  167.2587,  5674, 2399.000,    1.788,   34.646,2,   34.646,2,  106.180,1,  114.970,2,  152.230,2,   38.600,2,    0.000,2,    2.728,2,    0.000,2,    0.001,2, -999.000,9, -999.000,4, 2419.800,2
           NA,    P03C,    229,   1,-999.0,     -99,  2,20051222,2236,  24.2473,  167.2587,  5674, 2600.300,    1.707,   34.654,2,   34.655,2,  111.850,1,  121.240,2,  152.700,2,   38.230,2,    0.010,2,    2.696,2,    0.000,2,    0.000,2, -999.000,9, 2344.600,2, 2417.900,6
           NA,    P03C,    229,   1,-999.0,     -99,  2,20051222,2236,  24.2473,  167.2587,  5674, 2798.500,    1.661,   34.660,2,   34.661,2,  115.900,1,  125.630,2,  152.720,2,   37.880,2,    0.010,2,    2.676,2, -999.000,9, -999.000,9, -999.000,9, 2341.800,2, 2418.800,2
           NA,    P03C,    229,   1,-999.0,     -99,  2,20051222,2236,  24.2473,  167.2587,  5674, 3001.500,    1.616,   34.666,2,   34.666,6,  120.380,1,  130.520,2,  152.430,2,   37.600,2,    0.010,2,    2.649,2, -999.000,9, -999.000,9, -999.000,9, 2337.800,2, 2420.700,2
           NA,    P03C,    229,   1,-999.0,     -99,  2,20051222,2236,  24.2473,  167.2587,  5674, 3248.400,    1.569,   34.672,2,   34.672,2,  125.560,1,  136.110,2,  151.580,2,   37.240,2,    0.000,2,    2.610,2,    0.000,2,    0.001,2, -999.000,9, -999.000,4, 2417.200,2
           NA,    P03C,    229,   1,-999.0,     -99,  2,20051222,2236,  24.2473,  167.2587,  5674, 3500.000,    1.534,   34.676,2,   34.677,2,  130.590,1,  141.540,2,  150.310,2,   36.800,2,    0.000,2,    2.586,2, -999.000,9, -999.000,9, -999.000,9, -999.000,4, 2419.900,2
           NA,    P03C,    229,   1,-999.0,     -99,  2,20051222,2236,  24.2473,  167.2587,  5674, 3749.600,    1.512,   34.680,2,   34.680,2,  135.020,1,  146.260,2,  149.010,2,   36.460,2,    0.000,2,    2.562,2, -999.000,9, -999.000,9, -999.000,9, -999.000,4, 2416.300,2
           NA,    P03C,    229,   1,-999.0,     -99,  2,20051222,2236,  24.2473,  167.2587,  5674, 4001.800,    1.490,   34.683,2,   34.684,6,  139.740,1,  150.960,2,  147.330,2,   36.190,2,    0.000,2,    2.539,2,    0.000,2,    0.000,2, -999.000,9, 2322.700,2, 2418.900,2
           NA,    P03C,    229,   1,-999.0,     -99,  2,20051222,2236,  24.2473,  167.2587,  5674, 4248.500,    1.480,   34.687,2,   34.687,2,  144.420,1,  155.670,2,  145.100,2,   35.820,2,    0.000,2,    2.511,2, -999.000,9, -999.000,9, -999.000,9, 2318.700,6, 2407.500,2
           NA,    P03C,    229,   1,-999.0,     -99,  2,20051222,2236,  24.2473,  167.2587,  5674, 4500.600,    1.469,   34.690,2,   34.690,2,  149.190,1,  160.390,2,  143.050,2,   35.470,2,    0.000,2,    2.484,2, -999.000,9, -999.000,9, -999.000,9, 2314.500,2, 2409.600,6
           NA,    P03C,    229,   1,-999.0,     -99,  2,20051222,2236,  24.2473,  167.2587,  5674, 4751.600,    1.455,   34.693,2,   34.694,2,  155.320,1,  166.360,2,  139.520,2,   35.020,2,    0.010,2,    2.455,2,    0.000,2,    0.000,2, -999.000,9, 2308.400,2, 2407.500,2
           NA,    P03C,    229,   1,-999.0,     -99,  2,20051222,2236,  24.2473,  167.2587,  5674, 4752.200,    1.455,   34.693,2,   34.693,2,  155.330,1,  166.450,2,  139.650,2,   35.080,2,    0.000,2,    2.457,2, -999.000,9, -999.000,9, -999.000,9, 2312.600,2, 2409.700,2
           NA,    P03C,    229,   1,-999.0,     -99,  2,20051222,2236,  24.2473,  167.2587,  5674, 4999.600,    1.444,   34.696,2,   34.696,2,  161.180,1,  171.930,2,  136.190,2,   34.660,2,    0.010,2,    2.424,2, -999.000,9, -999.000,9, -999.000,9, 2301.800,2, 2406.000,2
           NA,    P03C,    229,   1,-999.0,     -99,  2,20051222,2236,  24.2473,  167.2587,  5674, 5249.500,    1.451,   34.698,2,   34.698,2,  165.310,1,  175.670,2,  134.030,2,   34.480,2,    0.010,2,    2.404,2, -999.000,9, -999.000,9, -999.000,9, 2298.600,2, 2401.500,2
           NA,    P03C,    229,   1,-999.0,     -99,  2,20051222,2236,  24.2473,  167.2587,  5674, 5500.000,    1.468,   34.699,2,   34.700,2,  168.290,1,  177.590,2,  132.980,2,   34.210,2,    0.010,2,    2.396,2,    0.000,2,    0.000,2, -999.000,9, 2298.500,2, 2396.100,2
           NA,    P03C,    229,   1,-999.0,     -99,  2,20051222,2236,  24.2473,  167.2587,  5674, 5732.000,    1.497,   34.699,2,   34.700,6,  170.190,1,  177.680,2,  132.770,2,   34.330,2,    0.000,2,    2.393,2,    0.000,2,    0.002,2, -999.000,9, 2297.100,2, 2395.400,2