BOTTLE,20211903JOAExport
EXPOCODE,SECT_ID,STNNBR,CASTNO,SAMPNO,BTLNBR,BTLNBR_FLAG_W,DATE,TIME,LATITUDE,LONGITUDE,DEPTH,CTDPRS,CTDTMP,CTDSAL,CTDSAL_FLAG_W,SALNTY,SALNTY_FLAG_W,CTDOXY,CTDOXY_FLAG_W,OXYGEN,OXYGEN_FLAG_W,SILCAT,SILCAT_FLAG_W,NITRAT,NITRAT_FLAG_W,NITRIT,NITRIT_FLAG_W,PHSPHT,PHSPHT_FLAG_W,CFC-11,CFC-11_FLAG_W,CFC-12,CFC-12_FLAG_W,SF6,SF6_FLAG_W,TCARBN,TCARBN_FLAG_W,ALKALI,ALKALI_FLAG_W
,,,,,,,,,,,,DB,ITS-90,PSS-78,,PSS-78,,UMOL/KG,,UMOL/KG,,UMOL/KG,,UMOL/KG,,UMOL/KG,,UMOL/KG,,PMOL/KG,,PMOL/KG,,FMOL/KG,,UMOL/KG,,UMOL/KG
           NA,    P03C,    333,   1,-999.0,     -99,  2,20060108,1322,  24.2897,  132.8225,  4047,   10.300,   24.290,   34.664,2,   34.665,2,  190.880,1,  207.350,2,    0.990,2,    0.050,2,    0.000,2,    0.045,2,    1.680,2,    1.048,2, -999.000,9, 1941.100,2, 2276.000,2
           NA,    P03C,    333,   1,-999.0,     -99,  2,20060108,1322,  24.2897,  132.8225,  4047,   49.700,   24.281,   34.664,2,   34.665,2,  190.900,1,  207.420,2,    0.970,2,    0.040,2,    0.000,2,    0.044,2,    1.678,2,    1.031,2, -999.000,9, 1940.800,6, 2275.700,2
           NA,    P03C,    333,   1,-999.0,     -99,  2,20060108,1322,  24.2897,  132.8225,  4047,  100.000,   23.678,   34.714,2,   34.720,2,  192.880,1,  209.800,2,    1.070,2,    0.040,2,    0.000,2,    0.043,2,    1.734,2,    1.060,2, -999.000,9, 1948.100,2, 2281.400,6
           NA,    P03C,    333,   1,-999.0,     -99,  2,20060108,1322,  24.2897,  132.8225,  4047,  149.300,   22.179,   34.855,2,   34.856,2,  196.720,1,  214.040,2,    1.320,2,    0.030,2,    0.050,2,    0.046,2,    1.861,2,    1.134,2, -999.000,9, 1967.800,2, 2291.300,2
           NA,    P03C,    333,   1,-999.0,     -99,  2,20060108,1322,  24.2897,  132.8225,  4047,  199.500,   20.227,   34.937,2,   34.939,2,  178.130,1,  193.570,2,    2.190,2,    2.310,2,    0.010,2,    0.206,2,    2.111,2,    1.260,2, -999.000,9, 2015.100,2, 2294.300,2
           NA,    P03C,    333,   1,-999.0,     -99,  2,20060108,1322,  24.2897,  132.8225,  4047,  249.200,   18.589,   34.856,2,   34.854,2,  180.950,1,  197.140,2,    3.120,2,    3.780,2,    0.010,2,    0.293,2,    2.252,6,    1.309,6, -999.000,9, 2022.800,2, 2289.400,2
           NA,    P03C,    333,   1,-999.0,     -99,  2,20060108,1322,  24.2897,  132.8225,  4047,  300.500,   17.385,   34.788,2,   34.784,2,  187.260,1,  203.620,2,    4.000,2,    4.800,2,    0.010,2,    0.356,2,    2.360,2,    1.372,2, -999.000,9, 2029.200,2, 2283.800,2
           NA,    P03C,    333,   1,-999.0,     -99,  2,20060108,1322,  24.2897,  132.8225,  4047,  398.900,   15.105,   34.591,2,   34.573,2,  172.910,1,  186.340,2,    9.570,2,    9.910,2,    0.000,2,    0.738,2,    2.508,2,    1.378,2, -999.000,9, 2069.700,2, 2278.600,2
           NA,    P03C,    333,   1,-999.0,     -99,  2,20060108,1322,  24.2897,  132.8225,  4047,  501.800,   11.885,   34.362,2,   34.362,6,  170.050,1,  183.580,2,   19.340,2,   15.190,2,    0.000,2,    1.097,2,    2.581,2,    1.358,2, -999.000,9, 2102.900,2, 2275.200,2
           NA,    P03C,    333,   1,-999.0,     -99,  2,20060108,1322,  24.2897,  132.8225,  4047,  599.800,    9.218,   34.201,2,   34.200,2,  144.930,1,  157.400,2,   35.120,2,   22.300,2,    0.000,2,    1.630,2,    2.221,2,    1.142,2, -999.000,9, 2155.900,2, 2280.600,2
           NA,    P03C,    333,   1,-999.0,     -99,  2,20060108,1322,  24.2897,  132.8225,  4047,  699.900,    7.082,   34.126,2,   34.126,2,  118.290,1,  126.250,2,   56.630,2,   29.030,2,    0.000,2,    2.128,2,    1.709,2,    0.843,2, -999.000,9, 2209.000,6, 2294.600,2
           NA,    P03C,    333,   1,-999.0,     -99,  2,20060108,1322,  24.2897,  132.8225,  4047,  799.900,    5.422,   34.153,2,   34.154,2,   81.630,1,   87.550,2,   81.120,2,   35.380,2,    0.000,2,    2.584,2,    1.033,6,    0.504,6, -999.000,9, 2266.900,2, 2316.800,6
           NA,    P03C,    333,   1,-999.0,     -99,  2,20060108,1322,  24.2897,  132.8225,  4047,  899.000,    4.600,   34.234,2,   34.234,2,   61.400,1,   65.880,2,   98.730,2,   38.510,2,    0.000,2,    2.796,2,    0.581,2,    0.281,2, -999.000,9, 2300.200,2, 2337.400,2
           NA,    P03C,    333,   1,-999.0,     -99,  2,20060108,1322,  24.2897,  132.8225,  4047, 1000.100,    4.024,   34.303,2,   34.304,6,   51.500,1,   55.380,2,  112.340,2,   40.230,2,    0.000,2,    2.925,2,    0.333,2,    0.160,2, -999.000,9, 2324.300,2, 2349.900,2
           NA,    P03C,    333,   1,-999.0,     -99,  2,20060108,1322,  24.2897,  132.8225,  4047, 1201.000,    3.174,   34.436,2,   34.437,2,   53.770,1,   57.820,2,  131.610,2,   41.210,2,    0.000,2,    2.977,2,    0.091,2,    0.044,2, -999.000,9, 2344.500,2, 2377.600,2
           NA,    P03C,    333,   1,-999.0,     -99,  2,20060108,1322,  24.2897,  132.8225,  4047, 1400.700,    2.727,   34.506,2,   34.506,2,   67.090,1,   72.330,2,  138.810,2,   40.560,2,    0.000,2,    2.921,2,    0.040,2, -999.000,5, -999.000,9, 2348.300,2, 2389.600,2
           NA,    P03C,    333,   1,-999.0,     -99,  2,20060108,1322,  24.2897,  132.8225,  4047, 1601.000,    2.387,   34.560,2,   34.560,2,   83.490,1,   90.310,2,  141.830,2,   39.630,2,    0.000,2,    2.836,2,    0.014,2,    0.010,2, -999.000,9, 2342.900,2, 2400.500,2
           NA,    P03C,    333,   1,-999.0,     -99,  2,20060108,1322,  24.2897,  132.8225,  4047, 1799.400,    2.136,   34.589,2,   34.590,6,   93.620,1,  101.360,2,  144.380,2,   39.130,2,    0.000,2,    2.788,2,    0.009,2,    0.007,2, -999.000,9, 2339.600,2, 2403.100,2
           NA,    P03C,    333,   1,-999.0,     -99,  2,20060108,1322,  24.2897,  132.8225,  4047, 1999.300,    1.935,   34.618,2,   34.619,2,  106.210,1,  115.090,2,  144.310,2,   38.340,2,    0.000,2,    2.729,2,    0.003,2,    0.003,2, -999.000,9, 2334.000,2, 2405.300,2
           NA,    P03C,    333,   1,-999.0,     -99,  2,20060108,1322,  24.2897,  132.8225,  4047, 2199.300,    1.842,   34.632,2,   34.632,2,  112.860,1,  122.350,2,  144.110,2,   37.940,2,    0.000,2,    2.689,2,    0.003,2,    0.003,2, -999.000,9, 2332.600,2, 2411.400,2
           NA,    P03C,    333,   1,-999.0,     -99,  2,20060108,1322,  24.2897,  132.8225,  4047, 2399.000,    1.758,   34.643,2,   34.644,2,  118.570,1,  128.460,2,  144.230,2,   37.530,2,    0.000,2,    2.662,2,    0.005,2,    0.004,2, -999.000,9, 2330.600,6, 2412.200,2
           NA,    P03C,    333,   1,-999.0,     -99,  2,20060108,1322,  24.2897,  132.8225,  4047, 2600.400,    1.671,   34.655,2,   34.656,6,  124.990,1,  135.460,2,  143.870,2,   37.090,2,    0.000,2,    2.626,2, -999.000,9, -999.000,9, -999.000,9, 2326.700,2, 2411.800,6
           NA,    P03C,    333,   1,-999.0,     -99,  2,20060108,1322,  24.2897,  132.8225,  4047, 2799.800,    1.638,   34.661,2,   34.661,2,  128.240,1,  138.860,2,  143.620,2,   36.930,2,    0.000,2,    2.612,2,    0.000,2,    0.000,2, -999.000,9, 2324.700,2, 2413.900,2
           NA,    P03C,    333,   1,-999.0,     -99,  2,20060108,1322,  24.2897,  132.8225,  4047, 3001.500,    1.599,   34.667,2,   34.667,2,  131.830,1,  142.770,2,  143.110,2,   36.740,2,    0.000,2,    2.591,2, -999.000,9, -999.000,9, -999.000,9, 2322.900,2, 2412.600,2
           NA,    P03C,    333,   1,-999.0,     -99,  2,20060108,1322,  24.2897,  132.8225,  4047, 3250.100,    1.577,   34.671,2,   34.672,6,  134.990,1,  145.790,2,  142.590,2,   36.430,2,    0.000,2,    2.562,2, -999.000,9, -999.000,9, -999.000,9, 2321.600,2, 2414.500,2
           NA,    P03C,    333,   1,-999.0,     -99,  2,20060108,1322,  24.2897,  132.8225,  4047, 3500.200,    1.559,   34.676,2,   34.676,2,  138.220,1,  148.760,2,  142.610,2,   36.340,2,    0.000,2,    2.559,2,    0.000,2,    0.004,2, -999.000,9, 2320.900,2, 2414.800,2
           NA,    P03C,    333,   1,-999.0,     -99,  2,20060108,1322,  24.2897,  132.8225,  4047, 3748.900,    1.560,   34.678,2,   34.679,2,  140.450,1,  150.620,2,  142.340,2,   36.200,2,    0.000,2,    2.550,2, -999.000,9, -999.000,9, -999.000,9, 2319.600,2, 2414.400,2
           NA,    P03C,    333,   1,-999.0,     -99,  2,20060108,1322,  24.2897,  132.8225,  4047, 3999.200,    1.565,   34.680,2,   34.681,2,  142.690,1,  152.220,2,  142.220,2,   36.180,2,    0.000,2,    2.543,2, -999.000,9, -999.000,9, -999.000,9, 2319.900,2, 2413.700,2
           NA,    P03C,    333,   1,-999.0,     -99,  2,20060108,1322,  24.2897,  132.8225,  4047, 4092.200,    1.570,   34.681,2,   34.681,6,  143.500,1,  152.540,2,  142.420,2,   36.180,2,    0.000,2,    2.545,2,    0.000,2,    0.002,2, -999.000,9, 2317.700,2, 2415.800,2
           NA,    P03C,    331,   1,-999.0,     -99,  2,20060108,0742,  24.2555,  133.3502,  4641,   10.600,   22.436,   34.793,2,   34.793,2,  197.630,1,  214.620,2,    1.260,2,    0.030,2,    0.000,2,    0.043,2,    1.866,2,    1.102,2, -999.000,9, -999.000,9, -999.000,9
           NA,    P03C,    331,   1,-999.0,     -99,  2,20060108,0742,  24.2555,  133.3502,  4641,   50.300,   22.267,   34.804,2,   34.804,2,  197.850,1,  215.070,2,    1.340,2,    0.030,2,    0.000,2,    0.043,2,    1.898,2,    1.111,2, -999.000,9, -999.000,9, -999.000,9
           NA,    P03C,    331,   1,-999.0,     -99,  2,20060108,0742,  24.2555,  133.3502,  4641,  101.100,   21.719,   34.840,2,   34.838,2,  193.590,1,  210.670,2,    1.580,2,    0.300,2,    0.090,2,    0.074,2,    1.967,2,    1.152,2, -999.000,9, -999.000,9, -999.000,9
           NA,    P03C,    331,   1,-999.0,     -99,  2,20060108,0742,  24.2555,  133.3502,  4641,  150.300,   20.762,   34.895,2,   34.895,2,  188.810,1,  205.020,2,    1.940,2,    1.120,2,    0.040,2,    0.126,2,    2.097,2,    1.210,2, -999.000,9, -999.000,9, -999.000,9
           NA,    P03C,    331,   1,-999.0,     -99,  2,20060108,0742,  24.2555,  133.3502,  4641,  199.500,   18.700,   34.866,2,   34.864,2,  187.760,1,  203.540,2,    2.790,2,    2.970,2,    0.010,2,    0.239,2,    2.266,2,    1.304,2, -999.000,9, -999.000,9, -999.000,9
           NA,    P03C,    331,   1,-999.0,     -99,  2,20060108,0742,  24.2555,  133.3502,  4641,  249.600,   17.847,   34.818,2,   34.818,2,  187.780,1,  203.640,2,    3.480,2,    4.060,2,    0.010,2,    0.309,2,    2.336,6,    1.326,6, -999.000,9, -999.000,9, -999.000,9
           NA,    P03C,    331,   1,-999.0,     -99,  2,20060108,0742,  24.2555,  133.3502,  4641,  300.400,   16.791,   34.748,2,   34.747,2,  188.140,1,  203.950,2,    4.960,2,    5.610,2,    0.000,2,    0.405,2,    2.422,2,    1.364,2, -999.000,9, -999.000,9, -999.000,9
           NA,    P03C,    331,   1,-999.0,     -99,  2,20060108,0742,  24.2555,  133.3502,  4641,  399.400,   14.360,   34.545,2,   34.540,2,  177.020,1,  191.230,2,   11.290,2,   10.490,2,    0.000,2,    0.758,2,    2.502,2,    1.349,2, -999.000,9, -999.000,9, -999.000,9
           NA,    P03C,    331,   1,-999.0,     -99,  2,20060108,0742,  24.2555,  133.3502,  4641,  500.700,   12.137,   34.378,2,   34.371,6,  162.910,1,  175.560,2,   18.960,2,   15.560,2,    0.000,2,    1.130,2,    2.468,2,    1.279,2, -999.000,9, -999.000,9, -999.000,9
           NA,    P03C,    331,   1,-999.0,     -99,  2,20060108,0742,  24.2555,  133.3502,  4641,  599.400,    9.554,   34.226,2,   34.222,2,  145.130,1,  155.840,2,   34.050,2,   21.940,2,    0.000,2,    1.595,2,    2.163,2,    1.062,2, -999.000,9, -999.000,9, -999.000,9
           NA,    P03C,    331,   1,-999.0,     -99,  2,20060108,0742,  24.2555,  133.3502,  4641,  700.200,    7.296,   34.127,2,   34.127,2,  124.000,1,  132.720,2,   53.330,2,   27.960,2,    0.000,2,    2.038,2,    1.806,2,    0.872,2, -999.000,9, -999.000,9, -999.000,9
           NA,    P03C,    331,   1,-999.0,     -99,  2,20060108,0742,  24.2555,  133.3502,  4641,  800.500,    5.471,   34.149,2,   34.152,2,   82.730,1,   88.560,2,   80.200,2,   35.140,2,    0.000,2,    2.561,2,    1.006,6,    0.486,6, -999.000,9, -999.000,9, -999.000,9
           NA,    P03C,    331,   1,-999.0,     -99,  2,20060108,0742,  24.2555,  133.3502,  4641,  899.300,    4.656,   34.238,2,   34.238,2,   61.920,1,   66.790,2,   97.690,2,   38.260,2,    0.000,2,    2.781,2,    0.552,2,    0.262,2, -999.000,9, -999.000,9, -999.000,9
           NA,    P03C,    331,   1,-999.0,     -99,  2,20060108,0742,  24.2555,  133.3502,  4641, 1000.200,    4.082,   34.323,2,   34.323,6,   52.980,1,   57.130,2,  110.900,2,   40.050,2,    0.000,2,    2.905,2,    0.278,2,    0.125,2, -999.000,9, -999.000,9, -999.000,9
           NA,    P03C,    331,   1,-999.0,     -99,  2,20060108,0742,  24.2555,  133.3502,  4641, 1201.300,    3.353,   34.414,2,   34.414,2,   52.050,1,   56.100,2,  127.790,2,   41.090,2,    0.000,2,    2.966,2,    0.122,2,    0.051,2, -999.000,9, -999.000,9, -999.000,9
           NA,    P03C,    331,   1,-999.0,     -99,  2,20060108,0742,  24.2555,  133.3502,  4641, 1401.200,    2.853,   34.491,2,   34.491,2,   63.800,1,   69.050,2,  136.690,2,   40.740,2,    0.000,2,    2.920,2,    0.053,2,    0.020,2, -999.000,9, -999.000,9, -999.000,9
           NA,    P03C,    331,   1,-999.0,     -99,  2,20060108,0742,  24.2555,  133.3502,  4641, 1600.000,    2.451,   34.542,2,   34.543,2,   75.000,1,   81.490,2,  143.090,2,   40.180,2,    0.000,2,    2.872,2,    0.029,2,    0.008,2, -999.000,9, -999.000,9, -999.000,9
           NA,    P03C,    331,   1,-999.0,     -99,  2,20060108,0742,  24.2555,  133.3502,  4641, 1799.900,    2.195,   34.582,2,   34.582,6,   90.100,1,   98.080,2,  144.060,2,   39.170,2,    0.000,2,    2.796,2,    0.012,2,    0.003,2, -999.000,9, -999.000,9, -999.000,9
           NA,    P03C,    331,   1,-999.0,     -99,  2,20060108,0742,  24.2555,  133.3502,  4641, 2000.000,    2.014,   34.608,2,   34.608,2,  101.250,1,  110.510,2,  144.210,2,   38.500,2,    0.000,2,    2.742,2,    0.003,2,    0.002,2, -999.000,9, -999.000,9, -999.000,9
           NA,    P03C,    331,   1,-999.0,     -99,  2,20060108,0742,  24.2555,  133.3502,  4641, 2201.300,    1.855,   34.631,2,   34.631,2,  112.130,1,  122.070,2,  143.770,2,   37.870,2,    0.000,2,    2.681,2,    0.003,2,    0.000,2, -999.000,9, -999.000,9, -999.000,9
           NA,    P03C,    331,   1,-999.0,     -99,  2,20060108,0742,  24.2555,  133.3502,  4641, 2400.200,    1.756,   34.644,2,   34.644,2,  118.400,1,  129.110,2,  143.690,2,   37.430,2,    0.000,2,    2.647,2,    0.003,2,    0.000,2, -999.000,9, -999.000,9, -999.000,9
           NA,    P03C,    331,   1,-999.0,     -99,  2,20060108,0742,  24.2555,  133.3502,  4641, 2601.700,    1.696,   34.652,2,   34.653,6,  122.860,1,  134.210,2,  143.700,2,   37.100,2,    0.000,2,    2.619,2, -999.000,9, -999.000,9, -999.000,9, -999.000,9, -999.000,9
           NA,    P03C,    331,   1,-999.0,     -99,  2,20060108,0742,  24.2555,  133.3502,  4641, 2801.000,    1.646,   34.660,2,   34.660,2,  126.980,1,  138.430,2,  143.480,2,   36.840,2,    0.000,2,    2.601,2, -999.000,9, -999.000,9, -999.000,9, -999.000,9, -999.000,9
           NA,    P03C,    331,   1,-999.0,     -99,  2,20060108,0742,  24.2555,  133.3502,  4641, 3001.700,    1.596,   34.667,2,   34.667,2,  131.220,1,  143.200,2,  143.190,2,   36.580,2,    0.000,2,    2.584,2,    0.000,2,    0.002,2, -999.000,9, -999.000,9, -999.000,9
           NA,    P03C,    331,   1,-999.0,     -99,  2,20060108,0742,  24.2555,  133.3502,  4641, 3251.400,    1.561,   34.673,2,   34.673,2,  134.960,1,  146.540,2,  142.750,2,   36.330,2,    0.000,2,    2.549,2, -999.000,9, -999.000,9, -999.000,9, -999.000,9, -999.000,9
           NA,    P03C,    331,   1,-999.0,     -99,  2,20060108,0742,  24.2555,  133.3502,  4641, 3501.100,    1.557,   34.676,2,   34.676,6,  137.240,1,  148.630,2,  142.450,2,   36.270,2,    0.000,2,    2.545,2, -999.000,9, -999.000,9, -999.000,9, -999.000,9, -999.000,9
           NA,    P03C,    331,   1,-999.0,     -99,  2,20060108,0742,  24.2555,  133.3502,  4641, 3751.500,    1.550,   34.679,2,   34.679,2,  139.880,1,  151.160,2,  142.270,2,   36.050,2,    0.000,2,    2.532,2,    0.000,2,    0.000,2, -999.000,9, -999.000,9, -999.000,9
           NA,    P03C,    331,   1,-999.0,     -99,  2,20060108,0742,  24.2555,  133.3502,  4641, 4001.900,    1.558,   34.681,2,   34.681,2,  141.780,1,  152.640,2,  141.990,2,   35.890,2,    0.000,2,    2.527,2, -999.000,9, -999.000,9, -999.000,9, -999.000,9, -999.000,9
           NA,    P03C,    331,   1,-999.0,     -99,  2,20060108,0742,  24.2555,  133.3502,  4641, 4250.400,    1.570,   34.682,2,   34.682,2,  143.450,1,  153.810,2,  141.970,2,   35.850,2,    0.000,2,    2.522,2, -999.000,9, -999.000,9, -999.000,9, -999.000,9, -999.000,9
           NA,    P03C,    331,   1,-999.0,     -99,  2,20060108,0742,  24.2555,  133.3502,  4641, 4499.400,    1.589,   34.683,2,   34.683,2,  144.990,1,  154.730,2,  141.550,2,   35.850,2,    0.000,2,    2.510,2,    0.000,2,    0.002,2, -999.000,9, -999.000,9, -999.000,9
           NA,    P03C,    331,   1,-999.0,     -99,  2,20060108,0742,  24.2555,  133.3502,  4641, 4708.300,    1.608,   34.684,2,   34.684,6,  146.440,1,  155.440,2,  141.460,2,   35.790,2,    0.000,2,    2.513,2,    0.001,2,    0.002,2, -999.000,9, -999.000,9, -999.000,9