BOTTLE,20211903JOAExport
EXPOCODE,SECT_ID,STNNBR,CASTNO,SAMPNO,BTLNBR,BTLNBR_FLAG_W,DATE,TIME,LATITUDE,LONGITUDE,DEPTH,CTDPRS,CTDTMP,CTDSAL,CTDSAL_FLAG_W,SALNTY,SALNTY_FLAG_W,CTDOXY,CTDOXY_FLAG_W,OXYGEN,OXYGEN_FLAG_W,SILCAT,SILCAT_FLAG_W,NITRAT,NITRAT_FLAG_W,NITRIT,NITRIT_FLAG_W,PHSPHT,PHSPHT_FLAG_W,CFC-11,CFC-11_FLAG_W,CFC-12,CFC-12_FLAG_W,SF6,SF6_FLAG_W,TCARBN,TCARBN_FLAG_W,ALKALI,ALKALI_FLAG_W
,,,,,,,,,,,,DB,ITS-90,PSS-78,,PSS-78,,UMOL/KG,,UMOL/KG,,UMOL/KG,,UMOL/KG,,UMOL/KG,,UMOL/KG,,PMOL/KG,,PMOL/KG,,FMOL/KG,,UMOL/KG,,UMOL/KG
           NA,    P03E,     66,   1,-999.0,     -99,  2,20051109,0454,  24.2347, -137.2307,  4827,   10.300,   22.176,   35.231,2,   35.230,2,  209.260,1,  220.420,2,    1.340,2,    0.030,2,    0.000,2,    0.090,2,    1.900,2,    1.170,2, -999.000,9, -999.000,9, -999.000,9
           NA,    P03E,     66,   1,-999.0,     -99,  2,20051109,0454,  24.2347, -137.2307,  4827,   51.200,   22.189,   35.231,2,   35.231,2,  208.980,1,  220.350,2,    1.360,2,    0.020,2,    0.000,2,    0.089,2, -999.000,9, -999.000,9, -999.000,9, -999.000,9, -999.000,9
           NA,    P03E,     66,   1,-999.0,     -99,  2,20051109,0454,  24.2347, -137.2307,  4827,  100.700,   20.649,   35.044,2,   35.040,2,  221.780,1,  233.020,2,    1.590,2,    0.020,2,    0.000,2,    0.073,2,    2.126,2,    1.284,2, -999.000,9, -999.000,9, -999.000,9
           NA,    P03E,     66,   1,-999.0,     -99,  2,20051109,0454,  24.2347, -137.2307,  4827,  150.500,   18.344,   34.751,2,   34.770,2,  205.170,1,  216.100,2,    2.230,2,    0.610,2,    0.130,2,    0.179,2, -999.000,9, -999.000,9, -999.000,9, -999.000,9, -999.000,9
           NA,    P03E,     66,   1,-999.0,     -99,  2,20051109,0454,  24.2347, -137.2307,  4827,  199.700,   14.577,   34.310,2,   34.310,2,  198.200,1,  208.220,2,    5.390,2,    5.700,2,    0.010,2,    0.500,2,    2.795,2,    1.543,2, -999.000,9, -999.000,9, -999.000,9
           NA,    P03E,     66,   1,-999.0,     -99,  2,20051109,0454,  24.2347, -137.2307,  4827,  251.200,   11.937,   34.142,2,   34.141,2,  205.070,1,  215.040,2,   10.150,2,   10.510,2,    0.010,2,    0.798,2, -999.000,9, -999.000,9, -999.000,9, -999.000,9, -999.000,9
           NA,    P03E,     66,   1,-999.0,     -99,  2,20051109,0454,  24.2347, -137.2307,  4827,  303.000,   10.441,   34.081,2,   34.086,2,  198.710,1,  208.620,2,   15.310,2,   14.350,2,    0.000,2,    1.052,2,    3.235,2,    1.693,2, -999.000,9, -999.000,9, -999.000,9
           NA,    P03E,     66,   1,-999.0,     -99,  2,20051109,0454,  24.2347, -137.2307,  4827,  399.500,    8.239,   34.052,2,   34.052,2,  151.630,1,  159.230,2,   33.470,2,   24.100,2,    0.000,2,    1.725,2,    2.771,2,    1.366,2, -999.000,9, -999.000,9, -999.000,9
           NA,    P03E,     66,   1,-999.0,     -99,  2,20051109,0454,  24.2347, -137.2307,  4827,  501.300,    6.168,   34.021,2,   34.021,6,   93.350,1,   97.930,2,   58.350,2,   33.600,2,    0.000,2,    2.438,2,    1.475,2,    0.682,2, -999.000,9, -999.000,9, -999.000,9
           NA,    P03E,     66,   1,-999.0,     -99,  2,20051109,0454,  24.2347, -137.2307,  4827,  600.600,    5.004,   34.114,2,   34.115,2,   41.400,1,   43.520,2,   84.490,2,   40.120,2,    0.000,2,    2.945,2,    0.386,2,    0.173,2, -999.000,9, -999.000,9, -999.000,9
           NA,    P03E,     66,   1,-999.0,     -99,  2,20051109,0454,  24.2347, -137.2307,  4827,  699.300,    4.570,   34.270,2,   34.268,2,   16.450,1,   17.390,2,   99.880,2,   42.710,2,    0.000,2,    3.181,2,    0.044,2,    0.019,2, -999.000,9, -999.000,9, -999.000,9
           NA,    P03E,     66,   1,-999.0,     -99,  2,20051109,0454,  24.2347, -137.2307,  4827,  800.700,    4.313,   34.387,2,   34.386,2,   20.100,1,   21.280,2,  106.970,2,   43.190,2,    0.000,2,    3.194,2,    0.013,2,    0.004,2, -999.000,9, -999.000,9, -999.000,9
           NA,    P03E,     66,   1,-999.0,     -99,  2,20051109,0454,  24.2347, -137.2307,  4827,  899.500,    4.221,   34.461,2,   34.461,2,   27.060,1,   28.560,2,  108.110,2,   43.180,2,    0.000,2,    3.178,2,    0.003,2,    0.001,2, -999.000,9, -999.000,9, -999.000,9
           NA,    P03E,     66,   1,-999.0,     -99,  2,20051109,0454,  24.2347, -137.2307,  4827, 1000.700,    3.973,   34.492,2,   34.492,6,   33.610,1,   35.280,2,  113.360,2,   43.090,2,    0.000,2,    3.158,2,    0.000,2,    0.000,2, -999.000,9, -999.000,9, -999.000,9
           NA,    P03E,     66,   1,-999.0,     -99,  2,20051109,0454,  24.2347, -137.2307,  4827, 1200.900,    3.420,   34.534,2,   34.533,2,   41.460,1,   43.800,2,  126.260,2,   43.030,2,    0.000,2,    3.138,2,    0.004,2,    0.000,2, -999.000,9, -999.000,9, -999.000,9
           NA,    P03E,     66,   1,-999.0,     -99,  2,20051109,0454,  24.2347, -137.2307,  4827, 1400.100,    3.020,   34.562,2,   34.562,2,   48.740,1,   51.420,2,  136.170,2,   42.590,2,    0.000,2,    3.108,2,    0.000,2,    0.004,2, -999.000,9, -999.000,9, -999.000,9
           NA,    P03E,     66,   1,-999.0,     -99,  2,20051109,0454,  24.2347, -137.2307,  4827, 1600.500,    2.658,   34.587,2,   34.587,2,   58.500,1, -999.000,5,  144.780,2,   42.150,2,    0.000,2,    3.047,2,    0.003,2,    0.001,2, -999.000,9, -999.000,9, -999.000,9
           NA,    P03E,     66,   1,-999.0,     -99,  2,20051109,0454,  24.2347, -137.2307,  4827, 1800.200,    2.346,   34.609,2,   34.608,2,   69.710,1,   73.740,2,  152.000,2,   41.490,2,    0.000,2,    2.975,2,    0.000,2,    0.000,2, -999.000,9, -999.000,9, -999.000,9
           NA,    P03E,     66,   1,-999.0,     -99,  2,20051109,0454,  24.2347, -137.2307,  4827, 2001.200,    2.104,   34.625,2,   34.625,6,   80.320,1,   84.930,2,  156.670,2,   40.660,2,    0.000,2,    2.908,2,    0.002,2,    0.000,2, -999.000,9, -999.000,9, -999.000,9
           NA,    P03E,     66,   1,-999.0,     -99,  2,20051109,0454,  24.2347, -137.2307,  4827, 2199.400,    1.929,   34.639,2,   34.638,2,   88.420,1,   93.770,2,  160.890,2,   40.050,2,    0.000,2,    2.851,2, -999.000,9, -999.000,9, -999.000,9, -999.000,9, -999.000,9
           NA,    P03E,     66,   1,-999.0,     -99,  2,20051109,0454,  24.2347, -137.2307,  4827, 2400.400,    1.781,   34.649,2,   34.649,2,   96.390,1,  102.280,2,  163.740,2,   39.600,2,    0.000,2,    2.807,2, -999.000,9, -999.000,9, -999.000,9, -999.000,9, -999.000,9
           NA,    P03E,     66,   1,-999.0,     -99,  2,20051109,0454,  24.2347, -137.2307,  4827, 2600.500,    1.677,   34.657,2,   34.657,2,  102.980,1,  109.380,2,  166.140,2,   39.130,2,    0.000,2,    2.765,2, -999.000,9, -999.000,9, -999.000,9, -999.000,9, -999.000,9
           NA,    P03E,     66,   1,-999.0,     -99,  2,20051109,0454,  24.2347, -137.2307,  4827, 2800.100,    1.609,   34.663,2,   34.663,2,  108.990,1,  115.500,2,  166.780,2,   38.720,2,    0.000,2,    2.728,2, -999.000,9, -999.000,9, -999.000,9, -999.000,9, -999.000,9
           NA,    P03E,     66,   1,-999.0,     -99,  2,20051109,0454,  24.2347, -137.2307,  4827, 3002.500,    1.545,   34.671,2,   34.671,6,  116.640,1,  123.930,2,  165.800,2,   38.120,2,    0.000,2,    2.680,2, -999.000,9, -999.000,9, -999.000,9, -999.000,9, -999.000,9
           NA,    P03E,     66,   1,-999.0,     -99,  2,20051109,0454,  24.2347, -137.2307,  4827, 3250.600,    1.507,   34.676,2,   34.676,2,  123.290,1,  130.970,2,  164.480,2,   37.700,2,    0.000,2,    2.637,2, -999.000,9, -999.000,9, -999.000,9, -999.000,9, -999.000,9
           NA,    P03E,     66,   1,-999.0,     -99,  2,20051109,0454,  24.2347, -137.2307,  4827, 3500.800,    1.487,   34.680,2,   34.680,2,  128.690,1,  136.180,2,  162.500,2,   37.430,2,    0.000,2,    2.612,2, -999.000,9, -999.000,9, -999.000,9, -999.000,9, -999.000,9
           NA,    P03E,     66,   1,-999.0,     -99,  2,20051109,0454,  24.2347, -137.2307,  4827, 3749.400,    1.475,   34.684,2,   34.683,2,  134.130,1,  141.730,2,  160.150,2,   37.070,2,    0.000,2,    2.586,2, -999.000,9, -999.000,9, -999.000,9, -999.000,9, -999.000,9
           NA,    P03E,     66,   1,-999.0,     -99,  2,20051109,0454,  24.2347, -137.2307,  4827, 3999.500,    1.476,   34.686,2,   34.686,6,  138.380,1,  145.810,2,  158.070,2,   36.780,2,    0.000,2,    2.564,2, -999.000,9, -999.000,9, -999.000,9, -999.000,9, -999.000,9
           NA,    P03E,     66,   1,-999.0,     -99,  2,20051109,0454,  24.2347, -137.2307,  4827, 4250.400,    1.484,   34.688,2,   34.688,2,  142.120,1,  149.380,2,  155.660,2,   36.600,2,    0.000,2,    2.544,2, -999.000,9, -999.000,9, -999.000,9, -999.000,9, -999.000,9
           NA,    P03E,     66,   1,-999.0,     -99,  2,20051109,0454,  24.2347, -137.2307,  4827, 4500.700,    1.486,   34.690,2,   34.690,2,  147.060,1,  153.750,2,  151.380,2,   36.330,2,    0.000,2,    2.518,2, -999.000,9, -999.000,9, -999.000,9, -999.000,9, -999.000,9
           NA,    P03E,     66,   1,-999.0,     -99,  2,20051109,0454,  24.2347, -137.2307,  4827, 4751.000,    1.475,   34.693,2,   34.693,2,  154.050,1,  160.340,2,  146.920,2,   35.740,2,    0.000,2,    2.483,2, -999.000,9, -999.000,9, -999.000,9, -999.000,9, -999.000,9
           NA,    P03E,     66,   1,-999.0,     -99,  2,20051109,0454,  24.2347, -137.2307,  4827, 4902.200,    1.478,   34.694,2,   34.694,6,  157.240,1,  162.740,2,  144.830,2,   35.540,2,    0.000,2,    2.465,2, -999.000,9, -999.000,9, -999.000,9, -999.000,9, -999.000,9
           NA,    P03E,     66,   1,-999.0,     -99,  2,20051109,0454,  24.2347, -137.2307,  4827, 4902.600,    1.479,   34.694,2,   34.694,2,  157.250,1,  162.850,2,  145.110,2,   35.580,2,    0.000,2,    2.471,2, -999.000,9, -999.000,9, -999.000,9, -999.000,9, -999.000,9
           NA,    P03E,     64,   1,-999.0,     -99,  2,20051108,2229,  24.2457, -136.4562,  4292,   10.600,   22.554,   35.159,2,   35.158,2,  207.560,1,  218.640,2,    1.300,2,    0.050,2,    0.000,2,    0.109,2,    1.855,2,    1.141,2, -999.000,9, 2012.700,2, 2318.600,2
           NA,    P03E,     64,   1,-999.0,     -99,  2,20051108,2229,  24.2457, -136.4562,  4292,   49.400,   22.562,   35.159,2,   35.161,2,  207.390,1,  218.640,2,    1.280,2,    0.050,2,    0.000,2,    0.111,2, -999.000,5, -999.000,5, -999.000,9, 2012.900,6, 2317.400,2
           NA,    P03E,     64,   1,-999.0,     -99,  2,20051108,2229,  24.2457, -136.4562,  4292,  102.100,   20.872,   35.119,2,   35.115,2,  220.030,1,  231.660,2,    1.580,2,    0.040,2,    0.000,2,    0.062,2,    2.143,2,    1.269,2, -999.000,9, 2014.400,2, 2305.300,6
           NA,    P03E,     64,   1,-999.0,     -99,  2,20051108,2229,  24.2457, -136.4562,  4292,  150.400,   18.913,   34.849,2,   34.849,2,  206.150,1,  216.800,2,    2.100,2,    0.270,2,    0.170,2,    0.145,2,    2.267,2,    1.302,2, -999.000,9, 2030.200,2, 2287.200,2
           NA,    P03E,     64,   1,-999.0,     -99,  2,20051108,2229,  24.2457, -136.4562,  4292,  202.600,   14.914,   34.251,2,   34.247,2,  199.130,1,  208.640,2,    4.820,2,    4.870,2,    0.010,2,    0.478,2,    2.791,2,    1.531,2, -999.000,9, 2047.400,2, 2247.600,2
           NA,    P03E,     64,   1,-999.0,     -99,  2,20051108,2229,  24.2457, -136.4562,  4292,  250.300,   11.444,   33.960,2,   33.963,2,  198.070,1,  207.540,2,   10.920,2,   11.290,2,    0.010,2,    0.909,2,    3.232,6,    1.675,6, -999.000,9, 2076.800,2, 2239.800,2
           NA,    P03E,     64,   1,-999.0,     -99,  2,20051108,2229,  24.2457, -136.4562,  4292,  302.800,    9.866,   34.036,2,   34.035,2,  192.180,1,  201.070,2,   18.030,2,   16.150,2,    0.010,2,    1.198,2,    3.330,2,    1.675,2, -999.000,9, 2107.100,2, 2249.400,2
           NA,    P03E,     64,   1,-999.0,     -99,  2,20051108,2229,  24.2457, -136.4562,  4292,  403.100,    7.932,   34.043,2,   34.045,2,  138.700,1,  145.570,2,   36.750,2,   25.820,2,    0.000,2,    1.866,2,    2.618,2,    1.208,2, -999.000,9, 2177.300,2, 2263.200,2
           NA,    P03E,     64,   1,-999.0,     -99,  2,20051108,2229,  24.2457, -136.4562,  4292,  500.500,    6.118,   34.035,2,   34.036,6,   83.040,1,   86.830,2,   60.550,2,   34.500,2,    0.000,2,    2.514,2,    1.328,2,    0.604,2, -999.000,9, 2247.100,2, 2285.200,2
           NA,    P03E,     64,   1,-999.0,     -99,  2,20051108,2229,  24.2457, -136.4562,  4292,  601.900,    5.235,   34.159,2,   34.157,2,   32.140,1,   33.760,2,   82.240,2,   40.260,2,    0.000,2,    2.987,2,    0.275,2,    0.117,2, -999.000,9, 2305.000,2, 2309.600,2
           NA,    P03E,     64,   1,-999.0,     -99,  2,20051108,2229,  24.2457, -136.4562,  4292,  701.300,    4.888,   34.329,2,   34.329,2,   15.450,1,   16.160,2,   94.610,2,   42.350,2,    0.000,2,    3.167,2,    0.030,2,    0.009,2, -999.000,9, 2332.800,6, 2336.600,2
           NA,    P03E,     64,   1,-999.0,     -99,  2,20051108,2229,  24.2457, -136.4562,  4292,  801.000,    4.664,   34.413,2,   34.413,2,   19.320,1,   20.240,2,   99.080,2,   42.780,2,    0.000,2,    3.178,2,    0.005,6,    0.002,6, -999.000,9, 2339.200,2, 2345.700,6
           NA,    P03E,     64,   1,-999.0,     -99,  2,20051108,2229,  24.2457, -136.4562,  4292,  902.900,    4.371,   34.466,2,   34.467,2,   25.260,1,   26.580,2,  104.640,2,   43.070,2,    0.000,2,    3.173,2,    0.000,2,    0.000,2, -999.000,9, 2344.600,2, 2360.100,2
           NA,    P03E,     64,   1,-999.0,     -99,  2,20051108,2229,  24.2457, -136.4562,  4292, 1001.300,    4.098,   34.495,2,   34.495,6,   30.020,1,   31.380,2,  110.340,2,   43.110,2,    0.000,2,    3.170,2,    0.000,2,    0.001,2, -999.000,9, 2348.300,2, -999.000,3
           NA,    P03E,     64,   1,-999.0,     -99,  2,20051108,2229,  24.2457, -136.4562,  4292, 1199.400,    3.531,   34.534,2,   34.534,2,   38.390,1,   40.310,2,  123.420,2,   43.020,2,    0.000,2,    3.138,2,    0.001,2,    0.000,2, -999.000,9, 2358.800,2, 2380.500,2
           NA,    P03E,     64,   1,-999.0,     -99,  2,20051108,2229,  24.2457, -136.4562,  4292, 1401.300,    3.074,   34.563,2,   34.563,2,   46.590,1,   49.170,2,  134.470,2,   42.630,2,    0.000,2,    3.114,2,    0.000,2,    0.000,2, -999.000,9, 2362.000,2, 2394.700,2
           NA,    P03E,     64,   1,-999.0,     -99,  3,20051108,2229,  24.2457, -136.4562,  4292, 1601.600,    2.727,   34.586,2,   34.586,2,   55.640,1,   58.560,2,  142.880,2,   41.990,2,    0.000,2,    3.053,2,    0.005,2,    0.000,2, -999.000,9, 2367.700,2, 2402.700,2
           NA,    P03E,     64,   1,-999.0,     -99,  2,20051108,2229,  24.2457, -136.4562,  4292, 1803.400,    2.379,   34.609,2,   34.609,2,   68.070,1,   71.830,2,  150.440,2,   41.320,2,    0.000,2,    2.974,2,    0.000,2,    0.001,2, -999.000,9, 2367.700,2, 2409.700,2
           NA,    P03E,     64,   1,-999.0,     -99,  2,20051108,2229,  24.2457, -136.4562,  4292, 2001.300,    2.149,   34.626,2,   34.626,6,   78.400,1,   82.820,2,  155.210,2,   40.650,2,    0.000,2,    2.904,2,    0.000,2,    0.000,2, -999.000,9, 2365.900,2, 2416.500,2
           NA,    P03E,     64,   1,-999.0,     -99,  2,20051108,2229,  24.2457, -136.4562,  4292, 2200.600,    1.952,   34.640,2,   34.640,2,   88.310,1,   93.300,2,  158.840,2,   39.910,2,    0.000,2,    2.849,2, -999.000,9, -999.000,9, -999.000,9, 2362.700,2, 2417.000,2
           NA,    P03E,     64,   1,-999.0,     -99,  2,20051108,2229,  24.2457, -136.4562,  4292, 2399.700,    1.791,   34.650,2,   34.650,2,   96.880,1,  102.590,2,  162.580,2,   39.420,2,    0.000,2,    2.798,2, -999.000,9, -999.000,9, -999.000,9, 2360.200,6, 2425.600,2
           NA,    P03E,     64,   1,-999.0,     -99,  2,20051108,2229,  24.2457, -136.4562,  4292, 2600.500,    1.675,   34.657,2,   34.657,2,  103.390,1,  109.560,2,  165.430,2,   38.970,2,    0.000,2,    2.754,2, -999.000,5, -999.000,5, -999.000,9, 2357.100,2, 2422.700,6
           NA,    P03E,     64,   1,-999.0,     -99,  2,20051108,2229,  24.2457, -136.4562,  4292, 2800.400,    1.596,   34.665,2,   34.665,2,  110.890,1,  117.480,2,  165.540,2,   38.450,2,    0.000,2,    2.719,2, -999.000,9, -999.000,9, -999.000,9, 2353.600,2, 2426.200,2
           NA,    P03E,     64,   1,-999.0,     -99,  2,20051108,2229,  24.2457, -136.4562,  4292, 3000.800,    1.552,   34.670,2,   34.670,6,  116.510,1,  122.960,2,  164.910,2,   38.060,2,    0.000,2,    2.681,2, -999.000,9, -999.000,9, -999.000,9, 2349.300,2, 2425.400,2
           NA,    P03E,     64,   1,-999.0,     -99,  2,20051108,2229,  24.2457, -136.4562,  4292, 3250.600,    1.503,   34.677,2,   34.676,2,  124.350,1,  131.150,2,  163.410,2,   37.650,2,    0.000,2,    2.633,2, -999.000,9, -999.000,9, -999.000,9, 2344.800,2, 2427.200,2
           NA,    P03E,     64,   1,-999.0,     -99,  2,20051108,2229,  24.2457, -136.4562,  4292, 3501.300,    1.484,   34.681,2,   34.681,2,  130.010,1, -999.000,5,  161.590,2,   37.140,2,    0.000,2,    2.605,2,    0.002,2,    0.003,2, -999.000,9, 2340.400,2, 2426.700,2
           NA,    P03E,     64,   1,-999.0,     -99,  2,20051108,2229,  24.2457, -136.4562,  4292, 3751.800,    1.481,   34.683,2,   34.684,2,  134.450,1,  141.210,2,  159.630,2,   36.960,2,    0.000,2,    2.588,2, -999.000,9, -999.000,9, -999.000,9, 2337.200,2, 2421.900,2
           NA,    P03E,     64,   1,-999.0,     -99,  2,20051108,2229,  24.2457, -136.4562,  4292, 4001.600,    1.478,   34.686,2,   34.686,6,  139.100,1,  145.550,2,  156.740,2,   36.580,2,    0.000,2,    2.555,2, -999.000,9, -999.000,9, -999.000,9, 2333.500,2, 2420.300,2
           NA,    P03E,     64,   1,-999.0,     -99,  2,20051108,2229,  24.2457, -136.4562,  4292, 4250.400,    1.482,   34.688,2,   34.688,2,  143.520,1,  149.660,2,  154.300,2,   36.330,2,    0.000,2,    2.543,2, -999.000,9, -999.000,9, -999.000,9, 2329.200,6, 2425.600,2
           NA,    P03E,     64,   1,-999.0,     -99,  2,20051108,2229,  24.2457, -136.4562,  4292, 4436.100,    1.484,   34.689,2,   34.689,6,  147.310,1,  153.040,2,  151.790,2,   36.110,2,    0.000,2,    2.521,2,    0.003,2,    0.001,2, -999.000,9, 2326.000,2, 2420.900,2
           NA,    P03E,     64,   1,-999.0,     -99,  2,20051108,2229,  24.2457, -136.4562,  4292, 4436.600,    1.484,   34.689,2,   34.689,2,  147.300,1,  153.200,2,  151.630,2,   36.040,2,    0.000,2,    2.519,2, -999.000,9, -999.000,9, -999.000,9, 2325.700,2, 2420.000,2