BOTTLE,20211903JOAExport
EXPOCODE,SECT_ID,STNNBR,CASTNO,SAMPNO,BTLNBR,BTLNBR_FLAG_W,DATE,TIME,LATITUDE,LONGITUDE,DEPTH,CTDPRS,CTDTMP,CTDSAL,CTDSAL_FLAG_W,SALNTY,SALNTY_FLAG_W,CTDOXY,CTDOXY_FLAG_W,OXYGEN,OXYGEN_FLAG_W,SILCAT,SILCAT_FLAG_W,NITRAT,NITRAT_FLAG_W,NITRIT,NITRIT_FLAG_W,PHSPHT,PHSPHT_FLAG_W,CFC-11,CFC-11_FLAG_W,CFC-12,CFC-12_FLAG_W,SF6,SF6_FLAG_W,TCARBN,TCARBN_FLAG_W,ALKALI,ALKALI_FLAG_W
,,,,,,,,,,,,DB,ITS-90,PSS-78,,PSS-78,,UMOL/KG,,UMOL/KG,,UMOL/KG,,UMOL/KG,,UMOL/KG,,UMOL/KG,,PMOL/KG,,PMOL/KG,,FMOL/KG,,UMOL/KG,,UMOL/KG
           NA,    P03E,     33,   1,-999.0,     -99,  2,20051104,0751,  28.5845, -124.5222,  4332,    9.900,   20.028,   33.609,2,   33.609,2,  221.280,1,  230.670,2,    1.890,2,    0.040,2,    0.000,2,    0.274,2,    2.130,2,    1.285,2, -999.000,9, -999.000,9, -999.000,9
           NA,    P03E,     33,   1,-999.0,     -99,  2,20051104,0751,  28.5845, -124.5222,  4332,   50.900,   20.054,   33.618,2,   33.630,2,  221.130,1,  230.800,2,    1.850,2,    0.030,2,    0.000,2,    0.270,2,    2.136,2,    1.291,2, -999.000,9, -999.000,9, -999.000,9
           NA,    P03E,     33,   1,-999.0,     -99,  2,20051104,0751,  28.5845, -124.5222,  4332,  100.600,   16.697,   33.662,2,   33.669,2,  238.260,1,  247.180,2,    2.040,2,    0.030,2,    0.010,2,    0.258,2,    2.597,2,    1.520,2, -999.000,9, -999.000,9, -999.000,9
           NA,    P03E,     33,   1,-999.0,     -99,  2,20051104,0751,  28.5845, -124.5222,  4332,  150.500,   12.316,   33.370,2,   33.370,2,  208.180,1,  214.690,2,    6.990,2,    7.740,2,    0.020,2,    0.826,2,    3.117,2,    1.729,2, -999.000,9, -999.000,9, -999.000,9
           NA,    P03E,     33,   1,-999.0,     -99,  2,20051104,0751,  28.5845, -124.5222,  4332,  200.400,    9.814,   33.617,2,   33.622,2,  176.000,1,  181.260,2,   17.190,2,   17.690,2,    0.010,2,    1.408,2,    3.269,2,    1.751,2, -999.000,9, -999.000,9, -999.000,9
           NA,    P03E,     33,   1,-999.0,     -99,  2,20051104,0751,  28.5845, -124.5222,  4332,  250.000,    8.944,   33.940,2,   33.943,2,  139.760,1,  144.780,2,   27.260,2,   23.590,2,    0.010,2,    1.774,2,    2.927,6,    1.498,6, -999.000,9, -999.000,9, -999.000,9
           NA,    P03E,     33,   1,-999.0,     -99,  2,20051104,0751,  28.5845, -124.5222,  4332,  300.300,    8.260,   34.065,2,   34.064,2,  105.810,1,  109.500,2,   37.220,2,   28.300,2,    0.000,2,    2.113,2,    2.349,2,    1.139,2, -999.000,9, -999.000,9, -999.000,9
           NA,    P03E,     33,   1,-999.0,     -99,  2,20051104,0751,  28.5845, -124.5222,  4332,  402.200,    6.978,   34.125,2,   34.125,2,   60.410,1,   62.250,2,   54.710,2,   34.350,2,    0.010,2,    2.614,2,    1.185,2,    0.552,2, -999.000,9, -999.000,9, -999.000,9
           NA,    P03E,     33,   1,-999.0,     -99,  2,20051104,0751,  28.5845, -124.5222,  4332,  500.300,    6.034,   34.170,2,   34.178,6,   35.150,1,   34.300,2,   70.800,2,   38.320,2,    0.000,2,    2.919,2,    0.479,2,    0.228,2, -999.000,9, -999.000,9, -999.000,9
           NA,    P03E,     33,   1,-999.0,     -99,  2,20051104,0751,  28.5845, -124.5222,  4332,  600.900,    5.444,   34.271,2,   34.272,2,   15.850,1,   16.060,2,   84.640,2,   40.910,2,    0.000,2,    3.132,2,    0.138,2,    0.050,2, -999.000,9, -999.000,9, -999.000,9
           NA,    P03E,     33,   1,-999.0,     -99,  2,20051104,0751,  28.5845, -124.5222,  4332,  701.700,    4.849,   34.329,2,   34.330,2,   12.820,1,   12.960,2,   96.690,2,   42.590,2,    0.000,2,    3.210,2,    0.059,2,    0.012,2, -999.000,9, -999.000,9, -999.000,9
           NA,    P03E,     33,   1,-999.0,     -99,  2,20051104,0751,  28.5845, -124.5222,  4332,  800.500,    4.499,   34.397,2,   34.398,2,   14.950,1,   15.400,2,  104.220,2,   43.120,2,    0.000,2,    3.232,2,    0.007,2,    0.004,6, -999.000,9, -999.000,9, -999.000,9
           NA,    P03E,     33,   1,-999.0,     -99,  2,20051104,0751,  28.5845, -124.5222,  4332,  899.400,    4.260,   34.438,2,   34.439,2,   18.820,1,   19.380,2,  109.520,2,   43.390,2,    0.000,2,    3.219,2,    0.002,2,    0.000,2, -999.000,9, -999.000,9, -999.000,9
           NA,    P03E,     33,   1,-999.0,     -99,  2,20051104,0751,  28.5845, -124.5222,  4332, 1000.300,    3.990,   34.476,2,   34.476,6,   24.400,1,   24.950,2,  115.030,2,   43.430,2,    0.000,2,    3.210,2,    0.013,2,    0.006,2, -999.000,9, -999.000,9, -999.000,9
           NA,    P03E,     33,   1,-999.0,     -99,  2,20051104,0751,  28.5845, -124.5222,  4332, 1201.400,    3.484,   34.521,2,   34.521,2,   35.240,1,   36.470,2,  126.730,2,   43.190,2,    0.000,2,    3.169,2,    0.000,2,    0.000,2, -999.000,9, -999.000,9, -999.000,9
           NA,    P03E,     33,   1,-999.0,     -99,  2,20051104,0751,  28.5845, -124.5222,  4332, 1402.500,    3.034,   34.558,2,   34.558,2,   42.850,1,   44.330,2,  138.640,2,   42.780,2,    0.000,2,    3.132,2,    0.005,2,    0.000,2, -999.000,9, -999.000,9, -999.000,9
           NA,    P03E,     33,   1,-999.0,     -99,  2,20051104,0751,  28.5845, -124.5222,  4332, 1600.200,    2.686,   34.581,2,   34.581,2,   53.490,1,   55.680,2,  146.890,2,   42.280,2,    0.000,2,    3.072,2,    0.000,2,    0.000,2, -999.000,9, -999.000,9, -999.000,9
           NA,    P03E,     33,   1,-999.0,     -99,  2,20051104,0751,  28.5845, -124.5222,  4332, 1801.800,    2.394,   34.604,2,   34.605,6,   64.520,1,   66.960,2,  153.600,2,   41.690,2,    0.000,2,    3.009,2,    0.000,2,    0.001,2, -999.000,9, -999.000,9, -999.000,9
           NA,    P03E,     33,   1,-999.0,     -99,  2,20051104,0751,  28.5845, -124.5222,  4332, 2001.400,    2.153,   34.625,2,   34.626,2,   76.830,1,   79.890,2,  158.040,2,   40.870,2,    0.000,2,    2.933,2,    0.000,2,    0.001,2, -999.000,9, -999.000,9, -999.000,9
           NA,    P03E,     33,   1,-999.0,     -99,  2,20051104,0751,  28.5845, -124.5222,  4332, 2203.100,    1.984,   34.640,2,   34.640,2,   87.000,1,   90.600,2,  160.560,2,   40.180,2,    0.000,2,    2.866,2, -999.000,9, -999.000,9, -999.000,9, -999.000,9, -999.000,9
           NA,    P03E,     33,   1,-999.0,     -99,  2,20051104,0751,  28.5845, -124.5222,  4332, 2400.600,    1.885,   34.650,2,   34.650,2,   94.240,1,   98.180,2,  161.740,2,   39.690,2,    0.000,2,    2.823,2, -999.000,9, -999.000,9, -999.000,9, -999.000,9, -999.000,9
           NA,    P03E,     33,   1,-999.0,     -99,  2,20051104,0751,  28.5845, -124.5222,  4332, 2600.500,    1.785,   34.658,2, -999.000,3,  101.300,1,  105.790,2,  163.210,2,   39.160,2,    0.000,2,    2.779,2,    0.000,2,    0.004,2, -999.000,9, -999.000,9, -999.000,9
           NA,    P03E,     33,   1,-999.0,     -99,  2,20051104,0751,  28.5845, -124.5222,  4332, 2801.100,    1.687,   34.662,2,   34.662,2,  106.570,1,  111.040,2,  166.540,2,   38.920,2,    0.000,2,    2.753,2, -999.000,9, -999.000,9, -999.000,9, -999.000,9, -999.000,9
           NA,    P03E,     33,   1,-999.0,     -99,  2,20051104,0751,  28.5845, -124.5222,  4332, 3000.200,    1.617,   34.667,2,   34.667,2,  112.350,1,  117.030,2,  167.700,2,   38.510,2,    0.000,2,    2.714,2,    0.001,2,    0.000,2, -999.000,9, -999.000,9, -999.000,9
           NA,    P03E,     33,   1,-999.0,     -99,  2,20051104,0751,  28.5845, -124.5222,  4332, 3501.200,    1.525,   34.677,2,   34.677,6,  124.610,1,  129.490,2,  167.970,2,   37.750,2,    0.000,2,    2.653,2, -999.000,9, -999.000,9, -999.000,9, -999.000,9, -999.000,9
           NA,    P03E,     33,   1,-999.0,     -99,  2,20051104,0751,  28.5845, -124.5222,  4332, 3751.300,    1.511,   34.681,2,   34.681,2,  129.700,1,  134.410,2,  166.700,2,   37.430,2,    0.000,2,    2.624,2, -999.000,9, -999.000,9, -999.000,9, -999.000,9, -999.000,9
           NA,    P03E,     33,   1,-999.0,     -99,  2,20051104,0751,  28.5845, -124.5222,  4332, 4000.500,    1.516,   34.683,2,   34.684,2,  133.590,1,  137.750,2,  165.460,2,   37.190,2,    0.000,2,    2.598,2,    0.002,2,    0.001,2, -999.000,9, -999.000,9, -999.000,9
           NA,    P03E,     33,   1,-999.0,     -99,  2,20051104,0751,  28.5845, -124.5222,  4332, 4249.700,    1.538,   34.684,2,   34.684,2,  135.140,1,  138.940,2,  165.200,2,   37.080,2,    0.000,2,    2.600,2, -999.000,9, -999.000,9, -999.000,9, -999.000,9, -999.000,9
           NA,    P03E,     33,   1,-999.0,     -99,  2,20051104,0751,  28.5845, -124.5222,  4332, 4413.200,    1.556,   34.684,2,   34.684,6,  136.030,1,  139.010,2,  165.200,2,   37.160,2,    0.000,2,    2.598,2,    0.006,2,    0.008,2, -999.000,9, -999.000,9, -999.000,9
           NA,    P03E,     31,   1,-999.0,     -99,  2,20051104,0143,  29.0495, -123.8892,  4391,    9.900,   19.284,   33.428,2,   33.428,2,  226.150,1,  235.050,2,    2.030,2,    0.030,2,    0.000,2,    0.288,2,    2.228,2,    1.329,2, -999.000,9, 1991.100,2, 2235.800,2
           NA,    P03E,     31,   1,-999.0,     -99,  2,20051104,0143,  29.0495, -123.8892,  4391,   50.800,   19.247,   33.423,2,   33.424,2,  226.470,1,  235.060,2,    2.000,2,    0.010,2,    0.000,2,    0.290,2,    2.243,2,    1.320,2, -999.000,9, 1991.600,6, 2234.100,2
           NA,    P03E,     31,   1,-999.0,     -99,  2,20051104,0143,  29.0495, -123.8892,  4391,  100.600,   14.075,   33.294,2,   33.298,2,  228.390,1,  235.410,2,    4.100,2,    1.660,2,    0.160,2,    0.538,2,    2.893,2,    1.646,2, -999.000,9, 2027.100,2, 2220.400,6
           NA,    P03E,     31,   1,-999.0,     -99,  2,20051104,0143,  29.0495, -123.8892,  4391,  151.500,   11.526,   33.876,2,   33.884,2,   95.500,1,   97.630,2,   22.230,2,   21.760,2,    0.010,2,    1.951,2,    2.605,2,    1.413,2, -999.000,9, 2178.400,2, 2247.900,2
           NA,    P03E,     31,   1,-999.0,     -99,  2,20051104,0143,  29.0495, -123.8892,  4391,  200.400,   11.440,   34.233,2,   34.227,2,   58.810,1,   61.220,2,   28.170,2,   24.900,2,    0.010,2,    2.267,2,    2.006,2,    1.081,2, -999.000,9, 2217.500,2, 2271.600,2
           NA,    P03E,     31,   1,-999.0,     -99,  2,20051104,0143,  29.0495, -123.8892,  4391,  250.000,   10.469,   34.284,2,   34.289,2,   58.860,1,   60.180,2,   32.200,2,   26.620,2,    0.010,2,    2.326,2,    1.751,6,    0.920,6, -999.000,9, 2226.100,2, 2279.100,2
           NA,    P03E,     31,   1,-999.0,     -99,  2,20051104,0143,  29.0495, -123.8892,  4391,  302.300,    9.621,   34.303,2,   34.304,2,   53.130,1,   54.670,2,   36.740,2,   28.320,2,    0.000,2,    2.426,2,    1.474,2,    0.765,2, -999.000,9, 2238.600,2, 2281.500,2
           NA,    P03E,     31,   1,-999.0,     -99,  2,20051104,0143,  29.0495, -123.8892,  4391,  401.400,    7.516,   34.177,2,   34.176,2,   52.350,1,   54.130,2,   51.320,2,   33.560,2,    0.010,2,    2.615,2,    1.152,2,    0.585,2, -999.000,9, 2259.500,2, 2284.900,2
           NA,    P03E,     31,   1,-999.0,     -99,  2,20051104,0143,  29.0495, -123.8892,  4391,  500.900,    6.858,   34.259,2,   34.257,6,   26.410,1,   26.990,2,   63.610,2,   36.680,2,    0.000,2,    2.913,2,    0.448,2,    0.243,2, -999.000,9, 2292.300,2, 2299.500,2
           NA,    P03E,     31,   1,-999.0,     -99,  2,20051104,0143,  29.0495, -123.8892,  4391,  601.900,    5.889,   34.316,2,   34.315,2,   12.550,1,   13.160,2,   79.570,2,   39.800,2,    0.010,2,    3.118,2,    0.116,2,    0.062,2, -999.000,9, 2318.800,2, 2319.800,2
           NA,    P03E,     31,   1,-999.0,     -99,  2,20051104,0143,  29.0495, -123.8892,  4391,  701.100,    5.470,   34.382,2,   34.381,2,    9.310,1,    9.590,2,   87.610,2,   41.420,2,    0.000,2,    3.205,2,    0.032,2,    0.012,2, -999.000,9, 2330.200,6, 2335.300,2
           NA,    P03E,     31,   1,-999.0,     -99,  2,20051104,0143,  29.0495, -123.8892,  4391,  800.900,    4.947,   34.412,2,   34.411,2,   11.250,1,   11.530,2,   97.040,2,   42.570,2,    0.000,2,    3.236,2,    0.018,6,    0.011,6, -999.000,9, 2342.800,2, 2346.200,6
           NA,    P03E,     31,   1,-999.0,     -99,  2,20051104,0143,  29.0495, -123.8892,  4391,  901.600,    4.579,   34.448,2,   34.447,2,   15.050,1,   15.260,2,  104.020,2,   43.080,2,    0.000,2,    3.240,2,    0.011,2,    0.004,2, -999.000,9, 2352.200,2, 2357.200,2
           NA,    P03E,     31,   1,-999.0,     -99,  2,20051104,0143,  29.0495, -123.8892,  4391, 1000.700,    4.245,   34.472,2,   34.471,6,   19.530,1,   20.430,2,  110.870,2,   43.420,2,    0.000,2,    3.238,2,    0.004,2,    0.001,2, -999.000,9, 2354.000,2, 2364.400,2
           NA,    P03E,     31,   1,-999.0,     -99,  2,20051104,0143,  29.0495, -123.8892,  4391, 1200.300,    3.699,   34.514,2,   34.513,2,   30.490,1,   31.530,2,  122.280,2,   43.450,2,    0.000,2,    3.202,2,    0.001,2,    0.000,2, -999.000,9, 2361.100,2, 2377.000,2
           NA,    P03E,     31,   1,-999.0,     -99,  2,20051104,0143,  29.0495, -123.8892,  4391, 1401.700,    3.224,   34.549,2,   34.548,2,   38.350,1,   39.720,2,  134.530,2,   43.180,2,    0.010,2,    3.165,2,    0.001,2,    0.004,2, -999.000,9, 2366.700,2, 2389.900,2
           NA,    P03E,     31,   1,-999.0,     -99,  2,20051104,0143,  29.0495, -123.8892,  4391, 1600.700,    2.835,   34.576,2,   34.576,2,   48.570,1,   50.350,2,  144.120,2,   42.660,2,    0.010,2,    3.110,2,    0.003,2,    0.005,2, -999.000,9, 2375.400,2, 2407.300,2
           NA,    P03E,     31,   1,-999.0,     -99,  2,20051104,0143,  29.0495, -123.8892,  4391, 1803.300,    2.490,   34.600,2,   34.599,2,   61.130,1,   63.240,2,  151.950,2,   41.820,2,    0.000,2,    3.028,2,    0.000,2,    0.000,2, -999.000,9, 2372.500,2, 2412.300,2
           NA,    P03E,     31,   1,-999.0,     -99,  2,20051104,0143,  29.0495, -123.8892,  4391, 2002.700,    2.194,   34.623,2,   34.622,2,   74.850,1,   77.800,2,  157.340,2,   41.040,2,    0.000,2,    2.940,2,    0.000,2,    0.000,2, -999.000,9, 2369.400,2, 2419.500,2
           NA,    P03E,     31,   1,-999.0,     -99,  2,20051104,0143,  29.0495, -123.8892,  4391, 2203.200,    2.023,   34.638,2,   34.637,6,   85.190,1,   88.670,2,  160.140,2,   40.340,2,    0.000,2,    2.880,2, -999.000,9, -999.000,9, -999.000,9, 2367.800,2, 2424.100,2
           NA,    P03E,     31,   1,-999.0,     -99,  2,20051104,0143,  29.0495, -123.8892,  4391, 2401.500,    1.887,   34.649,2,   34.649,2,   93.780,1,   97.750,2,  162.210,2,   39.720,2,    0.000,2,    2.828,2, -999.000,9, -999.000,9, -999.000,9, 2363.300,6, 2428.400,2
           NA,    P03E,     31,   1,-999.0,     -99,  2,20051104,0143,  29.0495, -123.8892,  4391, 2601.400,    1.807,   34.657,2,   34.656,2,   99.970,1,  104.420,2,  163.440,2,   39.340,2,    0.000,2,    2.792,2,    0.000,2,    0.000,2, -999.000,9, 2361.200,2, 2429.100,6
           NA,    P03E,     31,   1,-999.0,     -99,  2,20051104,0143,  29.0495, -123.8892,  4391, 2801.500,    1.719,   34.664,2,   34.663,2,  106.740,1,  111.420,2,  164.650,2,   38.900,2,    0.000,2,    2.746,2, -999.000,9, -999.000,9, -999.000,9, 2358.000,2, 2428.200,2
           NA,    P03E,     31,   1,-999.0,     -99,  2,20051104,0143,  29.0495, -123.8892,  4391, 3001.000,    1.640,   34.668,2,   34.668,2,  112.720,1,  117.460,2,  166.240,2,   38.620,2,    0.000,2,    2.719,2, -999.000,9, -999.000,9, -999.000,9, 2351.600,2, 2430.100,2
           NA,    P03E,     31,   1,-999.0,     -99,  2,20051104,0143,  29.0495, -123.8892,  4391, 3250.900,    1.591,   34.673,2,   34.672,2,  117.810,1,  122.670,2,  167.530,2,   38.200,2,    0.010,2,    2.679,2,    0.000,2,    0.000,2, -999.000,9, 2352.200,2, 2432.000,2
           NA,    P03E,     31,   1,-999.0,     -99,  2,20051104,0143,  29.0495, -123.8892,  4391, 3500.100,    1.539,   34.676,2,   34.676,6,  123.380,1,  128.170,2,  168.280,2,   37.810,2,    0.000,2,    2.655,2, -999.000,9, -999.000,9, -999.000,9, 2347.400,2, 2431.000,2
           NA,    P03E,     31,   1,-999.0,     -99,  2,20051104,0143,  29.0495, -123.8892,  4391, 3751.100,    1.522,   34.680,2,   34.680,2,  128.160,1,  132.840,2,  167.600,2,   37.520,2,    0.000,2,    2.624,2, -999.000,9, -999.000,9, -999.000,9, 2345.900,2, 2429.100,2
           NA,    P03E,     31,   1,-999.0,     -99,  2,20051104,0143,  29.0495, -123.8892,  4391, 4000.100,    1.520,   34.683,2,   34.683,2,  132.620,1,  136.980,2,  166.610,2,   37.300,2,    0.000,2,    2.607,2,    0.009,2,    0.006,2, -999.000,9, 2343.200,2, 2431.100,2
           NA,    P03E,     31,   1,-999.0,     -99,  2,20051104,0143,  29.0495, -123.8892,  4391, 4248.900,    1.539,   34.684,2,   34.684,6,  134.200,1,  138.030,2,  166.490,2,   37.220,2,    0.010,2,    2.603,2, -999.000,9, -999.000,9, -999.000,9, 2342.700,6, 2430.000,2
           NA,    P03E,     31,   1,-999.0,     -99,  3,20051104,0143,  29.0495, -123.8892,  4391, 4458.800,    1.558,   34.685,2,   34.683,6,  135.840,1,  139.130,2,  165.960,2,   37.230,2,    0.000,2,    2.602,2,    0.000,2,    0.006,2, -999.000,9, 2342.400,2, 2430.200,2