BOTTLE,20211903JOAExport
EXPOCODE,SECT_ID,STNNBR,CASTNO,SAMPNO,BTLNBR,BTLNBR_FLAG_W,DATE,TIME,LATITUDE,LONGITUDE,DEPTH,CTDPRS,CTDTMP,CTDSAL,CTDSAL_FLAG_W,SALNTY,SALNTY_FLAG_W,CTDOXY,CTDOXY_FLAG_W,OXYGEN,OXYGEN_FLAG_W,SILCAT,SILCAT_FLAG_W,NITRAT,NITRAT_FLAG_W,NITRIT,NITRIT_FLAG_W,PHSPHT,PHSPHT_FLAG_W,CFC-11,CFC-11_FLAG_W,CFC-12,CFC-12_FLAG_W,SF6,SF6_FLAG_W,TCARBN,TCARBN_FLAG_W,ALKALI,ALKALI_FLAG_W
,,,,,,,,,,,,DB,ITS-90,PSS-78,,PSS-78,,UMOL/KG,,UMOL/KG,,UMOL/KG,,UMOL/KG,,UMOL/KG,,UMOL/KG,,PMOL/KG,,PMOL/KG,,FMOL/KG,,UMOL/KG,,UMOL/KG
           NA,    P03C,    221,   1,-999.0,     -99,  2,20051221,1443,  24.2453,  170.3540,  5872,   10.000,   26.115,   35.315,2,   35.316,2,  193.780,1,  205.210,2,    1.060,2,    0.040,2,    0.010,2,    0.034,2,    1.598,2,    0.923,2, -999.000,9, -999.000,9, -999.000,9
           NA,    P03C,    221,   1,-999.0,     -99,  2,20051221,1443,  24.2453,  170.3540,  5872,   51.400,   26.112,   35.316,2,   35.317,2,  193.740,1,  205.300,2,    1.060,2,    0.030,2,    0.010,2,    0.034,2,    1.593,2,    0.921,2, -999.000,9, -999.000,9, -999.000,9
           NA,    P03C,    221,   1,-999.0,     -99,  2,20051221,1443,  24.2453,  170.3540,  5872,   99.100,   23.090,   35.174,2,   35.175,2,  214.990,1,  227.500,2,    1.460,2,    0.030,2,    0.010,2,    0.040,2,    1.966,2,    1.121,2, -999.000,9, -999.000,9, -999.000,9
           NA,    P03C,    221,   1,-999.0,     -99,  2,20051221,1443,  24.2453,  170.3540,  5872,  149.200,   20.394,   35.052,2,   35.052,2,  188.580,1,  199.500,2,    2.050,2,    0.960,2,    0.090,2,    0.152,2,    2.122,2,    1.188,2, -999.000,9, -999.000,9, -999.000,9
           NA,    P03C,    221,   1,-999.0,     -99,  2,20051221,1443,  24.2453,  170.3540,  5872,  200.500,   18.070,   34.850,2,   34.857,2,  192.080,1,  200.920,2,    3.220,2,    3.300,2,    0.020,2,    0.295,2,    2.318,2,    1.286,2, -999.000,9, -999.000,9, -999.000,9
           NA,    P03C,    221,   1,-999.0,     -99,  2,20051221,1443,  24.2453,  170.3540,  5872,  249.900,   16.260,   34.687,2,   34.688,2,  186.960,1,  197.850,2,    5.400,2,    6.370,2,    0.010,2,    0.489,2,    2.490,6,    1.345,6, -999.000,9, -999.000,9, -999.000,9
           NA,    P03C,    221,   1,-999.0,     -99,  2,20051221,1443,  24.2453,  170.3540,  5872,  303.000,   14.964,   34.566,2,   34.570,2,  187.930,1,  198.280,2,    7.460,2,    8.190,2,    0.010,2,    0.617,2,    2.572,2,    1.393,2, -999.000,9, -999.000,9, -999.000,9
           NA,    P03C,    221,   1,-999.0,     -99,  2,20051221,1443,  24.2453,  170.3540,  5872,  398.900,   12.008,   34.327,2,   34.326,2,  185.900,1,  196.050,2,   14.880,2,   13.410,2,    0.010,2,    0.984,2,    2.804,2,    1.443,2, -999.000,9, -999.000,9, -999.000,9
           NA,    P03C,    221,   1,-999.0,     -99,  2,20051221,1443,  24.2453,  170.3540,  5872,  502.300,    9.302,   34.168,2,   34.170,6,  148.190,1,  156.480,2,   29.540,2,   22.000,2,    0.000,2,    1.612,2,    2.344,2,    1.144,2, -999.000,9, -999.000,9, -999.000,9
           NA,    P03C,    221,   1,-999.0,     -99,  2,20051221,1443,  24.2453,  170.3540,  5872,  598.800,    7.411,   34.097,2,   34.098,2,  119.960,1,  126.600,2,   47.290,2,   28.440,2,    0.010,2,    2.077,2,    1.749,2,    0.834,2, -999.000,9, -999.000,9, -999.000,9
           NA,    P03C,    221,   1,-999.0,     -99,  2,20051221,1443,  24.2453,  170.3540,  5872,  697.000,    6.128,   34.116,2,   34.115,2,   80.780,1,   85.880,2,   66.020,2,   34.480,2,    0.000,2,    2.525,2,    0.949,2,    0.465,2, -999.000,9, -999.000,9, -999.000,9
           NA,    P03C,    221,   1,-999.0,     -99,  2,20051221,1443,  24.2453,  170.3540,  5872,  798.300,    4.936,   34.171,2,   34.170,2,   53.860,1,   57.130,2,   88.300,2,   39.050,2,    0.000,2,    2.845,2,    0.465,6,    0.225,6, -999.000,9, -999.000,9, -999.000,9
           NA,    P03C,    221,   1,-999.0,     -99,  2,20051221,1443,  24.2453,  170.3540,  5872,  901.100,    4.266,   34.296,2,   34.295,2,   36.440,1,   38.310,2,  105.950,2,   41.670,2,    0.000,2,    3.032,2,    0.121,2,    0.060,2, -999.000,9, -999.000,9, -999.000,9
           NA,    P03C,    221,   1,-999.0,     -99,  2,20051221,1443,  24.2453,  170.3540,  5872,  998.600,    3.990,   34.375,2,   34.375,6,   37.320,1,   39.300,2,  113.030,2,   42.080,2,    0.010,2,    3.060,2,    0.038,2,    0.016,2, -999.000,9, -999.000,9, -999.000,9
           NA,    P03C,    221,   1,-999.0,     -99,  2,20051221,1443,  24.2453,  170.3540,  5872, 1201.000,    3.375,   34.477,2,   34.477,2,   48.120,1,   50.800,2,  126.470,2,   42.070,2,    0.010,2,    3.031,2,    0.005,2,    0.005,2, -999.000,9, -999.000,9, -999.000,9
           NA,    P03C,    221,   1,-999.0,     -99,  2,20051221,1443,  24.2453,  170.3540,  5872, 1399.400,    2.921,   34.537,2,   34.537,2,   63.270,1,   67.080,2,  134.750,2,   41.140,2,    0.000,2,    2.958,2,    0.006,2,    0.000,2, -999.000,9, -999.000,9, -999.000,9
           NA,    P03C,    221,   1,-999.0,     -99,  2,20051221,1443,  24.2453,  170.3540,  5872, 1602.800,    2.539,   34.571,2,   34.572,2,   72.540,1,   77.330,2,  142.620,2,   40.760,2,    0.010,2,    2.915,2,    0.004,2,    0.001,2, -999.000,9, -999.000,9, -999.000,9
           NA,    P03C,    221,   1,-999.0,     -99,  2,20051221,1443,  24.2453,  170.3540,  5872, 1800.300,    2.273,   34.596,2,   34.597,2,   80.830,1,   86.500,2,  147.400,2,   40.360,2,    0.000,2,    2.874,2,    0.000,2,    0.003,2, -999.000,9, -999.000,9, -999.000,9
           NA,    P03C,    221,   1,-999.0,     -99,  2,20051221,1443,  24.2453,  170.3540,  5872, 2001.700,    2.052,   34.615,2,   34.615,2,   88.970,1,   95.590,2,  151.500,2,   39.910,2,    0.010,2,    2.827,2,    0.000,2,    0.000,2, -999.000,9, -999.000,9, -999.000,9
           NA,    P03C,    221,   1,-999.0,     -99,  2,20051221,1443,  24.2453,  170.3540,  5872, 2201.500,    1.873,   34.632,2,   34.633,6,   98.110,1,  105.410,2,  153.540,2,   39.260,2,    0.000,2,    2.779,2,    0.000,2,    0.000,2, -999.000,9, -999.000,9, -999.000,9
           NA,    P03C,    221,   1,-999.0,     -99,  2,20051221,1443,  24.2453,  170.3540,  5872, 2400.000,    1.769,   34.645,2,   34.646,2,  105.960,1,  114.100,2,  153.780,2,   38.680,2,    0.010,2,    2.735,2,    0.000,2,    0.002,2, -999.000,9, -999.000,9, -999.000,9
           NA,    P03C,    221,   1,-999.0,     -99,  2,20051221,1443,  24.2453,  170.3540,  5872, 2600.400,    1.680,   34.654,2,   34.654,2,  111.520,1,  120.240,2,  154.420,2,   38.360,2,    0.000,2,    2.699,2, -999.000,9, -999.000,9, -999.000,9, -999.000,9, -999.000,9
           NA,    P03C,    221,   1,-999.0,     -99,  2,20051221,1443,  24.2453,  170.3540,  5872, 2799.200,    1.627,   34.660,2,   34.661,2,  116.630,1,  125.900,2,  154.060,2,   37.960,2,    0.010,2,    2.675,2, -999.000,9, -999.000,9, -999.000,9, -999.000,9, -999.000,9
           NA,    P03C,    221,   1,-999.0,     -99,  2,20051221,1443,  24.2453,  170.3540,  5872, 3003.000,    1.589,   34.666,2,   34.667,2,  121.120,1,  130.740,2,  153.750,2,   37.570,2,    0.000,2,    2.652,2,    0.000,2,    0.000,2, -999.000,9, -999.000,9, -999.000,9
           NA,    P03C,    221,   1,-999.0,     -99,  2,20051221,1443,  24.2453,  170.3540,  5872, 3250.300,    1.547,   34.672,2,   34.672,6,  126.650,1,  136.830,2,  151.820,2,   37.240,2,    0.000,2,    2.613,2, -999.000,9, -999.000,9, -999.000,9, -999.000,9, -999.000,9
           NA,    P03C,    221,   1,-999.0,     -99,  2,20051221,1443,  24.2453,  170.3540,  5872, 3501.000,    1.519,   34.676,2,   34.677,2,  131.360,1,  141.900,2,  150.750,2,   36.850,2,    0.010,2,    2.589,2, -999.000,9, -999.000,9, -999.000,9, -999.000,9, -999.000,9
           NA,    P03C,    221,   1,-999.0,     -99,  2,20051221,1443,  24.2453,  170.3540,  5872, 3750.500,    1.498,   34.681,2,   34.681,2,  136.380,1,  147.190,2,  148.970,2,   36.520,2,    0.010,2,    2.564,2,    0.000,2,    0.002,2, -999.000,9, -999.000,9, -999.000,9
           NA,    P03C,    221,   1,-999.0,     -99,  2,20051221,1443,  24.2453,  170.3540,  5872, 4001.500,    1.487,   34.684,2,   34.684,2,  140.780,1,  151.430,2,  147.380,2,   36.290,2,    0.000,2,    2.537,2, -999.000,9, -999.000,9, -999.000,9, -999.000,9, -999.000,9
           NA,    P03C,    221,   1,-999.0,     -99,  2,20051221,1443,  24.2453,  170.3540,  5872, 4249.500,    1.463,   34.688,2,   34.688,2,  146.530,1,  157.510,2,  144.640,2,   35.820,2,    0.000,2,    2.504,2, -999.000,9, -999.000,9, -999.000,9, -999.000,9, -999.000,9
           NA,    P03C,    221,   1,-999.0,     -99,  2,20051221,1443,  24.2453,  170.3540,  5872, 4502.300,    1.456,   34.691,2,   34.691,6,  151.470,1,  162.290,2,  141.920,2,   35.480,2,    0.010,2,    2.479,2,    0.000,2,    0.006,2, -999.000,9, -999.000,9, -999.000,9
           NA,    P03C,    221,   1,-999.0,     -99,  2,20051221,1443,  24.2453,  170.3540,  5872, 4746.900,    1.448,   34.694,2,   34.694,2,  156.710,1,  167.420,2,  138.850,2,   35.140,2,    0.010,2,    2.454,2, -999.000,9, -999.000,9, -999.000,9, -999.000,9, -999.000,9
           NA,    P03C,    221,   1,-999.0,     -99,  2,20051221,1443,  24.2453,  170.3540,  5872, 4999.000,    1.441,   34.696,2,   34.697,2,  162.080,1,  172.530,2,  136.040,2,   34.750,2,    0.010,2,    2.424,2, -999.000,9, -999.000,9, -999.000,9, -999.000,9, -999.000,9
           NA,    P03C,    221,   1,-999.0,     -99,  2,20051221,1443,  24.2453,  170.3540,  5872, 5248.600,    1.447,   34.698,2,   34.699,2,  165.880,1,  175.820,2,  133.980,2,   34.490,2,    0.010,2,    2.405,2,    0.004,2,    0.002,2, -999.000,9, -999.000,9, -999.000,9
           NA,    P03C,    221,   1,-999.0,     -99,  2,20051221,1443,  24.2453,  170.3540,  5872, 5501.200,    1.460,   34.700,2,   34.700,2,  169.360,1,  178.360,2,  132.480,2,   34.270,2,    0.000,2,    2.393,2, -999.000,9, -999.000,9, -999.000,9, -999.000,9, -999.000,9
           NA,    P03C,    221,   1,-999.0,     -99,  2,20051221,1443,  24.2453,  170.3540,  5872, 5749.200,    1.482,   34.700,2,   34.701,2,  171.770,1,  179.600,2,  132.140,2,   34.260,2,    0.000,2,    2.383,2, -999.000,9, -999.000,9, -999.000,9, -999.000,9, -999.000,9
           NA,    P03C,    221,   1,-999.0,     -99,  2,20051221,1443,  24.2453,  170.3540,  5872, 5930.900,    1.503,   34.700,2,   34.701,6,  173.770,1,  180.120,2,  131.790,2,   34.230,2,    0.010,2,    2.400,2,    0.000,2,    0.007,2, -999.000,9, -999.000,9, -999.000,9