BOTTLE,20211903JOAExport
EXPOCODE,SECT_ID,STNNBR,CASTNO,SAMPNO,BTLNBR,BTLNBR_FLAG_W,DATE,TIME,LATITUDE,LONGITUDE,DEPTH,CTDPRS,CTDTMP,CTDSAL,CTDSAL_FLAG_W,SALNTY,SALNTY_FLAG_W,CTDOXY,CTDOXY_FLAG_W,OXYGEN,OXYGEN_FLAG_W,SILCAT,SILCAT_FLAG_W,NITRAT,NITRAT_FLAG_W,NITRIT,NITRIT_FLAG_W,PHSPHT,PHSPHT_FLAG_W,CFC-11,CFC-11_FLAG_W,CFC-12,CFC-12_FLAG_W,SF6,SF6_FLAG_W,TCARBN,TCARBN_FLAG_W,ALKALI,ALKALI_FLAG_W
,,,,,,,,,,,,DB,ITS-90,PSS-78,,PSS-78,,UMOL/KG,,UMOL/KG,,UMOL/KG,,UMOL/KG,,UMOL/KG,,UMOL/KG,,PMOL/KG,,PMOL/KG,,FMOL/KG,,UMOL/KG,,UMOL/KG
           NA,    P03C,    285,   1,-999.0,     -99,  2,20060102,1000,  24.2880,  146.0515,  5724,   10.500,   25.367,   34.926,2,   34.925,2,  190.400,1,  205.820,2,    0.970,2,    0.040,2,    0.000,2,    0.045,2,    1.639,2,    0.976,2, -999.000,9, -999.000,9, -999.000,9
           NA,    P03C,    285,   1,-999.0,     -99,  2,20060102,1000,  24.2880,  146.0515,  5724,   50.500,   25.374,   34.936,2,   34.939,2,  190.330,1,  205.700,2,    0.940,2,    0.030,2,    0.000,2,    0.044,2,    1.638,2,    0.971,2, -999.000,9, -999.000,9, -999.000,9
           NA,    P03C,    285,   1,-999.0,     -99,  2,20060102,1000,  24.2880,  146.0515,  5724,  100.200,   25.336,   34.981,2,   34.980,2,  190.090,1,  205.620,2,    0.920,2,    0.020,2,    0.000,2,    0.043,2,    1.655,2,    0.986,2, -999.000,9, -999.000,9, -999.000,9
           NA,    P03C,    285,   1,-999.0,     -99,  2,20060102,1000,  24.2880,  146.0515,  5724,  151.000,   22.110,   35.099,2,   35.093,2,  186.680,1,  201.180,2,    1.540,2,    0.250,2,    0.080,2,    0.093,2,    2.047,2,    1.169,2, -999.000,9, -999.000,9, -999.000,9
           NA,    P03C,    285,   1,-999.0,     -99,  2,20060102,1000,  24.2880,  146.0515,  5724,  199.200,   19.523,   34.934,2,   34.929,2,  187.560,1,  203.320,2,    2.230,2,    1.490,2,    0.020,2,    0.173,2,    2.237,2,    1.272,2, -999.000,9, -999.000,9, -999.000,9
           NA,    P03C,    285,   1,-999.0,     -99,  2,20060102,1000,  24.2880,  146.0515,  5724,  249.500,   17.706,   34.812,2,   34.810,2,  193.950,1,  209.910,2,    3.220,2,    3.750,2,    0.010,2,    0.292,2,    2.374,6,    1.347,6, -999.000,9, -999.000,9, -999.000,9
           NA,    P03C,    285,   1,-999.0,     -99,  2,20060102,1000,  24.2880,  146.0515,  5724,  299.500,   17.120,   34.776,2,   34.772,2,  192.840,1,  207.630,2,    4.050,2,    4.770,2,    0.010,2,    0.361,2,    2.438,2,    1.373,2, -999.000,9, -999.000,9, -999.000,9
           NA,    P03C,    285,   1,-999.0,     -99,  2,20060102,1000,  24.2880,  146.0515,  5724,  400.400,   14.908,   34.574,2,   34.569,2,  182.640,1,  196.940,2,    8.500,2,    8.860,2,    0.010,2,    0.654,2,    2.623,2,    1.427,2, -999.000,9, -999.000,9, -999.000,9
           NA,    P03C,    285,   1,-999.0,     -99,  2,20060102,1000,  24.2880,  146.0515,  5724,  500.800,   12.116,   34.348,2,   34.346,6,  177.300,1,  190.880,2,   15.600,2,   13.870,2,    0.000,2,    1.015,2,    2.711,2,    1.417,2, -999.000,9, -999.000,9, -999.000,9
           NA,    P03C,    285,   1,-999.0,     -99,  2,20060102,1000,  24.2880,  146.0515,  5724,  600.200,    9.471,   34.185,2,   34.185,2,  152.620,1,  164.490,2,   29.630,2,   21.100,2,    0.000,2,    1.539,2,    2.401,2,    1.165,2, -999.000,9, -999.000,9, -999.000,9
           NA,    P03C,    285,   1,-999.0,     -99,  2,20060102,1000,  24.2880,  146.0515,  5724,  699.700,    7.028,   34.079,2,   34.078,2,  125.340,1,  135.040,2,   51.750,2,   28.310,2,    0.000,2,    2.074,2,    1.903,2,    0.899,2, -999.000,9, -999.000,9, -999.000,9
           NA,    P03C,    285,   1,-999.0,     -99,  2,20060102,1000,  24.2880,  146.0515,  5724,  800.600,    5.417,   34.119,2,   34.118,2,   79.220,1,   86.000,2,   77.430,2,   35.500,2,    0.000,2,    2.597,2,    0.963,6,    0.466,6, -999.000,9, -999.000,9, -999.000,9
           NA,    P03C,    285,   1,-999.0,     -99,  2,20060102,1000,  24.2880,  146.0515,  5724,  898.600,    4.515,   34.219,2,   34.220,2,   53.860,1,   57.980,2,   98.560,2,   39.380,2,    0.000,2,    2.860,2,    0.437,2,    0.211,2, -999.000,9, -999.000,9, -999.000,9
           NA,    P03C,    285,   1,-999.0,     -99,  2,20060102,1000,  24.2880,  146.0515,  5724, 1000.300,    4.217,   34.318,2, -999.000,3,   51.310,1,   55.090,2,  107.230,2,   39.990,2,    0.000,2,    2.906,2,    0.243,2,    0.123,2, -999.000,9, -999.000,9, -999.000,9
           NA,    P03C,    285,   1,-999.0,     -99,  2,20060102,1000,  24.2880,  146.0515,  5724, 1200.200,    3.359,   34.413,2,   34.414,2,   43.970,1,   47.300,2,  128.530,2,   41.910,2,    0.000,2,    3.023,2,    0.066,2,    0.031,2, -999.000,9, -999.000,9, -999.000,9
           NA,    P03C,    285,   1,-999.0,     -99,  2,20060102,1000,  24.2880,  146.0515,  5724, 1400.500,    2.811,   34.485,2,   34.486,2,   50.300,1,   54.600,2,  141.640,2,   41.890,2,    0.000,2,    3.008,2,    0.023,2,    0.010,2, -999.000,9, -999.000,9, -999.000,9
           NA,    P03C,    285,   1,-999.0,     -99,  2,20060102,1000,  24.2880,  146.0515,  5724, 1601.700,    2.470,   34.541,2,   34.541,2,   61.210,1,   66.190,2,  147.810,2,   41.410,2,    0.010,2,    2.963,2,    0.001,2,    0.001,2, -999.000,9, -999.000,9, -999.000,9
           NA,    P03C,    285,   1,-999.0,     -99,  2,20060102,1000,  24.2880,  146.0515,  5724, 1802.300,    2.176,   34.580,2,   34.580,2,   74.580,1,   81.040,2,  151.640,2,   40.640,2,    0.000,2,    2.896,2,    0.000,2,    0.000,2, -999.000,9, -999.000,9, -999.000,9
           NA,    P03C,    285,   1,-999.0,     -99,  2,20060102,1000,  24.2880,  146.0515,  5724, 2000.400,    1.967,   34.608,2,   34.608,2,   87.900,1,   95.760,2,  152.700,2,   39.700,2,    0.010,2,    2.827,2,    0.000,2,    0.000,2, -999.000,9, -999.000,9, -999.000,9
           NA,    P03C,    285,   1,-999.0,     -99,  2,20060102,1000,  24.2880,  146.0515,  5724, 2200.700,    1.850,   34.627,2,   34.627,6,   98.560,1,  107.670,2,  151.600,2,   38.970,2,    0.010,2,    2.762,2,    0.000,2,    0.000,2, -999.000,9, -999.000,9, -999.000,9
           NA,    P03C,    285,   1,-999.0,     -99,  2,20060102,1000,  24.2880,  146.0515,  5724, 2400.500,    1.758,   34.640,2,   34.640,2,  107.150,1,  117.170,2,  150.810,2,   38.310,2,    0.000,2,    2.711,2,    0.000,2,    0.000,2, -999.000,9, -999.000,9, -999.000,9
           NA,    P03C,    285,   1,-999.0,     -99,  2,20060102,1000,  24.2880,  146.0515,  5724, 2600.300,    1.694,   34.650,2,   34.650,2,  113.110,1,  123.940,2,  150.260,2,   37.840,2,    0.000,2,    2.681,2,    0.000,2,    0.000,2, -999.000,9, -999.000,9, -999.000,9
           NA,    P03C,    285,   1,-999.0,     -99,  2,20060102,1000,  24.2880,  146.0515,  5724, 2801.200,    1.642,   34.658,2,   34.658,2,  117.630,1,  128.930,2,  150.160,2,   37.580,2,    0.010,2,    2.655,2, -999.000,9, -999.000,9, -999.000,9, -999.000,9, -999.000,9
           NA,    P03C,    285,   1,-999.0,     -99,  2,20060102,1000,  24.2880,  146.0515,  5724, 3000.200,    1.608,   34.664,2,   34.664,2,  121.310,1,  133.180,2,  149.760,2,   37.430,2,    0.000,2,    2.634,2, -999.000,9, -999.000,9, -999.000,9, -999.000,9, -999.000,9
           NA,    P03C,    285,   1,-999.0,     -99,  2,20060102,1000,  24.2880,  146.0515,  5724, 3249.700,    1.568,   34.669,2,   34.670,6,  125.630,1,  137.680,2,  149.450,2,   37.000,2,    0.010,2,    2.603,2,    0.000,2,    0.000,2, -999.000,9, -999.000,9, -999.000,9
           NA,    P03C,    285,   1,-999.0,     -99,  2,20060102,1000,  24.2880,  146.0515,  5724, 3500.400,    1.538,   34.675,2,   34.675,2,  129.850,1,  142.360,2,  148.680,2,   36.780,2,    0.010,2,    2.585,2, -999.000,9, -999.000,9, -999.000,9, -999.000,9, -999.000,9
           NA,    P03C,    285,   1,-999.0,     -99,  2,20060102,1000,  24.2880,  146.0515,  5724, 3751.300,    1.522,   34.679,2,   34.679,2,  133.400,1,  146.150,2,  148.070,2,   36.580,2,    0.000,2,    2.568,2, -999.000,9, -999.000,9, -999.000,9, -999.000,9, -999.000,9
           NA,    P03C,    285,   1,-999.0,     -99,  2,20060102,1000,  24.2880,  146.0515,  5724, 4001.900,    1.508,   34.682,2,   34.682,2,  137.430,1,  149.980,2,  146.840,2,   36.170,2,    0.000,2,    2.548,2,    0.000,2,    0.000,2, -999.000,9, -999.000,9, -999.000,9
           NA,    P03C,    285,   1,-999.0,     -99,  2,20060102,1000,  24.2880,  146.0515,  5724, 4250.300,    1.496,   34.685,2,   34.685,2,  141.370,1,  154.060,2,  145.770,2,   35.940,2,    0.010,2,    2.519,2, -999.000,9, -999.000,9, -999.000,9, -999.000,9, -999.000,9
           NA,    P03C,    285,   1,-999.0,     -99,  2,20060102,1000,  24.2880,  146.0515,  5724, 4499.900,    1.493,   34.688,2,   34.688,6,  145.570,1,  158.120,2,  143.620,2,   35.610,2,    0.000,2,    2.501,2, -999.000,9, -999.000,9, -999.000,9, -999.000,9, -999.000,9
           NA,    P03C,    285,   1,-999.0,     -99,  2,20060102,1000,  24.2880,  146.0515,  5724, 4751.100,    1.500,   34.690,2,   34.690,2,  149.000,1,  161.410,2,  141.940,2,   35.440,2,    0.000,2,    2.484,2,    0.000,2,    0.000,2, -999.000,9, -999.000,9, -999.000,9
           NA,    P03C,    285,   1,-999.0,     -99,  2,20060102,1000,  24.2880,  146.0515,  5724, 5000.000,    1.512,   34.692,2,   34.692,2,  152.100,1,  164.110,2,  140.320,2,   35.250,2,    0.000,2,    2.466,2, -999.000,9, -999.000,9, -999.000,9, -999.000,9, -999.000,9
           NA,    P03C,    285,   1,-999.0,     -99,  2,20060102,1000,  24.2880,  146.0515,  5724, 5249.000,    1.524,   34.694,2,   34.694,2,  155.670,1,  167.470,2,  138.500,2,   35.080,2,    0.010,2,    2.448,2,    0.000,2,    0.000,2, -999.000,9, -999.000,9, -999.000,9
           NA,    P03C,    285,   1,-999.0,     -99,  2,20060102,1000,  24.2880,  146.0515,  5724, 5499.400,    1.538,   34.695,2,   34.695,2,  159.160,1,  170.060,2,  136.610,2,   34.870,2,    0.010,2,    2.437,2, -999.000,9, -999.000,9, -999.000,9, -999.000,9, -999.000,9
           NA,    P03C,    285,   1,-999.0,     -99,  2,20060102,1000,  24.2880,  146.0515,  5724, 5826.000,    1.554,   34.697,2,   34.698,6,  164.860,1,  174.110,2,  134.260,2,   34.580,2,    0.010,2,    2.422,2,    0.000,2,    0.000,2, -999.000,9, -999.000,9, -999.000,9
           NA,    P03C,    283,   1,-999.0,     -99,  2,20060102,0305,  24.2803,  146.6602,  5874,    9.900,   25.228,   35.012,2,   35.013,2,  191.200,1,  206.360,2,    1.000,2,    0.060,2,    0.000,2,    0.036,2,    1.691,2,    0.991,2, -999.000,9, 1954.400,2, 2299.400,2
           NA,    P03C,    283,   1,-999.0,     -99,  2,20060102,0305,  24.2803,  146.6602,  5874,   51.500,   25.235,   35.011,2,   35.012,2,  191.010,1,  206.430,2,    0.990,2,    0.040,2,    0.000,2,    0.040,2,    1.691,2,    1.001,2, -999.000,9, 1954.800,6, 2295.900,2
           NA,    P03C,    283,   1,-999.0,     -99,  2,20060102,0305,  24.2803,  146.6602,  5874,   99.300,   25.231,   35.007,2,   35.009,2,  190.660,1,  206.280,2,    1.000,2,    0.050,2,    0.000,2,    0.034,2,    1.697,2,    1.005,2, -999.000,9, 1955.400,2, 2295.700,6
           NA,    P03C,    283,   1,-999.0,     -99,  2,20060102,0305,  24.2803,  146.6602,  5874,  149.400,   23.041,   35.129,2,   35.118,2,  193.500,1,  208.420,2,    1.430,2,    0.060,2,    0.070,2,    0.055,2,    2.018,2,    1.172,2, -999.000,9, 1996.000,2, 2303.500,2
           NA,    P03C,    283,   1,-999.0,     -99,  2,20060102,0305,  24.2803,  146.6602,  5874,  201.700,   19.404,   34.921,2,   34.930,2,  190.470,1,  205.730,2,    2.220,2,    1.260,2,    0.020,2,    0.148,2,    2.284,2,    1.276,2, -999.000,9, 2018.400,2, 2292.900,2
           NA,    P03C,    283,   1,-999.0,     -99,  2,20060102,0305,  24.2803,  146.6602,  5874,  249.400,   17.841,   34.818,2,   34.817,2,  193.710,1,  209.000,2,    3.190,2,    3.580,2,    0.010,2,    0.275,2,    2.422,6,    1.328,6, -999.000,9, 2022.300,2, 2282.400,2
           NA,    P03C,    283,   1,-999.0,     -99,  2,20060102,0305,  24.2803,  146.6602,  5874,  301.200,   17.083,   34.775,2,   34.778,2,  194.200,1,  209.710,2,    3.970,2,    4.560,2,    0.010,2,    0.334,2,    2.490,2,    1.349,2, -999.000,9, 2028.600,2, 2281.000,2
           NA,    P03C,    283,   1,-999.0,     -99,  2,20060102,0305,  24.2803,  146.6602,  5874,  399.800,   15.772,   34.656,2,   34.647,2,  186.670,1,  200.800,2,    7.030,2,    7.470,2,    0.010,2,    0.537,2,    2.634,2,    1.379,2, -999.000,9, 2050.000,2, 2280.900,2
           NA,    P03C,    283,   1,-999.0,     -99,  2,20060102,0305,  24.2803,  146.6602,  5874,  500.400,   12.914,   34.423,2,   34.421,6,  181.560,1,  195.720,2,   13.890,2,   12.260,2,    0.000,2,    0.881,2,    2.824,2,    1.426,2, -999.000,9, 2084.700,2, 2271.600,2
           NA,    P03C,    283,   1,-999.0,     -99,  2,20060102,0305,  24.2803,  146.6602,  5874,  601.100,   10.369,   34.241,2,   34.242,2,  169.490,1,  183.080,2,   24.100,2,   17.740,2,    0.000,2,    1.283,2,    2.749,2,    1.343,2, -999.000,9, 2123.400,2, 2268.600,2
           NA,    P03C,    283,   1,-999.0,     -99,  2,20060102,0305,  24.2803,  146.6602,  5874,  700.800,    7.616,   34.111,2,   34.111,2,  123.570,1,  133.030,2,   46.370,2,   27.330,2,    0.000,2,    1.997,2,    1.867,2,    0.878,2, -999.000,9, 2195.500,6, 2280.600,2
           NA,    P03C,    283,   1,-999.0,     -99,  2,20060102,0305,  24.2803,  146.6602,  5874,  801.000,    5.938,   34.147,2,   34.145,2,   81.140,1,   87.390,2,   70.650,2,   34.480,2,    0.000,2,    2.522,2,    0.951,6,    0.447,2, -999.000,9, 2256.300,2, 2303.100,6
           NA,    P03C,    283,   1,-999.0,     -99,  2,20060102,0305,  24.2803,  146.6602,  5874,  901.700,    4.898,   34.213,2,   34.214,2,   58.630,1,   62.860,2,   91.200,2,   38.470,2,    0.000,2,    2.803,2,    0.497,2,    0.233,2, -999.000,9, 2296.800,2, 2325.600,2
           NA,    P03C,    283,   1,-999.0,     -99,  2,20060102,0305,  24.2803,  146.6602,  5874, 1001.900,    4.115,   34.307,2, -999.000,3,   44.650,1,   47.790,2,  109.110,2,   40.810,2,    0.000,2,    2.964,2,    0.201,2,    0.095,2, -999.000,9, 2330.000,2, 2347.600,2
           NA,    P03C,    283,   1,-999.0,     -99,  2,20060102,0305,  24.2803,  146.6602,  5874, 1200.300,    3.467,   34.436,2,   34.437,2,   49.910,1,   53.610,2,  124.910,2,   41.330,2,    0.000,2,    2.980,2,    0.039,2,    0.018,2, -999.000,9, 2344.700,2, 2371.200,2
           NA,    P03C,    283,   1,-999.0,     -99,  2,20060102,0305,  24.2803,  146.6602,  5874, 1401.200,    2.804,   34.500,2,   34.500,2,   59.820,1,   64.590,2,  138.860,2,   41.130,2,    0.000,2,    2.944,2,    0.026,2,    0.011,2, -999.000,9, 2354.500,2, 2386.700,2
           NA,    P03C,    283,   1,-999.0,     -99,  2,20060102,0305,  24.2803,  146.6602,  5874, 1602.000,    2.419,   34.546,2,   34.546,2,   69.500,1,   75.370,2,  146.120,2,   40.650,2,    0.000,2,    2.899,2,    0.009,2,    0.005,2, -999.000,9, 2355.600,2, 2396.000,2
           NA,    P03C,    283,   1,-999.0,     -99,  2,20060102,0305,  24.2803,  146.6602,  5874, 1800.400,    2.185,   34.578,2,   34.578,2,   79.510,1,   86.550,2,  148.990,2,   40.040,2,    0.000,2,    2.848,2,    0.004,2,    0.000,2, -999.000,9, 2353.400,2, 2402.300,2
           NA,    P03C,    283,   1,-999.0,     -99,  2,20060102,0305,  24.2803,  146.6602,  5874, 2001.600,    1.987,   34.602,2,   34.602,2,   87.710,1,   95.710,2,  151.730,2,   39.540,2,    0.000,2,    2.811,2,    0.000,2,    0.000,2, -999.000,9, 2351.100,2, 2406.500,2
           NA,    P03C,    283,   1,-999.0,     -99,  2,20060102,0305,  24.2803,  146.6602,  5874, 2200.900,    1.872,   34.624,2,   34.624,6,   98.390,1,  107.470,2,  150.760,2,   38.840,2,    0.000,2,    2.751,2,    0.002,2,    0.000,2, -999.000,9, 2346.100,2, 2408.300,2
           NA,    P03C,    283,   1,-999.0,     -99,  2,20060102,0305,  24.2803,  146.6602,  5874, 2401.800,    1.763,   34.640,2,   34.640,2,  107.540,1,  117.600,2,  150.160,2,   38.270,2,    0.000,2,    2.701,2,    0.000,2,    0.000,2, -999.000,9, 2340.000,6, 2410.600,2
           NA,    P03C,    283,   1,-999.0,     -99,  2,20060102,0305,  24.2803,  146.6602,  5874, 2602.000,    1.686,   34.652,2,   34.652,2,  112.180,1,  122.890,2,  151.000,2,   37.900,2,    0.000,2,    2.674,2, -999.000,9, -999.000,9, -999.000,9, 2340.200,2, 2412.400,6
           NA,    P03C,    283,   1,-999.0,     -99,  2,20060102,0305,  24.2803,  146.6602,  5874, 2801.400,    1.633,   34.661,2,   34.661,2,  118.070,1,  129.550,2,  150.530,2,   37.480,2,    0.000,2,    2.641,2,    0.000,2,    0.000,2, -999.000,9, 2337.000,2, 2415.300,2
           NA,    P03C,    283,   1,-999.0,     -99,  2,20060102,0305,  24.2803,  146.6602,  5874, 3001.600,    1.576,   34.667,2,   34.667,2,  122.290,1,  134.290,2,  150.570,2,   37.230,2,    0.000,2,    2.617,2, -999.000,9, -999.000,9, -999.000,9, 2334.500,2, 2414.500,2
           NA,    P03C,    283,   1,-999.0,     -99,  2,20060102,0305,  24.2803,  146.6602,  5874, 3251.100,    1.543,   34.672,2,   34.672,6,  126.730,1,  139.190,2,  149.810,2,   36.920,2,    0.000,2,    2.595,2, -999.000,9, -999.000,9, -999.000,9, 2330.900,2, 2413.500,2
           NA,    P03C,    283,   1,-999.0,     -99,  2,20060102,0305,  24.2803,  146.6602,  5874, 3502.300,    1.509,   34.678,2,   34.678,2,  131.650,1,  144.650,2,  148.600,2,   36.550,2,    0.000,2,    2.563,2,    0.000,2,    0.000,2, -999.000,9, 2328.700,2, 2416.300,2
           NA,    P03C,    283,   1,-999.0,     -99,  2,20060102,0305,  24.2803,  146.6602,  5874, 3751.800,    1.488,   34.682,2,   34.682,2,  136.020,1,  149.320,2,  147.250,2,   36.220,2,    0.000,2,    2.542,2, -999.000,9, -999.000,9, -999.000,9, 2323.600,2, 2414.600,2
           NA,    P03C,    283,   1,-999.0,     -99,  2,20060102,0305,  24.2803,  146.6602,  5874, 4002.000,    1.472,   34.685,2,   34.685,2,  140.410,1,  153.790,2,  145.840,2,   35.920,2,    0.000,2,    2.520,2, -999.000,9, -999.000,9, -999.000,9, 2319.900,2, 2412.800,2
           NA,    P03C,    283,   1,-999.0,     -99,  2,20060102,0305,  24.2803,  146.6602,  5874, 4251.000,    1.470,   34.688,2,   34.688,2,  143.410,1,  156.800,2,  144.550,2,   35.700,2,    0.000,2,    2.499,2,    0.000,2,    0.000,2, -999.000,9, 2318.400,6, 2412.200,2
           NA,    P03C,    283,   1,-999.0,     -99,  2,20060102,0305,  24.2803,  146.6602,  5874, 4501.500,    1.486,   34.689,2,   34.689,6,  145.290,1,  158.460,2,  144.000,2,   35.590,2,    0.000,2,    2.493,2, -999.000,9, -999.000,9, -999.000,9, 2316.600,2, 2410.800,6
           NA,    P03C,    283,   1,-999.0,     -99,  2,20060102,0305,  24.2803,  146.6602,  5874, 4751.800,    1.502,   34.690,2,   34.690,2,  147.770,1,  160.550,2,  142.660,2,   35.370,2,    0.000,2,    2.481,2, -999.000,9, -999.000,9, -999.000,9, 2314.300,2, 2408.000,2
           NA,    P03C,    283,   1,-999.0,     -99,  2,20060102,0305,  24.2803,  146.6602,  5874, 5000.600,    1.513,   34.692,2,   34.692,2,  151.240,1,  163.880,2,  140.750,2,   35.210,2,    0.000,2,    2.462,2,    0.000,2,    0.000,2, -999.000,9, 2312.000,2, 2407.600,2
           NA,    P03C,    283,   1,-999.0,     -99,  2,20060102,0305,  24.2803,  146.6602,  5874, 5249.800,    1.526,   34.693,2,   34.694,2,  154.510,1,  166.830,2,  138.800,2,   35.040,2,    0.000,2,    2.449,2, -999.000,9, -999.000,9, -999.000,9, 2308.600,2, 2402.300,2
           NA,    P03C,    283,   1,-999.0,     -99,  2,20060102,0305,  24.2803,  146.6602,  5874, 5499.400,    1.546,   34.695,2,   34.695,2,  157.270,1,  168.780,2,  137.600,2,   34.920,2,    0.000,2,    2.437,2,    0.001,2,    0.000,2, -999.000,9, 2307.600,2, 2402.900,2
           NA,    P03C,    283,   1,-999.0,     -99,  2,20060102,0305,  24.2803,  146.6602,  5874, 5748.900,    1.562,   34.696,2,   34.696,2,  160.920,1,  171.500,2,  135.950,2,   34.640,2,    0.000,2,    2.420,2, -999.000,9, -999.000,9, -999.000,9, 2303.700,2, 2401.600,2
           NA,    P03C,    283,   1,-999.0,     -99,  2,20060102,0305,  24.2803,  146.6602,  5874, 5980.000,    1.576,   34.697,2,   34.698,6,  164.650,1,  174.070,2,  134.330,2,   34.450,2,    0.000,2,    2.408,2,    0.000,2,    0.000,2, -999.000,9, 2300.800,2, 2402.900,2