BOTTLE,20211903JOAExport
EXPOCODE,SECT_ID,STNNBR,CASTNO,SAMPNO,BTLNBR,BTLNBR_FLAG_W,DATE,TIME,LATITUDE,LONGITUDE,DEPTH,CTDPRS,CTDTMP,CTDSAL,CTDSAL_FLAG_W,SALNTY,SALNTY_FLAG_W,CTDOXY,CTDOXY_FLAG_W,OXYGEN,OXYGEN_FLAG_W,SILCAT,SILCAT_FLAG_W,NITRAT,NITRAT_FLAG_W,NITRIT,NITRIT_FLAG_W,PHSPHT,PHSPHT_FLAG_W,CFC-11,CFC-11_FLAG_W,CFC-12,CFC-12_FLAG_W,SF6,SF6_FLAG_W,TCARBN,TCARBN_FLAG_W,ALKALI,ALKALI_FLAG_W
,,,,,,,,,,,,DB,ITS-90,PSS-78,,PSS-78,,UMOL/KG,,UMOL/KG,,UMOL/KG,,UMOL/KG,,UMOL/KG,,UMOL/KG,,PMOL/KG,,PMOL/KG,,FMOL/KG,,UMOL/KG,,UMOL/KG
           NA,    P03E,     69,   1,-999.0,     -99,  2,20051109,1756,  24.2490, -138.8032,  5179,   10.100,   22.831,   35.087,2,   35.087,2,  205.830,1,  217.350,2,    1.090,2,    0.060,2,    0.000,2,    0.127,2,    1.843,2,    1.120,2, -999.000,9, 2011.700,2, 2326.400,2
           NA,    P03E,     69,   1,-999.0,     -99,  2,20051109,1756,  24.2490, -138.8032,  5179,   50.400,   22.839,   35.085,2,   35.086,2,  205.720,1,  217.240,2,    1.080,2,    0.050,2,    0.000,2,    0.125,2,    1.836,2,    1.118,2, -999.000,9, 2006.900,6, 2324.000,2
           NA,    P03E,     69,   1,-999.0,     -99,  2,20051109,1756,  24.2490, -138.8032,  5179,  100.500,   21.576,   34.917,2,   34.914,2,  212.920,1,  224.660,2,    1.310,2,    0.060,2,    0.010,2,    0.146,2, -999.000,5, -999.000,5, -999.000,9, 2018.800,2, 2316.900,6
           NA,    P03E,     69,   1,-999.0,     -99,  2,20051109,1756,  24.2490, -138.8032,  5179,  150.200,   19.962,   34.948,2,   34.957,2,  205.650,1,  217.030,2,    1.570,2,    0.090,2,    0.160,2,    0.147,2,    2.144,2,    1.283,2, -999.000,9, 2031.500,2, 2313.900,2
           NA,    P03E,     69,   1,-999.0,     -99,  2,20051109,1756,  24.2490, -138.8032,  5179,  199.700,   16.998,   34.507,2,   34.511,2,  195.990,1,  206.670,2,    3.010,2,    2.700,2,    0.020,2,    0.337,2,    2.447,2,    1.428,2, -999.000,9, 2040.600,2, 2281.500,2
           NA,    P03E,     69,   1,-999.0,     -99,  2,20051109,1756,  24.2490, -138.8032,  5179,  248.700,   12.418,   33.979,2,   33.971,2,  192.550,1,  200.800,2,    8.890,2,    9.690,2,    0.010,2,    0.829,2,    3.014,6,    1.646,6, -999.000,9, 2072.800,2, 2252.300,2
           NA,    P03E,     69,   1,-999.0,     -99,  2,20051109,1756,  24.2490, -138.8032,  5179,  299.800,   10.238,   33.992,2,   33.988,2,  178.940,1,  188.620,2,   16.730,2,   15.870,2,    0.000,2,    1.226,2,    3.111,2,    1.627,2, -999.000,9, 2112.600,2, 2254.900,2
           NA,    P03E,     69,   1,-999.0,     -99,  2,20051109,1756,  24.2490, -138.8032,  5179,  400.400,    8.314,   34.112,2,   34.111,2,  108.770,1,  114.460,2,   37.610,2,   27.250,2,    0.000,2,    2.074,2, -999.000,3, -999.000,3, -999.000,9, 2199.500,2, 2278.600,2
           NA,    P03E,     69,   1,-999.0,     -99,  2,20051109,1756,  24.2490, -138.8032,  5179,  501.300,    6.265,   34.090,2,   34.088,6,   64.260,1,   68.130,2,   61.720,2,   35.540,2,    0.010,2,    2.635,2,    0.938,2,    0.449,2, -999.000,9, 2265.100,2, 2298.900,2
           NA,    P03E,     69,   1,-999.0,     -99,  2,20051109,1756,  24.2490, -138.8032,  5179,  601.100,    5.353,   34.221,2,   34.217,2,   26.000,1,   27.690,2,   82.360,2,   40.520,2,    0.000,2,    3.026,2,    0.146,2,    0.155,2, -999.000,9, 2312.000,2, 2323.400,2
           NA,    P03E,     69,   1,-999.0,     -99,  2,20051109,1756,  24.2490, -138.8032,  5179,  699.900,    5.014,   34.344,2,   34.342,2,   20.740,1,   21.720,2,   91.320,2,   41.940,2,    0.000,2,    3.125,2,    0.037,2,    0.019,2, -999.000,9, 2329.000,6, 2340.300,2
           NA,    P03E,     69,   1,-999.0,     -99,  2,20051109,1756,  24.2490, -138.8032,  5179,  797.900,    4.741,   34.420,2,   34.420,2,   24.880,1,   26.040,2,   96.880,2,   42.530,2,    0.000,2,    3.140,2,    0.018,6,    0.010,6, -999.000,9, 2333.100,2, 2356.200,6
           NA,    P03E,     69,   1,-999.0,     -99,  2,20051109,1756,  24.2490, -138.8032,  5179,  899.800,    4.452,   34.464,2,   34.463,2,   29.490,1,   31.060,2,  102.200,2,   42.690,2,    0.000,2,    3.140,2,    0.001,2,    0.003,2, -999.000,9, 2337.400,2, 2362.200,2
           NA,    P03E,     69,   1,-999.0,     -99,  2,20051109,1756,  24.2490, -138.8032,  5179, 1000.400,    4.150,   34.495,2,   34.494,6,   32.680,1,   34.400,2,  108.680,2,   42.990,2,    0.000,2,    3.150,2,    0.004,2,    0.005,2, -999.000,9, 2345.100,2, 2370.800,2
           NA,    P03E,     69,   1,-999.0,     -99,  2,20051109,1756,  24.2490, -138.8032,  5179, 1202.100,    3.611,   34.530,2,   34.529,2,   41.310,1,   43.590,2,  120.690,2,   42.690,2,    0.000,2,    3.125,2,    0.000,2,    0.000,2, -999.000,9, 2351.200,2, 2388.800,2
           NA,    P03E,     69,   1,-999.0,     -99,  2,20051109,1756,  24.2490, -138.8032,  5179, 1402.200,    3.138,   34.556,2,   34.556,2,   49.790,1,   52.520,2,  131.780,2,   42.330,2,    0.000,2,    3.078,2,    0.001,2,    0.001,2, -999.000,9, 2358.900,2, 2396.800,2
           NA,    P03E,     69,   1,-999.0,     -99,  2,20051109,1756,  24.2490, -138.8032,  5179, 1600.500,    2.766,   34.581,2,   34.580,2,   56.980,1,   60.320,2,  141.430,2,   41.920,2,    0.000,2,    3.039,2,    0.002,2,    0.000,2, -999.000,9, 2365.500,2, 2408.500,2
           NA,    P03E,     69,   1,-999.0,     -99,  2,20051109,1756,  24.2490, -138.8032,  5179, 1800.500,    2.408,   34.603,2,   34.603,2,   67.760,1,   71.810,2,  150.040,2,   41.370,2,    0.000,2,    2.968,2,    0.000,2,    0.000,2, -999.000,9, 2367.000,2, 2420.100,2
           NA,    P03E,     69,   1,-999.0,     -99,  2,20051109,1756,  24.2490, -138.8032,  5179, 2000.100,    2.165,   34.620,2,   34.620,6,   77.090,1,   81.810,2,  155.490,2,   40.700,2,    0.000,2,    2.909,2,    0.018,2,    0.000,2, -999.000,9, 2364.000,2, 2418.400,2
           NA,    P03E,     69,   1,-999.0,     -99,  2,20051109,1756,  24.2490, -138.8032,  5179, 2198.200,    1.970,   34.633,2,   34.633,2,   85.470,1,   91.280,2,  159.810,2,   40.120,2,    0.000,2,    2.853,2, -999.000,9, -999.000,9, -999.000,9, 2364.000,2, 2422.800,2
           NA,    P03E,     69,   1,-999.0,     -99,  2,20051109,1756,  24.2490, -138.8032,  5179, 2396.500,    1.835,   34.644,2,   34.643,2,   92.650,1,   99.000,2,  162.690,2,   39.530,2,    0.000,2,    2.812,2, -999.000,9, -999.000,9, -999.000,9, 2363.300,2, 2426.800,2
           NA,    P03E,     69,   1,-999.0,     -99,  2,20051109,1756,  24.2490, -138.8032,  5179, 2599.300,    1.721,   34.654,2,   34.654,2,  100.020,1,  107.010,2,  164.780,2,   39.070,2,    0.000,2,    2.767,2, -999.000,9, -999.000,9, -999.000,9, 2357.400,2, 2431.100,6
           NA,    P03E,     69,   1,-999.0,     -99,  2,20051109,1756,  24.2490, -138.8032,  5179, 2798.900,    1.638,   34.661,2,   34.661,2,  106.490,1,  113.720,2,  166.420,2,   38.670,2,    0.000,2,    2.733,2, -999.000,9, -999.000,9, -999.000,9, 2353.600,2, 2432.000,2
           NA,    P03E,     69,   1,-999.0,     -99,  2,20051109,1756,  24.2490, -138.8032,  5179, 2999.300,    1.577,   34.668,2,   34.668,6,  113.030,1,  120.760,2,  165.670,2,   38.310,2,    0.000,2,    2.695,2, -999.000,9, -999.000,9, -999.000,9, 2349.100,2, 2431.100,2
           NA,    P03E,     69,   1,-999.0,     -99,  2,20051109,1756,  24.2490, -138.8032,  5179, 3249.600,    1.524,   34.675,2,   34.674,2,  120.540,1,  128.870,2,  164.820,2,   37.670,2,    0.000,2,    2.649,2, -999.000,9, -999.000,9, -999.000,9, 2345.600,2, 2430.600,2
           NA,    P03E,     69,   1,-999.0,     -99,  2,20051109,1756,  24.2490, -138.8032,  5179, 3501.900,    1.500,   34.679,2,   34.679,2,  126.160,1,  134.650,2,  162.930,2,   37.330,2,    0.000,2,    2.616,2, -999.000,9, -999.000,9, -999.000,9, 2342.500,2, 2430.500,2
           NA,    P03E,     69,   1,-999.0,     -99,  2,20051109,1756,  24.2490, -138.8032,  5179, 3750.200,    1.484,   34.683,2,   34.683,2,  131.900,1,  140.290,2,  160.590,2,   36.870,2,    0.000,2,    2.586,2, -999.000,9, -999.000,9, -999.000,9, 2337.700,2, -999.000,4
           NA,    P03E,     69,   1,-999.0,     -99,  2,20051109,1756,  24.2490, -138.8032,  5179, 3998.600,    1.481,   34.686,2,   34.685,6,  136.540,1,  145.090,2,  158.170,2,   36.630,2,    0.000,2,    2.562,2, -999.000,9, -999.000,9, -999.000,9, 2331.400,2, 2428.900,2
           NA,    P03E,     69,   1,-999.0,     -99,  2,20051109,1756,  24.2490, -138.8032,  5179, 4249.000,    1.489,   34.688,2,   34.687,2,  140.050,1,  148.460,2,  155.790,2,   36.350,2,    0.000,2,    2.545,2, -999.000,9, -999.000,9, -999.000,9, 2327.400,6, 2429.300,2
           NA,    P03E,     69,   1,-999.0,     -99,  2,20051109,1756,  24.2490, -138.8032,  5179, 4500.100,    1.503,   34.689,2,   34.689,2,  143.160,1,  151.180,2,  153.480,2,   36.130,2,    0.010,2,    2.522,2, -999.000,9, -999.000,9, -999.000,9, -999.000,3, 2428.600,2
           NA,    P03E,     69,   1,-999.0,     -99,  2,20051109,1756,  24.2490, -138.8032,  5179, 4748.500,    1.486,   34.692,2,   34.692,2,  150.680,1,  158.370,2,  148.080,2,   35.690,2,    0.000,2,    2.488,2, -999.000,9, -999.000,9, -999.000,9, 2317.900,2, -999.000,5
           NA,    P03E,     69,   1,-999.0,     -99,  2,20051109,1756,  24.2490, -138.8032,  5179, 4999.600,    1.472,   34.695,2,   34.695,2,  158.010,1,  165.310,2,  142.730,2,   35.100,2,    0.000,2,    2.449,2, -999.000,9, -999.000,9, -999.000,9, 2312.700,2, 2418.100,2
           NA,    P03E,     69,   1,-999.0,     -99,  2,20051109,1756,  24.2490, -138.8032,  5179, 5255.700,    1.494,   34.695,2,   34.695,6,  160.960,1,  167.120,2,  141.820,2,   34.990,2,    0.010,2,    2.445,2, -999.000,9, -999.000,9, -999.000,9, 2314.000,2, 2419.500,2
           NA,    P03E,     69,   1,-999.0,     -99,  2,20051109,1756,  24.2490, -138.8032,  5179, 5256.400,    1.494,   34.695,2,   34.695,2,  160.950,1,  167.010,2,  141.310,2,   35.100,2,    0.000,2,    2.445,2, -999.000,9, -999.000,9, -999.000,9, 2310.300,2, 2415.700,2
           NA,    P03E,     67,   1,-999.0,     -99,  2,20051109,1117,  24.2362, -138.0088,  4943,    9.400,   22.771,   35.227,2,   35.226,2,  205.920,1,  217.440,2,    1.230,2,    0.040,2,    0.000,2,    0.095,2,    1.836,2,    1.122,2, -999.000,9, -999.000,9, -999.000,9
           NA,    P03E,     67,   1,-999.0,     -99,  2,20051109,1117,  24.2362, -138.0088,  4943,   49.700,   22.782,   35.226,2,   35.226,2,  205.960,1,  217.460,2,    1.230,2,    0.040,2,    0.000,2,    0.097,2, -999.000,9, -999.000,9, -999.000,9, -999.000,9, -999.000,9
           NA,    P03E,     67,   1,-999.0,     -99,  2,20051109,1117,  24.2362, -138.0088,  4943,  101.500,   20.861,   35.073,2,   35.074,2,  216.920,1,  228.530,2,    1.580,2,    0.030,2,    0.000,2,    0.085,2,    2.088,2,    1.268,2, -999.000,9, -999.000,9, -999.000,9
           NA,    P03E,     67,   1,-999.0,     -99,  2,20051109,1117,  24.2362, -138.0088,  4943,  148.500,   19.170,   34.907,2,   34.911,2,  205.280,1,  216.690,2,    2.010,2,    0.190,2,    0.140,2,    0.131,2, -999.000,9, -999.000,9, -999.000,9, -999.000,9, -999.000,9
           NA,    P03E,     67,   1,-999.0,     -99,  2,20051109,1117,  24.2362, -138.0088,  4943,  198.100,   15.905,   34.432,2,   34.426,2,  198.290,1,  208.780,2,    4.030,2,    3.800,2,    0.010,2,    0.389,2,    2.598,2,    1.496,2, -999.000,9, -999.000,9, -999.000,9
           NA,    P03E,     67,   1,-999.0,     -99,  2,20051109,1117,  24.2362, -138.0088,  4943,  249.700,   12.723,   34.184,2,   34.183,2,  203.710,1,  214.080,2,    8.300,2,    8.810,2,    0.000,2,    0.700,2, -999.000,9, -999.000,9, -999.000,9, -999.000,9, -999.000,9
           NA,    P03E,     67,   1,-999.0,     -99,  2,20051109,1117,  24.2362, -138.0088,  4943,  299.800,   10.760,   34.082,2,   34.085,2,  202.080,1,  212.060,2,   13.860,2,   13.240,2,    0.000,2,    0.991,2,    3.141,2,    1.690,2, -999.000,9, -999.000,9, -999.000,9
           NA,    P03E,     67,   1,-999.0,     -99,  2,20051109,1117,  24.2362, -138.0088,  4943,  400.800,    8.594,   34.073,2,   34.075,2,  164.120,1,  170.830,2,   30.200,2,   22.220,2,    0.000,2,    1.600,2,    2.779,2,    1.403,2, -999.000,9, -999.000,9, -999.000,9
           NA,    P03E,     67,   1,-999.0,     -99,  2,20051109,1117,  24.2362, -138.0088,  4943,  501.100,    6.321,   34.034,2,   34.034,6,   88.030,1,   92.780,2,   57.650,2,   33.630,2,    0.000,2,    2.460,2,    1.409,2,    0.664,2, -999.000,9, -999.000,9, -999.000,9
           NA,    P03E,     67,   1,-999.0,     -99,  2,20051109,1117,  24.2362, -138.0088,  4943,  600.200,    5.191,   34.142,2,   34.141,2,   35.630,1,   37.140,2,   82.650,2,   40.170,2,    0.000,2,    2.968,2,    0.337,2,    0.140,2, -999.000,9, -999.000,9, -999.000,9
           NA,    P03E,     67,   1,-999.0,     -99,  2,20051109,1117,  24.2362, -138.0088,  4943,  698.900,    4.810,   34.280,2,   34.279,2,   17.130,1,   17.800,2,   95.400,2,   42.390,2,    0.000,2,    3.159,2,    0.061,2,    0.027,2, -999.000,9, -999.000,9, -999.000,9
           NA,    P03E,     67,   1,-999.0,     -99,  2,20051109,1117,  24.2362, -138.0088,  4943,  799.600,    4.591,   34.389,2,   34.389,2,   20.120,1,   21.030,2,  100.920,2,   42.900,2,    0.000,2,    3.185,2,    0.006,2,    0.014,2, -999.000,9, -999.000,9, -999.000,9
           NA,    P03E,     67,   1,-999.0,     -99,  2,20051109,1117,  24.2362, -138.0088,  4943,  901.400,    4.350,   34.458,2,   34.456,2,   27.130,1,   28.080,2,  105.050,2,   42.890,2,    0.000,2,    3.161,2,    0.004,2,    0.001,2, -999.000,9, -999.000,9, -999.000,9
           NA,    P03E,     67,   1,-999.0,     -99,  2,20051109,1117,  24.2362, -138.0088,  4943, 1002.300,    4.085,   34.489,2,   34.488,6,   31.030,1,   32.400,2,  110.700,2,   42.970,2,    0.000,2,    3.159,2,    0.000,2,    0.005,2, -999.000,9, -999.000,9, -999.000,9
           NA,    P03E,     67,   1,-999.0,     -99,  2,20051109,1117,  24.2362, -138.0088,  4943, 1200.900,    3.553,   34.531,2,   34.531,2,   39.700,1,   41.850,2,  122.670,2,   42.910,2,    0.000,2,    3.138,2,    0.002,2,    0.000,2, -999.000,9, -999.000,9, -999.000,9
           NA,    P03E,     67,   1,-999.0,     -99,  2,20051109,1117,  24.2362, -138.0088,  4943, 1401.600,    3.112,   34.558,2,   34.558,2,   47.100,1,   49.560,2,  133.720,2,   42.590,2,    0.000,2,    3.108,2,    0.002,2,    0.001,2, -999.000,9, -999.000,9, -999.000,9
           NA,    P03E,     67,   1,-999.0,     -99,  2,20051109,1117,  24.2362, -138.0088,  4943, 1601.700,    2.711,   34.583,2,   34.583,2,   57.030,1,   60.290,2,  143.660,2,   42.060,2,    0.000,2,    3.046,2,    0.000,2,    0.000,2, -999.000,9, -999.000,9, -999.000,9
           NA,    P03E,     67,   1,-999.0,     -99,  2,20051109,1117,  24.2362, -138.0088,  4943, 1800.600,    2.399,   34.606,2,   34.605,2,   67.580,1,   71.260,2,  150.520,2,   41.310,2,    0.000,2,    2.976,2,    0.000,2,    0.000,2, -999.000,9, -999.000,9, -999.000,9
           NA,    P03E,     67,   1,-999.0,     -99,  2,20051109,1117,  24.2362, -138.0088,  4943, 2002.100,    2.133,   34.624,2,   34.623,2,   78.430,1,   83.010,2,  156.490,2,   40.590,2,    0.000,2,    2.913,2,    0.000,2,    0.000,2, -999.000,9, -999.000,9, -999.000,9
           NA,    P03E,     67,   1,-999.0,     -99,  2,20051109,1117,  24.2362, -138.0088,  4943, 2198.500,    1.957,   34.637,2,   34.636,2,   87.000,1,   92.310,2,  160.020,2,   40.000,2,    0.000,2,    2.859,2, -999.000,9, -999.000,9, -999.000,9, -999.000,9, -999.000,9
           NA,    P03E,     67,   1,-999.0,     -99,  2,20051109,1117,  24.2362, -138.0088,  4943, 2398.500,    1.817,   34.646,2,   34.646,6,   94.430,1,  100.100,2,  162.980,2,   39.660,2,    0.000,2,    2.813,2, -999.000,9, -999.000,9, -999.000,9, -999.000,9, -999.000,9
           NA,    P03E,     67,   1,-999.0,     -99,  2,20051109,1117,  24.2362, -138.0088,  4943, 2599.700,    1.704,   34.655,2,   34.655,2,  101.470,1,  108.040,2,  165.220,2,   39.080,2,    0.000,2,    2.769,2, -999.000,9, -999.000,9, -999.000,9, -999.000,9, -999.000,9
           NA,    P03E,     67,   1,-999.0,     -99,  2,20051109,1117,  24.2362, -138.0088,  4943, 2800.400,    1.614,   34.664,2,   34.663,2,  108.930,1,  115.820,2,  166.220,2,   38.580,2,    0.000,2,    2.722,2, -999.000,9, -999.000,9, -999.000,9, -999.000,9, -999.000,9
           NA,    P03E,     67,   1,-999.0,     -99,  2,20051109,1117,  24.2362, -138.0088,  4943, 2999.100,    1.555,   34.670,2,   34.669,2,  115.670,1,  123.010,2,  165.530,2,   38.140,2,    0.000,2,    2.688,2, -999.000,9, -999.000,9, -999.000,9, -999.000,9, -999.000,9
           NA,    P03E,     67,   1,-999.0,     -99,  2,20051109,1117,  24.2362, -138.0088,  4943, 3249.700,    1.511,   34.676,2,   34.675,6,  122.740,1,  130.590,2,  163.860,2,   37.700,2,    0.000,2,    2.641,2, -999.000,9, -999.000,9, -999.000,9, -999.000,9, -999.000,9
           NA,    P03E,     67,   1,-999.0,     -99,  2,20051109,1117,  24.2362, -138.0088,  4943, 3500.000,    1.486,   34.681,2,   34.680,2,  128.810,1,  136.820,2,  162.090,2,   37.150,2,    0.000,2,    2.609,2, -999.000,9, -999.000,9, -999.000,9, -999.000,9, -999.000,9
           NA,    P03E,     67,   1,-999.0,     -99,  2,20051109,1117,  24.2362, -138.0088,  4943, 3751.200,    1.479,   34.684,2,   34.683,2,  133.430,1,  141.490,2,  160.330,2,   36.930,2,    0.000,2,    2.586,2, -999.000,9, -999.000,9, -999.000,9, -999.000,9, -999.000,9
           NA,    P03E,     67,   1,-999.0,     -99,  2,20051109,1117,  24.2362, -138.0088,  4943, 4000.300,    1.479,   34.686,2,   34.685,2,  137.710,1,  145.690,2,  157.840,2,   36.610,2,    0.000,2,    2.568,2, -999.000,9, -999.000,9, -999.000,9, -999.000,9, -999.000,9
           NA,    P03E,     67,   1,-999.0,     -99,  2,20051109,1117,  24.2362, -138.0088,  4943, 4250.300,    1.487,   34.688,2,   34.687,6,  141.150,1,  148.850,2,  155.870,2,   36.420,2,    0.000,2,    2.548,2, -999.000,9, -999.000,9, -999.000,9, -999.000,9, -999.000,9
           NA,    P03E,     67,   1,-999.0,     -99,  2,20051109,1117,  24.2362, -138.0088,  4943, 4500.200,    1.492,   34.689,2,   34.689,2,  145.560,1,  152.890,2,  152.780,2,   36.140,2,    0.000,2,    2.524,2, -999.000,9, -999.000,9, -999.000,9, -999.000,9, -999.000,9
           NA,    P03E,     67,   1,-999.0,     -99,  2,20051109,1117,  24.2362, -138.0088,  4943, 4750.400,    1.482,   34.692,2,   34.692,2,  152.450,1,  159.230,2,  147.600,2,   35.710,2,    0.000,2,    2.492,2, -999.000,9, -999.000,9, -999.000,9, -999.000,9, -999.000,9
           NA,    P03E,     67,   1,-999.0,     -99,  2,20051109,1117,  24.2362, -138.0088,  4943, 5013.000,    1.477,   34.695,2,   34.694,6,  159.450,1,  165.110,2,  143.140,2,   35.250,2,    0.000,2,    2.462,2, -999.000,9, -999.000,9, -999.000,9, -999.000,9, -999.000,9
           NA,    P03E,     67,   1,-999.0,     -99,  2,20051109,1117,  24.2362, -138.0088,  4943, 5013.300,    1.477,   34.695,2,   34.695,2,  159.240,1,  165.130,2,  143.440,2,   35.210,2,    0.000,2,    2.461,2, -999.000,9, -999.000,9, -999.000,9, -999.000,9, -999.000,9