BOTTLE,20211903JOAExport
EXPOCODE,SECT_ID,STNNBR,CASTNO,SAMPNO,BTLNBR,BTLNBR_FLAG_W,DATE,TIME,LATITUDE,LONGITUDE,DEPTH,CTDPRS,CTDTMP,CTDSAL,CTDSAL_FLAG_W,SALNTY,SALNTY_FLAG_W,CTDOXY,CTDOXY_FLAG_W,OXYGEN,OXYGEN_FLAG_W,SILCAT,SILCAT_FLAG_W,NITRAT,NITRAT_FLAG_W,NITRIT,NITRIT_FLAG_W,PHSPHT,PHSPHT_FLAG_W,CFC-11,CFC-11_FLAG_W,CFC-12,CFC-12_FLAG_W,SF6,SF6_FLAG_W,TCARBN,TCARBN_FLAG_W,ALKALI,ALKALI_FLAG_W
,,,,,,,,,,,,DB,ITS-90,PSS-78,,PSS-78,,UMOL/KG,,UMOL/KG,,UMOL/KG,,UMOL/KG,,UMOL/KG,,UMOL/KG,,PMOL/KG,,PMOL/KG,,FMOL/KG,,UMOL/KG,,UMOL/KG
           NA,    P03C,    148,   1,-999.0,     -99,  2,20051130,0848,  24.6005, -166.6607,  4212,    9.400,   25.462,   35.218,2,   35.218,2, -999.000,3,  206.400,2,    0.930,2,    0.040,2,    0.000,2,    0.039,2,    1.679,2,    0.966,2, -999.000,9, -999.000,9, -999.000,9
           NA,    P03C,    148,   1,-999.0,     -99,  2,20051130,0848,  24.6005, -166.6607,  4212,   50.700,   25.478,   35.220,2,   35.221,2, -999.000,3,  206.310,2,    0.950,2,    0.020,2,    0.000,2,    0.038,2,    1.692,2,    1.004,2, -999.000,9, -999.000,9, -999.000,9
           NA,    P03C,    148,   1,-999.0,     -99,  2,20051130,0848,  24.6005, -166.6607,  4212,   99.900,   25.372,   35.225,2,   35.225,2, -999.000,3,  207.010,2,    0.990,2,    0.030,2,    0.000,2,    0.037,2,    1.715,2,    0.998,2, -999.000,9, -999.000,9, -999.000,9
           NA,    P03C,    148,   1,-999.0,     -99,  2,20051130,0848,  24.6005, -166.6607,  4212,  150.500,   21.672,   35.160,2,   35.156,2, -999.000,3,  200.760,2,    1.620,2,    0.980,2,    0.050,2,    0.145,2,    2.090,2,    1.186,2, -999.000,9, -999.000,9, -999.000,9
           NA,    P03C,    148,   1,-999.0,     -99,  2,20051130,0848,  24.6005, -166.6607,  4212,  200.100,   19.948,   35.055,2,   35.054,2, -999.000,3,  202.300,2,    2.170,2,    1.570,2,    0.020,2,    0.189,2,    2.227,2,    1.253,2, -999.000,9, -999.000,9, -999.000,9
           NA,    P03C,    148,   1,-999.0,     -99,  2,20051130,0848,  24.6005, -166.6607,  4212,  251.000,   17.569,   34.822,2,   34.820,2, -999.000,3,  204.490,2,    3.630,2,    3.550,2,    0.010,2,    0.318,2,    2.456,6,    1.357,6, -999.000,9, -999.000,9, -999.000,9
           NA,    P03C,    148,   1,-999.0,     -99,  2,20051130,0848,  24.6005, -166.6607,  4212,  299.200,   15.987,   34.671,2,   34.662,2, -999.000,3,  214.040,2,    5.030,2,    4.900,2,    0.010,2,    0.393,2,    2.613,2,    1.414,2, -999.000,9, -999.000,9, -999.000,9
           NA,    P03C,    148,   1,-999.0,     -99,  2,20051130,0848,  24.6005, -166.6607,  4212,  401.000,   13.103,   34.406,2,   34.403,2, -999.000,3,  212.630,2,   10.350,2,    9.870,2,    0.000,2,    0.726,2,    2.895,2,    1.514,2, -999.000,9, -999.000,9, -999.000,9
           NA,    P03C,    148,   1,-999.0,     -99,  2,20051130,0848,  24.6005, -166.6607,  4212,  501.300,    9.586,   34.148,2,   34.148,2,  167.810,1,  182.020,2,   24.970,2,   19.150,2,    0.000,2,    1.388,2,    2.850,2,    1.389,2, -999.000,9, -999.000,9, -999.000,9
           NA,    P03C,    148,   1,-999.0,     -99,  2,20051130,0848,  24.6005, -166.6607,  4212,  600.300,    7.591,   34.073,2,   34.072,2,  124.060,1,  134.100,2,   43.110,2,   27.620,2,    0.000,2,    1.994,2,    2.089,2,    0.968,2, -999.000,9, -999.000,9, -999.000,9
           NA,    P03C,    148,   1,-999.0,     -99,  2,20051130,0848,  24.6005, -166.6607,  4212,  700.100,    5.851,   34.116,2,   34.118,2,   65.280,1,   70.240,2,   70.170,2,   36.430,2,    0.000,2,    2.662,2,    0.840,2,    0.388,2, -999.000,9, -999.000,9, -999.000,9
           NA,    P03C,    148,   1,-999.0,     -99,  2,20051130,0848,  24.6005, -166.6607,  4212,  802.800,    5.051,   34.209,2,   34.208,2,   39.410,1,   42.880,2,   87.240,2,   40.190,2,    0.000,2,    2.950,2,    0.327,6,    0.151,6, -999.000,9, -999.000,9, -999.000,9
           NA,    P03C,    148,   1,-999.0,     -99,  2,20051130,0848,  24.6005, -166.6607,  4212,  900.900,    4.447,   34.304,2,   34.303,2,   32.110,1,   34.880,2,  101.530,2,   41.730,2,    0.000,2,    3.051,2,    0.135,2,    0.054,2, -999.000,9, -999.000,9, -999.000,9
           NA,    P03C,    148,   1,-999.0,     -99,  2,20051130,0848,  24.6005, -166.6607,  4212, 1002.500,    4.009,   34.372,2,   34.371,6,   35.160,1,   37.960,2,  112.020,2,   42.210,2,    0.000,2,    3.069,2,    0.079,2,    0.042,2, -999.000,9, -999.000,9, -999.000,9
           NA,    P03C,    148,   1,-999.0,     -99,  2,20051130,0848,  24.6005, -166.6607,  4212, 1201.900,    3.301,   34.490,2,   34.490,2,   48.250,1,   52.410,2,  127.470,2,   42.040,2,    0.000,2,    3.033,2,    0.023,2,    0.010,2, -999.000,9, -999.000,9, -999.000,9
           NA,    P03C,    148,   1,-999.0,     -99,  2,20051130,0848,  24.6005, -166.6607,  4212, 1400.900,    2.808,   34.536,2,   34.537,2,   56.530,1,   61.420,2,  139.240,2,   41.820,2,    0.000,2,    2.997,2,    0.026,2,    0.011,2, -999.000,9, -999.000,9, -999.000,9
           NA,    P03C,    148,   1,-999.0,     -99,  2,20051130,0848,  24.6005, -166.6607,  4212, 1601.200,    2.483,   34.570,2,   34.570,2,   66.800,1,   72.710,2,  145.520,2,   41.280,2,    0.000,2,    2.943,2,    0.015,2,    0.004,2, -999.000,9, -999.000,9, -999.000,9
           NA,    P03C,    148,   1,-999.0,     -99,  2,20051130,0848,  24.6005, -166.6607,  4212, 1802.200,    2.246,   34.592,2,   34.592,6,   74.260,1,   80.910,2,  150.930,2,   40.850,2,    0.000,2,    2.897,2,    0.009,2,    0.004,2, -999.000,9, -999.000,9, -999.000,9
           NA,    P03C,    148,   1,-999.0,     -99,  2,20051130,0848,  24.6005, -166.6607,  4212, 2000.700,    2.030,   34.614,2,   34.614,2,   84.230,1,   91.990,2,  154.410,2,   40.060,2,    0.000,2,    2.846,2,    0.010,2,    0.001,2, -999.000,9, -999.000,9, -999.000,9
           NA,    P03C,    148,   1,-999.0,     -99,  2,20051130,0848,  24.6005, -166.6607,  4212, 2201.400,    1.895,   34.626,2,   34.626,2,   89.500,1,   97.750,2,  157.030,2,   39.680,2,    0.000,2,    2.816,2,    0.009,2,    0.004,2, -999.000,9, -999.000,9, -999.000,9
           NA,    P03C,    148,   1,-999.0,     -99,  2,20051130,0848,  24.6005, -166.6607,  4212, 2401.800,    1.772,   34.639,2,   34.639,2,   97.120,1,  106.230,2,  158.550,2,   39.260,2,    0.000,2,    2.775,2, -999.000,9, -999.000,9, -999.000,9, -999.000,9, -999.000,9
           NA,    P03C,    148,   1,-999.0,     -99,  2,20051130,0848,  24.6005, -166.6607,  4212, 2599.900,    1.680,   34.649,2,   34.649,6,  103.020,1,  112.600,2,  159.710,2,   38.900,2,    0.000,2,    2.746,2,    0.015,2,    0.004,2, -999.000,9, -999.000,9, -999.000,9
           NA,    P03C,    148,   1,-999.0,     -99,  2,20051130,0848,  24.6005, -166.6607,  4212, 2800.800,    1.600,   34.659,2,   34.659,2,  110.560,1,  120.890,2,  159.160,2,   38.340,2,    0.000,2,    2.703,2, -999.000,9, -999.000,9, -999.000,9, -999.000,9, -999.000,9
           NA,    P03C,    148,   1,-999.0,     -99,  2,20051130,0848,  24.6005, -166.6607,  4212, 3001.700,    1.548,   34.666,2,   34.666,2,  116.970,1,  127.580,2,  158.120,2,   37.770,2,    0.000,2,    2.668,2,    0.015,2,    0.004,2, -999.000,9, -999.000,9, -999.000,9
           NA,    P03C,    148,   1,-999.0,     -99,  2,20051130,0848,  24.6005, -166.6607,  4212, 3252.300,    1.505,   34.673,2,   34.673,6,  124.440,1,  135.250,2,  156.000,2,   37.350,2,    0.000,2,    2.613,2, -999.000,9, -999.000,9, -999.000,9, -999.000,9, -999.000,9
           NA,    P03C,    148,   1,-999.0,     -99,  2,20051130,0848,  24.6005, -166.6607,  4212, 3499.900,    1.465,   34.680,2,   34.680,2,  130.600,1,  141.710,2,  154.790,2,   36.830,2,    0.000,2,    2.581,2, -999.000,9, -999.000,9, -999.000,9, -999.000,9, -999.000,9
           NA,    P03C,    148,   1,-999.0,     -99,  2,20051130,0848,  24.6005, -166.6607,  4212, 3750.500,    1.449,   34.684,2,   34.684,2,  135.660,1,  146.880,2,  153.940,2,   36.470,2,    0.000,2,    2.558,2,    0.029,2,    0.001,2, -999.000,9, -999.000,9, -999.000,9
           NA,    P03C,    148,   1,-999.0,     -99,  2,20051130,0848,  24.6005, -166.6607,  4212, 3999.300,    1.449,   34.686,2,   34.686,2,  139.450,1,  150.210,2,  152.730,2,   36.330,2,    0.000,2,    2.539,2, -999.000,9, -999.000,9, -999.000,9, -999.000,9, -999.000,9
           NA,    P03C,    148,   1,-999.0,     -99,  2,20051130,0848,  24.6005, -166.6607,  4212, 4259.200,    1.460,   34.688,2,   34.688,2,  142.740,1,  152.810,2,  151.310,2,   36.180,2,    0.000,2,    2.530,2, -999.000,9, -999.000,9, -999.000,9, -999.000,9, -999.000,9
           NA,    P03C,    148,   1,-999.0,     -99,  2,20051130,0848,  24.6005, -166.6607,  4212, 4260.200,    1.459,   34.688,2,   34.688,6,  142.860,1,  152.740,2,  151.400,2,   36.300,2,    0.000,2,    2.531,2,    0.031,2,    0.004,2, -999.000,9, -999.000,9, -999.000,9
           NA,    P03C,    146,   2,-999.0,     -99,  2,20051130,0318,  24.6663, -166.5508,  5109,   10.200,   25.427,   35.180,2,   35.181,2, -999.000,3,  206.620,2,    1.010,2,    0.050,2,    0.000,2,    0.046,2,    1.634,2,    0.976,2, -999.000,9, 1976.700,2, 2310.800,2
           NA,    P03C,    146,   2,-999.0,     -99,  2,20051130,0318,  24.6663, -166.5508,  5109,   49.300,   25.388,   35.183,2,   35.184,2, -999.000,3,  206.440,2,    1.000,2,    0.040,2,    0.000,2,    0.047,2,    1.640,2,    0.981,2, -999.000,9, 1977.100,6, 2309.700,2
           NA,    P03C,    146,   2,-999.0,     -99,  2,20051130,0318,  24.6663, -166.5508,  5109,  101.500,   23.445,   35.199,2,   35.197,2, -999.000,3,  212.980,2,    1.240,2,    0.060,2,    0.050,2,    0.076,2,    1.883,2,    1.108,2, -999.000,9, 2002.500,2, 2312.800,6
           NA,    P03C,    146,   2,-999.0,     -99,  2,20051130,0318,  24.6663, -166.5508,  5109,  149.500,   20.900,   35.135,2,   35.134,2, -999.000,3,  197.740,2,    1.870,2,    1.410,2,    0.030,2,    0.186,2,    2.057,2,    1.188,2, -999.000,9, 2031.300,2, 2303.200,2
           NA,    P03C,    146,   2,-999.0,     -99,  2,20051130,0318,  24.6663, -166.5508,  5109,  198.900,   18.317,   34.894,2,   34.891,2, -999.000,3,  199.370,2,    3.320,2,    3.230,2,    0.010,2,    0.304,2,    2.294,2,    1.326,2, -999.000,9, 2043.000,2, 2288.900,2
           NA,    P03C,    146,   2,-999.0,     -99,  2,20051130,0318,  24.6663, -166.5508,  5109,  250.200,   16.441,   34.716,2,   34.714,2, -999.000,3,  211.630,2,    4.580,2,    4.320,2,    0.010,2,    0.367,2,    2.450,6,    1.408,6, -999.000,9, 2041.600,2, 2277.300,2
           NA,    P03C,    146,   2,-999.0,     -99,  2,20051130,0318,  24.6663, -166.5508,  5109,  301.900,   14.650,   34.551,2,   34.540,2, -999.000,3,  219.510,2,    6.900,2,    6.660,2,    0.010,2,    0.510,2,    2.655,2,    1.513,2, -999.000,9, 2051.100,2, 2266.800,2
           NA,    P03C,    146,   2,-999.0,     -99,  2,20051130,0318,  24.6663, -166.5508,  5109,  400.900,   11.196,   34.250,2,   34.245,2, -999.000,3,  202.750,2,   16.720,2,   14.240,2,    0.010,2,    1.035,2,    2.837,2,    1.522,2, -999.000,9, 2099.700,2, 2262.300,2
           NA,    P03C,    146,   2,-999.0,     -99,  2,20051130,0318,  24.6663, -166.5508,  5109,  501.200,    8.980,   34.118,2,   34.117,6,  153.580,1,  166.750,2,   30.680,2,   21.770,2,    0.010,2,    1.578,2,    2.493,2,    1.267,2, -999.000,9, 2150.800,2, 2263.000,2
           NA,    P03C,    146,   2,-999.0,     -99,  2,20051130,0318,  24.6663, -166.5508,  5109,  600.700,    6.748,   34.070,2,   34.071,2,   96.480,1,  103.680,2,   54.720,2,   31.810,2,    0.010,2,    2.313,2,    1.441,2,    0.686,2, -999.000,9, 2228.600,2, 2280.800,2
           NA,    P03C,    146,   2,-999.0,     -99,  2,20051130,0318,  24.6663, -166.5508,  5109,  701.800,    5.573,   34.138,2,   34.140,2,   52.000,1,   55.920,2,   75.870,2,   38.090,2,    0.000,2,    2.791,2,    0.532,2,    0.264,2, -999.000,9, 2284.500,6, 2301.600,2
           NA,    P03C,    146,   2,-999.0,     -99,  2,20051130,0318,  24.6663, -166.5508,  5109,  799.400,    4.820,   34.236,2,   34.238,2,   36.150,1,   39.240,2,   93.130,2,   40.740,2,    0.010,2,    2.986,2,    0.229,6,    0.119,6, -999.000,9, 2315.600,2, 2325.800,6
           NA,    P03C,    146,   2,-999.0,     -99,  2,20051130,0318,  24.6663, -166.5508,  5109,  901.200,    4.235,   34.324,2,   34.326,2,   35.180,1,   38.070,2,  106.810,2,   41.800,2,    0.000,2,    3.039,2,    0.119,2,    0.061,2, -999.000,9, 2334.100,2, 2340.500,2
           NA,    P03C,    146,   2,-999.0,     -99,  2,20051130,0318,  24.6663, -166.5508,  5109, 1002.900,    3.835,   34.395,2,   34.396,6,   35.810,1,   38.690,2,  116.260,2,   42.290,2,    0.000,2,    3.062,2,    0.045,2,    0.025,2, -999.000,9, 2344.900,2, 2355.500,2
           NA,    P03C,    146,   2,-999.0,     -99,  2,20051130,0318,  24.6663, -166.5508,  5109, 1202.600,    3.327,   34.477,2, -999.000,3,   44.300,1,   48.000,2,  127.620,2,   42.230,2,    0.000,2,    3.042,2,    0.011,2,    0.010,2, -999.000,9, 2353.300,2, 2373.800,2
           NA,    P03C,    146,   2,-999.0,     -99,  2,20051130,0318,  24.6663, -166.5508,  5109, 1400.500,    2.876,   34.533,2,   34.533,2,   55.970,1,   61.020,2,  137.740,2,   41.740,2,    0.000,2,    2.988,2,    0.000,2,    0.000,2, -999.000,9, 2356.900,2, 2391.100,2
           NA,    P03C,    146,   2,-999.0,     -99,  2,20051130,0318,  24.6663, -166.5508,  5109, 1603.800,    2.497,   34.569,2,   34.569,2,   65.880,1,   71.880,2,  145.890,2,   41.160,2,    0.000,2,    2.939,2,    0.000,2,    0.000,2, -999.000,9, 2361.500,2, 2399.300,2
           NA,    P03C,    146,   2,-999.0,     -99,  2,20051130,0318,  24.6663, -166.5508,  5109, 1802.000,    2.162,   34.599,2,   34.599,2,   76.110,1,   83.120,2,  153.010,2,   40.520,2,    0.000,2,    2.878,2,    0.000,2,    0.000,2, -999.000,9, 2361.400,2, 2409.700,2
           NA,    P03C,    146,   2,-999.0,     -99,  2,20051130,0318,  24.6663, -166.5508,  5109, 2001.500,    1.963,   34.618,2,   34.618,2,   84.980,1,   93.000,2,  156.210,2,   39.950,2,    0.000,2,    2.830,2,    0.000,2,    0.004,2, -999.000,9, 2358.100,2, 2411.800,2
           NA,    P03C,    146,   2,-999.0,     -99,  2,20051130,0318,  24.6663, -166.5508,  5109, 2201.300,    1.844,   34.631,2,   34.631,6,   91.650,1,  100.440,2,  157.690,2,   39.560,2,    0.000,2,    2.789,2, -999.000,9, -999.000,9, -999.000,9, 2356.200,2, 2415.500,2
           NA,    P03C,    146,   2,-999.0,     -99,  2,20051130,0318,  24.6663, -166.5508,  5109, 2403.100,    1.736,   34.643,2,   34.643,2,   97.730,1,  107.250,2,  159.620,2,   39.080,2,    0.000,2,    2.756,2,    0.000,2,    0.000,2, -999.000,9, 2353.800,6, 2413.200,2
           NA,    P03C,    146,   2,-999.0,     -99,  2,20051130,0318,  24.6663, -166.5508,  5109, 2603.000,    1.646,   34.653,2,   34.653,2,  104.580,1,  114.840,2,  159.930,2,   38.610,2,    0.000,2,    2.722,2, -999.000,9, -999.000,9, -999.000,9, 2349.000,2, 2416.000,6
           NA,    P03C,    146,   2,-999.0,     -99,  2,20051130,0318,  24.6663, -166.5508,  5109, 2801.200,    1.581,   34.661,2,   34.661,2,  110.810,1,  121.460,2,  159.830,2,   38.230,2,    0.000,2,    2.681,2, -999.000,9, -999.000,9, -999.000,9, 2345.500,2, 2413.300,2
           NA,    P03C,    146,   2,-999.0,     -99,  2,20051130,0318,  24.6663, -166.5508,  5109, 3000.000,    1.525,   34.668,2,   34.668,2,  116.500,1,  128.120,2,  159.540,2,   37.800,2,    0.000,2,    2.652,2,    0.000,2,    0.003,2, -999.000,9, 2343.900,2, 2412.000,2
           NA,    P03C,    146,   2,-999.0,     -99,  2,20051130,0318,  24.6663, -166.5508,  5109, 3251.200,    1.481,   34.675,2,   34.675,6,  124.010,1,  136.410,2,  157.450,2,   37.210,2,    0.010,2,    2.606,2, -999.000,9, -999.000,9, -999.000,9, 2336.600,2, 2414.800,2
           NA,    P03C,    146,   2,-999.0,     -99,  2,20051130,0318,  24.6663, -166.5508,  5109, 3500.700,    1.455,   34.680,2,   34.681,2,  129.940,1,  142.420,2,  155.670,2,   36.770,2,    0.000,2,    2.573,2, -999.000,9, -999.000,9, -999.000,9, 2332.300,2, 2415.400,2
           NA,    P03C,    146,   2,-999.0,     -99,  2,20051130,0318,  24.6663, -166.5508,  5109, 3753.300,    1.448,   34.684,2,   34.684,2,  134.110,1,  146.870,2,  154.340,2,   36.500,2,    0.000,2,    2.551,2,    0.000,2,    0.003,2, -999.000,9, 2329.500,2, 2416.300,2
           NA,    P03C,    146,   2,-999.0,     -99,  2,20051130,0318,  24.6663, -166.5508,  5109, 4002.800,    1.441,   34.687,2,   34.687,6,  138.600,1,  151.420,2,  152.500,2,   36.170,2,    0.000,2,    2.523,2, -999.000,9, -999.000,9, -999.000,9, 2329.200,2, 2416.600,2
           NA,    P03C,    146,   2,-999.0,     -99,  2,20051130,0318,  24.6663, -166.5508,  5109, 4251.000,    1.456,   34.689,2,   34.688,2,  140.680,1,  153.220,2,  151.690,2,   36.100,2,    0.010,2,    2.515,2, -999.000,9, -999.000,9, -999.000,9, 2324.900,6, 2415.100,2
           NA,    P03C,    146,   2,-999.0,     -99,  2,20051130,0318,  24.6663, -166.5508,  5109, 4503.000,    1.476,   34.689,2,   34.690,2,  142.610,1,  154.790,2,  150.730,2,   35.890,2,    0.000,2,    2.510,2,    0.000,2,    0.001,2, -999.000,9, 2325.100,2, 2413.600,6
           NA,    P03C,    146,   2,-999.0,     -99,  2,20051130,0318,  24.6663, -166.5508,  5109, 4750.200,    1.500,   34.690,2,   34.690,2,  144.220,1,  155.730,2,  150.070,2,   35.960,2,    0.000,2,    2.498,2, -999.000,9, -999.000,9, -999.000,9, 2324.800,2, 2417.700,2
           NA,    P03C,    146,   2,-999.0,     -99,  2,20051130,0318,  24.6663, -166.5508,  5109, 4999.300,    1.527,   34.690,2,   34.690,2,  145.740,1,  156.620,2,  149.890,2,   35.750,2,    0.000,2,    2.498,2, -999.000,9, -999.000,9, -999.000,9, 2322.300,2, 2414.800,2
           NA,    P03C,    146,   2,-999.0,     -99,  2,20051130,0318,  24.6663, -166.5508,  5109, 5200.300,    1.551,   34.690,2,   34.691,6,  146.940,1,  156.890,2,  149.770,2,   35.870,2,    0.000,2,    2.503,2,    0.000,2,    0.004,2, -999.000,9, 2320.100,2, 2416.700,2