BOTTLE,20211903JOAExport
EXPOCODE,SECT_ID,STNNBR,CASTNO,SAMPNO,BTLNBR,BTLNBR_FLAG_W,DATE,TIME,LATITUDE,LONGITUDE,DEPTH,CTDPRS,CTDTMP,CTDSAL,CTDSAL_FLAG_W,SALNTY,SALNTY_FLAG_W,CTDOXY,CTDOXY_FLAG_W,OXYGEN,OXYGEN_FLAG_W,SILCAT,SILCAT_FLAG_W,NITRAT,NITRAT_FLAG_W,NITRIT,NITRIT_FLAG_W,PHSPHT,PHSPHT_FLAG_W,CFC-11,CFC-11_FLAG_W,CFC-12,CFC-12_FLAG_W,SF6,SF6_FLAG_W,TCARBN,TCARBN_FLAG_W,ALKALI,ALKALI_FLAG_W
,,,,,,,,,,,,DB,ITS-90,PSS-78,,PSS-78,,UMOL/KG,,UMOL/KG,,UMOL/KG,,UMOL/KG,,UMOL/KG,,UMOL/KG,,PMOL/KG,,PMOL/KG,,FMOL/KG,,UMOL/KG,,UMOL/KG
           NA,    P03C,    326,   1,-999.0,     -99,  2,20060107,1234,  24.2383,  135.0228,  5171,   10.800,   22.535,   34.818,2,   34.818,2,  196.930,1,  214.150,2,    1.370,2,    0.050,2,    0.010,2,    0.051,2,    1.860,2,    1.087,2, -999.000,9, -999.000,9, -999.000,9
           NA,    P03C,    326,   1,-999.0,     -99,  2,20060107,1234,  24.2383,  135.0228,  5171,   49.500,   22.542,   34.818,2,   34.818,2,  196.970,1,  214.170,2,    1.380,2,    0.040,2,    0.010,2,    0.049,2,    1.866,2,    1.091,2, -999.000,9, -999.000,9, -999.000,9
           NA,    P03C,    326,   1,-999.0,     -99,  2,20060107,1234,  24.2383,  135.0228,  5171,  101.200,   22.543,   34.818,2,   34.818,2,  197.040,1,  214.060,2,    1.370,2,    0.050,2,    0.010,2,    0.051,2,    1.874,2,    1.094,2, -999.000,9, -999.000,9, -999.000,9
           NA,    P03C,    326,   1,-999.0,     -99,  2,20060107,1234,  24.2383,  135.0228,  5171,  151.100,   20.545,   34.897,2,   34.896,2,  188.730,1,  204.960,2,    2.030,2,    1.220,2,    0.040,2,    0.146,2,    2.144,2,    1.219,2, -999.000,9, -999.000,9, -999.000,9
           NA,    P03C,    326,   1,-999.0,     -99,  2,20060107,1234,  24.2383,  135.0228,  5171,  200.600,   19.264,   34.886,2,   34.883,2,  188.970,1,  205.020,2,    2.460,2,    2.490,2,    0.010,2,    0.219,2,    2.221,2,    1.259,2, -999.000,9, -999.000,9, -999.000,9
           NA,    P03C,    326,   1,-999.0,     -99,  2,20060107,1234,  24.2383,  135.0228,  5171,  250.900,   18.156,   34.833,2,   34.832,2,  187.910,1,  204.380,2,    3.340,2,    3.720,2,    0.010,2,    0.296,2,    2.327,6,    1.306,6, -999.000,9, -999.000,9, -999.000,9
           NA,    P03C,    326,   1,-999.0,     -99,  2,20060107,1234,  24.2383,  135.0228,  5171,  299.500,   17.322,   34.794,2,   34.792,2,  192.660,1,  209.240,2,    3.890,2,    4.410,2,    0.010,2,    0.341,2,    2.406,2,    1.340,2, -999.000,9, -999.000,9, -999.000,9
           NA,    P03C,    326,   1,-999.0,     -99,  2,20060107,1234,  24.2383,  135.0228,  5171,  400.600,   15.288,   34.619,2,   34.615,2,  179.430,1,  194.770,2,    8.790,2,    8.760,2,    0.010,2,    0.641,2,    2.549,2,    1.361,2, -999.000,9, -999.000,9, -999.000,9
           NA,    P03C,    326,   1,-999.0,     -99,  2,20060107,1234,  24.2383,  135.0228,  5171,  501.100,   12.371,   34.397,2,   34.397,6,  170.790,1,  184.810,2,   17.750,2,   14.200,2,    0.000,2,    1.039,2,    2.612,2,    1.347,2, -999.000,9, -999.000,9, -999.000,9
           NA,    P03C,    326,   1,-999.0,     -99,  2,20060107,1234,  24.2383,  135.0228,  5171,  603.000,    9.238,   34.200,2,   34.200,2,  149.900,1,  161.940,2,   35.190,2,   21.760,2,    0.010,2,    1.595,2,    2.309,2,    1.132,2, -999.000,9, -999.000,9, -999.000,9
           NA,    P03C,    326,   1,-999.0,     -99,  2,20060107,1234,  24.2383,  135.0228,  5171,  699.200,    7.083,   34.132,2,   34.136,2,  113.930,1, -999.000,3,   57.220,2,   29.560,2,    0.010,2,    2.174,2,    1.580,2,    0.754,2, -999.000,9, -999.000,9, -999.000,9
           NA,    P03C,    326,   1,-999.0,     -99,  2,20060107,1234,  24.2383,  135.0228,  5171,  802.100,    5.692,   34.157,2,   34.155,2,   86.300,1,   93.020,2,   77.030,2,   34.320,2,    0.000,2,    2.514,2,    1.105,2,    0.528,2, -999.000,9, -999.000,9, -999.000,9
           NA,    P03C,    326,   1,-999.0,     -99,  2,20060107,1234,  24.2383,  135.0228,  5171,  900.100,    4.734,   34.239,2,   34.239,2,   61.510,1,   66.590,2,   96.000,2,   38.210,2,    0.000,2,    2.783,2,    0.551,2,    0.263,2, -999.000,9, -999.000,9, -999.000,9
           NA,    P03C,    326,   1,-999.0,     -99,  2,20060107,1234,  24.2383,  135.0228,  5171, 1000.500,    4.224,   34.307,2,   34.308,6,   52.290,1,   56.300,2,  107.490,2,   39.980,2,    0.000,2,    2.904,2,    0.302,2,    0.141,2, -999.000,9, -999.000,9, -999.000,9
           NA,    P03C,    326,   1,-999.0,     -99,  2,20060107,1234,  24.2383,  135.0228,  5171, 1200.100,    3.476,   34.417,2,   34.418,2,   53.160,1,   57.270,2,  124.370,2,   40.990,2,    0.000,2,    2.962,2,    0.103,2,    0.049,2, -999.000,9, -999.000,9, -999.000,9
           NA,    P03C,    326,   1,-999.0,     -99,  2,20060107,1234,  24.2383,  135.0228,  5171, 1398.800,    2.841,   34.494,2,   34.494,2,   63.550,1,   68.820,2,  137.270,2,   40.760,2,    0.000,2,    2.934,2,    0.037,2,    0.018,2, -999.000,9, -999.000,9, -999.000,9
           NA,    P03C,    326,   1,-999.0,     -99,  2,20060107,1234,  24.2383,  135.0228,  5171, 1601.100,    2.458,   34.553,2,   34.554,2,   80.190,1,   87.250,2,  141.750,2,   39.800,2,    0.000,2,    2.853,2,    0.005,2,    0.002,2, -999.000,9, -999.000,9, -999.000,9
           NA,    P03C,    326,   1,-999.0,     -99,  2,20060107,1234,  24.2383,  135.0228,  5171, 1800.700,    2.204,   34.589,2,   34.589,2,   93.310,1,  101.560,2,  142.900,2,   38.970,2,    0.010,2,    2.781,2,    0.002,2,    0.002,2, -999.000,9, -999.000,9, -999.000,9
           NA,    P03C,    326,   1,-999.0,     -99,  2,20060107,1234,  24.2383,  135.0228,  5171, 2000.100,    2.019,   34.612,2,   34.612,6,  102.840,1,  112.030,2,  143.860,2,   38.470,2,    0.000,2,    2.738,2,    0.000,2,    0.001,2, -999.000,9, -999.000,9, -999.000,9
           NA,    P03C,    326,   1,-999.0,     -99,  2,20060107,1234,  24.2383,  135.0228,  5171, 2201.100,    1.871,   34.630,2,   34.631,2,  111.070,1,  121.080,2,  143.960,2,   37.960,2,    0.000,2,    2.694,2,    0.000,2,    0.000,2, -999.000,9, -999.000,9, -999.000,9
           NA,    P03C,    326,   1,-999.0,     -99,  2,20060107,1234,  24.2383,  135.0228,  5171, 2401.800,    1.774,   34.643,2,   34.643,2,  117.050,1,  127.760,2,  144.070,2,   37.600,2,    0.010,2,    2.667,2,    0.000,2,    0.000,2, -999.000,9, -999.000,9, -999.000,9
           NA,    P03C,    326,   1,-999.0,     -99,  2,20060107,1234,  24.2383,  135.0228,  5171, 2600.900,    1.704,   34.652,2,   34.652,2,  121.770,1,  133.030,2,  144.060,2,   37.330,2,    0.000,2,    2.643,2, -999.000,9, -999.000,9, -999.000,9, -999.000,9, -999.000,9
           NA,    P03C,    326,   1,-999.0,     -99,  2,20060107,1234,  24.2383,  135.0228,  5171, 2800.200,    1.668,   34.658,2,   34.658,2,  125.010,1,  136.530,2,  143.680,2,   37.030,2,    0.000,2,    2.617,2, -999.000,9, -999.000,9, -999.000,9, -999.000,9, -999.000,9
           NA,    P03C,    326,   1,-999.0,     -99,  2,20060107,1234,  24.2383,  135.0228,  5171, 2999.800,    1.617,   34.665,2,   34.665,6,  129.240,1,  141.210,2,  143.620,2,   36.720,2,    0.000,2,    2.598,2,    0.000,2,    0.000,2, -999.000,9, -999.000,9, -999.000,9
           NA,    P03C,    326,   1,-999.0,     -99,  2,20060107,1234,  24.2383,  135.0228,  5171, 3250.200,    1.582,   34.671,2,   34.671,2,  132.780,1,  145.180,2,  142.940,2,   36.470,2,    0.000,2,    2.570,2, -999.000,9, -999.000,9, -999.000,9, -999.000,9, -999.000,9
           NA,    P03C,    326,   1,-999.0,     -99,  2,20060107,1234,  24.2383,  135.0228,  5171, 3498.800,    1.555,   34.676,2,   34.676,2,  136.430,1,  148.740,2,  142.870,2,   36.240,2,    0.000,2,    2.558,2, -999.000,9, -999.000,9, -999.000,9, -999.000,9, -999.000,9
           NA,    P03C,    326,   1,-999.0,     -99,  2,20060107,1234,  24.2383,  135.0228,  5171, 3750.900,    1.551,   34.679,2,   34.679,2,  138.810,1,  151.010,2,  142.600,2,   36.120,2,    0.000,2,    2.543,2,    0.000,2,    0.000,2, -999.000,9, -999.000,9, -999.000,9
           NA,    P03C,    326,   1,-999.0,     -99,  2,20060107,1234,  24.2383,  135.0228,  5171, 4001.100,    1.557,   34.681,2,   34.681,6,  140.690,1,  152.710,2,  142.360,2,   36.080,2,    0.000,2,    2.533,2, -999.000,9, -999.000,9, -999.000,9, -999.000,9, -999.000,9
           NA,    P03C,    326,   1,-999.0,     -99,  2,20060107,1234,  24.2383,  135.0228,  5171, 4249.900,    1.572,   34.682,2,   34.682,2,  142.050,1,  153.760,2,  142.050,2,   36.020,2,    0.000,2,    2.538,2, -999.000,9, -999.000,9, -999.000,9, -999.000,9, -999.000,9
           NA,    P03C,    326,   1,-999.0,     -99,  2,20060107,1234,  24.2383,  135.0228,  5171, 4501.000,    1.592,   34.683,2,   34.683,2,  143.360,1,  154.520,2,  141.950,2,   35.970,2,    0.010,2,    2.532,2,    0.000,2,    0.000,2, -999.000,9, -999.000,9, -999.000,9
           NA,    P03C,    326,   1,-999.0,     -99,  2,20060107,1234,  24.2383,  135.0228,  5171, 4749.800,    1.615,   34.684,2,   34.684,2,  144.520,1,  155.140,2,  141.850,2,   35.850,2,    0.010,2,    2.529,2, -999.000,9, -999.000,9, -999.000,9, -999.000,9, -999.000,9
           NA,    P03C,    326,   1,-999.0,     -99,  2,20060107,1234,  24.2383,  135.0228,  5171, 5001.000,    1.641,   34.684,2,   34.684,2,  145.870,1,  155.530,2,  141.510,2,   35.830,2,    0.000,2,    2.518,2, -999.000,9, -999.000,9, -999.000,9, -999.000,9, -999.000,9
           NA,    P03C,    326,   1,-999.0,     -99,  2,20060107,1234,  24.2383,  135.0228,  5171, 5250.100,    1.671,   34.685,2,   34.685,6,  147.290,1,  155.700,2,  141.490,2,   35.850,2,    0.000,2,    2.528,2,    0.000,2,    0.000,2, -999.000,9, -999.000,9, -999.000,9
           NA,    P03C,    324,   1,-999.0,     -99,  2,20060107,0607,  24.2497,  135.6028,  5325,    9.700,   22.585,   34.812,2,   34.812,2,  197.340,1,  214.280,2,    1.380,2,    0.050,2,    0.010,2,    0.043,2,    1.882,2,    1.096,2, -999.000,9, 1962.700,2, 2283.900,2
           NA,    P03C,    324,   1,-999.0,     -99,  2,20060107,0607,  24.2497,  135.6028,  5325,   49.700,   22.599,   34.811,2,   34.812,2,  197.150,1,  213.980,2,    1.380,2,    0.050,2,    0.000,2,    0.043,2,    1.884,2,    1.085,2, -999.000,9, 1964.800,6, 2281.200,2
           NA,    P03C,    324,   1,-999.0,     -99,  2,20060107,0607,  24.2497,  135.6028,  5325,   99.900,   22.609,   34.811,2,   34.812,2,  197.020,1,  214.020,2,    1.410,2,    0.040,2,    0.000,2,    0.046,2,    1.881,2,    1.086,2, -999.000,9, 1962.400,2, 2286.800,6
           NA,    P03C,    324,   1,-999.0,     -99,  2,20060107,0607,  24.2497,  135.6028,  5325,  148.700,   21.180,   34.878,2,   34.888,2,  189.180,1,  204.810,2,    1.980,2,    1.250,2,    0.050,2,    0.137,2,    2.124,2,    1.213,2, -999.000,9, 1999.300,2, 2289.200,2
           NA,    P03C,    324,   1,-999.0,     -99,  2,20060107,0607,  24.2497,  135.6028,  5325,  200.700,   18.932,   34.872,2,   34.871,2,  187.480,1,  203.440,2,    2.730,2,    2.890,2,    0.010,2,    0.231,2,    2.263,2,    1.280,2, -999.000,9, 2013.200,2, 2290.200,2
           NA,    P03C,    324,   1,-999.0,     -99,  2,20060107,0607,  24.2497,  135.6028,  5325,  248.900,   17.704,   34.817,2,   34.817,2,  192.970,1,  209.270,2,    3.500,2,    3.840,2,    0.010,2,    0.291,2,    2.371,6,    1.335,6, -999.000,9, 2020.600,2, 2285.700,2
           NA,    P03C,    324,   1,-999.0,     -99,  2,20060107,0607,  24.2497,  135.6028,  5325,  300.000,   17.308,   34.795,2,   34.795,2,  193.700,1,  209.980,2,    3.880,2,    4.350,2,    0.010,2,    0.323,2,    2.397,2,    1.342,2, -999.000,9, 2023.800,2, 2283.900,2
           NA,    P03C,    324,   1,-999.0,     -99,  2,20060107,0607,  24.2497,  135.6028,  5325,  400.200,   15.599,   34.645,2,   34.645,2,  181.670,1,  196.670,2,    7.940,2,    8.110,2,    0.010,2,    0.582,2,    2.478,2,    1.340,2, -999.000,9, 2052.700,2, 2278.700,2
           NA,    P03C,    324,   1,-999.0,     -99,  2,20060107,0607,  24.2497,  135.6028,  5325,  499.600,   12.924,   34.443,2,   34.439,6,  168.900,1,  183.440,2,   16.730,2,   13.670,2,    0.000,2,    0.977,2,    2.527,2,    1.310,2, -999.000,9, 2093.000,2, 2277.200,2
           NA,    P03C,    324,   1,-999.0,     -99,  2,20060107,0607,  24.2497,  135.6028,  5325,  600.400,    9.502,   34.206,2,   34.208,2,  156.700,1,  169.900,2,   31.490,2,   20.470,2,    0.010,2,    1.486,2,    2.422,2,    1.205,2, -999.000,9, 2141.800,2, 2275.800,2
           NA,    P03C,    324,   1,-999.0,     -99,  2,20060107,0607,  24.2497,  135.6028,  5325,  700.900,    6.812,   34.117,2,   34.117,2,  113.250,1,  122.310,2,   58.160,2,   29.800,2,    0.010,2,    2.170,2,    1.638,2,    0.778,2, -999.000,9, 2216.800,6, 2294.300,2
           NA,    P03C,    324,   1,-999.0,     -99,  2,20060107,0607,  24.2497,  135.6028,  5325,  802.000,    5.685,   34.153,2,   34.152,2,   82.900,1,   90.240,2,   75.390,2,   34.660,2,    0.010,2,    2.530,2,    1.006,6,    0.486,6, -999.000,9, 2259.800,2, 2310.200,6
           NA,    P03C,    324,   1,-999.0,     -99,  2,20060107,0607,  24.2497,  135.6028,  5325,  900.600,    4.785,   34.249,2,   34.249,2,   60.660,1,   65.520,2,   94.830,2,   38.260,2,    0.000,2,    2.792,2,    0.481,2,    0.229,2, -999.000,9, 2300.300,2, 2336.400,2
           NA,    P03C,    324,   1,-999.0,     -99,  2,20060107,0607,  24.2497,  135.6028,  5325,  999.300,    4.106,   34.319,2,   34.319,6,   52.050,1,   56.380,2,  109.920,2,   40.100,2,    0.000,2,    2.910,2,    0.266,2,    0.126,2, -999.000,9, 2322.500,2, 2353.900,2
           NA,    P03C,    324,   1,-999.0,     -99,  2,20060107,0607,  24.2497,  135.6028,  5325, 1200.300,    3.335,   34.435,2,   34.435,2,   54.440,1,   58.950,2,  127.040,2,   41.030,2,    0.000,2,    2.955,2,    0.082,2,    0.039,2, -999.000,9, 2342.800,2, 2375.300,2
           NA,    P03C,    324,   1,-999.0,     -99,  2,20060107,0607,  24.2497,  135.6028,  5325, 1401.800,    2.720,   34.507,2,   34.507,2,   66.380,1,   71.890,2,  139.000,2,   40.560,2,    0.000,2,    2.911,2,    0.040,2,    0.017,2, -999.000,9, 2348.800,2, 2391.700,2
           NA,    P03C,    324,   1,-999.0,     -99,  2,20060107,0607,  24.2497,  135.6028,  5325, 1601.000,    2.402,   34.555,2,   34.555,2,   80.500,1,   87.450,2,  142.180,2,   39.750,2,    0.000,2,    2.845,2,    0.015,2,    0.005,2, -999.000,9, 2346.600,2, 2399.000,2
           NA,    P03C,    324,   1,-999.0,     -99,  2,20060107,0607,  24.2497,  135.6028,  5325, 1802.200,    2.169,   34.586,2,   34.586,2,   91.140,1,   99.370,2,  143.820,2,   39.130,2,    0.000,2,    2.791,2,    0.007,2,    0.003,2, -999.000,9, 2344.400,2, 2406.100,2
           NA,    P03C,    324,   1,-999.0,     -99,  2,20060107,0607,  24.2497,  135.6028,  5325, 2003.300,    2.023,   34.611,2,   34.611,6,  101.960,1,  111.430,2,  143.350,2,   38.470,2,    0.000,2,    2.733,2,    0.002,2,    0.000,2, -999.000,9, 2339.000,2, 2407.600,2
           NA,    P03C,    324,   1,-999.0,     -99,  2,20060107,0607,  24.2497,  135.6028,  5325, 2200.200,    1.892,   34.629,2,   34.629,2,  110.150,1,  120.530,2,  143.360,2,   37.910,2,    0.000,2,    2.691,2,    0.001,2,    0.000,2, -999.000,9, 2335.300,2, 2412.300,2
           NA,    P03C,    324,   1,-999.0,     -99,  2,20060107,0607,  24.2497,  135.6028,  5325, 2398.900,    1.795,   34.641,2,   34.642,2,  115.900,1,  126.900,2,  143.600,2,   37.520,2,    0.000,2,    2.662,2,    0.001,2,    0.000,2, -999.000,9, 2332.600,6, 2412.300,2
           NA,    P03C,    324,   1,-999.0,     -99,  2,20060107,0607,  24.2497,  135.6028,  5325, 2599.700,    1.727,   34.650,2,   34.650,2,  120.510,1,  132.090,2,  143.580,2,   37.190,2,    0.000,2,    2.639,2,    0.001,2,    0.000,2, -999.000,9, 2330.500,2, 2413.300,6
           NA,    P03C,    324,   1,-999.0,     -99,  2,20060107,0607,  24.2497,  135.6028,  5325, 2799.400,    1.674,   34.657,2,   34.657,2,  124.370,1,  136.250,2,  143.630,2,   37.000,2,    0.000,2,    2.616,2, -999.000,9, -999.000,9, -999.000,9, 2327.700,2, 2414.100,2
           NA,    P03C,    324,   1,-999.0,     -99,  2,20060107,0607,  24.2497,  135.6028,  5325, 3000.600,    1.625,   34.664,2,   34.664,6,  128.310,1,  140.890,2,  143.060,2,   36.750,2,    0.000,2,    2.592,2, -999.000,9, -999.000,9, -999.000,9, 2326.600,2, 2413.800,2
           NA,    P03C,    324,   1,-999.0,     -99,  2,20060107,0607,  24.2497,  135.6028,  5325, 3250.700,    1.586,   34.671,2,   34.670,2,  132.350,1,  144.960,2,  142.830,2,   36.460,2,    0.000,2,    2.559,2,    0.001,2,    0.000,2, -999.000,9, 2325.200,2, 2412.000,2
           NA,    P03C,    324,   1,-999.0,     -99,  2,20060107,0607,  24.2497,  135.6028,  5325, 3501.100,    1.559,   34.676,2,   34.676,2,  135.960,1,  148.790,2,  142.430,2,   36.230,2,    0.000,2,    2.548,2, -999.000,9, -999.000,9, -999.000,9, 2324.100,2, 2415.500,2
           NA,    P03C,    324,   1,-999.0,     -99,  2,20060107,0607,  24.2497,  135.6028,  5325, 3749.400,    1.543,   34.680,2,   34.680,2,  138.930,1,  151.540,2,  141.960,2,   36.030,2,    0.000,2,    2.533,2, -999.000,9, -999.000,9, -999.000,9, 2319.500,2, 2415.100,2
           NA,    P03C,    324,   1,-999.0,     -99,  2,20060107,0607,  24.2497,  135.6028,  5325, 4001.000,    1.553,   34.682,2,   34.682,2,  140.620,1,  152.920,2,  141.610,2,   35.970,2,    0.000,2,    2.527,2,    0.000,2,    0.001,2, -999.000,9, 2319.600,2, 2414.900,2
           NA,    P03C,    324,   1,-999.0,     -99,  2,20060107,0607,  24.2497,  135.6028,  5325, 4250.600,    1.564,   34.683,2,   34.683,6,  142.250,1,  154.300,2,  141.460,2,   35.850,2,    0.000,2,    2.518,2, -999.000,9, -999.000,9, -999.000,9, 2318.200,6, 2412.200,2
           NA,    P03C,    324,   1,-999.0,     -99,  2,20060107,0607,  24.2497,  135.6028,  5325, 4502.600,    1.584,   34.684,2,   34.684,2,  143.520,1,  155.070,2,  141.430,2,   35.830,2,    0.000,2,    2.516,2, -999.000,9, -999.000,9, -999.000,9, 2318.600,2, 2412.400,6
           NA,    P03C,    324,   1,-999.0,     -99,  2,20060107,0607,  24.2497,  135.6028,  5325, 4749.600,    1.609,   34.685,2,   34.685,2,  144.520,1,  155.460,2,  141.220,2,   35.690,2,    0.000,2,    2.517,2,    0.000,2,    0.001,2, -999.000,9, 2316.800,2, 2412.700,2
           NA,    P03C,    324,   1,-999.0,     -99,  2,20060107,0607,  24.2497,  135.6028,  5325, 4998.100,    1.637,   34.685,2,   34.685,2,  145.540,1,  155.750,2,  141.220,2,   35.770,2,    0.000,2,    2.513,2, -999.000,9, -999.000,9, -999.000,9, 2316.600,2, 2411.100,2
           NA,    P03C,    324,   1,-999.0,     -99,  2,20060107,0607,  24.2497,  135.6028,  5325, 5248.800,    1.669,   34.685,2,   34.685,2,  146.590,1,  155.830,2,  140.660,2,   35.750,2,    0.000,2,    2.507,2, -999.000,9, -999.000,9, -999.000,9, 2317.600,2, 2414.900,2
           NA,    P03C,    324,   1,-999.0,     -99,  2,20060107,0607,  24.2497,  135.6028,  5325, 5403.300,    1.689,   34.685,2,   34.685,6,  147.450,1,  155.910,2,  141.290,2,   35.710,2,    0.000,2,    2.512,2,    0.003,2,    0.003,2, -999.000,9, 2316.700,2, 2412.800,2