BOTTLE,20211903JOAExport
EXPOCODE,SECT_ID,STNNBR,CASTNO,SAMPNO,BTLNBR,BTLNBR_FLAG_W,DATE,TIME,LATITUDE,LONGITUDE,DEPTH,CTDPRS,CTDTMP,CTDSAL,CTDSAL_FLAG_W,SALNTY,SALNTY_FLAG_W,CTDOXY,CTDOXY_FLAG_W,OXYGEN,OXYGEN_FLAG_W,SILCAT,SILCAT_FLAG_W,NITRAT,NITRAT_FLAG_W,NITRIT,NITRIT_FLAG_W,PHSPHT,PHSPHT_FLAG_W,CFC-11,CFC-11_FLAG_W,CFC-12,CFC-12_FLAG_W,SF6,SF6_FLAG_W,TCARBN,TCARBN_FLAG_W,ALKALI,ALKALI_FLAG_W
,,,,,,,,,,,,DB,ITS-90,PSS-78,,PSS-78,,UMOL/KG,,UMOL/KG,,UMOL/KG,,UMOL/KG,,UMOL/KG,,UMOL/KG,,PMOL/KG,,PMOL/KG,,FMOL/KG,,UMOL/KG,,UMOL/KG
           NA,    P03C,    275,   1,-999.0,     -99,  2,20051230,1120,  24.2415,  149.0160,  5789,   10.600,   24.323,   34.949,2,   34.949,2,  193.700,1,  208.910,2,    1.210,2,    0.040,2,    0.000,2,    0.035,2,    1.693,2,    1.009,2, -999.000,9, -999.000,9, -999.000,9
           NA,    P03C,    275,   1,-999.0,     -99,  2,20051230,1120,  24.2415,  149.0160,  5789,   51.100,   24.050,   34.915,2,   34.917,2,  194.680,1,  209.970,2,    1.310,2,    0.030,2,    0.000,2,    0.034,2,    1.727,2,    1.038,2, -999.000,9, -999.000,9, -999.000,9
           NA,    P03C,    275,   1,-999.0,     -99,  2,20051230,1120,  24.2415,  149.0160,  5789,  101.500,   23.655,   34.885,2,   34.888,2,  195.810,1,  211.280,2,    1.360,2,    0.040,2,    0.000,2,    0.034,2,    1.765,2,    1.042,2, -999.000,9, -999.000,9, -999.000,9
           NA,    P03C,    275,   1,-999.0,     -99,  2,20051230,1120,  24.2415,  149.0160,  5789,  149.800,   19.471,   34.947,2,   34.944,2,  181.930,1,  196.640,2,    2.570,2,    2.220,2,    0.020,2,    0.204,2,    2.212,2,    1.257,2, -999.000,9, -999.000,9, -999.000,9
           NA,    P03C,    275,   1,-999.0,     -99,  2,20051230,1120,  24.2415,  149.0160,  5789,  200.600,   17.725,   34.813,2,   34.813,2,  187.960,1,  202.670,2,    3.580,2,    4.170,2,    0.010,2,    0.311,2,    2.348,2,    1.304,2, -999.000,9, -999.000,9, -999.000,9
           NA,    P03C,    275,   1,-999.0,     -99,  2,20051230,1120,  24.2415,  149.0160,  5789,  250.500,   16.895,   34.753,2,   34.752,2,  190.140,1,  204.930,2,    4.590,2,    5.350,2,    0.000,2,    0.384,2,    2.422,6,    1.332,6, -999.000,9, -999.000,9, -999.000,9
           NA,    P03C,    275,   1,-999.0,     -99,  2,20051230,1120,  24.2415,  149.0160,  5789,  301.300,   15.987,   34.673,2,   34.670,2,  187.470,1,  201.380,2,    6.450,2,    7.040,2,    0.000,2,    0.503,2,    2.501,2,    1.359,2, -999.000,9, -999.000,9, -999.000,9
           NA,    P03C,    275,   1,-999.0,     -99,  2,20051230,1120,  24.2415,  149.0160,  5789,  400.700,   13.387,   34.467,2,   34.452,2,  176.960,1,  191.160,2,   13.540,2,   12.120,2,    0.000,2,    0.869,2,    2.669,2,    1.374,2, -999.000,9, -999.000,9, -999.000,9
           NA,    P03C,    275,   1,-999.0,     -99,  2,20051230,1120,  24.2415,  149.0160,  5789,  503.000,   10.872,   34.276,2,   34.268,6,  167.950,1,  179.810,2,   22.710,2,   17.420,2,    0.000,2,    1.264,2,    2.632,2,    1.311,2, -999.000,9, -999.000,9, -999.000,9
           NA,    P03C,    275,   1,-999.0,     -99,  2,20051230,1120,  24.2415,  149.0160,  5789,  599.300,    8.044,   34.113,2,   34.111,2,  141.560,1,  150.380,2,   41.900,2,   25.200,2,    0.000,2,    1.842,2,    2.152,2,    1.041,2, -999.000,9, -999.000,9, -999.000,9
           NA,    P03C,    275,   1,-999.0,     -99,  2,20051230,1120,  24.2415,  149.0160,  5789,  700.700,    6.130,   34.090,2,   34.093,2,   98.610,1,  104.500,2,   65.740,2,   32.870,2,    0.000,2,    2.413,2,    1.322,2,    0.643,2, -999.000,9, -999.000,9, -999.000,9
           NA,    P03C,    275,   1,-999.0,     -99,  2,20051230,1120,  24.2415,  149.0160,  5789,  800.300,    5.161,   34.165,2,   34.171,2,   65.830,1,   69.430,2,   85.270,2,   37.590,2,    0.000,2,    2.762,2,    0.634,6,    0.312,6, -999.000,9, -999.000,9, -999.000,9
           NA,    P03C,    275,   1,-999.0,     -99,  2,20051230,1120,  24.2415,  149.0160,  5789,  901.800,    4.368,   34.265,2,   34.267,2,   47.190,1,   50.470,2,  102.740,2,   40.470,2,    0.000,2,    2.935,2,    0.270,2,    0.130,2, -999.000,9, -999.000,9, -999.000,9
           NA,    P03C,    275,   1,-999.0,     -99,  2,20051230,1120,  24.2415,  149.0160,  5789, 1000.800,    3.905,   34.354,2,   34.354,6,   43.000,1,   46.060,2,  114.600,2,   41.400,2,    0.000,2,    3.013,2,    0.110,2,    0.055,2, -999.000,9, -999.000,9, -999.000,9
           NA,    P03C,    275,   1,-999.0,     -99,  2,20051230,1120,  24.2415,  149.0160,  5789, 1201.000,    3.270,   34.452,2,   34.453,2,   49.260,1,   52.860,2,  129.660,2,   41.730,2,    0.000,2,    3.019,2,    0.032,2,    0.014,2, -999.000,9, -999.000,9, -999.000,9
           NA,    P03C,    275,   1,-999.0,     -99,  2,20051230,1120,  24.2415,  149.0160,  5789, 1402.200,    2.798,   34.507,2,   34.507,2,   57.310,1,   61.890,2,  139.660,2,   41.410,2,    0.000,2,    2.994,2,    0.016,2,    0.008,2, -999.000,9, -999.000,9, -999.000,9
           NA,    P03C,    275,   1,-999.0,     -99,  2,20051230,1120,  24.2415,  149.0160,  5789, 1601.400,    2.416,   34.549,2,   34.550,2,   65.710,1,   71.190,2,  147.850,2,   41.100,2,    0.000,2,    2.956,2,    0.005,2,    0.001,2, -999.000,9, -999.000,9, -999.000,9
           NA,    P03C,    275,   1,-999.0,     -99,  2,20051230,1120,  24.2415,  149.0160,  5789, 1803.400,    2.112,   34.588,2,   34.588,2,   77.920,1,   84.670,2,  152.230,2,   40.370,2,    0.000,2,    2.896,2,    0.003,2,    0.000,2, -999.000,9, -999.000,9, -999.000,9
           NA,    P03C,    275,   1,-999.0,     -99,  2,20051230,1120,  24.2415,  149.0160,  5789, 2002.200,    1.943,   34.611,2,   34.611,2,   88.580,1,   96.550,2,  153.030,2,   39.790,2,    0.000,2,    2.840,2,    0.000,2,    0.000,2, -999.000,9, -999.000,9, -999.000,9
           NA,    P03C,    275,   1,-999.0,     -99,  2,20051230,1120,  24.2415,  149.0160,  5789, 2203.200,    1.830,   34.629,2,   34.629,6,   98.780,1,  107.680,2,  152.250,2,   38.980,2,    0.000,2,    2.780,2,    0.000,2,    0.000,2, -999.000,9, -999.000,9, -999.000,9
           NA,    P03C,    275,   1,-999.0,     -99,  2,20051230,1120,  24.2415,  149.0160,  5789, 2400.900,    1.739,   34.642,2,   34.642,2,  106.210,1,  116.040,2,  152.080,2,   38.420,2,    0.000,2,    2.740,2,    0.000,2,    0.001,2, -999.000,9, -999.000,9, -999.000,9
           NA,    P03C,    275,   1,-999.0,     -99,  2,20051230,1120,  24.2415,  149.0160,  5789, 2600.200,    1.666,   34.652,2,   34.653,2,  112.700,1,  123.340,2,  151.850,2,   38.080,2,    0.000,2,    2.705,2,    0.026,2,    0.000,2, -999.000,9, -999.000,9, -999.000,9
           NA,    P03C,    275,   1,-999.0,     -99,  2,20051230,1120,  24.2415,  149.0160,  5789, 2799.900,    1.623,   34.661,2,   34.661,2,  118.360,1,  129.680,2,  150.620,2,   37.710,2,    0.000,2,    2.671,2, -999.000,9, -999.000,9, -999.000,9, -999.000,9, -999.000,9
           NA,    P03C,    275,   1,-999.0,     -99,  2,20051230,1120,  24.2415,  149.0160,  5789, 2999.700,    1.585,   34.665,2,   34.666,2,  122.020,1,  133.630,2,  150.600,2,   37.410,2,    0.000,2,    2.650,2,    0.000,2,    0.000,2, -999.000,9, -999.000,9, -999.000,9
           NA,    P03C,    275,   1,-999.0,     -99,  2,20051230,1120,  24.2415,  149.0160,  5789, 3248.900,    1.535,   34.673,2,   34.673,6,  127.530,1,  139.770,2,  149.490,2,   37.000,2,    0.000,2,    2.592,2, -999.000,9, -999.000,9, -999.000,9, -999.000,9, -999.000,9
           NA,    P03C,    275,   1,-999.0,     -99,  2,20051230,1120,  24.2415,  149.0160,  5789, 3499.300,    1.515,   34.677,2,   34.677,2,  131.300,1,  143.830,2,  148.740,2,   36.720,2,    0.000,2,    2.585,2, -999.000,9, -999.000,9, -999.000,9, -999.000,9, -999.000,9
           NA,    P03C,    275,   1,-999.0,     -99,  2,20051230,1120,  24.2415,  149.0160,  5789, 3750.200,    1.495,   34.681,2,   34.681,2,  135.520,1,  148.350,2,  147.820,2,   36.450,2,    0.000,2,    2.571,2,    0.002,2,    0.000,2, -999.000,9, -999.000,9, -999.000,9
           NA,    P03C,    275,   1,-999.0,     -99,  2,20051230,1120,  24.2415,  149.0160,  5789, 4001.600,    1.483,   34.684,2,   34.684,2,  139.610,1,  152.690,2,  146.220,2,   36.280,2,    0.000,2,    2.545,2, -999.000,9, -999.000,9, -999.000,9, -999.000,9, -999.000,9
           NA,    P03C,    275,   1,-999.0,     -99,  2,20051230,1120,  24.2415,  149.0160,  5789, 4250.600,    1.473,   34.688,2,   34.688,2,  144.160,1,  157.380,2,  144.050,2,   35.860,2,    0.000,2,    2.518,2, -999.000,9, -999.000,9, -999.000,9, -999.000,9, -999.000,9
           NA,    P03C,    275,   1,-999.0,     -99,  2,20051230,1120,  24.2415,  149.0160,  5789, 4500.300,    1.474,   34.690,2,   34.690,6,  147.890,1,  161.000,2,  142.530,2,   35.550,2,    0.000,2,    2.504,2,    0.001,2,    0.002,2, -999.000,9, -999.000,9, -999.000,9
           NA,    P03C,    275,   1,-999.0,     -99,  2,20051230,1120,  24.2415,  149.0160,  5789, 4750.800,    1.483,   34.692,2,   34.692,2,  151.110,1,  163.940,2,  140.430,2,   35.470,2,    0.000,2,    2.491,2, -999.000,9, -999.000,9, -999.000,9, -999.000,9, -999.000,9
           NA,    P03C,    275,   1,-999.0,     -99,  2,20051230,1120,  24.2415,  149.0160,  5789, 5001.100,    1.495,   34.694,2,   34.694,2,  154.440,1,  166.860,2,  138.510,2,   35.220,2,    0.000,2,    2.470,2, -999.000,9, -999.000,9, -999.000,9, -999.000,9, -999.000,9
           NA,    P03C,    275,   1,-999.0,     -99,  2,20051230,1120,  24.2415,  149.0160,  5789, 5250.500,    1.515,   34.694,2,   34.694,2,  156.710,1,  168.530,2,  137.700,2,   35.090,2,    0.000,2,    2.461,2,    0.003,2,    0.000,2, -999.000,9, -999.000,9, -999.000,9
           NA,    P03C,    275,   1,-999.0,     -99,  2,20051230,1120,  24.2415,  149.0160,  5789, 5499.600,    1.536,   34.695,2,   34.696,2,  159.170,1,  170.280,2,  136.830,2,   34.920,2,    0.000,2,    2.456,2, -999.000,9, -999.000,9, -999.000,9, -999.000,9, -999.000,9
           NA,    P03C,    275,   1,-999.0,     -99,  2,20051230,1120,  24.2415,  149.0160,  5789, 5748.100,    1.553,   34.697,2,   34.697,2,  162.720,1,  172.720,2,  135.120,2,   34.800,2,    0.000,2,    2.442,2, -999.000,9, -999.000,9, -999.000,9, -999.000,9, -999.000,9
           NA,    P03C,    275,   1,-999.0,     -99,  2,20051230,1120,  24.2415,  149.0160,  5789, 5889.900,    1.562,   34.697,2,   34.698,6,  165.140,1,  174.110,2,  134.260,2,   34.650,2,    0.000,2,    2.433,2,    0.001,2,    0.000,2, -999.000,9, -999.000,9, -999.000,9