BOTTLE,20211903JOAExport
EXPOCODE,SECT_ID,STNNBR,CASTNO,SAMPNO,BTLNBR,BTLNBR_FLAG_W,DATE,TIME,LATITUDE,LONGITUDE,DEPTH,CTDPRS,CTDTMP,CTDSAL,CTDSAL_FLAG_W,SALNTY,SALNTY_FLAG_W,CTDOXY,CTDOXY_FLAG_W,OXYGEN,OXYGEN_FLAG_W,SILCAT,SILCAT_FLAG_W,NITRAT,NITRAT_FLAG_W,NITRIT,NITRIT_FLAG_W,PHSPHT,PHSPHT_FLAG_W,CFC-11,CFC-11_FLAG_W,CFC-12,CFC-12_FLAG_W,SF6,SF6_FLAG_W,TCARBN,TCARBN_FLAG_W,ALKALI,ALKALI_FLAG_W
,,,,,,,,,,,,DB,ITS-90,PSS-78,,PSS-78,,UMOL/KG,,UMOL/KG,,UMOL/KG,,UMOL/KG,,UMOL/KG,,UMOL/KG,,PMOL/KG,,PMOL/KG,,FMOL/KG,,UMOL/KG,,UMOL/KG
           NA,    P03E,     98,   1,-999.0,     -99,  2,20051115,0333,  24.2525, -150.6395,  5373,   10.500,   23.987,   35.396,2,   35.396,2,  198.600,1,  212.910,2,    1.060,2,    0.020,2,    0.000,2,    0.038,2,    1.734,2,    1.058,2, -999.000,9, 2002.000,2, 2325.600,2
           NA,    P03E,     98,   1,-999.0,     -99,  2,20051115,0333,  24.2525, -150.6395,  5373,   49.800,   23.940,   35.393,2,   35.393,2,  198.320,1,  213.060,2,    1.050,2,    0.040,2,    0.000,2,    0.043,2,    1.741,2,    1.061,2, -999.000,9, 2001.500,6, 2321.800,2
           NA,    P03E,     98,   1,-999.0,     -99,  2,20051115,0333,  24.2525, -150.6395,  5373,  100.300,   21.215,   35.164,2,   35.143,2,  201.660,1,  216.050,2,    1.740,2,    0.200,2,    0.040,2,    0.089,2,    2.079,2,    1.250,2, -999.000,9, 2021.800,2, 2303.800,6
           NA,    P03E,     98,   1,-999.0,     -99,  2,20051115,0333,  24.2525, -150.6395,  5373,  150.500,   18.898,   34.969,2,   34.958,2,  195.990,1,  210.060,2,    2.540,2,    1.180,2,    0.020,2,    0.172,2,    2.260,2,    1.317,2, -999.000,9, 2034.200,2, 2292.500,2
           NA,    P03E,     98,   1,-999.0,     -99,  2,20051115,0333,  24.2525, -150.6395,  5373,  199.700,   16.068,   34.591,2,   34.576,2,  191.240,1,  205.120,2,    4.590,2,    4.600,2,    0.010,2,    0.401,2,    2.597,2,    1.455,2, -999.000,9, 2047.100,2, 2275.200,2
           NA,    P03E,     98,   1,-999.0,     -99,  2,20051115,0333,  24.2525, -150.6395,  5373,  248.900,   13.369,   34.284,2,   34.276,2,  196.490,1,  210.170,2,    7.870,2,    8.390,2,    0.010,2,    0.657,2,    2.883,6,    1.570,6, -999.000,9, 2063.600,2, 2254.300,2
           NA,    P03E,     98,   1,-999.0,     -99,  2,20051115,0333,  24.2525, -150.6395,  5373,  300.500,   11.941,   34.219,2,   34.218,2,  200.710,1,  214.480,2,   11.200,2,   11.170,2,    0.000,2,    0.828,2,    3.043,2,    1.631,2, -999.000,9, 2075.900,2, 2252.500,2
           NA,    P03E,     98,   1,-999.0,     -99,  2,20051115,0333,  24.2525, -150.6395,  5373,  399.900,    9.747,   34.133,2,   34.131,2,  185.130,1,  196.780,2,   21.680,2,   17.620,2,    0.000,2,    1.268,2,    3.025,2,    1.537,2, -999.000,9, 2118.100,2, 2265.100,2
           NA,    P03E,     98,   1,-999.0,     -99,  2,20051115,0333,  24.2525, -150.6395,  5373,  500.100,    7.279,   34.030,2,   34.028,6,  132.650,1,  139.190,2,   44.970,2,   28.040,2,    0.000,2,    2.012,2,    2.212,2,    1.049,2, -999.000,9, 2193.100,2, 2271.700,2
           NA,    P03E,     98,   1,-999.0,     -99,  2,20051115,0333,  24.2525, -150.6395,  5373,  599.900,    5.656,   34.050,2,   34.055,2,   76.600,1,   79.330,2,   69.540,2,   35.970,2,    0.000,2,    2.625,2,    0.948,2,    0.445,2, -999.000,9, 2265.600,2, 2293.300,2
           NA,    P03E,     98,   1,-999.0,     -99,  2,20051115,0333,  24.2525, -150.6395,  5373,  700.000,    4.964,   34.176,2,   34.179,2,   27.460,1,   28.740,2,   89.350,2,   41.420,2,    0.000,2,    3.063,2,    0.158,2,    0.069,2, -999.000,9, 2317.000,6, 2313.900,2
           NA,    P03E,     98,   1,-999.0,     -99,  2,20051115,0333,  24.2525, -150.6395,  5373,  800.000,    4.327,   34.282,2,   34.285,2,   18.270,1,   19.580,2,  105.810,2,   43.040,2,    0.000,2,    3.167,2,    0.039,6,    0.012,6, -999.000,9, 2344.400,2, 2338.400,6
           NA,    P03E,     98,   1,-999.0,     -99,  2,20051115,0333,  24.2525, -150.6395,  5373,  902.400,    3.995,   34.367,2,   34.368,2,   20.950,1,   22.330,2,  114.330,2,   43.340,2,    0.000,2,    3.173,2, -999.000,5, -999.000,5, -999.000,9, 2351.400,2, 2352.500,2
           NA,    P03E,     98,   1,-999.0,     -99,  2,20051115,0333,  24.2525, -150.6395,  5373, 1002.200,    3.964,   34.463,2,   34.462,6,   35.760,1,   38.190,2,  113.360,2,   42.530,2,    0.000,2,    3.112,2,    0.005,2,    0.000,2, -999.000,9, 2345.200,2, 2361.200,2
           NA,    P03E,     98,   1,-999.0,     -99,  2,20051115,0333,  24.2525, -150.6395,  5373, 1202.300,    3.500,   34.520,2,   34.518,2,   45.540,1,   48.720,2,  122.810,2,   42.400,2,    0.000,2,    3.084,2,    0.004,2,    0.000,2, -999.000,9, 2352.900,2, 2378.200,2
           NA,    P03E,     98,   1,-999.0,     -99,  2,20051115,0333,  24.2525, -150.6395,  5373, 1400.200,    3.024,   34.554,2,   34.554,2,   55.410,1,   59.760,2,  133.640,2,   41.940,2,    0.000,2,    3.036,2,    0.001,2,    0.000,2, -999.000,9, 2358.300,2, 2390.700,2
           NA,    P03E,     98,   1,-999.0,     -99,  2,20051115,0333,  24.2525, -150.6395,  5373, 1601.700,    2.684,   34.580,2,   34.580,2,   64.190,1,   69.200,2,  141.300,2,   41.460,2,    0.000,2,    2.985,2,    0.004,2,    0.000,2, -999.000,9, 2361.200,2, 2397.100,2
           NA,    P03E,     98,   1,-999.0,     -99,  2,20051115,0333,  24.2525, -150.6395,  5373, 1800.600,    2.400,   34.600,2,   34.600,2,   71.850,1,   77.800,2,  148.140,2,   40.940,2,    0.000,2,    2.942,2,    0.003,2,    0.000,2, -999.000,9, 2361.100,2, 2403.300,2
           NA,    P03E,     98,   1,-999.0,     -99,  2,20051115,0333,  24.2525, -150.6395,  5373, 2000.000,    2.142,   34.617,2,   34.617,2,   80.040,1,   86.700,2,  154.260,2,   40.440,2,    0.000,2,    2.890,2,    0.001,2,    0.000,2, -999.000,9, 2358.600,2, 2413.800,2
           NA,    P03E,     98,   1,-999.0,     -99,  2,20051115,0333,  24.2525, -150.6395,  5373, 2200.300,    1.956,   34.632,2,   34.632,6,   87.300,1,   94.850,2,  158.200,2,   40.050,2,    0.000,2,    2.849,2,    0.000,2,    0.000,2, -999.000,9, 2360.700,2, 2412.300,2
           NA,    P03E,     98,   1,-999.0,     -99,  2,20051115,0333,  24.2525, -150.6395,  5373, 2400.700,    1.823,   34.643,2,   34.643,2,   94.160,1,  102.500,2,  160.510,2,   39.630,2,    0.000,2,    2.813,2,    0.004,2,    0.000,2, -999.000,9, 2356.500,6, 2415.900,2
           NA,    P03E,     98,   1,-999.0,     -99,  2,20051115,0333,  24.2525, -150.6395,  5373, 2600.100,    1.735,   34.652,2,   34.652,2,   99.620,1,  108.350,2,  162.380,2,   39.140,2,    0.000,2,    2.770,2, -999.000,9, -999.000,9, -999.000,9, 2353.900,2, 2420.500,6
           NA,    P03E,     98,   1,-999.0,     -99,  2,20051115,0333,  24.2525, -150.6395,  5373, 2801.400,    1.654,   34.660,2,   34.660,2,  105.790,1,  115.240,2,  163.370,2,   38.680,2,    0.000,2,    2.730,2, -999.000,9, -999.000,9, -999.000,9, 2354.600,2, 2421.500,2
           NA,    P03E,     98,   1,-999.0,     -99,  2,20051115,0333,  24.2525, -150.6395,  5373, 3000.200,    1.592,   34.667,2,   34.667,2,  111.610,1,  121.490,2,  163.500,2,   38.290,2,    0.000,2,    2.703,2, -999.000,9, -999.000,9, -999.000,9, 2347.400,2, 2422.100,2
           NA,    P03E,     98,   1,-999.0,     -99,  2,20051115,0333,  24.2525, -150.6395,  5373, 3249.800,    1.546,   34.674,2,   34.673,6,  117.860,1,  128.350,2,  162.720,2,   37.890,2,    0.000,2,    2.660,2, -999.000,9, -999.000,9, -999.000,9, 2344.600,2, 2422.400,2
           NA,    P03E,     98,   1,-999.0,     -99,  2,20051115,0333,  24.2525, -150.6395,  5373, 3500.800,    1.515,   34.678,2,   34.678,2,  123.440,1,  134.340,2,  161.580,2,   37.520,2,    0.000,2,    2.633,2, -999.000,9, -999.000,9, -999.000,9, 2342.900,2, 2420.500,2
           NA,    P03E,     98,   1,-999.0,     -99,  2,20051115,0333,  24.2525, -150.6395,  5373, 3750.100,    1.494,   34.682,2,   34.682,2,  128.840,1,  140.100,2,  159.940,2,   37.120,2,    0.000,2,    2.600,2, -999.000,9, -999.000,9, -999.000,9, 2338.100,2, 2418.600,2
           NA,    P03E,     98,   1,-999.0,     -99,  2,20051115,0333,  24.2525, -150.6395,  5373, 4002.100,    1.482,   34.685,2,   34.685,6,  134.110,1,  145.310,2,  157.330,2,   36.740,2,    0.000,2,    2.573,2, -999.000,9, -999.000,9, -999.000,9, 2333.500,2, 2421.700,2
           NA,    P03E,     98,   1,-999.0,     -99,  2,20051115,0333,  24.2525, -150.6395,  5373, 4249.200,    1.485,   34.687,2,   34.687,2,  138.010,1,  149.130,2,  155.140,2,   36.480,2,    0.000,2,    2.554,2, -999.000,9, -999.000,9, -999.000,9, 2328.700,6, 2416.600,2
           NA,    P03E,     98,   1,-999.0,     -99,  2,20051115,0333,  24.2525, -150.6395,  5373, 4500.400,    1.484,   34.690,2,   34.689,2,  142.990,1,  154.010,2,  151.470,2,   36.120,2,    0.000,2,    2.526,2, -999.000,9, -999.000,9, -999.000,9, 2321.900,2, 2416.500,6
           NA,    P03E,     98,   1,-999.0,     -99,  2,20051115,0333,  24.2525, -150.6395,  5373, 4750.900,    1.482,   34.692,2,   34.692,2,  148.050,1,  158.780,2,  147.750,2,   35.800,2,    0.000,2,    2.500,2, -999.000,9, -999.000,9, -999.000,9, 2321.400,2, 2411.400,2
           NA,    P03E,     98,   1,-999.0,     -99,  2,20051115,0333,  24.2525, -150.6395,  5373, 5001.900,    1.482,   34.694,2,   34.694,2,  153.220,1,  163.690,2,  144.070,2,   35.420,2,    0.000,2,    2.476,2, -999.000,9, -999.000,9, -999.000,9, 2315.900,2, 2407.000,2
           NA,    P03E,     98,   1,-999.0,     -99,  2,20051115,0333,  24.2525, -150.6395,  5373, 5250.500,    1.502,   34.695,2,   34.695,2,  155.800,1,  165.480,2,  142.880,2,   35.310,2,    0.000,2,    2.465,2, -999.000,9, -999.000,9, -999.000,9, 2312.200,2, 2404.300,2
           NA,    P03E,     98,   1,-999.0,     -99,  2,20051115,0333,  24.2525, -150.6395,  5373, 5465.400,    1.529,   34.695,2,   34.694,6,  157.320,1,  165.850,2,  142.480,2,   35.300,2,    0.000,2,    2.465,2,    0.004,2,    0.001,2, -999.000,9, 2314.400,2, 2409.400,2
           NA,    P03E,     96,   1,-999.0,     -99,  2,20051114,2053,  24.2530, -149.8938,  5345,    9.600,   23.899,   35.368,2,   35.367,2,  199.040,1,  213.560,2,    1.060,2,    0.030,2,    0.000,2,    0.038,2,    1.799,2,    1.091,2, -999.000,9, -999.000,9, -999.000,9
           NA,    P03E,     96,   1,-999.0,     -99,  2,20051114,2053,  24.2530, -149.8938,  5345,   49.800,   23.736,   35.402,2,   35.402,2,  199.350,1,  214.160,2,    1.060,2,    0.030,2,    0.000,2,    0.041,2,    1.811,2,    1.096,2, -999.000,9, -999.000,9, -999.000,9
           NA,    P03E,     96,   1,-999.0,     -99,  2,20051114,2053,  24.2530, -149.8938,  5345,  100.200,   20.830,   35.137,2,   35.137,2,  205.320,1,  219.360,2,    1.610,2,    0.040,2,    0.010,2,    0.064,2,    2.138,2,    1.263,2, -999.000,9, -999.000,9, -999.000,9
           NA,    P03E,     96,   1,-999.0,     -99,  2,20051114,2053,  24.2530, -149.8938,  5345,  150.500,   17.929,   34.793,2,   34.797,2,  189.610,1,  203.070,2,    3.290,2,    2.390,2,    0.020,2,    0.277,2, -999.000,9, -999.000,9, -999.000,9, -999.000,9, -999.000,9
           NA,    P03E,     96,   1,-999.0,     -99,  2,20051114,2053,  24.2530, -149.8938,  5345,  150.900,   17.945,   34.795,2,   34.797,2,  189.530,1,  203.010,2,    2.970,2,    2.330,2,    0.020,2,    0.250,2,    2.392,2,    1.388,2, -999.000,9, -999.000,9, -999.000,9
           NA,    P03E,     96,   1,-999.0,     -99,  2,20051114,2053,  24.2530, -149.8938,  5345,  199.700,   14.939,   34.431,2,   34.434,2,  193.180,1,  206.260,2,    5.370,2,    5.660,2,    0.010,2,    0.481,2,    2.709,2,    1.534,2, -999.000,9, -999.000,9, -999.000,9
           NA,    P03E,     96,   1,-999.0,     -99,  2,20051114,2053,  24.2530, -149.8938,  5345,  249.200,   12.836,   34.240,2,   34.241,2,  199.620,1,  213.000,2,    8.410,2,    8.850,2,    0.000,2,    0.681,2,    2.930,2,    1.644,2, -999.000,9, -999.000,9, -999.000,9
           NA,    P03E,     96,   1,-999.0,     -99,  2,20051114,2053,  24.2530, -149.8938,  5345,  302.200,   11.222,   34.166,2,   34.167,2,  198.910,1,  212.480,2,   13.020,2,   12.610,2,    0.000,2,    0.931,2,    3.068,6,    1.678,6, -999.000,9, -999.000,9, -999.000,9
           NA,    P03E,     96,   1,-999.0,     -99,  2,20051114,2053,  24.2530, -149.8938,  5345,  399.900,    9.229,   34.105,2,   34.105,2,  174.090,1,  185.510,2,   25.040,2,   19.590,2,    0.000,2,    1.408,2,    2.918,2,    1.517,2, -999.000,9, -999.000,9, -999.000,9
           NA,    P03E,     96,   1,-999.0,     -99,  2,20051114,2053,  24.2530, -149.8938,  5345,  499.700,    6.830,   34.020,2,   34.020,6,  121.090,1,  128.810,2,   49.510,2,   29.670,2,    0.000,2,    2.140,2,    2.029,2,    0.964,2, -999.000,9, -999.000,9, -999.000,9
           NA,    P03E,     96,   1,-999.0,     -99,  2,20051114,2053,  24.2530, -149.8938,  5345,  602.500,    5.188,   34.056,2,   34.054,2,   66.050,1,   71.060,2,   76.700,2,   37.550,2,    0.000,2,    2.730,2,    0.768,2,    0.386,2, -999.000,9, -999.000,9, -999.000,9
           NA,    P03E,     96,   1,-999.0,     -99,  2,20051114,2053,  24.2530, -149.8938,  5345,  800.500,    4.448,   34.328,2,   34.328,2,   20.870,1,   22.160,2,  103.280,2,   42.840,2,    0.000,2,    3.162,2,    0.022,6,    0.016,6, -999.000,9, -999.000,9, -999.000,9
           NA,    P03E,     96,   1,-999.0,     -99,  2,20051114,2053,  24.2530, -149.8938,  5345,  900.300,    4.229,   34.407,2,   34.407,2,   27.520,1,   29.110,2,  107.980,2,   42.750,2,    0.000,2,    3.126,2,    0.009,2,    0.009,2, -999.000,9, -999.000,9, -999.000,9
           NA,    P03E,     96,   1,-999.0,     -99,  2,20051114,2053,  24.2530, -149.8938,  5345, 1002.700,    3.956,   34.463,2,   34.462,6,   34.500,1,   36.810,2,  113.210,2,   42.510,2,    0.000,2,    3.107,2,    0.007,2,    0.007,2, -999.000,9, -999.000,9, -999.000,9
           NA,    P03E,     96,   1,-999.0,     -99,  2,20051114,2053,  24.2530, -149.8938,  5345, 1198.900,    3.488,   34.529,2,   34.530,2,   47.360,1,   50.840,2,  122.980,2,   42.270,2,    0.000,2,    3.070,2,    0.002,2,    0.001,2, -999.000,9, -999.000,9, -999.000,9
           NA,    P03E,     96,   1,-999.0,     -99,  2,20051114,2053,  24.2530, -149.8938,  5345, 1402.800,    3.025,   34.562,2,   34.562,2,   56.110,1,   60.390,2,  133.530,2,   41.930,2,    0.000,2,    3.023,2,    0.000,2,    0.000,2, -999.000,9, -999.000,9, -999.000,9
           NA,    P03E,     96,   1,-999.0,     -99,  2,20051114,2053,  24.2530, -149.8938,  5345, 1601.500,    2.647,   34.580,2,   34.580,2,   64.110,1,   69.110,2,  142.650,2,   41.410,2,    0.000,2,    2.983,2,    0.000,2,    0.000,2, -999.000,9, -999.000,9, -999.000,9
           NA,    P03E,     96,   1,-999.0,     -99,  2,20051114,2053,  24.2530, -149.8938,  5345, 1800.700,    2.358,   34.599,2,   34.599,6,   70.480,1,   76.230,2,  150.450,2,   41.070,2,    0.000,2,    2.948,2,    0.000,2,    0.000,2, -999.000,9, -999.000,9, -999.000,9
           NA,    P03E,     96,   1,-999.0,     -99,  2,20051114,2053,  24.2530, -149.8938,  5345, 2001.000,    2.109,   34.617,2,   34.617,2,   78.570,1,   84.970,2,  156.610,2,   40.550,2,    0.000,2,    2.892,2,    0.000,2,    0.000,2, -999.000,9, -999.000,9, -999.000,9
           NA,    P03E,     96,   1,-999.0,     -99,  2,20051114,2053,  24.2530, -149.8938,  5345, 2200.600,    1.921,   34.633,2,   34.633,2,   86.960,1,   94.460,2,  160.710,2,   39.950,2,   -0.010,2,    2.842,2, -999.000,9, -999.000,9, -999.000,9, -999.000,9, -999.000,9
           NA,    P03E,     96,   1,-999.0,     -99,  2,20051114,2053,  24.2530, -149.8938,  5345, 2400.500,    1.792,   34.644,2,   34.645,2,   94.390,1,  102.310,2,  162.600,2,   39.530,2,    0.000,2,    2.798,2,    0.001,2,    0.000,2, -999.000,9, -999.000,9, -999.000,9
           NA,    P03E,     96,   1,-999.0,     -99,  2,20051114,2053,  24.2530, -149.8938,  5345, 2600.600,    1.701,   34.654,2,   34.653,2,  100.970,1,  109.640,2,  163.530,2,   38.980,2,    0.000,2,    2.763,2, -999.000,9, -999.000,9, -999.000,9, -999.000,9, -999.000,9
           NA,    P03E,     96,   1,-999.0,     -99,  2,20051114,2053,  24.2530, -149.8938,  5345, 2800.200,    1.646,   34.660,2,   34.660,2,  105.870,1,  115.080,2,  163.280,2,   38.620,2,    0.000,2,    2.724,2, -999.000,9, -999.000,9, -999.000,9, -999.000,9, -999.000,9
           NA,    P03E,     96,   1,-999.0,     -99,  2,20051114,2053,  24.2530, -149.8938,  5345, 3000.600,    1.586,   34.667,2,   34.667,6,  111.670,1,  121.370,2,  164.140,2,   38.260,2,    0.000,2,    2.699,2,    0.001,2,    0.000,2, -999.000,9, -999.000,9, -999.000,9
           NA,    P03E,     96,   1,-999.0,     -99,  2,20051114,2053,  24.2530, -149.8938,  5345, 3251.100,    1.537,   34.674,2,   34.674,2,  118.330,1,  128.530,2,  163.190,2,   37.850,2,    0.000,2,    2.650,2, -999.000,9, -999.000,9, -999.000,9, -999.000,9, -999.000,9
           NA,    P03E,     96,   1,-999.0,     -99,  2,20051114,2053,  24.2530, -149.8938,  5345, 3500.900,    1.506,   34.679,2,   34.679,2,  124.180,1,  134.750,2,  161.800,2,   37.420,2,    0.000,2,    2.623,2,    0.003,2,    0.000,2, -999.000,9, -999.000,9, -999.000,9
           NA,    P03E,     96,   1,-999.0,     -99,  2,20051114,2053,  24.2530, -149.8938,  5345, 3750.000,    1.489,   34.682,2,   34.682,2,  129.620,1,  140.560,2,  159.430,2,   37.040,2,    0.000,2,    2.592,2, -999.000,9, -999.000,9, -999.000,9, -999.000,9, -999.000,9
           NA,    P03E,     96,   1,-999.0,     -99,  2,20051114,2053,  24.2530, -149.8938,  5345, 4000.300,    1.478,   34.686,2,   34.686,2,  134.520,1,  145.780,2,  157.340,2,   36.670,2,    0.000,2,    2.564,2,    0.001,2,    0.003,2, -999.000,9, -999.000,9, -999.000,9
           NA,    P03E,     96,   1,-999.0,     -99,  2,20051114,2053,  24.2530, -149.8938,  5345, 4249.700,    1.479,   34.688,2,   34.688,2,  138.970,1,  150.210,2,  154.450,2,   36.400,2,   -0.010,2,    2.547,2, -999.000,9, -999.000,9, -999.000,9, -999.000,9, -999.000,9
           NA,    P03E,     96,   1,-999.0,     -99,  2,20051114,2053,  24.2530, -149.8938,  5345, 4499.700,    1.480,   34.690,2,   34.690,6,  143.600,1,  154.700,2,  151.230,2,   36.060,2,    0.000,2,    2.520,2,    0.000,2,    0.002,2, -999.000,9, -999.000,9, -999.000,9
           NA,    P03E,     96,   1,-999.0,     -99,  2,20051114,2053,  24.2530, -149.8938,  5345, 4748.200,    1.481,   34.692,2,   34.692,2,  148.250,1,  159.130,2,  148.020,2,   35.780,2,    0.000,2,    2.496,2, -999.000,9, -999.000,9, -999.000,9, -999.000,9, -999.000,9
           NA,    P03E,     96,   1,-999.0,     -99,  2,20051114,2053,  24.2530, -149.8938,  5345, 4997.400,    1.482,   34.694,2,   34.694,2,  153.360,1,  163.720,2,  143.690,2,   35.410,2,    0.000,2,    2.467,2,    0.000,2,    0.003,2, -999.000,9, -999.000,9, -999.000,9
           NA,    P03E,     96,   1,-999.0,     -99,  2,20051114,2053,  24.2530, -149.8938,  5345, 5249.700,    1.497,   34.695,2,   34.695,2,  156.680,1,  166.370,2,  142.390,2,   35.170,2,    0.000,2,    2.453,2, -999.000,9, -999.000,9, -999.000,9, -999.000,9, -999.000,9
           NA,    P03E,     96,   1,-999.0,     -99,  2,20051114,2053,  24.2530, -149.8938,  5345, 5422.700,    1.519,   34.695,2,   34.695,6,  157.690,1,  166.390,2,  142.390,2,   35.220,2,    0.000,2,    2.461,2,    0.000,2,    0.002,2, -999.000,9, -999.000,9, -999.000,9