BOTTLE,20211903JOAExport
EXPOCODE,SECT_ID,STNNBR,CASTNO,SAMPNO,BTLNBR,BTLNBR_FLAG_W,DATE,TIME,LATITUDE,LONGITUDE,DEPTH,CTDPRS,CTDTMP,CTDSAL,CTDSAL_FLAG_W,SALNTY,SALNTY_FLAG_W,CTDOXY,CTDOXY_FLAG_W,OXYGEN,OXYGEN_FLAG_W,SILCAT,SILCAT_FLAG_W,NITRAT,NITRAT_FLAG_W,NITRIT,NITRIT_FLAG_W,PHSPHT,PHSPHT_FLAG_W,CFC-11,CFC-11_FLAG_W,CFC-12,CFC-12_FLAG_W,SF6,SF6_FLAG_W,TCARBN,TCARBN_FLAG_W,ALKALI,ALKALI_FLAG_W
,,,,,,,,,,,,DB,ITS-90,PSS-78,,PSS-78,,UMOL/KG,,UMOL/KG,,UMOL/KG,,UMOL/KG,,UMOL/KG,,UMOL/KG,,PMOL/KG,,PMOL/KG,,FMOL/KG,,UMOL/KG,,UMOL/KG
           NA,    P03E,     55,   1,-999.0,     -99,  2,20051107,1304,  24.2452, -132.4352,  4624,   10.500,   22.005,   34.881,2,   34.880,2,  210.160,1,  220.620,2,    1.210,2,    0.050,2,    0.000,2,    0.170,2,    1.923,2,    1.150,2, -999.000,9, -999.000,9, -999.000,9
           NA,    P03E,     55,   1,-999.0,     -99,  2,20051107,1304,  24.2452, -132.4352,  4624,   50.400,   21.734,   34.784,2,   34.785,2,  211.980,1,  222.420,2,    1.300,2,    0.040,2,    0.000,2,    0.170,2,    1.964,2,    1.187,2, -999.000,9, -999.000,9, -999.000,9
           NA,    P03E,     55,   1,-999.0,     -99,  2,20051107,1304,  24.2452, -132.4352,  4624,   99.900,   19.808,   34.569,2,   34.586,2,  223.430,1,  234.020,2,    1.530,2,    0.040,2,    0.000,2,    0.162,2,    2.242,2,    1.323,2, -999.000,9, -999.000,9, -999.000,9
           NA,    P03E,     55,   1,-999.0,     -99,  2,20051107,1304,  24.2452, -132.4352,  4624,  150.700,   17.733,   34.499,2,   34.484,2,  210.260,1,  220.680,2,    2.380,2,    0.820,2,    0.120,2,    0.246,2,    2.454,2,    1.407,2, -999.000,9, -999.000,9, -999.000,9
           NA,    P03E,     55,   1,-999.0,     -99,  2,20051107,1304,  24.2452, -132.4352,  4624,  200.000,   12.545,   33.850,2,   33.845,2,  202.310,1,  211.110,2,    7.620,2,    8.310,2,    0.010,2,    0.758,2,    3.103,2,    1.663,2, -999.000,9, -999.000,9, -999.000,9
           NA,    P03E,     55,   1,-999.0,     -99,  2,20051107,1304,  24.2452, -132.4352,  4624,  250.500,    9.893,   33.869,2,   33.890,2,  186.800,1,  195.760,2,   17.290,2,   16.280,2,    0.000,2,    1.258,2,    3.315,6,    1.697,6, -999.000,9, -999.000,9, -999.000,9
           NA,    P03E,     55,   1,-999.0,     -99,  2,20051107,1304,  24.2452, -132.4352,  4624,  299.600,    9.106,   34.024,2,   34.028,2,  165.900,1,  171.760,2,   25.310,2,   20.830,2,    0.000,2,    1.548,2,    3.051,2,    1.518,2, -999.000,9, -999.000,9, -999.000,9
           NA,    P03E,     55,   1,-999.0,     -99,  2,20051107,1304,  24.2452, -132.4352,  4624,  399.700,    7.378,   34.069,2,   34.073,2,  100.090,1,  101.810,2,   46.770,2,   30.570,2,    0.000,2,    2.288,2,    1.743,2,    0.810,2, -999.000,9, -999.000,9, -999.000,9
           NA,    P03E,     55,   1,-999.0,     -99,  2,20051107,1304,  24.2452, -132.4352,  4624,  501.000,    5.770,   34.120,2,   34.119,6,   46.340,1,   47.910,2,   71.630,2,   38.140,2,    0.000,2,    2.842,2,    0.584,2,    0.274,2, -999.000,9, -999.000,9, -999.000,9
           NA,    P03E,     55,   1,-999.0,     -99,  2,20051107,1304,  24.2452, -132.4352,  4624,  600.400,    5.235,   34.245,2,   34.248,2,   20.520,1,   20.820,2,   86.730,2,   41.330,2,    0.000,2,    3.101,2,    0.094,2,    0.049,2, -999.000,9, -999.000,9, -999.000,9
           NA,    P03E,     55,   1,-999.0,     -99,  2,20051107,1304,  24.2452, -132.4352,  4624,  700.800,    4.976,   34.362,2,   34.364,2,   17.810,1,   18.520,2,   93.160,2,   42.260,2,    0.000,2,    3.169,2,    0.031,2,    0.015,2, -999.000,9, -999.000,9, -999.000,9
           NA,    P03E,     55,   1,-999.0,     -99,  2,20051107,1304,  24.2452, -132.4352,  4624,  802.200,    4.681,   34.446,2,   34.446,2,   23.030,1,   23.970,2,   98.620,2,   42.780,2,    0.010,2,    3.181,2,    0.008,6,    0.006,6, -999.000,9, -999.000,9, -999.000,9
           NA,    P03E,     55,   1,-999.0,     -99,  2,20051107,1304,  24.2452, -132.4352,  4624,  899.200,    4.357,   34.479,2,   34.479,2,   26.950,1,   28.130,2,  105.310,2,   43.140,2,    0.000,2,    3.176,2,    0.018,2,    0.007,2, -999.000,9, -999.000,9, -999.000,9
           NA,    P03E,     55,   1,-999.0,     -99,  2,20051107,1304,  24.2452, -132.4352,  4624, 1001.900,    3.999,   34.504,2,   34.504,6,   31.820,1,   33.000,2,  112.910,2,   43.140,2,    0.000,2,    3.173,2,    0.006,2,    0.008,2, -999.000,9, -999.000,9, -999.000,9
           NA,    P03E,     55,   1,-999.0,     -99,  2,20051107,1304,  24.2452, -132.4352,  4624, 1201.200,    3.471,   34.539,2,   34.539,2,   38.810,1,   40.550,2,  125.520,2,   43.000,2,    0.000,2,    3.159,2,    0.004,2,    0.008,2, -999.000,9, -999.000,9, -999.000,9
           NA,    P03E,     55,   1,-999.0,     -99,  2,20051107,1304,  24.2452, -132.4352,  4624, 1399.800,    3.039,   34.566,2,   34.566,2,   47.840,1,   50.070,2,  135.760,2,   42.710,2,    0.000,2,    3.115,2,    0.001,2,    0.002,2, -999.000,9, -999.000,9, -999.000,9
           NA,    P03E,     55,   1,-999.0,     -99,  2,20051107,1304,  24.2452, -132.4352,  4624, 1600.600,    2.703,   34.587,2,   34.587,2,   56.730,1,   59.270,2,  144.060,2,   42.190,2,    0.000,2,    3.061,2,    0.003,2,    0.001,2, -999.000,9, -999.000,9, -999.000,9
           NA,    P03E,     55,   1,-999.0,     -99,  2,20051107,1304,  24.2452, -132.4352,  4624, 1800.700,    2.379,   34.610,2,   34.610,6,   67.910,1,   71.430,2,  151.360,2,   41.420,2,    0.000,2,    2.987,2,    0.000,2,    0.000,2, -999.000,9, -999.000,9, -999.000,9
           NA,    P03E,     55,   1,-999.0,     -99,  2,20051107,1304,  24.2452, -132.4352,  4624, 2003.300,    2.154,   34.626,2,   34.626,2,   78.320,1,   82.350,2,  155.940,2,   40.690,2,    0.000,2,    2.921,2,    0.002,2,    0.000,2, -999.000,9, -999.000,9, -999.000,9
           NA,    P03E,     55,   1,-999.0,     -99,  2,20051107,1304,  24.2452, -132.4352,  4624, 2200.200,    1.972,   34.638,2,   34.639,2,   87.710,1,   92.380,2,  159.330,2,   40.070,2,    0.000,2,    2.864,2, -999.000,9, -999.000,9, -999.000,9, -999.000,9, -999.000,9
           NA,    P03E,     55,   1,-999.0,     -99,  2,20051107,1304,  24.2452, -132.4352,  4624, 2399.400,    1.835,   34.648,2,   34.648,2,   95.260,1,  100.370,2,  161.970,2,   39.650,2,    0.000,2,    2.820,2,    0.000,2,    0.003,2, -999.000,9, -999.000,9, -999.000,9
           NA,    P03E,     55,   1,-999.0,     -99,  2,20051107,1304,  24.2452, -132.4352,  4624, 2600.100,    1.722,   34.656,2,   34.656,6,  101.800,1,  107.360,2,  164.750,2,   39.160,2,    0.000,2,    2.776,2, -999.000,9, -999.000,9, -999.000,9, -999.000,9, -999.000,9
           NA,    P03E,     55,   1,-999.0,     -99,  2,20051107,1304,  24.2452, -132.4352,  4624, 2800.900,    1.632,   34.663,2,   34.662,2,  108.390,1,  114.300,2,  166.100,2,   38.660,2,    0.000,2,    2.734,2, -999.000,9, -999.000,9, -999.000,9, -999.000,9, -999.000,9
           NA,    P03E,     55,   1,-999.0,     -99,  2,20051107,1304,  24.2452, -132.4352,  4624, 2999.600,    1.570,   34.669,2,   34.669,2,  114.850,1,  121.130,2,  166.210,2,   38.290,2,    0.000,2,    2.699,2,    0.004,2,    0.003,2, -999.000,9, -999.000,9, -999.000,9
           NA,    P03E,     55,   1,-999.0,     -99,  2,20051107,1304,  24.2452, -132.4352,  4624, 3249.600,    1.521,   34.675,2,   34.675,2,  122.490,1,  129.010,2,  164.920,2,   37.750,2,    0.000,2,    2.658,2, -999.000,9, -999.000,9, -999.000,9, -999.000,9, -999.000,9
           NA,    P03E,     55,   1,-999.0,     -99,  2,20051107,1304,  24.2452, -132.4352,  4624, 3500.800,    1.497,   34.680,2,   34.680,6,  128.200,1,  134.930,2,  163.400,2,   37.410,2,    0.000,2,    2.629,2,    0.003,2,    0.004,2, -999.000,9, -999.000,9, -999.000,9
           NA,    P03E,     55,   1,-999.0,     -99,  2,20051107,1304,  24.2452, -132.4352,  4624, 3749.500,    1.493,   34.682,2,   34.682,2,  132.330,1,  138.890,2,  161.800,2,   37.150,2,    0.000,2,    2.606,2, -999.000,9, -999.000,9, -999.000,9, -999.000,9, -999.000,9
           NA,    P03E,     55,   1,-999.0,     -99,  2,20051107,1304,  24.2452, -132.4352,  4624, 4001.600,    1.500,   34.684,2,   34.684,2,  135.740,1,  142.050,2,  160.080,2,   36.850,2,    0.000,2,    2.589,2,    0.001,2,    0.009,2, -999.000,9, -999.000,9, -999.000,9
           NA,    P03E,     55,   1,-999.0,     -99,  2,20051107,1304,  24.2452, -132.4352,  4624, 4252.300,    1.507,   34.686,2,   34.687,2,  139.860,1,  145.770,2,  157.560,2,   36.690,2,    0.000,2,    2.575,2, -999.000,9, -999.000,9, -999.000,9, -999.000,9, -999.000,9
           NA,    P03E,     55,   1,-999.0,     -99,  2,20051107,1304,  24.2452, -132.4352,  4624, 4501.000,    1.500,   34.689,2,   34.689,2,  146.190,1,  151.710,2,  153.260,2,   36.210,2,    0.000,2,    2.541,2, -999.000,9, -999.000,9, -999.000,9, -999.000,9, -999.000,9
           NA,    P03E,     55,   1,-999.0,     -99,  2,20051107,1304,  24.2452, -132.4352,  4624, 4699.300,    1.494,   34.691,2,   34.691,6,  151.910,1,  156.900,2,  149.120,2,   35.860,2,    0.010,2,    2.511,2,    0.012,2,    0.004,2, -999.000,9, -999.000,9, -999.000,9
           NA,    P03E,     55,   1,-999.0,     -99,  2,20051107,1304,  24.2452, -132.4352,  4624, 4699.600,    1.494,   34.691,2,   34.691,2,  151.850,1,  156.800,2,  149.390,2,   35.840,2,    0.000,2,    2.513,2, -999.000,9, -999.000,9, -999.000,9, -999.000,9, -999.000,9
           NA,    P03E,     53,   1,-999.0,     -99,  2,20051107,0643,  24.2718, -131.6563,  4693,   10.200,   21.804,   34.885,2,   34.885,2,  211.570,1,  221.700,2,    1.320,2,    0.030,2,    0.000,2,    0.154,2,    1.929,2,    1.173,2, -999.000,9, -999.000,9, -999.000,9
           NA,    P03E,     53,   1,-999.0,     -99,  2,20051107,0643,  24.2718, -131.6563,  4693,   49.700,   21.801,   34.881,2,   34.882,2,  211.580,1,  221.650,2,    1.280,2,    0.020,2,    0.010,2,    0.153,2,    1.937,2,    1.182,2, -999.000,9, -999.000,9, -999.000,9
           NA,    P03E,     53,   1,-999.0,     -99,  2,20051107,0643,  24.2718, -131.6563,  4693,   99.900,   19.764,   34.698,2,   34.687,2,  221.540,1,  231.180,2,    1.700,2,    0.020,2,    0.000,2,    0.137,2,    2.239,2,    1.336,2, -999.000,9, -999.000,9, -999.000,9
           NA,    P03E,     53,   1,-999.0,     -99,  2,20051107,0643,  24.2718, -131.6563,  4693,  150.200,   16.786,   34.354,2,   34.313,2,  205.670,1,  215.010,2,    3.110,2,    2.230,2,    0.040,2,    0.339,2,    2.532,2,    1.481,2, -999.000,9, -999.000,9, -999.000,9
           NA,    P03E,     53,   1,-999.0,     -99,  2,20051107,0643,  24.2718, -131.6563,  4693,  201.900,   12.338,   33.853,2,   33.842,2,  193.600,1,  201.750,2,    9.130,2,    9.990,2,    0.010,2,    0.870,2,    2.949,2,    1.716,2, -999.000,9, -999.000,9, -999.000,9
           NA,    P03E,     53,   1,-999.0,     -99,  2,20051107,0643,  24.2718, -131.6563,  4693,  251.400,   10.048,   33.920,2,   33.928,2,  180.010,1,  186.360,2,   17.740,2,   16.780,2,    0.010,2,    1.304,2,    3.074,6,    1.699,6, -999.000,9, -999.000,9, -999.000,9
           NA,    P03E,     53,   1,-999.0,     -99,  2,20051107,0643,  24.2718, -131.6563,  4693,  301.400,    8.923,   34.053,2,   34.054,2,  156.660,1,  162.360,2,   27.820,2,   22.210,2,    0.000,2,    1.633,2,    2.810,2,    1.465,2, -999.000,9, -999.000,9, -999.000,9
           NA,    P03E,     53,   1,-999.0,     -99,  2,20051107,0643,  24.2718, -131.6563,  4693,  402.300,    6.842,   34.057,2,   34.058,2,   91.110,1,   93.870,2,   52.270,2,   32.400,2,    0.010,2,    2.404,2,    1.580,2,    0.766,2, -999.000,9, -999.000,9, -999.000,9
           NA,    P03E,     53,   1,-999.0,     -99,  2,20051107,0643,  24.2718, -131.6563,  4693,  500.900,    5.509,   34.108,2,   34.110,6,   46.630,1,   47.970,2,   75.650,2,   38.820,2,    0.010,2,    2.867,2,    0.507,2,    0.264,2, -999.000,9, -999.000,9, -999.000,9
           NA,    P03E,     53,   1,-999.0,     -99,  2,20051107,0643,  24.2718, -131.6563,  4693,  601.900,    5.317,   34.297,2,   34.298,2,   18.770,1,   19.930,2,   86.120,2,   41.350,2,    0.000,2,    3.122,2,    0.050,2,    0.030,2, -999.000,9, -999.000,9, -999.000,9
           NA,    P03E,     53,   1,-999.0,     -99,  2,20051107,0643,  24.2718, -131.6563,  4693,  702.200,    4.980,   34.388,2,   34.389,2,   18.330,1,   19.190,2,   93.410,2,   42.430,2,    0.000,2,    3.178,2,    0.011,2,    0.006,2, -999.000,9, -999.000,9, -999.000,9
           NA,    P03E,     53,   1,-999.0,     -99,  2,20051107,0643,  24.2718, -131.6563,  4693,  800.300,    4.655,   34.439,2,   34.441,2,   22.730,1,   23.830,2,   99.080,2,   42.870,2,    0.010,2,    3.181,2,    0.006,6,    0.006,6, -999.000,9, -999.000,9, -999.000,9
           NA,    P03E,     53,   1,-999.0,     -99,  2,20051107,0643,  24.2718, -131.6563,  4693,  901.100,    4.368,   34.479,2,   34.479,2,   27.250,1,   28.580,2,  104.900,2,   43.100,2,    0.000,2,    3.180,2,    0.001,2,    0.003,2, -999.000,9, -999.000,9, -999.000,9
           NA,    P03E,     53,   1,-999.0,     -99,  2,20051107,0643,  24.2718, -131.6563,  4693, 1002.700,    4.127,   34.498,2,   34.498,6,   30.510,1,   32.050,2,  109.940,2,   43.140,2,    0.010,2,    3.172,2,    0.000,2,    0.000,2, -999.000,9, -999.000,9, -999.000,9
           NA,    P03E,     53,   1,-999.0,     -99,  2,20051107,0643,  24.2718, -131.6563,  4693, 1200.600,    3.501,   34.537,2,   34.537,2,   39.110,1,   41.130,2,  124.580,2,   43.090,2,    0.000,2,    3.155,2,    0.001,2,    0.001,2, -999.000,9, -999.000,9, -999.000,9
           NA,    P03E,     53,   1,-999.0,     -99,  2,20051107,0643,  24.2718, -131.6563,  4693, 1402.500,    3.063,   34.564,2,   34.565,2,   46.610,1,   49.050,2,  135.760,2,   42.710,2,    0.010,2,    3.119,2,    0.000,2,    0.000,2, -999.000,9, -999.000,9, -999.000,9
           NA,    P03E,     53,   1,-999.0,     -99,  2,20051107,0643,  24.2718, -131.6563,  4693, 1600.300,    2.714,   34.587,2,   34.588,2,   55.580,1,   58.610,2,  144.210,2,   42.220,2,    0.010,2,    3.064,2,    0.005,2,    0.000,2, -999.000,9, -999.000,9, -999.000,9
           NA,    P03E,     53,   1,-999.0,     -99,  2,20051107,0643,  24.2718, -131.6563,  4693, 1801.900,    2.383,   34.610,2,   34.610,2,   67.670,1,   71.290,2,  151.470,2,   41.390,2,    0.010,2,    2.985,2,    0.000,2,    0.000,2, -999.000,9, -999.000,9, -999.000,9
           NA,    P03E,     53,   1,-999.0,     -99,  2,20051107,0643,  24.2718, -131.6563,  4693, 2001.700,    2.143,   34.626,2,   34.626,6,   79.020,1,   83.170,2,  155.830,2,   40.630,2,    0.010,2,    2.913,2,    0.000,2,    0.001,2, -999.000,9, -999.000,9, -999.000,9
           NA,    P03E,     53,   1,-999.0,     -99,  2,20051107,0643,  24.2718, -131.6563,  4693, 2202.100,    1.969,   34.639,2,   34.639,2,   88.100,1,   92.800,2,  159.370,2,   40.070,2,    0.010,2,    2.861,2, -999.000,9, -999.000,9, -999.000,9, -999.000,9, -999.000,9
           NA,    P03E,     53,   1,-999.0,     -99,  2,20051107,0643,  24.2718, -131.6563,  4693, 2401.000,    1.824,   34.649,2,   34.649,2,   96.120,1,  101.160,2,  162.310,2,   39.590,2,    0.010,2,    2.806,2, -999.000,9, -999.000,9, -999.000,9, -999.000,9, -999.000,9
           NA,    P03E,     53,   1,-999.0,     -99,  2,20051107,0643,  24.2718, -131.6563,  4693, 2599.500,    1.727,   34.656,2,   34.656,2,  101.810,1,  107.390,2,  164.540,2,   39.190,2,    0.010,2,    2.772,2, -999.000,9, -999.000,9, -999.000,9, -999.000,9, -999.000,9
           NA,    P03E,     53,   1,-999.0,     -99,  2,20051107,0643,  24.2718, -131.6563,  4693, 2800.100,    1.633,   34.663,2,   34.663,2,  108.770,1,  114.890,2,  165.990,2,   38.690,2,    0.010,2,    2.735,2, -999.000,9, -999.000,9, -999.000,9, -999.000,9, -999.000,9
           NA,    P03E,     53,   1,-999.0,     -99,  2,20051107,0643,  24.2718, -131.6563,  4693, 3000.200,    1.559,   34.670,2,   34.670,6,  116.320,1,  122.580,2,  165.740,2,   38.180,2,    0.000,2,    2.690,2, -999.000,9, -999.000,9, -999.000,9, -999.000,9, -999.000,9
           NA,    P03E,     53,   1,-999.0,     -99,  2,20051107,0643,  24.2718, -131.6563,  4693, 3249.400,    1.516,   34.676,2,   34.676,2,  123.280,1,  130.090,2,  164.580,2,   37.730,2,    0.000,2,    2.650,2,    0.000,2,    0.000,2, -999.000,9, -999.000,9, -999.000,9
           NA,    P03E,     53,   1,-999.0,     -99,  2,20051107,0643,  24.2718, -131.6563,  4693, 3499.700,    1.501,   34.679,2,   34.680,2,  127.940,1,  134.700,2,  163.610,2,   37.430,2,    0.000,2,    2.625,2, -999.000,9, -999.000,9, -999.000,9, -999.000,9, -999.000,9
           NA,    P03E,     53,   1,-999.0,     -99,  2,20051107,0643,  24.2718, -131.6563,  4693, 3749.800,    1.498,   34.682,2,   34.682,2,  131.790,1,  138.370,2,  162.360,2,   37.210,2,    0.000,2,    2.612,2, -999.000,9, -999.000,9, -999.000,9, -999.000,9, -999.000,9
           NA,    P03E,     53,   1,-999.0,     -99,  2,20051107,0643,  24.2718, -131.6563,  4693, 4000.600,    1.504,   34.684,2,   34.684,2,  135.530,1,  141.760,2,  160.680,2,   36.980,2,    0.000,2,    2.586,2, -999.000,9, -999.000,9, -999.000,9, -999.000,9, -999.000,9
           NA,    P03E,     53,   1,-999.0,     -99,  2,20051107,0643,  24.2718, -131.6563,  4693, 4250.600,    1.510,   34.686,2,   34.686,6,  139.500,1,  145.420,2,  157.850,2,   36.720,2,    0.010,2,    2.568,2,    0.001,2,    0.006,2, -999.000,9, -999.000,9, -999.000,9
           NA,    P03E,     53,   1,-999.0,     -99,  2,20051107,0643,  24.2718, -131.6563,  4693, 4500.300,    1.512,   34.688,2,   34.689,2,  144.800,1,  150.280,2,  154.320,2,   36.370,2,    0.010,2,    2.546,2, -999.000,9, -999.000,9, -999.000,9, -999.000,9, -999.000,9
           NA,    P03E,     53,   1,-999.0,     -99,  2,20051107,0643,  24.2718, -131.6563,  4693, 4762.100,    1.517,   34.690,2,   34.690,6,  150.280,1,  154.760,2,  151.010,2,   35.980,2,    0.000,2,    2.520,2,    0.000,2,    0.005,2, -999.000,9, -999.000,9, -999.000,9
           NA,    P03E,     53,   1,-999.0,     -99,  2,20051107,0643,  24.2718, -131.6563,  4693, 4762.200,    1.516,   34.690,2,   34.690,2,  150.200,1,  154.830,2,  150.960,2,   36.030,2,    0.000,2,    2.519,2, -999.000,9, -999.000,9, -999.000,9, -999.000,9, -999.000,9