BOTTLE,20211903JOAExport
EXPOCODE,SECT_ID,STNNBR,CASTNO,SAMPNO,BTLNBR,BTLNBR_FLAG_W,DATE,TIME,LATITUDE,LONGITUDE,DEPTH,CTDPRS,CTDTMP,CTDSAL,CTDSAL_FLAG_W,SALNTY,SALNTY_FLAG_W,CTDOXY,CTDOXY_FLAG_W,OXYGEN,OXYGEN_FLAG_W,SILCAT,SILCAT_FLAG_W,NITRAT,NITRAT_FLAG_W,NITRIT,NITRIT_FLAG_W,PHSPHT,PHSPHT_FLAG_W,CFC-11,CFC-11_FLAG_W,CFC-12,CFC-12_FLAG_W,SF6,SF6_FLAG_W,TCARBN,TCARBN_FLAG_W,ALKALI,ALKALI_FLAG_W
,,,,,,,,,,,,DB,ITS-90,PSS-78,,PSS-78,,UMOL/KG,,UMOL/KG,,UMOL/KG,,UMOL/KG,,UMOL/KG,,UMOL/KG,,PMOL/KG,,PMOL/KG,,FMOL/KG,,UMOL/KG,,UMOL/KG
           NA,    P03C,    281,   1,-999.0,     -99,  2,20060101,2023,  24.2610,  147.2460,  5870,    9.600,   25.278,   34.997,2,   34.997,2,  190.570,1,  205.840,2,    1.110,2,    0.040,2,    0.000,2,    0.049,2,    1.660,2,    0.978,2, -999.000,9, -999.000,9, -999.000,9
           NA,    P03C,    281,   1,-999.0,     -99,  2,20060101,2023,  24.2610,  147.2460,  5870,   50.100,   25.285,   34.998,2,   34.997,2,  190.630,1,  205.950,2,    1.080,2,    0.040,2,    0.000,2,    0.047,2,    1.660,2,    0.979,2, -999.000,9, -999.000,9, -999.000,9
           NA,    P03C,    281,   1,-999.0,     -99,  2,20060101,2023,  24.2610,  147.2460,  5870,  100.200,   25.292,   34.996,2,   35.000,2,  190.630,1,  205.990,2,    1.070,2,    0.030,2,    0.000,2,    0.047,2,    1.665,2,    0.980,2, -999.000,9, -999.000,9, -999.000,9
           NA,    P03C,    281,   1,-999.0,     -99,  2,20060101,2023,  24.2610,  147.2460,  5870,  149.700,   22.183,   35.106,2,   35.111,2,  190.000,1,  205.580,2,    1.570,2,    0.060,2,    0.130,2,    0.073,2,    2.028,2,    1.164,2, -999.000,9, -999.000,9, -999.000,9
           NA,    P03C,    281,   1,-999.0,     -99,  2,20060101,2023,  24.2610,  147.2460,  5870,  201.700,   19.863,   34.972,2,   34.978,2,  189.220,1,  204.160,2,    2.150,2,    1.090,2,    0.020,2,    0.145,2,    2.205,2,    1.257,2, -999.000,9, -999.000,9, -999.000,9
           NA,    P03C,    281,   1,-999.0,     -99,  2,20060101,2023,  24.2610,  147.2460,  5870,  251.600,   17.878,   34.821,2,   34.822,2,  196.270,1,  211.590,2,    3.120,2,    3.260,2,    0.010,2,    0.268,2,    2.376,6,    1.337,6, -999.000,9, -999.000,9, -999.000,9
           NA,    P03C,    281,   1,-999.0,     -99,  2,20060101,2023,  24.2610,  147.2460,  5870,  302.000,   17.217,   34.789,2,   34.788,2,  196.550,1,  212.560,2,    3.770,2,    4.190,2,    0.010,2,    0.322,2,    2.420,2,    1.362,2, -999.000,9, -999.000,9, -999.000,9
           NA,    P03C,    281,   1,-999.0,     -99,  2,20060101,2023,  24.2610,  147.2460,  5870,  400.600,   15.564,   34.639,2,   34.636,2,  186.480,1,  201.120,2,    7.410,2,    7.730,2,    0.010,2,    0.566,2,    2.581,2,    1.398,2, -999.000,9, -999.000,9, -999.000,9
           NA,    P03C,    281,   1,-999.0,     -99,  2,20060101,2023,  24.2610,  147.2460,  5870,  500.600,   12.155,   34.365,2,   34.359,6,  181.330,1,  194.910,2,   16.340,2,   13.730,2,    0.000,2,    0.995,2,    2.735,2,    1.420,2, -999.000,9, -999.000,9, -999.000,9
           NA,    P03C,    281,   1,-999.0,     -99,  2,20060101,2023,  24.2610,  147.2460,  5870,  600.100,    9.709,   34.193,2,   34.192,2,  164.710,1,  177.290,2,   27.550,2,   19.610,2,    0.000,2,    1.420,2,    2.582,2,    1.281,2, -999.000,9, -999.000,9, -999.000,9
           NA,    P03C,    281,   1,-999.0,     -99,  2,20060101,2023,  24.2610,  147.2460,  5870,  700.700,    7.017,   34.101,2,   34.101,2,  112.250,1,  120.290,2,   53.630,2,   29.790,2,    0.000,2,    2.171,2,    1.559,2,    0.734,2, -999.000,9, -999.000,9, -999.000,9
           NA,    P03C,    281,   1,-999.0,     -99,  2,20060101,2023,  24.2610,  147.2460,  5870,  800.300,    5.627,   34.145,2,   34.145,2,   77.360,1,   83.240,2,   75.770,2,   35.530,2,    0.000,2,    2.593,2,    0.830,6,    0.408,6, -999.000,9, -999.000,9, -999.000,9
           NA,    P03C,    281,   1,-999.0,     -99,  2,20060101,2023,  24.2610,  147.2460,  5870,  900.600,    4.772,   34.229,2,   34.230,2,   55.820,1,   59.600,2,   94.360,2,   39.080,2,    0.000,2,    2.839,2,    0.383,2,    0.191,2, -999.000,9, -999.000,9, -999.000,9
           NA,    P03C,    281,   1,-999.0,     -99,  2,20060101,2023,  24.2610,  147.2460,  5870, 1003.400,    4.101,   34.319,2, -999.000,3,   43.820,1,   46.940,2,  109.530,2,   41.120,2,    0.000,2,    2.982,2,    0.146,2,    0.072,2, -999.000,9, -999.000,9, -999.000,9
           NA,    P03C,    281,   1,-999.0,     -99,  2,20060101,2023,  24.2610,  147.2460,  5870, 1202.300,    3.310,   34.449,2,   34.448,2,   48.700,1,   52.270,2,  128.590,2,   41.680,2,    0.000,2,    3.003,2,    0.030,2,    0.015,2, -999.000,9, -999.000,9, -999.000,9
           NA,    P03C,    281,   1,-999.0,     -99,  2,20060101,2023,  24.2610,  147.2460,  5870, 1401.100,    2.729,   34.505,2,   34.505,2,   57.500,1,   62.220,2,  141.720,2,   41.500,2,    0.000,2,    2.973,2,    0.019,2,    0.006,2, -999.000,9, -999.000,9, -999.000,9
           NA,    P03C,    281,   1,-999.0,     -99,  2,20060101,2023,  24.2610,  147.2460,  5870, 1601.700,    2.460,   34.549,2,   34.549,2,   73.450,1,   79.750,2,  143.850,2,   40.370,2,    0.000,2,    2.883,2,    0.010,2,    0.004,2, -999.000,9, -999.000,9, -999.000,9
           NA,    P03C,    281,   1,-999.0,     -99,  2,20060101,2023,  24.2610,  147.2460,  5870, 1801.800,    2.214,   34.583,2,   34.583,2,   85.290,1,   92.770,2,  146.170,2,   39.650,2,    0.000,2,    2.827,2,    0.006,2,    0.002,2, -999.000,9, -999.000,9, -999.000,9
           NA,    P03C,    281,   1,-999.0,     -99,  2,20060101,2023,  24.2610,  147.2460,  5870, 2000.500,    2.001,   34.614,2,   34.614,2,   97.970,1,  106.910,2,  146.960,2,   38.950,2,    0.000,2,    2.756,2,    0.000,2,    0.000,2, -999.000,9, -999.000,9, -999.000,9
           NA,    P03C,    281,   1,-999.0,     -99,  2,20060101,2023,  24.2610,  147.2460,  5870, 2201.400,    1.850,   34.627,2,   34.627,6,  102.010,1,  111.320,2,  149.850,2,   38.670,2,    0.000,2,    2.739,2,    0.000,2,    0.000,2, -999.000,9, -999.000,9, -999.000,9
           NA,    P03C,    281,   1,-999.0,     -99,  2,20060101,2023,  24.2610,  147.2460,  5870, 2401.500,    1.764,   34.641,2,   34.641,2,  108.770,1,  118.920,2,  149.810,2,   38.360,2,    0.000,2,    2.703,2,    0.000,2,    0.000,2, -999.000,9, -999.000,9, -999.000,9
           NA,    P03C,    281,   1,-999.0,     -99,  2,20060101,2023,  24.2610,  147.2460,  5870, 2601.200,    1.704,   34.651,2,   34.651,2,  113.670,1,  124.260,2,  149.430,2,   37.890,2,    0.000,2,    2.674,2, -999.000,9, -999.000,9, -999.000,9, -999.000,9, -999.000,9
           NA,    P03C,    281,   1,-999.0,     -99,  2,20060101,2023,  24.2610,  147.2460,  5870, 2801.300,    1.650,   34.657,2,   34.657,2,  117.040,1,  128.000,2,  150.490,2,   37.820,2,    0.000,2,    2.658,2, -999.000,9, -999.000,9, -999.000,9, -999.000,9, -999.000,9
           NA,    P03C,    281,   1,-999.0,     -99,  2,20060101,2023,  24.2610,  147.2460,  5870, 3000.300,    1.608,   34.664,2,   34.663,2,  120.380,1,  131.820,2,  151.020,2,   37.450,2,    0.000,2,    2.638,2,    0.000,2,    0.000,2, -999.000,9, -999.000,9, -999.000,9
           NA,    P03C,    281,   1,-999.0,     -99,  2,20060101,2023,  24.2610,  147.2460,  5870, 3249.600,    1.559,   34.670,2,   34.670,6,  125.930,1,  138.000,2,  149.720,2,   37.060,2,    0.000,2,    2.603,2, -999.000,9, -999.000,9, -999.000,9, -999.000,9, -999.000,9
           NA,    P03C,    281,   1,-999.0,     -99,  2,20060101,2023,  24.2610,  147.2460,  5870, 3500.600,    1.523,   34.676,2,   34.676,2,  130.710,1,  143.250,2,  148.970,2,   36.770,2,    0.000,2,    2.581,2, -999.000,9, -999.000,9, -999.000,9, -999.000,9, -999.000,9
           NA,    P03C,    281,   1,-999.0,     -99,  2,20060101,2023,  24.2610,  147.2460,  5870, 3750.800,    1.502,   34.681,2,   34.680,2,  135.250,1,  148.100,2,  147.800,2,   36.480,2,    0.000,2,    2.555,2,    0.000,2,    0.000,2, -999.000,9, -999.000,9, -999.000,9
           NA,    P03C,    281,   1,-999.0,     -99,  2,20060101,2023,  24.2610,  147.2460,  5870, 4000.500,    1.483,   34.685,2,   34.685,2,  139.630,1,  152.550,2,  146.570,2,   36.230,2,    0.000,2,    2.528,2, -999.000,9, -999.000,9, -999.000,9, -999.000,9, -999.000,9
           NA,    P03C,    281,   1,-999.0,     -99,  2,20060101,2023,  24.2610,  147.2460,  5870, 4249.100,    1.480,   34.687,2,   34.687,2,  143.270,1,  156.380,2,  144.690,2,   35.960,2,    0.000,2,    2.510,2, -999.000,9, -999.000,9, -999.000,9, -999.000,9, -999.000,9
           NA,    P03C,    281,   1,-999.0,     -99,  2,20060101,2023,  24.2610,  147.2460,  5870, 4500.400,    1.480,   34.690,2,   34.689,6,  146.820,1,  159.880,2,  143.180,2,   35.690,2,    0.000,2,    2.493,2,    0.000,2,    0.000,2, -999.000,9, -999.000,9, -999.000,9
           NA,    P03C,    281,   1,-999.0,     -99,  2,20060101,2023,  24.2610,  147.2460,  5870, 4751.300,    1.488,   34.691,2,   34.692,2,  149.990,1,  162.700,2,  141.660,2,   35.410,2,    0.000,2,    2.476,2, -999.000,9, -999.000,9, -999.000,9, -999.000,9, -999.000,9
           NA,    P03C,    281,   1,-999.0,     -99,  2,20060101,2023,  24.2610,  147.2460,  5870, 5001.300,    1.501,   34.693,2,   34.693,2,  153.090,1,  165.500,2,  139.880,2,   35.290,2,    0.000,2,    2.460,2, -999.000,9, -999.000,9, -999.000,9, -999.000,9, -999.000,9
           NA,    P03C,    281,   1,-999.0,     -99,  2,20060101,2023,  24.2610,  147.2460,  5870, 5250.900,    1.516,   34.694,2,   34.695,2,  156.320,1,  168.130,2,  138.240,2,   35.100,2,    0.000,2,    2.448,2,    0.000,2,    0.000,2, -999.000,9, -999.000,9, -999.000,9
           NA,    P03C,    281,   1,-999.0,     -99,  2,20060101,2023,  24.2610,  147.2460,  5870, 5499.900,    1.531,   34.696,2,   34.696,2,  159.660,1,  170.880,2,  136.480,2,   34.860,2,    0.000,2,    2.433,2, -999.000,9, -999.000,9, -999.000,9, -999.000,9, -999.000,9
           NA,    P03C,    281,   1,-999.0,     -99,  2,20060101,2023,  24.2610,  147.2460,  5870, 5749.700,    1.545,   34.697,2,   34.698,2,  163.550,1,  173.710,2,  134.700,2,   34.680,2,    0.000,2,    2.418,2, -999.000,9, -999.000,9, -999.000,9, -999.000,9, -999.000,9
           NA,    P03C,    281,   1,-999.0,     -99,  2,20060101,2023,  24.2610,  147.2460,  5870, 5965.500,    1.564,   34.698,2,   34.699,6,  166.470,1,  175.150,2,  133.810,2,   34.660,2,    0.000,2,    2.413,2,    0.000,2,    0.000,2, -999.000,9, -999.000,9, -999.000,9