BOTTLE,20211903JOAExport
EXPOCODE,SECT_ID,STNNBR,CASTNO,SAMPNO,BTLNBR,BTLNBR_FLAG_W,DATE,TIME,LATITUDE,LONGITUDE,DEPTH,CTDPRS,CTDTMP,CTDSAL,CTDSAL_FLAG_W,SALNTY,SALNTY_FLAG_W,CTDOXY,CTDOXY_FLAG_W,OXYGEN,OXYGEN_FLAG_W,SILCAT,SILCAT_FLAG_W,NITRAT,NITRAT_FLAG_W,NITRIT,NITRIT_FLAG_W,PHSPHT,PHSPHT_FLAG_W,CFC-11,CFC-11_FLAG_W,CFC-12,CFC-12_FLAG_W,SF6,SF6_FLAG_W,TCARBN,TCARBN_FLAG_W,ALKALI,ALKALI_FLAG_W
,,,,,,,,,,,,DB,ITS-90,PSS-78,,PSS-78,,UMOL/KG,,UMOL/KG,,UMOL/KG,,UMOL/KG,,UMOL/KG,,UMOL/KG,,PMOL/KG,,PMOL/KG,,FMOL/KG,,UMOL/KG,,UMOL/KG
           NA,    P03C,    329,   1,-999.0,     -99,  2,20060108,0102,  24.2070,  133.9853,  4947,   10.700,   22.681,   34.796,2,   34.796,2,  196.430,1,  213.300,2,    1.160,2,    0.040,2,    0.000,2,    0.043,2,    1.824,2,    1.083,2, -999.000,9, -999.000,9, -999.000,9
           NA,    P03C,    329,   1,-999.0,     -99,  2,20060108,0102,  24.2070,  133.9853,  4947,   50.700,   22.683,   34.796,2,   34.796,2,  196.290,1,  213.360,2,    1.140,2,    0.040,2,    0.000,2,    0.040,2,    1.832,2,    1.084,2, -999.000,9, -999.000,9, -999.000,9
           NA,    P03C,    329,   1,-999.0,     -99,  2,20060108,0102,  24.2070,  133.9853,  4947,  101.100,   22.136,   34.823,2,   34.824,2,  197.050,1,  214.320,2,    1.300,2,    0.020,2,    0.040,2,    0.046,2,    1.883,2,    1.113,2, -999.000,9, -999.000,9, -999.000,9
           NA,    P03C,    329,   1,-999.0,     -99,  2,20060108,0102,  24.2070,  133.9853,  4947,  150.800,   20.748,   34.881,2,   34.878,2,  190.110,1,  207.250,2,    1.760,2,    1.030,2,    0.060,2,    0.116,2,    2.051,2,    1.199,2, -999.000,9, -999.000,9, -999.000,9
           NA,    P03C,    329,   1,-999.0,     -99,  2,20060108,0102,  24.2070,  133.9853,  4947,  199.700,   18.921,   34.876,2,   34.874,2,  186.190,1,  202.400,2,    2.650,2,    2.830,2,    0.010,2,    0.231,2,    2.252,2,    1.286,2, -999.000,9, -999.000,9, -999.000,9
           NA,    P03C,    329,   1,-999.0,     -99,  2,20060108,0102,  24.2070,  133.9853,  4947,  250.000,   17.486,   34.795,2,   34.791,2,  187.240,1,  202.670,2,    3.830,2,    4.670,2,    0.010,2,    0.343,2,    2.385,6,    1.339,6, -999.000,9, -999.000,9, -999.000,9
           NA,    P03C,    329,   1,-999.0,     -99,  2,20060108,0102,  24.2070,  133.9853,  4947,  300.900,   16.684,   34.734,2,   34.731,2,  185.910,1,  201.530,2,    5.190,2,    6.010,2,    0.010,2,    0.428,2,    2.458,2,    1.352,2, -999.000,9, -999.000,9, -999.000,9
           NA,    P03C,    329,   1,-999.0,     -99,  2,20060108,0102,  24.2070,  133.9853,  4947,  400.900,   14.184,   34.532,2,   34.535,2,  176.600,1,  191.560,2,   11.360,2,   10.590,2,    0.000,2,    0.754,2,    2.587,2,    1.368,2, -999.000,9, -999.000,9, -999.000,9
           NA,    P03C,    329,   1,-999.0,     -99,  2,20060108,0102,  24.2070,  133.9853,  4947,  499.700,   11.497,   34.336,2,   34.334,6,  166.970,1,  180.440,2,   21.250,2,   16.160,2,    0.000,2,    1.164,2,    2.582,2,    1.306,2, -999.000,9, -999.000,9, -999.000,9
           NA,    P03C,    329,   1,-999.0,     -99,  2,20060108,0102,  24.2070,  133.9853,  4947,  600.000,    9.150,   34.191,2,   34.189,2,  147.820,1,  159.050,2,   35.270,2,   22.250,2,    0.000,2,    1.615,2,    2.281,2,    1.125,2, -999.000,9, -999.000,9, -999.000,9
           NA,    P03C,    329,   1,-999.0,     -99,  2,20060108,0102,  24.2070,  133.9853,  4947,  699.700,    6.844,   34.142,2,   34.143,2,  105.500,1,  113.070,2,   60.100,2,   30.610,2,    0.000,2,    2.236,2,    1.455,2,    0.695,2, -999.000,9, -999.000,9, -999.000,9
           NA,    P03C,    329,   1,-999.0,     -99,  2,20060108,0102,  24.2070,  133.9853,  4947,  801.100,    5.735,   34.168,2,   34.170,2,   81.570,1,   87.790,2,   76.620,2,   34.800,2,    0.000,2,    2.549,2,    0.978,6,    0.464,6, -999.000,9, -999.000,9, -999.000,9
           NA,    P03C,    329,   1,-999.0,     -99,  2,20060108,0102,  24.2070,  133.9853,  4947,  900.400,    4.681,   34.265,2,   34.266,2,   57.960,1,   62.450,2,   97.290,2,   38.720,2,    0.000,2,    2.813,2,    0.434,2,    0.205,2, -999.000,9, -999.000,9, -999.000,9
           NA,    P03C,    329,   1,-999.0,     -99,  2,20060108,0102,  24.2070,  133.9853,  4947, 1001.200,    4.176,   34.323,2,   34.323,6,   53.210,1,   57.450,2,  108.380,2,   39.940,2,    0.000,2,    2.900,2,    0.281,2, -999.000,4, -999.000,9, -999.000,9, -999.000,9
           NA,    P03C,    329,   1,-999.0,     -99,  2,20060108,0102,  24.2070,  133.9853,  4947, 1201.300,    3.340,   34.427,2,   34.427,2,   54.460,1,   59.030,2,  126.920,2,   40.820,2,    0.000,2,    2.954,2,    0.100,2,    0.046,2, -999.000,9, -999.000,9, -999.000,9
           NA,    P03C,    329,   1,-999.0,     -99,  2,20060108,0102,  24.2070,  133.9853,  4947, 1400.100,    2.869,   34.496,2,   34.496,2,   65.250,1,   70.620,2,  135.850,2,   40.530,2,    0.000,2,    2.918,2,    0.038,2,    0.014,2, -999.000,9, -999.000,9, -999.000,9
           NA,    P03C,    329,   1,-999.0,     -99,  2,20060108,0102,  24.2070,  133.9853,  4947, 1601.200,    2.495,   34.551,2,   34.551,2,   80.330,1,   87.280,2,  140.140,2,   39.680,2,    0.000,2,    2.842,2,    0.015,2,    0.007,2, -999.000,9, -999.000,9, -999.000,9
           NA,    P03C,    329,   1,-999.0,     -99,  2,20060108,0102,  24.2070,  133.9853,  4947, 1801.800,    2.236,   34.582,2,   34.583,2,   91.540,1,   99.720,2,  142.350,2,   39.010,2,    0.000,2,    2.787,2,    0.009,2,    0.004,2, -999.000,9, -999.000,9, -999.000,9
           NA,    P03C,    329,   1,-999.0,     -99,  2,20060108,0102,  24.2070,  133.9853,  4947, 2001.900,    2.034,   34.608,2,   34.608,6,  101.480,1,  110.730,2,  143.320,2,   38.470,2,    0.000,2,    2.739,2,    0.002,2,    0.000,2, -999.000,9, -999.000,9, -999.000,9
           NA,    P03C,    329,   1,-999.0,     -99,  2,20060108,0102,  24.2070,  133.9853,  4947, 2200.900,    1.892,   34.627,2,   34.628,2,  110.130,1,  120.290,2,  143.550,2,   37.910,2,    0.000,2,    2.688,2,    0.004,2,    0.002,2, -999.000,9, -999.000,9, -999.000,9
           NA,    P03C,    329,   1,-999.0,     -99,  2,20060108,0102,  24.2070,  133.9853,  4947, 2399.400,    1.799,   34.639,2,   34.640,2,  116.010,1,  126.510,2,  143.640,2,   37.570,2,    0.000,2,    2.661,2,    0.006,2,    0.004,2, -999.000,9, -999.000,9, -999.000,9
           NA,    P03C,    329,   1,-999.0,     -99,  2,20060108,0102,  24.2070,  133.9853,  4947, 2600.400,    1.723,   34.649,2,   34.650,2,  120.970,1,  132.060,2,  143.670,2,   37.240,2,    0.000,2,    2.634,2,    0.001,2,    0.002,2, -999.000,9, -999.000,9, -999.000,9
           NA,    P03C,    329,   1,-999.0,     -99,  2,20060108,0102,  24.2070,  133.9853,  4947, 2800.100,    1.667,   34.657,2,   34.658,2,  125.100,1,  136.670,2,  143.500,2,   36.970,2,    0.000,2,    2.612,2, -999.000,9, -999.000,9, -999.000,9, -999.000,9, -999.000,9
           NA,    P03C,    329,   1,-999.0,     -99,  2,20060108,0102,  24.2070,  133.9853,  4947, 3000.600,    1.609,   34.665,2,   34.666,6,  129.820,1,  141.670,2,  143.180,2,   36.720,2,    0.000,2,    2.590,2, -999.000,9, -999.000,9, -999.000,9, -999.000,9, -999.000,9
           NA,    P03C,    329,   1,-999.0,     -99,  2,20060108,0102,  24.2070,  133.9853,  4947, 3250.200,    1.574,   34.671,2,   34.672,2,  133.570,1,  145.660,2,  142.700,2,   36.370,2,    0.000,2,    2.560,2,    0.001,2,    0.000,2, -999.000,9, -999.000,9, -999.000,9
           NA,    P03C,    329,   1,-999.0,     -99,  2,20060108,0102,  24.2070,  133.9853,  4947, 3500.300,    1.549,   34.676,2,   34.677,2,  137.140,1,  149.230,2,  142.290,2,   36.200,2,    0.000,2,    2.542,2, -999.000,9, -999.000,9, -999.000,9, -999.000,9, -999.000,9
           NA,    P03C,    329,   1,-999.0,     -99,  2,20060108,0102,  24.2070,  133.9853,  4947, 3749.500,    1.543,   34.680,2,   34.680,2,  139.670,1,  151.560,2,  142.050,2,   36.050,2,    0.000,2,    2.536,2, -999.000,9, -999.000,9, -999.000,9, -999.000,9, -999.000,9
           NA,    P03C,    329,   1,-999.0,     -99,  2,20060108,0102,  24.2070,  133.9853,  4947, 4000.200,    1.552,   34.682,2,   34.682,6,  141.410,1,  153.140,2,  141.990,2,   35.960,2,    0.000,2,    2.523,2,    0.002,2,    0.000,2, -999.000,9, -999.000,9, -999.000,9
           NA,    P03C,    329,   1,-999.0,     -99,  2,20060108,0102,  24.2070,  133.9853,  4947, 4249.900,    1.566,   34.683,2,   34.683,2,  143.020,1,  154.110,2,  141.640,2,   35.890,2,    0.000,2,    2.520,2, -999.000,9, -999.000,9, -999.000,9, -999.000,9, -999.000,9
           NA,    P03C,    329,   1,-999.0,     -99,  2,20060108,0102,  24.2070,  133.9853,  4947, 4498.000,    1.587,   34.683,2,   34.684,2,  144.210,1,  154.830,2,  141.480,2,   35.830,2,    0.000,2,    2.512,2, -999.000,9, -999.000,9, -999.000,9, -999.000,9, -999.000,9
           NA,    P03C,    329,   1,-999.0,     -99,  2,20060108,0102,  24.2070,  133.9853,  4947, 4750.100,    1.613,   34.684,2,   34.684,2,  145.350,1,  155.110,2,  141.400,2,   35.800,2,    0.000,2,    2.517,2,    0.000,2,    0.000,2, -999.000,9, -999.000,9, -999.000,9
           NA,    P03C,    329,   1,-999.0,     -99,  2,20060108,0102,  24.2070,  133.9853,  4947, 5016.300,    1.642,   34.684,2,   34.685,6,  146.990,1,  155.430,2,  141.440,2,   35.830,2,    0.000,2,    2.516,2,    0.003,2,    0.001,2, -999.000,9, -999.000,9, -999.000,9
           NA,    P03C,    328,   1,-999.0,     -99,  2,20060107,1848,  24.2237,  134.5150,  5021,   10.200,   24.171,   34.673,2,   34.673,2, -999.000,4,  208.140,2,    1.080,2,    0.040,2,    0.000,2,    0.043,2,    1.728,2,    1.013,2, -999.000,9, 1942.100,2, 2277.700,2
           NA,    P03C,    328,   1,-999.0,     -99,  2,20060107,1848,  24.2237,  134.5150,  5021,   51.700,   24.182,   34.671,2,   34.672,2, -999.000,4,  208.190,2,    1.070,2,    0.030,2,    0.000,2,    0.041,2,    1.730,2,    1.007,2, -999.000,9, 1943.500,6, 2279.200,2
           NA,    P03C,    328,   1,-999.0,     -99,  2,20060107,1848,  24.2237,  134.5150,  5021,  100.800,   23.933,   34.764,2,   34.771,2, -999.000,4,  204.260,2,    1.270,2,    0.110,2,    0.050,2,    0.052,2,    1.788,2,    1.038,2, -999.000,9, 1961.200,2, 2284.500,6
           NA,    P03C,    328,   1,-999.0,     -99,  2,20060107,1848,  24.2237,  134.5150,  5021,  151.200,   21.032,   34.964,2,   34.964,2, -999.000,4,  190.460,2,    2.010,2,    1.970,2,    0.010,2,    0.186,2,    2.095,2,    1.184,2, -999.000,9, 2015.400,2, 2295.800,2
           NA,    P03C,    328,   1,-999.0,     -99,  2,20060107,1848,  24.2237,  134.5150,  5021,  202.200,   19.025,   34.891,2,   34.895,2, -999.000,4,  194.640,2,    2.890,2,    3.200,2,    0.010,2,    0.265,2,    2.255,2,    1.273,2, -999.000,9, 2025.900,2, 2291.800,2
           NA,    P03C,    328,   1,-999.0,     -99,  2,20060107,1848,  24.2237,  134.5150,  5021,  250.400,   17.692,   34.807,2,   34.807,2, -999.000,4,  202.320,2,    3.680,2,    4.420,2,    0.000,2,    0.326,2,    2.381,6,    1.337,6, -999.000,9, 2026.600,2, 2286.500,2
           NA,    P03C,    328,   1,-999.0,     -99,  2,20060107,1848,  24.2237,  134.5150,  5021,  301.400,   17.000,   34.761,2,   34.761,2, -999.000,4,  202.980,2,    4.490,2,    5.320,2,    0.000,2,    0.387,2,    2.453,2,    1.362,2, -999.000,9, 2033.900,2, 2287.000,2
           NA,    P03C,    328,   1,-999.0,     -99,  2,20060107,1848,  24.2237,  134.5150,  5021,  399.800,   15.089,   34.601,2,   34.597,2, -999.000,4,  193.490,2,    9.160,2,    9.170,2,    0.000,2,    0.655,2,    2.567,2,    1.387,2, -999.000,9, 2061.700,2, 2280.700,2
           NA,    P03C,    328,   1,-999.0,     -99,  2,20060107,1848,  24.2237,  134.5150,  5021,  501.600,   12.148,   34.381,2,   34.379,6, -999.000,4,  185.660,2,   18.400,2,   14.650,2,    0.000,2,    1.052,2,    2.583,2,    1.325,2, -999.000,9, 2101.200,2, 2274.300,2
           NA,    P03C,    328,   1,-999.0,     -99,  2,20060107,1848,  24.2237,  134.5150,  5021,  601.100,    9.569,   34.218,2,   34.216,2, -999.000,4,  165.220,2,   32.810,2,   20.980,2,    0.000,2,    1.514,2,    2.333,2,    1.146,2, -999.000,9, 2147.400,2, 2277.700,2
           NA,    P03C,    328,   1,-999.0,     -99,  2,20060107,1848,  24.2237,  134.5150,  5021,  700.900,    7.105,   34.137,2,   34.138,2, -999.000,4,  123.620,2,   56.430,2,   29.180,2,    0.000,2,    2.127,2,    1.615,2,    0.777,2, -999.000,9, 2211.900,6, 2297.200,2
           NA,    P03C,    328,   1,-999.0,     -99,  2,20060107,1848,  24.2237,  134.5150,  5021,  801.200,    5.596,   34.172,2,   34.172,2, -999.000,4,   87.610,2,   79.220,2,   35.010,2,    0.000,2,    2.555,2,    0.933,6,    0.452,6, -999.000,9, 2267.900,2, 2317.200,6
           NA,    P03C,    328,   1,-999.0,     -99,  2,20060107,1848,  24.2237,  134.5150,  5021,  901.500,    4.672,   34.250,2,   34.249,2, -999.000,4,   66.560,2,   97.530,2,   38.400,2,    0.000,2,    2.783,2,    0.495,2,    0.239,2, -999.000,9, 2300.500,2, 2336.800,2
           NA,    P03C,    328,   1,-999.0,     -99,  2,20060107,1848,  24.2237,  134.5150,  5021, 1000.900,    4.185,   34.307,2,   34.307,6, -999.000,4,   57.840,2,  108.490,2,   39.890,2,    0.000,2,    2.888,2,    0.302,2,    0.143,2, -999.000,9, 2319.000,2, 2351.500,2
           NA,    P03C,    328,   1,-999.0,     -99,  2,20060107,1848,  24.2237,  134.5150,  5021, 1202.900,    3.385,   34.431,2,   34.431,2,   54.140,1,   58.200,2,  125.880,2,   41.030,2,    0.000,2,    2.954,2,    0.081,2,    0.039,2, -999.000,9, 2341.400,2, 2375.800,2
           NA,    P03C,    328,   1,-999.0,     -99,  2,20060107,1848,  24.2237,  134.5150,  5021, 1401.300,    2.845,   34.496,2,   34.496,2,   65.300,1,   70.630,2,  136.340,2,   40.610,2,    0.000,2,    2.914,2,    0.036,2,    0.022,2, -999.000,9, 2347.600,2, 2387.400,2
           NA,    P03C,    328,   1,-999.0,     -99,  2,20060107,1848,  24.2237,  134.5150,  5021, 1601.600,    2.492,   34.547,2,   34.547,2,   78.870,1,   85.300,2,  140.740,2,   39.850,2,    0.000,2,    2.848,2,    0.016,2,    0.010,2, -999.000,9, 2346.100,2, 2399.000,2
           NA,    P03C,    328,   1,-999.0,     -99,  2,20060107,1848,  24.2237,  134.5150,  5021, 1802.000,    2.249,   34.584,2,   34.584,2,   91.590,1,   99.540,2,  142.170,2,   39.130,2,    0.000,2,    2.784,2,    0.001,2,    0.003,2, -999.000,9, 2341.400,2, 2402.300,2
           NA,    P03C,    328,   1,-999.0,     -99,  2,20060107,1848,  24.2237,  134.5150,  5021, 2001.400,    2.014,   34.612,2,   34.613,6,  103.190,1,  112.330,2,  143.210,2,   38.410,2,    0.000,2,    2.726,2,    0.000,2,    0.001,2, -999.000,9, 2336.100,2, 2407.600,2
           NA,    P03C,    328,   1,-999.0,     -99,  2,20060107,1848,  24.2237,  134.5150,  5021, 2199.200,    1.870,   34.630,2,   34.630,2,  111.180,1,  121.120,2,  143.620,2,   37.950,2,    0.000,2,    2.683,2,    0.000,2,    0.001,2, -999.000,9, 2334.700,2, 2408.500,2
           NA,    P03C,    328,   1,-999.0,     -99,  2,20060107,1848,  24.2237,  134.5150,  5021, 2400.300,    1.769,   34.644,2,   34.644,2,  117.610,1,  128.260,2,  143.760,2,   37.530,2,    0.000,2,    2.651,2,    0.000,2,    0.002,2, -999.000,9, 2330.700,6, 2411.000,2
           NA,    P03C,    328,   1,-999.0,     -99,  2,20060107,1848,  24.2237,  134.5150,  5021, 2599.900,    1.695,   34.653,2,   34.653,2,  122.450,1,  133.580,2,  143.640,2,   37.200,2,    0.000,2,    2.625,2, -999.000,9, -999.000,9, -999.000,9, 2328.300,2, 2412.900,6
           NA,    P03C,    328,   1,-999.0,     -99,  2,20060107,1848,  24.2237,  134.5150,  5021, 2799.800,    1.652,   34.659,2,   34.660,2,  125.940,1,  137.510,2,  143.700,2,   36.980,2,    0.000,2,    2.607,2,    0.002,2,    0.002,2, -999.000,9, 2327.700,2, 2411.000,2
           NA,    P03C,    328,   1,-999.0,     -99,  2,20060107,1848,  24.2237,  134.5150,  5021, 2999.600,    1.623,   34.664,2,   34.664,6,  128.760,1,  140.490,2,  143.440,2,   36.740,2,    0.000,2,    2.590,2, -999.000,9, -999.000,9, -999.000,9, 2326.100,2, 2413.500,2
           NA,    P03C,    328,   1,-999.0,     -99,  2,20060107,1848,  24.2237,  134.5150,  5021, 3250.500,    1.579,   34.671,2,   34.671,2,  133.090,1,  145.130,2,  142.750,2,   36.480,2,    0.000,2,    2.562,2, -999.000,9, -999.000,9, -999.000,9, 2322.200,2, 2415.100,2
           NA,    P03C,    328,   1,-999.0,     -99,  2,20060107,1848,  24.2237,  134.5150,  5021, 3499.200,    1.560,   34.676,2,   34.676,2,  136.230,1,  148.450,2,  142.660,2,   36.300,2,   -0.010,2,    2.549,2,    0.000,2,    0.002,2, -999.000,9, 2321.800,2, 2414.500,2
           NA,    P03C,    328,   1,-999.0,     -99,  2,20060107,1848,  24.2237,  134.5150,  5021, 3750.100,    1.551,   34.679,2,   34.679,2,  138.920,1,  151.140,2,  142.250,2,   36.190,2,   -0.010,2,    2.539,2, -999.000,9, -999.000,9, -999.000,9, 2319.700,2, 2413.800,2
           NA,    P03C,    328,   1,-999.0,     -99,  2,20060107,1848,  24.2237,  134.5150,  5021, 3998.500,    1.553,   34.682,2,   34.681,6,  141.080,1,  153.090,2,  142.050,2,   36.080,2,   -0.010,2,    2.526,2, -999.000,9, -999.000,9, -999.000,9, 2317.300,2, 2412.100,2
           NA,    P03C,    328,   1,-999.0,     -99,  3,20060107,1848,  24.2237,  134.5150,  5021, 4250.600,    1.566,   34.683,2,   34.683,2,  142.750,1,  154.320,2,  141.700,2,   35.910,2,    0.000,2,    2.523,2,    0.000,2,    0.001,2, -999.000,9, 2317.400,6, 2412.600,2
           NA,    P03C,    328,   1,-999.0,     -99,  3,20060107,1848,  24.2237,  134.5150,  5021, 4499.200,    1.586,   34.684,2,   34.684,2,  144.040,1,  155.140,2,  141.590,2,   35.910,2,    0.000,2,    2.516,2, -999.000,9, -999.000,9, -999.000,9, 2316.400,2, 2411.900,6
           NA,    P03C,    328,   1,-999.0,     -99,  2,20060107,1848,  24.2237,  134.5150,  5021, 4750.500,    1.610,   34.685,2,   34.685,2,  145.250,1,  155.670,2,  141.490,2,   35.880,2,   -0.010,2,    2.517,2,    0.000,2,    0.000,2, -999.000,9, 2315.200,2, 2412.500,2
           NA,    P03C,    328,   1,-999.0,     -99,  2,20060107,1848,  24.2237,  134.5150,  5021, 4999.400,    1.638,   34.685,2,   34.685,2,  146.540,1,  156.000,2,  141.280,2,   35.880,2,   -0.010,2,    2.512,2, -999.000,9, -999.000,9, -999.000,9, 2314.800,2, 2412.600,2
           NA,    P03C,    328,   1,-999.0,     -99,  2,20060107,1848,  24.2237,  134.5150,  5021, 5107.600,    1.652,   34.685,2,   34.685,6,  147.190,1,  156.050,2,  141.290,2,   35.860,2,   -0.010,2,    2.517,2,    0.000,2,    0.000,2, -999.000,9, 2315.400,2, 2414.500,2