BOTTLE,20211903JOAExport
EXPOCODE,SECT_ID,STNNBR,CASTNO,SAMPNO,BTLNBR,BTLNBR_FLAG_W,DATE,TIME,LATITUDE,LONGITUDE,DEPTH,CTDPRS,CTDTMP,CTDSAL,CTDSAL_FLAG_W,SALNTY,SALNTY_FLAG_W,CTDOXY,CTDOXY_FLAG_W,OXYGEN,OXYGEN_FLAG_W,SILCAT,SILCAT_FLAG_W,NITRAT,NITRAT_FLAG_W,NITRIT,NITRIT_FLAG_W,PHSPHT,PHSPHT_FLAG_W,CFC-11,CFC-11_FLAG_W,CFC-12,CFC-12_FLAG_W,SF6,SF6_FLAG_W,TCARBN,TCARBN_FLAG_W,ALKALI,ALKALI_FLAG_W
,,,,,,,,,,,,DB,ITS-90,PSS-78,,PSS-78,,UMOL/KG,,UMOL/KG,,UMOL/KG,,UMOL/KG,,UMOL/KG,,UMOL/KG,,PMOL/KG,,PMOL/KG,,FMOL/KG,,UMOL/KG,,UMOL/KG
           NA,    P03E,     44,   1,-999.0,     -99,  2,20051105,2106,  25.6872, -128.2080,  4205,   10.300,   21.249,   34.557,2,   34.557,2,  214.890,1,  225.120,2,    1.450,2,    0.060,2,    0.000,2,    0.194,2,    1.972,2,    1.234,2, -999.000,9, -999.000,9, -999.000,9
           NA,    P03E,     44,   1,-999.0,     -99,  2,20051105,2106,  25.6872, -128.2080,  4205,   50.200,   21.241,   34.554,2,   34.554,2,  215.170,1,  225.130,2,    1.440,2,    0.050,2,    0.000,2,    0.202,2,    1.981,2,    1.242,2, -999.000,9, -999.000,9, -999.000,9
           NA,    P03E,     44,   1,-999.0,     -99,  2,20051105,2106,  25.6872, -128.2080,  4205,   99.100,   19.113,   34.418,2,   34.418,2,  226.420,1,  236.580,2,    1.750,2,    0.050,2,    0.000,2,    0.170,2,    2.274,2,    1.380,2, -999.000,9, -999.000,9, -999.000,9
           NA,    P03E,     44,   1,-999.0,     -99,  2,20051105,2106,  25.6872, -128.2080,  4205,  150.000,   15.266,   34.039,2,   34.047,2,  209.790,1,  218.540,2,    3.630,2,    2.880,2,    0.030,2,    0.416,2,    2.689,2,    1.569,2, -999.000,9, -999.000,9, -999.000,9
           NA,    P03E,     44,   1,-999.0,     -99,  2,20051105,2106,  25.6872, -128.2080,  4205,  199.300,   11.640,   33.680,2,   33.681,2,  196.220,1,  203.950,2,    9.550,2,   10.430,2,    0.010,2,    0.927,2,    3.130,2,    1.730,2, -999.000,9, -999.000,9, -999.000,9
           NA,    P03E,     44,   1,-999.0,     -99,  2,20051105,2106,  25.6872, -128.2080,  4205,  250.100,    9.597,   33.917,2,   33.924,2,  173.160,1,  179.700,2,   20.280,2,   18.470,2,    0.000,2,    1.414,2,    3.156,6,    1.652,6, -999.000,9, -999.000,9, -999.000,9
           NA,    P03E,     44,   1,-999.0,     -99,  2,20051105,2106,  25.6872, -128.2080,  4205,  300.500,    8.732,   34.044,2,   34.044,2,  147.380,1,  153.590,2,   29.300,2,   23.240,2,    0.000,2,    1.719,2,    2.828,2,    1.436,2, -999.000,9, -999.000,9, -999.000,9
           NA,    P03E,     44,   1,-999.0,     -99,  2,20051105,2106,  25.6872, -128.2080,  4205,  402.000,    7.186,   34.148,2,   34.145,2,   64.310,1,   66.990,2,   52.380,2,   33.130,2,    0.000,2,    2.564,2,    1.178,2,    0.539,2, -999.000,9, -999.000,9, -999.000,9
           NA,    P03E,     44,   1,-999.0,     -99,  2,20051105,2106,  25.6872, -128.2080,  4205,  501.100,    6.358,   34.210,2,   34.209,6,   32.600,1,   33.780,2,   67.130,2,   37.280,2,    0.000,2,    2.901,2,    0.421,2,    0.199,2, -999.000,9, -999.000,9, -999.000,9
           NA,    P03E,     44,   1,-999.0,     -99,  2,20051105,2106,  25.6872, -128.2080,  4205,  600.400,    5.791,   34.306,2,   34.305,2,   15.170,1,   15.770,2,   79.280,2,   40.120,2,    0.000,2,    3.116,2, -999.000,5, -999.000,5, -999.000,9, -999.000,9, -999.000,9
           NA,    P03E,     44,   1,-999.0,     -99,  2,20051105,2106,  25.6872, -128.2080,  4205,  701.800,    5.300,   34.387,2,   34.386,2,   11.760,1,   11.990,2,   89.010,2,   41.790,2,    0.000,2,    3.211,2,    0.014,2,    0.012,2, -999.000,9, -999.000,9, -999.000,9
           NA,    P03E,     44,   1,-999.0,     -99,  2,20051105,2106,  25.6872, -128.2080,  4205,  799.700,    4.869,   34.433,2,   34.433,2,   14.490,1,   14.880,2,   97.010,2,   42.770,2,    0.000,2,    3.233,2,    0.010,6,    0.009,6, -999.000,9, -999.000,9, -999.000,9
           NA,    P03E,     44,   1,-999.0,     -99,  2,20051105,2106,  25.6872, -128.2080,  4205,  901.200,    4.511,   34.462,2,   34.461,2,   18.920,1,   19.560,2,  103.620,2,   43.270,2,    0.000,2,    3.231,2,    0.006,2,    0.009,2, -999.000,9, -999.000,9, -999.000,9
           NA,    P03E,     44,   1,-999.0,     -99,  2,20051105,2106,  25.6872, -128.2080,  4205,  998.500,    4.140,   34.492,2,   34.492,6,   25.300,1,   26.210,2,  111.110,2,   43.370,2,    0.000,2,    3.220,2,    0.007,2,    0.007,2, -999.000,9, -999.000,9, -999.000,9
           NA,    P03E,     44,   1,-999.0,     -99,  2,20051105,2106,  25.6872, -128.2080,  4205, 1201.400,    3.600,   34.525,2,   34.525,2,   33.770,1,   34.890,2,  123.410,2,   43.300,2,    0.000,2,    3.187,2,    0.009,2,    0.005,2, -999.000,9, -999.000,9, -999.000,9
           NA,    P03E,     44,   1,-999.0,     -99,  2,20051105,2106,  25.6872, -128.2080,  4205, 1402.300,    3.157,   34.554,2,   34.554,2,   41.620,1,   42.960,2,  134.500,2,   42.990,2,    0.000,2,    3.159,2,    0.005,2,    0.003,2, -999.000,9, -999.000,9, -999.000,9
           NA,    P03E,     44,   1,-999.0,     -99,  2,20051105,2106,  25.6872, -128.2080,  4205, 1600.800,    2.729,   34.585,2,   34.585,2,   53.020,1,   54.840,2,  145.080,2,   42.430,2,    0.000,2,    3.092,2,    0.002,2,    0.000,2, -999.000,9, -999.000,9, -999.000,9
           NA,    P03E,     44,   1,-999.0,     -99,  2,20051105,2106,  25.6872, -128.2080,  4205, 1799.700,    2.431,   34.607,2,   34.607,2,   64.710,1,   67.220,2,  151.420,2,   41.660,2,    0.000,2,    3.017,2,    0.000,2,    0.001,2, -999.000,9, -999.000,9, -999.000,9
           NA,    P03E,     44,   1,-999.0,     -99,  2,20051105,2106,  25.6872, -128.2080,  4205, 1999.900,    2.174,   34.626,2,   34.626,6,   77.160,1,   80.430,2,  155.840,2,   40.900,2,    0.000,2,    2.937,2,    0.000,2,    0.001,2, -999.000,9, -999.000,9, -999.000,9
           NA,    P03E,     44,   1,-999.0,     -99,  2,20051105,2106,  25.6872, -128.2080,  4205, 2199.900,    1.993,   34.640,2,   34.640,2,   87.440,1,   91.330,2,  158.910,2,   40.100,2,    0.000,2,    2.878,2,    0.000,2,    0.000,2, -999.000,9, -999.000,9, -999.000,9
           NA,    P03E,     44,   1,-999.0,     -99,  2,20051105,2106,  25.6872, -128.2080,  4205, 2400.600,    1.857,   34.649,2,   34.649,2,   95.220,1,   99.250,2,  161.850,2,   39.640,2,    0.000,2,    2.821,2, -999.000,9, -999.000,9, -999.000,9, -999.000,9, -999.000,9
           NA,    P03E,     44,   1,-999.0,     -99,  2,20051105,2106,  25.6872, -128.2080,  4205, 2601.700,    1.728,   34.657,2,   34.657,2,  102.210,1,  106.950,2,  164.900,2,   39.100,2,    0.000,2,    2.786,2, -999.000,9, -999.000,9, -999.000,9, -999.000,9, -999.000,9
           NA,    P03E,     44,   1,-999.0,     -99,  2,20051105,2106,  25.6872, -128.2080,  4205, 2800.800,    1.628,   34.664,2,   34.664,6,  109.390,1,  114.240,2,  167.050,2,   38.750,2,    0.000,2,    2.738,2, -999.000,5, -999.000,5, -999.000,9, -999.000,9, -999.000,9
           NA,    P03E,     44,   1,-999.0,     -99,  2,20051105,2106,  25.6872, -128.2080,  4205, 3000.900,    1.562,   34.669,2,   34.669,2,  115.110,1,  120.140,2,  167.910,2,   38.290,2,    0.000,2,    2.711,2, -999.000,9, -999.000,9, -999.000,9, -999.000,9, -999.000,9
           NA,    P03E,     44,   1,-999.0,     -99,  2,20051105,2106,  25.6872, -128.2080,  4205, 3250.300,    1.504,   34.676,2,   34.676,2,  123.660,1,  129.060,2,  166.110,2,   37.730,2,    0.000,2,    2.655,2, -999.000,9, -999.000,9, -999.000,9, -999.000,9, -999.000,9
           NA,    P03E,     44,   1,-999.0,     -99,  2,20051105,2106,  25.6872, -128.2080,  4205, 3502.000,    1.485,   34.680,2,   34.680,2,  129.870,1,  135.180,2,  164.460,2,   37.340,2,    0.000,2,    2.616,2,    0.000,2,    0.009,2, -999.000,9, -999.000,9, -999.000,9
           NA,    P03E,     44,   1,-999.0,     -99,  2,20051105,2106,  25.6872, -128.2080,  4205, 3750.000,    1.488,   34.683,2,   34.683,6,  133.760,1,  138.820,2,  162.840,2,   37.110,2,    0.000,2,    2.606,2, -999.000,9, -999.000,9, -999.000,9, -999.000,9, -999.000,9
           NA,    P03E,     44,   1,-999.0,     -99,  2,20051105,2106,  25.6872, -128.2080,  4205, 4000.700,    1.505,   34.684,2,   34.684,2,  136.140,1,  140.790,2,  161.960,2,   37.030,2,    0.000,2,    2.597,2, -999.000,9, -999.000,9, -999.000,9, -999.000,9, -999.000,9
           NA,    P03E,     44,   1,-999.0,     -99,  2,20051105,2106,  25.6872, -128.2080,  4205, 4277.100,    1.531,   34.685,2,   34.685,6,  138.360,1,  142.160,2,  160.790,2,   36.870,2,    0.000,2,    2.586,2,    0.008,2,    0.008,2, -999.000,9, -999.000,9, -999.000,9
           NA,    P03E,     44,   1,-999.0,     -99,  2,20051105,2106,  25.6872, -128.2080,  4205, 4277.400,    1.531,   34.685,2,   34.685,2,  138.340,1,  142.130,2,  160.800,2,   36.840,2,    0.000,2,    2.588,2, -999.000,9, -999.000,9, -999.000,9, -999.000,9, -999.000,9
           NA,    P03E,     42,   1,-999.0,     -99,  2,20051105,1438,  26.1828, -127.5927,  4553,    3.100,   20.913,   34.174,2,   34.174,2,  216.890,1,  226.410,2,    1.490,2,    0.030,2,    0.000,2,    0.235,2, -999.000,9, -999.000,9, -999.000,9, -999.000,9, -999.000,9
           NA,    P03E,     42,   1,-999.0,     -99,  2,20051105,1438,  26.1828, -127.5927,  4553,    9.600,   20.913,   34.174,2,   34.174,2,  216.570,1,  226.330,2,    1.430,2,    0.030,2,    0.000,2,    0.239,2,    2.030,2,    1.215,2, -999.000,9, 2012.300,2, 2290.600,2
           NA,    P03E,     42,   1,-999.0,     -99,  2,20051105,1438,  26.1828, -127.5927,  4553,   49.600,   20.923,   34.173,2,   34.174,2,  216.280,1,  226.290,2,    1.420,2,    0.020,2,    0.000,2,    0.231,2,    2.050,2,    1.224,2, -999.000,9, 2012.100,6, -999.000,9
           NA,    P03E,     42,   1,-999.0,     -99,  2,20051105,1438,  26.1828, -127.5927,  4553,  100.200,   18.847,   34.253,2,   34.259,2,  226.450,1,  235.750,2,    1.660,2,    0.020,2,    0.000,2,    0.198,2,    2.332,2,    1.366,2, -999.000,9, 2017.500,2, 2273.900,6
           NA,    P03E,     42,   1,-999.0,     -99,  2,20051105,1438,  26.1828, -127.5927,  4553,  150.800,   15.132,   33.886,2,   33.886,2,  209.910,1,  218.450,2,    3.670,2,    2.900,2,    0.030,2,    0.458,2,    2.713,2,    1.561,2, -999.000,9, 2037.700,2, 2246.400,2
           NA,    P03E,     42,   1,-999.0,     -99,  2,20051105,1438,  26.1828, -127.5927,  4553,  198.600,   11.378,   33.614,2,   33.618,2,  197.940,1,  204.480,2,   10.140,2,   11.210,2,    0.000,2,    0.975,2,    3.121,2,    1.764,2, -999.000,9, 2076.300,2, 2226.200,2
           NA,    P03E,     42,   1,-999.0,     -99,  2,20051105,1438,  26.1828, -127.5927,  4553,  250.000,    9.542,   33.881,2,   33.882,2,  171.710,1,  178.470,2,   20.140,2,   18.780,2,    0.000,2,    1.433,2,    3.113,6,    1.686,6, -999.000,9, 2128.000,2, 2239.400,2
           NA,    P03E,     42,   1,-999.0,     -99,  2,20051105,1438,  26.1828, -127.5927,  4553,  302.000,    8.803,   34.078,2,   34.076,2,  124.880,1,  130.190,2,   31.290,2,   25.040,2,    0.000,2,    1.894,2,    2.541,2,    1.275,2, -999.000,9, 2180.300,2, 2261.600,2
           NA,    P03E,     42,   1,-999.0,     -99,  2,20051105,1438,  26.1828, -127.5927,  4553,  403.200,    7.629,   34.172,2,   34.152,2,   65.200,1,   70.740,2,   48.620,2,   32.150,2,    0.010,2,    2.498,2,    1.308,2,    0.636,2, -999.000,9, 2245.000,2, 2282.500,2
           NA,    P03E,     42,   1,-999.0,     -99,  2,20051105,1438,  26.1828, -127.5927,  4553,  501.400,    6.083,   34.144,2,   34.143,6,   43.930,1,   46.220,2,   67.620,2,   37.440,2,    0.000,2,    2.822,2,    0.550,2,    0.284,2, -999.000,9, 2284.100,2, 2297.600,2
           NA,    P03E,     42,   1,-999.0,     -99,  2,20051105,1438,  26.1828, -127.5927,  4553,  599.700,    5.575,   34.279,2,   34.281,2,   16.750,1,   17.540,2,   81.600,2,   40.490,2,    0.000,2,    3.107,2,    0.097,2,    0.054,2, -999.000,9, 2319.000,2, 2323.700,2
           NA,    P03E,     42,   1,-999.0,     -99,  2,20051105,1438,  26.1828, -127.5927,  4553,  700.500,    5.254,   34.378,2,   34.375,2,   11.680,1,   12.310,2,   89.480,2,   41.880,2,    0.000,2,    3.202,2,    0.018,2,    0.012,2, -999.000,9, 2333.400,6, 2335.100,2
           NA,    P03E,     42,   1,-999.0,     -99,  2,20051105,1438,  26.1828, -127.5927,  4553,  801.100,    4.992,   34.443,2,   34.441,2,   11.530,1,   12.360,2,   95.600,2,   42.600,2,    0.000,2,    3.244,2,    0.007,2,    0.005,2, -999.000,9, 2344.100,2, 2348.800,6
           NA,    P03E,     42,   1,-999.0,     -99,  2,20051105,1438,  26.1828, -127.5927,  4553,  901.300,    4.502,   34.470,2,   34.470,2,   16.730,1,   17.360,2,  104.880,2,   43.320,2,    0.000,2,    3.256,2, -999.000,5, -999.000,5, -999.000,9, 2350.900,2, 2357.400,2
           NA,    P03E,     42,   1,-999.0,     -99,  2,20051105,1438,  26.1828, -127.5927,  4553, 1002.200,    4.166,   34.493,2,   34.492,6,   20.950,1,   21.850,2,  111.700,2,   43.490,2,    0.000,2,    3.242,2,    0.009,2,    0.003,2, -999.000,9, 2358.400,2, 2366.100,2
           NA,    P03E,     42,   1,-999.0,     -99,  2,20051105,1438,  26.1828, -127.5927,  4553, 1203.900,    3.610,   34.527,2,   34.526,2,   30.730,1,   31.420,2,  124.340,2,   43.400,2,    0.000,2,    3.213,2, -999.000,4, -999.000,4, -999.000,9, 2365.500,2, 2380.300,2
           NA,    P03E,     42,   1,-999.0,     -99,  2,20051105,1438,  26.1828, -127.5927,  4553, 1398.900,    3.106,   34.558,2,   34.558,2,   41.340,1,   42.640,2,  136.560,2,   42.960,2,    0.000,2,    3.149,2,    0.000,2,    0.000,2, -999.000,9, -999.000,3, 2396.000,2
           NA,    P03E,     42,   1,-999.0,     -99,  2,20051105,1438,  26.1828, -127.5927,  4553, 1599.900,    2.708,   34.584,2,   34.583,2,   53.180,1,   55.160,2,  145.980,2,   42.350,2,    0.000,2,    3.082,2,    0.006,2,    0.002,2, -999.000,9, 2371.900,2, 2400.200,2
           NA,    P03E,     42,   1,-999.0,     -99,  2,20051105,1438,  26.1828, -127.5927,  4553, 1800.900,    2.398,   34.608,2,   34.608,6,   65.590,1,   68.360,2,  152.370,2,   41.630,2,    0.000,2,    2.996,2,    0.000,2,    0.000,2, -999.000,9, 2372.300,2, 2409.800,2
           NA,    P03E,     42,   1,-999.0,     -99,  2,20051105,1438,  26.1828, -127.5927,  4553, 2001.200,    2.157,   34.628,2,   34.629,2,   77.970,1,   81.350,2,  156.220,2,   40.740,2,    0.000,2,    2.925,2,    0.000,2,    0.000,2, -999.000,9, -999.000,4, 2427.700,2
           NA,    P03E,     42,   1,-999.0,     -99,  2,20051105,1438,  26.1828, -127.5927,  4553, 2199.700,    1.984,   34.642,2,   34.642,2,   87.930,1,   92.080,2,  159.030,2,   40.110,2,    0.000,2,    2.855,2,    0.000,2, -999.000,4, -999.000,9, 2367.200,2, 2428.300,2
           NA,    P03E,     42,   1,-999.0,     -99,  2,20051105,1438,  26.1828, -127.5927,  4553, 2400.700,    1.855,   34.648,2,   34.648,2,   93.990,1,   98.410,2,  162.680,2,   39.750,2,    0.000,2,    2.824,2,    0.000,2, -999.000,4, -999.000,9, 2363.600,6, 2432.200,2
           NA,    P03E,     42,   1,-999.0,     -99,  2,20051105,1438,  26.1828, -127.5927,  4553, 2599.600,    1.743,   34.654,2,   34.654,2,   99.890,1,  104.800,2,  165.840,2,   39.310,2,    0.000,2,    2.788,2,    0.000,2,    0.000,2, -999.000,9, 2360.000,2, 2437.400,6
           NA,    P03E,     42,   1,-999.0,     -99,  2,20051105,1438,  26.1828, -127.5927,  4553, 2800.000,    1.648,   34.661,2,   34.661,2,  106.240,1,  111.500,2,  167.700,2,   38.860,2,    0.000,2,    2.748,2,    0.000,2,    0.000,2, -999.000,9, 2357.800,2, 2437.100,2
           NA,    P03E,     42,   1,-999.0,     -99,  2,20051105,1438,  26.1828, -127.5927,  4553, 3000.900,    1.574,   34.668,2,   34.668,2,  113.540,1,  118.850,2,  168.270,2,   38.390,2,    0.000,2,    2.712,2,    0.003,2,    0.004,2, -999.000,9, 2354.000,2, 2438.700,2
           NA,    P03E,     42,   1,-999.0,     -99,  2,20051105,1438,  26.1828, -127.5927,  4553, 3250.000,    1.517,   34.675,2,   34.675,6,  121.550,1,  127.310,2,  167.080,2,   37.840,2,    0.000,2,    2.660,2,    0.001,2,    0.000,2, -999.000,9, 2348.800,2, 2434.400,2
           NA,    P03E,     42,   1,-999.0,     -99,  2,20051105,1438,  26.1828, -127.5927,  4553, 3503.000,    1.492,   34.680,2,   34.680,2,  127.740,1,  133.530,2,  165.970,2,   37.520,2,    0.000,2,    2.623,2,    0.007,2,    0.009,2, -999.000,9, 2344.600,2, 2438.900,2
           NA,    P03E,     42,   1,-999.0,     -99,  2,20051105,1438,  26.1828, -127.5927,  4553, 3751.500,    1.491,   34.683,2,   34.683,2,  132.140,1,  137.950,2,  163.930,2,   37.180,2,    0.000,2,    2.601,2,    0.004,2,    0.007,2, -999.000,9, 2340.900,2, 2440.800,2
           NA,    P03E,     42,   1,-999.0,     -99,  2,20051105,1438,  26.1828, -127.5927,  4553, 4003.000,    1.506,   34.684,2,   34.684,6,  134.640,1,  140.110,2,  163.140,2,   37.040,2,    0.000,2,    2.595,2,    0.001,2,    0.012,2, -999.000,9, 2339.800,2, 2439.100,2
           NA,    P03E,     42,   1,-999.0,     -99,  2,20051105,1438,  26.1828, -127.5927,  4553, 4253.400,    1.529,   34.685,2,   34.685,2,  136.170,1,  141.190,2,  162.540,2,   36.950,2,    0.000,2,    2.583,2,    0.004,2,    0.005,2, -999.000,9, 2338.200,6, 2439.600,2
           NA,    P03E,     42,   1,-999.0,     -99,  2,20051105,1438,  26.1828, -127.5927,  4553, 4500.900,    1.558,   34.685,2,   34.685,2,  136.920,1,  141.220,2,  162.480,2,   37.020,2,    0.000,2,    2.583,2,    0.000,2,    0.008,2, -999.000,9, 2338.700,2, 2435.500,2
           NA,    P03E,     42,   1,-999.0,     -99,  2,20051105,1438,  26.1828, -127.5927,  4553, 4669.200,    1.578,   34.685,2,   34.685,6,  137.610,1,  141.250,2,  163.000,2,   36.910,2,    0.000,2,    2.591,2,    0.006,2,    0.016,2, -999.000,9, 2340.100,2, 2439.600,2