BOTTLE,20211903JOAExport
EXPOCODE,SECT_ID,STNNBR,CASTNO,SAMPNO,BTLNBR,BTLNBR_FLAG_W,DATE,TIME,LATITUDE,LONGITUDE,DEPTH,CTDPRS,CTDTMP,CTDSAL,CTDSAL_FLAG_W,SALNTY,SALNTY_FLAG_W,CTDOXY,CTDOXY_FLAG_W,OXYGEN,OXYGEN_FLAG_W,SILCAT,SILCAT_FLAG_W,NITRAT,NITRAT_FLAG_W,NITRIT,NITRIT_FLAG_W,PHSPHT,PHSPHT_FLAG_W,CFC-11,CFC-11_FLAG_W,CFC-12,CFC-12_FLAG_W,SF6,SF6_FLAG_W,TCARBN,TCARBN_FLAG_W,ALKALI,ALKALI_FLAG_W
,,,,,,,,,,,,DB,ITS-90,PSS-78,,PSS-78,,UMOL/KG,,UMOL/KG,,UMOL/KG,,UMOL/KG,,UMOL/KG,,UMOL/KG,,PMOL/KG,,PMOL/KG,,FMOL/KG,,UMOL/KG,,UMOL/KG
           NA,    P03C,    177,   1,-999.0,     -99,  2,20051204,0355,  24.0695, -172.1040,  4680,   10.000,   25.673,   35.195,2,   35.197,2,  185.890,1,  205.720,2,    0.900,2,    0.030,2,    0.000,2,    0.048,2,    1.665,2,    0.977,2, -999.000,9, 1978.100,2, 2310.000,2
           NA,    P03C,    177,   1,-999.0,     -99,  2,20051204,0355,  24.0695, -172.1040,  4680,   50.200,   25.692,   35.195,2,   35.197,2,  185.640,1,  205.700,2,    0.820,2,    0.030,2,    0.000,2,    0.044,2,    1.671,2,    0.968,2, -999.000,9, 1978.800,6, 2310.700,2
           NA,    P03C,    177,   1,-999.0,     -99,  2,20051204,0355,  24.0695, -172.1040,  4680,   99.700,   23.486,   35.183,2,   35.184,2,  191.610,1,  211.580,2,    1.060,2,    0.030,2,    0.040,2,    0.073,2,    1.926,2,    1.108,2, -999.000,9, 2003.500,2, 2310.400,6
           NA,    P03C,    177,   1,-999.0,     -99,  2,20051204,0355,  24.0695, -172.1040,  4680,  150.400,   21.420,   35.174,2,   35.172,2,  178.180,1,  197.130,2,    1.530,2,    1.120,2,    0.030,2,    0.164,2,    2.072,2,    1.187,2, -999.000,9, 2031.000,2, 2303.600,2
           NA,    P03C,    177,   1,-999.0,     -99,  2,20051204,0355,  24.0695, -172.1040,  4680,  200.400,   19.438,   35.023,2,   35.022,2,  178.410,1,  197.670,2,    2.450,2,    2.300,2,    0.010,2,    0.245,2,    2.241,2,    1.274,2, -999.000,9, 2041.700,2, 2298.900,2
           NA,    P03C,    177,   1,-999.0,     -99,  2,20051204,0355,  24.0695, -172.1040,  4680,  248.900,   17.889,   34.860,2,   34.844,2,  182.460,1,  202.300,2,    3.490,2,    3.440,2,    0.010,2,    0.310,2,    2.399,6,    1.359,6, -999.000,9, 2044.600,2, 2282.200,2
           NA,    P03C,    177,   1,-999.0,     -99,  2,20051204,0355,  24.0695, -172.1040,  4680,  298.700,   15.690,   34.608,2,   34.605,2,  186.130,1,  205.850,2,    5.340,2,    5.650,2,    0.010,2,    0.465,2,    2.627,2,    1.464,2, -999.000,9, 2052.200,2, 2271.700,2
           NA,    P03C,    177,   1,-999.0,     -99,  2,20051204,0355,  24.0695, -172.1040,  4680,  401.600,   11.919,   34.262,2,   34.266,2,  186.400,1,  206.350,2,   12.660,2,   12.120,2,    0.000,2,    0.890,2,    2.948,2,    1.562,2, -999.000,9, 2086.600,2, 2252.700,2
           NA,    P03C,    177,   1,-999.0,     -99,  2,20051204,0355,  24.0695, -172.1040,  4680,  500.100,    8.793,   34.102,2,   34.100,6,  146.460,1,  161.630,2,   30.790,2,   22.770,2,    0.000,2,    1.647,2,    2.556,2,    1.259,2, -999.000,9, 2158.900,2, 2259.800,2
           NA,    P03C,    177,   1,-999.0,     -99,  2,20051204,0355,  24.0695, -172.1040,  4680,  601.300,    7.067,   34.085,2,   34.085,2,   96.570,1,  107.140,2,   50.610,2,   30.990,2,    0.000,2,    2.255,2,    1.566,2,    0.730,2, -999.000,9, 2222.900,2, 2275.000,2
           NA,    P03C,    177,   1,-999.0,     -99,  2,20051204,0355,  24.0695, -172.1040,  4680,  701.100,    5.704,   34.163,2,   34.164,2,   49.790,1,   54.930,2,   74.500,2,   38.100,2,    0.000,2,    2.791,2,    0.531,2,    0.246,2, -999.000,9, 2285.700,6, 2300.800,2
           NA,    P03C,    177,   1,-999.0,     -99,  2,20051204,0355,  24.0695, -172.1040,  4680,  799.700,    4.905,   34.251,2,   34.251,2,   33.810,1,   38.430,2,   91.430,2,   40.940,2,    0.000,2,    2.997,2,    0.228,6,    0.110,6, -999.000,9, 2315.500,2, 2321.100,6
           NA,    P03C,    177,   1,-999.0,     -99,  2,20051204,0355,  24.0695, -172.1040,  4680,  900.100,    4.436,   34.362,2,   34.361,2,   32.680,1,   37.110,2,  102.700,2,   41.840,2,    0.000,2,    3.047,2,    0.083,2,    0.037,2, -999.000,9, 2332.600,2, 2341.600,2
           NA,    P03C,    177,   1,-999.0,     -99,  2,20051204,0355,  24.0695, -172.1040,  4680, 1000.600,    4.071,   34.409,2,   34.409,6,   35.110,1,   39.960,2,  110.750,2,   42.110,2,    0.000,2,    3.062,2,    0.045,2,    0.019,2, -999.000,9, 2341.500,2, 2353.800,2
           NA,    P03C,    177,   1,-999.0,     -99,  2,20051204,0355,  24.0695, -172.1040,  4680, 1201.500,    3.421,   34.496,2,   34.497,2,   48.010,1,   53.930,2,  124.510,2,   41.910,2,    0.000,2,    3.018,2,    0.014,2,    0.005,2, -999.000,9, 2349.300,2, 2375.800,2
           NA,    P03C,    177,   1,-999.0,     -99,  2,20051204,0355,  24.0695, -172.1040,  4680, 1403.000,    2.980,   34.532,2,   34.532,2,   55.710,1,   62.520,2,  134.490,2,   41.530,2,    0.000,2,    2.984,2,    0.018,2,    0.005,2, -999.000,9, 2355.200,2, 2383.400,2
           NA,    P03C,    177,   1,-999.0,     -99,  2,20051204,0355,  24.0695, -172.1040,  4680, 1601.400,    2.595,   34.570,2,   34.570,2,   65.230,1,   73.120,2,  142.730,2,   41.090,2,    0.000,2,    2.938,2,    0.014,2,    0.004,2, -999.000,9, 2356.100,2, 2398.700,2
           NA,    P03C,    177,   1,-999.0,     -99,  2,20051204,0355,  24.0695, -172.1040,  4680, 1802.400,    2.285,   34.591,2,   34.591,2,   72.230,1,   80.970,2,  149.620,2,   40.760,2,    0.000,2,    2.898,2,    0.013,2,    0.000,2, -999.000,9, 2360.400,2, 2403.400,2
           NA,    P03C,    177,   1,-999.0,     -99,  2,20051204,0355,  24.0695, -172.1040,  4680, 2000.500,    2.066,   34.610,2,   34.610,6,   80.150,1,   90.150,2,  153.720,2,   40.220,2,    0.000,2,    2.856,2,    0.000,2,    0.000,2, -999.000,9, 2359.000,2, -999.000,3
           NA,    P03C,    177,   1,-999.0,     -99,  2,20051204,0355,  24.0695, -172.1040,  4680, 2199.200,    1.909,   34.626,2,   34.627,2,   87.800,1,   98.880,2,  155.970,2,   39.780,2,    0.000,2,    2.812,2,    0.000,2,    0.000,2, -999.000,9, 2357.300,2, 2413.100,2
           NA,    P03C,    177,   1,-999.0,     -99,  2,20051204,0355,  24.0695, -172.1040,  4680, 2400.100,    1.770,   34.641,2,   34.641,2,   96.050,1,  108.400,2,  157.200,2,   39.070,2,    0.000,2,    2.760,2,    0.000,2,    0.000,2, -999.000,9, 2353.000,6, 2412.300,2
           NA,    P03C,    177,   1,-999.0,     -99,  2,20051204,0355,  24.0695, -172.1040,  4680, 2600.500,    1.683,   34.651,2,   34.652,2,  102.590,1,  115.880,2,  157.580,2,   38.660,2,    0.000,2,    2.720,2,    0.000,2,    0.000,2, -999.000,9, 2349.500,2, 2414.300,6
           NA,    P03C,    177,   1,-999.0,     -99,  2,20051204,0355,  24.0695, -172.1040,  4680, 2801.800,    1.628,   34.659,2,   34.659,2,  107.860,1,  121.820,2,  157.400,2,   38.260,2,    0.000,2,    2.689,2, -999.000,9, -999.000,9, -999.000,9, 2347.000,2, 2417.400,2
           NA,    P03C,    177,   1,-999.0,     -99,  2,20051204,0355,  24.0695, -172.1040,  4680, 3000.200,    1.576,   34.666,2,   34.665,6,  113.290,1,  128.160,2,  156.720,2,   37.930,2,    0.000,2,    2.661,2, -999.000,9, -999.000,9, -999.000,9, 2343.600,2, 2422.800,2
           NA,    P03C,    177,   1,-999.0,     -99,  2,20051204,0355,  24.0695, -172.1040,  4680, 3251.500,    1.522,   34.673,2,   34.673,2,  120.280,1,  135.640,2,  154.500,2,   37.310,2,    0.000,2,    2.613,2,    0.000,2,    0.000,2, -999.000,9, 2336.700,2, 2422.100,2
           NA,    P03C,    177,   1,-999.0,     -99,  2,20051204,0355,  24.0695, -172.1040,  4680, 3501.700,    1.490,   34.678,2,   34.678,2,  125.990,1,  141.860,2,  152.610,2,   36.960,2,    0.000,2,    2.588,2, -999.000,9, -999.000,9, -999.000,9, 2334.400,2, 2421.500,2
           NA,    P03C,    177,   1,-999.0,     -99,  2,20051204,0355,  24.0695, -172.1040,  4680, 3751.200,    1.472,   34.682,2,   34.682,2,  130.920,1,  147.150,2,  150.640,2,   36.590,2,    0.000,2,    2.553,2, -999.000,9, -999.000,9, -999.000,9, 2329.200,2, 2418.300,2
           NA,    P03C,    177,   1,-999.0,     -99,  2,20051204,0355,  24.0695, -172.1040,  4680, 4000.400,    1.455,   34.686,2,   34.686,6,  136.310,1,  152.740,2,  148.090,2,   36.200,2,    0.000,2,    2.524,2,    0.000,2,    0.000,2, -999.000,9, 2323.600,2, -999.000,4
           NA,    P03C,    177,   1,-999.0,     -99,  2,20051204,0355,  24.0695, -172.1040,  4680, 4251.000,    1.442,   34.689,2,   34.690,2,  141.650,1,  158.080,2,  145.370,2,   35.840,2,    0.000,2,    2.497,2, -999.000,9, -999.000,9, -999.000,9, 2318.700,6, 2414.000,2
           NA,    P03C,    177,   1,-999.0,     -99,  2,20051204,0355,  24.0695, -172.1040,  4680, 4500.200,    1.437,   34.692,2,   34.693,2,  146.550,1,  162.690,2,  142.800,2,   35.570,2,    0.000,2,    2.474,2, -999.000,9, -999.000,9, -999.000,9, 2316.300,2, 2410.100,6
           NA,    P03C,    177,   1,-999.0,     -99,  2,20051204,0355,  24.0695, -172.1040,  4680, 4501.100,    1.437,   34.692,2,   34.693,2,  146.520,1,  162.770,2,  142.660,2,   35.410,2,    0.000,2,    2.471,2, -999.000,9, -999.000,9, -999.000,9, 2314.600,2, 2409.700,2
           NA,    P03C,    177,   1,-999.0,     -99,  2,20051204,0355,  24.0695, -172.1040,  4680, 4746.600,    1.443,   34.694,2,   34.695,6,  151.460,1,  166.440,2,  140.240,2,   35.260,2,    0.000,2,    2.455,2,    0.000,2,    0.000,2, -999.000,9, 2310.800,2, 2414.300,2
           NA,    P03C,    175,   1,-999.0,     -99,  2,20051203,2032,  23.7115, -171.3818,  4754,    9.100,   26.354,   35.164,2,   35.166,2,  184.390,1,  203.740,2,    0.920,2,    0.050,2,    0.000,2,    0.049,2,    1.622,2,    0.954,2, -999.000,9, -999.000,9, -999.000,9
           NA,    P03C,    175,   1,-999.0,     -99,  2,20051203,2032,  23.7115, -171.3818,  4754,   50.600,   26.050,   35.207,2,   35.208,2,  185.040,1,  204.680,2,    0.940,2,    0.050,2,    0.000,2,    0.046,2,    1.653,2,    0.965,2, -999.000,9, -999.000,9, -999.000,9
           NA,    P03C,    175,   1,-999.0,     -99,  2,20051203,2032,  23.7115, -171.3818,  4754,  100.700,   23.613,   35.185,2,   35.185,2,  191.220,1,  211.530,2,    1.180,2,    0.050,2,    0.000,2,    0.071,2,    1.925,2,    1.129,2, -999.000,9, -999.000,9, -999.000,9
           NA,    P03C,    175,   1,-999.0,     -99,  2,20051203,2032,  23.7115, -171.3818,  4754,  149.400,   20.779,   35.128,2,   35.128,2,  176.490,1,  195.240,2,    1.880,2,    1.590,2,    0.020,2,    0.199,2,    2.141,2,    1.205,2, -999.000,9, -999.000,9, -999.000,9
           NA,    P03C,    175,   1,-999.0,     -99,  2,20051203,2032,  23.7115, -171.3818,  4754,  200.300,   18.771,   34.944,2,   34.945,2,  178.630,1,  197.730,2,    2.990,2,    2.920,2,    0.010,2,    0.287,2,    2.324,2,    1.275,2, -999.000,9, -999.000,9, -999.000,9
           NA,    P03C,    175,   1,-999.0,     -99,  2,20051203,2032,  23.7115, -171.3818,  4754,  251.500,   16.368,   34.689,2,   34.686,2,  184.200,1,  203.730,2,    5.020,2,    5.110,2,    0.010,2,    0.432,2,    2.566,6,    1.376,6, -999.000,9, -999.000,9, -999.000,9
           NA,    P03C,    175,   1,-999.0,     -99,  2,20051203,2032,  23.7115, -171.3818,  4754,  302.300,   14.248,   34.456,2,   34.464,2,  184.910,1,  204.210,2,    7.670,2,    7.950,2,    0.000,2,    0.622,2,    2.805,2,    1.478,2, -999.000,9, -999.000,9, -999.000,9
           NA,    P03C,    175,   1,-999.0,     -99,  2,20051203,2032,  23.7115, -171.3818,  4754,  401.900,   11.057,   34.191,2,   34.193,2,  180.700,1,  198.840,2,   15.290,2,   14.140,2,    0.000,2,    1.052,2,    3.101,2,    1.548,2, -999.000,9, -999.000,9, -999.000,9
           NA,    P03C,    175,   1,-999.0,     -99,  2,20051203,2032,  23.7115, -171.3818,  4754,  501.400,    8.532,   34.099,2,   34.103,6,  134.560,1,  148.600,2,   32.950,2,   24.040,2,    0.000,2,    1.765,2,    2.465,2,    1.147,2, -999.000,9, -999.000,9, -999.000,9
           NA,    P03C,    175,   1,-999.0,     -99,  2,20051203,2032,  23.7115, -171.3818,  4754,  601.000,    6.641,   34.100,2,   34.101,2,   78.230,1,   87.480,2,   56.630,2,   33.170,2,    0.000,2,    2.447,2,    1.203,2,    0.546,2, -999.000,9, -999.000,9, -999.000,9
           NA,    P03C,    175,   1,-999.0,     -99,  2,20051203,2032,  23.7115, -171.3818,  4754,  703.100,    5.477,   34.160,2,   34.158,2,   46.410,1,   53.750,2,   77.770,2,   38.470,2,    0.000,2,    2.820,2,    0.530,2,    0.236,2, -999.000,9, -999.000,9, -999.000,9
           NA,    P03C,    175,   1,-999.0,     -99,  2,20051203,2032,  23.7115, -171.3818,  4754,  801.000,    4.821,   34.307,2,   34.306,2,   30.860,1,   35.190,2,   94.030,2,   41.230,2,    0.000,2,    3.030,2,    0.135,2,    0.056,2, -999.000,9, -999.000,9, -999.000,9
           NA,    P03C,    175,   1,-999.0,     -99,  2,20051203,2032,  23.7115, -171.3818,  4754,  898.200,    4.417,   34.375,2,   34.375,2,   32.830,1,   37.290,2,  103.080,2,   41.760,2,    0.000,2,    3.058,2,    0.075,2,    0.025,2, -999.000,9, -999.000,9, -999.000,9
           NA,    P03C,    175,   1,-999.0,     -99,  2,20051203,2032,  23.7115, -171.3818,  4754, 1000.100,    4.147,   34.441,2,   34.439,6,   37.840,1,   42.750,2,  108.340,2,   41.770,2,    0.000,2,    3.059,2,    0.040,2,    0.016,2, -999.000,9, -999.000,9, -999.000,9
           NA,    P03C,    175,   1,-999.0,     -99,  2,20051203,2032,  23.7115, -171.3818,  4754, 1199.200,    3.697,   34.514,2,   34.514,2,   49.680,1,   55.700,2,  117.110,2,   41.520,2,    0.000,2,    3.018,2, -999.000,5, -999.000,5, -999.000,9, -999.000,9, -999.000,9
           NA,    P03C,    175,   1,-999.0,     -99,  2,20051203,2032,  23.7115, -171.3818,  4754, 1401.600,    3.128,   34.549,2,   34.549,2,   58.630,1,   65.520,2,  129.430,2,   41.280,2,    0.000,2,    2.978,2,    0.001,2,    0.004,2, -999.000,9, -999.000,9, -999.000,9
           NA,    P03C,    175,   1,-999.0,     -99,  2,20051203,2032,  23.7115, -171.3818,  4754, 1601.300,    2.767,   34.568,2,   34.568,2,   63.820,1,   71.480,2,  138.260,2,   41.190,2,    0.000,2,    2.951,2,    0.001,2,    0.000,2, -999.000,9, -999.000,9, -999.000,9
           NA,    P03C,    175,   1,-999.0,     -99,  2,20051203,2032,  23.7115, -171.3818,  4754, 1798.100,    2.382,   34.588,2,   34.588,2,   71.120,1,   79.650,2,  147.200,2,   40.690,2,    0.000,2,    2.910,2,    0.000,2,    0.000,2, -999.000,9, -999.000,9, -999.000,9
           NA,    P03C,    175,   1,-999.0,     -99,  2,20051203,2032,  23.7115, -171.3818,  4754, 1997.800,    2.132,   34.611,2,   34.611,6,   79.810,1,   89.640,2,  152.410,2,   40.130,2,    0.000,2,    2.862,2,    0.000,2,    0.000,2, -999.000,9, -999.000,9, -999.000,9
           NA,    P03C,    175,   1,-999.0,     -99,  2,20051203,2032,  23.7115, -171.3818,  4754, 2198.700,    1.955,   34.626,2,   34.625,2,   86.350,1,   97.280,2,  155.730,2,   39.720,2,    0.000,2,    2.820,2,    0.000,2,    0.002,2, -999.000,9, -999.000,9, -999.000,9
           NA,    P03C,    175,   1,-999.0,     -99,  2,20051203,2032,  23.7115, -171.3818,  4754, 2400.200,    1.816,   34.639,2,   34.639,2,   93.850,1,  105.840,2,  157.220,2,   39.120,2,    0.000,2,    2.775,2,    0.000,2,    0.001,2, -999.000,9, -999.000,9, -999.000,9
           NA,    P03C,    175,   1,-999.0,     -99,  2,20051203,2032,  23.7115, -171.3818,  4754, 2600.500,    1.713,   34.650,2,   34.650,2,  100.720,1,  113.890,2,  157.910,2,   38.680,2,    0.000,2,    2.732,2, -999.000,9, -999.000,9, -999.000,9, -999.000,9, -999.000,9
           NA,    P03C,    175,   1,-999.0,     -99,  2,20051203,2032,  23.7115, -171.3818,  4754, 2801.400,    1.645,   34.658,2,   34.658,2,  106.480,1,  120.390,2,  157.990,2,   38.270,2,    0.000,2,    2.697,2, -999.000,9, -999.000,9, -999.000,9, -999.000,9, -999.000,9
           NA,    P03C,    175,   1,-999.0,     -99,  2,20051203,2032,  23.7115, -171.3818,  4754, 3001.700,    1.581,   34.665,2,   34.665,6,  112.720,1,  127.410,2,  157.040,2,   37.860,2,    0.000,2,    2.661,2,    0.000,2,    0.000,2, -999.000,9, -999.000,9, -999.000,9
           NA,    P03C,    175,   1,-999.0,     -99,  2,20051203,2032,  23.7115, -171.3818,  4754, 3251.100,    1.525,   34.672,2,   34.672,2,  119.660,1,  135.190,2,  154.760,2,   37.160,2,    0.000,2,    2.619,2, -999.000,9, -999.000,9, -999.000,9, -999.000,9, -999.000,9
           NA,    P03C,    175,   1,-999.0,     -99,  2,20051203,2032,  23.7115, -171.3818,  4754, 3500.600,    1.501,   34.677,2,   34.677,2,  124.620,1,  140.320,2,  153.180,2,   36.920,2,    0.000,2,    2.590,2, -999.000,9, -999.000,9, -999.000,9, -999.000,9, -999.000,9
           NA,    P03C,    175,   1,-999.0,     -99,  2,20051203,2032,  23.7115, -171.3818,  4754, 3748.600,    1.477,   34.681,2,   34.681,2,  130.210,1,  146.270,2,  151.120,2,   36.490,2,    0.000,2,    2.564,2,    0.000,2,    0.000,2, -999.000,9, -999.000,9, -999.000,9
           NA,    P03C,    175,   1,-999.0,     -99,  2,20051203,2032,  23.7115, -171.3818,  4754, 4000.400,    1.460,   34.686,2,   34.685,6,  135.660,1,  152.030,2,  148.560,2,   36.130,2,    0.000,2,    2.529,2, -999.000,9, -999.000,9, -999.000,9, -999.000,9, -999.000,9
           NA,    P03C,    175,   1,-999.0,     -99,  2,20051203,2032,  23.7115, -171.3818,  4754, 4249.800,    1.456,   34.688,2,   34.688,2,  140.040,1,  156.250,2,  146.570,2,   35.840,2,    0.000,2,    2.511,2, -999.000,9, -999.000,9, -999.000,9, -999.000,9, -999.000,9
           NA,    P03C,    175,   1,-999.0,     -99,  2,20051203,2032,  23.7115, -171.3818,  4754, 4498.700,    1.456,   34.691,2,   34.691,2,  144.460,1,  160.230,2,  144.210,2,   35.560,2,    0.000,2,    2.493,2, -999.000,9, -999.000,9, -999.000,9, -999.000,9, -999.000,9
           NA,    P03C,    175,   1,-999.0,     -99,  2,20051203,2032,  23.7115, -171.3818,  4754, 4498.900,    1.456,   34.691,2,   34.691,2,  144.370,1,  160.400,2,  144.000,2,   35.540,2,    0.000,2,    2.486,2, -999.000,9, -999.000,9, -999.000,9, -999.000,9, -999.000,9
           NA,    P03C,    175,   1,-999.0,     -99,  2,20051203,2032,  23.7115, -171.3818,  4754, 4749.000,    1.468,   34.693,2,   34.693,2,  148.010,1,  163.110,2,  142.360,2,   35.330,2,    0.000,2,    2.471,2, -999.000,9, -999.000,9, -999.000,9, -999.000,9, -999.000,9
           NA,    P03C,    175,   1,-999.0,     -99,  2,20051203,2032,  23.7115, -171.3818,  4754, 4814.000,    1.472,   34.693,2,   34.693,6,  149.720,1,  163.680,2,  141.730,2,   35.260,2,    0.000,2,    2.466,2,    0.000,2,    0.000,2, -999.000,9, -999.000,9, -999.000,9