BOTTLE,20211903JOAExport
EXPOCODE,SECT_ID,STNNBR,CASTNO,SAMPNO,BTLNBR,BTLNBR_FLAG_W,DATE,TIME,LATITUDE,LONGITUDE,DEPTH,CTDPRS,CTDTMP,CTDSAL,CTDSAL_FLAG_W,SALNTY,SALNTY_FLAG_W,CTDOXY,CTDOXY_FLAG_W,OXYGEN,OXYGEN_FLAG_W,SILCAT,SILCAT_FLAG_W,NITRAT,NITRAT_FLAG_W,NITRIT,NITRIT_FLAG_W,PHSPHT,PHSPHT_FLAG_W,CFC-11,CFC-11_FLAG_W,CFC-12,CFC-12_FLAG_W,SF6,SF6_FLAG_W,TCARBN,TCARBN_FLAG_W,ALKALI,ALKALI_FLAG_W
,,,,,,,,,,,,DB,ITS-90,PSS-78,,PSS-78,,UMOL/KG,,UMOL/KG,,UMOL/KG,,UMOL/KG,,UMOL/KG,,UMOL/KG,,PMOL/KG,,PMOL/KG,,FMOL/KG,,UMOL/KG,,UMOL/KG
           NA,    P03C,    271,   1,-999.0,     -99,  2,20051229,1658,  24.2902,  150.4632,  5137,   10.300,   24.534,   34.893,2,   34.893,2,  194.700,1,  209.640,2,    1.300,2,    0.050,2,    0.000,2,    0.042,2,    1.683,2,    1.027,2, -999.000,9, 1959.400,2, 2291.000,2
           NA,    P03C,    271,   1,-999.0,     -99,  2,20051229,1658,  24.2902,  150.4632,  5137,   50.900,   24.543,   34.893,2,   34.894,2,  194.700,1,  209.690,2,    1.270,2,    0.040,2,    0.000,2,    0.040,2,    1.694,2,    1.029,2, -999.000,9, 1959.400,6, 2291.800,2
           NA,    P03C,    271,   1,-999.0,     -99,  2,20051229,1658,  24.2902,  150.4632,  5137,  101.400,   22.288,   34.928,2,   34.930,2,  209.520,1,  225.570,2,    1.630,2,    0.040,2,    0.000,2,    0.052,2,    1.977,2,    1.191,2, -999.000,9, 1986.200,2, 2293.200,6
           NA,    P03C,    271,   1,-999.0,     -99,  2,20051229,1658,  24.2902,  150.4632,  5137,  150.300,   18.625,   34.859,2,   34.861,2,  189.970,1,  204.310,2,    2.720,2,    2.230,2,    0.020,2,    0.211,2,    2.173,2,    1.310,2, -999.000,9, 2025.300,2, 2288.200,2
           NA,    P03C,    271,   1,-999.0,     -99,  2,20051229,1658,  24.2902,  150.4632,  5137,  199.400,   17.366,   34.794,2,   34.794,2,  193.830,1,  208.110,2,    3.670,2,    4.360,2,    0.010,2,    0.324,2,    2.268,2,    1.358,2, -999.000,9, 2031.100,2, 2286.500,2
           NA,    P03C,    271,   1,-999.0,     -99,  2,20051229,1658,  24.2902,  150.4632,  5137,  247.700,   16.738,   34.746,2,   34.745,2,  190.400,1,  204.620,2,    4.870,2,    5.640,2,    0.010,2,    0.405,2,    2.310,6,    1.371,6, -999.000,9, 2038.600,2, 2283.300,2
           NA,    P03C,    271,   1,-999.0,     -99,  2,20051229,1658,  24.2902,  150.4632,  5137,  298.900,   15.760,   34.657,2,   34.658,2,  184.730,1,  198.470,2,    7.080,2,    7.590,2,    0.010,2,    0.547,2,    2.384,2,    1.390,2, -999.000,9, 2055.000,2, 2278.500,2
           NA,    P03C,    271,   1,-999.0,     -99,  2,20051229,1658,  24.2902,  150.4632,  5137,  401.600,   13.291,   34.460,2,   34.459,2,  177.250,1,  190.320,2,   13.900,2,   12.280,2,    0.010,2,    0.877,2,    2.448,2,    1.360,2, -999.000,9, 2089.200,2, 2274.200,2
           NA,    P03C,    271,   1,-999.0,     -99,  2,20051229,1658,  24.2902,  150.4632,  5137,  502.500,   10.356,   34.247,2,   34.247,6,  168.610,1,  180.720,2,   25.390,2,   18.160,2,    0.010,2,    1.311,2,    2.411,2,    1.300,2, -999.000,9, 2129.500,2, 2272.200,2
           NA,    P03C,    271,   1,-999.0,     -99,  2,20051229,1658,  24.2902,  150.4632,  5137,  602.000,    7.815,   34.103,2,   34.102,2,  137.260,1,  145.780,2,   43.620,2,   26.010,2,    0.010,2,    1.889,2,    1.934,2,    0.991,2, -999.000,9, 2191.400,2, 2281.600,2
           NA,    P03C,    271,   1,-999.0,     -99,  2,20051229,1658,  24.2902,  150.4632,  5137,  702.900,    5.991,   34.106,2,   34.107,2,   92.020,1,   98.820,2,   67.450,2,   33.450,2,    0.000,2,    2.446,2,    1.152,2,    0.573,2, -999.000,9, 2251.400,6, 2301.600,2
           NA,    P03C,    271,   1,-999.0,     -99,  2,20051229,1658,  24.2902,  150.4632,  5137,  800.900,    4.974,   34.158,2,   34.158,2,   64.830,1,   69.570,2,   87.320,2,   37.780,2,    0.000,2,    2.760,2,    0.669,6,    0.333,6, -999.000,9, 2294.800,2, 2320.200,6
           NA,    P03C,    271,   1,-999.0,     -99,  2,20051229,1658,  24.2902,  150.4632,  5137,  901.500,    4.104,   34.270,2,   34.271,2,   43.180,1,   45.940,2,  109.110,2,   41.080,2,    0.000,2,    2.974,2,    0.265,2,    0.132,2, -999.000,9, 2332.800,2, 2346.800,2
           NA,    P03C,    271,   1,-999.0,     -99,  2,20051229,1658,  24.2902,  150.4632,  5137, 1000.600,    3.803,   34.325,2,   34.325,6,   39.030,1,   41.700,2,  117.680,2,   41.820,2,    0.000,2,    3.042,2,    0.161,2,    0.073,2, -999.000,9, 2347.100,2, 2354.700,2
           NA,    P03C,    271,   1,-999.0,     -99,  2,20051229,1658,  24.2902,  150.4632,  5137, 1202.000,    3.207,   34.448,2,   34.449,2,   45.490,1,   48.640,2,  132.010,2,   41.830,2,    0.000,2,    3.027,2,    0.044,2,    0.020,2, -999.000,9, 2358.800,2, 2380.100,2
           NA,    P03C,    271,   1,-999.0,     -99,  2,20051229,1658,  24.2902,  150.4632,  5137, 1402.600,    2.679,   34.522,2,   34.521,2,   59.440,1,   63.830,2,  142.800,2,   41.470,2,    0.000,2,    2.971,2,    0.018,2,    0.005,2, -999.000,9, 2363.500,2, 2389.700,2
           NA,    P03C,    271,   1,-999.0,     -99,  2,20051229,1658,  24.2902,  150.4632,  5137, 1601.200,    2.293,   34.562,2,   34.562,2,   68.120,1,   73.160,2,  150.880,2,   41.030,2,    0.000,2,    2.936,2, -999.000,5, -999.000,5, -999.000,9, 2366.400,2, 2402.700,2
           NA,    P03C,    271,   1,-999.0,     -99,  2,20051229,1658,  24.2902,  150.4632,  5137, 1802.100,    2.039,   34.596,2,   34.596,2,   81.430,1,   87.990,2,  153.320,2,   40.200,2,    0.000,2,    2.868,2,    0.001,2,    0.002,2, -999.000,9, 2361.100,2, 2408.800,2
           NA,    P03C,    271,   1,-999.0,     -99,  2,20051229,1658,  24.2902,  150.4632,  5137, 2000.400,    1.909,   34.616,2,   34.617,6,   93.350,1,  101.100,2,  152.360,2,   39.390,2,    0.000,2,    2.802,2,    0.000,2,    0.002,2, -999.000,9, 2356.000,2, 2410.300,2
           NA,    P03C,    271,   1,-999.0,     -99,  2,20051229,1658,  24.2902,  150.4632,  5137, 2201.300,    1.797,   34.632,2,   34.632,2,  100.760,1,  109.090,2,  152.970,2,   38.870,2,    0.000,2,    2.765,2,    0.004,2,    0.003,2, -999.000,9, 2354.300,2, 2413.300,2
           NA,    P03C,    271,   1,-999.0,     -99,  2,20051229,1658,  24.2902,  150.4632,  5137, 2401.300,    1.714,   34.644,2,   34.645,2,  108.720,1,  117.880,2,  152.320,2,   38.280,2,    0.000,2,    2.719,2,    0.005,2,    0.001,2, -999.000,9, 2349.900,6, 2414.600,2
           NA,    P03C,    271,   1,-999.0,     -99,  2,20051229,1658,  24.2902,  150.4632,  5137, 2602.300,    1.642,   34.654,2,   34.654,2,  114.870,1,  124.490,2,  152.140,2,   37.780,2,    0.000,2,    2.684,2, -999.000,9, -999.000,9, -999.000,9, 2346.000,2, 2413.700,6
           NA,    P03C,    271,   1,-999.0,     -99,  2,20051229,1658,  24.2902,  150.4632,  5137, 2800.200,    1.593,   34.662,2,   34.662,2,  120.330,1,  130.650,2,  151.350,2,   37.510,2,    0.000,2,    2.650,2, -999.000,9, -999.000,9, -999.000,9, 2341.600,2, 2414.900,2
           NA,    P03C,    271,   1,-999.0,     -99,  2,20051229,1658,  24.2902,  150.4632,  5137, 3000.600,    1.543,   34.669,2,   34.669,6,  125.860,1,  136.490,2,  150.730,2,   37.130,2,    0.000,2,    2.624,2,    0.003,2,    0.000,2, -999.000,9, 2338.900,2, 2414.000,2
           NA,    P03C,    271,   1,-999.0,     -99,  2,20051229,1658,  24.2902,  150.4632,  5137, 3251.900,    1.508,   34.675,2,   34.675,2,  130.610,1,  141.710,2,  149.490,2,   36.750,2,    0.000,2,    2.579,2, -999.000,9, -999.000,9, -999.000,9, 2335.900,2, 2414.600,2
           NA,    P03C,    271,   1,-999.0,     -99,  2,20051229,1658,  24.2902,  150.4632,  5137, 3499.200,    1.493,   34.678,2,   34.678,2,  134.130,1,  145.250,2,  149.100,2,   36.590,2,    0.000,2,    2.568,2, -999.000,9, -999.000,9, -999.000,9, 2333.600,2, 2412.600,2
           NA,    P03C,    271,   1,-999.0,     -99,  2,20051229,1658,  24.2902,  150.4632,  5137, 3752.900,    1.471,   34.683,2,   34.683,2,  139.000,1,  150.480,2,  147.480,2,   36.320,2,    0.000,2,    2.547,2,    0.002,2,    0.001,2, -999.000,9, 2329.100,2, 2414.800,2
           NA,    P03C,    271,   1,-999.0,     -99,  2,20051229,1658,  24.2902,  150.4632,  5137, 4000.800,    1.456,   34.686,2,   34.686,6,  143.510,1,  154.880,2,  145.960,2,   35.870,2,    0.000,2,    2.521,2, -999.000,9, -999.000,9, -999.000,9, 2325.300,2, 2409.300,2
           NA,    P03C,    271,   1,-999.0,     -99,  2,20051229,1658,  24.2902,  150.4632,  5137, 4249.400,    1.442,   34.690,2,   34.690,2,  149.080,1,  160.550,2,  143.450,2,   35.520,2,    0.000,2,    2.495,2, -999.000,9, -999.000,9, -999.000,9, 2322.100,6, 2411.300,2
           NA,    P03C,    271,   1,-999.0,     -99,  2,20051229,1658,  24.2902,  150.4632,  5137, 4498.500,    1.446,   34.692,2,   34.692,2,  152.820,1,  163.840,2,  141.410,2,   35.240,2,    0.000,2,    2.476,2,    0.000,2,    0.000,2, -999.000,9, 2316.500,2, 2408.300,6
           NA,    P03C,    271,   1,-999.0,     -99,  2,20051229,1658,  24.2902,  150.4632,  5137, 4499.400,    1.446,   34.692,2,   34.692,2,  152.790,1,  163.810,2,  141.500,2,   35.250,2,    0.000,2,    2.473,2, -999.000,9, -999.000,9, -999.000,9, 2316.700,2, 2409.600,2
           NA,    P03C,    271,   1,-999.0,     -99,  2,20051229,1658,  24.2902,  150.4632,  5137, 4752.400,    1.457,   34.694,2,   34.694,2,  156.320,1,  166.870,2,  139.580,2,   35.070,2,    0.000,2,    2.458,2, -999.000,9, -999.000,9, -999.000,9, 2312.600,2, 2407.400,2
           NA,    P03C,    271,   1,-999.0,     -99,  2,20051229,1658,  24.2902,  150.4632,  5137, 5000.400,    1.471,   34.695,2,   34.696,2,  159.970,1,  169.970,2,  137.420,2,   34.930,2,    0.000,2,    2.441,2, -999.000,9, -999.000,9, -999.000,9, 2311.700,2, 2403.200,2
           NA,    P03C,    271,   1,-999.0,     -99,  2,20051229,1658,  24.2902,  150.4632,  5137, 5206.900,    1.485,   34.696,2,   34.697,6,  163.040,1,  171.860,2,  135.970,2,   34.740,2,    0.000,2,    2.438,2,    0.000,2,    0.000,2, -999.000,9, 2310.800,2, 2400.300,2
           NA,    P03C,    269,   1,-999.0,     -99,  2,20051229,0928,  24.2455,  151.2458,  5487,   11.600,   25.779,   34.849,2,   34.849,2,  190.520,1,  204.970,2,    1.050,2,    0.050,2,    0.000,2,    0.037,2,    1.583,2,    0.960,2, -999.000,9, -999.000,9, -999.000,9
           NA,    P03C,    269,   1,-999.0,     -99,  2,20051229,0928,  24.2455,  151.2458,  5487,   50.500,   25.159,   34.895,2,   34.897,2,  192.480,1,  206.890,2,    1.130,2,    0.040,2,    0.000,2,    0.038,2,    1.630,2,    0.987,2, -999.000,9, -999.000,9, -999.000,9
           NA,    P03C,    269,   1,-999.0,     -99,  2,20051229,0928,  24.2455,  151.2458,  5487,  101.800,   23.273,   35.055,2,   35.054,2,  195.860,1,  210.970,2,    1.390,2,    0.040,2,    0.000,2,    0.045,2,    1.912,2,    1.141,2, -999.000,9, -999.000,9, -999.000,9
           NA,    P03C,    269,   1,-999.0,     -99,  2,20051229,0928,  24.2455,  151.2458,  5487,  149.000,   20.023,   34.961,2,   34.959,2,  189.280,1,  203.810,2,    2.060,2,    1.050,2,    0.030,2,    0.135,2,    2.155,2,    1.232,2, -999.000,9, -999.000,9, -999.000,9
           NA,    P03C,    269,   1,-999.0,     -99,  2,20051229,0928,  24.2455,  151.2458,  5487,  200.400,   18.018,   34.824,2,   34.823,2,  191.780,1,  206.540,2,    3.150,2,    3.360,2,    0.010,2,    0.269,2,    2.316,2,    1.293,2, -999.000,9, -999.000,9, -999.000,9
           NA,    P03C,    269,   1,-999.0,     -99,  2,20051229,0928,  24.2455,  151.2458,  5487,  251.800,   17.175,   34.778,2,   34.779,2,  197.190,1,  211.030,2,    3.870,2,    4.390,2,    0.010,2,    0.324,2,    2.386,6,    1.324,6, -999.000,9, -999.000,9, -999.000,9
           NA,    P03C,    269,   1,-999.0,     -99,  2,20051229,0928,  24.2455,  151.2458,  5487,  304.800,   16.201,   34.695,2,   34.699,2,  190.910,1,  205.250,2,    5.680,2,    6.300,2,    0.000,2,    0.452,2,    2.477,2,    1.350,2, -999.000,9, -999.000,9, -999.000,9
           NA,    P03C,    269,   1,-999.0,     -99,  2,20051229,0928,  24.2455,  151.2458,  5487,  400.100,   13.832,   34.493,2,   34.490,2,  187.190,1,  200.920,2,   10.930,2,   10.290,2,    0.000,2,    0.738,2,    2.692,2,    1.405,2, -999.000,9, -999.000,9, -999.000,9
           NA,    P03C,    269,   1,-999.0,     -99,  2,20051229,0928,  24.2455,  151.2458,  5487,  500.200,   11.281,   34.309,2,   34.308,6,  173.390,1,  185.550,2,   20.830,2,   16.050,2,    0.000,2,    1.159,2, -999.000,5, -999.000,5, -999.000,9, -999.000,9, -999.000,9
           NA,    P03C,    269,   1,-999.0,     -99,  2,20051229,0928,  24.2455,  151.2458,  5487,  602.000,    8.351,   34.120,2,   34.116,2,  146.550,1,  155.880,2,   38.680,2,   24.200,2,    0.000,2,    1.761,2,    2.256,2,    1.095,2, -999.000,9, -999.000,9, -999.000,9
           NA,    P03C,    269,   1,-999.0,     -99,  2,20051229,0928,  24.2455,  151.2458,  5487,  699.100,    6.316,   34.090,2,   34.091,2,  100.130,1,  106.890,2,   62.500,2,   32.160,2,    0.000,2,    2.354,2,    1.339,2,    0.647,2, -999.000,9, -999.000,9, -999.000,9
           NA,    P03C,    269,   1,-999.0,     -99,  2,20051229,0928,  24.2455,  151.2458,  5487,  798.000,    5.114,   34.159,2,   34.162,2,   65.360,1,   69.610,2,   85.090,2,   37.620,2,    0.000,2,    2.747,2,    0.656,6,    0.323,6, -999.000,9, -999.000,9, -999.000,9
           NA,    P03C,    269,   1,-999.0,     -99,  2,20051229,0928,  24.2455,  151.2458,  5487,  903.000,    4.329,   34.275,2,   34.264,2,   45.750,1,   48.910,2,  102.610,2,   40.490,2,    0.000,2,    2.946,2,    0.256,2,    0.132,2, -999.000,9, -999.000,9, -999.000,9
           NA,    P03C,    269,   1,-999.0,     -99,  2,20051229,0928,  24.2455,  151.2458,  5487, 1000.700,    3.950,   34.346,2,   34.346,6,   42.200,1,   44.850,2,  113.510,2,   41.430,2,    0.000,2,    3.009,2,    0.111,2,    0.055,2, -999.000,9, -999.000,9, -999.000,9
           NA,    P03C,    269,   1,-999.0,     -99,  2,20051229,0928,  24.2455,  151.2458,  5487, 1201.100,    3.334,   34.456,2,   34.456,2,   50.130,1,   53.630,2,  128.050,2,   41.530,2,    0.000,2,    3.010,2,    0.030,2,    0.014,2, -999.000,9, -999.000,9, -999.000,9
           NA,    P03C,    269,   1,-999.0,     -99,  2,20051229,0928,  24.2455,  151.2458,  5487, 1403.200,    2.848,   34.511,2,   34.510,2,   58.900,1,   63.250,2,  138.200,2,   41.280,2,    0.000,2,    2.973,2,    0.014,2,    0.002,2, -999.000,9, -999.000,9, -999.000,9
           NA,    P03C,    269,   1,-999.0,     -99,  2,20051229,0928,  24.2455,  151.2458,  5487, 1602.900,    2.417,   34.557,2,   34.557,2,   70.690,1,   76.110,2,  146.170,2,   40.700,2,    0.000,2,    2.914,2,    0.007,2,    0.001,2, -999.000,9, -999.000,9, -999.000,9
           NA,    P03C,    269,   1,-999.0,     -99,  2,20051229,0928,  24.2455,  151.2458,  5487, 1799.900,    2.115,   34.590,2,   34.590,2,   80.410,1,   86.840,2,  151.250,2,   40.140,2,    0.000,2,    2.868,2,    0.004,2,    0.000,2, -999.000,9, -999.000,9, -999.000,9
           NA,    P03C,    269,   1,-999.0,     -99,  2,20051229,0928,  24.2455,  151.2458,  5487, 2002.700,    1.939,   34.610,2,   34.610,2,   86.920,1,   94.020,2,  154.690,2,   39.870,2,    0.000,2,    2.840,2,    0.004,2,    0.001,2, -999.000,9, -999.000,9, -999.000,9
           NA,    P03C,    269,   1,-999.0,     -99,  2,20051229,0928,  24.2455,  151.2458,  5487, 2203.000,    1.809,   34.631,2,   34.631,6,   99.970,1,  108.590,2, -999.000,3,   38.870,2,    0.000,2,    2.761,2,    0.000,2,    0.000,2, -999.000,9, -999.000,9, -999.000,9
           NA,    P03C,    269,   1,-999.0,     -99,  2,20051229,0928,  24.2455,  151.2458,  5487, 2401.100,    1.719,   34.644,2,   34.644,2,  107.990,1,  117.360,2,  152.310,2,   38.330,2,    0.000,2,    2.717,2,    0.002,2,    0.000,2, -999.000,9, -999.000,9, -999.000,9
           NA,    P03C,    269,   1,-999.0,     -99,  2,20051229,0928,  24.2455,  151.2458,  5487, 2602.400,    1.643,   34.654,2,   34.654,2,  114.090,1,  124.030,2,  152.580,2,   37.920,2,    0.000,2,    2.694,2,    0.000,2,    0.000,2, -999.000,9, -999.000,9, -999.000,9
           NA,    P03C,    269,   1,-999.0,     -99,  2,20051229,0928,  24.2455,  151.2458,  5487, 2801.100,    1.590,   34.662,2,   34.662,2,  119.750,1,  130.410,2,  151.200,2,   37.560,2,    0.000,2,    2.643,2, -999.000,9, -999.000,9, -999.000,9, -999.000,9, -999.000,9
           NA,    P03C,    269,   1,-999.0,     -99,  2,20051229,0928,  24.2455,  151.2458,  5487, 2999.300,    1.561,   34.667,2,   34.667,2,  123.370,1,  134.620,2,  150.830,2,   37.340,2,    0.000,2,    2.630,2, -999.000,9, -999.000,9, -999.000,9, -999.000,9, -999.000,9
           NA,    P03C,    269,   1,-999.0,     -99,  2,20051229,0928,  24.2455,  151.2458,  5487, 3254.300,    1.518,   34.673,2,   34.674,6,  128.890,1,  140.430,2,  149.950,2,   36.910,2,    0.000,2,    2.594,2,    0.002,2,    0.000,2, -999.000,9, -999.000,9, -999.000,9
           NA,    P03C,    269,   1,-999.0,     -99,  2,20051229,0928,  24.2455,  151.2458,  5487, 3499.600,    1.488,   34.679,2,   34.679,2,  133.860,1,  145.750,2,  148.760,2,   36.490,2,    0.000,2,    2.568,2, -999.000,9, -999.000,9, -999.000,9, -999.000,9, -999.000,9
           NA,    P03C,    269,   1,-999.0,     -99,  2,20051229,0928,  24.2455,  151.2458,  5487, 3748.800,    1.469,   34.683,2,   34.683,2,  138.540,1,  150.850,2,  147.360,2,   36.190,2,    0.000,2,    2.545,2, -999.000,9, -999.000,9, -999.000,9, -999.000,9, -999.000,9
           NA,    P03C,    269,   1,-999.0,     -99,  2,20051229,0928,  24.2455,  151.2458,  5487, 3999.500,    1.455,   34.686,2,   34.687,2,  142.770,1,  154.860,2,  146.010,2,   35.890,2,    0.000,2,    2.524,2,    0.006,2,    0.000,2, -999.000,9, -999.000,9, -999.000,9
           NA,    P03C,    269,   1,-999.0,     -99,  2,20051229,0928,  24.2455,  151.2458,  5487, 4250.300,    1.450,   34.689,2,   34.689,6,  147.080,1,  159.250,2,  143.850,2,   35.600,2,    0.000,2,    2.500,2, -999.000,9, -999.000,9, -999.000,9, -999.000,9, -999.000,9
           NA,    P03C,    269,   1,-999.0,     -99,  2,20051229,0928,  24.2455,  151.2458,  5487, 4499.200,    1.456,   34.691,2,   34.692,2,  150.160,1,  162.090,2,  142.820,2,   35.380,2,    0.000,2,    2.482,2, -999.000,9, -999.000,9, -999.000,9, -999.000,9, -999.000,9
           NA,    P03C,    269,   1,-999.0,     -99,  2,20051229,0928,  24.2455,  151.2458,  5487, 4750.000,    1.470,   34.693,2,   34.693,2,  152.950,1,  164.460,2,  141.360,2,   35.240,2,    0.000,2,    2.474,2,    0.004,2,    0.002,2, -999.000,9, -999.000,9, -999.000,9
           NA,    P03C,    269,   1,-999.0,     -99,  2,20051229,0928,  24.2455,  151.2458,  5487, 4998.400,    1.480,   34.695,2,   34.695,2,  157.180,1,  168.030,2,  138.450,2,   34.980,2,    0.000,2,    2.453,2, -999.000,9, -999.000,9, -999.000,9, -999.000,9, -999.000,9
           NA,    P03C,    269,   1,-999.0,     -99,  2,20051229,0928,  24.2455,  151.2458,  5487, 5000.600,    1.480,   34.694,2,   34.695,2,  157.150,1,  168.230,2,  138.650,2,   34.990,2,    0.000,2,    2.454,2, -999.000,9, -999.000,9, -999.000,9, -999.000,9, -999.000,9
           NA,    P03C,    269,   1,-999.0,     -99,  2,20051229,0928,  24.2455,  151.2458,  5487, 5250.300,    1.493,   34.696,2,   34.697,2,  161.080,1,  171.530,2,  136.050,2,   34.720,2,    0.000,2,    2.432,2, -999.000,9, -999.000,9, -999.000,9, -999.000,9, -999.000,9
           NA,    P03C,    269,   1,-999.0,     -99,  2,20051229,0928,  24.2455,  151.2458,  5487, 5573.400,    1.517,   34.698,2,   34.699,6,  165.450,1,  174.430,2,  134.410,2,   34.560,2,    0.000,2,    2.423,2,    0.006,2,    0.004,2, -999.000,9, -999.000,9, -999.000,9