BOTTLE,20211903JOAExport
EXPOCODE,SECT_ID,STNNBR,CASTNO,SAMPNO,BTLNBR,BTLNBR_FLAG_W,DATE,TIME,LATITUDE,LONGITUDE,DEPTH,CTDPRS,CTDTMP,CTDSAL,CTDSAL_FLAG_W,SALNTY,SALNTY_FLAG_W,CTDOXY,CTDOXY_FLAG_W,OXYGEN,OXYGEN_FLAG_W,SILCAT,SILCAT_FLAG_W,NITRAT,NITRAT_FLAG_W,NITRIT,NITRIT_FLAG_W,PHSPHT,PHSPHT_FLAG_W,CFC-11,CFC-11_FLAG_W,CFC-12,CFC-12_FLAG_W,SF6,SF6_FLAG_W,TCARBN,TCARBN_FLAG_W,ALKALI,ALKALI_FLAG_W
,,,,,,,,,,,,DB,ITS-90,PSS-78,,PSS-78,,UMOL/KG,,UMOL/KG,,UMOL/KG,,UMOL/KG,,UMOL/KG,,UMOL/KG,,PMOL/KG,,PMOL/KG,,FMOL/KG,,UMOL/KG,,UMOL/KG
           NA,    P03E,    118,   1,-999.0,     -99,  2,20051117,1832,  24.2767, -157.4922,  4483,   10.000,   24.921,   35.397,2,   35.397,2,  193.380,1,  209.750,2,    1.080,2,    0.030,2,    0.000,2,    0.027,2,    1.652,2,    1.023,2, -999.000,9, 1992.300,2, 2326.200,2
           NA,    P03E,    118,   1,-999.0,     -99,  2,20051117,1832,  24.2767, -157.4922,  4483,   50.200,   24.905,   35.396,2,   35.396,2,  192.890,1,  209.800,2,    1.060,2,   -0.010,2,    0.000,2,    0.040,2,    1.661,2,    1.023,2, -999.000,9, 1991.100,2, 2325.800,2
           NA,    P03E,    118,   1,-999.0,     -99,  2,20051117,1832,  24.2767, -157.4922,  4483,   98.800,   20.635,   35.012,2,   35.014,2,  218.850,1,  236.450,2,    2.210,2,    0.110,2,    0.010,2,    0.068,2,    2.162,2,    1.296,2, -999.000,9, 2009.100,6, 2298.700,2
           NA,    P03E,    118,   1,-999.0,     -99,  2,20051117,1832,  24.2767, -157.4922,  4483,  150.000,   18.252,   34.922,2,   34.910,2,  189.810,1,  205.720,2,    3.060,2,    2.480,2,    0.020,2,    0.252,2, -999.000,4, -999.000,4, -999.000,9, 2038.900,2, 2291.500,2
           NA,    P03E,    118,   1,-999.0,     -99,  2,20051117,1832,  24.2767, -157.4922,  4483,  199.000,   16.204,   34.684,2,   34.682,2,  191.680,1,  207.170,2,    4.790,2,    4.810,2,    0.010,2,    0.401,2,    2.454,2,    1.437,2, -999.000,9, 2047.100,2, 2284.800,2
           NA,    P03E,    118,   1,-999.0,     -99,  2,20051117,1832,  24.2767, -157.4922,  4483,  249.500,   14.200,   34.452,2,   34.453,2,  193.050,1,  208.740,2,    7.370,2,    7.690,2,    0.010,2,    0.604,2,    2.652,6,    1.524,6, -999.000,9, 2060.500,2, -999.000,4
           NA,    P03E,    118,   1,-999.0,     -99,  2,20051117,1832,  24.2767, -157.4922,  4483,  299.500,   12.554,   34.340,2,   34.340,2,  194.170,1,  209.700,2,   11.450,2,   10.880,2,    0.000,2,    0.814,2,    2.783,2,    1.563,2, -999.000,9, 2076.200,2, 2267.100,2
           NA,    P03E,    118,   1,-999.0,     -99,  2,20051117,1832,  24.2767, -157.4922,  4483,  401.200,    9.951,   34.164,2,   34.162,2,  178.460,1,  192.140,2,   22.270,2,   17.580,2,    0.000,2,    1.283,2,    2.800,2,    1.499,2, -999.000,9, 2120.400,2, 2262.200,2
           NA,    P03E,    118,   1,-999.0,     -99,  2,20051117,1832,  24.2767, -157.4922,  4483,  499.200,    7.835,   34.060,2,   34.060,6,  136.780,1,  146.620,2,   39.200,2,   26.060,2,    0.000,2,    1.879,2,    2.274,2,    1.134,2, -999.000,9, 2179.500,2, 2266.000,2
           NA,    P03E,    118,   1,-999.0,     -99,  2,20051117,1832,  24.2767, -157.4922,  4483,  599.900,    5.985,   34.053,2,   34.052,2,   78.690,1,   84.780,2,   63.830,2,   34.960,2,    0.000,2,    2.544,2,    1.061,2,    0.522,2, -999.000,9, 2251.200,2, 2294.200,2
           NA,    P03E,    118,   1,-999.0,     -99,  2,20051117,1832,  24.2767, -157.4922,  4483,  698.700,    5.230,   34.146,2,   34.149,2,   38.680,1,   40.520,2,   82.200,2,   40.060,2,    0.000,2,    2.941,2,    0.294,2,    0.156,2, -999.000,9, 2301.300,6, 2310.900,2
           NA,    P03E,    118,   1,-999.0,     -99,  2,20051117,1832,  24.2767, -157.4922,  4483,  799.600,    4.732,   34.323,2,   34.322,2,   24.980,1,   26.910,2,   96.530,2,   42.020,2,    0.000,2,    3.094,2,    0.054,6,    0.029,6, -999.000,9, 2330.100,2, 2338.900,6
           NA,    P03E,    118,   1,-999.0,     -99,  2,20051117,1832,  24.2767, -157.4922,  4483,  900.200,    4.448,   34.410,2,   34.409,2,   29.750,1,   31.990,2,  102.890,2,   42.360,2,    0.000,2,    3.101,2,    0.023,2,    0.009,2, -999.000,9, 2337.300,2, 2355.500,2
           NA,    P03E,    118,   1,-999.0,     -99,  2,20051117,1832,  24.2767, -157.4922,  4483, 1001.100,    4.058,   34.455,2,   34.455,6,   36.490,1,   39.450,2,  110.930,2,   42.350,2,    0.000,2,    3.091,2,    0.014,2,    0.008,2, -999.000,9, -999.000,3, 2365.900,2
           NA,    P03E,    118,   1,-999.0,     -99,  2,20051117,1832,  24.2767, -157.4922,  4483, 1201.100,    3.474,   34.519,2,   34.519,2,   47.910,1,   51.780,2,  122.970,2,   42.110,2,    0.000,2,    3.052,2,    0.002,2,    0.000,2, -999.000,9, 2350.000,2, 2382.100,2
           NA,    P03E,    118,   1,-999.0,     -99,  2,20051117,1832,  24.2767, -157.4922,  4483, 1398.400,    2.996,   34.547,2,   34.547,2,   56.540,1,   61.020,2,  134.320,2,   41.800,2,    0.000,2,    3.006,2,    0.003,2,    0.004,2, -999.000,9, 2352.700,2, 2391.900,2
           NA,    P03E,    118,   1,-999.0,     -99,  2,20051117,1832,  24.2767, -157.4922,  4483, 1601.900,    2.589,   34.578,2,   34.578,2,   65.680,1,   71.220,2,  143.670,2,   41.280,2,    0.000,2,    2.956,2,    0.002,2,    0.000,2, -999.000,9, 2357.900,2, 2408.600,2
           NA,    P03E,    118,   1,-999.0,     -99,  2,20051117,1832,  24.2767, -157.4922,  4483, 1802.100,    2.310,   34.599,2,   34.599,6,   72.630,1,   78.810,2,  150.990,2,   40.800,2,    0.000,2,    2.919,2,    0.000,2,    0.000,2, -999.000,9, 2361.000,2, 2411.900,2
           NA,    P03E,    118,   1,-999.0,     -99,  2,20051117,1832,  24.2767, -157.4922,  4483, 1999.800,    2.069,   34.617,2,   34.617,2,   79.570,1,   86.550,2,  156.990,2,   40.490,2,    0.000,2,    2.878,2,    0.000,2,    0.000,2, -999.000,9, 2361.000,2, 2415.000,2
           NA,    P03E,    118,   1,-999.0,     -99,  2,20051117,1832,  24.2767, -157.4922,  4483, 2201.000,    1.920,   34.630,2,   34.630,2,   85.710,1,   93.400,2,  160.440,2,   40.120,2,    0.010,2,    2.846,2, -999.000,9, -999.000,9, -999.000,9, 2359.900,2, 2419.800,2
           NA,    P03E,    118,   1,-999.0,     -99,  2,20051117,1832,  24.2767, -157.4922,  4483, 2401.900,    1.768,   34.643,2,   34.643,2,   93.620,1,  101.850,2,  163.560,2,   39.550,2,    0.000,2,    2.790,2, -999.000,9, -999.000,9, -999.000,9, 2358.000,6, 2418.100,2
           NA,    P03E,    118,   1,-999.0,     -99,  2,20051117,1832,  24.2767, -157.4922,  4483, 2601.100,    1.653,   34.655,2,   34.655,6,  103.030,1,  112.210,2,  163.420,2,   38.840,2,    0.000,2,    2.735,2,    0.000,2,    0.000,2, -999.000,9, 2352.700,2, 2422.500,6
           NA,    P03E,    118,   1,-999.0,     -99,  2,20051117,1832,  24.2767, -157.4922,  4483, 2800.300,    1.582,   34.663,2,   34.664,2,  110.440,1,  120.290,2,  162.530,2,   38.390,2,    0.000,2,    2.698,2, -999.000,9, -999.000,9, -999.000,9, 2349.600,2, 2424.900,2
           NA,    P03E,    118,   1,-999.0,     -99,  2,20051117,1832,  24.2767, -157.4922,  4483, 3001.300,    1.535,   34.670,2,   34.670,2,  116.260,1,  126.790,2,  161.840,2,   38.000,2,    0.000,2,    2.669,2, -999.000,9, -999.000,9, -999.000,9, 2344.500,2, 2424.600,2
           NA,    P03E,    118,   1,-999.0,     -99,  2,20051117,1832,  24.2767, -157.4922,  4483, 3250.300,    1.496,   34.675,2,   34.676,2,  122.820,1,  133.700,2,  160.030,2,   37.570,2,    0.000,2,    2.622,2, -999.000,9, -999.000,9, -999.000,9, 2339.700,2, 2419.800,2
           NA,    P03E,    118,   1,-999.0,     -99,  2,20051117,1832,  24.2767, -157.4922,  4483, 3498.600,    1.475,   34.680,2,   34.680,2,  128.270,1,  139.290,2,  158.350,2,   37.060,2,    0.000,2,    2.597,2,    0.002,2,    0.000,2, -999.000,9, 2335.900,2, 2426.300,2
           NA,    P03E,    118,   1,-999.0,     -99,  2,20051117,1832,  24.2767, -157.4922,  4483, 3748.500,    1.453,   34.684,2,   34.684,6,  134.550,1,  145.890,2,  155.480,2,   36.700,2,    0.000,2,    2.565,2, -999.000,9, -999.000,9, -999.000,9, 2330.100,2, 2422.000,2
           NA,    P03E,    118,   1,-999.0,     -99,  2,20051117,1832,  24.2767, -157.4922,  4483, 3999.500,    1.461,   34.686,2,   34.686,2,  137.480,1,  148.480,2,  153.940,2,   36.490,2,    0.000,2,    2.552,2, -999.000,9, -999.000,9, -999.000,9, 2327.900,2, 2420.000,2
           NA,    P03E,    118,   1,-999.0,     -99,  2,20051117,1832,  24.2767, -157.4922,  4483, 4249.800,    1.472,   34.687,2,   34.688,2,  140.390,1,  151.140,2,  152.680,2,   36.350,2,    0.000,2,    2.537,2, -999.000,9, -999.000,9, -999.000,9, 2326.800,6, 2425.100,2
           NA,    P03E,    118,   1,-999.0,     -99,  2,20051117,1832,  24.2767, -157.4922,  4483, 4538.100,    1.501,   34.688,2,   34.688,6,  142.120,1,  151.830,2,  152.430,2,   36.250,2,    0.000,2,    2.533,2,    0.000,2,    0.003,2, -999.000,9, 2324.300,2, 2419.400,2
           NA,    P03E,    116,   1,-999.0,     -99,  2,20051117,1205,  24.2607, -156.7257,  4404,   50.000,   25.076,   35.351,2,   35.352,2,  192.630,1,  208.820,2,    0.920,2,    0.030,2,    0.010,2,    0.033,2,    1.684,2,    1.019,2, -999.000,9, -999.000,9, -999.000,9
           NA,    P03E,    116,   1,-999.0,     -99,  2,20051117,1205,  24.2607, -156.7257,  4404,  100.500,   21.552,   35.182,2,   35.184,2,  191.530,1,  207.570,2,    1.390,2,    0.130,2,    0.050,2,    0.101,2,    2.028,2,    1.228,2, -999.000,9, -999.000,9, -999.000,9
           NA,    P03E,    116,   1,-999.0,     -99,  2,20051117,1205,  24.2607, -156.7257,  4404,  150.400,   18.674,   34.935,2,   34.934,2,  190.190,1,  205.190,2,    2.660,2,    2.020,2,    0.030,2,    0.225,2,    2.294,2,    1.327,2, -999.000,9, -999.000,9, -999.000,9
           NA,    P03E,    116,   1,-999.0,     -99,  2,20051117,1205,  24.2607, -156.7257,  4404,  199.200,   15.751,   34.611,2,   34.611,2,  196.720,1,  212.760,2,    4.890,2,    4.580,2,    0.020,2,    0.389,2,    2.590,2,    1.457,2, -999.000,9, -999.000,9, -999.000,9
           NA,    P03E,    116,   1,-999.0,     -99,  2,20051117,1205,  24.2607, -156.7257,  4404,  249.700,   14.432,   34.515,2,   34.516,2,  205.190,1,  221.140,2,    6.530,2,    6.270,2,    0.020,2,    0.481,2,    2.715,6,    1.516,6, -999.000,9, -999.000,9, -999.000,9
           NA,    P03E,    116,   1,-999.0,     -99,  2,20051117,1205,  24.2607, -156.7257,  4404,  300.900,   12.831,   34.361,2,   34.364,2,  200.090,1,  216.210,2,    9.830,2,    9.650,2,    0.010,2,    0.712,2,    2.884,2,    1.571,2, -999.000,9, -999.000,9, -999.000,9
           NA,    P03E,    116,   1,-999.0,     -99,  2,20051117,1205,  24.2607, -156.7257,  4404,  404.200,   10.420,   34.189,2,   34.192,2,  187.060,1,  201.310,2,   18.810,2,   15.720,2,    0.010,2,    1.127,2,    2.976,2,    1.539,2, -999.000,9, -999.000,9, -999.000,9
           NA,    P03E,    116,   1,-999.0,     -99,  2,20051117,1205,  24.2607, -156.7257,  4404,  499.900,    7.870,   34.062,2,   34.062,6,  139.690,1,  150.320,2,   38.310,2,   25.580,2,    0.010,2,    1.828,2,    2.342,2,    1.126,2, -999.000,9, -999.000,9, -999.000,9
           NA,    P03E,    116,   1,-999.0,     -99,  2,20051117,1205,  24.2607, -156.7257,  4404,  600.700,    5.922,   34.052,2,   34.052,2,   82.210,1,   88.400,2,   64.830,2,   34.680,2,    0.010,2,    2.516,2,    1.155,2,    0.520,2, -999.000,9, -999.000,9, -999.000,9
           NA,    P03E,    116,   1,-999.0,     -99,  2,20051117,1205,  24.2607, -156.7257,  4404,  701.500,    4.884,   34.134,2,   34.134,2,   47.290,1,   50.940,2,   86.980,2,   39.600,2,    0.010,2,    2.887,2,    0.485,2,    0.225,2, -999.000,9, -999.000,9, -999.000,9
           NA,    P03E,    116,   1,-999.0,     -99,  2,20051117,1205,  24.2607, -156.7257,  4404,  799.800,    4.340,   34.249,2,   34.247,2,   26.410,1,   28.430,2,  103.300,2,   42.320,2,    0.010,2,    3.082,2,    0.122,6,    0.060,6, -999.000,9, -999.000,9, -999.000,9
           NA,    P03E,    116,   1,-999.0,     -99,  2,20051117,1205,  24.2607, -156.7257,  4404,  902.500,    4.095,   34.387,2,   34.387,2,   26.530,1,   28.460,2,  110.590,2,   42.800,2,    0.010,2,    3.129,2,    0.023,2,    0.009,2, -999.000,9, -999.000,9, -999.000,9
           NA,    P03E,    116,   1,-999.0,     -99,  2,20051117,1205,  24.2607, -156.7257,  4404, 1002.800,    3.767,   34.445,2,   34.445,6,   31.360,1,   33.480,2,  118.230,2,   42.930,2,    0.010,2,    3.125,2,    0.007,2,    0.000,2, -999.000,9, -999.000,9, -999.000,9
           NA,    P03E,    116,   1,-999.0,     -99,  2,20051117,1205,  24.2607, -156.7257,  4404, 1200.100,    3.301,   34.521,2,   34.521,2,   48.680,1,   52.630,2,  126.580,2,   42.050,2,    0.010,2,    3.050,2,    0.000,2,    0.001,2, -999.000,9, -999.000,9, -999.000,9
           NA,    P03E,    116,   1,-999.0,     -99,  2,20051117,1205,  24.2607, -156.7257,  4404, 1401.400,    2.918,   34.556,2,   34.556,2,   58.390,1,   63.130,2,  135.010,2,   41.670,2,    0.010,2,    3.001,2,    0.000,2,    0.000,2, -999.000,9, -999.000,9, -999.000,9
           NA,    P03E,    116,   1,-999.0,     -99,  2,20051117,1205,  24.2607, -156.7257,  4404, 1600.700,    2.599,   34.579,2,   34.580,2,   65.800,1,   71.600,2,  142.720,2,   41.150,2,    0.010,2,    2.955,2,    0.000,2,    0.001,2, -999.000,9, -999.000,9, -999.000,9
           NA,    P03E,    116,   1,-999.0,     -99,  2,20051117,1205,  24.2607, -156.7257,  4404, 1801.400,    2.329,   34.597,2,   34.598,2,   70.920,1,   77.110,2,  150.000,2,   40.930,2,    0.010,2,    2.932,2,    0.000,2,    0.001,2, -999.000,9, -999.000,9, -999.000,9
           NA,    P03E,    116,   1,-999.0,     -99,  2,20051117,1205,  24.2607, -156.7257,  4404, 2000.100,    2.077,   34.615,2,   34.616,6,   78.280,1,   85.070,2,  156.480,2,   40.500,2,    0.010,2,    2.874,2,    0.000,2,    0.000,2, -999.000,9, -999.000,9, -999.000,9
           NA,    P03E,    116,   1,-999.0,     -99,  2,20051117,1205,  24.2607, -156.7257,  4404, 2201.800,    1.897,   34.633,2,   34.633,2,   87.490,1,   95.230,2,  159.840,2,   39.830,2,    0.010,2,    2.814,2, -999.000,9, -999.000,9, -999.000,9, -999.000,9, -999.000,9
           NA,    P03E,    116,   1,-999.0,     -99,  2,20051117,1205,  24.2607, -156.7257,  4404, 2401.300,    1.771,   34.644,2,   34.644,2,   94.410,1,  102.520,2,  161.970,2,   39.420,2,    0.010,2,    2.788,2, -999.000,9, -999.000,9, -999.000,9, -999.000,9, -999.000,9
           NA,    P03E,    116,   1,-999.0,     -99,  2,20051117,1205,  24.2607, -156.7257,  4404, 2601.700,    1.664,   34.655,2,   34.655,2,  102.660,1,  111.690,2,  162.300,2,   38.830,2,    0.010,2,    2.742,2, -999.000,9, -999.000,9, -999.000,9, -999.000,9, -999.000,9
           NA,    P03E,    116,   1,-999.0,     -99,  2,20051117,1205,  24.2607, -156.7257,  4404, 2802.500,    1.596,   34.662,2,   34.662,6,  109.550,1,  119.160,2,  162.030,2,   38.320,2,    0.010,2,    2.697,2,    0.002,2,    0.000,2, -999.000,9, -999.000,9, -999.000,9
           NA,    P03E,    116,   1,-999.0,     -99,  2,20051117,1205,  24.2607, -156.7257,  4404, 3001.700,    1.543,   34.669,2,   34.669,2,  116.030,1,  126.130,2,  160.750,2,   37.990,2,    0.010,2,    2.662,2, -999.000,9, -999.000,9, -999.000,9, -999.000,9, -999.000,9
           NA,    P03E,    116,   1,-999.0,     -99,  2,20051117,1205,  24.2607, -156.7257,  4404, 3251.500,    1.500,   34.675,2,   34.675,2,  122.830,1,  133.320,2,  158.990,2,   37.400,2,    0.010,2,    2.624,2, -999.000,9, -999.000,9, -999.000,9, -999.000,9, -999.000,9
           NA,    P03E,    116,   1,-999.0,     -99,  2,20051117,1205,  24.2607, -156.7257,  4404, 3500.400,    1.477,   34.679,2,   34.679,2,  128.660,1,  139.380,2,  157.060,2,   36.940,2,    0.010,2,    2.589,2, -999.000,9, -999.000,9, -999.000,9, -999.000,9, -999.000,9
           NA,    P03E,    116,   1,-999.0,     -99,  2,20051117,1205,  24.2607, -156.7257,  4404, 3751.400,    1.460,   34.683,2,   34.683,6,  134.290,1,  145.180,2,  154.550,2,   36.630,2,    0.010,2,    2.566,2,    0.010,2,    0.000,2, -999.000,9, -999.000,9, -999.000,9
           NA,    P03E,    116,   1,-999.0,     -99,  2,20051117,1205,  24.2607, -156.7257,  4404, 4000.600,    1.465,   34.685,2,   34.685,2,  137.680,1,  148.230,2,  153.390,2,   36.500,2,    0.010,2,    2.548,2, -999.000,9, -999.000,9, -999.000,9, -999.000,9, -999.000,9
           NA,    P03E,    116,   1,-999.0,     -99,  2,20051117,1205,  24.2607, -156.7257,  4404, 4252.800,    1.481,   34.687,2,   34.686,2,  139.950,1,  149.840,2,  152.540,2,   36.250,2,    0.010,2,    2.532,2, -999.000,9, -999.000,9, -999.000,9, -999.000,9, -999.000,9
           NA,    P03E,    116,   1,-999.0,     -99,  2,20051117,1205,  24.2607, -156.7257,  4404, 4423.800,    1.481,   34.688,2,   34.688,6,  143.280,1,  152.630,2,  150.980,2,   36.110,2,    0.010,2,    2.530,2,    0.000,2,    0.001,2, -999.000,9, -999.000,9, -999.000,9