BOTTLE,20220207CCHSIOENA
EXPOCODE,SECT_ID,STNNBR,CASTNO,SAMPNO,BTLNBR,BTLNBR_FLAG_W,DATE,TIME,LATITUDE,LONGITUDE,DEPTH,CTDPRS,CTDTMP,CTDSAL,CTDSAL_FLAG_W,CTDOXY,CTDOXY_FLAG_W,OXYGEN,OXYGEN_FLAG_W,SILCAT,SILCAT_FLAG_W,NITRAT,NITRAT_FLAG_W,NITRIT,NITRIT_FLAG_W,PHSPHT,PHSPHT_FLAG_W,ALKALI,ALKALI_FLAG_W,PH_SWS,PH_SWS_FLAG_W,PH_TMP
,,,,,,,,,,,METERS,DBAR,ITS-90,PSS-78,,UMOL/KG,,UMOL/KG,,UMOL/KG,,UMOL/KG,,UMOL/KG,,UMOL/KG,,UMOL/KG,,,,DEG C
  29HE20100208,   A21,    45,  1,      1,      1,2,20100305,   0,-39.0000,   7.0305, 5256,   5371.4,   1.1809,  34.7356,2,    218.6,2,    216.2,2,   106.98,2,    31.31,2,     0.07,2,     2.02,2,   2368.2,2,   7.6277,2,    25.00
  29HE20100208,   A21,    45,  1,      2,      2,2,20100305,   0,-39.0000,   7.0305, 5256,   4997.7,   1.1479,  34.7375,2,    218.7,2,    216.8,2,   106.53,2,    31.39,2,     0.06,2,     2.01,2,   2368.8,2,   7.6360,2,    25.00
  29HE20100208,   A21,    45,  1,      3,      3,2,20100305,   0,-39.0000,   7.0305, 5256,   4499.3,   1.1773,  34.7454,2,    216.8,2,    217.9,2,   103.64,2,    30.93,2,     0.06,2,     1.98,2,   2367.4,2,   7.6360,2,    25.00
  29HE20100208,   A21,    45,  1,      4,      4,2,20100305,   0,-39.0000,   7.0305, 5256,   4000.8,   1.5689,  34.7832,2,    220.2,2,    219.4,2,    88.54,2,    29.05,2,     0.06,2,     1.88,2,   2362.6,2,   7.6529,2,    25.00
  29HE20100208,   A21,    45,  1,      5,      5,2,20100305,   0,-39.0000,   7.0305, 5256,   3498.3,   2.1636,  34.8398,2,    225.5,2,    226.8,2,    64.74,2,    26.26,2,     0.06,2,     1.69,2,   2350.9,2,   7.6805,2,    25.00
  29HE20100208,   A21,    45,  1,      6,      6,2,20100305,   0,-39.0000,   7.0305, 5256,   2999.8,   2.4061,  34.8450,2,    224.1,2,    224.4,2,    58.32,2,    25.92,2,     0.06,2,     1.67,2,   2343.0,2,   7.6810,2,    25.00
  29HE20100208,   A21,    45,  1,      7,      7,2,20100305,   0,-39.0000,   7.0305, 5256,   2750.3,   2.5001,  34.8407,2,    221.4,2,    222.8,2,    56.69,2,    26.11,2,     0.06,2,     1.68,2,   2341.4,2,   7.6800,2,    25.00
  29HE20100208,   A21,    45,  1,      8,      8,2,20100305,   0,-39.0000,   7.0305, 5256,   2501.0,   2.6109,  34.8288,2,    216.3,2,    219.4,2,    56.04,2,    26.78,2,     0.06,2,     1.71,2,   2338.9,2,   7.6675,2,    25.00
  29HE20100208,   A21,    45,  1,      9,      9,2,20100305,   0,-39.0000,   7.0305, 5256,   2249.5,   2.7340,  34.8078,2,    208.4,2,    209.2,2,    56.03,2,    27.71,2,     0.06,2,     1.77,2,   2338.3,2,   7.6542,2,    25.00
  29HE20100208,   A21,    45,  1,     10,     10,2,20100305,   0,-39.0000,   7.0305, 5256,   2001.0,   2.8040,  34.7559,2,    195.8,2,    196.2,2,    60.23,2,    29.65,2,     0.06,2,     1.90,2,   2337.7,2,   7.6278,2,    25.00
  29HE20100208,   A21,    45,  1,     11,     11,2,20100305,   0,-39.0000,   7.0305, 5256,   1752.2,   2.8707,  34.6696,2,    182.1,2,    181.2,2,    65.03,2,    32.22,2,     0.06,2,     2.06,2,   2337.4,2,   7.5937,2,    25.00
  29HE20100208,   A21,    45,  1,     12,     12,2,20100305,   0,-39.0000,   7.0305, 5256,   1499.7,   3.0659,  34.5389,2,    177.2,2,    175.6,2,    62.35,2,    34.13,2,     0.06,2,     2.18,2,   2329.4,2,   7.5729,2,    25.00
  29HE20100208,   A21,    45,  1,     13,     13,2,20100305,   0,-39.0000,   7.0305, 5256,   1250.5,   3.4047,  34.3523,2,    203.9,2,    202.9,2,    43.41,2,    33.08,2,     0.06,2,     2.11,2,   2306.3,2,   7.5959,2,    25.00
  29HE20100208,   A21,    45,  1,     14,     14,2,20100305,   0,-39.0000,   7.0305, 5256,   1001.0,   4.7460,  34.3049,2,    225.0,2,    223.2,2,    23.95,2,    29.40,2,     0.06,2,     1.88,2,   2291.4,2,   7.6432,2,    25.00
  29HE20100208,   A21,    45,  1,     15,     15,2,20100305,   0,-39.0000,   7.0305, 5256,    902.9,   5.4327,  34.3219,2,    226.0,2,    225.6,2,    18.07,2,    27.84,2,     0.06,2,     1.78,2,   2285.4,2,   7.6572,2,    25.00
  29HE20100208,   A21,    45,  1,     16,     16,2,20100305,   0,-39.0000,   7.0305, 5256,    802.4,   7.0406,  34.4566,2,    219.9,2,    217.7,2,    13.82,2,    24.35,2,     0.06,2,     1.59,2,   2288.4,2,   7.6881,2,    25.00
  29HE20100208,   A21,    45,  1,     17,     17,2,20100305,   0,-39.0000,   7.0305, 5256,    601.7,  10.6409,  34.8653,2,    223.1,2,    220.9,2,     6.84,2,    15.15,2,     0.06,2,     1.10,2,   2301.1,2,   7.7888,2,    25.00
  29HE20100208,   A21,    45,  1,     18,     18,2,20100305,   0,-39.0000,   7.0305, 5256,    400.2,  13.5358,  35.3271,2,    244.2,2,    241.0,2,     4.64,2,     7.13,2,     0.08,2,     0.70,2,   2321.1,2,   7.8960,2,    25.00
  29HE20100208,   A21,    45,  1,     19,     19,2,20100305,   0,-39.0000,   7.0305, 5256,    264.6,  14.7183,  35.3945,2,    211.2,2,    209.6,2,  -999.00,9,  -999.00,9,  -999.00,9,  -999.00,9,   2323.0,2,-999.0000,9,  -999.00
  29HE20100208,   A21,    45,  1,     20,     20,2,20100305,   0,-39.0000,   7.0305, 5256,    150.8,  16.5750,  35.6221,2,    235.8,2,    232.0,2,     3.89,2,     2.08,2,     0.76,2,     0.46,2,   2332.8,2,   7.9619,2,    25.00
  29HE20100208,   A21,    45,  1,     21,     21,2,20100305,   0,-39.0000,   7.0305, 5256,    100.3,  16.5779,  35.6214,2,    237.5,2,    232.8,2,     3.93,2,     1.86,2,     0.87,2,     0.45,2,   2331.9,2,   7.9633,2,    25.00
  29HE20100208,   A21,    45,  1,     22,     22,2,20100305,   0,-39.0000,   7.0305, 5256,     49.7,  16.6192,  35.5980,2,    245.2,2,    244.0,2,     3.63,2,     1.24,2,     0.62,2,     0.42,2,   2332.2,2,   7.9633,2,    25.00
  29HE20100208,   A21,    45,  1,     23,     23,2,20100305,   0,-39.0000,   7.0305, 5256,     26.6,  17.1111,  35.6177,2,    252.8,2,    249.5,2,     3.71,2,     0.77,2,     0.26,2,     0.38,2,   -999.0,9,-999.0000,9,  -999.00
  29HE20100208,   A21,    45,  1,     24,     24,2,20100305,   0,-39.0000,   7.0305, 5256,     12.1,  17.1242,  35.6208,2,    253.2,2,    238.0,3,     4.17,2,     0.63,2,     0.15,2,     0.37,2,   2334.5,2,   7.9858,2,    25.00
  29HE20100208,   A21,    46,  1,      1,      1,2,20100305,   0,-38.9995,   8.0512, 5276,   5386.3,   1.1758,  34.7349,2,    218.9,2,    216.8,2,   107.29,2,    31.65,2,     0.07,2,     2.11,2,   2369.8,2,   7.6336,2,    25.00
  29HE20100208,   A21,    46,  1,      2,      2,2,20100305,   0,-38.9995,   8.0512, 5276,   5000.5,   1.1412,  34.7368,2,    218.7,2,    218.8,2,   106.08,2,    31.70,2,     0.06,2,     2.10,2,   2367.9,2,   7.6255,2,    25.00
  29HE20100208,   A21,    46,  1,      3,      3,2,20100305,   0,-38.9995,   8.0512, 5276,   4500.8,   1.1832,  34.7460,2,    219.1,2,    222.8,2,   102.67,2,    31.07,2,     0.06,2,     2.07,2,   2366.9,2,   7.6416,2,    25.00
  29HE20100208,   A21,    46,  1,      4,      4,2,20100305,   0,-38.9995,   8.0512, 5276,   3995.4,   1.5896,  34.7847,2,    219.4,2,    226.9,2,    87.80,2,    29.37,2,     0.06,2,     1.94,2,   2359.8,2,   7.6538,2,    25.00
  29HE20100208,   A21,    46,  1,      5,      5,2,20100305,   0,-38.9995,   8.0512, 5276,   3497.8,   2.1198,  34.8358,2,    225.6,2,    228.0,2,    66.74,2,    26.86,2,     0.06,2,     1.75,2,   2350.5,2,   7.6841,2,    25.00
  29HE20100208,   A21,    46,  1,      6,      6,2,20100305,   0,-38.9995,   8.0512, 5276,   2995.7,   2.3693,  34.8455,2,    223.6,2,    228.6,2,    58.95,2,    26.26,2,     0.06,2,     1.73,2,   2343.4,2,   7.6819,2,    25.00
  29HE20100208,   A21,    46,  1,      7,      7,2,20100305,   0,-38.9995,   8.0512, 5276,   2750.4,   2.4831,  34.8421,2,    221.7,2,    225.9,2,    56.79,2,    26.40,2,     0.06,2,     1.74,2,   2339.3,2,   7.6726,2,    25.00
  29HE20100208,   A21,    46,  1,      8,      8,2,20100305,   0,-38.9995,   8.0512, 5276,   2497.5,   2.5957,  34.8336,2,    217.8,2,    219.1,2,    55.86,2,    26.96,2,     0.06,2,     1.76,2,   2338.3,2,   7.6743,2,    25.00
  29HE20100208,   A21,    46,  1,      9,      9,2,20100305,   0,-38.9995,   8.0512, 5276,   2248.8,   2.6987,  34.8133,2,    210.2,2,    213.5,2,    56.49,2,    27.84,2,     0.06,2,     1.82,2,   2337.7,2,   7.6580,2,    25.00
  29HE20100208,   A21,    46,  1,     10,     10,2,20100305,   0,-38.9995,   8.0512, 5276,   1999.2,   2.7807,  34.7702,2,    198.9,2,    199.2,2,    60.51,2,    29.45,2,     0.06,2,     1.92,2,   2336.4,2,   7.6333,2,    25.00
  29HE20100208,   A21,    46,  1,     11,     11,2,20100305,   0,-38.9995,   8.0512, 5276,   1751.1,   2.7807,  34.6736,2,    186.4,2,    186.1,2,    63.92,2,    32.12,2,     0.06,2,     2.09,2,   2336.4,2,   7.6015,2,    25.00
  29HE20100208,   A21,    46,  1,     12,     12,2,20100305,   0,-38.9995,   8.0512, 5276,   1500.6,   2.8544,  34.5505,2,    182.1,2,    182.1,2,    61.42,2,    34.20,2,     0.07,2,     2.02,2,   2331.6,2,   7.5734,2,    25.00
  29HE20100208,   A21,    46,  1,     13,     13,2,20100305,   0,-38.9995,   8.0512, 5276,   1249.9,   3.4206,  34.4408,2,    186.0,2,    192.3,2,    52.81,2,    34.21,2,     0.06,2,     2.41,2,   2319.2,2,   7.5996,2,    25.00
  29HE20100208,   A21,    46,  1,     14,     14,2,20100305,   0,-38.9995,   8.0512, 5276,    999.2,   4.1370,  34.3353,2,    211.6,2,    210.9,2,    34.88,2,    31.69,2,     0.06,2,     2.06,2,   2302.5,2,   7.6214,2,    25.00
  29HE20100208,   A21,    46,  1,     15,     15,2,20100305,   0,-38.9995,   8.0512, 5276,    901.4,   4.5959,  34.2955,2,    225.2,2,    223.8,2,    25.27,2,    30.09,2,     0.06,2,     1.95,2,   2291.2,2,   7.6401,2,    25.00
  29HE20100208,   A21,    46,  1,     16,     16,2,20100305,   0,-38.9995,   8.0512, 5276,    799.7,   5.0240,  34.2694,2,    235.9,2,    235.9,2,    16.97,2,    28.42,2,     0.06,2,     1.83,2,   2284.2,2,   7.6459,2,    25.00
  29HE20100208,   A21,    46,  1,     17,     17,2,20100305,   0,-38.9995,   8.0512, 5276,    601.0,   8.2424,  34.5791,2,    219.8,2,    218.2,2,    11.79,2,    21.76,2,     0.07,2,     1.45,2,   2291.5,2,   7.7218,2,    25.00
  29HE20100208,   A21,    46,  1,     18,     18,2,20100305,   0,-38.9995,   8.0512, 5276,    401.1,  11.0251,  34.8661,2,    233.2,2,    231.3,2,     5.07,2,    13.23,2,     0.07,2,     1.00,2,   2300.8,2,   7.8083,2,    25.00
  29HE20100208,   A21,    46,  1,     19,     19,2,20100305,   0,-38.9995,   8.0512, 5276,    200.1,  14.6213,  35.3363,2,    217.0,2,    213.4,2,     5.28,2,     7.49,2,     0.08,2,     0.69,2,   2322.3,2,   7.8873,2,    25.00
  29HE20100208,   A21,    46,  1,     20,     20,2,20100305,   0,-38.9995,   8.0512, 5276,    151.2,  15.9069,  35.4923,2,    217.9,2,    215.7,2,     5.24,2,     5.51,2,     0.08,2,     0.58,2,   2328.8,2,   7.9303,2,    25.00
  29HE20100208,   A21,    46,  1,     21,     21,2,20100305,   0,-38.9995,   8.0512, 5276,     99.8,  16.4846,  35.5138,2,    236.1,2,    238.0,2,     3.96,2,     1.82,2,     0.51,2,     0.42,2,   2329.9,2,   7.9614,2,    25.00
  29HE20100208,   A21,    46,  1,     22,     22,2,20100305,   0,-38.9995,   8.0512, 5276,     47.6,  16.5105,  35.4194,2,    249.3,2,    250.0,2,     3.41,2,     0.70,2,     0.10,2,     0.36,2,   2327.1,2,   7.9735,2,    25.00
  29HE20100208,   A21,    46,  1,     23,     23,2,20100305,   0,-38.9995,   8.0512, 5276,     25.4,  16.6322,  35.3459,2,    251.4,2,    252.1,2,     3.08,2,     0.68,2,     0.06,2,     0.34,2,   -999.0,9,-999.0000,9,  -999.00
  29HE20100208,   A21,    46,  1,     24,     24,2,20100305,   0,-38.9995,   8.0512, 5276,      9.5,  16.8753,  35.2627,2,    250.1,2,    243.5,2,     3.02,2,     0.72,2,     0.06,2,     0.37,2,   2322.5,2,   7.9705,2,    25.00
  29HE20100208,   A21,    47,  1,      1,      1,2,20100306,   0,-38.9992,   9.3288, 4994,   5081.4,   1.1449,  34.7358,2,    218.8,2,    216.1,2,   105.69,2,    31.60,2,     0.06,2,     2.19,2,   2367.8,2,   7.6344,2,    25.00
  29HE20100208,   A21,    47,  1,      2,      2,2,20100306,   0,-38.9992,   9.3288, 4994,   4501.2,   1.1307,  34.7415,2,    218.6,2,    217.6,2,   103.65,2,    31.22,2,     0.06,2,     2.18,2,   2365.9,2,   7.6339,2,    25.00
  29HE20100208,   A21,    47,  1,      3,      3,2,20100306,   0,-38.9992,   9.3288, 4994,   4000.7,   1.4221,  34.7706,2,    220.2,2,    215.2,2,    92.37,2,    29.95,2,     0.06,2,     2.08,2,   2360.6,2,   7.6471,2,    25.00
  29HE20100208,   A21,    47,  1,      4,      4,2,20100306,   0,-38.9992,   9.3288, 4994,   3496.2,   2.0413,  34.8284,2,    225.3,2,    222.9,2,    68.99,2,    27.06,2,     0.06,2,     1.87,2,   2349.1,2,   7.6768,2,    25.00
  29HE20100208,   A21,    47,  1,      5,      5,2,20100306,   0,-38.9992,   9.3288, 4994,   3249.6,   2.2040,  34.8442,2,    226.0,2,    228.4,2,    59.42,2,    26.05,2,     0.06,2,     1.80,2,   2346.7,2,   7.6857,2,    25.00
  29HE20100208,   A21,    47,  1,      6,      6,2,20100306,   0,-38.9992,   9.3288, 4994,   2998.6,   2.3016,  34.8453,2,    225.4,2,    225.2,2,  -999.00,9,  -999.00,9,  -999.00,9,  -999.00,9,   2343.4,2,-999.0000,9,  -999.00
  29HE20100208,   A21,    47,  1,      7,      7,2,20100306,   0,-38.9992,   9.3288, 4994,   2748.6,   2.4003,  34.8446,2,    224.9,2,    223.7,2,    57.33,2,    26.23,2,     0.06,2,     1.81,2,   2340.2,2,   7.6817,2,    25.00
  29HE20100208,   A21,    47,  1,      8,      8,2,20100306,   0,-38.9992,   9.3288, 4994,   2500.0,   2.5158,  34.8390,2,    221.0,2,    221.2,2,    55.73,2,    26.41,2,     0.06,2,     1.81,2,   2337.3,2,   7.6743,2,    25.00
  29HE20100208,   A21,    47,  1,      9,      9,2,20100306,   0,-38.9992,   9.3288, 4994,   2247.4,   2.6307,  34.8256,2,    215.3,2,    213.9,2,    55.18,2,    27.07,2,     0.06,2,     1.86,2,   2336.6,2,   7.6622,2,    25.00
  29HE20100208,   A21,    47,  1,     10,     10,2,20100306,   0,-38.9992,   9.3288, 4994,   2000.0,   2.7307,  34.7963,2,    206.4,2,    208.2,2,    56.51,2,    28.33,2,     0.06,2,     1.94,2,   2335.6,2,   7.6440,2,    25.00
  29HE20100208,   A21,    47,  1,     11,     11,2,20100306,   0,-38.9992,   9.3288, 4994,   1751.2,   2.7861,  34.7244,2,    191.1,2,    188.7,2,    62.15,2,    30.72,2,     0.06,2,     2.11,2,   2335.9,2,   7.6132,2,    25.00
  29HE20100208,   A21,    47,  1,     12,     12,2,20100306,   0,-38.9992,   9.3288, 4994,   1500.3,   2.8640,  34.6260,2,    179.6,2,    176.5,2,    66.02,2,    33.33,2,     0.07,2,     2.28,2,   2333.6,2,   7.5834,2,    25.00
  29HE20100208,   A21,    47,  1,     13,     13,2,20100306,   0,-38.9992,   9.3288, 4994,   1251.4,   2.9644,  34.4748,2,    183.9,2,    182.0,2,    61.29,2,    34.58,2,     0.06,2,     2.36,2,   2320.0,2,   7.5716,2,    25.00
  29HE20100208,   A21,    47,  1,     14,     14,2,20100306,   0,-38.9992,   9.3288, 4994,    998.6,   3.4660,  34.3467,2,    205.2,2,    203.3,2,    42.00,2,    33.07,2,     0.06,2,     2.25,2,   2304.7,2,   7.5972,2,    25.00
  29HE20100208,   A21,    47,  1,     15,     15,2,20100306,   0,-38.9992,   9.3288, 4994,    897.8,   3.7682,  34.3157,2,    215.0,2,    212.4,2,    35.46,2,    32.05,2,     0.07,2,     2.18,2,   2298.3,2,   7.6124,2,    25.00
  29HE20100208,   A21,    47,  1,     16,     16,2,20100306,   0,-38.9992,   9.3288, 4994,    799.0,   3.8894,  34.2359,2,    235.4,2,    233.7,2,    25.94,2,    30.73,2,     0.06,2,     2.08,2,   2287.4,2,   7.6357,2,    25.00
  29HE20100208,   A21,    47,  1,     17,     17,2,20100306,   0,-38.9992,   9.3288, 4994,    600.4,   5.0255,  34.2564,2,    239.5,2,    237.8,2,    15.54,2,    28.07,2,     0.06,2,     1.91,2,   2279.3,2,   7.6595,2,    25.00
  29HE20100208,   A21,    47,  1,     18,     18,2,20100306,   0,-38.9992,   9.3288, 4994,    401.5,   8.0814,  34.5581,2,    219.3,2,    216.4,2,    10.38,2,    21.99,2,     0.07,2,     1.54,2,   2287.6,2,   7.7135,2,    25.00
  29HE20100208,   A21,    47,  1,     19,     19,2,20100306,   0,-38.9992,   9.3288, 4994,    199.6,  10.7510,  34.8216,2,    236.4,2,    235.3,2,     4.18,2,    13.16,2,     0.08,2,     1.04,2,   2297.5,2,   7.8052,2,    25.00
  29HE20100208,   A21,    47,  1,     20,     20,2,20100306,   0,-38.9992,   9.3288, 4994,    150.0,  11.5149,  34.9020,2,    236.3,2,    234.8,2,     3.70,2,    11.32,2,     0.08,2,     0.94,2,   2302.2,2,   7.8295,2,    25.00
  29HE20100208,   A21,    47,  1,     21,     21,2,20100306,   0,-38.9992,   9.3288, 4994,     99.9,  12.3235,  34.9310,2,    241.0,2,    237.5,2,     3.12,2,     8.66,2,     0.08,2,     0.81,2,   2303.0,2,   7.8558,2,    25.00
  29HE20100208,   A21,    47,  1,     22,     22,2,20100306,   0,-38.9992,   9.3288, 4994,     49.9,  12.6317,  34.6165,2,    261.0,2,    254.6,2,     1.32,2,     6.15,2,     0.24,2,     0.75,2,   2294.9,2,   7.8875,2,    25.00
  29HE20100208,   A21,    47,  1,     23,     23,2,20100306,   0,-38.9992,   9.3288, 4994,     26.8,  13.9772,  34.7335,2,    270.0,2,    263.1,2,     1.25,2,     3.58,2,     0.23,2,     0.59,2,   -999.0,9,-999.0000,9,  -999.00
  29HE20100208,   A21,    47,  1,     24,     24,2,20100306,   0,-38.9992,   9.3288, 4994,     12.9,  14.6373,  34.6754,2,    279.3,2,    260.7,2,     1.26,2,     2.73,2,     0.14,2,     0.54,2,   2297.8,2,   7.9479,2,    25.00