BOTTLE,20220207CCHSIOENA
EXPOCODE,SECT_ID,STNNBR,CASTNO,SAMPNO,BTLNBR,BTLNBR_FLAG_W,DATE,TIME,LATITUDE,LONGITUDE,DEPTH,CTDPRS,CTDTMP,CTDSAL,CTDSAL_FLAG_W,CTDOXY,CTDOXY_FLAG_W,OXYGEN,OXYGEN_FLAG_W,SILCAT,SILCAT_FLAG_W,NITRAT,NITRAT_FLAG_W,NITRIT,NITRIT_FLAG_W,PHSPHT,PHSPHT_FLAG_W,ALKALI,ALKALI_FLAG_W,PH_SWS,PH_SWS_FLAG_W,PH_TMP
,,,,,,,,,,,METERS,DBAR,ITS-90,PSS-78,,UMOL/KG,,UMOL/KG,,UMOL/KG,,UMOL/KG,,UMOL/KG,,UMOL/KG,,UMOL/KG,,,,DEG C
  29HE20100208,   A21,    18,  1,      1,      1,2,20100213,   0,-50.7702, -50.5605, 2490,   2479.6,   1.2348,  34.7201,2,    196.2,2,    198.4,2,   110.20,2,    32.32,2,     0.06,2,     2.32,2,   2360.0,2,   7.5990,2,    25.00
  29HE20100208,   A21,    18,  1,      2,      2,2,20100213,   0,-50.7702, -50.5605, 2490,   2248.9,   1.5563,  34.7255,2,    189.7,2,    177.7,2,    99.84,2,    31.66,2,     0.05,2,     2.25,2,   2359.4,2,   7.5962,2,    25.00
  29HE20100208,   A21,    18,  1,      3,      3,2,20100213,   0,-50.7702, -50.5605, 2490,   1999.3,   1.7952,  34.7192,2,    182.8,2,    191.1,2,    99.40,2,    32.60,2,     0.05,2,     2.32,2,   2358.2,2,   7.5844,2,    25.00
  29HE20100208,   A21,    18,  1,      4,      4,2,20100213,   0,-50.7702, -50.5605, 2490,   1748.4,   1.9458,  34.7059,2,    178.2,2,    222.1,2,    94.54,2,    32.92,2,     0.05,2,     2.36,2,   2358.3,2,   7.5833,2,    25.00
  29HE20100208,   A21,    18,  1,      5,      5,2,20100213,   0,-50.7702, -50.5605, 2490,   1499.6,   2.1088,  34.6797,2,    174.3,2,    192.1,2,    89.50,2,    33.36,2,     0.05,2,     2.38,2,   2352.2,2,   7.5750,2,    25.00
  29HE20100208,   A21,    18,  1,      6,      6,2,20100213,   0,-50.7702, -50.5605, 2490,   1246.9,   2.2692,  34.6331,2,    171.4,2,    182.7,2,    81.47,2,    33.89,2,     0.06,2,     2.40,2,   2346.0,2,   7.5626,2,    25.00
  29HE20100208,   A21,    18,  1,      7,      7,2,20100213,   0,-50.7702, -50.5605, 2490,    999.2,   2.4437,  34.5524,2,    172.4,2,    202.8,2,    74.78,2,    34.70,2,     0.05,2,     2.48,2,   2334.2,2,   7.5528,2,    25.00
  29HE20100208,   A21,    18,  1,      8,      8,2,20100213,   0,-50.7702, -50.5605, 2490,    900.3,   2.5418,  34.5139,2,    174.7,2,    208.2,2,    71.40,2,    34.82,2,     0.05,2,     2.48,2,   2329.6,2,   7.5552,2,    25.00
  29HE20100208,   A21,    18,  1,      9,      9,2,20100213,   0,-50.7702, -50.5605, 2490,    799.3,   2.6658,  34.4620,2,    181.0,2,    217.0,2,    65.77,2,    34.70,2,     0.06,2,     2.48,2,   2324.3,2,   7.5599,2,    25.00
  29HE20100208,   A21,    18,  1,     10,     10,2,20100213,   0,-50.7702, -50.5605, 2490,    599.7,   2.8877,  34.3380,2,    205.2,2,    243.2,2,    49.46,2,    33.01,2,     0.06,2,     2.33,2,   2306.8,2,   7.5839,2,    25.00
  29HE20100208,   A21,    18,  1,     11,     11,2,20100213,   0,-50.7702, -50.5605, 2490,    400.3,   2.0007,  34.1039,2,    278.7,2,    318.8,2,    28.93,2,    29.93,2,     0.06,2,     2.15,2,   2286.1,2,   7.6419,2,    25.00
  29HE20100208,   A21,    18,  1,     12,     12,2,20100213,   0,-50.7702, -50.5605, 2490,    298.4,   2.7051,  34.1163,2,    274.9,2,    270.9,2,    25.30,2,    29.23,2,     0.08,2,     2.09,2,   2283.6,2,   7.6523,2,    25.00
  29HE20100208,   A21,    18,  1,     13,     13,2,20100213,   0,-50.7702, -50.5605, 2490,    201.1,   2.9920,  34.0676,2,    294.2,2,    218.5,2,    17.65,2,    27.26,2,     0.08,2,     1.95,2,   2280.0,2,   7.6813,2,    25.00
  29HE20100208,   A21,    18,  1,     14,     14,2,20100213,   0,-50.7702, -50.5605, 2490,    149.0,   3.2476,  34.0579,2,    301.6,2,    220.3,2,    14.22,2,    25.99,2,     0.12,2,     1.88,2,   2278.0,2,   7.6981,2,    25.00
  29HE20100208,   A21,    18,  1,     15,     15,2,20100213,   0,-50.7702, -50.5605, 2490,    122.5,   3.4567,  34.0573,2,    305.2,2,    214.9,2,    12.67,2,    25.31,2,     0.19,2,     1.84,2,   -999.0,9,-999.0000,9,  -999.00
  29HE20100208,   A21,    18,  1,     16,     16,2,20100213,   0,-50.7702, -50.5605, 2490,     98.2,   4.0039,  34.0452,2,    309.3,2,    212.1,2,    10.57,2,    23.89,2,     0.38,2,     1.80,2,   2277.9,2,   7.7198,2,    25.00
  29HE20100208,   A21,    18,  1,     17,     17,2,20100213,   0,-50.7702, -50.5605, 2490,     72.3,   6.0984,  34.0057,2,    307.9,2,    207.0,2,     5.11,2,    20.15,2,     0.23,2,     1.53,2,   -999.0,9,-999.0000,9,  -999.00
  29HE20100208,   A21,    18,  1,     18,     18,2,20100213,   0,-50.7702, -50.5605, 2490,     51.6,   6.4539,  34.0087,2,    309.2,2,    203.3,2,     4.38,2,    19.55,2,     0.22,2,     1.47,2,   2275.0,2,   7.7960,2,    25.00
  29HE20100208,   A21,    18,  1,     19,     19,2,20100213,   0,-50.7702, -50.5605, 2490,     26.7,   6.4357,  33.9983,2,    309.9,2,    200.3,2,     4.37,2,    19.70,2,     0.22,2,     1.48,2,   -999.0,9,-999.0000,9,  -999.00
  29HE20100208,   A21,    18,  1,     20,     20,2,20100213,   0,-50.7702, -50.5605, 2490,     12.8,   6.4346,  33.9985,2,    310.2,2,    308.0,2,     4.53,2,    19.78,2,     0.22,2,     1.48,2,   2272.6,2,   7.7953,2,    25.00
  29HE20100208,   A21,    19,  1,      1,      1,2,20100213,   0,-50.7495, -49.8812, 2661,   2639.4,   1.2177,  34.7197,2,    197.8,2,   -999.0,9,  -999.00,9,  -999.00,9,  -999.00,9,  -999.00,9,   -999.0,9,-999.0000,9,  -999.00
  29HE20100208,   A21,    19,  1,      2,      2,2,20100213,   0,-50.7495, -49.8812, 2661,   2498.8,   1.4249,  34.7211,2,    190.9,2,   -999.0,9,  -999.00,9,  -999.00,9,  -999.00,9,  -999.00,9,   -999.0,9,-999.0000,9,  -999.00
  29HE20100208,   A21,    19,  1,      3,      3,2,20100213,   0,-50.7495, -49.8812, 2661,   2247.9,   1.7647,  34.7202,2,    183.9,2,   -999.0,9,  -999.00,9,  -999.00,9,  -999.00,9,  -999.00,9,   -999.0,9,-999.0000,9,  -999.00
  29HE20100208,   A21,    19,  1,      4,      4,2,20100213,   0,-50.7495, -49.8812, 2661,   1997.5,   1.9142,  34.7099,2,    179.1,2,   -999.0,9,  -999.00,9,  -999.00,9,  -999.00,9,  -999.00,9,   -999.0,9,-999.0000,9,  -999.00
  29HE20100208,   A21,    19,  1,      5,      5,2,20100213,   0,-50.7495, -49.8812, 2661,   1748.9,   2.0585,  34.6904,2,    175.2,2,   -999.0,9,  -999.00,9,  -999.00,9,  -999.00,9,  -999.00,9,   -999.0,9,-999.0000,9,  -999.00
  29HE20100208,   A21,    19,  1,      6,      6,2,20100213,   0,-50.7495, -49.8812, 2661,   1500.6,   2.1945,  34.6624,2,    171.6,2,   -999.0,9,  -999.00,9,  -999.00,9,  -999.00,9,  -999.00,9,   -999.0,9,-999.0000,9,  -999.00
  29HE20100208,   A21,    20,  1,      1,      1,2,20100217,   0,-50.7168, -49.2155, 2803,   2801.4,   1.2017,  34.7185,2,    195.2,2,    198.6,2,   109.29,2,    32.71,2,     0.01,2,     2.30,2,   2361.7,2,   7.5973,2,    25.00
  29HE20100208,   A21,    20,  1,      2,      2,2,20100217,   0,-50.7168, -49.2155, 2803,   2747.0,   1.3608,  34.7206,2,    194.1,2,    196.4,2,   107.48,2,    32.66,2,     0.01,2,     2.30,2,   -999.0,9,-999.0000,9,  -999.00
  29HE20100208,   A21,    20,  1,      3,      3,2,20100217,   0,-50.7168, -49.2155, 2803,   2498.0,   1.6535,  34.7238,2,    186.7,2,    189.4,2,   101.25,2,    32.72,2,     0.01,2,     2.29,2,   2362.2,2,   7.5951,2,    25.00
  29HE20100208,   A21,    20,  1,      4,      4,2,20100217,   0,-50.7168, -49.2155, 2803,   2248.0,   1.8130,  34.7168,2,    182.2,2,    186.7,2,    98.03,2,    32.94,2,     0.01,2,     2.31,2,   2364.3,2,   7.5910,2,    25.00
  29HE20100208,   A21,    20,  1,      5,      5,2,20100217,   0,-50.7168, -49.2155, 2803,   1998.3,   2.0052,  34.7034,2,    177.2,2,    180.4,2,    92.87,2,    33.25,2,     0.01,2,     2.33,2,   2356.7,2,   7.5834,2,    25.00
  29HE20100208,   A21,    20,  1,      6,      6,2,20100217,   0,-50.7168, -49.2155, 2803,   1751.0,   2.1588,  34.6763,2,    173.0,2,    177.5,2,    87.04,2,    33.69,2,     0.01,2,     2.36,2,   2352.2,2,   7.5734,2,    25.00
  29HE20100208,   A21,    20,  1,      7,      7,2,20100217,   0,-50.7168, -49.2155, 2803,   1498.7,   2.3296,  34.6224,2,    169.1,2,    170.8,2,    82.26,2,    34.37,2,     0.01,2,     2.42,2,   2344.7,2,   7.5621,2,    25.00
  29HE20100208,   A21,    20,  1,      8,      8,2,20100217,   0,-50.7168, -49.2155, 2803,   1250.8,   2.4357,  34.5795,2,    169.5,2,    171.2,2,    76.50,2,    34.84,2,     0.01,2,     2.44,2,   2338.7,2,   7.5591,2,    25.00
  29HE20100208,   A21,    20,  1,      9,      9,2,20100217,   0,-50.7168, -49.2155, 2803,   1000.7,   2.5800,  34.5199,2,    173.0,2,    174.8,2,    70.51,2,    35.13,2,     0.01,2,     2.45,2,   2331.4,2,   7.5593,2,    25.00
  29HE20100208,   A21,    20,  1,     10,     10,2,20100217,   0,-50.7168, -49.2155, 2803,    899.7,   2.6463,  34.4905,2,    176.3,2,    179.6,2,    67.40,2,    35.00,2,     0.01,2,     2.45,2,   -999.0,9,-999.0000,9,  -999.00
  29HE20100208,   A21,    20,  1,     11,     11,2,20100217,   0,-50.7168, -49.2155, 2803,    801.1,   2.6892,  34.4687,2,    179.1,2,    183.6,2,    64.69,2,    34.96,2,     0.01,2,     2.44,2,   2323.1,2,   7.5644,2,    25.00
  29HE20100208,   A21,    20,  1,     12,     12,2,20100217,   0,-50.7168, -49.2155, 2803,    602.6,   2.8049,  34.3212,2,    210.6,2,    210.3,2,    48.38,2,    33.37,2,     0.01,2,     2.34,2,   2304.4,2,   7.5871,2,    25.00
  29HE20100208,   A21,    20,  1,     13,     13,2,20100217,   0,-50.7168, -49.2155, 2803,    399.3,   2.6132,  34.1546,2,    261.3,2,    261.7,2,    30.93,2,    30.54,2,     0.01,2,     2.13,2,   -999.0,9,-999.0000,9,  -999.00
  29HE20100208,   A21,    20,  1,     14,     14,2,20100217,   0,-50.7168, -49.2155, 2803,    299.2,   3.0285,  34.1271,2,    272.2,2,    272.5,2,    24.77,2,    29.09,2,     0.01,2,     2.03,2,   2281.3,2,   7.6612,2,    25.00
  29HE20100208,   A21,    20,  1,     15,     15,2,20100217,   0,-50.7168, -49.2155, 2803,    202.7,   3.1742,  34.0796,2,    289.9,2,    289.3,2,    18.98,2,    27.24,2,     0.01,2,     1.92,2,   2280.1,2,   7.6859,2,    25.00
  29HE20100208,   A21,    20,  1,     16,     16,2,20100217,   0,-50.7168, -49.2155, 2803,    150.7,   3.2801,  34.0590,2,    299.5,2,    298.8,2,    16.71,2,    26.45,2,     0.01,2,     1.86,2,   2274.0,2,   7.6988,2,    25.00
  29HE20100208,   A21,    20,  1,     17,     17,2,20100217,   0,-50.7168, -49.2155, 2803,    125.1,   3.4948,  34.0618,2,    302.4,2,    302.8,2,    14.88,2,    25.65,2,     0.01,2,     1.81,2,   -999.0,9,-999.0000,9,  -999.00
  29HE20100208,   A21,    20,  1,     18,     18,2,20100217,   0,-50.7168, -49.2155, 2803,    101.1,   3.7131,  34.0674,2,    304.1,2,    303.5,2,    13.99,2,    25.05,2,     0.07,2,     1.78,2,   2271.4,2,   7.7143,2,    25.00
  29HE20100208,   A21,    20,  1,     19,     19,2,20100217,   0,-50.7168, -49.2155, 2803,     75.7,   4.0179,  34.0663,2,    306.6,2,    305.6,2,    12.80,2,    23.69,2,     0.54,2,     1.74,2,   -999.0,9,-999.0000,9,  -999.00
  29HE20100208,   A21,    20,  1,     20,     20,2,20100217,   0,-50.7168, -49.2155, 2803,     51.4,   6.1906,  33.9941,2,    303.8,2,    303.9,2,     5.99,2,    19.60,2,     0.23,2,     1.43,2,   2271.8,2,   7.7970,2,    25.00
  29HE20100208,   A21,    20,  1,     21,     21,2,20100217,   0,-50.7168, -49.2155, 2803,     28.7,   6.1902,  33.9984,2,    304.6,2,    304.4,2,     6.33,2,    19.58,2,     0.23,2,     1.43,2,   -999.0,9,-999.0000,9,  -999.00
  29HE20100208,   A21,    20,  1,     22,     22,2,20100217,   0,-50.7168, -49.2155, 2803,     10.5,   6.1853,  33.9986,2,    304.2,2,    307.5,2,     6.32,2,    19.60,2,     0.23,2,     1.44,2,   2270.7,2,   7.7947,2,    25.00
  29HE20100208,   A21,    21,  1,      1,      1,2,20100218,   0,-50.6993, -48.5218, 2814,   2796.1,   0.4377,  34.6886,2,    215.0,2,   -999.0,9,   121.17,2,    32.25,2,     0.01,2,     2.40,2,   -999.0,9,-999.0000,9,  -999.00
  29HE20100208,   A21,    21,  1,      2,      2,2,20100218,   0,-50.6993, -48.5218, 2814,   2499.0,   0.9335,  34.7117,2,    203.7,2,    217.0,2,   116.17,2,    31.99,2,     0.01,2,     2.37,2,   -999.0,9,-999.0000,9,  -999.00
  29HE20100208,   A21,    21,  1,      3,      3,2,20100218,   0,-50.6993, -48.5218, 2814,   2249.4,   1.1471,  34.7191,2,    197.9,2,    205.5,2,   111.73,2,    31.94,2,     0.01,2,     2.36,2,   -999.0,9,-999.0000,9,  -999.00
  29HE20100208,   A21,    21,  1,      4,      4,2,20100218,   0,-50.6993, -48.5218, 2814,   1999.1,   1.4008,  34.7225,2,    192.8,2,    196.1,2,   105.63,2,    31.88,2,     0.02,2,     2.36,2,   -999.0,9,-999.0000,9,  -999.00
  29HE20100208,   A21,    21,  1,      5,      5,2,20100218,   0,-50.6993, -48.5218, 2814,   1748.4,   1.6141,  34.7195,2,    187.4,2,    196.2,2,   100.42,2,    32.02,2,     0.02,2,     2.37,2,   -999.0,9,-999.0000,9,  -999.00
  29HE20100208,   A21,    21,  1,      6,      6,2,20100218,   0,-50.6993, -48.5218, 2814,   1498.6,   1.7981,  34.7135,2,    182.0,2,    188.8,2,    97.77,2,    32.30,2,     0.02,2,     2.38,2,   -999.0,9,-999.0000,9,  -999.00
  29HE20100208,   A21,    21,  1,      7,      7,2,20100218,   0,-50.6993, -48.5218, 2814,   1248.8,   1.9581,  34.6978,2,    177.6,2,    187.4,2,    93.00,2,    32.64,2,     0.02,2,     2.41,2,   -999.0,9,-999.0000,9,  -999.00
  29HE20100208,   A21,    21,  1,      8,      8,2,20100218,   0,-50.6993, -48.5218, 2814,   1000.2,   2.1125,  34.6498,2,    175.3,2,    178.4,2,    86.14,2,    33.35,2,     0.02,2,     2.44,2,   -999.0,9,-999.0000,9,  -999.00
  29HE20100208,   A21,    21,  1,      9,      9,2,20100218,   0,-50.6993, -48.5218, 2814,    899.5,   2.1841,  34.6257,2,    173.6,2,    176.0,2,    82.75,2,    33.66,2,     0.03,2,     2.46,2,   -999.0,9,-999.0000,9,  -999.00
  29HE20100208,   A21,    21,  1,     10,     10,2,20100218,   0,-50.6993, -48.5218, 2814,    800.0,   2.2493,  34.5786,2,    174.0,2,    173.6,2,    78.26,2,    34.18,2,     0.04,2,     2.50,2,   -999.0,9,-999.0000,9,  -999.00
  29HE20100208,   A21,    21,  1,     11,     11,2,20100218,   0,-50.6993, -48.5218, 2814,    601.7,   2.2969,  34.5000,2,    180.2,2,    175.0,2,    71.06,2,    34.57,2,     0.04,2,     2.52,2,   -999.0,9,-999.0000,9,  -999.00
  29HE20100208,   A21,    21,  1,     12,     12,2,20100218,   0,-50.6993, -48.5218, 2814,    399.4,   2.2148,  34.3473,2,    205.4,2,    181.6,2,    56.91,2,    33.86,2,     0.05,2,     2.48,2,   -999.0,9,-999.0000,9,  -999.00
  29HE20100208,   A21,    21,  1,     13,     13,2,20100218,   0,-50.6993, -48.5218, 2814,    300.7,   1.7830,  34.2128,2,    244.2,2,    206.0,2,    42.72,2,    32.34,2,     0.06,2,     2.36,2,   -999.0,9,-999.0000,9,  -999.00
  29HE20100208,   A21,    21,  1,     14,     14,2,20100218,   0,-50.6993, -48.5218, 2814,    200.5,   0.8602,  34.0202,2,    304.9,2,    243.5,2,    28.83,2,    29.64,2,     0.16,2,     2.18,2,   -999.0,9,-999.0000,9,  -999.00
  29HE20100208,   A21,    21,  1,     15,     15,2,20100218,   0,-50.6993, -48.5218, 2814,    148.7,   1.0028,  33.9518,2,    320.1,2,    303.7,2,    24.30,2,    27.35,2,     0.30,2,     2.11,2,   -999.0,9,-999.0000,9,  -999.00
  29HE20100208,   A21,    21,  1,     16,     16,2,20100218,   0,-50.6993, -48.5218, 2814,    122.3,   1.5920,  33.9136,2,    323.3,2,    318.8,2,    19.11,2,    25.12,2,     0.30,2,     2.02,2,   -999.0,9,-999.0000,9,  -999.00
  29HE20100208,   A21,    21,  1,     17,     17,2,20100218,   0,-50.6993, -48.5218, 2814,     99.3,   2.6092,  33.8922,2,    323.0,2,    323.5,2,    11.90,2,    22.98,2,     0.28,2,     1.87,2,   -999.0,9,-999.0000,9,  -999.00
  29HE20100208,   A21,    21,  1,     18,     18,2,20100218,   0,-50.6993, -48.5218, 2814,     74.3,   5.0181,  33.8963,2,    312.2,2,    322.4,2,     5.27,2,    21.06,2,     0.23,2,     1.62,2,   -999.0,9,-999.0000,9,  -999.00
  29HE20100208,   A21,    21,  1,     19,     19,2,20100218,   0,-50.6993, -48.5218, 2814,     49.7,   5.0260,  33.9025,2,    313.3,2,    312.2,2,     5.26,2,    21.00,2,     0.23,2,     1.60,2,   -999.0,9,-999.0000,9,  -999.00
  29HE20100208,   A21,    21,  1,     20,     20,2,20100218,   0,-50.6993, -48.5218, 2814,     26.2,   5.0414,  33.9030,2,    314.3,2,    312.3,2,     5.28,2,    21.07,2,     0.23,2,     1.61,2,   -999.0,9,-999.0000,9,  -999.00
  29HE20100208,   A21,    21,  1,     21,     21,2,20100218,   0,-50.6993, -48.5218, 2814,     11.3,   5.2340,  33.9047,2,    313.9,2,    314.3,2,     5.39,2,    21.09,2,     0.25,2,     1.63,2,   -999.0,9,-999.0000,9,  -999.00