BOTTLE,20220207CCHSIOENA
EXPOCODE,SECT_ID,STNNBR,CASTNO,SAMPNO,BTLNBR,BTLNBR_FLAG_W,DATE,TIME,LATITUDE,LONGITUDE,DEPTH,CTDPRS,CTDTMP,CTDSAL,CTDSAL_FLAG_W,CTDOXY,CTDOXY_FLAG_W,OXYGEN,OXYGEN_FLAG_W,SILCAT,SILCAT_FLAG_W,NITRAT,NITRAT_FLAG_W,NITRIT,NITRIT_FLAG_W,PHSPHT,PHSPHT_FLAG_W,ALKALI,ALKALI_FLAG_W,PH_SWS,PH_SWS_FLAG_W,PH_TMP
,,,,,,,,,,,METERS,DBAR,ITS-90,PSS-78,,UMOL/KG,,UMOL/KG,,UMOL/KG,,UMOL/KG,,UMOL/KG,,UMOL/KG,,UMOL/KG,,,,DEG C
  29HE20100208,   A21,     9,  1,      1,      1,2,20100211,   0,-50.9392, -55.2983,  768,    783.0,   2.9436,  34.2563,2,    230.7,2,    231.9,2,    30.93,2,    27.80,2,     0.05,2,     2.10,2,   -999.0,9,-999.0000,9,  -999.00
  29HE20100208,   A21,     9,  1,      2,      2,2,20100211,   0,-50.9392, -55.2983,  768,    596.0,   3.2065,  34.1732,2,    256.8,2,    256.9,2,    25.74,2,    29.28,2,     0.06,2,     2.15,2,   -999.0,9,-999.0000,9,  -999.00
  29HE20100208,   A21,     9,  1,      3,      3,2,20100211,   0,-50.9392, -55.2983,  768,    399.9,   3.4815,  34.1127,2,    290.0,2,    289.8,2,    11.93,2,    18.79,3,     0.06,2,     1.69,2,   -999.0,9,-999.0000,9,  -999.00
  29HE20100208,   A21,     9,  1,      4,      4,2,20100211,   0,-50.9392, -55.2983,  768,    301.7,   3.6762,  34.0923,2,    298.6,2,    299.5,2,    12.96,2,    25.24,2,     0.09,2,     1.88,2,   -999.0,9,-999.0000,9,  -999.00
  29HE20100208,   A21,     9,  1,      5,      5,2,20100211,   0,-50.9392, -55.2983,  768,    203.4,   4.1449,  34.1150,2,    301.0,2,    300.0,2,     9.15,2,    20.70,2,     0.09,2,     1.49,2,   -999.0,9,-999.0000,9,  -999.00
  29HE20100208,   A21,     9,  1,      6,      6,2,20100211,   0,-50.9392, -55.2983,  768,    151.8,   4.3602,  34.1154,2,    304.2,2,    303.9,2,     9.71,2,    23.16,2,     0.27,2,     1.78,2,   -999.0,9,-999.0000,9,  -999.00
  29HE20100208,   A21,     9,  1,      7,      7,2,20100211,   0,-50.9392, -55.2983,  768,    122.5,   4.5554,  34.0968,2,    305.8,2,    304.7,2,     8.78,2,    22.31,2,     0.30,2,     1.76,2,   -999.0,9,-999.0000,9,  -999.00
  29HE20100208,   A21,     9,  1,      8,      8,2,20100211,   0,-50.9392, -55.2983,  768,     99.3,   4.9352,  34.0917,2,    306.0,2,    307.0,2,     6.52,2,    20.00,2,     0.27,2,     1.62,2,   -999.0,9,-999.0000,9,  -999.00
  29HE20100208,   A21,     9,  1,      9,      9,2,20100211,   0,-50.9392, -55.2983,  768,     72.5,   6.7202,  34.0626,2,    301.4,2,    302.4,2,     3.63,2,    18.17,2,     0.20,2,     1.50,2,   -999.0,9,-999.0000,9,  -999.00
  29HE20100208,   A21,     9,  1,     10,     10,2,20100211,   0,-50.9392, -55.2983,  768,     51.8,   7.5881,  34.0503,2,    298.3,2,    298.5,2,     3.08,2,    16.61,2,     0.18,2,     1.36,2,   -999.0,9,-999.0000,9,  -999.00
  29HE20100208,   A21,     9,  1,     11,     11,2,20100211,   0,-50.9392, -55.2983,  768,     24.7,   7.7056,  34.0498,2,    299.1,2,    300.2,2,     3.06,2,    16.21,2,     0.18,2,     1.34,2,   -999.0,9,-999.0000,9,  -999.00
  29HE20100208,   A21,     9,  1,     12,     12,2,20100211,   0,-50.9392, -55.2983,  768,      7.7,   7.7823,  34.0504,2,    299.0,2,    298.9,2,     2.53,2,    14.30,2,     0.17,2,     1.29,2,   -999.0,9,-999.0000,9,  -999.00
  29HE20100208,   A21,    10,  1,      1,      1,2,20100211,   0,-50.9198, -54.8487, 1345,   1316.3,   2.4350,  34.5806,2,    168.6,2,    171.4,2,    68.25,2,    31.77,2,     0.06,2,     2.29,2,   2338.4,2,   7.5585,2,    25.00
  29HE20100208,   A21,    10,  1,      2,      2,2,20100211,   0,-50.9198, -54.8487, 1345,   1251.1,   2.5495,  34.5382,2,    170.9,2,    172.0,2,    69.71,2,    34.04,2,     0.06,2,     2.50,2,   2333.4,2,   7.5540,2,    25.00
  29HE20100208,   A21,    10,  1,      3,      3,2,20100211,   0,-50.9198, -54.8487, 1345,    998.5,   2.8720,  34.4031,2,    190.5,2,   -999.0,9,    41.05,2,    31.01,2,     0.06,2,     2.25,2,   2314.2,2,   7.5676,2,    25.00
  29HE20100208,   A21,    10,  1,      4,      4,2,20100211,   0,-50.9198, -54.8487, 1345,    901.2,   2.8390,  34.3316,2,    206.9,2,    208.5,2,    38.96,2,    31.30,2,     0.06,2,     2.30,2,   2305.2,2,   7.5824,2,    25.00
  29HE20100208,   A21,    10,  1,      5,      5,2,20100211,   0,-50.9198, -54.8487, 1345,    800.6,   2.7997,  34.2586,2,    229.0,2,    229.8,2,    31.79,2,    29.61,2,     0.06,2,     2.15,2,   2297.4,2,   7.6077,2,    25.00
  29HE20100208,   A21,    10,  1,      6,      6,2,20100211,   0,-50.9198, -54.8487, 1345,    598.1,   3.2626,  34.1872,2,    252.3,2,    252.3,2,    25.41,2,    27.81,2,     0.06,2,     2.04,2,   2286.1,2,   7.6399,2,    25.00
  29HE20100208,   A21,    10,  1,      7,      7,2,20100211,   0,-50.9198, -54.8487, 1345,    399.4,   3.4505,  34.1049,2,    288.7,2,    286.9,2,    16.51,2,    26.37,2,     0.08,2,     1.96,2,   2278.0,2,   7.6884,2,    25.00
  29HE20100208,   A21,    10,  1,      8,      8,2,20100211,   0,-50.9198, -54.8487, 1345,    297.4,   3.7501,  34.1022,2,    296.5,2,    296.4,2,    12.85,2,    24.71,2,     0.07,2,     1.84,2,   2274.2,2,   7.7032,2,    25.00
  29HE20100208,   A21,    10,  1,      9,      9,2,20100211,   0,-50.9198, -54.8487, 1345,    201.1,   4.0815,  34.1061,2,    304.0,2,    303.1,2,    10.49,2,    23.91,2,     0.17,2,     1.80,2,   2274.3,2,   7.7170,2,    25.00
  29HE20100208,   A21,    10,  1,     10,     10,2,20100211,   0,-50.9198, -54.8487, 1345,    151.1,   4.3160,  34.1074,2,    305.2,2,    305.3,2,     9.63,2,    23.02,2,     0.29,2,     1.78,2,   2273.1,2,   7.7225,2,    25.00
  29HE20100208,   A21,    10,  1,     11,     11,2,20100211,   0,-50.9198, -54.8487, 1345,    125.3,   4.5525,  34.1101,2,    304.2,2,    304.1,2,     8.98,2,    22.39,2,     0.28,2,     1.75,2,   -999.0,9,-999.0000,9,  -999.00
  29HE20100208,   A21,    10,  1,     12,     12,2,20100211,   0,-50.9198, -54.8487, 1345,     99.6,   4.7931,  34.0964,2,    305.6,2,    305.2,2,     7.79,2,    21.50,2,     0.27,2,     1.72,2,   2274.1,2,   7.7368,2,    25.00
  29HE20100208,   A21,    10,  1,     13,     13,2,20100211,   0,-50.9198, -54.8487, 1345,     73.5,   5.7083,  34.0785,2,    304.9,2,    304.4,2,     5.63,2,    19.45,2,     0.21,2,     1.59,2,   -999.0,9,-999.0000,9,  -999.00
  29HE20100208,   A21,    10,  1,     14,     14,2,20100211,   0,-50.9198, -54.8487, 1345,     48.3,   7.2201,  34.0497,2,    301.2,2,    301.2,2,     3.42,2,    17.24,2,     0.18,2,     1.39,2,   2270.7,2,   7.8174,2,    25.00
  29HE20100208,   A21,    10,  1,     15,     15,2,20100211,   0,-50.9198, -54.8487, 1345,     24.3,   7.5661,  34.0499,2,    300.9,2,    302.0,2,     3.42,2,    16.94,2,     0.18,2,     1.38,2,   -999.0,9,-999.0000,9,  -999.00
  29HE20100208,   A21,    10,  1,     16,     16,2,20100211,   0,-50.9198, -54.8487, 1345,     11.2,   7.5692,  34.0506,2,    301.1,2,    300.7,2,     3.39,2,    16.82,2,     0.18,2,     1.38,2,   2272.2,2,   7.8161,2,    25.00
  29HE20100208,   A21,    11,  1,      1,      1,2,20100212,   0,-50.8977, -54.3207, 1535,   1507.0,   2.2432,  34.6420,2,    169.4,2,    171.7,2,    80.06,2,    32.50,2,     0.06,2,     2.44,2,   2347.4,2,   7.5656,2,    25.00
  29HE20100208,   A21,    11,  1,      2,      2,2,20100212,   0,-50.8977, -54.3207, 1535,   1247.5,   2.4196,  34.5818,2,    169.8,2,    171.4,2,    76.22,2,    33.96,2,     0.06,2,     2.52,2,   2337.2,2,   7.5578,2,    25.00
  29HE20100208,   A21,    11,  1,      3,      3,2,20100212,   0,-50.8977, -54.3207, 1535,    997.1,   2.6410,  34.4896,2,    176.8,2,    178.2,2,    60.26,2,    32.32,2,     0.05,2,     2.35,2,   2327.4,2,   7.5528,2,    25.00
  29HE20100208,   A21,    11,  1,      4,      4,2,20100212,   0,-50.8977, -54.3207, 1535,    901.2,   2.8006,  34.4475,2,    182.3,2,    183.6,2,    62.30,2,    33.98,2,     0.06,2,     2.51,2,   2322.5,2,   7.5623,2,    25.00
  29HE20100208,   A21,    11,  1,      5,      5,2,20100212,   0,-50.8977, -54.3207, 1535,    800.6,   2.9348,  34.3938,2,    192.3,2,    193.5,2,    53.46,2,    33.34,2,     0.06,2,     2.47,2,   2314.3,2,   7.5759,2,    25.00
  29HE20100208,   A21,    11,  1,      6,      6,2,20100212,   0,-50.8977, -54.3207, 1535,    599.2,   2.7624,  34.2270,2,    239.8,2,    239.8,2,    35.46,2,    31.16,2,     0.06,2,     2.31,2,   2288.4,2,   7.6119,2,    25.00
  29HE20100208,   A21,    11,  1,      7,      7,2,20100212,   0,-50.8977, -54.3207, 1535,    400.8,   3.0584,  34.1346,2,    275.0,2,    276.1,2,    22.17,2,    28.13,2,     0.07,2,     2.10,2,   2281.8,2,   7.6589,2,    25.00
  29HE20100208,   A21,    11,  1,      8,      8,2,20100212,   0,-50.8977, -54.3207, 1535,    300.0,   3.2736,  34.1035,2,    293.3,2,    291.8,2,    16.21,2,    26.56,2,     0.07,2,     1.97,2,   2276.9,2,   7.6809,2,    25.00
  29HE20100208,   A21,    11,  1,      9,      9,2,20100212,   0,-50.8977, -54.3207, 1535,    198.5,   3.6747,  34.0999,2,    298.8,2,    298.7,2,    12.74,2,    25.00,2,     0.07,2,     4.65,4,   2274.4,2,   7.6945,2,    25.00
  29HE20100208,   A21,    11,  1,     10,     10,2,20100212,   0,-50.8977, -54.3207, 1535,    150.3,   3.9353,  34.1071,2,    302.1,2,    302.0,2,    11.01,2,    24.29,2,     0.11,2,     1.82,2,   2273.7,2,   7.7110,2,    25.00
  29HE20100208,   A21,    11,  1,     11,     11,2,20100212,   0,-50.8977, -54.3207, 1535,    124.3,   3.9195,  34.0738,2,    308.0,2,    307.4,2,     9.98,2,    23.51,2,     0.33,2,     1.82,2,   -999.0,9,-999.0000,9,  -999.00
  29HE20100208,   A21,    11,  1,     12,     12,2,20100212,   0,-50.8977, -54.3207, 1535,    100.2,   4.4524,  34.0803,2,    307.7,2,    307.6,2,     8.27,2,    21.92,2,     0.38,2,     1.78,2,   2273.9,2,   7.7339,2,    25.00
  29HE20100208,   A21,    11,  1,     13,     13,2,20100212,   0,-50.8977, -54.3207, 1535,     72.9,   6.7244,  34.0524,2,    301.6,2,    302.2,2,     2.96,2,    18.46,2,     0.22,2,     1.53,2,   -999.0,9,-999.0000,9,  -999.00
  29HE20100208,   A21,    11,  1,     14,     14,2,20100212,   0,-50.8977, -54.3207, 1535,     48.8,   7.2809,  34.0623,2,    300.2,2,    300.0,2,     2.14,2,    16.99,2,     0.20,2,     1.37,2,   2273.1,2,   7.8186,2,    25.00
  29HE20100208,   A21,    11,  1,     15,     15,2,20100212,   0,-50.8977, -54.3207, 1535,     25.7,   7.3478,  34.0632,2,    300.3,2,    300.4,2,     2.54,2,    17.03,2,     0.20,2,     1.37,2,   -999.0,9,-999.0000,9,  -999.00
  29HE20100208,   A21,    11,  1,     16,     16,2,20100212,   0,-50.8977, -54.3207, 1535,     12.8,   7.3513,  34.0634,2,    300.2,2,    300.6,2,     3.05,2,    17.05,2,     0.20,2,     1.39,2,   2273.8,2,   7.8154,2,    25.00
  29HE20100208,   A21,    12,  1,      1,      1,2,20100212,   0,-50.8815, -53.7800, 1745,   1719.5,   1.9858,  34.6899,2,    175.7,2,    177.4,2,    74.11,2,    26.29,3,     0.05,2,     1.95,2,   2357.1,2,   7.5786,2,    25.00
  29HE20100208,   A21,    12,  1,      2,      2,2,20100212,   0,-50.8815, -53.7800, 1745,   1496.9,   2.2323,  34.6481,2,    170.0,2,    171.6,2,    71.15,2,    29.29,2,     0.05,2,     2.10,2,   2351.9,2,   7.5632,2,    25.00
  29HE20100208,   A21,    12,  1,      3,      3,2,20100212,   0,-50.8815, -53.7800, 1745,   1251.7,   2.3805,  34.5957,2,    169.5,2,    169.5,2,    63.86,2,    26.20,2,     0.04,2,     2.00,2,   2343.8,2,   7.5599,2,    25.00
  29HE20100208,   A21,    12,  1,      4,      4,2,20100212,   0,-50.8815, -53.7800, 1745,   1000.5,   2.6022,  34.5106,2,    174.7,2,    174.6,2,    54.99,2,    27.39,2,     0.05,2,     2.11,2,   2332.9,2,   7.5538,2,    25.00
  29HE20100208,   A21,    12,  1,      5,      5,2,20100212,   0,-50.8815, -53.7800, 1745,    903.0,   2.7223,  34.4737,2,    179.0,2,    179.5,2,    49.33,2,    25.15,2,     0.04,2,     1.94,2,   2328.4,2,   7.5617,2,    25.00
  29HE20100208,   A21,    12,  1,      6,      6,2,20100212,   0,-50.8815, -53.7800, 1745,    802.8,   2.7849,  34.4293,2,    186.8,2,    186.1,2,    46.07,2,    26.31,2,     0.04,2,     2.00,2,   2322.4,2,   7.5647,2,    25.00
  29HE20100208,   A21,    12,  1,      7,      7,2,20100212,   0,-50.8815, -53.7800, 1745,    599.9,   2.7987,  34.2636,2,    228.2,2,    227.2,2,    35.79,2,    29.45,2,     0.06,2,     2.06,2,   2303.8,2,   7.5961,2,    25.00
  29HE20100208,   A21,    12,  1,      8,      8,2,20100212,   0,-50.8815, -53.7800, 1745,    399.0,   2.9426,  34.1472,2,    271.1,2,    270.2,2,    25.01,2,    29.34,2,     0.06,2,     2.05,2,   2288.6,2,   7.6604,2,    25.00
  29HE20100208,   A21,    12,  1,      9,      9,2,20100212,   0,-50.8815, -53.7800, 1745,    304.1,   3.0543,  34.1176,2,    286.0,2,    284.3,2,    15.00,2,    21.53,2,     0.06,2,     1.63,2,   2283.1,2,   7.6713,2,    25.00
  29HE20100208,   A21,    12,  1,     10,     10,2,20100212,   0,-50.8815, -53.7800, 1745,    202.3,   3.4471,  34.0897,2,    299.8,2,    297.8,2,    11.17,2,    20.72,2,     0.06,2,     1.54,2,   2279.3,2,   7.6942,2,    25.00
  29HE20100208,   A21,    12,  1,     11,     11,2,20100212,   0,-50.8815, -53.7800, 1745,    152.1,   3.5095,  34.0603,2,    306.9,2,    305.0,2,     7.24,2,    16.17,2,     0.10,2,     1.29,2,   2276.8,2,   7.7045,2,    25.00
  29HE20100208,   A21,    12,  1,     12,     12,2,20100212,   0,-50.8815, -53.7800, 1745,    125.9,   3.9380,  34.0783,2,    306.6,2,    306.1,2,     9.23,2,    20.82,2,     0.51,2,     1.54,2,   -999.0,9,-999.0000,9,  -999.00
  29HE20100208,   A21,    12,  1,     13,     13,2,20100212,   0,-50.8815, -53.7800, 1745,     96.7,   4.4710,  34.0759,2,    310.3,2,    309.3,2,     9.06,2,    21.94,2,     0.40,2,     1.71,2,   2277.6,2,   7.7370,2,    25.00
  29HE20100208,   A21,    12,  1,     14,     14,2,20100212,   0,-50.8815, -53.7800, 1745,     70.0,   5.9069,  34.0515,2,    304.8,2,    303.5,2,     3.40,2,    16.77,2,     0.21,2,     1.46,2,   -999.0,9,-999.0000,9,  -999.00
  29HE20100208,   A21,    12,  1,     15,     15,2,20100212,   0,-50.8815, -53.7800, 1745,     50.5,   7.6741,  34.0291,2,    296.9,2,    296.4,2,     0.96,2,    17.85,2,     0.22,2,     1.37,2,   2275.4,2,   7.8180,2,    25.00
  29HE20100208,   A21,    12,  1,     16,     16,2,20100212,   0,-50.8815, -53.7800, 1745,     26.0,   7.7927,  34.0332,2,    298.0,2,    297.4,2,     1.31,2,    17.64,2,     0.22,2,     1.35,2,   -999.0,9,-999.0000,9,  -999.00
  29HE20100208,   A21,    12,  1,     17,     17,2,20100212,   0,-50.8815, -53.7800, 1745,     12.8,   7.7877,  34.0336,2,    298.5,2,    297.2,2,     0.36,2,    12.93,2,     0.16,2,     1.06,2,   2276.9,2,   7.8196,2,    25.00
  29HE20100208,   A21,    13,  1,      1,      1,2,20100212,   0,-50.8585, -53.2473, 1916,   1887.5,   1.7597,  34.7121,2,    181.7,2,    183.2,2,    95.15,2,    32.78,2,     0.06,2,     2.36,2,   -999.0,9,-999.0000,9,  -999.00
  29HE20100208,   A21,    13,  1,      2,      2,2,20100212,   0,-50.8585, -53.2473, 1916,   1749.1,   1.9484,  34.7010,2,    176.6,2,    179.3,2,    85.86,2,    29.37,3,     0.05,2,     2.19,2,   -999.0,9,-999.0000,9,  -999.00
  29HE20100208,   A21,    13,  1,      3,      3,2,20100212,   0,-50.8585, -53.2473, 1916,   1496.7,   2.1513,  34.6672,2,    172.4,2,    173.0,2,    84.46,2,    31.76,2,     0.06,2,     2.34,2,   -999.0,9,-999.0000,9,  -999.00
  29HE20100208,   A21,    13,  1,      4,      4,2,20100212,   0,-50.8585, -53.2473, 1916,   1251.4,   2.2966,  34.6225,2,    169.6,2,    170.4,2,    70.62,2,    27.81,3,     0.05,2,     2.15,2,   -999.0,9,-999.0000,9,  -999.00
  29HE20100208,   A21,    13,  1,      5,      5,2,20100212,   0,-50.8585, -53.2473, 1916,   1000.3,   2.5166,  34.5397,2,    171.8,2,    172.6,2,    73.78,2,    34.68,2,     0.06,2,     2.50,2,   -999.0,9,-999.0000,9,  -999.00
  29HE20100208,   A21,    13,  1,      6,      6,2,20100212,   0,-50.8585, -53.2473, 1916,    900.6,   2.5851,  34.5019,2,    176.0,2,    176.3,2,    66.80,2,    34.31,2,     0.06,2,     2.47,2,   -999.0,9,-999.0000,9,  -999.00
  29HE20100208,   A21,    13,  1,      7,      7,2,20100212,   0,-50.8585, -53.2473, 1916,    802.3,   2.6380,  34.4441,2,    183.9,2,    184.0,2,    59.57,2,    32.36,2,     0.06,2,     2.41,2,   -999.0,9,-999.0000,9,  -999.00
  29HE20100208,   A21,    13,  1,      8,      8,2,20100212,   0,-50.8585, -53.2473, 1916,    599.5,   2.6206,  34.2982,2,    217.9,2,    219.0,2,    45.26,2,    32.87,2,     0.06,2,     2.37,2,   -999.0,9,-999.0000,9,  -999.00
  29HE20100208,   A21,    13,  1,      9,      9,2,20100212,   0,-50.8585, -53.2473, 1916,    399.3,   2.0596,  34.1024,2,    282.8,2,    282.2,2,    27.50,2,    29.77,2,     0.06,2,     2.15,2,   -999.0,9,-999.0000,9,  -999.00
  29HE20100208,   A21,    13,  1,     10,     10,2,20100212,   0,-50.8585, -53.2473, 1916,    300.3,   2.6958,  34.1144,2,    277.7,2,    277.0,2,    23.66,2,    28.35,2,     0.06,2,     2.06,2,   -999.0,9,-999.0000,9,  -999.00
  29HE20100208,   A21,    13,  1,     11,     11,2,20100212,   0,-50.8585, -53.2473, 1916,    199.8,   2.7649,  34.0558,2,    300.8,2,    299.0,2,    17.25,2,    26.21,2,     0.10,2,     1.93,2,   -999.0,9,-999.0000,9,  -999.00
  29HE20100208,   A21,    13,  1,     12,     12,2,20100212,   0,-50.8585, -53.2473, 1916,    150.3,   2.9835,  34.0346,2,    307.8,2,    306.6,2,    12.16,2,    22.44,2,     0.34,2,     1.71,2,   -999.0,9,-999.0000,9,  -999.00
  29HE20100208,   A21,    13,  1,     13,     13,2,20100212,   0,-50.8585, -53.2473, 1916,    124.1,   3.3035,  34.0296,2,    311.5,2,    310.8,2,    10.21,2,    20.91,2,     0.44,2,     1.69,2,   -999.0,9,-999.0000,9,  -999.00
  29HE20100208,   A21,    13,  1,     14,     14,2,20100212,   0,-50.8585, -53.2473, 1916,    101.3,   4.5414,  34.0098,2,    312.1,2,    309.2,2,     6.43,2,    18.79,2,     0.27,2,     1.66,2,   -999.0,9,-999.0000,9,  -999.00
  29HE20100208,   A21,    13,  1,     15,     15,2,20100212,   0,-50.8585, -53.2473, 1916,     75.1,   6.8823,  33.9983,2,    304.2,2,    304.6,2,     2.00,2,    18.83,2,     0.23,2,     1.47,2,   -999.0,9,-999.0000,9,  -999.00
  29HE20100208,   A21,    13,  1,     16,     16,2,20100212,   0,-50.8585, -53.2473, 1916,     50.4,   6.9971,  34.0094,2,    305.2,2,    304.8,2,     1.21,2,    18.45,2,     0.22,2,     1.42,2,   -999.0,9,-999.0000,9,  -999.00
  29HE20100208,   A21,    13,  1,     17,     17,2,20100212,   0,-50.8585, -53.2473, 1916,     24.6,   7.2341,  34.0151,2,    305.5,2,    305.5,2,     0.96,2,    18.06,2,     0.22,2,     1.38,2,   -999.0,9,-999.0000,9,  -999.00
  29HE20100208,   A21,    13,  1,     18,     18,2,20100212,   0,-50.8585, -53.2473, 1916,     12.2,   7.2465,  34.0161,2,    305.4,2,    305.1,2,     0.56,2,    16.10,2,     0.20,2,     1.28,2,   -999.0,9,-999.0000,9,  -999.00