BOTTLE,20220207CCHSIOENA
EXPOCODE,SECT_ID,STNNBR,CASTNO,SAMPNO,BTLNBR,BTLNBR_FLAG_W,DATE,TIME,LATITUDE,LONGITUDE,DEPTH,CTDPRS,CTDTMP,CTDSAL,CTDSAL_FLAG_W,CTDOXY,CTDOXY_FLAG_W,OXYGEN,OXYGEN_FLAG_W,SILCAT,SILCAT_FLAG_W,NITRAT,NITRAT_FLAG_W,NITRIT,NITRIT_FLAG_W,PHSPHT,PHSPHT_FLAG_W,ALKALI,ALKALI_FLAG_W,PH_SWS,PH_SWS_FLAG_W,PH_TMP
,,,,,,,,,,,METERS,DBAR,ITS-90,PSS-78,,UMOL/KG,,UMOL/KG,,UMOL/KG,,UMOL/KG,,UMOL/KG,,UMOL/KG,,UMOL/KG,,,,DEG C
  29HE20100208,   A21,    31,  1,      1,      1,2,20100220,   0,-50.2298, -41.5888, 1385,   1358.4,   1.9303,  34.7120,2,    176.5,2,    182.0,2,    98.52,2,    32.49,2,     0.07,2,     2.37,2,   -999.0,9,-999.0000,9,  -999.00
  29HE20100208,   A21,    31,  1,      2,      2,2,20100220,   0,-50.2298, -41.5888, 1385,   1249.5,   2.0336,  34.6949,2,    175.7,2,    180.9,2,    91.79,2,    32.89,2,     0.06,2,     2.39,2,   -999.0,9,-999.0000,9,  -999.00
  29HE20100208,   A21,    31,  1,      3,      3,2,20100220,   0,-50.2298, -41.5888, 1385,    999.4,   2.2129,  34.6424,2,    171.0,2,    173.1,2,    85.60,2,    33.68,2,     0.06,2,     2.44,2,   -999.0,9,-999.0000,9,  -999.00
  29HE20100208,   A21,    31,  1,      4,      4,2,20100220,   0,-50.2298, -41.5888, 1385,    904.1,   2.2565,  34.5923,2,    172.0,2,    175.3,2,    80.88,2,    34.25,2,     0.06,2,     2.48,2,   -999.0,9,-999.0000,9,  -999.00
  29HE20100208,   A21,    31,  1,      5,      5,2,20100220,   0,-50.2298, -41.5888, 1385,    770.9,   2.3969,  34.5252,2,    174.4,2,    180.1,2,  -999.00,9,  -999.00,9,  -999.00,9,  -999.00,9,   -999.0,9,-999.0000,9,  -999.00
  29HE20100208,   A21,    31,  1,      6,      6,2,20100220,   0,-50.2298, -41.5888, 1385,    599.2,   2.6748,  34.4221,2,    186.1,2,    186.9,2,    61.44,2,    34.26,2,     0.06,2,     2.49,2,   -999.0,9,-999.0000,9,  -999.00
  29HE20100208,   A21,    31,  1,      7,      7,2,20100220,   0,-50.2298, -41.5888, 1385,    399.0,   2.5191,  34.2204,2,    239.4,2,    239.9,2,    38.57,2,    31.49,2,     0.06,2,     2.29,2,   -999.0,9,-999.0000,9,  -999.00
  29HE20100208,   A21,    31,  1,      8,      8,2,20100220,   0,-50.2298, -41.5888, 1385,    302.9,   2.4398,  34.1279,2,    272.8,2,    271.7,2,    26.91,2,    29.70,2,     0.06,2,     2.15,2,   -999.0,9,-999.0000,9,  -999.00
  29HE20100208,   A21,    31,  1,      9,      9,2,20100220,   0,-50.2298, -41.5888, 1385,    202.9,   2.9434,  34.0957,2,    284.0,2,    281.7,2,    20.37,2,    28.10,2,     0.07,2,     2.04,2,   -999.0,9,-999.0000,9,  -999.00
  29HE20100208,   A21,    31,  1,     10,     10,2,20100220,   0,-50.2298, -41.5888, 1385,    148.7,   3.1379,  34.0868,2,    288.0,2,    285.5,2,  -999.00,9,  -999.00,9,  -999.00,9,  -999.00,9,   -999.0,9,-999.0000,9,  -999.00
  29HE20100208,   A21,    31,  1,     11,     11,2,20100220,   0,-50.2298, -41.5888, 1385,    123.5,   3.2339,  34.0791,2,    291.6,2,    289.7,2,    16.15,2,    26.82,2,     0.08,2,     1.96,2,   -999.0,9,-999.0000,9,  -999.00
  29HE20100208,   A21,    31,  1,     12,     12,2,20100220,   0,-50.2298, -41.5888, 1385,     98.4,   3.3352,  34.0689,2,    295.2,2,    292.3,2,    14.44,2,    26.38,2,     0.09,2,     1.92,2,   -999.0,9,-999.0000,9,  -999.00
  29HE20100208,   A21,    31,  1,     13,     13,2,20100220,   0,-50.2298, -41.5888, 1385,     75.1,   3.4328,  34.0619,2,    297.4,2,    294.3,2,    13.22,2,    26.01,2,     0.13,2,     1.91,2,   -999.0,9,-999.0000,9,  -999.00
  29HE20100208,   A21,    31,  1,     14,     14,2,20100220,   0,-50.2298, -41.5888, 1385,     49.2,   5.5762,  33.9743,2,    302.8,2,    300.8,2,     4.59,2,    21.31,2,     0.31,2,     1.76,2,   -999.0,9,-999.0000,9,  -999.00
  29HE20100208,   A21,    31,  1,     15,     15,2,20100220,   0,-50.2298, -41.5888, 1385,     25.4,   6.2502,  33.9537,2,    308.2,2,    305.3,2,     2.47,2,    20.27,2,     0.28,2,     1.50,2,   -999.0,9,-999.0000,9,  -999.00
  29HE20100208,   A21,    31,  1,     16,     16,2,20100220,   0,-50.2298, -41.5888, 1385,     13.3,   6.3193,  33.9443,2,    308.6,2,    306.5,2,     1.94,2,    20.01,2,     0.28,2,     1.51,2,   -999.0,9,-999.0000,9,  -999.00
  29HE20100208,   A21,    32,  1,      1,      1,2,20100220,   0,-49.9862, -41.0585, 1715,   1704.3,   5.7030,  34.7251,2,    310.6,4,    185.7,2,    98.67,2,    31.86,2,     0.07,2,     2.36,2,   2356.8,2,   7.5901,2,    25.00
  29HE20100208,   A21,    32,  1,      2,      2,2,20100220,   0,-49.9862, -41.0585, 1715,   1500.7,   5.6406,  34.7139,2,    311.2,4,    183.1,2,    98.55,2,    32.52,2,     0.06,2,     2.37,2,   2357.6,2,   7.5859,2,    25.00
  29HE20100208,   A21,    32,  1,      3,      3,2,20100220,   0,-49.9862, -41.0585, 1715,   1246.5,   5.1055,  34.6936,2,    311.1,4,    174.6,2,    94.40,2,    32.98,2,     0.05,2,     2.41,2,   2355.2,2,   7.5744,2,    25.00
  29HE20100208,   A21,    32,  1,      4,      4,2,20100220,   0,-49.9862, -41.0585, 1715,    997.8,   2.1870,  34.6407,2,    258.2,2,    172.8,2,    85.85,2,    33.61,2,     0.07,2,     2.46,2,   2345.2,2,   7.5614,2,    25.00
  29HE20100208,   A21,    32,  1,      5,      5,2,20100220,   0,-49.9862, -41.0585, 1715,    901.1,   2.5002,  34.6148,2,    185.8,2,    170.5,2,    83.23,2,    34.11,2,     0.06,2,     2.47,2,   2341.4,2,   7.5564,2,    25.00
  29HE20100208,   A21,    32,  1,      6,      6,2,20100220,   0,-49.9862, -41.0585, 1715,    797.9,   2.5023,  34.5781,2,    174.6,2,    172.4,2,    79.79,2,    34.32,2,     0.06,2,     2.50,2,   2338.9,2,   7.5501,2,    25.00
  29HE20100208,   A21,    32,  1,      7,      7,2,20100220,   0,-49.9862, -41.0585, 1715,    597.0,   2.3597,  34.4693,2,    170.9,2,    179.3,2,    68.36,2,    34.64,2,     0.06,2,     2.52,2,   2326.6,2,   7.5464,2,    25.00
  29HE20100208,   A21,    32,  1,      8,      8,2,20100220,   0,-49.9862, -41.0585, 1715,    399.0,   2.2255,  34.2674,2,    171.3,2,    223.5,2,    46.93,2,    32.92,2,     0.07,2,     2.39,2,   2304.7,2,   7.5887,2,    25.00
  29HE20100208,   A21,    32,  1,      9,      9,2,20100220,   0,-49.9862, -41.0585, 1715,    297.7,   2.0984,  34.1672,2,    171.6,2,    257.2,2,    34.79,2,    30.98,2,     0.07,2,     2.27,2,   2291.3,2,   7.6232,2,    25.00
  29HE20100208,   A21,    32,  1,     10,     10,2,20100220,   0,-49.9862, -41.0585, 1715,    196.5,   2.0202,  34.0827,2,    173.5,2,    284.3,2,    26.10,2,    29.42,2,     0.07,2,     2.14,2,   2283.8,2,   7.6503,2,    25.00
  29HE20100208,   A21,    32,  1,     11,     11,2,20100220,   0,-49.9862, -41.0585, 1715,    149.3,   1.8014,  34.0443,2,    184.0,2,    296.6,2,    21.13,2,    28.03,2,     0.25,2,     2.07,2,   2278.5,2,   7.6666,2,    25.00
  29HE20100208,   A21,    32,  1,     12,     12,2,20100220,   0,-49.9862, -41.0585, 1715,    125.1,   1.8059,  34.0293,2,    182.8,2,    298.9,2,    19.69,2,    27.45,2,     0.32,2,     2.04,2,   -999.0,9,-999.0000,9,  -999.00
  29HE20100208,   A21,    32,  1,     13,     13,2,20100220,   0,-49.9862, -41.0585, 1715,     95.2,   1.8066,  33.9835,2,    184.6,2,    307.1,2,    12.80,2,    24.76,2,     0.49,2,     1.97,2,   2277.0,2,   7.7034,2,    25.00
  29HE20100208,   A21,    32,  1,     14,     14,2,20100220,   0,-49.9862, -41.0585, 1715,     75.7,   1.8058,  33.9102,2,    184.0,2,    311.1,2,     4.01,2,    21.31,2,     0.28,2,     1.67,2,   -999.0,9,-999.0000,9,  -999.00
  29HE20100208,   A21,    32,  1,     15,     15,2,20100220,   0,-49.9862, -41.0585, 1715,     47.6,   1.8059,  33.8884,2,    183.4,2,    310.0,2,     2.52,2,    20.53,2,     0.25,2,     1.58,2,   2275.0,2,   7.7856,2,    25.00
  29HE20100208,   A21,    32,  1,     16,     16,2,20100220,   0,-49.9862, -41.0585, 1715,     23.5,   1.8061,  33.8737,2,    183.7,2,    309.1,2,     2.45,2,    20.47,2,     0.25,2,     1.56,2,   -999.0,9,-999.0000,9,  -999.00
  29HE20100208,   A21,    32,  1,     17,     17,2,20100220,   0,-49.9862, -41.0585, 1715,     11.4,   1.8059,  33.8720,2,    183.6,2,    309.6,2,     2.44,2,    20.50,2,     0.25,2,     1.58,2,   2271.3,2,   7.7878,2,    25.00
  29HE20100208,   A21,    33,  1,      1,      1,2,20100220,   0,-49.7432, -40.5283, 1985,   1953.2,   1.4135,  34.7252,2,    191.2,2,    193.4,2,   108.02,2,    32.17,2,     0.06,2,     2.30,2,   -999.0,9,-999.0000,9,  -999.00
  29HE20100208,   A21,    33,  1,      2,      2,2,20100220,   0,-49.7432, -40.5283, 1985,   1756.2,   1.4987,  34.7239,2,    188.6,2,    191.4,2,   104.81,2,    32.23,2,     0.05,2,     2.30,2,   -999.0,9,-999.0000,9,  -999.00
  29HE20100208,   A21,    33,  1,      3,      3,2,20100220,   0,-49.7432, -40.5283, 1985,   1497.3,   1.7643,  34.7143,2,    182.6,2,    179.9,2,    97.65,2,    32.38,2,     0.06,2,     2.32,2,   -999.0,9,-999.0000,9,  -999.00
  29HE20100208,   A21,    33,  1,      4,      4,2,20100220,   0,-49.7432, -40.5283, 1985,   1249.8,   1.9634,  34.6966,2,    176.6,2,    179.0,2,    92.79,2,    32.90,2,     0.06,2,     2.34,2,   -999.0,9,-999.0000,9,  -999.00
  29HE20100208,   A21,    33,  1,      5,      5,2,20100220,   0,-49.7432, -40.5283, 1985,   1000.9,   2.1639,  34.6561,2,    172.4,2,    174.6,2,    86.11,2,    33.60,2,     0.06,2,     2.40,2,   -999.0,9,-999.0000,9,  -999.00
  29HE20100208,   A21,    33,  1,      6,      6,2,20100220,   0,-49.7432, -40.5283, 1985,    899.0,   2.2170,  34.6251,2,    171.6,2,    176.3,2,    82.94,2,    33.89,2,     0.06,2,     2.42,2,   -999.0,9,-999.0000,9,  -999.00
  29HE20100208,   A21,    33,  1,      7,      7,2,20100220,   0,-49.7432, -40.5283, 1985,    801.9,   2.2646,  34.5967,2,    171.5,2,    172.1,2,    80.84,2,    34.21,2,     0.06,2,     2.44,2,   -999.0,9,-999.0000,9,  -999.00
  29HE20100208,   A21,    33,  1,      8,      8,2,20100220,   0,-49.7432, -40.5283, 1985,    600.3,   2.5325,  34.4918,2,    176.5,2,    179.1,2,    69.08,2,    34.64,2,     0.06,2,     2.47,2,   -999.0,9,-999.0000,9,  -999.00
  29HE20100208,   A21,    33,  1,      9,      9,2,20100220,   0,-49.7432, -40.5283, 1985,    400.9,   2.3946,  34.3430,2,    204.8,2,    206.2,2,    54.78,2,    33.97,2,     0.06,2,     2.41,2,   -999.0,9,-999.0000,9,  -999.00
  29HE20100208,   A21,    33,  1,     10,     10,2,20100220,   0,-49.7432, -40.5283, 1985,    304.1,   2.2584,  34.2264,2,    239.1,2,    239.2,2,    41.29,2,    32.21,2,     0.06,2,     2.30,2,   -999.0,9,-999.0000,9,  -999.00
  29HE20100208,   A21,    33,  1,     11,     11,2,20100220,   0,-49.7432, -40.5283, 1985,    199.4,   1.7820,  34.0956,2,    281.9,2,   -999.0,9,  -999.00,9,  -999.00,9,  -999.00,9,  -999.00,9,   -999.0,9,-999.0000,9,  -999.00
  29HE20100208,   A21,    33,  1,     12,     12,2,20100220,   0,-49.7432, -40.5283, 1985,    150.0,   1.6743,  34.0399,2,    302.5,2,    300.2,2,    23.55,2,    28.86,2,     0.08,2,     2.08,2,   -999.0,9,-999.0000,9,  -999.00
  29HE20100208,   A21,    33,  1,     13,     13,2,20100220,   0,-49.7432, -40.5283, 1985,    126.3,   1.6464,  34.0091,2,    312.6,2,    309.3,2,    21.31,2,    28.21,2,     0.23,2,     2.06,2,   -999.0,9,-999.0000,9,  -999.00
  29HE20100208,   A21,    33,  1,     14,     14,2,20100220,   0,-49.7432, -40.5283, 1985,     97.7,   1.9132,  33.9291,2,    325.7,2,    323.2,2,    15.15,2,    24.96,2,     0.36,2,     1.95,2,   -999.0,9,-999.0000,9,  -999.00
  29HE20100208,   A21,    33,  1,     15,     15,2,20100220,   0,-49.7432, -40.5283, 1985,     71.1,   4.1149,  33.8622,2,    317.8,2,    315.1,2,     4.70,2,    21.07,2,     0.25,2,     1.68,2,   -999.0,9,-999.0000,9,  -999.00
  29HE20100208,   A21,    33,  1,     16,     16,2,20100220,   0,-49.7432, -40.5283, 1985,     47.5,   5.4366,  33.8374,2,    312.7,2,    311.9,2,     1.67,2,    19.53,2,     0.21,2,     1.49,2,   -999.0,9,-999.0000,9,  -999.00
  29HE20100208,   A21,    33,  1,     17,     17,2,20100220,   0,-49.7432, -40.5283, 1985,     24.0,   5.4982,  33.8105,2,    312.8,2,    311.3,2,     1.51,2,    19.35,2,     0.21,2,     1.48,2,   -999.0,9,-999.0000,9,  -999.00
  29HE20100208,   A21,    33,  1,     18,     18,2,20100220,   0,-49.7432, -40.5283, 1985,     11.8,   5.5028,  33.8094,2,    312.7,2,    310.7,2,     1.51,2,    19.38,2,     0.21,2,     1.48,2,   -999.0,9,-999.0000,9,  -999.00
  29HE20100208,   A21,    34,  1,      1,      1,2,20100220,   0,-49.4982, -40.0002, 3122,   3098.4,   0.1908,  34.6784,2,    219.7,2,    220.8,2,   126.40,2,    32.82,2,     0.07,2,     2.38,2,   2358.6,2,   7.5925,2,    25.00
  29HE20100208,   A21,    34,  1,      2,      2,2,20100220,   0,-49.4982, -40.0002, 3122,   2747.5,   0.5222,  34.6910,2,    211.9,2,    214.2,2,   118.46,2,    32.62,2,     0.06,2,     2.36,2,   2360.4,2,   7.5944,2,    25.00
  29HE20100208,   A21,    34,  1,      3,      3,2,20100220,   0,-49.4982, -40.0002, 3122,   2500.0,   0.7108,  34.6986,2,    208.5,2,    208.4,2,   116.70,2,    32.60,2,     0.06,2,     2.34,2,   2358.7,2,   7.5956,2,    25.00
  29HE20100208,   A21,    34,  1,      4,      4,2,20100220,   0,-49.4982, -40.0002, 3122,   2249.2,   0.8893,  34.7029,2,    204.5,2,    204.1,2,   112.94,2,    32.42,2,     0.06,2,     2.34,2,   2358.8,2,   7.5969,2,    25.00
  29HE20100208,   A21,    34,  1,      5,      5,2,20100220,   0,-49.4982, -40.0002, 3122,   1995.9,   1.1325,  34.7063,2,    201.2,2,    201.2,2,   107.01,2,    32.34,2,     0.07,2,     2.34,2,   2356.1,2,   7.5968,2,    25.00
  29HE20100208,   A21,    34,  1,      6,      6,2,20100220,   0,-49.4982, -40.0002, 3122,   1750.8,   1.3562,  34.7080,2,    195.5,2,    197.2,2,   102.68,2,    32.43,2,     0.06,2,     2.34,2,   2356.3,2,   7.5915,2,    25.00
  29HE20100208,   A21,    34,  1,      7,      7,2,20100220,   0,-49.4982, -40.0002, 3122,   1501.6,   1.7013,  34.7197,2,    184.8,2,    184.9,2,    99.57,2,    32.59,2,     0.06,2,     2.34,2,   2355.9,2,   7.5891,2,    25.00
  29HE20100208,   A21,    34,  1,      8,      8,2,20100220,   0,-49.4982, -40.0002, 3122,   1251.1,   1.8833,  34.7075,2,    178.6,2,    179.8,2,    96.10,2,    33.00,2,     0.06,2,     2.36,2,   2357.5,2,   7.5836,2,    25.00
  29HE20100208,   A21,    34,  1,      9,      9,2,20100220,   0,-49.4982, -40.0002, 3122,    999.8,   2.0624,  34.6806,2,    174.0,2,    175.4,2,    89.25,2,    33.44,2,     0.06,2,     2.39,2,   2348.9,2,   7.5706,2,    25.00
  29HE20100208,   A21,    34,  1,     10,     10,2,20100220,   0,-49.4982, -40.0002, 3122,    901.3,   2.1236,  34.6603,2,    173.3,2,    175.6,2,    86.87,2,    33.62,2,     0.06,2,     2.42,2,   2346.4,2,   7.5670,2,    25.00
  29HE20100208,   A21,    34,  1,     11,     11,2,20100220,   0,-49.4982, -40.0002, 3122,    800.0,   2.1890,  34.6395,2,    171.5,2,    176.7,2,    84.63,2,    34.03,2,     0.06,2,     2.43,2,   2345.7,2,   7.5618,2,    25.00
  29HE20100208,   A21,    34,  1,     12,     12,2,20100220,   0,-49.4982, -40.0002, 3122,    601.3,   2.3232,  34.5531,2,    173.6,2,    179.1,2,    76.52,2,    34.86,2,     0.06,2,     2.49,2,   2335.7,2,   7.5474,2,    25.00
  29HE20100208,   A21,    34,  1,     13,     13,2,20100220,   0,-49.4982, -40.0002, 3122,    399.4,   2.4132,  34.4069,2,    191.7,2,    189.9,2,    62.08,2,    34.73,2,     0.07,2,     2.48,2,   2318.1,2,   7.5571,2,    25.00
  29HE20100208,   A21,    34,  1,     14,     14,2,20100220,   0,-49.4982, -40.0002, 3122,    297.9,   2.1538,  34.2847,2,    221.7,2,    221.5,2,    49.86,2,    33.58,2,     0.07,2,     2.39,2,   2304.1,2,   7.5799,2,    25.00
  29HE20100208,   A21,    34,  1,     15,     15,2,20100220,   0,-49.4982, -40.0002, 3122,    202.2,   1.4694,  34.1146,2,    274.9,2,    273.6,2,    35.04,2,    31.16,2,     0.08,2,     2.24,2,   2289.1,2,   7.6243,2,    25.00
  29HE20100208,   A21,    34,  1,     16,     16,2,20100220,   0,-49.4982, -40.0002, 3122,    149.9,   0.8870,  33.9839,2,    313.7,2,    310.3,2,    26.20,2,    29.20,2,     0.23,2,     2.12,2,   -999.0,9,-999.0000,9,  -999.00
  29HE20100208,   A21,    34,  1,     17,     17,2,20100220,   0,-49.4982, -40.0002, 3122,    119.8,   1.2003,  33.9425,2,    321.6,2,    318.8,2,    21.56,2,    27.19,2,     0.33,2,     2.05,2,   -999.0,9,-999.0000,9,  -999.00
  29HE20100208,   A21,    34,  1,     18,     18,2,20100220,   0,-49.4982, -40.0002, 3122,     95.7,   2.0875,  33.9043,2,    323.3,2,    319.4,2,    14.10,2,    24.16,2,     0.31,2,     1.92,2,   2280.6,2,   7.7108,2,    25.00
  29HE20100208,   A21,    34,  1,     19,     19,2,20100220,   0,-49.4982, -40.0002, 3122,     74.1,   2.8422,  33.8905,2,    321.0,2,    317.3,2,     9.15,2,    22.86,2,     0.29,2,     1.84,2,   -999.0,9,-999.0000,9,  -999.00
  29HE20100208,   A21,    34,  1,     20,     20,2,20100220,   0,-49.4982, -40.0002, 3122,     50.5,   4.4269,  33.8332,2,    316.3,2,    314.4,2,     2.71,2,    20.53,2,     0.26,2,     1.62,2,   -999.0,9,-999.0000,9,  -999.00
  29HE20100208,   A21,    34,  1,     21,     21,2,20100220,   0,-49.4982, -40.0002, 3122,     24.7,   5.5080,  33.7680,2,    313.4,2,    311.0,2,     1.69,2,    19.33,2,     0.24,2,     1.46,2,   -999.0,9,-999.0000,9,  -999.00
  29HE20100208,   A21,    34,  1,     22,     22,2,20100220,   0,-49.4982, -40.0002, 3122,      9.8,   5.5217,  33.7664,2,    313.7,2,    310.9,2,     1.79,2,    19.36,2,     0.24,2,     1.48,2,   2273.8,2,   7.8003,2,    25.00