BOTTLE,20220207CCHSIOENA
EXPOCODE,SECT_ID,STNNBR,CASTNO,SAMPNO,BTLNBR,BTLNBR_FLAG_W,DATE,TIME,LATITUDE,LONGITUDE,DEPTH,CTDPRS,CTDTMP,CTDSAL,CTDSAL_FLAG_W,CTDOXY,CTDOXY_FLAG_W,OXYGEN,OXYGEN_FLAG_W,SILCAT,SILCAT_FLAG_W,NITRAT,NITRAT_FLAG_W,NITRIT,NITRIT_FLAG_W,PHSPHT,PHSPHT_FLAG_W,ALKALI,ALKALI_FLAG_W,PH_SWS,PH_SWS_FLAG_W,PH_TMP
,,,,,,,,,,,METERS,DBAR,ITS-90,PSS-78,,UMOL/KG,,UMOL/KG,,UMOL/KG,,UMOL/KG,,UMOL/KG,,UMOL/KG,,UMOL/KG,,,,DEG C
  29HE20100208,   A21,    42,  1,      1,      1,2,20100225,   0,-41.5275, -31.2198, 4550,   4606.1,   0.2631,  34.6769,2,    223.5,2,    221.5,2,   124.19,2,    33.29,2,     0.06,2,     2.38,2,   2363.8,2,   7.6002,2,    25.00
  29HE20100208,   A21,    42,  1,      2,      2,2,20100225,   0,-41.5275, -31.2198, 4550,   4499.4,   0.2659,  34.6775,2,    223.7,2,   -999.0,9,   124.36,2,    33.22,2,     0.06,2,     2.37,2,   2364.2,2,   7.5985,2,    25.00
  29HE20100208,   A21,    42,  1,      3,      3,2,20100225,   0,-41.5275, -31.2198, 4550,   3999.0,   0.5452,  34.6924,2,    217.0,2,    215.1,2,   118.66,2,    32.84,2,     0.06,2,     2.33,2,   2362.9,2,   7.5863,2,    25.00
  29HE20100208,   A21,    42,  1,      4,      4,2,20100225,   0,-41.5275, -31.2198, 4550,   3496.6,   1.1557,  34.7287,2,    208.0,2,    207.5,2,   106.26,2,    31.76,2,     0.06,2,     2.23,2,   2361.1,2,   7.5977,2,    25.00
  29HE20100208,   A21,    42,  1,      5,      5,2,20100225,   0,-41.5275, -31.2198, 4550,   3246.8,   1.4849,  34.7523,2,    208.0,2,    206.8,2,    81.91,2,    28.87,2,     0.06,2,     2.02,2,   2357.9,2,   7.6096,2,    25.00
  29HE20100208,   A21,    42,  1,      6,      6,2,20100225,   0,-41.5275, -31.2198, 4550,   2999.0,   1.8988,  34.7874,2,    212.5,2,    210.2,2,  -999.00,9,  -999.00,9,  -999.00,9,  -999.00,9,   2354.7,2,-999.0000,9,  -999.00
  29HE20100208,   A21,    42,  1,      7,      7,2,20100225,   0,-41.5275, -31.2198, 4550,   2749.2,   2.2744,  34.8231,2,    218.2,2,    217.4,2,    68.05,2,    27.12,2,     0.06,2,     1.89,2,   2341.1,2,   7.6542,2,    25.00
  29HE20100208,   A21,    42,  1,      8,      8,2,20100225,   0,-41.5275, -31.2198, 4550,   2497.0,   2.4319,  34.8124,2,    213.3,2,    211.6,2,    65.57,2,    27.54,2,     0.06,2,     1.93,2,   2340.4,2,   7.6415,2,    25.00
  29HE20100208,   A21,    42,  1,      9,      9,2,20100225,   0,-41.5275, -31.2198, 4550,   2247.2,   2.6235,  34.8042,2,    208.0,2,    206.0,2,    58.35,2,    25.98,2,     0.06,2,     1.85,2,   2338.2,2,   7.6339,2,    25.00
  29HE20100208,   A21,    42,  1,     10,     10,2,20100225,   0,-41.5275, -31.2198, 4550,   1999.6,   2.7506,  34.7725,2,    199.6,2,    197.6,2,    63.21,2,    29.36,2,     0.06,2,     2.04,2,   2336.1,2,   7.6234,2,    25.00
  29HE20100208,   A21,    42,  1,     11,     11,2,20100225,   0,-41.5275, -31.2198, 4550,   1748.4,   2.8476,  34.7199,2,    192.1,2,    189.7,2,    62.19,2,    30.61,2,     0.06,2,     2.13,2,   2333.5,2,   7.6080,2,    25.00
  29HE20100208,   A21,    42,  1,     12,     12,2,20100225,   0,-41.5275, -31.2198, 4550,   1498.7,   2.8133,  34.6104,2,    182.3,2,    182.0,2,    63.59,2,    32.96,2,     0.06,2,     2.30,2,   2330.4,2,   7.5844,2,    25.00
  29HE20100208,   A21,    42,  1,     13,     13,2,20100225,   0,-41.5275, -31.2198, 4550,   1248.1,   2.8412,  34.4906,2,    185.6,2,    183.3,2,    59.47,2,    34.11,2,     0.06,2,     2.38,2,   -999.0,9,-999.0000,9,  -999.00
  29HE20100208,   A21,    42,  1,     14,     14,2,20100225,   0,-41.5275, -31.2198, 4550,    999.5,   3.0830,  34.3378,2,    208.3,2,    205.6,2,    43.07,2,    32.04,2,     0.06,2,     2.26,2,   2305.8,2,   7.5954,2,    25.00
  29HE20100208,   A21,    42,  1,     15,     15,2,20100225,   0,-41.5275, -31.2198, 4550,    900.4,   3.3209,  34.2834,2,    222.3,2,    237.5,3,    36.16,2,    32.08,2,     0.06,2,     2.24,2,   2297.9,2,   7.6084,2,    25.00
  29HE20100208,   A21,    42,  1,     16,     16,2,20100225,   0,-41.5275, -31.2198, 4550,    796.4,   3.5862,  34.2391,2,    235.3,2,    232.9,2,    29.28,2,    30.87,2,     0.06,2,     2.15,2,   2290.8,2,   7.6315,2,    25.00
  29HE20100208,   A21,    42,  1,     17,     17,2,20100225,   0,-41.5275, -31.2198, 4550,    596.1,   4.3734,  34.2078,2,    254.4,2,    249.7,2,    17.00,2,    27.53,2,     0.06,2,     1.92,2,   2281.4,2,   7.6635,2,    25.00
  29HE20100208,   A21,    42,  1,     18,     18,2,20100225,   0,-41.5275, -31.2198, 4550,    397.7,   5.8216,  34.2822,2,    251.7,2,    247.0,2,    10.62,2,    24.83,2,     0.07,2,     1.75,2,   2277.7,2,   7.6892,2,    25.00
  29HE20100208,   A21,    42,  1,     19,     19,2,20100225,   0,-41.5275, -31.2198, 4550,    198.0,  10.3180,  34.8075,2,    244.8,2,    239.7,2,     3.69,2,    13.09,2,     0.07,2,     1.05,2,   2302.8,2,   7.7936,2,    25.00
  29HE20100208,   A21,    42,  1,     20,     20,2,20100225,   0,-41.5275, -31.2198, 4550,    148.0,  11.2092,  34.9262,2,    244.9,2,    239.7,2,     3.48,2,    11.69,2,     0.07,2,     0.96,2,   -999.0,9,-999.0000,9,  -999.00
  29HE20100208,   A21,    42,  1,     21,     21,2,20100225,   0,-41.5275, -31.2198, 4550,     98.3,  12.2586,  35.0379,2,    229.4,2,    224.3,2,     3.12,2,    11.07,2,     0.08,2,     0.92,2,   2311.3,2,   7.8383,2,    25.00
  29HE20100208,   A21,    42,  1,     22,     22,2,20100225,   0,-41.5275, -31.2198, 4550,     47.0,  16.1729,  34.8114,2,    246.6,2,    218.9,3,  -999.00,9,  -999.00,9,  -999.00,9,  -999.00,9,   -999.0,9,-999.0000,9,  -999.00
  29HE20100208,   A21,    42,  1,     23,     23,2,20100225,   0,-41.5275, -31.2198, 4550,     27.2,  16.4293,  34.8342,2,    248.6,2,    243.4,2,     1.30,2,     0.58,2,     0.10,2,     0.39,2,   -999.0,9,-999.0000,9,  -999.00
  29HE20100208,   A21,    42,  1,     24,     24,2,20100225,   0,-41.5275, -31.2198, 4550,     13.5,  16.4387,  34.8373,2,   2261.2,4,    225.9,2,     1.43,2,     0.53,2,     0.10,2,     0.39,2,   2314.0,2,   7.9822,2,    25.00
  29HE20100208,   A21,    43,  1,      1,      1,2,20100304,   0,-39.0000,   5.0000, 5164,   5329.7,   1.1701,  34.7351,2,    219.2,2,    221.5,2,   105.77,2,    31.35,2,     0.06,2,     2.06,2,   2367.8,2,   7.6327,2,    25.00
  29HE20100208,   A21,    43,  1,      2,      2,2,20100304,   0,-39.0000,   5.0000, 5164,   5000.4,   1.1364,  34.7365,2,    218.0,2,   -999.0,9,   104.90,2,    31.29,2,     0.06,2,     2.06,2,   2367.0,2,   7.6377,2,    25.00
  29HE20100208,   A21,    43,  1,      3,      3,2,20100304,   0,-39.0000,   5.0000, 5164,   4493.9,   1.1464,  34.7429,2,    219.5,2,    220.8,2,   103.10,2,    31.02,2,     0.06,2,     2.04,2,   2365.0,2,   7.6354,2,    25.00
  29HE20100208,   A21,    43,  1,      4,      4,2,20100304,   0,-39.0000,   5.0000, 5164,   3996.7,   1.4358,  34.7713,2,    220.0,2,    223.7,2,    92.14,2,    29.71,2,     0.06,2,     1.95,2,   2359.6,2,   7.6487,2,    25.00
  29HE20100208,   A21,    43,  1,      5,      5,2,20100304,   0,-39.0000,   5.0000, 5164,   3499.0,   2.0571,  34.8295,2,    224.0,2,    228.6,2,    68.19,2,    26.95,2,     0.06,2,     1.76,2,   2349.8,2,   7.6821,2,    25.00
  29HE20100208,   A21,    43,  1,      6,      6,2,20100304,   0,-39.0000,   5.0000, 5164,   2999.2,   2.3325,  34.8437,2,    225.0,2,    227.6,2,    59.00,2,    25.89,2,     0.06,2,     1.71,2,   2342.2,2,   7.6834,2,    25.00
  29HE20100208,   A21,    43,  1,      7,      7,2,20100304,   0,-39.0000,   5.0000, 5164,   2748.4,   2.4266,  34.8418,2,    222.9,2,    225.2,2,    57.30,2,    25.95,2,     0.06,2,     1.71,2,   2340.0,2,   7.6744,2,    25.00
  29HE20100208,   A21,    43,  1,      8,      8,2,20100304,   0,-39.0000,   5.0000, 5164,   2500.4,   2.5307,  34.8338,2,    218.6,2,    221.9,2,    56.20,2,    26.36,2,     0.06,2,     1.73,2,   2337.7,2,   7.6682,2,    25.00
  29HE20100208,   A21,    43,  1,      9,      9,2,20100304,   0,-39.0000,   5.0000, 5164,   2248.6,   2.6494,  34.8201,2,    214.1,2,    215.7,2,    55.23,2,    26.99,2,     0.06,2,     1.77,2,   2335.5,2,   7.6624,2,    25.00
  29HE20100208,   A21,    43,  1,     10,     10,2,20100304,   0,-39.0000,   5.0000, 5164,   2000.7,   2.7364,  34.7808,2,    203.2,2,    205.3,2,    57.92,2,    28.47,2,     0.06,2,     1.87,2,   2334.5,2,   7.6379,2,    25.00
  29HE20100208,   A21,    43,  1,     11,     11,2,20100304,   0,-39.0000,   5.0000, 5164,   1750.1,   2.7901,  34.7102,2,    189.3,2,    191.2,2,    62.17,2,    30.72,2,     0.06,2,     2.03,2,   2335.4,2,   7.6126,2,    25.00
  29HE20100208,   A21,    43,  1,     12,     12,2,20100304,   0,-39.0000,   5.0000, 5164,   1500.3,   2.8511,  34.6088,2,    180.0,2,    181.4,2,    64.23,2,    33.08,2,     0.06,2,     2.16,2,   2333.2,2,   7.5843,2,    25.00
  29HE20100208,   A21,    43,  1,     13,     13,2,20100304,   0,-39.0000,   5.0000, 5164,   1250.8,   3.0942,  34.4689,2,    185.2,2,    187.3,2,    56.19,2,    33.86,2,     0.06,2,     2.23,2,   2322.4,2,   7.5778,2,    25.00
  29HE20100208,   A21,    43,  1,     14,     14,2,20100304,   0,-39.0000,   5.0000, 5164,    999.9,   3.3298,  34.3006,2,    218.5,2,    220.9,2,    37.09,2,    32.36,2,     0.06,2,     2.11,2,   2298.8,2,   7.6101,2,    25.00
  29HE20100208,   A21,    43,  1,     15,     15,2,20100304,   0,-39.0000,   5.0000, 5164,    901.5,   3.6175,  34.2586,2,    229.5,2,    229.8,2,    29.79,2,    31.23,2,     0.06,2,     2.03,2,   2292.2,2,   7.6284,2,    25.00
  29HE20100208,   A21,    43,  1,     16,     16,2,20100304,   0,-39.0000,   5.0000, 5164,    798.9,   4.0169,  34.2339,2,    239.1,2,    240.0,2,    22.91,2,    29.79,2,     0.06,2,     1.94,2,   2285.6,2,   7.6367,2,    25.00
  29HE20100208,   A21,    43,  1,     17,     17,2,20100304,   0,-39.0000,   5.0000, 5164,    600.5,   5.3066,  34.2679,2,    239.3,2,    241.1,2,    16.61,2,    28.24,2,     0.06,2,     1.83,2,   2281.0,2,   7.6597,2,    25.00
  29HE20100208,   A21,    43,  1,     18,     18,2,20100304,   0,-39.0000,   5.0000, 5164,    399.0,   8.2364,  34.5669,2,    226.2,2,    224.6,2,     7.37,2,    20.61,2,     0.07,2,     1.40,2,   2287.4,2,   7.7218,2,    25.00
  29HE20100208,   A21,    43,  1,     19,     19,2,20100304,   0,-39.0000,   5.0000, 5164,    199.8,  10.7581,  34.8212,2,    240.1,2,    239.2,2,     2.53,2,    12.00,2,     0.07,2,     0.97,2,   2299.3,2,   7.7989,2,    25.00
  29HE20100208,   A21,    43,  1,     20,     20,2,20100304,   0,-39.0000,   5.0000, 5164,    149.3,  10.9874,  34.7509,2,    251.3,2,    249.0,2,     1.77,2,    10.17,2,     0.08,2,     0.89,2,   2295.3,2,   7.8355,2,    25.00
  29HE20100208,   A21,    43,  1,     21,     21,2,20100304,   0,-39.0000,   5.0000, 5164,     99.8,  11.8887,  34.7365,2,    250.4,2,    245.9,2,     1.16,2,     7.26,2,     0.16,2,     0.77,2,   2294.3,2,   7.8534,2,    25.00
  29HE20100208,   A21,    43,  1,     22,     22,2,20100304,   0,-39.0000,   5.0000, 5164,     49.5,  15.9356,  34.7667,2,    256.1,2,    255.1,2,     0.40,2,     0.76,2,     0.09,2,     0.45,2,   2302.3,2,   7.9487,2,    25.00
  29HE20100208,   A21,    43,  1,     23,     23,2,20100304,   0,-39.0000,   5.0000, 5164,     24.5,  16.2172,  34.7476,2,    257.1,2,    253.7,2,     0.55,2,     0.50,2,     0.08,2,     0.43,2,   -999.0,9,-999.0000,9,  -999.00
  29HE20100208,   A21,    43,  1,     24,     24,2,20100304,   0,-39.0000,   5.0000, 5164,     12.9,  17.2882,  34.7239,2,    250.6,2,    232.3,3,     0.67,2,     0.50,2,     0.07,2,     0.43,2,   2301.2,2,   7.9520,2,    25.00
  29HE20100208,   A21,    44,  1,      1,      1,2,20100304,   0,-39.0020,   5.9998, 5257,   5370.4,   1.1736,  34.7349,2,    219.0,2,    220.9,2,   106.34,2,    31.07,2,     0.06,2,     2.09,2,   2366.5,2,   7.6327,2,    25.00
  29HE20100208,   A21,    44,  1,      2,      2,2,20100304,   0,-39.0020,   5.9998, 5257,   4999.1,   1.1387,  34.7366,2,    220.2,2,    218.5,2,   106.01,2,    30.98,2,     0.06,2,     2.08,2,   2367.2,2,   7.6341,2,    25.00
  29HE20100208,   A21,    44,  1,      3,      3,2,20100304,   0,-39.0020,   5.9998, 5257,   4497.4,   1.1637,  34.7442,2,    218.6,2,    214.6,2,   103.24,2,    30.68,2,     0.06,2,     2.06,2,   2367.1,2,   7.6332,2,    25.00
  29HE20100208,   A21,    44,  1,      4,      4,2,20100304,   0,-39.0020,   5.9998, 5257,   3997.6,   1.5088,  34.7783,2,    218.7,2,    221.7,2,    89.36,2,    29.04,2,     0.07,2,     1.95,2,   2359.4,2,   7.6500,2,    25.00
  29HE20100208,   A21,    44,  1,      5,      5,2,20100304,   0,-39.0020,   5.9998, 5257,   3499.4,   2.1117,  34.8344,2,    224.4,2,    231.9,2,    66.17,2,    26.27,2,     0.07,2,     1.76,2,   2349.6,2,   7.6781,2,    25.00
  29HE20100208,   A21,    44,  1,      6,      6,2,20100304,   0,-39.0020,   5.9998, 5257,   3249.0,   2.2484,  34.8436,2,    225.4,2,    228.5,2,    58.39,2,    25.73,2,     0.06,2,     1.73,2,   2346.2,2,   7.6793,2,    25.00
  29HE20100208,   A21,    44,  1,      7,      7,2,20100304,   0,-39.0020,   5.9998, 5257,   2996.0,   2.3502,  34.8445,2,    224.7,2,    226.4,2,  -999.00,9,  -999.00,9,  -999.00,9,  -999.00,9,   2341.6,2,-999.0000,9,  -999.00
  29HE20100208,   A21,    44,  1,      8,      8,2,20100304,   0,-39.0020,   5.9998, 5257,   2747.4,   2.4411,  34.8412,2,    221.8,2,    224.2,2,    56.77,2,    25.89,2,     0.06,2,     1.73,2,   2339.4,2,   7.6719,2,    25.00
  29HE20100208,   A21,    44,  1,      9,      9,2,20100304,   0,-39.0020,   5.9998, 5257,   2499.7,   2.5380,  34.8322,2,    217.8,2,    220.5,2,    56.03,2,    26.39,2,     0.07,2,     1.77,2,   2337.0,2,   7.6696,2,    25.00
  29HE20100208,   A21,    44,  1,     10,     10,2,20100304,   0,-39.0020,   5.9998, 5257,   2247.5,   2.6695,  34.8194,2,    212.4,2,    214.7,2,    54.60,2,    27.00,2,     0.06,2,     1.80,2,   2335.4,2,   7.6590,2,    25.00
  29HE20100208,   A21,    44,  1,     11,     11,2,20100304,   0,-39.0020,   5.9998, 5257,   1996.9,   2.7418,  34.7740,2,    201.0,2,    202.3,2,    58.29,2,    28.78,2,     0.06,2,     1.92,2,   2336.0,2,   7.6362,2,    25.00
  29HE20100208,   A21,    44,  1,     12,     12,2,20100304,   0,-39.0020,   5.9998, 5257,   1748.0,   2.8025,  34.6893,2,    186.6,2,    186.6,2,    62.91,2,    31.28,2,     0.06,2,     2.08,2,   2334.9,2,   7.6045,2,    25.00
  29HE20100208,   A21,    44,  1,     13,     13,2,20100304,   0,-39.0020,   5.9998, 5257,   1499.3,   2.8981,  34.5799,2,    178.2,2,    179.8,2,    63.23,2,    33.34,2,     0.06,2,     2.22,2,   2329.9,2,   7.5759,2,    25.00
  29HE20100208,   A21,    44,  1,     14,     14,2,20100304,   0,-39.0020,   5.9998, 5257,    999.0,   3.9686,  34.3321,2,    211.6,2,    213.2,2,    34.60,2,    31.39,2,     0.06,2,     2.09,2,   2300.6,2,   7.5925,2,    25.00
  29HE20100208,   A21,    44,  1,     15,     15,2,20100304,   0,-39.0020,   5.9998, 5257,    797.6,   4.5999,  34.2461,2,    238.0,2,    235.6,2,    19.00,2,    28.54,2,     0.06,2,     1.90,2,   2284.8,2,   7.6508,2,    25.00
  29HE20100208,   A21,    44,  1,     16,     16,2,20100304,   0,-39.0020,   5.9998, 5257,    601.4,   6.9989,  34.4536,2,    218.4,2,    218.4,2,    12.93,2,    24.76,2,     0.06,2,     1.67,2,   2285.2,2,   7.6771,2,    25.00
  29HE20100208,   A21,    44,  1,     17,     17,2,20100304,   0,-39.0020,   5.9998, 5257,    399.7,   9.8225,  34.7339,2,    230.3,2,    227.7,2,     5.16,2,    16.05,2,     0.07,2,     1.19,2,   2295.4,2,   7.7692,2,    25.00
  29HE20100208,   A21,    44,  1,     18,     18,2,20100304,   0,-39.0020,   5.9998, 5257,    298.9,  11.4168,  34.9303,2,    227.9,2,    226.4,2,     3.43,2,    12.31,2,     0.08,2,     1.00,2,   2302.3,2,   7.8121,2,    25.00
  29HE20100208,   A21,    44,  1,     19,     19,2,20100304,   0,-39.0020,   5.9998, 5257,    201.0,  12.5912,  35.0158,2,    238.7,2,    237.9,2,     2.12,2,     8.09,2,     0.07,2,     0.79,2,   2306.8,2,   7.8581,2,    25.00
  29HE20100208,   A21,    44,  1,     20,     20,2,20100304,   0,-39.0020,   5.9998, 5257,    150.4,  13.6081,  35.1376,2,    234.2,2,    233.0,2,     1.88,2,     6.37,2,     0.08,2,     0.70,2,   2313.2,2,   7.8712,2,    25.00
  29HE20100208,   A21,    44,  1,     21,     21,2,20100304,   0,-39.0020,   5.9998, 5257,     99.1,  15.4935,  35.3903,2,    227.1,2,    225.5,2,     2.15,2,     4.60,2,     0.08,2,     0.61,2,   2322.0,2,   7.9115,2,    25.00
  29HE20100208,   A21,    44,  1,     22,     22,2,20100304,   0,-39.0020,   5.9998, 5257,     48.6,  16.3096,  35.2650,2,    251.0,2,    249.8,2,     0.56,2,     0.47,2,     0.09,2,     0.40,2,   2321.0,2,   7.9678,2,    25.00
  29HE20100208,   A21,    44,  1,     23,     23,2,20100304,   0,-39.0020,   5.9998, 5257,     26.0,  16.2562,  35.1480,2,    255.0,2,    255.4,2,     0.38,2,     0.44,2,     0.06,2,     0.40,2,   -999.0,9,-999.0000,9,  -999.00
  29HE20100208,   A21,    44,  1,     24,     24,2,20100304,   0,-39.0020,   5.9998, 5257,     11.7,  16.6078,  34.9835,2,    255.5,2,    235.3,3,     0.04,2,     0.85,2,     0.34,2,     0.42,2,   2312.4,2,   7.9582,2,    25.00