BOTTLE,20220207CCHSIOENA
EXPOCODE,SECT_ID,STNNBR,CASTNO,SAMPNO,BTLNBR,BTLNBR_FLAG_W,DATE,TIME,LATITUDE,LONGITUDE,DEPTH,CTDPRS,CTDTMP,CTDSAL,CTDSAL_FLAG_W,CTDOXY,CTDOXY_FLAG_W,OXYGEN,OXYGEN_FLAG_W,SILCAT,SILCAT_FLAG_W,NITRAT,NITRAT_FLAG_W,NITRIT,NITRIT_FLAG_W,PHSPHT,PHSPHT_FLAG_W,ALKALI,ALKALI_FLAG_W,PH_SWS,PH_SWS_FLAG_W,PH_TMP
,,,,,,,,,,,METERS,DBAR,ITS-90,PSS-78,,UMOL/KG,,UMOL/KG,,UMOL/KG,,UMOL/KG,,UMOL/KG,,UMOL/KG,,UMOL/KG,,,,DEG C
  29HE20100208,   A21,    48,  1,      1,      1,2,20100306,   0,-37.1273,  12.2680, 5014,   5108.4,   1.0948,  34.7309,2,    218.1,2,    217.0,2,   110.71,2,    31.71,2,     0.06,2,     2.08,2,   2365.6,2,   7.6283,2,    25.00
  29HE20100208,   A21,    48,  1,      2,      2,2,20100306,   0,-37.1273,  12.2680, 5014,   5000.6,   1.0917,  34.7320,2,    217.8,2,    217.2,2,   110.76,2,    31.63,2,     0.06,2,     2.07,2,   2365.6,2,   7.6243,2,    25.00
  29HE20100208,   A21,    48,  1,      3,      3,2,20100306,   0,-37.1273,  12.2680, 5014,   4496.5,   1.2068,  34.7472,2,    218.9,2,    218.0,2,   104.93,2,    31.10,2,     0.06,2,     2.02,2,   2364.7,2,   7.6425,2,    25.00
  29HE20100208,   A21,    48,  1,      4,      4,2,20100306,   0,-37.1273,  12.2680, 5014,   3997.3,   1.6198,  34.7867,2,    221.2,2,    220.4,2,    89.43,2,    29.17,2,     0.06,2,     1.89,2,   2358.3,2,   7.6548,2,    25.00
  29HE20100208,   A21,    48,  1,      5,      5,2,20100306,   0,-37.1273,  12.2680, 5014,   3500.0,   2.1515,  34.8389,2,    225.6,2,   -999.0,9,    67.67,2,    26.75,2,     0.06,2,     1.72,2,   2348.3,2,   7.6832,2,    25.00
  29HE20100208,   A21,    48,  1,      6,      6,2,20100306,   0,-37.1273,  12.2680, 5014,   2999.6,   2.3698,  34.8490,2,    225.8,2,    227.8,2,    60.07,2,    26.01,2,     0.06,2,     1.69,2,   2342.1,2,   7.6740,2,    25.00
  29HE20100208,   A21,    48,  1,      7,      7,2,20100306,   0,-37.1273,  12.2680, 5014,   2748.5,   2.4415,  34.8461,2,    224.9,2,    225.6,2,    58.48,2,    26.22,2,     0.06,2,     1.68,2,   2338.0,2,   7.6811,2,    25.00
  29HE20100208,   A21,    48,  1,      8,      8,2,20100306,   0,-37.1273,  12.2680, 5014,   2498.9,   2.5491,  34.8436,2,    221.5,2,    222.5,2,    56.50,2,    26.34,2,     0.06,2,     1.69,2,   2335.4,2,   7.6773,2,    25.00
  29HE20100208,   A21,    48,  1,      9,      9,2,20100306,   0,-37.1273,  12.2680, 5014,   2249.7,   2.6395,  34.8310,2,    216.7,2,    216.7,2,    56.62,2,    26.93,2,     0.06,2,     1.74,2,   2334.2,2,   7.6778,2,    25.00
  29HE20100208,   A21,    48,  1,     10,     10,2,20100306,   0,-37.1273,  12.2680, 5014,   1997.9,   2.7901,  34.8076,2,    208.6,2,    208.2,2,    55.95,2,    27.97,2,     0.06,2,     1.79,2,   2332.3,2,   7.6580,2,    25.00
  29HE20100208,   A21,    48,  1,     11,     11,2,20100306,   0,-37.1273,  12.2680, 5014,   1751.6,   2.8450,  34.7356,2,    193.2,2,    195.0,2,    61.99,2,    30.54,2,     0.06,2,     1.96,2,   2333.1,2,   7.6182,2,    25.00
  29HE20100208,   A21,    48,  1,     12,     12,2,20100306,   0,-37.1273,  12.2680, 5014,   1500.7,   2.9564,  34.6245,2,    178.4,2,    179.8,2,    66.16,2,    33.43,2,     0.06,2,     2.15,2,   2331.4,2,   7.5874,2,    25.00
  29HE20100208,   A21,    48,  1,     13,     13,2,20100306,   0,-37.1273,  12.2680, 5014,   1251.3,   3.3250,  34.4955,2,    178.1,2,    179.3,2,    59.76,2,    34.40,2,     0.06,2,     2.22,2,   2321.8,2,   7.5736,2,    25.00
  29HE20100208,   A21,    48,  1,     14,     14,2,20100306,   0,-37.1273,  12.2680, 5014,   1002.6,   3.8306,  34.3628,2,    202.2,2,    202.8,2,    41.53,2,    32.76,2,     0.06,2,     2.10,2,   2303.8,2,   7.6087,2,    25.00
  29HE20100208,   A21,    48,  1,     15,     15,2,20100306,   0,-37.1273,  12.2680, 5014,    901.5,   4.2204,  34.3217,2,    214.9,2,    213.6,2,    32.42,2,    31.38,2,     0.06,2,     2.00,2,   2295.6,2,   7.6273,2,    25.00
  29HE20100208,   A21,    48,  1,     16,     16,2,20100306,   0,-37.1273,  12.2680, 5014,    799.7,   4.9714,  34.3423,2,    216.1,2,    213.7,2,    26.58,2,    30.04,2,     0.06,2,     1.92,2,   2291.8,2,   7.6384,2,    25.00
  29HE20100208,   A21,    48,  1,     17,     17,2,20100306,   0,-37.1273,  12.2680, 5014,    602.1,   7.1797,  34.4922,2,    207.3,2,    204.8,2,    16.95,2,    25.65,2,     0.06,2,     1.66,2,   2290.6,2,   7.6783,2,    25.00
  29HE20100208,   A21,    48,  1,     18,     18,2,20100306,   0,-37.1273,  12.2680, 5014,    398.9,   9.6136,  34.7148,2,    226.1,2,    223.3,2,     6.87,2,    17.32,2,     0.07,2,     1.19,2,   2294.9,2,   7.7602,2,    25.00
  29HE20100208,   A21,    48,  1,     19,     19,2,20100306,   0,-37.1273,  12.2680, 5014,    202.8,  12.2130,  34.9762,2,    238.5,2,    234.1,2,     4.46,2,     9.53,2,     0.07,2,     0.81,2,   2307.2,2,   7.8533,2,    25.00
  29HE20100208,   A21,    48,  1,     20,     20,2,20100306,   0,-37.1273,  12.2680, 5014,    150.1,  13.0665,  35.0433,2,    235.5,2,    211.0,3,     4.16,2,     7.97,2,     0.07,2,     0.73,2,   2310.1,2,   7.8748,2,    25.00
  29HE20100208,   A21,    48,  1,     21,     21,2,20100306,   0,-37.1273,  12.2680, 5014,    101.0,  15.0955,  35.3070,2,    230.4,2,    226.6,2,     4.30,2,     4.84,2,     0.10,2,     0.57,2,   2323.0,2,   7.9179,2,    25.00
  29HE20100208,   A21,    48,  1,     22,     22,2,20100306,   0,-37.1273,  12.2680, 5014,     49.7,  18.4350,  35.4031,2,    240.6,2,    236.3,2,     3.34,2,     0.58,2,     0.06,2,     0.36,2,   2330.5,2,   7.9861,2,    25.00
  29HE20100208,   A21,    48,  1,     23,     23,2,20100306,   0,-37.1273,  12.2680, 5014,     24.7,  19.0084,  35.2886,2,    238.0,2,    234.8,2,     3.39,2,     0.65,2,     0.06,2,     0.34,2,   -999.0,9,-999.0000,9,  -999.00
  29HE20100208,   A21,    48,  1,     24,     24,2,20100306,   0,-37.1273,  12.2680, 5014,     11.5,  19.5375,  35.3405,2,    235.5,2,    226.5,2,     3.65,2,     0.63,2,     0.06,2,     0.35,2,   2328.7,2,   7.9754,2,    25.00
  29HE20100208,   A21,    49,  1,      1,      1,2,20100307,   0,-36.7338,  12.7933, 4959,   5057.9,   1.1425,  34.7359,2,    217.6,2,    219.8,2,   108.60,2,    31.33,2,     0.06,2,     2.12,2,   2370.7,2,   7.6317,2,    25.00
  29HE20100208,   A21,    49,  1,      2,      2,2,20100307,   0,-36.7338,  12.7933, 4959,   4500.4,   1.1841,  34.7461,2,    218.0,2,    219.6,2,   104.67,2,    31.09,2,     0.06,2,     2.09,2,   2368.2,2,   7.6360,2,    25.00
  29HE20100208,   A21,    49,  1,      3,      3,2,20100307,   0,-36.7338,  12.7933, 4959,   3998.8,   1.5892,  34.7859,2,    221.7,2,    220.7,2,    88.98,2,    29.10,2,     0.06,2,     1.95,2,   2361.7,2,   7.6513,2,    25.00
  29HE20100208,   A21,    49,  1,      4,      4,2,20100307,   0,-36.7338,  12.7933, 4959,   3499.3,   2.1844,  34.8484,2,    227.4,2,    231.2,2,    64.18,2,    25.92,2,     0.06,2,     1.74,2,   2348.8,2,   7.6862,2,    25.00
  29HE20100208,   A21,    49,  1,      5,      5,2,20100307,   0,-36.7338,  12.7933, 4959,   3248.6,   2.2906,  34.8528,2,    227.1,2,    228.3,2,    58.73,2,    25.74,2,     0.06,2,     1.72,2,   2345.0,2,   7.6909,2,    25.00
  29HE20100208,   A21,    49,  1,      6,      6,2,20100307,   0,-36.7338,  12.7933, 4959,   2998.9,   2.3669,  34.8506,2,    226.3,2,    227.2,2,  -999.00,9,  -999.00,9,  -999.00,9,  -999.00,9,   2341.2,2,-999.0000,9,  -999.00
  29HE20100208,   A21,    49,  1,      7,      7,2,20100307,   0,-36.7338,  12.7933, 4959,   2749.5,   2.4733,  34.8494,2,    224.0,2,    225.6,2,    56.28,2,    25.77,2,     0.06,2,     1.73,2,   2339.4,2,   7.6838,2,    25.00
  29HE20100208,   A21,    49,  1,      8,      8,2,20100307,   0,-36.7338,  12.7933, 4959,   2500.2,   2.6001,  34.8484,2,    222.4,2,    223.5,2,    53.65,2,    25.98,2,     0.06,2,     1.73,2,   2336.0,2,   7.6796,2,    25.00
  29HE20100208,   A21,    49,  1,      9,      9,2,20100307,   0,-36.7338,  12.7933, 4959,   2249.3,   2.6833,  34.8301,2,    215.9,2,    214.9,2,    54.58,2,    26.75,2,     0.07,2,     1.78,2,   2333.8,2,   7.6667,2,    25.00
  29HE20100208,   A21,    49,  1,     10,     10,2,20100307,   0,-36.7338,  12.7933, 4959,   1998.7,   2.7863,  34.7901,2,    203.6,2,    204.7,2,    57.43,2,    28.30,2,     0.06,2,     1.89,2,   2334.0,2,   7.6443,2,    25.00
  29HE20100208,   A21,    49,  1,     11,     11,2,20100307,   0,-36.7338,  12.7933, 4959,   1750.0,   2.8498,  34.7306,2,    191.0,2,    190.4,2,    61.44,2,    30.59,2,     0.07,2,     2.03,2,   2334.2,2,   7.6166,2,    25.00
  29HE20100208,   A21,    49,  1,     12,     12,2,20100307,   0,-36.7338,  12.7933, 4959,   1463.8,   3.0620,  34.5934,2,    175.1,2,    174.0,2,    65.84,2,    33.63,2,     0.07,2,     2.25,2,   2332.4,2,   7.5804,2,    25.00
  29HE20100208,   A21,    49,  1,     13,     13,2,20100307,   0,-36.7338,  12.7933, 4959,   1245.7,   3.5006,  34.4812,2,    178.8,2,    179.0,2,    56.26,2,    33.95,2,     0.06,2,     2.27,2,   2319.7,2,   7.5788,2,    25.00
  29HE20100208,   A21,    49,  1,     14,     14,2,20100307,   0,-36.7338,  12.7933, 4959,    997.2,   4.0394,  34.2955,2,    221.1,2,    218.6,2,    31.09,2,    31.12,2,     0.07,2,     2.07,2,   2293.6,2,   7.6244,2,    25.00
  29HE20100208,   A21,    49,  1,     15,     15,2,20100307,   0,-36.7338,  12.7933, 4959,    898.0,   5.1073,  34.3516,2,    216.0,2,    212.2,2,    26.19,2,    29.37,2,     0.07,2,     1.96,2,   2293.0,2,   7.6334,2,    25.00
  29HE20100208,   A21,    49,  1,     16,     16,2,20100307,   0,-36.7338,  12.7933, 4959,    799.8,   6.2129,  34.4144,2,    212.6,2,    210.5,2,    19.80,2,    27.17,2,     0.06,2,     1.81,2,   2290.4,2,   7.6627,2,    25.00
  29HE20100208,   A21,    49,  1,     17,     17,2,20100307,   0,-36.7338,  12.7933, 4959,    599.4,   9.3325,  34.7214,2,    210.5,2,    208.0,2,     9.97,2,    19.34,2,     0.07,2,     1.35,2,   2296.9,2,   7.7547,2,    25.00
  29HE20100208,   A21,    49,  1,     18,     18,2,20100307,   0,-36.7338,  12.7933, 4959,    399.3,  12.3160,  35.1113,2,    218.0,2,    214.6,2,     5.42,2,    12.19,2,     0.07,2,     0.95,2,   2310.7,2,   7.8268,2,    25.00
  29HE20100208,   A21,    49,  1,     19,     19,2,20100307,   0,-36.7338,  12.7933, 4959,    195.0,  15.7581,  35.4565,2,    205.9,2,    200.5,2,     5.21,2,     7.17,2,     0.08,2,     0.68,2,   2326.0,2,   7.8970,2,    25.00
  29HE20100208,   A21,    49,  1,     20,     20,2,20100307,   0,-36.7338,  12.7933, 4959,    150.7,  17.0897,  35.5501,2,    210.3,2,    206.9,2,     4.60,2,     5.05,2,     0.08,2,     0.56,2,   2328.7,2,   7.9375,2,    25.00
  29HE20100208,   A21,    49,  1,     21,     21,2,20100307,   0,-36.7338,  12.7933, 4959,    101.7,  18.1626,  35.6504,2,    228.6,2,    223.4,2,     3.21,2,     1.08,2,     0.40,2,     0.37,2,   2334.9,2,   7.9859,2,    25.00
  29HE20100208,   A21,    49,  1,     22,     22,2,20100307,   0,-36.7338,  12.7933, 4959,     49.2,  18.8868,  35.6268,2,    235.0,2,    230.0,2,     2.95,2,     0.61,2,     0.07,2,     0.29,2,   2335.0,2,   8.0057,2,    25.00
  29HE20100208,   A21,    49,  1,     23,     23,2,20100307,   0,-36.7338,  12.7933, 4959,     24.9,  21.8250,  35.5534,2,    225.0,2,    222.9,2,     3.10,2,     0.63,2,     0.06,2,     0.26,2,   -999.0,9,-999.0000,9,  -999.00
  29HE20100208,   A21,    49,  1,     24,     24,2,20100307,   0,-36.7338,  12.7933, 4959,     10.0,  21.8826,  35.5640,2,    225.5,2,    204.7,3,     3.38,2,     0.66,2,     0.06,2,     0.29,2,   2330.2,2,   8.0411,2,    25.00
  29HE20100208,   A21,    50,  1,      1,      1,2,20100307,   0,-36.2292,  13.5858, 4828,   4922.2,   1.1002,  34.7335,2,    219.4,2,    217.1,2,   109.97,2,    32.17,2,     0.07,2,     2.04,2,   2365.2,2,   7.6295,2,    25.00
  29HE20100208,   A21,    50,  1,      2,      2,2,20100307,   0,-36.2292,  13.5858, 4828,   4495.9,   1.1159,  34.7400,2,    217.3,2,    216.5,2,   107.89,2,    31.95,2,     0.07,2,     2.03,2,   2365.6,2,   7.6294,2,    25.00
  29HE20100208,   A21,    50,  1,      3,      3,2,20100307,   0,-36.2292,  13.5858, 4828,   3996.5,   1.4270,  34.7700,2,    219.5,2,    219.2,2,    96.18,2,    30.34,2,     0.08,2,     1.93,2,   2358.9,2,   7.6467,2,    25.00
  29HE20100208,   A21,    50,  1,      4,      4,2,20100307,   0,-36.2292,  13.5858, 4828,   3499.6,   2.0874,  34.8330,2,    225.4,2,    224.8,2,    70.54,2,    27.20,2,     0.08,2,     1.73,2,   2349.2,2,   7.6753,2,    25.00
  29HE20100208,   A21,    50,  1,      5,      5,2,20100307,   0,-36.2292,  13.5858, 4828,   3254.9,   2.2401,  34.8454,2,    226.4,2,    228.4,2,  -999.00,9,  -999.00,9,  -999.00,9,  -999.00,9,   2345.1,2,-999.0000,9,  -999.00
  29HE20100208,   A21,    50,  1,      6,      6,2,20100307,   0,-36.2292,  13.5858, 4828,   3000.6,   2.3628,  34.8457,2,    224.9,2,    226.4,2,    61.31,2,    26.61,2,     0.07,2,     1.68,2,   2340.9,2,   7.6822,2,    25.00
  29HE20100208,   A21,    50,  1,      7,      7,2,20100307,   0,-36.2292,  13.5858, 4828,   2755.4,   2.4664,  34.8424,2,    223.0,2,    224.2,2,    59.55,2,    26.66,2,     0.07,2,     1.69,2,   2339.0,2,   7.6804,2,    25.00
  29HE20100208,   A21,    50,  1,      8,      8,2,20100307,   0,-36.2292,  13.5858, 4828,   2501.6,   2.5880,  34.8355,2,    218.4,2,    218.7,2,    58.01,2,    27.17,2,     0.08,2,     1.72,2,   2336.0,2,   7.6715,2,    25.00
  29HE20100208,   A21,    50,  1,      9,      9,2,20100307,   0,-36.2292,  13.5858, 4828,   2252.3,   2.7141,  34.8153,2,    211.4,2,    211.2,2,    57.89,2,    27.98,2,     0.07,2,     1.76,2,   2335.0,2,   7.6570,2,    25.00
  29HE20100208,   A21,    50,  1,     10,     10,2,20100307,   0,-36.2292,  13.5858, 4828,   1997.8,   2.8037,  34.7729,2,    199.7,2,    199.2,2,    60.66,2,    29.63,2,     0.07,2,     1.87,2,   2334.9,2,   7.6367,2,    25.00
  29HE20100208,   A21,    50,  1,     11,     11,2,20100307,   0,-36.2292,  13.5858, 4828,   1748.6,   2.8696,  34.7024,2,    186.5,2,    186.3,2,    65.48,2,    32.00,2,     0.07,2,     2.02,2,   2335.4,2,   7.6086,2,    25.00
  29HE20100208,   A21,    50,  1,     12,     12,2,20100307,   0,-36.2292,  13.5858, 4828,   1496.9,   3.0364,  34.5891,2,    175.7,2,    174.7,2,    67.51,2,    34.31,2,     0.07,2,     2.17,2,   2332.6,2,   7.5752,2,    25.00
  29HE20100208,   A21,    50,  1,     13,     13,2,20100307,   0,-36.2292,  13.5858, 4828,   1247.4,   3.6610,  34.4417,2,    185.5,2,    183.8,2,    52.71,2,    34.34,2,     0.07,2,     2.17,2,   2315.9,2,   7.5855,2,    25.00
  29HE20100208,   A21,    50,  1,     14,     14,2,20100307,   0,-36.2292,  13.5858, 4828,   1000.7,   4.6744,  34.3464,2,    212.7,2,    212.5,2,    31.45,2,    30.95,2,     0.07,2,     1.96,2,   2297.5,2,   7.6288,2,    25.00
  29HE20100208,   A21,    50,  1,     15,     15,2,20100307,   0,-36.2292,  13.5858, 4828,    897.7,   5.1556,  34.3113,2,    227.1,2,    225.1,2,    21.55,2,    29.13,2,     0.07,2,     1.83,2,   2287.9,2,   7.6529,2,    25.00
  29HE20100208,   A21,    50,  1,     16,     16,2,20100307,   0,-36.2292,  13.5858, 4828,    798.4,   6.8977,  34.4632,2,    211.2,2,    209.7,2,    18.04,2,    26.24,2,     0.06,2,     1.67,2,   2288.6,2,   7.6758,2,    25.00
  29HE20100208,   A21,    50,  1,     17,     17,2,20100307,   0,-36.2292,  13.5858, 4828,    599.6,  10.3555,  34.8446,2,    216.8,2,    211.4,2,     9.03,2,    16.87,2,     0.07,2,     1.17,2,   2298.9,2,   7.7755,2,    25.00
  29HE20100208,   A21,    50,  1,     18,     18,2,20100307,   0,-36.2292,  13.5858, 4828,    401.7,  13.2245,  35.1796,2,    223.9,2,    220.9,2,     5.89,2,     9.31,2,     0.07,2,     0.79,2,   2316.4,2,   7.8565,2,    25.00
  29HE20100208,   A21,    50,  1,     19,     19,2,20100307,   0,-36.2292,  13.5858, 4828,    202.0,  16.8777,  35.5581,2,    214.2,2,    210.1,2,     6.49,2,     4.99,2,     0.08,2,     0.55,2,   2334.0,2,   7.9406,2,    25.00
  29HE20100208,   A21,    50,  1,     20,     20,2,20100307,   0,-36.2292,  13.5858, 4828,    151.6,  17.3839,  35.5655,2,    207.5,2,    203.4,2,     6.65,2,     5.08,2,     0.08,2,     0.55,2,   2329.6,2,   7.9418,2,    25.00
  29HE20100208,   A21,    50,  1,     21,     21,2,20100307,   0,-36.2292,  13.5858, 4828,    101.7,  18.3551,  35.6354,2,    226.7,2,    222.5,2,     5.44,2,     1.19,2,     0.22,2,     0.38,2,   2335.5,2,   7.9889,2,    25.00
  29HE20100208,   A21,    50,  1,     22,     22,2,20100307,   0,-36.2292,  13.5858, 4828,     50.1,  19.5848,  35.7331,2,    234.8,2,    230.2,2,     5.30,2,     0.69,2,     0.07,2,     0.33,2,   2340.7,2,   8.0160,2,    25.00
  29HE20100208,   A21,    50,  1,     23,     23,2,20100307,   0,-36.2292,  13.5858, 4828,     28.2,  19.8300,  35.7460,2,    234.5,2,    229.9,2,     5.46,2,     0.59,2,     0.07,2,     0.30,2,   -999.0,9,-999.0000,9,  -999.00
  29HE20100208,   A21,    50,  1,     24,     24,2,20100307,   0,-36.2292,  13.5858, 4828,     11.9,  20.2661,  35.7535,2,    232.9,2,    223.0,2,     5.92,2,     0.60,2,     0.07,2,     0.30,2,   2343.3,2,   8.0168,2,    25.00