BOTTLE,20220207CCHSIOENA
EXPOCODE,SECT_ID,STNNBR,CASTNO,SAMPNO,BTLNBR,BTLNBR_FLAG_W,DATE,TIME,LATITUDE,LONGITUDE,DEPTH,CTDPRS,CTDTMP,CTDSAL,CTDSAL_FLAG_W,CTDOXY,CTDOXY_FLAG_W,OXYGEN,OXYGEN_FLAG_W,SILCAT,SILCAT_FLAG_W,NITRAT,NITRAT_FLAG_W,NITRIT,NITRIT_FLAG_W,PHSPHT,PHSPHT_FLAG_W,ALKALI,ALKALI_FLAG_W,PH_SWS,PH_SWS_FLAG_W,PH_TMP
,,,,,,,,,,,METERS,DBAR,ITS-90,PSS-78,,UMOL/KG,,UMOL/KG,,UMOL/KG,,UMOL/KG,,UMOL/KG,,UMOL/KG,,UMOL/KG,,,,DEG C
  29HE20100208,   A21,    51,  1,      1,      1,2,20100307,   0,-35.7345,  14.3240, 4828,   4900.6,   0.9354,  34.7206,2,    218.8,2,    216.7,2,   116.80,2,    32.47,2,     0.07,2,     2.10,2,   2365.7,2,   7.6220,2,    25.00
  29HE20100208,   A21,    51,  1,      2,      2,2,20100307,   0,-35.7345,  14.3240, 4828,   4499.9,   1.1105,  34.7396,2,    216.7,2,    215.4,2,   107.17,2,    31.75,2,     0.07,2,     2.05,2,   2367.8,2,   7.6344,2,    25.00
  29HE20100208,   A21,    51,  1,      3,      3,2,20100307,   0,-35.7345,  14.3240, 4828,   3999.8,   1.3540,  34.7648,2,    218.3,2,    214.6,2,    97.76,2,    30.63,2,     0.07,2,     1.97,2,   2363.1,2,   7.6450,2,    25.00
  29HE20100208,   A21,    51,  1,      4,      4,2,20100307,   0,-35.7345,  14.3240, 4828,   3498.7,   1.9743,  34.8259,2,    224.6,2,    225.0,2,    73.87,2,    27.66,2,     0.07,2,     1.78,2,   2352.2,2,   7.6732,2,    25.00
  29HE20100208,   A21,    51,  1,      5,      5,2,20100307,   0,-35.7345,  14.3240, 4828,   3248.1,   2.1879,  34.8431,2,    225.5,2,    226.4,2,    64.98,2,    26.98,2,     0.07,2,     1.74,2,   2348.4,2,   7.6832,2,    25.00
  29HE20100208,   A21,    51,  1,      6,      6,2,20100307,   0,-35.7345,  14.3240, 4828,   2997.0,   2.2545,  34.8373,2,    222.5,2,    224.3,2,  -999.00,9,  -999.00,9,  -999.00,9,  -999.00,9,   2344.4,2,-999.0000,9,  -999.00
  29HE20100208,   A21,    51,  1,      7,      7,2,20100307,   0,-35.7345,  14.3240, 4828,   2751.3,   2.3692,  34.8370,2,    222.0,2,    220.8,2,    62.09,2,    26.98,2,     0.07,2,     1.73,2,   2340.3,2,   7.6729,2,    25.00
  29HE20100208,   A21,    51,  1,      8,      8,2,20100307,   0,-35.7345,  14.3240, 4828,   2501.5,   2.4948,  34.8329,2,    217.3,2,    218.1,2,    59.68,2,    27.17,2,     0.07,2,     1.74,2,   2338.3,2,   7.6692,2,    25.00
  29HE20100208,   A21,    51,  1,      9,      9,2,20100307,   0,-35.7345,  14.3240, 4828,   2251.6,   2.6200,  34.8273,2,    214.4,2,    215.7,2,    56.91,2,    26.87,2,     0.07,2,     1.72,2,   2334.3,2,   7.6661,2,    25.00
  29HE20100208,   A21,    51,  1,     10,     10,2,20100307,   0,-35.7345,  14.3240, 4828,   2000.6,   2.7374,  34.7955,2,    204.8,2,    207.6,2,    58.14,2,    28.20,2,     0.07,2,     1.81,2,   2334.7,2,   7.6472,2,    25.00
  29HE20100208,   A21,    51,  1,     11,     11,2,20100307,   0,-35.7345,  14.3240, 4828,   1747.6,   2.8307,  34.7203,2,    188.1,2,    188.3,2,    64.68,2,    31.22,2,     0.08,2,     2.02,2,   2335.7,2,   7.6126,2,    25.00
  29HE20100208,   A21,    51,  1,     12,     12,2,20100307,   0,-35.7345,  14.3240, 4828,   1500.9,   3.0209,  34.6160,2,    176.2,2,    178.2,2,    65.43,2,    33.65,2,     0.07,2,     2.17,2,   2335.6,2,   7.5829,2,    25.00
  29HE20100208,   A21,    51,  1,     13,     13,2,20100307,   0,-35.7345,  14.3240, 4828,   1249.5,   3.5597,  34.4813,2,    178.1,2,    179.6,2,    57.29,2,    34.54,2,     0.07,2,     2.22,2,   2334.8,2,   7.5802,2,    25.00
  29HE20100208,   A21,    51,  1,     14,     14,2,20100307,   0,-35.7345,  14.3240, 4828,    998.9,   4.4346,  34.3532,2,    208.0,2,    206.9,2,    34.11,2,    31.65,2,     0.07,2,     2.03,2,   2317.1,2,   7.6232,2,    25.00
  29HE20100208,   A21,    51,  1,     15,     15,2,20100307,   0,-35.7345,  14.3240, 4828,    899.7,   5.1356,  34.3440,2,    217.2,2,    215.6,2,    24.93,2,    29.66,2,     0.07,2,     1.90,2,   2308.5,2,   7.6456,2,    25.00
  29HE20100208,   A21,    51,  1,     16,     16,2,20100307,   0,-35.7345,  14.3240, 4828,    796.5,   6.1761,  34.3810,2,    219.1,2,    218.0,2,    16.61,2,    27.33,2,     0.07,2,     1.76,2,   2301.7,2,   7.6658,2,    25.00
  29HE20100208,   A21,    51,  1,     17,     17,2,20100307,   0,-35.7345,  14.3240, 4828,    601.4,   9.8245,  34.7688,2,    218.0,2,    216.2,2,     8.33,2,    17.89,2,     0.07,2,     1.25,2,   2288.0,2,   7.7641,2,    25.00
  29HE20100208,   A21,    51,  1,     18,     18,2,20100307,   0,-35.7345,  14.3240, 4828,    400.5,  12.9967,  35.2086,2,    214.8,2,    213.8,2,     5.98,2,    11.19,2,     0.08,2,     0.89,2,   2297.7,2,   7.8413,2,    25.00
  29HE20100208,   A21,    51,  1,     19,     19,2,20100307,   0,-35.7345,  14.3240, 4828,    201.7,  16.4505,  35.5223,2,    207.2,2,    205.5,2,     5.69,2,     6.19,2,     0.08,2,     0.62,2,   2313.3,2,   7.9188,2,    25.00
  29HE20100208,   A21,    51,  1,     20,     20,2,20100307,   0,-35.7345,  14.3240, 4828,    152.1,  17.0710,  35.5541,2,    211.0,2,    209.4,2,     5.10,2,     5.04,2,     0.09,2,     0.56,2,   2317.4,2,   7.9392,2,    25.00
  29HE20100208,   A21,    51,  1,     21,     21,2,20100307,   0,-35.7345,  14.3240, 4828,    101.8,  18.0452,  35.6210,2,    221.0,2,    219.6,2,     4.11,2,     2.10,2,     0.21,2,     0.43,2,   2327.3,2,   7.9777,2,    25.00
  29HE20100208,   A21,    51,  1,     22,     22,2,20100307,   0,-35.7345,  14.3240, 4828,     48.9,  19.5761,  35.7107,2,    234.9,2,    231.7,2,     3.66,2,     0.57,2,     0.07,2,     0.31,2,   2324.5,2,   8.0190,2,    25.00
  29HE20100208,   A21,    51,  1,     23,     23,2,20100307,   0,-35.7345,  14.3240, 4828,     23.4,  19.9875,  35.7326,2,    233.8,2,    228.5,2,     3.73,2,     0.60,2,     0.07,2,     0.30,2,   -999.0,9,-999.0000,9,  -999.00
  29HE20100208,   A21,    51,  1,     24,     24,2,20100307,   0,-35.7345,  14.3240, 4828,     10.5,  20.3295,  35.7363,2,    232.2,2,    228.1,2,     4.07,2,     0.61,2,     0.07,2,     0.31,2,   2331.7,2,   8.0164,2,    25.00
  29HE20100208,   A21,    52,  1,      1,      1,2,20100308,   0,-35.5143,  14.8878, 4725,   4794.3,   0.9164,  34.7197,2,    217.6,2,    216.4,2,   114.69,2,    32.01,2,     0.08,2,     2.13,2,   -999.0,9,-999.0000,9,  -999.00
  29HE20100208,   A21,    52,  1,      2,      2,2,20100308,   0,-35.5143,  14.8878, 4725,   4498.7,   1.0916,  34.7376,2,    217.6,2,    216.0,2,   107.37,2,    31.72,2,     0.08,2,     2.09,2,   -999.0,9,-999.0000,9,  -999.00
  29HE20100208,   A21,    52,  1,      3,      3,2,20100308,   0,-35.5143,  14.8878, 4725,   4000.8,   1.2608,  34.7565,2,    217.8,2,    218.9,2,   100.10,2,    30.66,2,     0.07,2,     2.02,2,   -999.0,9,-999.0000,9,  -999.00
  29HE20100208,   A21,    52,  1,      4,      4,2,20100308,   0,-35.5143,  14.8878, 4725,   3499.1,   1.8435,  34.8123,2,    222.5,2,    222.6,2,    77.93,2,    28.07,2,     0.07,2,     1.84,2,   -999.0,9,-999.0000,9,  -999.00
  29HE20100208,   A21,    52,  1,      5,      5,2,20100308,   0,-35.5143,  14.8878, 4725,   3247.8,   2.0982,  34.8389,2,    226.4,2,    223.8,2,    61.17,2,    25.95,2,     0.08,2,     1.71,2,   -999.0,9,-999.0000,9,  -999.00
  29HE20100208,   A21,    52,  1,      6,      6,2,20100308,   0,-35.5143,  14.8878, 4725,   2998.9,   2.2564,  34.8486,2,    227.0,2,    226.4,2,  -999.00,9,  -999.00,9,  -999.00,9,  -999.00,9,   -999.0,9,-999.0000,9,  -999.00
  29HE20100208,   A21,    52,  1,      7,      7,2,20100308,   0,-35.5143,  14.8878, 4725,   2748.5,   2.3597,  34.8492,2,    226.4,2,    226.8,2,    58.37,2,    25.99,2,     0.07,2,     1.71,2,   -999.0,9,-999.0000,9,  -999.00
  29HE20100208,   A21,    52,  1,      8,      8,2,20100308,   0,-35.5143,  14.8878, 4725,   2500.9,   2.4495,  34.8438,2,    222.8,2,    223.0,2,    57.50,2,    26.34,2,     0.07,2,     1.72,2,   -999.0,9,-999.0000,9,  -999.00
  29HE20100208,   A21,    52,  1,      9,      9,2,20100308,   0,-35.5143,  14.8878, 4725,   2249.0,   2.6167,  34.8433,2,    220.7,2,    220.7,2,    53.69,2,    26.36,2,     0.07,2,     1.72,2,   -999.0,9,-999.0000,9,  -999.00
  29HE20100208,   A21,    52,  1,     10,     10,2,20100308,   0,-35.5143,  14.8878, 4725,   1999.4,   2.6750,  34.8144,2,    211.1,2,    211.7,2,    56.99,2,    27.69,2,     0.07,2,     1.81,2,   -999.0,9,-999.0000,9,  -999.00
  29HE20100208,   A21,    52,  1,     11,     11,2,20100308,   0,-35.5143,  14.8878, 4725,   1748.4,   2.7551,  34.7693,2,    198.6,2,    198.3,2,    60.95,2,    29.54,2,     0.07,2,     1.93,2,   -999.0,9,-999.0000,9,  -999.00
  29HE20100208,   A21,    52,  1,     12,     12,2,20100308,   0,-35.5143,  14.8878, 4725,   1498.6,   2.8580,  34.6794,2,    182.2,2,    185.0,2,    67.03,2,    32.41,2,     0.07,2,     2.12,2,   -999.0,9,-999.0000,9,  -999.00
  29HE20100208,   A21,    52,  1,     13,     13,2,20100308,   0,-35.5143,  14.8878, 4725,   1250.1,   3.5219,  34.5970,2,    163.2,2,    165.7,2,    69.46,2,    34.39,2,     0.07,2,     2.30,2,   -999.0,9,-999.0000,9,  -999.00
  29HE20100208,   A21,    52,  1,     14,     14,2,20100308,   0,-35.5143,  14.8878, 4725,    999.1,   4.6299,  34.5238,2,    166.9,2,    170.6,2,    53.25,2,    33.36,2,     0.07,2,     2.22,2,   -999.0,9,-999.0000,9,  -999.00
  29HE20100208,   A21,    52,  1,     15,     15,2,20100308,   0,-35.5143,  14.8878, 4725,    899.7,   5.0292,  34.4859,2,    178.5,2,    177.5,2,    44.11,2,    32.17,2,     0.07,2,     2.13,2,   -999.0,9,-999.0000,9,  -999.00
  29HE20100208,   A21,    52,  1,     16,     16,2,20100308,   0,-35.5143,  14.8878, 4725,    799.7,   5.7982,  34.5032,2,    181.2,2,    180.7,2,    36.88,2,    30.45,2,     0.07,2,     2.03,2,   -999.0,9,-999.0000,9,  -999.00
  29HE20100208,   A21,    52,  1,     17,     17,2,20100308,   0,-35.5143,  14.8878, 4725,    600.8,   7.5403,  34.5214,2,    215.3,2,    212.2,2,    14.45,2,    23.94,2,     0.07,2,     1.61,2,   -999.0,9,-999.0000,9,  -999.00
  29HE20100208,   A21,    52,  1,     18,     18,2,20100308,   0,-35.5143,  14.8878, 4725,    400.0,  10.7338,  34.8809,2,    220.4,2,    217.0,2,     6.04,2,    15.32,2,     0.08,2,     1.13,2,   -999.0,9,-999.0000,9,  -999.00
  29HE20100208,   A21,    52,  1,     19,     19,2,20100308,   0,-35.5143,  14.8878, 4725,    202.1,  13.7324,  35.2158,2,    226.0,2,    223.1,2,     3.57,2,     7.61,2,     0.08,2,     0.73,2,   -999.0,9,-999.0000,9,  -999.00
  29HE20100208,   A21,    52,  1,     20,     20,2,20100308,   0,-35.5143,  14.8878, 4725,    151.5,  14.3537,  35.2656,2,    231.9,2,    228.2,2,     2.84,2,     5.43,2,     0.09,2,     0.63,2,   -999.0,9,-999.0000,9,  -999.00
  29HE20100208,   A21,    52,  1,     21,     21,2,20100308,   0,-35.5143,  14.8878, 4725,    100.9,  15.7854,  35.4124,2,    225.6,2,    221.6,2,     3.49,2,     3.92,2,     0.24,2,     0.56,2,   -999.0,9,-999.0000,9,  -999.00
  29HE20100208,   A21,    52,  1,     22,     22,2,20100308,   0,-35.5143,  14.8878, 4725,     49.8,  18.5501,  35.3644,2,    240.6,2,    235.6,2,     1.86,2,     0.60,2,     0.07,2,     0.36,2,   -999.0,9,-999.0000,9,  -999.00
  29HE20100208,   A21,    52,  1,     23,     23,2,20100308,   0,-35.5143,  14.8878, 4725,     23.7,  19.7900,  35.4893,2,    235.0,2,    229.8,2,     2.17,2,     0.58,2,     0.07,2,     0.34,2,   -999.0,9,-999.0000,9,  -999.00
  29HE20100208,   A21,    52,  1,     24,     24,2,20100308,   0,-35.5143,  14.8878, 4725,     11.6,  20.8923,  35.5705,2,    230.3,2,    220.5,2,     2.63,2,     0.59,2,     0.07,2,     0.33,2,   -999.0,9,-999.0000,9,  -999.00
  29HE20100208,   A21,    53,  1,      1,      1,2,20100308,   0,-35.2912,  15.4463, 4622,   4690.7,   1.0417,  34.7311,2,    217.2,2,    217.7,2,   110.48,2,    31.93,2,     0.08,2,     2.03,2,   2363.7,2,   7.6326,2,    25.00
  29HE20100208,   A21,    53,  1,      2,      2,2,20100308,   0,-35.2912,  15.4463, 4622,   4500.4,   1.0811,  34.7368,2,    217.0,2,    216.8,2,   100.36,2,    29.37,3,     0.08,2,     1.91,2,   2365.7,2,   7.6298,2,    25.00
  29HE20100208,   A21,    53,  1,      3,      3,2,20100308,   0,-35.2912,  15.4463, 4622,   3999.9,   1.1762,  34.7498,2,    218.8,2,    213.4,2,   104.88,2,    31.17,2,     0.08,2,     1.98,2,   2362.1,2,   7.6333,2,    25.00
  29HE20100208,   A21,    53,  1,      4,      4,2,20100308,   0,-35.2912,  15.4463, 4622,   3500.1,   1.6768,  34.7978,2,    220.8,2,    223.9,2,    85.96,2,    28.72,2,     0.08,2,     1.83,2,   2353.4,2,   7.6582,2,    25.00
  29HE20100208,   A21,    53,  1,      5,      5,2,20100308,   0,-35.2912,  15.4463, 4622,   3250.9,   2.0132,  34.8320,2,    225.3,2,    224.7,2,  -999.00,9,  -999.00,9,  -999.00,9,  -999.00,9,   2350.0,2,-999.0000,9,  -999.00
  29HE20100208,   A21,    53,  1,      6,      6,2,20100308,   0,-35.2912,  15.4463, 4622,   2998.7,   2.1861,  34.8458,2,    227.2,2,    227.8,2,    65.52,2,    26.29,2,     0.08,2,     1.67,2,   2346.5,2,   7.6844,2,    25.00
  29HE20100208,   A21,    53,  1,      7,      7,2,20100308,   0,-35.2912,  15.4463, 4622,   2747.1,   2.2780,  34.8468,2,    225.3,2,    225.9,2,    59.06,2,    24.77,3,     0.08,2,     1.60,2,   2343.1,2,   7.6821,2,    25.00
  29HE20100208,   A21,    53,  1,      8,      8,2,20100308,   0,-35.2912,  15.4463, 4622,   2496.2,   2.3652,  34.8457,2,    224.2,2,    224.7,2,    61.13,2,    26.32,2,     0.08,2,     1.66,2,   2342.9,2,   7.6789,2,    25.00
  29HE20100208,   A21,    53,  1,      9,      9,2,20100308,   0,-35.2912,  15.4463, 4622,   2246.9,   2.4684,  34.8414,2,    221.0,2,    220.9,2,    59.26,2,    26.63,2,     0.08,2,     1.67,2,   2338.9,2,   7.6807,2,    25.00
  29HE20100208,   A21,    53,  1,     10,     10,2,20100308,   0,-35.2912,  15.4463, 4622,   1998.3,   2.6063,  34.8296,2,    215.8,2,    216.0,2,    58.25,2,    27.25,2,     0.08,2,     1.71,2,   2336.2,2,   7.6655,2,    25.00
  29HE20100208,   A21,    53,  1,     11,     11,2,20100308,   0,-35.2912,  15.4463, 4622,   1750.4,   2.7449,  34.8073,2,    208.5,2,    207.4,2,    57.61,2,    28.08,2,     0.08,2,     1.76,2,   2332.4,2,   7.6517,2,    25.00
  29HE20100208,   A21,    53,  1,     12,     12,2,20100308,   0,-35.2912,  15.4463, 4622,   1503.5,   2.8189,  34.7501,2,    194.6,2,    194.0,2,    62.70,2,    30.26,2,     0.08,2,     1.92,2,   2333.8,2,   7.6258,2,    25.00
  29HE20100208,   A21,    53,  1,     13,     13,2,20100308,   0,-35.2912,  15.4463, 4622,   1247.5,   2.9341,  34.6320,2,    178.3,2,    177.6,2,    67.45,2,    33.40,2,     0.08,2,     2.11,2,   2333.2,2,   7.5854,2,    25.00
  29HE20100208,   A21,    53,  1,     14,     14,2,20100308,   0,-35.2912,  15.4463, 4622,    998.9,   3.3308,  34.5019,2,    177.4,2,    179.8,2,    61.17,2,    34.50,2,     0.08,2,     2.19,2,   2324.7,2,   7.5803,2,    25.00
  29HE20100208,   A21,    53,  1,     15,     15,2,20100308,   0,-35.2912,  15.4463, 4622,    900.8,   3.6133,  34.4575,2,    182.8,2,    180.9,2,    55.18,2,    33.99,2,     0.08,2,     2.16,2,   2317.2,2,   7.5820,2,    25.00
  29HE20100208,   A21,    53,  1,     16,     16,2,20100308,   0,-35.2912,  15.4463, 4622,    799.5,   4.2465,  34.4374,2,    187.3,2,    185.1,2,    48.20,2,    33.14,2,     0.09,2,     2.11,2,   2312.4,2,   7.5985,2,    25.00
  29HE20100208,   A21,    53,  1,     17,     17,2,20100308,   0,-35.2912,  15.4463, 4622,    601.7,   5.2423,  34.3901,2,    207.7,2,    206.0,2,    30.56,2,    29.84,2,     0.08,2,     1.90,2,   2296.1,2,   7.6413,2,    25.00
  29HE20100208,   A21,    53,  1,     18,     18,2,20100308,   0,-35.2912,  15.4463, 4622,    400.2,   7.9684,  34.5644,2,    211.3,2,    208.0,2,    15.05,2,    23.24,2,     0.09,2,     1.51,2,   2291.6,2,   7.7000,2,    25.00
  29HE20100208,   A21,    53,  1,     19,     19,2,20100308,   0,-35.2912,  15.4463, 4622,    200.4,  11.7787,  35.0047,2,    219.2,2,    215.4,2,     7.85,2,    13.38,2,     0.09,2,     0.98,2,   2308.2,2,   7.8128,2,    25.00
  29HE20100208,   A21,    53,  1,     20,     20,2,20100308,   0,-35.2912,  15.4463, 4622,    149.3,  12.9757,  35.1283,2,    217.4,2,    214.1,2,     7.58,2,    10.83,2,     0.09,2,     0.85,2,   2313.2,2,   7.8407,2,    25.00
  29HE20100208,   A21,    53,  1,     21,     21,2,20100308,   0,-35.2912,  15.4463, 4622,     99.1,  15.0782,  35.2341,2,    213.8,2,    212.5,2,     6.68,2,     7.53,2,     0.11,2,     0.69,2,   2317.8,2,   7.8948,2,    25.00
  29HE20100208,   A21,    53,  1,     22,     22,2,20100308,   0,-35.2912,  15.4463, 4622,     50.0,  20.4017,  35.6157,2,    230.5,2,    227.1,2,     5.14,2,     0.70,2,     0.08,2,     0.30,2,   2341.2,2,   8.0117,2,    25.00
  29HE20100208,   A21,    53,  1,     23,     23,2,20100308,   0,-35.2912,  15.4463, 4622,     26.5,  21.0791,  35.7094,2,    228.9,2,    225.0,2,     5.95,2,     0.64,2,     0.08,2,     0.29,2,   -999.0,9,-999.0000,9,  -999.00
  29HE20100208,   A21,    53,  1,     24,     24,2,20100308,   0,-35.2912,  15.4463, 4622,     12.3,  21.3622,  35.6930,2,    227.4,2,    209.8,3,     6.19,2,     0.66,2,     0.08,2,     0.29,2,   2343.5,2,   8.0159,2,    25.00