BOTTLE,20220207CCHSIOENA
EXPOCODE,SECT_ID,STNNBR,CASTNO,SAMPNO,BTLNBR,BTLNBR_FLAG_W,DATE,TIME,LATITUDE,LONGITUDE,DEPTH,CTDPRS,CTDTMP,CTDSAL,CTDSAL_FLAG_W,CTDOXY,CTDOXY_FLAG_W,OXYGEN,OXYGEN_FLAG_W,SILCAT,SILCAT_FLAG_W,NITRAT,NITRAT_FLAG_W,NITRIT,NITRIT_FLAG_W,PHSPHT,PHSPHT_FLAG_W,ALKALI,ALKALI_FLAG_W,PH_SWS,PH_SWS_FLAG_W,PH_TMP
,,,,,,,,,,,METERS,DBAR,ITS-90,PSS-78,,UMOL/KG,,UMOL/KG,,UMOL/KG,,UMOL/KG,,UMOL/KG,,UMOL/KG,,UMOL/KG,,,,DEG C
  29HE20100208,   A21,    26,  1,      1,      1,2,20100219,   0,-50.5733, -45.0815, 1463,   1433.3,   1.8154,  34.7178,2,    179.2,2,    180.8,2,   100.34,2,    32.51,2,     0.07,2,     2.27,2,   2358.4,2,   7.5809,2,    25.00
  29HE20100208,   A21,    26,  1,      2,      2,2,20100219,   0,-50.5733, -45.0815, 1463,   1248.7,   1.9536,  34.7030,2,    176.6,2,    177.2,2,    93.67,2,    32.91,2,     0.06,2,     2.28,2,   2356.6,2,   7.5787,2,    25.00
  29HE20100208,   A21,    26,  1,      3,      3,2,20100219,   0,-50.5733, -45.0815, 1463,   1000.7,   2.1436,  34.6610,2,    173.0,2,    173.4,2,    86.11,2,    33.60,2,     0.06,2,     2.34,2,   2348.8,2,   7.5552,2,    25.00
  29HE20100208,   A21,    26,  1,      4,      4,2,20100219,   0,-50.5733, -45.0815, 1463,    899.5,   2.2282,  34.6363,2,    172.3,2,    173.2,2,    82.45,2,    33.84,2,     0.06,2,     2.35,2,   2347.0,2,   7.5598,2,    25.00
  29HE20100208,   A21,    26,  1,      5,      5,2,20100219,   0,-50.5733, -45.0815, 1463,    799.1,   2.3272,  34.5948,2,    171.5,2,    174.5,2,    79.17,2,    34.37,2,     0.06,2,     2.37,2,   2341.2,2,   7.5574,2,    25.00
  29HE20100208,   A21,    26,  1,      6,      6,2,20100219,   0,-50.5733, -45.0815, 1463,    599.6,   2.4258,  34.5055,2,    176.2,2,    175.1,2,    71.53,2,    34.90,2,     0.06,2,     2.42,2,   2331.6,2,   7.5476,2,    25.00
  29HE20100208,   A21,    26,  1,      7,      7,2,20100219,   0,-50.5733, -45.0815, 1463,    400.7,   2.5781,  34.3572,2,    200.8,2,    198.4,2,    55.12,2,    34.15,2,     0.07,2,     2.36,2,   2313.3,2,   7.5672,2,    25.00
  29HE20100208,   A21,    26,  1,      8,      8,2,20100219,   0,-50.5733, -45.0815, 1463,    301.3,   2.1070,  34.2221,2,    240.5,2,    238.8,2,    42.15,2,    32.51,2,     0.07,2,     2.26,2,   2298.6,2,   7.5984,2,    25.00
  29HE20100208,   A21,    26,  1,      9,      9,2,20100219,   0,-50.5733, -45.0815, 1463,    199.0,   1.8645,  34.1014,2,    280.1,2,    275.8,2,    29.84,2,    30.34,2,     0.08,2,     2.10,2,   2286.2,2,   7.6337,2,    25.00
  29HE20100208,   A21,    26,  1,     10,     10,2,20100219,   0,-50.5733, -45.0815, 1463,    149.9,   1.2795,  33.9884,2,    316.0,2,    312.8,2,    22.86,2,    28.29,2,     0.21,2,     1.98,2,   2279.7,2,   7.6598,2,    25.00
  29HE20100208,   A21,    26,  1,     11,     11,2,20100219,   0,-50.5733, -45.0815, 1463,    125.1,   1.9908,  34.0167,2,    309.3,2,    305.0,2,    20.84,2,    28.06,2,     0.26,2,     1.98,2,   -999.0,9,-999.0000,9,  -999.00
  29HE20100208,   A21,    26,  1,     12,     12,2,20100219,   0,-50.5733, -45.0815, 1463,     98.7,   2.3731,  33.9978,2,    313.3,2,    309.7,2,    17.50,2,    25.93,2,     0.52,2,     1.94,2,   2281.3,2,   7.6847,2,    25.00
  29HE20100208,   A21,    26,  1,     13,     13,2,20100219,   0,-50.5733, -45.0815, 1463,     74.3,   2.7110,  33.9782,2,    315.5,2,    312.0,2,    12.99,2,    23.91,2,     0.42,2,     1.86,2,   -999.0,9,-999.0000,9,  -999.00
  29HE20100208,   A21,    26,  1,     14,     14,2,20100219,   0,-50.5733, -45.0815, 1463,     49.6,   5.7314,  33.9301,2,    305.2,2,    300.2,2,     3.00,2,    18.92,2,     0.24,2,     1.44,2,   2275.3,2,   7.7984,2,    25.00
  29HE20100208,   A21,    26,  1,     15,     15,2,20100219,   0,-50.5733, -45.0815, 1463,     25.2,   6.8176,  33.8924,2,    303.8,2,    300.8,2,     1.77,2,    18.34,2,     0.21,2,     1.37,2,   -999.0,9,-999.0000,9,  -999.00
  29HE20100208,   A21,    26,  1,     16,     16,2,20100219,   0,-50.5733, -45.0815, 1463,     10.0,   6.8500,  33.8914,2,    304.4,2,    302.1,2,     1.82,2,    18.35,2,     0.21,2,     1.35,2,   2276.8,2,   7.8170,2,    25.00
  29HE20100208,   A21,    27,  1,      1,      1,2,20100219,   0,-50.5505, -44.3892, 1401,   1367.7,   1.9248,  34.7131,2,    176.4,2,    176.9,2,    97.99,2,    32.59,2,     0.07,2,     2.29,2,   -999.0,9,-999.0000,9,  -999.00
  29HE20100208,   A21,    27,  1,      2,      2,2,20100219,   0,-50.5505, -44.3892, 1401,   1246.5,   2.0012,  34.7018,2,    176.6,2,    176.1,2,    91.39,2,    32.76,2,     0.05,2,     2.30,2,   -999.0,9,-999.0000,9,  -999.00
  29HE20100208,   A21,    27,  1,      3,      3,2,20100219,   0,-50.5505, -44.3892, 1401,    998.6,   2.1560,  34.6573,2,    172.2,2,    175.1,2,    85.93,2,    33.70,2,     0.05,2,     2.36,2,   -999.0,9,-999.0000,9,  -999.00
  29HE20100208,   A21,    27,  1,      4,      4,2,20100219,   0,-50.5505, -44.3892, 1401,    897.7,   2.2171,  34.6285,2,    171.2,2,    170.6,2,    83.48,2,    34.02,2,     0.05,2,     2.38,2,   -999.0,9,-999.0000,9,  -999.00
  29HE20100208,   A21,    27,  1,      5,      5,2,20100219,   0,-50.5505, -44.3892, 1401,    800.3,   2.2756,  34.5971,2,    170.9,2,    170.1,2,    80.35,2,    34.40,2,     0.06,2,     2.40,2,   -999.0,9,-999.0000,9,  -999.00
  29HE20100208,   A21,    27,  1,      6,      6,2,20100219,   0,-50.5505, -44.3892, 1401,    598.8,   2.3989,  34.5022,2,    176.5,2,    174.0,2,    71.52,2,    34.99,2,     0.06,2,     2.43,2,   -999.0,9,-999.0000,9,  -999.00
  29HE20100208,   A21,    27,  1,      7,      7,2,20100219,   0,-50.5505, -44.3892, 1401,    398.7,   2.3964,  34.3429,2,    204.1,2,    202.3,2,    54.95,2,    34.11,2,     0.07,2,     2.37,2,   -999.0,9,-999.0000,9,  -999.00
  29HE20100208,   A21,    27,  1,      8,      8,2,20100219,   0,-50.5505, -44.3892, 1401,    299.1,   2.0245,  34.2149,2,    243.5,2,    238.8,2,    43.09,2,    32.61,2,     0.07,2,     2.27,2,   -999.0,9,-999.0000,9,  -999.00
  29HE20100208,   A21,    27,  1,      9,      9,2,20100219,   0,-50.5505, -44.3892, 1401,    199.3,   1.6548,  34.0954,2,    283.5,2,    280.0,2,    30.53,2,    30.36,2,     0.07,2,     2.12,2,   -999.0,9,-999.0000,9,  -999.00
  29HE20100208,   A21,    27,  1,     10,     10,2,20100219,   0,-50.5505, -44.3892, 1401,    148.6,   1.5647,  34.0294,2,    304.6,2,    300.7,2,    24.46,2,    28.97,2,     0.09,2,     2.03,2,   -999.0,9,-999.0000,9,  -999.00
  29HE20100208,   A21,    27,  1,     11,     11,2,20100219,   0,-50.5505, -44.3892, 1401,    122.8,   1.8507,  34.0201,2,    308.9,2,    305.1,2,    22.00,2,    28.48,2,     0.16,2,     2.01,2,   -999.0,9,-999.0000,9,  -999.00
  29HE20100208,   A21,    27,  1,     12,     12,2,20100219,   0,-50.5505, -44.3892, 1401,     99.2,   2.3633,  33.9662,2,    316.4,2,    313.6,2,    17.08,2,    25.37,2,     0.49,2,     1.95,2,   -999.0,9,-999.0000,9,  -999.00
  29HE20100208,   A21,    27,  1,     13,     13,2,20100219,   0,-50.5505, -44.3892, 1401,     73.0,   4.0120,  33.9175,2,    313.2,2,    310.8,2,     8.35,2,    21.84,2,     0.29,2,     1.77,2,   -999.0,9,-999.0000,9,  -999.00
  29HE20100208,   A21,    27,  1,     14,     14,2,20100219,   0,-50.5505, -44.3892, 1401,     48.6,   6.2675,  33.8725,2,    306.4,2,    304.2,2,     1.94,2,    19.31,2,     0.25,2,     1.43,2,   -999.0,9,-999.0000,9,  -999.00
  29HE20100208,   A21,    27,  1,     15,     15,2,20100219,   0,-50.5505, -44.3892, 1401,     25.7,   6.3835,  33.8743,2,    307.1,2,    305.5,2,     1.97,2,    19.23,2,     0.24,2,     1.42,2,   -999.0,9,-999.0000,9,  -999.00
  29HE20100208,   A21,    27,  1,     16,     16,2,20100219,   0,-50.5505, -44.3892, 1401,      8.4,   6.4115,  33.8686,2,    307.4,2,    304.6,2,     2.03,2,    19.23,2,     0.24,2,     1.43,2,   -999.0,9,-999.0000,9,  -999.00
  29HE20100208,   A21,    28,  1,      1,      1,2,20100219,   0,-50.5300, -43.6890, 1358,   1325.7,   2.0210,  34.7037,2,    175.6,2,    175.4,2,    93.16,2,    32.80,2,     0.07,2,     2.35,2,   2351.8,2,   7.5719,2,    25.00
  29HE20100208,   A21,    28,  1,      2,      2,2,20100219,   0,-50.5300, -43.6890, 1358,   1263.3,   2.0182,  34.7030,2,    175.6,2,    175.7,2,    92.26,2,    32.73,2,     0.07,2,     2.35,2,   2352.2,2,   7.5747,2,    25.00
  29HE20100208,   A21,    28,  1,      3,      3,2,20100219,   0,-50.5300, -43.6890, 1358,    998.9,   2.1860,  34.6489,2,    171.7,2,    168.3,2,    83.98,2,    33.78,2,     0.06,2,     2.40,2,   2346.0,2,   7.5660,2,    25.00
  29HE20100208,   A21,    28,  1,      4,      4,2,20100219,   0,-50.5300, -43.6890, 1358,    900.2,   2.2175,  34.6316,2,    170.8,2,    170.8,2,    82.66,2,    34.05,2,     0.05,2,     2.43,2,   2343.6,2,   7.5546,2,    25.00
  29HE20100208,   A21,    28,  1,      5,      5,2,20100219,   0,-50.5300, -43.6890, 1358,    800.3,   2.2799,  34.5970,2,    170.4,2,    172.1,2,    79.82,2,    34.35,2,     0.05,2,     2.44,2,   2338.9,2,   7.5678,2,    25.00
  29HE20100208,   A21,    28,  1,      6,      6,2,20100219,   0,-50.5300, -43.6890, 1358,    599.1,   2.4659,  34.5019,2,    176.0,2,    175.8,2,    70.32,2,    34.78,2,     0.06,2,     2.47,2,   2328.2,2,   7.5826,2,    25.00
  29HE20100208,   A21,    28,  1,      7,      7,2,20100219,   0,-50.5300, -43.6890, 1358,    401.0,   2.5115,  34.3526,2,    201.9,2,    201.0,2,    53.90,2,    34.11,2,     0.07,2,     2.41,2,   2310.6,2,   7.5679,2,    25.00
  29HE20100208,   A21,    28,  1,      8,      8,2,20100219,   0,-50.5300, -43.6890, 1358,    299.7,   2.1328,  34.2193,2,    241.8,2,    237.3,2,    42.33,2,    32.39,2,     0.07,2,     2.32,2,   2297.5,2,   7.6134,2,    25.00
  29HE20100208,   A21,    28,  1,      9,      9,2,20100219,   0,-50.5300, -43.6890, 1358,    199.7,   1.7666,  34.1015,2,    280.5,2,    275.2,2,    30.42,2,    30.45,2,     0.07,2,     2.16,2,   2286.3,2,   7.6361,2,    25.00
  29HE20100208,   A21,    28,  1,     10,     10,2,20100219,   0,-50.5300, -43.6890, 1358,    148.3,   1.5838,  34.0314,2,    306.2,2,    303.3,2,    23.24,2,    28.82,2,     0.08,2,     2.07,2,   2278.6,2,   7.6598,2,    25.00
  29HE20100208,   A21,    28,  1,     11,     11,2,20100219,   0,-50.5300, -43.6890, 1358,    122.5,   1.6228,  34.0080,2,    312.8,2,    308.7,2,    21.45,2,    28.36,2,     0.20,2,     2.04,2,   -999.0,9,-999.0000,9,  -999.00
  29HE20100208,   A21,    28,  1,     12,     12,2,20100219,   0,-50.5300, -43.6890, 1358,    101.4,   1.9379,  33.9830,2,    317.2,2,    314.5,2,    18.94,2,    26.52,2,     0.46,2,     2.01,2,   2276.9,2,   7.6767,2,    25.00
  29HE20100208,   A21,    28,  1,     13,     13,2,20100219,   0,-50.5300, -43.6890, 1358,     74.6,   5.2570,  33.8470,2,    313.0,2,    311.3,2,     3.18,2,    20.57,2,     0.27,2,     1.58,2,   -999.0,9,-999.0000,9,  -999.00
  29HE20100208,   A21,    28,  1,     14,     14,2,20100219,   0,-50.5300, -43.6890, 1358,     50.1,   5.8325,  33.8699,2,    310.5,2,    312.8,2,     1.34,2,    19.72,2,     0.25,2,     1.45,2,   2271.6,2,   7.7951,2,    25.00
  29HE20100208,   A21,    28,  1,     15,     15,2,20100219,   0,-50.5300, -43.6890, 1358,     26.2,   5.8865,  33.8665,2,    311.7,2,    310.2,2,     1.17,2,    19.67,2,     0.24,2,     1.43,2,   -999.0,9,-999.0000,9,  -999.00
  29HE20100208,   A21,    28,  1,     16,     16,2,20100219,   0,-50.5300, -43.6890, 1358,     11.9,   5.9000,  33.8643,2,    312.4,2,    310.8,2,     1.21,2,    19.53,2,     0.24,2,     1.43,2,   2270.7,2,   7.8019,2,    25.00
  29HE20100208,   A21,    29,  1,      1,      1,2,20100219,   0,-50.5008, -43.0007, 1365,   1336.6,   2.0076,  34.7064,2,    175.4,2,    177.2,2,    95.26,2,    32.59,2,     0.07,2,     2.32,2,   -999.0,9,-999.0000,9,  -999.00
  29HE20100208,   A21,    29,  1,      2,      2,2,20100219,   0,-50.5008, -43.0007, 1365,   1247.9,   2.0314,  34.7021,2,    176.2,2,    179.5,2,    92.29,2,    32.67,2,     0.06,2,     2.31,2,   -999.0,9,-999.0000,9,  -999.00
  29HE20100208,   A21,    29,  1,      3,      3,2,20100219,   0,-50.5008, -43.0007, 1365,    997.8,   2.1900,  34.6428,2,    171.1,2,    171.8,2,    85.05,2,    33.90,2,     0.06,2,     2.39,2,   -999.0,9,-999.0000,9,  -999.00
  29HE20100208,   A21,    29,  1,      4,      4,2,20100219,   0,-50.5008, -43.0007, 1365,    900.2,   2.2479,  34.6243,2,    170.8,2,    172.7,2,    83.18,2,    34.12,2,     0.06,2,     2.40,2,   -999.0,9,-999.0000,9,  -999.00
  29HE20100208,   A21,    29,  1,      5,      5,2,20100219,   0,-50.5008, -43.0007, 1365,    800.8,   2.3201,  34.5962,2,    170.4,2,    173.2,2,    80.39,2,    34.32,2,     0.06,2,     2.43,2,   -999.0,9,-999.0000,9,  -999.00
  29HE20100208,   A21,    29,  1,      6,      6,2,20100219,   0,-50.5008, -43.0007, 1365,    599.8,   2.3891,  34.4910,2,    178.6,2,    178.4,2,    70.36,2,    34.94,2,     0.06,2,     2.46,2,   -999.0,9,-999.0000,9,  -999.00
  29HE20100208,   A21,    29,  1,      7,      7,2,20100219,   0,-50.5008, -43.0007, 1365,    399.6,   2.4054,  34.3365,2,    206.5,2,    210.0,2,    53.77,2,    34.00,2,     0.06,2,     2.38,2,   -999.0,9,-999.0000,9,  -999.00
  29HE20100208,   A21,    29,  1,      8,      8,2,20100219,   0,-50.5008, -43.0007, 1365,    299.9,   2.0392,  34.1817,2,    254.0,2,    252.2,2,    45.42,2,    31.88,2,     0.07,2,     2.24,2,   -999.0,9,-999.0000,9,  -999.00
  29HE20100208,   A21,    29,  1,      9,      9,2,20100219,   0,-50.5008, -43.0007, 1365,    200.9,   1.7260,  34.0959,2,    282.9,2,    281.7,2,    30.08,2,    30.38,2,     0.07,2,     2.15,2,   -999.0,9,-999.0000,9,  -999.00
  29HE20100208,   A21,    29,  1,     10,     10,2,20100219,   0,-50.5008, -43.0007, 1365,    149.3,   1.6491,  34.0367,2,    304.0,2,    302.4,2,    24.75,2,    29.10,2,     0.08,2,     2.07,2,   -999.0,9,-999.0000,9,  -999.00
  29HE20100208,   A21,    29,  1,     11,     11,2,20100219,   0,-50.5008, -43.0007, 1365,    124.1,   1.7249,  34.0077,2,    311.4,2,    309.5,2,    22.45,2,    28.37,2,     0.20,2,     2.03,2,   -999.0,9,-999.0000,9,  -999.00
  29HE20100208,   A21,    29,  1,     12,     12,2,20100219,   0,-50.5008, -43.0007, 1365,    101.1,   1.9963,  33.9743,2,    316.5,2,    314.9,2,    18.87,2,    26.57,2,     0.46,2,     2.00,2,   -999.0,9,-999.0000,9,  -999.00
  29HE20100208,   A21,    29,  1,     13,     13,2,20100219,   0,-50.5008, -43.0007, 1365,     74.5,   3.6219,  33.8775,2,    316.5,2,    318.9,2,     7.69,2,    22.03,2,     0.34,2,     1.76,2,   -999.0,9,-999.0000,9,  -999.00
  29HE20100208,   A21,    29,  1,     14,     14,2,20100219,   0,-50.5008, -43.0007, 1365,     54.0,   5.4057,  33.8285,2,    314.3,2,    312.4,2,     1.16,2,    19.97,2,     0.25,2,     1.47,2,   -999.0,9,-999.0000,9,  -999.00
  29HE20100208,   A21,    29,  1,     15,     15,2,20100219,   0,-50.5008, -43.0007, 1365,     25.1,   5.8013,  33.8460,2,    313.5,2,    313.8,2,     1.57,2,    19.84,2,     0.24,2,     1.45,2,   -999.0,9,-999.0000,9,  -999.00
  29HE20100208,   A21,    29,  1,     16,     16,2,20100219,   0,-50.5008, -43.0007, 1365,     12.8,   5.8381,  33.8471,2,    313.5,2,    313.0,2,     1.58,2,    19.81,2,     0.24,2,     1.45,2,   -999.0,9,-999.0000,9,  -999.00
  29HE20100208,   A21,    30,  1,      1,      1,2,20100219,   0,-50.3613, -42.2938, 1375,   1349.0,   1.8881,  34.7149,2,    177.1,2,    181.2,2,   100.65,2,    32.59,2,     0.07,2,     2.36,2,   2352.5,2,   7.5802,2,    25.00
  29HE20100208,   A21,    30,  1,      2,      2,2,20100219,   0,-50.3613, -42.2938, 1375,   1250.1,   1.9839,  34.7002,2,    176.0,2,    180.8,2,    94.35,2,    32.97,2,     0.06,2,     2.37,2,   2351.7,2,   7.5799,2,    25.00
  29HE20100208,   A21,    30,  1,      3,      3,2,20100219,   0,-50.3613, -42.2938, 1375,   1000.1,   2.2078,  34.6459,2,    170.7,2,    174.2,2,    86.96,2,    33.69,2,     0.05,2,     2.43,2,   2342.1,2,   7.5643,2,    25.00
  29HE20100208,   A21,    30,  1,      4,      4,2,20100219,   0,-50.3613, -42.2938, 1375,    900.7,   2.2596,  34.6222,2,    170.4,2,    173.1,2,    84.11,2,    34.14,2,     0.06,2,     2.45,2,   2338.7,2,   7.5572,2,    25.00
  29HE20100208,   A21,    30,  1,      5,      5,2,20100219,   0,-50.3613, -42.2938, 1375,    800.5,   2.3650,  34.5831,2,    169.9,2,    174.7,2,    80.67,2,    34.42,2,     0.06,2,     2.48,2,   2334.6,2,   7.5535,2,    25.00
  29HE20100208,   A21,    30,  1,      6,      6,2,20100219,   0,-50.3613, -42.2938, 1375,    600.9,   2.3634,  34.4442,2,    185.2,2,    185.6,2,    66.56,2,    34.78,2,     0.06,2,     2.51,2,   2317.8,2,   7.5503,2,    25.00
  29HE20100208,   A21,    30,  1,      7,      7,2,20100219,   0,-50.3613, -42.2938, 1375,    401.4,   2.3796,  34.2795,2,    221.8,2,    220.5,2,    49.13,2,    33.09,2,     0.08,2,     2.38,2,   2301.0,2,   7.5848,2,    25.00
  29HE20100208,   A21,    30,  1,      8,      8,2,20100219,   0,-50.3613, -42.2938, 1375,    300.6,   2.1623,  34.1765,2,    256.5,2,    254.3,2,    36.11,2,    31.41,2,     0.07,2,     2.26,2,   2291.1,2,   7.6183,2,    25.00
  29HE20100208,   A21,    30,  1,      9,      9,2,20100219,   0,-50.3613, -42.2938, 1375,    203.1,   2.0369,  34.0807,2,    287.8,2,    287.2,2,    25.57,2,    29.35,2,     0.08,2,     2.12,2,   2279.1,2,   7.6521,2,    25.00
  29HE20100208,   A21,    30,  1,     10,     10,2,20100219,   0,-50.3613, -42.2938, 1375,    151.7,   2.0359,  34.0476,2,    298.8,2,    297.4,2,    22.63,2,    28.75,2,     0.08,2,     2.07,2,   2277.7,2,   7.6596,2,    25.00
  29HE20100208,   A21,    30,  1,     11,     11,2,20100219,   0,-50.3613, -42.2938, 1375,    125.7,   2.1240,  34.0275,2,    302.2,2,    300.2,2,    22.54,2,    28.16,2,     0.21,2,     2.04,2,   -999.0,9,-999.0000,9,  -999.00
  29HE20100208,   A21,    30,  1,     12,     12,2,20100219,   0,-50.3613, -42.2938, 1375,     99.8,   2.5815,  34.0019,2,    312.4,2,    311.0,2,    17.30,2,    25.80,2,     0.53,2,     1.99,2,   2276.6,2,   7.6880,2,    25.00
  29HE20100208,   A21,    30,  1,     13,     13,2,20100219,   0,-50.3613, -42.2938, 1375,     74.5,   5.0651,  33.9056,2,    310.4,2,    313.7,2,     5.60,2,    21.31,2,     0.27,2,     1.69,2,   -999.0,9,-999.0000,9,  -999.00
  29HE20100208,   A21,    30,  1,     14,     14,2,20100219,   0,-50.3613, -42.2938, 1375,     49.8,   6.4572,  33.8959,2,    307.3,2,    307.8,2,     4.40,2,    19.52,2,     0.24,2,     1.48,2,   2270.2,2,   7.7936,2,    25.00
  29HE20100208,   A21,    30,  1,     15,     15,2,20100219,   0,-50.3613, -42.2938, 1375,     26.5,   6.5898,  33.8828,2,    307.4,2,    307.0,2,     3.09,2,    19.39,2,     0.25,2,     1.46,2,   -999.0,9,-999.0000,9,  -999.00
  29HE20100208,   A21,    30,  1,     16,     16,2,20100219,   0,-50.3613, -42.2938, 1375,     12.2,   6.6147,  33.8789,2,    308.3,2,    307.6,2,     2.68,2,    19.41,2,     0.25,2,     1.46,2,   2269.8,2,   7.8070,2,    25.00