BOTTLE,20220207CCHSIOENA
EXPOCODE,SECT_ID,STNNBR,CASTNO,SAMPNO,BTLNBR,BTLNBR_FLAG_W,DATE,TIME,LATITUDE,LONGITUDE,DEPTH,CTDPRS,CTDTMP,CTDSAL,CTDSAL_FLAG_W,CTDOXY,CTDOXY_FLAG_W,OXYGEN,OXYGEN_FLAG_W,SILCAT,SILCAT_FLAG_W,NITRAT,NITRAT_FLAG_W,NITRIT,NITRIT_FLAG_W,PHSPHT,PHSPHT_FLAG_W,ALKALI,ALKALI_FLAG_W,PH_SWS,PH_SWS_FLAG_W,PH_TMP
,,,,,,,,,,,METERS,DBAR,ITS-90,PSS-78,,UMOL/KG,,UMOL/KG,,UMOL/KG,,UMOL/KG,,UMOL/KG,,UMOL/KG,,UMOL/KG,,,,DEG C
  29HE20100208,   A21,    38,  1,      1,      1,2,20100223,   0,-45.7033, -35.7842, 5489,   5603.3,   0.2215,  34.6693,2,    228.8,2,    229.8,2,   128.06,2,    32.95,2,     0.06,2,     2.39,2,   -999.0,9,-999.0000,9,  -999.00
  29HE20100208,   A21,    38,  1,      2,      2,2,20100223,   0,-45.7033, -35.7842, 5489,   5498.1,   0.2436,  34.6708,2,    227.0,2,    227.8,2,   128.22,2,    32.87,2,     0.06,2,     2.39,2,   -999.0,9,-999.0000,9,  -999.00
  29HE20100208,   A21,    38,  1,      3,      3,2,20100223,   0,-45.7033, -35.7842, 5489,   4999.1,   0.2740,  34.6758,2,    222.2,2,    220.5,2,   128.57,2,    32.91,2,     0.06,2,     2.39,2,   -999.0,9,-999.0000,9,  -999.00
  29HE20100208,   A21,    38,  1,      4,      4,2,20100223,   0,-45.7033, -35.7842, 5489,   4499.0,   0.3447,  34.6815,2,    218.8,2,    222.1,2,   125.25,2,    32.93,2,     0.05,2,     2.39,2,   -999.0,9,-999.0000,9,  -999.00
  29HE20100208,   A21,    38,  1,      5,      5,2,20100223,   0,-45.7033, -35.7842, 5489,   4000.2,   0.6504,  34.6969,2,    212.0,2,    214.7,2,   120.38,2,    32.52,2,     0.06,2,     2.35,2,   -999.0,9,-999.0000,9,  -999.00
  29HE20100208,   A21,    38,  1,      6,      6,2,20100223,   0,-45.7033, -35.7842, 5489,   3498.2,   1.0474,  34.7179,2,    202.8,2,    208.2,2,  -999.00,9,  -999.00,9,  -999.00,9,  -999.00,9,   -999.0,9,-999.0000,9,  -999.00
  29HE20100208,   A21,    38,  1,      7,      7,2,20100223,   0,-45.7033, -35.7842, 5489,   3001.1,   1.5581,  34.7482,2,    199.3,2,    203.6,2,    98.48,2,    30.82,2,     0.05,2,     2.20,2,   -999.0,9,-999.0000,9,  -999.00
  29HE20100208,   A21,    38,  1,      8,      8,2,20100223,   0,-45.7033, -35.7842, 5489,   2749.5,   1.9210,  34.7735,2,    201.2,2,    204.6,2,    85.84,2,    29.62,2,     0.06,2,     2.14,2,   -999.0,9,-999.0000,9,  -999.00
  29HE20100208,   A21,    38,  1,      9,      9,2,20100223,   0,-45.7033, -35.7842, 5489,   2498.4,   2.2874,  34.8007,2,    205.5,2,    209.5,2,    72.68,2,    28.20,2,     0.05,2,     2.03,2,   -999.0,9,-999.0000,9,  -999.00
  29HE20100208,   A21,    38,  1,     10,     10,2,20100223,   0,-45.7033, -35.7842, 5489,   2250.3,   2.5362,  34.8104,2,    206.5,2,    209.1,2,    65.44,2,    27.72,2,     0.05,2,     1.99,2,   -999.0,9,-999.0000,9,  -999.00
  29HE20100208,   A21,    38,  1,     11,     11,2,20100223,   0,-45.7033, -35.7842, 5489,   2001.4,   2.6955,  34.7889,2,    200.8,2,    203.1,2,    63.53,2,    28.45,2,     0.05,2,     2.06,2,   -999.0,9,-999.0000,9,  -999.00
  29HE20100208,   A21,    38,  1,     12,     12,2,20100223,   0,-45.7033, -35.7842, 5489,   1749.0,   2.6519,  34.7041,2,    184.4,2,    185.5,2,    70.36,2,    31.35,2,     0.05,2,     2.25,2,   -999.0,9,-999.0000,9,  -999.00
  29HE20100208,   A21,    38,  1,     13,     13,2,20100223,   0,-45.7033, -35.7842, 5489,   1502.6,   2.6624,  34.6314,2,    177.8,2,    179.0,2,    70.47,2,    32.94,2,     0.05,2,     2.36,2,   -999.0,9,-999.0000,9,  -999.00
  29HE20100208,   A21,    38,  1,     14,     14,2,20100223,   0,-45.7033, -35.7842, 5489,   1249.1,   2.6657,  34.5117,2,    178.1,2,    180.1,2,    67.03,2,    34.37,2,     0.05,2,     2.45,2,   -999.0,9,-999.0000,9,  -999.00
  29HE20100208,   A21,    38,  1,     15,     15,2,20100223,   0,-45.7033, -35.7842, 5489,   1001.2,   2.8413,  34.3725,2,    198.3,2,    197.7,2,    53.15,2,    33.83,2,     0.05,2,     2.42,2,   -999.0,9,-999.0000,9,  -999.00
  29HE20100208,   A21,    38,  1,     16,     16,2,20100223,   0,-45.7033, -35.7842, 5489,    766.7,   3.1579,  34.2458,2,    231.5,2,    232.0,2,    35.41,2,    31.59,2,     0.05,2,     2.26,2,   -999.0,9,-999.0000,9,  -999.00
  29HE20100208,   A21,    38,  1,     17,     17,2,20100223,   0,-45.7033, -35.7842, 5489,    600.0,   3.7346,  34.1937,2,    249.6,2,    248.3,2,    23.90,2,    29.47,2,     0.05,2,     2.11,2,   -999.0,9,-999.0000,9,  -999.00
  29HE20100208,   A21,    38,  1,     18,     18,2,20100223,   0,-45.7033, -35.7842, 5489,    400.4,   4.4332,  34.1633,2,    266.4,2,    264.2,2,    13.90,2,    26.83,2,     0.06,2,     1.94,2,   -999.0,9,-999.0000,9,  -999.00
  29HE20100208,   A21,    38,  1,     19,     19,2,20100223,   0,-45.7033, -35.7842, 5489,    200.1,   7.6852,  34.4963,2,    258.9,2,    255.5,2,     6.03,2,    19.02,2,     0.08,2,     1.45,2,   -999.0,9,-999.0000,9,  -999.00
  29HE20100208,   A21,    38,  1,     20,     20,2,20100223,   0,-45.7033, -35.7842, 5489,    149.2,   8.6596,  34.5557,2,    259.6,2,   -999.0,9,     4.43,2,    16.03,2,     0.09,2,     1.29,2,   -999.0,9,-999.0000,9,  -999.00
  29HE20100208,   A21,    38,  1,     21,     21,2,20100223,   0,-45.7033, -35.7842, 5489,    100.5,  10.4668,  34.6096,2,    260.7,2,   -999.0,9,     2.88,2,    12.05,2,     0.19,2,     1.08,2,   -999.0,9,-999.0000,9,  -999.00
  29HE20100208,   A21,    38,  1,     22,     22,2,20100223,   0,-45.7033, -35.7842, 5489,     49.0,  11.7955,  34.5806,2,    273.9,2,   -999.0,9,     1.70,2,     6.81,2,     0.18,2,     0.80,2,   -999.0,9,-999.0000,9,  -999.00
  29HE20100208,   A21,    38,  1,     23,     23,2,20100223,   0,-45.7033, -35.7842, 5489,     22.6,  11.7966,  34.5793,2,    274.9,2,   -999.0,9,     1.78,2,     6.84,2,     0.18,2,     0.81,2,   -999.0,9,-999.0000,9,  -999.00
  29HE20100208,   A21,    38,  1,     24,     24,2,20100223,   0,-45.7033, -35.7842, 5489,      9.1,  11.8128,  34.5806,2,    275.7,2,   -999.0,9,     1.77,2,     6.85,2,     0.18,2,     0.82,2,   -999.0,9,-999.0000,9,  -999.00
  29HE20100208,   A21,    39,  1,      1,      1,2,20100223,   0,-44.8190, -34.9107, 5303,   5402.0,   0.1801,  34.6686,2,    229.9,2,   -999.0,9,   116.56,2,    33.30,2,     0.06,2,     2.23,2,   2359.2,2,   7.5966,2,    25.00
  29HE20100208,   A21,    39,  1,      2,      2,2,20100223,   0,-44.8190, -34.9107, 5303,   4998.2,   0.2640,  34.6754,2,    226.0,2,   -999.0,9,   115.00,2,    33.40,2,     0.06,2,     2.23,2,   2362.1,2,   7.5944,2,    25.00
  29HE20100208,   A21,    39,  1,      3,      3,2,20100223,   0,-44.8190, -34.9107, 5303,   4499.3,   0.3288,  34.6812,2,    222.8,2,    219.4,2,   119.46,2,    33.32,2,     0.06,2,     2.22,2,   2362.3,2,   7.5940,2,    25.00
  29HE20100208,   A21,    39,  1,      4,      4,2,20100223,   0,-44.8190, -34.9107, 5303,   3999.4,   0.5818,  34.6942,2,    216.4,2,    113.4,4,   112.31,2,    33.03,2,     0.06,2,     2.18,2,   2359.9,2,   7.5976,2,    25.00
  29HE20100208,   A21,    39,  1,      5,      5,2,20100223,   0,-44.8190, -34.9107, 5303,   3499.8,   1.0434,  34.7219,2,    208.1,2,    207.5,2,   103.23,2,    32.14,2,     0.05,2,     2.12,2,   2358.4,2,   7.6149,2,    25.00
  29HE20100208,   A21,    39,  1,      6,      6,2,20100223,   0,-44.8190, -34.9107, 5303,   2998.0,   1.5515,  34.7458,2,    202.8,2,    199.3,2,    93.14,2,    31.27,2,     0.06,2,     2.06,2,   2357.0,2,   7.6131,2,    25.00
  29HE20100208,   A21,    39,  1,      7,      7,2,20100223,   0,-44.8190, -34.9107, 5303,   2734.0,   1.7829,  34.7476,2,    198.4,2,    196.0,2,    87.62,2,    31.19,2,     0.06,2,     2.05,2,   2355.8,2,   7.6166,2,    25.00
  29HE20100208,   A21,    39,  1,      8,      8,2,20100223,   0,-44.8190, -34.9107, 5303,   2497.2,   2.3135,  34.8096,2,    211.3,2,    209.1,2,    66.88,2,    28.07,2,     0.06,2,     1.82,2,   2343.1,2,   7.6510,2,    25.00
  29HE20100208,   A21,    39,  1,      9,      9,2,20100223,   0,-44.8190, -34.9107, 5303,   2246.8,   2.5901,  34.8123,2,    209.2,2,    208.0,2,    61.45,2,    27.88,2,     0.06,2,     1.81,2,   2338.8,2,   7.6457,2,    25.00
  29HE20100208,   A21,    39,  1,     10,     10,2,20100223,   0,-44.8190, -34.9107, 5303,   1999.7,   2.6600,  34.7785,2,    199.6,2,    197.9,2,    63.76,2,    29.32,2,     0.05,2,     1.90,2,   2338.6,2,   7.6183,2,    25.00
  29HE20100208,   A21,    39,  1,     11,     11,2,20100223,   0,-44.8190, -34.9107, 5303,   1769.9,   2.6485,  34.7206,2,    187.8,2,    186.0,2,    66.34,2,    31.28,2,     0.06,2,     2.03,2,   2339.2,2,   7.6005,2,    25.00
  29HE20100208,   A21,    39,  1,     12,     12,2,20100223,   0,-44.8190, -34.9107, 5303,   1498.7,   2.7152,  34.6361,2,    180.7,2,    178.0,2,    64.39,2,    32.24,2,     0.05,2,     2.12,2,   2334.2,2,   7.5792,2,    25.00
  29HE20100208,   A21,    39,  1,     13,     13,2,20100223,   0,-44.8190, -34.9107, 5303,   1248.5,   2.7243,  34.5173,2,    180.5,2,    178.1,2,    63.66,2,    34.63,2,     0.06,2,     2.25,2,   2326.8,2,   7.5635,2,    25.00
  29HE20100208,   A21,    39,  1,     14,     14,2,20100223,   0,-44.8190, -34.9107, 5303,    998.3,   2.9354,  34.3778,2,    198.7,2,    196.0,2,    51.10,2,    34.07,2,     0.06,2,     2.21,2,   2311.6,2,   7.5805,2,    25.00
  29HE20100208,   A21,    39,  1,     15,     15,2,20100223,   0,-44.8190, -34.9107, 5303,    900.0,   3.0026,  34.3296,2,    209.1,2,    205.3,2,    45.78,2,    33.45,2,     0.05,2,     2.18,2,   2305.3,2,   7.5815,2,    25.00
  29HE20100208,   A21,    39,  1,     16,     16,2,20100223,   0,-44.8190, -34.9107, 5303,    798.2,   3.1736,  34.2671,2,    224.9,2,   -999.0,9,    37.67,2,    32.30,2,     0.05,2,     2.11,2,   2298.9,2,   7.6141,2,    25.00
  29HE20100208,   A21,    39,  1,     17,     17,2,20100223,   0,-44.8190, -34.9107, 5303,    597.8,   3.6488,  34.1940,2,    249.4,2,    245.1,2,    25.31,2,    29.88,2,     0.05,2,     1.94,2,   2285.2,2,   7.6351,2,    25.00
  29HE20100208,   A21,    39,  1,     18,     18,2,20100223,   0,-44.8190, -34.9107, 5303,    399.3,   4.4143,  34.1724,2,    269.8,2,    263.9,2,    15.14,2,    26.92,2,     0.06,2,     1.75,2,   2279.3,2,   7.6767,2,    25.00
  29HE20100208,   A21,    39,  1,     19,     19,2,20100223,   0,-44.8190, -34.9107, 5303,    198.9,   7.0296,  34.4063,2,    259.5,2,    253.1,2,     7.78,2,    20.90,2,     0.08,2,     1.40,2,   2282.4,2,   7.7325,2,    25.00
  29HE20100208,   A21,    39,  1,     20,     20,2,20100223,   0,-44.8190, -34.9107, 5303,    148.6,   8.1245,  34.5118,2,    267.3,2,    261.3,2,     5.50,2,    16.58,2,     0.08,2,     1.16,2,   -999.0,9,-999.0000,9,  -999.00
  29HE20100208,   A21,    39,  1,     21,     21,2,20100223,   0,-44.8190, -34.9107, 5303,     99.4,   9.2256,  34.5476,2,    263.2,2,   -999.0,9,  -999.00,9,  -999.00,9,  -999.00,9,  -999.00,9,   -999.0,9,-999.0000,9,  -999.00
  29HE20100208,   A21,    39,  1,     22,     22,2,20100223,   0,-44.8190, -34.9107, 5303,     49.2,  11.9886,  34.6544,2,    273.3,2,    267.0,2,     2.50,2,     6.22,2,     0.18,2,     0.67,2,   2302.0,2,   7.9103,2,    25.00
  29HE20100208,   A21,    39,  1,     23,     23,2,20100223,   0,-44.8190, -34.9107, 5303,     25.0,  11.9254,  34.6250,2,    275.6,2,    268.5,2,     2.76,2,     6.29,2,     0.18,2,     0.67,2,   -999.0,9,-999.0000,9,  -999.00
  29HE20100208,   A21,    39,  1,     24,     24,2,20100223,   0,-44.8190, -34.9107, 5303,      9.0,  11.9131,  34.6189,2,    275.4,2,   -999.0,9,     2.87,2,     6.12,2,     0.19,2,     0.67,2,   2299.9,2,   7.9169,2,    25.00
  29HE20100208,   A21,    41,  1,      1,      1,2,20100225,   0,-42.2240, -31.7270, 4654,   4707.3,   0.2694,  34.6767,2,    223.6,2,    223.9,2,   123.13,2,    33.32,2,     0.07,2,     2.32,2,   2365.2,2,   7.5958,2,    25.00
  29HE20100208,   A21,    41,  1,      2,      2,2,20100225,   0,-42.2240, -31.7270, 4654,   4501.6,   0.2737,  34.6781,2,    223.0,2,    222.9,2,   103.31,2,    27.73,3,     0.06,2,     2.05,2,   2363.9,2,   7.5984,2,    25.00
  29HE20100208,   A21,    41,  1,      3,      3,2,20100225,   0,-42.2240, -31.7270, 4654,   3999.5,   0.4025,  34.6865,2,    219.9,2,    215.2,2,   120.55,2,    33.15,2,     0.06,2,     2.29,2,   2362.2,2,   7.5971,2,    25.00
  29HE20100208,   A21,    41,  1,      4,      4,2,20100225,   0,-42.2240, -31.7270, 4654,   3500.8,   0.9240,  34.7150,2,    210.9,2,    214.3,2,   110.69,2,    32.26,2,     0.06,2,     2.22,2,   2359.8,2,   7.6030,2,    25.00
  29HE20100208,   A21,    41,  1,      5,      5,2,20100225,   0,-42.2240, -31.7270, 4654,   3249.5,   1.1893,  34.7317,2,    208.4,2,    215.9,2,   104.62,2,    31.69,2,     0.06,2,     2.17,2,   2358.6,2,   7.6094,2,    25.00
  29HE20100208,   A21,    41,  1,      6,      6,2,20100225,   0,-42.2240, -31.7270, 4654,   2999.9,   1.4798,  34.7502,2,    206.5,2,    206.0,2,  -999.00,9,  -999.00,9,  -999.00,9,  -999.00,9,   2355.7,2,-999.0000,9,  -999.00
  29HE20100208,   A21,    41,  1,      7,      7,2,20100225,   0,-42.2240, -31.7270, 4654,   2748.5,   1.8489,  34.7800,2,    209.6,2,    209.2,2,    82.67,2,    28.89,2,     0.08,2,     2.04,2,   2350.7,2,   7.6324,2,    25.00
  29HE20100208,   A21,    41,  1,      8,      8,2,20100225,   0,-42.2240, -31.7270, 4654,   2496.9,   2.2385,  34.8174,2,    216.0,2,    215.9,2,    66.48,2,    26.78,2,     0.06,2,     1.82,2,   2343.4,2,   7.6538,2,    25.00
  29HE20100208,   A21,    41,  1,      9,      9,2,20100225,   0,-42.2240, -31.7270, 4654,   2245.5,   2.5360,  34.8341,2,    218.2,2,    217.9,2,    59.98,2,    26.74,2,     0.06,2,     1.80,2,   2338.3,2,   7.6622,2,    25.00
  29HE20100208,   A21,    41,  1,     10,     10,2,20100225,   0,-42.2240, -31.7270, 4654,   1997.2,   2.6632,  34.8145,2,    210.8,2,    210.8,2,    60.77,2,    27.69,2,     0.06,2,     1.87,2,   2337.6,2,   7.6471,2,    25.00
  29HE20100208,   A21,    41,  1,     11,     11,2,20100225,   0,-42.2240, -31.7270, 4654,   1748.8,   2.7910,  34.7735,2,    201.6,2,    199.5,2,    60.36,2,    28.75,2,     0.07,2,     1.97,2,   2336.0,2,   7.6252,2,    25.00
  29HE20100208,   A21,    41,  1,     12,     12,2,20100225,   0,-42.2240, -31.7270, 4654,   1498.7,   2.6969,  34.6879,2,    185.1,2,    184.0,2,    67.45,2,    31.73,2,     0.06,2,     2.14,2,   2337.0,2,   7.5903,2,    25.00
  29HE20100208,   A21,    41,  1,     13,     13,2,20100225,   0,-42.2240, -31.7270, 4654,   1248.1,   2.7219,  34.5951,2,    180.3,2,    178.8,2,    66.54,2,    33.55,2,     0.06,2,     2.29,2,   2332.2,2,   7.5702,2,    25.00
  29HE20100208,   A21,    41,  1,     14,     14,2,20100225,   0,-42.2240, -31.7270, 4654,   1000.0,   2.7491,  34.4692,2,    185.4,2,    183.6,2,    61.25,2,    34.62,2,     0.06,2,     2.34,2,   2322.6,2,   7.5626,2,    25.00
  29HE20100208,   A21,    41,  1,     15,     15,2,20100225,   0,-42.2240, -31.7270, 4654,    897.6,   2.7317,  34.3895,2,    196.6,2,    194.4,2,    54.74,2,    34.26,2,     0.06,2,     2.34,2,   2315.5,2,   7.5679,2,    25.00
  29HE20100208,   A21,    41,  1,     16,     16,2,20100225,   0,-42.2240, -31.7270, 4654,    798.0,   2.9111,  34.3402,2,    207.3,2,    205.3,2,    48.45,2,    33.69,2,     0.06,2,     2.28,2,   2307.9,2,   7.5836,2,    25.00
  29HE20100208,   A21,    41,  1,     17,     17,2,20100225,   0,-42.2240, -31.7270, 4654,    598.8,   2.9613,  34.2003,2,    248.9,2,    245.4,2,    31.51,2,    31.26,2,     0.06,2,     2.10,2,   2294.3,2,   7.6251,2,    25.00
  29HE20100208,   A21,    41,  1,     18,     18,2,20100225,   0,-42.2240, -31.7270, 4654,    397.7,   3.5916,  34.1506,2,    269.9,2,    266.4,2,    20.09,2,    28.63,2,     0.07,2,     1.92,2,   2282.5,2,   7.6573,2,    25.00
  29HE20100208,   A21,    41,  1,     19,     19,2,20100225,   0,-42.2240, -31.7270, 4654,    196.6,   4.8985,  34.1765,2,    271.3,2,    267.4,2,    10.00,2,    22.98,2,     0.08,2,     1.61,2,   2274.4,2,   7.6862,2,    25.00
  29HE20100208,   A21,    41,  1,     20,     20,2,20100225,   0,-42.2240, -31.7270, 4654,    147.1,   5.7511,  34.2343,2,    273.4,2,    267.1,2,     8.85,2,    23.62,2,     0.09,2,     1.62,2,   -999.0,9,-999.0000,9,  -999.00
  29HE20100208,   A21,    41,  1,     21,     21,2,20100225,   0,-42.2240, -31.7270, 4654,     99.5,   7.0236,  34.3087,2,    275.3,2,   -999.0,9,     4.96,2,    16.98,2,     0.08,2,     1.27,2,   -999.0,9,-999.0000,9,  -999.00
  29HE20100208,   A21,    41,  1,     22,     22,2,20100225,   0,-42.2240, -31.7270, 4654,     49.9,  11.2651,  34.2605,2,    275.3,2,    263.4,2,     1.25,2,     5.83,2,     0.16,2,     0.67,2,   2275.9,2,   7.9479,2,    25.00
  29HE20100208,   A21,    41,  1,     23,     23,2,20100225,   0,-42.2240, -31.7270, 4654,     25.7,  14.3724,  34.1503,2,    267.1,2,    263.0,2,     1.39,2,     5.60,2,     0.16,2,     0.66,2,   -999.0,9,-999.0000,9,  -999.00
  29HE20100208,   A21,    41,  1,     24,     24,2,20100225,   0,-42.2240, -31.7270, 4654,      9.9,  14.4216,  34.1414,2,   3276.0,4,    241.2,2,     1.44,2,     5.71,2,     0.16,2,     0.68,2,   2275.3,2,   7.9493,2,    25.00