BOTTLE,20220207CCHSIOENA
EXPOCODE,SECT_ID,STNNBR,CASTNO,SAMPNO,BTLNBR,BTLNBR_FLAG_W,DATE,TIME,LATITUDE,LONGITUDE,DEPTH,CTDPRS,CTDTMP,CTDSAL,CTDSAL_FLAG_W,CTDOXY,CTDOXY_FLAG_W,OXYGEN,OXYGEN_FLAG_W,SILCAT,SILCAT_FLAG_W,NITRAT,NITRAT_FLAG_W,NITRIT,NITRIT_FLAG_W,PHSPHT,PHSPHT_FLAG_W,ALKALI,ALKALI_FLAG_W,PH_SWS,PH_SWS_FLAG_W,PH_TMP
,,,,,,,,,,,METERS,DBAR,ITS-90,PSS-78,,UMOL/KG,,UMOL/KG,,UMOL/KG,,UMOL/KG,,UMOL/KG,,UMOL/KG,,UMOL/KG,,,,DEG C
  29HE20100208,   A21,    54,  1,      1,      1,2,20100308,   0,-35.0673,  16.0048, 4387,   4443.3,   1.0294,  34.7324,2,    217.0,2,    216.2,2,   110.88,2,    31.66,2,     0.08,2,     2.04,2,   -999.0,9,-999.0000,9,  -999.00
  29HE20100208,   A21,    54,  1,      2,      2,2,20100308,   0,-35.0673,  16.0048, 4387,   3998.4,   1.1046,  34.7436,2,    217.5,2,    216.5,2,   106.94,2,    31.20,2,     0.08,2,     2.01,2,   -999.0,9,-999.0000,9,  -999.00
  29HE20100208,   A21,    54,  1,      3,      3,2,20100308,   0,-35.0673,  16.0048, 4387,   3499.8,   1.4379,  34.7754,2,    220.4,2,    218.5,2,    93.85,2,    29.71,2,     0.08,2,     1.91,2,   -999.0,9,-999.0000,9,  -999.00
  29HE20100208,   A21,    54,  1,      4,      4,2,20100308,   0,-35.0673,  16.0048, 4387,   3251.2,   1.8372,  34.8158,2,    223.5,2,    223.2,2,  -999.00,9,  -999.00,9,  -999.00,9,  -999.00,9,   -999.0,9,-999.0000,9,  -999.00
  29HE20100208,   A21,    54,  1,      5,      5,2,20100308,   0,-35.0673,  16.0048, 4387,   2997.7,   2.0696,  34.8378,2,    226.2,2,    225.4,2,  -999.00,9,  -999.00,9,  -999.00,9,  -999.00,9,   -999.0,9,-999.0000,9,  -999.00
  29HE20100208,   A21,    54,  1,      6,      6,2,20100308,   0,-35.0673,  16.0048, 4387,   2748.1,   2.2266,  34.8493,2,    228.0,2,    226.7,2,    62.29,2,    26.06,2,     0.08,2,     1.67,2,   -999.0,9,-999.0000,9,  -999.00
  29HE20100208,   A21,    54,  1,      7,      7,2,20100308,   0,-35.0673,  16.0048, 4387,   2501.0,   2.3253,  34.8486,2,    226.1,2,    225.5,2,    60.32,2,    25.96,2,     0.08,2,     1.67,2,   -999.0,9,-999.0000,9,  -999.00
  29HE20100208,   A21,    54,  1,      8,      8,2,20100308,   0,-35.0673,  16.0048, 4387,   2249.8,   2.3950,  34.8455,2,    224.3,2,    223.2,2,    58.72,2,    26.15,2,     0.08,2,     1.67,2,   -999.0,9,-999.0000,9,  -999.00
  29HE20100208,   A21,    54,  1,      9,      9,2,20100308,   0,-35.0673,  16.0048, 4387,   1998.5,   2.4861,  34.8423,2,    222.1,2,    220.8,2,    57.11,2,    26.32,2,     0.08,2,     1.68,2,   -999.0,9,-999.0000,9,  -999.00
  29HE20100208,   A21,    54,  1,     10,     10,2,20100308,   0,-35.0673,  16.0048, 4387,   1748.7,   2.6164,  34.8303,2,    216.6,2,    215.7,2,    56.18,2,    27.01,2,     0.08,2,     1.72,2,   -999.0,9,-999.0000,9,  -999.00
  29HE20100208,   A21,    54,  1,     11,     11,2,20100308,   0,-35.0673,  16.0048, 4387,   1500.4,   2.7213,  34.8039,2,    208.0,2,    206.1,2,    57.35,2,    28.20,2,     0.08,2,     1.80,2,   -999.0,9,-999.0000,9,  -999.00
  29HE20100208,   A21,    54,  1,     12,     12,2,20100308,   0,-35.0673,  16.0048, 4387,   1250.7,   2.8085,  34.7411,2,    193.8,2,    191.7,2,    62.29,2,    30.32,2,     0.08,2,     1.94,2,   -999.0,9,-999.0000,9,  -999.00
  29HE20100208,   A21,    54,  1,     13,     13,2,20100308,   0,-35.0673,  16.0048, 4387,    998.4,   2.9815,  34.6331,2,    176.0,2,    176.0,2,    68.56,2,    33.37,2,     0.08,2,     2.15,2,   -999.0,9,-999.0000,9,  -999.00
  29HE20100208,   A21,    54,  1,     14,     14,2,20100308,   0,-35.0673,  16.0048, 4387,    898.9,   3.1959,  34.6021,2,    170.3,2,    171.1,2,    69.44,2,    34.06,2,     0.08,2,     2.20,2,   -999.0,9,-999.0000,9,  -999.00
  29HE20100208,   A21,    54,  1,     15,     15,2,20100308,   0,-35.0673,  16.0048, 4387,    799.1,   3.3978,  34.5507,2,    170.7,2,    169.6,2,    58.32,2,    30.60,2,     0.08,2,     2.06,2,   -999.0,9,-999.0000,9,  -999.00
  29HE20100208,   A21,    54,  1,     16,     16,2,20100308,   0,-35.0673,  16.0048, 4387,    599.2,   4.3359,  34.5155,2,    170.6,2,    170.6,2,    55.76,2,    33.63,2,     0.08,2,     2.18,2,   -999.0,9,-999.0000,9,  -999.00
  29HE20100208,   A21,    54,  1,     17,     17,2,20100308,   0,-35.0673,  16.0048, 4387,    398.2,   6.1555,  34.5330,2,    183.4,2,    180.9,2,    35.15,2,    29.44,2,     0.08,2,     1.90,2,   -999.0,9,-999.0000,9,  -999.00
  29HE20100208,   A21,    54,  1,     18,     18,2,20100308,   0,-35.0673,  16.0048, 4387,    298.0,   9.4736,  34.7989,2,    197.1,2,    193.8,2,    15.21,2,    20.44,2,     0.08,2,     1.37,2,   -999.0,9,-999.0000,9,  -999.00
  29HE20100208,   A21,    54,  1,     19,     19,2,20100308,   0,-35.0673,  16.0048, 4387,    201.4,  12.4014,  35.1136,2,    197.2,2,    193.1,2,     9.63,2,    14.68,2,     0.09,2,     1.06,2,   -999.0,9,-999.0000,9,  -999.00
  29HE20100208,   A21,    54,  1,     20,     20,2,20100308,   0,-35.0673,  16.0048, 4387,    152.1,  15.1522,  35.3235,2,    200.4,2,    196.5,2,     7.00,2,     9.15,2,     0.09,2,     0.77,2,   -999.0,9,-999.0000,9,  -999.00
  29HE20100208,   A21,    54,  1,     21,     21,2,20100308,   0,-35.0673,  16.0048, 4387,    100.1,  18.0472,  35.5041,2,    217.4,2,    212.1,2,     3.80,2,     1.83,2,     0.11,2,     0.43,2,   -999.0,9,-999.0000,9,  -999.00
  29HE20100208,   A21,    54,  1,     22,     22,2,20100308,   0,-35.0673,  16.0048, 4387,     50.4,  20.7445,  35.7005,2,    227.1,2,    221.9,2,     3.62,2,     0.65,2,     0.08,2,     0.28,2,   -999.0,9,-999.0000,9,  -999.00
  29HE20100208,   A21,    54,  1,     23,     23,2,20100308,   0,-35.0673,  16.0048, 4387,     26.4,  20.8565,  35.6958,2,    229.3,2,    222.7,2,     3.74,2,     0.65,2,     0.08,2,     0.27,2,   -999.0,9,-999.0000,9,  -999.00
  29HE20100208,   A21,    54,  1,     24,     24,2,20100308,   0,-35.0673,  16.0048, 4387,      9.6,  21.2995,  35.6639,2,    226.9,2,    217.3,2,     3.59,2,     0.67,2,     0.08,2,     0.27,2,   -999.0,9,-999.0000,9,  -999.00
  29HE20100208,   A21,    55,  1,      1,      1,2,20100309,   0,-34.7645,  16.7542, 3237,   3255.0,   2.0461,  34.8381,2,    226.6,2,    229.8,2,    68.61,2,    26.38,2,     0.09,2,     1.72,2,   2354.1,2,   7.6897,2,    25.00
  29HE20100208,   A21,    55,  1,      2,      2,2,20100309,   0,-34.7645,  16.7542, 3237,   2999.6,   2.1005,  34.8382,2,    227.4,2,    225.6,2,    66.78,2,    26.22,2,     0.08,2,     1.72,2,   2350.2,2,   7.6801,2,    25.00
  29HE20100208,   A21,    55,  1,      3,      3,2,20100309,   0,-34.7645,  16.7542, 3237,   2749.2,   2.1982,  34.8429,2,    226.9,2,    226.5,2,    63.50,2,    26.21,2,     0.09,2,     1.71,2,   2344.6,2,   7.6966,2,    25.00
  29HE20100208,   A21,    55,  1,      4,      4,2,20100309,   0,-34.7645,  16.7542, 3237,   2499.7,   2.3208,  34.8472,2,    227.1,2,    225.8,2,    59.58,2,    25.71,2,     0.09,2,     1.69,2,   2342.1,2,   7.6815,2,    25.00
  29HE20100208,   A21,    55,  1,      5,      5,2,20100309,   0,-34.7645,  16.7542, 3237,   2249.3,   2.4418,  34.8481,2,    225.4,2,    225.5,2,    56.20,2,    25.72,2,     0.08,2,     1.68,2,   2339.2,2,   7.6821,2,    25.00
  29HE20100208,   A21,    55,  1,      6,      6,2,20100309,   0,-34.7645,  16.7542, 3237,   1996.5,   2.5743,  34.8383,2,    221.2,2,    218.7,2,    55.58,2,    26.33,2,     0.09,2,     1.72,2,   2336.0,2,   7.6718,2,    25.00
  29HE20100208,   A21,    55,  1,      7,      7,2,20100309,   0,-34.7645,  16.7542, 3237,   1748.2,   2.7250,  34.8192,2,    213.5,2,    213.3,2,    54.49,2,    27.20,2,     0.09,2,     1.77,2,   2334.5,2,   7.6619,2,    25.00
  29HE20100208,   A21,    55,  1,      8,      8,2,20100309,   0,-34.7645,  16.7542, 3237,   1499.3,   2.7945,  34.7731,2,    201.2,2,    199.9,2,    58.36,2,    28.93,2,     0.09,2,     1.88,2,   2335.0,2,   7.6314,2,    25.00
  29HE20100208,   A21,    55,  1,      9,      9,2,20100309,   0,-34.7645,  16.7542, 3237,   1249.7,   2.8627,  34.6925,2,    186.5,2,    184.5,2,    63.29,2,    31.28,2,     0.09,2,     2.05,2,   2333.4,2,   7.5990,2,    25.00
  29HE20100208,   A21,    55,  1,     10,     10,2,20100309,   0,-34.7645,  16.7542, 3237,   1001.3,   3.2103,  34.5620,2,    173.3,2,    175.1,2,    64.90,2,    33.87,2,     0.09,2,     2.22,2,   2330.8,2,   7.5960,2,    25.00
  29HE20100208,   A21,    55,  1,     11,     11,2,20100309,   0,-34.7645,  16.7542, 3237,    900.2,   3.3625,  34.5012,2,    178.2,2,    180.3,2,    59.29,2,    33.93,2,     0.09,2,     2.23,2,   2323.6,2,   7.5721,2,    25.00
  29HE20100208,   A21,    55,  1,     12,     12,2,20100309,   0,-34.7645,  16.7542, 3237,    798.4,   3.6302,  34.4357,2,    187.6,2,    186.1,2,    51.09,2,    33.41,2,     0.09,2,     2.19,2,   2315.3,2,   7.5881,2,    25.00
  29HE20100208,   A21,    55,  1,     13,     13,2,20100309,   0,-34.7645,  16.7542, 3237,    598.6,   4.9589,  34.4185,2,    197.9,2,    195.7,2,    36.18,2,    30.79,2,     0.09,2,     2.03,2,   2302.6,2,   7.6224,2,    25.00
  29HE20100208,   A21,    55,  1,     14,     14,2,20100309,   0,-34.7645,  16.7542, 3237,    399.4,   7.5619,  34.5778,2,    198.8,2,    196.4,2,    20.50,2,    24.98,2,     0.09,2,     1.66,2,   2295.8,2,   7.6795,2,    25.00
  29HE20100208,   A21,    55,  1,     15,     15,2,20100309,   0,-34.7645,  16.7542, 3237,    300.9,   9.5975,  34.7786,2,    205.8,2,    202.7,2,    11.54,2,    19.35,2,     0.09,2,     1.34,2,   2297.4,2,   7.7472,2,    25.00
  29HE20100208,   A21,    55,  1,     16,     16,2,20100309,   0,-34.7645,  16.7542, 3237,    198.7,  11.6804,  35.0118,2,    211.1,2,    208.1,2,     7.26,2,    14.25,2,     0.09,2,     1.05,2,   2306.4,2,   7.7998,2,    25.00
  29HE20100208,   A21,    55,  1,     17,     17,2,20100309,   0,-34.7645,  16.7542, 3237,    149.7,  13.0506,  35.1488,2,    215.8,2,    212.2,2,     5.55,2,    10.96,2,     0.09,2,     0.88,2,   2311.6,2,   7.8395,2,    25.00
  29HE20100208,   A21,    55,  1,     18,     18,2,20100309,   0,-34.7645,  16.7542, 3237,    124.8,  13.4203,  35.0585,2,    225.5,2,    219.7,2,     4.23,2,     9.23,2,     0.09,2,     0.80,2,   -999.0,9,-999.0000,9,  -999.00
  29HE20100208,   A21,    55,  1,     19,     19,2,20100309,   0,-34.7645,  16.7542, 3237,    101.7,  14.7386,  35.1608,2,    221.3,2,    212.8,2,     3.81,2,     7.53,2,     0.10,2,     0.71,2,   2313.7,2,   7.8909,2,    25.00
  29HE20100208,   A21,    55,  1,     20,     20,2,20100309,   0,-34.7645,  16.7542, 3237,     73.9,  17.9084,  35.4908,2,    217.0,2,    212.6,2,     3.13,2,     1.99,2,     0.16,2,     0.45,2,   -999.0,9,-999.0000,9,  -999.00
  29HE20100208,   A21,    55,  1,     21,     21,2,20100309,   0,-34.7645,  16.7542, 3237,     49.3,  20.6398,  35.6515,2,    228.4,2,    227.2,2,     2.59,2,     0.62,2,     0.08,2,     0.28,2,   2339.6,2,   8.0160,2,    25.00
  29HE20100208,   A21,    55,  1,     22,     22,2,20100309,   0,-34.7645,  16.7542, 3237,     25.6,  21.1195,  35.6848,2,    228.3,2,    223.4,2,     2.70,2,     0.62,2,     0.08,2,     0.26,2,   -999.0,9,-999.0000,9,  -999.00
  29HE20100208,   A21,    55,  1,     23,     23,2,20100309,   0,-34.7645,  16.7542, 3237,     11.6,  21.2638,  35.6757,2,    227.2,2,    222.5,2,     2.72,2,     0.63,2,     0.08,2,     0.27,2,   2339.3,2,   8.0225,2,    25.00
  29HE20100208,   A21,    56,  1,      1,      1,2,20100309,   0,-34.4592,  17.5032, 1588,   1563.3,   3.0310,  34.7712,2,    199.2,2,    198.4,2,    51.53,2,    29.04,2,     0.08,2,     1.90,2,   2328.0,3,   7.6348,2,    25.00
  29HE20100208,   A21,    56,  1,      2,      2,2,20100309,   0,-34.4592,  17.5032, 1588,   1250.8,   2.9443,  34.6218,2,    179.2,2,    176.7,2,    64.66,2,    33.09,2,     0.08,2,     2.16,2,   2332.5,2,   7.5850,2,    25.00
  29HE20100208,   A21,    56,  1,      3,      3,2,20100309,   0,-34.4592,  17.5032, 1588,   1000.6,   3.3089,  34.4841,2,    182.1,2,    176.9,2,    50.50,2,    33.75,2,     0.08,2,     2.21,2,   2318.6,2,   7.5763,2,    25.00
  29HE20100208,   A21,    56,  1,      4,      4,2,20100309,   0,-34.4592,  17.5032, 1588,    901.9,   3.6297,  34.4302,2,    188.4,2,    188.0,2,    56.24,2,    34.13,2,     0.08,2,     2.23,2,   2314.6,2,   7.5870,2,    25.00
  29HE20100208,   A21,    56,  1,      5,      5,2,20100309,   0,-34.4592,  17.5032, 1588,    800.1,   4.1598,  34.3927,2,    197.5,2,    196.4,2,    41.69,2,    32.45,2,     0.08,2,     2.13,2,   2307.2,2,   7.6035,2,    25.00
  29HE20100208,   A21,    56,  1,      6,      6,2,20100309,   0,-34.4592,  17.5032, 1588,    601.3,   4.5990,  34.2624,2,    235.3,2,    231.8,2,    21.30,2,    29.11,2,     0.07,2,     1.90,2,   2286.4,2,   7.6477,2,    25.00
  29HE20100208,   A21,    56,  1,      7,      7,2,20100309,   0,-34.4592,  17.5032, 1588,    401.8,   7.9001,  34.5539,2,    217.9,2,    214.4,2,    12.57,2,    22.86,2,     0.08,2,     1.52,2,   2290.3,2,   7.7058,2,    25.00
  29HE20100208,   A21,    56,  1,      8,      8,2,20100309,   0,-34.4592,  17.5032, 1588,    298.4,   9.4094,  34.7050,2,    227.2,2,    221.0,2,     7.77,2,    18.12,2,     0.09,2,     1.26,2,   2297.5,2,   7.7574,2,    25.00
  29HE20100208,   A21,    56,  1,      9,      9,2,20100309,   0,-34.4592,  17.5032, 1588,    201.6,  10.9338,  34.8746,2,    227.6,2,    222.3,2,     5.43,2,    14.46,2,     0.09,2,     1.07,2,   2302.4,2,   7.7987,2,    25.00
  29HE20100208,   A21,    56,  1,     10,     10,2,20100309,   0,-34.4592,  17.5032, 1588,    148.9,  12.3298,  35.0439,2,    222.8,2,    220.4,2,     4.68,2,    11.77,2,     0.09,2,     0.92,2,   2307.5,2,   7.8286,2,    25.00
  29HE20100208,   A21,    56,  1,     11,     11,2,20100309,   0,-34.4592,  17.5032, 1588,    122.3,  13.1564,  35.1471,2,    219.5,2,    214.9,2,     4.91,2,    10.25,2,     0.09,2,     0.84,2,   -999.0,9,-999.0000,9,  -999.00
  29HE20100208,   A21,    56,  1,     12,     12,2,20100309,   0,-34.4592,  17.5032, 1588,    100.1,  13.3645,  35.0574,2,    228.5,2,    223.9,2,     3.75,2,     9.01,2,     0.09,2,     0.80,2,   2310.5,2,   7.8687,2,    25.00
  29HE20100208,   A21,    56,  1,     13,     13,2,20100309,   0,-34.4592,  17.5032, 1588,     74.8,  13.8652,  35.0173,2,    233.9,2,    229.2,2,     2.93,2,     8.00,2,     0.10,2,     0.74,2,   -999.0,9,-999.0000,9,  -999.00
  29HE20100208,   A21,    56,  1,     14,     14,2,20100309,   0,-34.4592,  17.5032, 1588,     51.2,  18.1014,  35.4271,2,    203.8,2,    203.4,2,     4.32,2,     4.03,2,     0.46,2,     0.55,2,   2327.1,2,   7.9417,2,    25.00
  29HE20100208,   A21,    56,  1,     15,     15,2,20100309,   0,-34.4592,  17.5032, 1588,     25.7,  20.6262,  35.3562,2,    262.1,2,    256.2,2,     0.97,2,     0.66,2,     0.08,2,     0.26,2,   -999.0,9,-999.0000,9,  -999.00
  29HE20100208,   A21,    56,  1,     16,     16,2,20100309,   0,-34.4592,  17.5032, 1588,     10.2,  21.9570,  35.4725,2,    231.3,2,    226.6,2,     1.63,2,     0.66,2,     0.08,2,     0.26,2,   2338.7,2,   8.0484,2,    25.00