BOTTLE,20220207CCHSIOENA
EXPOCODE,SECT_ID,STNNBR,CASTNO,SAMPNO,BTLNBR,BTLNBR_FLAG_W,DATE,TIME,LATITUDE,LONGITUDE,DEPTH,CTDPRS,CTDTMP,CTDSAL,CTDSAL_FLAG_W,CTDOXY,CTDOXY_FLAG_W,OXYGEN,OXYGEN_FLAG_W,SILCAT,SILCAT_FLAG_W,NITRAT,NITRAT_FLAG_W,NITRIT,NITRIT_FLAG_W,PHSPHT,PHSPHT_FLAG_W,ALKALI,ALKALI_FLAG_W,PH_SWS,PH_SWS_FLAG_W,PH_TMP
,,,,,,,,,,,METERS,DBAR,ITS-90,PSS-78,,UMOL/KG,,UMOL/KG,,UMOL/KG,,UMOL/KG,,UMOL/KG,,UMOL/KG,,UMOL/KG,,,,DEG C
  29HE20100208,   A21,    14,  1,      1,      1,2,20100212,   0,-50.8498, -52.7013, 2072,   2048.1,   1.5003,  34.7189,2,    189.0,2,    190.0,2,    97.87,2,    32.39,2,     0.07,2,     2.32,2,   2363.1,2,   7.5918,2,    25.00
  29HE20100208,   A21,    14,  1,      2,      2,2,20100212,   0,-50.8498, -52.7013, 2072,   1998.3,   1.5425,  34.7174,2,    188.2,2,    189.1,2,   100.57,2,    32.39,2,     0.07,2,     2.31,2,   2363.2,2,   7.5936,2,    25.00
  29HE20100208,   A21,    14,  1,      3,      3,2,20100212,   0,-50.8498, -52.7013, 2072,   1749.5,   1.9967,  34.7007,2,    177.4,2,    193.9,2,    89.56,2,    32.81,2,     0.05,2,     2.32,2,   2358.2,2,   7.5803,2,    25.00
  29HE20100208,   A21,    14,  1,      4,      4,2,20100212,   0,-50.8498, -52.7013, 2072,   1496.8,   2.1814,  34.6714,2,    173.8,2,    188.4,2,    84.83,2,    33.30,2,     0.05,2,     2.37,2,   2352.8,2,   7.5700,2,    25.00
  29HE20100208,   A21,    14,  1,      5,      5,2,20100212,   0,-50.8498, -52.7013, 2072,   1249.5,   2.3176,  34.6168,2,    169.4,2,    192.0,2,    68.14,2,    29.23,3,     0.04,2,     2.14,2,   2346.4,2,   7.5614,2,    25.00
  29HE20100208,   A21,    14,  1,      6,      6,2,20100212,   0,-50.8498, -52.7013, 2072,    995.0,   2.5962,  34.5121,2,    174.4,2,    211.9,2,    68.50,2,    34.52,2,     0.06,2,     2.44,2,   2334.5,2,   7.5586,2,    25.00
  29HE20100208,   A21,    14,  1,      7,      7,2,20100212,   0,-50.8498, -52.7013, 2072,    896.2,   2.6987,  34.4841,2,    178.0,2,    215.0,2,    65.33,2,    34.49,2,     0.06,2,     2.44,2,   2329.7,2,   7.5572,2,    25.00
  29HE20100208,   A21,    14,  1,      8,      8,2,20100212,   0,-50.8498, -52.7013, 2072,    800.7,   2.7531,  34.4639,2,    180.7,2,    212.0,2,    63.42,2,    34.29,2,     0.06,2,     2.43,2,   2331.1,2,   7.5551,2,    25.00
  29HE20100208,   A21,    14,  1,      9,      9,2,20100212,   0,-50.8498, -52.7013, 2072,    600.8,   2.8733,  34.3416,2,    206.2,2,    240.0,2,    48.38,2,    33.24,2,     0.06,2,     2.35,2,   2310.7,2,   7.5806,2,    25.00
  29HE20100208,   A21,    14,  1,     10,     10,2,20100212,   0,-50.8498, -52.7013, 2072,    399.5,   2.6808,  34.1688,2,    261.1,2,    296.8,2,    29.88,2,    30.32,2,     0.06,2,     2.14,2,   2290.5,2,   7.6371,2,    25.00
  29HE20100208,   A21,    14,  1,     11,     11,2,20100212,   0,-50.8498, -52.7013, 2072,    300.0,   2.7878,  34.1239,2,    280.0,2,    275.6,2,    23.38,2,    28.86,2,     0.06,2,     2.08,2,   2286.0,2,   7.6574,2,    25.00
  29HE20100208,   A21,    14,  1,     12,     12,2,20100212,   0,-50.8498, -52.7013, 2072,    201.1,   3.0926,  34.0831,2,    287.5,2,    223.2,2,    18.26,2,    27.38,2,     0.06,2,     1.95,2,   2280.3,2,   7.6774,2,    25.00
  29HE20100208,   A21,    14,  1,     13,     13,2,20100212,   0,-50.8498, -52.7013, 2072,    149.7,   3.3592,  34.0812,2,    301.7,2,    227.6,2,    14.36,2,    26.14,2,     0.06,2,     1.87,2,   2277.1,2,   7.6935,2,    25.00
  29HE20100208,   A21,    14,  1,     14,     14,2,20100212,   0,-50.8498, -52.7013, 2072,    123.7,   3.4291,  34.0643,2,    308.0,2,    215.1,2,    13.72,2,    25.77,2,     0.07,2,     1.84,2,   -999.0,9,-999.0000,9,  -999.00
  29HE20100208,   A21,    14,  1,     15,     15,2,20100212,   0,-50.8498, -52.7013, 2072,    101.4,   3.7259,  34.0645,2,    309.8,2,    212.2,2,    12.31,2,    24.76,2,     0.49,2,     1.81,2,   2276.7,2,   7.7131,2,    25.00
  29HE20100208,   A21,    14,  1,     16,     16,2,20100212,   0,-50.8498, -52.7013, 2072,     75.2,   4.4073,  34.0758,2,    307.7,2,    208.2,2,     8.99,2,    22.22,2,     0.39,2,     1.74,2,   -999.0,9,-999.0000,9,  -999.00
  29HE20100208,   A21,    14,  1,     17,     17,2,20100212,   0,-50.8498, -52.7013, 2072,     51.0,   7.5297,  34.0179,2,    297.2,2,    197.9,2,     2.08,2,    17.92,2,     0.21,2,     1.42,2,   2276.3,2,   7.8100,2,    25.00
  29HE20100208,   A21,    14,  1,     18,     18,2,20100212,   0,-50.8498, -52.7013, 2072,     25.1,   8.0813,  34.0263,2,    296.8,2,    196.0,2,     0.88,2,    17.02,2,     0.20,2,     1.31,2,   -999.0,9,-999.0000,9,  -999.00
  29HE20100208,   A21,    14,  1,     19,     19,2,20100212,   0,-50.8498, -52.7013, 2072,     11.4,   8.1173,  34.0275,2,    296.5,2,   -999.0,9,     1.07,2,    17.02,2,     0.20,2,     1.31,2,   2280.6,2,   7.8259,2,    25.00
  29HE20100208,   A21,    15,  1,      1,      1,2,20100212,   0,-50.8305, -52.1590, 2064,   2041.3,   1.5120,  34.7186,2,    189.6,2,    193.7,2,   102.20,2,    32.41,2,     0.06,2,     2.34,2,   -999.0,9,-999.0000,9,  -999.00
  29HE20100208,   A21,    15,  1,      2,      2,2,20100212,   0,-50.8305, -52.1590, 2064,   1749.1,   1.9948,  34.6996,2,    176.3,2,    178.2,2,    90.79,2,    32.91,2,     0.05,2,     2.35,2,   -999.0,9,-999.0000,9,  -999.00
  29HE20100208,   A21,    15,  1,      3,      3,2,20100212,   0,-50.8305, -52.1590, 2064,   1498.7,   2.1696,  34.6688,2,    172.8,2,    181.9,2,    84.13,2,    33.10,2,     0.06,2,     2.39,2,   -999.0,9,-999.0000,9,  -999.00
  29HE20100208,   A21,    15,  1,      4,      4,2,20100212,   0,-50.8305, -52.1590, 2064,   1249.9,   2.3405,  34.6108,2,    169.4,2,    196.4,2,    79.74,2,    34.20,2,     0.05,2,     2.44,2,   -999.0,9,-999.0000,9,  -999.00
  29HE20100208,   A21,    15,  1,      5,      5,2,20100212,   0,-50.8305, -52.1590, 2064,   1002.1,   2.5257,  34.5285,2,    172.6,2,    183.0,2,    70.62,2,    34.71,2,     0.05,2,     2.48,2,   -999.0,9,-999.0000,9,  -999.00
  29HE20100208,   A21,    15,  1,      6,      6,2,20100212,   0,-50.8305, -52.1590, 2064,    899.1,   2.6362,  34.4831,2,    177.8,2,    198.0,2,    65.33,2,    34.59,2,     0.05,2,     2.47,2,   -999.0,9,-999.0000,9,  -999.00
  29HE20100208,   A21,    15,  1,      7,      7,2,20100212,   0,-50.8305, -52.1590, 2064,    800.2,   2.6893,  34.4277,2,    186.1,2,    198.1,2,    60.11,2,    34.42,2,     0.05,2,     2.45,2,   -999.0,9,-999.0000,9,  -999.00
  29HE20100208,   A21,    15,  1,      8,      8,2,20100212,   0,-50.8305, -52.1590, 2064,    600.0,   2.7401,  34.2843,2,    221.8,2,    228.6,2,    43.19,2,    32.64,2,     0.05,2,     2.32,2,   -999.0,9,-999.0000,9,  -999.00
  29HE20100208,   A21,    15,  1,      9,      9,2,20100212,   0,-50.8305, -52.1590, 2064,    400.0,   2.8316,  34.1469,2,    269.1,2,    307.0,2,    26.40,2,    29.53,2,     0.06,2,     2.10,2,   -999.0,9,-999.0000,9,  -999.00
  29HE20100208,   A21,    15,  1,     10,     10,2,20100212,   0,-50.8305, -52.1590, 2064,    300.1,   3.2307,  34.1303,2,    276.0,2,    256.1,2,    21.14,2,    28.03,2,     0.06,2,     2.02,2,   -999.0,9,-999.0000,9,  -999.00
  29HE20100208,   A21,    15,  1,     11,     11,2,20100212,   0,-50.8305, -52.1590, 2064,    200.3,   3.3383,  34.0818,2,    298.6,2,    230.4,2,    15.20,2,    26.17,2,     0.06,2,     1.90,2,   -999.0,9,-999.0000,9,  -999.00
  29HE20100208,   A21,    15,  1,     12,     12,2,20100212,   0,-50.8305, -52.1590, 2064,    154.6,   3.5534,  34.0769,2,    303.0,2,    219.2,2,    12.74,2,    25.42,2,     0.06,2,     1.84,2,   -999.0,9,-999.0000,9,  -999.00
  29HE20100208,   A21,    15,  1,     13,     13,2,20100212,   0,-50.8305, -52.1590, 2064,    122.6,   3.8076,  34.0729,2,    307.1,2,    200.7,2,    11.04,2,    24.42,2,     0.29,2,     1.80,2,   -999.0,9,-999.0000,9,  -999.00
  29HE20100208,   A21,    15,  1,     14,     14,2,20100212,   0,-50.8305, -52.1590, 2064,    101.0,   4.0488,  34.0685,2,    309.4,2,    207.7,2,     9.82,2,    23.15,2,     0.50,2,     1.77,2,   -999.0,9,-999.0000,9,  -999.00
  29HE20100208,   A21,    15,  1,     15,     15,2,20100212,   0,-50.8305, -52.1590, 2064,     72.9,   4.6553,  34.0676,2,    310.8,2,    205.1,2,     7.89,2,    21.76,2,     0.31,2,     1.72,2,   -999.0,9,-999.0000,9,  -999.00
  29HE20100208,   A21,    15,  1,     16,     16,2,20100212,   0,-50.8305, -52.1590, 2064,     49.6,   7.0985,  34.0059,2,    304.2,2,    196.3,2,     2.52,2,    18.67,2,     0.21,2,     1.42,2,   -999.0,9,-999.0000,9,  -999.00
  29HE20100208,   A21,    15,  1,     17,     17,2,20100212,   0,-50.8305, -52.1590, 2064,     25.4,   7.1785,  34.0121,2,    306.4,2,    199.9,2,     2.37,2,    18.57,2,     0.21,2,     1.41,2,   -999.0,9,-999.0000,9,  -999.00
  29HE20100208,   A21,    15,  1,     18,     18,2,20100212,   0,-50.8305, -52.1590, 2064,     11.5,   7.2710,  34.0108,2,    305.9,2,    204.2,2,     2.37,2,    18.53,2,     0.21,2,     1.41,2,   -999.0,9,-999.0000,9,  -999.00
  29HE20100208,   A21,    16,  1,      1,      1,2,20100212,   0,-50.8108, -51.6092, 2086,   2056.5,   1.5076,  34.7193,2,    188.1,2,    190.9,2,    82.04,3,    25.56,3,     0.06,2,     2.08,2,   2360.7,2,   7.6038,2,    25.00
  29HE20100208,   A21,    16,  1,      2,      2,2,20100212,   0,-50.8108, -51.6092, 2086,   2000.0,   1.5933,  34.7181,2,    186.3,2,    188.0,2,    94.03,2,    31.67,2,     0.06,2,     2.26,2,   2360.5,2,   7.5913,2,    25.00
  29HE20100208,   A21,    16,  1,      3,      3,2,20100212,   0,-50.8108, -51.6092, 2086,   1750.0,   1.9740,  34.7002,2,    177.2,2,    202.2,2,    84.96,2,    32.88,2,     0.05,2,     2.35,2,   2359.2,2,   7.5816,2,    25.00
  29HE20100208,   A21,    16,  1,      4,      4,2,20100212,   0,-50.8108, -51.6092, 2086,   1499.4,   2.1412,  34.6721,2,    172.7,2,    197.2,2,    66.60,3,    25.61,3,     0.04,2,     1.97,3,   2352.8,2,   7.5683,2,    25.00
  29HE20100208,   A21,    16,  1,      5,      5,2,20100212,   0,-50.8108, -51.6092, 2086,   1249.4,   2.2775,  34.6290,2,    169.8,2,    202.3,2,    78.91,2,    33.78,2,     0.05,2,     2.41,2,   2348.5,2,   7.5859,3,    25.00
  29HE20100208,   A21,    16,  1,      6,      6,2,20100212,   0,-50.8108, -51.6092, 2086,    999.1,   2.4414,  34.5572,2,    172.4,2,    212.6,2,    64.53,2,    31.90,2,     0.04,2,     2.24,2,   2336.1,2,   7.5553,2,    25.00
  29HE20100208,   A21,    16,  1,      7,      7,2,20100212,   0,-50.8108, -51.6092, 2086,    900.3,   2.5221,  34.5223,2,    174.2,2,    218.9,2,    63.97,2,    33.49,2,     0.05,2,     2.37,2,   2333.3,2,   7.5441,2,    25.00
  29HE20100208,   A21,    16,  1,      8,      8,2,20100212,   0,-50.8108, -51.6092, 2086,    801.2,   2.5655,  34.4652,2,    180.8,2,    225.4,2,    56.53,2,    32.23,2,     0.05,2,     2.30,2,   2325.6,2,   7.5599,2,    25.00
  29HE20100208,   A21,    16,  1,      9,      9,2,20100212,   0,-50.8108, -51.6092, 2086,    600.1,   2.6376,  34.3257,2,    210.3,2,    254.5,2,    46.58,2,    32.80,2,     0.05,2,     2.35,2,   2308.1,2,   7.5819,2,    25.00
  29HE20100208,   A21,    16,  1,     10,     10,2,20100212,   0,-50.8108, -51.6092, 2086,    401.4,   2.3845,  34.1742,2,    260.5,2,    305.5,2,    29.84,2,    30.08,2,     0.05,2,     2.06,2,   2291.5,2,   7.6285,2,    25.00
  29HE20100208,   A21,    16,  1,     11,     11,2,20100212,   0,-50.8108, -51.6092, 2086,    300.8,   2.6104,  34.1228,2,    275.2,2,    280.0,2,    25.76,2,    29.18,2,     0.06,2,     2.16,2,   2284.7,2,   7.6529,2,    25.00
  29HE20100208,   A21,    16,  1,     12,     12,2,20100212,   0,-50.8108, -51.6092, 2086,    200.0,   2.8727,  34.0917,2,    291.0,2,    239.8,2,    18.37,2,    27.22,2,     0.06,2,     1.88,2,   2280.3,2,   7.6741,2,    25.00
  29HE20100208,   A21,    16,  1,     13,     13,2,20100212,   0,-50.8108, -51.6092, 2086,    150.2,   3.0806,  34.0711,2,    295.9,2,    230.9,2,    12.21,2,    20.09,2,     0.06,2,     1.60,2,   2275.9,2,   7.6814,2,    25.00
  29HE20100208,   A21,    16,  1,     14,     14,2,20100212,   0,-50.8108, -51.6092, 2086,    124.8,   3.1749,  34.0622,2,    301.1,2,    222.9,2,    13.20,2,    23.62,2,     0.09,2,     1.74,2,   -999.0,9,-999.0000,9,  -999.00
  29HE20100208,   A21,    16,  1,     15,     15,2,20100212,   0,-50.8108, -51.6092, 2086,    101.9,   3.3252,  34.0476,2,    305.8,2,    220.5,2,    13.04,2,    25.40,2,     0.39,2,     1.85,2,   2274.4,2,   7.6880,2,    25.00
  29HE20100208,   A21,    16,  1,     16,     16,2,20100212,   0,-50.8108, -51.6092, 2086,     76.2,   4.1592,  34.0167,2,    310.9,2,    220.9,2,     9.55,2,    22.91,2,     0.46,2,     1.78,2,   -999.0,9,-999.0000,9,  -999.00
  29HE20100208,   A21,    16,  1,     17,     17,2,20100212,   0,-50.8108, -51.6092, 2086,     50.4,   6.8480,  33.9698,2,    306.0,2,    215.2,2,     0.93,2,    14.17,2,     0.17,2,     1.24,2,   2276.1,2,   7.6995,2,    25.00
  29HE20100208,   A21,    16,  1,     18,     18,2,20100212,   0,-50.8108, -51.6092, 2086,     27.1,   6.9858,  33.9808,2,    307.5,2,    210.7,2,     0.78,2,    17.56,2,     0.20,2,     1.25,2,   -999.0,9,-999.0000,9,  -999.00
  29HE20100208,   A21,    16,  1,     19,     19,2,20100212,   0,-50.8108, -51.6092, 2086,     11.0,   7.0601,  33.9862,2,    307.5,2,    214.6,2,     1.19,2,    18.77,2,     0.22,2,     1.40,2,   2273.1,2,   7.7997,2,    25.00
  29HE20100208,   A21,    17,  1,      1,      1,2,20100213,   0,-50.7903, -51.0797, 2365,   2359.0,   1.1274,  34.7195,2,    199.5,2,    203.5,2,   109.15,2,    32.34,2,     0.06,2,     2.31,2,   -999.0,9,-999.0000,9,  -999.00
  29HE20100208,   A21,    17,  1,      2,      2,2,20100213,   0,-50.7903, -51.0797, 2365,   2246.4,   1.2098,  34.7217,2,    198.6,2,    201.4,2,    91.42,3,    26.31,3,     0.04,2,     1.94,3,   -999.0,9,-999.0000,9,  -999.00
  29HE20100208,   A21,    17,  1,      3,      3,2,20100213,   0,-50.7903, -51.0797, 2365,   1999.6,   1.6694,  34.7286,2,    188.9,2,    199.2,2,   101.08,2,    32.12,2,     0.05,2,     2.28,2,   -999.0,9,-999.0000,9,  -999.00
  29HE20100208,   A21,    17,  1,      4,      4,2,20100213,   0,-50.7903, -51.0797, 2365,   1749.3,   1.8805,  34.7136,2,    181.2,2,    193.7,2,    97.47,2,    32.71,2,     0.05,2,     2.32,2,   -999.0,9,-999.0000,9,  -999.00
  29HE20100208,   A21,    17,  1,      5,      5,2,20100213,   0,-50.7903, -51.0797, 2365,   1499.7,   2.0707,  34.6957,2,    176.8,2,    201.2,2,    91.27,2,    33.02,2,     0.05,2,     2.35,2,   -999.0,9,-999.0000,9,  -999.00
  29HE20100208,   A21,    17,  1,      6,      6,2,20100213,   0,-50.7903, -51.0797, 2365,   1250.0,   2.2292,  34.6495,2,    171.4,2,    201.8,2,    87.20,2,    33.93,2,     0.05,2,     2.40,2,   -999.0,9,-999.0000,9,  -999.00
  29HE20100208,   A21,    17,  1,      7,      7,2,20100213,   0,-50.7903, -51.0797, 2365,   1000.1,   2.3818,  34.5802,2,    171.9,2,    206.5,2,    79.09,2,    34.66,2,     0.05,2,     2.44,2,   -999.0,9,-999.0000,9,  -999.00
  29HE20100208,   A21,    17,  1,      8,      8,2,20100213,   0,-50.7903, -51.0797, 2365,    901.4,   2.4995,  34.5326,2,    173.4,2,    215.4,2,    75.01,2,    34.90,2,     0.05,2,     2.46,2,   -999.0,9,-999.0000,9,  -999.00
  29HE20100208,   A21,    17,  1,      9,      9,2,20100213,   0,-50.7903, -51.0797, 2365,    799.6,   2.5620,  34.4822,2,    178.8,2,    222.1,2,    68.91,2,    34.96,2,     0.05,2,     2.46,2,   -999.0,9,-999.0000,9,  -999.00
  29HE20100208,   A21,    17,  1,     10,     10,2,20100213,   0,-50.7903, -51.0797, 2365,    601.2,   2.4943,  34.3392,2,    207.4,2,    254.4,2,    53.00,2,    34.03,2,     0.06,2,     2.39,2,   -999.0,9,-999.0000,9,  -999.00
  29HE20100208,   A21,    17,  1,     11,     11,2,20100213,   0,-50.7903, -51.0797, 2365,    399.6,   2.3947,  34.1725,2,    258.6,2,    306.2,2,    33.52,2,    31.03,2,     0.06,2,     2.19,2,   -999.0,9,-999.0000,9,  -999.00
  29HE20100208,   A21,    17,  1,     12,     12,2,20100213,   0,-50.7903, -51.0797, 2365,    300.7,   2.1878,  34.0914,2,    287.4,2,    293.5,2,    25.71,2,    29.47,2,     0.06,2,     2.09,2,   -999.0,9,-999.0000,9,  -999.00
  29HE20100208,   A21,    17,  1,     13,     13,2,20100213,   0,-50.7903, -51.0797, 2365,    195.8,   2.7418,  34.0745,2,    291.5,2,    241.6,2,    20.57,2,    28.05,2,     0.15,2,     1.99,2,   -999.0,9,-999.0000,9,  -999.00
  29HE20100208,   A21,    17,  1,     14,     14,2,20100213,   0,-50.7903, -51.0797, 2365,    149.8,   2.9936,  34.0592,2,    296.1,2,    219.4,2,    17.14,2,    27.19,2,     0.06,2,     2.01,2,   -999.0,9,-999.0000,9,  -999.00
  29HE20100208,   A21,    17,  1,     15,     15,2,20100213,   0,-50.7903, -51.0797, 2365,    124.1,   3.0407,  34.0454,2,    302.0,2,    219.4,2,    15.63,2,    26.70,2,     0.08,2,     1.89,2,   -999.0,9,-999.0000,9,  -999.00
  29HE20100208,   A21,    17,  1,     16,     16,2,20100213,   0,-50.7903, -51.0797, 2365,    100.2,   3.1105,  34.0331,2,    309.4,2,    223.5,2,    13.47,2,    25.42,2,     0.48,2,     1.86,2,   -999.0,9,-999.0000,9,  -999.00
  29HE20100208,   A21,    17,  1,     17,     17,2,20100213,   0,-50.7903, -51.0797, 2365,     74.4,   3.4352,  34.0344,2,    314.1,2,    222.4,2,    11.58,2,    23.91,2,     0.38,2,     1.82,2,   -999.0,9,-999.0000,9,  -999.00
  29HE20100208,   A21,    17,  1,     18,     18,2,20100213,   0,-50.7903, -51.0797, 2365,     50.5,   6.1226,  33.9873,2,    308.0,2,    212.8,2,     4.27,2,    20.15,2,     0.23,2,     1.53,2,   -999.0,9,-999.0000,9,  -999.00
  29HE20100208,   A21,    17,  1,     19,     19,2,20100213,   0,-50.7903, -51.0797, 2365,     26.0,   7.3321,  33.9604,2,    307.2,2,    211.8,2,     2.69,2,    18.91,2,     0.22,2,     1.39,2,   -999.0,9,-999.0000,9,  -999.00
  29HE20100208,   A21,    17,  1,     20,     20,2,20100213,   0,-50.7903, -51.0797, 2365,     11.1,   7.3912,  33.9590,2,    307.4,2,    309.3,2,     1.68,2,    18.72,2,     0.22,2,     1.39,2,   -999.0,9,-999.0000,9,  -999.00