BOTTLE,20220207CCHSIOENA
EXPOCODE,SECT_ID,STNNBR,CASTNO,SAMPNO,BTLNBR,BTLNBR_FLAG_W,DATE,TIME,LATITUDE,LONGITUDE,DEPTH,CTDPRS,CTDTMP,CTDSAL,CTDSAL_FLAG_W,CTDOXY,CTDOXY_FLAG_W,OXYGEN,OXYGEN_FLAG_W,SILCAT,SILCAT_FLAG_W,NITRAT,NITRAT_FLAG_W,NITRIT,NITRIT_FLAG_W,PHSPHT,PHSPHT_FLAG_W,ALKALI,ALKALI_FLAG_W,PH_SWS,PH_SWS_FLAG_W,PH_TMP
,,,,,,,,,,,METERS,DBAR,ITS-90,PSS-78,,UMOL/KG,,UMOL/KG,,UMOL/KG,,UMOL/KG,,UMOL/KG,,UMOL/KG,,UMOL/KG,,,,DEG C
  29HE20100208,   A21,    22,  1,      1,      1,2,20100218,   0,-50.6688, -47.8285, 2683,   2667.8,   0.6145,  34.6981,2,    209.9,2,    212.7,2,   118.85,2,    32.08,2,     0.06,2,     2.41,2,   2355.9,2,   7.5949,2,    25.00
  29HE20100208,   A21,    22,  1,      2,      2,2,20100218,   0,-50.6688, -47.8285, 2683,   2501.0,   1.1622,  34.7211,2,    199.5,2,    201.4,2,   108.78,2,    31.51,2,     0.06,2,     2.35,2,   2355.1,2,   7.6006,2,    25.00
  29HE20100208,   A21,    22,  1,      3,      3,2,20100218,   0,-50.6688, -47.8285, 2683,   2249.1,   1.3873,  34.7243,2,    193.2,2,    193.8,2,   106.13,2,    31.75,2,     0.06,2,     2.36,2,   2356.7,2,   7.5986,2,    25.00
  29HE20100208,   A21,    22,  1,      4,      4,2,20100218,   0,-50.6688, -47.8285, 2683,   2000.0,   1.6083,  34.7277,2,    188.9,2,    190.0,2,   100.89,2,    31.59,2,     0.06,2,     2.36,2,   2355.7,2,   7.5970,2,    25.00
  29HE20100208,   A21,    22,  1,      5,      5,2,20100218,   0,-50.6688, -47.8285, 2683,   1749.8,   1.8134,  34.7247,2,    184.4,2,    187.8,2,    94.96,2,    31.64,2,     0.07,2,     2.37,2,   2354.3,2,   7.5931,2,    25.00
  29HE20100208,   A21,    22,  1,      6,      6,2,20100218,   0,-50.6688, -47.8285, 2683,   1500.2,   1.8826,  34.7033,2,    180.1,2,    201.2,3,    92.99,2,    32.33,2,     0.06,2,     2.42,2,   2348.5,2,   7.5811,2,    25.00
  29HE20100208,   A21,    22,  1,      7,      7,2,20100218,   0,-50.6688, -47.8285, 2683,   1250.5,   2.0717,  34.6797,2,    174.6,2,    175.0,2,    88.16,2,    32.59,2,     0.07,2,     2.44,2,   2347.5,2,   7.5696,2,    25.00
  29HE20100208,   A21,    22,  1,      8,      8,2,20100218,   0,-50.6688, -47.8285, 2683,   1000.0,   2.2167,  34.6123,2,    172.9,2,    176.9,2,    80.24,2,    33.50,2,     0.07,2,     2.51,2,   2339.2,2,   7.5527,2,    25.00
  29HE20100208,   A21,    22,  1,      9,      9,2,20100218,   0,-50.6688, -47.8285, 2683,    900.6,   2.3528,  34.5915,2,    169.4,2,    170.8,2,    78.22,2,    33.83,2,     0.07,2,     2.54,2,   2337.7,2,   7.5549,2,    25.00
  29HE20100208,   A21,    22,  1,     10,     10,2,20100218,   0,-50.6688, -47.8285, 2683,    797.9,   2.4024,  34.5571,2,    171.4,2,    171.7,2,    75.13,2,    34.05,2,     0.07,2,     2.56,2,   2330.6,2,   7.5516,2,    25.00
  29HE20100208,   A21,    22,  1,     11,     11,2,20100218,   0,-50.6688, -47.8285, 2683,    599.8,   2.3977,  34.4335,2,    186.7,2,    187.1,2,    63.96,2,    34.09,2,     0.08,2,     2.57,2,   2318.7,2,   7.5516,2,    25.00
  29HE20100208,   A21,    22,  1,     12,     12,2,20100218,   0,-50.6688, -47.8285, 2683,    400.5,   2.4514,  34.2709,2,    225.1,2,    222.9,2,    44.22,2,    32.30,2,     0.08,2,     2.43,2,   2300.3,2,   7.5893,2,    25.00
  29HE20100208,   A21,    22,  1,     13,     13,2,20100218,   0,-50.6688, -47.8285, 2683,    300.9,   2.0047,  34.1618,2,    259.5,2,    258.1,2,    34.49,2,    30.66,2,     0.09,2,     2.32,2,   2290.5,2,   7.6190,2,    25.00
  29HE20100208,   A21,    22,  1,     14,     14,2,20100218,   0,-50.6688, -47.8285, 2683,    199.1,   2.1606,  34.1036,2,    277.5,2,    276.7,2,    26.98,2,    29.22,2,     0.11,2,     2.22,2,   2287.1,2,   7.6418,2,    25.00
  29HE20100208,   A21,    22,  1,     15,     15,2,20100218,   0,-50.6688, -47.8285, 2683,    147.9,   2.2228,  34.0470,2,    293.3,2,    292.7,2,    21.32,2,    27.81,2,     0.26,2,     2.13,2,   2279.5,2,   7.6646,2,    25.00
  29HE20100208,   A21,    22,  1,     16,     16,2,20100218,   0,-50.6688, -47.8285, 2683,    123.4,   2.3162,  34.0263,2,    299.8,2,    298.7,2,    18.98,2,    27.10,2,     0.34,2,     2.09,2,   -999.0,9,-999.0000,9,  -999.00
  29HE20100208,   A21,    22,  1,     17,     17,2,20100218,   0,-50.6688, -47.8285, 2683,    100.9,   2.3885,  34.0123,2,    304.8,2,    304.0,2,    16.95,2,    26.37,2,     0.45,2,     2.03,2,   2276.1,2,   7.6829,2,    25.00
  29HE20100208,   A21,    22,  1,     18,     18,2,20100218,   0,-50.6688, -47.8285, 2683,     72.9,   3.3739,  33.9654,2,    312.8,2,    311.6,2,    12.34,2,    24.06,2,     0.40,2,     1.95,2,   -999.0,9,-999.0000,9,  -999.00
  29HE20100208,   A21,    22,  1,     19,     19,2,20100218,   0,-50.6688, -47.8285, 2683,     49.0,   5.0225,  33.9270,2,    310.8,2,    310.5,2,     6.85,2,    21.44,2,     0.25,2,     1.70,2,   2271.1,2,   7.7632,2,    25.00
  29HE20100208,   A21,    22,  1,     20,     20,2,20100218,   0,-50.6688, -47.8285, 2683,     22.1,   5.1078,  33.9326,2,    311.8,2,    311.6,2,     6.84,2,    21.36,2,     0.25,2,     1.70,2,   -999.0,9,-999.0000,9,  -999.00
  29HE20100208,   A21,    22,  1,     21,     21,2,20100218,   0,-50.6688, -47.8285, 2683,     11.4,   5.1340,  33.9342,2,    311.8,2,    312.3,2,     6.70,2,    21.29,2,     0.25,2,     1.69,2,   2271.8,2,   7.7670,2,    25.00
  29HE20100208,   A21,    23,  1,      1,      1,2,20100218,   0,-50.6522, -47.1500, 2716,   2705.3,   0.6210,  34.6977,2,    210.3,2,   -999.0,9,  -999.00,9,  -999.00,9,  -999.00,9,  -999.00,9,   -999.0,9,-999.0000,9,  -999.00
  29HE20100208,   A21,    23,  1,      2,      2,2,20100218,   0,-50.6522, -47.1500, 2716,   2500.6,   1.0416,  34.7137,2,    200.9,2,   -999.0,9,  -999.00,9,  -999.00,9,  -999.00,9,  -999.00,9,   -999.0,9,-999.0000,9,  -999.00
  29HE20100208,   A21,    23,  1,      3,      3,2,20100218,   0,-50.6522, -47.1500, 2716,   2250.9,   1.2631,  34.7199,2,    195.7,2,   -999.0,9,  -999.00,9,  -999.00,9,  -999.00,9,  -999.00,9,   -999.0,9,-999.0000,9,  -999.00
  29HE20100208,   A21,    23,  1,      4,      4,2,20100218,   0,-50.6522, -47.1500, 2716,   1997.8,   1.5371,  34.7225,2,    189.0,2,   -999.0,9,  -999.00,9,  -999.00,9,  -999.00,9,  -999.00,9,   -999.0,9,-999.0000,9,  -999.00
  29HE20100208,   A21,    23,  1,      5,      5,2,20100218,   0,-50.6522, -47.1500, 2716,   1749.2,   1.7105,  34.7175,2,    184.8,2,   -999.0,9,  -999.00,9,  -999.00,9,  -999.00,9,  -999.00,9,   -999.0,9,-999.0000,9,  -999.00
  29HE20100208,   A21,    23,  1,      6,      6,2,20100218,   0,-50.6522, -47.1500, 2716,   1550.0,   1.8619,  34.7081,2,    180.0,2,   -999.0,9,  -999.00,9,  -999.00,9,  -999.00,9,  -999.00,9,   -999.0,9,-999.0000,9,  -999.00
  29HE20100208,   A21,    23,  1,      7,      7,2,20100218,   0,-50.6522, -47.1500, 2716,   1248.4,   2.0441,  34.6780,2,    175.4,2,   -999.0,9,  -999.00,9,  -999.00,9,  -999.00,9,  -999.00,9,   -999.0,9,-999.0000,9,  -999.00
  29HE20100208,   A21,    23,  1,      8,      8,2,20100218,   0,-50.6522, -47.1500, 2716,   1000.3,   2.1738,  34.6293,2,    173.2,2,   -999.0,9,  -999.00,9,  -999.00,9,  -999.00,9,  -999.00,9,   -999.0,9,-999.0000,9,  -999.00
  29HE20100208,   A21,    23,  1,      9,      9,2,20100218,   0,-50.6522, -47.1500, 2716,    900.9,   2.2978,  34.6018,2,    170.5,2,    174.2,2,    80.67,2,    35.74,3,     0.08,2,     2.75,3,   -999.0,9,-999.0000,9,  -999.00
  29HE20100208,   A21,    23,  1,     10,     10,2,20100218,   0,-50.6522, -47.1500, 2716,    798.5,   2.2351,  34.5485,2,    176.8,2,   -999.0,9,  -999.00,9,  -999.00,9,  -999.00,9,  -999.00,9,   -999.0,9,-999.0000,9,  -999.00
  29HE20100208,   A21,    23,  1,     11,     11,2,20100218,   0,-50.6522, -47.1500, 2716,    600.5,   2.0957,  34.4027,2,    196.7,2,    196.8,2,    63.53,2,    35.58,2,     0.10,2,     2.76,3,   -999.0,9,-999.0000,9,  -999.00
  29HE20100208,   A21,    23,  1,     12,     12,2,20100218,   0,-50.6522, -47.1500, 2716,    409.2,   1.9159,  34.2473,2,    234.1,2,    234.6,2,    45.48,2,    32.56,2,     0.09,2,     2.43,2,   -999.0,9,-999.0000,9,  -999.00
  29HE20100208,   A21,    23,  1,     13,     13,2,20100218,   0,-50.6522, -47.1500, 2716,    298.7,   1.2421,  34.1029,2,    280.1,2,   -999.0,9,  -999.00,9,  -999.00,9,  -999.00,9,  -999.00,9,   -999.0,9,-999.0000,9,  -999.00
  29HE20100208,   A21,    23,  1,     14,     14,2,20100218,   0,-50.6522, -47.1500, 2716,    201.1,   0.9444,  33.9788,2,    317.5,2,    317.7,2,    23.98,2,    28.00,2,     0.28,2,     2.13,2,   -999.0,9,-999.0000,9,  -999.00
  29HE20100208,   A21,    23,  1,     15,     15,2,20100218,   0,-50.6522, -47.1500, 2716,    152.1,   1.2461,  33.9401,2,    323.3,2,    322.5,2,    20.17,2,    26.03,2,     0.32,2,     2.09,2,   -999.0,9,-999.0000,9,  -999.00
  29HE20100208,   A21,    23,  1,     16,     16,2,20100218,   0,-50.6522, -47.1500, 2716,    125.0,   3.4308,  33.8973,2,    317.6,2,    319.5,2,    10.30,2,    22.50,2,     0.28,2,     1.87,2,   -999.0,9,-999.0000,9,  -999.00
  29HE20100208,   A21,    23,  1,     17,     17,2,20100218,   0,-50.6522, -47.1500, 2716,    100.9,   4.4499,  33.8534,2,    316.2,2,    317.0,2,     3.12,2,    20.01,2,     0.27,2,     1.57,2,   -999.0,9,-999.0000,9,  -999.00
  29HE20100208,   A21,    23,  1,     18,     18,2,20100218,   0,-50.6522, -47.1500, 2716,     75.6,   4.4090,  33.8466,2,    317.6,2,    318.0,2,     2.80,2,    19.77,2,     0.27,2,     1.55,2,   -999.0,9,-999.0000,9,  -999.00
  29HE20100208,   A21,    23,  1,     19,     19,2,20100218,   0,-50.6522, -47.1500, 2716,     49.9,   4.4621,  33.8482,2,    318.9,2,    319.8,2,     2.59,2,    19.86,2,     0.27,2,     1.53,2,   -999.0,9,-999.0000,9,  -999.00
  29HE20100208,   A21,    23,  1,     20,     20,2,20100218,   0,-50.6522, -47.1500, 2716,     26.5,   4.4915,  33.8489,2,    320.7,2,    321.6,2,  -999.00,9,  -999.00,9,  -999.00,9,  -999.00,9,   -999.0,9,-999.0000,9,  -999.00
  29HE20100208,   A21,    23,  1,     21,     21,2,20100218,   0,-50.6522, -47.1500, 2716,     11.2,   4.6907,  33.8532,2,    320.2,2,    319.7,2,     2.70,2,    19.82,2,     0.27,2,     1.53,2,   -999.0,9,-999.0000,9,  -999.00
  29HE20100208,   A21,    24,  1,      1,      1,2,20100218,   0,-50.6203, -46.4593, 1992,   1962.9,   1.6017,  34.7245,2,    186.6,2,    188.8,2,   105.36,2,    32.49,2,     0.07,2,     2.27,2,   2358.9,2,   7.5943,2,    25.00
  29HE20100208,   A21,    24,  1,      2,      2,2,20100218,   0,-50.6203, -46.4593, 1992,   1751.7,   1.7552,  34.7269,2,    187.8,2,    188.9,2,    97.82,2,    32.20,2,     0.07,2,     2.23,2,   2356.6,2,   7.5975,2,    25.00
  29HE20100208,   A21,    24,  1,      3,      3,2,20100218,   0,-50.6203, -46.4593, 1992,   1549.7,   1.8992,  34.7088,2,    179.1,2,    179.9,2,    97.17,2,    32.89,2,     0.06,2,     2.29,2,   2355.5,2,   7.5842,2,    25.00
  29HE20100208,   A21,    24,  1,      4,      4,2,20100218,   0,-50.6203, -46.4593, 1992,   1250.8,   2.1932,  34.6800,2,    175.5,2,    176.0,2,    87.84,2,    33.17,2,     0.06,2,     2.30,2,   2349.1,2,   7.5742,2,    25.00
  29HE20100208,   A21,    24,  1,      5,      5,2,20100218,   0,-50.6203, -46.4593, 1992,    999.6,   2.3373,  34.6079,2,    168.3,2,    170.1,2,    84.78,2,    34.69,2,     0.06,2,     2.40,2,   2346.4,2,   7.5576,2,    25.00
  29HE20100208,   A21,    24,  1,      6,      6,2,20100218,   0,-50.6203, -46.4593, 1992,    900.3,   2.3958,  34.5670,2,    171.2,2,    174.5,2,    79.07,2,    34.93,2,     0.06,2,     2.42,2,   2343.7,2,   7.5518,2,    25.00
  29HE20100208,   A21,    24,  1,      7,      7,2,20100218,   0,-50.6203, -46.4593, 1992,    799.7,   2.4590,  34.5334,2,    172.8,2,    173.9,2,    75.37,2,    35.06,2,     0.06,2,     2.43,2,   2334.1,2,   7.5529,2,    25.00
  29HE20100208,   A21,    24,  1,      8,      8,2,20100218,   0,-50.6203, -46.4593, 1992,    600.1,   2.6288,  34.4289,2,    185.6,2,    184.9,2,    63.90,2,    34.85,2,     0.06,2,     2.40,2,   2323.6,2,   7.5591,2,    25.00
  29HE20100208,   A21,    24,  1,      9,      9,2,20100218,   0,-50.6203, -46.4593, 1992,    400.0,   2.2868,  34.2395,2,    235.1,2,    233.9,2,    43.99,2,    32.70,2,     0.07,2,     2.27,2,   2303.0,2,   7.5976,2,    25.00
  29HE20100208,   A21,    24,  1,     10,     10,2,20100218,   0,-50.6203, -46.4593, 1992,    299.6,   2.4231,  34.1876,2,    248.9,2,    252.3,2,    35.50,2,    31.34,2,     0.07,2,     2.16,2,   2293.7,2,   7.6227,2,    25.00
  29HE20100208,   A21,    24,  1,     11,     11,2,20100218,   0,-50.6203, -46.4593, 1992,    200.6,   2.1698,  34.0713,2,    289.0,2,    289.0,2,    25.42,2,    29.20,2,     0.09,2,     2.04,2,   2283.3,2,   7.6559,2,    25.00
  29HE20100208,   A21,    24,  1,     12,     12,2,20100218,   0,-50.6203, -46.4593, 1992,    149.6,   2.3441,  34.0538,2,    292.5,2,    290.8,2,    22.74,2,    28.66,2,     0.10,2,     1.99,2,   2281.2,2,   7.6650,2,    25.00
  29HE20100208,   A21,    24,  1,     13,     13,2,20100218,   0,-50.6203, -46.4593, 1992,    115.9,   2.3002,  34.0262,2,    301.3,2,    300.4,2,    20.50,2,    27.89,2,     0.32,2,     1.96,2,   -999.0,9,-999.0000,9,  -999.00
  29HE20100208,   A21,    24,  1,     14,     14,2,20100218,   0,-50.6203, -46.4593, 1992,    102.1,   2.3280,  34.0182,2,    304.2,2,    302.6,2,    19.03,2,    27.35,2,     0.43,2,     1.94,2,   2280.7,2,   7.6796,2,    25.00
  29HE20100208,   A21,    24,  1,     15,     15,2,20100218,   0,-50.6203, -46.4593, 1992,     68.5,   3.5144,  33.9573,2,    314.0,2,    312.8,2,    11.71,2,    23.65,2,     0.34,2,     1.78,2,   -999.0,9,-999.0000,9,  -999.00
  29HE20100208,   A21,    24,  1,     16,     16,2,20100218,   0,-50.6203, -46.4593, 1992,     49.8,   5.4055,  33.9155,2,    310.1,2,    310.3,2,     6.18,2,    21.25,2,     0.24,2,     1.53,2,   2275.2,2,   7.7780,2,    25.00
  29HE20100208,   A21,    24,  1,     17,     17,2,20100218,   0,-50.6203, -46.4593, 1992,     26.6,   5.4930,  33.9218,2,    311.7,2,    310.8,2,     6.06,2,    20.93,2,     0.23,2,     1.52,2,   -999.0,9,-999.0000,9,  -999.00
  29HE20100208,   A21,    24,  1,     18,     18,2,20100218,   0,-50.6203, -46.4593, 1992,     11.5,   5.5666,  33.9230,2,    312.2,2,    311.3,2,     6.16,2,    20.82,2,     0.23,2,     1.51,2,   2272.4,2,   7.7824,2,    25.00
  29HE20100208,   A21,    25,  1,      1,      1,2,20100218,   0,-50.5998, -45.7707, 1574,   1540.1,   1.7490,  34.7192,2,    181.4,2,    183.5,2,   101.58,2,    32.61,2,     0.08,2,     2.27,2,   -999.0,9,-999.0000,9,  -999.00
  29HE20100208,   A21,    25,  1,      2,      2,2,20100218,   0,-50.5998, -45.7707, 1574,   1500.8,   1.7514,  34.7184,2,    182.0,2,    187.4,2,   100.73,2,    32.86,2,     0.07,2,     2.27,2,   -999.0,9,-999.0000,9,  -999.00
  29HE20100208,   A21,    25,  1,      3,      3,2,20100218,   0,-50.5998, -45.7707, 1574,   1249.9,   1.9677,  34.6946,2,    176.5,2,    182.1,2,    93.32,2,    33.23,2,     0.06,2,     2.31,2,   -999.0,9,-999.0000,9,  -999.00
  29HE20100208,   A21,    25,  1,      4,      4,2,20100218,   0,-50.5998, -45.7707, 1574,    998.3,   2.2285,  34.6597,2,    173.4,2,    174.6,2,    84.33,2,    33.60,2,     0.06,2,     2.32,2,   -999.0,9,-999.0000,9,  -999.00
  29HE20100208,   A21,    25,  1,      5,      5,2,20100218,   0,-50.5998, -45.7707, 1574,    901.0,   2.2487,  34.6230,2,    171.0,2,    174.6,2,    83.16,2,    34.27,2,     0.07,2,     2.36,2,   -999.0,9,-999.0000,9,  -999.00
  29HE20100208,   A21,    25,  1,      6,      6,2,20100218,   0,-50.5998, -45.7707, 1574,    799.9,   2.3015,  34.5862,2,    171.1,2,    175.2,2,    80.25,2,    34.80,2,     0.07,2,     2.39,2,   -999.0,9,-999.0000,9,  -999.00
  29HE20100208,   A21,    25,  1,      7,      7,2,20100218,   0,-50.5998, -45.7707, 1574,    599.0,   2.4224,  34.4939,2,    176.6,2,    182.8,2,    69.54,2,    34.62,2,     0.07,2,     2.37,2,   -999.0,9,-999.0000,9,  -999.00
  29HE20100208,   A21,    25,  1,      8,      8,2,20100218,   0,-50.5998, -45.7707, 1574,    400.7,   2.3177,  34.3220,2,    209.6,2,    209.7,2,    53.90,2,    33.98,2,     0.08,2,     2.35,2,   -999.0,9,-999.0000,9,  -999.00
  29HE20100208,   A21,    25,  1,      9,      9,2,20100218,   0,-50.5998, -45.7707, 1574,    302.6,   2.2502,  34.2434,2,    233.7,2,    235.2,2,    31.08,3,    30.57,2,     0.08,2,     2.10,3,   -999.0,9,-999.0000,9,  -999.00
  29HE20100208,   A21,    25,  1,     10,     10,2,20100218,   0,-50.5998, -45.7707, 1574,    200.5,   1.8656,  34.1133,2,    276.8,2,    280.2,2,    44.65,3,    32.93,3,     0.07,2,     2.25,2,   -999.0,9,-999.0000,9,  -999.00
  29HE20100208,   A21,    25,  1,     11,     11,2,20100218,   0,-50.5998, -45.7707, 1574,    150.7,   1.6049,  34.0181,2,    308.0,2,    313.2,2,    23.94,2,    29.01,2,     0.15,2,     2.01,2,   -999.0,9,-999.0000,9,  -999.00
  29HE20100208,   A21,    25,  1,     12,     12,2,20100218,   0,-50.5998, -45.7707, 1574,    127.0,   1.9827,  33.9911,2,    314.2,2,    317.5,2,    20.46,2,    26.65,2,     0.43,2,     1.97,2,   -999.0,9,-999.0000,9,  -999.00
  29HE20100208,   A21,    25,  1,     13,     13,2,20100218,   0,-50.5998, -45.7707, 1574,    102.5,   2.5884,  33.9649,2,    316.2,2,    322.7,2,    16.50,2,    24.57,2,     0.43,2,     1.91,2,   -999.0,9,-999.0000,9,  -999.00
  29HE20100208,   A21,    25,  1,     14,     14,2,20100218,   0,-50.5998, -45.7707, 1574,     77.4,   4.2537,  33.9375,2,    311.8,2,    317.5,2,     8.56,2,    22.04,2,     0.29,2,     1.71,2,   -999.0,9,-999.0000,9,  -999.00
  29HE20100208,   A21,    25,  1,     15,     15,2,20100218,   0,-50.5998, -45.7707, 1574,     50.2,   5.5908,  33.9114,2,    306.3,2,    308.0,2,     3.78,2,    19.90,2,     0.24,2,     1.52,2,   -999.0,9,-999.0000,9,  -999.00
  29HE20100208,   A21,    25,  1,     16,     16,2,20100218,   0,-50.5998, -45.7707, 1574,     26.2,   6.1932,  33.9066,2,    308.6,2,    317.5,2,     2.40,2,    19.40,2,     0.23,2,     1.41,2,   -999.0,9,-999.0000,9,  -999.00
  29HE20100208,   A21,    25,  1,     17,     17,2,20100218,   0,-50.5998, -45.7707, 1574,     11.5,   6.3338,  33.9030,2,    310.1,2,    314.0,2,     2.27,2,    19.23,2,     0.23,2,     1.40,2,   -999.0,9,-999.0000,9,  -999.00