BOTTLE,20220207CCHSIOENA
EXPOCODE,SECT_ID,STNNBR,CASTNO,SAMPNO,BTLNBR,BTLNBR_FLAG_W,DATE,TIME,LATITUDE,LONGITUDE,DEPTH,CTDPRS,CTDTMP,CTDSAL,CTDSAL_FLAG_W,CTDOXY,CTDOXY_FLAG_W,OXYGEN,OXYGEN_FLAG_W,SILCAT,SILCAT_FLAG_W,NITRAT,NITRAT_FLAG_W,NITRIT,NITRIT_FLAG_W,PHSPHT,PHSPHT_FLAG_W,ALKALI,ALKALI_FLAG_W,PH_SWS,PH_SWS_FLAG_W,PH_TMP
,,,,,,,,,,,METERS,DBAR,ITS-90,PSS-78,,UMOL/KG,,UMOL/KG,,UMOL/KG,,UMOL/KG,,UMOL/KG,,UMOL/KG,,UMOL/KG,,,,DEG C
  29HE20100208,   A21,    35,  1,      1,      1,2,20100221,   0,-48.8935, -39.0472, 5113,   5147.5,   0.2098,  34.6721,2,    224.8,2,    226.6,2,   126.48,2,    32.76,2,     0.07,2,     2.38,2,   2361.7,2,   7.5991,2,    25.00
  29HE20100208,   A21,    35,  1,      2,      2,2,20100221,   0,-48.8935, -39.0472, 5113,   4999.1,   0.1954,  34.6723,2,    224.4,2,    226.6,2,   126.21,2,    32.83,2,     0.07,2,     2.38,2,   2361.5,2,   7.6021,2,    25.00
  29HE20100208,   A21,    35,  1,      3,      3,2,20100221,   0,-48.8935, -39.0472, 5113,   4497.1,   0.2130,  34.6760,2,    221.5,2,    219.5,2,   125.37,2,    32.79,2,     0.05,2,     2.37,2,   2362.3,2,   7.6015,2,    25.00
  29HE20100208,   A21,    35,  1,      4,      4,2,20100221,   0,-48.8935, -39.0472, 5113,   3998.5,   0.2216,  34.6790,2,    218.9,2,    224.3,2,   123.93,2,    32.74,2,     0.06,2,     2.37,2,   2363.3,2,   7.5980,2,    25.00
  29HE20100208,   A21,    35,  1,      5,      5,2,20100221,   0,-48.8935, -39.0472, 5113,   3497.5,   0.3319,  34.6856,2,    214.5,2,    218.6,2,   121.52,2,    32.73,2,     0.06,2,     2.37,2,   2362.9,2,   7.5981,2,    25.00
  29HE20100208,   A21,    35,  1,      6,      6,2,20100221,   0,-48.8935, -39.0472, 5113,   2999.8,   0.5886,  34.6992,2,    209.3,2,    213.8,2,   116.33,2,    32.37,2,     0.05,2,     2.33,2,   2360.1,2,   7.5990,2,    25.00
  29HE20100208,   A21,    35,  1,      7,      7,2,20100221,   0,-48.8935, -39.0472, 5113,   2749.0,   0.7766,  34.7081,2,    206.4,2,    209.9,2,   114.24,2,    32.15,2,     0.06,2,     2.32,2,   2360.6,2,   7.6000,2,    25.00
  29HE20100208,   A21,    35,  1,      8,      8,2,20100221,   0,-48.8935, -39.0472, 5113,   2497.7,   0.9597,  34.7190,2,    203.3,2,    208.6,2,   111.01,2,    31.88,2,     0.06,2,     2.30,2,   2360.2,2,   7.6010,2,    25.00
  29HE20100208,   A21,    35,  1,      9,      9,2,20100221,   0,-48.8935, -39.0472, 5113,   2250.2,   1.1944,  34.7349,2,    203.0,2,    205.8,2,   104.07,2,    31.14,2,     0.06,2,     2.25,2,   2357.4,2,   7.6161,2,    25.00
  29HE20100208,   A21,    35,  1,     10,     10,2,20100221,   0,-48.8935, -39.0472, 5113,   1999.5,   1.2397,  34.7180,2,    195.6,2,    198.2,2,   105.72,2,    32.08,2,     0.06,2,     2.31,2,   2359.4,2,   7.5976,2,    25.00
  29HE20100208,   A21,    35,  1,     11,     11,2,20100221,   0,-48.8935, -39.0472, 5113,   1730.1,   1.4948,  34.7287,2,    192.2,2,    194.9,2,    99.89,2,    31.65,2,     0.06,2,     2.28,2,   2359.4,2,   7.6003,2,    25.00
  29HE20100208,   A21,    35,  1,     12,     12,2,20100221,   0,-48.8935, -39.0472, 5113,   1499.3,   1.5572,  34.7195,2,    189.2,2,    190.8,2,    98.33,2,    32.12,2,     0.07,2,     2.31,2,   2356.9,2,   7.5916,2,    25.00
  29HE20100208,   A21,    35,  1,     13,     13,2,20100221,   0,-48.8935, -39.0472, 5113,   1250.1,   1.6799,  34.7077,2,    184.4,2,    185.9,2,    95.78,2,    32.59,2,     0.07,2,     2.34,2,   2357.1,2,   7.5861,2,    25.00
  29HE20100208,   A21,    35,  1,     14,     14,2,20100221,   0,-48.8935, -39.0472, 5113,    997.7,   1.9029,  34.6761,2,    178.8,2,    179.7,2,    88.73,2,    32.96,2,     0.06,2,     2.39,2,   2350.8,2,   7.5733,2,    25.00
  29HE20100208,   A21,    35,  1,     15,     15,2,20100221,   0,-48.8935, -39.0472, 5113,    897.7,   2.0085,  34.6717,2,    175.3,2,    176.6,2,    87.31,2,    33.23,2,     0.07,2,     2.39,2,   2350.6,2,   7.5689,2,    25.00
  29HE20100208,   A21,    35,  1,     16,     16,2,20100221,   0,-48.8935, -39.0472, 5113,    801.1,   2.0077,  34.6540,2,    175.5,2,    176.5,2,    85.88,2,    33.63,2,     0.07,2,     2.41,2,   2347.9,2,   7.5663,2,    25.00
  29HE20100208,   A21,    35,  1,     17,     17,2,20100221,   0,-48.8935, -39.0472, 5113,    599.7,   2.0239,  34.5826,2,    177.1,2,    180.3,2,    80.63,2,    34.42,2,     0.07,2,     2.48,2,   2338.0,2,   7.5484,2,    25.00
  29HE20100208,   A21,    35,  1,     18,     18,2,20100221,   0,-48.8935, -39.0472, 5113,    398.1,   1.7251,  34.4335,2,    198.2,2,    199.8,2,    69.28,2,    34.71,2,     0.09,2,     2.50,2,   2324.0,2,   7.5504,2,    25.00
  29HE20100208,   A21,    35,  1,     19,     19,2,20100221,   0,-48.8935, -39.0472, 5113,    201.3,   0.7955,  34.0514,2,    300.2,2,    300.9,2,    35.54,2,    28.43,2,     0.33,2,     2.14,2,   2299.6,2,   7.6403,2,    25.00
  29HE20100208,   A21,    35,  1,     20,     20,2,20100221,   0,-48.8935, -39.0472, 5113,    148.7,   1.3693,  33.9564,2,    310.7,2,    311.3,2,    23.86,2,    24.76,2,     0.33,2,     1.98,2,   -999.0,9,-999.0000,9,  -999.00
  29HE20100208,   A21,    35,  1,     21,     21,2,20100221,   0,-48.8935, -39.0472, 5113,    100.5,   3.4814,  33.8560,2,    318.8,2,    319.1,2,     6.16,2,    17.86,2,     0.32,2,     1.50,2,   2294.1,2,   7.7892,2,    25.00
  29HE20100208,   A21,    35,  1,     22,     22,2,20100221,   0,-48.8935, -39.0472, 5113,     51.8,   5.4698,  33.8080,2,    316.0,2,    317.5,2,     0.73,2,    15.39,2,     0.30,2,     1.08,2,   -999.0,9,-999.0000,9,  -999.00
  29HE20100208,   A21,    35,  1,     23,     23,2,20100221,   0,-48.8935, -39.0472, 5113,     23.1,   5.5014,  33.8097,2,    317.6,2,    319.3,2,     0.81,2,    15.47,2,     0.30,2,     1.07,2,   -999.0,9,-999.0000,9,  -999.00
  29HE20100208,   A21,    35,  1,     24,     24,2,20100221,   0,-48.8935, -39.0472, 5113,      7.8,   5.4952,  33.8095,2,    317.3,2,    288.4,3,     0.81,2,    15.48,2,     0.30,2,     1.08,2,   2289.5,2,   7.8454,2,    25.00
  29HE20100208,   A21,    36,  1,      1,      1,2,20100221,   0,-48.4715, -38.6032, 5598,   5719.7,   0.2353,  34.6700,2,    226.5,2,    229.0,2,   120.97,2,    32.39,2,     0.06,2,     2.34,2,   2358.8,2,   7.5982,2,    25.00
  29HE20100208,   A21,    36,  1,      2,      2,2,20100221,   0,-48.4715, -38.6032, 5598,   4998.8,   0.2479,  34.6756,2,    221.2,2,    224.7,2,   111.45,2,    29.63,3,     0.04,2,     2.17,3,   2361.3,2,   7.5988,2,    25.00
  29HE20100208,   A21,    36,  1,      3,      3,2,20100221,   0,-48.4715, -38.6032, 5598,   4498.6,   0.2595,  34.6789,2,    218.4,2,    222.8,2,   123.11,2,    32.68,2,     0.05,2,     2.41,2,   2360.2,2,   7.6012,2,    25.00
  29HE20100208,   A21,    36,  1,      4,      4,2,20100221,   0,-48.4715, -38.6032, 5598,   3997.0,   0.3690,  34.6846,2,    214.6,2,    219.0,2,   114.20,2,    31.55,2,     0.05,2,     2.30,2,   2358.0,2,   7.5948,2,    25.00
  29HE20100208,   A21,    36,  1,      5,      5,2,20100221,   0,-48.4715, -38.6032, 5598,   3498.5,   0.6636,  34.7004,2,    208.1,2,    214.1,2,   117.31,2,    32.33,2,     0.05,2,     2.37,2,   2356.9,2,   7.6080,2,    25.00
  29HE20100208,   A21,    36,  1,      6,      6,2,20100221,   0,-48.4715, -38.6032, 5598,   2997.8,   1.0315,  34.7136,2,    202.3,2,    205.4,2,    93.36,2,    27.90,3,     0.04,2,     2.01,3,   2356.0,2,   7.5987,2,    25.00
  29HE20100208,   A21,    36,  1,      7,      7,2,20100221,   0,-48.4715, -38.6032, 5598,   2749.1,   1.2372,  34.7243,2,    200.0,2,    198.4,2,   102.12,2,    31.12,2,     0.05,2,     2.26,2,   2355.6,2,   7.5986,2,    25.00
  29HE20100208,   A21,    36,  1,      8,      8,2,20100221,   0,-48.4715, -38.6032, 5598,   2500.7,   1.3667,  34.7131,2,    194.1,2,    210.1,3,    93.79,2,    29.92,2,     0.05,2,     2.13,2,   2357.2,2,   7.5882,2,    25.00
  29HE20100208,   A21,    36,  1,      9,      9,2,20100221,   0,-48.4715, -38.6032, 5598,   2248.8,   1.9327,  34.7752,2,    201.1,2,    216.6,3,    74.33,2,    27.11,2,     0.04,2,     1.94,2,   2348.2,2,   7.6475,2,    25.00
  29HE20100208,   A21,    36,  1,     10,     10,2,20100221,   0,-48.4715, -38.6032, 5598,   1999.7,   2.4503,  34.8302,2,    213.1,2,    205.2,2,    62.68,2,    26.45,2,     0.05,2,     1.93,2,   2337.2,2,   7.6568,2,    25.00
  29HE20100208,   A21,    36,  1,     11,     11,2,20100221,   0,-48.4715, -38.6032, 5598,   1751.9,   2.5610,  34.8106,2,    206.7,2,    187.2,3,    63.45,2,    27.47,2,     0.05,2,     2.02,2,   2337.7,2,   7.6473,2,    25.00
  29HE20100208,   A21,    36,  1,     12,     12,2,20100221,   0,-48.4715, -38.6032, 5598,   1501.0,   2.5763,  34.7634,2,    194.6,2,    195.9,2,    68.77,2,    29.73,2,     0.05,2,     2.14,2,   2339.1,2,   7.6231,2,    25.00
  29HE20100208,   A21,    36,  1,     13,     13,2,20100221,   0,-48.4715, -38.6032, 5598,   1248.8,   2.4665,  34.6672,2,    178.0,2,    179.9,2,    75.03,2,    32.19,2,     0.05,2,     2.33,2,   2337.3,2,   7.6150,2,    25.00
  29HE20100208,   A21,    36,  1,     14,     14,2,20100221,   0,-48.4715, -38.6032, 5598,    998.7,   2.4917,  34.5717,2,    175.0,2,    179.4,2,    72.28,2,    33.65,2,     0.05,2,     2.43,2,   2337.9,2,   7.5535,2,    25.00
  29HE20100208,   A21,    36,  1,     15,     15,2,20100221,   0,-48.4715, -38.6032, 5598,    899.4,   2.4305,  34.5215,2,    175.7,2,    174.9,2,    72.19,2,    34.72,2,     0.06,2,     2.50,2,   2333.6,2,   7.5499,2,    25.00
  29HE20100208,   A21,    36,  1,     16,     16,2,20100221,   0,-48.4715, -38.6032, 5598,    797.1,   2.4782,  34.4649,2,    181.6,2,    180.6,2,    66.26,2,    34.54,2,     0.06,2,     2.50,2,   2322.1,2,   7.5600,2,    25.00
  29HE20100208,   A21,    36,  1,     17,     17,2,20100221,   0,-48.4715, -38.6032, 5598,    597.9,   2.4668,  34.3151,2,    212.1,2,    212.0,2,    50.48,2,    33.30,2,     0.06,2,     2.40,2,   2305.5,2,   7.5688,2,    25.00
  29HE20100208,   A21,    36,  1,     18,     18,2,20100221,   0,-48.4715, -38.6032, 5598,    400.7,   2.0566,  34.1316,2,    271.4,2,    269.1,2,    31.73,2,    30.31,2,     0.07,2,     2.14,2,   2288.1,2,   7.6317,2,    25.00
  29HE20100208,   A21,    36,  1,     19,     19,2,20100221,   0,-48.4715, -38.6032, 5598,    199.9,   2.3691,  34.0307,2,    306.7,2,    302.6,2,    18.81,2,    27.10,2,     0.35,2,     2.03,2,   2282.9,2,   7.6743,2,    25.00
  29HE20100208,   A21,    36,  1,     20,     20,2,20100221,   0,-48.4715, -38.6032, 5598,    152.3,   2.7398,  34.0072,2,    312.7,2,    308.3,2,    14.45,2,    25.41,2,     0.48,2,     1.94,2,   -999.0,9,-999.0000,9,  -999.00
  29HE20100208,   A21,    36,  1,     21,     21,2,20100221,   0,-48.4715, -38.6032, 5598,    100.1,   4.7722,  33.9436,2,    313.6,2,    309.5,2,     6.20,2,    21.35,2,     0.26,2,     1.72,2,   2277.6,2,   7.7473,2,    25.00
  29HE20100208,   A21,    36,  1,     22,     22,2,20100221,   0,-48.4715, -38.6032, 5598,     49.6,   7.6432,  33.8770,2,    303.9,2,    299.4,2,     1.16,2,    17.70,2,     0.21,2,     1.40,2,   -999.0,9,-999.0000,9,  -999.00
  29HE20100208,   A21,    36,  1,     23,     23,2,20100221,   0,-48.4715, -38.6032, 5598,     24.3,   7.6371,  33.8800,2,    304.0,2,    299.6,2,     1.08,2,    17.36,2,     0.20,2,     1.35,2,   -999.0,9,-999.0000,9,  -999.00
  29HE20100208,   A21,    36,  1,     24,     24,2,20100221,   0,-48.4715, -38.6032, 5598,     10.7,   7.6345,  33.8797,2,    304.4,2,    271.5,3,     1.16,2,    17.88,2,     0.21,2,     1.41,2,   2275.5,2,   7.8326,2,    25.00
  29HE20100208,   A21,    37,  1,      1,      1,2,20100222,   0,-46.5702, -36.6507, 5719,   5850.7,   0.2972,  34.6711,2,    224.1,2,    226.2,2,    99.38,3,    25.69,3,     0.05,2,     2.05,3,   2363.7,2,   7.6016,2,    25.00
  29HE20100208,   A21,    37,  1,      2,      2,2,20100222,   0,-46.5702, -36.6507, 5719,   5498.8,   0.3204,  34.6750,2,    220.8,2,    223.1,2,    96.54,3,    25.05,3,     0.04,2,     1.99,3,   2363.0,2,   7.6022,2,    25.00
  29HE20100208,   A21,    37,  1,      3,      3,2,20100222,   0,-46.5702, -36.6507, 5719,   4999.8,   0.3435,  34.6792,2,    219.9,2,    222.9,2,   124.76,2,    32.55,2,     0.05,2,     2.44,2,   2364.3,2,   7.6050,2,    25.00
  29HE20100208,   A21,    37,  1,      4,      4,2,20100222,   0,-46.5702, -36.6507, 5719,   4501.0,   0.4858,  34.6880,2,    215.1,2,    216.9,2,   120.20,2,    32.33,2,     0.05,2,     2.42,2,   2360.2,2,   7.5962,2,    25.00
  29HE20100208,   A21,    37,  1,      5,      5,2,20100222,   0,-46.5702, -36.6507, 5719,   3998.7,   0.8724,  34.7096,2,    208.6,2,    211.3,2,   114.72,2,    31.90,2,     0.05,2,     2.37,2,   2359.7,2,   7.6090,2,    25.00
  29HE20100208,   A21,    37,  1,      6,      6,2,20100222,   0,-46.5702, -36.6507, 5719,   3498.9,   1.3321,  34.7378,2,    203.4,2,    206.7,2,   103.51,2,    30.81,2,     0.05,2,     2.30,2,   2355.5,2,   7.6090,2,    25.00
  29HE20100208,   A21,    37,  1,      7,      7,2,20100222,   0,-46.5702, -36.6507, 5719,   2998.0,   1.8948,  34.7741,2,    202.8,2,    207.5,2,    80.67,2,    28.82,2,     0.05,2,     2.14,2,   2349.9,2,   7.6326,2,    25.00
  29HE20100208,   A21,    37,  1,      8,      8,2,20100222,   0,-46.5702, -36.6507, 5719,   2748.2,   2.1509,  34.7892,2,    202.8,2,    206.5,2,    77.31,2,    28.52,2,     0.05,2,     2.12,2,   2349.8,2,   7.6313,2,    25.00
  29HE20100208,   A21,    37,  1,      9,      9,2,20100222,   0,-46.5702, -36.6507, 5719,   2499.2,   2.4582,  34.8078,2,    206.0,2,    209.1,2,    50.94,3,    20.96,3,     0.05,2,     1.81,3,   2342.4,2,   7.6489,2,    25.00
  29HE20100208,   A21,    37,  1,     10,     10,2,20100222,   0,-46.5702, -36.6507, 5719,   2250.9,   2.5145,  34.7768,2,    196.0,2,    198.8,2,    70.13,2,    29.08,2,     0.05,2,     2.15,2,   2342.5,2,   7.6426,2,    25.00
  29HE20100208,   A21,    37,  1,     11,     11,2,20100222,   0,-46.5702, -36.6507, 5719,   2000.7,   2.6072,  34.7409,2,    189.2,2,    191.0,2,    70.38,2,    30.23,2,     0.05,2,     2.24,2,   2339.4,2,   7.6191,2,    25.00
  29HE20100208,   A21,    37,  1,     12,     12,2,20100222,   0,-46.5702, -36.6507, 5719,   1747.3,   2.6911,  34.6823,2,    182.4,2,    182.9,2,    69.37,2,    31.45,2,     0.05,2,     2.33,2,   2335.7,2,   7.5874,2,    25.00
  29HE20100208,   A21,    37,  1,     13,     13,2,20100222,   0,-46.5702, -36.6507, 5719,   1501.2,   2.7758,  34.6044,2,    179.3,2,   -999.0,9,    65.23,2,    32.68,2,     0.05,2,     2.41,2,   2330.2,2,   7.5748,2,    25.00
  29HE20100208,   A21,    37,  1,     14,     14,2,20100222,   0,-46.5702, -36.6507, 5719,   1248.3,   2.8247,  34.4831,2,    183.3,2,    232.4,3,    58.77,2,    33.67,2,     0.05,2,     2.48,2,   2322.5,2,   7.5727,2,    25.00
  29HE20100208,   A21,    37,  1,     15,     15,2,20100222,   0,-46.5702, -36.6507, 5719,    999.1,   3.0005,  34.3473,2,    203.7,2,    205.5,2,    47.71,2,    33.05,2,     0.05,2,     2.43,2,   2310.3,2,   7.5937,2,    25.00
  29HE20100208,   A21,    37,  1,     16,     16,2,20100222,   0,-46.5702, -36.6507, 5719,    799.2,   3.3289,  34.2487,2,    229.3,2,    188.5,3,    33.46,2,    31.13,2,     0.05,2,     2.30,2,   2292.9,2,   7.6175,2,    25.00
  29HE20100208,   A21,    37,  1,     17,     17,2,20100222,   0,-46.5702, -36.6507, 5719,    599.7,   3.8669,  34.1745,2,    256.2,2,   -999.0,9,  -999.00,9,  -999.00,9,  -999.00,9,  -999.00,9,   -999.0,9,-999.0000,9,  -999.00
  29HE20100208,   A21,    37,  1,     18,     18,2,20100222,   0,-46.5702, -36.6507, 5719,    402.0,   4.7469,  34.1713,2,    266.8,2,    182.9,3,    11.62,2,    25.90,2,     0.05,2,     1.94,2,   2273.7,2,   7.6825,2,    25.00
  29HE20100208,   A21,    37,  1,     19,     19,2,20100222,   0,-46.5702, -36.6507, 5719,    201.4,   7.9286,  34.4816,2,    267.4,2,    265.7,2,     3.95,2,    15.65,2,     0.10,2,     1.31,2,   2286.4,2,   7.7743,2,    25.00
  29HE20100208,   A21,    37,  1,     20,     20,2,20100222,   0,-46.5702, -36.6507, 5719,    151.7,   9.3531,  34.6557,2,    249.1,2,    266.3,3,     4.27,2,    15.45,2,     0.08,2,     1.28,2,   2293.2,2,   7.7901,2,    25.00
  29HE20100208,   A21,    37,  1,     21,     21,2,20100222,   0,-46.5702, -36.6507, 5719,     99.8,  11.7831,  35.0315,2,    242.4,2,   -999.0,9,  -999.00,9,  -999.00,9,  -999.00,9,  -999.00,9,   -999.0,9,-999.0000,9,  -999.00
  29HE20100208,   A21,    37,  1,     22,     22,2,20100222,   0,-46.5702, -36.6507, 5719,     49.9,  12.2205,  34.6017,2,    270.2,2,    270.4,2,     0.94,2,     5.18,2,     0.16,2,     0.74,2,   2300.6,2,   7.9194,2,    25.00
  29HE20100208,   A21,    37,  1,     23,     23,2,20100222,   0,-46.5702, -36.6507, 5719,     26.9,  12.2368,  34.6042,2,    270.3,2,    245.6,3,     0.99,2,     5.06,2,     0.16,2,     0.72,2,   -999.0,9,-999.0000,9,  -999.00
  29HE20100208,   A21,    37,  1,     24,     24,2,20100222,   0,-46.5702, -36.6507, 5719,      9.6,  12.2490,  34.6076,2,    270.6,2,    239.4,3,     1.08,2,     5.05,2,     0.16,2,     0.76,2,   2298.9,2,   7.9243,2,    25.00