BOTTLE,20220207CCHSIOENA
# added SAMPNO column [SAMPNO values copied from BTLNBR column]
# BOTTLE,20120202PRINUNIVRMK
# 10/17/2012 Initialized README file 
# Data source: A.F. Rios, 10/17/201 
# SHIP: Hesperides 
# Cruise: MOC2AUSTRAL2010 
# Region: south Atlantic  
# EXPOCODE: 29HE20100208  
# DATES: 20100208-20100310 
# Chief Scientist: Alonso Hernandez-Guerra 
# 56 stations with 24 place Rosette  
# Hydro: Who - Hernandez-Guerra; Status - final 
# 	Notes: No bottle salt values 
# Nuts: Jose Escanez/Jose Francisco Dominguez; Status - final 
# 	Notes: Instituto Español Oceanografía 
# O2: Who - Jose Escanez; Status - final 
# 	Notes: only bottle values in file 
# TA: Who - Anton Velo/Monica Castaño/Juancho Movilla; Status - final 
# 	Notes:  
# pH: Who - Monica Castaño/Anton Velo/Juancho Movilla; Status - final 
# 	Notes: Spectrophotometric SWS @ 25C (except St.3 Potentiometric) 
# References:		 
EXPOCODE,SECT_ID,STNNBR,CASTNO,SAMPNO,BTLNBR,BTLNBR_FLAG_W,DATE,TIME,LATITUDE,LONGITUDE,DEPTH,CTDPRS,CTDTMP,CTDSAL,CTDSAL_FLAG_W,CTDOXY,CTDOXY_FLAG_W,OXYGEN,OXYGEN_FLAG_W,SILCAT,SILCAT_FLAG_W,NITRAT,NITRAT_FLAG_W,NITRIT,NITRIT_FLAG_W,PHSPHT,PHSPHT_FLAG_W,ALKALI,ALKALI_FLAG_W,PH_SWS,PH_SWS_FLAG_W,PH_TMP
,,,,,,,,,,,METERS,DBAR,ITS-90,PSS-78,,UMOL/KG,,UMOL/KG,,UMOL/KG,,UMOL/KG,,UMOL/KG,,UMOL/KG,,UMOL/KG,,,,DEG C
  29HE20100208,   A21,     1,  1,      1,      1,2,20100209,   0,-53.8807, -63.6058,  219,    199.4,   4.9740,  34.1174,2,    294.3,2,    289.9,2,    10.03,2,    22.83,2,     0.14,2,     1.85,2,   -999.0,9,-999.0000,9,  -999.00
  29HE20100208,   A21,     1,  1,      2,      2,2,20100209,   0,-53.8807, -63.6058,  219,    152.1,   5.0740,  34.1082,2,    294.5,2,    291.0,2,    10.24,2,    22.75,2,     0.15,2,     1.86,2,   -999.0,9,-999.0000,9,  -999.00
  29HE20100208,   A21,     1,  1,      3,      3,2,20100209,   0,-53.8807, -63.6058,  219,    125.2,   5.6246,  34.0590,2,    293.8,2,    292.4,2,     8.29,2,    20.95,2,     0.19,2,     1.73,2,   -999.0,9,-999.0000,9,  -999.00
  29HE20100208,   A21,     1,  1,      4,      4,2,20100209,   0,-53.8807, -63.6058,  219,    100.0,   5.7895,  34.0395,2,    293.4,2,    293.1,2,     8.78,2,    20.66,2,     0.20,2,     1.71,2,   -999.0,9,-999.0000,9,  -999.00
  29HE20100208,   A21,     1,  1,      5,      5,2,20100209,   0,-53.8807, -63.6058,  219,     74.7,   6.1338,  33.9909,2,    293.5,2,    291.2,2,     7.38,2,    20.01,2,     0.22,2,     1.67,2,   -999.0,9,-999.0000,9,  -999.00
  29HE20100208,   A21,     1,  1,      6,      6,2,20100209,   0,-53.8807, -63.6058,  219,     50.0,   6.2723,  33.9608,2,    293.6,2,    286.9,2,     6.82,2,    19.13,2,     0.22,2,     1.60,2,   -999.0,9,-999.0000,9,  -999.00
  29HE20100208,   A21,     1,  1,      7,      7,2,20100209,   0,-53.8807, -63.6058,  219,     24.9,   6.7399,  33.8508,2,    293.7,2,    294.2,2,     5.96,2,    17.60,2,     0.24,2,     1.54,2,   -999.0,9,-999.0000,9,  -999.00
  29HE20100208,   A21,     1,  1,      8,      8,2,20100209,   0,-53.8807, -63.6058,  219,     11.0,   7.1689,  33.7513,2,    293.7,2,    295.2,2,     4.96,2,    15.80,2,     0.25,2,     1.43,2,   -999.0,9,-999.0000,9,  -999.00
  29HE20100208,   A21,     2,  1,      1,      1,2,20100209,   0,-53.7745, -62.7738,  509,    486.7,   4.3376,  34.1511,2,    287.9,2,    286.6,2,    13.35,2,    24.30,2,     0.10,2,     2.07,2,   -999.0,9,-999.0000,9,  -999.00
  29HE20100208,   A21,     2,  1,      2,      2,2,20100209,   0,-53.7745, -62.7738,  509,    397.7,   4.4778,  34.1516,2,    291.5,2,    291.1,2,     9.71,2,    19.47,3,     0.09,2,     1.89,2,   -999.0,9,-999.0000,9,  -999.00
  29HE20100208,   A21,     2,  1,      3,      3,2,20100209,   0,-53.7745, -62.7738,  509,    302.0,   4.5212,  34.1522,2,    293.0,2,    291.6,2,    11.34,2,    23.18,2,     0.10,2,     1.94,2,   -999.0,9,-999.0000,9,  -999.00
  29HE20100208,   A21,     2,  1,      4,      4,2,20100209,   0,-53.7745, -62.7738,  509,    200.4,   5.0301,  34.1197,2,    295.2,2,    293.1,2,     7.22,2,    18.52,2,     0.20,2,     1.70,2,   -999.0,9,-999.0000,9,  -999.00
  29HE20100208,   A21,     2,  1,      5,      5,2,20100209,   0,-53.7745, -62.7738,  509,    142.6,   5.3606,  34.0548,2,    293.0,2,    295.8,2,     8.82,2,    21.59,2,     0.17,2,     1.87,2,   -999.0,9,-999.0000,9,  -999.00
  29HE20100208,   A21,     2,  1,      6,      6,2,20100209,   0,-53.7745, -62.7738,  509,    117.8,   5.4161,  34.0435,2,    293.0,2,    289.8,2,     8.82,2,    21.54,2,     0.17,2,     1.84,2,   -999.0,9,-999.0000,9,  -999.00
  29HE20100208,   A21,     2,  1,      7,      7,2,20100209,   0,-53.7745, -62.7738,  509,     98.4,   5.5733,  34.0357,2,    293.9,2,    291.5,2,     8.48,2,    21.10,2,     0.19,2,     1.82,2,   -999.0,9,-999.0000,9,  -999.00
  29HE20100208,   A21,     2,  1,      8,      8,2,20100209,   0,-53.7745, -62.7738,  509,     74.2,   6.0193,  34.0387,2,    297.9,2,    295.9,2,     5.86,2,    18.95,2,     0.30,2,     1.69,2,   -999.0,9,-999.0000,9,  -999.00
  29HE20100208,   A21,     2,  1,      9,      9,2,20100209,   0,-53.7745, -62.7738,  509,     47.2,   6.3667,  33.9394,2,    294.5,2,    291.8,2,     4.15,2,    12.57,2,     0.14,2,     1.28,2,   -999.0,9,-999.0000,9,  -999.00
  29HE20100208,   A21,     2,  1,     10,     10,2,20100209,   0,-53.7745, -62.7738,  509,     26.1,   7.0057,  33.8366,2,    296.1,2,    294.2,2,     4.24,2,    16.45,2,     0.25,2,     1.51,2,   -999.0,9,-999.0000,9,  -999.00
  29HE20100208,   A21,     2,  1,     11,     11,2,20100209,   0,-53.7745, -62.7738,  509,     10.4,   7.0637,  33.8290,2,    296.3,2,    293.0,2,     4.05,2,    16.53,2,     0.25,2,     1.52,2,   -999.0,9,-999.0000,9,  -999.00
  29HE20100208,   A21,     3,  1,      1,      1,2,20100209,   0,-53.2985, -61.6670,  530,    513.4,   4.2298,  34.1403,2,    286.0,2,    285.2,2,    15.05,2,    24.84,2,     0.08,2,     2.22,2,   2279.9,2,   7.6774,2,    25.00
  29HE20100208,   A21,     3,  1,      2,      2,2,20100209,   0,-53.2985, -61.6670,  530,    401.9,   4.2248,  34.1392,2,    286.9,2,    285.5,2,    13.43,2,    22.73,2,     0.06,2,     2.03,2,   2279.0,2,   7.7151,2,    25.00
  29HE20100208,   A21,     3,  1,      3,      3,2,20100209,   0,-53.2985, -61.6670,  530,    298.0,   4.4949,  34.1268,2,    292.0,2,    289.8,2,    11.54,2,    23.05,2,     0.07,2,     2.04,2,   2275.6,2,   7.6971,2,    25.00
  29HE20100208,   A21,     3,  1,      4,      4,2,20100209,   0,-53.2985, -61.6670,  530,    198.1,   4.9021,  34.1120,2,    296.5,2,    294.5,2,     8.14,2,    20.58,2,     0.07,2,     1.83,2,   2272.9,2,   7.6818,2,    25.00
  29HE20100208,   A21,     3,  1,      5,      5,2,20100209,   0,-53.2985, -61.6670,  530,    148.6,   5.2434,  34.0993,2,    298.3,2,    295.6,2,     9.15,2,    20.91,2,     0.22,2,     1.86,2,   -999.0,9,-999.0000,9,  -999.00
  29HE20100208,   A21,     3,  1,      6,      6,2,20100209,   0,-53.2985, -61.6670,  530,    123.7,   5.5233,  34.0836,2,    299.1,2,   -999.0,9,  -999.00,9,  -999.00,9,  -999.00,9,  -999.00,9,   -999.0,9,-999.0000,9,  -999.00
  29HE20100208,   A21,     3,  1,      7,      7,2,20100209,   0,-53.2985, -61.6670,  530,     99.2,   6.0474,  34.0533,2,    301.3,2,    296.9,2,     6.99,2,    19.43,2,     0.40,2,     1.86,2,   2270.8,2,   7.7020,2,    25.00
  29HE20100208,   A21,     3,  1,      8,      8,2,20100209,   0,-53.2985, -61.6670,  530,     73.5,   6.8575,  33.9761,2,    299.2,2,    298.5,2,     5.84,2,    17.95,2,     0.27,2,     1.70,2,   -999.0,9,-999.0000,9,  -999.00
  29HE20100208,   A21,     3,  1,      9,      9,2,20100209,   0,-53.2985, -61.6670,  530,     49.8,   7.0410,  33.9651,2,    299.4,2,    297.5,2,     6.51,2,    17.49,2,     0.25,2,     1.65,2,   -999.0,9,-999.0000,9,  -999.00
  29HE20100208,   A21,     3,  1,     10,     10,2,20100209,   0,-53.2985, -61.6670,  530,     24.6,   7.0801,  33.9625,2,    300.3,2,    298.9,2,     5.23,2,    17.15,2,     0.25,2,     1.60,2,   -999.0,9,-999.0000,9,  -999.00
  29HE20100208,   A21,     3,  1,     11,     11,2,20100209,   0,-53.2985, -61.6670,  530,     10.6,   7.0994,  33.9603,2,    300.0,2,    298.4,2,     5.66,2,    17.56,2,     0.26,2,     1.65,2,   2265.5,2,   7.7392,2,    25.00
  29HE20100208,   A21,     4,  1,      1,      1,2,20100209,   0,-52.8212, -60.5613,  423,    402.9,   4.6949,  34.1225,2,    289.4,2,    289.5,2,    11.44,2,    21.67,2,     0.25,2,     1.71,2,   -999.0,9,-999.0000,9,  -999.00
  29HE20100208,   A21,     4,  1,      2,      2,2,20100209,   0,-52.8212, -60.5613,  423,    299.0,   4.8201,  34.1048,2,    290.1,2,    289.3,2,     9.80,2,    20.56,2,     0.21,2,     1.67,2,   -999.0,9,-999.0000,9,  -999.00
  29HE20100208,   A21,     4,  1,      3,      3,2,20100209,   0,-52.8212, -60.5613,  423,    198.8,   5.2903,  34.0488,2,    296.2,2,    295.2,2,     5.67,2,    17.62,2,     0.29,2,     1.54,2,   -999.0,9,-999.0000,9,  -999.00
  29HE20100208,   A21,     4,  1,      4,      4,2,20100209,   0,-52.8212, -60.5613,  423,    148.4,   5.5162,  33.9695,2,    293.7,2,    292.9,2,     3.91,2,    14.03,3,     0.26,2,     1.42,2,   -999.0,9,-999.0000,9,  -999.00
  29HE20100208,   A21,     4,  1,      5,      5,2,20100209,   0,-52.8212, -60.5613,  423,    124.0,   5.9328,  33.9727,2,    297.6,2,    296.2,2,     4.19,2,    17.42,2,     0.35,2,     1.57,2,   -999.0,9,-999.0000,9,  -999.00
  29HE20100208,   A21,     4,  1,      6,      6,2,20100209,   0,-52.8212, -60.5613,  423,     99.5,   6.1034,  33.9550,2,    297.3,2,    296.7,2,     3.73,2,    15.72,2,     0.31,2,     1.52,2,   -999.0,9,-999.0000,9,  -999.00
  29HE20100208,   A21,     4,  1,      7,      7,2,20100209,   0,-52.8212, -60.5613,  423,     73.6,   6.6087,  33.9397,2,    296.8,2,    295.8,2,     3.68,2,    16.31,2,     0.26,2,     1.47,2,   -999.0,9,-999.0000,9,  -999.00
  29HE20100208,   A21,     4,  1,      8,      8,2,20100209,   0,-52.8212, -60.5613,  423,     49.6,   7.7780,  33.8282,2,    295.9,2,    295.1,2,     3.51,2,    15.01,2,     0.24,2,     1.37,2,   -999.0,9,-999.0000,9,  -999.00
  29HE20100208,   A21,     4,  1,      9,      9,2,20100209,   0,-52.8212, -60.5613,  423,     24.9,   7.9219,  33.8237,2,    298.0,2,    297.2,2,     2.70,2,    12.05,2,     0.19,2,     1.15,2,   -999.0,9,-999.0000,9,  -999.00
  29HE20100208,   A21,     4,  1,     10,     10,2,20100209,   0,-52.8212, -60.5613,  423,      7.7,   7.9686,  33.8220,2,    298.0,2,    297.4,2,     3.04,2,    13.01,2,     0.20,2,     1.24,2,   -999.0,9,-999.0000,9,  -999.00
  29HE20100208,   A21,     5,  1,      1,      1,2,20100210,   0,-51.0137, -57.1905,  117,    106.2,   7.2056,  33.8344,2,    271.4,2,    272.1,2,     4.70,2,    15.62,2,     0.30,2,     1.50,2,   -999.0,9,-999.0000,9,  -999.00
  29HE20100208,   A21,     5,  1,      2,      2,2,20100210,   0,-51.0137, -57.1905,  117,     66.4,   7.2503,  33.8319,2,    271.5,2,    272.1,2,     4.44,2,    14.51,2,     0.29,2,     1.40,2,   -999.0,9,-999.0000,9,  -999.00
  29HE20100208,   A21,     5,  1,      3,      3,2,20100210,   0,-51.0137, -57.1905,  117,     49.3,   7.3235,  33.8279,2,    271.8,2,    272.6,2,     4.07,2,    13.93,2,     0.28,2,     1.36,2,   -999.0,9,-999.0000,9,  -999.00
  29HE20100208,   A21,     5,  1,      4,      4,2,20100210,   0,-51.0137, -57.1905,  117,     23.8,   9.2450,  33.7829,2,    280.3,2,    280.5,2,     2.93,2,     9.77,2,     0.26,2,     1.11,2,   -999.0,9,-999.0000,9,  -999.00
  29HE20100208,   A21,     5,  1,      5,      5,2,20100210,   0,-51.0137, -57.1905,  117,     16.0,   9.2950,  33.7854,2,    280.4,2,    281.1,2,     2.93,2,     9.72,2,     0.27,2,     1.12,2,   -999.0,9,-999.0000,9,  -999.00
  29HE20100208,   A21,     6,  1,      1,      1,2,20100211,   0,-50.9897, -56.7317,  364,    350.2,   4.5003,  34.1177,2,    289.6,2,    290.0,2,    10.62,2,    22.38,2,     0.08,2,     1.73,2,   2272.8,2,   7.7085,2,    25.00
  29HE20100208,   A21,     6,  1,      2,      2,2,20100211,   0,-50.9897, -56.7317,  364,    298.5,   4.4974,  34.1173,2,    289.4,2,    290.1,2,     9.84,2,    20.60,2,     0.07,2,     1.58,2,   2272.3,2,   7.7085,2,    25.00
  29HE20100208,   A21,     6,  1,      3,      3,2,20100211,   0,-50.9897, -56.7317,  364,    201.9,   4.7242,  34.1064,2,    295.1,2,    295.7,2,     7.58,2,    18.79,2,     0.06,2,     1.45,2,   2269.4,2,   7.7217,2,    25.00
  29HE20100208,   A21,     6,  1,      4,      4,2,20100211,   0,-50.9897, -56.7317,  364,    149.6,   4.9766,  34.0940,2,    297.2,2,    296.9,2,     5.90,2,    17.72,2,     0.07,2,     1.40,2,   2269.4,2,   7.7304,2,    25.00
  29HE20100208,   A21,     6,  1,      5,      5,2,20100211,   0,-50.9897, -56.7317,  364,    124.8,   5.1646,  34.0875,2,    298.1,2,    298.2,2,     4.22,2,    14.14,3,     0.23,2,     1.15,2,   -999.0,9,-999.0000,9,  -999.00
  29HE20100208,   A21,     6,  1,      6,      6,2,20100211,   0,-50.9897, -56.7317,  364,     98.7,   5.3705,  34.0632,2,    298.8,2,    298.1,2,     4.80,2,    17.34,2,     0.30,2,     1.50,2,   2268.5,2,   7.7453,2,    25.00
  29HE20100208,   A21,     6,  1,      7,      7,2,20100211,   0,-50.9897, -56.7317,  364,     73.9,   5.5191,  34.0327,2,    298.3,2,    297.7,2,     3.08,2,    12.14,3,     0.26,2,     1.13,2,   -999.0,9,-999.0000,9,  -999.00
  29HE20100208,   A21,     6,  1,      8,      8,2,20100211,   0,-50.9897, -56.7317,  364,     49.2,   7.2023,  33.9963,2,    294.9,2,    295.7,2,     3.57,2,    15.05,2,     0.33,2,     1.34,2,   2265.8,2,   7.7860,2,    25.00
  29HE20100208,   A21,     6,  1,      9,      9,2,20100211,   0,-50.9897, -56.7317,  364,     26.1,   7.8985,  33.9971,2,    294.5,2,    293.9,2,     2.62,2,    13.67,2,     0.23,2,     1.20,2,   -999.0,9,-999.0000,9,  -999.00
  29HE20100208,   A21,     6,  1,     10,     10,2,20100211,   0,-50.9897, -56.7317,  364,     11.5,   7.8969,  33.9975,2,    294.9,2,    294.3,2,     2.81,2,    14.22,2,     0.24,2,     1.25,2,   2266.7,2,   7.8258,2,    25.00
  29HE20100208,   A21,     7,  1,      1,      1,2,20100211,   0,-50.9832, -56.2683,  610,    582.8,   3.9849,  34.1292,2,    287.0,2,    288.2,2,    13.08,2,    22.93,2,     0.08,2,     1.81,2,   -999.0,9,-999.0000,9,  -999.00
  29HE20100208,   A21,     7,  1,      2,      2,2,20100211,   0,-50.9832, -56.2683,  610,    400.8,   4.1869,  34.1290,2,    290.0,2,    290.5,2,    11.63,2,    21.94,2,     0.07,2,     1.81,2,   -999.0,9,-999.0000,9,  -999.00
  29HE20100208,   A21,     7,  1,      3,      3,2,20100211,   0,-50.9832, -56.2683,  610,    299.8,   4.2878,  34.1210,2,    297.7,2,    297.9,2,    10.23,2,    23.48,2,     0.07,2,     1.83,2,   -999.0,9,-999.0000,9,  -999.00
  29HE20100208,   A21,     7,  1,      4,      4,2,20100211,   0,-50.9832, -56.2683,  610,    196.3,   4.5263,  34.1122,2,    296.7,2,    294.7,2,     7.77,2,    19.45,2,     0.07,2,     1.59,2,   -999.0,9,-999.0000,9,  -999.00
  29HE20100208,   A21,     7,  1,      5,      5,2,20100211,   0,-50.9832, -56.2683,  610,    148.6,   4.6986,  34.0950,2,    297.9,2,    296.7,2,     8.56,2,    23.13,2,     0.08,2,     1.83,2,   -999.0,9,-999.0000,9,  -999.00
  29HE20100208,   A21,     7,  1,      6,      6,2,20100211,   0,-50.9832, -56.2683,  610,    124.0,   4.7420,  34.0920,2,    298.0,2,    297.5,2,     7.32,2,    20.38,2,     0.08,2,     1.70,2,   -999.0,9,-999.0000,9,  -999.00
  29HE20100208,   A21,     7,  1,      7,      7,2,20100211,   0,-50.9832, -56.2683,  610,     99.3,   4.9379,  34.0832,2,    300.1,2,    299.3,2,     7.13,2,    22.43,2,     0.22,2,     1.75,2,   -999.0,9,-999.0000,9,  -999.00
  29HE20100208,   A21,     7,  1,      8,      8,2,20100211,   0,-50.9832, -56.2683,  610,     75.1,   5.0619,  34.0792,2,    301.0,2,    299.7,2,     5.78,2,    19.37,2,     0.41,2,     1.61,2,   -999.0,9,-999.0000,9,  -999.00
  29HE20100208,   A21,     7,  1,      9,      9,2,20100211,   0,-50.9832, -56.2683,  610,     47.6,   6.0919,  34.0640,2,    301.2,2,    299.3,2,     5.27,2,    19.41,2,     0.52,2,     1.62,2,   -999.0,9,-999.0000,9,  -999.00
  29HE20100208,   A21,     7,  1,     10,     10,2,20100211,   0,-50.9832, -56.2683,  610,     26.2,   7.8298,  34.0238,2,    297.6,2,    297.2,2,     3.15,2,    16.31,2,     0.27,2,     1.39,2,   -999.0,9,-999.0000,9,  -999.00
  29HE20100208,   A21,     7,  1,     11,     11,2,20100211,   0,-50.9832, -56.2683,  610,     10.9,   7.8793,  34.0270,2,    297.7,2,    296.3,2,     2.48,2,    14.57,2,     0.24,2,     1.31,2,   -999.0,9,-999.0000,9,  -999.00
  29HE20100208,   A21,     8,  1,      1,      1,2,20100211,   0,-50.9610, -55.7793,  885,    862.4,   3.1103,  34.2740,2,    224.4,2,    226.8,2,    37.64,2,    31.58,2,     0.07,2,     2.32,2,   2299.9,2,   7.6163,2,    25.00
  29HE20100208,   A21,     8,  1,      2,      2,2,20100211,   0,-50.9610, -55.7793,  885,    802.1,   3.2990,  34.2155,2,    243.7,2,    244.3,2,    29.49,2,    30.31,2,     0.07,2,     2.21,2,   2292.9,2,   7.6364,2,    25.00
  29HE20100208,   A21,     8,  1,      3,      3,2,20100211,   0,-50.9610, -55.7793,  885,    599.9,   3.6959,  34.1570,2,    271.9,2,    272.1,2,    19.28,2,    27.42,2,     0.10,2,     2.01,2,   2280.8,2,   7.6829,2,    25.00
  29HE20100208,   A21,     8,  1,      4,      4,2,20100211,   0,-50.9610, -55.7793,  885,    399.4,   3.8233,  34.1149,2,    292.5,2,    293.1,2,    13.71,2,    25.45,2,     0.10,2,     1.88,2,   2276.2,2,   7.7082,2,    25.00
  29HE20100208,   A21,     8,  1,      5,      5,2,20100211,   0,-50.9610, -55.7793,  885,    298.8,   4.1569,  34.1245,2,    299.5,2,    298.6,2,    10.97,2,    24.25,2,     0.10,2,     1.81,2,   2273.1,2,   7.7239,2,    25.00
  29HE20100208,   A21,     8,  1,      6,      6,2,20100211,   0,-50.9610, -55.7793,  885,    197.4,   4.3693,  34.1238,2,    300.8,2,    300.0,2,     9.65,2,    23.64,2,     0.10,2,     1.77,2,   2271.0,2,   7.7267,2,    25.00
  29HE20100208,   A21,     8,  1,      7,      7,2,20100211,   0,-50.9610, -55.7793,  885,    150.1,   4.5281,  34.1282,2,    301.6,2,    299.5,2,     9.30,2,    23.29,2,     0.20,2,     1.75,2,   2271.5,2,   7.7342,2,    25.00
  29HE20100208,   A21,     8,  1,      8,      8,2,20100211,   0,-50.9610, -55.7793,  885,    125.6,   4.6383,  34.1245,2,    301.2,2,    300.1,2,     8.88,2,    22.94,2,     0.28,2,     1.74,2,   2270.2,2,   7.7311,2,    25.00
  29HE20100208,   A21,     8,  1,      9,      9,2,20100211,   0,-50.9610, -55.7793,  885,    101.2,   4.6467,  34.1099,2,    301.1,2,    300.0,2,     8.26,2,    22.90,2,     0.41,2,     1.74,2,   2270.7,2,   7.7288,2,    25.00
  29HE20100208,   A21,     8,  1,     10,     10,2,20100211,   0,-50.9610, -55.7793,  885,     74.2,   4.8369,  34.1086,2,    301.8,2,    301.6,2,     7.47,2,    21.67,2,     0.39,2,     1.73,2,   2271.0,2,   7.7396,2,    25.00
  29HE20100208,   A21,     8,  1,     11,     11,2,20100211,   0,-50.9610, -55.7793,  885,     50.5,   5.8071,  34.0916,2,    302.8,2,    301.5,2,     5.58,2,    19.60,2,     0.27,2,     1.61,2,   2273.4,2,   7.7692,2,    25.00
  29HE20100208,   A21,     8,  1,     12,     12,2,20100211,   0,-50.9610, -55.7793,  885,     24.3,   7.6158,  34.0412,2,    299.0,2,    299.0,2,     3.29,2,    16.72,2,     0.22,2,     1.37,2,   2271.0,2,   7.8211,2,    25.00
  29HE20100208,   A21,     8,  1,     13,     13,2,20100211,   0,-50.9610, -55.7793,  885,     11.2,   7.6819,  34.0420,2,    299.6,2,    298.7,2,     3.25,2,    16.19,2,     0.21,2,     1.35,2,   2270.8,2,   7.8232,2,    25.00